BOTTLE,20214902JOAExport
EXPOCODE,SECT_ID,STNNBR,CASTNO,SAMPNO,BTLNBR,BTLNBR_FLAG_W,DATE,TIME,LATITUDE,LONGITUDE,DEPTH,CTDPRS,CTDTMP,CTDSAL,CTDSAL_FLAG_W,SALNTY,SALNTY_FLAG_W,CTDOXY,CTDOXY_FLAG_W,OXYGEN,OXYGEN_FLAG_W,SILCAT,SILCAT_FLAG_W,NITRAT,NITRAT_FLAG_W,NITRIT,NITRIT_FLAG_W,PHSPHT,PHSPHT_FLAG_W,CFC-11,CFC-11_FLAG_W,CFC-12,CFC-12_FLAG_W,SF6,SF6_FLAG_W,TCARBN,TCARBN_FLAG_W,ALKALI,ALKALI_FLAG_W
,,,,,,,,,,,,DB,ITS-90,PSS-78,,PSS-78,,UMOL/KG,,UMOL/KG,,UMOL/KG,,UMOL/KG,,UMOL/KG,,UMOL/KG,,PMOL/KG,,PMOL/KG,,FMOL/KG,,UMOL/KG,,UMOL/KG
           NA,     P15,     10,   1,      24,   12015,  2,20090209,0428, -46.3378, -171.3544,  5084,      2.9,    13.73,   34.646,2,  34.6503,2,    261.3,2,    259.0,2,  -999.00,9,     4.07,2, -999.000,9,     0.35,2, -999.000,9, -999.000,9, -999.000,9,   2058.3,6,   2300.0,6
           NA,     P15,     10,   1,      23,   12046,  2,20090209,0428, -46.3378, -171.3544,  5084,     22.1,    13.73,   34.645,2,  34.6505,2,    261.1,2,    258.8,2,  -999.00,9,     4.11,2, -999.000,9,     0.36,2, -999.000,9, -999.000,9, -999.000,9,   2059.4,2,   2298.5,2
           NA,     P15,     10,   1,      22,   12020,  2,20090209,0428, -46.3378, -171.3544,  5084,     80.0,    11.46,   34.821,2,  34.8254,2,    255.9,2,    254.2,2,  -999.00,9,     9.04,2, -999.000,9,     0.66,2, -999.000,9, -999.000,9, -999.000,9,   2096.9,2,   2295.2,2
           NA,     P15,     10,   1,      21,   12003,  2,20090209,0428, -46.3378, -171.3544,  5084,    129.6,    11.09,   34.845,2,  34.8507,2,    248.0,2,    246.0,2,  -999.00,9,    10.53,2, -999.000,9,     0.74,2, -999.000,9, -999.000,9, -999.000,9,   2107.0,2,   2301.2,2
           NA,     P15,     10,   1,      20,   12051,  2,20090209,0428, -46.3378, -171.3544,  5084,    180.7,    10.44,   34.758,2,  34.7628,2,    253.7,2,    252.9,2,  -999.00,9,    11.28,2, -999.000,9,     0.79,2, -999.000,9, -999.000,9, -999.000,9,   2107.8,2,   2293.1,2
           NA,     P15,     10,   1,      17,   12024,  2,20090209,0428, -46.3378, -171.3544,  5084,    364.9,     8.99,   34.594,2,  34.5938,2,    246.8,2,    246.3,2,  -999.00,9,    16.57,2, -999.000,9,     1.11,2, -999.000,9, -999.000,9, -999.000,9,   2127.1,2,   2285.7,2
           NA,     P15,     10,   1,      16,   12001,  2,20090209,0428, -46.3378, -171.3544,  5084,    463.9,     8.12,   34.488,2,  34.4926,2,    242.6,2,    242.5,2,  -999.00,9,    19.17,2, -999.000,9,  -999.00,9, -999.000,9, -999.000,9, -999.000,9,   2134.5,2,   2284.3,6
           NA,     P15,     10,   1,      15,   12025,  2,20090209,0428, -46.3378, -171.3544,  5084,    546.8,     7.64,   34.433,2,  34.4376,2,    248.3,2,    249.1,2,     7.02,2,    20.02,2, -999.000,9,     1.35,2, -999.000,9, -999.000,9, -999.000,9,   2136.4,2,   2283.1,2
           NA,     P15,     10,   1,      14,   12041,  2,20090209,0428, -46.3378, -171.3544,  5084,    629.7,     7.41,   34.427,2,  34.4305,2,    242.2,2,    243.3,2,     8.12,2,    21.28,2, -999.000,9,     1.42,2, -999.000,9, -999.000,9, -999.000,9,   2139.5,2,   2281.5,2
           NA,     P15,     10,   1,      13,   12012,  2,20090209,0428, -46.3378, -171.3544,  5084,    832.7,     6.54,   34.370,2,  34.3741,2,    229.9,2,    231.4,2,    12.77,2,    24.26,2, -999.000,9,     1.60,2, -999.000,9, -999.000,9, -999.000,9,   2152.0,2,   2282.7,2
           NA,     P15,     10,   1,      12,   12022,  2,20090209,0428, -46.3378, -171.3544,  5084,   1030.7,     5.63,   34.378,2,  34.3854,2,    205.3,2,    205.1,2,    24.20,2,    27.85,2, -999.000,9,     1.86,2, -999.000,9, -999.000,9, -999.000,9,   2178.4,6,   2293.9,6
           NA,     P15,     10,   1,      11,   12016,  2,20090209,0428, -46.3378, -171.3544,  5084,   1231.7,     4.29,   34.347,2,  34.3513,2,    201.7,2,    203.4,2,    37.01,2,    30.54,2, -999.000,9,     2.08,2, -999.000,9, -999.000,9, -999.000,9,   2201.3,2,   2301.6,2
           NA,     P15,     10,   1,      10,   12019,  2,20090209,0428, -46.3378, -171.3544,  5084,   1414.2,     3.37,   34.379,2,  34.3843,2,    192.2,2,    193.8,2,    50.61,2,    32.55,2, -999.000,9,     2.23,2, -999.000,9, -999.000,9, -999.000,9,   2222.2,2,   2311.6,2
           NA,     P15,     10,   1,       9,   12031,  2,20090209,0428, -46.3378, -171.3544,  5084,   1748.4,     2.77,   34.533,2,-999.0000,9,    171.4,2,    172.3,2,    74.31,2,    34.00,2, -999.000,9,     2.33,2, -999.000,9, -999.000,9, -999.000,9,   2251.3,2,   2337.3,2
           NA,     P15,     10,   1,       8,   12021,  2,20090209,0428, -46.3378, -171.3544,  5084,   1996.7,     2.51,   34.612,2,  34.6168,2,    169.9,2,   -999.0,9,    81.67,2,    33.59,2, -999.000,9,     2.30,2, -999.000,9, -999.000,9, -999.000,9,   2259.2,2,   2342.9,2
           NA,     P15,     10,   1,       7,   12032,  2,20090209,0428, -46.3378, -171.3544,  5084,   2332.4,     2.26,   34.690,2,  34.6949,2,    178.5,2,   -999.0,9,    85.22,2,    32.05,2, -999.000,9,     2.21,2, -999.000,9, -999.000,9, -999.000,9,   2254.5,2,   2350.1,2
           NA,     P15,     10,   1,       6,   12007,  2,20090209,0428, -46.3378, -171.3544,  5084,   2833.0,     1.92,   34.733,2,  34.7368,2,    190.7,2,    191.7,2,    92.56,2,    30.77,2, -999.000,9,     2.12,2, -999.000,9, -999.000,9, -999.000,9,   2252.2,2,   2353.1,2
           NA,     P15,     10,   1,       5,   12055,  2,20090209,0428, -46.3378, -171.3544,  5084,   3330.4,     1.51,   34.731,2,  34.7355,2,    198.4,2,    198.9,2,   104.56,2,    31.08,2, -999.000,9,     2.15,2, -999.000,9, -999.000,9, -999.000,9,   2258.8,2,   2357.6,2
           NA,     P15,     10,   1,       4,   12009,  2,20090209,0428, -46.3378, -171.3544,  5084,   3831.8,     1.17,   34.718,2,  34.7221,2,    204.4,2,    205.6,2,   114.77,2,    31.34,2, -999.000,9,     2.19,2, -999.000,9, -999.000,9, -999.000,9,   2258.0,2,   2360.0,2
           NA,     P15,     10,   1,       3,   12033,  2,20090209,0428, -46.3378, -171.3544,  5084,   4331.9,     1.00,   34.709,2,  34.7133,2,    208.3,2,    207.2,2,   120.80,2,    31.92,2, -999.000,9,     2.21,2, -999.000,9, -999.000,9, -999.000,9,   2260.7,2,   2361.7,2
           NA,     P15,     10,   1,       2,   12006,  2,20090209,0428, -46.3378, -171.3544,  5084,   4915.2,     0.97,   34.705,2,  34.7094,2,    209.8,2,    208.9,2,   123.59,2,    31.91,2, -999.000,9,     2.22,2, -999.000,9, -999.000,9, -999.000,9,   2262.3,2,   2363.5,2
           NA,     P15,     10,   1,       1,   12045,  2,20090209,0428, -46.3378, -171.3544,  5084,   5176.0,     1.00,   34.704,2,  34.7107,2,    210.3,2,    208.7,2,   123.85,2,    31.80,2, -999.000,9,     2.22,2, -999.000,9, -999.000,9, -999.000,9,   2261.6,6,   2364.0,6
           NA,     P15,     11,   1,      24,   12015,  2,20090209,1147, -45.9440, -171.8136,  5140,      3.5,    14.10,   34.697,2,  34.7004,2,    258.5,2,    256.8,2,     0.68,2,     3.46,2, -999.000,9,     0.30,2,    2.976,2,    1.745,2, -999.000,9,   2057.9,2,   2300.2,2
           NA,     P15,     11,   1,      23,   12046,  2,20090209,1147, -45.9440, -171.8136,  5140,     47.2,    13.83,   34.709,2,  34.7135,2,    258.4,2,    257.0,2,     0.72,2,     3.64,2, -999.000,9,     0.32,2, -999.000,9, -999.000,9, -999.000,9,   -999.0,9,   -999.0,9
           NA,     P15,     11,   1,      22,   12020,  2,20090209,1147, -45.9440, -171.8136,  5140,     96.3,    12.00,   35.011,2,  35.0134,2,    248.2,2,    246.8,2,     2.26,2,     8.43,2, -999.000,9,     0.61,2, -999.000,9, -999.000,9, -999.000,9,   -999.0,9,   -999.0,9
           NA,     P15,     11,   1,      21,   12003,  2,20090209,1147, -45.9440, -171.8136,  5140,    146.7,    11.51,   34.939,2,  34.9417,2,    245.1,2,    243.9,2,     2.68,2,     9.48,2, -999.000,9,     0.69,2, -999.000,9, -999.000,9, -999.000,9,   -999.0,9,   -999.0,9
           NA,     P15,     11,   1,      20,   12051,  2,20090209,1147, -45.9440, -171.8136,  5140,    198.6,    10.82,   34.836,2,  34.8370,2,    248.5,2,    246.9,2,     2.87,2,    10.41,2, -999.000,9,     0.76,2, -999.000,9, -999.000,9, -999.000,9,   -999.0,9,   -999.0,9
           NA,     P15,     11,   1,      19,   12010,  2,20090209,1147, -45.9440, -171.8136,  5140,    249.1,    10.41,   34.789,2,  34.7906,2,    248.5,2,    248.0,2,     3.13,2,    11.33,2, -999.000,9,     0.83,2, -999.000,9, -999.000,9, -999.000,9,   -999.0,9,   -999.0,9
           NA,     P15,     11,   1,      18,   12018,  2,20090209,1147, -45.9440, -171.8136,  5140,    300.1,    10.01,   34.751,2,  34.7527,2,    234.8,2,    234.0,2,     4.44,2,    14.35,2, -999.000,9,     1.00,2,    3.255,2,    1.918,2, -999.000,9,   -999.0,9,   -999.0,9
           NA,     P15,     11,   1,      17,   12024,  2,20090209,1147, -45.9440, -171.8136,  5140,    400.3,     9.32,   34.662,2,  34.6638,2,    236.4,2,    235.4,2,     5.06,2,    16.18,2, -999.000,9,     1.11,2, -999.000,9, -999.000,9, -999.000,9,   -999.0,9,   -999.0,9
           NA,     P15,     11,   1,      16,   12001,  2,20090209,1147, -45.9440, -171.8136,  5140,    499.0,     8.34,   34.526,2,  34.5281,2,    236.9,2,    236.2,2,     6.25,2,    18.90,2, -999.000,9,     1.29,2, -999.000,9, -999.000,9, -999.000,9,   -999.0,9,   -999.0,9
           NA,     P15,     11,   1,      15,   12025,  2,20090209,1147, -45.9440, -171.8136,  5140,    599.4,     7.70,   34.454,2,  34.4562,2,    239.2,2,    239.1,2,     7.32,2,    20.60,2, -999.000,9,     1.39,2, -999.000,9, -999.000,9, -999.000,9,   -999.0,9,   -999.0,9
           NA,     P15,     11,   1,      14,   12041,  2,20090209,1147, -45.9440, -171.8136,  5140,    698.3,     7.25,   34.420,2,  34.4221,2,    236.9,2,    237.3,2,     8.99,2,    21.98,2, -999.000,9,     1.47,2, -999.000,9, -999.000,9, -999.000,9,   -999.0,9,   -999.0,9
           NA,     P15,     11,   1,      13,   12012,  2,20090209,1147, -45.9440, -171.8136,  5140,    897.4,     6.15,   34.347,2,  34.3498,2,    228.6,2,    229.3,2,    15.85,2,    25.20,2, -999.000,9,     1.69,2, -999.000,9, -999.000,9, -999.000,9,   -999.0,9,   -999.0,9
           NA,     P15,     11,   1,      12,   12022,  2,20090209,1147, -45.9440, -171.8136,  5140,   1099.4,     5.32,   34.381,2,  34.3841,2,    200.4,2,    200.4,2,    28.55,2,    28.72,2, -999.000,9,     1.94,2, -999.000,3, -999.000,3, -999.000,9,   -999.0,9,   -999.0,9
           NA,     P15,     11,   1,      11,   12016,  2,20090209,1147, -45.9440, -171.8136,  5140,   1298.6,     3.92,   34.341,2,  34.3482,2,    201.4,2,    202.4,2,    40.16,2,    31.55,2, -999.000,9,     2.13,2, -999.000,9, -999.000,9, -999.000,9,   -999.0,9,   -999.0,9
           NA,     P15,     11,   1,      10,   12019,  2,20090209,1147, -45.9440, -171.8136,  5140,   1498.3,     3.24,   34.432,2,  34.4336,2,    182.4,2,    183.3,2,    57.45,2,    33.24,2, -999.000,9,     2.26,2, -999.000,9, -999.000,9, -999.000,9,   -999.0,9,   -999.0,9
           NA,     P15,     11,   1,       9,   12031,  2,20090209,1147, -45.9440, -171.8136,  5140,   1696.7,     2.88,   34.496,2,  34.4995,2,    175.0,2,    175.3,2,    66.58,2,    33.91,2, -999.000,9,     2.30,2,    0.824,2,    0.367,2, -999.000,9,   -999.0,9,   -999.0,9
           NA,     P15,     11,   1,       8,   12021,  2,20090209,1147, -45.9440, -171.8136,  5140,   1997.6,     2.51,   34.613,2,  34.6148,2,    169.7,2,    169.5,2,    82.22,2,    33.83,2, -999.000,9,     2.28,2, -999.000,9, -999.000,9, -999.000,9,   -999.0,9,   -999.0,9
           NA,     P15,     11,   1,       7,   12032,  2,20090209,1147, -45.9440, -171.8136,  5140,   2498.2,     2.16,   34.711,2,  34.7145,2,    183.4,2,    183.3,2,    86.55,2,    31.66,2, -999.000,9,     2.15,2, -999.000,9, -999.000,9, -999.000,9,   -999.0,9,   -999.0,9
           NA,     P15,     11,   1,       6,   12007,  2,20090209,1147, -45.9440, -171.8136,  5140,   2997.6,     1.77,   34.735,2,  34.7384,2,    194.2,2,    193.8,2,    97.00,2,    30.87,2, -999.000,9,     2.12,2,    0.105,2,    0.042,2, -999.000,9,   -999.0,9,   -999.0,9
           NA,     P15,     11,   1,       5,   12055,  2,20090209,1147, -45.9440, -171.8136,  5140,   3496.1,     1.37,   34.726,2,  34.7292,2,    201.0,2,    200.9,2,   108.87,2,    31.37,2, -999.000,9,     2.15,2, -999.000,9, -999.000,9, -999.000,9,   -999.0,9,   -999.0,9
           NA,     P15,     11,   1,       4,   12009,  2,20090209,1147, -45.9440, -171.8136,  5140,   3999.1,     1.06,   34.713,2,  34.7172,2,    206.9,2,    205.7,2,   117.79,2,    31.98,2, -999.000,9,     2.17,2, -999.000,9, -999.000,9, -999.000,9,   -999.0,9,   -999.0,9
           NA,     P15,     11,   1,       3,   12033,  2,20090209,1147, -45.9440, -171.8136,  5140,   4498.5,     0.97,   34.707,2,  34.7111,2,    209.8,2,   -999.0,9,   121.37,2,    31.98,2, -999.000,9,     2.18,2,    0.194,2,    0.077,2, -999.000,9,   -999.0,9,   -999.0,9
           NA,     P15,     11,   1,       2,   12006,  2,20090209,1147, -45.9440, -171.8136,  5140,   4998.1,     0.98,   34.704,2,  34.7082,2,    210.5,2,    207.7,2,   122.16,2,    31.89,2, -999.000,9,     2.17,2, -999.000,9, -999.000,9, -999.000,9,   -999.0,9,   -999.0,9
           NA,     P15,     11,   1,       1,   12045,  2,20090209,1147, -45.9440, -171.8136,  5140,   5245.8,     1.00,   34.705,2,  34.7080,2,    212.1,2,    215.5,2,   124.68,2,    32.15,2, -999.000,9,     2.18,2,    0.249,2,    0.104,2, -999.000,9,   -999.0,9,   -999.0,9
           NA,     P15,     12,   1,      24,   12015,  2,20090209,2020, -45.3836, -172.4672,  4869,      2.5,    14.79,   34.688,2,  34.6905,2,    256.2,2,    255.3,2,     0.52,2,     2.97,2, -999.000,9,     0.28,2,    2.858,6,    1.714,6, -999.000,9,   2053.4,6,   2297.7,6
           NA,     P15,     12,   1,      23,   12046,  2,20090209,2020, -45.3836, -172.4672,  4869,     64.4,    12.83,   34.668,2,  34.6778,2,    270.5,2,    268.3,2,     0.51,2,     5.02,2, -999.000,9,     0.45,2,    3.257,2,    1.888,2, -999.000,9,   2073.0,2,   2296.9,2
           NA,     P15,     12,   1,      22,   12020,  2,20090209,2020, -45.3836, -172.4672,  4869,    114.3,    10.79,   34.778,2,  34.7802,2,    254.0,2,    253.3,2,     2.43,2,    10.49,2, -999.000,9,     0.76,2,    3.426,2,    1.990,2, -999.000,9,   2104.4,2,   2294.3,2
           NA,     P15,     12,   1,      21,   12003,  2,20090209,2020, -45.3836, -172.4672,  4869,    165.5,    10.42,   34.756,2,  34.7573,2,    254.7,2,    254.0,2,     2.62,2,    11.24,2, -999.000,9,     0.80,2,    3.519,2,    2.019,2, -999.000,9,   2106.8,2,   2293.7,2
           NA,     P15,     12,   1,      20,   12051,  2,20090209,2020, -45.3836, -172.4672,  4869,    214.2,    10.28,   34.765,2,  34.7667,2,    248.8,2,    247.1,2,     3.23,2,    12.23,2, -999.000,9,     0.86,2,    3.484,2,    1.992,2, -999.000,9,   2114.7,2,   2289.8,2
           NA,     P15,     12,   1,      19,   12010,  2,20090209,2020, -45.3836, -172.4672,  4869,    263.2,    10.08,   34.753,2,  34.7549,2,    248.9,2,    248.2,2,     3.51,2,    12.91,2, -999.000,9,     0.90,2,    3.511,2,    1.991,2, -999.000,9,   2116.7,2,   2290.4,2
           NA,     P15,     12,   1,      18,   12018,  2,20090209,2020, -45.3836, -172.4672,  4869,    323.5,     9.70,   34.713,2,  34.7151,2,    239.9,2,    238.8,2,     4.55,2,    15.19,2, -999.000,9,     1.04,2,    3.604,2,    1.996,2, -999.000,9,   2126.5,2,   2289.5,2
           NA,     P15,     12,   1,      17,   12024,  2,20090209,2020, -45.3836, -172.4672,  4869,    430.8,     8.67,   34.565,2,  34.5668,2,    235.2,2,    234.6,2,     5.93,2,    18.53,2, -999.000,9,     1.24,2,    3.580,2,    1.982,2, -999.000,9,   2135.2,2,   2281.4,2
           NA,     P15,     12,   1,      16,   12001,  2,20090209,2020, -45.3836, -172.4672,  4869,    532.8,     7.86,   34.470,2,  34.4740,2,    238.9,2,    238.3,2,     7.05,2,    20.46,2, -999.000,9,     1.37,2,    3.687,2,    1.990,2, -999.000,9,   2140.0,2,   2280.1,6
           NA,     P15,     12,   1,      15,   12025,  2,20090209,2020, -45.3836, -172.4672,  4869,    634.0,     7.41,   34.425,2,  34.4291,2,    243.4,2,    243.8,2,     7.97,2,    21.11,2, -999.000,9,     1.43,2,    3.638,2,    1.942,2, -999.000,9,   2139.5,2,   2282.2,2
           NA,     P15,     12,   1,      14,   12041,  2,20090209,2020, -45.3836, -172.4672,  4869,    751.1,     6.94,   34.393,2,  34.3966,2,    234.2,2,    234.6,2,    10.26,2,    22.73,2, -999.000,9,     1.54,2,    3.170,6,    1.675,6, -999.000,9,   2146.5,2,   2279.9,2
           NA,     P15,     12,   1,      13,   12012,  2,20090209,2020, -45.3836, -172.4672,  4869,    966.1,     5.94,   34.354,2,  34.3580,2,    218.7,2,    218.8,2,    18.55,2,    26.36,2, -999.000,9,     1.78,2,    2.404,2,    1.228,2, -999.000,9,   2165.6,2,   2283.0,2
           NA,     P15,     12,   1,      12,   12022,  2,20090209,2020, -45.3836, -172.4672,  4869,   1163.6,     4.65,   34.338,2,  34.3427,2,    206.3,2,    206.7,2,    31.83,2,    29.51,2, -999.000,9,     2.02,2,    2.021,2,    0.994,2, -999.000,9,   2191.2,6,   2294.9,6
           NA,     P15,     12,   1,      11,   12016,  2,20090209,2020, -45.3836, -172.4672,  4869,   1363.7,     3.69,   34.374,2,  34.3782,2,    193.6,2,    194.8,2,    46.45,2,    31.97,2, -999.000,9,     2.19,2, -999.000,4,    0.743,2, -999.000,9,   2216.3,2,   2306.9,2
           NA,     P15,     12,   1,      10,   12019,  2,20090209,2020, -45.3836, -172.4672,  4869,   1563.0,     3.21,   34.450,2,  34.4548,2,    179.7,2,    180.3,2,    60.38,2,    33.39,2, -999.000,9,     2.28,2,    1.010,2,    0.447,2, -999.000,9,   2236.3,2,   2321.0,2
           NA,     P15,     12,   1,       9,   12031,  2,20090209,2020, -45.3836, -172.4672,  4869,   1762.8,     2.86,   34.513,2,  34.5175,2,    173.2,2,    173.5,2,    70.25,2,    32.99,2, -999.000,9,     2.31,2,    0.748,2,    0.323,2, -999.000,9,   2248.9,2,   2330.9,2
           NA,     P15,     12,   1,       8,   12021,  2,20090209,2020, -45.3836, -172.4672,  4869,   1980.2,     2.58,   34.593,2,  34.5970,2,    168.8,2,    169.1,2,    81.07,2,    33.43,2, -999.000,9,     2.30,2,    0.412,2,    0.166,2, -999.000,9,   2259.3,2,   2341.4,2
           NA,     P15,     12,   1,       7,   12032,  2,20090209,2020, -45.3836, -172.4672,  4869,   2298.8,     2.33,   34.664,2,  34.6678,2,    173.1,2,    172.4,2,    87.08,2,    32.78,2, -999.000,9,     2.25,2,    0.215,2,    0.085,2, -999.000,9,   2261.4,2,   2345.6,2
           NA,     P15,     12,   1,       6,   12007,  2,20090209,2020, -45.3836, -172.4672,  4869,   2629.2,     2.13,   34.716,2,  34.7200,2,    185.2,2,    185.0,2,    86.65,2,    31.39,2, -999.000,9,     2.15,2,    0.164,2,    0.065,2, -999.000,9,   2252.7,2,   2346.2,6
           NA,     P15,     12,   1,       5,   12055,  2,20090209,2020, -45.3836, -172.4672,  4869,   3163.3,     1.71,   34.735,2,  34.7388,2,    195.9,2,    195.4,2,    99.08,2,    30.86,2, -999.000,9,     2.14,2,    0.116,2,    0.043,2, -999.000,9,   2254.9,2,   2353.2,2
           NA,     P15,     12,   1,       4,   12009,  2,20090209,2020, -45.3836, -172.4672,  4869,   3664.0,     1.30,   34.723,2,  34.7263,2,    202.8,2,    201.9,2,   110.92,2,    31.13,2, -999.000,9,     2.16,2,    0.120,2,    0.049,2, -999.000,9,   2257.1,2,   2354.8,2
           NA,     P15,     12,   1,       3,   12033,  2,20090209,2020, -45.3836, -172.4672,  4869,   4165.0,     1.04,   34.711,2,  34.7143,2,    208.0,2,    206.0,2,   118.46,2,    31.63,2, -999.000,9,     2.18,2,    0.200,6,    0.077,6, -999.000,9,   2260.4,2,   2355.5,2
           NA,     P15,     12,   1,       2,   12006,  2,20090209,2020, -45.3836, -172.4672,  4869,   4663.1,     0.96,   34.706,2,  34.7096,2,    210.4,2,    208.0,2,   121.57,2,    31.95,2, -999.000,9,     2.18,2,    0.225,2,    0.092,2, -999.000,9,   2260.6,2,   2359.3,2
           NA,     P15,     12,   1,       1,   12045,  2,20090209,2020, -45.3836, -172.4672,  4869,   4957.7,     0.96,   34.706,2,  34.7086,2,    211.1,2,    208.6,2,   124.30,2,    31.81,2, -999.000,9,     2.19,2,    0.246,2,    0.101,2, -999.000,9,   2262.1,6,   2360.0,6