BOTTLE,20214902JOAExport
EXPOCODE,SECT_ID,STNNBR,CASTNO,SAMPNO,BTLNBR,BTLNBR_FLAG_W,DATE,TIME,LATITUDE,LONGITUDE,DEPTH,CTDPRS,CTDTMP,CTDSAL,CTDSAL_FLAG_W,SALNTY,SALNTY_FLAG_W,CTDOXY,CTDOXY_FLAG_W,OXYGEN,OXYGEN_FLAG_W,SILCAT,SILCAT_FLAG_W,NITRAT,NITRAT_FLAG_W,NITRIT,NITRIT_FLAG_W,PHSPHT,PHSPHT_FLAG_W,CFC-11,CFC-11_FLAG_W,CFC-12,CFC-12_FLAG_W,SF6,SF6_FLAG_W,TCARBN,TCARBN_FLAG_W,ALKALI,ALKALI_FLAG_W
,,,,,,,,,,,,DB,ITS-90,PSS-78,,PSS-78,,UMOL/KG,,UMOL/KG,,UMOL/KG,,UMOL/KG,,UMOL/KG,,UMOL/KG,,PMOL/KG,,PMOL/KG,,FMOL/KG,,UMOL/KG,,UMOL/KG
           NA,     P15,     32,   1,      24,   12015,  2,20090214,1605, -37.7616, -171.1856,  4717,      1.7,    20.15,   34.861,2,  34.8615,2,    231.3,2,    228.8,2,     1.17,2,     0.00,2, -999.000,9,     0.13,2, -999.000,9, -999.000,9, -999.000,9,   2035.5,2,   -999.0,9
           NA,     P15,     32,   1,      23,   12046,  2,20090214,1605, -37.7616, -171.1856,  4717,     45.3,    16.72,   35.031,2,  35.0343,2,    268.4,2,    264.7,2,     1.25,2,     0.00,2, -999.000,9,     0.14,2, -999.000,9, -999.000,9, -999.000,9,   -999.0,9,   -999.0,9
           NA,     P15,     32,   1,      22,   12020,  2,20090214,1605, -37.7616, -171.1856,  4717,     82.0,    13.30,   35.068,2,  35.0697,2,    252.5,2,    251.8,2,     1.49,2,     3.04,2, -999.000,9,     0.34,2, -999.000,9, -999.000,9, -999.000,9,   -999.0,9,   -999.0,9
           NA,     P15,     32,   1,      21,   12003,  2,20090214,1605, -37.7616, -171.1856,  4717,    162.6,    12.61,   35.141,2,  35.1358,2,    241.3,2,    239.5,2,     2.52,2,     7.44,2, -999.000,9,     0.57,2, -999.000,9, -999.000,9, -999.000,9,   -999.0,9,   -999.0,9
           NA,     P15,     32,   1,      20,   12051,  2,20090214,1605, -37.7616, -171.1856,  4717,    196.9,    12.03,   35.045,2,  35.0421,2,    235.5,2,    234.1,2,     3.05,2,     9.31,2, -999.000,9,     0.68,2, -999.000,9, -999.000,9, -999.000,9,   -999.0,9,   -999.0,9
           NA,     P15,     32,   1,      19,   12010,  2,20090214,1605, -37.7616, -171.1856,  4717,    247.3,    11.17,   34.906,2,  34.9056,2,    221.2,2,    220.2,2,     4.12,2,    12.80,2, -999.000,9,     0.89,2, -999.000,9, -999.000,9, -999.000,9,   -999.0,9,   -999.0,9
           NA,     P15,     32,   1,      18,   12018,  2,20090214,1605, -37.7616, -171.1856,  4717,    294.1,    10.23,   34.766,2,  34.7703,2,    219.8,2,    218.4,2,     4.78,2,    15.13,2, -999.000,9,     1.03,2, -999.000,9, -999.000,9, -999.000,9,   -999.0,9,   -999.0,9
           NA,     P15,     32,   1,      17,   12024,  2,20090214,1605, -37.7616, -171.1856,  4717,    400.0,     8.85,   34.603,2,  34.6030,2,    222.0,2,    220.7,2,     6.44,2,    18.77,2, -999.000,9,     1.25,2, -999.000,9, -999.000,9, -999.000,9,   -999.0,9,   -999.0,9
           NA,     P15,     32,   1,      16,   12001,  2,20090214,1605, -37.7616, -171.1856,  4717,    548.9,     7.67,   34.466,2,  34.4654,2,    230.1,2,    229.1,2,     7.85,2,    21.47,2, -999.000,9,     1.42,2, -999.000,9, -999.000,9, -999.000,9,   -999.0,9,   -999.0,9
           NA,     P15,     32,   1,      15,   12025,  2,20090214,1605, -37.7616, -171.1856,  4717,    598.7,     7.46,   34.449,2,  34.4483,2,    228.7,2,   -999.0,9,     8.76,2,    22.15,2, -999.000,9,     1.46,2, -999.000,9, -999.000,9, -999.000,9,   -999.0,9,   -999.0,9
           NA,     P15,     32,   1,      14,   12041,  2,20090214,1605, -37.7616, -171.1856,  4717,    696.5,     6.97,   34.415,2,  34.4145,2,    224.1,2,    224.2,2,    11.14,2,    23.60,2, -999.000,9,     1.57,2, -999.000,9, -999.000,9, -999.000,9,   -999.0,9,   -999.0,9
           NA,     P15,     32,   1,      13,   12012,  2,20090214,1605, -37.7616, -171.1856,  4717,    895.4,     5.93,   34.393,2,  34.3971,2,    204.3,2,    204.8,2,    21.50,2,    27.22,2, -999.000,9,     1.81,2, -999.000,9, -999.000,9, -999.000,9,   -999.0,9,   -999.0,9
           NA,     P15,     32,   1,      12,   12022,  2,20090214,1605, -37.7616, -171.1856,  4717,   1096.6,     4.78,   34.409,2,  34.4098,2,    187.7,2,    188.5,2,    38.56,2,    30.32,2, -999.000,9,     2.04,2, -999.000,9, -999.000,9, -999.000,9,   -999.0,9,   -999.0,9
           NA,     P15,     32,   1,      11,   12016,  2,20090214,1605, -37.7616, -171.1856,  4717,   1297.1,     3.73,   34.450,2,  34.4483,2,    174.4,2,    175.9,2,    57.80,2,    33.22,2, -999.000,9,     2.23,2, -999.000,9, -999.000,9, -999.000,9,   -999.0,9,   -999.0,9
           NA,     P15,     32,   1,      10,   12019,  2,20090214,1605, -37.7616, -171.1856,  4717,   1494.5,     3.09,   34.517,2,  34.5148,2,    163.5,2,    164.8,2,    76.32,2,    34.60,2, -999.000,9,     2.34,2, -999.000,9, -999.000,9, -999.000,9,   -999.0,9,   -999.0,9
           NA,     P15,     32,   1,       9,   12031,  2,20090214,1605, -37.7616, -171.1856,  4717,   1696.9,     2.75,   34.570,2,  34.5706,2,    156.4,2,    159.0,2,    91.62,2,    34.96,2, -999.000,9,     2.38,2, -999.000,9, -999.000,9, -999.000,9,   -999.0,9,   -999.0,9
           NA,     P15,     32,   1,       8,   12021,  2,20090214,1605, -37.7616, -171.1856,  4717,   1899.3,     2.53,   34.602,2,  34.6022,2,    152.3,2,   -999.0,9,   102.32,2,    35.09,2, -999.000,9,     2.40,2, -999.000,9, -999.000,9, -999.000,9,   -999.0,9,   -999.0,9
           NA,     P15,     32,   1,       7,   12032,  2,20090214,1605, -37.7616, -171.1856,  4717,   2195.3,     2.33,   34.626,2,  34.6264,2,    149.9,2,    151.0,2,   111.21,2,    35.37,2, -999.000,9,     2.43,2, -999.000,9, -999.000,9, -999.000,9,   -999.0,9,   -999.0,9
           NA,     P15,     32,   1,       6,   12007,  2,20090214,1605, -37.7616, -171.1856,  4717,   2445.1,     2.19,   34.641,2,  34.6390,2,    149.7,2,    150.2,2,   116.50,2,    35.72,2, -999.000,9,     2.44,2, -999.000,9, -999.000,9, -999.000,9,   -999.0,9,   -999.0,9
           NA,     P15,     32,   1,       5,   12055,  2,20090214,1605, -37.7616, -171.1856,  4717,   2998.3,     1.86,   34.685,2,  34.6838,2,    165.6,2,    165.0,2,   116.38,2,    34.28,2, -999.000,9,     2.35,2, -999.000,9, -999.000,9, -999.000,9,   -999.0,9,   -999.0,9
           NA,     P15,     32,   1,       4,   12009,  2,20090214,1605, -37.7616, -171.1856,  4717,   3495.6,     1.55,   34.726,2,  34.7266,2,    195.4,2,    195.9,2,   104.33,2,    31.42,2, -999.000,9,     2.14,2, -999.000,9, -999.000,9, -999.000,9,   -999.0,9,   -999.0,9
           NA,     P15,     32,   1,       3,   12033,  2,20090214,1605, -37.7616, -171.1856,  4717,   4001.9,     1.18,   34.717,2,  34.7150,2,    204.0,2,   -999.0,9,   114.91,2,    31.68,2, -999.000,9,     2.16,2, -999.000,9, -999.000,9, -999.000,9,   -999.0,9,   -999.0,9
           NA,     P15,     32,   1,       2,   12006,  2,20090214,1605, -37.7616, -171.1856,  4717,   4498.9,     1.01,   34.709,2,  34.7099,2,    207.5,2,    205.8,2,   118.72,2,    32.03,2, -999.000,9,     2.17,2, -999.000,9, -999.000,9, -999.000,9,   -999.0,9,   -999.0,9
           NA,     P15,     32,   1,       1,   12045,  2,20090214,1605, -37.7616, -171.1856,  4717,   4807.9,     0.98,   34.706,2,  34.7052,2,    208.6,2,    207.8,2,   123.39,2,    32.19,2, -999.000,9,     2.19,2, -999.000,9, -999.000,9, -999.000,9,   -999.0,9,   -999.0,9
           NA,     P15,     33,   1,      24,   12015,  2,20090214,2245, -37.2984, -170.8850,  5129,      1.7,    20.12,   34.744,2,  34.7437,2,    231.0,2,    229.5,2,     0.89,2,     0.00,2, -999.000,9,     0.15,2,    2.310,2,    1.395,2, -999.000,9,   2039.4,6,   2287.6,6
           NA,     P15,     33,   1,      23,   12046,  2,20090214,2245, -37.2984, -170.8850,  5129,     33.3,    20.23,   34.738,2,  34.7463,2,    230.8,2,    228.8,2,     0.90,2,     0.00,2, -999.000,9,     0.14,2,    2.308,2,    1.383,2, -999.000,9,   2039.0,2,   2287.3,6
           NA,     P15,     33,   1,      22,   12020,  2,20090214,2245, -37.2984, -170.8850,  5129,     66.8,    14.70,   34.992,2,  34.9988,2,    269.5,2,    268.0,2,     1.20,2,     0.00,2, -999.000,9,     0.17,2,    3.052,6,    1.786,6, -999.000,9,   2058.4,2,   2304.8,2
           NA,     P15,     33,   1,      21,   12003,  2,20090214,2245, -37.2984, -170.8850,  5129,    162.4,    12.33,   35.072,2,  35.0703,2,    237.0,2,    236.5,2,     2.60,2,     8.08,2, -999.000,9,     0.61,2,    3.174,2,    1.823,2, -999.000,9,   2105.3,2,   2306.7,2
           NA,     P15,     33,   1,      20,   12051,  2,20090214,2245, -37.2984, -170.8850,  5129,    213.6,    11.49,   34.951,2,  34.9520,2,    220.1,2,    218.3,2,     3.86,2,    12.06,2, -999.000,9,     0.84,2,    3.155,2,    1.784,2, -999.000,9,   2121.6,2,   2297.8,2
           NA,     P15,     33,   1,      19,   12010,  2,20090214,2245, -37.2984, -170.8850,  5129,    248.1,    10.82,   34.846,2,  34.8416,2,    220.2,2,    218.7,2,     4.10,2,    13.34,2, -999.000,9,     0.92,2,    3.201,2,    1.808,2, -999.000,9,   2125.0,2,   2292.8,2
           NA,     P15,     33,   1,      18,   12018,  2,20090214,2245, -37.2984, -170.8850,  5129,    323.3,     9.52,   34.666,2,  34.6637,2,    228.0,2,    226.4,2,     4.56,2,    15.80,2, -999.000,9,     1.08,2,    3.543,2,    1.920,2, -999.000,9,   2131.7,2,   2286.8,2
           NA,     P15,     33,   1,      17,   12024,  2,20090214,2245, -37.2984, -170.8850,  5129,    430.1,     8.27,   34.515,2,  34.5135,2,    232.2,2,    231.1,2,     5.64,2,    19.15,2, -999.000,9,     1.28,2,    3.821,2,    1.991,2, -999.000,9,   -999.0,9,   2281.8,2
           NA,     P15,     33,   1,      16,   12001,  2,20090214,2245, -37.2984, -170.8850,  5129,    534.6,     7.54,   34.438,2,  34.4383,2,    236.6,2,    235.9,2,     6.69,2,    20.89,2, -999.000,9,     1.40,2,    3.797,2,    1.926,2, -999.000,9,   2141.2,2,   2278.1,2
           NA,     P15,     33,   1,      15,   12025,  2,20090214,2245, -37.2984, -170.8850,  5129,    650.8,     7.01,   34.391,2,  34.3898,2,    237.9,2,    237.5,2,     8.13,2,    22.28,2, -999.000,9,     1.49,2,    3.555,6,    1.776,6, -999.000,9,   2142.5,2,   2279.6,2
           NA,     P15,     33,   1,      14,   12041,  2,20090214,2245, -37.2984, -170.8850,  5129,    750.7,     6.68,   34.370,2,  34.3698,2,    232.9,2,    233.3,2,     9.98,2,    23.52,2, -999.000,9,     1.56,2,    3.076,2,    1.513,2, -999.000,9,   2148.9,2,   2279.7,6
           NA,     P15,     33,   1,      13,   12012,  2,20090214,2245, -37.2984, -170.8850,  5129,    970.1,     5.54,   34.347,2,-999.0000,9,    208.3,2,    208.9,2,    21.35,2,    28.14,2, -999.000,9,     1.87,2,    1.558,2,    0.773,2, -999.000,9,   2172.9,2,   2287.7,2
           NA,     P15,     33,   1,      12,   12022,  2,20090214,2245, -37.2984, -170.8850,  5129,   1165.5,     4.39,   34.357,2,  34.3564,2,    193.5,2,    195.0,2,    35.87,2,    31.29,2, -999.000,9,     2.10,2,    0.890,2,    0.406,2, -999.000,9,   2199.8,6,   2298.3,6
           NA,     P15,     33,   1,      11,   12016,  2,20090214,2245, -37.2984, -170.8850,  5129,   1365.7,     3.56,   34.424,2,  34.4245,2,    177.8,2,    179.1,2,    54.07,2,    33.23,2, -999.000,9,     2.26,2,    0.355,2,    0.139,2, -999.000,9,   2226.7,2,   2317.3,2
           NA,     P15,     33,   1,      10,   12019,  2,20090214,2245, -37.2984, -170.8850,  5129,   1565.7,     3.04,   34.523,2,  34.5221,2,    162.4,2,    164.2,2,    76.90,2,    34.54,2, -999.000,9,     2.35,2,    0.083,2,    0.029,2, -999.000,9,   2257.4,2,   2342.8,2
           NA,     P15,     33,   1,       9,   12031,  2,20090214,2245, -37.2984, -170.8850,  5129,   1766.2,     2.72,   34.574,2,  34.5643,2,    155.4,2,    156.5,2,    92.23,2,    34.99,2, -999.000,9,     2.40,2,    0.021,2,    0.010,2, -999.000,9,   2275.2,2,   2363.3,2
           NA,     P15,     33,   1,       8,   12021,  2,20090214,2245, -37.2984, -170.8850,  5129,   1982.6,     2.46,   34.608,2,  34.6075,2,    150.6,2,    151.5,2,   104.74,2,    35.31,2, -999.000,9,     2.44,2,   -0.003,2, -999.000,3, -999.000,9,   2289.3,2,   2376.5,2
           NA,     P15,     33,   1,       7,   12032,  2,20090214,2245, -37.2984, -170.8850,  5129,   2299.5,     2.25,   34.633,2,  34.6329,2,    148.7,2,    149.3,2,   114.16,2,    35.54,2, -999.000,9,     2.46,2,    0.006,2,    0.004,2, -999.000,9,   2300.0,2,   2386.3,2
           NA,     P15,     33,   1,       6,   12007,  2,20090214,2245, -37.2984, -170.8850,  5129,   2602.3,     2.08,   34.650,2,  34.6514,2,    149.3,2,    149.9,2,   120.65,2,    35.87,2, -999.000,9,     2.47,2,    0.031,2,    0.007,2, -999.000,9,   2306.3,2,   2392.3,6
           NA,     P15,     33,   1,       5,   12055,  2,20090214,2245, -37.2984, -170.8850,  5129,   3165.6,     1.79,   34.701,2,  34.7026,2,    174.4,2,    174.3,2,   111.28,2,    33.52,2, -999.000,9,     2.29,2,    0.033,2,    0.009,2, -999.000,9,   2280.2,2,   2375.1,2
           NA,     P15,     33,   1,       4,   12009,  2,20090214,2245, -37.2984, -170.8850,  5129,   3664.7,     1.45,   34.722,2,  34.7217,2,    196.6,2,    190.9,2,   106.19,2,    31.99,2, -999.000,9,     2.19,2,    0.051,2,    0.015,2, -999.000,9,   2264.5,2,   2362.5,2
           NA,     P15,     33,   1,       3,   12033,  2,20090214,2245, -37.2984, -170.8850,  5129,   4165.9,     1.14,   34.715,2,  34.7150,2,    204.4,2,    203.2,2,   116.86,2,    31.86,2, -999.000,9,     2.19,2,    0.079,2,    0.028,2, -999.000,9,   2258.5,2,   2358.8,2
           NA,     P15,     33,   1,       2,   12006,  2,20090214,2245, -37.2984, -170.8850,  5129,   4665.3,     1.03,   34.709,2,  34.7070,2,    207.6,2,    206.3,2,   121.71,2,    32.28,2, -999.000,9,     2.21,2,    0.133,2,    0.046,2, -999.000,9,   2262.5,2,   2368.0,2
           NA,     P15,     33,   1,       1,   12045,  2,20090214,2245, -37.2984, -170.8850,  5129,   5221.1,     1.03,   34.706,2,  34.7040,2,    209.2,2,    207.0,2,   124.07,2,    32.33,2, -999.000,9,     2.20,2,    0.204,6,    0.077,6, -999.000,9,   2263.7,6,   2361.4,6