BOTTLE,20214902JOAExport
EXPOCODE,SECT_ID,STNNBR,CASTNO,SAMPNO,BTLNBR,BTLNBR_FLAG_W,DATE,TIME,LATITUDE,LONGITUDE,DEPTH,CTDPRS,CTDTMP,CTDSAL,CTDSAL_FLAG_W,SALNTY,SALNTY_FLAG_W,CTDOXY,CTDOXY_FLAG_W,OXYGEN,OXYGEN_FLAG_W,SILCAT,SILCAT_FLAG_W,NITRAT,NITRAT_FLAG_W,NITRIT,NITRIT_FLAG_W,PHSPHT,PHSPHT_FLAG_W,CFC-11,CFC-11_FLAG_W,CFC-12,CFC-12_FLAG_W,SF6,SF6_FLAG_W,TCARBN,TCARBN_FLAG_W,ALKALI,ALKALI_FLAG_W
,,,,,,,,,,,,DB,ITS-90,PSS-78,,PSS-78,,UMOL/KG,,UMOL/KG,,UMOL/KG,,UMOL/KG,,UMOL/KG,,UMOL/KG,,PMOL/KG,,PMOL/KG,,FMOL/KG,,UMOL/KG,,UMOL/KG
           NA,     P15,    107,   1,      24,   12014,  2,20090311,1539,  -5.5014, -168.7687,  5049,      3.0,    28.58,   35.614,2,-999.0000,9,    199.3,2,    199.3,2,     1.98,2,     3.97,2, -999.000,9,     0.46,2,    1.637,2,    0.996,2, -999.000,9,   2023.0,6,   2343.9,6
           NA,     P15,    107,   1,      23,   12046,  2,20090311,1539,  -5.5014, -168.7687,  5049,     14.5,    28.58,   35.614,2,  35.6153,2,    197.3,2,    198.9,2,     1.98,2,     3.93,2, -999.000,9,     0.45,2,    1.661,6,    0.981,6, -999.000,9,   2023.3,2,   2346.3,2
           NA,     P15,    107,   1,      22,   12020,  2,20090311,1539,  -5.5014, -168.7687,  5049,     39.1,    28.64,   35.650,2,-999.0000,9,    199.0,2,    198.7,2,     1.87,2,     3.75,2, -999.000,9,     0.45,2,    1.663,2,    0.972,2, -999.000,9,   2022.2,2,   2346.0,6
           NA,     P15,    107,   1,      21,   12003,  2,20090311,1539,  -5.5014, -168.7687,  5049,     60.2,    28.72,   35.789,2,  35.7874,2,    195.6,2,    195.0,2,     1.50,2,     3.04,2, -999.000,9,     0.42,2,    1.638,2,    0.964,2, -999.000,9,   2020.3,2,   2357.0,2
           NA,     P15,    107,   1,      20,   12051,  2,20090311,1539,  -5.5014, -168.7687,  5049,     80.3,    28.46,   35.764,2,-999.0000,9,    194.4,2,    193.4,2,     1.63,2,     3.51,2, -999.000,9,     0.46,2,    1.656,2,    0.966,2, -999.000,9,   2029.9,2,   2354.8,2
           NA,     P15,    107,   1,      19,   12010,  2,20090311,1539,  -5.5014, -168.7687,  5049,    130.4,    27.68,   35.779,2,  35.7786,2,    180.3,2,    179.8,2,     2.08,2,     5.18,2, -999.000,9,     0.57,2,    1.702,6,    1.012,6, -999.000,9,   2047.1,2,   2354.0,2
           NA,     P15,    107,   1,      18,   12035,  2,20090311,1539,  -5.5014, -168.7687,  5049,    178.1,    23.22,   36.134,2,  36.1159,2,    150.5,2,    150.1,2,     1.76,2,     6.78,2, -999.000,9,     0.68,2, -999.000,9, -999.000,9, -999.000,9,   2116.1,2,   2378.3,2
           NA,     P15,    107,   1,      17,   12024,  2,20090311,1539,  -5.5014, -168.7687,  5049,    233.0,    15.73,   35.204,2,  35.2075,2,    105.7,2,    105.2,2,     8.25,2,    16.87,2, -999.000,9,     1.43,2,    1.952,2,    1.069,2, -999.000,9,   2168.9,2,   2322.9,2
           NA,     P15,    107,   1,      16,   12001,  2,20090311,1539,  -5.5014, -168.7687,  5049,    273.2,    12.01,   34.896,2,  34.8949,2,     91.9,2,     91.8,2,    16.47,2,    24.55,2, -999.000,9,     1.85,2,    1.186,2,    0.620,2, -999.000,9,   2196.7,2,   2305.8,6
           NA,     P15,    107,   1,      15,   12025,  2,20090311,1539,  -5.5014, -168.7687,  5049,    310.6,    10.61,   34.793,2,-999.0000,9,    107.0,2,    106.7,2,    19.59,2,    26.19,2, -999.000,9,     1.89,2,    0.988,2,    0.517,2, -999.000,9,   2196.4,2,   2303.1,2
           NA,     P15,    107,   1,      14,   12041,  2,20090311,1539,  -5.5014, -168.7687,  5049,    378.8,     9.09,   34.678,2,  34.6767,2,    112.0,2,    111.9,2,    24.69,2,    28.90,2, -999.000,9,     2.03,2,    0.693,2,    0.364,2, -999.000,9,   2204.4,2,   2305.3,2
           NA,     P15,    107,   1,      13,   12012,  2,20090311,1539,  -5.5014, -168.7687,  5049,    447.1,     8.15,   34.616,2,-999.0000,9,    110.3,2,    110.2,2,    29.48,2,    31.22,2, -999.000,9,     2.17,2,    0.521,2,    0.269,2, -999.000,9,   2216.7,2,   2304.2,2
           NA,     P15,    107,   1,      12,   12022,  2,20090311,1539,  -5.5014, -168.7687,  5049,    573.0,     7.09,   34.561,2,  34.5635,2,    104.6,2,    104.8,2,    38.06,2,    33.93,2, -999.000,9,     2.36,2,    0.312,2,    0.162,2, -999.000,9,   2232.8,6,   2306.1,6
           NA,     P15,    107,   1,      11,   12016,  2,20090311,1539,  -5.5014, -168.7687,  5049,    768.8,     5.67,   34.525,2,  34.5266,2,    108.8,2,    109.5,2,    54.27,2,    36.34,2, -999.000,9,     2.52,2,    0.108,2,    0.055,2, -999.000,9,   2253.3,2,   2318.9,2
           NA,     P15,    107,   1,      10,   12019,  2,20090311,1539,  -5.5014, -168.7687,  5049,    963.8,     4.69,   34.538,2,  34.5419,2,     95.1,2,     95.0,2,    74.82,2,    38.80,2, -999.000,9,     2.74,2,    0.020,2,    0.008,2, -999.000,9,   2283.8,2,   2343.4,2
           NA,     P15,    107,   1,       9,   12031,  2,20090311,1539,  -5.5014, -168.7687,  5049,   1213.8,     3.78,   34.563,2,-999.0000,9,     99.4,2,     99.5,2,    94.71,2,    39.33,2, -999.000,9,     2.77,2,    0.005,2,    0.001,2, -999.000,9,   2303.4,2,   2365.6,2
           NA,     P15,    107,   1,       8,   12021,  2,20090311,1539,  -5.5014, -168.7687,  5049,   1716.1,     2.59,   34.616,2,  34.6180,2,    115.3,2,    116.3,2,   122.61,2,    38.55,2, -999.000,9,     2.70,2,   -0.001,2,    0.001,2, -999.000,9,   2324.7,2,   2396.7,2
           NA,     P15,    107,   1,       7,   12032,  2,20090311,1539,  -5.5014, -168.7687,  5049,   2313.8,     1.97,   34.653,2,  34.6541,2,    131.5,2,    132.8,2,   134.82,2,    37.21,2, -999.000,9,     2.59,2,    0.000,2,    0.001,2, -999.000,9,   2328.0,2,   2409.3,2
           NA,     P15,    107,   1,       6,   12007,  2,20090311,1539,  -5.5014, -168.7687,  5049,   2796.2,     1.70,   34.671,2,  34.6724,2,    142.4,2,    143.4,2,   139.53,2,    36.79,2, -999.000,9,     2.54,2,    0.005,2,    0.001,2, -999.000,9,   2327.9,2,   2415.0,2
           NA,     P15,    107,   1,       5,   12002,  2,20090311,1539,  -5.5014, -168.7687,  5049,   3398.1,     1.51,   34.684,2,  34.6844,2,    156.9,2,    157.6,2,   138.15,2,    35.62,2, -999.000,9,     2.46,2, -999.000,9, -999.000,9, -999.000,9,   2318.1,2,   2412.8,2
           NA,     P15,    107,   1,       4,   12008,  2,20090311,1539,  -5.5014, -168.7687,  5049,   4014.4,     1.40,   34.692,2,-999.0000,9,    167.3,2,    167.2,2,   138.45,2,    35.17,2, -999.000,9,     2.41,2,    0.008,2,    0.002,2, -999.000,9,   2312.2,2,   2409.7,2
           NA,     P15,    107,   1,       3,   12033,  2,20090311,1539,  -5.5014, -168.7687,  5049,   4681.0,     1.31,   34.700,2,  34.7015,2,    185.7,2,    184.5,2,   129.06,2,    33.86,2, -999.000,9,     2.32,2,    0.012,2,    0.005,2, -999.000,9,   2291.1,2,   2389.8,2
           NA,     P15,    107,   1,       2,   12006,  2,20090311,1539,  -5.5014, -168.7687,  5049,   4898.4,     1.24,   34.703,2,  34.7042,2,    194.7,2,    193.4,2,   125.30,2,    33.04,2, -999.000,9,     2.27,2,    0.023,6,    0.010,6, -999.000,9,   2278.7,2,   2379.5,2
           NA,     P15,    107,   1,       1,   12045,  2,20090311,1539,  -5.5014, -168.7687,  5049,   5401.5,     1.23,   34.705,2,  34.7079,2,    200.8,2,    198.9,2,   122.87,2,    32.76,2, -999.000,9,     2.24,2,    0.023,2,    0.013,2, -999.000,9,   2269.9,2,   2372.8,6
           NA,     P15,    108,   1,      24,   12014,  2,20090311,2231,  -4.9897, -168.7633,  5543,      4.1,    28.69,   35.622,2,-999.0000,9,    198.3,2,    200.2,2,     1.93,2,     3.74,2, -999.000,9,     0.46,2, -999.000,9, -999.000,9, -999.000,9,   2023.6,6,   2346.1,6
           NA,     P15,    108,   1,      23,   12046,  2,20090311,2231,  -4.9897, -168.7633,  5543,     22.0,    28.47,   35.620,2,  35.6192,2,    199.6,2,    199.9,2,  -999.00,9,  -999.00,9, -999.000,9,  -999.00,9, -999.000,9, -999.000,9, -999.000,9,   -999.0,9,   -999.0,9
           NA,     P15,    108,   1,      22,   12020,  2,20090311,2231,  -4.9897, -168.7633,  5543,     47.7,    28.29,   35.631,2,-999.0000,9,    201.1,2,    201.5,2,     2.01,2,     3.82,2, -999.000,9,     0.47,2, -999.000,9, -999.000,9, -999.000,9,   2025.8,2,   2346.2,2
           NA,     P15,    108,   1,      21,   12003,  2,20090311,2231,  -4.9897, -168.7633,  5543,     78.3,    28.10,   35.647,2,  35.6494,2,    197.5,2,    198.1,2,     2.00,2,     3.98,2, -999.000,9,     0.50,2, -999.000,9, -999.000,9, -999.000,9,   2030.5,2,   2347.4,2
           NA,     P15,    108,   1,      20,   12051,  2,20090311,2231,  -4.9897, -168.7633,  5543,    101.6,    27.79,   35.629,2,-999.0000,9,    193.1,2,    194.6,2,     2.20,2,     4.37,2, -999.000,9,     0.56,2, -999.000,9, -999.000,9, -999.000,9,   2034.9,2,   2346.3,2
           NA,     P15,    108,   1,      19,   12010,  2,20090311,2231,  -4.9897, -168.7633,  5543,    146.5,    26.09,   36.075,2,  36.0896,2,    158.7,2,    159.6,2,     1.99,2,     5.50,2, -999.000,9,     0.61,2, -999.000,9, -999.000,9, -999.000,9,   2078.5,2,   2372.7,2
           NA,     P15,    108,   1,      18,   12035,  2,20090311,2231,  -4.9897, -168.7633,  5543,    197.1,    19.84,   35.690,2,  35.6471,2,    129.8,2,    126.5,2,     4.33,2,    11.54,2, -999.000,9,     1.05,2, -999.000,9, -999.000,9, -999.000,9,   2144.2,2,   -999.0,9
           NA,     P15,    108,   1,      17,   12024,  2,20090311,2231,  -4.9897, -168.7633,  5543,    237.8,    14.48,   35.106,2,  35.1037,2,     74.7,2,     73.7,2,    14.14,2,    23.57,2, -999.000,9,     1.76,2, -999.000,9, -999.000,9, -999.000,9,   2195.4,2,   2313.0,2
           NA,     P15,    108,   1,      15,   12025,  2,20090311,2231,  -4.9897, -168.7633,  5543,    347.5,     9.98,   34.737,2,-999.0000,9,     80.3,2,     80.4,2,    25.91,2,    30.46,2, -999.000,9,     2.11,2, -999.000,9, -999.000,9, -999.000,9,   2216.6,2,   2305.1,2
           NA,     P15,    108,   1,      14,   12041,  2,20090311,2231,  -4.9897, -168.7633,  5543,    417.5,     9.34,   34.694,2,-999.0000,9,     80.1,2,     79.7,2,    27.76,2,    31.82,2, -999.000,9,     2.21,2, -999.000,9, -999.000,9, -999.000,9,   -999.0,9,   -999.0,9
           NA,     P15,    108,   1,      13,   12012,  2,20090311,2231,  -4.9897, -168.7633,  5543,    520.3,     8.28,   34.628,2,  34.6303,2,     79.7,2,     78.6,2,    33.39,2,    34.48,2, -999.000,9,     2.36,2, -999.000,9, -999.000,9, -999.000,9,   -999.0,9,   -999.0,9
           NA,     P15,    108,   1,      12,   12022,  2,20090311,2231,  -4.9897, -168.7633,  5543,    706.1,     6.51,   34.544,2,-999.0000,9,     98.2,2,    101.2,2,    40.37,2,    34.93,2, -999.000,9,     2.41,2, -999.000,9, -999.000,9, -999.000,9,   -999.0,9,   -999.0,9
           NA,     P15,    108,   1,      11,   12016,  2,20090311,2231,  -4.9897, -168.7633,  5543,    873.1,     5.24,   34.530,2,  34.5303,2,    100.7,2,    101.4,2,    63.65,2,    37.83,2, -999.000,9,     2.63,2, -999.000,9, -999.000,9, -999.000,9,   -999.0,9,   -999.0,9
           NA,     P15,    108,   1,      10,   12019,  2,20090311,2231,  -4.9897, -168.7633,  5543,   1048.4,     4.37,   34.547,2,  34.5478,2,     92.4,2,     92.5,2,    82.01,2,    39.61,2, -999.000,9,     2.79,2, -999.000,9, -999.000,9, -999.000,9,   -999.0,9,   -999.0,9
           NA,     P15,    108,   1,       9,   12031,  2,20090311,2231,  -4.9897, -168.7633,  5543,   1400.0,     3.18,   34.586,2,  34.5861,2,    107.2,2,    107.9,2,   107.85,2,    39.09,2, -999.000,9,     2.75,2, -999.000,9, -999.000,9, -999.000,9,   -999.0,9,   -999.0,9
           NA,     P15,    108,   1,       8,   12021,  2,20090311,2231,  -4.9897, -168.7633,  5543,   1899.8,     2.38,   34.629,2,  34.6307,2,    117.5,2,    118.6,2,   128.69,2,    38.34,2, -999.000,9,     2.67,2, -999.000,9, -999.000,9, -999.000,9,   -999.0,9,   -999.0,9
           NA,     P15,    108,   1,       7,   12032,  2,20090311,2231,  -4.9897, -168.7633,  5543,   2511.2,     1.86,   34.661,2,  34.6614,2,    131.9,2,    132.7,2,   139.51,2,    37.57,2, -999.000,9,     2.59,2, -999.000,9, -999.000,9, -999.000,9,   -999.0,9,   -999.0,9
           NA,     P15,    108,   1,       6,   12007,  2,20090311,2231,  -4.9897, -168.7633,  5543,   3010.8,     1.62,   34.677,2,  34.6789,2,    148.6,2,    149.8,2,   138.99,2,    36.39,2, -999.000,9,     2.50,2, -999.000,9, -999.000,9, -999.000,9,   -999.0,9,   -999.0,9
           NA,     P15,    108,   1,       5,   12002,  2,20090311,2231,  -4.9897, -168.7633,  5543,   3597.6,     1.47,   34.687,2,  34.6875,2,    156.8,2,    157.7,2,   142.21,2,    35.94,2, -999.000,9,     2.45,2, -999.000,9, -999.000,9, -999.000,9,   -999.0,9,   -999.0,9
           NA,     P15,    108,   1,       4,   12008,  2,20090311,2231,  -4.9897, -168.7633,  5543,   4205.0,     1.39,   34.694,2,  34.6938,2,    171.3,2,    170.5,2,   137.05,2,    35.04,2, -999.000,9,     2.39,2, -999.000,9, -999.000,9, -999.000,9,   -999.0,9,   -999.0,9
           NA,     P15,    108,   1,       3,   12033,  2,20090311,2231,  -4.9897, -168.7633,  5543,   4813.7,     1.23,   34.704,2,  34.7044,2,    194.8,2,    192.5,2,   125.67,2,    33.23,2, -999.000,9,     2.27,2, -999.000,9, -999.000,9, -999.000,9,   -999.0,9,   -999.0,9
           NA,     P15,    108,   1,       2,   12006,  2,20090311,2231,  -4.9897, -168.7633,  5543,   5310.5,     1.21,   34.706,2,  34.7070,2,    201.0,2,    199.0,2,   123.19,2,    32.93,2, -999.000,9,     2.24,2, -999.000,9, -999.000,9, -999.000,9,   -999.0,9,   -999.0,9
           NA,     P15,    108,   1,       1,   12045,  2,20090311,2231,  -4.9897, -168.7633,  5543,   5665.6,     1.25,   34.706,2,  34.7079,2,    202.0,2,    199.6,2,   122.88,2,    32.74,2, -999.000,9,     2.24,2, -999.000,9, -999.000,9, -999.000,9,   -999.0,9,   -999.0,9