BOTTLE,20214902JOAExport
EXPOCODE,SECT_ID,STNNBR,CASTNO,SAMPNO,BTLNBR,BTLNBR_FLAG_W,DATE,TIME,LATITUDE,LONGITUDE,DEPTH,CTDPRS,CTDTMP,CTDSAL,CTDSAL_FLAG_W,SALNTY,SALNTY_FLAG_W,CTDOXY,CTDOXY_FLAG_W,OXYGEN,OXYGEN_FLAG_W,SILCAT,SILCAT_FLAG_W,NITRAT,NITRAT_FLAG_W,NITRIT,NITRIT_FLAG_W,PHSPHT,PHSPHT_FLAG_W,CFC-11,CFC-11_FLAG_W,CFC-12,CFC-12_FLAG_W,SF6,SF6_FLAG_W,TCARBN,TCARBN_FLAG_W,ALKALI,ALKALI_FLAG_W
,,,,,,,,,,,,DB,ITS-90,PSS-78,,PSS-78,,UMOL/KG,,UMOL/KG,,UMOL/KG,,UMOL/KG,,UMOL/KG,,UMOL/KG,,PMOL/KG,,PMOL/KG,,FMOL/KG,,UMOL/KG,,UMOL/KG
           NA,     P15,     59,   1,      24,   12015,  2,20090222,1136, -24.9992, -170.0006,  5682,      3.1,    26.65,   34.862,2,  34.8623,2,    201.7,2,    202.1,2,     0.90,2,     0.02,2, -999.000,9,     0.00,2,    1.750,2,    1.087,2, -999.000,9,   1949.8,6,   2282.1,6
           NA,     P15,     59,   1,      23,   12046,  2,20090222,1136, -24.9992, -170.0006,  5682,     22.6,    26.53,   35.023,2,  35.0321,2,    203.6,2,    204.0,2,     0.88,2,     0.02,2, -999.000,9,     0.00,2,    1.731,2,    1.066,2, -999.000,9,   1961.5,2,   2288.2,2
           NA,     P15,     59,   1,      22,   12020,  2,20090222,1136, -24.9992, -170.0006,  5682,     43.5,    26.06,   35.170,2,  35.1449,2,    208.4,2,    207.1,2,     0.89,2,     0.03,2, -999.000,9,     0.00,2,    1.826,2,    1.120,2, -999.000,9,   1972.4,2,   2303.1,2
           NA,     P15,     59,   1,      21,   12003,  2,20090222,1136, -24.9992, -170.0006,  5682,     70.2,    23.00,   35.496,2,  35.4935,2,    230.5,2,    229.6,2,     0.90,2,     0.04,2, -999.000,9,     0.01,2,    2.192,2,    1.303,2, -999.000,9,   2004.8,2,   2321.3,2
           NA,     P15,     59,   1,      20,   12051,  2,20090222,1136, -24.9992, -170.0006,  5682,     92.7,    20.82,   35.587,2,  35.5884,2,    234.0,2,    235.1,2,     0.94,2,     0.02,2, -999.000,9,     0.02,2,    2.322,2,    1.379,2, -999.000,9,   2021.5,2,   2330.9,2
           NA,     P15,     59,   1,      19,   12010,  2,20090222,1136, -24.9992, -170.0006,  5682,    168.2,    18.17,   35.572,2,  35.5709,2,    194.9,2,    195.0,2,     1.37,2,     3.39,2, -999.000,9,     0.28,2,    2.463,2,    1.401,2, -999.000,9,   2071.1,2,   2326.3,2
           NA,     P15,     59,   1,      18,   12018,  2,20090222,1136, -24.9992, -170.0006,  5682,    241.3,    16.66,   35.416,2,  35.4115,2,    190.9,2,    191.0,2,     1.88,2,     5.54,2, -999.000,9,     0.46,2,    2.607,2,    1.465,2, -999.000,9,   2089.5,2,   2321.8,2
           NA,     P15,     59,   1,      17,   12024,  2,20090222,1136, -24.9992, -170.0006,  5682,    318.4,    14.89,   35.284,2,  35.2808,2,    194.0,2,    194.5,2,     2.53,2,     7.90,2, -999.000,9,     0.61,2,    2.730,2,    1.497,2, -999.000,9,   2100.5,2,   2311.6,2
           NA,     P15,     59,   1,      16,   12001,  2,20090222,1136, -24.9992, -170.0006,  5682,    386.8,    12.92,   35.077,2,  35.0728,2,    199.1,2,    199.7,2,     3.35,2,    10.89,2, -999.000,9,     0.80,2,    2.994,2,    1.630,2, -999.000,9,   2115.4,2,   2304.5,2
           NA,     P15,     59,   1,      15,   12025,  2,20090222,1136, -24.9992, -170.0006,  5682,    450.5,    10.74,   34.783,2,  34.7805,2,    201.7,2,    202.8,2,     4.64,2,    15.30,2, -999.000,9,     1.09,2,    2.984,2,    1.536,2, -999.000,9,   2127.4,2,   2290.1,2
           NA,     P15,     59,   1,      14,   12041,  2,20090222,1136, -24.9992, -170.0006,  5682,    548.3,     8.23,   34.490,2,  34.4940,2,    215.9,2,    217.6,2,     6.50,2,    20.14,2, -999.000,9,     1.40,2,    2.938,2,    1.441,2, -999.000,9,   2138.7,2,   2281.2,2
           NA,     P15,     59,   1,      13,   12012,  2,20090222,1136, -24.9992, -170.0006,  5682,    716.0,     6.64,   34.373,2,  34.3719,2,    224.5,2,    227.6,2,    10.21,2,    23.92,2, -999.000,9,     1.62,2,    2.108,2,    1.016,2, -999.000,9,   2146.2,2,   2276.8,6
           NA,     P15,     59,   1,      12,   12022,  2,20090222,1136, -24.9992, -170.0006,  5682,    815.2,     5.98,   34.340,2,  34.3392,2,    216.9,2,    220.8,2,    14.47,2,    25.98,2, -999.000,9,     1.76,2,    1.350,2,    0.674,2, -999.000,9,   2156.4,6,   2277.9,6
           NA,     P15,     59,   1,      11,   12016,  2,20090222,1136, -24.9992, -170.0006,  5682,   1056.2,     4.29,   34.367,2,  34.3668,2,    183.1,2,    187.1,2,    39.29,2,    31.91,2, -999.000,9,     2.17,2,    0.253,2,    0.126,2, -999.000,9,   2203.8,2,   2303.3,2
           NA,     P15,     59,   1,      10,   12019,  2,20090222,1136, -24.9992, -170.0006,  5682,   1298.3,     3.24,   34.474,2,-999.0000,9,    161.8,2,    166.1,2,    68.18,2,    34.31,2, -999.000,9,     2.37,2,    0.029,2,    0.014,2, -999.000,9,   2246.0,2,   2328.6,2
           NA,     P15,     59,   1,       9,   12031,  2,20090222,1136, -24.9992, -170.0006,  5682,   1564.1,     2.66,   34.571,2,  34.5773,2,    150.7,2,    155.2,2,    93.76,2,    34.96,2, -999.000,9,     2.43,2,    0.007,2,    0.002,2, -999.000,9,   2277.1,2,   2364.1,2
           NA,     P15,     59,   1,       8,   12021,  2,20090222,1136, -24.9992, -170.0006,  5682,   1830.5,     2.37,   34.611,2,  34.6101,2,    145.4,2,    149.2,2,   108.83,2,    35.58,2, -999.000,9,     2.48,2,    0.002,6,    0.001,6, -999.000,9,   2293.7,2,   2382.1,2
           NA,     P15,     59,   1,       7,   12032,  2,20090222,1136, -24.9992, -170.0006,  5682,   2330.2,     2.08,   34.644,2,  34.6445,2,    142.7,2,    146.2,2,   122.16,2,    35.74,2, -999.000,9,     2.49,2,    0.000,2,    0.000,2, -999.000,9,   2311.4,2,   2394.6,2
           NA,     P15,     59,   1,       6,   12007,  2,20090222,1136, -24.9992, -170.0006,  5682,   2829.6,     1.83,   34.666,2,  34.6637,2,    145.9,2,    148.6,2,   131.22,2,    35.78,2, -999.000,9,     2.50,2,    0.008,2,    0.002,2, -999.000,9,   2316.4,2,   2402.6,6
           NA,     P15,     59,   1,       5,   12002,  2,20090222,1136, -24.9992, -170.0006,  5682,   3329.9,     1.60,   34.697,2,  34.6956,2,    169.9,2,    171.9,2,   121.39,2,    33.69,2, -999.000,9,     2.35,2, -999.000,9, -999.000,9, -999.000,9,   2289.1,2,   2385.7,2
           NA,     P15,     59,   1,       4,   12008,  2,20090222,1136, -24.9992, -170.0006,  5682,   3829.6,     1.36,   34.719,2,  34.7258,2,    195.2,2,    197.7,2,   111.79,2,    31.88,2, -999.000,9,     2.19,2,    0.040,2,    0.015,2, -999.000,9,   2261.9,2,   2364.6,2
           NA,     P15,     59,   1,       3,   12033,  2,20090222,1136, -24.9992, -170.0006,  5682,   4329.6,     1.13,   34.714,2,  34.7131,2,    203.0,2,    204.5,2,   117.05,2,    31.80,2, -999.000,9,     2.18,2, -999.000,9, -999.000,9, -999.000,9,   2260.9,2,   2359.5,2
           NA,     P15,     59,   1,       2,   12006,  2,20090222,1136, -24.9992, -170.0006,  5682,   4914.2,     1.05,   34.709,2,  34.7077,2,    206.5,2,    206.5,2,   121.52,2,    32.10,2, -999.000,9,     2.20,2,    0.056,2,    0.026,2, -999.000,9,   2262.3,2,   2364.5,2
           NA,     P15,     59,   1,       1,   12045,  2,20090222,1136, -24.9992, -170.0006,  5682,   5788.1,     1.14,   34.707,2,  34.7070,2,    207.8,2,    207.0,2,   121.73,2,    31.98,2, -999.000,9,     2.20,2,    0.056,2,    0.026,2, -999.000,9,   2264.4,6,   2363.0,6
           NA,     P15,     60,   1,      24,   12015,  2,20090222,1849, -24.5015, -170.0174,  5623,      2.7,    27.30,   34.698,2,  34.6973,2,    200.1,2,    201.3,2,     0.90,2,     0.00,2, -999.000,9,     0.00,2, -999.000,9, -999.000,9, -999.000,9,   1932.7,2,   2267.1,2
           NA,     P15,     60,   1,      23,   12046,  2,20090222,1849, -24.5015, -170.0174,  5623,     22.4,    27.29,   34.699,2,  34.7028,2,    201.0,2,    201.3,2,     0.90,2,     0.00,2, -999.000,9,     0.00,2, -999.000,9, -999.000,9, -999.000,9,   -999.0,9,   -999.0,9
           NA,     P15,     60,   1,      22,   12020,  2,20090222,1849, -24.5015, -170.0174,  5623,     57.9,    23.22,   35.377,2,  35.3800,2,    218.1,2,    218.2,2,     0.90,2,     0.00,2, -999.000,9,     0.02,2, -999.000,9, -999.000,9, -999.000,9,   1993.2,2,   2321.3,2
           NA,     P15,     60,   1,      21,   12003,  2,20090222,1849, -24.5015, -170.0174,  5623,     87.9,    22.27,   35.471,2,  35.4701,2,    203.7,2,    204.5,2,     0.94,2,     0.15,2, -999.000,9,     0.08,2, -999.000,9, -999.000,9, -999.000,9,   -999.0,9,   -999.0,9
           NA,     P15,     60,   1,      20,   12051,  2,20090222,1849, -24.5015, -170.0174,  5623,    117.7,    21.12,   35.616,2,  35.6137,2,    181.0,2,    181.9,2,     1.11,2,     2.46,2, -999.000,9,     0.23,2, -999.000,9, -999.000,9, -999.000,9,   2056.1,2,   2332.6,2
           NA,     P15,     60,   1,      19,   12010,  2,20090222,1849, -24.5015, -170.0174,  5623,    169.5,    19.76,   35.630,2,  35.6267,2,    178.6,2,    177.8,2,     1.29,2,     3.65,2, -999.000,9,     0.32,2, -999.000,9, -999.000,9, -999.000,9,   2079.9,2,   2330.8,2
           NA,     P15,     60,   1,      18,   12018,  2,20090222,1849, -24.5015, -170.0174,  5623,    268.2,    17.44,   35.553,2,  35.5539,2,    197.9,2,    198.4,2,     1.51,2,     4.07,2, -999.000,9,     0.33,2, -999.000,9, -999.000,9, -999.000,9,   2079.9,2,   2330.5,2
           NA,     P15,     60,   1,      17,   12024,  2,20090222,1849, -24.5015, -170.0174,  5623,    340.7,    15.80,   35.423,2,  35.4198,2,    199.1,2,    199.2,2,     2.27,2,     6.47,2, -999.000,9,     0.50,2, -999.000,9, -999.000,9, -999.000,9,   -999.0,9,   -999.0,9
           NA,     P15,     60,   1,      16,   12001,  2,20090222,1849, -24.5015, -170.0174,  5623,    417.3,    13.53,   35.143,2,  35.1394,2,    196.5,2,    196.7,2,     3.10,2,     9.96,2, -999.000,9,     0.73,2, -999.000,9, -999.000,9, -999.000,9,   -999.0,9,   -999.0,9
           NA,     P15,     60,   1,      15,   12025,  2,20090222,1849, -24.5015, -170.0174,  5623,    492.3,    10.76,   34.793,2,  34.7889,2,    202.2,2,    203.0,2,     4.63,2,    15.25,2, -999.000,9,     1.06,2, -999.000,9, -999.000,9, -999.000,9,   -999.0,9,   -999.0,9
           NA,     P15,     60,   1,      14,   12041,  2,20090222,1849, -24.5015, -170.0174,  5623,    597.9,     8.06,   34.484,2,  34.4828,2,    218.6,2,    220.8,2,     6.52,2,    20.44,2, -999.000,9,     1.39,2, -999.000,9, -999.000,9, -999.000,9,   -999.0,9,   -999.0,9
           NA,     P15,     60,   1,      13,   12012,  2,20090222,1849, -24.5015, -170.0174,  5623,    722.9,     6.76,   34.376,2,  34.3733,2,    227.4,2,    230.9,2,     9.06,2,    23.30,2, -999.000,9,     1.55,2, -999.000,9, -999.000,9, -999.000,9,   -999.0,9,   -999.0,9
           NA,     P15,     60,   1,      12,   12022,  2,20090222,1849, -24.5015, -170.0174,  5623,    896.2,     5.32,   34.326,2,  34.3246,2,    203.8,2,    208.0,2,    21.48,2,    28.63,2, -999.000,9,     1.92,2, -999.000,9, -999.000,9, -999.000,9,   -999.0,9,   -999.0,9
           NA,     P15,     60,   1,      11,   12016,  2,20090222,1849, -24.5015, -170.0174,  5623,   1147.6,     3.77,   34.410,2,  34.4100,2,    171.4,2,    175.6,2,    51.88,2,    33.36,2, -999.000,9,     2.26,2, -999.000,9, -999.000,9, -999.000,9,   -999.0,9,   -999.0,9
           NA,     P15,     60,   1,      10,   12019,  2,20090222,1849, -24.5015, -170.0174,  5623,   1397.9,     2.89,   34.531,2,  34.5298,2,    155.7,2,    160.1,2,    82.21,2,    34.74,2, -999.000,9,     2.38,2, -999.000,9, -999.000,9, -999.000,9,   -999.0,9,   -999.0,9
           NA,     P15,     60,   1,       9,   12031,  2,20090222,1849, -24.5015, -170.0174,  5623,   1697.7,     2.49,   34.601,2,  34.6075,2,    145.3,2,    150.2,2,   105.29,2,    35.45,2, -999.000,9,     2.46,2, -999.000,9, -999.000,9, -999.000,9,   -999.0,9,   -999.0,9
           NA,     P15,     60,   1,       8,   12021,  2,20090222,1849, -24.5015, -170.0174,  5623,   1996.7,     2.27,   34.626,2,  34.6244,2,    142.9,2,    146.2,2,   115.21,2,    35.76,2, -999.000,9,     2.48,2, -999.000,9, -999.000,9, -999.000,9,   -999.0,9,   -999.0,9
           NA,     P15,     60,   1,       7,   12032,  2,20090222,1849, -24.5015, -170.0174,  5623,   2497.4,     1.97,   34.652,2,  34.6508,2,    142.7,2,    145.6,2,   126.83,2,    35.92,2, -999.000,9,     2.49,2, -999.000,9, -999.000,9, -999.000,9,   -999.0,9,   -999.0,9
           NA,     P15,     60,   1,       6,   12007,  2,20090222,1849, -24.5015, -170.0174,  5623,   2998.9,     1.73,   34.672,2,  34.6716,2,    148.5,2,    150.3,2,   133.61,2,    35.69,2, -999.000,9,     2.48,2, -999.000,9, -999.000,9, -999.000,9,   -999.0,9,   -999.0,9
           NA,     P15,     60,   1,       5,   12002,  2,20090222,1849, -24.5015, -170.0174,  5623,   3496.4,     1.51,   34.706,2,  34.7044,2,    179.9,2,    181.6,2,   117.97,2,    33.02,2, -999.000,9,     2.27,2, -999.000,9, -999.000,9, -999.000,9,   -999.0,9,   -999.0,9
           NA,     P15,     60,   1,       4,   12008,  2,20090222,1849, -24.5015, -170.0174,  5623,   3998.8,     1.25,   34.718,2,  34.7180,2,    199.0,2,    201.7,2,   113.52,2,    31.71,2, -999.000,9,     2.17,2, -999.000,9, -999.000,9, -999.000,9,   -999.0,9,   -999.0,9
           NA,     P15,     60,   1,       3,   12033,  2,20090222,1849, -24.5015, -170.0174,  5623,   4497.7,     1.09,   34.712,2,  34.7152,2,    204.4,2,    205.5,2,   119.23,2,    31.95,2, -999.000,9,     2.18,2, -999.000,9, -999.000,9, -999.000,9,   -999.0,9,   -999.0,9
           NA,     P15,     60,   1,       2,   12006,  2,20090222,1849, -24.5015, -170.0174,  5623,   4997.8,     1.06,   34.709,2,  34.7085,2,    206.5,2,    206.6,2,   121.16,2,    31.93,2, -999.000,9,     2.19,2, -999.000,9, -999.000,9, -999.000,9,   -999.0,9,   -999.0,9
           NA,     P15,     60,   1,       1,   12045,  2,20090222,1849, -24.5015, -170.0174,  5623,   5760.5,     1.13,   34.707,2,  34.7093,2,    207.2,2,    207.2,2,   122.38,2,    32.11,2, -999.000,9,     2.19,2, -999.000,9, -999.000,9, -999.000,9,   -999.0,9,   -999.0,9
           NA,     P15,     61,   1,      24,   12014,  2,20090223,0236, -23.9812, -170.0033,  5683,      2.4,    27.55,   34.834,2,  34.8328,2,    203.1,2,    201.7,2,     0.90,2,     0.00,2, -999.000,9,     0.00,2,    1.695,6,    1.044,6, -999.000,9,   1938.0,6,   2280.1,6
           NA,     P15,     61,   1,      23,   12046,  2,20090223,0236, -23.9812, -170.0033,  5683,     21.4,    27.49,   34.851,2,  34.8713,2,    203.7,2,    203.0,2,     0.90,2,     0.00,2, -999.000,9,     0.00,2,    1.705,2,    1.073,2, -999.000,9,   1940.8,2,   2284.4,2
           NA,     P15,     61,   1,      22,   12020,  2,20090223,0236, -23.9812, -170.0033,  5683,     37.6,    24.63,   35.218,2,  35.2335,2,    224.7,2,    222.3,2,     0.93,2,     0.00,2, -999.000,9,     0.00,2,    1.996,2,    1.219,2, -999.000,9,   1976.2,2,   2305.5,2
           NA,     P15,     61,   1,      21,   12003,  2,20090223,0236, -23.9812, -170.0033,  5683,     98.0,    22.13,   35.584,2,  35.5750,2,    188.8,2,    188.0,2,     1.02,2,     1.41,2, -999.000,9,     0.17,2, -999.000,9, -999.000,9, -999.000,9,   2034.8,2,   2325.4,2
           NA,     P15,     61,   1,      20,   12051,  2,20090223,0236, -23.9812, -170.0033,  5683,    146.9,    20.69,   35.606,2,  35.6060,2,    189.1,2,    187.3,2,     1.09,2,     2.16,2, -999.000,9,     0.21,2,    2.226,2,    1.343,2, -999.000,9,   2055.3,2,   2328.7,2
           NA,     P15,     61,   1,      19,   12010,  2,20090223,0236, -23.9812, -170.0033,  5683,    197.9,    19.31,   35.608,2,  35.6054,2,    194.8,2,    193.4,2,     1.15,2,     2.56,2, -999.000,9,     0.22,2,    2.351,2,    1.380,2, -999.000,9,   2063.6,2,   2327.8,2
           NA,     P15,     61,   1,      18,   12018,  2,20090223,0236, -23.9812, -170.0033,  5683,    290.9,    17.21,   35.524,2,  35.5352,2,    200.4,2,    198.3,2,     1.62,2,     4.47,2, -999.000,9,     0.37,2, -999.000,9, -999.000,9, -999.000,9,   2082.1,2,   2320.8,2
           NA,     P15,     61,   1,      17,   12024,  2,20090223,0236, -23.9812, -170.0033,  5683,    367.9,    14.42,   35.153,2,  35.1482,2,    192.3,2,    190.9,2,     2.82,2,     8.89,2, -999.000,9,     0.69,2,    2.706,6,    1.478,6, -999.000,9,   2105.1,2,   2305.3,2
           NA,     P15,     61,   1,      16,   12001,  2,20090223,0236, -23.9812, -170.0033,  5683,    442.4,    11.78,   34.835,2,  34.8316,2,    193.7,2,    192.7,2,     4.38,2,    13.71,2, -999.000,9,     1.02,2,    2.685,2,    1.380,2, -999.000,9,   2124.5,2,   2289.8,6
           NA,     P15,     61,   1,      15,   12025,  2,20090223,0236, -23.9812, -170.0033,  5683,    523.4,     9.40,   34.573,2,  34.5700,2,    196.5,2,    195.9,2,     6.96,2,    19.10,2, -999.000,9,     1.35,2, -999.000,9, -999.000,9, -999.000,9,   2141.9,2,   2282.9,2
           NA,     P15,     61,   1,      14,   12041,  2,20090223,0236, -23.9812, -170.0033,  5683,    640.3,     7.28,   34.401,2,  34.4023,2,    213.8,2,    214.1,2,     9.27,2,    23.06,2, -999.000,9,     1.57,2,    2.343,2,    1.145,2, -999.000,9,   2150.0,2,   2279.0,2
           NA,     P15,     61,   1,      13,   12012,  2,20090223,0236, -23.9812, -170.0033,  5683,    798.3,     5.82,   34.359,2,  34.3598,2,    187.7,2,    188.2,2,    22.32,2,    29.19,2, -999.000,9,     1.98,2,    0.767,2,    0.386,2, -999.000,9,   2182.8,2,   2285.8,2
           NA,     P15,     61,   1,      12,   12022,  2,20090223,0236, -23.9812, -170.0033,  5683,    964.4,     4.63,   34.358,2,  34.3598,2,    179.8,2,    183.2,2,    35.46,2,    31.76,2, -999.000,9,     2.15,2, -999.000,9, -999.000,9, -999.000,9,   2204.6,6,   2295.6,6
           NA,     P15,     61,   1,      11,   12016,  2,20090223,0236, -23.9812, -170.0033,  5683,   1229.9,     3.63,   34.470,2,  34.4691,2,    155.8,2,    157.5,2,    65.69,2,    34.61,2, -999.000,9,     2.38,2,    0.024,2,    0.013,2, -999.000,9,   2248.6,2,   2330.6,2
           NA,     P15,     61,   1,      10,   12019,  2,20090223,0236, -23.9812, -170.0033,  5683,   1488.7,     2.76,   34.552,2,  34.5529,2,    153.6,2,    156.1,2,    89.22,2,    35.02,2, -999.000,9,     2.42,2,    0.006,2,    0.004,2, -999.000,9,   2274.7,2,   2354.5,2
           NA,     P15,     61,   1,       9,   12031,  2,20090223,0236, -23.9812, -170.0033,  5683,   1796.6,     2.40,   34.612,2,  34.6111,2,    144.7,2,    146.7,2,   109.74,2,    35.68,2, -999.000,9,     2.49,2, -999.000,9, -999.000,9, -999.000,9,   2298.2,2,   2377.9,2
           NA,     P15,     61,   1,       8,   12021,  2,20090223,0236, -23.9812, -170.0033,  5683,   2129.5,     2.17,   34.635,2,  34.6347,2,    143.7,2,    145.3,2,   119.75,2,    36.15,2, -999.000,9,     2.52,2,    0.004,2,    0.001,2, -999.000,9,   2308.1,2,   2389.2,2
           NA,     P15,     61,   1,       7,   12032,  2,20090223,0236, -23.9812, -170.0033,  5683,   2664.1,     1.91,   34.658,2,  34.6566,2,    144.8,2,    146.0,2,   129.44,2,    36.02,2, -999.000,9,     2.51,2,    0.003,6,    0.001,6, -999.000,9,   2318.9,2,   2400.9,2
           NA,     P15,     61,   1,       6,   12007,  2,20090223,0236, -23.9812, -170.0033,  5683,   3164.8,     1.69,   34.677,2,  34.6761,2,    153.1,2,    153.5,2,   133.83,2,    35.52,2, -999.000,9,     2.47,2,    0.003,2,    0.002,2, -999.000,9,   2313.4,2,   2403.1,6
           NA,     P15,     61,   1,       4,   12008,  2,20090223,0236, -23.9812, -170.0033,  5683,   4165.0,     1.19,   34.716,2,  34.7164,2,    203.1,2,    202.7,2,   115.75,2,    31.80,2, -999.000,9,     2.19,2,    0.055,2,    0.025,2, -999.000,9,   2261.4,2,   2354.7,2
           NA,     P15,     61,   1,       3,   12033,  2,20090223,0236, -23.9812, -170.0033,  5683,   4662.9,     1.07,   34.711,2,  34.7105,2,    207.7,2,    205.9,2,   119.94,2,    32.01,2, -999.000,9,     2.19,2,    0.061,2,    0.025,2, -999.000,9,   2263.9,2,   2361.0,2
           NA,     P15,     61,   1,       1,   12045,  2,20090223,0236, -23.9812, -170.0033,  5683,   5820.5,     1.14,   34.707,2,  34.7079,2,    210.2,2,    207.5,2,   122.56,2,    32.08,2, -999.000,9,     2.20,2,    0.063,2,    0.029,2, -999.000,9,   2265.2,6,   2363.2,6