BOTTLE,20214902JOAExport
EXPOCODE,SECT_ID,STNNBR,CASTNO,SAMPNO,BTLNBR,BTLNBR_FLAG_W,DATE,TIME,LATITUDE,LONGITUDE,DEPTH,CTDPRS,CTDTMP,CTDSAL,CTDSAL_FLAG_W,SALNTY,SALNTY_FLAG_W,CTDOXY,CTDOXY_FLAG_W,OXYGEN,OXYGEN_FLAG_W,SILCAT,SILCAT_FLAG_W,NITRAT,NITRAT_FLAG_W,NITRIT,NITRIT_FLAG_W,PHSPHT,PHSPHT_FLAG_W,CFC-11,CFC-11_FLAG_W,CFC-12,CFC-12_FLAG_W,SF6,SF6_FLAG_W,TCARBN,TCARBN_FLAG_W,ALKALI,ALKALI_FLAG_W
,,,,,,,,,,,,DB,ITS-90,PSS-78,,PSS-78,,UMOL/KG,,UMOL/KG,,UMOL/KG,,UMOL/KG,,UMOL/KG,,UMOL/KG,,PMOL/KG,,PMOL/KG,,FMOL/KG,,UMOL/KG,,UMOL/KG
           NA,     P15,     68,   1,      24,   12014,  2,20090301,0313, -20.4891, -170.0012,  5606,      1.8,    28.29,   34.873,2,  34.8700,2,    200.1,2,    199.0,2,     0.81,2,     0.00,2, -999.000,9,     0.01,2, -999.000,9, -999.000,9, -999.000,9,   -999.0,9,   2283.4,2
           NA,     P15,     68,   1,      23,   12046,  2,20090301,0313, -20.4891, -170.0012,  5606,     22.9,    28.13,   34.884,2,  34.8843,2,    200.6,2,    199.5,2,     0.81,2,     0.00,2, -999.000,9,     0.01,2, -999.000,9, -999.000,9, -999.000,9,   1940.8,2,   2285.7,2
           NA,     P15,     68,   1,      22,   12020,  2,20090301,0313, -20.4891, -170.0012,  5606,     41.4,    27.79,   35.092,2,  35.1347,2,    206.4,2,    205.3,2,     0.86,2,     0.00,2, -999.000,9,     0.03,2, -999.000,9, -999.000,9, -999.000,9,   -999.0,9,   -999.0,9
           NA,     P15,     68,   1,      21,   12003,  2,20090301,0313, -20.4891, -170.0012,  5606,     70.9,    24.42,   35.494,2,  35.4943,2,    214.3,2,    212.3,2,     0.88,2,     0.00,2, -999.000,9,     0.07,2, -999.000,9, -999.000,9, -999.000,9,   1993.4,2,   2327.6,2
           NA,     P15,     68,   1,      20,   12051,  2,20090301,0313, -20.4891, -170.0012,  5606,     91.9,    23.77,   35.541,2,  35.5407,2,    208.4,2,    206.6,2,     0.86,2,     0.00,2, -999.000,9,     0.08,2, -999.000,9, -999.000,9, -999.000,9,   -999.0,9,   -999.0,9
           NA,     P15,     68,   1,      19,   12010,  2,20090301,0313, -20.4891, -170.0012,  5606,    197.5,    20.43,   35.677,2,  35.6777,2,    179.8,2,    178.5,2,     1.11,2,     3.03,2, -999.000,9,     0.32,2, -999.000,9, -999.000,9, -999.000,9,   2070.9,2,   2334.9,2
           NA,     P15,     68,   1,      18,   12018,  2,20090301,0313, -20.4891, -170.0012,  5606,    245.9,    18.71,   35.529,2,  35.5202,2,    180.3,2,    178.4,2,     1.49,2,     4.62,2, -999.000,9,     0.45,2, -999.000,9, -999.000,9, -999.000,9,   2086.4,2,   2328.0,2
           NA,     P15,     68,   1,      17,   12024,  2,20090301,0313, -20.4891, -170.0012,  5606,    277.4,    18.06,   35.555,2,  35.5492,2,    192.6,2,    190.8,2,     1.35,2,     3.94,2, -999.000,9,     0.35,2, -999.000,9, -999.000,9, -999.000,9,   2078.0,2,   2324.1,2
           NA,     P15,     68,   1,      16,   12001,  2,20090301,0313, -20.4891, -170.0012,  5606,    336.6,    16.10,   35.384,2,  35.3687,2,    192.8,2,    193.7,2,     2.04,2,     6.48,2, -999.000,9,     0.54,2, -999.000,9, -999.000,9, -999.000,9,   -999.0,9,   -999.0,9
           NA,     P15,     68,   1,      15,   12025,  2,20090301,0313, -20.4891, -170.0012,  5606,    447.5,    11.00,   34.739,2,  34.7343,2,    193.6,2,    192.9,2,     5.12,2,    15.60,2, -999.000,9,     1.15,2, -999.000,9, -999.000,9, -999.000,9,   -999.0,9,   -999.0,9
           NA,     P15,     68,   1,      14,   12041,  2,20090301,0313, -20.4891, -170.0012,  5606,    597.2,     7.22,   34.406,2,  34.4019,2,    225.5,2,    226.5,2,     7.92,2,    22.34,2, -999.000,9,     1.54,2, -999.000,9, -999.000,9, -999.000,9,   2142.9,2,   2279.1,2
           NA,     P15,     68,   1,      13,   12012,  2,20090301,0313, -20.4891, -170.0012,  5606,    680.1,     6.19,   34.342,2,  34.3423,2,    214.5,2,    216.5,2,    13.50,2,    25.86,2, -999.000,9,     1.78,2, -999.000,9, -999.000,9, -999.000,9,   -999.0,9,   -999.0,9
           NA,     P15,     68,   1,      12,   12022,  2,20090301,0313, -20.4891, -170.0012,  5606,    814.3,     5.24,   34.392,2,  34.3927,2,    165.5,2,    166.7,2,    34.78,2,    31.92,2, -999.000,9,     2.20,2, -999.000,9, -999.000,9, -999.000,9,   2207.7,2,   2295.9,2
           NA,     P15,     68,   1,      11,   12016,  2,20090301,0313, -20.4891, -170.0012,  5606,   1055.5,     3.91,   34.464,2,  34.4632,2,    153.5,2,    155.2,2,    61.82,2,    34.39,2, -999.000,9,     2.37,2, -999.000,9, -999.000,9, -999.000,9,   -999.0,9,   -999.0,9
           NA,     P15,     68,   1,      10,   12019,  2,20090301,0313, -20.4891, -170.0012,  5606,   1316.7,     3.01,   34.539,2,  34.5372,2,    149.9,2,    151.7,2,    85.20,2,    35.23,2, -999.000,9,     2.44,2, -999.000,9, -999.000,9, -999.000,9,   -999.0,9,   -999.0,9
           NA,     P15,     68,   1,       9,   12031,  2,20090301,0313, -20.4891, -170.0012,  5606,   1565.0,     2.58,   34.593,2,  34.5924,2,    144.8,2,    146.9,2,   102.70,2,    35.66,2, -999.000,9,     2.48,2, -999.000,9, -999.000,9, -999.000,9,   -999.0,9,   -999.0,9
           NA,     P15,     68,   1,       8,   12021,  2,20090301,0313, -20.4891, -170.0012,  5606,   1831.7,     2.37,   34.617,2,  34.6156,2,    143.3,2,    145.5,2,   111.76,2,    35.85,2, -999.000,9,     2.50,2, -999.000,9, -999.000,9, -999.000,9,   -999.0,9,   -999.0,9
           NA,     P15,     68,   1,       7,   12032,  2,20090301,0313, -20.4891, -170.0012,  5606,   2330.5,     2.03,   34.647,2,  34.6462,2,    144.2,2,    146.1,2,   123.79,2,    36.04,2, -999.000,9,     2.51,2, -999.000,9, -999.000,9, -999.000,9,   -999.0,9,   -999.0,9
           NA,     P15,     68,   1,       6,   12007,  2,20090301,0313, -20.4891, -170.0012,  5606,   2995.1,     1.78,   34.669,2,  34.6675,2,    148.0,2,    149.7,2,   133.06,2,    35.87,2, -999.000,9,     2.50,2, -999.000,9, -999.000,9, -999.000,9,   -999.0,9,   -999.0,9
           NA,     P15,     68,   1,       5,   12002,  2,20090301,0313, -20.4891, -170.0012,  5606,   3597.3,     1.57,   34.695,2,  34.6944,2,    171.0,2,    170.3,2,   125.47,2,    34.16,2, -999.000,9,     2.37,2, -999.000,9, -999.000,9, -999.000,9,   -999.0,9,   -999.0,9
           NA,     P15,     68,   1,       4,   12008,  2,20090301,0313, -20.4891, -170.0012,  5606,   4330.2,     1.17,   34.715,2,  34.7158,2,    204.2,2,    203.7,2,   116.27,2,    31.91,2, -999.000,9,     2.20,2, -999.000,9, -999.000,9, -999.000,9,   -999.0,9,   -999.0,9
           NA,     P15,     68,   1,       3,   12033,  2,20090301,0313, -20.4891, -170.0012,  5606,   4859.7,     1.06,   34.710,2,  34.7105,2,    208.1,2,    207.7,2,   120.40,2,    32.02,2, -999.000,9,     2.21,2, -999.000,9, -999.000,9, -999.000,9,   -999.0,9,   -999.0,9
           NA,     P15,     68,   1,       2,   12006,  2,20090301,0313, -20.4891, -170.0012,  5606,   4914.1,     1.06,   34.709,2,  34.7101,2,    208.3,2,    206.2,2,   120.84,2,    32.07,2, -999.000,9,     2.22,2, -999.000,9, -999.000,9, -999.000,9,   -999.0,9,   -999.0,9
           NA,     P15,     68,   1,       1,   12045,  2,20090301,0313, -20.4891, -170.0012,  5606,   5743.5,     1.13,   34.708,2,  34.7077,2,    209.8,2,    206.3,2,   121.67,2,    32.10,2, -999.000,9,     2.22,2, -999.000,9, -999.000,9, -999.000,9,   -999.0,9,   -999.0,9
           NA,     P15,     69,   1,      24,   12014,  2,20090301,1036, -20.0033, -170.0013,  5300,      3.1,    28.24,   34.948,2,  34.9453,2,    199.7,2,    197.9,2,     0.84,2,     0.00,2, -999.000,9,     0.01,2, -999.000,3, -999.000,3, -999.000,9,   1942.2,6,   2288.5,6
           NA,     P15,     69,   1,      23,   12046,  2,20090301,1036, -20.0033, -170.0013,  5300,     26.2,    28.13,   34.963,2,  34.9764,2,    201.3,2,    199.6,2,     0.84,2,     0.00,2, -999.000,9,     0.01,2, -999.000,3, -999.000,3, -999.000,9,   1945.1,2,   2290.3,2
           NA,     P15,     69,   1,      22,   12020,  2,20090301,1036, -20.0033, -170.0013,  5300,     57.3,    24.81,   35.298,2,  35.3076,2,    214.7,2,    211.8,2,     0.90,2,     0.00,2, -999.000,9,     0.04,2, -999.000,3, -999.000,3, -999.000,9,   1977.9,2,   2312.3,2
           NA,     P15,     69,   1,      21,   12003,  2,20090301,1036, -20.0033, -170.0013,  5300,     97.6,    23.29,   35.426,2,  35.4302,2,    207.8,2,    204.4,2,     0.85,2,     0.00,2, -999.000,9,     0.07,2, -999.000,3, -999.000,3, -999.000,9,   2001.5,2,   2313.8,2
           NA,     P15,     69,   1,      20,   12051,  2,20090301,1036, -20.0033, -170.0013,  5300,    157.4,    21.78,   35.553,2,  35.5616,2,    195.9,2,    191.8,2,     0.93,2,     1.06,2, -999.000,9,     0.16,2, -999.000,3, -999.000,3, -999.000,9,   2032.3,2,   2325.5,2
           NA,     P15,     69,   1,      19,   12010,  2,20090301,1036, -20.0033, -170.0013,  5300,    208.1,    20.58,   35.653,2,  35.6524,2,    180.9,2,    178.7,2,     1.10,2,     2.84,2, -999.000,9,     0.28,2, -999.000,3, -999.000,3, -999.000,9,   -999.0,4,   2332.7,2
           NA,     P15,     69,   1,      18,   12018,  2,20090301,1036, -20.0033, -170.0013,  5300,    276.6,    17.68,   35.413,2,  35.4016,2,    177.3,2,    175.9,2,     2.00,2,     6.04,2, -999.000,9,     0.55,2, -999.000,3, -999.000,3, -999.000,9,   2093.4,2,   2322.3,2
           NA,     P15,     69,   1,      17,   12024,  2,20090301,1036, -20.0033, -170.0013,  5300,    342.2,    15.17,   35.128,2,  35.1213,2,    180.7,2,    178.9,2,     3.15,2,     9.00,2, -999.000,9,     0.75,2, -999.000,9, -999.000,9, -999.000,9,   2104.7,2,   2306.6,2
           NA,     P15,     69,   1,      16,   12001,  2,20090301,1036, -20.0033, -170.0013,  5300,    416.2,    11.30,   34.721,2,  34.7256,2,    170.7,2,    169.0,2,     7.32,2,    16.94,2, -999.000,9,     1.28,2, -999.000,3, -999.000,3, -999.000,9,   2138.0,2,   2288.6,6
           NA,     P15,     69,   1,      15,   12025,  2,20090301,1036, -20.0033, -170.0013,  5300,    497.1,     9.23,   34.542,2,  34.5299,2,    170.9,2,    169.7,2,    11.11,2,    22.36,2, -999.000,9,     1.61,2, -999.000,3, -999.000,3, -999.000,9,   2157.9,2,   2281.4,2
           NA,     P15,     69,   1,      14,   12041,  2,20090301,1036, -20.0033, -170.0013,  5300,    596.4,     7.05,   34.409,2,  34.4063,2,    180.2,2,    180.2,2,    16.53,2,    26.94,2, -999.000,9,     1.87,2, -999.000,3, -999.000,3, -999.000,9,   2173.1,2,   2283.7,2
           NA,     P15,     69,   1,      13,   12012,  2,20090301,1036, -20.0033, -170.0013,  5300,    717.3,     5.54,   34.335,2,  34.3352,2,    199.7,2,    200.4,2,    21.16,2,    28.89,2, -999.000,9,     1.95,2, -999.000,3, -999.000,3, -999.000,9,   2175.6,2,   2286.2,2
           NA,     P15,     69,   1,      12,   12022,  2,20090301,1036, -20.0033, -170.0013,  5300,    897.3,     4.67,   34.418,2,  34.4173,2,    158.2,2,    158.8,2,    45.80,2,    33.50,2, -999.000,9,     2.29,2,    0.147,2,    0.080,2, -999.000,9,   2222.6,6,   2309.2,6
           NA,     P15,     69,   1,      11,   12016,  2,20090301,1036, -20.0033, -170.0013,  5300,   1147.8,     3.52,   34.492,2,  34.4950,2,    151.6,2,    152.4,2,    71.55,2,    35.13,2, -999.000,9,     2.40,2,    0.013,2,    0.008,2, -999.000,9,   2253.4,2,   2337.6,2
           NA,     P15,     69,   1,      10,   12019,  2,20090301,1036, -20.0033, -170.0013,  5300,   1397.8,     2.79,   34.564,2,  34.5665,2,    148.0,2,    148.7,2,    93.58,2,    35.79,2, -999.000,9,     2.45,2,    0.001,2,    0.003,2, -999.000,9,   2279.5,2,   2362.0,2
           NA,     P15,     69,   1,       9,   12031,  2,20090301,1036, -20.0033, -170.0013,  5300,   1697.9,     2.45,   34.607,2,  34.6099,2,    144.2,2,    145.7,2,   108.26,2,    35.93,2, -999.000,9,     2.48,2,    0.007,6,    0.007,6, -999.000,9,   2296.7,2,   2380.0,2
           NA,     P15,     69,   1,       8,   12021,  2,20090301,1036, -20.0033, -170.0013,  5300,   1997.0,     2.22,   34.629,2,  34.6290,2,    143.6,2,    144.9,2,   116.10,2,    35.88,2, -999.000,9,     2.48,2,    0.007,2,    0.004,2, -999.000,9,   2303.9,2,   2389.0,2
           NA,     P15,     69,   1,       7,   12032,  2,20090301,1036, -20.0033, -170.0013,  5300,   2495.9,     1.92,   34.656,2,  34.6565,2,    144.7,2,    145.5,2,   127.72,2,    36.11,2, -999.000,9,     2.50,2,    0.006,2,    0.008,2, -999.000,9,   2315.0,2,   2399.9,2
           NA,     P15,     69,   1,       6,   12007,  2,20090301,1036, -20.0033, -170.0013,  5300,   2997.4,     1.78,   34.668,2,  34.6694,2,    147.7,2,    147.9,2,   132.85,2,    35.92,2, -999.000,9,     2.48,2,    0.004,2,    0.003,2, -999.000,9,   2318.1,2,   2407.5,6
           NA,     P15,     69,   1,       5,   12002,  2,20090301,1036, -20.0033, -170.0013,  5300,   3496.5,     1.58,   34.685,2,-999.0000,9,    163.2,2,    162.5,2,   130.35,2,    34.94,2, -999.000,9,     2.41,2,    0.011,6,    0.005,6, -999.000,9,   2305.0,2,   2399.0,2
           NA,     P15,     69,   1,       4,   12008,  2,20090301,1036, -20.0033, -170.0013,  5300,   3998.3,     1.31,   34.716,2,  34.7168,2,    198.0,2,    197.7,2,   113.37,2,    31.98,2, -999.000,9,     2.20,2,    0.041,2,    0.022,2, -999.000,9,   2263.0,2,   2366.8,2
           NA,     P15,     69,   1,       3,   12033,  2,20090301,1036, -20.0033, -170.0013,  5300,   4487.4,     1.10,   34.712,2,  34.7111,2,    206.1,2,    204.3,2,   118.07,2,    32.01,2, -999.000,9,     2.20,2,    0.064,2,    0.031,2, -999.000,9,   2261.8,2,   2362.9,2
           NA,     P15,     69,   1,       2,   12006,  2,20090301,1036, -20.0033, -170.0013,  5300,   4999.5,     1.05,   34.708,2,  34.7087,2,    208.2,2,    205.7,2,   120.68,2,    32.06,2, -999.000,9,     2.20,2,    0.066,2,    0.033,2, -999.000,9,   2261.7,2,   2365.6,2
           NA,     P15,     69,   1,       1,   12045,  2,20090301,1036, -20.0033, -170.0013,  5300,   5408.0,     1.09,   34.707,2,  34.7079,2,    208.6,2,    206.0,2,   121.28,2,    32.18,2, -999.000,9,     2.20,2,    0.063,2,    0.033,2, -999.000,9,   2262.4,6,   2360.0,6