BOTTLE,20214902JOAExport
EXPOCODE,SECT_ID,STNNBR,CASTNO,SAMPNO,BTLNBR,BTLNBR_FLAG_W,DATE,TIME,LATITUDE,LONGITUDE,DEPTH,CTDPRS,CTDTMP,CTDSAL,CTDSAL_FLAG_W,SALNTY,SALNTY_FLAG_W,CTDOXY,CTDOXY_FLAG_W,OXYGEN,OXYGEN_FLAG_W,SILCAT,SILCAT_FLAG_W,NITRAT,NITRAT_FLAG_W,NITRIT,NITRIT_FLAG_W,PHSPHT,PHSPHT_FLAG_W,CFC-11,CFC-11_FLAG_W,CFC-12,CFC-12_FLAG_W,SF6,SF6_FLAG_W,TCARBN,TCARBN_FLAG_W,ALKALI,ALKALI_FLAG_W
,,,,,,,,,,,,DB,ITS-90,PSS-78,,PSS-78,,UMOL/KG,,UMOL/KG,,UMOL/KG,,UMOL/KG,,UMOL/KG,,UMOL/KG,,PMOL/KG,,PMOL/KG,,FMOL/KG,,UMOL/KG,,UMOL/KG
           NA,     P15,     98,   1,      24,   12014,  2,20090309,0537,  -8.9896, -168.8796,  4768,      2.9,    29.54,   35.617,2,-999.0000,9,    194.4,2,    195.4,2,     1.20,2,     0.01,2, -999.000,9,     0.21,2, -999.000,9, -999.000,9, -999.000,9,   1986.8,2,   2344.8,6
           NA,     P15,     98,   1,      23,   12046,  2,20090309,0537,  -8.9896, -168.8796,  4768,     15.1,    29.37,   35.614,2,  35.6147,2,    195.1,2,    196.2,2,     1.18,2,     0.02,2, -999.000,9,     0.21,2, -999.000,9, -999.000,9, -999.000,9,   -999.0,9,   -999.0,9
           NA,     P15,     98,   1,      22,   12020,  2,20090309,0537,  -8.9896, -168.8796,  4768,     38.8,    29.29,   35.628,2,-999.0000,9,    194.4,2,    196.1,2,     1.23,2,     0.15,2, -999.000,9,     0.22,2, -999.000,9, -999.000,9, -999.000,9,   1989.9,2,   2349.7,2
           NA,     P15,     98,   1,      21,   12003,  2,20090309,0537,  -8.9896, -168.8796,  4768,     60.5,    29.28,   35.640,2,-999.0000,9,    195.2,2,    195.8,2,     1.25,2,     0.17,2, -999.000,9,     0.22,2, -999.000,9, -999.000,9, -999.000,9,   -999.0,9,   -999.0,9
           NA,     P15,     98,   1,      20,   12051,  2,20090309,0537,  -8.9896, -168.8796,  4768,     79.8,    29.28,   35.655,2,-999.0000,9,    194.0,2,    195.3,2,     1.24,2,     0.21,2, -999.000,9,     0.22,2, -999.000,9, -999.000,9, -999.000,9,   -999.0,9,   -999.0,9
           NA,     P15,     98,   1,      19,   12010,  2,20090309,0537,  -8.9896, -168.8796,  4768,    129.9,    27.54,   36.184,2,  36.1911,2,    178.6,2,    175.6,2,     1.24,2,     1.38,2, -999.000,9,     0.32,2, -999.000,9, -999.000,9, -999.000,9,   2048.1,2,   2385.9,2
           NA,     P15,     98,   1,      18,   12035,  2,20090309,0537,  -8.9896, -168.8796,  4768,    179.9,    23.93,   36.248,2,  36.2412,2,    151.1,2,    151.6,2,     1.59,2,     5.80,2, -999.000,9,     0.61,2, -999.000,9, -999.000,9, -999.000,9,   -999.0,9,   -999.0,9
           NA,     P15,     98,   1,      17,   12024,  2,20090309,0537,  -8.9896, -168.8796,  4768,    207.2,    22.24,   36.063,2,  36.0560,2,    151.9,2,    152.0,2,     1.73,2,     6.54,2, -999.000,9,     0.66,2, -999.000,9, -999.000,9, -999.000,9,   2117.7,2,   2381.5,2
           NA,     P15,     98,   1,      16,   12001,  2,20090309,0537,  -8.9896, -168.8796,  4768,    247.6,    18.57,   35.537,2,  35.5401,2,    149.1,2,    150.0,2,     2.94,2,     8.82,2, -999.000,9,     0.84,2, -999.000,9, -999.000,9, -999.000,9,   2125.1,2,   2341.5,2
           NA,     P15,     98,   1,      15,   12025,  2,20090309,0537,  -8.9896, -168.8796,  4768,    276.4,    16.26,   35.280,2,  35.2664,2,    122.0,2,    122.8,2,     6.33,2,    14.08,2, -999.000,9,     1.22,2, -999.000,9, -999.000,9, -999.000,9,   2152.2,2,   2325.4,2
           NA,     P15,     98,   1,      14,   12041,  2,20090309,0537,  -8.9896, -168.8796,  4768,    316.4,    13.39,   34.991,2,  34.9915,2,     96.2,2,     95.8,2,    12.07,2,    20.79,2, -999.000,9,     1.66,2, -999.000,9, -999.000,9, -999.000,9,   -999.0,9,   -999.0,9
           NA,     P15,     98,   1,      13,   12012,  2,20090309,0537,  -8.9896, -168.8796,  4768,    447.0,     8.93,   34.663,2,  34.6600,2,    119.9,2,    122.7,2,    23.29,2,    28.18,2, -999.000,9,     1.98,2, -999.000,9, -999.000,9, -999.000,9,   2199.8,2,   2301.5,2
           NA,     P15,     98,   1,      12,   12022,  2,20090309,0537,  -8.9896, -168.8796,  4768,    588.6,     7.05,   34.559,2,  34.5580,2,    119.0,2,    119.3,2,    35.48,2,    32.49,2, -999.000,9,     2.25,2, -999.000,9, -999.000,9, -999.000,9,   -999.0,9,   -999.0,9
           NA,     P15,     98,   1,      11,   12016,  2,20090309,0537,  -8.9896, -168.8796,  4768,    715.1,     6.12,   34.526,2,  34.5299,2,    118.7,2,    119.3,2,    44.33,2,    34.29,2, -999.000,9,     2.37,2, -999.000,9, -999.000,9, -999.000,9,   2235.4,2,   2317.6,2
           NA,     P15,     98,   1,      10,   12019,  2,20090309,0537,  -8.9896, -168.8796,  4768,    898.4,     5.14,   34.518,2,  34.5205,2,    116.0,2,    117.0,2,    58.91,2,    36.20,2, -999.000,9,     2.50,2, -999.000,9, -999.000,9, -999.000,9,   -999.0,9,   -999.0,9
           NA,     P15,     98,   1,       9,   12031,  2,20090309,0537,  -8.9896, -168.8796,  4768,   1165.5,     3.86,   34.554,2,  34.5576,2,    109.6,2,    110.0,2,    87.63,2,    38.05,2, -999.000,9,     2.66,2, -999.000,9, -999.000,9, -999.000,9,   -999.0,9,   -999.0,9
           NA,     P15,     98,   1,       8,   12021,  2,20090309,0537,  -8.9896, -168.8796,  4768,   1428.6,     3.21,   34.581,2,  34.5798,2,    116.9,2,    117.4,2,   100.27,2,    37.78,2, -999.000,9,     2.64,2, -999.000,9, -999.000,9, -999.000,9,   -999.0,9,   -999.0,9
           NA,     P15,     98,   1,       7,   12032,  2,20090309,0537,  -8.9896, -168.8796,  4768,   1931.2,     2.35,   34.629,2,  34.6345,2,    129.0,2,    130.2,2,   120.74,2,    37.22,2, -999.000,9,     2.58,2, -999.000,9, -999.000,9, -999.000,9,   -999.0,9,   -999.0,9
           NA,     P15,     98,   1,       6,   12007,  2,20090309,0537,  -8.9896, -168.8796,  4768,   2431.0,     1.91,   34.660,2,  34.6598,2,    138.1,2,    139.3,2,   132.00,2,    36.61,2, -999.000,9,     2.53,2, -999.000,9, -999.000,9, -999.000,9,   -999.0,9,   -999.0,9
           NA,     P15,     98,   1,       5,   12002,  2,20090309,0537,  -8.9896, -168.8796,  4768,   2948.8,     1.68,   34.677,2,  34.6757,2,    149.3,2,    150.4,2,   133.89,2,    35.96,2, -999.000,9,     2.47,2, -999.000,9, -999.000,9, -999.000,9,   -999.0,9,   -999.0,9
           NA,     P15,     98,   1,       4,   12008,  2,20090309,0537,  -8.9896, -168.8796,  4768,   3471.7,     1.56,   34.685,2,  34.6889,2,    157.5,2,   -999.0,9,   135.41,2,    35.47,2, -999.000,9,     2.43,2, -999.000,9, -999.000,9, -999.000,9,   -999.0,9,   -999.0,9
           NA,     P15,     98,   1,       3,   12033,  2,20090309,0537,  -8.9896, -168.8796,  4768,   3915.9,     1.46,   34.692,2,  34.6975,2,    166.4,2,    166.5,2,   134.17,2,    34.91,2, -999.000,9,     2.39,2, -999.000,9, -999.000,9, -999.000,9,   -999.0,9,   -999.0,9
           NA,     P15,     98,   1,       2,   12006,  2,20090309,0537,  -8.9896, -168.8796,  4768,   4321.2,     1.33,   34.702,2,  34.7024,2,    185.0,2,    184.5,2,   128.20,2,    33.56,2, -999.000,9,     2.30,2, -999.000,9, -999.000,9, -999.000,9,   -999.0,9,   -999.0,9
           NA,     P15,     98,   1,       1,   12045,  2,20090309,0537,  -8.9896, -168.8796,  4768,   4881.1,     1.07,   34.710,2,  34.7087,2,    205.8,2,    205.8,2,   121.49,2,    32.03,2, -999.000,9,     2.20,2, -999.000,9, -999.000,9, -999.000,9,   -999.0,9,   -999.0,9
           NA,     P15,     99,   1,      24,   12014,  2,20090309,1210,  -8.4932, -168.7632,  5172,      2.3,    29.42,   35.654,2,-999.0000,9,    194.7,2,    195.5,2,     1.18,2,     0.05,2, -999.000,9,     0.21,2,    1.494,2,    0.950,2, -999.000,9,   1990.1,6,   2350.5,6
           NA,     P15,     99,   1,      23,   12046,  2,20090309,1210,  -8.4932, -168.7632,  5172,     22.0,    29.39,   35.651,2,  35.6512,2,    194.2,2,    195.6,2,     1.17,2,     0.04,2, -999.000,9,     0.22,2,    1.517,6,    0.957,6, -999.000,9,   1990.4,2,   2348.6,2
           NA,     P15,     99,   1,      22,   12020,  2,20090309,1210,  -8.4932, -168.7632,  5172,     48.5,    29.24,   35.648,2,-999.0000,9,    194.7,2,    195.8,2,     1.16,2,     0.05,2, -999.000,9,     0.21,2,    1.510,2,    0.955,2, -999.000,9,   1990.2,2,   2351.0,2
           NA,     P15,     99,   1,      21,   12003,  2,20090309,1210,  -8.4932, -168.7632,  5172,    108.4,    28.63,   35.726,2,  35.7434,2,    189.1,2,    188.3,2,     1.40,2,     1.97,2, -999.000,9,     0.38,2,    1.573,2,    0.990,2, -999.000,9,   2016.8,2,   2356.5,2
           NA,     P15,     99,   1,      19,   12010,  2,20090309,1210,  -8.4932, -168.7632,  5172,    167.9,    24.66,   36.282,2,  36.2808,2,    152.0,2,    152.5,2,     1.55,2,     5.50,2, -999.000,9,     0.58,2,    1.869,2,    1.158,2, -999.000,9,   2102.5,2,   2388.3,2
           NA,     P15,     99,   1,      20,   12051,  2,20090309,1210,  -8.4932, -168.7632,  5172,    171.2,    24.52,   36.282,2,  36.2810,2,    151.9,2,    152.2,2,     1.54,2,     5.48,2, -999.000,9,     0.57,2,    1.868,2,    1.154,2, -999.000,9,   2103.0,2,   2386.7,2
           NA,     P15,     99,   1,      18,   12035,  2,20090309,1210,  -8.4932, -168.7632,  5172,    199.2,    21.77,   35.998,2,-999.0000,9,    149.6,2,    149.8,2,     1.90,2,     7.23,2, -999.000,9,     0.69,2,    2.065,2,    1.246,2, -999.000,9,   2119.2,2,   2371.6,2
           NA,     P15,     99,   1,      17,   12024,  2,20090309,1210,  -8.4932, -168.7632,  5172,    250.3,    18.28,   35.509,2,  35.4987,2,    134.6,2,    134.6,2,     4.15,2,    11.24,2, -999.000,9,     1.00,2,    2.183,2,    1.255,2, -999.000,9,   2138.8,2,   2336.5,2
           NA,     P15,     99,   1,      16,   12001,  2,20090309,1210,  -8.4932, -168.7632,  5172,    302.6,    13.99,   35.037,2,-999.0000,9,    101.5,2,    101.5,2,    10.59,2,    18.97,2, -999.000,9,     1.54,2,    1.638,2,    0.915,2, -999.000,9,   2175.8,2,   2313.6,6
           NA,     P15,     99,   1,      15,   12025,  2,20090309,1210,  -8.4932, -168.7632,  5172,    349.7,    11.55,   34.843,2,  34.8383,2,     84.3,2,     83.3,2,    18.26,2,    26.10,2, -999.000,9,     1.95,2,    1.002,2,    0.556,2, -999.000,9,   2204.2,2,   2305.9,2
           NA,     P15,     99,   1,      14,   12041,  2,20090309,1210,  -8.4932, -168.7632,  5172,    420.0,     9.27,   34.693,2,-999.0000,9,     99.1,2,     98.7,2,    24.83,2,    29.69,2, -999.000,9,     2.09,2,    0.559,2,    0.309,2, -999.000,9,   2212.4,2,   2305.6,2
           NA,     P15,     99,   1,      13,   12012,  2,20090309,1210,  -8.4932, -168.7632,  5172,    501.9,     7.86,   34.603,2,  34.6044,2,    110.3,2,    109.9,2,    30.94,2,    31.78,2, -999.000,9,     2.19,2,    0.389,2,    0.215,2, -999.000,9,   2217.6,2,   2305.9,2
           NA,     P15,     99,   1,      12,   12022,  2,20090309,1210,  -8.4932, -168.7632,  5172,    648.5,     6.63,   34.547,2,  34.5461,2,    109.2,2,    109.0,2,    41.55,2,    34.54,2, -999.000,9,     2.38,2,    0.188,2,    0.105,2, -999.000,9,   2234.7,6,   2315.5,6
           NA,     P15,     99,   1,      11,   12016,  2,20090309,1210,  -8.4932, -168.7632,  5172,    796.4,     5.70,   34.524,2,  34.5243,2,    110.5,2,    110.5,2,    52.31,2,    36.03,2, -999.000,9,     2.51,2,    0.085,2,    0.049,2, -999.000,9,   2248.4,2,   2320.5,2
           NA,     P15,     99,   1,      10,   12019,  2,20090309,1210,  -8.4932, -168.7632,  5172,   1096.1,     4.18,   34.543,2,  34.5417,2,    108.9,2,    109.6,2,    79.76,2,    38.30,2, -999.000,9,     2.67,2,    0.012,2,    0.005,2, -999.000,9,   2283.6,2,   2348.5,2
           NA,     P15,     99,   1,       9,   12031,  2,20090309,1210,  -8.4932, -168.7632,  5172,   1397.4,     3.34,   34.574,2,  34.5741,2,    116.1,2,    116.4,2,    98.96,2,    38.00,2, -999.000,9,     2.68,2,    0.003,2,    0.001,2, -999.000,9,   2299.2,2,   2369.4,2
           NA,     P15,     99,   1,       8,   12021,  2,20090309,1210,  -8.4932, -168.7632,  5172,   1898.5,     2.30,   34.632,2,  34.6301,2,    130.6,2,    131.7,2,   123.13,2,    37.22,2, -999.000,9,     2.59,2,    0.001,2,   -0.002,2, -999.000,9,   2317.0,2,   2397.8,2
           NA,     P15,     99,   1,       7,   12032,  2,20090309,1210,  -8.4932, -168.7632,  5172,   2398.0,     1.94,   34.658,2,  34.6574,2,    133.8,2,    134.2,2,   136.23,2,    37.18,2, -999.000,9,     2.59,2,    0.002,6,   -0.002,6, -999.000,9,   2328.1,2,   2411.2,2
           NA,     P15,     99,   1,       6,   12007,  2,20090309,1210,  -8.4932, -168.7632,  5172,   2999.3,     1.69,   34.677,2,  34.6783,2,    148.3,2,    148.7,2,   138.40,2,    36.32,2, -999.000,9,     2.50,2,    0.001,2,   -0.002,2, -999.000,9,   2319.7,2,   2414.8,6
           NA,     P15,     99,   1,       5,   12002,  2,20090309,1210,  -8.4932, -168.7632,  5172,   3497.1,     1.54,   34.686,2,  34.6853,2,    160.8,2,    160.8,2,   134.98,2,    35.30,2, -999.000,9,     2.43,2,    0.004,2,    0.000,2, -999.000,9,   2312.5,2,   2408.9,2
           NA,     P15,     99,   1,       4,   12008,  2,20090309,1210,  -8.4932, -168.7632,  5172,   3996.8,     1.43,   34.694,2,  34.6934,2,    169.0,2,   -999.0,9,   136.84,2,    35.00,2, -999.000,9,     2.39,2,    0.006,2,    0.003,2, -999.000,9,   2307.2,2,   2409.1,2
           NA,     P15,     99,   1,       3,   12033,  2,20090309,1210,  -8.4932, -168.7632,  5172,   4495.5,     1.11,   34.709,2,  34.7133,2,    201.5,2,    200.9,2,   122.31,2,    32.50,2, -999.000,9,     2.22,2, -999.000,9, -999.000,9, -999.000,9,   2268.0,2,   2371.8,2
           NA,     P15,     99,   1,       1,   12045,  2,20090309,1210,  -8.4932, -168.7632,  5172,   5267.7,     1.13,   34.710,2,  34.7125,2,    206.6,2,    205.0,2,   122.69,2,    32.23,2, -999.000,9,     2.22,2,    0.042,6,    0.023,6, -999.000,9,   2262.8,6,   2366.0,6