BOTTLE,20214902JOAExport
EXPOCODE,SECT_ID,STNNBR,CASTNO,SAMPNO,BTLNBR,BTLNBR_FLAG_W,DATE,TIME,LATITUDE,LONGITUDE,DEPTH,CTDPRS,CTDTMP,CTDSAL,CTDSAL_FLAG_W,SALNTY,SALNTY_FLAG_W,CTDOXY,CTDOXY_FLAG_W,OXYGEN,OXYGEN_FLAG_W,SILCAT,SILCAT_FLAG_W,NITRAT,NITRAT_FLAG_W,NITRIT,NITRIT_FLAG_W,PHSPHT,PHSPHT_FLAG_W,CFC-11,CFC-11_FLAG_W,CFC-12,CFC-12_FLAG_W,SF6,SF6_FLAG_W,TCARBN,TCARBN_FLAG_W,ALKALI,ALKALI_FLAG_W
,,,,,,,,,,,,DB,ITS-90,PSS-78,,PSS-78,,UMOL/KG,,UMOL/KG,,UMOL/KG,,UMOL/KG,,UMOL/KG,,UMOL/KG,,PMOL/KG,,PMOL/KG,,FMOL/KG,,UMOL/KG,,UMOL/KG
           NA,     P15,     78,   1,      24,   12014,  2,20090303,2211, -15.5024, -170.0246,  5070,      2.3,    29.64,   35.668,2,  35.6628,2,    194.1,2,   -999.0,9,     1.03,2,     0.02,2, -999.000,9,     0.13,2, -999.000,9, -999.000,9, -999.000,9,   1985.2,6,   2349.0,2
           NA,     P15,     78,   1,      23,   12046,  2,20090303,2211, -15.5024, -170.0246,  5070,     21.8,    29.41,   35.664,2,-999.0000,9,    194.2,2,   -999.0,9,     1.02,2,     0.00,2, -999.000,9,     0.12,2, -999.000,9, -999.000,9, -999.000,9,   -999.0,9,   -999.0,9
           NA,     P15,     78,   1,      22,   12020,  2,20090303,2211, -15.5024, -170.0246,  5070,     46.8,    28.50,   35.815,2,-999.0000,9,    204.1,2,   -999.0,9,     0.99,2,     0.01,2, -999.000,9,     0.12,2, -999.000,9, -999.000,9, -999.000,9,   1996.2,2,   2357.5,2
           NA,     P15,     78,   1,      21,   12003,  2,20090303,2211, -15.5024, -170.0246,  5070,     72.6,    27.77,   35.986,2,  35.9906,2,    207.8,2,   -999.0,9,     0.98,2,     0.01,2, -999.000,9,     0.13,2, -999.000,9, -999.000,9, -999.000,9,   2004.5,2,   2365.6,2
           NA,     P15,     78,   1,      20,   12051,  2,20090303,2211, -15.5024, -170.0246,  5070,     98.0,    27.23,   36.078,2,-999.0000,9,    205.9,2,   -999.0,9,     1.00,2,  -999.00,9, -999.000,9,     0.14,2, -999.000,9, -999.000,9, -999.000,9,   -999.0,9,   -999.0,9
           NA,     P15,     78,   1,      19,   12010,  2,20090303,2211, -15.5024, -170.0246,  5070,    147.0,    25.87,   36.237,2,  36.2259,2,    185.4,2,   -999.0,9,     1.03,2,     0.20,2, -999.000,9,     0.22,2, -999.000,9, -999.000,9, -999.000,9,   2053.4,2,   2381.7,2
           NA,     P15,     78,   1,      18,   12018,  2,20090303,2211, -15.5024, -170.0246,  5070,    197.4,    23.34,   36.221,2,-999.0000,9,    167.8,2,    166.8,2,     1.10,2,     3.21,2, -999.000,9,     0.42,2, -999.000,9, -999.000,9, -999.000,9,   2097.8,2,   2388.1,2
           NA,     P15,     78,   1,      17,   12024,  2,20090303,2211, -15.5024, -170.0246,  5070,    247.7,    20.82,   35.837,2,  35.8301,2,    168.9,2,    167.8,2,     1.36,2,     4.49,2, -999.000,9,     0.49,2, -999.000,9, -999.000,9, -999.000,9,   -999.0,9,   -999.0,9
           NA,     P15,     78,   1,      16,   12001,  2,20090303,2211, -15.5024, -170.0246,  5070,    297.0,    18.42,   35.493,2,-999.0000,9,    167.1,2,    166.1,2,     2.20,2,     6.78,2, -999.000,9,     0.65,2, -999.000,9, -999.000,9, -999.000,9,   -999.0,9,   -999.0,9
           NA,     P15,     78,   1,      15,   12025,  2,20090303,2211, -15.5024, -170.0246,  5070,    346.9,    14.79,   35.051,2,  35.0439,2,    150.5,2,    149.6,2,     5.64,2,    12.78,2, -999.000,9,     1.06,2, -999.000,9, -999.000,9, -999.000,9,   -999.0,9,   -999.0,9
           NA,     P15,     78,   1,      14,   12041,  2,20090303,2211, -15.5024, -170.0246,  5070,    452.1,     9.91,   34.635,2,  34.6284,2,    129.3,2,    128.6,2,    16.58,2,    24.75,2, -999.000,9,     1.84,2, -999.000,9, -999.000,9, -999.000,9,   2185.2,2,   2292.0,2
           NA,     P15,     78,   1,      13,   12012,  2,20090303,2211, -15.5024, -170.0246,  5070,    497.7,     8.47,   34.553,2,-999.0000,9,    141.5,2,    140.2,2,    20.05,2,    26.90,2, -999.000,9,     1.93,2, -999.000,9, -999.000,9, -999.000,9,   2188.7,2,   2300.9,2
           NA,     P15,     78,   1,      12,   12022,  2,20090303,2211, -15.5024, -170.0246,  5070,    647.9,     6.25,   34.438,2,  34.4359,2,    163.7,2,    164.3,2,    28.08,2,    29.99,2, -999.000,9,     2.08,2, -999.000,9, -999.000,9, -999.000,9,   -999.0,9,   -999.0,9
           NA,     P15,     78,   1,      11,   12016,  2,20090303,2211, -15.5024, -170.0246,  5070,    796.6,     5.03,   34.449,2,  34.4489,2,    154.6,2,    155.4,2,    46.09,2,    33.01,2, -999.000,9,     2.29,2, -999.000,9, -999.000,9, -999.000,9,   -999.0,9,   -999.0,9
           NA,     P15,     78,   1,      10,   12019,  2,20090303,2211, -15.5024, -170.0246,  5070,   1097.3,     3.87,   34.521,2,  34.5199,2,    135.9,2,    136.3,2,    74.71,2,    35.81,2, -999.000,9,     2.49,2, -999.000,9, -999.000,9, -999.000,9,   -999.0,9,   -999.0,9
           NA,     P15,     78,   1,       9,   12031,  2,20090303,2211, -15.5024, -170.0246,  5070,   1397.2,     3.08,   34.567,2,  34.5657,2,    136.6,2,    137.8,2,    93.39,2,    36.44,2, -999.000,9,     2.53,2, -999.000,9, -999.000,9, -999.000,9,   -999.0,9,   -999.0,9
           NA,     P15,     78,   1,       8,   12021,  2,20090303,2211, -15.5024, -170.0246,  5070,   1897.0,     2.29,   34.623,2,  34.6221,2,    144.6,2,    145.9,2,   112.71,2,    36.04,2, -999.000,9,     2.49,2, -999.000,9, -999.000,9, -999.000,9,   -999.0,9,   -999.0,9
           NA,     P15,     78,   1,       7,   12032,  2,20090303,2211, -15.5024, -170.0246,  5070,   2398.4,     1.95,   34.653,2,-999.0000,9,    147.7,2,    148.8,2,   123.69,2,    35.86,2, -999.000,9,     2.48,2, -999.000,9, -999.000,9, -999.000,9,   -999.0,9,   -999.0,9
           NA,     P15,     78,   1,       6,   12007,  2,20090303,2211, -15.5024, -170.0246,  5070,   2998.8,     1.72,   34.672,2,  34.6710,2,    153.1,2,    153.4,2,   130.70,2,    35.67,2, -999.000,9,     2.46,2, -999.000,9, -999.000,9, -999.000,9,   -999.0,9,   -999.0,9
           NA,     P15,     78,   1,       5,   12002,  2,20090303,2211, -15.5024, -170.0246,  5070,   3498.3,     1.58,   34.683,2,  34.6826,2,    162.6,2,    161.9,2,   131.13,2,    35.14,2, -999.000,9,     2.41,2, -999.000,9, -999.000,9, -999.000,9,   -999.0,9,   -999.0,9
           NA,     P15,     78,   1,       4,   12008,  2,20090303,2211, -15.5024, -170.0246,  5070,   3998.0,     1.42,   34.704,2,  34.7040,2,    185.3,2,    184.0,2,   120.40,2,    33.24,2, -999.000,9,     2.28,2, -999.000,9, -999.000,9, -999.000,9,   -999.0,9,   -999.0,9
           NA,     P15,     78,   1,       3,   12033,  2,20090303,2211, -15.5024, -170.0246,  5070,   4498.8,     1.10,   34.711,2,  34.7103,2,    205.1,2,    201.9,2,   118.59,2,    32.23,2, -999.000,9,     2.19,2, -999.000,9, -999.000,9, -999.000,9,   -999.0,9,   -999.0,9
           NA,     P15,     78,   1,       2,   12006,  2,20090303,2211, -15.5024, -170.0246,  5070,   4847.3,     1.07,   34.709,2,  34.7085,2,    206.8,2,    205.3,2,   119.79,2,    32.15,2, -999.000,9,     2.19,2, -999.000,9, -999.000,9, -999.000,9,   -999.0,9,   -999.0,9
           NA,     P15,     78,   1,       1,   12045,  2,20090303,2211, -15.5024, -170.0246,  5070,   5161.6,     1.09,   34.708,2,  34.7075,2,    207.6,2,    205.6,2,   120.13,2,    32.13,2, -999.000,9,     2.20,2, -999.000,9, -999.000,9, -999.000,9,   -999.0,9,   -999.0,9
           NA,     P15,     79,   1,      24,   12014,  2,20090304,0459, -15.0011, -170.0071,  4800,      1.9,    29.74,   35.703,2,  35.7009,2,    193.2,2,    193.3,2,     1.18,2,     0.01,2, -999.000,9,     0.17,2,    1.624,2,    1.005,2, -999.000,9,   1985.6,6,   2350.4,6
           NA,     P15,     79,   1,      23,   12046,  2,20090304,0459, -15.0011, -170.0071,  4800,     30.5,    29.63,   35.691,2,-999.0000,9,    194.4,2,    193.3,2,     1.17,2,     0.01,2, -999.000,9,     0.16,2,    1.602,6,    1.018,6, -999.000,9,   1984.5,2,   2346.5,2
           NA,     P15,     79,   1,      22,   12020,  2,20090304,0459, -15.0011, -170.0071,  4800,     55.8,    29.12,   35.868,2,  35.8609,2,    200.4,2,    199.5,2,     1.07,2,     0.00,2, -999.000,9,     0.14,2,    1.697,2,    1.021,2, -999.000,9,   1995.2,2,   2359.8,2
           NA,     P15,     79,   1,      21,   12003,  2,20090304,0459, -15.0011, -170.0071,  4800,     80.3,    27.96,   36.031,2,-999.0000,9,    204.3,2,    204.3,2,     1.04,2,     0.00,2, -999.000,9,     0.15,2,    1.792,2,    1.089,2, -999.000,9,   2008.9,2,   2370.5,2
           NA,     P15,     79,   1,      20,   12051,  2,20090304,0459, -15.0011, -170.0071,  4800,    110.1,    26.56,   35.832,2,-999.0000,9,    207.4,2,    206.4,2,     0.97,2,     0.00,2, -999.000,9,     0.11,2, -999.000,4,    1.150,2, -999.000,9,   2002.0,2,   2357.5,2
           NA,     P15,     79,   1,      19,   12010,  2,20090304,0459, -15.0011, -170.0071,  4800,    163.7,    25.14,   36.152,2,  36.1444,2,    180.6,2,    178.5,2,     1.04,2,     0.96,2, -999.000,9,     0.27,2,    1.976,2,    1.170,2, -999.000,9,   2059.4,2,   2376.0,2
           NA,     P15,     79,   1,      18,   12018,  2,20090304,0459, -15.0011, -170.0071,  4800,    214.1,    22.62,   36.061,2,  36.0588,2,    166.4,2,    165.5,2,     1.13,2,     3.26,2, -999.000,9,     0.42,2,    2.217,2,    1.302,2, -999.000,9,   2091.7,2,   2370.9,2
           NA,     P15,     79,   1,      17,   12024,  2,20090304,0459, -15.0011, -170.0071,  4800,    264.8,    19.68,   35.674,2,  35.6741,2,    167.7,2,    167.3,2,     1.72,2,     5.56,2, -999.000,9,     0.58,2,    2.447,2,    1.359,2, -999.000,9,   2103.9,2,   2346.9,2
           NA,     P15,     79,   1,      16,   12001,  2,20090304,0459, -15.0011, -170.0071,  4800,    313.8,    16.77,   35.275,2,  35.2706,2,    161.1,2,    160.1,2,     3.39,2,     9.03,2, -999.000,9,     0.82,2,    2.477,2,    1.311,2, -999.000,9,   2116.4,2,   2321.2,6
           NA,     P15,     79,   1,      15,   12025,  2,20090304,0459, -15.0011, -170.0071,  4800,    367.3,    13.23,   34.900,2,  34.8867,2,    136.0,2,    135.0,2,     8.71,2,    16.76,2, -999.000,9,     1.37,2,    1.969,2,    1.042,2, -999.000,9,   2152.2,2,   2303.5,2
           NA,     P15,     79,   1,      14,   12041,  2,20090304,0459, -15.0011, -170.0071,  4800,    442.2,     9.88,   34.642,2,-999.0000,9,    129.3,2,    127.9,2,    16.21,2,    24.27,2, -999.000,9,     1.82,2,    1.093,6,    0.580,6, -999.000,9,   2182.5,2,   2293.1,2
           NA,     P15,     79,   1,      13,   12012,  2,20090304,0459, -15.0011, -170.0071,  4800,    517.1,     7.99,   34.526,2,  34.5225,2,    147.2,2,    146.1,2,    21.18,2,    27.48,2, -999.000,9,     1.96,2,    0.756,2,    0.386,2, -999.000,9,   2188.3,2,   2292.4,2
           NA,     P15,     79,   1,      12,   12022,  2,20090304,0459, -15.0011, -170.0071,  4800,    648.3,     6.08,   34.439,2,  34.4389,2,    163.2,2,    162.0,2,    30.90,2,    30.28,2, -999.000,9,     2.10,2,    0.450,2,    0.243,2, -999.000,9,   2200.2,6,   2299.6,6
           NA,     P15,     79,   1,      11,   12016,  2,20090304,0459, -15.0011, -170.0071,  4800,    772.5,     5.20,   34.465,2,  34.4648,2,    150.9,2,    151.1,2,    46.75,2,    32.89,2, -999.000,9,     2.28,2,    0.208,2,    0.106,2, -999.000,9,   2224.7,2,   2317.2,2
           NA,     P15,     79,   1,      10,   12019,  2,20090304,0459, -15.0011, -170.0071,  4800,    896.8,     4.51,   34.481,2,  34.4813,2,    147.0,2,    147.6,2,    59.01,2,    34.04,2, -999.000,9,     2.37,2,    0.113,2,    0.060,2, -999.000,9,   2241.3,2,   2327.5,2
           NA,     P15,     79,   1,       9,   12031,  2,20090304,0459, -15.0011, -170.0071,  4800,   1198.2,     3.54,   34.540,2,  34.5394,2,    135.5,2,    135.2,2,    83.20,2,    36.09,2, -999.000,9,     2.51,2,    0.000,2,    0.006,2, -999.000,9,   2273.6,2,   2356.2,2
           NA,     P15,     79,   1,       8,   12021,  2,20090304,0459, -15.0011, -170.0071,  4800,   1530.1,     2.77,   34.587,2,  34.5871,2,    139.3,2,    140.1,2,   100.90,2,    36.15,2, -999.000,9,     2.52,2,    0.003,2,    0.004,2, -999.000,9,   2290.0,2,   2369.6,2
           NA,     P15,     79,   1,       7,   12032,  2,20090304,0459, -15.0011, -170.0071,  4800,   2064.9,     2.12,   34.637,2,-999.0000,9,    146.7,2,    148.0,2,   117.97,2,    35.78,2, -999.000,9,     2.49,2,    0.005,2,    0.002,2, -999.000,9,   2304.1,2,   2390.2,2
           NA,     P15,     79,   1,       6,   12007,  2,20090304,0459, -15.0011, -170.0071,  4800,   2580.7,     1.86,   34.661,2,  34.6608,2,    148.9,2,    149.9,2,   127.73,2,    35.79,2, -999.000,9,     2.48,2,    0.002,6,   -0.001,6, -999.000,9,   2313.2,2,   2402.4,6
           NA,     P15,     79,   1,       5,   12002,  2,20090304,0459, -15.0011, -170.0071,  4800,   3181.1,     1.66,   34.677,2,  34.6777,2,    156.5,2,    155.9,2,   131.61,2,    35.29,2, -999.000,9,     2.45,2,    0.001,2,    0.002,2, -999.000,9,   2311.6,2,   2400.1,2
           NA,     P15,     79,   1,       4,   12008,  2,20090304,0459, -15.0011, -170.0071,  4800,   3665.2,     1.52,   34.688,2,  34.6875,2,    167.9,2,    167.4,2,   130.25,2,    34.70,2, -999.000,9,     2.39,2,    0.015,2,    0.004,2, -999.000,9,   2302.1,2,   2395.8,2
           NA,     P15,     79,   1,       2,   12006,  2,20090304,0459, -15.0011, -170.0071,  4800,   4638.9,     1.06,   34.710,2,  34.7089,2,    206.2,2,    205.4,2,   120.15,2,    32.11,2, -999.000,9,     2.20,2,    0.065,2,    0.032,2, -999.000,9,   2261.7,2,   2367.5,2
           NA,     P15,     79,   1,       1,   12045,  2,20090304,0459, -15.0011, -170.0071,  4800,   4887.7,     1.07,   34.709,2,  34.7095,2,    206.6,2,    203.0,2,   120.62,2,    32.12,2, -999.000,9,     2.21,2,    0.065,2,    0.035,2, -999.000,9,   2261.7,6,   2361.5,6