BOTTLE,20214902JOAExport
EXPOCODE,SECT_ID,STNNBR,CASTNO,SAMPNO,BTLNBR,BTLNBR_FLAG_W,DATE,TIME,LATITUDE,LONGITUDE,DEPTH,CTDPRS,CTDTMP,CTDSAL,CTDSAL_FLAG_W,SALNTY,SALNTY_FLAG_W,CTDOXY,CTDOXY_FLAG_W,OXYGEN,OXYGEN_FLAG_W,SILCAT,SILCAT_FLAG_W,NITRAT,NITRAT_FLAG_W,NITRIT,NITRIT_FLAG_W,PHSPHT,PHSPHT_FLAG_W,CFC-11,CFC-11_FLAG_W,CFC-12,CFC-12_FLAG_W,SF6,SF6_FLAG_W,TCARBN,TCARBN_FLAG_W,ALKALI,ALKALI_FLAG_W
,,,,,,,,,,,,DB,ITS-90,PSS-78,,PSS-78,,UMOL/KG,,UMOL/KG,,UMOL/KG,,UMOL/KG,,UMOL/KG,,UMOL/KG,,PMOL/KG,,PMOL/KG,,FMOL/KG,,UMOL/KG,,UMOL/KG
           NA,     P15,     76,   1,      24,   12014,  2,20090303,0845, -16.4890, -170.0117,  5036,      3.2,    29.13,   35.484,2,  35.4827,2,    194.6,2,    194.3,2,     0.87,2,     0.00,2, -999.000,9,     0.08,2, -999.000,9, -999.000,9, -999.000,9,   1977.4,6,   2332.3,6
           NA,     P15,     76,   1,      23,   12046,  2,20090303,0845, -16.4890, -170.0117,  5036,     30.3,    29.07,   35.500,2,  35.5007,2,    195.0,2,    194.6,2,     0.87,2,     0.00,2, -999.000,9,     0.08,2, -999.000,9, -999.000,9, -999.000,9,   1978.3,2,   2330.6,2
           NA,     P15,     76,   1,      22,   12020,  2,20090303,0845, -16.4890, -170.0117,  5036,     55.4,    27.75,   35.377,2,-999.0000,9,    207.6,2,    205.0,2,     0.83,2,     0.00,2, -999.000,9,     0.04,2, -999.000,9, -999.000,9, -999.000,9,   -999.0,9,   -999.0,9
           NA,     P15,     76,   1,      21,   12003,  2,20090303,0845, -16.4890, -170.0117,  5036,     79.7,    27.33,   35.828,2,-999.0000,9,    208.3,2,    207.7,2,     0.91,2,     0.00,2, -999.000,9,     0.11,2, -999.000,9, -999.000,9, -999.000,9,   -999.0,9,   -999.0,9
           NA,     P15,     76,   1,      20,   12051,  2,20090303,0845, -16.4890, -170.0117,  5036,    110.5,    26.11,   35.844,2,-999.0000,9,    208.8,2,    207.9,2,     0.88,2,     0.00,2, -999.000,9,     0.11,2, -999.000,9, -999.000,9, -999.000,9,   2005.0,2,   2354.5,2
           NA,     P15,     76,   1,      19,   12010,  2,20090303,0845, -16.4890, -170.0117,  5036,    176.9,    23.76,   36.098,2,  36.0910,2,    170.8,2,    169.8,2,     0.97,2,     1.36,2, -999.000,9,     0.31,2, -999.000,9, -999.000,9, -999.000,9,   -999.0,9,   -999.0,9
           NA,     P15,     76,   1,      18,   12018,  2,20090303,0845, -16.4890, -170.0117,  5036,    206.3,    21.95,   35.877,2,-999.0000,9,    169.0,2,    168.2,2,     1.07,2,     3.10,2, -999.000,9,     0.38,2, -999.000,9, -999.000,9, -999.000,9,   2084.3,2,   2353.3,2
           NA,     P15,     76,   1,      17,   12024,  2,20090303,0845, -16.4890, -170.0117,  5036,    247.0,    20.22,   35.692,2,  35.6883,2,    174.2,2,    172.9,2,     1.23,2,     3.88,2, -999.000,9,     0.41,2, -999.000,9, -999.000,9, -999.000,9,   2087.4,2,   2345.6,2
           NA,     P15,     76,   1,      16,   12001,  2,20090303,0845, -16.4890, -170.0117,  5036,    287.7,    18.16,   35.462,2,  35.4573,2,    168.8,2,    167.2,2,     2.12,2,     6.67,2, -999.000,9,     0.62,2, -999.000,9, -999.000,9, -999.000,9,   -999.0,9,   -999.0,9
           NA,     P15,     76,   1,      15,   12025,  2,20090303,0845, -16.4890, -170.0117,  5036,    351.7,    14.94,   35.091,2,  35.0876,2,    162.1,2,    161.2,2,     4.54,2,    11.37,2, -999.000,9,     0.94,2, -999.000,9, -999.000,9, -999.000,9,   -999.0,9,   -999.0,9
           NA,     P15,     76,   1,      14,   12041,  2,20090303,0845, -16.4890, -170.0117,  5036,    457.3,     9.85,   34.617,2,  34.6146,2,    147.3,2,    146.5,2,    13.22,2,    22.60,2, -999.000,9,     1.67,2, -999.000,9, -999.000,9, -999.000,9,   -999.0,9,   -999.0,9
           NA,     P15,     76,   1,      13,   12012,  2,20090303,0845, -16.4890, -170.0117,  5036,    527.6,     7.91,   34.491,2,  34.5557,2,    151.9,2,    152.7,2,    18.89,2,    27.01,2, -999.000,9,     1.93,2, -999.000,9, -999.000,9, -999.000,9,   2188.1,2,   2287.0,2
           NA,     P15,     76,   1,      12,   12022,  2,20090303,0845, -16.4890, -170.0117,  5036,    647.2,     6.00,   34.415,2,-999.0000,9,    170.3,2,    172.6,2,    27.85,2,    30.01,2, -999.000,9,     2.07,2, -999.000,9, -999.000,9, -999.000,9,   2197.2,2,   2296.7,2
           NA,     P15,     76,   1,      11,   12016,  2,20090303,0845, -16.4890, -170.0117,  5036,    823.4,     4.72,   34.441,2,  34.4396,2,    156.4,2,    157.2,2,    48.40,2,    33.32,2, -999.000,9,     2.30,2, -999.000,9, -999.000,9, -999.000,9,   -999.0,9,   -999.0,9
           NA,     P15,     76,   1,      10,   12019,  2,20090303,0845, -16.4890, -170.0117,  5036,   1146.8,     3.53,   34.524,2,  34.5233,2,    142.3,2,    143.2,2,    78.93,2,    35.64,2, -999.000,9,     2.47,2, -999.000,9, -999.000,9, -999.000,9,   -999.0,9,   -999.0,9
           NA,     P15,     76,   1,       9,   12031,  2,20090303,0845, -16.4890, -170.0117,  5036,   1530.8,     2.79,   34.580,2,  34.5793,2,    142.1,2,    143.1,2,    98.35,2,    36.12,2, -999.000,9,     2.51,2, -999.000,9, -999.000,9, -999.000,9,   -999.0,9,   -999.0,9
           NA,     P15,     76,   1,       8,   12021,  2,20090303,0845, -16.4890, -170.0117,  5036,   2064.1,     2.18,   34.633,2,  34.6343,2,    146.0,2,    147.1,2,   116.40,2,    35.80,2, -999.000,9,     2.49,2, -999.000,9, -999.000,9, -999.000,9,   -999.0,9,   -999.0,9
           NA,     P15,     76,   1,       7,   12032,  2,20090303,0845, -16.4890, -170.0117,  5036,   2580.4,     1.87,   34.659,2,  34.6584,2,    149.6,2,    150.3,2,   126.49,2,    35.77,2, -999.000,9,     2.47,2, -999.000,9, -999.000,9, -999.000,9,   -999.0,9,   -999.0,9
           NA,     P15,     76,   1,       6,   12007,  2,20090303,0845, -16.4890, -170.0117,  5036,   3180.7,     1.65,   34.677,2,  34.6765,2,    156.7,2,    157.3,2,   131.30,2,    35.28,2, -999.000,9,     2.44,2, -999.000,9, -999.000,9, -999.000,9,   -999.0,9,   -999.0,9
           NA,     P15,     76,   1,       5,   12002,  2,20090303,0845, -16.4890, -170.0117,  5036,   3664.6,     1.52,   34.687,2,  34.6857,2,    167.4,2,    166.6,2,   129.43,2,    34.41,2, -999.000,9,     2.39,2, -999.000,9, -999.000,9, -999.000,9,   -999.0,9,   -999.0,9
           NA,     P15,     76,   1,       4,   12008,  2,20090303,0845, -16.4890, -170.0117,  5036,   4165.4,     1.27,   34.715,2,  34.7138,2,    199.8,2,    199.6,2,   114.02,2,    31.89,2, -999.000,9,     2.19,2, -999.000,9, -999.000,9, -999.000,9,   -999.0,9,   -999.0,9
           NA,     P15,     76,   1,       3,   12033,  2,20090303,0845, -16.4890, -170.0117,  5036,   4640.3,     1.09,   34.710,2,  34.7107,2,    206.0,2,    204.7,2,   118.24,2,    31.83,2, -999.000,9,     2.19,2, -999.000,9, -999.000,9, -999.000,9,   -999.0,9,   -999.0,9
           NA,     P15,     76,   1,       2,   12006,  2,20090303,0845, -16.4890, -170.0117,  5036,   4930.1,     1.06,   34.709,2,  34.7087,2,    207.3,2,    205.7,2,   119.68,2,    31.95,2, -999.000,9,     2.19,2, -999.000,9, -999.000,9, -999.000,9,   -999.0,9,   -999.0,9
           NA,     P15,     76,   1,       1,   12045,  2,20090303,0845, -16.4890, -170.0117,  5036,   5129.0,     1.09,   34.709,2,  34.7087,2,    207.5,2,    205.6,2,   120.33,2,    32.06,2, -999.000,9,     2.20,2, -999.000,9, -999.000,9, -999.000,9,   -999.0,9,   -999.0,9
           NA,     P15,     77,   1,      24,   12014,  2,20090303,1518, -15.9996, -170.0127,  5122,      2.1,    29.08,   35.497,2,-999.0000,9,    194.2,2,    194.1,2,     0.95,2,     0.00,2, -999.000,9,     0.09,2,    1.644,2,    1.026,2, -999.000,9,   1975.5,6,   2333.2,6
           NA,     P15,     77,   1,      23,   12046,  2,20090303,1518, -15.9996, -170.0127,  5122,     14.4,    29.08,   35.497,2,  35.4951,2,    194.7,2,    194.0,2,     0.96,2,     0.00,2, -999.000,9,     0.09,2,    1.640,6,    1.025,6, -999.000,9,   1975.5,2,   2327.5,2
           NA,     P15,     77,   1,      22,   12020,  2,20090303,1518, -15.9996, -170.0127,  5122,     39.4,    29.07,   35.652,2,-999.0000,9,    196.6,2,    196.5,2,     1.00,2,     0.00,2, -999.000,9,     0.11,2,    1.680,2,    1.038,2, -999.000,9,   1986.8,2,   2345.7,2
           NA,     P15,     77,   1,      21,   12003,  2,20090303,1518, -15.9996, -170.0127,  5122,     60.1,    28.12,   35.866,2,-999.0000,9,    206.4,2,    206.3,2,     0.99,2,     0.00,2, -999.000,9,     0.12,2,    1.791,2,    1.092,2, -999.000,9,   1996.1,2,   2358.4,2
           NA,     P15,     77,   1,      20,   12051,  2,20090303,1518, -15.9996, -170.0127,  5122,     80.4,    26.62,   35.757,2,  35.7760,2,    204.3,2,    203.5,2,     0.96,2,     0.00,2, -999.000,9,     0.11,2,    1.876,2,    1.095,2, -999.000,9,   1996.6,2,   2351.5,2
           NA,     P15,     77,   1,      19,   12010,  2,20090303,1518, -15.9996, -170.0127,  5122,    130.3,    24.82,   35.780,2,  35.7995,2,    196.0,2,    195.1,2,     0.93,2,     0.00,2, -999.000,9,     0.14,2,    1.994,2,    1.188,2, -999.000,9,   2018.9,2,   2351.0,2
           NA,     P15,     77,   1,      18,   12018,  2,20090303,1518, -15.9996, -170.0127,  5122,    180.7,    22.40,   35.876,2,-999.0000,9,    172.7,2,    171.9,2,     1.06,2,     2.40,2, -999.000,9,     0.32,2,    2.229,2,    1.317,2, -999.000,9,   2070.2,2,   2353.9,2
           NA,     P15,     77,   1,      17,   12024,  2,20090303,1518, -15.9996, -170.0127,  5122,    229.2,    20.45,   35.728,2,  35.7213,2,    167.9,2,    167.3,2,     1.39,2,     4.40,2, -999.000,9,     0.47,2,    2.429,2,    1.372,2, -999.000,9,   2090.4,2,   2346.9,2
           NA,     P15,     77,   1,      16,   12001,  2,20090303,1518, -15.9996, -170.0127,  5122,    277.6,    18.23,   35.462,2,-999.0000,9,    166.2,2,    165.7,2,     2.30,2,     6.82,2, -999.000,9,     0.66,2,    2.506,2,    1.361,2, -999.000,9,   2104.5,2,   2332.0,2
           NA,     P15,     77,   1,      15,   12025,  2,20090303,1518, -15.9996, -170.0127,  5122,    322.2,    15.51,   35.141,2,  35.1327,2,    159.2,2,    158.0,2,     4.42,2,    10.87,2, -999.000,9,     0.94,2,    2.417,2,    1.269,2, -999.000,9,   2120.7,2,   2313.2,2
           NA,     P15,     77,   1,      14,   12041,  2,20090303,1518, -15.9996, -170.0127,  5122,    378.7,    12.60,   34.844,2,-999.0000,9,    144.3,2,    143.5,2,     8.77,2,    17.04,2, -999.000,9,     1.37,2,    1.947,2,    0.978,2, -999.000,9,   2148.6,2,   2295.0,6
           NA,     P15,     77,   1,      13,   12012,  2,20090303,1518, -15.9996, -170.0127,  5122,    448.2,    10.22,   34.663,2,  34.6612,2,    128.0,2,    126.6,2,    15.32,2,    23.63,2, -999.000,9,     1.78,2,    1.174,2,    0.619,2, -999.000,9,   2180.0,2,   2295.7,2
           NA,     P15,     77,   1,      12,   12022,  2,20090303,1518, -15.9996, -170.0127,  5122,    572.1,     7.13,   34.470,2,  34.4687,2,    158.1,2,    157.5,2,    23.60,2,    28.55,2, -999.000,9,     2.01,2,    0.655,2,    0.344,2, -999.000,9,   2189.3,6,   2292.4,6
           NA,     P15,     77,   1,      11,   12016,  2,20090303,1518, -15.9996, -170.0127,  5122,    657.1,     5.89,   34.428,2,  34.4222,2,    162.9,2,    163.5,2,    31.12,2,    30.78,2, -999.000,9,     2.13,2,    0.354,2,    0.185,2, -999.000,9,   2201.4,2,   2298.7,2
           NA,     P15,     77,   1,      10,   12019,  2,20090303,1518, -15.9996, -170.0127,  5122,    897.0,     4.43,   34.488,2,  34.4879,2,    142.0,2,    142.3,2,    61.23,2,    34.90,2, -999.000,9,     2.42,2,    0.050,2,    0.028,2, -999.000,9,   2243.8,2,   2327.5,2
           NA,     P15,     77,   1,       9,   12031,  2,20090303,1518, -15.9996, -170.0127,  5122,   1231.2,     3.42,   34.547,2,  34.5455,2,    135.3,2,    135.9,2,    85.72,2,    36.21,2, -999.000,9,     2.53,2,    0.007,2,    0.004,2, -999.000,9,   2275.7,2,   2353.3,2
           NA,     P15,     77,   1,       8,   12021,  2,20090303,1518, -15.9996, -170.0127,  5122,   1715.8,     2.55,   34.602,2,  34.6016,2,    142.4,2,    143.3,2,   106.05,2,    36.10,2, -999.000,9,     2.52,2,    0.002,2,    0.002,2, -999.000,9,   2292.5,2,   2377.4,2
           NA,     P15,     77,   1,       7,   12032,  2,20090303,1518, -15.9996, -170.0127,  5122,   2213.6,     2.08,   34.641,2,-999.0000,9,    146.4,2,    146.8,2,   120.08,2,    35.98,2, -999.000,9,     2.50,2,    0.002,6,    0.001,6, -999.000,9,   2305.5,2,   2392.5,2
           NA,     P15,     77,   1,       6,   12007,  2,20090303,1518, -15.9996, -170.0127,  5122,   2830.2,     1.78,   34.668,2,  34.6683,2,    151.2,2,    151.6,2,   130.10,2,    35.95,2, -999.000,9,     2.48,2,   -0.003,2,    0.001,2, -999.000,9,   2312.2,2,   2396.6,2
           NA,     P15,     77,   1,       5,   12002,  2,20090303,1518, -15.9996, -170.0127,  5122,   3330.9,     1.64,   34.679,2,  34.6796,2,    158.2,2,    157.8,2,   132.14,2,    35.42,2, -999.000,9,     2.45,2,    0.005,2,    0.000,2, -999.000,9,   2308.6,2,   2395.4,2
           NA,     P15,     77,   1,       4,   12008,  2,20090303,1518, -15.9996, -170.0127,  5122,   3856.0,     1.44,   34.699,2,  34.6993,2,    179.6,2,    178.5,2,   124.59,2,    33.94,2, -999.000,9,     2.31,2,    0.018,2,    0.006,2, -999.000,9,   2286.1,2,   2383.6,6
           NA,     P15,     77,   1,       3,   12033,  2,20090303,1518, -15.9996, -170.0127,  5122,   4414.4,     1.12,   34.711,2,  34.7105,2,    203.5,2,    202.5,2,   118.85,2,    32.23,2, -999.000,9,     2.22,2,    0.022,6,    0.012,6, -999.000,9,   2263.0,2,   2365.3,2
           NA,     P15,     77,   1,       2,   12006,  2,20090303,1518, -15.9996, -170.0127,  5122,   4821.8,     1.06,   34.709,2,  34.7093,2,    206.5,2,    205.5,2,   120.74,2,    32.34,2, -999.000,9,     2.22,2,    0.043,2,    0.019,2, -999.000,9,   2262.2,2,   2364.5,2
           NA,     P15,     77,   1,       1,   12045,  2,20090303,1518, -15.9996, -170.0127,  5122,   5220.7,     1.09,   34.708,2,  34.7087,2,    207.3,2,    205.4,2,   120.75,2,    32.23,2, -999.000,9,     2.19,2,    0.042,2,    0.020,2, -999.000,9,   2261.1,6,   2360.0,6