BOTTLE,20214902JOAExport
EXPOCODE,SECT_ID,STNNBR,CASTNO,SAMPNO,BTLNBR,BTLNBR_FLAG_W,DATE,TIME,LATITUDE,LONGITUDE,DEPTH,CTDPRS,CTDTMP,CTDSAL,CTDSAL_FLAG_W,SALNTY,SALNTY_FLAG_W,CTDOXY,CTDOXY_FLAG_W,OXYGEN,OXYGEN_FLAG_W,SILCAT,SILCAT_FLAG_W,NITRAT,NITRAT_FLAG_W,NITRIT,NITRIT_FLAG_W,PHSPHT,PHSPHT_FLAG_W,CFC-11,CFC-11_FLAG_W,CFC-12,CFC-12_FLAG_W,SF6,SF6_FLAG_W,TCARBN,TCARBN_FLAG_W,ALKALI,ALKALI_FLAG_W
,,,,,,,,,,,,DB,ITS-90,PSS-78,,PSS-78,,UMOL/KG,,UMOL/KG,,UMOL/KG,,UMOL/KG,,UMOL/KG,,UMOL/KG,,PMOL/KG,,PMOL/KG,,FMOL/KG,,UMOL/KG,,UMOL/KG
           NA,     P15,     18,   1,      16,   12001,  2,20090211,0054, -43.6468, -174.5341,   794,      1.5,    18.31,   35.434,2,  35.4332,2,    235.3,2,    235.9,2,  -999.00,9,     0.09,2, -999.000,9,     0.09,2, -999.000,9, -999.000,9, -999.000,9,   -999.0,9,   -999.0,9
           NA,     P15,     18,   1,      17,   12024,  2,20090211,0054, -43.6468, -174.5341,   794,      1.7,    18.32,   35.433,2,  35.4338,2,    235.0,2,    235.6,2,  -999.00,9,     0.09,2, -999.000,9,     0.09,2, -999.000,9, -999.000,9, -999.000,9,   -999.0,9,   -999.0,9
           NA,     P15,     18,   1,      15,   12025,  2,20090211,0054, -43.6468, -174.5341,   794,     30.7,    18.24,   35.438,2,  35.4385,2,    235.4,2,    235.2,2,  -999.00,9,     0.09,2, -999.000,9,     0.08,2, -999.000,9, -999.000,9, -999.000,9,   -999.0,9,   -999.0,9
           NA,     P15,     18,   1,      14,   12041,  2,20090211,0054, -43.6468, -174.5341,   794,     55.5,    16.46,   35.294,2,  35.2869,2,    239.3,2,    238.4,2,  -999.00,9,     0.69,2, -999.000,9,     0.19,2, -999.000,9, -999.000,9, -999.000,9,   -999.0,9,   -999.0,9
           NA,     P15,     18,   1,      13,   12012,  2,20090211,0054, -43.6468, -174.5341,   794,     80.0,    13.54,   35.184,2,  35.1831,2,    225.4,2,    225.2,2,  -999.00,9,     6.42,2, -999.000,9,     0.54,2, -999.000,9, -999.000,9, -999.000,9,   2058.3,2,   -999.0,9
           NA,     P15,     18,   1,      12,   12022,  2,20090211,0054, -43.6468, -174.5341,   794,    110.5,    13.11,   35.177,2,  35.1778,2,    222.4,2,    223.0,2,  -999.00,9,     8.09,2, -999.000,9,     0.63,2, -999.000,9, -999.000,9, -999.000,9,   -999.0,9,   -999.0,9
           NA,     P15,     18,   1,      11,   12016,  2,20090211,0054, -43.6468, -174.5341,   794,    162.7,    12.37,   35.082,2,  35.0797,2,    228.6,2,    229.3,2,  -999.00,9,     9.59,2, -999.000,9,     0.72,2, -999.000,9, -999.000,9, -999.000,9,   -999.0,9,   -999.0,9
           NA,     P15,     18,   1,      10,   12019,  2,20090211,0054, -43.6468, -174.5341,   794,    214.2,    11.58,   34.953,2,  34.9534,2,    226.9,2,    226.2,2,  -999.00,9,    11.75,2, -999.000,9,     0.85,2, -999.000,9, -999.000,9, -999.000,9,   -999.0,9,   -999.0,9
           NA,     P15,     18,   1,       9,   12031,  2,20090211,0054, -43.6468, -174.5341,   794,    265.1,    11.13,   34.891,2,  34.8926,2,    226.0,2,    225.8,2,  -999.00,9,    12.67,2, -999.000,9,     0.91,2, -999.000,9, -999.000,9, -999.000,9,   -999.0,9,   -999.0,9
           NA,     P15,     18,   1,       8,   12021,  2,20090211,0054, -43.6468, -174.5341,   794,    314.0,    10.73,   34.844,2,  34.8434,2,    215.3,2,    214.9,2,  -999.00,9,    14.79,2, -999.000,9,     1.04,2, -999.000,9, -999.000,9, -999.000,9,   -999.0,9,   -999.0,9
           NA,     P15,     18,   1,       7,   12032,  2,20090211,0054, -43.6468, -174.5341,   794,    364.5,    10.22,   34.781,2,  34.7813,2,    214.4,2,    214.5,2,  -999.00,9,    16.20,2, -999.000,9,     1.11,2, -999.000,9, -999.000,9, -999.000,9,   -999.0,9,   -999.0,9
           NA,     P15,     18,   1,       6,   12007,  2,20090211,0054, -43.6468, -174.5341,   794,    413.9,     9.74,   34.718,2,  34.7168,2,    213.7,2,    213.8,2,  -999.00,9,    17.45,2, -999.000,9,     1.20,2, -999.000,9, -999.000,9, -999.000,9,   -999.0,9,   -999.0,9
           NA,     P15,     18,   1,       5,   12055,  2,20090211,0054, -43.6468, -174.5341,   794,    464.4,     9.18,   34.654,2,  34.6537,2,    212.4,2,    212.4,2,  -999.00,9,    18.92,2, -999.000,9,     1.29,2, -999.000,9, -999.000,9, -999.000,9,   -999.0,9,   -999.0,9
           NA,     P15,     18,   1,       4,   12009,  2,20090211,0054, -43.6468, -174.5341,   794,    522.4,     8.68,   34.599,2,  34.5979,2,    214.0,2,    214.4,2,  -999.00,9,    20.13,2, -999.000,9,     1.36,2, -999.000,9, -999.000,9, -999.000,9,   -999.0,9,   -999.0,9
           NA,     P15,     18,   1,       3,   12033,  2,20090211,0054, -43.6468, -174.5341,   794,    628.6,     7.86,   34.514,2,-999.0000,9,    216.6,2,    217.1,2,  -999.00,9,    21.81,2, -999.000,9,     1.47,2, -999.000,9, -999.000,9, -999.000,9,   -999.0,9,   -999.0,9
           NA,     P15,     18,   1,       2,   12006,  2,20090211,0054, -43.6468, -174.5341,   794,    729.6,     7.29,   34.463,2,  34.4634,2,    215.5,2,    216.4,2,  -999.00,9,    23.33,2, -999.000,9,     1.56,2, -999.000,9, -999.000,9, -999.000,9,   -999.0,9,   -999.0,9
           NA,     P15,     18,   1,       1,   12045,  2,20090211,0054, -43.6468, -174.5341,   794,    786.9,     6.81,   34.431,2,  34.4310,2,    210.8,2,    211.7,2,  -999.00,9,    24.87,2, -999.000,9,     1.66,2, -999.000,9, -999.000,9, -999.000,9,   -999.0,4,   -999.0,9
           NA,     P15,     19,   1,      15,   12025,  2,20090211,0513, -43.2523, -175.0022,   800,      1.7,    18.19,   35.274,2,  35.2725,2,    239.7,2,    239.7,2,     0.93,2,     0.00,2, -999.000,9,     0.07,2, -999.000,9, -999.000,9, -999.000,9,   2047.1,6,   2320.0,6
           NA,     P15,     19,   1,      14,   12041,  2,20090211,0513, -43.2523, -175.0022,   800,     22.0,    16.99,   34.995,2,  34.9969,2,    249.7,2,    249.0,2,     0.85,2,     0.10,2, -999.000,9,     0.11,2, -999.000,9, -999.000,9, -999.000,9,   2043.3,2,   2307.3,2
           NA,     P15,     19,   1,      13,   12012,  2,20090211,0513, -43.2523, -175.0022,   800,     79.6,    12.66,   35.013,2,  35.0222,2,    242.7,2,    242.1,2,     1.91,2,     7.28,2, -999.000,9,     0.57,2, -999.000,9, -999.000,9, -999.000,9,   -999.0,9,   -999.0,9
           NA,     P15,     19,   1,      12,   12022,  2,20090211,0513, -43.2523, -175.0022,   800,    129.7,    12.17,   35.020,2,  35.0244,2,    242.8,2,    241.9,2,     2.12,2,     8.30,2, -999.000,9,     0.63,2,    3.140,6,    1.842,6, -999.000,9,   2101.3,2,   2306.1,2
           NA,     P15,     19,   1,      11,   12016,  2,20090211,0513, -43.2523, -175.0022,   800,    180.6,    11.60,   34.954,2,  34.9555,2,    233.6,2,    233.7,2,     3.25,2,    10.90,2, -999.000,9,     0.78,2, -999.000,9, -999.000,9, -999.000,9,   -999.0,9,   -999.0,9
           NA,     P15,     19,   1,      10,   12019,  2,20090211,0513, -43.2523, -175.0022,   800,    229.1,    11.22,   34.905,2,  34.9061,2,    229.9,2,    230.1,2,     3.86,2,    12.12,2, -999.000,9,     0.86,2,    3.075,2,    1.796,2, -999.000,9,   2118.6,2,   2295.4,2
           NA,     P15,     19,   1,       9,   12031,  2,20090211,0513, -43.2523, -175.0022,   800,    279.6,    10.56,   34.820,2,  34.8212,2,    217.7,2,    217.0,2,     5.40,2,    15.02,2, -999.000,9,     1.03,2, -999.000,9, -999.000,9, -999.000,9,   -999.0,9,   -999.0,9
           NA,     P15,     19,   1,       8,   12021,  2,20090211,0513, -43.2523, -175.0022,   800,    330.5,    10.10,   34.763,2,  34.7647,2,    215.0,2,    214.7,2,     6.03,2,    16.32,2, -999.000,9,     1.10,2,    3.026,2,    1.700,2, -999.000,9,   2132.1,2,   2288.8,2
           NA,     P15,     19,   1,       7,   12032,  2,20090211,0513, -43.2523, -175.0022,   800,    379.7,     9.56,   34.703,2,  34.7024,2,    210.2,2,    210.2,2,     7.14,2,    18.16,2, -999.000,9,     1.23,2, -999.000,9, -999.000,9, -999.000,9,   -999.0,9,   -999.0,9
           NA,     P15,     19,   1,       6,   12007,  2,20090211,0513, -43.2523, -175.0022,   800,    422.2,     9.18,   34.657,2,  34.6578,2,    211.2,2,    211.8,2,     7.70,2,    19.20,2, -999.000,9,     1.29,2, -999.000,9, -999.000,9, -999.000,9,   -999.0,9,   -999.0,9
           NA,     P15,     19,   1,       5,   12055,  2,20090211,0513, -43.2523, -175.0022,   800,    463.8,     8.72,   34.606,2,  34.6034,2,    213.9,2,    213.8,2,     8.32,2,    20.01,2, -999.000,9,     1.35,2, -999.000,9, -999.000,9, -999.000,9,   2144.7,2,   2286.4,2
           NA,     P15,     19,   1,       4,   12009,  2,20090211,0513, -43.2523, -175.0022,   800,    564.0,     8.08,   34.540,2,  34.5400,2,    214.3,2,    214.8,2,     9.76,2,    21.46,2, -999.000,9,     1.44,2, -999.000,9, -999.000,9, -999.000,9,   -999.0,9,   -999.0,9
           NA,     P15,     19,   1,       3,   12033,  2,20090211,0513, -43.2523, -175.0022,   800,    647.7,     7.53,   34.482,2,  34.4842,2,    217.0,2,    217.4,2,    10.67,2,    22.59,2, -999.000,9,     1.51,2, -999.000,9, -999.000,9, -999.000,9,   -999.0,9,   -999.0,9
           NA,     P15,     19,   1,       2,   12006,  2,20090211,0513, -43.2523, -175.0022,   800,    764.6,     6.78,   34.429,2,  34.4304,2,    211.6,2,    212.6,2,    15.40,2,    24.97,2, -999.000,9,     1.66,2,    2.188,2,    1.106,2, -999.000,9,   2161.7,2,   2287.1,2
           NA,     P15,     19,   1,       1,   12045,  2,20090211,0513, -43.2523, -175.0022,   800,    787.9,     6.67,   34.425,2,  34.4271,2,    210.4,2,    211.4,2,    16.27,2,    25.26,2, -999.000,9,     1.67,2,    2.097,2,    1.055,2, -999.000,9,   2162.3,2,   2287.8,2
           NA,     P15,     20,   1,      16,   12001,  2,20090211,0840, -42.9299, -174.7885,  1066,     46.9,    15.72,   35.338,2,  35.3453,2,    248.7,2,    249.0,2,  -999.00,9,     0.09,2, -999.000,9,     0.17,2, -999.000,9, -999.000,9, -999.000,9,   -999.0,9,   -999.0,9
           NA,     P15,     20,   1,      15,   12025,  2,20090211,0840, -42.9299, -174.7885,  1066,     95.9,    13.46,   35.185,2,  35.1748,2,    221.2,2,    221.3,2,  -999.00,9,     7.43,2, -999.000,9,     0.60,2, -999.000,9, -999.000,9, -999.000,9,   -999.0,9,   -999.0,9
           NA,     P15,     20,   1,      14,   12041,  2,20090211,0840, -42.9299, -174.7885,  1066,    150.9,    12.89,   35.151,2,  35.1591,2,    225.1,2,    225.0,2,  -999.00,9,     8.27,2, -999.000,9,     0.63,2, -999.000,9, -999.000,9, -999.000,9,   -999.0,9,   -999.0,9
           NA,     P15,     20,   1,      12,   12022,  2,20090211,0840, -42.9299, -174.7885,  1066,    255.7,    11.30,   34.903,2,  34.9443,2,    220.7,2,    220.1,2,  -999.00,9,    12.44,2, -999.000,9,     0.89,2, -999.000,9, -999.000,9, -999.000,9,   -999.0,9,   -999.0,9
           NA,     P15,     20,   1,      11,   12016,  2,20090211,0840, -42.9299, -174.7885,  1066,    316.5,    10.57,   34.828,2,  34.8267,2,    207.1,2,    205.9,2,  -999.00,9,    16.12,2, -999.000,9,     1.11,2, -999.000,9, -999.000,9, -999.000,9,   -999.0,9,   -999.0,9
           NA,     P15,     20,   1,      10,   12019,  2,20090211,0840, -42.9299, -174.7885,  1066,    363.5,     9.79,   34.722,2,  34.7309,2,    209.6,2,    209.4,2,  -999.00,9,    17.58,2, -999.000,9,     1.21,2, -999.000,9, -999.000,9, -999.000,9,   -999.0,9,   -999.0,9
           NA,     P15,     20,   1,       9,   12031,  2,20090211,0840, -42.9299, -174.7885,  1066,    429.3,     9.13,   34.652,2,  34.6602,2,    212.0,2,    213.5,2,  -999.00,9,    18.80,2, -999.000,9,     1.29,2, -999.000,9, -999.000,9, -999.000,9,   -999.0,9,   -999.0,9
           NA,     P15,     20,   1,       8,   12021,  2,20090211,0840, -42.9299, -174.7885,  1066,    475.6,     8.65,   34.599,2,  34.6054,2,    214.6,2,    213.7,2,  -999.00,9,    19.98,2, -999.000,9,     1.36,2, -999.000,9, -999.000,9, -999.000,9,   -999.0,9,   -999.0,9
           NA,     P15,     20,   1,       7,   12032,  2,20090211,0840, -42.9299, -174.7885,  1066,    496.8,     8.49,   34.583,2,  34.5818,2,    215.1,2,    215.3,2,  -999.00,9,    20.27,2, -999.000,9,     1.39,2, -999.000,9, -999.000,9, -999.000,9,   -999.0,9,   -999.0,9
           NA,     P15,     20,   1,       6,   12007,  2,20090211,0840, -42.9299, -174.7885,  1066,    622.7,     7.68,   34.502,2,  34.5046,2,    214.5,2,    215.6,2,  -999.00,9,    22.30,2, -999.000,9,     1.50,2, -999.000,9, -999.000,9, -999.000,9,   -999.0,9,   -999.0,9
           NA,     P15,     20,   1,       5,   12055,  2,20090211,0840, -42.9299, -174.7885,  1066,    696.5,     7.35,   34.480,2,  34.4817,2,    211.9,2,    213.1,2,  -999.00,9,    23.18,2, -999.000,9,     1.56,2, -999.000,9, -999.000,9, -999.000,9,   -999.0,9,   -999.0,9
           NA,     P15,     20,   1,       4,   12009,  2,20090211,0840, -42.9299, -174.7885,  1066,    806.4,     6.68,   34.439,2,  34.4444,2,    207.1,2,    210.1,2,  -999.00,9,    24.82,2, -999.000,9,     1.66,2, -999.000,9, -999.000,9, -999.000,9,   -999.0,9,   -999.0,9
           NA,     P15,     20,   1,       3,   12033,  2,20090211,0840, -42.9299, -174.7885,  1066,    897.7,     6.11,   34.421,2,  34.4235,2,    201.0,2,    202.6,2,  -999.00,9,    26.86,2, -999.000,9,     1.79,2, -999.000,9, -999.000,9, -999.000,9,   -999.0,9,   -999.0,9
           NA,     P15,     20,   1,       2,   12006,  2,20090211,0840, -42.9299, -174.7885,  1066,    996.9,     5.47,   34.419,2,  34.4200,2,    192.1,2,    194.1,2,  -999.00,9,    28.66,2, -999.000,9,     1.91,2, -999.000,9, -999.000,9, -999.000,9,   -999.0,9,   -999.0,9
           NA,     P15,     20,   1,       1,   12045,  2,20090211,0840, -42.9299, -174.7885,  1066,   1058.9,     5.14,   34.425,2,  34.4261,2,    188.7,2,    189.3,2,  -999.00,9,    29.49,2, -999.000,9,     1.97,2, -999.000,9, -999.000,9, -999.000,9,   -999.0,9,   -999.0,9
           NA,     P15,     21,   1,      21,   12003,  2,20090211,1143, -42.7492, -174.6604,  1588,      3.0,    18.90,   35.193,2,  35.1922,2,    235.4,2,    235.3,2,     0.74,2,     0.00,2, -999.000,9,     0.07,2,    2.412,2,    1.446,2, -999.000,9,   2039.4,6,   2315.9,6
           NA,     P15,     21,   1,      20,   12051,  2,20090211,1143, -42.7492, -174.6604,  1588,     65.9,    14.43,   35.249,2,  35.2458,2,    226.1,2,    225.5,2,     1.88,2,     3.62,2, -999.000,9,     0.38,2,    2.864,6,    1.698,6, -999.000,9,   2089.4,2,   2314.6,2
           NA,     P15,     21,   1,      19,   12010,  2,20090211,1143, -42.7492, -174.6604,  1588,    116.0,    13.17,   35.166,2,  35.1648,2,    222.2,2,    222.3,2,     2.89,2,     7.87,2, -999.000,9,     0.60,2, -999.000,9, -999.000,9, -999.000,9,   2103.7,2,   2308.9,2
           NA,     P15,     21,   1,      18,   12018,  2,20090211,1143, -42.7492, -174.6604,  1588,    165.9,    12.61,   35.116,2,  35.1075,2,    220.2,2,    220.7,2,     3.54,2,     9.63,2, -999.000,9,     0.70,2,    2.877,2,    1.708,2, -999.000,9,   2109.0,2,   2307.2,2
           NA,     P15,     21,   1,      17,   12024,  2,20090211,1143, -42.7492, -174.6604,  1588,    216.2,    11.75,   34.976,2,  34.9754,2,    219.8,2,    219.3,2,     4.05,2,    11.88,2, -999.000,9,     0.84,2,    2.917,2, -999.000,4, -999.000,9,   -999.0,9,   -999.0,9
           NA,     P15,     21,   1,      16,   12001,  2,20090211,1143, -42.7492, -174.6604,  1588,    263.0,    11.06,   34.878,2,  34.8782,2,    214.5,2,    214.1,2,     5.03,2,    14.11,2, -999.000,9,     0.98,2,    2.975,2,    1.695,2, -999.000,9,   2125.2,2,   2296.8,6
           NA,     P15,     21,   1,      15,   12025,  2,20090211,1143, -42.7492, -174.6604,  1588,    315.0,    10.44,   34.802,2,  34.8015,2,    211.0,2,    210.8,2,     5.84,2,    15.92,2, -999.000,9,     1.08,2, -999.000,9, -999.000,9, -999.000,9,   -999.0,9,   -999.0,9
           NA,     P15,     21,   1,      14,   12041,  2,20090211,1143, -42.7492, -174.6604,  1588,    366.2,     9.92,   34.748,2,  34.7475,2,    207.7,2,    207.4,2,     6.89,2,    17.70,2, -999.000,9,     1.19,2,    2.855,2,    1.582,2, -999.000,9,   2137.2,2,   2291.0,2
           NA,     P15,     21,   1,      13,   12012,  2,20090211,1143, -42.7492, -174.6604,  1588,    414.4,     9.37,   34.682,2,  34.6810,2,    209.1,2,    208.5,2,     7.30,2,    18.80,2, -999.000,9,     1.26,2,    2.883,2,    1.568,2, -999.000,9,   2140.4,2,   2288.2,2
           NA,     P15,     21,   1,      12,   12022,  2,20090211,1143, -42.7492, -174.6604,  1588,    464.3,     8.85,   34.614,2,  34.6123,2,    216.0,2,    215.7,2,     7.87,2,    19.50,2, -999.000,9,     1.32,2,    2.949,2,    1.623,2, -999.000,9,   2142.1,2,   2286.1,2
           NA,     P15,     21,   1,      11,   12016,  2,20090211,1143, -42.7492, -174.6604,  1588,    522.8,     8.42,   34.571,2,  34.5708,2,    217.2,2,    216.9,2,     8.83,2,    20.67,2, -999.000,9,     1.39,2,    2.897,2,    1.562,2, -999.000,9,   2143.0,2,   2283.5,2
           NA,     P15,     21,   1,      10,   12019,  2,20090211,1143, -42.7492, -174.6604,  1588,    631.5,     7.73,   34.507,2,  34.5066,2,    215.1,2,    215.1,2,    10.75,2,    22.44,2, -999.000,9,     1.49,2,    2.595,2,    1.346,2, -999.000,9,   2150.0,2,   2285.2,2
           NA,     P15,     21,   1,       9,   12031,  2,20090211,1143, -42.7492, -174.6604,  1588,    729.8,     7.12,   34.465,2,  34.4654,2,    211.2,2,    211.6,2,    13.99,2,    24.01,2, -999.000,9,     1.60,2,    2.109,2,    1.044,2, -999.000,9,   2156.9,2,   2286.8,2
           NA,     P15,     21,   1,       8,   12021,  2,20090211,1143, -42.7492, -174.6604,  1588,    828.7,     6.46,   34.433,2,  34.4332,2,    204.9,2,    205.5,2,    19.04,2,    25.93,2, -999.000,9,     1.74,2, -999.000,9, -999.000,9, -999.000,9,   -999.0,9,   -999.0,9
           NA,     P15,     21,   1,       7,   12032,  2,20090211,1143, -42.7492, -174.6604,  1588,    929.2,     5.80,   34.419,2,  34.4204,2,    197.1,2,    198.4,2,    26.10,2,    27.96,2, -999.000,9,     1.87,2, -999.000,9, -999.000,9, -999.000,9,   2180.4,2,   2291.1,2
           NA,     P15,     21,   1,       6,   12007,  2,20090211,1143, -42.7492, -174.6604,  1588,   1031.6,     5.22,   34.421,2,  34.4230,2,    189.9,2,    191.0,2,    34.03,2,    29.49,2, -999.000,9,     1.96,2, -999.000,9, -999.000,9, -999.000,9,   -999.0,9,   -999.0,9
           NA,     P15,     21,   1,       5,   12055,  2,20090211,1143, -42.7492, -174.6604,  1588,   1129.0,     4.56,   34.437,2,  34.4365,2,    181.6,2,    182.6,2,    45.47,2,    31.11,2, -999.000,9,     2.09,2, -999.000,9, -999.000,9, -999.000,9,   2211.1,2,   2311.7,2
           NA,     P15,     21,   1,       4,   12009,  2,20090211,1143, -42.7492, -174.6604,  1588,   1229.0,     4.26,   34.454,2,  34.4524,2,    177.2,2,    178.7,2,    51.74,2,    31.74,2, -999.000,9,     2.14,2,    1.150,2,    0.512,2, -999.000,9,   -999.0,9,   -999.0,9
           NA,     P15,     21,   1,       3,   12033,  2,20090211,1143, -42.7492, -174.6604,  1588,   1330.8,     4.09,   34.467,2,  34.4679,2,    174.2,2,    175.1,2,    56.86,2,    32.20,2, -999.000,9,     2.18,2,    0.366,6,    0.141,6, -999.000,9,   2227.0,2,   2321.6,2
           NA,     P15,     21,   1,       2,   12006,  2,20090211,1143, -42.7492, -174.6604,  1588,   1440.7,     3.78,   34.491,2,  34.4920,2,    169.5,2,    170.6,2,    64.22,2,    32.91,2, -999.000,9,     2.22,2,    0.272,2,    0.103,2, -999.000,9,   2238.1,2,   2329.8,6
           NA,     P15,     21,   1,       1,   12045,  2,20090211,1143, -42.7492, -174.6604,  1588,   1583.6,     3.26,   34.537,2,  34.5370,2,    162.7,2,    163.8,2,    79.56,2,    33.71,2, -999.000,9,     2.30,2,    0.148,2,    0.052,2, -999.000,9,   2257.2,6,   2346.8,6