BOTTLE,20214902JOAExport
EXPOCODE,SECT_ID,STNNBR,CASTNO,SAMPNO,BTLNBR,BTLNBR_FLAG_W,DATE,TIME,LATITUDE,LONGITUDE,DEPTH,CTDPRS,CTDTMP,CTDSAL,CTDSAL_FLAG_W,SALNTY,SALNTY_FLAG_W,CTDOXY,CTDOXY_FLAG_W,OXYGEN,OXYGEN_FLAG_W,SILCAT,SILCAT_FLAG_W,NITRAT,NITRAT_FLAG_W,NITRIT,NITRIT_FLAG_W,PHSPHT,PHSPHT_FLAG_W,CFC-11,CFC-11_FLAG_W,CFC-12,CFC-12_FLAG_W,SF6,SF6_FLAG_W,TCARBN,TCARBN_FLAG_W,ALKALI,ALKALI_FLAG_W
,,,,,,,,,,,,DB,ITS-90,PSS-78,,PSS-78,,UMOL/KG,,UMOL/KG,,UMOL/KG,,UMOL/KG,,UMOL/KG,,UMOL/KG,,PMOL/KG,,PMOL/KG,,FMOL/KG,,UMOL/KG,,UMOL/KG
           NA,     P15,     13,   1,      24,   12015,  2,20090210,0315, -44.8244, -173.1351,  3826,      3.2,    14.60,   34.613,2,  34.6176,2,    262.2,2,    261.5,2,     0.54,2,     3.45,2, -999.000,9,     0.35,2,    2.976,6,    1.753,6, -999.000,9,   2052.1,2,   2294.5,2
           NA,     P15,     13,   1,      23,   12046,  2,20090210,0315, -44.8244, -173.1351,  3826,     78.8,    11.81,   34.944,2,  34.9517,2,    247.1,2,    245.7,2,     2.37,2,     8.69,2, -999.000,9,     0.68,2, -999.000,9, -999.000,9, -999.000,9,   -999.0,9,   -999.0,9
           NA,     P15,     13,   1,      21,   12003,  2,20090210,0315, -44.8244, -173.1351,  3826,    179.8,    10.39,   34.779,2,  34.7841,2,    250.5,2,    248.7,2,     3.10,2,    11.60,2, -999.000,9,     0.86,2,    3.413,2,    1.988,2, -999.000,9,   -999.0,9,   -999.0,9
           NA,     P15,     13,   1,      22,   12020,  2,20090210,0315, -44.8244, -173.1351,  3826,    180.3,    10.41,   34.782,2,  34.7867,2,    249.2,2,    247.9,2,     3.15,2,    11.68,2, -999.000,9,     0.87,2, -999.000,9, -999.000,9, -999.000,9,   -999.0,9,   -999.0,9
           NA,     P15,     13,   1,      19,   12010,  2,20090210,0315, -44.8244, -173.1351,  3826,    221.7,    10.23,   34.764,2,  34.7671,2,    246.3,2,    248.6,2,     3.32,2,    12.15,2, -999.000,9,     0.90,2, -999.000,9, -999.000,9, -999.000,9,   -999.0,9,   -999.0,9
           NA,     P15,     13,   1,      20,   12051,  2,20090210,0315, -44.8244, -173.1351,  3826,    221.8,    10.23,   34.764,2,  34.7688,2,    248.4,2,    247.8,2,     3.32,2,    12.19,2, -999.000,9,     0.90,2, -999.000,9, -999.000,9, -999.000,9,   -999.0,9,   -999.0,9
           NA,     P15,     13,   1,      18,   12018,  2,20090210,0315, -44.8244, -173.1351,  3826,    265.3,     9.89,   34.729,2,  34.7261,2,    245.1,2,    244.4,2,     3.90,2,    13.80,2, -999.000,9,     0.99,2,    3.486,2,    2.000,2, -999.000,9,   -999.0,9,   -999.0,9
           NA,     P15,     13,   1,      17,   12024,  2,20090210,0315, -44.8244, -173.1351,  3826,    363.6,     9.01,   34.614,2,  34.6180,2,    236.7,2,    235.8,2,     5.41,2,    17.39,2, -999.000,9,     1.20,2, -999.000,9, -999.000,9, -999.000,9,   -999.0,9,   -999.0,9
           NA,     P15,     13,   1,      16,   12001,  2,20090210,0315, -44.8244, -173.1351,  3826,    464.1,     8.24,   34.515,2,  34.5191,2,    235.3,2,    234.8,2,     6.56,2,    19.90,2, -999.000,9,     1.35,2, -999.000,9, -999.000,9, -999.000,9,   -999.0,9,   -999.0,9
           NA,     P15,     13,   1,      15,   12025,  2,20090210,0315, -44.8244, -173.1351,  3826,    546.9,     7.76,   34.463,2,  34.4662,2,    238.6,2,    238.3,2,     7.02,2,    20.91,2, -999.000,9,     1.41,2, -999.000,9, -999.000,9, -999.000,9,   -999.0,9,   -999.0,9
           NA,     P15,     13,   1,      14,   12041,  2,20090210,0315, -44.8244, -173.1351,  3826,    630.3,     7.39,   34.424,2,  34.4274,2,    243.3,2,    243.3,2,     7.88,2,    21.53,2, -999.000,9,     1.46,2,    3.485,2,    1.946,2, -999.000,9,   -999.0,9,   -999.0,9
           NA,     P15,     13,   1,      13,   12012,  2,20090210,0315, -44.8244, -173.1351,  3826,    830.8,     6.57,   34.376,2,  34.3786,2,    227.2,2,    227.7,2,    12.48,2,    24.77,2, -999.000,9,     1.65,2, -999.000,9, -999.000,9, -999.000,9,   -999.0,9,   -999.0,9
           NA,     P15,     13,   1,      12,   12022,  2,20090210,0315, -44.8244, -173.1351,  3826,   1030.1,     5.49,   34.353,2,  34.3570,2,    210.9,2,    210.8,2,    22.68,2,    28.36,2, -999.000,9,     1.89,2, -999.000,9, -999.000,9, -999.000,9,   -999.0,9,   -999.0,9
           NA,     P15,     13,   1,      11,   12016,  2,20090210,0315, -44.8244, -173.1351,  3826,   1230.6,     4.41,   34.363,2,  34.3652,2,    198.0,2,   -999.0,9,    37.35,2,    31.40,2, -999.000,9,     2.09,2,    1.593,2,    0.767,2, -999.000,9,   -999.0,9,   -999.0,9
           NA,     P15,     13,   1,      10,   12019,  2,20090210,0315, -44.8244, -173.1351,  3826,   1431.3,     3.56,   34.395,2,  34.4019,2,    188.1,2,    189.6,2,    50.80,2,    33.35,2, -999.000,9,     2.23,2, -999.000,9, -999.000,9, -999.000,9,   -999.0,9,   -999.0,9
           NA,     P15,     13,   1,       9,   12031,  2,20090210,0315, -44.8244, -173.1351,  3826,   1631.0,     3.05,   34.483,2,  34.4862,2,    175.3,2,    175.8,2,    67.15,2,    34.48,2, -999.000,9,     2.31,2, -999.000,9, -999.000,9, -999.000,9,   -999.0,9,   -999.0,9
           NA,     P15,     13,   1,       8,   12021,  2,20090210,0315, -44.8244, -173.1351,  3826,   1830.9,     2.73,   34.554,2,  34.5581,2,    168.5,2,    169.4,2,    77.58,2,    34.68,2, -999.000,9,     2.34,2,    0.532,2,    0.214,2, -999.000,9,   -999.0,9,   -999.0,9
           NA,     P15,     13,   1,       7,   12032,  2,20090210,0315, -44.8244, -173.1351,  3826,   2032.4,     2.50,   34.616,2,  34.6193,2,    166.8,2,    167.0,2,    85.86,2,    34.37,2, -999.000,9,     2.32,2, -999.000,9, -999.000,9, -999.000,9,   -999.0,9,   -999.0,9
           NA,     P15,     13,   1,       6,   12007,  2,20090210,0315, -44.8244, -173.1351,  3826,   2222.3,     2.32,   34.648,2,  34.6515,2,    164.4,2,    163.9,2,    97.65,2,    34.38,2, -999.000,9,     2.33,2, -999.000,9, -999.000,9, -999.000,9,   -999.0,9,   -999.0,9
           NA,     P15,     13,   1,       5,   12055,  2,20090210,0315, -44.8244, -173.1351,  3826,   2399.5,     2.17,   34.673,2,  34.6760,2,    168.0,2,    166.9,2,   101.29,2,    33.94,2, -999.000,9,     2.31,2,    0.120,2,    0.040,2, -999.000,9,   -999.0,9,   -999.0,9
           NA,     P15,     13,   1,       4,   12009,  2,20090210,0315, -44.8244, -173.1351,  3826,   2620.3,     2.03,   34.714,2,  34.7172,2,    182.9,2,    182.8,2,    93.33,2,    32.13,2, -999.000,9,     2.17,2, -999.000,9, -999.000,9, -999.000,9,   -999.0,9,   -999.0,9
           NA,     P15,     13,   1,       3,   12033,  2,20090210,0315, -44.8244, -173.1351,  3826,   2832.0,     1.86,   34.730,2,  34.7329,2,    190.8,2,    191.0,2,    94.11,2,    31.43,2, -999.000,9,     2.13,2, -999.000,9, -999.000,9, -999.000,9,   -999.0,9,   -999.0,9
           NA,     P15,     13,   1,       2,   12006,  2,20090210,0315, -44.8244, -173.1351,  3826,   3415.7,     1.38,   34.726,2,  34.7284,2,    200.3,2,    200.1,2,   108.66,2,    31.49,2, -999.000,9,     2.13,2, -999.000,9, -999.000,9, -999.000,9,   -999.0,9,   -999.0,9
           NA,     P15,     13,   1,       1,   12045,  2,20090210,0315, -44.8244, -173.1351,  3826,   3881.6,     1.02,   34.712,2,  34.7137,2,    205.8,2,    205.5,2,   119.41,2,    31.76,2, -999.000,9,     2.17,2,    0.207,6,    0.076,6, -999.000,9,   -999.0,9,   -999.0,9
           NA,     P15,     14,   1,      24,   12015,  2,20090210,0816, -44.5281, -173.4979,  3420,      2.3,    15.87,   34.763,2,  34.7628,2,    254.9,2,    253.2,2,  -999.00,9,     1.45,2, -999.000,9,     0.20,2,    2.777,6,    1.659,6, -999.000,9,   2049.0,6,   2302.9,6
           NA,     P15,     14,   1,      23,   12046,  2,20090210,0816, -44.5281, -173.4979,  3420,     48.7,    15.63,   34.773,2,  34.7764,2,    249.6,2,    249.9,2,  -999.00,9,     1.45,2, -999.000,9,     0.21,2,    2.781,2,    1.678,2, -999.000,9,   2052.8,2,   2302.9,2
           NA,     P15,     14,   1,      22,   12020,  2,20090210,0816, -44.5281, -173.4979,  3420,     95.4,    10.84,   34.780,2,  34.7787,2,    254.8,2,    254.5,2,  -999.00,9,     9.82,2, -999.000,9,     0.72,2, -999.000,3, -999.000,3, -999.000,9,   2103.9,2,   2293.9,2
           NA,     P15,     14,   1,      21,   12003,  2,20090210,0816, -44.5281, -173.4979,  3420,    147.2,    10.56,   34.794,2,  34.7785,2,    246.7,2,    249.0,2,  -999.00,9,  -999.00,9, -999.000,9,  -999.00,9,    3.084,2,    1.834,2, -999.000,9,   -999.0,4,   2298.4,2
           NA,     P15,     14,   1,      20,   12051,  2,20090210,0816, -44.5281, -173.4979,  3420,    198.5,    10.22,   34.764,2,  34.7626,2,    246.1,2,    244.8,2,  -999.00,9,    12.48,2, -999.000,9,     0.88,2,    3.394,2,    1.964,2, -999.000,9,   -999.0,3,   2295.2,2
           NA,     P15,     14,   1,      19,   12010,  2,20090210,0816, -44.5281, -173.4979,  3420,    248.8,    10.08,   34.766,2,  34.7809,2,    250.0,2,    249.9,2,  -999.00,9,    12.43,2, -999.000,9,     0.87,2,    3.468,2,    2.028,2, -999.000,9,   2116.9,2,   2293.3,2
           NA,     P15,     14,   1,      18,   12018,  2,20090210,0816, -44.5281, -173.4979,  3420,    298.3,     9.64,   34.707,2,  34.7075,2,    240.5,2,    239.8,2,  -999.00,9,    15.03,2, -999.000,9,     1.03,2,    3.482,2,    2.012,2, -999.000,9,   -999.0,3,   -999.0,3
           NA,     P15,     14,   1,      17,   12024,  2,20090210,0816, -44.5281, -173.4979,  3420,    396.9,     8.72,   34.577,2,  34.5761,2,    234.0,2,    233.2,2,  -999.00,9,    18.51,2, -999.000,9,     1.24,2, -999.000,9, -999.000,9, -999.000,9,   2137.3,2,   2286.1,2
           NA,     P15,     14,   1,      16,   12001,  2,20090210,0816, -44.5281, -173.4979,  3420,    498.6,     7.82,   34.465,2,  34.4644,2,    240.5,2,    239.6,2,  -999.00,9,    20.37,2, -999.000,9,     1.39,2,    3.641,2,    2.006,2, -999.000,9,   2138.9,2,   2282.0,6
           NA,     P15,     14,   1,      15,   12025,  2,20090210,0816, -44.5281, -173.4979,  3420,    647.2,     7.24,   34.410,2,  34.4108,2,    243.9,2,    244.2,2,  -999.00,9,    21.51,2, -999.000,9,     1.46,2,    3.520,2,    1.935,2, -999.000,9,   2142.7,2,   2279.9,2
           NA,     P15,     14,   1,      14,   12041,  2,20090210,0816, -44.5281, -173.4979,  3420,    698.8,     7.07,   34.399,2,  34.3990,2,    240.6,2,    241.0,2,  -999.00,9,    22.21,2, -999.000,9,     1.50,2,    3.409,2,    1.825,2, -999.000,9,   2145.4,2,   2282.2,2
           NA,     P15,     14,   1,      13,   12012,  2,20090210,0816, -44.5281, -173.4979,  3420,    897.7,     6.02,   34.343,2,  34.3452,2,    225.7,2,    225.4,2,  -999.00,9,    25.82,2, -999.000,9,     1.74,2,    2.709,2,    1.414,2, -999.000,9,   2163.8,2,   2285.7,2
           NA,     P15,     14,   1,      12,   12022,  2,20090210,0816, -44.5281, -173.4979,  3420,   1098.0,     4.82,   34.328,2,  34.3289,2,    209.5,2,    210.1,2,  -999.00,9,    29.33,2, -999.000,9,     2.00,2,    2.166,2,    1.081,2, -999.000,9,   2188.4,6,   2291.8,6
           NA,     P15,     14,   1,      11,   12016,  2,20090210,0816, -44.5281, -173.4979,  3420,   1298.7,     3.86,   34.363,2,  34.3631,2,    196.5,2,    197.6,2,  -999.00,9,    31.98,2, -999.000,9,     2.18,2,    1.692,2,    0.808,2, -999.000,9,   2212.2,2,   2305.8,2
           NA,     P15,     14,   1,      10,   12019,  2,20090210,0816, -44.5281, -173.4979,  3420,   1498.4,     3.26,   34.427,2,  34.4279,2,    183.4,2,    184.6,2,  -999.00,9,    33.33,2, -999.000,9,     2.29,2, -999.000,9, -999.000,9, -999.000,9,   2232.8,2,   2317.7,2
           NA,     P15,     14,   1,       9,   12031,  2,20090210,0816, -44.5281, -173.4979,  3420,   1748.0,     2.79,   34.527,2,  34.5278,2,    172.1,2,    172.4,2,  -999.00,9,    34.09,2, -999.000,9,     2.34,2,    0.733,2,    0.296,2, -999.000,9,   2253.8,2,   2333.6,2
           NA,     P15,     14,   1,       8,   12021,  2,20090210,0816, -44.5281, -173.4979,  3420,   1948.0,     2.62,   34.594,2,  34.5952,2,    163.0,2,    162.6,2,  -999.00,9,    34.32,2, -999.000,9,     2.36,2,    0.260,2,    0.095,2, -999.000,9,   2272.7,2,   2355.5,2
           NA,     P15,     14,   1,       7,   12032,  2,20090210,0816, -44.5281, -173.4979,  3420,   2198.1,     2.33,   34.661,2,  34.6626,2,    172.6,2,    172.1,2,  -999.00,9,    32.95,2, -999.000,9,     2.27,2,    0.252,2,    0.090,2, -999.000,9,   2263.6,2,   2350.9,2
           NA,     P15,     14,   1,       6,   12007,  2,20090210,0816, -44.5281, -173.4979,  3420,   2347.6,     2.17,   34.684,2,  34.6853,2,    173.9,2,    174.0,2,    95.10,2,    33.01,2, -999.000,9,     2.24,2,    0.141,6,    0.053,6, -999.000,9,   -999.0,3,   -999.0,3
           NA,     P15,     14,   1,       5,   12055,  2,20090210,0816, -44.5281, -173.4979,  3420,   2498.5,     2.03,   34.714,2,  34.7162,2,    183.6,2,    183.3,2,    92.17,2,  -999.00,9, -999.000,9,     2.17,2,    0.136,2,    0.051,2, -999.000,9,   2260.0,2,   2351.2,2
           NA,     P15,     14,   1,       4,   12009,  2,20090210,0816, -44.5281, -173.4979,  3420,   2746.1,     1.83,   34.730,2,  34.7309,2,    190.8,2,    191.5,2,    94.86,2,    31.28,2, -999.000,9,     2.13,2,    0.137,2,    0.045,2, -999.000,9,   2256.9,2,   2353.7,2
           NA,     P15,     14,   1,       3,   12033,  2,20090210,0816, -44.5281, -173.4979,  3420,   2996.9,     1.60,   34.731,2,  34.7321,2,    195.7,2,    195.9,2,   101.68,2,    31.35,2, -999.000,9,     2.14,2,    0.111,2,    0.043,2, -999.000,9,   2258.1,2,   2354.8,2
           NA,     P15,     14,   1,       2,   12006,  2,20090210,0816, -44.5281, -173.4979,  3420,   3247.9,     1.40,   34.727,2,  34.7284,2,    199.0,2,    201.0,2,   107.09,2,    31.31,2, -999.000,9,     2.14,2, -999.000,3, -999.000,3, -999.000,9,   2259.6,2,   2358.1,2
           NA,     P15,     14,   1,       1,   12045,  2,20090210,0816, -44.5281, -173.4979,  3420,   3446.1,     1.16,   34.718,2,  34.7191,2,    202.4,2,    202.9,2,   113.20,2,    31.80,2, -999.000,9,     2.15,2,    0.162,6,    0.060,6, -999.000,9,   2261.4,6,   2358.2,6