BOTTLE,20214902JOAExport
EXPOCODE,SECT_ID,STNNBR,CASTNO,SAMPNO,BTLNBR,BTLNBR_FLAG_W,DATE,TIME,LATITUDE,LONGITUDE,DEPTH,CTDPRS,CTDTMP,CTDSAL,CTDSAL_FLAG_W,SALNTY,SALNTY_FLAG_W,CTDOXY,CTDOXY_FLAG_W,OXYGEN,OXYGEN_FLAG_W,SILCAT,SILCAT_FLAG_W,NITRAT,NITRAT_FLAG_W,NITRIT,NITRIT_FLAG_W,PHSPHT,PHSPHT_FLAG_W,CFC-11,CFC-11_FLAG_W,CFC-12,CFC-12_FLAG_W,SF6,SF6_FLAG_W,TCARBN,TCARBN_FLAG_W,ALKALI,ALKALI_FLAG_W
,,,,,,,,,,,,DB,ITS-90,PSS-78,,PSS-78,,UMOL/KG,,UMOL/KG,,UMOL/KG,,UMOL/KG,,UMOL/KG,,UMOL/KG,,PMOL/KG,,PMOL/KG,,FMOL/KG,,UMOL/KG,,UMOL/KG
           NA,     P15,     48,   1,      24,   12015,  2,20090219,0557, -30.4985, -169.9954,  5518,      2.6,    23.95,   35.394,2,  35.3930,2,    213.4,2,    212.2,2,     0.93,2,     0.00,2, -999.000,9,     0.03,2, -999.000,9, -999.000,9, -999.000,9,   2020.3,2,   2316.0,2
           NA,     P15,     48,   1,      23,   12046,  2,20090219,0557, -30.4985, -169.9954,  5518,     24.7,    23.95,   35.393,2,  35.4081,2,    213.0,2,    213.0,2,     0.93,2,     0.00,2, -999.000,9,     0.03,2, -999.000,9, -999.000,9, -999.000,9,   2022.7,2,   -999.0,9
           NA,     P15,     48,   1,      22,   12020,  2,20090219,0557, -30.4985, -169.9954,  5518,     62.0,    18.37,   35.544,2,  35.5423,2,    255.8,2,    255.8,2,     1.17,2,     0.00,2, -999.000,9,     0.07,2, -999.000,9, -999.000,9, -999.000,9,   2042.6,2,   2332.0,2
           NA,     P15,     48,   1,      21,   12003,  2,20090219,0557, -30.4985, -169.9954,  5518,    111.6,    15.59,   35.420,2,  35.4156,2,    221.0,2,    220.3,2,     1.87,2,     3.49,2, -999.000,9,     0.34,2, -999.000,9, -999.000,9, -999.000,9,   -999.0,9,   -999.0,9
           NA,     P15,     48,   1,      20,   12051,  2,20090219,0557, -30.4985, -169.9954,  5518,    134.3,    14.59,   35.298,2,  35.2974,2,    225.5,2,    226.0,2,     1.95,2,     4.00,2, -999.000,9,     0.37,2, -999.000,9, -999.000,9, -999.000,9,   2090.6,2,   2314.5,2
           NA,     P15,     48,   1,      19,   12010,  2,20090219,0557, -30.4985, -169.9954,  5518,    162.3,    13.94,   35.248,2,  35.2448,2,    213.1,2,    212.2,2,     2.73,2,     7.48,2, -999.000,9,     0.58,2, -999.000,9, -999.000,9, -999.000,9,   -999.0,9,   -999.0,9
           NA,     P15,     48,   1,      18,   12018,  2,20090219,0557, -30.4985, -169.9954,  5518,    197.2,    13.51,   35.202,2,  35.2028,2,    223.6,2,    224.2,2,     2.38,2,     6.37,2, -999.000,9,     0.52,2, -999.000,9, -999.000,9, -999.000,9,   -999.0,9,   -999.0,9
           NA,     P15,     48,   1,      17,   12024,  2,20090219,0557, -30.4985, -169.9954,  5518,    272.2,    11.98,   34.994,2,  34.9961,2,    205.1,2,    205.2,2,     3.98,2,    12.53,2, -999.000,9,     0.87,2, -999.000,9, -999.000,9, -999.000,9,   -999.0,9,   -999.0,9
           NA,     P15,     48,   1,      16,   12001,  2,20090219,0557, -30.4985, -169.9954,  5518,    347.3,    10.69,   34.824,2,  34.8267,2,    208.7,2,    208.7,2,     4.77,2,    14.94,2, -999.000,9,     1.04,2, -999.000,9, -999.000,9, -999.000,9,   -999.0,9,   -999.0,9
           NA,     P15,     48,   1,      15,   12025,  2,20090219,0557, -30.4985, -169.9954,  5518,    447.8,     8.79,   34.576,2,  34.5745,2,    213.5,2,    214.2,2,     5.98,2,    19.05,2, -999.000,9,     1.28,2, -999.000,9, -999.000,9, -999.000,9,   -999.0,9,   -999.0,9
           NA,     P15,     48,   1,      14,   12041,  2,20090219,0557, -30.4985, -169.9954,  5518,    648.3,     6.95,   34.398,2,  34.3972,2,    228.1,2,    229.7,2,     8.77,2,    23.08,2, -999.000,9,     1.52,2, -999.000,9, -999.000,9, -999.000,9,   -999.0,9,   -999.0,9
           NA,     P15,     48,   1,      13,   12012,  2,20090219,0557, -30.4985, -169.9954,  5518,    798.6,     6.10,   34.349,2,  34.3490,2,    219.3,2,    221.8,2,    13.91,2,    25.80,2, -999.000,9,     1.71,2, -999.000,9, -999.000,9, -999.000,9,   -999.0,9,   -999.0,9
           NA,     P15,     48,   1,      12,   12022,  2,20090219,0557, -30.4985, -169.9954,  5518,    964.3,     5.09,   34.350,2,  34.3496,2,    198.3,2,    200.6,2,    26.62,2,    29.49,2, -999.000,9,     1.95,2, -999.000,9, -999.000,9, -999.000,9,   -999.0,9,   -999.0,9
           NA,     P15,     48,   1,      11,   12016,  2,20090219,0557, -30.4985, -169.9954,  5518,   1230.2,     3.66,   34.409,2,  34.4096,2,    177.5,2,    181.2,2,    50.95,2,    33.32,2, -999.000,9,     2.24,2, -999.000,9, -999.000,9, -999.000,9,   -999.0,9,   -999.0,9
           NA,     P15,     48,   1,      10,   12019,  2,20090219,0557, -30.4985, -169.9954,  5518,   1487.8,     2.85,   34.533,2,  34.5333,2,    159.5,2,    162.5,2,    80.01,2,    34.58,2, -999.000,9,     2.36,2, -999.000,9, -999.000,9, -999.000,9,   -999.0,9,   -999.0,9
           NA,     P15,     48,   1,       9,   12031,  2,20090219,0557, -30.4985, -169.9954,  5518,   1797.1,     2.43,   34.606,2,  34.6058,2,    149.5,2,    152.4,2,   103.32,2,    35.21,2, -999.000,9,     2.44,2, -999.000,9, -999.000,9, -999.000,9,   -999.0,9,   -999.0,9
           NA,     P15,     48,   1,       8,   12021,  2,20090219,0557, -30.4985, -169.9954,  5518,   2130.8,     2.17,   34.636,2,  34.6354,2,    145.2,2,    147.8,2,   117.23,2,    35.94,2, -999.000,9,     2.47,2, -999.000,9, -999.000,9, -999.000,9,   -999.0,9,   -999.0,9
           NA,     P15,     48,   1,       7,   12032,  2,20090219,0557, -30.4985, -169.9954,  5518,   2397.8,     2.02,   34.648,2,  34.6478,2,    144.7,2,    146.1,2,   123.37,2,    35.97,2, -999.000,9,     2.47,2, -999.000,9, -999.000,9, -999.000,9,   -999.0,9,   -999.0,9
           NA,     P15,     48,   1,       6,   12007,  2,20090219,0557, -30.4985, -169.9954,  5518,   3163.1,     1.69,   34.691,2,  34.6904,2,    165.9,2,    167.1,2,   121.73,2,    34.11,2, -999.000,9,     2.35,2, -999.000,9, -999.000,9, -999.000,9,   -999.0,9,   -999.0,9
           NA,     P15,     48,   1,       5,   12002,  2,20090219,0557, -30.4985, -169.9954,  5518,   3664.7,     1.40,   34.719,2,  34.7170,2,    194.0,2,    195.5,2,   111.24,2,    32.17,2, -999.000,9,     2.19,2, -999.000,9, -999.000,9, -999.000,9,   -999.0,9,   -999.0,9
           NA,     P15,     48,   1,       4,   12008,  2,20090219,0557, -30.4985, -169.9954,  5518,   4165.5,     1.11,   34.714,2,  34.7156,2,    203.1,2,    204.0,2,   116.88,2,    32.06,2, -999.000,9,     2.17,2, -999.000,9, -999.000,9, -999.000,9,   -999.0,9,   -999.0,9
           NA,     P15,     48,   1,       3,   12033,  2,20090219,0557, -30.4985, -169.9954,  5518,   4664.0,     1.03,   34.709,2,  34.7079,2,    206.3,2,    206.0,2,   121.19,2,    32.03,2, -999.000,9,     2.19,2, -999.000,9, -999.000,9, -999.000,9,   -999.0,9,   -999.0,9
           NA,     P15,     48,   1,       2,   12006,  2,20090219,0557, -30.4985, -169.9954,  5518,   5165.2,     1.05,   34.708,2,  34.7073,2,    206.8,2,    206.6,2,   122.09,2,    32.32,2, -999.000,9,     2.20,2, -999.000,9, -999.000,9, -999.000,9,   -999.0,9,   -999.0,9
           NA,     P15,     48,   1,       1,   12045,  2,20090219,0557, -30.4985, -169.9954,  5518,   5642.6,     1.11,   34.707,2,  34.7079,2,    207.8,2,    207.1,2,  -999.00,9,    32.25,2, -999.000,9,  -999.00,9, -999.000,9, -999.000,9, -999.000,9,   -999.0,9,   -999.0,9
           NA,     P15,     49,   1,      24,   12015,  2,20090219,1303, -29.9948, -169.9886,  5401,      2.5,    23.70,   35.464,2,  35.4632,2,    213.3,2,    213.1,2,     0.94,2,     0.01,2, -999.000,9,     0.03,2,    1.985,2,    1.187,2, -999.000,9,   2023.7,6,   2321.8,6
           NA,     P15,     49,   1,      23,   12046,  2,20090219,1303, -29.9948, -169.9886,  5401,     25.8,    23.61,   35.466,2,  35.4740,2,    213.1,2,    216.1,2,     0.96,2,     0.01,2, -999.000,9,     0.04,2,    2.022,2,    1.220,2, -999.000,9,   2025.1,2,   2326.6,2
           NA,     P15,     49,   1,      22,   12020,  2,20090219,1303, -29.9948, -169.9886,  5401,     46.1,    19.58,   35.539,2,  35.5512,2,    253.9,2,    252.5,2,     1.04,2,     0.01,2, -999.000,9,     0.05,2,    2.563,2,    1.476,2, -999.000,9,   2039.4,2,   2329.5,2
           NA,     P15,     49,   1,      21,   12003,  2,20090219,1303, -29.9948, -169.9886,  5401,     70.6,    17.74,   35.560,2,  35.5571,2,    238.4,2,    237.5,2,     1.26,2,     0.01,2, -999.000,9,     0.11,2, -999.000,9, -999.000,9, -999.000,9,   2055.2,2,   2328.8,2
           NA,     P15,     49,   1,      20,   12051,  2,20090219,1303, -29.9948, -169.9886,  5401,     93.6,    16.75,   35.520,2,  35.5182,2,    226.0,2,    226.8,2,     1.39,2,     1.23,2, -999.000,9,     0.20,2,    2.681,2,    1.539,2, -999.000,9,   2068.1,2,   2329.9,2
           NA,     P15,     49,   1,      19,   12010,  2,20090219,1303, -29.9948, -169.9886,  5401,    168.2,    15.16,   35.365,2,  35.3673,2,    209.8,2,    208.7,2,     2.14,2,     5.86,2, -999.000,9,     0.46,2, -999.000,3, -999.000,3, -999.000,9,   2093.4,2,   2320.3,2
           NA,     P15,     49,   1,      18,   12018,  2,20090219,1303, -29.9948, -169.9886,  5401,    243.1,    13.57,   35.186,2,  35.1827,2,    203.8,2,    202.3,2,     3.07,2,     9.56,2, -999.000,9,     0.68,2,    2.917,2,    1.586,2, -999.000,9,   2109.1,2,   2305.9,2
           NA,     P15,     49,   1,      17,   12024,  2,20090219,1303, -29.9948, -169.9886,  5401,    316.8,    12.51,   35.092,2,  35.0925,2,    212.0,2,    212.1,2,     3.58,2,    10.93,2, -999.000,9,     0.77,2,    3.089,2,    1.691,2, -999.000,9,   2116.2,2,   2305.8,2
           NA,     P15,     49,   1,      16,   12001,  2,20090219,1303, -29.9948, -169.9886,  5401,    388.1,    10.91,   34.848,2,  34.8460,2,    206.9,2,    206.6,2,     4.57,2,    14.80,2, -999.000,9,     1.02,2,    3.179,2,    1.665,2, -999.000,9,   2128.0,2,   2294.5,6
           NA,     P15,     49,   1,      15,   12025,  2,20090219,1303, -29.9948, -169.9886,  5401,    450.1,     9.60,   34.671,2,  34.6704,2,    210.6,2,    210.9,2,     5.29,2,    17.57,2, -999.000,9,     1.19,2, -999.000,9, -999.000,9, -999.000,9,   2132.5,2,   2288.0,2
           NA,     P15,     49,   1,      14,   12041,  2,20090219,1303, -29.9948, -169.9886,  5401,    550.7,     8.06,   34.496,2,  34.4970,2,    222.9,2,    224.0,2,     6.27,2,    20.53,2, -999.000,9,     1.38,2,    3.423,6,    1.669,6, -999.000,9,   2137.3,2,   2279.8,2
           NA,     P15,     49,   1,      13,   12012,  2,20090219,1303, -29.9948, -169.9886,  5401,    698.8,     6.98,   34.401,2,  34.4010,2,    226.6,2,    228.6,2,     8.88,2,    23.19,2, -999.000,9,     1.55,2,    2.698,2,    1.278,2, -999.000,9,   2145.0,2,   2279.8,2
           NA,     P15,     49,   1,      12,   12022,  2,20090219,1303, -29.9948, -169.9886,  5401,    813.1,     6.34,   34.366,2,  34.3678,2,    219.7,2,    222.4,2,    13.06,2,    25.45,2, -999.000,9,     1.70,2,    1.939,2,    0.945,2, -999.000,9,   2153.5,6,   2281.4,6
           NA,     P15,     49,   1,      11,   12016,  2,20090219,1303, -29.9948, -169.9886,  5401,   1053.7,     4.67,   34.351,2,  34.3517,2,    193.0,2,    196.0,2,    31.94,2,    30.84,2, -999.000,9,     2.08,2,    0.468,2,    0.233,2, -999.000,9,   2189.4,2,   2296.0,2
           NA,     P15,     49,   1,      10,   12019,  2,20090219,1303, -29.9948, -169.9886,  5401,   1299.0,     3.36,   34.433,2,  34.4338,2,    172.9,2,    176.2,2,    57.39,2,    33.80,2, -999.000,9,     2.31,2,    0.097,2,    0.049,2, -999.000,9,   2230.7,2,   2320.7,2
           NA,     P15,     49,   1,       9,   12031,  2,20090219,1303, -29.9948, -169.9886,  5401,   1565.1,     2.71,   34.555,2,  34.5553,2,    156.7,2,    160.5,2,    85.79,2,    35.18,2, -999.000,9,     2.40,2,    0.016,2,    0.008,2, -999.000,9,   2265.6,2,   2351.9,2
           NA,     P15,     49,   1,       8,   12021,  2,20090219,1303, -29.9948, -169.9886,  5401,   1831.5,     2.41,   34.608,2,  34.6077,2,    149.4,2,    152.5,2,   104.21,2,    35.53,2, -999.000,9,     2.46,2,    0.002,2,    0.003,2, -999.000,9,   2289.3,2,   2391.1,2
           NA,     P15,     49,   1,       7,   12032,  2,20090219,1303, -29.9948, -169.9886,  5401,   2331.4,     2.08,   34.644,2,  34.6439,2,    144.7,2,    146.5,2,   121.48,2,    36.01,2, -999.000,9,     2.49,2,    0.004,2,    0.002,2, -999.000,9,   2308.1,2,   2396.8,2
           NA,     P15,     49,   1,       6,   12007,  2,20090219,1303, -29.9948, -169.9886,  5401,   2829.2,     1.83,   34.667,2,  34.6663,2,    149.4,2,    151.3,2,   128.35,2,    36.05,2, -999.000,9,     2.48,2,    0.001,2,    0.004,2, -999.000,9,   2311.0,2,   2397.0,6
           NA,     P15,     49,   1,       5,   12002,  2,20090219,1303, -29.9948, -169.9886,  5401,   3330.6,     1.63,   34.702,2,  34.7024,2,    175.2,2,    175.9,2,   116.75,2,    33.52,2, -999.000,9,     2.32,2,    0.006,6,    0.005,6, -999.000,9,   2280.8,2,   2378.9,2
           NA,     P15,     49,   1,       4,   12008,  2,20090219,1303, -29.9948, -169.9886,  5401,   3829.8,     1.34,   34.718,2,  34.7172,2,    196.7,2,    198.7,2,   111.82,2,    31.91,2, -999.000,9,     2.20,2,    0.030,2,    0.011,2, -999.000,9,   2261.9,2,   2363.2,2
           NA,     P15,     49,   1,       3,   12033,  2,20090219,1303, -29.9948, -169.9886,  5401,   4331.5,     1.09,   34.713,2,  34.7121,2,    204.3,2,    204.7,2,   117.84,2,    32.24,2, -999.000,9,     2.20,2,    0.046,2,    0.022,2, -999.000,9,   2261.7,2,   2361.7,2
           NA,     P15,     49,   1,       2,   12006,  2,20090219,1303, -29.9948, -169.9886,  5401,   4914.0,     1.04,   34.708,2,  34.7075,2,    206.9,2,    207.1,2,   121.84,2,    32.28,2, -999.000,9,     2.22,2,    0.062,2,    0.027,2, -999.000,9,   -999.0,9,   2363.0,2
           NA,     P15,     49,   1,       1,   12045,  2,20090219,1303, -29.9948, -169.9886,  5401,   5516.2,     1.10,   34.707,2,  34.7075,2,    207.8,2,    206.3,2,   122.06,2,    32.16,2, -999.000,9,     2.21,2,    0.052,2,    0.029,2, -999.000,9,   2261.2,2,   2364.9,6