BOTTLE,20214902JOAExport
EXPOCODE,SECT_ID,STNNBR,CASTNO,SAMPNO,BTLNBR,BTLNBR_FLAG_W,DATE,TIME,LATITUDE,LONGITUDE,DEPTH,CTDPRS,CTDTMP,CTDSAL,CTDSAL_FLAG_W,SALNTY,SALNTY_FLAG_W,CTDOXY,CTDOXY_FLAG_W,OXYGEN,OXYGEN_FLAG_W,SILCAT,SILCAT_FLAG_W,NITRAT,NITRAT_FLAG_W,NITRIT,NITRIT_FLAG_W,PHSPHT,PHSPHT_FLAG_W,CFC-11,CFC-11_FLAG_W,CFC-12,CFC-12_FLAG_W,SF6,SF6_FLAG_W,TCARBN,TCARBN_FLAG_W,ALKALI,ALKALI_FLAG_W
,,,,,,,,,,,,DB,ITS-90,PSS-78,,PSS-78,,UMOL/KG,,UMOL/KG,,UMOL/KG,,UMOL/KG,,UMOL/KG,,UMOL/KG,,PMOL/KG,,PMOL/KG,,FMOL/KG,,UMOL/KG,,UMOL/KG
           NA,     P15,     72,   1,      24,   12014,  2,20090302,0544, -18.4999, -170.0099,  5250,      2.4,    28.88,   34.946,2,  34.9433,2,    198.4,2,    197.3,2,     0.85,2,     0.01,2, -999.000,9,  -999.00,9, -999.000,9, -999.000,9, -999.000,9,   1934.8,6,   2293.5,6
           NA,     P15,     72,   1,      23,   12046,  2,20090302,0544, -18.4999, -170.0099,  5250,     26.9,    28.75,   34.947,2,  34.9469,2,    198.8,2,    197.8,2,     0.84,2,     0.00,2, -999.000,9,  -999.00,9, -999.000,9, -999.000,9, -999.000,9,   1935.7,2,   2296.9,2
           NA,     P15,     72,   1,      22,   12020,  2,20090302,0544, -18.4999, -170.0099,  5250,     57.3,    28.01,   35.228,2,  35.2245,2,    202.3,2,    201.6,2,     0.84,2,     0.00,2, -999.000,9,  -999.00,9, -999.000,9, -999.000,9, -999.000,9,   -999.0,9,   -999.0,9
           NA,     P15,     72,   1,      21,   12003,  2,20090302,0544, -18.4999, -170.0099,  5250,     87.3,    25.55,   35.355,2,  35.3504,2,    210.2,2,    208.9,2,     0.88,2,     0.00,2, -999.000,9,  -999.00,9, -999.000,9, -999.000,9, -999.000,9,   1977.6,2,   2320.3,2
           NA,     P15,     72,   1,      20,   12051,  2,20090302,0544, -18.4999, -170.0099,  5250,    137.4,    24.74,   35.772,2,  35.7748,2,    186.0,2,    185.1,2,     0.95,2,     0.59,2, -999.000,9,  -999.00,9, -999.000,9, -999.000,9, -999.000,9,   -999.0,9,   -999.0,9
           NA,     P15,     72,   1,      19,   12010,  2,20090302,0544, -18.4999, -170.0099,  5250,    207.1,    23.31,   36.103,2,  36.0697,2,    163.4,2,    162.5,2,     1.09,2,     3.19,2, -999.000,9,  -999.00,9, -999.000,9, -999.000,9, -999.000,9,   2088.7,2,   2367.1,2
           NA,     P15,     72,   1,      18,   12018,  2,20090302,0544, -18.4999, -170.0099,  5250,    277.1,    19.51,   35.617,2,  35.6092,2,    182.6,2,    180.4,2,     1.23,2,     3.80,2, -999.000,9,  -999.00,9, -999.000,9, -999.000,9, -999.000,9,   2076.1,2,   2333.1,2
           NA,     P15,     72,   1,      17,   12024,  2,20090302,0544, -18.4999, -170.0099,  5250,    346.9,    16.45,   35.294,2,  35.2783,2,    179.1,2,    178.2,2,     2.58,2,     7.67,2, -999.000,9,  -999.00,9, -999.000,9, -999.000,9, -999.000,9,   -999.0,9,   -999.0,9
           NA,     P15,     72,   1,      16,   12001,  2,20090302,0544, -18.4999, -170.0099,  5250,    467.4,    10.98,   34.708,2,  34.7036,2,    150.5,2,    148.8,2,    10.69,2,    19.92,2, -999.000,9,  -999.00,9, -999.000,9, -999.000,9, -999.000,9,   2156.6,2,   2291.5,2
           NA,     P15,     72,   1,      15,   12025,  2,20090302,0544, -18.4999, -170.0099,  5250,    507.2,     9.43,   34.559,2,  34.5523,2,    176.9,2,    175.9,2,     9.65,2,    21.02,2, -999.000,9,  -999.00,9, -999.000,9, -999.000,9, -999.000,9,   -999.0,9,   -999.0,9
           NA,     P15,     72,   1,      14,   12041,  2,20090302,0544, -18.4999, -170.0099,  5250,    607.7,     7.00,   34.387,2,  34.3855,2,    212.5,2,    213.0,2,    10.75,2,    24.01,2, -999.000,9,  -999.00,9, -999.000,9, -999.000,9, -999.000,9,   2152.3,2,   2282.2,2
           NA,     P15,     72,   1,      13,   12012,  2,20090302,0544, -18.4999, -170.0099,  5250,    747.3,     5.69,   34.363,2,  34.3631,2,    184.4,2,    185.2,2,    24.48,2,    29.63,2, -999.000,9,  -999.00,9, -999.000,9, -999.000,9, -999.000,9,   -999.0,9,   -999.0,9
           NA,     P15,     72,   1,      12,   12022,  2,20090302,0544, -18.4999, -170.0099,  5250,    897.1,     4.70,   34.406,2,  34.4051,2,    163.5,2,    164.8,2,    42.87,2,    32.87,2, -999.000,9,  -999.00,9, -999.000,9, -999.000,9, -999.000,9,   -999.0,9,   -999.0,9
           NA,     P15,     72,   1,      11,   12016,  2,20090302,0544, -18.4999, -170.0099,  5250,   1147.9,     3.31,   34.503,2,  34.5072,2,    153.2,2,    154.5,2,    75.05,2,    35.04,2, -999.000,9,  -999.00,9, -999.000,9, -999.000,9, -999.000,9,   -999.0,9,   -999.0,9
           NA,     P15,     72,   1,      10,   12019,  2,20090302,0544, -18.4999, -170.0099,  5250,   1397.3,     2.73,   34.573,2,-999.0000,9,    146.7,2,    148.6,2,    95.92,2,    35.59,2, -999.000,9,  -999.00,9, -999.000,9, -999.000,9, -999.000,9,   -999.0,9,   -999.0,9
           NA,     P15,     72,   1,       9,   12031,  2,20090302,0544, -18.4999, -170.0099,  5250,   1697.5,     2.43,   34.611,2,  34.6113,2,    143.4,2,    144.9,2,   109.95,2,    35.99,2, -999.000,9,  -999.00,9, -999.000,9, -999.000,9, -999.000,9,   -999.0,9,   -999.0,9
           NA,     P15,     72,   1,       8,   12021,  2,20090302,0544, -18.4999, -170.0099,  5250,   1897.5,     2.28,   34.624,2,  34.6246,2,    143.6,2,    144.8,2,   114.54,2,    36.01,2, -999.000,9,  -999.00,9, -999.000,9, -999.000,9, -999.000,9,   -999.0,9,   -999.0,9
           NA,     P15,     72,   1,       7,   12032,  2,20090302,0544, -18.4999, -170.0099,  5250,   2197.3,     2.07,   34.643,2,  34.6427,2,    144.7,2,    145.8,2,   121.86,2,    36.13,2, -999.000,9,  -999.00,9, -999.000,9, -999.000,9, -999.000,9,   -999.0,9,   -999.0,9
           NA,     P15,     72,   1,       6,   12007,  2,20090302,0544, -18.4999, -170.0099,  5250,   2497.3,     1.92,   34.656,2,  34.6563,2,    146.4,2,    147.4,2,   126.78,2,    36.07,2, -999.000,9,  -999.00,9, -999.000,9, -999.000,9, -999.000,9,   -999.0,9,   -999.0,9
           NA,     P15,     72,   1,       5,   12002,  2,20090302,0544, -18.4999, -170.0099,  5250,   2997.0,     1.76,   34.669,2,  34.6684,2,    147.8,2,    148.0,2,   133.79,2,    36.06,2, -999.000,9,  -999.00,9, -999.000,9, -999.000,9, -999.000,9,   -999.0,9,   -999.0,9
           NA,     P15,     72,   1,       4,   12008,  2,20090302,0544, -18.4999, -170.0099,  5250,   3297.3,     1.68,   34.676,2,  34.6753,2,    153.9,2,    153.9,2,   133.60,2,    35.69,2, -999.000,9,  -999.00,9, -999.000,9, -999.000,9, -999.000,9,   -999.0,9,   -999.0,9
           NA,     P15,     72,   1,       3,   12033,  2,20090302,0544, -18.4999, -170.0099,  5250,   3997.9,     1.32,   34.712,2,  34.7138,2,    195.1,2,    194.2,2,   115.82,2,    32.27,2, -999.000,9,  -999.00,9, -999.000,9, -999.000,9, -999.000,9,   -999.0,9,   -999.0,9
           NA,     P15,     72,   1,       2,   12006,  2,20090302,0544, -18.4999, -170.0099,  5250,   4798.1,     1.04,   34.709,2,  34.7087,2,    207.7,2,    205.9,2,   120.72,2,    32.07,2, -999.000,9,  -999.00,9, -999.000,9, -999.000,9, -999.000,9,   -999.0,9,   -999.0,9
           NA,     P15,     72,   1,       1,   12045,  2,20090302,0544, -18.4999, -170.0099,  5250,   5353.6,     1.09,   34.708,2,  34.7070,2,    208.8,2,    206.0,2,   121.11,2,    32.05,2, -999.000,9,  -999.00,9, -999.000,9, -999.000,9, -999.000,9,   -999.0,9,   -999.0,9
           NA,     P15,     73,   1,      24,   12014,  2,20090302,1237, -17.9882, -170.0121,  5050,      2.5,    29.07,   35.360,2,  35.3567,2,    195.4,2,    194.6,2,     1.04,2,     0.00,2, -999.000,9,  -999.00,9, -999.000,3, -999.000,3, -999.000,9,   1961.2,6,   2322.6,6
           NA,     P15,     73,   1,      23,   12046,  2,20090302,1237, -17.9882, -170.0121,  5050,     37.2,    29.08,   35.359,2,  35.3561,2,    195.4,2,    194.8,2,     1.04,2,     0.00,2, -999.000,9,  -999.00,9, -999.000,3, -999.000,3, -999.000,9,   1963.2,2,   2323.5,2
           NA,     P15,     73,   1,      22,   12020,  2,20090302,1237, -17.9882, -170.0121,  5050,     66.7,    28.58,   35.501,2,  35.5955,2,    203.3,2,    202.4,2,     1.06,2,     0.00,2, -999.000,9,  -999.00,9, -999.000,3, -999.000,3, -999.000,9,   1978.1,2,   2338.8,2
           NA,     P15,     73,   1,      21,   12003,  2,20090302,1237, -17.9882, -170.0121,  5050,     96.9,    27.05,   35.845,2,  35.8576,2,    207.0,2,    205.8,2,     1.06,2,     0.00,2, -999.000,9,  -999.00,9, -999.000,3, -999.000,3, -999.000,9,   1998.5,2,   2352.5,2
           NA,     P15,     73,   1,      20,   12051,  2,20090302,1237, -17.9882, -170.0121,  5050,    147.2,    24.67,   35.644,2,-999.0000,9,    190.2,2,    187.0,2,     1.04,2,     0.47,2, -999.000,9,  -999.00,9, -999.000,3, -999.000,3, -999.000,9,   2022.2,2,   2341.9,6
           NA,     P15,     73,   1,      19,   12010,  2,20090302,1237, -17.9882, -170.0121,  5050,    206.9,    23.35,   36.086,2,  36.0833,2,    165.0,2,    163.8,2,     1.19,2,     2.70,2, -999.000,9,  -999.00,9, -999.000,3, -999.000,3, -999.000,9,   2084.9,2,   2371.4,2
           NA,     P15,     73,   1,      18,   12018,  2,20090302,1237, -17.9882, -170.0121,  5050,    278.1,    19.77,   35.643,2,-999.0000,9,    173.7,2,    172.0,2,     1.46,2,     4.35,2, -999.000,9,  -999.00,9, -999.000,3, -999.000,3, -999.000,9,   2084.7,2,   2337.2,2
           NA,     P15,     73,   1,      17,   12024,  2,20090302,1237, -17.9882, -170.0121,  5050,    357.3,    16.58,   35.326,2,  35.3204,2,    182.5,2,    181.5,2,     2.31,2,     6.71,2, -999.000,9,  -999.00,9, -999.000,3, -999.000,3, -999.000,9,   2093.1,2,   2318.3,2
           NA,     P15,     73,   1,      16,   12001,  2,20090302,1237, -17.9882, -170.0121,  5050,    441.1,    12.15,   34.819,2,  34.8143,2,    155.6,2,    154.4,2,     8.32,2,    17.02,2, -999.000,9,  -999.00,9, -999.000,3, -999.000,3, -999.000,9,   2143.5,2,   2293.7,2
           NA,     P15,     73,   1,      15,   12025,  2,20090302,1237, -17.9882, -170.0121,  5050,    521.2,     9.35,   34.575,2,  34.5700,2,    160.0,2,    157.7,2,    13.04,2,    23.07,2, -999.000,9,  -999.00,9, -999.000,3, -999.000,3, -999.000,9,   2163.4,2,   2289.6,2
           NA,     P15,     73,   1,      14,   12041,  2,20090302,1237, -17.9882, -170.0121,  5050,    640.0,     6.68,   34.380,2,  34.3768,2,    200.9,2,    200.8,2,    14.62,2,    26.20,2, -999.000,9,  -999.00,9, -999.000,3, -999.000,3, -999.000,9,   2163.4,2,   2279.2,2
           NA,     P15,     73,   1,      13,   12012,  2,20090302,1237, -17.9882, -170.0121,  5050,    827.1,     4.95,   34.363,2,  34.3668,2,    181.3,2,    179.1,2,    33.03,2,    31.56,2, -999.000,9,  -999.00,9, -999.000,3, -999.000,3, -999.000,9,   2199.9,2,   2294.9,2
           NA,     P15,     73,   1,      12,   12022,  2,20090302,1237, -17.9882, -170.0121,  5050,    963.2,     3.93,   34.416,2,  34.4155,2,    166.4,2,    167.8,2,    52.39,2,    33.83,2, -999.000,9,  -999.00,9,    0.094,2,    0.051,2, -999.000,9,   2227.0,6,   2315.8,6
           NA,     P15,     73,   1,      11,   12016,  2,20090302,1237, -17.9882, -170.0121,  5050,   1230.3,     3.01,   34.551,2,  34.5498,2,    146.0,2,    146.8,2,    88.97,2,    35.63,2, -999.000,9,  -999.00,9,    0.007,2,    0.007,2, -999.000,9,   2276.7,2,   -999.0,9
           NA,     P15,     73,   1,      10,   12019,  2,20090302,1237, -17.9882, -170.0121,  5050,   1489.2,     2.63,   34.592,2,  34.5922,2,    143.6,2,    144.3,2,   103.32,2,    35.98,2, -999.000,9,  -999.00,9,    0.004,2,    0.002,2, -999.000,9,   2288.3,2,   2371.5,2
           NA,     P15,     73,   1,       9,   12031,  2,20090302,1237, -17.9882, -170.0121,  5050,   1780.8,     2.37,   34.616,2,  34.6191,2,    143.4,2,    144.5,2,   111.92,2,    36.00,2, -999.000,9,  -999.00,9,    0.004,2,    0.004,2, -999.000,9,   2298.3,2,   2382.2,2
           NA,     P15,     73,   1,       8,   12021,  2,20090302,1237, -17.9882, -170.0121,  5050,   1981.2,     2.21,   34.630,2,  34.6292,2,    143.7,2,    144.8,2,   116.95,2,    36.06,2, -999.000,9,  -999.00,9,    0.003,2,    0.002,2, -999.000,9,   2302.0,2,   2388.1,2
           NA,     P15,     73,   1,       7,   12032,  2,20090302,1237, -17.9882, -170.0121,  5050,   2297.5,     1.99,   34.649,2,  34.6492,2,    144.8,2,    145.5,2,   124.50,2,    36.04,2, -999.000,9,  -999.00,9,    0.001,6,    0.001,6, -999.000,9,   2310.7,2,   2399.9,2
           NA,     P15,     73,   1,       6,   12007,  2,20090302,1237, -17.9882, -170.0121,  5050,   2630.9,     1.87,   34.661,2,  34.6598,2,    145.8,2,    146.5,2,   129.85,2,    36.04,2, -999.000,9,  -999.00,9,    0.002,2,    0.002,2, -999.000,9,   2314.3,2,   2403.7,6
           NA,     P15,     73,   1,       5,   12002,  2,20090302,1237, -17.9882, -170.0121,  5050,   3165.8,     1.69,   34.674,2,-999.0000,9,    151.5,2,    151.1,2,   134.52,2,    35.79,2, -999.000,9,  -999.00,9,    0.002,2,    0.002,2, -999.000,9,   2313.4,2,   2407.9,2
           NA,     P15,     73,   1,       4,   12008,  2,20090302,1237, -17.9882, -170.0121,  5050,   3665.9,     1.46,   34.702,2,  34.7022,2,    180.8,2,    179.8,2,   121.39,2,    33.44,2, -999.000,9,  -999.00,9,    0.026,2,    0.012,2, -999.000,9,   2282.2,2,   2383.9,2
           NA,     P15,     73,   1,       3,   12033,  2,20090302,1237, -17.9882, -170.0121,  5050,   4164.3,     1.14,   34.713,2,  34.7138,2,    203.1,2,    202.2,2,   117.28,2,    32.03,2, -999.000,9,  -999.00,9,    0.046,2,    0.018,2, -999.000,9,   2262.1,2,   2363.7,2
           NA,     P15,     73,   1,       2,   12006,  2,20090302,1237, -17.9882, -170.0121,  5050,   4663.6,     1.02,   34.709,2,-999.0000,9,    207.3,2,    205.9,2,   120.78,2,    32.15,2, -999.000,9,  -999.00,9,    0.064,6,    0.032,6, -999.000,9,   2261.4,2,   2362.2,2
           NA,     P15,     73,   1,       1,   12045,  2,20090302,1237, -17.9882, -170.0121,  5050,   5273.2,     1.09,   34.708,2,  34.7077,2,    208.3,2,    205.9,2,   121.24,2,    32.14,2, -999.000,9,  -999.00,9,    0.063,2,    0.029,2, -999.000,9,   2262.2,6,   2362.2,6