BOTTLE,20214902JOAExport
EXPOCODE,SECT_ID,STNNBR,CASTNO,SAMPNO,BTLNBR,BTLNBR_FLAG_W,DATE,TIME,LATITUDE,LONGITUDE,DEPTH,CTDPRS,CTDTMP,CTDSAL,CTDSAL_FLAG_W,SALNTY,SALNTY_FLAG_W,CTDOXY,CTDOXY_FLAG_W,OXYGEN,OXYGEN_FLAG_W,SILCAT,SILCAT_FLAG_W,NITRAT,NITRAT_FLAG_W,NITRIT,NITRIT_FLAG_W,PHSPHT,PHSPHT_FLAG_W,CFC-11,CFC-11_FLAG_W,CFC-12,CFC-12_FLAG_W,SF6,SF6_FLAG_W,TCARBN,TCARBN_FLAG_W,ALKALI,ALKALI_FLAG_W
,,,,,,,,,,,,DB,ITS-90,PSS-78,,PSS-78,,UMOL/KG,,UMOL/KG,,UMOL/KG,,UMOL/KG,,UMOL/KG,,UMOL/KG,,PMOL/KG,,PMOL/KG,,FMOL/KG,,UMOL/KG,,UMOL/KG
           NA,     P15,     28,   1,      24,   12015,  2,20090213,0932, -39.9685, -172.6904,  4719,      4.3,    19.42,   35.480,2,  35.4799,2,    231.7,2,    230.8,2,     0.72,2,     0.00,2, -999.000,9,     0.06,2, -999.000,9, -999.000,9, -999.000,9,   2049.0,2,   2331.9,2
           NA,     P15,     28,   1,      23,   12046,  2,20090213,0932, -39.9685, -172.6904,  4719,     22.8,    19.43,   35.479,2,  35.4799,2,    231.8,2,    231.0,2,     0.73,2,     0.00,2, -999.000,9,     0.05,2, -999.000,9, -999.000,9, -999.000,9,   -999.0,9,   -999.0,9
           NA,     P15,     28,   1,      22,   12020,  2,20090213,0932, -39.9685, -172.6904,  4719,     54.2,    16.33,   35.407,2,  35.4097,2,    250.7,2,    250.2,2,     1.08,2,     0.01,2, -999.000,9,     0.12,2, -999.000,9, -999.000,9, -999.000,9,   -999.0,9,   -999.0,9
           NA,     P15,     28,   1,      21,   12003,  2,20090213,0932, -39.9685, -172.6904,  4719,    130.4,    14.05,   35.299,2,  35.2972,2,    225.2,2,    223.9,2,     2.25,2,     6.03,2, -999.000,9,     0.47,2, -999.000,9, -999.000,9, -999.000,9,   -999.0,9,   -999.0,9
           NA,     P15,     28,   1,      20,   12051,  2,20090213,0932, -39.9685, -172.6904,  4719,    179.0,    13.22,   35.198,2,  35.1971,2,    222.9,2,    221.4,2,     2.89,2,     8.12,2, -999.000,9,     0.60,2, -999.000,9, -999.000,9, -999.000,9,   -999.0,9,   -999.0,9
           NA,     P15,     28,   1,      19,   12010,  2,20090213,0932, -39.9685, -172.6904,  4719,    223.7,    12.97,   35.190,2,  35.2012,2,    227.7,2,    226.7,2,     2.79,2,     8.20,2, -999.000,9,     0.60,2, -999.000,9, -999.000,9, -999.000,9,   -999.0,9,   -999.0,9
           NA,     P15,     28,   1,      18,   12018,  2,20090213,0932, -39.9685, -172.6904,  4719,    264.2,    12.63,   35.134,2,  35.1335,2,    225.6,2,    225.0,2,     2.96,2,     9.06,2, -999.000,9,     0.65,2, -999.000,9, -999.000,9, -999.000,9,   -999.0,9,   -999.0,9
           NA,     P15,     28,   1,      17,   12024,  2,20090213,0932, -39.9685, -172.6904,  4719,    366.2,    11.23,   34.924,2,  34.9213,2,    205.8,2,    204.3,2,     5.47,2,    14.58,2, -999.000,9,     1.00,2, -999.000,9, -999.000,9, -999.000,9,   -999.0,9,   -999.0,9
           NA,     P15,     28,   1,      16,   12001,  2,20090213,0932, -39.9685, -172.6904,  4719,    465.4,     9.56,   34.693,2,  34.6922,2,    213.9,2,    213.3,2,     6.56,2,    17.63,2, -999.000,9,     1.20,2, -999.000,9, -999.000,9, -999.000,9,   -999.0,9,   -999.0,9
           NA,     P15,     28,   1,      15,   12025,  2,20090213,0932, -39.9685, -172.6904,  4719,    552.0,     8.72,   34.600,2,  34.6015,2,    216.1,2,    215.5,2,     8.08,2,    19.61,2, -999.000,9,     1.33,2, -999.000,9, -999.000,9, -999.000,9,   -999.0,9,   -999.0,9
           NA,     P15,     28,   1,      14,   12041,  2,20090213,0932, -39.9685, -172.6904,  4719,    635.9,     8.13,   34.544,2,  34.5445,2,    215.6,2,    215.3,2,     9.06,2,    20.98,2, -999.000,9,     1.41,2, -999.000,9, -999.000,9, -999.000,9,   -999.0,9,   -999.0,9
           NA,     P15,     28,   1,      13,   12012,  2,20090213,0932, -39.9685, -172.6904,  4719,    832.3,     6.89,   34.445,2,  34.4451,2,    211.5,2,    211.7,2,    14.53,2,    24.31,2, -999.000,9,     1.62,2, -999.000,9, -999.000,9, -999.000,9,   -999.0,9,   -999.0,9
           NA,     P15,     28,   1,      12,   12022,  2,20090213,0932, -39.9685, -172.6904,  4719,   1030.4,     5.83,   34.418,2,  34.4190,2,    197.8,2,    198.5,2,    25.92,2,    27.63,2, -999.000,9,     1.84,2, -999.000,9, -999.000,9, -999.000,9,   -999.0,9,   -999.0,9
           NA,     P15,     28,   1,      11,   12016,  2,20090213,0932, -39.9685, -172.6904,  4719,   1230.3,     4.68,   34.435,2,  34.4351,2,    182.8,2,    183.3,2,    43.71,2,    30.64,2, -999.000,9,     2.06,2, -999.000,9, -999.000,9, -999.000,9,   -999.0,9,   -999.0,9
           NA,     P15,     28,   1,      10,   12019,  2,20090213,0932, -39.9685, -172.6904,  4719,   1430.5,     3.72,   34.472,2,  34.4718,2,    172.4,2,    173.0,2,    59.98,2,    32.68,2, -999.000,9,     2.23,2, -999.000,9, -999.000,9, -999.000,9,   -999.0,9,   -999.0,9
           NA,     P15,     28,   1,       9,   12031,  2,20090213,0932, -39.9685, -172.6904,  4719,   1615.3,     3.16,   34.530,2,  34.5301,2,    162.8,2,    164.9,2,    77.18,2,    33.84,2, -999.000,9,     2.32,2, -999.000,9, -999.000,9, -999.000,9,   -999.0,9,   -999.0,9
           NA,     P15,     28,   1,       8,   12021,  2,20090213,0932, -39.9685, -172.6904,  4719,   1798.0,     2.78,   34.576,2,  34.5757,2,    157.2,2,    157.3,2,    90.98,2,    34.34,2, -999.000,9,     2.36,2, -999.000,9, -999.000,9, -999.000,9,   -999.0,9,   -999.0,9
           NA,     P15,     28,   1,       7,   12032,  2,20090213,0932, -39.9685, -172.6904,  4719,   2064.0,     2.42,   34.620,2,  34.6252,2,    153.5,2,    153.3,2,   103.10,2,    34.79,2, -999.000,9,     2.37,2, -999.000,9, -999.000,9, -999.000,9,   -999.0,9,   -999.0,9
           NA,     P15,     28,   1,       6,   12007,  2,20090213,0932, -39.9685, -172.6904,  4719,   2330.7,     2.19,   34.644,2,  34.6429,2,    153.4,2,    152.1,2,   113.02,2,    34.98,2, -999.000,9,     2.42,2, -999.000,9, -999.000,9, -999.000,9,   -999.0,9,   -999.0,9
           NA,     P15,     28,   1,       5,   12055,  2,20090213,0932, -39.9685, -172.6904,  4719,   2830.0,     1.89,   34.701,2,-999.0000,9,    175.7,2,    175.6,2,   104.71,2,    32.75,2, -999.000,9,     2.23,2, -999.000,9, -999.000,9, -999.000,9,   -999.0,9,   -999.0,9
           NA,     P15,     28,   1,       4,   12009,  2,20090213,0932, -39.9685, -172.6904,  4719,   3329.1,     1.54,   34.728,2,  34.7292,2,    196.4,2,    195.6,2,   103.43,2,    31.36,2, -999.000,9,     2.13,2, -999.000,9, -999.000,9, -999.000,9,   -999.0,9,   -999.0,9
           NA,     P15,     28,   1,       3,   12033,  2,20090213,0932, -39.9685, -172.6904,  4719,   3832.0,     1.20,   34.719,2,  34.7182,2,    204.2,2,    202.6,2,   112.67,2,    31.56,2, -999.000,9,     2.14,2, -999.000,9, -999.000,9, -999.000,9,   -999.0,9,   -999.0,9
           NA,     P15,     28,   1,       2,   12006,  2,20090213,0932, -39.9685, -172.6904,  4719,   4414.5,     1.01,   34.709,2,  34.7099,2,    208.0,2,    201.0,2,   120.16,2,    31.83,2, -999.000,9,     2.17,2, -999.000,9, -999.000,9, -999.000,9,   -999.0,9,   -999.0,9
           NA,     P15,     28,   1,       1,   12045,  2,20090213,0932, -39.9685, -172.6904,  4719,   4802.5,     0.97,   34.706,2,  34.7058,2,    209.7,2,   -999.0,9,   122.87,2,    32.06,2, -999.000,9,     2.18,2, -999.000,9, -999.000,9, -999.000,9,   -999.0,9,   -999.0,9
           NA,     P15,     29,   1,      24,   12015,  2,20090213,1616, -39.5118, -172.4237,  4758,      3.7,    18.84,   35.055,2,  35.0539,2,    235.8,2,    234.4,2,     0.98,2,     0.00,2, -999.000,9,     0.11,2,    2.433,6,    1.458,6, -999.000,9,   2045.6,6,   2310.1,6
           NA,     P15,     29,   1,      23,   12046,  2,20090213,1616, -39.5118, -172.4237,  4758,     37.8,    18.87,   35.043,2,  35.0535,2,    236.8,2,    234.7,2,     0.99,2,     0.00,2, -999.000,9,     0.10,2,    2.457,2,    1.484,2, -999.000,9,   2045.4,2,   2304.3,2
           NA,     P15,     29,   1,      22,   12020,  2,20090213,1616, -39.5118, -172.4237,  4758,     66.2,    14.03,   35.040,2,  35.0403,2,    276.2,2,    275.9,2,     1.10,2,     0.07,2, -999.000,9,     0.19,2, -999.000,3, -999.000,4, -999.000,9,   2059.8,2,   2310.1,2
           NA,     P15,     29,   1,      21,   12003,  2,20090213,1616, -39.5118, -172.4237,  4758,    148.9,    12.72,   35.139,2,  35.1408,2,    240.7,2,    239.7,2,     2.05,2,     7.15,2, -999.000,9,     0.55,2,    3.235,2,    1.801,2, -999.000,9,   2099.3,2,   2308.7,2
           NA,     P15,     29,   1,      20,   12051,  2,20090213,1616, -39.5118, -172.4237,  4758,    199.1,    12.34,   35.090,2,  35.0880,2,    237.9,2,    237.2,2,     2.51,2,     8.61,2, -999.000,9,     0.63,2,    2.967,2,    1.819,2, -999.000,9,   2105.3,2,   2308.9,2
           NA,     P15,     29,   1,      19,   12010,  2,20090213,1616, -39.5118, -172.4237,  4758,    246.4,    11.79,   35.000,2,  35.0008,2,    235.1,2,    234.7,2,     2.97,2,    10.18,2, -999.000,9,     0.72,2,    3.140,2,    1.835,2, -999.000,9,   2112.7,2,   2304.3,2
           NA,     P15,     29,   1,      18,   12018,  2,20090213,1616, -39.5118, -172.4237,  4758,    296.2,    11.06,   34.888,2,  34.8859,2,    221.2,2,    220.7,2,     4.10,2,    13.11,2, -999.000,9,     0.89,2,    3.081,2,    1.780,2, -999.000,9,   2121.1,2,   2298.0,2
           NA,     P15,     29,   1,      17,   12024,  2,20090213,1616, -39.5118, -172.4237,  4758,    372.7,     9.98,   34.744,2,  34.7431,2,    218.6,2,    217.7,2,     5.16,2,    16.14,2, -999.000,9,     1.08,2,    3.346,2,    1.773,2, -999.000,9,   2132.2,2,   2293.1,2
           NA,     P15,     29,   1,      16,   12001,  2,20090213,1616, -39.5118, -172.4237,  4758,    498.1,     8.71,   34.588,2,  34.5875,2,    217.9,2,    217.1,2,     6.75,2,    19.60,2, -999.000,9,     1.32,2,    3.398,2,    1.722,2, -999.000,9,   2140.9,2,   2287.2,2
           NA,     P15,     29,   1,      15,   12025,  2,20090213,1616, -39.5118, -172.4237,  4758,    599.3,     8.09,   34.524,2,  34.5237,2,    220.1,2,    219.5,2,     8.12,2,    21.05,2, -999.000,9,     1.39,2, -999.000,9, -999.000,9, -999.000,9,   2144.2,2,   2285.4,2
           NA,     P15,     29,   1,      14,   12041,  2,20090213,1616, -39.5118, -172.4237,  4758,    696.0,     7.55,   34.480,2,  34.4815,2,    219.2,2,    219.1,2,    10.12,2,    22.49,2, -999.000,9,     1.48,2,    2.812,2,    1.407,2, -999.000,9,   2147.4,2,   2287.1,2
           NA,     P15,     29,   1,      13,   12012,  2,20090213,1616, -39.5118, -172.4237,  4758,    896.8,     6.46,   34.430,2,  34.4294,2,    205.7,2,    206.4,2,    18.62,2,    26.04,2, -999.000,9,     1.72,2,    1.406,2,    0.743,2, -999.000,9,   2168.4,2,   2291.2,2
           NA,     P15,     29,   1,      12,   12022,  2,20090213,1616, -39.5118, -172.4237,  4758,   1096.9,     5.19,   34.401,2,  34.4006,2,    192.8,2,    193.4,2,    32.13,2,    29.54,2, -999.000,9,     1.95,2, -999.000,9, -999.000,9, -999.000,9,   2190.8,6,   2302.5,6
           NA,     P15,     29,   1,      11,   12016,  2,20090213,1616, -39.5118, -172.4237,  4758,   1345.2,     3.93,   34.447,2,  34.4477,2,    176.7,2,    177.6,2,    54.42,2,    32.63,2, -999.000,9,     2.18,2, -999.000,3, -999.000,3, -999.000,9,   2223.8,2,   2321.9,6
           NA,     P15,     29,   1,      10,   12019,  2,20090213,1616, -39.5118, -172.4237,  4758,   1598.2,     3.11,   34.536,2,  34.5370,2,    162.3,2,    163.1,2,    80.08,2,    34.41,2, -999.000,9,     2.31,2,    0.090,2,    0.042,6, -999.000,9,   2259.2,2,   2350.9,2
           NA,     P15,     29,   1,       9,   12031,  2,20090213,1616, -39.5118, -172.4237,  4758,   1797.7,     2.69,   34.588,2,  34.5879,2,    156.1,2,    156.1,2,    96.09,2,    34.96,2, -999.000,9,     2.37,2, -999.000,3, -999.000,3, -999.000,9,   2278.1,2,   2367.5,2
           NA,     P15,     29,   1,       7,   12032,  2,20090213,1616, -39.5118, -172.4237,  4758,   2197.8,     2.29,   34.634,2,  34.6329,2,    153.2,2,    153.6,2,   110.82,2,  -999.00,9, -999.000,9,     2.41,2,    0.036,2,    0.009,2, -999.000,9,   2294.6,2,   2385.1,2
           NA,     P15,     29,   1,       6,   12007,  2,20090213,1616, -39.5118, -172.4237,  4758,   2496.5,     2.07,   34.660,2,  34.6602,2,    156.8,2,    156.2,2,   114.84,2,    35.00,2, -999.000,9,     2.39,2,    0.029,2,    0.008,2, -999.000,9,   2296.4,2,   2385.2,2
           NA,     P15,     29,   1,       5,   12055,  2,20090213,1616, -39.5118, -172.4237,  4758,   2997.7,     1.77,   34.722,2,  34.7237,2,    187.9,2,    187.4,2,   101.69,2,    32.09,2, -999.000,9,     2.15,2,    0.071,2,    0.026,2, -999.000,9,   2263.5,2,   2360.4,2
           NA,     P15,     29,   1,       4,   12009,  2,20090213,1616, -39.5118, -172.4237,  4758,   3497.7,     1.36,   34.724,2,  34.7246,2,    200.2,2,    199.6,2,   109.73,2,    31.75,2, -999.000,9,     2.14,2,    0.069,6,    0.028,6, -999.000,9,   2258.5,2,   2359.5,2
           NA,     P15,     29,   1,       3,   12033,  2,20090213,1616, -39.5118, -172.4237,  4758,   4000.0,     1.06,   34.713,2,  34.7144,2,    206.5,2,    205.3,2,   118.87,2,    32.00,2, -999.000,9,     2.18,2,    0.116,2,    0.047,2, -999.000,9,   2260.5,2,   2362.3,2
           NA,     P15,     29,   1,       2,   12006,  2,20090213,1616, -39.5118, -172.4237,  4758,   4499.8,     0.97,   34.707,2,  34.7060,2,    208.7,2,    207.2,2,   122.95,2,    32.21,2, -999.000,9,     2.17,2,    0.122,2,    0.058,2, -999.000,9,   2262.5,2,   2362.6,6
           NA,     P15,     29,   1,       1,   12045,  2,20090213,1616, -39.5118, -172.4237,  4758,   4840.8,     0.98,   34.706,2,  34.7058,2,    209.4,2,    207.1,2,   124.79,2,    32.36,2, -999.000,9,     2.18,2,    0.212,2,    0.078,2, -999.000,9,   2262.1,6,   2363.5,6