BOTTLE,20214902JOAExport
EXPOCODE,SECT_ID,STNNBR,CASTNO,SAMPNO,BTLNBR,BTLNBR_FLAG_W,DATE,TIME,LATITUDE,LONGITUDE,DEPTH,CTDPRS,CTDTMP,CTDSAL,CTDSAL_FLAG_W,SALNTY,SALNTY_FLAG_W,CTDOXY,CTDOXY_FLAG_W,OXYGEN,OXYGEN_FLAG_W,SILCAT,SILCAT_FLAG_W,NITRAT,NITRAT_FLAG_W,NITRIT,NITRIT_FLAG_W,PHSPHT,PHSPHT_FLAG_W,CFC-11,CFC-11_FLAG_W,CFC-12,CFC-12_FLAG_W,SF6,SF6_FLAG_W,TCARBN,TCARBN_FLAG_W,ALKALI,ALKALI_FLAG_W
,,,,,,,,,,,,DB,ITS-90,PSS-78,,PSS-78,,UMOL/KG,,UMOL/KG,,UMOL/KG,,UMOL/KG,,UMOL/KG,,UMOL/KG,,PMOL/KG,,PMOL/KG,,FMOL/KG,,UMOL/KG,,UMOL/KG
           NA,     P15,     65,   1,      24,   12014,  2,20090224,0726, -22.1638, -170.0016,  5636,      2.9,    27.36,   34.686,2,  34.6830,2,    202.5,2,    201.5,2,     0.86,2,     0.00,2, -999.000,9,     0.00,2,    1.713,2,    1.041,2, -999.000,9,   1931.9,6,   2271.8,6
           NA,     P15,     65,   1,      23,   12046,  2,20090224,0726, -22.1638, -170.0016,  5636,     17.4,    27.37,   34.684,2,  34.6846,2,    202.5,2,    201.9,2,     0.86,2,     0.00,2, -999.000,9,     0.00,2, -999.000,9, -999.000,9, -999.000,9,   1931.6,2,   2274.4,2
           NA,     P15,     65,   1,      22,   12020,  2,20090224,0726, -22.1638, -170.0016,  5636,     32.1,    27.06,   34.939,2,  34.9461,2,    203.8,2,    202.2,2,     0.84,2,     0.00,2, -999.000,9,     0.00,2,    1.750,2,    1.058,2, -999.000,9,   1956.4,2,   2289.6,2
           NA,     P15,     65,   1,      21,   12003,  2,20090224,0726, -22.1638, -170.0016,  5636,     57.0,    24.67,   35.307,2,  35.3133,2,    225.6,2,    225.0,2,     0.85,2,     0.00,2, -999.000,9,     0.00,2,    2.048,2,    1.219,2, -999.000,9,   1981.7,2,   2313.7,2
           NA,     P15,     65,   1,      20,   12051,  2,20090224,0726, -22.1638, -170.0016,  5636,     77.5,    23.36,   35.402,2,  35.4046,2,    232.2,2,    230.4,2,     0.85,2,     0.00,2, -999.000,9,     0.00,2, -999.000,9, -999.000,9, -999.000,9,   1990.0,2,   2319.7,2
           NA,     P15,     65,   1,      19,   12010,  2,20090224,0726, -22.1638, -170.0016,  5636,    198.2,    19.44,   35.611,2,  35.6080,2,    192.2,2,    193.2,2,     1.12,2,     2.62,2, -999.000,9,     0.22,2,    2.333,2,    1.359,2, -999.000,9,   2060.1,2,   2330.7,2
           NA,     P15,     65,   1,      18,   12018,  2,20090224,0726, -22.1638, -170.0016,  5636,    240.7,    18.21,   35.533,2,  35.5358,2,    189.4,2,    188.1,2,     1.41,2,     4.10,2, -999.000,9,     0.35,2,    2.453,2,    1.404,2, -999.000,9,   2078.0,2,   2329.5,2
           NA,     P15,     65,   1,      17,   12024,  2,20090224,0726, -22.1638, -170.0016,  5636,    317.9,    16.48,   35.462,2,  35.4575,2,    198.2,2,    197.5,2,     1.75,2,     5.21,2, -999.000,9,     0.42,2, -999.000,9, -999.000,9, -999.000,9,   2087.2,2,   2323.0,2
           NA,     P15,     65,   1,      16,   12001,  2,20090224,0726, -22.1638, -170.0016,  5636,    387.7,    14.10,   35.176,2,  35.1705,2,    195.7,2,    195.2,2,     2.78,2,     9.15,2, -999.000,9,     0.68,2,    2.796,2,    1.521,2, -999.000,9,   2107.4,2,   2306.8,6
           NA,     P15,     65,   1,      15,   12025,  2,20090224,0726, -22.1638, -170.0016,  5636,    450.3,    12.02,   34.916,2,  34.9008,2,    196.3,2,    195.8,2,     4.06,2,    13.32,2, -999.000,9,     0.96,2, -999.000,9, -999.000,9, -999.000,9,   2119.8,2,   2296.3,2
           NA,     P15,     65,   1,      14,   12041,  2,20090224,0726, -22.1638, -170.0016,  5636,    547.2,     8.55,   34.496,2,  34.4983,2,    198.0,2,    197.7,2,     8.19,2,    21.08,2, -999.000,9,     1.47,2,    2.368,2,    1.167,2, -999.000,9,   2145.8,2,   2282.4,2
           NA,     P15,     65,   1,      13,   12012,  2,20090224,0726, -22.1638, -170.0016,  5636,    697.7,     6.13,   34.336,2,  34.3364,2,    216.9,2,    219.8,2,    13.13,2,    25.87,2, -999.000,9,     1.73,2, -999.000,9, -999.000,9, -999.000,9,   2154.5,2,   2282.5,2
           NA,     P15,     65,   1,      12,   12022,  2,20090224,0726, -22.1638, -170.0016,  5636,    815.4,     5.29,   34.329,2,  34.3299,2,    200.0,2,    202.3,2,    22.67,2,    29.25,2, -999.000,9,     1.95,2, -999.000,9, -999.000,9, -999.000,9,   2176.3,6,   2287.3,6
           NA,     P15,     65,   1,      11,   12016,  2,20090224,0726, -22.1638, -170.0016,  5636,   1056.3,     3.97,   34.425,2,  34.4273,2,    162.4,2,    164.1,2,    53.82,2,    34.10,2, -999.000,9,     2.30,2,    0.078,2,    0.038,2, -999.000,9,   2232.8,2,   2319.3,2
           NA,     P15,     65,   1,      10,   12019,  2,20090224,0726, -22.1638, -170.0016,  5636,   1296.2,     2.95,   34.524,2,  34.5249,2,    155.8,2,    157.8,2,    81.45,2,    35.11,2, -999.000,9,     2.38,2, -999.000,9, -999.000,9, -999.000,9,   2261.5,2,   2346.4,2
           NA,     P15,     65,   1,       9,   12031,  2,20090224,0726, -22.1638, -170.0016,  5636,   1564.9,     2.55,   34.592,2,  34.5928,2,    146.7,2,    150.0,2,   101.87,2,    35.68,2, -999.000,9,     2.44,2, -999.000,9, -999.000,9, -999.000,9,   2287.5,2,   2376.8,2
           NA,     P15,     65,   1,       8,   12021,  2,20090224,0726, -22.1638, -170.0016,  5636,   1830.0,     2.33,   34.619,2,  34.6187,2,    143.5,2,    145.3,2,   113.03,2,    36.03,2, -999.000,9,     2.48,2,    0.006,2,    0.002,2, -999.000,9,   2299.2,2,   2385.8,2
           NA,     P15,     65,   1,       7,   12032,  2,20090224,0726, -22.1638, -170.0016,  5636,   2330.3,     2.01,   34.648,2,  34.6488,2,    143.8,2,    145.4,2,   124.88,2,    36.21,2, -999.000,9,     2.49,2,    0.002,2,    0.000,2, -999.000,9,   2310.2,2,   2396.4,2
           NA,     P15,     65,   1,       6,   12007,  2,20090224,0726, -22.1638, -170.0016,  5636,   2830.6,     1.79,   34.667,2,  34.6667,2,    146.5,2,    148.0,2,   133.20,2,    36.13,2, -999.000,9,     2.49,2,    0.006,2,    0.001,2, -999.000,9,   2318.6,2,   2404.8,6
           NA,     P15,     65,   1,       3,   12033,  2,20090224,0726, -22.1638, -170.0016,  5636,   4329.5,     1.11,   34.714,2,  34.7129,2,    204.7,2,    204.0,2,   117.57,2,    32.02,2, -999.000,9,     2.18,2, -999.000,9, -999.000,9, -999.000,9,   2263.5,2,   2361.1,2
           NA,     P15,     65,   1,       2,   12006,  2,20090224,0726, -22.1638, -170.0016,  5636,   4914.2,     1.05,   34.709,2,  34.7089,2,    208.2,2,    206.3,2,   121.38,2,    32.23,2, -999.000,9,     2.19,2,    0.068,2,    0.027,2, -999.000,9,   2262.3,2,   2363.2,2
           NA,     P15,     65,   1,       1,   12045,  2,20090224,0726, -22.1638, -170.0016,  5636,   5767.3,     1.13,   34.707,2,  34.7127,2,    209.1,2,    206.9,2,   121.80,2,    32.18,2, -999.000,9,     2.19,2, -999.000,9, -999.000,9, -999.000,9,   2262.8,6,   2365.3,6
           NA,     P15,     66,   1,      24,   12014,  2,20090228,1305, -21.5003, -169.9997,  5396,      3.4,    27.85,   34.897,2,  34.9036,2,    199.4,2,    199.3,2,     0.80,2,     0.01,2, -999.000,9,     0.01,2, -999.000,9, -999.000,9, -999.000,9,   1942.0,2,   2287.1,2
           NA,     P15,     66,   1,      23,   12046,  2,20090228,1305, -21.5003, -169.9997,  5396,     27.7,    27.92,   35.039,2,  35.0366,2,    200.3,2,    200.0,2,     0.84,2,  -999.00,9, -999.000,9,     0.01,2, -999.000,9, -999.000,9, -999.000,9,   1948.3,2,   2297.8,2
           NA,     P15,     66,   1,      22,   12020,  2,20090228,1305, -21.5003, -169.9997,  5396,     57.9,    25.34,   35.187,2,  35.2148,2,    214.9,2,    212.9,2,     0.86,2,     0.02,2, -999.000,9,     0.02,2, -999.000,9, -999.000,9, -999.000,9,   2019.6,2,   2307.2,2
           NA,     P15,     66,   1,      21,   12003,  2,20090228,1305, -21.5003, -169.9997,  5396,     87.5,    24.43,   35.476,2,  35.5101,2,    204.6,2,    202.2,2,     0.89,2,  -999.00,9, -999.000,9,     0.09,2, -999.000,9, -999.000,9, -999.000,9,   -999.0,9,   -999.0,9
           NA,     P15,     66,   1,      20,   12051,  2,20090228,1305, -21.5003, -169.9997,  5396,    120.3,    22.96,   35.509,2,  35.5097,2,    189.5,2,    188.2,2,     0.93,2,     1.04,2, -999.000,9,     0.15,2, -999.000,9, -999.000,9, -999.000,9,   2022.3,2,   2327.1,2
           NA,     P15,     66,   1,      19,   12010,  2,20090228,1305, -21.5003, -169.9997,  5396,    183.3,    21.47,   35.641,2,  35.6313,2,    182.7,2,    181.7,2,     1.02,2,  -999.00,9, -999.000,9,     0.24,2, -999.000,9, -999.000,9, -999.000,9,   2051.5,2,   2332.3,2
           NA,     P15,     66,   1,      18,   12018,  2,20090228,1305, -21.5003, -169.9997,  5396,    267.0,    18.58,   35.587,2,  35.5853,2,    194.2,2,    192.6,2,     1.21,2,     3.40,2, -999.000,9,     0.29,2, -999.000,9, -999.000,9, -999.000,9,   -999.0,9,   -999.0,9
           NA,     P15,     66,   1,      17,   12024,  2,20090228,1305, -21.5003, -169.9997,  5396,    342.2,    16.00,   35.376,2,  35.3608,2,    194.2,2,    193.1,2,     2.00,2,  -999.00,9, -999.000,9,     0.52,2, -999.000,9, -999.000,9, -999.000,9,   2095.8,2,   2316.1,2
           NA,     P15,     66,   1,      16,   12001,  2,20090228,1305, -21.5003, -169.9997,  5396,    416.8,    12.72,   34.912,2,  34.8894,2,    186.8,2,    185.8,2,     4.37,2,    12.91,2, -999.000,9,     0.99,2, -999.000,9, -999.000,9, -999.000,9,   -999.0,9,   -999.0,9
           NA,     P15,     66,   1,      15,   12025,  2,20090228,1305, -21.5003, -169.9997,  5396,    491.7,     9.82,   34.617,2,  34.5987,2,    190.4,2,    190.1,2,     7.10,2,  -999.00,9, -999.000,9,     1.35,2, -999.000,9, -999.000,9, -999.000,9,   -999.0,9,   -999.0,9
           NA,     P15,     66,   1,      14,   12041,  2,20090228,1305, -21.5003, -169.9997,  5396,    646.2,     6.66,   34.363,2,  34.3645,2,    214.2,2,    214.6,2,    11.58,2,    25.00,2, -999.000,9,     1.71,2, -999.000,9, -999.000,9, -999.000,9,   2156.0,2,   2277.9,2
           NA,     P15,     66,   1,      13,   12012,  2,20090228,1305, -21.5003, -169.9997,  5396,    747.3,     5.76,   34.331,2,  34.3288,2,    209.0,2,    210.6,2,    17.18,2,  -999.00,9, -999.000,9,     1.86,2, -999.000,9, -999.000,9, -999.000,9,   2167.1,2,   2282.9,2
           NA,     P15,     66,   1,      12,   12022,  2,20090228,1305, -21.5003, -169.9997,  5396,    897.6,     4.82,   34.378,2,  34.3782,2,    172.3,2,    173.7,2,    36.87,2,    32.34,2, -999.000,9,     2.21,2, -999.000,9, -999.000,9, -999.000,9,   -999.0,9,   -999.0,9
           NA,     P15,     66,   1,      11,   12016,  2,20090228,1305, -21.5003, -169.9997,  5396,   1146.3,     3.57,   34.474,2,  34.4777,2,    155.3,2,    157.0,2,    67.20,2,  -999.00,9, -999.000,9,     2.38,2, -999.000,9, -999.000,9, -999.000,9,   -999.0,9,   -999.0,9
           NA,     P15,     66,   1,      10,   12019,  2,20090228,1305, -21.5003, -169.9997,  5396,   1398.1,     2.77,   34.556,2,  34.5561,2,    151.8,2,    153.3,2,    90.18,2,    35.35,2, -999.000,9,     2.44,2, -999.000,9, -999.000,9, -999.000,9,   -999.0,9,   -999.0,9
           NA,     P15,     66,   1,       9,   12031,  2,20090228,1305, -21.5003, -169.9997,  5396,   1696.5,     2.45,   34.607,2,  34.6067,2,    144.2,2,    145.3,2,   108.04,2,  -999.00,9, -999.000,9,     2.48,2, -999.000,9, -999.000,9, -999.000,9,   -999.0,9,   -999.0,9
           NA,     P15,     66,   1,       8,   12021,  2,20090228,1305, -21.5003, -169.9997,  5396,   1996.9,     2.23,   34.629,2,  34.6282,2,    143.8,2,    145.2,2,   116.81,2,    36.13,2, -999.000,9,     2.51,2, -999.000,9, -999.000,9, -999.000,9,   -999.0,9,   -999.0,9
           NA,     P15,     66,   1,       7,   12032,  2,20090228,1305, -21.5003, -169.9997,  5396,   2496.3,     1.93,   34.656,2,  34.6543,2,    144.6,2,    145.2,2,   127.95,2,  -999.00,9, -999.000,9,     2.50,2, -999.000,9, -999.000,9, -999.000,9,   -999.0,9,   -999.0,9
           NA,     P15,     66,   1,       6,   12007,  2,20090228,1305, -21.5003, -169.9997,  5396,   2995.4,     1.75,   34.670,2,  34.6696,2,    148.4,2,    148.4,2,   134.28,2,    36.12,2, -999.000,9,     2.51,2, -999.000,9, -999.000,9, -999.000,9,   -999.0,9,   -999.0,9
           NA,     P15,     66,   1,       5,   12002,  2,20090228,1305, -21.5003, -169.9997,  5396,   3496.8,     1.54,   34.695,2,  34.6954,2,    171.8,2,    170.5,2,   125.29,2,  -999.00,9, -999.000,9,     2.35,2, -999.000,9, -999.000,9, -999.000,9,   -999.0,9,   -999.0,9
           NA,     P15,     66,   1,       4,   12008,  2,20090228,1305, -21.5003, -169.9997,  5396,   3997.7,     1.24,   34.717,2,  34.7193,2,    200.9,2,    200.6,2,   114.17,2,    32.00,2, -999.000,9,     2.20,2, -999.000,9, -999.000,9, -999.000,9,   -999.0,9,   -999.0,9
           NA,     P15,     66,   1,       3,   12033,  2,20090228,1305, -21.5003, -169.9997,  5396,   4499.0,     1.07,   34.711,2,  34.7121,2,    206.6,2,    205.1,2,   119.31,2,  -999.00,9, -999.000,9,     2.19,2, -999.000,9, -999.000,9, -999.000,9,   -999.0,9,   -999.0,9
           NA,     P15,     66,   1,       2,   12006,  2,20090228,1305, -21.5003, -169.9997,  5396,   4998.3,     1.04,   34.708,2,  34.7079,2,    208.3,2,    206.1,2,   121.70,2,    32.29,2, -999.000,9,     2.22,2, -999.000,4, -999.000,4, -999.000,9,   -999.0,9,   -999.0,9
           NA,     P15,     66,   1,       1,   12045,  2,20090228,1305, -21.5003, -169.9997,  5396,   5512.8,     1.10,   34.707,2,  34.7093,2,    209.6,2,    206.5,2,   121.99,2,  -999.00,9, -999.000,9,     2.21,2, -999.000,9, -999.000,9, -999.000,9,   -999.0,9,   -999.0,9
           NA,     P15,     67,   1,      24,   12014,  2,20090228,2014, -20.9904, -169.9941,  5476,      3.8,    28.27,   34.880,2,  34.8790,2,    200.3,2,    198.8,2,     0.77,2,     0.00,2, -999.000,9,     0.01,2, -999.000,3, -999.000,3, -999.000,9,   1934.5,6,   2285.6,6
           NA,     P15,     67,   1,      23,   12046,  2,20090228,2014, -20.9904, -169.9941,  5476,     26.6,    28.01,   34.946,2,  34.9632,2,    202.7,2,    204.4,2,     0.79,2,     0.00,2, -999.000,9,     0.01,2, -999.000,3, -999.000,3, -999.000,9,   1944.4,2,   2289.1,2
           NA,     P15,     67,   1,      22,   12020,  2,20090228,2014, -20.9904, -169.9941,  5476,     66.6,    24.45,   35.299,2,  35.2991,2,    211.4,2,    209.9,2,     0.84,2,     0.00,2, -999.000,9,     0.05,2, -999.000,3, -999.000,3, -999.000,9,   1982.1,2,   2312.7,2
           NA,     P15,     67,   1,      21,   12003,  2,20090228,2014, -20.9904, -169.9941,  5476,     98.1,    23.37,   35.414,2,  35.4182,2,    200.0,2,    198.4,2,     0.83,2,     0.00,2, -999.000,9,     0.09,2, -999.000,3, -999.000,3, -999.000,9,   2007.2,2,   2319.7,2
           NA,     P15,     67,   1,      20,   12051,  2,20090228,2014, -20.9904, -169.9941,  5476,    135.0,    22.27,   35.508,2,  35.5119,2,    189.8,2,    188.9,2,     0.93,2,     1.38,2, -999.000,9,     0.17,2, -999.000,3, -999.000,3, -999.000,9,   2030.2,2,   2323.1,2
           NA,     P15,     67,   1,      19,   12010,  2,20090228,2014, -20.9904, -169.9941,  5476,    184.2,    21.01,   35.688,2,  35.6816,2,    174.7,2,    174.1,2,     1.07,2,     3.17,2, -999.000,9,     0.32,2, -999.000,3, -999.000,3, -999.000,9,   2063.8,2,   2335.7,2
           NA,     P15,     67,   1,      18,   12018,  2,20090228,2014, -20.9904, -169.9941,  5476,    247.5,    18.97,   35.598,2,  35.5957,2,    188.9,2,    186.9,2,     1.18,2,     3.53,2, -999.000,9,     0.31,2, -999.000,3, -999.000,3, -999.000,9,   2072.3,2,   2325.3,2
           NA,     P15,     67,   1,      17,   12024,  2,20090228,2014, -20.9904, -169.9941,  5476,    367.0,    15.17,   35.226,2,  35.2213,2,    189.5,2,    188.5,2,     2.45,2,     8.02,2, -999.000,9,     0.64,2, -999.000,3, -999.000,3, -999.000,9,   2099.0,2,   2310.5,2
           NA,     P15,     67,   1,      16,   12001,  2,20090228,2014, -20.9904, -169.9941,  5476,    414.4,    13.18,   34.999,2,  35.0022,2,    192.1,2,    190.3,2,     3.35,2,    11.21,2, -999.000,9,     0.86,2, -999.000,3, -999.000,3, -999.000,9,   2112.0,2,   2298.5,6
           NA,     P15,     67,   1,      15,   12025,  2,20090228,2014, -20.9904, -169.9941,  5476,    523.0,     9.50,   34.625,2,  34.6236,2,    208.7,2,    207.5,2,     5.25,2,    17.68,2, -999.000,9,     1.25,2, -999.000,3, -999.000,3, -999.000,9,   2134.2,2,   2282.7,2
           NA,     P15,     67,   1,      14,   12041,  2,20090228,2014, -20.9904, -169.9941,  5476,    677.7,     6.48,   34.351,2,  34.3503,2,    221.7,2,    222.1,2,    11.02,2,    24.77,2, -999.000,9,     1.69,2, -999.000,3, -999.000,3, -999.000,9,   2149.8,2,   2278.6,2
           NA,     P15,     67,   1,      13,   12012,  2,20090228,2014, -20.9904, -169.9941,  5476,    797.2,     5.41,   34.324,2,  34.3233,2,    204.8,2,    206.3,2,    20.52,2,    28.73,2, -999.000,9,     1.95,2, -999.000,3, -999.000,3, -999.000,9,   2174.0,2,   2282.8,2
           NA,     P15,     67,   1,      12,   12022,  2,20090228,2014, -20.9904, -169.9941,  5476,    964.9,     4.41,   34.406,2,  34.4063,2,    164.4,2,    165.0,2,    46.31,2,    33.47,2, -999.000,9,     2.30,2,    0.129,2,    0.074,2, -999.000,9,   2222.6,6,   2312.4,6
           NA,     P15,     67,   1,      11,   12016,  2,20090228,2014, -20.9904, -169.9941,  5476,   1230.0,     3.14,   34.507,2,-999.0000,9,    156.1,2,    157.7,2,    76.47,2,    34.92,2, -999.000,9,     2.40,2,    0.011,2,    0.010,2, -999.000,9,   2259.7,2,   2340.7,2
           NA,     P15,     67,   1,      10,   12019,  2,20090228,2014, -20.9904, -169.9941,  5476,   1490.1,     2.65,   34.582,2,-999.0000,9,    146.7,2,    147.9,2,    99.07,2,    35.58,2, -999.000,9,     2.48,2,    0.005,2,    0.004,2, -999.000,9,   2286.7,2,   2368.7,2
           NA,     P15,     67,   1,       9,   12031,  2,20090228,2014, -20.9904, -169.9941,  5476,   1796.8,     2.40,   34.614,2,  34.6136,2,    143.6,2,    144.8,2,   110.91,2,    35.98,2, -999.000,9,     2.50,2,    0.000,2,    0.002,2, -999.000,9,   2296.8,2,   2381.1,2
           NA,     P15,     67,   1,       8,   12021,  2,20090228,2014, -20.9904, -169.9941,  5476,   2131.4,     2.17,   34.635,2,  34.6343,2,    143.9,2,    144.6,2,   119.00,2,    36.06,2, -999.000,9,     2.51,2,    0.003,2,    0.011,2, -999.000,9,   2307.5,2,   2389.4,2
           NA,     P15,     67,   1,       7,   12032,  2,20090228,2014, -20.9904, -169.9941,  5476,   2665.6,     1.91,   34.658,2,  34.6582,2,    145.2,2,    145.6,2,   129.13,2,    35.97,2, -999.000,9,     2.52,2,    0.004,2,   -0.002,2, -999.000,9,   2317.0,2,   2401.4,2
           NA,     P15,     67,   1,       6,   12007,  2,20090228,2014, -20.9904, -169.9941,  5476,   3166.1,     1.69,   34.676,2,  34.6755,2,    152.7,2,    152.0,2,   133.79,2,    35.79,2, -999.000,9,     2.48,2,    0.005,2,    0.001,2, -999.000,9,   2315.6,2,   2403.2,6
           NA,     P15,     67,   1,       5,   12002,  2,20090228,2014, -20.9904, -169.9941,  5476,   3664.1,     1.44,   34.714,2,  34.7131,2,    189.6,2,    188.8,2,   114.72,2,    32.48,2, -999.000,9,     2.24,2,    0.034,2,    0.015,2, -999.000,9,   2273.2,2,   2365.6,2
           NA,     P15,     67,   1,       4,   12008,  2,20090228,2014, -20.9904, -169.9941,  5476,   4162.9,     1.17,   34.716,2,  34.7140,2,    203.5,2,    202.3,2,   115.94,2,    31.87,2, -999.000,9,     2.19,2,    0.067,2,    0.031,2, -999.000,9,   2261.4,2,   2361.9,2
           NA,     P15,     67,   1,       3,   12033,  2,20090228,2014, -20.9904, -169.9941,  5476,   4664.1,     1.06,   34.710,2,  34.7111,2,    207.2,2,    205.2,2,   120.18,2,    32.15,2, -999.000,9,     2.20,2,    0.077,6,    0.041,6, -999.000,9,   2263.0,2,   2359.0,2
           NA,     P15,     67,   1,       2,   12006,  2,20090228,2014, -20.9904, -169.9941,  5476,   5163.2,     1.07,   34.708,2,  34.7091,2,    208.6,2,    205.6,2,   121.50,2,    32.06,2, -999.000,9,     2.21,2,    0.063,2,    0.034,2, -999.000,9,   2263.0,2,   2361.9,2
           NA,     P15,     67,   1,       1,   12045,  2,20090228,2014, -20.9904, -169.9941,  5476,   5562.2,     1.11,   34.707,2,  34.7089,2,    209.1,2,   -999.0,9,   121.97,2,    32.20,2, -999.000,9,     2.21,2,    0.062,2,    0.031,2, -999.000,9,   2264.2,6,   2360.9,6