BOTTLE,20214902JOAExport
EXPOCODE,SECT_ID,STNNBR,CASTNO,SAMPNO,BTLNBR,BTLNBR_FLAG_W,DATE,TIME,LATITUDE,LONGITUDE,DEPTH,CTDPRS,CTDTMP,CTDSAL,CTDSAL_FLAG_W,SALNTY,SALNTY_FLAG_W,CTDOXY,CTDOXY_FLAG_W,OXYGEN,OXYGEN_FLAG_W,SILCAT,SILCAT_FLAG_W,NITRAT,NITRAT_FLAG_W,NITRIT,NITRIT_FLAG_W,PHSPHT,PHSPHT_FLAG_W,CFC-11,CFC-11_FLAG_W,CFC-12,CFC-12_FLAG_W,SF6,SF6_FLAG_W,TCARBN,TCARBN_FLAG_W,ALKALI,ALKALI_FLAG_W
,,,,,,,,,,,,DB,ITS-90,PSS-78,,PSS-78,,UMOL/KG,,UMOL/KG,,UMOL/KG,,UMOL/KG,,UMOL/KG,,UMOL/KG,,PMOL/KG,,PMOL/KG,,FMOL/KG,,UMOL/KG,,UMOL/KG
           NA,     P15,     93,   1,      24,   12014,  2,20090307,1815,  -9.9203, -169.6378,  5206,      2.1,    29.33,   35.295,2,  35.2932,2,    193.6,2,    193.9,2,     1.05,2,     0.00,2, -999.000,9,     0.19,2,    1.537,2,    0.929,2, -999.000,9,   1964.3,6,   2318.9,6
           NA,     P15,     93,   1,      23,   12046,  2,20090307,1815,  -9.9203, -169.6378,  5206,     23.0,    29.33,   35.296,2,  35.2978,2,    193.7,2,    194.0,2,     1.04,2,     0.00,2, -999.000,9,     0.19,2,    1.536,6,    0.951,6, -999.000,9,   1966.6,2,   2321.1,2
           NA,     P15,     93,   1,      22,   12020,  2,20090307,1815,  -9.9203, -169.6378,  5206,     47.7,    29.34,   35.375,2,  35.3748,2,    193.7,2,    194.3,2,     1.09,2,     0.00,2, -999.000,9,     0.20,2,    1.569,2,    0.948,2, -999.000,9,   1970.8,2,   2326.3,2
           NA,     P15,     93,   1,      21,   12003,  2,20090307,1815,  -9.9203, -169.6378,  5206,     72.3,    29.37,   35.517,2,-999.0000,9,    195.2,2,    196.2,2,     1.14,2,     0.15,2, -999.000,9,     0.23,2,    1.514,2,    0.945,2, -999.000,9,   1983.5,2,   2335.4,2
           NA,     P15,     93,   1,      20,   12051,  2,20090307,1815,  -9.9203, -169.6378,  5206,    112.3,    28.17,   35.978,2,  35.9813,2,    187.9,2,    187.6,2,     1.26,2,     0.37,2, -999.000,9,     0.24,2,    1.680,2,    0.982,2, -999.000,9,   2019.9,2,   2364.1,2
           NA,     P15,     93,   1,      19,   12010,  2,20090307,1815,  -9.9203, -169.6378,  5206,    166.6,    25.23,   36.363,2,  36.3629,2,    164.8,2,    165.0,2,     0.84,2,     2.81,2, -999.000,9,     0.45,2,    1.844,2,    1.105,2, -999.000,9,   2088.1,2,   2385.6,2
           NA,     P15,     93,   1,      17,   12024,  2,20090307,1815,  -9.9203, -169.6378,  5206,    248.1,    19.79,   35.707,2,  35.7006,2,    160.5,2,    161.1,2,     2.00,2,     6.76,2, -999.000,9,     0.70,2,    2.269,2,    1.298,2, -999.000,9,   2114.5,2,   2348.6,2
           NA,     P15,     93,   1,      18,   12018,  2,20090307,1815,  -9.9203, -169.6378,  5206,    248.4,    19.76,   35.706,2,-999.0000,9,    161.1,2,    161.4,2,     1.86,2,     6.71,2, -999.000,9,     0.70,2,    2.295,2,    1.286,2, -999.000,9,   2115.4,2,   2347.2,2
           NA,     P15,     93,   1,      16,   12001,  2,20090307,1815,  -9.9203, -169.6378,  5206,    296.8,    15.27,   35.110,2,-999.0000,9,    133.5,2,    134.2,2,     6.04,2,    13.67,2, -999.000,9,     1.20,2,    2.082,2,    1.110,2, -999.000,9,   2145.0,2,   2312.0,6
           NA,     P15,     93,   1,      15,   12025,  2,20090307,1815,  -9.9203, -169.6378,  5206,    366.7,    10.57,   34.734,2,  34.7355,2,    103.9,2,    103.4,2,    17.91,2,    25.65,2, -999.000,9,     1.90,2,    0.901,2,    0.492,2, -999.000,9,   2195.9,2,   2297.3,2
           NA,     P15,     93,   1,      14,   12041,  2,20090307,1815,  -9.9203, -169.6378,  5206,    416.4,     9.20,   34.656,2,-999.0000,9,    111.0,2,    110.0,2,    22.37,2,    28.22,2, -999.000,9,     2.01,2,    0.590,2,    0.328,2, -999.000,9,   2205.6,2,   2295.6,2
           NA,     P15,     93,   1,      13,   12012,  2,20090307,1815,  -9.9203, -169.6378,  5206,    496.7,     7.78,   34.587,2,  34.5844,2,    123.5,2,    123.2,2,    28.84,2,    30.53,2, -999.000,9,     2.10,2,    0.425,2,    0.228,2, -999.000,9,   2209.6,2,   2298.7,2
           NA,     P15,     93,   1,      12,   12022,  2,20090307,1815,  -9.9203, -169.6378,  5206,    645.9,     6.23,   34.526,2,  34.5250,2,    118.2,2,    117.9,2,    42.65,2,    34.17,2, -999.000,9,     2.35,2,    0.152,2,    0.078,2, -999.000,9,   2234.2,6,   2310.7,6
           NA,     P15,     93,   1,      11,   12016,  2,20090307,1815,  -9.9203, -169.6378,  5206,    796.0,     5.35,   34.519,2,  34.5174,2,    111.0,2,    110.9,2,    56.05,2,    36.50,2, -999.000,9,     2.52,2,    0.046,2,    0.025,2, -999.000,9,   2254.0,2,   2326.6,2
           NA,     P15,     93,   1,      10,   12019,  2,20090307,1815,  -9.9203, -169.6378,  5206,   1098.5,     4.04,   34.547,2,  34.5461,2,    108.5,2,    108.5,2,    83.95,2,    38.01,2, -999.000,9,     2.67,2,    0.007,2,    0.002,2, -999.000,9,   2286.0,2,   2351.4,2
           NA,     P15,     93,   1,       9,   12031,  2,20090307,1815,  -9.9203, -169.6378,  5206,   1397.0,     3.21,   34.581,2,  34.5808,2,    116.6,2,    117.0,2,   103.55,2,    37.84,2, -999.000,9,     2.65,2,   -0.001,2,    0.000,2, -999.000,9,   2303.1,2,   2368.9,2
           NA,     P15,     93,   1,       8,   12021,  2,20090307,1815,  -9.9203, -169.6378,  5206,   1898.3,     2.41,   34.625,2,  34.6246,2,    128.9,2,   -999.0,9,   120.70,2,    37.03,2, -999.000,9,     2.63,2,    0.000,2,    0.001,2, -999.000,9,   2316.2,2,   2391.8,2
           NA,     P15,     93,   1,       7,   12032,  2,20090307,1815,  -9.9203, -169.6378,  5206,   2499.3,     1.90,   34.661,2,  34.6610,2,    139.2,2,    140.3,2,   131.86,2,    36.68,2, -999.000,9,     2.57,2,    0.002,6,    0.001,6, -999.000,9,   2322.9,2,   2404.6,2
           NA,     P15,     93,   1,       6,   12007,  2,20090307,1815,  -9.9203, -169.6378,  5206,   2999.6,     1.70,   34.676,2,  34.6751,2,    149.0,2,    147.0,2,   134.40,2,    35.93,2, -999.000,9,     2.52,2,    0.004,2,   -0.001,2, -999.000,9,   2319.6,2,   2409.2,2
           NA,     P15,     93,   1,       5,   12002,  2,20090307,1815,  -9.9203, -169.6378,  5206,   3595.1,     1.56,   34.686,2,  34.6848,2,    160.3,2,    158.1,2,   135.75,2,    35.37,2, -999.000,9,     2.46,2,    0.004,2,    0.000,2, -999.000,9,   2314.2,2,   2404.8,2
           NA,     P15,     93,   1,       4,   12008,  2,20090307,1815,  -9.9203, -169.6378,  5206,   4197.9,     1.30,   34.706,2,  34.7068,2,    190.2,2,    188.1,2,   123.01,2,    33.01,2, -999.000,9,     2.29,2,    0.018,2,    0.006,2, -999.000,9,   2279.3,2,   2372.5,2
           NA,     P15,     93,   1,       3,   12033,  2,20090307,1815,  -9.9203, -169.6378,  5206,   4698.0,     1.06,   34.710,2,  34.7089,2,    205.9,2,    204.8,2,   120.29,2,    32.19,2, -999.000,9,     2.22,2,    0.030,6,    0.016,6, -999.000,9,   2263.3,2,   2367.6,2
           NA,     P15,     93,   1,       1,   12045,  2,20090307,1815,  -9.9203, -169.6378,  5206,   5313.4,     1.12,   34.710,2,  34.7109,2,    207.0,2,    204.5,2,   122.09,2,    32.18,2, -999.000,9,     2.22,2,    0.040,2,    0.019,2, -999.000,9,   2263.7,6,   2365.3,6
           NA,     P15,     97,   1,      24,   12014,  2,20090308,2307,  -9.4788, -169.0056,  5280,      2.6,    30.05,   35.307,2,  35.3143,2,    192.5,2,    193.6,2,     1.05,2,     0.00,2, -999.000,9,     0.18,2,    1.523,2,    0.949,2, -999.000,9,   1965.6,6,   2322.4,2
           NA,     P15,     97,   1,      23,   12046,  2,20090308,2307,  -9.4788, -169.0056,  5280,     30.1,    29.42,   35.312,2,-999.0000,9,    193.0,2,    194.2,2,     1.05,2,     0.01,2, -999.000,9,     0.18,2,    1.510,6,    0.960,6, -999.000,9,   1965.7,2,   2322.6,2
           NA,     P15,     97,   1,      22,   12020,  2,20090308,2307,  -9.4788, -169.0056,  5280,     55.4,    29.39,   35.316,2,  35.3236,2,    193.5,2,    194.3,2,     1.06,2,     0.00,2, -999.000,9,     0.17,2, -999.000,9, -999.000,9, -999.000,9,   1965.5,2,   2324.8,2
           NA,     P15,     97,   1,      21,   12003,  2,20090308,2307,  -9.4788, -169.0056,  5280,     82.2,    28.98,   35.736,2,-999.0000,9,    192.4,2,    193.8,2,     1.30,2,     0.07,2, -999.000,9,     0.22,2,    1.577,2,    0.990,2, -999.000,9,   2000.9,2,   2354.7,2
           NA,     P15,     97,   1,      20,   12051,  2,20090308,2307,  -9.4788, -169.0056,  5280,    111.1,    28.00,   36.089,2,  36.1029,2,    188.0,2,    189.0,2,     1.21,2,     0.22,2, -999.000,9,     0.22,2,    1.629,2,    1.005,2, -999.000,9,   2024.3,2,   2377.0,2
           NA,     P15,     97,   1,      19,   12010,  2,20090308,2307,  -9.4788, -169.0056,  5280,    172.7,    23.82,   36.287,2,  36.2818,2,    161.2,2,    161.7,2,     1.24,2,     4.05,2, -999.000,9,     0.50,2,    1.979,2,    1.191,2, -999.000,9,   2102.5,2,   2386.6,2
           NA,     P15,     97,   1,      18,   12035,  2,20090308,2307,  -9.4788, -169.0056,  5280,    213.8,    21.22,   35.927,2,-999.0000,9,    161.3,2,    162.1,2,     1.55,2,     5.58,2, -999.000,9,     0.62,2, -999.000,9, -999.000,9, -999.000,9,   2109.1,2,   2365.8,2
           NA,     P15,     97,   1,      17,   12024,  2,20090308,2307,  -9.4788, -169.0056,  5280,    263.9,    17.66,   35.406,2,  35.4036,2,    151.9,2,    152.5,2,     3.35,2,     9.28,2, -999.000,9,     0.89,2,    2.270,2,    1.284,2, -999.000,9,   2124.0,2,   2332.9,2
           NA,     P15,     97,   1,      16,   12001,  2,20090308,2307,  -9.4788, -169.0056,  5280,    315.5,    14.44,   35.081,2,-999.0000,9,    108.0,2,    107.1,2,     9.72,2,    18.28,2, -999.000,9,     1.50,2,    1.689,2,    0.935,2, -999.000,9,   2169.9,2,   2313.8,6
           NA,     P15,     97,   1,      15,   12025,  2,20090308,2307,  -9.4788, -169.0056,  5280,    359.4,    11.89,   34.858,2,  34.8548,2,    103.1,2,    102.3,2,    14.94,2,    23.44,2, -999.000,9,     1.79,2,    1.148,2,    0.630,2, -999.000,9,   2186.8,2,   2302.4,2
           NA,     P15,     97,   1,      14,   12041,  2,20090308,2307,  -9.4788, -169.0056,  5280,    442.6,     8.50,   34.630,2,  34.6292,2,    124.2,2,    124.3,2,    25.03,2,    29.02,2, -999.000,9,     2.04,2, -999.000,9, -999.000,9, -999.000,9,   2200.8,2,   2301.5,2
           NA,     P15,     97,   1,      13,   12012,  2,20090308,2307,  -9.4788, -169.0056,  5280,    535.4,     7.46,   34.571,2,  34.5700,2,    124.0,2,    124.4,2,    30.99,2,    31.39,2, -999.000,9,     2.19,2,    0.365,2,    0.200,2, -999.000,9,   2211.9,2,   2303.8,2
           NA,     P15,     97,   1,      12,   12022,  2,20090308,2307,  -9.4788, -169.0056,  5280,    698.6,     5.93,   34.520,2,  34.5195,2,    118.9,2,    119.0,2,    46.54,2,    35.06,2, -999.000,9,     2.44,2,    0.125,2,    0.067,2, -999.000,9,   2237.2,6,   2311.2,2
           NA,     P15,     97,   1,      11,   12016,  2,20090308,2307,  -9.4788, -169.0056,  5280,    873.6,     5.04,   34.519,2,  34.5186,2,    113.7,2,    114.2,2,    60.66,2,    36.97,2, -999.000,9,     2.59,2,    0.041,2,    0.022,2, -999.000,9,   2257.5,2,   2330.2,2
           NA,     P15,     97,   1,      10,   12019,  2,20090308,2307,  -9.4788, -169.0056,  5280,   1198.4,     3.71,   34.560,2,  34.5596,2,    111.0,2,    111.3,2,    90.53,2,    38.40,2, -999.000,9,     2.73,2, -999.000,9, -999.000,9, -999.000,9,   2292.1,2,   2354.9,2
           NA,     P15,     97,   1,       9,   12031,  2,20090308,2307,  -9.4788, -169.0056,  5280,   1531.5,     2.90,   34.598,2,  34.5971,2,    118.5,2,    119.5,2,   111.58,2,    38.49,2, -999.000,9,     2.71,2,    0.007,2,    0.002,2, -999.000,9,   2309.2,2,   2379.0,2
           NA,     P15,     97,   1,       8,   12021,  2,20090308,2307,  -9.4788, -169.0056,  5280,   2081.1,     2.15,   34.641,2,  34.6409,2,    134.7,2,    136.1,2,   125.39,2,    37.19,2, -999.000,9,     2.61,2,    0.001,2,    0.000,2, -999.000,9,   2316.3,2,   2398.5,2
           NA,     P15,     97,   1,       7,   12032,  2,20090308,2307,  -9.4788, -169.0056,  5280,   2681.1,     1.77,   34.670,2,  34.6743,2,    144.0,2,   -999.0,9,   135.24,2,    36.81,2, -999.000,9,     2.55,2, -999.000,9, -999.000,9, -999.000,9,   2321.7,2,   2411.1,2
           NA,     P15,     97,   1,       6,   12007,  2,20090308,2307,  -9.4788, -169.0056,  5280,   3115.4,     1.65,   34.679,2,  34.6791,2,    152.3,2,    153.2,2,   134.58,2,    36.06,2, -999.000,9,     2.51,2,    0.008,2,    0.001,2, -999.000,9,   2315.4,2,   2407.7,6
           NA,     P15,     97,   1,       5,   12002,  2,20090308,2307,  -9.4788, -169.0056,  5280,   3799.1,     1.48,   34.691,2,-999.0000,9,    166.0,2,    165.7,2,   134.98,2,    35.40,2, -999.000,9,     2.45,2, -999.000,4, -999.000,4, -999.000,9,   2309.0,2,   2404.8,2
           NA,     P15,     97,   1,       4,   12008,  2,20090308,2307,  -9.4788, -169.0056,  5280,   4398.7,     1.15,   34.712,2,  34.7105,2,    201.4,2,    201.1,2,   120.43,2,    32.64,2, -999.000,9,     2.25,2,    0.033,2,    0.016,2, -999.000,9,   2266.4,2,   2368.7,2
           NA,     P15,     97,   1,       3,   12033,  2,20090308,2307,  -9.4788, -169.0056,  5280,   4981.3,     1.09,   34.711,2,  34.7140,2,    206.7,2,    205.6,2,   120.11,2,    32.57,2, -999.000,9,     2.24,2,    0.045,6,    0.021,6, -999.000,9,   2262.5,2,   2358.9,2
           NA,     P15,     97,   1,       2,   12006,  2,20090308,2307,  -9.4788, -169.0056,  5280,   5299.1,     1.12,   34.710,2,  34.7133,2,    207.1,2,    205.8,2,   120.24,2,    32.30,2, -999.000,9,     2.24,2, -999.000,9, -999.000,9, -999.000,9,   2261.9,2,   2364.8,2
           NA,     P15,     97,   1,       1,   12045,  2,20090308,2307,  -9.4788, -169.0056,  5280,   5401.5,     1.13,   34.710,2,  34.7115,2,    207.1,2,    205.3,2,   120.07,2,    32.37,2, -999.000,9,     2.24,2,    0.038,2,    0.019,2, -999.000,9,   2263.2,6,   2365.1,6