BOTTLE,20214902JOAExport
EXPOCODE,SECT_ID,STNNBR,CASTNO,SAMPNO,BTLNBR,BTLNBR_FLAG_W,DATE,TIME,LATITUDE,LONGITUDE,DEPTH,CTDPRS,CTDTMP,CTDSAL,CTDSAL_FLAG_W,SALNTY,SALNTY_FLAG_W,CTDOXY,CTDOXY_FLAG_W,OXYGEN,OXYGEN_FLAG_W,SILCAT,SILCAT_FLAG_W,NITRAT,NITRAT_FLAG_W,NITRIT,NITRIT_FLAG_W,PHSPHT,PHSPHT_FLAG_W,CFC-11,CFC-11_FLAG_W,CFC-12,CFC-12_FLAG_W,SF6,SF6_FLAG_W,TCARBN,TCARBN_FLAG_W,ALKALI,ALKALI_FLAG_W
,,,,,,,,,,,,DB,ITS-90,PSS-78,,PSS-78,,UMOL/KG,,UMOL/KG,,UMOL/KG,,UMOL/KG,,UMOL/KG,,UMOL/KG,,PMOL/KG,,PMOL/KG,,FMOL/KG,,UMOL/KG,,UMOL/KG
           NA,     P15,    100,   1,      24,   12014,  2,20090309,1713,  -8.2464, -168.7043,  4876,      5.5,    28.91,   35.655,2,-999.0000,9,    197.0,2,    197.5,2,     1.54,2,     3.08,2, -999.000,9,     0.44,2, -999.000,9, -999.000,9, -999.000,9,   2014.9,2,   2349.7,6
           NA,     P15,    100,   1,      23,   12046,  2,20090309,1713,  -8.2464, -168.7043,  4876,     29.4,    28.65,   35.658,2,  35.6575,2,    198.2,2,    198.8,2,     1.65,2,     3.38,2, -999.000,9,     0.46,2, -999.000,9, -999.000,9, -999.000,9,   -999.0,9,   -999.0,9
           NA,     P15,    100,   1,      22,   12020,  2,20090309,1713,  -8.2464, -168.7043,  4876,     80.1,    28.57,   35.740,2,-999.0000,9,    195.5,2,    195.8,2,     1.59,2,     3.41,2, -999.000,9,     0.50,2, -999.000,9, -999.000,9, -999.000,9,   -999.0,9,   -999.0,9
           NA,     P15,    100,   1,      21,   12003,  2,20090309,1713,  -8.2464, -168.7043,  4876,     80.1,    28.56,   35.736,2,  35.7333,2,    195.4,2,    195.8,2,     1.61,2,     3.41,2, -999.000,9,     0.48,2, -999.000,9, -999.000,9, -999.000,9,   2023.5,2,   2354.7,2
           NA,     P15,    100,   1,      20,   12051,  2,20090309,1713,  -8.2464, -168.7043,  4876,    109.5,    27.95,   35.750,2,  35.7665,2,    184.3,2,    182.6,2,     1.83,2,     3.58,2, -999.000,9,     0.53,2, -999.000,9, -999.000,9, -999.000,9,   2037.2,2,   2356.1,2
           NA,     P15,    100,   1,      19,   12010,  2,20090309,1713,  -8.2464, -168.7043,  4876,    168.9,    24.96,   36.306,2,  36.3297,2,    154.4,2,    153.7,2,     1.43,2,     4.90,2, -999.000,9,     0.59,2, -999.000,9, -999.000,9, -999.000,9,   2098.2,2,   2391.3,2
           NA,     P15,    100,   1,      18,   12035,  2,20090309,1713,  -8.2464, -168.7043,  4876,    214.6,    20.41,   35.792,2,-999.0000,9,    146.0,2,    146.0,2,     2.48,2,     8.39,2, -999.000,9,     0.85,2, -999.000,9, -999.000,9, -999.000,9,   -999.0,9,   -999.0,9
           NA,     P15,    100,   1,      17,   12024,  2,20090309,1713,  -8.2464, -168.7043,  4876,    263.9,    16.18,   35.258,2,  35.2351,2,    117.5,2,    118.5,2,     6.77,2,    14.64,2, -999.000,9,     1.31,2, -999.000,9, -999.000,9, -999.000,9,   -999.0,9,   -999.0,9
           NA,     P15,    100,   1,      16,   12001,  2,20090309,1713,  -8.2464, -168.7043,  4876,    326.6,    12.42,   34.902,2,-999.0000,9,     83.1,2,     81.5,2,    15.26,2,    23.96,2, -999.000,9,     1.88,2, -999.000,9, -999.000,9, -999.000,9,   2200.1,2,   2307.9,2
           NA,     P15,    100,   1,      15,   12025,  2,20090309,1713,  -8.2464, -168.7043,  4876,    365.9,    10.84,   34.794,2,  34.7956,2,     89.3,2,     87.3,2,    19.21,2,    26.85,2, -999.000,9,     1.98,2, -999.000,9, -999.000,9, -999.000,9,   -999.0,9,   -999.0,9
           NA,     P15,    100,   1,      14,   12041,  2,20090309,1713,  -8.2464, -168.7043,  4876,    442.2,     8.60,   34.650,2,-999.0000,9,    106.1,2,    105.4,2,    26.66,2,    30.40,2, -999.000,9,     2.12,2, -999.000,9, -999.000,9, -999.000,9,   2213.1,2,   2303.9,2
           NA,     P15,    100,   1,      13,   12012,  2,20090309,1713,  -8.2464, -168.7043,  4876,    536.2,     7.46,   34.581,2,  34.5798,2,    111.2,2,    110.8,2,    33.67,2,    32.55,2, -999.000,9,     2.25,2, -999.000,9, -999.000,9, -999.000,9,   -999.0,9,   -999.0,9
           NA,     P15,    100,   1,      12,   12022,  2,20090309,1713,  -8.2464, -168.7043,  4876,    698.1,     6.42,   34.543,2,  34.5413,2,    104.8,2,    102.9,2,    44.68,2,    35.26,2, -999.000,9,     2.46,2, -999.000,9, -999.000,9, -999.000,9,   -999.0,9,   -999.0,9
           NA,     P15,    100,   1,      11,   12016,  2,20090309,1713,  -8.2464, -168.7043,  4876,    928.3,     5.08,   34.520,2,  34.5190,2,    117.0,2,    117.5,2,    60.86,2,    36.19,2, -999.000,9,     2.54,2, -999.000,9, -999.000,9, -999.000,9,   -999.0,9,   -999.0,9
           NA,     P15,    100,   1,      10,   12019,  2,20090309,1713,  -8.2464, -168.7043,  4876,   1197.7,     4.00,   34.549,2,  34.5484,2,    109.6,2,    110.0,2,    85.37,2,    38.08,2, -999.000,9,     2.70,2, -999.000,9, -999.000,9, -999.000,9,   -999.0,9,   -999.0,9
           NA,     P15,    100,   1,       9,   12031,  2,20090309,1713,  -8.2464, -168.7043,  4876,   1530.0,     2.97,   34.593,2,  34.5924,2,    120.5,2,    121.2,2,   108.75,2,    37.78,2, -999.000,9,     2.67,2, -999.000,9, -999.000,9, -999.000,9,   -999.0,9,   -999.0,9
           NA,     P15,    100,   1,       8,   12021,  2,20090309,1713,  -8.2464, -168.7043,  4876,   2065.3,     2.15,   34.642,2,  34.6431,2,    131.1,2,    131.8,2,   129.21,2,    37.25,2, -999.000,9,     2.61,2, -999.000,9, -999.000,9, -999.000,9,   -999.0,9,   -999.0,9
           NA,     P15,    100,   1,       7,   12032,  2,20090309,1713,  -8.2464, -168.7043,  4876,   2580.7,     1.83,   34.666,2,  34.6665,2,    137.6,2,    138.4,2,   138.97,2,    36.80,2, -999.000,9,     2.57,2, -999.000,9, -999.000,9, -999.000,9,   -999.0,9,   -999.0,9
           NA,     P15,    100,   1,       6,   12007,  2,20090309,1713,  -8.2464, -168.7043,  4876,   3167.0,     1.66,   34.680,2,  34.6783,2,    151.6,2,    152.1,2,   137.84,2,    36.00,2, -999.000,9,     2.49,2, -999.000,9, -999.000,9, -999.000,9,   -999.0,9,   -999.0,9
           NA,     P15,    100,   1,       5,   12002,  2,20090309,1713,  -8.2464, -168.7043,  4876,   3664.2,     1.51,   34.688,2,  34.6873,2,    163.8,2,    163.2,2,   135.79,2,    35.01,2, -999.000,9,     2.42,2, -999.000,9, -999.000,9, -999.000,9,   -999.0,9,   -999.0,9
           NA,     P15,    100,   1,       4,   12008,  2,20090309,1713,  -8.2464, -168.7043,  4876,   4164.3,     1.40,   34.695,2,  34.6952,2,    172.7,2,    172.1,2,   135.46,2,    34.66,2, -999.000,9,     2.38,2, -999.000,9, -999.000,9, -999.000,9,   -999.0,9,   -999.0,9
           NA,     P15,    100,   1,       3,   12033,  2,20090309,1713,  -8.2464, -168.7043,  4876,   4638.4,     1.07,   34.710,2,  34.7101,2,    204.3,2,    204.0,2,   122.43,2,    32.23,2, -999.000,9,     2.22,2, -999.000,9, -999.000,9, -999.000,9,   -999.0,9,   -999.0,9
           NA,     P15,    100,   1,       2,   12006,  2,20090309,1713,  -8.2464, -168.7043,  4876,   4930.7,     1.09,   34.710,2,  34.7093,2,    205.0,2,    204.7,2,   122.32,2,    32.24,2, -999.000,9,     2.22,2, -999.000,9, -999.000,9, -999.000,9,   -999.0,9,   -999.0,9
           NA,     P15,    100,   1,       1,   12045,  2,20090309,1713,  -8.2464, -168.7043,  4876,   5001.3,     1.10,   34.710,2,  34.7095,2,    205.4,2,    204.6,2,   122.24,2,    32.19,2, -999.000,9,     2.20,2, -999.000,9, -999.000,9, -999.000,9,   -999.0,9,   -999.0,9
           NA,     P15,    101,   1,      24,   12014,  2,20090309,2205,  -7.9994, -168.6306,  5085,      1.7,    29.41,   35.721,2,-999.0000,9,    199.2,2,    196.4,2,     0.98,2,     1.03,2, -999.000,9,     0.28,2,    1.495,2,    0.943,2, -999.000,9,   2000.9,6,   2354.0,6
           NA,     P15,    101,   1,      23,   12046,  2,20090309,2205,  -7.9994, -168.6306,  5085,     15.4,    29.19,   35.712,2,  35.7132,2,    197.4,2,    197.5,2,     0.99,2,     1.10,2, -999.000,9,     0.28,2,    1.493,6,    0.970,6, -999.000,9,   2000.4,2,   2352.9,2
           NA,     P15,    101,   1,      22,   12020,  2,20090309,2205,  -7.9994, -168.6306,  5085,     39.0,    28.95,   35.739,2,-999.0000,9,    197.0,2,    196.3,2,     1.19,2,     2.21,2, -999.000,9,     0.37,2,    1.535,2,    0.948,2, -999.000,9,   2013.6,2,   2355.2,2
           NA,     P15,    101,   1,      21,   12003,  2,20090309,2205,  -7.9994, -168.6306,  5085,     61.3,    28.85,   35.735,2,  35.7341,2,    195.1,2,    194.7,2,     1.23,2,     2.38,2, -999.000,9,     0.39,2,    1.530,2,    0.975,2, -999.000,9,   2017.4,2,   2354.3,2
           NA,     P15,    101,   1,      20,   12051,  2,20090309,2205,  -7.9994, -168.6306,  5085,     79.0,    28.60,   35.708,2,-999.0000,9,    195.2,2,    194.0,2,     1.61,2,     3.23,2, -999.000,9,     0.45,2,    1.559,2,    0.972,2, -999.000,9,   2026.2,2,   2349.8,2
           NA,     P15,    101,   1,      19,   12010,  2,20090309,2205,  -7.9994, -168.6306,  5085,    130.6,    27.65,   36.046,2,  36.0499,2,    173.0,2,    172.1,2,     1.50,2,     2.45,2, -999.000,9,     0.41,2,    1.606,2,    1.024,2, -999.000,9,   2045.2,2,   2369.5,2
           NA,     P15,    101,   1,      18,   12035,  2,20090309,2205,  -7.9994, -168.6306,  5085,    172.8,    24.75,   36.328,2,  36.3255,2,    155.3,2,    155.1,2,     1.41,2,     4.73,2, -999.000,9,     0.55,2,    1.860,2,    1.138,2, -999.000,9,   2101.8,2,   2385.8,2
           NA,     P15,    101,   1,      17,   12024,  2,20090309,2205,  -7.9994, -168.6306,  5085,    229.4,    19.52,   35.674,2,-999.0000,9,    140.9,2,    139.4,2,     3.17,2,     9.69,2, -999.000,9,     0.93,2,    2.132,2,    1.258,2, -999.000,9,   2135.2,2,   2346.2,2
           NA,     P15,    101,   1,      15,   12025,  2,20090309,2205,  -7.9994, -168.6306,  5085,    336.0,    11.48,   34.836,2,-999.0000,9,     81.7,2,     81.0,2,    18.25,2,    26.04,2, -999.000,9,     1.96,2,    0.970,2,    0.552,2, -999.000,9,   2208.0,2,   2302.5,2
           NA,     P15,    101,   1,      14,   12041,  2,20090309,2205,  -7.9994, -168.6306,  5085,    379.5,     9.92,   34.735,2,  34.7416,2,     99.0,2,     96.1,2,    22.35,2,    28.21,2, -999.000,9,     2.02,2,    0.693,2,    0.384,2, -999.000,9,   2210.1,2,   2295.4,2
           NA,     P15,    101,   1,      13,   12012,  2,20090309,2205,  -7.9994, -168.6306,  5085,    448.3,     8.89,   34.671,2,-999.0000,9,    105.5,2,    106.7,2,    25.94,2,    29.85,2, -999.000,9,     2.09,2,    0.522,2,    0.289,2, -999.000,9,   2212.6,2,   2301.5,2
           NA,     P15,    101,   1,      12,   12022,  2,20090309,2205,  -7.9994, -168.6306,  5085,    571.7,     7.11,   34.565,2,  34.5645,2,    109.3,2,    109.0,2,    36.68,2,    33.26,2, -999.000,9,     2.32,2,    0.262,2,    0.144,2, -999.000,9,   2229.6,6,   2307.6,6
           NA,     P15,    101,   1,      11,   12016,  2,20090309,2205,  -7.9994, -168.6306,  5085,    696.6,     6.20,   34.538,2,  34.5376,2,    103.4,2,    102.6,2,    47.08,2,    35.74,2, -999.000,9,     2.50,2,    0.116,6,    0.066,6, -999.000,9,   2247.8,2,   2315.3,2
           NA,     P15,    101,   1,      10,   12019,  2,20090309,2205,  -7.9994, -168.6306,  5085,    897.0,     5.20,   34.525,2,  34.5243,2,    107.7,2,    107.7,2,    60.38,2,    36.76,2, -999.000,9,     2.60,2,    0.048,2,    0.023,2, -999.000,9,   2262.8,2,   2325.0,2
           NA,     P15,    101,   1,       9,   12031,  2,20090309,2205,  -7.9994, -168.6306,  5085,   1214.7,     3.85,   34.554,2,  34.5561,2,    111.9,2,    112.1,2,    87.26,2,    37.83,2, -999.000,9,     2.69,2,    0.009,2,    0.003,2, -999.000,9,   2288.5,2,   2355.8,2
           NA,     P15,    101,   1,       8,   12021,  2,20090309,2205,  -7.9994, -168.6306,  5085,   1714.1,     2.63,   34.611,2,  34.6107,2,    125.6,2,    125.3,2,   114.92,2,    37.15,2, -999.000,9,     2.63,2,    0.003,2,    0.002,2, -999.000,9,   2312.2,2,   2380.9,2
           NA,     P15,    101,   1,       7,   12032,  2,20090309,2205,  -7.9994, -168.6306,  5085,   2312.9,     1.97,   34.655,2,  34.6598,2,    133.1,2,    133.0,2,   133.46,2,    36.82,2, -999.000,9,     2.60,2,    0.002,2,   -0.001,2, -999.000,9,   2327.6,2,   2398.7,2
           NA,     P15,    101,   1,       6,   12007,  2,20090309,2205,  -7.9994, -168.6306,  5085,   2798.0,     1.76,   34.672,2,  34.6724,2,    143.6,2,    144.2,2,   136.05,2,    36.24,2, -999.000,9,     2.54,2,   -0.001,2,   -0.001,2, -999.000,9,   2325.7,2,   2412.6,6
           NA,     P15,    101,   1,       5,   12002,  2,20090309,2205,  -7.9994, -168.6306,  5085,   3396.8,     1.58,   34.684,2,  34.6844,2,    157.4,2,    154.3,2,   134.98,2,    35.26,2, -999.000,9,     2.47,2,    0.005,2,    0.001,2, -999.000,9,   2315.2,2,   2406.8,2
           NA,     P15,    101,   1,       4,   12008,  2,20090309,2205,  -7.9994, -168.6306,  5085,   4014.0,     1.41,   34.694,2,  34.6942,2,    169.7,2,    169.4,2,   134.83,2,    34.65,2, -999.000,9,     2.41,2,    0.008,2,    0.002,2, -999.000,9,   2308.2,2,   2405.0,2
           NA,     P15,    101,   1,       3,   12033,  2,20090309,2205,  -7.9994, -168.6306,  5085,   4678.8,     1.24,   34.704,2,  34.7062,2,    191.5,2,    190.3,2,   125.94,2,    33.01,2, -999.000,9,     2.30,2,    0.018,2,    0.007,2, -999.000,9,   2281.5,2,   2381.4,2
           NA,     P15,    101,   1,       2,   12006,  2,20090309,2205,  -7.9994, -168.6306,  5085,   5048.0,     1.12,   34.709,2,  34.7097,2,    204.1,2,    203.2,2,   121.06,2,    32.16,2, -999.000,9,     2.23,2,    0.032,6,    0.017,6, -999.000,9,   2267.5,2,   2367.3,2
           NA,     P15,    101,   1,       1,   12045,  2,20090309,2205,  -7.9994, -168.6306,  5085,   5159.7,     1.13,   34.709,2,  34.7095,2,    205.3,2,    204.0,2,   119.86,2,    31.93,2, -999.000,9,     2.22,2,    0.033,2,    0.017,2, -999.000,9,   2266.1,6,   2367.2,2