BOTTLE,20214902JOAExport
EXPOCODE,SECT_ID,STNNBR,CASTNO,SAMPNO,BTLNBR,BTLNBR_FLAG_W,DATE,TIME,LATITUDE,LONGITUDE,DEPTH,CTDPRS,CTDTMP,CTDSAL,CTDSAL_FLAG_W,SALNTY,SALNTY_FLAG_W,CTDOXY,CTDOXY_FLAG_W,OXYGEN,OXYGEN_FLAG_W,SILCAT,SILCAT_FLAG_W,NITRAT,NITRAT_FLAG_W,NITRIT,NITRIT_FLAG_W,PHSPHT,PHSPHT_FLAG_W,CFC-11,CFC-11_FLAG_W,CFC-12,CFC-12_FLAG_W,SF6,SF6_FLAG_W,TCARBN,TCARBN_FLAG_W,ALKALI,ALKALI_FLAG_W
,,,,,,,,,,,,DB,ITS-90,PSS-78,,PSS-78,,UMOL/KG,,UMOL/KG,,UMOL/KG,,UMOL/KG,,UMOL/KG,,UMOL/KG,,PMOL/KG,,PMOL/KG,,FMOL/KG,,UMOL/KG,,UMOL/KG
           NA,     P15,     62,   1,      24,   12014,  2,20090223,0946, -23.4920, -169.9959,  5660,      3.3,    27.50,   34.600,2,  34.8237,2,    202.9,2,    201.4,2,     0.85,2,     0.00,2, -999.000,9,     0.00,2, -999.000,9, -999.000,9, -999.000,9,   1937.0,2,   2281.9,2
           NA,     P15,     62,   1,      23,   12046,  2,20090223,0946, -23.4920, -169.9959,  5660,     21.8,    27.50,   34.827,2,  34.8249,2,    202.8,2,    201.6,2,     0.85,2,     0.00,2, -999.000,9,     0.00,2, -999.000,9, -999.000,9, -999.000,9,   -999.0,9,   -999.0,9
           NA,     P15,     62,   1,      22,   12020,  2,20090223,0946, -23.4920, -169.9959,  5660,     37.1,    26.59,   34.965,2,  34.9134,2,    213.7,2,    213.6,2,     0.89,2,     0.00,2, -999.000,9,     0.01,2, -999.000,9, -999.000,9, -999.000,9,   1952.0,2,   2290.4,2
           NA,     P15,     62,   1,      21,   12003,  2,20090223,0946, -23.4920, -169.9959,  5660,     70.8,    23.37,   35.379,2,  35.3805,2,    224.7,2,    224.5,2,     0.86,2,     0.00,2, -999.000,9,     0.02,2, -999.000,9, -999.000,9, -999.000,9,   1988.9,2,   2316.9,2
           NA,     P15,     62,   1,      20,   12051,  2,20090223,0946, -23.4920, -169.9959,  5660,    133.3,    21.24,   35.507,2,  35.5050,2,    221.7,2,    220.2,2,     0.89,2,     0.00,2, -999.000,9,     0.04,2, -999.000,9, -999.000,9, -999.000,9,   2014.1,2,   2324.2,2
           NA,     P15,     62,   1,      19,   12010,  2,20090223,0946, -23.4920, -169.9959,  5660,    198.7,    19.60,   35.602,2,  35.6001,2,    198.6,2,    196.8,2,     1.04,2,     2.10,2, -999.000,9,     0.20,2, -999.000,9, -999.000,9, -999.000,9,   2053.8,2,   2326.6,2
           NA,     P15,     62,   1,      18,   12018,  2,20090223,0946, -23.4920, -169.9959,  5660,    243.1,    18.60,   35.584,2,  35.5821,2,    192.9,2,    191.5,2,     1.26,2,     3.39,2, -999.000,9,     0.29,2, -999.000,9, -999.000,9, -999.000,9,   -999.0,9,   -999.0,9
           NA,     P15,     62,   1,      17,   12024,  2,20090223,0946, -23.4920, -169.9959,  5660,    319.2,    16.30,   35.385,2,  35.3805,2,    194.6,2,    193.4,2,     1.95,2,     5.90,2, -999.000,9,     0.49,2, -999.000,9, -999.000,9, -999.000,9,   -999.0,9,   -999.0,9
           NA,     P15,     62,   1,      16,   12001,  2,20090223,0946, -23.4920, -169.9959,  5660,    389.1,    13.71,   35.047,2,  35.0632,2,    189.9,2,    188.6,2,     3.34,2,    10.40,2, -999.000,9,     0.80,2, -999.000,9, -999.000,9, -999.000,9,   -999.0,9,   -999.0,9
           NA,     P15,     62,   1,      15,   12024,  2,20090223,0946, -23.4920, -169.9959,  5660,    455.5,    11.88,   34.914,2,  34.9217,2,    199.0,2,    198.0,2,     3.94,2,    13.24,2, -999.000,9,     0.95,2, -999.000,9, -999.000,9, -999.000,9,   -999.0,9,   -999.0,9
           NA,     P15,     62,   1,      14,   12041,  2,20090223,0946, -23.4920, -169.9959,  5660,    547.7,     8.73,   34.540,2,  34.5476,2,    209.6,2,    210.4,2,     6.26,2,    19.41,2, -999.000,9,     1.34,2, -999.000,9, -999.000,9, -999.000,9,   -999.0,9,   -999.0,9
           NA,     P15,     62,   1,      13,   12012,  2,20090223,0946, -23.4920, -169.9959,  5660,    717.2,     6.46,   34.362,2,  34.3586,2,    202.1,2,    203.8,2,    14.64,2,    26.44,2, -999.000,9,     1.79,2, -999.000,9, -999.000,9, -999.000,9,   -999.0,9,   -999.0,9
           NA,     P15,     62,   1,      12,   12022,  2,20090223,0946, -23.4920, -169.9959,  5660,    849.0,     5.55,   34.356,2,  34.3570,2,    186.1,2,    187.0,2,    24.80,2,    29.79,2, -999.000,9,     2.01,2, -999.000,9, -999.000,9, -999.000,9,   -999.0,9,   -999.0,9
           NA,     P15,     62,   1,      11,   12016,  2,20090223,0946, -23.4920, -169.9959,  5660,   1055.8,     4.23,   34.385,2,  34.3841,2,    173.4,2,    175.3,2,    43.85,2,    32.86,2, -999.000,9,     2.23,2, -999.000,9, -999.000,9, -999.000,9,   -999.0,9,   -999.0,9
           NA,     P15,     62,   1,       9,   12031,  2,20090223,0946, -23.4920, -169.9959,  5660,   1564.2,     2.58,   34.580,2,  34.5798,2,    150.8,2,    153.1,2,    96.36,2,    35.12,2, -999.000,9,     2.43,2, -999.000,9, -999.000,9, -999.000,9,   -999.0,9,   -999.0,9
           NA,     P15,     62,   1,       8,   12021,  2,20090223,0946, -23.4920, -169.9959,  5660,   1831.6,     2.36,   34.615,2,  34.6187,2,    144.6,2,    146.4,2,   110.77,2,    35.71,2, -999.000,9,     2.48,2, -999.000,9, -999.000,9, -999.000,9,   -999.0,9,   -999.0,9
           NA,     P15,     62,   1,       7,   12032,  2,20090223,0946, -23.4920, -169.9959,  5660,   2332.6,     2.07,   34.644,2,  34.6451,2,    143.4,2,    145.3,2,   122.69,2,    35.90,2, -999.000,9,     2.50,2, -999.000,9, -999.000,9, -999.000,9,   -999.0,9,   -999.0,9
           NA,     P15,     62,   1,       6,   12007,  2,20090223,0946, -23.4920, -169.9959,  5660,   2829.8,     1.84,   34.664,2,  34.6616,2,    145.6,2,    146.9,2,   131.76,2,    35.91,2, -999.000,9,     2.50,2, -999.000,9, -999.000,9, -999.000,9,   -999.0,9,   -999.0,9
           NA,     P15,     62,   1,       5,   12002,  2,20090223,0946, -23.4920, -169.9959,  5660,   3330.5,     1.63,   34.686,2,  34.6838,2,    161.3,2,    161.3,2,   128.92,2,    34.75,2, -999.000,9,     2.41,2, -999.000,9, -999.000,9, -999.000,9,   -999.0,9,   -999.0,9
           NA,     P15,     62,   1,       4,   12008,  2,20090223,0946, -23.4920, -169.9959,  5660,   3831.2,     1.40,   34.718,2,  34.7148,2,    194.7,2,    194.7,2,   112.15,2,    32.01,2, -999.000,9,     2.20,2, -999.000,9, -999.000,9, -999.000,9,   -999.0,9,   -999.0,9
           NA,     P15,     62,   1,       1,   12045,  2,20090223,0946, -23.4920, -169.9959,  5660,   5793.6,     1.14,   34.707,2,  34.7066,2,    210.0,2,    206.6,2,   121.82,2,    32.06,2, -999.000,9,     2.20,2, -999.000,9, -999.000,9, -999.000,9,   -999.0,9,   -999.0,9
           NA,     P15,     63,   1,      24,   12014,  2,20090223,1642, -22.9949, -170.0032,  5600,      4.4,    27.17,   34.775,2,  34.7738,2,    202.3,2,    201.2,2,     0.83,2,     0.00,2, -999.000,9,     0.00,2,    1.726,2,    1.072,2, -999.000,9,   1942.1,6,   2276.6,6
           NA,     P15,     63,   1,      23,   12046,  2,20090223,1642, -22.9949, -170.0032,  5600,     27.5,    27.15,   34.791,2,  34.8493,2,    204.0,2,    203.2,2,     0.83,2,     0.00,2, -999.000,9,     0.00,2,    1.725,2,    1.078,2, -999.000,9,   1948.1,2,   2282.8,2
           NA,     P15,     63,   1,      22,   12020,  2,20090223,1642, -22.9949, -170.0032,  5600,     57.5,    25.39,   35.293,2,  35.3013,2,    218.8,2,    217.3,2,     0.85,2,     0.00,2, -999.000,9,     0.00,2,    1.921,2,    1.150,2, -999.000,9,   1980.8,2,   2314.1,2
           NA,     P15,     63,   1,      21,   12003,  2,20090223,1642, -22.9949, -170.0032,  5600,     82.2,    22.93,   35.461,2,  35.4634,2,    230.5,2,    229.3,2,     0.87,2,     0.00,2, -999.000,9,     0.01,2,    2.154,2,    1.278,2, -999.000,9,   1999.2,2,   2320.6,2
           NA,     P15,     63,   1,      20,   12051,  2,20090223,1642, -22.9949, -170.0032,  5600,    116.8,    21.42,   35.510,2,  35.5109,2,    221.1,2,    220.1,2,     0.87,2,     0.00,2, -999.000,9,     0.04,2,    2.226,2,    1.333,2, -999.000,9,   2016.7,2,   2325.3,2
           NA,     P15,     63,   1,      19,   12010,  2,20090223,1642, -22.9949, -170.0032,  5600,    191.8,    19.42,   35.602,2,  35.5987,2,    197.0,2,    196.0,2,     1.06,2,     2.12,2, -999.000,9,     0.21,2,    2.371,2,    1.396,2, -999.000,9,   2058.9,2,   2329.8,2
           NA,     P15,     63,   1,      18,   12018,  2,20090223,1642, -22.9949, -170.0032,  5600,    282.9,    17.27,   35.531,2,  35.5281,2,    209.1,2,    208.4,2,     1.27,2,     2.72,2, -999.000,9,     0.26,2,    2.603,2,    1.477,2, -999.000,9,   2071.8,2,   2325.4,2
           NA,     P15,     63,   1,      17,   12024,  2,20090223,1642, -22.9949, -170.0032,  5600,    342.9,    15.45,   35.330,2,  35.3269,2,    195.5,2,    194.8,2,     2.15,2,     6.93,2, -999.000,9,     0.55,2,    2.691,2,    1.494,2, -999.000,9,   2096.8,2,   2315.3,2
           NA,     P15,     63,   1,      16,   12001,  2,20090223,1642, -22.9949, -170.0032,  5600,    417.2,    12.96,   35.037,2,  35.0277,2,    197.5,2,    196.8,2,     3.23,2,    11.20,2, -999.000,9,     0.82,2,    2.906,2,    1.556,2, -999.000,9,   2114.0,2,   2301.7,6
           NA,     P15,     63,   1,      15,   12025,  2,20090223,1642, -22.9949, -170.0032,  5600,    493.2,    10.15,   34.663,2,  34.6596,2,    196.6,2,    196.9,2,     5.79,2,    17.33,2, -999.000,9,     1.23,2,    2.675,2,    1.348,2, -999.000,9,   2133.6,2,   2285.8,2
           NA,     P15,     63,   1,      14,   12041,  2,20090223,1642, -22.9949, -170.0032,  5600,    597.0,     7.80,   34.450,2,  34.4438,2,    220.5,2,    221.8,2,     6.94,2,    21.13,2, -999.000,9,     1.44,2,    2.995,2,    1.455,2, -999.000,9,   2139.3,2,   2277.5,2
           NA,     P15,     63,   1,      13,   12012,  2,20090223,1642, -22.9949, -170.0032,  5600,    746.9,     6.23,   34.359,2,  34.3607,2,    192.8,2,    194.5,2,    17.75,2,    27.80,2, -999.000,9,     1.88,2,    1.115,2,    0.550,2, -999.000,9,   2172.1,2,   2283.3,2
           NA,     P15,     63,   1,      12,   12022,  2,20090223,1642, -22.9949, -170.0032,  5600,    898.0,     5.09,   34.355,2,  34.3470,2,    185.0,2,    189.9,2,    28.66,2,    30.64,2, -999.000,9,     2.06,2,    0.473,2,    0.236,2, -999.000,9,   2190.3,6,   2297.2,6
           NA,     P15,     63,   1,      11,   12016,  2,20090223,1642, -22.9949, -170.0032,  5600,   1147.6,     3.68,   34.441,2,  34.4394,2,    162.0,2,    164.3,2,    59.41,2,    34.21,2, -999.000,9,     2.33,2,    0.055,2,    0.025,2, -999.000,9,   2237.6,2,   2324.2,2
           NA,     P15,     63,   1,      10,   12019,  2,20090223,1642, -22.9949, -170.0032,  5600,   1398.3,     2.91,   34.537,2,  34.5368,2,    152.6,2,    156.1,2,    85.14,2,    35.15,2, -999.000,9,     2.41,2,    0.005,2,    0.001,2, -999.000,9,   2266.9,2,   2347.0,2
           NA,     P15,     63,   1,       9,   12031,  2,20090223,1642, -22.9949, -170.0032,  5600,   1698.7,     2.45,   34.604,2,  34.6032,2,    144.9,2,    148.6,2,   106.61,2,    35.64,2, -999.000,9,     2.46,2,    0.003,2,    0.002,2, -999.000,9,   2292.7,2,   2378.2,2
           NA,     P15,     63,   1,       8,   12021,  2,20090223,1642, -22.9949, -170.0032,  5600,   2000.5,     2.24,   34.628,2,  34.6268,2,    142.8,2,    145.9,2,   116.10,2,    35.91,2, -999.000,9,     2.48,2,    0.004,6,    0.002,6, -999.000,9,   2301.6,2,   2387.2,2
           NA,     P15,     63,   1,       7,   12032,  2,20090223,1642, -22.9949, -170.0032,  5600,   2498.3,     1.96,   34.654,2,  34.6525,2,    143.1,2,    145.9,2,   127.17,2,    35.97,2, -999.000,9,     2.49,2,    0.005,2,    0.002,2, -999.000,9,   2313.0,2,   2401.8,2
           NA,     P15,     63,   1,       6,   12007,  2,20090223,1642, -22.9949, -170.0032,  5600,   2998.2,     1.76,   34.670,2,  34.6657,2,    147.4,2,    149.0,2,   133.67,2,    35.88,2, -999.000,9,     2.48,2,    0.007,2,    0.000,2, -999.000,9,   2317.6,2,   2407.0,6
           NA,     P15,     63,   1,       5,   12002,  2,20090223,1642, -22.9949, -170.0032,  5600,   3498.6,     1.55,   34.696,2,  34.6948,2,    172.2,2,    173.0,2,   123.69,2,    33.95,2, -999.000,9,     2.33,2,    0.011,2,    0.003,2, -999.000,9,   2291.0,2,   2389.5,2
           NA,     P15,     63,   1,       4,   12008,  2,20090223,1642, -22.9949, -170.0032,  5600,   3997.4,     1.28,   34.718,2,  34.7164,2,    199.8,2,   -999.0,9,   112.99,2,    31.83,2, -999.000,9,     2.17,2,    0.040,2,    0.018,2, -999.000,9,   2260.3,2,   2363.2,2
           NA,     P15,     63,   1,       3,   12033,  2,20090223,1642, -22.9949, -170.0032,  5600,   4497.5,     1.10,   34.712,2,  34.7115,2,    206.3,2,    205.1,2,   118.30,2,    32.01,2, -999.000,9,     2.18,2,    0.061,2,    0.028,2, -999.000,9,   2259.3,2,   2362.3,2
           NA,     P15,     63,   1,       2,   12006,  2,20090223,1642, -22.9949, -170.0032,  5600,   4998.8,     1.05,   34.709,2,  34.7097,2,    209.0,2,    205.4,2,  -999.00,9,  -999.00,9, -999.000,9,  -999.00,9,    0.061,2,    0.026,2, -999.000,9,   2261.4,2,   2363.1,2
           NA,     P15,     63,   1,       1,   12045,  2,20090223,1642, -22.9949, -170.0032,  5600,   5804.5,     1.14,   34.707,2,  34.7079,2,    210.2,2,    206.3,2,   121.81,2,    32.22,2, -999.000,9,     2.19,2,    0.052,2,    0.026,2, -999.000,9,   2262.3,6,   2364.7,6
           NA,     P15,     64,   1,      24,   12014,  2,20090224,0133, -22.4877, -169.9972,  5694,      4.2,    27.29,   34.870,2,  34.8690,2,    202.6,2,    201.6,2,     0.85,2,     0.01,2, -999.000,9,     0.00,2, -999.000,9, -999.000,9, -999.000,9,   1952.4,2,   2286.2,2
           NA,     P15,     64,   1,      23,   12046,  2,20090224,0133, -22.4877, -169.9972,  5694,     27.0,    27.04,   34.921,2,  34.9239,2,    203.6,2,    202.7,2,     0.84,2,     0.01,2, -999.000,9,     0.00,2, -999.000,9, -999.000,9, -999.000,9,   -999.0,9,   -999.0,9
           NA,     P15,     64,   1,      22,   12020,  2,20090224,0133, -22.4877, -169.9972,  5694,     66.9,    23.94,   35.375,2,  35.3802,2,    230.3,2,    230.0,2,     0.85,2,     0.01,2, -999.000,9,     0.00,2, -999.000,9, -999.000,9, -999.000,9,   1986.9,2,   2314.5,2
           NA,     P15,     64,   1,      21,   12003,  2,20090224,0133, -22.4877, -169.9972,  5694,     97.0,    22.18,   35.472,2,  35.4738,2,    226.6,2,    225.1,2,     0.87,2,     0.03,2, -999.000,9,     0.02,2, -999.000,9, -999.000,9, -999.000,9,   -999.0,9,   -999.0,9
           NA,     P15,     64,   1,      20,   12051,  2,20090224,0133, -22.4877, -169.9972,  5694,    135.4,    20.80,   35.541,2,  35.5409,2,    214.8,2,    212.9,2,     0.87,2,     0.08,2, -999.000,9,     0.06,2, -999.000,9, -999.000,9, -999.000,9,   2026.0,2,   2328.6,2
           NA,     P15,     64,   1,      19,   12010,  2,20090224,0133, -22.4877, -169.9972,  5694,    197.8,    19.35,   35.605,2,  35.6050,2,    188.6,2,    187.3,2,     1.19,2,     3.11,2, -999.000,9,     0.26,2, -999.000,9, -999.000,9, -999.000,9,   2065.4,2,   2331.0,2
           NA,     P15,     64,   1,      18,   12018,  2,20090224,0133, -22.4877, -169.9972,  5694,    292.0,    17.06,   35.516,2,  35.5052,2,    210.4,2,    207.3,2,     1.35,2,     3.12,2, -999.000,9,     0.28,2, -999.000,9, -999.000,9, -999.000,9,   2075.0,2,   2326.7,2
           NA,     P15,     64,   1,      17,   12024,  2,20090224,0133, -22.4877, -169.9972,  5694,    367.6,    14.93,   35.258,2,  35.2619,2,    195.3,2,    193.7,2,     2.39,2,     7.80,2, -999.000,9,     0.61,2, -999.000,9, -999.000,9, -999.000,9,   2099.3,2,   2314.1,2
           NA,     P15,     64,   1,      16,   12001,  2,20090224,0133, -22.4877, -169.9972,  5694,    444.6,    12.55,   34.997,2,  34.9961,2,    197.5,2,    196.5,2,     3.62,2,    12.08,2, -999.000,9,     0.87,2, -999.000,9, -999.000,9, -999.000,9,   -999.0,9,   -999.0,9
           NA,     P15,     64,   1,      15,   12025,  2,20090224,0133, -22.4877, -169.9972,  5694,    522.0,     9.62,   34.587,2,  34.5932,2,    192.7,2,    191.6,2,     6.95,2,    18.75,2, -999.000,9,     1.34,2, -999.000,9, -999.000,9, -999.000,9,   -999.0,9,   -999.0,9
           NA,     P15,     64,   1,      14,   12041,  2,20090224,0133, -22.4877, -169.9972,  5694,    640.4,     6.94,   34.382,2,  34.3821,2,    203.5,2,    204.1,2,    12.07,2,    25.02,2, -999.000,9,     1.71,2, -999.000,9, -999.000,9, -999.000,9,   -999.0,9,   -999.0,9
           NA,     P15,     64,   1,      13,   12012,  2,20090224,0133, -22.4877, -169.9972,  5694,    797.1,     5.48,   34.338,2,  34.3378,2,    196.1,2,    198.3,2,    22.35,2,    29.17,2, -999.000,9,     1.96,2, -999.000,9, -999.000,9, -999.000,9,   -999.0,9,   -999.0,9
           NA,     P15,     64,   1,      12,   12022,  2,20090224,0133, -22.4877, -169.9972,  5694,    963.9,     4.41,   34.370,2,  34.3706,2,    176.6,2,    178.6,2,    39.75,2,    32.53,2, -999.000,9,     2.20,2, -999.000,9, -999.000,9, -999.000,9,   -999.0,9,   -999.0,9
           NA,     P15,     64,   1,      11,   12016,  2,20090224,0133, -22.4877, -169.9972,  5694,   1230.8,     3.31,   34.492,2,  34.4924,2,    155.8,2,    157.4,2,    72.57,2,    34.91,2, -999.000,9,     2.39,2, -999.000,9, -999.000,9, -999.000,9,   -999.0,9,   -999.0,9
           NA,     P15,     64,   1,      10,   12019,  2,20090224,0133, -22.4877, -169.9972,  5694,   1488.1,     2.71,   34.568,2,  34.5686,2,    149.5,2,    151.6,2,    93.81,2,    35.43,2, -999.000,9,     2.43,2, -999.000,9, -999.000,9, -999.000,9,   -999.0,9,   -999.0,9
           NA,     P15,     64,   1,       9,   12031,  2,20090224,0133, -22.4877, -169.9972,  5694,   1797.0,     2.38,   34.615,2,-999.0000,9,    143.9,2,    145.6,2,   111.26,2,    35.95,2, -999.000,9,     2.49,2, -999.000,9, -999.000,9, -999.000,9,   -999.0,9,   -999.0,9
           NA,     P15,     64,   1,       8,   12021,  2,20090224,0133, -22.4877, -169.9972,  5694,   2129.8,     2.16,   34.635,2,  34.6329,2,    143.4,2,    145.0,2,   119.16,2,    36.11,2, -999.000,9,     2.50,2, -999.000,9, -999.000,9, -999.000,9,   -999.0,9,   -999.0,9
           NA,     P15,     64,   1,       7,   12032,  2,20090224,0133, -22.4877, -169.9972,  5694,   2663.7,     1.88,   34.660,2,  34.6651,2,    144.8,2,    145.8,2,   130.09,2,    36.05,2, -999.000,9,     2.50,2, -999.000,9, -999.000,9, -999.000,9,   -999.0,9,   -999.0,9
           NA,     P15,     64,   1,       6,   12007,  2,20090224,0133, -22.4877, -169.9972,  5694,   3163.4,     1.67,   34.677,2,  34.6755,2,    153.3,2,    153.5,2,   133.60,2,    35.61,2, -999.000,9,     2.46,2, -999.000,9, -999.000,9, -999.000,9,   -999.0,9,   -999.0,9
           NA,     P15,     64,   1,       5,   12002,  2,20090224,0133, -22.4877, -169.9972,  5694,   3662.9,     1.43,   34.713,2,  34.7103,2,    189.0,2,    189.2,2,   114.69,2,    32.45,2, -999.000,9,     2.22,2, -999.000,9, -999.000,9, -999.000,9,   -999.0,9,   -999.0,9
           NA,     P15,     64,   1,       3,   12033,  2,20090224,0133, -22.4877, -169.9972,  5694,   4661.3,     1.06,   34.710,2,  34.7146,2,    207.5,2,    205.7,2,   120.10,2,    32.04,2, -999.000,9,     2.18,2, -999.000,9, -999.000,9, -999.000,9,   -999.0,9,   -999.0,9
           NA,     P15,     64,   1,       2,   12006,  2,20090224,0133, -22.4877, -169.9972,  5694,   5165.5,     1.06,   34.708,2,  34.7066,2,    209.9,2,    206.6,2,   121.92,2,    32.16,2, -999.000,9,     2.20,2, -999.000,9, -999.000,9, -999.000,9,   -999.0,9,   -999.0,9
           NA,     P15,     64,   1,       1,   12045,  2,20090224,0133, -22.4877, -169.9972,  5694,   5773.5,     1.14,   34.708,2,  34.7066,2,    210.8,2,    205.8,2,   122.19,2,    32.07,2, -999.000,9,     2.19,2, -999.000,9, -999.000,9, -999.000,9,   -999.0,9,   -999.0,9