BOTTLE,20214902JOAExport
EXPOCODE,SECT_ID,STNNBR,CASTNO,SAMPNO,BTLNBR,BTLNBR_FLAG_W,DATE,TIME,LATITUDE,LONGITUDE,DEPTH,CTDPRS,CTDTMP,CTDSAL,CTDSAL_FLAG_W,SALNTY,SALNTY_FLAG_W,CTDOXY,CTDOXY_FLAG_W,OXYGEN,OXYGEN_FLAG_W,SILCAT,SILCAT_FLAG_W,NITRAT,NITRAT_FLAG_W,NITRIT,NITRIT_FLAG_W,PHSPHT,PHSPHT_FLAG_W,CFC-11,CFC-11_FLAG_W,CFC-12,CFC-12_FLAG_W,SF6,SF6_FLAG_W,TCARBN,TCARBN_FLAG_W,ALKALI,ALKALI_FLAG_W
,,,,,,,,,,,,DB,ITS-90,PSS-78,,PSS-78,,UMOL/KG,,UMOL/KG,,UMOL/KG,,UMOL/KG,,UMOL/KG,,UMOL/KG,,PMOL/KG,,PMOL/KG,,FMOL/KG,,UMOL/KG,,UMOL/KG
           NA,     P15,     70,   1,      24,   12014,  2,20090301,1721, -19.4980, -170.0075,  4902,      4.1,    28.74,   34.975,2,  34.9825,2,    198.2,2,    197.0,2,     0.83,2,     0.00,2, -999.000,9,     0.01,2, -999.000,9, -999.000,9, -999.000,9,   1935.2,2,   2299.0,2
           NA,     P15,     70,   1,      23,   12046,  2,20090301,1721, -19.4980, -170.0075,  4902,     28.5,    28.73,   34.985,2,  35.0004,2,    197.5,2,    197.8,2,     0.85,2,     0.00,2, -999.000,9,     0.00,2, -999.000,9, -999.000,9, -999.000,9,   -999.0,9,   -999.0,9
           NA,     P15,     70,   1,      22,   12020,  2,20090301,1721, -19.4980, -170.0075,  4902,     62.7,    25.90,   35.345,2,  35.3626,2,    215.0,2,    212.2,2,     0.93,2,     0.00,2, -999.000,9,     0.04,2, -999.000,9, -999.000,9, -999.000,9,   1976.2,2,   2326.8,2
           NA,     P15,     70,   1,      21,   12003,  2,20090301,1721, -19.4980, -170.0075,  4902,     96.5,    24.43,   35.399,2,  35.4365,2,    209.3,2,    207.5,2,     0.90,2,     0.00,2, -999.000,9,     0.07,2, -999.000,9, -999.000,9, -999.000,9,   -999.0,9,   -999.0,9
           NA,     P15,     70,   1,      20,   12051,  2,20090301,1721, -19.4980, -170.0075,  4902,    134.5,    23.60,   35.604,2,  35.6032,2,    202.3,2,    201.8,2,     0.89,2,     0.00,2, -999.000,9,     0.10,2, -999.000,9, -999.000,9, -999.000,9,   2013.7,2,   2338.6,2
           NA,     P15,     70,   1,      19,   12010,  2,20090301,1721, -19.4980, -170.0075,  4902,    197.5,    21.82,   35.784,2,  35.8023,2,    171.3,2,    169.8,2,     1.09,2,     2.92,2, -999.000,9,     0.34,2, -999.000,9, -999.000,9, -999.000,9,   -999.0,3,   2347.2,2
           NA,     P15,     70,   1,      18,   12018,  2,20090301,1721, -19.4980, -170.0075,  4902,    292.6,    18.85,   35.587,2,  35.5865,2,    189.7,2,    188.3,2,     1.24,2,     3.43,2, -999.000,9,     0.31,2, -999.000,9, -999.000,9, -999.000,9,   2072.5,2,   2333.3,2
           NA,     P15,     70,   1,      17,   12024,  2,20090301,1721, -19.4980, -170.0075,  4902,    367.3,    15.70,   35.285,2,  35.2761,2,    190.3,2,    189.9,2,     2.33,2,     7.09,2, -999.000,9,     0.59,2, -999.000,9, -999.000,9, -999.000,9,   2098.0,2,   2314.6,2
           NA,     P15,     70,   1,      16,   12001,  2,20090301,1721, -19.4980, -170.0075,  4902,    442.6,    11.47,   34.738,2,  34.7296,2,    173.3,2,    172.4,2,     6.99,2,    16.58,2, -999.000,9,     1.26,2, -999.000,9, -999.000,9, -999.000,9,   2136.5,2,   2297.6,2
           NA,     P15,     70,   1,      15,   12025,  2,20090301,1721, -19.4980, -170.0075,  4902,    521.8,     8.42,   34.439,2,  34.4852,2,    173.2,2,    172.2,2,    12.21,2,    23.72,2, -999.000,9,     1.70,2, -999.000,9, -999.000,9, -999.000,9,   2165.1,2,   2284.1,2
           NA,     P15,     70,   1,      14,   12041,  2,20090301,1721, -19.4980, -170.0075,  4902,    687.2,     6.01,   34.362,2,  34.3631,2,    188.8,2,    189.9,2,    20.53,2,    28.56,2, -999.000,9,     1.95,2, -999.000,9, -999.000,9, -999.000,9,   -999.0,9,   -999.0,9
           NA,     P15,     70,   1,      13,   12012,  2,20090301,1721, -19.4980, -170.0075,  4902,    796.7,     5.17,   34.384,2,  34.3853,2,    169.8,2,    171.1,2,    33.94,2,    31.81,2, -999.000,9,     2.17,2, -999.000,9, -999.000,9, -999.000,9,   -999.0,9,   -999.0,9
           NA,     P15,     70,   1,      12,   12022,  2,20090301,1721, -19.4980, -170.0075,  4902,    965.6,     4.19,   34.442,2,  34.4461,2,    155.2,2,    156.2,2,    55.18,2,    34.14,2, -999.000,9,     2.35,2, -999.000,9, -999.000,9, -999.000,9,   -999.0,9,   -999.0,9
           NA,     P15,     70,   1,      11,   12016,  2,20090301,1721, -19.4980, -170.0075,  4902,   1230.3,     3.12,   34.525,2,  34.5264,2,    151.2,2,    152.5,2,    81.43,2,    35.18,2, -999.000,9,     2.43,2, -999.000,9, -999.000,9, -999.000,9,   -999.0,9,   -999.0,9
           NA,     P15,     70,   1,      10,   12019,  2,20090301,1721, -19.4980, -170.0075,  4902,   1488.9,     2.63,   34.584,2,  34.5877,2,    146.5,2,    147.9,2,    99.97,2,    35.57,2, -999.000,9,     2.47,2, -999.000,9, -999.000,9, -999.000,9,   -999.0,9,   -999.0,9
           NA,     P15,     70,   1,       9,   12031,  2,20090301,1721, -19.4980, -170.0075,  4902,   1780.5,     2.33,   34.619,2,  34.6191,2,    143.7,2,    144.9,2,   113.08,2,    35.87,2, -999.000,9,     2.50,2, -999.000,9, -999.000,9, -999.000,9,   -999.0,9,   -999.0,9
           NA,     P15,     70,   1,       8,   12021,  2,20090301,1721, -19.4980, -170.0075,  4902,   1980.8,     2.18,   34.632,2,-999.0000,9,    144.5,2,    145.5,2,   117.88,2,    36.03,2, -999.000,9,     2.50,2, -999.000,9, -999.000,9, -999.000,9,   -999.0,9,   -999.0,9
           NA,     P15,     70,   1,       7,   12032,  2,20090301,1721, -19.4980, -170.0075,  4902,   2297.4,     2.01,   34.648,2,  34.6492,2,    145.2,2,    146.2,2,   124.01,2,    35.92,2, -999.000,9,     2.50,2, -999.000,9, -999.000,9, -999.000,9,   -999.0,9,   -999.0,9
           NA,     P15,     70,   1,       6,   12007,  2,20090301,1721, -19.4980, -170.0075,  4902,   2628.8,     1.88,   34.659,2,  34.6590,2,    146.8,2,    147.4,2,   128.72,2,    36.01,2, -999.000,9,     2.50,2, -999.000,9, -999.000,9, -999.000,9,   -999.0,9,   -999.0,9
           NA,     P15,     70,   1,       5,   12002,  2,20090301,1721, -19.4980, -170.0075,  4902,   3164.8,     1.70,   34.674,2,  34.6741,2,    151.9,2,    151.8,2,   133.77,2,    35.69,2, -999.000,9,     2.48,2, -999.000,9, -999.000,9, -999.000,9,   -999.0,9,   -999.0,9
           NA,     P15,     70,   1,       4,   12008,  2,20090301,1721, -19.4980, -170.0075,  4902,   3664.0,     1.51,   34.695,2,  34.6958,2,    173.6,2,    172.9,2,   125.52,2,    34.03,2, -999.000,9,     2.35,2, -999.000,9, -999.000,9, -999.000,9,   -999.0,9,   -999.0,9
           NA,     P15,     70,   1,       3,   12033,  2,20090301,1721, -19.4980, -170.0075,  4902,   4163.3,     1.22,   34.713,2,  34.7131,2,    200.3,2,    199.6,2,   115.75,2,    32.15,2, -999.000,9,     2.20,2, -999.000,9, -999.000,9, -999.000,9,   -999.0,9,   -999.0,9
           NA,     P15,     70,   1,       2,   12006,  2,20090301,1721, -19.4980, -170.0075,  4902,   4662.8,     1.02,   34.708,2,  34.7075,2,    206.8,2,    206.0,2,   120.92,2,    32.12,2, -999.000,9,     2.22,2, -999.000,9, -999.000,9, -999.000,9,   -999.0,9,   -999.0,9
           NA,     P15,     70,   1,       1,   12045,  2,20090301,1721, -19.4980, -170.0075,  4902,   4988.6,     1.04,   34.708,2,  34.7072,2,    207.2,2,    206.1,2,   121.47,2,    32.20,2, -999.000,9,     2.21,2, -999.000,9, -999.000,9, -999.000,9,   -999.0,9,   -999.0,9
           NA,     P15,     71,   1,      24,   12014,  2,20090301,2330, -18.9930, -170.0562,  2980,      3.5,    29.16,   34.940,2,  34.9396,2,    197.4,2,    197.6,2,     0.82,2,     0.00,2, -999.000,9,     0.01,2, -999.000,9, -999.000,9, -999.000,9,   1935.1,6,   2293.5,6
           NA,     P15,     71,   1,      23,   12046,  2,20090301,2330, -18.9930, -170.0562,  2980,     22.9,    28.71,   34.952,2,  34.9636,2,    198.4,2,    201.5,2,     0.82,2,     0.00,2, -999.000,9,     0.01,2, -999.000,3, -999.000,3, -999.000,9,   1934.3,2,   2295.2,2
           NA,     P15,     71,   1,      22,   12020,  2,20090301,2330, -18.9930, -170.0562,  2980,     47.0,    28.22,   35.213,2,  35.2241,2,    201.7,2,    201.5,2,     0.83,2,     0.00,2, -999.000,9,     0.01,2, -999.000,3, -999.000,3, -999.000,9,   1955.5,2,   2311.4,2
           NA,     P15,     71,   1,      21,   12003,  2,20090301,2330, -18.9930, -170.0562,  2980,     70.2,    25.52,   35.314,2,  35.3557,2,    208.8,2,    206.4,2,     0.92,2,     0.00,2, -999.000,9,     0.05,2, -999.000,3, -999.000,3, -999.000,9,   1980.2,2,   2319.6,2
           NA,     P15,     71,   1,      20,   12051,  2,20090301,2330, -18.9930, -170.0562,  2980,     91.8,    24.58,   35.405,2,  35.4204,2,    202.1,2,    200.8,2,     0.90,2,     0.00,2, -999.000,9,     0.07,2, -999.000,3, -999.000,3, -999.000,9,   1994.6,2,   2322.6,2
           NA,     P15,     71,   1,      19,   12010,  2,20090301,2330, -18.9930, -170.0562,  2980,    167.4,    22.98,   35.714,2,  35.7011,2,    180.5,2,    181.0,2,     0.94,2,     1.20,2, -999.000,9,     0.21,2, -999.000,3, -999.000,3, -999.000,9,   2045.3,2,   2343.4,2
           NA,     P15,     71,   1,      18,   12018,  2,20090301,2330, -18.9930, -170.0562,  2980,    241.6,    20.72,   35.684,2,  35.6889,2,    180.1,2,    177.5,2,     1.09,2,     2.98,2, -999.000,9,     0.30,2, -999.000,3, -999.000,3, -999.000,9,   2069.2,2,   2338.3,2
           NA,     P15,     71,   1,      17,   12024,  2,20090301,2330, -18.9930, -170.0562,  2980,    316.9,    18.17,   35.474,2,  35.4612,2,    179.2,2,    177.2,2,     1.78,2,     5.51,2, -999.000,9,     0.49,2, -999.000,3, -999.000,3, -999.000,9,   2092.3,2,   2327.1,2
           NA,     P15,     71,   1,      16,   12001,  2,20090301,2330, -18.9930, -170.0562,  2980,    386.8,    14.93,   35.098,2,  35.0925,2,    180.3,2,    178.8,2,     3.28,2,     9.47,2, -999.000,9,     0.76,2, -999.000,3, -999.000,3, -999.000,9,   2110.1,2,   2306.3,2
           NA,     P15,     71,   1,      15,   12025,  2,20090301,2330, -18.9930, -170.0562,  2980,    450.0,    12.31,   34.824,2,  34.8206,2,    177.5,2,    176.0,2,     5.69,2,    14.64,2, -999.000,9,     1.10,2, -999.000,3, -999.000,3, -999.000,9,   2128.9,2,   2292.8,6
           NA,     P15,     71,   1,      14,   12041,  2,20090301,2330, -18.9930, -170.0562,  2980,    546.3,     8.20,   34.471,2,-999.0000,9,    188.8,2,    188.0,2,    11.00,2,    23.23,2, -999.000,9,     1.61,2, -999.000,3, -999.000,3, -999.000,9,   2158.2,2,   2284.3,2
           NA,     P15,     71,   1,      13,   12012,  2,20090301,2330, -18.9930, -170.0562,  2980,    647.3,     6.27,   34.360,2,-999.0000,9,    200.2,2,    200.7,2,    16.43,2,    27.20,2, -999.000,9,     1.83,2, -999.000,3, -999.000,3, -999.000,9,   2169.2,2,   2285.5,2
           NA,     P15,     71,   1,      12,   12022,  2,20090301,2330, -18.9930, -170.0562,  2980,    726.6,     5.56,   34.349,2,-999.0000,9,    192.0,2,    192.9,2,    23.32,2,    29.58,2, -999.000,9,     1.98,2, -999.000,3, -999.000,3, -999.000,9,   2183.8,6,   2290.3,6
           NA,     P15,     71,   1,      11,   12016,  2,20090301,2330, -18.9930, -170.0562,  2980,    848.7,     4.70,   34.399,2,  34.4057,2,    165.6,2,    167.1,2,    41.91,2,    32.87,2, -999.000,9,     2.23,2, -999.000,3, -999.000,3, -999.000,9,   2213.3,2,   2306.2,2
           NA,     P15,     71,   1,      10,   12019,  2,20090301,2330, -18.9930, -170.0562,  2980,   1047.9,     3.59,   34.480,2,  34.4846,2,    154.5,2,    155.4,2,    67.98,2,    34.80,2, -999.000,9,     2.37,2,    0.023,2,    0.013,2, -999.000,9,   2252.3,2,   2332.5,2
           NA,     P15,     71,   1,       9,   12031,  2,20090301,2330, -18.9930, -170.0562,  2980,   1247.3,     2.97,   34.540,2,  34.5423,2,    150.9,2,    152.7,2,    85.73,2,    35.37,2, -999.000,9,     2.42,2,   -0.003,2,    0.003,2, -999.000,9,   2271.2,2,   2352.3,2
           NA,     P15,     71,   1,       8,   12021,  2,20090301,2330, -18.9930, -170.0562,  2980,   1449.0,     2.63,   34.586,2,  34.5885,2,    145.8,2,    147.4,2,   100.56,2,    35.89,2, -999.000,9,     2.46,2,    0.003,2,    0.003,2, -999.000,9,   2289.6,2,   2370.4,2
           NA,     P15,     71,   1,       7,   12032,  2,20090301,2330, -18.9930, -170.0562,  2980,   1649.7,     2.45,   34.608,2,  34.6085,2,    143.9,2,    145.2,2,   108.83,2,    36.19,2, -999.000,9,     2.48,2,    0.004,2,    0.002,2, -999.000,9,   2295.4,2,   2382.4,2
           NA,     P15,     71,   1,       6,   12007,  2,20090301,2330, -18.9930, -170.0562,  2980,   1899.0,     2.26,   34.626,2,  34.6250,2,    143.8,2,    145.5,2,   115.23,2,    36.18,2, -999.000,9,     2.48,2,    0.003,2,    0.004,2, -999.000,9,   2305.3,2,   2388.7,2
           NA,     P15,     71,   1,       5,   12002,  2,20090301,2330, -18.9930, -170.0562,  2980,   2196.0,     2.03,   34.646,2,  34.6447,2,    145.2,2,    147.0,2,   122.67,2,    36.05,2, -999.000,9,     2.48,2,    0.001,6,    0.000,6, -999.000,9,   2312.2,2,   2396.9,2
           NA,     P15,     71,   1,       4,   12008,  2,20090301,2330, -18.9930, -170.0562,  2980,   2495.6,     1.89,   34.657,2,  34.6565,2,    145.8,2,    147.6,2,   127.99,2,    36.10,2, -999.000,9,     2.48,2,    0.005,2,    0.003,2, -999.000,9,   2315.3,2,   2402.6,2
           NA,     P15,     71,   1,       3,   12033,  2,20090301,2330, -18.9930, -170.0562,  2980,   2797.1,     1.81,   34.665,2,  34.6635,2,    146.8,2,    148.8,2,   130.98,2,    36.02,2, -999.000,9,     2.48,2,    0.004,2,    0.003,2, -999.000,9,   2317.5,2,   2402.4,6
           NA,     P15,     71,   1,       2,   12006,  2,20090301,2330, -18.9930, -170.0562,  2980,   2914.2,     1.76,   34.669,2,  34.6684,2,    147.6,2,   -999.0,9,   132.88,2,    36.04,2, -999.000,9,     2.47,2,    0.004,2,    0.002,2, -999.000,9,   2315.7,2,   2406.0,2
           NA,     P15,     71,   1,       1,   12045,  2,20090301,2330, -18.9930, -170.0562,  2980,   3059.6,     1.75,   34.670,2,  34.6696,2,    148.4,2,    150.6,2,   132.91,2,    36.01,2, -999.000,9,     2.46,2,    0.004,2,    0.003,2, -999.000,9,   2318.7,6,   2406.5,6