BOTTLE,20214902JOAExport
EXPOCODE,SECT_ID,STNNBR,CASTNO,SAMPNO,BTLNBR,BTLNBR_FLAG_W,DATE,TIME,LATITUDE,LONGITUDE,DEPTH,CTDPRS,CTDTMP,CTDSAL,CTDSAL_FLAG_W,SALNTY,SALNTY_FLAG_W,CTDOXY,CTDOXY_FLAG_W,OXYGEN,OXYGEN_FLAG_W,SILCAT,SILCAT_FLAG_W,NITRAT,NITRAT_FLAG_W,NITRIT,NITRIT_FLAG_W,PHSPHT,PHSPHT_FLAG_W,CFC-11,CFC-11_FLAG_W,CFC-12,CFC-12_FLAG_W,SF6,SF6_FLAG_W,TCARBN,TCARBN_FLAG_W,ALKALI,ALKALI_FLAG_W
,,,,,,,,,,,,DB,ITS-90,PSS-78,,PSS-78,,UMOL/KG,,UMOL/KG,,UMOL/KG,,UMOL/KG,,UMOL/KG,,UMOL/KG,,PMOL/KG,,PMOL/KG,,FMOL/KG,,UMOL/KG,,UMOL/KG
           NA,     P15,     89,   1,      24,   12014,  2,20090306,1343, -10.9956, -170.0160,  5109,      1.6,    29.41,   35.256,2,-999.0000,9,    194.6,2,    193.6,2,     1.05,2,     0.01,2, -999.000,9,     0.16,2,    1.538,6,    0.944,6, -999.000,9,   1963.4,2,   2313.8,6
           NA,     P15,     89,   1,      23,   12046,  2,20090306,1343, -10.9956, -170.0160,  5109,     15.4,    29.40,   35.255,2,  35.2540,2,    194.0,2,    193.6,2,     1.05,2,     0.01,2, -999.000,9,     0.16,2,    1.539,2,    0.943,2, -999.000,9,   1963.1,2,   2317.6,2
           NA,     P15,     89,   1,      22,   12020,  2,20090306,1343, -10.9956, -170.0160,  5109,     38.5,    29.41,   35.261,2,  35.2627,2,    194.6,2,    193.7,2,     1.05,2,     0.00,2, -999.000,9,     0.16,2,    1.548,2,    0.945,2, -999.000,9,   1962.5,2,   2313.1,2
           NA,     P15,     89,   1,      21,   12003,  2,20090306,1343, -10.9956, -170.0160,  5109,     58.3,    29.53,   35.515,2,-999.0000,9,    196.9,2,    196.4,2,     1.12,2,     0.01,2, -999.000,9,     0.17,2,    1.566,2,    0.963,2, -999.000,9,   1974.7,2,   2338.2,2
           NA,     P15,     89,   1,      20,   12051,  2,20090306,1343, -10.9956, -170.0160,  5109,     80.1,    28.82,   35.765,2,  35.7734,2,    195.7,2,    195.4,2,     1.21,2,     0.00,2, -999.000,9,     0.18,2,    1.634,2,    0.983,2, -999.000,9,   2003.2,2,   2348.1,2
           NA,     P15,     89,   1,      19,   12010,  2,20090306,1343, -10.9956, -170.0160,  5109,    136.9,    26.36,   36.315,2,  36.3168,2,    173.5,2,    172.4,2,     1.19,2,     1.51,2, -999.000,9,     0.33,2,    1.770,2,    1.077,2, -999.000,9,   2066.3,2,   2390.2,2
           NA,     P15,     89,   1,      18,   12018,  2,20090306,1343, -10.9956, -170.0160,  5109,    179.6,    23.63,   36.251,2,  36.2459,2,    164.6,2,    163.5,2,     1.15,2,     3.59,2, -999.000,9,     0.45,2,    2.019,2,    1.186,2, -999.000,9,   2101.2,2,   2377.3,2
           NA,     P15,     89,   1,      17,   12024,  2,20090306,1343, -10.9956, -170.0160,  5109,    230.4,    20.46,   35.805,2,-999.0000,9,    163.6,2,    163.1,2,     1.63,2,     5.83,2, -999.000,9,     0.61,2,    2.275,2,    1.280,2, -999.000,9,   2114.0,2,   2349.4,2
           NA,     P15,     89,   1,      16,   12001,  2,20090306,1343, -10.9956, -170.0160,  5109,    276.7,    17.12,   35.328,2,  35.3104,2,    151.4,2,    151.0,2,     3.74,2,     9.78,2, -999.000,9,     0.89,2,    2.316,2,    1.243,2, -999.000,9,   2126.4,2,   2323.2,6
           NA,     P15,     89,   1,      15,   12025,  2,20090306,1343, -10.9956, -170.0160,  5109,    322.4,    13.88,   34.983,2,-999.0000,9,    120.8,2,    120.8,2,     9.08,2,    16.99,2, -999.000,9,     1.40,2,    1.818,2,    0.972,2, -999.000,9,   2159.1,2,   2304.7,2
           NA,     P15,     89,   1,      14,   12041,  2,20090306,1343, -10.9956, -170.0160,  5109,    386.5,    10.84,   34.748,2,  34.7467,2,    103.8,2,    103.3,2,    17.25,2,    24.77,2, -999.000,9,     1.88,2,    0.982,2,    0.528,2, -999.000,9,   2198.0,2,   2293.2,2
           NA,     P15,     89,   1,      13,   12012,  2,20090306,1343, -10.9956, -170.0160,  5109,    448.3,     8.71,   34.633,2,  34.6299,2,    110.4,2,    109.8,2,    25.46,2,    29.58,2, -999.000,9,     2.11,2,    0.465,2,    0.255,2, -999.000,9,   2209.9,2,   2294.9,2
           NA,     P15,     89,   1,      12,   12022,  2,20090306,1343, -10.9956, -170.0160,  5109,    571.7,     6.88,   34.549,2,  34.5498,2,    112.7,2,    113.1,2,    36.97,2,    33.47,2, -999.000,9,     2.33,2,    0.191,2,    0.104,2, -999.000,9,   2228.0,2,   2303.5,6
           NA,     P15,     89,   1,      11,   12016,  2,20090306,1343, -10.9956, -170.0160,  5109,    698.0,     6.06,   34.523,2,  34.5256,2,    118.0,2,    117.7,2,    45.21,2,    34.51,2, -999.000,9,     2.42,2,    0.126,2,    0.071,2, -999.000,9,   2239.9,2,   2307.5,2
           NA,     P15,     89,   1,      10,   12019,  2,20090306,1343, -10.9956, -170.0160,  5109,    887.9,     5.01,   34.514,2,  34.5160,2,    115.5,2,    115.7,2,    60.80,2,    36.47,2, -999.000,9,     2.56,2,    0.033,2,    0.018,2, -999.000,9,   2259.0,2,   2323.6,2
           NA,     P15,     89,   1,       9,   12031,  2,20090306,1343, -10.9956, -170.0160,  5109,   1230.4,     3.75,   34.541,2,  34.5435,2,    127.6,2,    128.1,2,    84.28,2,    36.47,2, -999.000,9,     2.58,2,    0.015,2,    0.008,2, -999.000,9,   2276.8,2,   2348.8,2
           NA,     P15,     89,   1,       8,   12021,  2,20090306,1343, -10.9956, -170.0160,  5109,   1712.6,     2.55,   34.608,2,  34.6123,2,    137.5,2,    138.2,2,   109.22,2,    36.43,2, -999.000,9,     2.56,2,    0.005,2,    0.003,2, -999.000,9,   2300.6,2,   2377.2,2
           NA,     P15,     89,   1,       7,   12032,  2,20090306,1343, -10.9956, -170.0160,  5109,   2215.4,     2.02,   34.650,2,  34.6521,2,    142.2,2,    142.3,2,   124.79,2,    36.30,2, -999.000,9,     2.53,2,    0.003,2,   -0.001,2, -999.000,9,   2312.1,2,   2397.3,2
           NA,     P15,     89,   1,       6,   12002,  2,20090306,1343, -10.9956, -170.0160,  5109,   2830.5,     1.75,   34.672,2,  34.6712,2,    148.4,2,    148.7,2,   131.75,2,    35.88,2, -999.000,9,     2.49,2,    0.003,2,    0.001,2, -999.000,9,   -999.0,4,   2409.3,6
           NA,     P15,     89,   1,       5,   12008,  2,20090306,1343, -10.9956, -170.0160,  5109,   3332.4,     1.59,   34.682,2,  34.6832,2,    157.0,2,    157.1,2,   134.26,2,    35.44,2, -999.000,9,     2.47,2,    0.001,2,    0.002,2, -999.000,9,   2314.0,2,   2403.5,2
           NA,     P15,     89,   1,       4,   12009,  2,20090306,1343, -10.9956, -170.0160,  5109,   3856.8,     1.46,   34.692,2,  34.6908,2,    168.2,2,    167.6,2,   132.35,2,    34.69,2, -999.000,9,     2.40,2,    0.005,2,    0.002,2, -999.000,9,   2307.2,2,   2398.9,2
           NA,     P15,     89,   1,       3,   12033,  2,20090306,1343, -10.9956, -170.0160,  5109,   4415.7,     1.23,   34.708,2,  34.7079,2,    196.4,2,    195.1,2,   120.74,2,    32.68,2, -999.000,9,     2.27,2,    0.021,2,    0.012,2, -999.000,9,   2272.3,2,   2372.0,2
           NA,     P15,     89,   1,       2,   12006,  2,20090306,1343, -10.9956, -170.0160,  5109,   4822.1,     1.07,   34.710,2,  34.7101,2,    205.9,2,    204.8,2,   119.74,2,    32.07,2, -999.000,9,     2.22,2,    0.033,6,    0.020,6, -999.000,9,   2265.9,2,   2368.0,2
           NA,     P15,     89,   1,       1,   12045,  2,20090306,1343, -10.9956, -170.0160,  5109,   5208.4,     1.10,   34.710,2,  34.7113,2,    207.1,2,    205.8,2,   120.20,2,    32.14,2, -999.000,9,     2.22,2,    0.040,2,    0.022,2, -999.000,9,   2264.8,2,   2359.3,6
           NA,     P15,     90,   1,      24,   12014,  2,20090306,2045, -10.5004, -170.0121,  4907,      2.1,    29.50,   35.351,2,-999.0000,9,    194.2,2,    194.3,2,     1.12,2,     0.00,2, -999.000,9,     0.17,2, -999.000,9, -999.000,9, -999.000,9,   -999.0,9,   2328.7,6
           NA,     P15,     90,   1,      23,   12046,  2,20090306,2045, -10.5004, -170.0121,  4907,     22.2,    29.36,   35.333,2,  35.3293,2,    195.7,2,    194.2,2,     1.11,2,     0.05,2, -999.000,9,     0.16,2, -999.000,9, -999.000,9, -999.000,9,   -999.0,9,   -999.0,9
           NA,     P15,     90,   1,      22,   12020,  2,20090306,2045, -10.5004, -170.0121,  4907,     47.1,    29.32,   35.396,2,  35.4200,2,    195.5,2,    194.8,2,     1.16,2,     0.07,2, -999.000,9,     0.17,2, -999.000,9, -999.000,9, -999.000,9,   -999.0,9,   -999.0,9
           NA,     P15,     90,   1,      21,   12003,  2,20090306,2045, -10.5004, -170.0121,  4907,     72.1,    29.04,   35.667,2,-999.0000,9,    197.2,2,    195.5,2,     1.26,2,     0.03,2, -999.000,9,     0.18,2, -999.000,9, -999.000,9, -999.000,9,   -999.0,9,   2350.6,2
           NA,     P15,     90,   1,      20,   12051,  2,20090306,2045, -10.5004, -170.0121,  4907,     97.4,    28.07,   35.998,2,  36.0070,2,    190.8,2,    189.5,2,     1.19,2,     0.19,2, -999.000,9,     0.20,2, -999.000,9, -999.000,9, -999.000,9,   -999.0,9,   2369.6,2
           NA,     P15,     90,   1,      19,   12010,  2,20090306,2045, -10.5004, -170.0121,  4907,    146.5,    25.43,   36.346,2,  36.3542,2,    169.0,2,    168.3,2,     1.21,2,     2.23,2, -999.000,9,     0.37,2, -999.000,9, -999.000,9, -999.000,9,   -999.0,9,   -999.0,9
           NA,     P15,     90,   1,      18,   12018,  2,20090306,2045, -10.5004, -170.0121,  4907,    177.2,    23.54,   36.272,2,  36.2511,2,    164.1,2,    163.2,2,     1.24,2,     4.15,2, -999.000,9,     0.48,2, -999.000,9, -999.000,9, -999.000,9,   -999.0,9,   2385.1,2
           NA,     P15,     90,   1,      17,   12024,  2,20090306,2045, -10.5004, -170.0121,  4907,    248.2,    18.63,   35.530,2,  35.5105,2,    157.5,2,    157.1,2,     2.70,2,     7.99,2, -999.000,9,     0.75,2, -999.000,9, -999.000,9, -999.000,9,   -999.0,9,   2339.1,2
           NA,     P15,     90,   1,      16,   12001,  2,20090306,2045, -10.5004, -170.0121,  4907,    297.3,    14.16,   34.997,2,-999.0000,9,    128.1,2,    127.1,2,     8.05,2,    15.75,2, -999.000,9,     1.34,2, -999.000,9, -999.000,9, -999.000,9,   -999.0,9,   -999.0,9
           NA,     P15,     90,   1,      15,   12025,  2,20090306,2045, -10.5004, -170.0121,  4907,    348.1,    11.98,   34.819,2,  34.8165,2,    110.2,2,    109.0,2,    13.41,2,    21.64,2, -999.000,9,     1.71,2, -999.000,9, -999.000,9, -999.000,9,   -999.0,9,   -999.0,9
           NA,     P15,     90,   1,      14,   12041,  2,20090306,2045, -10.5004, -170.0121,  4907,    397.2,     9.95,   34.695,2,-999.0000,9,    107.9,2,    107.3,2,    19.67,2,    26.39,2, -999.000,9,     1.96,2, -999.000,9, -999.000,9, -999.000,9,   -999.0,9,   2304.0,2
           NA,     P15,     90,   1,      13,   12012,  2,20090306,2045, -10.5004, -170.0121,  4907,    497.3,     7.69,   34.586,2,  34.5842,2,    116.1,2,    114.8,2,    30.54,2,    31.60,2, -999.000,9,     2.22,2, -999.000,9, -999.000,9, -999.000,9,   -999.0,9,   2297.4,2
           NA,     P15,     90,   1,      12,   12022,  2,20090306,2045, -10.5004, -170.0121,  4907,    648.1,     6.33,   34.528,2,  34.5274,2,    117.4,2,    116.7,2,    41.79,2,    34.23,2, -999.000,9,     2.38,2, -999.000,9, -999.000,9, -999.000,9,   -999.0,9,   -999.0,9
           NA,     P15,     90,   1,      11,   12016,  2,20090306,2045, -10.5004, -170.0121,  4907,    798.6,     5.34,   34.517,2,  34.5172,2,    113.1,2,    112.7,2,    55.65,2,    36.49,2, -999.000,9,     2.56,2, -999.000,9, -999.000,9, -999.000,9,   -999.0,9,   -999.0,9
           NA,     P15,     90,   1,      10,   12019,  2,20090306,2045, -10.5004, -170.0121,  4907,   1098.7,     4.13,   34.538,2,  34.5376,2,    115.0,2,    114.9,2,    78.19,2,    37.54,2, -999.000,9,     2.64,2, -999.000,9, -999.000,9, -999.000,9,   -999.0,9,   -999.0,9
           NA,     P15,     90,   1,       9,   12031,  2,20090306,2045, -10.5004, -170.0121,  4907,   1398.2,     3.13,   34.574,2,  34.5763,2,    129.8,2,    130.4,2,    97.56,2,    36.97,2, -999.000,9,     2.60,2, -999.000,9, -999.000,9, -999.000,9,   -999.0,9,   -999.0,9
           NA,     P15,     90,   1,       8,   12021,  2,20090306,2045, -10.5004, -170.0121,  4907,   1898.0,     2.30,   34.629,2,  34.6287,2,    136.2,2,    137.9,2,   120.19,2,    36.88,2, -999.000,9,     2.58,2, -999.000,9, -999.000,9, -999.000,9,   -999.0,9,   -999.0,9
           NA,     P15,     90,   1,       7,   12032,  2,20090306,2045, -10.5004, -170.0121,  4907,   2398.9,     1.93,   34.658,2,-999.0000,9,    138.6,2,    139.2,2,   132.18,2,    36.70,2, -999.000,9,     2.57,2, -999.000,9, -999.000,9, -999.000,9,   -999.0,9,   -999.0,9
           NA,     P15,     90,   1,       6,   12007,  2,20090306,2045, -10.5004, -170.0121,  4907,   2998.2,     1.68,   34.677,2,  34.6753,2,    149.7,2,    150.4,2,   135.30,2,    36.20,2, -999.000,9,     2.51,2, -999.000,9, -999.000,9, -999.000,9,   -999.0,9,   -999.0,9
           NA,     P15,     90,   1,       5,   12002,  2,20090306,2045, -10.5004, -170.0121,  4907,   3498.1,     1.57,   34.684,2,  34.6855,2,    158.7,2,    158.4,2,   134.95,2,  -999.00,9, -999.000,9,     2.47,2, -999.000,9, -999.000,9, -999.000,9,   -999.0,9,   -999.0,9
           NA,     P15,     90,   1,       4,   12008,  2,20090306,2045, -10.5004, -170.0121,  4907,   3998.8,     1.40,   34.697,2,  34.6958,2,    177.2,2,    176.9,2,   128.32,2,  -999.00,9, -999.000,9,     2.37,2, -999.000,9, -999.000,9, -999.000,9,   -999.0,9,   -999.0,9
           NA,     P15,     90,   1,       3,   12033,  2,20090306,2045, -10.5004, -170.0121,  4907,   4499.3,     1.12,   34.708,2,  34.7062,2,    200.5,2,    199.6,2,   121.84,2,  -999.00,9, -999.000,9,     2.26,2, -999.000,9, -999.000,9, -999.000,9,   -999.0,9,   -999.0,9
           NA,     P15,     90,   1,       2,   12006,  2,20090306,2045, -10.5004, -170.0121,  4907,   4847.1,     1.06,   34.710,2,  34.7113,2,    206.2,2,    205.3,2,   120.13,2,    32.24,2, -999.000,9,     2.23,2, -999.000,9, -999.000,9, -999.000,9,   -999.0,9,   -999.0,9
           NA,     P15,     90,   1,       1,   12045,  2,20090306,2045, -10.5004, -170.0121,  4907,   5013.6,     1.08,   34.710,2,  34.7115,2,    206.6,2,    205.3,2,   120.41,2,    32.23,2, -999.000,9,     2.23,2, -999.000,9, -999.000,9, -999.000,9,   -999.0,9,   -999.0,9