BOTTLE,20214902JOAExport
EXPOCODE,SECT_ID,STNNBR,CASTNO,SAMPNO,BTLNBR,BTLNBR_FLAG_W,DATE,TIME,LATITUDE,LONGITUDE,DEPTH,CTDPRS,CTDTMP,CTDSAL,CTDSAL_FLAG_W,SALNTY,SALNTY_FLAG_W,CTDOXY,CTDOXY_FLAG_W,OXYGEN,OXYGEN_FLAG_W,SILCAT,SILCAT_FLAG_W,NITRAT,NITRAT_FLAG_W,NITRIT,NITRIT_FLAG_W,PHSPHT,PHSPHT_FLAG_W,CFC-11,CFC-11_FLAG_W,CFC-12,CFC-12_FLAG_W,SF6,SF6_FLAG_W,TCARBN,TCARBN_FLAG_W,ALKALI,ALKALI_FLAG_W
,,,,,,,,,,,,DB,ITS-90,PSS-78,,PSS-78,,UMOL/KG,,UMOL/KG,,UMOL/KG,,UMOL/KG,,UMOL/KG,,UMOL/KG,,PMOL/KG,,PMOL/KG,,FMOL/KG,,UMOL/KG,,UMOL/KG
           NA,     P15,     25,   1,      24,   12015,  2,20090212,0803, -41.2680, -173.6322,  3349,      3.1,    19.62,   35.283,2,  35.2816,2,    230.5,2,    230.8,2,  -999.00,9,     0.00,2, -999.000,9,     0.07,2, -999.000,3, -999.000,3, -999.000,9,   2048.9,6,   2317.7,6
           NA,     P15,     25,   1,      23,   12046,  2,20090212,0803, -41.2680, -173.6322,  3349,     22.5,    19.59,   35.289,2,  35.3066,2,    232.0,2,    231.5,2,  -999.00,9,     0.00,2, -999.000,9,     0.07,2,    2.385,2, -999.000,3, -999.000,9,   2048.4,2,   2318.6,2
           NA,     P15,     25,   1,      22,   12020,  2,20090212,0803, -41.2680, -173.6322,  3349,     58.2,    17.20,   35.363,2,  35.3642,2,    250.7,2,    248.5,2,  -999.00,9,     0.01,2, -999.000,9,     0.08,2,    2.602,2,    1.544,2, -999.000,9,   2053.4,2,   2319.0,2
           NA,     P15,     25,   1,      21,   12003,  2,20090212,0803, -41.2680, -173.6322,  3349,    122.2,    13.61,   35.219,2,  35.2538,2,    237.1,2,    238.6,2,  -999.00,9,     3.98,2, -999.000,9,     0.35,2,    2.914,2,    1.750,2, -999.000,9,   2083.0,2,   2315.2,2
           NA,     P15,     25,   1,      20,   12051,  2,20090212,0803, -41.2680, -173.6322,  3349,    157.4,    13.35,   35.230,2,  35.2245,2,    234.4,2,    233.8,2,  -999.00,9,     6.31,2, -999.000,9,     0.50,2,    2.934,2,    1.761,2, -999.000,9,   2100.1,2,   2315.4,2
           NA,     P15,     25,   1,      19,   12010,  2,20090212,0803, -41.2680, -173.6322,  3349,    222.0,    12.90,   35.180,2,  35.1691,2,    239.9,2,    239.0,2,  -999.00,9,     6.71,2, -999.000,9,     0.53,2,    3.271,2,    1.915,2, -999.000,9,   2100.5,2,   2310.1,2
           NA,     P15,     25,   1,      18,   12018,  2,20090212,0803, -41.2680, -173.6322,  3349,    263.8,    12.65,   35.145,2,  35.1419,2,    237.6,2,    237.2,2,  -999.00,9,     7.63,2, -999.000,9,     0.58,2,    2.932,2, -999.000,4, -999.000,9,   2104.0,2,   2310.0,2
           NA,     P15,     25,   1,      17,   12024,  2,20090212,0803, -41.2680, -173.6322,  3349,    365.0,    11.42,   34.943,2,  34.9443,2,    214.5,2,    213.3,2,  -999.00,9,    13.15,2, -999.000,9,     0.91,2, -999.000,9, -999.000,9, -999.000,9,   2123.7,2,   2296.5,2
           NA,     P15,     25,   1,      16,   12001,  2,20090212,0803, -41.2680, -173.6322,  3349,    422.7,    10.68,   34.844,2,  34.8410,2,    206.1,2,    205.7,2,  -999.00,9,    15.78,2, -999.000,9,     1.06,2, -999.000,3, -999.000,3, -999.000,9,   2132.8,2,   2293.8,6
           NA,     P15,     25,   1,      15,   12025,  2,20090212,0803, -41.2680, -173.6322,  3349,    546.7,     9.05,   34.643,2,  34.6447,2,    211.0,2,    209.9,2,  -999.00,9,    19.31,2, -999.000,9,     1.29,2,    2.749,2, -999.000,3, -999.000,9,   2143.7,2,   2288.4,2
           NA,     P15,     25,   1,      14,   12041,  2,20090212,0803, -41.2680, -173.6322,  3349,    747.1,     7.54,   34.479,2,  34.4779,2,    218.6,2,    219.1,2,    10.21,2,    22.46,2, -999.000,9,     1.51,2, -999.000,3,    1.485,2, -999.000,9,   2151.4,2,   2283.1,2
           NA,     P15,     25,   1,      13,   12012,  2,20090212,0803, -41.2680, -173.6322,  3349,    830.5,     7.14,   34.458,2,  34.4583,2,    214.3,2,    214.2,2,  -999.00,9,    23.87,2, -999.000,9,     1.58,2, -999.000,9, -999.000,9, -999.000,9,   2154.7,2,   2284.1,2
           NA,     P15,     25,   1,      12,   12022,  2,20090212,0803, -41.2680, -173.6322,  3349,   1029.9,     6.05,   34.420,2,  34.4186,2,    200.9,2,    201.7,2,  -999.00,9,    27.23,2, -999.000,9,     1.81,2,    1.332,6,    0.655,6, -999.000,9,   2174.0,6,   2292.8,6
           NA,     P15,     25,   1,      11,   12016,  2,20090212,0803, -41.2680, -173.6322,  3349,   1230.8,     4.86,   34.427,2,  34.4282,2,    186.0,2,    186.4,2,    40.42,2,    30.38,2, -999.000,9,     2.04,2,    0.688,2,    0.312,2, -999.000,9,   2202.1,2,   2309.0,2
           NA,     P15,     25,   1,      10,   12019,  2,20090212,0803, -41.2680, -173.6322,  3349,   1432.1,     3.87,   34.483,2,  34.4838,2,    171.8,2,    172.3,2,    62.44,2,    32.61,2, -999.000,9,     2.22,2,    0.311,2,    0.125,2, -999.000,9,   2235.4,2,   2333.3,2
           NA,     P15,     25,   1,       9,   12031,  2,20090212,0803, -41.2680, -173.6322,  3349,   1631.3,     3.11,   34.551,2,  34.5504,2,    161.6,2,    161.8,2,    84.60,2,    34.12,2, -999.000,9,     2.33,2, -999.000,9, -999.000,9, -999.000,9,   2262.6,2,   2353.4,2
           NA,     P15,     25,   1,       8,   12021,  2,20090212,0803, -41.2680, -173.6322,  3349,   1830.0,     2.69,   34.595,2,  34.5960,2,    156.3,2,    156.3,2,    98.74,2,    34.50,2, -999.000,9,     2.38,2,    0.066,2,    0.023,2, -999.000,9,   2283.5,2,   2369.8,2
           NA,     P15,     25,   1,       7,   12032,  2,20090212,0803, -41.2680, -173.6322,  3349,   2031.3,     2.35,   34.629,2,  34.6282,2,    154.1,2,    153.6,2,   109.53,2,    35.05,2, -999.000,9,     2.41,2,    0.035,2,    0.010,2, -999.000,9,   2291.5,2,   2380.6,2
           NA,     P15,     25,   1,       6,   12007,  2,20090212,0803, -41.2680, -173.6322,  3349,   2222.5,     2.12,   34.653,2,  34.6527,2,    156.7,2,   -999.0,9,   113.88,2,    34.98,2, -999.000,9,     2.40,2,    0.042,2,    0.011,2, -999.000,9,   2296.1,2,   2386.4,6
           NA,     P15,     25,   1,       5,   12055,  2,20090212,0803, -41.2680, -173.6322,  3349,   2414.4,     1.93,   34.681,2,  34.6816,2,    166.1,2,    165.6,2,   111.93,2,    34.00,2, -999.000,9,     2.34,2, -999.000,9, -999.000,9, -999.000,9,   2289.1,2,   2379.0,2
           NA,     P15,     25,   1,       4,   12009,  2,20090212,0803, -41.2680, -173.6322,  3349,   2664.7,     1.78,   34.709,2,  34.7168,2,    180.5,2,    180.2,2,   106.29,2,    32.55,2, -999.000,9,     2.23,2,    0.083,6,    0.020,6, -999.000,9,   2271.2,2,   2369.2,2
           NA,     P15,     25,   1,       3,   12033,  2,20090212,0803, -41.2680, -173.6322,  3349,   2915.1,     1.62,   34.727,2,  34.7264,2,    192.3,2,    193.2,2,   103.50,2,    31.63,2, -999.000,9,     2.14,2,    0.107,2,    0.031,2, -999.000,9,   2261.7,2,   2361.8,2
           NA,     P15,     25,   1,       2,   12006,  2,20090212,0803, -41.2680, -173.6322,  3349,   3206.2,     1.35,   34.724,2,  34.7246,2,    198.3,2,    199.0,2,   109.63,2,    31.76,2, -999.000,9,     2.14,2,    0.108,2,    0.031,2, -999.000,9,   2259.8,2,   2361.2,2
           NA,     P15,     25,   1,       1,   12045,  2,20090212,0803, -41.2680, -173.6322,  3349,   3383.7,     1.24,   34.721,2,  34.7191,2,    200.7,2,    201.5,2,   112.29,2,    31.80,2, -999.000,9,     2.15,2,    0.132,2,    0.039,2, -999.000,9,   2260.1,6,   2358.5,6
           NA,     P15,     26,   1,      24,   12015,  2,20090212,1446, -40.8237, -173.3258,  4172,      2.5,    19.51,   35.440,2,  35.4403,2,    230.8,2,    230.3,2,  -999.00,9,     0.00,2, -999.000,9,     0.07,2, -999.000,9, -999.000,9, -999.000,9,   2054.3,2,   2341.7,2
           NA,     P15,     26,   1,      23,   12046,  2,20090212,1446, -40.8237, -173.3258,  4172,     62.1,    15.84,   35.449,2,  35.4511,2,    239.2,2,    239.5,2,  -999.00,9,     0.50,2, -999.000,9,     0.17,2, -999.000,9, -999.000,9, -999.000,9,   -999.0,9,   -999.0,9
           NA,     P15,     26,   1,      22,   12020,  2,20090212,1446, -40.8237, -173.3258,  4172,     97.4,    14.79,   35.392,2,  35.3896,2,    222.0,2,    221.0,2,  -999.00,9,     5.69,2, -999.000,9,     0.45,2, -999.000,9, -999.000,9, -999.000,9,   -999.0,9,   -999.0,9
           NA,     P15,     26,   1,      21,   12003,  2,20090212,1446, -40.8237, -173.3258,  4172,    149.0,    13.88,   35.288,2,  35.2834,2,    224.8,2,    223.6,2,  -999.00,9,     6.49,2, -999.000,9,     0.50,2, -999.000,9, -999.000,9, -999.000,9,   -999.0,9,   -999.0,9
           NA,     P15,     26,   1,      20,   12051,  2,20090212,1446, -40.8237, -173.3258,  4172,    197.1,    13.38,   35.261,2,-999.0000,9,    231.2,2,    226.7,2,  -999.00,9,     7.15,2, -999.000,9,     0.54,2, -999.000,9, -999.000,9, -999.000,9,   -999.0,9,   -999.0,9
           NA,     P15,     26,   1,      19,   12010,  2,20090212,1446, -40.8237, -173.3258,  4172,    248.8,    13.16,   35.239,2,  35.2383,2,    233.1,2,    232.8,2,  -999.00,9,     7.41,2, -999.000,9,     0.55,2, -999.000,9, -999.000,9, -999.000,9,   -999.0,9,   -999.0,9
           NA,     P15,     26,   1,      18,   12018,  2,20090212,1446, -40.8237, -173.3258,  4172,    297.4,    12.54,   35.125,2,  35.1230,2,    223.1,2,    222.8,2,  -999.00,9,     9.79,2, -999.000,9,     0.70,2, -999.000,9, -999.000,9, -999.000,9,   -999.0,9,   -999.0,9
           NA,     P15,     26,   1,      17,   12024,  2,20090212,1446, -40.8237, -173.3258,  4172,    396.6,    10.89,   34.871,2,  34.8713,2,    208.8,2,    207.4,2,  -999.00,9,    14.91,2, -999.000,9,     1.02,2, -999.000,9, -999.000,9, -999.000,9,   -999.0,9,   -999.0,9
           NA,     P15,     26,   1,      16,   12001,  2,20090212,1446, -40.8237, -173.3258,  4172,    499.1,     9.47,   34.685,2,  34.6848,2,    211.6,2,    210.5,2,  -999.00,9,    18.22,2, -999.000,9,     1.23,2, -999.000,9, -999.000,9, -999.000,9,   -999.0,9,   -999.0,9
           NA,     P15,     26,   1,      15,   12025,  2,20090212,1446, -40.8237, -173.3258,  4172,    596.1,     8.49,   34.569,2,  34.5694,2,    219.9,2,    219.3,2,  -999.00,9,    20.00,2, -999.000,9,     1.36,2, -999.000,9, -999.000,9, -999.000,9,   -999.0,9,   -999.0,9
           NA,     P15,     26,   1,      14,   12041,  2,20090212,1446, -40.8237, -173.3258,  4172,    698.0,     7.77,   34.496,2,  34.4958,2,    219.7,2,    219.4,2,  -999.00,9,    21.77,2, -999.000,9,     1.44,2, -999.000,9, -999.000,9, -999.000,9,   -999.0,9,   -999.0,9
           NA,     P15,     26,   1,      13,   12012,  2,20090212,1446, -40.8237, -173.3258,  4172,    897.1,     6.79,   34.442,2,  34.4426,2,    210.2,2,    210.1,2,  -999.00,9,    24.85,2, -999.000,9,     1.65,2, -999.000,9, -999.000,9, -999.000,9,   -999.0,9,   -999.0,9
           NA,     P15,     26,   1,      12,   12022,  2,20090212,1446, -40.8237, -173.3258,  4172,   1097.0,     5.73,   34.421,2,  34.4224,2,    196.1,2,    196.8,2,  -999.00,9,    28.15,2, -999.000,9,     1.88,2, -999.000,9, -999.000,9, -999.000,9,   -999.0,9,   -999.0,9
           NA,     P15,     26,   1,      11,   12016,  2,20090212,1446, -40.8237, -173.3258,  4172,   1297.1,     4.54,   34.440,2,  34.4416,2,    181.4,2,    182.0,2,    47.01,2,    31.10,2, -999.000,9,     2.09,2, -999.000,9, -999.000,9, -999.000,9,   -999.0,9,   -999.0,9
           NA,     P15,     26,   1,      10,   12019,  2,20090212,1446, -40.8237, -173.3258,  4172,   1496.9,     3.60,   34.506,2,  34.5086,2,    167.6,2,    168.4,2,    70.23,2,    33.20,2, -999.000,9,     2.26,2, -999.000,9, -999.000,9, -999.000,9,   -999.0,9,   -999.0,9
           NA,     P15,     26,   1,       9,   12031,  2,20090212,1446, -40.8237, -173.3258,  4172,   1697.1,     2.97,   34.564,2,  34.5651,2,    159.7,2,    161.2,2,    88.96,2,    34.19,2, -999.000,9,     2.34,2, -999.000,9, -999.000,9, -999.000,9,   -999.0,9,   -999.0,9
           NA,     P15,     26,   1,       8,   12021,  2,20090212,1446, -40.8237, -173.3258,  4172,   1898.2,     2.54,   34.610,2,  34.6111,2,    155.0,2,    154.9,2,  -999.00,9,    34.73,2, -999.000,9,     2.38,2, -999.000,9, -999.000,9, -999.000,9,   -999.0,9,   -999.0,9
           NA,     P15,     26,   1,       7,   12032,  2,20090212,1446, -40.8237, -173.3258,  4172,   2096.9,     2.27,   34.635,2,  34.6343,2,    153.5,2,    153.1,2,   112.79,2,    35.16,2, -999.000,9,     2.41,2, -999.000,9, -999.000,9, -999.000,9,   -999.0,9,   -999.0,9
           NA,     P15,     26,   1,       6,   12007,  2,20090212,1446, -40.8237, -173.3258,  4172,   2297.7,     2.13,   34.652,2,  34.6533,2,    157.0,2,    156.0,2,   114.44,2,    34.75,2, -999.000,9,     2.38,2, -999.000,9, -999.000,9, -999.000,9,   -999.0,9,   -999.0,9
           NA,     P15,     26,   1,       4,   12009,  2,20090212,1446, -40.8237, -173.3258,  4172,   2995.7,     1.56,   34.725,2,  34.7227,2,    193.6,2,    193.3,2,   105.23,2,    31.78,2, -999.000,9,     2.16,2, -999.000,9, -999.000,9, -999.000,9,   -999.0,9,   -999.0,9
           NA,     P15,     26,   1,       3,   12033,  2,20090212,1446, -40.8237, -173.3258,  4172,   3495.1,     1.12,   34.717,2,  34.7182,2,    203.8,2,    203.5,2,   116.25,2,    31.77,2, -999.000,9,     2.16,2, -999.000,9, -999.000,9, -999.000,9,   -999.0,9,   -999.0,9
           NA,     P15,     26,   1,       2,   12006,  2,20090212,1446, -40.8237, -173.3258,  4172,   3998.6,     0.92,   34.708,2,  34.7072,2,    207.4,2,    206.7,2,   123.03,2,    32.22,2, -999.000,9,     2.18,2, -999.000,9, -999.000,9, -999.000,9,   -999.0,9,   -999.0,9
           NA,     P15,     26,   1,       1,   12045,  2,20090212,1446, -40.8237, -173.3258,  4172,   4231.5,     0.92,   34.710,2,  34.7089,2,    207.8,2,    207.1,2,   124.71,2,    32.34,2, -999.000,9,     2.19,2, -999.000,9, -999.000,9, -999.000,9,   -999.0,9,   -999.0,9
           NA,     P15,     27,   1,      24,   12015,  2,20090213,0251, -40.3650, -173.0474,  4590,      2.8,    19.49,   35.400,2,  35.4007,2,    232.1,2,    231.0,2,     0.92,2,     0.00,2, -999.000,9,     0.10,2,    2.328,2,    1.407,2, -999.000,9,   2051.4,6,   2327.1,6
           NA,     P15,     27,   1,      23,   12046,  2,20090213,0251, -40.3650, -173.0474,  4590,     63.9,    15.84,   35.454,2,  35.4523,2,    237.1,2,    238.1,2,     1.56,2,     0.79,2, -999.000,9,     0.22,2, -999.000,3,    1.596,2, -999.000,9,   2073.1,2,   2327.2,2
           NA,     P15,     27,   1,      22,   12020,  2,20090213,0251, -40.3650, -173.0474,  4590,    115.2,    14.63,   35.364,2,  35.3628,2,    223.3,2,    221.8,2,     2.26,2,     5.50,2, -999.000,9,     0.49,2,    2.717,2,    1.616,6, -999.000,9,   2093.4,2,   2320.8,2
           NA,     P15,     27,   1,      20,   12051,  2,20090213,0251, -40.3650, -173.0474,  4590,    215.0,    13.36,   35.266,2,  35.2629,2,    232.1,2,    231.0,2,     2.63,2,  -999.00,9, -999.000,9,  -999.00,9,    2.955,2,    1.749,2, -999.000,9,   2101.4,2,   2314.0,2
           NA,     P15,     27,   1,      19,   12010,  2,20090213,0251, -40.3650, -173.0474,  4590,    249.0,    13.04,   35.214,2,  35.2111,2,    229.9,2,    229.2,2,     2.84,2,     7.90,2, -999.000,9,     0.63,2,    3.147,2,    1.723,6, -999.000,9,   2106.0,2,   2312.3,2
           NA,     P15,     27,   1,      18,   12018,  2,20090213,0251, -40.3650, -173.0474,  4590,    323.0,    12.10,   35.051,2,  35.0508,2,    223.7,2,    223.0,2,     3.66,2,    10.60,2, -999.000,9,     0.80,2,    3.042,2,    1.747,2, -999.000,9,   2116.5,2,   2304.6,2
           NA,     P15,     27,   1,      17,   12024,  2,20090213,0251, -40.3650, -173.0474,  4590,    428.9,    10.39,   34.800,2,  34.7966,2,    210.2,2,    209.1,2,     5.77,2,    16.05,2, -999.000,9,     1.11,2,    2.975,2,    1.679,2, -999.000,9,   2135.5,2,   2295.0,2
           NA,     P15,     27,   1,      16,   12001,  2,20090213,0251, -40.3650, -173.0474,  4590,    528.9,     9.13,   34.647,2,  34.6453,2,    211.6,2,    210.6,2,     7.16,2,    18.88,2, -999.000,9,     1.29,2, -999.000,3,    1.574,2, -999.000,9,   2142.6,2,   2289.0,6
           NA,     P15,     27,   1,      15,   12025,  2,20090213,0251, -40.3650, -173.0474,  4590,    631.0,     8.13,   34.536,2,  34.5366,2,    217.3,2,    217.0,2,     8.80,2,    20.99,2, -999.000,9,     1.42,2, -999.000,3,    1.504,2, -999.000,9,   2146.1,2,   2285.7,2
           NA,     P15,     27,   1,      14,   12041,  2,20090213,0251, -40.3650, -173.0474,  4590,    750.9,     7.42,   34.470,2,  34.4705,2,    217.6,2,    217.9,2,    10.51,2,    22.72,2, -999.000,9,     1.52,2,    2.552,2,    1.300,2, -999.000,9,   2152.1,2,   2286.7,2
           NA,     P15,     27,   1,      13,   12012,  2,20090213,0251, -40.3650, -173.0474,  4590,    967.0,     6.31,   34.428,2,  34.4245,2,    204.0,2,    204.3,2,    20.49,2,    26.22,2, -999.000,9,     1.76,2, -999.000,3,    0.690,2, -999.000,9,   2171.3,2,   2293.1,2
           NA,     P15,     27,   1,      12,   12022,  2,20090213,0251, -40.3650, -173.0474,  4590,   1167.6,     5.04,   34.424,2,  34.4245,2,    188.2,2,    188.6,2,    37.20,2,    29.75,2, -999.000,9,     2.01,2, -999.000,3,    0.309,2, -999.000,9,   2201.1,6,   2312.3,6
           NA,     P15,     27,   1,      11,   12016,  2,20090213,0251, -40.3650, -173.0474,  4590,   1363.7,     4.06,   34.467,2,  34.4693,2,    174.5,2,    174.9,2,    55.72,2,    32.21,2, -999.000,9,     2.20,2,    0.364,2,    0.127,2, -999.000,9,   2228.4,2,   2333.5,2
           NA,     P15,     27,   1,      10,   12019,  2,20090213,0251, -40.3650, -173.0474,  4590,   1565.3,     3.26,   34.532,2,  34.5341,2,    163.6,2,    164.0,2,    78.13,2,    33.46,2, -999.000,9,     2.33,2,    0.150,2,    0.049,2, -999.000,9,   2257.7,2,   2344.5,2
           NA,     P15,     27,   1,       9,   12031,  2,20090213,0251, -40.3650, -173.0474,  4590,   1761.7,     2.79,   34.583,2,  34.5836,2,    157.2,2,    157.8,2,    92.51,2,    34.41,2, -999.000,9,     2.40,2,    0.109,2,    0.025,2, -999.000,9,   2277.4,2,   2366.6,2
           NA,     P15,     27,   1,       8,   12021,  2,20090213,0251, -40.3650, -173.0474,  4590,   1964.5,     2.50,   34.613,2,  34.6148,2,    154.0,2,    153.8,2,   102.00,2,    34.70,2, -999.000,9,     2.43,2,    0.039,2,    0.013,2, -999.000,9,   2290.9,2,   2377.4,2
           NA,     P15,     27,   1,       7,   12032,  2,20090213,0251, -40.3650, -173.0474,  4590,   2163.3,     2.29,   34.632,2,  34.6339,2,    152.4,2,    151.9,2,   110.25,2,    34.95,2, -999.000,9,     2.46,2, -999.000,9, -999.000,9, -999.000,9,   2299.1,2,   2388.9,2
           NA,     P15,     27,   1,       6,   12007,  2,20090213,0251, -40.3650, -173.0474,  4590,   2365.9,     2.11,   34.654,2,  34.6545,2,    156.3,2,    156.2,2,   113.61,2,    34.73,2, -999.000,9,     2.43,2, -999.000,9, -999.000,9, -999.000,9,   2296.5,2,   2387.3,2
           NA,     P15,     27,   1,       4,   12009,  2,20090213,0251, -40.3650, -173.0474,  4590,   3163.5,     1.57,   34.728,2,  34.7298,2,    195.5,2,    195.2,2,   101.08,2,    31.51,2, -999.000,9,     2.15,2, -999.000,3,    0.030,2, -999.000,9,   2259.4,2,   2365.4,2
           NA,     P15,     27,   1,       3,   12033,  2,20090213,0251, -40.3650, -173.0474,  4590,   3663.7,     1.19,   34.719,2,  34.7182,2,    203.7,2,    206.1,2,   110.68,2,    31.51,2, -999.000,9,     2.16,2, -999.000,3,    0.042,6, -999.000,9,   2262.0,2,   2365.2,2
           NA,     P15,     27,   1,       2,   12006,  2,20090213,0251, -40.3650, -173.0474,  4590,   4165.1,     0.97,   34.709,2,  34.7093,2,    208.6,2,    207.0,2,   120.61,2,    32.00,2, -999.000,9,     2.19,2, -999.000,3,    0.063,2, -999.000,9,   2262.1,2,   2361.3,2
           NA,     P15,     27,   1,       1,   12045,  2,20090213,0251, -40.3650, -173.0474,  4590,   4581.9,     0.95,   34.706,2,  34.7070,2,    209.1,2,    207.3,2,   123.58,2,    31.96,2, -999.000,9,     2.20,2,    0.310,2,    0.080,2, -999.000,9,   2263.8,6,   2360.6,6