BOTTLE,20214902JOAExport
EXPOCODE,SECT_ID,STNNBR,CASTNO,SAMPNO,BTLNBR,BTLNBR_FLAG_W,DATE,TIME,LATITUDE,LONGITUDE,DEPTH,CTDPRS,CTDTMP,CTDSAL,CTDSAL_FLAG_W,SALNTY,SALNTY_FLAG_W,CTDOXY,CTDOXY_FLAG_W,OXYGEN,OXYGEN_FLAG_W,SILCAT,SILCAT_FLAG_W,NITRAT,NITRAT_FLAG_W,NITRIT,NITRIT_FLAG_W,PHSPHT,PHSPHT_FLAG_W,CFC-11,CFC-11_FLAG_W,CFC-12,CFC-12_FLAG_W,SF6,SF6_FLAG_W,TCARBN,TCARBN_FLAG_W,ALKALI,ALKALI_FLAG_W
,,,,,,,,,,,,DB,ITS-90,PSS-78,,PSS-78,,UMOL/KG,,UMOL/KG,,UMOL/KG,,UMOL/KG,,UMOL/KG,,UMOL/KG,,PMOL/KG,,PMOL/KG,,FMOL/KG,,UMOL/KG,,UMOL/KG
           NA,     P15,     85,   1,      24,   12014,  2,20090305,1133, -12.9914, -170.0068,  4957,      1.8,    29.73,   35.617,2,  35.6236,2,    192.6,2,    193.1,2,     1.06,2,     0.00,2, -999.000,9,     0.17,2,    1.540,2,    0.951,2, -999.000,9,   1981.7,6,   2343.9,6
           NA,     P15,     85,   1,      23,   12046,  2,20090305,1133, -12.9914, -170.0068,  4957,     29.8,    29.44,   35.692,2,  35.6930,2,    193.0,2,    193.2,2,     1.06,2,     0.00,2, -999.000,9,     0.17,2,    1.532,6,    0.957,6, -999.000,9,   1985.9,2,   2349.3,2
           NA,     P15,     85,   1,      22,   12020,  2,20090305,1133, -12.9914, -170.0068,  4957,     55.3,    29.29,   35.971,2,-999.0000,9,    199.6,2,    200.0,2,     1.01,2,     0.00,2, -999.000,9,     0.15,2,    1.597,2,    0.980,2, -999.000,9,   2003.6,2,   2370.0,2
           NA,     P15,     85,   1,      21,   12003,  2,20090305,1133, -12.9914, -170.0068,  4957,     80.9,    27.48,   36.092,2,  36.0869,2,    205.8,2,    205.9,2,     0.92,2,     0.00,2, -999.000,9,     0.14,2,    1.708,2,    1.033,2, -999.000,9,   2013.3,2,   2369.4,2
           NA,     P15,     85,   1,      20,   12051,  2,20090305,1133, -12.9914, -170.0068,  4957,    110.6,    26.69,   36.193,2,-999.0000,9,    198.6,2,    166.9,2,     0.98,2,     0.00,2, -999.000,9,     0.17,2,    1.720,2,    1.058,2, -999.000,9,   2026.4,2,   2383.6,2
           NA,     P15,     85,   1,      19,   12010,  2,20090305,1133, -12.9914, -170.0068,  4957,    164.1,    24.62,   36.381,2,  36.3825,2,    167.5,2,    166.9,2,     1.05,2,     2.93,2, -999.000,9,     0.41,2,    1.878,2,    1.141,2, -999.000,9,   2094.2,2,   2393.0,2
           NA,     P15,     85,   1,      18,   12018,  2,20090305,1133, -12.9914, -170.0068,  4957,    215.7,    22.16,   36.078,2,-999.0000,9,    166.8,2,    166.4,2,     1.11,2,     4.24,2, -999.000,9,     0.49,2,    2.151,2,    1.231,2, -999.000,9,   2103.2,2,   2371.9,2
           NA,     P15,     85,   1,      17,   12024,  2,20090305,1133, -12.9914, -170.0068,  4957,    267.1,    18.62,   35.520,2,-999.0000,9,    163.4,2,    163.4,2,     2.14,2,     7.02,2, -999.000,9,     0.68,2,    2.377,2,    1.328,2, -999.000,9,   2111.4,2,   2339.9,2
           NA,     P15,     85,   1,      16,   12001,  2,20090305,1133, -12.9914, -170.0068,  4957,    315.2,    15.67,   35.139,2,  35.1545,2,    151.3,2,    149.1,2,     4.55,2,    11.18,2, -999.000,9,     0.99,2,    2.294,2,    1.210,2, -999.000,9,   2127.9,2,   2314.3,6
           NA,     P15,     85,   1,      15,   12025,  2,20090305,1133, -12.9914, -170.0068,  4957,    368.8,    12.87,   34.858,2,-999.0000,9,    123.7,2,    122.4,2,     9.78,2,    18.15,2, -999.000,9,     1.48,2,    1.762,2,    0.948,2, -999.000,9,   2164.1,2,   2301.5,2
           NA,     P15,     85,   1,      14,   12041,  2,20090305,1133, -12.9914, -170.0068,  4957,    443.6,     9.58,   34.628,2,  34.6268,2,    117.0,2,    116.2,2,    18.73,2,    26.33,2, -999.000,9,     1.93,2,    0.821,2,    0.448,2, -999.000,9,   2194.0,2,   2290.6,2
           NA,     P15,     85,   1,      13,   12012,  2,20090305,1133, -12.9914, -170.0068,  4957,    534.6,     7.12,   34.498,2,  34.4966,2,    145.8,2,    145.6,2,    26.84,2,    29.60,2, -999.000,9,     2.06,2,    0.435,2,    0.236,2, -999.000,9,   2199.6,2,   2295.4,2
           NA,     P15,     85,   1,      12,   12022,  2,20090305,1133, -12.9914, -170.0068,  4957,    696.6,     5.68,   34.477,2,  34.4795,2,    143.4,2,    141.8,2,    42.08,2,    32.79,2, -999.000,9,     2.26,2,    0.178,6,    0.097,6, -999.000,9,   2222.2,6,   2306.9,6
           NA,     P15,     85,   1,      11,   12016,  2,20090305,1133, -12.9914, -170.0068,  4957,    872.5,     4.89,   34.500,2,  34.4989,2,    125.9,2,    126.5,2,    58.02,2,    35.62,2, -999.000,9,     2.47,2,    0.041,2,    0.025,2, -999.000,9,   2251.4,2,   2323.1,2
           NA,     P15,     85,   1,      10,   12019,  2,20090305,1133, -12.9914, -170.0068,  4957,   1198.5,     3.78,   34.540,2,  34.5439,2,    124.2,2,    124.9,2,    81.80,2,    36.91,2, -999.000,9,     2.58,2,    0.002,2,    0.002,2, -999.000,9,   2276.3,2,   2347.6,2
           NA,     P15,     85,   1,       9,   12031,  2,20090305,1133, -12.9914, -170.0068,  4957,   1531.7,     2.94,   34.582,2,  34.5832,2,    133.1,2,    133.8,2,    99.09,2,    36.64,2, -999.000,9,     2.53,2,    0.001,2,    0.001,2, -999.000,9,   2293.9,2,   2366.8,2
           NA,     P15,     85,   1,       8,   12021,  2,20090305,1133, -12.9914, -170.0068,  4957,   2064.7,     2.13,   34.637,2,  34.6378,2,    144.8,2,    146.2,2,   117.98,2,    35.99,2, -999.000,9,     2.50,2,    0.003,2,    0.002,2, -999.000,9,   2307.0,2,   2387.8,2
           NA,     P15,     85,   1,       7,   12032,  2,20090305,1133, -12.9914, -170.0068,  4957,   2581.3,     1.85,   34.664,2,  34.6629,2,    146.6,2,   -999.0,9,   129.36,2,    35.99,2, -999.000,9,     2.49,2,    0.002,2,    0.001,2, -999.000,9,   2314.9,2,   2403.7,2
           NA,     P15,     85,   1,       6,   12007,  2,20090305,1133, -12.9914, -170.0068,  4957,   3182.3,     1.64,   34.678,2,  34.6779,2,    156.7,2,    157.2,2,   131.83,2,    35.57,2, -999.000,9,     2.46,2,    0.002,2,    0.000,2, -999.000,9,   2311.1,2,   2400.1,2
           NA,     P15,     85,   1,       5,   12002,  2,20090305,1133, -12.9914, -170.0068,  4957,   3665.0,     1.50,   34.689,2,  34.6895,2,    168.6,2,    168.2,2,   130.40,2,    34.77,2, -999.000,9,     2.40,2,    0.005,6,    0.003,6, -999.000,9,   2301.4,2,   2392.2,2
           NA,     P15,     85,   1,       4,   12008,  2,20090305,1133, -12.9914, -170.0068,  4957,   3964.7,     1.35,   34.703,2,  34.7042,2,    186.4,2,    186.0,2,   122.33,2,    33.38,2, -999.000,9,     2.30,2,    0.010,2,    0.007,2, -999.000,9,   2281.7,2,   2374.5,2
           NA,     P15,     85,   1,       3,   12033,  2,20090305,1133, -12.9914, -170.0068,  4957,   4539.2,     1.08,   34.711,2,  34.7093,2,    205.7,2,    204.9,2,   119.18,2,    32.19,2, -999.000,9,     2.21,2,    0.053,2,    0.027,2, -999.000,9,   2262.6,2,   2367.8,2
           NA,     P15,     85,   1,       2,   12006,  2,20090305,1133, -12.9914, -170.0068,  4957,   4747.4,     1.06,   34.709,2,  34.7085,2,    206.1,2,    205.4,2,   120.47,2,    32.29,2, -999.000,9,     2.21,2,    0.035,2,    0.017,2, -999.000,9,   2260.8,2,   2366.0,2
           NA,     P15,     85,   1,       1,   12045,  2,20090305,1133, -12.9914, -170.0068,  4957,   5045.8,     1.08,   34.708,2,  34.7091,2,    206.7,2,    205.8,2,   120.63,2,    32.26,2, -999.000,9,     2.22,2,    0.045,2,    0.026,2, -999.000,9,   2263.5,6,   2361.0,6
           NA,     P15,     86,   1,      24,   12014,  2,20090305,1801, -12.4871, -169.9931,  4899,      1.5,    29.48,   35.360,2,-999.0000,9,    193.4,2,   -999.0,9,     0.98,2,     0.00,2, -999.000,9,     0.17,2, -999.000,9, -999.000,9, -999.000,9,   -999.0,9,   2326.8,6
           NA,     P15,     86,   1,      23,   12046,  2,20090305,1801, -12.4871, -169.9931,  4899,     15.2,    29.45,   35.355,2,  35.3555,2,    193.6,2,   -999.0,9,     1.00,2,     0.00,2, -999.000,9,     0.17,2, -999.000,9, -999.000,9, -999.000,9,   -999.0,9,   -999.0,9
           NA,     P15,     86,   1,      22,   12020,  2,20090305,1801, -12.4871, -169.9931,  4899,     39.8,    29.38,   35.397,2,  35.4162,2,    194.7,2,   -999.0,9,     1.01,2,     0.00,2, -999.000,9,     0.17,2, -999.000,9, -999.000,9, -999.000,9,   -999.0,9,   2331.9,2
           NA,     P15,     86,   1,      21,   12003,  2,20090305,1801, -12.4871, -169.9931,  4899,     60.3,    29.28,   35.889,2,-999.0000,9,    199.3,2,   -999.0,9,     1.08,2,     0.00,2, -999.000,9,     0.18,2, -999.000,9, -999.000,9, -999.000,9,   -999.0,9,   -999.0,9
           NA,     P15,     86,   1,      20,   12051,  2,20090305,1801, -12.4871, -169.9931,  4899,     80.7,    28.43,   36.169,2,  36.1727,2,    205.3,2,   -999.0,9,     1.04,2,     0.00,2, -999.000,9,     0.18,2, -999.000,9, -999.000,9, -999.000,9,   -999.0,9,   2385.7,2
           NA,     P15,     86,   1,      19,   12010,  2,20090305,1801, -12.4871, -169.9931,  4899,    131.1,    26.17,   36.088,2,  36.1011,2,    196.1,2,   -999.0,9,     0.91,2,     0.01,2, -999.000,9,     0.17,2, -999.000,9, -999.000,9, -999.000,9,   -999.0,9,   2373.1,2
           NA,     P15,     86,   1,      18,   12018,  2,20090305,1801, -12.4871, -169.9931,  4899,    169.4,    24.14,   36.307,2,  36.3079,2,    168.5,2,    167.6,2,     1.01,2,     2.69,2, -999.000,9,     0.41,2, -999.000,9, -999.000,9, -999.000,9,   -999.0,9,   2391.8,2
           NA,     P15,     86,   1,      17,   12024,  2,20090305,1801, -12.4871, -169.9931,  4899,    231.2,    21.19,   35.914,2,-999.0000,9,    166.1,2,    165.3,2,     1.30,2,     4.89,2, -999.000,9,     0.55,2, -999.000,9, -999.000,9, -999.000,9,   -999.0,9,   -999.0,9
           NA,     P15,     86,   1,      16,   12001,  2,20090305,1801, -12.4871, -169.9931,  4899,    277.6,    17.82,   35.409,2,  35.4005,2,    160.8,2,    160.1,2,     2.72,2,     8.06,2, -999.000,9,     0.78,2, -999.000,9, -999.000,9, -999.000,9,   -999.0,9,   -999.0,9
           NA,     P15,     86,   1,      15,   12025,  2,20090305,1801, -12.4871, -169.9931,  4899,    322.4,    14.43,   35.008,2,-999.0000,9,    138.4,2,    138.1,2,     6.68,2,    14.18,2, -999.000,9,     1.23,2, -999.000,9, -999.000,9, -999.000,9,   -999.0,9,   -999.0,9
           NA,     P15,     86,   1,      14,   12041,  2,20090305,1801, -12.4871, -169.9931,  4899,    379.6,    11.62,   34.762,2,  34.7647,2,    124.2,2,    123.5,2,    12.09,2,    20.54,2, -999.000,9,     1.63,2, -999.000,9, -999.000,9, -999.000,9,   -999.0,9,   -999.0,9
           NA,     P15,     86,   1,      13,   12012,  2,20090305,1801, -12.4871, -169.9931,  4899,    438.1,     9.35,   34.620,2,-999.0000,9,    117.5,2,    116.0,2,    19.80,2,    26.84,2, -999.000,9,     1.98,2, -999.000,9, -999.000,9, -999.000,9,   -999.0,9,   2290.9,2
           NA,     P15,     86,   1,      12,   12022,  2,20090305,1801, -12.4871, -169.9931,  4899,    573.2,     6.51,   34.481,2,  34.4822,2,    148.2,2,    143.9,2,    31.45,2,    30.71,2, -999.000,9,     2.14,2, -999.000,9, -999.000,9, -999.000,9,   -999.0,9,   2303.5,2
           NA,     P15,     86,   1,      11,   12016,  2,20090305,1801, -12.4871, -169.9931,  4899,    697.4,     5.47,   34.477,2,  34.4760,2,    141.6,2,    142.0,2,    44.78,2,    33.26,2, -999.000,9,     2.31,2, -999.000,9, -999.000,9, -999.000,9,   -999.0,9,   -999.0,9
           NA,     P15,     86,   1,      10,   12019,  2,20090305,1801, -12.4871, -169.9931,  4899,    964.6,     4.45,   34.500,2,  34.5009,2,    133.8,2,    134.7,2,    63.62,2,    35.43,2, -999.000,9,     2.46,2, -999.000,9, -999.000,9, -999.000,9,   -999.0,9,   -999.0,9
           NA,     P15,     86,   1,       9,   12031,  2,20090305,1801, -12.4871, -169.9931,  4899,   1229.5,     3.72,   34.543,2,  34.5447,2,    126.3,2,    126.7,2,    83.70,2,    36.69,2, -999.000,9,     2.57,2, -999.000,9, -999.000,9, -999.000,9,   -999.0,9,   -999.0,9
           NA,     P15,     86,   1,       8,   12021,  2,20090305,1801, -12.4871, -169.9931,  4899,   1713.9,     2.58,   34.603,2,  34.6071,2,    139.5,2,    140.3,2,   105.35,2,    36.27,2, -999.000,9,     2.52,2, -999.000,9, -999.000,9, -999.000,9,   -999.0,9,   -999.0,9
           NA,     P15,     86,   1,       7,   12032,  2,20090305,1801, -12.4871, -169.9931,  4899,   2214.6,     2.02,   34.647,2,  34.6484,2,    145.7,2,    146.8,2,   120.92,2,    36.01,2, -999.000,9,     2.50,2, -999.000,9, -999.000,9, -999.000,9,   -999.0,9,   -999.0,9
           NA,     P15,     86,   1,       6,   12007,  2,20090305,1801, -12.4871, -169.9931,  4899,   2829.3,     1.77,   34.670,2,  34.6735,2,    149.0,2,    149.4,2,   131.33,2,    35.96,2, -999.000,9,     2.49,2, -999.000,9, -999.000,9, -999.000,9,   -999.0,9,   -999.0,9
           NA,     P15,     86,   1,       5,   12002,  2,20090305,1801, -12.4871, -169.9931,  4899,   3331.1,     1.61,   34.680,2,  34.6816,2,    156.2,2,    156.2,2,   133.41,2,    35.51,2, -999.000,9,     2.46,2, -999.000,9, -999.000,9, -999.000,9,   -999.0,9,   -999.0,9
           NA,     P15,     86,   1,       4,   12008,  2,20090305,1801, -12.4871, -169.9931,  4899,   3853.7,     1.41,   34.697,2,-999.0000,9,    178.7,2,    178.2,2,   124.58,2,    33.80,2, -999.000,9,     2.34,2, -999.000,9, -999.000,9, -999.000,9,   -999.0,9,   -999.0,9
           NA,     P15,     86,   1,       3,   12033,  2,20090305,1801, -12.4871, -169.9931,  4899,   4413.7,     1.11,   34.711,2,  34.7129,2,    204.1,2,    203.5,2,   117.31,2,    32.09,2, -999.000,9,     2.21,2, -999.000,9, -999.000,9, -999.000,9,   -999.0,9,   -999.0,9
           NA,     P15,     86,   1,       2,   12006,  2,20090305,1801, -12.4871, -169.9931,  4899,   4823.3,     1.06,   34.709,2,  34.7099,2,    206.3,2,    205.6,2,   119.35,2,    32.12,2, -999.000,9,     2.19,2, -999.000,9, -999.000,9, -999.000,9,   -999.0,9,   -999.0,9
           NA,     P15,     86,   1,       1,   12045,  2,20090305,1801, -12.4871, -169.9931,  4899,   4991.2,     1.07,   34.708,2,  34.7101,2,    206.5,2,    205.8,2,   119.77,2,    32.15,2, -999.000,9,     2.19,2, -999.000,9, -999.000,9, -999.000,9,   -999.0,9,   -999.0,9