BOTTLE,20214902JOAExport
EXPOCODE,SECT_ID,STNNBR,CASTNO,SAMPNO,BTLNBR,BTLNBR_FLAG_W,DATE,TIME,LATITUDE,LONGITUDE,DEPTH,CTDPRS,CTDTMP,CTDSAL,CTDSAL_FLAG_W,SALNTY,SALNTY_FLAG_W,CTDOXY,CTDOXY_FLAG_W,OXYGEN,OXYGEN_FLAG_W,SILCAT,SILCAT_FLAG_W,NITRAT,NITRAT_FLAG_W,NITRIT,NITRIT_FLAG_W,PHSPHT,PHSPHT_FLAG_W,CFC-11,CFC-11_FLAG_W,CFC-12,CFC-12_FLAG_W,SF6,SF6_FLAG_W,TCARBN,TCARBN_FLAG_W,ALKALI,ALKALI_FLAG_W
,,,,,,,,,,,,DB,ITS-90,PSS-78,,PSS-78,,UMOL/KG,,UMOL/KG,,UMOL/KG,,UMOL/KG,,UMOL/KG,,UMOL/KG,,PMOL/KG,,PMOL/KG,,FMOL/KG,,UMOL/KG,,UMOL/KG
           NA,     P15,     37,   1,      24,   12015,  2,20090216,0202, -35.6694, -170.0093,  4271,      5.0,    21.11,   34.938,2,  34.9347,2,    226.2,2,    223.7,2,     0.95,2,     0.00,2, -999.000,9,     0.11,2, -999.000,3, -999.000,3, -999.000,9,   2036.1,6,   2292.6,6
           NA,     P15,     37,   1,      23,   12046,  2,20090216,0202, -35.6694, -170.0093,  4271,     22.5,    21.12,   34.946,2,  34.9563,2,    225.2,2,    223.7,2,     0.96,2,     0.00,2, -999.000,9,     0.11,2, -999.000,4, -999.000,4, -999.000,9,   2036.0,2,   2294.0,2
           NA,     P15,     37,   1,      22,   12020,  2,20090216,0202, -35.6694, -170.0093,  4271,     73.1,    14.62,   35.197,2,  35.2000,2,    258.3,2,    257.2,2,     1.31,2,     0.07,2, -999.000,9,     0.17,2,    2.948,2,    1.727,2, -999.000,9,   2067.2,2,   2313.7,2
           NA,     P15,     37,   1,      21,   12003,  2,20090216,0202, -35.6694, -170.0093,  4271,    133.9,    12.90,   35.113,2,  35.1108,2,    215.3,2,    213.5,2,     2.71,2,     8.98,2, -999.000,9,     0.65,2,    3.047,2,    1.732,2, -999.000,9,   2110.9,2,   2305.3,2
           NA,     P15,     37,   1,      20,   12051,  2,20090216,0202, -35.6694, -170.0093,  4271,    180.9,    12.31,   35.065,2,  35.0780,2,    220.3,2,    218.8,2,     3.15,2,    10.02,2, -999.000,9,     0.71,2, -999.000,4, -999.000,4, -999.000,9,   2114.7,2,   2302.3,2
           NA,     P15,     37,   1,      19,   12010,  2,20090216,0202, -35.6694, -170.0093,  4271,    223.0,    11.35,   34.912,2,  34.9136,2,    212.6,2,    210.8,2,     3.84,2,    12.90,2, -999.000,9,     0.90,2,    3.222,2,    1.730,2, -999.000,9,   2123.4,2,   2295.0,2
           NA,     P15,     37,   1,      18,   12018,  2,20090216,0202, -35.6694, -170.0093,  4271,    268.2,    10.48,   34.797,2,  34.7935,2,    215.1,2,    213.1,2,     4.43,2,    14.75,2, -999.000,9,     1.02,2,    3.253,2,    1.750,2, -999.000,9,   2127.9,2,   2285.9,2
           NA,     P15,     37,   1,      17,   12024,  2,20090216,0202, -35.6694, -170.0093,  4271,    367.0,     9.01,   34.614,2,  34.6154,2,    219.4,2,    218.1,2,     5.86,2,    18.41,2, -999.000,9,     1.23,2,    3.480,2,    1.793,2, -999.000,9,   2138.0,2,   2280.0,2
           NA,     P15,     37,   1,      16,   12001,  2,20090216,0202, -35.6694, -170.0093,  4271,    464.7,     7.96,   34.486,2,  34.4854,2,    231.3,2,    230.1,2,     6.42,2,    20.13,2, -999.000,9,     1.35,2,    3.803,2,    1.921,2, -999.000,9,   2140.3,2,   2280.5,6
           NA,     P15,     37,   1,      15,   12025,  2,20090216,0202, -35.6694, -170.0093,  4271,    523.7,     7.59,   34.445,2,  34.4444,2,    235.5,2,    234.9,2,     6.73,2,    20.94,2, -999.000,9,     1.40,2,    3.878,2,    1.922,2, -999.000,9,   2140.5,2,   2275.7,2
           NA,     P15,     37,   1,      14,   12041,  2,20090216,0202, -35.6694, -170.0093,  4271,    599.1,     7.35,   34.434,2,  34.4326,2,    230.1,2,    230.5,2,     8.11,2,    22.08,2, -999.000,9,     1.47,2,    3.503,6,    1.726,6, -999.000,9,   2145.0,2,   2269.9,2
           NA,     P15,     37,   1,      13,   12012,  2,20090216,0202, -35.6694, -170.0093,  4271,    696.6,     6.80,   34.379,2,  34.3784,2,    233.3,2,    233.9,2,     9.33,2,    23.14,2, -999.000,9,     1.54,2,    3.295,2,    1.607,2, -999.000,9,   2144.6,2,   2273.8,2
           NA,     P15,     37,   1,      12,   12022,  2,20090216,0202, -35.6694, -170.0093,  4271,   1031.9,     4.84,   34.365,2,  34.3633,2,    195.5,2,    196.7,2,    31.30,2,    30.42,2, -999.000,9,     2.00,2,    0.946,2,    0.424,2, -999.000,9,   2191.1,6,   2295.2,6
           NA,     P15,     37,   1,      11,   12016,  2,20090216,0202, -35.6694, -170.0093,  4271,   1231.0,     3.80,   34.424,2,  34.4247,2,    178.3,2,    179.5,2,    51.96,2,    32.75,2, -999.000,9,     2.20,2,    0.335,2,    0.133,2, -999.000,9,   2222.8,2,   2320.1,2
           NA,     P15,     37,   1,      10,   12019,  2,20090216,0202, -35.6694, -170.0093,  4271,   1431.2,     3.19,   34.490,2,  34.4913,2,    167.0,2,    168.2,2,    68.45,2,    34.16,2, -999.000,9,     2.32,2,    0.130,2,    0.043,2, -999.000,9,   2245.5,2,   2331.3,2
           NA,     P15,     37,   1,       9,   12031,  2,20090216,0202, -35.6694, -170.0093,  4271,   1631.6,     2.77,   34.555,2,  34.5598,2,    158.0,2,    159.7,2,    84.84,2,    34.99,2, -999.000,9,     2.37,2,    0.031,2,    0.011,2, -999.000,9,   2267.2,2,   2354.3,2
           NA,     P15,     37,   1,       8,   12021,  2,20090216,0202, -35.6694, -170.0093,  4271,   1829.9,     2.52,   34.595,2,  34.5958,2,    153.1,2,    153.9,2,    96.81,2,    35.12,2, -999.000,9,     2.41,2,    0.004,2,    0.002,2, -999.000,9,   2280.9,2,   2367.5,2
           NA,     P15,     37,   1,       7,   12032,  2,20090216,0202, -35.6694, -170.0093,  4271,   2032.1,     2.34,   34.620,2,  34.6191,2,    149.8,2,    150.4,2,   106.66,2,    35.25,2, -999.000,9,     2.43,2,    0.002,2,    0.000,2, -999.000,9,   2293.2,2,   2372.8,2
           NA,     P15,     37,   1,       6,   12007,  2,20090216,0202, -35.6694, -170.0093,  4271,   2248.1,     2.18,   34.637,2,  34.6372,2,    147.9,2,   -999.0,9,   114.21,2,  -999.00,9, -999.000,9,     2.46,2,    0.003,6,    0.001,6, -999.000,9,   2301.4,2,   2383.1,6
           NA,     P15,     37,   1,       5,   12055,  2,20090216,0202, -35.6694, -170.0093,  4271,   2746.8,     1.95,   34.658,2,  34.6574,2,    147.8,2,    148.4,2,   124.76,2,    36.01,2, -999.000,9,     2.47,2,    0.004,2,    0.001,2, -999.000,9,   2310.6,2,   2398.0,2
           NA,     P15,     37,   1,       4,   12009,  2,20090216,0202, -35.6694, -170.0093,  4271,   2832.9,     1.92,   34.660,2,  34.6606,2,    148.6,2,    149.9,2,   125.95,2,    35.71,2, -999.000,9,     2.47,2,    0.002,2,    0.002,2, -999.000,9,   2310.8,2,   2398.7,2
           NA,     P15,     37,   1,       3,   12033,  2,20090216,0202, -35.6694, -170.0093,  4271,   3328.9,     1.70,   34.695,2,  34.6964,2,    171.0,2,    170.3,2,   117.76,2,    34.28,2, -999.000,9,     2.32,2,    0.008,2,    0.002,2, -999.000,9,   2288.7,2,   2382.0,2
           NA,     P15,     37,   1,       2,   12006,  2,20090216,0202, -35.6694, -170.0093,  4271,   3913.2,     1.33,   34.719,2,  34.7193,2,    198.7,2,    198.7,2,   111.05,2,    31.44,2, -999.000,9,     2.17,2,    0.047,2,    0.017,2, -999.000,9,   2260.7,2,   2360.2,2
           NA,     P15,     37,   1,       1,   12045,  2,20090216,0202, -35.6694, -170.0093,  4271,   4400.8,     1.08,   34.712,2,  34.7131,2,    204.9,2,    204.9,2,   117.93,2,    32.17,2, -999.000,9,     2.17,2,    0.108,2,    0.039,2, -999.000,9,   2261.3,6,   2360.5,6
           NA,     P15,     38,   1,      24,   12015,  2,20090216,0756, -35.3157, -169.9795,  5009,      2.0,    21.49,   35.191,2,  35.1910,2,    224.3,2,    222.5,2,     1.07,2,     0.00,2, -999.000,9,     0.14,2, -999.000,9, -999.000,9, -999.000,9,   -999.0,9,   2307.5,2
           NA,     P15,     38,   1,      23,   12046,  2,20090216,0756, -35.3157, -169.9795,  5009,     57.6,    15.61,   35.275,2,  35.2724,2,    258.1,2,    255.0,2,     1.20,2,     0.04,2, -999.000,9,     0.19,2, -999.000,9, -999.000,9, -999.000,9,   -999.0,9,   -999.0,9
           NA,     P15,     38,   1,      22,   12020,  2,20090216,0756, -35.3157, -169.9795,  5009,     99.8,    13.98,   35.194,2,  35.1922,2,    222.8,2,    221.8,2,     1.92,2,     5.21,2, -999.000,9,     0.53,2, -999.000,9, -999.000,9, -999.000,9,   -999.0,9,   -999.0,9
           NA,     P15,     38,   1,      20,   12051,  2,20090216,0756, -35.3157, -169.9795,  5009,    198.1,    11.93,   35.009,2,  35.0102,2,    219.1,2,    218.0,2,     3.38,2,    10.91,2, -999.000,9,     0.89,2, -999.000,9, -999.000,9, -999.000,9,   -999.0,9,   -999.0,9
           NA,     P15,     38,   1,      19,   12010,  2,20090216,0756, -35.3157, -169.9795,  5009,    249.0,    11.11,   34.883,2,  34.9040,2,    215.7,2,    213.8,2,     3.97,2,    13.10,2, -999.000,9,     1.02,2, -999.000,9, -999.000,9, -999.000,9,   -999.0,9,   -999.0,9
           NA,     P15,     38,   1,      18,   12018,  2,20090216,0756, -35.3157, -169.9795,  5009,    298.2,    10.32,   34.782,2,  34.7813,2,    216.6,2,    215.4,2,     4.76,2,    15.02,2, -999.000,9,     1.12,2, -999.000,9, -999.000,9, -999.000,9,   -999.0,9,   -999.0,9
           NA,     P15,     38,   1,      17,   12024,  2,20090216,0756, -35.3157, -169.9795,  5009,    395.8,     8.70,   34.564,2,  34.5641,2,    229.2,2,    228.2,2,     5.21,2,    17.84,2, -999.000,9,     1.31,2, -999.000,9, -999.000,9, -999.000,9,   -999.0,9,   -999.0,9
           NA,     P15,     38,   1,      16,   12001,  2,20090216,0756, -35.3157, -169.9795,  5009,    546.9,     7.53,   34.431,2,  34.4322,2,    239.4,2,    239.1,2,     6.34,2,    20.79,2, -999.000,9,     1.47,2, -999.000,9, -999.000,9, -999.000,9,   -999.0,9,   -999.0,9
           NA,     P15,     38,   1,      15,   12025,  2,20090216,0756, -35.3157, -169.9795,  5009,    696.7,     6.91,   34.390,2,  34.3882,2,    233.8,2,    234.3,2,     8.99,2,    22.94,2, -999.000,9,     1.58,2, -999.000,9, -999.000,9, -999.000,9,   -999.0,9,   -999.0,9
           NA,     P15,     38,   1,      14,   12041,  2,20090216,0756, -35.3157, -169.9795,  5009,    796.2,     6.27,   34.349,2,  34.3494,2,    224.9,2,    226.4,2,    12.82,2,    24.99,2, -999.000,9,     1.73,2, -999.000,9, -999.000,9, -999.000,9,   -999.0,9,   -999.0,9
           NA,     P15,     38,   1,      13,   12012,  2,20090216,0756, -35.3157, -169.9795,  5009,    898.3,     5.78,   34.360,2,  34.3601,2,    208.6,2,    209.5,2,    19.57,2,    27.47,2, -999.000,9,     1.88,2, -999.000,9, -999.000,9, -999.000,9,   -999.0,9,   -999.0,9
           NA,     P15,     38,   1,      12,   12022,  2,20090216,0756, -35.3157, -169.9795,  5009,   1098.3,     4.64,   34.374,2,  34.3743,2,    191.1,2,    192.5,2,    35.22,2,    30.59,2, -999.000,9,     2.08,2, -999.000,9, -999.000,9, -999.000,9,   -999.0,9,   -999.0,9
           NA,     P15,     38,   1,      11,   12016,  2,20090216,0756, -35.3157, -169.9795,  5009,   1295.5,     3.64,   34.431,2,  34.4322,2,    176.3,2,    178.2,2,    55.01,2,    32.96,2, -999.000,9,     2.26,2, -999.000,9, -999.000,9, -999.000,9,   -999.0,9,   -999.0,9
           NA,     P15,     38,   1,      10,   12019,  2,20090216,0756, -35.3157, -169.9795,  5009,   1498.8,     3.00,   34.513,2,  34.5131,2,    163.5,2,    165.7,2,    75.15,2,    34.16,2, -999.000,9,     2.36,2, -999.000,9, -999.000,9, -999.000,9,   -999.0,9,   -999.0,9
           NA,     P15,     38,   1,       9,   12031,  2,20090216,0756, -35.3157, -169.9795,  5009,   1696.5,     2.64,   34.577,2,  34.5798,2,    154.9,2,    157.3,2,    92.66,2,    34.68,2, -999.000,9,     2.40,2, -999.000,9, -999.000,9, -999.000,9,   -999.0,9,   -999.0,9
           NA,     P15,     38,   1,       8,   12021,  2,20090216,0756, -35.3157, -169.9795,  5009,   1898.7,     2.43,   34.608,2,  34.6087,2,    151.0,2,    153.1,2,   103.26,2,    35.20,2, -999.000,9,     2.43,2, -999.000,9, -999.000,9, -999.000,9,   -999.0,9,   -999.0,9
           NA,     P15,     38,   1,       7,   12032,  2,20090216,0756, -35.3157, -169.9795,  5009,   2198.3,     2.19,   34.636,2,  34.6417,2,    147.9,2,    149.1,2,   115.86,2,    35.66,2, -999.000,9,     2.46,2, -999.000,9, -999.000,9, -999.000,9,   -999.0,9,   -999.0,9
           NA,     P15,     38,   1,       6,   12007,  2,20090216,0756, -35.3157, -169.9795,  5009,   2499.0,     2.03,   34.650,2,  34.6504,2,    147.3,2,    148.8,2,   122.77,2,    35.96,2, -999.000,9,     2.48,2, -999.000,9, -999.000,9, -999.000,9,   -999.0,9,   -999.0,9
           NA,     P15,     38,   1,       5,   12055,  2,20090216,0756, -35.3157, -169.9795,  5009,   2997.5,     1.81,   34.670,2,  34.6781,2,    152.3,2,    153.0,2,  -999.00,9,  -999.00,9, -999.000,9,  -999.00,9, -999.000,9, -999.000,9, -999.000,9,   -999.0,9,   -999.0,9
           NA,     P15,     38,   1,       3,   12033,  2,20090216,0756, -35.3157, -169.9795,  5009,   3998.5,     1.31,   34.720,2,  34.7193,2,    200.3,2,    200.5,2,   112.53,2,    31.62,2, -999.000,9,     2.19,2, -999.000,9, -999.000,9, -999.000,9,   -999.0,9,   -999.0,9
           NA,     P15,     38,   1,       1,   12045,  2,20090216,0756, -35.3157, -169.9795,  5009,   5089.4,     1.05,   34.707,2,  34.7105,2,    208.3,2,    206.3,2,   122.76,2,    32.01,2, -999.000,9,     2.21,2, -999.000,9, -999.000,9, -999.000,9,   -999.0,9,   -999.0,9
           NA,     P15,     39,   1,      24,   12015,  2,20090216,1339, -35.0038, -170.0016,  5218,      2.4,    21.65,   35.240,2,  35.2394,2,    223.2,2,    220.4,2,     0.97,2,     0.00,2, -999.000,9,     0.08,2,    2.080,2,    1.279,2, -999.000,9,   2039.1,6,   2312.0,6
           NA,     P15,     39,   1,      23,   12046,  2,20090216,1339, -35.0038, -170.0016,  5218,     64.5,    16.03,   35.252,2,  35.2526,2,    257.0,2,    255.7,2,     1.05,2,     0.00,2, -999.000,9,     0.12,2,    2.779,2,    1.648,2, -999.000,9,   2055.8,2,   2314.0,2
           NA,     P15,     39,   1,      22,   12020,  2,20090216,1339, -35.0038, -170.0016,  5218,    115.7,    14.18,   35.208,2,  35.2934,2,    225.4,2,    223.9,2,     1.71,2,     4.53,2, -999.000,9,     0.40,2,    3.032,2,    1.675,2, -999.000,9,   2091.8,2,   2310.8,2
           NA,     P15,     39,   1,      21,   12003,  2,20090216,1339, -35.0038, -170.0016,  5218,    173.3,    12.98,   35.147,2,  35.1492,2,    224.6,2,    223.4,2,     2.46,2,     7.88,2, -999.000,9,     0.59,2, -999.000,9, -999.000,9, -999.000,9,   2106.3,2,   2308.1,2
           NA,     P15,     39,   1,      20,   12051,  2,20090216,1339, -35.0038, -170.0016,  5218,    215.1,    12.24,   35.063,2,  35.0610,2,    221.5,2,    220.5,2,     3.14,2,    10.34,2, -999.000,9,     0.72,2,    3.045,2,    1.773,2, -999.000,9,   2117.0,2,   2304.3,2
           NA,     P15,     39,   1,      19,   12010,  2,20090216,1339, -35.0038, -170.0016,  5218,    280.8,    11.10,   34.888,2,  34.8851,2,    218.5,2,    217.2,2,     3.88,2,    13.15,2, -999.000,9,     0.90,2,    3.340,2,    1.796,2, -999.000,9,   2124.6,2,   2294.4,2
           NA,     P15,     39,   1,      18,   12018,  2,20090216,1339, -35.0038, -170.0016,  5218,    345.8,     9.78,   34.703,2,  34.7022,2,    223.3,2,    222.4,2,     4.50,2,    15.80,2, -999.000,9,     1.07,2,    3.411,2,    1.870,2, -999.000,9,   2131.2,2,   2289.3,2
           NA,     P15,     39,   1,      17,   12024,  2,20090216,1339, -35.0038, -170.0016,  5218,    420.9,     8.71,   34.565,2,  34.5647,2,    230.3,2,    229.9,2,     4.93,2,    18.06,2, -999.000,9,     1.19,2,    3.674,2,    1.980,2, -999.000,9,   2137.0,2,   2285.5,2
           NA,     P15,     39,   1,      16,   12001,  2,20090216,1339, -35.0038, -170.0016,  5218,    470.4,     8.31,   34.525,2,  34.5227,2,    227.6,2,    226.9,2,     5.93,2,    19.65,2, -999.000,9,     1.30,2, -999.000,4, -999.000,3, -999.000,9,   2140.1,2,   2282.6,6
           NA,     P15,     39,   1,      15,   12025,  2,20090216,1339, -35.0038, -170.0016,  5218,    513.4,     7.89,   34.472,2,  34.4722,2,    234.4,2,    234.4,2,     5.81,2,    20.07,2, -999.000,9,     1.33,2,    3.850,6,    1.997,6, -999.000,9,   2138.6,2,   2282.0,2
           NA,     P15,     39,   1,      14,   12041,  2,20090216,1339, -35.0038, -170.0016,  5218,    697.0,     6.99,   34.405,2,  34.4098,2,    228.1,2,    229.3,2,     9.04,2,    23.24,2, -999.000,9,     1.52,2, -999.000,9, -999.000,9, -999.000,9,   2146.6,2,   2279.5,2
           NA,     P15,     39,   1,      13,   12012,  2,20090216,1339, -35.0038, -170.0016,  5218,    978.2,     5.24,   34.356,2,  34.3596,2,    200.8,2,    202.5,2,    25.33,2,    29.13,2, -999.000,9,     1.92,2,    1.100,2,    0.531,2, -999.000,9,   2181.2,2,   2294.4,2
           NA,     P15,     39,   1,      12,   12022,  2,20090216,1339, -35.0038, -170.0016,  5218,   1164.5,     3.94,   34.359,2,  34.3603,2,    189.0,2,    191.5,2,    40.17,2,    32.60,2, -999.000,9,     2.15,2, -999.000,9, -999.000,9, -999.000,9,   2208.3,6,   2304.1,6
           NA,     P15,     39,   1,      11,   12016,  2,20090216,1339, -35.0038, -170.0016,  5218,   1365.0,     3.21,   34.444,2,  34.4459,2,    173.5,2,    176.0,2,    58.95,2,    34.14,2, -999.000,9,     2.28,2,    0.203,2,    0.076,2, -999.000,9,   2237.5,2,   2325.1,2
           NA,     P15,     39,   1,      10,   12019,  2,20090216,1339, -35.0038, -170.0016,  5218,   1563.9,     2.84,   34.532,2,  34.5319,2,    161.4,2,    163.8,2,    77.76,2,    34.95,2, -999.000,9,     2.35,2, -999.000,9, -999.000,9, -999.000,9,   2258.1,2,   2346.2,2
           NA,     P15,     39,   1,       9,   12031,  2,20090216,1339, -35.0038, -170.0016,  5218,   1784.5,     2.52,   34.591,2,  34.5910,2,    154.0,2,    157.2,2,    94.67,2,    35.48,2, -999.000,9,     2.39,2,    0.020,2,    0.005,2, -999.000,9,   2277.4,2,   2363.8,2
           NA,     P15,     39,   1,       8,   12021,  2,20090216,1339, -35.0038, -170.0016,  5218,   2129.8,     2.21,   34.634,2,  34.6333,2,    149.0,2,    150.8,2,   111.87,2,    35.90,2, -999.000,9,     2.44,2, -999.000,9, -999.000,9, -999.000,9,   2298.0,2,   2383.7,2
           NA,     P15,     39,   1,       7,   12032,  2,20090216,1339, -35.0038, -170.0016,  5218,   2497.4,     2.00,   34.653,2,  34.6533,2,    147.5,2,    149.0,2,   121.61,2,    35.90,2, -999.000,9,     2.46,2,    0.010,6,    0.000,6, -999.000,9,   2308.4,2,   2396.1,2
           NA,     P15,     39,   1,       6,   12007,  2,20090216,1339, -35.0038, -170.0016,  5218,   3165.9,     1.74,   34.682,2,  34.6814,2,    160.0,2,    160.2,2,   125.08,2,    35.23,2, -999.000,9,     2.40,2, -999.000,9, -999.000,9, -999.000,9,   2302.4,2,   2394.3,6
           NA,     P15,     39,   1,       5,   12055,  2,20090216,1339, -35.0038, -170.0016,  5218,   3665.1,     1.54,   34.717,2,  34.7166,2,    189.7,2,    189.7,2,   110.35,2,    32.50,2, -999.000,9,     2.21,2,    0.023,2,    0.010,2, -999.000,9,   2266.7,2,   2369.2,2
           NA,     P15,     39,   1,       4,   12009,  2,20090216,1339, -35.0038, -170.0016,  5218,   4165.3,     1.16,   34.715,2,  34.7148,2,    203.4,2,    203.3,2,   116.38,2,    32.06,2, -999.000,9,     2.18,2, -999.000,9, -999.000,9, -999.000,9,   2261.9,2,   2365.0,2
           NA,     P15,     39,   1,       3,   12033,  2,20090216,1339, -35.0038, -170.0016,  5218,   4661.8,     1.03,   34.709,2,  34.7085,2,    207.2,2,    206.7,2,   121.37,2,    32.42,2, -999.000,9,     2.18,2,    0.124,2,    0.041,2, -999.000,9,   2263.1,2,   2365.7,2
           NA,     P15,     39,   1,       1,   12045,  2,20090216,1339, -35.0038, -170.0016,  5218,   5330.0,     1.08,   34.707,2,  34.7089,2,    208.2,2,    207.1,2,   121.30,2,    32.37,2, -999.000,9,     2.19,2, -999.000,9, -999.000,9, -999.000,9,   2263.5,6,   2363.0,6