BOTTLE,20214902JOAExport
EXPOCODE,SECT_ID,STNNBR,CASTNO,SAMPNO,BTLNBR,BTLNBR_FLAG_W,DATE,TIME,LATITUDE,LONGITUDE,DEPTH,CTDPRS,CTDTMP,CTDSAL,CTDSAL_FLAG_W,SALNTY,SALNTY_FLAG_W,CTDOXY,CTDOXY_FLAG_W,OXYGEN,OXYGEN_FLAG_W,SILCAT,SILCAT_FLAG_W,NITRAT,NITRAT_FLAG_W,NITRIT,NITRIT_FLAG_W,PHSPHT,PHSPHT_FLAG_W,CFC-11,CFC-11_FLAG_W,CFC-12,CFC-12_FLAG_W,SF6,SF6_FLAG_W,TCARBN,TCARBN_FLAG_W,ALKALI,ALKALI_FLAG_W
,,,,,,,,,,,,DB,ITS-90,PSS-78,,PSS-78,,UMOL/KG,,UMOL/KG,,UMOL/KG,,UMOL/KG,,UMOL/KG,,UMOL/KG,,PMOL/KG,,PMOL/KG,,FMOL/KG,,UMOL/KG,,UMOL/KG
           NA,     P15,    118,   1,      24,   12014,  2,20090314,2136,   0.0129, -168.7424,  5606,      0.9,    26.44,   35.285,2,  35.2842,2,    194.5,2,    195.2,2,     3.02,2,     5.83,2, -999.000,9,     0.58,2,    1.764,2,    1.072,2, -999.000,9,   2041.1,6,   2317.3,6
           NA,     P15,    118,   1,      23,   12046,  2,20090314,2136,   0.0129, -168.7424,  5606,     31.2,    26.20,   35.286,2,  35.2848,2,    191.4,2,    192.3,2,     3.06,2,     6.00,2, -999.000,9,     0.59,2,    1.872,6,    1.066,6, -999.000,9,   2042.6,2,   2316.9,2
           NA,     P15,    118,   1,      22,   12020,  2,20090314,2136,   0.0129, -168.7424,  5606,     81.6,    25.99,   35.353,2,  35.3533,2,    179.8,2,    180.8,2,     3.18,2,     6.89,2, -999.000,9,     0.63,2, -999.000,9, -999.000,9, -999.000,9,   2051.3,2,   2322.5,2
           NA,     P15,    118,   1,      21,   12003,  2,20090314,2136,   0.0129, -168.7424,  5606,    141.2,    22.85,   35.371,2,  35.4111,2,    138.2,2,    141.7,2,     4.77,2,     9.79,2, -999.000,9,     0.81,2, -999.000,9, -999.000,9, -999.000,9,   2088.7,2,   2326.4,2
           NA,     P15,    118,   1,      20,   12051,  2,20090314,2136,   0.0129, -168.7424,  5606,    176.1,    17.94,   35.319,2,  35.2658,2,    131.4,2,    132.4,2,     8.30,2,    13.39,2, -999.000,9,     1.04,2,    2.053,2,    1.094,2, -999.000,9,   2125.2,2,   2320.2,2
           NA,     P15,    118,   1,      19,   12010,  2,20090314,2136,   0.0129, -168.7424,  5606,    221.8,    13.86,   34.961,2,  34.9488,2,    128.3,2,    129.2,2,    16.15,2,    19.11,2, -999.000,9,     1.38,2,    1.778,2,    0.919,2, -999.000,9,   2153.5,2,   2302.8,2
           NA,     P15,    118,   1,      18,   12035,  2,20090314,2136,   0.0129, -168.7424,  5606,    276.8,    11.76,   34.852,2,  34.8507,2,    108.6,2,    108.9,2,    19.94,2,    24.05,2, -999.000,9,     1.69,2,    1.383,2,    0.693,2, -999.000,9,   2183.7,2,   2309.4,2
           NA,     P15,    118,   1,      17,   12024,  2,20090314,2136,   0.0129, -168.7424,  5606,    322.6,    11.27,   34.812,2,  34.8090,2,     80.9,2,     80.7,2,    23.89,2,    28.17,2, -999.000,9,     1.94,2,    1.078,2,    0.546,2, -999.000,9,   2207.3,2,   2304.3,2
           NA,     P15,    118,   1,      16,   12001,  2,20090314,2136,   0.0129, -168.7424,  5606,    387.8,    10.06,   34.728,2,  34.7244,2,     53.5,2,     53.8,2,    30.04,2,    32.73,2, -999.000,9,     2.27,2,    0.627,2,    0.339,2, -999.000,9,   2236.9,2,   2303.7,2
           NA,     P15,    118,   1,      15,   12025,  2,20090314,2136,   0.0129, -168.7424,  5606,    454.9,     8.56,   34.644,2,  34.6447,2,     54.5,2,     55.1,2,    36.59,2,    35.73,2, -999.000,9,     2.49,2,    0.353,2,    0.175,2, -999.000,9,   2251.2,2,   2307.0,2
           NA,     P15,    118,   1,      14,   12041,  2,20090314,2136,   0.0129, -168.7424,  5606,    539.4,     7.78,   34.604,2,  34.6028,2,     72.2,2,     71.9,2,    39.63,2,    36.10,2, -999.000,9,     2.50,2,    0.294,2,    0.147,2, -999.000,9,   2248.1,2,   2306.8,2
           NA,     P15,    118,   1,      13,   12012,  2,20090314,2136,   0.0129, -168.7424,  5606,    646.6,     6.48,   34.559,2,  34.5582,2,     68.7,2,     70.4,2,    53.32,2,    38.34,2, -999.000,9,     2.74,2,    0.107,2,    0.047,2, -999.000,9,   2269.0,2,   2320.6,2
           NA,     P15,    118,   1,      12,   12022,  2,20090314,2136,   0.0129, -168.7424,  5606,    746.9,     5.75,   34.545,2,  34.5463,2,     79.6,2,     79.8,2,    62.79,2,    38.69,2, -999.000,9,     2.77,2,    0.059,2,    0.032,2, -999.000,9,   2274.5,6,   2326.8,6
           NA,     P15,    118,   1,      11,   12016,  2,20090314,2136,   0.0129, -168.7424,  5606,    896.9,     4.89,   34.547,2,  34.5478,2,     85.1,2,     85.5,2,    77.00,2,    39.00,2, -999.000,9,     2.80,2,    0.051,2,    0.016,2, -999.000,9,   2289.0,2,   2343.2,2
           NA,     P15,    118,   1,      10,   12019,  2,20090314,2136,   0.0129, -168.7424,  5606,   1081.1,     4.25,   34.560,2,  34.5622,2,     89.5,2,     90.3,2,    91.94,2,    38.96,2, -999.000,9,     2.82,2,    0.025,6,    0.013,6, -999.000,9,   2302.3,2,   2361.0,2
           NA,     P15,    118,   1,       9,   12031,  2,20090314,2136,   0.0129, -168.7424,  5606,   1329.6,     3.39,   34.587,2,  34.5877,2,     93.2,2,     94.2,2,   111.02,2,    39.61,2, -999.000,9,     2.85,2,    0.007,2,    0.000,2, -999.000,9,   2322.3,2,   2382.6,2
           NA,     P15,    118,   1,       8,   12021,  2,20090314,2136,   0.0129, -168.7424,  5606,   1660.5,     2.72,   34.615,2,  34.6164,2,     99.9,2,   -999.0,9,   126.93,2,    39.36,2, -999.000,9,     2.83,2, -999.000,3, -999.000,3, -999.000,9,   2335.6,2,   2396.9,6
           NA,     P15,    118,   1,       7,   12032,  2,20090314,2136,   0.0129, -168.7424,  5606,   2265.5,     2.03,   34.653,2,  34.6529,2,    115.8,2,    116.7,2,   143.62,2,    38.32,2, -999.000,9,     2.73,2,   -0.001,2,   -0.002,2, -999.000,9,   2345.4,2,   2414.2,2
           NA,     P15,    118,   1,       6,   12007,  2,20090314,2136,   0.0129, -168.7424,  5606,   2997.8,     1.65,   34.672,2,  34.6728,2,    136.7,2,    137.7,2,   145.84,2,    37.24,2, -999.000,9,     2.60,2,    0.005,2,   -0.001,2, -999.000,9,   2334.2,2,   2421.6,2
           NA,     P15,    118,   1,       5,   12002,  2,20090314,2136,   0.0129, -168.7424,  5606,   3598.1,     1.49,   34.685,2,  34.6897,2,    154.3,2,    154.4,2,   142.11,2,    35.76,2, -999.000,9,     2.48,2,    0.002,2,    0.000,2, -999.000,9,   2321.3,2,   2417.6,2
           NA,     P15,    118,   1,       4,   12008,  2,20090314,2136,   0.0129, -168.7424,  5606,   4214.8,     1.31,   34.698,2,  34.6993,2,    177.2,2,    176.6,2,   134.44,2,    34.53,2, -999.000,9,     2.35,2,    0.006,2,    0.000,2, -999.000,9,   2301.0,2,   2399.0,2
           NA,     P15,    118,   1,       3,   12033,  2,20090314,2136,   0.0129, -168.7424,  5606,   4830.4,     1.25,   34.704,2,  34.7038,2,    190.9,2,    188.4,2,   128.08,2,    33.41,2, -999.000,9,     2.29,2,    0.008,2,    0.002,2, -999.000,9,   2285.6,2,   2388.0,2
           NA,     P15,    118,   1,       2,   12006,  2,20090314,2136,   0.0129, -168.7424,  5606,   5417.4,     1.31,   34.705,2,  34.7042,2,    194.1,2,    191.5,2,   126.98,2,    33.37,2, -999.000,9,     2.29,2,    0.020,6,    0.005,6, -999.000,9,   2281.8,2,   2383.2,2
           NA,     P15,    118,   1,       1,   12045,  2,20090314,2136,   0.0129, -168.7424,  5606,   5741.2,     1.35,   34.705,2,  34.7062,2,    194.5,2,    191.7,2,   126.31,2,    33.13,2, -999.000,9,     2.27,2,    0.011,2,    0.005,2, -999.000,9,   2281.7,6,   2383.2,6