BOTTLE,20214902JOAExport
EXPOCODE,SECT_ID,STNNBR,CASTNO,SAMPNO,BTLNBR,BTLNBR_FLAG_W,DATE,TIME,LATITUDE,LONGITUDE,DEPTH,CTDPRS,CTDTMP,CTDSAL,CTDSAL_FLAG_W,SALNTY,SALNTY_FLAG_W,CTDOXY,CTDOXY_FLAG_W,OXYGEN,OXYGEN_FLAG_W,SILCAT,SILCAT_FLAG_W,NITRAT,NITRAT_FLAG_W,NITRIT,NITRIT_FLAG_W,PHSPHT,PHSPHT_FLAG_W,CFC-11,CFC-11_FLAG_W,CFC-12,CFC-12_FLAG_W,SF6,SF6_FLAG_W,TCARBN,TCARBN_FLAG_W,ALKALI,ALKALI_FLAG_W
,,,,,,,,,,,,DB,ITS-90,PSS-78,,PSS-78,,UMOL/KG,,UMOL/KG,,UMOL/KG,,UMOL/KG,,UMOL/KG,,UMOL/KG,,PMOL/KG,,PMOL/KG,,FMOL/KG,,UMOL/KG,,UMOL/KG
           NA,     P15,     40,   1,      24,   12015,  2,20090216,2047, -34.4970, -170.0077,  5468,      2.9,    21.23,   34.987,2,  34.9864,2,    225.2,2,    223.5,2,     1.04,2,     0.04,2, -999.000,9,     0.12,2, -999.000,9, -999.000,9, -999.000,9,   2039.1,2,   2300.3,2
           NA,     P15,     40,   1,      23,   12046,  2,20090216,2047, -34.4970, -170.0077,  5468,     22.1,    21.22,   34.987,2,  34.9864,2,    225.3,2,    223.3,2,     1.05,2,     0.05,2, -999.000,9,     0.13,2, -999.000,9, -999.000,9, -999.000,9,   -999.0,9,   -999.0,9
           NA,     P15,     40,   1,      22,   12020,  2,20090216,2047, -34.4970, -170.0077,  5468,     67.2,    15.58,   35.037,2,  35.0437,2,    263.9,2,    262.7,2,     1.05,2,     0.06,2, -999.000,9,     0.14,2, -999.000,9, -999.000,9, -999.000,9,   -999.0,9,   -999.0,9
           NA,     P15,     40,   1,      21,   12003,  2,20090216,2047, -34.4970, -170.0077,  5468,    130.6,    13.66,   35.112,2,  35.1132,2,    235.2,2,    233.9,2,     1.64,2,     3.97,2, -999.000,9,     0.38,2, -999.000,9, -999.000,9, -999.000,9,   -999.0,9,   -999.0,9
           NA,     P15,     40,   1,      20,   12051,  2,20090216,2047, -34.4970, -170.0077,  5468,    188.2,    12.50,   35.060,2,  35.0657,2,    221.1,2,    220.0,2,     2.77,2,     9.17,2, -999.000,9,     0.67,2, -999.000,9, -999.000,9, -999.000,9,   -999.0,9,   -999.0,9
           NA,     P15,     40,   1,      19,   12010,  2,20090216,2047, -34.4970, -170.0077,  5468,    221.7,    11.81,   34.961,2,  34.9622,2,    220.9,2,    219.5,2,     3.11,2,    10.87,2, -999.000,9,     0.78,2, -999.000,9, -999.000,9, -999.000,9,   -999.0,9,   -999.0,9
           NA,     P15,     40,   1,      18,   12018,  2,20090216,2047, -34.4970, -170.0077,  5468,    264.5,    10.65,   34.797,2,  34.7933,2,    221.1,2,    220.2,2,     3.62,2,    13.26,2, -999.000,9,     0.93,2, -999.000,9, -999.000,9, -999.000,9,   -999.0,9,   -999.0,9
           NA,     P15,     40,   1,      17,   12024,  2,20090216,2047, -34.4970, -170.0077,  5468,    362.9,     9.04,   34.599,2,  34.5977,2,    225.9,2,    225.1,2,     4.73,2,    17.22,2, -999.000,9,     1.16,2, -999.000,9, -999.000,9, -999.000,9,   -999.0,9,   -999.0,9
           NA,     P15,     40,   1,      16,   12001,  2,20090216,2047, -34.4970, -170.0077,  5468,    464.1,     8.05,   34.489,2,  34.4887,2,    233.3,2,    233.0,2,     5.64,2,    19.49,2, -999.000,9,     1.32,2, -999.000,9, -999.000,9, -999.000,9,   -999.0,9,   -999.0,9
           NA,     P15,     40,   1,      15,   12025,  2,20090216,2047, -34.4970, -170.0077,  5468,    546.8,     7.47,   34.428,2,  34.4282,2,    238.4,2,    238.3,2,     6.37,2,    20.92,2, -999.000,9,     1.40,2, -999.000,9, -999.000,9, -999.000,9,   -999.0,9,   -999.0,9
           NA,     P15,     40,   1,      14,   12041,  2,20090216,2047, -34.4970, -170.0077,  5468,    629.6,     7.07,   34.396,2,  34.3972,2,    237.0,2,    237.9,2,     7.65,2,    22.21,2, -999.000,9,     1.48,2, -999.000,9, -999.000,9, -999.000,9,   -999.0,9,   -999.0,9
           NA,     P15,     40,   1,      13,   12012,  2,20090216,2047, -34.4970, -170.0077,  5468,    829.9,     6.19,   34.347,2,  34.3468,2,    222.4,2,    224.4,2,    13.37,2,    25.55,2, -999.000,9,     1.70,2, -999.000,9, -999.000,9, -999.000,9,   -999.0,9,   -999.0,9
           NA,     P15,     40,   1,      12,   12022,  2,20090216,2047, -34.4970, -170.0077,  5468,   1028.6,     4.80,   34.330,2,  34.3286,2,    201.4,2,    202.6,2,    27.56,2,    30.21,2, -999.000,9,     2.00,2, -999.000,9, -999.000,9, -999.000,9,   -999.0,9,   -999.0,9
           NA,     P15,     40,   1,      11,   12016,  2,20090216,2047, -34.4970, -170.0077,  5468,   1231.1,     3.62,   34.381,2,  34.3802,2,    184.3,2,    187.5,2,    46.70,2,    33.02,2, -999.000,9,     2.22,2, -999.000,9, -999.000,9, -999.000,9,   -999.0,9,   -999.0,9
           NA,     P15,     40,   1,      10,   12019,  2,20090216,2047, -34.4970, -170.0077,  5468,   1412.8,     3.10,   34.460,2,  34.4608,2,    170.7,2,    173.3,2,    63.24,2,    34.38,2, -999.000,9,     2.33,2, -999.000,9, -999.000,9, -999.000,9,   -999.0,9,   -999.0,9
           NA,     P15,     40,   1,       9,   12031,  2,20090216,2047, -34.4970, -170.0077,  5468,   1563.7,     2.82,   34.534,2,  34.5329,2,    160.9,2,    163.5,2,    79.14,2,    34.60,2, -999.000,9,     2.36,2, -999.000,9, -999.000,9, -999.000,9,   -999.0,9,   -999.0,9
           NA,     P15,     40,   1,       8,   12021,  2,20090216,2047, -34.4970, -170.0077,  5468,   1831.6,     2.47,   34.603,2,  34.6028,2,    151.8,2,    153.8,2,   100.57,2,    35.36,2, -999.000,9,     2.41,2, -999.000,9, -999.000,9, -999.000,9,   -999.0,9,   -999.0,9
           NA,     P15,     40,   1,       7,   12032,  2,20090216,2047, -34.4970, -170.0077,  5468,   2496.7,     2.01,   34.652,2,  34.6510,2,    147.6,2,   -999.0,9,   121.90,2,    35.74,2, -999.000,9,     2.46,2, -999.000,9, -999.000,9, -999.000,9,   -999.0,9,   -999.0,9
           NA,     P15,     40,   1,       6,   12007,  2,20090216,2047, -34.4970, -170.0077,  5468,   2832.0,     1.86,   34.666,2,  34.6655,2,    150.1,2,    151.5,2,   127.84,2,    35.84,2, -999.000,9,     2.46,2, -999.000,9, -999.000,9, -999.000,9,   -999.0,9,   -999.0,9
           NA,     P15,     40,   1,       5,   12055,  2,20090216,2047, -34.4970, -170.0077,  5468,   3330.7,     1.68,   34.696,2,  34.6952,2,    171.2,2,    171.2,2,   119.00,2,    33.93,2, -999.000,9,     2.32,2, -999.000,9, -999.000,9, -999.000,9,   -999.0,9,   -999.0,9
           NA,     P15,     40,   1,       3,   12033,  2,20090216,2047, -34.4970, -170.0077,  5468,   4331.4,     1.11,   34.713,2,  34.7140,2,    204.9,2,    203.9,2,   117.13,2,    32.11,2, -999.000,9,     2.18,2, -999.000,9, -999.000,9, -999.000,9,   -999.0,9,   -999.0,9
           NA,     P15,     40,   1,       2,   12006,  2,20090216,2047, -34.4970, -170.0077,  5468,   4914.6,     1.04,   34.708,2,  34.7066,2,    208.0,2,    206.5,2,   122.08,2,    32.28,2, -999.000,9,     2.19,2, -999.000,9, -999.000,9, -999.000,9,   -999.0,9,   -999.0,9
           NA,     P15,     40,   1,       1,   12045,  2,20090216,2047, -34.4970, -170.0077,  5468,   5589.8,     1.11,   34.707,2,  34.7119,2,    208.9,2,    207.2,2,   122.20,2,    32.25,2, -999.000,9,     2.19,2, -999.000,9, -999.000,9, -999.000,9,   -999.0,9,   -999.0,9
           NA,     P15,     41,   1,      24,   12015,  2,20090217,0400, -33.9975, -169.9923,  5518,      2.7,    21.85,   35.085,2,  35.0848,2,    222.2,2,    221.3,2,     1.02,2,     0.02,2, -999.000,9,     0.11,2,    2.174,2,    1.292,2, -999.000,9,   2035.2,6,   2300.7,6
           NA,     P15,     41,   1,      23,   12046,  2,20090217,0400, -33.9975, -169.9923,  5518,     67.2,    16.39,   35.248,2,  35.2536,2,    261.5,2,    259.8,2,     1.09,2,     0.03,2, -999.000,9,     0.11,2,    2.940,2,    1.623,2, -999.000,9,   2050.7,2,   2313.5,2
           NA,     P15,     41,   1,      22,   12020,  2,20090217,0400, -33.9975, -169.9923,  5518,     98.4,    14.76,   35.201,2,  35.2008,2,    240.7,2,    240.3,2,     1.24,2,     0.25,2, -999.000,9,     0.21,2,    3.060,2,    1.688,2, -999.000,9,   2075.5,2,   2311.3,2
           NA,     P15,     41,   1,      21,   12003,  2,20090217,0400, -33.9975, -169.9923,  5518,    156.0,    13.52,   35.168,2,  35.1709,2,    217.6,2,    216.5,2,     2.32,2,     6.93,2, -999.000,9,     0.55,2,    2.923,2,    1.687,2, -999.000,9,   2103.3,2,   2308.0,2
           NA,     P15,     41,   1,      20,   12051,  2,20090217,0400, -33.9975, -169.9923,  5518,    197.1,    12.74,   35.096,2,  35.0937,2,    213.4,2,    212.4,2,     3.02,2,     9.66,2, -999.000,9,     0.70,2,    3.137,2,    1.692,2, -999.000,9,   2113.6,2,   2304.1,2
           NA,     P15,     41,   1,      19,   12010,  2,20090217,0400, -33.9975, -169.9923,  5518,    247.5,    11.76,   34.975,2,  34.9756,2,    213.5,2,    213.0,2,     3.62,2,    11.84,2, -999.000,9,     0.84,2,    3.235,6,    1.714,6, -999.000,9,   2122.1,2,   -999.0,9
           NA,     P15,     41,   1,      18,   12018,  2,20090217,0400, -33.9975, -169.9923,  5518,    298.6,    10.62,   34.812,2,  34.8088,2,    213.8,2,    212.3,2,     4.33,2,    14.49,2, -999.000,9,     1.00,2,    3.338,2,    1.735,2, -999.000,9,   2127.9,2,   2288.7,2
           NA,     P15,     41,   1,      17,   12024,  2,20090217,0400, -33.9975, -169.9923,  5518,    397.2,     8.90,   34.591,2,  34.5893,2,    221.0,2,    221.2,2,     5.38,2,    18.07,2, -999.000,9,     1.23,2, -999.000,9, -999.000,9, -999.000,9,   2136.9,2,   2283.5,2
           NA,     P15,     41,   1,      16,   12001,  2,20090217,0400, -33.9975, -169.9923,  5518,    498.6,     7.84,   34.473,2,  34.4732,2,    229.8,2,    230.1,2,     6.35,2,    20.48,2, -999.000,9,     1.38,2,    3.623,6,    1.820,6, -999.000,9,   2140.0,2,   2279.0,6
           NA,     P15,     41,   1,      15,   12025,  2,20090217,0400, -33.9975, -169.9923,  5518,    599.9,     7.26,   34.418,2,  34.4182,2,    232.3,2,    233.2,2,     7.52,2,    21.84,2, -999.000,9,     1.47,2,    3.507,2,    1.669,2, -999.000,9,   2142.0,2,   2273.2,2
           NA,     P15,     41,   1,      14,   12041,  2,20090217,0400, -33.9975, -169.9923,  5518,    697.5,     6.80,   34.382,2,  34.3823,2,    231.4,2,    233.2,2,     9.18,2,    23.30,2, -999.000,9,     1.55,2, -999.000,9, -999.000,9, -999.000,9,   2145.5,2,   2279.9,2
           NA,     P15,     41,   1,      13,   12012,  2,20090217,0400, -33.9975, -169.9923,  5518,    896.8,     5.69,   34.340,2,  34.3405,2,    211.8,2,    214.4,2,    18.42,2,    27.47,2, -999.000,9,     1.83,2,    1.487,2,    0.734,2, -999.000,9,   2166.2,2,   2287.0,2
           NA,     P15,     41,   1,      12,   12022,  2,20090217,0400, -33.9975, -169.9923,  5518,   1097.9,     4.35,   34.354,2,  34.3554,2,    192.1,2,    194.4,2,    36.34,2,    31.37,2, -999.000,9,     2.12,2,    0.713,2,    0.333,2, -999.000,9,   2200.2,6,   2299.7,6
           NA,     P15,     41,   1,      11,   12016,  2,20090217,0400, -33.9975, -169.9923,  5518,   1298.0,     3.46,   34.438,2,  34.4396,2,    173.7,2,    176.4,2,    58.01,2,    33.64,2, -999.000,9,     2.29,2,    0.170,2,    0.072,2, -999.000,9,   2231.8,2,   2323.3,2
           NA,     P15,     41,   1,      10,   12019,  2,20090217,0400, -33.9975, -169.9923,  5518,   1497.1,     2.89,   34.525,2,  34.5268,2,    161.1,2,    164.4,2,    78.69,2,    34.47,2, -999.000,9,     2.37,2, -999.000,9, -999.000,9, -999.000,9,   2258.3,2,   2345.9,2
           NA,     P15,     41,   1,       9,   12031,  2,20090217,0400, -33.9975, -169.9923,  5518,   1696.5,     2.59,   34.582,2,  34.5871,2,    153.5,2,    156.6,2,    95.28,2,    35.08,2, -999.000,9,     2.41,2,    0.044,2,    0.006,2, -999.000,9,   2277.9,2,   2361.2,2
           NA,     P15,     41,   1,       8,   12021,  2,20090217,0400, -33.9975, -169.9923,  5518,   1998.2,     2.32,   34.621,2,  34.6205,2,    148.1,2,    152.0,2,   110.63,2,  -999.00,9, -999.000,9,     2.45,2,    0.016,6,    0.002,6, -999.000,9,   2293.3,2,   2380.4,2
           NA,     P15,     41,   1,       7,   12032,  2,20090217,0400, -33.9975, -169.9923,  5518,   2496.9,     2.04,   34.648,2,  34.6547,2,    145.3,2,    146.6,2,   124.01,2,    35.84,2, -999.000,9,     2.48,2,   -0.005,2,   -0.001,2, -999.000,9,   2310.3,2,   2395.8,2
           NA,     P15,     41,   1,       6,   12007,  2,20090217,0400, -33.9975, -169.9923,  5518,   2996.8,     1.81,   34.672,2,  34.6728,2,    152.9,2,    154.7,2,   127.51,2,    35.45,2, -999.000,9,     2.44,2,    0.002,2,    0.001,2, -999.000,9,   2307.8,2,   2397.1,6
           NA,     P15,     41,   1,       5,   12055,  2,20090217,0400, -33.9975, -169.9923,  5518,   3398.5,     1.67,   34.705,2,  34.7058,2,    178.1,2,    178.6,2,   112.80,2,    33.08,2, -999.000,9,     2.26,2,    0.008,2,    0.004,2, -999.000,9,   2278.8,2,   2374.1,2
           NA,     P15,     41,   1,       4,   12009,  2,20090217,0400, -33.9975, -169.9923,  5518,   4000.4,     1.29,   34.718,2,  34.7217,2,    199.6,2,    200.8,2,   112.35,2,  -999.00,9, -999.000,9,     2.17,2,    0.040,2,    0.014,2, -999.000,9,   2262.1,2,   2360.1,2
           NA,     P15,     41,   1,       3,   12033,  2,20090217,0400, -33.9975, -169.9923,  5518,   4496.0,     1.07,   34.711,2,  34.7107,2,    205.9,2,    205.4,2,   119.00,2,    32.04,2, -999.000,9,     2.18,2,    0.083,2,    0.030,2, -999.000,9,   2262.8,2,   2359.7,2
           NA,     P15,     41,   1,       2,   12006,  2,20090217,0400, -33.9975, -169.9923,  5518,   4997.6,     1.05,   34.708,2,  34.7062,2,    207.7,2,    206.4,2,   121.19,2,    32.11,2, -999.000,9,     2.19,2,    0.102,2,    0.038,2, -999.000,9,   2262.5,2,   2362.3,2
           NA,     P15,     41,   1,       1,   12045,  2,20090217,0400, -33.9975, -169.9923,  5518,   5641.4,     1.11,   34.707,2,  34.7066,2,    208.6,2,    207.8,2,   122.24,2,    32.25,2, -999.000,9,     2.19,2,    0.086,2,    0.034,2, -999.000,9,   2263.2,6,   2361.8,6
           NA,     P15,     42,   1,      24,   12015,  2,20090217,1104, -33.4930, -169.9816,  5400,      2.7,    22.59,   35.495,2,  35.4930,2,    218.5,2,    216.7,2,  -999.00,9,     0.00,2, -999.000,9,     0.06,2, -999.000,9, -999.000,9, -999.000,9,   2031.7,2,   2322.9,2
           NA,     P15,     42,   1,      23,   12046,  2,20090217,1104, -33.4930, -169.9816,  5400,     64.5,    17.53,   35.509,2,  35.5083,2,    252.1,2,    250.8,2,  -999.00,9,     0.00,2, -999.000,9,     0.11,2, -999.000,9, -999.000,9, -999.000,9,   -999.0,9,   -999.0,9
           NA,     P15,     42,   1,      22,   12020,  2,20090217,1104, -33.4930, -169.9816,  5400,    113.3,    15.21,   35.361,2,  35.3565,2,    207.4,2,    206.6,2,  -999.00,9,     5.62,2, -999.000,9,     0.50,2, -999.000,9, -999.000,9, -999.000,9,   -999.0,9,   -999.0,9
           NA,     P15,     42,   1,      21,   12003,  2,20090217,1104, -33.4930, -169.9816,  5400,    164.9,    13.97,   35.233,2,  35.2321,2,    207.8,2,    206.0,2,  -999.00,9,     7.98,2, -999.000,9,     0.63,2, -999.000,9, -999.000,9, -999.000,9,   -999.0,9,   -999.0,9
           NA,     P15,     42,   1,      19,   12010,  2,20090217,1104, -33.4930, -169.9816,  5400,    264.1,    11.95,   35.008,2,  35.0063,2,    211.0,2,    209.9,2,  -999.00,9,    12.16,2, -999.000,9,     0.88,2, -999.000,9, -999.000,9, -999.000,9,   -999.0,9,   -999.0,9
           NA,     P15,     42,   1,      18,   12018,  2,20090217,1104, -33.4930, -169.9816,  5400,    323.2,    10.89,   34.859,2,  34.8487,2,    209.6,2,    209.4,2,  -999.00,9,    14.69,2, -999.000,9,     1.02,2, -999.000,9, -999.000,9, -999.000,9,   -999.0,9,   -999.0,9
           NA,     P15,     42,   1,      17,   12024,  2,20090217,1104, -33.4930, -169.9816,  5400,    472.7,     8.39,   34.538,2,  34.5398,2,    222.1,2,    222.7,2,  -999.00,9,    19.95,2, -999.000,9,     1.33,2, -999.000,9, -999.000,9, -999.000,9,   -999.0,9,   -999.0,9
           NA,     P15,     42,   1,      16,   12001,  2,20090217,1104, -33.4930, -169.9816,  5400,    530.5,     7.86,   34.474,2,  34.4752,2,    229.4,2,    229.9,2,  -999.00,9,    20.79,2, -999.000,9,     1.39,2, -999.000,9, -999.000,9, -999.000,9,   -999.0,9,   -999.0,9
           NA,     P15,     42,   1,      15,   12025,  2,20090217,1104, -33.4930, -169.9816,  5400,    629.4,     7.29,   34.423,2,  34.4251,2,    230.5,2,    231.5,2,  -999.00,9,    22.40,2, -999.000,9,     1.48,2, -999.000,9, -999.000,9, -999.000,9,   -999.0,9,   -999.0,9
           NA,     P15,     42,   1,      14,   12041,  2,20090217,1104, -33.4930, -169.9816,  5400,    748.5,     6.65,   34.380,2,  34.3802,2,    225.6,2,    227.3,2,  -999.00,9,    24.39,2, -999.000,9,     1.60,2, -999.000,9, -999.000,9, -999.000,9,   -999.0,9,   -999.0,9
           NA,     P15,     42,   1,      13,   12012,  2,20090217,1104, -33.4930, -169.9816,  5400,    964.6,     5.29,   34.344,2,  34.3445,2,    203.9,2,    205.9,2,  -999.00,9,    29.19,2, -999.000,9,     1.93,2, -999.000,9, -999.000,9, -999.000,9,   -999.0,9,   -999.0,9
           NA,     P15,     42,   1,      12,   12022,  2,20090217,1104, -33.4930, -169.9816,  5400,   1164.9,     4.15,   34.377,2,  34.3784,2,    186.8,2,    189.4,2,  -999.00,9,    32.37,2, -999.000,9,     2.17,2, -999.000,9, -999.000,9, -999.000,9,   -999.0,9,   -999.0,9
           NA,     P15,     42,   1,      11,   12016,  2,20090217,1104, -33.4930, -169.9816,  5400,   1365.8,     3.32,   34.466,2,  34.4656,2,    169.9,2,    172.4,2,  -999.00,9,    34.26,2, -999.000,9,     2.34,2, -999.000,9, -999.000,9, -999.000,9,   -999.0,9,   -999.0,9
           NA,     P15,     42,   1,      10,   12019,  2,20090217,1104, -33.4930, -169.9816,  5400,   1565.8,     2.82,   34.540,2,  34.5406,2,    159.2,2,    161.7,2,  -999.00,9,    35.10,2, -999.000,9,     2.41,2, -999.000,9, -999.000,9, -999.000,9,   -999.0,9,   -999.0,9
           NA,     P15,     42,   1,       9,   12031,  2,20090217,1104, -33.4930, -169.9816,  5400,   1782.0,     2.49,   34.595,2,  34.5960,2,    152.0,2,    154.0,2,  -999.00,9,    35.61,2, -999.000,9,     2.48,2, -999.000,9, -999.000,9, -999.000,9,   -999.0,9,   -999.0,9
           NA,     P15,     42,   1,       8,   12021,  2,20090217,1104, -33.4930, -169.9816,  5400,   2131.2,     2.22,   34.631,2,  34.6311,2,    146.8,2,    149.3,2,  -999.00,9,    36.06,2, -999.000,9,     2.53,2, -999.000,9, -999.000,9, -999.000,9,   -999.0,9,   -999.0,9
           NA,     P15,     42,   1,       7,   12032,  2,20090217,1104, -33.4930, -169.9816,  5400,   2665.0,     1.96,   34.655,2,  34.6543,2,    146.2,2,    147.5,2,  -999.00,9,    36.31,2, -999.000,9,     2.55,2, -999.000,9, -999.000,9, -999.000,9,   -999.0,9,   -999.0,9
           NA,     P15,     42,   1,       6,   12007,  2,20090217,1104, -33.4930, -169.9816,  5400,   3164.7,     1.76,   34.682,2,  34.6814,2,    159.9,2,    160.9,2,  -999.00,9,    35.16,2, -999.000,9,     2.45,2, -999.000,9, -999.000,9, -999.000,9,   -999.0,9,   -999.0,9
           NA,     P15,     42,   1,       5,   12055,  2,20090217,1104, -33.4930, -169.9816,  5400,   3664.9,     1.51,   34.716,2,  34.7164,2,    189.9,2,    190.7,2,  -999.00,9,    32.56,2, -999.000,9,     2.23,2, -999.000,9, -999.000,9, -999.000,9,   -999.0,9,   -999.0,9
           NA,     P15,     42,   1,       4,   12009,  2,20090217,1104, -33.4930, -169.9816,  5400,   4165.2,     1.20,   34.716,2,  34.7172,2,    202.3,2,    202.8,2,  -999.00,9,    32.16,2, -999.000,9,     2.20,2, -999.000,9, -999.000,9, -999.000,9,   -999.0,9,   -999.0,9
           NA,     P15,     42,   1,       3,   12033,  2,20090217,1104, -33.4930, -169.9816,  5400,   4665.9,     1.04,   34.709,2,  34.7099,2,    206.9,2,    206.9,2,  -999.00,9,    32.34,2, -999.000,9,     2.21,2, -999.000,9, -999.000,9, -999.000,9,   -999.0,9,   -999.0,9
           NA,     P15,     42,   1,       2,   12006,  2,20090217,1104, -33.4930, -169.9816,  5400,   5166.6,     1.05,   34.707,2,  34.7162,2,    207.9,2,    200.1,2,  -999.00,9,    32.09,2, -999.000,9,     2.19,2, -999.000,9, -999.000,9, -999.000,9,   -999.0,9,   -999.0,9
           NA,     P15,     42,   1,       1,   12045,  2,20090217,1104, -33.4930, -169.9816,  5400,   5533.0,     1.10,   34.707,2,  34.7073,2,    208.3,2,    206.8,2,  -999.00,9,    32.33,2, -999.000,9,     2.22,2, -999.000,9, -999.000,9, -999.000,9,   -999.0,9,   -999.0,9