BOTTLE,20214902JOAExport
EXPOCODE,SECT_ID,STNNBR,CASTNO,SAMPNO,BTLNBR,BTLNBR_FLAG_W,DATE,TIME,LATITUDE,LONGITUDE,DEPTH,CTDPRS,CTDTMP,CTDSAL,CTDSAL_FLAG_W,SALNTY,SALNTY_FLAG_W,CTDOXY,CTDOXY_FLAG_W,OXYGEN,OXYGEN_FLAG_W,SILCAT,SILCAT_FLAG_W,NITRAT,NITRAT_FLAG_W,NITRIT,NITRIT_FLAG_W,PHSPHT,PHSPHT_FLAG_W,CFC-11,CFC-11_FLAG_W,CFC-12,CFC-12_FLAG_W,SF6,SF6_FLAG_W,TCARBN,TCARBN_FLAG_W,ALKALI,ALKALI_FLAG_W
,,,,,,,,,,,,DB,ITS-90,PSS-78,,PSS-78,,UMOL/KG,,UMOL/KG,,UMOL/KG,,UMOL/KG,,UMOL/KG,,UMOL/KG,,PMOL/KG,,PMOL/KG,,FMOL/KG,,UMOL/KG,,UMOL/KG
           NA,     P15,     46,   1,      24,   12015,  2,20090218,1557, -31.4818, -169.9937,  5563,      3.5,    23.87,   35.516,2,  35.5172,2,    213.6,2,    212.8,2,     0.83,2,     0.00,2, -999.000,9,     0.02,2, -999.000,9, -999.000,9, -999.000,9,   2026.0,2,   2322.2,2
           NA,     P15,     46,   1,      23,   12046,  2,20090218,1557, -31.4818, -169.9937,  5563,     22.0,    23.87,   35.515,2,  35.5150,2,    212.9,2,    213.5,2,     0.84,2,     0.00,2, -999.000,9,     0.01,2, -999.000,9, -999.000,9, -999.000,9,   -999.0,9,   -999.0,9
           NA,     P15,     46,   1,      22,   12020,  2,20090218,1557, -31.4818, -169.9937,  5563,     49.5,    19.23,   35.515,2,  35.5257,2,    252.6,2,    252.6,2,     1.00,2,     0.00,2, -999.000,9,     0.06,2, -999.000,9, -999.000,9, -999.000,9,   2039.8,2,   2325.8,2
           NA,     P15,     46,   1,      21,   12003,  2,20090218,1557, -31.4818, -169.9937,  5563,     70.3,    17.70,   35.549,2,  35.5464,2,    242.5,2,    243.1,2,     1.25,2,     0.00,2, -999.000,9,     0.08,2, -999.000,9, -999.000,9, -999.000,9,   -999.0,9,   -999.0,9
           NA,     P15,     46,   1,      20,   12051,  2,20090218,1557, -31.4818, -169.9937,  5563,     92.5,    17.06,   35.535,2,  35.5324,2,    230.7,2,    230.5,2,     1.18,2,     0.04,2, -999.000,9,     0.13,2, -999.000,9, -999.000,9, -999.000,9,   2064.2,2,   2326.3,2
           NA,     P15,     46,   1,      19,   12010,  2,20090218,1557, -31.4818, -169.9937,  5563,    168.2,    14.99,   35.344,2,  35.3407,2,    223.2,2,    225.4,2,     1.88,2,     3.65,2, -999.000,9,     0.36,2, -999.000,9, -999.000,9, -999.000,9,   2088.4,2,   2317.5,2
           NA,     P15,     46,   1,      18,   12018,  2,20090218,1557, -31.4818, -169.9937,  5563,    228.9,    13.77,   35.226,2,  35.2217,2,    219.7,2,    221.1,2,     2.31,2,     6.42,2, -999.000,9,     0.52,2, -999.000,9, -999.000,9, -999.000,9,   -999.0,9,   -999.0,9
           NA,     P15,     46,   1,      17,   12024,  2,20090218,1557, -31.4818, -169.9937,  5563,    317.0,    11.87,   34.979,2,  34.9758,2,    205.5,2,    206.2,2,  -999.00,9,    12.68,2, -999.000,9,     0.90,2, -999.000,9, -999.000,9, -999.000,9,   -999.0,9,   -999.0,9
           NA,     P15,     46,   1,      16,   12001,  2,20090218,1557, -31.4818, -169.9937,  5563,    386.6,    10.20,   34.747,2,  34.7449,2,    206.1,2,    206.0,2,     4.75,2,    16.45,2, -999.000,9,     1.11,2, -999.000,9, -999.000,9, -999.000,9,   -999.0,9,   -999.0,9
           NA,     P15,     46,   1,      15,   12025,  2,20090218,1557, -31.4818, -169.9937,  5563,    450.4,     8.87,   34.586,2,  34.5869,2,    215.4,2,    215.9,2,     5.68,2,    18.78,2, -999.000,9,     1.25,2, -999.000,9, -999.000,9, -999.000,9,   -999.0,9,   -999.0,9
           NA,     P15,     46,   1,      14,   12041,  2,20090218,1557, -31.4818, -169.9937,  5563,    546.9,     7.80,   34.471,2,  34.4726,2,    225.0,2,    226.6,2,     6.61,2,    20.87,2, -999.000,9,     1.39,2, -999.000,9, -999.000,9, -999.000,9,   -999.0,9,   -999.0,9
           NA,     P15,     46,   1,      13,   12012,  2,20090218,1557, -31.4818, -169.9937,  5563,    681.7,     6.89,   34.392,2,  34.3933,2,    228.3,2,    230.4,2,     8.82,2,    23.32,2, -999.000,9,     1.53,2, -999.000,9, -999.000,9, -999.000,9,   -999.0,9,   -999.0,9
           NA,     P15,     46,   1,      12,   12022,  2,20090218,1557, -31.4818, -169.9937,  5563,    814.6,     6.15,   34.346,2,  34.3464,2,    222.0,2,    225.3,2,    12.96,2,    25.49,2, -999.000,9,     1.68,2, -999.000,9, -999.000,9, -999.000,9,   -999.0,9,   -999.0,9
           NA,     P15,     46,   1,      11,   12016,  2,20090218,1557, -31.4818, -169.9937,  5563,   1056.1,     4.57,   34.342,2,  34.3421,2,    193.6,2,    196.7,2,    31.45,2,    31.06,2, -999.000,9,     2.06,2, -999.000,9, -999.000,9, -999.000,9,   -999.0,9,   -999.0,9
           NA,     P15,     46,   1,      10,   12019,  2,20090218,1557, -31.4818, -169.9937,  5563,   1296.9,     3.47,   34.427,2,  34.4277,2,    173.1,2,    176.8,2,    55.39,2,    33.60,2, -999.000,9,     2.26,2, -999.000,9, -999.000,9, -999.000,9,   -999.0,9,   -999.0,9
           NA,     P15,     46,   1,       9,   12031,  2,20090218,1557, -31.4818, -169.9937,  5563,   1565.6,     2.78,   34.542,2,  34.5439,2,    158.0,2,    161.8,2,    81.87,2,    34.73,2, -999.000,9,     2.36,2, -999.000,9, -999.000,9, -999.000,9,   -999.0,9,   -999.0,9
           NA,     P15,     46,   1,       8,   12021,  2,20090218,1557, -31.4818, -169.9937,  5563,   1830.5,     2.44,   34.604,2,  34.6056,2,    149.9,2,    152.8,2,   102.33,2,    35.44,2, -999.000,9,     2.41,2, -999.000,9, -999.000,9, -999.000,9,   -999.0,9,   -999.0,9
           NA,     P15,     46,   1,       7,   12032,  2,20090218,1557, -31.4818, -169.9937,  5563,   2331.1,     2.09,   34.643,2,  34.6431,2,    144.8,2,    147.1,2,   120.41,2,    35.86,2, -999.000,9,     2.47,2, -999.000,9, -999.000,9, -999.000,9,   -999.0,9,   -999.0,9
           NA,     P15,     46,   1,       6,   12007,  2,20090218,1557, -31.4818, -169.9937,  5563,   2832.7,     1.86,   34.664,2,  34.6624,2,    147.9,2,    149.0,2,   128.10,2,    35.78,2, -999.000,9,     2.47,2, -999.000,9, -999.000,9, -999.000,9,   -999.0,9,   -999.0,9
           NA,     P15,     46,   1,       5,   12002,  2,20090218,1557, -31.4818, -169.9937,  5563,   3332.1,     1.67,   34.697,2,  34.6979,2,    171.2,2,    172.1,2,   119.20,2,    33.92,2, -999.000,9,     2.32,2, -999.000,9, -999.000,9, -999.000,9,   -999.0,9,   -999.0,9
           NA,     P15,     46,   1,       4,   12009,  2,20090218,1557, -31.4818, -169.9937,  5563,   3829.2,     1.34,   34.718,2,  34.7172,2,    196.8,2,    198.3,2,   111.20,2,    31.91,2, -999.000,9,     2.17,2, -999.000,9, -999.000,9, -999.000,9,   -999.0,9,   -999.0,9
           NA,     P15,     46,   1,       3,   12033,  2,20090218,1557, -31.4818, -169.9937,  5563,   4330.2,     1.08,   34.712,2,  34.7105,2,    205.0,2,   -999.0,9,   118.06,2,    31.89,2, -999.000,9,     2.17,2, -999.000,9, -999.000,9, -999.000,9,   -999.0,9,   -999.0,9
           NA,     P15,     46,   1,       2,   12006,  2,20090218,1557, -31.4818, -169.9937,  5563,   4914.6,     1.03,   34.708,2,  34.7072,2,    207.9,2,    206.7,2,   120.43,2,    32.24,2, -999.000,9,     2.18,2, -999.000,9, -999.000,9, -999.000,9,   -999.0,9,   -999.0,9
           NA,     P15,     46,   1,       1,   12045,  2,20090218,1557, -31.4818, -169.9937,  5563,   5691.6,     1.12,   34.707,2,  34.7072,2,    209.0,2,    207.4,2,   122.04,2,    32.17,2, -999.000,9,     2.18,2, -999.000,9, -999.000,9, -999.000,9,   -999.0,9,   -999.0,9
           NA,     P15,     47,   1,      24,   12015,  2,20090218,2256, -31.0067, -169.9814,  5588,      4.6,    24.12,   35.431,2,  35.4310,2,    212.6,2,    211.3,2,     0.98,2,     0.00,2, -999.000,9,     0.03,2, -999.000,9, -999.000,9, -999.000,9,   2022.6,6,   2317.4,6
           NA,     P15,     47,   1,      23,   12046,  2,20090218,2256, -31.0067, -169.9814,  5588,     27.4,    24.06,   35.429,2,  35.4310,2,    212.7,2,    212.0,2,     1.00,2,     0.00,2, -999.000,9,     0.03,2, -999.000,9, -999.000,9, -999.000,9,   2024.0,2,   2320.1,2
           NA,     P15,     47,   1,      22,   12020,  2,20090218,2256, -31.0067, -169.9814,  5588,     48.2,    19.74,   35.527,2,  35.5210,2,    253.5,2,    251.2,2,     1.14,2,     0.00,2, -999.000,9,     0.06,2,    2.601,2,    1.497,2, -999.000,9,   2040.4,2,   2325.7,2
           NA,     P15,     47,   1,      21,   12003,  2,20090218,2256, -31.0067, -169.9814,  5588,     77.7,    16.30,   35.349,2,  35.3518,2,    257.9,2,    258.7,2,     1.36,2,     0.00,2, -999.000,9,     0.12,2, -999.000,9, -999.000,9, -999.000,9,   2053.7,2,   2318.4,2
           NA,     P15,     47,   1,      20,   12051,  2,20090218,2256, -31.0067, -169.9814,  5588,    132.2,    14.43,   35.304,2,  35.3013,2,    213.4,2,    212.5,2,     2.53,2,     6.56,2, -999.000,9,     0.51,2,    2.893,6,    1.616,6, -999.000,9,   2099.1,2,   2315.5,2
           NA,     P15,     47,   1,      19,   12010,  2,20090218,2256, -31.0067, -169.9814,  5588,    192.8,    13.38,   35.184,2,  35.1801,2,    205.2,2,    204.6,2,     3.37,2,     9.65,2, -999.000,9,     0.70,2, -999.000,9, -999.000,9, -999.000,9,   2112.2,2,   2307.7,2
           NA,     P15,     47,   1,      18,   12018,  2,20090218,2256, -31.0067, -169.9814,  5588,    265.3,    12.16,   35.043,2,  35.0411,2,    209.8,2,    209.9,2,     3.99,2,    11.71,2, -999.000,9,     0.83,2,    3.080,2,    1.670,2, -999.000,9,   2120.6,2,   2301.0,2
           NA,     P15,     47,   1,      17,   12024,  2,20090218,2256, -31.0067, -169.9814,  5588,    342.9,    10.46,   34.791,2,  34.7887,2,    206.3,2,    206.5,2,     5.17,2,    15.78,2, -999.000,9,     1.08,2, -999.000,9, -999.000,9, -999.000,9,   2131.1,2,   2289.7,2
           NA,     P15,     47,   1,      16,   12001,  2,20090218,2256, -31.0067, -169.9814,  5588,    418.5,     9.22,   34.641,2,  34.6405,2,    213.1,2,    213.3,2,     6.12,2,    18.29,2, -999.000,9,     1.24,2,    3.334,2,    1.699,2, -999.000,9,   2138.4,2,   2284.0,6
           NA,     P15,     47,   1,      15,   12025,  2,20090218,2256, -31.0067, -169.9814,  5588,    492.4,     8.36,   34.541,2,  34.5451,2,    216.2,2,    216.7,2,     7.10,2,    20.19,2, -999.000,9,     1.36,2, -999.000,9, -999.000,9, -999.000,9,   2142.8,2,   2284.2,2
           NA,     P15,     47,   1,      14,   12041,  2,20090218,2256, -31.0067, -169.9814,  5588,    597.2,     7.32,   34.431,2,  34.4300,2,    226.0,2,    227.6,2,     8.13,2,    22.16,2, -999.000,9,     1.49,2,    3.098,6,    1.490,6, -999.000,9,   2142.4,2,   2279.9,2
           NA,     P15,     47,   1,      13,   12012,  2,20090218,2256, -31.0067, -169.9814,  5588,    722.0,     6.56,   34.372,2,  34.3711,2,    225.3,2,    227.6,2,    10.96,2,    24.17,2, -999.000,9,     1.61,2, -999.000,9, -999.000,9, -999.000,9,   2147.4,2,   2279.5,2
           NA,     P15,     47,   1,      12,   12022,  2,20090218,2256, -31.0067, -169.9814,  5588,    897.5,     5.46,   34.344,2,  34.3449,2,    206.0,2,    208.7,2,    21.55,2,    28.16,2, -999.000,9,     1.89,2,    0.969,2,    0.476,2, -999.000,9,   2171.9,6,   2286.9,6
           NA,     P15,     47,   1,      11,   12016,  2,20090218,2256, -31.0067, -169.9814,  5588,   1147.4,     3.98,   34.375,2,  34.3760,2,    183.8,2,    186.8,2,    43.37,2,    32.37,2, -999.000,9,     2.19,2, -999.000,9, -999.000,9, -999.000,9,   2210.3,2,   2306.7,2
           NA,     P15,     47,   1,      10,   12019,  2,20090218,2256, -31.0067, -169.9814,  5588,   1396.6,     3.08,   34.480,2,  34.4846,2,    165.7,2,    169.5,2,    69.10,2,    34.34,2, -999.000,9,     2.35,2,    0.043,2,    0.023,2, -999.000,9,   2246.2,2,   2333.7,2
           NA,     P15,     47,   1,       9,   12031,  2,20090218,2256, -31.0067, -169.9814,  5588,   1697.7,     2.58,   34.583,2,  34.5816,2,    152.5,2,    155.7,2,    96.03,2,    35.14,2, -999.000,9,     2.42,2, -999.000,9, -999.000,9, -999.000,9,   2278.9,2,   2363.4,2
           NA,     P15,     47,   1,       8,   12021,  2,20090218,2256, -31.0067, -169.9814,  5588,   1997.1,     2.28,   34.624,2,  34.6232,2,    146.1,2,    148.2,2,   113.57,2,    35.62,2, -999.000,9,     2.47,2, -999.000,4, -999.000,4, -999.000,9,   2299.1,2,   2383.6,2
           NA,     P15,     47,   1,       7,   12032,  2,20090218,2256, -31.0067, -169.9814,  5588,   2496.8,     2.01,   34.651,2,  34.6498,2,    144.9,2,    147.1,2,   125.79,2,    35.83,2, -999.000,9,     2.50,2, -999.000,9, -999.000,9, -999.000,9,   2310.7,2,   2397.6,2
           NA,     P15,     47,   1,       6,   12007,  2,20090218,2256, -31.0067, -169.9814,  5588,   2997.0,     1.79,   34.673,2,  34.6722,2,    152.5,2,    154.0,2,   129.68,2,    35.36,2, -999.000,9,     2.47,2, -999.000,9, -999.000,9, -999.000,9,   2309.4,2,   2397.2,6
           NA,     P15,     47,   1,       5,   12002,  2,20090218,2256, -31.0067, -169.9814,  5588,   3495.9,     1.56,   34.711,2,  34.7103,2,    183.7,2,    184.9,2,   113.55,2,    32.73,2, -999.000,9,     2.25,2,    0.009,2,    0.005,2, -999.000,9,   2274.4,2,   2369.7,2
           NA,     P15,     47,   1,       3,   12033,  2,20090218,2256, -31.0067, -169.9814,  5588,   4497.2,     1.06,   34.711,2,  34.7164,2,    205.7,2,    206.1,2,   120.89,2,    31.91,2, -999.000,9,     2.20,2,    0.053,2,    0.024,2, -999.000,9,   2262.4,2,   2359.9,2
           NA,     P15,     47,   1,       2,   12006,  2,20090218,2256, -31.0067, -169.9814,  5588,   4998.6,     1.04,   34.708,2,  34.7079,2,    207.5,2,    206.0,2,   122.40,2,  -999.00,9, -999.000,9,     2.21,2, -999.000,9, -999.000,9, -999.000,9,   2262.9,2,   2361.8,2
           NA,     P15,     47,   1,       1,   12045,  2,20090218,2256, -31.0067, -169.9814,  5588,   5720.9,     1.12,   34.707,2,  34.7079,2,    208.2,2,   -999.0,9,   123.50,2,    32.14,2, -999.000,9,     2.20,2,    0.071,2,    0.032,2, -999.000,9,   2264.2,6,   2362.5,6