BOTTLE,20214902JOAExport
EXPOCODE,SECT_ID,STNNBR,CASTNO,SAMPNO,BTLNBR,BTLNBR_FLAG_W,DATE,TIME,LATITUDE,LONGITUDE,DEPTH,CTDPRS,CTDTMP,CTDSAL,CTDSAL_FLAG_W,SALNTY,SALNTY_FLAG_W,CTDOXY,CTDOXY_FLAG_W,OXYGEN,OXYGEN_FLAG_W,SILCAT,SILCAT_FLAG_W,NITRAT,NITRAT_FLAG_W,NITRIT,NITRIT_FLAG_W,PHSPHT,PHSPHT_FLAG_W,CFC-11,CFC-11_FLAG_W,CFC-12,CFC-12_FLAG_W,SF6,SF6_FLAG_W,TCARBN,TCARBN_FLAG_W,ALKALI,ALKALI_FLAG_W
,,,,,,,,,,,,DB,ITS-90,PSS-78,,PSS-78,,UMOL/KG,,UMOL/KG,,UMOL/KG,,UMOL/KG,,UMOL/KG,,UMOL/KG,,PMOL/KG,,PMOL/KG,,FMOL/KG,,UMOL/KG,,UMOL/KG
           NA,     P15,      4,   1,      24,   12015,  2,20090207,0906, -49.0084, -169.9429,  5169,      2.7,    10.88,   34.191,2,  34.1905,2,    279.6,2,    277.3,2,     0.74,2,    11.98,2, -999.000,9,     0.88,2,    3.588,2,    2.020,6, -999.000,9,   2075.3,6,   2277.0,6
           NA,     P15,      4,   1,      23,   12046,  2,20090207,0906, -49.0084, -169.9429,  5169,     22.4,    10.88,   34.190,2,  34.1900,2,    279.7,2,    276.6,2,     0.74,2,    11.94,2, -999.000,9,     0.89,2, -999.000,9, -999.000,9, -999.000,9,   2074.0,2,   2276.4,2
           NA,     P15,      4,   1,      22,   12020,  2,20090207,0906, -49.0084, -169.9429,  5169,     80.3,     8.41,   34.225,2,  34.2213,2,    288.2,2,    287.2,2,     2.54,2,    15.69,2, -999.000,9,     1.16,2,    3.997,2,    2.120,6, -999.000,9,   2103.5,2,   2283.5,2
           NA,     P15,      4,   1,      21,   12003,  2,20090207,0906, -49.0084, -169.9429,  5169,    131.0,     7.68,   34.288,2,  34.2888,2,    278.1,2,    276.4,2,     3.95,2,    18.39,2, -999.000,9,     1.26,2, -999.000,4,    2.284,2, -999.000,9,   2119.0,2,   2273.2,2
           NA,     P15,      4,   1,      20,   12051,  2,20090207,0906, -49.0084, -169.9429,  5169,    180.3,     7.44,   34.302,2,  34.3020,2,    277.4,2,    275.4,2,     4.35,2,    18.98,2, -999.000,9,     1.29,2, -999.000,9, -999.000,9, -999.000,9,   2122.1,2,   2278.0,2
           NA,     P15,      4,   1,      19,   12010,  2,20090207,0906, -49.0084, -169.9429,  5169,    221.3,     7.30,   34.303,2,  34.3033,2,    278.2,2,    276.4,2,     4.55,2,    19.00,2, -999.000,9,     1.30,2,    4.101,2,    2.330,2, -999.000,9,   2122.1,2,   2274.5,2
           NA,     P15,      4,   1,      18,   12018,  2,20090207,0906, -49.0084, -169.9429,  5169,    264.7,     7.22,   34.304,2,  34.3041,2,    278.1,2,    277.3,2,     4.72,2,    19.26,2, -999.000,9,     1.30,2, -999.000,9, -999.000,9, -999.000,9,   2122.9,2,   2277.0,2
           NA,     P15,      4,   1,      17,   12024,  2,20090207,0906, -49.0084, -169.9429,  5169,    364.0,     7.18,   34.347,2,  34.3531,2,    264.7,2,    263.8,2,     6.61,2,    20.44,2, -999.000,9,     1.38,2,    4.005,2,    2.220,2, -999.000,9,   2130.3,2,   2279.7,2
           NA,     P15,      4,   1,      16,   12001,  2,20090207,0906, -49.0084, -169.9429,  5169,    465.4,     6.74,   34.318,2,  34.3184,2,    261.6,2,    261.9,2,     8.06,2,    22.02,2, -999.000,9,     1.46,2, -999.000,9, -999.000,9, -999.000,9,   -999.0,3,   2276.7,6
           NA,     P15,      4,   1,      15,   12025,  2,20090207,0906, -49.0084, -169.9429,  5169,    548.2,     6.60,   34.347,2,  34.3427,2,    244.9,2,    245.0,2,    10.99,2,    23.51,2, -999.000,9,     1.55,2,    3.569,2,    1.937,2, -999.000,9,   2148.2,2,   2275.9,2
           NA,     P15,      4,   1,      14,   12041,  2,20090207,0906, -49.0084, -169.9429,  5169,    631.2,     6.13,   34.327,2,-999.0000,9,    235.4,2,    236.0,2,    14.40,2,    25.51,2, -999.000,9,     1.66,2, -999.000,9, -999.000,9, -999.000,9,   2156.9,2,   2274.5,2
           NA,     P15,      4,   1,      13,   12012,  2,20090207,0906, -49.0084, -169.9429,  5169,    830.7,     4.81,   34.287,2,  34.2888,2,    221.9,2,    222.9,2,    24.60,2,    29.28,2, -999.000,9,     1.91,2, -999.000,3, -999.000,3, -999.000,9,   2180.5,2,   2284.2,2
           NA,     P15,      4,   1,      12,   12022,  2,20090207,0906, -49.0084, -169.9429,  5169,   1029.8,     3.89,   34.326,2,  34.3276,2,    205.7,2,    206.6,2,    38.39,2,    31.99,2, -999.000,9,     2.10,2, -999.000,9, -999.000,9, -999.000,9,   2203.6,6,   2289.9,6
           NA,     P15,      4,   1,      11,   12016,  2,20090207,0906, -49.0084, -169.9429,  5169,   1230.7,     3.07,   34.369,2,  34.3711,2,    194.5,2,    195.8,2,    51.32,2,    33.81,2, -999.000,9,     2.24,2, -999.000,3,    0.867,2, -999.000,9,   2223.8,2,   2303.4,2
           NA,     P15,      4,   1,      10,   12019,  2,20090207,0906, -49.0084, -169.9429,  5169,   1415.6,     2.89,   34.481,2,  34.4823,2,    177.4,2,    179.0,2,    65.71,2,    34.59,2, -999.000,9,     2.30,2, -999.000,9, -999.000,9, -999.000,9,   2243.1,2,   2319.8,2
           NA,     P15,      4,   1,       9,   12031,  2,20090207,0906, -49.0084, -169.9429,  5169,   1563.8,     2.69,   34.542,2,  34.5407,2,    172.3,2,    172.6,2,    73.25,2,    34.42,2, -999.000,9,     2.31,2,    0.567,2,    0.267,2, -999.000,9,   2252.3,2,   2325.4,2
           NA,     P15,      4,   1,       8,   12021,  2,20090207,0906, -49.0084, -169.9429,  5169,   1746.9,     2.53,   34.598,2,  34.5995,2,    172.0,2,    173.1,2,    77.77,2,    33.63,2, -999.000,9,     2.22,2, -999.000,9, -999.000,9, -999.000,9,   2254.7,2,   2330.9,2
           NA,     P15,      4,   1,       7,   12032,  2,20090207,0906, -49.0084, -169.9429,  5169,   2331.8,     2.14,   34.711,2,  34.7129,2,    183.3,2,    184.1,2,    86.94,2,    32.28,2, -999.000,9,     2.14,2,    0.162,2,    0.068,2, -999.000,9,   2253.0,2,   2340.0,2
           NA,     P15,      4,   1,       6,   12007,  2,20090207,0906, -49.0084, -169.9429,  5169,   2833.1,     1.82,   34.737,2,  34.7372,2,    193.3,2,    196.5,2,    94.79,2,    31.34,2, -999.000,9,     2.09,2, -999.000,9, -999.000,9, -999.000,9,   2253.0,2,   2344.3,6
           NA,     P15,      4,   1,       5,   12055,  2,20090207,0906, -49.0084, -169.9429,  5169,   3331.9,     1.43,   34.729,2,  34.7302,2,    200.0,2,    200.6,2,   107.27,2,    31.87,2, -999.000,9,     2.13,2,    0.083,2,    0.040,2, -999.000,9,   2257.2,2,   2355.0,2
           NA,     P15,      4,   1,       4,   12009,  2,20090207,0906, -49.0084, -169.9429,  5169,   3831.3,     1.14,   34.716,2,  34.7168,2,    205.7,2,    206.2,2,   116.00,2,    32.02,2, -999.000,9,     2.16,2, -999.000,9, -999.000,9, -999.000,9,   2260.2,2,   -999.0,3
           NA,     P15,      4,   1,       3,   12033,  2,20090207,0906, -49.0084, -169.9429,  5169,   4332.6,     0.98,   34.708,2,  34.7109,2,    209.8,2,    208.9,2,   122.19,2,    32.53,2, -999.000,9,     2.18,2,    0.180,2,    0.078,2, -999.000,9,   2260.9,2,   2361.0,2
           NA,     P15,      4,   1,       2,   12006,  2,20090207,0906, -49.0084, -169.9429,  5169,   4914.8,     0.96,   34.705,2,  34.7062,2,    211.7,2,    209.8,2,   124.63,2,    32.55,2, -999.000,9,     2.20,2, -999.000,9, -999.000,9, -999.000,9,   2261.0,2,   2363.8,2
           NA,     P15,      4,   1,       1,   12045,  2,20090207,0906, -49.0084, -169.9429,  5169,   5282.5,     1.00,   34.705,2,  34.7049,2,    212.1,2,    209.8,2,   124.94,2,    32.60,2, -999.000,9,     2.19,2,    0.230,6,    0.105,6, -999.000,9,   2263.0,6,   2356.2,6
           NA,     P15,      5,   1,      24,   12015,  2,20090207,1621, -48.4910, -169.9859,  5284,     18.5,    12.12,   34.262,2,-999.0000,9,    271.4,2,    268.8,2,     0.81,2,     9.84,2, -999.000,9,     0.68,2, -999.000,9, -999.000,9, -999.000,9,   2066.0,2,   2271.7,2
           NA,     P15,      5,   1,      23,   12046,  2,20090207,1621, -48.4910, -169.9859,  5284,     70.2,    10.54,   34.710,2,-999.0000,9,    258.2,2,    262.3,2,     1.72,2,     9.40,2, -999.000,9,     0.73,2, -999.000,9, -999.000,9, -999.000,9,   -999.0,9,   -999.0,9
           NA,     P15,      5,   1,      22,   12020,  2,20090207,1621, -48.4910, -169.9859,  5284,     99.1,    10.55,   34.754,2,-999.0000,9,    255.8,2,    254.5,2,     2.54,2,    11.09,2, -999.000,9,     0.80,2, -999.000,9, -999.000,9, -999.000,9,   -999.0,9,   -999.0,9
           NA,     P15,      5,   1,      21,   12003,  2,20090207,1621, -48.4910, -169.9859,  5284,    154.2,     9.72,   34.650,2,-999.0000,9,    256.4,2,    255.7,2,     3.13,2,    13.14,2, -999.000,9,     0.94,2, -999.000,9, -999.000,9, -999.000,9,   -999.0,9,   -999.0,9
           NA,     P15,      5,   1,      20,   12051,  2,20090207,1621, -48.4910, -169.9859,  5284,    199.5,     9.88,   34.721,2,-999.0000,9,    250.9,2,    250.2,2,     3.51,2,    13.15,2, -999.000,9,     0.92,2, -999.000,9, -999.000,9, -999.000,9,   -999.0,9,   -999.0,9
           NA,     P15,      5,   1,      19,   12010,  2,20090207,1621, -48.4910, -169.9859,  5284,    248.1,     9.55,   34.693,2,-999.0000,9,    240.5,2,    238.8,2,     4.60,2,    15.51,2, -999.000,9,     1.07,2, -999.000,9, -999.000,9, -999.000,9,   -999.0,9,   -999.0,9
           NA,     P15,      5,   1,      18,   12018,  2,20090207,1621, -48.4910, -169.9859,  5284,    298.1,     8.94,   34.599,2,-999.0000,9,    240.8,2,    238.6,2,     5.21,2,    17.15,2, -999.000,9,     1.17,2, -999.000,9, -999.000,9, -999.000,9,   -999.0,9,   -999.0,9
           NA,     P15,      5,   1,      17,   12024,  2,20090207,1621, -48.4910, -169.9859,  5284,    419.0,     8.04,   34.490,2,-999.0000,9,    238.8,2,    236.9,2,     6.45,2,    19.54,2, -999.000,9,     1.33,2, -999.000,9, -999.000,9, -999.000,9,   -999.0,9,   -999.0,9
           NA,     P15,      5,   1,      16,   12001,  2,20090207,1621, -48.4910, -169.9859,  5284,    502.1,     7.67,   34.456,2,-999.0000,9,    238.6,2,    237.0,2,     7.53,2,    20.64,2, -999.000,9,     1.41,2, -999.000,9, -999.000,9, -999.000,9,   -999.0,9,   -999.0,9
           NA,     P15,      5,   1,      15,   12025,  2,20090207,1621, -48.4910, -169.9859,  5284,    597.4,     6.99,   34.374,2,-999.0000,9,    248.3,2,    248.4,2,     9.34,2,    21.79,2, -999.000,9,     1.49,2, -999.000,9, -999.000,9, -999.000,9,   -999.0,9,   -999.0,9
           NA,     P15,      5,   1,      14,   12041,  2,20090207,1621, -48.4910, -169.9859,  5284,    715.1,     6.20,   34.323,2,-999.0000,9,    236.6,2,    243.9,2,    12.37,2,    23.81,2, -999.000,9,     1.61,2, -999.000,9, -999.000,9, -999.000,9,   -999.0,9,   -999.0,9
           NA,     P15,      5,   1,      13,   12012,  2,20090207,1621, -48.4910, -169.9859,  5284,    898.0,     5.14,   34.296,2,-999.0000,9,    223.5,2,    224.7,2,    21.74,2,    27.78,2, -999.000,9,     1.88,2, -999.000,9, -999.000,9, -999.000,9,   -999.0,9,   -999.0,9
           NA,     P15,      5,   1,      12,   12022,  2,20090207,1621, -48.4910, -169.9859,  5284,   1097.0,     4.03,   34.308,2,-999.0000,9,    211.1,2,    213.3,2,    34.50,2,    30.74,2, -999.000,9,     2.08,2, -999.000,9, -999.000,9, -999.000,9,   -999.0,9,   -999.0,9
           NA,     P15,      5,   1,      11,   12016,  2,20090207,1621, -48.4910, -169.9859,  5284,   1304.6,     3.67,   34.411,2,-999.0000,9,    185.7,2,    185.7,2,    52.67,2,    32.42,2, -999.000,9,     2.21,2, -999.000,9, -999.000,9, -999.000,9,   -999.0,9,   -999.0,9
           NA,     P15,      5,   1,       9,   12031,  2,20090207,1621, -48.4910, -169.9859,  5284,   1697.7,     2.65,   34.545,2,-999.0000,9,    173.7,2,    175.6,2,    70.65,2,    33.89,2, -999.000,9,     2.31,2, -999.000,9, -999.000,9, -999.000,9,   -999.0,9,   -999.0,9
           NA,     P15,      5,   1,       8,   12021,  2,20090207,1621, -48.4910, -169.9859,  5284,   1997.7,     2.53,   34.613,2,-999.0000,9,    174.3,2,    175.4,2,    74.83,2,    33.18,2, -999.000,9,     2.27,2, -999.000,9, -999.000,9, -999.000,9,   -999.0,9,   -999.0,9
           NA,     P15,      5,   1,       7,   12032,  2,20090207,1621, -48.4910, -169.9859,  5284,   2502.6,     2.25,   34.700,2,-999.0000,9,    181.8,2,    182.7,2,    83.54,2,    31.74,2, -999.000,9,     2.17,2, -999.000,9, -999.000,9, -999.000,9,   -999.0,9,   -999.0,9
           NA,     P15,      5,   1,       6,   12007,  2,20090207,1621, -48.4910, -169.9859,  5284,   2999.4,     1.88,   34.735,2,-999.0000,9,    192.9,2,    194.3,2,    93.00,2,    30.92,2, -999.000,9,     2.12,2, -999.000,9, -999.000,9, -999.000,9,   -999.0,9,   -999.0,9
           NA,     P15,      5,   1,       5,   12055,  2,20090207,1621, -48.4910, -169.9859,  5284,   3496.5,     1.47,   34.730,2,-999.0000,9,    199.8,2,    200.3,2,   105.33,2,    31.25,2, -999.000,9,     2.15,2, -999.000,9, -999.000,9, -999.000,9,   -999.0,9,   -999.0,9
           NA,     P15,      5,   1,       4,   12009,  2,20090207,1621, -48.4910, -169.9859,  5284,   3997.3,     1.17,   34.717,2,-999.0000,9,    205.5,2,    205.7,2,   114.70,2,    31.66,2, -999.000,9,     2.18,2, -999.000,9, -999.000,9, -999.000,9,   -999.0,9,   -999.0,9
           NA,     P15,      5,   1,       3,   12033,  2,20090207,1621, -48.4910, -169.9859,  5284,   4497.9,     1.00,   34.708,2,-999.0000,9,    209.7,2,    209.7,2,   121.00,2,    31.91,2, -999.000,9,     2.20,2, -999.000,9, -999.000,9, -999.000,9,   -999.0,9,   -999.0,9
           NA,     P15,      5,   1,       1,   12045,  2,20090207,1621, -48.4910, -169.9859,  5284,   5417.9,     1.02,   34.704,2,-999.0000,9,    212.0,2,    209.7,2,   124.03,2,    32.05,2, -999.000,9,     2.22,2, -999.000,9, -999.000,9, -999.000,9,   -999.0,9,   -999.0,9
           NA,     P15,      6,   1,      24,   12015,  2,20090207,2304, -47.9840, -170.0248,  5292,      2.3,    13.11,   34.314,2,-999.0000,9,    264.9,2,    263.1,2,     0.78,2,     8.46,2, -999.000,9,     0.65,2,    2.960,2,    1.819,2, -999.000,9,   2060.7,2,   2288.7,6
           NA,     P15,      6,   1,      23,   12046,  2,20090207,2304, -47.9840, -170.0248,  5292,     64.0,    11.49,   34.754,2,-999.0000,9,    259.9,2,    258.5,2,     1.81,2,     8.23,2, -999.000,9,     0.69,2, -999.000,9, -999.000,9, -999.000,9,   2095.8,2,   2294.7,2
           NA,     P15,      6,   1,      22,   12020,  2,20090207,2304, -47.9840, -170.0248,  5292,    113.6,    10.75,   34.795,2,-999.0000,9,    251.0,2,    250.7,2,     2.72,2,    10.88,2, -999.000,9,     0.80,2, -999.000,9, -999.000,9, -999.000,9,   2109.8,2,   2295.2,2
           NA,     P15,      6,   1,      21,   12003,  2,20090207,2304, -47.9840, -170.0248,  5292,    162.9,    10.35,   34.762,2,-999.0000,9,    252.3,2,    252.5,2,     2.40,2,    10.79,2, -999.000,9,     0.67,2,    3.371,2,    1.957,2, -999.000,9,   2100.4,2,   2297.6,2
           NA,     P15,      6,   1,      20,   12051,  2,20090207,2304, -47.9840, -170.0248,  5292,    214.5,    10.09,   34.740,2,-999.0000,9,    252.4,2,    250.8,2,     3.23,2,    12.29,2, -999.000,9,     0.88,2, -999.000,9, -999.000,9, -999.000,9,   2113.8,2,   2295.4,2
           NA,     P15,      6,   1,      19,   12010,  2,20090207,2304, -47.9840, -170.0248,  5292,    262.8,     9.80,   34.708,2,-999.0000,9,    243.8,2,    242.2,2,     4.05,2,    14.25,2, -999.000,9,     1.00,2, -999.000,9, -999.000,9, -999.000,9,   2123.4,2,   2290.9,2
           NA,     P15,      6,   1,      18,   12018,  2,20090207,2304, -47.9840, -170.0248,  5292,    322.5,     9.35,   34.653,2,-999.0000,9,    242.1,2,    240.6,2,     4.71,2,    15.87,2, -999.000,9,     1.09,2, -999.000,9, -999.000,9, -999.000,9,   2127.0,2,   2289.4,2
           NA,     P15,      6,   1,      17,   12024,  2,20090207,2304, -47.9840, -170.0248,  5292,    430.8,     8.40,   34.533,2,-999.0000,9,    237.7,2,    236.6,2,     6.09,2,    18.90,2, -999.000,9,     1.29,2,    3.557,2,    1.984,2, -999.000,9,   2137.3,2,   2283.8,2
           NA,     P15,      6,   1,      16,   12001,  2,20090207,2304, -47.9840, -170.0248,  5292,    530.5,     7.66,   34.442,2,-999.0000,9,    244.9,2,    243.1,2,     7.12,2,    20.50,2, -999.000,9,     1.39,2, -999.000,9, -999.000,9, -999.000,9,   2139.4,2,   2288.8,6
           NA,     P15,      6,   1,      15,   12025,  2,20090207,2304, -47.9840, -170.0248,  5292,    630.3,     7.44,   34.442,2,-999.0000,9,    234.3,2,    232.5,2,     8.75,2,    21.75,2, -999.000,9,     1.36,2, -999.000,9, -999.000,9, -999.000,9,   2145.5,2,   2291.9,2
           NA,     P15,      6,   1,      14,   12041,  2,20090207,2304, -47.9840, -170.0248,  5292,    747.2,     6.79,   34.378,2,-999.0000,9,    239.0,2,    238.4,2,    11.59,2,    23.04,2, -999.000,9,     1.56,2, -999.000,9, -999.000,9, -999.000,9,   2150.7,2,   2288.5,2
           NA,     P15,      6,   1,      13,   12012,  2,20090207,2304, -47.9840, -170.0248,  5292,    963.9,     5.61,   34.346,2,-999.0000,9,    215.5,2,    215.5,2,    21.16,2,    27.21,2, -999.000,9,     1.84,2,    2.170,2,    1.176,2, -999.000,9,   2174.7,2,   2296.6,2
           NA,     P15,      6,   1,      12,   12022,  2,20090207,2304, -47.9840, -170.0248,  5292,   1164.7,     4.32,   34.299,2,-999.0000,9,    214.5,2,    215.4,2,    30.83,2,    30.02,2, -999.000,9,     2.03,2, -999.000,9, -999.000,9, -999.000,9,   2193.1,6,   2295.4,6
           NA,     P15,      6,   1,      11,   12016,  2,20090207,2304, -47.9840, -170.0248,  5292,   1364.6,     3.51,   34.356,2,-999.0000,9,    197.3,2,    199.0,2,    45.85,2,    32.31,2, -999.000,9,     2.21,2, -999.000,9, -999.000,9, -999.000,9,   2217.1,2,   2307.1,2
           NA,     P15,      6,   1,      10,   12019,  2,20090207,2304, -47.9840, -170.0248,  5292,   1564.9,     3.06,   34.437,2,-999.0000,9,    182.2,2,    183.9,2,    59.55,2,    33.60,2, -999.000,9,     2.30,2, -999.000,9, -999.000,9, -999.000,9,   2234.8,2,   2322.8,2
           NA,     P15,      6,   1,       9,   12031,  2,20090207,2304, -47.9840, -170.0248,  5292,   1780.5,     2.71,   34.524,2,-999.0000,9,    173.4,2,    174.8,2,    70.16,2,    33.91,2, -999.000,9,     2.33,2,    0.712,2,    0.340,2, -999.000,9,   2249.5,2,   2338.0,2
           NA,     P15,      6,   1,       8,   12021,  2,20090207,2304, -47.9840, -170.0248,  5292,   2129.1,     2.43,   34.642,2,-999.0000,9,    173.3,2,    174.3,2,    80.41,2,    33.05,2, -999.000,9,     2.26,2, -999.000,9, -999.000,9, -999.000,9,   2255.5,2,   2341.9,2
           NA,     P15,      6,   1,       7,   12032,  2,20090207,2304, -47.9840, -170.0248,  5292,   2664.3,     2.09,   34.724,2,-999.0000,9,    186.5,2,    187.6,2,    87.40,2,    31.02,2, -999.000,9,     2.14,2, -999.000,9, -999.000,9, -999.000,9,   2253.2,2,   2350.7,2
           NA,     P15,      6,   1,       6,   12007,  2,20090207,2304, -47.9840, -170.0248,  5292,   3164.8,     1.71,   34.736,2,-999.0000,9,    195.2,2,    196.1,2,    98.07,2,    30.98,2, -999.000,9,     2.13,2, -999.000,9, -999.000,9, -999.000,9,   2253.6,2,   2354.5,6
           NA,     P15,      6,   1,       5,   12055,  2,20090207,2304, -47.9840, -170.0248,  5292,   3665.5,     1.35,   34.725,2,-999.0000,9,    201.5,2,    201.6,2,   109.52,2,    31.35,2, -999.000,9,     2.17,2,    0.089,2,    0.042,2, -999.000,9,   2258.7,2,   2359.8,2
           NA,     P15,      6,   1,       4,   12009,  2,20090207,2304, -47.9840, -170.0248,  5292,   4164.9,     1.08,   34.713,2,-999.0000,9,    207.0,2,    206.2,2,   118.15,2,    31.66,2, -999.000,9,     2.20,2, -999.000,9, -999.000,9, -999.000,9,   2259.9,2,   2362.6,2
           NA,     P15,      6,   1,       3,   12033,  2,20090207,2304, -47.9840, -170.0248,  5292,   4664.1,     0.98,   34.707,2,-999.0000,9,    210.4,2,    209.0,2,   122.76,2,    31.93,2, -999.000,9,     2.21,2, -999.000,9, -999.000,9, -999.000,9,   2262.5,2,   2363.2,2
           NA,     P15,      6,   1,       2,   12006,  2,20090207,2304, -47.9840, -170.0248,  5292,   5164.9,     1.00,   34.705,2,-999.0000,9,    211.8,2,    208.6,2,   123.17,2,    31.82,2, -999.000,9,     2.21,2, -999.000,9, -999.000,9, -999.000,9,   2263.1,2,   2361.6,2
           NA,     P15,      6,   1,       1,   12045,  2,20090207,2304, -47.9840, -170.0248,  5292,   5396.6,     1.02,   34.704,2,-999.0000,9,    213.4,2,    210.6,2,   124.32,2,    32.00,2, -999.000,9,     2.21,2,    0.208,6,    0.096,6, -999.000,9,   2262.5,6,   2367.6,6