BOTTLE,20214902JOAExport
EXPOCODE,SECT_ID,STNNBR,CASTNO,SAMPNO,BTLNBR,BTLNBR_FLAG_W,DATE,TIME,LATITUDE,LONGITUDE,DEPTH,CTDPRS,CTDTMP,CTDSAL,CTDSAL_FLAG_W,SALNTY,SALNTY_FLAG_W,CTDOXY,CTDOXY_FLAG_W,OXYGEN,OXYGEN_FLAG_W,SILCAT,SILCAT_FLAG_W,NITRAT,NITRAT_FLAG_W,NITRIT,NITRIT_FLAG_W,PHSPHT,PHSPHT_FLAG_W,CFC-11,CFC-11_FLAG_W,CFC-12,CFC-12_FLAG_W,SF6,SF6_FLAG_W,TCARBN,TCARBN_FLAG_W,ALKALI,ALKALI_FLAG_W
,,,,,,,,,,,,DB,ITS-90,PSS-78,,PSS-78,,UMOL/KG,,UMOL/KG,,UMOL/KG,,UMOL/KG,,UMOL/KG,,UMOL/KG,,PMOL/KG,,PMOL/KG,,FMOL/KG,,UMOL/KG,,UMOL/KG
           NA,     P15,     80,   1,      24,   12014,  2,20090304,1021, -14.6544, -170.0011,  3178,      2.2,    29.54,   35.782,2,  35.7793,2,    193.2,2,    192.8,2,     1.11,2,     0.00,2, -999.000,9,     0.16,2, -999.000,9, -999.000,9, -999.000,9,   -999.0,9,   2356.1,6
           NA,     P15,     80,   1,      23,   12046,  2,20090304,1021, -14.6544, -170.0011,  3178,     14.6,    29.55,   35.782,2,  35.7791,2,    193.7,2,    192.8,2,     1.10,2,     0.00,2, -999.000,9,     0.16,2, -999.000,9, -999.000,9, -999.000,9,   -999.0,9,   -999.0,9
           NA,     P15,     80,   1,      22,   12020,  2,20090304,1021, -14.6544, -170.0011,  3178,     38.8,    29.42,   35.786,2,  35.7851,2,    194.0,2,    193.6,2,     1.08,2,     0.00,2, -999.000,9,     0.15,2, -999.000,9, -999.000,9, -999.000,9,   -999.0,9,   2353.8,2
           NA,     P15,     80,   1,      21,   12003,  2,20090304,1021, -14.6544, -170.0011,  3178,     60.3,    28.82,   35.948,2,  35.9380,2,    202.2,2,    202.7,2,     1.09,2,     0.00,2, -999.000,9,     0.15,2, -999.000,9, -999.000,9, -999.000,9,   -999.0,9,   2365.4,2
           NA,     P15,     80,   1,      20,   12051,  2,20090304,1021, -14.6544, -170.0011,  3178,     80.4,    27.52,   35.870,2,  35.8730,2,    208.1,2,    206.8,2,     0.99,2,     0.00,2, -999.000,9,     0.13,2, -999.000,9, -999.000,9, -999.000,9,   -999.0,9,   2359.9,2
           NA,     P15,     80,   1,      19,   12010,  2,20090304,1021, -14.6544, -170.0011,  3178,    130.9,    26.12,   36.008,2,  35.9967,2,    199.2,2,    198.8,2,     1.00,2,     0.00,2, -999.000,9,     0.15,2, -999.000,9, -999.000,9, -999.000,9,   -999.0,9,   2368.1,2
           NA,     P15,     80,   1,      18,   12018,  2,20090304,1021, -14.6544, -170.0011,  3178,    180.4,    24.18,   36.184,2,  36.1763,2,    169.5,2,    168.8,2,     1.04,2,     1.33,2, -999.000,9,     0.34,2, -999.000,9, -999.000,9, -999.000,9,   -999.0,9,   -999.0,9
           NA,     P15,     80,   1,      17,   12024,  2,20090304,1021, -14.6544, -170.0011,  3178,    220.4,    22.59,   36.049,2,  36.0459,2,    166.2,2,    165.9,2,     1.12,2,     3.25,2, -999.000,9,     0.44,2, -999.000,9, -999.000,9, -999.000,9,   -999.0,9,   2370.9,2
           NA,     P15,     80,   1,      16,   12001,  2,20090304,1021, -14.6544, -170.0011,  3178,    276.8,    18.72,   35.543,2,  35.5318,2,    166.4,2,    165.2,2,     2.25,2,     6.67,2, -999.000,9,     0.66,2, -999.000,9, -999.000,9, -999.000,9,   -999.0,9,   -999.0,9
           NA,     P15,     80,   1,      15,   12025,  2,20090304,1021, -14.6544, -170.0011,  3178,    322.7,    15.34,   35.110,2,  35.1065,2,    153.5,2,    153.0,2,     4.95,2,    11.58,2, -999.000,9,     1.01,2, -999.000,9, -999.000,9, -999.000,9,   -999.0,9,   -999.0,9
           NA,     P15,     80,   1,      14,   12041,  2,20090304,1021, -14.6544, -170.0011,  3178,    376.4,    13.21,   34.907,2,  34.8999,2,    135.9,2,    135.4,2,     8.86,2,    16.70,2, -999.000,9,     1.35,2, -999.000,9, -999.000,9, -999.000,9,   -999.0,9,   -999.0,9
           NA,     P15,     80,   1,      13,   12012,  2,20090304,1021, -14.6544, -170.0011,  3178,    437.9,    10.32,   34.681,2,  34.6765,2,    133.4,2,    134.4,2,    15.52,2,    23.21,2, -999.000,9,     1.72,2, -999.000,9, -999.000,9, -999.000,9,   -999.0,9,   2296.4,2
           NA,     P15,     80,   1,      12,   12022,  2,20090304,1021, -14.6544, -170.0011,  3178,    597.4,     6.59,   34.460,2,  34.4605,2,    161.0,2,    162.4,2,    27.89,2,    29.34,2, -999.000,9,     2.02,2, -999.000,9, -999.000,9, -999.000,9,   -999.0,9,   -999.0,9
           NA,     P15,     80,   1,      11,   12016,  2,20090304,1021, -14.6544, -170.0011,  3178,    681.2,     5.73,   34.447,2,  34.4475,2,    159.0,2,    159.8,2,    36.65,2,    31.25,2, -999.000,9,     2.15,2, -999.000,9, -999.000,9, -999.000,9,   -999.0,9,   2307.5,2
           NA,     P15,     80,   1,      10,   12019,  2,20090304,1021, -14.6544, -170.0011,  3178,    871.7,     4.77,   34.458,2,  34.4575,2,    152.5,2,    153.8,2,    51.07,2,    33.46,2, -999.000,9,     2.31,2, -999.000,9, -999.000,9, -999.000,9,   -999.0,9,   -999.0,9
           NA,     P15,     80,   1,       9,   12031,  2,20090304,1021, -14.6544, -170.0011,  3178,   1055.5,     4.06,   34.509,2,  34.5101,2,    139.9,2,    141.5,2,    70.32,2,    35.11,2, -999.000,9,     2.45,2, -999.000,9, -999.000,9, -999.000,9,   -999.0,9,   -999.0,9
           NA,     P15,     80,   1,       8,   12021,  2,20090304,1021, -14.6544, -170.0011,  3178,   1314.8,     3.25,   34.557,2,  34.5573,2,    136.3,2,    137.7,2,    89.96,2,    36.12,2, -999.000,9,     2.54,2, -999.000,9, -999.000,9, -999.000,9,   -999.0,9,   -999.0,9
           NA,     P15,     80,   1,       7,   12032,  2,20090304,1021, -14.6544, -170.0011,  3178,   1629.5,     2.61,   34.599,2,  34.5979,2,    141.5,2,    142.4,2,   104.77,2,    36.10,2, -999.000,9,     2.54,2, -999.000,9, -999.000,9, -999.000,9,   -999.0,9,   -999.0,9
           NA,     P15,     80,   1,       6,   12007,  2,20090304,1021, -14.6544, -170.0011,  3178,   1829.9,     2.39,   34.615,2,  34.6136,2,    143.5,2,    146.6,2,   110.31,2,    35.91,2, -999.000,9,     2.52,2, -999.000,9, -999.000,9, -999.000,9,   -999.0,9,   -999.0,9
           NA,     P15,     80,   1,       5,   12002,  2,20090304,1021, -14.6544, -170.0011,  3178,   2029.9,     2.17,   34.633,2,  34.6321,2,    145.4,2,    148.8,2,   117.09,2,    35.99,2, -999.000,9,     2.52,2, -999.000,9, -999.000,9, -999.000,9,   -999.0,9,   -999.0,9
           NA,     P15,     80,   1,       4,   12008,  2,20090304,1021, -14.6544, -170.0011,  3178,   2214.4,     2.04,   34.645,2,  34.6441,2,    146.3,2,    150.1,2,   121.29,2,    35.86,2, -999.000,9,     2.51,2, -999.000,9, -999.000,9, -999.000,9,   -999.0,9,   -999.0,9
           NA,     P15,     80,   1,       3,   12033,  2,20090304,1021, -14.6544, -170.0011,  3178,   2414.3,     1.96,   34.653,2,  34.6525,2,    147.1,2,    149.0,2,   125.03,2,    35.91,2, -999.000,9,     2.51,2, -999.000,9, -999.000,9, -999.000,9,   -999.0,9,   -999.0,9
           NA,     P15,     80,   1,       2,   12006,  2,20090304,1021, -14.6544, -170.0011,  3178,   2764.5,     1.82,   34.666,2,  34.6645,2,    149.3,2,    152.7,2,   128.92,2,    35.70,2, -999.000,9,     2.49,2, -999.000,9, -999.000,9, -999.000,9,   -999.0,9,   -999.0,9
           NA,     P15,     80,   1,       1,   12045,  2,20090304,1021, -14.6544, -170.0011,  3178,   3237.5,     1.63,   34.679,2,  34.6812,2,    156.7,2,    158.3,2,   131.66,2,    35.29,2, -999.000,9,     2.45,2, -999.000,9, -999.000,9, -999.000,9,   -999.0,9,   -999.0,9
           NA,     P15,     81,   1,      24,   12014,  2,20090304,1521, -14.2842, -170.0086,  3546,      3.8,    29.44,   35.708,2,-999.0000,9,    193.6,2,    193.0,2,     1.14,2,     0.00,2, -999.000,9,     0.14,2,    1.629,2,    1.003,2, -999.000,9,   1987.4,6,   2349.1,6
           NA,     P15,     81,   1,      23,   12046,  2,20090304,1521, -14.2842, -170.0086,  3546,     21.3,    29.44,   35.705,2,  35.7126,2,    193.7,2,    193.2,2,     1.15,2,     0.00,2, -999.000,9,     0.14,2,    1.620,2,    1.004,2, -999.000,9,   1986.0,2,   2350.8,2
           NA,     P15,     81,   1,      22,   12020,  2,20090304,1521, -14.2842, -170.0086,  3546,     47.9,    28.85,   35.995,2,-999.0000,9,    201.0,2,    200.9,2,     1.24,2,     0.00,2, -999.000,9,     0.17,2,    1.695,6,    1.039,6, -999.000,9,   2008.2,2,   2372.1,2
           NA,     P15,     81,   1,      21,   12003,  2,20090304,1521, -14.2842, -170.0086,  3546,     73.6,    27.68,   36.109,2,  36.1051,2,    204.4,2,    203.6,2,     1.08,2,     0.00,2, -999.000,9,     0.15,2,    1.770,2,    1.083,2, -999.000,9,   2014.1,2,   2375.9,2
           NA,     P15,     81,   1,      20,   12051,  2,20090304,1521, -14.2842, -170.0086,  3546,     97.0,    27.16,   36.141,2,  36.1420,2,    202.3,2,    201.5,2,     1.07,2,     0.00,2, -999.000,9,     0.15,2,    1.771,2,    1.097,2, -999.000,9,   2019.5,2,   2377.9,2
           NA,     P15,     81,   1,      19,   12010,  2,20090304,1521, -14.2842, -170.0086,  3546,    147.8,    26.18,   36.169,2,  36.1668,2,    191.7,2,    190.3,2,     1.06,2,     0.16,2, -999.000,9,     0.19,2,    1.868,2,    1.142,2, -999.000,9,   2040.6,2,   2379.6,2
           NA,     P15,     81,   1,      18,   12018,  2,20090304,1521, -14.2842, -170.0086,  3546,    196.9,    22.86,   36.113,2,  36.0981,2,    167.7,2,    167.3,2,     1.25,2,     3.28,2, -999.000,9,     0.42,2,    2.196,2,    1.303,2, -999.000,9,   2093.6,2,   2373.1,2
           NA,     P15,     81,   1,      17,   12024,  2,20090304,1521, -14.2842, -170.0086,  3546,    248.0,    20.20,   35.748,2,-999.0000,9,    167.7,2,    167.0,2,     1.75,2,     5.21,2, -999.000,9,     0.55,2,    2.331,2,    1.319,2, -999.000,9,   2102.3,2,   2352.0,2
           NA,     P15,     81,   1,      16,   12001,  2,20090304,1521, -14.2842, -170.0086,  3546,    297.3,    16.93,   35.302,2,  35.3007,2,    163.3,2,    162.4,2,     3.28,2,     8.69,2, -999.000,9,     0.79,2,    2.499,2,    1.349,2, -999.000,9,   2115.3,2,   2322.7,6
           NA,     P15,     81,   1,      15,   12025,  2,20090304,1521, -14.2842, -170.0086,  3546,    346.9,    14.33,   35.014,2,-999.0000,9,    143.4,2,    142.1,2,     7.17,2,    14.60,2, -999.000,9,     1.21,2,    2.142,2,    1.129,2, -999.000,9,   2140.6,2,   2306.7,2
           NA,     P15,     81,   1,      14,   12041,  2,20090304,1521, -14.2842, -170.0086,  3546,    392.8,    11.47,   34.761,2,  34.7528,2,    127.9,2,    127.2,2,    13.06,2,    21.22,2, -999.000,9,     1.65,2,    1.397,2,    0.747,2, -999.000,9,   2171.7,2,   2297.4,2
           NA,     P15,     81,   1,      13,   12012,  2,20090304,1521, -14.2842, -170.0086,  3546,    496.4,     7.72,   34.520,2,-999.0000,9,    148.7,2,    147.9,2,    23.60,2,    28.10,2, -999.000,9,     2.00,2,    0.701,2,    0.371,2, -999.000,9,   2193.4,2,   2295.3,2
           NA,     P15,     81,   1,      12,   12022,  2,20090304,1521, -14.2842, -170.0086,  3546,    645.9,     5.97,   34.460,2,  34.4579,2,    155.5,2,    154.4,2,    35.28,2,    31.39,2, -999.000,9,     2.19,2,    0.359,2,    0.189,2, -999.000,9,   2208.1,6,   2300.0,6
           NA,     P15,     81,   1,      11,   12016,  2,20090304,1521, -14.2842, -170.0086,  3546,    747.7,     5.25,   34.466,2,  34.4656,2,    146.8,2,    147.6,2,    46.29,2,    33.27,2, -999.000,9,     2.32,2,    0.178,2,    0.094,2, -999.000,9,   2227.9,2,   2309.1,2
           NA,     P15,     81,   1,      10,   12019,  2,20090304,1521, -14.2842, -170.0086,  3546,    948.4,     4.42,   34.492,2,  34.4903,2,    142.1,2,    142.5,2,    62.63,2,    34.92,2, -999.000,9,     2.43,2,    0.085,2,    0.045,2, -999.000,9,   2246.6,2,   2327.4,2
           NA,     P15,     81,   1,       9,   12031,  2,20090304,1521, -14.2842, -170.0086,  3546,   1197.3,     3.50,   34.541,2,  34.5400,2,    136.7,2,    137.5,2,    84.03,2,    36.15,2, -999.000,9,     2.53,2,    0.019,2,    0.007,2, -999.000,9,   2274.8,2,   2350.8,2
           NA,     P15,     81,   1,       8,   12021,  2,20090304,1521, -14.2842, -170.0086,  3546,   1496.9,     2.88,   34.581,2,  34.5800,2,    138.9,2,    139.7,2,    98.75,2,    36.29,2, -999.000,9,     2.54,2,   -0.001,2,    0.001,2, -999.000,9,   2288.2,2,   2370.5,2
           NA,     P15,     81,   1,       7,   12032,  2,20090304,1521, -14.2842, -170.0086,  3546,   1798.8,     2.43,   34.613,2,  34.6142,2,    143.0,2,    144.2,2,   110.28,2,    35.98,2, -999.000,9,     2.53,2,    0.004,2,    0.000,2, -999.000,9,   2298.8,2,   2377.9,2
           NA,     P15,     81,   1,       6,   12007,  2,20090304,1521, -14.2842, -170.0086,  3546,   2096.4,     2.15,   34.636,2,  34.6347,2,    145.7,2,    147.0,2,   117.99,2,    35.83,2, -999.000,9,     2.52,2,    0.000,2,    0.003,2, -999.000,9,   2305.8,2,   2385.5,6
           NA,     P15,     81,   1,       5,   12002,  2,20090304,1521, -14.2842, -170.0086,  3546,   2397.7,     1.96,   34.653,2,  34.6510,2,    147.1,2,    146.7,2,   124.75,2,    35.85,2, -999.000,9,     2.52,2,   -0.003,2,    0.002,2, -999.000,9,   2310.1,2,   2397.3,2
           NA,     P15,     81,   1,       4,   12008,  2,20090304,1521, -14.2842, -170.0086,  3546,   2697.2,     1.85,   34.663,2,  34.6645,2,    149.1,2,    150.2,2,   128.32,2,    35.77,2, -999.000,9,     2.51,2,    0.007,2,    0.002,2, -999.000,9,   2313.6,2,   2396.5,2
           NA,     P15,     81,   1,       3,   12033,  2,20090304,1521, -14.2842, -170.0086,  3546,   2997.3,     1.70,   34.674,2,  34.6716,2,    153.9,2,    155.4,2,   131.14,2,    35.34,2, -999.000,9,     2.49,2,    0.003,2,    0.002,2, -999.000,9,   2313.0,2,   2404.7,2
           NA,     P15,     81,   1,       2,   12006,  2,20090304,1521, -14.2842, -170.0086,  3546,   3348.2,     1.63,   34.680,2,  34.6777,2,    157.7,2,    159.2,2,   131.70,2,    34.95,2, -999.000,9,     2.47,2,    0.004,6,    0.001,6, -999.000,9,   2310.1,2,   2401.9,2
           NA,     P15,     81,   1,       1,   12045,  2,20090304,1521, -14.2842, -170.0086,  3546,   3576.8,     1.63,   34.681,2,  34.6800,2,    158.8,2,    160.0,2,   131.61,2,    34.91,2, -999.000,9,     2.46,2, -999.000,9, -999.000,9, -999.000,9,   2309.1,6,   2398.6,6
           NA,     P15,     82,   1,      24,   12014,  2,20090304,1957, -13.9735, -170.0071,  2844,      2.0,    29.45,   35.741,2,  35.7375,2,    194.4,2,    192.9,2,     1.05,2,     0.00,2, -999.000,9,     0.17,2, -999.000,9, -999.000,9, -999.000,9,   -999.0,9,   2356.6,6
           NA,     P15,     82,   1,      23,   12046,  2,20090304,1957, -13.9735, -170.0071,  2844,     22.2,    29.42,   35.740,2,-999.0000,9,    193.3,2,    193.5,2,     1.05,2,     0.00,2, -999.000,9,     0.16,2, -999.000,9, -999.000,9, -999.000,9,   -999.0,9,   -999.0,9
           NA,     P15,     82,   1,      22,   12020,  2,20090304,1957, -13.9735, -170.0071,  2844,     47.9,    29.24,   35.776,2,  35.7953,2,    195.5,2,    196.3,2,     1.04,2,     0.00,2, -999.000,9,     0.15,2, -999.000,9, -999.000,9, -999.000,9,   -999.0,9,   -999.0,9
           NA,     P15,     82,   1,      21,   12003,  2,20090304,1957, -13.9735, -170.0071,  2844,     73.1,    28.20,   35.940,2,  35.9378,2,    203.8,2,    203.3,2,     0.96,2,     0.00,2, -999.000,9,     0.14,2, -999.000,9, -999.000,9, -999.000,9,   -999.0,9,   2364.0,2
           NA,     P15,     82,   1,      20,   12051,  2,20090304,1957, -13.9735, -170.0071,  2844,     97.5,    27.16,   36.044,2,-999.0000,9,    204.0,2,    203.6,2,     0.95,2,     0.00,2, -999.000,9,     0.15,2, -999.000,9, -999.000,9, -999.000,9,   -999.0,9,   2373.2,2
           NA,     P15,     82,   1,      19,   12010,  2,20090304,1957, -13.9735, -170.0071,  2844,    147.8,    26.01,   36.168,2,  36.1648,2,    190.5,2,    189.7,2,     0.97,2,     0.18,2, -999.000,9,     0.20,2, -999.000,9, -999.000,9, -999.000,9,   -999.0,9,   2380.1,2
           NA,     P15,     82,   1,      18,   12018,  2,20090304,1957, -13.9735, -170.0071,  2844,    195.7,    23.95,   36.249,2,  36.2499,2,    168.9,2,    168.2,2,     1.02,2,     2.42,2, -999.000,9,     0.40,2, -999.000,9, -999.000,9, -999.000,9,   -999.0,9,   2382.7,2
           NA,     P15,     82,   1,      17,   12024,  2,20090304,1957, -13.9735, -170.0071,  2844,    246.8,    20.23,   35.753,2,-999.0000,9,    169.3,2,    169.0,2,     1.43,2,     4.81,2, -999.000,9,     0.55,2, -999.000,9, -999.000,9, -999.000,9,   -999.0,9,   2351.3,2
           NA,     P15,     82,   1,      16,   12001,  2,20090304,1957, -13.9735, -170.0071,  2844,    297.0,    16.57,   35.258,2,  35.2522,2,    160.4,2,    159.0,2,     3.55,2,     9.37,2, -999.000,9,     0.87,2, -999.000,9, -999.000,9, -999.000,9,   -999.0,9,   -999.0,9
           NA,     P15,     82,   1,      15,   12025,  2,20090304,1957, -13.9735, -170.0071,  2844,    346.7,    13.38,   34.909,2,-999.0000,9,    130.6,2,    129.6,2,     8.80,2,    16.75,2, -999.000,9,     1.41,2, -999.000,9, -999.000,9, -999.000,9,   -999.0,9,   -999.0,9
           NA,     P15,     82,   1,      14,   12041,  2,20090304,1957, -13.9735, -170.0071,  2844,    435.4,     9.97,   34.646,2,  34.6468,2,    120.6,2,    119.6,2,    17.03,2,    24.80,2, -999.000,9,     1.88,2, -999.000,9, -999.000,9, -999.000,9,   -999.0,9,   2290.6,2
           NA,     P15,     82,   1,      13,   12012,  2,20090304,1957, -13.9735, -170.0071,  2844,    497.0,     8.74,   34.574,2,-999.0000,9,    135.4,2,    134.9,2,    19.86,2,    26.57,2, -999.000,9,     1.93,2, -999.000,9, -999.000,9, -999.000,9,   -999.0,9,   -999.0,9
           NA,     P15,     82,   1,      12,   12022,  2,20090304,1957, -13.9735, -170.0071,  2844,    647.5,     5.94,   34.441,2,  34.4404,2,    160.8,2,    161.7,2,    32.72,2,    30.79,2, -999.000,9,     2.14,2, -999.000,9, -999.000,9, -999.000,9,   -999.0,9,   -999.0,9
           NA,     P15,     82,   1,      11,   12016,  2,20090304,1957, -13.9735, -170.0071,  2844,    748.5,     5.39,   34.466,2,  34.4703,2,    146.7,2,    147.2,2,    44.70,2,    33.01,2, -999.000,9,     2.30,2, -999.000,9, -999.000,9, -999.000,9,   -999.0,9,   -999.0,9
           NA,     P15,     82,   1,      10,   12019,  2,20090304,1957, -13.9735, -170.0071,  2844,    947.5,     4.34,   34.491,2,  34.4905,2,    142.8,2,    144.2,2,    63.25,2,    34.63,2, -999.000,9,     2.41,2, -999.000,9, -999.000,9, -999.000,9,   -999.0,9,   -999.0,9
           NA,     P15,     82,   1,       9,   12031,  2,20090304,1957, -13.9735, -170.0071,  2844,   1147.1,     3.76,   34.531,2,  34.5296,2,    133.0,2,    133.9,2,    79.44,2,    36.14,2, -999.000,9,     2.52,2, -999.000,9, -999.000,9, -999.000,9,   -999.0,9,   -999.0,9
           NA,     P15,     82,   1,       8,   12021,  2,20090304,1957, -13.9735, -170.0071,  2844,   1398.1,     3.13,   34.565,2,  34.5653,2,    137.3,2,    138.1,2,    93.06,2,    36.28,2, -999.000,9,     2.54,2, -999.000,9, -999.000,9, -999.000,9,   -999.0,9,   -999.0,9
           NA,     P15,     82,   1,       7,   12032,  2,20090304,1957, -13.9735, -170.0071,  2844,   1697.2,     2.63,   34.599,2,  34.5987,2,    139.9,2,    141.1,2,   105.24,2,    36.21,2, -999.000,9,     2.52,2, -999.000,9, -999.000,9, -999.000,9,   -999.0,9,   -999.0,9
           NA,     P15,     82,   1,       6,   12007,  2,20090304,1957, -13.9735, -170.0071,  2844,   1897.1,     2.32,   34.621,2,  34.6201,2,    144.3,2,    145.8,2,   112.42,2,    36.02,2, -999.000,9,     2.50,2, -999.000,9, -999.000,9, -999.000,9,   -999.0,9,   -999.0,9
           NA,     P15,     82,   1,       3,   12033,  2,20090304,1957, -13.9735, -170.0071,  2844,   2481.2,     1.96,   34.653,2,  34.6521,2,    146.7,2,   -999.0,9,   124.24,2,    35.78,2, -999.000,9,     2.49,2, -999.000,9, -999.000,9, -999.000,9,   -999.0,9,   -999.0,9
           NA,     P15,     82,   1,       1,   12045,  2,20090304,1957, -13.9735, -170.0071,  2844,   2907.0,     1.79,   34.668,2,  34.6686,2,    149.0,2,    151.3,2,   129.99,2,    35.64,2, -999.000,9,     2.48,2, -999.000,9, -999.000,9, -999.000,9,   -999.0,9,   -999.0,9