BOTTLE,20214902JOAExport
EXPOCODE,SECT_ID,STNNBR,CASTNO,SAMPNO,BTLNBR,BTLNBR_FLAG_W,DATE,TIME,LATITUDE,LONGITUDE,DEPTH,CTDPRS,CTDTMP,CTDSAL,CTDSAL_FLAG_W,SALNTY,SALNTY_FLAG_W,CTDOXY,CTDOXY_FLAG_W,OXYGEN,OXYGEN_FLAG_W,SILCAT,SILCAT_FLAG_W,NITRAT,NITRAT_FLAG_W,NITRIT,NITRIT_FLAG_W,PHSPHT,PHSPHT_FLAG_W,CFC-11,CFC-11_FLAG_W,CFC-12,CFC-12_FLAG_W,SF6,SF6_FLAG_W,TCARBN,TCARBN_FLAG_W,ALKALI,ALKALI_FLAG_W
,,,,,,,,,,,,DB,ITS-90,PSS-78,,PSS-78,,UMOL/KG,,UMOL/KG,,UMOL/KG,,UMOL/KG,,UMOL/KG,,UMOL/KG,,PMOL/KG,,PMOL/KG,,FMOL/KG,,UMOL/KG,,UMOL/KG
           NA,     P15,     83,   1,      24,   12014,  2,20090304,2350, -13.8189, -170.0163,  4298,      1.8,    30.18,   35.749,2,-999.0000,9,    193.1,2,    192.9,2,     1.04,2,     0.00,2, -999.000,9,     0.18,2,    1.526,6,    0.950,6, -999.000,9,   1988.1,6,   2355.3,6
           NA,     P15,     83,   1,      23,   12046,  2,20090304,2350, -13.8189, -170.0163,  4298,     15.7,    29.43,   35.741,2,  35.7396,2,    193.5,2,    193.4,2,     1.05,2,     0.00,2, -999.000,9,     0.17,2,    1.533,2,    0.955,2, -999.000,9,   1987.9,2,   2357.6,2
           NA,     P15,     83,   1,      22,   12020,  2,20090304,2350, -13.8189, -170.0163,  4298,     39.7,    29.42,   35.739,2,  35.7469,2,    193.5,2,    193.5,2,     1.05,2,     0.00,2, -999.000,9,     0.18,2,    1.533,2,    0.953,2, -999.000,9,   1988.2,2,   2355.7,2
           NA,     P15,     83,   1,      21,   12003,  2,20090304,2350, -13.8189, -170.0163,  4298,     61.1,    29.01,   36.010,2,-999.0000,9,    202.0,2,    202.1,2,     1.02,2,     0.00,2, -999.000,9,     0.16,2,    1.626,2,    1.009,2, -999.000,9,   2004.0,2,   2371.1,2
           NA,     P15,     83,   1,      20,   12051,  2,20090304,2350, -13.8189, -170.0163,  4298,     80.6,    27.71,   36.048,2,-999.0000,9,    205.9,2,    205.2,2,     0.97,2,     0.00,2, -999.000,9,     0.15,2,    1.693,2,    1.028,2, -999.000,9,   2010.2,2,   2373.4,2
           NA,     P15,     83,   1,      19,   12010,  2,20090304,2350, -13.8189, -170.0163,  4298,    130.3,    26.86,   36.239,2,  36.2362,2,    196.2,2,    195.6,2,     1.00,2,     0.00,2, -999.000,9,     0.19,2,    1.714,2,    1.046,2, -999.000,9,   2031.3,2,   2384.3,2
           NA,     P15,     83,   1,      18,   12018,  2,20090304,2350, -13.8189, -170.0163,  4298,    180.9,    23.89,   36.212,2,  36.2107,2,    168.6,2,    168.7,2,     0.99,2,     2.09,2, -999.000,9,     0.37,2, -999.000,9, -999.000,9, -999.000,9,   2086.0,2,   2381.8,2
           NA,     P15,     83,   1,      17,   12024,  2,20090304,2350, -13.8189, -170.0163,  4298,    230.2,    20.64,   35.828,2,-999.0000,9,    170.1,2,    169.4,2,     1.32,2,     4.49,2, -999.000,9,     0.52,2,    2.271,2,    1.287,2, -999.000,9,   2097.8,2,   2356.6,2
           NA,     P15,     83,   1,      16,   12001,  2,20090304,2350, -13.8189, -170.0163,  4298,    277.9,    17.87,   35.419,2,  35.4295,2,    164.3,2,    163.6,2,     2.45,2,     7.48,2, -999.000,9,     0.73,2,    2.383,2,    1.293,2, -999.000,9,   2109.2,2,   2331.8,6
           NA,     P15,     83,   1,      15,   12025,  2,20090304,2350, -13.8189, -170.0163,  4298,    322.7,    14.63,   35.035,2,-999.0000,9,    141.5,2,    140.6,2,     6.40,2,    13.82,2, -999.000,9,     1.19,2,    2.073,2,    1.087,2, -999.000,9,   2139.4,2,   2310.7,2
           NA,     P15,     83,   1,      14,   12041,  2,20090304,2350, -13.8189, -170.0163,  4298,    379.1,    12.17,   34.804,2,  34.8007,2,    121.7,2,    120.3,2,    11.38,2,    19.80,2, -999.000,9,     1.60,2,    1.578,6,    0.834,6, -999.000,9,   2167.6,2,   2300.0,2
           NA,     P15,     83,   1,      13,   12012,  2,20090304,2350, -13.8189, -170.0163,  4298,    421.4,    10.38,   34.676,2,-999.0000,9,    114.9,2,    113.3,2,    16.42,2,    24.47,2, -999.000,9,     1.86,2,    1.044,2,    0.558,2, -999.000,9,   2186.0,2,   2295.6,2
           NA,     P15,     83,   1,      12,   12022,  2,20090304,2350, -13.8189, -170.0163,  4298,    522.6,     7.50,   34.492,2,  34.4926,2,    157.8,2,    155.2,2,    21.61,2,    27.60,2, -999.000,9,     1.95,2,    0.754,2,    0.393,2, -999.000,9,   2184.6,6,   2293.7,6
           NA,     P15,     83,   1,      11,   12016,  2,20090304,2350, -13.8189, -170.0163,  4298,    646.1,     6.15,   34.468,2,  34.4689,2,    152.6,2,    152.7,2,    34.56,2,    31.06,2, -999.000,9,     2.16,2,    0.333,2,    0.180,2, -999.000,9,   2207.4,2,   2304.4,2
           NA,     P15,     83,   1,      10,   12019,  2,20090304,2350, -13.8189, -170.0163,  4298,    821.6,     4.86,   34.460,2,  34.4597,2,    151.1,2,    152.2,2,    50.07,2,    33.37,2, -999.000,9,     2.31,2,    0.139,2,    0.075,2, -999.000,9,   2228.7,2,   2316.7,2
           NA,     P15,     83,   1,       9,   12031,  2,20090304,2350, -13.8189, -170.0163,  4298,    998.2,     4.24,   34.490,2,  34.4893,2,    144.2,2,    145.2,2,    64.25,2,    34.67,2, -999.000,9,     2.40,2,    0.052,2,    0.031,2, -999.000,9,   2247.9,2,   2332.3,2
           NA,     P15,     83,   1,       8,   12021,  2,20090304,2350, -13.8189, -170.0163,  4298,   1431.3,     2.93,   34.578,2,  34.5777,2,    138.3,2,    139.1,2,    97.16,2,    36.14,2, -999.000,9,     2.51,2,    0.001,2,    0.003,2, -999.000,9,   2286.0,2,   2365.7,2
           NA,     P15,     83,   1,       7,   12032,  2,20090304,2350, -13.8189, -170.0163,  4298,   1930.5,     2.21,   34.630,2,  34.6307,2,    145.2,2,    146.7,2,   115.53,2,    35.89,2, -999.000,9,     2.49,2,   -0.001,2,    0.001,2, -999.000,9,   2300.8,2,   2389.8,2
           NA,     P15,     83,   1,       6,   12007,  2,20090304,2350, -13.8189, -170.0163,  4298,   2430.3,     1.93,   34.656,2,  34.6547,2,    147.1,2,    148.4,2,   124.89,2,    35.71,2, -999.000,9,     2.48,2,   -0.003,2,    0.000,2, -999.000,9,   2310.6,2,   2403.3,2
           NA,     P15,     83,   1,       5,   12002,  2,20090304,2350, -13.8189, -170.0163,  4298,   2946.9,     1.72,   34.673,2,  34.6716,2,    152.5,2,    151.5,2,   131.50,2,    35.57,2, -999.000,9,     2.47,2,    0.004,6,    0.003,6, -999.000,9,   2313.7,2,   2405.6,2
           NA,     P15,     83,   1,       4,   12008,  2,20090304,2350, -13.8189, -170.0163,  4298,   3472.5,     1.52,   34.683,2,  34.6850,2,    164.9,2,    165.0,2,   131.16,2,    34.77,2, -999.000,9,     2.39,2,    0.008,2,    0.005,2, -999.000,9,   2304.0,2,   2396.5,2
           NA,     P15,     83,   1,       3,   12033,  2,20090304,2350, -13.8189, -170.0163,  4298,   3915.1,     1.32,   34.704,2,  34.7081,2,    187.4,2,    187.7,2,   120.95,2,    33.02,2, -999.000,9,     2.28,2,    0.016,2,    0.007,2, -999.000,9,   2277.6,2,   2377.2,2
           NA,     P15,     83,   1,       2,   12006,  2,20090304,2350, -13.8189, -170.0163,  4298,   4147.7,     1.19,   34.711,2,  34.7136,2,    198.4,2,    199.3,2,   117.97,2,    32.33,2, -999.000,9,     2.22,2,    0.033,2,    0.018,2, -999.000,9,   2264.4,2,   2367.3,2
           NA,     P15,     83,   1,       1,   12045,  2,20090304,2350, -13.8189, -170.0163,  4298,   4357.3,     1.12,   34.712,2,  34.7158,2,    202.1,2,    203.0,2,   118.32,2,    32.09,2, -999.000,9,     2.20,2,    0.040,2,    0.021,2, -999.000,9,   2262.8,6,   2365.9,6
           NA,     P15,     84,   1,      24,   12014,  2,20090305,0457, -13.5025, -170.0084,  4868,      3.1,    29.68,   35.735,2,-999.0000,9,    192.6,2,    193.7,2,     1.09,2,     0.00,2, -999.000,9,     0.16,2, -999.000,9, -999.000,9, -999.000,9,   -999.0,9,   2352.4,6
           NA,     P15,     84,   1,      23,   12046,  2,20090305,0457, -13.5025, -170.0084,  4868,     21.6,    29.48,   35.732,2,  35.7302,2,    193.2,2,    194.4,2,     1.10,2,     0.00,2, -999.000,9,     0.16,2, -999.000,9, -999.000,9, -999.000,9,   -999.0,9,   2352.8,2
           NA,     P15,     84,   1,      22,   12020,  2,20090305,0457, -13.5025, -170.0084,  4868,     47.2,    29.31,   35.863,2,-999.0000,9,    197.0,2,    198.2,2,     1.07,2,     0.00,2, -999.000,9,     0.15,2, -999.000,9, -999.000,9, -999.000,9,   -999.0,9,   -999.0,9
           NA,     P15,     84,   1,      21,   12003,  2,20090305,0457, -13.5025, -170.0084,  4868,     71.5,    28.02,   36.157,2,  36.1688,2,    206.0,2,    206.5,2,     1.04,2,     0.00,2, -999.000,9,     0.15,2, -999.000,9, -999.000,9, -999.000,9,   -999.0,9,   2383.5,2
           NA,     P15,     84,   1,      20,   12051,  2,20090305,0457, -13.5025, -170.0084,  4868,     97.1,    27.51,   36.308,2,  36.3120,2,    198.7,2,    199.9,2,     1.13,2,     0.00,2, -999.000,9,     0.18,2, -999.000,9, -999.000,9, -999.000,9,   -999.0,9,   -999.0,9
           NA,     P15,     84,   1,      19,   12010,  2,20090305,0457, -13.5025, -170.0084,  4868,    147.0,    25.16,   36.264,2,-999.0000,9,    178.0,2,    177.2,2,     1.04,2,     0.82,2, -999.000,9,     0.28,2, -999.000,9, -999.000,9, -999.000,9,   -999.0,9,   2388.5,2
           NA,     P15,     84,   1,      18,   12018,  2,20090305,0457, -13.5025, -170.0084,  4868,    171.7,    24.16,   36.331,2,-999.0000,9,    168.3,2,    167.9,2,     1.09,2,     2.72,2, -999.000,9,     0.39,2, -999.000,9, -999.000,9, -999.000,9,   -999.0,9,   2391.1,2
           NA,     P15,     84,   1,      17,   12024,  2,20090305,0457, -13.5025, -170.0084,  4868,    247.7,    21.46,   35.967,2,  35.9487,2,    168.2,2,    168.1,2,     1.29,2,     4.51,2, -999.000,9,     0.51,2, -999.000,9, -999.000,9, -999.000,9,   -999.0,9,   2367.8,2
           NA,     P15,     84,   1,      16,   12001,  2,20090305,0457, -13.5025, -170.0084,  4868,    297.1,    17.56,   35.377,2,-999.0000,9,    159.4,2,    159.6,2,     2.96,2,     8.32,2, -999.000,9,     0.79,2, -999.000,9, -999.000,9, -999.000,9,   -999.0,9,   -999.0,9
           NA,     P15,     84,   1,      15,   12025,  2,20090305,0457, -13.5025, -170.0084,  4868,    347.8,    13.06,   34.884,2,  34.8784,2,    132.1,2,    132.5,2,     9.02,2,    17.04,2, -999.000,9,     1.39,2, -999.000,9, -999.000,9, -999.000,9,   -999.0,9,   -999.0,9
           NA,     P15,     84,   1,      14,   12041,  2,20090305,0457, -13.5025, -170.0084,  4868,    422.6,    10.08,   34.656,2,  34.6551,2,    115.2,2,    114.3,2,    17.34,2,    25.13,2, -999.000,9,     1.90,2, -999.000,9, -999.000,9, -999.000,9,   -999.0,9,   2294.6,2
           NA,     P15,     84,   1,      13,   12012,  2,20090305,0457, -13.5025, -170.0084,  4868,    547.2,     6.80,   34.448,2,  34.4485,2,    165.3,2,    165.9,2,    23.49,2,    28.61,2, -999.000,9,     1.99,2, -999.000,9, -999.000,9, -999.000,9,   -999.0,9,   2295.1,2
           NA,     P15,     84,   1,      12,   12022,  2,20090305,0457, -13.5025, -170.0084,  4868,    647.1,     6.03,   34.483,2,  34.4817,2,    142.6,2,    143.1,2,    38.27,2,    32.23,2, -999.000,9,     2.24,2, -999.000,9, -999.000,9, -999.000,9,   -999.0,9,   -999.0,9
           NA,     P15,     84,   1,      11,   12016,  2,20090305,0457, -13.5025, -170.0084,  4868,    798.4,     5.21,   34.486,2,  34.4840,2,    136.3,2,    137.3,2,    51.80,2,    34.20,2, -999.000,9,     2.38,2, -999.000,9, -999.000,9, -999.000,9,   -999.0,9,   -999.0,9
           NA,     P15,     84,   1,      10,   12019,  2,20090305,0457, -13.5025, -170.0084,  4868,   1096.7,     3.80,   34.516,2,  34.5223,2,    141.3,2,    143.0,2,    74.65,2,    35.39,2, -999.000,9,     2.46,2, -999.000,9, -999.000,9, -999.000,9,   -999.0,9,   -999.0,9
           NA,     P15,     84,   1,       9,   12031,  2,20090305,0457, -13.5025, -170.0084,  4868,   1396.7,     3.05,   34.569,2,  34.5690,2,    138.0,2,    139.3,2,    94.31,2,    36.16,2, -999.000,9,     2.52,2, -999.000,9, -999.000,9, -999.000,9,   -999.0,9,   -999.0,9
           NA,     P15,     84,   1,       8,   12021,  2,20090305,0457, -13.5025, -170.0084,  4868,   1897.7,     2.26,   34.626,2,  34.6286,2,    143.9,2,    145.8,2,   114.39,2,    36.07,2, -999.000,9,     2.51,2, -999.000,9, -999.000,9, -999.000,9,   -999.0,9,   -999.0,9
           NA,     P15,     84,   1,       7,   12032,  2,20090305,0457, -13.5025, -170.0084,  4868,   2396.8,     1.93,   34.656,2,-999.0000,9,    146.9,2,    148.2,2,   125.23,2,    35.92,2, -999.000,9,     2.50,2, -999.000,9, -999.000,9, -999.000,9,   -999.0,9,   -999.0,9
           NA,     P15,     84,   1,       6,   12007,  2,20090305,0457, -13.5025, -170.0084,  4868,   2997.1,     1.70,   34.675,2,  34.6734,2,    153.7,2,    155.0,2,   131.19,2,    35.49,2, -999.000,9,     2.47,2, -999.000,9, -999.000,9, -999.000,9,   -999.0,9,   -999.0,9
           NA,     P15,     84,   1,       5,   12002,  2,20090305,0457, -13.5025, -170.0084,  4868,   3498.3,     1.52,   34.687,2,  34.6912,2,    165.5,2,    165.5,2,   131.29,2,    34.91,2, -999.000,9,     2.41,2, -999.000,9, -999.000,9, -999.000,9,   -999.0,9,   -999.0,9
           NA,     P15,     84,   1,       4,   12008,  2,20090305,0457, -13.5025, -170.0084,  4868,   3997.9,     1.28,   34.710,2,  34.7101,2,    195.1,2,    195.1,2,   122.44,2,    32.44,2, -999.000,9,     2.24,2, -999.000,9, -999.000,9, -999.000,9,   -999.0,9,   -999.0,9
           NA,     P15,     84,   1,       3,   12033,  2,20090305,0457, -13.5025, -170.0084,  4868,   4498.4,     1.08,   34.711,2,  34.7125,2,    205.5,2,    205.2,2,   119.27,2,    32.11,2, -999.000,9,     2.22,2, -999.000,9, -999.000,9, -999.000,9,   -999.0,9,   -999.0,9
           NA,     P15,     84,   1,       2,   12006,  2,20090305,0457, -13.5025, -170.0084,  4868,   4797.4,     1.06,   34.709,2,-999.0000,9,    206.3,2,    206.0,2,   119.98,2,    32.10,2, -999.000,9,     2.21,2, -999.000,9, -999.000,9, -999.000,9,   -999.0,9,   -999.0,9
           NA,     P15,     84,   1,       1,   12045,  2,20090305,0457, -13.5025, -170.0084,  4868,   4953.6,     1.08,   34.709,2,  34.7077,2,    206.8,2,    206.5,2,   120.45,2,    32.09,2, -999.000,9,     2.21,2, -999.000,9, -999.000,9, -999.000,9,   -999.0,9,   -999.0,9