BOTTLE,20214902JOAExport
EXPOCODE,SECT_ID,STNNBR,CASTNO,SAMPNO,BTLNBR,BTLNBR_FLAG_W,DATE,TIME,LATITUDE,LONGITUDE,DEPTH,CTDPRS,CTDTMP,CTDSAL,CTDSAL_FLAG_W,SALNTY,SALNTY_FLAG_W,CTDOXY,CTDOXY_FLAG_W,OXYGEN,OXYGEN_FLAG_W,SILCAT,SILCAT_FLAG_W,NITRAT,NITRAT_FLAG_W,NITRIT,NITRIT_FLAG_W,PHSPHT,PHSPHT_FLAG_W,CFC-11,CFC-11_FLAG_W,CFC-12,CFC-12_FLAG_W,SF6,SF6_FLAG_W,TCARBN,TCARBN_FLAG_W,ALKALI,ALKALI_FLAG_W
,,,,,,,,,,,,DB,ITS-90,PSS-78,,PSS-78,,UMOL/KG,,UMOL/KG,,UMOL/KG,,UMOL/KG,,UMOL/KG,,UMOL/KG,,PMOL/KG,,PMOL/KG,,FMOL/KG,,UMOL/KG,,UMOL/KG
           NA,     P15,    109,   1,      24,   12014,  2,20090312,0537,  -4.4964, -168.7582,  5508,      3.2,    28.09,   35.411,2,  35.4178,1,    201.2,2,    201.3,2,     2.35,2,     4.74,2, -999.000,9,     0.53,2,    1.722,2,    1.022,2, -999.000,9,   2031.0,6,   2328.0,6
           NA,     P15,    109,   1,      23,   12046,  2,20090312,0537,  -4.4964, -168.7582,  5508,     29.6,    27.80,   35.411,2,  35.4178,1,    203.0,2,    202.8,2,     2.39,2,     4.80,2, -999.000,9,     0.53,2,    1.726,6,    1.032,6, -999.000,9,   2031.6,2,   2331.6,2
           NA,     P15,    109,   1,      22,   12020,  2,20090312,0537,  -4.4964, -168.7582,  5508,     60.3,    27.58,   35.552,2,-999.0000,9,    196.5,2,    197.2,2,     2.34,2,     4.62,2, -999.000,9,     0.55,2,    1.733,2,    1.019,2, -999.000,9,   2038.3,2,   2336.8,6
           NA,     P15,    109,   1,      21,   12003,  2,20090312,0537,  -4.4964, -168.7582,  5508,    121.8,    26.12,   35.303,2,  35.3179,1,    196.0,2,    196.1,2,     2.94,2,     5.91,2, -999.000,9,     0.64,2,    1.842,2,    1.079,2, -999.000,9,   2050.4,2,   2323.3,2
           NA,     P15,    109,   1,      20,   12051,  2,20090312,0537,  -4.4964, -168.7582,  5508,    171.7,    21.56,   35.782,2,-999.0000,9,    134.9,2,    134.4,2,     3.47,2,    10.10,2, -999.000,9,     0.96,2,    2.103,2,    1.208,2, -999.000,9,   2130.4,2,   2354.7,2
           NA,     P15,    109,   1,      19,   12010,  2,20090312,0537,  -4.4964, -168.7582,  5508,    214.7,    14.51,   35.109,2,  35.1073,2,     69.4,2,     68.2,2,    14.15,2,    23.89,2, -999.000,9,     1.78,2,    1.543,2,    0.841,2, -999.000,9,   2200.3,2,   2310.4,2
           NA,     P15,    109,   1,      18,   12035,  2,20090312,0537,  -4.4964, -168.7582,  5508,    263.5,    11.99,   34.899,2,  34.8977,2,     85.1,2,     86.1,2,    19.17,2,    26.16,2, -999.000,9,     1.87,2,    1.180,2,    0.615,2, -999.000,9,   2201.1,2,   2304.5,2
           NA,     P15,    109,   1,      17,   12024,  2,20090312,0537,  -4.4964, -168.7582,  5508,    314.6,    10.07,   34.745,2,  34.7455,2,     80.4,2,     80.7,2,    25.51,2,    30.21,2, -999.000,9,     2.08,2,    0.748,2,    0.396,2, -999.000,9,   2217.9,2,   2301.7,2
           NA,     P15,    109,   1,      16,   12001,  2,20090312,0537,  -4.4964, -168.7582,  5508,    367.7,     9.63,   34.710,2,  34.7117,2,     68.6,2,     68.6,2,    28.53,2,    32.86,2, -999.000,9,     2.22,2,    0.582,2,    0.304,2, -999.000,9,   2229.9,2,   2301.0,6
           NA,     P15,    109,   1,      15,   12025,  2,20090312,0537,  -4.4964, -168.7582,  5508,    449.9,     8.48,   34.644,2,  34.6494,2,     76.2,2,     75.8,2,    32.42,2,    34.41,2, -999.000,9,     2.37,2,    0.389,2,    0.205,2, -999.000,9,   2237.4,2,   2302.5,2
           NA,     P15,    109,   1,      14,   12041,  2,20090312,0537,  -4.4964, -168.7582,  5508,    628.3,     7.01,   34.574,2,  34.5771,2,     64.4,2,     65.6,2,    45.62,2,    39.02,2, -999.000,9,     2.74,2,    0.124,2,    0.065,2, -999.000,9,   2261.5,2,   2311.2,2
           NA,     P15,    109,   1,      13,   12012,  2,20090312,0537,  -4.4964, -168.7582,  5508,    717.4,     6.19,   34.537,2,  34.5386,2,     98.7,2,     99.6,2,    48.94,2,    36.83,2, -999.000,9,     2.57,2,    0.135,2,    0.072,2, -999.000,9,   2248.4,2,   2314.9,2
           NA,     P15,    109,   1,      12,   12022,  2,20090312,0537,  -4.4964, -168.7582,  5508,    905.4,     5.10,   34.531,2,  34.5352,2,     99.9,2,     99.4,2,    66.51,2,    38.30,2, -999.000,9,     2.72,2,    0.050,2,    0.025,2, -999.000,9,   2272.6,6,   2331.3,6
           NA,     P15,    109,   1,      11,   12016,  2,20090312,0537,  -4.4964, -168.7582,  5508,   1047.2,     4.44,   34.542,2,  34.5468,2,    100.3,2,    101.2,2,    79.39,2,    39.17,2, -999.000,9,     2.78,2,    0.021,6,    0.010,6, -999.000,9,   2286.5,2,   2345.1,2
           NA,     P15,    109,   1,      10,   12019,  2,20090312,0537,  -4.4964, -168.7582,  5508,   1347.2,     3.34,   34.580,2,  34.5863,2,    105.1,2,    105.9,2,   104.78,2,    39.32,2, -999.000,9,     2.82,2,    0.009,2,    0.001,2, -999.000,9,   2311.5,2,   2375.2,2
           NA,     P15,    109,   1,       9,   12031,  2,20090312,0537,  -4.4964, -168.7582,  5508,   1822.5,     2.41,   34.627,2,  34.6290,2,    116.8,2,    118.2,2,   128.73,2,    38.80,2, -999.000,9,     2.75,2,    0.007,2,    0.000,2, -999.000,9,   2329.0,2,   2399.2,2
           NA,     P15,    109,   1,       8,   12021,  2,20090312,0537,  -4.4964, -168.7582,  5508,   2247.8,     2.00,   34.653,2,  34.6598,2,    126.2,2,    127.2,2,   137.52,2,    38.25,2, -999.000,9,     2.69,2,    0.007,2,    0.003,2, -999.000,9,   2333.7,2,   2411.6,2
           NA,     P15,    109,   1,       7,   12032,  2,20090312,0537,  -4.4964, -168.7582,  5508,   2780.9,     1.75,   34.669,2,  34.6718,2,    138.6,2,    139.3,2,   140.73,2,    37.27,2, -999.000,9,     2.59,2,    0.004,2,    0.000,2, -999.000,9,   2331.0,2,   2413.3,2
           NA,     P15,    109,   1,       6,   12007,  2,20090312,0537,  -4.4964, -168.7582,  5508,   3397.5,     1.54,   34.682,2,  34.6824,2,    152.0,2,    152.9,2,   141.77,2,    36.50,2, -999.000,9,     2.52,2,    0.001,2,    0.000,2, -999.000,9,   2323.0,2,   2414.3,2
           NA,     P15,    109,   1,       5,   12002,  2,20090312,0537,  -4.4964, -168.7582,  5508,   3980.2,     1.44,   34.691,2,  34.6940,2,    162.7,2,    161.6,2,   141.90,2,    35.80,2, -999.000,9,     2.44,2,    0.001,2,   -0.002,2, -999.000,9,   2316.8,2,   2415.8,2
           NA,     P15,    109,   1,       4,   12008,  2,20090312,0537,  -4.4964, -168.7582,  5508,   4464.1,     1.33,   34.699,2,  34.7040,2,    181.0,2,    180.3,2,   131.89,2,    34.40,2, -999.000,9,     2.35,2,    0.008,2,    0.005,2, -999.000,9,   2298.3,2,   2395.2,2
           NA,     P15,    109,   1,       3,   12033,  2,20090312,0537,  -4.4964, -168.7582,  5508,   4965.0,     1.19,   34.706,2,  34.7068,2,    199.5,2,    197.3,2,   123.44,2,    32.96,2, -999.000,9,     2.24,2,    0.026,2,    0.014,2, -999.000,9,   2274.3,2,   2372.1,2
           NA,     P15,    109,   1,       2,   12006,  2,20090312,0537,  -4.4964, -168.7582,  5508,   5413.1,     1.22,   34.706,2,  34.7060,2,    201.3,2,    199.3,2,   122.80,2,    32.97,2, -999.000,9,     2.24,2,    0.031,6,    0.014,6, -999.000,9,   2270.4,2,   2369.6,2
           NA,     P15,    109,   1,       1,   12045,  2,20090312,0537,  -4.4964, -168.7582,  5508,   5624.7,     1.25,   34.706,2,  34.7158,2,    201.8,2,    199.3,2,   122.77,2,    32.80,2, -999.000,9,     2.23,2,    0.028,2,    0.016,2, -999.000,9,   2270.6,6,   2372.7,6
           NA,     P15,    110,   1,      24,   12014,  2,20090312,1227,  -3.9941, -168.7552,  4861,      2.5,    28.18,   35.518,2,  35.5180,2,    199.9,2,    200.4,2,     2.19,2,     4.39,2, -999.000,9,     0.49,2, -999.000,9, -999.000,9, -999.000,9,   2027.2,6,   2337.3,6
           NA,     P15,    110,   1,      23,   12046,  2,20090312,1227,  -3.9941, -168.7552,  4861,     15.5,    28.18,   35.519,2,-999.0000,9,    199.4,2,    199.1,2,     2.21,2,     4.36,2, -999.000,9,     0.48,2, -999.000,9, -999.000,9, -999.000,9,   -999.0,9,   -999.0,9
           NA,     P15,    110,   1,      22,   12020,  2,20090312,1227,  -3.9941, -168.7552,  4861,     29.8,    28.17,   35.537,2,  35.5253,2,    199.9,2,    199.8,2,     2.20,2,     4.40,2, -999.000,9,     0.48,2, -999.000,9, -999.000,9, -999.000,9,   2027.3,2,   2338.2,2
           NA,     P15,    110,   1,      21,   12003,  2,20090312,1227,  -3.9941, -168.7552,  4861,     79.2,    27.07,   35.435,2,  35.4324,2,    196.6,2,    197.0,2,     2.71,2,     5.36,2, -999.000,9,     0.56,2, -999.000,9, -999.000,9, -999.000,9,   -999.0,9,   -999.0,9
           NA,     P15,    110,   1,      20,   12051,  2,20090312,1227,  -3.9941, -168.7552,  4861,    129.1,    26.06,   35.378,2,-999.0000,9,    185.6,2,    185.4,2,     3.05,2,     6.79,2, -999.000,9,     0.66,2, -999.000,9, -999.000,9, -999.000,9,   2055.9,2,   2328.0,2
           NA,     P15,    110,   1,      19,   12010,  2,20090312,1227,  -3.9941, -168.7552,  4861,    166.5,    23.01,   35.710,2,  35.7029,2,    146.8,2,    148.2,2,     3.23,2,     9.56,2, -999.000,9,     0.86,2, -999.000,9, -999.000,9, -999.000,9,   2109.0,2,   2347.8,2
           NA,     P15,    110,   1,      18,   12035,  2,20090312,1227,  -3.9941, -168.7552,  4861,    207.5,    16.14,   35.219,2,  35.1992,2,     61.2,2,     59.8,2,    12.80,2,    23.64,2, -999.000,9,     1.77,2, -999.000,9, -999.000,9, -999.000,9,   2199.1,2,   2312.8,2
           NA,     P15,    110,   1,      17,   12024,  2,20090312,1227,  -3.9941, -168.7552,  4861,    279.0,    11.21,   34.837,2,  34.8365,2,     86.7,2,     86.6,2,    21.17,2,    27.08,2, -999.000,9,     1.93,2, -999.000,9, -999.000,9, -999.000,9,   2204.9,2,   2303.6,2
           NA,     P15,    110,   1,      16,   12001,  2,20090312,1227,  -3.9941, -168.7552,  4861,    317.8,    10.39,   34.771,2,-999.0000,9,     83.7,2,     83.0,2,    24.04,2,    29.14,2, -999.000,9,     2.04,2, -999.000,9, -999.000,9, -999.000,9,   -999.0,9,   -999.0,9
           NA,     P15,    110,   1,      15,   12025,  2,20090312,1227,  -3.9941, -168.7552,  4861,    398.0,     9.47,   34.706,2,  34.7042,2,     72.7,2,     72.8,2,    28.14,2,    31.98,2, -999.000,9,     2.24,2, -999.000,9, -999.000,9, -999.000,9,   2227.8,2,   2302.2,2
           NA,     P15,    110,   1,      14,   12041,  2,20090312,1227,  -3.9941, -168.7552,  4861,    471.0,     8.59,   34.652,2,  34.6517,2,     68.6,2,     67.5,2,    33.00,2,    34.27,2, -999.000,9,     2.40,2, -999.000,9, -999.000,9, -999.000,9,   -999.0,9,   -999.0,9
           NA,     P15,    110,   1,      13,   12012,  2,20090312,1227,  -3.9941, -168.7552,  4861,    572.6,     7.44,   34.584,2,-999.0000,9,     87.5,2,     87.1,2,    38.20,2,    35.05,2, -999.000,9,     2.44,2, -999.000,9, -999.000,9, -999.000,9,   -999.0,9,   -999.0,9
           NA,     P15,    110,   1,      12,   12022,  2,20090312,1227,  -3.9941, -168.7552,  4861,    648.1,     7.03,   34.584,2,  34.5830,2,     44.5,2,     42.6,2,    49.22,2,    40.16,2, -999.000,9,     2.82,2, -999.000,9, -999.000,9, -999.000,9,   -999.0,9,   -999.0,9
           NA,     P15,    110,   1,      11,   12016,  2,20090312,1227,  -3.9941, -168.7552,  4861,    914.9,     5.10,   34.543,2,  34.5441,2,     81.3,2,     80.5,2,    71.56,2,    39.47,2, -999.000,9,     2.80,2, -999.000,9, -999.000,9, -999.000,9,   -999.0,9,   -999.0,9
           NA,     P15,    110,   1,      10,   12019,  2,20090312,1227,  -3.9941, -168.7552,  4861,   1315.2,     3.48,   34.574,2,  34.5755,2,    105.0,2,    105.3,2,   100.52,2,    38.25,2, -999.000,9,     2.74,2, -999.000,9, -999.000,9, -999.000,9,   -999.0,9,   -999.0,9
           NA,     P15,    110,   1,       9,   12031,  2,20090312,1227,  -3.9941, -168.7552,  4861,   1696.3,     2.62,   34.615,2,  34.6160,2,    115.0,2,    116.1,2,   121.72,2,    37.94,2, -999.000,9,     2.70,2, -999.000,9, -999.000,9, -999.000,9,   -999.0,9,   -999.0,9
           NA,     P15,    110,   1,       8,   12021,  2,20090312,1227,  -3.9941, -168.7552,  4861,   2096.1,     2.14,   34.644,2,  34.6447,2,    120.7,2,    121.5,2,   135.15,2,    37.87,2, -999.000,9,     2.68,2, -999.000,9, -999.000,9, -999.000,9,   -999.0,9,   -999.0,9
           NA,     P15,    110,   1,       7,   12032,  2,20090312,1227,  -3.9941, -168.7552,  4861,   2605.5,     1.82,   34.665,2,  34.6655,2,    133.0,2,    134.0,2,   139.81,2,    36.74,2, -999.000,9,     2.59,2, -999.000,9, -999.000,9, -999.000,9,   -999.0,9,   -999.0,9
           NA,     P15,    110,   1,       6,   12007,  2,20090312,1227,  -3.9941, -168.7552,  4861,   3062.8,     1.62,   34.676,2,  34.6767,2,    144.8,2,    146.1,2,   141.96,2,    36.26,2, -999.000,9,     2.54,2, -999.000,9, -999.000,9, -999.000,9,   -999.0,9,   -999.0,9
           NA,     P15,    110,   1,       5,   12002,  2,20090312,1227,  -3.9941, -168.7552,  4861,   3464.2,     1.51,   34.684,2,  34.6857,2,    153.3,2,    154.0,2,   141.31,2,    35.63,2, -999.000,9,     2.48,2, -999.000,9, -999.000,9, -999.000,9,   -999.0,9,   -999.0,9
           NA,     P15,    110,   1,       4,   12008,  2,20090312,1227,  -3.9941, -168.7552,  4861,   3856.4,     1.44,   34.690,2,  34.6940,2,    160.7,2,    160.9,2,   142.06,2,    35.33,2, -999.000,9,     2.44,2, -999.000,9, -999.000,9, -999.000,9,   -999.0,9,   -999.0,9
           NA,     P15,    110,   1,       3,   12033,  2,20090312,1227,  -3.9941, -168.7552,  4861,   4296.0,     1.35,   34.697,2,  34.6977,2,    175.7,2,    175.1,2,   134.20,2,    34.21,2, -999.000,9,     2.37,2, -999.000,9, -999.000,9, -999.000,9,   -999.0,9,   -999.0,9
           NA,     P15,    110,   1,       2,   12006,  2,20090312,1227,  -3.9941, -168.7552,  4861,   4821.1,     1.24,   34.704,2,  34.7083,2,    194.3,2,    192.9,2,   124.67,2,    32.78,2, -999.000,9,     2.28,2, -999.000,9, -999.000,9, -999.000,9,   -999.0,9,   -999.0,9
           NA,     P15,    110,   1,       1,   12045,  2,20090312,1227,  -3.9941, -168.7552,  4861,   5173.5,     1.20,   34.706,2,  34.7062,2,    199.8,2,    198.5,2,   122.68,2,    32.53,2, -999.000,9,     2.25,2, -999.000,9, -999.000,9, -999.000,9,   -999.0,9,   -999.0,9