BOTTLE,20214902JOAExport
EXPOCODE,SECT_ID,STNNBR,CASTNO,SAMPNO,BTLNBR,BTLNBR_FLAG_W,DATE,TIME,LATITUDE,LONGITUDE,DEPTH,CTDPRS,CTDTMP,CTDSAL,CTDSAL_FLAG_W,SALNTY,SALNTY_FLAG_W,CTDOXY,CTDOXY_FLAG_W,OXYGEN,OXYGEN_FLAG_W,SILCAT,SILCAT_FLAG_W,NITRAT,NITRAT_FLAG_W,NITRIT,NITRIT_FLAG_W,PHSPHT,PHSPHT_FLAG_W,CFC-11,CFC-11_FLAG_W,CFC-12,CFC-12_FLAG_W,SF6,SF6_FLAG_W,TCARBN,TCARBN_FLAG_W,ALKALI,ALKALI_FLAG_W
,,,,,,,,,,,,DB,ITS-90,PSS-78,,PSS-78,,UMOL/KG,,UMOL/KG,,UMOL/KG,,UMOL/KG,,UMOL/KG,,UMOL/KG,,PMOL/KG,,PMOL/KG,,FMOL/KG,,UMOL/KG,,UMOL/KG
           NA,     P15,     43,   1,      24,   12015,  2,20090217,1749, -32.9921, -169.9876,  5456,      3.5,    22.83,   35.326,2,  35.3273,2,    218.0,2,    216.6,2,     0.88,2,     0.00,2, -999.000,9,     0.03,2,    2.062,2,    1.223,2, -999.000,9,   2019.5,6,   2314.2,6
           NA,     P15,     43,   1,      23,   12046,  2,20090217,1749, -32.9921, -169.9876,  5456,     22.8,    22.83,   35.327,2,  35.3269,2,    217.8,2,    216.9,2,     0.88,2,     0.00,2, -999.000,9,     0.04,2,    2.066,6,    1.223,6, -999.000,9,   2018.6,2,   2313.4,2
           NA,     P15,     43,   1,      22,   12020,  2,20090217,1749, -32.9921, -169.9876,  5456,     56.6,    17.65,   35.507,2,  35.5091,2,    247.2,2,    246.9,2,     1.08,2,     0.00,2, -999.000,9,     0.08,2, -999.000,3,    1.666,2, -999.000,9,   2048.6,2,   2329.4,2
           NA,     P15,     43,   1,      21,   12003,  2,20090217,1749, -32.9921, -169.9876,  5456,    123.6,    15.96,   35.471,2,  35.4695,2,    212.5,2,    211.6,2,     1.82,2,     4.37,2, -999.000,9,     0.36,2, -999.000,3,    1.707,2, -999.000,9,   2088.1,2,   2328.3,2
           NA,     P15,     43,   1,      20,   12051,  2,20090217,1749, -32.9921, -169.9876,  5456,    178.9,    14.61,   35.302,2,  35.3003,2,    206.4,2,    206.6,2,     2.39,2,     6.83,2, -999.000,9,     0.52,2, -999.000,3, -999.000,3, -999.000,9,   2099.0,2,   2316.5,2
           NA,     P15,     43,   1,      19,   12010,  2,20090217,1749, -32.9921, -169.9876,  5456,    222.9,    13.46,   35.149,2,  35.1465,2,    200.6,2,    199.6,2,     3.02,2,     9.76,2, -999.000,9,     0.69,2,    2.721,2,    1.518,2, -999.000,9,   2114.2,2,   2311.8,2
           NA,     P15,     43,   1,      18,   12018,  2,20090217,1749, -32.9921, -169.9876,  5456,    263.4,    12.77,   35.089,2,  35.0831,2,    205.8,2,    205.9,2,     3.32,2,    10.69,2, -999.000,9,     0.75,2,    2.718,2,    1.568,2, -999.000,9,   2118.3,2,   2307.2,2
           NA,     P15,     43,   1,      17,   12024,  2,20090217,1749, -32.9921, -169.9876,  5456,    365.8,    10.49,   34.788,2,  34.7885,2,    208.8,2,    208.5,2,     4.60,2,    15.24,2, -999.000,9,     1.05,2,    2.864,2,    1.575,2, -999.000,9,   2130.8,2,   2293.0,2
           NA,     P15,     43,   1,      16,   12001,  2,20090217,1749, -32.9921, -169.9876,  5456,    464.4,     8.94,   34.598,2,  34.5961,2,    217.2,2,    216.9,2,     5.75,2,    18.64,2, -999.000,9,     1.24,2,    2.940,2,    1.568,2, -999.000,9,   2139.1,2,   2287.4,2
           NA,     P15,     43,   1,      15,   12025,  2,20090217,1749, -32.9921, -169.9876,  5456,    546.9,     7.88,   34.476,2,  34.4758,2,    230.7,2,    231.4,2,     6.25,2,    20.29,2, -999.000,9,     1.35,2,    3.051,2,    1.671,2, -999.000,9,   2141.8,2,   2282.7,2
           NA,     P15,     43,   1,      14,   12041,  2,20090217,1749, -32.9921, -169.9876,  5456,    630.9,     7.24,   34.413,2,  34.4147,2,    233.4,2,    234.5,2,     7.52,2,    22.05,2, -999.000,9,     1.45,2,    3.624,6,    1.732,6, -999.000,9,   2142.9,2,   2280.9,2
           NA,     P15,     43,   1,      13,   12012,  2,20090217,1749, -32.9921, -169.9876,  5456,    831.5,     6.23,   34.358,2,  34.3578,2,    219.8,2,    221.8,2,    13.60,2,    25.54,2, -999.000,9,     1.69,2,    1.948,2,    0.927,2, -999.000,9,   2154.9,2,   2281.1,2
           NA,     P15,     43,   1,      12,   12022,  2,20090217,1749, -32.9921, -169.9876,  5456,   1031.1,     4.94,   34.338,2,  34.3394,2,    200.1,2,    202.5,2,    26.88,2,    29.63,2, -999.000,9,     1.97,2,    0.761,2,    0.345,2, -999.000,9,   2184.2,6,   2292.8,6
           NA,     P15,     43,   1,      11,   12016,  2,20090217,1749, -32.9921, -169.9876,  5456,   1230.7,     3.80,   34.385,2,  34.3862,2,    182.1,2,    184.8,2,    46.23,2,    33.00,2, -999.000,9,     2.20,2,    0.252,2,    0.109,2, -999.000,9,   2215.1,2,   2310.2,2
           NA,     P15,     43,   1,      10,   12019,  2,20090217,1749, -32.9921, -169.9876,  5456,   1415.3,     3.12,   34.473,2,  34.4761,2,    167.8,2,    170.8,2,    66.44,2,    34.35,2, -999.000,9,     2.32,2,    0.058,2,    0.028,2, -999.000,9,   2245.6,2,   2330.3,6
           NA,     P15,     43,   1,       9,   12031,  2,20090217,1749, -32.9921, -169.9876,  5456,   1565.1,     2.81,   34.534,2,  34.5351,2,    159.7,2,    162.9,2,    80.56,2,    34.86,2, -999.000,9,     2.36,2,    0.034,2,    0.007,2, -999.000,9,   2261.8,2,   2346.7,2
           NA,     P15,     43,   1,       8,   12021,  2,20090217,1749, -32.9921, -169.9876,  5456,   1828.0,     2.45,   34.602,2,  34.6018,2,    150.1,2,    152.2,2,   102.64,2,    35.55,2, -999.000,9,     2.43,2,    0.003,2,    0.004,2, -999.000,9,   2287.8,2,   2375.8,2
           NA,     P15,     43,   1,       7,   12032,  2,20090217,1749, -32.9921, -169.9876,  5456,   2497.1,     2.03,   34.649,2,  34.6480,2,    144.9,2,    146.9,2,   124.53,2,    35.98,2, -999.000,9,     2.49,2,    0.023,2,    0.000,2, -999.000,9,   2311.6,2,   2398.0,2
           NA,     P15,     43,   1,       6,   12007,  2,20090217,1749, -32.9921, -169.9876,  5456,   2829.9,     1.90,   34.661,2,  34.6631,2,    146.8,2,    148.7,2,   129.06,2,    35.91,2, -999.000,9,     2.47,2,    0.024,2,    0.001,2, -999.000,9,   2316.1,2,   2404.9,2
           NA,     P15,     43,   1,       4,   12009,  2,20090217,1749, -32.9921, -169.9876,  5456,   3830.4,     1.44,   34.720,2,  34.7211,2,    194.7,2,    195.4,2,   110.71,2,    32.17,2, -999.000,9,     2.17,2,    0.030,6,    0.013,6, -999.000,9,   2263.3,2,   2364.0,6
           NA,     P15,     43,   1,       3,   12033,  2,20090217,1749, -32.9921, -169.9876,  5456,   4330.6,     1.12,   34.714,2,  34.7144,2,    204.4,2,    204.2,2,   117.69,2,    32.05,2, -999.000,9,     2.17,2,    0.056,2,    0.022,2, -999.000,9,   2263.2,2,   2360.6,2
           NA,     P15,     43,   1,       1,   12045,  2,20090217,1749, -32.9921, -169.9876,  5456,   5585.0,     1.11,   34.707,2,  34.7072,2,    208.5,2,    206.8,2,   122.86,2,    32.28,2, -999.000,9,     2.19,2,    0.083,2,    0.036,2, -999.000,9,   2264.2,6,   2366.6,6
           NA,     P15,     44,   1,      24,   12015,  2,20090218,0036, -32.5006, -169.9988,  5514,      3.0,    22.91,   35.487,2,  35.4862,2,    217.6,2,    216.8,2,     0.85,2,     0.00,2, -999.000,9,     0.03,2, -999.000,9, -999.000,9, -999.000,9,   2031.2,2,   2323.3,2
           NA,     P15,     44,   1,      23,   12046,  2,20090218,0036, -32.5006, -169.9988,  5514,     37.2,    20.11,   35.532,2,  35.5369,2,    249.2,2,    248.8,2,     0.90,2,     0.00,2, -999.000,9,     0.03,2, -999.000,9, -999.000,9, -999.000,9,   -999.0,9,   -999.0,9
           NA,     P15,     44,   1,      22,   12020,  2,20090218,0036, -32.5006, -169.9988,  5514,     53.3,    19.10,   35.552,2,  35.5515,2,    248.1,2,    247.9,2,     0.89,2,     0.00,2, -999.000,9,     0.05,2, -999.000,9, -999.000,9, -999.000,9,   2039.0,2,   2327.4,2
           NA,     P15,     44,   1,      21,   12003,  2,20090218,0036, -32.5006, -169.9988,  5514,    147.1,    15.89,   35.439,2,  35.4356,2,    206.9,2,    207.1,2,     1.76,2,     4.64,2, -999.000,9,     0.38,2, -999.000,9, -999.000,9, -999.000,9,   2090.1,2,   2322.5,2
           NA,     P15,     44,   1,      20,   12051,  2,20090218,0036, -32.5006, -169.9988,  5514,    196.3,    14.69,   35.289,2,  35.2881,2,    199.5,2,    198.7,2,     2.43,2,     7.68,2, -999.000,9,     0.56,2, -999.000,9, -999.000,9, -999.000,9,   -999.0,9,   -999.0,9
           NA,     P15,     44,   1,      19,   12010,  2,20090218,0036, -32.5006, -169.9988,  5514,    246.5,    13.48,   35.165,2,  35.1687,2,    202.5,2,    201.8,2,     2.96,2,     9.56,2, -999.000,9,     0.67,2, -999.000,9, -999.000,9, -999.000,9,   2113.2,2,   2307.5,2
           NA,     P15,     44,   1,      18,   12018,  2,20090218,0036, -32.5006, -169.9988,  5514,    297.9,    12.46,   35.049,2,  35.0504,2,    207.0,2,    206.3,2,     3.46,2,    11.28,2, -999.000,9,     0.78,2, -999.000,9, -999.000,9, -999.000,9,   -999.0,9,   -999.0,9
           NA,     P15,     44,   1,      17,   12024,  2,20090218,0036, -32.5006, -169.9988,  5514,    396.1,    10.06,   34.732,2,  34.7298,2,    216.2,2,    215.9,2,     4.55,2,    15.61,2, -999.000,9,     1.06,2, -999.000,9, -999.000,9, -999.000,9,   -999.0,9,   -999.0,9
           NA,     P15,     44,   1,      16,   12001,  2,20090218,0036, -32.5006, -169.9988,  5514,    498.6,     8.52,   34.543,2,  34.5445,2,    226.3,2,    226.2,2,     5.51,2,    18.86,2, -999.000,9,     1.26,2, -999.000,9, -999.000,9, -999.000,9,   -999.0,9,   -999.0,9
           NA,     P15,     44,   1,      15,   12025,  2,20090218,0036, -32.5006, -169.9988,  5514,    597.3,     7.63,   34.447,2,  34.4471,2,    234.2,2,    235.4,2,     6.51,2,    20.75,2, -999.000,9,     1.38,2, -999.000,9, -999.000,9, -999.000,9,   -999.0,9,   -999.0,9
           NA,     P15,     44,   1,      14,   12041,  2,20090218,0036, -32.5006, -169.9988,  5514,    697.3,     7.06,   34.401,2,  34.4051,2,    232.3,2,    233.9,2,     8.14,2,    22.57,2, -999.000,9,     1.49,2, -999.000,9, -999.000,9, -999.000,9,   -999.0,9,   -999.0,9
           NA,     P15,     44,   1,      13,   12012,  2,20090218,0036, -32.5006, -169.9988,  5514,    896.7,     5.92,   34.333,2,  34.3344,2,    220.9,2,    223.5,2,    14.26,2,    26.13,2, -999.000,9,     1.73,2, -999.000,9, -999.000,9, -999.000,9,   -999.0,9,   -999.0,9
           NA,     P15,     44,   1,      12,   12022,  2,20090218,0036, -32.5006, -169.9988,  5514,   1096.7,     4.59,   34.343,2,  34.3441,2,    194.5,2,    197.1,2,    31.78,2,    30.81,2, -999.000,9,     2.05,2, -999.000,9, -999.000,9, -999.000,9,   -999.0,9,   -999.0,9
           NA,     P15,     44,   1,      11,   12016,  2,20090218,0036, -32.5006, -169.9988,  5514,   1297.1,     3.56,   34.414,2,  34.4157,2,    176.8,2,    179.5,2,    52.67,2,    33.27,2, -999.000,9,     2.25,2, -999.000,9, -999.000,9, -999.000,9,   -999.0,9,   -999.0,9
           NA,     P15,     44,   1,      10,   12019,  2,20090218,0036, -32.5006, -169.9988,  5514,   1496.3,     2.96,   34.498,2,  34.4999,2,    164.2,2,    166.7,2,    71.94,2,    34.30,2, -999.000,9,     2.35,2, -999.000,9, -999.000,9, -999.000,9,   -999.0,9,   -999.0,9
           NA,     P15,     44,   1,       9,   12031,  2,20090218,0036, -32.5006, -169.9988,  5514,   1696.1,     2.59,   34.577,2,  34.5773,2,    154.1,2,    156.9,2,    92.52,2,    35.03,2, -999.000,9,     2.39,2, -999.000,9, -999.000,9, -999.000,9,   -999.0,9,   -999.0,9
           NA,     P15,     44,   1,       8,   12021,  2,20090218,0036, -32.5006, -169.9988,  5514,   1995.6,     2.31,   34.621,2,  34.6217,2,    147.7,2,    149.6,2,   109.76,2,    35.43,2, -999.000,9,     2.45,2, -999.000,9, -999.000,9, -999.000,9,   -999.0,9,   -999.0,9
           NA,     P15,     44,   1,       7,   12032,  2,20090218,0036, -32.5006, -169.9988,  5514,   2497.9,     2.03,   34.649,2,  34.6486,2,    144.7,2,    146.0,2,   124.39,2,    35.81,2, -999.000,9,     2.48,2, -999.000,9, -999.000,9, -999.000,9,   -999.0,9,   -999.0,9
           NA,     P15,     44,   1,       6,   12007,  2,20090218,0036, -32.5006, -169.9988,  5514,   2998.6,     1.83,   34.668,2,  34.6675,2,    149.3,2,    149.9,2,   130.27,2,    35.79,2, -999.000,9,     2.47,2, -999.000,9, -999.000,9, -999.000,9,   -999.0,9,   -999.0,9
           NA,     P15,     44,   1,       5,   12002,  2,20090218,0036, -32.5006, -169.9988,  5514,   3496.9,     1.64,   34.702,2,  34.7024,2,    175.7,2,    176.0,2,   117.22,2,    33.37,2, -999.000,9,     2.30,2, -999.000,9, -999.000,9, -999.000,9,   -999.0,9,   -999.0,9
           NA,     P15,     44,   1,       3,   12033,  2,20090218,0036, -32.5006, -169.9988,  5514,   4497.2,     1.07,   34.711,2,  34.7121,2,    205.6,2,   -999.0,9,   119.78,2,    31.93,2, -999.000,9,     2.18,2, -999.000,9, -999.000,9, -999.000,9,   -999.0,9,   -999.0,9
           NA,     P15,     44,   1,       2,   12006,  2,20090218,0036, -32.5006, -169.9988,  5514,   4996.5,     1.04,   34.708,2,  34.7072,2,    207.7,2,    206.8,2,   122.36,2,    32.21,2, -999.000,9,     2.19,2, -999.000,9, -999.000,9, -999.000,9,   -999.0,9,   -999.0,9
           NA,     P15,     44,   1,       1,   12045,  2,20090218,0036, -32.5006, -169.9988,  5514,   5657.8,     1.12,   34.707,2,  34.7070,2,    208.7,2,    205.8,2,   122.70,2,    32.16,2, -999.000,9,     2.18,2, -999.000,9, -999.000,9, -999.000,9,   -999.0,9,   -999.0,9
           NA,     P15,     45,   1,      24,   12015,  2,20090218,0749, -32.0006, -169.9888,  5648,      1.7,    23.13,   35.520,2,  35.5202,2,    214.8,2,    215.5,2,     0.78,2,     0.00,2, -999.000,9,     0.03,2,    2.029,2,    1.226,2, -999.000,9,   2031.2,6,   2324.8,6
           NA,     P15,     45,   1,      23,   12046,  2,20090218,0749, -32.0006, -169.9888,  5648,     36.8,    22.35,   35.531,2,  35.5176,2,    220.0,2,    218.1,2,     0.79,2,     0.00,2, -999.000,9,     0.03,2,    2.077,2,    1.272,2, -999.000,9,   2032.4,2,   2323.4,2
           NA,     P15,     45,   1,      22,   12020,  2,20090218,0749, -32.0006, -169.9888,  5648,     64.5,    18.50,   35.521,2,  35.5233,2,    250.3,2,    249.7,2,     0.90,2,     0.00,2, -999.000,9,     0.06,2,    2.627,2,    1.533,2, -999.000,9,   2040.6,2,   2330.0,2
           NA,     P15,     45,   1,      21,   12003,  2,20090218,0749, -32.0006, -169.9888,  5648,    107.5,    16.49,   35.488,2,  35.4855,2,    222.1,2,    221.8,2,     1.32,2,     1.11,2, -999.000,9,     0.21,2,    2.703,2,    1.543,2, -999.000,9,   2075.0,2,   2323.8,2
           NA,     P15,     45,   1,      20,   12051,  2,20090218,0749, -32.0006, -169.9888,  5648,    147.4,    15.44,   35.379,2,  35.3821,2,    209.5,2,    208.5,2,     1.78,2,     4.79,2, -999.000,9,     0.39,2,    2.789,6,    1.581,6, -999.000,9,   2092.3,2,   2317.2,2
           NA,     P15,     45,   1,      19,   12010,  2,20090218,0749, -32.0006, -169.9888,  5648,    211.6,    13.76,   35.169,2,  35.1801,2,    197.1,2,    198.5,2,     2.82,2,     9.47,2, -999.000,9,     0.69,2,    2.873,2,    1.554,2, -999.000,9,   2110.4,2,   2305.5,2
           NA,     P15,     45,   1,      18,   12018,  2,20090218,0749, -32.0006, -169.9888,  5648,    321.8,    11.74,   34.954,2,  34.9492,2,    208.9,2,    208.3,2,     3.71,2,    12.50,2, -999.000,9,     0.87,2,    3.131,2,    1.690,2, -999.000,9,   2123.8,2,   2297.4,2
           NA,     P15,     45,   1,      17,   12024,  2,20090218,0749, -32.0006, -169.9888,  5648,    429.8,     9.28,   34.634,2,  34.6360,2,    218.5,2,    218.7,2,     5.00,2,    17.21,2, -999.000,9,     1.16,2,    3.605,2,    1.815,2, -999.000,9,   2133.7,2,   2283.0,2
           NA,     P15,     45,   1,      16,   12001,  2,20090218,0749, -32.0006, -169.9888,  5648,    530.6,     8.10,   34.501,2,  34.5017,2,    227.5,2,    228.1,2,     5.84,2,    19.92,2, -999.000,9,     1.33,2,    3.756,2,    1.866,2, -999.000,9,   2141.9,2,   2280.0,6
           NA,     P15,     45,   1,      15,   12025,  2,20090218,0749, -32.0006, -169.9888,  5648,    630.1,     7.47,   34.441,2,  34.4398,2,    228.7,2,    229.4,2,     7.28,2,    21.64,2, -999.000,9,     1.44,2,    3.426,2,    1.663,2, -999.000,9,   2145.2,2,   2276.1,2
           NA,     P15,     45,   1,      14,   12041,  2,20090218,0749, -32.0006, -169.9888,  5648,    747.6,     6.86,   34.397,2,  34.3996,2,    224.8,2,    227.1,2,     9.62,2,    23.48,2, -999.000,9,     1.55,2,    2.520,2,    1.219,2, -999.000,9,   2149.5,2,   2280.7,2
           NA,     P15,     45,   1,      13,   12012,  2,20090218,0749, -32.0006, -169.9888,  5648,    897.6,     5.98,   34.342,2,  34.3423,2,    219.2,2,    221.5,2,    14.41,2,    26.00,2, -999.000,9,     1.73,2,    1.496,6,    0.723,6, -999.000,9,   2158.5,2,   2279.4,2
           NA,     P15,     45,   1,      12,   12022,  2,20090218,0749, -32.0006, -169.9888,  5648,    997.1,     5.43,   34.340,2,  34.3403,2,    206.2,2,    209.3,2,    21.10,2,    28.23,2, -999.000,9,     1.88,2,    1.237,2,    0.604,2, -999.000,9,   2173.1,6,   2286.3,6
           NA,     P15,     45,   1,      11,   12016,  2,20090218,0749, -32.0006, -169.9888,  5648,   1363.8,     3.39,   34.434,2,  34.4349,2,    173.1,2,    176.0,2,    56.97,2,    33.77,2, -999.000,9,     2.27,2,    0.116,2,    0.055,2, -999.000,9,   2234.9,2,   2319.6,2
           NA,     P15,     45,   1,      10,   12019,  2,20090218,0749, -32.0006, -169.9888,  5648,   1563.9,     2.81,   34.530,2,  34.5319,2,    160.4,2,    163.0,2,    78.37,2,    34.76,2, -999.000,9,     2.36,2,    0.014,2,    0.009,2, -999.000,9,   2260.1,2,   2344.6,2
           NA,     P15,     45,   1,       9,   12031,  2,20090218,0749, -32.0006, -169.9888,  5648,   1778.9,     2.49,   34.595,2,  34.5963,2,    151.5,2,    154.1,2,    98.35,2,    35.20,2, -999.000,9,     2.40,2,    0.002,2,    0.002,2, -999.000,9,   2285.9,2,   2365.9,2
           NA,     P15,     45,   1,       8,   12021,  2,20090218,0749, -32.0006, -169.9888,  5648,   2129.9,     2.20,   34.632,2,  34.6339,2,    145.7,2,    147.7,2,   114.42,2,    35.72,2, -999.000,9,     2.44,2, -999.000,3, -999.000,3, -999.000,9,   2303.3,2,   2386.2,2
           NA,     P15,     45,   1,       7,   12032,  2,20090218,0749, -32.0006, -169.9888,  5648,   2498.3,     2.01,   34.650,2,-999.0000,9,    144.8,2,    146.7,2,   123.94,2,    36.14,2, -999.000,9,     2.47,2,    0.001,6,   -0.001,6, -999.000,9,   2315.0,2,   2395.3,2
           NA,     P15,     45,   1,       6,   12007,  2,20090218,0749, -32.0006, -169.9888,  5648,   2999.4,     1.80,   34.671,2,  34.6722,2,    151.2,2,    152.1,2,   128.45,2,    35.67,2, -999.000,9,     2.43,2,    0.001,2,    0.000,2, -999.000,9,   2309.9,2,   2400.3,6
           NA,     P15,     45,   1,       5,   12002,  2,20090218,0749, -32.0006, -169.9888,  5648,   3664.2,     1.51,   34.716,2,  34.7219,2,    189.3,2,    190.5,2,   110.30,2,    32.30,2, -999.000,9,     2.18,2,    0.015,2,    0.009,2, -999.000,9,   2269.8,2,   2363.5,2
           NA,     P15,     45,   1,       4,   12009,  2,20090218,0749, -32.0006, -169.9888,  5648,   4164.0,     1.18,   34.716,2,  34.7178,2,    202.4,2,    201.7,2,   113.91,2,  -999.00,9, -999.000,9,     2.16,2,    0.036,2,    0.017,2, -999.000,9,   2262.2,2,   2361.7,2
           NA,     P15,     45,   1,       3,   12033,  2,20090218,0749, -32.0006, -169.9888,  5648,   4663.7,     1.04,   34.709,2,  34.7107,2,    206.9,2,    205.9,2,   119.65,2,  -999.00,9, -999.000,9,     2.17,2, -999.000,9, -999.000,9, -999.000,9,   2262.3,2,   2359.3,2
           NA,     P15,     45,   1,       2,   12006,  2,20090218,0749, -32.0006, -169.9888,  5648,   5165.3,     1.06,   34.708,2,  34.7085,2,    208.1,2,    206.6,2,   121.34,2,    32.34,2, -999.000,9,     2.18,2,    0.091,2,    0.034,2, -999.000,9,   2264.5,2,   2362.0,2
           NA,     P15,     45,   1,       1,   12045,  2,20090218,0749, -32.0006, -169.9888,  5648,   5780.9,     1.13,   34.707,2,  34.7083,2,    208.6,2,    206.4,2,   121.72,2,    32.30,2, -999.000,9,     2.17,2,    0.086,2,    0.033,2, -999.000,9,   2264.9,6,   2364.9,6