BOTTLE,20214902JOAExport
EXPOCODE,SECT_ID,STNNBR,CASTNO,SAMPNO,BTLNBR,BTLNBR_FLAG_W,DATE,TIME,LATITUDE,LONGITUDE,DEPTH,CTDPRS,CTDTMP,CTDSAL,CTDSAL_FLAG_W,SALNTY,SALNTY_FLAG_W,CTDOXY,CTDOXY_FLAG_W,OXYGEN,OXYGEN_FLAG_W,SILCAT,SILCAT_FLAG_W,NITRAT,NITRAT_FLAG_W,NITRIT,NITRIT_FLAG_W,PHSPHT,PHSPHT_FLAG_W,CFC-11,CFC-11_FLAG_W,CFC-12,CFC-12_FLAG_W,SF6,SF6_FLAG_W,TCARBN,TCARBN_FLAG_W,ALKALI,ALKALI_FLAG_W
,,,,,,,,,,,,DB,ITS-90,PSS-78,,PSS-78,,UMOL/KG,,UMOL/KG,,UMOL/KG,,UMOL/KG,,UMOL/KG,,UMOL/KG,,PMOL/KG,,PMOL/KG,,FMOL/KG,,UMOL/KG,,UMOL/KG
           NA,     P15,    111,   1,      24,   12014,  2,20090312,1858,  -3.4905, -168.7561,  4960,      3.3,    27.87,   35.442,2,-999.0000,9,    203.2,2,    201.1,2,     2.41,2,     4.77,2, -999.000,9,     0.53,2,    1.727,6,    1.023,6, -999.000,9,   2031.2,6,   2332.6,6
           NA,     P15,    111,   1,      23,   12046,  2,20090312,1858,  -3.4905, -168.7561,  4960,     21.1,    27.82,   35.446,2,  35.4448,2,    202.9,2,    200.9,2,     2.41,2,     4.71,2, -999.000,9,     0.53,2,    1.715,2,    1.030,2, -999.000,9,   2030.4,2,   2332.4,2
           NA,     P15,    111,   1,      22,   12020,  2,20090312,1858,  -3.4905, -168.7561,  4960,     47.4,    27.61,   35.481,2,-999.0000,9,    202.4,2,    200.9,2,     2.45,2,     4.83,2, -999.000,9,     0.55,2,    1.749,2,    1.038,2, -999.000,9,   2034.0,2,   2334.1,6
           NA,     P15,    111,   1,      21,   12003,  2,20090312,1858,  -3.4905, -168.7561,  4960,     97.2,    27.01,   35.392,2,  35.3920,2,    200.2,2,    199.5,2,     2.72,2,     5.35,2, -999.000,9,     0.59,2,    1.772,2,    1.056,2, -999.000,9,   2039.7,2,   2330.7,2
           NA,     P15,    111,   1,      20,   12051,  2,20090312,1858,  -3.4905, -168.7561,  4960,    157.1,    24.43,   35.869,2,  35.8526,2,    152.0,2,    150.5,2,     2.78,2,     8.23,2, -999.000,9,     0.80,2,    1.965,2,    1.163,2, -999.000,9,   2102.3,2,   2355.1,2
           NA,     P15,    111,   1,      19,   12010,  2,20090312,1858,  -3.4905, -168.7561,  4960,    196.1,    16.04,   35.242,2,  35.2369,2,     82.5,2,     81.8,2,    10.93,2,    20.68,2, -999.000,9,     1.61,2,    1.782,2,    0.981,2, -999.000,9,   2185.0,2,   2322.1,2
           NA,     P15,    111,   1,      18,   12035,  2,20090312,1858,  -3.4905, -168.7561,  4960,    227.1,    14.15,   35.079,2,-999.0000,9,     79.8,2,     79.3,2,    14.32,2,    23.37,2, -999.000,9,     1.77,2,    1.491,2,    0.815,2, -999.000,9,   2194.5,2,   2313.9,2
           NA,     P15,    111,   1,      17,   12024,  2,20090312,1858,  -3.4905, -168.7561,  4960,    297.8,    10.80,   34.806,2,  34.8045,2,     86.2,2,     85.8,2,    22.05,2,    28.09,2, -999.000,9,     1.99,2,    0.923,2,    0.490,2, -999.000,9,   2208.6,2,   2304.6,2
           NA,     P15,    111,   1,      16,   12001,  2,20090312,1858,  -3.4905, -168.7561,  4960,    347.9,    10.02,   34.741,2,-999.0000,9,     82.1,2,     81.7,2,    25.38,2,    29.86,2, -999.000,9,     2.09,2,    0.754,2,    0.397,2, -999.000,9,   2217.7,2,   2300.4,6
           NA,     P15,    111,   1,      15,   12025,  2,20090312,1858,  -3.4905, -168.7561,  4960,    417.0,     9.39,   34.697,2,  34.6948,2,     70.4,2,     69.7,2,    29.24,2,    32.59,2, -999.000,9,     2.26,2,    0.528,2,    0.276,2, -999.000,9,   2231.8,2,   2301.4,2
           NA,     P15,    111,   1,      14,   12041,  2,20090312,1858,  -3.4905, -168.7561,  4960,    516.7,     8.22,   34.632,2,-999.0000,9,     59.0,2,     59.2,2,    36.27,2,    36.06,2, -999.000,9,     2.51,2,    0.280,2,    0.144,2, -999.000,9,   2251.3,2,   2305.5,2
           NA,     P15,    111,   1,      13,   12012,  2,20090312,1858,  -3.4905, -168.7561,  4960,    647.8,     6.80,   34.576,2,  34.5749,2,     47.5,2,     46.0,2,    50.90,2,    40.28,2, -999.000,9,     2.84,2,    0.045,2,    0.022,2, -999.000,9,   2278.4,2,   2312.9,2
           NA,     P15,    111,   1,      12,   12022,  2,20090312,1858,  -3.4905, -168.7561,  4960,    756.8,     6.05,   34.540,2,  34.5396,2,     91.4,2,     90.4,2,  -999.00,9,  -999.00,9, -999.000,9,  -999.00,9,    0.080,2,    0.051,2, -999.000,9,   2258.4,6,   2318.3,6
           NA,     P15,    111,   1,      11,   12016,  2,20090312,1858,  -3.4905, -168.7561,  4960,   1047.6,     4.29,   34.553,2,  34.5521,2,     93.1,2,     92.5,2,    85.15,2,    38.83,2, -999.000,9,     2.79,2,    0.010,2,    0.004,2, -999.000,9,   2297.1,2,   2355.7,2
           NA,     P15,    111,   1,      10,   12019,  2,20090312,1858,  -3.4905, -168.7561,  4960,   1434.8,     3.11,   34.593,2,  34.5948,2,    104.7,2,    104.3,2,   111.86,2,    38.71,2, -999.000,9,     2.76,2,    0.003,2,   -0.002,2, -999.000,9,   2320.4,2,   2383.7,2
           NA,     P15,    111,   1,       9,   12031,  2,20090312,1858,  -3.4905, -168.7561,  4960,   1848.3,     2.41,   34.629,2,  34.6286,2,    113.7,2,    113.5,2,   129.11,2,    38.16,2, -999.000,9,     2.72,2,    0.002,2,   -0.001,2, -999.000,9,   2334.5,2,   2404.5,2
           NA,     P15,    111,   1,       8,   12021,  2,20090312,1858,  -3.4905, -168.7561,  4960,   2247.9,     2.06,   34.650,2,  34.6492,2,    125.5,2,    125.5,2,   134.56,2,    37.31,2, -999.000,9,     2.63,2,    0.001,2,   -0.001,2, -999.000,9,   2333.4,2,   2409.5,2
           NA,     P15,    111,   1,       7,   12032,  2,20090312,1858,  -3.4905, -168.7561,  4960,   2749.3,     1.77,   34.668,2,  34.6677,2,    136.3,2,    136.0,2,   140.67,2,    36.90,2, -999.000,9,     2.59,2,    0.004,2,   -0.001,2, -999.000,9,   2332.7,2,   2417.9,2
           NA,     P15,    111,   1,       6,   12007,  2,20090312,1858,  -3.4905, -168.7561,  4960,   3197.7,     1.59,   34.679,2,  34.6781,2,    148.4,2,    148.2,2,   140.52,2,    35.96,2, -999.000,9,     2.51,2,    0.009,2,    0.003,2, -999.000,9,   2326.9,2,   2415.5,2
           NA,     P15,    111,   1,       5,   12002,  2,20090312,1858,  -3.4905, -168.7561,  4960,   3599.1,     1.49,   34.686,2,  34.6869,2,    156.5,2,    156.0,2,   141.16,2,    35.68,2, -999.000,9,     2.47,2,    0.003,6,    0.000,6, -999.000,9,   2321.6,2,   2415.0,2
           NA,     P15,    111,   1,       4,   12008,  2,20090312,1858,  -3.4905, -168.7561,  4960,   3998.3,     1.41,   34.693,2,  34.6926,2,    166.2,2,    165.4,2,   138.76,2,    34.94,2, -999.000,9,     2.41,2,    0.004,2,   -0.001,2, -999.000,9,   2314.2,2,   2414.3,2
           NA,     P15,    111,   1,       3,   12033,  2,20090312,1858,  -3.4905, -168.7561,  4960,   4497.3,     1.33,   34.699,2,  34.6993,2,    182.0,2,    180.3,2,   130.92,2,    33.96,2, -999.000,9,     2.35,2,    0.004,2,    0.000,2, -999.000,9,   2296.1,2,   2392.0,2
           NA,     P15,    111,   1,       2,   12006,  2,20090312,1858,  -3.4905, -168.7561,  4960,   4846.2,     1.22,   34.705,2,  34.7060,2,    196.1,2,    194.1,2,   123.36,2,    32.81,2, -999.000,9,     2.27,2,    0.024,6,    0.009,6, -999.000,9,   2276.5,2,   2376.0,2
           NA,     P15,    111,   1,       1,   12045,  2,20090312,1858,  -3.4905, -168.7561,  4960,   5056.5,     1.20,   34.706,2,  34.7081,2,    200.1,2,   -999.0,9,   122.50,2,    32.70,2, -999.000,9,     2.25,2,    0.031,2,    0.014,2, -999.000,9,   2271.9,6,   2372.5,6
           NA,     P15,    112,   1,      24,   12014,  2,20090313,0203,  -2.9931, -168.7543,  5344,      4.4,    28.05,   35.425,2,  35.4279,2,    203.3,2,    201.9,2,     2.16,2,     4.76,2, -999.000,9,     0.53,2, -999.000,9, -999.000,9, -999.000,9,   2031.9,6,   2330.9,6
           NA,     P15,    112,   1,      23,   12046,  2,20090313,0203,  -2.9931, -168.7543,  5344,     30.5,    27.77,   35.470,2,-999.0000,9,    203.7,2,    202.3,2,     2.20,2,     4.56,2, -999.000,9,     0.51,2, -999.000,9, -999.000,9, -999.000,9,   -999.0,9,   -999.0,9
           NA,     P15,    112,   1,      22,   12020,  2,20090313,0203,  -2.9931, -168.7543,  5344,     60.4,    27.89,   35.542,2,  35.5425,2,    201.7,2,    200.2,2,     2.22,2,     4.53,2, -999.000,9,     0.53,2, -999.000,9, -999.000,9, -999.000,9,   2029.8,2,   2340.5,2
           NA,     P15,    112,   1,      21,   12003,  2,20090313,0203,  -2.9931, -168.7543,  5344,    114.3,    27.26,   35.577,2,  35.5809,2,    187.1,2,    187.5,2,     2.48,2,     5.57,2, -999.000,9,     0.62,2, -999.000,9, -999.000,9, -999.000,9,   2048.8,2,   2341.0,2
           NA,     P15,    112,   1,      20,   12051,  2,20090313,0203,  -2.9931, -168.7543,  5344,    173.2,    21.14,   35.721,2,  35.6628,2,    131.7,2,    125.7,2,     4.51,2,    12.06,2, -999.000,9,     1.08,2, -999.000,9, -999.000,9, -999.000,9,   2140.1,2,   2349.1,2
           NA,     P15,    112,   1,      19,   12010,  2,20090313,0203,  -2.9931, -168.7543,  5344,    221.9,    13.36,   35.023,2,-999.0000,9,     87.2,2,     86.9,2,    15.12,2,    23.61,2, -999.000,9,     1.78,2, -999.000,9, -999.000,9, -999.000,9,   2192.8,2,   2313.3,2
           NA,     P15,    112,   1,      18,   12035,  2,20090313,0203,  -2.9931, -168.7543,  5344,    273.9,    11.52,   34.873,2,  34.8700,2,    100.6,2,    100.5,2,    18.29,2,    25.21,2, -999.000,9,     1.83,2, -999.000,9, -999.000,9, -999.000,9,   -999.0,9,   -999.0,9
           NA,     P15,    112,   1,      17,   12024,  2,20090313,0203,  -2.9931, -168.7543,  5344,    314.1,    10.16,   34.758,2,-999.0000,9,     82.9,2,     82.8,2,    24.56,2,    29.77,2, -999.000,9,     2.09,2, -999.000,9, -999.000,9, -999.000,9,   -999.0,9,   -999.0,9
           NA,     P15,    112,   1,      16,   12001,  2,20090313,0203,  -2.9931, -168.7543,  5344,    368.3,     9.60,   34.710,2,  34.7087,2,     74.5,2,     74.2,2,    27.95,2,    31.64,2, -999.000,9,     2.20,2, -999.000,9, -999.000,9, -999.000,9,   2225.4,2,   2304.7,2
           NA,     P15,    112,   1,      15,   12025,  2,20090313,0203,  -2.9931, -168.7543,  5344,    455.0,     8.73,   34.660,2,  34.6592,2,     71.8,2,     71.6,2,    31.47,2,    33.73,2, -999.000,9,     2.35,2, -999.000,9, -999.000,9, -999.000,9,   2236.8,2,   2303.5,2
           NA,     P15,    112,   1,      14,   12041,  2,20090313,0203,  -2.9931, -168.7543,  5344,    554.4,     7.37,   34.596,2,  34.5954,2,     44.4,2,     44.0,2,    45.21,2,    39.43,2, -999.000,9,     2.79,2, -999.000,9, -999.000,9, -999.000,9,   2271.3,2,   2307.6,2
           NA,     P15,    112,   1,      13,   12012,  2,20090313,0203,  -2.9931, -168.7543,  5344,    694.5,     6.14,   34.556,2,  34.5567,2,     59.6,2,     59.3,2,    57.87,2,    40.08,2, -999.000,9,     2.85,2, -999.000,9, -999.000,9, -999.000,9,   -999.0,9,   -999.0,9
           NA,     P15,    112,   1,      12,   12022,  2,20090313,0203,  -2.9931, -168.7543,  5344,    898.3,     4.77,   34.545,2,  34.5447,2,     85.4,2,     85.3,2,    75.93,2,    38.96,2, -999.000,9,     2.80,2, -999.000,9, -999.000,9, -999.000,9,   -999.0,9,   -999.0,9
           NA,     P15,    112,   1,      11,   12016,  2,20090313,0203,  -2.9931, -168.7543,  5344,   1155.2,     3.84,   34.566,2,  34.5661,2,     95.3,2,     95.3,2,    95.86,2,    38.82,2, -999.000,9,     2.80,2, -999.000,9, -999.000,9, -999.000,9,   -999.0,9,   -999.0,9
           NA,     P15,    112,   1,      10,   12019,  2,20090313,0203,  -2.9931, -168.7543,  5344,   1580.9,     2.80,   34.608,2,  34.6085,2,    106.9,2,    107.6,2,   119.94,2,    38.31,2, -999.000,9,     2.76,2, -999.000,9, -999.000,9, -999.000,9,   -999.0,9,   -999.0,9
           NA,     P15,    112,   1,       9,   12031,  2,20090313,0203,  -2.9931, -168.7543,  5344,   1979.1,     2.26,   34.637,2,  34.6376,2,    116.9,2,    117.8,2,   133.14,2,    37.81,2, -999.000,9,     2.71,2, -999.000,9, -999.000,9, -999.000,9,   -999.0,9,   -999.0,9
           NA,     P15,    112,   1,       8,   12021,  2,20090313,0203,  -2.9931, -168.7543,  5344,   2396.6,     1.94,   34.656,2,  34.6565,2,    127.8,2,    128.5,2,   138.38,2,    37.21,2, -999.000,9,     2.63,2, -999.000,9, -999.000,9, -999.000,9,   -999.0,9,   -999.0,9
           NA,     P15,    112,   1,       7,   12032,  2,20090313,0203,  -2.9931, -168.7543,  5344,   2905.4,     1.69,   34.673,2,  34.6726,2,    140.7,2,    141.3,2,   140.83,2,    36.38,2, -999.000,9,     2.56,2, -999.000,9, -999.000,9, -999.000,9,   -999.0,9,   -999.0,9
           NA,     P15,    112,   1,       6,   12007,  2,20090313,0203,  -2.9931, -168.7543,  5344,   3339.5,     1.56,   34.681,2,  34.6800,2,    150.3,2,    150.3,2,   141.48,2,    35.88,2, -999.000,9,     2.51,2, -999.000,9, -999.000,9, -999.000,9,   -999.0,9,   -999.0,9
           NA,     P15,    112,   1,       5,   12002,  2,20090313,0203,  -2.9931, -168.7543,  5344,   3726.6,     1.48,   34.688,2,  34.6869,2,    159.2,2,    155.6,2,   140.55,2,    35.29,2, -999.000,9,     2.45,2, -999.000,9, -999.000,9, -999.000,9,   -999.0,9,   -999.0,9
           NA,     P15,    112,   1,       4,   12008,  2,20090313,0203,  -2.9931, -168.7543,  5344,   4129.5,     1.39,   34.695,2,  34.6936,2,    172.1,2,    170.7,2,   136.12,2,    34.64,2, -999.000,9,     2.40,2, -999.000,9, -999.000,9, -999.000,9,   -999.0,9,   -999.0,9
           NA,     P15,    112,   1,       3,   12033,  2,20090313,0203,  -2.9931, -168.7543,  5344,   4648.1,     1.30,   34.702,2,  34.7011,2,    188.0,2,    186.0,2,   127.70,2,    33.34,2, -999.000,9,     2.32,2, -999.000,9, -999.000,9, -999.000,9,   -999.0,9,   -999.0,9
           NA,     P15,    112,   1,       2,   12006,  2,20090313,0203,  -2.9931, -168.7543,  5344,   5196.6,     1.21,   34.706,2,  34.7066,2,    201.2,2,    198.4,2,   122.44,2,    32.62,2, -999.000,9,     2.26,2, -999.000,9, -999.000,9, -999.000,9,   -999.0,9,   -999.0,9
           NA,     P15,    112,   1,       1,   12045,  2,20090313,0203,  -2.9931, -168.7543,  5344,   5459.7,     1.25,   34.706,2,  34.7077,2,    201.7,2,    198.7,2,   122.23,2,    32.50,2, -999.000,9,     2.24,2, -999.000,9, -999.000,9, -999.000,9,   -999.0,9,   -999.0,9