BOTTLE,20214902JOAExport
EXPOCODE,SECT_ID,STNNBR,CASTNO,SAMPNO,BTLNBR,BTLNBR_FLAG_W,DATE,TIME,LATITUDE,LONGITUDE,DEPTH,CTDPRS,CTDTMP,CTDSAL,CTDSAL_FLAG_W,SALNTY,SALNTY_FLAG_W,CTDOXY,CTDOXY_FLAG_W,OXYGEN,OXYGEN_FLAG_W,SILCAT,SILCAT_FLAG_W,NITRAT,NITRAT_FLAG_W,NITRIT,NITRIT_FLAG_W,PHSPHT,PHSPHT_FLAG_W,CFC-11,CFC-11_FLAG_W,CFC-12,CFC-12_FLAG_W,SF6,SF6_FLAG_W,TCARBN,TCARBN_FLAG_W,ALKALI,ALKALI_FLAG_W
,,,,,,,,,,,,DB,ITS-90,PSS-78,,PSS-78,,UMOL/KG,,UMOL/KG,,UMOL/KG,,UMOL/KG,,UMOL/KG,,UMOL/KG,,PMOL/KG,,PMOL/KG,,FMOL/KG,,UMOL/KG,,UMOL/KG
           NA,     P15,     22,   1,      24,   12015,  2,20090211,1557, -42.4061, -174.4054,  2674,      1.8,    18.84,   35.200,2,-999.0000,9,    236.0,2,    236.0,2,  -999.00,9,     0.16,2, -999.000,9,     0.11,2, -999.000,9, -999.000,9, -999.000,9,   -999.0,9,   -999.0,9
           NA,     P15,     22,   1,      23,   12046,  2,20090211,1557, -42.4061, -174.4054,  2674,     63.0,    13.58,   35.035,2,  35.0283,2,    243.4,2,    243.3,2,  -999.00,9,     4.87,2, -999.000,9,     0.54,2, -999.000,9, -999.000,9, -999.000,9,   -999.0,9,   -999.0,9
           NA,     P15,     22,   1,      22,   12020,  2,20090211,1557, -42.4061, -174.4054,  2674,    130.0,    12.41,   35.081,2,  35.0823,2,    233.7,2,    232.6,2,  -999.00,9,     9.01,2, -999.000,9,     0.76,2, -999.000,9, -999.000,9, -999.000,9,   -999.0,9,   -999.0,9
           NA,     P15,     22,   1,      21,   12003,  2,20090211,1557, -42.4061, -174.4054,  2674,    157.8,    12.06,   35.026,2,  35.0297,2,    233.8,2,    234.0,2,  -999.00,9,     9.61,2, -999.000,9,     0.80,2, -999.000,9, -999.000,9, -999.000,9,   -999.0,9,   -999.0,9
           NA,     P15,     22,   1,      20,   12051,  2,20090211,1557, -42.4061, -174.4054,  2674,    179.9,    11.87,   34.998,2,  35.0053,2,    232.8,2,    232.3,2,  -999.00,9,    10.42,2, -999.000,9,     0.85,2, -999.000,9, -999.000,9, -999.000,9,   -999.0,9,   -999.0,9
           NA,     P15,     22,   1,      19,   12010,  2,20090211,1557, -42.4061, -174.4054,  2674,    222.2,    11.40,   34.928,2,  34.9297,2,    233.4,2,    233.4,2,  -999.00,9,    11.38,2, -999.000,9,     0.92,2, -999.000,9, -999.000,9, -999.000,9,   -999.0,9,   -999.0,9
           NA,     P15,     22,   1,      18,   12018,  2,20090211,1557, -42.4061, -174.4054,  2674,    265.4,    11.10,   34.893,2,  34.8894,2,    227.4,2,    227.4,2,  -999.00,9,    12.83,2, -999.000,9,     1.00,2, -999.000,9, -999.000,9, -999.000,9,   -999.0,9,   -999.0,9
           NA,     P15,     22,   1,      17,   12024,  2,20090211,1557, -42.4061, -174.4054,  2674,    346.8,    10.06,   34.764,2,  34.7636,2,    207.4,2,    206.9,2,  -999.00,9,    17.14,2, -999.000,9,     1.24,2, -999.000,9, -999.000,9, -999.000,9,   -999.0,9,   -999.0,9
           NA,     P15,     22,   1,      16,   12001,  2,20090211,1557, -42.4061, -174.4054,  2674,    464.6,     8.76,   34.614,2,  34.6134,2,    211.3,2,    210.8,2,  -999.00,9,    19.88,2, -999.000,9,     1.42,2, -999.000,9, -999.000,9, -999.000,9,   -999.0,9,   -999.0,9
           NA,     P15,     22,   1,      15,   12025,  2,20090211,1557, -42.4061, -174.4054,  2674,    563.3,     8.03,   34.533,2,  34.5331,2,    218.4,2,    218.2,2,  -999.00,9,    21.15,2, -999.000,9,     1.50,2, -999.000,9, -999.000,9, -999.000,9,   -999.0,9,   -999.0,9
           NA,     P15,     22,   1,      14,   12041,  2,20090211,1557, -42.4061, -174.4054,  2674,    664.0,     7.39,   34.479,2,  34.4785,2,    216.4,2,    217.0,2,  -999.00,9,    22.69,2, -999.000,9,     1.60,2, -999.000,9, -999.000,9, -999.000,9,   -999.0,9,   -999.0,9
           NA,     P15,     22,   1,      13,   12012,  2,20090211,1557, -42.4061, -174.4054,  2674,    764.8,     6.80,   34.447,2,  34.4471,2,    209.2,2,    209.7,2,  -999.00,9,    24.68,2, -999.000,9,     1.71,2, -999.000,9, -999.000,9, -999.000,9,   -999.0,9,   -999.0,9
           NA,     P15,     22,   1,      12,   12022,  2,20090211,1557, -42.4061, -174.4054,  2674,    864.6,     6.19,   34.425,2,  34.4257,2,    201.9,2,    202.4,2,  -999.00,9,    26.55,2, -999.000,9,     1.83,2, -999.000,9, -999.000,9, -999.000,9,   -999.0,9,   -999.0,9
           NA,     P15,     22,   1,      11,   12016,  2,20090211,1557, -42.4061, -174.4054,  2674,    964.7,     5.63,   34.421,2,  34.4206,2,    195.0,2,    195.5,2,  -999.00,9,    28.39,2, -999.000,9,     1.94,2, -999.000,9, -999.000,9, -999.000,9,   -999.0,9,   -999.0,9
           NA,     P15,     22,   1,      10,   12019,  2,20090211,1557, -42.4061, -174.4054,  2674,   1063.7,     5.02,   34.426,2,  34.4286,2,    187.8,2,    188.8,2,  -999.00,9,    30.37,2, -999.000,9,     2.05,2, -999.000,9, -999.000,9, -999.000,9,   -999.0,9,   -999.0,9
           NA,     P15,     22,   1,       9,   12031,  2,20090211,1557, -42.4061, -174.4054,  2674,   1165.1,     4.46,   34.442,2,  34.4418,2,    181.3,2,    181.8,2,  -999.00,9,    31.64,2, -999.000,9,     2.14,2, -999.000,9, -999.000,9, -999.000,9,   -999.0,9,   -999.0,9
           NA,     P15,     22,   1,       8,   12021,  2,20090211,1557, -42.4061, -174.4054,  2674,   1266.3,     3.98,   34.475,2,  34.4752,2,    173.2,2,    174.0,2,  -999.00,9,    32.72,2, -999.000,9,     2.23,2, -999.000,9, -999.000,9, -999.000,9,   -999.0,9,   -999.0,9
           NA,     P15,     22,   1,       7,   12032,  2,20090211,1557, -42.4061, -174.4054,  2674,   1348.3,     3.67,   34.499,2,  34.5033,2,    168.9,2,    169.3,2,  -999.00,9,    33.32,2, -999.000,9,     2.27,2, -999.000,9, -999.000,9, -999.000,9,   -999.0,9,   -999.0,9
           NA,     P15,     22,   1,       6,   12007,  2,20090211,1557, -42.4061, -174.4054,  2674,   1432.4,     3.37,   34.524,2,  34.5237,2,    165.0,2,    165.8,2,  -999.00,9,    33.82,2, -999.000,9,     2.32,2, -999.000,9, -999.000,9, -999.000,9,   -999.0,9,   -999.0,9
           NA,     P15,     22,   1,       5,   12055,  2,20090211,1557, -42.4061, -174.4054,  2674,   1631.1,     2.82,   34.581,2,  34.5816,2,    157.4,2,    157.9,2,  -999.00,9,    34.70,2, -999.000,9,     2.38,2, -999.000,9, -999.000,9, -999.000,9,   -999.0,9,   -999.0,9
           NA,     P15,     22,   1,       3,   12033,  2,20090211,1557, -42.4061, -174.4054,  2674,   1999.2,     2.21,   34.641,2,  34.6421,2,    154.3,2,    154.5,2,  -999.00,9,    35.11,2, -999.000,9,     2.42,2, -999.000,9, -999.000,9, -999.000,9,   -999.0,9,   -999.0,9
           NA,     P15,     22,   1,       2,   12006,  2,20090211,1557, -42.4061, -174.4054,  2674,   2430.8,     1.91,   34.690,2,  34.6910,2,    169.3,2,    169.8,2,  -999.00,9,    33.63,2, -999.000,9,     2.32,2, -999.000,9, -999.000,9, -999.000,9,   -999.0,9,   -999.0,9
           NA,     P15,     22,   1,       1,   12045,  2,20090211,1557, -42.4061, -174.4054,  2674,   2678.1,     1.69,   34.721,2,  34.7213,2,    185.4,2,    187.6,2,  -999.00,9,    32.09,2, -999.000,9,     2.21,2, -999.000,9, -999.000,9, -999.000,9,   -999.0,9,   -999.0,9
           NA,     P15,     23,   1,      24,   12015,  2,20090211,2009, -42.1694, -174.2570,  2876,      1.8,    18.70,   35.102,2,  35.1022,2,    236.8,2,    236.4,2,  -999.00,9,     0.00,2, -999.000,9,  -999.00,9,    2.499,2,    1.477,2, -999.000,9,   2039.0,6,   2316.0,6
           NA,     P15,     23,   1,      23,   12046,  2,20090211,2009, -42.1694, -174.2570,  2876,     43.2,    15.19,   35.014,2,  35.0118,2,    249.1,2,    247.7,2,     1.06,2,     1.31,2, -999.000,9,     0.26,2,    3.061,6,    1.731,6, -999.000,9,   2068.0,2,   2310.5,2
           NA,     P15,     23,   1,      22,   12020,  2,20090211,2009, -42.1694, -174.2570,  2876,     97.8,    12.45,   35.038,2,  35.0388,2,    242.9,2,    242.4,2,     1.86,2,     7.56,2, -999.000,9,     0.59,2,    3.142,2,    1.850,2, -999.000,9,   2096.2,2,   2304.8,2
           NA,     P15,     23,   1,      21,   12003,  2,20090211,2009, -42.1694, -174.2570,  2876,    148.1,    11.74,   34.974,2,  34.9695,2,    239.4,2,    239.1,2,     2.66,2,    10.08,2, -999.000,9,     0.73,2,    3.202,6,    1.854,6, -999.000,9,   2108.4,2,   2305.1,2
           NA,     P15,     23,   1,      20,   12051,  2,20090211,2009, -42.1694, -174.2570,  2876,    198.2,    11.39,   34.930,2,  34.9280,2,    235.6,2,    235.7,2,     3.34,2,    11.33,2, -999.000,9,     0.81,2,    3.197,2,    1.847,2, -999.000,9,   2113.9,2,   2301.8,2
           NA,     P15,     23,   1,      19,   12010,  2,20090211,2009, -42.1694, -174.2570,  2876,    246.9,    11.01,   34.883,2,  34.9016,2,    225.8,2,    225.4,2,     4.36,2,    13.16,2, -999.000,9,     0.92,2,    3.136,2,    1.798,2, -999.000,9,   2121.8,2,   2298.9,2
           NA,     P15,     23,   1,      18,   12018,  2,20090211,2009, -42.1694, -174.2570,  2876,    298.5,    10.37,   34.796,2,  34.7993,2,    214.7,2,    214.5,2,     5.54,2,    15.71,2, -999.000,9,     1.07,2,    3.062,2,    1.732,2, -999.000,9,   2132.3,2,   2293.1,2
           NA,     P15,     23,   1,      17,   12024,  2,20090211,2009, -42.1694, -174.2570,  2876,    398.9,     9.44,   34.681,2,  34.6795,2,    213.1,2,    212.9,2,     7.08,2,    18.42,2, -999.000,9,     1.25,2,    3.095,2,    1.702,2, -999.000,9,   2138.3,2,   2286.4,2
           NA,     P15,     23,   1,      16,   12001,  2,20090211,2009, -42.1694, -174.2570,  2876,    497.1,     8.58,   34.586,2,  34.5859,2,    216.1,2,    216.0,2,     8.47,2,    20.32,2, -999.000,9,     1.37,2,    3.020,2,    1.632,2, -999.000,9,   2142.8,2,   2287.0,6
           NA,     P15,     23,   1,      15,   12025,  2,20090211,2009, -42.1694, -174.2570,  2876,    598.0,     7.86,   34.517,2,  34.5186,2,    214.7,2,    214.7,2,    10.47,2,    22.12,2, -999.000,9,     1.48,2,    2.738,2,    1.406,2, -999.000,9,   2148.8,2,   2289.4,2
           NA,     P15,     23,   1,      14,   12041,  2,20090211,2009, -42.1694, -174.2570,  2876,    697.8,     7.10,   34.462,2,  34.4626,2,    211.5,2,    211.7,2,    14.01,2,    24.13,2, -999.000,9,     1.61,2,    2.168,2,    1.069,2, -999.000,9,   2156.9,2,   2287.6,2
           NA,     P15,     23,   1,      13,   12012,  2,20090211,2009, -42.1694, -174.2570,  2876,    798.3,     6.38,   34.431,2,  34.4320,2,    204.2,2,    204.5,2,    19.78,2,    26.35,2, -999.000,9,     1.75,2,    1.576,2,    0.727,2, -999.000,9,   2167.6,2,   2290.5,2
           NA,     P15,     23,   1,      12,   12022,  2,20090211,2009, -42.1694, -174.2570,  2876,    897.5,     5.79,   34.422,2,  34.4212,2,    197.4,2,    198.0,2,    26.58,2,    28.00,2, -999.000,9,     1.88,2, -999.000,9, -999.000,9, -999.000,9,   2180.3,6,   2295.1,6
           NA,     P15,     23,   1,      11,   12016,  2,20090211,2009, -42.1694, -174.2570,  2876,    998.2,     5.17,   34.423,2,  34.4243,2,    189.5,2,    190.0,2,    35.31,2,    29.68,2, -999.000,9,     1.98,2,    0.815,2,    0.340,2, -999.000,9,   2196.1,2,   2303.5,2
           NA,     P15,     23,   1,      10,   12019,  2,20090211,2009, -42.1694, -174.2570,  2876,   1097.3,     4.58,   34.429,2,  34.4302,2,    183.2,2,    184.5,2,    43.93,2,    31.31,2, -999.000,9,     2.09,2, -999.000,9, -999.000,9, -999.000,9,   2209.2,2,   2313.0,2
           NA,     P15,     23,   1,       9,   12031,  2,20090211,2009, -42.1694, -174.2570,  2876,   1197.5,     4.08,   34.460,2,  34.4618,2,    175.8,2,    176.5,2,    55.52,2,    32.42,2, -999.000,9,     2.18,2,    0.424,2,    0.141,2, -999.000,9,   2225.3,2,   2326.8,2
           NA,     P15,     23,   1,       8,   12021,  2,20090211,2009, -42.1694, -174.2570,  2876,   1297.9,     3.73,   34.490,2,  34.4919,2,    170.2,2,    170.7,2,    65.07,2,    32.98,2, -999.000,9,     2.24,2, -999.000,9, -999.000,9, -999.000,9,   2238.5,2,   2335.4,2
           NA,     P15,     23,   1,       7,   12032,  2,20090211,2009, -42.1694, -174.2570,  2876,   1397.5,     3.40,   34.523,2,  34.5241,2,    165.2,2,    165.5,2,    75.33,2,    33.48,2, -999.000,9,     2.29,2,    0.195,2,    0.062,2, -999.000,9,   2252.0,2,   2345.4,2
           NA,     P15,     23,   1,       6,   12007,  2,20090211,2009, -42.1694, -174.2570,  2876,   1497.1,     3.12,   34.550,2,  34.5502,2,    161.6,2,    162.2,2,    83.76,2,    34.11,2, -999.000,9,     2.32,2, -999.000,9, -999.000,9, -999.000,9,   2260.9,2,   2354.5,6
           NA,     P15,     23,   1,       4,   12009,  2,20090211,2009, -42.1694, -174.2570,  2876,   1898.0,     2.35,   34.628,2,  34.6274,2,    153.7,2,    154.7,2,   109.28,2,    34.99,2, -999.000,9,     2.40,2, -999.000,9, -999.000,9, -999.000,9,   2291.2,2,   2381.3,2
           NA,     P15,     23,   1,       3,   12033,  2,20090211,2009, -42.1694, -174.2570,  2876,   2199.3,     2.04,   34.664,2,  34.6661,2,    159.4,2,    159.6,2,   112.69,2,    34.48,2, -999.000,9,     2.36,2,    0.032,2,    0.009,2, -999.000,9,   2290.0,2,   2382.6,2
           NA,     P15,     23,   1,       2,   12006,  2,20090211,2009, -42.1694, -174.2570,  2876,   2598.0,     1.76,   34.715,2,  34.7154,2,    182.6,2,    182.9,2,   103.86,2,    32.49,2, -999.000,9,     2.20,2, -999.000,9, -999.000,9, -999.000,9,   2266.7,2,   -999.0,4
           NA,     P15,     23,   1,       1,   12045,  2,20090211,2009, -42.1694, -174.2570,  2876,   2887.9,     1.49,   34.727,2,  34.7278,2,    194.0,2,   -999.0,9,   105.78,2,    31.81,2, -999.000,9,     2.14,2,    0.093,2,    0.031,2, -999.000,9,   2259.5,6,   2361.0,6
           NA,     P15,     24,   1,      24,   12015,  2,20090212,0209, -41.7163, -173.9414,  3139,      1.8,    18.68,   35.156,2,  35.1551,2,    239.1,2,    237.0,2,  -999.00,9,     0.00,2, -999.000,9,     0.07,2, -999.000,9, -999.000,9, -999.000,9,   2039.5,2,   2316.9,2
           NA,     P15,     24,   1,      23,   12046,  2,20090212,0209, -41.7163, -173.9414,  3139,     64.3,    13.28,   34.932,2,  34.9327,2,    253.1,2,    251.6,2,  -999.00,9,     5.18,2, -999.000,9,     0.46,2, -999.000,9, -999.000,9, -999.000,9,   -999.0,9,   -999.0,9
           NA,     P15,     24,   1,      22,   12020,  2,20090212,0209, -41.7163, -173.9414,  3139,    114.0,    11.79,   34.905,2,  34.9056,2,    248.1,2,    247.2,2,  -999.00,9,     8.86,2, -999.000,9,     0.66,2, -999.000,9, -999.000,9, -999.000,9,   -999.0,9,   -999.0,9
           NA,     P15,     24,   1,      21,   12003,  2,20090212,0209, -41.7163, -173.9414,  3139,    165.5,    11.70,   34.969,2,  34.9663,2,    237.3,2,    236.9,2,  -999.00,9,    10.42,2, -999.000,9,     0.75,2, -999.000,9, -999.000,9, -999.000,9,   -999.0,9,   -999.0,9
           NA,     P15,     24,   1,      20,   12051,  2,20090212,0209, -41.7163, -173.9414,  3139,    214.7,    11.22,   34.898,2,  34.8936,2,    229.3,2,    228.1,2,  -999.00,9,    12.40,2, -999.000,9,     0.87,2, -999.000,9, -999.000,9, -999.000,9,   -999.0,9,   -999.0,9
           NA,     P15,     24,   1,      19,   12010,  2,20090212,0209, -41.7163, -173.9414,  3139,    263.4,    10.80,   34.851,2,  34.8593,2,    221.4,2,    220.6,2,  -999.00,9,    14.05,2, -999.000,9,     0.97,2, -999.000,9, -999.000,9, -999.000,9,   -999.0,9,   -999.0,9
           NA,     P15,     24,   1,      18,   12018,  2,20090212,0209, -41.7163, -173.9414,  3139,    372.0,     9.70,   34.713,2,  34.7109,2,    210.7,2,    209.6,2,  -999.00,9,    17.86,2, -999.000,9,     1.21,2, -999.000,9, -999.000,9, -999.000,9,   -999.0,9,   -999.0,9
           NA,     P15,     24,   1,      17,   12024,  2,20090212,0209, -41.7163, -173.9414,  3139,    447.1,     8.98,   34.628,2,  34.6256,2,    215.1,2,    214.5,2,  -999.00,9,    19.25,2, -999.000,9,     1.30,2, -999.000,9, -999.000,9, -999.000,9,   -999.0,9,   -999.0,9
           NA,     P15,     24,   1,      16,   12001,  2,20090212,0209, -41.7163, -173.9414,  3139,    521.3,     8.47,   34.574,2,  34.5734,2,    216.9,2,    215.9,2,  -999.00,9,    20.38,2, -999.000,9,     1.38,2, -999.000,9, -999.000,9, -999.000,9,   -999.0,9,   -999.0,9
           NA,     P15,     24,   1,      15,   12025,  2,20090212,0209, -41.7163, -173.9414,  3139,    630.8,     7.74,   34.506,2,  34.5054,2,    215.4,2,    215.1,2,  -999.00,9,    22.17,2, -999.000,9,     1.48,2, -999.000,9, -999.000,9, -999.000,9,   -999.0,9,   -999.0,9
           NA,     P15,     24,   1,      14,   12041,  2,20090212,0209, -41.7163, -173.9414,  3139,    729.7,     7.14,   34.464,2,  34.4622,2,    212.0,2,    212.3,2,  -999.00,9,    23.81,2, -999.000,9,     1.59,2, -999.000,9, -999.000,9, -999.000,9,   -999.0,9,   -999.0,9
           NA,     P15,     24,   1,      13,   12012,  2,20090212,0209, -41.7163, -173.9414,  3139,    830.0,     6.52,   34.435,2,  34.4339,2,    206.1,2,    205.9,2,  -999.00,9,    25.69,2, -999.000,9,     1.72,2, -999.000,9, -999.000,9, -999.000,9,   -999.0,9,   -999.0,9
           NA,     P15,     24,   1,      12,   12022,  2,20090212,0209, -41.7163, -173.9414,  3139,    947.7,     5.81,   34.421,2,  34.4198,2,    197.2,2,    197.9,2,  -999.00,9,    27.84,2, -999.000,9,     1.86,2, -999.000,9, -999.000,9, -999.000,9,   -999.0,9,   -999.0,9
           NA,     P15,     24,   1,      11,   12016,  2,20090212,0209, -41.7163, -173.9414,  3139,   1165.4,     4.52,   34.444,2,  34.4428,2,    181.0,2,    181.7,2,  -999.00,9,    31.18,2, -999.000,9,     2.10,2, -999.000,9, -999.000,9, -999.000,9,   -999.0,9,   -999.0,9
           NA,     P15,     24,   1,      10,   12019,  2,20090212,0209, -41.7163, -173.9414,  3139,   1365.1,     3.64,   34.502,2,  34.5015,2,    168.7,2,    169.5,2,  -999.00,9,    32.93,2, -999.000,9,     2.25,2, -999.000,9, -999.000,9, -999.000,9,   -999.0,9,   -999.0,9
           NA,     P15,     24,   1,       9,   12031,  2,20090212,0209, -41.7163, -173.9414,  3139,   1563.8,     3.01,   34.562,2,  34.5635,2,    160.0,2,    160.8,2,  -999.00,9,    33.87,2, -999.000,9,     2.34,2, -999.000,9, -999.000,9, -999.000,9,   -999.0,9,   -999.0,9
           NA,     P15,     24,   1,       8,   12021,  2,20090212,0209, -41.7163, -173.9414,  3139,   1763.9,     2.59,   34.604,2,  34.6038,2,    155.3,2,    155.2,2,  -999.00,9,    34.69,2, -999.000,9,     2.38,2, -999.000,9, -999.000,9, -999.000,9,   -999.0,9,   -999.0,9
           NA,     P15,     24,   1,       7,   12032,  2,20090212,0209, -41.7163, -173.9414,  3139,   1964.7,     2.28,   34.634,2,  34.6352,2,    153.9,2,    153.7,2,  -999.00,9,    34.88,2, -999.000,9,     2.40,2, -999.000,9, -999.000,9, -999.000,9,   -999.0,9,   -999.0,9
           NA,     P15,     24,   1,       6,   12007,  2,20090212,0209, -41.7163, -173.9414,  3139,   2163.1,     2.08,   34.657,2,  34.6590,2,    157.3,2,    156.9,2,  -999.00,9,    34.54,2, -999.000,9,     2.40,2, -999.000,9, -999.000,9, -999.000,9,   -999.0,9,   -999.0,9
           NA,     P15,     24,   1,       5,   12055,  2,20090212,0209, -41.7163, -173.9414,  3139,   2364.5,     1.93,   34.680,2,  34.6787,2,    166.1,2,    165.6,2,  -999.00,9,    33.62,2, -999.000,9,     2.32,2, -999.000,9, -999.000,9, -999.000,9,   -999.0,9,   -999.0,9
           NA,     P15,     24,   1,       3,   12033,  2,20090212,0209, -41.7163, -173.9414,  3139,   2764.2,     1.67,   34.720,2,  34.7182,2,    187.3,2,    187.6,2,  -999.00,9,    31.92,2, -999.000,9,     2.17,2, -999.000,9, -999.000,9, -999.000,9,   -999.0,9,   -999.0,9
           NA,     P15,     24,   1,       2,   12006,  2,20090212,0209, -41.7163, -173.9414,  3139,   2946.3,     1.51,   34.726,2,  34.7270,2,    193.8,2,    194.8,2,  -999.00,9,    31.40,2, -999.000,9,     2.16,2, -999.000,9, -999.000,9, -999.000,9,   -999.0,9,   -999.0,9
           NA,     P15,     24,   1,       1,   12045,  2,20090212,0209, -41.7163, -173.9414,  3139,   3155.3,     1.46,   34.726,2,  34.7272,2,    195.9,2,    196.7,2,  -999.00,9,    31.21,2, -999.000,9,     2.13,2, -999.000,9, -999.000,9, -999.000,9,   -999.0,9,   -999.0,9