BOTTLE,20214902JOAExport
# Exported from JOA (5.5.0 Final September 29th, 2020) on 2021/07/02 10:49:45
#BOTTLE,20111212CCHDOSIOCBG,,,,,,,,,,,,,,,,,,,,,,,,,,,,,,,,,,,,,,
#code : Justin Fields merge_exchange.rb ,,,,,,,,,,,,,,,,,,,,,,,,,,,,,,,,,,,,,,,
#original files copied from HTML directory: 2011-12-12,,,,,,,,,,,,,,,,,,,,,,,,,,,,,,,,,,,,,,,
#original HYD file: /data/co2clivar/pacific/p15s/p15s_09SS20090203/original/20111010_carbon_cberys/processing/orig_hy1.csv  2011-12-12,,,,,,,,,,,,,,,,,,,,,,,,,,,,,,,,,,,,,,,
#merged: BOTTLE,20111006PRINUNIVRMK,,,,,,,,,,,,,,,,,,,,,,,,,,,,,,,,,,,,,,
#   10/05/11 Initialized README file  ,,,,,,,,,,,,,,,,,,,,,,,,,,,,,,,,,,,,,,,
#   Data source: CCHDO (8/25/11) and Tilbrook carbon via CDIAC (10/4/11) ,,,,,,,,,,,,,,,,,,,,,,,,,,,,,,,,,,,,,,,
#BOTTLE,20111003CCHDOSIOCBG,,,,,,,,,,,,,,,,,,,,,,,,,,,,,,,,,,,,,,
#code : Justin Fields merge_exchange.rb,,,,,,,,,,,,,,,,,,,,,,,,,,,,,,,,,,,,,,,
#original files copied from HTML directory: 2011-10-03,,,,,,,,,,,,,,,,,,,,,,,,,,,,,,,,,,,,,,,
#original HYD file: /data/co2clivar/pacific/p15s/p15s_09SS20090203/original/20111003_CFC_cberys/original_hy1.csv  2011-10-03,,,,,,,,,,,,,,,,,,,,,,,,,,,,,,,,,,,,,,,
#BOTTLE,20091201CMRCSIRORLC,,,,,,,,,,,,,,,,,,,,,,,,,,,,,,,,,,,,,,
#Ship: RV Southern Surveyor,,,,,,,,,,,,,,,,,,,,,,,,,,,,,,,,,,,,,,,
#Cruise: 09SS20090203; P15; alias ss200901,,,,,,,,,,,,,,,,,,,,,,,,,,,,,,,,,,,,,,,
#EXPOCODE = 09SS20090203,,,,,,,,,,,,,,,,,,,,,,,,,,,,,,,,,,,,,,,
#SECT_ID = P15,,,,,,,,,,,,,,,,,,,,,,,,,,,,,,,,,,,,,,,
#Dates: 2/2/2009-24/3/2009,,,,,,,,,,,,,,,,,,,,,,,,,,,,,,,,,,,,,,,
#Chief Scientist: B.Sloyan and S.Wijffels,,,,,,,,,,,,,,,,,,,,,,,,,,,,,,,,,,,,,,,
# 128 stations with 24 place Rosette ,,,,,,,,,,,,,,,,,,,,,,,,,,,,,,,,,,,,,,,
# Hydro: Who - R.Cowley; Status - final  ,,,,,,,,,,,,,,,,,,,,,,,,,,,,,,,,,,,,,,,
# Nuts/O2: Who - R.Cowley; Status - final  ,,,,,,,,,,,,,,,,,,,,,,,,,,,,,,,,,,,,,,,
# TCO2: Who - B. Tilbrook; Status - Final  ,,,,,,,,,,,,,,,,,,,,,,,,,,,,,,,,,,,,,,,
#      Notes: Precision & accuracy estimated at 1umol/kg ,,,,,,,,,,,,,,,,,,,,,,,,,,,,,,,,,,,,,,,
# TA: Who - B. Tilbrook; Status - Final ,,,,,,,,,,,,,,,,,,,,,,,,,,,,,,,,,,,,,,,
#      Notes: Precision & accuracy estimated at 2umol/kg ,,,,,,,,,,,,,,,,,,,,,,,,,,,,,,,,,,,,,,,
# CFC: Who - J. Bullister; Status - Final  ,,,,,,,,,,,,,,,,,,,,,,,,,,,,,,,,,,,,,,,
#      Notes:  SIO98 calibration scale ,,,,,,,,,,,,,,,,,,,,,,,,,,,,,,,,,,,,,,,
EXPOCODE,SECT_ID,STNNBR,CASTNO,SAMPNO,BTLNBR,BTLNBR_FLAG_W,DATE,TIME,LATITUDE,LONGITUDE,DEPTH,CTDPRS,CTDTMP,CTDSAL,CTDSAL_FLAG_W,SALNTY,SALNTY_FLAG_W,CTDOXY,CTDOXY_FLAG_W,OXYGEN,OXYGEN_FLAG_W,SILCAT,SILCAT_FLAG_W,NITRAT,NITRAT_FLAG_W,NITRIT,NITRIT_FLAG_W,PHSPHT,PHSPHT_FLAG_W,CFC-11,CFC-11_FLAG_W,CFC-12,CFC-12_FLAG_W,SF6,SF6_FLAG_W,TCARBN,TCARBN_FLAG_W,ALKALI,ALKALI_FLAG_W
,,,,,,,,,,,,DB,ITS-90,PSS-78,,PSS-78,,UMOL/KG,,UMOL/KG,,UMOL/KG,,UMOL/KG,,UMOL/KG,,UMOL/KG,,PMOL/KG,,PMOL/KG,,FMOL/KG,,UMOL/KG,,UMOL/KG
           NA,     P15,      2,   1,      24,   12015,  2,20090206,1305, -50.0835, -170.0269,  5232,      1.9,    11.26,   34.202,2,  34.2041,2,    278.2,2,    274.2,2,     0.83,2,    11.72,2, -999.000,9,     0.87,2, -999.000,9, -999.000,9, -999.000,9,   2075.1,6,   2280.9,2
           NA,     P15,      2,   1,      23,   12046,  2,20090206,1305, -50.0835, -170.0269,  5232,     47.4,    11.27,   34.203,2,  34.2060,2,    278.0,2,    274.1,2,     0.84,2,    11.70,2, -999.000,9,     0.88,2, -999.000,9, -999.000,9, -999.000,9,   2075.0,2,   2280.4,2
           NA,     P15,      2,   1,      22,   12020,  2,20090206,1305, -50.0835, -170.0269,  5232,     98.8,     7.62,   34.215,2,  34.2142,2,    287.3,2,    284.8,2,     3.25,2,    16.95,2, -999.000,9,     1.28,2, -999.000,9, -999.000,9, -999.000,9,   2115.6,2,   2282.6,2
           NA,     P15,      2,   1,      21,   12003,  2,20090206,1305, -50.0835, -170.0269,  5232,    150.1,     7.09,   34.229,2,  34.2299,2,    283.8,2,    281.6,2,     4.58,2,    19.14,2, -999.000,9,     1.32,2, -999.000,9, -999.000,9, -999.000,9,   2120.9,2,   2275.2,2
           NA,     P15,      2,   1,      20,   12051,  2,20090206,1305, -50.0835, -170.0269,  5232,    199.8,     7.07,   34.282,2,  34.2898,2,    277.5,2,    274.9,2,     5.18,2,    19.42,2, -999.000,9,     1.33,2, -999.000,9, -999.000,9, -999.000,9,   2125.4,2,   2276.8,2
           NA,     P15,      2,   1,      19,   12010,  2,20090206,1305, -50.0835, -170.0269,  5232,    251.2,     6.80,   34.270,2,  34.2714,2,    275.2,2,    272.8,2,     6.04,2,    20.43,2, -999.000,9,     1.39,2, -999.000,9, -999.000,9, -999.000,9,   2130.7,2,   2276.8,2
           NA,     P15,      2,   1,      18,   12018,  2,20090206,1305, -50.0835, -170.0269,  5232,    300.5,     6.37,   34.231,2,  34.2368,2,    277.3,2,    275.4,2,     6.72,2,    21.18,2, -999.000,9,     1.43,2, -999.000,9, -999.000,9, -999.000,9,   2132.7,2,   2277.1,2
           NA,     P15,      2,   1,      17,   12024,  2,20090206,1305, -50.0835, -170.0269,  5232,    403.5,     5.97,   34.240,2,  34.2528,2,    261.5,2,    260.4,2,    10.13,2,    23.26,2, -999.000,9,     1.55,2, -999.000,9, -999.000,9, -999.000,9,   2145.1,2,   2278.1,2
           NA,     P15,      2,   1,      16,   12001,  2,20090206,1305, -50.0835, -170.0269,  5232,    503.6,     5.31,   34.232,2,  34.2354,2,    247.4,2,    247.3,2,    15.18,2,    26.26,2, -999.000,9,     1.72,2, -999.000,9, -999.000,9, -999.000,9,   2160.1,2,   2280.7,6
           NA,     P15,      2,   1,      14,   12041,  2,20090206,1305, -50.0835, -170.0269,  5232,    706.3,     4.43,   34.294,2,  34.2973,2,    217.9,2,    218.4,2,    28.83,2,    29.90,2, -999.000,9,     1.96,2, -999.000,9, -999.000,9, -999.000,9,   2188.6,2,   2296.9,2
           NA,     P15,      2,   1,      13,   12012,  2,20090206,1305, -50.0835, -170.0269,  5232,    907.9,     3.54,   34.324,2,  34.3282,2,    205.9,2,    206.4,2,    41.29,2,    32.25,2, -999.000,9,     2.14,2, -999.000,9, -999.000,9, -999.000,9,   2209.9,2,   2312.4,2
           NA,     P15,      2,   1,      12,   12022,  2,20090206,1305, -50.0835, -170.0269,  5232,   1106.0,     3.06,   34.415,2,  34.4211,2,    187.1,2,    187.9,2,    56.32,2,    34.01,2, -999.000,9,     2.27,2, -999.000,9, -999.000,9, -999.000,9,   2232.6,6,   2321.6,6
           NA,     P15,      2,   1,      11,   12016,  2,20090206,1305, -50.0835, -170.0269,  5232,   1307.9,     2.75,   34.509,2,  34.5128,2,    174.8,2,    175.9,2,    68.72,2,    34.56,2, -999.000,9,     2.31,2, -999.000,9, -999.000,9, -999.000,9,   2247.9,2,   2331.4,2
           NA,     P15,      2,   1,      10,   12019,  2,20090206,1305, -50.0835, -170.0269,  5232,   1507.0,     2.56,   34.576,2,  34.5783,2,    171.7,2,    174.0,2,    74.97,2,    34.49,2, -999.000,9,     2.29,2, -999.000,9, -999.000,9, -999.000,9,   2255.1,2,   -999.0,4
           NA,     P15,      2,   1,       9,   12031,  2,20090206,1305, -50.0835, -170.0269,  5232,   1704.2,     2.44,   34.625,2,  34.6285,2,    172.1,2,    174.1,2,    79.59,2,    33.78,2, -999.000,9,     2.25,2, -999.000,9, -999.000,9, -999.000,9,   2258.7,2,   2342.4,2
           NA,     P15,      2,   1,       8,   12021,  2,20090206,1305, -50.0835, -170.0269,  5232,   2005.9,     2.26,   34.684,2,  34.6896,2,    178.0,2,    179.1,2,    84.21,2,    32.72,2, -999.000,9,     2.18,2, -999.000,9, -999.000,9, -999.000,9,   2253.8,2,   2346.8,2
           NA,     P15,      2,   1,       7,   12032,  2,20090206,1305, -50.0835, -170.0269,  5232,   2506.9,     1.92,   34.732,2,  34.7365,2,    189.7,2,    192.0,2,    91.63,2,    31.50,2, -999.000,9,     2.09,2, -999.000,9, -999.000,9, -999.000,9,   2254.3,2,   2357.3,2
           NA,     P15,      2,   1,       6,   12007,  2,20090206,1305, -50.0835, -170.0269,  5232,   3004.4,     1.59,   34.733,2,  34.7366,2,    196.2,2,    200.2,2,   101.43,2,    31.32,2, -999.000,9,     2.11,2, -999.000,9, -999.000,9, -999.000,9,   2257.5,2,   2362.2,6
           NA,     P15,      2,   1,       5,   12055,  2,20090206,1305, -50.0835, -170.0269,  5232,   3504.0,     1.26,   34.722,2,  34.7251,2,    202.2,2,    203.9,2,   111.59,2,    31.92,2, -999.000,9,     2.14,2, -999.000,9, -999.000,9, -999.000,9,   2259.9,2,   2365.9,2
           NA,     P15,      2,   1,       4,   12009,  2,20090206,1305, -50.0835, -170.0269,  5232,   4002.3,     1.04,   34.712,2,  34.7151,2,    207.3,2,    207.0,2,   118.67,2,    32.21,2, -999.000,9,     2.17,2, -999.000,9, -999.000,9, -999.000,9,   2262.8,2,   2363.9,2
           NA,     P15,      2,   1,       3,   12033,  2,20090206,1305, -50.0835, -170.0269,  5232,   4504.7,     0.97,   34.707,2,  34.7105,2,    210.7,2,    208.5,2,   122.60,2,    32.39,2, -999.000,9,     2.17,2, -999.000,9, -999.000,9, -999.000,9,   2263.8,2,   2367.6,2
           NA,     P15,      2,   1,       2,   12006,  2,20090206,1305, -50.0835, -170.0269,  5232,   4997.1,     0.98,   34.705,2,  34.7086,2,    212.9,2,    211.7,2,   124.04,2,    32.47,2, -999.000,9,     2.19,2, -999.000,9, -999.000,9, -999.000,9,   2264.1,2,   2371.2,2
           NA,     P15,      2,   1,       1,   12045,  2,20090206,1305, -50.0835, -170.0269,  5232,   5404.6,     1.02,   34.704,2,  34.7076,2,    214.8,2,    210.6,2,   124.24,2,    32.37,2, -999.000,9,     2.18,2, -999.000,9, -999.000,9, -999.000,9,   2264.8,6,   2365.6,2
           NA,     P15,      3,   1,      24,   12015,  2,20090207,0052, -49.5323, -169.9871,  5225,      3.5,    11.43,   34.218,2,  34.2209,2,    276.5,2,    272.7,2,     0.86,2,    10.97,2, -999.000,9,     0.83,2,    3.459,6,    1.971,6, -999.000,9,   2074.6,2,   2285.1,2
           NA,     P15,      3,   1,      23,   12046,  2,20090207,0052, -49.5323, -169.9871,  5225,     64.7,     9.79,   34.171,2,  34.1755,2,    290.0,2,    286.3,2,     1.23,2,    13.73,2, -999.000,9,     1.01,2, -999.000,9, -999.000,9, -999.000,9,   -999.0,9,   -999.0,9
           NA,     P15,      3,   1,      22,   12020,  2,20090207,0052, -49.5323, -169.9871,  5225,    107.0,     7.54,   34.215,2,  34.2182,2,    283.7,2,    281.4,2,     3.76,2,    18.00,2, -999.000,9,     1.28,2,    4.309,2,    2.359,2, -999.000,9,   -999.0,9,   -999.0,9
           NA,     P15,      3,   1,      21,   12003,  2,20090207,0052, -49.5323, -169.9871,  5225,    166.4,     7.31,   34.287,2,  34.2926,2,    277.0,2,    274.8,2,     4.64,2,    18.72,2, -999.000,9,     1.31,2, -999.000,9, -999.000,9, -999.000,9,   -999.0,9,   -999.0,9
           NA,     P15,      3,   1,      20,   12051,  2,20090207,0052, -49.5323, -169.9871,  5225,    215.2,     7.23,   34.308,2,  34.3106,2,    274.2,2,    272.1,2,     5.13,2,    19.21,2, -999.000,9,     1.33,2, -999.000,9, -999.000,9, -999.000,9,   -999.0,9,   -999.0,9
           NA,     P15,      3,   1,      19,   12010,  2,20090207,0052, -49.5323, -169.9871,  5225,    265.4,     7.04,   34.303,2,  34.3053,2,    271.8,2,    270.9,2,     5.83,2,    19.98,2, -999.000,9,     1.39,2,    4.244,2,    2.227,2, -999.000,9,   -999.0,9,   -999.0,9
           NA,     P15,      3,   1,      18,   12018,  2,20090207,0052, -49.5323, -169.9871,  5225,    324.0,     7.01,   34.343,2,  34.3449,2,    263.0,2,    261.2,2,     7.15,2,    20.73,2, -999.000,9,     1.43,2, -999.000,9, -999.000,9, -999.000,9,   -999.0,9,   -999.0,9
           NA,     P15,      3,   1,      17,   12024,  2,20090207,0052, -49.5323, -169.9871,  5225,    430.2,     6.61,   34.352,2,  34.3545,2,    244.5,2,    243.3,2,    11.33,2,    23.22,2, -999.000,9,     1.59,2, -999.000,3,    1.876,2, -999.000,9,   -999.0,9,   -999.0,9
           NA,     P15,      3,   1,      16,   12001,  2,20090207,0052, -49.5323, -169.9871,  5225,    530.9,     5.97,   34.312,2,  34.3149,2,    238.5,2,    237.3,2,    14.89,2,    25.25,2, -999.000,9,     1.72,2, -999.000,9, -999.000,9, -999.000,9,   -999.0,9,   -999.0,9
           NA,     P15,      3,   1,      15,   12025,  2,20090207,0052, -49.5323, -169.9871,  5225,    629.8,     5.35,   34.295,2,  34.2977,2,    229.1,2,    229.5,2,    19.60,2,    27.09,2, -999.000,9,     1.84,2,    3.058,2,    1.588,2, -999.000,9,   -999.0,9,   -999.0,9
           NA,     P15,      3,   1,      14,   12041,  2,20090207,0052, -49.5323, -169.9871,  5225,    748.5,     4.57,   34.281,2,  34.2834,2,    222.5,2,    221.7,2,    26.19,2,    29.40,2, -999.000,9,     1.98,2, -999.000,9, -999.000,9, -999.000,9,   -999.0,9,   -999.0,9
           NA,     P15,      3,   1,      13,   12012,  2,20090207,0052, -49.5323, -169.9871,  5225,    965.2,     3.59,   34.331,2,  34.3337,2,    204.5,2,    205.0,2,    41.86,2,    32.09,2, -999.000,9,     2.19,2,    2.067,2,    1.031,2, -999.000,9,   -999.0,9,   -999.0,9
           NA,     P15,      3,   1,      12,   12022,  2,20090207,0052, -49.5323, -169.9871,  5225,   1162.9,     3.09,   34.407,2,  34.4117,2,    188.4,2,    189.8,2,    55.47,2,    33.54,2, -999.000,9,     2.30,2, -999.000,9, -999.000,9, -999.000,9,   -999.0,9,   -999.0,9
           NA,     P15,      3,   1,      11,   12016,  2,20090207,0052, -49.5323, -169.9871,  5225,   1363.2,     2.78,   34.499,2,  34.5044,2,    176.0,2,    176.0,2,    67.76,2,    33.97,2, -999.000,9,     2.34,2,    0.820,2,    0.384,2, -999.000,9,   -999.0,9,   -999.0,9
           NA,     P15,      3,   1,      10,   12019,  2,20090207,0052, -49.5323, -169.9871,  5225,   1598.8,     2.54,   34.590,2,  34.5938,2,    171.7,2,    172.3,2,    77.27,2,    33.73,2, -999.000,9,     2.32,2, -999.000,9, -999.000,9, -999.000,9,   -999.0,9,   -999.0,9
           NA,     P15,      3,   1,       9,   12031,  2,20090207,0052, -49.5323, -169.9871,  5225,   1779.6,     2.42,   34.636,2,  34.6395,2,    173.6,2,    175.1,2,    80.25,2,    33.13,2, -999.000,9,     2.28,2,    0.300,2,    0.130,2, -999.000,9,   -999.0,9,   -999.0,9
           NA,     P15,      3,   1,       8,   12021,  2,20090207,0052, -49.5323, -169.9871,  5225,   2132.0,     2.22,   34.700,2,  34.7039,2,    182.1,2,    182.3,2,    83.37,2,    31.81,2, -999.000,9,     2.18,2, -999.000,9, -999.000,9, -999.000,9,   -999.0,9,   -999.0,9
           NA,     P15,      3,   1,       7,   12032,  2,20090207,0052, -49.5323, -169.9871,  5225,   2664.1,     1.89,   34.735,2,  34.7368,2,    192.0,2,    192.5,2,    92.32,2,    31.03,2, -999.000,9,     2.12,2,    0.113,2,    0.052,2, -999.000,9,   -999.0,9,   -999.0,9
           NA,     P15,      3,   1,       6,   12007,  2,20090207,0052, -49.5323, -169.9871,  5225,   3163.8,     1.48,   34.731,2,  34.7329,2,    199.2,2,    200.1,2,   105.13,2,    31.26,2, -999.000,9,     2.14,2, -999.000,9, -999.000,9, -999.000,9,   -999.0,9,   -999.0,9
           NA,     P15,      3,   1,       5,   12055,  2,20090207,0052, -49.5323, -169.9871,  5225,   3665.7,     1.21,   34.720,2,  34.7235,2,    203.9,2,    203.5,2,   113.87,2,    31.56,2, -999.000,9,     2.16,2,    0.117,2,    0.046,2, -999.000,9,   -999.0,9,   -999.0,9
           NA,     P15,      3,   1,       4,   12009,  2,20090207,0052, -49.5323, -169.9871,  5225,   4164.5,     0.98,   34.709,2,  34.7133,2,    208.8,2,    207.7,2,   121.48,2,    32.04,2, -999.000,9,     2.20,2, -999.000,9, -999.000,9, -999.000,9,   -999.0,9,   -999.0,9
           NA,     P15,      3,   1,       3,   12033,  2,20090207,0052, -49.5323, -169.9871,  5225,   4663.2,     0.96,   34.706,2,  34.7088,2,    210.9,2,    208.4,2,   123.70,2,    32.04,2, -999.000,9,     2.21,2,    0.155,2,    0.073,2, -999.000,9,   -999.0,9,   -999.0,9
           NA,     P15,      3,   1,       2,   12006,  2,20090207,0052, -49.5323, -169.9871,  5225,   5164.4,     0.99,   34.704,2,  34.7064,2,    212.4,2,    209.1,2,   124.87,2,    32.24,2, -999.000,9,     2.20,2, -999.000,9, -999.000,9, -999.000,9,   -999.0,9,   -999.0,9
           NA,     P15,      3,   1,       1,   12045,  2,20090207,0052, -49.5323, -169.9871,  5225,   5347.6,     1.01,   34.704,2,  34.7078,2,    212.7,2,    208.6,2,   125.08,2,    32.06,2, -999.000,9,     2.20,2,    0.190,6,    0.086,6, -999.000,9,   -999.0,9,   -999.0,9