BOTTLE,20214902JOAExport
EXPOCODE,SECT_ID,STNNBR,CASTNO,SAMPNO,BTLNBR,BTLNBR_FLAG_W,DATE,TIME,LATITUDE,LONGITUDE,DEPTH,CTDPRS,CTDTMP,CTDSAL,CTDSAL_FLAG_W,SALNTY,SALNTY_FLAG_W,CTDOXY,CTDOXY_FLAG_W,OXYGEN,OXYGEN_FLAG_W,SILCAT,SILCAT_FLAG_W,NITRAT,NITRAT_FLAG_W,NITRIT,NITRIT_FLAG_W,PHSPHT,PHSPHT_FLAG_W,CFC-11,CFC-11_FLAG_W,CFC-12,CFC-12_FLAG_W,SF6,SF6_FLAG_W,TCARBN,TCARBN_FLAG_W,ALKALI,ALKALI_FLAG_W
,,,,,,,,,,,,DB,ITS-90,PSS-78,,PSS-78,,UMOL/KG,,UMOL/KG,,UMOL/KG,,UMOL/KG,,UMOL/KG,,UMOL/KG,,PMOL/KG,,PMOL/KG,,FMOL/KG,,UMOL/KG,,UMOL/KG
           NA,     P15,    115,   1,      24,   12014,  2,20090313,2351,  -1.4029, -168.7623,  6539,      3.7,    27.04,   35.250,2,-999.0000,9,    205.2,2,    204.3,2,     2.62,2,     5.34,2, -999.000,9,     0.54,2, -999.000,3, -999.000,4, -999.000,9,   2033.7,6,   2317.6,6
           NA,     P15,    115,   1,      23,   12046,  2,20090313,2351,  -1.4029, -168.7623,  6539,     23.1,    26.61,   35.238,2,  35.2365,2,    206.4,2,    204.7,2,     2.65,2,     5.37,2, -999.000,9,     0.54,2, -999.000,3, -999.000,4, -999.000,9,   2034.0,2,   2318.3,2
           NA,     P15,    115,   1,      22,   12020,  2,20090313,2351,  -1.4029, -168.7623,  6539,     81.6,    26.14,   35.242,2,  35.2497,2,    198.8,2,    197.8,2,  -999.00,9,  -999.00,9, -999.000,9,  -999.00,9,    1.547,2,    0.977,2, -999.000,9,   2043.3,2,   2318.0,6
           NA,     P15,    115,   1,      21,   12003,  2,20090313,2351,  -1.4029, -168.7623,  6539,    134.3,    25.32,   35.517,2,  35.5210,2,    170.5,2,    170.7,2,     2.95,2,     5.83,2, -999.000,9,     0.60,2, -999.000,3, -999.000,4, -999.000,9,   2073.7,2,   2335.5,2
           NA,     P15,    115,   1,      20,   12051,  2,20090313,2351,  -1.4029, -168.7623,  6539,    170.7,    22.12,   35.720,2,  35.7083,2,    133.3,2,    133.4,2,     3.89,2,    11.13,2, -999.000,9,     0.98,2,    1.336,2, -999.000,4, -999.000,9,   2124.9,2,   2350.5,2
           NA,     P15,    115,   1,      19,   12010,  2,20090313,2351,  -1.4029, -168.7623,  6539,    230.4,    14.01,   35.091,2,  35.0835,2,     97.1,2,     99.7,2,    12.81,2,    21.36,2, -999.000,9,     1.61,2, -999.000,3,    0.794,2, -999.000,9,   2180.6,2,   2316.6,2
           NA,     P15,    115,   1,      18,   12035,  2,20090313,2351,  -1.4029, -168.7623,  6539,    278.5,    11.05,   34.799,2,-999.0000,9,     86.7,2,     87.0,2,    23.20,2,    27.62,2, -999.000,9,     1.92,2,    0.941,2,    0.499,2, -999.000,9,   2204.7,2,   2297.2,2
           NA,     P15,    115,   1,      17,   12024,  2,20090313,2351,  -1.4029, -168.7623,  6539,    339.0,    10.73,   34.780,2,  34.7791,2,     88.7,2,     88.2,2,    23.66,2,    28.10,2, -999.000,9,     1.96,2,    0.925,2,    0.504,2, -999.000,9,   2204.9,2,   2301.0,2
           NA,     P15,    115,   1,      16,   12001,  2,20090313,2351,  -1.4029, -168.7623,  6539,    398.1,    10.02,   34.731,2,-999.0000,9,     75.1,2,     75.0,2,    27.05,2,    30.81,2, -999.000,9,     2.13,2,    0.688,2,    0.367,2, -999.000,9,   2221.4,2,   2299.6,6
           NA,     P15,    115,   1,      15,   12025,  2,20090313,2351,  -1.4029, -168.7623,  6539,    470.0,     9.49,   34.695,2,  34.6954,2,     73.8,2,     73.8,2,    29.27,2,    31.82,2, -999.000,9,     2.20,2,    0.605,2,    0.313,2, -999.000,9,   2228.8,2,   2301.5,2
           NA,     P15,    115,   1,      14,   12041,  2,20090313,2351,  -1.4029, -168.7623,  6539,    585.3,     7.82,   34.604,2,  34.6058,2,     80.8,2,     80.4,2,    37.33,2,    34.93,2, -999.000,9,     2.41,2, -999.000,3, -999.000,3, -999.000,9,   2239.9,2,   2304.2,2
           NA,     P15,    115,   1,      13,   12012,  2,20090313,2351,  -1.4029, -168.7623,  6539,    817.3,     5.35,   34.539,2,  34.5412,2,     86.3,2,     87.0,2,    66.02,2,    38.15,2, -999.000,9,     2.71,2,    0.032,2,    0.022,2, -999.000,9,   2274.0,2,   2334.1,2
           NA,     P15,    115,   1,      12,   12022,  2,20090313,2351,  -1.4029, -168.7623,  6539,   1119.9,     3.95,   34.563,2,  34.5649,2,     94.0,2,     95.1,2,    93.76,2,    38.93,2, -999.000,9,     2.78,2,   -0.003,2,    0.001,2, -999.000,9,   2301.6,6,   2363.0,6
           NA,     P15,    115,   1,      11,   12016,  2,20090313,2351,  -1.4029, -168.7623,  6539,   1378.0,     3.15,   34.592,2,  34.5938,2,    100.5,2,    101.8,2,   112.75,2,    38.62,2, -999.000,9,     2.75,2,    0.009,2, -999.000,3, -999.000,9,   2321.1,2,   2383.4,2
           NA,     P15,    115,   1,      10,   12019,  2,20090313,2351,  -1.4029, -168.7623,  6539,   1745.0,     2.71,   34.614,2,  34.6154,2,    105.1,2,    106.6,2,   124.65,2,    38.63,2, -999.000,9,     2.74,2,    0.000,6,   -0.001,2, -999.000,9,   2328.3,2,   2399.8,2
           NA,     P15,    115,   1,       9,   12031,  2,20090313,2351,  -1.4029, -168.7623,  6539,   2298.1,     2.01,   34.652,2,  34.6539,2,    118.5,2,    120.7,2,   140.47,2,    37.73,2, -999.000,9,     2.66,2,    0.000,2,   -0.001,2, -999.000,9,   2338.1,2,   2412.3,2
           NA,     P15,    115,   1,       8,   12021,  2,20090313,2351,  -1.4029, -168.7623,  6539,   2897.5,     1.71,   34.669,2,  34.6706,2,    132.1,2,    134.1,2,   144.77,2,    36.89,2, -999.000,9,     2.58,2,    0.002,2,    0.000,2, -999.000,9,   2335.3,2,   2417.1,2
           NA,     P15,    115,   1,       7,   12032,  2,20090313,2351,  -1.4029, -168.7623,  6539,   3546.4,     1.53,   34.682,2,  34.6824,2,    150.2,2,    149.3,2,   142.88,2,    36.09,2, -999.000,9,     2.50,2,   -0.003,2,    0.002,2, -999.000,9,   2325.0,2,   -999.0,9
           NA,     P15,    115,   1,       6,   12007,  2,20090313,2351,  -1.4029, -168.7623,  6539,   4095.8,     1.39,   34.694,2,  34.6936,2,    167.3,2,    167.8,2,   137.84,2,    34.69,2, -999.000,9,     2.39,2, -999.000,3, -999.000,3, -999.000,9,   2310.0,2,   2413.3,2
           NA,     P15,    115,   1,       5,   12002,  2,20090313,2351,  -1.4029, -168.7623,  6539,   4697.1,     1.24,   34.703,2,  34.7050,2,    190.9,2,    190.1,2,   126.73,2,    33.15,2, -999.000,9,     2.28,2,    0.002,2, -999.000,3, -999.000,9,   2281.0,2,   2383.9,2
           NA,     P15,    115,   1,       4,   12008,  2,20090313,2351,  -1.4029, -168.7623,  6539,   5325.8,     1.28,   34.705,2,  34.7044,2,    197.3,2,    194.4,2,   124.04,2,    32.78,2, -999.000,9,     2.26,2,    0.016,2,    0.008,2, -999.000,9,   2276.4,2,   2381.0,2
           NA,     P15,    115,   1,       2,   12006,  2,20090313,2351,  -1.4029, -168.7623,  6539,   6397.9,     1.40,   34.705,2,  34.7073,2,    204.4,2,    196.2,2,   123.18,2,    32.65,2, -999.000,9,     2.25,2,    0.018,2,    0.012,2, -999.000,9,   2271.9,2,   2377.7,2
           NA,     P15,    115,   1,       1,   12045,  2,20090313,2351,  -1.4029, -168.7623,  6539,   6749.4,     1.45,   34.693,2,  34.7064,2,    206.0,2,    196.3,2,   123.24,2,    32.77,2, -999.000,9,     2.26,2,    0.016,2, -999.000,4, -999.000,9,   2274.5,6,   2378.3,6
           NA,     P15,    116,   1,      24,   12014,  2,20090314,0718,  -0.9833, -168.7520,  5634,      1.4,    26.70,   35.254,2,  35.2552,2,    203.1,2,    204.3,2,     2.31,2,     5.50,2, -999.000,9,     0.54,2, -999.000,9, -999.000,9, -999.000,9,   2035.1,6,   2318.9,6
           NA,     P15,    116,   1,      23,   12046,  2,20090314,0718,  -0.9833, -168.7520,  5634,     22.6,    26.66,   35.250,2,  35.2489,2,    203.3,2,    204.1,2,     2.32,2,     5.46,2, -999.000,9,     0.53,2, -999.000,9, -999.000,9, -999.000,9,   2034.4,2,   2320.0,2
           NA,     P15,    116,   1,      22,   12020,  2,20090314,0718,  -0.9833, -168.7520,  5634,     47.8,    26.31,   35.237,2,-999.0000,9,    199.8,2,    201.7,2,     2.44,2,     5.72,2, -999.000,9,     0.56,2, -999.000,9, -999.000,9, -999.000,9,   -999.0,9,   -999.0,9
           NA,     P15,    116,   1,      21,   12003,  2,20090314,0718,  -0.9833, -168.7520,  5634,     98.1,    25.95,   35.304,2,  35.3078,2,    185.9,2,    187.1,2,     2.66,2,     6.78,2, -999.000,9,     0.63,2, -999.000,9, -999.000,9, -999.000,9,   -999.0,9,   -999.0,9
           NA,     P15,    116,   1,      20,   12051,  2,20090314,0718,  -0.9833, -168.7520,  5634,    147.8,    22.59,   35.631,2,-999.0000,9,    138.0,2,    139.0,2,     3.56,2,    10.54,2, -999.000,9,     0.89,2, -999.000,9, -999.000,9, -999.000,9,   2109.5,2,   2344.7,2
           NA,     P15,    116,   1,      19,   12010,  2,20090314,0718,  -0.9833, -168.7520,  5634,    196.1,    16.78,   35.224,2,  35.1930,2,    133.3,2,    134.8,2,     9.26,2,    14.52,2, -999.000,9,     1.08,2, -999.000,9, -999.000,9, -999.000,9,   2130.1,2,   2317.2,2
           NA,     P15,    116,   1,      18,   12035,  2,20090314,0718,  -0.9833, -168.7520,  5634,    247.7,    12.84,   34.961,2,  34.9532,2,    126.4,2,    127.9,2,    14.70,2,    20.71,2, -999.000,9,     1.48,2, -999.000,9, -999.000,9, -999.000,9,   2162.2,2,   2307.5,2
           NA,     P15,    116,   1,      17,   12024,  2,20090314,0718,  -0.9833, -168.7520,  5634,    317.6,    10.67,   34.773,2,  34.7728,2,     76.0,2,     77.2,2,    24.77,2,    29.52,2, -999.000,9,     2.02,2, -999.000,9, -999.000,9, -999.000,9,   2213.4,2,   2306.5,2
           NA,     P15,    116,   1,      16,   12001,  2,20090314,0718,  -0.9833, -168.7520,  5634,    367.0,     9.99,   34.730,2,-999.0000,9,     60.7,2,    187.2,2,  -999.00,9,  -999.00,9, -999.000,9,  -999.00,9, -999.000,9, -999.000,9, -999.000,9,   -999.0,9,   -999.0,9
           NA,     P15,    116,   1,      15,   12025,  2,20090314,0718,  -0.9833, -168.7520,  5634,    447.1,     9.43,   34.692,2,  34.6922,2,     62.7,2,     62.9,2,    30.66,2,    33.35,2, -999.000,9,     2.27,2, -999.000,9, -999.000,9, -999.000,9,   2235.4,2,   2302.0,2
           NA,     P15,    116,   1,      14,   12041,  2,20090314,0718,  -0.9833, -168.7520,  5634,    548.1,     8.35,   34.629,2,  34.6264,2,     84.1,2,     84.5,2,    33.52,2,    33.66,2, -999.000,9,     2.29,2, -999.000,9, -999.000,9, -999.000,9,   -999.0,9,   -999.0,9
           NA,     P15,    116,   1,      13,   12012,  2,20090314,0718,  -0.9833, -168.7520,  5634,    647.1,     6.80,   34.567,2,  34.5677,2,     69.5,2,     69.7,2,    48.50,2,    38.05,2, -999.000,9,     2.63,2, -999.000,9, -999.000,9, -999.000,9,   -999.0,9,   -999.0,9
           NA,     P15,    116,   1,      12,   12022,  2,20090314,0718,  -0.9833, -168.7520,  5634,    847.5,     5.38,   34.539,2,  34.5406,2,     88.2,2,     89.3,2,    64.48,2,    38.32,2, -999.000,9,     2.67,2, -999.000,9, -999.000,9, -999.000,9,   -999.0,9,   -999.0,9
           NA,     P15,    116,   1,      11,   12016,  2,20090314,0718,  -0.9833, -168.7520,  5634,   1048.0,     4.19,   34.556,2,  34.5576,2,     93.9,2,   -999.0,9,    87.84,2,    38.88,2, -999.000,9,     2.73,2, -999.000,9, -999.000,9, -999.000,9,   -999.0,9,   -999.0,9
           NA,     P15,    116,   1,      10,   12019,  2,20090314,0718,  -0.9833, -168.7520,  5634,   1348.5,     3.33,   34.586,2,  34.5891,2,     98.6,2,    100.3,2,   108.37,2,    38.97,2, -999.000,9,     2.75,2, -999.000,9, -999.000,9, -999.000,9,   -999.0,9,   -999.0,9
           NA,     P15,    116,   1,       9,   12031,  2,20090314,0718,  -0.9833, -168.7520,  5634,   1698.4,     2.74,   34.614,2,  34.6152,2,    100.8,2,    102.6,2,   125.05,2,    39.19,2, -999.000,9,     2.76,2, -999.000,9, -999.000,9, -999.000,9,   -999.0,9,   -999.0,9
           NA,     P15,    116,   1,       8,   12021,  2,20090314,0718,  -0.9833, -168.7520,  5634,   2098.2,     2.13,   34.646,2,  34.6466,2,    113.0,2,    116.0,2,   139.14,2,    38.54,2, -999.000,9,     2.68,2, -999.000,9, -999.000,9, -999.000,9,   -999.0,9,   -999.0,9
           NA,     P15,    116,   1,       7,   12032,  2,20090314,0718,  -0.9833, -168.7520,  5634,   2596.7,     1.82,   34.663,2,  34.6631,2,    125.4,2,    127.9,2,   144.79,2,    37.79,2, -999.000,9,     2.61,2, -999.000,9, -999.000,9, -999.000,9,   -999.0,9,   -999.0,9
           NA,     P15,    116,   1,       6,   12007,  2,20090314,0718,  -0.9833, -168.7520,  5634,   3196.6,     1.61,   34.676,2,  34.6759,2,    141.0,2,    143.7,2,   143.67,2,    36.76,2, -999.000,9,     2.53,2, -999.000,9, -999.000,9, -999.000,9,   -999.0,9,   -999.0,9
           NA,     P15,    116,   1,       5,   12002,  2,20090314,0718,  -0.9833, -168.7520,  5634,   3797.2,     1.46,   34.688,2,  34.6885,2,    157.8,2,    159.7,2,   140.72,2,    35.67,2, -999.000,9,     2.43,2, -999.000,9, -999.000,9, -999.000,9,   -999.0,9,   -999.0,9
           NA,     P15,    116,   1,       4,   12008,  2,20090314,0718,  -0.9833, -168.7520,  5634,   4298.0,     1.33,   34.698,2,  34.6979,2,    177.0,2,    176.4,2,   133.09,2,    34.37,2, -999.000,9,     2.35,2, -999.000,9, -999.000,9, -999.000,9,   -999.0,9,   -999.0,9
           NA,     P15,    116,   1,       2,   12006,  2,20090314,0718,  -0.9833, -168.7520,  5634,   5398.9,     1.29,   34.705,2,  34.7062,2,    195.7,2,    193.7,2,   124.52,2,    33.09,2, -999.000,9,     2.26,2, -999.000,9, -999.000,9, -999.000,9,   -999.0,9,   -999.0,9
           NA,     P15,    116,   1,       1,   12045,  2,20090314,0718,  -0.9833, -168.7520,  5634,   5771.5,     1.33,   34.705,2,  34.7070,2,    196.1,2,    194.1,2,   124.13,2,    33.02,2, -999.000,9,     2.26,2, -999.000,9, -999.000,9, -999.000,9,   -999.0,9,   -999.0,9
           NA,     P15,    117,   1,      24,   12014,  2,20090314,1411,  -0.4878, -168.7426,  5442,      3.1,    26.40,   35.266,2,-999.0000,9,    198.8,2,    199.7,2,     2.98,2,     5.74,2, -999.000,9,     0.56,2,    1.780,2,    1.080,2, -999.000,9,   2039.3,6,   2315.9,6
           NA,     P15,    117,   1,      23,   12046,  2,20090314,1411,  -0.4878, -168.7426,  5442,     30.0,    26.33,   35.271,2,  35.2700,2,    195.9,2,    196.4,2,     3.01,2,     5.87,2, -999.000,9,     0.57,2,    1.783,2,    1.070,2, -999.000,9,   2041.8,2,   2318.4,2
           NA,     P15,    117,   1,      22,   12020,  2,20090314,1411,  -0.4878, -168.7426,  5442,     60.0,    26.14,   35.288,2,  35.2865,2,    187.6,2,    188.9,2,     3.13,2,     6.34,2, -999.000,9,     0.60,2,    1.789,2,    1.073,2, -999.000,9,   2046.1,2,   2317.9,6
           NA,     P15,    117,   1,      21,   12003,  2,20090314,1411,  -0.4878, -168.7426,  5442,     81.4,    26.02,   35.319,2,  35.3196,2,    181.9,2,    182.9,2,     3.24,2,     7.03,2, -999.000,9,     0.64,2,    1.773,2,    1.068,2, -999.000,9,   2051.0,2,   2321.3,2
           NA,     P15,    117,   1,      20,   12051,  2,20090314,1411,  -0.4878, -168.7426,  5442,    115.9,    25.90,   35.387,2,  35.3886,2,    180.2,2,    181.7,2,     3.31,2,     7.64,2, -999.000,9,     0.68,2,    1.791,2,    1.085,6, -999.000,9,   2059.1,2,   2324.9,2
           NA,     P15,    117,   1,      19,   12010,  2,20090314,1411,  -0.4878, -168.7426,  5442,    148.3,    25.13,   35.593,2,  35.5807,2,    162.0,2,    162.7,2,     3.25,2,     8.69,2, -999.000,9,     0.77,2,    1.850,2,    1.117,2, -999.000,9,   2079.3,2,   2337.9,2
           NA,     P15,    117,   1,      18,   12035,  2,20090314,1411,  -0.4878, -168.7426,  5442,    264.0,    11.80,   34.866,2,  34.8648,2,    111.1,2,    111.8,2,    19.53,2,    23.93,2, -999.000,9,     1.70,2,    1.339,2,    0.708,2, -999.000,9,   2183.0,2,   2302.6,2
           NA,     P15,    117,   1,      17,   12024,  2,20090314,1411,  -0.4878, -168.7426,  5442,    315.3,    11.14,   34.804,2,-999.0000,9,     80.3,2,     80.5,2,    24.08,2,    28.07,2, -999.000,9,     1.95,2, -999.000,3,    0.536,2, -999.000,9,   2209.6,2,   2300.0,2
           NA,     P15,    117,   1,      16,   12001,  2,20090314,1411,  -0.4878, -168.7426,  5442,    367.5,    10.45,   34.756,2,  34.7555,2,     60.1,2,     60.8,2,    27.75,2,    31.85,2, -999.000,9,     2.20,2,    0.747,2,    0.399,2, -999.000,9,   2229.2,2,   2301.8,6
           NA,     P15,    117,   1,      15,   12025,  2,20090314,1411,  -0.4878, -168.7426,  5442,    449.1,     9.03,   34.667,2,-999.0000,9,     48.3,2,     48.0,2,    35.55,2,    35.68,2, -999.000,9,     2.43,2,    0.385,2,    0.203,2, -999.000,9,   2249.8,2,   2301.0,2
           NA,     P15,    117,   1,      14,   12041,  2,20090314,1411,  -0.4878, -168.7426,  5442,    594.3,     6.95,   34.570,2,  34.5700,2,     70.5,2,     71.2,2,    47.67,2,    37.32,2, -999.000,9,     2.61,2,    0.145,2,    0.076,2, -999.000,9,   2260.6,2,   2312.5,2
           NA,     P15,    117,   1,      13,   12012,  2,20090314,1411,  -0.4878, -168.7426,  5442,    746.9,     5.81,   34.545,2,  34.5451,2,     80.5,2,     80.8,2,    61.38,2,    38.31,2, -999.000,9,     2.68,2,    0.064,2,    0.036,2, -999.000,9,   2273.0,2,   2325.3,2
           NA,     P15,    117,   1,      12,   12022,  2,20090314,1411,  -0.4878, -168.7426,  5442,    905.1,     4.96,   34.546,2,  34.5478,2,     84.9,2,     85.5,2,    76.24,2,    38.72,2, -999.000,9,     2.74,2,    0.027,2,    0.014,2, -999.000,9,   2289.4,6,   2342.0,6
           NA,     P15,    117,   1,      11,   12016,  2,20090314,1411,  -0.4878, -168.7426,  5442,   1130.2,     3.91,   34.566,2,  34.5673,2,     93.1,2,     94.0,2,    97.08,2,    39.25,2, -999.000,9,     2.76,2,    0.009,2,    0.002,2, -999.000,9,   2307.7,2,   2364.4,2
           NA,     P15,    117,   1,      10,   12019,  2,20090314,1411,  -0.4878, -168.7426,  5442,   1455.5,     2.96,   34.605,2,  34.6052,2,     95.8,2,     97.0,2,   120.97,2,    39.20,2, -999.000,9,     2.78,2,    0.000,2,   -0.001,2, -999.000,9,   2332.2,2,   2389.7,2
           NA,     P15,    117,   1,       9,   12031,  2,20090314,1411,  -0.4878, -168.7426,  5442,   1817.0,     2.49,   34.625,2,  34.6254,2,    107.8,2,    109.0,2,   130.71,2,    38.62,2, -999.000,9,     2.71,2, -999.000,9, -999.000,9, -999.000,9,   2335.0,2,   2396.2,2
           NA,     P15,    117,   1,       8,   12021,  2,20090314,1411,  -0.4878, -168.7426,  5442,   2248.7,     1.99,   34.654,2,  34.6541,2,    117.4,2,    118.1,2,   143.93,2,    38.28,2, -999.000,9,     2.65,2,    0.005,6,    0.000,6, -999.000,9,   2344.4,2,   2414.7,2
           NA,     P15,    117,   1,       7,   12032,  2,20090314,1411,  -0.4878, -168.7426,  5442,   2781.7,     1.73,   34.667,2,  34.6677,2,    131.6,2,    132.4,2,   144.99,2,    36.95,2, -999.000,9,     2.57,2,    0.006,2,    0.000,2, -999.000,9,   2336.9,2,   2417.9,2
           NA,     P15,    117,   1,       6,   12007,  2,20090314,1411,  -0.4878, -168.7426,  5442,   3398.1,     1.54,   34.681,2,  34.6800,2,    148.1,2,    148.6,2,   144.26,2,    36.18,2, -999.000,9,     2.48,2,    0.000,2,    0.000,2, -999.000,9,   2325.8,2,   2413.8,2
           NA,     P15,    117,   1,       5,   12002,  2,20090314,1411,  -0.4878, -168.7426,  5442,   3980.6,     1.41,   34.693,2,  34.6914,2,    164.7,2,    164.2,2,   139.89,2,    35.12,2, -999.000,9,     2.39,2,    0.002,2,    0.001,2, -999.000,9,   2315.9,2,   2411.0,2
           NA,     P15,    117,   1,       4,   12008,  2,20090314,1411,  -0.4878, -168.7426,  5442,   4464.9,     1.29,   34.701,2,  34.6995,2,    183.3,2,    182.6,2,   131.09,2,    34.06,2, -999.000,9,     2.32,2,    0.006,2,   -0.001,2, -999.000,9,   2293.5,2,   2393.9,2
           NA,     P15,    117,   1,       3,   12033,  2,20090314,1411,  -0.4878, -168.7426,  5442,   4965.9,     1.26,   34.705,2,  34.7058,2,    192.1,2,    190.4,2,   126.49,2,    33.19,2, -999.000,9,     2.27,2,    0.009,6,    0.005,6, -999.000,9,   2284.3,2,   2384.1,2
           NA,     P15,    117,   1,       2,   12006,  2,20090314,1411,  -0.4878, -168.7426,  5442,   5415.2,     1.30,   34.705,2,  34.7040,2,    193.6,2,    191.9,2,   126.56,2,    33.09,2, -999.000,9,     2.26,2,    0.013,2,    0.004,2, -999.000,9,   2280.3,2,   2379.8,2
           NA,     P15,    117,   1,       1,   12045,  2,20090314,1411,  -0.4878, -168.7426,  5442,   5584.3,     1.33,   34.705,2,  34.7040,2,    194.0,2,    192.2,2,   126.00,2,    33.08,2, -999.000,9,     2.26,2,    0.017,2,    0.007,2, -999.000,9,   2281.4,6,   2382.6,6