BOTTLE,20214902JOAExport
EXPOCODE,SECT_ID,STNNBR,CASTNO,SAMPNO,BTLNBR,BTLNBR_FLAG_W,DATE,TIME,LATITUDE,LONGITUDE,DEPTH,CTDPRS,CTDTMP,CTDSAL,CTDSAL_FLAG_W,SALNTY,SALNTY_FLAG_W,CTDOXY,CTDOXY_FLAG_W,OXYGEN,OXYGEN_FLAG_W,SILCAT,SILCAT_FLAG_W,NITRAT,NITRAT_FLAG_W,NITRIT,NITRIT_FLAG_W,PHSPHT,PHSPHT_FLAG_W,CFC-11,CFC-11_FLAG_W,CFC-12,CFC-12_FLAG_W,SF6,SF6_FLAG_W,TCARBN,TCARBN_FLAG_W,ALKALI,ALKALI_FLAG_W
,,,,,,,,,,,,DB,ITS-90,PSS-78,,PSS-78,,UMOL/KG,,UMOL/KG,,UMOL/KG,,UMOL/KG,,UMOL/KG,,UMOL/KG,,PMOL/KG,,PMOL/KG,,FMOL/KG,,UMOL/KG,,UMOL/KG
           NA,     P15,     50,   1,      24,   12015,  2,20090219,2004, -29.4993, -169.9767,  5193,      3.9,    24.59,   35.431,2,  35.4283,2,    211.1,2,    211.2,2,     0.88,2,     0.00,2, -999.000,9,     0.00,2, -999.000,9, -999.000,9, -999.000,9,   2000.7,2,   2319.6,2
           NA,     P15,     50,   1,      23,   12046,  2,20090219,2004, -29.4993, -169.9767,  5193,     29.2,    24.80,   35.438,2,  35.4308,2,    211.1,2,    211.6,2,     0.88,2,     0.00,2, -999.000,9,     0.00,2, -999.000,9, -999.000,9, -999.000,9,   -999.0,9,   -999.0,9
           NA,     P15,     50,   1,      22,   12020,  2,20090219,2004, -29.4993, -169.9767,  5193,     57.3,    21.05,   35.611,2,  35.6076,2,    245.6,2,    245.3,2,     0.94,2,     0.00,2, -999.000,9,     0.02,2, -999.000,9, -999.000,9, -999.000,9,   2023.3,2,   2330.7,2
           NA,     P15,     50,   1,      21,   12003,  2,20090219,2004, -29.4993, -169.9767,  5193,     87.0,    18.67,   35.574,2,  35.5744,2,    247.8,2,    247.6,2,     1.01,2,     0.00,2, -999.000,9,     0.05,2, -999.000,9, -999.000,9, -999.000,9,   2039.1,2,   2329.1,2
           NA,     P15,     50,   1,      20,   12051,  2,20090219,2004, -29.4993, -169.9767,  5193,    117.7,    17.18,   35.559,2,  35.5537,2,    219.0,2,    218.6,2,     1.35,2,     0.96,2, -999.000,9,     0.20,2, -999.000,9, -999.000,9, -999.000,9,   -999.0,9,   -999.0,9
           NA,     P15,     50,   1,      19,   12010,  2,20090219,2004, -29.4993, -169.9767,  5193,    167.6,    15.89,   35.448,2,  35.4507,2,    203.3,2,    204.1,2,     2.00,2,     5.39,2, -999.000,9,     0.43,2, -999.000,9, -999.000,9, -999.000,9,   2090.3,2,   2325.4,2
           NA,     P15,     50,   1,      18,   12018,  2,20090219,2004, -29.4993, -169.9767,  5193,    246.5,    14.14,   35.247,2,  35.2454,2,    199.4,2,   -999.0,9,     2.98,2,     8.94,2, -999.000,9,     0.65,2, -999.000,9, -999.000,9, -999.000,9,   -999.0,9,   -999.0,9
           NA,     P15,     50,   1,      17,   12024,  2,20090219,2004, -29.4993, -169.9767,  5193,    342.4,    12.37,   35.046,2,  35.0415,2,    205.1,2,    205.1,2,     3.85,2,    11.73,2, -999.000,9,     0.84,2, -999.000,9, -999.000,9, -999.000,9,   -999.0,9,   -999.0,9
           NA,     P15,     50,   1,      16,   12001,  2,20090219,2004, -29.4993, -169.9767,  5193,    418.8,    10.79,   34.829,2,  34.8308,2,    206.5,2,    206.7,2,     4.89,2,    15.05,2, -999.000,9,     1.05,2, -999.000,9, -999.000,9, -999.000,9,   -999.0,9,   -999.0,9
           NA,     P15,     50,   1,      15,   12025,  2,20090219,2004, -29.4993, -169.9767,  5193,    491.2,     9.19,   34.635,2,  34.6337,2,    211.5,2,    212.0,2,     6.19,2,    18.62,2, -999.000,9,     1.27,2, -999.000,9, -999.000,9, -999.000,9,   -999.0,9,   -999.0,9
           NA,     P15,     50,   1,      14,   12041,  2,20090219,2004, -29.4993, -169.9767,  5193,    597.7,     7.87,   34.490,2,  34.4893,2,    219.5,2,    220.8,2,     7.66,2,    21.39,2, -999.000,9,     1.44,2, -999.000,9, -999.000,9, -999.000,9,   -999.0,9,   -999.0,9
           NA,     P15,     50,   1,      13,   12012,  2,20090219,2004, -29.4993, -169.9767,  5193,    716.6,     6.98,   34.403,2,  34.4006,2,    226.0,2,    228.1,2,     9.26,2,    23.29,2, -999.000,9,     1.56,2, -999.000,9, -999.000,9, -999.000,9,   -999.0,9,   -999.0,9
           NA,     P15,     50,   1,      12,   12022,  2,20090219,2004, -29.4993, -169.9767,  5193,    898.5,     5.82,   34.340,2,  34.3398,2,    213.9,2,    216.5,2,    16.96,2,    27.02,2, -999.000,9,     1.82,2, -999.000,9, -999.000,9, -999.000,9,   -999.0,9,   -999.0,9
           NA,     P15,     50,   1,      11,   12016,  2,20090219,2004, -29.4993, -169.9767,  5193,   1147.8,     4.13,   34.362,2,  34.3615,2,    186.9,2,    190.4,2,    39.61,2,    32.26,2, -999.000,9,     2.18,2, -999.000,9, -999.000,9, -999.000,9,   -999.0,9,   -999.0,9
           NA,     P15,     50,   1,      10,   12019,  2,20090219,2004, -29.4993, -169.9767,  5193,   1395.2,     3.18,   34.476,2,  34.4752,2,    166.0,2,    169.6,2,    67.25,2,    34.35,2, -999.000,9,     2.37,2, -999.000,9, -999.000,9, -999.000,9,   -999.0,9,   -999.0,9
           NA,     P15,     50,   1,       9,   12031,  2,20090219,2004, -29.4993, -169.9767,  5193,   1698.2,     2.57,   34.586,2,  34.5840,2,    151.7,2,    154.9,2,    97.07,2,    35.31,2, -999.000,9,     2.45,2, -999.000,9, -999.000,9, -999.000,9,   -999.0,9,   -999.0,9
           NA,     P15,     50,   1,       8,   12021,  2,20090219,2004, -29.4993, -169.9767,  5193,   1900.2,     2.36,   34.615,2,  34.6170,2,    146.9,2,    149.6,2,   109.03,2,    35.74,2, -999.000,9,     2.48,2, -999.000,9, -999.000,9, -999.000,9,   -999.0,9,   -999.0,9
           NA,     P15,     50,   1,       7,   12032,  2,20090219,2004, -29.4993, -169.9767,  5193,   2197.3,     2.16,   34.636,2,  34.6354,2,    144.1,2,    146.4,2,   119.24,2,    36.12,2, -999.000,9,     2.52,2, -999.000,9, -999.000,9, -999.000,9,   -999.0,9,   -999.0,9
           NA,     P15,     50,   1,       6,   12007,  2,20090219,2004, -29.4993, -169.9767,  5193,   2499.2,     2.00,   34.650,2,  34.6486,2,    144.5,2,    146.6,2,   125.23,2,    36.19,2, -999.000,9,     2.53,2, -999.000,9, -999.000,9, -999.000,9,   -999.0,9,   -999.0,9
           NA,     P15,     50,   1,       5,   12002,  2,20090219,2004, -29.4993, -169.9767,  5193,   2997.8,     1.80,   34.670,2,  34.6684,2,    150.1,2,    151.0,2,   130.14,2,    35.89,2, -999.000,9,     2.49,2, -999.000,9, -999.000,9, -999.000,9,   -999.0,9,   -999.0,9
           NA,     P15,     50,   1,       4,   12008,  2,20090219,2004, -29.4993, -169.9767,  5193,   3498.9,     1.60,   34.706,2,  34.7081,2,    179.0,2,    180.2,2,   114.90,2,    33.31,2, -999.000,9,     2.29,2, -999.000,9, -999.000,9, -999.000,9,   -999.0,9,   -999.0,9
           NA,     P15,     50,   1,       3,   12033,  2,20090219,2004, -29.4993, -169.9767,  5193,   3997.2,     1.26,   34.717,2,  34.7168,2,    199.6,2,    200.2,2,   113.97,2,    31.87,2, -999.000,9,     2.22,2, -999.000,9, -999.000,9, -999.000,9,   -999.0,9,   -999.0,9
           NA,     P15,     50,   1,       2,   12006,  2,20090219,2004, -29.4993, -169.9767,  5193,   4597.4,     1.06,   34.711,2,  34.7099,2,    205.9,2,    205.8,2,   119.95,2,    32.26,2, -999.000,9,     2.22,2, -999.000,9, -999.000,9, -999.000,9,   -999.0,9,   -999.0,9
           NA,     P15,     50,   1,       1,   12045,  2,20090219,2004, -29.4993, -169.9767,  5193,   5354.7,     1.08,   34.708,2,  34.7075,2,    207.2,2,    206.2,2,   121.73,2,    32.41,2, -999.000,9,     2.22,2, -999.000,9, -999.000,9, -999.000,9,   -999.0,9,   -999.0,9
           NA,     P15,     51,   1,      24,   12015,  2,20090220,0255, -29.0007, -170.0068,  5564,      2.9,    24.69,   35.361,2,  35.3599,2,    210.9,2,    211.2,2,     0.94,2,     0.00,2, -999.000,9,     0.02,2,    1.874,2,    1.147,2, -999.000,9,   1997.2,6,   2314.7,6
           NA,     P15,     51,   1,      23,   12046,  2,20090220,0255, -29.0007, -170.0068,  5564,     29.3,    24.68,   35.370,2,  35.3707,2,    210.9,2,    211.2,2,     0.94,2,     0.00,2, -999.000,9,     0.01,2,    1.881,2,    1.157,2, -999.000,9,   1997.6,2,   2314.7,2
           NA,     P15,     51,   1,      22,   12020,  2,20090220,0255, -29.0007, -170.0068,  5564,     51.8,    21.44,   35.573,2,  35.5606,2,    242.8,2,    243.5,2,     0.95,2,     0.00,2, -999.000,9,     0.02,2,    2.359,2,    1.406,2, -999.000,9,   2016.5,2,   2330.3,2
           NA,     P15,     51,   1,      21,   12003,  2,20090220,0255, -29.0007, -170.0068,  5564,     97.4,    18.45,   35.601,2,  35.6032,2,    215.0,2,    215.0,2,     1.10,2,     0.47,2, -999.000,9,     0.12,2,    2.491,2,    1.464,2, -999.000,9,   2057.0,2,   2330.5,2
           NA,     P15,     51,   1,      20,   12051,  2,20090220,0255, -29.0007, -170.0068,  5564,    134.4,    17.47,   35.574,2,  35.5709,2,    201.7,2,    201.4,2,     1.43,2,     3.27,2, -999.000,9,     0.28,2, -999.000,9, -999.000,9, -999.000,9,   2076.7,2,   2329.8,2
           NA,     P15,     51,   1,      19,   12010,  2,20090220,0255, -29.0007, -170.0068,  5564,    217.4,    15.58,   35.416,2,  35.4147,2,    207.6,2,    207.8,2,     2.06,2,     5.35,2, -999.000,9,     0.43,2,    2.777,2,    1.573,2, -999.000,9,   2090.3,2,   2321.3,2
           NA,     P15,     51,   1,      18,   12018,  2,20090220,0255, -29.0007, -170.0068,  5564,    292.0,    13.85,   35.224,2,  35.2225,2,    203.1,2,    202.7,2,     3.03,2,     8.90,2, -999.000,9,     0.66,2, -999.000,9, -999.000,9, -999.000,9,   2108.9,2,   2312.0,2
           NA,     P15,     51,   1,      17,   12024,  2,20090220,0255, -29.0007, -170.0068,  5564,    368.1,    12.33,   35.051,2,  35.0606,2,    207.4,2,    208.8,2,     3.67,2,    11.18,2, -999.000,9,     0.80,2,    3.101,2,    1.685,2, -999.000,9,   2117.0,2,   2303.3,2
           NA,     P15,     51,   1,      16,   12001,  2,20090220,0255, -29.0007, -170.0068,  5564,    443.0,    10.43,   34.777,2,  34.7709,2,    205.9,2,    206.2,2,     4.88,2,    15.77,2, -999.000,9,     1.10,2,    3.139,2,    1.623,2, -999.000,9,   2130.8,2,   2290.8,6
           NA,     P15,     51,   1,      15,   12025,  2,20090220,0255, -29.0007, -170.0068,  5564,    520.8,     8.92,   34.587,2,  34.5881,2,    213.8,2,    214.6,2,     5.77,2,    18.68,2, -999.000,9,     1.29,2, -999.000,9, -999.000,9, -999.000,9,   2136.9,2,   2276.0,2
           NA,     P15,     51,   1,      14,   12041,  2,20090220,0255, -29.0007, -170.0068,  5564,    640.8,     7.56,   34.445,2,  34.4436,2,    225.9,2,    227.7,2,     7.07,2,    21.41,2, -999.000,9,     1.46,2,    3.198,2,    1.530,2, -999.000,9,   2140.4,2,   2279.4,2
           NA,     P15,     51,   1,      13,   12012,  2,20090220,0255, -29.0007, -170.0068,  5564,    747.1,     6.72,   34.380,2,  34.3790,2,    226.1,2,    229.0,2,     9.71,2,    23.54,2, -999.000,9,     1.59,2,    2.339,2,    1.128,2, -999.000,9,   2145.7,2,   2280.6,2
           NA,     P15,     51,   1,      12,   12022,  2,20090220,0255, -29.0007, -170.0068,  5564,    963.6,     5.29,   34.326,2,  34.3268,2,    205.3,2,    209.1,2,  -999.00,9,  -999.00,9, -999.000,9,  -999.00,9,    0.771,2,    0.392,2, -999.000,9,   2173.0,6,   2288.8,6
           NA,     P15,     51,   1,      11,   12016,  2,20090220,0255, -29.0007, -170.0068,  5564,   1230.4,     3.78,   34.394,2,  34.3937,2,    178.2,2,    182.1,2,    48.32,2,    33.12,2, -999.000,9,     2.25,2,    0.157,2,    0.079,2, -999.000,9,   2218.5,2,   2311.2,2
           NA,     P15,     51,   1,      10,   12019,  2,20090220,0255, -29.0007, -170.0068,  5564,   1489.4,     2.88,   34.518,2,  34.5203,2,    160.5,2,    164.0,2,    76.43,2,    34.58,2, -999.000,9,     2.37,2,    0.016,2,    0.007,2, -999.000,9,   2258.3,2,   2342.9,2
           NA,     P15,     51,   1,       9,   12031,  2,20090220,0255, -29.0007, -170.0068,  5564,   1797.6,     2.43,   34.603,2,  34.6028,2,    148.7,2,    153.3,2,   104.10,2,    35.51,2, -999.000,9,     2.46,2, -999.000,9, -999.000,9, -999.000,9,   2288.3,2,   2373.3,2
           NA,     P15,     51,   1,       8,   12021,  2,20090220,0255, -29.0007, -170.0068,  5564,   2129.5,     2.18,   34.633,2,  34.6323,2,    144.3,2,    147.1,2,   117.47,2,    36.02,2, -999.000,9,     2.50,2,    0.012,6,    0.005,6, -999.000,9,   2303.6,2,   2376.0,2
           NA,     P15,     51,   1,       7,   12032,  2,20090220,0255, -29.0007, -170.0068,  5564,   2662.5,     1.94,   34.656,2,  34.6572,2,    144.8,2,    146.5,2,   127.67,2,    36.07,2, -999.000,9,     2.51,2, -999.000,9, -999.000,9, -999.000,9,   2313.2,2,   2400.4,2
           NA,     P15,     51,   1,       6,   12007,  2,20090220,0255, -29.0007, -170.0068,  5564,   3164.3,     1.72,   34.683,2,  34.6818,2,    159.5,2,    160.7,2,   125.71,2,    34.88,2, -999.000,9,     2.41,2,    0.005,2,    0.004,2, -999.000,9,   2302.3,2,   2392.7,6
           NA,     P15,     51,   1,       5,   12002,  2,20090220,0255, -29.0007, -170.0068,  5564,   3662.1,     1.48,   34.717,2,  34.7164,2,    190.0,2,    192.6,2,   110.53,2,    32.17,2, -999.000,9,     2.21,2, -999.000,9, -999.000,9, -999.000,9,   2266.8,2,   2369.6,2
           NA,     P15,     51,   1,       4,   12008,  2,20090220,0255, -29.0007, -170.0068,  5564,   4164.3,     1.15,   34.715,2,  34.7148,2,    202.2,2,    204.0,2,   114.86,2,    31.75,2, -999.000,9,     2.18,2, -999.000,9, -999.000,9, -999.000,9,   2260.3,2,   2360.3,2
           NA,     P15,     51,   1,       3,   12033,  2,20090220,0255, -29.0007, -170.0068,  5564,   4663.8,     1.04,   34.709,2,  34.7115,2,    206.2,2,    205.8,2,   120.99,2,    32.14,2, -999.000,9,     2.21,2,    0.052,2,    0.026,2, -999.000,9,   2262.5,2,   2365.0,2
           NA,     P15,     51,   1,       2,   12006,  2,20090220,0255, -29.0007, -170.0068,  5564,   5164.6,     1.06,   34.708,2,  34.7087,2,    207.2,2,    206.7,2,   122.31,2,    32.26,2, -999.000,9,     2.22,2,    0.065,2,    0.031,2, -999.000,9,   2263.1,2,   2363.3,2
           NA,     P15,     51,   1,       1,   12045,  2,20090220,0255, -29.0007, -170.0068,  5564,   5691.1,     1.12,   34.707,2,  34.7073,2,    207.8,2,    206.3,2,   122.12,2,    32.22,2, -999.000,9,     2.21,2,    0.064,2,    0.030,2, -999.000,9,   2263.5,6,   2363.7,6