BOTTLE,20214902JOAExport
EXPOCODE,SECT_ID,STNNBR,CASTNO,SAMPNO,BTLNBR,BTLNBR_FLAG_W,DATE,TIME,LATITUDE,LONGITUDE,DEPTH,CTDPRS,CTDTMP,CTDSAL,CTDSAL_FLAG_W,SALNTY,SALNTY_FLAG_W,CTDOXY,CTDOXY_FLAG_W,OXYGEN,OXYGEN_FLAG_W,SILCAT,SILCAT_FLAG_W,NITRAT,NITRAT_FLAG_W,NITRIT,NITRIT_FLAG_W,PHSPHT,PHSPHT_FLAG_W,CFC-11,CFC-11_FLAG_W,CFC-12,CFC-12_FLAG_W,SF6,SF6_FLAG_W,TCARBN,TCARBN_FLAG_W,ALKALI,ALKALI_FLAG_W
,,,,,,,,,,,,DB,ITS-90,PSS-78,,PSS-78,,UMOL/KG,,UMOL/KG,,UMOL/KG,,UMOL/KG,,UMOL/KG,,UMOL/KG,,PMOL/KG,,PMOL/KG,,FMOL/KG,,UMOL/KG,,UMOL/KG
           NA,     P15,     34,   1,      24,   12015,  2,20090215,0552, -36.8658, -170.5951,  5286,      2.7,    20.18,   34.720,2,  34.7178,2,    230.4,2,    228.6,2,     0.86,2,     0.00,2, -999.000,9,     0.15,2, -999.000,9, -999.000,9, -999.000,9,   2038.8,2,   2288.3,2
           NA,     P15,     34,   1,      23,   12046,  2,20090215,0552, -36.8658, -170.5951,  5286,     21.9,    20.31,   34.712,2,  34.7178,2,    229.6,2,    228.5,2,     0.86,2,     0.00,2, -999.000,9,     0.15,2, -999.000,9, -999.000,9, -999.000,9,   -999.0,9,   -999.0,9
           NA,     P15,     34,   1,      22,   12020,  2,20090215,0552, -36.8658, -170.5951,  5286,     66.3,    13.64,   34.881,2,  34.8855,2,    265.5,2,    263.9,2,     1.10,2,     0.42,2, -999.000,9,     0.21,2, -999.000,9, -999.000,9, -999.000,9,   -999.0,9,   -999.0,9
           NA,     P15,     34,   1,      21,   12003,  2,20090215,0552, -36.8658, -170.5951,  5286,    129.5,    12.44,   34.987,2,  34.9878,2,    238.9,2,    237.8,2,     1.91,2,     6.82,2, -999.000,9,     0.54,2, -999.000,9, -999.000,9, -999.000,9,   -999.0,9,   -999.0,9
           NA,     P15,     34,   1,      20,   12051,  2,20090215,0552, -36.8658, -170.5951,  5286,    181.6,    11.80,   34.971,2,  34.9701,2,    233.9,2,    231.9,2,     2.75,2,     9.60,2, -999.000,9,     0.68,2, -999.000,9, -999.000,9, -999.000,9,   -999.0,9,   -999.0,9
           NA,     P15,     34,   1,      19,   12010,  2,20090215,0552, -36.8658, -170.5951,  5286,    221.7,    10.73,   34.811,2,  34.8115,2,    226.3,2,    224.7,2,     3.46,2,    12.70,2, -999.000,9,     0.88,2, -999.000,9, -999.000,9, -999.000,9,   -999.0,9,   -999.0,9
           NA,     P15,     34,   1,      18,   12018,  2,20090215,0552, -36.8658, -170.5951,  5286,    266.0,     9.90,   34.703,2,  34.7054,2,    226.3,2,    224.9,2,     4.05,2,    14.73,2, -999.000,9,     1.01,2, -999.000,9, -999.000,9, -999.000,9,   -999.0,9,   -999.0,9
           NA,     P15,     34,   1,      17,   12024,  2,20090215,0552, -36.8658, -170.5951,  5286,    364.1,     8.47,   34.538,2,  34.5386,2,    230.5,2,    229.1,2,     5.39,2,    18.72,2, -999.000,9,     1.24,2, -999.000,9, -999.000,9, -999.000,9,   -999.0,9,   -999.0,9
           NA,     P15,     34,   1,      15,   12025,  2,20090215,0552, -36.8658, -170.5951,  5286,    548.0,     7.34,   34.419,2,  34.4192,2,    237.1,2,    236.5,2,     7.14,2,    21.55,2, -999.000,9,     1.43,2, -999.000,9, -999.000,9, -999.000,9,   -999.0,9,   -999.0,9
           NA,     P15,     34,   1,      14,   12041,  2,20090215,0552, -36.8658, -170.5951,  5286,    629.1,     7.00,   34.390,2,  34.3931,2,    237.5,2,    237.7,2,     7.98,2,    22.40,2, -999.000,9,     1.48,2, -999.000,9, -999.000,9, -999.000,9,   -999.0,9,   -999.0,9
           NA,     P15,     34,   1,      13,   12012,  2,20090215,0552, -36.8658, -170.5951,  5286,    830.4,     6.05,   34.337,2,  34.3376,2,    222.4,2,    223.2,2,    14.00,2,    25.86,2, -999.000,9,     1.71,2, -999.000,9, -999.000,9, -999.000,9,   -999.0,9,   -999.0,9
           NA,     P15,     34,   1,      12,   12022,  2,20090215,0552, -36.8658, -170.5951,  5286,   1030.8,     4.92,   34.350,2,  34.3468,2,    199.8,2,    200.4,2,    28.50,2,    29.71,2, -999.000,9,     1.98,2, -999.000,9, -999.000,9, -999.000,9,   -999.0,9,   -999.0,9
           NA,     P15,     34,   1,      11,   12016,  2,20090215,0552, -36.8658, -170.5951,  5286,   1240.9,     3.75,   34.384,2,  34.3830,2,    183.6,2,    187.3,2,    44.85,2,    32.63,2, -999.000,9,     2.18,2, -999.000,9, -999.000,9, -999.000,9,   -999.0,9,   -999.0,9
           NA,     P15,     34,   1,      10,   12019,  2,20090215,0552, -36.8658, -170.5951,  5286,   1414.7,     3.27,   34.479,2,  34.4787,2,    167.7,2,    170.3,2,    65.09,2,    33.65,2, -999.000,9,     2.30,2, -999.000,9, -999.000,9, -999.000,9,   -999.0,9,   -999.0,9
           NA,     P15,     34,   1,       9,   12031,  2,20090215,0552, -36.8658, -170.5951,  5286,   1564.4,     2.95,   34.533,2,  34.5323,2,    160.8,2,    162.2,2,    78.72,2,    34.43,2, -999.000,9,     2.36,2, -999.000,9, -999.000,9, -999.000,9,   -999.0,9,   -999.0,9
           NA,     P15,     34,   1,       8,   12021,  2,20090215,0552, -36.8658, -170.5951,  5286,   1831.2,     2.56,   34.592,2,  34.5910,2,    153.0,2,    154.2,2,    95.79,2,    34.78,2, -999.000,9,     2.40,2, -999.000,9, -999.000,9, -999.000,9,   -999.0,9,   -999.0,9
           NA,     P15,     34,   1,       7,   12032,  2,20090215,0552, -36.8658, -170.5951,  5286,   2247.6,     2.24,   34.633,2,  34.6305,2,    148.4,2,    149.4,2,   113.65,2,    35.42,2, -999.000,9,     2.46,2, -999.000,9, -999.000,9, -999.000,9,   -999.0,9,   -999.0,9
           NA,     P15,     34,   1,       6,   12007,  2,20090215,0552, -36.8658, -170.5951,  5286,   2747.6,     1.99,   34.661,2,  34.6606,2,    152.8,2,    153.0,2,   120.37,2,    35.15,2, -999.000,9,     2.43,2, -999.000,9, -999.000,9, -999.000,9,   -999.0,9,   -999.0,9
           NA,     P15,     34,   1,       5,   12055,  2,20090215,0552, -36.8658, -170.5951,  5286,   3331.1,     1.68,   34.713,2,  34.7123,2,    183.4,2,    183.5,2,   108.41,2,    32.35,2, -999.000,9,     2.22,2, -999.000,9, -999.000,9, -999.000,9,   -999.0,9,   -999.0,9
           NA,     P15,     34,   1,       4,   12009,  2,20090215,0552, -36.8658, -170.5951,  5286,   3833.2,     1.30,   34.720,2,  34.7219,2,    200.0,2,    199.7,2,   111.49,2,    31.69,2, -999.000,9,     2.16,2, -999.000,9, -999.000,9, -999.000,9,   -999.0,9,   -999.0,9
           NA,     P15,     34,   1,       3,   12033,  2,20090215,0552, -36.8658, -170.5951,  5286,   4329.7,     1.10,   34.713,2,  34.7115,2,    205.5,2,    204.3,2,   117.63,2,    31.73,2, -999.000,9,     2.19,2, -999.000,9, -999.000,9, -999.000,9,   -999.0,9,   -999.0,9
           NA,     P15,     34,   1,       2,   12006,  2,20090215,0552, -36.8658, -170.5951,  5286,   4913.0,     1.04,   34.708,2,  34.7062,2,    207.8,2,    206.2,2,   122.22,2,    32.09,2, -999.000,9,     2.20,2, -999.000,9, -999.000,9, -999.000,9,   -999.0,9,   -999.0,9
           NA,     P15,     34,   1,       1,   12045,  2,20090215,0552, -36.8658, -170.5951,  5286,   5403.1,     1.08,   34.707,2,  34.7062,2,    208.8,2,    206.3,2,   122.71,2,    31.89,2, -999.000,9,     2.19,2, -999.000,9, -999.000,9, -999.000,9,   -999.0,9,   -999.0,9
           NA,     P15,     35,   1,      24,   12015,  2,20090215,1304, -36.4439, -170.2771,  5163,      2.6,    20.66,   34.775,2,  34.7756,2,    228.7,2,    225.8,2,     0.83,2,     0.00,2, -999.000,9,     0.15,2,    2.272,2,    1.362,2, -999.000,9,   2039.1,6,   2290.8,6
           NA,     P15,     35,   1,      23,   12046,  2,20090215,1304, -36.4439, -170.2771,  5163,     22.2,    20.66,   34.772,2,  34.7740,2,    229.1,2,    225.4,2,     0.84,2,     0.01,2, -999.000,9,     0.14,2,    2.255,6,    1.363,6, -999.000,9,   2041.3,2,   2290.6,2
           NA,     P15,     35,   1,      22,   12020,  2,20090215,1304, -36.4439, -170.2771,  5163,     78.4,    13.27,   34.858,2,  34.8564,2,    266.7,2,    267.7,2,     1.06,2,     1.13,2, -999.000,9,     0.26,2,    3.231,2,    1.844,2, -999.000,9,   2068.3,2,   2298.9,2
           NA,     P15,     35,   1,      21,   12003,  2,20090215,1304, -36.4439, -170.2771,  5163,    144.0,    10.76,   34.732,2,  34.7300,2,    232.5,2,    231.1,2,     2.44,2,    11.18,2, -999.000,9,     0.82,2,    3.564,2,    1.961,2, -999.000,9,   2115.5,2,   2291.4,2
           NA,     P15,     35,   1,      20,   12051,  2,20090215,1304, -36.4439, -170.2771,  5163,    196.9,     9.76,   34.657,2,  34.6570,2,    230.7,2,    229.6,2,     3.49,2,    14.37,2, -999.000,9,     1.00,2,    3.653,2,    2.006,2, -999.000,9,   2127.7,2,   2287.7,2
           NA,     P15,     35,   1,      19,   12010,  2,20090215,1304, -36.4439, -170.2771,  5163,    247.6,     9.31,   34.638,2,  34.6376,2,    228.7,2,    227.9,2,     4.57,2,    16.36,2, -999.000,9,     1.10,2,    3.625,2,    1.945,2, -999.000,9,   2131.7,2,   2285.8,2
           NA,     P15,     35,   1,      18,   12018,  2,20090215,1304, -36.4439, -170.2771,  5163,    297.2,     8.84,   34.587,2,  34.5877,2,    228.4,2,    227.0,2,     5.30,2,    17.82,2, -999.000,9,     1.20,2, -999.000,3, -999.000,3, -999.000,9,   2134.9,2,   2286.8,2
           NA,     P15,     35,   1,      17,   12024,  2,20090215,1304, -36.4439, -170.2771,  5163,    397.3,     8.15,   34.510,2,  34.5101,2,    228.9,2,    228.4,2,     6.42,2,    19.98,2, -999.000,9,     1.33,2,    3.682,6,    1.907,6, -999.000,9,   2139.7,2,   2282.7,2
           NA,     P15,     35,   1,      16,   12001,  2,20090215,1304, -36.4439, -170.2771,  5163,    522.8,     7.55,   34.455,2,  34.4538,2,    228.3,2,    228.3,2,     8.14,2,    21.93,2, -999.000,9,     1.45,2,    3.441,2,    1.736,2, -999.000,9,   2144.0,2,   2285.3,6
           NA,     P15,     35,   1,      15,   12025,  2,20090215,1304, -36.4439, -170.2771,  5163,    597.3,     7.27,   34.434,2,  34.4332,2,    227.5,2,    227.3,2,     9.26,2,    22.65,2, -999.000,9,     1.51,2,    3.195,2,    1.610,2, -999.000,9,   2146.9,2,   2282.8,2
           NA,     P15,     35,   1,      14,   12041,  2,20090215,1304, -36.4439, -170.2771,  5163,    697.0,     6.72,   34.390,2,  34.3908,2,    224.8,2,    225.8,2,    11.62,2,    24.16,2, -999.000,9,     1.59,2,    2.754,2,    1.351,2, -999.000,9,   2151.4,2,   2285.0,2
           NA,     P15,     35,   1,      13,   12012,  2,20090215,1304, -36.4439, -170.2771,  5163,    898.2,     5.57,   34.367,2,  34.3672,2,    203.4,2,    205.0,2,    23.20,2,    28.45,2, -999.000,9,     1.88,2,    1.417,2,    0.670,2, -999.000,9,   2177.2,2,   2290.9,2
           NA,     P15,     35,   1,      12,   12022,  2,20090215,1304, -36.4439, -170.2771,  5163,   1096.4,     4.44,   34.386,2,  34.3868,2,    188.8,2,    189.9,2,    39.52,2,    31.43,2, -999.000,9,     2.11,2,    0.733,2,    0.319,2, -999.000,9,   2203.6,6,   2307.0,6
           NA,     P15,     35,   1,      11,   12016,  2,20090215,1304, -36.4439, -170.2771,  5163,   1298.3,     3.46,   34.429,2,  34.4294,2,    177.0,2,   -999.0,9,    56.08,2,    33.60,2, -999.000,9,     2.26,2,    0.364,2,    0.145,2, -999.000,9,   2228.5,2,   2321.6,2
           NA,     P15,     35,   1,       9,   12031,  2,20090215,1304, -36.4439, -170.2771,  5163,   1698.8,     2.68,   34.573,2,  34.5749,2,    155.6,2,    157.4,2,    92.00,2,    34.92,2, -999.000,9,     2.40,2,    0.029,2,    0.008,2, -999.000,9,   2273.2,2,   2359.0,2
           NA,     P15,     35,   1,       8,   12021,  2,20090215,1304, -36.4439, -170.2771,  5163,   1998.2,     2.37,   34.616,2,  34.6156,2,    150.1,2,    151.7,2,   107.58,2,    35.44,2, -999.000,9,     2.44,2,    0.013,2,    0.005,2, -999.000,9,   2290.9,2,   2380.5,2
           NA,     P15,     35,   1,       7,   12032,  2,20090215,1304, -36.4439, -170.2771,  5163,   2498.3,     2.08,   34.646,2,  34.6514,2,    147.5,2,    148.2,2,   122.41,2,    35.84,2, -999.000,9,     2.48,2,    0.007,2,    0.002,2, -999.000,9,   2305.9,2,   2392.8,2
           NA,     P15,     35,   1,       6,   12007,  2,20090215,1304, -36.4439, -170.2771,  5163,   2998.1,     1.84,   34.671,2,  34.6714,2,    153.9,2,    153.8,2,  -999.00,9,    35.67,2, -999.000,9,  -999.00,9,    0.008,2,    0.004,2, -999.000,9,   2308.8,2,   2397.2,6
           NA,     P15,     35,   1,       5,   12055,  2,20090215,1304, -36.4439, -170.2771,  5163,   3496.5,     1.57,   34.718,2,  34.7176,2,    189.9,2,    189.6,2,   109.22,2,    32.46,2, -999.000,9,     2.20,2,    0.036,2,    0.011,2, -999.000,9,   2265.2,2,   2365.7,2
           NA,     P15,     35,   1,       3,   12033,  2,20090215,1304, -36.4439, -170.2771,  5163,   4499.3,     1.08,   34.711,2,  34.7119,2,    206.3,2,   -999.0,9,   120.54,2,    32.23,2, -999.000,9,     2.19,2,    0.120,2,    0.039,2, -999.000,9,   2261.2,2,   2366.2,2
           NA,     P15,     35,   1,       2,   12006,  2,20090215,1304, -36.4439, -170.2771,  5163,   4998.4,     1.04,   34.708,2,  34.7119,2,    207.0,2,    206.0,2,   123.72,2,    32.52,2, -999.000,9,     2.20,2,    0.140,2,    0.052,2, -999.000,9,   2260.5,2,   2363.7,2
           NA,     P15,     35,   1,       1,   12045,  2,20090215,1304, -36.4439, -170.2771,  5163,   5277.9,     1.07,   34.707,2,  34.7066,2,    208.4,2,    206.6,2,   123.91,2,    32.35,2, -999.000,9,     2.21,2,    0.151,2,    0.050,2, -999.000,9,   2265.5,2,   2362.8,6
           NA,     P15,     36,   1,      24,   12015,  2,20090215,2006, -36.0094, -170.0001,  5051,      4.3,    21.12,   34.930,2,  34.9288,2,    226.4,2,    224.1,2,     0.96,2,     0.00,2, -999.000,9,     0.12,2, -999.000,9, -999.000,9, -999.000,9,   2037.1,2,   2297.5,2
           NA,     P15,     36,   1,      23,   12046,  2,20090215,2006, -36.0094, -170.0001,  5051,     21.6,    21.11,   34.928,2,  34.9290,2,    226.0,2,    223.9,2,     0.97,2,     0.00,2, -999.000,9,     0.12,2, -999.000,9, -999.000,9, -999.000,9,   -999.0,9,   -999.0,9
           NA,     P15,     36,   1,      22,   12020,  2,20090215,2006, -36.0094, -170.0001,  5051,     72.9,    13.63,   34.912,2,  34.9130,2,    265.1,2,    264.6,2,     1.14,2,  -999.00,9, -999.000,9,     0.21,2, -999.000,9, -999.000,9, -999.000,9,   -999.0,9,   -999.0,9
           NA,     P15,     36,   1,      21,   12003,  2,20090215,2006, -36.0094, -170.0001,  5051,    166.8,    11.42,   34.900,2,  34.8953,2,    229.8,2,    228.7,2,     2.82,2,    10.62,2, -999.000,9,     0.76,2, -999.000,9, -999.000,9, -999.000,9,   -999.0,9,   -999.0,9
           NA,     P15,     36,   1,      20,   12051,  2,20090215,2006, -36.0094, -170.0001,  5051,    213.7,    10.66,   34.825,2,  34.8222,2,    219.7,2,    218.2,2,     4.20,2,    13.95,2, -999.000,9,     0.97,2, -999.000,9, -999.000,9, -999.000,9,   -999.0,9,   -999.0,9
           NA,     P15,     36,   1,      19,   12010,  2,20090215,2006, -36.0094, -170.0001,  5051,    262.8,     9.96,   34.733,2,  34.7319,2,    217.0,2,    215.4,2,     5.05,2,    16.08,2, -999.000,9,     1.09,2, -999.000,9, -999.000,9, -999.000,9,   -999.0,9,   -999.0,9
           NA,     P15,     36,   1,      18,   12018,  2,20090215,2006, -36.0094, -170.0001,  5051,    321.5,     8.91,   34.604,2,  34.6030,2,    218.2,2,    216.8,2,     6.10,2,    18.77,2, -999.000,9,     1.26,2, -999.000,9, -999.000,9, -999.000,9,   -999.0,9,   -999.0,9
           NA,     P15,     36,   1,      17,   12024,  2,20090215,2006, -36.0094, -170.0001,  5051,    428.3,     7.93,   34.487,2,  34.4860,2,    229.0,2,    228.4,2,     6.71,2,    20.49,2, -999.000,9,     1.37,2, -999.000,9, -999.000,9, -999.000,9,   -999.0,9,   -999.0,9
           NA,     P15,     36,   1,      16,   12001,  2,20090215,2006, -36.0094, -170.0001,  5051,    529.7,     7.41,   34.431,2,  34.4310,2,    234.9,2,    234.2,2,     7.17,2,    21.52,2, -999.000,9,     1.44,2, -999.000,9, -999.000,9, -999.000,9,   -999.0,9,   -999.0,9
           NA,     P15,     36,   1,      15,   12025,  2,20090215,2006, -36.0094, -170.0001,  5051,    630.8,     6.98,   34.387,2,  34.3866,2,    237.3,2,    237.9,2,     8.10,2,    22.40,2, -999.000,9,     1.51,2, -999.000,9, -999.000,9, -999.000,9,   -999.0,9,   -999.0,9
           NA,     P15,     36,   1,      14,   12041,  2,20090215,2006, -36.0094, -170.0001,  5051,    746.9,     6.54,   34.372,2,  34.3678,2,    225.9,2,   -999.0,9,    11.43,2,    24.39,2, -999.000,9,     1.63,2, -999.000,9, -999.000,9, -999.000,9,   -999.0,9,   -999.0,9
           NA,     P15,     36,   1,      13,   12012,  2,20090215,2006, -36.0094, -170.0001,  5051,    964.1,     5.04,   34.342,2,  34.3429,2,    201.7,2,    203.9,2,    26.13,2,    29.54,2, -999.000,9,     1.97,2, -999.000,9, -999.000,9, -999.000,9,   -999.0,9,   -999.0,9
           NA,     P15,     36,   1,      12,   12022,  2,20090215,2006, -36.0094, -170.0001,  5051,   1165.6,     3.82,   34.384,2,  34.3829,2,    185.3,2,   -999.0,9,    45.03,2,    32.58,2, -999.000,9,     2.20,2, -999.000,9, -999.000,9, -999.000,9,   -999.0,9,   -999.0,9
           NA,     P15,     36,   1,      11,   12016,  2,20090215,2006, -36.0094, -170.0001,  5051,   1368.5,     3.31,   34.482,2,  34.4807,2,    168.4,2,    170.3,2,    65.55,2,    33.74,2, -999.000,9,     2.31,2, -999.000,9, -999.000,9, -999.000,9,   -999.0,9,   -999.0,9
           NA,     P15,     36,   1,      10,   12019,  2,20090215,2006, -36.0094, -170.0001,  5051,   1563.3,     2.82,   34.550,2,  34.5508,2,    158.6,2,    160.2,2,    83.78,2,    34.49,2, -999.000,9,     2.37,2, -999.000,9, -999.000,9, -999.000,9,   -999.0,9,   -999.0,9
           NA,     P15,     36,   1,       9,   12031,  2,20090215,2006, -36.0094, -170.0001,  5051,   1779.9,     2.55,   34.592,2,  34.5930,2,    152.7,2,    154.8,2,    96.14,2,    35.08,2, -999.000,9,     2.42,2, -999.000,9, -999.000,9, -999.000,9,   -999.0,9,   -999.0,9
           NA,     P15,     36,   1,       8,   12021,  2,20090215,2006, -36.0094, -170.0001,  5051,   2129.7,     2.29,   34.626,2,  34.6266,2,    148.5,2,    150.0,2,   111.30,2,    35.39,2, -999.000,9,     2.45,2, -999.000,9, -999.000,9, -999.000,9,   -999.0,9,   -999.0,9
           NA,     P15,     36,   1,       7,   12032,  2,20090215,2006, -36.0094, -170.0001,  5051,   2496.2,     2.09,   34.646,2,  34.6453,2,    147.1,2,    148.5,2,   118.24,2,    35.56,2, -999.000,9,     2.47,2, -999.000,9, -999.000,9, -999.000,9,   -999.0,9,   -999.0,9
           NA,     P15,     36,   1,       6,   12007,  2,20090215,2006, -36.0094, -170.0001,  5051,   3164.7,     1.77,   34.691,2,  34.6904,2,    167.7,2,    167.7,2,   115.78,2,    33.98,2, -999.000,9,     2.35,2, -999.000,9, -999.000,9, -999.000,9,   -999.0,9,   -999.0,9
           NA,     P15,     36,   1,       4,   12009,  2,20090215,2006, -36.0094, -170.0001,  5051,   4165.5,     1.16,   34.715,2,  34.7152,2,    203.5,2,   -999.0,9,   114.12,2,    31.70,2, -999.000,9,     2.17,2, -999.000,9, -999.000,9, -999.000,9,   -999.0,9,   -999.0,9
           NA,     P15,     36,   1,       3,   12033,  2,20090215,2006, -36.0094, -170.0001,  5051,   4665.6,     1.05,   34.710,2,  34.7105,2,    207.1,2,    205.8,2,   118.57,2,    32.01,2, -999.000,9,     2.18,2, -999.000,9, -999.000,9, -999.000,9,   -999.0,9,   -999.0,9
           NA,     P15,     36,   1,       2,   12006,  2,20090215,2006, -36.0094, -170.0001,  5051,   4997.0,     1.04,   34.708,2,  34.7066,2,    207.6,2,    206.7,2,   119.83,2,    32.02,2, -999.000,9,     2.19,2, -999.000,9, -999.000,9, -999.000,9,   -999.0,9,   -999.0,9
           NA,     P15,     36,   1,       1,   12045,  2,20090215,2006, -36.0094, -170.0001,  5051,   5143.3,     1.05,   34.708,2,  34.7068,2,    207.7,2,    206.4,2,   121.18,2,    32.00,2, -999.000,9,     2.20,2, -999.000,9, -999.000,9, -999.000,9,   -999.0,9,   -999.0,9