BOTTLE,20214902JOAExport
EXPOCODE,SECT_ID,STNNBR,CASTNO,SAMPNO,BTLNBR,BTLNBR_FLAG_W,DATE,TIME,LATITUDE,LONGITUDE,DEPTH,CTDPRS,CTDTMP,CTDSAL,CTDSAL_FLAG_W,SALNTY,SALNTY_FLAG_W,CTDOXY,CTDOXY_FLAG_W,OXYGEN,OXYGEN_FLAG_W,SILCAT,SILCAT_FLAG_W,NITRAT,NITRAT_FLAG_W,NITRIT,NITRIT_FLAG_W,PHSPHT,PHSPHT_FLAG_W,CFC-11,CFC-11_FLAG_W,CFC-12,CFC-12_FLAG_W,SF6,SF6_FLAG_W,TCARBN,TCARBN_FLAG_W,ALKALI,ALKALI_FLAG_W
,,,,,,,,,,,,DB,ITS-90,PSS-78,,PSS-78,,UMOL/KG,,UMOL/KG,,UMOL/KG,,UMOL/KG,,UMOL/KG,,UMOL/KG,,PMOL/KG,,PMOL/KG,,FMOL/KG,,UMOL/KG,,UMOL/KG
           NA,     P15,    113,   1,      24,   12014,  2,20090313,0859,  -2.4867, -168.7646,  5317,      1.7,    27.16,   35.251,2,  35.2517,2,    204.8,2,    203.9,2,     2.43,2,     5.21,2, -999.000,9,     0.53,2,    1.784,2,    0.993,2, -999.000,9,   2033.0,2,   2317.7,6
           NA,     P15,    113,   1,      23,   12046,  2,20090313,0859,  -2.4867, -168.7646,  5317,     15.5,    27.17,   35.250,2,-999.0000,9,    206.2,2,    203.8,2,     2.46,2,     5.18,2, -999.000,9,     0.52,2,    1.783,2,    1.066,2, -999.000,9,   2033.7,2,   2319.3,2
           NA,     P15,    113,   1,      22,   12020,  2,20090313,0859,  -2.4867, -168.7646,  5317,     32.2,    26.92,   35.243,2,  35.2424,2,    206.3,2,    204.8,2,     2.48,2,     5.25,2, -999.000,9,     0.53,2,    1.790,2,    1.029,2, -999.000,9,   2034.1,2,   2316.7,6
           NA,     P15,    113,   1,      21,   12003,  2,20090313,0859,  -2.4867, -168.7646,  5317,     80.5,    26.98,   35.314,2,-999.0000,9,    202.1,2,    200.6,2,     2.58,2,     5.31,2, -999.000,9,     0.55,2,    1.786,2,    1.031,2, -999.000,9,   2037.4,2,   2324.8,2
           NA,     P15,    113,   1,      20,   12051,  2,20090313,0859,  -2.4867, -168.7646,  5317,    130.5,    26.41,   35.436,2,  35.4279,2,    188.3,2,    187.5,2,     2.98,2,     6.66,2, -999.000,9,     0.64,2,    1.793,2,    1.052,2, -999.000,9,   2053.6,2,   2329.8,2
           NA,     P15,    113,   1,      19,   12010,  2,20090313,0859,  -2.4867, -168.7646,  5317,    172.9,    22.72,   35.909,2,  35.8503,2,    141.5,2,    137.3,2,     3.20,2,     9.70,2, -999.000,9,     0.89,2,    2.029,6,    1.176,6, -999.000,9,   2123.7,2,   2359.5,2
           NA,     P15,    113,   1,      18,   12035,  2,20090313,0859,  -2.4867, -168.7646,  5317,    237.3,    12.83,   34.984,2,-999.0000,9,     92.6,2,     94.2,2,    16.24,2,    24.14,2, -999.000,9,     1.77,2,    1.316,2,    0.704,2, -999.000,9,   2192.0,2,   2307.8,2
           NA,     P15,    113,   1,      17,   12024,  2,20090313,0859,  -2.4867, -168.7646,  5317,    277.7,    10.64,   34.792,2,  34.7907,2,     98.2,2,     98.7,2,    21.86,2,    27.29,2, -999.000,9,     1.92,2,    1.004,2,    0.506,2, -999.000,9,   2202.4,2,   2302.2,2
           NA,     P15,    113,   1,      16,   12001,  2,20090313,0859,  -2.4867, -168.7646,  5317,    320.1,    10.15,   34.753,2,  34.7528,2,     91.0,2,     91.2,2,    24.03,2,    29.02,2, -999.000,9,     2.01,2,    0.852,2,    0.443,2, -999.000,9,   2209.9,2,   2300.6,6
           NA,     P15,    113,   1,      15,   12025,  2,20090313,0859,  -2.4867, -168.7646,  5317,    398.5,     9.61,   34.713,2,  34.7107,2,     75.8,2,     76.3,2,    27.43,2,    31.45,2, -999.000,9,     2.19,2,    0.602,2,    0.316,2, -999.000,9,   2224.8,2,   2299.1,2
           NA,     P15,    113,   1,      14,   12041,  2,20090313,0859,  -2.4867, -168.7646,  5317,    470.6,     8.96,   34.673,2,  34.6726,2,     68.1,2,     68.9,2,    31.40,2,    33.84,2, -999.000,9,     2.35,2,    0.431,2,    0.215,2, -999.000,9,   2236.5,2,   2301.1,2
           NA,     P15,    113,   1,      13,   12012,  2,20090313,0859,  -2.4867, -168.7646,  5317,    571.2,     7.88,   34.610,2,  34.6103,2,     70.9,2,     70.8,2,    37.91,2,    36.02,2, -999.000,9,     2.48,2,    0.292,2,    0.147,2, -999.000,9,   2246.4,2,   2304.5,2
           NA,     P15,    113,   1,      12,   12022,  2,20090313,0859,  -2.4867, -168.7646,  5317,    622.6,     7.18,   34.590,2,  34.5887,2,     41.7,2,     41.5,2,    47.41,2,    40.36,2, -999.000,9,     2.82,2,    0.058,2,    0.033,2, -999.000,9,   2275.5,6,   2309.7,6
           NA,     P15,    113,   1,      11,   12016,  2,20090313,0859,  -2.4867, -168.7646,  5317,    915.1,     4.85,   34.546,2,  34.5467,2,     81.9,2,     82.2,2,    76.31,2,    39.70,2, -999.000,9,     2.82,2,    0.012,2,    0.004,2, -999.000,9,   2290.1,2,   2343.2,2
           NA,     P15,    113,   1,      10,   12019,  2,20090313,0859,  -2.4867, -168.7646,  5317,   1315.5,     3.47,   34.580,2,  34.5810,2,     97.2,2,     98.1,2,   103.95,2,    39.31,2, -999.000,9,     2.80,2,   -0.001,2,   -0.001,2, -999.000,9,   2315.3,2,   2375.2,2
           NA,     P15,    113,   1,       9,   12031,  2,20090313,0859,  -2.4867, -168.7646,  5317,   1696.1,     2.59,   34.619,2,  34.6244,2,    108.5,2,    109.6,2,   124.89,2,    38.50,2, -999.000,9,     2.75,2,   -0.002,6,    0.000,6, -999.000,9,   2330.4,2,   2397.9,2
           NA,     P15,    113,   1,       8,   12021,  2,20090313,0859,  -2.4867, -168.7646,  5317,   2088.9,     2.14,   34.645,2,  34.6464,2,    116.2,2,    117.2,2,   136.70,2,    38.19,2, -999.000,9,     2.70,2,    0.004,2,   -0.001,2, -999.000,9,   2339.5,2,   2411.2,2
           NA,     P15,    113,   1,       7,   12032,  2,20090313,0859,  -2.4867, -168.7646,  5317,   2606.5,     1.81,   34.662,2,  34.6635,2,    128.9,2,    129.2,2,   142.93,2,    37.60,2, -999.000,9,     2.64,2,   -0.001,2,   -0.001,2, -999.000,9,   2337.7,2,   2415.9,2
           NA,     P15,    113,   1,       6,   12007,  2,20090313,0859,  -2.4867, -168.7646,  5317,   3065.2,     1.61,   34.675,2,  34.6755,2,    142.4,2,    143.0,2,   142.52,2,    36.64,2, -999.000,9,     2.55,2,    0.003,2,    0.001,2, -999.000,9,   2328.7,2,   2415.2,2
           NA,     P15,    113,   1,       5,   12002,  2,20090313,0859,  -2.4867, -168.7646,  5317,   3464.4,     1.53,   34.681,2,  34.6814,2,    150.7,2,    150.7,2,   141.33,2,    35.96,2, -999.000,9,     2.51,2,    0.001,2,    0.001,2, -999.000,9,   2324.8,2,   2408.2,2
           NA,     P15,    113,   1,       4,   12008,  2,20090313,0859,  -2.4867, -168.7646,  5317,   3855.3,     1.45,   34.691,2,  34.6926,2,    163.2,2,    163.0,2,   138.84,2,    35.52,2, -999.000,9,     2.45,2,   -0.001,2,    0.002,2, -999.000,9,   2316.8,2,   2409.7,2
           NA,     P15,    113,   1,       3,   12033,  2,20090313,0859,  -2.4867, -168.7646,  5317,   4298.8,     1.34,   34.697,2,  34.6971,2,    176.0,2,    174.3,2,   134.23,2,    34.41,2, -999.000,9,     2.37,2, -999.000,4, -999.000,4, -999.000,9,   2303.6,2,   2402.7,2
           NA,     P15,    113,   1,       2,   12006,  2,20090313,0859,  -2.4867, -168.7646,  5317,   4821.6,     1.26,   34.703,2,  34.7044,2,    193.2,2,    191.2,2,   125.13,2,    33.17,2, -999.000,9,     2.29,2,    0.007,6,    0.004,6, -999.000,9,   2282.1,2,   2381.7,2
           NA,     P15,    113,   1,       1,   12045,  2,20090313,0859,  -2.4867, -168.7646,  5317,   5424.7,     1.24,   34.707,2,  34.7066,2,    201.5,2,    199.2,2,   121.78,2,    32.75,2, -999.000,9,     2.26,2,    0.026,2,    0.014,2, -999.000,9,   2271.4,6,   2370.2,6
           NA,     P15,    114,   1,      24,   12014,  2,20090313,1701,  -1.8448, -168.7481,  5105,      3.1,    26.77,   35.252,2,-999.0000,9,    205.5,2,    204.2,2,     2.61,2,     5.46,2, -999.000,9,     0.55,2, -999.000,9, -999.000,9, -999.000,9,   2035.8,2,   2318.0,6
           NA,     P15,    114,   1,      23,   12046,  2,20090313,1701,  -1.8448, -168.7481,  5105,     29.3,    26.62,   35.237,2,  35.2355,2,    204.9,2,    201.7,2,     2.70,2,     5.47,2, -999.000,9,     0.55,2, -999.000,9, -999.000,9, -999.000,9,   -999.0,9,   -999.0,9
           NA,     P15,    114,   1,      22,   12020,  2,20090313,1701,  -1.8448, -168.7481,  5105,     62.1,    26.39,   35.230,2,  35.2329,2,    202.6,2,    201.0,2,  -999.00,9,  -999.00,9, -999.000,9,  -999.00,9, -999.000,9, -999.000,9, -999.000,9,   2041.5,2,   2317.2,2
           NA,     P15,    114,   1,      21,   12003,  2,20090313,1701,  -1.8448, -168.7481,  5105,    115.3,    26.19,   35.344,2,-999.0000,9,    192.3,2,   -999.0,9,     2.91,2,     5.72,2, -999.000,9,     0.59,2, -999.000,9, -999.000,9, -999.000,9,   -999.0,9,   -999.0,9
           NA,     P15,    114,   1,      20,   12051,  2,20090313,1701,  -1.8448, -168.7481,  5105,    164.7,    21.70,   35.667,2,  35.6512,2,    129.3,2,    126.9,2,     4.62,2,    12.34,2, -999.000,9,     1.06,2, -999.000,9, -999.000,9, -999.000,9,   2133.4,2,   2345.3,2
           NA,     P15,    114,   1,      19,   12010,  2,20090313,1701,  -1.8448, -168.7481,  5105,    215.8,    13.56,   35.061,2,  35.0618,2,    107.2,2,    105.9,2,    12.75,2,    21.15,2, -999.000,9,     1.58,2, -999.000,9, -999.000,9, -999.000,9,   2177.2,2,   2313.9,2
           NA,     P15,    114,   1,      18,   12035,  2,20090313,1701,  -1.8448, -168.7481,  5105,    266.4,    11.84,   34.896,2,-999.0000,9,    111.1,2,    110.6,2,    17.39,2,    23.53,2, -999.000,9,     1.71,2, -999.000,9, -999.000,9, -999.000,9,   2185.2,2,   2306.1,2
           NA,     P15,    114,   1,      17,   12024,  2,20090313,1701,  -1.8448, -168.7481,  5105,    315.0,    10.85,   34.790,2,  34.7893,2,     90.6,2,     90.3,2,    23.22,2,    27.46,2, -999.000,9,     1.93,2, -999.000,9, -999.000,9, -999.000,9,   -999.0,9,   -999.0,9
           NA,     P15,    114,   1,      16,   12001,  2,20090313,1701,  -1.8448, -168.7481,  5105,    368.6,    10.25,   34.748,2,-999.0000,9,     81.0,2,     80.8,2,    25.62,2,    29.37,2, -999.000,9,     2.06,2, -999.000,9, -999.000,9, -999.000,9,   -999.0,9,   -999.0,9
           NA,     P15,    114,   1,      15,   12025,  2,20090313,1701,  -1.8448, -168.7481,  5105,    450.3,     9.60,   34.702,2,  34.7021,2,     66.0,2,     65.9,2,    29.70,2,    31.99,2, -999.000,9,     2.25,2, -999.000,9, -999.000,9, -999.000,9,   2231.8,2,   2301.6,2
           NA,     P15,    114,   1,      14,   12041,  2,20090313,1701,  -1.8448, -168.7481,  5105,    593.8,     7.78,   34.607,2,  34.6089,2,     64.8,2,     64.3,2,    38.18,2,    37.20,2, -999.000,9,     2.53,2, -999.000,9, -999.000,9, -999.000,9,   2251.2,2,   2305.1,2
           NA,     P15,    114,   1,      13,   12012,  2,20090313,1701,  -1.8448, -168.7481,  5105,    745.8,     6.03,   34.549,2,  34.5490,2,     74.7,2,     73.6,2,    56.85,2,    39.77,2, -999.000,9,     2.74,2, -999.000,9, -999.000,9, -999.000,9,   -999.0,9,   -999.0,9
           NA,     P15,    114,   1,      12,   12022,  2,20090313,1701,  -1.8448, -168.7481,  5105,    904.3,     4.97,   34.542,2,  34.5425,2,     88.2,2,     88.7,2,    72.39,2,    38.97,2, -999.000,9,     2.74,2, -999.000,9, -999.000,9, -999.000,9,   -999.0,9,   -999.0,9
           NA,     P15,    114,   1,      11,   12016,  2,20090313,1701,  -1.8448, -168.7481,  5105,   1129.9,     3.98,   34.562,2,  34.5637,2,     93.0,2,     93.2,2,    93.09,2,    39.31,2, -999.000,9,     2.79,2, -999.000,9, -999.000,9, -999.000,9,   -999.0,9,   -999.0,9
           NA,     P15,    114,   1,      10,   12019,  2,20090313,1701,  -1.8448, -168.7481,  5105,   1454.6,     3.01,   34.599,2,  34.6011,2,    102.5,2,    102.7,2,   114.98,2,    39.01,2, -999.000,9,     2.76,2, -999.000,9, -999.000,9, -999.000,9,   -999.0,9,   -999.0,9
           NA,     P15,    114,   1,       9,   12031,  2,20090313,1701,  -1.8448, -168.7481,  5105,   1821.4,     2.46,   34.627,2,  34.6284,2,    109.5,2,    109.7,2,   129.17,2,    38.66,2, -999.000,9,     2.73,2, -999.000,9, -999.000,9, -999.000,9,   -999.0,9,   -999.0,9
           NA,     P15,    114,   1,       8,   12021,  2,20090313,1701,  -1.8448, -168.7481,  5105,   2247.0,     2.03,   34.651,2,  34.6568,2,    120.7,2,    121.0,2,   138.55,2,    38.06,2, -999.000,9,     2.66,2, -999.000,9, -999.000,9, -999.000,9,   -999.0,9,   -999.0,9
           NA,     P15,    114,   1,       7,   12032,  2,20090313,1701,  -1.8448, -168.7481,  5105,   2780.9,     1.72,   34.667,2,  34.6677,2,    132.5,2,    132.7,2,   144.70,2,    37.34,2, -999.000,9,     2.60,2, -999.000,9, -999.000,9, -999.000,9,   -999.0,9,   -999.0,9
           NA,     P15,    114,   1,       6,   12007,  2,20090313,1701,  -1.8448, -168.7481,  5105,   3400.0,     1.57,   34.679,2,  34.6787,2,    147.5,2,    147.0,2,   142.56,2,    36.26,2, -999.000,9,     2.52,2, -999.000,9, -999.000,9, -999.000,9,   -999.0,9,   -999.0,9
           NA,     P15,    114,   1,       5,   12002,  2,20090313,1701,  -1.8448, -168.7481,  5105,   3980.3,     1.45,   34.691,2,  34.6904,2,    165.2,2,    164.0,2,   138.05,2,    35.32,2, -999.000,9,     2.42,2, -999.000,9, -999.000,9, -999.000,9,   -999.0,9,   -999.0,9
           NA,     P15,    114,   1,       4,   12008,  2,20090313,1701,  -1.8448, -168.7481,  5105,   4464.6,     1.27,   34.701,2,  34.7024,2,    188.4,2,    186.7,2,   126.28,2,    33.45,2, -999.000,9,     2.30,2, -999.000,9, -999.000,9, -999.000,9,   -999.0,9,   -999.0,9
           NA,     P15,    114,   1,       3,   12033,  2,20090313,1701,  -1.8448, -168.7481,  5105,   4965.5,     1.22,   34.705,2,  34.7052,2,    197.9,2,    195.6,2,   126.15,2,    33.02,2, -999.000,9,     2.25,2, -999.000,9, -999.000,9, -999.000,9,   -999.0,9,   -999.0,9
           NA,     P15,    114,   1,       2,   12006,  2,20090313,1701,  -1.8448, -168.7481,  5105,   5197.3,     1.23,   34.706,2,  34.7054,2,    199.5,2,    197.1,2,   123.44,2,    32.82,2, -999.000,9,     2.25,2, -999.000,9, -999.000,9, -999.000,9,   -999.0,9,   -999.0,9
           NA,     P15,    114,   1,       1,   12045,  2,20090313,1701,  -1.8448, -168.7481,  5105,   5336.0,     1.24,   34.706,2,  34.7060,2,    200.2,2,    198.1,2,   122.35,2,    32.61,2, -999.000,9,     2.24,2, -999.000,9, -999.000,9, -999.000,9,   -999.0,9,   -999.0,9