BOTTLE,20214902JOAExport
EXPOCODE,SECT_ID,STNNBR,CASTNO,SAMPNO,BTLNBR,BTLNBR_FLAG_W,DATE,TIME,LATITUDE,LONGITUDE,DEPTH,CTDPRS,CTDTMP,CTDSAL,CTDSAL_FLAG_W,SALNTY,SALNTY_FLAG_W,CTDOXY,CTDOXY_FLAG_W,OXYGEN,OXYGEN_FLAG_W,SILCAT,SILCAT_FLAG_W,NITRAT,NITRAT_FLAG_W,NITRIT,NITRIT_FLAG_W,PHSPHT,PHSPHT_FLAG_W,CFC-11,CFC-11_FLAG_W,CFC-12,CFC-12_FLAG_W,SF6,SF6_FLAG_W,TCARBN,TCARBN_FLAG_W,ALKALI,ALKALI_FLAG_W
,,,,,,,,,,,,DB,ITS-90,PSS-78,,PSS-78,,UMOL/KG,,UMOL/KG,,UMOL/KG,,UMOL/KG,,UMOL/KG,,UMOL/KG,,PMOL/KG,,PMOL/KG,,FMOL/KG,,UMOL/KG,,UMOL/KG
           NA,     P15,     87,   1,      24,   12014,  2,20090306,0028, -11.9980, -170.0135,  5086,      3.7,    29.90,   35.513,2,  35.5078,2,    192.8,2,    192.6,2,     1.13,2,     0.00,2, -999.000,9,     0.17,2,    1.528,6,    0.944,6, -999.000,9,   1974.9,6,   2335.6,6
           NA,     P15,     87,   1,      23,   12046,  2,20090306,0028, -11.9980, -170.0135,  5086,     22.7,    29.57,   35.495,2,  35.5054,2,    192.9,2,    193.0,2,     1.13,2,     0.00,2, -999.000,9,     0.17,2,    1.522,2,    0.937,2, -999.000,9,   1975.9,2,   2337.2,2
           NA,     P15,     87,   1,      22,   12020,  2,20090306,0028, -11.9980, -170.0135,  5086,     48.6,    29.44,   35.685,2,-999.0000,9,    194.2,2,    194.0,2,     1.18,2,     0.00,2, -999.000,9,     0.18,2,    1.543,2,    0.947,2, -999.000,9,   1984.8,2,   2348.9,2
           NA,     P15,     87,   1,      21,   12003,  2,20090306,0028, -11.9980, -170.0135,  5086,     73.0,    28.99,   36.144,2,  36.1585,2,    204.1,2,    204.0,2,     1.24,2,     0.00,2, -999.000,9,     0.19,2,    1.628,2,    0.984,2, -999.000,9,   2012.8,2,   2381.8,2
           NA,     P15,     87,   1,      20,   12051,  2,20090306,0028, -11.9980, -170.0135,  5086,     98.8,    27.75,   36.233,2,  36.2335,2,    200.5,2,    199.7,2,     1.16,2,     0.00,2, -999.000,9,     0.18,2,    1.667,2,    1.023,2, -999.000,9,   2025.7,2,   2385.0,2
           NA,     P15,     87,   1,      19,   12010,  2,20090306,0028, -11.9980, -170.0135,  5086,    147.5,    25.91,   36.346,2,  36.3301,2,    178.4,2,    177.6,2,     1.11,2,     0.91,2, -999.000,9,     0.29,2,    1.812,2,    1.099,2, -999.000,9,   2067.8,2,   2391.7,2
           NA,     P15,     87,   1,      18,   12018,  2,20090306,0028, -11.9980, -170.0135,  5086,    199.4,    23.48,   36.274,2,  36.2687,2,    162.8,2,    162.5,2,     1.22,2,     4.48,2, -999.000,9,     0.49,2,    2.019,2,    1.183,2, -999.000,9,   2106.0,2,   2386.6,2
           NA,     P15,     87,   1,      17,   12024,  2,20090306,0028, -11.9980, -170.0135,  5086,    247.0,    21.19,   35.917,2,-999.0000,9,    163.2,2,    163.1,2,     1.51,2,     5.79,2, -999.000,9,     0.59,2,    2.225,2,    1.259,2, -999.000,9,   2112.1,2,   2362.5,2
           NA,     P15,     87,   1,      16,   12001,  2,20090306,0028, -11.9980, -170.0135,  5086,    297.5,    17.86,   35.424,2,  35.4192,2,    156.3,2,    155.4,2,     3.00,2,     8.81,2, -999.000,9,     0.81,2,    2.359,2,    1.280,2, -999.000,9,   2119.4,2,   2331.4,6
           NA,     P15,     87,   1,      15,   12025,  2,20090306,0028, -11.9980, -170.0135,  5086,    348.1,    13.49,   34.938,2,-999.0000,9,    122.6,2,    121.8,2,     9.30,2,    17.50,2, -999.000,9,     1.43,2,    1.767,2,    0.925,2, -999.000,9,   2160.6,2,   2305.3,2
           NA,     P15,     87,   1,      14,   12041,  2,20090306,0028, -11.9980, -170.0135,  5086,    417.1,    10.21,   34.692,2,  34.6893,2,    116.4,2,    115.8,2,    17.53,2,    24.98,2, -999.000,9,     1.86,2,    0.930,6,    0.496,6, -999.000,9,   2188.0,2,   2295.3,2
           NA,     P15,     87,   1,      13,   12012,  2,20090306,0028, -11.9980, -170.0135,  5086,    498.6,     7.66,   34.539,2,-999.0000,9,    137.9,2,    137.8,2,    25.96,2,    29.00,2, -999.000,9,     2.03,2,    0.474,2,    0.254,2, -999.000,9,   2198.6,2,   2298.4,2
           NA,     P15,     87,   1,      12,   12022,  2,20090306,0028, -11.9980, -170.0135,  5086,    577.8,     6.51,   34.497,2,  34.4970,2,    142.7,2,    141.1,2,    33.80,2,    31.03,2, -999.000,9,     2.16,2,    0.324,2,    0.174,2, -999.000,9,   2210.2,6,   2302.9,6
           NA,     P15,     87,   1,      11,   12016,  2,20090306,0028, -11.9980, -170.0135,  5086,    797.1,     5.23,   34.493,2,  34.4938,2,    129.9,2,    130.0,2,    51.86,2,    34.62,2, -999.000,9,     2.40,2,    0.070,2,    0.040,2, -999.000,9,   2238.9,2,   2319.0,2
           NA,     P15,     87,   1,      10,   12019,  2,20090306,0028, -11.9980, -170.0135,  5086,   1098.5,     4.04,   34.533,2,  34.5347,2,    121.3,2,    121.6,2,    77.63,2,    36.80,2, -999.000,9,     2.56,2,    0.009,2,    0.005,2, -999.000,9,   2274.2,2,   2343.9,2
           NA,     P15,     87,   1,       9,   12031,  2,20090306,0028, -11.9980, -170.0135,  5086,   1397.7,     3.14,   34.571,2,  34.5712,2,    131.1,2,    132.1,2,    96.23,2,    36.63,2, -999.000,9,     2.54,2,    0.003,2,    0.002,2, -999.000,9,   2289.7,2,   2368.8,2
           NA,     P15,     87,   1,       8,   12021,  2,20090306,0028, -11.9980, -170.0135,  5086,   1897.0,     2.26,   34.628,2,  34.6297,2,    140.4,2,    141.4,2,   116.54,2,    36.21,2, -999.000,9,     2.51,2,    0.000,2,    0.001,2, -999.000,9,   2306.1,2,   2389.4,2
           NA,     P15,     87,   1,       7,   12032,  2,20090306,0028, -11.9980, -170.0135,  5086,   2397.6,     1.90,   34.659,2,  34.6590,2,    144.4,2,    145.5,2,   128.10,2,    36.00,2, -999.000,9,     2.49,2,    0.000,2,    0.001,2, -999.000,9,   2315.6,2,   2402.7,2
           NA,     P15,     87,   1,       6,   12007,  2,20090306,0028, -11.9980, -170.0135,  5086,   2997.7,     1.71,   34.674,2,  34.6741,2,    150.6,2,    151.5,2,   133.93,2,    35.70,2, -999.000,9,     2.47,2,    0.002,2,    0.004,2, -999.000,9,   2316.9,2,   2407.4,6
           NA,     P15,     87,   1,       5,   12002,  2,20090306,0028, -11.9980, -170.0135,  5086,   3496.6,     1.57,   34.684,2,  34.6820,2,    159.4,2,    159.5,2,   134.81,2,    35.31,2, -999.000,9,     2.42,2,    0.001,6,    0.001,6, -999.000,9,   2312.7,2,   2403.6,2
           NA,     P15,     87,   1,       4,   12008,  2,20090306,0028, -11.9980, -170.0135,  5086,   3995.8,     1.41,   34.699,2,  34.6991,2,    181.1,2,    180.5,2,   124.69,2,    33.56,2, -999.000,9,     2.30,2,    0.011,2,    0.005,2, -999.000,9,   2288.2,2,   2384.1,2
           NA,     P15,     87,   1,       3,   12033,  2,20090306,0028, -11.9980, -170.0135,  5086,   4497.9,     1.11,   34.711,2,  34.7121,2,    204.7,2,    204.0,2,   118.75,2,    32.07,2, -999.000,9,     2.20,2,    0.039,2,    0.021,2, -999.000,9,   2263.9,2,   2363.5,2
           NA,     P15,     87,   1,       2,   12006,  2,20090306,0028, -11.9980, -170.0135,  5086,   4848.8,     1.07,   34.709,2,  34.7131,2,    206.7,2,    205.5,2,   120.49,2,    32.07,2, -999.000,9,     2.19,2,    0.048,2,    0.023,2, -999.000,9,   2262.9,2,   2364.7,2
           NA,     P15,     87,   1,       1,   12045,  2,20090306,0028, -11.9980, -170.0135,  5086,   5178.2,     1.10,   34.708,2,  34.7101,2,    207.3,2,    204.1,2,   119.99,2,    32.05,2, -999.000,9,     2.18,2,    0.046,2,    0.024,2, -999.000,9,   2263.1,6,   2364.0,6
           NA,     P15,     88,   1,      24,   12014,  2,20090306,0706, -11.4928, -170.0073,  5042,      1.8,    29.53,   35.230,2,  35.2284,2,    193.3,2,    193.2,2,     0.96,2,     0.00,2, -999.000,9,     0.17,2, -999.000,9, -999.000,9, -999.000,9,   -999.0,9,   2318.6,6
           NA,     P15,     88,   1,      23,   12046,  2,20090306,0706, -11.4928, -170.0073,  5042,     29.8,    29.50,   35.225,2,-999.0000,9,    194.0,2,    193.4,2,     0.97,2,     0.00,2, -999.000,9,     0.17,2, -999.000,9, -999.000,9, -999.000,9,   -999.0,9,   2318.2,2
           NA,     P15,     88,   1,      22,   12020,  2,20090306,0706, -11.4928, -170.0073,  5042,     55.3,    29.43,   35.314,2,  35.4196,2,    195.8,2,    196.1,2,     1.03,2,     0.00,2, -999.000,9,     0.17,2, -999.000,9, -999.000,9, -999.000,9,   -999.0,9,   2330.0,2
           NA,     P15,     88,   1,      21,   12003,  2,20090306,0706, -11.4928, -170.0073,  5042,     79.1,    28.61,   36.048,2,-999.0000,9,    204.9,2,    204.8,2,     0.97,2,     0.00,2, -999.000,9,     0.15,2, -999.000,9, -999.000,9, -999.000,9,   -999.0,9,   -999.0,9
           NA,     P15,     88,   1,      20,   12051,  2,20090306,0706, -11.4928, -170.0073,  5042,    115.1,    27.15,   36.209,2,  36.2145,2,    198.4,2,    198.0,2,     1.02,2,     0.00,2, -999.000,9,     0.18,2, -999.000,9, -999.000,9, -999.000,9,   -999.0,9,   2384.9,2
           NA,     P15,     88,   1,      19,   12010,  2,20090306,0706, -11.4928, -170.0073,  5042,    164.6,    24.57,   36.368,2,-999.0000,9,    164.4,2,    164.5,2,     1.11,2,     3.52,2, -999.000,9,     0.45,2, -999.000,9, -999.000,9, -999.000,9,   -999.0,9,   -999.0,9
           NA,     P15,     88,   1,      18,   12018,  2,20090306,0706, -11.4928, -170.0073,  5042,    213.8,    22.37,   36.103,2,  36.0845,2,    163.9,2,    163.8,2,     1.20,2,     4.92,2, -999.000,9,     0.54,2, -999.000,9, -999.000,9, -999.000,9,   -999.0,9,   2375.3,6
           NA,     P15,     88,   1,      17,   12024,  2,20090306,0706, -11.4928, -170.0073,  5042,    264.5,    17.96,   35.451,2,-999.0000,9,    154.1,2,    153.1,2,     3.06,2,     9.27,2, -999.000,9,     0.86,2, -999.000,9, -999.000,9, -999.000,9,   -999.0,9,   -999.0,9
           NA,     P15,     88,   1,      16,   12001,  2,20090306,0706, -11.4928, -170.0073,  5042,    313.4,    15.06,   35.100,2,  35.0970,2,    131.5,2,    131.5,2,     6.68,2,    14.55,2, -999.000,9,     1.25,2, -999.000,9, -999.000,9, -999.000,9,   -999.0,9,   2315.9,2
           NA,     P15,     88,   1,      15,   12025,  2,20090306,0706, -11.4928, -170.0073,  5042,    358.3,    12.13,   34.842,2,  34.8369,2,    107.4,2,    107.6,2,    13.32,2,    21.70,2, -999.000,9,     1.71,2, -999.000,9, -999.000,9, -999.000,9,   -999.0,9,   -999.0,9
           NA,     P15,     88,   1,      14,   12041,  2,20090306,0706, -11.4928, -170.0073,  5042,    428.7,     9.80,   34.687,2,  34.6840,2,    103.7,2,    103.8,2,    20.97,2,    27.41,2, -999.000,9,     2.02,2, -999.000,9, -999.000,9, -999.000,9,   -999.0,9,   2298.0,2
           NA,     P15,     88,   1,      13,   12012,  2,20090306,0706, -11.4928, -170.0073,  5042,    548.3,     7.14,   34.526,2,-999.0000,9,    137.7,2,    103.2,2,  -999.00,9,  -999.00,9, -999.000,9,  -999.00,9, -999.000,9, -999.000,9, -999.000,9,   -999.0,9,   2299.4,2
           NA,     P15,     88,   1,      12,   12022,  2,20090306,0706, -11.4928, -170.0073,  5042,    696.2,     5.98,   34.517,2,  34.5178,2,    118.1,2,    119.9,2,    44.96,2,    34.43,2, -999.000,9,     2.41,2, -999.000,9, -999.000,9, -999.000,9,   -999.0,9,   -999.0,9
           NA,     P15,     88,   1,      11,   12016,  2,20090306,0706, -11.4928, -170.0073,  5042,    822.1,     5.22,   34.499,2,  34.5013,2,    125.6,2,    127.7,2,    53.13,2,    34.92,2, -999.000,9,     2.45,2, -999.000,9, -999.000,9, -999.000,9,   -999.0,9,   -999.0,9
           NA,     P15,     88,   1,      10,   12019,  2,20090306,0706, -11.4928, -170.0073,  5042,   1196.3,     3.77,   34.542,2,-999.0000,9,    123.4,2,    125.9,2,    82.40,2,    36.67,2, -999.000,9,     2.58,2, -999.000,9, -999.000,9, -999.000,9,   -999.0,9,   -999.0,9
           NA,     P15,     88,   1,       9,   12031,  2,20090306,0706, -11.4928, -170.0073,  5042,   1531.1,     2.80,   34.591,2,  34.5910,2,    132.0,2,    135.1,2,   102.99,2,    36.49,2, -999.000,9,     2.56,2, -999.000,9, -999.000,9, -999.000,9,   -999.0,9,   -999.0,9
           NA,     P15,     88,   1,       8,   12021,  2,20090306,0706, -11.4928, -170.0073,  5042,   2064.2,     2.13,   34.640,2,  34.6390,2,    137.7,2,    141.5,2,   121.24,2,    36.23,2, -999.000,9,     2.54,2, -999.000,9, -999.000,9, -999.000,9,   -999.0,9,   -999.0,9
           NA,     P15,     88,   1,       7,   12032,  2,20090306,0706, -11.4928, -170.0073,  5042,   2581.1,     1.83,   34.666,2,  34.6649,2,    142.2,2,    146.3,2,   130.46,2,    36.05,2, -999.000,9,     2.52,2, -999.000,9, -999.000,9, -999.000,9,   -999.0,9,   -999.0,9
           NA,     P15,     88,   1,       6,   12007,  2,20090306,0706, -11.4928, -170.0073,  5042,   3182.1,     1.63,   34.679,2,  34.6781,2,    150.2,2,   -999.0,9,   133.74,2,    35.61,2, -999.000,9,     2.48,2, -999.000,9, -999.000,9, -999.000,9,   -999.0,9,   -999.0,9
           NA,     P15,     88,   1,       5,   12002,  2,20090306,0706, -11.4928, -170.0073,  5042,   3662.7,     1.50,   34.688,2,  34.6867,2,    160.1,2,   -999.0,9,   133.16,2,    34.99,2, -999.000,9,     2.43,2, -999.000,9, -999.000,9, -999.000,9,   -999.0,9,   -999.0,9
           NA,     P15,     88,   1,       4,   12008,  2,20090306,0706, -11.4928, -170.0073,  5042,   4165.0,     1.34,   34.706,2,  34.7064,2,    184.7,2,    188.8,2,   119.95,2,    32.89,2, -999.000,9,     2.28,2, -999.000,9, -999.000,9, -999.000,9,   -999.0,9,   -999.0,9
           NA,     P15,     88,   1,       3,   12033,  2,20090306,0706, -11.4928, -170.0073,  5042,   4639.0,     1.08,   34.711,2,  34.7089,2,    199.4,2,    204.6,2,   118.58,2,    32.04,2, -999.000,9,     2.22,2, -999.000,9, -999.000,9, -999.000,9,   -999.0,9,   -999.0,9
           NA,     P15,     88,   1,       2,   12006,  2,20090306,0706, -11.4928, -170.0073,  5042,   4930.4,     1.08,   34.710,2,  34.7105,2,    200.4,2,    205.7,2,   119.75,2,    32.10,2, -999.000,9,     2.23,2, -999.000,9, -999.000,9, -999.000,9,   -999.0,9,   -999.0,9
           NA,     P15,     88,   1,       1,   12045,  2,20090306,0706, -11.4928, -170.0073,  5042,   5136.5,     1.10,   34.710,2,  34.7095,2,    200.6,2,    205.5,2,   120.18,2,    32.09,2, -999.000,9,     2.23,2, -999.000,9, -999.000,9, -999.000,9,   -999.0,9,   -999.0,9