BOTTLE,20214902JOAExport
EXPOCODE,SECT_ID,STNNBR,CASTNO,SAMPNO,BTLNBR,BTLNBR_FLAG_W,DATE,TIME,LATITUDE,LONGITUDE,DEPTH,CTDPRS,CTDTMP,CTDSAL,CTDSAL_FLAG_W,SALNTY,SALNTY_FLAG_W,CTDOXY,CTDOXY_FLAG_W,OXYGEN,OXYGEN_FLAG_W,SILCAT,SILCAT_FLAG_W,NITRAT,NITRAT_FLAG_W,NITRIT,NITRIT_FLAG_W,PHSPHT,PHSPHT_FLAG_W,CFC-11,CFC-11_FLAG_W,CFC-12,CFC-12_FLAG_W,SF6,SF6_FLAG_W,TCARBN,TCARBN_FLAG_W,ALKALI,ALKALI_FLAG_W
,,,,,,,,,,,,DB,ITS-90,PSS-78,,PSS-78,,UMOL/KG,,UMOL/KG,,UMOL/KG,,UMOL/KG,,UMOL/KG,,UMOL/KG,,PMOL/KG,,PMOL/KG,,FMOL/KG,,UMOL/KG,,UMOL/KG
           NA,     P15,     74,   1,      24,   12014,  2,20090302,1919, -17.5102, -170.0226,  5094,      3.7,    28.81,   35.058,2,  35.0559,2,    198.2,2,    197.8,2,     0.87,2,     0.00,2, -999.000,9,     0.02,2, -999.000,9, -999.000,9, -999.000,9,   1942.5,6,   2301.3,6
           NA,     P15,     74,   1,      23,   12046,  2,20090302,1919, -17.5102, -170.0226,  5094,     22.1,    28.77,   35.063,2,-999.0000,9,    198.5,2,    197.8,2,     0.88,2,     0.00,2, -999.000,9,     0.02,2, -999.000,9, -999.000,9, -999.000,9,   1944.1,2,   2311.6,2
           NA,     P15,     74,   1,      22,   12020,  2,20090302,1919, -17.5102, -170.0226,  5094,     42.9,    29.09,   35.325,2,-999.0000,9,    197.7,2,    197.7,2,     0.93,2,     0.01,2, -999.000,9,     0.04,2, -999.000,9, -999.000,9, -999.000,9,   1959.7,2,   2327.8,2
           NA,     P15,     74,   1,      21,   12003,  2,20090302,1919, -17.5102, -170.0226,  5094,     70.0,    27.57,   35.554,2,  35.6403,2,    206.9,2,    205.5,2,     0.96,2,     0.01,2, -999.000,9,     0.08,2, -999.000,9, -999.000,9, -999.000,9,   1986.1,2,   2345.2,2
           NA,     P15,     74,   1,      20,   12051,  2,20090302,1919, -17.5102, -170.0226,  5094,     91.1,    27.36,   35.864,2,-999.0000,9,    204.5,2,    203.2,2,     0.99,2,     0.01,2, -999.000,9,     0.12,2, -999.000,9, -999.000,9, -999.000,9,   2002.1,2,   2358.7,2
           NA,     P15,     74,   1,      19,   12010,  2,20090302,1919, -17.5102, -170.0226,  5094,    167.3,    24.52,   35.798,2,-999.0000,9,    179.6,2,    179.1,2,     0.96,2,     0.73,2, -999.000,9,     0.21,2, -999.000,9, -999.000,9, -999.000,9,   2039.9,2,   2352.6,2
           NA,     P15,     74,   1,      18,   12018,  2,20090302,1919, -17.5102, -170.0226,  5094,    243.4,    21.62,   35.933,2,  35.9149,2,    159.5,2,    159.1,2,     1.37,2,     4.83,2, -999.000,9,     0.51,2, -999.000,9, -999.000,9, -999.000,9,   2104.7,2,   2360.7,2
           NA,     P15,     74,   1,      17,   12024,  2,20090302,1919, -17.5102, -170.0226,  5094,    316.5,    17.87,   35.432,2,  35.4249,2,    170.1,2,    169.0,2,     2.29,2,     6.75,2, -999.000,9,     0.61,2, -999.000,9, -999.000,9, -999.000,9,   -999.0,9,   -999.0,9
           NA,     P15,     74,   1,      16,   12001,  2,20090302,1919, -17.5102, -170.0226,  5094,    387.4,    14.39,   35.023,2,  35.0232,2,    153.6,2,    152.0,2,     5.80,2,    13.04,2, -999.000,9,     1.07,2, -999.000,9, -999.000,9, -999.000,9,   -999.0,9,   -999.0,9
           NA,     P15,     74,   1,      15,   12025,  2,20090302,1919, -17.5102, -170.0226,  5094,    449.8,    10.87,   34.694,2,  34.6859,2,    143.1,2,    141.3,2,    12.06,2,    21.04,2, -999.000,9,     1.60,2, -999.000,9, -999.000,9, -999.000,9,   -999.0,9,   -999.0,9
           NA,     P15,     74,   1,      14,   12041,  2,20090302,1919, -17.5102, -170.0226,  5094,    547.4,     8.01,   34.478,2,  34.4767,2,    174.2,2,    171.9,2,    14.77,2,    25.12,2, -999.000,9,     1.78,2, -999.000,9, -999.000,9, -999.000,9,   -999.0,9,   -999.0,9
           NA,     P15,     74,   1,      13,   12012,  2,20090302,1919, -17.5102, -170.0226,  5094,    657.1,     6.19,   34.372,2,  34.3700,2,    191.2,2,    191.7,2,    19.22,2,    27.87,2, -999.000,9,     1.94,2, -999.000,9, -999.000,9, -999.000,9,   -999.0,9,   -999.0,9
           NA,     P15,     74,   1,      12,   12022,  2,20090302,1919, -17.5102, -170.0226,  5094,    814.6,     4.93,   34.393,2,  34.3935,2,    168.7,2,    169.8,2,    38.18,2,    32.11,2, -999.000,9,     2.24,2, -999.000,9, -999.000,9, -999.000,9,   -999.0,9,   -999.0,9
           NA,     P15,     74,   1,      11,   12016,  2,20090302,1919, -17.5102, -170.0226,  5094,   1055.9,     3.62,   34.476,2,  34.4750,2,    155.0,2,    156.1,2,    67.04,2,    34.56,2, -999.000,9,     2.42,2, -999.000,9, -999.000,9, -999.000,9,   -999.0,9,   -999.0,9
           NA,     P15,     74,   1,      10,   12019,  2,20090302,1919, -17.5102, -170.0226,  5094,   1313.3,     2.93,   34.557,2,  34.5582,2,    146.1,2,    147.2,2,    91.15,2,    35.48,2, -999.000,9,     2.50,2, -999.000,9, -999.000,9, -999.000,9,   -999.0,9,   -999.0,9
           NA,     P15,     74,   1,       9,   12031,  2,20090302,1919, -17.5102, -170.0226,  5094,   1597.1,     2.61,   34.595,2,  34.5936,2,    143.3,2,    144.6,2,   103.98,2,    35.81,2, -999.000,9,     2.54,2, -999.000,9, -999.000,9, -999.000,9,   -999.0,9,   -999.0,9
           NA,     P15,     74,   1,       8,   12021,  2,20090302,1919, -17.5102, -170.0226,  5094,   1997.7,     2.26,   34.627,2,  34.6254,2,    143.6,2,    144.9,2,   115.77,2,    35.73,2, -999.000,9,     2.54,2, -999.000,9, -999.000,9, -999.000,9,   -999.0,9,   -999.0,9
           NA,     P15,     74,   1,       7,   12032,  2,20090302,1919, -17.5102, -170.0226,  5094,   2447.4,     1.96,   34.653,2,  34.6553,2,    145.3,2,    146.0,2,   126.07,2,    35.79,2, -999.000,9,     2.55,2, -999.000,9, -999.000,9, -999.000,9,   -999.0,9,   -999.0,9
           NA,     P15,     74,   1,       6,   12007,  2,20090302,1919, -17.5102, -170.0226,  5094,   2897.6,     1.78,   34.668,2,  34.6663,2,    148.6,2,    148.7,2,   132.06,2,    35.70,2, -999.000,9,     2.54,2, -999.000,9, -999.000,9, -999.000,9,   -999.0,9,   -999.0,9
           NA,     P15,     74,   1,       5,   12002,  2,20090302,1919, -17.5102, -170.0226,  5094,   3296.9,     1.68,   34.676,2,  34.6735,2,    152.8,2,    152.4,2,   134.51,2,    35.43,2, -999.000,9,     2.52,2, -999.000,9, -999.000,9, -999.000,9,   -999.0,9,   -999.0,9
           NA,     P15,     74,   1,       4,   12008,  2,20090302,1919, -17.5102, -170.0226,  5094,   3697.9,     1.44,   34.705,2,  34.7052,2,    183.6,2,    182.7,2,   119.46,2,    33.22,2, -999.000,9,     2.32,2, -999.000,9, -999.000,9, -999.000,9,   -999.0,9,   -999.0,9
           NA,     P15,     74,   1,       3,   12033,  2,20090302,1919, -17.5102, -170.0226,  5094,   4096.4,     1.19,   34.715,2,  34.7182,2,    202.0,2,    201.2,2,   115.87,2,    31.80,2, -999.000,9,     2.23,2, -999.000,9, -999.000,9, -999.000,9,   -999.0,9,   -999.0,9
           NA,     P15,     74,   1,       2,   12006,  2,20090302,1919, -17.5102, -170.0226,  5094,   4598.2,     1.02,   34.709,2,  34.7081,2,    206.9,2,    205.6,2,   120.57,2,    31.82,2, -999.000,9,     2.24,2, -999.000,9, -999.000,9, -999.000,9,   -999.0,9,   -999.0,9
           NA,     P15,     74,   1,       1,   12045,  2,20090302,1919, -17.5102, -170.0226,  5094,   5190.8,     1.08,   34.708,2,  34.7073,2,    207.7,2,    205.9,2,   120.83,2,    32.15,2, -999.000,9,     2.24,2, -999.000,9, -999.000,9, -999.000,9,   -999.0,9,   -999.0,9
           NA,     P15,     75,   1,      24,   12014,  2,20090303,0159, -16.9895, -170.0033,  4952,      4.3,    29.27,   35.434,2,  35.4241,2,    196.0,2,    196.0,2,     0.80,2,     0.01,2, -999.000,9,     0.05,2,    1.603,2,    1.009,2, -999.000,9,   1967.8,6,   2326.2,6
           NA,     P15,     75,   1,      23,   12046,  2,20090303,0159, -16.9895, -170.0033,  4952,     22.9,    28.95,   35.383,2,-999.0000,9,    196.9,2,    197.4,2,     0.79,2,     0.01,2, -999.000,9,     0.04,2,    1.554,2,    1.015,2, -999.000,9,   1962.2,2,   2324.6,2
           NA,     P15,     75,   1,      22,   12020,  2,20090303,0159, -16.9895, -170.0033,  4952,     47.6,    27.96,   35.641,2,-999.0000,9,    206.9,2,    205.6,2,     0.88,2,     0.01,2, -999.000,9,     0.09,2, -999.000,4, -999.000,4, -999.000,9,   1985.5,2,   2344.9,2
           NA,     P15,     75,   1,      21,   12003,  2,20090303,0159, -16.9895, -170.0033,  4952,     73.0,    27.28,   35.774,2,-999.0000,9,    204.4,2,    203.9,2,     0.89,2,     0.01,2, -999.000,9,     0.12,2,    1.684,6,    1.104,6, -999.000,9,   1997.8,2,   2354.7,2
           NA,     P15,     75,   1,      20,   12051,  2,20090303,0159, -16.9895, -170.0033,  4952,     96.8,    26.92,   35.967,2,  35.9327,2,    204.1,2,    203.3,2,     0.90,2,     0.01,2, -999.000,9,     0.13,2,    1.775,2,    1.104,2, -999.000,9,   2008.7,2,   2363.4,2
           NA,     P15,     75,   1,      19,   12010,  2,20090303,0159, -16.9895, -170.0033,  4952,    147.8,    24.91,   35.789,2,-999.0000,9,    194.1,2,    192.3,2,     0.86,2,     0.04,2, -999.000,9,     0.15,2,    1.885,2,    1.178,2, -999.000,9,   2026.2,2,   2354.1,2
           NA,     P15,     75,   1,      18,   12018,  2,20090303,0159, -16.9895, -170.0033,  4952,    198.0,    22.94,   35.971,2,-999.0000,9,    168.3,2,    167.8,2,     0.98,2,     2.34,2, -999.000,9,     0.35,2,    2.071,2,    1.268,2, -999.000,9,   2079.4,2,   2360.3,2
           NA,     P15,     75,   1,      17,   12024,  2,20090303,0159, -16.9895, -170.0033,  4952,    248.2,    21.08,   35.820,2,  35.8145,2,    166.1,2,    165.2,2,     1.23,2,     4.33,2, -999.000,9,     0.48,2, -999.000,9, -999.000,9, -999.000,9,   2095.4,2,   2354.2,2
           NA,     P15,     75,   1,      16,   12001,  2,20090303,0159, -16.9895, -170.0033,  4952,    346.2,    15.64,   35.183,2,-999.0000,9,    171.2,2,    171.1,2,     3.36,2,     9.25,2, -999.000,9,     0.78,2, -999.000,9, -999.000,9, -999.000,9,   2110.3,2,   2314.5,2
           NA,     P15,     75,   1,      15,   12025,  2,20090303,0159, -16.9895, -170.0033,  4952,    346.9,    15.52,   35.170,2,-999.0000,9,    170.7,2,    169.8,2,     3.50,2,     9.48,2, -999.000,9,     0.81,2,    2.404,2,    1.330,2, -999.000,9,   2112.5,2,   2313.0,2
           NA,     P15,     75,   1,      14,   12041,  2,20090303,0159, -16.9895, -170.0033,  4952,    417.4,    12.21,   34.814,2,  34.8108,2,    177.4,2,    176.6,2,     5.58,2,    14.53,2, -999.000,9,     1.13,2,    2.430,2,    1.263,2, -999.000,9,   2129.5,2,   2294.6,6
           NA,     P15,     75,   1,      13,   12012,  2,20090303,0159, -16.9895, -170.0033,  4952,    497.3,     8.74,   34.516,2,  34.5131,2,    170.3,2,    170.2,2,    12.14,2,    23.19,2, -999.000,9,     1.68,2,    1.596,6,    0.849,6, -999.000,9,   2164.6,2,   2286.0,2
           NA,     P15,     75,   1,      12,   12022,  2,20090303,0159, -16.9895, -170.0033,  4952,    646.8,     6.23,   34.400,2,  34.3984,2,    178.0,2,    178.0,2,    23.03,2,    28.78,2, -999.000,9,     2.00,2,    0.642,2,    0.355,2, -999.000,9,   2186.4,6,   2290.4,6
           NA,     P15,     75,   1,      11,   12016,  2,20090303,0159, -16.9895, -170.0033,  4952,    796.1,     4.98,   34.423,2,  34.4200,2,    162.5,2,    163.1,2,    41.78,2,    32.46,2, -999.000,9,     2.25,2,    0.188,2,    0.108,2, -999.000,9,   2217.6,2,   2310.3,2
           NA,     P15,     75,   1,      10,   12019,  2,20090303,0159, -16.9895, -170.0033,  4952,   1097.0,     3.51,   34.520,2,  34.5221,2,    144.1,2,    145.0,2,    78.08,2,    35.66,2, -999.000,9,     2.46,2,    0.015,2,    0.009,2, -999.000,9,   2265.8,2,   2346.2,2
           NA,     P15,     75,   1,       9,   12031,  2,20090303,0159, -16.9895, -170.0033,  4952,   1396.8,     2.90,   34.567,2,  34.5675,2,    143.3,2,    144.6,2,    94.27,2,    35.77,2, -999.000,9,     2.50,2,    0.004,2,    0.003,2, -999.000,9,   2282.7,2,   2361.4,2
           NA,     P15,     75,   1,       8,   12021,  2,20090303,0159, -16.9895, -170.0033,  4952,   1898.0,     2.32,   34.620,2,  34.6197,2,    144.1,2,    145.3,2,   113.46,2,    35.93,2, -999.000,9,     2.50,2,   -0.003,2,    0.003,2, -999.000,9,   2303.2,2,   2379.3,2
           NA,     P15,     75,   1,       7,   12032,  2,20090303,0159, -16.9895, -170.0033,  4952,   2398.4,     1.98,   34.650,2,  34.6492,2,    147.6,2,    148.8,2,   123.24,2,    35.69,2, -999.000,9,     2.49,2, -999.000,9, -999.000,9, -999.000,9,   2309.1,2,   2393.7,2
           NA,     P15,     75,   1,       6,   12007,  2,20090303,0159, -16.9895, -170.0033,  4952,   2996.8,     1.75,   34.670,2,  34.6696,2,    149.3,2,    149.9,2,   132.95,2,    35.82,2, -999.000,9,     2.48,2,    0.005,6,    0.003,6, -999.000,9,   2320.0,2,   2406.7,2
           NA,     P15,     75,   1,       5,   12002,  2,20090303,0159, -16.9895, -170.0033,  4952,   3496.3,     1.59,   34.683,2,  34.6820,2,    160.0,2,    157.2,2,   133.45,2,    35.33,2, -999.000,9,     2.44,2,    0.008,2,    0.004,2, -999.000,9,   2310.8,2,   2400.9,2
           NA,     P15,     75,   1,       4,   12008,  2,20090303,0159, -16.9895, -170.0033,  4952,   3999.0,     1.32,   34.715,2,  34.7188,2,    197.2,2,    196.7,2,   114.23,2,    32.03,2, -999.000,9,     2.20,2,    0.039,2,    0.019,2, -999.000,9,   2267.9,2,   2363.5,6
           NA,     P15,     75,   1,       3,   12033,  2,20090303,0159, -16.9895, -170.0033,  4952,   4497.6,     1.07,   34.710,2,  34.7097,2,    205.5,2,    204.4,2,   119.39,2,    32.05,2, -999.000,9,     2.20,2,    0.034,2,    0.019,2, -999.000,9,   2264.1,2,   2360.6,2
           NA,     P15,     75,   1,       2,   12006,  2,20090303,0159, -16.9895, -170.0033,  4952,   4847.4,     1.05,   34.709,2,-999.0000,9,    206.9,2,    206.0,2,   120.50,2,    32.01,2, -999.000,9,     2.20,2,    0.041,2,    0.023,2, -999.000,9,   2264.7,2,   2363.5,2
           NA,     P15,     75,   1,       1,   12045,  2,20090303,0159, -16.9895, -170.0033,  4952,   5041.3,     1.07,   34.708,2,  34.7089,2,    207.2,2,    205.9,2,   120.64,2,    32.09,2, -999.000,9,     2.19,2,    0.038,2,    0.020,2, -999.000,9,   2263.8,6,   2365.2,6