BOTTLE,20214902JOAExport
EXPOCODE,SECT_ID,STNNBR,CASTNO,SAMPNO,BTLNBR,BTLNBR_FLAG_W,DATE,TIME,LATITUDE,LONGITUDE,DEPTH,CTDPRS,CTDTMP,CTDSAL,CTDSAL_FLAG_W,SALNTY,SALNTY_FLAG_W,CTDOXY,CTDOXY_FLAG_W,OXYGEN,OXYGEN_FLAG_W,SILCAT,SILCAT_FLAG_W,NITRAT,NITRAT_FLAG_W,NITRIT,NITRIT_FLAG_W,PHSPHT,PHSPHT_FLAG_W,CFC-11,CFC-11_FLAG_W,CFC-12,CFC-12_FLAG_W,SF6,SF6_FLAG_W,TCARBN,TCARBN_FLAG_W,ALKALI,ALKALI_FLAG_W
,,,,,,,,,,,,DB,ITS-90,PSS-78,,PSS-78,,UMOL/KG,,UMOL/KG,,UMOL/KG,,UMOL/KG,,UMOL/KG,,UMOL/KG,,PMOL/KG,,PMOL/KG,,FMOL/KG,,UMOL/KG,,UMOL/KG
           NA,     P15,     52,   1,      24,   12015,  2,20090220,0955, -28.5084, -169.9768,  5433,      3.3,    24.64,   35.432,2,  35.4326,2,    208.9,2,    209.6,2,     0.96,2,     0.01,2, -999.000,9,     0.03,2, -999.000,9, -999.000,9, -999.000,9,   2013.0,2,   2317.6,2
           NA,     P15,     52,   1,      23,   12046,  2,20090220,0955, -28.5084, -169.9768,  5433,     27.4,    24.63,   35.432,2,  35.4326,2,    209.6,2,    209.9,2,     0.96,2,     0.01,2, -999.000,9,     0.02,2, -999.000,9, -999.000,9, -999.000,9,   2012.1,2,   2318.6,2
           NA,     P15,     52,   1,      22,   12020,  2,20090220,0955, -28.5084, -169.9768,  5433,     46.2,    22.23,   35.558,2,  35.5579,2,    236.2,2,    235.3,2,     0.96,2,     0.02,2, -999.000,9,     0.03,2, -999.000,9, -999.000,9, -999.000,9,   2025.6,2,   2326.4,2
           NA,     P15,     52,   1,      21,   12003,  2,20090220,0955, -28.5084, -169.9768,  5433,     70.4,    18.94,   35.597,2,  35.5993,2,    241.9,2,    241.5,2,     1.12,2,     0.02,2, -999.000,9,     0.06,2, -999.000,9, -999.000,9, -999.000,9,   -999.0,9,   -999.0,9
           NA,     P15,     52,   1,      20,   12051,  2,20090220,0955, -28.5084, -169.9768,  5433,     92.2,    18.03,   35.582,2,  35.5809,2,    230.2,2,    230.8,2,     1.06,2,     0.02,2, -999.000,9,     0.08,2, -999.000,9, -999.000,9, -999.000,9,   -999.0,9,   -999.0,9
           NA,     P15,     52,   1,      19,   12010,  2,20090220,0955, -28.5084, -169.9768,  5433,    168.3,    16.60,   35.526,2,  35.5322,2,    214.8,2,    215.5,2,     1.46,2,     2.90,2, -999.000,9,     0.26,2, -999.000,9, -999.000,9, -999.000,9,   2076.2,2,   2326.1,2
           NA,     P15,     52,   1,      18,   12018,  2,20090220,0955, -28.5084, -169.9768,  5433,    242.9,    14.93,   35.351,2,  35.3484,2,    206.4,2,    206.8,2,     2.48,2,     6.63,2, -999.000,9,     0.52,2, -999.000,9, -999.000,9, -999.000,9,   -999.0,9,   -999.0,9
           NA,     P15,     52,   1,      17,   12024,  2,20090220,0955, -28.5084, -169.9768,  5433,    299.4,    13.42,   35.125,2,  35.1232,2,    196.1,2,    196.0,2,     3.28,2,    10.41,2, -999.000,9,     0.76,2, -999.000,9, -999.000,9, -999.000,9,   -999.0,9,   -999.0,9
           NA,     P15,     52,   1,      16,   12001,  2,20090220,0955, -28.5084, -169.9768,  5433,    389.1,    11.32,   34.888,2,  34.8890,2,    202.9,2,    203.2,2,     4.45,2,    14.13,2, -999.000,9,     1.00,2, -999.000,9, -999.000,9, -999.000,9,   -999.0,9,   -999.0,9
           NA,     P15,     52,   1,      15,   12025,  2,20090220,0955, -28.5084, -169.9768,  5433,    449.2,     9.59,   34.657,2,  34.6559,2,    208.8,2,    209.5,2,     5.33,2,    17.46,2, -999.000,9,     1.21,2, -999.000,9, -999.000,9, -999.000,9,   -999.0,9,   -999.0,9
           NA,     P15,     52,   1,      14,   12041,  2,20090220,0955, -28.5084, -169.9768,  5433,    548.0,     8.07,   34.500,2,  34.4987,2,    221.0,2,    222.7,2,     6.67,2,    20.59,2, -999.000,9,     1.40,2, -999.000,9, -999.000,9, -999.000,9,   -999.0,9,   -999.0,9
           NA,     P15,     52,   1,      13,   12012,  2,20090220,0955, -28.5084, -169.9768,  5433,    698.8,     6.84,   34.387,2,  34.3868,2,    226.1,2,    228.8,2,     9.35,2,    23.49,2, -999.000,9,     1.58,2, -999.000,9, -999.000,9, -999.000,9,   -999.0,9,   -999.0,9
           NA,     P15,     52,   1,      12,   12022,  2,20090220,0955, -28.5084, -169.9768,  5433,    948.5,     5.24,   34.325,2,  34.3268,2,    206.6,2,    210.0,2,    22.15,2,    28.78,2, -999.000,9,     1.95,2, -999.000,9, -999.000,9, -999.000,9,   -999.0,9,   -999.0,9
           NA,     P15,     52,   1,      11,   12016,  2,20090220,0955, -28.5084, -169.9768,  5433,   1097.8,     4.32,   34.352,2,  34.3519,2,    188.3,2,    192.3,2,    36.50,2,    31.78,2, -999.000,9,     2.15,2, -999.000,9, -999.000,9, -999.000,9,   -999.0,9,   -999.0,9
           NA,     P15,     52,   1,      10,   12019,  2,20090220,0955, -28.5084, -169.9768,  5433,   1296.4,     3.43,   34.429,2,  34.4292,2,    172.2,2,    175.1,2,    57.15,2,    33.93,2, -999.000,9,     2.32,2, -999.000,9, -999.000,9, -999.000,9,   -999.0,9,   -999.0,9
           NA,     P15,     52,   1,       9,   12031,  2,20090220,0955, -28.5084, -169.9768,  5433,   1565.7,     2.71,   34.551,2,  34.5580,2,    156.4,2,    160.2,2,    85.84,2,    34.99,2, -999.000,9,     2.41,2, -999.000,9, -999.000,9, -999.000,9,   -999.0,9,   -999.0,9
           NA,     P15,     52,   1,       8,   12021,  2,20090220,0955, -28.5084, -169.9768,  5433,   1829.7,     2.38,   34.611,2,  34.6146,2,    146.5,2,    150.0,2,   107.14,2,    35.51,2, -999.000,9,     2.47,2, -999.000,9, -999.000,9, -999.000,9,   -999.0,9,   -999.0,9
           NA,     P15,     52,   1,       7,   12032,  2,20090220,0955, -28.5084, -169.9768,  5433,   2497.2,     1.98,   34.652,2,  34.6535,2,    143.7,2,    146.4,2,   126.83,2,    36.22,2, -999.000,9,     2.53,2, -999.000,9, -999.000,9, -999.000,9,   -999.0,9,   -999.0,9
           NA,     P15,     52,   1,       6,   12007,  2,20090220,0955, -28.5084, -169.9768,  5433,   2832.3,     1.84,   34.666,2,  34.6651,2,    147.2,2,    150.0,2,   130.40,2,    35.97,2, -999.000,9,     2.51,2, -999.000,9, -999.000,9, -999.000,9,   -999.0,9,   -999.0,9
           NA,     P15,     52,   1,       5,   12002,  2,20090220,0955, -28.5084, -169.9768,  5433,   3330.0,     1.65,   34.691,2,  34.6893,2,    165.5,2,    166.6,2,   124.26,2,    34.39,2, -999.000,9,     2.38,2, -999.000,9, -999.000,9, -999.000,9,   -999.0,9,   -999.0,9
           NA,     P15,     52,   1,       4,   12008,  2,20090220,0955, -28.5084, -169.9768,  5433,   3829.9,     1.41,   34.717,2,  34.7148,2,    193.4,2,    194.7,2,   112.16,2,    32.25,2, -999.000,9,     2.22,2, -999.000,9, -999.000,9, -999.000,9,   -999.0,9,   -999.0,9
           NA,     P15,     52,   1,       3,   12033,  2,20090220,0955, -28.5084, -169.9768,  5433,   4331.1,     1.10,   34.713,2,  34.7117,2,    203.8,2,    204.8,2,   118.15,2,    32.09,2, -999.000,9,     2.22,2, -999.000,9, -999.000,9, -999.000,9,   -999.0,9,   -999.0,9
           NA,     P15,     52,   1,       2,   12006,  2,20090220,0955, -28.5084, -169.9768,  5433,   4914.3,     1.04,   34.708,2,  34.7091,2,    206.7,2,    206.3,2,   120.86,2,    32.16,2, -999.000,9,     2.22,2, -999.000,9, -999.000,9, -999.000,9,   -999.0,9,   -999.0,9
           NA,     P15,     52,   1,       1,   12045,  2,20090220,0955, -28.5084, -169.9768,  5433,   5551.8,     1.10,   34.707,2,  34.7060,2,    207.1,2,    206.6,2,   120.72,2,    32.01,2, -999.000,9,  -999.00,9, -999.000,9, -999.000,9, -999.000,9,   -999.0,9,   -999.0,9
           NA,     P15,     53,   1,      24,   12015,  2,20090220,1640, -28.0055, -169.9876,  4824,      3.8,    24.63,   35.388,2,  35.3841,2,    210.3,2,    210.5,2,     0.81,2,     0.05,2, -999.000,9,     0.01,2,    1.902,2,    1.157,2, -999.000,9,   2004.3,6,   2315.4,6
           NA,     P15,     53,   1,      23,   12046,  2,20090220,1640, -28.0055, -169.9876,  4824,     31.7,    24.75,   35.500,2,  35.5060,2,    211.4,2,    211.1,2,     0.79,2,     0.06,2, -999.000,9,     0.01,2,    1.896,2,    1.153,2, -999.000,9,   2011.3,2,   2321.2,2
           NA,     P15,     53,   1,      22,   12020,  2,20090220,1640, -28.0055, -169.9876,  4824,     58.1,    20.48,   35.577,2,  35.5823,2,    242.0,2,    242.8,2,     0.82,2,     0.06,2, -999.000,9,     0.02,2,    2.395,6,    1.413,6, -999.000,9,   2023.3,2,   2329.8,2
           NA,     P15,     53,   1,      21,   12003,  2,20090220,1640, -28.0055, -169.9876,  4824,     86.2,    18.58,   35.597,2,  35.5961,2,    232.5,2,    233.4,2,     0.95,2,     0.08,2, -999.000,9,     0.08,2,    2.490,2,    1.449,2, -999.000,9,   2047.6,2,   2330.6,2
           NA,     P15,     53,   1,      20,   12051,  2,20090220,1640, -28.0055, -169.9876,  4824,    116.4,    17.73,   35.576,2,  35.5758,2,    225.9,2,    225.1,2,     0.95,2,     0.15,2, -999.000,9,     0.11,2,    2.526,2,    1.490,2, -999.000,9,   2059.3,2,   2327.7,2
           NA,     P15,     53,   1,      19,   12010,  2,20090220,1640, -28.0055, -169.9876,  4824,    194.5,    15.80,   35.402,2,  35.3977,2,    196.0,2,    195.7,2,     2.08,2,     6.44,2, -999.000,9,     0.50,2,    2.654,2,    1.494,2, -999.000,9,   2094.5,2,   2317.6,2
           NA,     P15,     53,   1,      18,   12018,  2,20090220,1640, -28.0055, -169.9876,  4824,    249.1,    14.77,   35.334,2,  35.3334,2,    206.1,2,    206.1,2,     2.51,2,     7.01,2, -999.000,9,     0.55,2, -999.000,9, -999.000,9, -999.000,9,   2099.0,2,   2316.1,2
           NA,     P15,     53,   1,      17,   12024,  2,20090220,1640, -28.0055, -169.9876,  4824,    341.8,    12.49,   35.025,2,  35.0224,2,    200.8,2,    200.7,2,     3.57,2,    11.80,2, -999.000,9,     0.84,2,    2.948,2,    1.568,2, -999.000,9,   2118.6,2,   2301.9,2
           NA,     P15,     53,   1,      16,   12001,  2,20090220,1640, -28.0055, -169.9876,  4824,    418.6,    10.16,   34.738,2,  34.7360,2,    206.3,2,    206.4,2,     4.97,2,    16.33,2, -999.000,9,     1.13,2,    3.097,2,    1.592,2, -999.000,9,   2132.7,2,   2288.5,6
           NA,     P15,     53,   1,      15,   12025,  2,20090220,1640, -28.0055, -169.9876,  4824,    493.8,     8.79,   34.577,2,  34.5781,2,    214.2,2,    214.4,2,     5.97,2,    19.10,2, -999.000,9,     1.30,2,    3.164,2,    1.596,2, -999.000,9,   2138.2,2,   2282.4,2
           NA,     P15,     53,   1,      14,   12041,  2,20090220,1640, -28.0055, -169.9876,  4824,    598.0,     7.33,   34.418,2,  34.4159,2,    229.6,2,    231.0,2,     7.15,2,    21.90,2, -999.000,9,     1.48,2,    3.166,2,    1.524,2, -999.000,9,   2141.0,2,   2277.1,2
           NA,     P15,     53,   1,      13,   12012,  2,20090220,1640, -28.0055, -169.9876,  4824,    697.3,     6.77,   34.379,2,  34.3776,2,    229.3,2,    231.6,2,     8.96,2,    23.38,2, -999.000,9,     1.55,2,    2.519,2,    1.234,2, -999.000,9,   2145.0,2,   2279.3,2
           NA,     P15,     53,   1,      12,   12022,  2,20090220,1640, -28.0055, -169.9876,  4824,    898.8,     5.67,   34.326,2,  34.3260,2,    215.7,2,    218.7,2,    16.72,2,    27.09,2, -999.000,9,     1.81,2,    1.186,2,    0.584,2, -999.000,9,   2162.8,6,   2281.3,6
           NA,     P15,     53,   1,      11,   12016,  2,20090220,1640, -28.0055, -169.9876,  4824,   1149.4,     4.02,   34.378,2,  34.3776,2,    180.1,2,    183.2,2,    44.11,2,    32.94,2, -999.000,9,     2.23,2,    0.174,2,    0.090,2, -999.000,9,   2213.3,2,   2306.2,2
           NA,     P15,     53,   1,      10,   12019,  2,20090220,1640, -28.0055, -169.9876,  4824,   1399.4,     3.03,   34.494,2,  34.4932,2,    162.8,2,    166.2,2,    72.14,2,    34.76,2, -999.000,9,     2.37,2,    0.020,2,    0.009,2, -999.000,9,   2251.5,2,   2338.0,2
           NA,     P15,     53,   1,       9,   12031,  2,20090220,1640, -28.0055, -169.9876,  4824,   1699.6,     2.51,   34.589,2,  34.5871,2,    150.7,2,    154.8,2,    97.94,2,    35.42,2, -999.000,9,     2.44,2,    0.004,2,    0.000,2, -999.000,9,   2283.0,2,   2366.6,2
           NA,     P15,     53,   1,       8,   12021,  2,20090220,1640, -28.0055, -169.9876,  4824,   1899.3,     2.31,   34.618,2,  34.6181,2,    145.5,2,    148.5,2,   110.83,2,    35.84,2, -999.000,9,     2.48,2,    0.001,2,    0.002,2, -999.000,9,   2298.4,2,   2382.0,2
           NA,     P15,     53,   1,       7,   12032,  2,20090220,1640, -28.0055, -169.9876,  4824,   2246.7,     2.11,   34.640,2,  34.6388,2,    143.5,2,    145.7,2,   120.29,2,    36.14,2, -999.000,9,     2.50,2,   -0.003,2,    0.001,2, -999.000,9,   2308.8,2,   2394.7,2
           NA,     P15,     53,   1,       6,   12007,  2,20090220,1640, -28.0055, -169.9876,  4824,   2498.1,     2.00,   34.651,2,  34.6484,2,    143.8,2,    145.9,2,   124.64,2,    36.15,2, -999.000,9,     2.50,2,    0.006,2,    0.003,2, -999.000,9,   2314.2,2,   2397.0,6
           NA,     P15,     53,   1,       4,   12008,  2,20090220,1640, -28.0055, -169.9876,  4824,   3496.3,     1.60,   34.700,2,  34.6967,2,    173.9,2,    173.9,2,   120.15,2,    33.88,2, -999.000,9,     2.35,2,    0.014,6,    0.005,6, -999.000,9,   2288.7,2,   2382.2,2
           NA,     P15,     53,   1,       3,   12033,  2,20090220,1640, -28.0055, -169.9876,  4824,   3997.2,     1.26,   34.717,2,  34.7148,2,    199.1,2,    200.5,2,   113.27,2,    32.00,2, -999.000,9,     2.20,2, -999.000,9, -999.000,9, -999.000,9,   2261.8,2,   2361.9,2
           NA,     P15,     53,   1,       2,   12006,  2,20090220,1640, -28.0055, -169.9876,  4824,   4498.9,     1.04,   34.710,2,  34.7081,2,    204.7,2,    205.9,2,   120.25,2,    32.30,2, -999.000,9,     2.22,2,    0.048,2,    0.023,2, -999.000,9,   2263.1,2,   2361.8,2
           NA,     P15,     53,   1,       1,   12045,  2,20090220,1640, -28.0055, -169.9876,  4824,   4928.8,     1.04,   34.708,2,  34.7085,2,    205.5,2,    206.5,2,   120.85,2,    32.21,2, -999.000,9,     2.20,2,    0.054,2,    0.027,2, -999.000,9,   2263.3,6,   2364.9,6