BOTTLE,20214902JOAExport
EXPOCODE,SECT_ID,STNNBR,CASTNO,SAMPNO,BTLNBR,BTLNBR_FLAG_W,DATE,TIME,LATITUDE,LONGITUDE,DEPTH,CTDPRS,CTDTMP,CTDSAL,CTDSAL_FLAG_W,SALNTY,SALNTY_FLAG_W,CTDOXY,CTDOXY_FLAG_W,OXYGEN,OXYGEN_FLAG_W,SILCAT,SILCAT_FLAG_W,NITRAT,NITRAT_FLAG_W,NITRIT,NITRIT_FLAG_W,PHSPHT,PHSPHT_FLAG_W,CFC-11,CFC-11_FLAG_W,CFC-12,CFC-12_FLAG_W,SF6,SF6_FLAG_W,TCARBN,TCARBN_FLAG_W,ALKALI,ALKALI_FLAG_W
,,,,,,,,,,,,DB,ITS-90,PSS-78,,PSS-78,,UMOL/KG,,UMOL/KG,,UMOL/KG,,UMOL/KG,,UMOL/KG,,UMOL/KG,,PMOL/KG,,PMOL/KG,,FMOL/KG,,UMOL/KG,,UMOL/KG
           NA,     P15,     30,   1,      24,   12015,  2,20090213,2245, -39.0864, -172.1176,  4832,      4.9,    19.11,   35.008,2,  35.0075,2,    236.3,2,    235.4,2,     1.04,2,     0.00,2, -999.000,9,     0.11,2, -999.000,9, -999.000,9, -999.000,9,   2039.8,2,   2299.2,2
           NA,     P15,     30,   1,      23,   12046,  2,20090213,2245, -39.0864, -172.1176,  4832,     37.1,    19.19,   34.984,2,  35.0173,2,    241.9,2,    240.1,2,     1.06,2,     0.00,2, -999.000,9,     0.11,2, -999.000,9, -999.000,9, -999.000,9,   -999.0,9,   -999.0,9
           NA,     P15,     30,   1,      22,   12020,  2,20090213,2245, -39.0864, -172.1176,  4832,     61.4,    13.66,   35.147,2,  35.1467,2,    260.5,2,    259.5,2,     1.09,2,     1.21,2, -999.000,9,     0.25,2, -999.000,9, -999.000,9, -999.000,9,   -999.0,9,   -999.0,9
           NA,     P15,     30,   1,      21,   12003,  2,20090213,2245, -39.0864, -172.1176,  4832,     80.3,    13.22,   35.168,2,  35.1677,2,    244.3,2,    243.3,2,     1.41,2,     4.90,2, -999.000,9,     0.41,2, -999.000,9, -999.000,9, -999.000,9,   -999.0,9,   -999.0,9
           NA,     P15,     30,   1,      20,   12051,  2,20090213,2245, -39.0864, -172.1176,  4832,    218.3,    12.59,   35.145,2,  35.1441,2,    240.2,2,    240.2,2,     2.39,2,     7.81,2, -999.000,9,     0.57,2, -999.000,9, -999.000,9, -999.000,9,   -999.0,9,   -999.0,9
           NA,     P15,     30,   1,      19,   12010,  2,20090213,2245, -39.0864, -172.1176,  4832,    264.1,    12.11,   35.060,2,  35.0594,2,    235.6,2,    235.6,2,     2.82,2,     9.42,2, -999.000,9,     0.67,2, -999.000,9, -999.000,9, -999.000,9,   -999.0,9,   -999.0,9
           NA,     P15,     30,   1,      18,   12018,  2,20090213,2245, -39.0864, -172.1176,  4832,    320.5,    11.12,   34.899,2,  34.8977,2,    220.2,2,    219.5,2,     3.94,2,    13.03,2, -999.000,9,     0.88,2, -999.000,9, -999.000,9, -999.000,9,   -999.0,9,   -999.0,9
           NA,     P15,     30,   1,      17,   12024,  2,20090213,2245, -39.0864, -172.1176,  4832,    430.7,     9.47,   34.679,2,  34.6793,2,    215.6,2,    215.7,2,     5.81,2,    17.74,2, -999.000,9,     1.17,2, -999.000,9, -999.000,9, -999.000,9,   -999.0,9,   -999.0,9
           NA,     P15,     30,   1,      16,   12001,  2,20090213,2245, -39.0864, -172.1176,  4832,    531.2,     8.41,   34.545,2,  34.5476,2,    223.1,2,    222.8,2,     6.52,2,    19.68,2, -999.000,9,     1.31,2, -999.000,9, -999.000,9, -999.000,9,   -999.0,9,   -999.0,9
           NA,     P15,     30,   1,      15,   12025,  2,20090213,2245, -39.0864, -172.1176,  4832,    646.9,     7.58,   34.455,2,  34.4534,2,    229.5,2,    229.9,2,     7.58,2,    21.54,2, -999.000,9,     1.42,2, -999.000,9, -999.000,9, -999.000,9,   -999.0,9,   -999.0,9
           NA,     P15,     30,   1,      14,   12041,  2,20090213,2245, -39.0864, -172.1176,  4832,    747.5,     7.16,   34.435,2,  34.4387,2,    221.0,2,    221.5,2,    10.58,2,    23.19,2, -999.000,9,     1.52,2, -999.000,9, -999.000,9, -999.000,9,   -999.0,9,   -999.0,9
           NA,     P15,     30,   1,      13,   12012,  2,20090213,2245, -39.0864, -172.1176,  4832,    962.7,     6.05,   34.405,2,  34.4019,2,    203.8,2,    203.8,2,    21.12,2,    27.02,2, -999.000,9,     1.80,2, -999.000,9, -999.000,9, -999.000,9,   -999.0,9,   -999.0,9
           NA,     P15,     30,   1,      12,   12022,  2,20090213,2245, -39.0864, -172.1176,  4832,   1163.0,     4.93,   34.405,2,  34.4053,2,    189.0,2,    189.9,2,    36.05,2,    30.08,2, -999.000,9,     2.00,2, -999.000,9, -999.000,9, -999.000,9,   -999.0,9,   -999.0,9
           NA,     P15,     30,   1,      11,   12016,  2,20090213,2245, -39.0864, -172.1176,  4832,   1364.0,     3.91,   34.452,2,  34.4524,2,    175.4,2,    176.3,2,    56.14,2,    32.55,2, -999.000,9,     2.20,2, -999.000,9, -999.000,9, -999.000,9,   -999.0,9,   -999.0,9
           NA,     P15,     30,   1,      10,   12019,  2,20090213,2245, -39.0864, -172.1176,  4832,   1562.5,     3.29,   34.515,2,  34.5156,2,    165.1,2,    166.4,2,    74.14,2,    33.64,2, -999.000,9,     2.30,2, -999.000,9, -999.000,9, -999.000,9,   -999.0,9,   -999.0,9
           NA,     P15,     30,   1,       9,   12031,  2,20090213,2245, -39.0864, -172.1176,  4832,   1764.3,     2.85,   34.568,2,  34.5692,2,    158.0,2,    158.0,2,    90.00,2,    34.38,2, -999.000,9,     2.37,2, -999.000,9, -999.000,9, -999.000,9,   -999.0,9,   -999.0,9
           NA,     P15,     30,   1,       8,   12021,  2,20090213,2245, -39.0864, -172.1176,  4832,   1981.4,     2.54,   34.606,2,  34.6095,2,    153.9,2,    153.7,2,   102.80,2,    34.91,2, -999.000,9,     2.40,2, -999.000,9, -999.000,9, -999.000,9,   -999.0,9,   -999.0,9
           NA,     P15,     30,   1,       7,   12032,  2,20090213,2245, -39.0864, -172.1176,  4832,   2248.4,     2.29,   34.634,2,  34.6370,2,    153.3,2,    152.6,2,   110.80,2,    34.96,2, -999.000,9,     2.41,2, -999.000,9, -999.000,9, -999.000,9,   -999.0,9,   -999.0,9
           NA,     P15,     30,   1,       6,   12007,  2,20090213,2245, -39.0864, -172.1176,  4832,   2629.6,     2.00,   34.667,2,  34.6675,2,    158.0,2,    157.2,2,   117.32,2,    34.77,2, -999.000,9,     2.39,2, -999.000,9, -999.000,9, -999.000,9,   -999.0,9,   -999.0,9
           NA,     P15,     30,   1,       5,   12055,  2,20090213,2245, -39.0864, -172.1176,  4832,   3164.5,     1.68,   34.721,2,  34.7219,2,    189.1,2,    188.3,2,   104.60,2,    31.82,2, -999.000,9,     2.16,2, -999.000,9, -999.000,9, -999.000,9,   -999.0,9,   -999.0,9
           NA,     P15,     30,   1,       4,   12009,  2,20090213,2245, -39.0864, -172.1176,  4832,   3666.2,     1.32,   34.721,2,  34.7191,2,    200.7,2,    199.9,2,   111.70,2,    31.51,2, -999.000,9,     2.15,2, -999.000,9, -999.000,9, -999.000,9,   -999.0,9,   -999.0,9
           NA,     P15,     30,   1,       3,   12033,  2,20090213,2245, -39.0864, -172.1176,  4832,   4165.3,     1.04,   34.712,2,  34.7115,2,    207.2,2,    205.2,2,   120.05,2,    31.90,2, -999.000,9,     2.17,2, -999.000,9, -999.000,9, -999.000,9,   -999.0,9,   -999.0,9
           NA,     P15,     30,   1,       2,   12006,  2,20090213,2245, -39.0864, -172.1176,  4832,   4662.0,     0.97,   34.707,2,  34.7060,2,    209.3,2,    207.6,2,   123.14,2,    31.95,2, -999.000,9,     2.20,2, -999.000,9, -999.000,9, -999.000,9,   -999.0,9,   -999.0,9
           NA,     P15,     30,   1,       1,   12045,  2,20090213,2245, -39.0864, -172.1176,  4832,   4911.8,     0.99,   34.706,2,  34.7070,2,    209.7,2,   -999.0,9,   123.74,2,    31.94,2, -999.000,9,     2.19,2, -999.000,9, -999.000,9, -999.000,9,   -999.0,9,   -999.0,9
           NA,     P15,     31,   1,      24,   12015,  2,20090214,0728, -38.4202, -171.6523,  4923,      4.3,    19.27,   34.916,2,  34.9146,2,    234.6,2,    232.9,2,     1.14,2,     0.00,2, -999.000,9,     0.12,2,    2.398,2,    1.419,2, -999.000,9,   2039.7,2,   2300.3,6
           NA,     P15,     31,   1,      23,   12046,  2,20090214,0728, -38.4202, -171.6523,  4923,     21.5,    19.28,   34.916,2,  34.9142,2,    235.0,2,    234.1,2,     1.15,2,     0.00,2, -999.000,9,     0.12,2, -999.000,9, -999.000,9, -999.000,9,   2040.0,2,   2300.6,2
           NA,     P15,     31,   1,      22,   12020,  2,20090214,0728, -38.4202, -171.6523,  4923,     66.1,    13.75,   34.875,2,  34.9343,2,    264.8,2,    263.2,2,     1.15,2,     0.01,2, -999.000,9,     0.16,2,    2.888,6,    1.676,6, -999.000,9,   2046.3,2,   2301.0,2
           NA,     P15,     31,   1,      21,   12003,  2,20090214,0728, -38.4202, -171.6523,  4923,    129.7,    12.55,   35.037,2,  35.0319,2,    245.2,2,    243.8,2,     1.80,2,     6.32,2, -999.000,9,     0.51,2, -999.000,9, -999.000,9, -999.000,9,   2094.0,2,   2304.1,2
           NA,     P15,     31,   1,      20,   12051,  2,20090214,0728, -38.4202, -171.6523,  4923,    179.8,    11.81,   34.973,2,  34.9673,2,    238.6,2,    236.5,2,     2.61,2,     8.97,2, -999.000,9,     0.66,2, -999.000,9, -999.000,9, -999.000,9,   2108.1,2,   2301.5,2
           NA,     P15,     31,   1,      19,   12010,  2,20090214,0728, -38.4202, -171.6523,  4923,    273.3,    10.25,   34.769,2,  34.7683,2,    222.1,2,    219.9,2,     4.60,2,    14.74,2, -999.000,9,     1.01,2, -999.000,9, -999.000,9, -999.000,9,   2128.1,2,   2291.2,2
           NA,     P15,     31,   1,      18,   12018,  2,20090214,0728, -38.4202, -171.6523,  4923,    322.1,     9.57,   34.679,2,  34.6781,2,    229.8,2,    228.2,2,     4.60,2,    15.93,2, -999.000,9,     1.07,2,    3.566,2,    1.917,2, -999.000,9,   2130.2,2,   2284.9,2
           NA,     P15,     31,   1,      17,   12024,  2,20090214,0728, -38.4202, -171.6523,  4923,    364.0,     9.19,   34.645,2,  34.6486,2,    220.3,2,    221.9,2,     5.69,2,    17.51,2, -999.000,9,     1.17,2, -999.000,9, -999.000,9, -999.000,9,   2135.4,2,   2288.1,2
           NA,     P15,     31,   1,      16,   12001,  2,20090214,0728, -38.4202, -171.6523,  4923,    396.4,     8.72,   34.574,2,  34.5787,2,    230.4,2,    227.9,2,     5.48,2,    18.15,2, -999.000,9,     1.20,2,    3.636,2,    1.931,2, -999.000,9,   2135.7,2,   2282.1,6
           NA,     P15,     31,   1,      15,   12025,  2,20090214,0728, -38.4202, -171.6523,  4923,    547.3,     7.72,   34.468,2,  34.4673,2,    230.6,2,    229.5,2,     7.65,2,    21.09,2, -999.000,9,     1.41,2, -999.000,9, -999.000,9, -999.000,9,   2142.2,2,   2279.9,2
           NA,     P15,     31,   1,      14,   12041,  2,20090214,0728, -38.4202, -171.6523,  4923,    618.4,     7.36,   34.437,2,  34.4306,2,    228.8,2,    229.2,2,     9.01,2,    22.53,2, -999.000,9,     1.49,2, -999.000,9, -999.000,9, -999.000,9,   -999.0,9,   2281.2,2
           NA,     P15,     31,   1,      13,   12012,  2,20090214,0728, -38.4202, -171.6523,  4923,    805.4,     6.65,   34.422,2,  34.4347,2,    211.1,2,    210.8,2,    15.43,2,    25.12,2, -999.000,9,     1.65,2, -999.000,9, -999.000,9, -999.000,9,   2160.5,2,   2284.7,2
           NA,     P15,     31,   1,      12,   12022,  2,20090214,0728, -38.4202, -171.6523,  4923,   1030.0,     5.20,   34.386,2,  34.3817,2,    195.1,2,    197.0,2,    29.59,2,    29.43,2, -999.000,9,     1.96,2,    0.992,2,    0.479,2, -999.000,9,   2187.7,6,   2295.8,6
           NA,     P15,     31,   1,      11,   12016,  2,20090214,0728, -38.4202, -171.6523,  4923,   1229.7,     4.18,   34.433,2,  34.4365,2,    179.1,2,    180.7,2,    49.64,2,    31.77,2, -999.000,9,     2.15,2, -999.000,9, -999.000,9, -999.000,9,   2219.9,2,   2315.0,2
           NA,     P15,     31,   1,      10,   12019,  2,20090214,0728, -38.4202, -171.6523,  4923,   1430.4,     3.38,   34.493,2,  34.4928,2,    167.5,2,    168.6,2,    68.21,2,    33.48,2, -999.000,9,     2.28,2, -999.000,9, -999.000,9, -999.000,9,   2245.2,2,   2334.3,2
           NA,     P15,     31,   1,       9,   12031,  2,20090214,0728, -38.4202, -171.6523,  4923,   1614.8,     2.94,   34.556,2,  34.5565,2,    158.9,2,    160.4,2,    85.79,2,    34.00,2, -999.000,9,     2.34,2, -999.000,9, -999.000,9, -999.000,9,   2267.4,2,   2354.7,2
           NA,     P15,     31,   1,       8,   12021,  2,20090214,0728, -38.4202, -171.6523,  4923,   1797.6,     2.62,   34.588,2,  34.5848,2,    153.5,2,    154.8,2,    96.31,2,    34.85,2, -999.000,9,     2.38,2,    0.030,6,    0.009,6, -999.000,9,   2280.1,2,   2365.8,2
           NA,     P15,     31,   1,       7,   12032,  2,20090214,0728, -38.4202, -171.6523,  4923,   2065.9,     2.40,   34.616,2,  34.6164,2,    150.1,2,    150.5,2,   107.68,2,    35.37,2, -999.000,9,     2.42,2, -999.000,9, -999.000,9, -999.000,9,   2292.0,2,   2377.1,2
           NA,     P15,     31,   1,       6,   12007,  2,20090214,0728, -38.4202, -171.6523,  4923,   2335.5,     2.24,   34.635,2,  34.6337,2,    149.2,2,    149.9,2,   114.53,2,    35.45,2, -999.000,9,     2.45,2, -999.000,9, -999.000,9, -999.000,9,   2299.8,2,   2385.0,6
           NA,     P15,     31,   1,       5,   12055,  2,20090214,0728, -38.4202, -171.6523,  4923,   2831.0,     1.95,   34.671,2,  34.6702,2,    158.3,2,    157.4,2,   118.22,2,    34.71,2, -999.000,9,     2.38,2,    0.015,2,    0.006,2, -999.000,9,   2299.8,2,   2388.6,2
           NA,     P15,     31,   1,       4,   12009,  2,20090214,0728, -38.4202, -171.6523,  4923,   3331.4,     1.68,   34.724,2,-999.0000,9,    190.5,2,    190.3,2,   103.55,2,    31.68,2, -999.000,9,     2.16,2, -999.000,9, -999.000,9, -999.000,9,   2261.1,2,   2358.3,2
           NA,     P15,     31,   1,       3,   12033,  2,20090214,0728, -38.4202, -171.6523,  4923,   3830.6,     1.28,   34.721,2,  34.7207,2,    202.3,2,    202.0,2,   113.00,2,    31.40,2, -999.000,9,     2.15,2,    0.112,2,    0.039,2, -999.000,9,   2258.6,2,   2359.8,2
           NA,     P15,     31,   1,       2,   12006,  2,20090214,0728, -38.4202, -171.6523,  4923,   4411.3,     1.01,   34.709,2,  34.7087,2,    207.5,2,    206.5,2,   120.79,2,    32.05,2, -999.000,9,     2.18,2, -999.000,9, -999.000,9, -999.000,9,   2262.7,2,   2360.6,2
           NA,     P15,     31,   1,       1,   12045,  2,20090214,0728, -38.4202, -171.6523,  4923,   5019.2,     1.00,   34.706,2,  34.7056,2,    209.4,2,    207.8,2,   123.47,2,    32.02,2, -999.000,9,     2.18,2,    0.214,2,    0.082,2, -999.000,9,   2262.0,6,   2364.5,6