BOTTLE,20214902JOAExport
EXPOCODE,SECT_ID,STNNBR,CASTNO,SAMPNO,BTLNBR,BTLNBR_FLAG_W,DATE,TIME,LATITUDE,LONGITUDE,DEPTH,CTDPRS,CTDTMP,CTDSAL,CTDSAL_FLAG_W,SALNTY,SALNTY_FLAG_W,CTDOXY,CTDOXY_FLAG_W,OXYGEN,OXYGEN_FLAG_W,SILCAT,SILCAT_FLAG_W,NITRAT,NITRAT_FLAG_W,NITRIT,NITRIT_FLAG_W,PHSPHT,PHSPHT_FLAG_W,CFC-11,CFC-11_FLAG_W,CFC-12,CFC-12_FLAG_W,SF6,SF6_FLAG_W,TCARBN,TCARBN_FLAG_W,ALKALI,ALKALI_FLAG_W
,,,,,,,,,,,,DB,ITS-90,PSS-78,,PSS-78,,UMOL/KG,,UMOL/KG,,UMOL/KG,,UMOL/KG,,UMOL/KG,,UMOL/KG,,PMOL/KG,,PMOL/KG,,FMOL/KG,,UMOL/KG,,UMOL/KG
           NA,     P15,     54,   1,      24,   12015,  2,20090220,2334, -27.4980, -169.9825,  5379,      3.3,    25.96,   35.242,2,  35.2461,2,    204.6,2,    204.8,2,  -999.00,9,  -999.00,9, -999.000,9,  -999.00,9, -999.000,9, -999.000,9, -999.000,9,   1986.4,2,   2304.0,2
           NA,     P15,     54,   1,      23,   12046,  2,20090220,2334, -27.4980, -169.9825,  5379,     37.4,    24.66,   35.492,2,  35.4805,2,    217.3,2,    216.8,2,     0.80,2,     0.05,2, -999.000,9,     0.01,2, -999.000,9, -999.000,9, -999.000,9,   -999.0,9,   -999.0,9
           NA,     P15,     54,   1,      22,   12020,  2,20090220,2334, -27.4980, -169.9825,  5379,     63.7,    19.72,   35.591,2,  35.5886,2,    230.9,2,    231.5,2,     0.89,2,     0.06,2, -999.000,9,     0.04,2, -999.000,9, -999.000,9, -999.000,9,   2034.4,2,   2329.4,2
           NA,     P15,     54,   1,      21,   12003,  2,20090220,2334, -27.4980, -169.9825,  5379,     87.1,    18.54,   35.594,2,  35.5926,2,    225.0,2,    223.8,2,     0.96,2,     0.07,2, -999.000,9,     0.09,2, -999.000,9, -999.000,9, -999.000,9,   2051.7,2,   2328.4,2
           NA,     P15,     54,   1,      20,   12051,  2,20090220,2334, -27.4980, -169.9825,  5379,    136.3,    17.32,   35.563,2,  35.5602,2,    205.6,2,    205.3,2,     1.36,2,     3.24,2, -999.000,9,     0.28,2, -999.000,9, -999.000,9, -999.000,9,   -999.0,9,   -999.0,9
           NA,     P15,     54,   1,      19,   12010,  2,20090220,2334, -27.4980, -169.9825,  5379,    217.4,    15.50,   35.384,2,  35.3800,2,    202.7,2,    202.5,2,     1.99,2,     5.84,2, -999.000,9,     0.47,2, -999.000,9, -999.000,9, -999.000,9,   2095.0,2,   2316.6,2
           NA,     P15,     54,   1,      18,   12018,  2,20090220,2334, -27.4980, -169.9825,  5379,    292.2,    13.64,   35.165,2,  35.1644,2,    198.1,2,    197.5,2,     2.98,2,     9.66,2, -999.000,9,     0.70,2, -999.000,9, -999.000,9, -999.000,9,   -999.0,9,   -999.0,9
           NA,     P15,     54,   1,      17,   12024,  2,20090220,2334, -27.4980, -169.9825,  5379,    368.7,    11.62,   34.928,2,  34.9256,2,    204.0,2,    204.0,2,     3.99,2,    13.28,2, -999.000,9,     0.94,2, -999.000,9, -999.000,9, -999.000,9,   -999.0,9,   -999.0,9
           NA,     P15,     54,   1,      16,   12001,  2,20090220,2334, -27.4980, -169.9825,  5379,    442.1,    10.12,   34.733,2,  34.7302,2,    207.2,2,    207.3,2,     4.91,2,    16.27,2, -999.000,9,     1.13,2, -999.000,9, -999.000,9, -999.000,9,   -999.0,9,   -999.0,9
           NA,     P15,     54,   1,      15,   12025,  2,20090220,2334, -27.4980, -169.9825,  5379,    522.1,     8.58,   34.551,2,  34.5498,2,    217.5,2,    218.3,2,     5.85,2,    19.20,2, -999.000,9,     1.31,2, -999.000,9, -999.000,9, -999.000,9,   -999.0,9,   -999.0,9
           NA,     P15,     54,   1,      14,   12041,  2,20090220,2334, -27.4980, -169.9825,  5379,    646.6,     7.14,   34.405,2,  34.4021,2,    229.7,2,    231.6,2,     7.80,2,    22.35,2, -999.000,9,     1.51,2, -999.000,9, -999.000,9, -999.000,9,   -999.0,9,   -999.0,9
           NA,     P15,     54,   1,      13,   12012,  2,20090220,2334, -27.4980, -169.9825,  5379,    798.7,     6.06,   34.340,2,  34.3399,2,    222.4,2,    224.9,2,    13.15,2,    25.73,2, -999.000,9,     1.72,2, -999.000,9, -999.000,9, -999.000,9,   -999.0,9,   -999.0,9
           NA,     P15,     54,   1,      12,   12022,  2,20090220,2334, -27.4980, -169.9825,  5379,    937.6,     5.18,   34.323,2,  34.3217,2,    205.7,2,    209.4,2,    22.70,2,    28.81,2, -999.000,9,     1.94,2, -999.000,9, -999.000,9, -999.000,9,   -999.0,9,   -999.0,9
           NA,     P15,     54,   1,      11,   12016,  2,20090220,2334, -27.4980, -169.9825,  5379,   1228.8,     3.61,   34.417,2,  34.4179,2,    172.6,2,    175.9,2,    53.80,2,    33.84,2, -999.000,9,     2.30,2, -999.000,9, -999.000,9, -999.000,9,   -999.0,9,   -999.0,9
           NA,     P15,     54,   1,      10,   12019,  2,20090220,2334, -27.4980, -169.9825,  5379,   1489.1,     2.81,   34.532,2,  34.5303,2,    158.3,2,    161.4,2,    80.60,2,    34.87,2, -999.000,9,     2.38,2, -999.000,9, -999.000,9, -999.000,9,   -999.0,9,   -999.0,9
           NA,     P15,     54,   1,       9,   12031,  2,20090220,2334, -27.4980, -169.9825,  5379,   1797.6,     2.37,   34.609,2,  34.6081,2,    147.1,2,    152.5,2,   106.43,2,    35.77,2, -999.000,9,     2.48,2, -999.000,9, -999.000,9, -999.000,9,   -999.0,9,   -999.0,9
           NA,     P15,     54,   1,       8,   12021,  2,20090220,2334, -27.4980, -169.9825,  5379,   2246.3,     2.08,   34.642,2,  34.6411,2,    143.1,2,    145.4,2,   120.79,2,    36.16,2, -999.000,9,     2.51,2, -999.000,9, -999.000,9, -999.000,9,   -999.0,9,   -999.0,9
           NA,     P15,     54,   1,       7,   12032,  2,20090220,2334, -27.4980, -169.9825,  5379,   2664.2,     1.91,   34.658,2,  34.6570,2,    144.5,2,    146.1,2,   127.92,2,    35.97,2, -999.000,9,     2.50,2, -999.000,9, -999.000,9, -999.000,9,   -999.0,9,   -999.0,9
           NA,     P15,     54,   1,       6,   12007,  2,20090220,2334, -27.4980, -169.9825,  5379,   3163.7,     1.72,   34.675,2,  34.6745,2,    152.3,2,    153.6,2,   131.22,2,    35.75,2, -999.000,9,     2.47,2, -999.000,9, -999.000,9, -999.000,9,   -999.0,9,   -999.0,9
           NA,     P15,     54,   1,       5,   12002,  2,20090220,2334, -27.4980, -169.9825,  5379,   3665.9,     1.52,   34.711,2,  34.7083,2,    184.7,2,    185.4,2,   113.55,2,    32.79,2, -999.000,9,     2.26,2, -999.000,9, -999.000,9, -999.000,9,   -999.0,9,   -999.0,9
           NA,     P15,     54,   1,       4,   12008,  2,20090220,2334, -27.4980, -169.9825,  5379,   4162.9,     1.24,   34.716,2,  34.7144,2,    200.1,2,    201.1,2,   113.88,2,    31.91,2, -999.000,9,     2.21,2, -999.000,9, -999.000,9, -999.000,9,   -999.0,9,   -999.0,9
           NA,     P15,     54,   1,       3,   12033,  2,20090220,2334, -27.4980, -169.9825,  5379,   4663.9,     1.05,   34.710,2,  34.7091,2,    205.7,2,    205.7,2,   120.39,2,    32.35,2, -999.000,9,     2.21,2, -999.000,9, -999.000,9, -999.000,9,   -999.0,9,   -999.0,9
           NA,     P15,     54,   1,       2,   12006,  2,20090220,2334, -27.4980, -169.9825,  5379,   5163.7,     1.06,   34.708,2,  34.7054,2,    206.8,2,    206.6,2,   120.96,2,    32.24,2, -999.000,9,     2.21,2, -999.000,9, -999.000,9, -999.000,9,   -999.0,9,   -999.0,9
           NA,     P15,     54,   1,       1,   12045,  2,20090220,2334, -27.4980, -169.9825,  5379,   5509.8,     1.10,   34.707,2,  34.7058,2,    207.3,2,    206.1,2,   121.59,2,    32.16,2, -999.000,9,     2.21,2, -999.000,9, -999.000,9, -999.000,9,   -999.0,9,   -999.0,9
           NA,     P15,     55,   1,      24,   12015,  2,20090221,0642, -26.9946, -169.9871,  5170,      2.8,    26.05,   35.228,2,  35.2284,2,    205.1,2,    204.9,2,     0.90,2,     0.05,2, -999.000,9,     0.00,2,    1.783,2,    1.091,2, -999.000,9,   1988.0,6,   2305.2,6
           NA,     P15,     55,   1,      23,   12046,  2,20090221,0642, -26.9946, -169.9871,  5170,     22.2,    26.12,   35.221,2,  35.2337,2,    204.1,2,    204.7,2,     0.89,2,     0.07,2, -999.000,9,     0.01,2,    1.772,2,    1.082,2, -999.000,9,   1988.4,2,   2303.8,2
           NA,     P15,     55,   1,      22,   12020,  2,20090221,0642, -26.9946, -169.9871,  5170,     57.2,    20.64,   35.570,2,  35.5734,2,    241.4,2,    241.2,2,     0.91,2,     0.06,2, -999.000,9,     0.02,2, -999.000,9, -999.000,9, -999.000,9,   2026.8,2,   2327.0,2
           NA,     P15,     55,   1,      21,   12003,  2,20090221,0642, -26.9946, -169.9871,  5170,     97.2,    18.49,   35.594,2,  35.5924,2,    222.1,2,    220.9,2,     1.06,2,     0.37,2, -999.000,9,     0.11,2,    2.480,2,    1.438,2, -999.000,9,   2054.4,2,   2329.1,2
           NA,     P15,     55,   1,      20,   12051,  2,20090221,0642, -26.9946, -169.9871,  5170,    146.9,    17.14,   35.545,2,  35.5482,2,    203.5,2,    203.1,2,     1.56,2,     3.96,2, -999.000,9,     0.32,2, -999.000,9, -999.000,9, -999.000,9,   2079.3,2,   2327.7,2
           NA,     P15,     55,   1,      19,   12010,  2,20090221,0642, -26.9946, -169.9871,  5170,    223.1,    15.67,   35.421,2,  35.4156,2,    208.5,2,    209.7,2,     1.95,2,     4.97,2, -999.000,9,     0.40,2, -999.000,9, -999.000,9, -999.000,9,   2088.2,2,   2318.7,2
           NA,     P15,     55,   1,      18,   12018,  2,20090221,0642, -26.9946, -169.9871,  5170,    242.2,    15.04,   35.338,2,  35.3350,2,    200.9,2,    203.0,2,     2.33,2,     6.81,2, -999.000,9,     0.53,2,    2.791,6,    1.535,6, -999.000,9,   2098.6,2,   2315.7,2
           NA,     P15,     55,   1,      17,   12024,  2,20090221,0642, -26.9946, -169.9871,  5170,    296.9,    13.35,   35.111,2,  35.0998,2,    196.5,2,    197.5,2,     3.30,2,    10.74,2, -999.000,9,     0.77,2,    2.840,2,    1.516,2, -999.000,9,   2114.6,2,   2303.8,2
           NA,     P15,     55,   1,      16,   12001,  2,20090221,0642, -26.9946, -169.9871,  5170,    387.4,    10.90,   34.822,2,  34.8289,2,    204.4,2,    205.3,2,     4.37,2,    14.70,2, -999.000,9,     1.03,2, -999.000,9, -999.000,9, -999.000,9,   2127.1,2,   2288.2,6
           NA,     P15,     55,   1,      15,   12025,  2,20090221,0642, -26.9946, -169.9871,  5170,    449.6,     9.39,   34.636,2,  34.6435,2,    211.1,2,    212.4,2,     5.25,2,    17.63,2, -999.000,9,     1.20,2, -999.000,9, -999.000,9, -999.000,9,   2135.1,2,   2285.1,2
           NA,     P15,     55,   1,      14,   12041,  2,20090221,0642, -26.9946, -169.9871,  5170,    547.0,     7.70,   34.453,2,  34.4534,2,    226.3,2,    228.8,2,     6.63,2,    21.07,2, -999.000,9,     1.42,2,    3.253,2,    1.555,2, -999.000,9,   2139.7,2,   2279.8,2
           NA,     P15,     55,   1,      13,   12012,  2,20090221,0642, -26.9946, -169.9871,  5170,    697.0,     6.75,   34.376,2,  34.3743,2,    228.5,2,    232.2,2,     9.14,2,    23.63,2, -999.000,9,     1.57,2,    2.434,2,    1.162,2, -999.000,9,   2144.5,2,   2277.2,2
           NA,     P15,     55,   1,      12,   12022,  2,20090221,0642, -26.9946, -169.9871,  5170,    814.7,     5.99,   34.333,2,  34.3335,2,    220.6,2,    225.8,2,    13.64,2,    26.12,2, -999.000,9,     1.74,2, -999.000,9, -999.000,9, -999.000,9,   2155.4,6,   2276.9,6
           NA,     P15,     55,   1,      11,   12016,  2,20090221,0642, -26.9946, -169.9871,  5170,   1055.3,     4.43,   34.349,2,  34.3496,2,    188.7,2,    192.3,2,    35.32,2,    31.75,2, -999.000,9,     2.13,2,    0.320,2,    0.167,2, -999.000,9,   2200.2,2,   2296.8,2
           NA,     P15,     55,   1,      10,   12019,  2,20090221,0642, -26.9946, -169.9871,  5170,   1296.5,     3.24,   34.462,2,  34.4656,2,    166.7,2,    170.4,2,    64.70,2,  -999.00,9, -999.000,9,     2.33,2, -999.000,9, -999.000,9, -999.000,9,   2243.3,2,   2325.6,2
           NA,     P15,     55,   1,       9,   12031,  2,20090221,0642, -26.9946, -169.9871,  5170,   1565.3,     2.63,   34.566,2,  34.5655,2,    153.9,2,    157.3,2,    91.19,2,  -999.00,9, -999.000,9,     2.41,2,    0.006,2,    0.002,2, -999.000,9,   2274.7,2,   2354.6,2
           NA,     P15,     55,   1,       8,   12021,  2,20090221,0642, -26.9946, -169.9871,  5170,   1829.6,     2.34,   34.615,2,  34.6150,2,    146.1,2,    149.0,2,   109.31,2,    35.94,2, -999.000,9,     2.47,2, -999.000,9, -999.000,9, -999.000,9,   2296.6,2,   2377.4,2
           NA,     P15,     55,   1,       7,   12032,  2,20090221,0642, -26.9946, -169.9871,  5170,   2329.0,     2.05,   34.646,2,  34.6484,2,    143.6,2,    145.8,2,   123.13,2,    36.32,2, -999.000,9,     2.50,2,    0.005,2,    0.000,2, -999.000,9,   2311.6,2,   2395.7,2
           NA,     P15,     55,   1,       6,   12007,  2,20090221,0642, -26.9946, -169.9871,  5170,   2830.2,     1.81,   34.666,2,  34.6657,2,    146.4,2,    148.4,2,   131.69,2,  -999.00,9, -999.000,9,     2.50,2,    0.002,6,    0.000,6, -999.000,9,   2317.6,2,   2396.5,6
           NA,     P15,     55,   1,       5,   12002,  2,20090221,0642, -26.9946, -169.9871,  5170,   3329.9,     1.60,   34.692,2,  34.6918,2,    166.9,2,    168.0,2,   124.91,2,  -999.00,9, -999.000,9,     2.37,2,    0.005,2,    0.001,2, -999.000,9,   2296.7,2,   2389.2,2
           NA,     P15,     55,   1,       3,   12033,  2,20090221,0642, -26.9946, -169.9871,  5170,   4329.1,     1.08,   34.712,2,  34.7119,2,    203.9,2,    204.9,2,   118.18,2,    32.04,2, -999.000,9,     2.20,2,    0.041,2,    0.018,2, -999.000,9,   2263.2,2,   2360.7,2
           NA,     P15,     55,   1,       2,   12006,  2,20090221,0642, -26.9946, -169.9871,  5170,   4913.9,     1.03,   34.708,2,  34.7081,2,    205.9,2,    206.7,2,   121.62,2,    32.08,2, -999.000,9,     2.21,2,    0.053,2,    0.023,2, -999.000,9,   2263.3,2,   2356.9,2
           NA,     P15,     55,   1,       1,   12045,  2,20090221,0642, -26.9946, -169.9871,  5170,   5263.2,     1.07,   34.708,2,  34.7081,2,    206.5,2,    206.7,2,   121.79,2,    32.13,2, -999.000,9,     2.20,2,    0.060,2,    0.028,2, -999.000,9,   2263.5,6,   2358.0,6