BOTTLE,20214902JOAExport
EXPOCODE,SECT_ID,STNNBR,CASTNO,SAMPNO,BTLNBR,BTLNBR_FLAG_W,DATE,TIME,LATITUDE,LONGITUDE,DEPTH,CTDPRS,CTDTMP,CTDSAL,CTDSAL_FLAG_W,SALNTY,SALNTY_FLAG_W,CTDOXY,CTDOXY_FLAG_W,OXYGEN,OXYGEN_FLAG_W,SILCAT,SILCAT_FLAG_W,NITRAT,NITRAT_FLAG_W,NITRIT,NITRIT_FLAG_W,PHSPHT,PHSPHT_FLAG_W,CFC-11,CFC-11_FLAG_W,CFC-12,CFC-12_FLAG_W,SF6,SF6_FLAG_W,TCARBN,TCARBN_FLAG_W,ALKALI,ALKALI_FLAG_W
,,,,,,,,,,,,DB,ITS-90,PSS-78,,PSS-78,,UMOL/KG,,UMOL/KG,,UMOL/KG,,UMOL/KG,,UMOL/KG,,UMOL/KG,,PMOL/KG,,PMOL/KG,,FMOL/KG,,UMOL/KG,,UMOL/KG
           NA,     P15,     56,   1,      24,   12015,  2,20090221,1350, -26.4898, -169.9918,  5598,      2.7,    25.56,   35.435,2,  35.4318,2,    206.4,2,    206.8,2,     0.88,2,     0.07,2, -999.000,9,     0.00,2, -999.000,9, -999.000,9, -999.000,9,   2005.4,2,   2313.9,2
           NA,     P15,     56,   1,      23,   12046,  2,20090221,1350, -26.4898, -169.9918,  5598,     17.2,    25.57,   35.440,2,  35.4411,2,    206.7,2,    207.1,2,     0.87,2,     0.09,2, -999.000,9,     0.00,2, -999.000,9, -999.000,9, -999.000,9,   -999.0,9,   -999.0,9
           NA,     P15,     56,   1,      22,   12020,  2,20090221,1350, -26.4898, -169.9918,  5598,     48.2,    22.60,   35.507,2,  35.5058,2,    234.7,2,    234.4,2,     0.89,2,     0.08,2, -999.000,9,     0.01,2, -999.000,9, -999.000,9, -999.000,9,   2009.6,2,   2320.2,2
           NA,     P15,     56,   1,      21,   12003,  2,20090221,1350, -26.4898, -169.9918,  5598,     88.1,    19.21,   35.589,2,  35.5898,2,    234.2,2,    235.1,2,     0.96,2,     0.09,2, -999.000,9,     0.05,2, -999.000,9, -999.000,9, -999.000,9,   2037.8,2,   2324.9,2
           NA,     P15,     56,   1,      20,   12051,  2,20090221,1350, -26.4898, -169.9918,  5598,    128.1,    17.57,   35.572,2,  35.5699,2,    205.7,2,    206.0,2,     1.34,2,  -999.00,9, -999.000,9,     0.26,2, -999.000,9, -999.000,9, -999.000,9,   2073.5,2,   2320.5,2
           NA,     P15,     56,   1,      19,   12010,  2,20090221,1350, -26.4898, -169.9918,  5598,    193.5,    16.27,   35.476,2,  35.4752,2,    202.6,2,    202.6,2,     1.84,2,     5.05,2, -999.000,9,     0.40,2, -999.000,9, -999.000,9, -999.000,9,   -999.0,9,   -999.0,9
           NA,     P15,     56,   1,      18,   12018,  2,20090221,1350, -26.4898, -169.9918,  5598,    267.9,    14.65,   35.300,2,  35.2962,2,    198.7,2,    199.2,2,     2.55,2,     7.83,2, -999.000,9,     0.59,2, -999.000,9, -999.000,9, -999.000,9,   2103.8,2,   2305.2,2
           NA,     P15,     56,   1,      17,   12024,  2,20090221,1350, -26.4898, -169.9918,  5598,    343.2,    12.79,   35.084,2,  35.0823,2,    202.2,2,    202.8,2,     3.43,2,    11.04,2, -999.000,9,     0.78,2, -999.000,9, -999.000,9, -999.000,9,   -999.0,9,   -999.0,9
           NA,     P15,     56,   1,      16,   12001,  2,20090221,1350, -26.4898, -169.9918,  5598,    419.5,    10.08,   34.715,2,  34.7111,2,    206.9,2,    207.3,2,     4.91,2,    16.56,2, -999.000,9,     1.14,2, -999.000,9, -999.000,9, -999.000,9,   -999.0,9,   -999.0,9
           NA,     P15,     56,   1,      15,   12025,  2,20090221,1350, -26.4898, -169.9918,  5598,    492.5,     8.42,   34.527,2,  34.5266,2,    218.4,2,    219.5,2,     5.91,2,    19.64,2, -999.000,9,     1.33,2, -999.000,9, -999.000,9, -999.000,9,   -999.0,9,   -999.0,9
           NA,     P15,     56,   1,      14,   12041,  2,20090221,1350, -26.4898, -169.9918,  5598,    597.5,     7.34,   34.421,2,  34.4202,2,    228.2,2,    230.4,2,     7.21,2,    21.97,2, -999.000,9,     1.47,2, -999.000,9, -999.000,9, -999.000,9,   -999.0,9,   -999.0,9
           NA,     P15,     56,   1,      13,   12012,  2,20090221,1350, -26.4898, -169.9918,  5598,    698.0,     6.54,   34.362,2,  34.3605,2,    227.2,2,    230.1,2,    10.13,2,    24.27,2, -999.000,9,     1.61,2, -999.000,9, -999.000,9, -999.000,9,   -999.0,9,   -999.0,9
           NA,     P15,     56,   1,      12,   12022,  2,20090221,1350, -26.4898, -169.9918,  5598,    897.2,     5.39,   34.321,2,  34.3209,2,    208.9,2,    212.3,2,    20.20,2,  -999.00,9, -999.000,9,     1.89,2, -999.000,9, -999.000,9, -999.000,9,   -999.0,9,   -999.0,9
           NA,     P15,     56,   1,      11,   12016,  2,20090221,1350, -26.4898, -169.9918,  5598,   1145.9,     3.83,   34.390,2,  34.3892,2,    177.6,2,    181.4,2,    47.16,2,    33.31,2, -999.000,9,     2.24,2, -999.000,9, -999.000,9, -999.000,9,   -999.0,9,   -999.0,9
           NA,     P15,     56,   1,      10,   12019,  2,20090221,1350, -26.4898, -169.9918,  5598,   1398.4,     2.96,   34.513,2,  34.5133,2,    159.2,2,    162.5,2,    76.98,2,    34.93,2, -999.000,9,     2.38,2, -999.000,9, -999.000,9, -999.000,9,   -999.0,9,   -999.0,9
           NA,     P15,     56,   1,       9,   12031,  2,20090221,1350, -26.4898, -169.9918,  5598,   1698.6,     2.48,   34.600,2,  34.5993,2,    147.1,2,    150.4,2,   103.09,2,    35.72,2, -999.000,9,     2.45,2, -999.000,9, -999.000,9, -999.000,9,   -999.0,9,   -999.0,9
           NA,     P15,     56,   1,       8,   12021,  2,20090221,1350, -26.4898, -169.9918,  5598,   1997.9,     2.26,   34.625,2,  34.6250,2,    144.1,2,    147.4,2,   113.96,2,  -999.00,9, -999.000,9,     2.49,2, -999.000,9, -999.000,9, -999.000,9,   -999.0,9,   -999.0,9
           NA,     P15,     56,   1,       7,   12032,  2,20090221,1350, -26.4898, -169.9918,  5598,   2396.9,     2.04,   34.647,2,  34.6464,2,    143.6,2,    145.9,2,   123.83,2,    36.15,2, -999.000,9,     2.49,2, -999.000,9, -999.000,9, -999.000,9,   -999.0,9,   -999.0,9
           NA,     P15,     56,   1,       6,   12007,  2,20090221,1350, -26.4898, -169.9918,  5598,   2999.5,     1.75,   34.676,2,  34.6755,2,    153.6,2,    155.0,2,   128.20,2,    35.51,2, -999.000,9,     2.44,2, -999.000,9, -999.000,9, -999.000,9,   -999.0,9,   -999.0,9
           NA,     P15,     56,   1,       5,   12002,  2,20090221,1350, -26.4898, -169.9918,  5598,   3496.0,     1.52,   34.713,2,  34.7115,2,    184.8,2,    186.4,2,   112.93,2,    32.77,2, -999.000,9,     2.24,2, -999.000,9, -999.000,9, -999.000,9,   -999.0,9,   -999.0,9
           NA,     P15,     56,   1,       4,   12008,  2,20090221,1350, -26.4898, -169.9918,  5598,   3997.7,     1.21,   34.716,2,  34.7156,2,    199.9,2,    202.3,2,   114.24,2,    32.17,2, -999.000,9,     2.18,2, -999.000,9, -999.000,9, -999.000,9,   -999.0,9,   -999.0,9
           NA,     P15,     56,   1,       3,   12033,  2,20090221,1350, -26.4898, -169.9918,  5598,   4495.6,     1.05,   34.710,2,  34.7117,2,    205.1,2,    205.6,2,   119.42,2,    32.25,2, -999.000,9,     2.19,2, -999.000,9, -999.000,9, -999.000,9,   -999.0,9,   -999.0,9
           NA,     P15,     56,   1,       2,   12006,  2,20090221,1350, -26.4898, -169.9918,  5598,   4997.1,     1.04,   34.708,2,  34.7081,2,    206.8,2,    206.5,2,   121.46,2,  -999.00,9, -999.000,9,     2.21,2, -999.000,9, -999.000,9, -999.000,9,   -999.0,9,   -999.0,9
           NA,     P15,     56,   1,       1,   12045,  2,20090221,1350, -26.4898, -169.9918,  5598,   5725.1,     1.13,   34.707,2,  34.7079,2,    207.8,2,    205.8,2,   121.58,2,  -999.00,9, -999.000,9,     2.21,2, -999.000,9, -999.000,9, -999.000,9,   -999.0,9,   -999.0,9
           NA,     P15,     57,   1,      24,   12015,  2,20090221,2105, -26.0005, -169.9863,  5575,      1.8,    26.13,   35.080,2,  35.0795,2,    205.6,2,    205.1,2,     0.79,2,     0.00,2, -999.000,9,     0.00,2,    1.787,2,    1.092,2, -999.000,9,   1967.8,6,   2297.1,6
           NA,     P15,     57,   1,      23,   12046,  2,20090221,2105, -26.0005, -169.9863,  5575,     36.9,    24.33,   35.455,2,  35.4851,2,    220.2,2,    222.4,2,     0.83,2,     0.00,2, -999.000,9,     0.00,2,    2.055,2,    1.236,2, -999.000,9,   2010.1,2,   2322.0,2
           NA,     P15,     57,   1,      22,   12020,  2,20090221,2105, -26.0005, -169.9863,  5575,     66.7,    20.19,   35.582,2,  35.5833,2,    239.1,2,    239.8,2,     0.87,2,     0.00,2, -999.000,9,     0.03,2,    2.413,6,    1.428,6, -999.000,9,   2026.5,2,   2326.2,2
           NA,     P15,     57,   1,      21,   12003,  2,20090221,2105, -26.0005, -169.9863,  5575,     87.9,    19.34,   35.593,2,  35.5932,2,    238.9,2,    239.5,2,     0.91,2,     0.00,2, -999.000,9,     0.05,2,    2.478,2,    1.455,2, -999.000,9,   2035.2,2,   2332.2,2
           NA,     P15,     57,   1,      20,   12051,  2,20090221,2105, -26.0005, -169.9863,  5575,    135.1,    17.42,   35.564,2,  35.5616,2,    214.4,2,    214.6,2,     1.18,2,     1.38,2, -999.000,9,     0.19,2,    2.587,2,    1.520,2, -999.000,9,   2070.0,2,   2329.8,2
           NA,     P15,     57,   1,      19,   12010,  2,20090221,2105, -26.0005, -169.9863,  5575,    217.2,    15.95,   35.451,2,  35.4580,2,    206.1,2,    206.0,2,     1.85,2,     5.09,2, -999.000,9,     0.40,2,    2.682,2,    1.535,2, -999.000,9,   2087.5,2,   2321.4,2
           NA,     P15,     57,   1,      18,   12018,  2,20090221,2105, -26.0005, -169.9863,  5575,    316.4,    12.94,   35.049,2,  35.0502,2,    196.3,2,    196.6,2,     3.29,2,    11.18,2, -999.000,9,     0.80,2,    2.853,2,    1.515,2, -999.000,9,   2114.4,2,   2301.9,2
           NA,     P15,     57,   1,      17,   12024,  2,20090221,2105, -26.0005, -169.9863,  5575,    367.5,    11.68,   34.910,2,  34.8985,2,    201.6,2,    202.4,2,     3.96,2,    13.39,2, -999.000,9,     0.94,2,    3.015,2,    1.576,2, -999.000,9,   2123.9,2,   2293.9,2
           NA,     P15,     57,   1,      16,   12001,  2,20090221,2105, -26.0005, -169.9863,  5575,    440.5,     9.51,   34.646,2,  34.6451,2,    209.2,2,    209.2,2,     5.22,2,    17.41,2, -999.000,9,     1.19,2,    3.098,2,    1.559,2, -999.000,9,   2132.8,2,   2284.5,2
           NA,     P15,     57,   1,      15,   12025,  2,20090221,2105, -26.0005, -169.9863,  5575,    522.0,     8.06,   34.487,2,  34.4834,2,    221.6,2,    223.7,2,     6.22,2,    20.29,2, -999.000,9,     1.35,2, -999.000,9, -999.000,9, -999.000,9,   2138.8,2,   2279.0,2
           NA,     P15,     57,   1,      14,   12041,  2,20090221,2105, -26.0005, -169.9863,  5575,    698.4,     6.65,   34.369,2,  34.3680,2,    228.4,2,    231.1,2,     9.43,2,    23.50,2, -999.000,9,     1.55,2,    2.358,2,    1.119,2, -999.000,9,   2145.4,2,   2279.0,2
           NA,     P15,     57,   1,      13,   12012,  2,20090221,2105, -26.0005, -169.9863,  5575,    798.1,     5.95,   34.334,2,  34.3331,2,    219.6,2,    222.2,2,    14.18,2,    26.06,2, -999.000,9,     1.72,2,    1.391,2,    0.684,2, -999.000,9,   2156.6,2,   2278.9,6
           NA,     P15,     57,   1,      12,   12022,  2,20090221,2105, -26.0005, -169.9863,  5575,    965.9,     4.83,   34.332,2,  34.3344,2,    197.1,2,    200.5,2,    27.98,2,    30.00,2, -999.000,9,     2.00,2,    0.525,2,    0.257,2, -999.000,9,   2187.1,6,   2293.4,6
           NA,     P15,     57,   1,      11,   12016,  2,20090221,2105, -26.0005, -169.9863,  5575,   1228.2,     3.45,   34.435,2,  34.4347,2,    170.1,2,    173.5,2,    58.12,2,    33.79,2, -999.000,9,     2.29,2,    0.062,2,    0.032,2, -999.000,9,   2233.0,2,   2320.7,2
           NA,     P15,     57,   1,      10,   12019,  2,20090221,2105, -26.0005, -169.9863,  5575,   1489.8,     2.78,   34.549,2,  34.5502,2,    154.6,2,    157.8,2,    87.07,2,    35.19,2, -999.000,9,     2.43,2,    0.013,2,    0.005,2, -999.000,9,   2269.6,2,   2352.4,2
           NA,     P15,     57,   1,       9,   12031,  2,20090221,2105, -26.0005, -169.9863,  5575,   1798.3,     2.44,   34.608,2,  34.6142,2,    145.1,2,    148.0,2,   107.90,2,    35.69,2, -999.000,9,     2.51,2,    0.006,6,    0.001,6, -999.000,9,   2290.9,2,   2378.5,2
           NA,     P15,     57,   1,       8,   12021,  2,20090221,2105, -26.0005, -169.9863,  5575,   2165.5,     2.18,   34.634,2,  34.6366,2,    143.0,2,    145.5,2,   118.87,2,    36.04,2, -999.000,9,     2.54,2, -999.000,9, -999.000,9, -999.000,9,   2306.3,2,   2393.4,2
           NA,     P15,     57,   1,       7,   12032,  2,20090221,2105, -26.0005, -169.9863,  5575,   2665.2,     1.91,   34.659,2,  34.6584,2,    145.5,2,    148.5,2,   128.39,2,    36.23,2, -999.000,9,     2.55,2, -999.000,4, -999.000,4, -999.000,9,   2315.4,2,   2400.0,2
           NA,     P15,     57,   1,       6,   12007,  2,20090221,2105, -26.0005, -169.9863,  5575,   3163.8,     1.67,   34.685,2,  34.6834,2,    159.6,2,    161.6,2,   127.58,2,    34.85,2, -999.000,9,     2.46,2,    0.011,6,    0.003,6, -999.000,9,   2304.9,2,   2393.2,6
           NA,     P15,     57,   1,       5,   12002,  2,20090221,2105, -26.0005, -169.9863,  5575,   3663.8,     1.42,   34.718,2,  34.7178,2,    192.1,2,    193.8,2,   111.45,2,    32.00,2, -999.000,9,     2.23,2,    0.034,2,    0.016,2, -999.000,9,   2266.1,2,   2364.6,2
           NA,     P15,     57,   1,       4,   12008,  2,20090221,2105, -26.0005, -169.9863,  5575,   4165.4,     1.19,   34.716,2,  34.7156,2,    201.3,2,    202.9,2,   115.95,2,    32.01,2, -999.000,9,     2.23,2, -999.000,9, -999.000,9, -999.000,9,   2261.5,2,   2361.8,2
           NA,     P15,     57,   1,       3,   12033,  2,20090221,2105, -26.0005, -169.9863,  5575,   4664.0,     1.04,   34.710,2,  34.7089,2,    205.7,2,    206.1,2,   120.61,2,    31.90,2, -999.000,9,     2.24,2,    0.053,2,    0.023,2, -999.000,9,   2261.9,2,   2362.2,2
           NA,     P15,     57,   1,       2,   12006,  2,20090221,2105, -26.0005, -169.9863,  5575,   5164.8,     1.07,   34.708,2,  34.7072,2,    206.9,2,    206.2,2,   121.62,2,    32.25,2, -999.000,9,     2.24,2, -999.000,9, -999.000,9, -999.000,9,   2263.3,2,   2364.5,2
           NA,     P15,     57,   1,       1,   12045,  2,20090221,2105, -26.0005, -169.9863,  5575,   5707.3,     1.13,   34.707,2,  34.7070,2,    207.6,2,    206.5,2,   122.16,2,    32.19,2, -999.000,9,     2.24,2,    0.053,2,    0.023,2, -999.000,9,   2262.2,6,   2363.2,6