BOTTLE,20214902JOAExport
EXPOCODE,SECT_ID,STNNBR,CASTNO,SAMPNO,BTLNBR,BTLNBR_FLAG_W,DATE,TIME,LATITUDE,LONGITUDE,DEPTH,CTDPRS,CTDTMP,CTDSAL,CTDSAL_FLAG_W,SALNTY,SALNTY_FLAG_W,CTDOXY,CTDOXY_FLAG_W,OXYGEN,OXYGEN_FLAG_W,SILCAT,SILCAT_FLAG_W,NITRAT,NITRAT_FLAG_W,NITRIT,NITRIT_FLAG_W,PHSPHT,PHSPHT_FLAG_W,CFC-11,CFC-11_FLAG_W,CFC-12,CFC-12_FLAG_W,SF6,SF6_FLAG_W,TCARBN,TCARBN_FLAG_W,ALKALI,ALKALI_FLAG_W
,,,,,,,,,,,,DB,ITS-90,PSS-78,,PSS-78,,UMOL/KG,,UMOL/KG,,UMOL/KG,,UMOL/KG,,UMOL/KG,,UMOL/KG,,PMOL/KG,,PMOL/KG,,FMOL/KG,,UMOL/KG,,UMOL/KG
           NA,     P15,    102,   1,      24,   12014,  2,20090310,0324,  -7.7537, -168.6814,  5270,      4.5,    29.48,   35.723,2,  35.7195,2,    197.3,2,    197.6,2,     1.02,2,     0.84,2, -999.000,9,     0.26,2, -999.000,9, -999.000,9, -999.000,9,   1998.5,2,   2352.7,6
           NA,     P15,    102,   1,      23,   12046,  2,20090310,0324,  -7.7537, -168.6814,  5270,     22.3,    29.27,   35.717,2,-999.0000,9,    197.9,2,    197.6,2,     1.02,2,     0.84,2, -999.000,9,     0.26,2, -999.000,9, -999.000,9, -999.000,9,   1998.3,2,   2352.7,2
           NA,     P15,    102,   1,      22,   12020,  2,20090310,0324,  -7.7537, -168.6814,  5270,     46.5,    29.08,   35.728,2,-999.0000,9,    198.2,2,    197.8,2,     1.15,2,     1.68,2, -999.000,9,     0.33,2, -999.000,9, -999.000,9, -999.000,9,   2004.3,2,   2355.9,2
           NA,     P15,    102,   1,      21,   12003,  2,20090310,0324,  -7.7537, -168.6814,  5270,     97.0,    28.40,   35.777,2,-999.0000,9,    186.6,2,    185.8,2,     1.67,2,     2.56,2, -999.000,9,     0.42,2, -999.000,9, -999.000,9, -999.000,9,   2027.1,2,   2354.5,2
           NA,     P15,    102,   1,      20,   12051,  2,20090310,0324,  -7.7537, -168.6814,  5270,    122.6,    27.81,   35.743,2,  35.7756,2,    184.4,2,    183.0,2,     2.01,2,     3.69,2, -999.000,9,     0.48,2, -999.000,9, -999.000,9, -999.000,9,   -999.0,9,   -999.0,9
           NA,     P15,    102,   1,      19,   12010,  2,20090310,0324,  -7.7537, -168.6814,  5270,    146.5,    26.74,   36.228,2,  36.2394,2,    162.1,2,    160.9,2,     1.54,2,     3.64,2, -999.000,9,     0.46,2, -999.000,9, -999.000,9, -999.000,9,   2071.6,2,   2384.0,2
           NA,     P15,    102,   1,      18,   12035,  2,20090310,0324,  -7.7537, -168.6814,  5270,    177.2,    24.03,   36.295,2,  36.2841,2,    156.2,2,    156.0,2,     1.41,2,     4.92,2, -999.000,9,     0.55,2, -999.000,9, -999.000,9, -999.000,9,   -999.0,9,   -999.0,9
           NA,     P15,    102,   1,      17,   12024,  2,20090310,0324,  -7.7537, -168.6814,  5270,    248.2,    15.82,   35.201,2,-999.0000,9,    114.0,2,    113.2,2,     7.35,2,    15.31,2, -999.000,9,     1.33,2, -999.000,9, -999.000,9, -999.000,9,   2162.9,2,   2321.5,2
           NA,     P15,    102,   1,      16,   12001,  2,20090310,0324,  -7.7537, -168.6814,  5270,    297.0,    13.00,   34.953,2,-999.0000,9,     91.8,2,    100.3,2,    10.06,2,    18.31,2, -999.000,9,     1.51,2, -999.000,9, -999.000,9, -999.000,9,   2175.8,2,   2313.8,2
           NA,     P15,    102,   1,      15,   12025,  2,20090310,0324,  -7.7537, -168.6814,  5270,    348.2,    10.86,   34.797,2,  34.7925,2,     92.6,2,     92.0,2,    19.53,2,    26.54,2, -999.000,9,     1.94,2, -999.000,9, -999.000,9, -999.000,9,   -999.0,9,   -999.0,9
           NA,     P15,    102,   1,      14,   12041,  2,20090310,0324,  -7.7537, -168.6814,  5270,    416.9,     8.79,   34.660,2,  34.6582,2,    110.3,2,    109.9,2,    25.87,2,    29.67,2, -999.000,9,     2.06,2, -999.000,9, -999.000,9, -999.000,9,   -999.0,9,   -999.0,9
           NA,     P15,    102,   1,      13,   12012,  2,20090310,0324,  -7.7537, -168.6814,  5270,    496.8,     7.73,   34.596,2,  34.5971,2,    110.3,2,    109.9,2,    31.75,2,    31.80,2, -999.000,9,     2.21,2, -999.000,9, -999.000,9, -999.000,9,   2219.3,2,   2304.4,2
           NA,     P15,    102,   1,      12,   12022,  2,20090310,0324,  -7.7537, -168.6814,  5270,    647.2,     6.49,   34.538,2,  34.5368,2,    115.2,2,    114.8,2,    41.75,2,    34.03,2, -999.000,9,     2.36,2, -999.000,9, -999.000,9, -999.000,9,   -999.0,9,   -999.0,9
           NA,     P15,    102,   1,      11,   12016,  2,20090310,0324,  -7.7537, -168.6814,  5270,    796.6,     5.58,   34.524,2,  34.5227,2,    109.4,2,    109.5,2,    54.09,2,    36.08,2, -999.000,9,     2.53,2, -999.000,9, -999.000,9, -999.000,9,   -999.0,9,   -999.0,9
           NA,     P15,    102,   1,      10,   12019,  2,20090310,0324,  -7.7537, -168.6814,  5270,   1095.3,     4.35,   34.537,2,  34.5354,2,    113.2,2,    114.0,2,    76.27,2,    37.16,2, -999.000,9,     2.61,2, -999.000,9, -999.000,9, -999.000,9,   -999.0,9,   -999.0,9
           NA,     P15,    102,   1,       9,   12031,  2,20090310,0324,  -7.7537, -168.6814,  5270,   1397.8,     3.30,   34.576,2,  34.5761,2,    118.1,2,    119.2,2,    98.60,2,    37.51,2, -999.000,9,     2.65,2, -999.000,9, -999.000,9, -999.000,9,   -999.0,9,   -999.0,9
           NA,     P15,    102,   1,       8,   12021,  2,20090310,0324,  -7.7537, -168.6814,  5270,   1896.2,     2.29,   34.633,2,  34.6331,2,    128.1,2,    129.4,2,   125.05,2,    37.18,2, -999.000,9,     2.60,2, -999.000,9, -999.000,9, -999.000,9,   -999.0,9,   -999.0,9
           NA,     P15,    102,   1,       7,   12032,  2,20090310,0324,  -7.7537, -168.6814,  5270,   2397.3,     1.90,   34.660,2,  34.6612,2,    134.2,2,    135.4,2,   136.15,2,    36.84,2, -999.000,9,     2.58,2, -999.000,9, -999.000,9, -999.000,9,   -999.0,9,   -999.0,9
           NA,     P15,    102,   1,       6,   12007,  2,20090310,0324,  -7.7537, -168.6814,  5270,   2999.0,     1.66,   34.678,2,  34.6783,2,    149.4,2,   -999.0,9,   137.35,2,    36.02,2, -999.000,9,     2.50,2, -999.000,9, -999.000,9, -999.000,9,   -999.0,9,   -999.0,9
           NA,     P15,    102,   1,       5,   12002,  2,20090310,0324,  -7.7537, -168.6814,  5270,   3496.4,     1.53,   34.687,2,  34.6873,2,    159.9,2,    160.0,2,   135.96,2,    35.22,2, -999.000,9,     2.44,2, -999.000,9, -999.000,9, -999.000,9,   -999.0,9,   -999.0,9
           NA,     P15,    102,   1,       4,   12008,  2,20090310,0324,  -7.7537, -168.6814,  5270,   3997.5,     1.42,   34.694,2,  34.6922,2,    169.1,2,    168.8,2,   136.26,2,    34.82,2, -999.000,9,     2.39,2, -999.000,9, -999.000,9, -999.000,9,   -999.0,9,   -999.0,9
           NA,     P15,    102,   1,       3,   12033,  2,20090310,0324,  -7.7537, -168.6814,  5270,   4498.9,     1.32,   34.701,2,  34.6971,2,    183.4,2,    175.9,2,   132.51,2,    34.14,2, -999.000,9,     2.35,2, -999.000,9, -999.000,9, -999.000,9,   -999.0,9,   -999.0,9
           NA,     P15,    102,   1,       2,   12006,  2,20090310,0324,  -7.7537, -168.6814,  5270,   4846.4,     1.15,   34.708,2,  34.7070,2,    201.0,2,    199.6,2,   122.56,2,    32.57,2, -999.000,9,     2.23,2, -999.000,9, -999.000,9, -999.000,9,   -999.0,9,   -999.0,9
           NA,     P15,    102,   1,       1,   12045,  2,20090310,0324,  -7.7537, -168.6814,  5270,   5376.9,     1.18,   34.709,2,  34.7135,2,    203.9,2,   -999.0,9,   121.30,2,    32.32,2, -999.000,9,     2.22,2, -999.000,9, -999.000,9, -999.000,9,   -999.0,9,   -999.0,9
           NA,     P15,    103,   1,      24,   12014,  2,20090310,0843,  -7.4950, -168.7602,  5222,      1.4,    29.31,   35.743,2,-999.0000,9,    197.1,2,    196.9,2,     1.15,2,     1.13,2, -999.000,9,     0.29,2,    1.469,2,    0.969,2, -999.000,9,   1999.4,6,   2357.9,6
           NA,     P15,    103,   1,      23,   12046,  2,20090310,0843,  -7.4950, -168.7602,  5222,     30.0,    29.25,   35.732,2,  35.7308,2,    197.5,2,    197.5,2,     1.15,2,     1.09,2, -999.000,9,     0.29,2,    1.489,6,    0.960,6, -999.000,9,   1999.5,2,   2357.0,2
           NA,     P15,    103,   1,      21,   12003,  2,20090310,0843,  -7.4950, -168.7602,  5222,     80.1,    28.78,   35.720,2,  35.7197,2,    191.4,2,    191.2,2,     1.33,2,     2.11,2, -999.000,9,     0.40,2,    1.519,2,    0.966,2, -999.000,9,   2012.9,2,   2355.8,2
           NA,     P15,    103,   1,      20,   12051,  2,20090310,0843,  -7.4950, -168.7602,  5222,    110.7,    28.34,   35.807,2,-999.0000,9,    181.3,2,    180.9,2,     1.76,2,     2.45,2, -999.000,9,     0.45,2,    1.531,2,    0.989,2, -999.000,9,   2029.7,2,   2361.0,2
           NA,     P15,    103,   1,      19,   12010,  2,20090310,0843,  -7.4950, -168.7602,  5222,    164.3,    25.66,   36.332,2,  36.3378,2,    155.0,2,    154.9,2,     1.61,2,     4.53,2, -999.000,9,     0.54,2,    1.746,2,    1.095,2, -999.000,9,   2091.1,2,   2393.8,2
           NA,     P15,    103,   1,      18,   12035,  2,20090310,0843,  -7.4950, -168.7602,  5222,    214.3,    21.57,   35.971,2,  35.9566,2,    151.5,2,    151.9,2,     1.96,2,     6.93,2, -999.000,9,     0.71,2,    2.080,2,    1.278,2, -999.000,9,   2120.0,2,   2369.1,2
           NA,     P15,    103,   1,      17,   12024,  2,20090310,0843,  -7.4950, -168.7602,  5222,    267.4,    15.05,   35.116,2,-999.0000,9,     95.7,2,     96.4,2,     9.48,2,    18.16,2, -999.000,9,     1.53,2,    1.789,2,    1.026,2, -999.000,9,   2176.5,2,   2317.3,2
           NA,     P15,    103,   1,      16,   12001,  2,20090310,0843,  -7.4950, -168.7602,  5222,    326.6,    10.79,   34.790,2,  34.7868,2,     88.2,2,     87.2,2,    19.81,2,    27.26,2, -999.000,9,     1.98,2,    0.827,2,    0.454,2, -999.000,9,   2206.2,2,   2305.4,6
           NA,     P15,    103,   1,      15,   12025,  2,20090310,0843,  -7.4950, -168.7602,  5222,    376.3,     9.44,   34.706,2,  34.7026,2,    102.5,2,    102.6,2,    23.70,2,    29.02,2, -999.000,9,     2.03,2,    0.617,2,    0.350,2, -999.000,9,   2206.2,2,   2304.4,2
           NA,     P15,    103,   1,      14,   12041,  2,20090310,0843,  -7.4950, -168.7602,  5222,    448.2,     8.33,   34.632,2,-999.0000,9,    110.2,2,    110.4,2,    28.32,2,    30.95,2, -999.000,9,     2.14,2,    0.469,2,    0.262,2, -999.000,9,   2212.2,2,   2304.8,2
           NA,     P15,    103,   1,      13,   12012,  2,20090310,0843,  -7.4950, -168.7602,  5222,    547.5,     7.22,   34.570,2,  34.5677,2,    110.8,2,    110.6,2,    35.55,2,    32.93,2, -999.000,9,     2.29,2,    0.295,2,    0.157,2, -999.000,9,   -999.0,3,   2307.7,2
           NA,     P15,    103,   1,      12,   12022,  2,20090310,0843,  -7.4950, -168.7602,  5222,    747.3,     5.99,   34.536,2,  34.5351,2,    100.0,2,     99.8,2,    50.72,2,    36.48,2, -999.000,9,     2.57,2,    0.090,2,    0.050,2, -999.000,9,   2250.9,6,   2320.3,6
           NA,     P15,    103,   1,      11,   12016,  2,20090310,0843,  -7.4950, -168.7602,  5222,    897.8,     5.27,   34.524,2,  34.5225,2,    107.3,2,    107.2,2,    59.62,2,    36.83,2, -999.000,9,     2.62,2,    0.042,2,    0.024,2, -999.000,9,   -999.0,3,   2328.1,2
           NA,     P15,    103,   1,      10,   12019,  2,20090310,0843,  -7.4950, -168.7602,  5222,   1149.0,     4.13,   34.545,2,  34.5433,2,    113.0,2,    113.8,2,    80.97,2,    37.17,2, -999.000,9,     2.66,2,    0.017,2,    0.009,2, -999.000,9,   2281.2,2,   2353.2,2
           NA,     P15,    103,   1,       9,   12031,  2,20090310,0843,  -7.4950, -168.7602,  5222,   1529.6,     3.00,   34.591,2,  34.5900,2,    121.7,2,    122.9,2,   106.77,2,    37.37,2, -999.000,9,     2.67,2,    0.004,6,    0.002,6, -999.000,9,   2302.3,2,   2379.9,2
           NA,     P15,    103,   1,       8,   12021,  2,20090310,0843,  -7.4950, -168.7602,  5222,   2064.3,     2.11,   34.645,2,  34.6457,2,    128.5,2,    130.0,2,   131.37,2,    37.00,2, -999.000,9,     2.64,2,   -0.001,2,   -0.002,2, -999.000,9,   2323.8,2,   2406.5,2
           NA,     P15,    103,   1,       7,   12032,  2,20090310,0843,  -7.4950, -168.7602,  5222,   2581.2,     1.80,   34.668,2,  34.6702,2,    138.7,2,    139.8,2,   136.79,2,    36.55,2, -999.000,9,     2.58,2,    0.000,2,   -0.002,2, -999.000,9,   2325.5,2,   2414.1,2
           NA,     P15,    103,   1,       6,   12007,  2,20090310,0843,  -7.4950, -168.7602,  5222,   3179.5,     1.61,   34.682,2,  34.6795,2,    153.5,2,    154.6,2,   135.83,2,    35.43,2, -999.000,9,     2.49,2,   -0.002,2,   -0.002,2, -999.000,9,   2316.7,2,   2416.8,6
           NA,     P15,    103,   1,       5,   12002,  2,20090310,0843,  -7.4950, -168.7602,  5222,   3664.1,     1.49,   34.689,2,  34.6899,2,    162.9,2,    160.5,2,   136.02,2,    35.09,2, -999.000,9,     2.45,2,    0.002,2,    0.000,2, -999.000,9,   2309.6,2,   2408.6,2
           NA,     P15,    103,   1,       4,   12008,  2,20090310,0843,  -7.4950, -168.7602,  5222,   4164.6,     1.41,   34.695,2,  34.6946,2,    172.1,2,    171.8,2,   134.30,2,    34.33,2, -999.000,9,     2.39,2,    0.003,2,    0.001,2, -999.000,9,   2303.2,2,   2404.0,2
           NA,     P15,    103,   1,       3,   12033,  2,20090310,0843,  -7.4950, -168.7602,  5222,   4638.5,     1.31,   34.702,2,  34.6971,2,    186.4,2,    177.1,2,   133.17,2,    34.03,2, -999.000,9,     2.36,2,    0.007,2,    0.005,2, -999.000,9,   2295.6,2,   -999.0,3
           NA,     P15,    103,   1,       2,   12006,  2,20090310,0843,  -7.4950, -168.7602,  5222,   4929.8,     1.20,   34.707,2,  34.7068,2,    197.8,2,    196.4,2,   124.30,2,    32.67,2, -999.000,9,     2.26,2,    0.019,6,    0.010,6, -999.000,9,   2273.5,2,   2379.1,2
           NA,     P15,    103,   1,       1,   12045,  2,20090310,0843,  -7.4950, -168.7602,  5222,   5337.5,     1.20,   34.708,2,  34.7083,2,    201.9,2,    200.2,2,   121.94,2,    32.24,2, -999.000,9,     2.23,2,    0.025,2,    0.012,2, -999.000,9,   2270.2,6,   2374.7,6