BOTTLE,20214902JOAExport
EXPOCODE,SECT_ID,STNNBR,CASTNO,SAMPNO,BTLNBR,BTLNBR_FLAG_W,DATE,TIME,LATITUDE,LONGITUDE,DEPTH,CTDPRS,CTDTMP,CTDSAL,CTDSAL_FLAG_W,SALNTY,SALNTY_FLAG_W,CTDOXY,CTDOXY_FLAG_W,OXYGEN,OXYGEN_FLAG_W,SILCAT,SILCAT_FLAG_W,NITRAT,NITRAT_FLAG_W,NITRIT,NITRIT_FLAG_W,PHSPHT,PHSPHT_FLAG_W,CFC-11,CFC-11_FLAG_W,CFC-12,CFC-12_FLAG_W,SF6,SF6_FLAG_W,TCARBN,TCARBN_FLAG_W,ALKALI,ALKALI_FLAG_W
,,,,,,,,,,,,DB,ITS-90,PSS-78,,PSS-78,,UMOL/KG,,UMOL/KG,,UMOL/KG,,UMOL/KG,,UMOL/KG,,UMOL/KG,,PMOL/KG,,PMOL/KG,,FMOL/KG,,UMOL/KG,,UMOL/KG
           NA,     P15,     15,   1,      24,   12015,  2,20090210,1340, -44.3336, -173.7634,  3116,      3.4,    15.92,   34.773,2,  34.7732,2,    254.1,2,    253.1,2,  -999.00,9,     1.15,2, -999.000,9,     0.21,2, -999.000,3, -999.000,3, -999.000,9,   2050.4,2,   2300.7,2
           NA,     P15,     15,   1,      23,   12046,  2,20090210,1340, -44.3336, -173.7634,  3116,     72.4,    11.72,   34.760,2,  34.7634,2,    259.1,2,    258.0,2,  -999.00,9,     6.81,2, -999.000,9,     0.59,2, -999.000,9, -999.000,9, -999.000,9,   2093.9,2,   2291.6,2
           NA,     P15,     15,   1,      22,   12020,  2,20090210,1340, -44.3336, -173.7634,  3116,    115.0,    10.69,   34.760,2,  34.7689,2,    253.1,2,    251.7,2,  -999.00,9,    10.32,2, -999.000,9,     0.77,2, -999.000,9, -999.000,9, -999.000,9,   -999.0,9,   -999.0,9
           NA,     P15,     15,   1,      21,   12003,  2,20090210,1340, -44.3336, -173.7634,  3116,    164.1,    10.32,   34.744,2,  34.7471,2,    246.7,2,    246.6,2,  -999.00,9,    11.89,2, -999.000,9,     0.86,2, -999.000,9, -999.000,9, -999.000,9,   -999.0,9,   -999.0,9
           NA,     P15,     15,   1,      20,   12051,  2,20090210,1340, -44.3336, -173.7634,  3116,    215.5,    10.21,   34.757,2,  34.7573,2,    256.3,2,    255.8,2,  -999.00,9,    11.17,2, -999.000,9,     0.82,2, -999.000,9, -999.000,9, -999.000,9,   -999.0,9,   -999.0,9
           NA,     P15,     15,   1,      19,   12010,  2,20090210,1340, -44.3336, -173.7634,  3116,    239.0,    10.17,   34.762,2,  34.7632,2,    254.5,2,    254.2,2,  -999.00,9,    11.45,2, -999.000,9,  -999.00,9, -999.000,9, -999.000,9, -999.000,9,   2113.5,2,   2292.0,2
           NA,     P15,     15,   1,      18,   12018,  2,20090210,1340, -44.3336, -173.7634,  3116,    322.8,     9.54,   34.693,2,  34.6920,2,    235.5,2,    234.7,2,  -999.00,9,    15.49,2, -999.000,9,     1.07,2, -999.000,9, -999.000,9, -999.000,9,   -999.0,9,   -999.0,9
           NA,     P15,     15,   1,      17,   12024,  2,20090210,1340, -44.3336, -173.7634,  3116,    430.8,     8.63,   34.568,2,  34.5690,2,    233.3,2,    232.8,2,  -999.00,9,    18.35,2, -999.000,9,     1.25,2,    3.558,2,    1.972,2, -999.000,9,   2139.4,2,   2281.5,2
           NA,     P15,     15,   1,      16,   12001,  2,20090210,1340, -44.3336, -173.7634,  3116,    531.1,     7.83,   34.465,2,  34.4667,2,    240.2,2,    239.3,2,  -999.00,9,    20.34,2, -999.000,9,     1.37,2, -999.000,9, -999.000,9, -999.000,9,   -999.0,9,   -999.0,9
           NA,     P15,     15,   1,      15,   12025,  2,20090210,1340, -44.3336, -173.7634,  3116,    611.1,     7.42,   34.423,2,  34.4239,2,    245.8,2,    245.8,2,  -999.00,9,    20.76,2, -999.000,9,     1.41,2,    3.633,2,    1.997,2, -999.000,9,   2140.7,2,   2282.0,2
           NA,     P15,     15,   1,      14,   12041,  2,20090210,1340, -44.3336, -173.7634,  3116,    730.3,     7.04,   34.398,2,  34.3990,2,    240.0,2,    240.5,2,  -999.00,9,    22.19,2, -999.000,9,     1.50,2, -999.000,9, -999.000,9, -999.000,9,   -999.0,9,   -999.0,9
           NA,     P15,     15,   1,      13,   12012,  2,20090210,1340, -44.3336, -173.7634,  3116,    831.5,     6.58,   34.371,2,  34.3727,2,    231.6,2,    232.1,2,  -999.00,9,    24.03,2, -999.000,9,     1.60,2, -999.000,9, -999.000,9, -999.000,9,   -999.0,9,   -999.0,9
           NA,     P15,     15,   1,      12,   12022,  2,20090210,1340, -44.3336, -173.7634,  3116,    946.1,     5.99,   34.343,2,  34.3445,2,    223.8,2,    224.9,2,  -999.00,9,    25.99,2, -999.000,9,     1.73,2,    2.629,2,    1.389,2, -999.000,9,   2163.6,6,   2283.8,6
           NA,     P15,     15,   1,      11,   12016,  2,20090210,1340, -44.3336, -173.7634,  3116,   1165.0,     4.69,   34.341,2,  34.3421,2,    204.8,2,    206.2,2,  -999.00,9,    30.07,2, -999.000,9,     2.00,2, -999.000,9, -999.000,9, -999.000,9,   -999.0,9,   -999.0,9
           NA,     P15,     15,   1,      10,   12019,  2,20090210,1340, -44.3336, -173.7634,  3116,   1366.7,     3.84,   34.398,2,  34.3982,2,    187.6,2,    188.6,2,  -999.00,9,    32.42,2, -999.000,9,     2.17,2, -999.000,9, -999.000,9, -999.000,9,   -999.0,9,   -999.0,9
           NA,     P15,     15,   1,       9,   12031,  2,20090210,1340, -44.3336, -173.7634,  3116,   1566.0,     3.35,   34.481,2,  34.4826,2,    172.4,2,    173.3,2,  -999.00,9,    33.49,2, -999.000,9,     2.30,2, -999.000,9, -999.000,9, -999.000,9,   -999.0,9,   -999.0,9
           NA,     P15,     15,   1,       8,   12021,  2,20090210,1340, -44.3336, -173.7634,  3116,   1714.0,     3.16,   34.548,2,  34.5486,2,    161.8,2,    162.0,2,  -999.00,9,    34.13,2, -999.000,9,     2.34,2, -999.000,9, -999.000,9, -999.000,9,   -999.0,9,   -999.0,9
           NA,     P15,     15,   1,       7,   12032,  2,20090210,1340, -44.3336, -173.7634,  3116,   1876.1,     2.75,   34.589,2,-999.0000,9,    157.8,2,    157.3,2,  -999.00,9,    34.62,2, -999.000,9,     2.37,2,    0.097,2,    0.034,2, -999.000,9,   2279.2,2,   2363.0,6
           NA,     P15,     15,   1,       6,   12007,  2,20090210,1340, -44.3336, -173.7634,  3116,   2165.4,     2.25,   34.665,2,  34.6663,2,    168.8,2,    168.7,2,  -999.00,9,    33.39,2, -999.000,9,     2.28,2, -999.000,9, -999.000,9, -999.000,9,   -999.0,9,   -999.0,9
           NA,     P15,     15,   1,       5,   12055,  2,20090210,1340, -44.3336, -173.7634,  3116,   2363.9,     2.08,   34.708,2,  34.7079,2,    181.2,2,    180.7,2,  -999.00,9,    31.92,2, -999.000,9,     2.20,2, -999.000,9, -999.000,9, -999.000,9,   -999.0,9,   -999.0,9
           NA,     P15,     15,   1,       4,   12009,  2,20090210,1340, -44.3336, -173.7634,  3116,   2564.8,     1.92,   34.725,2,  34.7258,2,    187.9,2,    188.1,2,  -999.00,9,    31.52,2, -999.000,9,     2.15,2, -999.000,9, -999.000,9, -999.000,9,   -999.0,9,   -999.0,9
           NA,     P15,     15,   1,       3,   12033,  2,20090210,1340, -44.3336, -173.7634,  3116,   2763.7,     1.74,   34.732,2,  34.7319,2,    193.1,2,    193.4,2,  -999.00,9,    31.23,2, -999.000,9,     2.12,2, -999.000,9, -999.000,9, -999.000,9,   -999.0,9,   -999.0,9
           NA,     P15,     15,   1,       2,   12006,  2,20090210,1340, -44.3336, -173.7634,  3116,   2946.7,     1.60,   34.732,2,  34.7345,2,    195.7,2,    195.8,2,  -999.00,9,    31.11,2, -999.000,9,     2.11,2, -999.000,9, -999.000,9, -999.000,9,   2258.1,2,   2352.0,2
           NA,     P15,     16,   1,      19,   12010,  2,20090210,1807, -44.1550, -173.9395,  1910,      3.1,    15.92,   34.744,2,  34.7433,2,    255.2,2,    254.1,2,  -999.00,9,     1.28,2, -999.000,9,     0.21,2, -999.000,9, -999.000,9, -999.000,9,   2049.3,2,   2300.6,2
           NA,     P15,     16,   1,      18,   12018,  2,20090210,1807, -44.1550, -173.9395,  1910,     48.2,    15.34,   34.720,2,  34.7213,2,    253.4,2,    252.6,2,  -999.00,9,     1.94,2, -999.000,9,     0.25,2,    2.824,2,    1.678,2, -999.000,9,   2054.6,6,   2298.4,6
           NA,     P15,     16,   1,      17,   12024,  2,20090210,1807, -44.1550, -173.9395,  1910,     81.3,    10.90,   34.698,2,  34.6920,2,    268.4,2,    268.3,2,  -999.00,9,     8.46,2, -999.000,9,     0.69,2,    3.524,2,    2.044,2, -999.000,9,   2095.8,2,   2290.9,2
           NA,     P15,     16,   1,      16,   12001,  2,20090210,1807, -44.1550, -173.9395,  1910,    131.2,    10.39,   34.736,2,  34.7380,2,    258.6,2,    257.5,2,  -999.00,9,    10.60,2, -999.000,9,     0.78,2,    3.499,6,    2.040,6, -999.000,9,   2106.6,2,   2288.5,6
           NA,     P15,     16,   1,      14,   12041,  2,20090210,1807, -44.1550, -173.9395,  1910,    182.9,    10.28,   34.760,2,  34.7561,2,    256.7,2,    255.8,2,  -999.00,9,    10.85,2, -999.000,9,     0.79,2, -999.000,9, -999.000,9, -999.000,9,   -999.0,9,   -999.0,9
           NA,     P15,     16,   1,      13,   12012,  2,20090210,1807, -44.1550, -173.9395,  1910,    224.4,    10.18,   34.761,2,  34.7626,2,    256.6,2,    255.8,2,  -999.00,9,    11.20,2, -999.000,9,     0.81,2,    3.459,2,    2.028,2, -999.000,9,   2111.3,2,   2290.9,2
           NA,     P15,     16,   1,      12,   12022,  2,20090210,1807, -44.1550, -173.9395,  1910,    264.9,    10.15,   34.767,2,  34.7667,2,    254.5,2,    254.2,2,  -999.00,9,    11.51,2, -999.000,9,     0.83,2, -999.000,9, -999.000,9, -999.000,9,   2113.5,2,   2291.8,2
           NA,     P15,     16,   1,      11,   12016,  2,20090210,1807, -44.1550, -173.9395,  1910,    363.5,     9.22,   34.648,2,  34.6476,2,    235.4,2,    234.9,2,  -999.00,9,    16.57,2, -999.000,9,     1.13,2,    3.448,2,    1.965,2, -999.000,9,   2131.6,2,   2283.9,2
           NA,     P15,     16,   1,      10,   12019,  2,20090210,1807, -44.1550, -173.9395,  1910,    447.4,     8.40,   34.539,2,  34.5370,2,    234.1,2,    248.3,2,  -999.00,9,    19.05,2, -999.000,9,     1.28,2,    3.570,2,    1.979,2, -999.000,9,   2138.4,2,   2281.1,2
           NA,     P15,     16,   1,       9,   12031,  2,20090210,1807, -44.1550, -173.9395,  1910,    563.3,     7.62,   34.443,2,  34.4424,2,    243.5,2,    243.3,2,  -999.00,9,    20.37,2, -999.000,9,     1.39,2, -999.000,9, -999.000,9, -999.000,9,   -999.0,9,   -999.0,9
           NA,     P15,     16,   1,       8,   12021,  2,20090210,1807, -44.1550, -173.9395,  1910,    647.6,     7.30,   34.416,2,  34.4167,2,    243.3,2,    243.6,2,  -999.00,9,    21.16,2, -999.000,9,     1.44,2,    3.334,2,    1.938,2, -999.000,9,   2141.8,2,   2280.2,2
           NA,     P15,     16,   1,       7,   12032,  2,20090210,1807, -44.1550, -173.9395,  1910,    764.0,     6.86,   34.388,2,  34.3874,2,    235.4,2,    235.8,2,  -999.00,9,    22.99,2, -999.000,9,     1.53,2, -999.000,9, -999.000,9, -999.000,9,   -999.0,9,   -999.0,9
           NA,     P15,     16,   1,       6,   12007,  2,20090210,1807, -44.1550, -173.9395,  1910,    965.8,     5.98,   34.349,2,  34.3503,2,    219.7,2,    220.5,2,  -999.00,9,    26.17,2, -999.000,9,     1.75,2, -999.000,9, -999.000,9, -999.000,9,   2165.2,2,   2282.4,6
           NA,     P15,     16,   1,       5,   12055,  2,20090210,1807, -44.1550, -173.9395,  1910,   1164.4,     4.94,   34.338,2,  34.3401,2,    205.8,2,    207.4,2,  -999.00,9,    29.22,2, -999.000,9,     1.94,2, -999.000,9, -999.000,9, -999.000,9,   -999.0,9,   -999.0,9
           NA,     P15,     16,   1,       4,   12009,  2,20090210,1807, -44.1550, -173.9395,  1910,   1347.1,     4.52,   34.435,2,  34.4381,2,    181.1,2,    182.9,2,  -999.00,9,    31.13,2, -999.000,9,     2.10,2,    0.541,2,    0.224,2, -999.000,9,   2214.1,2,   2310.2,2
           NA,     P15,     16,   1,       3,   12033,  2,20090210,1807, -44.1550, -173.9395,  1910,   1497.5,     3.68,   34.482,2,  34.4856,2,    172.2,2,    173.4,2,  -999.00,9,    32.92,2, -999.000,9,     2.24,2,    0.506,2,    0.200,2, -999.000,9,   2238.9,2,   2331.3,2
           NA,     P15,     16,   1,       2,   12006,  2,20090210,1807, -44.1550, -173.9395,  1910,   1767.8,     2.47,   34.620,2,  34.6219,2,    158.4,2,    159.6,2,  -999.00,9,    34.23,2, -999.000,9,     2.34,2,    0.122,2,    0.046,2, -999.000,9,   2280.2,2,   2365.9,2
           NA,     P15,     16,   1,       1,   12045,  2,20090210,1807, -44.1550, -173.9395,  1910,   1895.8,     2.25,   34.660,2,  34.6622,2,    166.3,2,    167.6,2,  -999.00,9,    33.23,2, -999.000,9,     2.30,2,    0.145,2,    0.054,2, -999.000,9,   2275.6,2,   2382.2,2
           NA,     P15,     17,   1,      17,   12024,  2,20090210,2155, -43.8463, -174.2994,   919,      5.1,    17.08,   35.112,2,  35.1116,2,    244.9,2,    244.4,2,  -999.00,9,     0.04,2, -999.000,9,     0.12,2,    2.643,2,    1.545,2, -999.000,9,   2046.2,2,   2314.9,2
           NA,     P15,     17,   1,      16,   12001,  2,20090210,2155, -43.8463, -174.2994,   919,     23.8,    17.01,   35.110,2,  35.1098,2,    244.6,2,    244.5,2,  -999.00,9,     0.04,2, -999.000,9,     0.12,2, -999.000,9, -999.000,9, -999.000,9,   2047.0,2,   2312.2,2
           NA,     P15,     17,   1,      15,   12025,  2,20090210,2155, -43.8463, -174.2994,   919,     47.1,    16.86,   35.156,2,  35.1476,2,    241.1,2,    241.2,2,  -999.00,9,     0.16,2, -999.000,9,     0.14,2, -999.000,9, -999.000,9, -999.000,9,   2051.8,2,   2317.4,2
           NA,     P15,     17,   1,      14,   12041,  2,20090210,2155, -43.8463, -174.2994,   919,     74.7,    13.77,   35.152,2,  35.1536,2,    227.9,2,    227.2,2,  -999.00,9,     5.34,2, -999.000,9,     0.48,2, -999.000,9, -999.000,9, -999.000,9,   2093.2,2,   2305.3,2
           NA,     P15,     17,   1,      13,   12012,  2,20090210,2155, -43.8463, -174.2994,   919,     99.2,    13.52,   35.178,2,  35.1805,2,    226.2,2,    225.8,2,  -999.00,9,     6.92,2, -999.000,9,     0.56,2, -999.000,9, -999.000,9, -999.000,9,   -999.0,9,   -999.0,9
           NA,     P15,     17,   1,      12,   12022,  2,20090210,2155, -43.8463, -174.2994,   919,    148.2,    12.74,   35.135,2,  35.1378,2,    228.4,2,    228.3,2,  -999.00,9,     8.85,2, -999.000,9,     0.66,2,    3.036,2,    1.753,2, -999.000,9,   2108.8,2,   2309.3,2
           NA,     P15,     17,   1,      11,   12016,  2,20090210,2155, -43.8463, -174.2994,   919,    198.6,    11.91,   35.002,2,  35.0014,2,    231.7,2,    232.5,2,  -999.00,9,    10.49,2, -999.000,9,     0.77,2,    2.904,2,    1.826,2, -999.000,9,   2111.4,6,   2304.3,6
           NA,     P15,     17,   1,      10,   12019,  2,20090210,2155, -43.8463, -174.2994,   919,    246.4,    11.35,   34.932,2,-999.0000,9,    218.7,2,    218.9,2,  -999.00,9,    13.05,2, -999.000,9,     0.93,2,    2.984,2,    1.714,2, -999.000,9,   2122.6,2,   2296.9,6
           NA,     P15,     17,   1,       9,   12031,  2,20090210,2155, -43.8463, -174.2994,   919,    296.9,    10.72,   34.840,2,  34.8466,2,    218.6,2,    219.9,2,  -999.00,9,    14.46,2, -999.000,9,     1.02,2,    2.863,2,    1.750,2, -999.000,9,   -999.0,9,   -999.0,9
           NA,     P15,     17,   1,       7,   12032,  2,20090210,2155, -43.8463, -174.2994,   919,    398.1,     9.55,   34.702,2,  34.6987,2,    213.5,2,    213.7,2,  -999.00,9,    17.89,2, -999.000,9,     1.24,2, -999.000,9, -999.000,9, -999.000,9,   -999.0,9,   -999.0,9
           NA,     P15,     17,   1,       6,   12007,  2,20090210,2155, -43.8463, -174.2994,   919,    448.0,     9.02,   34.637,2,  34.6364,2,    214.6,2,    215.0,2,  -999.00,9,    19.17,2, -999.000,9,     1.33,2, -999.000,9, -999.000,9, -999.000,9,   2143.8,2,   2286.8,2
           NA,     P15,     17,   1,       5,   12055,  2,20090210,2155, -43.8463, -174.2994,   919,    500.1,     8.61,   34.591,2,  34.5902,2,    214.9,2,    215.5,2,  -999.00,9,    20.02,2, -999.000,9,     1.39,2, -999.000,9, -999.000,9, -999.000,9,   -999.0,9,   -999.0,9
           NA,     P15,     17,   1,       4,   12009,  2,20090210,2155, -43.8463, -174.2994,   919,    598.3,     7.94,   34.524,2,  34.5237,2,    215.3,2,    215.9,2,  -999.00,9,    21.67,2, -999.000,9,     1.49,2, -999.000,9, -999.000,9, -999.000,9,   2150.0,2,   -999.0,3
           NA,     P15,     17,   1,       3,   12033,  2,20090210,2155, -43.8463, -174.2994,   919,    697.1,     7.28,   34.472,2,  34.4732,2,    212.4,2,    213.4,2,  -999.00,9,    23.45,2, -999.000,9,     1.59,2, -999.000,9, -999.000,9, -999.000,9,   -999.0,9,   -999.0,9
           NA,     P15,     17,   1,       2,   12006,  2,20090210,2155, -43.8463, -174.2994,   919,    798.9,     6.55,   34.435,2,  34.4343,2,    206.4,2,    207.8,2,  -999.00,9,    25.58,2, -999.000,9,     1.74,2, -999.000,9, -999.000,9, -999.000,9,   2164.8,2,   -999.0,3
           NA,     P15,     17,   1,       1,   12045,  2,20090210,2155, -43.8463, -174.2994,   919,    864.2,     6.28,   34.426,2,  34.4271,2,    202.8,2,    204.2,2,  -999.00,9,    26.52,2, -999.000,9,     1.80,2,    1.380,2,    0.710,2, -999.000,9,   2171.4,2,   -999.0,3