BOTTLE,20214902JOAExport
EXPOCODE,SECT_ID,STNNBR,CASTNO,SAMPNO,BTLNBR,BTLNBR_FLAG_W,DATE,TIME,LATITUDE,LONGITUDE,DEPTH,CTDPRS,CTDTMP,CTDSAL,CTDSAL_FLAG_W,SALNTY,SALNTY_FLAG_W,CTDOXY,CTDOXY_FLAG_W,OXYGEN,OXYGEN_FLAG_W,SILCAT,SILCAT_FLAG_W,NITRAT,NITRAT_FLAG_W,NITRIT,NITRIT_FLAG_W,PHSPHT,PHSPHT_FLAG_W,CFC-11,CFC-11_FLAG_W,CFC-12,CFC-12_FLAG_W,SF6,SF6_FLAG_W,TCARBN,TCARBN_FLAG_W,ALKALI,ALKALI_FLAG_W
,,,,,,,,,,,,DB,ITS-90,PSS-78,,PSS-78,,UMOL/KG,,UMOL/KG,,UMOL/KG,,UMOL/KG,,UMOL/KG,,UMOL/KG,,PMOL/KG,,PMOL/KG,,FMOL/KG,,UMOL/KG,,UMOL/KG
           NA,     P15,      7,   1,      24,   12015,  2,20090208,0611, -47.5150, -169.9942,  5210,      2.0,    13.57,   34.482,2,-999.0000,9,    263.0,2,    261.2,2,     0.66,2,     5.80,2, -999.000,9,     0.46,2, -999.000,9, -999.000,9, -999.000,9,   2056.4,2,   2295.6,2
           NA,     P15,      7,   1,      23,   12046,  2,20090208,0611, -47.5150, -169.9942,  5210,     21.4,    13.56,   34.481,2,-999.0000,9,    263.5,2,    261.0,2,     0.66,2,     5.80,2, -999.000,9,     0.46,2, -999.000,9, -999.000,9, -999.000,9,   -999.0,9,   -999.0,9
           NA,     P15,      7,   1,      22,   12020,  2,20090208,0611, -47.5150, -169.9942,  5210,     80.0,    11.72,   34.903,2,-999.0000,9,    251.6,2,    249.5,2,     2.09,2,     8.12,2, -999.000,9,     0.63,2, -999.000,9, -999.000,9, -999.000,9,   -999.0,9,   -999.0,9
           NA,     P15,      7,   1,      21,   12003,  2,20090208,0611, -47.5150, -169.9942,  5210,    130.0,    10.77,   34.792,2,-999.0000,9,    250.1,2,    248.2,2,     2.73,2,    10.92,2, -999.000,9,     0.79,2, -999.000,9, -999.000,9, -999.000,9,   -999.0,9,   -999.0,9
           NA,     P15,      7,   1,      20,   12051,  2,20090208,0611, -47.5150, -169.9942,  5210,    178.9,     9.65,   34.629,2,-999.0000,9,    256.4,2,    255.0,2,     3.22,2,    13.53,2, -999.000,9,     0.96,2, -999.000,9, -999.000,9, -999.000,9,   -999.0,9,   -999.0,9
           NA,     P15,      7,   1,      19,   12010,  2,20090208,0611, -47.5150, -169.9942,  5210,    222.2,     9.50,   34.635,2,-999.0000,9,    250.1,2,    248.1,2,     3.98,2,    14.49,2, -999.000,9,     1.01,2, -999.000,9, -999.000,9, -999.000,9,   -999.0,9,   -999.0,9
           NA,     P15,      7,   1,      18,   12018,  2,20090208,0611, -47.5150, -169.9942,  5210,    264.4,     9.41,   34.646,2,-999.0000,9,    244.6,2,    242.6,2,     4.46,2,    15.39,2, -999.000,9,     1.06,2, -999.000,9, -999.000,9, -999.000,9,   -999.0,9,   -999.0,9
           NA,     P15,      7,   1,      17,   12024,  2,20090208,0611, -47.5150, -169.9942,  5210,    364.3,     8.62,   34.548,2,-999.0000,9,    248.1,2,    246.9,2,     5.21,2,    17.24,2, -999.000,9,     1.18,2, -999.000,9, -999.000,9, -999.000,9,   -999.0,9,   -999.0,9
           NA,     P15,      7,   1,      16,   12001,  2,20090208,0611, -47.5150, -169.9942,  5210,    464.3,     8.11,   34.501,2,-999.0000,9,    236.4,2,    235.6,2,     6.87,2,    19.87,2, -999.000,9,     1.34,2, -999.000,9, -999.000,9, -999.000,9,   -999.0,9,   -999.0,9
           NA,     P15,      7,   1,      15,   12025,  2,20090208,0611, -47.5150, -169.9942,  5210,    547.3,     7.64,   34.447,2,-999.0000,9,    242.9,2,    242.5,2,     7.44,2,    20.57,2, -999.000,9,     1.39,2, -999.000,9, -999.000,9, -999.000,9,   -999.0,9,   -999.0,9
           NA,     P15,      7,   1,      14,   12041,  2,20090208,0611, -47.5150, -169.9942,  5210,    632.0,     7.31,   34.422,2,-999.0000,9,    241.8,2,    241.9,2,     8.51,2,    21.40,2, -999.000,9,     1.44,2, -999.000,9, -999.000,9, -999.000,9,   -999.0,9,   -999.0,9
           NA,     P15,      7,   1,      13,   12012,  2,20090208,0611, -47.5150, -169.9942,  5210,    831.4,     6.38,   34.357,2,-999.0000,9,    231.0,2,    231.2,2,    13.94,2,    24.50,2, -999.000,9,     1.64,2, -999.000,9, -999.000,9, -999.000,9,   -999.0,9,   -999.0,9
           NA,     P15,      7,   1,      12,   12022,  2,20090208,0611, -47.5150, -169.9942,  5210,   1031.1,     5.11,   34.307,2,-999.0000,9,    219.2,2,    220.4,2,    23.53,2,    28.18,2, -999.000,9,     1.89,2, -999.000,9, -999.000,9, -999.000,9,   -999.0,9,   -999.0,9
           NA,     P15,      7,   1,      11,   12016,  2,20090208,0611, -47.5150, -169.9942,  5210,   1231.6,     4.04,   34.318,2,-999.0000,9,    207.6,2,    209.8,2,    35.88,2,    30.89,2, -999.000,9,     2.08,2, -999.000,9, -999.000,9, -999.000,9,   -999.0,9,   -999.0,9
           NA,     P15,      7,   1,      10,   12019,  2,20090208,0611, -47.5150, -169.9942,  5210,   1413.8,     3.44,   34.395,2,-999.0000,9,    188.6,2,    190.9,2,    51.50,2,    32.76,2, -999.000,9,     2.22,2, -999.000,9, -999.000,9, -999.000,9,   -999.0,9,   -999.0,9
           NA,     P15,      7,   1,       9,   12031,  2,20090208,0611, -47.5150, -169.9942,  5210,   1565.8,     3.03,   34.460,2,-999.0000,9,    178.5,2,    179.9,2,    62.60,2,    33.61,2, -999.000,9,     2.30,2, -999.000,9, -999.000,9, -999.000,9,   -999.0,9,   -999.0,9
           NA,     P15,      7,   1,       7,   12032,  2,20090208,0611, -47.5150, -169.9942,  5210,   2247.4,     2.34,   34.659,2,-999.0000,9,    171.3,2,    171.8,2,  -999.00,9,    32.93,2, -999.000,9,     2.14,2, -999.000,9, -999.000,9, -999.000,9,   -999.0,9,   -999.0,9
           NA,     P15,      7,   1,       6,   12007,  2,20090208,0611, -47.5150, -169.9942,  5210,   2830.7,     1.97,   34.732,2,-999.0000,9,    189.7,2,    190.4,2,    90.82,2,    30.99,2, -999.000,9,     2.13,2, -999.000,9, -999.000,9, -999.000,9,   -999.0,9,   -999.0,9
           NA,     P15,      7,   1,       5,   12055,  2,20090208,0611, -47.5150, -169.9942,  5210,   3331.8,     1.57,   34.732,2,-999.0000,9,    197.7,2,    197.9,2,   102.73,2,    31.05,2, -999.000,9,     2.14,2, -999.000,9, -999.000,9, -999.000,9,   -999.0,9,   -999.0,9
           NA,     P15,      7,   1,       4,   12009,  2,20090208,0611, -47.5150, -169.9942,  5210,   3830.5,     1.24,   34.721,2,-999.0000,9,    203.6,2,    203.9,2,   113.48,2,    31.48,2, -999.000,9,     2.17,2, -999.000,9, -999.000,9, -999.000,9,   -999.0,9,   -999.0,9
           NA,     P15,      7,   1,       3,   12033,  2,20090208,0611, -47.5150, -169.9942,  5210,   4331.4,     1.01,   34.710,2,-999.0000,9,    208.4,2,    207.3,2,   121.52,2,    31.59,2, -999.000,9,     2.20,2, -999.000,9, -999.000,9, -999.000,9,   -999.0,9,   -999.0,9
           NA,     P15,      7,   1,       2,   12006,  2,20090208,0611, -47.5150, -169.9942,  5210,   4915.2,     0.99,   34.706,2,-999.0000,9,    210.5,2,    208.4,2,   123.19,2,    31.97,2, -999.000,9,     2.21,2, -999.000,9, -999.000,9, -999.000,9,   -999.0,9,   -999.0,9
           NA,     P15,      7,   1,       1,   12045,  2,20090208,0611, -47.5150, -169.9942,  5210,   5364.4,     1.02,   34.704,2,-999.0000,9,    211.3,2,    208.3,2,   125.99,2,    32.06,2, -999.000,9,     2.22,2, -999.000,9, -999.000,9, -999.000,9,   -999.0,9,   -999.0,9
           NA,     P15,      8,   1,      24,   12015,  2,20090208,1318, -47.1149, -170.4309,  5305,      3.9,    13.71,   34.506,2,-999.0000,9,    261.0,2,    259.1,2,     0.61,2,     5.83,2, -999.000,9,     0.44,2,    3.174,2,    1.776,2, -999.000,9,   2057.3,6,   2293.2,6
           NA,     P15,      8,   1,      23,   12046,  2,20090208,1318, -47.1149, -170.4309,  5305,     47.7,    13.17,   34.461,2,-999.0000,9,    262.3,2,    260.5,2,     0.66,2,     7.22,2, -999.000,9,     0.54,2,    3.143,2,    1.828,2, -999.000,9,   2064.5,2,   2288.9,2
           NA,     P15,      8,   1,      22,   12020,  2,20090208,1318, -47.1149, -170.4309,  5305,     95.4,     8.83,   34.329,2,-999.0000,9,    277.2,2,    278.2,2,     2.11,2,    15.72,2, -999.000,9,     1.08,2,    4.089,6,    2.262,6, -999.000,9,   2105.9,2,   2278.9,2
           NA,     P15,      8,   1,      21,   12003,  2,20090208,1318, -47.1149, -170.4309,  5305,    146.2,     8.43,   34.403,2,-999.0000,9,    264.0,2,   -999.0,9,     3.94,2,    17.32,2, -999.000,9,     1.17,2,    4.037,2,    2.202,2, -999.000,9,   2119.9,2,   -999.0,9
           NA,     P15,      8,   1,      20,   12051,  2,20090208,1318, -47.1149, -170.4309,  5305,    198.7,     8.29,   34.437,2,-999.0000,9,    263.2,2,    262.7,2,     4.48,2,    17.37,2, -999.000,9,     1.17,2,    3.964,2,    2.230,2, -999.000,9,   2120.9,2,   2281.4,2
           NA,     P15,      8,   1,      19,   12010,  2,20090208,1318, -47.1149, -170.4309,  5305,    248.7,     8.08,   34.433,2,-999.0000,9,    264.3,2,    263.2,2,     4.79,2,    17.69,2, -999.000,9,     1.20,2,    4.042,2,    2.191,2, -999.000,9,   2123.4,2,   2282.6,2
           NA,     P15,      8,   1,      18,   12018,  2,20090208,1318, -47.1149, -170.4309,  5305,    297.9,     7.73,   34.390,2,-999.0000,9,    268.6,2,    267.8,2,     4.82,2,    18.19,2, -999.000,9,     1.24,2,    4.099,2,    2.270,2, -999.000,9,   2124.4,2,   2281.4,2
           NA,     P15,      8,   1,      17,   12024,  2,20090208,1318, -47.1149, -170.4309,  5305,    396.7,     7.35,   34.335,2,-999.0000,9,    273.8,2,    273.8,2,     4.76,2,    18.68,2, -999.000,9,     1.26,2,    4.248,2,    2.292,2, -999.000,9,   2122.5,2,   2277.9,2
           NA,     P15,      8,   1,      16,   12001,  2,20090208,1318, -47.1149, -170.4309,  5305,    498.3,     7.42,   34.397,2,-999.0000,9,    257.2,2,    257.2,2,     6.59,2,    20.12,2, -999.000,9,     1.35,2,    4.019,2,    2.142,2, -999.000,9,   2134.4,2,   2280.4,6
           NA,     P15,      8,   1,      15,   12025,  2,20090208,1318, -47.1149, -170.4309,  5305,    599.0,     7.07,   34.377,2,-999.0000,9,    255.4,2,    255.5,2,     7.95,2,    21.04,2, -999.000,9,     1.42,2,    3.739,2,    2.092,2, -999.000,9,   2137.2,2,   2279.8,2
           NA,     P15,      8,   1,      14,   12041,  2,20090208,1318, -47.1149, -170.4309,  5305,    698.5,     6.56,   34.333,2,-999.0000,9,    247.7,2,    248.4,2,    10.46,2,    22.59,2, -999.000,9,     1.53,2,    3.572,2,    1.983,2, -999.000,9,   2146.7,2,   2281.9,2
           NA,     P15,      8,   1,      13,   12012,  2,20090208,1318, -47.1149, -170.4309,  5305,    898.4,     5.93,   34.375,2,-999.0000,9,    212.4,2,    212.4,2,    20.17,2,    26.49,2, -999.000,9,     1.79,2, -999.000,3, -999.000,3, -999.000,9,   -999.0,9,   2288.2,2
           NA,     P15,      8,   1,      12,   12022,  2,20090208,1318, -47.1149, -170.4309,  5305,   1096.4,     4.40,   34.300,2,-999.0000,9,    214.4,2,    216.7,2,    30.42,2,    29.70,2, -999.000,9,     2.00,2,    2.487,2,    1.291,2, -999.000,9,   2189.4,6,   2292.1,6
           NA,     P15,      8,   1,      11,   12016,  2,20090208,1318, -47.1149, -170.4309,  5305,   1297.6,     3.62,   34.363,2,-999.0000,9,    196.1,2,    198.2,2,    45.52,2,    32.11,2, -999.000,9,     2.17,2,    1.719,2,    0.900,2, -999.000,9,   2213.8,2,   2309.2,2
           NA,     P15,      8,   1,      10,   12019,  2,20090208,1318, -47.1149, -170.4309,  5305,   1496.6,     3.10,   34.431,2,-999.0000,9,    183.1,2,   -999.0,9,    58.42,2,    33.39,2, -999.000,9,     2.28,2,    1.184,2,    0.573,2, -999.000,9,   2233.1,2,   2317.8,2
           NA,     P15,      8,   1,       9,   12031,  2,20090208,1318, -47.1149, -170.4309,  5305,   1799.7,     2.68,   34.548,2,-999.0000,9,    171.8,2,    173.0,2,    73.12,2,    33.68,2, -999.000,9,     2.31,2,    0.591,2,    0.272,2, -999.000,9,   2251.9,2,   -999.0,3
           NA,     P15,      8,   1,       8,   12021,  2,20090208,1318, -47.1149, -170.4309,  5305,   1997.1,     2.49,   34.616,2,-999.0000,9,    172.8,2,    174.1,2,    75.79,2,    33.07,2, -999.000,9,     2.27,2,    0.412,2,    0.188,2, -999.000,9,   2253.4,2,   2332.9,2
           NA,     P15,      8,   1,       7,   12032,  2,20090208,1318, -47.1149, -170.4309,  5305,   2499.2,     2.18,   34.710,2,-999.0000,9,    182.8,2,    184.2,2,    85.59,2,    31.19,2, -999.000,9,     2.15,2,    0.175,2,    0.072,2, -999.000,9,   2253.1,2,   2347.2,2
           NA,     P15,      8,   1,       6,   12007,  2,20090208,1318, -47.1149, -170.4309,  5305,   3003.4,     1.81,   34.735,2,-999.0000,9,    193.2,2,    194.4,2,    94.85,2,    30.70,2, -999.000,9,     2.11,2, -999.000,9, -999.000,9, -999.000,9,   2252.2,2,   2352.8,6
           NA,     P15,      8,   1,       5,   12055,  2,20090208,1318, -47.1149, -170.4309,  5305,   3500.1,     1.46,   34.729,2,-999.0000,9,    199.5,2,    200.7,2,   105.94,2,    31.05,2, -999.000,9,     2.14,2,    0.104,2,    0.042,2, -999.000,9,   2257.5,2,   2355.6,2
           NA,     P15,      8,   1,       4,   12009,  2,20090208,1318, -47.1149, -170.4309,  5305,   3997.1,     1.16,   34.717,2,-999.0000,9,    205.2,2,    205.7,2,   115.22,2,    31.25,2, -999.000,9,     2.18,2,    0.134,6,    0.058,6, -999.000,9,   2260.2,2,   -999.0,4
           NA,     P15,      8,   1,       3,   12033,  2,20090208,1318, -47.1149, -170.4309,  5305,   4499.3,     1.00,   34.708,2,-999.0000,9,    209.2,2,    207.7,2,   121.04,2,    31.39,2, -999.000,9,     2.20,2,    0.153,2,    0.066,2, -999.000,9,   2261.9,2,   2361.2,2
           NA,     P15,      8,   1,       2,   12006,  2,20090208,1318, -47.1149, -170.4309,  5305,   4998.6,     0.99,   34.705,2,-999.0000,9,    210.6,2,    208.9,2,   123.47,2,    31.80,2, -999.000,9,     2.22,2,    0.198,2,    0.084,2, -999.000,9,   2261.6,2,   2360.2,2
           NA,     P15,      8,   1,       1,   12045,  2,20090208,1318, -47.1149, -170.4309,  5305,   5430.3,     1.03,   34.704,2,-999.0000,9,    211.4,2,    208.7,2,   124.25,2,    31.84,2, -999.000,9,     2.22,2,    0.221,2,    0.095,2, -999.000,9,   2263.4,6,   2362.4,6
           NA,     P15,      9,   1,      24,   12015,  2,20090208,2126, -46.7237, -170.8905,  5277,      3.3,    13.77,   34.453,2,-999.0000,9,    258.6,2,    257.3,2,     0.64,2,     6.32,2, -999.000,9,     0.48,2, -999.000,9, -999.000,9, -999.000,9,   2056.9,2,   2290.7,2
           NA,     P15,      9,   1,      23,   12046,  2,20090208,2126, -46.7237, -170.8905,  5277,     65.6,    12.42,   34.676,2,-999.0000,9,    261.9,2,    260.0,2,     0.90,2,     6.00,2, -999.000,9,     0.57,2, -999.000,9, -999.000,9, -999.000,9,   -999.0,9,   -999.0,9
           NA,     P15,      9,   1,      22,   12020,  2,20090208,2126, -46.7237, -170.8905,  5277,    116.0,    11.19,   34.843,2,-999.0000,9,    250.5,2,    249.1,2,     2.45,2,     9.69,2, -999.000,9,     0.72,2, -999.000,9, -999.000,9, -999.000,9,   -999.0,9,   -999.0,9
           NA,     P15,      9,   1,      21,   12003,  2,20090208,2126, -46.7237, -170.8905,  5277,    164.4,    10.57,   34.782,2,-999.0000,9,    248.6,2,    247.1,2,     3.01,2,    11.44,2, -999.000,9,     0.83,2, -999.000,9, -999.000,9, -999.000,9,   -999.0,9,   -999.0,9
           NA,     P15,      9,   1,      19,   12010,  2,20090208,2126, -46.7237, -170.8905,  5277,    261.7,     9.45,   34.628,2,-999.0000,9,    250.7,2,    249.7,2,     3.86,2,    14.66,2, -999.000,9,     1.01,2, -999.000,9, -999.000,9, -999.000,9,   -999.0,9,   -999.0,9
           NA,     P15,      9,   1,      18,   12018,  2,20090208,2126, -46.7237, -170.8905,  5277,    321.8,     9.34,   34.650,2,-999.0000,9,    241.7,2,    240.7,2,     4.78,2,    15.90,2, -999.000,9,     1.08,2, -999.000,9, -999.000,9, -999.000,9,   -999.0,9,   -999.0,9
           NA,     P15,      9,   1,      17,   12024,  2,20090208,2126, -46.7237, -170.8905,  5277,    430.5,     8.34,   34.513,2,-999.0000,9,    247.2,2,    247.3,2,     5.64,2,    18.06,2, -999.000,9,     1.23,2, -999.000,9, -999.000,9, -999.000,9,   -999.0,9,   -999.0,9
           NA,     P15,      9,   1,      16,   12001,  2,20090208,2126, -46.7237, -170.8905,  5277,    530.2,     7.89,   34.477,2,-999.0000,9,    237.1,2,    236.9,2,     7.16,2,    20.55,2, -999.000,9,     1.36,2, -999.000,9, -999.000,9, -999.000,9,   -999.0,9,   -999.0,9
           NA,     P15,      9,   1,      15,   12025,  2,20090208,2126, -46.7237, -170.8905,  5277,    631.9,     7.38,   34.431,2,-999.0000,9,    239.6,2,    239.5,2,     8.48,2,    21.48,2, -999.000,9,     1.45,2, -999.000,9, -999.000,9, -999.000,9,   -999.0,9,   -999.0,9
           NA,     P15,      9,   1,      14,   12041,  2,20090208,2126, -46.7237, -170.8905,  5277,    747.9,     6.93,   34.403,2,-999.0000,9,    231.3,2,    232.5,2,    11.06,2,    23.10,2, -999.000,9,     1.54,2, -999.000,9, -999.000,9, -999.000,9,   -999.0,9,   -999.0,9
           NA,     P15,      9,   1,      13,   12012,  2,20090208,2126, -46.7237, -170.8905,  5277,    963.4,     5.78,   34.361,2,-999.0000,9,    213.3,2,    214.0,2,    20.70,2,    27.34,2, -999.000,9,     1.82,2, -999.000,9, -999.000,9, -999.000,9,   -999.0,9,   -999.0,9
           NA,     P15,      9,   1,      12,   12022,  2,20090208,2126, -46.7237, -170.8905,  5277,   1164.7,     4.38,   34.320,2,-999.0000,9,    209.5,2,    211.1,2,    32.33,2,    30.10,2, -999.000,9,     2.03,2, -999.000,9, -999.000,9, -999.000,9,   -999.0,9,   -999.0,9
           NA,     P15,      9,   1,      11,   12016,  2,20090208,2126, -46.7237, -170.8905,  5277,   1367.0,     3.69,   34.376,2,-999.0000,9,    193.3,2,    194.8,2,    46.59,2,    32.38,2, -999.000,9,     2.17,2, -999.000,9, -999.000,9, -999.000,9,   -999.0,9,   -999.0,9
           NA,     P15,      9,   1,      10,   12019,  2,20090208,2126, -46.7237, -170.8905,  5277,   1564.8,     3.04,   34.436,2,-999.0000,9,    183.1,2,    185.2,2,    59.79,2,    33.76,2, -999.000,9,     2.29,2, -999.000,9, -999.000,9, -999.000,9,   -999.0,9,   -999.0,9
           NA,     P15,      9,   1,       9,   12031,  2,20090208,2126, -46.7237, -170.8905,  5277,   1779.2,     2.77,   34.521,2,-999.0000,9,    173.4,2,    174.3,2,    69.98,2,    33.87,2, -999.000,9,     2.33,2, -999.000,9, -999.000,9, -999.000,9,   -999.0,9,   -999.0,9
           NA,     P15,      9,   1,       8,   12021,  2,20090208,2126, -46.7237, -170.8905,  5277,   1996.3,     2.53,   34.603,2,-999.0000,9,    171.1,2,    171.3,2,    77.59,2,    33.61,2, -999.000,9,     2.30,2, -999.000,9, -999.000,9, -999.000,9,   -999.0,9,   -999.0,9
           NA,     P15,      9,   1,       7,   12032,  2,20090208,2126, -46.7237, -170.8905,  5277,   2664.8,     2.09,   34.726,2,-999.0000,9,    186.9,2,    188.6,2,    86.35,2,    31.24,2, -999.000,9,     2.13,2, -999.000,9, -999.000,9, -999.000,9,   -999.0,9,   -999.0,9
           NA,     P15,      9,   1,       6,   12007,  2,20090208,2126, -46.7237, -170.8905,  5277,   3164.9,     1.72,   34.735,2,-999.0000,9,    194.9,2,    196.0,2,    97.10,2,    30.89,2, -999.000,9,     2.13,2, -999.000,9, -999.000,9, -999.000,9,   -999.0,9,   -999.0,9
           NA,     P15,      9,   1,       5,   12055,  2,20090208,2126, -46.7237, -170.8905,  5277,   3663.0,     1.35,   34.725,2,-999.0000,9,    201.3,2,    201.7,2,   108.77,2,    31.46,2, -999.000,9,     2.16,2, -999.000,9, -999.000,9, -999.000,9,   -999.0,9,   -999.0,9
           NA,     P15,      9,   1,       4,   12009,  2,20090208,2126, -46.7237, -170.8905,  5277,   4161.6,     1.09,   34.713,2,-999.0000,9,    206.6,2,    206.0,2,   116.78,2,    31.78,2, -999.000,9,     2.20,2, -999.000,9, -999.000,9, -999.000,9,   -999.0,9,   -999.0,9
           NA,     P15,      9,   1,       3,   12033,  2,20090208,2126, -46.7237, -170.8905,  5277,   4664.6,     0.99,   34.707,2,-999.0000,9,    209.7,2,    208.1,2,   121.43,2,    31.81,2, -999.000,9,     2.22,2, -999.000,9, -999.000,9, -999.000,9,   -999.0,9,   -999.0,9
           NA,     P15,      9,   1,       2,   12006,  2,20090208,2126, -46.7237, -170.8905,  5277,   5164.9,     1.00,   34.705,2,-999.0000,9,    210.8,2,    209.4,2,   122.94,2,    32.08,2, -999.000,9,     2.23,2, -999.000,9, -999.000,9, -999.000,9,   -999.0,9,   -999.0,9
           NA,     P15,      9,   1,       1,   12045,  2,20090208,2126, -46.7237, -170.8905,  5277,   5380.6,     1.02,   34.705,2,-999.0000,9,    211.7,2,    209.5,2,   123.19,2,    31.90,2, -999.000,9,     2.22,2, -999.000,9, -999.000,9, -999.000,9,   -999.0,9,   -999.0,9