BOTTLE,20214902JOAExport
EXPOCODE,SECT_ID,STNNBR,CASTNO,SAMPNO,BTLNBR,BTLNBR_FLAG_W,DATE,TIME,LATITUDE,LONGITUDE,DEPTH,CTDPRS,CTDTMP,CTDSAL,CTDSAL_FLAG_W,SALNTY,SALNTY_FLAG_W,CTDOXY,CTDOXY_FLAG_W,OXYGEN,OXYGEN_FLAG_W,SILCAT,SILCAT_FLAG_W,NITRAT,NITRAT_FLAG_W,NITRIT,NITRIT_FLAG_W,PHSPHT,PHSPHT_FLAG_W,CFC-11,CFC-11_FLAG_W,CFC-12,CFC-12_FLAG_W,SF6,SF6_FLAG_W,TCARBN,TCARBN_FLAG_W,ALKALI,ALKALI_FLAG_W
,,,,,,,,,,,,DB,ITS-90,PSS-78,,PSS-78,,UMOL/KG,,UMOL/KG,,UMOL/KG,,UMOL/KG,,UMOL/KG,,UMOL/KG,,PMOL/KG,,PMOL/KG,,FMOL/KG,,UMOL/KG,,UMOL/KG
           NA,     P15,    104,   1,      24,   12014,  2,20090310,1535,  -6.9796, -168.7639,  5482,      2.2,    29.20,   35.710,2,-999.0000,9,    195.8,2,    196.7,2,     1.10,2,     0.77,2, -999.000,9,     0.27,2, -999.000,9, -999.000,9, -999.000,9,   1997.0,2,   2355.3,6
           NA,     P15,    104,   1,      23,   12046,  2,20090310,1535,  -6.9796, -168.7639,  5482,     14.4,    29.21,   35.709,2,  35.7067,2,    195.0,2,    196.6,2,     1.08,2,     0.78,2, -999.000,9,     0.28,2, -999.000,9, -999.000,9, -999.000,9,   1996.4,2,   2354.2,2
           NA,     P15,    104,   1,      22,   12020,  2,20090310,1535,  -6.9796, -168.7639,  5482,     38.4,    28.86,   35.723,2,-999.0000,9,    193.1,2,    194.3,2,     1.28,2,     1.89,2, -999.000,9,     0.37,2, -999.000,9, -999.000,9, -999.000,9,   2010.0,2,   2358.5,2
           NA,     P15,    104,   1,      21,   12003,  2,20090310,1535,  -6.9796, -168.7639,  5482,     61.1,    28.62,   35.746,2,  35.7400,2,    192.7,2,    193.8,2,     1.60,2,     2.98,2, -999.000,9,     0.45,2, -999.000,9, -999.000,9, -999.000,9,   -999.0,9,   -999.0,9
           NA,     P15,    104,   1,      20,   12051,  2,20090310,1535,  -6.9796, -168.7639,  5482,     81.5,    28.11,   35.647,2,  35.6340,2,    193.9,2,    194.7,2,     2.18,2,     4.09,2, -999.000,9,     0.51,2, -999.000,9, -999.000,9, -999.000,9,   -999.0,9,   -999.0,9
           NA,     P15,    104,   1,      19,   12010,  2,20090310,1535,  -6.9796, -168.7639,  5482,    129.6,    27.45,   35.652,2,  35.6603,2,    185.9,2,    187.1,2,     2.35,2,     4.55,2, -999.000,9,     0.57,2, -999.000,9, -999.000,9, -999.000,9,   2044.9,2,   2355.5,2
           NA,     P15,    104,   1,      18,   12035,  2,20090310,1535,  -6.9796, -168.7639,  5482,    162.5,    26.72,   36.256,2,  36.2693,2,    157.8,2,    159.2,2,     1.64,2,     3.71,2, -999.000,9,     0.50,2, -999.000,9, -999.000,9, -999.000,9,   2075.3,2,   2389.1,2
           NA,     P15,    104,   1,      17,   12024,  2,20090310,1535,  -6.9796, -168.7639,  5482,    230.8,    19.49,   35.640,2,  35.6301,2,    133.0,2,    133.7,2,     3.60,2,    10.43,2, -999.000,9,     1.00,2, -999.000,9, -999.000,9, -999.000,9,   -999.0,9,   -999.0,9
           NA,     P15,    104,   1,      16,   12001,  2,20090310,1535,  -6.9796, -168.7639,  5482,    277.4,    14.65,   35.055,2,-999.0000,9,     92.8,2,     93.5,2,     9.97,2,    18.40,2, -999.000,9,     1.60,2, -999.000,9, -999.000,9, -999.000,9,   2180.2,2,   2314.4,2
           NA,     P15,    104,   1,      15,   12025,  2,20090310,1535,  -6.9796, -168.7639,  5482,    327.4,    10.83,   34.785,2,  34.7834,2,     67.0,2,     66.6,2,    21.37,2,    28.68,2, -999.000,9,     2.15,2, -999.000,9, -999.000,9, -999.000,9,   2221.7,2,   2305.6,2
           NA,     P15,    104,   1,      14,   12041,  2,20090310,1535,  -6.9796, -168.7639,  5482,    379.5,     9.43,   34.706,2,-999.0000,9,    106.2,2,    107.6,2,    23.41,2,    28.30,2, -999.000,9,     2.02,2, -999.000,9, -999.000,9, -999.000,9,   -999.0,9,   -999.0,9
           NA,     P15,    104,   1,      13,   12012,  2,20090310,1535,  -6.9796, -168.7639,  5482,    446.8,     8.18,   34.621,2,  34.6195,2,    108.5,2,    110.0,2,    29.37,2,    30.99,2, -999.000,9,     2.17,2, -999.000,9, -999.000,9, -999.000,9,   -999.0,9,   -999.0,9
           NA,     P15,    104,   1,      12,   12022,  2,20090310,1535,  -6.9796, -168.7639,  5482,    570.5,     6.74,   34.551,2,  34.5508,2,    104.5,2,    106.6,2,    40.51,2,    34.09,2, -999.000,9,     2.39,2, -999.000,9, -999.000,9, -999.000,9,   2236.9,2,   2310.8,2
           NA,     P15,    104,   1,      11,   12016,  2,20090310,1535,  -6.9796, -168.7639,  5482,    697.7,     5.90,   34.534,2,  34.5343,2,     97.1,2,     99.0,2,    51.98,2,    36.56,2, -999.000,9,     2.58,2, -999.000,9, -999.000,9, -999.000,9,   -999.0,9,   -999.0,9
           NA,     P15,    104,   1,      10,   12019,  2,20090310,1535,  -6.9796, -168.7639,  5482,    960.5,     4.65,   34.539,2,  34.5386,2,     96.9,2,     98.7,2,    73.36,2,    37.94,2, -999.000,9,     2.72,2, -999.000,9, -999.000,9, -999.000,9,   -999.0,9,   -999.0,9
           NA,     P15,    104,   1,       9,   12031,  2,20090310,1535,  -6.9796, -168.7639,  5482,   1212.9,     3.79,   34.557,2,  34.5567,2,    111.0,2,    114.3,2,    88.98,2,    37.31,2, -999.000,9,     2.67,2, -999.000,9, -999.000,9, -999.000,9,   -999.0,9,   -999.0,9
           NA,     P15,    104,   1,       8,   12021,  2,20090310,1535,  -6.9796, -168.7639,  5482,   1714.4,     2.57,   34.614,2,  34.6136,2,    124.4,2,    129.1,2,   114.76,2,    36.74,2, -999.000,9,     2.62,2, -999.000,9, -999.000,9, -999.000,9,   -999.0,9,   -999.0,9
           NA,     P15,    104,   1,       7,   12032,  2,20090310,1535,  -6.9796, -168.7639,  5482,   2314.8,     1.97,   34.655,2,  34.6543,2,    128.5,2,    133.5,2,   133.14,2,    36.88,2, -999.000,9,     2.61,2, -999.000,9, -999.000,9, -999.000,9,   -999.0,9,   -999.0,9
           NA,     P15,    104,   1,       6,   12007,  2,20090310,1535,  -6.9796, -168.7639,  5482,   2797.8,     1.72,   34.674,2,  34.6728,2,    139.5,2,    145.0,2,   136.82,2,    36.00,2, -999.000,9,     2.54,2, -999.000,9, -999.000,9, -999.000,9,   -999.0,9,   -999.0,9
           NA,     P15,    104,   1,       5,   12002,  2,20090310,1535,  -6.9796, -168.7639,  5482,   3398.7,     1.53,   34.686,2,  34.6846,2,    153.6,2,    158.6,2,   136.52,2,    35.32,2, -999.000,9,     2.47,2, -999.000,9, -999.000,9, -999.000,9,   -999.0,9,   -999.0,9
           NA,     P15,    104,   1,       4,   12008,  2,20090310,1535,  -6.9796, -168.7639,  5482,   4014.7,     1.39,   34.695,2,  34.6932,2,    167.3,2,    172.3,2,   132.21,2,    34.34,2, -999.000,9,     2.38,2, -999.000,9, -999.000,9, -999.000,9,   -999.0,9,   -999.0,9
           NA,     P15,    104,   1,       3,   12033,  2,20090310,1535,  -6.9796, -168.7639,  5482,   4678.3,     1.28,   34.703,2,  34.7032,2,    182.7,2,    187.1,2,   127.05,2,    33.36,2, -999.000,9,     2.32,2, -999.000,9, -999.000,9, -999.000,9,   -999.0,9,   -999.0,9
           NA,     P15,    104,   1,       2,   12006,  2,20090310,1535,  -6.9796, -168.7639,  5482,   5264.9,     1.23,   34.706,2,  34.7072,2,    192.4,2,    196.7,2,  -999.00,9,  -999.00,9, -999.000,9,  -999.00,9, -999.000,9, -999.000,9, -999.000,9,   -999.0,9,   -999.0,9
           NA,     P15,    104,   1,       1,   12045,  2,20090310,1535,  -6.9796, -168.7639,  5482,   5622.6,     1.24,   34.707,2,  34.7070,2,    202.3,2,    199.7,2,   121.96,2,    32.34,2, -999.000,9,     2.25,2, -999.000,9, -999.000,9, -999.000,9,   -999.0,9,   -999.0,9
           NA,     P15,    105,   1,      24,   12014,  2,20090311,0100,  -6.4972, -168.7732,  5675,      4.8,    29.07,   35.785,2,  35.7882,2,    197.7,2,   -999.0,9,     1.47,2,     2.76,2, -999.000,9,     0.41,2,    1.569,2,    0.956,2, -999.000,9,   2015.8,6,   2357.9,6
           NA,     P15,    105,   1,      23,   12046,  2,20090311,0100,  -6.4972, -168.7732,  5675,     22.7,    28.92,   35.780,2,-999.0000,9,    198.4,2,    198.4,2,     1.53,2,     2.86,2, -999.000,9,     0.41,2,    1.582,6,    0.985,6, -999.000,9,   2017.2,2,   2355.4,2
           NA,     P15,    105,   1,      22,   12020,  2,20090311,0100,  -6.4972, -168.7732,  5675,     47.7,    28.56,   35.690,2,  35.6964,2,    199.7,2,    199.7,2,     1.93,2,     3.69,2, -999.000,9,     0.46,2,    1.600,2,    0.986,2, -999.000,9,   2024.2,2,   2349.9,2
           NA,     P15,    105,   1,      21,   12003,  2,20090311,0100,  -6.4972, -168.7732,  5675,     72.1,    28.44,   35.713,2,-999.0000,9,    198.2,2,    198.3,2,     1.78,2,     3.61,2, -999.000,9,     0.47,2,    1.591,2,    0.967,2, -999.000,9,   2022.6,2,   2351.2,2
           NA,     P15,    105,   1,      20,   12051,  2,20090311,0100,  -6.4972, -168.7732,  5675,     96.2,    28.43,   35.722,2,  35.7238,2,    197.0,2,    198.0,2,     1.83,2,     3.66,2, -999.000,9,     0.48,2,    1.595,2,    0.999,2, -999.000,9,   2027.7,2,   2351.4,2
           NA,     P15,    105,   1,      19,   12010,  2,20090311,0100,  -6.4972, -168.7732,  5675,    147.2,    27.28,   35.855,2,-999.0000,9,    175.0,2,    172.8,2,     2.05,2,     4.09,2, -999.000,9,     0.51,2,    1.692,2,    1.054,2, -999.000,9,   2051.4,2,   2365.7,2
           NA,     P15,    105,   1,      18,   12035,  2,20090311,0100,  -6.4972, -168.7732,  5675,    177.0,    24.54,   36.307,2,  36.2744,2,    151.6,2,    151.9,2,     1.68,2,     5.64,2, -999.000,9,     0.62,2,    1.954,2,    1.176,2, -999.000,9,   2107.1,2,   2387.6,2
           NA,     P15,    105,   1,      17,   12024,  2,20090311,0100,  -6.4972, -168.7732,  5675,    247.5,    14.40,   35.007,2,  35.0433,2,     91.3,2,     90.6,2,    10.36,2,    19.11,2, -999.000,9,     1.62,2,    1.792,2,    0.987,2, -999.000,9,   2183.6,2,   2312.2,2
           NA,     P15,    105,   1,      15,   12025,  2,20090311,0100,  -6.4972, -168.7732,  5675,    346.9,     9.71,   34.723,2,  34.7219,2,    106.5,2,    106.6,2,    22.46,2,    28.03,2, -999.000,9,     1.98,2,    0.755,2,    0.407,2, -999.000,9,   2203.2,2,   2302.3,2
           NA,     P15,    105,   1,      14,   12041,  2,20090311,0100,  -6.4972, -168.7732,  5675,    417.2,     8.31,   34.627,2,-999.0000,9,    111.0,2,    111.3,2,    27.77,2,    30.55,2, -999.000,9,     2.12,2,    0.463,2,    0.257,2, -999.000,9,   2213.7,2,   2305.2,2
           NA,     P15,    105,   1,      13,   12012,  2,20090311,0100,  -6.4972, -168.7732,  5675,    497.7,     7.42,   34.575,2,  34.5775,2,    111.0,2,    111.1,2,    33.44,2,    32.57,2, -999.000,9,     2.26,2,    0.335,2,    0.185,2, -999.000,9,   2222.1,2,   2307.7,2
           NA,     P15,    105,   1,      12,   12022,  2,20090311,0100,  -6.4972, -168.7732,  5675,    649.0,     6.57,   34.541,2,  34.5451,2,    108.3,2,    107.9,2,    41.66,2,    34.54,2, -999.000,9,     2.40,2,    0.195,2,    0.099,2, -999.000,9,   2236.8,6,   2310.5,6
           NA,     P15,    105,   1,      11,   12016,  2,20090311,0100,  -6.4972, -168.7732,  5675,    797.0,     5.64,   34.534,2,  34.5345,2,     97.0,2,     97.5,2,    55.39,2,    37.26,2, -999.000,9,     2.62,2,    0.061,2,    0.033,2, -999.000,9,   2260.4,2,   2325.4,2
           NA,     P15,    105,   1,      10,   12019,  2,20090311,0100,  -6.4972, -168.7732,  5675,   1096.9,     4.16,   34.551,2,  34.5541,2,     95.9,2,     96.2,2,    84.65,2,    39.09,2, -999.000,9,     2.79,2,    0.008,6,    0.004,6, -999.000,9,   2295.8,2,   2351.8,2
           NA,     P15,    105,   1,       9,   12031,  2,20090311,0100,  -6.4972, -168.7732,  5675,   1398.1,     3.29,   34.581,2,  34.5848,2,    107.0,2,    108.3,2,   103.31,2,    38.51,2, -999.000,9,     2.75,2,    0.001,2,    0.001,2, -999.000,9,   2309.7,2,   2371.2,2
           NA,     P15,    105,   1,       8,   12021,  2,20090311,0100,  -6.4972, -168.7732,  5675,   1898.0,     2.38,   34.624,2,  34.6290,2,    127.9,2,    129.6,2,   120.32,2,    37.23,2, -999.000,9,     2.62,2,   -0.001,2,    0.000,2, -999.000,9,   -999.0,4,   2391.1,2
           NA,     P15,    105,   1,       7,   12032,  2,20090311,0100,  -6.4972, -168.7732,  5675,   2497.9,     1.85,   34.662,2,  34.6706,2,    135.5,2,    137.1,2,   136.21,2,    36.97,2, -999.000,9,     2.58,2,    0.000,2,    0.000,2, -999.000,9,   2328.0,2,   2412.9,2
           NA,     P15,    105,   1,       6,   12007,  2,20090311,0100,  -6.4972, -168.7732,  5675,   2998.1,     1.64,   34.676,2,  34.6787,2,    149.5,2,    150.9,2,   136.25,2,    36.01,2, -999.000,9,     2.50,2,   -0.003,2,   -0.001,2, -999.000,9,   2322.4,2,   2414.3,6
           NA,     P15,    105,   1,       5,   12002,  2,20090311,0100,  -6.4972, -168.7732,  5675,   3597.5,     1.47,   34.687,2,  34.6893,2,    163.8,2,    162.9,2,   134.88,2,    35.21,2, -999.000,9,     2.42,2,    0.004,2,    0.000,2, -999.000,9,   2309.4,2,   2406.0,2
           NA,     P15,    105,   1,       4,   12008,  2,20090311,0100,  -6.4972, -168.7732,  5675,   4198.3,     1.35,   34.695,2,  34.6991,2,    176.6,2,    176.2,2,   133.05,2,    34.70,2, -999.000,9,     2.36,2,    0.004,2,    0.000,2, -999.000,9,   2299.4,2,   2403.1,2
           NA,     P15,    105,   1,       3,   12033,  2,20090311,0100,  -6.4972, -168.7732,  5675,   4796.1,     1.26,   34.702,2,  34.7050,2,    191.3,2,    190.0,2,   127.53,2,    33.63,2, -999.000,9,     2.29,2,    0.013,2,    0.005,2, -999.000,9,   -999.0,4,   2388.0,2
           NA,     P15,    105,   1,       2,   12006,  2,20090311,0100,  -6.4972, -168.7732,  5675,   5299.4,     1.22,   34.705,2,  34.7075,2,    200.3,2,    198.4,2,   123.38,2,    32.97,2, -999.000,9,     2.25,2,    0.028,6,    0.012,6, -999.000,9,   2271.5,2,   2374.4,2
           NA,     P15,    105,   1,       1,   12045,  2,20090311,0100,  -6.4972, -168.7732,  5675,   5785.8,     1.26,   34.705,2,  34.7081,2,    203.1,2,    200.1,2,   122.70,2,    32.80,2, -999.000,9,     2.24,2,    0.027,2,    0.013,2, -999.000,9,   2269.3,6,   2375.5,6
           NA,     P15,    106,   1,      24,   12014,  2,20090311,0827,  -5.9915, -168.7570,  5635,      2.3,    28.98,   35.747,2,-999.0000,9,    197.0,2,    197.7,2,     1.46,2,     2.78,2, -999.000,9,     0.41,2, -999.000,9, -999.000,9, -999.000,9,   2013.9,2,   2356.3,6
           NA,     P15,    106,   1,      23,   12046,  2,20090311,0827,  -5.9915, -168.7570,  5635,     29.4,    28.98,   35.760,2,  35.7600,2,    197.2,2,    197.9,2,     1.43,2,     2.52,2, -999.000,9,     0.40,2, -999.000,9, -999.000,9, -999.000,9,   -999.0,9,   -999.0,9
           NA,     P15,    106,   1,      22,   12020,  2,20090311,0827,  -5.9915, -168.7570,  5635,     55.2,    28.80,   35.779,2,-999.0000,9,    197.0,2,    197.3,2,     1.47,2,     2.93,2, -999.000,9,     0.43,2, -999.000,9, -999.000,9, -999.000,9,   2016.9,2,   2355.4,2
           NA,     P15,    106,   1,      21,   12003,  2,20090311,0827,  -5.9915, -168.7570,  5635,     80.4,    28.68,   35.741,2,  35.7381,2,    195.4,2,    196.2,2,     1.61,2,     3.28,2, -999.000,9,     0.46,2, -999.000,9, -999.000,9, -999.000,9,   -999.0,9,   -999.0,9
           NA,     P15,    106,   1,      20,   12051,  2,20090311,0827,  -5.9915, -168.7570,  5635,    110.5,    28.53,   35.732,2,-999.0000,9,    193.7,2,    193.8,2,     1.75,2,     3.52,2, -999.000,9,     0.48,2, -999.000,9, -999.000,9, -999.000,9,   2027.0,2,   2357.3,2
           NA,     P15,    106,   1,      19,   12010,  2,20090311,0827,  -5.9915, -168.7570,  5635,    164.2,    25.57,   36.257,2,  36.2699,2,    152.8,2,    153.0,2,     1.75,2,     5.54,2, -999.000,9,     0.61,2, -999.000,9, -999.000,9, -999.000,9,   2093.8,2,   2388.0,2
           NA,     P15,    106,   1,      18,   12035,  2,20090311,0827,  -5.9915, -168.7570,  5635,    213.7,    20.20,   35.759,2,-999.0000,9,    144.9,2,    142.2,2,     2.82,2,     9.25,2, -999.000,9,     0.89,2, -999.000,9, -999.000,9, -999.000,9,   2129.5,2,   2374.6,2
           NA,     P15,    106,   1,      17,   12024,  2,20090311,0827,  -5.9915, -168.7570,  5635,    265.3,    14.83,   35.108,2,  35.1014,2,     94.7,2,     95.2,2,    10.33,2,    19.24,2, -999.000,9,     1.60,2, -999.000,9, -999.000,9, -999.000,9,   -999.0,9,   -999.0,9
           NA,     P15,    106,   1,      15,   12025,  2,20090311,0827,  -5.9915, -168.7570,  5635,    398.3,     8.53,   34.638,2,  34.6708,2,    107.5,2,    104.9,2,    25.56,2,    29.86,2, -999.000,9,     2.10,2, -999.000,9, -999.000,9, -999.000,9,   2211.5,2,   2303.6,2
           NA,     P15,    106,   1,      14,   12041,  2,20090311,0827,  -5.9915, -168.7570,  5635,    455.3,     7.72,   34.590,2,  34.6028,2,    108.4,2,    109.3,2,    31.24,2,    31.89,2, -999.000,9,     2.21,2, -999.000,9, -999.000,9, -999.000,9,   2219.2,2,   2300.3,2
           NA,     P15,    106,   1,      13,   12012,  2,20090311,0827,  -5.9915, -168.7570,  5635,    548.5,     6.82,   34.549,2,  34.5563,2,    108.5,2,    109.7,2,    38.33,2,    33.79,2, -999.000,9,     2.35,2, -999.000,9, -999.000,9, -999.000,9,   -999.0,9,   -999.0,9
           NA,     P15,    106,   1,      12,   12022,  2,20090311,0827,  -5.9915, -168.7570,  5635,    697.4,     5.88,   34.529,2,  34.5298,2,    102.3,2,    103.7,2,    51.85,2,    36.40,2, -999.000,9,     2.54,2, -999.000,9, -999.000,9, -999.000,9,   -999.0,9,   -999.0,9
           NA,     P15,    106,   1,      11,   12016,  2,20090311,0827,  -5.9915, -168.7570,  5635,    896.8,     4.93,   34.535,2,  34.5362,2,     89.7,2,     91.0,2,    68.12,2,    38.96,2, -999.000,9,     2.74,2, -999.000,9, -999.000,9, -999.000,9,   -999.0,9,   -999.0,9
           NA,     P15,    106,   1,      10,   12019,  2,20090311,0827,  -5.9915, -168.7570,  5635,   1198.2,     3.79,   34.562,2,  34.5631,2,     99.5,2,    100.4,2,    94.21,2,    38.98,2, -999.000,9,     2.78,2, -999.000,9, -999.000,9, -999.000,9,   -999.0,9,   -999.0,9
           NA,     P15,    106,   1,       9,   12031,  2,20090311,0827,  -5.9915, -168.7570,  5635,   1542.0,     2.96,   34.594,2,  34.5954,2,    115.2,2,    113.4,2,   110.72,2,    38.35,2, -999.000,9,     2.70,2, -999.000,9, -999.000,9, -999.000,9,   -999.0,9,   -999.0,9
           NA,     P15,    106,   1,       8,   12021,  2,20090311,0827,  -5.9915, -168.7570,  5635,   2083.9,     2.25,   34.635,2,  34.6366,2,    123.5,2,    123.0,2,   128.95,2,    37.61,2, -999.000,9,     2.64,2, -999.000,9, -999.000,9, -999.000,9,   -999.0,9,   -999.0,9
           NA,     P15,    106,   1,       7,   12032,  2,20090311,0827,  -5.9915, -168.7570,  5635,   2680.0,     1.79,   34.666,2,  34.6667,2,    137.9,2,    137.9,2,   138.52,2,    36.86,2, -999.000,9,     2.55,2, -999.000,9, -999.000,9, -999.000,9,   -999.0,9,   -999.0,9
           NA,     P15,    106,   1,       6,   12007,  2,20090311,0827,  -5.9915, -168.7570,  5635,   3180.6,     1.59,   34.679,2,  34.6795,2,    152.1,2,    153.4,2,   137.51,2,    35.84,2, -999.000,9,     2.46,2, -999.000,9, -999.000,9, -999.000,9,   -999.0,9,   -999.0,9
           NA,     P15,    106,   1,       5,   12002,  2,20090311,0827,  -5.9915, -168.7570,  5635,   3803.2,     1.43,   34.690,2,  34.6904,2,    166.5,2,    165.9,2,   136.39,2,    34.98,2, -999.000,9,     2.39,2, -999.000,9, -999.000,9, -999.000,9,   -999.0,9,   -999.0,9
           NA,     P15,    106,   1,       4,   12008,  2,20090311,0827,  -5.9915, -168.7570,  5635,   4407.0,     1.33,   34.698,2,  34.6983,2,    180.7,2,    179.3,2,   131.53,2,    34.07,2, -999.000,9,     2.33,2, -999.000,9, -999.000,9, -999.000,9,   -999.0,9,   -999.0,9
           NA,     P15,    106,   1,       3,   12033,  2,20090311,0827,  -5.9915, -168.7570,  5635,   4979.8,     1.24,   34.704,2,  34.7036,2,    196.3,2,    191.5,2,   125.55,2,    33.04,2, -999.000,9,     2.27,2, -999.000,9, -999.000,9, -999.000,9,   -999.0,9,   -999.0,9
           NA,     P15,    106,   1,       2,   12006,  2,20090311,0827,  -5.9915, -168.7570,  5635,   5420.2,     1.22,   34.705,2,  34.7066,2,    202.0,2,    199.2,2,   122.51,2,    32.63,2, -999.000,9,     2.22,2, -999.000,9, -999.000,9, -999.000,9,   -999.0,9,   -999.0,9
           NA,     P15,    106,   1,       1,   12045,  2,20090311,0827,  -5.9915, -168.7570,  5635,   5760.7,     1.26,   34.706,2,  34.7070,2,    203.1,2,    200.4,2,   121.94,2,    32.33,2, -999.000,9,     2.22,2, -999.000,9, -999.000,9, -999.000,9,   -999.0,9,   -999.0,9