BOTTLE,20213313JOAExport
# Exported from JOA (5.5.0 Final January 13th, 2020) on 2021/07/13 13:33:38
#BOTTLE,20200204PRINUNIVRMK,,,,,,,,,,,,,,,,,,,,,,,,,,,,,,,,,,,,,,
# Processed by CCHDO on 2021-06-02, no changes,,,,,,,,,,,,,,,,,,,,,,,,,,,,,,,,,,,,,,
# 08/30/2019 Initialized README file  ,,,,,,,,,,,,,,,,,,,,,,,,,,,,,,,,,,,,,,,
# Data source:  Masao Ishii 2018/11/30 ,,,,,,,,,,,,,,,,,,,,,,,,,,,,,,,,,,,,,,,
# SHIP: R/V Ryofu Maru III ,,,,,,,,,,,,,,,,,,,,,,,,,,,,,,,,,,,,,,,
# Cruise: RF11-01, P09, P10 ,,,,,,,,,,,,,,,,,,,,,,,,,,,,,,,,,,,,,
# Region: Pacific Ocean ,,,,,,,,,,,,,,,,,,,,,,,,,,,,,,,,,,,,,,,
# EXPOCODE: 49UP20110107 ,,,,,,,,,,,,,,,,,,,,,,,,,,,,,,,,,,,,,,,
# DATES: 20110107 - 20110228 ,,,,,,,,,,,,,,,,,,,,,,,,,,,,,,,,,,,,,,,
#"# Chief Scientist: Tatsuo Nakamura	 ",,,,,,,,,,,,,,,,,,,,,,,,,,,,,,,,,,,,,,,
# 79 stations with 36 place Rosette ,,,,,,,,,,,,,,,,,,,,,,,,,,,,,,,,,,,,,,,
# CTD: Who - Hitomi Kamiya; Status - final ,,,,,,,,,,,,,,,,,,,,,,,,,,,,,,,,,,,,,,,
#"# 	Includes: CTDSAL ",,,,,,,,,,,,,,,,,,,,,,,,,,,,,,,,,,,,,,,
# SALNTY: Who - Hitomi Kamiya; Status - final ,,,,,,,,,,,,,,,,,,,,,,,,,,,,,,,,,,,,,,,
#"# 	Notes: 	 ",,,,,,,,,,,,,,,,,,,,,,,,,,,,,,,,,,,,,,,
# Nutrients: Who - Hitomi Kamiya; Status - final ,,,,,,,,,,,,,,,,,,,,,,,,,,,,,,,,,,,,,,,
#"# 	Includes: nitrate", nitrite, silicate, phosphate ,,,,,,,,,,,,,,,,,,,,,,,,,,,,,,,,,,,,
#"# 	Nitrite and NO3+NO2 reported. Separated by subtraction ",,,,,,,,,,,,,,,,,,,,,,,,,,,,,,,,,,,,,,,
# OXYGEN: Who - Hitomi Kamiya; Status - final ,,,,,,,,,,,,,,,,,,,,,,,,,,,,,,,,,,,,,,,
#"# 	Notes: ",,,,,,,,,,,,,,,,,,,,,,,,,,,,,,,,,,,,,,,
# TCARBN: Who - Hitomi Kamiya; Status - final ,,,,,,,,,,,,,,,,,,,,,,,,,,,,,,,,,,,,,,,
#"# 	Notes:  ",,,,,,,,,,,,,,,,,,,,,,,,,,,,,,,,,,,,,,,
# ALKALI: Who - Hitomi Kamiya; Status - final ,,,,,,,,,,,,,,,,,,,,,,,,,,,,,,,,,,,,,,,
#"# 	Notes:  ",,,,,,,,,,,,,,,,,,,,,,,,,,,,,,,,,,,,,,,
# PH: Who - Hitomi Kamiya; Status - final ,,,,,,,,,,,,,,,,,,,,,,,,,,,,,,,,,,,,,,,
#"# 	Notes:  total H+ scale at 25C ",,,,,,,,,,,,,,,,,,,,,,,,,,,,,,,,,,,,,,,
# These data should be cited as: Nakamura, Tatsuo; Kamiya, Hitomi; Ishii, Masao (2019). Dissolved inorganic carbon (DIC), total alkalinity, pH on total scale, temperature, salinity, oxygen, nutrients and other measurements collected from profile and discrete sample observations during the R/V Ryofu Maru III cruise RF11-01 Repeat Sections P09, P10 (EXPOCODE 49UP20110107) in the Pacific Ocean from 2011-01-07 to 2011-02-28 (NCEI Accession 0186559). [indicate subset used]. NOAA National Centers for Environmental Information. Dataset. https://doi.org/10.25921/ed0b-p516. Accessed [date].           ,,,,,,,,,,,,,,,,,,,,,,,,,,,,,
# References that have used data from this cruise: ,,,,,,,,,,,,,,,,,,,,,,,,,,,,,,,,,,,,,,,
EXPOCODE,SECT_ID,STNNBR,CASTNO,SAMPNO,BTLNBR,BTLNBR_FLAG_W,DATE,TIME,LATITUDE,LONGITUDE,DEPTH,CTDPRS,CTDTMP,CTDSAL,CTDSAL_FLAG_W,SALNTY,SALNTY_FLAG_W,OXYGEN,OXYGEN_FLAG_W,SILCAT,SILCAT_FLAG_W,NITRAT,NITRAT_FLAG_W,NITRIT,NITRIT_FLAG_W,PHSPHT,PHSPHT_FLAG_W,CFC-11,CFC-11_FLAG_W,CFC-12,CFC-12_FLAG_W,SF6,SF6_FLAG_W,TCARBN,TCARBN_FLAG_W,ALKALI,ALKALI_FLAG_W
,,,,,,,,,,,,,DB,ITS-90,PSS-78,,PSS-78,,UMOL/KG,,UMOL/KG,,UMOL/KG,,UMOL/KG,,UMOL/KG,,PMOL/KG,,PMOL/KG,,FMOL/KG,,UMOL/KG,,UMOL/KG
           NA,  RF1101,   3920,   1,-999.0,      99,  2,20110201,2207,  -0.0112,  146.1458,  3555,    0.000,   30.615,   34.683,2, -999.000,9,  200.200,2,    1.410,2,    0.060,2,    0.000,2,    0.050,2, -999.000,9, -999.000,9, -999.000,9, -999.000,9, -999.000,9
           NA,  RF1101,   3920,   1,-999.0,   22109,  2,20110201,2207,  -0.0112,  146.1458,  3555,   13.200,   30.620,   34.683,2, -999.000,9,  201.700,2,    1.260,2,    0.080,2,    0.000,2,    0.050,2, -999.000,9, -999.000,9, -999.000,9, 1929.800,2, 2281.800,2
           NA,  RF1101,   3920,   1,-999.0,   22108,  2,20110201,2207,  -0.0112,  146.1458,  3555,   28.600,   30.586,   34.836,2, -999.000,9,  196.300,2,    1.190,2,    0.060,2,    0.000,2,    0.090,2, -999.000,9, -999.000,9, -999.000,9, 1941.700,2, 2293.400,2
           NA,  RF1101,   3920,   1,-999.0,   22107,  2,20110201,2207,  -0.0112,  146.1458,  3555,   53.300,   30.383,   34.917,2, -999.000,9,  196.700,2,    1.490,2,    0.040,2,    0.000,2,    0.090,2, -999.000,9, -999.000,9, -999.000,9, 1939.200,2, 2291.800,2
           NA,  RF1101,   3920,   1,-999.0,   22103,  2,20110201,2207,  -0.0112,  146.1458,  3555,   78.300,   29.996,   35.111,2, -999.000,9,  198.100,2,    1.480,2,    0.030,2,    0.000,2,    0.170,2, -999.000,9, -999.000,9, -999.000,9, 1965.800,2, 2305.900,2
           NA,  RF1101,   3920,   1,-999.0,   22102,  2,20110201,2207,  -0.0112,  146.1458,  3555,   99.700,   29.597,   35.215,2, -999.000,9,  198.600,2,    1.020,2,    0.350,2,    0.060,2,    0.260,2, -999.000,9, -999.000,9, -999.000,9, 1987.000,2, 2313.800,2
           NA,  RF1101,   3920,   1,-999.0,   22101,  2,20110201,2207,  -0.0112,  146.1458,  3555,  125.000,   28.617,   35.341,2, -999.000,9,  177.900,2,    1.690,2,    2.470,2,    1.230,2,    0.450,2, -999.000,9, -999.000,9, -999.000,9, 2013.600,2, 2320.900,2
           NA,  RF1101,   3920,   1,-999.0,   22100,  2,20110201,2207,  -0.0112,  146.1458,  3555,  150.200,   23.203,   35.284,2, -999.000,9,  145.400,2,    4.030,2,    7.630,2,    0.030,2,    0.650,2, -999.000,9, -999.000,9, -999.000,9, 2064.500,2, 2317.500,2
           NA,  RF1101,   3920,   1,-999.0,   22099,  2,20110201,2207,  -0.0112,  146.1458,  3555,  201.200,   19.048,   35.464,2, -999.000,9,  139.800,2,    4.990,2,   10.800,2,    0.020,2,    0.880,2, -999.000,9, -999.000,9, -999.000,9, 2115.100,2, 2331.800,2
           NA,  RF1101,   3920,   1,-999.0,   22098,  2,20110201,2207,  -0.0112,  146.1458,  3555,  251.300,   15.326,   35.160,2, -999.000,9,  146.400,2,    8.900,2,   14.670,2,    0.010,2,    1.130,2, -999.000,9, -999.000,9, -999.000,9, 2137.300,2, 2316.000,2
           NA,  RF1101,   3920,   1,-999.0,   22094,  2,20110201,2207,  -0.0112,  146.1458,  3555,  301.700,   11.586,   34.772,2, -999.000,9,  133.000,2,   22.320,2,   21.940,2,    0.000,2,    1.590,2, -999.000,9, -999.000,9, -999.000,9, 2174.000,6, 2303.300,6
           NA,  RF1101,   3920,   1,-999.0,   22093,  2,20110201,2207,  -0.0112,  146.1458,  3555,  301.700,   11.586,   34.772,2, -999.000,9,  133.400,6,   22.410,6,   21.960,6,    0.010,6,    1.600,6, -999.000,9, -999.000,9, -999.000,9, 2170.600,2, 2301.700,2
           NA,  RF1101,   3920,   1,-999.0,   22092,  2,20110201,2207,  -0.0112,  146.1458,  3555,  402.000,    9.849,   34.715,2, -999.000,9,  120.700,2,   24.080,2,   26.570,2,    0.000,2,    1.880,2, -999.000,9, -999.000,9, -999.000,9, 2195.000,2, 2302.600,2
           NA,  RF1101,   3920,   1,-999.0,   22091,  2,20110201,2207,  -0.0112,  146.1458,  3555,  503.800,    8.126,   34.602,2, -999.000,9,  112.100,2,   33.620,2,   30.820,2,    0.000,2,    2.170,2, -999.000,9, -999.000,9, -999.000,9, 2214.500,2, 2305.700,2
           NA,  RF1101,   3920,   1,-999.0,   22090,  2,20110201,2207,  -0.0112,  146.1458,  3555,  604.100,    6.939,   34.547,2, -999.000,9,  127.600,2,   38.760,2,   31.820,2,    0.000,2,    2.250,2, -999.000,9, -999.000,9, -999.000,9, 2222.900,2, 2311.700,2
           NA,  RF1101,   3920,   1,-999.0,   22089,  2,20110201,2207,  -0.0112,  146.1458,  3555,  705.200,    5.962,   34.524,2, -999.000,9,  125.700,2,   49.900,2,   33.610,2,    0.000,2,    2.370,2, -999.000,9, -999.000,9, -999.000,9, 2242.500,2, 2319.600,2
           NA,  RF1101,   3920,   1,-999.0,   22085,  2,20110201,2207,  -0.0112,  146.1458,  3555,  806.000,    5.453,   34.530,2, -999.000,9,  114.500,2,   60.470,2,   35.810,2,    0.010,2,    2.540,2, -999.000,9, -999.000,9, -999.000,9, 2261.300,2, 2330.200,2
           NA,  RF1101,   3920,   1,-999.0,   22110,  2,20110201,2207,  -0.0112,  146.1458,  3555,  908.400,    4.959,   34.542,2, -999.000,9,   98.000,2,   73.950,2,   37.610,2,    0.000,2,    2.670,2, -999.000,9, -999.000,9, -999.000,9, 2279.400,2, 2345.400,2
           NA,  RF1101,   3920,   1,-999.0,   22083,  2,20110201,2207,  -0.0112,  146.1458,  3555, 1011.300,    4.621,   34.550,2, -999.000,9,   97.600,2,   81.610,2,   38.010,2,    0.000,2,    2.710,2, -999.000,9, -999.000,9, -999.000,9, 2292.400,6, 2352.500,6
           NA,  RF1101,   3920,   1,-999.0,   22082,  2,20110201,2207,  -0.0112,  146.1458,  3555, 1212.700,    3.841,   34.571,2, -999.000,9,   97.300,2,   99.140,2,   38.800,2,    0.000,2,    2.760,2, -999.000,9, -999.000,9, -999.000,9, 2306.000,2, 2370.800,2
           NA,  RF1101,   3920,   1,-999.0,   22081,  2,20110201,2207,  -0.0112,  146.1458,  3555, 1413.100,    3.422,   34.584,2, -999.000,9,  103.700,2,  107.670,2,   38.610,2,    0.010,2,    2.740,2, -999.000,9, -999.000,9, -999.000,9, 2318.100,2, 2378.500,2
           NA,  RF1101,   3920,   1,-999.0,   22080,  2,20110201,2207,  -0.0112,  146.1458,  3555, 1615.300,    2.870,   34.607,2, -999.000,9,  108.100,2,  119.820,2,   38.570,2,    0.000,2,    2.720,2, -999.000,9, -999.000,9, -999.000,9, 2325.100,2, 2395.000,2
           NA,  RF1101,   3920,   1,-999.0,   22075,  2,20110201,2207,  -0.0112,  146.1458,  3555, 1819.400,    2.495,   34.624,2, -999.000,9,  115.600,6,  127.510,6,   38.160,6,    0.000,6,    2.690,6, -999.000,9, -999.000,9, -999.000,9, 2324.600,2, 2401.400,2
           NA,  RF1101,   3920,   1,-999.0,   22076,  2,20110201,2207,  -0.0112,  146.1458,  3555, 1819.400,    2.495,   34.624,2, -999.000,9,  115.800,2,  128.000,2,   38.350,2,    0.000,2,    2.690,2, -999.000,9, -999.000,9, -999.000,9, 2331.200,2, 2400.900,2
           NA,  RF1101,   3920,   1,-999.0,   22074,  2,20110201,2207,  -0.0112,  146.1458,  3555, 2021.300,    2.276,   34.635,2, -999.000,9,  119.600,2,  132.770,2,   38.050,2,    0.000,2,    2.680,2, -999.000,9, -999.000,9, -999.000,9, 2333.300,2, 2407.700,2
           NA,  RF1101,   3921,   1,-999.0,      99,  2,20110202,1423,   1.0000,  146.4405,  4518,    0.000,   30.639,   34.815,2, -999.000,9,  196.800,2,    1.230,2,    0.000,2,    0.000,2,    0.100,2, -999.000,9, -999.000,9, -999.000,9, -999.000,9, -999.000,9
           NA,  RF1101,   3921,   1,-999.0,   22109,  2,20110202,1423,   1.0000,  146.4405,  4518,   11.700,   30.659,   34.817,2,   34.818,2,  196.200,2,    1.240,2,    0.020,2,    0.000,2,    0.090,2, -999.000,9, -999.000,9, -999.000,9, -999.000,9, -999.000,9
           NA,  RF1101,   3921,   1,-999.0,   22108,  2,20110202,1423,   1.0000,  146.4405,  4518,   26.000,   30.620,   34.826,2, -999.000,9,  197.200,2,    1.220,2,    0.020,2,    0.000,2,    0.090,2, -999.000,9, -999.000,9, -999.000,9, -999.000,9, -999.000,9
           NA,  RF1101,   3921,   1,-999.0,   22107,  2,20110202,1423,   1.0000,  146.4405,  4518,   50.600,   30.088,   34.962,2, -999.000,9,  198.200,2,    1.210,2,    0.000,2,    0.000,2,    0.160,2, -999.000,9, -999.000,9, -999.000,9, -999.000,9, -999.000,9
           NA,  RF1101,   3921,   1,-999.0,   22103,  2,20110202,1423,   1.0000,  146.4405,  4518,   76.400,   29.848,   35.119,2, -999.000,9,  197.700,2,    0.990,2,    0.170,2,    0.030,2,    0.210,2, -999.000,9, -999.000,9, -999.000,9, -999.000,9, -999.000,9
           NA,  RF1101,   3921,   1,-999.0,   22102,  2,20110202,1423,   1.0000,  146.4405,  4518,  102.200,   29.144,   35.193,2, -999.000,4,  186.500,2,    1.360,2,    1.050,2,    0.260,2,    0.300,2, -999.000,9, -999.000,9, -999.000,9, -999.000,9, -999.000,9
           NA,  RF1101,   3921,   1,-999.0,   22101,  2,20110202,1423,   1.0000,  146.4405,  4518,  124.200,   28.817,   35.375,2, -999.000,9,  180.200,2,    1.530,2,    2.300,2,    1.010,2,    0.420,2, -999.000,9, -999.000,9, -999.000,9, -999.000,9, -999.000,9
           NA,  RF1101,   3921,   1,-999.0,   22100,  2,20110202,1423,   1.0000,  146.4405,  4518,  153.900,   24.253,   35.357,2, -999.000,9,  149.200,2,    3.480,2,    7.470,2,    0.040,2,    0.660,2, -999.000,9, -999.000,9, -999.000,9, -999.000,9, -999.000,9
           NA,  RF1101,   3921,   1,-999.0,   22098,  2,20110202,1423,   1.0000,  146.4405,  4518,  202.600,   20.576,   35.580,2, -999.000,4,  135.300,6,    3.530,6,   10.230,6,    0.010,6,    0.870,6, -999.000,9, -999.000,9, -999.000,9, -999.000,9, -999.000,9
           NA,  RF1101,   3921,   1,-999.0,   22099,  2,20110202,1423,   1.0000,  146.4405,  4518,  202.600,   20.576,   35.580,2, -999.000,9,  135.400,2,    3.740,2,   10.220,2,    0.000,2,    0.870,2, -999.000,9, -999.000,9, -999.000,9, -999.000,9, -999.000,9
           NA,  RF1101,   3921,   1,-999.0,   22094,  2,20110202,1423,   1.0000,  146.4405,  4518,  252.400,   15.261,   34.920,2, -999.000,9,  138.500,2,   14.820,2,   15.760,2,    0.000,2,    1.210,2, -999.000,9, -999.000,9, -999.000,9, -999.000,9, -999.000,9
           NA,  RF1101,   3921,   1,-999.0,   22093,  2,20110202,1423,   1.0000,  146.4405,  4518,  302.600,   10.782,   34.722,2, -999.000,9,  129.100,2,   25.200,2,   23.890,2,    0.000,2,    1.730,2, -999.000,9, -999.000,9, -999.000,9, -999.000,9, -999.000,9
           NA,  RF1101,   3921,   1,-999.0,   22092,  2,20110202,1423,   1.0000,  146.4405,  4518,  406.100,    9.693,   34.694,2,   34.694,2,  110.600,2,   26.630,2,   27.720,2,    0.000,2,    1.950,2, -999.000,9, -999.000,9, -999.000,9, -999.000,9, -999.000,9
           NA,  RF1101,   3921,   1,-999.0,   22091,  2,20110202,1423,   1.0000,  146.4405,  4518,  506.500,    8.540,   34.618,2, -999.000,9,  118.800,2,   31.380,2,   29.180,2,    0.000,2,    2.060,2, -999.000,9, -999.000,9, -999.000,9, -999.000,9, -999.000,9
           NA,  RF1101,   3921,   1,-999.0,   22090,  2,20110202,1423,   1.0000,  146.4405,  4518,  606.700,    7.058,   34.554,2,   34.554,2,  103.200,2,   43.440,2,   33.350,2,    0.000,2,    2.360,2, -999.000,9, -999.000,9, -999.000,9, -999.000,9, -999.000,9
           NA,  RF1101,   3921,   1,-999.0,   22089,  2,20110202,1423,   1.0000,  146.4405,  4518,  705.700,    6.011,   34.523,2, -999.000,9, -999.000,3,   49.520,2,   33.270,2,    0.000,2,    2.340,2, -999.000,9, -999.000,9, -999.000,9, -999.000,9, -999.000,9
           NA,  RF1101,   3921,   1,-999.0,   22085,  2,20110202,1423,   1.0000,  146.4405,  4518,  806.500,    5.391,   34.537,2,   34.536,2,  100.700,2,   64.250,2,   36.780,2,    0.000,2,    2.620,2, -999.000,9, -999.000,9, -999.000,9, -999.000,9, -999.000,9
           NA,  RF1101,   3921,   1,-999.0,   22110,  2,20110202,1423,   1.0000,  146.4405,  4518,  909.300,    4.953,   34.543,2, -999.000,9,  100.000,2,   73.710,2,   37.170,2,    0.000,2,    2.650,2, -999.000,9, -999.000,9, -999.000,9, -999.000,9, -999.000,9
           NA,  RF1101,   3921,   1,-999.0,   22083,  2,20110202,1423,   1.0000,  146.4405,  4518, 1010.700,    4.612,   34.552,2,   34.552,6,   99.500,2,   82.990,2,   37.570,2,    0.000,2,    2.670,2, -999.000,9, -999.000,9, -999.000,9, -999.000,9, -999.000,9
           NA,  RF1101,   3921,   1,-999.0,   22082,  2,20110202,1423,   1.0000,  146.4405,  4518, 1213.000,    3.850,   34.572,2,   34.573,6,   98.000,2,   99.010,2,   38.420,2,    0.000,2,    2.720,2, -999.000,9, -999.000,9, -999.000,9, -999.000,9, -999.000,9
           NA,  RF1101,   3921,   1,-999.0,   22081,  2,20110202,1423,   1.0000,  146.4405,  4518, 1415.700,    3.272,   34.591,2, -999.000,9,  103.600,2,  111.360,2,   38.240,2,    0.000,2,    2.730,2, -999.000,9, -999.000,9, -999.000,9, -999.000,9, -999.000,9
           NA,  RF1101,   3921,   1,-999.0,   22080,  2,20110202,1423,   1.0000,  146.4405,  4518, 1415.700,    3.272,   34.591,2,   34.592,2,  104.200,6,  111.520,6,   38.350,6,    0.000,6,    2.710,6, -999.000,9, -999.000,9, -999.000,9, -999.000,9, -999.000,9
           NA,  RF1101,   3921,   1,-999.0,   22076,  2,20110202,1423,   1.0000,  146.4405,  4518, 1619.400,    2.848,   34.607,2,   34.607,2,  108.000,2,  121.270,2,   38.440,2,    0.000,2,    2.700,2, -999.000,9, -999.000,9, -999.000,9, -999.000,9, -999.000,9
           NA,  RF1101,   3921,   1,-999.0,   22075,  2,20110202,1423,   1.0000,  146.4405,  4518, 1821.300,    2.396,   34.628,2,   34.629,2,  115.700,2,  130.040,2,   38.100,2,    0.000,2,    2.680,2, -999.000,9, -999.000,9, -999.000,9, -999.000,9, -999.000,9
           NA,  RF1101,   3921,   1,-999.0,   22074,  2,20110202,1423,   1.0000,  146.4405,  4518, 2035.600,    2.199,   34.638,2,   34.639,2,  118.800,2,  134.280,2,   38.100,2,    0.000,2,    2.650,2, -999.000,9, -999.000,9, -999.000,9, -999.000,9, -999.000,9