BOTTLE,20213313JOAExport
EXPOCODE,SECT_ID,STNNBR,CASTNO,SAMPNO,BTLNBR,BTLNBR_FLAG_W,DATE,TIME,LATITUDE,LONGITUDE,DEPTH,CTDPRS,CTDTMP,CTDSAL,CTDSAL_FLAG_W,SALNTY,SALNTY_FLAG_W,OXYGEN,OXYGEN_FLAG_W,SILCAT,SILCAT_FLAG_W,NITRAT,NITRAT_FLAG_W,NITRIT,NITRIT_FLAG_W,PHSPHT,PHSPHT_FLAG_W,CFC-11,CFC-11_FLAG_W,CFC-12,CFC-12_FLAG_W,SF6,SF6_FLAG_W,TCARBN,TCARBN_FLAG_W,ALKALI,ALKALI_FLAG_W
,,,,,,,,,,,,,DB,ITS-90,PSS-78,,PSS-78,,UMOL/KG,,UMOL/KG,,UMOL/KG,,UMOL/KG,,UMOL/KG,,PMOL/KG,,PMOL/KG,,FMOL/KG,,UMOL/KG,,UMOL/KG
           NA,  RF1101,   3966,   1,-999.0,      99,  2,20110225,0046,  32.0037,  142.9933,  5669,    0.000,   17.551,   34.708,2, -999.000,9,  229.800,2,    3.190,2,    2.060,2,    0.170,2,    0.170,2, -999.000,9, -999.000,9, -999.000,9, -999.000,9, -999.000,9
           NA,  RF1101,   3966,   1,-999.0,   22109,  2,20110225,0046,  32.0037,  142.9933,  5669,   10.900,   17.549,   34.710,2, -999.000,9,  229.600,2,    3.070,2,    2.040,2,    0.170,2,    0.160,2, -999.000,9, -999.000,9, -999.000,9, -999.000,9, -999.000,9
           NA,  RF1101,   3966,   1,-999.0,   22108,  2,20110225,0046,  32.0037,  142.9933,  5669,   25.800,   17.539,   34.709,2, -999.000,9,  229.700,2,    3.030,2,    2.010,2,    0.170,2,    0.160,2, -999.000,9, -999.000,9, -999.000,9, -999.000,9, -999.000,9
           NA,  RF1101,   3966,   1,-999.0,   22107,  2,20110225,0046,  32.0037,  142.9933,  5669,   51.200,   17.537,   34.709,2, -999.000,9,  229.700,2,    3.040,2,    2.010,2,    0.170,2,    0.160,2, -999.000,9, -999.000,9, -999.000,9, -999.000,9, -999.000,9
           NA,  RF1101,   3966,   1,-999.0,   22106,  2,20110225,0046,  32.0037,  142.9933,  5669,   76.900,   17.536,   34.709,2, -999.000,9,  229.400,2,    3.000,2,    2.030,2,    0.170,2,    0.170,2, -999.000,9, -999.000,9, -999.000,9, -999.000,9, -999.000,9
           NA,  RF1101,   3966,   1,-999.0,   22105,  2,20110225,0046,  32.0037,  142.9933,  5669,   98.700,   17.540,   34.709,2, -999.000,9,  229.000,2,    2.980,2,    2.120,2,    0.170,2,    0.170,2, -999.000,9, -999.000,9, -999.000,9, -999.000,9, -999.000,9
           NA,  RF1101,   3966,   1,-999.0,   22104,  2,20110225,0046,  32.0037,  142.9933,  5669,  126.500,   17.544,   34.709,2, -999.000,9,  228.400,2,    2.950,2,    2.170,2,    0.170,2,    0.170,2, -999.000,9, -999.000,9, -999.000,9, -999.000,9, -999.000,9
           NA,  RF1101,   3966,   1,-999.0,   22099,  2,20110225,0046,  32.0037,  142.9933,  5669,  150.500,   17.546,   34.709,2, -999.000,9,  227.400,6,    3.120,6,    2.290,6,    0.170,6,    0.180,6, -999.000,9, -999.000,9, -999.000,9, -999.000,9, -999.000,9
           NA,  RF1101,   3966,   1,-999.0,   22100,  2,20110225,0046,  32.0037,  142.9933,  5669,  150.500,   17.546,   34.709,2, -999.000,9,  227.800,2,    3.110,2,    2.280,2,    0.170,2,    0.180,2, -999.000,9, -999.000,9, -999.000,9, -999.000,9, -999.000,9
           NA,  RF1101,   3966,   1,-999.0,   22098,  2,20110225,0046,  32.0037,  142.9933,  5669,  201.800,   17.540,   34.711,2, -999.000,9,  226.300,2,    3.310,2,    2.440,2,    0.170,2,    0.190,2, -999.000,9, -999.000,9, -999.000,9, -999.000,9, -999.000,9
           NA,  RF1101,   3966,   1,-999.0,   22097,  2,20110225,0046,  32.0037,  142.9933,  5669,  251.300,   16.997,   34.678,2, -999.000,9,  199.400,2,    5.880,2,    6.100,2,    0.030,2,    0.410,2, -999.000,9, -999.000,9, -999.000,9, -999.000,9, -999.000,9
           NA,  RF1101,   3966,   1,-999.0,   22096,  2,20110225,0046,  32.0037,  142.9933,  5669,  301.400,   16.031,   34.634,2, -999.000,9,  189.500,2,    8.230,2,    8.380,2,    0.010,2,    0.560,2, -999.000,9, -999.000,9, -999.000,9, -999.000,9, -999.000,9
           NA,  RF1101,   3966,   1,-999.0,   22095,  3,20110225,0046,  32.0037,  142.9933,  5669,  403.100,   13.691,   34.496,2, -999.000,9,  176.000,2,   17.650,2,   13.530,2,    0.000,2,    0.940,2, -999.000,9, -999.000,9, -999.000,9, -999.000,9, -999.000,9
           NA,  RF1101,   3966,   1,-999.0,   22091,  2,20110225,0046,  32.0037,  142.9933,  5669,  502.400,   11.071,   34.318,2, -999.000,9,  170.400,2,   28.040,2,   18.150,2,    0.000,2,    1.290,2, -999.000,9, -999.000,9, -999.000,9, -999.000,9, -999.000,9
           NA,  RF1101,   3966,   1,-999.0,   22090,  2,20110225,0046,  32.0037,  142.9933,  5669,  604.900,    7.949,   34.164,2, -999.000,9,  144.100,2,   50.080,2,   25.810,2,    0.000,2,    1.890,2, -999.000,9, -999.000,9, -999.000,9, -999.000,9, -999.000,9
           NA,  RF1101,   3966,   1,-999.0,   22089,  2,20110225,0046,  32.0037,  142.9933,  5669,  705.500,    5.486,   34.025,2, -999.000,9,  121.800,2,   70.420,2,   32.350,2,    0.000,2,    2.370,2, -999.000,9, -999.000,9, -999.000,9, -999.000,9, -999.000,9
           NA,  RF1101,   3966,   1,-999.0,   22088,  2,20110225,0046,  32.0037,  142.9933,  5669,  806.900,    4.883,   34.131,2, -999.000,9,   87.300,2,   88.520,2,   36.120,2,    0.000,2,    2.630,2, -999.000,9, -999.000,9, -999.000,9, -999.000,9, -999.000,9
           NA,  RF1101,   3966,   1,-999.0,   22087,  2,20110225,0046,  32.0037,  142.9933,  5669,  907.600,    4.372,   34.217,2, -999.000,9,   65.600,2,  103.400,2,   38.560,2,    0.000,2,    2.800,2, -999.000,9, -999.000,9, -999.000,9, -999.000,9, -999.000,9
           NA,  RF1101,   3966,   1,-999.0,   22086,  2,20110225,0046,  32.0037,  142.9933,  5669, 1010.300,    3.902,   34.284,2, -999.000,9,   55.600,2,  115.760,2,   40.070,2,    0.000,2,    2.900,2, -999.000,9, -999.000,9, -999.000,9, -999.000,9, -999.000,9
           NA,  RF1101,   3966,   1,-999.0,   22082,  2,20110225,0046,  32.0037,  142.9933,  5669, 1212.300,    3.181,   34.381,2, -999.000,9,   44.300,2,  134.370,2,   41.790,2,    0.000,2,    3.010,2, -999.000,9, -999.000,9, -999.000,9, -999.000,9, -999.000,9
           NA,  RF1101,   3966,   1,-999.0,   22081,  2,20110225,0046,  32.0037,  142.9933,  5669, 1212.300,    3.181,   34.381,2, -999.000,9,   44.400,6,  134.530,6,   41.750,6,    0.000,6,    3.020,6, -999.000,9, -999.000,9, -999.000,9, -999.000,9, -999.000,9
           NA,  RF1101,   3966,   1,-999.0,   22080,  2,20110225,0046,  32.0037,  142.9933,  5669, 1413.400,    2.725,   34.456,2, -999.000,9,   43.700,2,  147.390,2,   42.330,2,    0.000,2,    3.050,2, -999.000,9, -999.000,9, -999.000,9, -999.000,9, -999.000,9
           NA,  RF1101,   3966,   1,-999.0,   22079,  2,20110225,0046,  32.0037,  142.9933,  5669, 1615.600,    2.385,   34.518,2, -999.000,9,   50.400,2,  156.160,2,   42.150,2,    0.000,2,    3.020,2, -999.000,9, -999.000,9, -999.000,9, -999.000,9, -999.000,9
           NA,  RF1101,   3966,   1,-999.0,   22078,  2,20110225,0046,  32.0037,  142.9933,  5669, 1817.200,    2.193,   34.553,2, -999.000,9,   60.200,2,  159.200,2,   41.690,2,    0.000,2,    2.980,2, -999.000,9, -999.000,9, -999.000,9, -999.000,9, -999.000,9
           NA,  RF1101,   3966,   1,-999.0,   22077,  2,20110225,0046,  32.0037,  142.9933,  5669, 2022.100,    2.012,   34.588,2, -999.000,9,   74.400,2,  160.530,2,   40.860,2,    0.000,2,    2.910,2, -999.000,9, -999.000,9, -999.000,9, -999.000,9, -999.000,9
           NA,  RF1101,   3963,   1,-999.0,      99,  2,20110224,1012,  33.5203,  141.4897,  5628,    0.000,   18.036,   34.744,2, -999.000,9,  229.000,2,    2.650,2,    1.440,2,    0.200,2,    0.140,2, -999.000,9, -999.000,9, -999.000,9, -999.000,9, -999.000,9
           NA,  RF1101,   3963,   1,-999.0,   22109,  2,20110224,1012,  33.5203,  141.4897,  5628,   10.000,   18.045,   34.744,2,   34.743,2,  228.900,2,    2.630,2,    1.390,2,    0.210,2,    0.120,2, -999.000,9, -999.000,9, -999.000,9, 2006.600,2, 2277.800,2
           NA,  RF1101,   3963,   1,-999.0,   22108,  2,20110224,1012,  33.5203,  141.4897,  5628,   26.100,   18.047,   34.744,2, -999.000,9,  229.100,2,    2.570,2,    1.430,2,    0.210,2,    0.120,2, -999.000,9, -999.000,9, -999.000,9, 2004.600,2, 2281.400,2
           NA,  RF1101,   3963,   1,-999.0,   22107,  2,20110224,1012,  33.5203,  141.4897,  5628,   49.900,   18.054,   34.744,2, -999.000,9,  228.600,2,    2.620,2,    1.420,2,    0.220,2,    0.130,2, -999.000,9, -999.000,9, -999.000,9, 2002.800,2, 2283.600,2
           NA,  RF1101,   3963,   1,-999.0,   22106,  2,20110224,1012,  33.5203,  141.4897,  5628,   76.100,   18.058,   34.744,2, -999.000,9,  229.000,2,    2.520,2,    1.460,2,    0.220,2,    0.130,2, -999.000,9, -999.000,9, -999.000,9, 2003.000,2, 2279.400,2
           NA,  RF1101,   3963,   1,-999.0,   22105,  2,20110224,1012,  33.5203,  141.4897,  5628,  102.400,   18.061,   34.744,2, -999.000,9,  228.900,2,    2.420,2,    1.420,2,    0.220,2,    0.120,2, -999.000,9, -999.000,9, -999.000,9, 2002.800,2, 2281.800,2
           NA,  RF1101,   3963,   1,-999.0,   22104,  2,20110224,1012,  33.5203,  141.4897,  5628,  102.400,   18.061,   34.744,2,   34.743,2,  229.200,6,    2.580,6,    1.450,6,    0.220,6,    0.130,6, -999.000,9, -999.000,9, -999.000,9, 2002.500,2, 2281.600,2
           NA,  RF1101,   3963,   1,-999.0,   22100,  2,20110224,1012,  33.5203,  141.4897,  5628,  125.600,   18.061,   34.744,2, -999.000,9,  228.800,2,    2.470,2,    1.460,2,    0.220,2,    0.130,2, -999.000,9, -999.000,9, -999.000,9, 2002.900,2, 2282.500,2
           NA,  RF1101,   3963,   1,-999.0,   22099,  2,20110224,1012,  33.5203,  141.4897,  5628,  152.000,   18.055,   34.743,2, -999.000,9,  228.400,2,    2.620,2,    1.550,2,    0.210,2,    0.130,2, -999.000,9, -999.000,9, -999.000,9, 2003.100,2, 2282.500,2
           NA,  RF1101,   3963,   1,-999.0,   22098,  2,20110224,1012,  33.5203,  141.4897,  5628,  199.600,   17.951,   34.735,2,   34.735,2,  227.000,2,    2.730,2,    1.850,2,    0.160,2,    0.140,2, -999.000,9, -999.000,9, -999.000,9, 2004.400,2, 2278.100,2
           NA,  RF1101,   3963,   1,-999.0,   22097,  2,20110224,1012,  33.5203,  141.4897,  5628,  252.000,   17.920,   34.732,2, -999.000,9,  226.500,2,    2.820,2,    1.990,2,    0.130,2,    0.150,2, -999.000,9, -999.000,9, -999.000,9, 2025.800,2, 2281.900,2
           NA,  RF1101,   3963,   1,-999.0,   22096,  2,20110224,1012,  33.5203,  141.4897,  5628,  301.200,   17.818,   34.720,2, -999.000,9,  220.200,2,    3.240,2,    2.770,2,    0.060,2,    0.190,2, -999.000,9, -999.000,9, -999.000,9, -999.000,3, 2280.100,2
           NA,  RF1101,   3963,   1,-999.0,   22095,  2,20110224,1012,  33.5203,  141.4897,  5628,  404.000,   15.539,   34.609,2,   34.608,2,  185.800,2,   10.280,2,    9.510,2,    0.000,2,    0.650,2, -999.000,9, -999.000,9, -999.000,9, -999.000,3, 2281.800,6
           NA,  RF1101,   3963,   1,-999.0,   22091,  2,20110224,1012,  33.5203,  141.4897,  5628,  506.600,   12.761,   34.437,2, -999.000,9,  175.100,2,   20.810,2,   15.060,2,    0.000,2,    1.060,2, -999.000,9, -999.000,9, -999.000,9, 2142.000,2, 2279.900,2
           NA,  RF1101,   3963,   1,-999.0,   22090,  2,20110224,1012,  33.5203,  141.4897,  5628,  606.900,    9.942,   34.291,2,   34.291,2,  151.900,2,   38.540,2,   21.650,2,    0.000,2,    1.560,2, -999.000,9, -999.000,9, -999.000,9, 2160.400,2, 2282.800,2
           NA,  RF1101,   3963,   1,-999.0,   22089,  2,20110224,1012,  33.5203,  141.4897,  5628,  708.900,    6.952,   34.097,2, -999.000,9,  139.000,2,   56.600,2,   28.110,2,    0.000,2,    2.050,2, -999.000,9, -999.000,9, -999.000,9, 2205.800,2, 2288.900,2
           NA,  RF1101,   3963,   1,-999.0,   22088,  2,20110224,1012,  33.5203,  141.4897,  5628,  809.200,    5.295,   34.073,2,   34.073,2,  106.000,2,   77.050,2,   34.030,2,    0.000,2,    2.490,2, -999.000,9, -999.000,9, -999.000,9, 2257.400,2, 2306.700,2
           NA,  RF1101,   3963,   1,-999.0,   22087,  2,20110224,1012,  33.5203,  141.4897,  5628,  909.700,    4.647,   34.169,2, -999.000,9,   73.100,2,   94.900,2,   37.620,2,    0.000,2,    2.740,2, -999.000,9, -999.000,9, -999.000,9, 2295.500,2, 2325.400,2
           NA,  RF1101,   3963,   1,-999.0,   22086,  2,20110224,1012,  33.5203,  141.4897,  5628,  909.700,    4.647,   34.169,2, -999.000,9,   73.200,6,   94.790,6,   37.800,6,    0.000,6,    2.750,6, -999.000,9, -999.000,9, -999.000,9, 2296.000,2, 2322.800,2
           NA,  RF1101,   3963,   1,-999.0,   22082,  2,20110224,1012,  33.5203,  141.4897,  5628, 1010.300,    4.092,   34.246,2,   34.245,2,   55.900,2,  109.500,2,   39.970,2,    0.000,2,    2.890,2, -999.000,9, -999.000,9, -999.000,9, 2324.000,6, 2339.200,6
           NA,  RF1101,   3963,   1,-999.0,   22081,  2,20110224,1012,  33.5203,  141.4897,  5628, 1213.900,    3.358,   34.365,2,   34.363,2,   44.200,2,  129.600,2,   41.670,2,    0.000,2,    3.000,2, -999.000,9, -999.000,9, -999.000,9, 2353.600,2, 2365.400,2
           NA,  RF1101,   3963,   1,-999.0,   22080,  2,20110224,1012,  33.5203,  141.4897,  5628, 1416.300,    2.915,   34.431,2,   34.431,6,   42.300,2,  142.590,2,   42.240,2,    0.000,2,    3.050,2, -999.000,9, -999.000,9, -999.000,9, 2369.500,2, 2384.200,2
           NA,  RF1101,   3963,   1,-999.0,   22079,  2,20110224,1012,  33.5203,  141.4897,  5628, 1618.800,    2.522,   34.498,2,   34.498,6,   49.800,2,  152.060,2,   42.200,2,    0.000,2,    3.020,2, -999.000,9, -999.000,9, -999.000,9, 2376.600,2, 2392.300,2
           NA,  RF1101,   3963,   1,-999.0,   22078,  2,20110224,1012,  33.5203,  141.4897,  5628, 1822.200,    2.294,   34.538,2,   34.538,2,   57.400,2,  156.930,2,   41.990,2,    0.000,2,    2.990,2, -999.000,9, -999.000,9, -999.000,9, 2378.100,2, 2403.800,2
           NA,  RF1101,   3963,   1,-999.0,   22077,  2,20110224,1012,  33.5203,  141.4897,  5628, 2024.400,    2.091,   34.575,2,   34.575,2,   71.000,2,  158.460,2,   41.160,2,    0.000,2,    2.920,2, -999.000,9, -999.000,9, -999.000,9, 2373.800,2, 2408.500,2