BOTTLE,20213313JOAExport
EXPOCODE,SECT_ID,STNNBR,CASTNO,SAMPNO,BTLNBR,BTLNBR_FLAG_W,DATE,TIME,LATITUDE,LONGITUDE,DEPTH,CTDPRS,CTDTMP,CTDSAL,CTDSAL_FLAG_W,SALNTY,SALNTY_FLAG_W,OXYGEN,OXYGEN_FLAG_W,SILCAT,SILCAT_FLAG_W,NITRAT,NITRAT_FLAG_W,NITRIT,NITRIT_FLAG_W,PHSPHT,PHSPHT_FLAG_W,CFC-11,CFC-11_FLAG_W,CFC-12,CFC-12_FLAG_W,SF6,SF6_FLAG_W,TCARBN,TCARBN_FLAG_W,ALKALI,ALKALI_FLAG_W
,,,,,,,,,,,,,DB,ITS-90,PSS-78,,PSS-78,,UMOL/KG,,UMOL/KG,,UMOL/KG,,UMOL/KG,,UMOL/KG,,PMOL/KG,,PMOL/KG,,FMOL/KG,,UMOL/KG,,UMOL/KG
           NA,  RF1101,   3956,   1,-999.0,      99,  2,20110220,2337,  29.9888,  144.9978,  5892,    0.000,   18.296,   34.725,2, -999.000,9,  229.400,2,    2.990,2,    0.850,2,    0.110,2,    0.110,2, -999.000,9, -999.000,9, -999.000,9, -999.000,9, -999.000,9
           NA,  RF1101,   3956,   1,-999.0,   22109,  2,20110220,2337,  29.9888,  144.9978,  5892,    9.600,   18.288,   34.725,2, -999.000,9,  229.700,2,    2.830,2,    0.850,2,    0.110,2,    0.100,2, -999.000,9, -999.000,9, -999.000,9, 2001.700,2, 2279.500,2
           NA,  RF1101,   3956,   1,-999.0,   22108,  2,20110220,2337,  29.9888,  144.9978,  5892,   26.200,   18.289,   34.725,2, -999.000,9,  229.700,2,    3.080,2,    0.820,2,    0.110,2,    0.100,2, -999.000,9, -999.000,9, -999.000,9, 2000.200,2, 2274.100,2
           NA,  RF1101,   3956,   1,-999.0,   22107,  2,20110220,2337,  29.9888,  144.9978,  5892,   50.900,   18.264,   34.724,2, -999.000,9,  229.700,2,    2.710,2,    0.860,2,    0.120,2,    0.090,2, -999.000,9, -999.000,9, -999.000,9, 2001.800,2, 2274.600,2
           NA,  RF1101,   3956,   1,-999.0,   22106,  2,20110220,2337,  29.9888,  144.9978,  5892,   77.100,   18.059,   34.718,2, -999.000,9,  231.300,2,    3.000,2,    0.970,2,    0.180,2,    0.100,2, -999.000,9, -999.000,9, -999.000,9, 2001.500,2, 2279.600,2
           NA,  RF1101,   3956,   1,-999.0,   22105,  2,20110220,2337,  29.9888,  144.9978,  5892,  101.000,   18.048,   34.719,2, -999.000,9,  231.000,2,    3.170,2,    1.030,2,    0.180,2,    0.120,2, -999.000,9, -999.000,9, -999.000,9, 2001.600,2, 2277.000,2
           NA,  RF1101,   3956,   1,-999.0,   22104,  2,20110220,2337,  29.9888,  144.9978,  5892,  127.500,   17.971,   34.711,2, -999.000,9,  225.100,2,    3.170,2,    1.880,2,    0.130,2,    0.160,2, -999.000,9, -999.000,9, -999.000,9, 2004.500,2, 2278.200,2
           NA,  RF1101,   3956,   1,-999.0,   22100,  2,20110220,2337,  29.9888,  144.9978,  5892,  151.400,   17.888,   34.708,2, -999.000,9,  223.500,2,    3.300,2,    2.270,2,    0.060,2,    0.170,2, -999.000,9, -999.000,9, -999.000,9, 2007.100,2, 2274.500,2
           NA,  RF1101,   3956,   1,-999.0,   22099,  2,20110220,2337,  29.9888,  144.9978,  5892,  201.300,   17.424,   34.685,2, -999.000,9,  200.700,2,    5.270,2,    5.200,2,    0.020,2,    0.360,2, -999.000,9, -999.000,9, -999.000,9, 2031.400,2, 2279.600,2
           NA,  RF1101,   3956,   1,-999.0,   22097,  2,20110220,2337,  29.9888,  144.9978,  5892,  250.800,   16.719,   34.668,2, -999.000,9,  191.000,6,    7.590,6,    7.150,6,    0.020,6,    0.500,6, -999.000,9, -999.000,9, -999.000,9, 2049.000,2, 2276.900,2
           NA,  RF1101,   3956,   1,-999.0,   22098,  2,20110220,2337,  29.9888,  144.9978,  5892,  250.800,   16.719,   34.668,2, -999.000,9,  191.100,2,    7.330,2,    7.170,2,    0.010,2,    0.480,2, -999.000,9, -999.000,9, -999.000,9, 2047.800,2, 2276.400,2
           NA,  RF1101,   3956,   1,-999.0,   22096,  2,20110220,2337,  29.9888,  144.9978,  5892,  302.200,   15.824,   34.624,2, -999.000,9,  185.100,2,    9.840,2,    8.980,2,    0.010,2,    0.620,2, -999.000,9, -999.000,9, -999.000,9, 2063.300,6, 2277.700,6
           NA,  RF1101,   3956,   1,-999.0,   22095,  2,20110220,2337,  29.9888,  144.9978,  5892,  404.000,   13.265,   34.463,2, -999.000,9,  179.300,2,   17.740,2,   13.450,2,    0.010,2,    0.950,2, -999.000,9, -999.000,9, -999.000,9, 2096.100,2, 2277.600,2
           NA,  RF1101,   3956,   1,-999.0,   22091,  2,20110220,2337,  29.9888,  144.9978,  5892,  504.200,   10.063,   34.227,2, -999.000,9,  174.600,2,   31.550,2,   19.090,2,    0.010,2,    1.390,2, -999.000,9, -999.000,9, -999.000,9, 2140.900,2, 2277.100,2
           NA,  RF1101,   3956,   1,-999.0,   22090,  2,20110220,2337,  29.9888,  144.9978,  5892,  604.100,    7.110,   34.067,2, -999.000,9,  152.100,2,   52.920,2,   26.450,2,    0.000,2,    1.950,2, -999.000,9, -999.000,9, -999.000,9, 2194.400,2, 2292.000,2
           NA,  RF1101,   3956,   1,-999.0,   22089,  2,20110220,2337,  29.9888,  144.9978,  5892,  705.900,    5.092,   34.007,2, -999.000,9,  118.200,2,   74.950,2,   33.280,2,    0.010,2,    2.450,2, -999.000,9, -999.000,9, -999.000,9, 2248.000,2, 2300.300,2
           NA,  RF1101,   3956,   1,-999.0,   22088,  2,20110220,2337,  29.9888,  144.9978,  5892,  805.400,    4.651,   34.128,2, -999.000,9,   80.800,2,   92.580,2,   37.090,2,    0.010,2,    2.700,2, -999.000,9, -999.000,9, -999.000,9, 2288.800,2, 2321.500,2
           NA,  RF1101,   3956,   1,-999.0,   22087,  2,20110220,2337,  29.9888,  144.9978,  5892,  907.700,    4.051,   34.242,2, -999.000,9,   53.400,2,  111.060,2,   39.920,2,    0.000,2,    2.900,2, -999.000,9, -999.000,9, -999.000,9, 2321.700,2, 2338.900,2
           NA,  RF1101,   3956,   1,-999.0,   22086,  2,20110220,2337,  29.9888,  144.9978,  5892, 1008.000,    3.608,   34.313,2, -999.000,9,   43.300,2,  124.130,2,   41.420,2,    0.010,2,    3.000,2, -999.000,9, -999.000,9, -999.000,9, 2342.400,6, 2356.400,6
           NA,  RF1101,   3956,   1,-999.0,   22082,  2,20110220,2337,  29.9888,  144.9978,  5892, 1210.600,    2.975,   34.419,2, -999.000,9,   37.000,2,  142.020,2,   42.660,2,    0.000,2,    3.070,2, -999.000,9, -999.000,9, -999.000,9, 2366.600,2, 2381.000,2
           NA,  RF1101,   3956,   1,-999.0,   22081,  2,20110220,2337,  29.9888,  144.9978,  5892, 1414.000,    2.592,   34.496,2, -999.000,9,   45.500,2,  152.050,2,   42.350,2,    0.010,2,    3.050,2, -999.000,9, -999.000,9, -999.000,9, 2373.100,2, 2392.300,2
           NA,  RF1101,   3956,   1,-999.0,   22080,  2,20110220,2337,  29.9888,  144.9978,  5892, 1616.700,    2.298,   34.543,2, -999.000,9,   56.800,2,  158.340,2,   41.970,2,    0.010,2,    3.000,2, -999.000,9, -999.000,9, -999.000,9, 2374.900,2, 2400.200,2
           NA,  RF1101,   3956,   1,-999.0,   22079,  2,20110220,2337,  29.9888,  144.9978,  5892, 1616.700,    2.298,   34.543,2, -999.000,9,   57.100,6,  158.350,6,   41.890,6,    0.010,6,    3.000,6, -999.000,9, -999.000,9, -999.000,9, 2370.600,2, 2396.700,2
           NA,  RF1101,   3956,   1,-999.0,   22078,  2,20110220,2337,  29.9888,  144.9978,  5892, 1819.300,    2.074,   34.582,2, -999.000,9,   75.400,2,  158.420,2,   40.730,2,    0.000,2,    2.900,2, -999.000,9, -999.000,9, -999.000,9, 2368.900,2, 2406.600,2
           NA,  RF1101,   3956,   1,-999.0,   22077,  2,20110220,2337,  29.9888,  144.9978,  5892, 2024.600,    1.897,   34.608,2, -999.000,9,   87.300,2,  161.580,2,   40.070,2,    0.000,2,    2.860,2, -999.000,9, -999.000,9, -999.000,9, 2363.100,2, 2411.200,2
           NA,  RF1101,   3968,   1,-999.0,      99,  2,20110225,1034,  31.0183,  143.9855,  5769,    0.000,   17.808,   34.720,2, -999.000,9,  233.000,2,    2.820,2,    1.490,2,    0.170,2,    0.100,2, -999.000,9, -999.000,9, -999.000,9, -999.000,9, -999.000,9
           NA,  RF1101,   3968,   1,-999.0,   22109,  2,20110225,1034,  31.0183,  143.9855,  5769,    9.800,   17.813,   34.720,2,   34.719,2,  232.100,2,    2.750,2,    1.500,2,    0.180,2,    0.100,2, -999.000,9, -999.000,9, -999.000,9, -999.000,9, -999.000,9
           NA,  RF1101,   3968,   1,-999.0,   22108,  2,20110225,1034,  31.0183,  143.9855,  5769,   25.400,   17.823,   34.720,2, -999.000,9,  231.900,2,    2.760,2,    1.510,2,    0.190,2,    0.100,2, -999.000,9, -999.000,9, -999.000,9, -999.000,9, -999.000,9
           NA,  RF1101,   3968,   1,-999.0,   22107,  2,20110225,1034,  31.0183,  143.9855,  5769,   49.500,   17.814,   34.719,2, -999.000,9,  231.200,2,    2.770,2,    1.570,2,    0.200,2,    0.100,2, -999.000,9, -999.000,9, -999.000,9, -999.000,9, -999.000,9
           NA,  RF1101,   3968,   1,-999.0,   22106,  2,20110225,1034,  31.0183,  143.9855,  5769,   76.100,   17.810,   34.718,2, -999.000,9,  230.800,2,    2.880,2,    1.600,2,    0.200,2,    0.110,2, -999.000,9, -999.000,9, -999.000,9, -999.000,9, -999.000,9
           NA,  RF1101,   3968,   1,-999.0,   22105,  2,20110225,1034,  31.0183,  143.9855,  5769,  100.700,   17.789,   34.713,2,   34.712,2,  229.100,2,    2.890,2,    1.830,2,    0.210,2,    0.120,2, -999.000,9, -999.000,9, -999.000,9, -999.000,9, -999.000,9
           NA,  RF1101,   3968,   1,-999.0,   22104,  2,20110225,1034,  31.0183,  143.9855,  5769,  124.000,   17.778,   34.713,2, -999.000,9,  227.900,2,    3.070,2,    1.990,2,    0.190,2,    0.130,2, -999.000,9, -999.000,9, -999.000,9, -999.000,9, -999.000,9
           NA,  RF1101,   3968,   1,-999.0,   22100,  2,20110225,1034,  31.0183,  143.9855,  5769,  150.400,   17.777,   34.715,2, -999.000,9,  227.800,2,    3.120,2,    2.010,2,    0.190,2,    0.130,2, -999.000,9, -999.000,9, -999.000,9, -999.000,9, -999.000,9
           NA,  RF1101,   3968,   1,-999.0,   22098,  2,20110225,1034,  31.0183,  143.9855,  5769,  201.700,   17.770,   34.718,2,   34.717,2,  226.800,6,    3.200,6,    2.230,6,    0.150,6,    0.140,6, -999.000,9, -999.000,9, -999.000,9, -999.000,9, -999.000,9
           NA,  RF1101,   3968,   1,-999.0,   22099,  2,20110225,1034,  31.0183,  143.9855,  5769,  201.700,   17.770,   34.718,2, -999.000,9,  227.600,2,    3.100,2,    2.250,2,    0.150,2,    0.140,2, -999.000,9, -999.000,9, -999.000,9, -999.000,9, -999.000,9
           NA,  RF1101,   3968,   1,-999.0,   22097,  2,20110225,1034,  31.0183,  143.9855,  5769,  253.600,   17.252,   34.693,2, -999.000,9,  204.200,2,    5.150,2,    5.200,2,    0.040,2,    0.320,2, -999.000,9, -999.000,9, -999.000,9, -999.000,9, -999.000,9
           NA,  RF1101,   3968,   1,-999.0,   22096,  2,20110225,1034,  31.0183,  143.9855,  5769,  303.600,   16.527,   34.666,2, -999.000,9,  190.400,2,    7.700,2,    7.770,2,    0.010,2,    0.500,2, -999.000,9, -999.000,9, -999.000,9, -999.000,9, -999.000,9
           NA,  RF1101,   3968,   1,-999.0,   22095,  2,20110225,1034,  31.0183,  143.9855,  5769,  404.300,   13.831,   34.502,2,   34.507,2,  179.300,2,   15.880,2,   12.820,2,    0.000,2,    0.860,2, -999.000,9, -999.000,9, -999.000,9, -999.000,9, -999.000,9
           NA,  RF1101,   3968,   1,-999.0,   22091,  2,20110225,1034,  31.0183,  143.9855,  5769,  506.300,   10.620,   34.275,2, -999.000,9,  174.600,2,   27.570,2,   18.110,2,    0.000,2,    1.260,2, -999.000,9, -999.000,9, -999.000,9, -999.000,9, -999.000,9
           NA,  RF1101,   3968,   1,-999.0,   22090,  2,20110225,1034,  31.0183,  143.9855,  5769,  606.000,    7.793,   34.087,2,   34.091,2,  162.700,2,   44.470,2,   24.250,2,    0.000,2,    1.750,2, -999.000,9, -999.000,9, -999.000,9, -999.000,9, -999.000,9
           NA,  RF1101,   3968,   1,-999.0,   22089,  2,20110225,1034,  31.0183,  143.9855,  5769,  707.500,    5.681,   34.019,2, -999.000,9,  129.000,2,   66.350,2,   31.390,2,    0.000,2,    2.270,2, -999.000,9, -999.000,9, -999.000,9, -999.000,9, -999.000,9
           NA,  RF1101,   3968,   1,-999.0,   22088,  2,20110225,1034,  31.0183,  143.9855,  5769,  809.000,    4.757,   34.123,2,   34.120,2,   84.600,2,   88.890,2,   36.720,2,    0.000,2,    2.640,2, -999.000,9, -999.000,9, -999.000,9, -999.000,9, -999.000,9
           NA,  RF1101,   3968,   1,-999.0,   22087,  2,20110225,1034,  31.0183,  143.9855,  5769,  910.200,    4.309,   34.207,2, -999.000,9,   62.700,2,  102.870,2,   39.110,2,    0.000,2,    2.800,2, -999.000,9, -999.000,9, -999.000,9, -999.000,9, -999.000,9
           NA,  RF1101,   3968,   1,-999.0,   22086,  2,20110225,1034,  31.0183,  143.9855,  5769, 1011.100,    3.806,   34.280,2,   34.278,2,   47.200,2,  116.610,2,   41.000,2,    0.000,2,    2.930,2, -999.000,9, -999.000,9, -999.000,9, -999.000,9, -999.000,9
           NA,  RF1101,   3968,   1,-999.0,   22082,  2,20110225,1034,  31.0183,  143.9855,  5769, 1213.800,    3.138,   34.391,2,   34.390,2,   39.000,2,  135.790,2,   42.420,2,    0.000,2,    3.020,2, -999.000,9, -999.000,9, -999.000,9, -999.000,9, -999.000,9
           NA,  RF1101,   3968,   1,-999.0,   22080,  2,20110225,1034,  31.0183,  143.9855,  5769, 1415.400,    2.680,   34.466,2,   34.465,2,   39.300,6,  148.870,6,   42.910,6,    0.000,6,    3.050,6, -999.000,9, -999.000,9, -999.000,9, -999.000,9, -999.000,9
           NA,  RF1101,   3968,   1,-999.0,   22081,  2,20110225,1034,  31.0183,  143.9855,  5769, 1415.400,    2.680,   34.466,2, -999.000,9,   39.600,2,  148.790,2,   42.880,2,    0.000,2,    3.040,2, -999.000,9, -999.000,9, -999.000,9, -999.000,9, -999.000,9
           NA,  RF1101,   3968,   1,-999.0,   22079,  2,20110225,1034,  31.0183,  143.9855,  5769, 1617.200,    2.376,   34.523,2,   34.523,2,   48.600,2,  155.790,2,   42.580,2,    0.000,2,    3.010,2, -999.000,9, -999.000,9, -999.000,9, -999.000,9, -999.000,9
           NA,  RF1101,   3968,   1,-999.0,   22078,  2,20110225,1034,  31.0183,  143.9855,  5769, 1821.200,    2.137,   34.566,2,   34.567,6,   63.800,2,  159.380,2,   41.690,2,    0.000,2,    2.940,2, -999.000,9, -999.000,9, -999.000,9, -999.000,9, -999.000,9
           NA,  RF1101,   3968,   1,-999.0,   22077,  2,20110225,1034,  31.0183,  143.9855,  5769, 2021.300,    1.959,   34.595,2,   34.595,6,   76.000,2,  161.770,2,   40.970,2,    0.000,2,    2.880,2, -999.000,9, -999.000,9, -999.000,9, -999.000,9, -999.000,9