BOTTLE,20213313JOAExport
EXPOCODE,SECT_ID,STNNBR,CASTNO,SAMPNO,BTLNBR,BTLNBR_FLAG_W,DATE,TIME,LATITUDE,LONGITUDE,DEPTH,CTDPRS,CTDTMP,CTDSAL,CTDSAL_FLAG_W,SALNTY,SALNTY_FLAG_W,OXYGEN,OXYGEN_FLAG_W,SILCAT,SILCAT_FLAG_W,NITRAT,NITRAT_FLAG_W,NITRIT,NITRIT_FLAG_W,PHSPHT,PHSPHT_FLAG_W,CFC-11,CFC-11_FLAG_W,CFC-12,CFC-12_FLAG_W,SF6,SF6_FLAG_W,TCARBN,TCARBN_FLAG_W,ALKALI,ALKALI_FLAG_W
,,,,,,,,,,,,,DB,ITS-90,PSS-78,,PSS-78,,UMOL/KG,,UMOL/KG,,UMOL/KG,,UMOL/KG,,UMOL/KG,,PMOL/KG,,PMOL/KG,,FMOL/KG,,UMOL/KG,,UMOL/KG
           NA,  RF1101,   3931,   1,-999.0,      99,  2,20110205,2112,   9.9973,  149.3182,  5513,    0.000,   28.580,   34.121,2, -999.000,9,  197.200,2,    0.840,2,    0.000,2,    0.000,2,    0.080,2, -999.000,9, -999.000,9, -999.000,9, -999.000,9, -999.000,9
           NA,  RF1101,   3931,   1,-999.0,   22109,  2,20110205,2112,   9.9973,  149.3182,  5513,   10.800,   28.580,   34.121,2, -999.000,9,  197.600,2,    0.820,2,    0.040,2,    0.000,2,    0.070,2, -999.000,9, -999.000,9, -999.000,9, 1902.800,2, 2234.000,2
           NA,  RF1101,   3931,   1,-999.0,   22108,  2,20110205,2112,   9.9973,  149.3182,  5513,   26.000,   28.583,   34.120,2, -999.000,9,  197.200,2,    0.810,2,    0.000,2,    0.000,2,    0.070,2, -999.000,9, -999.000,9, -999.000,9, 1894.400,2, 2234.200,2
           NA,  RF1101,   3931,   1,-999.0,   22107,  2,20110205,2112,   9.9973,  149.3182,  5513,   50.600,   28.585,   34.126,2, -999.000,9,  197.300,2,    0.630,2,    0.030,2,    0.000,2,    0.070,2, -999.000,9, -999.000,9, -999.000,9, 1904.400,2, 2237.100,2
           NA,  RF1101,   3931,   1,-999.0,   22103,  3,20110205,2112,   9.9973,  149.3182,  5513,   76.300,   28.568,   34.354,2, -999.000,9,  197.300,2,    0.780,2,    0.030,2,    0.000,2,    0.100,2, -999.000,9, -999.000,9, -999.000,9, 1914.400,2, 2253.700,2
           NA,  RF1101,   3931,   1,-999.0,   22102,  2,20110205,2112,   9.9973,  149.3182,  5513,  100.300,   27.611,   34.964,2, -999.000,9,  209.400,2,    0.810,2,    0.020,2,    0.000,2,    0.110,2, -999.000,9, -999.000,9, -999.000,9, 1962.900,2, 2298.500,2
           NA,  RF1101,   3931,   1,-999.0,   22101,  2,20110205,2112,   9.9973,  149.3182,  5513,  125.800,   25.999,   35.134,2, -999.000,9,  200.500,2,    0.880,2,    0.050,2,    0.000,2,    0.110,2, -999.000,9, -999.000,9, -999.000,9, 1996.600,2, 2307.400,2
           NA,  RF1101,   3931,   1,-999.0,   22100,  2,20110205,2112,   9.9973,  149.3182,  5513,  152.400,   22.751,   35.086,2, -999.000,9,  181.100,2,    2.090,2,    1.180,2,    0.210,2,    0.250,2, -999.000,9, -999.000,9, -999.000,9, 2033.700,2, 2305.800,2
           NA,  RF1101,   3931,   1,-999.0,   22099,  2,20110205,2112,   9.9973,  149.3182,  5513,  200.700,   16.070,   34.593,2, -999.000,9,  155.400,2,    8.680,2,   10.530,2,    0.010,2,    0.840,2, -999.000,9, -999.000,9, -999.000,9, -999.000,3, 2279.100,2
           NA,  RF1101,   3931,   1,-999.0,   22098,  2,20110205,2112,   9.9973,  149.3182,  5513,  200.700,   16.070,   34.593,2, -999.000,9,  155.500,6,    8.730,6,   10.550,6,    0.010,6,    0.850,6, -999.000,9, -999.000,9, -999.000,9, -999.000,3, 2279.400,2
           NA,  RF1101,   3931,   1,-999.0,   22094,  2,20110205,2112,   9.9973,  149.3182,  5513,  250.900,   12.576,   34.470,2, -999.000,9,  109.200,2,   21.050,2,   21.150,2,    0.000,2,    1.600,2, -999.000,9, -999.000,9, -999.000,9, 2165.800,2, 2281.700,2
           NA,  RF1101,   3931,   1,-999.0,   22093,  2,20110205,2112,   9.9973,  149.3182,  5513,  301.800,    9.969,   34.471,2, -999.000,9,   76.900,2,   33.470,2,   29.300,2,    0.000,2,    2.130,2, -999.000,9, -999.000,9, -999.000,9, 2216.900,6, 2289.200,6
           NA,  RF1101,   3931,   1,-999.0,   22092,  2,20110205,2112,   9.9973,  149.3182,  5513,  402.800,    8.370,   34.506,2, -999.000,9,   75.200,2,   43.540,2,   32.840,2,    0.000,2,    2.350,2, -999.000,9, -999.000,9, -999.000,9, 2240.900,2, 2303.300,2
           NA,  RF1101,   3931,   1,-999.0,   22091,  2,20110205,2112,   9.9973,  149.3182,  5513,  504.600,    7.512,   34.528,2, -999.000,9,   76.300,2,   49.020,2,   34.580,2,    0.000,2,    2.470,2, -999.000,9, -999.000,9, -999.000,9, 2256.400,2, 2313.000,2
           NA,  RF1101,   3931,   1,-999.0,   22090,  2,20110205,2112,   9.9973,  149.3182,  5513,  604.000,    6.840,   34.528,2, -999.000,9,   77.500,2,   55.510,2,   35.950,2,    0.000,2,    2.570,2, -999.000,9, -999.000,9, -999.000,9, 2261.400,2, 2320.600,2
           NA,  RF1101,   3931,   1,-999.0,   22089,  2,20110205,2112,   9.9973,  149.3182,  5513,  704.600,    6.207,   34.520,2, -999.000,9,   80.000,2,   63.420,2,   36.660,2,    0.000,2,    2.620,2, -999.000,9, -999.000,9, -999.000,9, 2275.600,2, 2324.900,2
           NA,  RF1101,   3931,   1,-999.0,   22085,  2,20110205,2112,   9.9973,  149.3182,  5513,  807.000,    5.631,   34.524,2, -999.000,9,   78.200,2,   72.560,2,   37.620,2,    0.000,2,    2.690,2, -999.000,9, -999.000,9, -999.000,9, 2278.900,2, 2337.700,2
           NA,  RF1101,   3931,   1,-999.0,   22110,  2,20110205,2112,   9.9973,  149.3182,  5513,  906.200,    5.078,   34.533,2, -999.000,9,   80.000,2,   82.690,2,   38.280,2,    0.000,2,    2.740,2, -999.000,9, -999.000,9, -999.000,9, 2294.900,2, 2349.500,2
           NA,  RF1101,   3931,   1,-999.0,   22083,  2,20110205,2112,   9.9973,  149.3182,  5513, 1009.100,    4.566,   34.544,2, -999.000,9,   80.200,2,   92.330,2,   38.960,2,    0.000,2,    2.790,2, -999.000,9, -999.000,9, -999.000,9, 2309.400,6, 2359.500,6
           NA,  RF1101,   3931,   1,-999.0,   22082,  2,20110205,2112,   9.9973,  149.3182,  5513, 1209.900,    3.760,   34.569,2, -999.000,9,   87.700,2,  107.840,2,   39.160,2,    0.000,2,    2.800,2, -999.000,9, -999.000,9, -999.000,9, 2316.500,2, 2376.700,2
           NA,  RF1101,   3931,   1,-999.0,   22081,  2,20110205,2112,   9.9973,  149.3182,  5513, 1412.200,    3.128,   34.590,2, -999.000,9,   93.700,2,  121.230,2,   39.140,2,    0.000,2,    2.790,2, -999.000,9, -999.000,9, -999.000,9, 2335.500,2, 2390.300,2
           NA,  RF1101,   3931,   1,-999.0,   22080,  2,20110205,2112,   9.9973,  149.3182,  5513, 1412.200,    3.128,   34.590,2, -999.000,9,   94.000,6,  121.210,6,   39.300,6,    0.000,6,    2.800,6, -999.000,9, -999.000,9, -999.000,9, 2334.500,2, 2389.500,2
           NA,  RF1101,   3931,   1,-999.0,   22076,  2,20110205,2112,   9.9973,  149.3182,  5513, 1615.800,    2.667,   34.608,2, -999.000,9,   99.900,2,  130.910,2,   39.250,2,    0.000,2,    2.770,2, -999.000,9, -999.000,9, -999.000,9, 2337.900,2, 2400.600,2
           NA,  RF1101,   3931,   1,-999.0,   22075,  2,20110205,2112,   9.9973,  149.3182,  5513, 1818.300,    2.380,   34.624,2, -999.000,9,  107.500,2,  136.250,2,   38.820,2,    0.000,2,    2.750,2, -999.000,9, -999.000,9, -999.000,9, 2340.500,2, 2406.700,2
           NA,  RF1101,   3931,   1,-999.0,   22074,  2,20110205,2112,   9.9973,  149.3182,  5513, 2018.700,    2.223,   34.633,2, -999.000,9,  111.600,2,  138.950,2,   38.640,2,    0.000,2,    2.720,2, -999.000,9, -999.000,9, -999.000,9, 2352.600,2, 2411.000,2
           NA,  RF1101,   3932,   1,-999.0,      99,  2,20110206,0433,  10.9998,  149.3192,  5761,    0.000,   28.749,   34.304,2, -999.000,9,  196.900,2,    0.980,2,    0.010,2, -999.000,3,    0.090,2, -999.000,9, -999.000,9, -999.000,9, -999.000,9, -999.000,9
           NA,  RF1101,   3932,   1,-999.0,   22109,  2,20110206,0433,  10.9998,  149.3192,  5761,   10.900,   28.650,   34.300,2,   34.299,2,  197.000,2,    1.010,2,    0.020,2, -999.000,3,    0.080,2, -999.000,9, -999.000,9, -999.000,9, -999.000,9, -999.000,9
           NA,  RF1101,   3932,   1,-999.0,   22108,  2,20110206,0433,  10.9998,  149.3192,  5761,   27.100,   28.520,   34.293,2, -999.000,9,  197.200,2,    0.990,2,    0.030,2, -999.000,3,    0.080,2, -999.000,9, -999.000,9, -999.000,9, -999.000,9, -999.000,9
           NA,  RF1101,   3932,   1,-999.0,   22107,  2,20110206,0433,  10.9998,  149.3192,  5761,   51.700,   28.509,   34.296,2, -999.000,9,  197.300,2,    0.970,2,    0.020,2, -999.000,3,    0.090,2, -999.000,9, -999.000,9, -999.000,9, -999.000,9, -999.000,9
           NA,  RF1101,   3932,   1,-999.0,   22103,  3,20110206,0433,  10.9998,  149.3192,  5761,   76.300,   28.437,   34.466,2, -999.000,9,  198.100,2,    0.990,2,    0.050,2, -999.000,3,    0.110,2, -999.000,9, -999.000,9, -999.000,9, -999.000,9, -999.000,9
           NA,  RF1101,   3932,   1,-999.0,   22102,  2,20110206,0433,  10.9998,  149.3192,  5761,  102.100,   28.250,   34.711,2, -999.000,4,  202.400,2,    0.980,2,    0.010,2, -999.000,3,    0.110,2, -999.000,9, -999.000,9, -999.000,9, -999.000,9, -999.000,9
           NA,  RF1101,   3932,   1,-999.0,   22101,  2,20110206,0433,  10.9998,  149.3192,  5761,  127.100,   26.419,   35.102,2, -999.000,9,  205.300,2,    1.110,2,    0.040,2, -999.000,3,    0.100,2, -999.000,9, -999.000,9, -999.000,9, -999.000,9, -999.000,9
           NA,  RF1101,   3932,   1,-999.0,   22100,  2,20110206,0433,  10.9998,  149.3192,  5761,  151.800,   24.421,   35.221,2, -999.000,9,  189.100,2,    1.220,2,    0.170,2, -999.000,3,    0.140,2, -999.000,9, -999.000,9, -999.000,9, -999.000,9, -999.000,9
           NA,  RF1101,   3932,   1,-999.0,   22099,  2,20110206,0433,  10.9998,  149.3192,  5761,  151.800,   24.421,   35.221,2, -999.000,9,  189.200,6,    1.410,6,    0.200,6, -999.000,3,    0.150,6, -999.000,9, -999.000,9, -999.000,9, -999.000,9, -999.000,9
           NA,  RF1101,   3932,   1,-999.0,   22098,  2,20110206,0433,  10.9998,  149.3192,  5761,  202.100,   18.687,   34.796,2, -999.000,4,  162.200,2,    5.030,2,    6.470,2, -999.000,3,    0.570,2, -999.000,9, -999.000,9, -999.000,9, -999.000,9, -999.000,9
           NA,  RF1101,   3932,   1,-999.0,   22094,  2,20110206,0433,  10.9998,  149.3192,  5761,  253.900,   12.887,   34.394,2, -999.000,9,  141.300,2,   16.180,2,   16.840,2, -999.000,3,    1.270,2, -999.000,9, -999.000,9, -999.000,9, -999.000,9, -999.000,9
           NA,  RF1101,   3932,   1,-999.0,   22093,  2,20110206,0433,  10.9998,  149.3192,  5761,  304.000,   10.280,   34.319,2, -999.000,9,  111.500,2,   28.420,2,   24.450,2, -999.000,3,    1.800,2, -999.000,9, -999.000,9, -999.000,9, -999.000,9, -999.000,9
           NA,  RF1101,   3932,   1,-999.0,   22092,  2,20110206,0433,  10.9998,  149.3192,  5761,  404.300,    8.271,   34.427,2,   34.427,2,   72.700,2,   45.360,2,   32.650,2, -999.000,3,    2.350,2, -999.000,9, -999.000,9, -999.000,9, -999.000,9, -999.000,9
           NA,  RF1101,   3932,   1,-999.0,   22091,  2,20110206,0433,  10.9998,  149.3192,  5761,  506.000,    7.173,   34.465,2, -999.000,9,   70.500,2,   55.110,2,   35.030,2, -999.000,3,    2.520,2, -999.000,9, -999.000,9, -999.000,9, -999.000,9, -999.000,9
           NA,  RF1101,   3932,   1,-999.0,   22090,  2,20110206,0433,  10.9998,  149.3192,  5761,  607.000,    6.310,   34.495,2,   34.495,2,   72.900,2,   63.580,2,   36.620,2, -999.000,3,    2.630,2, -999.000,9, -999.000,9, -999.000,9, -999.000,9, -999.000,9
           NA,  RF1101,   3932,   1,-999.0,   22089,  2,20110206,0433,  10.9998,  149.3192,  5761,  708.500,    5.773,   34.507,2, -999.000,9,   72.400,2,   71.610,2,   37.790,2, -999.000,3,    2.700,2, -999.000,9, -999.000,9, -999.000,9, -999.000,9, -999.000,9
           NA,  RF1101,   3932,   1,-999.0,   22085,  2,20110206,0433,  10.9998,  149.3192,  5761,  809.100,    5.214,   34.526,2,   34.525,2,   73.000,2,   80.620,2,   38.650,2, -999.000,3,    2.770,2, -999.000,9, -999.000,9, -999.000,9, -999.000,9, -999.000,9
           NA,  RF1101,   3932,   1,-999.0,   22110,  2,20110206,0433,  10.9998,  149.3192,  5761,  909.700,    4.787,   34.533,2, -999.000,9,   71.200,2,   89.220,2,   39.340,2, -999.000,3,    2.820,2, -999.000,9, -999.000,9, -999.000,9, -999.000,9, -999.000,9
           NA,  RF1101,   3932,   1,-999.0,   22083,  2,20110206,0433,  10.9998,  149.3192,  5761, 1010.400,    4.290,   34.548,2,   34.548,2,   76.800,2,   97.970,2,   39.510,2, -999.000,3,    2.820,2, -999.000,9, -999.000,9, -999.000,9, -999.000,9, -999.000,9
           NA,  RF1101,   3932,   1,-999.0,   22082,  2,20110206,0433,  10.9998,  149.3192,  5761, 1213.600,    3.445,   34.574,2, -999.000,9,   81.200,2,  115.720,2,   39.960,2, -999.000,3,    2.850,2, -999.000,9, -999.000,9, -999.000,9, -999.000,9, -999.000,9
           NA,  RF1101,   3932,   1,-999.0,   22081,  2,20110206,0433,  10.9998,  149.3192,  5761, 1213.600,    3.445,   34.574,2,   34.572,2,   81.600,6,  115.470,6,   39.980,6, -999.000,3,    2.850,6, -999.000,9, -999.000,9, -999.000,9, -999.000,9, -999.000,9
           NA,  RF1101,   3932,   1,-999.0,   22080,  2,20110206,0433,  10.9998,  149.3192,  5761, 1414.900,    2.950,   34.595,2,   34.594,2,   93.100,2,  124.310,2,   39.330,2, -999.000,3,    2.790,2, -999.000,9, -999.000,9, -999.000,9, -999.000,9, -999.000,9
           NA,  RF1101,   3932,   1,-999.0,   22076,  3,20110206,0433,  10.9998,  149.3192,  5761, 1617.200,    2.600,   34.610,2,   34.610,2,  100.900,2,  132.380,2,   39.150,2, -999.000,3,    2.770,2, -999.000,9, -999.000,9, -999.000,9, -999.000,9, -999.000,9
           NA,  RF1101,   3932,   1,-999.0,   22075,  2,20110206,0433,  10.9998,  149.3192,  5761, 1820.100,    2.348,   34.624,2,   34.623,6,  106.800,2,  136.620,2,   38.950,2, -999.000,3,    2.740,2, -999.000,9, -999.000,9, -999.000,9, -999.000,9, -999.000,9
           NA,  RF1101,   3932,   1,-999.0,   22074,  2,20110206,0433,  10.9998,  149.3192,  5761, 2025.800,    2.115,   34.635,2,   34.635,6,  113.400,2,  140.830,2,   38.550,2, -999.000,3,    2.710,2, -999.000,9, -999.000,9, -999.000,9, -999.000,9, -999.000,9