BOTTLE,20213313JOAExport
EXPOCODE,SECT_ID,STNNBR,CASTNO,SAMPNO,BTLNBR,BTLNBR_FLAG_W,DATE,TIME,LATITUDE,LONGITUDE,DEPTH,CTDPRS,CTDTMP,CTDSAL,CTDSAL_FLAG_W,SALNTY,SALNTY_FLAG_W,OXYGEN,OXYGEN_FLAG_W,SILCAT,SILCAT_FLAG_W,NITRAT,NITRAT_FLAG_W,NITRIT,NITRIT_FLAG_W,PHSPHT,PHSPHT_FLAG_W,CFC-11,CFC-11_FLAG_W,CFC-12,CFC-12_FLAG_W,SF6,SF6_FLAG_W,TCARBN,TCARBN_FLAG_W,ALKALI,ALKALI_FLAG_W
,,,,,,,,,,,,,DB,ITS-90,PSS-78,,PSS-78,,UMOL/KG,,UMOL/KG,,UMOL/KG,,UMOL/KG,,UMOL/KG,,PMOL/KG,,PMOL/KG,,FMOL/KG,,UMOL/KG,,UMOL/KG
           NA,  RF1101,   3926,   1,-999.0,      99,  2,20110204,1323,   6.0043,  148.2717,  4092,    0.000,   29.765,   34.373,2, -999.000,9,  193.500,2,    1.290,2,    0.020,2,    0.000,2,    0.050,2, -999.000,9, -999.000,9, -999.000,9, -999.000,9, -999.000,9
           NA,  RF1101,   3926,   1,-999.0,   22109,  2,20110204,1323,   6.0043,  148.2717,  4092,   13.100,   29.773,   34.371,2,   34.372,2,  194.300,2,    1.300,2,    0.010,2,    0.000,2,    0.050,2, -999.000,9, -999.000,9, -999.000,9, -999.000,9, -999.000,9
           NA,  RF1101,   3926,   1,-999.0,   22108,  2,20110204,1323,   6.0043,  148.2717,  4092,   28.100,   29.782,   34.374,2, -999.000,9,  194.800,2,    1.270,2,    0.000,2,    0.000,2,    0.040,2, -999.000,9, -999.000,9, -999.000,9, -999.000,9, -999.000,9
           NA,  RF1101,   3926,   1,-999.0,   22107,  2,20110204,1323,   6.0043,  148.2717,  4092,   28.100,   29.782,   34.374,2, -999.000,9,  195.300,6,    1.340,6,    0.020,6,    0.000,6,    0.050,6, -999.000,9, -999.000,9, -999.000,9, -999.000,9, -999.000,9
           NA,  RF1101,   3926,   1,-999.0,   22103,  2,20110204,1323,   6.0043,  148.2717,  4092,   52.000,   29.710,   34.356,2, -999.000,9,  195.200,2,    1.240,2,    0.070,2,    0.000,2,    0.050,2, -999.000,9, -999.000,9, -999.000,9, -999.000,9, -999.000,9
           NA,  RF1101,   3926,   1,-999.0,   22102,  2,20110204,1323,   6.0043,  148.2717,  4092,   78.800,   29.725,   34.419,2, -999.000,9,  193.400,2,    1.140,2,    0.020,2,    0.000,2,    0.060,2, -999.000,9, -999.000,9, -999.000,9, -999.000,9, -999.000,9
           NA,  RF1101,   3926,   1,-999.0,   22101,  2,20110204,1323,   6.0043,  148.2717,  4092,  104.700,   27.964,   34.665,2, -999.000,4,  185.300,2,    1.710,2,    0.340,2,    0.080,2,    0.130,2, -999.000,9, -999.000,9, -999.000,9, -999.000,9, -999.000,9
           NA,  RF1101,   3926,   1,-999.0,   22100,  2,20110204,1323,   6.0043,  148.2717,  4092,  127.600,   25.393,   34.780,2, -999.000,9,  163.900,2,    3.390,2,    3.380,2,    0.050,2,    0.370,2, -999.000,9, -999.000,9, -999.000,9, -999.000,9, -999.000,9
           NA,  RF1101,   3926,   1,-999.0,   22099,  2,20110204,1323,   6.0043,  148.2717,  4092,  152.300,   22.128,   34.788,2, -999.000,9,  151.600,2,    5.700,2,    6.610,2,    0.020,2,    0.570,2, -999.000,9, -999.000,9, -999.000,9, -999.000,9, -999.000,9
           NA,  RF1101,   3926,   1,-999.0,   22098,  2,20110204,1323,   6.0043,  148.2717,  4092,  202.600,   12.709,   34.534,2,   34.534,2,   90.700,2,   22.990,2,   23.300,2,    0.000,2,    1.700,2, -999.000,9, -999.000,9, -999.000,9, -999.000,9, -999.000,9
           NA,  RF1101,   3926,   1,-999.0,   22094,  2,20110204,1323,   6.0043,  148.2717,  4092,  254.100,   10.594,   34.555,2, -999.000,9,   66.800,2,   31.470,2,   29.560,2,    0.000,2,    2.140,2, -999.000,9, -999.000,9, -999.000,9, -999.000,9, -999.000,9
           NA,  RF1101,   3926,   1,-999.0,   22093,  2,20110204,1323,   6.0043,  148.2717,  4092,  304.000,    9.737,   34.592,2, -999.000,9,   54.900,2,   34.770,2,   32.350,2,    0.000,2,    2.300,2, -999.000,9, -999.000,9, -999.000,9, -999.000,9, -999.000,9
           NA,  RF1101,   3926,   1,-999.0,   22092,  2,20110204,1323,   6.0043,  148.2717,  4092,  404.300,    8.890,   34.604,2,   34.604,2,   67.900,2,   37.400,2,   32.870,2,    0.000,2,    2.320,2, -999.000,9, -999.000,9, -999.000,9, -999.000,9, -999.000,9
           NA,  RF1101,   3926,   1,-999.0,   22091,  2,20110204,1323,   6.0043,  148.2717,  4092,  506.000,    8.162,   34.587,2, -999.000,9,   87.700,2,   38.820,2,   32.680,2,    0.000,2,    2.300,2, -999.000,9, -999.000,9, -999.000,9, -999.000,9, -999.000,9
           NA,  RF1101,   3926,   1,-999.0,   22090,  2,20110204,1323,   6.0043,  148.2717,  4092,  606.800,    7.189,   34.549,2, -999.000,9,   71.700,2,   51.890,2,   35.710,2,    0.000,2,    2.550,2, -999.000,9, -999.000,9, -999.000,9, -999.000,9, -999.000,9
           NA,  RF1101,   3926,   1,-999.0,   22089,  2,20110204,1323,   6.0043,  148.2717,  4092,  606.800,    7.189,   34.549,2,   34.548,2,   72.200,6,   51.600,6,   35.700,6,    0.000,6,    2.540,6, -999.000,9, -999.000,9, -999.000,9, -999.000,9, -999.000,9
           NA,  RF1101,   3926,   1,-999.0,   22085,  2,20110204,1323,   6.0043,  148.2717,  4092,  706.900,    6.414,   34.535,2, -999.000,9,   85.100,2,   58.260,2,   35.930,2,    0.000,2,    2.540,2, -999.000,9, -999.000,9, -999.000,9, -999.000,9, -999.000,9
           NA,  RF1101,   3926,   1,-999.0,   22110,  2,20110204,1323,   6.0043,  148.2717,  4092,  809.100,    5.761,   34.537,2,   34.536,2,   79.800,2,   69.230,2,   37.480,2,    0.000,2,    2.660,2, -999.000,9, -999.000,9, -999.000,9, -999.000,9, -999.000,9
           NA,  RF1101,   3926,   1,-999.0,   22083,  2,20110204,1323,   6.0043,  148.2717,  4092,  910.600,    4.943,   34.547,2, -999.000,9,   78.000,2,   83.540,2,   38.800,2,    0.000,2,    2.750,2, -999.000,9, -999.000,9, -999.000,9, -999.000,9, -999.000,9
           NA,  RF1101,   3926,   1,-999.0,   22082,  2,20110204,1323,   6.0043,  148.2717,  4092, 1010.500,    4.506,   34.556,2,   34.555,2,   88.300,2,   90.530,2,   38.320,2,    0.000,2,    2.730,2, -999.000,9, -999.000,9, -999.000,9, -999.000,9, -999.000,9
           NA,  RF1101,   3926,   1,-999.0,   22081,  2,20110204,1323,   6.0043,  148.2717,  4092, 1213.200,    3.689,   34.577,2,   34.578,2,   87.900,2,  108.220,2,   39.320,2,    0.000,2,    2.790,2, -999.000,9, -999.000,9, -999.000,9, -999.000,9, -999.000,9
           NA,  RF1101,   3926,   1,-999.0,   22080,  2,20110204,1323,   6.0043,  148.2717,  4092, 1415.900,    3.222,   34.592,2,   34.594,6,   92.900,2,  117.870,2,   39.320,2,    0.000,2,    2.780,2, -999.000,9, -999.000,9, -999.000,9, -999.000,9, -999.000,9
           NA,  RF1101,   3926,   1,-999.0,   22076,  2,20110204,1323,   6.0043,  148.2717,  4092, 1618.700,    2.720,   34.613,2,   34.613,6,   99.700,2,  128.720,2,   39.090,2,    0.000,2,    2.760,2, -999.000,9, -999.000,9, -999.000,9, -999.000,9, -999.000,9
           NA,  RF1101,   3926,   1,-999.0,   22075,  2,20110204,1323,   6.0043,  148.2717,  4092, 1820.800,    2.421,   34.626,2,   34.626,2,  105.600,2,  134.860,2,   38.920,2,    0.000,2,    2.720,2, -999.000,9, -999.000,9, -999.000,9, -999.000,9, -999.000,9
           NA,  RF1101,   3926,   1,-999.0,   22074,  2,20110204,1323,   6.0043,  148.2717,  4092, 2033.000,    2.147,   34.640,2,   34.640,2,  113.600,2,  139.320,2,   38.510,2,    0.000,2,    2.680,2, -999.000,9, -999.000,9, -999.000,9, -999.000,9, -999.000,9
           NA,  RF1101,   3927,   1,-999.0,      99,  2,20110204,2122,   6.9880,  148.6225,  3658,    0.000,   29.623,   34.350,2, -999.000,9,  194.100,2,    0.750,2,    0.000,2,    0.000,2,    0.030,2, -999.000,9, -999.000,9, -999.000,9, -999.000,9, -999.000,9
           NA,  RF1101,   3927,   1,-999.0,   22108,  2,20110204,2122,   6.9880,  148.6225,  3658,   10.400,   29.624,   34.350,2, -999.000,9,  194.000,6,    0.690,6,    0.000,6,    0.000,6,    0.010,6, -999.000,9, -999.000,9, -999.000,9, -999.000,9, -999.000,9
           NA,  RF1101,   3927,   1,-999.0,   22109,  2,20110204,2122,   6.9880,  148.6225,  3658,   10.400,   29.624,   34.350,2, -999.000,9,  195.400,2,    0.700,2,    0.000,2,    0.000,2,    0.010,2, -999.000,9, -999.000,9, -999.000,9, -999.000,9, -999.000,9
           NA,  RF1101,   3927,   1,-999.0,   22107,  2,20110204,2122,   6.9880,  148.6225,  3658,   25.400,   29.623,   34.349,2, -999.000,9,  194.000,2,    0.560,2,    0.000,2,    0.000,2,    0.010,2, -999.000,9, -999.000,9, -999.000,9, -999.000,9, -999.000,9
           NA,  RF1101,   3927,   1,-999.0,   22103,  2,20110204,2122,   6.9880,  148.6225,  3658,   50.200,   29.636,   34.348,2, -999.000,9,  194.500,2,    0.640,2,    0.000,2,    0.000,2,    0.010,2, -999.000,9, -999.000,9, -999.000,9, -999.000,9, -999.000,9
           NA,  RF1101,   3927,   1,-999.0,   22102,  2,20110204,2122,   6.9880,  148.6225,  3658,   75.500,   29.645,   34.372,2, -999.000,9,  194.600,2,    0.750,2,    0.000,2,    0.000,2,    0.020,2, -999.000,9, -999.000,9, -999.000,9, -999.000,9, -999.000,9
           NA,  RF1101,   3927,   1,-999.0,   22101,  2,20110204,2122,   6.9880,  148.6225,  3658,  100.500,   28.563,   34.658,2, -999.000,9,  187.200,2,    0.850,2,    0.050,2,    0.080,2,    0.080,2, -999.000,9, -999.000,9, -999.000,9, -999.000,9, -999.000,9
           NA,  RF1101,   3927,   1,-999.0,   22100,  2,20110204,2122,   6.9880,  148.6225,  3658,  125.400,   26.128,   34.794,2, -999.000,9,  170.600,2,    1.880,2,    2.130,2,    0.080,2,    0.250,2, -999.000,9, -999.000,9, -999.000,9, -999.000,9, -999.000,9
           NA,  RF1101,   3927,   1,-999.0,   22099,  2,20110204,2122,   6.9880,  148.6225,  3658,  150.700,   22.937,   34.836,2, -999.000,9,  163.300,2,    3.770,2,    4.610,2,    0.130,2,    0.410,2, -999.000,9, -999.000,9, -999.000,9, -999.000,9, -999.000,9
           NA,  RF1101,   3927,   1,-999.0,   22098,  2,20110204,2122,   6.9880,  148.6225,  3658,  201.000,   15.997,   34.619,2, -999.000,9,  123.200,2,   13.240,2,   15.400,2,    0.010,2,    1.120,2, -999.000,9, -999.000,9, -999.000,9, -999.000,9, -999.000,9
           NA,  RF1101,   3927,   1,-999.0,   22094,  2,20110204,2122,   6.9880,  148.6225,  3658,  251.200,   10.878,   34.544,2, -999.000,9,   67.000,2,   29.690,2,   29.040,2,    0.000,2,    2.060,2, -999.000,9, -999.000,9, -999.000,9, -999.000,9, -999.000,9
           NA,  RF1101,   3927,   1,-999.0,   22093,  2,20110204,2122,   6.9880,  148.6225,  3658,  300.800,    9.775,   34.586,2, -999.000,9,   57.400,2,   34.230,2,   32.070,2,    0.000,2,    2.240,2, -999.000,9, -999.000,9, -999.000,9, -999.000,9, -999.000,9
           NA,  RF1101,   3927,   1,-999.0,   22092,  2,20110204,2122,   6.9880,  148.6225,  3658,  401.700,    8.653,   34.588,2, -999.000,9,   59.400,2,   39.280,2,   34.160,2,    0.000,2,    2.390,2, -999.000,9, -999.000,9, -999.000,9, -999.000,9, -999.000,9
           NA,  RF1101,   3927,   1,-999.0,   22091,  2,20110204,2122,   6.9880,  148.6225,  3658,  503.400,    7.936,   34.569,2, -999.000,9,   65.600,2,   44.200,2,   34.820,2,    0.000,2,    2.440,2, -999.000,9, -999.000,9, -999.000,9, -999.000,9, -999.000,9
           NA,  RF1101,   3927,   1,-999.0,   22090,  2,20110204,2122,   6.9880,  148.6225,  3658,  503.400,    7.936,   34.569,2, -999.000,9,   66.100,6,   44.060,6,   34.860,6,    0.000,6,    2.450,6, -999.000,9, -999.000,9, -999.000,9, -999.000,9, -999.000,9
           NA,  RF1101,   3927,   1,-999.0,   22089,  2,20110204,2122,   6.9880,  148.6225,  3658,  603.600,    7.086,   34.548,2, -999.000,9,   70.300,2,   52.150,2,   36.070,2,    0.000,2,    2.550,2, -999.000,9, -999.000,9, -999.000,9, -999.000,9, -999.000,9
           NA,  RF1101,   3927,   1,-999.0,   22085,  2,20110204,2122,   6.9880,  148.6225,  3658,  704.700,    6.346,   34.540,2, -999.000,9,   68.100,2,   62.210,2,   37.480,2,    0.000,2,    2.660,2, -999.000,9, -999.000,9, -999.000,9, -999.000,9, -999.000,9
           NA,  RF1101,   3927,   1,-999.0,   22110,  2,20110204,2122,   6.9880,  148.6225,  3658,  805.500,    5.669,   34.539,2, -999.000,9,   74.000,2,   71.060,2,   38.080,2,    0.000,2,    2.700,2, -999.000,9, -999.000,9, -999.000,9, -999.000,9, -999.000,9
           NA,  RF1101,   3927,   1,-999.0,   22083,  2,20110204,2122,   6.9880,  148.6225,  3658,  906.300,    5.044,   34.546,2, -999.000,9,   75.800,2,   80.890,2,   38.860,2,    0.000,2,    2.760,2, -999.000,9, -999.000,9, -999.000,9, -999.000,9, -999.000,9
           NA,  RF1101,   3927,   1,-999.0,   22082,  2,20110204,2122,   6.9880,  148.6225,  3658, 1007.700,    4.504,   34.556,2, -999.000,9,   81.200,2,   90.820,2,   38.970,2,    0.000,2,    2.750,2, -999.000,9, -999.000,9, -999.000,9, -999.000,9, -999.000,9
           NA,  RF1101,   3927,   1,-999.0,   22081,  2,20110204,2122,   6.9880,  148.6225,  3658, 1210.200,    3.816,   34.573,2, -999.000,9,   86.500,2,  104.680,2,   39.280,2,    0.000,2,    2.780,2, -999.000,9, -999.000,9, -999.000,9, -999.000,9, -999.000,9
           NA,  RF1101,   3927,   1,-999.0,   22080,  3,20110204,2122,   6.9880,  148.6225,  3658, 1412.800,    3.366,   34.588,2, -999.000,9,   90.800,2,  113.850,2,   39.290,2,    0.000,2,    2.770,2, -999.000,9, -999.000,9, -999.000,9, -999.000,9, -999.000,9
           NA,  RF1101,   3927,   1,-999.0,   22076,  2,20110204,2122,   6.9880,  148.6225,  3658, 1614.200,    2.786,   34.610,2, -999.000,9,  100.200,2,  125.760,2,   39.000,2,    0.000,2,    2.730,2, -999.000,9, -999.000,9, -999.000,9, -999.000,9, -999.000,9
           NA,  RF1101,   3927,   1,-999.0,   22075,  2,20110204,2122,   6.9880,  148.6225,  3658, 1817.300,    2.488,   34.623,2, -999.000,9,  105.700,2,  132.480,2,   38.730,2,    0.000,2,    2.700,2, -999.000,9, -999.000,9, -999.000,9, -999.000,9, -999.000,9
           NA,  RF1101,   3927,   1,-999.0,   22074,  2,20110204,2122,   6.9880,  148.6225,  3658, 2020.700,    2.222,   34.636,2, -999.000,9,  113.000,2,  136.970,2,   38.430,2,    0.000,2,    2.690,2, -999.000,9, -999.000,9, -999.000,9, -999.000,9, -999.000,9