BOTTLE,20213313JOAExport
EXPOCODE,SECT_ID,STNNBR,CASTNO,SAMPNO,BTLNBR,BTLNBR_FLAG_W,DATE,TIME,LATITUDE,LONGITUDE,DEPTH,CTDPRS,CTDTMP,CTDSAL,CTDSAL_FLAG_W,SALNTY,SALNTY_FLAG_W,OXYGEN,OXYGEN_FLAG_W,SILCAT,SILCAT_FLAG_W,NITRAT,NITRAT_FLAG_W,NITRIT,NITRIT_FLAG_W,PHSPHT,PHSPHT_FLAG_W,CFC-11,CFC-11_FLAG_W,CFC-12,CFC-12_FLAG_W,SF6,SF6_FLAG_W,TCARBN,TCARBN_FLAG_W,ALKALI,ALKALI_FLAG_W
,,,,,,,,,,,,,DB,ITS-90,PSS-78,,PSS-78,,UMOL/KG,,UMOL/KG,,UMOL/KG,,UMOL/KG,,UMOL/KG,,PMOL/KG,,PMOL/KG,,FMOL/KG,,UMOL/KG,,UMOL/KG
           NA,  RF1101,   3952,   1,-999.0,      99,  2,20110220,0320,  28.0028,  147.0055,  5751,    0.000,   20.920,   34.899,2, -999.000,9,  220.800,2,    1.470,2,    0.000,2,    0.000,2,    0.050,2, -999.000,9, -999.000,9, -999.000,9, -999.000,9, -999.000,9
           NA,  RF1101,   3952,   1,-999.0,   22109,  2,20110220,0320,  28.0028,  147.0055,  5751,   12.300,   20.920,   34.900,2,   34.900,2,  221.400,2,    1.310,2,    0.000,2,    0.000,2,    0.020,2, -999.000,9, -999.000,9, -999.000,9, 1984.900,2, 2289.800,2
           NA,  RF1101,   3952,   1,-999.0,   22108,  2,20110220,0320,  28.0028,  147.0055,  5751,   26.600,   20.890,   34.902,2, -999.000,9,  221.200,2,    1.330,2,    0.000,2,    0.000,2,    0.020,2, -999.000,9, -999.000,9, -999.000,9, 1986.500,2, 2288.500,2
           NA,  RF1101,   3952,   1,-999.0,   22107,  2,20110220,0320,  28.0028,  147.0055,  5751,   51.800,   20.858,   34.902,2, -999.000,9,  220.800,2,    1.560,2,    0.000,2,    0.000,2,    0.030,2, -999.000,9, -999.000,9, -999.000,9, 1981.700,2, 2286.400,2
           NA,  RF1101,   3952,   1,-999.0,   22106,  2,20110220,0320,  28.0028,  147.0055,  5751,   76.200,   20.842,   34.900,2, -999.000,9,  220.300,2,    1.240,2,    0.070,2,    0.000,2,    0.040,2, -999.000,9, -999.000,9, -999.000,9, 1978.800,2, 2287.700,2
           NA,  RF1101,   3952,   1,-999.0,   22105,  2,20110220,0320,  28.0028,  147.0055,  5751,  101.600,   20.028,   34.831,2,   34.831,2,  222.600,2,    1.650,2,    0.060,2,    0.050,2,    0.050,2, -999.000,9, -999.000,9, -999.000,9, 1988.500,2, 2286.700,2
           NA,  RF1101,   3952,   1,-999.0,   22104,  2,20110220,0320,  28.0028,  147.0055,  5751,  127.800,   19.474,   34.769,2, -999.000,9,  220.100,2,    1.570,2,    0.520,2,    0.160,2,    0.080,2, -999.000,9, -999.000,9, -999.000,9, 1995.500,2, 2282.300,2
           NA,  RF1101,   3952,   1,-999.0,   22100,  2,20110220,0320,  28.0028,  147.0055,  5751,  151.900,   18.976,   34.727,2, -999.000,9,  210.800,2,    2.380,2,    1.770,2,    0.030,2,    0.150,2, -999.000,9, -999.000,9, -999.000,9, 2007.200,2, 2280.600,2
           NA,  RF1101,   3952,   1,-999.0,   22099,  2,20110220,0320,  28.0028,  147.0055,  5751,  203.700,   17.969,   34.695,2,   34.694,2,  206.600,2,    3.270,2,    3.800,2,    0.010,2,    0.260,2, -999.000,9, -999.000,9, -999.000,9, 2019.700,2, 2276.900,2
           NA,  RF1101,   3952,   1,-999.0,   22098,  2,20110220,0320,  28.0028,  147.0055,  5751,  252.400,   17.380,   34.686,2, -999.000,9,  208.200,2,    3.860,2,    4.620,2,    0.010,2,    0.320,2, -999.000,9, -999.000,9, -999.000,9, 2025.500,2, 2274.100,2
           NA,  RF1101,   3952,   1,-999.0,   22097,  2,20110220,0320,  28.0028,  147.0055,  5751,  303.300,   16.600,   34.668,2, -999.000,9,  194.900,2,    5.790,2,    6.810,2,    0.000,2,    0.470,2, -999.000,9, -999.000,9, -999.000,9, 2042.800,2, 2274.500,2
           NA,  RF1101,   3952,   1,-999.0,   22095,  2,20110220,0320,  28.0028,  147.0055,  5751,  404.000,   14.469,   34.539,2,   34.539,2,  185.200,6,   12.650,6,   11.060,6,    0.000,6,    0.790,6, -999.000,9, -999.000,9, -999.000,9, 2076.300,2, 2275.000,2
           NA,  RF1101,   3952,   1,-999.0,   22096,  3,20110220,0320,  28.0028,  147.0055,  5751,  404.000,   14.469,   34.539,2, -999.000,9, -999.000,4,   12.560,2,   11.070,2,    0.010,2,    0.790,2, -999.000,9, -999.000,9, -999.000,9, -999.000,2, -999.000,2
           NA,  RF1101,   3952,   1,-999.0,   22091,  2,20110220,0320,  28.0028,  147.0055,  5751,  504.700,   11.629,   34.331,2, -999.000,9,  187.000,2,   19.900,2,   15.460,2,    0.000,2,    1.110,2, -999.000,9, -999.000,9, -999.000,9, 2112.200,2, 2270.200,2
           NA,  RF1101,   3952,   1,-999.0,   22090,  2,20110220,0320,  28.0028,  147.0055,  5751,  608.900,    8.358,   34.139,2,   34.140,6,  156.200,2,   40.890,2,   23.960,2,    0.000,2,    1.760,2, -999.000,9, -999.000,9, -999.000,9, 2173.100,2, 2283.100,2
           NA,  RF1101,   3952,   1,-999.0,   22089,  2,20110220,0320,  28.0028,  147.0055,  5751,  707.300,    6.523,   34.089,2, -999.000,9,  121.800,2,   60.450,2,   30.300,2,    0.000,2,    2.230,2, -999.000,9, -999.000,9, -999.000,9, 2223.300,2, 2296.000,2
           NA,  RF1101,   3952,   1,-999.0,   22088,  2,20110220,0320,  28.0028,  147.0055,  5751,  809.700,    5.176,   34.135,2,   34.136,6,   84.600,2,   83.110,2,   35.820,2,    0.000,2,    2.640,2, -999.000,9, -999.000,9, -999.000,9, 2274.600,2, 2316.600,2
           NA,  RF1101,   3952,   1,-999.0,   22087,  2,20110220,0320,  28.0028,  147.0055,  5751,  910.100,    4.418,   34.211,2, -999.000,9,   59.900,2,  100.870,2,   39.150,2,    0.000,2,    2.860,2, -999.000,9, -999.000,9, -999.000,9, 2308.700,2, 2333.500,2
           NA,  RF1101,   3952,   1,-999.0,   22086,  2,20110220,0320,  28.0028,  147.0055,  5751, 1011.100,    3.897,   34.299,2,   34.299,2,   47.300,2,  114.670,2,   40.820,2,    0.000,2,    2.980,2, -999.000,9, -999.000,9, -999.000,9, 2332.100,2, 2349.400,2
           NA,  RF1101,   3952,   1,-999.0,   22082,  2,20110220,0320,  28.0028,  147.0055,  5751, 1212.800,    3.206,   34.424,2,   34.424,2,   43.900,2,  132.910,2,   41.960,2,    0.000,2,    3.040,2, -999.000,9, -999.000,9, -999.000,9, 2355.500,2, 2374.500,2
           NA,  RF1101,   3952,   1,-999.0,   22081,  2,20110220,0320,  28.0028,  147.0055,  5751, 1416.000,    2.776,   34.492,2,   34.493,2,   53.800,2,  142.710,2,   41.700,2,    0.000,2,    3.010,2, -999.000,9, -999.000,9, -999.000,9, 2360.800,2, 2387.900,2
           NA,  RF1101,   3952,   1,-999.0,   22080,  3,20110220,0320,  28.0028,  147.0055,  5751, 1618.900,    2.414,   34.540,2,   34.540,2,   64.300,2,  149.780,2,   41.270,2,    0.000,2,    2.970,2, -999.000,9, -999.000,9, -999.000,9, 2364.400,2, 2397.600,2
           NA,  RF1101,   3952,   1,-999.0,   22079,  2,20110220,0320,  28.0028,  147.0055,  5751, 1822.700,    2.194,   34.573,2,   34.574,2,   78.200,2,  152.400,2,   40.450,2,    0.000,2,    2.910,2, -999.000,9, -999.000,9, -999.000,9, 2361.500,2, 2404.900,2
           NA,  RF1101,   3952,   1,-999.0,   22078,  2,20110220,0320,  28.0028,  147.0055,  5751, 2024.500,    2.033,   34.597,2, -999.000,9,   89.800,2,  152.390,2,   39.750,2,    0.000,2,    2.850,2, -999.000,9, -999.000,9, -999.000,9, 2356.100,2, 2408.600,2
           NA,  RF1101,   3952,   1,-999.0,   22077,  2,20110220,0320,  28.0028,  147.0055,  5751, 2024.500,    2.033,   34.597,2,   34.597,2,   91.100,6,  152.540,6,   39.650,6,    0.000,6,    2.850,6, -999.000,9, -999.000,9, -999.000,9, 2356.300,2, 2410.300,2
           NA,  RF1101,   3954,   1,-999.0,      99,  2,20110220,1350,  28.9880,  145.9768,  5945,    0.000,   19.633,   34.818,2, -999.000,9,  225.800,2,    1.640,2,    0.190,2,    0.020,2,    0.030,2, -999.000,9, -999.000,9, -999.000,9, -999.000,9, -999.000,9
           NA,  RF1101,   3954,   1,-999.0,   22109,  2,20110220,1350,  28.9880,  145.9768,  5945,   10.100,   19.633,   34.817,2, -999.000,9,  226.400,2,    1.630,2,    0.210,2,    0.030,2,    0.030,2, -999.000,9, -999.000,9, -999.000,9, -999.000,9, -999.000,9
           NA,  RF1101,   3954,   1,-999.0,   22108,  2,20110220,1350,  28.9880,  145.9768,  5945,   25.200,   19.626,   34.815,2, -999.000,9,  226.600,2,    1.760,2,    0.150,2,    0.030,2,    0.030,2, -999.000,9, -999.000,9, -999.000,9, -999.000,9, -999.000,9
           NA,  RF1101,   3954,   1,-999.0,   22107,  2,20110220,1350,  28.9880,  145.9768,  5945,   50.400,   19.235,   34.770,2, -999.000,9,  227.300,2,    1.730,2,    0.290,2,    0.120,2,    0.040,2, -999.000,9, -999.000,9, -999.000,9, -999.000,9, -999.000,9
           NA,  RF1101,   3954,   1,-999.0,   22106,  2,20110220,1350,  28.9880,  145.9768,  5945,   77.400,   19.233,   34.774,2, -999.000,9,  226.900,2,    1.970,2,    0.260,2,    0.150,2,    0.060,2, -999.000,9, -999.000,9, -999.000,9, -999.000,9, -999.000,9
           NA,  RF1101,   3954,   1,-999.0,   22105,  2,20110220,1350,  28.9880,  145.9768,  5945,  101.600,   19.225,   34.775,2, -999.000,9,  226.500,2,    1.900,2,    0.280,2,    0.150,2,    0.040,2, -999.000,9, -999.000,9, -999.000,9, -999.000,9, -999.000,9
           NA,  RF1101,   3954,   1,-999.0,   22104,  2,20110220,1350,  28.9880,  145.9768,  5945,  126.800,   19.158,   34.764,2, -999.000,9,  225.400,2,    2.000,2,    0.370,2,    0.210,2,    0.060,2, -999.000,9, -999.000,9, -999.000,9, -999.000,9, -999.000,9
           NA,  RF1101,   3954,   1,-999.0,   22100,  2,20110220,1350,  28.9880,  145.9768,  5945,  152.700,   19.010,   34.746,2, -999.000,9,  223.600,2,    2.010,2,    0.650,2,    0.300,2,    0.080,2, -999.000,9, -999.000,9, -999.000,9, -999.000,9, -999.000,9
           NA,  RF1101,   3954,   1,-999.0,   22099,  2,20110220,1350,  28.9880,  145.9768,  5945,  202.500,   18.700,   34.723,2, -999.000,9,  221.100,2,    2.240,2,    1.510,2,    0.030,2,    0.120,2, -999.000,9, -999.000,9, -999.000,9, -999.000,9, -999.000,9
           NA,  RF1101,   3954,   1,-999.0,   22098,  2,20110220,1350,  28.9880,  145.9768,  5945,  253.300,   17.835,   34.694,2, -999.000,9,  204.900,2,    3.840,2,    4.300,2,    0.010,2,    0.290,2, -999.000,9, -999.000,9, -999.000,9, -999.000,9, -999.000,9
           NA,  RF1101,   3954,   1,-999.0,   22097,  2,20110220,1350,  28.9880,  145.9768,  5945,  302.000,   17.063,   34.686,2, -999.000,9,  197.700,2,    5.300,2,    5.980,2,    0.010,2,    0.400,2, -999.000,9, -999.000,9, -999.000,9, -999.000,9, -999.000,9
           NA,  RF1101,   3954,   1,-999.0,   22096,  2,20110220,1350,  28.9880,  145.9768,  5945,  302.000,   17.063,   34.686,2, -999.000,9,  198.300,6,    5.280,6,    6.050,6,    0.010,6,    0.400,6, -999.000,9, -999.000,9, -999.000,9, -999.000,9, -999.000,9
           NA,  RF1101,   3954,   1,-999.0,   22095,  2,20110220,1350,  28.9880,  145.9768,  5945,  404.400,   15.084,   34.578,2, -999.000,9,  190.200,2,   10.070,2,    9.670,2,    0.010,2,    0.670,2, -999.000,9, -999.000,9, -999.000,9, -999.000,9, -999.000,9
           NA,  RF1101,   3954,   1,-999.0,   22091,  2,20110220,1350,  28.9880,  145.9768,  5945,  503.700,   11.887,   34.375,2, -999.000,9,  172.300,2,   24.000,2,   16.460,2,    0.000,2,    1.180,2, -999.000,9, -999.000,9, -999.000,9, -999.000,9, -999.000,9
           NA,  RF1101,   3954,   1,-999.0,   22090,  3,20110220,1350,  28.9880,  145.9768,  5945,  605.700,    8.845,   34.147,2, -999.000,9,  171.400,2,   35.220,2,   21.670,2,    0.000,2,    1.570,2, -999.000,9, -999.000,9, -999.000,9, -999.000,9, -999.000,9
           NA,  RF1101,   3954,   1,-999.0,   22089,  2,20110220,1350,  28.9880,  145.9768,  5945,  707.400,    6.217,   34.045,2, -999.000,9,  132.200,2,   60.440,2,   29.650,2,    0.000,2,    2.200,2, -999.000,9, -999.000,9, -999.000,9, -999.000,9, -999.000,9
           NA,  RF1101,   3954,   1,-999.0,   22088,  2,20110220,1350,  28.9880,  145.9768,  5945,  805.800,    5.039,   34.100,2, -999.000,9,   89.000,2,   82.520,2,   35.730,2,    0.000,2,    2.600,2, -999.000,9, -999.000,9, -999.000,9, -999.000,9, -999.000,9
           NA,  RF1101,   3954,   1,-999.0,   22087,  2,20110220,1350,  28.9880,  145.9768,  5945,  908.800,    4.435,   34.190,2, -999.000,9,   62.300,2,   99.410,2,   38.880,2,    0.000,2,    2.820,2, -999.000,9, -999.000,9, -999.000,9, -999.000,9, -999.000,9
           NA,  RF1101,   3954,   1,-999.0,   22086,  2,20110220,1350,  28.9880,  145.9768,  5945, 1009.300,    3.941,   34.270,2, -999.000,9,   46.600,2,  113.510,2,   40.750,2,    0.000,2,    2.950,2, -999.000,9, -999.000,9, -999.000,9, -999.000,9, -999.000,9
           NA,  RF1101,   3954,   1,-999.0,   22082,  2,20110220,1350,  28.9880,  145.9768,  5945, 1211.400,    3.297,   34.385,2, -999.000,9,   39.800,2,  130.750,2,   42.010,2,    0.000,2,    3.020,2, -999.000,9, -999.000,9, -999.000,9, -999.000,9, -999.000,9
           NA,  RF1101,   3954,   1,-999.0,   22081,  2,20110220,1350,  28.9880,  145.9768,  5945, 1413.700,    2.793,   34.478,2, -999.000,9,   47.600,2,  143.040,2,   41.920,2,    0.000,2,    3.000,2, -999.000,9, -999.000,9, -999.000,9, -999.000,9, -999.000,9
           NA,  RF1101,   3954,   1,-999.0,   22080,  2,20110220,1350,  28.9880,  145.9768,  5945, 1615.700,    2.428,   34.527,2, -999.000,9,   54.500,2,  152.650,2,   41.480,2,    0.000,2,    2.980,2, -999.000,9, -999.000,9, -999.000,9, -999.000,9, -999.000,9
           NA,  RF1101,   3954,   1,-999.0,   22079,  2,20110220,1350,  28.9880,  145.9768,  5945, 1820.500,    2.166,   34.569,2, -999.000,9,   68.200,2,  156.540,2,   40.800,2,    0.000,2,    2.920,2, -999.000,9, -999.000,9, -999.000,9, -999.000,9, -999.000,9
           NA,  RF1101,   3954,   1,-999.0,   22078,  2,20110220,1350,  28.9880,  145.9768,  5945, 1820.500,    2.166,   34.569,2, -999.000,9,   68.800,6,  156.920,6,   41.070,6,    0.000,6,    2.920,6, -999.000,9, -999.000,9, -999.000,9, -999.000,9, -999.000,9
           NA,  RF1101,   3954,   1,-999.0,   22077,  2,20110220,1350,  28.9880,  145.9768,  5945, 2022.800,    1.984,   34.599,2, -999.000,9,   85.900,2,  156.920,2,   40.110,2,    0.000,2,    2.840,2, -999.000,9, -999.000,9, -999.000,9, -999.000,9, -999.000,9