BOTTLE,20213313JOAExport
EXPOCODE,SECT_ID,STNNBR,CASTNO,SAMPNO,BTLNBR,BTLNBR_FLAG_W,DATE,TIME,LATITUDE,LONGITUDE,DEPTH,CTDPRS,CTDTMP,CTDSAL,CTDSAL_FLAG_W,SALNTY,SALNTY_FLAG_W,OXYGEN,OXYGEN_FLAG_W,SILCAT,SILCAT_FLAG_W,NITRAT,NITRAT_FLAG_W,NITRIT,NITRIT_FLAG_W,PHSPHT,PHSPHT_FLAG_W,CFC-11,CFC-11_FLAG_W,CFC-12,CFC-12_FLAG_W,SF6,SF6_FLAG_W,TCARBN,TCARBN_FLAG_W,ALKALI,ALKALI_FLAG_W
,,,,,,,,,,,,,DB,ITS-90,PSS-78,,PSS-78,,UMOL/KG,,UMOL/KG,,UMOL/KG,,UMOL/KG,,UMOL/KG,,PMOL/KG,,PMOL/KG,,FMOL/KG,,UMOL/KG,,UMOL/KG
           NA,  RF1101,   3937,   1,-999.0,      99,  2,20110207,1904,  16.0102,  149.3320,  5292,    0.000,   28.116,   34.692,2, -999.000,9,  198.000,2,    1.100,2,    0.060,2,    0.000,2,    0.030,2, -999.000,9, -999.000,9, -999.000,9, -999.000,9, -999.000,9
           NA,  RF1101,   3937,   1,-999.0,   22109,  2,20110207,1904,  16.0102,  149.3320,  5292,   10.200,   28.133,   34.710,2, -999.000,9,  198.100,2,    1.130,2,    0.050,2,    0.000,2,    0.020,2, -999.000,9, -999.000,9, -999.000,9, -999.000,9, -999.000,9
           NA,  RF1101,   3937,   1,-999.0,   22108,  2,20110207,1904,  16.0102,  149.3320,  5292,   10.200,   28.133,   34.710,2,   34.709,6,  198.200,6,    1.100,6,    0.050,6,    0.000,6,    0.020,6, -999.000,9, -999.000,9, -999.000,9, -999.000,9, -999.000,9
           NA,  RF1101,   3937,   1,-999.0,   22107,  2,20110207,1904,  16.0102,  149.3320,  5292,   25.700,   28.138,   34.712,2, -999.000,9,  198.100,2,    1.200,2,    0.050,2,    0.000,2,    0.010,2, -999.000,9, -999.000,9, -999.000,9, -999.000,9, -999.000,9
           NA,  RF1101,   3937,   1,-999.0,   22103,  2,20110207,1904,  16.0102,  149.3320,  5292,   50.400,   28.062,   34.775,2, -999.000,9,  198.500,2,    1.080,2,    0.070,2,    0.000,2,    0.000,2, -999.000,9, -999.000,9, -999.000,9, -999.000,9, -999.000,9
           NA,  RF1101,   3937,   1,-999.0,   22102,  2,20110207,1904,  16.0102,  149.3320,  5292,   75.300,   28.088,   34.931,2, -999.000,9,  200.300,2,    1.150,2,    0.060,2,    0.000,2,    0.000,2, -999.000,9, -999.000,9, -999.000,9, -999.000,9, -999.000,9
           NA,  RF1101,   3937,   1,-999.0,   22101,  2,20110207,1904,  16.0102,  149.3320,  5292,  100.000,   27.690,   35.145,2, -999.000,4,  205.300,2,    1.120,2,    0.040,2,    0.000,2,    0.000,2, -999.000,9, -999.000,9, -999.000,9, -999.000,9, -999.000,9
           NA,  RF1101,   3937,   1,-999.0,   22100,  2,20110207,1904,  16.0102,  149.3320,  5292,  125.500,   25.956,   35.215,2, -999.000,9,  203.300,2,    1.140,2,    0.040,2,    0.000,2,    0.000,2, -999.000,9, -999.000,9, -999.000,9, -999.000,9, -999.000,9
           NA,  RF1101,   3937,   1,-999.0,   22099,  2,20110207,1904,  16.0102,  149.3320,  5292,  150.500,   25.109,   35.224,2, -999.000,9,  195.200,2,    1.330,2,    0.060,2,    0.060,2,    0.000,2, -999.000,9, -999.000,9, -999.000,9, -999.000,9, -999.000,9
           NA,  RF1101,   3937,   1,-999.0,   22098,  2,20110207,1904,  16.0102,  149.3320,  5292,  200.700,   21.362,   35.033,2, -999.000,4,  179.200,2,    2.360,2,    2.340,2,    0.010,2,    0.170,2, -999.000,9, -999.000,9, -999.000,9, -999.000,9, -999.000,9
           NA,  RF1101,   3937,   1,-999.0,   22094,  2,20110207,1904,  16.0102,  149.3320,  5292,  251.700,   17.581,   34.731,2, -999.000,9,  182.800,2,    5.230,2,    6.130,2,    0.000,2,    0.410,2, -999.000,9, -999.000,9, -999.000,9, -999.000,9, -999.000,9
           NA,  RF1101,   3937,   1,-999.0,   22093,  2,20110207,1904,  16.0102,  149.3320,  5292,  302.600,   14.753,   34.490,2, -999.000,9,  170.900,2,    9.840,2,   10.990,2,    0.000,2,    0.770,2, -999.000,9, -999.000,9, -999.000,9, -999.000,9, -999.000,9
           NA,  RF1101,   3937,   1,-999.0,   22092,  2,20110207,1904,  16.0102,  149.3320,  5292,  403.300,    9.533,   34.204,2,   34.205,2,  136.500,2,   31.040,2,   23.380,2,    0.000,2,    1.670,2, -999.000,9, -999.000,9, -999.000,9, -999.000,9, -999.000,9
           NA,  RF1101,   3937,   1,-999.0,   22091,  2,20110207,1904,  16.0102,  149.3320,  5292,  503.400,    7.259,   34.226,2, -999.000,9,   71.500,2,   54.880,2,   33.420,2,    0.000,2,    2.430,2, -999.000,9, -999.000,9, -999.000,9, -999.000,9, -999.000,9
           NA,  RF1101,   3937,   1,-999.0,   22090,  2,20110207,1904,  16.0102,  149.3320,  5292,  503.400,    7.259,   34.226,2, -999.000,9,   71.800,6,   54.610,6,   33.510,6,    0.000,6,    2.440,6, -999.000,9, -999.000,9, -999.000,9, -999.000,9, -999.000,9
           NA,  RF1101,   3937,   1,-999.0,   22089,  2,20110207,1904,  16.0102,  149.3320,  5292,  603.400,    6.329,   34.317,2,   34.317,2,   51.600,2,   68.580,2,   37.430,2,    0.000,2,    2.710,2, -999.000,9, -999.000,9, -999.000,9, -999.000,9, -999.000,9
           NA,  RF1101,   3937,   1,-999.0,   22085,  2,20110207,1904,  16.0102,  149.3320,  5292,  705.300,    5.603,   34.429,2, -999.000,9,   50.900,2,   79.740,2,   39.200,2,    0.000,2,    2.820,2, -999.000,9, -999.000,9, -999.000,9, -999.000,9, -999.000,9
           NA,  RF1101,   3937,   1,-999.0,   22110,  2,20110207,1904,  16.0102,  149.3320,  5292,  805.800,    5.221,   34.475,2,   34.473,2,   60.200,2,   85.230,2,   39.260,2,    0.000,2,    2.800,2, -999.000,9, -999.000,9, -999.000,9, -999.000,9, -999.000,9
           NA,  RF1101,   3937,   1,-999.0,   22083,  2,20110207,1904,  16.0102,  149.3320,  5292,  906.000,    4.847,   34.496,2, -999.000,9,   65.600,2,   91.780,2,   39.320,2,    0.000,2,    2.790,2, -999.000,9, -999.000,9, -999.000,9, -999.000,9, -999.000,9
           NA,  RF1101,   3937,   1,-999.0,   22082,  3,20110207,1904,  16.0102,  149.3320,  5292, 1008.000,    4.447,   34.520,2,   34.520,2,   72.200,2,   98.730,2,   39.400,2,    0.000,2,    2.790,2, -999.000,9, -999.000,9, -999.000,9, -999.000,9, -999.000,9
           NA,  RF1101,   3937,   1,-999.0,   22081,  2,20110207,1904,  16.0102,  149.3320,  5292, 1212.000,    3.653,   34.551,2,   34.550,2,   79.200,2,  114.580,2,   39.570,2,    0.000,2,    2.790,2, -999.000,9, -999.000,9, -999.000,9, -999.000,9, -999.000,9
           NA,  RF1101,   3937,   1,-999.0,   22080,  3,20110207,1904,  16.0102,  149.3320,  5292, 1414.200,    3.091,   34.577,2,   34.577,2,   90.400,2,  125.240,2,   39.350,2,    0.000,2,    2.760,2, -999.000,9, -999.000,9, -999.000,9, -999.000,9, -999.000,9
           NA,  RF1101,   3937,   1,-999.0,   22076,  2,20110207,1904,  16.0102,  149.3320,  5292, 1616.200,    2.678,   34.592,2,   34.592,2,   97.100,2,  133.330,2,   39.100,2,    0.000,2,    2.730,2, -999.000,9, -999.000,9, -999.000,9, -999.000,9, -999.000,9
           NA,  RF1101,   3937,   1,-999.0,   22075,  2,20110207,1904,  16.0102,  149.3320,  5292, 1818.800,    2.329,   34.613,2,   34.613,2,  103.800,2,  139.860,2,   38.910,2,    0.000,2,    2.700,2, -999.000,9, -999.000,9, -999.000,9, -999.000,9, -999.000,9
           NA,  RF1101,   3937,   1,-999.0,   22074,  2,20110207,1904,  16.0102,  149.3320,  5292, 2027.300,    2.118,   34.628,2,   34.628,2,  110.600,2,  142.960,2,   38.640,2,    0.000,2,    2.680,2, -999.000,9, -999.000,9, -999.000,9, -999.000,9, -999.000,9
           NA,  RF1101,   3938,   1,-999.0,      99,  2,20110208,0351,  16.9768,  149.3183,  5425,    0.000,   27.659,   35.013,2, -999.000,9,  200.200,2,    1.020,2,    0.020,2,    0.000,2,    0.000,2, -999.000,9, -999.000,9, -999.000,9, -999.000,9, -999.000,9
           NA,  RF1101,   3938,   1,-999.0,   22109,  2,20110208,0351,  16.9768,  149.3183,  5425,   11.400,   27.662,   35.012,2, -999.000,9,  200.600,2,    1.000,2,    0.070,2,    0.000,2,    0.000,2, -999.000,9, -999.000,9, -999.000,9, -999.000,9, -999.000,9
           NA,  RF1101,   3938,   1,-999.0,   22108,  2,20110208,0351,  16.9768,  149.3183,  5425,   25.900,   27.640,   35.011,2, -999.000,9,  200.900,2,    1.040,2,    0.050,2,    0.000,2,    0.000,2, -999.000,9, -999.000,9, -999.000,9, -999.000,9, -999.000,9
           NA,  RF1101,   3938,   1,-999.0,   22107,  2,20110208,0351,  16.9768,  149.3183,  5425,   50.000,   27.563,   35.012,2, -999.000,9,  200.200,2,    1.030,2,    0.040,2,    0.000,2,    0.000,2, -999.000,9, -999.000,9, -999.000,9, -999.000,9, -999.000,9
           NA,  RF1101,   3938,   1,-999.0,   22103,  3,20110208,0351,  16.9768,  149.3183,  5425,   77.000,   27.549,   35.014,2, -999.000,9,  200.200,2,    0.970,2,    0.090,2,    0.000,2,    0.000,2, -999.000,9, -999.000,9, -999.000,9, -999.000,9, -999.000,9
           NA,  RF1101,   3938,   1,-999.0,   22102,  2,20110208,0351,  16.9768,  149.3183,  5425,  102.400,   27.536,   35.022,2, -999.000,9,  200.200,2,    1.140,2,    0.030,2,    0.000,2,    0.000,2, -999.000,9, -999.000,9, -999.000,9, -999.000,9, -999.000,9
           NA,  RF1101,   3938,   1,-999.0,   22101,  2,20110208,0351,  16.9768,  149.3183,  5425,  128.700,   25.763,   35.255,2, -999.000,9,  199.700,2,    1.160,2,    0.040,2,    0.000,2,    0.000,2, -999.000,9, -999.000,9, -999.000,9, -999.000,9, -999.000,9
           NA,  RF1101,   3938,   1,-999.0,   22100,  2,20110208,0351,  16.9768,  149.3183,  5425,  152.800,   23.909,   35.178,2, -999.000,9,  182.900,2,    1.480,2,    0.760,2,    0.040,2,    0.040,2, -999.000,9, -999.000,9, -999.000,9, -999.000,9, -999.000,9
           NA,  RF1101,   3938,   1,-999.0,   22099,  2,20110208,0351,  16.9768,  149.3183,  5425,  204.200,   19.971,   34.900,2, -999.000,9, -999.000,3,    2.890,2,    2.900,2,    0.010,2,    0.190,2, -999.000,9, -999.000,9, -999.000,9, -999.000,9, -999.000,9
           NA,  RF1101,   3938,   1,-999.0,   22098,  2,20110208,0351,  16.9768,  149.3183,  5425,  255.000,   17.807,   34.737,2, -999.000,9,  190.300,2,    4.330,2,    4.850,2,    0.000,2,    0.290,2, -999.000,9, -999.000,9, -999.000,9, -999.000,9, -999.000,9
           NA,  RF1101,   3938,   1,-999.0,   22094,  2,20110208,0351,  16.9768,  149.3183,  5425,  306.300,   15.497,   34.581,2, -999.000,9,  188.300,2,    7.490,2,    8.270,2,    0.000,2,    0.530,2, -999.000,9, -999.000,9, -999.000,9, -999.000,9, -999.000,9
           NA,  RF1101,   3938,   1,-999.0,   22093,  2,20110208,0351,  16.9768,  149.3183,  5425,  406.300,   11.401,   34.286,2, -999.000,9,  180.500,2,   18.650,2,   15.720,2,    0.000,2,    1.070,2, -999.000,9, -999.000,9, -999.000,9, -999.000,9, -999.000,9
           NA,  RF1101,   3938,   1,-999.0,   22092,  2,20110208,0351,  16.9768,  149.3183,  5425,  406.300,   11.401,   34.286,2, -999.000,9,  180.600,6,   18.720,6,   15.700,6,    0.000,6,    1.080,6, -999.000,9, -999.000,9, -999.000,9, -999.000,9, -999.000,9
           NA,  RF1101,   3938,   1,-999.0,   22091,  2,20110208,0351,  16.9768,  149.3183,  5425,  507.700,    8.092,   34.178,2, -999.000,9,  109.900,2,   42.090,2,   28.080,2,    0.000,2,    2.020,2, -999.000,9, -999.000,9, -999.000,9, -999.000,9, -999.000,9
           NA,  RF1101,   3938,   1,-999.0,   22090,  2,20110208,0351,  16.9768,  149.3183,  5425,  607.700,    6.629,   34.314,2, -999.000,9,   60.100,2,   64.220,2,   35.910,2,    0.000,2,    2.600,2, -999.000,9, -999.000,9, -999.000,9, -999.000,9, -999.000,9
           NA,  RF1101,   3938,   1,-999.0,   22089,  2,20110208,0351,  16.9768,  149.3183,  5425,  708.600,    5.866,   34.395,2, -999.000,9,   55.900,2,   75.500,2,   37.890,2,    0.000,2,    2.710,2, -999.000,9, -999.000,9, -999.000,9, -999.000,9, -999.000,9
           NA,  RF1101,   3938,   1,-999.0,   22085,  2,20110208,0351,  16.9768,  149.3183,  5425,  806.800,    5.235,   34.461,2, -999.000,9,   61.500,2,   85.380,2,   38.700,2,    0.000,2,    2.760,2, -999.000,9, -999.000,9, -999.000,9, -999.000,9, -999.000,9
           NA,  RF1101,   3938,   1,-999.0,   22110,  2,20110208,0351,  16.9768,  149.3183,  5425,  909.200,    4.843,   34.491,2, -999.000,9,   65.200,2,   91.890,2,   39.140,2,    0.000,2,    2.770,2, -999.000,9, -999.000,9, -999.000,9, -999.000,9, -999.000,9
           NA,  RF1101,   3938,   1,-999.0,   22083,  2,20110208,0351,  16.9768,  149.3183,  5425, 1013.400,    4.389,   34.520,2, -999.000,9,   68.300,2,  100.400,2,   39.600,2,    0.000,2,    2.790,2, -999.000,9, -999.000,9, -999.000,9, -999.000,9, -999.000,9
           NA,  RF1101,   3938,   1,-999.0,   22082,  2,20110208,0351,  16.9768,  149.3183,  5425, 1214.400,    3.681,   34.547,2, -999.000,9,   78.300,2,  114.370,2,   39.530,2,    0.000,2,    2.780,2, -999.000,9, -999.000,9, -999.000,9, -999.000,9, -999.000,9
           NA,  RF1101,   3938,   1,-999.0,   22081,  2,20110208,0351,  16.9768,  149.3183,  5425, 1414.800,    3.144,   34.570,2, -999.000,9,   85.900,2,  124.850,2,   39.440,2,    0.000,2,    2.760,2, -999.000,9, -999.000,9, -999.000,9, -999.000,9, -999.000,9
           NA,  RF1101,   3938,   1,-999.0,   22080,  2,20110208,0351,  16.9768,  149.3183,  5425, 1618.600,    2.726,   34.588,2, -999.000,9,   92.600,2,  131.120,2,   38.790,2,    0.000,2,    2.700,2, -999.000,9, -999.000,9, -999.000,9, -999.000,9, -999.000,9
           NA,  RF1101,   3938,   1,-999.0,   22076,  2,20110208,0351,  16.9768,  149.3183,  5425, 1820.900,    2.470,   34.600,2, -999.000,9,   98.000,2,  138.410,2,   39.000,2,    0.000,2,    2.720,2, -999.000,9, -999.000,9, -999.000,9, -999.000,9, -999.000,9
           NA,  RF1101,   3938,   1,-999.0,   22074,  2,20110208,0351,  16.9768,  149.3183,  5425, 2023.000,    2.196,   34.618,2, -999.000,9,  105.000,6,  142.770,6,   38.640,6,    0.000,6,    2.690,6, -999.000,9, -999.000,9, -999.000,9, -999.000,9, -999.000,9
           NA,  RF1101,   3938,   1,-999.0,   22075,  2,20110208,0351,  16.9768,  149.3183,  5425, 2023.000,    2.196,   34.618,2, -999.000,9,  105.100,2,  143.170,2,   38.680,2,    0.000,2,    2.680,2, -999.000,9, -999.000,9, -999.000,9, -999.000,9, -999.000,9