BOTTLE,20213313JOAExport
EXPOCODE,SECT_ID,STNNBR,CASTNO,SAMPNO,BTLNBR,BTLNBR_FLAG_W,DATE,TIME,LATITUDE,LONGITUDE,DEPTH,CTDPRS,CTDTMP,CTDSAL,CTDSAL_FLAG_W,SALNTY,SALNTY_FLAG_W,OXYGEN,OXYGEN_FLAG_W,SILCAT,SILCAT_FLAG_W,NITRAT,NITRAT_FLAG_W,NITRIT,NITRIT_FLAG_W,PHSPHT,PHSPHT_FLAG_W,CFC-11,CFC-11_FLAG_W,CFC-12,CFC-12_FLAG_W,SF6,SF6_FLAG_W,TCARBN,TCARBN_FLAG_W,ALKALI,ALKALI_FLAG_W
,,,,,,,,,,,,,DB,ITS-90,PSS-78,,PSS-78,,UMOL/KG,,UMOL/KG,,UMOL/KG,,UMOL/KG,,UMOL/KG,,PMOL/KG,,PMOL/KG,,FMOL/KG,,UMOL/KG,,UMOL/KG
           NA,  RF1101,   3947,   1,-999.0,      99,  2,20110218,2102,  24.0048,  149.3172,  5807,    0.000,   24.692,   35.160,2, -999.000,9,  207.000,2,    0.870,2,    0.050,2,    0.000,2,    0.030,2, -999.000,9, -999.000,9, -999.000,9, -999.000,9, -999.000,9
           NA,  RF1101,   3947,   1,-999.0,   22109,  2,20110218,2102,  24.0048,  149.3172,  5807,   10.800,   24.694,   35.160,2,   35.159,2,  207.100,2,    1.090,2,    0.010,2,    0.000,2,    0.020,2, -999.000,9, -999.000,9, -999.000,9, -999.000,9, -999.000,9
           NA,  RF1101,   3947,   1,-999.0,   22108,  2,20110218,2102,  24.0048,  149.3172,  5807,   26.300,   24.704,   35.159,2, -999.000,9,  207.100,2,    1.100,2,    0.050,2,    0.000,2,    0.020,2, -999.000,9, -999.000,9, -999.000,9, -999.000,9, -999.000,9
           NA,  RF1101,   3947,   1,-999.0,   22107,  2,20110218,2102,  24.0048,  149.3172,  5807,   52.200,   24.703,   35.157,2, -999.000,9,  207.100,2,    1.070,2,    0.030,2,    0.000,2,    0.010,2, -999.000,9, -999.000,9, -999.000,9, -999.000,9, -999.000,9
           NA,  RF1101,   3947,   1,-999.0,   22105,  2,20110218,2102,  24.0048,  149.3172,  5807,   77.300,   23.968,   34.999,2, -999.000,9,  209.900,6,    1.320,6,    0.060,6,    0.000,6,    0.030,6, -999.000,9, -999.000,9, -999.000,9, -999.000,9, -999.000,9
           NA,  RF1101,   3947,   1,-999.0,   22106,  2,20110218,2102,  24.0048,  149.3172,  5807,   77.300,   23.968,   34.999,2, -999.000,9,  210.000,2,    1.150,2,    0.070,2,    0.000,2,    0.020,2, -999.000,9, -999.000,9, -999.000,9, -999.000,9, -999.000,9
           NA,  RF1101,   3947,   1,-999.0,   22104,  2,20110218,2102,  24.0048,  149.3172,  5807,  101.000,   23.508,   34.979,2,   34.981,2,  210.300,2,    1.430,2,    0.030,2,    0.000,2,    0.020,2, -999.000,9, -999.000,9, -999.000,9, -999.000,9, -999.000,9
           NA,  RF1101,   3947,   1,-999.0,   22100,  2,20110218,2102,  24.0048,  149.3172,  5807,  125.900,   22.361,   34.907,2, -999.000,9,  205.700,2,    1.810,2,    0.130,2,    0.050,2,    0.030,2, -999.000,9, -999.000,9, -999.000,9, -999.000,9, -999.000,9
           NA,  RF1101,   3947,   1,-999.0,   22099,  2,20110218,2102,  24.0048,  149.3172,  5807,  151.900,   20.969,   34.862,2, -999.000,9,  198.000,2,    2.290,2,    0.920,2,    0.040,2,    0.090,2, -999.000,9, -999.000,9, -999.000,9, -999.000,9, -999.000,9
           NA,  RF1101,   3947,   1,-999.0,   22098,  2,20110218,2102,  24.0048,  149.3172,  5807,  203.700,   18.793,   34.756,2,   34.756,6,  200.000,2,    2.880,2,    2.300,2,    0.010,2,    0.180,2, -999.000,9, -999.000,9, -999.000,9, -999.000,9, -999.000,9
           NA,  RF1101,   3947,   1,-999.0,   22097,  2,20110218,2102,  24.0048,  149.3172,  5807,  252.600,   17.525,   34.685,2, -999.000,9,  206.600,2,    4.050,2,    4.190,2,    0.010,2,    0.290,2, -999.000,9, -999.000,9, -999.000,9, -999.000,9, -999.000,9
           NA,  RF1101,   3947,   1,-999.0,   22096,  2,20110218,2102,  24.0048,  149.3172,  5807,  305.600,   16.360,   34.656,2, -999.000,9,  193.800,2,    6.280,2,    7.060,2,    0.000,2,    0.490,2, -999.000,9, -999.000,9, -999.000,9, -999.000,9, -999.000,9
           NA,  RF1101,   3947,   1,-999.0,   22095,  2,20110218,2102,  24.0048,  149.3172,  5807,  403.600,   13.318,   34.442,2,   34.443,6,  191.800,2,   13.020,2,   11.860,2,    0.000,2,    0.840,2, -999.000,9, -999.000,9, -999.000,9, -999.000,9, -999.000,9
           NA,  RF1101,   3947,   1,-999.0,   22091,  2,20110218,2102,  24.0048,  149.3172,  5807,  506.500,   11.207,   34.293,2, -999.000,9,  185.300,2,   20.510,2,   16.010,2,    0.000,2,    1.140,2, -999.000,9, -999.000,9, -999.000,9, -999.000,9, -999.000,9
           NA,  RF1101,   3947,   1,-999.0,   22090,  2,20110218,2102,  24.0048,  149.3172,  5807,  606.400,    7.907,   34.087,2,   34.090,2,  159.900,2,   40.770,2,   24.390,2,    0.000,2,    1.770,2, -999.000,9, -999.000,9, -999.000,9, -999.000,9, -999.000,9
           NA,  RF1101,   3947,   1,-999.0,   22089,  2,20110218,2102,  24.0048,  149.3172,  5807,  708.100,    6.268,   34.114,2, -999.000,9,   95.300,2,   63.630,2,   33.270,2,    0.000,2,    2.430,2, -999.000,9, -999.000,9, -999.000,9, -999.000,9, -999.000,9
           NA,  RF1101,   3947,   1,-999.0,   22088,  2,20110218,2102,  24.0048,  149.3172,  5807,  809.200,    5.063,   34.197,2, -999.000,9,   61.800,2,   86.120,2,   38.330,2,    0.000,2,    2.800,2, -999.000,9, -999.000,9, -999.000,9, -999.000,9, -999.000,9
           NA,  RF1101,   3947,   1,-999.0,   22087,  2,20110218,2102,  24.0048,  149.3172,  5807,  809.200,    5.063,   34.197,2,   34.197,2,   61.900,6,   86.630,6,   38.320,6,    0.000,6,    2.800,6, -999.000,9, -999.000,9, -999.000,9, -999.000,9, -999.000,9
           NA,  RF1101,   3947,   1,-999.0,   22086,  2,20110218,2102,  24.0048,  149.3172,  5807,  911.300,    4.315,   34.267,2, -999.000,9,   51.100,2,  103.870,2,   40.340,2,    0.000,2,    2.940,2, -999.000,9, -999.000,9, -999.000,9, -999.000,9, -999.000,9
           NA,  RF1101,   3947,   1,-999.0,   22082,  2,20110218,2102,  24.0048,  149.3172,  5807, 1010.600,    3.767,   34.347,2,   34.347,2,   42.800,2,  117.970,2,   41.490,2,    0.000,2,    3.020,2, -999.000,9, -999.000,9, -999.000,9, -999.000,9, -999.000,9
           NA,  RF1101,   3947,   1,-999.0,   22081,  2,20110218,2102,  24.0048,  149.3172,  5807, 1214.100,    3.227,   34.457,2,   34.457,2,   54.000,2,  130.000,2,   41.450,2,    0.000,2,    2.990,2, -999.000,9, -999.000,9, -999.000,9, -999.000,9, -999.000,9
           NA,  RF1101,   3947,   1,-999.0,   22080,  2,20110218,2102,  24.0048,  149.3172,  5807, 1415.600,    2.671,   34.516,2,   34.516,2,   64.000,2,  142.270,2,   41.100,2,    0.000,2,    2.950,2, -999.000,9, -999.000,9, -999.000,9, -999.000,9, -999.000,9
           NA,  RF1101,   3947,   1,-999.0,   22079,  2,20110218,2102,  24.0048,  149.3172,  5807, 1617.600,    2.365,   34.555,2,   34.556,2,   78.000,2,  146.720,2,   40.350,2,    0.000,2,    2.900,2, -999.000,9, -999.000,9, -999.000,9, -999.000,9, -999.000,9
           NA,  RF1101,   3947,   1,-999.0,   22078,  2,20110218,2102,  24.0048,  149.3172,  5807, 1820.500,    2.098,   34.593,2,   34.593,2,   94.700,2,  147.910,2,   39.520,2,    0.000,2,    2.810,2, -999.000,9, -999.000,9, -999.000,9, -999.000,9, -999.000,9
           NA,  RF1101,   3947,   1,-999.0,   22077,  2,20110218,2102,  24.0048,  149.3172,  5807, 2022.600,    1.953,   34.613,2,   34.614,2,  104.200,2,  149.400,2,   39.070,2,    0.000,2,    2.770,2, -999.000,9, -999.000,9, -999.000,9, -999.000,9, -999.000,9
           NA,  RF1101,   3948,   1,-999.0,      99,  2,20110219,0320,  25.0080,  149.3182,  5819,    0.000,   23.008,   35.053,2, -999.000,9,  214.600,2,    1.290,2,    0.060,2,    0.000,2,    0.030,2, -999.000,9, -999.000,9, -999.000,9, -999.000,9, -999.000,9
           NA,  RF1101,   3948,   1,-999.0,   22109,  2,20110219,0320,  25.0080,  149.3182,  5819,   11.900,   22.743,   35.049,2, -999.000,9,  214.400,2,    1.300,2,    0.050,2,    0.000,2,    0.020,2, -999.000,9, -999.000,9, -999.000,9, 1971.900,2, 2295.100,2
           NA,  RF1101,   3948,   1,-999.0,   22108,  2,20110219,0320,  25.0080,  149.3182,  5819,   26.400,   22.717,   35.048,2, -999.000,9,  215.100,2,    1.550,2,    0.100,2,    0.000,2,    0.020,2, -999.000,9, -999.000,9, -999.000,9, 1977.600,2, 2293.900,2
           NA,  RF1101,   3948,   1,-999.0,   22106,  2,20110219,0320,  25.0080,  149.3182,  5819,   51.700,   22.703,   35.047,2, -999.000,9,  214.900,6,    1.270,6,    0.090,6,    0.000,6,    0.020,6, -999.000,9, -999.000,9, -999.000,9, -999.000,3, 2292.700,2
           NA,  RF1101,   3948,   1,-999.0,   22107,  2,20110219,0320,  25.0080,  149.3182,  5819,   51.700,   22.703,   35.047,2, -999.000,9,  215.000,2,    1.270,2,    0.100,2,    0.000,2,    0.020,2, -999.000,9, -999.000,9, -999.000,9, -999.000,3, 2295.800,2
           NA,  RF1101,   3948,   1,-999.0,   22105,  2,20110219,0320,  25.0080,  149.3182,  5819,   77.600,   22.696,   35.046,2, -999.000,9,  215.300,2,    1.430,2,    0.060,2,    0.000,2,    0.010,2, -999.000,9, -999.000,9, -999.000,9, 1976.000,2, 2293.900,2
           NA,  RF1101,   3948,   1,-999.0,   22104,  2,20110219,0320,  25.0080,  149.3182,  5819,  102.100,   22.650,   35.035,2, -999.000,9,  215.200,2,    1.540,2,    0.080,2,    0.000,2,    0.010,2, -999.000,9, -999.000,9, -999.000,9, 1977.000,2, 2292.300,2
           NA,  RF1101,   3948,   1,-999.0,   22100,  2,20110219,0320,  25.0080,  149.3182,  5819,  125.600,   21.679,   34.909,2, -999.000,9,  213.400,2,    1.660,2,    0.130,2,    0.050,2,    0.030,2, -999.000,9, -999.000,9, -999.000,9, 1983.200,2, 2287.300,2
           NA,  RF1101,   3948,   1,-999.0,   22099,  2,20110219,0320,  25.0080,  149.3182,  5819,  152.700,   20.676,   34.856,2, -999.000,9,  218.900,2,    1.810,2,    0.110,2,    0.110,2,    0.030,2, -999.000,9, -999.000,9, -999.000,9, 1980.900,2, 2285.900,2
           NA,  RF1101,   3948,   1,-999.0,   22098,  2,20110219,0320,  25.0080,  149.3182,  5819,  205.200,   18.817,   34.739,2, -999.000,9,  203.700,2,    2.870,2,    2.200,2,    0.010,2,    0.160,2, -999.000,9, -999.000,9, -999.000,9, 2018.400,2, 2276.200,2
           NA,  RF1101,   3948,   1,-999.0,   22097,  2,20110219,0320,  25.0080,  149.3182,  5819,  253.700,   17.545,   34.703,2, -999.000,9,  201.800,2,    4.370,2,    4.650,2,    0.010,2,    0.320,2, -999.000,9, -999.000,9, -999.000,9, 2042.100,2, 2273.000,2
           NA,  RF1101,   3948,   1,-999.0,   22096,  2,20110219,0320,  25.0080,  149.3182,  5819,  304.000,   16.814,   34.677,2, -999.000,9,  196.700,2,    5.860,2,    6.260,2,    0.000,2,    0.430,2, -999.000,9, -999.000,9, -999.000,9, 2045.900,2, 2274.300,2
           NA,  RF1101,   3948,   1,-999.0,   22095,  2,20110219,0320,  25.0080,  149.3182,  5819,  404.700,   14.309,   34.511,2, -999.000,9,  195.000,2,   10.810,2,   10.080,2,    0.010,2,    0.720,2, -999.000,9, -999.000,9, -999.000,9, 2068.500,6, -999.000,3
           NA,  RF1101,   3948,   1,-999.0,   22091,  2,20110219,0320,  25.0080,  149.3182,  5819,  506.400,   11.219,   34.289,2, -999.000,9,  193.400,2,   19.880,2,   15.540,2,    0.000,2,    1.110,2, -999.000,9, -999.000,9, -999.000,9, 2106.300,2, 2265.500,2
           NA,  RF1101,   3948,   1,-999.0,   22090,  2,20110219,0320,  25.0080,  149.3182,  5819,  607.900,    7.885,   34.090,2, -999.000,9,  153.100,2,   41.850,2,   25.240,2,    0.000,2,    1.830,2, -999.000,9, -999.000,9, -999.000,9, 2180.800,2, 2271.600,2
           NA,  RF1101,   3948,   1,-999.0,   22089,  2,20110219,0320,  25.0080,  149.3182,  5819,  708.700,    6.062,   34.069,2, -999.000,9,  111.600,2,   64.650,2,   32.110,2,    0.000,2,    2.360,2, -999.000,9, -999.000,9, -999.000,9, -999.000,3, -999.000,3
           NA,  RF1101,   3948,   1,-999.0,   22088,  2,20110219,0320,  25.0080,  149.3182,  5819,  708.700,    6.062,   34.069,2, -999.000,9,  112.200,6,   64.660,6,   32.210,6,    0.000,6,    2.370,6, -999.000,9, -999.000,9, -999.000,9, -999.000,3, -999.000,3
           NA,  RF1101,   3948,   1,-999.0,   22087,  2,20110219,0320,  25.0080,  149.3182,  5819,  809.900,    4.849,   34.149,2, -999.000,9,   70.000,2,   88.520,2,   37.830,2,    0.000,2,    2.770,2, -999.000,9, -999.000,9, -999.000,9, 2302.500,2, 2310.400,2
           NA,  RF1101,   3948,   1,-999.0,   22086,  2,20110219,0320,  25.0080,  149.3182,  5819,  910.000,    4.310,   34.266,2, -999.000,9,   50.200,2,  103.770,2,   40.290,2,    0.000,2,    2.930,2, -999.000,9, -999.000,9, -999.000,9, 2323.500,2, 2333.400,2
           NA,  RF1101,   3948,   1,-999.0,   22082,  2,20110219,0320,  25.0080,  149.3182,  5819, 1013.700,    3.865,   34.346,2, -999.000,9,   45.000,2,  115.210,2,   41.440,2,    0.000,2,    3.000,2, -999.000,9, -999.000,9, -999.000,9, -999.000,3, 2349.100,6
           NA,  RF1101,   3948,   1,-999.0,   22081,  2,20110219,0320,  25.0080,  149.3182,  5819, 1214.800,    3.213,   34.447,2, -999.000,9,   49.700,2,  132.140,2,   41.810,2,    0.000,2,    3.020,2, -999.000,9, -999.000,9, -999.000,9, 2364.400,2, 2371.700,2
           NA,  RF1101,   3948,   1,-999.0,   22080,  2,20110219,0320,  25.0080,  149.3182,  5819, 1416.200,    2.720,   34.514,2, -999.000,9,   62.400,2,  142.060,2,   41.290,2,    0.000,2,    2.970,2, -999.000,9, -999.000,9, -999.000,9, 2357.000,2, 2384.800,2
           NA,  RF1101,   3948,   1,-999.0,   22079,  2,20110219,0320,  25.0080,  149.3182,  5819, 1619.300,    2.350,   34.556,2, -999.000,9,   74.500,2,  149.110,2,   40.770,2,    0.000,2,    2.920,2, -999.000,9, -999.000,9, -999.000,9, 2358.400,2, 2396.100,2
           NA,  RF1101,   3948,   1,-999.0,   22078,  2,20110219,0320,  25.0080,  149.3182,  5819, 1820.300,    2.092,   34.590,2, -999.000,9,   90.000,2,  150.790,2,   39.750,2,    0.000,2,    2.850,2, -999.000,9, -999.000,9, -999.000,9, 2353.200,2, 2400.300,2
           NA,  RF1101,   3948,   1,-999.0,   22077,  2,20110219,0320,  25.0080,  149.3182,  5819, 2024.200,    1.935,   34.612,2, -999.000,9,  102.200,2,  151.130,2,   39.040,2,    0.000,2,    2.780,2, -999.000,9, -999.000,9, -999.000,9, 2352.200,2, 2401.600,2