BOTTLE,20213313JOAExport
EXPOCODE,SECT_ID,STNNBR,CASTNO,SAMPNO,BTLNBR,BTLNBR_FLAG_W,DATE,TIME,LATITUDE,LONGITUDE,DEPTH,CTDPRS,CTDTMP,CTDSAL,CTDSAL_FLAG_W,SALNTY,SALNTY_FLAG_W,OXYGEN,OXYGEN_FLAG_W,SILCAT,SILCAT_FLAG_W,NITRAT,NITRAT_FLAG_W,NITRIT,NITRIT_FLAG_W,PHSPHT,PHSPHT_FLAG_W,CFC-11,CFC-11_FLAG_W,CFC-12,CFC-12_FLAG_W,SF6,SF6_FLAG_W,TCARBN,TCARBN_FLAG_W,ALKALI,ALKALI_FLAG_W
,,,,,,,,,,,,,DB,ITS-90,PSS-78,,PSS-78,,UMOL/KG,,UMOL/KG,,UMOL/KG,,UMOL/KG,,UMOL/KG,,PMOL/KG,,PMOL/KG,,FMOL/KG,,UMOL/KG,,UMOL/KG
           NA,  RF1101,   3961,   1,-999.0,      99,  2,20110224,0207,  34.2408,  140.9970,  4797,    0.000,   18.054,   34.743,2, -999.000,9,  229.900,2,    3.000,2,    1.830,2,    0.190,2,    0.150,2, -999.000,9, -999.000,9, -999.000,9, -999.000,9, -999.000,9
           NA,  RF1101,   3961,   1,-999.0,   22109,  2,20110224,0207,  34.2408,  140.9970,  4797,   12.300,   18.049,   34.743,2, -999.000,9,  230.700,2,    3.020,2,    1.830,2,    0.190,2,    0.140,2, -999.000,9, -999.000,9, -999.000,9, -999.000,9, -999.000,9
           NA,  RF1101,   3961,   1,-999.0,   22108,  2,20110224,0207,  34.2408,  140.9970,  4797,   28.000,   17.999,   34.744,2, -999.000,9,  229.400,2,    3.030,2,    1.790,2,    0.210,2,    0.140,2, -999.000,9, -999.000,9, -999.000,9, -999.000,9, -999.000,9
           NA,  RF1101,   3961,   1,-999.0,   22107,  2,20110224,0207,  34.2408,  140.9970,  4797,   51.400,   17.981,   34.744,2, -999.000,9,  228.600,2,    2.970,2,    1.770,2,    0.250,2,    0.140,2, -999.000,9, -999.000,9, -999.000,9, -999.000,9, -999.000,9
           NA,  RF1101,   3961,   1,-999.0,   22105,  2,20110224,0207,  34.2408,  140.9970,  4797,   75.900,   17.934,   34.735,2, -999.000,9,  227.200,6,    3.070,6,    1.960,6,    0.210,6,    0.160,6, -999.000,9, -999.000,9, -999.000,9, -999.000,9, -999.000,9
           NA,  RF1101,   3961,   1,-999.0,   22106,  2,20110224,0207,  34.2408,  140.9970,  4797,   75.900,   17.934,   34.735,2, -999.000,9,  227.700,2,    2.890,2,    1.930,2,    0.220,2,    0.140,2, -999.000,9, -999.000,9, -999.000,9, -999.000,9, -999.000,9
           NA,  RF1101,   3961,   1,-999.0,   22104,  2,20110224,0207,  34.2408,  140.9970,  4797,   98.700,   17.897,   34.732,2, -999.000,9,  223.800,2,    3.430,2,    2.370,2,    0.160,2,    0.180,2, -999.000,9, -999.000,9, -999.000,9, -999.000,9, -999.000,9
           NA,  RF1101,   3961,   1,-999.0,   22100,  2,20110224,0207,  34.2408,  140.9970,  4797,  124.900,   17.855,   34.729,2, -999.000,9,  224.600,2,    3.140,2,    2.300,2,    0.150,2,    0.160,2, -999.000,9, -999.000,9, -999.000,9, -999.000,9, -999.000,9
           NA,  RF1101,   3961,   1,-999.0,   22099,  2,20110224,0207,  34.2408,  140.9970,  4797,  151.200,   17.837,   34.727,2, -999.000,9,  223.300,2,    3.220,2,    2.370,2,    0.140,2,    0.170,2, -999.000,9, -999.000,9, -999.000,9, -999.000,9, -999.000,9
           NA,  RF1101,   3961,   1,-999.0,   22098,  2,20110224,0207,  34.2408,  140.9970,  4797,  201.800,   17.286,   34.690,2, -999.000,9,  200.600,2,    5.210,2,    5.470,2,    0.010,2,    0.360,2, -999.000,9, -999.000,9, -999.000,9, -999.000,9, -999.000,9
           NA,  RF1101,   3961,   1,-999.0,   22097,  2,20110224,0207,  34.2408,  140.9970,  4797,  251.900,   16.546,   34.655,2, -999.000,9,  192.300,2,    8.180,2,    7.380,2,    0.010,2,    0.510,2, -999.000,9, -999.000,9, -999.000,9, -999.000,9, -999.000,9
           NA,  RF1101,   3961,   1,-999.0,   22096,  2,20110224,0207,  34.2408,  140.9970,  4797,  301.700,   15.540,   34.600,2, -999.000,9,  185.900,2,   11.070,2,    9.490,2,    0.010,2,    0.660,2, -999.000,9, -999.000,9, -999.000,9, -999.000,9, -999.000,9
           NA,  RF1101,   3961,   1,-999.0,   22095,  2,20110224,0207,  34.2408,  140.9970,  4797,  404.300,   12.958,   34.450,2, -999.000,9,  174.200,2,   19.210,2,   14.190,2,    0.000,2,    1.010,2, -999.000,9, -999.000,9, -999.000,9, -999.000,9, -999.000,9
           NA,  RF1101,   3961,   1,-999.0,   22091,  2,20110224,0207,  34.2408,  140.9970,  4797,  503.600,   10.043,   34.300,2, -999.000,9,  150.900,2,   37.660,2,   21.300,2,    0.000,2,    1.550,2, -999.000,9, -999.000,9, -999.000,9, -999.000,9, -999.000,9
           NA,  RF1101,   3961,   1,-999.0,   22090,  2,20110224,0207,  34.2408,  140.9970,  4797,  606.200,    7.184,   34.104,2, -999.000,9,  143.700,2,   54.360,2,   26.990,2,    0.000,2,    1.970,2, -999.000,9, -999.000,9, -999.000,9, -999.000,9, -999.000,9
           NA,  RF1101,   3961,   1,-999.0,   22089,  2,20110224,0207,  34.2408,  140.9970,  4797,  707.000,    5.685,   34.069,2, -999.000,9,  119.400,2,   71.490,2,   31.970,2,    0.000,2,    2.350,2, -999.000,9, -999.000,9, -999.000,9, -999.000,9, -999.000,9
           NA,  RF1101,   3961,   1,-999.0,   22087,  2,20110224,0207,  34.2408,  140.9970,  4797,  808.500,    4.726,   34.193,2, -999.000,9,   78.300,6,   95.160,6,   36.870,6,    0.000,6,    2.680,6, -999.000,9, -999.000,9, -999.000,9, -999.000,9, -999.000,9
           NA,  RF1101,   3961,   1,-999.0,   22088,  2,20110224,0207,  34.2408,  140.9970,  4797,  808.500,    4.726,   34.193,2, -999.000,9,   78.500,2,   95.140,2,   36.710,2,    0.000,2,    2.680,2, -999.000,9, -999.000,9, -999.000,9, -999.000,9, -999.000,9
           NA,  RF1101,   3961,   1,-999.0,   22086,  2,20110224,0207,  34.2408,  140.9970,  4797,  909.800,    4.166,   34.294,2, -999.000,9,   61.400,2,  109.910,2,   39.080,2,    0.000,2,    2.820,2, -999.000,9, -999.000,9, -999.000,9, -999.000,9, -999.000,9
           NA,  RF1101,   3961,   1,-999.0,   22082,  2,20110224,0207,  34.2408,  140.9970,  4797, 1012.100,    3.674,   34.361,2, -999.000,9,   55.400,2,  121.720,2,   40.260,2,    0.000,2,    2.900,2, -999.000,9, -999.000,9, -999.000,9, -999.000,9, -999.000,9
           NA,  RF1101,   3961,   1,-999.0,   22081,  2,20110224,0207,  34.2408,  140.9970,  4797, 1211.400,    3.055,   34.430,2, -999.000,9,   50.400,2,  136.630,2,   41.280,2,    0.000,2,    2.970,2, -999.000,9, -999.000,9, -999.000,9, -999.000,9, -999.000,9
           NA,  RF1101,   3961,   1,-999.0,   22080,  2,20110224,0207,  34.2408,  140.9970,  4797, 1414.100,    2.630,   34.482,2, -999.000,9,   48.100,2,  148.500,2,   41.790,2,    0.000,2,    3.020,2, -999.000,9, -999.000,9, -999.000,9, -999.000,9, -999.000,9
           NA,  RF1101,   3961,   1,-999.0,   22079,  2,20110224,0207,  34.2408,  140.9970,  4797, 1614.600,    2.384,   34.522,2, -999.000,9,   52.100,2,  154.460,2,   41.750,2,    0.000,2,    3.000,2, -999.000,9, -999.000,9, -999.000,9, -999.000,9, -999.000,9
           NA,  RF1101,   3961,   1,-999.0,   22078,  2,20110224,0207,  34.2408,  140.9970,  4797, 1817.900,    2.147,   34.563,2, -999.000,9,   66.800,2,  157.900,2,   40.980,2,    0.000,2,    2.950,2, -999.000,9, -999.000,9, -999.000,9, -999.000,9, -999.000,9
           NA,  RF1101,   3961,   1,-999.0,   22077,  2,20110224,0207,  34.2408,  140.9970,  4797, 2022.200,    1.975,   34.593,2, -999.000,9,   80.900,2,  158.310,2,   40.460,2,    0.000,2,    2.870,2, -999.000,9, -999.000,9, -999.000,9, -999.000,9, -999.000,9
           NA,  RF1101,   3958,   1,-999.0,      99,  2,20110223,1539,  34.9327,  140.2217,  1987,    0.000,   16.144,   34.661,2, -999.000,9,  227.300,2,    8.570,2,    5.420,2,    0.250,2,    0.450,2, -999.000,9, -999.000,9, -999.000,9, -999.000,9, -999.000,9
           NA,  RF1101,   3958,   1,-999.0,   22109,  2,20110223,1539,  34.9327,  140.2217,  1987,   12.500,   16.128,   34.661,2,   34.660,2,  226.800,2,    8.680,2,    5.570,2,    0.260,2,    0.440,2, -999.000,9, -999.000,9, -999.000,9, -999.000,9, -999.000,9
           NA,  RF1101,   3958,   1,-999.0,   22108,  2,20110223,1539,  34.9327,  140.2217,  1987,   27.300,   15.852,   34.648,2, -999.000,9,  225.000,2,    9.420,2,    6.080,2,    0.250,2,    0.460,2, -999.000,9, -999.000,9, -999.000,9, -999.000,9, -999.000,9
           NA,  RF1101,   3958,   1,-999.0,   22107,  2,20110223,1539,  34.9327,  140.2217,  1987,   51.900,   15.726,   34.646,2, -999.000,9,  225.600,2,    9.320,2,    6.090,2,    0.270,2,    0.470,2, -999.000,9, -999.000,9, -999.000,9, -999.000,9, -999.000,9
           NA,  RF1101,   3958,   1,-999.0,   22106,  2,20110223,1539,  34.9327,  140.2217,  1987,   51.900,   15.726,   34.646,2, -999.000,9,  226.100,6,    9.390,6,    6.070,6,    0.270,6,    0.470,6, -999.000,9, -999.000,9, -999.000,9, -999.000,9, -999.000,9
           NA,  RF1101,   3958,   1,-999.0,   22105,  2,20110223,1539,  34.9327,  140.2217,  1987,   77.400,   15.400,   34.617,2, -999.000,9,  218.500,2,   10.830,2,    7.100,2,    0.320,2,    0.550,2, -999.000,9, -999.000,9, -999.000,9, -999.000,9, -999.000,9
           NA,  RF1101,   3958,   1,-999.0,   22104,  2,20110223,1539,  34.9327,  140.2217,  1987,  101.000,   14.683,   34.578,2,   34.577,2,  217.200,2,   12.790,2,    8.130,2,    0.470,2,    0.630,2, -999.000,9, -999.000,9, -999.000,9, -999.000,9, -999.000,9
           NA,  RF1101,   3958,   1,-999.0,   22100,  2,20110223,1539,  34.9327,  140.2217,  1987,  124.700,   14.172,   34.550,2, -999.000,9,  198.800,2,   17.410,2,   10.770,2,    0.280,2,    0.810,2, -999.000,9, -999.000,9, -999.000,9, -999.000,9, -999.000,9
           NA,  RF1101,   3958,   1,-999.0,   22099,  2,20110223,1539,  34.9327,  140.2217,  1987,  155.300,   13.587,   34.520,2, -999.000,9,  187.200,2,   20.750,2,   12.840,2,    0.200,2,    0.950,2, -999.000,9, -999.000,9, -999.000,9, -999.000,9, -999.000,9
           NA,  RF1101,   3958,   1,-999.0,   22098,  2,20110223,1539,  34.9327,  140.2217,  1987,  205.000,   11.774,   34.427,2,   34.427,2,  161.200,2,   31.330,2,   17.770,2,    0.060,2,    1.310,2, -999.000,9, -999.000,9, -999.000,9, -999.000,9, -999.000,9
           NA,  RF1101,   3958,   1,-999.0,   22097,  2,20110223,1539,  34.9327,  140.2217,  1987,  254.000,   10.123,   34.352,2, -999.000,9,  142.200,2,   42.300,2,   22.270,2,    0.020,2,    1.620,2, -999.000,9, -999.000,9, -999.000,9, -999.000,9, -999.000,9
           NA,  RF1101,   3958,   1,-999.0,   22096,  2,20110223,1539,  34.9327,  140.2217,  1987,  306.000,    9.236,   34.311,2, -999.000,9,  133.900,2,   48.460,2,   24.600,2,    0.010,2,    1.790,2, -999.000,9, -999.000,9, -999.000,9, -999.000,9, -999.000,9
           NA,  RF1101,   3958,   1,-999.0,   22095,  2,20110223,1539,  34.9327,  140.2217,  1987,  405.600,    7.375,   34.250,2,   34.249,2,  114.100,2,   63.630,2,   29.240,2,    0.010,2,    2.150,2, -999.000,9, -999.000,9, -999.000,9, -999.000,9, -999.000,9
           NA,  RF1101,   3958,   1,-999.0,   22091,  2,20110223,1539,  34.9327,  140.2217,  1987,  507.000,    5.641,   34.231,2, -999.000,9,   91.300,2,   83.930,2,   34.570,2,    0.000,2,    2.520,2, -999.000,9, -999.000,9, -999.000,9, -999.000,9, -999.000,9
           NA,  RF1101,   3958,   1,-999.0,   22090,  2,20110223,1539,  34.9327,  140.2217,  1987,  607.800,    4.991,   34.271,2,   34.271,2,   77.000,2,   94.840,2,   36.710,2,    0.000,2,    2.660,2, -999.000,9, -999.000,9, -999.000,9, -999.000,9, -999.000,9
           NA,  RF1101,   3958,   1,-999.0,   22088,  2,20110223,1539,  34.9327,  140.2217,  1987,  708.800,    4.079,   34.274,2, -999.000,9,   55.600,6,  110.510,6,   39.960,6,    0.000,6,    2.910,6, -999.000,9, -999.000,9, -999.000,9, -999.000,9, -999.000,9
           NA,  RF1101,   3958,   1,-999.0,   22089,  2,20110223,1539,  34.9327,  140.2217,  1987,  708.800,    4.079,   34.274,2, -999.000,9,   55.600,2,  110.620,2,   39.980,2,    0.000,2,    2.900,2, -999.000,9, -999.000,9, -999.000,9, -999.000,9, -999.000,9
           NA,  RF1101,   3958,   1,-999.0,   22087,  2,20110223,1539,  34.9327,  140.2217,  1987,  808.900,    3.710,   34.351,2,   34.350,2,   56.700,2,  120.530,2,   40.080,2,    0.000,2,    2.910,2, -999.000,9, -999.000,9, -999.000,9, -999.000,9, -999.000,9
           NA,  RF1101,   3958,   1,-999.0,   22086,  2,20110223,1539,  34.9327,  140.2217,  1987,  912.200,    3.333,   34.397,2, -999.000,9,   55.300,2,  129.210,2,   40.820,2,    0.000,2,    2.940,2, -999.000,9, -999.000,9, -999.000,9, -999.000,9, -999.000,9
           NA,  RF1101,   3958,   1,-999.0,   22082,  2,20110223,1539,  34.9327,  140.2217,  1987, 1013.500,    3.122,   34.419,2,   34.419,6,   51.800,2,  134.190,2,   41.220,2,    0.000,2,    2.970,2, -999.000,9, -999.000,9, -999.000,9, -999.000,9, -999.000,9
           NA,  RF1101,   3958,   1,-999.0,   22081,  2,20110223,1539,  34.9327,  140.2217,  1987, 1213.700,    2.640,   34.479,2,   34.478,6,   51.100,2,  146.720,2,   41.880,2,    0.000,2,    3.010,2, -999.000,9, -999.000,9, -999.000,9, -999.000,9, -999.000,9
           NA,  RF1101,   3958,   1,-999.0,   22080,  2,20110223,1539,  34.9327,  140.2217,  1987, 1419.800,    2.436,   34.510,2,   34.510,2,   53.900,2,  152.330,2,   41.970,2,    0.000,2,    3.010,2, -999.000,9, -999.000,9, -999.000,9, -999.000,9, -999.000,9
           NA,  RF1101,   3958,   1,-999.0,   22079,  2,20110223,1539,  34.9327,  140.2217,  1987, 1621.100,    2.246,   34.542,2,   34.543,2,   60.500,2,  156.530,2,   41.540,2,    0.000,2,    2.980,2, -999.000,9, -999.000,9, -999.000,9, -999.000,9, -999.000,9
           NA,  RF1101,   3958,   1,-999.0,   22078,  2,20110223,1539,  34.9327,  140.2217,  1987, 1823.000,    2.018,   34.582,2,   34.583,2, -999.000,4,  157.500,2,   40.720,2,    0.000,2,    2.900,2, -999.000,9, -999.000,9, -999.000,9, -999.000,9, -999.000,9
           NA,  RF1101,   3958,   1,-999.0,   22077,  2,20110223,1539,  34.9327,  140.2217,  1987, 2023.400,    1.904,   34.602,2,   34.601,2,   88.200,2,  157.730,2,   40.030,2,    0.000,2,    2.860,2, -999.000,9, -999.000,9, -999.000,9, -999.000,9, -999.000,9