BOTTLE,20213313JOAExport
EXPOCODE,SECT_ID,STNNBR,CASTNO,SAMPNO,BTLNBR,BTLNBR_FLAG_W,DATE,TIME,LATITUDE,LONGITUDE,DEPTH,CTDPRS,CTDTMP,CTDSAL,CTDSAL_FLAG_W,SALNTY,SALNTY_FLAG_W,OXYGEN,OXYGEN_FLAG_W,SILCAT,SILCAT_FLAG_W,NITRAT,NITRAT_FLAG_W,NITRIT,NITRIT_FLAG_W,PHSPHT,PHSPHT_FLAG_W,CFC-11,CFC-11_FLAG_W,CFC-12,CFC-12_FLAG_W,SF6,SF6_FLAG_W,TCARBN,TCARBN_FLAG_W,ALKALI,ALKALI_FLAG_W
,,,,,,,,,,,,,DB,ITS-90,PSS-78,,PSS-78,,UMOL/KG,,UMOL/KG,,UMOL/KG,,UMOL/KG,,UMOL/KG,,PMOL/KG,,PMOL/KG,,FMOL/KG,,UMOL/KG,,UMOL/KG
           NA,  RF1101,   3941,   1,-999.0,      99,  2,20110217,0323,  17.9637,  149.3287,  4904,    0.000,   26.288,   35.204,2, -999.000,9, -999.000,4,    1.440,2,    0.120,2,    0.000,2,    0.090,2, -999.000,9, -999.000,9, -999.000,9, -999.000,9, -999.000,9
           NA,  RF1101,   3941,   1,-999.0,   22109,  2,20110217,0323,  17.9637,  149.3287,  4904,   11.300,   26.288,   35.203,2,   35.203,6,  204.200,2,    1.310,2,    0.120,2,    0.000,2,    0.030,2, -999.000,9, -999.000,9, -999.000,9, -999.000,9, -999.000,9
           NA,  RF1101,   3941,   1,-999.0,   22108,  2,20110217,0323,  17.9637,  149.3287,  4904,   24.800,   26.191,   35.200,2, -999.000,9,  204.700,2,    0.960,2,    0.100,2,    0.000,2,    0.030,2, -999.000,9, -999.000,9, -999.000,9, -999.000,9, -999.000,9
           NA,  RF1101,   3941,   1,-999.0,   22107,  2,20110217,0323,  17.9637,  149.3287,  4904,   51.000,   26.176,   35.199,2, -999.000,9, -999.000,5,    1.060,2,    0.100,2,    0.000,2,    0.030,2, -999.000,9, -999.000,9, -999.000,9, -999.000,9, -999.000,9
           NA,  RF1101,   3941,   1,-999.0,   22106,  2,20110217,0323,  17.9637,  149.3287,  4904,   76.900,   26.173,   35.199,2, -999.000,9,  204.300,2,    1.100,2,    0.060,2,    0.000,2,    0.030,2, -999.000,9, -999.000,9, -999.000,9, -999.000,9, -999.000,9
           NA,  RF1101,   3941,   1,-999.0,   22105,  2,20110217,0323,  17.9637,  149.3287,  4904,  102.100,   26.001,   35.191,2,   35.191,6,  203.900,2,    1.300,2,    0.120,2,    0.000,2,    0.040,2, -999.000,9, -999.000,9, -999.000,9, -999.000,9, -999.000,9
           NA,  RF1101,   3941,   1,-999.0,   22104,  2,20110217,0323,  17.9637,  149.3287,  4904,  126.600,   24.938,   35.196,2, -999.000,9,  204.000,2,    1.370,2,    0.120,2,    0.000,2,    0.060,2, -999.000,9, -999.000,9, -999.000,9, -999.000,9, -999.000,9
           NA,  RF1101,   3941,   1,-999.0,   22100,  2,20110217,0323,  17.9637,  149.3287,  4904,  152.800,   23.161,   35.050,2, -999.000,9,  199.700,2,    1.380,2,    0.200,2,    0.040,2,    0.060,2, -999.000,9, -999.000,9, -999.000,9, -999.000,9, -999.000,9
           NA,  RF1101,   3941,   1,-999.0,   22099,  2,20110217,0323,  17.9637,  149.3287,  4904,  202.700,   19.408,   34.845,2,   34.843,2,  192.400,2,    2.610,2,    2.560,2,    0.010,2,    0.210,2, -999.000,9, -999.000,9, -999.000,9, -999.000,9, -999.000,9
           NA,  RF1101,   3941,   1,-999.0,   22098,  2,20110217,0323,  17.9637,  149.3287,  4904,  253.100,   17.647,   34.731,2, -999.000,9,  191.500,2,    4.210,2,    5.090,2,    0.000,2,    0.370,2, -999.000,9, -999.000,9, -999.000,9, -999.000,9, -999.000,9
           NA,  RF1101,   3941,   1,-999.0,   22097,  2,20110217,0323,  17.9637,  149.3287,  4904,  303.900,   16.112,   34.632,2, -999.000,9,  190.500,2,    6.910,2,    7.550,2,    0.000,2,    0.550,2, -999.000,9, -999.000,9, -999.000,9, -999.000,9, -999.000,9
           NA,  RF1101,   3941,   1,-999.0,   22096,  2,20110217,0323,  17.9637,  149.3287,  4904,  408.000,   11.796,   34.308,2, -999.000,9,  183.800,2,   16.950,2,   14.870,2,    0.000,2,    1.110,2, -999.000,9, -999.000,9, -999.000,9, -999.000,9, -999.000,9
           NA,  RF1101,   3941,   1,-999.0,   22095,  2,20110217,0323,  17.9637,  149.3287,  4904,  408.000,   11.796,   34.308,2,   34.311,2,  184.200,6,   16.960,6,   14.840,6,    0.000,6,    1.100,6, -999.000,9, -999.000,9, -999.000,9, -999.000,9, -999.000,9
           NA,  RF1101,   3941,   1,-999.0,   22091,  2,20110217,0323,  17.9637,  149.3287,  4904,  507.200,    8.619,   34.144,2, -999.000,9,  145.400,2,   36.400,2,   24.190,2,    0.010,2,    1.800,2, -999.000,9, -999.000,9, -999.000,9, -999.000,9, -999.000,9
           NA,  RF1101,   3941,   1,-999.0,   22090,  2,20110217,0323,  17.9637,  149.3287,  4904,  609.400,    6.931,   34.232,2,   34.230,2,   74.800,2,   59.410,2,   33.820,2,    0.000,2,    2.500,2, -999.000,9, -999.000,9, -999.000,9, -999.000,9, -999.000,9
           NA,  RF1101,   3941,   1,-999.0,   22089,  2,20110217,0323,  17.9637,  149.3287,  4904,  710.900,    5.816,   34.319,2, -999.000,9,   63.900,2,   76.380,2,   37.030,2,    0.010,2,    2.720,2, -999.000,9, -999.000,9, -999.000,9, -999.000,9, -999.000,9
           NA,  RF1101,   3941,   1,-999.0,   22088,  2,20110217,0323,  17.9637,  149.3287,  4904,  811.300,    5.199,   34.385,2,   34.384,2,   63.800,2,   87.320,2,   38.300,2,    0.000,2, -999.000,4, -999.000,9, -999.000,9, -999.000,9, -999.000,9, -999.000,9
           NA,  RF1101,   3941,   1,-999.0,   22087,  2,20110217,0323,  17.9637,  149.3287,  4904,  910.000,    4.572,   34.451,2, -999.000,9,   69.100,2,   99.910,2,   38.870,2,    0.010,2,    2.830,2, -999.000,9, -999.000,9, -999.000,9, -999.000,9, -999.000,9
           NA,  RF1101,   3941,   1,-999.0,   22086,  2,20110217,0323,  17.9637,  149.3287,  4904, 1012.700,    4.143,   34.493,2,   34.493,2,   75.600,2,  106.770,2,   38.660,2,    0.000,2,    2.820,2, -999.000,9, -999.000,9, -999.000,9, -999.000,9, -999.000,9
           NA,  RF1101,   3941,   1,-999.0,   22082,  2,20110217,0323,  17.9637,  149.3287,  4904, 1212.600,    3.405,   34.548,2,   34.548,2,   83.800,2,  120.540,2,   39.010,2,    0.000,2,    2.820,2, -999.000,9, -999.000,9, -999.000,9, -999.000,9, -999.000,9
           NA,  RF1101,   3941,   1,-999.0,   22081,  2,20110217,0323,  17.9637,  149.3287,  4904, 1416.000,    2.918,   34.570,2,   34.570,2,   89.900,2,  129.720,2,   39.050,2,    0.000,2,    2.810,2, -999.000,9, -999.000,9, -999.000,9, -999.000,9, -999.000,9
           NA,  RF1101,   3941,   1,-999.0,   22080,  2,20110217,0323,  17.9637,  149.3287,  4904, 1620.000,    2.539,   34.592,2,   34.592,2,   95.100,2,  135.930,2,   38.940,2,    0.000,2,    2.800,2, -999.000,9, -999.000,9, -999.000,9, -999.000,9, -999.000,9
           NA,  RF1101,   3941,   1,-999.0,   22079,  2,20110217,0323,  17.9637,  149.3287,  4904, 1819.900,    2.236,   34.608,2,   34.609,2,  101.300,2,  142.150,2,   38.750,2,    0.000,2,    2.780,2, -999.000,9, -999.000,9, -999.000,9, -999.000,9, -999.000,9
           NA,  RF1101,   3941,   1,-999.0,   22078,  2,20110217,0323,  17.9637,  149.3287,  4904, 2023.000,    2.045,   34.623,2, -999.000,9,  107.800,2,  145.530,2,   38.510,2,    0.000,2,    2.750,2, -999.000,9, -999.000,9, -999.000,9, -999.000,9, -999.000,9
           NA,  RF1101,   3941,   1,-999.0,   22077,  2,20110217,0323,  17.9637,  149.3287,  4904, 2023.000,    2.045,   34.623,2,   34.623,2,  107.800,6,  146.090,6,   38.500,6,    0.000,6,    2.760,6, -999.000,9, -999.000,9, -999.000,9, -999.000,9, -999.000,9
           NA,  RF1101,   3942,   1,-999.0,      99,  2,20110217,1018,  18.9783,  149.3277,  5509,    0.000,   26.001,   35.120,2, -999.000,9,  204.000,2,    0.850,2,    0.100,2,    0.000,2,    0.040,2, -999.000,9, -999.000,9, -999.000,9, -999.000,9, -999.000,9
           NA,  RF1101,   3942,   1,-999.0,   22109,  2,20110217,1018,  18.9783,  149.3277,  5509,   10.300,   26.009,   35.120,2, -999.000,9,  205.600,2,    1.040,2,    0.060,2,    0.000,2,    0.030,2, -999.000,9, -999.000,9, -999.000,9, -999.000,9, -999.000,9
           NA,  RF1101,   3942,   1,-999.0,   22108,  2,20110217,1018,  18.9783,  149.3277,  5509,   25.000,   26.011,   35.120,2, -999.000,9,  204.200,2,    1.030,2,    0.050,2,    0.000,2,    0.030,2, -999.000,9, -999.000,9, -999.000,9, -999.000,9, -999.000,9
           NA,  RF1101,   3942,   1,-999.0,   22107,  2,20110217,1018,  18.9783,  149.3277,  5509,   51.300,   26.007,   35.118,2, -999.000,9,  205.500,2,    0.850,2,    0.070,2,    0.000,2,    0.030,2, -999.000,9, -999.000,9, -999.000,9, -999.000,9, -999.000,9
           NA,  RF1101,   3942,   1,-999.0,   22106,  2,20110217,1018,  18.9783,  149.3277,  5509,   76.000,   25.988,   35.115,2, -999.000,9,  204.100,2,    1.140,2,    0.090,2,    0.000,2,    0.040,2, -999.000,9, -999.000,9, -999.000,9, -999.000,9, -999.000,9
           NA,  RF1101,   3942,   1,-999.0,   22105,  2,20110217,1018,  18.9783,  149.3277,  5509,   98.800,   25.421,   35.135,2, -999.000,9,  204.000,2,    1.330,2,    0.020,2,    0.010,2,    0.040,2, -999.000,9, -999.000,9, -999.000,9, -999.000,9, -999.000,9
           NA,  RF1101,   3942,   1,-999.0,   22104,  2,20110217,1018,  18.9783,  149.3277,  5509,  124.300,   23.307,   35.123,2, -999.000,9,  195.400,2,    1.540,2,    0.230,2,    0.070,2,    0.060,2, -999.000,9, -999.000,9, -999.000,9, -999.000,9, -999.000,9
           NA,  RF1101,   3942,   1,-999.0,   22100,  2,20110217,1018,  18.9783,  149.3277,  5509,  151.300,   21.004,   34.973,2, -999.000,9,  191.400,2,    2.190,2,    1.280,2,    0.030,2,    0.140,2, -999.000,9, -999.000,9, -999.000,9, -999.000,9, -999.000,9
           NA,  RF1101,   3942,   1,-999.0,   22099,  2,20110217,1018,  18.9783,  149.3277,  5509,  201.500,   18.778,   34.747,2, -999.000,9,  203.500,2,    3.000,2,    2.330,2,    0.010,2,    0.210,2, -999.000,9, -999.000,9, -999.000,9, -999.000,9, -999.000,9
           NA,  RF1101,   3942,   1,-999.0,   22098,  2,20110217,1018,  18.9783,  149.3277,  5509,  252.400,   17.412,   34.687,2, -999.000,9,  206.900,2,    4.140,2,    4.510,2,    0.010,2,    0.330,2, -999.000,9, -999.000,9, -999.000,9, -999.000,9, -999.000,9
           NA,  RF1101,   3942,   1,-999.0,   22097,  2,20110217,1018,  18.9783,  149.3277,  5509,  301.600,   15.964,   34.624,2, -999.000,9,  193.900,2,    6.980,2,    7.520,2,    0.010,2,    0.530,2, -999.000,9, -999.000,9, -999.000,9, -999.000,9, -999.000,9
           NA,  RF1101,   3942,   1,-999.0,   22096,  2,20110217,1018,  18.9783,  149.3277,  5509,  301.600,   15.964,   34.624,2, -999.000,9,  193.900,6,    7.030,6,    7.510,6,    0.010,6,    0.540,6, -999.000,9, -999.000,9, -999.000,9, -999.000,9, -999.000,9
           NA,  RF1101,   3942,   1,-999.0,   22095,  2,20110217,1018,  18.9783,  149.3277,  5509,  403.000,   12.235,   34.341,2, -999.000,9,  186.200,2,   15.670,2,   13.810,2,    0.000,2,    1.010,2, -999.000,9, -999.000,9, -999.000,9, -999.000,9, -999.000,9
           NA,  RF1101,   3942,   1,-999.0,   22091,  2,20110217,1018,  18.9783,  149.3277,  5509,  504.100,    8.879,   34.157,2, -999.000,9,  141.500,2,   34.590,2,   23.920,2,    0.000,2,    1.770,2, -999.000,9, -999.000,9, -999.000,9, -999.000,9, -999.000,9
           NA,  RF1101,   3942,   1,-999.0,   22090,  2,20110217,1018,  18.9783,  149.3277,  5509,  606.400,    6.703,   34.147,2, -999.000,9,   91.000,2,   59.140,2,   32.600,2,    0.000,2,    2.380,2, -999.000,9, -999.000,9, -999.000,9, -999.000,9, -999.000,9
           NA,  RF1101,   3942,   1,-999.0,   22089,  2,20110217,1018,  18.9783,  149.3277,  5509,  707.200,    5.428,   34.270,2, -999.000,9,   57.700,2,   82.160,2,   37.860,2,    0.010,2,    2.780,2, -999.000,9, -999.000,9, -999.000,9, -999.000,9, -999.000,9
           NA,  RF1101,   3942,   1,-999.0,   22088,  2,20110217,1018,  18.9783,  149.3277,  5509,  808.400,    4.874,   34.385,2, -999.000,9,   57.500,2,   92.660,2,   38.950,2,    0.000,2,    2.840,2, -999.000,9, -999.000,9, -999.000,9, -999.000,9, -999.000,9
           NA,  RF1101,   3942,   1,-999.0,   22087,  2,20110217,1018,  18.9783,  149.3277,  5509,  909.700,    4.486,   34.458,2, -999.000,9,   66.400,2,  100.020,2,   38.850,2,    0.000,2,    2.820,2, -999.000,9, -999.000,9, -999.000,9, -999.000,9, -999.000,9
           NA,  RF1101,   3942,   1,-999.0,   22086,  2,20110217,1018,  18.9783,  149.3277,  5509, 1010.300,    4.000,   34.500,2, -999.000,9,   72.900,2,  109.260,2,   39.040,2,    0.000,2,    2.820,2, -999.000,9, -999.000,9, -999.000,9, -999.000,9, -999.000,9
           NA,  RF1101,   3942,   1,-999.0,   22082,  2,20110217,1018,  18.9783,  149.3277,  5509, 1211.900,    3.364,   34.545,2, -999.000,9,   81.600,2,  120.950,2,   38.920,2,    0.000,2,    2.820,2, -999.000,9, -999.000,9, -999.000,9, -999.000,9, -999.000,9
           NA,  RF1101,   3942,   1,-999.0,   22081,  2,20110217,1018,  18.9783,  149.3277,  5509, 1414.500,    2.899,   34.569,2, -999.000,9,   87.400,2,  130.340,2,   39.100,2,    0.000,2,    2.810,2, -999.000,9, -999.000,9, -999.000,9, -999.000,9, -999.000,9
           NA,  RF1101,   3942,   1,-999.0,   22080,  2,20110217,1018,  18.9783,  149.3277,  5509, 1617.600,    2.557,   34.588,2, -999.000,9,   92.600,2,  136.230,2,   39.050,2,    0.000,2,    2.780,2, -999.000,9, -999.000,9, -999.000,9, -999.000,9, -999.000,9
           NA,  RF1101,   3942,   1,-999.0,   22078,  2,20110217,1018,  18.9783,  149.3277,  5509, 1818.800,    2.276,   34.608,2, -999.000,9,   99.900,6,  141.100,6,   38.800,6,    0.000,6,    2.760,6, -999.000,9, -999.000,9, -999.000,9, -999.000,9, -999.000,9
           NA,  RF1101,   3942,   1,-999.0,   22079,  2,20110217,1018,  18.9783,  149.3277,  5509, 1818.800,    2.276,   34.608,2, -999.000,9,   99.900,2,  141.550,2,   38.750,2,    0.000,2,    2.760,2, -999.000,9, -999.000,9, -999.000,9, -999.000,9, -999.000,9
           NA,  RF1101,   3942,   1,-999.0,   22077,  2,20110217,1018,  18.9783,  149.3277,  5509, 2021.800,    2.053,   34.625,2, -999.000,9,  107.400,2,  144.740,2,   38.420,2,    0.000,2,    2.720,2, -999.000,9, -999.000,9, -999.000,9, -999.000,9, -999.000,9