BOTTLE,20214413JOAExport
EXPOCODE,SECT_ID,STNNBR,CASTNO,SAMPNO,BTLNBR,BTLNBR_FLAG_W,DATE,TIME,LATITUDE,LONGITUDE,DEPTH,CTDPRS,CTDTMP,CTDSAL,CTDSAL_FLAG_W,SALNTY,SALNTY_FLAG_W,CTDOXY,CTDOXY_FLAG_W,OXYGEN,OXYGEN_FLAG_W,SILCAT,SILCAT_FLAG_W,NITRAT,NITRAT_FLAG_W,NITRIT,NITRIT_FLAG_W,PHSPHT,PHSPHT_FLAG_W,CFC-11,CFC-11_FLAG_W,CFC-12,CFC-12_FLAG_W,SF6,SF6_FLAG_W,TCARBN,TCARBN_FLAG_W,ALKALI,ALKALI_FLAG_W
,,,,,,,,,,,,,DB,ITS-90,PSS-78,,PSS-78,,UMOL/KG,,UMOL/KG,,UMOL/KG,,UMOL/KG,,UMOL/KG,,UMOL/KG,,PMOL/KG,,PMOL/KG,,FMOL/KG,,UMOL/KG,,UMOL/KG
           NA,    P10N,    105,   1,-999.0,     -99,  2,20050605,0516,  33.7533,  149.3383,  6164,   10.300,   20.257,   34.687,2,   34.689,2,  199.220,1,  229.760,6,    1.880,2,    0.000,2,    0.010,2,    0.050,2,    2.107,2,    1.259,2, -999.000,9, -999.000,9, -999.000,9
           NA,    P10N,    105,   1,-999.0,     -99,  3,20050605,0516,  33.7533,  149.3383,  6164,   49.500,   18.806,   34.827,2,   34.828,2,  203.320,1,  234.950,2,    1.770,2,   -0.030,2,    0.010,2,    0.056,2,    2.190,2,    1.307,2, -999.000,9, -999.000,9, -999.000,9
           NA,    P10N,    105,   1,-999.0,     -99,  2,20050605,0516,  33.7533,  149.3383,  6164,   99.700,   18.278,   34.855,2,   34.854,2,  193.060,1,  222.720,2,    2.520,2,    1.800,2,    0.050,2,    0.158,2,    2.202,2,    1.316,2, -999.000,9, -999.000,9, -999.000,9
           NA,    P10N,    105,   1,-999.0,     -99,  2,20050605,0516,  33.7533,  149.3383,  6164,  150.400,   17.893,   34.851,2,   34.852,2,  192.780,1,  223.630,2,    2.730,2,    2.240,2,    0.020,2,    0.180,2,    2.229,2,    1.331,2, -999.000,9, -999.000,9, -999.000,9
           NA,    P10N,    105,   1,-999.0,     -99,  2,20050605,0516,  33.7533,  149.3383,  6164,  200.300,   17.693,   34.841,2,   34.839,2,  192.960,1,  224.270,2,    2.900,2,    2.500,2,    0.020,2,    0.194,2,    2.223,2,    1.342,2, -999.000,9, -999.000,9, -999.000,9
           NA,    P10N,    105,   1,-999.0,     -99,  2,20050605,0516,  33.7533,  149.3383,  6164,  252.400,   17.520,   34.821,2,   34.820,2,  189.220,1,  219.740,2,    3.320,2,    3.150,2,    0.020,2,    0.241,2,    2.237,6,    1.329,6, -999.000,9, -999.000,9, -999.000,9
           NA,    P10N,    105,   1,-999.0,     -99,  2,20050605,0516,  33.7533,  149.3383,  6164,  300.500,   17.292,   34.798,2,   34.797,2,  185.670,1,  216.580,2,    3.850,2,    3.800,2,    0.020,2,    0.279,2,    2.236,2,    1.322,2, -999.000,9, -999.000,9, -999.000,9
           NA,    P10N,    105,   1,-999.0,     -99,  2,20050605,0516,  33.7533,  149.3383,  6164,  402.100,   16.428,   34.704,2,   34.703,2,  176.260,1,  204.550,2,    6.430,2,    6.280,2,    0.010,2,    0.448,2,    2.304,2,    1.346,2, -999.000,9, -999.000,9, -999.000,9
           NA,    P10N,    105,   1,-999.0,     -99,  3,20050605,0516,  33.7533,  149.3383,  6164,  502.200,   14.341,   34.551,2,   34.547,6,  156.120,1,  182.930,2,   13.530,2,   11.570,2,    0.010,2,    0.819,2,    2.353,2,    1.305,2, -999.000,9, -999.000,9, -999.000,9
           NA,    P10N,    105,   1,-999.0,     -99,  2,20050605,0516,  33.7533,  149.3383,  6164,  600.400,   11.862,   34.378,2,   34.375,2,  149.420,1,  175.940,2,   22.630,2,   16.140,2,    0.010,2,    1.168,2,    2.330,2,    1.253,2, -999.000,9, -999.000,9, -999.000,9
           NA,    P10N,    105,   1,-999.0,     -99,  2,20050605,0516,  33.7533,  149.3383,  6164,  701.400,    9.066,   34.169,2,   34.172,2,  141.230,1,  168.560,2,   36.410,2,   21.490,2,    0.010,2,    1.573,2,    2.281,2,    1.208,2, -999.000,9, -999.000,9, -999.000,9
           NA,    P10N,    105,   1,-999.0,     -99,  2,20050605,0516,  33.7533,  149.3383,  6164,  799.700,    7.157,   34.114,2,   34.111,2,  117.610,1,  140.830,2,   54.650,2,   27.610,2,    0.010,2,    2.025,2,    1.923,6,    0.998,6, -999.000,9, -999.000,9, -999.000,9
           NA,    P10N,    105,   1,-999.0,     -99,  2,20050605,0516,  33.7533,  149.3383,  6164,  899.600,    5.573,   34.047,2,   34.052,2,  102.470,1,  121.020,2,   70.640,2,   32.150,2,    0.010,2,    2.359,2,    1.763,2,    0.913,2, -999.000,9, -999.000,9, -999.000,9
           NA,    P10N,    105,   1,-999.0,     -99,  2,20050605,0516,  33.7533,  149.3383,  6164,  999.900,    4.753,   34.112,2,   34.117,6,   71.630,1,   84.510,2,   89.490,2,   36.680,2,    0.010,2,    2.677,2,    1.212,2,    0.609,2, -999.000,9, -999.000,9, -999.000,9
           NA,    P10N,    105,   1,-999.0,     -99,  2,20050605,0516,  33.7533,  149.3383,  6164, 1200.700,    3.733,   34.292,2,   34.291,2,   41.410,1,   48.180,6,  119.880,2,   40.990,2,    0.010,2,    2.966,2,    0.377,2,    0.182,2, -999.000,9, -999.000,9, -999.000,9
           NA,    P10N,    105,   1,-999.0,     -99,  2,20050605,0516,  33.7533,  149.3383,  6164, 1400.500,    3.133,   34.389,2,   34.390,2,   35.310,1,   40.420,2,  136.950,2,   42.300,2,    0.010,2,    3.052,2,    0.136,2,    0.066,2, -999.000,9, -999.000,9, -999.000,9
           NA,    P10N,    105,   1,-999.0,     -99,  2,20050605,0516,  33.7533,  149.3383,  6164, 1600.300,    2.695,   34.466,2,   34.467,2,   35.990,1,   41.610,2,  149.260,2,   42.770,2,    0.010,2,    3.068,2,    0.036,2,    0.019,2, -999.000,9, -999.000,9, -999.000,9
           NA,    P10N,    105,   1,-999.0,     -99,  2,20050605,0516,  33.7533,  149.3383,  6164, 1800.200,    2.408,   34.519,2,   34.520,2,   42.190,1,   49.380,2,  155.950,2,   42.510,2,    0.000,2,    3.040,2,    0.011,2,    0.002,2, -999.000,9, -999.000,9, -999.000,9
           NA,    P10N,    105,   1,-999.0,     -99,  2,20050605,0516,  33.7533,  149.3383,  6164, 2001.400,    2.155,   34.565,2,   34.564,2,   52.600,1,   62.650,2,  160.110,2,   41.760,2,    0.010,2,    2.975,2,    0.003,2,    0.000,2, -999.000,9, -999.000,9, -999.000,9
           NA,    P10N,    105,   1,-999.0,     -99,  2,20050605,0516,  33.7533,  149.3383,  6164, 2199.500,    2.018,   34.590,2,   34.590,6,   61.380,1,   74.610,2,  161.010,2,   41.140,2,    0.010,2,    2.925,2,   -0.003,2,    0.000,2, -999.000,9, -999.000,9, -999.000,9
           NA,    P10N,    105,   1,-999.0,     -99,  2,20050605,0516,  33.7533,  149.3383,  6164, 2399.900,    1.860,   34.615,2,   34.615,2,   71.420,1,   87.630,2,  161.830,2,   40.340,2,    0.010,2,    2.858,2, -999.000,9, -999.000,9, -999.000,9, -999.000,9, -999.000,9
           NA,    P10N,    105,   1,-999.0,     -99,  2,20050605,0516,  33.7533,  149.3383,  6164, 2600.000,    1.771,   34.631,2,   34.632,2,   80.660,1,  100.320,2,  160.120,2,   39.500,2,    0.010,2,    2.799,2, -999.000,9, -999.000,9, -999.000,9, -999.000,9, -999.000,9
           NA,    P10N,    105,   1,-999.0,     -99,  2,20050605,0516,  33.7533,  149.3383,  6164, 2799.100,    1.677,   34.646,2,   34.646,2,   88.950,1,  111.370,2,  159.080,2,   38.800,2,    0.010,2,    2.736,2, -999.000,9, -999.000,9, -999.000,9, -999.000,9, -999.000,9
           NA,    P10N,    105,   1,-999.0,     -99,  2,20050605,0516,  33.7533,  149.3383,  6164, 2999.200,    1.625,   34.655,2,   34.657,2,   94.810,1,  119.560,6,  157.590,2,   38.270,2,    0.010,2,    2.700,2, -999.000,9, -999.000,9, -999.000,9, -999.000,9, -999.000,9
           NA,    P10N,    105,   1,-999.0,     -99,  2,20050605,0516,  33.7533,  149.3383,  6164, 3250.800,    1.574,   34.665,2,   34.665,6,  102.260,1,  129.750,2,  154.740,2,   37.580,2,    0.010,2,    2.639,2, -999.000,9, -999.000,9, -999.000,9, -999.000,9, -999.000,9
           NA,    P10N,    105,   1,-999.0,     -99,  2,20050605,0516,  33.7533,  149.3383,  6164, 3500.400,    1.545,   34.671,2,   34.671,2,  106.220,1,  135.450,2,  153.750,2,   37.160,2,    0.010,2,    2.615,2, -999.000,9, -999.000,9, -999.000,9, -999.000,9, -999.000,9
           NA,    P10N,    105,   1,-999.0,     -99,  2,20050605,0516,  33.7533,  149.3383,  6164, 3749.000,    1.510,   34.677,2,   34.677,2,  111.100,1,  142.330,2,  152.250,2,   36.760,2,    0.010,2,    2.581,2, -999.000,9, -999.000,9, -999.000,9, -999.000,9, -999.000,9
           NA,    P10N,    105,   1,-999.0,     -99,  2,20050605,0516,  33.7533,  149.3383,  6164, 4001.500,    1.495,   34.681,2,   34.681,2,  114.640,1,  147.190,2,  150.840,2,   36.490,2,    0.010,2,    2.555,2, -999.000,9, -999.000,9, -999.000,9, -999.000,9, -999.000,9
           NA,    P10N,    105,   1,-999.0,     -99,  2,20050605,0516,  33.7533,  149.3383,  6164, 4251.600,    1.488,   34.685,2,   34.685,2,  117.780,1,  151.400,2,  149.800,2,   36.180,2,    0.010,2,    2.535,2, -999.000,9, -999.000,9, -999.000,9, -999.000,9, -999.000,9
           NA,    P10N,    105,   1,-999.0,     -99,  2,20050605,0516,  33.7533,  149.3383,  6164, 4501.100,    1.490,   34.687,2,   34.687,6,  120.390,1,  154.840,2,  148.280,2,   35.880,2,    0.010,2,    2.513,2, -999.000,9, -999.000,9, -999.000,9, -999.000,9, -999.000,9
           NA,    P10N,    105,   1,-999.0,     -99,  2,20050605,0516,  33.7533,  149.3383,  6164, 4751.500,    1.494,   34.690,2,   34.690,2,  123.180,1,  158.560,2,  146.820,2,   35.710,2,    0.010,2,    2.494,2, -999.000,9, -999.000,9, -999.000,9, -999.000,9, -999.000,9
           NA,    P10N,    105,   1,-999.0,     -99,  2,20050605,0516,  33.7533,  149.3383,  6164, 4999.500,    1.509,   34.691,2,   34.692,2,  125.250,1,  160.900,6,  145.150,2,   35.470,2,    0.010,2,    2.483,2, -999.000,9, -999.000,9, -999.000,9, -999.000,9, -999.000,9
           NA,    P10N,    105,   1,-999.0,     -99,  2,20050605,0516,  33.7533,  149.3383,  6164, 5249.800,    1.532,   34.692,2,   34.692,2,  126.960,1,  162.400,2,  144.220,2,   35.410,2,    0.010,2,    2.474,2, -999.000,9, -999.000,9, -999.000,9, -999.000,9, -999.000,9
           NA,    P10N,    105,   1,-999.0,     -99,  2,20050605,0516,  33.7533,  149.3383,  6164, 5500.600,    1.559,   34.693,2,   34.693,2,  128.400,1,  163.480,2,  143.420,2,   35.310,2,    0.010,2,    2.469,2, -999.000,9, -999.000,9, -999.000,9, -999.000,9, -999.000,9
           NA,    P10N,    105,   1,-999.0,     -99,  2,20050605,0516,  33.7533,  149.3383,  6164, 5750.100,    1.587,   34.693,2,   34.693,2,  129.940,1,  164.530,2,  142.750,2,   35.250,2,    0.010,2,    2.462,2, -999.000,9, -999.000,9, -999.000,9, -999.000,9, -999.000,9
           NA,    P10N,    105,   1,-999.0,     -99,  2,20050605,0516,  33.7533,  149.3383,  6164, 6279.800,    1.635,   34.695,2,   34.696,6,  135.650,1,  168.950,2,  138.770,2,   34.950,2,    0.010,2,    2.444,2, -999.000,9, -999.000,9, -999.000,9, -999.000,9, -999.000,9