BOTTLE,20214413JOAExport
EXPOCODE,SECT_ID,STNNBR,CASTNO,SAMPNO,BTLNBR,BTLNBR_FLAG_W,DATE,TIME,LATITUDE,LONGITUDE,DEPTH,CTDPRS,CTDTMP,CTDSAL,CTDSAL_FLAG_W,SALNTY,SALNTY_FLAG_W,CTDOXY,CTDOXY_FLAG_W,OXYGEN,OXYGEN_FLAG_W,SILCAT,SILCAT_FLAG_W,NITRAT,NITRAT_FLAG_W,NITRIT,NITRIT_FLAG_W,PHSPHT,PHSPHT_FLAG_W,CFC-11,CFC-11_FLAG_W,CFC-12,CFC-12_FLAG_W,SF6,SF6_FLAG_W,TCARBN,TCARBN_FLAG_W,ALKALI,ALKALI_FLAG_W
,,,,,,,,,,,,,DB,ITS-90,PSS-78,,PSS-78,,UMOL/KG,,UMOL/KG,,UMOL/KG,,UMOL/KG,,UMOL/KG,,UMOL/KG,,PMOL/KG,,PMOL/KG,,FMOL/KG,,UMOL/KG,,UMOL/KG
           NA,    P10N,    106,   1,-999.0,     -99,  2,20050604,2323,  33.9985,  149.3200,  6229,   11.300,   20.264,   34.716,2,   34.719,2,  199.180,1,  229.470,6,    1.870,2,    0.040,2,    0.010,2,    0.057,2,    2.135,2,    1.173,2, -999.000,9, 1985.100,2, 2295.100,2
           NA,    P10N,    106,   1,-999.0,     -99,  2,20050604,2323,  33.9985,  149.3200,  6229,   50.500,   19.475,   34.773,2,   34.780,2,  200.950,1,  231.310,2,    1.930,2,    0.040,2,    0.030,2,    0.069,2,    2.197,2,    1.202,2, -999.000,9, 1987.100,6, 2300.700,2
           NA,    P10N,    106,   1,-999.0,     -99,  2,20050604,2323,  33.9985,  149.3200,  6229,  100.200,   18.575,   34.844,2,   34.844,2,  193.020,1,  222.890,2,    2.320,2,    1.390,2,    0.080,2,    0.153,2,    2.259,2,    1.239,2, -999.000,9, 2003.500,2, 2301.100,6
           NA,    P10N,    106,   1,-999.0,     -99,  2,20050604,2323,  33.9985,  149.3200,  6229,  150.100,   17.883,   34.845,2,   34.844,2,  194.420,1,  224.730,2,    2.720,2,    2.160,2,    0.020,2,    0.190,2,    2.327,2,    1.273,2, -999.000,9, 2009.800,2, 2299.100,2
           NA,    P10N,    106,   1,-999.0,     -99,  2,20050604,2323,  33.9985,  149.3200,  6229,  201.200,   17.719,   34.846,2,   34.844,2,  194.140,1,  224.570,2,    2.870,2,    2.410,2,    0.020,2,    0.204,2,    2.323,2,    1.282,2, -999.000,9, 2008.300,2, 2296.200,2
           NA,    P10N,    106,   1,-999.0,     -99,  2,20050604,2323,  33.9985,  149.3200,  6229,  249.800,   17.564,   34.837,2,   34.836,2,  193.550,1,  224.520,2,    2.950,2,    2.620,2,    0.020,2,    0.216,2,    2.338,6,    1.300,6, -999.000,9, 2012.300,2, 2301.400,2
           NA,    P10N,    106,   1,-999.0,     -99,  2,20050604,2323,  33.9985,  149.3200,  6229,  300.900,   17.418,   34.821,2,   34.819,2,  193.170,1,  223.750,2,    3.160,2,    2.970,2,    0.020,2,    0.240,2,    2.350,2,    1.298,2, -999.000,9, 2014.700,2, 2295.100,2
           NA,    P10N,    106,   1,-999.0,     -99,  2,20050604,2323,  33.9985,  149.3200,  6229,  401.700,   16.545,   34.729,2,   34.727,2,  175.630,1,  204.110,2,    5.920,2,    6.090,2,    0.010,2,    0.438,2,    2.423,2,    1.311,2, -999.000,9, 2038.000,2, 2295.200,2
           NA,    P10N,    106,   1,-999.0,     -99,  3,20050604,2323,  33.9985,  149.3200,  6229,  499.100,   14.038,   34.531,2,   34.520,6,  155.750,1,  181.470,2,   14.850,2,   12.270,2,    0.010,2,    0.881,2,    2.475,2,    1.250,2, -999.000,9, 2085.500,2, 2288.800,2
           NA,    P10N,    106,   1,-999.0,     -99,  2,20050604,2323,  33.9985,  149.3200,  6229,  600.200,   10.201,   34.270,2,   34.276,2,  138.670,1,  161.560,2,   33.280,2,   19.540,2,    0.010,2,    1.429,2,    2.163,2,    1.076,2, -999.000,9, 2144.200,2, 2293.900,2
           NA,    P10N,    106,   1,-999.0,     -99,  2,20050604,2323,  33.9985,  149.3200,  6229,  701.300,    9.209,   34.300,2,   34.300,2,  113.460,1,  133.670,2,   45.790,2,   24.400,2,    0.010,2,    1.778,2,    1.687,2,    0.828,2, -999.000,9, 2183.700,6, 2302.600,2
           NA,    P10N,    106,   1,-999.0,     -99,  2,20050604,2323,  33.9985,  149.3200,  6229,  799.700,    8.278,   34.271,2,   34.270,2,  104.520,1,  123.140,2,   54.470,2,   27.140,2,    0.010,2,    1.977,2,    1.484,6,    0.715,6, -999.000,9, 2206.400,2, 2308.900,6
           NA,    P10N,    106,   1,-999.0,     -99,  2,20050604,2323,  33.9985,  149.3200,  6229,  900.200,    7.274,   34.258,2,   34.258,2,   93.260,1,  110.230,2,   65.210,2,   29.990,2,    0.010,2,    2.187,2,    1.223,2,    0.608,2, -999.000,9, 2228.100,2, 2315.600,2
           NA,    P10N,    106,   1,-999.0,     -99,  2,20050604,2323,  33.9985,  149.3200,  6229,  999.600,    6.166,   34.206,2,   34.196,6,   85.030,1,  100.370,2,   76.220,2,   32.970,2,    0.010,2,    2.409,2,    1.195,2,    0.563,2, -999.000,9, 2256.900,2, 2324.700,2
           NA,    P10N,    106,   1,-999.0,     -99,  2,20050604,2323,  33.9985,  149.3200,  6229, 1200.500,    3.754,   34.272,2, -999.000,3,   41.480,1,   47.700,6,  119.210,2,   41.060,2,    0.010,2,    2.971,2,    0.406,2,    0.187,2, -999.000,9, 2336.900,2, 2357.900,2
           NA,    P10N,    106,   1,-999.0,     -99,  2,20050604,2323,  33.9985,  149.3200,  6229, 1399.300,    3.167,   34.389,2,   34.391,2,   36.870,1,   42.390,2,  136.100,2,   42.040,2,    0.010,2,    3.035,2,    0.126,2,    0.037,2, -999.000,9, 2356.500,2, 2384.400,2
           NA,    P10N,    106,   1,-999.0,     -99,  2,20050604,2323,  33.9985,  149.3200,  6229, 1601.100,    2.735,   34.455,2,   34.455,2,   35.960,1,   41.380,2,  148.790,2,   42.640,2,    0.010,2,    3.066,2,    0.045,2,    0.024,2, -999.000,9, 2374.500,2, 2394.900,2
           NA,    P10N,    106,   1,-999.0,     -99,  2,20050604,2323,  33.9985,  149.3200,  6229, 1798.800,    2.400,   34.516,2,   34.516,2,   42.300,1,   49.580,2,  157.160,2,   42.410,2,    0.010,2,    3.038,2,    0.015,2,    0.006,2, -999.000,9, 2378.300,2, 2405.600,2
           NA,    P10N,    106,   1,-999.0,     -99,  2,20050604,2323,  33.9985,  149.3200,  6229, 2002.200,    2.188,   34.558,2,   34.558,2,   51.250,1,   61.120,2,  160.100,2,   41.830,2,    0.010,2,    2.980,2,   -0.003,2,    0.001,2, -999.000,9, 2379.400,2, 2411.300,2
           NA,    P10N,    106,   1,-999.0,     -99,  2,20050604,2323,  33.9985,  149.3200,  6229, 2199.300,    2.014,   34.588,2,   34.588,6,   59.450,1,   71.760,2,  162.720,2,   41.200,2,    0.010,2,    2.931,2,   -0.007,2,    0.000,2, -999.000,9, 2373.900,2, 2417.600,2
           NA,    P10N,    106,   1,-999.0,     -99,  2,20050604,2323,  33.9985,  149.3200,  6229, 2399.900,    1.892,   34.610,2,   34.610,2,   68.860,1,   84.350,2,  162.720,2,   40.480,2,    0.000,2,    2.875,2, -999.000,9, -999.000,9, -999.000,9, 2366.900,6, 2422.100,2
           NA,    P10N,    106,   1,-999.0,     -99,  3,20050604,2323,  33.9985,  149.3200,  6229, 2599.200,    1.776,   34.630,2,   34.629,2,   78.690,1,   97.480,2,  161.700,2,   39.610,2,    0.010,2,    2.807,2, -999.000,9, -999.000,9, -999.000,9, 2361.000,2, 2424.900,6
           NA,    P10N,    106,   1,-999.0,     -99,  2,20050604,2323,  33.9985,  149.3200,  6229, 2799.200,    1.698,   34.643,2,   34.643,2,   86.600,1,  107.970,2,  160.250,2,   38.930,2,    0.000,2,    2.754,2, -999.000,9, -999.000,9, -999.000,9, 2354.200,2, 2427.700,2
           NA,    P10N,    106,   1,-999.0,     -99,  2,20050604,2323,  33.9985,  149.3200,  6229, 3001.300,    1.640,   34.653,2,   34.653,2,   93.090,1,  116.900,6,  158.770,2,   38.410,2,    0.010,2,    2.711,2, -999.000,9, -999.000,9, -999.000,9, 2347.200,2, -999.000,3
           NA,    P10N,    106,   1,-999.0,     -99,  2,20050604,2323,  33.9985,  149.3200,  6229, 3249.300,    1.585,   34.663,2,   34.663,6,   99.980,1,  126.470,2,  156.720,2,   37.740,2,    0.000,2,    2.656,2, -999.000,9, -999.000,9, -999.000,9, 2344.100,2, 2427.700,2
           NA,    P10N,    106,   1,-999.0,     -99,  2,20050604,2323,  33.9985,  149.3200,  6229, 3499.100,    1.555,   34.669,2,   34.669,2,  104.750,1,  133.160,2,  155.190,2,   37.280,2,    0.010,2,    2.627,2, -999.000,9, -999.000,9, -999.000,9, 2340.900,2, -999.000,3
           NA,    P10N,    106,   1,-999.0,     -99,  2,20050604,2323,  33.9985,  149.3200,  6229, 3748.900,    1.528,   34.675,2,   34.675,2,  109.270,1,  139.450,2,  153.900,2,   36.920,2,    0.010,2,    2.590,2, -999.000,9, -999.000,9, -999.000,9, 2334.200,2, 2426.200,2
           NA,    P10N,    106,   1,-999.0,     -99,  2,20050604,2323,  33.9985,  149.3200,  6229, 4000.600,    1.513,   34.679,2,   34.679,2,  112.860,1,  144.410,2,  152.500,2,   36.580,2,    0.000,2,    2.565,2, -999.000,9, -999.000,9, -999.000,9, 2331.300,2, 2425.100,2
           NA,    P10N,    106,   1,-999.0,     -99,  2,20050604,2323,  33.9985,  149.3200,  6229, 4250.500,    1.505,   34.683,2,   34.683,2,  116.240,1,  148.950,2,  151.080,2,   36.280,2,    0.000,2,    2.541,2, -999.000,9, -999.000,9, -999.000,9, 2328.400,6, 2423.200,2
           NA,    P10N,    106,   1,-999.0,     -99,  2,20050604,2323,  33.9985,  149.3200,  6229, 4500.700,    1.503,   34.686,2,   34.686,6,  119.150,1,  152.930,2,  150.020,2,   36.030,2,    0.010,2,    2.520,2, -999.000,9, -999.000,9, -999.000,9, 2326.900,2, 2422.100,2
           NA,    P10N,    106,   1,-999.0,     -99,  2,20050604,2323,  33.9985,  149.3200,  6229, 4750.500,    1.513,   34.688,2,   34.688,2,  121.310,1,  155.370,2,  149.250,2,   35.840,2,    0.000,2,    2.507,2, -999.000,9, -999.000,9, -999.000,9, 2322.700,2, 2420.400,2
           NA,    P10N,    106,   1,-999.0,     -99,  2,20050604,2323,  33.9985,  149.3200,  6229, 4999.000,    1.527,   34.689,2,   34.690,2,  123.440,1,  158.000,6,  147.630,2,   35.650,2,    0.000,2,    2.493,2, -999.000,9, -999.000,9, -999.000,9, 2317.700,2, -999.000,3
           NA,    P10N,    106,   1,-999.0,     -99,  2,20050604,2323,  33.9985,  149.3200,  6229, 5250.700,    1.544,   34.691,2,   34.691,2,  125.890,1,  160.410,2,  146.070,2,   35.510,2,    0.010,2,    2.480,2, -999.000,9, -999.000,9, -999.000,9, 2315.800,2, 2415.500,2
           NA,    P10N,    106,   1,-999.0,     -99,  2,20050604,2323,  33.9985,  149.3200,  6229, 5500.900,    1.563,   34.692,2,   34.692,2,  128.290,1,  162.650,2,  144.680,2,   35.370,2,    0.000,2,    2.469,2, -999.000,9, -999.000,9, -999.000,9, 2314.800,2, -999.000,3
           NA,    P10N,    106,   1,-999.0,     -99,  2,20050604,2323,  33.9985,  149.3200,  6229, 5747.000,    1.585,   34.693,2,   34.693,2,  130.460,1,  164.560,2,  142.980,2,   35.250,2,    0.010,2,    2.459,2, -999.000,9, -999.000,9, -999.000,9, 2315.600,2, 2414.200,2
           NA,    P10N,    106,   1,-999.0,     -99,  2,20050604,2323,  33.9985,  149.3200,  6229, 6341.800,    1.653,   34.694,2,   34.694,6,  134.580,1,  167.150,2,  140.770,2,   35.020,2,    0.010,2,    2.440,2, -999.000,9, -999.000,9, -999.000,9, 2311.600,2, 2417.700,2