BOTTLE,20214413JOAExport
EXPOCODE,SECT_ID,STNNBR,CASTNO,SAMPNO,BTLNBR,BTLNBR_FLAG_W,DATE,TIME,LATITUDE,LONGITUDE,DEPTH,CTDPRS,CTDTMP,CTDSAL,CTDSAL_FLAG_W,SALNTY,SALNTY_FLAG_W,CTDOXY,CTDOXY_FLAG_W,OXYGEN,OXYGEN_FLAG_W,SILCAT,SILCAT_FLAG_W,NITRAT,NITRAT_FLAG_W,NITRIT,NITRIT_FLAG_W,PHSPHT,PHSPHT_FLAG_W,CFC-11,CFC-11_FLAG_W,CFC-12,CFC-12_FLAG_W,SF6,SF6_FLAG_W,TCARBN,TCARBN_FLAG_W,ALKALI,ALKALI_FLAG_W
,,,,,,,,,,,,,DB,ITS-90,PSS-78,,PSS-78,,UMOL/KG,,UMOL/KG,,UMOL/KG,,UMOL/KG,,UMOL/KG,,UMOL/KG,,PMOL/KG,,PMOL/KG,,FMOL/KG,,UMOL/KG,,UMOL/KG
           NA,    P10N,    102,   1,-999.0,     -99,  2,20050605,2242,  32.8338,  149.3525,  6003,   10.400,   21.529,   34.561,2,   34.569,2,  193.650,1,  223.050,6,    1.520,2,    0.020,2,    0.000,2,    0.047,2,    2.071,2,    1.170,2, -999.000,9, -999.000,9, -999.000,9
           NA,    P10N,    102,   1,-999.0,     -99,  2,20050605,2242,  32.8338,  149.3525,  6003,   50.200,   20.625,   34.775,2,   34.770,2,  191.430,1,  221.430,2,    1.760,2,    0.040,2,    0.070,2,    0.066,2,    2.098,2,    1.166,2, -999.000,9, -999.000,9, -999.000,9
           NA,    P10N,    102,   1,-999.0,     -99,  2,20050605,2242,  32.8338,  149.3525,  6003,   99.800,   19.750,   34.824,2,   34.828,2,  182.860,1,  211.060,2,    2.710,2,    1.850,2,    0.090,2,    0.172,2,    2.191,2,    1.222,2, -999.000,9, -999.000,9, -999.000,9
           NA,    P10N,    102,   1,-999.0,     -99,  2,20050605,2242,  32.8338,  149.3525,  6003,  149.300,   18.842,   34.847,2,   34.849,2,  200.480,1,  232.440,2,    1.700,2,    0.030,2,    0.040,2,    0.066,2,    2.327,2,    1.290,2, -999.000,9, -999.000,9, -999.000,9
           NA,    P10N,    102,   1,-999.0,     -99,  2,20050605,2242,  32.8338,  149.3525,  6003,  200.000,   18.003,   34.842,2,   34.841,2,  190.460,1,  222.080,2,    2.770,2,    2.260,2,    0.020,2,    0.195,2,    2.386,2,    1.328,2, -999.000,9, -999.000,9, -999.000,9
           NA,    P10N,    102,   1,-999.0,     -99,  2,20050605,2242,  32.8338,  149.3525,  6003,  250.600,   17.682,   34.832,2,   34.832,2,  192.260,1,  224.220,2,    2.950,2,    2.450,2,    0.010,2,    0.205,2,    2.411,6,    1.345,6, -999.000,9, -999.000,9, -999.000,9
           NA,    P10N,    102,   1,-999.0,     -99,  2,20050605,2242,  32.8338,  149.3525,  6003,  300.400,   17.366,   34.811,2,   34.810,2,  190.830,1,  222.560,2,    3.260,2,    3.110,2,    0.010,2,    0.245,2,    2.430,2,    1.333,2, -999.000,9, -999.000,9, -999.000,9
           NA,    P10N,    102,   1,-999.0,     -99,  2,20050605,2242,  32.8338,  149.3525,  6003,  400.100,   16.407,   34.716,2,   34.708,2,  172.820,1,  201.340,2,    6.480,2,    6.660,2,    0.010,2,    0.480,2,    2.499,2,    1.337,2, -999.000,9, -999.000,9, -999.000,9
           NA,    P10N,    102,   1,-999.0,     -99,  2,20050605,2242,  32.8338,  149.3525,  6003,  501.600,   13.886,   34.526,2,   34.516,6,  151.640,1,  178.340,2,   16.470,2,   12.760,2,    0.010,2,    0.926,2,    2.450,2,    1.253,2, -999.000,9, -999.000,9, -999.000,9
           NA,    P10N,    102,   1,-999.0,     -99,  2,20050605,2242,  32.8338,  149.3525,  6003,  599.700,   11.131,   34.338,2,   34.323,2,  142.600,1,  169.120,2,   28.180,2,   18.130,2,    0.010,2,    1.325,2,    2.397,2,    1.192,2, -999.000,9, -999.000,9, -999.000,9
           NA,    P10N,    102,   1,-999.0,     -99,  2,20050605,2242,  32.8338,  149.3525,  6003,  700.900,    6.050,   33.746,2,   33.751,2,  216.240,1, -999.000,3,   29.690,2,   16.870,2,    0.020,2,    1.332,2,    4.245,2,    2.113,2, -999.000,9, -999.000,9, -999.000,9
           NA,    P10N,    102,   1,-999.0,     -99,  2,20050605,2242,  32.8338,  149.3525,  6003,  801.100,    5.600,   33.981,2,   34.014,2,  119.290,1,  135.860,2,   65.150,2,   30.590,2,    0.000,2,    2.266,2,    2.180,6,    1.031,6, -999.000,9, -999.000,9, -999.000,9
           NA,    P10N,    102,   1,-999.0,     -99,  2,20050605,2242,  32.8338,  149.3525,  6003,  899.400,    4.822,   34.084,2,   34.086,2,   79.200,1,   93.430,2,   86.000,2,   35.800,2,    0.000,2,    2.622,2,    1.491,2,    0.649,2, -999.000,9, -999.000,9, -999.000,9
           NA,    P10N,    102,   1,-999.0,     -99,  2,20050605,2242,  32.8338,  149.3525,  6003,  999.900,    4.219,   34.177,2,   34.184,6,   53.930,1,   63.310,2,  103.670,2,   39.270,2,    0.000,2,    2.851,2,    0.832,2,    0.370,2, -999.000,9, -999.000,9, -999.000,9
           NA,    P10N,    102,   1,-999.0,     -99,  2,20050605,2242,  32.8338,  149.3525,  6003, 1201.400,    3.456,   34.338,2,   34.338,2,   36.980,1,   42.470,6,  127.340,2,   41.840,2,    0.000,2,    3.022,2, -999.000,5, -999.000,5, -999.000,9, -999.000,9, -999.000,9
           NA,    P10N,    102,   1,-999.0,     -99,  2,20050605,2242,  32.8338,  149.3525,  6003, 1397.700,    2.935,   34.431,2,   34.432,2,   33.580,1,   38.370,2,  142.180,2,   42.750,2,    0.010,2,    3.078,2,    0.055,2,    0.019,2, -999.000,9, -999.000,9, -999.000,9
           NA,    P10N,    102,   1,-999.0,     -99,  2,20050605,2242,  32.8338,  149.3525,  6003, 1600.100,    2.559,   34.487,2,   34.488,2,   37.970,1,   44.130,2,  152.680,2,   42.650,2,    0.000,2,    3.069,2,    0.033,2,    0.008,2, -999.000,9, -999.000,9, -999.000,9
           NA,    P10N,    102,   1,-999.0,     -99,  2,20050605,2242,  32.8338,  149.3525,  6003, 1798.000,    2.365,   34.530,2,   34.531,2,   44.050,1,   52.120,2,  156.180,2,   42.350,2,    0.000,2,    3.028,2,    0.007,2,    0.005,2, -999.000,9, -999.000,9, -999.000,9
           NA,    P10N,    102,   1,-999.0,     -99,  2,20050605,2242,  32.8338,  149.3525,  6003, 2000.500,    2.154,   34.567,2,   34.568,2,   53.420,1,   63.960,2,  159.320,2,   41.720,2,    0.000,2,    2.973,2,    0.001,2,    0.000,2, -999.000,9, -999.000,9, -999.000,9
           NA,    P10N,    102,   1,-999.0,     -99,  2,20050605,2242,  32.8338,  149.3525,  6003, 2198.900,    1.971,   34.598,2,   34.599,6,   65.480,1, -999.000,3,  160.230,2,   40.730,2,    0.000,2,    2.896,2,   -0.001,2,    0.000,2, -999.000,9, -999.000,9, -999.000,9
           NA,    P10N,    102,   1,-999.0,     -99,  2,20050605,2242,  32.8338,  149.3525,  6003, 2399.200,    1.880,   34.617,2,   34.617,2,   75.530,1, -999.000,4,  158.140,2,   39.950,2,    0.000,2,    2.832,2, -999.000,9, -999.000,9, -999.000,9, -999.000,9, -999.000,9
           NA,    P10N,    102,   1,-999.0,     -99,  2,20050605,2242,  32.8338,  149.3525,  6003, 2599.800,    1.752,   34.633,2,   34.633,2,   81.310,1,  101.190,2,  160.340,2,   39.510,2,    0.010,2,    2.792,2, -999.000,9, -999.000,9, -999.000,9, -999.000,9, -999.000,9
           NA,    P10N,    102,   1,-999.0,     -99,  2,20050605,2242,  32.8338,  149.3525,  6003, 2799.800,    1.676,   34.646,2,   34.646,2,   89.000,1,  113.290,2,  158.840,2,   38.730,2,    0.000,2,    2.741,2, -999.000,9, -999.000,9, -999.000,9, -999.000,9, -999.000,9
           NA,    P10N,    102,   1,-999.0,     -99,  2,20050605,2242,  32.8338,  149.3525,  6003, 2999.300,    1.615,   34.657,2,   34.657,2,   95.680,1,  120.710,6,  157.000,2,   38.180,2,    0.000,2,    2.694,2, -999.000,9, -999.000,9, -999.000,9, -999.000,9, -999.000,9
           NA,    P10N,    102,   1,-999.0,     -99,  2,20050605,2242,  32.8338,  149.3525,  6003, 3251.900,    1.555,   34.667,2,   34.667,6,  102.790,1,  130.640,2,  155.040,2,   37.460,2,    0.000,2,    2.636,2, -999.000,9, -999.000,9, -999.000,9, -999.000,9, -999.000,9
           NA,    P10N,    102,   1,-999.0,     -99,  2,20050605,2242,  32.8338,  149.3525,  6003, 3501.000,    1.520,   34.673,2,   34.673,2,  108.110,1,  138.120,2,  152.960,2,   37.010,2,    0.000,2,    2.604,2, -999.000,9, -999.000,9, -999.000,9, -999.000,9, -999.000,9
           NA,    P10N,    102,   1,-999.0,     -99,  2,20050605,2242,  32.8338,  149.3525,  6003, 3751.200,    1.495,   34.679,2,   34.679,2,  112.130,1,  143.790,2,  152.040,2,   36.660,2,    0.000,2,    2.575,2, -999.000,9, -999.000,9, -999.000,9, -999.000,9, -999.000,9
           NA,    P10N,    102,   1,-999.0,     -99,  2,20050605,2242,  32.8338,  149.3525,  6003, 4001.000,    1.476,   34.683,2,   34.683,2,  116.140,1, -999.000,5,  150.160,2,   36.270,2,    0.000,2,    2.542,2, -999.000,9, -999.000,9, -999.000,9, -999.000,9, -999.000,9
           NA,    P10N,    102,   1,-999.0,     -99,  2,20050605,2242,  32.8338,  149.3525,  6003, 4250.600,    1.468,   34.686,2,   34.687,2,  119.500,1,  153.950,2,  148.500,2,   35.950,2,    0.000,2,    2.518,2, -999.000,9, -999.000,9, -999.000,9, -999.000,9, -999.000,9
           NA,    P10N,    102,   1,-999.0,     -99,  2,20050605,2242,  32.8338,  149.3525,  6003, 4500.000,    1.475,   34.689,2,   34.688,6,  121.760,1,  157.040,2,  147.280,2,   35.780,2,    0.000,2,    2.503,2, -999.000,9, -999.000,9, -999.000,9, -999.000,9, -999.000,9
           NA,    P10N,    102,   1,-999.0,     -99,  2,20050605,2242,  32.8338,  149.3525,  6003, 4749.400,    1.487,   34.690,2,   34.691,2,  123.920,1,  159.540,2,  145.880,2,   35.570,2,    0.000,2,    2.490,2, -999.000,9, -999.000,9, -999.000,9, -999.000,9, -999.000,9
           NA,    P10N,    102,   1,-999.0,     -99,  2,20050605,2242,  32.8338,  149.3525,  6003, 4999.900,    1.500,   34.692,2,   34.692,2,  126.390,1,  162.500,6,  143.990,2,   35.360,2,    0.000,2,    2.468,2, -999.000,9, -999.000,9, -999.000,9, -999.000,9, -999.000,9
           NA,    P10N,    102,   1,-999.0,     -99,  2,20050605,2242,  32.8338,  149.3525,  6003, 5250.300,    1.528,   34.692,2,   34.693,2,  127.550,1,  163.100,2,  143.300,2,   35.310,2,    0.000,2,    2.467,2, -999.000,9, -999.000,9, -999.000,9, -999.000,9, -999.000,9
           NA,    P10N,    102,   1,-999.0,     -99,  2,20050605,2242,  32.8338,  149.3525,  6003, 5500.200,    1.554,   34.693,2,   34.693,2,  129.260,1,  164.310,2,  142.620,2,   35.240,2,    0.000,2,    2.462,2, -999.000,9, -999.000,9, -999.000,9, -999.000,9, -999.000,9
           NA,    P10N,    102,   1,-999.0,     -99,  2,20050605,2242,  32.8338,  149.3525,  6003, 5750.000,    1.582,   34.694,2,   34.694,2,  130.780,1,  165.190,2,  141.840,2,   35.150,2,    0.000,2,    2.459,2, -999.000,9, -999.000,9, -999.000,9, -999.000,9, -999.000,9
           NA,    P10N,    102,   1,-999.0,     -99,  2,20050605,2242,  32.8338,  149.3525,  6003, 6107.900,    1.618,   34.695,2,   34.695,6,  134.290,1,  167.810,2,  139.520,2,   34.980,2,    0.000,2,    2.443,2, -999.000,9, -999.000,9, -999.000,9, -999.000,9, -999.000,9