BOTTLE,20214413JOAExport
EXPOCODE,SECT_ID,STNNBR,CASTNO,SAMPNO,BTLNBR,BTLNBR_FLAG_W,DATE,TIME,LATITUDE,LONGITUDE,DEPTH,CTDPRS,CTDTMP,CTDSAL,CTDSAL_FLAG_W,SALNTY,SALNTY_FLAG_W,CTDOXY,CTDOXY_FLAG_W,OXYGEN,OXYGEN_FLAG_W,SILCAT,SILCAT_FLAG_W,NITRAT,NITRAT_FLAG_W,NITRIT,NITRIT_FLAG_W,PHSPHT,PHSPHT_FLAG_W,CFC-11,CFC-11_FLAG_W,CFC-12,CFC-12_FLAG_W,SF6,SF6_FLAG_W,TCARBN,TCARBN_FLAG_W,ALKALI,ALKALI_FLAG_W
,,,,,,,,,,,,,DB,ITS-90,PSS-78,,PSS-78,,UMOL/KG,,UMOL/KG,,UMOL/KG,,UMOL/KG,,UMOL/KG,,UMOL/KG,,PMOL/KG,,PMOL/KG,,FMOL/KG,,UMOL/KG,,UMOL/KG
           NA,    P10N,    123,   1,-999.0,     -99,  2,20050531,0223,  38.2637,  146.6385,  5361,   10.000,   16.554,   34.532,2,   34.532,2,  241.880,1,  258.260,2,    5.720,2,    0.350,2,    0.030,2,    0.137,2,    2.533,2,    1.465,2, -999.000,9, -999.000,9, -999.000,9
           NA,    P10N,    123,   1,-999.0,     -99,  2,20050531,0223,  38.2637,  146.6385,  5361,   99.400,   12.746,   34.465,2,   34.467,2,  226.350,1,  241.620,2,   10.330,2,    8.010,2,    0.080,2,    0.615,2,    2.936,2,    1.608,2, -999.000,9, -999.000,9, -999.000,9
           NA,    P10N,    123,   1,-999.0,     -99,  2,20050531,0223,  38.2637,  146.6385,  5361,  151.100,   10.806,   34.265,2,   34.263,2,  235.920,1,  251.090,2,   14.100,2,   10.680,2,    0.020,2,    0.805,2,    3.273,2,    1.776,2, -999.000,9, -999.000,9, -999.000,9
           NA,    P10N,    123,   1,-999.0,     -99,  2,20050531,0223,  38.2637,  146.6385,  5361,  200.100,    9.654,   34.153,2,   34.156,2,  234.760,1,  249.620,2,   17.580,2,   12.260,2,    0.020,2,    0.929,2,    3.354,2,    1.810,2, -999.000,9, -999.000,9, -999.000,9
           NA,    P10N,    123,   1,-999.0,     -99,  2,20050531,0223,  38.2637,  146.6385,  5361,  248.800,    8.789,   34.066,2,   34.066,2,  226.950,1,  241.400,2,   22.940,2,   14.660,2,    0.040,2,    1.123,2,    3.380,6,    1.795,6, -999.000,9, -999.000,9, -999.000,9
           NA,    P10N,    123,   1,-999.0,     -99,  2,20050531,0223,  38.2637,  146.6385,  5361,  301.800,    7.500,   33.942,2,   33.946,2,  212.040,1,  224.870,2,   32.110,2,   19.000,2,    0.030,2,    1.437,2,    3.423,2,    1.767,2, -999.000,9, -999.000,9, -999.000,9
           NA,    P10N,    123,   1,-999.0,     -99,  2,20050531,0223,  38.2637,  146.6385,  5361,  403.600,    5.612,   33.903,2,   33.903,2,  157.010,1,  166.940,2,   56.410,2,   28.130,2,    0.010,2,    2.115,2,    2.760,2,    1.427,2, -999.000,9, -999.000,9, -999.000,9
           NA,    P10N,    123,   1,-999.0,     -99,  2,20050531,0223,  38.2637,  146.6385,  5361,  502.000,    4.890,   34.007,2,   34.006,6,  107.790,1,  114.270,2,   76.570,2,   34.100,2,    0.000,2,    2.510,2,    1.975,2,    0.988,2, -999.000,9, -999.000,9, -999.000,9
           NA,    P10N,    123,   1,-999.0,     -99,  2,20050531,0223,  38.2637,  146.6385,  5361,  604.900,    4.476,   34.122,2,   34.118,2,   73.720,1,   77.470,2,   93.650,2,   37.810,2,    0.000,2,    2.760,2,    1.246,2,    0.605,2, -999.000,9, -999.000,9, -999.000,9
           NA,    P10N,    123,   1,-999.0,     -99,  2,20050531,0223,  38.2637,  146.6385,  5361,  701.700,    3.789,   34.164,2,   34.178,2,   52.880,1,   55.920,2,  109.300,2,   40.280,2,    0.000,2,    2.936,2,    0.882,2,    0.436,2, -999.000,9, -999.000,9, -999.000,9
           NA,    P10N,    123,   1,-999.0,     -99,  2,20050531,0223,  38.2637,  146.6385,  5361,  802.500,    3.368,   34.194,2,   34.193,2,   39.570,1,   40.330,2,  123.500,2,   42.350,2,    0.000,2,    3.069,2,    0.775,6,    0.383,6, -999.000,9, -999.000,9, -999.000,9
           NA,    P10N,    123,   1,-999.0,     -99,  2,20050531,0223,  38.2637,  146.6385,  5361,  904.400,    3.539,   34.347,2,   34.345,2,   47.830,1,   49.070,2,  124.230,2,   41.120,2,    0.000,2,    2.972,2,    0.273,2,    0.137,2, -999.000,9, -999.000,9, -999.000,9
           NA,    P10N,    123,   1,-999.0,     -99,  2,20050531,0223,  38.2637,  146.6385,  5361, 1001.900,    3.252,   34.384,2,   34.383,6,   45.090,1,   46.320,2,  132.120,2,   41.700,2,    0.000,2,    3.021,2,    0.181,2,    0.098,2, -999.000,9, -999.000,9, -999.000,9
           NA,    P10N,    123,   1,-999.0,     -99,  2,20050531,0223,  38.2637,  146.6385,  5361, 1201.600,    2.757,   34.447,2,   34.447,2,   41.670,1,   42.580,6,  145.620,2,   42.380,2,    0.000,2,    3.057,2,    0.089,2,    0.047,2, -999.000,9, -999.000,9, -999.000,9
           NA,    P10N,    123,   1,-999.0,     -99,  2,20050531,0223,  38.2637,  146.6385,  5361, 1400.100,    2.458,   34.495,2,   34.495,2,   42.340,1,   43.060,2,  155.100,2,   42.770,2,    0.000,2,    3.059,2,    0.033,2,    0.024,2, -999.000,9, -999.000,9, -999.000,9
           NA,    P10N,    123,   1,-999.0,     -99,  2,20050531,0223,  38.2637,  146.6385,  5361, 1601.300,    2.246,   34.536,2,   34.536,2,   49.400,1,   50.850,2,  160.020,2,   42.420,2,    0.000,2,    3.043,2,    0.012,2,    0.004,2, -999.000,9, -999.000,9, -999.000,9
           NA,    P10N,    123,   1,-999.0,     -99,  2,20050531,0223,  38.2637,  146.6385,  5361, 1800.500,    2.098,   34.565,2,   34.565,2,   58.260,1,   60.590,2,  162.550,2,   42.000,2,    0.000,2,    2.998,2,    0.001,2,    0.002,2, -999.000,9, -999.000,9, -999.000,9
           NA,    P10N,    123,   1,-999.0,     -99,  2,20050531,0223,  38.2637,  146.6385,  5361, 2001.400,    1.952,   34.594,2,   34.594,2,   70.360,1,   73.960,2,  163.000,2,   41.120,2,    0.000,2,    2.940,2,   -0.003,2,   -0.002,2, -999.000,9, -999.000,9, -999.000,9
           NA,    P10N,    123,   1,-999.0,     -99,  2,20050531,0223,  38.2637,  146.6385,  5361, 2199.900,    1.833,   34.616,2,   34.616,6,   82.020,1,   87.020,2,  161.490,2,   40.200,2,    0.020,2,    2.870,2,   -0.004,2,   -0.002,2, -999.000,9, -999.000,9, -999.000,9
           NA,    P10N,    123,   1,-999.0,     -99,  2,20050531,0223,  38.2637,  146.6385,  5361, 2399.400,    1.746,   34.631,2,   34.632,2,   92.180,1,   98.140,2,  161.550,2,   39.750,2,    0.000,2,    2.819,2,   -0.005,2,    0.000,2, -999.000,9, -999.000,9, -999.000,9
           NA,    P10N,    123,   1,-999.0,     -99,  2,20050531,0223,  38.2637,  146.6385,  5361, 2599.600,    1.656,   34.646,2,   34.646,2,  102.360,1,  109.590,2,  160.100,2,   39.040,2,    0.000,2,    2.762,2,   -0.005,2,    0.002,2, -999.000,9, -999.000,9, -999.000,9
           NA,    P10N,    123,   1,-999.0,     -99,  2,20050531,0223,  38.2637,  146.6385,  5361, 2800.100,    1.599,   34.656,2,   34.655,2,  110.250,1,  118.310,2,  158.410,2,   38.350,2,    0.000,2,    2.714,2,    0.001,2,   -0.001,2, -999.000,9, -999.000,9, -999.000,9
           NA,    P10N,    123,   1,-999.0,     -99,  2,20050531,0223,  38.2637,  146.6385,  5361, 3000.300,    1.557,   34.663,2,   34.663,2,  116.730,1,  125.550,6,  157.200,2,   37.940,2,    0.000,2,    2.673,2,   -0.003,2,    0.000,2, -999.000,9, -999.000,9, -999.000,9
           NA,    P10N,    123,   1,-999.0,     -99,  2,20050531,0223,  38.2637,  146.6385,  5361, 3250.700,    1.519,   34.670,2,   34.671,6,  123.580,1,  133.030,2,  155.470,2,   37.520,2,    0.000,2,    2.630,2,    0.000,2,    0.000,2, -999.000,9, -999.000,9, -999.000,9
           NA,    P10N,    123,   1,-999.0,     -99,  2,20050531,0223,  38.2637,  146.6385,  5361, 3499.900,    1.483,   34.676,2,   34.676,2,  130.410,1,  140.650,2,  153.530,2,   37.030,2,    0.000,2,    2.599,2,   -0.001,2,    0.001,2, -999.000,9, -999.000,9, -999.000,9
           NA,    P10N,    123,   1,-999.0,     -99,  2,20050531,0223,  38.2637,  146.6385,  5361, 3750.500,    1.465,   34.681,2,   34.681,2,  135.450,1,  145.820,2,  152.120,2,   36.670,2,    0.000,2,    2.575,2,   -0.005,2,   -0.002,2, -999.000,9, -999.000,9, -999.000,9
           NA,    P10N,    123,   1,-999.0,     -99,  2,20050531,0223,  38.2637,  146.6385,  5361, 3999.500,    1.457,   34.685,2,   34.685,2,  139.810,1,  150.570,2,  151.030,2,   36.360,2,    0.000,2,    2.543,2,   -0.002,2,    0.001,2, -999.000,9, -999.000,9, -999.000,9
           NA,    P10N,    123,   1,-999.0,     -99,  2,20050531,0223,  38.2637,  146.6385,  5361, 4249.700,    1.459,   34.687,2,   34.687,2,  143.390,1,  154.070,2,  149.950,2,   36.140,2,    0.000,2,    2.531,2,    0.005,2,    0.002,2, -999.000,9, -999.000,9, -999.000,9
           NA,    P10N,    123,   1,-999.0,     -99,  2,20050531,0223,  38.2637,  146.6385,  5361, 4499.700,    1.469,   34.689,2,   34.689,6,  146.170,1,  156.370,2,  149.160,2,   35.970,2,    0.000,2,    2.517,2,    0.000,2,    0.000,2, -999.000,9, -999.000,9, -999.000,9
           NA,    P10N,    123,   1,-999.0,     -99,  2,20050531,0223,  38.2637,  146.6385,  5361, 4750.000,    1.484,   34.691,2,   34.691,2,  148.780,1,  158.520,2,  148.520,2,   35.760,2,    0.000,2,    2.514,2,    0.005,2,    0.001,2, -999.000,9, -999.000,9, -999.000,9
           NA,    P10N,    123,   1,-999.0,     -99,  2,20050531,0223,  38.2637,  146.6385,  5361, 4999.600,    1.506,   34.692,2,   34.692,2,  150.600,1,  159.390,6,  148.670,2,   35.730,2,    0.000,2,    2.497,2,    0.006,2,    0.004,2, -999.000,9, -999.000,9, -999.000,9
           NA,    P10N,    123,   1,-999.0,     -99,  2,20050531,0223,  38.2637,  146.6385,  5361, 5248.700,    1.527,   34.693,2,   34.693,2,  153.660,1,  161.350,2,  147.050,2,   35.540,2,    0.000,2,    2.490,2,    0.003,2,    0.000,2, -999.000,9, -999.000,9, -999.000,9
           NA,    P10N,    123,   1,-999.0,     -99,  2,20050531,0223,  38.2637,  146.6385,  5361, 5450.600,    1.547,   34.694,2,   34.693,2,  156.250,1,  162.720,2,  145.410,2,   35.570,2,    0.000,2,    2.483,2, -999.000,9, -999.000,9, -999.000,9, -999.000,9, -999.000,9
           NA,    P10N,    123,   1,-999.0,     -99,  2,20050531,0223,  38.2637,  146.6385,  5361, 5450.600,    1.547,   34.694,2,   34.693,6,  156.310,1,  162.790,2,  145.330,2,   35.540,2,    0.000,2,    2.480,2,    0.007,2,    0.000,2, -999.000,9, -999.000,9, -999.000,9
           NA,    P10N,    124,   1,-999.0,     -99,  2,20050530,1408,  38.5093,  146.4813,  5392,   10.100,   17.352,   34.479,2,   34.499,2,  228.750,1,  247.880,6,    4.390,2,    0.600,2,    0.030,2,    0.134,2,    2.567,2,    1.456,2, -999.000,9, 1983.300,2, 2280.100,2
           NA,    P10N,    124,   1,-999.0,     -99,  2,20050530,1408,  38.5093,  146.4813,  5392,   50.400,   15.111,   34.612,2,   34.610,2,  179.670,1,  197.340,2,   12.050,2,    9.150,2,    0.040,2,    0.684,2, -999.000,9, -999.000,9, -999.000,9, 2055.700,6, 2290.200,2
           NA,    P10N,    124,   1,-999.0,     -99,  2,20050530,1408,  38.5093,  146.4813,  5392,  100.500,   12.384,   34.319,2,   34.320,2,  237.180,1,  262.150,2,    4.680,2,    4.140,2,    0.280,2,    0.501,2,    3.370,2,    1.806,2, -999.000,9, 2039.400,2, 2284.100,6
           NA,    P10N,    124,   1,-999.0,     -99,  2,20050530,1408,  38.5093,  146.4813,  5392,  150.500,   11.351,   34.321,2,   34.320,2,  223.610,1,  249.590,2,   13.270,2,    9.990,2,    0.020,2,    0.763,2, -999.000,9, -999.000,9, -999.000,9, 2071.100,2, 2279.600,2
           NA,    P10N,    124,   1,-999.0,     -99,  2,20050530,1408,  38.5093,  146.4813,  5392,  200.100,   10.519,   34.242,2,   34.240,2,  212.210,1,  238.490,2,   17.410,2,   12.350,2,    0.010,2,    0.935,2,    3.363,2,    1.771,2, -999.000,9, 2084.700,2, 2279.600,2
           NA,    P10N,    124,   1,-999.0,     -99,  2,20050530,1408,  38.5093,  146.4813,  5392,  249.300,    9.108,   34.089,2,   34.131,2,  201.980,1,  210.780,2,   27.750,2,   16.960,2,    0.020,2,    1.283,2,    3.154,6,    1.622,6, -999.000,9, 2120.000,2, 2281.600,2
           NA,    P10N,    124,   1,-999.0,     -99,  2,20050530,1408,  38.5093,  146.4813,  5392,  300.200,    6.507,   33.811,2,   33.805,2,  200.370,1,  234.770,2,   35.380,2,   19.750,2,    0.020,2,    1.539,2,    3.890,2,    1.988,2, -999.000,9, 2140.900,2, 2271.700,2
           NA,    P10N,    124,   1,-999.0,     -99,  2,20050530,1408,  38.5093,  146.4813,  5392,  401.400,    5.858,   34.007,2,   34.003,2,  122.300,1,  143.220,2,   63.270,2,   29.890,2,    0.010,2,    2.231,2,    2.351,2,    1.179,2, -999.000,9, 2217.200,2, 2297.700,2
           NA,    P10N,    124,   1,-999.0,     -99,  2,20050530,1408,  38.5093,  146.4813,  5392,  500.000,    4.572,   33.993,2,   33.989,6,   99.590,1,  111.390,2,   82.290,2,   34.970,2,    0.010,2,    2.588,2,    2.100,2,    1.040,2, -999.000,9, 2265.300,2, 2310.500,2
           NA,    P10N,    124,   1,-999.0,     -99,  2,20050530,1408,  38.5093,  146.4813,  5392,  601.000,    3.687,   34.005,2,   34.019,2,   72.340,1,   76.520,2,   99.920,2,   39.210,2,    0.000,2,    2.872,2,    1.728,2,    0.833,2, -999.000,9, -999.000,5, 2325.200,2
           NA,    P10N,    124,   1,-999.0,     -99,  2,20050530,1408,  38.5093,  146.4813,  5392,  700.400,    4.112,   34.229,2,   34.222,2,   55.880,1,   56.540,2,  109.240,2,   40.070,2,    0.010,2,    2.913,2,    0.754,2,    0.352,2, -999.000,9, 2317.800,6, 2343.800,2
           NA,    P10N,    124,   1,-999.0,     -99,  2,20050530,1408,  38.5093,  146.4813,  5392,  800.100,    3.829,   34.307,2,   34.305,2,   52.290,1,   52.660,2,  118.020,2,   40.640,2,    0.000,2,    2.944,2,    0.442,2,    0.206,2, -999.000,9, 2333.900,2, 2357.800,6
           NA,    P10N,    124,   1,-999.0,     -99,  2,20050530,1408,  38.5093,  146.4813,  5392,  899.600,    3.456,   34.357,2,   34.358,2,   48.230,1,   49.630,2,  126.790,2,   41.130,2,    0.000,2,    2.979,2,    0.229,2,    0.131,2, -999.000,9, 2343.000,2, 2371.200,2
           NA,    P10N,    124,   1,-999.0,     -99,  2,20050530,1408,  38.5093,  146.4813,  5392, 1000.800,    3.192,   34.388,2,   34.387,2,   43.800,1,   44.070,2,  134.390,2,   42.100,2,    0.000,2,    3.036,2,    0.145,2,    0.073,2, -999.000,9, 2352.400,2, 2375.900,2
           NA,    P10N,    124,   1,-999.0,     -99,  2,20050530,1408,  38.5093,  146.4813,  5392, 1200.300,    2.761,   34.447,2,   34.448,2,   41.300,1,   41.360,6,  146.560,2,   42.690,2,    0.000,2,    3.075,2,    0.068,2,    0.028,2, -999.000,9, 2369.100,2, 2390.400,2
           NA,    P10N,    124,   1,-999.0,     -99,  2,20050530,1408,  38.5093,  146.4813,  5392, 1400.300,    2.449,   34.495,2,   34.495,2,   43.610,1,   43.820,2,  155.610,2,   42.800,2,    0.000,2,    3.076,2,    0.041,2,    0.018,2, -999.000,9, 2379.000,2, 2398.900,2
           NA,    P10N,    124,   1,-999.0,     -99,  2,20050530,1408,  38.5093,  146.4813,  5392, 1599.900,    2.253,   34.536,2,   34.536,2,   50.580,1,   51.070,2,  159.900,2,   42.450,2,    0.000,2,    3.041,2,    0.012,2,    0.001,2, -999.000,9, 2378.200,2, 2409.000,2
           NA,    P10N,    124,   1,-999.0,     -99,  2,20050530,1408,  38.5093,  146.4813,  5392, 1800.200,    2.088,   34.567,2,   34.568,2,   60.150,1,   61.390,2,  162.660,2,   41.900,2,    0.000,2,    2.991,2,    0.004,2,    0.013,2, -999.000,9, 2370.100,2, 2412.600,2
           NA,    P10N,    124,   1,-999.0,     -99,  2,20050530,1408,  38.5093,  146.4813,  5392, 2001.100,    1.937,   34.597,2,   34.597,2,   73.440,1, -999.000,5,  162.600,2,   41.050,2,    0.000,2,    2.922,2,   -0.001,2,   -0.001,2, -999.000,9, 2369.800,2, 2419.100,2
           NA,    P10N,    124,   1,-999.0,     -99,  2,20050530,1408,  38.5093,  146.4813,  5392, 2201.000,    1.838,   34.615,2,   34.615,6,   82.890,1,   86.410,2,  162.610,2,   40.430,2,    0.000,2,    2.874,2,    0.001,2,   -0.011,2, -999.000,9, 2363.700,2, -999.000,3
           NA,    P10N,    124,   1,-999.0,     -99,  2,20050530,1408,  38.5093,  146.4813,  5392, 2399.300,    1.737,   34.632,2,   34.632,2,   94.480,1, -999.000,5,  161.400,2,   39.590,2,    0.000,2,    2.811,2, -999.000,9, -999.000,9, -999.000,9, 2357.700,2, 2421.600,2
           NA,    P10N,    124,   1,-999.0,     -99,  2,20050530,1408,  38.5093,  146.4813,  5392, 2399.400,    1.737,   34.632,2,   34.632,2,   94.500,1,   99.110,2,  161.110,2,   39.660,2,    0.000,2,    2.811,2,    0.000,2,   -0.002,2, -999.000,9, 2354.600,6, 2422.200,2
           NA,    P10N,    124,   1,-999.0,     -99,  2,20050530,1408,  38.5093,  146.4813,  5392, 2599.700,    1.670,   34.644,2,   34.644,2,  103.180,1,  108.630,2,  160.020,2,   39.030,2,    0.000,2,    2.767,2,    0.001,2,   -0.014,2, -999.000,9, 2351.000,2, 2421.200,6
           NA,    P10N,    124,   1,-999.0,     -99,  2,20050530,1408,  38.5093,  146.4813,  5392, 2799.900,    1.606,   34.655,2,   34.655,2,  111.440,1,  117.640,2,  158.480,2,   38.450,2,    0.010,2,    2.719,2, -999.000,9, -999.000,9, -999.000,9, 2345.900,2, 2421.500,2
           NA,    P10N,    124,   1,-999.0,     -99,  2,20050530,1408,  38.5093,  146.4813,  5392, 3001.400,    1.563,   34.662,2,   34.662,2,  118.180,1,  125.090,6,  157.230,2,   37.990,2,    0.000,2,    2.684,2, -999.000,9, -999.000,9, -999.000,9, 2342.300,2, 2420.400,2
           NA,    P10N,    124,   1,-999.0,     -99,  2,20050530,1408,  38.5093,  146.4813,  5392, 3251.200,    1.520,   34.670,2,   34.670,6,  125.390,1,  132.860,2,  155.540,2,   37.440,2,    0.000,2,    2.641,2, -999.000,9, -999.000,9, -999.000,9, 2338.100,2, -999.000,3
           NA,    P10N,    124,   1,-999.0,     -99,  2,20050530,1408,  38.5093,  146.4813,  5392, 3500.900,    1.488,   34.676,2,   34.676,2,  131.780,1,  139.810,2,  154.020,2,   36.950,2,    0.000,2,    2.603,2, -999.000,9, -999.000,9, -999.000,9, 2330.500,2, 2421.600,2
           NA,    P10N,    124,   1,-999.0,     -99,  3,20050530,1408,  38.5093,  146.4813,  5392, 3501.000,    1.488,   34.676,2,   34.676,2,  131.840,1,  139.920,2,  154.000,2,   36.900,2,    0.000,2,    2.605,2, -999.000,9, -999.000,9, -999.000,9, 2330.300,2, 2420.900,2
           NA,    P10N,    124,   1,-999.0,     -99,  2,20050530,1408,  38.5093,  146.4813,  5392, 3751.000,    1.472,   34.680,2,   34.680,2,  136.890,1,  145.430,2,  152.580,2,   36.650,2,    0.000,2,    2.573,2, -999.000,9, -999.000,9, -999.000,9, 2327.400,2, 2421.000,2
           NA,    P10N,    124,   1,-999.0,     -99,  2,20050530,1408,  38.5093,  146.4813,  5392, 4000.700,    1.464,   34.684,2,   34.685,2,  141.220,1,  149.630,2,  151.440,2,   36.300,2,    0.000,2,    2.551,2, -999.000,9, -999.000,9, -999.000,9, 2324.000,2, 2419.200,2
           NA,    P10N,    124,   1,-999.0,     -99,  2,20050530,1408,  38.5093,  146.4813,  5392, 4249.900,    1.464,   34.687,2,   34.687,2,  144.980,1,  153.340,2,  150.710,2,   36.050,2,    0.000,2,    2.533,2, -999.000,9, -999.000,9, -999.000,9, 2320.300,6, 2420.600,2
           NA,    P10N,    124,   1,-999.0,     -99,  2,20050530,1408,  38.5093,  146.4813,  5392, 4500.600,    1.471,   34.689,2,   34.689,6,  148.150,1,  156.380,2,  149.220,2,   35.830,2,    0.000,2,    2.518,2, -999.000,9, -999.000,9, -999.000,9, 2317.800,2, 2419.100,6
           NA,    P10N,    124,   1,-999.0,     -99,  2,20050530,1408,  38.5093,  146.4813,  5392, 4750.300,    1.487,   34.690,2,   34.691,2,  149.940,1,  158.320,2,  148.520,2,   35.730,2,    0.000,2,    2.509,2, -999.000,9, -999.000,9, -999.000,9, 2316.800,2, 2420.000,2
           NA,    P10N,    124,   1,-999.0,     -99,  2,20050530,1408,  38.5093,  146.4813,  5392, 5000.700,    1.506,   34.692,2,   34.692,2,  151.780,1,  159.670,6,  148.460,2,   35.600,2,    0.000,2,    2.501,2, -999.000,9, -999.000,9, -999.000,9, 2316.800,2, 2419.100,2
           NA,    P10N,    124,   1,-999.0,     -99,  2,20050530,1408,  38.5093,  146.4813,  5392, 5250.100,    1.529,   34.693,2,   34.693,6,  153.860,1,  160.880,2,  148.000,2,   35.480,2,    0.000,2,    2.496,2, -999.000,9, -999.000,9, -999.000,9, 2314.500,2, 2415.000,2