BOTTLE,20214413JOAExport
EXPOCODE,SECT_ID,STNNBR,CASTNO,SAMPNO,BTLNBR,BTLNBR_FLAG_W,DATE,TIME,LATITUDE,LONGITUDE,DEPTH,CTDPRS,CTDTMP,CTDSAL,CTDSAL_FLAG_W,SALNTY,SALNTY_FLAG_W,CTDOXY,CTDOXY_FLAG_W,OXYGEN,OXYGEN_FLAG_W,SILCAT,SILCAT_FLAG_W,NITRAT,NITRAT_FLAG_W,NITRIT,NITRIT_FLAG_W,PHSPHT,PHSPHT_FLAG_W,CFC-11,CFC-11_FLAG_W,CFC-12,CFC-12_FLAG_W,SF6,SF6_FLAG_W,TCARBN,TCARBN_FLAG_W,ALKALI,ALKALI_FLAG_W
,,,,,,,,,,,,,DB,ITS-90,PSS-78,,PSS-78,,UMOL/KG,,UMOL/KG,,UMOL/KG,,UMOL/KG,,UMOL/KG,,UMOL/KG,,PMOL/KG,,PMOL/KG,,FMOL/KG,,UMOL/KG,,UMOL/KG
           NA,    P10N,    129,   1,-999.0,     -99,  2,20050529,1053,  39.7590,  145.6023,  5280,   10.300,   10.020,   33.492,2,   33.519,2,  299.930,1,  319.040,6,    2.750,2,    4.000,2,    0.170,2,    0.568,2,    4.158,2,    2.213,2, -999.000,9, -999.000,9, -999.000,9
           NA,    P10N,    129,   1,-999.0,     -99,  2,20050529,1053,  39.7590,  145.6023,  5280,   50.300,    6.779,   33.726,2,   33.731,2,  272.700,1,  287.630,2,   14.590,2,   12.310,2,    0.160,2,    1.101,2,    4.257,2,    2.276,2, -999.000,9, -999.000,9, -999.000,9
           NA,    P10N,    129,   1,-999.0,     -99,  2,20050529,1053,  39.7590,  145.6023,  5280,  100.800,    7.392,   33.908,2,   33.905,2,  263.320,1,  278.020,2,   20.000,2,   13.110,2,    0.040,2,    1.053,2,    4.011,2,    2.145,2, -999.000,9, -999.000,9, -999.000,9
           NA,    P10N,    129,   1,-999.0,     -99,  2,20050529,1053,  39.7590,  145.6023,  5280,  150.500,    5.630,   33.681,2,   33.676,2,  262.150,1,  276.940,2,   29.310,2,   16.660,2,    0.030,2,    1.342,2,    4.250,2,    2.259,2, -999.000,9, -999.000,9, -999.000,9
           NA,    P10N,    129,   1,-999.0,     -99,  2,20050529,1053,  39.7590,  145.6023,  5280,  198.800,    3.635,   33.479,2,   33.456,2,  256.760,1,  272.120,2,   44.150,2,   23.060,2,    0.020,2,    1.837,2,    4.572,2,    2.416,2, -999.000,9, -999.000,9, -999.000,9
           NA,    P10N,    129,   1,-999.0,     -99,  2,20050529,1053,  39.7590,  145.6023,  5280,  249.900,    1.959,   33.382,2,   33.386,2,  242.330,1,  255.030,2,   57.450,2,   28.020,2,    0.010,2,    2.205,2,    4.625,6,    2.420,6, -999.000,9, -999.000,9, -999.000,9
           NA,    P10N,    129,   1,-999.0,     -99,  2,20050529,1053,  39.7590,  145.6023,  5280,  301.100,    2.112,   33.455,2,   33.465,2,  213.490,1,  225.110,2,   64.300,2,   30.140,2,    0.010,2,    2.346,2,    4.292,2,    2.211,2, -999.000,9, -999.000,9, -999.000,9
           NA,    P10N,    129,   1,-999.0,     -99,  2,20050529,1053,  39.7590,  145.6023,  5280,  401.400,    2.608,   33.630,2,   33.641,2,  158.480,1,  165.520,2,   78.200,2,   34.040,2,    0.010,2,    2.583,2,    3.463,2,    1.731,2, -999.000,9, -999.000,9, -999.000,9
           NA,    P10N,    129,   1,-999.0,     -99,  3,20050529,1053,  39.7590,  145.6023,  5280,  500.500,    3.428,   33.878,2,   33.879,6,   95.410,1,   99.470,2,   92.690,2,   38.130,2,    0.010,2,    2.812,2,    2.199,2,    1.117,2, -999.000,9, -999.000,9, -999.000,9
           NA,    P10N,    129,   1,-999.0,     -99,  2,20050529,1053,  39.7590,  145.6023,  5280,  600.100,    3.456,   33.986,2,   33.996,2,   67.590,1,   66.400,2,  104.610,2,   40.620,2,    0.000,2,    2.966,2,    1.624,2,    0.805,2, -999.000,9, -999.000,9, -999.000,9
           NA,    P10N,    129,   1,-999.0,     -99,  2,20050529,1053,  39.7590,  145.6023,  5280,  699.700,    3.384,   34.112,2,   34.116,2,   41.070,1,   41.640,2,  117.650,2,   42.420,2,    0.010,2,    3.080,2,    1.022,2,    0.496,2, -999.000,9, -999.000,9, -999.000,9
           NA,    P10N,    129,   1,-999.0,     -99,  2,20050529,1053,  39.7590,  145.6023,  5280,  802.300,    3.221,   34.215,2,   34.216,2,   37.370,1,   37.290,2,  127.980,2,   42.570,2,    0.010,2,    3.091,2,    0.691,6,    0.331,6, -999.000,9, -999.000,9, -999.000,9
           NA,    P10N,    129,   1,-999.0,     -99,  2,20050529,1053,  39.7590,  145.6023,  5280,  899.900,    3.079,   34.285,2,   34.285,2,   34.970,1,   34.380,2,  135.440,2,   42.770,2,    0.000,2,    3.097,2,    0.471,2,    0.227,2, -999.000,9, -999.000,9, -999.000,9
           NA,    P10N,    129,   1,-999.0,     -99,  2,20050529,1053,  39.7590,  145.6023,  5280, 1000.300,    2.963,   34.351,2,   34.350,6,   35.850,1, -999.000,5,  141.060,2,   42.720,2,    0.000,2,    3.094,2,    0.294,2,    0.142,2, -999.000,9, -999.000,9, -999.000,9
           NA,    P10N,    129,   1,-999.0,     -99,  2,20050529,1053,  39.7590,  145.6023,  5280, 1201.600,    2.544,   34.409,2,   34.409,2,   34.060,1,   33.690,6,  155.080,2,   43.170,2,    0.000,2,    3.121,2,    0.219,2,    0.105,2, -999.000,9, -999.000,9, -999.000,9
           NA,    P10N,    129,   1,-999.0,     -99,  2,20050529,1053,  39.7590,  145.6023,  5280, 1400.700,    2.368,   34.466,2,   34.467,2,   42.340,1,   42.640,2,  159.030,2,   42.640,2,    0.000,2,    3.080,2,    0.145,2,    0.074,2, -999.000,9, -999.000,9, -999.000,9
           NA,    P10N,    129,   1,-999.0,     -99,  2,20050529,1053,  39.7590,  145.6023,  5280, 1599.800,    2.242,   34.513,2,   34.514,2,   49.430,1,   49.970,2,  161.080,2,   42.350,2,    0.000,2,    3.051,2,    0.077,2,    0.032,2, -999.000,9, -999.000,9, -999.000,9
           NA,    P10N,    129,   1,-999.0,     -99,  2,20050529,1053,  39.7590,  145.6023,  5280, 1800.500,    2.128,   34.559,2,   34.558,2,   58.100,1,   59.600,2,  161.800,2,   41.890,2,    0.000,2,    3.003,2,    0.022,2,    0.008,2, -999.000,9, -999.000,9, -999.000,9
           NA,    P10N,    129,   1,-999.0,     -99,  2,20050529,1053,  39.7590,  145.6023,  5280, 2001.100,    1.978,   34.589,2,   34.589,2,   69.520,1,   72.200,2,  162.900,2,   41.240,2,    0.000,2,    2.943,2,    0.004,2,   -0.001,2, -999.000,9, -999.000,9, -999.000,9
           NA,    P10N,    129,   1,-999.0,     -99,  2,20050529,1053,  39.7590,  145.6023,  5280, 2199.300,    1.868,   34.610,2,   34.609,6,   79.830,1,   83.580,2,  162.760,2,   40.500,2,    0.000,2,    2.886,2, -999.000,3,    0.001,2, -999.000,9, -999.000,9, -999.000,9
           NA,    P10N,    129,   1,-999.0,     -99,  2,20050529,1053,  39.7590,  145.6023,  5280, 2399.900,    1.747,   34.631,2,   34.630,2,   92.880,1,   97.950,2,  161.610,2,   39.670,2,    0.000,2,    2.817,2,   -0.001,2,    0.000,2, -999.000,9, -999.000,9, -999.000,9
           NA,    P10N,    129,   1,-999.0,     -99,  2,20050529,1053,  39.7590,  145.6023,  5280, 2600.400,    1.668,   34.644,2,   34.644,2,  102.620,1,  108.580,2,  160.080,2,   38.930,2,    0.000,2,    2.764,2,   -0.002,2,    0.002,2, -999.000,9, -999.000,9, -999.000,9
           NA,    P10N,    129,   1,-999.0,     -99,  2,20050529,1053,  39.7590,  145.6023,  5280, 2800.100,    1.624,   34.652,2,   34.652,2,  109.010,1,  115.690,2,  159.260,2,   38.540,2,    0.000,2,    2.732,2, -999.000,9, -999.000,9, -999.000,9, -999.000,9, -999.000,9
           NA,    P10N,    129,   1,-999.0,     -99,  2,20050529,1053,  39.7590,  145.6023,  5280, 3001.500,    1.572,   34.661,2,   34.661,2,  116.480,1,  123.820,6,  157.640,2,   37.960,2,    0.000,2,    2.691,2, -999.000,9, -999.000,9, -999.000,9, -999.000,9, -999.000,9
           NA,    P10N,    129,   1,-999.0,     -99,  2,20050529,1053,  39.7590,  145.6023,  5280, 3251.400,    1.526,   34.669,2,   34.669,6,  124.130,1,  132.220,2,  155.580,2,   37.380,2,    0.000,2,    2.639,2, -999.000,9, -999.000,9, -999.000,9, -999.000,9, -999.000,9
           NA,    P10N,    129,   1,-999.0,     -99,  2,20050529,1053,  39.7590,  145.6023,  5280, 3499.700,    1.494,   34.675,2,   34.675,2,  130.810,1,  139.420,2,  153.920,2,   36.990,2,    0.000,2,    2.614,2, -999.000,9, -999.000,9, -999.000,9, -999.000,9, -999.000,9
           NA,    P10N,    129,   1,-999.0,     -99,  2,20050529,1053,  39.7590,  145.6023,  5280, 3499.800,    1.493,   34.675,2,   34.676,2,  130.780,1,  139.430,2,  154.320,2,   37.000,2,    0.000,2,    2.611,2, -999.000,9, -999.000,9, -999.000,9, -999.000,9, -999.000,9
           NA,    P10N,    129,   1,-999.0,     -99,  2,20050529,1053,  39.7590,  145.6023,  5280, 3500.000,    1.493,   34.675,2,   34.676,2,  130.760,1,  139.470,2,  154.230,2,   36.970,2,    0.000,2,    2.613,2, -999.000,9, -999.000,9, -999.000,9, -999.000,9, -999.000,9
           NA,    P10N,    129,   1,-999.0,     -99,  2,20050529,1053,  39.7590,  145.6023,  5280, 3750.600,    1.476,   34.680,2,   34.680,2,  136.050,1,  145.040,2,  152.510,2,   36.580,2,    0.000,2,    2.578,2, -999.000,9, -999.000,9, -999.000,9, -999.000,9, -999.000,9
           NA,    P10N,    129,   1,-999.0,     -99,  2,20050529,1053,  39.7590,  145.6023,  5280, 4000.900,    1.467,   34.684,2, -999.000,3,  140.550,1,  149.540,2,  151.430,2,   36.300,2,    0.000,2,    2.562,2, -999.000,9, -999.000,9, -999.000,9, -999.000,9, -999.000,9
           NA,    P10N,    129,   1,-999.0,     -99,  2,20050529,1053,  39.7590,  145.6023,  5280, 4250.500,    1.471,   34.686,2,   34.686,2,  143.830,1,  152.630,2,  150.280,2,   36.060,2,    0.000,2,    2.537,2, -999.000,9, -999.000,9, -999.000,9, -999.000,9, -999.000,9
           NA,    P10N,    129,   1,-999.0,     -99,  2,20050529,1053,  39.7590,  145.6023,  5280, 4502.000,    1.473,   34.689,2,   34.689,6,  147.390,1,  156.070,2,  149.670,2,   35.890,2,    0.000,2,    2.526,2, -999.000,9, -999.000,9, -999.000,9, -999.000,9, -999.000,9
           NA,    P10N,    129,   1,-999.0,     -99,  2,20050529,1053,  39.7590,  145.6023,  5280, 4752.500,    1.489,   34.690,2,   34.690,2,  149.590,1,  157.740,2,  149.670,2,   35.730,2,    0.000,2,    2.510,2, -999.000,9, -999.000,9, -999.000,9, -999.000,9, -999.000,9
           NA,    P10N,    129,   1,-999.0,     -99,  2,20050529,1053,  39.7590,  145.6023,  5280, 5001.500,    1.510,   34.691,2,   34.691,2,  151.710,1,  159.320,6,  148.910,2,   35.630,2,    0.000,2,    2.513,2, -999.000,9, -999.000,9, -999.000,9, -999.000,9, -999.000,9
           NA,    P10N,    129,   1,-999.0,     -99,  2,20050529,1053,  39.7590,  145.6023,  5280, 5249.400,    1.529,   34.693,2,   34.693,2,  154.310,1,  160.970,2,  147.960,2,   35.460,2,    0.000,2,    2.490,2, -999.000,9, -999.000,9, -999.000,9, -999.000,9, -999.000,9
           NA,    P10N,    129,   1,-999.0,     -99,  2,20050529,1053,  39.7590,  145.6023,  5280, 5366.200,    1.543,   34.693,2,   34.693,6,  155.240,1,  161.010,2,  148.410,2,   35.450,2,    0.010,2,    2.506,2, -999.000,9, -999.000,9, -999.000,9, -999.000,9, -999.000,9
           NA,    P10N,    130,   1,-999.0,     -99,  2,20050529,0435,  40.0185,  145.4277,  5312,    9.900,    8.741,   33.629,2,   33.647,2,  301.730,1,  317.210,6,    5.260,2,    5.100,2,    0.190,2,    0.651,2,    4.092,2,    2.187,2, -999.000,9, 2042.300,2, 2269.600,2
           NA,    P10N,    130,   1,-999.0,     -99,  2,20050529,0435,  40.0185,  145.4277,  5312,   50.500,    7.919,   33.813,2,   33.804,2,  277.450,1,  291.330,2,   12.050,2,    9.460,2,    0.210,2,    0.878,2, -999.000,9, -999.000,9, -999.000,9, 2074.100,6, 2267.300,2
           NA,    P10N,    130,   1,-999.0,     -99,  2,20050529,0435,  40.0185,  145.4277,  5312,  100.400,    7.502,   33.924,2,   33.927,2,  265.160,1,  279.550,2,   18.380,2,   12.130,2,    0.020,2,    0.981,2,    3.947,2,    2.111,2, -999.000,9, 2090.600,2, 2269.400,6
           NA,    P10N,    130,   1,-999.0,     -99,  2,20050529,0435,  40.0185,  145.4277,  5312,  150.500,    7.056,   33.857,2,   33.846,2,  265.100,1,  280.160,2,   19.250,2,   12.590,2,    0.030,2,    1.023,2, -999.000,9, -999.000,9, -999.000,9, 2092.400,2, 2270.600,2
           NA,    P10N,    130,   1,-999.0,     -99,  2,20050529,0435,  40.0185,  145.4277,  5312,  202.400,    6.122,   33.741,2,   33.734,2,  262.230,1,  277.560,2,   24.230,2,   14.340,2,    0.030,2,    1.170,2,    4.152,2,    2.218,2, -999.000,9, 2102.400,2, 2268.100,2
           NA,    P10N,    130,   1,-999.0,     -99,  3,20050529,0435,  40.0185,  145.4277,  5312,  250.400,    3.574,   33.465,2,   33.470,2,  260.420,1,  270.130,2,   43.260,2,   22.720,2,    0.030,2,    1.807,2,    4.518,6,    2.381,6, -999.000,9, 2151.500,2, 2262.000,2
           NA,    P10N,    130,   1,-999.0,     -99,  2,20050529,0435,  40.0185,  145.4277,  5312,  301.400,    2.236,   33.416,2,   33.411,2,  235.460,1,  248.850,2,   57.630,2,   27.930,2,    0.020,2,    2.197,2, -999.000,9, -999.000,9, -999.000,9, 2194.200,2, 2268.900,2
           NA,    P10N,    130,   1,-999.0,     -99,  3,20050529,0435,  40.0185,  145.4277,  5312,  401.100,    1.969,   33.497,2,   33.517,2,  190.860,1,  199.270,2,   71.520,2,   32.150,2,    0.010,2,    2.478,2,    4.004,2,    2.033,2, -999.000,9, 2223.100,2, 2281.500,2
           NA,    P10N,    130,   1,-999.0,     -99,  2,20050529,0435,  40.0185,  145.4277,  5312,  500.300,    2.928,   33.765,2,   33.755,6,  119.200,1,  125.430,2,   88.710,2,   36.860,2,    0.010,2,    2.752,2,    2.754,2,    1.411,2, -999.000,9, 2276.200,2, 2303.600,2
           NA,    P10N,    130,   1,-999.0,     -99,  2,20050529,0435,  40.0185,  145.4277,  5312,  600.600,    3.589,   33.962,2,   33.951,2,   76.550,1,   77.830,2,  100.140,2,   39.810,2,    0.000,2,    2.913,2,    1.813,2,    0.905,2, -999.000,9, 2304.600,2, 2318.600,2
           NA,    P10N,    130,   1,-999.0,     -99,  2,20050529,0435,  40.0185,  145.4277,  5312,  700.300,    3.221,   34.031,2,   34.035,2,   45.540,1,   45.370,2,  114.970,2,   42.590,2,    0.010,2,    3.093,2,    1.324,2,    0.647,2, -999.000,9, 2338.400,6, 2331.000,2
           NA,    P10N,    130,   1,-999.0,     -99,  2,20050529,0435,  40.0185,  145.4277,  5312,  802.400,    3.331,   34.182,2,   34.174,2,   39.370,1,   39.160,2,  123.790,2,   42.480,2,    0.010,2,    3.075,2,    0.827,6,    0.401,6, -999.000,9, 2348.300,2, 2349.200,6
           NA,    P10N,    130,   1,-999.0,     -99,  2,20050529,0435,  40.0185,  145.4277,  5312,  900.100,    3.312,   34.267,2,   34.267,2,   37.810,1,   37.270,2,  129.430,2,   42.320,2,    0.010,2,    3.065,2,    0.827,2,    0.401,2, -999.000,9, 2352.700,2, 2353.000,2
           NA,    P10N,    130,   1,-999.0,     -99,  2,20050529,0435,  40.0185,  145.4277,  5312, 1000.500,    2.909,   34.293,2,   34.295,6,   27.960,1,   27.200,2,  141.990,2,   43.550,2,    0.010,2,    3.157,2,    0.424,2,    0.209,2, -999.000,9, 2371.500,2, 2366.600,2
           NA,    P10N,    130,   1,-999.0,     -99,  2,20050529,0435,  40.0185,  145.4277,  5312, 1200.800,    2.614,   34.391,2,   34.391,2,   33.320,1,   32.970,6,  152.680,2,   43.170,2,    0.000,2,    3.129,2,    0.249,2,    0.121,2, -999.000,9, 2375.800,2, 2385.000,2
           NA,    P10N,    130,   1,-999.0,     -99,  2,20050529,0435,  40.0185,  145.4277,  5312, 1401.100,    2.475,   34.476,2,   34.475,2,   41.860,1,   42.040,2,  155.600,2,   42.810,2,    0.000,2,    3.087,2,    0.089,2,    0.047,2, -999.000,9, 2382.000,2, -999.000,5
           NA,    P10N,    130,   1,-999.0,     -99,  2,20050529,0435,  40.0185,  145.4277,  5312, 1599.800,    2.305,   34.524,2,   34.524,2,   48.880,1,   49.660,2,  158.840,2,   42.460,2,    0.000,2,    3.056,2,    0.027,2,    0.010,2, -999.000,9, 2380.000,2, 2405.200,2
           NA,    P10N,    130,   1,-999.0,     -99,  2,20050529,0435,  40.0185,  145.4277,  5312, 1801.900,    2.139,   34.559,2,   34.559,2,   57.970,1,   59.850,2,  161.430,2,   41.940,2,    0.000,2,    3.005,2,    0.021,2,    0.005,2, -999.000,9, 2380.500,2, 2411.200,2
           NA,    P10N,    130,   1,-999.0,     -99,  2,20050529,0435,  40.0185,  145.4277,  5312, 2000.300,    1.995,   34.587,2,   34.587,2,   68.800,1,   71.480,2,  162.380,2,   41.270,2,    0.000,2,    2.950,2,    0.003,2,    0.002,2, -999.000,9, 2374.100,2, 2414.400,2
           NA,    P10N,    130,   1,-999.0,     -99,  2,20050529,0435,  40.0185,  145.4277,  5312, 2201.600,    1.867,   34.610,2,   34.610,6,   80.160,1,   84.120,2,  162.450,2,   40.460,2,    0.000,2,    2.890,2,    0.003,2,    0.001,2, -999.000,9, 2371.300,2, 2418.200,2
           NA,    P10N,    130,   1,-999.0,     -99,  2,20050529,0435,  40.0185,  145.4277,  5312, 2401.700,    1.764,   34.628,2,   34.628,2,   91.110,1,   95.780,2,  161.930,2,   39.720,2,    0.010,2,    2.836,2,   -0.004,2,   -0.002,2, -999.000,9, 2361.000,6, -999.000,3
           NA,    P10N,    130,   1,-999.0,     -99,  2,20050529,0435,  40.0185,  145.4277,  5312, 2600.400,    1.690,   34.641,2,   34.641,2,  100.840,1,  106.660,2,  160.400,2,   39.100,2,    0.010,2,    2.780,2,   -0.002,2,   -0.001,2, -999.000,9, 2355.600,2, 2421.500,6
           NA,    P10N,    130,   1,-999.0,     -99,  2,20050529,0435,  40.0185,  145.4277,  5312, 2801.000,    1.626,   34.652,2,   34.652,2,  108.140,1,  114.740,2,  159.650,2,   38.500,2,    0.000,2,    2.742,2, -999.000,9, -999.000,9, -999.000,9, 2345.200,2, 2419.100,2
           NA,    P10N,    130,   1,-999.0,     -99,  2,20050529,0435,  40.0185,  145.4277,  5312, 3000.800,    1.581,   34.660,2,   34.660,2,  115.780,1,  123.060,6,  157.460,2,   37.960,2,    0.000,2,    2.699,2, -999.000,9, -999.000,9, -999.000,9, 2344.400,2, 2421.000,2
           NA,    P10N,    130,   1,-999.0,     -99,  2,20050529,0435,  40.0185,  145.4277,  5312, 3250.600,    1.540,   34.668,2,   34.667,6,  122.990,1,  130.850,2,  156.090,2,   37.530,2,    0.000,2,    2.645,2, -999.000,9, -999.000,9, -999.000,9, 2337.600,2, 2424.300,2
           NA,    P10N,    130,   1,-999.0,     -99,  2,20050529,0435,  40.0185,  145.4277,  5312, 3500.100,    1.504,   34.674,2,   34.674,2,  129.790,1,  138.290,2,  154.280,2,   37.030,2,    0.000,2,    2.618,2, -999.000,9, -999.000,9, -999.000,9, 2337.100,2, 2423.800,2
           NA,    P10N,    130,   1,-999.0,     -99,  4,20050529,0435,  40.0185,  145.4277,  5312, 3500.300,    1.503,   34.674,2, -999.000,4,  129.790,1, -999.000,4, -999.000,5, -999.000,5, -999.000,5, -999.000,5, -999.000,9, -999.000,9, -999.000,9, -999.000,4, -999.000,4
           NA,    P10N,    130,   1,-999.0,     -99,  2,20050529,0435,  40.0185,  145.4277,  5312, 3750.800,    1.485,   34.679,2,   34.678,2,  134.990,1,  143.860,2,  153.120,2,   36.670,2,    0.000,2,    2.579,2, -999.000,9, -999.000,9, -999.000,9, 2330.800,2, 2419.300,2
           NA,    P10N,    130,   1,-999.0,     -99,  2,20050529,0435,  40.0185,  145.4277,  5312, 4000.300,    1.476,   34.683,2,   34.682,2,  139.290,1,  148.260,2,  152.000,2,   36.320,2,    0.000,2,    2.562,2, -999.000,9, -999.000,9, -999.000,9, 2330.600,2, 2419.400,2
           NA,    P10N,    130,   1,-999.0,     -99,  2,20050529,0435,  40.0185,  145.4277,  5312, 4250.500,    1.469,   34.686,2,   34.686,2,  143.900,1,  152.890,2,  150.580,2,   36.030,2,    0.010,2,    2.539,2, -999.000,9, -999.000,9, -999.000,9, 2324.100,6, 2417.000,2
           NA,    P10N,    130,   1,-999.0,     -99,  2,20050529,0435,  40.0185,  145.4277,  5312, 4500.600,    1.473,   34.689,2,   34.688,6,  147.360,1,  156.310,2,  149.550,2,   35.800,2,    0.000,2,    2.523,2, -999.000,9, -999.000,9, -999.000,9, 2320.500,2, 2419.400,6
           NA,    P10N,    130,   1,-999.0,     -99,  2,20050529,0435,  40.0185,  145.4277,  5312, 4752.200,    1.488,   34.690,2,   34.690,2,  149.630,1,  158.020,2,  149.580,2,   35.690,2,    0.010,2,    2.514,2, -999.000,9, -999.000,9, -999.000,9, 2318.100,2, -999.000,3
           NA,    P10N,    130,   1,-999.0,     -99,  2,20050529,0435,  40.0185,  145.4277,  5312, 4999.800,    1.508,   34.692,2, -999.000,3,  151.730,1,  159.480,6,  148.990,2,   35.540,2,    0.000,2,    2.504,2, -999.000,9, -999.000,9, -999.000,9, 2318.800,2, 2420.400,2
           NA,    P10N,    130,   1,-999.0,     -99,  2,20050529,0435,  40.0185,  145.4277,  5312, 5250.900,    1.530,   34.693,2,   34.694,2,  154.360,1,  161.190,2,  147.700,2,   35.440,2,    0.000,2,    2.498,2, -999.000,9, -999.000,9, -999.000,9, 2316.800,2, 2419.100,2
           NA,    P10N,    130,   1,-999.0,     -99,  2,20050529,0435,  40.0185,  145.4277,  5312, 5404.400,    1.546,   34.693,2,   34.694,2,  155.410,1,  161.150,2,  147.990,2,   35.370,2,    0.010,2,    2.506,2, -999.000,9, -999.000,9, -999.000,9, 2318.700,2, 2416.900,2