BOTTLE,20214413JOAExport
EXPOCODE,SECT_ID,STNNBR,CASTNO,SAMPNO,BTLNBR,BTLNBR_FLAG_W,DATE,TIME,LATITUDE,LONGITUDE,DEPTH,CTDPRS,CTDTMP,CTDSAL,CTDSAL_FLAG_W,SALNTY,SALNTY_FLAG_W,CTDOXY,CTDOXY_FLAG_W,OXYGEN,OXYGEN_FLAG_W,SILCAT,SILCAT_FLAG_W,NITRAT,NITRAT_FLAG_W,NITRIT,NITRIT_FLAG_W,PHSPHT,PHSPHT_FLAG_W,CFC-11,CFC-11_FLAG_W,CFC-12,CFC-12_FLAG_W,SF6,SF6_FLAG_W,TCARBN,TCARBN_FLAG_W,ALKALI,ALKALI_FLAG_W
,,,,,,,,,,,,,DB,ITS-90,PSS-78,,PSS-78,,UMOL/KG,,UMOL/KG,,UMOL/KG,,UMOL/KG,,UMOL/KG,,UMOL/KG,,PMOL/KG,,PMOL/KG,,FMOL/KG,,UMOL/KG,,UMOL/KG
           NA,     P10,     59,   1,-999.0,     -99,  2,20050613,2117,  19.1655,  149.3290,  5554,    9.300,   28.792,   34.976,2,   34.977,2,  175.060,1,  199.030,6,    0.900,2,    0.030,2,    0.000,2,    0.043,2,    1.479,2,    0.919,2, -999.000,9, 1952.200,2, 2301.700,2
           NA,     P10,     59,   1,-999.0,     -99,  2,20050613,2117,  19.1655,  149.3290,  5554,   50.000,   27.245,   34.946,2,   34.947,2,  183.480,1,  209.460,2,    0.870,2,    0.010,2,    0.000,2,    0.037,2,    1.596,2,    0.969,2, -999.000,9, 1949.800,6, 2300.200,2
           NA,     P10,     59,   1,-999.0,     -99,  2,20050613,2117,  19.1655,  149.3290,  5554,  100.200,   24.561,   35.086,2,   35.090,2,  183.840,1,  210.180,2,    1.100,2,    0.010,2,    0.000,2,    0.043,2,    1.730,2,    1.055,2, -999.000,9, 1974.200,2, 2312.000,6
           NA,     P10,     59,   1,-999.0,     -99,  2,20050613,2117,  19.1655,  149.3290,  5554,  149.800,   21.670,   35.066,2,   35.060,2,  178.540,1,  202.730,2,    1.710,2,    0.530,2,    0.060,2,    0.101,2,    1.966,2,    1.182,2, -999.000,9, 2011.100,2, 2308.900,2
           NA,     P10,     59,   1,-999.0,     -99,  2,20050613,2117,  19.1655,  149.3290,  5554,  199.600,   18.260,   34.846,2,   34.841,2,  172.430,1,  200.130,2,    3.150,2,    3.630,2,    0.010,2,    0.288,2,    2.250,2,    1.327,2, -999.000,9, 2030.800,2, 2293.300,2
           NA,     P10,     59,   1,-999.0,     -99,  2,20050613,2117,  19.1655,  149.3290,  5554,  249.200,   16.939,   34.757,2,   34.750,2,  177.560,1,  206.280,2,    4.370,2,    5.190,2,    0.010,2,    0.381,2,    2.359,6,    1.368,6, -999.000,9, 2034.900,2, 2285.500,2
           NA,     P10,     59,   1,-999.0,     -99,  2,20050613,2117,  19.1655,  149.3290,  5554,  300.300,   15.810,   34.652,2,   34.648,2,  171.760,1,  200.100,2,    6.570,2,    7.250,2,    0.010,2,    0.529,2,    2.455,2,    1.390,2, -999.000,9, 2052.000,2, 2282.100,2
           NA,     P10,     59,   1,-999.0,     -99,  2,20050613,2117,  19.1655,  149.3290,  5554,  398.700,   12.593,   34.380,2,   34.368,2,  159.100,1,  185.980,2,   14.640,2,   13.600,2,    0.000,2,    0.999,2,    2.640,2,    1.403,2, -999.000,9, 2097.600,2, 2272.600,2
           NA,     P10,     59,   1,-999.0,     -99,  2,20050613,2117,  19.1655,  149.3290,  5554,  500.600,    9.388,   34.182,2,   34.177,6,  132.410,1,  152.570,2,   31.080,2,   22.470,2,    0.000,2,    1.646,2,    2.185,2,    1.102,2, -999.000,9, 2158.800,2, 2278.000,2
           NA,     P10,     59,   1,-999.0,     -99,  2,20050613,2117,  19.1655,  149.3290,  5554,  600.700,    6.969,   34.151,2,   34.152,2,   80.140,1,   92.940,2,   56.300,2,   32.300,2,    0.000,2,    2.370,2,    1.043,2,    0.517,2, -999.000,9, 2236.400,2, 2297.200,2
           NA,     P10,     59,   1,-999.0,     -99,  2,20050613,2117,  19.1655,  149.3290,  5554,  699.900,    5.620,   34.231,2,   34.233,2,   50.830,1,   58.320,2,   78.370,2,   37.910,2,    0.000,2,    2.777,2,    0.360,2,    0.183,2, -999.000,9, 2288.400,6, 2321.600,2
           NA,     P10,     59,   1,-999.0,     -99,  2,20050613,2117,  19.1655,  149.3290,  5554,  801.200,    4.898,   34.342,2,   34.341,2,   44.000,1,   50.690,2,   92.480,2,   40.000,2,    0.000,2,    2.918,2,    0.110,2,    0.053,2, -999.000,9, 2312.800,2, 2344.200,6
           NA,     P10,     59,   1,-999.0,     -99,  2,20050613,2117,  19.1655,  149.3290,  5554,  899.600,    4.518,   34.411,2,   34.412,2,   45.140,1,   52.300,2,  100.120,2,   40.510,2,    0.000,2,    2.942,2,    0.034,2,    0.017,2, -999.000,9, 2323.200,2, 2353.300,2
           NA,     P10,     59,   1,-999.0,     -99,  2,20050613,2117,  19.1655,  149.3290,  5554, 1001.200,    4.103,   34.480,2,   34.480,6,   56.640,1,   66.410,2,  107.510,2,   39.890,2,    0.000,2,    2.888,2,    0.022,2,    0.019,2, -999.000,9, 2323.200,2, 2368.800,2
           NA,     P10,     59,   1,-999.0,     -99,  2,20050613,2117,  19.1655,  149.3290,  5554, 1199.200,    3.427,   34.529,2,   34.530,2,   65.250,1,   77.720,6,  121.030,2,   39.760,2,    0.000,2,    2.865,2,    0.013,2,    0.018,2, -999.000,9, 2334.000,2, 2384.500,2
           NA,     P10,     59,   1,-999.0,     -99,  2,20050613,2117,  19.1655,  149.3290,  5554, 1400.800,    2.926,   34.561,2,   34.561,2,   71.140,1,   85.680,2,  130.140,2,   39.530,2,    0.000,2,    2.843,2,    0.009,2,    0.005,2, -999.000,9, 2340.600,2, 2395.500,2
           NA,     P10,     59,   1,-999.0,     -99,  2,20050613,2117,  19.1655,  149.3290,  5554, 1600.200,    2.537,   34.585,2,   34.585,2,   76.640,1,   93.130,2,  137.680,2,   39.480,2,    0.000,2,    2.825,2,    0.005,2,    0.001,2, -999.000,9, 2343.300,2, 2398.500,2
           NA,     P10,     59,   1,-999.0,     -99,  2,20050613,2117,  19.1655,  149.3290,  5554, 1799.400,    2.282,   34.604,2, -999.000,3,   81.180,1,   99.320,2,  142.410,2,   39.270,2,    0.000,2,    2.801,2,    0.003,2,    0.001,2, -999.000,9, 2344.900,2, 2409.500,2
           NA,     P10,     59,   1,-999.0,     -99,  2,20050613,2117,  19.1655,  149.3290,  5554, 1999.500,    2.086,   34.622,2,   34.623,2,   85.940,1,  106.010,2,  145.570,2,   38.990,2,    0.000,2,    2.772,2,    0.001,2,    0.000,2, -999.000,9, 2345.500,2, 2414.000,2
           NA,     P10,     59,   1,-999.0,     -99,  2,20050613,2117,  19.1655,  149.3290,  5554, 2200.600,    1.936,   34.635,2,   34.636,6,   90.310,1,  112.210,2,  147.880,2,   38.700,2,    0.000,2,    2.743,2,   -0.001,2,    0.001,2, -999.000,9, 2344.800,2, 2417.500,2
           NA,     P10,     59,   1,-999.0,     -99,  2,20050613,2117,  19.1655,  149.3290,  5554, 2399.400,    1.823,   34.647,2,   34.647,2,   94.500,1,  118.180,2,  149.520,2,   38.310,2,    0.000,2,    2.714,2,   -0.002,2,    0.002,2, -999.000,9, 2344.000,6, 2417.400,2
           NA,     P10,     59,   1,-999.0,     -99,  2,20050613,2117,  19.1655,  149.3290,  5554, 2600.000,    1.752,   34.654,2,   34.655,2,   97.330,1,  122.220,2,  150.450,2,   38.110,2,    0.000,2,    2.693,2,   -0.001,2,   -0.004,2, -999.000,9, 2342.700,2, 2421.400,6
           NA,     P10,     59,   1,-999.0,     -99,  2,20050613,2117,  19.1655,  149.3290,  5554, 2800.200,    1.687,   34.660,2,   34.660,2,  100.510,1,  126.940,2,  150.820,2,   37.830,2,    0.000,2,    2.668,2, -999.000,9, -999.000,9, -999.000,9, 2341.100,2, 2423.300,2
           NA,     P10,     59,   1,-999.0,     -99,  2,20050613,2117,  19.1655,  149.3290,  5554, 3000.600,    1.638,   34.666,2,   34.666,2,  103.980,1,  131.740,6,  149.950,2,   37.420,2,    0.000,2,    2.638,2, -999.000,9, -999.000,9, -999.000,9, 2337.800,2, 2422.000,2
           NA,     P10,     59,   1,-999.0,     -99,  2,20050613,2117,  19.1655,  149.3290,  5554, 3250.600,    1.590,   34.672,2,   34.672,6,  107.650,1,  137.140,2,  149.640,2,   37.170,2,    0.000,2,    2.601,2, -999.000,9, -999.000,9, -999.000,9, 2335.700,2, -999.000,3
           NA,     P10,     59,   1,-999.0,     -99,  2,20050613,2117,  19.1655,  149.3290,  5554, 3500.300,    1.553,   34.676,2,   34.677,2,  111.020,1,  142.000,2,  148.980,2,   36.800,2,    0.000,2,    2.583,2, -999.000,9, -999.000,9, -999.000,9, 2331.600,2, 2423.100,2
           NA,     P10,     59,   1,-999.0,     -99,  2,20050613,2117,  19.1655,  149.3290,  5554, 3750.900,    1.520,   34.681,2,   34.681,2,  114.850,1,  147.500,2,  147.580,2,   36.500,2,    0.000,2,    2.555,2, -999.000,9, -999.000,9, -999.000,9, 2327.400,2, -999.000,3
           NA,     P10,     59,   1,-999.0,     -99,  2,20050613,2117,  19.1655,  149.3290,  5554, 4000.700,    1.498,   34.685,2,   34.685,2,  118.580,1,  152.440,2,  145.550,2,   36.050,2,    0.000,2,    2.530,2, -999.000,9, -999.000,9, -999.000,9, 2322.800,2, 2417.400,2
           NA,     P10,     59,   1,-999.0,     -99,  2,20050613,2117,  19.1655,  149.3290,  5554, 4251.300,    1.481,   34.688,2,   34.688,2,  122.680,1,  158.000,2,  142.990,2,   35.700,2,    0.000,2,    2.503,2, -999.000,9, -999.000,9, -999.000,9, 2318.400,6, 2416.600,2
           NA,     P10,     59,   1,-999.0,     -99,  3,20050613,2117,  19.1655,  149.3290,  5554, 4501.200,    1.467,   34.692,2,   34.691,6,  126.760,1,  163.310,2,  140.090,2,   35.300,2,    0.000,2,    2.475,2, -999.000,9, -999.000,9, -999.000,9, 2312.800,2, 2413.600,6
           NA,     P10,     59,   1,-999.0,     -99,  2,20050613,2117,  19.1655,  149.3290,  5554, 4750.300,    1.464,   34.694,2,   34.694,2,  130.570,1,  167.810,2,  137.510,2,   34.930,2,    0.010,2,    2.452,2, -999.000,9, -999.000,9, -999.000,9, 2307.700,2, 2412.100,2
           NA,     P10,     59,   1,-999.0,     -99,  2,20050613,2117,  19.1655,  149.3290,  5554, 4998.300,    1.468,   34.696,2,   34.696,2,  133.960,1,  171.410,6,  135.380,2,   34.680,2,    0.000,2,    2.427,2, -999.000,9, -999.000,9, -999.000,9, 2304.100,2, 2408.300,2
           NA,     P10,     59,   1,-999.0,     -99,  2,20050613,2117,  19.1655,  149.3290,  5554, 5248.700,    1.479,   34.698,2,   34.698,2,  136.890,1,  174.430,2,  133.900,2,   34.490,2,    0.010,2,    2.415,2, -999.000,9, -999.000,9, -999.000,9, 2301.900,2, 2405.200,2
           NA,     P10,     59,   1,-999.0,     -99,  2,20050613,2117,  19.1655,  149.3290,  5554, 5499.500,    1.502,   34.699,2,   34.700,2,  138.710,1,  175.670,2,  132.860,2,   34.300,2,    0.000,2,    2.401,2, -999.000,9, -999.000,9, -999.000,9, 2301.900,2, 2403.600,2
           NA,     P10,     59,   1,-999.0,     -99,  2,20050613,2117,  19.1655,  149.3290,  5554, 5640.400,    1.507,   34.699,2,   34.700,6,  140.430,1,  177.000,2,  132.640,2,   34.320,2,    0.000,2,    2.400,2, -999.000,9, -999.000,9, -999.000,9, 2299.000,2, 2403.000,2
           NA,     P10,     59,   1,-999.0,     -99,  2,20050613,2117,  19.1655,  149.3290,  5554, 5640.900,    1.507,   34.699,2,   34.699,2,  140.420,1,  176.930,2,  132.700,2,   34.390,2,    0.000,2,    2.402,2, -999.000,9, -999.000,9, -999.000,9, 2301.400,2, 2402.100,2
           NA,     P10,     60,   1,-999.0,     -99,  2,20050613,1202,  19.8268,  149.3253,  3818,    9.500,   29.120,   35.004,2,   35.007,2,  173.370,1,  197.160,6,    0.930,2,    0.050,2,    0.000,2,    0.047,2,    1.474,2,    0.914,2, -999.000,9, 1951.500,2, 2308.200,2
           NA,     P10,     60,   1,-999.0,     -99,  2,20050613,1202,  19.8268,  149.3253,  3818,   50.100,   27.122,   35.004,2,   35.002,2,  183.470,1,  209.610,2,    0.940,2,    0.010,2,    0.010,2,    0.048,2,    1.621,2,    1.007,2, -999.000,9, 1951.500,6, 2306.500,2
           NA,     P10,     60,   1,-999.0,     -99,  2,20050613,1202,  19.8268,  149.3253,  3818,  100.700,   24.227,   35.072,2,   35.071,2,  179.590,1,  206.530,2,    1.160,2,    0.010,2,    0.010,2,    0.051,2,    1.816,2,    1.112,2, -999.000,9, 1977.200,2, 2308.800,6
           NA,     P10,     60,   1,-999.0,     -99,  2,20050613,1202,  19.8268,  149.3253,  3818,  149.900,   21.312,   35.063,2,   35.063,2,  165.180,1,  191.130,2,    1.870,2,    1.440,2,    0.020,2,    0.173,2,    2.092,2,    1.248,2, -999.000,9, 2020.300,2, 2310.200,2
           NA,     P10,     60,   1,-999.0,     -99,  2,20050613,1202,  19.8268,  149.3253,  3818,  200.500,   18.865,   34.915,2,   34.911,2,  164.360,1,  191.150,2,    3.030,2,    3.540,2,    0.010,2,    0.312,2,    2.347,2,    1.352,2, -999.000,9, 2038.600,2, 2301.500,2
           NA,     P10,     60,   1,-999.0,     -99,  2,20050613,1202,  19.8268,  149.3253,  3818,  249.900,   17.116,   34.771,2,   34.768,2,  177.390,1,  206.900,2,    4.030,2,    4.790,2,    0.010,2,    0.362,2,    2.486,6,    1.422,6, -999.000,9, 2029.800,2, 2288.500,2
           NA,     P10,     60,   1,-999.0,     -99,  2,20050613,1202,  19.8268,  149.3253,  3818,  298.400,   16.119,   34.682,2,   34.668,2,  173.580,1,  202.380,2,    6.150,2,    6.770,2,    0.010,2,    0.504,2,    2.618,2,    1.453,2, -999.000,9, 2045.300,2, 2284.400,2
           NA,     P10,     60,   1,-999.0,     -99,  2,20050613,1202,  19.8268,  149.3253,  3818,  399.000,   13.126,   34.435,2,   34.418,2,  161.620,1,  189.840,2,   13.690,2,   12.700,2,    0.010,2,    0.925,2, -999.000,5, -999.000,5, -999.000,9, 2088.500,2, 2276.900,2
           NA,     P10,     60,   1,-999.0,     -99,  2,20050613,1202,  19.8268,  149.3253,  3818,  498.900,    9.818,   34.211,2,   34.205,6,  145.800,1,  171.930,2,   27.990,2,   20.020,2,    0.010,2,    1.452,2,    2.539,2,    1.290,2, -999.000,9, 2139.800,2, 2278.000,2
           NA,     P10,     60,   1,-999.0,     -99,  2,20050613,1202,  19.8268,  149.3253,  3818,  599.700,    7.072,   34.114,2,   34.114,2,   99.970,1,  116.820,2,   53.660,2,   30.000,2,    0.010,2,    2.198,2,    1.473,2,    0.720,2, -999.000,9, 2216.900,2, 2294.600,2
           NA,     P10,     60,   1,-999.0,     -99,  2,20050613,1202,  19.8268,  149.3253,  3818,  700.300,    5.639,   34.193,2,   34.193,2,   59.300,1,   68.970,2,   76.630,2,   36.870,2,    0.010,2,    2.694,2,    0.538,2,    0.246,2, -999.000,9, 2277.000,6, 2317.800,2
           NA,     P10,     60,   1,-999.0,     -99,  2,20050613,1202,  19.8268,  149.3253,  3818,  798.600,    4.747,   34.322,2,   34.322,2,   45.700,1,   53.010,2,   94.980,2,   39.970,2,    0.000,2,    2.910,2,    0.157,6,    0.063,6, -999.000,9, 2311.200,2, 2343.000,6
           NA,     P10,     60,   1,-999.0,     -99,  2,20050613,1202,  19.8268,  149.3253,  3818,  899.800,    4.264,   34.444,2,   34.444,2,   49.740,1,   58.150,2,  104.630,2,   40.470,2,    0.010,2,    2.929,2,    0.028,2,    0.005,2, -999.000,9, 2323.300,2, 2359.500,2
           NA,     P10,     60,   1,-999.0,     -99,  2,20050613,1202,  19.8268,  149.3253,  3818, 1000.500,    3.929,   34.482,2,   34.481,6,   55.270,1,   65.110,2,  111.270,2,   40.230,2,    0.000,2,    2.911,2,    0.020,2,    0.006,2, -999.000,9, 2326.700,2, 2372.200,2
           NA,     P10,     60,   1,-999.0,     -99,  2,20050613,1202,  19.8268,  149.3253,  3818, 1200.600,    3.345,   34.529,2,   34.529,2,   63.450,1,   75.750,6,  122.790,2,   40.020,2,    0.000,2,    2.883,2,    0.020,2,    0.004,2, -999.000,9, 2335.800,2, 2387.000,2
           NA,     P10,     60,   1,-999.0,     -99,  2,20050613,1202,  19.8268,  149.3253,  3818, 1401.500,    2.901,   34.558,2,   34.558,2,   69.590,1,   83.890,2,  131.350,2,   39.830,2,    0.000,2,    2.858,2,    0.006,2,    0.001,2, -999.000,9, 2340.600,2, 2394.600,2
           NA,     P10,     60,   1,-999.0,     -99,  2,20050613,1202,  19.8268,  149.3253,  3818, 1601.000,    2.510,   34.586,2,   34.586,2,   76.590,1,   93.480,2,  138.120,2,   39.590,2,    0.000,2,    2.825,2, -999.000,5, -999.000,5, -999.000,9, 2341.700,2, 2407.400,2
           NA,     P10,     60,   1,-999.0,     -99,  2,20050613,1202,  19.8268,  149.3253,  3818, 1800.700,    2.208,   34.609,2,   34.609,6,   82.790,1,  101.840,2,  143.330,2,   39.190,2,    0.000,2,    2.786,2,   -0.003,2,    0.001,2, -999.000,9, 2344.200,2, 2409.500,2
           NA,     P10,     60,   1,-999.0,     -99,  2,20050613,1202,  19.8268,  149.3253,  3818, 1999.400,    1.985,   34.627,2,   34.627,2,   88.780,1,  109.850,2,  146.790,2,   38.800,2,    0.000,2,    2.750,2,   -0.001,2,    0.000,2, -999.000,9, 2343.300,2, 2415.300,2
           NA,     P10,     60,   1,-999.0,     -99,  2,20050613,1202,  19.8268,  149.3253,  3818, 2199.700,    1.906,   34.635,2,   34.635,2,   91.650,1,  114.000,2,  148.100,2,   38.670,2,    0.000,2,    2.732,2,    0.002,2,   -0.002,2, -999.000,9, 2342.400,2, 2416.500,2
           NA,     P10,     60,   1,-999.0,     -99,  2,20050613,1202,  19.8268,  149.3253,  3818, 2400.200,    1.819,   34.643,2,   34.643,2,   95.140,1,  118.910,2,  148.640,2,   38.290,2,    0.000,2,    2.709,2,   -0.004,2,    0.000,2, -999.000,9, 2341.100,6, 2418.900,2
           NA,     P10,     60,   1,-999.0,     -99,  2,20050613,1202,  19.8268,  149.3253,  3818, 2600.900,    1.736,   34.652,2,   34.652,6,   99.030,1,  124.130,2,  149.430,2,   37.960,2,    0.000,2,    2.684,2,    0.000,2,   -0.002,2, -999.000,9, 2338.400,2, 2419.700,6
           NA,     P10,     60,   1,-999.0,     -99,  2,20050613,1202,  19.8268,  149.3253,  3818, 2800.700,    1.684,   34.658,2,   34.658,2,  102.000,1,  128.310,2,  149.750,2,   37.780,2,    0.000,2,    2.665,2, -999.000,5, -999.000,5, -999.000,9, 2336.800,2, 2421.100,2
           NA,     P10,     60,   1,-999.0,     -99,  2,20050613,1202,  19.8268,  149.3253,  3818, 3000.000,    1.640,   34.664,2,   34.663,2,  104.920,1,  132.210,6,  149.600,2,   37.560,2,    0.000,2,    2.642,2,    0.003,2,    0.003,2, -999.000,9, 2334.600,2, 2421.700,2
           NA,     P10,     60,   1,-999.0,     -99,  2,20050613,1202,  19.8268,  149.3253,  3818, 3251.100,    1.578,   34.671,2,   34.671,6,  110.040,1,  138.630,2,  148.870,2,   37.110,2,    0.000,2,    2.602,2, -999.000,5, -999.000,5, -999.000,9, 2330.700,2, 2422.000,2
           NA,     P10,     60,   1,-999.0,     -99,  2,20050613,1202,  19.8268,  149.3253,  3818, 3499.000,    1.544,   34.677,2,   34.676,2,  114.030,1,  143.220,2,  148.370,2,   36.850,2,    0.000,2,    2.583,2,   -0.003,2,   -0.001,2, -999.000,9, 2328.300,2, 2420.100,2
           NA,     P10,     60,   1,-999.0,     -99,  2,20050613,1202,  19.8268,  149.3253,  3818, 3749.200,    1.502,   34.682,2,   34.682,2,  119.540,1,  149.800,2,  146.110,2,   36.350,2,    0.000,2,    2.546,2,    0.001,2,    0.001,2, -999.000,9, 2323.100,2, 2420.100,2
           NA,     P10,     60,   1,-999.0,     -99,  2,20050613,1202,  19.8268,  149.3253,  3818, 3828.900,    1.486,   34.684,2,   34.684,6,  121.830,1,  152.460,6,  144.800,2,   36.240,2,    0.010,2,    2.536,2,    0.005,2,    0.000,2, -999.000,9, 2319.700,2, 2418.400,2