BOTTLE,20214413JOAExport
EXPOCODE,SECT_ID,STNNBR,CASTNO,SAMPNO,BTLNBR,BTLNBR_FLAG_W,DATE,TIME,LATITUDE,LONGITUDE,DEPTH,CTDPRS,CTDTMP,CTDSAL,CTDSAL_FLAG_W,SALNTY,SALNTY_FLAG_W,CTDOXY,CTDOXY_FLAG_W,OXYGEN,OXYGEN_FLAG_W,SILCAT,SILCAT_FLAG_W,NITRAT,NITRAT_FLAG_W,NITRIT,NITRIT_FLAG_W,PHSPHT,PHSPHT_FLAG_W,CFC-11,CFC-11_FLAG_W,CFC-12,CFC-12_FLAG_W,SF6,SF6_FLAG_W,TCARBN,TCARBN_FLAG_W,ALKALI,ALKALI_FLAG_W
,,,,,,,,,,,,,DB,ITS-90,PSS-78,,PSS-78,,UMOL/KG,,UMOL/KG,,UMOL/KG,,UMOL/KG,,UMOL/KG,,UMOL/KG,,PMOL/KG,,PMOL/KG,,FMOL/KG,,UMOL/KG,,UMOL/KG
           NA,     P10,     19,   1,-999.0,     -99,  2,20050624,1202,   0.2543,  146.2117,  3739,   10.400,   29.796,   34.181,2,   34.193,2,  170.510,1,  195.380,6,    0.790,2,    0.030,2,    0.000,2,    0.139,2,    1.385,2,    0.847,2, -999.000,9, -999.000,9, -999.000,9
           NA,     P10,     19,   1,-999.0,     -99,  2,20050624,1202,   0.2543,  146.2117,  3739,   50.600,   29.886,   34.538,2, -999.000,4,  171.240,1,  195.640,2,    0.780,2,    0.040,2,    0.010,2,    0.176,2,    1.403,2,    0.870,2, -999.000,9, -999.000,9, -999.000,9
           NA,     P10,     19,   1,-999.0,     -99,  2,20050624,1202,   0.2543,  146.2117,  3739,  100.400,   26.362,   35.197,2,   35.223,2,  129.690,1,  144.220,2,    2.690,2,    6.690,2,    0.100,2,    0.625,2,    1.631,2,    0.970,2, -999.000,9, -999.000,9, -999.000,9
           NA,     P10,     19,   1,-999.0,     -99,  2,20050624,1202,   0.2543,  146.2117,  3739,  150.300,   23.068,   35.420,2,   35.467,2,  114.950,1,  132.780,2,    3.360,2,    9.250,2,    0.020,2,    0.781,2,    1.784,2,    1.014,2, -999.000,9, -999.000,9, -999.000,9
           NA,     P10,     19,   1,-999.0,     -99,  2,20050624,1202,   0.2543,  146.2117,  3739,  201.800,   18.574,   35.411,2,   35.407,2,  118.310,1,  137.480,2,    5.080,2,   11.720,2,    0.010,2,    0.951,2,    1.807,2,    0.993,2, -999.000,9, -999.000,9, -999.000,9
           NA,     P10,     19,   1,-999.0,     -99,  2,20050624,1202,   0.2543,  146.2117,  3739,  250.500,   14.622,   35.143,2,   35.132,2,  124.590,1,  145.300,2,    8.910,2,   15.810,2,    0.010,2,    1.212,2,    1.596,6,    0.840,6, -999.000,9, -999.000,9, -999.000,9
           NA,     P10,     19,   1,-999.0,     -99,  2,20050624,1202,   0.2543,  146.2117,  3739,  300.200,   11.671,   34.863,2,   34.850,2,  119.090,1,  138.240,2,   17.040,2,   21.450,2,    0.010,2,    1.577,2,    1.180,2,    0.611,2, -999.000,9, -999.000,9, -999.000,9
           NA,     P10,     19,   1,-999.0,     -99,  3,20050624,1202,   0.2543,  146.2117,  3739,  401.400,    9.556,   34.698,2,   34.691,2,   85.050,1,  101.350,2,   27.170,2,   29.010,2,    0.010,2,    2.071,2,    0.571,2,    0.293,2, -999.000,9, -999.000,9, -999.000,9
           NA,     P10,     19,   1,-999.0,     -99,  2,20050624,1202,   0.2543,  146.2117,  3739,  503.200,    8.314,   34.617,2,   34.612,6,  107.300,1,  126.170,2,   29.630,2,   29.110,2,    0.000,2,    2.078,2,    0.504,2,    0.258,2, -999.000,9, -999.000,9, -999.000,9
           NA,     P10,     19,   1,-999.0,     -99,  2,20050624,1202,   0.2543,  146.2117,  3739,  601.100,    6.935,   34.562,2,   34.560,2,   85.110,1,  100.610,2,   43.010,2,   34.410,2,    0.000,2,    2.462,2,    0.153,2,    0.083,2, -999.000,9, -999.000,9, -999.000,9
           NA,     P10,     19,   1,-999.0,     -99,  2,20050624,1202,   0.2543,  146.2117,  3739,  700.300,    6.180,   34.538,2,   34.538,2,   92.630,1,  107.620,2,   50.380,2,   35.210,2,    0.000,2,    2.525,2,    0.116,2,    0.057,2, -999.000,9, -999.000,9, -999.000,9
           NA,     P10,     19,   1,-999.0,     -99,  2,20050624,1202,   0.2543,  146.2117,  3739,  800.900,    5.630,   34.541,2,   34.540,2,   78.520,1,   94.460,2,   61.250,2,   37.270,2,    0.000,2,    2.683,2,    0.038,6,    0.025,6, -999.000,9, -999.000,9, -999.000,9
           NA,     P10,     19,   1,-999.0,     -99,  2,20050624,1202,   0.2543,  146.2117,  3739,  899.800,    5.079,   34.538,2,   34.539,2,   88.320,1,  105.670,2,   69.940,2,   36.770,2,    0.000,2,    2.634,2,    0.033,2,    0.015,2, -999.000,9, -999.000,9, -999.000,9
           NA,     P10,     19,   1,-999.0,     -99,  2,20050624,1202,   0.2543,  146.2117,  3739, 1001.300,    4.479,   34.552,2,   34.552,6,   84.090,1,  100.170,2,   83.250,2,   37.900,2,    0.000,2,    2.729,2,    0.009,2,    0.011,2, -999.000,9, -999.000,9, -999.000,9
           NA,     P10,     19,   1,-999.0,     -99,  2,20050624,1202,   0.2543,  146.2117,  3739, 1200.100,    3.795,   34.572,2,   34.572,2,   83.260,1,  100.060,6,   98.690,2,   38.520,2,    0.000,2,    2.778,2,    0.002,2,    0.007,2, -999.000,9, -999.000,9, -999.000,9
           NA,     P10,     19,   1,-999.0,     -99,  2,20050624,1202,   0.2543,  146.2117,  3739, 1400.400,    3.355,   34.586,2,   34.586,2,   88.830,1,  107.860,2,  106.280,2,   38.310,2,    0.000,2,    2.753,2,    0.002,2,    0.000,2, -999.000,9, -999.000,9, -999.000,9
           NA,     P10,     19,   1,-999.0,     -99,  2,20050624,1202,   0.2543,  146.2117,  3739, 1600.100,    2.705,   34.614,2,   34.614,2,   92.080,1,  112.520,2,  122.430,2,   38.300,2,    0.000,2,    2.742,2,    0.002,2,    0.008,2, -999.000,9, -999.000,9, -999.000,9
           NA,     P10,     19,   1,-999.0,     -99,  2,20050624,1202,   0.2543,  146.2117,  3739, 1802.100,    2.423,   34.629,2,   34.628,6,   94.900,1,  116.650,2,  128.910,2,   38.160,2,    0.000,2,    2.724,2, -999.000,9, -999.000,9, -999.000,9, -999.000,9, -999.000,9
           NA,     P10,     19,   1,-999.0,     -99,  2,20050624,1202,   0.2543,  146.2117,  3739, 2001.200,    2.247,   34.638,2,   34.637,2,   96.280,1,  118.790,2,  133.730,2,   38.140,2,    0.000,2,    2.712,2,    0.000,2,    0.000,2, -999.000,9, -999.000,9, -999.000,9
           NA,     P10,     19,   1,-999.0,     -99,  2,20050624,1202,   0.2543,  146.2117,  3739, 2199.900,    2.046,   34.647,2,   34.646,2,   99.480,1,  123.190,2,  138.310,2,   37.870,2,    0.000,2,    2.691,2, -999.000,9, -999.000,9, -999.000,9, -999.000,9, -999.000,9
           NA,     P10,     19,   1,-999.0,     -99,  2,20050624,1202,   0.2543,  146.2117,  3739, 2400.200,    1.852,   34.657,2,   34.657,2,  104.380,1,  129.680,2,  141.420,2,   37.470,2,    0.000,2,    2.652,2,    0.000,2,    0.003,2, -999.000,9, -999.000,9, -999.000,9
           NA,     P10,     19,   1,-999.0,     -99,  2,20050624,1202,   0.2543,  146.2117,  3739, 2600.000,    1.695,   34.666,2,   34.665,6,  109.760,1,  136.750,2,  142.740,2,   37.010,2,    0.000,2,    2.617,2, -999.000,9, -999.000,9, -999.000,9, -999.000,9, -999.000,9
           NA,     P10,     19,   1,-999.0,     -99,  2,20050624,1202,   0.2543,  146.2117,  3739, 2800.300,    1.639,   34.670,2,   34.670,2,  112.340,1,  140.090,2,  143.170,2,   36.790,2,    0.000,2,    2.600,2,    0.002,2,    0.000,2, -999.000,9, -999.000,9, -999.000,9
           NA,     P10,     19,   1,-999.0,     -99,  3,20050624,1202,   0.2543,  146.2117,  3739, 2999.300,    1.614,   34.673,2,   34.673,2,  113.920,1,  141.970,6,  143.220,2,   36.640,2,    0.000,2,    2.587,2, -999.000,9, -999.000,9, -999.000,9, -999.000,9, -999.000,9
           NA,     P10,     19,   1,-999.0,     -99,  2,20050624,1202,   0.2543,  146.2117,  3739, 3251.200,    1.580,   34.677,2,   34.676,6,  116.520,1,  145.020,2,  143.210,2,   36.480,2,    0.000,2,    2.564,2, -999.000,9, -999.000,9, -999.000,9, -999.000,9, -999.000,9
           NA,     P10,     19,   1,-999.0,     -99,  2,20050624,1202,   0.2543,  146.2117,  3739, 3499.200,    1.574,   34.679,2, -999.000,3,  118.440,1,  146.760,2,  143.230,2,   36.380,2,    0.000,2,    2.561,2, -999.000,9, -999.000,9, -999.000,9, -999.000,9, -999.000,9
           NA,     P10,     19,   1,-999.0,     -99,  2,20050624,1202,   0.2543,  146.2117,  3739, 3749.800,    1.548,   34.682,2,   34.682,2,  121.710,1,  150.260,2,  142.910,2,   36.210,2,    0.000,2,    2.545,2, -999.000,9, -999.000,9, -999.000,9, -999.000,9, -999.000,9
           NA,     P10,     19,   1,-999.0,     -99,  2,20050624,1202,   0.2543,  146.2117,  3739, 3769.700,    1.550,   34.682,2,   34.682,6,  121.870,1,  150.210,6,  142.880,2,   36.210,2,    0.000,2,    2.549,2,   -0.002,2,    0.000,2, -999.000,9, -999.000,9, -999.000,9
           NA,     P10,     19,   1,-999.0,     -99,  2,20050624,1202,   0.2543,  146.2117,  3739, 3769.900,    1.550,   34.682,2,   34.682,2,  121.880,1,  150.270,2,  143.000,2,   36.190,2,    0.000,2,    2.548,2, -999.000,9, -999.000,9, -999.000,9, -999.000,9, -999.000,9
           NA,     P10,     20,   1,-999.0,     -99,  2,20050623,2057,   0.5022,  146.2793,  4122,   10.400,   29.652,   34.263,2,   34.354,2,  170.400,1,  194.620,2,    0.870,2,   -0.020,2,    0.000,2,    0.144,2,    1.353,2,    0.840,2, -999.000,9, -999.000,9, -999.000,9
           NA,     P10,     20,   1,-999.0,     -99,  3,20050623,2057,   0.5022,  146.2793,  4122,   50.300,   29.709,   34.766,2,   34.791,2,  170.140,1,  193.700,2,    0.920,2,    0.070,2,    0.020,2,    0.192,2,    1.379,2,    0.854,2, -999.000,9, -999.000,9, -999.000,9
           NA,     P10,     20,   1,-999.0,     -99,  2,20050623,2057,   0.5022,  146.2793,  4122,  100.600,   23.963,   35.232,2,   35.228,2,  115.530,1,  132.980,2,    3.950,2,    8.630,2,    0.030,2,    0.704,2,    1.646,2,    0.986,2, -999.000,9, -999.000,9, -999.000,9
           NA,     P10,     20,   1,-999.0,     -99,  2,20050623,2057,   0.5022,  146.2793,  4122,  151.400,   22.598,   35.551,2,   35.542,2,  114.560,1,  132.680,2,    3.240,2,    9.450,2,    0.010,2,    0.798,2,    1.689,2,    0.999,2, -999.000,9, -999.000,9, -999.000,9
           NA,     P10,     20,   1,-999.0,     -99,  2,20050623,2057,   0.5022,  146.2793,  4122,  204.700,   18.104,   35.408,2,   35.399,2,  119.080,1,  138.490,2,    5.260,2,   12.010,2,    0.010,2,    0.960,2,    1.696,2,    0.964,2, -999.000,9, -999.000,9, -999.000,9
           NA,     P10,     20,   1,-999.0,     -99,  2,20050623,2057,   0.5022,  146.2793,  4122,  251.700,   14.558,   35.125,2,   35.082,2,  124.840,1,  144.910,2,   10.490,2,   16.480,2,    0.010,2,    1.242,2,    1.499,6,    0.827,6, -999.000,9, -999.000,9, -999.000,9
           NA,     P10,     20,   1,-999.0,     -99,  2,20050623,2057,   0.5022,  146.2793,  4122,  302.600,   10.953,   34.805,2,   34.803,2,  113.760,1,  133.170,2,   19.450,2,   23.060,2,    0.010,2,    1.669,2,    1.038,2,    0.557,2, -999.000,9, -999.000,9, -999.000,9
           NA,     P10,     20,   1,-999.0,     -99,  2,20050623,2057,   0.5022,  146.2793,  4122,  401.800,    9.564,   34.698,2,   34.688,2,   84.390,1,  101.870,2,   27.520,2,   29.160,2,    0.000,2,    2.065,2,    0.573,2,    0.301,2, -999.000,9, -999.000,9, -999.000,9
           NA,     P10,     20,   1,-999.0,     -99,  3,20050623,2057,   0.5022,  146.2793,  4122,  503.000,    8.576,   34.632,2,   34.626,6,   97.610,1,  115.560,2,   30.810,2,   29.710,2,    0.010,2,    2.105,2,    0.485,2,    0.255,2, -999.000,9, -999.000,9, -999.000,9
           NA,     P10,     20,   1,-999.0,     -99,  2,20050623,2057,   0.5022,  146.2793,  4122,  603.400,    7.261,   34.565,2,   34.565,2,   93.490,1,  110.350,2,   40.090,2,   32.590,2,    0.010,2,    2.316,2,    0.264,2,    0.142,2, -999.000,9, -999.000,9, -999.000,9
           NA,     P10,     20,   1,-999.0,     -99,  2,20050623,2057,   0.5022,  146.2793,  4122,  701.500,    6.209,   34.543,2,   34.543,2,   84.300,1,   98.020,2,   51.760,2,   36.000,2,    0.000,2,    2.567,2,    0.110,2,    0.059,2, -999.000,9, -999.000,9, -999.000,9
           NA,     P10,     20,   1,-999.0,     -99,  2,20050623,2057,   0.5022,  146.2793,  4122,  801.300,    5.655,   34.540,2,   34.540,2,   80.310,1,   95.830,2,   60.850,2,   37.160,2,    0.000,2,    2.656,2,    0.059,6,    0.031,6, -999.000,9, -999.000,9, -999.000,9
           NA,     P10,     20,   1,-999.0,     -99,  2,20050623,2057,   0.5022,  146.2793,  4122,  900.500,    5.013,   34.539,2,   34.539,2,   88.290,1,  105.090,2,   71.100,2,   36.920,2,    0.000,2,    2.631,2,    0.052,2,    0.026,2, -999.000,9, -999.000,9, -999.000,9
           NA,     P10,     20,   1,-999.0,     -99,  2,20050623,2057,   0.5022,  146.2793,  4122,  999.900,    4.550,   34.549,2,   34.550,6,   85.960,1,  101.830,2,   81.700,2,   37.690,2,    0.000,2,    2.704,2,    0.031,2,    0.016,2, -999.000,9, -999.000,9, -999.000,9
           NA,     P10,     20,   1,-999.0,     -99,  2,20050623,2057,   0.5022,  146.2793,  4122, 1200.500,    3.907,   34.569,2,   34.569,2,   81.540,1,   98.140,6,   96.710,2,   38.500,2,    0.000,2,    2.776,2,    0.015,2,    0.006,2, -999.000,9, -999.000,9, -999.000,9
           NA,     P10,     20,   1,-999.0,     -99,  2,20050623,2057,   0.5022,  146.2793,  4122, 1399.900,    3.322,   34.587,2,   34.587,2,   89.040,1,  107.950,2,  107.080,2,   38.320,2,    0.000,2,    2.746,2,    0.001,2,    0.000,2, -999.000,9, -999.000,9, -999.000,9
           NA,     P10,     20,   1,-999.0,     -99,  2,20050623,2057,   0.5022,  146.2793,  4122, 1600.400,    2.696,   34.615,2,   34.616,2,   91.130,1,  111.200,2,  123.640,2,   38.410,2,    0.000,2,    2.741,2,   -0.003,2,   -0.001,2, -999.000,9, -999.000,9, -999.000,9
           NA,     P10,     20,   1,-999.0,     -99,  2,20050623,2057,   0.5022,  146.2793,  4122, 1800.900,    2.458,   34.627,2,   34.627,6,   94.800,1,  116.300,2,  128.100,2,   38.250,2,    0.000,2,    2.725,2,   -0.003,2,   -0.006,2, -999.000,9, -999.000,9, -999.000,9
           NA,     P10,     20,   1,-999.0,     -99,  2,20050623,2057,   0.5022,  146.2793,  4122, 2000.300,    2.197,   34.639,2,   34.639,2,   96.840,1,  119.230,2,  135.270,2,   38.130,2,    0.000,2,    2.705,2,   -0.003,2,   -0.002,2, -999.000,9, -999.000,9, -999.000,9
           NA,     P10,     20,   1,-999.0,     -99,  2,20050623,2057,   0.5022,  146.2793,  4122, 2199.500,    2.035,   34.647,2,   34.647,2,   99.340,1,  122.890,2,  138.860,2,   37.880,2,    0.000,2,    2.687,2,    0.000,2,   -0.001,2, -999.000,9, -999.000,9, -999.000,9
           NA,     P10,     20,   1,-999.0,     -99,  2,20050623,2057,   0.5022,  146.2793,  4122, 2399.700,    1.839,   34.658,2,   34.658,2,  104.550,1,  129.930,2,  141.770,2,   37.520,2,    0.000,2,    2.650,2,    0.000,2,    0.001,2, -999.000,9, -999.000,9, -999.000,9
           NA,     P10,     20,   1,-999.0,     -99,  2,20050623,2057,   0.5022,  146.2793,  4122, 2600.100,    1.703,   34.666,2,   34.666,2,  109.160,1,  136.190,2,  143.140,2,   37.140,2,    0.000,2,    2.615,2,   -0.003,2,   -0.001,2, -999.000,9, -999.000,9, -999.000,9
           NA,     P10,     20,   1,-999.0,     -99,  2,20050623,2057,   0.5022,  146.2793,  4122, 2800.900,    1.643,   34.670,2,   34.670,6,  111.810,1,  139.800,2,  143.400,2,   36.850,2,    0.010,2,    2.598,2, -999.000,9, -999.000,9, -999.000,9, -999.000,9, -999.000,9
           NA,     P10,     20,   1,-999.0,     -99,  2,20050623,2057,   0.5022,  146.2793,  4122, 3000.400,    1.614,   34.673,2,   34.673,2,  113.420,1,  142.030,2,  143.670,2,   36.750,2,    0.000,2,    2.585,2, -999.000,9, -999.000,9, -999.000,9, -999.000,9, -999.000,9
           NA,     P10,     20,   1,-999.0,     -99,  2,20050623,2057,   0.5022,  146.2793,  4122, 3249.500,    1.582,   34.676,2,   34.676,2,  115.710,1,  144.820,2,  143.420,2,   36.520,2,    0.000,2,    2.561,2, -999.000,9, -999.000,9, -999.000,9, -999.000,9, -999.000,9
           NA,     P10,     20,   1,-999.0,     -99,  2,20050623,2057,   0.5022,  146.2793,  4122, 3499.800,    1.566,   34.679,2,   34.679,2,  117.870,1,  147.270,2,  143.280,2,   36.380,2,    0.000,2,    2.550,2,    0.000,2,    0.001,2, -999.000,9, -999.000,9, -999.000,9
           NA,     P10,     20,   1,-999.0,     -99,  2,20050623,2057,   0.5022,  146.2793,  4122, 3749.900,    1.551,   34.682,2,   34.682,6,  120.430,1,  150.040,2,  143.130,2,   36.220,2,    0.000,2,    2.544,2, -999.000,9, -999.000,9, -999.000,9, -999.000,9, -999.000,9
           NA,     P10,     20,   1,-999.0,     -99,  2,20050623,2057,   0.5022,  146.2793,  4122, 4000.000,    1.538,   34.685,2,   34.685,2,  123.260,1,  152.730,2,  142.800,2,   36.080,2,    0.000,2,    2.531,2, -999.000,9, -999.000,9, -999.000,9, -999.000,9, -999.000,9
           NA,     P10,     20,   1,-999.0,     -99,  2,20050623,2057,   0.5022,  146.2793,  4122, 4172.000,    1.535,   34.687,2,   34.687,6,  125.060,1,  154.240,6,  142.620,2,   36.040,2,    0.000,2,    2.526,2,   -0.003,2,    0.002,2, -999.000,9, -999.000,9, -999.000,9
           NA,     P10,     20,   1,-999.0,     -99,  2,20050623,2057,   0.5022,  146.2793,  4122, 4172.400,    1.534,   34.687,2,   34.687,2,  125.100,1,  154.150,6,  142.670,2,   36.050,2,    0.000,2,    2.528,2,    0.000,2,    0.000,2, -999.000,9, -999.000,9, -999.000,9