BOTTLE,20214413JOAExport
# Exported from JOA (5.5.0 Final January 13th, 2020) on 2021/07/13 13:43:52
#BOTTLE,20170119CCHSIORJL,,,,,,,,,,,,,,,,,,,,,,,,,,,,,,,,,,,,,,
# Change EXPOCODE from 49MR0502_1 to 49NZ20050525,,,,,,,,,,,,,,,,,,,,,,,,,,,,,,,,,,,,,,,
# Change SECT to SECT_ID,,,,,,,,,,,,,,,,,,,,,,,,,,,,,,,,,,,,,,,
# Change DEPTH units from M to METERS,,,,,,,,,,,,,,,,,,,,,,,,,,,,,,,,,,,,,,,
#BOTTLE,20100316JAMSTECRIGC,,,,,,,,,,,,,,,,,,,,,,,,,,,,,,,,,,,,,,
#Software_Version: whp_btl_exchange.rb_v2.0 (ogc_group),,,,,,,,,,,,,,,,,,,,,,,,,,,,,,,,,,,,,,,
#ORIGINAL_SUM_FILE: 49MR0502_1_sum.txt Wed Feb 01 13:44:02 +0900 2006,,,,,,,,,,,,,,,,,,,,,,,,,,,,,,,,,,,,,,,
#ORIGINAL_HYD_FILE: 49MR0502_1_sea.txt Tue Mar 16 13:58:33 +0900 2010,,,,,,,,,,,,,,,,,,,,,,,,,,,,,,,,,,,,,,,
#DEPTH_TYPE: COR,,,,,,,,,,,,,,,,,,,,,,,,,,,,,,,,,,,,,,,
#EVENT_CODE: BO,,,,,,,,,,,,,,,,,,,,,,,,,,,,,,,,,,,,,,,
EXPOCODE,SECT_ID,STNNBR,CASTNO,SAMPNO,BTLNBR,BTLNBR_FLAG_W,DATE,TIME,LATITUDE,LONGITUDE,DEPTH,CTDPRS,CTDTMP,CTDSAL,CTDSAL_FLAG_W,SALNTY,SALNTY_FLAG_W,CTDOXY,CTDOXY_FLAG_W,OXYGEN,OXYGEN_FLAG_W,SILCAT,SILCAT_FLAG_W,NITRAT,NITRAT_FLAG_W,NITRIT,NITRIT_FLAG_W,PHSPHT,PHSPHT_FLAG_W,CFC-11,CFC-11_FLAG_W,CFC-12,CFC-12_FLAG_W,SF6,SF6_FLAG_W,TCARBN,TCARBN_FLAG_W,ALKALI,ALKALI_FLAG_W
,,,,,,,,,,,,,DB,ITS-90,PSS-78,,PSS-78,,UMOL/KG,,UMOL/KG,,UMOL/KG,,UMOL/KG,,UMOL/KG,,UMOL/KG,,PMOL/KG,,PMOL/KG,,FMOL/KG,,UMOL/KG,,UMOL/KG
           NA,     P10,      1,   1,-999.0,     -99,  2,20050628,0022,  -4.0150,  144.8117,   223,   10.300,   28.535,   34.284,2,   34.354,2,  170.970,1,  192.600,6,    1.790,2,    0.250,2,    0.100,2,    0.092,2, -999.000,9, -999.000,9, -999.000,9, -999.000,9, -999.000,9
           NA,     P10,      1,   1,-999.0,     -99,  2,20050628,0022,  -4.0150,  144.8117,   223,   50.500,   27.751,   34.599,2,   34.604,2,  166.220,1,  188.650,2,    1.510,2,    0.610,2,    0.190,2,    0.136,2, -999.000,9, -999.000,9, -999.000,9, -999.000,9, -999.000,9
           NA,     P10,      1,   1,-999.0,     -99,  2,20050628,0022,  -4.0150,  144.8117,   223,  100.600,   26.379,   34.996,2,   35.003,2,  148.430,1,  168.820,2,    1.630,2,    3.040,2,    0.160,2,    0.322,2, -999.000,9, -999.000,9, -999.000,9, -999.000,9, -999.000,9
           NA,     P10,      1,   1,-999.0,     -99,  2,20050628,0022,  -4.0150,  144.8117,   223,  150.600,   22.331,   35.514,2,   35.512,2,  127.960,1,  146.210,2,    2.550,2,    7.750,2,    0.030,2,    0.666,2, -999.000,9, -999.000,9, -999.000,9, -999.000,9, -999.000,9
           NA,     P10,      1,   1,-999.0,     -99,  2,20050628,0022,  -4.0150,  144.8117,   223,  199.400,   17.901,   35.411,2,   35.392,2,  129.450,1,  148.160,2,    4.760,2,   11.370,2,    0.010,2,    0.911,2, -999.000,9, -999.000,9, -999.000,9, -999.000,9, -999.000,9
           NA,     P10,      1,   1,-999.0,     -99,  2,20050628,0022,  -4.0150,  144.8117,   223,  212.500,   17.285,   35.375,2,   35.376,2,  130.500,1,  148.570,6,    4.940,2,   11.630,2,    0.020,2,    0.920,2, -999.000,9, -999.000,9, -999.000,9, -999.000,9, -999.000,9
           NA,     P10,      2,   1,-999.0,     -99,  2,20050627,2206,  -3.9808,  144.8340,   827,   10.200,   28.825,   34.196,2,   34.209,2,  174.080,1,  197.670,6,    1.690,2,    0.030,2,    0.010,2,    0.065,2,    1.445,2,    0.897,2, -999.000,9, 1904.000,2, 2255.500,2
           NA,     P10,      2,   1,-999.0,     -99,  2,20050627,2206,  -3.9808,  144.8340,   827,   50.400,   27.843,   34.559,2,   34.589,2,  166.370,1,  188.390,2,    1.520,2,    0.650,2,    0.200,2,    0.155,2,    1.510,2,    0.914,2, -999.000,9, 1940.700,6, 2274.700,2
           NA,     P10,      2,   1,-999.0,     -99,  2,20050627,2206,  -3.9808,  144.8340,   827,  100.600,   26.633,   34.939,2, -999.000,4,  150.070,1,  163.330,2,    1.740,2,    3.890,2,    0.130,2,    0.406,2,    1.640,2,    0.979,2, -999.000,9, 2008.200,2, 2315.100,6
           NA,     P10,      2,   1,-999.0,     -99,  2,20050627,2206,  -3.9808,  144.8340,   827,  152.000,   22.277,   35.516,2,   35.513,2,  127.370,1,  146.620,2,    2.350,2,    7.400,2,    0.030,2,    0.643,2,    1.777,2,    1.036,2, -999.000,9, 2071.500,2, 2337.200,2
           NA,     P10,      2,   1,-999.0,     -99,  2,20050627,2206,  -3.9808,  144.8340,   827,  203.800,   18.718,   35.472,2,   35.469,2,  127.970,1,  147.950,2,    3.780,2,   10.080,2,    0.010,2,    0.823,2,    1.841,2,    1.031,2, -999.000,9, 2103.100,2, 2336.500,2
           NA,     P10,      2,   1,-999.0,     -99,  2,20050627,2206,  -3.9808,  144.8340,   827,  251.500,   17.158,   35.366,2,   35.340,2,  128.770,1,  149.300,2,    5.320,2,   12.190,2,    0.010,2,    0.963,2,    1.751,6,    0.965,6, -999.000,9, 2116.900,2, 2326.500,2
           NA,     P10,      2,   1,-999.0,     -99,  2,20050627,2206,  -3.9808,  144.8340,   827,  300.900,   14.326,   35.135,2,   35.076,2,  131.150,1,  154.270,2,    8.720,2,   16.270,2,    0.010,2,    1.233,2,    1.533,2,    0.827,2, -999.000,9, 2138.000,2, 2319.000,2
           NA,     P10,      2,   1,-999.0,     -99,  2,20050627,2206,  -3.9808,  144.8340,   827,  402.600,   10.221,   34.769,2,   34.762,2,  137.470,1,  161.750,2,   14.940,2,   21.890,2,    0.010,2,    1.583,2,    1.126,2,    0.579,2, -999.000,9, 2160.500,2, 2308.200,2
           NA,     P10,      2,   1,-999.0,     -99,  2,20050627,2206,  -3.9808,  144.8340,   827,  501.200,    8.330,   34.616,2,   34.607,6,  144.170,1,  169.770,2,   20.830,2,   25.150,2,    0.000,2,    1.790,2,    0.830,2,    0.425,2, -999.000,9, 2174.500,2, 2306.200,2
           NA,     P10,      2,   1,-999.0,     -99,  2,20050627,2206,  -3.9808,  144.8340,   827,  599.800,    7.279,   34.549,2,   34.544,2,  144.130,1,  169.490,2,   26.890,2,   27.290,2,    0.010,2,    1.928,2,    0.607,2,    0.314,2, -999.000,9, 2185.900,2, 2306.300,2
           NA,     P10,      2,   1,-999.0,     -99,  2,20050627,2206,  -3.9808,  144.8340,   827,  700.600,    6.666,   34.518,2,   34.516,2,  142.640,1,  167.300,2,   31.800,2,   28.620,2,    0.010,2,    2.023,2,    0.472,2,    0.245,2, -999.000,9, 2194.500,6, 2311.800,2
           NA,     P10,      2,   1,-999.0,     -99,  2,20050627,2206,  -3.9808,  144.8340,   827,  800.200,    5.657,   34.501,2,   34.503,2,  133.210,1, -999.000,5,   47.690,2,   31.690,2,    0.010,2,    2.250,2,    0.243,6,    0.130,6, -999.000,9, 2223.300,2, 2324.500,6
           NA,     P10,      2,   1,-999.0,     -99,  2,20050627,2206,  -3.9808,  144.8340,   827,  818.800,    5.312,   34.505,2,   34.503,6,  129.030,1,  152.760,6,   49.610,2,   31.980,2,    0.010,2,    2.259,2,    0.222,2,    0.118,2, -999.000,9, 2226.600,2, 2326.700,2
           NA,     P10,      3,   1,-999.0,     -99,  2,20050627,1741,  -3.8892,  144.8897,  1389,   10.200,   28.589,   34.177,2,   34.176,2,  174.060,1,  198.620,6,    1.720,2,    0.040,2,    0.010,2,    0.054,2,    1.431,2,    0.875,2, -999.000,9, 1900.500,2, 2253.400,2
           NA,     P10,      3,   1,-999.0,     -99,  2,20050627,1741,  -3.8892,  144.8897,  1389,   50.100,   28.660,   34.231,2,   34.275,2,  174.030,1,  197.880,2,    1.800,2,    0.030,2,    0.010,2,    0.059,2,    1.444,2,    0.880,2, -999.000,9, 1910.400,6, 2258.000,2
           NA,     P10,      3,   1,-999.0,     -99,  2,20050627,1741,  -3.8892,  144.8897,  1389,  100.000,   27.042,   34.831,2, -999.000,4,  155.380,1,  169.630,2,    1.540,2,    2.200,2,    0.200,2,    0.274,2,    1.602,2,    0.940,2, -999.000,9, 1994.700,2, 2300.400,6
           NA,     P10,      3,   1,-999.0,     -99,  2,20050627,1741,  -3.8892,  144.8897,  1389,  150.100,   21.938,   35.532,2,   35.529,2,  126.590,1,  146.120,2,    2.680,2,    8.130,2,    0.030,2,    0.700,2,    1.808,2,    1.041,2, -999.000,9, 2080.100,2, 2339.900,2
           NA,     P10,      3,   1,-999.0,     -99,  2,20050627,1741,  -3.8892,  144.8897,  1389,  199.800,   19.416,   35.510,2,   35.493,2,  126.550,1,  146.830,2,    3.500,2,    9.700,2,    0.020,2,    0.806,2,    1.809,2,    0.994,2, -999.000,9, 2099.800,2, 2336.700,2
           NA,     P10,      3,   1,-999.0,     -99,  2,20050627,1741,  -3.8892,  144.8897,  1389,  249.100,   15.988,   35.286,2,   35.281,2,  131.230,1,  152.510,2,    5.770,2,   12.820,2,    0.010,2,    1.010,2,    1.712,6,    0.913,6, -999.000,9, 2118.900,2, 2328.700,2
           NA,     P10,      3,   1,-999.0,     -99,  2,20050627,1741,  -3.8892,  144.8897,  1389,  300.000,   14.466,   35.151,2,   35.120,2,  131.940,1,  154.880,2,    7.870,2,   15.380,2,    0.010,2,    1.177,2,    1.575,2,    0.822,2, -999.000,9, 2131.500,2, 2318.000,2
           NA,     P10,      3,   1,-999.0,     -99,  2,20050627,1741,  -3.8892,  144.8897,  1389,  399.100,   10.561,   34.800,2,   34.788,2,  139.890,1,  165.050,2,   13.620,2,   20.960,2,    0.010,2,    1.519,2,    1.165,2,    0.560,2, -999.000,9, 2154.300,2, 2304.200,2
           NA,     P10,      3,   1,-999.0,     -99,  2,20050627,1741,  -3.8892,  144.8897,  1389,  499.400,    8.287,   34.613,2,   34.611,6,  143.570,1, -999.000,5,   20.400,2,   24.940,2,    0.010,2,    1.774,2,    0.796,2,    0.413,2, -999.000,9, 2171.900,2, 2307.100,2
           NA,     P10,      3,   1,-999.0,     -99,  2,20050627,1741,  -3.8892,  144.8897,  1389,  600.100,    7.405,   34.549,2,   34.545,2,  144.010,1,  170.780,2,   24.910,2,   26.870,2,    0.010,2,    1.902,2,    0.613,2,    0.330,2, -999.000,9, 2180.900,2, 2309.500,2
           NA,     P10,      3,   1,-999.0,     -99,  2,20050627,1741,  -3.8892,  144.8897,  1389,  699.200,    6.177,   34.496,2,   34.496,2,  141.010,1,  167.430,2,   35.150,2,   29.510,2,    0.010,2,    2.081,2,    0.366,2,    0.153,2, -999.000,9, 2198.700,6, 2315.900,2
           NA,     P10,      3,   1,-999.0,     -99,  2,20050627,1741,  -3.8892,  144.8897,  1389,  799.600,    5.443,   34.492,2,   34.493,2,  131.850,1,  156.010,2,   47.440,2,   31.830,2,    0.010,2,    2.253,2,    0.196,6,    0.070,6, -999.000,9, 2220.900,2, 2325.100,6
           NA,     P10,      3,   1,-999.0,     -99,  2,20050627,1741,  -3.8892,  144.8897,  1389,  900.300,    4.777,   34.511,2,   34.511,2,  120.630,1,  144.350,2,   61.950,2,   33.710,2,    0.010,2,    2.388,2,    0.106,2,    0.030,2, -999.000,9, 2243.200,2, 2339.800,2
           NA,     P10,      3,   1,-999.0,     -99,  2,20050627,1741,  -3.8892,  144.8897,  1389, 1000.200,    4.588,   34.520,2,   34.522,6,  116.110,1,  137.100,2,   68.450,2,   34.550,2,    0.010,2,    2.458,2,    0.074,2,    0.014,2, -999.000,9, 2255.400,2, 2342.000,2
           NA,     P10,      3,   1,-999.0,     -99,  2,20050627,1741,  -3.8892,  144.8897,  1389, 1202.400,    3.771,   34.570,2,   34.570,2,   92.270,1,  108.800,6,   96.990,2,   37.640,2,    0.010,2,    2.709,2,    0.019,2,   -0.005,2, -999.000,9, 2300.100,2, 2376.700,2
           NA,     P10,      3,   1,-999.0,     -99,  2,20050627,1741,  -3.8892,  144.8897,  1389, 1386.500,    3.349,   34.588,2,   34.588,6,   91.570,1,  107.750,6,  108.000,2,   38.040,2,    0.010,2,    2.741,2,    0.016,2,    0.002,2, -999.000,9, 2313.400,2, 2388.100,2
           NA,     P10,      4,   1,-999.0,     -99,  2,20050627,1253,  -3.6098,  145.0088,  1881,   10.300,   29.247,   34.176,2,   34.175,2,  173.820,1,  198.690,6,    0.860,2,    0.020,2,    0.000,2,    0.068,2,    1.424,2,    0.873,2, -999.000,9, -999.000,9, -999.000,9
           NA,     P10,      4,   1,-999.0,     -99,  2,20050627,1253,  -3.6098,  145.0088,  1881,   50.300,   28.284,   34.343,2, -999.000,4,  173.100,1,  195.410,2,    1.330,2,    0.220,2,    0.050,2,    0.084,2,    1.515,2,    0.916,2, -999.000,9, -999.000,9, -999.000,9
           NA,     P10,      4,   1,-999.0,     -99,  2,20050627,1253,  -3.6098,  145.0088,  1881,   99.500,   26.635,   34.947,2, -999.000,4,  154.100,1,  172.610,2,    1.450,2,    2.760,2,    0.170,2,    0.303,2,    1.628,2,    0.971,2, -999.000,9, -999.000,9, -999.000,9
           NA,     P10,      4,   1,-999.0,     -99,  2,20050627,1253,  -3.6098,  145.0088,  1881,  150.100,   22.399,   35.501,2,   35.507,2,  128.870,1,  148.360,2,    2.390,2,    7.440,2,    0.030,2,    0.638,2,    1.808,2,    1.050,2, -999.000,9, -999.000,9, -999.000,9
           NA,     P10,      4,   1,-999.0,     -99,  2,20050627,1253,  -3.6098,  145.0088,  1881,  198.800,   18.806,   35.471,2,   35.442,2,  124.180,1,  145.720,2,    4.220,2,   10.860,2,    0.010,2,    0.876,2,    1.818,2,    1.014,2, -999.000,9, -999.000,9, -999.000,9
           NA,     P10,      4,   1,-999.0,     -99,  2,20050627,1253,  -3.6098,  145.0088,  1881,  251.200,   15.266,   35.229,2,   35.218,2,  132.920,1,  155.550,2,    6.330,2,   13.580,2,    0.010,2,    1.046,2,    1.745,6,    0.935,6, -999.000,9, -999.000,9, -999.000,9
           NA,     P10,      4,   1,-999.0,     -99,  2,20050627,1253,  -3.6098,  145.0088,  1881,  297.800,   13.637,   35.079,2,   35.064,2,  134.340,1,  157.690,2,    8.650,2,   16.170,2,    0.010,2,    1.219,2,    1.580,2,    0.838,2, -999.000,9, -999.000,9, -999.000,9
           NA,     P10,      4,   1,-999.0,     -99,  2,20050627,1253,  -3.6098,  145.0088,  1881,  399.300,   10.108,   34.757,2,   34.724,2,  132.350,1,  153.730,2,   17.560,2,   23.560,2,    0.010,2,    1.685,2,    1.019,2,    0.525,2, -999.000,9, -999.000,9, -999.000,9
           NA,     P10,      4,   1,-999.0,     -99,  2,20050627,1253,  -3.6098,  145.0088,  1881,  498.500,    8.691,   34.642,2,   34.627,6,  136.530,1,  165.090,2,   20.010,2,   25.010,2,    0.010,2,    1.774,2, -999.000,4, -999.000,4, -999.000,9, -999.000,9, -999.000,9
           NA,     P10,      4,   1,-999.0,     -99,  2,20050627,1253,  -3.6098,  145.0088,  1881,  598.600,    6.745,   34.513,2,   34.512,2,  144.000,1,  171.950,2,   29.120,2,   28.060,2,    0.000,2,    1.975,2,    0.533,2,    0.261,2, -999.000,9, -999.000,9, -999.000,9
           NA,     P10,      4,   1,-999.0,     -99,  2,20050627,1253,  -3.6098,  145.0088,  1881,  700.600,    6.201,   34.503,2,   34.502,2,  133.720,1,  160.730,2,   36.660,2,   30.140,2,    0.000,2,    2.127,2,    0.360,2,    0.186,2, -999.000,9, -999.000,9, -999.000,9
           NA,     P10,      4,   1,-999.0,     -99,  2,20050627,1253,  -3.6098,  145.0088,  1881,  798.600,    5.431,   34.503,2,   34.504,2,  123.800,1,  147.800,2,   50.150,2,   32.600,2,    0.000,2,    2.309,2,    0.182,6,    0.101,6, -999.000,9, -999.000,9, -999.000,9
           NA,     P10,      4,   1,-999.0,     -99,  2,20050627,1253,  -3.6098,  145.0088,  1881,  898.700,    4.913,   34.513,2,   34.513,2,  116.250,1,  139.270,2,   60.920,2,   33.990,2,    0.000,2,    2.419,2, -999.000,9, -999.000,9, -999.000,9, -999.000,9, -999.000,9
           NA,     P10,      4,   1,-999.0,     -99,  2,20050627,1253,  -3.6098,  145.0088,  1881, 1003.300,    4.548,   34.529,2,   34.531,6,  107.410,1,  127.440,2,   72.290,2,   35.400,2,    0.000,2,    2.518,2,    0.059,2,    0.037,2, -999.000,9, -999.000,9, -999.000,9
           NA,     P10,      4,   1,-999.0,     -99,  2,20050627,1253,  -3.6098,  145.0088,  1881, 1204.500,    3.887,   34.565,2,   34.564,2,   92.340,1,  110.660,2,   92.750,2,   37.350,2,    0.000,2,    2.684,2,    0.017,2,    0.012,2, -999.000,9, -999.000,9, -999.000,9
           NA,     P10,      4,   1,-999.0,     -99,  2,20050627,1253,  -3.6098,  145.0088,  1881, 1403.500,    3.344,   34.586,2,   34.586,2,   92.370,1,  110.480,2,  107.360,2,   37.720,2,    0.000,2,    2.723,2,    0.000,2,    0.010,2, -999.000,9, -999.000,9, -999.000,9
           NA,     P10,      4,   1,-999.0,     -99,  2,20050627,1253,  -3.6098,  145.0088,  1881, 1601.000,    2.936,   34.606,2,   34.606,6,   91.020,1,  108.640,2,  118.310,2,   38.250,2,    0.000,2,    2.750,2,    0.002,2,    0.009,2, -999.000,9, -999.000,9, -999.000,9
           NA,     P10,      4,   1,-999.0,     -99,  2,20050627,1253,  -3.6098,  145.0088,  1881, 1802.000,    2.429,   34.629,2,   34.630,2,   94.410,1,  112.680,2,  130.910,2,   38.070,2,    0.000,2,    2.739,2,    0.000,2,    0.007,2, -999.000,9, -999.000,9, -999.000,9
           NA,     P10,      4,   1,-999.0,     -99,  2,20050627,1253,  -3.6098,  145.0088,  1881, 1884.900,    2.308,   34.635,2,   34.635,6,   96.150,1,  114.600,6,  133.540,2,   38.010,2,    0.010,2,    2.741,2,    0.003,2,   -0.003,2, -999.000,9, -999.000,9, -999.000,9