BOTTLE,20214413JOAExport
EXPOCODE,SECT_ID,STNNBR,CASTNO,SAMPNO,BTLNBR,BTLNBR_FLAG_W,DATE,TIME,LATITUDE,LONGITUDE,DEPTH,CTDPRS,CTDTMP,CTDSAL,CTDSAL_FLAG_W,SALNTY,SALNTY_FLAG_W,CTDOXY,CTDOXY_FLAG_W,OXYGEN,OXYGEN_FLAG_W,SILCAT,SILCAT_FLAG_W,NITRAT,NITRAT_FLAG_W,NITRIT,NITRIT_FLAG_W,PHSPHT,PHSPHT_FLAG_W,CFC-11,CFC-11_FLAG_W,CFC-12,CFC-12_FLAG_W,SF6,SF6_FLAG_W,TCARBN,TCARBN_FLAG_W,ALKALI,ALKALI_FLAG_W
,,,,,,,,,,,,,DB,ITS-90,PSS-78,,PSS-78,,UMOL/KG,,UMOL/KG,,UMOL/KG,,UMOL/KG,,UMOL/KG,,UMOL/KG,,PMOL/KG,,PMOL/KG,,FMOL/KG,,UMOL/KG,,UMOL/KG
           NA,     P10,     50,   1,-999.0,     -99,  2,20050616,1831,  13.1733,  149.3247,  5963,    9.600,   28.893,   34.293,2,   34.296,2,  172.600,1,  196.530,6,    0.970,2,    0.040,2,    0.000,2,    0.085,2,    1.457,2,    0.864,2, -999.000,9, -999.000,9, -999.000,9
           NA,     P10,     50,   1,-999.0,     -99,  2,20050616,1831,  13.1733,  149.3247,  5963,   50.000,   28.493,   34.469,2,   34.462,2,  175.640,1,  200.570,2,    0.870,2,    0.030,2,    0.000,2,    0.081,2,    1.500,2,    0.897,2, -999.000,9, -999.000,9, -999.000,9
           NA,     P10,     50,   1,-999.0,     -99,  2,20050616,1831,  13.1733,  149.3247,  5963,  100.300,   27.164,   34.582,2,   34.598,2,  178.960,1,  204.440,2,    0.850,2,    0.020,2,    0.000,2,    0.100,2,    1.584,2,    0.942,2, -999.000,9, -999.000,9, -999.000,9
           NA,     P10,     50,   1,-999.0,     -99,  2,20050616,1831,  13.1733,  149.3247,  5963,  149.700,   24.653,   35.010,2,   35.030,2,  167.930,1,  190.420,2,    1.280,2,    0.180,2,    0.130,2,    0.180,2,    1.895,2,    1.132,2, -999.000,9, -999.000,9, -999.000,9
           NA,     P10,     50,   1,-999.0,     -99,  2,20050616,1831,  13.1733,  149.3247,  5963,  199.400,   19.467,   34.921,2,   34.881,2,  141.540,1,  161.570,2,    4.690,2,    6.120,2,    0.020,2,    0.587,2,    2.293,2,    1.260,2, -999.000,9, -999.000,9, -999.000,9
           NA,     P10,     50,   1,-999.0,     -99,  2,20050616,1831,  13.1733,  149.3247,  5963,  252.500,   14.366,   34.523,2,   34.509,2,  130.620,1,  151.800,2,   12.050,2,   13.600,2,    0.010,2,    1.070,2,    2.456,6,    1.270,6, -999.000,9, -999.000,9, -999.000,9
           NA,     P10,     50,   1,-999.0,     -99,  2,20050616,1831,  13.1733,  149.3247,  5963,  300.900,   11.471,   34.361,2,   34.345,2,  109.120,1,  129.690,2,   22.600,2,   20.940,2,    0.000,2,    1.586,2,    2.088,2,    1.029,2, -999.000,9, -999.000,9, -999.000,9
           NA,     P10,     50,   1,-999.0,     -99,  2,20050616,1831,  13.1733,  149.3247,  5963,  401.900,    8.582,   34.448,2,   34.450,2,   56.010,1,   64.300,2,   42.750,2,   32.630,2,    0.000,2,    2.405,2,    0.525,2,    0.239,2, -999.000,9, -999.000,9, -999.000,9
           NA,     P10,     50,   1,-999.0,     -99,  3,20050616,1831,  13.1733,  149.3247,  5963,  499.200,    7.760,   34.514,2, -999.000,4,   47.480,1,   54.400,2,   50.070,2,   35.710,2,    0.000,2,    2.613,2,    0.161,2,    0.066,2, -999.000,9, -999.000,9, -999.000,9
           NA,     P10,     50,   1,-999.0,     -99,  2,20050616,1831,  13.1733,  149.3247,  5963,  598.200,    6.786,   34.477,2,   34.477,2,   55.980,1,   65.030,2,   60.260,2,   36.400,2,    0.000,2,    2.658,2,    0.155,2,    0.060,2, -999.000,9, -999.000,9, -999.000,9
           NA,     P10,     50,   1,-999.0,     -99,  2,20050616,1831,  13.1733,  149.3247,  5963,  701.500,    6.067,   34.484,2,   34.485,2,   58.990,1,   68.950,2,   69.140,2,   37.370,2,    0.000,2,    2.725,2,    0.101,2,    0.034,2, -999.000,9, -999.000,9, -999.000,9
           NA,     P10,     50,   1,-999.0,     -99,  2,20050616,1831,  13.1733,  149.3247,  5963,  799.800,    5.554,   34.499,2,   34.499,2,   60.350,1,   70.630,2,   76.600,2,   38.000,2,    0.000,2,    2.769,2,    0.066,6,    0.020,6, -999.000,9, -999.000,9, -999.000,9
           NA,     P10,     50,   1,-999.0,     -99,  2,20050616,1831,  13.1733,  149.3247,  5963,  899.500,    5.079,   34.514,2,   34.514,2,   62.370,1,   73.330,2,   83.980,2,   38.470,2,    0.000,2,    2.787,2,    0.036,2,    0.014,2, -999.000,9, -999.000,9, -999.000,9
           NA,     P10,     50,   1,-999.0,     -99,  2,20050616,1831,  13.1733,  149.3247,  5963, 1000.600,    4.631,   34.524,2,   34.525,6,   65.840,1,   77.980,2,   93.260,2,   38.790,2,    0.000,2,    2.814,2,    0.038,2,    0.011,2, -999.000,9, -999.000,9, -999.000,9
           NA,     P10,     50,   1,-999.0,     -99,  2,20050616,1831,  13.1733,  149.3247,  5963, 1200.000,    3.952,   34.559,2,   34.560,2,   61.070,1,   72.190,6,  106.600,2,   40.390,2,    0.000,2,    2.934,2,    0.004,2,    0.000,2, -999.000,9, -999.000,9, -999.000,9
           NA,     P10,     50,   1,-999.0,     -99,  2,20050616,1831,  13.1733,  149.3247,  5963, 1400.500,    3.404,   34.580,2,   34.580,2,   65.040,1,   77.990,2,  117.900,2,   40.400,2,    0.000,2,    2.926,2,    0.004,2,    0.000,2, -999.000,9, -999.000,9, -999.000,9
           NA,     P10,     50,   1,-999.0,     -99,  2,20050616,1831,  13.1733,  149.3247,  5963, 1601.000,    2.864,   34.594,2,   34.594,2,   74.380,1,   90.370,2,  129.180,2,   39.610,2,    0.000,2,    2.855,2,    0.000,2,    0.000,2, -999.000,9, -999.000,9, -999.000,9
           NA,     P10,     50,   1,-999.0,     -99,  2,20050616,1831,  13.1733,  149.3247,  5963, 1801.600,    2.528,   34.612,2, -999.000,3,   80.890,1,   99.360,2,  135.340,2,   39.240,2,    0.000,2,    2.817,2,   -0.002,2,    0.000,2, -999.000,9, -999.000,9, -999.000,9
           NA,     P10,     50,   1,-999.0,     -99,  2,20050616,1831,  13.1733,  149.3247,  5963, 2002.700,    2.248,   34.626,2,   34.626,2,   87.360,1,  108.160,2,  140.070,2,   38.830,2,    0.000,2,    2.777,2,    0.000,2,    0.000,2, -999.000,9, -999.000,9, -999.000,9
           NA,     P10,     50,   1,-999.0,     -99,  2,20050616,1831,  13.1733,  149.3247,  5963, 2201.600,    2.059,   34.638,2,   34.638,6,   91.450,1,  113.820,2,  143.500,2,   38.620,2,    0.000,2,    2.749,2,    0.001,2,    0.000,2, -999.000,9, -999.000,9, -999.000,9
           NA,     P10,     50,   1,-999.0,     -99,  2,20050616,1831,  13.1733,  149.3247,  5963, 2402.900,    1.942,   34.647,2,   34.647,2,   94.710,1,  118.480,2,  145.200,2,   38.320,2,    0.000,2,    2.719,2,   -0.006,2,    0.000,2, -999.000,9, -999.000,9, -999.000,9
           NA,     P10,     50,   1,-999.0,     -99,  2,20050616,1831,  13.1733,  149.3247,  5963, 2602.100,    1.844,   34.654,2,   34.654,2,   97.530,1,  122.840,2,  146.700,2,   38.020,2,    0.000,2,    2.698,2,    0.002,2,    0.000,2, -999.000,9, -999.000,9, -999.000,9
           NA,     P10,     50,   1,-999.0,     -99,  2,20050616,1831,  13.1733,  149.3247,  5963, 2802.000,    1.764,   34.660,2,   34.660,2,  100.490,1,  127.150,2,  147.950,2,   37.780,2,    0.000,2,    2.682,2, -999.000,9, -999.000,9, -999.000,9, -999.000,9, -999.000,9
           NA,     P10,     50,   1,-999.0,     -99,  2,20050616,1831,  13.1733,  149.3247,  5963, 3001.200,    1.697,   34.667,2,   34.667,2,  103.250,1,  131.030,6,  148.720,2,   37.550,2,    0.000,2,    2.658,2, -999.000,9, -999.000,9, -999.000,9, -999.000,9, -999.000,9
           NA,     P10,     50,   1,-999.0,     -99,  2,20050616,1831,  13.1733,  149.3247,  5963, 3251.100,    1.614,   34.673,2,   34.673,6,  107.430,1,  137.240,2,  148.830,2,   37.130,2,    0.000,2,    2.619,2, -999.000,9, -999.000,9, -999.000,9, -999.000,9, -999.000,9
           NA,     P10,     50,   1,-999.0,     -99,  2,20050616,1831,  13.1733,  149.3247,  5963, 3499.900,    1.560,   34.678,2,   34.678,2,  111.650,1,  143.210,2,  147.730,2,   36.770,2,    0.000,2,    2.592,2, -999.000,9, -999.000,9, -999.000,9, -999.000,9, -999.000,9
           NA,     P10,     50,   1,-999.0,     -99,  2,20050616,1831,  13.1733,  149.3247,  5963, 3750.100,    1.522,   34.682,2,   34.682,2,  115.670,1,  149.030,2,  145.940,2,   36.370,2,    0.000,2,    2.559,2, -999.000,9, -999.000,9, -999.000,9, -999.000,9, -999.000,9
           NA,     P10,     50,   1,-999.0,     -99,  2,20050616,1831,  13.1733,  149.3247,  5963, 3999.900,    1.496,   34.686,2,   34.686,2,  119.890,1,  154.820,2,  143.240,2,   35.940,2,    0.000,2,    2.528,2, -999.000,9, -999.000,9, -999.000,9, -999.000,9, -999.000,9
           NA,     P10,     50,   1,-999.0,     -99,  2,20050616,1831,  13.1733,  149.3247,  5963, 4249.700,    1.481,   34.689,2,   34.689,2,  123.510,1,  159.890,2,  140.890,2,   35.590,2,    0.010,2,    2.504,2, -999.000,9, -999.000,9, -999.000,9, -999.000,9, -999.000,9
           NA,     P10,     50,   1,-999.0,     -99,  2,20050616,1831,  13.1733,  149.3247,  5963, 4498.800,    1.470,   34.692,2, -999.000,3,  127.240,1,  163.910,2,  138.280,2,   35.140,2,    0.010,2,    2.469,2, -999.000,9, -999.000,9, -999.000,9, -999.000,9, -999.000,9
           NA,     P10,     50,   1,-999.0,     -99,  2,20050616,1831,  13.1733,  149.3247,  5963, 4751.100,    1.469,   34.694,2,   34.694,2,  130.200,1,  168.710,2,  136.320,2,   34.910,2,    0.000,2,    2.453,2, -999.000,9, -999.000,9, -999.000,9, -999.000,9, -999.000,9
           NA,     P10,     50,   1,-999.0,     -99,  3,20050616,1831,  13.1733,  149.3247,  5963, 4999.000,    1.476,   34.696,2,   34.697,2,  132.530,1,  171.400,6,  134.700,2,   34.630,2,    0.010,2,    2.432,2, -999.000,9, -999.000,9, -999.000,9, -999.000,9, -999.000,9
           NA,     P10,     50,   1,-999.0,     -99,  2,20050616,1831,  13.1733,  149.3247,  5963, 5249.800,    1.492,   34.697,2,   34.697,2,  134.670,1,  173.540,2,  133.110,2,   34.390,2,    0.010,2,    2.411,2, -999.000,9, -999.000,9, -999.000,9, -999.000,9, -999.000,9
           NA,     P10,     50,   1,-999.0,     -99,  2,20050616,1831,  13.1733,  149.3247,  5963, 5499.000,    1.511,   34.698,2,   34.698,2,  136.700,1,  175.290,2,  132.550,2,   34.340,2,    0.000,2,    2.413,2, -999.000,9, -999.000,9, -999.000,9, -999.000,9, -999.000,9
           NA,     P10,     50,   1,-999.0,     -99,  2,20050616,1831,  13.1733,  149.3247,  5963, 5749.300,    1.538,   34.699,2,   34.699,2,  138.300,1,  176.140,2,  132.190,2,   34.310,2,    0.010,2,    2.412,2, -999.000,9, -999.000,9, -999.000,9, -999.000,9, -999.000,9
           NA,     P10,     50,   1,-999.0,     -99,  2,20050616,1831,  13.1733,  149.3247,  5963, 6066.900,    1.573,   34.699,2,   34.700,6,  140.580,1,  176.920,2,  131.510,2,   34.180,2,    0.000,2,    2.405,2, -999.000,9, -999.000,9, -999.000,9, -999.000,9, -999.000,9