BOTTLE,20214413JOAExport
EXPOCODE,SECT_ID,STNNBR,CASTNO,SAMPNO,BTLNBR,BTLNBR_FLAG_W,DATE,TIME,LATITUDE,LONGITUDE,DEPTH,CTDPRS,CTDTMP,CTDSAL,CTDSAL_FLAG_W,SALNTY,SALNTY_FLAG_W,CTDOXY,CTDOXY_FLAG_W,OXYGEN,OXYGEN_FLAG_W,SILCAT,SILCAT_FLAG_W,NITRAT,NITRAT_FLAG_W,NITRIT,NITRIT_FLAG_W,PHSPHT,PHSPHT_FLAG_W,CFC-11,CFC-11_FLAG_W,CFC-12,CFC-12_FLAG_W,SF6,SF6_FLAG_W,TCARBN,TCARBN_FLAG_W,ALKALI,ALKALI_FLAG_W
,,,,,,,,,,,,,DB,ITS-90,PSS-78,,PSS-78,,UMOL/KG,,UMOL/KG,,UMOL/KG,,UMOL/KG,,UMOL/KG,,UMOL/KG,,PMOL/KG,,PMOL/KG,,FMOL/KG,,UMOL/KG,,UMOL/KG
           NA,     P10,     17,   1,-999.0,     -99,  2,20050624,2313,  -0.2412,  146.0692,  4705,   10.600,   29.798,   34.179,2,   34.212,2,  170.970,1,  195.490,6,    0.810,2,    0.040,2,    0.000,2,    0.136,2,    1.362,2,    0.839,2, -999.000,9, 1900.700,2, 2252.000,2
           NA,     P10,     17,   1,-999.0,     -99,  2,20050624,2313,  -0.2412,  146.0692,  4705,   50.400,   30.096,   34.705,2,   34.718,2,  172.070,1,  196.850,2,    0.720,2,    0.010,2,    0.000,2,    0.174,2,    1.370,2,    0.839,2, -999.000,9, 1927.500,6, 2288.600,2
           NA,     P10,     17,   1,-999.0,     -99,  2,20050624,2313,  -0.2412,  146.0692,  4705,   99.800,   26.078,   35.255,2,   35.256,2,  128.060,1,  145.670,2,    2.550,2,    6.530,2,    0.040,2,    0.619,2,    1.593,2,    0.959,2, -999.000,9, 2034.000,2, 2319.400,6
           NA,     P10,     17,   1,-999.0,     -99,  2,20050624,2313,  -0.2412,  146.0692,  4705,  150.600,   23.229,   35.510,2,   35.513,2,  115.200,1,  132.760,2,    3.120,2,    9.140,2,    0.020,2,    0.786,2,    1.739,2,    1.029,2, -999.000,9, 2083.300,2, 2336.500,2
           NA,     P10,     17,   1,-999.0,     -99,  2,20050624,2313,  -0.2412,  146.0692,  4705,  199.800,   17.822,   35.415,2,   35.376,2,  117.720,1,  137.900,2,    5.590,2,   12.900,2,    0.010,2,    1.040,2,    1.738,2,    0.964,2, -999.000,9, 2122.000,2, 2332.600,2
           NA,     P10,     17,   1,-999.0,     -99,  2,20050624,2313,  -0.2412,  146.0692,  4705,  250.100,   13.879,   35.071,2,   35.049,2,  125.100,1,  146.170,2,   10.860,2,   17.150,2,    0.010,2,    1.297,2,    1.486,6,    0.798,6, -999.000,9, 2146.200,2, 2320.400,2
           NA,     P10,     17,   1,-999.0,     -99,  2,20050624,2313,  -0.2412,  146.0692,  4705,  299.600,   11.247,   34.841,2,   34.834,2,  119.340,1,  139.290,2,   17.170,2,   21.970,2,    0.010,2,    1.604,2,    1.119,2,    0.591,2, -999.000,9, 2168.300,2, 2314.200,2
           NA,     P10,     17,   1,-999.0,     -99,  2,20050624,2313,  -0.2412,  146.0692,  4705,  400.100,    9.822,   34.715,2,   34.709,2,   80.390,1,   99.070,2,   26.230,2,   28.830,2,    0.000,2,    2.049,2,    0.589,2,    0.300,2, -999.000,9, 2208.200,2, 2310.900,2
           NA,     P10,     17,   1,-999.0,     -99,  2,20050624,2313,  -0.2412,  146.0692,  4705,  500.300,    8.191,   34.612,2,   34.600,6,  114.020,1,  135.160,2,   29.060,2,   28.850,2,    0.000,2,    2.050,2,    0.513,2,    0.253,2, -999.000,9, 2202.000,2, 2311.400,2
           NA,     P10,     17,   1,-999.0,     -99,  2,20050624,2313,  -0.2412,  146.0692,  4705,  600.300,    6.715,   34.552,2,   34.551,2,   93.650,1,  106.790,2,   44.270,2,   34.290,2,    0.000,2,    2.442,2,    0.175,2,    0.080,2, -999.000,9, 2240.900,2, 2321.700,2
           NA,     P10,     17,   1,-999.0,     -99,  2,20050624,2313,  -0.2412,  146.0692,  4705,  700.700,    6.009,   34.544,2,   34.542,2,   77.980,1,   94.380,2,   55.680,2,   36.800,2,    0.000,2,    2.635,2,    0.062,2,    0.036,2, -999.000,9, 2261.900,6, 2331.200,2
           NA,     P10,     17,   1,-999.0,     -99,  2,20050624,2313,  -0.2412,  146.0692,  4705,  800.400,    5.455,   34.537,2,   34.536,2,   85.740,1,  102.220,2,   62.220,2,   36.790,2,    0.000,2,    2.635,2,    0.056,6,    0.026,6, -999.000,9, 2263.500,2, 2337.400,6
           NA,     P10,     17,   1,-999.0,     -99,  2,20050624,2313,  -0.2412,  146.0692,  4705,  902.000,    4.841,   34.541,2,   34.542,2,   88.570,1,  105.910,2,   74.060,2,   37.040,2,    0.000,2,    2.654,2,    0.034,2,    0.019,2, -999.000,9, 2274.000,2, 2348.600,2
           NA,     P10,     17,   1,-999.0,     -99,  2,20050624,2313,  -0.2412,  146.0692,  4705, 1001.700,    4.421,   34.553,2,   34.553,6,   84.690,1,  101.100,2,   84.110,2,   37.920,2,    0.000,2,    2.728,2,    0.008,2,    0.011,2, -999.000,9, 2290.100,2, 2359.300,2
           NA,     P10,     17,   1,-999.0,     -99,  2,20050624,2313,  -0.2412,  146.0692,  4705, 1200.200,    3.819,   34.569,2,   34.569,2,   86.630,1,  104.540,6,   96.030,2,   38.280,2,    0.000,2,    2.752,2,    0.003,2,    0.005,2, -999.000,9, 2300.700,2, 2373.400,2
           NA,     P10,     17,   1,-999.0,     -99,  2,20050624,2313,  -0.2412,  146.0692,  4705, 1399.300,    3.198,   34.593,2,   34.593,2,   88.790,1,  107.860,2,  110.600,2,   38.420,2,    0.000,2,    2.760,2,    0.002,2,    0.004,2, -999.000,9, 2316.300,2, 2389.700,2
           NA,     P10,     17,   1,-999.0,     -99,  2,20050624,2313,  -0.2412,  146.0692,  4705, 1599.700,    2.724,   34.614,2,   34.614,2,   90.480,1,  110.610,2,  123.060,2,   38.450,2,    0.000,2,    2.754,2,   -0.002,2,    0.004,2, -999.000,9, 2331.400,2, 2403.400,2
           NA,     P10,     17,   1,-999.0,     -99,  2,20050624,2313,  -0.2412,  146.0692,  4705, 1800.400,    2.403,   34.630,2,   34.629,6,   94.770,1,  116.650,2,  129.460,2,   38.280,2,    0.000,2,    2.731,2, -999.000,9, -999.000,9, -999.000,9, 2333.000,2, 2408.900,2
           NA,     P10,     17,   1,-999.0,     -99,  2,20050624,2313,  -0.2412,  146.0692,  4705, 1999.800,    2.227,   34.639,2,   34.639,2,   95.530,1,  118.130,2,  134.650,2,   38.280,2,    0.000,2,    2.725,2,    0.000,2,    0.003,2, -999.000,9, 2336.000,2, 2411.200,2
           NA,     P10,     17,   1,-999.0,     -99,  2,20050624,2313,  -0.2412,  146.0692,  4705, 2200.000,    2.082,   34.646,2,   34.646,2,   98.830,1,  122.820,2,  137.360,2,   37.950,2,    0.000,2,    2.697,2, -999.000,9, -999.000,9, -999.000,9, 2337.700,2, 2414.100,2
           NA,     P10,     17,   1,-999.0,     -99,  2,20050624,2313,  -0.2412,  146.0692,  4705, 2399.800,    1.880,   34.656,2,   34.656,2,  103.060,1,  128.740,2,  141.200,2,   37.580,2,    0.000,2,    2.664,2, -999.000,9, -999.000,9, -999.000,9, 2338.400,2, 2418.800,2
           NA,     P10,     17,   1,-999.0,     -99,  2,20050624,2313,  -0.2412,  146.0692,  4705, 2600.800,    1.726,   34.665,2,   34.664,2,  107.920,1,  135.420,2,  142.880,2,   37.150,2,    0.000,2,    2.628,2, -999.000,9, -999.000,9, -999.000,9, 2337.900,2, 2421.100,6
           NA,     P10,     17,   1,-999.0,     -99,  2,20050624,2313,  -0.2412,  146.0692,  4705, 2799.600,    1.636,   34.670,2,   34.670,6,  111.460,1,  140.320,2,  143.530,2,   36.870,2,    0.000,2,    2.603,2,    0.002,2,    0.006,2, -999.000,9, 2334.200,2, 2423.900,2
           NA,     P10,     17,   1,-999.0,     -99,  2,20050624,2313,  -0.2412,  146.0692,  4705, 3000.700,    1.608,   34.673,2,   34.673,2,  112.900,1,  142.450,6,  143.470,2,   36.760,2,    0.000,2,    2.590,2, -999.000,9, -999.000,9, -999.000,9, 2334.300,2, 2423.500,2
           NA,     P10,     17,   1,-999.0,     -99,  2,20050624,2313,  -0.2412,  146.0692,  4705, 3249.800,    1.572,   34.677,2,   34.677,2,  115.140,1,  145.400,2,  142.920,2,   36.390,2,    0.000,2,    2.561,2, -999.000,9, -999.000,9, -999.000,9, 2331.400,2, 2427.600,2
           NA,     P10,     17,   1,-999.0,     -99,  2,20050624,2313,  -0.2412,  146.0692,  4705, 3502.400,    1.574,   34.679,2,   34.678,2,  116.250,1,  147.020,2,  143.510,2,   36.460,2,    0.000,2,    2.567,2, -999.000,9, -999.000,9, -999.000,9, 2334.100,2, 2424.600,2
           NA,     P10,     17,   1,-999.0,     -99,  2,20050624,2313,  -0.2412,  146.0692,  4705, 3749.900,    1.537,   34.683,2,   34.683,6,  119.430,1,  150.880,2,  143.020,2,   36.190,2,    0.000,2,    2.546,2, -999.000,9, -999.000,9, -999.000,9, 2331.600,2, 2428.600,2
           NA,     P10,     17,   1,-999.0,     -99,  2,20050624,2313,  -0.2412,  146.0692,  4705, 4000.300,    1.533,   34.686,2,   34.685,2,  121.440,1,  153.010,2,  142.810,2,   36.090,2,    0.000,2,    2.539,2,   -0.001,2,    0.000,2, -999.000,9, 2329.300,2, 2424.600,2
           NA,     P10,     17,   1,-999.0,     -99,  2,20050624,2313,  -0.2412,  146.0692,  4705, 4248.500,    1.534,   34.687,2,   34.687,2,  123.740,1,  155.370,2,  142.220,2,   35.960,2,    0.000,2,    2.526,2,    0.019,2,    0.000,2, -999.000,9, 2326.100,6, 2425.300,2
           NA,     P10,     17,   1,-999.0,     -99,  2,20050624,2313,  -0.2412,  146.0692,  4705, 4500.400,    1.551,   34.688,2,   34.688,2,  125.430,1,  156.610,2,  141.840,2,   35.890,2,    0.000,2,    2.523,2, -999.000,9, -999.000,9, -999.000,9, 2326.700,2, 2426.300,6
           NA,     P10,     17,   1,-999.0,     -99,  2,20050624,2313,  -0.2412,  146.0692,  4705, 4749.900,    1.571,   34.688,2,   34.688,2,  126.970,1,  157.370,2,  141.650,2,   35.870,2,    0.000,2,    2.517,2, -999.000,9, -999.000,9, -999.000,9, 2322.600,2, 2424.100,2
           NA,     P10,     17,   1,-999.0,     -99,  2,20050624,2313,  -0.2412,  146.0692,  4705, 4775.500,    1.574,   34.688,2,   34.688,2,  127.240,1,  157.400,2,  141.530,2,   35.800,2,    0.000,2,    2.513,2,    0.001,2,    0.005,2, -999.000,9, 2325.800,6, 2422.900,2
           NA,     P10,     17,   1,-999.0,     -99,  2,20050624,2313,  -0.2412,  146.0692,  4705, 4775.700,    1.574,   34.688,2,   34.688,6,  127.220,1,  157.400,6,  141.460,2,   35.820,2,    0.000,2,    2.519,2,   -0.002,2,    0.000,2, -999.000,9, 2327.100,2, 2422.500,2
           NA,     P10,     18,   1,-999.0,     -99,  2,20050624,1737,   0.0055,  146.1393,  3550,    9.500,   29.643,   34.175,2,   34.191,2,  170.820,1,  195.560,6,    0.860,2,    0.030,2,    0.000,2,    0.126,2,    1.396,2,    0.852,2, -999.000,9, 1896.500,2, 2252.000,2
           NA,     P10,     18,   1,-999.0,     -99,  2,20050624,1737,   0.0055,  146.1393,  3550,   49.700,   29.877,   34.761,2,   34.784,2,  171.270,1,  195.850,2,    0.780,2,    0.020,2,    0.000,2,    0.176,2,    1.411,2,    0.864,2, -999.000,9, 1937.700,6, 2295.800,2
           NA,     P10,     18,   1,-999.0,     -99,  2,20050624,1737,   0.0055,  146.1393,  3550,   99.600,   26.739,   35.293,2,   35.263,2,  134.190,1,  146.910,2,    2.540,2,    6.340,2,    0.140,2,    0.598,2,    1.628,2,    0.951,2, -999.000,9, 2036.200,2, 2324.600,6
           NA,     P10,     18,   1,-999.0,     -99,  2,20050624,1737,   0.0055,  146.1393,  3550,  149.600,   23.283,   35.388,2,   35.443,2,  114.980,1,  132.760,2,    3.420,2,    9.200,2,    0.010,2,    0.763,2,    1.793,2,    1.027,2, -999.000,9, 2080.400,2, 2334.800,2
           NA,     P10,     18,   1,-999.0,     -99,  2,20050624,1737,   0.0055,  146.1393,  3550,  199.000,   18.430,   35.452,2,   35.445,2,  117.130,1,  136.330,2,    4.830,2,   11.970,2,    0.010,2,    0.968,2,    1.805,2,    0.975,2, -999.000,9, 2118.200,2, 2337.400,2
           NA,     P10,     18,   1,-999.0,     -99,  2,20050624,1737,   0.0055,  146.1393,  3550,  250.200,   14.024,   35.084,2,   35.079,2,  125.130,1,  146.360,2,    9.970,2,   16.600,2,    0.010,2,    1.254,2,    1.558,6,    0.815,6, -999.000,9, 2138.000,2, 2318.100,2
           NA,     P10,     18,   1,-999.0,     -99,  2,20050624,1737,   0.0055,  146.1393,  3550,  300.500,   11.436,   34.853,2,   34.840,2,  119.020,1,  138.510,2,   17.170,2,   21.800,2,    0.010,2,    1.593,2,    1.154,2,    0.597,2, -999.000,9, 2166.200,2, 2314.000,2
           NA,     P10,     18,   1,-999.0,     -99,  3,20050624,1737,   0.0055,  146.1393,  3550,  402.200,    9.597,   34.702,2,   34.695,2,   92.020,1,  106.600,2,   26.300,2,   28.480,2,    0.000,2,    2.023,2,    0.619,2,    0.316,2, -999.000,9, 2204.300,2, 2309.100,2
           NA,     P10,     18,   1,-999.0,     -99,  2,20050624,1737,   0.0055,  146.1393,  3550,  500.600,    8.263,   34.616,2,   34.599,6,  117.480,1,  132.570,2,   29.870,2,   29.120,2,    0.000,2,    2.064,2,    0.509,2,    0.245,2, -999.000,9, 2203.200,2, 2311.100,2
           NA,     P10,     18,   1,-999.0,     -99,  2,20050624,1737,   0.0055,  146.1393,  3550,  600.300,    6.728,   34.553,2,   34.553,2,   91.490,1,  102.910,2,   44.680,2,   34.450,2,    0.000,2,    2.456,2,    0.159,2,    0.061,2, -999.000,9, 2241.400,2, 2321.700,2
           NA,     P10,     18,   1,-999.0,     -99,  2,20050624,1737,   0.0055,  146.1393,  3550,  699.800,    6.069,   34.547,2,   34.545,2,   75.160,1,   91.500,2,   55.410,2,   36.890,2,    0.000,2,    2.636,2,    0.066,2,    0.034,2, -999.000,9, 2259.800,6, 2329.200,2
           NA,     P10,     18,   1,-999.0,     -99,  2,20050624,1737,   0.0055,  146.1393,  3550,  800.000,    5.597,   34.539,2,   34.538,2,   83.030,1,   98.640,2,   61.100,2,   36.890,2,    0.000,2,    2.640,2,    0.060,6,    0.033,6, -999.000,9, 2264.200,2, 2334.600,6
           NA,     P10,     18,   1,-999.0,     -99,  2,20050624,1737,   0.0055,  146.1393,  3550,  901.100,    5.099,   34.537,2,   34.537,2,   89.770,1,  106.960,2,   68.580,2,   36.620,2,    0.000,2,    2.616,2,    0.051,2,    0.026,2, -999.000,9, 2269.000,2, 2343.900,2
           NA,     P10,     18,   1,-999.0,     -99,  2,20050624,1737,   0.0055,  146.1393,  3550, 1001.900,    4.470,   34.551,2,   34.551,6,   86.260,1,  103.000,2,   82.150,2,   37.590,2,    0.000,2,    2.694,2,    0.023,2,    0.012,2, -999.000,9, 2286.400,2, 2359.000,2
           NA,     P10,     18,   1,-999.0,     -99,  2,20050624,1737,   0.0055,  146.1393,  3550, 1201.500,    3.954,   34.568,2,   34.568,2,   82.450,1,   99.510,6,   95.330,2,   38.420,2,    0.000,2,    2.765,2,    0.008,2,    0.006,2, -999.000,9, 2303.200,2, 2373.200,2
           NA,     P10,     18,   1,-999.0,     -99,  2,20050624,1737,   0.0055,  146.1393,  3550, 1402.900,    3.152,   34.595,2,   34.595,2,   89.290,1,  108.270,2,  111.420,2,   38.290,2,    0.000,2,    2.748,2,    0.002,2,   -0.001,2, -999.000,9, 2316.900,2, 2388.400,2
           NA,     P10,     18,   1,-999.0,     -99,  2,20050624,1737,   0.0055,  146.1393,  3550, 1602.200,    2.708,   34.614,2,   34.614,6,   90.790,1,  110.740,2,  123.340,2,   38.360,2,    0.000,2,    2.740,2,    0.003,2,   -0.001,2, -999.000,9, 2325.900,2, 2402.200,2
           NA,     P10,     18,   1,-999.0,     -99,  4,20050624,1737,   0.0055,  146.1393,  3550, 1800.400,    2.381,   34.630,2, -999.000,4,   95.250,1, -999.000,4, -999.000,4, -999.000,4, -999.000,4, -999.000,4, -999.000,4, -999.000,4, -999.000,9, -999.000,4, -999.000,4
           NA,     P10,     18,   1,-999.0,     -99,  2,20050624,1737,   0.0055,  146.1393,  3550, 2000.400,    2.202,   34.640,2,   34.639,2,   97.000,1,  119.530,2,  134.610,2,   38.050,2,    0.000,2,    2.702,2,   -0.003,2,    0.000,2, -999.000,9, 2334.000,2, 2411.700,2
           NA,     P10,     18,   1,-999.0,     -99,  2,20050624,1737,   0.0055,  146.1393,  3550, 2201.100,    2.026,   34.648,2,   34.648,6,   99.860,1,  123.330,2,  138.690,2,   37.790,2,    0.000,2,    2.682,2,   -0.003,2,    0.001,2, -999.000,9, 2335.400,2, 2419.200,2
           NA,     P10,     18,   1,-999.0,     -99,  2,20050624,1737,   0.0055,  146.1393,  3550, 2400.200,    1.865,   34.656,2,   34.656,2,  104.290,1,  129.410,2,  140.620,2,   37.360,2,    0.000,2,    2.653,2, -999.000,9, -999.000,9, -999.000,9, 2334.700,6, 2420.000,2
           NA,     P10,     18,   1,-999.0,     -99,  2,20050624,1737,   0.0055,  146.1393,  3550, 2600.300,    1.728,   34.664,2,   34.664,2,  108.780,1,  135.150,2,  142.510,2,   37.080,2,    0.000,2,    2.622,2, -999.000,9, -999.000,9, -999.000,9, 2332.600,2, 2420.900,2
           NA,     P10,     18,   1,-999.0,     -99,  2,20050624,1737,   0.0055,  146.1393,  3550, 2800.600,    1.649,   34.669,2,   34.669,2,  112.320,1,  139.670,2,  143.110,2,   36.830,2,    0.000,2,    2.597,2, -999.000,9, -999.000,9, -999.000,9, 2331.400,2, 2422.700,2
           NA,     P10,     18,   1,-999.0,     -99,  2,20050624,1737,   0.0055,  146.1393,  3550, 3000.000,    1.596,   34.674,2,   34.674,6,  114.950,1,  143.050,6,  143.550,2,   36.630,2,    0.000,2,    2.579,2, -999.000,9, -999.000,9, -999.000,9, 2331.000,2, 2420.300,2
           NA,     P10,     18,   1,-999.0,     -99,  2,20050624,1737,   0.0055,  146.1393,  3550, 3250.600,    1.585,   34.676,2,   34.676,2,  116.830,1,  144.800,2,  142.820,2,   36.380,2,    0.000,2,    2.553,2, -999.000,9, -999.000,9, -999.000,9, 2331.000,2, 2425.900,2
           NA,     P10,     18,   1,-999.0,     -99,  2,20050624,1737,   0.0055,  146.1393,  3550, 3500.000,    1.552,   34.680,2,   34.681,2,  119.980,1,  148.240,2,  143.090,2,   36.270,2,    0.000,2,    2.549,2, -999.000,9, -999.000,9, -999.000,9, 2328.700,2, 2427.300,2
           NA,     P10,     18,   1,-999.0,     -99,  2,20050624,1737,   0.0055,  146.1393,  3550, 3619.300,    1.554,   34.681,2,   34.681,2,  120.880,1,  148.730,2,  143.080,2,   36.280,2,    0.000,2,    2.547,2, -999.000,9, -999.000,9, -999.000,9, 2328.500,2, 2427.300,6
           NA,     P10,     18,   1,-999.0,     -99,  2,20050624,1737,   0.0055,  146.1393,  3550, 3626.400,    1.555,   34.681,2,   34.681,6,  120.940,1,  148.880,6,  143.020,2,   36.260,2,    0.000,2,    2.549,2, -999.000,9, -999.000,9, -999.000,9, 2328.200,2, 2429.600,2