BOTTLE,20214413JOAExport
EXPOCODE,SECT_ID,STNNBR,CASTNO,SAMPNO,BTLNBR,BTLNBR_FLAG_W,DATE,TIME,LATITUDE,LONGITUDE,DEPTH,CTDPRS,CTDTMP,CTDSAL,CTDSAL_FLAG_W,SALNTY,SALNTY_FLAG_W,CTDOXY,CTDOXY_FLAG_W,OXYGEN,OXYGEN_FLAG_W,SILCAT,SILCAT_FLAG_W,NITRAT,NITRAT_FLAG_W,NITRIT,NITRIT_FLAG_W,PHSPHT,PHSPHT_FLAG_W,CFC-11,CFC-11_FLAG_W,CFC-12,CFC-12_FLAG_W,SF6,SF6_FLAG_W,TCARBN,TCARBN_FLAG_W,ALKALI,ALKALI_FLAG_W
,,,,,,,,,,,,,DB,ITS-90,PSS-78,,PSS-78,,UMOL/KG,,UMOL/KG,,UMOL/KG,,UMOL/KG,,UMOL/KG,,UMOL/KG,,PMOL/KG,,PMOL/KG,,FMOL/KG,,UMOL/KG,,UMOL/KG
           NA,    P10N,    121,   1,-999.0,     -99,  2,20050601,0524,  37.7358,  146.9788,  5584,    9.900,   15.402,   34.441,2,   34.441,2,  243.950,1,  262.150,6,    6.280,2,    1.690,2,    0.110,2,    0.239,2,    2.673,2,    1.537,2, -999.000,9, -999.000,9, -999.000,9
           NA,    P10N,    121,   1,-999.0,     -99,  2,20050601,0524,  37.7358,  146.9788,  5584,   50.500,   14.024,   34.445,2,   34.441,2,  240.770,1,  259.260,2,    6.770,2,    3.220,2,    0.300,2,    0.367,2,    2.797,2,    1.585,2, -999.000,9, -999.000,9, -999.000,9
           NA,    P10N,    121,   1,-999.0,     -99,  2,20050601,0524,  37.7358,  146.9788,  5584,  101.300,   10.815,   34.259,2,   34.258,2,  230.800,1,  247.330,2,   15.020,2,   11.090,2,    0.030,2,    0.842,2,    3.179,2,    1.718,2, -999.000,9, -999.000,9, -999.000,9
           NA,    P10N,    121,   1,-999.0,     -99,  2,20050601,0524,  37.7358,  146.9788,  5584,  150.400,    9.367,   34.107,2,   34.108,2,  217.900,1,  234.720,2,   22.150,2,   14.290,2,    0.020,2,    1.082,2,    3.218,2,    1.723,2, -999.000,9, -999.000,9, -999.000,9
           NA,    P10N,    121,   1,-999.0,     -99,  2,20050601,0524,  37.7358,  146.9788,  5584,  200.100,    9.180,   34.151,2,   34.147,2,  245.170,1,  263.050,2,   17.090,2,   11.750,2,    0.020,2,    0.903,2,    3.479,2,    1.910,2, -999.000,9, -999.000,9, -999.000,9
           NA,    P10N,    121,   1,-999.0,     -99,  2,20050601,0524,  37.7358,  146.9788,  5584,  250.200,    7.689,   33.969,2,   33.961,2,  217.360,1,  233.750,2,   30.190,2,   17.980,2,    0.030,2,    1.376,2,    3.447,6,    1.810,6, -999.000,9, -999.000,9, -999.000,9
           NA,    P10N,    121,   1,-999.0,     -99,  2,20050601,0524,  37.7358,  146.9788,  5584,  298.900,    6.630,   33.922,2,   33.918,2,  185.890,1,  199.540,2,   42.880,2,   23.280,2,    0.040,2,    1.755,2,    3.142,2,    1.630,2, -999.000,9, -999.000,9, -999.000,9
           NA,    P10N,    121,   1,-999.0,     -99,  2,20050601,0524,  37.7358,  146.9788,  5584,  399.700,    4.893,   33.906,2,   33.919,2,  132.480,1,  140.600,2,   68.120,2,   31.620,2,    0.020,2,    2.353,2,    2.380,2,    1.240,2, -999.000,9, -999.000,9, -999.000,9
           NA,    P10N,    121,   1,-999.0,     -99,  3,20050601,0524,  37.7358,  146.9788,  5584,  500.200,    4.308,   34.000,2,   34.009,6,   91.370,1,   96.550,2,   87.010,2,   36.400,2,    0.010,2,    2.667,2,    1.702,2,    0.873,2, -999.000,9, -999.000,9, -999.000,9
           NA,    P10N,    121,   1,-999.0,     -99,  2,20050601,0524,  37.7358,  146.9788,  5584,  600.500,    4.043,   34.138,2,   34.158,2,   60.290,1,   63.560,2,  104.000,2,   39.320,2,    0.010,2,    2.863,2,    0.969,2,    0.484,2, -999.000,9, -999.000,9, -999.000,9
           NA,    P10N,    121,   1,-999.0,     -99,  2,20050601,0524,  37.7358,  146.9788,  5584,  700.100,    3.765,   34.232,2,   34.234,2,   47.810,1,   49.660,2,  116.210,2,   40.840,2,    0.010,2,    2.957,2,    0.621,2,    0.311,2, -999.000,9, -999.000,9, -999.000,9
           NA,    P10N,    121,   1,-999.0,     -99,  2,20050601,0524,  37.7358,  146.9788,  5584,  800.500,    3.473,   34.324,2,   34.325,2,   43.130,1,   45.080,2,  126.430,2,   41.520,2,    0.010,2,    3.003,2,    0.302,6,    0.151,6, -999.000,9, -999.000,9, -999.000,9
           NA,    P10N,    121,   1,-999.0,     -99,  2,20050601,0524,  37.7358,  146.9788,  5584,  900.500,    3.255,   34.381,2,   34.382,2,   44.210,1,   45.730,2,  132.510,2,   41.730,2,    0.010,2,    3.008,2,    0.172,2,    0.082,2, -999.000,9, -999.000,9, -999.000,9
           NA,    P10N,    121,   1,-999.0,     -99,  2,20050601,0524,  37.7358,  146.9788,  5584,  999.000,    2.948,   34.410,2,   34.411,6,   40.330,1,   41.400,2,  141.230,2,   42.310,2,    0.010,2,    3.044,2,    0.130,2,    0.067,2, -999.000,9, -999.000,9, -999.000,9
           NA,    P10N,    121,   1,-999.0,     -99,  2,20050601,0524,  37.7358,  146.9788,  5584, 1202.200,    2.541,   34.484,2,   34.483,2,   43.090,1,   44.590,6,  152.390,2,   42.630,2,    0.010,2,    3.055,2,    0.041,2,    0.025,2, -999.000,9, -999.000,9, -999.000,9
           NA,    P10N,    121,   1,-999.0,     -99,  2,20050601,0524,  37.7358,  146.9788,  5584, 1400.800,    2.338,   34.533,2,   34.532,2,   55.420,1,   58.440,2,  154.380,2,   41.890,2,    0.010,2,    2.987,2,    0.011,2,    0.005,2, -999.000,9, -999.000,9, -999.000,9
           NA,    P10N,    121,   1,-999.0,     -99,  2,20050601,0524,  37.7358,  146.9788,  5584, 1600.300,    2.242,   34.549,2,   34.549,2,   59.340,1,   62.680,2,  156.280,2,   41.650,2,    0.010,2,    2.975,2,    0.008,2,    0.003,2, -999.000,9, -999.000,9, -999.000,9
           NA,    P10N,    121,   1,-999.0,     -99,  2,20050601,0524,  37.7358,  146.9788,  5584, 1800.100,    2.168,   34.561,2,   34.561,2,   62.120,1,   65.840,2,  158.220,2,   41.520,2,    0.010,2,    2.960,2,    0.006,2,    0.002,2, -999.000,9, -999.000,9, -999.000,9
           NA,    P10N,    121,   1,-999.0,     -99,  2,20050601,0524,  37.7358,  146.9788,  5584, 1999.400,    2.056,   34.579,2,   34.579,2,   66.610,1,   70.660,2,  160.600,2,   41.250,2,    0.010,2,    2.937,2,   -0.001,2,    0.000,2, -999.000,9, -999.000,9, -999.000,9
           NA,    P10N,    121,   1,-999.0,     -99,  2,20050601,0524,  37.7358,  146.9788,  5584, 2200.200,    1.922,   34.603,2,   34.603,6,   75.890,1,   81.270,2,  161.760,2,   40.680,2,    0.010,2,    2.882,2,   -0.003,2,    0.000,2, -999.000,9, -999.000,9, -999.000,9
           NA,    P10N,    121,   1,-999.0,     -99,  2,20050601,0524,  37.7358,  146.9788,  5584, 2400.600,    1.799,   34.624,2,   34.624,2,   87.690,1,   94.530,2,  161.090,2,   39.770,2,    0.010,2,    2.821,2,   -0.006,2,   -0.006,2, -999.000,9, -999.000,9, -999.000,9
           NA,    P10N,    121,   1,-999.0,     -99,  2,20050601,0524,  37.7358,  146.9788,  5584, 2599.500,    1.708,   34.639,2,   34.639,2,   97.250,1,  105.420,2,  158.220,2,   38.430,2,    0.010,2,    2.712,2,   -0.005,2,   -0.004,2, -999.000,9, -999.000,9, -999.000,9
           NA,    P10N,    121,   1,-999.0,     -99,  2,20050601,0524,  37.7358,  146.9788,  5584, 2799.800,    1.639,   34.651,2,   34.651,2,  106.310,1,  115.450,2,  158.230,2,   38.430,2,    0.010,2,    2.715,2, -999.000,9, -999.000,9, -999.000,9, -999.000,9, -999.000,9
           NA,    P10N,    121,   1,-999.0,     -99,  2,20050601,0524,  37.7358,  146.9788,  5584, 3001.200,    1.588,   34.660,2,   34.660,2,  112.460,1,  122.500,6,  157.740,2,   38.010,2,    0.010,2,    2.680,2, -999.000,9, -999.000,9, -999.000,9, -999.000,9, -999.000,9
           NA,    P10N,    121,   1,-999.0,     -99,  2,20050601,0524,  37.7358,  146.9788,  5584, 3251.700,    1.551,   34.667,2,   34.666,6,  119.420,1,  130.470,2,  155.690,2,   37.550,2,    0.010,2,    2.641,2, -999.000,9, -999.000,9, -999.000,9, -999.000,9, -999.000,9
           NA,    P10N,    121,   1,-999.0,     -99,  2,20050601,0524,  37.7358,  146.9788,  5584, 3499.200,    1.519,   34.674,2,   34.673,2,  125.480,1,  137.350,2,  154.310,2,   37.150,2,    0.010,2,    2.609,2, -999.000,9, -999.000,9, -999.000,9, -999.000,9, -999.000,9
           NA,    P10N,    121,   1,-999.0,     -99,  2,20050601,0524,  37.7358,  146.9788,  5584, 3750.300,    1.500,   34.678,2,   34.678,2,  130.420,1,  142.740,2,  153.140,2,   36.790,2,    0.010,2,    2.584,2, -999.000,9, -999.000,9, -999.000,9, -999.000,9, -999.000,9
           NA,    P10N,    121,   1,-999.0,     -99,  2,20050601,0524,  37.7358,  146.9788,  5584, 4001.200,    1.489,   34.682,2,   34.681,2,  134.380,1,  146.840,2,  152.210,2,   36.510,2,    0.010,2,    2.555,2, -999.000,9, -999.000,9, -999.000,9, -999.000,9, -999.000,9
           NA,    P10N,    121,   1,-999.0,     -99,  2,20050601,0524,  37.7358,  146.9788,  5584, 4250.600,    1.485,   34.685,2,   34.685,2,  138.290,1,  151.000,2,  151.290,2,   36.260,2,    0.010,2,    2.537,2, -999.000,9, -999.000,9, -999.000,9, -999.000,9, -999.000,9
           NA,    P10N,    121,   1,-999.0,     -99,  2,20050601,0524,  37.7358,  146.9788,  5584, 4501.700,    1.486,   34.688,2,   34.687,6,  141.810,1,  154.350,2,  150.220,2,   36.010,2,    0.010,2,    2.520,2, -999.000,9, -999.000,9, -999.000,9, -999.000,9, -999.000,9
           NA,    P10N,    121,   1,-999.0,     -99,  2,20050601,0524,  37.7358,  146.9788,  5584, 4750.100,    1.498,   34.690,2,   34.689,2,  144.500,1,  156.660,2,  149.930,2,   35.870,2,    0.010,2,    2.509,2, -999.000,9, -999.000,9, -999.000,9, -999.000,9, -999.000,9
           NA,    P10N,    121,   1,-999.0,     -99,  2,20050601,0524,  37.7358,  146.9788,  5584, 5001.500,    1.517,   34.691,2,   34.690,2,  146.630,1,  158.220,6,  149.880,2,   35.700,2,    0.010,2,    2.501,2, -999.000,9, -999.000,9, -999.000,9, -999.000,9, -999.000,9
           NA,    P10N,    121,   1,-999.0,     -99,  2,20050601,0524,  37.7358,  146.9788,  5584, 5251.300,    1.540,   34.692,2,   34.691,2,  148.930,1,  159.530,2,  149.010,2,   35.580,2,    0.010,2,    2.488,2, -999.000,9, -999.000,9, -999.000,9, -999.000,9, -999.000,9
           NA,    P10N,    121,   1,-999.0,     -99,  2,20050601,0524,  37.7358,  146.9788,  5584, 5501.600,    1.560,   34.693,2,   34.693,2,  152.280,1,  161.580,2,  147.500,2,   35.440,2,    0.010,2,    2.480,2, -999.000,9, -999.000,9, -999.000,9, -999.000,9, -999.000,9
           NA,    P10N,    121,   1,-999.0,     -99,  2,20050601,0524,  37.7358,  146.9788,  5584, 5654.800,    1.573,   34.694,2,   34.694,6,  155.080,1,  163.490,2,  145.080,2,   35.280,2,    0.010,2,    2.470,2, -999.000,9, -999.000,9, -999.000,9, -999.000,9, -999.000,9
           NA,    P10N,    122,   1,-999.0,     -99,  2,20050531,0758,  38.0055,  146.8250,  5362,   10.900,   15.922,   34.467,2,   34.468,2,  245.800,1,  266.890,6,    6.550,2,    0.550,2,    0.050,2,    0.166,2,    2.777,2,    1.541,2, -999.000,9, 2005.500,2, 2288.800,2
           NA,    P10N,    122,   1,-999.0,     -99,  2,20050531,0758,  38.0055,  146.8250,  5362,   50.100,   13.437,   34.536,2,   34.539,2,  230.420,1,  250.270,2,    7.570,2,    5.130,2,    0.690,2,    0.476,2, -999.000,9, -999.000,9, -999.000,9, 2044.000,6, 2286.100,2
           NA,    P10N,    122,   1,-999.0,     -99,  2,20050531,0758,  38.0055,  146.8250,  5362,  100.100,   12.427,   34.428,2,   34.423,2,  219.530,1,  238.590,2,   11.970,2,    8.930,2,    0.150,2,    0.689,2,    3.003,2,    1.624,2, -999.000,9, 2066.400,2, 2284.900,6
           NA,    P10N,    122,   1,-999.0,     -99,  2,20050531,0758,  38.0055,  146.8250,  5362,  150.000,   10.798,   34.271,2,   34.263,2,  220.620,1,  239.900,2,   16.440,2,   11.880,2,    0.020,2,    0.886,2, -999.000,9, -999.000,9, -999.000,9, 2086.900,2, 2280.300,2
           NA,    P10N,    122,   1,-999.0,     -99,  2,20050531,0758,  38.0055,  146.8250,  5362,  200.300,    9.634,   34.152,2,   34.152,2,  222.160,1,  242.400,2,   19.450,2,   13.240,2,    0.020,2,    1.001,2,    3.370,2,    1.765,2, -999.000,9, 2096.100,2, 2277.500,2
           NA,    P10N,    122,   1,-999.0,     -99,  2,20050531,0758,  38.0055,  146.8250,  5362,  250.100,    8.350,   34.027,2,   34.021,2,  222.020,1,  241.770,2,   24.700,2,   15.610,2,    0.030,2,    1.185,2,    3.556,2,    1.838,2, -999.000,9, 2112.800,2, 2276.200,2
           NA,    P10N,    122,   1,-999.0,     -99,  2,20050531,0758,  38.0055,  146.8250,  5362,  301.100,    7.142,   33.923,2,   33.922,2,  214.280,1,  233.890,2,   31.680,2,   18.980,2,    0.040,2,    1.438,2,    3.643,2,    1.858,2, -999.000,9, 2134.200,2, 2274.400,2
           NA,    P10N,    122,   1,-999.0,     -99,  2,20050531,0758,  38.0055,  146.8250,  5362,  400.200,    5.211,   33.881,2,   33.882,2,  146.210,1,  158.470,2,   61.360,2,   29.870,2,    0.020,2,    2.224,2,    2.849,2,    1.400,2, -999.000,9, 2217.200,2, 2297.600,2
           NA,    P10N,    122,   1,-999.0,     -99,  2,20050531,0758,  38.0055,  146.8250,  5362,  501.700,    4.638,   33.988,2,   33.990,6,  103.640,1,  111.240,2,   79.490,2,   34.770,2,    0.010,2,    2.555,2,    2.002,2,    0.985,2, -999.000,9, 2262.800,2, 2310.500,2
           NA,    P10N,    122,   1,-999.0,     -99,  2,20050531,0758,  38.0055,  146.8250,  5362,  602.800,    4.071,   34.081,2,   34.089,2,   67.720,1,   71.990,2,   98.130,2,   38.860,2,    0.010,2,    2.834,2,    1.299,2,    0.657,2, -999.000,9, 2304.200,2, 2328.600,2
           NA,    P10N,    122,   1,-999.0,     -99,  2,20050531,0758,  38.0055,  146.8250,  5362,  700.400,    3.730,   34.183,2,   34.188,2,   48.110,1, -999.000,5,  113.680,2,   41.130,2,    0.010,2,    2.972,2,    0.765,2,    0.385,2, -999.000,9, 2331.300,6, 2347.100,2
           NA,    P10N,    122,   1,-999.0,     -99,  2,20050531,0758,  38.0055,  146.8250,  5362,  800.900,    3.654,   34.279,2,   34.277,2,   44.750,1,   46.070,2,  121.110,2,   41.470,2,    0.010,2,    3.002,2,    0.419,6,    0.200,6, -999.000,9, 2342.100,2, 2357.400,6
           NA,    P10N,    122,   1,-999.0,     -99,  2,20050531,0758,  38.0055,  146.8250,  5362,  900.900,    3.363,   34.332,2,   34.334,2,   41.170,1,   42.580,2,  128.890,2,   42.050,2,    0.010,2,    3.026,2,    0.252,2,    0.117,2, -999.000,9, 2352.400,2, -999.000,4
           NA,    P10N,    122,   1,-999.0,     -99,  2,20050531,0758,  38.0055,  146.8250,  5362, 1000.300,    3.128,   34.386,2,   34.386,6,   40.240,1,   41.320,2,  135.870,2,   42.320,2,    0.000,2,    3.052,2,    0.137,2,    0.059,2, -999.000,9, 2360.900,2, 2378.700,2
           NA,    P10N,    122,   1,-999.0,     -99,  2,20050531,0758,  38.0055,  146.8250,  5362, 1199.900,    2.748,   34.449,2,   34.448,2,   40.680,1,   41.640,6,  146.650,2,   42.800,2,    0.010,2,    3.073,2,    0.067,2,    0.026,2, -999.000,9, 2371.700,2, 2392.500,2
           NA,    P10N,    122,   1,-999.0,     -99,  2,20050531,0758,  38.0055,  146.8250,  5362, 1402.700,    2.445,   34.501,2,   34.501,2,   43.870,1,   45.120,2,  154.940,2,   42.880,2,    0.010,2,    3.073,2,    0.031,2,    0.025,2, -999.000,9, 2381.300,2, 2404.300,2
           NA,    P10N,    122,   1,-999.0,     -99,  2,20050531,0758,  38.0055,  146.8250,  5362, 1599.800,    2.232,   34.541,2,   34.541,2,   51.000,1,   53.520,2,  159.190,2,   42.500,2,    0.000,2,    3.031,2,    0.023,2,    0.011,2, -999.000,9, 2380.900,2, 2406.300,2
           NA,    P10N,    122,   1,-999.0,     -99,  2,20050531,0758,  38.0055,  146.8250,  5362, 1799.200,    2.078,   34.570,2,   34.570,2,   60.210,1,   63.750,2,  161.530,2,   41.960,2,    0.010,2,    2.979,2,    0.003,2,    0.011,2, -999.000,9, 2378.500,2, 2414.700,2
           NA,    P10N,    122,   1,-999.0,     -99,  2,20050531,0758,  38.0055,  146.8250,  5362, 2001.800,    1.960,   34.593,2,   34.592,2,   68.870,1,   73.080,2,  162.650,2,   41.350,2,    0.010,2,    2.934,2,    0.002,2,    0.005,2, -999.000,9, 2375.300,2, 2413.300,2
           NA,    P10N,    122,   1,-999.0,     -99,  2,20050531,0758,  38.0055,  146.8250,  5362, 2202.800,    1.847,   34.613,2,   34.613,6,   79.600,1,   85.350,2,  162.620,2,   40.550,2,    0.010,2,    2.881,2,   -0.002,2,   -0.002,2, -999.000,9, 2369.000,2, 2418.100,2
           NA,    P10N,    122,   1,-999.0,     -99,  2,20050531,0758,  38.0055,  146.8250,  5362, 2400.200,    1.732,   34.633,2,   34.632,2,   91.850,1,   99.010,2,  161.380,2,   39.820,2,    0.010,2,    2.813,2,    0.002,2,    0.001,2, -999.000,9, 2360.000,6, 2421.700,2
           NA,    P10N,    122,   1,-999.0,     -99,  2,20050531,0758,  38.0055,  146.8250,  5362, 2599.800,    1.667,   34.644,2,   34.644,2,  100.070,1,  108.270,2,  160.230,2,   39.200,2,    0.000,2,    2.759,2,   -0.002,2,    0.013,2, -999.000,9, 2354.100,2, 2420.500,6
           NA,    P10N,    122,   1,-999.0,     -99,  2,20050531,0758,  38.0055,  146.8250,  5362, 2799.800,    1.615,   34.653,2,   34.653,2,  107.680,1,  116.830,2,  157.850,2,   38.650,2,    0.000,2,    2.722,2, -999.000,9, -999.000,9, -999.000,9, 2349.600,2, 2423.800,2
           NA,    P10N,    122,   1,-999.0,     -99,  2,20050531,0758,  38.0055,  146.8250,  5362, 3000.700,    1.560,   34.662,2,   34.662,2,  115.040,1,  125.180,6,  156.720,2,   38.070,2,    0.000,2,    2.676,2, -999.000,9, -999.000,9, -999.000,9, 2344.200,2, 2421.800,2
           NA,    P10N,    122,   1,-999.0,     -99,  2,20050531,0758,  38.0055,  146.8250,  5362, 3249.800,    1.508,   34.671,2,   34.671,6,  123.310,1,  134.430,2,  154.880,2,   37.480,2,    0.000,2,    2.620,2, -999.000,9, -999.000,9, -999.000,9, 2338.100,2, 2425.000,2
           NA,    P10N,    122,   1,-999.0,     -99,  4,20050531,0758,  38.0055,  146.8250,  5362, 3500.900,    1.486,   34.676,2, -999.000,4,  128.600,1, -999.000,4, -999.000,4, -999.000,4, -999.000,4, -999.000,4, -999.000,9, -999.000,9, -999.000,9, -999.000,4, -999.000,4
           NA,    P10N,    122,   1,-999.0,     -99,  2,20050531,0758,  38.0055,  146.8250,  5362, 3749.700,    1.471,   34.680,2,   34.680,2,  133.230,1,  145.400,2,  152.090,2,   36.810,2,    0.000,2,    2.574,2, -999.000,9, -999.000,9, -999.000,9, 2331.400,2, 2425.900,2
           NA,    P10N,    122,   1,-999.0,     -99,  2,20050531,0758,  38.0055,  146.8250,  5362, 4003.100,    1.463,   34.684,2,   34.684,2,  137.500,1,  149.900,2,  150.860,2,   36.550,2,    0.000,2,    2.549,2, -999.000,9, -999.000,9, -999.000,9, 2326.100,2, 2426.300,2
           NA,    P10N,    122,   1,-999.0,     -99,  2,20050531,0758,  38.0055,  146.8250,  5362, 4250.300,    1.463,   34.687,2,   34.687,2,  141.030,1,  153.470,2,  149.940,2,   36.300,2,    0.000,2,    2.529,2, -999.000,9, -999.000,9, -999.000,9, 2325.100,6, 2426.300,2
           NA,    P10N,    122,   1,-999.0,     -99,  2,20050531,0758,  38.0055,  146.8250,  5362, 4501.200,    1.471,   34.689,2,   34.689,6,  144.110,1,  156.370,2,  149.090,2,   36.030,2,    0.010,2,    2.512,2, -999.000,9, -999.000,9, -999.000,9, 2322.700,2, 2421.100,6
           NA,    P10N,    122,   1,-999.0,     -99,  2,20050531,0758,  38.0055,  146.8250,  5362, 4749.500,    1.485,   34.691,2,   34.690,2,  146.200,1,  158.110,2,  149.360,2,   35.950,2,    0.000,2,    2.498,2, -999.000,9, -999.000,9, -999.000,9, 2321.400,2, 2420.400,2
           NA,    P10N,    122,   1,-999.0,     -99,  2,20050531,0758,  38.0055,  146.8250,  5362, 5001.200,    1.506,   34.692,2,   34.691,2,  148.390,1,  159.820,6,  148.480,2,   35.800,2,    0.000,2,    2.495,2, -999.000,9, -999.000,9, -999.000,9, 2319.500,2, 2420.200,2
           NA,    P10N,    122,   1,-999.0,     -99,  2,20050531,0758,  38.0055,  146.8250,  5362, 5249.700,    1.529,   34.693,2,   34.691,2,  150.870,1,  161.230,2,  147.080,2,   35.710,2,    0.000,2,    2.491,2, -999.000,9, -999.000,9, -999.000,9, 2316.000,2, 2422.200,2
           NA,    P10N,    122,   1,-999.0,     -99,  2,20050531,0758,  38.0055,  146.8250,  5362, 5457.500,    1.550,   34.693,2,   34.693,6,  153.070,1,  162.400,2,  145.930,2,   35.600,2,    0.010,2,    2.483,2, -999.000,9, -999.000,9, -999.000,9, 2317.500,2, 2417.800,2