BOTTLE,20214413JOAExport
EXPOCODE,SECT_ID,STNNBR,CASTNO,SAMPNO,BTLNBR,BTLNBR_FLAG_W,DATE,TIME,LATITUDE,LONGITUDE,DEPTH,CTDPRS,CTDTMP,CTDSAL,CTDSAL_FLAG_W,SALNTY,SALNTY_FLAG_W,CTDOXY,CTDOXY_FLAG_W,OXYGEN,OXYGEN_FLAG_W,SILCAT,SILCAT_FLAG_W,NITRAT,NITRAT_FLAG_W,NITRIT,NITRIT_FLAG_W,PHSPHT,PHSPHT_FLAG_W,CFC-11,CFC-11_FLAG_W,CFC-12,CFC-12_FLAG_W,SF6,SF6_FLAG_W,TCARBN,TCARBN_FLAG_W,ALKALI,ALKALI_FLAG_W
,,,,,,,,,,,,,DB,ITS-90,PSS-78,,PSS-78,,UMOL/KG,,UMOL/KG,,UMOL/KG,,UMOL/KG,,UMOL/KG,,UMOL/KG,,PMOL/KG,,PMOL/KG,,FMOL/KG,,UMOL/KG,,UMOL/KG
           NA,    P10N,    109,   1,-999.0,     -99,  2,20050604,0521,  34.7387,  148.8795,  6145,    9.100,   21.278,   34.690,2,   34.690,2,  195.720,1,  223.380,6,    1.540,2,    0.010,2,    0.010,2,    0.042,2,    1.995,2,    1.202,2, -999.000,9, -999.000,9, -999.000,9
           NA,    P10N,    109,   1,-999.0,     -99,  2,20050604,0521,  34.7387,  148.8795,  6145,   49.100,   20.889,   34.731,2,   34.734,2,  196.100,1,  223.560,2,    1.890,2,    0.040,2,    0.030,2,    0.055,2,    2.012,2,    1.194,2, -999.000,9, -999.000,9, -999.000,9
           NA,    P10N,    109,   1,-999.0,     -99,  2,20050604,0521,  34.7387,  148.8795,  6145,   99.100,   20.193,   34.821,2,   34.820,2,  188.920,1,  215.680,2,    2.130,2,    0.850,2,    0.200,2,    0.111,2,    2.053,2,    1.220,2, -999.000,9, -999.000,9, -999.000,9
           NA,    P10N,    109,   1,-999.0,     -99,  2,20050604,0521,  34.7387,  148.8795,  6145,  150.700,   19.596,   34.862,2,   34.854,2,  189.270,1,  215.580,2,    2.390,2,    1.300,2,    0.140,2,    0.130,2,    2.091,2,    1.246,2, -999.000,9, -999.000,9, -999.000,9
           NA,    P10N,    109,   1,-999.0,     -99,  2,20050604,0521,  34.7387,  148.8795,  6145,  199.400,   18.785,   34.805,2,   34.824,2,  179.620,1,  206.800,2,    3.670,2,    3.120,2,    0.030,2,    0.239,2,    2.150,2,    1.266,2, -999.000,9, -999.000,9, -999.000,9
           NA,    P10N,    109,   1,-999.0,     -99,  2,20050604,0521,  34.7387,  148.8795,  6145,  248.700,   18.042,   34.806,2,   34.809,2,  176.300,1,  203.360,2,    4.140,2,    4.080,2,    0.020,2,    0.299,2,    2.227,6,    1.307,6, -999.000,9, -999.000,9, -999.000,9
           NA,    P10N,    109,   1,-999.0,     -99,  2,20050604,0521,  34.7387,  148.8795,  6145,  299.200,   17.296,   34.772,2,   34.766,2,  175.210,1,  202.660,2,    4.780,2,    5.170,2,    0.010,2,    0.368,2,    2.303,2,    1.332,2, -999.000,9, -999.000,9, -999.000,9
           NA,    P10N,    109,   1,-999.0,     -99,  2,20050604,0521,  34.7387,  148.8795,  6145,  398.900,   15.829,   34.652,2,   34.646,2,  165.160,1,  191.250,2,    9.230,2,    8.530,2,    0.010,2,    0.605,2,    2.347,2,    1.326,2, -999.000,9, -999.000,9, -999.000,9
           NA,    P10N,    109,   1,-999.0,     -99,  2,20050604,0521,  34.7387,  148.8795,  6145,  500.200,   13.275,   34.481,2,   34.477,6,  152.200,1,  177.440,2,   17.870,2,   13.760,2,    0.010,2,    0.985,2,    2.324,2,    1.270,2, -999.000,9, -999.000,9, -999.000,9
           NA,    P10N,    109,   1,-999.0,     -99,  2,20050604,0521,  34.7387,  148.8795,  6145,  599.400,   10.499,   34.329,2,   34.324,2,  132.110,1,  155.770,2,   33.650,2,   20.380,2,    0.010,2,    1.477,2,    2.044,2,    1.083,2, -999.000,9, -999.000,9, -999.000,9
           NA,    P10N,    109,   1,-999.0,     -99,  2,20050604,0521,  34.7387,  148.8795,  6145,  699.300,    9.040,   34.305,2,   34.304,2,  110.220,1,  129.560,2,   48.160,2,   25.290,2,    0.010,2,    1.841,2,    1.600,2,    0.823,2, -999.000,9, -999.000,9, -999.000,9
           NA,    P10N,    109,   1,-999.0,     -99,  3,20050604,0521,  34.7387,  148.8795,  6145,  799.300,    7.417,   34.255,2,   34.243,2,   95.240,1,  113.630,2,   62.860,2,   29.710,2,    0.010,2,    2.166,2,    1.335,6,    0.675,6, -999.000,9, -999.000,9, -999.000,9
           NA,    P10N,    109,   1,-999.0,     -99,  2,20050604,0521,  34.7387,  148.8795,  6145,  899.500,    5.557,   34.197,2,   34.199,2,   77.370,1,   90.770,2,   82.730,2,   34.760,2,    0.000,2,    2.529,2,    1.051,2,    0.516,2, -999.000,9, -999.000,9, -999.000,9
           NA,    P10N,    109,   1,-999.0,     -99,  2,20050604,0521,  34.7387,  148.8795,  6145, 1000.400,    4.500,   34.201,2,   34.201,6,   58.470,1,   69.680,2,   99.430,2,   38.350,2,    0.000,2,    2.790,2,    0.824,2,    0.392,2, -999.000,9, -999.000,9, -999.000,9
           NA,    P10N,    109,   1,-999.0,     -99,  2,20050604,0521,  34.7387,  148.8795,  6145, 1200.300,    3.410,   34.310,2,   34.310,2,   37.760,1,   43.490,6,  127.830,2,   41.700,2,    0.000,2,    3.014,2,    0.387,2,    0.175,2, -999.000,9, -999.000,9, -999.000,9
           NA,    P10N,    109,   1,-999.0,     -99,  2,20050604,0521,  34.7387,  148.8795,  6145, 1400.300,    3.022,   34.408,2,   34.408,2,   37.960,1,   43.340,2,  139.440,2,   42.120,2,    0.010,2,    3.035,2,    0.149,2,    0.064,2, -999.000,9, -999.000,9, -999.000,9
           NA,    P10N,    109,   1,-999.0,     -99,  2,20050604,0521,  34.7387,  148.8795,  6145, 1600.200,    2.638,   34.472,2,   34.472,2,   37.490,1,   43.070,2,  150.800,2,   42.720,2,    0.010,2,    3.062,2,    0.045,2,    0.004,2, -999.000,9, -999.000,9, -999.000,9
           NA,    P10N,    109,   1,-999.0,     -99,  2,20050604,0521,  34.7387,  148.8795,  6145, 1799.400,    2.363,   34.525,2,   34.525,2,   43.900,1,   51.190,2,  155.970,2,   42.160,2,    0.010,2,    3.036,2,    0.010,2,    0.003,2, -999.000,9, -999.000,9, -999.000,9
           NA,    P10N,    109,   1,-999.0,     -99,  2,20050604,0521,  34.7387,  148.8795,  6145, 2001.000,    2.156,   34.563,2,   34.562,2,   52.520,1,   61.960,2,  160.420,2,   41.850,2,    0.000,2,    2.978,2,    0.000,2,   -0.001,2, -999.000,9, -999.000,9, -999.000,9
           NA,    P10N,    109,   1,-999.0,     -99,  2,20050604,0521,  34.7387,  148.8795,  6145, 2199.300,    2.002,   34.590,2,   34.590,6,   61.390,1,   73.500,2,  161.850,2,   41.150,2,    0.000,2,    2.928,2,    0.000,2,   -0.003,2, -999.000,9, -999.000,9, -999.000,9
           NA,    P10N,    109,   1,-999.0,     -99,  2,20050604,0521,  34.7387,  148.8795,  6145, 2400.100,    1.873,   34.614,2,   34.614,2,   71.810,1,   87.250,2,  161.150,2,   40.220,2,    0.000,2,    2.853,2, -999.000,9, -999.000,9, -999.000,9, -999.000,9, -999.000,9
           NA,    P10N,    109,   1,-999.0,     -99,  2,20050604,0521,  34.7387,  148.8795,  6145, 2601.300,    1.777,   34.631,2,   34.631,2,   81.070,1,   99.630,2,  160.000,2,   39.520,2,    0.000,2,    2.803,2, -999.000,9, -999.000,9, -999.000,9, -999.000,9, -999.000,9
           NA,    P10N,    109,   1,-999.0,     -99,  2,20050604,0521,  34.7387,  148.8795,  6145, 2800.000,    1.708,   34.643,2,   34.643,2,   88.200,1,  109.070,2,  159.000,2,   38.960,2,    0.000,2,    2.749,2, -999.000,9, -999.000,9, -999.000,9, -999.000,9, -999.000,9
           NA,    P10N,    109,   1,-999.0,     -99,  2,20050604,0521,  34.7387,  148.8795,  6145, 3000.500,    1.655,   34.652,2,   34.652,2,   94.380,1,  117.450,6,  157.010,2,   38.360,2,    0.010,2,    2.704,2, -999.000,9, -999.000,9, -999.000,9, -999.000,9, -999.000,9
           NA,    P10N,    109,   1,-999.0,     -99,  2,20050604,0521,  34.7387,  148.8795,  6145, 3250.000,    1.596,   34.663,2,   34.663,6,  101.340,1,  127.110,2,  155.530,2,   37.800,2,    0.000,2,    2.656,2, -999.000,9, -999.000,9, -999.000,9, -999.000,9, -999.000,9
           NA,    P10N,    109,   1,-999.0,     -99,  2,20050604,0521,  34.7387,  148.8795,  6145, 3499.300,    1.554,   34.670,2,   34.670,2,  106.880,1,  134.770,2,  153.760,2,   37.310,2,    0.000,2,    2.618,2, -999.000,9, -999.000,9, -999.000,9, -999.000,9, -999.000,9
           NA,    P10N,    109,   1,-999.0,     -99,  2,20050604,0521,  34.7387,  148.8795,  6145, 3749.700,    1.529,   34.675,2,   34.675,2,  110.600,1,  139.930,2,  153.170,2,   36.940,2,    0.010,2,    2.603,2, -999.000,9, -999.000,9, -999.000,9, -999.000,9, -999.000,9
           NA,    P10N,    109,   1,-999.0,     -99,  2,20050604,0521,  34.7387,  148.8795,  6145, 3999.700,    1.511,   34.680,2,   34.680,2,  114.500,1,  145.200,2,  151.560,2,   36.580,2,    0.000,2,    2.562,2, -999.000,9, -999.000,9, -999.000,9, -999.000,9, -999.000,9
           NA,    P10N,    109,   1,-999.0,     -99,  2,20050604,0521,  34.7387,  148.8795,  6145, 4249.200,    1.504,   34.683,2,   34.683,2,  117.500,1,  149.150,2,  150.480,2,   36.300,2,    0.000,2,    2.547,2, -999.000,9, -999.000,9, -999.000,9, -999.000,9, -999.000,9
           NA,    P10N,    109,   1,-999.0,     -99,  2,20050604,0521,  34.7387,  148.8795,  6145, 4499.200,    1.502,   34.686,2,   34.687,6,  120.470,1,  153.210,2,  149.030,2,   36.020,2,    0.000,2,    2.518,2, -999.000,9, -999.000,9, -999.000,9, -999.000,9, -999.000,9
           NA,    P10N,    109,   1,-999.0,     -99,  2,20050604,0521,  34.7387,  148.8795,  6145, 4749.600,    1.508,   34.688,2,   34.689,2,  123.140,1,  156.500,2,  147.950,2,   35.840,2,    0.000,2,    2.509,2, -999.000,9, -999.000,9, -999.000,9, -999.000,9, -999.000,9
           NA,    P10N,    109,   1,-999.0,     -99,  2,20050604,0521,  34.7387,  148.8795,  6145, 4999.900,    1.520,   34.690,2,   34.690,2,  125.290,1,  158.960,6,  146.870,2,   35.630,2,    0.000,2,    2.492,2, -999.000,9, -999.000,9, -999.000,9, -999.000,9, -999.000,9
           NA,    P10N,    109,   1,-999.0,     -99,  2,20050604,0521,  34.7387,  148.8795,  6145, 5250.100,    1.538,   34.692,2,   34.692,2,  127.760,1,  161.570,2,  144.610,2,   35.480,2,    0.010,2,    2.481,2, -999.000,9, -999.000,9, -999.000,9, -999.000,9, -999.000,9
           NA,    P10N,    109,   1,-999.0,     -99,  2,20050604,0521,  34.7387,  148.8795,  6145, 5500.700,    1.560,   34.693,2,   34.693,2,  129.780,1,  163.350,2,  143.470,2,   35.330,2,    0.000,2,    2.467,2, -999.000,9, -999.000,9, -999.000,9, -999.000,9, -999.000,9
           NA,    P10N,    109,   1,-999.0,     -99,  2,20050604,0521,  34.7387,  148.8795,  6145, 5751.100,    1.584,   34.693,2,   34.694,2,  131.760,1,  164.960,2,  142.290,2,   35.220,2,    0.000,2,    2.457,2, -999.000,9, -999.000,9, -999.000,9, -999.000,9, -999.000,9
           NA,    P10N,    109,   1,-999.0,     -99,  2,20050604,0521,  34.7387,  148.8795,  6145, 6255.300,    1.639,   34.695,2,   34.695,6,  135.740,1,  167.560,2,  140.020,2,   35.080,2,    0.000,2,    2.441,2, -999.000,9, -999.000,9, -999.000,9, -999.000,9, -999.000,9