BOTTLE,20214413JOAExport
EXPOCODE,SECT_ID,STNNBR,CASTNO,SAMPNO,BTLNBR,BTLNBR_FLAG_W,DATE,TIME,LATITUDE,LONGITUDE,DEPTH,CTDPRS,CTDTMP,CTDSAL,CTDSAL_FLAG_W,SALNTY,SALNTY_FLAG_W,CTDOXY,CTDOXY_FLAG_W,OXYGEN,OXYGEN_FLAG_W,SILCAT,SILCAT_FLAG_W,NITRAT,NITRAT_FLAG_W,NITRIT,NITRIT_FLAG_W,PHSPHT,PHSPHT_FLAG_W,CFC-11,CFC-11_FLAG_W,CFC-12,CFC-12_FLAG_W,SF6,SF6_FLAG_W,TCARBN,TCARBN_FLAG_W,ALKALI,ALKALI_FLAG_W
,,,,,,,,,,,,,DB,ITS-90,PSS-78,,PSS-78,,UMOL/KG,,UMOL/KG,,UMOL/KG,,UMOL/KG,,UMOL/KG,,UMOL/KG,,PMOL/KG,,PMOL/KG,,FMOL/KG,,UMOL/KG,,UMOL/KG
           NA,    P10N,    125,   1,-999.0,     -99,  2,20050530,0824,  38.7635,  146.3325,  5282,   10.500,   18.474,   34.556,2,   34.558,2,  231.770,1,  245.350,6,    1.740,2,    0.020,2,    0.010,2,    0.074,2,    2.466,2,    1.408,2, -999.000,9, -999.000,9, -999.000,9
           NA,    P10N,    125,   1,-999.0,     -99,  2,20050530,0824,  38.7635,  146.3325,  5282,   50.500,   13.412,   34.334,2,   34.336,2,  243.590,1,  257.000,2,    5.550,2,    3.360,2,    0.200,2,    0.419,2,    3.190,2,    1.711,2, -999.000,9, -999.000,9, -999.000,9
           NA,    P10N,    125,   1,-999.0,     -99,  2,20050530,0824,  38.7635,  146.3325,  5282,  100.100,   10.728,   34.247,2,   34.244,2,  231.080,1,  244.260,2,   15.600,2,   11.510,2,    0.030,2,    0.880,2, -999.000,5, -999.000,5, -999.000,9, -999.000,9, -999.000,9
           NA,    P10N,    125,   1,-999.0,     -99,  2,20050530,0824,  38.7635,  146.3325,  5282,  150.700,    8.134,   33.966,2,   33.948,2,  233.400,1,  245.990,2,   24.860,2,   15.410,2,    0.030,2,    1.197,2,    3.780,2,    1.959,2, -999.000,9, -999.000,9, -999.000,9
           NA,    P10N,    125,   1,-999.0,     -99,  2,20050530,0824,  38.7635,  146.3325,  5282,  202.700,    5.799,   33.721,2,   33.728,2,  232.410,1,  244.580,2,   36.360,2,   20.180,2,    0.030,2,    1.574,2,    4.078,2,    2.106,2, -999.000,9, -999.000,9, -999.000,9
           NA,    P10N,    125,   1,-999.0,     -99,  2,20050530,0824,  38.7635,  146.3325,  5282,  250.300,    6.334,   33.913,2,   33.896,2,  177.580,1,  188.960,2,   47.550,2,   24.920,2,    0.040,2,    1.883,2,    3.234,6,    1.607,6, -999.000,9, -999.000,9, -999.000,9
           NA,    P10N,    125,   1,-999.0,     -99,  2,20050530,0824,  38.7635,  146.3325,  5282,  301.400,    6.087,   33.979,2,   33.981,2,  147.840,1,  155.170,2,   56.660,2,   28.190,2,    0.030,2,    2.097,2,    2.541,2,    1.284,2, -999.000,9, -999.000,9, -999.000,9
           NA,    P10N,    125,   1,-999.0,     -99,  2,20050530,0824,  38.7635,  146.3325,  5282,  401.600,    4.791,   33.974,2,   33.975,2,  115.180,1,  120.390,2,   75.890,2,   33.740,2,    0.010,2,    2.490,2,    2.162,2,    1.033,2, -999.000,9, -999.000,9, -999.000,9
           NA,    P10N,    125,   1,-999.0,     -99,  2,20050530,0824,  38.7635,  146.3325,  5282,  500.800,    4.538,   34.079,2,   34.079,6,   83.470,1,   87.180,2,   89.290,2,   36.900,2,    0.000,2,    2.689,2,    1.559,2,    0.755,2, -999.000,9, -999.000,9, -999.000,9
           NA,    P10N,    125,   1,-999.0,     -99,  2,20050530,0824,  38.7635,  146.3325,  5282,  600.700,    4.311,   34.180,2,   34.181,2,   64.340,1,   66.000,2,  101.680,2,   38.860,2,    0.000,2,    2.828,2,    0.979,2,    0.458,2, -999.000,9, -999.000,9, -999.000,9
           NA,    P10N,    125,   1,-999.0,     -99,  2,20050530,0824,  38.7635,  146.3325,  5282,  700.000,    3.952,   34.256,2,   34.256,2,   52.970,1,   54.060,2,  113.180,2,   40.390,2,    0.000,2,    2.916,2,    0.605,2,    0.273,2, -999.000,9, -999.000,9, -999.000,9
           NA,    P10N,    125,   1,-999.0,     -99,  2,20050530,0824,  38.7635,  146.3325,  5282,  800.300,    3.615,   34.303,2,   34.304,2,   46.450,1,   47.140,2,  122.530,2,   41.290,2,    0.010,2,    2.989,2,    0.415,6,    0.190,6, -999.000,9, -999.000,9, -999.000,9
           NA,    P10N,    125,   1,-999.0,     -99,  2,20050530,0824,  38.7635,  146.3325,  5282,  900.000,    3.309,   34.357,2,   34.356,2,   42.120,1,   42.290,2,  130.770,2,   41.990,2,    0.010,2,    3.024,2,    0.232,2,    0.115,2, -999.000,9, -999.000,9, -999.000,9
           NA,    P10N,    125,   1,-999.0,     -99,  2,20050530,0824,  38.7635,  146.3325,  5282, 1002.400,    3.076,   34.397,2,   34.395,6,   41.420,1,   41.790,2,  137.370,2,   42.250,2,    0.010,2,    3.048,2,    0.153,2,    0.079,2, -999.000,9, -999.000,9, -999.000,9
           NA,    P10N,    125,   1,-999.0,     -99,  2,20050530,0824,  38.7635,  146.3325,  5282, 1201.100,    2.742,   34.457,2,   34.456,2,   43.700,1,   44.140,6,  146.480,2,   42.470,2,    0.010,2,    3.061,2,    0.078,2,    0.048,2, -999.000,9, -999.000,9, -999.000,9
           NA,    P10N,    125,   1,-999.0,     -99,  2,20050530,0824,  38.7635,  146.3325,  5282, 1401.200,    2.391,   34.491,2,   34.490,2,   43.570,1,   44.160,2,  157.660,2,   42.680,2,    0.010,2,    3.078,2,    0.072,2,    0.042,2, -999.000,9, -999.000,9, -999.000,9
           NA,    P10N,    125,   1,-999.0,     -99,  2,20050530,0824,  38.7635,  146.3325,  5282, 1602.200,    2.215,   34.534,2,   34.533,2,   51.630,1,   52.620,2,  161.280,2,   42.360,2,    0.010,2,    3.034,2,    0.029,2,    0.023,2, -999.000,9, -999.000,9, -999.000,9
           NA,    P10N,    125,   1,-999.0,     -99,  2,20050530,0824,  38.7635,  146.3325,  5282, 1803.500,    2.062,   34.569,2,   34.568,2,   61.500,1,   63.440,2,  163.090,2,   41.810,2,    0.000,2,    2.985,2,    0.011,2,    0.008,2, -999.000,9, -999.000,9, -999.000,9
           NA,    P10N,    125,   1,-999.0,     -99,  2,20050530,0824,  38.7635,  146.3325,  5282, 2000.900,    1.931,   34.597,2,   34.596,2,   73.050,1,   75.990,2,  163.080,2,   41.060,2,    0.000,2,    2.923,2,    0.002,2,    0.003,2, -999.000,9, -999.000,9, -999.000,9
           NA,    P10N,    125,   1,-999.0,     -99,  2,20050530,0824,  38.7635,  146.3325,  5282, 2200.600,    1.814,   34.617,2,   34.617,6,   83.770,1,   87.770,2,  163.320,2,   40.370,2,    0.000,2,    2.870,2,   -0.003,2,    0.000,2, -999.000,9, -999.000,9, -999.000,9
           NA,    P10N,    125,   1,-999.0,     -99,  2,20050530,0824,  38.7635,  146.3325,  5282, 2401.000,    1.723,   34.634,2,   34.633,2,   95.030,1,  100.200,2,  161.640,2,   39.590,2,    0.000,2,    2.807,2,    0.004,2,    0.007,2, -999.000,9, -999.000,9, -999.000,9
           NA,    P10N,    125,   1,-999.0,     -99,  2,20050530,0824,  38.7635,  146.3325,  5282, 2401.900,    1.723,   34.634,2,   34.634,2,   95.010,1,  100.470,2,  161.450,2,   39.520,2,    0.000,2,    2.801,2, -999.000,9, -999.000,9, -999.000,9, -999.000,9, -999.000,9
           NA,    P10N,    125,   1,-999.0,     -99,  2,20050530,0824,  38.7635,  146.3325,  5282, 2601.700,    1.650,   34.646,2,   34.646,2,  104.540,1,  110.500,2,  160.000,2,   38.940,2,    0.000,2,    2.761,2,   -0.003,2,   -0.003,2, -999.000,9, -999.000,9, -999.000,9
           NA,    P10N,    125,   1,-999.0,     -99,  2,20050530,0824,  38.7635,  146.3325,  5282, 2801.400,    1.598,   34.656,2,   34.655,2,  111.500,1,  118.430,2,  158.700,2,   38.400,2,    0.000,2,    2.715,2, -999.000,9, -999.000,9, -999.000,9, -999.000,9, -999.000,9
           NA,    P10N,    125,   1,-999.0,     -99,  2,20050530,0824,  38.7635,  146.3325,  5282, 3002.300,    1.552,   34.663,2,   34.663,2,  118.640,1,  126.230,6,  157.240,2,   37.920,2,    0.000,2,    2.679,2, -999.000,9, -999.000,9, -999.000,9, -999.000,9, -999.000,9
           NA,    P10N,    125,   1,-999.0,     -99,  2,20050530,0824,  38.7635,  146.3325,  5282, 3251.400,    1.511,   34.671,2,   34.671,6,  125.850,1,  135.890,2,  155.260,2,   37.270,2,    0.000,2,    2.618,2, -999.000,9, -999.000,9, -999.000,9, -999.000,9, -999.000,9
           NA,    P10N,    125,   1,-999.0,     -99,  2,20050530,0824,  38.7635,  146.3325,  5282, 3500.500,    1.482,   34.677,2,   34.676,2,  132.040,1,  141.630,2,  153.830,2,   36.880,2,    0.000,2,    2.587,2, -999.000,9, -999.000,9, -999.000,9, -999.000,9, -999.000,9
           NA,    P10N,    125,   1,-999.0,     -99,  2,20050530,0824,  38.7635,  146.3325,  5282, 3501.600,    1.482,   34.677,2,   34.677,2,  132.020,1,  141.020,2,  153.730,2,   36.920,2,    0.000,2,    2.593,2, -999.000,9, -999.000,9, -999.000,9, -999.000,9, -999.000,9
           NA,    P10N,    125,   1,-999.0,     -99,  2,20050530,0824,  38.7635,  146.3325,  5282, 3750.200,    1.469,   34.681,2,   34.681,2,  136.670,1,  146.230,2,  152.550,2,   36.640,2,    0.010,2,    2.568,2, -999.000,9, -999.000,9, -999.000,9, -999.000,9, -999.000,9
           NA,    P10N,    125,   1,-999.0,     -99,  2,20050530,0824,  38.7635,  146.3325,  5282, 4000.600,    1.462,   34.684,2,   34.684,2,  140.990,1,  150.190,2,  151.510,2,   36.210,2,    0.000,2,    2.544,2, -999.000,9, -999.000,9, -999.000,9, -999.000,9, -999.000,9
           NA,    P10N,    125,   1,-999.0,     -99,  2,20050530,0824,  38.7635,  146.3325,  5282, 4252.400,    1.461,   34.687,2,   34.687,2,  144.820,1,  153.950,2,  150.190,2,   35.970,2,    0.000,2,    2.520,2, -999.000,9, -999.000,9, -999.000,9, -999.000,9, -999.000,9
           NA,    P10N,    125,   1,-999.0,     -99,  2,20050530,0824,  38.7635,  146.3325,  5282, 4501.900,    1.468,   34.689,2,   34.689,6,  147.870,1,  156.710,2,  149.610,2,   35.830,2,    0.000,2,    2.507,2, -999.000,9, -999.000,9, -999.000,9, -999.000,9, -999.000,9
           NA,    P10N,    125,   1,-999.0,     -99,  2,20050530,0824,  38.7635,  146.3325,  5282, 4750.800,    1.484,   34.691,2,   34.691,2,  150.070,1,  158.570,2,  149.590,2,   35.660,2,    0.010,2,    2.495,2, -999.000,9, -999.000,9, -999.000,9, -999.000,9, -999.000,9
           NA,    P10N,    125,   1,-999.0,     -99,  2,20050530,0824,  38.7635,  146.3325,  5282, 4999.300,    1.505,   34.692,2,   34.691,2,  152.200,1,  160.040,6,  148.520,2,   35.590,2,    0.000,2,    2.488,2, -999.000,9, -999.000,9, -999.000,9, -999.000,9, -999.000,9
           NA,    P10N,    125,   1,-999.0,     -99,  2,20050530,0824,  38.7635,  146.3325,  5282, 5249.600,    1.528,   34.693,2,   34.693,2,  154.340,1,  161.110,2,  147.870,2,   35.490,2,    0.010,2,    2.482,2, -999.000,9, -999.000,9, -999.000,9, -999.000,9, -999.000,9
           NA,    P10N,    125,   1,-999.0,     -99,  2,20050530,0824,  38.7635,  146.3325,  5282, 5370.900,    1.542,   34.693,2,   34.693,6,  155.200,1,  161.930,2,  148.190,2,   35.430,2,    0.010,2,    2.489,2, -999.000,9, -999.000,9, -999.000,9, -999.000,9, -999.000,9