BOTTLE,20214413JOAExport
EXPOCODE,SECT_ID,STNNBR,CASTNO,SAMPNO,BTLNBR,BTLNBR_FLAG_W,DATE,TIME,LATITUDE,LONGITUDE,DEPTH,CTDPRS,CTDTMP,CTDSAL,CTDSAL_FLAG_W,SALNTY,SALNTY_FLAG_W,CTDOXY,CTDOXY_FLAG_W,OXYGEN,OXYGEN_FLAG_W,SILCAT,SILCAT_FLAG_W,NITRAT,NITRAT_FLAG_W,NITRIT,NITRIT_FLAG_W,PHSPHT,PHSPHT_FLAG_W,CFC-11,CFC-11_FLAG_W,CFC-12,CFC-12_FLAG_W,SF6,SF6_FLAG_W,TCARBN,TCARBN_FLAG_W,ALKALI,ALKALI_FLAG_W
,,,,,,,,,,,,,DB,ITS-90,PSS-78,,PSS-78,,UMOL/KG,,UMOL/KG,,UMOL/KG,,UMOL/KG,,UMOL/KG,,UMOL/KG,,PMOL/KG,,PMOL/KG,,FMOL/KG,,UMOL/KG,,UMOL/KG
           NA,     P10,     53,   1,-999.0,     -99,  2,20050615,2037,  15.1708,  149.3323,  5674,   10.200,   28.826,   34.533,2,   34.533,2,  203.790,1,  198.010,6,    0.930,2,    0.010,2,    0.000,2,    0.071,2,    1.454,2,    0.914,2, -999.000,9, 1927.200,2, 2276.400,2
           NA,     P10,     53,   1,-999.0,     -99,  2,20050615,2037,  15.1708,  149.3323,  5674,   50.300,   28.800,   34.529,2,   34.521,2,  204.140,1,  198.750,2,    0.920,2,    0.010,2,    0.000,2,    0.078,2,    1.467,2,    0.907,2, -999.000,9, 1926.000,6, 2271.400,2
           NA,     P10,     53,   1,-999.0,     -99,  2,20050615,2037,  15.1708,  149.3323,  5674,  100.400,   27.611,   34.574,2,   34.593,2,  210.680,1,  204.650,2,    0.890,2,    0.000,2,    0.000,2,    0.078,2,    1.545,2,    0.945,2, -999.000,9, 1933.400,2, 2278.600,6
           NA,     P10,     53,   1,-999.0,     -99,  2,20050615,2037,  15.1708,  149.3323,  5674,  150.700,   26.586,   34.827,2,   34.876,2,  208.570,1,  202.300,2,    0.910,2,    0.010,2,    0.010,2,    0.055,2,    1.622,2,    0.995,2, -999.000,9, 1954.200,2, 2296.000,2
           NA,     P10,     53,   1,-999.0,     -99,  2,20050615,2037,  15.1708,  149.3323,  5674,  199.500,   23.151,   35.157,2,   35.148,2,  188.050,1,  181.970,2,    1.640,2,    1.100,2,    0.030,2,    0.196,2,    1.928,2,    1.158,2, -999.000,9, 2027.100,2, 2311.700,2
           NA,     P10,     53,   1,-999.0,     -99,  3,20050615,2037,  15.1708,  149.3323,  5674,  250.000,   18.215,   34.857,2,   34.833,2,  179.700,1,  176.680,2,    4.560,2,    5.870,2,    0.010,2,    0.500,2,    2.257,6,    1.304,6, -999.000,9, 2065.100,2, 2294.400,2
           NA,     P10,     53,   1,-999.0,     -99,  2,20050615,2037,  15.1708,  149.3323,  5674,  299.300,   15.200,   34.577,2,   34.546,2,  186.840,1,  181.920,2,    8.600,2,    9.700,2,    0.010,2,    0.748,2,    2.503,2,    1.381,2, -999.000,9, 2078.800,2, 2280.100,2
           NA,     P10,     53,   1,-999.0,     -99,  2,20050615,2037,  15.1708,  149.3323,  5674,  399.500,   10.510,   34.256,2,   34.243,2,  152.850,1,  145.910,2,   26.100,2,   21.090,2,    0.000,2,    1.574,2,    2.151,2,    1.101,2, -999.000,9, 2151.300,2, 2273.900,2
           NA,     P10,     53,   1,-999.0,     -99,  2,20050615,2037,  15.1708,  149.3323,  5674,  498.700,    7.701,   34.181,2,   34.183,6,  104.450,1,   99.130,2,   50.490,2,   30.680,2,    0.000,2,    2.264,2,    1.167,2,    0.582,2, -999.000,9, 2224.500,2, 2293.100,2
           NA,     P10,     53,   1,-999.0,     -99,  2,20050615,2037,  15.1708,  149.3323,  5674,  599.800,    6.284,   34.364,2,   34.364,2,   54.420,1,   54.090,2,   69.870,2,   37.440,2,    0.000,2,    2.766,2,    0.197,2,    0.106,2, -999.000,9, 2283.100,2, 2324.700,2
           NA,     P10,     53,   1,-999.0,     -99,  2,20050615,2037,  15.1708,  149.3323,  5674,  699.300,    5.521,   34.435,2,   34.437,2,   58.290,1,   58.350,2,   81.090,2,   38.720,2,    0.000,2,    2.838,2,    0.076,2,    0.041,2, -999.000,9, 2298.500,6, 2338.200,2
           NA,     P10,     53,   1,-999.0,     -99,  2,20050615,2037,  15.1708,  149.3323,  5674,  800.700,    4.954,   34.484,2,   34.484,2,   63.700,1,   63.950,2,   89.820,2,   39.290,2,    0.000,2,    2.866,2,    0.037,6,    0.024,6, -999.000,9, 2308.600,2, 2353.700,6
           NA,     P10,     53,   1,-999.0,     -99,  2,20050615,2037,  15.1708,  149.3323,  5674,  899.300,    4.541,   34.513,2,   34.513,2,   68.270,1,   68.670,2,   97.050,2,   39.520,2,    0.000,2,    2.871,2,    0.018,2,    0.014,2, -999.000,9, 2313.300,2, 2362.600,2
           NA,     P10,     53,   1,-999.0,     -99,  2,20050615,2037,  15.1708,  149.3323,  5674,  999.600,    4.038,   34.539,2,   34.539,6,   73.430,1,   73.870,2,  106.310,2,   39.640,2,    0.010,2,    2.878,2,    0.009,2,    0.006,2, -999.000,9, 2323.300,2, 2373.900,2
           NA,     P10,     53,   1,-999.0,     -99,  2,20050615,2037,  15.1708,  149.3323,  5674, 1199.900,    3.449,   34.562,2,   34.562,2,   81.340,1,   82.160,6,  118.020,2,   39.660,2,    0.000,2,    2.862,2,    0.005,2,    0.005,2, -999.000,9, 2328.500,2, 2385.800,2
           NA,     P10,     53,   1,-999.0,     -99,  2,20050615,2037,  15.1708,  149.3323,  5674, 1400.200,    3.049,   34.579,2,   34.578,2,   86.760,1,   88.000,2,  126.030,2,   39.530,2,    0.000,2,    2.843,2,    0.000,2,    0.003,2, -999.000,9, 2335.900,2, 2395.600,2
           NA,     P10,     53,   1,-999.0,     -99,  2,20050615,2037,  15.1708,  149.3323,  5674, 1599.700,    2.725,   34.593,2,   34.593,2,   91.340,1,   92.920,2,  132.820,2,   39.440,2,    0.000,2,    2.829,2,   -0.001,2,    0.000,2, -999.000,9, 2343.800,2, 2397.500,2
           NA,     P10,     53,   1,-999.0,     -99,  2,20050615,2037,  15.1708,  149.3323,  5674, 1801.000,    2.398,   34.611,2, -999.000,3,   98.070,1,  100.180,2,  138.530,2,   39.050,2,    0.010,2,    2.794,2,    0.002,2,    0.001,2, -999.000,9, 2344.300,2, 2408.200,2
           NA,     P10,     53,   1,-999.0,     -99,  2,20050615,2037,  15.1708,  149.3323,  5674, 2000.100,    2.131,   34.628,2,   34.628,2,  105.210,1,  107.910,2,  143.740,2,   38.820,2,    0.000,2,    2.766,2,   -0.003,2,    0.000,2, -999.000,9, 2342.400,2, 2413.200,2
           NA,     P10,     53,   1,-999.0,     -99,  2,20050615,2037,  15.1708,  149.3323,  5674, 2199.800,    1.942,   34.641,2,   34.641,6,  111.140,1,  114.170,2,  146.940,2,   38.430,2,    0.000,2,    2.734,2,   -0.001,2,    0.001,2, -999.000,9, 2344.000,2, 2413.400,2
           NA,     P10,     53,   1,-999.0,     -99,  2,20050615,2037,  15.1708,  149.3323,  5674, 2401.000,    1.822,   34.652,2,   34.651,2,  116.350,1,  119.860,2,  148.740,2,   38.170,2,    0.000,2,    2.706,2,   -0.001,2,   -0.002,2, -999.000,9, 2343.000,6, 2416.600,2
           NA,     P10,     53,   1,-999.0,     -99,  2,20050615,2037,  15.1708,  149.3323,  5674, 2599.500,    1.745,   34.660,2,   34.659,2,  120.520,1,  124.530,2,  149.490,2,   37.930,2,    0.000,2,    2.680,2,    0.003,2,   -0.001,2, -999.000,9, 2343.300,2, 2420.600,6
           NA,     P10,     53,   1,-999.0,     -99,  2,20050615,2037,  15.1708,  149.3323,  5674, 2800.800,    1.670,   34.666,2,   34.666,2,  125.740,1,  130.180,2,  149.590,2,   37.540,2,    0.000,2,    2.651,2, -999.000,9, -999.000,9, -999.000,9, 2338.800,2, 2420.600,2
           NA,     P10,     53,   1,-999.0,     -99,  2,20050615,2037,  15.1708,  149.3323,  5674, 3000.200,    1.619,   34.671,2,   34.671,2,  128.830,1,  133.490,6,  150.240,2,   37.300,2,    0.000,2,    2.634,2, -999.000,9, -999.000,9, -999.000,9, 2336.900,2, 2419.700,2
           NA,     P10,     53,   1,-999.0,     -99,  2,20050615,2037,  15.1708,  149.3323,  5674, 3250.500,    1.574,   34.675,2,   34.675,6,  133.330,1,  138.390,2,  149.700,2,   36.970,2,    0.000,2,    2.603,2, -999.000,9, -999.000,9, -999.000,9, 2334.700,2, 2421.900,2
           NA,     P10,     53,   1,-999.0,     -99,  2,20050615,2037,  15.1708,  149.3323,  5674, 3500.200,    1.526,   34.680,2,   34.680,2,  139.290,1,  144.580,2,  148.110,2,   36.520,2,    0.000,2,    2.574,2, -999.000,9, -999.000,9, -999.000,9, 2329.800,2, 2417.600,2
           NA,     P10,     53,   1,-999.0,     -99,  2,20050615,2037,  15.1708,  149.3323,  5674, 3750.900,    1.498,   34.684,2,   34.684,2,  144.490,1,  150.090,2,  145.300,2,   36.000,2,    0.010,2,    2.534,2, -999.000,9, -999.000,9, -999.000,9, 2323.900,2, 2419.000,2
           NA,     P10,     53,   1,-999.0,     -99,  2,20050615,2037,  15.1708,  149.3323,  5674, 4000.300,    1.479,   34.687,2,   34.687,2,  149.550,1,  154.940,2,  143.920,2,   35.830,2,    0.010,2,    2.521,2, -999.000,9, -999.000,9, -999.000,9, 2322.700,2, 2415.100,2
           NA,     P10,     53,   1,-999.0,     -99,  2,20050615,2037,  15.1708,  149.3323,  5674, 4248.700,    1.459,   34.691,2,   34.691,2,  155.680,1,  160.770,2,  140.620,2,   35.340,2,    0.000,2,    2.486,2, -999.000,9, -999.000,9, -999.000,9, 2315.300,6, 2411.300,2
           NA,     P10,     53,   1,-999.0,     -99,  2,20050615,2037,  15.1708,  149.3323,  5674, 4500.000,    1.442,   34.694,2,   34.694,6,  161.920,1,  166.890,2,  137.370,2,   34.900,2,    0.010,2,    2.457,2, -999.000,9, -999.000,9, -999.000,9, 2308.900,2, 2408.900,6
           NA,     P10,     53,   1,-999.0,     -99,  2,20050615,2037,  15.1708,  149.3323,  5674, 4749.500,    1.445,   34.696,2,   34.696,2,  166.040,1,  170.560,2,  135.450,2,   34.640,2,    0.010,2,    2.433,2, -999.000,9, -999.000,9, -999.000,9, 2305.000,2, 2407.200,2
           NA,     P10,     53,   1,-999.0,     -99,  2,20050615,2037,  15.1708,  149.3323,  5674, 4999.300,    1.456,   34.698,2,   34.698,2,  169.780,1,  173.350,6,  133.310,2,   34.320,2,    0.010,2,    2.413,2, -999.000,9, -999.000,9, -999.000,9, 2302.600,2, 2403.800,2
           NA,     P10,     53,   1,-999.0,     -99,  2,20050615,2037,  15.1708,  149.3323,  5674, 5249.600,    1.474,   34.699,2,   34.699,2,  172.670,1,  174.940,2,  132.960,2,   34.330,2,    0.010,2,    2.407,2, -999.000,9, -999.000,9, -999.000,9, 2302.300,2, 2403.900,2
           NA,     P10,     53,   1,-999.0,     -99,  2,20050615,2037,  15.1708,  149.3323,  5674, 5499.900,    1.499,   34.699,2,   34.699,2,  175.120,1,  175.800,2,  131.950,2,   34.110,2,    0.010,2,    2.396,2, -999.000,9, -999.000,9, -999.000,9, 2299.800,2, 2400.700,2
           NA,     P10,     53,   1,-999.0,     -99,  2,20050615,2037,  15.1708,  149.3323,  5674, 5769.400,    1.524,   34.700,2,   34.700,6,  178.250,1,  176.770,2,  131.470,2,   34.000,2,    0.010,2,    2.395,2, -999.000,9, -999.000,9, -999.000,9, 2298.600,2, 2401.400,2
           NA,     P10,     54,   1,-999.0,     -99,  2,20050615,1336,  15.8417,  149.3275,  4775,   10.400,   28.728,   34.436,2,   34.433,2,  175.200,1,  198.260,6,    0.940,2,    0.040,2,    0.010,2,    0.079,2,    1.482,2,    0.915,2, -999.000,9, 1921.100,2, 2263.200,2
           NA,     P10,     54,   1,-999.0,     -99,  2,20050615,1336,  15.8417,  149.3275,  4775,   51.300,   28.516,   34.474,2,   34.477,2,  176.640,1,  200.110,2,    0.880,2,    0.030,2,    0.000,2,    0.084,2,    1.500,2,    0.937,2, -999.000,9, 1925.600,6, 2271.900,2
           NA,     P10,     54,   1,-999.0,     -99,  2,20050615,1336,  15.8417,  149.3275,  4775,  101.100,   27.250,   34.650,2,   34.654,2,  180.610,1,  204.810,2,    0.860,2,    0.020,2,    0.010,2,    0.081,2,    1.589,2,    0.995,2, -999.000,9, 1936.400,2, 2280.400,6
           NA,     P10,     54,   1,-999.0,     -99,  2,20050615,1336,  15.8417,  149.3275,  4775,  150.600,   25.891,   34.953,2,   34.961,2,  176.390,1,  200.260,2,    0.940,2,    0.020,2,    0.020,2,    0.080,2,    1.691,2,    1.035,2, -999.000,9, 1965.000,2, 2299.300,2
           NA,     P10,     54,   1,-999.0,     -99,  2,20050615,1336,  15.8417,  149.3275,  4775,  200.400,   22.528,   35.141,2,   35.142,2,  161.580,1,  185.060,2,    1.570,2,    0.940,2,    0.030,2,    0.178,2,    2.000,2,    1.212,2, -999.000,9, 2021.500,2, 2313.800,2
           NA,     P10,     54,   1,-999.0,     -99,  2,20050615,1336,  15.8417,  149.3275,  4775,  251.800,   18.623,   34.886,2,   34.871,2,  148.800,1,  170.940,2,    4.440,2,    5.810,2,    0.010,2,    0.527,2,    2.371,6,    1.338,6, -999.000,9, 2067.200,2, 2300.400,2
           NA,     P10,     54,   1,-999.0,     -99,  2,20050615,1336,  15.8417,  149.3275,  4775,  301.200,   14.922,   34.565,2,   34.554,2,  130.810,1,  151.920,2,   10.940,2,   12.720,2,    0.010,2,    1.012,2,    2.456,2,    1.312,2, -999.000,9, 2105.900,2, 2280.200,2
           NA,     P10,     54,   1,-999.0,     -99,  2,20050615,1336,  15.8417,  149.3275,  4775,  400.100,   10.454,   34.256,2,   34.248,2,  124.300,1,  145.100,2,   25.020,2,   20.930,2,    0.010,2,    1.579,2,    2.322,2,    1.154,2, -999.000,9, 2149.600,2, 2274.200,2
           NA,     P10,     54,   1,-999.0,     -99,  3,20050615,1336,  15.8417,  149.3275,  4775,  500.000,    8.051,   34.180,2,   34.184,6,   95.240,1,  107.610,2,   45.730,2,   29.210,2,    0.010,2,    2.160,2,    1.356,2,    0.666,2, -999.000,9, 2210.300,2, 2288.700,2
           NA,     P10,     54,   1,-999.0,     -99,  2,20050615,1336,  15.8417,  149.3275,  4775,  599.500,    6.201,   34.289,2,   34.291,2,   53.180,1,   61.150,2,   69.930,2,   36.960,2,    0.000,2,    2.717,2,    0.344,2,    0.148,2, -999.000,9, 2277.300,2, 2319.100,2
           NA,     P10,     54,   1,-999.0,     -99,  2,20050615,1336,  15.8417,  149.3275,  4775,  699.400,    5.514,   34.414,2,   34.415,2,   48.680,1,   56.210,2,   81.250,2,   38.980,2,    0.000,2,    2.856,2,    0.074,2,    0.028,2, -999.000,9, 2297.600,6, 2338.500,2
           NA,     P10,     54,   1,-999.0,     -99,  2,20050615,1336,  15.8417,  149.3275,  4775,  802.200,    4.918,   34.482,2,   34.482,2,   53.330,1,   62.180,2,   90.720,2,   39.610,2,    0.000,2,    2.882,2,    0.023,6,    0.011,6, -999.000,9, 2308.100,2, 2354.600,6
           NA,     P10,     54,   1,-999.0,     -99,  3,20050615,1336,  15.8417,  149.3275,  4775,  900.300,    4.523,   34.510,2,   34.509,2,   56.460,1,   66.280,2,   97.550,2,   39.810,2,    0.000,2,    2.888,2,    0.012,2,    0.011,2, -999.000,9, 2314.900,2, 2364.700,2
           NA,     P10,     54,   1,-999.0,     -99,  2,20050615,1336,  15.8417,  149.3275,  4775, 1000.500,    4.121,   34.531,2,   34.530,6,   59.010,1,   69.520,2,  105.480,2,   40.240,2,    0.000,2,    2.916,2,    0.009,2,    0.003,2, -999.000,9, 2324.000,2, 2370.600,2
           NA,     P10,     54,   1,-999.0,     -99,  2,20050615,1336,  15.8417,  149.3275,  4775, 1199.600,    3.434,   34.559,2,   34.559,2,   66.070,1,   78.800,6,  119.590,2,   40.160,2,    0.000,2,    2.899,2,    0.006,2,    0.000,2, -999.000,9, 2333.000,2, 2386.900,2
           NA,     P10,     54,   1,-999.0,     -99,  2,20050615,1336,  15.8417,  149.3275,  4775, 1402.400,    3.002,   34.577,2,   34.576,2,   71.450,1,   86.000,2,  128.110,2,   39.940,2,    0.000,2,    2.874,2,    0.001,2,    0.000,2, -999.000,9, 2339.500,2, 2394.600,2
           NA,     P10,     54,   1,-999.0,     -99,  2,20050615,1336,  15.8417,  149.3275,  4775, 1599.500,    2.648,   34.595,2,   34.595,2,   76.230,1,   92.530,2,  135.260,2,   39.700,2,    0.000,2,    2.847,2,   -0.001,2,    0.000,2, -999.000,9, 2343.500,2, 2401.700,2
           NA,     P10,     54,   1,-999.0,     -99,  2,20050615,1336,  15.8417,  149.3275,  4775, 1800.700,    2.337,   34.613,2,   34.613,6,   81.810,1,  100.170,2,  140.880,2,   39.350,2,    0.000,2,    2.814,2,   -0.002,2,    0.000,2, -999.000,9, 2343.300,2, 2406.900,2
           NA,     P10,     54,   1,-999.0,     -99,  2,20050615,1336,  15.8417,  149.3275,  4775, 2000.100,    2.142,   34.626,2,   34.626,2,   86.150,1,  105.930,2,  144.590,2,   39.180,2,    0.000,2,    2.789,2,    0.001,2,    0.000,2, -999.000,9, 2344.900,2, -999.000,4
           NA,     P10,     54,   1,-999.0,     -99,  2,20050615,1336,  15.8417,  149.3275,  4775, 2199.900,    1.940,   34.639,2,   34.639,2,   91.660,1,  113.600,2,  147.720,2,   38.760,2,    0.000,2,    2.751,2,    0.002,2,    0.000,2, -999.000,9, 2345.300,2, 2415.500,2
           NA,     P10,     54,   1,-999.0,     -99,  2,20050615,1336,  15.8417,  149.3275,  4775, 2400.000,    1.810,   34.651,2,   34.650,2,   96.440,1,  120.190,2,  149.350,2,   38.320,2,    0.000,2,    2.716,2,    0.000,2,    0.000,2, -999.000,9, 2341.000,6, 2418.400,2
           NA,     P10,     54,   1,-999.0,     -99,  2,20050615,1336,  15.8417,  149.3275,  4775, 2600.300,    1.735,   34.658,2,   34.658,2,   99.380,1,  124.360,2,  150.470,2,   38.100,2,    0.010,2,    2.691,2,   -0.002,2,    0.000,2, -999.000,9, 2343.700,2, 2421.300,6
           NA,     P10,     54,   1,-999.0,     -99,  2,20050615,1336,  15.8417,  149.3275,  4775, 2800.700,    1.650,   34.666,2,   34.665,6,  104.230,1,  131.150,2,  149.890,2,   37.670,2,    0.000,2,    2.656,2, -999.000,9, -999.000,9, -999.000,9, 2337.700,2, 2420.800,2
           NA,     P10,     54,   1,-999.0,     -99,  2,20050615,1336,  15.8417,  149.3275,  4775, 2999.700,    1.600,   34.671,2,   34.671,2,  107.500,1,  135.750,6,  149.840,2,   37.380,2,    0.000,2,    2.634,2, -999.000,9, -999.000,9, -999.000,9, 2336.700,2, 2419.200,2
           NA,     P10,     54,   1,-999.0,     -99,  2,20050615,1336,  15.8417,  149.3275,  4775, 3250.500,    1.563,   34.675,2,   34.675,2,  110.570,1,  140.050,2,  149.260,2,   37.030,2,    0.000,2,    2.602,2, -999.000,9, -999.000,9, -999.000,9, 2332.900,2, 2420.800,2
           NA,     P10,     54,   1,-999.0,     -99,  2,20050615,1336,  15.8417,  149.3275,  4775, 3499.700,    1.518,   34.680,2,   34.680,2,  114.980,1,  145.990,2,  147.890,2,   36.640,2,    0.000,2,    2.574,2, -999.000,9, -999.000,9, -999.000,9, 2328.600,2, 2420.000,2
           NA,     P10,     54,   1,-999.0,     -99,  2,20050615,1336,  15.8417,  149.3275,  4775, 3749.500,    1.486,   34.684,2,   34.684,6,  119.250,1,  151.680,2,  146.170,2,   36.280,2,    0.010,2,    2.545,2, -999.000,9, -999.000,9, -999.000,9, 2324.100,2, 2417.400,2
           NA,     P10,     54,   1,-999.0,     -99,  2,20050615,1336,  15.8417,  149.3275,  4775, 4000.200,    1.472,   34.687,2,   34.687,2,  123.050,1,  156.190,2,  143.800,2,   36.000,2,    0.000,2,    2.517,2, -999.000,9, -999.000,9, -999.000,9, 2322.300,2, 2412.900,2
           NA,     P10,     54,   1,-999.0,     -99,  2,20050615,1336,  15.8417,  149.3275,  4775, 4249.000,    1.458,   34.690,2,   34.690,2,  127.520,1,  161.280,2,  141.090,2,   35.590,2,    0.000,2,    2.493,2, -999.000,9, -999.000,9, -999.000,9, 2315.500,6, 2410.600,2
           NA,     P10,     54,   1,-999.0,     -99,  2,20050615,1336,  15.8417,  149.3275,  4775, 4500.800,    1.433,   34.694,2,   34.694,2,  133.470,1,  168.420,2,  137.210,2,   35.090,2,    0.000,2,    2.452,2, -999.000,9, -999.000,9, -999.000,9, 2306.300,2, -999.000,3
           NA,     P10,     54,   1,-999.0,     -99,  2,20050615,1336,  15.8417,  149.3275,  4775, 4745.700,    1.440,   34.696,2,   34.696,6,  136.790,1,  171.330,6,  135.560,2,   34.850,2,    0.000,2,    2.438,2, -999.000,9, -999.000,9, -999.000,9, 2303.600,2, 2407.500,2
           NA,     P10,     54,   1,-999.0,     -99,  2,20050615,1336,  15.8417,  149.3275,  4775, 4746.700,    1.440,   34.696,2,   34.696,2,  136.810,1,  171.400,2,  135.580,2,   34.820,2,    0.000,2,    2.438,2, -999.000,9, -999.000,9, -999.000,9, 2302.600,2, 2405.500,6