BOTTLE,20214413JOAExport
EXPOCODE,SECT_ID,STNNBR,CASTNO,SAMPNO,BTLNBR,BTLNBR_FLAG_W,DATE,TIME,LATITUDE,LONGITUDE,DEPTH,CTDPRS,CTDTMP,CTDSAL,CTDSAL_FLAG_W,SALNTY,SALNTY_FLAG_W,CTDOXY,CTDOXY_FLAG_W,OXYGEN,OXYGEN_FLAG_W,SILCAT,SILCAT_FLAG_W,NITRAT,NITRAT_FLAG_W,NITRIT,NITRIT_FLAG_W,PHSPHT,PHSPHT_FLAG_W,CFC-11,CFC-11_FLAG_W,CFC-12,CFC-12_FLAG_W,SF6,SF6_FLAG_W,TCARBN,TCARBN_FLAG_W,ALKALI,ALKALI_FLAG_W
,,,,,,,,,,,,,DB,ITS-90,PSS-78,,PSS-78,,UMOL/KG,,UMOL/KG,,UMOL/KG,,UMOL/KG,,UMOL/KG,,UMOL/KG,,PMOL/KG,,PMOL/KG,,FMOL/KG,,UMOL/KG,,UMOL/KG
           NA,     P10,     71,   1,-999.0,     -99,  2,20050608,2255,  27.1662,  149.3445,  5859,    9.500,   22.844,   34.595,2,   34.631,2,  194.900,1,  226.470,6,    1.710,2,    0.030,2,    0.010,2,    0.043,2,    1.972,2,    1.192,2, -999.000,9, -999.000,9, -999.000,9
           NA,     P10,     71,   1,-999.0,     -99,  2,20050608,2255,  27.1662,  149.3445,  5859,   49.600,   19.122,   34.880,2,   34.879,2,  202.050,1,  234.710,2,    1.970,2,    0.030,2,    0.010,2,    0.070,2,    2.127,2,    1.282,2, -999.000,9, -999.000,9, -999.000,9
           NA,     P10,     71,   1,-999.0,     -99,  2,20050608,2255,  27.1662,  149.3445,  5859,   99.700,   18.001,   34.824,2,   34.824,2,  188.230,1,  219.380,2,    2.770,2,    2.470,2,    0.040,2,    0.220,2,    2.187,2,    1.313,2, -999.000,9, -999.000,9, -999.000,9
           NA,     P10,     71,   1,-999.0,     -99,  2,20050608,2255,  27.1662,  149.3445,  5859,  148.800,   17.671,   34.815,2,   34.814,2,  191.260,1,  222.820,2,    3.010,2,    2.740,2,    0.020,2,    0.229,2,    2.361,2,    1.332,2, -999.000,9, -999.000,9, -999.000,9
           NA,     P10,     71,   1,-999.0,     -99,  2,20050608,2255,  27.1662,  149.3445,  5859,  198.800,   17.423,   34.814,2,   34.812,2,  191.040,1,  222.230,2,    3.340,2,    3.160,2,    0.010,2,    0.255,2,    2.220,2,    1.330,2, -999.000,9, -999.000,9, -999.000,9
           NA,     P10,     71,   1,-999.0,     -99,  2,20050608,2255,  27.1662,  149.3445,  5859,  249.800,   17.044,   34.778,2,   34.777,2,  181.030,1,  211.410,2,    4.080,2,    4.580,2,    0.010,2,    0.345,2,    2.246,6,    1.343,6, -999.000,9, -999.000,9, -999.000,9
           NA,     P10,     71,   1,-999.0,     -99,  2,20050608,2255,  27.1662,  149.3445,  5859,  299.700,   16.425,   34.720,2,   34.716,2,  172.700,1,  201.960,2,    6.230,2,    6.470,2,    0.010,2,    0.471,2,    2.258,2,    1.335,2, -999.000,9, -999.000,9, -999.000,9
           NA,     P10,     71,   1,-999.0,     -99,  2,20050608,2255,  27.1662,  149.3445,  5859,  400.200,   14.524,   34.558,2,   34.558,2,  169.160,1,  199.210,2,   10.010,2,    9.450,2,    0.010,2,    0.689,2,    2.430,2,    1.386,2, -999.000,9, -999.000,9, -999.000,9
           NA,     P10,     71,   1,-999.0,     -99,  2,20050608,2255,  27.1662,  149.3445,  5859,  501.100,   11.923,   34.374,2,   34.368,6,  155.510,1,  184.420,2,   20.710,2,   15.340,2,    0.010,2,    1.109,2,    2.401,2,    1.313,2, -999.000,9, -999.000,9, -999.000,9
           NA,     P10,     71,   1,-999.0,     -99,  2,20050608,2255,  27.1662,  149.3445,  5859,  600.800,    8.123,   34.107,2,   34.105,2,  136.870,1,  163.640,2,   40.810,2,   23.770,2,    0.010,2,    1.744,2,    2.243,2,    1.165,2, -999.000,9, -999.000,9, -999.000,9
           NA,     P10,     71,   1,-999.0,     -99,  2,20050608,2255,  27.1662,  149.3445,  5859,  698.700,    6.201,   34.035,2,   34.035,2,  110.040,1,  131.330,2,   59.940,2,   30.150,2,    0.010,2,    2.219,2,    1.858,2,    0.932,2, -999.000,9, -999.000,9, -999.000,9
           NA,     P10,     71,   1,-999.0,     -99,  2,20050608,2255,  27.1662,  149.3445,  5859,  799.000,    5.116,   34.092,2,   34.095,2,   74.900,1,   89.780,2,   81.340,2,   35.910,2,    0.010,2,    2.625,2,    1.195,6,    0.572,6, -999.000,9, -999.000,9, -999.000,9
           NA,     P10,     71,   1,-999.0,     -99,  2,20050608,2255,  27.1662,  149.3445,  5859,  900.300,    4.428,   34.184,2,   34.186,2,   50.260,1,   59.000,2,   99.040,2,   39.400,2,    0.010,2,    2.866,2,    0.617,2,    0.275,2, -999.000,9, -999.000,9, -999.000,9
           NA,     P10,     71,   1,-999.0,     -99,  2,20050608,2255,  27.1662,  149.3445,  5859,  999.500,    3.908,   34.279,2,   34.279,6,   38.220,1,   44.340,2,  113.830,2,   41.130,2,    0.010,2,    2.985,2,    0.279,2,    0.119,2, -999.000,9, -999.000,9, -999.000,9
           NA,     P10,     71,   1,-999.0,     -99,  2,20050608,2255,  27.1662,  149.3445,  5859, 1199.600,    3.160,   34.408,2,   34.408,2,   32.520,1,   37.350,6,  134.820,2,   42.620,2,    0.000,2,    3.079,2,    0.054,2,    0.021,2, -999.000,9, -999.000,9, -999.000,9
           NA,     P10,     71,   1,-999.0,     -99,  2,20050608,2255,  27.1662,  149.3445,  5859, 1400.900,    2.735,   34.499,2,   34.499,2,   44.350,1,   52.320,2,  143.980,2,   42.150,2,    0.000,2,    3.032,2,    0.006,2,    0.002,2, -999.000,9, -999.000,9, -999.000,9
           NA,     P10,     71,   1,-999.0,     -99,  2,20050608,2255,  27.1662,  149.3445,  5859, 1600.300,    2.430,   34.541,2,   34.541,2,   53.160,1,   63.680,2,  150.070,2,   41.650,2,    0.000,2,    2.980,2,    0.001,2,   -0.002,2, -999.000,9, -999.000,9, -999.000,9
           NA,     P10,     71,   1,-999.0,     -99,  2,20050608,2255,  27.1662,  149.3445,  5859, 1803.500,    2.173,   34.581,2,   34.581,2,   67.290,1,   81.890,2,  151.200,2,   40.420,2,    0.010,2,    2.888,2,    0.004,2,   -0.003,2, -999.000,9, -999.000,9, -999.000,9
           NA,     P10,     71,   1,-999.0,     -99,  2,20050608,2255,  27.1662,  149.3445,  5859, 1999.600,    1.980,   34.607,2,   34.607,2,   77.990,1,   96.220,2,  151.660,2,   39.560,2,    0.000,2,    2.817,2,   -0.004,2,    0.001,2, -999.000,9, -999.000,9, -999.000,9
           NA,     P10,     71,   1,-999.0,     -99,  2,20050608,2255,  27.1662,  149.3445,  5859, 2200.100,    1.856,   34.623,2,   34.624,6,   83.340,1,  103.600,2,  152.790,2,   39.130,2,    0.010,2,    2.780,2,   -0.004,2,   -0.005,2, -999.000,9, -999.000,9, -999.000,9
           NA,     P10,     71,   1,-999.0,     -99,  2,20050608,2255,  27.1662,  149.3445,  5859, 2400.800,    1.765,   34.637,2,   34.638,2,   90.090,1,  112.710,2,  153.040,2,   38.650,2,    0.010,2,    2.744,2,   -0.006,2,   -0.002,2, -999.000,9, -999.000,9, -999.000,9
           NA,     P10,     71,   1,-999.0,     -99,  2,20050608,2255,  27.1662,  149.3445,  5859, 2600.600,    1.693,   34.648,2,   34.648,2,   95.710,1,  120.460,2,  151.970,2,   38.280,2,    0.010,2,    2.705,2,   -0.006,2,   -0.006,2, -999.000,9, -999.000,9, -999.000,9
           NA,     P10,     71,   1,-999.0,     -99,  2,20050608,2255,  27.1662,  149.3445,  5859, 2801.600,    1.634,   34.657,2,   34.657,2,   99.370,1,  125.720,2,  151.930,2,   37.840,2,    0.010,2,    2.672,2,    0.001,2,   -0.002,2, -999.000,9, -999.000,9, -999.000,9
           NA,     P10,     71,   1,-999.0,     -99,  2,20050608,2255,  27.1662,  149.3445,  5859, 3000.000,    1.595,   34.664,2,   34.664,2,  103.630,1,  131.700,6,  150.830,2,   37.500,2,    0.010,2,    2.647,2,    0.003,2,    0.003,2, -999.000,9, -999.000,9, -999.000,9
           NA,     P10,     71,   1,-999.0,     -99,  2,20050608,2255,  27.1662,  149.3445,  5859, 3250.500,    1.559,   34.669,2,   34.670,6,  107.180,1,  136.910,2,  150.160,2,   37.100,2,    0.010,2,    2.610,2,   -0.002,2,    0.000,2, -999.000,9, -999.000,9, -999.000,9
           NA,     P10,     71,   1,-999.0,     -99,  2,20050608,2255,  27.1662,  149.3445,  5859, 3500.300,    1.529,   34.674,2,   34.674,2,  109.910,1,  140.930,2,  150.110,2,   36.820,2,    0.010,2,    2.595,2,    0.002,2,    0.004,2, -999.000,9, -999.000,9, -999.000,9
           NA,     P10,     71,   1,-999.0,     -99,  2,20050608,2255,  27.1662,  149.3445,  5859, 3750.300,    1.505,   34.679,2,   34.679,2,  113.320,1,  145.760,2,  149.420,2,   36.570,2,    0.000,2,    2.573,2,    0.003,2,    0.001,2, -999.000,9, -999.000,9, -999.000,9
           NA,     P10,     71,   1,-999.0,     -99,  2,20050608,2255,  27.1662,  149.3445,  5859, 4000.800,    1.488,   34.683,2,   34.683,2,  116.420,1,  150.430,2,  147.920,2,   36.300,2,    0.000,2,    2.551,2,    0.002,2,    0.002,2, -999.000,9, -999.000,9, -999.000,9
           NA,     P10,     71,   1,-999.0,     -99,  2,20050608,2255,  27.1662,  149.3445,  5859, 4250.000,    1.479,   34.686,2,   34.686,2,  119.160,1,  154.130,2,  147.480,2,   35.940,2,    0.000,2,    2.524,2,    0.001,2,    0.001,2, -999.000,9, -999.000,9, -999.000,9
           NA,     P10,     71,   1,-999.0,     -99,  2,20050608,2255,  27.1662,  149.3445,  5859, 4498.600,    1.483,   34.689,2,   34.689,6,  122.420,1,  158.560,2,  143.880,2,   35.580,2,    0.010,2,    2.496,2,    0.004,2,    0.001,2, -999.000,9, -999.000,9, -999.000,9
           NA,     P10,     71,   1,-999.0,     -99,  2,20050608,2255,  27.1662,  149.3445,  5859, 4750.900,    1.495,   34.690,2,   34.690,2,  124.610,1,  161.210,2,  142.960,2,   35.500,2,    0.010,2,    2.487,2,    0.001,2,    0.001,2, -999.000,9, -999.000,9, -999.000,9
           NA,     P10,     71,   1,-999.0,     -99,  2,20050608,2255,  27.1662,  149.3445,  5859, 5001.100,    1.508,   34.692,2,   34.692,2,  126.770,1,  163.580,6,  140.670,2,   35.190,2,    0.010,2,    2.464,2,    0.002,2,    0.000,2, -999.000,9, -999.000,9, -999.000,9
           NA,     P10,     71,   1,-999.0,     -99,  2,20050608,2255,  27.1662,  149.3445,  5859, 5251.700,    1.525,   34.693,2,   34.693,2,  129.000,1,  165.720,2,  140.700,2,   35.140,2,    0.010,2,    2.461,2,    0.001,2,    0.001,2, -999.000,9, -999.000,9, -999.000,9
           NA,     P10,     71,   1,-999.0,     -99,  2,20050608,2255,  27.1662,  149.3445,  5859, 5500.000,    1.547,   34.694,2,   34.693,2,  130.970,1,  167.160,2,  139.300,2,   35.140,2,    0.010,2,    2.454,2,   -0.002,2,    0.000,2, -999.000,9, -999.000,9, -999.000,9
           NA,     P10,     71,   1,-999.0,     -99,  2,20050608,2255,  27.1662,  149.3445,  5859, 5747.900,    1.565,   34.696,2,   34.696,2,  134.450,1,  170.760,2,  136.470,2,   34.870,2,    0.010,2,    2.438,2,    0.000,2,    0.000,2, -999.000,9, -999.000,9, -999.000,9
           NA,     P10,     71,   1,-999.0,     -99,  2,20050608,2255,  27.1662,  149.3445,  5859, 5981.000,    1.568,   34.698,2,   34.698,6,  138.820,1,  175.280,2,  133.620,2,   34.450,2,    0.010,2,    2.413,2,    0.000,2,    0.002,2, -999.000,9, -999.000,9, -999.000,9
           NA,     P10,     72,   1,-999.0,     -99,  2,20050608,1556,  27.8308,  149.3315,  5968,    9.700,   23.595,   34.870,2,   34.877,2,  190.840,1,  221.280,6,    1.670,2,    0.000,2,    0.000,2,    0.042,2,    1.979,2,    1.166,2, -999.000,9, -999.000,9, -999.000,9
           NA,     P10,     72,   1,-999.0,     -99,  2,20050608,1556,  27.8308,  149.3315,  5968,   49.600,   20.147,   34.948,2,   34.941,2,  196.290,1,  228.070,2,    1.840,2,   -0.010,2,    0.010,2,    0.064,2,    2.199,2,    1.257,2, -999.000,9, -999.000,9, -999.000,9
           NA,     P10,     72,   1,-999.0,     -99,  2,20050608,1556,  27.8308,  149.3315,  5968,   99.900,   18.268,   34.831,2,   34.827,2,  186.570,1,  220.760,2,    2.560,2,    1.850,2,    0.090,2,    0.193,2,    2.356,2,    1.335,2, -999.000,9, -999.000,9, -999.000,9
           NA,     P10,     72,   1,-999.0,     -99,  2,20050608,1556,  27.8308,  149.3315,  5968,  149.900,   17.506,   34.814,2,   34.814,2,  192.160,1,  223.980,2,    2.960,2,    2.790,2,    0.020,2,    0.230,2,    2.403,2,    1.341,2, -999.000,9, -999.000,9, -999.000,9
           NA,     P10,     72,   1,-999.0,     -99,  2,20050608,1556,  27.8308,  149.3315,  5968,  200.500,   17.227,   34.809,2,   34.810,2,  195.400,1,  227.960,2,    3.050,2,    2.710,2,    0.010,2,    0.229,2,    2.449,2,    1.361,2, -999.000,9, -999.000,9, -999.000,9
           NA,     P10,     72,   1,-999.0,     -99,  2,20050608,1556,  27.8308,  149.3315,  5968,  249.200,   16.967,   34.781,2,   34.782,2,  186.030,1,  217.780,2,    4.240,2,    4.080,2,    0.010,2,    0.313,2,    2.448,6,    1.346,6, -999.000,9, -999.000,9, -999.000,9
           NA,     P10,     72,   1,-999.0,     -99,  2,20050608,1556,  27.8308,  149.3315,  5968,  299.200,   16.182,   34.697,2,   34.692,2,  170.300,1,  199.100,2,    7.110,2,    7.180,2,    0.010,2,    0.518,2,    2.490,2,    1.353,2, -999.000,9, -999.000,9, -999.000,9
           NA,     P10,     72,   1,-999.0,     -99,  2,20050608,1556,  27.8308,  149.3315,  5968,  398.900,   14.291,   34.549,2,   34.544,2,  156.210,1,  183.590,2,   13.670,2,   11.620,2,    0.010,2,    0.830,2,    2.523,2,    1.307,2, -999.000,9, -999.000,9, -999.000,9
           NA,     P10,     72,   1,-999.0,     -99,  2,20050608,1556,  27.8308,  149.3315,  5968,  500.300,   11.858,   34.360,2,   34.355,6,  160.190,1,  189.090,2,   19.410,2,   14.960,2,    0.010,2,    1.078,2,    2.729,2,    1.368,2, -999.000,9, -999.000,9, -999.000,9
           NA,     P10,     72,   1,-999.0,     -99,  2,20050608,1556,  27.8308,  149.3315,  5968,  598.700,    9.148,   34.185,2,   34.178,2,  141.500,1,  168.600,2,   35.960,2,   21.490,2,    0.010,2,    1.573,2,    2.480,2,    1.177,2, -999.000,9, -999.000,9, -999.000,9
           NA,     P10,     72,   1,-999.0,     -99,  2,20050608,1556,  27.8308,  149.3315,  5968,  699.100,    6.371,   34.035,2,   34.035,2,  112.870,1,  134.620,2,   58.090,2,   29.630,2,    0.010,2,    2.173,2,    2.017,2,    0.937,2, -999.000,9, -999.000,9, -999.000,9
           NA,     P10,     72,   1,-999.0,     -99,  2,20050608,1556,  27.8308,  149.3315,  5968,  799.300,    5.021,   34.100,2,   34.102,2,   71.270,1,   85.180,2,   83.490,2,   36.330,2,    0.010,2,    2.647,2,    1.106,6,    0.510,6, -999.000,9, -999.000,9, -999.000,9
           NA,     P10,     72,   1,-999.0,     -99,  2,20050608,1556,  27.8308,  149.3315,  5968,  900.300,    4.368,   34.191,2,   34.193,2,   49.270,1,   57.930,2,  101.290,2,   39.620,2,    0.010,2,    2.867,2,    0.572,2,    0.247,2, -999.000,9, -999.000,9, -999.000,9
           NA,     P10,     72,   1,-999.0,     -99,  2,20050608,1556,  27.8308,  149.3315,  5968, 1000.700,    3.887,   34.270,2,   34.272,6,   37.800,1,   43.540,2,  114.940,2,   41.390,2,    0.010,2,    2.985,2,    0.277,2,    0.088,2, -999.000,9, -999.000,9, -999.000,9
           NA,     P10,     72,   1,-999.0,     -99,  2,20050608,1556,  27.8308,  149.3315,  5968, 1199.900,    3.279,   34.396,2,   34.397,2,   34.080,1,   39.170,6,  131.620,2,   42.360,2,    0.010,2,    3.049,2,    0.065,2,    0.023,2, -999.000,9, -999.000,9, -999.000,9
           NA,     P10,     72,   1,-999.0,     -99,  2,20050608,1556,  27.8308,  149.3315,  5968, 1401.100,    2.750,   34.480,2,   34.482,2,   38.040,1,   44.160,2,  145.960,2,   42.750,2,    0.000,2,    3.055,2,    0.018,2,    0.010,2, -999.000,9, -999.000,9, -999.000,9
           NA,     P10,     72,   1,-999.0,     -99,  2,20050608,1556,  27.8308,  149.3315,  5968, 1598.800,    2.439,   34.530,2,   34.530,2,   46.440,1,   55.350,2,  152.400,2,   42.100,2,    0.000,2,    3.006,2,    0.010,2,    0.006,2, -999.000,9, -999.000,9, -999.000,9
           NA,     P10,     72,   1,-999.0,     -99,  2,20050608,1556,  27.8308,  149.3315,  5968, 1802.400,    2.175,   34.570,2,   34.570,2,   57.260,1,   69.200,2,  156.470,2,   41.340,2,    0.000,2,    2.945,2,   -0.003,2,   -0.002,2, -999.000,9, -999.000,9, -999.000,9
           NA,     P10,     72,   1,-999.0,     -99,  2,20050608,1556,  27.8308,  149.3315,  5968, 2002.200,    1.988,   34.602,2,   34.602,2,   72.790,1,   89.490,2,  154.710,2,   40.020,2,    0.000,2,    2.843,2,    0.005,2,    0.002,2, -999.000,9, -999.000,9, -999.000,9
           NA,     P10,     72,   1,-999.0,     -99,  2,20050608,1556,  27.8308,  149.3315,  5968, 2201.900,    1.843,   34.625,2,   34.625,6,   83.880,1,  104.460,2,  153.630,2,   39.150,2,    0.010,2,    2.773,2,   -0.002,2,   -0.001,2, -999.000,9, -999.000,9, -999.000,9
           NA,     P10,     72,   1,-999.0,     -99,  2,20050608,1556,  27.8308,  149.3315,  5968, 2401.000,    1.754,   34.638,2,   34.638,2,   89.360,1,  111.860,2,  153.830,2,   38.680,2,    0.010,2,    2.737,2, -999.000,9, -999.000,9, -999.000,9, -999.000,9, -999.000,9
           NA,     P10,     72,   1,-999.0,     -99,  2,20050608,1556,  27.8308,  149.3315,  5968, 2600.900,    1.683,   34.648,2,   34.648,2,   94.530,1,  119.080,2,  153.290,2,   38.280,2,    0.000,2,    2.698,2, -999.000,9, -999.000,9, -999.000,9, -999.000,9, -999.000,9
           NA,     P10,     72,   1,-999.0,     -99,  2,20050608,1556,  27.8308,  149.3315,  5968, 2799.800,    1.625,   34.658,2,   34.657,2,   99.860,1,  126.600,2,  152.240,2,   37.760,2,    0.010,2,    2.664,2, -999.000,9, -999.000,9, -999.000,9, -999.000,9, -999.000,9
           NA,     P10,     72,   1,-999.0,     -99,  2,20050608,1556,  27.8308,  149.3315,  5968, 3000.400,    1.586,   34.663,2,   34.663,2,  102.400,1,  130.320,6,  152.350,2,   37.570,2,    0.010,2,    2.643,2, -999.000,9, -999.000,9, -999.000,9, -999.000,9, -999.000,9
           NA,     P10,     72,   1,-999.0,     -99,  2,20050608,1556,  27.8308,  149.3315,  5968, 3248.600,    1.538,   34.671,2,   34.671,6,  107.110,1,  137.150,2,  151.180,2,   37.010,2,    0.010,2,    2.610,2, -999.000,9, -999.000,9, -999.000,9, -999.000,9, -999.000,9
           NA,     P10,     72,   1,-999.0,     -99,  2,20050608,1556,  27.8308,  149.3315,  5968, 3500.200,    1.513,   34.675,2,   34.675,2,  110.220,1,  141.790,2,  150.670,2,   36.740,2,    0.010,2,    2.574,2, -999.000,9, -999.000,9, -999.000,9, -999.000,9, -999.000,9
           NA,     P10,     72,   1,-999.0,     -99,  2,20050608,1556,  27.8308,  149.3315,  5968, 3750.900,    1.495,   34.680,2,   34.680,2,  113.140,1,  146.090,2,  149.310,2,   36.280,2,    0.010,2,    2.550,2, -999.000,9, -999.000,9, -999.000,9, -999.000,9, -999.000,9
           NA,     P10,     72,   1,-999.0,     -99,  2,20050608,1556,  27.8308,  149.3315,  5968, 4001.800,    1.474,   34.684,2,   34.684,2,  116.870,1,  151.110,2,  148.570,2,   36.110,2,    0.010,2,    2.536,2, -999.000,9, -999.000,9, -999.000,9, -999.000,9, -999.000,9
           NA,     P10,     72,   1,-999.0,     -99,  2,20050608,1556,  27.8308,  149.3315,  5968, 4250.600,    1.474,   34.687,2,   34.687,2,  119.400,1,  154.720,2,  147.120,2,   35.870,2,    0.010,2,    2.516,2, -999.000,9, -999.000,9, -999.000,9, -999.000,9, -999.000,9
           NA,     P10,     72,   1,-999.0,     -99,  2,20050608,1556,  27.8308,  149.3315,  5968, 4501.800,    1.478,   34.689,2,   34.689,6,  121.780,1,  157.920,2,  145.750,2,   35.640,2,    0.010,2,    2.498,2, -999.000,9, -999.000,9, -999.000,9, -999.000,9, -999.000,9
           NA,     P10,     72,   1,-999.0,     -99,  2,20050608,1556,  27.8308,  149.3315,  5968, 4752.200,    1.486,   34.691,2,   34.691,2,  124.450,1,  161.420,2,  143.700,2,   35.340,2,    0.010,2,    2.477,2, -999.000,9, -999.000,9, -999.000,9, -999.000,9, -999.000,9
           NA,     P10,     72,   1,-999.0,     -99,  2,20050608,1556,  27.8308,  149.3315,  5968, 5251.000,    1.522,   34.694,2, -999.000,3,  128.140,1,  164.900,6,  141.760,2,   35.130,2,    0.000,2,    2.454,2, -999.000,9, -999.000,9, -999.000,9, -999.000,9, -999.000,9
           NA,     P10,     72,   1,-999.0,     -99,  2,20050608,1556,  27.8308,  149.3315,  5968, 5502.300,    1.543,   34.694,2,   34.694,2,  130.700,1,  167.410,2,  139.790,2,   34.960,2,    0.000,2,    2.447,2, -999.000,9, -999.000,9, -999.000,9, -999.000,9, -999.000,9
           NA,     P10,     72,   1,-999.0,     -99,  2,20050608,1556,  27.8308,  149.3315,  5968, 5752.600,    1.564,   34.695,2,   34.696,2,  133.260,1,  169.780,2,  137.570,2,   34.700,2,    0.010,2,    2.429,2, -999.000,9, -999.000,9, -999.000,9, -999.000,9, -999.000,9
           NA,     P10,     72,   1,-999.0,     -99,  2,20050608,1556,  27.8308,  149.3315,  5968, 6085.500,    1.600,   34.696,2,   34.696,6,  135.550,1,  170.540,2,  137.390,2,   34.710,2,    0.010,2,    2.429,2, -999.000,9, -999.000,9, -999.000,9, -999.000,9, -999.000,9