BOTTLE,20214413JOAExport
EXPOCODE,SECT_ID,STNNBR,CASTNO,SAMPNO,BTLNBR,BTLNBR_FLAG_W,DATE,TIME,LATITUDE,LONGITUDE,DEPTH,CTDPRS,CTDTMP,CTDSAL,CTDSAL_FLAG_W,SALNTY,SALNTY_FLAG_W,CTDOXY,CTDOXY_FLAG_W,OXYGEN,OXYGEN_FLAG_W,SILCAT,SILCAT_FLAG_W,NITRAT,NITRAT_FLAG_W,NITRIT,NITRIT_FLAG_W,PHSPHT,PHSPHT_FLAG_W,CFC-11,CFC-11_FLAG_W,CFC-12,CFC-12_FLAG_W,SF6,SF6_FLAG_W,TCARBN,TCARBN_FLAG_W,ALKALI,ALKALI_FLAG_W
,,,,,,,,,,,,,DB,ITS-90,PSS-78,,PSS-78,,UMOL/KG,,UMOL/KG,,UMOL/KG,,UMOL/KG,,UMOL/KG,,UMOL/KG,,PMOL/KG,,PMOL/KG,,FMOL/KG,,UMOL/KG,,UMOL/KG
           NA,     P10,     31,   1,-999.0,     -99,  2,20050621,0839,   3.5082,  147.2133,  4604,   10.400,   29.656,   34.034,2,   34.036,2,  171.930,1,  195.400,6,    0.850,2,    0.030,2,    0.000,2,    0.127,2,    1.403,2,    0.855,2, -999.000,9, 1895.700,2, 2240.400,2
           NA,     P10,     31,   1,-999.0,     -99,  2,20050621,0839,   3.5082,  147.2133,  4604,   50.400,   28.951,   34.713,2,   34.730,2,  168.120,1,  189.890,2,    1.180,2,    0.140,2,    0.020,2,    0.225,2,    1.489,2,    0.899,2, -999.000,9, 1955.800,6, 2288.700,2
           NA,     P10,     31,   1,-999.0,     -99,  2,20050621,0839,   3.5082,  147.2133,  4604,  100.800,   24.470,   34.896,2,   34.904,2,  119.530,1,  136.750,2,    4.700,2,    7.930,2,    0.040,2,    0.671,2,    1.674,2,    0.953,2, -999.000,9, 2037.400,2, 2295.800,6
           NA,     P10,     31,   1,-999.0,     -99,  2,20050621,0839,   3.5082,  147.2133,  4604,  150.100,   22.652,   34.990,2,   34.990,2,  118.880,1,  136.650,2,    5.990,2,    8.840,2,    0.020,2,    0.745,2,    1.769,2,    1.010,2, -999.000,9, 2058.000,2, 2305.400,2
           NA,     P10,     31,   1,-999.0,     -99,  2,20050621,0839,   3.5082,  147.2133,  4604,  203.200,   15.825,   34.715,2,   34.717,2,  117.710,1,  137.020,2,   13.960,2,   14.510,2,    0.010,2,    1.125,2,    1.927,2,    1.009,2, -999.000,9, 2112.300,2, 2294.200,2
           NA,     P10,     31,   1,-999.0,     -99,  2,20050621,0839,   3.5082,  147.2133,  4604,  250.400,   11.066,   34.575,2,   34.579,2,   64.040,1,   69.880,2,   30.150,2,   28.730,2,    0.010,2,    2.123,2,    0.852,6,    0.412,6, -999.000,9, 2211.700,2, 2301.200,2
           NA,     P10,     31,   1,-999.0,     -99,  2,20050621,0839,   3.5082,  147.2133,  4604,  299.500,    9.532,   34.627,2,   34.628,2,   43.970,1,   50.750,2,   35.260,2,   33.370,2,    0.010,2,    2.417,2,    0.340,2,    0.164,2, -999.000,9, 2244.400,2, 2308.100,2
           NA,     P10,     31,   1,-999.0,     -99,  2,20050621,0839,   3.5082,  147.2133,  4604,  399.500,    8.282,   34.602,2,   34.599,2,   59.860,1,   69.890,2,   39.420,2,   34.190,2,    0.000,2,    2.471,2,    0.218,2,    0.110,2, -999.000,9, 2245.600,2, 2313.900,2
           NA,     P10,     31,   1,-999.0,     -99,  2,20050621,0839,   3.5082,  147.2133,  4604,  499.900,    7.516,   34.573,2,   34.569,6,   69.570,1,   81.900,2,   44.140,2,   34.640,2,    0.000,2,    2.504,2,    0.180,2,    0.093,2, -999.000,9, 2248.600,2, 2317.800,2
           NA,     P10,     31,   1,-999.0,     -99,  2,20050621,0839,   3.5082,  147.2133,  4604,  599.500,    6.670,   34.546,2,   34.544,2,   68.830,1,   84.110,2,   53.160,2,   35.970,2,    0.000,2,    2.606,2,    0.121,2,    0.049,2, -999.000,9, 2259.200,2, 2327.100,2
           NA,     P10,     31,   1,-999.0,     -99,  2,20050621,0839,   3.5082,  147.2133,  4604,  700.400,    6.022,   34.540,2,   34.541,2,   67.310,1,   77.230,2,   62.580,2,   37.810,2,    0.010,2,    2.741,2,    0.047,2,    0.021,2, -999.000,9, 2275.400,6, 2334.600,2
           NA,     P10,     31,   1,-999.0,     -99,  2,20050621,0839,   3.5082,  147.2133,  4604,  799.300,    5.314,   34.542,2,   34.542,2,   70.300,1,   82.810,2,   72.700,2,   38.360,2,    0.000,2,    2.776,2,    0.025,6,    0.013,6, -999.000,9, 2284.700,2, 2346.000,6
           NA,     P10,     31,   1,-999.0,     -99,  2,20050621,0839,   3.5082,  147.2133,  4604,  901.300,    4.769,   34.549,2,   34.549,2,   74.930,1,   88.760,2,   82.210,2,   38.460,2,    0.000,2,    2.780,2,    0.021,2,    0.012,2, -999.000,9, 2293.300,2, 2356.300,2
           NA,     P10,     31,   1,-999.0,     -99,  2,20050621,0839,   3.5082,  147.2133,  4604, 1000.500,    4.372,   34.559,2,   34.559,6,   75.000,1,   89.450,2,   90.770,2,   38.790,2,    0.000,2,    2.819,2,    0.016,2,    0.006,2, -999.000,9, 2302.600,2, 2364.900,2
           NA,     P10,     31,   1,-999.0,     -99,  2,20050621,0839,   3.5082,  147.2133,  4604, 1204.600,    3.703,   34.578,2,   34.578,2,   80.070,1,   96.120,6,  105.080,2,   38.760,2,    0.000,2,    2.798,2,    0.012,2,    0.004,2, -999.000,9, 2314.800,2, 2380.000,2
           NA,     P10,     31,   1,-999.0,     -99,  2,20050621,0839,   3.5082,  147.2133,  4604, 1399.500,    3.177,   34.595,2,   34.595,2,   81.330,1,   98.100,2,  116.370,2,   39.100,2,    0.000,2,    2.824,2,    0.003,2,   -0.003,2, -999.000,9, 2326.400,2, 2392.600,2
           NA,     P10,     31,   1,-999.0,     -99,  2,20050621,0839,   3.5082,  147.2133,  4604, 1601.100,    2.733,   34.613,2,   34.613,2,   85.180,1,  103.480,2,  126.140,2,   38.960,2,    0.010,2,    2.804,2,    0.009,2,    0.007,2, -999.000,9, 2333.000,2, 2398.600,2
           NA,     P10,     31,   1,-999.0,     -99,  2,20050621,0839,   3.5082,  147.2133,  4604, 1801.100,    2.430,   34.626,2,   34.626,2,   90.870,1,  111.290,2,  131.890,2,   38.530,2,    0.000,2,    2.761,2,    0.000,2,    0.003,2, -999.000,9, 2335.000,2, 2409.900,2
           NA,     P10,     31,   1,-999.0,     -99,  2,20050621,0839,   3.5082,  147.2133,  4604, 2001.900,    2.190,   34.639,2,   34.639,6,   93.190,1,  114.990,2,  137.520,2,   38.460,2,    0.000,2,    2.752,2,   -0.001,2,    0.000,2, -999.000,9, 2339.300,2, 2414.700,2
           NA,     P10,     31,   1,-999.0,     -99,  2,20050621,0839,   3.5082,  147.2133,  4604, 2200.400,    2.008,   34.649,2,   34.649,2,   96.920,1,  120.090,2,  141.320,2,   38.270,2,    0.000,2,    2.729,2,    0.001,2,    0.000,2, -999.000,9, 2340.400,2, 2416.700,2
           NA,     P10,     31,   1,-999.0,     -99,  2,20050621,0839,   3.5082,  147.2133,  4604, 2400.800,    1.851,   34.658,2,   34.658,2,  101.280,1,  126.080,2,  143.580,2,   37.850,2,    0.000,2,    2.694,2, -999.000,9, -999.000,9, -999.000,9, 2339.400,6, 2420.300,2
           NA,     P10,     31,   1,-999.0,     -99,  2,20050621,0839,   3.5082,  147.2133,  4604, 2600.600,    1.747,   34.664,2,   34.663,2,  106.080,1,  132.640,2,  143.590,2,   37.390,2,    0.000,2,    2.658,2, -999.000,9, -999.000,9, -999.000,9, 2336.800,2, 2422.700,6
           NA,     P10,     31,   1,-999.0,     -99,  2,20050621,0839,   3.5082,  147.2133,  4604, 2800.800,    1.664,   34.669,2,   34.669,6,  110.130,1,  138.280,2,  143.540,2,   36.970,2,    0.000,2,    2.623,2, -999.000,9, -999.000,9, -999.000,9, 2334.400,2, 2421.400,2
           NA,     P10,     31,   1,-999.0,     -99,  2,20050621,0839,   3.5082,  147.2133,  4604, 3000.300,    1.620,   34.672,2,   34.672,2,  112.590,1,  141.560,6,  142.900,2,   36.580,2,    0.000,2,    2.599,2, -999.000,9, -999.000,9, -999.000,9, 2332.600,2, 2420.300,2
           NA,     P10,     31,   1,-999.0,     -99,  2,20050621,0839,   3.5082,  147.2133,  4604, 3251.100,    1.593,   34.676,2,   34.675,2,  114.580,1,  144.330,2,  143.200,2,   36.470,2,    0.000,2,    2.584,2, -999.000,9, -999.000,9, -999.000,9, 2331.900,2, 2423.700,2
           NA,     P10,     31,   1,-999.0,     -99,  2,20050621,0839,   3.5082,  147.2133,  4604, 3501.400,    1.551,   34.680,2,   34.680,2,  117.630,1,  148.490,2,  143.060,2,   36.330,2,    0.000,2,    2.576,2, -999.000,9, -999.000,9, -999.000,9, 2329.600,2, 2424.700,2
           NA,     P10,     31,   1,-999.0,     -99,  2,20050621,0839,   3.5082,  147.2133,  4604, 3749.800,    1.535,   34.683,2,   34.683,6,  120.090,1,  151.370,2,  142.700,2,   36.140,2,    0.000,2,    2.562,2, -999.000,9, -999.000,9, -999.000,9, 2328.400,2, 2422.300,2
           NA,     P10,     31,   1,-999.0,     -99,  2,20050621,0839,   3.5082,  147.2133,  4604, 3998.700,    1.524,   34.686,2,   34.685,2,  122.490,1,  153.890,2,  142.310,2,   36.010,2,    0.000,2,    2.547,2, -999.000,9, -999.000,9, -999.000,9, 2326.600,2, 2423.300,2
           NA,     P10,     31,   1,-999.0,     -99,  2,20050621,0839,   3.5082,  147.2133,  4604, 4252.000,    1.540,   34.686,2,   34.686,2,  123.820,1,  154.760,2,  142.170,2,   35.930,2,    0.000,2,    2.543,2, -999.000,9, -999.000,9, -999.000,9, 2326.500,6, 2423.700,2
           NA,     P10,     31,   1,-999.0,     -99,  2,20050621,0839,   3.5082,  147.2133,  4604, 4499.500,    1.562,   34.687,2,   34.687,2,  125.110,1,  155.340,2,  141.790,2,   35.920,2,    0.000,2,    2.532,2, -999.000,9, -999.000,9, -999.000,9, 2326.500,2, 2422.900,6
           NA,     P10,     31,   1,-999.0,     -99,  2,20050621,0839,   3.5082,  147.2133,  4604, 4654.300,    1.572,   34.687,2,   34.687,6,  126.150,1,  156.010,6,  141.770,2,   35.860,2,    0.000,2,    2.531,2, -999.000,9, -999.000,9, -999.000,9, 2326.100,2, 2420.800,2
           NA,     P10,     31,   1,-999.0,     -99,  2,20050621,0839,   3.5082,  147.2133,  4604, 4654.400,    1.572,   34.687,2,   34.687,2,  126.130,1,  155.930,2,  141.890,2,   35.910,2,    0.000,2,    2.539,2, -999.000,9, -999.000,9, -999.000,9, 2326.400,2, 2422.600,2
           NA,     P10,     32,   1,-999.0,     -99,  2,20050621,0235,   4.0065,  147.4335,  4099,    9.500,   29.606,   33.975,2,   33.976,2,  172.430,1,  195.650,6,    0.880,2,    0.030,2,    0.000,2,    0.089,2,    1.393,2,    0.866,2, -999.000,9, 1891.100,2, 2242.300,2
           NA,     P10,     32,   1,-999.0,     -99,  2,20050621,0235,   4.0065,  147.4335,  4099,   49.200,   28.951,   34.551,2,   34.554,2,  175.510,1,  192.280,2,    1.250,2,    0.440,2,    0.120,2,    0.169,2,    1.536,2,    0.874,2, -999.000,9, 1951.200,6, 2277.500,2
           NA,     P10,     32,   1,-999.0,     -99,  2,20050621,0235,   4.0065,  147.4335,  4099,   99.700,   25.137,   35.087,2,   35.076,2,  115.270,1,  130.950,2,    3.690,2,    8.470,2,    0.040,2,    0.689,2,    1.605,2,    0.969,2, -999.000,9, 2042.600,2, 2304.300,6
           NA,     P10,     32,   1,-999.0,     -99,  2,20050621,0235,   4.0065,  147.4335,  4099,  150.500,   21.969,   34.924,2,   34.919,2,  123.880,1,  142.190,2,    6.770,2,    8.560,2,    0.020,2,    0.695,2,    1.751,2,    1.031,2, -999.000,9, 2055.300,2, 2299.900,2
           NA,     P10,     32,   1,-999.0,     -99,  2,20050621,0235,   4.0065,  147.4335,  4099,  199.600,   15.580,   34.672,2,   34.662,2,  114.070,1,  129.520,2,   15.740,2,   15.970,2,    0.010,2,    1.200,2,    1.799,2,    0.990,2, -999.000,9, 2119.900,2, 2295.300,2
           NA,     P10,     32,   1,-999.0,     -99,  2,20050621,0235,   4.0065,  147.4335,  4099,  250.000,   11.472,   34.568,2,   34.567,2,   73.950,1,   84.920,2,   28.040,2,   26.260,2,    0.000,2,    1.931,2,    1.091,6,    0.574,6, -999.000,9, 2191.700,2, 2300.200,2
           NA,     P10,     32,   1,-999.0,     -99,  2,20050621,0235,   4.0065,  147.4335,  4099,  304.600,    9.533,   34.629,2,   34.626,2,   43.390,1,   49.200,2,   35.080,2,   33.340,2,    0.000,2,    2.409,2,    0.360,2,    0.180,2, -999.000,9, 2241.900,2, 2307.300,2
           NA,     P10,     32,   1,-999.0,     -99,  2,20050621,0235,   4.0065,  147.4335,  4099,  401.200,    8.463,   34.605,2,   34.604,2,   55.060,1,   63.670,2,   39.150,2,   34.230,2,    0.000,2,    2.458,2,    0.238,2,    0.121,2, -999.000,9, 2243.400,2, 2312.000,2
           NA,     P10,     32,   1,-999.0,     -99,  2,20050621,0235,   4.0065,  147.4335,  4099,  501.300,    7.633,   34.580,2,   34.579,6,   62.160,1,   72.060,2,   43.570,2,   35.250,2,    0.000,2,    2.535,2,    0.166,2,    0.080,2, -999.000,9, 2249.600,2, 2316.300,2
           NA,     P10,     32,   1,-999.0,     -99,  2,20050621,0235,   4.0065,  147.4335,  4099,  600.200,    6.830,   34.556,2,   34.556,2,   59.840,1,   69.930,2,   51.660,2,   36.950,2,    0.000,2,    2.667,2,    0.082,2,    0.039,2, -999.000,9, 2263.800,2, 2324.100,2
           NA,     P10,     32,   1,-999.0,     -99,  2,20050621,0235,   4.0065,  147.4335,  4099,  699.600,    6.092,   34.543,2,   34.544,2,   62.920,1,   73.590,2,   60.810,2,   38.050,2,    0.000,2,    2.742,2,    0.042,2,    0.018,2, -999.000,9, 2273.200,6, 2332.600,2
           NA,     P10,     32,   1,-999.0,     -99,  2,20050621,0235,   4.0065,  147.4335,  4099,  800.000,    5.446,   34.541,2,   34.541,2,   69.170,1,   81.460,2,   70.420,2,   38.250,2,    0.000,2,    2.756,2,    0.031,6,    0.012,6, -999.000,9, 2280.100,2, 2344.800,6
           NA,     P10,     32,   1,-999.0,     -99,  2,20050621,0235,   4.0065,  147.4335,  4099,  898.000,    4.978,   34.546,2,   34.547,2,   74.130,1,   87.760,2,   78.030,2,   38.270,2,    0.000,2,    2.753,2,    0.021,2,    0.012,2, -999.000,9, 2287.600,2, 2353.900,2
           NA,     P10,     32,   1,-999.0,     -99,  2,20050621,0235,   4.0065,  147.4335,  4099,  999.300,    4.566,   34.554,2,   34.556,6,   76.740,1,   90.410,2,   87.430,2,   38.420,2,    0.000,2,    2.770,2,    0.019,2,    0.008,2, -999.000,9, 2298.000,2, 2363.700,2
           NA,     P10,     32,   1,-999.0,     -99,  2,20050621,0235,   4.0065,  147.4335,  4099, 1200.000,    3.833,   34.574,2,   34.575,2,   78.840,1,   94.570,6,  102.440,2,   38.680,2,    0.000,2,    2.792,2,    0.012,2,    0.006,2, -999.000,9, 2307.800,2, 2380.600,2
           NA,     P10,     32,   1,-999.0,     -99,  2,20050621,0235,   4.0065,  147.4335,  4099, 1400.200,    3.223,   34.594,2,   34.594,2,   78.080,1,   93.940,2,  116.690,2,   39.390,2,    0.000,2,    2.835,2,    0.003,2,    0.001,2, -999.000,9, 2325.400,2, 2391.600,2
           NA,     P10,     32,   1,-999.0,     -99,  2,20050621,0235,   4.0065,  147.4335,  4099, 1598.900,    2.770,   34.612,2,   34.612,2,   84.790,1,  103.150,2,  125.380,2,   38.960,2,    0.000,2,    2.789,2,    0.000,2,   -0.002,2, -999.000,9, 2332.700,2, 2403.300,2
           NA,     P10,     32,   1,-999.0,     -99,  2,20050621,0235,   4.0065,  147.4335,  4099, 1801.300,    2.439,   34.627,2,   34.626,6,   90.320,1,  110.590,2,  131.840,2,   38.590,2,    0.000,2,    2.752,2,   -0.002,2,   -0.002,2, -999.000,9, 2332.600,2, 2409.800,2
           NA,     P10,     32,   1,-999.0,     -99,  2,20050621,0235,   4.0065,  147.4335,  4099, 2000.000,    2.181,   34.640,2,   34.640,2,   94.950,1,  116.790,2,  136.730,2,   38.290,2,    0.010,2,    2.723,2,   -0.004,2,   -0.002,2, -999.000,9, 2335.600,2, 2416.500,2
           NA,     P10,     32,   1,-999.0,     -99,  2,20050621,0235,   4.0065,  147.4335,  4099, 2200.300,    1.979,   34.650,2,   34.650,2,   97.610,1,  120.500,2,  141.730,2,   38.100,2,    0.000,2,    2.705,2,   -0.003,2,   -0.003,2, -999.000,9, 2335.800,2, 2420.300,2
           NA,     P10,     32,   1,-999.0,     -99,  2,20050621,0235,   4.0065,  147.4335,  4099, 2400.100,    1.830,   34.659,2,   34.658,2,  102.580,1,  127.470,2,  143.300,2,   37.740,2,    0.000,2,    2.672,2,   -0.003,2,    0.001,2, -999.000,9, 2334.600,6, 2421.100,2
           NA,     P10,     32,   1,-999.0,     -99,  2,20050621,0235,   4.0065,  147.4335,  4099, 2600.600,    1.719,   34.665,2,   34.665,6,  107.650,1,  134.240,2,  143.400,2,   37.280,2,    0.000,2,    2.630,2,   -0.004,2,   -0.001,2, -999.000,9, 2332.400,2, 2420.900,6
           NA,     P10,     32,   1,-999.0,     -99,  2,20050621,0235,   4.0065,  147.4335,  4099, 2800.800,    1.650,   34.670,2,   34.670,2,  111.390,1,  139.130,2,  143.390,2,   36.850,2,    0.000,2,    2.603,2, -999.000,9, -999.000,9, -999.000,9, 2330.100,2, 2423.700,2
           NA,     P10,     32,   1,-999.0,     -99,  2,20050621,0235,   4.0065,  147.4335,  4099, 3001.500,    1.596,   34.674,2,   34.674,2,  114.420,1,  143.240,6,  143.180,2,   36.650,2,    0.000,2,    2.576,2,    0.007,2,    0.006,2, -999.000,9, 2329.000,2, 2423.200,2
           NA,     P10,     32,   1,-999.0,     -99,  2,20050621,0235,   4.0065,  147.4335,  4099, 3251.600,    1.552,   34.678,2,   34.678,6,  117.330,1,  146.950,2,  143.090,2,   36.400,2,    0.000,2,    2.558,2, -999.000,9, -999.000,9, -999.000,9, 2326.700,2, 2423.200,2
           NA,     P10,     32,   1,-999.0,     -99,  2,20050621,0235,   4.0065,  147.4335,  4099, 3502.200,    1.545,   34.680,2,   34.680,2,  119.250,1,  149.100,2,  142.740,2,   36.220,2,    0.010,2,    2.546,2,    0.002,2,    0.000,2, -999.000,9, 2325.400,2, 2423.700,2
           NA,     P10,     32,   1,-999.0,     -99,  2,20050621,0235,   4.0065,  147.4335,  4099, 3748.700,    1.530,   34.683,2,   34.683,2,  121.850,1,  151.780,2,  142.400,2,   36.010,2,    0.010,2,    2.532,2, -999.000,9, -999.000,9, -999.000,9, 2323.300,2, 2425.700,2
           NA,     P10,     32,   1,-999.0,     -99,  2,20050621,0235,   4.0065,  147.4335,  4099, 3999.300,    1.527,   34.685,2,   34.685,2,  124.150,1,  153.630,2,  142.120,2,   35.950,2,    0.010,2,    2.522,2, -999.000,9, -999.000,9, -999.000,9, 2324.100,2, 2425.500,2
           NA,     P10,     32,   1,-999.0,     -99,  2,20050621,0235,   4.0065,  147.4335,  4099, 4148.400,    1.527,   34.686,2,   34.686,2,  125.600,1,  154.740,2,  141.940,2,   35.960,2,    0.000,2,    2.519,2, -999.000,9, -999.000,9, -999.000,9, 2323.900,2, 2425.500,2
           NA,     P10,     32,   1,-999.0,     -99,  2,20050621,0235,   4.0065,  147.4335,  4099, 4148.600,    1.527,   34.686,2,   34.686,6,  125.640,1,  154.870,6,  142.020,2,   35.890,2,    0.000,2,    2.518,2,    0.007,2,    0.002,2, -999.000,9, 2320.400,2, 2423.700,2