BOTTLE,20214413JOAExport
EXPOCODE,SECT_ID,STNNBR,CASTNO,SAMPNO,BTLNBR,BTLNBR_FLAG_W,DATE,TIME,LATITUDE,LONGITUDE,DEPTH,CTDPRS,CTDTMP,CTDSAL,CTDSAL_FLAG_W,SALNTY,SALNTY_FLAG_W,CTDOXY,CTDOXY_FLAG_W,OXYGEN,OXYGEN_FLAG_W,SILCAT,SILCAT_FLAG_W,NITRAT,NITRAT_FLAG_W,NITRIT,NITRIT_FLAG_W,PHSPHT,PHSPHT_FLAG_W,CFC-11,CFC-11_FLAG_W,CFC-12,CFC-12_FLAG_W,SF6,SF6_FLAG_W,TCARBN,TCARBN_FLAG_W,ALKALI,ALKALI_FLAG_W
,,,,,,,,,,,,,DB,ITS-90,PSS-78,,PSS-78,,UMOL/KG,,UMOL/KG,,UMOL/KG,,UMOL/KG,,UMOL/KG,,UMOL/KG,,PMOL/KG,,PMOL/KG,,FMOL/KG,,UMOL/KG,,UMOL/KG
           NA,     P10,      8,   1,-999.0,     -99,  2,20050626,1710,  -2.5008,  145.4285,  1090,    9.700,   29.736,   34.253,2,   34.250,2,  173.980,1,  197.850,6,    0.860,2,    0.040,2,    0.000,2,    0.127,2,    1.393,2,    0.866,2, -999.000,9, -999.000,9, -999.000,9
           NA,     P10,      8,   1,-999.0,     -99,  2,20050626,1710,  -2.5008,  145.4285,  1090,   49.400,   29.644,   34.584,2,   34.670,2,  171.810,1,  194.350,2,    0.830,2,    0.070,2,    0.020,2,    0.174,2,    1.419,2,    0.878,2, -999.000,9, -999.000,9, -999.000,9
           NA,     P10,      8,   1,-999.0,     -99,  2,20050626,1710,  -2.5008,  145.4285,  1090,   99.700,   26.724,   35.428,2,   35.436,2,  134.720,1,  152.810,2,    2.100,2,    6.410,2,    0.040,2,    0.641,2,    1.552,2,    0.940,2, -999.000,9, -999.000,9, -999.000,9
           NA,     P10,      8,   1,-999.0,     -99,  2,20050626,1710,  -2.5008,  145.4285,  1090,  149.800,   22.378,   35.571,2,   35.570,2,  118.810,1,  138.360,2,    2.590,2,    8.420,2,    0.010,2,    0.735,2,    1.778,2,    1.032,2, -999.000,9, -999.000,9, -999.000,9
           NA,     P10,      8,   1,-999.0,     -99,  2,20050626,1710,  -2.5008,  145.4285,  1090,  199.500,   18.733,   35.485,2,   35.446,2,  118.670,1,  137.640,2,    4.860,2,   11.850,2,    0.010,2,    0.974,2,    1.746,2,    0.982,2, -999.000,9, -999.000,9, -999.000,9
           NA,     P10,      8,   1,-999.0,     -99,  2,20050626,1710,  -2.5008,  145.4285,  1090,  251.100,   15.458,   35.228,2,   35.158,2,  120.680,1,  141.420,2,    8.780,2,   16.120,2,    0.000,2,    1.246,2,    1.528,6,    0.829,6, -999.000,9, -999.000,9, -999.000,9
           NA,     P10,      8,   1,-999.0,     -99,  2,20050626,1710,  -2.5008,  145.4285,  1090,  299.700,   11.605,   34.884,2,   34.867,2,  118.180,1,  138.430,2,   15.780,2,   21.650,2,    0.000,2,    1.591,2,    1.146,2,    0.604,2, -999.000,9, -999.000,9, -999.000,9
           NA,     P10,      8,   1,-999.0,     -99,  2,20050626,1710,  -2.5008,  145.4285,  1090,  400.000,    9.442,   34.701,2,   34.695,2,  137.720,1,  162.390,2,   16.810,2,   23.290,2,    0.000,2,    1.679,2,    1.146,2,    0.609,2, -999.000,9, -999.000,9, -999.000,9
           NA,     P10,      8,   1,-999.0,     -99,  2,20050626,1710,  -2.5008,  145.4285,  1090,  499.000,    8.454,   34.621,2,   34.613,6,  143.360,1,  166.930,2,   20.350,2,   25.110,2,    0.000,2,    1.794,2,    0.832,2,    0.432,2, -999.000,9, -999.000,9, -999.000,9
           NA,     P10,      8,   1,-999.0,     -99,  2,20050626,1710,  -2.5008,  145.4285,  1090,  599.900,    6.609,   34.537,2,   34.536,2,  117.260,1,  139.220,2,   38.700,2,   31.290,2,    0.000,2,    2.232,2,    0.332,2,    0.173,2, -999.000,9, -999.000,9, -999.000,9
           NA,     P10,      8,   1,-999.0,     -99,  2,20050626,1710,  -2.5008,  145.4285,  1090,  699.400,    6.002,   34.529,2,   34.529,2,  109.660,1,  128.460,2,   48.820,2,   33.330,2,    0.000,2,    2.386,2,    0.205,2,    0.100,2, -999.000,9, -999.000,9, -999.000,9
           NA,     P10,      8,   1,-999.0,     -99,  2,20050626,1710,  -2.5008,  145.4285,  1090,  799.100,    5.399,   34.522,2,   34.522,2,  108.900,1,  127.670,2,   57.400,2,   34.330,2,    0.000,2,    2.464,2,    0.134,6,    0.067,6, -999.000,9, -999.000,9, -999.000,9
           NA,     P10,      8,   1,-999.0,     -99,  2,20050626,1710,  -2.5008,  145.4285,  1090,  900.200,    4.874,   34.539,2,   34.540,2,   94.840,1,  110.920,2,   71.900,2,   36.580,2,    0.000,2,    2.631,2,    0.055,2,    0.024,2, -999.000,9, -999.000,9, -999.000,9
           NA,     P10,      8,   1,-999.0,     -99,  2,20050626,1710,  -2.5008,  145.4285,  1090, 1001.700,    4.525,   34.547,2,   34.548,6,   92.690,1,  108.600,2,   79.990,2,   37.090,2,    0.000,2,    2.671,2,    0.041,2,    0.018,2, -999.000,9, -999.000,9, -999.000,9
           NA,     P10,      8,   1,-999.0,     -99,  2,20050626,1710,  -2.5008,  145.4285,  1090, 1089.600,    4.154,   34.559,2,   34.559,2,   90.860,1,  106.300,6,   88.290,2,   37.570,2,    0.000,2,    2.711,2,    0.027,2,    0.011,2, -999.000,9, -999.000,9, -999.000,9
           NA,     P10,      9,   1,-999.0,     -99,  2,20050626,1235,  -2.2487,  145.5003,   997,   10.200,   29.874,   34.291,2,   34.291,2,  175.370,1,  199.390,6,    0.950,2,    0.030,2,    0.010,2,    0.098,2,    1.448,2,    0.900,2, -999.000,9, 1901.000,2, 2256.900,2
           NA,     P10,      9,   1,-999.0,     -99,  2,20050626,1235,  -2.2487,  145.5003,   997,   50.000,   29.706,   34.910,2,   34.946,2,  171.160,1,  193.030,2,    0.890,2,    0.150,2,    0.070,2,    0.225,2,    1.479,2,    0.914,2, -999.000,9, 1953.400,6, 2303.000,2
           NA,     P10,      9,   1,-999.0,     -99,  2,20050626,1235,  -2.2487,  145.5003,   997,  100.000,   27.673,   35.313,2,   35.389,2,  140.070,1,  155.620,2,    1.940,2,    5.720,2,    0.080,2,    0.584,2,    1.636,2,    0.957,2, -999.000,9, 2032.800,2, 2327.500,6
           NA,     P10,      9,   1,-999.0,     -99,  2,20050626,1235,  -2.2487,  145.5003,   997,  150.400,   21.631,   35.579,2,   35.584,2,  116.090,1,  133.460,2,    3.210,2,    9.780,2,    0.020,2,    0.829,2,    1.906,2,    1.046,2, -999.000,9, 2098.000,2, 2340.800,2
           NA,     P10,      9,   1,-999.0,     -99,  2,20050626,1235,  -2.2487,  145.5003,   997,  200.400,   18.298,   35.431,2,   35.378,2,  116.840,1,  137.540,2,    5.630,2,   12.920,2,    0.010,2,    1.033,2,    1.812,2,    0.950,2, -999.000,9, 2121.900,2, 2330.000,2
           NA,     P10,      9,   1,-999.0,     -99,  2,20050626,1235,  -2.2487,  145.5003,   997,  250.300,   15.463,   35.234,2,   35.208,2,  123.260,1,  143.910,2,    7.410,2,   14.960,2,    0.010,2,    1.164,2,    1.702,6,    0.878,6, -999.000,9, 2133.900,2, 2321.700,2
           NA,     P10,      9,   1,-999.0,     -99,  2,20050626,1235,  -2.2487,  145.5003,   997,  300.500,   13.033,   35.012,2,   34.968,2,  122.500,1,  143.950,2,   12.620,2,   19.240,2,    0.010,2,    1.437,2,    1.387,2,    0.705,2, -999.000,9, 2152.000,2, 2314.500,2
           NA,     P10,      9,   1,-999.0,     -99,  2,20050626,1235,  -2.2487,  145.5003,   997,  401.400,   10.282,   34.766,2,   34.755,2,  123.490,1,  144.060,2,   18.320,2,   23.640,2,    0.010,2,    1.710,2,    1.029,2,    0.515,2, -999.000,9, 2172.000,2, 2306.300,2
           NA,     P10,      9,   1,-999.0,     -99,  2,20050626,1235,  -2.2487,  145.5003,   997,  500.200,    8.929,   34.660,2,   34.649,6,  137.660,1,  154.210,2,   21.540,2,   25.570,2,    0.010,2,    1.828,2,    0.823,2,    0.436,2, -999.000,9, 2179.800,2, 2305.600,2
           NA,     P10,      9,   1,-999.0,     -99,  2,20050626,1235,  -2.2487,  145.5003,   997,  601.700,    7.049,   34.555,2,   34.553,2,  121.480,1,  141.740,2,   34.680,2,   30.300,2,    0.010,2,    2.155,2,    0.397,2,    0.231,2, -999.000,9, 2207.500,2, 2311.300,2
           NA,     P10,      9,   1,-999.0,     -99,  2,20050626,1235,  -2.2487,  145.5003,   997,  699.800,    6.054,   34.529,2,   34.529,2,  109.080,1,  128.740,2,   48.470,2,   33.350,2,    0.010,2,    2.379,2,    0.207,2,    0.084,2, -999.000,9, 2234.600,6, 2324.000,2
           NA,     P10,      9,   1,-999.0,     -99,  2,20050626,1235,  -2.2487,  145.5003,   997,  802.200,    5.259,   34.530,2,   34.532,2,  101.380,1,  118.940,2,   62.860,2,   35.360,2,    0.010,2,    2.533,2,    0.089,6,    0.027,6, -999.000,9, 2257.600,2, 2337.000,6
           NA,     P10,      9,   1,-999.0,     -99,  2,20050626,1235,  -2.2487,  145.5003,   997,  902.400,    4.844,   34.536,2,   34.537,2,   98.420,1,  115.360,2,   71.360,2,   36.100,2,    0.010,2,    2.584,2,    0.059,2,    0.008,2, -999.000,9, 2268.700,2, 2344.200,2
           NA,     P10,      9,   1,-999.0,     -99,  2,20050626,1235,  -2.2487,  145.5003,   997,  997.300,    4.584,   34.544,2,   34.544,6,   95.360,1,  111.660,6,   77.770,2,   36.670,2,    0.010,2,    2.639,2,    0.051,2,    0.017,2, -999.000,9, -999.000,5, 2353.300,2
           NA,     P10,     10,   1,-999.0,     -99,  2,20050626,0904,  -1.9978,  145.5682,   738,    9.800,   30.001,   34.031,2,   34.059,2,  171.760,1,  195.390,6,    0.820,2,    0.020,2,    0.010,2,    0.131,2,    1.388,2,    0.849,2, -999.000,9, 1888.700,2, 2241.600,2
           NA,     P10,     10,   1,-999.0,     -99,  2,20050626,0904,  -1.9978,  145.5682,   738,   49.800,   29.869,   34.538,2,   34.610,2,  172.780,1,  195.970,2,    0.790,2,    0.040,2,    0.010,2,    0.164,2,    1.385,2,    0.844,2, -999.000,9, 1923.200,6, 2277.700,2
           NA,     P10,     10,   1,-999.0,     -99,  2,20050626,0904,  -1.9978,  145.5682,   738,   99.700,   27.997,   35.423,2,   35.386,2,  146.650,1,  160.760,2,    1.730,2,    4.900,2,    0.230,2,    0.545,2,    1.527,2,    0.925,2, -999.000,9, 2021.600,2, 2328.100,6
           NA,     P10,     10,   1,-999.0,     -99,  2,20050626,0904,  -1.9978,  145.5682,   738,  149.900,   22.578,   35.552,2,   35.555,2,  114.780,1,  132.400,2,    3.240,2,    9.830,2,    0.020,2,    0.827,2,    1.773,2,    1.022,2, -999.000,9, 2093.900,2, 2340.500,2
           NA,     P10,     10,   1,-999.0,     -99,  2,20050626,0904,  -1.9978,  145.5682,   738,  200.000,   17.654,   35.399,2,   35.383,2,  119.890,1,  139.630,2,    5.340,2,   12.580,2,    0.010,2,    1.009,2,    1.749,2,    0.971,2, -999.000,9, 2121.900,2, 2333.500,2
           NA,     P10,     10,   1,-999.0,     -99,  2,20050626,0904,  -1.9978,  145.5682,   738,  251.600,   15.270,   35.214,2,   35.193,2,  121.010,1,  141.190,2,    8.030,2,   15.530,2,    0.010,2,    1.205,2,    1.581,6,    0.857,6, -999.000,9, 2138.000,2, 2323.100,2
           NA,     P10,     10,   1,-999.0,     -99,  2,20050626,0904,  -1.9978,  145.5682,   738,  299.700,   11.591,   34.872,2,   34.861,2,  119.400,1,  138.610,2,   16.520,2,   21.630,2,    0.010,2,    1.584,2,    1.170,2,    0.619,2, -999.000,9, 2165.500,2, 2309.000,2
           NA,     P10,     10,   1,-999.0,     -99,  2,20050626,0904,  -1.9978,  145.5682,   738,  400.100,   10.036,   34.742,2,   34.739,2,  117.730,1,  138.820,2,   19.720,2,   24.410,2,    0.010,2,    1.758,2,    0.943,2,    0.495,2, -999.000,9, 2173.800,2, 2305.900,2
           NA,     P10,     10,   1,-999.0,     -99,  2,20050626,0904,  -1.9978,  145.5682,   738,  500.300,    8.929,   34.656,2,   34.641,6,  143.260,1,  168.190,2,   18.380,2,   24.260,2,    0.010,2,    1.738,2,    0.918,2,    0.479,2, -999.000,9, 2168.400,2, 2300.900,2
           NA,     P10,     10,   1,-999.0,     -99,  2,20050626,0904,  -1.9978,  145.5682,   738,  600.500,    6.757,   34.547,2,   34.547,2,  110.300,1,  127.610,2,   39.990,2,   32.200,2,    0.010,2,    2.294,2,    0.293,2,    0.146,2, -999.000,9, 2221.600,2, 2315.100,2
           NA,     P10,     10,   1,-999.0,     -99,  2,20050626,0904,  -1.9978,  145.5682,   738,  699.900,    5.974,   34.531,2,   34.533,2,  104.870,1,  120.950,2,   50.840,2,   34.170,2,    0.010,2,    2.441,2,    0.179,2,    0.087,2, -999.000,9, 2240.800,6, 2327.900,2
           NA,     P10,     10,   1,-999.0,     -99,  2,20050626,0904,  -1.9978,  145.5682,   738,  727.800,    5.724,   34.533,2,   34.534,6,   99.020,1,  115.150,6,   54.880,2,   35.030,2,    0.010,2,    2.505,2,    0.138,2,    0.064,2, -999.000,9, 2246.400,2, 2330.700,2
           NA,     P10,     11,   1,-999.0,     -99,  2,20050626,0444,  -1.7468,  145.6392,  1927,   10.300,   29.815,   34.021,2, -999.000,4,  171.890,1,  196.000,6,    0.820,2,    0.020,2,    0.000,2,    0.144,2,    1.431,2,    0.886,2, -999.000,9, -999.000,9, -999.000,9
           NA,     P10,     11,   1,-999.0,     -99,  2,20050626,0444,  -1.7468,  145.6392,  1927,   49.700,   29.961,   34.833,2,   34.862,2,  173.400,1,  197.590,2,    0.780,2,    0.000,2,    0.000,2,    0.197,2,    1.433,2,    0.881,2, -999.000,9, -999.000,9, -999.000,9
           NA,     P10,     11,   1,-999.0,     -99,  2,20050626,0444,  -1.7468,  145.6392,  1927,   99.200,   28.022,   35.433,2,   35.390,2,  148.490,1,  156.670,2,    1.890,2,    5.420,2,    0.170,2,    0.580,2,    1.615,2,    0.941,2, -999.000,9, -999.000,9, -999.000,9
           NA,     P10,     11,   1,-999.0,     -99,  2,20050626,0444,  -1.7468,  145.6392,  1927,  150.000,   22.428,   35.573,2,   35.559,2,  115.310,1,  133.010,2,    3.290,2,    9.820,2,    0.010,2,    0.839,2,    1.854,2,    1.027,2, -999.000,9, -999.000,9, -999.000,9
           NA,     P10,     11,   1,-999.0,     -99,  2,20050626,0444,  -1.7468,  145.6392,  1927,  200.000,   18.620,   35.475,2,   35.453,2,  116.750,1,  135.850,2,    4.840,2,   12.000,2,    0.010,2,    0.991,2,    1.854,2,    0.986,2, -999.000,9, -999.000,9, -999.000,9
           NA,     P10,     11,   1,-999.0,     -99,  2,20050626,0444,  -1.7468,  145.6392,  1927,  251.200,   14.995,   35.193,2,   35.186,2,  121.850,1,  141.980,2,    7.810,2,   15.420,2,    0.010,2,    1.207,2,    1.668,6,    0.852,6, -999.000,9, -999.000,9, -999.000,9
           NA,     P10,     11,   1,-999.0,     -99,  2,20050626,0444,  -1.7468,  145.6392,  1927,  300.900,   11.947,   34.909,2,   34.901,2,  118.690,1,  139.050,2,   15.350,2,   20.840,2,    0.000,2,    1.538,2,    1.261,2,    0.640,2, -999.000,9, -999.000,9, -999.000,9
           NA,     P10,     11,   1,-999.0,     -99,  2,20050626,0444,  -1.7468,  145.6392,  1927,  399.700,    9.971,   34.738,2,   34.728,2,  117.640,1,  142.480,2,   19.470,2,   24.430,2,    0.010,2,    1.757,2,    0.957,2,    0.476,2, -999.000,9, -999.000,9, -999.000,9
           NA,     P10,     11,   1,-999.0,     -99,  2,20050626,0444,  -1.7468,  145.6392,  1927,  500.100,    8.699,   34.641,2,   34.633,6,  142.020,1,  167.710,2,   18.920,2,   24.510,2,    0.010,2,    1.753,2,    0.904,2,    0.440,2, -999.000,9, -999.000,9, -999.000,9
           NA,     P10,     11,   1,-999.0,     -99,  2,20050626,0444,  -1.7468,  145.6392,  1927,  601.200,    7.167,   34.557,2,   34.553,2,  122.850,1,  141.780,2,   34.060,2,   30.260,2,    0.000,2,    2.146,2,    0.409,2,    0.164,2, -999.000,9, -999.000,9, -999.000,9
           NA,     P10,     11,   1,-999.0,     -99,  2,20050626,0444,  -1.7468,  145.6392,  1927,  699.700,    6.051,   34.530,2,   34.531,2,  104.990,1,  122.710,2,   49.410,2,   33.910,2,    0.000,2,    2.418,2,    0.160,2,    0.049,2, -999.000,9, -999.000,9, -999.000,9
           NA,     P10,     11,   1,-999.0,     -99,  2,20050626,0444,  -1.7468,  145.6392,  1927,  799.800,    5.567,   34.533,2,   34.533,2,   94.580,1,  112.840,2,   59.220,2,   35.640,2,    0.000,2,    2.547,2,    0.091,6, -999.000,4, -999.000,9, -999.000,9, -999.000,9
           NA,     P10,     11,   1,-999.0,     -99,  2,20050626,0444,  -1.7468,  145.6392,  1927,  900.900,    4.975,   34.538,2,   34.538,2,   93.200,1,  110.450,2,   70.260,2,   36.470,2,    0.000,2,    2.615,2,    0.048,2, -999.000,4, -999.000,9, -999.000,9, -999.000,9
           NA,     P10,     11,   1,-999.0,     -99,  2,20050626,0444,  -1.7468,  145.6392,  1927,  999.600,    4.465,   34.551,2,   34.552,6,   86.180,1,  102.050,2,   83.380,2,   37.780,2,    0.000,2,    2.716,2,    0.016,2,    0.000,2, -999.000,9, -999.000,9, -999.000,9
           NA,     P10,     11,   1,-999.0,     -99,  2,20050626,0444,  -1.7468,  145.6392,  1927, 1200.900,    3.762,   34.573,2,   34.574,2,   84.880,1,  101.020,6,   99.400,2,   38.550,2,    0.000,2,    2.774,2,    0.000,2,    0.000,2, -999.000,9, -999.000,9, -999.000,9
           NA,     P10,     11,   1,-999.0,     -99,  2,20050626,0444,  -1.7468,  145.6392,  1927, 1399.600,    3.272,   34.591,2,   34.592,2,   86.910,1,  103.530,2,  110.840,2,   38.670,2,    0.000,2,    2.781,2,    0.000,2,    0.000,2, -999.000,9, -999.000,9, -999.000,9
           NA,     P10,     11,   1,-999.0,     -99,  2,20050626,0444,  -1.7468,  145.6392,  1927, 1600.500,    2.920,   34.606,2,   34.606,6,   90.260,1,  107.750,2,  118.770,2,   38.600,2,    0.000,2,    2.768,2,    0.000,2,    0.000,2, -999.000,9, -999.000,9, -999.000,9
           NA,     P10,     11,   1,-999.0,     -99,  2,20050626,0444,  -1.7468,  145.6392,  1927, 1800.700,    2.421,   34.628,2,   34.629,2,   97.040,1,  115.730,2,  129.520,2,   38.270,2,    0.000,2,    2.729,2, -999.000,9, -999.000,9, -999.000,9, -999.000,9, -999.000,9
           NA,     P10,     11,   1,-999.0,     -99,  2,20050626,0444,  -1.7468,  145.6392,  1927, 1928.700,    2.299,   34.634,2,   34.635,6,   98.700,1,  117.630,6,  132.450,2,   38.180,2,    0.000,2,    2.723,2,    0.013,2,    0.000,2, -999.000,9, -999.000,9, -999.000,9