BOTTLE,20214413JOAExport
EXPOCODE,SECT_ID,STNNBR,CASTNO,SAMPNO,BTLNBR,BTLNBR_FLAG_W,DATE,TIME,LATITUDE,LONGITUDE,DEPTH,CTDPRS,CTDTMP,CTDSAL,CTDSAL_FLAG_W,SALNTY,SALNTY_FLAG_W,CTDOXY,CTDOXY_FLAG_W,OXYGEN,OXYGEN_FLAG_W,SILCAT,SILCAT_FLAG_W,NITRAT,NITRAT_FLAG_W,NITRIT,NITRIT_FLAG_W,PHSPHT,PHSPHT_FLAG_W,CFC-11,CFC-11_FLAG_W,CFC-12,CFC-12_FLAG_W,SF6,SF6_FLAG_W,TCARBN,TCARBN_FLAG_W,ALKALI,ALKALI_FLAG_W
,,,,,,,,,,,,,DB,ITS-90,PSS-78,,PSS-78,,UMOL/KG,,UMOL/KG,,UMOL/KG,,UMOL/KG,,UMOL/KG,,UMOL/KG,,PMOL/KG,,PMOL/KG,,FMOL/KG,,UMOL/KG,,UMOL/KG
           NA,     P10,     65,   1,-999.0,     -99,  2,20050610,2229,  23.1738,  149.3633,  5796,   10.600,   28.288,   34.925,2,   34.930,2,  176.410,1,  201.430,6,    1.010,2,    0.040,2,    0.000,2,    0.046,2,    1.517,2,    0.932,2, -999.000,9, -999.000,9, -999.000,9
           NA,     P10,     65,   1,-999.0,     -99,  2,20050610,2229,  23.1738,  149.3633,  5796,   50.600,   23.279,   35.021,2,   35.029,2,  191.890,1,  221.860,2,    1.260,2,    0.020,2,    0.000,2,    0.048,2,    1.877,2,    1.133,2, -999.000,9, -999.000,9, -999.000,9
           NA,     P10,     65,   1,-999.0,     -99,  2,20050610,2229,  23.1738,  149.3633,  5796,  101.300,   20.696,   35.018,2,   35.011,2,  188.190,1,  216.860,2,    1.710,2,    0.060,2,    0.000,2,    0.067,2,    2.034,2,    1.223,2, -999.000,9, -999.000,9, -999.000,9
           NA,     P10,     65,   1,-999.0,     -99,  2,20050610,2229,  23.1738,  149.3633,  5796,  149.600,   18.827,   34.891,2,   34.887,2,  174.690,1,  202.120,2,    2.690,2,    2.810,2,    0.040,2,    0.244,2,    2.185,2,    1.299,2, -999.000,9, -999.000,9, -999.000,9
           NA,     P10,     65,   1,-999.0,     -99,  2,20050610,2229,  23.1738,  149.3633,  5796,  198.400,   17.660,   34.803,2,   34.799,2,  171.650,1,  199.280,2,    3.670,2,    4.590,2,    0.010,2,    0.356,2,    2.298,2,    1.341,2, -999.000,9, -999.000,9, -999.000,9
           NA,     P10,     65,   1,-999.0,     -99,  2,20050610,2229,  23.1738,  149.3633,  5796,  250.300,   16.416,   34.696,2,   34.692,2,  167.720,1,  196.040,2,    5.430,2,    6.490,2,    0.000,2,    0.501,2,    2.420,6,    1.389,6, -999.000,9, -999.000,9, -999.000,9
           NA,     P10,     65,   1,-999.0,     -99,  2,20050610,2229,  23.1738,  149.3633,  5796,  302.400,   15.284,   34.600,2,   34.593,2,  168.450,1,  197.060,2,    7.500,2,    8.200,2,    0.000,2,    0.615,2,    2.509,2,    1.410,2, -999.000,9, -999.000,9, -999.000,9
           NA,     P10,     65,   1,-999.0,     -99,  2,20050610,2229,  23.1738,  149.3633,  5796,  398.800,   12.484,   34.382,2,   34.379,2,  156.250,1,  184.070,2,   15.190,2,   13.870,2,    0.000,2,    1.030,2,    2.582,2,    1.374,2, -999.000,9, -999.000,9, -999.000,9
           NA,     P10,     65,   1,-999.0,     -99,  2,20050610,2229,  23.1738,  149.3633,  5796,  499.800,   10.118,   34.225,2,   34.222,6,  154.990,1,  183.950,2,   25.320,2,   18.260,2,    0.000,2,    1.330,2,    2.571,2,    1.343,2, -999.000,9, -999.000,9, -999.000,9
           NA,     P10,     65,   1,-999.0,     -99,  2,20050610,2229,  23.1738,  149.3633,  5796,  600.100,    7.664,   34.093,2,   34.091,2,  122.910,1,  143.860,2,   45.420,2,   26.510,2,    0.000,2,    1.945,2,    1.965,2,    0.985,2, -999.000,9, -999.000,9, -999.000,9
           NA,     P10,     65,   1,-999.0,     -99,  2,20050610,2229,  23.1738,  149.3633,  5796,  702.000,    5.619,   34.096,2,   34.096,2,   80.770,1,   95.260,2,   72.770,2,   34.310,2,   -0.010,2,    2.511,2,    1.178,2,    0.578,2, -999.000,9, -999.000,9, -999.000,9
           NA,     P10,     65,   1,-999.0,     -99,  2,20050610,2229,  23.1738,  149.3633,  5796,  801.300,    4.838,   34.163,2,   34.165,2,   58.110,1,   67.870,2,   90.270,2,   38.080,2,    0.000,2,    2.785,2,    0.684,6,    0.317,6, -999.000,9, -999.000,9, -999.000,9
           NA,     P10,     65,   1,-999.0,     -99,  2,20050610,2229,  23.1738,  149.3633,  5796,  902.000,    4.105,   34.263,2,   34.265,2,   41.860,1,   48.040,2,  109.040,2,   40.780,2,   -0.010,2,    2.950,2,    0.305,2,    0.140,2, -999.000,9, -999.000,9, -999.000,9
           NA,     P10,     65,   1,-999.0,     -99,  2,20050610,2229,  23.1738,  149.3633,  5796, 1000.700,    3.669,   34.343,2,   34.342,6,   36.720,1,   41.830,2,  120.480,2,   41.790,2,   -0.010,2,    3.040,2,    0.134,2,    0.063,2, -999.000,9, -999.000,9, -999.000,9
           NA,     P10,     65,   1,-999.0,     -99,  2,20050610,2229,  23.1738,  149.3633,  5796, 1201.400,    3.100,   34.445,2,   34.444,2,   39.420,1,   45.270,6,  135.260,2,   42.180,2,   -0.010,2,    3.055,2,    0.036,2,    0.016,2, -999.000,9, -999.000,9, -999.000,9
           NA,     P10,     65,   1,-999.0,     -99,  2,20050610,2229,  23.1738,  149.3633,  5796, 1401.100,    2.697,   34.512,2,   34.513,2,   51.970,1,   61.670,2,  142.500,2,   41.440,2,   -0.010,2,    2.987,2,    0.012,2,    0.005,2, -999.000,9, -999.000,9, -999.000,9
           NA,     P10,     65,   1,-999.0,     -99,  2,20050610,2229,  23.1738,  149.3633,  5796, 1602.900,    2.297,   34.563,2,   34.564,2,   64.290,1,   77.600,2,  148.600,2,   40.570,2,   -0.010,2,    2.910,2,    0.006,2,    0.003,2, -999.000,9, -999.000,9, -999.000,9
           NA,     P10,     65,   1,-999.0,     -99,  2,20050610,2229,  23.1738,  149.3633,  5796, 1803.100,    2.033,   34.598,2,   34.599,2,   74.360,1,   91.220,2,  151.850,2,   39.910,2,   -0.010,2,    2.853,2,    0.002,2,    0.003,2, -999.000,9, -999.000,9, -999.000,9
           NA,     P10,     65,   1,-999.0,     -99,  2,20050610,2229,  23.1738,  149.3633,  5796, 2002.200,    1.910,   34.623,2,   34.624,2,   86.430,1,  107.220,2,  149.560,2,   38.860,2,   -0.010,2,    2.767,2,   -0.003,2,    0.001,2, -999.000,9, -999.000,9, -999.000,9
           NA,     P10,     65,   1,-999.0,     -99,  2,20050610,2229,  23.1738,  149.3633,  5796, 2204.900,    1.795,   34.638,2,   34.638,6,   92.030,1,  115.170,2,  150.070,2,   38.400,2,   -0.010,2,    2.733,2, -999.000,4, -999.000,4, -999.000,9, -999.000,9, -999.000,9
           NA,     P10,     65,   1,-999.0,     -99,  2,20050610,2229,  23.1738,  149.3633,  5796, 2406.800,    1.699,   34.645,2,   34.645,2,   93.720,1,  117.550,2,  152.580,2,   38.300,2,   -0.010,2,    2.716,2, -999.000,9, -999.000,9, -999.000,9, -999.000,9, -999.000,9
           NA,     P10,     65,   1,-999.0,     -99,  2,20050610,2229,  23.1738,  149.3633,  5796, 2602.300,    1.647,   34.655,2,   34.656,2,   99.450,1,  125.640,2,  150.970,2,   37.740,2,   -0.010,2,    2.678,2, -999.000,9, -999.000,9, -999.000,9, -999.000,9, -999.000,9
           NA,     P10,     65,   1,-999.0,     -99,  2,20050610,2229,  23.1738,  149.3633,  5796, 2800.100,    1.597,   34.661,2,   34.662,2,  102.430,1,  130.080,2,  151.290,2,   37.480,2,   -0.010,2,    2.659,2, -999.000,9, -999.000,9, -999.000,9, -999.000,9, -999.000,9
           NA,     P10,     65,   1,-999.0,     -99,  2,20050610,2229,  23.1738,  149.3633,  5796, 2996.900,    1.565,   34.667,2,   34.667,2,  105.300,1,  134.460,6,  150.640,2,   37.230,2,   -0.010,2,    2.634,2, -999.000,9, -999.000,9, -999.000,9, -999.000,9, -999.000,9
           NA,     P10,     65,   1,-999.0,     -99,  2,20050610,2229,  23.1738,  149.3633,  5796, 3248.200,    1.529,   34.673,2,   34.673,6,  108.990,1,  139.810,2,  149.780,2,   36.900,2,   -0.010,2,    2.590,2, -999.000,9, -999.000,9, -999.000,9, -999.000,9, -999.000,9
           NA,     P10,     65,   1,-999.0,     -99,  2,20050610,2229,  23.1738,  149.3633,  5796, 3499.500,    1.498,   34.678,2,   34.678,2,  112.640,1,  145.170,2,  148.080,2,   36.450,2,   -0.010,2,    2.575,2, -999.000,9, -999.000,9, -999.000,9, -999.000,9, -999.000,9
           NA,     P10,     65,   1,-999.0,     -99,  2,20050610,2229,  23.1738,  149.3633,  5796, 3747.500,    1.479,   34.682,2,   34.682,2,  115.950,1,  150.090,2,  146.740,2,   36.120,2,   -0.010,2,    2.548,2, -999.000,9, -999.000,9, -999.000,9, -999.000,9, -999.000,9
           NA,     P10,     65,   1,-999.0,     -99,  2,20050610,2229,  23.1738,  149.3633,  5796, 3999.000,    1.468,   34.686,2,   34.686,2,  118.950,1,  154.280,2,  145.320,2,   35.920,2,    0.000,2,    2.528,2, -999.000,9, -999.000,9, -999.000,9, -999.000,9, -999.000,9
           NA,     P10,     65,   1,-999.0,     -99,  2,20050610,2229,  23.1738,  149.3633,  5796, 4250.600,    1.465,   34.688,2,   34.689,2,  121.910,1,  158.170,2,  142.690,2,   35.460,2,    0.000,2,    2.498,2, -999.000,9, -999.000,9, -999.000,9, -999.000,9, -999.000,9
           NA,     P10,     65,   1,-999.0,     -99,  2,20050610,2229,  23.1738,  149.3633,  5796, 4501.000,    1.468,   34.690,2,   34.691,6,  124.340,1,  161.530,2,  141.810,2,   35.340,2,   -0.010,2,    2.491,2, -999.000,9, -999.000,9, -999.000,9, -999.000,9, -999.000,9
           NA,     P10,     65,   1,-999.0,     -99,  2,20050610,2229,  23.1738,  149.3633,  5796, 4751.000,    1.476,   34.692,2,   34.692,2,  127.160,1,  164.880,2,  139.810,2,   35.180,2,   -0.010,2,    2.472,2, -999.000,9, -999.000,9, -999.000,9, -999.000,9, -999.000,9
           NA,     P10,     65,   1,-999.0,     -99,  2,20050610,2229,  23.1738,  149.3633,  5796, 5001.500,    1.487,   34.694,2,   34.694,2,  129.890,1,  167.980,6,  137.930,2,   34.880,2,   -0.010,2,    2.453,2, -999.000,9, -999.000,9, -999.000,9, -999.000,9, -999.000,9
           NA,     P10,     65,   1,-999.0,     -99,  2,20050610,2229,  23.1738,  149.3633,  5796, 5252.800,    1.503,   34.695,2,   34.695,2,  132.340,1,  170.470,2,  136.390,2,   34.760,2,   -0.010,2,    2.445,2, -999.000,9, -999.000,9, -999.000,9, -999.000,9, -999.000,9
           NA,     P10,     65,   1,-999.0,     -99,  2,20050610,2229,  23.1738,  149.3633,  5796, 5500.600,    1.518,   34.697,2,   34.697,2,  135.070,1,  172.980,2,  134.750,2,   34.560,2,   -0.010,2,    2.422,2, -999.000,9, -999.000,9, -999.000,9, -999.000,9, -999.000,9
           NA,     P10,     65,   1,-999.0,     -99,  2,20050610,2229,  23.1738,  149.3633,  5796, 5749.700,    1.525,   34.699,2,   34.698,2,  138.800,1,  176.470,2,  132.480,2,   34.250,2,   -0.010,2,    2.408,2, -999.000,9, -999.000,9, -999.000,9, -999.000,9, -999.000,9
           NA,     P10,     65,   1,-999.0,     -99,  2,20050610,2229,  23.1738,  149.3633,  5796, 5904.000,    1.543,   34.699,2,   34.699,6,  139.920,1,  176.890,2,  132.440,2,   34.310,2,   -0.010,2,    2.407,2, -999.000,9, -999.000,9, -999.000,9, -999.000,9, -999.000,9