BOTTLE,20214413JOAExport
EXPOCODE,SECT_ID,STNNBR,CASTNO,SAMPNO,BTLNBR,BTLNBR_FLAG_W,DATE,TIME,LATITUDE,LONGITUDE,DEPTH,CTDPRS,CTDTMP,CTDSAL,CTDSAL_FLAG_W,SALNTY,SALNTY_FLAG_W,CTDOXY,CTDOXY_FLAG_W,OXYGEN,OXYGEN_FLAG_W,SILCAT,SILCAT_FLAG_W,NITRAT,NITRAT_FLAG_W,NITRIT,NITRIT_FLAG_W,PHSPHT,PHSPHT_FLAG_W,CFC-11,CFC-11_FLAG_W,CFC-12,CFC-12_FLAG_W,SF6,SF6_FLAG_W,TCARBN,TCARBN_FLAG_W,ALKALI,ALKALI_FLAG_W
,,,,,,,,,,,,,DB,ITS-90,PSS-78,,PSS-78,,UMOL/KG,,UMOL/KG,,UMOL/KG,,UMOL/KG,,UMOL/KG,,UMOL/KG,,PMOL/KG,,PMOL/KG,,FMOL/KG,,UMOL/KG,,UMOL/KG
           NA,     P10,     67,   1,-999.0,     -99,  2,20050610,0319,  24.5057,  149.3377,  5782,    9.800,   28.414,   35.000,2,   35.000,2,  177.010,1,  202.180,6,    1.150,2,    0.050,2,    0.000,2,    0.033,2,    1.528,2,    0.932,2, -999.000,9, -999.000,9, -999.000,9
           NA,     P10,     67,   1,-999.0,     -99,  2,20050610,0319,  24.5057,  149.3377,  5782,   50.700,   22.356,   35.047,2,   35.047,2,  196.970,1,  227.640,2,    1.460,2,    0.010,2,    0.010,2,    0.035,2,    1.921,2,    1.155,2, -999.000,9, -999.000,9, -999.000,9
           NA,     P10,     67,   1,-999.0,     -99,  2,20050610,0319,  24.5057,  149.3377,  5782,  100.100,   19.872,   34.955,2,   34.955,2,  183.020,1,  211.930,2,    2.010,2,    0.150,2,    0.040,2,    0.086,2,    2.061,2,    1.232,2, -999.000,9, -999.000,9, -999.000,9
           NA,     P10,     67,   1,-999.0,     -99,  2,20050610,0319,  24.5057,  149.3377,  5782,  149.600,   18.094,   34.828,2,   34.829,2,  173.230,1,  201.290,2,    3.190,2,    3.710,2,    0.020,2,    0.288,2,    2.230,2,    1.304,2, -999.000,9, -999.000,9, -999.000,9
           NA,     P10,     67,   1,-999.0,     -99,  2,20050610,0319,  24.5057,  149.3377,  5782,  199.700,   17.245,   34.775,2,   34.775,2,  175.650,1,  204.680,2,    3.880,2,    4.720,2,    0.010,2,    0.350,2,    2.302,2,    1.333,2, -999.000,9, -999.000,9, -999.000,9
           NA,     P10,     67,   1,-999.0,     -99,  2,20050610,0319,  24.5057,  149.3377,  5782,  251.000,   16.389,   34.710,2,   34.714,2,  175.010,1,  204.570,2,    5.270,2,    6.010,2,    0.010,2,    0.435,2,    2.361,6,    1.354,6, -999.000,9, -999.000,9, -999.000,9
           NA,     P10,     67,   1,-999.0,     -99,  2,20050610,0319,  24.5057,  149.3377,  5782,  301.700,   15.369,   34.622,2,   34.623,2,  170.370,1,  199.460,2,    7.770,2,    8.020,2,    0.010,2,    0.581,2,    2.441,2,    1.369,2, -999.000,9, -999.000,9, -999.000,9
           NA,     P10,     67,   1,-999.0,     -99,  2,20050610,0319,  24.5057,  149.3377,  5782,  401.400,   12.511,   34.394,2,   34.398,2,  160.320,1,  189.230,2,   15.060,2,   13.340,2,    0.000,2,    0.967,2,    2.588,2,    1.377,2, -999.000,9, -999.000,9, -999.000,9
           NA,     P10,     67,   1,-999.0,     -99,  3,20050610,0319,  24.5057,  149.3377,  5782,  499.300,    9.987,   34.220,2,   34.220,6,  142.330,1,  169.430,2,   26.650,2,   19.710,2,    0.010,2,    1.434,2,    2.345,2,    1.187,2, -999.000,9, -999.000,9, -999.000,9
           NA,     P10,     67,   1,-999.0,     -99,  2,20050610,0319,  24.5057,  149.3377,  5782,  599.400,    7.514,   34.087,2,   34.087,2,  121.330,1,  143.770,2,   46.300,2,   26.720,2,    0.000,2,    1.949,2, -999.000,5, -999.000,5, -999.000,9, -999.000,9, -999.000,9
           NA,     P10,     67,   1,-999.0,     -99,  2,20050610,0319,  24.5057,  149.3377,  5782,  699.500,    5.841,   34.097,2,   34.096,2,   81.590,1,   97.370,2,   69.500,2,   33.870,2,    0.000,2,    2.470,2,    1.159,2,    0.564,2, -999.000,9, -999.000,9, -999.000,9
           NA,     P10,     67,   1,-999.0,     -99,  2,20050610,0319,  24.5057,  149.3377,  5782,  800.800,    4.830,   34.188,2,   34.187,2,   53.120,1,   62.240,2,   90.700,2,   38.710,2,    0.000,2,    2.816,2,    0.527,6,    0.244,6, -999.000,9, -999.000,9, -999.000,9
           NA,     P10,     67,   1,-999.0,     -99,  3,20050610,0319,  24.5057,  149.3377,  5782,  899.800,    4.184,   34.285,2,   34.286,2,   40.830,1,   48.120,2,  106.730,2,   40.760,2,    0.000,2,    2.948,2,    0.230,2,    0.102,2, -999.000,9, -999.000,9, -999.000,9
           NA,     P10,     67,   1,-999.0,     -99,  2,20050610,0319,  24.5057,  149.3377,  5782, 1000.800,    3.698,   34.376,2,   34.373,6,   38.940,1,   44.910,2,  119.390,2,   41.770,2,    0.000,2,    3.018,2,    0.079,2,    0.038,2, -999.000,9, -999.000,9, -999.000,9
           NA,     P10,     67,   1,-999.0,     -99,  2,20050610,0319,  24.5057,  149.3377,  5782, 1201.200,    3.072,   34.463,2,   34.462,2,   42.570,1,   49.760,6,  135.170,2,   42.100,2,    0.000,2,    3.023,2,    0.021,2,    0.008,2, -999.000,9, -999.000,9, -999.000,9
           NA,     P10,     67,   1,-999.0,     -99,  2,20050610,0319,  24.5057,  149.3377,  5782, 1403.500,    2.619,   34.521,2,   34.520,2,   53.570,1,   63.890,2,  144.010,2,   41.430,2,    0.000,2,    2.962,2,    0.006,2,    0.003,2, -999.000,9, -999.000,9, -999.000,9
           NA,     P10,     67,   1,-999.0,     -99,  2,20050610,0319,  24.5057,  149.3377,  5782, 1601.300,    2.226,   34.570,2,   34.570,2,   65.350,1,   79.380,2,  150.040,2,   40.720,2,    0.000,2,    2.896,2,    0.001,2,    0.000,2, -999.000,9, -999.000,9, -999.000,9
           NA,     P10,     67,   1,-999.0,     -99,  2,20050610,0319,  24.5057,  149.3377,  5782, 1801.400,    2.036,   34.607,2,   34.607,2,   81.220,1,  100.150,2,  147.800,2,   39.320,2,    0.000,2,    2.791,2, -999.000,5, -999.000,5, -999.000,9, -999.000,9, -999.000,9
           NA,     P10,     67,   1,-999.0,     -99,  2,20050610,0319,  24.5057,  149.3377,  5782, 2002.200,    1.908,   34.625,2,   34.625,2,   87.570,1,  109.020,2,  148.870,2,   38.870,2,    0.000,2,    2.754,2,   -0.002,2,   -0.001,2, -999.000,9, -999.000,9, -999.000,9
           NA,     P10,     67,   1,-999.0,     -99,  2,20050610,0319,  24.5057,  149.3377,  5782, 2199.600,    1.788,   34.640,2,   34.640,6,   93.040,1,  116.650,2,  149.780,2,   38.450,2,    0.000,2,    2.714,2,   -0.003,2,    0.000,2, -999.000,9, -999.000,9, -999.000,9
           NA,     P10,     67,   1,-999.0,     -99,  2,20050610,0319,  24.5057,  149.3377,  5782, 2400.300,    1.730,   34.647,2,   34.647,2,   95.920,1,  120.900,2,  150.220,2,   38.180,2,    0.000,2,    2.694,2,   -0.005,2,   -0.001,2, -999.000,9, -999.000,9, -999.000,9
           NA,     P10,     67,   1,-999.0,     -99,  2,20050610,0319,  24.5057,  149.3377,  5782, 2599.900,    1.675,   34.655,2,   34.655,2,   99.210,1,  125.580,2,  150.590,2,   37.970,2,    0.000,2,    2.673,2,    0.001,2,    0.000,2, -999.000,9, -999.000,9, -999.000,9
           NA,     P10,     67,   1,-999.0,     -99,  2,20050610,0319,  24.5057,  149.3377,  5782, 2801.000,    1.628,   34.662,2,   34.661,2,  102.100,1,  129.980,2,  150.600,2,   37.660,2,    0.000,2,    2.656,2,   -0.004,2,    0.002,2, -999.000,9, -999.000,9, -999.000,9
           NA,     P10,     67,   1,-999.0,     -99,  2,20050610,0319,  24.5057,  149.3377,  5782, 3000.600,    1.577,   34.669,2,   34.668,2,  105.940,1,  135.370,6,  149.650,2,   37.270,2,    0.000,2,    2.616,2,    0.009,2,    0.002,2, -999.000,9, -999.000,9, -999.000,9
           NA,     P10,     67,   1,-999.0,     -99,  2,20050610,0319,  24.5057,  149.3377,  5782, 3252.700,    1.533,   34.674,2,   34.674,6,  109.460,1,  140.620,2,  149.490,2,   36.880,2,    0.000,2,    2.581,2,    0.001,2,    0.004,2, -999.000,9, -999.000,9, -999.000,9
           NA,     P10,     67,   1,-999.0,     -99,  2,20050610,0319,  24.5057,  149.3377,  5782, 3499.600,    1.514,   34.678,2,   34.678,2,  112.130,1,  144.840,2,  148.320,2,   36.670,2,    0.000,2,    2.572,2,   -0.004,2,   -0.004,2, -999.000,9, -999.000,9, -999.000,9
           NA,     P10,     67,   1,-999.0,     -99,  2,20050610,0319,  24.5057,  149.3377,  5782, 3750.500,    1.490,   34.682,2,   34.681,2,  115.120,1,  149.080,2,  147.190,2,   36.430,2,    0.000,2,    2.552,2,   -0.001,2,   -0.002,2, -999.000,9, -999.000,9, -999.000,9
           NA,     P10,     67,   1,-999.0,     -99,  2,20050610,0319,  24.5057,  149.3377,  5782, 3999.300,    1.473,   34.685,2,   34.685,2,  118.540,1,  153.630,2,  145.520,2,   36.010,2,    0.000,2,    2.521,2,   -0.001,2,   -0.002,2, -999.000,9, -999.000,9, -999.000,9
           NA,     P10,     67,   1,-999.0,     -99,  2,20050610,0319,  24.5057,  149.3377,  5782, 4248.300,    1.463,   34.688,2,   34.687,2,  121.280,1,  157.360,2,  144.200,2,   35.750,2,    0.000,2,    2.505,2,    0.002,2,    0.002,2, -999.000,9, -999.000,9, -999.000,9
           NA,     P10,     67,   1,-999.0,     -99,  2,20050610,0319,  24.5057,  149.3377,  5782, 4498.600,    1.467,   34.690,2,   34.689,6,  123.420,1,  160.200,2,  143.470,2,   35.610,2,    0.000,2,    2.488,2,    0.001,2,    0.000,2, -999.000,9, -999.000,9, -999.000,9
           NA,     P10,     67,   1,-999.0,     -99,  2,20050610,0319,  24.5057,  149.3377,  5782, 4749.000,    1.479,   34.692,2,   34.692,2,  126.780,1,  164.280,2,  140.400,2,   35.340,2,    0.000,2,    2.469,2,    0.005,2,    0.000,2, -999.000,9, -999.000,9, -999.000,9
           NA,     P10,     67,   1,-999.0,     -99,  2,20050610,0319,  24.5057,  149.3377,  5782, 4999.200,    1.489,   34.694,2,   34.694,2,  129.770,1,  167.590,6,  137.970,2,   35.030,2,    0.000,2,    2.448,2,    0.005,2,    0.001,2, -999.000,9, -999.000,9, -999.000,9
           NA,     P10,     67,   1,-999.0,     -99,  2,20050610,0319,  24.5057,  149.3377,  5782, 5250.800,    1.503,   34.695,2,   34.695,2,  132.400,1,  170.110,2,  136.100,2,   34.890,2,    0.000,2,    2.430,2,   -0.003,2,   -0.001,2, -999.000,9, -999.000,9, -999.000,9
           NA,     P10,     67,   1,-999.0,     -99,  2,20050610,0319,  24.5057,  149.3377,  5782, 5499.600,    1.520,   34.697,2,   34.696,2,  135.020,1,  172.410,2,  134.620,2,   34.670,2,    0.000,2,    2.420,2,   -0.001,2,    0.000,2, -999.000,9, -999.000,9, -999.000,9
           NA,     P10,     67,   1,-999.0,     -99,  2,20050610,0319,  24.5057,  149.3377,  5782, 5748.200,    1.535,   34.698,2,   34.698,2,  138.010,1,  175.040,2,  133.220,2,   34.540,2,    0.000,2,    2.405,2,    0.002,2,   -0.002,2, -999.000,9, -999.000,9, -999.000,9
           NA,     P10,     67,   1,-999.0,     -99,  2,20050610,0319,  24.5057,  149.3377,  5782, 5871.500,    1.542,   34.699,2,   34.699,6,  139.550,1,  176.330,2,  132.610,2,   34.450,2,    0.000,2,    2.405,2,   -0.002,2,    0.001,2, -999.000,9, -999.000,9, -999.000,9