BOTTLE,20214413JOAExport
EXPOCODE,SECT_ID,STNNBR,CASTNO,SAMPNO,BTLNBR,BTLNBR_FLAG_W,DATE,TIME,LATITUDE,LONGITUDE,DEPTH,CTDPRS,CTDTMP,CTDSAL,CTDSAL_FLAG_W,SALNTY,SALNTY_FLAG_W,CTDOXY,CTDOXY_FLAG_W,OXYGEN,OXYGEN_FLAG_W,SILCAT,SILCAT_FLAG_W,NITRAT,NITRAT_FLAG_W,NITRIT,NITRIT_FLAG_W,PHSPHT,PHSPHT_FLAG_W,CFC-11,CFC-11_FLAG_W,CFC-12,CFC-12_FLAG_W,SF6,SF6_FLAG_W,TCARBN,TCARBN_FLAG_W,ALKALI,ALKALI_FLAG_W
,,,,,,,,,,,,,DB,ITS-90,PSS-78,,PSS-78,,UMOL/KG,,UMOL/KG,,UMOL/KG,,UMOL/KG,,UMOL/KG,,UMOL/KG,,PMOL/KG,,PMOL/KG,,FMOL/KG,,UMOL/KG,,UMOL/KG
           NA,     P10,     42,   1,-999.0,     -99,  2,20050618,2320,   8.8335,  149.3295,  4119,    9.500,   29.220,   33.897,2,   33.899,2,  172.270,1,  196.050,6,    0.920,2,    0.040,2,    0.000,2,    0.079,2,    1.410,2,    0.885,2, -999.000,9, 1884.700,2, 2224.300,2
           NA,     P10,     42,   1,-999.0,     -99,  2,20050618,2320,   8.8335,  149.3295,  4119,   49.800,   29.099,   33.999,2,   34.050,2,  172.670,1,  197.010,2,    0.980,2,    0.020,2,    0.000,2,    0.079,2,    1.426,2,    0.893,2, -999.000,9, 1896.900,6, 2240.600,2
           NA,     P10,     42,   1,-999.0,     -99,  2,20050618,2320,   8.8335,  149.3295,  4119,   99.800,   26.732,   34.469,2,   34.546,2,  166.240,1,  185.950,2,    2.200,2,    0.700,2,    0.100,2,    0.201,2,    1.639,2,    1.000,2, -999.000,9, 1969.600,2, 2275.200,6
           NA,     P10,     42,   1,-999.0,     -99,  3,20050618,2320,   8.8335,  149.3295,  4119,  149.100,   20.487,   34.767,2,   34.763,2,  130.490,1,  148.800,2,    7.160,2,    7.990,2,    0.050,2,    0.702,2,    1.884,2,    1.100,2, -999.000,9, 2065.800,2, 2295.400,2
           NA,     P10,     42,   1,-999.0,     -99,  2,20050618,2320,   8.8335,  149.3295,  4119,  198.300,   13.591,   34.571,2,   34.558,2,   94.410,1,  108.590,2,   20.250,2,   20.450,2,    0.010,2,    1.531,2,    1.616,2,    0.882,2, -999.000,9, 2153.200,2, 2292.600,2
           NA,     P10,     42,   1,-999.0,     -99,  2,20050618,2320,   8.8335,  149.3295,  4119,  249.900,   11.146,   34.531,2,   34.536,2,   61.890,1,   68.500,2,   28.650,2,   28.100,2,    0.000,2,    2.074,2,    0.988,6,    0.533,6, -999.000,9, 2205.000,2, 2296.000,2
           NA,     P10,     42,   1,-999.0,     -99,  2,20050618,2320,   8.8335,  149.3295,  4119,  300.200,   10.165,   34.572,2,   34.576,2,   47.390,1,   53.570,2,   33.390,2,   31.480,2,    0.000,2,    2.296,2,    0.581,2,    0.305,2, -999.000,9, 2229.000,2, 2301.800,2
           NA,     P10,     42,   1,-999.0,     -99,  2,20050618,2320,   8.8335,  149.3295,  4119,  399.500,    8.733,   34.597,2,   34.595,2,   45.840,1,   52.390,2,   39.930,2,   34.610,2,    0.000,2,    2.493,2,    0.230,2,    0.121,2, -999.000,9, 2247.700,2, 2313.000,2
           NA,     P10,     42,   1,-999.0,     -99,  2,20050618,2320,   8.8335,  149.3295,  4119,  499.600,    8.107,   34.576,2,   34.573,6,   49.650,1,   57.350,2,   44.570,2,   35.330,2,    0.000,2,    2.551,2,    0.177,2,    0.094,2, -999.000,9, 2253.400,2, 2318.100,2
           NA,     P10,     42,   1,-999.0,     -99,  2,20050618,2320,   8.8335,  149.3295,  4119,  599.200,    7.459,   34.551,2,   34.549,2,   54.490,1,   63.240,2,   50.450,2,   35.900,2,    0.000,2,    2.603,2,    0.139,2,    0.075,2, -999.000,9, 2258.800,2, 2319.600,2
           NA,     P10,     42,   1,-999.0,     -99,  2,20050618,2320,   8.8335,  149.3295,  4119,  699.800,    6.703,   34.540,2,   34.539,2,   57.830,1,   67.300,2,   58.080,2,   37.000,2,    0.000,2,    2.682,2,    0.090,2,    0.045,2, -999.000,9, 2267.200,6, 2327.600,2
           NA,     P10,     42,   1,-999.0,     -99,  2,20050618,2320,   8.8335,  149.3295,  4119,  799.600,    5.928,   34.533,2,   34.532,2,   61.520,1,   72.200,2,   68.840,2,   37.880,2,    0.000,2,    2.742,2,    0.056,6,    0.030,6, -999.000,9, 2280.100,2, 2337.900,6
           NA,     P10,     42,   1,-999.0,     -99,  2,20050618,2320,   8.8335,  149.3295,  4119,  900.500,    5.030,   34.541,2,   34.542,2,   65.960,1,   77.650,2,   83.450,2,   38.530,2,    0.000,2,    2.782,2,    0.023,2,    0.013,2, -999.000,9, 2293.700,2, 2353.900,2
           NA,     P10,     42,   1,-999.0,     -99,  2,20050618,2320,   8.8335,  149.3295,  4119, 1000.700,    4.487,   34.554,2,   34.554,6,   69.620,1,   82.680,2,   93.250,2,   38.760,2,    0.000,2,    2.802,2,    0.012,2,    0.007,2, -999.000,9, 2304.100,2, 2364.900,2
           NA,     P10,     42,   1,-999.0,     -99,  2,20050618,2320,   8.8335,  149.3295,  4119, 1200.300,    3.744,   34.572,2,   34.572,2,   74.880,1,   89.620,6,  108.090,2,   39.020,2,    0.000,2,    2.813,2,    0.006,2,    0.005,2, -999.000,9, 2316.300,2, 2379.700,2
           NA,     P10,     42,   1,-999.0,     -99,  2,20050618,2320,   8.8335,  149.3295,  4119, 1399.600,    3.244,   34.589,2,   34.589,2,   78.620,1,   94.790,2,  118.650,2,   39.060,2,    0.000,2,    2.812,2,    0.007,2,    0.003,2, -999.000,9, 2325.500,2, 2392.500,2
           NA,     P10,     42,   1,-999.0,     -99,  2,20050618,2320,   8.8335,  149.3295,  4119, 1601.900,    2.832,   34.604,2,   34.605,2,   82.900,1,  100.660,2,  127.010,2,   38.970,2,    0.000,2,    2.795,2,    0.004,2,   -0.001,2, -999.000,9, 2328.600,2, 2398.500,2
           NA,     P10,     42,   1,-999.0,     -99,  2,20050618,2320,   8.8335,  149.3295,  4119, 1802.200,    2.450,   34.621,2,   34.622,6,   87.330,1,  106.610,2,  134.680,2,   38.840,2,    0.000,2,    2.771,2,    0.001,2,    0.000,2, -999.000,9, 2335.900,2, 2405.300,2
           NA,     P10,     42,   1,-999.0,     -99,  2,20050618,2320,   8.8335,  149.3295,  4119, 2001.500,    2.302,   34.629,2,   34.630,2,   90.420,1,  111.050,2,  137.020,2,   38.350,2,    0.000,2,    2.740,2,   -0.001,2,    0.000,2, -999.000,9, 2335.800,2, 2410.600,2
           NA,     P10,     42,   1,-999.0,     -99,  2,20050618,2320,   8.8335,  149.3295,  4119, 2199.900,    2.070,   34.642,2,   34.643,2,   94.340,1,  116.450,2,  141.900,2,   38.290,2,    0.000,2,    2.724,2,   -0.002,2,    0.000,2, -999.000,9, 2337.900,2, 2415.500,2
           NA,     P10,     42,   1,-999.0,     -99,  2,20050618,2320,   8.8335,  149.3295,  4119, 2400.700,    1.890,   34.653,2,   34.654,2,   98.960,1,  122.840,2,  144.530,2,   38.000,2,    0.000,2,    2.691,2,    0.001,2,    0.000,2, -999.000,9, 2336.200,6, 2414.700,2
           NA,     P10,     42,   1,-999.0,     -99,  2,20050618,2320,   8.8335,  149.3295,  4119, 2600.700,    1.720,   34.663,2,   34.664,6,  104.640,1,  130.570,2,  146.530,2,   37.580,2,    0.000,2,    2.654,2,    0.001,2,    0.000,2, -999.000,9, 2332.100,2, 2419.400,6
           NA,     P10,     42,   1,-999.0,     -99,  2,20050618,2320,   8.8335,  149.3295,  4119, 2798.900,    1.662,   34.667,2,   34.668,2,  107.500,1,  134.600,2,  146.710,2,   37.300,2,    0.000,2,    2.632,2, -999.000,9, -999.000,9, -999.000,9, 2331.900,2, 2421.100,2
           NA,     P10,     42,   1,-999.0,     -99,  2,20050618,2320,   8.8335,  149.3295,  4119, 2999.600,    1.603,   34.672,2,   34.672,2,  110.800,1,  138.940,6,  146.720,2,   36.960,2,    0.000,2,    2.605,2, -999.000,9, -999.000,9, -999.000,9, 2329.200,2, 2416.800,2
           NA,     P10,     42,   1,-999.0,     -99,  2,20050618,2320,   8.8335,  149.3295,  4119, 3250.900,    1.566,   34.676,2,   34.676,2,  114.060,1,  143.110,2,  145.660,2,   36.540,2,    0.000,2,    2.577,2, -999.000,9, -999.000,9, -999.000,9, 2327.800,2, 2418.400,2
           NA,     P10,     42,   1,-999.0,     -99,  2,20050618,2320,   8.8335,  149.3295,  4119, 3499.700,    1.516,   34.681,2,   34.681,6,  118.770,1,  148.910,2,  144.530,2,   36.280,2,    0.000,2,    2.543,2, -999.000,9, -999.000,9, -999.000,9, 2322.700,2, 2417.800,2
           NA,     P10,     42,   1,-999.0,     -99,  2,20050618,2320,   8.8335,  149.3295,  4119, 3749.900,    1.490,   34.684,2,   34.685,2,  122.900,1,  153.840,2,  142.790,2,   35.870,2,    0.000,2,    2.521,2, -999.000,9, -999.000,9, -999.000,9, 2319.600,2, 2416.500,2
           NA,     P10,     42,   1,-999.0,     -99,  2,20050618,2320,   8.8335,  149.3295,  4119, 4001.600,    1.476,   34.687,2,   34.687,2,  126.820,1,  157.990,2,  141.260,2,   35.620,2,    0.000,2,    2.499,2, -999.000,9, -999.000,9, -999.000,9, 2315.900,2, 2415.600,2
           NA,     P10,     42,   1,-999.0,     -99,  2,20050618,2320,   8.8335,  149.3295,  4119, 4168.700,    1.472,   34.689,2,   34.689,2,  129.280,1,  160.420,2,  140.220,2,   35.460,2,    0.000,2,    2.478,2, -999.000,9, -999.000,9, -999.000,9, 2313.500,2, 2414.500,2
           NA,     P10,     42,   1,-999.0,     -99,  2,20050618,2320,   8.8335,  149.3295,  4119, 4168.700,    1.472,   34.689,2,   34.690,6,  129.320,1,  160.470,6,  140.250,2,   35.480,2,    0.000,2,    2.489,2, -999.000,9, -999.000,9, -999.000,9, 2314.400,2, 2415.100,2
           NA,     P10,     44,   1,-999.0,     -99,  2,20050618,1147,   9.7068,  149.3302,  5375,   10.200,   29.233,   33.981,2,   33.979,2,  172.300,1,  195.900,6,    0.870,2,    0.020,2,    0.000,2,    0.068,2,    1.428,2,    0.897,2, -999.000,9, -999.000,9, -999.000,9
           NA,     P10,     44,   1,-999.0,     -99,  2,20050618,1147,   9.7068,  149.3302,  5375,   49.600,   29.184,   34.000,2,   34.059,2,  172.800,1,  197.080,2,    0.880,2,    0.010,2,    0.000,2,    0.073,2,    1.441,2,    0.901,2, -999.000,9, -999.000,9, -999.000,9
           NA,     P10,     44,   1,-999.0,     -99,  2,20050618,1147,   9.7068,  149.3302,  5375,   99.900,   27.796,   34.381,2,   34.416,2,  177.990,1,  202.520,2,    0.960,2,    0.010,2,    0.000,2,    0.090,2,    1.563,2,    0.961,2, -999.000,9, -999.000,9, -999.000,9
           NA,     P10,     44,   1,-999.0,     -99,  2,20050618,1147,   9.7068,  149.3302,  5375,  150.000,   22.206,   35.000,2,   34.944,2,  156.130,1,  170.910,2,    3.650,2,    3.340,2,    0.130,2,    0.421,2,    2.025,2,    1.199,2, -999.000,9, -999.000,9, -999.000,9
           NA,     P10,     44,   1,-999.0,     -99,  2,20050618,1147,   9.7068,  149.3302,  5375,  198.600,   14.987,   34.574,2,   34.527,2,  118.550,1,  135.350,2,   13.620,2,   15.350,2,    0.010,2,    1.203,2,    2.229,2,    1.145,2, -999.000,9, -999.000,9, -999.000,9
           NA,     P10,     44,   1,-999.0,     -99,  2,20050618,1147,   9.7068,  149.3302,  5375,  249.100,   11.256,   34.471,2,   34.481,2,   79.310,1,   87.750,2,   27.750,2,   26.040,2,    0.000,2,    1.935,2,    1.263,6,    0.627,6, -999.000,9, -999.000,9, -999.000,9
           NA,     P10,     44,   1,-999.0,     -99,  2,20050618,1147,   9.7068,  149.3302,  5375,  299.900,    9.792,   34.545,2,   34.542,2,   59.860,1,   68.750,2,   35.220,2,   30.740,2,    0.000,2,    2.236,2,    0.653,2,    0.310,2, -999.000,9, -999.000,9, -999.000,9
           NA,     P10,     44,   1,-999.0,     -99,  2,20050618,1147,   9.7068,  149.3302,  5375,  399.500,    8.748,   34.588,2,   34.586,2,   50.790,1,   58.090,2,   39.660,2,   33.980,2,    0.000,2,    2.444,2,    0.288,2,    0.122,2, -999.000,9, -999.000,9, -999.000,9
           NA,     P10,     44,   1,-999.0,     -99,  2,20050618,1147,   9.7068,  149.3302,  5375,  499.500,    7.989,   34.569,2,   34.567,6,   55.290,1,   63.820,2,   44.760,2,   35.000,2,    0.000,2,    2.519,2,    0.194,2,    0.090,2, -999.000,9, -999.000,9, -999.000,9
           NA,     P10,     44,   1,-999.0,     -99,  2,20050618,1147,   9.7068,  149.3302,  5375,  597.700,    6.998,   34.516,2,   34.516,2,   69.410,1,   81.150,2,   53.610,2,   34.990,2,    0.000,2,    2.530,2,    0.196,2,    0.093,2, -999.000,9, -999.000,9, -999.000,9
           NA,     P10,     44,   1,-999.0,     -99,  2,20050618,1147,   9.7068,  149.3302,  5375,  698.500,    6.438,   34.534,2,   34.534,2,   59.830,1,   69.520,2,   62.120,2,   37.360,2,    0.000,2,    2.700,2,    0.066,2,    0.034,2, -999.000,9, -999.000,9, -999.000,9
           NA,     P10,     44,   1,-999.0,     -99,  2,20050618,1147,   9.7068,  149.3302,  5375,  800.800,    5.862,   34.535,2,   34.534,2,   59.820,1,   70.050,2,   70.020,2,   38.260,2,    0.000,2,    2.763,2,    0.036,6,    0.014,6, -999.000,9, -999.000,9, -999.000,9
           NA,     P10,     44,   1,-999.0,     -99,  2,20050618,1147,   9.7068,  149.3302,  5375,  899.700,    5.316,   34.531,2,   34.530,2,   64.840,1,   76.280,2,   78.620,2,   38.360,2,    0.000,2,    2.766,2,    0.034,2,    0.014,2, -999.000,9, -999.000,9, -999.000,9
           NA,     P10,     44,   1,-999.0,     -99,  2,20050618,1147,   9.7068,  149.3302,  5375,  999.800,    4.800,   34.542,2,   34.541,6,   66.270,1,   78.310,2,   88.050,2,   38.860,2,    0.000,2,    2.799,2,    0.022,2,    0.011,2, -999.000,9, -999.000,9, -999.000,9
           NA,     P10,     44,   1,-999.0,     -99,  2,20050618,1147,   9.7068,  149.3302,  5375, 1201.700,    3.894,   34.565,2,   34.565,2,   70.980,1,   84.970,6,  105.970,2,   39.260,2,    0.000,2,    2.827,2,    0.009,2,    0.003,2, -999.000,9, -999.000,9, -999.000,9
           NA,     P10,     44,   1,-999.0,     -99,  2,20050618,1147,   9.7068,  149.3302,  5375, 1399.500,    3.286,   34.583,2,   34.584,2,   74.170,1,   89.360,2,  119.170,2,   39.460,2,    0.000,2,    2.836,2,    0.009,2,    0.000,2, -999.000,9, -999.000,9, -999.000,9
           NA,     P10,     44,   1,-999.0,     -99,  2,20050618,1147,   9.7068,  149.3302,  5375, 1600.500,    2.739,   34.604,2,   34.604,2,   79.000,1,   96.130,2,  130.790,2,   39.460,2,    0.000,2,    2.821,2,    0.005,2,    0.000,2, -999.000,9, -999.000,9, -999.000,9
           NA,     P10,     44,   1,-999.0,     -99,  2,20050618,1147,   9.7068,  149.3302,  5375, 1801.700,    2.430,   34.621,2,   34.621,2,   85.780,1,  105.150,2,  135.900,2,   38.950,2,    0.000,2,    2.773,2,    0.001,2,    0.000,2, -999.000,9, -999.000,9, -999.000,9
           NA,     P10,     44,   1,-999.0,     -99,  2,20050618,1147,   9.7068,  149.3302,  5375, 2003.800,    2.176,   34.633,2,   34.632,2,   88.930,1,  109.480,2,  141.510,2,   38.790,2,    0.000,2,    2.759,2,    0.005,2,    0.000,2, -999.000,9, -999.000,9, -999.000,9
           NA,     P10,     44,   1,-999.0,     -99,  2,20050618,1147,   9.7068,  149.3302,  5375, 2199.500,    1.976,   34.645,2,   34.645,6,   93.640,1,  116.130,2,  144.950,2,   38.460,2,    0.000,2,    2.723,2,   -0.001,2,    0.000,2, -999.000,9, -999.000,9, -999.000,9
           NA,     P10,     44,   1,-999.0,     -99,  2,20050618,1147,   9.7068,  149.3302,  5375, 2400.800,    1.859,   34.654,2,   34.654,2,   96.980,1,  120.950,2,  146.830,2,   38.180,2,    0.000,2,    2.700,2,    0.000,2,    0.000,2, -999.000,9, -999.000,9, -999.000,9
           NA,     P10,     44,   1,-999.0,     -99,  2,20050618,1147,   9.7068,  149.3302,  5375, 2600.700,    1.741,   34.661,2,   34.661,2,  101.830,1,  127.910,2,  147.660,2,   37.740,2,    0.000,2,    2.663,2,    0.009,2,    0.000,2, -999.000,9, -999.000,9, -999.000,9
           NA,     P10,     44,   1,-999.0,     -99,  2,20050618,1147,   9.7068,  149.3302,  5375, 2800.500,    1.650,   34.668,2,   34.668,2,  105.440,1,  133.140,2,  148.470,2,   37.470,2,    0.000,2,    2.634,2,   -0.002,2,    0.000,2, -999.000,9, -999.000,9, -999.000,9
           NA,     P10,     44,   1,-999.0,     -99,  2,20050618,1147,   9.7068,  149.3302,  5375, 3000.500,    1.597,   34.673,2,   34.672,2,  108.550,1,  137.580,6,  148.200,2,   37.130,2,    0.000,2,    2.606,2,   -0.012,2,    0.000,2, -999.000,9, -999.000,9, -999.000,9
           NA,     P10,     44,   1,-999.0,     -99,  2,20050618,1147,   9.7068,  149.3302,  5375, 3250.200,    1.551,   34.677,2,   34.677,6,  112.240,1,  142.780,2,  146.970,2,   36.660,2,    0.000,2,    2.574,2,   -0.002,2,    0.000,2, -999.000,9, -999.000,9, -999.000,9
           NA,     P10,     44,   1,-999.0,     -99,  2,20050618,1147,   9.7068,  149.3302,  5375, 3499.900,    1.512,   34.681,2,   34.681,2,  116.560,1,  148.890,2,  145.020,2,   36.330,2,    0.000,2,    2.549,2,    0.001,2,    0.000,2, -999.000,9, -999.000,9, -999.000,9
           NA,     P10,     44,   1,-999.0,     -99,  2,20050618,1147,   9.7068,  149.3302,  5375, 3750.200,    1.471,   34.686,2,   34.686,2,  121.100,1,  155.260,2,  143.020,2,   35.910,2,    0.000,2,    2.512,2,    0.006,2,    0.000,2, -999.000,9, -999.000,9, -999.000,9
           NA,     P10,     44,   1,-999.0,     -99,  2,20050618,1147,   9.7068,  149.3302,  5375, 3999.300,    1.451,   34.689,2,   34.689,2,  124.850,1,  160.310,2,  140.710,2,   35.500,2,    0.000,2,    2.491,2,    0.002,2,    0.000,2, -999.000,9, -999.000,9, -999.000,9
           NA,     P10,     44,   1,-999.0,     -99,  2,20050618,1147,   9.7068,  149.3302,  5375, 4251.200,    1.435,   34.692,2,   34.692,2,  128.790,1,  165.160,2,  138.270,2,   35.110,2,    0.000,2,    2.460,2,    0.002,2,    0.000,2, -999.000,9, -999.000,9, -999.000,9
           NA,     P10,     44,   1,-999.0,     -99,  2,20050618,1147,   9.7068,  149.3302,  5375, 4499.800,    1.433,   34.694,2,   34.695,6,  132.080,1,  169.300,2,  136.260,2,   34.860,2,    0.000,2,    2.438,2,    0.001,2,    0.000,2, -999.000,9, -999.000,9, -999.000,9
           NA,     P10,     44,   1,-999.0,     -99,  2,20050618,1147,   9.7068,  149.3302,  5375, 4752.300,    1.431,   34.697,2,   34.697,2,  135.540,1,  173.260,2,  134.170,2,   34.540,2,    0.000,2,    2.415,2,   -0.001,2,    0.000,2, -999.000,9, -999.000,9, -999.000,9
           NA,     P10,     44,   1,-999.0,     -99,  2,20050618,1147,   9.7068,  149.3302,  5375, 4999.500,    1.449,   34.698,2, -999.000,3,  137.550,1,  174.930,6,  133.370,2,   34.470,2,    0.000,2,    2.409,2,    0.002,2,    0.000,2, -999.000,9, -999.000,9, -999.000,9
           NA,     P10,     44,   1,-999.0,     -99,  2,20050618,1147,   9.7068,  149.3302,  5375, 5000.000,    1.449,   34.698,2,   34.698,2,  137.560,1,  174.800,2,  133.410,2,   34.510,2,    0.000,2,    2.412,2,   -0.003,2,    0.000,2, -999.000,9, -999.000,9, -999.000,9
           NA,     P10,     44,   1,-999.0,     -99,  2,20050618,1147,   9.7068,  149.3302,  5375, 5248.800,    1.474,   34.698,2,   34.699,2,  139.160,1,  175.730,2,  132.800,2,   34.480,2,    0.000,2,    2.407,2,    0.000,2,    0.000,2, -999.000,9, -999.000,9, -999.000,9
           NA,     P10,     44,   1,-999.0,     -99,  2,20050618,1147,   9.7068,  149.3302,  5375, 5448.900,    1.499,   34.698,2,   34.699,2,  140.320,1,  175.950,2,  132.700,2,   34.370,2,    0.000,2,    2.403,2,   -0.005,2,    0.000,2, -999.000,9, -999.000,9, -999.000,9