BOTTLE,20214413JOAExport
EXPOCODE,SECT_ID,STNNBR,CASTNO,SAMPNO,BTLNBR,BTLNBR_FLAG_W,DATE,TIME,LATITUDE,LONGITUDE,DEPTH,CTDPRS,CTDTMP,CTDSAL,CTDSAL_FLAG_W,SALNTY,SALNTY_FLAG_W,CTDOXY,CTDOXY_FLAG_W,OXYGEN,OXYGEN_FLAG_W,SILCAT,SILCAT_FLAG_W,NITRAT,NITRAT_FLAG_W,NITRIT,NITRIT_FLAG_W,PHSPHT,PHSPHT_FLAG_W,CFC-11,CFC-11_FLAG_W,CFC-12,CFC-12_FLAG_W,SF6,SF6_FLAG_W,TCARBN,TCARBN_FLAG_W,ALKALI,ALKALI_FLAG_W
,,,,,,,,,,,,,DB,ITS-90,PSS-78,,PSS-78,,UMOL/KG,,UMOL/KG,,UMOL/KG,,UMOL/KG,,UMOL/KG,,UMOL/KG,,PMOL/KG,,PMOL/KG,,FMOL/KG,,UMOL/KG,,UMOL/KG
           NA,    P10N,    116,   1,-999.0,     -99,  2,20050602,0953,  36.4902,  147.8202,  5765,   10.300,   20.204,   34.576,2,   34.577,2,  208.800,1,  234.330,6,    1.960,2,    0.050,2,    0.010,2,    0.070,2,    2.181,2,    1.215,2, -999.000,9, 1976.800,2, 2286.600,2
           NA,    P10N,    116,   1,-999.0,     -99,  2,20050602,0953,  36.4902,  147.8202,  5765,   49.800,   16.499,   34.402,2, -999.000,4,  211.260,1,  243.900,2,    5.310,2,    2.790,2,    0.090,2,    0.318,2, -999.000,9, -999.000,9, -999.000,9, 2018.000,6, 2282.200,2
           NA,    P10N,    116,   1,-999.0,     -99,  2,20050602,0953,  36.4902,  147.8202,  5765,  100.400,   13.019,   34.490,2,   34.477,2,  148.200,1,  165.950,2,   24.330,2,   15.470,2,    0.050,2,    1.134,2,    2.161,2,    1.111,2, -999.000,9, 2112.900,2, 2291.000,6
           NA,    P10N,    116,   1,-999.0,     -99,  2,20050602,0953,  36.4902,  147.8202,  5765,  150.100,   10.294,   34.262,2,   34.237,2,  157.100,1,  179.830,2,   30.400,2,   18.300,2,    0.080,2,    1.365,2, -999.000,9, -999.000,9, -999.000,9, 2135.700,2, 2286.700,2
           NA,    P10N,    116,   1,-999.0,     -99,  2,20050602,0953,  36.4902,  147.8202,  5765,  200.000,    7.458,   33.871,2,   33.922,2,  214.960,1,  233.950,2,   24.070,2,   15.030,2,    0.110,2,    1.178,2,    3.504,2,    1.781,2, -999.000,9, 2116.600,2, 2278.600,2
           NA,    P10N,    116,   1,-999.0,     -99,  2,20050602,0953,  36.4902,  147.8202,  5765,  251.400,    5.733,   33.684,2,   33.682,2,  235.810,1, -999.000,3,   24.550,2,   15.000,2,    0.020,2,    1.202,2,    4.379,2,    2.296,2, -999.000,9, 2110.000,2, 2267.900,2
           NA,    P10N,    116,   1,-999.0,     -99,  2,20050602,0953,  36.4902,  147.8202,  5765,  300.300,    4.737,   33.658,2,   33.628,2,  206.680,1, -999.000,3,   45.070,2,   24.010,2,    0.020,2,    1.857,2,    4.168,2,    2.113,2, -999.000,9, 2162.500,2, 2272.300,2
           NA,    P10N,    116,   1,-999.0,     -99,  2,20050602,0953,  36.4902,  147.8202,  5765,  401.000,    5.053,   33.946,2,   33.950,2,  121.250,1,  136.960,2,   70.900,2,   31.970,2,    0.020,2,    2.373,2,    2.371,2,    1.144,2, -999.000,9, 2237.200,2, 2300.100,2
           NA,    P10N,    116,   1,-999.0,     -99,  2,20050602,0953,  36.4902,  147.8202,  5765,  500.400,    3.160,   33.844,2,   33.852,6,   85.440,1,   96.290,2,   95.310,2,   38.910,2,    0.010,2,    2.860,2,    2.356,2,    1.108,2, -999.000,9, 2295.500,2, 2306.700,2
           NA,    P10N,    116,   1,-999.0,     -99,  2,20050602,0953,  36.4902,  147.8202,  5765,  602.000,    3.742,   34.107,2,   34.110,2,   52.900,1,   59.700,2,  107.530,2,   40.280,2,    0.010,2,    2.949,2,    1.150,2,    0.495,2, -999.000,9, 2320.200,2, 2332.800,2
           NA,    P10N,    116,   1,-999.0,     -99,  2,20050602,0953,  36.4902,  147.8202,  5765,  700.200,    3.834,   34.236,2,   34.236,2,   47.610,1,   52.380,2,  115.670,2,   40.600,2,    0.010,2,    2.942,2,    0.628,2,    0.250,2, -999.000,9, 2330.800,6, 2347.000,2
           NA,    P10N,    116,   1,-999.0,     -99,  2,20050602,0953,  36.4902,  147.8202,  5765,  800.500,    3.294,   34.273,2,   34.273,2,   35.600,1,   38.850,2,  129.250,2,   42.180,2,    0.010,2,    3.059,2,    0.457,6,    0.210,6, -999.000,9, 2352.300,2, 2362.000,6
           NA,    P10N,    116,   1,-999.0,     -99,  2,20050602,0953,  36.4902,  147.8202,  5765,  899.700,    3.381,   34.374,2,   34.375,2,   42.410,1,   47.110,2,  129.130,2,   41.400,2,    0.000,2,    2.989,2,    0.156,2,    0.082,2, -999.000,9, 2350.800,2, 2375.700,2
           NA,    P10N,    116,   1,-999.0,     -99,  2,20050602,0953,  36.4902,  147.8202,  5765, 1001.600,    3.065,   34.404,2,   34.404,6,   39.860,1,   44.060,2,  137.860,2,   42.060,2,    0.000,2,    3.035,2,    0.122,2,    0.063,2, -999.000,9, 2361.000,2, 2381.500,2
           NA,    P10N,    116,   1,-999.0,     -99,  2,20050602,0953,  36.4902,  147.8202,  5765, 1201.000,    2.653,   34.466,2,   34.466,2,   39.280,1,   43.530,6,  149.590,2,   42.580,2,    0.000,2,    3.060,2,    0.050,2,    0.031,2, -999.000,9, 2374.900,2, 2395.900,2
           NA,    P10N,    116,   1,-999.0,     -99,  2,20050602,0953,  36.4902,  147.8202,  5765, 1400.600,    2.421,   34.508,2,   34.508,2,   41.600,1,   49.080,2,  155.880,2,   42.670,2,    0.000,2,    3.055,2,    0.021,2,    0.006,2, -999.000,9, 2379.300,2, 2403.100,2
           NA,    P10N,    116,   1,-999.0,     -99,  2,20050602,0953,  36.4902,  147.8202,  5765, 1599.700,    2.198,   34.549,2,   34.550,2,   50.190,1,   57.140,2,  160.310,2,   42.150,2,    0.000,2,    3.003,2,    0.002,2,    0.000,2, -999.000,9, 2376.400,2, 2408.900,2
           NA,    P10N,    116,   1,-999.0,     -99,  2,20050602,0953,  36.4902,  147.8202,  5765, 1800.300,    2.019,   34.582,2,   34.582,2,   59.650,1,   69.100,2,  162.410,2,   41.550,2,    0.000,2,    2.950,2,   -0.004,2,    0.000,2, -999.000,9, 2374.900,2, 2412.700,2
           NA,    P10N,    116,   1,-999.0,     -99,  2,20050602,0953,  36.4902,  147.8202,  5765, 2001.000,    1.900,   34.604,2,   34.604,2,   68.990,1,   80.370,2,  162.990,2,   40.810,2,    0.000,2,    2.896,2,   -0.001,2,    0.000,2, -999.000,9, 2369.000,2, -999.000,3
           NA,    P10N,    116,   1,-999.0,     -99,  2,20050602,0953,  36.4902,  147.8202,  5765, 2201.000,    1.790,   34.623,2,   34.623,6,   79.120,1,   93.020,2,  162.060,2,   40.040,2,    0.000,2,    2.835,2,    0.000,2,    0.000,2, -999.000,9, 2362.900,2, 2414.100,2
           NA,    P10N,    116,   1,-999.0,     -99,  2,20050602,0953,  36.4902,  147.8202,  5765, 2400.700,    1.702,   34.638,2,   34.638,2,   88.010,1,  104.160,2,  160.720,2,   39.280,2,    0.000,2,    2.781,2,    0.004,2,    0.000,2, -999.000,9, 2356.100,6, 2419.700,2
           NA,    P10N,    116,   1,-999.0,     -99,  2,20050602,0953,  36.4902,  147.8202,  5765, 2600.400,    1.641,   34.648,2,   34.649,2,   94.970,1,  112.910,2,  159.390,2,   38.700,2,    0.000,2,    2.737,2,   -0.001,2,    0.000,2, -999.000,9, 2350.200,2, 2420.900,6
           NA,    P10N,    116,   1,-999.0,     -99,  2,20050602,0953,  36.4902,  147.8202,  5765, 2800.900,    1.588,   34.657,2,   34.658,2,  101.170,1,  120.710,2,  158.100,2,   38.260,2,    0.000,2,    2.700,2, -999.000,9, -999.000,9, -999.000,9, 2345.600,2, 2424.200,2
           NA,    P10N,    116,   1,-999.0,     -99,  2,20050602,0953,  36.4902,  147.8202,  5765, 3000.200,    1.548,   34.664,2,   34.665,2,  106.690,1,  127.790,6,  156.520,2,   37.780,2,    0.000,2,    2.657,2, -999.000,9, -999.000,9, -999.000,9, 2342.100,2, 2423.000,2
           NA,    P10N,    116,   1,-999.0,     -99,  2,20050602,0953,  36.4902,  147.8202,  5765, 3251.300,    1.512,   34.671,2,   34.672,6,  112.370,1,  135.160,2,  154.670,2,   37.240,2,    0.000,2,    2.621,2, -999.000,9, -999.000,9, -999.000,9, 2337.500,2, 2423.400,2
           NA,    P10N,    116,   1,-999.0,     -99,  2,20050602,0953,  36.4902,  147.8202,  5765, 3500.000,    1.492,   34.676,2,   34.676,2,  116.590,1,  140.540,2,  153.450,2,   36.900,2,    0.000,2,    2.587,2, -999.000,9, -999.000,9, -999.000,9, 2333.400,2, 2422.700,2
           NA,    P10N,    116,   1,-999.0,     -99,  2,20050602,0953,  36.4902,  147.8202,  5765, 3752.700,    1.478,   34.680,2,   34.680,2,  120.670,1,  145.380,2,  151.960,2,   36.590,2,    0.000,2,    2.562,2, -999.000,9, -999.000,9, -999.000,9, 2330.400,2, 2423.400,2
           NA,    P10N,    116,   1,-999.0,     -99,  2,20050602,0953,  36.4902,  147.8202,  5765, 4001.900,    1.468,   34.684,2,   34.684,2,  124.370,1,  149.710,2,  151.080,2,   36.340,2,    0.000,2,    2.546,2, -999.000,9, -999.000,9, -999.000,9, 2325.600,2, 2420.600,2
           NA,    P10N,    116,   1,-999.0,     -99,  2,20050602,0953,  36.4902,  147.8202,  5765, 4251.400,    1.470,   34.687,2,   34.686,2,  127.340,1,  152.960,2,  149.390,2,   35.970,2,    0.000,2,    2.516,2, -999.000,9, -999.000,9, -999.000,9, 2322.900,6, 2418.900,2
           NA,    P10N,    116,   1,-999.0,     -99,  2,20050602,0953,  36.4902,  147.8202,  5765, 4501.400,    1.478,   34.689,2,   34.688,6,  129.980,1,  155.830,2,  148.850,2,   35.870,2,    0.000,2,    2.506,2, -999.000,9, -999.000,9, -999.000,9, 2322.000,2, 2415.100,2
           NA,    P10N,    116,   1,-999.0,     -99,  2,20050602,0953,  36.4902,  147.8202,  5765, 4750.700,    1.490,   34.690,2,   34.691,2,  132.530,1,  158.440,2,  147.830,2,   35.700,2,    0.000,2,    2.497,2, -999.000,9, -999.000,9, -999.000,9, 2319.700,2, 2417.200,2
           NA,    P10N,    116,   1,-999.0,     -99,  2,20050602,0953,  36.4902,  147.8202,  5765, 5001.400,    1.508,   34.692,2,   34.692,2,  134.580,1,  160.300,6,  146.690,2,   35.510,2,    0.000,2,    2.478,2, -999.000,9, -999.000,9, -999.000,9, 2317.400,2, 2417.200,2
           NA,    P10N,    116,   1,-999.0,     -99,  2,20050602,0953,  36.4902,  147.8202,  5765, 5251.100,    1.529,   34.693,2,   34.693,2,  136.790,1,  162.030,2,  145.620,2,   35.400,2,    0.000,2,    2.475,2, -999.000,9, -999.000,9, -999.000,9, 2315.300,2, 2416.000,2
           NA,    P10N,    116,   1,-999.0,     -99,  2,20050602,0953,  36.4902,  147.8202,  5765, 5501.900,    1.553,   34.693,2,   34.693,2,  138.920,1,  163.770,2,  144.040,2,   35.330,2,    0.000,2,    2.469,2, -999.000,9, -999.000,9, -999.000,9, 2314.500,2, 2415.500,2
           NA,    P10N,    116,   1,-999.0,     -99,  2,20050602,0953,  36.4902,  147.8202,  5765, 5749.800,    1.580,   34.694,2,   34.695,2,  140.650,1,  164.480,2,  143.750,2,   35.320,2,    0.000,2,    2.463,2, -999.000,9, -999.000,9, -999.000,9, 2313.600,2, 2415.500,2
           NA,    P10N,    116,   1,-999.0,     -99,  2,20050602,0953,  36.4902,  147.8202,  5765, 5865.700,    1.595,   34.694,2,   34.694,6,  141.500,1,  164.540,2,  143.630,2,   35.230,2,    0.010,2,    2.465,2, -999.000,9, -999.000,9, -999.000,9, 2313.300,2, 2418.100,2