BOTTLE,20214413JOAExport
EXPOCODE,SECT_ID,STNNBR,CASTNO,SAMPNO,BTLNBR,BTLNBR_FLAG_W,DATE,TIME,LATITUDE,LONGITUDE,DEPTH,CTDPRS,CTDTMP,CTDSAL,CTDSAL_FLAG_W,SALNTY,SALNTY_FLAG_W,CTDOXY,CTDOXY_FLAG_W,OXYGEN,OXYGEN_FLAG_W,SILCAT,SILCAT_FLAG_W,NITRAT,NITRAT_FLAG_W,NITRIT,NITRIT_FLAG_W,PHSPHT,PHSPHT_FLAG_W,CFC-11,CFC-11_FLAG_W,CFC-12,CFC-12_FLAG_W,SF6,SF6_FLAG_W,TCARBN,TCARBN_FLAG_W,ALKALI,ALKALI_FLAG_W
,,,,,,,,,,,,,DB,ITS-90,PSS-78,,PSS-78,,UMOL/KG,,UMOL/KG,,UMOL/KG,,UMOL/KG,,UMOL/KG,,UMOL/KG,,PMOL/KG,,PMOL/KG,,FMOL/KG,,UMOL/KG,,UMOL/KG
           NA,    P10N,    119,   1,-999.0,     -99,  2,20050601,1721,  37.2287,  147.3132,  5644,    9.400,   16.052,   34.498,2,   34.498,2,  239.650,1,  257.440,6,    5.330,2,    1.230,2,    0.090,2,    0.183,2,    2.550,2,    1.469,2, -999.000,9, -999.000,9, -999.000,9
           NA,    P10N,    119,   1,-999.0,     -99,  2,20050601,1721,  37.2287,  147.3132,  5644,   49.800,   12.860,   34.383,2,   34.381,2,  230.220,1,  246.560,2,    8.460,2,    6.400,2,    0.600,2,    0.572,2,    2.868,2,    1.605,2, -999.000,9, -999.000,9, -999.000,9
           NA,    P10N,    119,   1,-999.0,     -99,  2,20050601,1721,  37.2287,  147.3132,  5644,  100.100,   11.043,   34.289,2,   34.285,2,  219.010,1,  234.810,2,   16.790,2,   11.860,2,    0.020,2,    0.886,2,    2.926,2,    1.634,2, -999.000,9, -999.000,9, -999.000,9
           NA,    P10N,    119,   1,-999.0,     -99,  2,20050601,1721,  37.2287,  147.3132,  5644,  150.400,    9.562,   34.141,2,   34.139,2,  219.540,1,  234.520,2,   21.840,2,   14.220,2,    0.030,2,    1.070,2,    3.182,2,    1.694,2, -999.000,9, -999.000,9, -999.000,9
           NA,    P10N,    119,   1,-999.0,     -99,  2,20050601,1721,  37.2287,  147.3132,  5644,  199.000,    8.154,   34.006,2,   33.998,2,  215.370,1,  230.710,2,   28.250,2,   17.070,2,    0.030,2,    1.294,2,    3.316,2,    1.727,2, -999.000,9, -999.000,9, -999.000,9
           NA,    P10N,    119,   1,-999.0,     -99,  2,20050601,1721,  37.2287,  147.3132,  5644,  249.600,    7.150,   33.946,2,   33.941,2,  193.700,1,  207.040,2,   38.560,2,   21.520,2,    0.040,2,    1.620,2,    3.157,6,    1.620,6, -999.000,9, -999.000,9, -999.000,9
           NA,    P10N,    119,   1,-999.0,     -99,  2,20050601,1721,  37.2287,  147.3132,  5644,  299.800,    5.440,   33.792,2,   33.800,2,  191.180,1,  201.080,2,   50.790,2,   25.520,2,    0.030,2,    1.942,2,    3.271,2,    1.648,2, -999.000,9, -999.000,9, -999.000,9
           NA,    P10N,    119,   1,-999.0,     -99,  2,20050601,1721,  37.2287,  147.3132,  5644,  400.400,    5.017,   33.987,2,   33.991,2,  116.310,1,  123.190,2,   73.660,2,   32.890,2,    0.010,2,    2.422,2,    1.994,2,    1.017,2, -999.000,9, -999.000,9, -999.000,9
           NA,    P10N,    119,   1,-999.0,     -99,  2,20050601,1721,  37.2287,  147.3132,  5644,  500.200,    4.381,   34.089,2,   34.093,6,   75.570,1,   82.200,2,   94.020,2,   37.710,2,    0.010,2,    2.749,2,    1.310,2,    0.652,2, -999.000,9, -999.000,9, -999.000,9
           NA,    P10N,    119,   1,-999.0,     -99,  2,20050601,1721,  37.2287,  147.3132,  5644,  599.800,    4.108,   34.175,2,   34.179,2,   57.960,1,   60.350,2,  106.030,2,   39.520,2,    0.010,2,    2.864,2,    0.877,2,    0.430,2, -999.000,9, -999.000,9, -999.000,9
           NA,    P10N,    119,   1,-999.0,     -99,  2,20050601,1721,  37.2287,  147.3132,  5644,  698.900,    3.741,   34.245,2,   34.247,2,   46.370,1,   47.660,2,  117.620,2,   41.000,2,    0.000,2,    2.966,2,    0.561,2,    0.273,2, -999.000,9, -999.000,9, -999.000,9
           NA,    P10N,    119,   1,-999.0,     -99,  2,20050601,1721,  37.2287,  147.3132,  5644,  800.600,    3.493,   34.320,2,   34.320,2,   42.800,1,   43.820,2,  126.240,2,   41.550,2,    0.000,2,    3.001,2,    0.313,6,    0.151,6, -999.000,9, -999.000,9, -999.000,9
           NA,    P10N,    119,   1,-999.0,     -99,  2,20050601,1721,  37.2287,  147.3132,  5644,  900.000,    3.203,   34.370,2,   34.369,2,   40.450,1,   41.250,2,  134.010,2,   42.020,2,    0.000,2,    3.022,2,    0.200,2,    0.106,2, -999.000,9, -999.000,9, -999.000,9
           NA,    P10N,    119,   1,-999.0,     -99,  2,20050601,1721,  37.2287,  147.3132,  5644, 1000.800,    3.034,   34.399,2,   34.399,6,   39.480,1,   40.210,2,  138.740,2,   42.300,2,    0.000,2,    3.050,2,    0.138,2,    0.068,2, -999.000,9, -999.000,9, -999.000,9
           NA,    P10N,    119,   1,-999.0,     -99,  2,20050601,1721,  37.2287,  147.3132,  5644, 1201.100,    2.613,   34.470,2,   34.469,2,   41.330,1,   42.260,6,  150.690,2,   42.680,2,    0.000,2,    3.057,2,    0.069,2,    0.028,2, -999.000,9, -999.000,9, -999.000,9
           NA,    P10N,    119,   1,-999.0,     -99,  2,20050601,1721,  37.2287,  147.3132,  5644, 1401.200,    2.372,   34.514,2,   34.515,2,   45.920,1,   47.200,2,  156.920,2,   42.350,2,    0.010,2,    3.034,2,    0.033,2,    0.023,2, -999.000,9, -999.000,9, -999.000,9
           NA,    P10N,    119,   1,-999.0,     -99,  2,20050601,1721,  37.2287,  147.3132,  5644, 1601.700,    2.194,   34.548,2,   34.548,2,   53.030,1,   55.270,2,  160.640,2,   42.210,2,    0.000,2,    3.013,2,    0.014,2,    0.002,2, -999.000,9, -999.000,9, -999.000,9
           NA,    P10N,    119,   1,-999.0,     -99,  2,20050601,1721,  37.2287,  147.3132,  5644, 1800.800,    2.025,   34.579,2,   34.579,2,   63.180,1,   66.770,2,  162.890,2,   41.470,2,    0.000,2,    2.953,2,    0.011,2,    0.002,2, -999.000,9, -999.000,9, -999.000,9
           NA,    P10N,    119,   1,-999.0,     -99,  2,20050601,1721,  37.2287,  147.3132,  5644, 2000.100,    1.881,   34.605,2,   34.606,2,   75.630,1,   80.200,2,  163.050,2,   40.670,2,    0.000,2,    2.893,2,    0.003,2,    0.000,2, -999.000,9, -999.000,9, -999.000,9
           NA,    P10N,    119,   1,-999.0,     -99,  2,20050601,1721,  37.2287,  147.3132,  5644, 2200.500,    1.775,   34.624,2,   34.624,6,   85.910,1,   91.920,2,  162.760,2,   39.940,2,    0.000,2,    2.831,2,    0.003,2,   -0.001,2, -999.000,9, -999.000,9, -999.000,9
           NA,    P10N,    119,   1,-999.0,     -99,  2,20050601,1721,  37.2287,  147.3132,  5644, 2400.500,    1.689,   34.639,2,   34.639,2,   96.460,1,  103.870,2,  161.090,2,   39.170,2,    0.000,2,    2.775,2,   -0.003,2,   -0.001,2, -999.000,9, -999.000,9, -999.000,9
           NA,    P10N,    119,   1,-999.0,     -99,  2,20050601,1721,  37.2287,  147.3132,  5644, 2601.200,    1.624,   34.650,2,   34.650,2,  104.930,1,  113.310,2,  159.690,2,   38.560,2,    0.000,2,    2.726,2,    0.000,2,    0.001,2, -999.000,9, -999.000,9, -999.000,9
           NA,    P10N,    119,   1,-999.0,     -99,  2,20050601,1721,  37.2287,  147.3132,  5644, 2800.600,    1.578,   34.658,2,   34.658,2,  111.450,1,  120.650,2,  158.470,2,   38.070,2,    0.000,2,    2.687,2,   -0.002,2,   -0.002,2, -999.000,9, -999.000,9, -999.000,9
           NA,    P10N,    119,   1,-999.0,     -99,  2,20050601,1721,  37.2287,  147.3132,  5644, 3000.900,    1.532,   34.666,2,   34.666,2,  118.650,1,  128.850,6,  155.030,2,   37.310,2,    0.010,2,    2.631,2, -999.000,5, -999.000,5, -999.000,9, -999.000,9, -999.000,9
           NA,    P10N,    119,   1,-999.0,     -99,  2,20050601,1721,  37.2287,  147.3132,  5644, 3251.500,    1.503,   34.672,2,   34.672,6,  124.850,1,  135.810,2,  154.660,2,   37.090,2,    0.000,2,    2.601,2,   -0.007,2,   -0.002,2, -999.000,9, -999.000,9, -999.000,9
           NA,    P10N,    119,   1,-999.0,     -99,  2,20050601,1721,  37.2287,  147.3132,  5644, 3500.800,    1.484,   34.677,2,   34.677,2,  129.760,1,  141.310,2,  153.320,2,   36.810,2,    0.000,2,    2.577,2, -999.000,9, -999.000,9, -999.000,9, -999.000,9, -999.000,9
           NA,    P10N,    119,   1,-999.0,     -99,  2,20050601,1721,  37.2287,  147.3132,  5644, 3501.500,    1.484,   34.677,2,   34.677,2,  129.700,1,  141.290,2,  153.170,2,   36.780,2,    0.000,2,    2.578,2,   -0.006,2,   -0.002,2, -999.000,9, -999.000,9, -999.000,9
           NA,    P10N,    119,   1,-999.0,     -99,  2,20050601,1721,  37.2287,  147.3132,  5644, 3751.400,    1.466,   34.681,2,   34.681,2,  134.640,1,  146.550,2,  151.930,2,   36.420,2,    0.010,2,    2.552,2,   -0.004,2,   -0.003,2, -999.000,9, -999.000,9, -999.000,9
           NA,    P10N,    119,   1,-999.0,     -99,  2,20050601,1721,  37.2287,  147.3132,  5644, 4001.000,    1.459,   34.685,2,   34.685,2,  138.690,1,  150.950,2,  150.550,2,   36.100,2,    0.000,2,    2.530,2,   -0.002,2,   -0.002,2, -999.000,9, -999.000,9, -999.000,9
           NA,    P10N,    119,   1,-999.0,     -99,  2,20050601,1721,  37.2287,  147.3132,  5644, 4250.700,    1.461,   34.687,2,   34.687,2,  142.030,1,  154.340,2,  149.420,2,   35.920,2,    0.000,2,    2.510,2,    0.005,2,    0.000,2, -999.000,9, -999.000,9, -999.000,9
           NA,    P10N,    119,   1,-999.0,     -99,  2,20050601,1721,  37.2287,  147.3132,  5644, 4501.700,    1.470,   34.689,2,   34.689,6,  144.960,1,  157.170,2,  148.140,2,   35.730,2,    0.000,2,    2.495,2,    0.002,2,   -0.001,2, -999.000,9, -999.000,9, -999.000,9
           NA,    P10N,    119,   1,-999.0,     -99,  2,20050601,1721,  37.2287,  147.3132,  5644, 4749.400,    1.484,   34.691,2,   34.691,2,  147.440,1,  159.310,2,  147.200,2,   35.530,2,    0.010,2,    2.483,2,    0.001,2,    0.001,2, -999.000,9, -999.000,9, -999.000,9
           NA,    P10N,    119,   1,-999.0,     -99,  2,20050601,1721,  37.2287,  147.3132,  5644, 5003.100,    1.503,   34.692,2,   34.692,2,  149.690,1,  161.060,6,  146.220,2,   35.410,2,    0.000,2,    2.474,2,    0.002,2,    0.003,2, -999.000,9, -999.000,9, -999.000,9
           NA,    P10N,    119,   1,-999.0,     -99,  2,20050601,1721,  37.2287,  147.3132,  5644, 5250.000,    1.526,   34.693,2,   34.693,2,  151.960,1,  162.510,2,  144.830,2,   35.280,2,    0.000,2,    2.463,2,   -0.003,2,    0.002,2, -999.000,9, -999.000,9, -999.000,9
           NA,    P10N,    119,   1,-999.0,     -99,  2,20050601,1721,  37.2287,  147.3132,  5644, 5500.300,    1.552,   34.694,2,   34.693,2,  154.100,1,  163.950,2,  143.800,2,   35.200,2,    0.000,2,    2.456,2,    0.003,2,    0.004,2, -999.000,9, -999.000,9, -999.000,9
           NA,    P10N,    119,   1,-999.0,     -99,  2,20050601,1721,  37.2287,  147.3132,  5644, 5745.500,    1.578,   34.694,2,   34.694,6,  156.260,1,  164.690,2,  143.600,2,   35.050,2,    0.010,2,    2.455,2,    0.006,2,    0.003,2, -999.000,9, -999.000,9, -999.000,9
           NA,    P10N,    120,   1,-999.0,     -99,  2,20050601,1110,  37.4928,  147.1523,  5674,   11.000,   14.972,   34.450,2,   34.450,2,  245.540,1,  264.340,6,    6.450,2,    1.640,2,    0.110,2,    0.246,2,    2.882,2,    1.532,2, -999.000,9, 2018.400,2, 2282.200,2
           NA,    P10N,    120,   1,-999.0,     -99,  2,20050601,1110,  37.4928,  147.1523,  5674,   50.200,   13.133,   34.424,2,   34.417,2,  228.370,1,  243.670,2,    9.550,2,    7.060,2,    0.280,2,    0.588,2,    3.016,2,    1.594,2, -999.000,9, 2058.800,6, 2282.600,2
           NA,    P10N,    120,   1,-999.0,     -99,  2,20050601,1110,  37.4928,  147.1523,  5674,  101.000,   10.691,   34.256,2,   34.246,2,  205.370,1,  218.560,2,   21.070,2,   14.040,2,    0.020,2,    1.058,2,    3.019,2,    1.553,2, -999.000,9, 2105.700,2, 2279.100,6
           NA,    P10N,    120,   1,-999.0,     -99,  2,20050601,1110,  37.4928,  147.1523,  5674,  150.500,    8.792,   34.052,2,   34.051,2,  211.830,1,  226.130,2,   25.740,2,   16.070,2,    0.020,2,    1.228,2,    3.359,2,    1.691,2, -999.000,9, 2121.400,2, 2274.500,2
           NA,    P10N,    120,   1,-999.0,     -99,  2,20050601,1110,  37.4928,  147.1523,  5674,  200.700,    7.509,   33.930,2,   33.922,2,  224.160,1,  237.550,2,   29.420,2,   17.470,2,    0.020,2,    1.344,2,    3.685,2,    1.846,2, -999.000,9, 2130.000,2, 2272.300,2
           NA,    P10N,    120,   1,-999.0,     -99,  2,20050601,1110,  37.4928,  147.1523,  5674,  249.900,    6.727,   33.903,2,   33.903,2,  193.580,1,  206.590,2,   40.560,2,   22.240,2,    0.050,2,    1.689,2,    3.383,6,    1.655,6, -999.000,9, 2162.300,2, 2276.600,2
           NA,    P10N,    120,   1,-999.0,     -99,  2,20050601,1110,  37.4928,  147.1523,  5674,  301.100,    5.792,   33.887,2,   33.888,2,  163.220,1,  174.390,2,   53.980,2,   27.160,2,    0.030,2,    2.045,2,    3.050,2,    1.451,2, -999.000,9, 2200.200,2, 2282.300,2
           NA,    P10N,    120,   1,-999.0,     -99,  2,20050601,1110,  37.4928,  147.1523,  5674,  401.000,    4.851,   33.923,2,   33.926,2,  129.130,1,  137.240,2,   69.970,2,   32.040,2,    0.010,2,    2.376,2,    2.522,2,    1.178,2, -999.000,9, 2241.200,2, 2294.900,2
           NA,    P10N,    120,   1,-999.0,     -99,  2,20050601,1110,  37.4928,  147.1523,  5674,  500.600,    4.649,   34.076,2,   34.078,6,   85.960,1,   90.440,2,   87.590,2,   36.350,2,    0.010,2,    2.657,2,    1.468,2,    0.666,2, -999.000,9, 2284.900,2, 2314.100,2
           NA,    P10N,    120,   1,-999.0,     -99,  2,20050601,1110,  37.4928,  147.1523,  5674,  601.300,    4.101,   34.165,2,   34.166,2,   59.730,1,   63.050,2,  104.190,2,   39.400,2,    0.000,2,    2.863,2,    0.924,2,    0.406,2, -999.000,9, 2317.200,2, 2330.600,2
           NA,    P10N,    120,   1,-999.0,     -99,  2,20050601,1110,  37.4928,  147.1523,  5674,  701.700,    3.928,   34.261,2,   34.260,2,   51.280,1,   53.340,2,  113.940,2,   40.340,2,    0.000,2,    2.921,2,    0.512,2,    0.217,2, -999.000,9, 2331.100,6, 2346.500,2
           NA,    P10N,    120,   1,-999.0,     -99,  2,20050601,1110,  37.4928,  147.1523,  5674,  801.500,    3.475,   34.315,2,   34.314,2,   41.970,1,   43.090,2,  126.070,2,   41.590,2,    0.000,2,    3.008,2,    0.317,6,    0.126,6, -999.000,9, 2350.600,2, 2360.000,6
           NA,    P10N,    120,   1,-999.0,     -99,  2,20050601,1110,  37.4928,  147.1523,  5674,  899.900,    3.208,   34.361,2,   34.361,2,   39.760,1,   40.710,2,  134.120,2,   42.040,2,    0.000,2,    3.036,2,    0.192,2,    0.061,2, -999.000,9, 2361.200,2, 2368.800,2
           NA,    P10N,    120,   1,-999.0,     -99,  2,20050601,1110,  37.4928,  147.1523,  5674, 1002.300,    3.007,   34.403,2,   34.403,6,   40.150,1,   41.400,2,  139.480,2,   42.250,2,    0.000,2,    3.048,2,    0.119,2,    0.032,2, -999.000,9, 2367.400,2, 2377.000,2
           NA,    P10N,    120,   1,-999.0,     -99,  2,20050601,1110,  37.4928,  147.1523,  5674, 1200.500,    2.673,   34.461,2,   34.461,2,   40.570,1,   41.600,6,  149.410,2,   42.650,2,    0.000,2,    3.066,2, -999.000,5, -999.000,5, -999.000,9, 2377.600,2, 2387.200,2
           NA,    P10N,    120,   1,-999.0,     -99,  2,20050601,1110,  37.4928,  147.1523,  5674, 1401.200,    2.408,   34.508,2,   34.508,2,   45.310,1,   46.900,2,  155.930,2,   42.540,2,    0.000,2,    3.049,2, -999.000,5, -999.000,5, -999.000,9, 2380.800,2, 2397.700,2
           NA,    P10N,    120,   1,-999.0,     -99,  2,20050601,1110,  37.4928,  147.1523,  5674, 1601.000,    2.204,   34.548,2,   34.548,2,   54.500,1,   57.050,2,  159.730,2,   42.030,2,    0.000,2,    3.003,2,    0.007,2,    0.006,2, -999.000,9, 2380.300,2, 2403.900,2
           NA,    P10N,    120,   1,-999.0,     -99,  2,20050601,1110,  37.4928,  147.1523,  5674, 1802.300,    2.041,   34.578,2,   34.578,2,   64.100,1,   67.640,2,  161.780,2,   41.490,2,    0.000,2,    2.954,2,    0.001,2,    0.000,2, -999.000,9, 2377.800,2, 2412.500,2
           NA,    P10N,    120,   1,-999.0,     -99,  2,20050601,1110,  37.4928,  147.1523,  5674, 2000.000,    1.906,   34.603,2,   34.603,2,   75.810,1,   80.990,2,  161.790,2,   40.730,2,    0.000,2,    2.890,2,   -0.001,2,    0.000,2, -999.000,9, 2371.500,2, 2412.100,2
           NA,    P10N,    120,   1,-999.0,     -99,  2,20050601,1110,  37.4928,  147.1523,  5674, 2200.100,    1.809,   34.620,2,   34.620,6,   85.130,1,   91.680,2,  161.490,2,   40.000,2,    0.000,2,    2.834,2,   -0.002,2,    0.000,2, -999.000,9, 2367.000,2, 2414.400,2
           NA,    P10N,    120,   1,-999.0,     -99,  2,20050601,1110,  37.4928,  147.1523,  5674, 2399.800,    1.734,   34.634,2,   34.633,2,   94.260,1,  101.840,2,  160.010,2,   39.330,2,    0.000,2,    2.786,2,   -0.003,2,    0.000,2, -999.000,9, 2361.400,6, 2416.900,2
           NA,    P10N,    120,   1,-999.0,     -99,  2,20050601,1110,  37.4928,  147.1523,  5674, 2598.800,    1.658,   34.646,2,   34.646,2,  102.840,1,  111.360,2,  159.080,2,   38.710,2,    0.000,2,    2.742,2,    0.005,2,    0.007,2, -999.000,9, 2351.800,2, 2418.000,6
           NA,    P10N,    120,   1,-999.0,     -99,  2,20050601,1110,  37.4928,  147.1523,  5674, 2799.500,    1.604,   34.656,2,   34.656,2,  109.840,1,  119.450,2,  157.720,2,   38.140,2,    0.010,2,    2.698,2, -999.000,9, -999.000,9, -999.000,9, 2351.300,2, 2420.300,2
           NA,    P10N,    120,   1,-999.0,     -99,  2,20050601,1110,  37.4928,  147.1523,  5674, 3000.600,    1.555,   34.664,2,   34.664,2,  116.640,1,  127.040,6,  156.370,2,   37.730,2,    0.000,2,    2.660,2, -999.000,9, -999.000,9, -999.000,9, 2346.300,2, 2419.700,2
           NA,    P10N,    120,   1,-999.0,     -99,  2,20050601,1110,  37.4928,  147.1523,  5674, 3249.100,    1.513,   34.671,2,   34.671,6,  123.460,1,  134.690,2,  154.510,2,   37.160,2,    0.000,2,    2.611,2, -999.000,9, -999.000,9, -999.000,9, 2341.700,2, -999.000,3
           NA,    P10N,    120,   1,-999.0,     -99,  2,20050601,1110,  37.4928,  147.1523,  5674, 3500.500,    1.491,   34.676,2,   34.676,2,  128.840,1,  140.600,2,  153.050,2,   36.840,2,    0.000,2,    2.587,2, -999.000,9, -999.000,9, -999.000,9, 2337.100,2, 2416.900,2
           NA,    P10N,    120,   1,-999.0,     -99,  2,20050601,1110,  37.4928,  147.1523,  5674, 3751.200,    1.474,   34.681,2,   34.681,2,  133.610,1,  145.850,2,  151.820,2,   36.500,2,    0.000,2,    2.563,2, -999.000,9, -999.000,9, -999.000,9, 2333.500,2, 2418.000,2
           NA,    P10N,    120,   1,-999.0,     -99,  2,20050601,1110,  37.4928,  147.1523,  5674, 4000.300,    1.462,   34.685,2,   34.684,2,  138.280,1,  150.890,2,  149.950,2,   36.170,2,    0.000,2,    2.530,2, -999.000,9, -999.000,9, -999.000,9, 2326.500,2, 2415.600,2
           NA,    P10N,    120,   1,-999.0,     -99,  2,20050601,1110,  37.4928,  147.1523,  5674, 4250.000,    1.464,   34.687,2,   34.687,2,  141.360,1,  154.030,2,  149.310,2,   36.030,2,    0.000,2,    2.518,2, -999.000,9, -999.000,9, -999.000,9, 2327.400,6, 2418.100,2
           NA,    P10N,    120,   1,-999.0,     -99,  2,20050601,1110,  37.4928,  147.1523,  5674, 4500.700,    1.472,   34.689,2,   34.689,6,  144.450,1,  157.050,2,  147.830,2,   35.820,2,    0.000,2,    2.506,2, -999.000,9, -999.000,9, -999.000,9, 2325.600,2, 2415.400,6
           NA,    P10N,    120,   1,-999.0,     -99,  2,20050601,1110,  37.4928,  147.1523,  5674, 4749.200,    1.485,   34.691,2,   34.691,2,  147.110,1,  159.470,2,  146.670,2,   35.600,2,    0.000,2,    2.486,2, -999.000,9, -999.000,9, -999.000,9, 2323.400,2, 2417.800,2
           NA,    P10N,    120,   1,-999.0,     -99,  2,20050601,1110,  37.4928,  147.1523,  5674, 5001.200,    1.504,   34.692,2,   34.692,2,  149.440,1,  161.440,6,  145.760,2,   35.420,2,    0.000,2,    2.477,2, -999.000,9, -999.000,9, -999.000,9, 2320.700,2, -999.000,5
           NA,    P10N,    120,   1,-999.0,     -99,  2,20050601,1110,  37.4928,  147.1523,  5674, 5251.500,    1.525,   34.693,2,   34.693,2,  151.650,1,  162.920,2,  144.610,2,   35.370,2,    0.000,2,    2.471,2, -999.000,9, -999.000,9, -999.000,9, 2318.700,2, 2411.400,2
           NA,    P10N,    120,   1,-999.0,     -99,  2,20050601,1110,  37.4928,  147.1523,  5674, 5500.300,    1.552,   34.694,2,   34.694,2,  153.620,1,  164.070,2,  143.660,2,   35.300,2,    0.000,2,    2.461,2, -999.000,9, -999.000,9, -999.000,9, 2319.800,2, 2413.800,2
           NA,    P10N,    120,   1,-999.0,     -99,  2,20050601,1110,  37.4928,  147.1523,  5674, 5774.500,    1.582,   34.694,2,   34.694,6,  156.340,1,  165.140,2,  142.680,2,   35.220,2,    0.000,2,    2.457,2, -999.000,9, -999.000,9, -999.000,9, 2320.200,2, 2411.400,2