BOTTLE,20214413JOAExport
EXPOCODE,SECT_ID,STNNBR,CASTNO,SAMPNO,BTLNBR,BTLNBR_FLAG_W,DATE,TIME,LATITUDE,LONGITUDE,DEPTH,CTDPRS,CTDTMP,CTDSAL,CTDSAL_FLAG_W,SALNTY,SALNTY_FLAG_W,CTDOXY,CTDOXY_FLAG_W,OXYGEN,OXYGEN_FLAG_W,SILCAT,SILCAT_FLAG_W,NITRAT,NITRAT_FLAG_W,NITRIT,NITRIT_FLAG_W,PHSPHT,PHSPHT_FLAG_W,CFC-11,CFC-11_FLAG_W,CFC-12,CFC-12_FLAG_W,SF6,SF6_FLAG_W,TCARBN,TCARBN_FLAG_W,ALKALI,ALKALI_FLAG_W
,,,,,,,,,,,,,DB,ITS-90,PSS-78,,PSS-78,,UMOL/KG,,UMOL/KG,,UMOL/KG,,UMOL/KG,,UMOL/KG,,UMOL/KG,,PMOL/KG,,PMOL/KG,,FMOL/KG,,UMOL/KG,,UMOL/KG
           NA,     P10,     73,   1,-999.0,     -99,  2,20050608,0850,  28.4972,  149.3205,  6216,    9.600,   21.848,   34.786,2,   34.812,2,  197.100,1,  228.030,6,    1.740,2,    0.040,2,    0.000,2,    0.036,2, -999.000,3,    1.207,2, -999.000,9, 1983.100,2, 2291.600,2
           NA,     P10,     73,   1,-999.0,     -99,  2,20050608,0850,  28.4972,  149.3205,  6216,   49.000,   19.364,   34.850,2,   34.861,2,  203.920,1,  236.190,2,    1.860,2,    0.020,2,    0.010,2,    0.051,2, -999.000,3,    1.282,2, -999.000,9, 1991.700,6, 2293.200,2
           NA,     P10,     73,   1,-999.0,     -99,  2,20050608,0850,  28.4972,  149.3205,  6216,   98.600,   18.062,   34.811,2,   34.811,2,  195.420,1,  227.620,2,    2.390,2,    1.330,2,    0.120,2,    0.158,2, -999.000,3,    1.320,2, -999.000,9, 2005.500,2, 2291.600,6
           NA,     P10,     73,   1,-999.0,     -99,  2,20050608,0850,  28.4972,  149.3205,  6216,  149.400,   17.717,   34.804,2,   34.804,2,  191.990,1,  224.040,2,    2.860,2,    2.590,2,    0.020,2,    0.216,2, -999.000,3,    1.330,2, -999.000,9, 2009.500,2, 2290.800,2
           NA,     P10,     73,   1,-999.0,     -99,  2,20050608,0850,  28.4972,  149.3205,  6216,  198.300,   17.472,   34.809,2,   34.809,2,  188.950,1,  221.440,2,    3.170,2,    3.140,2,    0.020,2,    0.253,2, -999.000,3,    1.335,2, -999.000,9, 2017.100,2, 2290.800,2
           NA,     P10,     73,   1,-999.0,     -99,  2,20050608,0850,  28.4972,  149.3205,  6216,  250.300,   17.204,   34.799,2,   34.799,2,  187.760,1,  220.780,2,    3.500,2,    3.540,2,    0.010,2,    0.274,2, -999.000,3,    1.343,6, -999.000,9, 2016.700,2, 2286.300,2
           NA,     P10,     73,   1,-999.0,     -99,  2,20050608,0850,  28.4972,  149.3205,  6216,  299.000,   17.032,   34.789,2,   34.786,2,  187.420,1,  218.850,2,    3.910,2,    3.900,2,    0.010,2,    0.300,2, -999.000,3,    1.350,2, -999.000,9, 2022.100,2, 2288.900,2
           NA,     P10,     73,   1,-999.0,     -99,  2,20050608,0850,  28.4972,  149.3205,  6216,  400.100,   15.647,   34.651,2,   34.650,2,  165.700,1,  195.070,2,    8.490,2,    8.320,2,    0.010,2,    0.598,2, -999.000,3,    1.336,2, -999.000,9, 2054.400,2, 2284.500,2
           NA,     P10,     73,   1,-999.0,     -99,  2,20050608,0850,  28.4972,  149.3205,  6216,  498.800,   12.925,   34.455,2,   34.449,6,  150.870,1,  178.830,2,   18.490,2,   14.250,2,    0.000,2,    1.025,2, -999.000,3,    1.270,2, -999.000,9, 2100.800,2, 2277.800,2
           NA,     P10,     73,   1,-999.0,     -99,  2,20050608,0850,  28.4972,  149.3205,  6216,  598.200,    9.762,   34.214,2,   34.198,2,  147.120,1,  177.190,2,   31.730,2,   19.590,2,    0.010,2,    1.436,2, -999.000,3,    1.273,2, -999.000,9, 2141.000,2, 2283.000,2
           NA,     P10,     73,   1,-999.0,     -99,  2,20050608,0850,  28.4972,  149.3205,  6216,  701.200,    6.378,   33.981,2,   33.982,2,  135.050,1,  162.310,2,   52.300,2,   26.970,2,    0.000,2,    2.001,2, -999.000,3,    1.267,2, -999.000,9, 2194.700,6, 2286.200,2
           NA,     P10,     73,   1,-999.0,     -99,  2,20050608,0850,  28.4972,  149.3205,  6216,  798.800,    5.166,   34.064,2,   34.067,2,   83.900,1,   99.930,2,   77.910,2,   34.760,2,    0.000,2,    2.547,2, -999.000,3,    0.714,6, -999.000,9, 2261.100,2, 2309.600,6
           NA,     P10,     73,   1,-999.0,     -99,  2,20050608,0850,  28.4972,  149.3205,  6216,  900.000,    4.632,   34.146,2,   34.147,2,   58.830,1, -999.000,4,   93.010,2,   38.300,2,    0.000,2,    2.772,2, -999.000,3,    0.406,2, -999.000,9, 2295.800,2, 2326.500,2
           NA,     P10,     73,   1,-999.0,     -99,  2,20050608,0850,  28.4972,  149.3205,  6216, 1001.300,    4.048,   34.256,2,   34.255,6,   40.570,1,   47.360,2,  109.800,2,   40.950,2,    0.000,2,    2.969,2, -999.000,3,    0.150,2, -999.000,9, 2329.600,2, 2345.200,2
           NA,     P10,     73,   1,-999.0,     -99,  2,20050608,0850,  28.4972,  149.3205,  6216, 1201.300,    3.388,   34.388,2,   34.388,2,   34.540,1,   39.600,6,  128.100,2,   42.350,2,    0.000,2,    3.052,2, -999.000,3,    0.030,2, -999.000,9, 2356.100,2, 2368.900,2
           NA,     P10,     73,   1,-999.0,     -99,  2,20050608,0850,  28.4972,  149.3205,  6216, 1399.200,    2.860,   34.466,2,   34.466,2,   38.090,1,   44.130,2,  142.850,2,   42.670,2,    0.000,2,    3.060,2, -999.000,3,    0.012,2, -999.000,9, 2368.900,2, 2389.600,2
           NA,     P10,     73,   1,-999.0,     -99,  2,20050608,0850,  28.4972,  149.3205,  6216, 1600.900,    2.472,   34.524,2,   34.523,2,   45.900,1,   54.710,2,  151.080,2,   42.210,2,    0.000,2,    3.014,2, -999.000,3,    0.002,2, -999.000,9, 2371.100,2, 2402.400,2
           NA,     P10,     73,   1,-999.0,     -99,  2,20050608,0850,  28.4972,  149.3205,  6216, 1800.300,    2.216,   34.563,2,   34.562,2,   55.470,1,   66.600,2,  155.720,2,   41.650,2,    0.000,2,    2.965,2, -999.000,3,   -0.001,2, -999.000,9, 2370.200,2, 2407.000,2
           NA,     P10,     73,   1,-999.0,     -99,  2,20050608,0850,  28.4972,  149.3205,  6216, 2000.400,    2.033,   34.593,2,   34.593,2,   67.010,1,   82.190,2,  156.500,2,   40.640,2,    0.000,2,    2.891,2, -999.000,3,    0.001,2, -999.000,9, 2363.200,2, 2411.900,2
           NA,     P10,     73,   1,-999.0,     -99,  2,20050608,0850,  28.4972,  149.3205,  6216, 2200.600,    1.889,   34.616,2,   34.616,6,   77.280,1,   95.960,2,  155.610,2,   39.820,2,    0.000,2,    2.823,2, -999.000,3,    0.000,2, -999.000,9, 2356.700,2, 2415.300,2
           NA,     P10,     73,   1,-999.0,     -99,  2,20050608,0850,  28.4972,  149.3205,  6216, 2400.500,    1.787,   34.632,2,   34.632,2,   85.510,1,  106.890,2,  154.820,2,   39.110,2,    0.000,2,    2.766,2, -999.000,9, -999.000,9, -999.000,9, 2351.100,6, 2420.000,2
           NA,     P10,     73,   1,-999.0,     -99,  2,20050608,0850,  28.4972,  149.3205,  6216, 2602.200,    1.707,   34.645,2,   34.645,2,   92.350,1,  116.610,2,  153.640,2,   38.540,2,    0.000,2,    2.718,2, -999.000,9, -999.000,9, -999.000,9, 2345.800,2, 2419.800,2
           NA,     P10,     73,   1,-999.0,     -99,  2,20050608,0850,  28.4972,  149.3205,  6216, 2801.100,    1.658,   34.653,2,   34.653,2,   97.360,1,  123.370,2,  152.270,2,   38.070,2,    0.000,2,    2.685,2, -999.000,9, -999.000,9, -999.000,9, 2342.000,2, 2420.200,2
           NA,     P10,     73,   1,-999.0,     -99,  2,20050608,0850,  28.4972,  149.3205,  6216, 2999.500,    1.615,   34.660,2, -999.000,3,  100.900,1,  128.650,6,  151.960,2,   37.750,2,    0.000,2,    2.658,2, -999.000,9, -999.000,9, -999.000,9, 2339.100,2, 2420.000,2
           NA,     P10,     73,   1,-999.0,     -99,  2,20050608,0850,  28.4972,  149.3205,  6216, 3250.500,    1.565,   34.668,2,   34.668,6,  105.690,1,  135.490,2,  151.480,2,   37.270,2,    0.000,2,    2.611,2, -999.000,9, -999.000,9, -999.000,9, 2335.200,2, 2419.600,2
           NA,     P10,     73,   1,-999.0,     -99,  2,20050608,0850,  28.4972,  149.3205,  6216, 3498.900,    1.537,   34.673,2,   34.673,2,  108.790,1,  140.330,2,  150.270,2,   37.030,2,    0.000,2,    2.594,2, -999.000,9, -999.000,9, -999.000,9, 2333.600,2, 2418.800,2
           NA,     P10,     73,   1,-999.0,     -99,  2,20050608,0850,  28.4972,  149.3205,  6216, 3749.700,    1.515,   34.678,2,   34.678,2,  111.530,1,  144.250,2,  149.580,2,   36.670,2,    0.000,2,    2.573,2, -999.000,9, -999.000,9, -999.000,9, 2327.900,2, 2417.000,2
           NA,     P10,     73,   1,-999.0,     -99,  2,20050608,0850,  28.4972,  149.3205,  6216, 4000.900,    1.502,   34.682,2,   34.681,2,  114.890,1,  148.860,2,  148.190,2,   36.330,2,    0.000,2,    2.542,2, -999.000,9, -999.000,9, -999.000,9, 2325.200,2, 2418.100,2
           NA,     P10,     73,   1,-999.0,     -99,  2,20050608,0850,  28.4972,  149.3205,  6216, 4252.000,    1.493,   34.685,2,   34.685,2,  117.210,1,  152.930,2,  147.400,2,   36.160,2,    0.000,2,    2.527,2, -999.000,9, -999.000,9, -999.000,9, 2323.600,6, 2418.000,2
           NA,     P10,     73,   1,-999.0,     -99,  2,20050608,0850,  28.4972,  149.3205,  6216, 4500.500,    1.493,   34.688,2,   34.688,6,  120.210,1,  156.690,2,  145.660,2,   35.910,2,    0.000,2,    2.507,2, -999.000,9, -999.000,9, -999.000,9, 2319.600,2, 2415.000,6
           NA,     P10,     73,   1,-999.0,     -99,  2,20050608,0850,  28.4972,  149.3205,  6216, 4751.000,    1.500,   34.690,2,   34.690,2,  122.840,1,  160.250,6,  143.430,2,   35.630,2,    0.000,2,    2.485,2, -999.000,9, -999.000,9, -999.000,9, 2316.900,2, 2415.300,2
           NA,     P10,     73,   1,-999.0,     -99,  4,20050608,0850,  28.4972,  149.3205,  6216, 4999.100,    1.519,   34.691,2, -999.000,4,  123.390,1, -999.000,4, -999.000,4, -999.000,4, -999.000,4, -999.000,4, -999.000,9, -999.000,9, -999.000,9, -999.000,4, -999.000,4
           NA,     P10,     73,   1,-999.0,     -99,  2,20050608,0850,  28.4972,  149.3205,  6216, 5250.500,    1.539,   34.692,2,   34.692,2,  125.340,1,  162.690,2,  142.810,2,   35.480,2,    0.000,2,    2.472,2, -999.000,9, -999.000,9, -999.000,9, 2315.200,2, 2412.000,2
           NA,     P10,     73,   1,-999.0,     -99,  2,20050608,0850,  28.4972,  149.3205,  6216, 5500.600,    1.561,   34.693,2,   34.693,2,  127.100,1,  164.080,2,  142.050,2,   35.410,2,    0.000,2,    2.469,2, -999.000,9, -999.000,9, -999.000,9, 2313.300,2, 2411.900,2
           NA,     P10,     73,   1,-999.0,     -99,  2,20050608,0850,  28.4972,  149.3205,  6216, 5750.900,    1.582,   34.694,2,   34.694,2,  130.380,1,  167.570,2,  138.820,2,   35.090,2,    0.000,2,    2.447,2, -999.000,9, -999.000,9, -999.000,9, 2309.600,2, 2411.600,2
           NA,     P10,     73,   1,-999.0,     -99,  2,20050608,0850,  28.4972,  149.3205,  6216, 6333.400,    1.619,   34.698,2,   34.698,6,  138.320,1,  174.970,2,  133.550,2,   34.610,2,    0.000,2,    2.407,2, -999.000,9, -999.000,9, -999.000,9, 2300.800,2, 2403.900,2
           NA,    P10N,     95,   1,-999.0,     -99,  2,20050608,0143,  29.1702,  149.3275,  6112,    9.900,   22.881,   34.734,2,   34.728,2,  191.800,1,  221.740,6,    1.810,2,    0.010,2,    0.000,2,    0.018,2,    1.996,2,    1.145,2, -999.000,9, -999.000,9, -999.000,9
           NA,    P10N,     95,   1,-999.0,     -99,  2,20050608,0143,  29.1702,  149.3275,  6112,   49.000,   19.187,   34.857,2,   34.858,2,  202.990,1,  236.560,2,    2.110,2,    0.000,2,    0.000,2,    0.041,2,    2.304,2,    1.261,2, -999.000,9, -999.000,9, -999.000,9
           NA,    P10N,     95,   1,-999.0,     -99,  2,20050608,0143,  29.1702,  149.3275,  6112,   99.800,   17.813,   34.780,2,   34.780,2,  196.520,1,  229.360,2,    2.400,2,    1.820,2,    0.020,2,    0.157,2,    2.384,2,    1.322,2, -999.000,9, -999.000,9, -999.000,9
           NA,    P10N,     95,   1,-999.0,     -99,  2,20050608,0143,  29.1702,  149.3275,  6112,  149.500,   17.673,   34.800,2,   34.802,2,  193.260,1,  225.850,2,    2.900,2,    2.440,2,    0.020,2,    0.195,2,    2.399,2,    1.323,2, -999.000,9, -999.000,9, -999.000,9
           NA,    P10N,     95,   1,-999.0,     -99,  2,20050608,0143,  29.1702,  149.3275,  6112,  199.800,   17.515,   34.818,2,   34.818,2,  193.760,1,  226.520,2,    2.980,2,    2.460,2,    0.010,2,    0.183,2,    2.427,2,    1.345,2, -999.000,9, -999.000,9, -999.000,9
           NA,    P10N,     95,   1,-999.0,     -99,  2,20050608,0143,  29.1702,  149.3275,  6112,  249.100,   17.384,   34.812,2,   34.812,2,  193.290,1,  226.440,2,    3.160,2,    2.740,2,    0.010,2,    0.208,2,    2.429,6,    1.335,6, -999.000,9, -999.000,9, -999.000,9
           NA,    P10N,     95,   1,-999.0,     -99,  2,20050608,0143,  29.1702,  149.3275,  6112,  300.100,   17.253,   34.807,2,   34.808,2,  195.020,1,  228.600,2,    3.200,2,    2.730,2,    0.010,2,    0.206,2,    2.417,2,    1.319,2, -999.000,9, -999.000,9, -999.000,9
           NA,    P10N,     95,   1,-999.0,     -99,  2,20050608,0143,  29.1702,  149.3275,  6112,  400.600,   16.641,   34.740,2,   34.736,2,  175.450,1,  205.470,2,    5.740,2,    5.870,2,    0.010,2,    0.409,2,    2.486,2,    1.336,2, -999.000,9, -999.000,9, -999.000,9
           NA,    P10N,     95,   1,-999.0,     -99,  2,20050608,0143,  29.1702,  149.3275,  6112,  501.700,   13.743,   34.507,2,   34.509,6,  154.810,1,  184.540,2,   14.740,2,   12.240,2,    0.000,2,    0.855,2,    2.580,2,    1.314,2, -999.000,9, -999.000,9, -999.000,9
           NA,    P10N,     95,   1,-999.0,     -99,  2,20050608,0143,  29.1702,  149.3275,  6112,  601.500,   10.647,   34.284,2,   34.283,2,  150.070,1,  178.970,2,   26.750,2,   17.850,2,    0.000,2,    1.277,2,    2.579,2,    1.244,2, -999.000,9, -999.000,9, -999.000,9
           NA,    P10N,     95,   1,-999.0,     -99,  2,20050608,0143,  29.1702,  149.3275,  6112,  700.300,    7.483,   34.049,2,   34.044,2,  140.300,1,  167.520,2,   44.720,2,   24.640,2,    0.000,2,    1.804,2,    2.623,2,    1.231,2, -999.000,9, -999.000,9, -999.000,9
           NA,    P10N,     95,   1,-999.0,     -99,  2,20050608,0143,  29.1702,  149.3275,  6112,  797.200,    5.318,   34.033,2,   34.049,2,   92.360,1,  108.260,2,   74.570,2,   33.770,2,    0.000,2,    2.459,2,    1.680,6,    0.760,6, -999.000,9, -999.000,9, -999.000,9
           NA,    P10N,     95,   1,-999.0,     -99,  2,20050608,0143,  29.1702,  149.3275,  6112,  899.700,    4.571,   34.153,2,   34.155,2,   57.210,1,   68.150,2,   95.180,2,   38.450,2,    0.000,2,    2.782,2,    0.827,2,    0.359,2, -999.000,9, -999.000,9, -999.000,9
           NA,    P10N,     95,   1,-999.0,     -99,  2,20050608,0143,  29.1702,  149.3275,  6112, 1001.300,    4.072,   34.236,2,   34.233,6,   42.250,1,   49.570,2,  108.880,2,   40.660,2,    0.000,2,    2.934,2,    0.442,2,    0.181,2, -999.000,9, -999.000,9, -999.000,9
           NA,    P10N,     95,   1,-999.0,     -99,  2,20050608,0143,  29.1702,  149.3275,  6112, 1201.400,    3.353,   34.387,2,   34.388,2,   34.130,1,   39.130,6,  130.150,2,   42.440,2,    0.000,2,    3.055,2,    0.078,2,    0.041,2, -999.000,9, -999.000,9, -999.000,9
           NA,    P10N,     95,   1,-999.0,     -99,  2,20050608,0143,  29.1702,  149.3275,  6112, 1401.700,    2.830,   34.470,2,   34.470,2,   37.750,1,   44.060,2,  143.830,2,   42.640,2,    0.000,2,    3.055,2,    0.045,2,    0.012,2, -999.000,9, -999.000,9, -999.000,9
           NA,    P10N,     95,   1,-999.0,     -99,  2,20050608,0143,  29.1702,  149.3275,  6112, 1599.800,    2.484,   34.524,2,   34.525,2,   45.340,1,   53.940,2,  151.510,2,   42.210,2,    0.000,2,    3.018,2,    0.017,2,    0.008,2, -999.000,9, -999.000,9, -999.000,9
           NA,    P10N,     95,   1,-999.0,     -99,  2,20050608,0143,  29.1702,  149.3275,  6112, 1801.900,    2.187,   34.567,2,   34.568,2,   56.500,1,   68.460,2,  155.980,2,   41.270,2,    0.000,2,    2.944,2,    0.011,2,    0.000,2, -999.000,9, -999.000,9, -999.000,9
           NA,    P10N,     95,   1,-999.0,     -99,  2,20050608,0143,  29.1702,  149.3275,  6112, 2003.000,    2.004,   34.599,2,   34.600,2,   71.130,1,   87.200,2,  155.090,2,   40.190,2,    0.000,2,    2.855,2, -999.000,5, -999.000,5, -999.000,9, -999.000,9, -999.000,9
           NA,    P10N,     95,   1,-999.0,     -99,  2,20050608,0143,  29.1702,  149.3275,  6112, 2199.000,    1.873,   34.620,2,   34.620,6,   81.270,1,  101.060,2,  153.900,2,   39.310,2,    0.000,2,    2.785,2,   -0.009,2,    0.000,2, -999.000,9, -999.000,9, -999.000,9
           NA,    P10N,     95,   1,-999.0,     -99,  2,20050608,0143,  29.1702,  149.3275,  6112, 2402.200,    1.758,   34.638,2,   34.638,2,   89.960,1,  112.840,2,  153.070,2,   38.610,2,    0.000,2,    2.727,2, -999.000,9, -999.000,9, -999.000,9, -999.000,9, -999.000,9
           NA,    P10N,     95,   1,-999.0,     -99,  2,20050608,0143,  29.1702,  149.3275,  6112, 2799.300,    1.633,   34.657,2,   34.657,2,   99.240,1,  126.100,2,  151.770,2,   37.690,2,    0.000,2,    2.653,2, -999.000,9, -999.000,9, -999.000,9, -999.000,9, -999.000,9
           NA,    P10N,     95,   1,-999.0,     -99,  2,20050608,0143,  29.1702,  149.3275,  6112, 2999.300,    1.595,   34.663,2,   34.663,2,  102.380,1,  130.580,6,  151.930,2,   37.490,2,    0.000,2,    2.632,2, -999.000,9, -999.000,9, -999.000,9, -999.000,9, -999.000,9
           NA,    P10N,     95,   1,-999.0,     -99,  2,20050608,0143,  29.1702,  149.3275,  6112, 3248.600,    1.553,   34.669,2,   34.669,6,  106.400,1,  136.340,2,  150.910,2,   37.190,2,    0.000,2,    2.599,2, -999.000,9, -999.000,9, -999.000,9, -999.000,9, -999.000,9
           NA,    P10N,     95,   1,-999.0,     -99,  2,20050608,0143,  29.1702,  149.3275,  6112, 3499.000,    1.529,   34.674,2,   34.674,2,  109.170,1,  140.540,2,  150.720,2,   36.940,2,    0.000,2,    2.580,2, -999.000,9, -999.000,9, -999.000,9, -999.000,9, -999.000,9
           NA,    P10N,     95,   1,-999.0,     -99,  2,20050608,0143,  29.1702,  149.3275,  6112, 3748.800,    1.507,   34.679,2,   34.679,2,  112.240,1,  145.210,2,  149.960,2,   36.560,2,    0.000,2,    2.555,2, -999.000,9, -999.000,9, -999.000,9, -999.000,9, -999.000,9
           NA,    P10N,     95,   1,-999.0,     -99,  2,20050608,0143,  29.1702,  149.3275,  6112, 3998.600,    1.496,   34.682,2,   34.682,2,  114.690,1,  148.520,2,  149.400,2,   36.340,2,    0.000,2,    2.539,2, -999.000,9, -999.000,9, -999.000,9, -999.000,9, -999.000,9
           NA,    P10N,     95,   1,-999.0,     -99,  2,20050608,0143,  29.1702,  149.3275,  6112, 4249.500,    1.489,   34.686,2,   34.685,2,  118.190,1,  153.650,2,  147.140,2,   36.040,2,    0.000,2,    2.510,2, -999.000,9, -999.000,9, -999.000,9, -999.000,9, -999.000,9
           NA,    P10N,     95,   1,-999.0,     -99,  2,20050608,0143,  29.1702,  149.3275,  6112, 4500.000,    1.493,   34.688,2,   34.688,6,  120.070,1,  156.250,2,  146.470,2,   35.810,2,    0.000,2,    2.499,2, -999.000,9, -999.000,9, -999.000,9, -999.000,9, -999.000,9
           NA,    P10N,     95,   1,-999.0,     -99,  2,20050608,0143,  29.1702,  149.3275,  6112, 4751.000,    1.502,   34.690,2,   34.690,2,  122.350,1,  159.170,2,  145.150,2,   35.640,2,    0.000,2,    2.480,2, -999.000,9, -999.000,9, -999.000,9, -999.000,9, -999.000,9
           NA,    P10N,     95,   1,-999.0,     -99,  2,20050608,0143,  29.1702,  149.3275,  6112, 4998.800,    1.515,   34.691,2,   34.691,2,  124.370,1,  161.400,6,  143.400,2,   35.350,2,    0.000,2,    2.467,2, -999.000,9, -999.000,9, -999.000,9, -999.000,9, -999.000,9
           NA,    P10N,     95,   1,-999.0,     -99,  2,20050608,0143,  29.1702,  149.3275,  6112, 5250.000,    1.533,   34.693,2,   34.693,2,  126.770,1,  163.870,2,  142.350,2,   35.290,2,    0.000,2,    2.459,2, -999.000,9, -999.000,9, -999.000,9, -999.000,9, -999.000,9
           NA,    P10N,     95,   1,-999.0,     -99,  2,20050608,0143,  29.1702,  149.3275,  6112, 5498.400,    1.554,   34.694,2,   34.693,2,  128.880,1,  165.590,2,  141.000,2,   35.180,2,    0.000,2,    2.449,2, -999.000,9, -999.000,9, -999.000,9, -999.000,9, -999.000,9
           NA,    P10N,     95,   1,-999.0,     -99,  2,20050608,0143,  29.1702,  149.3275,  6112, 5750.400,    1.573,   34.695,2,   34.694,2,  131.710,1,  168.440,2,  138.810,2,   34.970,2,    0.000,2,    2.435,2, -999.000,9, -999.000,9, -999.000,9, -999.000,9, -999.000,9
           NA,    P10N,     95,   1,-999.0,     -99,  2,20050608,0143,  29.1702,  149.3275,  6112, 6224.000,    1.621,   34.696,2,   34.696,6,  136.090,1,  171.470,2,  136.380,2,   34.750,2,    0.000,2,    2.416,2, -999.000,9, -999.000,9, -999.000,9, -999.000,9, -999.000,9