BOTTLE,20214413JOAExport
EXPOCODE,SECT_ID,STNNBR,CASTNO,SAMPNO,BTLNBR,BTLNBR_FLAG_W,DATE,TIME,LATITUDE,LONGITUDE,DEPTH,CTDPRS,CTDTMP,CTDSAL,CTDSAL_FLAG_W,SALNTY,SALNTY_FLAG_W,CTDOXY,CTDOXY_FLAG_W,OXYGEN,OXYGEN_FLAG_W,SILCAT,SILCAT_FLAG_W,NITRAT,NITRAT_FLAG_W,NITRIT,NITRIT_FLAG_W,PHSPHT,PHSPHT_FLAG_W,CFC-11,CFC-11_FLAG_W,CFC-12,CFC-12_FLAG_W,SF6,SF6_FLAG_W,TCARBN,TCARBN_FLAG_W,ALKALI,ALKALI_FLAG_W
,,,,,,,,,,,,,DB,ITS-90,PSS-78,,PSS-78,,UMOL/KG,,UMOL/KG,,UMOL/KG,,UMOL/KG,,UMOL/KG,,UMOL/KG,,PMOL/KG,,PMOL/KG,,FMOL/KG,,UMOL/KG,,UMOL/KG
           NA,     P10,     70,   1,-999.0,     -99,  2,20050609,0556,  26.4927,  149.3352,  6076,    9.900,   22.600,   34.844,2,   34.849,2,  195.040,1,  224.890,6,    1.610,2,    0.030,2,    0.010,2,    0.039,2,    2.015,2,    1.198,2, -999.000,9, 1982.300,2, 2292.800,2
           NA,     P10,     70,   1,-999.0,     -99,  2,20050609,0556,  26.4927,  149.3352,  6076,   50.900,   20.397,   34.950,2,   34.950,2,  197.960,1,  229.030,2,    1.820,2,    0.010,2,    0.010,2,    0.053,2,    2.147,2,    1.222,2, -999.000,9, 1994.900,6, 2298.500,2
           NA,     P10,     70,   1,-999.0,     -99,  2,20050609,0556,  26.4927,  149.3352,  6076,   99.700,   18.522,   34.850,2,   34.848,2,  200.630,1,  231.970,2,    1.950,2,    0.170,2,    0.130,2,    0.088,2,    2.318,2,    1.313,2, -999.000,9, 2002.400,2, 2293.200,6
           NA,     P10,     70,   1,-999.0,     -99,  2,20050609,0556,  26.4927,  149.3352,  6076,  150.100,   17.833,   34.830,2,   34.830,2,  190.980,1,  222.300,2,    2.830,2,    2.410,2,    0.030,2,    0.203,2,    2.190,2,    1.307,2, -999.000,9, 2012.900,2, 2292.400,2
           NA,     P10,     70,   1,-999.0,     -99,  2,20050609,0556,  26.4927,  149.3352,  6076,  201.600,   17.541,   34.820,2,   34.820,2,  191.530,1,  223.340,2,    3.120,2,    2.830,2,    0.020,2,    0.222,2,    2.372,2,    1.334,2, -999.000,9, 2014.600,2, 2289.400,2
           NA,     P10,     70,   1,-999.0,     -99,  2,20050609,0556,  26.4927,  149.3352,  6076,  250.000,   17.285,   34.804,2,   34.804,2,  190.850,1,  223.140,2,    3.390,2,    3.190,2,    0.020,2,    0.251,2,    2.404,6,    1.350,6, -999.000,9, 2016.600,2, 2288.700,2
           NA,     P10,     70,   1,-999.0,     -99,  2,20050609,0556,  26.4927,  149.3352,  6076,  301.900,   16.854,   34.760,2,   34.759,2,  179.130,1,  209.440,2,    4.850,2,    5.110,2,    0.020,2,    0.374,2,    2.441,2,    1.371,2, -999.000,9, 2032.300,2, 2286.400,2
           NA,     P10,     70,   1,-999.0,     -99,  2,20050609,0556,  26.4927,  149.3352,  6076,  400.900,   15.075,   34.605,2,   34.601,2,  162.090,1,  190.480,2,   10.450,2,    9.660,2,    0.010,2,    0.694,2,    2.520,2,    1.351,2, -999.000,9, 2068.400,2, 2281.200,2
           NA,     P10,     70,   1,-999.0,     -99,  2,20050609,0556,  26.4927,  149.3352,  6076,  500.800,   12.086,   34.393,2,   34.388,6,  152.450,1,  180.280,2,   21.080,2,   15.390,2,    0.010,2,    1.110,2,    2.558,2,    1.291,2, -999.000,9, 2109.000,2, 2282.000,2
           NA,     P10,     70,   1,-999.0,     -99,  2,20050609,0556,  26.4927,  149.3352,  6076,  600.000,    8.449,   34.115,2,   34.111,2,  141.730,1,  168.600,2,   36.620,2,   22.790,2,    0.010,2,    1.658,2, -999.000,5, -999.000,5, -999.000,9, 2161.400,2, 2279.500,2
           NA,     P10,     70,   1,-999.0,     -99,  2,20050609,0556,  26.4927,  149.3352,  6076,  701.100,    6.536,   34.052,2,   34.052,2,  108.460,1,  128.220,2,   57.480,2,   29.930,2,    0.010,2,    2.189,2,    1.823,2,    0.873,2, -999.000,9, 2219.400,6, 2293.700,2
           NA,     P10,     70,   1,-999.0,     -99,  2,20050609,0556,  26.4927,  149.3352,  6076,  800.100,    5.034,   34.106,2,   34.110,2,   70.210,1,   85.510,2,   83.950,2,   36.500,2,    0.010,2,    2.663,2,    1.036,6,    0.491,6, -999.000,9, 2281.100,2, 2318.500,6
           NA,     P10,     70,   1,-999.0,     -99,  2,20050609,0556,  26.4927,  149.3352,  6076,  900.400,    4.374,   34.210,2,   34.212,2,   45.030,1,   52.230,2,  101.540,2,   40.150,2,    0.000,2,    2.914,2,    0.404,2,    0.188,2, -999.000,9, 2318.700,2, 2337.500,2
           NA,     P10,     70,   1,-999.0,     -99,  2,20050609,0556,  26.4927,  149.3352,  6076, 1002.000,    3.948,   34.273,2,   34.273,6,   38.070,1,   43.880,2,  113.000,2,   41.210,2,    0.000,2,    2.990,2,    0.259,2,    0.107,2, -999.000,9, 2335.500,2, 2350.600,2
           NA,     P10,     70,   1,-999.0,     -99,  2,20050609,0556,  26.4927,  149.3352,  6076, 1201.600,    3.191,   34.414,2,   34.413,2,   33.960,1,   38.920,6,  134.270,2,   42.640,2,    0.000,2,    3.066,2,    0.045,2,    0.023,2, -999.000,9, 2362.600,2, 2380.700,2
           NA,     P10,     70,   1,-999.0,     -99,  2,20050609,0556,  26.4927,  149.3352,  6076, 1397.600,    2.756,   34.494,2,   34.494,2,   42.480,1,   50.020,2,  144.200,2,   42.220,2,    0.000,2,    3.024,2,    0.003,2,    0.007,2, -999.000,9, 2371.300,2, 2392.400,2
           NA,     P10,     70,   1,-999.0,     -99,  2,20050609,0556,  26.4927,  149.3352,  6076, 1601.400,    2.391,   34.543,2,   34.543,2,   52.450,1,   63.050,2,  151.370,2,   41.610,2,    0.000,2,    2.976,2,    0.000,2,   -0.001,2, -999.000,9, 2369.600,2, 2403.200,2
           NA,     P10,     70,   1,-999.0,     -99,  2,20050609,0556,  26.4927,  149.3352,  6076, 1800.100,    2.107,   34.583,2,   34.583,2,   64.310,1,   78.420,2,  154.880,2,   40.780,2,    0.000,2,    2.896,2,   -0.002,2,   -0.004,2, -999.000,9, 2364.700,2, -999.000,3
           NA,     P10,     70,   1,-999.0,     -99,  2,20050609,0556,  26.4927,  149.3352,  6076, 2001.100,    1.958,   34.609,2,   34.608,2,   77.240,1,   95.390,2,  152.990,2,   39.650,2,    0.000,2,    2.814,2,    0.004,2,    0.003,2, -999.000,9, 2356.400,2, 2411.400,2
           NA,     P10,     70,   1,-999.0,     -99,  2,20050609,0556,  26.4927,  149.3352,  6076, 2199.100,    1.829,   34.629,2,   34.630,6,   87.010,1,  108.950,2,  151.900,2,   38.810,2,    0.000,2,    2.749,2,   -0.002,2,    0.001,2, -999.000,9, 2349.400,2, 2415.300,2
           NA,     P10,     70,   1,-999.0,     -99,  2,20050609,0556,  26.4927,  149.3352,  6076, 2399.100,    1.737,   34.642,2,   34.642,2,   92.120,1,  116.070,2,  152.190,2,   38.510,2,    0.010,2,    2.720,2, -999.000,9, -999.000,9, -999.000,9, 2346.200,6, 2416.600,2
           NA,     P10,     70,   1,-999.0,     -99,  2,20050609,0556,  26.4927,  149.3352,  6076, 2600.500,    1.682,   34.653,2,   34.654,2,   98.180,1,  124.120,2,  150.670,2,   37.860,2,    0.000,2,    2.674,2, -999.000,9, -999.000,9, -999.000,9, 2341.500,2, 2418.600,6
           NA,     P10,     70,   1,-999.0,     -99,  2,20050609,0556,  26.4927,  149.3352,  6076, 2800.000,    1.632,   34.659,2,   34.659,2,  101.220,1,  128.630,2,  150.690,2,   37.560,2,    0.000,2,    2.653,2, -999.000,9, -999.000,9, -999.000,9, 2340.000,2, 2417.900,2
           NA,     P10,     70,   1,-999.0,     -99,  2,20050609,0556,  26.4927,  149.3352,  6076, 3001.000,    1.594,   34.664,2,   34.664,2,  103.940,1,  132.750,6,  150.510,2,   37.380,2,    0.000,2,    2.632,2, -999.000,9, -999.000,9, -999.000,9, 2337.500,2, 2415.600,2
           NA,     P10,     70,   1,-999.0,     -99,  2,20050609,0556,  26.4927,  149.3352,  6076, 3250.200,    1.546,   34.671,2,   34.670,6,  107.360,1,  137.800,2,  150.310,2,   37.040,2,    0.000,2,    2.603,2, -999.000,9, -999.000,9, -999.000,9, 2334.800,2, 2417.100,2
           NA,     P10,     70,   1,-999.0,     -99,  2,20050609,0556,  26.4927,  149.3352,  6076, 3500.000,    1.519,   34.676,2,   34.676,2,  110.620,1,  142.580,2,  149.540,2,   36.700,2,    0.000,2,    2.577,2, -999.000,9, -999.000,9, -999.000,9, 2331.600,2, 2418.100,2
           NA,     P10,     70,   1,-999.0,     -99,  2,20050609,0556,  26.4927,  149.3352,  6076, 3749.000,    1.502,   34.680,2,   34.680,2,  113.690,1,  147.040,2,  148.290,2,   36.390,2,    0.000,2,    2.556,2, -999.000,9, -999.000,9, -999.000,9, 2328.700,2, 2417.300,2
           NA,     P10,     70,   1,-999.0,     -99,  2,20050609,0556,  26.4927,  149.3352,  6076, 4001.200,    1.486,   34.684,2,   34.683,2,  116.760,1,  151.520,2,  147.070,2,   36.160,2,    0.000,2,    2.533,2, -999.000,9, -999.000,9, -999.000,9, 2324.400,2, 2417.100,2
           NA,     P10,     70,   1,-999.0,     -99,  2,20050609,0556,  26.4927,  149.3352,  6076, 4252.400,    1.484,   34.687,2,   34.686,2,  119.380,1,  155.150,2,  145.570,2,   35.860,2,    0.000,2,    2.513,2, -999.000,9, -999.000,9, -999.000,9, 2321.800,6, 2413.700,2
           NA,     P10,     70,   1,-999.0,     -99,  2,20050609,0556,  26.4927,  149.3352,  6076, 4503.200,    1.489,   34.688,2,   34.689,6,  121.260,1,  157.870,2,  144.870,2,   35.740,2,    0.000,2,    2.499,2, -999.000,9, -999.000,9, -999.000,9, 2319.700,2, 2414.100,6
           NA,     P10,     70,   1,-999.0,     -99,  2,20050609,0556,  26.4927,  149.3352,  6076, 4751.100,    1.492,   34.691,2,   34.691,2,  123.800,1,  161.070,2,  143.450,2,   35.460,2,    0.000,2,    2.480,2, -999.000,9, -999.000,9, -999.000,9, 2317.600,2, 2412.400,2
           NA,     P10,     70,   1,-999.0,     -99,  2,20050609,0556,  26.4927,  149.3352,  6076, 5002.100,    1.503,   34.693,2,   34.693,2,  126.350,1,  164.250,6,  141.390,2,   35.180,2,    0.000,2,    2.467,2, -999.000,9, -999.000,9, -999.000,9, 2313.800,2, 2410.600,2
           NA,     P10,     70,   1,-999.0,     -99,  2,20050609,0556,  26.4927,  149.3352,  6076, 5250.300,    1.522,   34.694,2,   34.694,2,  128.270,1,  166.090,2,  140.230,2,   35.140,2,    0.000,2,    2.458,2, -999.000,9, -999.000,9, -999.000,9, 2311.100,2, 2408.800,2
           NA,     P10,     70,   1,-999.0,     -99,  2,20050609,0556,  26.4927,  149.3352,  6076, 5498.800,    1.547,   34.694,2,   34.694,2,  130.190,1,  167.740,2,  138.920,2,   34.970,2,    0.000,2,    2.450,2, -999.000,9, -999.000,9, -999.000,9, 2309.900,2, 2407.000,2
           NA,     P10,     70,   1,-999.0,     -99,  2,20050609,0556,  26.4927,  149.3352,  6076, 5751.400,    1.566,   34.696,2,   34.695,2,  133.370,1,  170.790,2,  136.420,2,   34.740,2,    0.000,2,    2.431,2, -999.000,9, -999.000,9, -999.000,9, 2306.400,2, 2408.000,2
           NA,     P10,     70,   1,-999.0,     -99,  2,20050609,0556,  26.4927,  149.3352,  6076, 6196.200,    1.601,   34.698,2,   34.698,6,  138.280,1,  174.700,2,  133.810,2,   34.480,2,    0.010,2,    2.417,2, -999.000,9, -999.000,9, -999.000,9, 2303.000,2, 2405.700,2