BOTTLE,20214413JOAExport
EXPOCODE,SECT_ID,STNNBR,CASTNO,SAMPNO,BTLNBR,BTLNBR_FLAG_W,DATE,TIME,LATITUDE,LONGITUDE,DEPTH,CTDPRS,CTDTMP,CTDSAL,CTDSAL_FLAG_W,SALNTY,SALNTY_FLAG_W,CTDOXY,CTDOXY_FLAG_W,OXYGEN,OXYGEN_FLAG_W,SILCAT,SILCAT_FLAG_W,NITRAT,NITRAT_FLAG_W,NITRIT,NITRIT_FLAG_W,PHSPHT,PHSPHT_FLAG_W,CFC-11,CFC-11_FLAG_W,CFC-12,CFC-12_FLAG_W,SF6,SF6_FLAG_W,TCARBN,TCARBN_FLAG_W,ALKALI,ALKALI_FLAG_W
,,,,,,,,,,,,,DB,ITS-90,PSS-78,,PSS-78,,UMOL/KG,,UMOL/KG,,UMOL/KG,,UMOL/KG,,UMOL/KG,,UMOL/KG,,PMOL/KG,,PMOL/KG,,FMOL/KG,,UMOL/KG,,UMOL/KG
           NA,     P10,     51,   1,-999.0,     -99,  2,20050616,1104,  13.8413,  149.3185,  5989,    9.900,   28.819,   34.511,2,   34.507,2,  173.870,1,  197.640,6,    0.930,2,    0.040,2,    0.000,2,    0.075,2,    1.452,2,    0.904,2, -999.000,9, 1927.700,2, 2272.300,2
           NA,     P10,     51,   1,-999.0,     -99,  2,20050616,1104,  13.8413,  149.3185,  5989,   49.500,   28.725,   34.494,2,   34.488,2,  174.370,1,  198.450,2,    0.880,2,    0.020,2,    0.000,2,    0.072,2,    1.465,2,    0.912,2, -999.000,9, 1928.600,6, 2270.600,2
           NA,     P10,     51,   1,-999.0,     -99,  2,20050616,1104,  13.8413,  149.3185,  5989,   99.700,   27.338,   34.614,2,   34.656,2,  179.500,1,  204.960,2,    0.880,2,    0.010,2,    0.000,2,    0.066,2,    1.559,2,    0.962,2, -999.000,9, 1936.300,2, 2281.200,6
           NA,     P10,     51,   1,-999.0,     -99,  2,20050616,1104,  13.8413,  149.3185,  5989,  149.700,   25.787,   34.960,2,   34.974,2,  176.650,1,  201.300,2,    0.950,2,    0.020,2,    0.020,2,    0.057,2,    1.650,2,    1.001,2, -999.000,9, 1965.700,2, 2301.900,2
           NA,     P10,     51,   1,-999.0,     -99,  2,20050616,1104,  13.8413,  149.3185,  5989,  199.200,   21.306,   35.044,2,   34.999,2,  150.110,1,  171.270,2,    3.140,2,    3.640,2,    0.020,2,    0.406,2,    2.070,2,    1.213,2, -999.000,9, 2059.200,2, 2304.500,2
           NA,     P10,     51,   1,-999.0,     -99,  2,20050616,1104,  13.8413,  149.3185,  5989,  250.700,   16.212,   34.679,2,   34.656,2,  165.240,1,  192.440,2,    6.310,2,    7.350,2,    0.010,2,    0.561,2,    2.447,6,    1.380,6, -999.000,9, 2059.600,2, 2282.600,2
           NA,     P10,     51,   1,-999.0,     -99,  2,20050616,1104,  13.8413,  149.3185,  5989,  298.800,   13.554,   34.452,2,   34.419,2,  156.720,1,  181.180,2,   13.180,2,   12.890,2,    0.010,2,    0.965,2,    2.560,2,    1.372,2, -999.000,9, 2096.800,2, 2273.600,2
           NA,     P10,     51,   1,-999.0,     -99,  2,20050616,1104,  13.8413,  149.3185,  5989,  398.700,    9.364,   34.324,2,   34.340,2,   82.710,1,   90.960,2,   35.800,2,   28.450,2,    0.000,2,    2.110,2,    1.198,2,    0.607,2, -999.000,9, 2211.200,2, 2289.600,2
           NA,     P10,     51,   1,-999.0,     -99,  2,20050616,1104,  13.8413,  149.3185,  5989,  499.800,    8.203,   34.513,2,   34.513,6,   47.620,1,   54.630,2,   46.720,2,   34.930,2,    0.000,2,    2.548,2,    0.265,2,    0.131,2, -999.000,9, 2257.000,2, 2311.600,2
           NA,     P10,     51,   1,-999.0,     -99,  2,20050616,1104,  13.8413,  149.3185,  5989,  601.700,    7.063,   34.514,2,   34.512,2,   47.220,1,   55.630,2,   56.700,2,   37.050,2,    0.000,2,    2.705,2,    0.105,2,    0.055,2, -999.000,9, 2272.900,2, 2321.700,2
           NA,     P10,     51,   1,-999.0,     -99,  2,20050616,1104,  13.8413,  149.3185,  5989,  701.200,    6.141,   34.504,2,   34.504,2,   55.030,1,   63.840,2,   67.720,2,   37.990,2,    0.000,2,    2.763,2,    0.083,2,    0.041,2, -999.000,9, 2282.700,6, 2332.300,2
           NA,     P10,     51,   1,-999.0,     -99,  2,20050616,1104,  13.8413,  149.3185,  5989,  798.900,    5.561,   34.513,2,   34.513,2,   57.660,1,   67.120,2,   76.360,2,   38.770,2,    0.000,2,    2.816,2,    0.052,6,    0.026,6, -999.000,9, 2292.300,2, 2341.000,6
           NA,     P10,     51,   1,-999.0,     -99,  2,20050616,1104,  13.8413,  149.3185,  5989,  899.000,    5.015,   34.523,2,   34.523,2,   60.910,1,   71.720,2,   85.300,2,   39.030,2,    0.000,2,    2.824,2,    0.042,2,    0.022,2, -999.000,9, 2300.300,2, 2351.000,2
           NA,     P10,     51,   1,-999.0,     -99,  2,20050616,1104,  13.8413,  149.3185,  5989, 1000.500,    4.595,   34.533,2,   34.533,6,   63.720,1,   75.400,2,   93.710,2,   39.200,2,    0.000,2,    2.840,2,    0.032,2,    0.017,2, -999.000,9, 2308.800,2, 2359.600,2
           NA,     P10,     51,   1,-999.0,     -99,  2,20050616,1104,  13.8413,  149.3185,  5989, 1199.200,    3.847,   34.554,2,   34.555,2,   67.550,1,   80.660,6,  109.130,2,   39.490,2,    0.000,2,    2.860,2,    0.014,2,    0.009,2, -999.000,9, 2323.700,2, 2378.100,2
           NA,     P10,     51,   1,-999.0,     -99,  2,20050616,1104,  13.8413,  149.3185,  5989, 1399.100,    3.219,   34.578,2,   34.578,2,   72.060,1,   87.040,2,  122.030,2,   39.670,2,    0.000,2,    2.860,2,    0.004,2,    0.007,2, -999.000,9, 2334.300,2, 2390.000,2
           NA,     P10,     51,   1,-999.0,     -99,  2,20050616,1104,  13.8413,  149.3185,  5989, 1599.400,    2.801,   34.595,2,   34.595,2,   77.020,1,   94.060,2,  130.310,2,   39.420,2,    0.000,2,    2.833,2,    0.004,2,    0.001,2, -999.000,9, 2339.200,2, 2402.700,2
           NA,     P10,     51,   1,-999.0,     -99,  2,20050616,1104,  13.8413,  149.3185,  5989, 1799.500,    2.478,   34.612,2,   34.612,2,   82.590,1,  101.610,2,  136.460,2,   39.160,2,    0.000,2,    2.800,2,    0.003,2,    0.002,2, -999.000,9, 2342.000,2, 2403.900,2
           NA,     P10,     51,   1,-999.0,     -99,  2,20050616,1104,  13.8413,  149.3185,  5989, 2000.200,    2.218,   34.627,2,   34.628,2,   87.510,1,  108.220,2,  140.920,2,   38.850,2,    0.000,2,    2.768,2,    0.002,2,    0.002,2, -999.000,9, 2343.100,2, 2411.100,2
           NA,     P10,     51,   1,-999.0,     -99,  2,20050616,1104,  13.8413,  149.3185,  5989, 2201.100,    2.029,   34.640,2,   34.640,6,   91.810,1,  114.260,2,  144.310,2,   38.550,2,    0.000,2,    2.743,2,    0.001,2,    0.000,2, -999.000,9, 2345.800,2, 2415.000,2
           NA,     P10,     51,   1,-999.0,     -99,  2,20050616,1104,  13.8413,  149.3185,  5989, 2400.600,    1.883,   34.651,2,   34.651,2,   95.850,1,  120.090,2,  146.430,2,   38.220,2,    0.000,2,    2.711,2,   -0.004,2,   -0.002,2, -999.000,9, 2343.600,6, 2415.900,2
           NA,     P10,     51,   1,-999.0,     -99,  2,20050616,1104,  13.8413,  149.3185,  5989, 2600.200,    1.791,   34.658,2,   34.657,2,   98.950,1,  124.510,2,  147.460,2,   37.910,2,    0.000,2,    2.690,2,   -0.005,2,   -0.002,2, -999.000,9, 2342.200,2, 2420.500,6
           NA,     P10,     51,   1,-999.0,     -99,  2,20050616,1104,  13.8413,  149.3185,  5989, 2800.800,    1.705,   34.665,2,   34.664,2,  102.650,1,  130.060,2,  148.190,2,   37.640,2,    0.000,2,    2.659,2, -999.000,9, -999.000,9, -999.000,9, 2339.800,2, 2419.900,2
           NA,     P10,     51,   1,-999.0,     -99,  2,20050616,1104,  13.8413,  149.3185,  5989, 3001.100,    1.641,   34.670,2,   34.669,2,  105.650,1,  134.290,6,  148.700,2,   37.360,2,    0.000,2,    2.644,2, -999.000,9, -999.000,9, -999.000,9, 2338.300,2, 2420.800,2
           NA,     P10,     51,   1,-999.0,     -99,  2,20050616,1104,  13.8413,  149.3185,  5989, 3250.800,    1.586,   34.675,2,   34.674,6,  109.550,1,  140.050,2,  147.720,2,   37.010,2,    0.000,2,    2.597,2, -999.000,9, -999.000,9, -999.000,9, 2334.000,2, 2418.600,2
           NA,     P10,     51,   1,-999.0,     -99,  2,20050616,1104,  13.8413,  149.3185,  5989, 3501.000,    1.539,   34.680,2,   34.679,2,  112.940,1,  145.020,2,  147.370,2,   36.600,2,    0.000,2,    2.573,2, -999.000,9, -999.000,9, -999.000,9, 2331.100,2, 2420.800,2
           NA,     P10,     51,   1,-999.0,     -99,  2,20050616,1104,  13.8413,  149.3185,  5989, 3752.000,    1.501,   34.684,2,   34.684,2,  116.870,1,  150.680,2,  145.530,2,   36.260,2,    0.010,2,    2.546,2, -999.000,9, -999.000,9, -999.000,9, 2325.800,2, 2418.000,2
           NA,     P10,     51,   1,-999.0,     -99,  2,20050616,1104,  13.8413,  149.3185,  5989, 4000.900,    1.476,   34.688,2,   34.687,2,  121.350,1,  156.860,2,  142.470,2,   35.830,2,    0.000,2,    2.516,2, -999.000,9, -999.000,9, -999.000,9, 2318.000,2, 2414.700,2
           NA,     P10,     51,   1,-999.0,     -99,  2,20050616,1104,  13.8413,  149.3185,  5989, 4249.700,    1.458,   34.691,2,   34.690,2,  125.250,1,  162.300,2,  139.780,2,   35.420,2,    0.000,2,    2.491,2, -999.000,9, -999.000,9, -999.000,9, 2313.900,6, 2413.000,2
           NA,     P10,     51,   1,-999.0,     -99,  2,20050616,1104,  13.8413,  149.3185,  5989, 4501.300,    1.453,   34.693,2,   34.693,6,  128.040,1,  166.090,2,  138.150,2,   35.160,2,    0.000,2,    2.467,2, -999.000,9, -999.000,9, -999.000,9, 2310.100,2, 2407.900,6
           NA,     P10,     51,   1,-999.0,     -99,  2,20050616,1104,  13.8413,  149.3185,  5989, 4750.500,    1.454,   34.695,2,   34.695,2,  131.180,1,  170.300,2,  135.770,2,   34.830,2,    0.000,2,    2.445,2, -999.000,9, -999.000,9, -999.000,9, 2306.500,2, 2407.200,2
           NA,     P10,     51,   1,-999.0,     -99,  2,20050616,1104,  13.8413,  149.3185,  5989, 5001.400,    1.461,   34.697,2,   34.697,2,  133.850,1,  173.320,6,  134.040,2,   34.580,2,    0.000,2,    2.429,2, -999.000,9, -999.000,9, -999.000,9, 2303.100,2, 2405.200,2
           NA,     P10,     51,   1,-999.0,     -99,  2,20050616,1104,  13.8413,  149.3185,  5989, 5251.600,    1.479,   34.698,2,   34.698,2,  135.740,1,  175.200,2,  133.060,2,   34.450,2,    0.000,2,    2.417,2, -999.000,9, -999.000,9, -999.000,9, 2300.400,2, 2401.400,2
           NA,     P10,     51,   1,-999.0,     -99,  2,20050616,1104,  13.8413,  149.3185,  5989, 5500.200,    1.506,   34.699,2,   34.698,2,  136.990,1,  175.780,2,  132.770,2,   34.480,2,    0.000,2,    2.415,2, -999.000,9, -999.000,9, -999.000,9, 2299.500,2, 2401.700,2
           NA,     P10,     51,   1,-999.0,     -99,  2,20050616,1104,  13.8413,  149.3185,  5989, 5749.800,    1.537,   34.699,2,   34.699,2,  138.180,1,  176.120,2,  132.630,2,   34.370,2,    0.000,2,    2.410,2, -999.000,9, -999.000,9, -999.000,9, 2299.700,2, 2401.400,2
           NA,     P10,     51,   1,-999.0,     -99,  2,20050616,1104,  13.8413,  149.3185,  5989, 6093.000,    1.580,   34.699,2,   34.699,6,  140.350,1,  176.700,2,  132.370,2,   34.410,2,    0.000,2,    2.412,2, -999.000,9, -999.000,9, -999.000,9, 2299.500,2, 2403.400,2
           NA,     P10,     52,   1,-999.0,     -99,  2,20050616,0357,  14.5072,  149.3350,  5312,   10.200,   28.961,   34.436,2,   34.431,2,  174.270,1,  197.900,6,    0.920,2,    0.030,2,    0.000,2,    0.078,2,    1.467,2,    0.869,2, -999.000,9, -999.000,9, -999.000,9
           NA,     P10,     52,   1,-999.0,     -99,  2,20050616,0357,  14.5072,  149.3350,  5312,   50.800,   28.721,   34.442,2,   34.454,2,  175.300,1,  199.610,2,    0.840,2,    0.030,2,    0.000,2,    0.081,2,    1.482,2,    0.877,2, -999.000,9, -999.000,9, -999.000,9
           NA,     P10,     52,   1,-999.0,     -99,  2,20050616,0357,  14.5072,  149.3350,  5312,  100.800,   27.561,   34.578,2,   34.610,2,  180.420,1,  205.780,2,    0.800,2,    0.020,2,    0.000,2,    0.087,2,    1.565,2,    0.950,2, -999.000,9, -999.000,9, -999.000,9
           NA,     P10,     52,   1,-999.0,     -99,  2,20050616,0357,  14.5072,  149.3350,  5312,  149.500,   25.875,   34.953,2,   34.959,2,  177.090,1,  201.840,2,    0.870,2,    0.010,2,    0.010,2,    0.074,2,    1.698,2,    1.008,2, -999.000,9, -999.000,9, -999.000,9
           NA,     P10,     52,   1,-999.0,     -99,  2,20050616,0357,  14.5072,  149.3350,  5312,  199.800,   21.514,   35.035,2,   35.025,2,  150.030,1,  172.480,2,    2.570,2,    2.570,2,    0.020,2,    0.376,2,    2.151,2,    1.229,2, -999.000,9, -999.000,9, -999.000,9
           NA,     P10,     52,   1,-999.0,     -99,  2,20050616,0357,  14.5072,  149.3350,  5312,  249.500,   17.122,   34.746,2,   34.703,2,  141.760,1,  164.730,2,    6.950,2,    8.820,2,    0.010,2,    0.738,2,    2.470,6,    1.322,6, -999.000,9, -999.000,9, -999.000,9
           NA,     P10,     52,   1,-999.0,     -99,  2,20050616,0357,  14.5072,  149.3350,  5312,  300.100,   13.468,   34.440,2,   34.425,2,  154.620,1,  179.330,2,   12.410,2,   12.620,2,    0.000,2,    0.969,2,    2.786,2,    1.425,2, -999.000,9, -999.000,9, -999.000,9
           NA,     P10,     52,   1,-999.0,     -99,  2,20050616,0357,  14.5072,  149.3350,  5312,  399.800,    9.696,   34.223,2,   34.217,2,  121.540,1,  141.100,2,   30.300,2,   22.910,2,    0.000,2,    1.715,2,    2.110,2,    1.021,2, -999.000,9, -999.000,9, -999.000,9
           NA,     P10,     52,   1,-999.0,     -99,  2,20050616,0357,  14.5072,  149.3350,  5312,  500.600,    7.046,   34.210,2,   34.227,6,   72.110,1,   80.870,2,   56.860,2,   33.320,2,    0.000,2,    2.473,2,    0.789,2,    0.362,2, -999.000,9, -999.000,9, -999.000,9
           NA,     P10,     52,   1,-999.0,     -99,  2,20050616,0357,  14.5072,  149.3350,  5312,  600.100,    6.061,   34.368,2,   34.373,2,   47.640,1,   54.800,2,   73.080,2,   37.960,2,    0.000,2,    2.804,2,    0.147,2,    0.049,2, -999.000,9, -999.000,9, -999.000,9
           NA,     P10,     52,   1,-999.0,     -99,  2,20050616,0357,  14.5072,  149.3350,  5312,  699.800,    5.590,   34.467,2,   34.469,2,   54.340,1,   63.210,2,   78.720,2,   38.470,2,    0.000,2,    2.823,2,    0.069,2,    0.025,2, -999.000,9, -999.000,9, -999.000,9
           NA,     P10,     52,   1,-999.0,     -99,  2,20050616,0357,  14.5072,  149.3350,  5312,  800.700,    5.107,   34.494,2,   34.494,2,   56.820,1,   66.660,2,   86.060,2,   39.070,2,    0.000,2,    2.852,2,    0.041,6,    0.013,6, -999.000,9, -999.000,9, -999.000,9
           NA,     P10,     52,   1,-999.0,     -99,  2,20050616,0357,  14.5072,  149.3350,  5312,  900.600,    4.680,   34.519,2,   34.518,2,   59.710,1, -999.000,4,   93.330,2,   39.400,2,    0.000,2,    2.866,2,    0.025,2,    0.008,2, -999.000,9, -999.000,9, -999.000,9
           NA,     P10,     52,   1,-999.0,     -99,  2,20050616,0357,  14.5072,  149.3350,  5312,  999.600,    4.230,   34.536,2,   34.536,6,   62.730,1, -999.000,4,  102.020,2,   39.710,2,    0.000,2,    2.883,2,    0.018,2,    0.006,2, -999.000,9, -999.000,9, -999.000,9
           NA,     P10,     52,   1,-999.0,     -99,  2,20050616,0357,  14.5072,  149.3350,  5312, 1199.700,    3.582,   34.558,2,   34.558,2,   67.810,1,   81.120,6,  115.140,2,   39.760,2,    0.000,2,    2.879,2,    0.013,2,    0.004,2, -999.000,9, -999.000,9, -999.000,9
           NA,     P10,     52,   1,-999.0,     -99,  2,20050616,0357,  14.5072,  149.3350,  5312, 1400.300,    3.047,   34.584,2,   34.584,2,   74.580,1,   90.040,2,  125.040,2,   39.580,2,    0.000,2,    2.850,2,    0.006,2,    0.002,2, -999.000,9, -999.000,9, -999.000,9
           NA,     P10,     52,   1,-999.0,     -99,  2,20050616,0357,  14.5072,  149.3350,  5312, 1601.000,    2.613,   34.604,2,   34.604,2,   80.310,1,   98.010,2,  132.940,2,   39.120,2,    0.000,2,    2.810,2,   -0.003,2,    0.001,2, -999.000,9, -999.000,9, -999.000,9
           NA,     P10,     52,   1,-999.0,     -99,  2,20050616,0357,  14.5072,  149.3350,  5312, 1802.000,    2.288,   34.619,2,   34.620,2,   85.340,1,  104.810,2,  139.520,2,   38.990,2,    0.000,2,    2.789,2,   -0.001,2,    0.000,2, -999.000,9, -999.000,9, -999.000,9
           NA,     P10,     52,   1,-999.0,     -99,  2,20050616,0357,  14.5072,  149.3350,  5312, 2001.600,    2.091,   34.634,2,   34.634,2,   90.500,1,  111.850,2,  142.900,2,   38.720,2,    0.000,2,    2.763,2,    0.002,2,    0.000,2, -999.000,9, -999.000,9, -999.000,9
           NA,     P10,     52,   1,-999.0,     -99,  2,20050616,0357,  14.5072,  149.3350,  5312, 2200.100,    1.991,   34.641,2,   34.642,6,   92.990,1,  115.640,2,  144.610,2,   38.510,2,    0.000,2,    2.743,2,    0.001,2,    0.000,2, -999.000,9, -999.000,9, -999.000,9
           NA,     P10,     52,   1,-999.0,     -99,  2,20050616,0357,  14.5072,  149.3350,  5312, 2399.900,    1.838,   34.652,2,   34.652,2,   97.250,1,  121.760,2,  146.810,2,   38.100,2,    0.000,2,    2.716,2,    0.001,2,    0.000,2, -999.000,9, -999.000,9, -999.000,9
           NA,     P10,     52,   1,-999.0,     -99,  2,20050616,0357,  14.5072,  149.3350,  5312, 2599.300,    1.742,   34.660,2,   34.659,2,  100.600,1,  126.530,2,  148.140,2,   37.870,2,    0.000,2,    2.686,2,    0.001,2,    0.000,2, -999.000,9, -999.000,9, -999.000,9
           NA,     P10,     52,   1,-999.0,     -99,  2,20050616,0357,  14.5072,  149.3350,  5312, 2798.900,    1.682,   34.665,2,   34.665,2,  103.550,1,  130.640,2,  148.600,2,   37.680,2,    0.000,2,    2.667,2,   -0.003,2,    0.000,2, -999.000,9, -999.000,9, -999.000,9
           NA,     P10,     52,   1,-999.0,     -99,  2,20050616,0357,  14.5072,  149.3350,  5312, 3002.300,    1.603,   34.672,2,   34.671,2,  106.430,1,  134.980,6,  149.970,2,   37.410,2,    0.000,2,    2.650,2,   -0.003,2,    0.000,2, -999.000,9, -999.000,9, -999.000,9
           NA,     P10,     52,   1,-999.0,     -99,  2,20050616,0357,  14.5072,  149.3350,  5312, 3250.600,    1.561,   34.676,2,   34.676,6,  109.850,1,  139.810,2,  148.820,2,   36.970,2,    0.000,2,    2.606,2,   -0.002,2,    0.000,2, -999.000,9, -999.000,9, -999.000,9
           NA,     P10,     52,   1,-999.0,     -99,  2,20050616,0357,  14.5072,  149.3350,  5312, 3500.000,    1.533,   34.680,2,   34.680,2,  113.030,1,  144.460,2,  148.050,2,   36.670,2,    0.000,2,    2.589,2,   -0.001,2,    0.000,2, -999.000,9, -999.000,9, -999.000,9
           NA,     P10,     52,   1,-999.0,     -99,  2,20050616,0357,  14.5072,  149.3350,  5312, 3750.100,    1.504,   34.684,2,   34.683,2,  116.910,1,  149.970,2,  146.050,2,   36.390,2,    0.000,2,    2.562,2,   -0.006,2,    0.000,2, -999.000,9, -999.000,9, -999.000,9
           NA,     P10,     52,   1,-999.0,     -99,  2,20050616,0357,  14.5072,  149.3350,  5312, 4000.200,    1.472,   34.688,2,   34.687,2,  121.740,1,  156.330,2,  143.200,2,   35.920,2,    0.000,2,    2.530,2,    0.000,2,    0.000,2, -999.000,9, -999.000,9, -999.000,9
           NA,     P10,     52,   1,-999.0,     -99,  2,20050616,0357,  14.5072,  149.3350,  5312, 4249.800,    1.457,   34.691,2,   34.690,2,  125.770,1,  161.520,2,  140.820,2,   35.550,2,    0.000,2,    2.499,2,    0.002,2,    0.000,2, -999.000,9, -999.000,9, -999.000,9
           NA,     P10,     52,   1,-999.0,     -99,  2,20050616,0357,  14.5072,  149.3350,  5312, 4499.800,    1.437,   34.694,2,   34.694,6,  131.120,1,  168.390,2,  136.490,2,   34.960,2,    0.000,2,    2.459,2,   -0.003,2,    0.000,2, -999.000,9, -999.000,9, -999.000,9
           NA,     P10,     52,   1,-999.0,     -99,  2,20050616,0357,  14.5072,  149.3350,  5312, 4749.400,    1.442,   34.696,2,   34.696,2,  133.960,1,  171.380,2,  135.200,2,   34.760,2,    0.000,2,    2.445,2,   -0.001,2,    0.000,2, -999.000,9, -999.000,9, -999.000,9
           NA,     P10,     52,   1,-999.0,     -99,  2,20050616,0357,  14.5072,  149.3350,  5312, 5001.300,    1.457,   34.697,2,   34.697,2,  136.370,1,  173.640,6,  133.650,2,   34.600,2,    0.000,2,    2.434,2,    0.002,2,    0.000,2, -999.000,9, -999.000,9, -999.000,9
           NA,     P10,     52,   1,-999.0,     -99,  2,20050616,0357,  14.5072,  149.3350,  5312, 5248.500,    1.474,   34.698,2,   34.698,2,  138.760,1,  175.530,2,  132.980,2,   34.480,2,    0.000,2,    2.427,2,    0.005,2,    0.000,2, -999.000,9, -999.000,9, -999.000,9
           NA,     P10,     52,   1,-999.0,     -99,  2,20050616,0357,  14.5072,  149.3350,  5312, 5387.900,    1.489,   34.699,2,   34.698,6,  139.830,1,  175.850,2,  132.710,2,   34.460,2,    0.000,2,    2.419,2,    0.006,2,    0.000,2, -999.000,9, -999.000,9, -999.000,9
           NA,     P10,     52,   1,-999.0,     -99,  2,20050616,0357,  14.5072,  149.3350,  5312, 5388.000,    1.489,   34.699,2,   34.698,2,  139.830,1,  175.920,2,  132.520,2,   34.550,2,    0.000,2,    2.428,2,    0.001,2,    0.000,2, -999.000,9, -999.000,9, -999.000,9