BOTTLE,20214413JOAExport
EXPOCODE,SECT_ID,STNNBR,CASTNO,SAMPNO,BTLNBR,BTLNBR_FLAG_W,DATE,TIME,LATITUDE,LONGITUDE,DEPTH,CTDPRS,CTDTMP,CTDSAL,CTDSAL_FLAG_W,SALNTY,SALNTY_FLAG_W,CTDOXY,CTDOXY_FLAG_W,OXYGEN,OXYGEN_FLAG_W,SILCAT,SILCAT_FLAG_W,NITRAT,NITRAT_FLAG_W,NITRIT,NITRIT_FLAG_W,PHSPHT,PHSPHT_FLAG_W,CFC-11,CFC-11_FLAG_W,CFC-12,CFC-12_FLAG_W,SF6,SF6_FLAG_W,TCARBN,TCARBN_FLAG_W,ALKALI,ALKALI_FLAG_W
,,,,,,,,,,,,,DB,ITS-90,PSS-78,,PSS-78,,UMOL/KG,,UMOL/KG,,UMOL/KG,,UMOL/KG,,UMOL/KG,,UMOL/KG,,PMOL/KG,,PMOL/KG,,FMOL/KG,,UMOL/KG,,UMOL/KG
           NA,     P10,     27,   1,-999.0,     -99,  2,20050622,0641,   2.2538,  146.7868,  4619,   10.500,   29.687,   34.047,2,   34.063,2,  199.240,1,  195.490,6,    0.830,2,    0.020,2,    0.000,2,    0.105,2,    1.394,2,    0.881,2, -999.000,9, 1892.500,2, 2244.200,2
           NA,     P10,     27,   1,-999.0,     -99,  2,20050622,0641,   2.2538,  146.7868,  4619,   50.100,   29.001,   34.698,2,   34.737,2,  194.550,1,  188.610,2,    1.080,2,    0.050,2,    0.010,2,    0.192,2,    1.477,2,    0.911,2, -999.000,9, 1953.800,6, 2287.800,2
           NA,     P10,     27,   1,-999.0,     -99,  2,20050622,0641,   2.2538,  146.7868,  4619,  100.600,   26.986,   35.094,2,   35.100,2,  154.670,1,  150.180,2,    2.360,2,    4.650,2,    0.720,2,    0.523,2,    1.575,2,    0.919,2, -999.000,9, 2018.700,2, 2309.900,6
           NA,     P10,     27,   1,-999.0,     -99,  2,20050622,0641,   2.2538,  146.7868,  4619,  150.500,   23.532,   34.941,2,   34.944,2,  135.660,1,  135.420,2,    5.960,2,    8.920,2,    0.020,2,    0.699,2,    1.725,2,    1.000,2, -999.000,9, 2052.300,2, 2301.700,2
           NA,     P10,     27,   1,-999.0,     -99,  2,20050622,0641,   2.2538,  146.7868,  4619,  199.500,   18.939,   34.897,2,   34.874,2,  141.340,1,  140.150,2,    9.730,2,   11.530,2,    0.010,2,    0.879,2,    1.916,2,    1.058,2, -999.000,9, 2084.900,2, 2301.700,2
           NA,     P10,     27,   1,-999.0,     -99,  2,20050622,0641,   2.2538,  146.7868,  4619,  250.100,   12.297,   34.565,2,   34.570,2,  128.990,1,  127.810,2,   25.090,2,   20.900,2,    0.000,2,    1.530,2,    1.586,6,    0.813,6, -999.000,9, 2156.300,2, 2295.500,2
           NA,     P10,     27,   1,-999.0,     -99,  2,20050622,0641,   2.2538,  146.7868,  4619,  301.800,    9.869,   34.489,2,   34.500,2,  112.820,1,  111.590,2,   35.590,2,   26.430,2,    0.000,2,    1.921,2,    1.087,2,    0.555,2, -999.000,9, 2193.400,2, 2303.100,2
           NA,     P10,     27,   1,-999.0,     -99,  2,20050622,0641,   2.2538,  146.7868,  4619,  400.800,    8.685,   34.633,2,   34.630,2,  113.840,1,  113.780,2,   31.060,2,   29.360,2,    0.000,2,    2.084,2,    0.514,2,    0.240,2, -999.000,9, 2208.400,2, 2310.700,2
           NA,     P10,     27,   1,-999.0,     -99,  2,20050622,0641,   2.2538,  146.7868,  4619,  501.700,    7.845,   34.589,2,   34.588,6,  111.730,1,  111.480,2,   35.630,2,   31.250,2,    0.000,2,    2.215,2,    0.354,2,    0.170,2, -999.000,9, 2217.700,2, 2311.800,2
           NA,     P10,     27,   1,-999.0,     -99,  2,20050622,0641,   2.2538,  146.7868,  4619,  600.700,    7.037,   34.550,2,   34.550,2,  123.560,1,  125.210,2,   39.840,2,   31.510,2,    0.000,2,    2.240,2,    0.314,2,    0.155,2, -999.000,9, 2221.000,2, 2316.000,2
           NA,     P10,     27,   1,-999.0,     -99,  2,20050622,0641,   2.2538,  146.7868,  4619,  702.300,    6.429,   34.539,2,   34.538,2,  102.730,1,  104.530,2,   51.830,2,   34.520,2,    0.000,2,    2.472,2, -999.000,5, -999.000,5, -999.000,9, 2246.600,6, 2329.100,2
           NA,     P10,     27,   1,-999.0,     -99,  2,20050622,0641,   2.2538,  146.7868,  4619,  800.200,    5.660,   34.537,2,   34.537,2,   95.460,1,   94.790,2,   66.160,2,   36.590,2,    0.000,2,    2.626,2,    0.076,6,    0.028,6, -999.000,9, 2269.100,2, 2342.400,6
           NA,     P10,     27,   1,-999.0,     -99,  2,20050622,0641,   2.2538,  146.7868,  4619,  900.100,    5.072,   34.545,2,   34.545,2,   92.320,1,   92.120,2,   76.580,2,   37.550,2,    0.000,2,    2.694,2,    0.034,2,    0.014,2, -999.000,9, 2281.900,2, 2352.600,2
           NA,     P10,     27,   1,-999.0,     -99,  2,20050622,0641,   2.2538,  146.7868,  4619, 1000.200,    4.404,   34.558,2,   34.559,6,   89.830,1,   90.910,2,   90.700,2,   38.430,2,    0.000,2,    2.763,2,    0.013,2,    0.009,2, -999.000,9, 2299.100,2, 2365.200,2
           NA,     P10,     27,   1,-999.0,     -99,  2,20050622,0641,   2.2538,  146.7868,  4619, 1198.700,    3.753,   34.576,2,   34.577,2,   91.000,1,   92.390,6,  105.030,2,   38.980,2,    0.000,2,    2.802,2,    0.006,2,    0.000,2, -999.000,9, 2313.900,2, 2385.600,2
           NA,     P10,     27,   1,-999.0,     -99,  2,20050622,0641,   2.2538,  146.7868,  4619, 1401.000,    3.143,   34.597,2,   34.598,2,  101.450,1,  103.430,2,  115.750,2,   38.550,2,    0.000,2,    2.762,2,    0.004,2,    0.005,2, -999.000,9, 2317.300,2, 2393.200,2
           NA,     P10,     27,   1,-999.0,     -99,  2,20050622,0641,   2.2538,  146.7868,  4619, 1598.900,    2.747,   34.612,2,   34.613,2,  104.920,1,  107.520,2,  124.520,2,   38.550,2,    0.000,2,    2.748,2,    0.002,2,    0.000,2, -999.000,9, 2331.000,2, 2402.800,2
           NA,     P10,     27,   1,-999.0,     -99,  2,20050622,0641,   2.2538,  146.7868,  4619, 1801.800,    2.439,   34.626,2,   34.627,6,  106.590,1,  109.420,2,  132.610,2,   38.630,2,    0.000,2,    2.753,2, -999.000,9, -999.000,9, -999.000,9, 2335.600,2, 2411.500,2
           NA,     P10,     27,   1,-999.0,     -99,  2,20050622,0641,   2.2538,  146.7868,  4619, 2000.200,    2.191,   34.639,2,   34.640,2,  112.430,1,  115.490,2,  137.410,2,   38.340,2,    0.000,2,    2.717,2,    0.000,2,    0.000,2, -999.000,9, 2337.700,2, 2416.500,2
           NA,     P10,     27,   1,-999.0,     -99,  2,20050622,0641,   2.2538,  146.7868,  4619, 2200.300,    2.033,   34.648,2,   34.649,2,  117.980,1,  121.580,2,  139.500,2,   38.040,2,    0.000,2,    2.692,2, -999.000,9, -999.000,9, -999.000,9, 2335.500,2, 2417.200,2
           NA,     P10,     27,   1,-999.0,     -99,  2,20050622,0641,   2.2538,  146.7868,  4619, 2400.000,    1.892,   34.655,2, -999.000,3,  122.840,1,  126.630,2,  141.740,2,   37.690,2,    0.000,2,    2.662,2,    0.000,2,    0.000,2, -999.000,9, 2333.600,6, 2421.800,2
           NA,     P10,     27,   1,-999.0,     -99,  2,20050622,0641,   2.2538,  146.7868,  4619, 2600.600,    1.761,   34.663,2,   34.663,2,  128.020,1,  132.190,2,  143.330,2,   37.360,2,    0.000,2,    2.634,2, -999.000,9, -999.000,9, -999.000,9, 2335.500,2, 2422.900,6
           NA,     P10,     27,   1,-999.0,     -99,  2,20050622,0641,   2.2538,  146.7868,  4619, 2800.000,    1.679,   34.668,2,   34.668,6,  133.300,1,  137.720,2,  142.930,2,   36.950,2,    0.000,2,    2.606,2,   -0.005,2,    0.000,2, -999.000,9, 2332.300,2, 2421.400,2
           NA,     P10,     27,   1,-999.0,     -99,  2,20050622,0641,   2.2538,  146.7868,  4619, 2999.800,    1.627,   34.672,2,   34.672,2,  136.880,1,  141.270,6,  143.170,2,   36.690,2,    0.000,2,    2.582,2, -999.000,9, -999.000,9, -999.000,9, 2329.600,2, 2422.000,2
           NA,     P10,     27,   1,-999.0,     -99,  2,20050622,0641,   2.2538,  146.7868,  4619, 3250.700,    1.595,   34.675,2,   34.676,2,  139.970,1,  144.260,2,  143.200,2,   36.540,2,    0.000,2,    2.566,2, -999.000,9, -999.000,9, -999.000,9, 2331.400,2, 2425.500,2
           NA,     P10,     27,   1,-999.0,     -99,  2,20050622,0641,   2.2538,  146.7868,  4619, 3500.400,    1.576,   34.679,2,   34.679,2,  142.660,1,  146.700,2,  143.200,2,   36.380,2,    0.000,2,    2.551,2, -999.000,9, -999.000,9, -999.000,9, 2328.400,2, 2425.600,2
           NA,     P10,     27,   1,-999.0,     -99,  2,20050622,0641,   2.2538,  146.7868,  4619, 3749.600,    1.549,   34.683,2,   34.683,6,  146.740,1,  150.160,2,  142.720,2,   36.170,2,    0.000,2,    2.534,2, -999.000,9, -999.000,9, -999.000,9, 2327.200,2, 2427.000,2
           NA,     P10,     27,   1,-999.0,     -99,  2,20050622,0641,   2.2538,  146.7868,  4619, 3999.700,    1.523,   34.686,2,   34.685,2,  151.820,1,  154.530,2,  141.620,2,   35.900,2,    0.000,2,    2.512,2, -999.000,9, -999.000,9, -999.000,9, 2322.100,2, 2425.300,2
           NA,     P10,     27,   1,-999.0,     -99,  2,20050622,0641,   2.2538,  146.7868,  4619, 4250.600,    1.532,   34.688,2,   34.687,2,  153.740,1,  155.310,2,  141.880,2,   35.880,2,    0.000,2,    2.510,2, -999.000,9, -999.000,9, -999.000,9, 2325.000,6, 2425.700,2
           NA,     P10,     27,   1,-999.0,     -99,  2,20050622,0641,   2.2538,  146.7868,  4619, 4499.600,    1.557,   34.688,2,   34.687,2,  155.360,1,  155.500,2,  141.830,2,   35.850,2,    0.000,2,    2.509,2, -999.000,9, -999.000,9, -999.000,9, 2322.200,2, 2424.000,2
           NA,     P10,     27,   1,-999.0,     -99,  2,20050622,0641,   2.2538,  146.7868,  4619, 4681.700,    1.579,   34.688,2,   34.687,2,  156.550,1,  155.490,9,  141.880,2,   35.840,2,    0.000,2,    2.510,2, -999.000,9, -999.000,9, -999.000,9, 2323.900,2, 2427.100,6
           NA,     P10,     27,   1,-999.0,     -99,  2,20050622,0641,   2.2538,  146.7868,  4619, 4681.700,    1.579,   34.688,2,   34.688,6,  156.550,1,  155.500,6,  141.720,2,   35.910,2,    0.000,2,    2.511,2,    0.003,2,    0.000,2, -999.000,9, 2323.600,2, 2429.400,2
           NA,     P10,     28,   1,-999.0,     -99,  2,20050622,0108,   2.4988,  146.8680,  4452,    9.300,   29.698,   34.063,2,   34.064,2,  171.320,1,  195.170,6,    0.980,2,    0.040,2,    0.000,2,    0.101,2,    1.379,2,    0.864,2, -999.000,9, -999.000,9, -999.000,9
           NA,     P10,     28,   1,-999.0,     -99,  2,20050622,0108,   2.4988,  146.8680,  4452,   50.100,   29.680,   34.092,2,   34.119,2,  171.690,1,  195.320,2,    0.940,2,    0.020,2,    0.000,2,    0.093,2,    1.389,2,    0.878,2, -999.000,9, -999.000,9, -999.000,9
           NA,     P10,     28,   1,-999.0,     -99,  2,20050622,0108,   2.4988,  146.8680,  4452,   99.700,   26.156,   34.959,2,   34.973,2,  127.840,1,  143.320,2,    2.910,2,    6.090,2,    0.380,2,    0.552,2,    1.571,2,    0.945,2, -999.000,9, -999.000,9, -999.000,9
           NA,     P10,     28,   1,-999.0,     -99,  2,20050622,0108,   2.4988,  146.8680,  4452,  149.500,   22.111,   34.961,2,   34.971,2,  120.630,1,  138.390,2,    6.450,2,    9.020,2,    0.010,2,    0.717,2,    1.724,2,    1.013,2, -999.000,9, -999.000,9, -999.000,9
           NA,     P10,     28,   1,-999.0,     -99,  2,20050622,0108,   2.4988,  146.8680,  4452,  199.900,   17.734,   34.812,2,   34.769,2,  122.400,1,  141.510,2,   12.190,2,   12.780,2,    0.010,2,    0.958,2,    1.867,2,    1.043,2, -999.000,9, -999.000,9, -999.000,9
           NA,     P10,     28,   1,-999.0,     -99,  3,20050622,0108,   2.4988,  146.8680,  4452,  248.800,   11.758,   34.535,2,   34.541,2,   91.420,1,  109.290,2,   26.960,2,   23.430,2,    0.000,2,    1.710,2,    1.352,6,    0.717,6, -999.000,9, -999.000,9, -999.000,9
           NA,     P10,     28,   1,-999.0,     -99,  2,20050622,0108,   2.4988,  146.8680,  4452,  300.300,    9.627,   34.534,2,   34.552,2,   86.650,1,  103.920,2,   34.970,2,   27.900,2,    0.000,2,    2.014,2,    0.856,2,    0.445,2, -999.000,9, -999.000,9, -999.000,9
           NA,     P10,     28,   1,-999.0,     -99,  2,20050622,0108,   2.4988,  146.8680,  4452,  400.100,    8.599,   34.631,2,   34.629,2,   98.970,1,  118.510,2,   30.060,2,   29.110,2,    0.000,2,    2.063,2,    0.533,2,    0.278,2, -999.000,9, -999.000,9, -999.000,9
           NA,     P10,     28,   1,-999.0,     -99,  2,20050622,0108,   2.4988,  146.8680,  4452,  501.400,    7.763,   34.585,2,   34.582,6,   98.610,1,  115.260,2,   35.820,2,   31.090,2,    0.000,2,    2.201,2,    0.373,2,    0.196,2, -999.000,9, -999.000,9, -999.000,9
           NA,     P10,     28,   1,-999.0,     -99,  2,20050622,0108,   2.4988,  146.8680,  4452,  599.300,    6.883,   34.545,2,   34.544,2,  107.100,1,  126.750,2,   41.020,2,   31.640,2,    0.000,2,    2.247,2,    0.310,2,    0.162,2, -999.000,9, -999.000,9, -999.000,9
           NA,     P10,     28,   1,-999.0,     -99,  2,20050622,0108,   2.4988,  146.8680,  4452,  698.100,    6.029,   34.536,2,   34.536,2,   81.430,1,   95.800,2,   59.160,2,   35.890,2,    0.000,2,    2.569,2,    0.098,2,    0.052,2, -999.000,9, -999.000,9, -999.000,9
           NA,     P10,     28,   1,-999.0,     -99,  2,20050622,0108,   2.4988,  146.8680,  4452,  799.100,    5.288,   34.541,2,   34.541,2,   73.370,1,   86.480,2,   72.430,2,   37.980,2,    0.000,2,    2.722,2,    0.031,6,    0.019,6, -999.000,9, -999.000,9, -999.000,9
           NA,     P10,     28,   1,-999.0,     -99,  2,20050622,0108,   2.4988,  146.8680,  4452,  898.900,    4.731,   34.550,2,   34.551,2,   75.750,1,   90.250,2,   83.130,2,   38.140,2,    0.000,2,    2.730,2,    0.019,2,    0.008,2, -999.000,9, -999.000,9, -999.000,9
           NA,     P10,     28,   1,-999.0,     -99,  2,20050622,0108,   2.4988,  146.8680,  4452, 1002.000,    4.344,   34.560,2,   34.560,6,   77.720,1,   92.720,2,   91.230,2,   38.300,2,    0.000,2,    2.755,2,    0.017,2,    0.006,2, -999.000,9, -999.000,9, -999.000,9
           NA,     P10,     28,   1,-999.0,     -99,  2,20050622,0108,   2.4988,  146.8680,  4452, 1199.900,    3.594,   34.581,2,   34.582,2,   78.710,1,   94.370,6,  107.450,2,   38.930,2,    0.000,2,    2.796,2,    0.004,2,    0.003,2, -999.000,9, -999.000,9, -999.000,9
           NA,     P10,     28,   1,-999.0,     -99,  2,20050622,0108,   2.4988,  146.8680,  4452, 1400.600,    3.077,   34.598,2,   34.599,2,   84.260,1,  101.990,2,  117.860,2,   38.680,2,    0.000,2,    2.773,2,   -0.002,2,    0.000,2, -999.000,9, -999.000,9, -999.000,9
           NA,     P10,     28,   1,-999.0,     -99,  2,20050622,0108,   2.4988,  146.8680,  4452, 1599.800,    2.682,   34.615,2,   34.616,2,   85.810,1,  104.530,2,  127.380,2,   38.890,2,    0.000,2,    2.774,2,   -0.004,2,   -0.004,2, -999.000,9, -999.000,9, -999.000,9
           NA,     P10,     28,   1,-999.0,     -99,  2,20050622,0108,   2.4988,  146.8680,  4452, 1799.900,    2.417,   34.627,2,   34.627,6,   91.620,1,  112.410,2,  131.670,2,   38.350,2,    0.000,2,    2.727,2,   -0.002,2,   -0.001,2, -999.000,9, -999.000,9, -999.000,9
           NA,     P10,     28,   1,-999.0,     -99,  2,20050622,0108,   2.4988,  146.8680,  4452, 2000.800,    2.142,   34.641,2,   34.642,2,   96.370,1,  118.940,2,  136.890,2,   38.000,2,    0.000,2,    2.696,2,    0.001,2,    0.001,2, -999.000,9, -999.000,9, -999.000,9
           NA,     P10,     28,   1,-999.0,     -99,  2,20050622,0108,   2.4988,  146.8680,  4452, 2198.900,    2.019,   34.648,2,   34.649,2,   98.860,1,  122.450,2,  139.260,2,   37.820,2,    0.000,2,    2.679,2,    0.001,2,   -0.001,2, -999.000,9, -999.000,9, -999.000,9
           NA,     P10,     28,   1,-999.0,     -99,  2,20050622,0108,   2.4988,  146.8680,  4452, 2400.100,    1.840,   34.657,2,   34.659,2,  103.420,1,  128.840,2,  142.130,2,   37.480,2,    0.000,2,    2.646,2,   -0.001,2,   -0.001,2, -999.000,9, -999.000,9, -999.000,9
           NA,     P10,     28,   1,-999.0,     -99,  2,20050622,0108,   2.4988,  146.8680,  4452, 2600.300,    1.766,   34.663,2,   34.664,2,  105.070,1,  131.190,2,  143.630,2,   37.370,2,    0.000,2,    2.638,2,   -0.001,2,    0.000,2, -999.000,9, -999.000,9, -999.000,9
           NA,     P10,     28,   1,-999.0,     -99,  2,20050622,0108,   2.4988,  146.8680,  4452, 2801.300,    1.676,   34.668,2,   34.669,6,  109.700,1,  137.500,2,  143.430,2,   36.960,2,    0.000,2,    2.597,2, -999.000,9, -999.000,9, -999.000,9, -999.000,9, -999.000,9
           NA,     P10,     28,   1,-999.0,     -99,  2,20050622,0108,   2.4988,  146.8680,  4452, 3000.800,    1.627,   34.672,2,   34.674,2,  112.430,1,  141.230,6,  143.350,2,   36.640,2,    0.000,2,    2.582,2,    0.001,2,    0.001,2, -999.000,9, -999.000,9, -999.000,9
           NA,     P10,     28,   1,-999.0,     -99,  2,20050622,0108,   2.4988,  146.8680,  4452, 3249.100,    1.602,   34.675,2,   34.675,2,  114.340,1,  143.760,2,  143.310,2,   36.530,2,    0.000,2,    2.567,2, -999.000,9, -999.000,9, -999.000,9, -999.000,9, -999.000,9
           NA,     P10,     28,   1,-999.0,     -99,  2,20050622,0108,   2.4988,  146.8680,  4452, 3501.000,    1.580,   34.678,2,   34.679,2,  116.410,1,  146.430,2,  143.250,2,   36.330,2,    0.000,2,    2.552,2,   -0.002,2,    0.002,2, -999.000,9, -999.000,9, -999.000,9
           NA,     P10,     28,   1,-999.0,     -99,  2,20050622,0108,   2.4988,  146.8680,  4452, 3748.400,    1.557,   34.681,2,   34.682,6,  119.090,1,  149.460,2,  143.010,2,   36.140,2,    0.000,2,    2.539,2, -999.000,9, -999.000,9, -999.000,9, -999.000,9, -999.000,9
           NA,     P10,     28,   1,-999.0,     -99,  2,20050622,0108,   2.4988,  146.8680,  4452, 3999.100,    1.533,   34.685,2,   34.685,2,  122.640,1,  153.440,2,  142.260,2,   35.920,2,    0.000,2,    2.522,2,    0.001,2,    0.000,2, -999.000,9, -999.000,9, -999.000,9
           NA,     P10,     28,   1,-999.0,     -99,  2,20050622,0108,   2.4988,  146.8680,  4452, 4249.800,    1.531,   34.687,2,   34.688,2,  124.690,1,  155.290,2,  141.840,2,   35.780,2,    0.000,2,    2.509,2, -999.000,9, -999.000,9, -999.000,9, -999.000,9, -999.000,9
           NA,     P10,     28,   1,-999.0,     -99,  2,20050622,0108,   2.4988,  146.8680,  4452, 4504.200,    1.559,   34.687,2, -999.000,3,  125.730,1,  155.370,2,  142.050,2,   35.830,2,    0.000,2,    2.510,2, -999.000,9, -999.000,9, -999.000,9, -999.000,9, -999.000,9
           NA,     P10,     28,   1,-999.0,     -99,  2,20050622,0108,   2.4988,  146.8680,  4452, 4504.600,    1.559,   34.687,2,   34.688,6,  125.760,1,  155.490,6,  142.040,2,   35.820,2,    0.000,2,    2.514,2,    0.004,2,    0.001,2, -999.000,9, -999.000,9, -999.000,9