BOTTLE,20214413JOAExport
EXPOCODE,SECT_ID,STNNBR,CASTNO,SAMPNO,BTLNBR,BTLNBR_FLAG_W,DATE,TIME,LATITUDE,LONGITUDE,DEPTH,CTDPRS,CTDTMP,CTDSAL,CTDSAL_FLAG_W,SALNTY,SALNTY_FLAG_W,CTDOXY,CTDOXY_FLAG_W,OXYGEN,OXYGEN_FLAG_W,SILCAT,SILCAT_FLAG_W,NITRAT,NITRAT_FLAG_W,NITRIT,NITRIT_FLAG_W,PHSPHT,PHSPHT_FLAG_W,CFC-11,CFC-11_FLAG_W,CFC-12,CFC-12_FLAG_W,SF6,SF6_FLAG_W,TCARBN,TCARBN_FLAG_W,ALKALI,ALKALI_FLAG_W
,,,,,,,,,,,,,DB,ITS-90,PSS-78,,PSS-78,,UMOL/KG,,UMOL/KG,,UMOL/KG,,UMOL/KG,,UMOL/KG,,UMOL/KG,,PMOL/KG,,PMOL/KG,,FMOL/KG,,UMOL/KG,,UMOL/KG
           NA,    P10N,     96,   1,-999.0,     -99,  2,20050607,1828,  29.8380,  149.3275,  6145,   10.600,   23.150,   34.815,2, -999.000,4,  187.810,1,  221.300,6,    1.620,2,    0.000,2,    0.000,2,    0.040,2,    1.919,2,    1.141,2, -999.000,9, -999.000,9, -999.000,9
           NA,    P10N,     96,   1,-999.0,     -99,  2,20050607,1828,  29.8380,  149.3275,  6145,   50.800,   19.794,   34.892,2,   34.902,2,  200.320,1,  233.040,2,    1.790,2,   -0.020,2,    0.000,2,    0.043,2,    2.133,2,    1.259,2, -999.000,9, -999.000,9, -999.000,9
           NA,    P10N,     96,   1,-999.0,     -99,  2,20050607,1828,  29.8380,  149.3275,  6145,  100.200,   18.284,   34.837,2,   34.835,2,  192.630,1,  225.400,2,    2.280,2,    1.200,2,    0.200,2,    0.151,2,    2.236,2,    1.312,2, -999.000,9, -999.000,9, -999.000,9
           NA,    P10N,     96,   1,-999.0,     -99,  2,20050607,1828,  29.8380,  149.3275,  6145,  150.200,   17.790,   34.827,2,   34.827,2,  192.320,1,  224.940,2,    2.670,2,    2.120,2,    0.020,2,    0.185,2,    2.270,2,    1.329,2, -999.000,9, -999.000,9, -999.000,9
           NA,    P10N,     96,   1,-999.0,     -99,  2,20050607,1828,  29.8380,  149.3275,  6145,  199.600,   17.526,   34.811,2,   34.811,2,  191.720,1,  225.110,2,    2.980,2,    2.730,2,    0.010,2,    0.221,2,    2.272,2,    1.334,2, -999.000,9, -999.000,9, -999.000,9
           NA,    P10N,     96,   1,-999.0,     -99,  2,20050607,1828,  29.8380,  149.3275,  6145,  249.800,   17.377,   34.810,2,   34.810,2,  192.480,1,  225.930,2,    3.130,2,    2.850,2,    0.010,2,    0.231,2,    2.288,6,    1.342,6, -999.000,9, -999.000,9, -999.000,9
           NA,    P10N,     96,   1,-999.0,     -99,  2,20050607,1828,  29.8380,  149.3275,  6145,  300.000,   17.233,   34.805,2,   34.805,2,  191.180,1,  224.290,2,    3.360,2,    3.180,2,    0.010,2,    0.250,2,    2.291,2,    1.342,2, -999.000,9, -999.000,9, -999.000,9
           NA,    P10N,     96,   1,-999.0,     -99,  2,20050607,1828,  29.8380,  149.3275,  6145,  398.600,   15.862,   34.670,2,   34.668,2,  171.460,1,  203.760,2,    6.860,2,    7.070,2,    0.010,2,    0.514,2,    2.431,2,    1.362,2, -999.000,9, -999.000,9, -999.000,9
           NA,    P10N,     96,   1,-999.0,     -99,  2,20050607,1828,  29.8380,  149.3275,  6145,  500.500,   13.705,   34.506,2,   34.499,6,  154.570,1,  183.220,2,   15.350,2,   12.610,2,    0.010,2,    0.908,2,    2.413,2,    1.312,2, -999.000,9, -999.000,9, -999.000,9
           NA,    P10N,     96,   1,-999.0,     -99,  2,20050607,1828,  29.8380,  149.3275,  6145,  602.700,   10.187,   34.250,2,   34.247,2,  148.650,1,  177.920,2,   28.710,2,   18.780,2,    0.010,2,    1.366,2,    2.450,2,    1.281,2, -999.000,9, -999.000,9, -999.000,9
           NA,    P10N,     96,   1,-999.0,     -99,  2,20050607,1828,  29.8380,  149.3275,  6145,  700.500,    7.512,   34.061,2,   34.059,2,  134.880,1,  161.060,2,   44.540,2,   25.200,2,    0.000,2,    1.844,2,    2.333,2,    1.180,2, -999.000,9, -999.000,9, -999.000,9
           NA,    P10N,     96,   1,-999.0,     -99,  2,20050607,1828,  29.8380,  149.3275,  6145,  801.300,    5.642,   34.035,2,   34.037,2,   98.320,1,  117.060,2,   68.470,2,   32.470,2,    0.000,2,    2.384,2,    1.745,6,    0.854,6, -999.000,9, -999.000,9, -999.000,9
           NA,    P10N,     96,   1,-999.0,     -99,  2,20050607,1828,  29.8380,  149.3275,  6145,  900.300,    4.772,   34.125,2,   34.127,2,   63.800,1,   76.040,2,   89.510,2,   37.620,2,    0.000,2,    2.726,2,    0.997,2,    0.458,2, -999.000,9, -999.000,9, -999.000,9
           NA,    P10N,     96,   1,-999.0,     -99,  2,20050607,1828,  29.8380,  149.3275,  6145, 1001.400,    4.257,   34.206,2,   34.207,6,   46.430,1,   54.490,2,  104.250,2,   40.130,2,    0.010,2,    2.903,2,    0.552,2,    0.250,2, -999.000,9, -999.000,9, -999.000,9
           NA,    P10N,     96,   1,-999.0,     -99,  2,20050607,1828,  29.8380,  149.3275,  6145, 1199.700,    3.427,   34.344,2,   34.346,2,   32.840,1,   37.590,6,  128.400,2,   42.410,2,    0.010,2,    3.054,2,    0.174,2,    0.080,2, -999.000,9, -999.000,9, -999.000,9
           NA,    P10N,     96,   1,-999.0,     -99,  2,20050607,1828,  29.8380,  149.3275,  6145, 1398.700,    2.895,   34.445,2,   34.446,2,   31.450,1,   36.030,2,  143.470,2,   43.230,2,    0.000,2,    3.096,2,    0.028,2,    0.013,2, -999.000,9, -999.000,9, -999.000,9
           NA,    P10N,     96,   1,-999.0,     -99,  2,20050607,1828,  29.8380,  149.3275,  6145, 1599.000,    2.553,   34.504,2,   34.505,2,   37.640,1,   43.870,2,  152.220,2,   43.000,2,    0.000,2,    3.062,2,    0.013,2,    0.004,2, -999.000,9, -999.000,9, -999.000,9
           NA,    P10N,     96,   1,-999.0,     -99,  2,20050607,1828,  29.8380,  149.3275,  6145, 1801.400,    2.250,   34.548,2,   34.548,2,   44.960,1,   53.550,2,  159.720,2,   42.560,2,    0.010,2,    3.021,2,    0.002,2,   -0.001,2, -999.000,9, -999.000,9, -999.000,9
           NA,    P10N,     96,   1,-999.0,     -99,  2,20050607,1828,  29.8380,  149.3275,  6145, 2000.600,    2.043,   34.583,2,   34.583,2,   55.590,1,   67.090,2,  162.300,2,   41.660,2,    0.010,2,    2.949,2,   -0.002,2,    0.000,2, -999.000,9, -999.000,9, -999.000,9
           NA,    P10N,     96,   1,-999.0,     -99,  2,20050607,1828,  29.8380,  149.3275,  6145, 2202.300,    1.894,   34.609,2,   34.609,6,   67.220,1,   82.710,2,  162.300,2,   40.810,2,    0.000,2,    2.879,2,   -0.007,2,   -0.002,2, -999.000,9, -999.000,9, -999.000,9
           NA,    P10N,     96,   1,-999.0,     -99,  2,20050607,1828,  29.8380,  149.3275,  6145, 2399.600,    1.776,   34.629,2,   34.629,2,   78.470,1,   97.650,2,  160.440,2,   39.780,2,    0.000,2,    2.802,2,   -0.004,2,   -0.001,2, -999.000,9, -999.000,9, -999.000,9
           NA,    P10N,     96,   1,-999.0,     -99,  2,20050607,1828,  29.8380,  149.3275,  6145, 2598.800,    1.691,   34.645,2,   34.645,2,   88.870,1,  111.870,2,  157.070,2,   38.810,2,    0.000,2,    2.731,2,   -0.007,2,   -0.001,2, -999.000,9, -999.000,9, -999.000,9
           NA,    P10N,     96,   1,-999.0,     -99,  2,20050607,1828,  29.8380,  149.3275,  6145, 2799.600,    1.627,   34.655,2,   34.655,2,   95.860,1,  121.440,2,  155.240,2,   38.210,2,    0.000,2,    2.690,2,   -0.002,2,   -0.003,2, -999.000,9, -999.000,9, -999.000,9
           NA,    P10N,     96,   1,-999.0,     -99,  2,20050607,1828,  29.8380,  149.3275,  6145, 2999.100,    1.594,   34.662,2,   34.662,2,  100.840,1,  128.470,6,  153.140,2,   37.700,2,    0.000,2,    2.652,2,    0.005,2,    0.001,2, -999.000,9, -999.000,9, -999.000,9
           NA,    P10N,     96,   1,-999.0,     -99,  2,20050607,1828,  29.8380,  149.3275,  6145, 3251.200,    1.554,   34.669,2,   34.668,6,  105.730,1,  135.540,2,  151.130,2,   37.240,2,    0.010,2,    2.608,2,   -0.002,2,   -0.004,2, -999.000,9, -999.000,9, -999.000,9
           NA,    P10N,     96,   1,-999.0,     -99,  2,20050607,1828,  29.8380,  149.3275,  6145, 3499.900,    1.524,   34.675,2,   34.675,2,  109.470,1,  141.050,2,  150.090,2,   36.840,2,    0.010,2,    2.582,2,    0.001,2,    0.001,2, -999.000,9, -999.000,9, -999.000,9
           NA,    P10N,     96,   1,-999.0,     -99,  2,20050607,1828,  29.8380,  149.3275,  6145, 3750.400,    1.505,   34.679,2,   34.679,2,  112.380,1,  145.310,2,  149.390,2,   36.610,2,    0.000,2,    2.564,2,   -0.003,2,   -0.003,2, -999.000,9, -999.000,9, -999.000,9
           NA,    P10N,     96,   1,-999.0,     -99,  2,20050607,1828,  29.8380,  149.3275,  6145, 4001.700,    1.495,   34.682,2,   34.683,2,  114.800,1,  148.720,2,  149.000,2,   36.400,2,    0.000,2,    2.543,2,   -0.004,2,   -0.001,2, -999.000,9, -999.000,9, -999.000,9
           NA,    P10N,     96,   1,-999.0,     -99,  2,20050607,1828,  29.8380,  149.3275,  6145, 4250.700,    1.489,   34.686,2,   34.688,2,  117.860,1,  153.220,2,  147.230,2,   36.030,2,    0.000,2,    2.523,2,   -0.003,2,   -0.002,2, -999.000,9, -999.000,9, -999.000,9
           NA,    P10N,     96,   1,-999.0,     -99,  2,20050607,1828,  29.8380,  149.3275,  6145, 4500.400,    1.493,   34.688,2,   34.688,6,  120.010,1,  156.000,2,  146.250,2,   35.860,2,    0.000,2,    2.509,2,    0.001,2,    0.002,2, -999.000,9, -999.000,9, -999.000,9
           NA,    P10N,     96,   1,-999.0,     -99,  2,20050607,1828,  29.8380,  149.3275,  6145, 4749.500,    1.504,   34.689,2,   34.690,2,  122.020,1,  158.700,2,  144.950,2,   35.710,2,    0.000,2,    2.494,2,    0.000,2,   -0.001,2, -999.000,9, -999.000,9, -999.000,9
           NA,    P10N,     96,   1,-999.0,     -99,  2,20050607,1828,  29.8380,  149.3275,  6145, 5001.800,    1.516,   34.691,2,   34.691,2,  123.920,1,  160.930,6,  144.450,2,   35.570,2,    0.000,2,    2.482,2,    0.002,2,    0.005,2, -999.000,9, -999.000,9, -999.000,9
           NA,    P10N,     96,   1,-999.0,     -99,  2,20050607,1828,  29.8380,  149.3275,  6145, 5249.300,    1.532,   34.692,2,   34.693,2,  126.030,1,  163.050,2,  142.950,2,   35.320,2,    0.000,2,    2.467,2,    0.001,2,    0.002,2, -999.000,9, -999.000,9, -999.000,9
           NA,    P10N,     96,   1,-999.0,     -99,  2,20050607,1828,  29.8380,  149.3275,  6145, 5500.200,    1.551,   34.694,2,   34.694,2,  128.670,1,  165.710,2,  140.930,2,   35.240,2,    0.000,2,    2.455,2,    0.007,2,    0.002,2, -999.000,9, -999.000,9, -999.000,9
           NA,    P10N,     96,   1,-999.0,     -99,  2,20050607,1828,  29.8380,  149.3275,  6145, 5751.200,    1.573,   34.695,2,   34.696,2,  131.560,1,  168.490,2,  138.420,2,   35.050,2,    0.000,2,    2.441,2,    0.005,2,    0.004,2, -999.000,9, -999.000,9, -999.000,9
           NA,    P10N,     96,   1,-999.0,     -99,  2,20050607,1828,  29.8380,  149.3275,  6145, 6260.300,    1.628,   34.696,2,   34.697,2,  135.730,1,  171.140,2,  136.240,2,   34.830,2,    0.000,2,    2.425,2,    0.011,2,    0.002,2, -999.000,9, -999.000,9, -999.000,9