BOTTLE,20214413JOAExport
EXPOCODE,SECT_ID,STNNBR,CASTNO,SAMPNO,BTLNBR,BTLNBR_FLAG_W,DATE,TIME,LATITUDE,LONGITUDE,DEPTH,CTDPRS,CTDTMP,CTDSAL,CTDSAL_FLAG_W,SALNTY,SALNTY_FLAG_W,CTDOXY,CTDOXY_FLAG_W,OXYGEN,OXYGEN_FLAG_W,SILCAT,SILCAT_FLAG_W,NITRAT,NITRAT_FLAG_W,NITRIT,NITRIT_FLAG_W,PHSPHT,PHSPHT_FLAG_W,CFC-11,CFC-11_FLAG_W,CFC-12,CFC-12_FLAG_W,SF6,SF6_FLAG_W,TCARBN,TCARBN_FLAG_W,ALKALI,ALKALI_FLAG_W
,,,,,,,,,,,,,DB,ITS-90,PSS-78,,PSS-78,,UMOL/KG,,UMOL/KG,,UMOL/KG,,UMOL/KG,,UMOL/KG,,UMOL/KG,,PMOL/KG,,PMOL/KG,,FMOL/KG,,UMOL/KG,,UMOL/KG
           NA,     P10,     69,   1,-999.0,     -99,  2,20050609,1254,  25.8307,  149.3297,  5894,   10.100,   24.542,   34.852,2,   34.854,2,  189.380,1,  218.620,6,    1.610,2,    0.040,2,    0.010,2,    0.047,2,    1.815,2,    1.126,2, -999.000,9, -999.000,9, -999.000,9
           NA,     P10,     69,   1,-999.0,     -99,  2,20050609,1254,  25.8307,  149.3297,  5894,   51.200,   19.925,   34.925,2,   34.921,2,  198.680,1,  229.790,2,    1.990,2,    0.020,2,    0.010,2,    0.067,2,    2.069,2,    1.265,2, -999.000,9, -999.000,9, -999.000,9
           NA,     P10,     69,   1,-999.0,     -99,  2,20050609,1254,  25.8307,  149.3297,  5894,  101.600,   18.466,   34.855,2,   34.852,2,  187.890,1,  218.570,2,    2.510,2,    1.860,2,    0.040,2,    0.191,2,    2.145,2,    1.300,2, -999.000,9, -999.000,9, -999.000,9
           NA,     P10,     69,   1,-999.0,     -99,  2,20050609,1254,  25.8307,  149.3297,  5894,  149.700,   17.790,   34.811,2,   34.811,2,  189.890,1,  221.320,2,    2.970,2,    2.750,2,    0.020,2,    0.240,2,    2.189,2,    1.324,2, -999.000,9, -999.000,9, -999.000,9
           NA,     P10,     69,   1,-999.0,     -99,  2,20050609,1254,  25.8307,  149.3297,  5894,  199.600,   17.544,   34.818,2,   34.817,2,  186.990,1,  217.820,2,    3.260,2,    3.250,2,    0.020,2,    0.269,2,    2.213,2,    1.324,2, -999.000,9, -999.000,9, -999.000,9
           NA,     P10,     69,   1,-999.0,     -99,  2,20050609,1254,  25.8307,  149.3297,  5894,  249.800,   17.254,   34.796,2,   34.795,2,  183.030,1,  213.610,2,    3.770,2,    4.050,2,    0.020,2,    0.315,2,    2.234,6,    1.347,6, -999.000,9, -999.000,9, -999.000,9
           NA,     P10,     69,   1,-999.0,     -99,  2,20050609,1254,  25.8307,  149.3297,  5894,  298.800,   16.871,   34.762,2,   34.757,2,  178.790,1,  208.720,2,    4.680,2,    5.130,2,    0.010,2,    0.390,2,    2.265,2,    1.358,2, -999.000,9, -999.000,9, -999.000,9
           NA,     P10,     69,   1,-999.0,     -99,  2,20050609,1254,  25.8307,  149.3297,  5894,  400.200,   14.903,   34.588,2,   34.587,2,  168.310,1,  197.820,2,    9.460,2,    8.990,2,    0.010,2,    0.668,2,    2.401,2,    1.383,2, -999.000,9, -999.000,9, -999.000,9
           NA,     P10,     69,   1,-999.0,     -99,  2,20050609,1254,  25.8307,  149.3297,  5894,  499.600,   12.028,   34.368,2,   34.351,6,  162.000,1,  192.180,2,   18.540,2,   14.490,2,    0.010,2,    1.058,2,    2.546,2,    1.400,2, -999.000,9, -999.000,9, -999.000,9
           NA,     P10,     69,   1,-999.0,     -99,  2,20050609,1254,  25.8307,  149.3297,  5894,  599.700,    8.832,   34.138,2,   34.133,2,  144.550,1,  172.010,2,   34.000,2,   21.700,2,    0.010,2,    1.585,2,    2.369,2,    1.244,2, -999.000,9, -999.000,9, -999.000,9
           NA,     P10,     69,   1,-999.0,     -99,  2,20050609,1254,  25.8307,  149.3297,  5894,  700.600,    6.941,   34.056,2,   34.056,2,  117.560,1,  140.060,2,   51.560,2,   28.010,2,    0.010,2,    2.057,2,    1.924,2,    0.981,2, -999.000,9, -999.000,9, -999.000,9
           NA,     P10,     69,   1,-999.0,     -99,  2,20050609,1254,  25.8307,  149.3297,  5894,  801.200,    5.246,   34.085,2,   34.087,2,   77.620,1,   93.630,2,   78.320,2,   35.280,2,    0.010,2,    2.575,2,    1.239,2,    0.599,2, -999.000,9, -999.000,9, -999.000,9
           NA,     P10,     69,   1,-999.0,     -99,  2,20050609,1254,  25.8307,  149.3297,  5894,  899.900,    4.265,   34.204,2,   34.204,2,   46.800,1,   55.020,2,  103.620,2,   40.030,2,    0.010,2,    2.893,2,    0.565,6,    0.254,6, -999.000,9, -999.000,9, -999.000,9
           NA,     P10,     69,   1,-999.0,     -99,  2,20050609,1254,  25.8307,  149.3297,  5894, 1000.900,    3.720,   34.295,2,   34.295,6,   35.890,1,   41.230,2,  119.440,2,   41.770,2,    0.010,2,    3.018,2,    0.259,2,    0.115,2, -999.000,9, -999.000,9, -999.000,9
           NA,     P10,     69,   1,-999.0,     -99,  2,20050609,1254,  25.8307,  149.3297,  5894, 1199.500,    3.193,   34.424,2,   34.424,2,   34.980,1,   40.150,6,  133.810,2,   42.620,2,    0.010,2,    3.068,2,    0.039,2,    0.016,2, -999.000,9, -999.000,9, -999.000,9
           NA,     P10,     69,   1,-999.0,     -99,  2,20050609,1254,  25.8307,  149.3297,  5894, 1401.600,    2.713,   34.496,2, -999.000,3,   41.850,1,   49.430,2,  145.720,2,   42.360,2,    0.010,2,    3.037,2,    0.013,2,    0.003,2, -999.000,9, -999.000,9, -999.000,9
           NA,     P10,     69,   1,-999.0,     -99,  2,20050609,1254,  25.8307,  149.3297,  5894, 1600.800,    2.340,   34.549,2,   34.550,2,   53.630,1,   64.670,2,  151.940,2,   41.490,2,    0.010,2,    2.966,2,    0.014,2,    0.007,2, -999.000,9, -999.000,9, -999.000,9
           NA,     P10,     69,   1,-999.0,     -99,  2,20050609,1254,  25.8307,  149.3297,  5894, 1800.200,    2.089,   34.587,2,   34.587,2,   67.150,1,   82.440,2,  153.690,2,   40.590,2,    0.010,2,    2.876,2,   -0.002,2,   -0.002,2, -999.000,9, -999.000,9, -999.000,9
           NA,     P10,     69,   1,-999.0,     -99,  2,20050609,1254,  25.8307,  149.3297,  5894, 1999.200,    1.915,   34.617,2,   34.617,2,   82.930,1,  103.080,2,  151.100,2,   39.230,2,    0.010,2,    2.774,2,    0.000,2,    0.000,2, -999.000,9, -999.000,9, -999.000,9
           NA,     P10,     69,   1,-999.0,     -99,  2,20050609,1254,  25.8307,  149.3297,  5894, 2198.900,    1.832,   34.630,2,   34.630,6,   88.000,1,  110.250,2,  151.080,2,   38.830,2,    0.010,2,    2.743,2,    0.001,2,    0.002,2, -999.000,9, -999.000,9, -999.000,9
           NA,     P10,     69,   1,-999.0,     -99,  2,20050609,1254,  25.8307,  149.3297,  5894, 2399.100,    1.750,   34.640,2,   34.640,2,   91.740,1,  115.480,2,  152.010,2,   38.410,2,    0.010,2,    2.721,2, -999.000,9, -999.000,9, -999.000,9, -999.000,9, -999.000,9
           NA,     P10,     69,   1,-999.0,     -99,  2,20050609,1254,  25.8307,  149.3297,  5894, 2601.400,    1.681,   34.649,2,   34.649,2,   96.170,1,  121.740,2,  151.860,2,   38.080,2,    0.010,2,    2.686,2, -999.000,9, -999.000,9, -999.000,9, -999.000,9, -999.000,9
           NA,     P10,     69,   1,-999.0,     -99,  2,20050609,1254,  25.8307,  149.3297,  5894, 2800.900,    1.611,   34.659,2,   34.659,2,  101.310,1,  128.920,2,  150.800,2,   37.700,2,    0.010,2,    2.651,2, -999.000,9, -999.000,9, -999.000,9, -999.000,9, -999.000,9
           NA,     P10,     69,   1,-999.0,     -99,  2,20050609,1254,  25.8307,  149.3297,  5894, 3001.600,    1.578,   34.665,2,   34.665,2,  104.280,1,  133.280,6,  150.660,2,   37.310,2,    0.010,2,    2.630,2, -999.000,9, -999.000,9, -999.000,9, -999.000,9, -999.000,9
           NA,     P10,     69,   1,-999.0,     -99,  2,20050609,1254,  25.8307,  149.3297,  5894, 3249.600,    1.545,   34.671,2,   34.671,6,  107.800,1,  138.460,2,  149.860,2,   36.950,2,    0.000,2,    2.596,2, -999.000,9, -999.000,9, -999.000,9, -999.000,9, -999.000,9
           NA,     P10,     69,   1,-999.0,     -99,  2,20050609,1254,  25.8307,  149.3297,  5894, 3502.400,    1.509,   34.677,2,   34.677,2,  111.670,1,  144.150,2,  148.720,2,   36.680,2,    0.010,2,    2.564,2, -999.000,9, -999.000,9, -999.000,9, -999.000,9, -999.000,9
           NA,     P10,     69,   1,-999.0,     -99,  2,20050609,1254,  25.8307,  149.3297,  5894, 3750.000,    1.484,   34.681,2,   34.681,2,  114.910,1,  148.830,2,  148.010,2,   36.380,2,    0.000,2,    2.543,2, -999.000,9, -999.000,9, -999.000,9, -999.000,9, -999.000,9
           NA,     P10,     69,   1,-999.0,     -99,  2,20050609,1254,  25.8307,  149.3297,  5894, 4000.800,    1.471,   34.685,2,   34.684,2,  117.360,1,  152.420,2,  147.340,2,   36.090,2,    0.000,2,    2.526,2, -999.000,9, -999.000,9, -999.000,9, -999.000,9, -999.000,9
           NA,     P10,     69,   1,-999.0,     -99,  2,20050609,1254,  25.8307,  149.3297,  5894, 4249.900,    1.475,   34.687,2,   34.686,2,  119.430,1,  155.280,2,  146.070,2,   35.830,2,    0.010,2,    2.514,2, -999.000,9, -999.000,9, -999.000,9, -999.000,9, -999.000,9
           NA,     P10,     69,   1,-999.0,     -99,  2,20050609,1254,  25.8307,  149.3297,  5894, 4499.600,    1.473,   34.690,2,   34.689,6,  122.340,1,  159.110,2,  144.730,2,   35.670,2,    0.010,2,    2.495,2, -999.000,9, -999.000,9, -999.000,9, -999.000,9, -999.000,9
           NA,     P10,     69,   1,-999.0,     -99,  2,20050609,1254,  25.8307,  149.3297,  5894, 4752.100,    1.481,   34.691,2,   34.691,2,  124.380,1,  161.600,2,  143.700,2,   35.450,2,    0.010,2,    2.476,2, -999.000,9, -999.000,9, -999.000,9, -999.000,9, -999.000,9
           NA,     P10,     69,   1,-999.0,     -99,  2,20050609,1254,  25.8307,  149.3297,  5894, 5001.300,    1.506,   34.692,2,   34.691,2,  125.520,1,  162.450,6,  143.190,2,   35.480,2,    0.010,2,    2.477,2, -999.000,9, -999.000,9, -999.000,9, -999.000,9, -999.000,9
           NA,     P10,     69,   1,-999.0,     -99,  2,20050609,1254,  25.8307,  149.3297,  5894, 5252.500,    1.532,   34.693,2,   34.693,2,  126.910,1,  163.470,2,  142.530,2,   35.370,2,    0.010,2,    2.474,2, -999.000,9, -999.000,9, -999.000,9, -999.000,9, -999.000,9
           NA,     P10,     69,   1,-999.0,     -99,  2,20050609,1254,  25.8307,  149.3297,  5894, 5500.600,    1.559,   34.693,2,   34.692,2,  128.420,1,  164.470,2,  142.090,2,   35.280,2,    0.010,2,    2.467,2, -999.000,9, -999.000,9, -999.000,9, -999.000,9, -999.000,9
           NA,     P10,     69,   1,-999.0,     -99,  2,20050609,1254,  25.8307,  149.3297,  5894, 5751.400,    1.589,   34.693,2,   34.693,2,  130.060,1,  165.340,2,  141.140,2,   35.150,2,    0.000,2,    2.460,2, -999.000,9, -999.000,9, -999.000,9, -999.000,9, -999.000,9
           NA,     P10,     69,   1,-999.0,     -99,  2,20050609,1254,  25.8307,  149.3297,  5894, 5997.800,    1.621,   34.693,2,   34.693,6,  131.540,1,  165.760,2,  140.480,2,   35.140,2,    0.010,2,    2.451,2, -999.000,9, -999.000,9, -999.000,9, -999.000,9, -999.000,9