BOTTLE,20214413JOAExport
EXPOCODE,SECT_ID,STNNBR,CASTNO,SAMPNO,BTLNBR,BTLNBR_FLAG_W,DATE,TIME,LATITUDE,LONGITUDE,DEPTH,CTDPRS,CTDTMP,CTDSAL,CTDSAL_FLAG_W,SALNTY,SALNTY_FLAG_W,CTDOXY,CTDOXY_FLAG_W,OXYGEN,OXYGEN_FLAG_W,SILCAT,SILCAT_FLAG_W,NITRAT,NITRAT_FLAG_W,NITRIT,NITRIT_FLAG_W,PHSPHT,PHSPHT_FLAG_W,CFC-11,CFC-11_FLAG_W,CFC-12,CFC-12_FLAG_W,SF6,SF6_FLAG_W,TCARBN,TCARBN_FLAG_W,ALKALI,ALKALI_FLAG_W
,,,,,,,,,,,,,DB,ITS-90,PSS-78,,PSS-78,,UMOL/KG,,UMOL/KG,,UMOL/KG,,UMOL/KG,,UMOL/KG,,UMOL/KG,,PMOL/KG,,PMOL/KG,,FMOL/KG,,UMOL/KG,,UMOL/KG
           NA,     P10,     25,   1,-999.0,     -99,  2,20050622,1743,   1.7540,  146.6470,  4443,   10.100,   29.760,   34.273,2,   34.284,2,  170.650,1,  195.170,6,    0.890,2,    0.030,2,    0.000,2,    0.139,2,    1.385,2,    0.876,2, -999.000,9, -999.000,9, -999.000,9
           NA,     P10,     25,   1,-999.0,     -99,  2,20050622,1743,   1.7540,  146.6470,  4443,   49.800,   29.270,   34.391,2,   34.486,2,  169.420,1,  192.620,2,    1.060,2,    0.020,2,    0.000,2,    0.142,2,    1.434,2,    0.876,2, -999.000,9, -999.000,9, -999.000,9
           NA,     P10,     25,   1,-999.0,     -99,  2,20050622,1743,   1.7540,  146.6470,  4443,   99.600,   27.842,   35.043,2,   35.134,2,  146.740,1,  159.520,2,    2.160,2,    4.010,2,    0.370,2,    0.484,2,    1.537,2,    0.902,2, -999.000,9, -999.000,9, -999.000,9
           NA,     P10,     25,   1,-999.0,     -99,  2,20050622,1743,   1.7540,  146.6470,  4443,  149.800,   22.773,   34.987,2,   35.057,2,  118.220,1,  136.320,2,    5.460,2,    8.970,2,    0.010,2,    0.720,2,    1.763,2,    1.014,2, -999.000,9, -999.000,9, -999.000,9
           NA,     P10,     25,   1,-999.0,     -99,  2,20050622,1743,   1.7540,  146.6470,  4443,  199.400,   19.521,   35.180,2,   35.169,2,  120.000,1,  139.250,2,    7.020,2,   10.880,2,    0.010,2,    0.865,2,    1.852,2,    1.019,2, -999.000,9, -999.000,9, -999.000,9
           NA,     P10,     25,   1,-999.0,     -99,  2,20050622,1743,   1.7540,  146.6470,  4443,  249.000,   14.673,   35.125,2,   35.067,2,  123.830,1,  142.910,2,   11.300,2,   16.610,2,    0.000,2,    1.260,2,    1.529,6,    0.803,6, -999.000,9, -999.000,9, -999.000,9
           NA,     P10,     25,   1,-999.0,     -99,  2,20050622,1743,   1.7540,  146.6470,  4443,  298.700,    9.874,   34.606,2,   34.638,2,   99.160,1,  116.750,2,   29.500,2,   26.460,2,    0.000,2,    1.910,2,    0.865,2,    0.405,2, -999.000,9, -999.000,9, -999.000,9
           NA,     P10,     25,   1,-999.0,     -99,  2,20050622,1743,   1.7540,  146.6470,  4443,  399.200,    9.231,   34.666,2,   34.661,2,   99.030,1,  116.400,2,   28.280,2,   27.960,2,    0.000,2,    1.997,2,    0.632,2,    0.309,2, -999.000,9, -999.000,9, -999.000,9
           NA,     P10,     25,   1,-999.0,     -99,  3,20050622,1743,   1.7540,  146.6470,  4443,  498.300,    8.201,   34.607,2,   34.605,6,   95.650,1,  112.870,2,   33.460,2,   30.480,2,    0.000,2,    2.164,2,    0.411,2,    0.206,2, -999.000,9, -999.000,9, -999.000,9
           NA,     P10,     25,   1,-999.0,     -99,  2,20050622,1743,   1.7540,  146.6470,  4443,  599.200,    7.269,   34.562,2,   34.561,2,   90.000,1,  105.310,2,   42.030,2,   32.860,2,    0.000,2,    2.346,2,    0.244,2,    0.110,2, -999.000,9, -999.000,9, -999.000,9
           NA,     P10,     25,   1,-999.0,     -99,  2,20050622,1743,   1.7540,  146.6470,  4443,  699.800,    6.168,   34.535,2,   34.535,2,   87.630,1,  101.450,2,   57.300,2,   35.210,2,    0.000,2,    2.523,2,    0.121,2,    0.059,2, -999.000,9, -999.000,9, -999.000,9
           NA,     P10,     25,   1,-999.0,     -99,  2,20050622,1743,   1.7540,  146.6470,  4443,  799.800,    5.393,   34.538,2,   34.539,2,   82.410,1,   98.020,2,   69.050,2,   36.690,2,    0.000,2,    2.632,2,    0.066,6,    0.024,6, -999.000,9, -999.000,9, -999.000,9
           NA,     P10,     25,   1,-999.0,     -99,  2,20050622,1743,   1.7540,  146.6470,  4443,  899.800,    4.839,   34.548,2,   34.549,2,   81.650,1,   98.420,2,   79.880,2,   37.330,2,    0.000,2,    2.672,2,    0.042,2,    0.017,2, -999.000,9, -999.000,9, -999.000,9
           NA,     P10,     25,   1,-999.0,     -99,  2,20050622,1743,   1.7540,  146.6470,  4443, 1001.200,    4.295,   34.560,2,   34.560,6,   82.980,1,   99.240,2,   89.600,2,   37.950,2,    0.000,2,    2.723,2,    0.018,2,    0.006,2, -999.000,9, -999.000,9, -999.000,9
           NA,     P10,     25,   1,-999.0,     -99,  2,20050622,1743,   1.7540,  146.6470,  4443, 1199.800,    3.666,   34.579,2,   34.580,2,   83.410,1,  100.310,6,  104.190,2,   38.350,2,    0.000,2,    2.748,2,    0.009,2,    0.006,2, -999.000,9, -999.000,9, -999.000,9
           NA,     P10,     25,   1,-999.0,     -99,  2,20050622,1743,   1.7540,  146.6470,  4443, 1399.900,    3.117,   34.597,2,   34.598,2,   85.740,1,  104.090,2,  115.350,2,   38.580,2,    0.000,2,    2.762,2,    0.002,2,    0.000,2, -999.000,9, -999.000,9, -999.000,9
           NA,     P10,     25,   1,-999.0,     -99,  2,20050622,1743,   1.7540,  146.6470,  4443, 1600.500,    2.699,   34.614,2,   34.614,2,   88.030,1,  107.590,2,  125.840,2,   38.540,2,    0.000,2,    2.752,2,    0.000,2,    0.000,2, -999.000,9, -999.000,9, -999.000,9
           NA,     P10,     25,   1,-999.0,     -99,  2,20050622,1743,   1.7540,  146.6470,  4443, 1801.200,    2.441,   34.626,2,   34.626,6,   91.270,1,  112.070,2,  131.590,2,   38.450,2,    0.000,2,    2.734,2, -999.000,9, -999.000,9, -999.000,9, -999.000,9, -999.000,9
           NA,     P10,     25,   1,-999.0,     -99,  2,20050622,1743,   1.7540,  146.6470,  4443, 1999.600,    2.169,   34.641,2,   34.641,2,   96.180,1,  118.810,2,  135.850,2,   38.110,2,    0.000,2,    2.701,2,   -0.003,2,    0.000,2, -999.000,9, -999.000,9, -999.000,9
           NA,     P10,     25,   1,-999.0,     -99,  2,20050622,1743,   1.7540,  146.6470,  4443, 2200.700,    2.008,   34.649,2,   34.649,2,   98.630,1,  122.400,2,  139.840,2,   37.930,2,    0.000,2,    2.681,2, -999.000,9, -999.000,9, -999.000,9, -999.000,9, -999.000,9
           NA,     P10,     25,   1,-999.0,     -99,  2,20050622,1743,   1.7540,  146.6470,  4443, 2399.500,    1.827,   34.659,2,   34.659,2,  103.520,1,  128.930,2,  142.260,2,   37.510,2,    0.000,2,    2.647,2,    0.002,2,    0.000,2, -999.000,9, -999.000,9, -999.000,9
           NA,     P10,     25,   1,-999.0,     -99,  2,20050622,1743,   1.7540,  146.6470,  4443, 2600.700,    1.729,   34.664,2,   34.664,2,  107.470,1,  134.580,2,  142.240,2,   37.040,2,    0.000,2,    2.610,2, -999.000,9, -999.000,9, -999.000,9, -999.000,9, -999.000,9
           NA,     P10,     25,   1,-999.0,     -99,  2,20050622,1743,   1.7540,  146.6470,  4443, 2799.300,    1.673,   34.668,2,   34.668,6,  110.030,1,  138.260,2,  142.750,2,   36.870,2,    0.000,2,    2.593,2,   -0.002,2,    0.000,2, -999.000,9, -999.000,9, -999.000,9
           NA,     P10,     25,   1,-999.0,     -99,  2,20050622,1743,   1.7540,  146.6470,  4443, 3000.600,    1.630,   34.672,2,   34.672,2,  112.150,1,  141.110,6,  143.340,2,   36.770,2,    0.000,2,    2.582,2, -999.000,9, -999.000,9, -999.000,9, -999.000,9, -999.000,9
           NA,     P10,     25,   1,-999.0,     -99,  2,20050622,1743,   1.7540,  146.6470,  4443, 3250.900,    1.604,   34.675,2,   34.675,2,  114.100,1,  143.700,2,  143.100,2,   36.450,2,    0.000,2,    2.563,2, -999.000,9, -999.000,9, -999.000,9, -999.000,9, -999.000,9
           NA,     P10,     25,   1,-999.0,     -99,  2,20050622,1743,   1.7540,  146.6470,  4443, 3500.100,    1.577,   34.679,2,   34.679,2,  116.380,1,  146.290,2,  142.420,2,   36.180,2,    0.000,2,    2.543,2, -999.000,9, -999.000,9, -999.000,9, -999.000,9, -999.000,9
           NA,     P10,     25,   1,-999.0,     -99,  2,20050622,1743,   1.7540,  146.6470,  4443, 3751.700,    1.560,   34.682,2,   34.682,6,  118.880,1,  149.320,2,  143.070,2,   36.220,2,    0.000,2,    2.542,2, -999.000,9, -999.000,9, -999.000,9, -999.000,9, -999.000,9
           NA,     P10,     25,   1,-999.0,     -99,  2,20050622,1743,   1.7540,  146.6470,  4443, 4000.200,    1.541,   34.685,2,   34.685,2,  121.730,1,  152.390,2,  142.610,2,   36.100,2,    0.000,2,    2.527,2, -999.000,9, -999.000,9, -999.000,9, -999.000,9, -999.000,9
           NA,     P10,     25,   1,-999.0,     -99,  2,20050622,1743,   1.7540,  146.6470,  4443, 4250.500,    1.536,   34.687,2,   34.687,2,  124.560,1,  155.350,2,  141.670,2,   35.870,2,    0.000,2,    2.507,2, -999.000,9, -999.000,9, -999.000,9, -999.000,9, -999.000,9
           NA,     P10,     25,   1,-999.0,     -99,  2,20050622,1743,   1.7540,  146.6470,  4443, 4499.600,    1.554,   34.688,2,   34.688,6,  126.200,1,  156.000,6,  141.480,2,   35.800,2,    0.000,2,    2.506,2,    0.002,2,    0.000,2, -999.000,9, -999.000,9, -999.000,9
           NA,     P10,     25,   1,-999.0,     -99,  2,20050622,1743,   1.7540,  146.6470,  4443, 4500.200,    1.554,   34.688,2,   34.688,2,  126.140,1,  156.020,2,  141.720,2,   35.830,2,    0.000,2,    2.504,2, -999.000,9, -999.000,9, -999.000,9, -999.000,9, -999.000,9
           NA,     P10,     26,   1,-999.0,     -99,  2,20050622,1223,   1.9963,  146.7213,  4440,   10.300,   29.748,   34.200,2,   34.198,2,  170.860,1,  195.220,6,    0.890,2,    0.030,2,    0.000,2,    0.118,2,    1.400,2,    0.884,2, -999.000,9, -999.000,9, -999.000,9
           NA,     P10,     26,   1,-999.0,     -99,  2,20050622,1223,   1.9963,  146.7213,  4440,   50.500,   29.718,   34.199,2,   34.274,2,  170.730,1,  194.800,2,    0.890,2,    0.010,2,    0.010,2,    0.123,2,    1.408,2,    0.869,2, -999.000,9, -999.000,9, -999.000,9
           NA,     P10,     26,   1,-999.0,     -99,  2,20050622,1223,   1.9963,  146.7213,  4440,  100.300,   27.388,   35.101,2,   35.092,2,  140.850,1,  160.050,2,    2.090,2,    3.930,2,    0.330,2,    0.469,2,    1.515,2,    0.922,2, -999.000,9, -999.000,9, -999.000,9
           NA,     P10,     26,   1,-999.0,     -99,  2,20050622,1223,   1.9963,  146.7213,  4440,  150.700,   23.528,   35.015,2,   35.032,2,  115.540,1,  134.310,2,    5.190,2,    8.910,2,    0.020,2,    0.706,2,    1.692,2,    0.997,2, -999.000,9, -999.000,9, -999.000,9
           NA,     P10,     26,   1,-999.0,     -99,  2,20050622,1223,   1.9963,  146.7213,  4440,  202.000,   15.940,   34.734,2,   34.764,2,  118.780,1,  139.580,2,   12.740,2,   13.740,2,    0.010,2,    1.037,2,    1.895,2,    1.052,2, -999.000,9, -999.000,9, -999.000,9
           NA,     P10,     26,   1,-999.0,     -99,  2,20050622,1223,   1.9963,  146.7213,  4440,  249.200,   11.695,   34.640,2,   34.635,2,  106.780,1,  124.430,2,   26.250,2,   22.250,2,    0.010,2,    1.634,2,    1.380,6,    0.733,6, -999.000,9, -999.000,9, -999.000,9
           NA,     P10,     26,   1,-999.0,     -99,  2,20050622,1223,   1.9963,  146.7213,  4440,  300.800,    9.718,   34.660,2,   34.663,2,  104.480,1,  122.390,2,   27.880,2,   26.290,2,    0.010,2,    1.898,2,    0.866,2,    0.453,2, -999.000,9, -999.000,9, -999.000,9
           NA,     P10,     26,   1,-999.0,     -99,  2,20050622,1223,   1.9963,  146.7213,  4440,  399.100,    9.094,   34.659,2,   34.654,2,   93.960,1,  110.540,2,   29.420,2,   28.930,2,    0.000,2,    2.062,2,    0.581,2,    0.307,2, -999.000,9, -999.000,9, -999.000,9
           NA,     P10,     26,   1,-999.0,     -99,  2,20050622,1223,   1.9963,  146.7213,  4440,  498.400,    8.138,   34.604,2,   34.601,6,   93.780,1,  111.350,2,   34.090,2,   30.810,2,    0.010,2,    2.194,2,    0.403,2,    0.211,2, -999.000,9, -999.000,9, -999.000,9
           NA,     P10,     26,   1,-999.0,     -99,  2,20050622,1223,   1.9963,  146.7213,  4440,  600.700,    7.246,   34.560,2,   34.558,2,  103.480,1,  121.160,2,   38.810,2,   31.630,2,    0.000,2,    2.257,2,    0.333,2,    0.177,2, -999.000,9, -999.000,9, -999.000,9
           NA,     P10,     26,   1,-999.0,     -99,  2,20050622,1223,   1.9963,  146.7213,  4440,  703.000,    6.286,   34.536,2,   34.536,2,   92.010,1,  108.460,2,   52.770,2,   34.400,2,    0.000,2,    2.468,2,    0.178,2,    0.097,2, -999.000,9, -999.000,9, -999.000,9
           NA,     P10,     26,   1,-999.0,     -99,  2,20050622,1223,   1.9963,  146.7213,  4440,  799.700,    5.309,   34.540,2,   34.540,2,   84.860,1,  100.480,2,   70.470,2,   36.620,2,    0.000,2,    2.635,2,    0.077,6,    0.043,6, -999.000,9, -999.000,9, -999.000,9
           NA,     P10,     26,   1,-999.0,     -99,  2,20050622,1223,   1.9963,  146.7213,  4440,  899.800,    4.689,   34.551,2,   34.551,2,   79.580,1,   96.000,2,   83.530,2,   37.710,2,    0.010,2,    2.704,2,    0.025,2,    0.048,2, -999.000,9, -999.000,9, -999.000,9
           NA,     P10,     26,   1,-999.0,     -99,  2,20050622,1223,   1.9963,  146.7213,  4440, 1001.200,    4.318,   34.560,2,   34.560,6,   82.870,1,   99.290,2,   89.340,2,   37.900,2,    0.000,2,    2.725,2,    0.018,2,    0.010,2, -999.000,9, -999.000,9, -999.000,9
           NA,     P10,     26,   1,-999.0,     -99,  2,20050622,1223,   1.9963,  146.7213,  4440, 1203.500,    3.689,   34.579,2,   34.578,2,   83.320,1,  100.210,6,  103.550,2,   38.400,2,    0.000,2,    2.765,2,    0.010,2,    0.007,2, -999.000,9, -999.000,9, -999.000,9
           NA,     P10,     26,   1,-999.0,     -99,  2,20050622,1223,   1.9963,  146.7213,  4440, 1399.100,    3.108,   34.598,2,   34.598,2,   85.850,1,  104.210,2,  115.660,2,   38.600,2,    0.000,2,    2.771,2,    0.000,2,    0.000,2, -999.000,9, -999.000,9, -999.000,9
           NA,     P10,     26,   1,-999.0,     -99,  2,20050622,1223,   1.9963,  146.7213,  4440, 1598.900,    2.684,   34.615,2,   34.615,2,   91.070,1,  111.280,2,  123.670,2,   38.370,2,    0.000,2,    2.749,2,    0.000,2,    0.000,2, -999.000,9, -999.000,9, -999.000,9
           NA,     P10,     26,   1,-999.0,     -99,  2,20050622,1223,   1.9963,  146.7213,  4440, 1801.700,    2.358,   34.630,2,   34.630,6,   90.610,1,  111.320,2,  134.020,2,   38.610,2,    0.000,2,    2.755,2,    0.000,2,    0.000,2, -999.000,9, -999.000,9, -999.000,9
           NA,     P10,     26,   1,-999.0,     -99,  2,20050622,1223,   1.9963,  146.7213,  4440, 1999.000,    2.125,   34.642,2,   34.642,2,   96.820,1,  119.600,2,  136.950,2,   38.100,2,    0.000,2,    2.708,2, -999.000,5, -999.000,5, -999.000,9, -999.000,9, -999.000,9
           NA,     P10,     26,   1,-999.0,     -99,  2,20050622,1223,   1.9963,  146.7213,  4440, 2200.600,    1.987,   34.650,2,   34.649,2,   99.530,1,  123.490,2,  139.790,2,   37.890,2,    0.000,2,    2.690,2, -999.000,5, -999.000,5, -999.000,9, -999.000,9, -999.000,9
           NA,     P10,     26,   1,-999.0,     -99,  2,20050622,1223,   1.9963,  146.7213,  4440, 2399.900,    1.833,   34.658,2,   34.658,2,  103.300,1,  128.780,2,  142.400,2,   37.620,2,    0.000,2,    2.660,2, -999.000,9, -999.000,9, -999.000,9, -999.000,9, -999.000,9
           NA,     P10,     26,   1,-999.0,     -99,  2,20050622,1223,   1.9963,  146.7213,  4440, 2601.000,    1.752,   34.663,2,   34.663,2,  106.530,1,  133.370,2,  142.880,2,   37.320,2,    0.000,2,    2.634,2, -999.000,9, -999.000,9, -999.000,9, -999.000,9, -999.000,9
           NA,     P10,     26,   1,-999.0,     -99,  2,20050622,1223,   1.9963,  146.7213,  4440, 2800.300,    1.688,   34.668,2,   34.667,6,  109.480,1,  137.420,2,  143.270,2,   36.970,2,    0.000,2,    2.616,2, -999.000,9, -999.000,9, -999.000,9, -999.000,9, -999.000,9
           NA,     P10,     26,   1,-999.0,     -99,  2,20050622,1223,   1.9963,  146.7213,  4440, 3001.100,    1.634,   34.672,2,   34.671,2,  112.060,1,  140.920,6,  143.370,2,   36.820,2,    0.000,2,    2.597,2, -999.000,9, -999.000,9, -999.000,9, -999.000,9, -999.000,9
           NA,     P10,     26,   1,-999.0,     -99,  2,20050622,1223,   1.9963,  146.7213,  4440, 3249.200,    1.608,   34.675,2,   34.675,2,  113.860,1,  143.760,2,  143.170,2,   36.640,2,    0.000,2,    2.571,2, -999.000,9, -999.000,9, -999.000,9, -999.000,9, -999.000,9
           NA,     P10,     26,   1,-999.0,     -99,  2,20050622,1223,   1.9963,  146.7213,  4440, 3501.900,    1.582,   34.678,2,   34.678,2,  116.150,1,  146.440,2,  143.170,2,   36.440,2,    0.000,2,    2.563,2, -999.000,9, -999.000,9, -999.000,9, -999.000,9, -999.000,9
           NA,     P10,     26,   1,-999.0,     -99,  2,20050622,1223,   1.9963,  146.7213,  4440, 3749.200,    1.546,   34.683,2,   34.682,6,  119.430,1,  150.300,2,  142.780,2,   36.230,2,    0.000,2,    2.548,2, -999.000,9, -999.000,9, -999.000,9, -999.000,9, -999.000,9
           NA,     P10,     26,   1,-999.0,     -99,  2,20050622,1223,   1.9963,  146.7213,  4440, 4002.000,    1.526,   34.686,2,   34.686,2,  122.670,1,  153.850,2,  142.180,2,   36.000,2,    0.000,2,    2.528,2, -999.000,9, -999.000,9, -999.000,9, -999.000,9, -999.000,9
           NA,     P10,     26,   1,-999.0,     -99,  2,20050622,1223,   1.9963,  146.7213,  4440, 4250.700,    1.534,   34.687,2,   34.687,2,  124.420,1,  155.240,2,  141.890,2,   35.900,2,    0.000,2,    2.523,2, -999.000,9, -999.000,9, -999.000,9, -999.000,9, -999.000,9
           NA,     P10,     26,   1,-999.0,     -99,  2,20050622,1223,   1.9963,  146.7213,  4440, 4486.100,    1.554,   34.687,2,   34.688,2,  125.700,1,  155.620,2,  141.690,2,   35.870,2,    0.000,2,    2.516,2, -999.000,9, -999.000,9, -999.000,9, -999.000,9, -999.000,9
           NA,     P10,     26,   1,-999.0,     -99,  2,20050622,1223,   1.9963,  146.7213,  4440, 4486.100,    1.554,   34.687,2,   34.688,6,  125.730,1,  155.750,6,  141.820,2,   35.920,2,    0.000,2,    2.526,2, -999.000,9, -999.000,9, -999.000,9, -999.000,9, -999.000,9