BOTTLE,20214413JOAExport
EXPOCODE,SECT_ID,STNNBR,CASTNO,SAMPNO,BTLNBR,BTLNBR_FLAG_W,DATE,TIME,LATITUDE,LONGITUDE,DEPTH,CTDPRS,CTDTMP,CTDSAL,CTDSAL_FLAG_W,SALNTY,SALNTY_FLAG_W,CTDOXY,CTDOXY_FLAG_W,OXYGEN,OXYGEN_FLAG_W,SILCAT,SILCAT_FLAG_W,NITRAT,NITRAT_FLAG_W,NITRIT,NITRIT_FLAG_W,PHSPHT,PHSPHT_FLAG_W,CFC-11,CFC-11_FLAG_W,CFC-12,CFC-12_FLAG_W,SF6,SF6_FLAG_W,TCARBN,TCARBN_FLAG_W,ALKALI,ALKALI_FLAG_W
,,,,,,,,,,,,,DB,ITS-90,PSS-78,,PSS-78,,UMOL/KG,,UMOL/KG,,UMOL/KG,,UMOL/KG,,UMOL/KG,,UMOL/KG,,PMOL/KG,,PMOL/KG,,FMOL/KG,,UMOL/KG,,UMOL/KG
           NA,     P10,     45,   1,-999.0,     -99,  2,20050618,0610,  10.0050,  149.3287,  5554,    9.600,   29.132,   34.004,2,   33.996,2,  172.580,1,  196.110,6,    0.950,2,    0.030,2,    0.000,2,    0.082,2,    1.433,2,    0.887,2, -999.000,9, 1894.500,2, 2238.600,2
           NA,     P10,     45,   1,-999.0,     -99,  2,20050618,0610,  10.0050,  149.3287,  5554,   49.500,   28.674,   34.292,2,   34.288,2,  174.890,1,  199.230,2,    1.010,2,    0.020,2,    0.000,2,    0.075,2,    1.466,2,    0.917,2, -999.000,9, 1911.900,6, 2257.300,2
           NA,     P10,     45,   1,-999.0,     -99,  2,20050618,0610,  10.0050,  149.3287,  5554,   99.800,   27.328,   34.595,2,   34.597,2,  179.370,1,  205.470,2,    0.900,2,    0.010,2,    0.000,2,    0.089,2,    1.563,2,    0.952,2, -999.000,9, 1931.600,2, 2279.100,6
           NA,     P10,     45,   1,-999.0,     -99,  2,20050618,0610,  10.0050,  149.3287,  5554,  149.900,   22.852,   34.991,2,   34.928,2,  159.550,1,  174.800,2,    3.410,2,    2.660,2,    0.130,2,    0.376,2,    1.924,2,    1.135,2, -999.000,9, 2037.200,2, 2302.400,2
           NA,     P10,     45,   1,-999.0,     -99,  2,20050618,0610,  10.0050,  149.3287,  5554,  198.700,   16.144,   34.655,2,   34.608,2,  127.390,1,  141.670,2,   11.050,2,   13.050,2,    0.010,2,    1.039,2,    2.164,2,    1.193,2, -999.000,9, 2110.600,2, 2286.400,2
           NA,     P10,     45,   1,-999.0,     -99,  2,20050618,0610,  10.0050,  149.3287,  5554,  251.500,   11.358,   34.375,2,   34.372,2,   99.230,1,  111.670,2,   24.360,2,   22.870,2,    0.000,2,    1.732,2,    1.779,6,    0.921,6, -999.000,9, 2168.800,2, 2282.600,2
           NA,     P10,     45,   1,-999.0,     -99,  2,20050618,0610,  10.0050,  149.3287,  5554,  300.500,    9.684,   34.483,2,   34.484,2,   58.480,1,   67.380,2,   35.500,2,   30.540,2,    0.000,2,    2.245,2,    0.759,2,    0.387,2, -999.000,9, 2226.100,2, 2298.700,2
           NA,     P10,     45,   1,-999.0,     -99,  2,20050618,0610,  10.0050,  149.3287,  5554,  399.500,    8.645,   34.583,2,   34.581,2,   52.670,1,   60.520,2,   40.320,2,   33.950,2,    0.000,2,    2.438,2,    0.282,2,    0.147,2, -999.000,9, 2240.800,2, 2311.500,2
           NA,     P10,     45,   1,-999.0,     -99,  2,20050618,0610,  10.0050,  149.3287,  5554,  500.500,    7.840,   34.556,2,   34.554,6,   60.230,1,   70.000,2,   46.150,2,   34.630,2,    0.000,2,    2.496,2,    0.220,2,    0.111,2, -999.000,9, 2249.800,2, 2317.300,2
           NA,     P10,     45,   1,-999.0,     -99,  2,20050618,0610,  10.0050,  149.3287,  5554,  599.700,    6.939,   34.513,2,   34.513,2,   69.730,1,   81.590,2,   54.540,2,   35.040,2,    0.000,2,    2.525,2,    0.196,2,    0.101,2, -999.000,9, 2254.000,2, 2322.700,2
           NA,     P10,     45,   1,-999.0,     -99,  2,20050618,0610,  10.0050,  149.3287,  5554,  699.500,    6.412,   34.517,2,   34.515,2,   68.930,1,   80.180,2,   61.370,2,   36.190,2,    0.000,2,    2.617,2,    0.124,2,    0.062,2, -999.000,9, 2263.500,6, 2331.200,2
           NA,     P10,     45,   1,-999.0,     -99,  2,20050618,0610,  10.0050,  149.3287,  5554,  799.100,    5.910,   34.518,2,   34.518,2,   62.110,1,   72.870,2,   69.190,2,   37.620,2,    0.000,2,    2.728,2,    0.062,6,    0.034,6, -999.000,9, 2278.600,2, 2338.000,6
           NA,     P10,     45,   1,-999.0,     -99,  2,20050618,0610,  10.0050,  149.3287,  5554,  900.000,    5.371,   34.527,2,   34.528,2,   58.590,1,   69.400,2,   78.500,2,   38.900,2,    0.000,2,    2.804,2,    0.026,2,    0.018,2, -999.000,9, 2292.800,2, 2345.500,2
           NA,     P10,     45,   1,-999.0,     -99,  2,20050618,0610,  10.0050,  149.3287,  5554,  998.400,    4.896,   34.540,2,   34.541,6,   66.050,1,   78.100,2,   86.060,2,   38.710,2,    0.000,2,    2.792,2,    0.020,2,    0.012,2, -999.000,9, 2297.300,2, 2356.400,2
           NA,     P10,     45,   1,-999.0,     -99,  2,20050618,0610,  10.0050,  149.3287,  5554, 1201.100,    4.008,   34.562,2,   34.561,2,   68.900,1,   82.240,6,  103.640,2,   39.320,2,    0.000,2,    2.840,2,    0.008,2,    0.004,2, -999.000,9, 2317.800,2, 2374.400,2
           NA,     P10,     45,   1,-999.0,     -99,  2,20050618,0610,  10.0050,  149.3287,  5554, 1398.900,    3.368,   34.581,2,   34.581,2,   71.850,1,   86.170,2,  117.480,2,   39.580,2,    0.000,2,    2.852,2,   -0.002,2,    0.003,2, -999.000,9, 2330.000,2, 2388.600,2
           NA,     P10,     45,   1,-999.0,     -99,  2,20050618,0610,  10.0050,  149.3287,  5554, 1600.100,    2.817,   34.602,2,   34.602,2,   79.000,1,   96.020,2,  128.620,2,   39.340,2,    0.000,2,    2.817,2,   -0.002,2,    0.000,2, -999.000,9, 2334.900,2, 2402.700,2
           NA,     P10,     45,   1,-999.0,     -99,  2,20050618,0610,  10.0050,  149.3287,  5554, 1799.900,    2.463,   34.619,2,   34.620,2,   85.380,1,  104.770,2,  134.890,2,   38.870,2,    0.000,2,    2.775,2,   -0.001,2,    0.000,2, -999.000,9, 2336.100,2, 2405.200,2
           NA,     P10,     45,   1,-999.0,     -99,  2,20050618,0610,  10.0050,  149.3287,  5554, 2002.300,    2.182,   34.632,2,   34.633,2,   88.670,1,  109.360,2,  141.200,2,   38.770,2,    0.000,2,    2.760,2,    0.000,2,    0.000,2, -999.000,9, 2340.200,2, 2412.000,2
           NA,     P10,     45,   1,-999.0,     -99,  2,20050618,0610,  10.0050,  149.3287,  5554, 2200.700,    2.003,   34.643,2,   34.644,6,   93.240,1,  115.750,2,  144.190,2,   38.370,2,    0.000,2,    2.725,2,    0.003,2,    0.000,2, -999.000,9, 2339.400,2, 2417.300,2
           NA,     P10,     45,   1,-999.0,     -99,  2,20050618,0610,  10.0050,  149.3287,  5554, 2400.100,    1.886,   34.651,2,   34.652,2,   96.740,1,  120.810,2,  145.710,2,   38.070,2,    0.000,2,    2.697,2,    0.003,2,   -0.002,2, -999.000,9, 2338.300,6, 2416.600,2
           NA,     P10,     45,   1,-999.0,     -99,  2,20050618,0610,  10.0050,  149.3287,  5554, 2600.600,    1.755,   34.660,2,   34.660,2,  101.180,1,  127.130,2,  147.310,2,   37.760,2,    0.000,2,    2.670,2,   -0.002,2,   -0.002,2, -999.000,9, 2338.600,2, 2420.800,6
           NA,     P10,     45,   1,-999.0,     -99,  2,20050618,0610,  10.0050,  149.3287,  5554, 2800.300,    1.666,   34.666,2,   34.666,2,  104.900,1,  132.540,2,  147.880,2,   37.340,2,    0.000,2,    2.634,2, -999.000,9, -999.000,9, -999.000,9, 2337.400,2, 2422.600,2
           NA,     P10,     45,   1,-999.0,     -99,  2,20050618,0610,  10.0050,  149.3287,  5554, 3000.500,    1.608,   34.671,2,   34.671,2,  108.480,1,  137.570,6,  147.330,2,   37.000,2,    0.000,2,    2.610,2, -999.000,9, -999.000,9, -999.000,9, 2332.900,2, 2419.300,2
           NA,     P10,     45,   1,-999.0,     -99,  2,20050618,0610,  10.0050,  149.3287,  5554, 3251.000,    1.548,   34.677,2,   34.676,6,  112.470,1,  143.490,2,  146.660,2,   36.670,2,    0.000,2,    2.577,2, -999.000,9, -999.000,9, -999.000,9, 2328.200,2, 2419.600,2
           NA,     P10,     45,   1,-999.0,     -99,  2,20050618,0610,  10.0050,  149.3287,  5554, 3501.500,    1.497,   34.682,2,   34.682,2,  117.210,1,  149.920,2,  144.540,2,   36.230,2,    0.000,2,    2.541,2, -999.000,9, -999.000,9, -999.000,9, 2321.800,2, 2418.000,2
           NA,     P10,     45,   1,-999.0,     -99,  2,20050618,0610,  10.0050,  149.3287,  5554, 3751.600,    1.465,   34.686,2,   34.686,2,  121.280,1,  155.560,2,  142.490,2,   35.750,2,    0.000,2,    2.516,2, -999.000,9, -999.000,9, -999.000,9, 2317.800,2, 2417.300,2
           NA,     P10,     45,   1,-999.0,     -99,  2,20050618,0610,  10.0050,  149.3287,  5554, 4000.400,    1.440,   34.690,2,   34.690,2,  125.630,1,  161.630,2,  139.850,2,   35.420,2,    0.000,2,    2.484,2, -999.000,9, -999.000,9, -999.000,9, 2314.100,2, 2414.200,2
           NA,     P10,     45,   1,-999.0,     -99,  2,20050618,0610,  10.0050,  149.3287,  5554, 4252.400,    1.430,   34.693,2,   34.692,2,  128.950,1,  166.180,2,  137.620,2,   35.010,2,    0.000,2,    2.457,2, -999.000,9, -999.000,9, -999.000,9, 2309.200,6, 2410.200,2
           NA,     P10,     45,   1,-999.0,     -99,  2,20050618,0610,  10.0050,  149.3287,  5554, 4500.400,    1.427,   34.695,2,   34.695,6,  132.090,1,  169.980,2,  135.720,2,   34.760,2,    0.000,2,    2.442,2, -999.000,9, -999.000,9, -999.000,9, 2305.100,2, 2408.300,6
           NA,     P10,     45,   1,-999.0,     -99,  2,20050618,0610,  10.0050,  149.3287,  5554, 4749.500,    1.433,   34.697,2,   34.697,2,  134.660,1,  172.940,2,  134.090,2,   34.580,2,    0.000,2,    2.420,2, -999.000,9, -999.000,9, -999.000,9, 2300.600,2, 2407.200,2
           NA,     P10,     45,   1,-999.0,     -99,  2,20050618,0610,  10.0050,  149.3287,  5554, 4999.800,    1.447,   34.698,2,   34.699,2,  136.970,1,  175.150,6,  132.940,2,   34.420,2,    0.000,2,    2.414,2, -999.000,9, -999.000,9, -999.000,9, 2298.700,2, 2405.200,2
           NA,     P10,     45,   1,-999.0,     -99,  2,20050618,0610,  10.0050,  149.3287,  5554, 5249.600,    1.475,   34.698,2,   34.698,2,  138.270,1,  175.620,2,  132.860,2,   34.350,2,    0.000,2,    2.408,2, -999.000,9, -999.000,9, -999.000,9, 2299.500,2, 2405.500,2
           NA,     P10,     45,   1,-999.0,     -99,  2,20050618,0610,  10.0050,  149.3287,  5554, 5499.800,    1.505,   34.698,2,   34.698,2,  139.470,1,  175.960,2,  132.540,2,   34.310,2,    0.000,2,    2.406,2, -999.000,9, -999.000,9, -999.000,9, 2297.500,2, 2402.700,2
           NA,     P10,     45,   1,-999.0,     -99,  2,20050618,0610,  10.0050,  149.3287,  5554, 5653.100,    1.523,   34.699,2,   34.698,2,  140.590,1,  176.210,2,  132.560,2,   34.330,2,    0.000,2,    2.403,2, -999.000,9, -999.000,9, -999.000,9, 2298.800,2, 2406.100,2
           NA,     P10,     45,   1,-999.0,     -99,  2,20050618,0610,  10.0050,  149.3287,  5554, 5653.600,    1.523,   34.699,2,   34.699,6,  140.650,1,  176.300,2,  132.400,2,   34.280,2,    0.000,2,    2.402,2, -999.000,9, -999.000,9, -999.000,9, 2294.600,2, 2404.000,2