BOTTLE,20214413JOAExport
EXPOCODE,SECT_ID,STNNBR,CASTNO,SAMPNO,BTLNBR,BTLNBR_FLAG_W,DATE,TIME,LATITUDE,LONGITUDE,DEPTH,CTDPRS,CTDTMP,CTDSAL,CTDSAL_FLAG_W,SALNTY,SALNTY_FLAG_W,CTDOXY,CTDOXY_FLAG_W,OXYGEN,OXYGEN_FLAG_W,SILCAT,SILCAT_FLAG_W,NITRAT,NITRAT_FLAG_W,NITRIT,NITRIT_FLAG_W,PHSPHT,PHSPHT_FLAG_W,CFC-11,CFC-11_FLAG_W,CFC-12,CFC-12_FLAG_W,SF6,SF6_FLAG_W,TCARBN,TCARBN_FLAG_W,ALKALI,ALKALI_FLAG_W
,,,,,,,,,,,,,DB,ITS-90,PSS-78,,PSS-78,,UMOL/KG,,UMOL/KG,,UMOL/KG,,UMOL/KG,,UMOL/KG,,UMOL/KG,,PMOL/KG,,PMOL/KG,,FMOL/KG,,UMOL/KG,,UMOL/KG
           NA,     P10,     29,   1,-999.0,     -99,  2,20050621,1950,   2.7522,  146.9373,  4423,   10.100,   29.648,   34.025,2,   34.022,2,  171.590,1,  195.210,6,    0.830,2,    0.020,2,    0.000,2,    0.090,2,    1.390,2,    0.870,2, -999.000,9, 1896.100,2, 2244.100,2
           NA,     P10,     29,   1,-999.0,     -99,  2,20050621,1950,   2.7522,  146.9373,  4423,   50.000,   29.644,   34.044,2,   34.133,2,  171.980,1,  195.310,2,    0.860,2,    0.010,2,    0.000,2,    0.098,2,    1.406,2,    0.866,2, -999.000,9, 1904.500,6, 2249.800,2
           NA,     P10,     29,   1,-999.0,     -99,  2,20050621,1950,   2.7522,  146.9373,  4423,  100.200,   26.281,   35.033,2,   35.019,2,  124.530,1,  137.340,2,    3.240,2,    6.980,2,    0.280,2,    0.609,2,    1.619,2,    0.963,2, -999.000,9, 2032.300,2, 2303.700,6
           NA,     P10,     29,   1,-999.0,     -99,  2,20050621,1950,   2.7522,  146.9373,  4423,  150.200,   21.693,   35.022,2,   34.987,2,  119.580,1,  139.170,2,    6.730,2,    9.230,2,    0.020,2,    0.732,2, -999.000,5, -999.000,5, -999.000,9, 2067.600,2, 2303.100,2
           NA,     P10,     29,   1,-999.0,     -99,  2,20050621,1950,   2.7522,  146.9373,  4423,  199.800,   17.583,   34.805,2,   34.759,2,  120.770,1,  139.900,2,   12.280,2,   13.010,2,    0.010,2,    0.978,2,    1.953,2,    1.071,2, -999.000,9, 2100.600,2, 2293.600,2
           NA,     P10,     29,   1,-999.0,     -99,  2,20050621,1950,   2.7522,  146.9373,  4423,  250.100,   12.083,   34.533,2,   34.535,2,   96.090,1,  103.820,2,   27.030,2,   23.920,2,    0.010,2,    1.747,2,    1.342,6,    0.683,6, -999.000,9, 2174.300,2, 2298.000,2
           NA,     P10,     29,   1,-999.0,     -99,  2,20050621,1950,   2.7522,  146.9373,  4423,  302.300,    9.566,   34.582,2,   34.580,2,   58.230,1,   67.570,2,   35.680,2,   31.510,2,    0.000,2,    2.268,2,    0.531,2,    0.257,2, -999.000,9, 2229.900,2, 2305.900,2
           NA,     P10,     29,   1,-999.0,     -99,  2,20050621,1950,   2.7522,  146.9373,  4423,  400.900,    8.273,   34.603,2,   34.600,2,   99.710,1,  116.880,2,   33.080,2,   29.810,2,    0.000,2,    2.119,2,    0.492,2,    0.247,2, -999.000,9, 2212.700,2, 2313.000,2
           NA,     P10,     29,   1,-999.0,     -99,  2,20050621,1950,   2.7522,  146.9373,  4423,  500.000,    7.491,   34.567,2,   34.565,6,   94.590,1,  110.680,2,   39.550,2,   31.930,2,    0.000,2,    2.274,2,    0.315,2,    0.153,2, -999.000,9, 2225.900,2, 2315.400,2
           NA,     P10,     29,   1,-999.0,     -99,  2,20050621,1950,   2.7522,  146.9373,  4423,  602.400,    6.709,   34.546,2,   34.545,2,   76.450,1,   89.430,2,   51.170,2,   35.350,2,    0.000,2,    2.529,2,    0.130,2,    0.059,2, -999.000,9, 2253.900,2, 2323.500,2
           NA,     P10,     29,   1,-999.0,     -99,  2,20050621,1950,   2.7522,  146.9373,  4423,  700.100,    6.093,   34.536,2,   34.536,2,   82.150,1,   96.680,2,   58.110,2,   35.850,2,    0.000,2,    2.566,2,    0.096,2,    0.032,2, -999.000,9, 2258.300,6, 2331.900,2
           NA,     P10,     29,   1,-999.0,     -99,  2,20050621,1950,   2.7522,  146.9373,  4423,  800.300,    5.607,   34.540,2,   34.541,2,   70.070,1,   82.600,2,   68.280,2,   37.950,2,    0.000,2,    2.726,2,    0.031,6,    0.013,6, -999.000,9, 2279.600,2, 2340.800,6
           NA,     P10,     29,   1,-999.0,     -99,  2,20050621,1950,   2.7522,  146.9373,  4423,  900.500,    4.942,   34.546,2,   34.549,2,   74.850,1,   89.160,2,   79.580,2,   38.110,2,    0.000,2,    2.733,2,    0.020,2,    0.010,2, -999.000,9, 2289.700,2, 2352.200,2
           NA,     P10,     29,   1,-999.0,     -99,  2,20050621,1950,   2.7522,  146.9373,  4423, 1003.200,    4.361,   34.559,2,   34.560,6,   77.140,1,   91.890,2,   91.500,2,   38.410,2,    0.000,2,    2.757,2,    0.015,2,    0.007,2, -999.000,9, 2301.400,2, 2363.700,2
           NA,     P10,     29,   1,-999.0,     -99,  2,20050621,1950,   2.7522,  146.9373,  4423, 1201.200,    3.697,   34.578,2,   34.579,2,   80.160,1,   96.220,6,  105.690,2,   38.680,2,    0.000,2,    2.774,2,    0.012,2,    0.007,2, -999.000,9, 2314.600,2, 2380.800,2
           NA,     P10,     29,   1,-999.0,     -99,  2,20050621,1950,   2.7522,  146.9373,  4423, 1400.300,    3.165,   34.596,2,   34.596,2,   81.370,1,   98.410,2,  117.090,2,   39.080,2,    0.000,2,    2.798,2,    0.000,2,    0.000,2, -999.000,9, 2326.700,2, 2393.800,2
           NA,     P10,     29,   1,-999.0,     -99,  2,20050621,1950,   2.7522,  146.9373,  4423, 1602.000,    2.730,   34.613,2,   34.614,2,   84.530,1,  102.980,2,  126.500,2,   38.920,2,    0.000,2,    2.787,2,    0.002,2,    0.000,2, -999.000,9, 2334.600,2, 2401.300,2
           NA,     P10,     29,   1,-999.0,     -99,  2,20050621,1950,   2.7522,  146.9373,  4423, 1802.100,    2.395,   34.628,2,   34.629,6,   91.620,1,  112.540,2,  132.630,2,   38.510,2,    0.000,2,    2.731,2,   -0.002,2,    0.000,2, -999.000,9, 2335.100,2, 2406.400,2
           NA,     P10,     29,   1,-999.0,     -99,  2,20050621,1950,   2.7522,  146.9373,  4423, 2002.500,    2.179,   34.639,2,   34.639,2,   94.900,1,  117.190,2,  137.070,2,   38.260,2,    0.000,2,    2.714,2,    0.001,2,    0.000,2, -999.000,9, 2337.400,2, 2414.000,2
           NA,     P10,     29,   1,-999.0,     -99,  2,20050621,1950,   2.7522,  146.9373,  4423, 2201.700,    2.028,   34.647,2, -999.000,3,   98.470,1,  122.090,2,  139.560,2,   37.990,2,    0.000,2,    2.683,2,   -0.001,2,    0.000,2, -999.000,9, 2337.600,2, 2417.100,2
           NA,     P10,     29,   1,-999.0,     -99,  2,20050621,1950,   2.7522,  146.9373,  4423, 2401.600,    1.840,   34.658,2,   34.658,2,  103.120,1,  128.630,2,  142.680,2,   37.650,2,    0.000,2,    2.652,2, -999.000,9, -999.000,9, -999.000,9, 2338.700,6, 2420.500,2
           NA,     P10,     29,   1,-999.0,     -99,  2,20050621,1950,   2.7522,  146.9373,  4423, 2600.500,    1.748,   34.664,2,   34.664,2,  105.820,1,  132.430,2,  143.860,2,   37.490,2,    0.000,2,    2.630,2, -999.000,9, -999.000,9, -999.000,9, 2333.300,2, 2421.400,6
           NA,     P10,     29,   1,-999.0,     -99,  2,20050621,1950,   2.7522,  146.9373,  4423, 2801.000,    1.679,   34.668,2,   34.668,6,  109.530,1,  137.460,2,  143.730,2,   37.040,2,    0.000,2,    2.603,2, -999.000,9, -999.000,9, -999.000,9, 2334.100,2, 2423.800,2
           NA,     P10,     29,   1,-999.0,     -99,  2,20050621,1950,   2.7522,  146.9373,  4423, 3000.900,    1.623,   34.672,2,   34.672,2,  112.430,1,  141.580,6,  143.710,2,   36.830,2,    0.000,2,    2.581,2, -999.000,9, -999.000,9, -999.000,9, 2332.600,2, 2420.700,2
           NA,     P10,     29,   1,-999.0,     -99,  2,20050621,1950,   2.7522,  146.9373,  4423, 3251.600,    1.595,   34.675,2,   34.675,2,  114.490,1,  144.090,2,  143.520,2,   36.590,2,    0.000,2,    2.564,2, -999.000,9, -999.000,9, -999.000,9, 2330.800,2, 2423.100,2
           NA,     P10,     29,   1,-999.0,     -99,  2,20050621,1950,   2.7522,  146.9373,  4423, 3500.900,    1.571,   34.679,2,   34.679,2,  116.640,1,  146.890,2,  143.360,2,   36.410,2,    0.000,2,    2.550,2, -999.000,9, -999.000,9, -999.000,9, 2330.600,2, 2421.900,2
           NA,     P10,     29,   1,-999.0,     -99,  2,20050621,1950,   2.7522,  146.9373,  4423, 3749.700,    1.545,   34.682,2,   34.682,6,  119.620,1,  150.600,2,  143.080,2,   36.180,2,    0.000,2,    2.531,2, -999.000,9, -999.000,9, -999.000,9, 2328.700,2, 2424.600,2
           NA,     P10,     29,   1,-999.0,     -99,  2,20050621,1950,   2.7522,  146.9373,  4423, 4000.400,    1.537,   34.685,2,   34.685,2,  122.300,1,  153.340,2,  142.410,2,   36.000,2,    0.000,2,    2.516,2, -999.000,9, -999.000,9, -999.000,9, 2322.100,2, 2423.700,2
           NA,     P10,     29,   1,-999.0,     -99,  2,20050621,1950,   2.7522,  146.9373,  4423, 4250.400,    1.534,   34.687,2,   34.687,2,  124.540,1,  155.340,2,  141.400,2,   35.810,2,    0.000,2,    2.518,2, -999.000,9, -999.000,9, -999.000,9, 2324.200,6, 2423.800,2
           NA,     P10,     29,   1,-999.0,     -99,  2,20050621,1950,   2.7522,  146.9373,  4423, 4463.200,    1.552,   34.687,2,   34.688,2,  125.610,1,  155.750,2,  141.430,2,   35.760,2,    0.000,2,    2.499,2, -999.000,9, -999.000,9, -999.000,9, 2325.400,2, 2423.600,2
           NA,     P10,     29,   1,-999.0,     -99,  2,20050621,1950,   2.7522,  146.9373,  4423, 4463.300,    1.552,   34.687,2,   34.688,6,  125.590,1,  155.640,6,  142.270,2,   35.880,2,    0.000,2,    2.507,2, -999.000,9, -999.000,9, -999.000,9, 2324.900,2, 2424.600,2
           NA,     P10,     30,   1,-999.0,     -99,  2,20050621,1435,   3.0040,  147.0025,  4424,   10.500,   29.681,   33.978,2,   33.981,2,  171.610,1,  195.540,6,    0.870,2,    0.050,2,    0.000,2,    0.094,2,    1.425,2,    0.886,2, -999.000,9, -999.000,9, -999.000,9
           NA,     P10,     30,   1,-999.0,     -99,  2,20050621,1435,   3.0040,  147.0025,  4424,   50.200,   29.569,   34.191,2, -999.000,4,  172.790,1,  195.270,2,    1.010,2,    0.030,2,    0.010,2,    0.121,2,    1.448,2,    0.881,2, -999.000,9, -999.000,9, -999.000,9
           NA,     P10,     30,   1,-999.0,     -99,  2,20050621,1435,   3.0040,  147.0025,  4424,  100.200,   25.674,   35.011,2,   34.985,2,  118.920,1,  135.350,2,    3.780,2,    7.810,2,    0.050,2,    0.642,2,    1.633,2,    0.972,2, -999.000,9, -999.000,9, -999.000,9
           NA,     P10,     30,   1,-999.0,     -99,  2,20050621,1435,   3.0040,  147.0025,  4424,  150.400,   23.503,   35.044,2,   35.002,2,  113.830,1,  133.230,2,    5.690,2,    9.020,2,    0.030,2,    0.724,2,    1.712,2,    0.995,2, -999.000,9, -999.000,9, -999.000,9
           NA,     P10,     30,   1,-999.0,     -99,  2,20050621,1435,   3.0040,  147.0025,  4424,  199.900,   18.099,   34.811,2,   34.785,2,  120.900,1,  138.860,2,   11.280,2,   12.530,2,    0.010,2,    0.962,2,    1.902,2,    1.055,2, -999.000,9, -999.000,9, -999.000,9
           NA,     P10,     30,   1,-999.0,     -99,  2,20050621,1435,   3.0040,  147.0025,  4424,  249.900,   12.039,   34.565,2,   34.563,2,   87.660,1,   93.770,2,   27.730,2,   25.210,2,    0.010,2,    1.853,2,    1.191,6,    0.622,6, -999.000,9, -999.000,9, -999.000,9
           NA,     P10,     30,   1,-999.0,     -99,  2,20050621,1435,   3.0040,  147.0025,  4424,  300.500,    9.577,   34.616,2,   34.614,2,   48.690,1,   55.940,2,   35.450,2,   32.800,2,    0.010,2,    2.373,2,    0.408,2,    0.202,2, -999.000,9, -999.000,9, -999.000,9
           NA,     P10,     30,   1,-999.0,     -99,  2,20050621,1435,   3.0040,  147.0025,  4424,  400.100,    8.127,   34.595,2,   34.593,2,   61.770,1,   72.060,2,   40.260,2,   34.280,2,    0.010,2,    2.460,2,    0.223,2,    0.116,2, -999.000,9, -999.000,9, -999.000,9
           NA,     P10,     30,   1,-999.0,     -99,  2,20050621,1435,   3.0040,  147.0025,  4424,  499.800,    7.312,   34.568,2,   34.563,6,   63.600,1,   76.860,2,   47.050,2,   35.460,2,    0.010,2,    2.563,2,    0.156,2,    0.072,2, -999.000,9, -999.000,9, -999.000,9
           NA,     P10,     30,   1,-999.0,     -99,  2,20050621,1435,   3.0040,  147.0025,  4424,  601.800,    6.520,   34.541,2,   34.541,2,   83.380,1,   98.630,2,   51.720,2,   34.870,2,    0.010,2,    2.510,2,    0.160,2,    0.078,2, -999.000,9, -999.000,9, -999.000,9
           NA,     P10,     30,   1,-999.0,     -99,  2,20050621,1435,   3.0040,  147.0025,  4424,  699.400,    5.972,   34.536,2,   34.537,2,   79.130,1,   92.780,2,   60.530,2,   36.320,2,    0.010,2,    2.625,2,    0.091,2,    0.048,2, -999.000,9, -999.000,9, -999.000,9
           NA,     P10,     30,   1,-999.0,     -99,  2,20050621,1435,   3.0040,  147.0025,  4424,  801.000,    5.261,   34.542,2,   34.541,2,   73.440,1,   86.670,2,   73.720,2,   37.950,2,    0.010,2,    2.746,2,    0.040,6,    0.017,6, -999.000,9, -999.000,9, -999.000,9
           NA,     P10,     30,   1,-999.0,     -99,  2,20050621,1435,   3.0040,  147.0025,  4424,  900.000,    4.770,   34.549,2,   34.550,2,   75.750,1,   89.690,2,   82.010,2,   38.380,2,    0.000,2,    2.764,2,    0.024,2,    0.011,2, -999.000,9, -999.000,9, -999.000,9
           NA,     P10,     30,   1,-999.0,     -99,  2,20050621,1435,   3.0040,  147.0025,  4424, 1001.500,    4.430,   34.557,2,   34.557,6,   76.200,1,   90.520,2,   89.320,2,   38.600,2,    0.010,2,    2.788,2,    0.017,2,    0.008,2, -999.000,9, -999.000,9, -999.000,9
           NA,     P10,     30,   1,-999.0,     -99,  2,20050621,1435,   3.0040,  147.0025,  4424, 1200.500,    3.768,   34.576,2,   34.576,2,   80.080,1,   96.080,6,  103.830,2,   38.680,2,    0.010,2,    2.799,2,    0.012,2,    0.007,2, -999.000,9, -999.000,9, -999.000,9
           NA,     P10,     30,   1,-999.0,     -99,  2,20050621,1435,   3.0040,  147.0025,  4424, 1399.900,    3.181,   34.595,2,   34.596,2,   79.150,1,   95.480,2,  117.460,2,   39.320,2,    0.000,2,    2.843,2,    0.004,2,    0.000,2, -999.000,9, -999.000,9, -999.000,9
           NA,     P10,     30,   1,-999.0,     -99,  2,20050621,1435,   3.0040,  147.0025,  4424, 1599.300,    2.761,   34.612,2,   34.612,2,   83.480,1,  101.510,2,  126.410,2,   39.160,2,    0.010,2,    2.816,2,    0.001,2,    0.000,2, -999.000,9, -999.000,9, -999.000,9
           NA,     P10,     30,   1,-999.0,     -99,  2,20050621,1435,   3.0040,  147.0025,  4424, 1799.700,    2.469,   34.625,2,   34.626,2,   88.670,1,  108.510,2,  132.070,2,   38.820,2,    0.010,2,    2.787,2,   -0.004,2,    0.001,2, -999.000,9, -999.000,9, -999.000,9
           NA,     P10,     30,   1,-999.0,     -99,  2,20050621,1435,   3.0040,  147.0025,  4424, 1998.700,    2.240,   34.636,2,   34.637,6,   93.290,1,  114.770,2,  136.550,2,   38.410,2,    0.010,2,    2.747,2,    0.000,2,   -0.001,2, -999.000,9, -999.000,9, -999.000,9
           NA,     P10,     30,   1,-999.0,     -99,  2,20050621,1435,   3.0040,  147.0025,  4424, 2202.500,    2.043,   34.647,2,   34.648,2,   96.590,1,  119.570,2,  140.550,2,   38.140,2,    0.010,2,    2.723,2,    0.000,2,   -0.001,2, -999.000,9, -999.000,9, -999.000,9
           NA,     P10,     30,   1,-999.0,     -99,  2,20050621,1435,   3.0040,  147.0025,  4424, 2400.300,    1.862,   34.657,2,   34.657,2,  102.180,1,  127.040,2,  142.680,2,   37.750,2,    0.010,2,    2.689,2, -999.000,9, -999.000,9, -999.000,9, -999.000,9, -999.000,9
           NA,     P10,     30,   1,-999.0,     -99,  2,20050621,1435,   3.0040,  147.0025,  4424, 2600.100,    1.745,   34.663,2,   34.663,2,  106.880,1,  133.580,2,  143.320,2,   37.250,2,    0.010,2,    2.644,2, -999.000,9, -999.000,9, -999.000,9, -999.000,9, -999.000,9
           NA,     P10,     30,   1,-999.0,     -99,  2,20050621,1435,   3.0040,  147.0025,  4424, 2801.400,    1.662,   34.669,2,   34.669,6,  110.370,1,  138.320,2,  143.720,2,   36.920,2,    0.010,2,    2.624,2, -999.000,9, -999.000,9, -999.000,9, -999.000,9, -999.000,9
           NA,     P10,     30,   1,-999.0,     -99,  2,20050621,1435,   3.0040,  147.0025,  4424, 2999.200,    1.621,   34.672,2,   34.672,2,  112.750,1,  141.680,6,  143.580,2,   36.750,2,    0.000,2,    2.604,2, -999.000,9, -999.000,9, -999.000,9, -999.000,9, -999.000,9
           NA,     P10,     30,   1,-999.0,     -99,  2,20050621,1435,   3.0040,  147.0025,  4424, 3251.600,    1.592,   34.676,2,   34.675,2,  114.780,1,  144.250,2,  143.440,2,   36.540,2,    0.000,2,    2.577,2, -999.000,9, -999.000,9, -999.000,9, -999.000,9, -999.000,9
           NA,     P10,     30,   1,-999.0,     -99,  2,20050621,1435,   3.0040,  147.0025,  4424, 3501.500,    1.558,   34.680,2,   34.680,2,  117.420,1,  147.780,2,  143.350,2,   36.300,2,    0.010,2,    2.568,2, -999.000,9, -999.000,9, -999.000,9, -999.000,9, -999.000,9
           NA,     P10,     30,   1,-999.0,     -99,  2,20050621,1435,   3.0040,  147.0025,  4424, 3749.400,    1.543,   34.682,2,   34.682,6,  119.880,1,  150.550,2,  143.070,2,   36.230,2,    0.000,2,    2.558,2, -999.000,9, -999.000,9, -999.000,9, -999.000,9, -999.000,9
           NA,     P10,     30,   1,-999.0,     -99,  2,20050621,1435,   3.0040,  147.0025,  4424, 4000.700,    1.523,   34.686,2,   34.686,2,  123.050,1,  154.120,2,  142.400,2,   36.020,2,    0.000,2,    2.536,2, -999.000,9, -999.000,9, -999.000,9, -999.000,9, -999.000,9
           NA,     P10,     30,   1,-999.0,     -99,  2,20050621,1435,   3.0040,  147.0025,  4424, 4249.100,    1.535,   34.687,2,   34.687,2,  124.470,1,  155.080,2,  142.100,2,   35.910,2,    0.010,2,    2.533,2, -999.000,9, -999.000,9, -999.000,9, -999.000,9, -999.000,9
           NA,     P10,     30,   1,-999.0,     -99,  2,20050621,1435,   3.0040,  147.0025,  4424, 4480.100,    1.556,   34.687,2,   34.688,6,  125.730,1,  155.480,2,  142.150,2,   35.900,2,    0.000,2,    2.532,2, -999.000,9, -999.000,9, -999.000,9, -999.000,9, -999.000,9
           NA,     P10,     30,   1,-999.0,     -99,  2,20050621,1435,   3.0040,  147.0025,  4424, 4480.700,    1.556,   34.687,2,   34.687,2,  125.720,1,  155.560,2,  142.120,2,   35.840,2,    0.010,2,    2.530,2, -999.000,9, -999.000,9, -999.000,9, -999.000,9, -999.000,9