BOTTLE,20214413JOAExport
EXPOCODE,SECT_ID,STNNBR,CASTNO,SAMPNO,BTLNBR,BTLNBR_FLAG_W,DATE,TIME,LATITUDE,LONGITUDE,DEPTH,CTDPRS,CTDTMP,CTDSAL,CTDSAL_FLAG_W,SALNTY,SALNTY_FLAG_W,CTDOXY,CTDOXY_FLAG_W,OXYGEN,OXYGEN_FLAG_W,SILCAT,SILCAT_FLAG_W,NITRAT,NITRAT_FLAG_W,NITRIT,NITRIT_FLAG_W,PHSPHT,PHSPHT_FLAG_W,CFC-11,CFC-11_FLAG_W,CFC-12,CFC-12_FLAG_W,SF6,SF6_FLAG_W,TCARBN,TCARBN_FLAG_W,ALKALI,ALKALI_FLAG_W
,,,,,,,,,,,,,DB,ITS-90,PSS-78,,PSS-78,,UMOL/KG,,UMOL/KG,,UMOL/KG,,UMOL/KG,,UMOL/KG,,UMOL/KG,,PMOL/KG,,PMOL/KG,,FMOL/KG,,UMOL/KG,,UMOL/KG
           NA,    P10N,    112,   2,-999.0,     -99,  2,20050603,1231,  35.4878,  148.4270,  5913,    8.800,   21.504,   34.688,2,   34.688,2,  195.460,1,  221.790,6,    1.420,2,    0.000,2,    0.000,2,    0.054,2,    2.043,2,    1.184,2, -999.000,9, 1971.400,2, 2283.400,2
           NA,    P10N,    112,   2,-999.0,     -99,  2,20050603,1231,  35.4878,  148.4270,  5913,   50.300,   21.322,   34.743,2,   34.745,2,  195.200,1,  221.780,2,    1.440,2,    0.000,2,    0.000,2,    0.049,2,    2.047,2,    1.207,2, -999.000,9, 1975.600,6, 2288.800,2
           NA,    P10N,    112,   2,-999.0,     -99,  2,20050603,1231,  35.4878,  148.4270,  5913,   99.500,   20.395,   34.836,2,   34.839,2,  184.050,1,  209.450,2,    2.180,2,    1.430,2,    0.120,2,    0.139,2,    2.125,2,    1.222,2, -999.000,9, 1997.700,2, 2296.600,6
           NA,    P10N,    112,   2,-999.0,     -99,  2,20050603,1231,  35.4878,  148.4270,  5913,  149.100,   19.653,   34.877,2,   34.877,2,  182.690,1,  208.260,2,    2.640,2,    2.070,2,    0.030,2,    0.177,2,    2.196,2,    1.267,2, -999.000,9, 2007.800,2, 2295.600,2
           NA,    P10N,    112,   2,-999.0,     -99,  2,20050603,1231,  35.4878,  148.4270,  5913,  198.900,   18.635,   34.803,2,   34.854,2,  174.450,1,  206.600,2,    2.690,2,    2.200,2,    0.030,2,    0.185,2,    2.190,2,    1.268,2, -999.000,9, 2006.500,2, 2295.000,2
           NA,    P10N,    112,   2,-999.0,     -99,  2,20050603,1231,  35.4878,  148.4270,  5913,  249.600,   17.231,   34.672,2,   34.673,2,  173.240,1,  197.950,2,    7.770,2,    6.300,2,    0.010,2,    0.472,2,    2.347,6,    1.309,6, -999.000,9, 2039.200,2, 2290.800,2
           NA,    P10N,    112,   2,-999.0,     -99,  2,20050603,1231,  35.4878,  148.4270,  5913,  299.200,   16.323,   34.677,2,   34.674,2,  168.190,1,  192.880,2,    8.590,2,    7.630,2,    0.010,2,    0.553,2,    2.457,2,    1.351,2, -999.000,9, 2052.100,2, 2289.600,2
           NA,    P10N,    112,   2,-999.0,     -99,  2,20050603,1231,  35.4878,  148.4270,  5913,  401.900,   14.597,   34.569,2,   34.569,2,  157.170,1,  181.600,2,   13.840,2,   11.190,2,    0.010,2,    0.804,2,    2.477,2,    1.310,2, -999.000,9, 2079.500,2, 2287.800,2
           NA,    P10N,    112,   2,-999.0,     -99,  2,20050603,1231,  35.4878,  148.4270,  5913,  501.000,   11.759,   34.382,2,   34.382,6,  146.760,1,  170.010,2,   24.680,2,   16.840,2,    0.030,2,    1.214,2,    2.420,2,    1.218,2, -999.000,9, 2121.600,2, 2284.300,2
           NA,    P10N,    112,   2,-999.0,     -99,  2,20050603,1231,  35.4878,  148.4270,  5913,  600.200,    8.904,   34.250,2,   34.250,2,  121.030,1,  140.830,2,   44.430,2,   24.410,2,    0.000,2,    1.775,2,    1.924,2,    0.930,2, -999.000,9, 2180.500,2, 2297.700,2
           NA,    P10N,    112,   2,-999.0,     -99,  2,20050603,1231,  35.4878,  148.4270,  5913,  700.600,    6.243,   34.103,2,   34.101,2,  106.830,1,  125.250,2,   65.170,2,   30.570,2,    0.000,2,    2.242,2,    1.823,2,    0.867,2, -999.000,9, 2230.100,6, 2304.200,2
           NA,    P10N,    112,   2,-999.0,     -99,  2,20050603,1231,  35.4878,  148.4270,  5913,  799.200,    4.878,   34.070,2,   34.079,2,   87.220,1,  100.810,2,   82.910,2,   35.050,2,    0.000,2,    2.565,2,    1.585,6,    0.744,6, -999.000,9, 2269.400,2, 2317.700,6
           NA,    P10N,    112,   2,-999.0,     -99,  2,20050603,1231,  35.4878,  148.4270,  5913,  898.800,    4.959,   34.252,2,   34.253,2,   65.280,1,   75.510,2,   95.110,2,   36.960,2,    0.000,2,    2.679,2,    0.717,2,    0.319,2, -999.000,9, 2294.600,2, 2336.900,2
           NA,    P10N,    112,   2,-999.0,     -99,  2,20050603,1231,  35.4878,  148.4270,  5913, 1002.300,    4.318,   34.326,2,   34.326,6,   57.170,1,   66.270,2,  108.440,2,   38.680,2,    0.000,2,    2.797,2,    0.392,2,    0.174,2, -999.000,9, 2316.800,2, 2360.400,2
           NA,    P10N,    112,   2,-999.0,     -99,  2,20050603,1231,  35.4878,  148.4270,  5913, 1201.800,    3.221,   34.387,2,   34.387,2,   40.170,1,   45.670,6,  133.850,2,   41.820,2,    0.000,2,    3.009,2,    0.157,2,    0.066,2, -999.000,9, 2356.100,2, 2375.700,2
           NA,    P10N,    112,   2,-999.0,     -99,  2,20050603,1231,  35.4878,  148.4270,  5913, 1402.600,    2.680,   34.458,2,   34.458,2,   40.060,1,   45.750,2,  148.810,2,   42.360,2,    0.000,2,    3.040,2,    0.084,2,    0.032,2, -999.000,9, 2371.100,2, 2391.800,2
           NA,    P10N,    112,   2,-999.0,     -99,  2,20050603,1231,  35.4878,  148.4270,  5913, 1600.600,    2.390,   34.492,2,   34.492,2,   38.590,1,   43.900,2,  159.640,2,   42.600,2,    0.000,2,    3.067,2,    0.062,2,    0.019,2, -999.000,9, 2379.100,2, 2401.800,2
           NA,    P10N,    112,   2,-999.0,     -99,  2,20050603,1231,  35.4878,  148.4270,  5913, 1801.600,    2.289,   34.523,2,   34.522,2,   43.070,1,   49.570,2,  161.270,2,   42.430,2,    0.000,2,    3.041,2,    0.032,2,    0.013,2, -999.000,9, 2380.100,2, 2407.400,2
           NA,    P10N,    112,   2,-999.0,     -99,  2,20050603,1231,  35.4878,  148.4270,  5913, 2000.200,    2.182,   34.550,2,   34.550,2,   48.870,1,   57.200,2,  162.710,2,   42.070,2,    0.000,2,    3.005,2,    0.015,2,    0.009,2, -999.000,9, 2379.400,2, 2409.300,2
           NA,    P10N,    112,   2,-999.0,     -99,  2,20050603,1231,  35.4878,  148.4270,  5913, 2199.800,    2.079,   34.575,2,   34.575,6,   56.420,1,   66.880,2,  162.820,2,   41.520,2,    0.000,2,    2.958,2,    0.007,2,    0.003,2, -999.000,9, 2375.600,2, 2411.900,2
           NA,    P10N,    112,   2,-999.0,     -99,  2,20050603,1231,  35.4878,  148.4270,  5913, 2401.300,    1.903,   34.609,2,   34.609,2,   70.570,1,   84.780,2,  161.680,2,   40.570,2,    0.000,2,    2.872,2,   -0.004,2,    0.000,2, -999.000,9, 2367.000,6, 2418.200,2
           NA,    P10N,    112,   2,-999.0,     -99,  2,20050603,1231,  35.4878,  148.4270,  5913, 2600.700,    1.784,   34.630,2,   34.629,2,   81.480,1,   99.460,2,  160.380,2,   39.650,2,    0.000,2,    2.801,2,   -0.003,2,    0.000,2, -999.000,9, 2357.000,2, 2417.900,6
           NA,    P10N,    112,   2,-999.0,     -99,  2,20050603,1231,  35.4878,  148.4270,  5913, 2801.300,    1.683,   34.646,2,   34.646,2,   90.490,1,  111.290,2,  159.100,2,   38.930,2,    0.000,2,    2.743,2, -999.000,9, -999.000,9, -999.000,9, 2352.500,2, -999.000,3
           NA,    P10N,    112,   2,-999.0,     -99,  2,20050603,1231,  35.4878,  148.4270,  5913, 3001.500,    1.622,   34.656,2,   34.656,2,   96.930,1,  119.710,6,  157.960,2,   38.390,2,    0.000,2,    2.698,2, -999.000,9, -999.000,9, -999.000,9, 2346.500,2, 2418.500,2
           NA,    P10N,    112,   2,-999.0,     -99,  2,20050603,1231,  35.4878,  148.4270,  5913, 3250.600,    1.569,   34.665,2,   34.665,6,  103.670,1,  128.840,2,  155.610,2,   37.710,2,    0.000,2,    2.645,2, -999.000,9, -999.000,9, -999.000,9, 2341.400,2, 2419.600,2
           NA,    P10N,    112,   2,-999.0,     -99,  2,20050603,1231,  35.4878,  148.4270,  5913, 3497.300,    1.532,   34.672,2,   34.673,2,  109.470,1,  136.500,2,  154.000,2,   37.230,2,    0.000,2,    2.608,2, -999.000,9, -999.000,9, -999.000,9, 2336.600,2, -999.000,3
           NA,    P10N,    112,   2,-999.0,     -99,  2,20050603,1231,  35.4878,  148.4270,  5913, 3748.600,    1.509,   34.678,2,   34.678,2,  113.910,1,  142.530,2,  152.410,2,   36.830,2,    0.000,2,    2.577,2, -999.000,9, -999.000,9, -999.000,9, 2332.100,2, 2419.300,2
           NA,    P10N,    112,   2,-999.0,     -99,  2,20050603,1231,  35.4878,  148.4270,  5913, 3999.300,    1.490,   34.682,2,   34.682,2,  118.040,1,  147.900,2,  150.920,2,   36.480,2,    0.000,2,    2.548,2, -999.000,9, -999.000,9, -999.000,9, 2326.600,2, 2419.100,2
           NA,    P10N,    112,   2,-999.0,     -99,  2,20050603,1231,  35.4878,  148.4270,  5913, 4248.700,    1.485,   34.685,2,   34.685,2,  121.180,1,  151.800,2,  149.760,2,   36.180,2,    0.000,2,    2.527,2, -999.000,9, -999.000,9, -999.000,9, 2325.000,6, 2419.100,2
           NA,    P10N,    112,   2,-999.0,     -99,  2,20050603,1231,  35.4878,  148.4270,  5913, 4501.000,    1.490,   34.688,2,   34.688,6,  123.900,1,  155.040,2,  148.630,2,   35.990,2,    0.000,2,    2.512,2, -999.000,9, -999.000,9, -999.000,9, 2322.900,2, 2420.500,6
           NA,    P10N,    112,   2,-999.0,     -99,  2,20050603,1231,  35.4878,  148.4270,  5913, 4751.700,    1.495,   34.690,2,   34.690,2,  126.820,1,  158.320,2,  147.440,2,   35.790,2,    0.000,2,    2.494,2, -999.000,9, -999.000,9, -999.000,9, 2318.700,2, 2420.600,2
           NA,    P10N,    112,   2,-999.0,     -99,  2,20050603,1231,  35.4878,  148.4270,  5913, 5000.200,    1.509,   34.692,2,   34.691,2,  129.020,1,  160.640,6,  146.020,2,   35.590,2,    0.000,2,    2.485,2, -999.000,9, -999.000,9, -999.000,9, 2317.900,2, 2417.200,2
           NA,    P10N,    112,   2,-999.0,     -99,  2,20050603,1231,  35.4878,  148.4270,  5913, 5252.600,    1.532,   34.692,2,   34.692,2,  130.830,1,  162.010,2,  145.080,2,   35.490,2,    0.000,2,    2.478,2, -999.000,9, -999.000,9, -999.000,9, 2316.500,2, 2414.500,2
           NA,    P10N,    112,   2,-999.0,     -99,  2,20050603,1231,  35.4878,  148.4270,  5913, 5501.100,    1.556,   34.693,2,   34.693,2,  132.680,1,  163.790,2,  143.880,2,   35.430,2,    0.000,2,    2.467,2, -999.000,9, -999.000,9, -999.000,9, 2314.900,2, 2414.800,2
           NA,    P10N,    112,   2,-999.0,     -99,  2,20050603,1231,  35.4878,  148.4270,  5913, 5702.600,    1.575,   34.694,2,   34.694,2,  134.690,1,  165.400,2,  142.290,2,   35.320,2,    0.000,2,    2.460,2, -999.000,9, -999.000,9, -999.000,9, 2312.400,2, 2416.100,2
           NA,    P10N,    112,   2,-999.0,     -99,  2,20050603,1231,  35.4878,  148.4270,  5913, 6035.100,    1.610,   34.695,2,   34.695,6,  137.390,1,  167.120,2,  140.620,2,   35.130,2,    0.000,2,    2.446,2, -999.000,9, -999.000,9, -999.000,9, 2310.700,2, 2412.300,2