BOTTLE,20214413JOAExport
EXPOCODE,SECT_ID,STNNBR,CASTNO,SAMPNO,BTLNBR,BTLNBR_FLAG_W,DATE,TIME,LATITUDE,LONGITUDE,DEPTH,CTDPRS,CTDTMP,CTDSAL,CTDSAL_FLAG_W,SALNTY,SALNTY_FLAG_W,CTDOXY,CTDOXY_FLAG_W,OXYGEN,OXYGEN_FLAG_W,SILCAT,SILCAT_FLAG_W,NITRAT,NITRAT_FLAG_W,NITRIT,NITRIT_FLAG_W,PHSPHT,PHSPHT_FLAG_W,CFC-11,CFC-11_FLAG_W,CFC-12,CFC-12_FLAG_W,SF6,SF6_FLAG_W,TCARBN,TCARBN_FLAG_W,ALKALI,ALKALI_FLAG_W
,,,,,,,,,,,,,DB,ITS-90,PSS-78,,PSS-78,,UMOL/KG,,UMOL/KG,,UMOL/KG,,UMOL/KG,,UMOL/KG,,UMOL/KG,,PMOL/KG,,PMOL/KG,,FMOL/KG,,UMOL/KG,,UMOL/KG
           NA,    P10N,    131,   1,-999.0,     -99,  2,20050528,2254,  40.2638,  145.2532,  5529,    9.800,    9.337,   33.269,2,   33.288,2,  321.590,1,  340.450,6,    1.150,2,    2.310,2,    0.120,2,    0.464,2,    4.729,2,    2.413,2, -999.000,9, -999.000,9, -999.000,9
           NA,    P10N,    131,   1,-999.0,     -99,  2,20050528,2254,  40.2638,  145.2532,  5529,   49.900,    6.848,   33.464,2,   33.499,2,  301.030,1,  314.380,2,    7.080,2,    8.120,2,    0.210,2,    0.895,2,    4.863,2,    2.465,2, -999.000,9, -999.000,9, -999.000,9
           NA,    P10N,    131,   1,-999.0,     -99,  2,20050528,2254,  40.2638,  145.2532,  5529,  100.200,    7.222,   33.870,2,   33.864,2,  266.120,1,  280.910,2,   18.370,2,   12.760,2,    0.050,2,    1.036,2,    4.336,2,    2.233,2, -999.000,9, -999.000,9, -999.000,9
           NA,    P10N,    131,   1,-999.0,     -99,  2,20050528,2254,  40.2638,  145.2532,  5529,  149.800,    5.146,   33.595,2,   33.597,2,  271.170,1,  285.620,2,   26.880,2,   16.440,2,    0.050,2,    1.340,2,    4.850,2,    2.440,2, -999.000,9, -999.000,9, -999.000,9
           NA,    P10N,    131,   1,-999.0,     -99,  2,20050528,2254,  40.2638,  145.2532,  5529,  199.700,    4.139,   33.530,2,   33.530,2,  254.210,1,  267.730,2,   40.160,2,   21.230,2,    0.030,2,    1.698,2,    4.756,2,    2.402,2, -999.000,9, -999.000,9, -999.000,9
           NA,    P10N,    131,   1,-999.0,     -99,  2,20050528,2254,  40.2638,  145.2532,  5529,  251.200,    1.847,   33.329,2,   33.328,2,  259.130,1,  275.090,2,   52.670,2,   26.410,2,    0.020,2,    2.101,2,    5.278,2,    2.664,2, -999.000,9, -999.000,9, -999.000,9
           NA,    P10N,    131,   1,-999.0,     -99,  2,20050528,2254,  40.2638,  145.2532,  5529,  299.900,    2.005,   33.395,2,   33.451,2,  233.670,1,  238.990,2,   58.940,2,   28.540,2,    0.020,2,    2.242,2,    4.733,2,    2.284,2, -999.000,9, -999.000,9, -999.000,9
           NA,    P10N,    131,   1,-999.0,     -99,  2,20050528,2254,  40.2638,  145.2532,  5529,  399.900,    1.847,   33.502,2,   33.508,2,  186.910,1,  197.280,2,   73.030,2,   32.390,2,    0.020,2,    2.515,2,    4.315,2,    2.076,2, -999.000,9, -999.000,9, -999.000,9
           NA,    P10N,    131,   1,-999.0,     -99,  2,20050528,2254,  40.2638,  145.2532,  5529,  499.100,    2.737,   33.739,2,   33.774,6,  119.550,1,  120.360,2,   90.830,2,   37.600,2,    0.020,2,    2.805,2,    2.795,2,    1.330,2, -999.000,9, -999.000,9, -999.000,9
           NA,    P10N,    131,   1,-999.0,     -99,  2,20050528,2254,  40.2638,  145.2532,  5529,  598.700,    3.500,   33.974,2,   33.974,2,   68.390,1,   70.330,2,  101.850,2,   40.330,2,    0.010,2,    2.950,2,    1.732,2,    0.813,2, -999.000,9, -999.000,9, -999.000,9
           NA,    P10N,    131,   1,-999.0,     -99,  2,20050528,2254,  40.2638,  145.2532,  5529,  699.600,    3.749,   34.146,2,   34.145,2,   52.840,1,   54.150,2,  110.540,2,   40.690,2,    0.010,2,    2.967,2,    0.973,2,    0.427,2, -999.000,9, -999.000,9, -999.000,9
           NA,    P10N,    131,   1,-999.0,     -99,  2,20050528,2254,  40.2638,  145.2532,  5529,  800.400,    3.477,   34.212,2,   34.213,2,   41.810,1,   41.970,2,  121.680,2,   41.870,2,    0.010,2,    3.044,2,    0.660,2,    0.312,2, -999.000,9, -999.000,9, -999.000,9
           NA,    P10N,    131,   1,-999.0,     -99,  2,20050528,2254,  40.2638,  145.2532,  5529,  899.500,    3.003,   34.245,2,   34.246,2,   28.970,1,   27.930,2,  136.220,2,   43.490,2,    0.010,2,    3.140,2,    0.529,2,    0.251,2, -999.000,9, -999.000,9, -999.000,9
           NA,    P10N,    131,   1,-999.0,     -99,  2,20050528,2254,  40.2638,  145.2532,  5529, 1001.500,    2.925,   34.285,2,   34.285,6,   28.130,1,   27.130,2,  140.790,2,   43.570,2,    0.010,2,    3.156,2,    0.158,2,    0.079,2, -999.000,9, -999.000,9, -999.000,9
           NA,    P10N,    131,   1,-999.0,     -99,  2,20050528,2254,  40.2638,  145.2532,  5529, 1199.700,    2.827,   34.406,2,   34.407,2,   37.740,1,   37.490,6,  145.620,2,   42.740,2,    0.010,2,    3.098,2, -999.000,3, -999.000,3, -999.000,9, -999.000,9, -999.000,9
           NA,    P10N,    131,   1,-999.0,     -99,  2,20050528,2254,  40.2638,  145.2532,  5529, 1399.900,    2.531,   34.476,2,   34.476,2,   40.960,1,   41.010,2,  154.030,2,   42.870,2,    0.010,2,    3.095,2,    0.065,2,    0.029,2, -999.000,9, -999.000,9, -999.000,9
           NA,    P10N,    131,   1,-999.0,     -99,  2,20050528,2254,  40.2638,  145.2532,  5529, 1602.100,    2.307,   34.518,2,   34.518,2,   47.830,1,   48.490,2,  159.500,2,   42.540,2,    0.010,2,    3.060,2,    0.053,2,    0.025,2, -999.000,9, -999.000,9, -999.000,9
           NA,    P10N,    131,   1,-999.0,     -99,  2,20050528,2254,  40.2638,  145.2532,  5529, 1798.600,    2.145,   34.553,2,   34.552,2,   56.220,1,   57.740,2,  162.330,2,   42.080,2,    0.010,2,    3.022,2,    0.029,2,    0.013,2, -999.000,9, -999.000,9, -999.000,9
           NA,    P10N,    131,   1,-999.0,     -99,  2,20050528,2254,  40.2638,  145.2532,  5529, 2000.600,    1.996,   34.584,2,   34.584,2,   67.260,1,   69.630,2,  163.420,2,   41.400,2,    0.010,2,    2.957,2,    0.002,2,    0.003,2, -999.000,9, -999.000,9, -999.000,9
           NA,    P10N,    131,   1,-999.0,     -99,  2,20050528,2254,  40.2638,  145.2532,  5529, 2202.300,    1.875,   34.608,2,   34.607,6,   78.600,1,   82.160,2,  163.360,2,   40.610,2,    0.010,2,    2.905,2,   -0.006,2,    0.006,2, -999.000,9, -999.000,9, -999.000,9
           NA,    P10N,    131,   1,-999.0,     -99,  2,20050528,2254,  40.2638,  145.2532,  5529, 2401.200,    1.780,   34.625,2,   34.625,2,   88.830,1,   93.440,2,  162.630,2,   39.880,2,    0.010,2,    2.844,2,   -0.003,2,    0.005,2, -999.000,9, -999.000,9, -999.000,9
           NA,    P10N,    131,   1,-999.0,     -99,  2,20050528,2254,  40.2638,  145.2532,  5529, 2599.400,    1.707,   34.639,2,   34.639,2,   98.870,1,  104.560,2,  160.690,2,   39.220,2,    0.000,2,    2.794,2,   -0.008,2,   -0.003,2, -999.000,9, -999.000,9, -999.000,9
           NA,    P10N,    131,   1,-999.0,     -99,  2,20050528,2254,  40.2638,  145.2532,  5529, 2799.700,    1.637,   34.651,2,   34.651,2,  107.450,1,  114.160,2,  159.340,2,   38.620,2,    0.010,2,    2.741,2,   -0.005,2,   -0.002,2, -999.000,9, -999.000,9, -999.000,9
           NA,    P10N,    131,   1,-999.0,     -99,  2,20050528,2254,  40.2638,  145.2532,  5529, 2999.800,    1.591,   34.659,2,   34.659,2,  114.900,1,  122.330,6,  157.650,2,   38.080,2,    0.000,2,    2.707,2,   -0.003,2,   -0.001,2, -999.000,9, -999.000,9, -999.000,9
           NA,    P10N,    131,   1,-999.0,     -99,  2,20050528,2254,  40.2638,  145.2532,  5529, 3249.600,    1.552,   34.666,2,   34.666,6,  121.770,1,  129.930,2,  155.780,2,   37.570,2,    0.010,2,    2.659,2,    0.004,2,    0.000,2, -999.000,9, -999.000,9, -999.000,9
           NA,    P10N,    131,   1,-999.0,     -99,  2,20050528,2254,  40.2638,  145.2532,  5529, 3499.400,    1.521,   34.673,2,   34.673,2,  127.890,1,  136.660,2,  154.620,2,   37.160,2,    0.000,2,    2.635,2, -999.000,9, -999.000,9, -999.000,9, -999.000,9, -999.000,9
           NA,    P10N,    131,   1,-999.0,     -99,  2,20050528,2254,  40.2638,  145.2532,  5529, 3499.500,    1.521,   34.673,2,   34.673,2,  127.930,1,  136.660,2,  154.550,2,   37.150,2,    0.010,2,    2.628,2,   -0.002,2,   -0.001,2, -999.000,9, -999.000,9, -999.000,9
           NA,    P10N,    131,   1,-999.0,     -99,  2,20050528,2254,  40.2638,  145.2532,  5529, 3749.900,    1.502,   34.677,2,   34.678,2,  133.040,1,  142.060,2,  153.220,2,   36.810,2,    0.010,2,    2.604,2,   -0.010,2,   -0.001,2, -999.000,9, -999.000,9, -999.000,9
           NA,    P10N,    131,   1,-999.0,     -99,  2,20050528,2254,  40.2638,  145.2532,  5529, 3999.500,    1.486,   34.682,2,   34.682,2,  137.900,1,  147.110,2,  151.840,2,   36.500,2,    0.010,2,    2.574,2,    0.002,2,    0.001,2, -999.000,9, -999.000,9, -999.000,9
           NA,    P10N,    131,   1,-999.0,     -99,  2,20050528,2254,  40.2638,  145.2532,  5529, 4250.400,    1.482,   34.685,2,   34.685,2,  141.910,1,  151.210,2,  150.080,2,   36.030,2,    0.010,2,    2.547,2,    0.000,2,    0.000,2, -999.000,9, -999.000,9, -999.000,9
           NA,    P10N,    131,   1,-999.0,     -99,  2,20050528,2254,  40.2638,  145.2532,  5529, 4500.200,    1.485,   34.688,2,   34.688,6,  145.460,1,  154.560,2,  149.430,2,   35.860,2,    0.010,2,    2.532,2,   -0.002,2,   -0.004,2, -999.000,9, -999.000,9, -999.000,9
           NA,    P10N,    131,   1,-999.0,     -99,  2,20050528,2254,  40.2638,  145.2532,  5529, 4749.300,    1.497,   34.689,2,   34.689,2,  148.080,1,  156.870,2,  149.410,2,   35.830,2,    0.010,2,    2.525,2,    0.010,2,    0.011,2, -999.000,9, -999.000,9, -999.000,9
           NA,    P10N,    131,   1,-999.0,     -99,  2,20050528,2254,  40.2638,  145.2532,  5529, 5001.500,    1.515,   34.691,2,   34.690,2,  150.400,1,  158.690,6,  148.880,2,   35.680,2,    0.010,2,    2.515,2,    0.006,2,    0.003,2, -999.000,9, -999.000,9, -999.000,9
           NA,    P10N,    131,   1,-999.0,     -99,  2,20050528,2254,  40.2638,  145.2532,  5529, 5249.000,    1.537,   34.692,2,   34.693,2,  152.460,1,  160.120,2,  148.400,2,   35.540,2,    0.010,2,    2.511,2,    0.012,2,    0.000,2, -999.000,9, -999.000,9, -999.000,9
           NA,    P10N,    131,   1,-999.0,     -99,  2,20050528,2254,  40.2638,  145.2532,  5529, 5498.000,    1.560,   34.693,2,   34.693,2,  154.830,1,  161.480,2,  147.310,2,   35.410,2,    0.010,2,    2.502,2,    0.018,2,    0.002,2, -999.000,9, -999.000,9, -999.000,9
           NA,    P10N,    131,   1,-999.0,     -99,  2,20050528,2254,  40.2638,  145.2532,  5529, 5626.200,    1.575,   34.693,2,   34.693,6,  155.710,1,  161.280,2,  147.890,2,   35.340,2,    0.010,2,    2.507,2,    0.004,2,   -0.005,2, -999.000,9, -999.000,9, -999.000,9
           NA,    P10N,    132,   1,-999.0,     -99,  2,20050528,1638,  40.5125,  145.0667,  5777,    9.600,   15.273,   34.440,2,   34.443,2,  266.350,1,  280.660,6,    4.410,2,   -0.010,2,    0.020,2,    0.150,2,    2.850,2,    1.634,2, -999.000,9, 1989.200,2, 2294.700,2
           NA,    P10N,    132,   1,-999.0,     -99,  2,20050528,1638,  40.5125,  145.0667,  5777,   50.700,   10.104,   33.728,2,   33.736,2,  270.910,1,  284.950,2,    4.860,2,    3.310,2,    0.190,2,    0.519,2, -999.000,9, -999.000,9, -999.000,9, 2037.100,6, 2273.500,2
           NA,    P10N,    132,   1,-999.0,     -99,  2,20050528,1638,  40.5125,  145.0667,  5777,   99.900,   10.154,   34.176,2,   34.165,2,  227.380,1,  239.190,2,   18.340,2,   12.940,2,    0.050,2,    0.991,2,    3.393,2,    1.893,2, -999.000,9, 2093.200,2, 2279.600,6
           NA,    P10N,    132,   1,-999.0,     -99,  2,20050528,1638,  40.5125,  145.0667,  5777,  150.000,    7.962,   33.928,2,   33.922,2,  232.960,1,  244.830,2,   23.510,2,   15.220,2,    0.050,2,    1.182,2, -999.000,9, -999.000,9, -999.000,9, -999.000,4, 2270.700,2
           NA,    P10N,    132,   1,-999.0,     -99,  2,20050528,1638,  40.5125,  145.0667,  5777,  200.100,    6.429,   33.778,2,   33.773,2,  233.340,1,  246.340,2,   33.210,2,   18.890,2,    0.030,2,    1.468,2,    4.023,2,    2.147,2, -999.000,9, -999.000,4, 2273.000,2
           NA,    P10N,    132,   1,-999.0,     -99,  2,20050528,1638,  40.5125,  145.0667,  5777,  250.500,    5.738,   33.794,2,   33.791,2,  197.270,1,  207.230,2,   46.380,2,   24.540,2,    0.020,2,    1.865,2,    3.620,2,    1.940,2, -999.000,9, 2177.800,2, 2280.000,2
           NA,    P10N,    132,   1,-999.0,     -99,  2,20050528,1638,  40.5125,  145.0667,  5777,  300.400,    4.662,   33.749,2,   33.753,2,  179.000,1,  189.300,2,   57.470,2,   28.440,2,    0.020,2,    2.146,2, -999.000,9, -999.000,9, -999.000,9, 2204.500,2, 2281.300,2
           NA,    P10N,    132,   1,-999.0,     -99,  2,20050528,1638,  40.5125,  145.0667,  5777,  400.000,    3.975,   33.845,2,   33.855,2,  124.540,1,  130.110,2,   77.810,2,   34.650,2,    0.010,2,    2.566,2,    2.717,2,    1.371,2, -999.000,9, 2259.700,2, 2297.700,2
           NA,    P10N,    132,   1,-999.0,     -99,  2,20050528,1638,  40.5125,  145.0667,  5777,  499.600,    3.735,   33.973,2,   33.966,6,   78.390,1,   79.940,2,   97.500,2,   39.580,2,    0.010,2,    2.882,2,    1.839,2,    0.957,2, -999.000,9, 2305.800,2, 2314.100,2
           NA,    P10N,    132,   1,-999.0,     -99,  2,20050528,1638,  40.5125,  145.0667,  5777,  600.200,    3.233,   34.012,2,   34.019,2,   44.340,1,   45.350,2,  112.840,2,   43.130,2,    0.010,2,    3.108,2,    1.403,2,    0.702,2, -999.000,9, 2340.100,2, 2324.600,2
           NA,    P10N,    132,   1,-999.0,     -99,  2,20050528,1638,  40.5125,  145.0667,  5777,  701.300,    3.244,   34.142,2,   34.144,2,   33.850,1,   33.500,2,  123.560,2,   43.360,2,    0.010,2,    3.122,2,    0.837,2,    0.410,2, -999.000,9, 2353.000,6, 2342.500,2
           NA,    P10N,    132,   1,-999.0,     -99,  2,20050528,1638,  40.5125,  145.0667,  5777,  800.800,    3.370,   34.263,2,   34.263,2,   39.080,1,   39.470,2,  126.950,2,   42.370,2,    0.010,2,    3.058,2,    0.479,6,    0.251,6, -999.000,9, 2351.900,2, 2358.500,6
           NA,    P10N,    132,   1,-999.0,     -99,  2,20050528,1638,  40.5125,  145.0667,  5777,  900.400,    3.096,   34.313,2,   34.310,2,   36.170,1,   36.270,2,  135.770,2,   42.800,2,    0.010,2,    3.088,2,    0.365,2,    0.192,2, -999.000,9, 2364.000,2, 2370.800,2
           NA,    P10N,    132,   1,-999.0,     -99,  2,20050528,1638,  40.5125,  145.0667,  5777, 1000.100,    2.942,   34.344,2,   34.342,6,   35.330,1,   35.740,2,  140.920,2,   43.020,2,    0.010,2,    3.096,2,    0.300,2,    0.150,2, -999.000,9, 2379.500,2, 2372.800,2
           NA,    P10N,    132,   1,-999.0,     -99,  2,20050528,1638,  40.5125,  145.0667,  5777, 1201.800,    2.660,   34.429,2,   34.429,2,   37.920,1,   37.660,6,  150.170,2,   43.000,2,    0.010,2,    3.092,2,    0.131,2,    0.063,2, -999.000,9, 2384.000,2, 2388.500,2
           NA,    P10N,    132,   1,-999.0,     -99,  2,20050528,1638,  40.5125,  145.0667,  5777, 1402.600,    2.477,   34.483,2,   34.483,2,   41.570,1,   41.880,2,  155.200,2,   43.100,2,    0.010,2,    3.083,2,    0.060,2,    0.024,2, -999.000,9, 2385.600,2, 2394.900,2
           NA,    P10N,    132,   1,-999.0,     -99,  2,20050528,1638,  40.5125,  145.0667,  5777, 1600.700,    2.294,   34.522,2,   34.522,2,   48.550,1,   49.420,2,  159.310,2,   42.760,2,    0.010,2,    3.047,2,    0.043,2,    0.000,2, -999.000,9, 2380.600,2, 2405.200,2
           NA,    P10N,    132,   1,-999.0,     -99,  2,20050528,1638,  40.5125,  145.0667,  5777, 1802.100,    2.116,   34.558,2,   34.558,2,   57.720,1,   59.550,2,  162.800,2,   42.190,2,    0.010,2,    2.999,2,    0.023,2,    0.000,2, -999.000,9, 2380.400,2, 2406.600,2
           NA,    P10N,    132,   1,-999.0,     -99,  2,20050528,1638,  40.5125,  145.0667,  5777, 1999.800,    1.983,   34.589,2,   34.589,2,   69.350,1,   72.160,2,  162.630,2,   41.560,2,    0.010,2,    2.939,2,    0.004,2,    0.000,2, -999.000,9, 2374.600,2, 2415.600,2
           NA,    P10N,    132,   1,-999.0,     -99,  2,20050528,1638,  40.5125,  145.0667,  5777, 2202.200,    1.877,   34.608,2,   34.608,6,   78.730,1,   82.550,2,  162.500,2,   40.950,2,    0.010,2, -999.000,3,   -0.003,2,    0.000,2, -999.000,9, 2369.900,2, 2418.400,2
           NA,    P10N,    132,   1,-999.0,     -99,  2,20050528,1638,  40.5125,  145.0667,  5777, 2399.800,    1.769,   34.627,2,   34.628,2,   90.390,1,   95.540,2,  161.970,2,   40.050,2,    0.000,2,    2.826,2,    0.003,2,    0.000,2, -999.000,9, 2363.300,6, 2421.600,2
           NA,    P10N,    132,   1,-999.0,     -99,  2,20050528,1638,  40.5125,  145.0667,  5777, 2601.200,    1.689,   34.641,2,   34.641,2,   99.960,1,  106.060,2,  160.740,2,   39.390,2,    0.010,2,    2.774,2,   -0.003,2,    0.000,2, -999.000,9, 2356.900,2, -999.000,3
           NA,    P10N,    132,   1,-999.0,     -99,  2,20050528,1638,  40.5125,  145.0667,  5777, 2801.400,    1.630,   34.652,2,   34.651,2,  107.950,1,  115.100,2,  159.100,2,   38.680,2,    0.010,2,    2.732,2, -999.000,9, -999.000,9, -999.000,9, 2351.600,2, -999.000,3
           NA,    P10N,    132,   1,-999.0,     -99,  2,20050528,1638,  40.5125,  145.0667,  5777, 3000.500,    1.592,   34.659,2,   34.659,2,  114.210,1,  122.100,6,  157.770,2,   38.240,2,    0.000,2,    2.694,2, -999.000,9, -999.000,9, -999.000,9, 2347.100,2, 2422.500,2
           NA,    P10N,    132,   1,-999.0,     -99,  2,20050528,1638,  40.5125,  145.0667,  5777, 3251.000,    1.553,   34.666,2,   34.667,2,  120.610,1,  129.290,2,  156.670,2,   37.760,2,    0.000,2,    2.657,2, -999.000,9, -999.000,9, -999.000,9, 2342.800,2, 2420.300,2
           NA,    P10N,    132,   1,-999.0,     -99,  2,20050528,1638,  40.5125,  145.0667,  5777, 3751.100,    1.502,   34.677,2,   34.678,2,  131.940,1,  141.650,2,  153.630,2,   37.050,2,    0.000,2,    2.596,2, -999.000,9, -999.000,9, -999.000,9, 2334.400,2, 2419.100,2
           NA,    P10N,    132,   1,-999.0,     -99,  2,20050528,1638,  40.5125,  145.0667,  5777, 4001.500,    1.488,   34.681,2,   34.682,2,  137.020,1,  147.120,2,  151.520,2,   36.610,2,    0.010,2,    2.555,2, -999.000,9, -999.000,9, -999.000,9, 2330.800,2, -999.000,3
           NA,    P10N,    132,   1,-999.0,     -99,  2,20050528,1638,  40.5125,  145.0667,  5777, 4250.200,    1.482,   34.685,2,   34.685,2,  141.220,1,  151.400,2,  150.000,2,   36.340,2,    0.010,2,    2.540,2, -999.000,9, -999.000,9, -999.000,9, 2327.800,6, -999.000,3
           NA,    P10N,    132,   1,-999.0,     -99,  2,20050528,1638,  40.5125,  145.0667,  5777, 4500.500,    1.486,   34.688,2,   34.688,2,  144.270,1,  154.380,2,  149.970,2,   36.130,2,    0.010,2,    2.527,2, -999.000,9, -999.000,9, -999.000,9, 2325.900,2, 2419.000,6
           NA,    P10N,    132,   1,-999.0,     -99,  2,20050528,1638,  40.5125,  145.0667,  5777, 4749.900,    1.500,   34.689,2,   34.690,6,  146.710,1,  156.630,2,  149.390,2,   36.010,2,    0.000,2,    2.515,2, -999.000,9, -999.000,9, -999.000,9, 2323.900,2, -999.000,3
           NA,    P10N,    132,   1,-999.0,     -99,  2,20050528,1638,  40.5125,  145.0667,  5777, 5000.600,    1.515,   34.691,2,   34.691,2,  149.380,1,  158.910,6,  148.150,2,   35.820,2,    0.010,2,    2.495,2, -999.000,9, -999.000,9, -999.000,9, 2322.300,2, 2416.900,2
           NA,    P10N,    132,   1,-999.0,     -99,  2,20050528,1638,  40.5125,  145.0667,  5777, 5250.400,    1.536,   34.692,2,   34.693,2,  152.010,1,  161.120,2,  145.870,2,   35.740,2,    0.000,2,    2.489,2, -999.000,9, -999.000,9, -999.000,9, 2320.000,2, 2414.300,2
           NA,    P10N,    132,   1,-999.0,     -99,  2,20050528,1638,  40.5125,  145.0667,  5777, 5500.200,    1.560,   34.693,2,   34.693,2,  154.070,1,  162.450,2,  145.070,2,   35.600,2,    0.000,2,    2.482,2, -999.000,9, -999.000,9, -999.000,9, 2317.400,2, -999.000,3
           NA,    P10N,    132,   1,-999.0,     -99,  2,20050528,1638,  40.5125,  145.0667,  5777, 5750.200,    1.585,   34.694,2,   34.694,2,  156.550,1,  163.860,2,  144.410,2,   35.470,2,    0.010,2,    2.473,2, -999.000,9, -999.000,9, -999.000,9, 2316.900,2, 2414.400,2
           NA,    P10N,    132,   1,-999.0,     -99,  2,20050528,1638,  40.5125,  145.0667,  5777, 5899.500,    1.604,   34.694,2,   34.694,6,  157.710,1, -999.000,5,  144.020,2,   35.390,2,    0.010,2,    2.471,2, -999.000,9, -999.000,9, -999.000,9, 2316.800,2, -999.000,3