BOTTLE,20214413JOAExport
EXPOCODE,SECT_ID,STNNBR,CASTNO,SAMPNO,BTLNBR,BTLNBR_FLAG_W,DATE,TIME,LATITUDE,LONGITUDE,DEPTH,CTDPRS,CTDTMP,CTDSAL,CTDSAL_FLAG_W,SALNTY,SALNTY_FLAG_W,CTDOXY,CTDOXY_FLAG_W,OXYGEN,OXYGEN_FLAG_W,SILCAT,SILCAT_FLAG_W,NITRAT,NITRAT_FLAG_W,NITRIT,NITRIT_FLAG_W,PHSPHT,PHSPHT_FLAG_W,CFC-11,CFC-11_FLAG_W,CFC-12,CFC-12_FLAG_W,SF6,SF6_FLAG_W,TCARBN,TCARBN_FLAG_W,ALKALI,ALKALI_FLAG_W
,,,,,,,,,,,,,DB,ITS-90,PSS-78,,PSS-78,,UMOL/KG,,UMOL/KG,,UMOL/KG,,UMOL/KG,,UMOL/KG,,UMOL/KG,,PMOL/KG,,PMOL/KG,,FMOL/KG,,UMOL/KG,,UMOL/KG
           NA,     P10,     21,   1,-999.0,     -99,  2,20050623,1541,   0.7432,  146.3597,  4492,   10.000,   29.810,   34.365,2,   34.379,2,  170.960,1,  194.970,6,    0.820,2,    0.010,2,    0.000,2,    0.150,2,    1.396,2,    0.859,2, -999.000,9, 1907.600,2, 2267.600,2
           NA,     P10,     21,   1,-999.0,     -99,  2,20050623,1541,   0.7432,  146.3597,  4492,   50.300,   29.683,   34.828,2, -999.000,4,  170.300,1,  192.300,2,    0.930,2,    0.130,2,    0.030,2,    0.226,2,    1.410,2,    0.861,2, -999.000,9, 1956.300,6, 2305.200,2
           NA,     P10,     21,   1,-999.0,     -99,  2,20050623,1541,   0.7432,  146.3597,  4492,  100.500,   26.855,   35.238,2,   35.247,2,  135.050,1,  153.270,2,    2.270,2,    5.330,2,    0.320,2,    0.568,2,    1.555,2,    0.934,2, -999.000,9, 2029.000,2, 2321.100,6
           NA,     P10,     21,   1,-999.0,     -99,  2,20050623,1541,   0.7432,  146.3597,  4492,  150.800,   22.466,   35.370,2,   35.398,2,  116.240,1,  133.860,2,    3.870,2,    9.220,2,    0.020,2,    0.770,2,    1.736,2,    1.009,2, -999.000,9, 2079.500,2, 2326.600,2
           NA,     P10,     21,   1,-999.0,     -99,  2,20050623,1541,   0.7432,  146.3597,  4492,  200.000,   17.992,   35.367,2,   35.366,2,  119.530,1,  138.850,2,    5.660,2,   12.220,2,    0.010,2,    0.977,2,    1.740,2,    0.967,2, -999.000,9, 2116.900,2, 2329.900,2
           NA,     P10,     21,   1,-999.0,     -99,  2,20050623,1541,   0.7432,  146.3597,  4492,  251.100,   12.289,   34.856,2,   34.867,2,  117.670,1,  138.070,2,   17.480,2,   20.050,2,    0.010,2,    1.485,2,    1.360,6,    0.724,6, -999.000,9, 2156.200,2, 2312.000,2
           NA,     P10,     21,   1,-999.0,     -99,  2,20050623,1541,   0.7432,  146.3597,  4492,  300.200,   10.960,   34.804,2,   34.787,2,  113.670,1,  131.030,2,   20.200,2,   23.570,2,    0.010,2,    1.705,2,    1.030,2,    0.541,2, -999.000,9, 2175.000,2, 2312.400,2
           NA,     P10,     21,   1,-999.0,     -99,  2,20050623,1541,   0.7432,  146.3597,  4492,  400.800,    9.171,   34.665,2,   34.654,2,   86.970,1,  104.870,2,   29.830,2,   29.710,2,    0.010,2,    2.107,2,    0.521,2,    0.277,2, -999.000,9, 2211.000,2, 2309.800,2
           NA,     P10,     21,   1,-999.0,     -99,  2,20050623,1541,   0.7432,  146.3597,  4492,  501.100,    8.136,   34.604,2,   34.602,6,   94.410,1,  111.300,2,   34.190,2,   30.870,2,    0.010,2,    2.190,2,    0.403,2,    0.209,2, -999.000,9, 2217.000,2, 2313.400,2
           NA,     P10,     21,   1,-999.0,     -99,  2,20050623,1541,   0.7432,  146.3597,  4492,  599.500,    7.106,   34.560,2,   34.559,2,   89.270,1,  103.810,2,   43.060,2,   33.700,2,    0.010,2,    2.396,2,    0.226,2,    0.118,2, -999.000,9, 2237.100,2, 2319.800,2
           NA,     P10,     21,   1,-999.0,     -99,  2,20050623,1541,   0.7432,  146.3597,  4492,  700.000,    6.151,   34.543,2,   34.541,2,   82.450,1,   99.590,2,   53.020,2,   35.990,2,    0.010,2,    2.566,2,    0.095,2,    0.037,2, -999.000,9, 2253.900,6, 2327.500,2
           NA,     P10,     21,   1,-999.0,     -99,  2,20050623,1541,   0.7432,  146.3597,  4492,  799.000,    5.544,   34.539,2,   34.539,2,   82.350,1,   97.940,2,   61.800,2,   37.080,2,    0.010,2,    2.650,2,    0.056,6,    0.020,6, -999.000,9, 2265.400,2, 2334.700,6
           NA,     P10,     21,   1,-999.0,     -99,  2,20050623,1541,   0.7432,  146.3597,  4492,  902.900,    4.957,   34.540,2,   34.539,2,   88.680,1,  106.010,2,   71.790,2,   36.860,2,    0.000,2,    2.634,2,    0.040,2,    0.019,2, -999.000,9, 2272.800,2, 2345.000,2
           NA,     P10,     21,   1,-999.0,     -99,  2,20050623,1541,   0.7432,  146.3597,  4492, 1001.700,    4.387,   34.555,2,   34.555,6,   82.630,1,   98.850,2,   85.640,2,   38.130,2,    0.000,2,    2.738,2,    0.016,2,    0.009,2, -999.000,9, 2293.100,2, 2358.800,2
           NA,     P10,     21,   1,-999.0,     -99,  2,20050623,1541,   0.7432,  146.3597,  4492, 1199.500,    3.812,   34.574,2,   34.575,2,   82.530,1,   99.320,6,  100.440,2,   38.500,2,    0.000,2,    2.767,2,    0.007,2,    0.000,2, -999.000,9, 2308.100,2, 2378.300,2
           NA,     P10,     21,   1,-999.0,     -99,  2,20050623,1541,   0.7432,  146.3597,  4492, 1400.000,    3.240,   34.593,2,   34.593,2,   84.800,1,  102.850,2,  111.750,2,   38.820,2,    0.000,2,    2.784,2,   -0.001,2,    0.000,2, -999.000,9, 2319.400,2, 2384.000,2
           NA,     P10,     21,   1,-999.0,     -99,  2,20050623,1541,   0.7432,  146.3597,  4492, 1599.900,    2.689,   34.615,2,   34.615,2,   90.760,1,  110.930,2,  123.930,2,   38.510,2,    0.000,2,    2.749,2,    0.000,2,    0.000,2, -999.000,9, 2326.700,2, 2402.200,2
           NA,     P10,     21,   1,-999.0,     -99,  2,20050623,1541,   0.7432,  146.3597,  4492, 1800.300,    2.411,   34.629,2,   34.629,6,   93.800,1,  115.280,2,  130.020,2,   38.300,2,    0.010,2,    2.729,2, -999.000,9, -999.000,9, -999.000,9, 2331.600,2, 2407.000,2
           NA,     P10,     21,   1,-999.0,     -99,  2,20050623,1541,   0.7432,  146.3597,  4492, 2000.700,    2.176,   34.641,2,   34.642,2,   96.350,1,  118.950,2,  135.550,2,   38.220,2,    0.000,2,    2.715,2,    0.003,2,    0.000,2, -999.000,9, 2335.500,2, 2414.700,2
           NA,     P10,     21,   1,-999.0,     -99,  2,20050623,1541,   0.7432,  146.3597,  4492, 2199.900,    1.991,   34.649,2,   34.650,2,   99.380,1,  123.420,2,  139.860,2,   37.920,2,    0.000,2,    2.685,2, -999.000,9, -999.000,9, -999.000,9, 2336.500,2, 2413.800,2
           NA,     P10,     21,   1,-999.0,     -99,  2,20050623,1541,   0.7432,  146.3597,  4492, 2400.200,    1.846,   34.657,2,   34.657,2,  103.930,1,  129.650,2,  141.500,2,   37.520,2,    0.000,2,    2.651,2,   -0.001,2,    0.000,2, -999.000,9, 2334.600,6, 2417.300,2
           NA,     P10,     21,   1,-999.0,     -99,  2,20050623,1541,   0.7432,  146.3597,  4492, 2600.400,    1.707,   34.665,2,   34.665,2,  108.370,1,  135.770,2,  142.840,2,   37.240,2,    0.000,2,    2.620,2, -999.000,9, -999.000,9, -999.000,9, 2332.400,2, 2420.600,6
           NA,     P10,     21,   1,-999.0,     -99,  2,20050623,1541,   0.7432,  146.3597,  4492, 2802.000,    1.645,   34.670,2,   34.669,2,  111.300,1,  139.740,2,  143.300,2,   36.940,2,    0.000,2,    2.600,2,   -0.002,2,    0.000,2, -999.000,9, 2331.200,2, 2420.800,2
           NA,     P10,     21,   1,-999.0,     -99,  2,20050623,1541,   0.7432,  146.3597,  4492, 3000.800,    1.616,   34.673,2,   34.673,2,  112.820,1,  141.880,6,  143.470,2,   36.810,2,    0.000,2,    2.589,2, -999.000,9, -999.000,9, -999.000,9, 2330.400,2, 2420.900,2
           NA,     P10,     21,   1,-999.0,     -99,  2,20050623,1541,   0.7432,  146.3597,  4492, 3250.700,    1.585,   34.676,2,   34.677,2,  115.030,1,  144.790,2,  143.580,2,   36.580,2,    0.000,2,    2.569,2, -999.000,9, -999.000,9, -999.000,9, 2331.200,2, 2423.600,2
           NA,     P10,     21,   1,-999.0,     -99,  2,20050623,1541,   0.7432,  146.3597,  4492, 3499.700,    1.560,   34.680,2,   34.680,2,  117.410,1,  147.690,2,  143.010,2,   36.450,2,    0.000,2,    2.557,2, -999.000,9, -999.000,9, -999.000,9, 2329.400,2, 2425.800,2
           NA,     P10,     21,   1,-999.0,     -99,  2,20050623,1541,   0.7432,  146.3597,  4492, 3750.900,    1.545,   34.683,2,   34.683,6,  119.820,1,  150.530,2,  142.850,2,   36.270,2,    0.000,2,    2.543,2, -999.000,9, -999.000,9, -999.000,9, 2327.900,2, 2426.300,2
           NA,     P10,     21,   1,-999.0,     -99,  2,20050623,1541,   0.7432,  146.3597,  4492, 4000.700,    1.529,   34.686,2,   34.686,2,  122.720,1,  153.650,2,  142.190,2,   36.090,2,    0.000,2,    2.531,2, -999.000,9, -999.000,9, -999.000,9, 2325.200,2, 2425.600,2
           NA,     P10,     21,   1,-999.0,     -99,  2,20050623,1541,   0.7432,  146.3597,  4492, 4249.500,    1.537,   34.687,2,   34.687,2,  124.560,1,  155.050,2,  142.010,2,   36.020,2,    0.000,2,    2.519,2, -999.000,9, -999.000,9, -999.000,9, 2325.900,6, 2424.800,2
           NA,     P10,     21,   1,-999.0,     -99,  2,20050623,1541,   0.7432,  146.3597,  4492, 4499.900,    1.551,   34.688,2,   34.688,2,  126.410,1,  156.340,2,  141.360,2,   35.890,2,    0.000,2,    2.512,2, -999.000,9, -999.000,9, -999.000,9, 2324.100,2, 2419.900,6
           NA,     P10,     21,   1,-999.0,     -99,  2,20050623,1541,   0.7432,  146.3597,  4492, 4551.100,    1.557,   34.688,2,   34.688,6,  126.710,1,  156.380,6,  141.620,2,   35.890,2,    0.000,2,    2.513,2,    0.001,2,    0.000,2, -999.000,9, 2323.100,2, 2420.800,2
           NA,     P10,     21,   1,-999.0,     -99,  2,20050623,1541,   0.7432,  146.3597,  4492, 4551.300,    1.557,   34.688,2,   34.688,2,  126.670,1,  156.400,2,  141.350,2,   35.870,2,    0.000,2,    2.515,2, -999.000,9, -999.000,9, -999.000,9, 2323.000,2, 2422.900,2
           NA,     P10,     22,   1,-999.0,     -99,  2,20050623,1014,   0.9987,  146.4293,  4522,   10.100,   29.871,   34.344,2,   34.350,2,  171.140,1,  195.360,6,    0.870,2,    0.030,2,    0.000,2,    0.147,2,    1.387,2,    0.847,2, -999.000,9, -999.000,9, -999.000,9
           NA,     P10,     22,   1,-999.0,     -99,  2,20050623,1014,   0.9987,  146.4293,  4522,   49.800,   29.738,   34.459,2,   34.529,2,  170.770,1,  195.030,2,    0.880,2,    0.020,2,    0.000,2,    0.162,2,    1.424,2,    0.889,2, -999.000,9, -999.000,9, -999.000,9
           NA,     P10,     22,   1,-999.0,     -99,  2,20050623,1014,   0.9987,  146.4293,  4522,  100.500,   27.715,   35.284,2,   35.279,2,  144.140,1,  161.100,2,    2.040,2,    4.270,2,    0.470,2,    0.517,2,    1.545,2,    0.922,2, -999.000,9, -999.000,9, -999.000,9
           NA,     P10,     22,   1,-999.0,     -99,  2,20050623,1014,   0.9987,  146.4293,  4522,  151.100,   22.411,   35.279,2,   35.302,2,  116.520,1,  134.850,2,    4.500,2,    9.210,2,    0.010,2,    0.752,2,    1.769,2,    1.022,2, -999.000,9, -999.000,9, -999.000,9
           NA,     P10,     22,   1,-999.0,     -99,  2,20050623,1014,   0.9987,  146.4293,  4522,  202.100,   17.609,   35.359,2,   35.351,2,  120.360,1,  139.910,2,    5.960,2,   12.590,2,    0.000,2,    0.992,2,    1.754,2,    0.970,2, -999.000,9, -999.000,9, -999.000,9
           NA,     P10,     22,   1,-999.0,     -99,  2,20050623,1014,   0.9987,  146.4293,  4522,  251.500,   14.394,   35.108,2,   35.048,2,  124.770,1,  143.830,2,   11.600,2,   17.090,2,    0.000,2,    1.281,2,    1.531,6,    0.812,6, -999.000,9, -999.000,9, -999.000,9
           NA,     P10,     22,   1,-999.0,     -99,  2,20050623,1014,   0.9987,  146.4293,  4522,  302.200,   11.142,   34.819,2,   34.810,2,  117.580,1,  136.380,2,   18.790,2,   22.540,2,    0.000,2,    1.633,2,    1.120,2,    0.588,2, -999.000,9, -999.000,9, -999.000,9
           NA,     P10,     22,   1,-999.0,     -99,  2,20050623,1014,   0.9987,  146.4293,  4522,  397.000,    9.432,   34.687,2,   34.675,2,   84.910,1,  100.010,2,   28.800,2,   29.590,2,    0.000,2,    2.091,2,    0.554,2,    0.286,2, -999.000,9, -999.000,9, -999.000,9
           NA,     P10,     22,   1,-999.0,     -99,  2,20050623,1014,   0.9987,  146.4293,  4522,  501.300,    8.157,   34.602,2,   34.601,6,   90.530,1,  107.340,2,   35.010,2,   31.130,2,    0.000,2,    2.203,2,    0.415,2,    0.210,2, -999.000,9, -999.000,9, -999.000,9
           NA,     P10,     22,   1,-999.0,     -99,  2,20050623,1014,   0.9987,  146.4293,  4522,  601.500,    7.234,   34.562,2,   34.561,2,   94.000,1,  109.930,2,   41.290,2,   32.760,2,    0.000,2,    2.326,2,    0.271,2,    0.138,2, -999.000,9, -999.000,9, -999.000,9
           NA,     P10,     22,   1,-999.0,     -99,  2,20050623,1014,   0.9987,  146.4293,  4522,  699.800,    6.108,   34.539,2,   34.538,2,   88.010,1,  105.520,2,   52.640,2,   35.470,2,    0.000,2,    2.526,2,    0.117,2,    0.063,2, -999.000,9, -999.000,9, -999.000,9
           NA,     P10,     22,   1,-999.0,     -99,  2,20050623,1014,   0.9987,  146.4293,  4522,  798.500,    5.501,   34.536,2,   34.536,2,   86.290,1,  102.910,2,   62.290,2,   36.600,2,    0.000,2,    2.613,2,    0.059,6,    0.035,6, -999.000,9, -999.000,9, -999.000,9
           NA,     P10,     22,   1,-999.0,     -99,  2,20050623,1014,   0.9987,  146.4293,  4522,  898.700,    4.942,   34.540,2,   34.542,2,   86.780,1,  103.070,2,   73.890,2,   37.200,2,    0.000,2,    2.652,2,    0.029,2,    0.016,2, -999.000,9, -999.000,9, -999.000,9
           NA,     P10,     22,   1,-999.0,     -99,  2,20050623,1014,   0.9987,  146.4293,  4522, 1001.900,    4.359,   34.556,2,   34.556,6,   82.300,1,   98.340,2,   86.970,2,   38.240,2,    0.000,2,    2.739,2,    0.007,2,    0.003,2, -999.000,9, -999.000,9, -999.000,9
           NA,     P10,     22,   1,-999.0,     -99,  2,20050623,1014,   0.9987,  146.4293,  4522, 1198.600,    3.799,   34.574,2,   34.575,2,   83.060,1,  100.010,6,  100.940,2,   38.410,2,    0.000,2,    2.753,2,    0.017,2,    0.005,2, -999.000,9, -999.000,9, -999.000,9
           NA,     P10,     22,   1,-999.0,     -99,  2,20050623,1014,   0.9987,  146.4293,  4522, 1399.300,    3.234,   34.593,2,   34.594,2,   84.790,1,  102.620,2,  111.910,2,   38.570,2,    0.000,2,    2.768,2,   -0.001,2,   -0.001,2, -999.000,9, -999.000,9, -999.000,9
           NA,     P10,     22,   1,-999.0,     -99,  2,20050623,1014,   0.9987,  146.4293,  4522, 1599.000,    2.868,   34.608,2,   34.608,2,   88.980,1,  108.590,2,  120.020,2,   38.590,2,    0.000,2,    2.754,2,   -0.001,2,    0.002,2, -999.000,9, -999.000,9, -999.000,9
           NA,     P10,     22,   1,-999.0,     -99,  2,20050623,1014,   0.9987,  146.4293,  4522, 1801.100,    2.504,   34.624,2,   34.625,6,   92.620,1,  113.670,2,  128.540,2,   38.370,2,    0.000,2,    2.731,2,   -0.003,2,   -0.002,2, -999.000,9, -999.000,9, -999.000,9
           NA,     P10,     22,   1,-999.0,     -99,  2,20050623,1014,   0.9987,  146.4293,  4522, 2000.100,    2.215,   34.639,2,   34.639,2,   95.680,1,  118.010,2,  135.070,2,   38.290,2,    0.000,2,    2.716,2,    0.005,2,    0.002,2, -999.000,9, -999.000,9, -999.000,9
           NA,     P10,     22,   1,-999.0,     -99,  2,20050623,1014,   0.9987,  146.4293,  4522, 2199.600,    2.083,   34.646,2,   34.646,2,   97.160,1,  120.660,2,  138.690,2,   38.120,2,    0.000,2,    2.698,2,   -0.001,2,   -0.001,2, -999.000,9, -999.000,9, -999.000,9
           NA,     P10,     22,   1,-999.0,     -99,  2,20050623,1014,   0.9987,  146.4293,  4522, 2401.700,    1.868,   34.657,2,   34.657,2,  102.110,1,  127.490,2,  142.430,2,   37.710,2,    0.000,2,    2.663,2, -999.000,9, -999.000,9, -999.000,9, -999.000,9, -999.000,9
           NA,     P10,     22,   1,-999.0,     -99,  2,20050623,1014,   0.9987,  146.4293,  4522, 2599.000,    1.768,   34.662,2,   34.663,2,  106.550,1,  133.490,2,  142.620,2,   37.300,2,    0.000,2,    2.631,2, -999.000,9, -999.000,9, -999.000,9, -999.000,9, -999.000,9
           NA,     P10,     22,   1,-999.0,     -99,  2,20050623,1014,   0.9987,  146.4293,  4522, 2799.500,    1.670,   34.668,2,   34.668,6,  110.130,1,  138.410,2,  143.360,2,   36.980,2,    0.000,2,    2.599,2, -999.000,9, -999.000,9, -999.000,9, -999.000,9, -999.000,9
           NA,     P10,     22,   1,-999.0,     -99,  2,20050623,1014,   0.9987,  146.4293,  4522, 2999.400,    1.636,   34.671,2,   34.672,2,  112.010,1,  141.070,6,  143.540,2,   36.830,2,    0.000,2,    2.590,2, -999.000,9, -999.000,9, -999.000,9, -999.000,9, -999.000,9
           NA,     P10,     22,   1,-999.0,     -99,  2,20050623,1014,   0.9987,  146.4293,  4522, 3250.500,    1.592,   34.676,2,   34.675,2,  114.480,1,  144.330,2,  143.700,2,   36.640,2,    0.000,2,    2.573,2, -999.000,9, -999.000,9, -999.000,9, -999.000,9, -999.000,9
           NA,     P10,     22,   1,-999.0,     -99,  2,20050623,1014,   0.9987,  146.4293,  4522, 3500.000,    1.576,   34.679,2,   34.679,2,  116.360,1,  146.860,2,  143.410,2,   36.420,2,    0.000,2,    2.555,2, -999.000,9, -999.000,9, -999.000,9, -999.000,9, -999.000,9
           NA,     P10,     22,   1,-999.0,     -99,  2,20050623,1014,   0.9987,  146.4293,  4522, 3750.300,    1.562,   34.682,2,   34.682,6,  118.670,1,  149.140,2,  143.340,2,   36.350,2,    0.000,2,    2.545,2, -999.000,9, -999.000,9, -999.000,9, -999.000,9, -999.000,9
           NA,     P10,     22,   1,-999.0,     -99,  2,20050623,1014,   0.9987,  146.4293,  4522, 3999.900,    1.539,   34.685,2,   34.686,2,  121.710,1,  152.700,2,  142.790,2,   36.120,2,    0.000,2,    2.528,2, -999.000,9, -999.000,9, -999.000,9, -999.000,9, -999.000,9
           NA,     P10,     22,   1,-999.0,     -99,  2,20050623,1014,   0.9987,  146.4293,  4522, 4249.100,    1.542,   34.687,2,   34.687,2,  123.790,1,  154.630,2,  142.240,2,   36.000,2,    0.000,2,    2.515,2, -999.000,9, -999.000,9, -999.000,9, -999.000,9, -999.000,9
           NA,     P10,     22,   1,-999.0,     -99,  2,20050623,1014,   0.9987,  146.4293,  4522, 4500.400,    1.553,   34.688,2,   34.688,2,  125.800,1,  156.160,2,  141.800,2,   35.930,2,    0.000,2,    2.510,2, -999.000,9, -999.000,9, -999.000,9, -999.000,9, -999.000,9
           NA,     P10,     22,   1,-999.0,     -99,  2,20050623,1014,   0.9987,  146.4293,  4522, 4592.800,    1.563,   34.688,2,   34.688,2,  126.380,1,  156.320,2,  141.750,2,   35.870,2,    0.000,2,    2.501,2, -999.000,9, -999.000,9, -999.000,9, -999.000,9, -999.000,9
           NA,     P10,     22,   1,-999.0,     -99,  2,20050623,1014,   0.9987,  146.4293,  4522, 4593.100,    1.563,   34.688,2,   34.688,6,  126.410,1,  156.340,6,  141.880,2,   35.870,2,    0.000,2,    2.513,2, -999.000,9, -999.000,9, -999.000,9, -999.000,9, -999.000,9