BOTTLE,20214413JOAExport
EXPOCODE,SECT_ID,STNNBR,CASTNO,SAMPNO,BTLNBR,BTLNBR_FLAG_W,DATE,TIME,LATITUDE,LONGITUDE,DEPTH,CTDPRS,CTDTMP,CTDSAL,CTDSAL_FLAG_W,SALNTY,SALNTY_FLAG_W,CTDOXY,CTDOXY_FLAG_W,OXYGEN,OXYGEN_FLAG_W,SILCAT,SILCAT_FLAG_W,NITRAT,NITRAT_FLAG_W,NITRIT,NITRIT_FLAG_W,PHSPHT,PHSPHT_FLAG_W,CFC-11,CFC-11_FLAG_W,CFC-12,CFC-12_FLAG_W,SF6,SF6_FLAG_W,TCARBN,TCARBN_FLAG_W,ALKALI,ALKALI_FLAG_W
,,,,,,,,,,,,,DB,ITS-90,PSS-78,,PSS-78,,UMOL/KG,,UMOL/KG,,UMOL/KG,,UMOL/KG,,UMOL/KG,,UMOL/KG,,PMOL/KG,,PMOL/KG,,FMOL/KG,,UMOL/KG,,UMOL/KG
           NA,     P10,     46,   1,-999.0,     -99,  2,20050618,0005,  10.4997,  149.3317,  5714,    9.200,   29.173,   34.142,2,   34.141,2,  172.650,1,  196.230,6,    1.110,2,    0.050,2,    0.000,2,    0.076,2,    1.441,2,    0.859,2, -999.000,9, -999.000,9, -999.000,9
           NA,     P10,     46,   1,-999.0,     -99,  2,20050618,0005,  10.4997,  149.3317,  5714,   50.200,   28.941,   34.239,2,   34.250,2,  173.100,1,  197.400,2,    1.110,2,    0.030,2,    0.000,2,    0.076,2,    1.448,2,    0.862,2, -999.000,9, -999.000,9, -999.000,9
           NA,     P10,     46,   1,-999.0,     -99,  2,20050618,0005,  10.4997,  149.3317,  5714,   99.100,   27.359,   34.459,2,   34.524,2,  177.970,1,  203.870,2,    1.050,2,    0.020,2,    0.000,2,    0.087,2,    1.571,2,    0.948,2, -999.000,9, -999.000,9, -999.000,9
           NA,     P10,     46,   1,-999.0,     -99,  2,20050618,0005,  10.4997,  149.3317,  5714,  149.700,   22.925,   34.867,2,   34.851,2,  157.060,1,  169.050,2,    3.920,2,    3.170,2,    0.170,2,    0.398,2,    1.908,2,    1.095,2, -999.000,9, -999.000,9, -999.000,9
           NA,     P10,     46,   1,-999.0,     -99,  2,20050618,0005,  10.4997,  149.3317,  5714,  199.400,   17.521,   34.748,2,   34.724,2,  125.050,1,  144.890,2,    8.810,2,   10.610,2,    0.010,2,    0.868,2,    2.192,2,    1.160,2, -999.000,9, -999.000,9, -999.000,9
           NA,     P10,     46,   1,-999.0,     -99,  3,20050618,0005,  10.4997,  149.3317,  5714,  249.600,   13.007,   34.462,2,   34.449,2,  105.700,1,  120.230,2,   18.900,2,   19.400,2,    0.000,2,    1.479,2,    2.005,6,    0.999,6, -999.000,9, -999.000,9, -999.000,9
           NA,     P10,     46,   1,-999.0,     -99,  2,20050618,0005,  10.4997,  149.3317,  5714,  300.400,    9.928,   34.379,2,   34.391,2,   73.180,1,   79.770,2,   32.820,2,   28.430,2,    0.000,2,    2.122,2,    1.145,2,    0.535,2, -999.000,9, -999.000,9, -999.000,9
           NA,     P10,     46,   1,-999.0,     -99,  2,20050618,0005,  10.4997,  149.3317,  5714,  401.000,    8.508,   34.534,2,   34.535,2,   36.640,1, -999.000,3,   43.820,2,   35.250,2,    0.000,2,    2.581,2,    0.201,2,    0.092,2, -999.000,9, -999.000,9, -999.000,9
           NA,     P10,     46,   1,-999.0,     -99,  2,20050618,0005,  10.4997,  149.3317,  5714,  502.200,    7.699,   34.526,2,   34.524,6,   45.520,1,   51.570,2,   50.480,2,   36.170,2,    0.000,2,    2.627,2, -999.000,5, -999.000,5, -999.000,9, -999.000,9, -999.000,9
           NA,     P10,     46,   1,-999.0,     -99,  2,20050618,0005,  10.4997,  149.3317,  5714,  600.400,    6.818,   34.516,2,   34.515,2,   46.690,1,   54.210,2,   59.780,2,   37.590,2,    0.000,2,    2.739,2, -999.000,5, -999.000,5, -999.000,9, -999.000,9, -999.000,9
           NA,     P10,     46,   1,-999.0,     -99,  2,20050618,0005,  10.4997,  149.3317,  5714,  699.200,    6.214,   34.519,2,   34.519,2,   55.130,1,   64.350,2,   66.340,2,   37.950,2,    0.000,2,    2.752,2,    0.058,2,    0.021,2, -999.000,9, -999.000,9, -999.000,9
           NA,     P10,     46,   1,-999.0,     -99,  2,20050618,0005,  10.4997,  149.3317,  5714,  799.400,    5.627,   34.522,2,   34.522,2,   53.460,1,   61.920,2,   75.350,2,   39.210,2,    0.000,2,    2.837,2,    0.034,6,    0.013,6, -999.000,9, -999.000,9, -999.000,9
           NA,     P10,     46,   1,-999.0,     -99,  2,20050618,0005,  10.4997,  149.3317,  5714,  898.900,    5.139,   34.534,2,   34.535,2,   60.420,1,   71.200,2,   82.330,2,   39.010,2,    0.000,2,    2.814,2,    0.023,2,    0.012,2, -999.000,9, -999.000,9, -999.000,9
           NA,     P10,     46,   1,-999.0,     -99,  2,20050618,0005,  10.4997,  149.3317,  5714,  999.900,    4.715,   34.541,2,   34.541,6,   59.720,1,   69.580,2,   91.230,2,   39.820,2,    0.000,2,    2.874,2,    0.014,2,    0.008,2, -999.000,9, -999.000,9, -999.000,9
           NA,     P10,     46,   1,-999.0,     -99,  2,20050618,0005,  10.4997,  149.3317,  5714, 1200.700,    3.906,   34.564,2,   34.565,2,   69.020,1,   82.770,6,  106.230,2,   39.460,2,    0.000,2,    2.836,2,    0.004,2,    0.005,2, -999.000,9, -999.000,9, -999.000,9
           NA,     P10,     46,   1,-999.0,     -99,  2,20050618,0005,  10.4997,  149.3317,  5714, 1397.300,    3.236,   34.585,2,   34.586,2,   73.830,1,   88.890,2,  120.220,2,   39.540,2,    0.000,2,    2.835,2,   -0.001,2,    0.000,2, -999.000,9, -999.000,9, -999.000,9
           NA,     P10,     46,   1,-999.0,     -99,  2,20050618,0005,  10.4997,  149.3317,  5714, 1600.300,    2.722,   34.606,2,   34.607,2,   81.670,1,   99.640,2,  130.400,2,   39.140,2,    0.000,2,    2.794,2,   -0.003,2,    0.000,2, -999.000,9, -999.000,9, -999.000,9
           NA,     P10,     46,   1,-999.0,     -99,  2,20050618,0005,  10.4997,  149.3317,  5714, 1801.500,    2.422,   34.622,2,   34.623,2,   86.540,1,  106.250,2,  135.930,2,   38.830,2,    0.000,2,    2.764,2,   -0.003,2,    0.000,2, -999.000,9, -999.000,9, -999.000,9
           NA,     P10,     46,   1,-999.0,     -99,  2,20050618,0005,  10.4997,  149.3317,  5714, 2000.200,    2.207,   34.633,2,   34.634,2,   89.810,1,  110.920,2,  140.160,2,   38.670,2,    0.000,2,    2.742,2,    0.002,2,    0.000,2, -999.000,9, -999.000,9, -999.000,9
           NA,     P10,     46,   1,-999.0,     -99,  2,20050618,0005,  10.4997,  149.3317,  5714, 2200.300,    2.035,   34.643,2,   34.644,6,   93.480,1,  116.060,2,  143.130,2,   38.380,2,    0.000,2,    2.714,2,    0.001,2,    0.004,2, -999.000,9, -999.000,9, -999.000,9
           NA,     P10,     46,   1,-999.0,     -99,  2,20050618,0005,  10.4997,  149.3317,  5714, 2398.900,    1.910,   34.651,2,   34.652,2,   96.780,1,  120.750,2,  145.260,2,   38.080,2,    0.000,2,    2.691,2,    0.001,2,    0.004,2, -999.000,9, -999.000,9, -999.000,9
           NA,     P10,     46,   1,-999.0,     -99,  2,20050618,0005,  10.4997,  149.3317,  5714, 2600.300,    1.801,   34.658,2,   34.658,2,   99.780,1,  125.200,2,  147.000,2,   37.850,2,    0.000,2,    2.665,2,    0.002,2,    0.004,2, -999.000,9, -999.000,9, -999.000,9
           NA,     P10,     46,   1,-999.0,     -99,  2,20050618,0005,  10.4997,  149.3317,  5714, 2800.700,    1.706,   34.665,2,   34.666,2,  103.250,1,  130.230,2,  148.170,2,   37.560,2,    0.000,2,    2.641,2, -999.000,9, -999.000,9, -999.000,9, -999.000,9, -999.000,9
           NA,     P10,     46,   1,-999.0,     -99,  2,20050618,0005,  10.4997,  149.3317,  5714, 3000.500,    1.631,   34.671,2,   34.671,2,  107.020,1,  135.630,6,  148.210,2,   37.240,2,    0.000,2,    2.612,2, -999.000,9, -999.000,9, -999.000,9, -999.000,9, -999.000,9
           NA,     P10,     46,   1,-999.0,     -99,  2,20050618,0005,  10.4997,  149.3317,  5714, 3250.100,    1.568,   34.676,2,   34.676,6,  111.150,1,  141.580,2,  147.490,2,   36.800,2,    0.000,2,    2.577,2, -999.000,9, -999.000,9, -999.000,9, -999.000,9, -999.000,9
           NA,     P10,     46,   1,-999.0,     -99,  2,20050618,0005,  10.4997,  149.3317,  5714, 3501.200,    1.518,   34.681,2,   34.681,2,  115.720,1,  148.020,2,  145.740,2,   36.410,2,    0.000,2,    2.545,2, -999.000,9, -999.000,9, -999.000,9, -999.000,9, -999.000,9
           NA,     P10,     46,   1,-999.0,     -99,  2,20050618,0005,  10.4997,  149.3317,  5714, 3749.700,    1.488,   34.685,2,   34.685,2,  119.510,1,  153.530,2,  143.770,2,   36.030,2,    0.000,2,    2.514,2, -999.000,9, -999.000,9, -999.000,9, -999.000,9, -999.000,9
           NA,     P10,     46,   1,-999.0,     -99,  2,20050618,0005,  10.4997,  149.3317,  5714, 3999.400,    1.462,   34.688,2,   34.689,2,  123.770,1,  159.110,2,  141.310,2,   35.570,2,    0.000,2,    2.485,2, -999.000,9, -999.000,9, -999.000,9, -999.000,9, -999.000,9
           NA,     P10,     46,   1,-999.0,     -99,  2,20050618,0005,  10.4997,  149.3317,  5714, 4248.700,    1.447,   34.692,2,   34.691,2,  127.550,1,  164.270,2,  138.780,2,   35.190,2,    0.000,2,    2.457,2, -999.000,9, -999.000,9, -999.000,9, -999.000,9, -999.000,9
           NA,     P10,     46,   1,-999.0,     -99,  2,20050618,0005,  10.4997,  149.3317,  5714, 4498.800,    1.442,   34.694,2,   34.694,6,  130.620,1,  168.250,2,  136.740,2,   34.950,2,    0.000,2,    2.435,2, -999.000,9, -999.000,9, -999.000,9, -999.000,9, -999.000,9
           NA,     P10,     46,   1,-999.0,     -99,  2,20050618,0005,  10.4997,  149.3317,  5714, 4749.500,    1.447,   34.696,2,   34.696,2,  133.220,1,  171.330,2,  135.110,2,   34.670,2,    0.000,2,    2.420,2, -999.000,9, -999.000,9, -999.000,9, -999.000,9, -999.000,9
           NA,     P10,     46,   1,-999.0,     -99,  2,20050618,0005,  10.4997,  149.3317,  5714, 4998.900,    1.457,   34.697,2,   34.697,2,  135.620,1,  173.910,6,  133.780,2,   34.530,2,    0.000,2,    2.406,2, -999.000,9, -999.000,9, -999.000,9, -999.000,9, -999.000,9
           NA,     P10,     46,   1,-999.0,     -99,  2,20050618,0005,  10.4997,  149.3317,  5714, 5248.800,    1.479,   34.698,2,   34.698,2,  137.330,1,  175.210,2,  133.170,2,   34.460,2,    0.000,2,    2.395,2, -999.000,9, -999.000,9, -999.000,9, -999.000,9, -999.000,9
           NA,     P10,     46,   1,-999.0,     -99,  2,20050618,0005,  10.4997,  149.3317,  5714, 5499.900,    1.504,   34.698,2,   34.699,2,  138.970,1,  176.110,2,  133.000,2,   34.360,2,    0.000,2,    2.394,2, -999.000,9, -999.000,9, -999.000,9, -999.000,9, -999.000,9
           NA,     P10,     46,   1,-999.0,     -99,  2,20050618,0005,  10.4997,  149.3317,  5714, 5749.300,    1.533,   34.699,2,   34.699,2,  140.670,1,  176.650,2,  132.430,2,   34.300,2,    0.000,2,    2.387,2, -999.000,9, -999.000,9, -999.000,9, -999.000,9, -999.000,9
           NA,     P10,     46,   1,-999.0,     -99,  2,20050618,0005,  10.4997,  149.3317,  5714, 5807.500,    1.541,   34.699,2,   34.700,6,  141.020,1,  176.580,2,  132.450,2,   34.360,2,    0.000,2,    2.389,2, -999.000,9, -999.000,9, -999.000,9, -999.000,9, -999.000,9