BOTTLE,20214413JOAExport
EXPOCODE,SECT_ID,STNNBR,CASTNO,SAMPNO,BTLNBR,BTLNBR_FLAG_W,DATE,TIME,LATITUDE,LONGITUDE,DEPTH,CTDPRS,CTDTMP,CTDSAL,CTDSAL_FLAG_W,SALNTY,SALNTY_FLAG_W,CTDOXY,CTDOXY_FLAG_W,OXYGEN,OXYGEN_FLAG_W,SILCAT,SILCAT_FLAG_W,NITRAT,NITRAT_FLAG_W,NITRIT,NITRIT_FLAG_W,PHSPHT,PHSPHT_FLAG_W,CFC-11,CFC-11_FLAG_W,CFC-12,CFC-12_FLAG_W,SF6,SF6_FLAG_W,TCARBN,TCARBN_FLAG_W,ALKALI,ALKALI_FLAG_W
,,,,,,,,,,,,,DB,ITS-90,PSS-78,,PSS-78,,UMOL/KG,,UMOL/KG,,UMOL/KG,,UMOL/KG,,UMOL/KG,,UMOL/KG,,PMOL/KG,,PMOL/KG,,FMOL/KG,,UMOL/KG,,UMOL/KG
           NA,    P10N,    103,   1,-999.0,     -99,  2,20050605,1702,  33.1620,  149.3507,  6122,   10.900,   20.796,   34.686,2,   34.682,2,  196.490,1,  226.880,6,    1.800,2,    0.020,2,    0.000,2,    0.060,2,    2.057,2,    1.235,2, -999.000,9, 1978.500,2, 2280.200,2
           NA,    P10N,    103,   1,-999.0,     -99,  2,20050605,1702,  33.1620,  149.3507,  6122,   50.000,   19.208,   34.796,2,   34.802,2,  202.250,1,  233.410,2,    1.930,2,    0.030,2,    0.020,2,    0.060,2,    2.173,2,    1.292,2, -999.000,9, 1989.900,6, 2288.100,2
           NA,    P10N,    103,   1,-999.0,     -99,  2,20050605,1702,  33.1620,  149.3507,  6122,  100.800,   18.724,   34.840,2,   34.840,2,  195.210,1,  226.420,2,    2.060,2,    0.630,2,    0.200,2,    0.117,2,    2.191,2,    1.302,2, -999.000,9, 1999.700,2, 2291.100,6
           NA,    P10N,    103,   1,-999.0,     -99,  2,20050605,1702,  33.1620,  149.3507,  6122,  149.900,   18.002,   34.829,2,   34.829,2,  191.180,1,  221.820,2,    2.870,2,    2.220,2,    0.030,2,    0.195,2,    2.220,2,    1.323,2, -999.000,9, 2010.800,2, 2291.800,2
           NA,    P10N,    103,   1,-999.0,     -99,  2,20050605,1702,  33.1620,  149.3507,  6122,  199.100,   17.646,   34.825,2,   34.825,2,  192.290,1,  223.690,2,    3.140,2,    2.600,2,    0.020,2,    0.216,2,    2.254,2,    1.339,2, -999.000,9, 2014.400,2, 2289.600,2
           NA,    P10N,    103,   1,-999.0,     -99,  2,20050605,1702,  33.1620,  149.3507,  6122,  249.100,   17.445,   34.819,2,   34.819,2,  193.770,1,  225.710,2,    3.140,2,    2.710,2,    0.020,2,    0.224,2,    2.262,6,    1.344,6, -999.000,9, 2014.600,2, 2289.600,2
           NA,    P10N,    103,   1,-999.0,     -99,  2,20050605,1702,  33.1620,  149.3507,  6122,  301.300,   17.283,   34.806,2,   34.807,2,  192.850,1,  225.120,2,    3.390,2,    3.030,2,    0.010,2,    0.240,2,    2.277,2,    1.356,2, -999.000,9, 2016.400,2, 2286.900,2
           NA,    P10N,    103,   1,-999.0,     -99,  2,20050605,1702,  33.1620,  149.3507,  6122,  399.300,   16.513,   34.724,2,   34.718,2,  174.480,1,  202.900,2,    6.360,2,    6.390,2,    0.010,2,    0.457,2,    2.322,2,    1.319,2, -999.000,9, 2040.800,2, 2287.400,2
           NA,    P10N,    103,   1,-999.0,     -99,  2,20050605,1702,  33.1620,  149.3507,  6122,  500.000,   14.136,   34.538,2,   34.532,6,  155.350,1,  182.130,2,   14.520,2,   12.050,2,    0.010,2,    0.859,2,    2.350,2,    1.288,2, -999.000,9, 2086.700,2, 2281.500,2
           NA,    P10N,    103,   1,-999.0,     -99,  2,20050605,1702,  33.1620,  149.3507,  6122,  599.500,   11.606,   34.367,2,   34.346,2,  146.640,1,  174.050,2,   24.960,2,   17.110,2,    0.010,2,    1.232,2,    2.318,2,    1.232,2, -999.000,9, 2124.000,2, 2281.100,2
           NA,    P10N,    103,   1,-999.0,     -99,  2,20050605,1702,  33.1620,  149.3507,  6122,  701.900,    8.194,   34.135,2,   34.136,2,  134.440,1,  159.700,2,   43.390,2,   23.810,2,    0.010,2,    1.749,2,    2.186,2,    1.141,2, -999.000,9, 2175.600,6, 2287.800,2
           NA,    P10N,    103,   1,-999.0,     -99,  2,20050605,1702,  33.1620,  149.3507,  6122,  799.800,    5.951,   34.017,2,   34.016,2,  116.310,1,  138.500,2,   63.040,2,   30.090,2,    0.000,2,    2.221,2,    2.094,6,    1.077,6, -999.000,9, 2224.300,2, 2296.000,6
           NA,    P10N,    103,   1,-999.0,     -99,  2,20050605,1702,  33.1620,  149.3507,  6122,  901.400,    4.683,   34.035,2,   34.037,2,   84.850,1,  101.120,2,   83.500,2,   35.450,2,    0.000,2,    2.594,2,    1.674,2,    0.838,2, -999.000,9, 2272.600,2, 2308.900,2
           NA,    P10N,    103,   1,-999.0,     -99,  2,20050605,1702,  33.1620,  149.3507,  6122,  999.200,    4.306,   34.161,2,   34.162,6,   56.600,1,   67.060,2,  101.200,2,   38.960,2,    0.010,2,    2.833,2,    0.931,2,    0.452,2, -999.000,9, 2312.300,2, 2335.100,2
           NA,    P10N,    103,   1,-999.0,     -99,  2,20050605,1702,  33.1620,  149.3507,  6122, 1199.300,    3.549,   34.316,2,   34.317,2,   39.600,1,   45.800,6,  124.980,2,   41.380,2,    0.010,2,    3.000,2,    0.329,2,    0.156,2, -999.000,9, 2349.400,2, 2360.600,2
           NA,    P10N,    103,   1,-999.0,     -99,  2,20050605,1702,  33.1620,  149.3507,  6122, 1402.100,    3.064,   34.402,2,   34.403,2,   37.190,1,   42.920,2,  138.900,2,   42.170,2,    0.010,2,    3.051,2,    0.144,2,    0.067,2, -999.000,9, 2364.200,2, 2378.000,2
           NA,    P10N,    103,   1,-999.0,     -99,  2,20050605,1702,  33.1620,  149.3507,  6122, 1600.700,    2.633,   34.478,2,   34.479,2,   37.220,1,   43.050,2,  150.820,2,   42.700,2,    0.000,2,    3.074,2,    0.039,2,    0.019,2, -999.000,9, -999.000,3, 2393.000,2
           NA,    P10N,    103,   1,-999.0,     -99,  2,20050605,1702,  33.1620,  149.3507,  6122, 1800.200,    2.339,   34.530,2,   34.530,2,   44.170,1,   51.860,2,  157.980,2,   42.390,2,    0.010,2,    3.035,2,    0.018,2,    0.005,2, -999.000,9, -999.000,3, 2404.000,2
           NA,    P10N,    103,   1,-999.0,     -99,  2,20050605,1702,  33.1620,  149.3507,  6122, 2000.300,    2.126,   34.568,2,   34.569,2,   53.650,1,   64.170,2,  160.800,2,   41.750,2,    0.000,2,    2.979,2,    0.002,2,    0.000,2, -999.000,9, -999.000,3, 2413.100,2
           NA,    P10N,    103,   1,-999.0,     -99,  2,20050605,1702,  33.1620,  149.3507,  6122, 2203.800,    1.940,   34.600,2,   34.600,6,   64.480,1,   78.510,2,  162.600,2,   40.870,2,    0.000,2,    2.909,2,   -0.004,2,   -0.003,2, -999.000,9, -999.000,3, 2416.000,2
           NA,    P10N,    103,   1,-999.0,     -99,  2,20050605,1702,  33.1620,  149.3507,  6122, 2401.200,    1.827,   34.620,2,   34.620,2,   73.850,1,   90.810,2,  162.000,2,   40.130,2,    0.000,2,    2.854,2,    0.000,2,   -0.001,2, -999.000,9, -999.000,3, 2417.000,2
           NA,    P10N,    103,   1,-999.0,     -99,  2,20050605,1702,  33.1620,  149.3507,  6122, 2600.000,    1.720,   34.638,2,   34.638,2,   83.820,1,  104.320,2,  160.640,2,   39.250,2,    0.000,2,    2.784,2,    0.001,2,   -0.003,2, -999.000,9, -999.000,3, 2419.200,6
           NA,    P10N,    103,   1,-999.0,     -99,  2,20050605,1702,  33.1620,  149.3507,  6122, 2800.400,    1.645,   34.651,2,   34.651,2,   91.920,1,  115.320,2,  160.500,2,   39.280,2,    0.000,2,    2.792,2,   -0.001,2,   -0.004,2, -999.000,9, -999.000,3, -999.000,3
           NA,    P10N,    103,   1,-999.0,     -99,  2,20050605,1702,  33.1620,  149.3507,  6122, 3001.200,    1.585,   34.660,2,   34.661,2,   98.420,1,  124.400,6,  158.590,2,   38.590,2,    0.000,2,    2.729,2,    0.007,2,    0.000,2, -999.000,9, -999.000,3, 2419.800,2
           NA,    P10N,    103,   1,-999.0,     -99,  2,20050605,1702,  33.1620,  149.3507,  6122, 3250.900,    1.546,   34.667,2,   34.668,6,  103.670,1,  131.710,2,  155.040,2,   37.450,2,    0.000,2,    2.631,2,   -0.001,2,    0.003,2, -999.000,9, -999.000,3, 2416.900,2
           NA,    P10N,    103,   1,-999.0,     -99,  2,20050605,1702,  33.1620,  149.3507,  6122, 3502.000,    1.508,   34.674,2,   34.675,2,  108.970,1,  139.130,2,  153.460,2,   37.010,2,    0.000,2,    2.608,2,   -0.003,2,   -0.001,2, -999.000,9, -999.000,3, -999.000,3
           NA,    P10N,    103,   1,-999.0,     -99,  2,20050605,1702,  33.1620,  149.3507,  6122, 3751.500,    1.485,   34.680,2,   34.680,2,  113.100,1,  145.010,2,  151.820,2,   36.590,2,    0.000,2,    2.570,2,   -0.005,2,   -0.001,2, -999.000,9, -999.000,3, 2418.700,2
           NA,    P10N,    103,   1,-999.0,     -99,  2,20050605,1702,  33.1620,  149.3507,  6122, 4000.200,    1.471,   34.684,2,   34.684,2,  116.870,1,  150.310,2,  150.130,2,   36.130,2,    0.010,2,    2.544,2,   -0.003,2,    0.000,2, -999.000,9, -999.000,3, -999.000,3
           NA,    P10N,    103,   1,-999.0,     -99,  2,20050605,1702,  33.1620,  149.3507,  6122, 4251.800,    1.469,   34.687,2,   34.687,2,  119.560,1,  154.050,2,  148.970,2,   35.990,2,    0.000,2,    2.526,2,   -0.002,2,    0.000,2, -999.000,9, -999.000,3, 2421.300,2
           NA,    P10N,    103,   1,-999.0,     -99,  2,20050605,1702,  33.1620,  149.3507,  6122, 4501.100,    1.478,   34.688,2,   34.688,6,  121.460,1,  156.560,2,  148.060,2,   35.790,2,    0.000,2,    2.515,2,    0.003,2,    0.003,2, -999.000,9, -999.000,3, 2417.000,6
           NA,    P10N,    103,   1,-999.0,     -99,  2,20050605,1702,  33.1620,  149.3507,  6122, 4751.200,    1.490,   34.690,2,   34.690,2,  123.650,1,  159.290,2,  146.490,2,   35.630,2,    0.000,2,    2.499,2,    0.000,2,    0.000,2, -999.000,9, -999.000,3, 2415.800,2
           NA,    P10N,    103,   1,-999.0,     -99,  2,20050605,1702,  33.1620,  149.3507,  6122, 4999.300,    1.507,   34.691,2,   34.692,2,  125.540,1,  161.470,6,  145.200,2,   35.460,2,    0.000,2,    2.486,2,    0.004,2,    0.003,2, -999.000,9, -999.000,3, -999.000,3
           NA,    P10N,    103,   1,-999.0,     -99,  2,20050605,1702,  33.1620,  149.3507,  6122, 5249.700,    1.528,   34.692,2,   34.692,2,  127.370,1,  163.290,2,  143.990,2,   35.330,2,    0.000,2,    2.477,2,   -0.002,2,    0.001,2, -999.000,9, -999.000,3, 2412.900,2
           NA,    P10N,    103,   1,-999.0,     -99,  2,20050605,1702,  33.1620,  149.3507,  6122, 5500.200,    1.553,   34.693,2,   34.693,2,  129.090,1,  164.660,2,  142.810,2,   35.200,2,    0.000,2,    2.471,2,    0.002,2,    0.003,2, -999.000,9, -999.000,3, 2412.900,2
           NA,    P10N,    103,   1,-999.0,     -99,  2,20050605,1702,  33.1620,  149.3507,  6122, 5749.300,    1.582,   34.694,2,   34.693,2,  130.540,1,  165.470,2,  141.880,2,   35.170,2,    0.000,2,    2.464,2,    0.001,2,    0.000,2, -999.000,9, -999.000,3, 2411.300,2
           NA,    P10N,    103,   1,-999.0,     -99,  2,20050605,1702,  33.1620,  149.3507,  6122, 6234.800,    1.631,   34.695,2,   34.695,6,  135.170,1,  168.770,2,  139.340,2,   34.940,2,    0.010,2,    2.449,2,    0.002,2,   -0.001,2, -999.000,9, -999.000,3, 2409.400,2
           NA,    P10N,    104,   1,-999.0,     -99,  2,20050605,1048,  33.4998,  149.3477,  6158,    9.200,   20.520,   34.670,2,   34.683,2,  198.190,1,  228.580,6,    1.730,2,    0.040,2,    0.010,2,    0.056,2,    2.138,2,    1.253,2, -999.000,9, -999.000,9, -999.000,9
           NA,    P10N,    104,   1,-999.0,     -99,  2,20050605,1048,  33.4998,  149.3477,  6158,   49.400,   18.962,   34.838,2,   34.838,2,  197.660,1,  229.860,2,    1.900,2,    0.240,2,    0.080,2,    0.087,2,    2.232,2,    1.291,2, -999.000,9, -999.000,9, -999.000,9
           NA,    P10N,    104,   1,-999.0,     -99,  2,20050605,1048,  33.4998,  149.3477,  6158,   99.500,   18.218,   34.846,2,   34.847,2,  189.180,1,  219.390,2,    2.800,2,    2.240,2,    0.030,2,    0.196,2,    2.280,2,    1.316,2, -999.000,9, -999.000,9, -999.000,9
           NA,    P10N,    104,   1,-999.0,     -99,  2,20050605,1048,  33.4998,  149.3477,  6158,  149.800,   17.883,   34.852,2,   34.852,2,  193.130,1,  223.920,2,    2.690,2,    2.230,2,    0.020,2,    0.191,2,    2.311,2,    1.336,2, -999.000,9, -999.000,9, -999.000,9
           NA,    P10N,    104,   1,-999.0,     -99,  2,20050605,1048,  33.4998,  149.3477,  6158,  249.200,   17.508,   34.826,2,   34.826,2,  193.320,1,  224.770,2,    3.000,2,    2.740,2,    0.010,2,    0.221,2,    2.344,6,    1.346,6, -999.000,9, -999.000,9, -999.000,9
           NA,    P10N,    104,   1,-999.0,     -99,  2,20050605,1048,  33.4998,  149.3477,  6158,  299.400,   17.385,   34.816,2,   34.815,2,  191.660,1,  222.850,2,    3.210,2,    3.060,2,    0.020,2,    0.242,2,    2.359,2,    1.373,2, -999.000,9, -999.000,9, -999.000,9
           NA,    P10N,    104,   1,-999.0,     -99,  2,20050605,1048,  33.4998,  149.3477,  6158,  399.200,   16.491,   34.723,2,   34.718,2,  174.220,1,  202.850,2,    6.180,2,    6.350,2,    0.010,2,    0.452,2,    2.451,2,    1.379,2, -999.000,9, -999.000,9, -999.000,9
           NA,    P10N,    104,   1,-999.0,     -99,  2,20050605,1048,  33.4998,  149.3477,  6158,  498.800,   14.395,   34.555,2,   34.549,6,  155.710,1,  182.420,2,   13.670,2,   11.610,2,    0.010,2,    0.826,2,    2.474,2,    1.319,2, -999.000,9, -999.000,9, -999.000,9
           NA,    P10N,    104,   1,-999.0,     -99,  2,20050605,1048,  33.4998,  149.3477,  6158,  600.200,   11.803,   34.382,2,   34.378,2,  147.150,1,  173.550,2,   23.660,2,   16.480,2,    0.010,2,    1.187,2,    2.395,2,    1.199,2, -999.000,9, -999.000,9, -999.000,9
           NA,    P10N,    104,   1,-999.0,     -99,  2,20050605,1048,  33.4998,  149.3477,  6158,  699.700,    8.908,   34.182,2,   34.177,2,  137.280,1,  163.050,2,   38.930,2,   22.330,2,    0.010,2,    1.643,2,    2.330,2,    1.162,2, -999.000,9, -999.000,9, -999.000,9
           NA,    P10N,    104,   1,-999.0,     -99,  2,20050605,1048,  33.4998,  149.3477,  6158,  798.600,    5.950,   33.984,2,   33.983,2,  125.080,1,  149.040,2,   59.480,2,   28.950,2,    0.010,2,    2.154,2,    2.383,6,    1.169,6, -999.000,9, -999.000,9, -999.000,9
           NA,    P10N,    104,   1,-999.0,     -99,  2,20050605,1048,  33.4998,  149.3477,  6158,  899.100,    5.235,   34.098,2,   34.098,2,   84.690,1,   99.740,2,   80.260,2,   34.610,2,    0.000,2,    2.531,2,    1.436,2,    0.687,2, -999.000,9, -999.000,9, -999.000,9
           NA,    P10N,    104,   1,-999.0,     -99,  2,20050605,1048,  33.4998,  149.3477,  6158,  999.300,    4.519,   34.153,2,   34.155,6,   59.660,1,   70.430,2,   96.450,2,   38.320,2,    0.000,2,    2.790,2,    0.897,2,    0.415,2, -999.000,9, -999.000,9, -999.000,9
           NA,    P10N,    104,   1,-999.0,     -99,  2,20050605,1048,  33.4998,  149.3477,  6158, 1199.900,    3.674,   34.308,2,   34.312,2,   39.460,1,   45.270,6,  122.370,2,   41.450,2,    0.000,2,    2.998,2,    0.273,2,    0.122,2, -999.000,9, -999.000,9, -999.000,9
           NA,    P10N,    104,   1,-999.0,     -99,  2,20050605,1048,  33.4998,  149.3477,  6158, 1400.200,    3.054,   34.412,2,   34.413,2,   35.030,1,   40.110,2,  139.110,2,   42.550,2,    0.000,2,    3.070,2,    0.081,2,    0.022,2, -999.000,9, -999.000,9, -999.000,9
           NA,    P10N,    104,   1,-999.0,     -99,  2,20050605,1048,  33.4998,  149.3477,  6158, 1600.400,    2.651,   34.475,2,   34.477,2,   36.670,1,   42.270,2,  150.730,2,   42.830,2,    0.000,2,    3.073,2,    0.030,2,    0.003,2, -999.000,9, -999.000,9, -999.000,9
           NA,    P10N,    104,   1,-999.0,     -99,  2,20050605,1048,  33.4998,  149.3477,  6158, 1799.700,    2.366,   34.523,2,   34.523,2,   42.060,1,   49.220,2,  157.930,2,   42.580,2,    0.000,2,    3.048,2,    0.013,2,    0.003,2, -999.000,9, -999.000,9, -999.000,9
           NA,    P10N,    104,   1,-999.0,     -99,  2,20050605,1048,  33.4998,  149.3477,  6158, 2000.300,    2.134,   34.566,2,   34.566,2,   51.640,1,   61.440,2,  162.050,2,   41.950,2,    0.000,2,    2.989,2,    0.005,2,    0.000,2, -999.000,9, -999.000,9, -999.000,9
           NA,    P10N,    104,   1,-999.0,     -99,  2,20050605,1048,  33.4998,  149.3477,  6158, 2200.600,    1.959,   34.597,2,   34.597,6,   62.820,1,   76.190,2,  163.260,2,   41.030,2,    0.010,2,    2.916,2,    0.005,2,    0.000,2, -999.000,9, -999.000,9, -999.000,9
           NA,    P10N,    104,   1,-999.0,     -99,  2,20050605,1048,  33.4998,  149.3477,  6158, 2399.400,    1.804,   34.623,2,   34.624,2,   76.230,1,   93.770,2,  161.990,2,   39.870,2,    0.010,2,    2.832,2, -999.000,9, -999.000,9, -999.000,9, -999.000,9, -999.000,9
           NA,    P10N,    104,   1,-999.0,     -99,  2,20050605,1048,  33.4998,  149.3477,  6158, 2599.800,    1.710,   34.639,2,   34.640,2,   85.590,1,  106.100,2,  160.140,2,   39.110,2,    0.000,2,    2.768,2, -999.000,9, -999.000,9, -999.000,9, -999.000,9, -999.000,9
           NA,    P10N,    104,   1,-999.0,     -99,  2,20050605,1048,  33.4998,  149.3477,  6158, 2800.500,    1.652,   34.649,2,   34.650,2,   91.650,1,  114.440,2,  158.930,2,   38.630,2,    0.000,2,    2.727,2, -999.000,9, -999.000,9, -999.000,9, -999.000,9, -999.000,9
           NA,    P10N,    104,   1,-999.0,     -99,  2,20050605,1048,  33.4998,  149.3477,  6158, 2999.400,    1.595,   34.659,2,   34.659,2,   97.650,1,  122.710,6,  157.610,2,   38.070,2,    0.000,2,    2.685,2, -999.000,9, -999.000,9, -999.000,9, -999.000,9, -999.000,9
           NA,    P10N,    104,   1,-999.0,     -99,  2,20050605,1048,  33.4998,  149.3477,  6158, 3250.200,    1.546,   34.668,2,   34.668,6,  104.670,1,  132.300,2,  154.550,2,   37.290,2,    0.000,2,    2.625,2, -999.000,9, -999.000,9, -999.000,9, -999.000,9, -999.000,9
           NA,    P10N,    104,   1,-999.0,     -99,  2,20050605,1048,  33.4998,  149.3477,  6158, 3500.200,    1.515,   34.674,2,   34.674,2,  109.290,1,  138.710,2,  153.220,2,   36.950,2,    0.000,2,    2.595,2, -999.000,9, -999.000,9, -999.000,9, -999.000,9, -999.000,9
           NA,    P10N,    104,   1,-999.0,     -99,  2,20050605,1048,  33.4998,  149.3477,  6158, 3752.200,    1.490,   34.679,2,   34.680,2,  113.330,1,  144.430,2,  152.110,2,   36.640,2,    0.000,2,    2.572,2, -999.000,9, -999.000,9, -999.000,9, -999.000,9, -999.000,9
           NA,    P10N,    104,   1,-999.0,     -99,  2,20050605,1048,  33.4998,  149.3477,  6158, 4001.000,    1.481,   34.683,2,   34.683,2,  116.530,1,  149.020,2,  150.870,2,   36.360,2,    0.010,2,    2.540,2, -999.000,9, -999.000,9, -999.000,9, -999.000,9, -999.000,9
           NA,    P10N,    104,   1,-999.0,     -99,  2,20050605,1048,  33.4998,  149.3477,  6158, 4250.200,    1.477,   34.686,2,   34.686,2,  119.320,1,  152.820,2,  149.690,2,   35.980,2,    0.010,2,    2.522,2, -999.000,9, -999.000,9, -999.000,9, -999.000,9, -999.000,9
           NA,    P10N,    104,   1,-999.0,     -99,  2,20050605,1048,  33.4998,  149.3477,  6158, 4501.000,    1.484,   34.688,2,   34.688,6,  121.510,1,  155.830,2,  148.550,2,   35.800,2,    0.000,2,    2.504,2, -999.000,9, -999.000,9, -999.000,9, -999.000,9, -999.000,9
           NA,    P10N,    104,   1,-999.0,     -99,  2,20050605,1048,  33.4998,  149.3477,  6158, 4749.300,    1.496,   34.689,2,   34.690,2,  123.600,1,  158.420,2,  147.160,2,   35.650,2,    0.010,2,    2.495,2, -999.000,9, -999.000,9, -999.000,9, -999.000,9, -999.000,9
           NA,    P10N,    104,   1,-999.0,     -99,  2,20050605,1048,  33.4998,  149.3477,  6158, 5001.500,    1.511,   34.691,2,   34.691,2,  125.680,1,  160.880,6,  145.520,2,   35.520,2,    0.000,2,    2.477,2, -999.000,9, -999.000,9, -999.000,9, -999.000,9, -999.000,9
           NA,    P10N,    104,   1,-999.0,     -99,  2,20050605,1048,  33.4998,  149.3477,  6158, 5250.700,    1.533,   34.692,2,   34.692,2,  127.220,1,  162.490,2,  144.470,2,   35.390,2,    0.000,2,    2.472,2, -999.000,9, -999.000,9, -999.000,9, -999.000,9, -999.000,9
           NA,    P10N,    104,   1,-999.0,     -99,  2,20050605,1048,  33.4998,  149.3477,  6158, 5501.400,    1.554,   34.693,2,   34.694,2,  129.360,1,  164.400,2,  143.060,2,   35.250,2,    0.010,2,    2.460,2, -999.000,9, -999.000,9, -999.000,9, -999.000,9, -999.000,9
           NA,    P10N,    104,   1,-999.0,     -99,  2,20050605,1048,  33.4998,  149.3477,  6158, 5749.800,    1.580,   34.694,2,   34.694,2,  131.020,1,  165.590,2,  142.090,2,   35.100,2,    0.010,2,    2.456,2, -999.000,9, -999.000,9, -999.000,9, -999.000,9, -999.000,9
           NA,    P10N,    104,   1,-999.0,     -99,  2,20050605,1048,  33.4998,  149.3477,  6158, 6268.200,    1.642,   34.694,2,   34.695,6,  134.410,1,  167.620,2,  140.450,2,   34.990,2,    0.000,2,    2.442,2, -999.000,9, -999.000,9, -999.000,9, -999.000,9, -999.000,9