BOTTLE,20214413JOAExport
EXPOCODE,SECT_ID,STNNBR,CASTNO,SAMPNO,BTLNBR,BTLNBR_FLAG_W,DATE,TIME,LATITUDE,LONGITUDE,DEPTH,CTDPRS,CTDTMP,CTDSAL,CTDSAL_FLAG_W,SALNTY,SALNTY_FLAG_W,CTDOXY,CTDOXY_FLAG_W,OXYGEN,OXYGEN_FLAG_W,SILCAT,SILCAT_FLAG_W,NITRAT,NITRAT_FLAG_W,NITRIT,NITRIT_FLAG_W,PHSPHT,PHSPHT_FLAG_W,CFC-11,CFC-11_FLAG_W,CFC-12,CFC-12_FLAG_W,SF6,SF6_FLAG_W,TCARBN,TCARBN_FLAG_W,ALKALI,ALKALI_FLAG_W
,,,,,,,,,,,,,DB,ITS-90,PSS-78,,PSS-78,,UMOL/KG,,UMOL/KG,,UMOL/KG,,UMOL/KG,,UMOL/KG,,UMOL/KG,,PMOL/KG,,PMOL/KG,,FMOL/KG,,UMOL/KG,,UMOL/KG
           NA,    P10N,    126,   1,-999.0,     -99,  2,20050530,0254,  39.0015,  146.1460,  5283,   10.400,    9.157,   33.653,2,   33.670,2,  295.320,1,  311.600,2,    7.450,2,    6.030,2,    0.190,2,    0.713,2,    4.308,2,    2.221,2, -999.000,9, 2049.900,2, 2268.300,2
           NA,    P10N,    126,   1,-999.0,     -99,  2,20050530,0254,  39.0015,  146.1460,  5283,   50.500,    6.991,   33.785,2,   33.783,2,  268.500,1,  283.920,2,   15.780,2,   12.870,2,    0.050,2,    1.057,2, -999.000,9, -999.000,9, -999.000,9, 2095.100,6, 2265.700,2
           NA,    P10N,    126,   1,-999.0,     -99,  2,20050530,0254,  39.0015,  146.1460,  5283,  100.200,    5.135,   33.591,2,   33.554,2,  272.260,1,  290.870,2,   27.610,2,   16.810,2,    0.120,2,    1.383,2,    4.944,2,    2.505,2, -999.000,9, 2116.200,2, 2259.700,6
           NA,    P10N,    126,   1,-999.0,     -99,  2,20050530,0254,  39.0015,  146.1460,  5283,  150.100,    3.612,   33.469,2,   33.461,2,  258.180,1,  274.340,2,   42.700,2,   22.410,2,    0.040,2,    1.788,2, -999.000,9, -999.000,9, -999.000,9, 2151.800,2, 2261.200,2
           NA,    P10N,    126,   1,-999.0,     -99,  2,20050530,0254,  39.0015,  146.1460,  5283,  200.400,    2.573,   33.430,2,   33.411,2,  238.350,1,  253.820,2,   55.860,2,   27.440,2,    0.020,2,    2.161,2,    4.912,2,    2.416,2, -999.000,9, 2184.900,2, -999.000,4
           NA,    P10N,    126,   1,-999.0,     -99,  2,20050530,0254,  39.0015,  146.1460,  5283,  250.600,    1.673,   33.412,2,   33.407,2,  217.140,1,  231.830,2,   64.500,2,   30.210,2,    0.020,2,    2.367,2,    4.812,2,    2.361,2, -999.000,9, 2210.200,2, 2271.200,2
           NA,    P10N,    126,   1,-999.0,     -99,  2,20050530,0254,  39.0015,  146.1460,  5283,  304.100,    1.776,   33.478,2,   33.478,2,  193.200,1,  205.630,2,   70.820,2,   31.890,2,    0.020,2,    2.478,2,    4.450,2,    2.123,2, -999.000,9, 2225.900,2, 2277.800,2
           NA,    P10N,    126,   1,-999.0,     -99,  2,20050530,0254,  39.0015,  146.1460,  5283,  401.100,    3.221,   33.798,2,   33.798,2,  114.560,1,  120.790,2,   87.330,2,   36.830,2,    0.020,2,    2.735,2,    2.764,2,    1.308,2, -999.000,9, 2270.700,2, 2303.800,2
           NA,    P10N,    126,   1,-999.0,     -99,  2,20050530,0254,  39.0015,  146.1460,  5283,  501.000,    3.759,   34.015,2,   34.002,6,   72.760,1,   75.440,2,   99.250,2,   39.380,2,    0.010,2,    2.888,2,    1.649,2,    0.811,2, -999.000,9, 2303.200,2, 2321.100,2
           NA,    P10N,    126,   1,-999.0,     -99,  2,20050530,0254,  39.0015,  146.1460,  5283,  600.700,    3.334,   34.083,2,   34.085,2,   40.700,1,   41.320,2,  116.950,2,   42.700,2,    0.010,2,    3.093,2,    1.105,2,    0.549,2, -999.000,9, 2336.100,2, 2333.000,2
           NA,    P10N,    126,   1,-999.0,     -99,  2,20050530,0254,  39.0015,  146.1460,  5283,  699.800,    3.422,   34.194,2,   34.197,2,   39.960,1,   40.220,2,  122.660,2,   42.270,2,    0.010,2,    3.062,2,    0.706,2,    0.377,2, -999.000,9, 2343.300,6, -999.000,4
           NA,    P10N,    126,   1,-999.0,     -99,  2,20050530,0254,  39.0015,  146.1460,  5283,  800.500,    3.071,   34.238,2,   34.238,2,   30.270,1,   29.470,2,  134.480,2,   43.420,2,    0.010,2,    3.138,2,    0.546,6,    0.295,6, -999.000,9, 2357.100,2, 2357.600,6
           NA,    P10N,    126,   1,-999.0,     -99,  2,20050530,0254,  39.0015,  146.1460,  5283,  900.900,    2.924,   34.284,2,   34.284,2,   28.370,1,   27.180,2,  140.930,2,   43.590,2,    0.010,2,    3.135,2,    0.412,2,    0.213,2, -999.000,9, 2368.800,2, 2364.600,2
           NA,    P10N,    126,   1,-999.0,     -99,  2,20050530,0254,  39.0015,  146.1460,  5283, 1000.700,    2.785,   34.340,2,   34.339,6,   29.330,1,   28.210,2,  146.740,2,   43.400,2,    0.010,2,    3.135,2,    0.296,2,    0.152,2, -999.000,9, 2369.800,2, 2373.600,2
           NA,    P10N,    126,   1,-999.0,     -99,  2,20050530,0254,  39.0015,  146.1460,  5283, 1201.400,    2.486,   34.438,2,   34.437,2,   39.020,1,   38.700,6,  155.540,2,   42.950,2,    0.000,2,    3.093,2,    0.154,2,    0.080,2, -999.000,9, 2378.100,2, 2388.900,2
           NA,    P10N,    126,   1,-999.0,     -99,  2,20050530,0254,  39.0015,  146.1460,  5283, 1401.000,    2.352,   34.501,2,   34.500,2,   44.990,1,   45.300,2,  158.990,2,   42.750,2,    0.010,2,    3.069,2,    0.068,2,    0.035,2, -999.000,9, 2378.500,2, 2400.900,2
           NA,    P10N,    126,   1,-999.0,     -99,  2,20050530,0254,  39.0015,  146.1460,  5283, 1600.800,    2.209,   34.542,2,   34.541,2,   53.020,1,   53.890,2,  161.170,2,   42.310,2,    0.000,2,    3.027,2,    0.026,2,    0.026,2, -999.000,9, 2378.100,2, 2407.000,2
           NA,    P10N,    126,   1,-999.0,     -99,  2,20050530,0254,  39.0015,  146.1460,  5283, 1800.600,    2.064,   34.570,2,   34.570,2,   61.870,1,   63.590,2,  163.230,2,   41.800,2,    0.010,2,    2.978,2,    0.023,2,    0.015,2, -999.000,9, 2372.200,2, 2411.900,2
           NA,    P10N,    126,   1,-999.0,     -99,  2,20050530,0254,  39.0015,  146.1460,  5283, 1999.900,    1.933,   34.596,2,   34.596,2,   72.910,1,   75.910,2,  163.470,2,   41.100,2,    0.010,2,    2.924,2,    0.004,2,    0.000,2, -999.000,9, 2367.300,2, 2415.900,2
           NA,    P10N,    126,   1,-999.0,     -99,  2,20050530,0254,  39.0015,  146.1460,  5283, 2200.200,    1.819,   34.618,2,   34.617,6,   84.690,1,   88.820,2,  162.880,2,   40.370,2,    0.000,2,    2.864,2,   -0.001,2,    0.000,2, -999.000,9, 2363.700,2, 2419.000,2
           NA,    P10N,    126,   1,-999.0,     -99,  2,20050530,0254,  39.0015,  146.1460,  5283, 2400.600,    1.728,   34.634,2,   34.634,2,   95.240,1,  100.490,2,  161.280,2,   39.560,2,    0.010,2,    2.804,2, -999.000,9, -999.000,9, -999.000,9, 2355.800,2, 2419.300,2
           NA,    P10N,    126,   1,-999.0,     -99,  2,20050530,0254,  39.0015,  146.1460,  5283, 2400.700,    1.728,   34.634,2,   34.634,2,   95.230,1,  100.410,2,  161.710,2,   39.560,2,    0.000,2,    2.809,2,   -0.002,2,   -0.002,2, -999.000,9, 2356.400,6, 2419.000,2
           NA,    P10N,    126,   1,-999.0,     -99,  2,20050530,0254,  39.0015,  146.1460,  5283, 2599.900,    1.654,   34.646,2,   34.646,2,  104.410,1,  110.520,2,  160.290,2,   38.910,2,    0.000,2,    2.755,2,   -0.001,2,   -0.003,2, -999.000,9, 2348.500,2, 2419.000,6
           NA,    P10N,    126,   1,-999.0,     -99,  2,20050530,0254,  39.0015,  146.1460,  5283, 2800.500,    1.599,   34.655,2,   34.656,2,  111.290,1,  118.080,2,  159.590,2,   38.460,2,    0.010,2,    2.719,2, -999.000,9, -999.000,9, -999.000,9, 2344.000,2, 2420.700,2
           NA,    P10N,    126,   1,-999.0,     -99,  2,20050530,0254,  39.0015,  146.1460,  5283, 3000.300,    1.552,   34.663,2,   34.664,2,  118.430,1,  125.920,6,  158.320,2,   37.970,2,    0.010,2,    2.681,2, -999.000,9, -999.000,9, -999.000,9, 2342.500,2, 2420.700,2
           NA,    P10N,    126,   1,-999.0,     -99,  2,20050530,0254,  39.0015,  146.1460,  5283, 3250.900,    1.511,   34.671,2,   34.671,6,  125.920,1,  134.070,2,  156.100,2,   37.440,2,    0.010,2,    2.638,2, -999.000,9, -999.000,9, -999.000,9, 2336.400,2, 2420.100,2
           NA,    P10N,    126,   1,-999.0,     -99,  2,20050530,0254,  39.0015,  146.1460,  5283, 3500.900,    1.482,   34.677,2,   34.677,2,  132.130,1,  140.750,2,  154.070,2,   36.910,2,    0.010,2,    2.599,2, -999.000,9, -999.000,9, -999.000,9, 2331.100,2, 2422.400,2
           NA,    P10N,    126,   1,-999.0,     -99,  2,20050530,0254,  39.0015,  146.1460,  5283, 3501.300,    1.482,   34.677,2,   34.677,2,  132.110,1,  140.780,2,  154.090,2,   36.880,2,    0.010,2,    2.601,2, -999.000,9, -999.000,9, -999.000,9, 2333.100,2, 2419.600,2
           NA,    P10N,    126,   1,-999.0,     -99,  2,20050530,0254,  39.0015,  146.1460,  5283, 3750.900,    1.472,   34.681,2,   34.681,2,  136.430,1,  145.260,2,  153.290,2,   36.680,2,    0.010,2,    2.582,2, -999.000,9, -999.000,9, -999.000,9, 2325.400,2, 2419.900,2
           NA,    P10N,    126,   1,-999.0,     -99,  2,20050530,0254,  39.0015,  146.1460,  5283, 4001.000,    1.458,   34.685,2,   34.685,2,  141.430,1,  150.550,2,  151.720,2,   36.330,2,    0.010,2,    2.554,2, -999.000,9, -999.000,9, -999.000,9, 2326.200,2, 2419.600,2
           NA,    P10N,    126,   1,-999.0,     -99,  2,20050530,0254,  39.0015,  146.1460,  5283, 4250.800,    1.458,   34.687,2,   34.687,2,  145.160,1,  154.260,2,  150.460,2,   36.140,2,    0.010,2,    2.534,2, -999.000,9, -999.000,9, -999.000,9, 2318.700,6, -999.000,3
           NA,    P10N,    126,   1,-999.0,     -99,  2,20050530,0254,  39.0015,  146.1460,  5283, 4499.800,    1.469,   34.689,2,   34.689,6,  147.810,1,  156.480,2,  149.830,2,   35.890,2,    0.010,2,    2.522,2, -999.000,9, -999.000,9, -999.000,9, 2316.900,2, 2417.300,6
           NA,    P10N,    126,   1,-999.0,     -99,  2,20050530,0254,  39.0015,  146.1460,  5283, 4749.900,    1.486,   34.691,2,   34.691,2,  150.030,1,  158.270,2,  149.860,2,   35.780,2,    0.010,2,    2.511,2, -999.000,9, -999.000,9, -999.000,9, 2314.800,2, 2418.700,2
           NA,    P10N,    126,   1,-999.0,     -99,  2,20050530,0254,  39.0015,  146.1460,  5283, 5000.100,    1.508,   34.692,2,   34.692,2,  152.020,1,  159.580,6,  149.320,2,   35.660,2,    0.010,2,    2.510,2, -999.000,9, -999.000,9, -999.000,9, 2314.600,2, 2417.300,2
           NA,    P10N,    126,   1,-999.0,     -99,  2,20050530,0254,  39.0015,  146.1460,  5283, 5250.400,    1.529,   34.693,2,   34.693,2,  154.670,1,  161.260,2,  147.650,2,   35.530,2,    0.010,2,    2.493,2, -999.000,9, -999.000,9, -999.000,9, 2311.100,2, 2415.900,2
           NA,    P10N,    126,   1,-999.0,     -99,  2,20050530,0254,  39.0015,  146.1460,  5283, 5376.200,    1.541,   34.693,2,   34.693,6,  155.480,1,  161.110,2,  148.180,2,   35.450,2,    0.010,2,    2.499,2, -999.000,9, -999.000,9, -999.000,9, 2314.600,2, 2415.900,2
           NA,    P10N,    127,   1,-999.0,     -99,  2,20050529,2145,  39.2458,  145.9682,  5260,   10.600,    9.281,   33.562,2,   33.575,2,  303.540,1,  320.890,6,    4.010,2,    5.310,2,    0.180,2,    0.695,2,    4.208,2,    2.238,2, -999.000,9, -999.000,9, -999.000,9
           NA,    P10N,    127,   1,-999.0,     -99,  2,20050529,2145,  39.2458,  145.9682,  5260,   50.300,    6.577,   33.652,2,   33.685,2,  280.290,1,  294.410,2,   15.230,2,   11.770,2,    0.190,2,    1.048,2,    4.374,2,    2.323,2, -999.000,9, -999.000,9, -999.000,9
           NA,    P10N,    127,   1,-999.0,     -99,  2,20050529,2145,  39.2458,  145.9682,  5260,  100.800,    5.622,   33.648,2,   33.641,2,  272.040,1,  288.600,2,   26.130,2,   16.100,2,    0.120,2,    1.309,2,    4.503,2,    2.391,2, -999.000,9, -999.000,9, -999.000,9
           NA,    P10N,    127,   1,-999.0,     -99,  2,20050529,2145,  39.2458,  145.9682,  5260,  150.200,    3.146,   33.405,2,   33.410,2,  270.420,1,  285.070,2,   41.240,2,   22.130,2,    0.050,2,    1.774,2,    4.846,2,    2.547,2, -999.000,9, -999.000,9, -999.000,9
           NA,    P10N,    127,   1,-999.0,     -99,  2,20050529,2145,  39.2458,  145.9682,  5260,  200.400,    2.731,   33.441,2,   33.441,2,  237.790,1,  250.700,2,   54.500,2,   26.780,2,    0.030,2,    2.105,2,    4.533,2,    2.339,2, -999.000,9, -999.000,9, -999.000,9
           NA,    P10N,    127,   1,-999.0,     -99,  2,20050529,2145,  39.2458,  145.9682,  5260,  250.000,    2.995,   33.589,2,   33.596,2,  182.410,1,  189.560,2,   68.450,2,   31.700,2,    0.030,2,    2.418,2,    3.804,6,    1.913,6, -999.000,9, -999.000,9, -999.000,9
           NA,    P10N,    127,   1,-999.0,     -99,  2,20050529,2145,  39.2458,  145.9682,  5260,  299.400,    2.642,   33.640,2,   33.650,2,  148.130,1,  155.340,2,   79.300,2,   34.990,2,    0.020,2,    2.637,2,    3.457,2,    1.704,2, -999.000,9, -999.000,9, -999.000,9
           NA,    P10N,    127,   1,-999.0,     -99,  2,20050529,2145,  39.2458,  145.9682,  5260,  400.000,    3.009,   33.792,2,   33.797,2,  106.640,1,  107.050,2,   92.590,2,   38.460,2,    0.010,2,    2.842,2,    2.557,2,    1.297,2, -999.000,9, -999.000,9, -999.000,9
           NA,    P10N,    127,   1,-999.0,     -99,  2,20050529,2145,  39.2458,  145.9682,  5260,  501.200,    3.138,   33.957,2,   33.967,6,   56.910,1,   56.770,2,  108.850,2,   42.140,2,    0.010,2,    3.062,2,    1.698,2,    0.824,2, -999.000,9, -999.000,9, -999.000,9
           NA,    P10N,    127,   1,-999.0,     -99,  2,20050529,2145,  39.2458,  145.9682,  5260,  599.100,    3.341,   34.102,2,   34.113,2,   39.920,1,   41.760,2,  117.360,2,   42.480,2,    0.010,2,    3.076,2,    1.062,2,    0.507,2, -999.000,9, -999.000,9, -999.000,9
           NA,    P10N,    127,   1,-999.0,     -99,  2,20050529,2145,  39.2458,  145.9682,  5260,  700.700,    3.478,   34.225,2,   34.228,2,   41.520,1,   41.390,2,  123.000,2,   42.020,2,    0.010,2,    3.049,2,    0.659,2,    0.316,2, -999.000,9, -999.000,9, -999.000,9
           NA,    P10N,    127,   1,-999.0,     -99,  2,20050529,2145,  39.2458,  145.9682,  5260,  801.800,    2.955,   34.252,2,   34.253,2,   33.150,1,   32.890,2,  136.760,2,   43.150,2,    0.010,2,    3.127,2,    0.595,6,    0.276,6, -999.000,9, -999.000,9, -999.000,9
           NA,    P10N,    127,   1,-999.0,     -99,  2,20050529,2145,  39.2458,  145.9682,  5260,  899.700,    2.852,   34.312,2,   34.314,2,   27.780,1,   27.370,2,  143.920,2,   43.550,2,    0.010,2,    3.132,2,    0.382,2,    0.182,2, -999.000,9, -999.000,9, -999.000,9
           NA,    P10N,    127,   1,-999.0,     -99,  2,20050529,2145,  39.2458,  145.9682,  5260, 1000.500,    2.712,   34.364,2,   34.366,6,   29.720,1,   29.560,2,  149.960,2,   43.470,2,    0.010,2,    3.134,2,    0.278,2,    0.135,2, -999.000,9, -999.000,9, -999.000,9
           NA,    P10N,    127,   1,-999.0,     -99,  2,20050529,2145,  39.2458,  145.9682,  5260, 1200.400,    2.458,   34.444,2,   34.444,2,   39.810,1,   39.970,6,  156.500,2,   42.860,2,    0.010,2,    3.102,2,    0.171,2,    0.087,2, -999.000,9, -999.000,9, -999.000,9
           NA,    P10N,    127,   1,-999.0,     -99,  2,20050529,2145,  39.2458,  145.9682,  5260, 1402.000,    2.286,   34.494,2,   34.495,2,   46.780,1,   47.520,2,  160.880,2,   42.520,2,    0.010,2,    3.062,2,    0.107,2,    0.027,2, -999.000,9, -999.000,9, -999.000,9
           NA,    P10N,    127,   1,-999.0,     -99,  2,20050529,2145,  39.2458,  145.9682,  5260, 1600.800,    2.189,   34.541,2,   34.541,2,   54.170,1,   55.390,2,  161.170,2,   42.160,2,    0.010,2,    3.026,2,    0.029,2,    0.022,2, -999.000,9, -999.000,9, -999.000,9
           NA,    P10N,    127,   1,-999.0,     -99,  2,20050529,2145,  39.2458,  145.9682,  5260, 1799.400,    2.034,   34.576,2,   34.576,2,   64.170,1,   66.350,2,  162.610,2,   41.550,2,    0.010,2,    2.973,2,    0.003,2,    0.004,2, -999.000,9, -999.000,9, -999.000,9
           NA,    P10N,    127,   1,-999.0,     -99,  2,20050529,2145,  39.2458,  145.9682,  5260, 2000.300,    1.921,   34.598,2,   34.599,2,   74.040,1,   76.960,2,  163.130,2,   40.970,2,    0.010,2,    2.921,2,   -0.005,2,    0.003,2, -999.000,9, -999.000,9, -999.000,9
           NA,    P10N,    127,   1,-999.0,     -99,  2,20050529,2145,  39.2458,  145.9682,  5260, 2199.900,    1.781,   34.623,2,   34.623,6,   87.820,1,   92.220,2,  162.020,2,   39.920,2,    0.010,2,    2.842,2,   -0.002,2,    0.003,2, -999.000,9, -999.000,9, -999.000,9
           NA,    P10N,    127,   1,-999.0,     -99,  2,20050529,2145,  39.2458,  145.9682,  5260, 2601.800,    1.633,   34.649,2,   34.649,2,  106.680,1,  112.970,2,  159.340,2,   38.720,2,    0.010,2,    2.742,2,   -0.008,2,    0.000,2, -999.000,9, -999.000,9, -999.000,9
           NA,    P10N,    127,   1,-999.0,     -99,  2,20050529,2145,  39.2458,  145.9682,  5260, 2798.900,    1.587,   34.657,2,   34.657,2,  113.160,1,  120.050,2,  158.220,2,   38.250,2,    0.000,2,    2.709,2,   -0.005,2,   -0.005,2, -999.000,9, -999.000,9, -999.000,9
           NA,    P10N,    127,   1,-999.0,     -99,  2,20050529,2145,  39.2458,  145.9682,  5260, 3000.400,    1.544,   34.665,2,   34.665,2,  120.050,1,  127.580,6,  156.560,2,   37.790,2,    0.010,2,    2.669,2,   -0.004,2,   -0.002,2, -999.000,9, -999.000,9, -999.000,9
           NA,    P10N,    127,   1,-999.0,     -99,  2,20050529,2145,  39.2458,  145.9682,  5260, 3249.700,    1.509,   34.671,2,   34.671,6,  126.390,1,  134.510,2,  154.930,2,   37.280,2,    0.010,2,    2.621,2,   -0.003,2,   -0.002,2, -999.000,9, -999.000,9, -999.000,9
           NA,    P10N,    127,   1,-999.0,     -99,  2,20050529,2145,  39.2458,  145.9682,  5260, 3499.900,    1.484,   34.676,2,   34.677,2,  132.060,1,  140.710,2,  153.670,2,   36.870,2,    0.010,2,    2.603,2, -999.000,9, -999.000,9, -999.000,9, -999.000,9, -999.000,9
           NA,    P10N,    127,   1,-999.0,     -99,  2,20050529,2145,  39.2458,  145.9682,  5260, 3500.000,    1.484,   34.676,2, -999.000,3,  132.060,1,  140.680,2,  153.830,2,   36.920,2,    0.000,2,    2.600,2, -999.000,9, -999.000,9, -999.000,9, -999.000,9, -999.000,9
           NA,    P10N,    127,   1,-999.0,     -99,  2,20050529,2145,  39.2458,  145.9682,  5260, 3500.400,    1.484,   34.676,2,   34.677,2,  132.030,1,  140.670,2,  153.850,2,   36.940,2,    0.010,2,    2.603,2,   -0.002,2,   -0.002,2, -999.000,9, -999.000,9, -999.000,9
           NA,    P10N,    127,   1,-999.0,     -99,  2,20050529,2145,  39.2458,  145.9682,  5260, 3750.800,    1.466,   34.681,2,   34.681,2,  137.370,1,  146.250,2,  152.190,2,   36.560,2,    0.010,2,    2.570,2,   -0.004,2,   -0.002,2, -999.000,9, -999.000,9, -999.000,9
           NA,    P10N,    127,   1,-999.0,     -99,  2,20050529,2145,  39.2458,  145.9682,  5260, 4000.400,    1.455,   34.685,2,   34.685,2,  142.070,1,  151.150,2,  150.880,2,   36.190,2,    0.010,2,    2.547,2,   -0.001,2,   -0.002,2, -999.000,9, -999.000,9, -999.000,9
           NA,    P10N,    127,   1,-999.0,     -99,  2,20050529,2145,  39.2458,  145.9682,  5260, 4250.200,    1.456,   34.688,2, -999.000,3,  145.520,1,  154.600,2,  149.960,2,   35.970,2,    0.010,2,    2.527,2,    0.011,2,    0.009,2, -999.000,9, -999.000,9, -999.000,9
           NA,    P10N,    127,   1,-999.0,     -99,  2,20050529,2145,  39.2458,  145.9682,  5260, 4499.200,    1.465,   34.690,2,   34.690,6,  148.310,1,  156.960,2,  149.700,2,   35.850,2,    0.010,2,    2.520,2,   -0.005,2,   -0.001,2, -999.000,9, -999.000,9, -999.000,9
           NA,    P10N,    127,   1,-999.0,     -99,  2,20050529,2145,  39.2458,  145.9682,  5260, 4751.900,    1.486,   34.691,2,   34.691,2,  149.980,1,  157.910,2,  150.230,2,   35.770,2,    0.010,2,    2.514,2,    0.008,2,    0.001,2, -999.000,9, -999.000,9, -999.000,9
           NA,    P10N,    127,   1,-999.0,     -99,  2,20050529,2145,  39.2458,  145.9682,  5260, 5000.100,    1.505,   34.692,2,   34.692,2,  152.550,1,  159.980,6,  148.560,2,   35.600,2,    0.010,2,    2.504,2,    0.009,2,    0.004,2, -999.000,9, -999.000,9, -999.000,9
           NA,    P10N,    127,   1,-999.0,     -99,  2,20050529,2145,  39.2458,  145.9682,  5260, 5249.900,    1.527,   34.693,2,   34.693,2,  155.060,1,  161.450,2,  147.360,2,   35.470,2,    0.010,2,    2.495,2,    0.003,2,   -0.001,2, -999.000,9, -999.000,9, -999.000,9
           NA,    P10N,    127,   1,-999.0,     -99,  2,20050529,2145,  39.2458,  145.9682,  5260, 5345.300,    1.538,   34.693,2,   34.693,6,  155.100,1,  160.710,2,  148.550,2,   35.420,2,    0.010,2,    2.513,2,    0.008,2,    0.000,2, -999.000,9, -999.000,9, -999.000,9