BOTTLE,20214413JOAExport
EXPOCODE,SECT_ID,STNNBR,CASTNO,SAMPNO,BTLNBR,BTLNBR_FLAG_W,DATE,TIME,LATITUDE,LONGITUDE,DEPTH,CTDPRS,CTDTMP,CTDSAL,CTDSAL_FLAG_W,SALNTY,SALNTY_FLAG_W,CTDOXY,CTDOXY_FLAG_W,OXYGEN,OXYGEN_FLAG_W,SILCAT,SILCAT_FLAG_W,NITRAT,NITRAT_FLAG_W,NITRIT,NITRIT_FLAG_W,PHSPHT,PHSPHT_FLAG_W,CFC-11,CFC-11_FLAG_W,CFC-12,CFC-12_FLAG_W,SF6,SF6_FLAG_W,TCARBN,TCARBN_FLAG_W,ALKALI,ALKALI_FLAG_W
,,,,,,,,,,,,,DB,ITS-90,PSS-78,,PSS-78,,UMOL/KG,,UMOL/KG,,UMOL/KG,,UMOL/KG,,UMOL/KG,,UMOL/KG,,PMOL/KG,,PMOL/KG,,FMOL/KG,,UMOL/KG,,UMOL/KG
           NA,     P10,     47,   1,-999.0,     -99,  2,20050617,1648,  11.1652,  149.3227,  5813,    9.500,   28.923,   34.263,2,   34.272,2,  172.130,1,  195.910,6,    1.000,2,    0.030,2,    0.000,2,    0.062,2, -999.000,5, -999.000,5, -999.000,9, 1913.300,2, 2253.900,2
           NA,     P10,     47,   1,-999.0,     -99,  2,20050617,1648,  11.1652,  149.3227,  5813,   50.600,   28.544,   34.472,2,   34.473,2,  174.190,1,  198.960,2,    0.970,2,    0.030,2,    0.000,2,    0.066,2,    1.414,2,    0.900,2, -999.000,9, 1927.300,6, 2268.300,2
           NA,     P10,     47,   1,-999.0,     -99,  2,20050617,1648,  11.1652,  149.3227,  5813,  100.100,   27.329,   34.691,2,   34.719,2,  179.450,1,  205.430,2,    0.850,2,    0.030,2,    0.000,2,    0.083,2,    1.496,2,    0.954,2, -999.000,9, 1942.100,2, 2285.200,6
           NA,     P10,     47,   1,-999.0,     -99,  2,20050617,1648,  11.1652,  149.3227,  5813,  150.500,   24.674,   35.028,2,   34.989,2,  170.470,1,  182.580,2,    2.030,2,    1.130,2,    0.060,2,    0.215,2,    1.748,2,    1.075,2, -999.000,9, 2012.000,2, 2307.400,2
           NA,     P10,     47,   1,-999.0,     -99,  2,20050617,1648,  11.1652,  149.3227,  5813,  199.700,   18.659,   34.800,2,   34.775,2,  127.530,1,  147.960,2,    7.510,2,    9.250,2,    0.010,2,    0.778,2,    1.966,2,    1.153,2, -999.000,9, 2087.000,2, 2291.700,2
           NA,     P10,     47,   1,-999.0,     -99,  2,20050617,1648,  11.1652,  149.3227,  5813,  250.600,   13.699,   34.475,2,   34.459,2,  125.410,1,  144.700,2,   14.390,2,   15.570,2,    0.000,2,    1.198,2,    2.133,6,    1.206,6, -999.000,9, 2121.400,2, 2276.600,2
           NA,     P10,     47,   1,-999.0,     -99,  2,20050617,1648,  11.1652,  149.3227,  5813,  301.000,   10.892,   34.366,2,   34.366,2,   92.090,1,  106.680,2,   25.900,2,   23.840,2,    0.000,2,    1.799,2,    1.587,2,    0.856,2, -999.000,9, 2177.700,2, 2279.000,2
           NA,     P10,     47,   1,-999.0,     -99,  2,20050617,1648,  11.1652,  149.3227,  5813,  401.000,    9.024,   34.520,2,   34.519,2,   48.750,1,   55.540,2,   39.960,2,   33.030,2,    0.000,2,    2.414,2,    0.403,2,    0.210,2, -999.000,9, 2243.700,2, 2301.100,2
           NA,     P10,     47,   1,-999.0,     -99,  2,20050617,1648,  11.1652,  149.3227,  5813,  500.800,    7.901,   34.530,2,   34.529,6,   48.340,1,   55.340,2,   47.790,2,   35.350,2,    0.000,2,    2.570,2,    0.180,2,    0.102,2, -999.000,9, 2258.700,2, 2312.400,2
           NA,     P10,     47,   1,-999.0,     -99,  2,20050617,1648,  11.1652,  149.3227,  5813,  600.900,    6.817,   34.517,2,   34.516,2,   45.930,1,   52.720,2,   59.540,2,   37.610,2,    0.000,2,    2.754,2,    0.070,2,    0.030,2, -999.000,9, 2275.900,2, 2327.600,2
           NA,     P10,     47,   1,-999.0,     -99,  2,20050617,1648,  11.1652,  149.3227,  5813,  702.800,    6.035,   34.517,2,   34.517,2,   46.730,1,   53.700,2,   69.560,2,   39.090,2,    0.000,2,    2.852,2,    0.034,2,    0.023,2, -999.000,9, 2291.300,6, 2336.500,2
           NA,     P10,     47,   1,-999.0,     -99,  2,20050617,1648,  11.1652,  149.3227,  5813,  799.600,    5.531,   34.524,2,   34.524,2,   48.270,1,   55.740,2,   77.150,2,   39.800,2,    0.000,2,    2.894,2,    0.021,6,    0.009,6, -999.000,9, 2299.300,2, 2341.300,6
           NA,     P10,     47,   1,-999.0,     -99,  2,20050617,1648,  11.1652,  149.3227,  5813,  898.500,    5.037,   34.534,2,   34.534,2,   50.040,1,   57.810,2,   85.610,2,   40.540,2,    0.000,2,    2.930,2,    0.011,2,    0.008,2, -999.000,9, 2309.100,2, 2350.400,2
           NA,     P10,     47,   1,-999.0,     -99,  2,20050617,1648,  11.1652,  149.3227,  5813, 1000.700,    4.530,   34.547,2,   34.547,6,   51.980,1,   60.750,2,   94.900,2,   40.800,2,    0.000,2,    2.955,2,    0.005,2,    0.004,2, -999.000,9, 2316.300,2, 2363.900,2
           NA,     P10,     47,   1,-999.0,     -99,  2,20050617,1648,  11.1652,  149.3227,  5813, 1202.500,    3.765,   34.568,2,   34.568,2,   60.000,1,   71.200,6,  110.170,2,   40.560,2,    0.000,2,    2.937,2,    0.002,2,    0.002,2, -999.000,9, 2330.700,2, 2379.200,2
           NA,     P10,     47,   1,-999.0,     -99,  2,20050617,1648,  11.1652,  149.3227,  5813, 1400.600,    3.169,   34.587,2,   34.587,2,   71.570,1,   86.130,2,  122.200,2,   39.790,2,    0.000,2,    2.864,2,   -0.001,2,    0.003,2, -999.000,9, 2334.200,2, 2391.500,2
           NA,     P10,     47,   1,-999.0,     -99,  2,20050617,1648,  11.1652,  149.3227,  5813, 1600.200,    2.722,   34.607,2,   34.607,2,   81.220,1,   98.950,2,  129.620,2,   38.960,2,    0.000,2,    2.802,2,   -0.001,2,    0.000,2, -999.000,9, 2332.000,2, 2403.800,2
           NA,     P10,     47,   1,-999.0,     -99,  2,20050617,1648,  11.1652,  149.3227,  5813, 1802.500,    2.412,   34.622,2,   34.622,2,   86.180,1,  105.800,2,  135.760,2,   38.810,2,    0.000,2,    2.769,2,   -0.001,2,   -0.002,2, -999.000,9, 2337.700,2, 2410.500,2
           NA,     P10,     47,   1,-999.0,     -99,  2,20050617,1648,  11.1652,  149.3227,  5813, 1998.600,    2.216,   34.633,2,   34.633,2,   89.630,1,  110.620,2,  139.350,2,   38.470,2,    0.000,2,    2.734,2,   -0.001,2,   -0.001,2, -999.000,9, 2335.900,2, 2413.100,2
           NA,     P10,     47,   1,-999.0,     -99,  2,20050617,1648,  11.1652,  149.3227,  5813, 2199.300,    2.061,   34.641,2,   34.641,6,   92.370,1,  114.600,2,  141.450,2,   38.250,2,    0.000,2,    2.715,2,    0.001,2,    0.001,2, -999.000,9, 2336.300,2, 2415.100,2
           NA,     P10,     47,   1,-999.0,     -99,  2,20050617,1648,  11.1652,  149.3227,  5813, 2400.300,    1.905,   34.651,2,   34.651,2,   96.780,1,  120.950,2,  145.250,2,   38.020,2,    0.000,2,    2.694,2,    0.000,2,    0.000,2, -999.000,9, 2336.800,6, 2417.800,2
           NA,     P10,     47,   1,-999.0,     -99,  2,20050617,1648,  11.1652,  149.3227,  5813, 2599.500,    1.802,   34.658,2,   34.658,2,   99.510,1,  124.890,2,  146.180,2,   37.630,2,    0.000,2,    2.658,2,    0.002,2,   -0.001,2, -999.000,9, 2340.000,2, 2420.000,6
           NA,     P10,     47,   1,-999.0,     -99,  2,20050617,1648,  11.1652,  149.3227,  5813, 2801.600,    1.702,   34.665,2,   34.665,2,  103.400,1,  130.550,2,  147.850,2,   37.470,2,    0.000,2,    2.649,2, -999.000,9, -999.000,9, -999.000,9, 2336.900,2, -999.000,3
           NA,     P10,     47,   1,-999.0,     -99,  2,20050617,1648,  11.1652,  149.3227,  5813, 2999.400,    1.628,   34.671,2,   34.671,2,  106.960,1,  135.760,6,  147.060,2,   36.880,2,    0.000,2,    2.598,2, -999.000,9, -999.000,9, -999.000,9, 2334.500,2, 2421.700,2
           NA,     P10,     47,   1,-999.0,     -99,  2,20050617,1648,  11.1652,  149.3227,  5813, 3250.100,    1.566,   34.676,2,   34.676,6,  111.380,1,  142.150,2,  146.740,2,   36.650,2,    0.000,2,    2.575,2, -999.000,9, -999.000,9, -999.000,9, 2331.500,2, 2421.900,2
           NA,     P10,     47,   1,-999.0,     -99,  2,20050617,1648,  11.1652,  149.3227,  5813, 3499.700,    1.528,   34.680,2,   34.680,2,  114.910,1,  147.210,2,  145.690,2,   36.390,2,    0.000,2,    2.554,2, -999.000,9, -999.000,9, -999.000,9, 2326.100,2, 2420.800,2
           NA,     P10,     47,   1,-999.0,     -99,  2,20050617,1648,  11.1652,  149.3227,  5813, 3748.900,    1.500,   34.684,2,   34.684,2,  118.840,1,  152.690,2,  143.300,2,   35.980,2,    0.000,2,    2.522,2, -999.000,9, -999.000,9, -999.000,9, 2320.100,2, 2418.000,2
           NA,     P10,     47,   1,-999.0,     -99,  2,20050617,1648,  11.1652,  149.3227,  5813, 3999.500,    1.481,   34.687,2,   34.687,2,  122.200,1,  157.440,2,  140.450,2,   35.530,2,    0.000,2,    2.498,2, -999.000,9, -999.000,9, -999.000,9, 2316.700,2, 2414.000,2
           NA,     P10,     47,   1,-999.0,     -99,  2,20050617,1648,  11.1652,  149.3227,  5813, 4250.100,    1.460,   34.691,2,   34.691,2,  126.150,1,  162.830,2,  139.110,2,   35.240,2,    0.000,2,    2.473,2, -999.000,9, -999.000,9, -999.000,9, 2312.400,6, 2415.200,2
           NA,     P10,     47,   1,-999.0,     -99,  2,20050617,1648,  11.1652,  149.3227,  5813, 4499.900,    1.455,   34.693,2,   34.693,6,  129.290,1,  166.990,2,  137.010,2,   34.940,2,    0.000,2,    2.451,2, -999.000,9, -999.000,9, -999.000,9, 2308.800,2, 2411.600,2
           NA,     P10,     47,   1,-999.0,     -99,  2,20050617,1648,  11.1652,  149.3227,  5813, 4749.300,    1.458,   34.695,2,   34.695,2,  131.790,1,  170.370,2,  135.740,2,   34.790,2,    0.000,2,    2.438,2, -999.000,9, -999.000,9, -999.000,9, 2302.800,2, 2406.900,2
           NA,     P10,     47,   1,-999.0,     -99,  2,20050617,1648,  11.1652,  149.3227,  5813, 5002.100,    1.467,   34.697,2,   34.697,2,  134.200,1,  172.650,6,  133.660,2,   34.340,2,    0.000,2,    2.408,2, -999.000,9, -999.000,9, -999.000,9, 2303.800,2, 2405.800,2
           NA,     P10,     47,   1,-999.0,     -99,  2,20050617,1648,  11.1652,  149.3227,  5813, 5249.700,    1.483,   34.698,2,   34.697,2,  136.360,1,  174.630,2,  133.340,2,   34.350,2,    0.000,2,    2.410,2, -999.000,9, -999.000,9, -999.000,9, 2300.400,2, 2407.500,2
           NA,     P10,     47,   1,-999.0,     -99,  2,20050617,1648,  11.1652,  149.3227,  5813, 5500.100,    1.507,   34.698,2,   34.699,2,  138.030,1,  175.670,2,  132.870,2,   34.320,2,    0.000,2,    2.405,2, -999.000,9, -999.000,9, -999.000,9, 2298.400,2, 2404.800,2
           NA,     P10,     47,   1,-999.0,     -99,  2,20050617,1648,  11.1652,  149.3227,  5813, 5750.500,    1.535,   34.699,2,   34.699,2,  139.670,1,  176.510,2,  132.410,2,   34.300,2,    0.000,2,    2.398,2, -999.000,9, -999.000,9, -999.000,9, 2296.400,2, 2403.700,2
           NA,     P10,     47,   1,-999.0,     -99,  2,20050617,1648,  11.1652,  149.3227,  5813, 5909.500,    1.556,   34.699,2,   34.699,6,  140.730,1,  176.560,2,  132.370,2,   34.270,2,    0.000,2,    2.402,2, -999.000,9, -999.000,9, -999.000,9, 2298.100,2, 2403.300,2