BOTTLE,20214413JOAExport
EXPOCODE,SECT_ID,STNNBR,CASTNO,SAMPNO,BTLNBR,BTLNBR_FLAG_W,DATE,TIME,LATITUDE,LONGITUDE,DEPTH,CTDPRS,CTDTMP,CTDSAL,CTDSAL_FLAG_W,SALNTY,SALNTY_FLAG_W,CTDOXY,CTDOXY_FLAG_W,OXYGEN,OXYGEN_FLAG_W,SILCAT,SILCAT_FLAG_W,NITRAT,NITRAT_FLAG_W,NITRIT,NITRIT_FLAG_W,PHSPHT,PHSPHT_FLAG_W,CFC-11,CFC-11_FLAG_W,CFC-12,CFC-12_FLAG_W,SF6,SF6_FLAG_W,TCARBN,TCARBN_FLAG_W,ALKALI,ALKALI_FLAG_W
,,,,,,,,,,,,,DB,ITS-90,PSS-78,,PSS-78,,UMOL/KG,,UMOL/KG,,UMOL/KG,,UMOL/KG,,UMOL/KG,,UMOL/KG,,PMOL/KG,,PMOL/KG,,FMOL/KG,,UMOL/KG,,UMOL/KG
           NA,     P10,     68,   1,-999.0,     -99,  2,20050609,1952,  25.1662,  149.3295,  5902,   10.800,   26.286,   34.983,2,   34.979,2,  182.300,1,  209.630,6,    1.480,2,    0.010,2,    0.010,2,    0.036,2,    1.749,2,    1.032,2, -999.000,9, 1978.400,2, 2302.800,2
           NA,     P10,     68,   1,-999.0,     -99,  2,20050609,1952,  25.1662,  149.3295,  5902,   50.400,   20.868,   34.882,2,   34.891,2,  201.120,1,  233.070,2,    1.790,2,    0.010,2,    0.010,2,    0.039,2,    2.184,2,    1.238,2, -999.000,9, 1987.200,6, 2299.700,2
           NA,     P10,     68,   1,-999.0,     -99,  2,20050609,1952,  25.1662,  149.3295,  5902,  100.200,   18.638,   34.847,2,   34.846,2,  193.280,1,  224.540,2,    2.210,2,    0.720,2,    0.140,2,    0.127,2,    2.330,2,    1.297,2, -999.000,9, 2005.100,2, 2294.800,6
           NA,     P10,     68,   1,-999.0,     -99,  2,20050609,1952,  25.1662,  149.3295,  5902,  149.600,   17.945,   34.821,2,   34.820,2,  189.840,1,  221.090,2,    2.790,2,    2.430,2,    0.030,2,    0.220,2,    2.378,2,    1.315,2, -999.000,9, 2013.000,2, 2291.100,2
           NA,     P10,     68,   1,-999.0,     -99,  2,20050609,1952,  25.1662,  149.3295,  5902,  203.100,   17.490,   34.807,2,   34.807,2,  190.490,1,  222.320,2,    3.220,2,    3.090,2,    0.020,2,    0.256,2,    2.410,2,    1.330,2, -999.000,9, 2016.400,2, 2288.500,2
           NA,     P10,     68,   1,-999.0,     -99,  2,20050609,1952,  25.1662,  149.3295,  5902,  249.400,   16.960,   34.771,2,   34.769,2,  179.720,1,  209.860,2,    4.430,2,    4.890,2,    0.010,2,    0.366,2,    2.481,6,    1.350,6, -999.000,9, 2031.100,2, 2290.200,2
           NA,     P10,     68,   1,-999.0,     -99,  2,20050609,1952,  25.1662,  149.3295,  5902,  300.500,   16.193,   34.700,2,   34.699,2,  174.610,1,  204.580,2,    6.160,2,    6.490,2,    0.010,2,    0.476,2,    2.565,2,    1.361,2, -999.000,9, 2044.400,2, 2288.400,2
           NA,     P10,     68,   1,-999.0,     -99,  2,20050609,1952,  25.1662,  149.3295,  5902,  399.600,   13.637,   34.487,2,   34.484,2,  167.410,1,  197.160,2,   12.420,2,   11.050,2,    0.010,2,    0.808,2,    2.761,2,    1.407,2, -999.000,9, 2077.200,2, 2278.600,2
           NA,     P10,     68,   1,-999.0,     -99,  2,20050609,1952,  25.1662,  149.3295,  5902,  500.500,   10.810,   34.280,2,   34.275,6,  157.730,1,  187.000,2,   23.030,2,   16.840,2,    0.010,2,    1.224,2,    2.812,2,    1.366,2, -999.000,9, 2117.000,2, 2280.500,2
           NA,     P10,     68,   1,-999.0,     -99,  2,20050609,1952,  25.1662,  149.3295,  5902,  600.500,    7.438,   34.063,2,   34.062,2,  133.260,1,  158.610,2,   45.960,2,   25.420,2,    0.010,2,    1.878,2,    2.413,2,    1.154,2, -999.000,9, 2183.000,2, 2288.700,2
           NA,     P10,     68,   1,-999.0,     -99,  2,20050609,1952,  25.1662,  149.3295,  5902,  700.300,    5.444,   34.054,2,   34.051,2,   89.460,1,  109.460,2,   71.260,2,   33.230,2,    0.010,2,    2.445,2,    1.609,2,    0.741,2, -999.000,9, 2249.700,6, 2304.700,2
           NA,     P10,     68,   1,-999.0,     -99,  2,20050609,1952,  25.1662,  149.3295,  5902,  801.800,    4.722,   34.184,2,   34.185,2,   52.760,1,   61.740,2,   93.040,2,   38.710,2,    0.010,2,    2.832,2,    0.536,6,    0.249,6, -999.000,9, 2303.100,2, 2329.900,6
           NA,     P10,     68,   1,-999.0,     -99,  2,20050609,1952,  25.1662,  149.3295,  5902,  901.000,    4.051,   34.270,2,   34.269,2,   38.510,1,   44.420,2,  110.370,2,   41.110,2,    0.010,2,    2.986,2,    0.246,2,    0.109,2, -999.000,9, 2333.500,2, 2348.400,2
           NA,     P10,     68,   1,-999.0,     -99,  2,20050609,1952,  25.1662,  149.3295,  5902, 1000.300,    3.697,   34.348,2,   34.349,6,   36.800,1,   42.440,2,  120.070,2,   41.690,2,    0.010,2,    3.028,2,    0.117,2,    0.050,2, -999.000,9, 2347.400,2, 2366.900,2
           NA,     P10,     68,   1,-999.0,     -99,  2,20050609,1952,  25.1662,  149.3295,  5902, 1200.300,    3.102,   34.445,2,   34.445,2,   39.220,1,   45.620,6,  135.590,2,   42.200,2,    0.010,2,    3.051,2,    0.032,2,    0.014,2, -999.000,9, 2362.300,2, 2384.400,2
           NA,     P10,     68,   1,-999.0,     -99,  2,20050609,1952,  25.1662,  149.3295,  5902, 1402.400,    2.679,   34.510,2,   34.510,2,   48.040,1,   57.170,2,  144.300,2,   41.670,2,    0.010,2,    3.000,2, -999.000,5, -999.000,5, -999.000,9, 2367.500,2, 2395.600,2
           NA,     P10,     68,   1,-999.0,     -99,  2,20050609,1952,  25.1662,  149.3295,  5902, 1600.900,    2.362,   34.551,2,   34.551,2,   57.500,1,   69.280,2,  149.940,2,   41.100,2,    0.010,2,    2.952,2,    0.004,2,    0.000,2, -999.000,9, 2366.600,2, 2405.700,2
           NA,     P10,     68,   1,-999.0,     -99,  2,20050609,1952,  25.1662,  149.3295,  5902, 1799.500,    2.097,   34.590,2,   34.591,2,   72.140,1,   88.590,2,  150.390,2,   39.800,2,    0.010,2,    2.847,2,    0.002,2,    0.000,2, -999.000,9, 2359.300,2, 2411.200,2
           NA,     P10,     68,   1,-999.0,     -99,  2,20050609,1952,  25.1662,  149.3295,  5902, 2001.700,    1.953,   34.611,2,   34.612,2,   80.280,1,   99.620,2,  151.550,2,   39.360,2,    0.000,2,    2.808,2,   -0.001,2,    0.000,2, -999.000,9, 2355.000,2, 2416.100,2
           NA,     P10,     68,   1,-999.0,     -99,  2,20050609,1952,  25.1662,  149.3295,  5902, 2198.900,    1.847,   34.627,2,   34.627,6,   86.990,1,  108.790,2,  151.260,2,   38.750,2,    0.010,2,    2.761,2,   -0.001,2,    0.000,2, -999.000,9, 2351.500,2, 2416.300,2
           NA,     P10,     68,   1,-999.0,     -99,  2,20050609,1952,  25.1662,  149.3295,  5902, 2399.000,    1.745,   34.641,2,   34.641,2,   92.780,1,  116.990,2,  151.450,2,   38.330,2,    0.000,2,    2.724,2, -999.000,9, -999.000,9, -999.000,9, 2346.700,6, 2420.200,2
           NA,     P10,     68,   1,-999.0,     -99,  2,20050609,1952,  25.1662,  149.3295,  5902, 2601.100,    1.684,   34.651,2,   34.651,2,   97.270,1,  123.310,2,  151.110,2,   37.900,2,    0.010,2,    2.687,2, -999.000,9, -999.000,9, -999.000,9, 2344.100,2, 2418.900,6
           NA,     P10,     68,   1,-999.0,     -99,  2,20050609,1952,  25.1662,  149.3295,  5902, 2799.100,    1.641,   34.658,2,   34.658,2,  101.000,1,  128.500,2,  150.540,2,   37.540,2,    0.010,2,    2.670,2, -999.000,9, -999.000,9, -999.000,9, 2341.300,2, 2419.600,2
           NA,     P10,     68,   1,-999.0,     -99,  2,20050609,1952,  25.1662,  149.3295,  5902, 2999.000,    1.600,   34.665,2,   34.665,2,  104.290,1,  133.410,6,  150.140,2,   37.310,2,    0.010,2,    2.638,2, -999.000,9, -999.000,9, -999.000,9, 2339.100,2, 2418.500,2
           NA,     P10,     68,   1,-999.0,     -99,  2,20050609,1952,  25.1662,  149.3295,  5902, 3249.800,    1.562,   34.670,2,   34.670,6,  107.180,1,  137.760,2,  149.790,2,   36.950,2,    0.010,2,    2.610,2, -999.000,9, -999.000,9, -999.000,9, 2336.000,2, 2420.600,2
           NA,     P10,     68,   1,-999.0,     -99,  2,20050609,1952,  25.1662,  149.3295,  5902, 3500.000,    1.540,   34.675,2,   34.675,2,  110.260,1,  142.250,2,  148.740,2,   36.680,2,    0.010,2,    2.586,2, -999.000,9, -999.000,9, -999.000,9, 2334.500,2, 2419.900,2
           NA,     P10,     68,   1,-999.0,     -99,  2,20050609,1952,  25.1662,  149.3295,  5902, 3751.200,    1.512,   34.680,2, -999.000,3,  113.460,1,  146.870,2,  147.800,2,   36.360,2,    0.010,2,    2.563,2, -999.000,9, -999.000,9, -999.000,9, 2330.300,2, -999.000,3
           NA,     P10,     68,   1,-999.0,     -99,  2,20050609,1952,  25.1662,  149.3295,  5902, 4002.900,    1.495,   34.683,2,   34.682,2,  115.850,1,  150.390,2,  147.400,2,   36.180,2,    0.000,2,    2.546,2, -999.000,9, -999.000,9, -999.000,9, 2327.000,2, 2417.200,2
           NA,     P10,     68,   1,-999.0,     -99,  2,20050609,1952,  25.1662,  149.3295,  5902, 4250.000,    1.489,   34.687,2,   34.686,2,  119.520,1,  155.460,2,  144.750,2,   35.790,2,    0.000,2,    2.529,2, -999.000,9, -999.000,9, -999.000,9, 2322.400,6, 2418.500,2
           NA,     P10,     68,   1,-999.0,     -99,  2,20050609,1952,  25.1662,  149.3295,  5902, 4502.600,    1.489,   34.689,2,   34.688,6,  121.700,1,  158.470,2,  144.520,2,   35.780,2,    0.010,2,    2.525,2, -999.000,9, -999.000,9, -999.000,9, 2319.100,2, 2414.400,6
           NA,     P10,     68,   1,-999.0,     -99,  2,20050609,1952,  25.1662,  149.3295,  5902, 4751.800,    1.495,   34.691,2,   34.691,2,  124.240,1,  161.570,2,  142.160,2,   35.290,2,    0.010,2,    2.490,2, -999.000,9, -999.000,9, -999.000,9, 2317.400,2, 2412.400,2
           NA,     P10,     68,   1,-999.0,     -99,  2,20050609,1952,  25.1662,  149.3295,  5902, 4999.800,    1.508,   34.693,2,   34.692,2,  127.270,1,  164.910,6,  139.800,2,   35.150,2,    0.010,2,    2.476,2, -999.000,9, -999.000,9, -999.000,9, 2313.500,2, 2413.400,2
           NA,     P10,     68,   1,-999.0,     -99,  2,20050609,1952,  25.1662,  149.3295,  5902, 5251.400,    1.523,   34.694,2,   34.694,2,  129.710,1,  167.370,2,  138.510,2,   34.960,2,    0.000,2,    2.464,2, -999.000,9, -999.000,9, -999.000,9, 2309.800,2, 2413.700,2
           NA,     P10,     68,   1,-999.0,     -99,  2,20050609,1952,  25.1662,  149.3295,  5902, 5499.900,    1.541,   34.695,2,   34.695,2,  132.130,1,  169.490,2,  137.060,2,   34.840,2,    0.010,2,    2.446,2, -999.000,9, -999.000,9, -999.000,9, 2308.200,2, 2408.200,2
           NA,     P10,     68,   1,-999.0,     -99,  2,20050609,1952,  25.1662,  149.3295,  5902, 5750.900,    1.558,   34.696,2,   34.696,2,  134.980,1,  172.030,2,  135.430,2,   34.620,2,    0.010,2,    2.442,2, -999.000,9, -999.000,9, -999.000,9, 2306.900,2, 2405.500,2
           NA,     P10,     68,   1,-999.0,     -99,  2,20050609,1952,  25.1662,  149.3295,  5902, 6013.900,    1.568,   34.698,2,   34.698,6,  138.870,1,  175.460,2,  133.430,2,   34.360,2,    0.010,2,    2.419,2, -999.000,9, -999.000,9, -999.000,9, 2303.700,2, 2402.800,2