BOTTLE,20214413JOAExport
EXPOCODE,SECT_ID,STNNBR,CASTNO,SAMPNO,BTLNBR,BTLNBR_FLAG_W,DATE,TIME,LATITUDE,LONGITUDE,DEPTH,CTDPRS,CTDTMP,CTDSAL,CTDSAL_FLAG_W,SALNTY,SALNTY_FLAG_W,CTDOXY,CTDOXY_FLAG_W,OXYGEN,OXYGEN_FLAG_W,SILCAT,SILCAT_FLAG_W,NITRAT,NITRAT_FLAG_W,NITRIT,NITRIT_FLAG_W,PHSPHT,PHSPHT_FLAG_W,CFC-11,CFC-11_FLAG_W,CFC-12,CFC-12_FLAG_W,SF6,SF6_FLAG_W,TCARBN,TCARBN_FLAG_W,ALKALI,ALKALI_FLAG_W
,,,,,,,,,,,,,DB,ITS-90,PSS-78,,PSS-78,,UMOL/KG,,UMOL/KG,,UMOL/KG,,UMOL/KG,,UMOL/KG,,UMOL/KG,,PMOL/KG,,PMOL/KG,,FMOL/KG,,UMOL/KG,,UMOL/KG
           NA,     P10,     57,   1,-999.0,     -99,  2,20050614,1320,  17.8418,  149.3290,  5339,   10.400,   28.897,   34.946,2,   34.946,2,  174.510,1,  197.760,6,    0.890,2,    0.010,2,    0.010,2,    0.042,2,    1.454,2,    0.909,2, -999.000,9, -999.000,9, -999.000,9
           NA,     P10,     57,   1,-999.0,     -99,  2,20050614,1320,  17.8418,  149.3290,  5339,   50.600,   26.798,   34.939,2,   34.939,2,  186.340,1,  211.800,2,    0.890,2,    0.010,2,    0.010,2,    0.037,2,    1.606,2,    0.979,2, -999.000,9, -999.000,9, -999.000,9
           NA,     P10,     57,   1,-999.0,     -99,  2,20050614,1320,  17.8418,  149.3290,  5339,  100.200,   25.285,   34.986,2,   34.995,2,  180.650,1,  205.390,2,    1.030,2,    0.010,2,    0.010,2,    0.043,2,    1.682,2,    1.034,2, -999.000,9, -999.000,9, -999.000,9
           NA,     P10,     57,   1,-999.0,     -99,  2,20050614,1320,  17.8418,  149.3290,  5339,  150.200,   22.511,   35.116,2,   35.105,2,  168.570,1,  194.330,2,    1.550,2,    0.730,2,    0.040,2,    0.119,2,    1.911,2,    1.160,2, -999.000,9, -999.000,9, -999.000,9
           NA,     P10,     57,   1,-999.0,     -99,  2,20050614,1320,  17.8418,  149.3290,  5339,  201.900,   18.735,   34.892,2,   34.876,2,  172.300,1,  199.780,2,    2.930,2,    3.080,2,    0.020,2,    0.267,2,    2.220,2,    1.312,2, -999.000,9, -999.000,9, -999.000,9
           NA,     P10,     57,   1,-999.0,     -99,  2,20050614,1320,  17.8418,  149.3290,  5339,  250.400,   16.964,   34.758,2,   34.746,2,  179.770,1,  208.190,2,    4.300,2,    5.000,2,    0.010,2,    0.377,2,    2.325,6,    1.356,6, -999.000,9, -999.000,9, -999.000,9
           NA,     P10,     57,   1,-999.0,     -99,  2,20050614,1320,  17.8418,  149.3290,  5339,  300.300,   15.695,   34.648,2,   34.637,2,  174.970,1,  202.890,2,    7.030,2,    7.390,2,    0.010,2,    0.545,2,    2.430,2,    1.387,2, -999.000,9, -999.000,9, -999.000,9
           NA,     P10,     57,   1,-999.0,     -99,  2,20050614,1320,  17.8418,  149.3290,  5339,  400.100,   12.474,   34.366,2,   34.352,2,  152.810,1,  177.880,2,   15.430,2,   14.510,2,    0.010,2,    1.092,2,    2.530,2,    1.352,2, -999.000,9, -999.000,9, -999.000,9
           NA,     P10,     57,   1,-999.0,     -99,  2,20050614,1320,  17.8418,  149.3290,  5339,  501.300,    8.586,   34.210,2,   34.212,6,   98.320,1,  112.180,2,   40.120,2,   27.610,2,    0.010,2,    2.062,2,    1.435,2,    0.713,2, -999.000,9, -999.000,9, -999.000,9
           NA,     P10,     57,   1,-999.0,     -99,  2,20050614,1320,  17.8418,  149.3290,  5339,  600.500,    7.184,   34.334,2,   34.336,2,   50.380,1,   57.540,2,   57.720,2,   35.400,2,    0.010,2,    2.644,2,    0.388,2,    0.201,2, -999.000,9, -999.000,9, -999.000,9
           NA,     P10,     57,   1,-999.0,     -99,  2,20050614,1320,  17.8418,  149.3290,  5339,  700.100,    6.072,   34.390,2,   34.390,2,   47.560,1,   54.950,2,   72.660,2,   37.980,2,    0.010,2,    2.812,2,    0.144,2,    0.069,2, -999.000,9, -999.000,9, -999.000,9
           NA,     P10,     57,   1,-999.0,     -99,  2,20050614,1320,  17.8418,  149.3290,  5339,  800.600,    5.359,   34.454,2,   34.454,2,   51.210,1,   59.690,2,   83.220,2,   39.000,2,    0.010,2,    2.869,2,    0.057,6,    0.027,6, -999.000,9, -999.000,9, -999.000,9
           NA,     P10,     57,   1,-999.0,     -99,  2,20050614,1320,  17.8418,  149.3290,  5339,  900.500,    4.829,   34.482,2,   34.482,2,   55.960,1,   65.710,2,   92.470,2,   39.330,2,    0.010,2,    2.856,2,    0.037,2,    0.021,2, -999.000,9, -999.000,9, -999.000,9
           NA,     P10,     57,   1,-999.0,     -99,  2,20050614,1320,  17.8418,  149.3290,  5339, 1000.800,    4.365,   34.510,2,   34.511,6,   60.050,1,   71.180,2,  101.300,2,   39.530,2,    0.010,2,    2.874,2,    0.025,2,    0.012,2, -999.000,9, -999.000,9, -999.000,9
           NA,     P10,     57,   1,-999.0,     -99,  2,20050614,1320,  17.8418,  149.3290,  5339, 1201.300,    3.658,   34.551,2,   34.550,2,   64.940,1,   77.480,6,  114.580,2,   39.910,2,    0.010,2,    2.887,2,    0.007,2,    0.003,2, -999.000,9, -999.000,9, -999.000,9
           NA,     P10,     57,   1,-999.0,     -99,  2,20050614,1320,  17.8418,  149.3290,  5339, 1400.900,    3.114,   34.572,2,   34.572,2,   70.230,1,   84.740,2,  125.480,2,   39.830,2,    0.010,2,    2.873,2,    0.000,2,    0.003,2, -999.000,9, -999.000,9, -999.000,9
           NA,     P10,     57,   1,-999.0,     -99,  2,20050614,1320,  17.8418,  149.3290,  5339, 1600.800,    2.707,   34.590,2,   34.590,2,   76.010,1,   92.500,2,  133.660,2,   39.480,2,    0.010,2,    2.838,2,   -0.001,2,    0.000,2, -999.000,9, -999.000,9, -999.000,9
           NA,     P10,     57,   1,-999.0,     -99,  2,20050614,1320,  17.8418,  149.3290,  5339, 1800.300,    2.411,   34.603,2, -999.000,3,   80.670,1,   99.060,2,  139.090,2,   39.300,2,    0.010,2,    2.813,2,   -0.003,2,   -0.004,2, -999.000,9, -999.000,9, -999.000,9
           NA,     P10,     57,   1,-999.0,     -99,  2,20050614,1320,  17.8418,  149.3290,  5339, 2001.600,    2.159,   34.617,2,   34.618,2,   85.690,1,  106.190,2,  143.650,2,   38.920,2,    0.010,2,    2.781,2,   -0.001,2,    0.002,2, -999.000,9, -999.000,9, -999.000,9
           NA,     P10,     57,   1,-999.0,     -99,  2,20050614,1320,  17.8418,  149.3290,  5339, 2199.200,    2.010,   34.632,2,   34.632,6,   89.990,1,  112.220,2,  145.760,2,   38.640,2,    0.010,2,    2.755,2,   -0.003,2,    0.000,2, -999.000,9, -999.000,9, -999.000,9
           NA,     P10,     57,   1,-999.0,     -99,  2,20050614,1320,  17.8418,  149.3290,  5339, 2400.600,    1.864,   34.646,2,   34.646,2,   94.470,1,  118.400,2,  148.110,2,   38.350,2,    0.010,2,    2.725,2,    0.006,2,    0.000,2, -999.000,9, -999.000,9, -999.000,9
           NA,     P10,     57,   1,-999.0,     -99,  2,20050614,1320,  17.8418,  149.3290,  5339, 2600.200,    1.769,   34.654,2,   34.654,2,   97.800,1,  123.190,2,  149.230,2,   38.040,2,    0.010,2,    2.701,2,    0.002,2,   -0.001,2, -999.000,9, -999.000,9, -999.000,9
           NA,     P10,     57,   1,-999.0,     -99,  2,20050614,1320,  17.8418,  149.3290,  5339, 2800.100,    1.698,   34.662,2,   34.662,2,  101.450,1,  128.530,2,  149.690,2,   37.760,2,    0.010,2,    2.674,2, -999.000,9, -999.000,9, -999.000,9, -999.000,9, -999.000,9
           NA,     P10,     57,   1,-999.0,     -99,  2,20050614,1320,  17.8418,  149.3290,  5339, 3000.600,    1.635,   34.668,2, -999.000,3,  104.730,1,  133.320,6,  149.810,2,   37.430,2,    0.000,2,    2.649,2, -999.000,9, -999.000,9, -999.000,9, -999.000,9, -999.000,9
           NA,     P10,     57,   1,-999.0,     -99,  2,20050614,1320,  17.8418,  149.3290,  5339, 3249.600,    1.587,   34.673,2,   34.673,6,  108.190,1,  138.300,2,  148.850,2,   37.090,2,    0.010,2,    2.613,2, -999.000,9, -999.000,9, -999.000,9, -999.000,9, -999.000,9
           NA,     P10,     57,   1,-999.0,     -99,  2,20050614,1320,  17.8418,  149.3290,  5339, 3499.100,    1.553,   34.677,2,   34.677,2,  111.390,1,  142.880,2,  148.410,2,   36.780,2,    0.010,2,    2.597,2, -999.000,9, -999.000,9, -999.000,9, -999.000,9, -999.000,9
           NA,     P10,     57,   1,-999.0,     -99,  2,20050614,1320,  17.8418,  149.3290,  5339, 3749.200,    1.515,   34.682,2,   34.681,2,  115.590,1,  149.040,2,  146.630,2,   36.380,2,    0.010,2,    2.565,2, -999.000,9, -999.000,9, -999.000,9, -999.000,9, -999.000,9
           NA,     P10,     57,   1,-999.0,     -99,  2,20050614,1320,  17.8418,  149.3290,  5339, 3998.800,    1.491,   34.686,2,   34.685,2,  119.430,1,  153.880,2,  144.590,2,   36.010,2,    0.010,2,    2.539,2, -999.000,9, -999.000,9, -999.000,9, -999.000,9, -999.000,9
           NA,     P10,     57,   1,-999.0,     -99,  2,20050614,1320,  17.8418,  149.3290,  5339, 4249.200,    1.466,   34.690,2,   34.690,2,  124.250,1,  160.400,2,  141.560,2,   35.580,2,    0.010,2,    2.502,2, -999.000,9, -999.000,9, -999.000,9, -999.000,9, -999.000,9
           NA,     P10,     57,   1,-999.0,     -99,  2,20050614,1320,  17.8418,  149.3290,  5339, 4499.000,    1.454,   34.693,2,   34.692,6,  128.460,1,  165.670,2,  138.660,2,   35.150,2,    0.010,2,    2.474,2, -999.000,9, -999.000,9, -999.000,9, -999.000,9, -999.000,9
           NA,     P10,     57,   1,-999.0,     -99,  2,20050614,1320,  17.8418,  149.3290,  5339, 4749.800,    1.455,   34.695,2,   34.696,2,  132.010,1,  169.500,2,  136.540,2,   34.900,2,    0.010,2,    2.452,2, -999.000,9, -999.000,9, -999.000,9, -999.000,9, -999.000,9
           NA,     P10,     57,   1,-999.0,     -99,  2,20050614,1320,  17.8418,  149.3290,  5339, 4998.900,    1.468,   34.697,2,   34.697,2,  134.560,1,  172.000,6,  135.010,2,   34.680,2,    0.000,2,    2.439,2, -999.000,9, -999.000,9, -999.000,9, -999.000,9, -999.000,9
           NA,     P10,     57,   1,-999.0,     -99,  2,20050614,1320,  17.8418,  149.3290,  5339, 5248.900,    1.484,   34.698,2,   34.698,2,  137.420,1,  174.050,2,  133.950,2,   34.540,2,    0.000,2,    2.430,2, -999.000,9, -999.000,9, -999.000,9, -999.000,9, -999.000,9
           NA,     P10,     57,   1,-999.0,     -99,  2,20050614,1320,  17.8418,  149.3290,  5339, 5426.000,    1.493,   34.699,2,   34.699,6,  139.580,1,  175.780,2,  132.990,2,   34.440,2,    0.010,2,    2.422,2, -999.000,9, -999.000,9, -999.000,9, -999.000,9, -999.000,9
           NA,     P10,     57,   1,-999.0,     -99,  2,20050614,1320,  17.8418,  149.3290,  5339, 5426.300,    1.493,   34.699,2,   34.699,2,  139.610,1,  175.860,2,  133.060,2,   34.450,2,    0.010,2,    2.420,2, -999.000,9, -999.000,9, -999.000,9, -999.000,9, -999.000,9
           NA,     P10,     58,   1,-999.0,     -99,  2,20050614,0416,  18.5082,  149.3302,  5603,   10.200,   29.044,   34.628,2,   34.625,2,  176.140,1,  199.890,6,    0.930,2,    0.040,2,    0.000,2,    0.049,2,    1.492,2,    0.905,2, -999.000,9, -999.000,9, -999.000,9
           NA,     P10,     58,   1,-999.0,     -99,  2,20050614,0416,  18.5082,  149.3302,  5603,   49.800,   27.445,   34.736,2,   34.748,2,  185.360,1,  210.340,2,    0.920,2,    0.020,2,    0.000,2,    0.046,2,    1.608,2,    0.981,2, -999.000,9, -999.000,9, -999.000,9
           NA,     P10,     58,   1,-999.0,     -99,  2,20050614,0416,  18.5082,  149.3302,  5603,   99.800,   25.574,   34.961,2,   34.964,2,  182.940,1,  208.290,2,    0.940,2,    0.010,2,    0.000,2,    0.044,2,    1.719,2,    1.051,2, -999.000,9, -999.000,9, -999.000,9
           NA,     P10,     58,   1,-999.0,     -99,  2,20050614,0416,  18.5082,  149.3302,  5603,  150.100,   23.618,   35.065,2,   35.065,2,  175.510,1,  200.690,2,    1.210,2,    0.050,2,    0.060,2,    0.066,2,    1.887,2,    1.144,2, -999.000,9, -999.000,9, -999.000,9
           NA,     P10,     58,   1,-999.0,     -99,  2,20050614,0416,  18.5082,  149.3302,  5603,  199.000,   20.445,   34.999,2,   34.989,2,  170.560,1,  196.310,2,    2.190,2,    1.840,2,    0.020,2,    0.187,2, -999.000,5, -999.000,5, -999.000,9, -999.000,9, -999.000,9
           NA,     P10,     58,   1,-999.0,     -99,  2,20050614,0416,  18.5082,  149.3302,  5603,  248.700,   17.915,   34.824,2,   34.819,2,  174.100,1,  201.570,2,    3.380,2,    3.890,2,    0.010,2,    0.311,2,    2.451,2,    1.408,2, -999.000,9, -999.000,9, -999.000,9
           NA,     P10,     58,   1,-999.0,     -99,  2,20050614,0416,  18.5082,  149.3302,  5603,  302.400,   16.466,   34.714,2,   34.714,2,  178.300,1,  207.380,2,    4.970,2,    5.640,2,    0.010,2,    0.422,2,    2.564,2,    1.467,2, -999.000,9, -999.000,9, -999.000,9
           NA,     P10,     58,   1,-999.0,     -99,  2,20050614,0416,  18.5082,  149.3302,  5603,  400.100,   12.961,   34.401,2,   34.397,2,  158.610,1,  185.080,2,   13.100,2,   12.770,2,    0.000,2,    0.957,2,    2.828,2,    1.501,2, -999.000,9, -999.000,9, -999.000,9
           NA,     P10,     58,   1,-999.0,     -99,  2,20050614,0416,  18.5082,  149.3302,  5603,  499.700,    9.582,   34.219,2,   34.218,6,  123.530,1,  143.550,2,   30.600,2,   22.790,2,    0.000,2,    1.683,2,    2.135,2,    1.066,2, -999.000,9, -999.000,9, -999.000,9
           NA,     P10,     58,   1,-999.0,     -99,  2,20050614,0416,  18.5082,  149.3302,  5603,  600.700,    6.937,   34.135,2,   34.135,2,   89.710,1,  105.010,2,   56.080,2,   31.260,2,    0.000,2,    2.292,2,    1.254,2,    0.606,2, -999.000,9, -999.000,9, -999.000,9
           NA,     P10,     58,   1,-999.0,     -99,  2,20050614,0416,  18.5082,  149.3302,  5603,  701.800,    5.626,   34.207,2,   34.208,2,   55.870,1,   64.890,2,   77.390,2,   37.320,2,    0.000,2,    2.736,2,    0.461,2,    0.202,2, -999.000,9, -999.000,9, -999.000,9
           NA,     P10,     58,   1,-999.0,     -99,  2,20050614,0416,  18.5082,  149.3302,  5603,  801.100,    4.945,   34.325,2,   34.323,2,   43.890,1,   50.510,2,   90.930,2,   39.750,2,    0.000,2,    2.914,2,    0.128,6,    0.044,6, -999.000,9, -999.000,9, -999.000,9
           NA,     P10,     58,   1,-999.0,     -99,  2,20050614,0416,  18.5082,  149.3302,  5603,  899.800,    4.517,   34.417,2,   34.421,2,   47.460,1,   55.880,2,   99.720,2,   40.270,2,    0.000,2,    2.927,2,    0.039,2,    0.016,2, -999.000,9, -999.000,9, -999.000,9
           NA,     P10,     58,   1,-999.0,     -99,  2,20050614,0416,  18.5082,  149.3302,  5603, 1000.800,    4.093,   34.476,2,   34.476,6,   54.490,1,   64.010,2,  107.780,2,   40.270,2,    0.000,2,    2.913,2,    0.021,2,    0.005,2, -999.000,9, -999.000,9, -999.000,9
           NA,     P10,     58,   1,-999.0,     -99,  2,20050614,0416,  18.5082,  149.3302,  5603, 1200.300,    3.312,   34.530,2,   34.531,2,   66.580,1,   79.430,6,  123.190,2,   39.820,2,    0.000,2,    2.861,2,    0.010,2,    0.008,2, -999.000,9, -999.000,9, -999.000,9
           NA,     P10,     58,   1,-999.0,     -99,  2,20050614,0416,  18.5082,  149.3302,  5603, 1401.200,    2.802,   34.569,2,   34.570,2,   72.700,1,   87.950,2,  132.480,2,   39.650,2,    0.000,2,    2.848,2,    0.000,2,    0.000,2, -999.000,9, -999.000,9, -999.000,9
           NA,     P10,     58,   1,-999.0,     -99,  2,20050614,0416,  18.5082,  149.3302,  5603, 1601.300,    2.475,   34.590,2,   34.590,2,   78.090,1,   95.160,2,  138.290,2,   39.560,2,    0.000,2,    2.823,2,    0.001,2,    0.001,2, -999.000,9, -999.000,9, -999.000,9
           NA,     P10,     58,   1,-999.0,     -99,  2,20050614,0416,  18.5082,  149.3302,  5603, 1800.400,    2.250,   34.609,2,   34.610,2,   83.790,1,  103.050,2,  141.580,2,   39.080,2,    0.000,2,    2.788,2,   -0.005,2,    0.001,2, -999.000,9, -999.000,9, -999.000,9
           NA,     P10,     58,   1,-999.0,     -99,  2,20050614,0416,  18.5082,  149.3302,  5603, 2000.200,    2.070,   34.628,2,   34.628,2,   88.200,1,  109.250,2,  144.950,2,   38.840,2,    0.000,2,    2.759,2,    0.002,2,   -0.001,2, -999.000,9, -999.000,9, -999.000,9
           NA,     P10,     58,   1,-999.0,     -99,  2,20050614,0416,  18.5082,  149.3302,  5603, 2201.800,    1.908,   34.642,2,   34.642,6,   93.450,1,  116.410,2,  146.670,2,   38.470,2,    0.000,2,    2.726,2,    0.003,2,    0.000,2, -999.000,9, -999.000,9, -999.000,9
           NA,     P10,     58,   1,-999.0,     -99,  2,20050614,0416,  18.5082,  149.3302,  5603, 2400.200,    1.810,   34.651,2, -999.000,3,   96.660,1,  121.190,2,  148.460,2,   38.250,2,    0.000,2,    2.706,2,   -0.001,2,    0.000,2, -999.000,9, -999.000,9, -999.000,9
           NA,     P10,     58,   1,-999.0,     -99,  2,20050614,0416,  18.5082,  149.3302,  5603, 2601.300,    1.729,   34.658,2,   34.659,2,  100.050,1,  126.410,2,  148.740,2,   37.940,2,    0.010,2,    2.680,2,    0.000,2,   -0.002,2, -999.000,9, -999.000,9, -999.000,9
           NA,     P10,     58,   1,-999.0,     -99,  2,20050614,0416,  18.5082,  149.3302,  5603, 2799.100,    1.663,   34.663,2,   34.664,2,  102.900,1,  130.480,2,  149.410,2,   37.670,2,    0.000,2,    2.654,2, -999.000,9, -999.000,9, -999.000,9, -999.000,9, -999.000,9
           NA,     P10,     58,   1,-999.0,     -99,  2,20050614,0416,  18.5082,  149.3302,  5603, 3000.300,    1.614,   34.669,2,   34.671,2,  106.050,1,  134.870,6,  149.200,2,   37.340,2,    0.000,2,    2.627,2, -999.000,9, -999.000,9, -999.000,9, -999.000,9, -999.000,9
           NA,     P10,     58,   1,-999.0,     -99,  2,20050614,0416,  18.5082,  149.3302,  5603, 3249.800,    1.563,   34.675,2,   34.675,6,  109.780,1,  140.340,2,  148.180,2,   36.870,2,    0.000,2,    2.592,2, -999.000,9, -999.000,9, -999.000,9, -999.000,9, -999.000,9
           NA,     P10,     58,   1,-999.0,     -99,  2,20050614,0416,  18.5082,  149.3302,  5603, 3500.200,    1.521,   34.679,2,   34.679,2,  113.670,1,  145.960,2,  147.110,2,   36.580,2,    0.000,2,    2.572,2, -999.000,9, -999.000,9, -999.000,9, -999.000,9, -999.000,9
           NA,     P10,     58,   1,-999.0,     -99,  2,20050614,0416,  18.5082,  149.3302,  5603, 3750.300,    1.490,   34.683,2,   34.683,2,  117.500,1,  151.280,2,  145.630,2,   36.280,2,    0.000,2,    2.548,2, -999.000,9, -999.000,9, -999.000,9, -999.000,9, -999.000,9
           NA,     P10,     58,   1,-999.0,     -99,  2,20050614,0416,  18.5082,  149.3302,  5603, 3999.800,    1.469,   34.687,2, -999.000,3,  121.210,1,  156.270,2,  143.220,2,   35.890,2,    0.000,2,    2.514,2, -999.000,9, -999.000,9, -999.000,9, -999.000,9, -999.000,9
           NA,     P10,     58,   1,-999.0,     -99,  2,20050614,0416,  18.5082,  149.3302,  5603, 4250.400,    1.457,   34.690,2,   34.690,2,  124.690,1,  161.060,2,  141.060,2,   35.510,2,    0.000,2,    2.490,2, -999.000,9, -999.000,9, -999.000,9, -999.000,9, -999.000,9
           NA,     P10,     58,   1,-999.0,     -99,  2,20050614,0416,  18.5082,  149.3302,  5603, 4499.600,    1.457,   34.693,2,   34.693,6,  127.820,1,  164.890,2,  138.820,2,   35.270,2,    0.000,2,    2.468,2, -999.000,9, -999.000,9, -999.000,9, -999.000,9, -999.000,9
           NA,     P10,     58,   1,-999.0,     -99,  2,20050614,0416,  18.5082,  149.3302,  5603, 4749.700,    1.452,   34.695,2,   34.696,2,  131.630,1,  169.710,2,  136.380,2,   34.960,2,    0.000,2,    2.444,2, -999.000,9, -999.000,9, -999.000,9, -999.000,9, -999.000,9
           NA,     P10,     58,   1,-999.0,     -99,  2,20050614,0416,  18.5082,  149.3302,  5603, 4999.200,    1.469,   34.696,2,   34.696,2,  133.710,1,  171.760,6,  134.930,2,   34.770,2,    0.000,2,    2.432,2, -999.000,9, -999.000,9, -999.000,9, -999.000,9, -999.000,9
           NA,     P10,     58,   1,-999.0,     -99,  2,20050614,0416,  18.5082,  149.3302,  5603, 5250.600,    1.486,   34.697,2,   34.698,2,  135.970,1,  173.740,2,  133.930,2,   34.630,2,    0.000,2,    2.419,2, -999.000,9, -999.000,9, -999.000,9, -999.000,9, -999.000,9
           NA,     P10,     58,   1,-999.0,     -99,  2,20050614,0416,  18.5082,  149.3302,  5603, 5499.800,    1.513,   34.698,2, -999.000,3,  137.550,1,  174.590,2,  133.490,2,   34.590,2,    0.000,2,    2.418,2, -999.000,9, -999.000,9, -999.000,9, -999.000,9, -999.000,9
           NA,     P10,     58,   1,-999.0,     -99,  2,20050614,0416,  18.5082,  149.3302,  5603, 5673.000,    1.528,   34.699,2,   34.698,6,  139.400,1,  175.600,2,  132.900,2,   34.530,2,    0.000,2,    2.412,2, -999.000,9, -999.000,9, -999.000,9, -999.000,9, -999.000,9
           NA,     P10,     58,   1,-999.0,     -99,  2,20050614,0416,  18.5082,  149.3302,  5603, 5673.500,    1.528,   34.699,2, -999.000,3,  139.360,1,  175.640,2,  132.790,2,   34.530,2,    0.000,2,    2.410,2, -999.000,9, -999.000,9, -999.000,9, -999.000,9, -999.000,9