BOTTLE,20214413JOAExport
EXPOCODE,SECT_ID,STNNBR,CASTNO,SAMPNO,BTLNBR,BTLNBR_FLAG_W,DATE,TIME,LATITUDE,LONGITUDE,DEPTH,CTDPRS,CTDTMP,CTDSAL,CTDSAL_FLAG_W,SALNTY,SALNTY_FLAG_W,CTDOXY,CTDOXY_FLAG_W,OXYGEN,OXYGEN_FLAG_W,SILCAT,SILCAT_FLAG_W,NITRAT,NITRAT_FLAG_W,NITRIT,NITRIT_FLAG_W,PHSPHT,PHSPHT_FLAG_W,CFC-11,CFC-11_FLAG_W,CFC-12,CFC-12_FLAG_W,SF6,SF6_FLAG_W,TCARBN,TCARBN_FLAG_W,ALKALI,ALKALI_FLAG_W
,,,,,,,,,,,,,DB,ITS-90,PSS-78,,PSS-78,,UMOL/KG,,UMOL/KG,,UMOL/KG,,UMOL/KG,,UMOL/KG,,UMOL/KG,,PMOL/KG,,PMOL/KG,,FMOL/KG,,UMOL/KG,,UMOL/KG
           NA,    P10N,    141,   1,-999.0,     -99,  2,20050527,0455,  42.0825,  143.8673,   885,    9.300,    4.990,   32.756,2,   32.785,2,  395.360,1,  420.890,6,    1.850,2,    0.790,2,    0.070,2,    0.335,2, -999.000,9, -999.000,9, -999.000,9, 2004.100,2, 2248.300,2
           NA,    P10N,    141,   1,-999.0,     -99,  2,20050527,0455,  42.0825,  143.8673,   885,   49.700,    2.273,   32.954,2,   32.963,2,  339.990,1,  354.030,2,   24.690,2,   15.590,2,    0.180,2,    1.428,2, -999.000,9, -999.000,9, -999.000,9, 2109.200,6, 2248.300,2
           NA,    P10N,    141,   1,-999.0,     -99,  2,20050527,0455,  42.0825,  143.8673,   885,  100.000,    0.907,   33.092,2,   33.096,2,  304.780,1,  318.870,2,   44.990,2,   23.550,2,    0.210,2,    1.972,2, -999.000,9, -999.000,9, -999.000,9, 2153.200,2, 2248.100,6
           NA,    P10N,    141,   1,-999.0,     -99,  2,20050527,0455,  42.0825,  143.8673,   885,  149.900,    0.886,   33.204,2,   33.205,2,  282.630,1,  295.250,2,   51.600,2,   26.120,2,    0.070,2,    2.118,2, -999.000,9, -999.000,9, -999.000,9, 2171.500,2, 2254.900,2
           NA,    P10N,    141,   1,-999.0,     -99,  2,20050527,0455,  42.0825,  143.8673,   885,  200.700,    1.012,   33.289,2,   33.287,2,  255.650,1,  267.620,2,   56.900,2,   27.880,2,    0.020,2,    2.234,2, -999.000,9, -999.000,9, -999.000,9, 2188.900,2, 2262.600,2
           NA,    P10N,    141,   1,-999.0,     -99,  2,20050527,0455,  42.0825,  143.8673,   885,  249.900,    1.507,   33.395,2,   33.393,6,  225.500,1,  235.870,2,   65.050,2,   30.670,2,    0.010,2,    2.392,2, -999.000,9, -999.000,9, -999.000,9, 2203.500,2, 2269.100,2
           NA,    P10N,    141,   1,-999.0,     -99,  2,20050527,0455,  42.0825,  143.8673,   885,  300.700,    1.516,   33.438,2,   33.437,2,  210.350,1,  220.570,2,   68.620,2,   31.210,2,    0.010,2,    2.436,2, -999.000,9, -999.000,9, -999.000,9, 2222.300,2, 2273.100,2
           NA,    P10N,    141,   1,-999.0,     -99,  2,20050527,0455,  42.0825,  143.8673,   885,  400.500,    3.397,   33.756,2,   33.752,2,  138.810,1,  144.470,2,   78.520,2,   34.440,2,    0.020,2,    2.584,2, -999.000,9, -999.000,9, -999.000,9, 2253.600,2, 2293.700,2
           NA,    P10N,    141,   1,-999.0,     -99,  2,20050527,0455,  42.0825,  143.8673,   885,  500.600,    2.968,   33.821,2,   33.822,6,   96.160,1,   97.770,2,   96.570,2,   39.220,2,    0.010,2,    2.895,2, -999.000,9, -999.000,9, -999.000,9, 2298.500,2, 2307.600,2
           NA,    P10N,    141,   1,-999.0,     -99,  2,20050527,0455,  42.0825,  143.8673,   885,  600.700,    3.137,   33.964,2,   33.966,2,   59.510,1,   58.920,2,  110.050,2,   41.900,2,    0.010,2,    3.058,2, -999.000,9, -999.000,9, -999.000,9, 2329.800,2, 2320.800,2
           NA,    P10N,    141,   1,-999.0,     -99,  2,20050527,0455,  42.0825,  143.8673,   885,  700.500,    3.211,   34.093,2,   34.091,2,   39.270,1,   37.950,2,  120.880,2,   43.130,2,    0.010,2,    3.124,2, -999.000,9, -999.000,9, -999.000,9, 2347.200,6, 2337.900,2
           NA,    P10N,    141,   1,-999.0,     -99,  2,20050527,0455,  42.0825,  143.8673,   885,  801.200,    3.109,   34.178,2,   34.180,2,   33.950,1,   31.770,2,  129.970,2,   43.270,2,    0.010,2,    3.143,2, -999.000,9, -999.000,9, -999.000,9, 2358.000,2, 2347.800,6
           NA,    P10N,    141,   1,-999.0,     -99,  2,20050527,0455,  42.0825,  143.8673,   885,  883.900,    2.921,   34.279,2,   34.275,6,   31.540,1,   28.980,6,  141.550,2,   42.820,2,    0.050,2,    3.168,2, -999.000,9, -999.000,9, -999.000,9, 2370.000,2, 2362.600,2
           NA,    P10N,    142,   2,-999.0,     -99,  2,20050527,0316,  42.1657,  143.8093,   724,    9.400,    3.316,   32.880,2,   32.884,2,  433.460,1,  415.200,6,    6.900,2,    5.490,2,    0.140,2,    0.685,2, -999.000,9, -999.000,9, -999.000,9, 2042.400,2, 2250.300,2
           NA,    P10N,    142,   2,-999.0,     -99,  2,20050527,0316,  42.1657,  143.8093,   724,   50.400,    1.810,   33.002,2,   33.013,2,  333.550,1,  340.100,2,   36.700,2,   20.320,2,    0.200,2,    1.756,2, -999.000,9, -999.000,9, -999.000,9, 2134.100,2, 2244.600,2
           NA,    P10N,    142,   2,-999.0,     -99,  2,20050527,0316,  42.1657,  143.8093,   724,  100.500,    0.826,   33.100,2,   33.118,2,  304.420,1,  310.300,2,   45.480,2,   23.520,2,    0.170,2,    1.974,2, -999.000,9, -999.000,9, -999.000,9, 2159.800,2, 2253.000,6
           NA,    P10N,    142,   2,-999.0,     -99,  2,20050527,0316,  42.1657,  143.8093,   724,  150.000,    0.882,   33.180,2,   33.185,2,  288.430,1,  295.690,2,   49.630,2,   25.200,2,    0.100,2,    2.058,2, -999.000,9, -999.000,9, -999.000,9, 2171.300,2, 2253.500,2
           NA,    P10N,    142,   2,-999.0,     -99,  2,20050527,0316,  42.1657,  143.8093,   724,  202.800,    1.933,   33.342,2,   33.345,2,  269.310,1,  274.960,2,   51.730,2,   26.200,2,    0.020,2,    2.075,2, -999.000,9, -999.000,9, -999.000,9, 2174.400,2, 2261.700,2
           NA,    P10N,    142,   2,-999.0,     -99,  2,20050527,0316,  42.1657,  143.8093,   724,  252.800,    2.101,   33.416,2,   33.413,2,  239.520,1,  245.130,2,   59.900,2,   29.130,2,    0.020,2,    2.269,2, -999.000,9, -999.000,9, -999.000,9, 2195.900,2, 2268.100,2
           NA,    P10N,    142,   2,-999.0,     -99,  2,20050527,0316,  42.1657,  143.8093,   724,  301.000,    2.805,   33.563,2,   33.558,2,  197.500,1,  201.690,2,   67.030,2,   31.260,2,    0.020,2,    2.396,2, -999.000,9, -999.000,9, -999.000,9, 2221.000,2, 2276.600,2
           NA,    P10N,    142,   2,-999.0,     -99,  2,20050527,0316,  42.1657,  143.8093,   724,  406.500,    3.799,   33.803,2,   33.804,2,  137.650,1,  139.240,2,   77.320,2,   34.190,2,    0.020,2,    2.556,2, -999.000,9, -999.000,9, -999.000,9, 2254.300,2, 2292.500,2
           NA,    P10N,    142,   2,-999.0,     -99,  2,20050527,0316,  42.1657,  143.8093,   724,  504.500,    3.080,   33.863,2,   33.862,6,   88.800,1,   87.990,2,   99.500,2,   39.970,2,    0.010,2,    2.928,2, -999.000,9, -999.000,9, -999.000,9, 2305.900,2, 2310.800,2
           NA,    P10N,    142,   2,-999.0,     -99,  2,20050527,0316,  42.1657,  143.8093,   724,  600.500,    3.223,   33.956,2,   33.964,2,   67.800,1,   65.920,2,  106.740,2,   41.130,2,    0.010,2,    2.999,2, -999.000,9, -999.000,9, -999.000,9, 2321.700,2, 2322.400,2
           NA,    P10N,    142,   2,-999.0,     -99,  2,20050527,0316,  42.1657,  143.8093,   724,  719.700,    3.192,   34.108,2,   34.108,2,   37.510,1,   35.070,2,  123.540,2,   42.930,2,    0.030,2,    3.145,2, -999.000,9, -999.000,9, -999.000,9, 2351.500,2, 2337.100,2
           NA,    P10N,    143,   1,-999.0,     -99,  2,20050526,2315,  42.2532,  143.7380,   471,   10.700,    4.697,   32.655,2,   32.675,2,  393.830,1,  400.230,6,    0.270,2,    0.170,2,    0.030,2,    0.333,2,    5.708,2,    2.827,2, -999.000,9, 1990.500,2, 2238.500,2
           NA,    P10N,    143,   1,-999.0,     -99,  2,20050526,2315,  42.2532,  143.7380,   471,   50.200,    4.156,   33.300,2,   33.296,2,  305.590,1,  312.540,2,   19.490,2,   13.600,2,    0.180,2,    1.326,2,    5.216,2,    2.636,2, -999.000,9, 2106.600,6, 2252.700,2
           NA,    P10N,    143,   1,-999.0,     -99,  2,20050526,2315,  42.2532,  143.7380,   471,   99.700,    2.759,   33.251,2,   33.262,2,  292.940,1,  298.310,2,   33.680,2,   18.860,2,    0.140,2,    1.664,2,    5.347,2,    2.713,2, -999.000,9, 2138.500,2, 2251.900,6
           NA,    P10N,    143,   1,-999.0,     -99,  2,20050526,2315,  42.2532,  143.7380,   471,  150.500,    2.447,   33.348,2,   33.349,2,  271.980,1,  277.550,2,   46.040,2,   23.810,2,    0.110,2,    1.941,2,    5.141,2,    2.566,2, -999.000,9, 2162.900,2, 2258.800,2
           NA,    P10N,    143,   1,-999.0,     -99,  2,20050526,2315,  42.2532,  143.7380,   471,  200.300,    2.065,   33.352,2,   33.352,2,  260.130,1,  267.220,2,   53.740,2,   26.250,2,    0.100,2,    2.113,2,    5.039,2,    2.543,2, -999.000,9, 2179.200,2, 2256.500,2
           NA,    P10N,    143,   1,-999.0,     -99,  2,20050526,2315,  42.2532,  143.7380,   471,  249.700,    2.020,   33.366,2,   33.367,2,  252.860,1,  259.830,2,   56.460,2,   27.200,2,    0.100,2,    2.172,2,    5.112,2,    2.534,2, -999.000,9, 2186.100,2, 2263.200,2
           NA,    P10N,    143,   1,-999.0,     -99,  2,20050526,2315,  42.2532,  143.7380,   471,  300.800,    2.040,   33.426,2,   33.431,2,  229.920,1,  234.680,2,   63.130,2,   29.510,2,    0.070,2,    2.316,2,    4.544,2,    2.358,2, -999.000,9, 2204.300,2, 2269.100,2
           NA,    P10N,    143,   1,-999.0,     -99,  2,20050526,2315,  42.2532,  143.7380,   471,  400.900,    2.073,   33.517,2,   33.520,2,  191.350,1,  194.810,2,   74.860,2,   32.880,2,    0.050,2,    2.532,2,    4.237,2,    2.089,2, -999.000,9, 2236.400,2, 2278.000,2
           NA,    P10N,    143,   1,-999.0,     -99,  2,20050526,2315,  42.2532,  143.7380,   471,  467.300,    2.470,   33.628,2,   33.623,6,  156.990,1,  160.190,2,   81.990,2,   35.120,2,    0.040,2,    2.670,2,    3.667,2,    1.773,2, -999.000,9, 2257.500,2, 2285.300,2