BOTTLE,20214413JOAExport
EXPOCODE,SECT_ID,STNNBR,CASTNO,SAMPNO,BTLNBR,BTLNBR_FLAG_W,DATE,TIME,LATITUDE,LONGITUDE,DEPTH,CTDPRS,CTDTMP,CTDSAL,CTDSAL_FLAG_W,SALNTY,SALNTY_FLAG_W,CTDOXY,CTDOXY_FLAG_W,OXYGEN,OXYGEN_FLAG_W,SILCAT,SILCAT_FLAG_W,NITRAT,NITRAT_FLAG_W,NITRIT,NITRIT_FLAG_W,PHSPHT,PHSPHT_FLAG_W,CFC-11,CFC-11_FLAG_W,CFC-12,CFC-12_FLAG_W,SF6,SF6_FLAG_W,TCARBN,TCARBN_FLAG_W,ALKALI,ALKALI_FLAG_W
,,,,,,,,,,,,,DB,ITS-90,PSS-78,,PSS-78,,UMOL/KG,,UMOL/KG,,UMOL/KG,,UMOL/KG,,UMOL/KG,,UMOL/KG,,PMOL/KG,,PMOL/KG,,FMOL/KG,,UMOL/KG,,UMOL/KG
           NA,     P10,     23,   1,-999.0,     -99,  2,20050623,0440,   1.2452,  146.5118,  4471,   10.100,   29.871,   34.342,2,   34.336,2,  170.950,1,  195.160,6,    0.790,2,    0.040,2,    0.000,2,    0.135,2,    1.362,2,    0.843,2, -999.000,9, -999.000,9, -999.000,9
           NA,     P10,     23,   1,-999.0,     -99,  2,20050623,0440,   1.2452,  146.5118,  4471,   49.900,   29.441,   34.961,2,   35.010,2,  168.350,1,  189.820,2,    0.990,2,    0.330,2,    0.060,2,    0.237,2,    1.421,2,    0.874,2, -999.000,9, -999.000,9, -999.000,9
           NA,     P10,     23,   1,-999.0,     -99,  2,20050623,0440,   1.2452,  146.5118,  4471,   99.900,   24.827,   35.167,2,   35.159,2,  118.650,1,  135.560,2,    3.520,2,    8.020,2,    0.060,2,    0.670,2,    1.658,2,    0.957,2, -999.000,9, -999.000,9, -999.000,9
           NA,     P10,     23,   1,-999.0,     -99,  2,20050623,0440,   1.2452,  146.5118,  4471,  149.900,   21.760,   35.416,2,   35.413,2,  116.800,1,  135.170,2,    4.050,2,    9.510,2,    0.010,2,    0.781,2,    1.781,2,    0.997,2, -999.000,9, -999.000,9, -999.000,9
           NA,     P10,     23,   1,-999.0,     -99,  2,20050623,0440,   1.2452,  146.5118,  4471,  199.600,   17.165,   35.293,2,   35.292,2,  120.380,1,  140.230,2,    6.840,2,   13.170,2,    0.010,2,    1.023,2,    1.698,2,    0.907,2, -999.000,9, -999.000,9, -999.000,9
           NA,     P10,     23,   1,-999.0,     -99,  3,20050623,0440,   1.2452,  146.5118,  4471,  249.600,   12.212,   34.829,2,   34.810,2,  115.120,1,  133.650,2,   20.120,2,   20.770,2,    0.000,2,    1.523,2,    1.341,6,    0.676,6, -999.000,9, -999.000,9, -999.000,9
           NA,     P10,     23,   1,-999.0,     -99,  2,20050623,0440,   1.2452,  146.5118,  4471,  300.100,   11.046,   34.776,2,   34.763,2,  114.960,1,  131.870,2,   21.400,2,   23.280,2,    0.000,2,    1.682,2,    1.068,2,    0.535,2, -999.000,9, -999.000,9, -999.000,9
           NA,     P10,     23,   1,-999.0,     -99,  2,20050623,0440,   1.2452,  146.5118,  4471,  399.300,    9.323,   34.674,2,   34.667,2,   86.760,1,  103.390,2,   29.250,2,   29.280,2,    0.000,2,    2.072,2,    0.541,2,    0.271,2, -999.000,9, -999.000,9, -999.000,9
           NA,     P10,     23,   1,-999.0,     -99,  2,20050623,0440,   1.2452,  146.5118,  4471,  500.600,    8.304,   34.610,2,   34.609,6,   96.160,1,  113.030,2,   33.470,2,   30.200,2,    0.000,2,    2.136,2,    0.440,2,    0.212,2, -999.000,9, -999.000,9, -999.000,9
           NA,     P10,     23,   1,-999.0,     -99,  3,20050623,0440,   1.2452,  146.5118,  4471,  599.300,    7.417,   34.568,2,   34.566,2,   90.930,1,  108.300,2,   40.120,2,   32.430,2,    0.000,2,    2.303,2,    0.266,2,    0.130,2, -999.000,9, -999.000,9, -999.000,9
           NA,     P10,     23,   1,-999.0,     -99,  2,20050623,0440,   1.2452,  146.5118,  4471,  699.600,    6.071,   34.535,2,   34.535,2,   92.270,1,  107.750,2,   54.350,2,   35.010,2,    0.000,2,    2.497,2,    0.119,2,    0.048,2, -999.000,9, -999.000,9, -999.000,9
           NA,     P10,     23,   1,-999.0,     -99,  2,20050623,0440,   1.2452,  146.5118,  4471,  800.100,    5.498,   34.538,2,   34.537,2,   84.070,1,  101.690,2,   62.840,2,   36.600,2,    0.000,2,    2.611,2,    0.059,6,    0.019,6, -999.000,9, -999.000,9, -999.000,9
           NA,     P10,     23,   1,-999.0,     -99,  2,20050623,0440,   1.2452,  146.5118,  4471,  899.300,    4.931,   34.541,2,   34.542,2,   87.380,1,  104.370,2,   73.840,2,   36.970,2,    0.000,2,    2.642,2,    0.036,2,    0.013,2, -999.000,9, -999.000,9, -999.000,9
           NA,     P10,     23,   1,-999.0,     -99,  2,20050623,0440,   1.2452,  146.5118,  4471,  999.700,    4.405,   34.555,2,   34.555,6,   82.540,1,   98.250,2,   86.270,2,   38.090,2,    0.000,2,    2.734,2,    0.014,2,    0.000,2, -999.000,9, -999.000,9, -999.000,9
           NA,     P10,     23,   1,-999.0,     -99,  2,20050623,0440,   1.2452,  146.5118,  4471, 1201.700,    3.639,   34.579,2,   34.578,2,   83.790,1,  100.910,6,  103.230,2,   38.490,2,    0.000,2,    2.756,2,    0.010,2,    0.000,2, -999.000,9, -999.000,9, -999.000,9
           NA,     P10,     23,   1,-999.0,     -99,  2,20050623,0440,   1.2452,  146.5118,  4471, 1399.600,    3.111,   34.597,2,   34.598,2,   85.430,1,  103.410,2,  114.910,2,   38.770,2,    0.000,2,    2.771,2,   -0.002,2,    0.000,2, -999.000,9, -999.000,9, -999.000,9
           NA,     P10,     23,   1,-999.0,     -99,  2,20050623,0440,   1.2452,  146.5118,  4471, 1599.100,    2.906,   34.606,2,   34.606,2,   87.860,1,  106.930,2,  119.570,2,   38.600,2,    0.000,2,    2.755,2,    0.003,2,    0.000,2, -999.000,9, -999.000,9, -999.000,9
           NA,     P10,     23,   1,-999.0,     -99,  2,20050623,0440,   1.2452,  146.5118,  4471, 1800.600,    2.472,   34.625,2,   34.625,6,   91.860,1,  112.720,2,  129.780,2,   38.430,2,    0.000,2,    2.730,2, -999.000,9, -999.000,9, -999.000,9, -999.000,9, -999.000,9
           NA,     P10,     23,   1,-999.0,     -99,  2,20050623,0440,   1.2452,  146.5118,  4471, 2000.300,    2.179,   34.641,2,   34.641,2,   96.200,1,  118.700,2,  135.650,2,   38.200,2,    0.000,2,    2.707,2,   -0.003,2,    0.000,2, -999.000,9, -999.000,9, -999.000,9
           NA,     P10,     23,   1,-999.0,     -99,  2,20050623,0440,   1.2452,  146.5118,  4471, 2199.600,    2.038,   34.648,2,   34.648,2,   98.420,1,  121.920,2,  139.090,2,   38.020,2,    0.000,2,    2.687,2, -999.000,9, -999.000,9, -999.000,9, -999.000,9, -999.000,9
           NA,     P10,     23,   1,-999.0,     -99,  2,20050623,0440,   1.2452,  146.5118,  4471, 2400.200,    1.823,   34.659,2,   34.658,2,  104.140,1,  129.530,2,  142.270,2,   37.500,2,    0.000,2,    2.644,2,   -0.001,2,    0.000,2, -999.000,9, -999.000,9, -999.000,9
           NA,     P10,     23,   1,-999.0,     -99,  2,20050623,0440,   1.2452,  146.5118,  4471, 2600.300,    1.712,   34.665,2,   34.665,2,  108.210,1,  135.270,2,  142.880,2,   37.140,2,    0.000,2,    2.612,2, -999.000,9, -999.000,9, -999.000,9, -999.000,9, -999.000,9
           NA,     P10,     23,   1,-999.0,     -99,  2,20050623,0440,   1.2452,  146.5118,  4471, 2800.000,    1.675,   34.668,2,   34.668,6,  110.140,1,  138.020,2,  143.080,2,   36.960,2,    0.000,2,    2.594,2,    0.000,2,    0.000,2, -999.000,9, -999.000,9, -999.000,9
           NA,     P10,     23,   1,-999.0,     -99,  2,20050623,0440,   1.2452,  146.5118,  4471, 3000.400,    1.637,   34.671,2,   34.671,2,  112.130,1,  140.860,6,  143.140,2,   36.780,2,    0.000,2,    2.581,2, -999.000,9, -999.000,9, -999.000,9, -999.000,9, -999.000,9
           NA,     P10,     23,   1,-999.0,     -99,  2,20050623,0440,   1.2452,  146.5118,  4471, 3251.500,    1.598,   34.676,2,   34.675,2,  114.440,1,  144.000,2,  143.300,2,   36.550,2,    0.000,2,    2.560,2, -999.000,9, -999.000,9, -999.000,9, -999.000,9, -999.000,9
           NA,     P10,     23,   1,-999.0,     -99,  2,20050623,0440,   1.2452,  146.5118,  4471, 3501.300,    1.580,   34.678,2,   34.678,2,  116.400,1,  146.450,2,  143.400,2,   36.460,2,    0.000,2,    2.551,2, -999.000,9, -999.000,9, -999.000,9, -999.000,9, -999.000,9
           NA,     P10,     23,   1,-999.0,     -99,  2,20050623,0440,   1.2452,  146.5118,  4471, 3750.000,    1.549,   34.683,2,   34.682,6,  119.420,1,  150.150,2,  142.990,2,   36.220,2,    0.000,2,    2.534,2, -999.000,9, -999.000,9, -999.000,9, -999.000,9, -999.000,9
           NA,     P10,     23,   1,-999.0,     -99,  2,20050623,0440,   1.2452,  146.5118,  4471, 4000.500,    1.542,   34.685,2,   34.684,2,  121.770,1,  152.370,2,  142.530,2,   36.110,2,    0.000,2,    2.523,2, -999.000,9, -999.000,9, -999.000,9, -999.000,9, -999.000,9
           NA,     P10,     23,   1,-999.0,     -99,  2,20050623,0440,   1.2452,  146.5118,  4471, 4250.300,    1.534,   34.687,2,   34.687,2,  124.650,1,  155.290,2,  141.800,2,   35.890,2,    0.000,2,    2.504,2, -999.000,9, -999.000,9, -999.000,9, -999.000,9, -999.000,9
           NA,     P10,     23,   1,-999.0,     -99,  3,20050623,0440,   1.2452,  146.5118,  4471, 4501.300,    1.556,   34.688,2,   34.688,2,  125.890,1,  155.890,2,  141.320,2,   35.780,2,    0.000,2,    2.499,2, -999.000,9, -999.000,9, -999.000,9, -999.000,9, -999.000,9
           NA,     P10,     23,   1,-999.0,     -99,  2,20050623,0440,   1.2452,  146.5118,  4471, 4526.400,    1.559,   34.688,2, -999.000,3,  126.070,1,  155.770,2,  141.560,2,   35.860,2,    0.000,2,    2.499,2, -999.000,9, -999.000,9, -999.000,9, -999.000,9, -999.000,9
           NA,     P10,     23,   1,-999.0,     -99,  2,20050623,0440,   1.2452,  146.5118,  4471, 4526.500,    1.559,   34.688,2,   34.688,6,  126.160,1,  155.810,2,  141.470,2,   35.830,2,    0.000,2,    2.499,2,    0.003,2,    0.000,2, -999.000,9, -999.000,9, -999.000,9
           NA,     P10,     24,   1,-999.0,     -99,  2,20050622,2310,   1.5050,  146.5743,  4481,   10.200,   29.742,   34.268,2,   34.268,2,  171.240,1,  195.400,6,    0.840,2,    0.010,2,    0.000,2,    0.127,2,    1.366,2,    0.852,2, -999.000,9, 1899.400,2, 2258.500,2
           NA,     P10,     24,   1,-999.0,     -99,  2,20050622,2310,   1.5050,  146.5743,  4481,   50.300,   29.400,   34.760,2,   34.811,2,  167.610,1,  191.250,2,    1.010,2,    0.040,2,    0.010,2,    0.193,2,    1.402,2,    0.876,2, -999.000,9, 1943.800,6, 2296.200,2
           NA,     P10,     24,   1,-999.0,     -99,  2,20050622,2310,   1.5050,  146.5743,  4481,  100.600,   25.720,   35.151,2,   35.144,2,  123.690,1,  141.230,2,    3.370,2,    7.210,2,    0.120,2,    0.630,2,    1.594,2,    0.961,2, -999.000,9, 2037.800,2, 2313.200,6
           NA,     P10,     24,   1,-999.0,     -99,  2,20050622,2310,   1.5050,  146.5743,  4481,  150.300,   21.753,   35.397,2,   35.390,2,  117.150,1,  135.660,2,    4.270,2,    9.480,2,    0.010,2,    0.774,2,    1.745,2,    1.024,2, -999.000,9, 2080.300,2, 2331.500,2
           NA,     P10,     24,   1,-999.0,     -99,  2,20050622,2310,   1.5050,  146.5743,  4481,  201.800,   17.237,   35.272,2,   35.258,2,  120.800,1,  140.390,2,    7.380,2,   13.070,2,    0.010,2,    1.018,2,    1.713,2,    0.960,2, -999.000,9, 2112.200,2, 2326.200,2
           NA,     P10,     24,   1,-999.0,     -99,  2,20050622,2310,   1.5050,  146.5743,  4481,  249.700,   13.456,   34.997,2,   34.915,2,  122.510,1,  139.080,2,   16.050,2,   19.170,2,    0.000,2,    1.420,2,    1.400,6,    0.759,6, -999.000,9, 2152.000,2, 2316.900,2
           NA,     P10,     24,   1,-999.0,     -99,  2,20050622,2310,   1.5050,  146.5743,  4481,  299.900,   10.558,   34.677,2,   34.682,2,  103.580,1,  119.590,2,   26.600,2,   25.360,2,    0.000,2,    1.830,2,    0.973,2,    0.516,2, -999.000,9, 2188.600,2, 2308.600,2
           NA,     P10,     24,   1,-999.0,     -99,  2,20050622,2310,   1.5050,  146.5743,  4481,  399.700,    9.386,   34.676,2,   34.672,2,   92.380,1,  108.490,2,   28.480,2,   28.540,2,    0.000,2,    2.028,2,    0.621,2,    0.329,2, -999.000,9, 2204.700,2, 2308.600,2
           NA,     P10,     24,   1,-999.0,     -99,  2,20050622,2310,   1.5050,  146.5743,  4481,  500.500,    8.554,   34.626,2,   34.624,6,   93.530,1,  110.200,2,   32.180,2,   30.140,2,    0.000,2,    2.135,2,    0.479,2,    0.247,2, -999.000,9, 2213.100,2, 2311.900,2
           NA,     P10,     24,   1,-999.0,     -99,  2,20050622,2310,   1.5050,  146.5743,  4481,  600.000,    7.546,   34.575,2,   34.572,2,   92.250,1,  108.860,2,   39.010,2,   32.320,2,    0.000,2,    2.294,2,    0.302,2,    0.156,2, -999.000,9, 2226.200,2, 2317.600,2
           NA,     P10,     24,   1,-999.0,     -99,  2,20050622,2310,   1.5050,  146.5743,  4481,  698.600,    6.330,   34.537,2,   34.536,2,   91.930,1,  107.970,2,   52.930,2,   34.450,2,    0.000,2,    2.465,2,    0.177,2,    0.092,2, -999.000,9, 2246.200,6, 2327.100,2
           NA,     P10,     24,   1,-999.0,     -99,  2,20050622,2310,   1.5050,  146.5743,  4481,  799.600,    5.541,   34.537,2,   34.537,2,   85.590,1,  101.620,2,   64.030,2,   36.470,2,    0.000,2,    2.611,2,    0.077,6,    0.041,6, -999.000,9, 2264.500,2, 2339.800,6
           NA,     P10,     24,   1,-999.0,     -99,  2,20050622,2310,   1.5050,  146.5743,  4481,  900.400,    4.936,   34.544,2,   34.545,2,   86.840,1,  103.310,2,   75.610,2,   36.970,2,    0.000,2,    2.639,2,    0.048,2,    0.030,2, -999.000,9, 2276.400,2, 2352.400,2
           NA,     P10,     24,   1,-999.0,     -99,  2,20050622,2310,   1.5050,  146.5743,  4481, 1002.000,    4.398,   34.555,2,   34.555,6,   82.910,1,   98.930,2,   86.270,2,   38.110,2,    0.000,2,    2.733,2,    0.016,2,    0.016,2, -999.000,9, 2289.600,2, 2359.800,2
           NA,     P10,     24,   1,-999.0,     -99,  2,20050622,2310,   1.5050,  146.5743,  4481, 1201.400,    3.604,   34.580,2,   34.580,2,   83.680,1,  100.720,6,  104.880,2,   38.540,2,    0.000,2,    2.764,2,    0.007,2,    0.002,2, -999.000,9, 2309.300,2, 2382.700,2
           NA,     P10,     24,   1,-999.0,     -99,  2,20050622,2310,   1.5050,  146.5743,  4481, 1400.200,    3.088,   34.598,2,   34.599,2,   85.400,1,  103.480,2,  115.980,2,   38.820,2,    0.000,2,    2.786,2,   -0.003,2,    0.001,2, -999.000,9, 2322.100,2, 2392.600,2
           NA,     P10,     24,   1,-999.0,     -99,  2,20050622,2310,   1.5050,  146.5743,  4481, 1599.800,    2.867,   34.607,2,   34.607,2,   86.950,1,  105.930,2,  122.380,2,   38.670,2,    0.000,2,    2.765,2,   -0.003,2,   -0.002,2, -999.000,9, 2325.500,2, -999.000,3
           NA,     P10,     24,   1,-999.0,     -99,  2,20050622,2310,   1.5050,  146.5743,  4481, 1800.300,    2.403,   34.628,2,   34.628,6,   91.930,1,  112.880,2,  132.440,2,   38.440,2,    0.000,2,    2.735,2,   -0.005,2,    0.000,2, -999.000,9, 2332.800,2, 2408.300,2
           NA,     P10,     24,   1,-999.0,     -99,  2,20050622,2310,   1.5050,  146.5743,  4481, 2000.200,    2.164,   34.642,2,   34.642,2,   96.330,1,  118.810,2,  136.130,2,   38.230,2,    0.000,2,    2.710,2,   -0.002,2,   -0.001,2, -999.000,9, 2335.100,2, 2414.000,2
           NA,     P10,     24,   1,-999.0,     -99,  2,20050622,2310,   1.5050,  146.5743,  4481, 2200.400,    2.003,   34.649,2,   34.649,2,   99.020,1,  122.820,2,  140.120,2,   38.000,2,    0.000,2,    2.687,2,    0.003,2,    0.000,2, -999.000,9, 2334.800,2, 2416.700,2
           NA,     P10,     24,   1,-999.0,     -99,  2,20050622,2310,   1.5050,  146.5743,  4481, 2400.100,    1.854,   34.657,2,   34.657,2,  102.800,1,  128.040,2,  142.500,2,   37.670,2,    0.000,2,    2.659,2,   -0.002,2,   -0.002,2, -999.000,9, 2334.200,6, 2420.400,2
           NA,     P10,     24,   1,-999.0,     -99,  2,20050622,2310,   1.5050,  146.5743,  4481, 2600.400,    1.736,   34.664,2,   34.664,2,  107.380,1,  134.280,2,  143.100,2,   37.290,2,    0.000,2,    2.628,2,   -0.002,2,    0.001,2, -999.000,9, 2333.500,2, 2421.000,6
           NA,     P10,     24,   1,-999.0,     -99,  2,20050622,2310,   1.5050,  146.5743,  4481, 2799.300,    1.675,   34.668,2,   34.668,6,  110.130,1,  138.100,2,  143.400,2,   37.040,2,    0.000,2,    2.606,2, -999.000,9, -999.000,9, -999.000,9, 2328.600,2, 2422.000,2
           NA,     P10,     24,   1,-999.0,     -99,  2,20050622,2310,   1.5050,  146.5743,  4481, 2999.900,    1.631,   34.672,2,   34.672,2,  112.260,1,  141.180,6,  143.680,2,   36.840,2,    0.000,2,    2.592,2,    0.005,2,    0.003,2, -999.000,9, 2333.300,2, 2421.200,2
           NA,     P10,     24,   1,-999.0,     -99,  2,20050622,2310,   1.5050,  146.5743,  4481, 3251.600,    1.611,   34.675,2,   34.675,2,  113.890,1,  143.490,2,  143.490,2,   36.610,2,    0.000,2,    2.569,2, -999.000,9, -999.000,9, -999.000,9, 2330.500,2, 2422.800,2
           NA,     P10,     24,   1,-999.0,     -99,  2,20050622,2310,   1.5050,  146.5743,  4481, 3499.300,    1.591,   34.678,2,   34.678,2,  115.830,1,  145.900,2,  143.680,2,   36.530,2,    0.000,2,    2.562,2,    0.001,2,    0.000,2, -999.000,9, 2329.300,2, 2423.800,2
           NA,     P10,     24,   1,-999.0,     -99,  2,20050622,2310,   1.5050,  146.5743,  4481, 3748.100,    1.562,   34.682,2,   34.682,2,  118.730,1,  149.200,2,  143.550,2,   36.340,2,    0.000,2,    2.548,2, -999.000,9, -999.000,9, -999.000,9, 2333.800,2, 2426.400,2
           NA,     P10,     24,   1,-999.0,     -99,  2,20050622,2310,   1.5050,  146.5743,  4481, 4000.800,    1.546,   34.685,2,   34.684,2,  121.500,1,  152.280,2,  143.040,2,   36.200,2,    0.000,2,    2.530,2,    0.004,2,   -0.002,2, -999.000,9, 2326.800,2, 2426.100,2
           NA,     P10,     24,   1,-999.0,     -99,  2,20050622,2310,   1.5050,  146.5743,  4481, 4248.800,    1.534,   34.687,2,   34.687,2,  124.510,1,  155.190,2,  142.260,2,   35.960,2,    0.000,2,    2.514,2, -999.000,9, -999.000,9, -999.000,9, 2324.200,6, 2423.600,2
           NA,     P10,     24,   1,-999.0,     -99,  2,20050622,2310,   1.5050,  146.5743,  4481, 4498.600,    1.555,   34.688,2,   34.688,2,  125.780,1,  155.950,2,  142.190,2,   35.920,2,    0.000,2,    2.514,2, -999.000,9, -999.000,9, -999.000,9, 2325.900,2, 2425.000,6
           NA,     P10,     24,   1,-999.0,     -99,  2,20050622,2310,   1.5050,  146.5743,  4481, 4548.400,    1.562,   34.688,2,   34.688,6,  126.100,1,  155.780,6,  142.200,2,   35.930,2,    0.000,2,    2.512,2,    0.004,2,    0.002,2, -999.000,9, 2323.800,2, 2423.500,2
           NA,     P10,     24,   1,-999.0,     -99,  2,20050622,2310,   1.5050,  146.5743,  4481, 4548.500,    1.562,   34.688,2,   34.688,6,  126.080,1,  155.650,2,  142.130,2,   35.940,2,    0.000,2,    2.510,2, -999.000,9, -999.000,9, -999.000,9, 2323.300,2, 2422.300,2