BOTTLE,20214413JOAExport
EXPOCODE,SECT_ID,STNNBR,CASTNO,SAMPNO,BTLNBR,BTLNBR_FLAG_W,DATE,TIME,LATITUDE,LONGITUDE,DEPTH,CTDPRS,CTDTMP,CTDSAL,CTDSAL_FLAG_W,SALNTY,SALNTY_FLAG_W,CTDOXY,CTDOXY_FLAG_W,OXYGEN,OXYGEN_FLAG_W,SILCAT,SILCAT_FLAG_W,NITRAT,NITRAT_FLAG_W,NITRIT,NITRIT_FLAG_W,PHSPHT,PHSPHT_FLAG_W,CFC-11,CFC-11_FLAG_W,CFC-12,CFC-12_FLAG_W,SF6,SF6_FLAG_W,TCARBN,TCARBN_FLAG_W,ALKALI,ALKALI_FLAG_W
,,,,,,,,,,,,,DB,ITS-90,PSS-78,,PSS-78,,UMOL/KG,,UMOL/KG,,UMOL/KG,,UMOL/KG,,UMOL/KG,,UMOL/KG,,PMOL/KG,,PMOL/KG,,FMOL/KG,,UMOL/KG,,UMOL/KG
           NA,    P10N,     98,   1,-999.0,     -99,  2,20050606,2305,  31.1830,  149.3348,  6031,   10.100,   22.337,   34.421,2,   34.524,2,  191.220,1,  222.550,6,    1.780,2,   -0.010,2,    0.010,2,    0.025,2,    2.050,2,    1.158,2, -999.000,9, -999.000,9, -999.000,9
           NA,    P10N,     98,   1,-999.0,     -99,  2,20050606,2305,  31.1830,  149.3348,  6031,   50.100,   20.019,   34.874,2,   34.868,2,  201.390,1,  235.020,2,    1.990,2,   -0.010,2,    0.000,2,    0.039,2,    2.275,2,    1.264,2, -999.000,9, -999.000,9, -999.000,9
           NA,    P10N,     98,   1,-999.0,     -99,  2,20050606,2305,  31.1830,  149.3348,  6031,  100.500,   18.150,   34.819,2,   34.819,2,  192.250,1,  223.260,2,    2.650,2,    1.940,2,    0.040,2,    0.168,2,    2.386,2,    1.312,2, -999.000,9, -999.000,9, -999.000,9
           NA,    P10N,     98,   1,-999.0,     -99,  2,20050606,2305,  31.1830,  149.3348,  6031,  149.400,   17.669,   34.820,2,   34.820,2,  189.690,1,  221.840,2,    3.130,2,    2.790,2,    0.020,2,    0.213,2,    2.417,2,    1.328,2, -999.000,9, -999.000,9, -999.000,9
           NA,    P10N,     98,   1,-999.0,     -99,  2,20050606,2305,  31.1830,  149.3348,  6031,  201.100,   17.410,   34.811,2,   34.811,2,  192.550,1,  225.210,2,    3.280,2,    2.890,2,    0.020,2,    0.221,2,    2.423,2,    1.324,2, -999.000,9, -999.000,9, -999.000,9
           NA,    P10N,     98,   1,-999.0,     -99,  2,20050606,2305,  31.1830,  149.3348,  6031,  249.200,   17.269,   34.805,2,   34.804,2,  191.430,1,  231.610,2,    3.560,2,    3.240,2,    0.010,2,    0.242,2,    2.433,2,    1.341,2, -999.000,9, -999.000,9, -999.000,9
           NA,    P10N,     98,   1,-999.0,     -99,  2,20050606,2305,  31.1830,  149.3348,  6031,  300.400,   16.890,   34.765,2,   34.764,2,  179.110,1,  210.080,2,    4.700,2,    5.030,2,    0.010,2,    0.350,2,    2.477,2,    1.358,2, -999.000,9, -999.000,9, -999.000,9
           NA,    P10N,     98,   1,-999.0,     -99,  2,20050606,2305,  31.1830,  149.3348,  6031,  400.100,   15.481,   34.640,2,   34.632,2,  166.720,1,  195.560,2,    9.120,2,    8.670,2,    0.010,2,    0.598,2,    2.552,2,    1.349,2, -999.000,9, -999.000,9, -999.000,9
           NA,    P10N,     98,   1,-999.0,     -99,  3,20050606,2305,  31.1830,  149.3348,  6031,  502.100,   12.817,   34.442,2,   34.436,6,  156.360,1,  184.890,2,   17.560,2,   13.800,2,    0.010,2,    0.971,2,    2.607,2,    1.316,2, -999.000,9, -999.000,9, -999.000,9
           NA,    P10N,     98,   1,-999.0,     -99,  2,20050606,2305,  31.1830,  149.3348,  6031,  600.400,    9.917,   34.229,2,   34.216,2,  149.040,1,  178.150,2,   29.460,2,   19.350,2,    0.010,2,    1.390,2,    2.647,2,    1.304,2, -999.000,9, -999.000,9, -999.000,9
           NA,    P10N,     98,   1,-999.0,     -99,  2,20050606,2305,  31.1830,  149.3348,  6031,  702.000,    7.513,   34.058,2,   34.054,2,  134.640,1,  161.590,2,   44.920,2,   25.210,2,    0.010,2,    1.840,2,    2.484,2,    1.171,2, -999.000,9, -999.000,9, -999.000,9
           NA,    P10N,     98,   1,-999.0,     -99,  2,20050606,2305,  31.1830,  149.3348,  6031,  799.600,    5.366,   34.001,2,   34.001,2,  105.690,1,  126.960,2,   69.030,2,   31.990,2,    0.010,2,    2.352,2,    2.090,6,    0.969,6, -999.000,9, -999.000,9, -999.000,9
           NA,    P10N,     98,   1,-999.0,     -99,  2,20050606,2305,  31.1830,  149.3348,  6031,  900.700,    4.692,   34.101,2,   34.103,2,   70.300,1,   83.050,2,   89.280,2,   36.990,2,    0.000,2,    2.678,2,    1.262,2,    0.565,2, -999.000,9, -999.000,9, -999.000,9
           NA,    P10N,     98,   1,-999.0,     -99,  2,20050606,2305,  31.1830,  149.3348,  6031,  999.900,    4.147,   34.212,2,   34.214,6,   47.980,1,   56.010,2,  107.470,2,   40.040,2,    0.000,2,    2.888,2,    0.644,2,    0.267,2, -999.000,9, -999.000,9, -999.000,9
           NA,    P10N,     98,   1,-999.0,     -99,  2,20050606,2305,  31.1830,  149.3348,  6031, 1200.700,    3.444,   34.344,2,   34.344,2,   35.090,1,   39.980,6,  128.110,2,   42.130,2,    0.000,2,    3.036,2,    0.177,2,    0.060,2, -999.000,9, -999.000,9, -999.000,9
           NA,    P10N,     98,   1,-999.0,     -99,  2,20050606,2305,  31.1830,  149.3348,  6031, 1398.300,    2.927,   34.433,2,   34.435,2,   31.880,1,   36.170,2,  142.990,2,   43.060,2,    0.000,2,    3.090,2,    0.048,2,    0.018,2, -999.000,9, -999.000,9, -999.000,9
           NA,    P10N,     98,   1,-999.0,     -99,  2,20050606,2305,  31.1830,  149.3348,  6031, 1601.400,    2.556,   34.500,2,   34.500,2,   37.170,1,   42.910,2,  152.320,2,   42.910,2,    0.000,2,    3.069,2,    0.019,2,    0.009,2, -999.000,9, -999.000,9, -999.000,9
           NA,    P10N,     98,   1,-999.0,     -99,  2,20050606,2305,  31.1830,  149.3348,  6031, 1799.900,    2.288,   34.545,2,   34.545,2,   45.770,1,   54.140,2,  158.060,2,   42.350,2,    0.000,2,    3.018,2,    0.009,2,    0.002,2, -999.000,9, -999.000,9, -999.000,9
           NA,    P10N,     98,   1,-999.0,     -99,  2,20050606,2305,  31.1830,  149.3348,  6031, 2001.500,    2.085,   34.579,2,   34.580,2,   56.370,1,   67.680,2,  160.790,2,   41.640,2,    0.000,2,    2.957,2,    0.000,2,    0.002,2, -999.000,9, -999.000,9, -999.000,9
           NA,    P10N,     98,   1,-999.0,     -99,  2,20050606,2305,  31.1830,  149.3348,  6031, 2199.500,    1.906,   34.606,2,   34.607,6,   66.030,1,   80.820,2,  162.740,2,   40.810,2,    0.000,2,    2.893,2,    0.000,2,    0.000,2, -999.000,9, -999.000,9, -999.000,9
           NA,    P10N,     98,   1,-999.0,     -99,  2,20050606,2305,  31.1830,  149.3348,  6031, 2399.300,    1.779,   34.627,2,   34.628,2,   76.590,1,   94.990,2,  161.820,2,   39.980,2,    0.000,2,    2.828,2, -999.000,9, -999.000,9, -999.000,9, -999.000,9, -999.000,9
           NA,    P10N,     98,   1,-999.0,     -99,  2,20050606,2305,  31.1830,  149.3348,  6031, 2600.300,    1.701,   34.642,2,   34.642,2,   86.050,1,  107.820,2,  158.930,2,   39.040,2,    0.000,2,    2.757,2, -999.000,9, -999.000,9, -999.000,9, -999.000,9, -999.000,9
           NA,    P10N,     98,   1,-999.0,     -99,  2,20050606,2305,  31.1830,  149.3348,  6031, 2800.400,    1.633,   34.654,2,   34.654,2,   93.950,1,  118.530,2,  156.840,2,   38.360,2,    0.000,2,    2.706,2, -999.000,9, -999.000,9, -999.000,9, -999.000,9, -999.000,9
           NA,    P10N,     98,   1,-999.0,     -99,  2,20050606,2305,  31.1830,  149.3348,  6031, 2999.900,    1.591,   34.661,2,   34.661,2,   98.910,1,  125.500,6,  155.320,2,   37.880,2,    0.000,2,    2.667,2, -999.000,9, -999.000,9, -999.000,9, -999.000,9, -999.000,9
           NA,    P10N,     98,   1,-999.0,     -99,  2,20050606,2305,  31.1830,  149.3348,  6031, 3250.600,    1.543,   34.669,2,   34.669,6,  105.210,1,  134.310,2,  153.080,2,   37.200,2,    0.000,2,    2.613,2, -999.000,9, -999.000,9, -999.000,9, -999.000,9, -999.000,9
           NA,    P10N,     98,   1,-999.0,     -99,  2,20050606,2305,  31.1830,  149.3348,  6031, 3500.300,    1.514,   34.675,2,   34.675,2,  109.020,1,  139.730,2,  152.400,2,   36.940,2,    0.000,2,    2.588,2, -999.000,9, -999.000,9, -999.000,9, -999.000,9, -999.000,9
           NA,    P10N,     98,   1,-999.0,     -99,  2,20050606,2305,  31.1830,  149.3348,  6031, 3751.000,    1.497,   34.679,2,   34.680,2,  112.620,1,  145.040,2,  150.590,2,   36.600,2,    0.000,2,    2.564,2, -999.000,9, -999.000,9, -999.000,9, -999.000,9, -999.000,9
           NA,    P10N,     98,   1,-999.0,     -99,  2,20050606,2305,  31.1830,  149.3348,  6031, 4002.000,    1.487,   34.683,2,   34.683,2,  115.470,1,  148.990,2,  149.680,2,   36.350,2,    0.000,2,    2.542,2, -999.000,9, -999.000,9, -999.000,9, -999.000,9, -999.000,9
           NA,    P10N,     98,   1,-999.0,     -99,  2,20050606,2305,  31.1830,  149.3348,  6031, 4249.600,    1.485,   34.686,2,   34.685,2,  118.120,1,  152.710,2,  148.510,2,   36.110,2,    0.000,2,    2.527,2, -999.000,9, -999.000,9, -999.000,9, -999.000,9, -999.000,9
           NA,    P10N,     98,   1,-999.0,     -99,  2,20050606,2305,  31.1830,  149.3348,  6031, 4501.400,    1.487,   34.688,2,   34.688,6,  120.710,1,  156.090,2,  147.140,2,   35.830,2,    0.000,2,    2.504,2, -999.000,9, -999.000,9, -999.000,9, -999.000,9, -999.000,9
           NA,    P10N,     98,   1,-999.0,     -99,  2,20050606,2305,  31.1830,  149.3348,  6031, 4752.100,    1.495,   34.690,2,   34.690,2,  123.140,1,  159.130,2,  145.630,2,   35.650,2,    0.010,2,    2.494,2, -999.000,9, -999.000,9, -999.000,9, -999.000,9, -999.000,9
           NA,    P10N,     98,   1,-999.0,     -99,  2,20050606,2305,  31.1830,  149.3348,  6031, 5002.200,    1.508,   34.692,2, -999.000,3,  125.680,1,  162.120,6,  143.810,2,   35.430,2,    0.000,2,    2.472,2, -999.000,9, -999.000,9, -999.000,9, -999.000,9, -999.000,9
           NA,    P10N,     98,   1,-999.0,     -99,  2,20050606,2305,  31.1830,  149.3348,  6031, 5251.900,    1.521,   34.693,2,   34.694,2,  128.180,1,  164.680,2,  142.180,2,   35.250,2,    0.000,2,    2.462,2, -999.000,9, -999.000,9, -999.000,9, -999.000,9, -999.000,9
           NA,    P10N,     98,   1,-999.0,     -99,  2,20050606,2305,  31.1830,  149.3348,  6031, 5503.900,    1.539,   34.695,2,   34.695,2,  130.860,1,  167.310,2,  140.040,2,   35.080,2,    0.000,2,    2.442,2, -999.000,9, -999.000,9, -999.000,9, -999.000,9, -999.000,9
           NA,    P10N,     98,   1,-999.0,     -99,  2,20050606,2305,  31.1830,  149.3348,  6031, 5751.800,    1.561,   34.695,2,   34.696,2,  133.360,1,  169.400,2,  138.190,2,   34.890,2,    0.000,2,    2.431,2, -999.000,9, -999.000,9, -999.000,9, -999.000,9, -999.000,9
           NA,    P10N,     98,   1,-999.0,     -99,  2,20050606,2305,  31.1830,  149.3348,  6031, 6154.600,    1.602,   34.696,2,   34.697,6,  136.130,1,  170.870,2,  137.740,2,   34.840,2,    0.000,2,    2.422,2, -999.000,9, -999.000,9, -999.000,9, -999.000,9, -999.000,9