BOTTLE,20214413JOAExport
EXPOCODE,SECT_ID,STNNBR,CASTNO,SAMPNO,BTLNBR,BTLNBR_FLAG_W,DATE,TIME,LATITUDE,LONGITUDE,DEPTH,CTDPRS,CTDTMP,CTDSAL,CTDSAL_FLAG_W,SALNTY,SALNTY_FLAG_W,CTDOXY,CTDOXY_FLAG_W,OXYGEN,OXYGEN_FLAG_W,SILCAT,SILCAT_FLAG_W,NITRAT,NITRAT_FLAG_W,NITRIT,NITRIT_FLAG_W,PHSPHT,PHSPHT_FLAG_W,CFC-11,CFC-11_FLAG_W,CFC-12,CFC-12_FLAG_W,SF6,SF6_FLAG_W,TCARBN,TCARBN_FLAG_W,ALKALI,ALKALI_FLAG_W
,,,,,,,,,,,,,DB,ITS-90,PSS-78,,PSS-78,,UMOL/KG,,UMOL/KG,,UMOL/KG,,UMOL/KG,,UMOL/KG,,UMOL/KG,,PMOL/KG,,PMOL/KG,,FMOL/KG,,UMOL/KG,,UMOL/KG
           NA,    P10N,    137,   1,-999.0,     -99,  2,20050527,1451,  41.6347,  144.2257,  2554,    9.700,    2.824,   32.910,2,   32.916,2,  391.030,1,  395.380,2,    6.250,2, -999.000,3,    0.170,2,    0.833,2, -999.000,9, -999.000,9, -999.000,9, -999.000,9, -999.000,9
           NA,    P10N,    137,   1,-999.0,     -99,  2,20050527,1451,  41.6347,  144.2257,  2554,   50.300,    1.851,   33.029,2,   33.056,2,  325.730,1,  330.230,2,   36.070,2,   19.580,2,    0.180,2,    1.708,2, -999.000,9, -999.000,9, -999.000,9, -999.000,9, -999.000,9
           NA,    P10N,    137,   1,-999.0,     -99,  2,20050527,1451,  41.6347,  144.2257,  2554,  100.300,    2.749,   33.355,2,   33.349,2,  283.750,1,  291.690,2,   40.720,2,   21.890,2,    0.170,2,    1.785,2, -999.000,9, -999.000,9, -999.000,9, -999.000,9, -999.000,9
           NA,    P10N,    137,   1,-999.0,     -99,  2,20050527,1451,  41.6347,  144.2257,  2554,  149.600,    1.171,   33.261,2,   33.263,2,  271.300,1,  278.480,2,   59.010,2,   28.590,2,    0.020,2,    2.270,2, -999.000,9, -999.000,9, -999.000,9, -999.000,9, -999.000,9
           NA,    P10N,    137,   1,-999.0,     -99,  2,20050527,1451,  41.6347,  144.2257,  2554,  199.800,    1.283,   33.324,2,   33.328,2,  249.580,1,  256.050,2,   59.000,2,   28.540,2,    0.020,2,    2.268,2, -999.000,9, -999.000,9, -999.000,9, -999.000,9, -999.000,9
           NA,    P10N,    137,   1,-999.0,     -99,  2,20050527,1451,  41.6347,  144.2257,  2554,  250.500,    1.447,   33.378,2,   33.378,2,  232.530,1,  239.220,2,   63.170,2,   29.720,2,    0.010,2,    2.341,2, -999.000,9, -999.000,9, -999.000,9, -999.000,9, -999.000,9
           NA,    P10N,    137,   1,-999.0,     -99,  2,20050527,1451,  41.6347,  144.2257,  2554,  300.100,    1.505,   33.425,2, -999.000,5,  218.410,1,  223.750,2,   68.080,2,   31.060,2,    0.010,2,    2.428,2, -999.000,9, -999.000,9, -999.000,9, -999.000,9, -999.000,9
           NA,    P10N,    137,   1,-999.0,     -99,  2,20050527,1451,  41.6347,  144.2257,  2554,  400.700,    1.957,   33.566,2,   33.574,2,  172.920,1,  175.600,2,   78.810,2,   33.920,2,    0.010,2,    2.605,2, -999.000,9, -999.000,9, -999.000,9, -999.000,9, -999.000,9
           NA,    P10N,    137,   1,-999.0,     -99,  2,20050527,1451,  41.6347,  144.2257,  2554,  499.600,    2.934,   33.794,2,   33.796,6,  106.640,1,  108.470,2,   93.540,2,   38.440,2,    0.000,2,    2.844,2, -999.000,9, -999.000,9, -999.000,9, -999.000,9, -999.000,9
           NA,    P10N,    137,   1,-999.0,     -99,  2,20050527,1451,  41.6347,  144.2257,  2554,  599.600,    3.083,   33.930,2,   33.937,2,   64.640,1,   63.520,2,  106.870,2,   41.640,2,    0.000,2,    3.035,2, -999.000,9, -999.000,9, -999.000,9, -999.000,9, -999.000,9
           NA,    P10N,    137,   1,-999.0,     -99,  2,20050527,1451,  41.6347,  144.2257,  2554,  701.000,    3.199,   34.042,2,   34.043,2,   44.840,1,   43.500,2,  116.200,2,   42.770,2,    0.000,2,    3.105,2, -999.000,9, -999.000,9, -999.000,9, -999.000,9, -999.000,9
           NA,    P10N,    137,   1,-999.0,     -99,  2,20050527,1451,  41.6347,  144.2257,  2554,  799.600,    3.224,   34.139,2,   34.155,2,   35.350,1,   35.900,2,  123.230,2,   42.860,2,    0.000,2,    3.104,2, -999.000,9, -999.000,9, -999.000,9, -999.000,9, -999.000,9
           NA,    P10N,    137,   1,-999.0,     -99,  2,20050527,1451,  41.6347,  144.2257,  2554,  900.200,    3.116,   34.232,2,   34.229,2,   30.900,1,   28.990,2,  133.670,2,   43.450,2,    0.000,2,    3.130,2, -999.000,9, -999.000,9, -999.000,9, -999.000,9, -999.000,9
           NA,    P10N,    137,   1,-999.0,     -99,  2,20050527,1451,  41.6347,  144.2257,  2554, 1000.700,    2.941,   34.280,2,   34.283,6,   31.330,1,   29.910,2,  139.870,2,   43.340,2,    0.000,2,    3.134,2, -999.000,9, -999.000,9, -999.000,9, -999.000,9, -999.000,9
           NA,    P10N,    137,   1,-999.0,     -99,  2,20050527,1451,  41.6347,  144.2257,  2554, 1200.400,    2.659,   34.382,2,   34.382,2,   33.960,1,   32.280,6,  151.260,2,   43.240,2,    0.000,2,    3.124,2, -999.000,9, -999.000,9, -999.000,9, -999.000,9, -999.000,9
           NA,    P10N,    137,   1,-999.0,     -99,  2,20050527,1451,  41.6347,  144.2257,  2554, 1400.100,    2.558,   34.461,2,   34.462,6,   42.180,1,   41.650,2,  153.580,2,   42.790,2,    0.000,2,    3.086,2, -999.000,9, -999.000,9, -999.000,9, -999.000,9, -999.000,9
           NA,    P10N,    137,   1,-999.0,     -99,  2,20050527,1451,  41.6347,  144.2257,  2554, 1600.900,    2.377,   34.512,2,   34.511,2,   49.890,1,   48.510,2,  157.370,2,   42.510,2,    0.000,2,    3.052,2, -999.000,9, -999.000,9, -999.000,9, -999.000,9, -999.000,9
           NA,    P10N,    137,   1,-999.0,     -99,  2,20050527,1451,  41.6347,  144.2257,  2554, 1801.100,    2.221,   34.547,2,   34.548,2,   58.810,1,   57.840,2,  159.560,2,   42.020,2,    0.000,2,    3.012,2, -999.000,9, -999.000,9, -999.000,9, -999.000,9, -999.000,9
           NA,    P10N,    137,   1,-999.0,     -99,  2,20050527,1451,  41.6347,  144.2257,  2554, 2000.800,    2.003,   34.577,2,   34.577,2,   69.500,1,   69.140,2,  164.300,2,   41.320,2,    0.000,2,    2.962,2, -999.000,9, -999.000,9, -999.000,9, -999.000,9, -999.000,9
           NA,    P10N,    137,   1,-999.0,     -99,  2,20050527,1451,  41.6347,  144.2257,  2554, 2200.600,    1.857,   34.607,2,   34.609,6,   84.110,1,   84.860,2,  164.020,2,   40.390,2,    0.000,2,    2.886,2, -999.000,9, -999.000,9, -999.000,9, -999.000,9, -999.000,9
           NA,    P10N,    137,   1,-999.0,     -99,  2,20050527,1451,  41.6347,  144.2257,  2554, 2400.700,    1.683,   34.638,2,   34.639,2,  104.080,1,  105.120,2,  161.460,2,   39.180,2,    0.000,2,    2.788,2, -999.000,9, -999.000,9, -999.000,9, -999.000,9, -999.000,9
           NA,    P10N,    137,   1,-999.0,     -99,  2,20050527,1451,  41.6347,  144.2257,  2554, 2569.100,    1.588,   34.653,2,   34.653,6,  116.080,1,  117.340,6,  159.940,2,   38.350,2,    0.000,2,    2.732,2, -999.000,9, -999.000,9, -999.000,9, -999.000,9, -999.000,9
           NA,    P10N,    138,   1,-999.0,     -99,  2,20050527,1139,  41.7575,  144.1290,  1462,   10.400,    4.048,   32.806,2,   32.834,2,  440.720,1,  433.710,6,    1.510,2,    2.150,2,    0.060,2,    0.386,2,    5.550,2,    2.911,2, -999.000,9, 1988.100,2, 2248.700,2
           NA,    P10N,    138,   1,-999.0,     -99,  2,20050527,1139,  41.7575,  144.1290,  1462,   50.300,    1.759,   33.082,2, -999.000,4,  318.030,1,  319.130,2,   34.330,2,   19.310,2,    0.200,2,    1.679,2,    5.444,2,    2.853,2, -999.000,9, 2134.000,6, 2249.000,2
           NA,    P10N,    138,   1,-999.0,     -99,  2,20050527,1139,  41.7575,  144.1290,  1462,  100.300,    1.290,   33.202,2,   33.206,2,  298.740,1, -999.000,5,   47.710,2,   24.880,2,    0.190,2,    2.018,2,    5.417,2,    2.846,2, -999.000,9, 2162.500,2, 2251.800,6
           NA,    P10N,    138,   1,-999.0,     -99,  3,20050527,1139,  41.7575,  144.1290,  1462,  150.100,    1.744,   33.314,2,   33.305,2,  271.700,1,  278.390,2,   52.340,2,   26.400,2,    0.050,2,    2.099,2,    5.019,2,    2.621,2, -999.000,9, 2176.100,2, 2257.400,2
           NA,    P10N,    138,   1,-999.0,     -99,  2,20050527,1139,  41.7575,  144.1290,  1462,  199.800,    1.253,   33.322,2,   33.321,2,  253.350,1,  259.390,2,   58.590,2,   28.380,2,    0.030,2,    2.252,2,    4.852,2,    2.555,2, -999.000,9, 2199.600,2, 2263.200,2
           NA,    P10N,    138,   1,-999.0,     -99,  2,20050527,1139,  41.7575,  144.1290,  1462,  251.600,    1.423,   33.394,2,   33.398,2,  228.590,1,  232.770,2,   65.220,2,   30.320,2,    0.020,2,    2.374,2,    4.595,6,    2.368,6, -999.000,9, 2214.100,2, 2269.000,2
           NA,    P10N,    138,   1,-999.0,     -99,  2,20050527,1139,  41.7575,  144.1290,  1462,  299.600,    1.576,   33.449,2,   33.452,2,  210.740,1,  215.440,2,   69.120,2,   31.390,2,    0.010,2,    2.438,2,    4.348,2,    2.237,2, -999.000,9, 2225.400,2, -999.000,4
           NA,    P10N,    138,   1,-999.0,     -99,  2,20050527,1139,  41.7575,  144.1290,  1462,  400.300,    2.213,   33.569,2,   33.565,2,  177.810,1,  180.800,2,   75.930,2,   33.480,2,    0.000,2,    2.556,2,    4.049,2,    1.951,2, -999.000,9, 2247.000,2, 2283.300,2
           NA,    P10N,    138,   1,-999.0,     -99,  2,20050527,1139,  41.7575,  144.1290,  1462,  499.900,    2.862,   33.781,2,   33.788,6,  109.860,1,  109.260,2,   93.200,2,   38.480,2,    0.000,2,    2.828,2,    2.469,2,    1.294,2, -999.000,9, 2292.300,2, 2300.200,2
           NA,    P10N,    138,   1,-999.0,     -99,  2,20050527,1139,  41.7575,  144.1290,  1462,  603.500,    3.118,   33.917,2,   33.921,2,   72.590,1,   71.790,2,  103.800,2,   40.990,2,    0.000,2,    2.975,2,    1.999,2,    0.954,2, -999.000,9, 2317.900,2, 2313.600,2
           NA,    P10N,    138,   1,-999.0,     -99,  2,20050527,1139,  41.7575,  144.1290,  1462,  700.000,    3.124,   34.034,2,   34.039,2,   46.980,1,   45.800,2,  116.920,2,   42.650,2,    0.000,2,    3.084,2,    1.373,2,    0.665,2, -999.000,9, 2342.900,6, 2330.100,2
           NA,    P10N,    138,   1,-999.0,     -99,  2,20050527,1139,  41.7575,  144.1290,  1462,  800.600,    3.136,   34.138,2,   34.141,2,   35.170,1,   33.310,2,  126.240,2,   43.440,2,    0.000,2,    3.126,2,    0.918,2,    0.438,2, -999.000,9, 2355.800,2, 2340.700,6
           NA,    P10N,    138,   1,-999.0,     -99,  2,20050527,1139,  41.7575,  144.1290,  1462,  901.100,    3.060,   34.224,2,   34.228,2,   30.170,1,   27.650,2,  134.440,2,   43.750,2,    0.000,2,    3.143,2,    0.628,2,    0.284,2, -999.000,9, 2366.100,2, 2354.700,2
           NA,    P10N,    138,   1,-999.0,     -99,  2,20050527,1139,  41.7575,  144.1290,  1462, 1003.300,    2.897,   34.300,2,   34.299,6,   28.250,1,   26.340,2,  142.090,2,   43.580,2,    0.000,2,    3.143,2,    0.404,2,    0.199,2, -999.000,9, 2375.500,2, 2364.100,2
           NA,    P10N,    138,   1,-999.0,     -99,  2,20050527,1139,  41.7575,  144.1290,  1462, 1200.100,    2.658,   34.384,2,   34.383,2,   36.080,1,   34.170,6,  150.520,2,   43.220,2,    0.000,2,    3.114,2,    0.441,2,    0.135,2, -999.000,9, 2378.200,2, 2380.700,2
           NA,    P10N,    138,   1,-999.0,     -99,  2,20050527,1139,  41.7575,  144.1290,  1462, 1400.400,    2.345,   34.477,2,   34.477,2,   46.240,1,   44.680,2,  159.830,2,   42.630,2,    0.010,2,    3.075,2, -999.000,9, -999.000,9, -999.000,9, 2382.500,2, 2395.000,2
           NA,    P10N,    138,   1,-999.0,     -99,  2,20050527,1139,  41.7575,  144.1290,  1462, 1463.100,    2.314,   34.487,2,   34.487,6,   47.860,1,   47.710,6,  160.100,2,   42.600,2,    0.000,2,    3.063,2, -999.000,9, -999.000,9, -999.000,9, 2383.600,2, 2398.900,2
           NA,    P10N,    139,   1,-999.0,     -99,  2,20050527,0911,  41.8793,  144.0305,   948,   10.200,    4.740,   32.952,2,   32.917,2,  386.920,1,  393.700,6,    5.660,2,    5.830,2,    0.150,2,    0.724,2, -999.000,9, -999.000,9, -999.000,9, 2048.400,2, 2251.500,2
           NA,    P10N,    139,   1,-999.0,     -99,  2,20050527,0911,  41.8793,  144.0305,   948,   50.300,    1.584,   32.981,2,   33.003,2,  328.470,1,  334.500,2,   33.890,2,   18.750,2,    0.190,2,    1.707,2, -999.000,9, -999.000,9, -999.000,9, 2130.000,6, 2243.600,2
           NA,    P10N,    139,   1,-999.0,     -99,  2,20050527,0911,  41.8793,  144.0305,   948,  100.600,    1.564,   33.218,2,   33.210,2,  299.330,1,  306.650,2,   47.220,2,   24.590,2,    0.170,2,    2.011,2, -999.000,9, -999.000,9, -999.000,9, 2161.300,2, 2254.100,6
           NA,    P10N,    139,   1,-999.0,     -99,  2,20050527,0911,  41.8793,  144.0305,   948,  150.200,    1.129,   33.265,2,   33.274,2,  268.100,1,  271.010,2,   55.980,2,   27.410,2,    0.060,2,    2.203,2, -999.000,9, -999.000,9, -999.000,9, 2190.100,2, 2259.700,2
           NA,    P10N,    139,   1,-999.0,     -99,  2,20050527,0911,  41.8793,  144.0305,   948,  200.300,    1.109,   33.306,2,   33.309,2,  251.670,1,  257.940,2,   59.210,2,   28.210,2,    0.050,2,    2.262,2, -999.000,9, -999.000,9, -999.000,9, 2197.100,2, 2264.300,2
           NA,    P10N,    139,   1,-999.0,     -99,  2,20050527,0911,  41.8793,  144.0305,   948,  250.900,    1.277,   33.373,2,   33.381,2,  231.540,1,  236.050,2,   64.910,2,   29.720,2,    0.020,2,    2.358,2, -999.000,9, -999.000,9, -999.000,9, 2214.400,2, 2270.200,2
           NA,    P10N,    139,   1,-999.0,     -99,  3,20050527,0911,  41.8793,  144.0305,   948,  301.400,    1.632,   33.472,2,   33.474,2,  201.790,1,  206.720,2,   71.580,2,   31.780,2,    0.010,2,    2.490,2, -999.000,9, -999.000,9, -999.000,9, 2234.600,2, 2277.400,2
           NA,    P10N,    139,   1,-999.0,     -99,  2,20050527,0911,  41.8793,  144.0305,   948,  400.600,    1.978,   33.557,2,   33.560,2,  176.250,1,  179.770,2,   77.420,2,   33.530,2,    0.010,2,    2.590,2, -999.000,9, -999.000,9, -999.000,9, 2249.700,2, 2283.800,2
           NA,    P10N,    139,   1,-999.0,     -99,  3,20050527,0911,  41.8793,  144.0305,   948,  500.800,    2.677,   33.762,2,   33.775,6,  109.750,1,  106.910,2,   93.890,2,   38.720,2,    0.010,2,    2.876,2, -999.000,9, -999.000,9, -999.000,9, 2294.600,2, 2301.800,2
           NA,    P10N,    139,   1,-999.0,     -99,  2,20050527,0911,  41.8793,  144.0305,   948,  600.300,    2.980,   33.933,2,   33.941,2,   67.890,1,   67.130,2,  107.960,2,   41.070,2,    0.000,2,    3.020,2, -999.000,9, -999.000,9, -999.000,9, 2325.800,2, 2315.200,2
           NA,    P10N,    139,   1,-999.0,     -99,  2,20050527,0911,  41.8793,  144.0305,   948,  702.700,    3.220,   34.098,2,   34.101,2,   39.420,1,   37.730,2,  120.540,2,   42.870,2,    0.010,2,    3.115,2, -999.000,9, -999.000,9, -999.000,9, 2348.800,6, 2337.100,2
           NA,    P10N,    139,   1,-999.0,     -99,  2,20050527,0911,  41.8793,  144.0305,   948,  802.200,    3.126,   34.175,2,   34.174,2,   32.000,1,   29.940,2,  128.960,2,   43.380,2,    0.010,2,    3.148,2, -999.000,9, -999.000,9, -999.000,9, 2360.500,2, 2348.100,6
           NA,    P10N,    139,   1,-999.0,     -99,  2,20050527,0911,  41.8793,  144.0305,   948,  900.800,    3.001,   34.244,2,   34.245,2,   30.970,1,   29.020,2,  136.280,2,   43.290,2,    0.000,2,    3.137,2, -999.000,9, -999.000,9, -999.000,9, 2367.500,2, 2359.600,2
           NA,    P10N,    139,   1,-999.0,     -99,  2,20050527,0911,  41.8793,  144.0305,   948,  948.800,    2.891,   34.302,2,   34.302,6,   29.010,1,   26.610,6,  142.750,2,   43.510,2,    0.000,2,    3.153,2, -999.000,9, -999.000,9, -999.000,9, 2375.500,2, 2363.500,2
           NA,    P10N,    140,   1,-999.0,     -99,  2,20050527,0648,  42.0035,  143.9308,  1034,   10.500,    5.579,   32.957,2,   32.999,2,  352.910,1,  354.540,6,    1.900,2,    3.100,2,    0.100,2,    0.502,2,    5.065,2,    2.676,2, -999.000,9, 2016.700,2, 2251.000,2
           NA,    P10N,    140,   1,-999.0,     -99,  2,20050527,0648,  42.0035,  143.9308,  1034,   50.500,    4.287,   33.317,2,   33.227,2,  300.150,1,  309.290,2,   22.780,2,   17.780,2,    0.230,2,    1.606,2,    5.358,2,    2.811,2, -999.000,9, 2130.300,6, 2251.800,2
           NA,    P10N,    140,   1,-999.0,     -99,  2,20050527,0648,  42.0035,  143.9308,  1034,  100.700,    1.849,   33.219,2,   33.215,2,  299.920,1,  307.860,2,   41.020,2,   23.210,2,    0.330,2,    1.930,2,    5.480,2,    2.876,2, -999.000,9, 2153.900,2, 2248.800,6
           NA,    P10N,    140,   1,-999.0,     -99,  2,20050527,0648,  42.0035,  143.9308,  1034,  150.700,    1.071,   33.204,2,   33.210,2,  295.840,1,  302.830,2,   51.500,2,   27.280,2,    0.110,2,    2.174,2,    5.473,2,    2.862,2, -999.000,9, 2171.000,2, 2254.500,2
           NA,    P10N,    140,   1,-999.0,     -99,  2,20050527,0648,  42.0035,  143.9308,  1034,  200.100,    1.355,   33.292,2,   33.301,2,  269.290,1,  274.550,2,   57.850,2,   29.080,2,    0.040,2,    2.280,2,    5.063,2,    2.639,2, -999.000,9, 2187.900,2, 2262.200,2
           NA,    P10N,    140,   1,-999.0,     -99,  2,20050527,0648,  42.0035,  143.9308,  1034,  250.800,    1.958,   33.426,2,   33.436,2,  224.860,1,  230.040,2,   65.440,2,   30.820,2,    0.030,2,    2.383,2,    4.645,2,    2.324,2, -999.000,9, 2211.100,2, 2272.500,2
           NA,    P10N,    140,   1,-999.0,     -99,  2,20050527,0648,  42.0035,  143.9308,  1034,  300.500,    2.476,   33.541,2,   33.546,2,  194.900,1,  198.320,2,   69.580,2,   31.890,2,    0.020,2,    2.439,2,    4.004,2,    2.019,2, -999.000,9, 2227.900,2, 2281.400,2
           NA,    P10N,    140,   1,-999.0,     -99,  2,20050527,0648,  42.0035,  143.9308,  1034,  401.700,    2.473,   33.660,2,   33.662,2,  137.890,1,  140.280,2,   84.690,2,   36.600,2,    0.010,2,    2.743,2,    3.426,2,    1.664,2, -999.000,9, 2271.700,2, 2291.300,2
           NA,    P10N,    140,   1,-999.0,     -99,  3,20050527,0648,  42.0035,  143.9308,  1034,  500.800,    3.183,   33.874,2,   33.867,6,   71.650,1,   72.280,2,   99.930,2,   41.340,2,    0.000,2,    3.009,2,    2.134,2,    1.055,2, -999.000,9, 2315.200,2, 2308.500,2
           NA,    P10N,    140,   1,-999.0,     -99,  2,20050527,0648,  42.0035,  143.9308,  1034,  600.400,    3.226,   33.974,2,   33.977,2,   52.420,1,   51.470,2,  109.790,2,   42.530,2,    0.000,2,    3.077,2,    1.685,2,    0.801,2, -999.000,9, 2332.700,2, 2317.600,2
           NA,    P10N,    140,   1,-999.0,     -99,  2,20050527,0648,  42.0035,  143.9308,  1034,  701.700,    3.265,   34.070,2,   34.070,2,   38.430,1,   37.750,2,  118.040,2,   43.260,2,    0.000,2,    3.123,2,    1.251,2,    0.560,2, -999.000,9, 2345.800,6, 2331.500,2
           NA,    P10N,    140,   1,-999.0,     -99,  2,20050527,0648,  42.0035,  143.9308,  1034,  800.300,    3.301,   34.172,2,   34.172,2,   38.400,1,   37.070,2,  125.060,2,   42.720,2,    0.010,2,    3.103,2,    0.929,6,    0.408,6, -999.000,9, 2351.700,2, 2343.800,6
           NA,    P10N,    140,   1,-999.0,     -99,  2,20050527,0648,  42.0035,  143.9308,  1034,  901.900,    2.839,   34.317,2,   34.317,2,   33.310,1,   32.040,2,  144.170,2,   43.080,2,    0.010,2,    3.137,2, -999.000,5, -999.000,5, -999.000,9, 2376.300,2, 2366.000,2
           NA,    P10N,    140,   1,-999.0,     -99,  2,20050527,0648,  42.0035,  143.9308,  1034, 1001.200,    2.776,   34.351,2,   34.351,6,   33.610,1,   33.190,2,  147.660,2,   43.050,2,    0.020,2,    3.132,2, -999.000,5, -999.000,5, -999.000,9, 2378.400,2, 2372.900,2
           NA,    P10N,    140,   1,-999.0,     -99,  2,20050527,0648,  42.0035,  143.9308,  1034, 1036.500,    2.767,   34.362,2,   34.361,6,   34.750,1,   32.400,6,  147.620,2,   42.930,2,    0.020,2,    3.128,2,    0.401,2,    0.148,2, -999.000,9, 2378.500,2, 2373.500,2