BOTTLE,20214413JOAExport
EXPOCODE,SECT_ID,STNNBR,CASTNO,SAMPNO,BTLNBR,BTLNBR_FLAG_W,DATE,TIME,LATITUDE,LONGITUDE,DEPTH,CTDPRS,CTDTMP,CTDSAL,CTDSAL_FLAG_W,SALNTY,SALNTY_FLAG_W,CTDOXY,CTDOXY_FLAG_W,OXYGEN,OXYGEN_FLAG_W,SILCAT,SILCAT_FLAG_W,NITRAT,NITRAT_FLAG_W,NITRIT,NITRIT_FLAG_W,PHSPHT,PHSPHT_FLAG_W,CFC-11,CFC-11_FLAG_W,CFC-12,CFC-12_FLAG_W,SF6,SF6_FLAG_W,TCARBN,TCARBN_FLAG_W,ALKALI,ALKALI_FLAG_W
,,,,,,,,,,,,,DB,ITS-90,PSS-78,,PSS-78,,UMOL/KG,,UMOL/KG,,UMOL/KG,,UMOL/KG,,UMOL/KG,,UMOL/KG,,PMOL/KG,,PMOL/KG,,FMOL/KG,,UMOL/KG,,UMOL/KG
           NA,     P10,     37,   1,-999.0,     -99,  2,20050619,2322,   6.5098,  148.4795,  3161,    9.400,   29.669,   34.057,2,   34.055,2,  171.490,1,  194.920,6,    0.960,2,    0.030,2,    0.000,2,    0.115,2,    1.416,2,    0.864,2, -999.000,9, -999.000,9, -999.000,9
           NA,     P10,     37,   1,-999.0,     -99,  2,20050619,2322,   6.5098,  148.4795,  3161,   49.700,   29.639,   34.139,2,   34.200,2,  172.600,1,  196.650,2,    0.930,2,    0.010,2,    0.000,2,    0.118,2,    1.438,2,    0.877,2, -999.000,9, -999.000,9, -999.000,9
           NA,     P10,     37,   1,-999.0,     -99,  2,20050619,2322,   6.5098,  148.4795,  3161,  100.100,   24.624,   34.595,2,   34.607,2,  148.180,1,  166.200,2,    3.800,2,    3.250,2,    0.290,2,    0.388,2,    1.723,2,    1.007,2, -999.000,9, -999.000,9, -999.000,9
           NA,     P10,     37,   1,-999.0,     -99,  2,20050619,2322,   6.5098,  148.4795,  3161,  149.400,   17.150,   34.699,2,   34.689,2,  114.250,1,  131.440,2,   12.690,2,   13.790,2,    0.020,2,    1.070,2,    1.863,2,    1.026,2, -999.000,9, -999.000,9, -999.000,9
           NA,     P10,     37,   1,-999.0,     -99,  2,20050619,2322,   6.5098,  148.4795,  3161,  198.900,   12.880,   34.569,2,   34.566,2,   86.460,1,   99.610,2,   22.640,2,   22.350,2,    0.010,2,    1.664,2,    1.449,2,    0.765,2, -999.000,9, -999.000,9, -999.000,9
           NA,     P10,     37,   1,-999.0,     -99,  2,20050619,2322,   6.5098,  148.4795,  3161,  248.900,   10.748,   34.558,2,   34.559,2,   61.370,1,   67.840,2,   31.130,2,   29.200,2,    0.010,2,    2.142,2,    0.845,6,    0.416,6, -999.000,9, -999.000,9, -999.000,9
           NA,     P10,     37,   1,-999.0,     -99,  2,20050619,2322,   6.5098,  148.4795,  3161,  298.400,    9.781,   34.584,2,   34.589,2,   51.330,1,   57.200,2,   35.490,2,   32.250,2,    0.010,2,    2.343,2,    0.482,2,    0.231,2, -999.000,9, -999.000,9, -999.000,9
           NA,     P10,     37,   1,-999.0,     -99,  2,20050619,2322,   6.5098,  148.4795,  3161,  398.700,    8.598,   34.605,2,   34.603,2,   55.900,1,   65.260,2,   38.730,2,   33.830,2,    0.010,2,    2.436,2,    0.277,2,    0.136,2, -999.000,9, -999.000,9, -999.000,9
           NA,     P10,     37,   1,-999.0,     -99,  2,20050619,2322,   6.5098,  148.4795,  3161,  499.800,    7.894,   34.584,2,   34.582,6,   68.280,1,   79.280,2,   41.370,2,   34.010,2,    0.010,2,    2.447,2,    0.238,2,    0.113,2, -999.000,9, -999.000,9, -999.000,9
           NA,     P10,     37,   1,-999.0,     -99,  2,20050619,2322,   6.5098,  148.4795,  3161,  598.900,    7.094,   34.547,2,   34.546,2,   58.470,1,   68.390,2,   53.460,2,   36.180,2,    0.010,2,    2.624,2,    0.125,2,    0.066,2, -999.000,9, -999.000,9, -999.000,9
           NA,     P10,     37,   1,-999.0,     -99,  2,20050619,2322,   6.5098,  148.4795,  3161,  700.200,    6.256,   34.536,2,   34.535,2,   59.480,1,   69.320,2,   64.250,2,   37.560,2,    0.010,2,    2.734,2,    0.058,2,    0.032,2, -999.000,9, -999.000,9, -999.000,9
           NA,     P10,     37,   1,-999.0,     -99,  2,20050619,2322,   6.5098,  148.4795,  3161,  800.700,    5.612,   34.539,2,   34.538,2,   62.360,1,   72.890,2,   73.500,2,   38.210,2,    0.000,2,    2.775,2,    0.034,6,    0.022,6, -999.000,9, -999.000,9, -999.000,9
           NA,     P10,     37,   1,-999.0,     -99,  2,20050619,2322,   6.5098,  148.4795,  3161,  897.400,    4.940,   34.546,2,   34.547,2,   70.890,1,   83.750,2,   83.880,2,   38.160,2,    0.000,2,    2.754,2,    0.021,2,    0.017,2, -999.000,9, -999.000,9, -999.000,9
           NA,     P10,     37,   1,-999.0,     -99,  2,20050619,2322,   6.5098,  148.4795,  3161, 1001.500,    4.557,   34.554,2,   34.554,6,   72.630,1,   86.050,2,   90.200,2,   38.500,2,    0.010,2,    2.786,2,    0.010,2,    0.010,2, -999.000,9, -999.000,9, -999.000,9
           NA,     P10,     37,   1,-999.0,     -99,  2,20050619,2322,   6.5098,  148.4795,  3161, 1200.600,    3.797,   34.573,2,   34.574,2,   75.960,1,   90.760,6,  105.620,2,   38.840,2,    0.010,2,    2.810,2,    0.002,2,    0.004,2, -999.000,9, -999.000,9, -999.000,9
           NA,     P10,     37,   1,-999.0,     -99,  2,20050619,2322,   6.5098,  148.4795,  3161, 1399.600,    3.250,   34.592,2,   34.592,2,   79.070,1,   95.100,2,  117.180,2,   38.870,2,    0.010,2,    2.806,2,   -0.003,2,   -0.001,2, -999.000,9, -999.000,9, -999.000,9
           NA,     P10,     37,   1,-999.0,     -99,  2,20050619,2322,   6.5098,  148.4795,  3161, 1601.300,    2.696,   34.614,2,   34.614,2,   82.800,1,  100.490,2,  129.320,2,   39.140,2,    0.010,2,    2.813,2,    0.001,2,    0.001,2, -999.000,9, -999.000,9, -999.000,9
           NA,     P10,     37,   1,-999.0,     -99,  2,20050619,2322,   6.5098,  148.4795,  3161, 1799.300,    2.501,   34.624,2,   34.624,6,   85.900,1,  104.680,2,  133.430,2,   39.000,2,    0.000,2,    2.796,2,   -0.001,2,    0.001,2, -999.000,9, -999.000,9, -999.000,9
           NA,     P10,     37,   1,-999.0,     -99,  2,20050619,2322,   6.5098,  148.4795,  3161, 2002.400,    2.298,   34.634,2,   34.634,2,   89.230,1,  109.160,2,  137.330,2,   38.660,2,    0.010,2,    2.774,2,    0.003,2,    0.007,2, -999.000,9, -999.000,9, -999.000,9
           NA,     P10,     37,   1,-999.0,     -99,  2,20050619,2322,   6.5098,  148.4795,  3161, 2198.900,    2.140,   34.642,2,   34.642,2,   92.350,1,  113.280,2,  140.700,2,   38.580,2,    0.010,2,    2.752,2,   -0.001,2,   -0.001,2, -999.000,9, -999.000,9, -999.000,9
           NA,     P10,     37,   1,-999.0,     -99,  2,20050619,2322,   6.5098,  148.4795,  3161, 2399.800,    1.925,   34.654,2,   34.655,2,   99.510,1,  122.920,2,  143.000,2,   37.970,2,    0.010,2,    2.703,2, -999.000,9, -999.000,9, -999.000,9, -999.000,9, -999.000,9
           NA,     P10,     37,   1,-999.0,     -99,  2,20050619,2322,   6.5098,  148.4795,  3161, 2600.000,    1.777,   34.662,2,   34.663,6,  105.060,1,  130.010,2,  144.450,2,   37.510,2,    0.000,2,    2.664,2, -999.000,9, -999.000,9, -999.000,9, -999.000,9, -999.000,9
           NA,     P10,     37,   1,-999.0,     -99,  2,20050619,2322,   6.5098,  148.4795,  3161, 2803.000,    1.686,   34.668,2,   34.669,2,  110.330,1,  136.370,2,  143.830,2,   36.990,2,    0.000,2,    2.624,2, -999.000,9, -999.000,9, -999.000,9, -999.000,9, -999.000,9
           NA,     P10,     37,   1,-999.0,     -99,  2,20050619,2322,   6.5098,  148.4795,  3161, 3002.000,    1.617,   34.673,2,   34.674,2,  114.600,1,  141.820,6,  143.670,2,   36.720,2,    0.000,2,    2.600,2, -999.000,9, -999.000,9, -999.000,9, -999.000,9, -999.000,9
           NA,     P10,     37,   1,-999.0,     -99,  2,20050619,2322,   6.5098,  148.4795,  3161, 3252.700,    1.597,   34.675,2,   34.676,2,  116.870,1,  144.260,2,  143.420,2,   36.500,2,    0.000,2,    2.573,2, -999.000,9, -999.000,9, -999.000,9, -999.000,9, -999.000,9
           NA,     P10,     37,   1,-999.0,     -99,  2,20050619,2322,   6.5098,  148.4795,  3161, 3370.600,    1.529,   34.681,2,   34.680,6,  121.290,1,  149.120,6,  142.740,2,   36.050,2,    0.000,2,    2.552,2, -999.000,9, -999.000,9, -999.000,9, -999.000,9, -999.000,9
           NA,     P10,     37,   1,-999.0,     -99,  2,20050619,2322,   6.5098,  148.4795,  3161, 3370.900,    1.527,   34.681,2,   34.681,2,  121.300,1,  148.950,2,  143.110,2,   36.230,2,    0.000,2,    2.559,2, -999.000,9, -999.000,9, -999.000,9, -999.000,9, -999.000,9
           NA,     P10,     38,   1,-999.0,     -99,  2,20050619,1830,   6.9983,  148.6847,  3388,    9.700,   29.457,   34.010,2,   34.007,2,  172.000,1,  195.220,6,    0.880,2,    0.050,2,    0.000,2,    0.101,2,    1.388,2,    0.846,2, -999.000,9, 1895.400,2, 2238.400,2
           NA,     P10,     38,   1,-999.0,     -99,  2,20050619,1830,   6.9983,  148.6847,  3388,   49.800,   29.475,   34.015,2,   34.047,2,  171.990,1,  195.350,2,    0.860,2,    0.030,2,    0.000,2,    0.099,2,    1.405,2,    0.850,2, -999.000,9, 1900.000,6, 2241.100,2
           NA,     P10,     38,   1,-999.0,     -99,  2,20050619,1830,   6.9983,  148.6847,  3388,  100.000,   25.103,   34.584,2,   34.591,2,  150.400,1,  171.470,2,    3.290,2,    2.490,2,    0.320,2,    0.341,2,    1.688,2,    0.991,2, -999.000,9, 1997.000,2, 2281.100,6
           NA,     P10,     38,   1,-999.0,     -99,  2,20050619,1830,   6.9983,  148.6847,  3388,  149.900,   17.442,   34.711,2,   34.696,2,  117.040,1,  133.090,2,   12.260,2,   13.370,2,    0.020,2,    1.038,2,    1.907,2,    1.026,2, -999.000,9, 2105.500,2, 2293.100,2
           NA,     P10,     38,   1,-999.0,     -99,  2,20050619,1830,   6.9983,  148.6847,  3388,  199.100,   13.597,   34.583,2,   34.570,2,   93.600,1,  104.470,2,   21.060,2,   21.100,2,    0.010,2,    1.590,2,    1.542,2,    0.800,2, -999.000,9, 2160.600,2, 2293.900,2
           NA,     P10,     38,   1,-999.0,     -99,  2,20050619,1830,   6.9983,  148.6847,  3388,  250.200,   10.780,   34.549,2,   34.550,2,   54.550,1,   62.790,2,   30.310,2,   29.330,2,    0.010,2,    2.170,2,    0.818,6,    0.394,6, -999.000,9, 2219.100,2, 2299.300,2
           NA,     P10,     38,   1,-999.0,     -99,  2,20050619,1830,   6.9983,  148.6847,  3388,  303.000,    9.597,   34.593,2,   34.591,2,   47.390,1,   53.990,2,   35.600,2,   32.600,2,    0.000,2,    2.375,2,    0.418,2,    0.195,2, -999.000,9, 2239.000,2, 2304.700,2
           NA,     P10,     38,   1,-999.0,     -99,  2,20050619,1830,   6.9983,  148.6847,  3388,  400.700,    8.542,   34.589,2,   34.588,2,   52.920,1,   61.000,2,   40.450,2,   34.180,2,    0.000,2,    2.470,2,    0.233,2,    0.107,2, -999.000,9, 2247.100,2, 2313.400,2
           NA,     P10,     38,   1,-999.0,     -99,  2,20050619,1830,   6.9983,  148.6847,  3388,  501.700,    8.079,   34.588,2,   34.586,6,   66.470,1,   77.110,2,   40.560,2,   33.760,2,    0.010,2,    2.432,2,    0.229,2,    0.110,2, -999.000,9, 2242.900,2, 2314.100,2
           NA,     P10,     38,   1,-999.0,     -99,  2,20050619,1830,   6.9983,  148.6847,  3388,  600.700,    7.469,   34.558,2,   34.556,2,   66.200,1,   77.100,2,   47.300,2,   34.750,2,    0.000,2,    2.514,2,    0.170,2,    0.078,2, -999.000,9, 2251.100,2, 2318.400,2
           NA,     P10,     38,   1,-999.0,     -99,  2,20050619,1830,   6.9983,  148.6847,  3388,  701.100,    6.601,   34.539,2,   34.538,2,   64.350,1,   75.370,2,   58.050,2,   36.440,2,    0.000,2,    2.646,2,    0.097,2,    0.045,2, -999.000,9, 2267.300,6, 2328.400,2
           NA,     P10,     38,   1,-999.0,     -99,  2,20050619,1830,   6.9983,  148.6847,  3388,  799.400,    5.965,   34.536,2,   34.536,2,   68.000,1,   79.840,2,   65.960,2,   37.210,2,    0.000,2,    2.701,2,    0.060,6,    0.027,6, -999.000,9, 2276.000,2, 2337.000,6
           NA,     P10,     38,   1,-999.0,     -99,  2,20050619,1830,   6.9983,  148.6847,  3388,  901.000,    5.061,   34.545,2,   34.544,2,   67.550,1,   79.430,2,   81.820,2,   38.280,2,    0.010,2,    2.773,2,    0.026,2,    0.012,2, -999.000,9, 2294.200,2, 2355.000,2
           NA,     P10,     38,   1,-999.0,     -99,  2,20050619,1830,   6.9983,  148.6847,  3388, 1000.300,    4.501,   34.555,2,   34.555,6,   73.480,1,   87.080,2,   91.520,2,   38.500,2,    0.000,2,    2.782,2,    0.018,2,    0.012,2, -999.000,9, 2301.500,2, 2364.300,2
           NA,     P10,     38,   1,-999.0,     -99,  2,20050619,1830,   6.9983,  148.6847,  3388, 1201.000,    3.729,   34.576,2,   34.576,2,   76.350,1,   91.330,6,  107.220,2,   38.800,2,    0.010,2,    2.812,2,    0.002,2,    0.006,2, -999.000,9, 2317.500,2, 2380.000,2
           NA,     P10,     38,   1,-999.0,     -99,  2,20050619,1830,   6.9983,  148.6847,  3388, 1400.100,    3.269,   34.591,2,   34.591,2,   78.120,1,   93.800,2,  117.310,2,   39.090,2,    0.000,2,    2.821,2,    0.002,2,    0.000,2, -999.000,9, 2327.600,2, 2391.400,2
           NA,     P10,     38,   1,-999.0,     -99,  2,20050619,1830,   6.9983,  148.6847,  3388, 1603.100,    2.823,   34.609,2,   34.609,2,   82.000,1,   99.170,2,  126.620,2,   39.110,2,    0.000,2,    2.811,2,   -0.002,2,    0.000,2, -999.000,9, 2334.500,2, 2401.800,2
           NA,     P10,     38,   1,-999.0,     -99,  2,20050619,1830,   6.9983,  148.6847,  3388, 1800.600,    2.548,   34.621,2,   34.622,6,   85.850,1,  104.370,2,  132.380,2,   38.920,2,    0.000,2,    2.788,2,    0.001,2,    0.000,2, -999.000,9, 2338.400,2, 2407.900,2
           NA,     P10,     38,   1,-999.0,     -99,  2,20050619,1830,   6.9983,  148.6847,  3388, 2001.700,    2.216,   34.638,2,   34.637,2,   91.450,1,  111.850,2,  138.640,2,   38.560,2,    0.000,2,    2.755,2,   -0.001,2,    0.000,2, -999.000,9, 2340.900,2, 2413.600,2
           NA,     P10,     38,   1,-999.0,     -99,  2,20050619,1830,   6.9983,  148.6847,  3388, 2202.500,    2.030,   34.648,2,   34.648,2,   96.080,1,  118.130,2,  141.850,2,   38.250,2,    0.000,2,    2.729,2,    0.001,2,    0.005,2, -999.000,9, 2340.700,2, 2417.000,2
           NA,     P10,     38,   1,-999.0,     -99,  2,20050619,1830,   6.9983,  148.6847,  3388, 2402.400,    1.890,   34.656,2,   34.656,2,  101.250,1,  124.890,2,  142.490,2,   37.750,2,    0.000,2,    2.679,2, -999.000,9, -999.000,9, -999.000,9, 2338.600,6, 2421.100,2
           NA,     P10,     38,   1,-999.0,     -99,  2,20050619,1830,   6.9983,  148.6847,  3388, 2600.700,    1.798,   34.662,2,   34.661,6,  105.200,1,  130.100,2,  143.230,2,   37.440,2,    0.000,2,    2.658,2, -999.000,9, -999.000,9, -999.000,9, 2336.500,2, 2422.300,6
           NA,     P10,     38,   1,-999.0,     -99,  2,20050619,1830,   6.9983,  148.6847,  3388, 2800.500,    1.695,   34.668,2,   34.668,2,  110.250,1,  136.480,2,  143.550,2,   37.070,2,    0.000,2,    2.619,2, -999.000,9, -999.000,9, -999.000,9, 2335.000,2, 2420.500,2
           NA,     P10,     38,   1,-999.0,     -99,  2,20050619,1830,   6.9983,  148.6847,  3388, 3000.700,    1.628,   34.673,2,   34.673,2,  114.140,1,  141.130,6,  143.470,2,   36.730,2,    0.000,2,    2.598,2, -999.000,9, -999.000,9, -999.000,9, 2332.900,2, 2421.200,2
           NA,     P10,     38,   1,-999.0,     -99,  2,20050619,1830,   6.9983,  148.6847,  3388, 3251.200,    1.603,   34.676,2,   34.675,2,  116.920,1,  144.090,2,  143.260,2,   36.550,2,    0.000,2,    2.587,2, -999.000,9, -999.000,9, -999.000,9, 2330.600,2, 2421.100,2
           NA,     P10,     38,   1,-999.0,     -99,  2,20050619,1830,   6.9983,  148.6847,  3388, 3370.600,    1.613,   34.676,2,   34.676,2,  117.370,1,  144.080,2,  143.320,2,   36.460,2,    0.000,2,    2.580,2, -999.000,9, -999.000,9, -999.000,9, 2331.500,2, 2423.800,2
           NA,     P10,     38,   1,-999.0,     -99,  2,20050619,1830,   6.9983,  148.6847,  3388, 3371.100,    1.613,   34.676,2,   34.676,6,  117.400,1,  144.300,6,  142.900,2,   36.430,2,    0.000,2,    2.575,2, -999.000,9, -999.000,9, -999.000,9, 2331.000,2, 2423.900,2
           NA,     P10,     39,   1,-999.0,     -99,  2,20050619,1419,   7.5018,  148.9952,  1074,   10.500,   29.503,   33.956,2,   33.953,2,  172.180,1,  195.070,6,    0.840,2,    0.040,2,    0.000,2,    0.082,2,    1.383,2,    0.873,2, -999.000,9, 1890.200,2, 2234.600,2
           NA,     P10,     39,   1,-999.0,     -99,  2,20050619,1419,   7.5018,  148.9952,  1074,   50.100,   29.394,   33.961,2,   34.029,2,  172.050,1,  195.640,2,    0.850,2,    0.030,2,    0.000,2,    0.070,2,    1.419,2,    0.878,2, -999.000,9, 1898.900,6, 2239.400,2
           NA,     P10,     39,   1,-999.0,     -99,  2,20050619,1419,   7.5018,  148.9952,  1074,   99.600,   24.615,   34.649,2,   34.663,2,  152.270,1,  170.380,2,    3.450,2,    2.710,2,    0.280,2,    0.340,2,    1.755,2,    1.025,2, -999.000,9, 2010.400,2, 2284.600,6
           NA,     P10,     39,   1,-999.0,     -99,  2,20050619,1419,   7.5018,  148.9952,  1074,  150.100,   18.833,   34.756,2,   34.745,2,  123.360,1,  140.660,2,    9.310,2,   10.680,2,    0.020,2,    0.837,2,    1.954,2,    1.057,2, -999.000,9, 2085.400,2, 2293.600,2
           NA,     P10,     39,   1,-999.0,     -99,  2,20050619,1419,   7.5018,  148.9952,  1074,  199.800,   13.178,   34.563,2,   34.559,2,   87.950,1,  101.320,2,   21.060,2,   21.610,2,    0.010,2,    1.602,2,    1.538,2,    0.782,2, -999.000,9, 2166.000,2, 2292.400,2
           NA,     P10,     39,   1,-999.0,     -99,  2,20050619,1419,   7.5018,  148.9952,  1074,  249.100,   11.039,   34.556,2,   34.557,2,   60.810,1,   68.130,2,   29.830,2,   28.710,2,    0.010,2,    2.099,2,    0.872,6,    0.427,6, -999.000,9, 2214.900,2, 2297.800,2
           NA,     P10,     39,   1,-999.0,     -99,  2,20050619,1419,   7.5018,  148.9952,  1074,  302.000,    9.885,   34.592,2,   34.591,2,   47.670,1,   54.310,2,   34.480,2,   32.220,2,    0.000,2,    2.330,2,    0.478,2,    0.230,2, -999.000,9, 2239.300,2, 2302.700,2
           NA,     P10,     39,   1,-999.0,     -99,  2,20050619,1419,   7.5018,  148.9952,  1074,  401.600,    8.880,   34.598,2,   34.596,2,   47.150,1,   53.890,2,   38.870,2,   34.200,2,    0.010,2,    2.455,2,    0.256,2,    0.122,2, -999.000,9, 2250.700,2, 2311.600,2
           NA,     P10,     39,   1,-999.0,     -99,  2,20050619,1419,   7.5018,  148.9952,  1074,  500.100,    8.117,   34.576,2,   34.571,6,   48.510,1,   55.660,2,   44.890,2,   35.620,2,    0.000,2,    2.568,2,    0.143,2,    0.069,2, -999.000,9, 2259.700,2, 2316.100,2
           NA,     P10,     39,   1,-999.0,     -99,  2,20050619,1419,   7.5018,  148.9952,  1074,  600.300,    7.144,   34.548,2,   34.548,2,   49.630,1,   56.980,2,   53.550,2,   37.090,2,    0.010,2,    2.685,2,    0.071,2,    0.037,2, -999.000,9, 2270.600,2, 2323.900,2
           NA,     P10,     39,   1,-999.0,     -99,  2,20050619,1419,   7.5018,  148.9952,  1074,  698.800,    6.465,   34.540,2,   34.539,2,   51.520,1,   60.250,2,   61.920,2,   38.200,2,    0.000,2,    2.759,2,    0.034,2,    0.025,2, -999.000,9, 2282.100,6, 2334.400,2
           NA,     P10,     39,   1,-999.0,     -99,  2,20050619,1419,   7.5018,  148.9952,  1074,  799.400,    5.532,   34.539,2,   34.539,2,   61.880,1,   71.990,2,   74.940,2,   38.630,2,    0.000,2,    2.788,2,    0.023,6,    0.016,6, -999.000,9, 2294.700,2, 2348.000,6
           NA,     P10,     39,   1,-999.0,     -99,  2,20050619,1419,   7.5018,  148.9952,  1074,  898.800,    4.821,   34.549,2,   34.549,2,   68.840,1,   80.270,2,   86.230,2,   38.700,2,    0.000,2,    2.787,2,    0.020,2,    0.014,2, -999.000,9, 2300.500,2, 2358.700,2
           NA,     P10,     39,   1,-999.0,     -99,  2,20050619,1419,   7.5018,  148.9952,  1074, 1000.200,    4.038,   34.564,2,   34.563,6,   73.730,1,   85.650,2,  101.030,2,   39.020,2,    0.000,2,    2.804,2,    0.009,2,    0.011,2, -999.000,9, 2315.800,2, 2375.300,2
           NA,     P10,     39,   1,-999.0,     -99,  2,20050619,1419,   7.5018,  148.9952,  1074, 1019.900,    3.941,   34.566,2,   34.567,2,   74.450,1,   86.960,6,  104.290,2,   39.080,2,    0.000,2,    2.811,2,    0.011,2,    0.010,2, -999.000,9, 2318.400,2, 2377.800,2