BOTTLE,20214413JOAExport
EXPOCODE,SECT_ID,STNNBR,CASTNO,SAMPNO,BTLNBR,BTLNBR_FLAG_W,DATE,TIME,LATITUDE,LONGITUDE,DEPTH,CTDPRS,CTDTMP,CTDSAL,CTDSAL_FLAG_W,SALNTY,SALNTY_FLAG_W,CTDOXY,CTDOXY_FLAG_W,OXYGEN,OXYGEN_FLAG_W,SILCAT,SILCAT_FLAG_W,NITRAT,NITRAT_FLAG_W,NITRIT,NITRIT_FLAG_W,PHSPHT,PHSPHT_FLAG_W,CFC-11,CFC-11_FLAG_W,CFC-12,CFC-12_FLAG_W,SF6,SF6_FLAG_W,TCARBN,TCARBN_FLAG_W,ALKALI,ALKALI_FLAG_W
,,,,,,,,,,,,,DB,ITS-90,PSS-78,,PSS-78,,UMOL/KG,,UMOL/KG,,UMOL/KG,,UMOL/KG,,UMOL/KG,,UMOL/KG,,PMOL/KG,,PMOL/KG,,FMOL/KG,,UMOL/KG,,UMOL/KG
           NA,    P10N,    135,   1,-999.0,     -99,  2,20050527,2245,  41.2580,  144.4978,  3935,   10.000,    5.018,   32.652,2, -999.000,4,  430.250,1,  434.840,6,    3.770,2,    2.820,2,    0.070,2,    0.458,2,    5.812,2,    3.239,2, -999.000,9, -999.000,9, -999.000,9
           NA,    P10N,    135,   1,-999.0,     -99,  2,20050527,2245,  41.2580,  144.4978,  3935,   49.800,    0.928,   33.018,2,   33.049,2,  306.630,1,  316.120,2,   40.020,2,   21.030,2,    0.160,2,    1.838,2,    5.966,2,    3.232,2, -999.000,9, -999.000,9, -999.000,9
           NA,    P10N,    135,   1,-999.0,     -99,  2,20050527,2245,  41.2580,  144.4978,  3935,  100.300,    2.417,   33.297,2,   33.288,2,  289.460,1,  299.250,2,   40.900,2,   21.970,2,    0.160,2,    1.804,2,    5.511,2,    2.996,2, -999.000,9, -999.000,9, -999.000,9
           NA,    P10N,    135,   1,-999.0,     -99,  2,20050527,2245,  41.2580,  144.4978,  3935,  150.200,    2.129,   33.358,2,   33.354,2,  262.090,1,  271.140,2,   51.840,2,   26.150,2,    0.040,2,    2.079,2,    5.152,2,    2.772,2, -999.000,9, -999.000,9, -999.000,9
           NA,    P10N,    135,   1,-999.0,     -99,  2,20050527,2245,  41.2580,  144.4978,  3935,  199.200,    1.324,   33.353,2,   33.356,2,  239.420,1,  248.230,2,   61.760,2,   29.280,2,    0.020,2,    2.315,2,    5.077,2,    2.726,2, -999.000,9, -999.000,9, -999.000,9
           NA,    P10N,    135,   1,-999.0,     -99,  2,20050527,2245,  41.2580,  144.4978,  3935,  249.500,    1.525,   33.413,2,   33.423,2,  219.840,1,  225.190,2,   67.000,2,   30.790,2,    0.020,2,    2.417,2,    4.760,6,    2.494,6, -999.000,9, -999.000,9, -999.000,9
           NA,    P10N,    135,   1,-999.0,     -99,  2,20050527,2245,  41.2580,  144.4978,  3935,  302.600,    1.865,   33.512,2,   33.514,2,  189.290,1,  195.800,2,   73.330,2,   32.620,2,    0.010,2,    2.517,2,    4.293,2,    2.231,2, -999.000,9, -999.000,9, -999.000,9
           NA,    P10N,    135,   1,-999.0,     -99,  2,20050527,2245,  41.2580,  144.4978,  3935,  399.800,    3.067,   33.823,2,   33.829,2,  106.450,1,  107.300,2,   92.750,2,   37.880,2,    0.020,2,    2.817,2,    2.566,2,    1.248,2, -999.000,9, -999.000,9, -999.000,9
           NA,    P10N,    135,   1,-999.0,     -99,  2,20050527,2245,  41.2580,  144.4978,  3935,  500.200,    2.899,   33.914,2,   33.916,6,   74.560,1,   75.040,2,  106.410,2,   40.560,2,    0.010,2,    2.982,2,    2.011,2,    0.999,2, -999.000,9, -999.000,9, -999.000,9
           NA,    P10N,    135,   1,-999.0,     -99,  2,20050527,2245,  41.2580,  144.4978,  3935,  601.200,    3.089,   34.059,2,   34.061,2,   44.700,1,   43.530,2,  118.810,2,   42.560,2,    0.010,2,    3.101,2,    1.223,2,    0.613,2, -999.000,9, -999.000,9, -999.000,9
           NA,    P10N,    135,   1,-999.0,     -99,  2,20050527,2245,  41.2580,  144.4978,  3935,  700.100,    3.149,   34.176,2,   34.176,2,   32.710,1,   31.200,2,  128.190,2,   43.230,2,    0.010,2,    3.133,2,    0.699,2,    0.366,2, -999.000,9, -999.000,9, -999.000,9
           NA,    P10N,    135,   1,-999.0,     -99,  2,20050527,2245,  41.2580,  144.4978,  3935,  800.000,    2.997,   34.258,2,   34.258,2,   28.070,1,   26.760,2,  137.590,2,   43.520,2,    0.010,2,    3.143,2,    0.463,6,    0.228,6, -999.000,9, -999.000,9, -999.000,9
           NA,    P10N,    135,   1,-999.0,     -99,  2,20050527,2245,  41.2580,  144.4978,  3935,  900.400,    2.862,   34.305,2,   34.306,2,   30.280,1,   28.820,2,  142.840,2,   43.350,2,    0.000,2,    3.124,2,    0.351,2,    0.170,2, -999.000,9, -999.000,9, -999.000,9
           NA,    P10N,    135,   1,-999.0,     -99,  2,20050527,2245,  41.2580,  144.4978,  3935, 1000.000,    2.817,   34.370,2,   34.370,6,   35.030,1,   33.800,2,  145.550,2,   42.840,2,    0.010,2,    3.099,2,    0.208,2,    0.115,2, -999.000,9, -999.000,9, -999.000,9
           NA,    P10N,    135,   1,-999.0,     -99,  2,20050527,2245,  41.2580,  144.4978,  3935, 1201.500,    2.672,   34.410,2,   34.410,2,   36.700,1,   35.600,6,  150.730,2,   42.840,2,    0.010,2,    3.099,2,    0.169,2,    0.069,2, -999.000,9, -999.000,9, -999.000,9
           NA,    P10N,    135,   1,-999.0,     -99,  2,20050527,2245,  41.2580,  144.4978,  3935, 1401.400,    2.475,   34.471,2,   34.471,2,   42.020,1,   41.050,2,  155.780,2,   42.740,2,    0.010,2,    3.073,2,    0.061,2,    0.031,2, -999.000,9, -999.000,9, -999.000,9
           NA,    P10N,    135,   1,-999.0,     -99,  2,20050527,2245,  41.2580,  144.4978,  3935, 1600.800,    2.328,   34.523,2,   34.523,2,   50.590,1,   50.110,2,  157.870,2,   42.360,2,    0.010,2,    3.034,2,   -0.014,2,    0.000,2, -999.000,9, -999.000,9, -999.000,9
           NA,    P10N,    135,   1,-999.0,     -99,  2,20050527,2245,  41.2580,  144.4978,  3935, 1800.100,    2.143,   34.554,2,   34.554,6,   58.560,1,   58.410,2,  162.340,2,   41.850,2,    0.010,2,    2.999,2,    0.007,2,    0.000,2, -999.000,9, -999.000,9, -999.000,9
           NA,    P10N,    135,   1,-999.0,     -99,  2,20050527,2245,  41.2580,  144.4978,  3935, 2002.400,    1.961,   34.591,2,   34.591,2,   73.280,1,   74.060,2,  163.150,2,   41.020,2,    0.010,2,    2.925,2,    0.010,2,    0.000,2, -999.000,9, -999.000,9, -999.000,9
           NA,    P10N,    135,   1,-999.0,     -99,  2,20050527,2245,  41.2580,  144.4978,  3935, 2200.800,    1.855,   34.612,2,   34.613,2,   84.390,1,   85.810,2,  162.230,2,   40.360,2,    0.010,2,    2.866,2,    0.021,2,    0.010,2, -999.000,9, -999.000,9, -999.000,9
           NA,    P10N,    135,   1,-999.0,     -99,  2,20050527,2245,  41.2580,  144.4978,  3935, 2403.300,    1.758,   34.628,2,   34.629,2,   95.010,1,   96.870,2,  161.820,2,   39.620,2,    0.010,2,    2.815,2,    0.007,2,   -0.001,2, -999.000,9, -999.000,9, -999.000,9
           NA,    P10N,    135,   1,-999.0,     -99,  2,20050527,2245,  41.2580,  144.4978,  3935, 2599.800,    1.679,   34.643,2,   34.643,6,  105.500,1,  108.070,2,  160.180,2,   38.900,2,    0.010,2,    2.761,2,   -0.022,2,    0.004,2, -999.000,9, -999.000,9, -999.000,9
           NA,    P10N,    135,   1,-999.0,     -99,  2,20050527,2245,  41.2580,  144.4978,  3935, 2802.400,    1.607,   34.654,2,   34.654,2,  114.910,1,  117.870,2,  158.820,2,   38.320,2,    0.010,2,    2.708,2, -999.000,9, -999.000,9, -999.000,9, -999.000,9, -999.000,9
           NA,    P10N,    135,   1,-999.0,     -99,  2,20050527,2245,  41.2580,  144.4978,  3935, 3002.500,    1.551,   34.663,2,   34.663,2,  123.240,1,  126.650,6,  157.360,2,   37.780,2,    0.000,2,    2.669,2,    0.005,2,    0.000,2, -999.000,9, -999.000,9, -999.000,9
           NA,    P10N,    135,   1,-999.0,     -99,  2,20050527,2245,  41.2580,  144.4978,  3935, 3252.100,    1.501,   34.672,2,   34.672,2,  131.870,1, -999.000,5,  155.510,2,   37.210,2,    0.010,2,    2.621,2, -999.000,9, -999.000,9, -999.000,9, -999.000,9, -999.000,9
           NA,    P10N,    135,   1,-999.0,     -99,  2,20050527,2245,  41.2580,  144.4978,  3935, 3500.200,    1.474,   34.677,2,   34.678,6,  138.190,1,  142.160,2,  153.510,2,   36.740,2,    0.010,2,    2.585,2,   -0.011,2,   -0.004,2, -999.000,9, -999.000,9, -999.000,9
           NA,    P10N,    135,   1,-999.0,     -99,  2,20050527,2245,  41.2580,  144.4978,  3935, 3749.200,    1.455,   34.682,2,   34.682,2,  143.770,1,  147.320,2,  152.390,2,   36.380,2,    0.010,2,    2.562,2, -999.000,9, -999.000,9, -999.000,9, -999.000,9, -999.000,9
           NA,    P10N,    135,   1,-999.0,     -99,  2,20050527,2245,  41.2580,  144.4978,  3935, 3991.400,    1.440,   34.686,2,   34.686,6,  149.410,1,  152.670,6,  150.540,2,   35.960,2,    0.010,2,    2.533,2,   -0.003,2,   -0.004,2, -999.000,9, -999.000,9, -999.000,9
           NA,    P10N,    136,   1,-999.0,     -99,  2,20050527,1832,  41.5057,  144.3127,  2728,    9.800,    3.859,   33.041,2,   33.024,2,  359.940,1,  368.770,6,    8.500,2,    9.160,2,    0.170,2,    0.953,2,    5.355,2,    2.867,2, -999.000,9, 2073.700,2, 2249.400,2
           NA,    P10N,    136,   1,-999.0,     -99,  2,20050527,1832,  41.5057,  144.3127,  2728,   50.300,    1.752,   32.983,2,   32.997,2,  332.390,1,  339.950,2,   29.110,2,   17.130,2,    0.170,2,    1.594,2,    5.738,2,    3.030,2, -999.000,9, 2125.400,6, 2250.400,2
           NA,    P10N,    136,   1,-999.0,     -99,  2,20050527,1832,  41.5057,  144.3127,  2728,  100.200,    1.805,   33.230,2,   33.224,2,  293.120,1,  299.540,2,   45.160,2,   23.690,2,    0.160,2,    1.946,2,    5.286,2,    2.818,2, -999.000,9, 2160.200,2, 2255.100,6
           NA,    P10N,    136,   1,-999.0,     -99,  2,20050527,1832,  41.5057,  144.3127,  2728,  150.300,    1.353,   33.277,2,   33.274,2,  271.070,1,  275.950,2,   53.100,2,   26.670,2,    0.070,2,    2.146,2,    5.055,2,    2.691,2, -999.000,9, 2180.700,2, 2257.800,2
           NA,    P10N,    136,   1,-999.0,     -99,  2,20050527,1832,  41.5057,  144.3127,  2728,  201.100,    1.360,   33.334,2,   33.337,2,  247.790,1,  254.060,2,   59.150,2,   28.650,2,    0.030,2,    2.278,2,    4.796,2,    2.537,2, -999.000,9, 2200.600,2, 2266.300,2
           NA,    P10N,    136,   1,-999.0,     -99,  2,20050527,1832,  41.5057,  144.3127,  2728,  249.600,    1.963,   33.448,2,   33.449,2,  217.700,1,  223.870,2,   65.370,2,   30.400,2,    0.020,2,    2.375,2,    4.299,6,    2.252,6, -999.000,9, 2216.900,2, 2274.100,2
           NA,    P10N,    136,   1,-999.0,     -99,  2,20050527,1832,  41.5057,  144.3127,  2728,  300.700,    1.577,   33.462,2,   33.463,2,  204.760,1,  210.880,2,   70.410,2,   31.660,2,    0.010,2,    2.476,2,    4.311,2,    2.226,2, -999.000,9, 2228.700,2, 2269.500,2
           NA,    P10N,    136,   1,-999.0,     -99,  2,20050527,1832,  41.5057,  144.3127,  2728,  399.300,    2.027,   33.596,2,   33.608,2,  160.990,1,  162.000,2,   82.150,2,   34.770,2,    0.010,2,    2.658,2,    3.667,2,    1.844,2, -999.000,9, 2262.700,2, 2286.600,2
           NA,    P10N,    136,   1,-999.0,     -99,  2,20050527,1832,  41.5057,  144.3127,  2728,  500.700,    2.736,   33.801,2,   33.806,6,  101.200,1,  101.330,2,   96.690,2,   38.870,2,    0.010,2,    2.883,2,    2.382,2,    1.266,2, -999.000,9, 2299.900,2, 2301.700,2
           NA,    P10N,    136,   1,-999.0,     -99,  2,20050527,1832,  41.5057,  144.3127,  2728,  599.300,    3.069,   33.938,2,   33.943,2,   65.520,1,   64.660,2,  107.400,2,   41.400,2,    0.000,2,    3.027,2,    1.808,2,    0.895,2, -999.000,9, 2325.300,2, 2319.100,2
           NA,    P10N,    136,   1,-999.0,     -99,  2,20050527,1832,  41.5057,  144.3127,  2728,  700.300,    3.199,   34.064,2,   34.066,2,   43.550,1,   42.500,2,  118.110,2,   42.730,2,    0.000,2,    3.110,2,    1.348,2,    0.605,2, -999.000,9, 2346.200,6, 2332.400,2
           NA,    P10N,    136,   1,-999.0,     -99,  2,20050527,1832,  41.5057,  144.3127,  2728,  800.300,    3.166,   34.153,2,   34.154,2,   32.850,1,   31.430,2,  126.720,2,   43.370,2,    0.000,2,    3.143,2,    0.863,6,    0.415,6, -999.000,9, 2359.100,2, 2346.500,6
           NA,    P10N,    136,   1,-999.0,     -99,  2,20050527,1832,  41.5057,  144.3127,  2728,  901.600,    3.111,   34.252,2,   34.249,2,   33.490,1,   31.720,2,  133.480,2,   43.020,2,    0.000,2,    3.110,2,    0.655,2,    0.274,2, -999.000,9, 2364.300,2, 2362.400,2
           NA,    P10N,    136,   1,-999.0,     -99,  2,20050527,1832,  41.5057,  144.3127,  2728, 1000.200,    3.039,   34.312,2,   34.312,6,   34.570,1,   32.910,2,  138.310,2,   42.750,2,    0.000,2,    3.107,2,    0.394,2,    0.190,2, -999.000,9, 2370.500,2, 2367.300,2
           NA,    P10N,    136,   1,-999.0,     -99,  2,20050527,1832,  41.5057,  144.3127,  2728, 1200.300,    2.808,   34.400,2, -999.000,3,   38.420,1,   36.930,6,  153.930,2,   42.660,2,    0.000,2,    3.082,2,    0.253,2,    0.105,2, -999.000,9, 2381.500,2, 2390.100,2
           NA,    P10N,    136,   1,-999.0,     -99,  2,20050527,1832,  41.5057,  144.3127,  2728, 1399.600,    2.540,   34.464,2,   34.463,2,   41.990,1,   40.650,2,  153.500,2,   42.720,2,    0.000,2,    3.086,2,    0.098,2,    0.055,2, -999.000,9, 2381.600,2, 2393.200,2
           NA,    P10N,    136,   1,-999.0,     -99,  2,20050527,1832,  41.5057,  144.3127,  2728, 1599.300,    2.371,   34.519,2,   34.519,2,   51.980,1,   50.880,2,  156.310,2,   42.290,2,    0.000,2,    3.040,2,    0.029,2,    0.011,2, -999.000,9, 2380.200,2, 2402.300,2
           NA,    P10N,    136,   1,-999.0,     -99,  2,20050527,1832,  41.5057,  144.3127,  2728, 1800.200,    2.139,   34.551,2,   34.551,6,   59.310,1,   58.630,2,  162.990,2,   41.860,2,    0.000,2,    3.005,2,    0.037,2,    0.007,2, -999.000,9, 2380.800,2, -999.000,9
           NA,    P10N,    136,   1,-999.0,     -99,  2,20050527,1832,  41.5057,  144.3127,  2728, 2001.700,    2.025,   34.581,2,   34.581,2,   69.340,1,   68.920,2,  162.480,2,   41.360,2,    0.000,2,    2.954,2, -999.000,3,   -0.001,2, -999.000,9, 2376.600,2, 2410.300,2
           NA,    P10N,    136,   1,-999.0,     -99,  2,20050527,1832,  41.5057,  144.3127,  2728, 2200.300,    1.848,   34.611,2,   34.611,2,   85.310,1,   85.650,2,  162.840,2,   40.300,2,    0.000,2,    2.871,2, -999.000,3,   -0.001,2, -999.000,9, 2368.000,2, 2417.900,2
           NA,    P10N,    136,   1,-999.0,     -99,  2,20050527,1832,  41.5057,  144.3127,  2728, 2399.700,    1.714,   34.635,2,   34.635,6,  101.280,1,  102.050,2,  161.150,2,   39.350,2,    0.000,2,    2.796,2,    0.000,2,   -0.004,2, -999.000,9, 2360.100,6, 2418.000,2
           NA,    P10N,    136,   1,-999.0,     -99,  2,20050527,1832,  41.5057,  144.3127,  2728, 2600.700,    1.605,   34.652,2,   34.652,2,  114.840,1,  116.120,2,  159.350,2,   38.440,2,    0.000,2,    2.728,2,    0.012,2,   -0.003,2, -999.000,9, 2350.300,2, 2419.700,6
           NA,    P10N,    136,   1,-999.0,     -99,  2,20050527,1832,  41.5057,  144.3127,  2728, 2743.500,    1.555,   34.659,2,   34.660,6,  121.790,1,  123.250,6,  158.300,2,   37.920,2,    0.000,2,    2.698,2, -999.000,3,   -0.001,2, -999.000,9, 2348.300,2, 2418.100,2