BOTTLE,20214413JOAExport
EXPOCODE,SECT_ID,STNNBR,CASTNO,SAMPNO,BTLNBR,BTLNBR_FLAG_W,DATE,TIME,LATITUDE,LONGITUDE,DEPTH,CTDPRS,CTDTMP,CTDSAL,CTDSAL_FLAG_W,SALNTY,SALNTY_FLAG_W,CTDOXY,CTDOXY_FLAG_W,OXYGEN,OXYGEN_FLAG_W,SILCAT,SILCAT_FLAG_W,NITRAT,NITRAT_FLAG_W,NITRIT,NITRIT_FLAG_W,PHSPHT,PHSPHT_FLAG_W,CFC-11,CFC-11_FLAG_W,CFC-12,CFC-12_FLAG_W,SF6,SF6_FLAG_W,TCARBN,TCARBN_FLAG_W,ALKALI,ALKALI_FLAG_W
,,,,,,,,,,,,,DB,ITS-90,PSS-78,,PSS-78,,UMOL/KG,,UMOL/KG,,UMOL/KG,,UMOL/KG,,UMOL/KG,,UMOL/KG,,PMOL/KG,,PMOL/KG,,FMOL/KG,,UMOL/KG,,UMOL/KG
           NA,     P10,     49,   1,-999.0,     -99,  2,20050617,0202,  12.5042,  149.3267,  5920,   10.200,   28.949,   34.305,2,   34.314,2,  173.130,1,  197.080,6,    1.080,2,    0.010,2,    0.010,2,    0.085,2,    1.425,2,    0.883,2, -999.000,9, 1917.300,2, 2256.100,2
           NA,     P10,     49,   1,-999.0,     -99,  2,20050617,0202,  12.5042,  149.3267,  5920,   50.000,   28.891,   34.326,2,   34.325,2,  173.190,1,  197.510,2,    1.040,2,    0.000,2,    0.010,2,    0.084,2,    1.424,2,    0.875,2, -999.000,9, 1918.500,6, 2255.000,2
           NA,     P10,     49,   1,-999.0,     -99,  2,20050617,0202,  12.5042,  149.3267,  5920,   99.700,   27.257,   34.593,2,   34.598,2,  180.000,1,  205.570,2,    0.910,2,   -0.020,2,    0.000,2,    0.102,2,    1.528,2,    0.935,2, -999.000,9, 1935.900,2, 2277.500,6
           NA,     P10,     49,   1,-999.0,     -99,  2,20050617,0202,  12.5042,  149.3267,  5920,  149.600,   25.125,   35.003,2,   35.031,2,  172.950,1,  194.080,2,    1.220,2,    0.030,2,    0.050,2,    0.150,2,    1.766,2,    1.051,2, -999.000,9, 1999.300,2, 2306.600,2
           NA,     P10,     49,   1,-999.0,     -99,  2,20050617,0202,  12.5042,  149.3267,  5920,  200.200,   19.458,   34.937,2,   34.926,2,  148.900,1,  172.400,2,    3.690,2,    4.610,2,    0.030,2,    0.470,2,    2.117,2,    1.233,2, -999.000,9, 2066.300,2, 2302.000,2
           NA,     P10,     49,   1,-999.0,     -99,  2,20050617,0202,  12.5042,  149.3267,  5920,  249.800,   14.038,   34.495,2,   34.465,2,  132.890,1,  152.190,2,   13.630,2,   14.650,2,    0.010,2,    1.140,2,    2.254,6,    1.234,6, -999.000,9, 2115.100,2, 2275.100,2
           NA,     P10,     49,   1,-999.0,     -99,  2,20050617,0202,  12.5042,  149.3267,  5920,  302.200,   10.761,   34.337,2,   34.337,2,   98.510,1,  114.370,2,   25.780,2,   23.350,2,    0.010,2,    1.771,2,    1.754,2,    0.904,2, -999.000,9, 2174.200,2, 2277.800,2
           NA,     P10,     49,   1,-999.0,     -99,  2,20050617,0202,  12.5042,  149.3267,  5920,  400.200,    8.711,   34.503,2,   34.504,2,   42.530,1,   48.630,2,   43.000,2,   34.270,2,    0.000,2,    2.522,2,    0.327,2,    0.176,2, -999.000,9, 2254.100,2, 2304.100,2
           NA,     P10,     49,   1,-999.0,     -99,  3,20050617,0202,  12.5042,  149.3267,  5920,  499.700,    7.623,   34.519,2,   34.519,6,   44.250,1,   50.700,2,   51.360,2,   36.310,2,    0.010,2,    2.658,2,    0.139,2,    0.068,2, -999.000,9, 2267.500,2, 2316.400,2
           NA,     P10,     49,   1,-999.0,     -99,  2,20050617,0202,  12.5042,  149.3267,  5920,  599.400,    6.790,   34.514,2,   34.513,2,   46.060,1,   53.180,2,   60.130,2,   37.690,2,    0.010,2,    2.768,2,    0.075,2,    0.034,2, -999.000,9, 2280.200,2, 2325.600,2
           NA,     P10,     49,   1,-999.0,     -99,  2,20050617,0202,  12.5042,  149.3267,  5920,  700.400,    6.168,   34.516,2,   34.515,2,   47.860,1,   54.920,2,   67.910,2,   38.830,2,    0.000,2,    2.840,2,    0.034,2,    0.020,2, -999.000,9, 2289.000,6, 2331.900,2
           NA,     P10,     49,   1,-999.0,     -99,  2,20050617,0202,  12.5042,  149.3267,  5920,  799.100,    5.626,   34.520,2,   34.520,2,   47.980,1,   55.700,2,   75.880,2,   39.760,2,    0.000,2,    2.899,2,    0.022,6,    0.011,6, -999.000,9, 2300.500,2, 2343.200,6
           NA,     P10,     49,   1,-999.0,     -99,  2,20050617,0202,  12.5042,  149.3267,  5920,  899.800,    5.143,   34.528,2,   34.529,2,   53.070,1,   59.840,2,   83.730,2,   40.140,2,    0.000,2,    2.911,2,    0.015,2,    0.005,2, -999.000,9, 2307.200,2, 2349.900,2
           NA,     P10,     49,   1,-999.0,     -99,  2,20050617,0202,  12.5042,  149.3267,  5920, 1001.300,    4.686,   34.543,2,   34.542,6,   49.840,1,   58.150,2,   92.110,2,   40.960,2,    0.000,2,    2.982,2,    0.001,2,    0.002,2, -999.000,9, 2318.400,2, 2360.400,2
           NA,     P10,     49,   1,-999.0,     -99,  2,20050617,0202,  12.5042,  149.3267,  5920, 1202.600,    3.937,   34.558,2,   34.559,2,   61.460,1,   72.150,6,  106.860,2,   40.320,2,    0.000,2,    2.933,2,    0.003,2,    0.000,2, -999.000,9, 2328.600,2, 2376.400,2
           NA,     P10,     49,   1,-999.0,     -99,  2,20050617,0202,  12.5042,  149.3267,  5920, 1399.400,    3.221,   34.578,2,   34.578,2,   71.000,1,   85.550,2,  122.290,2,   39.760,2,    0.000,2,    2.873,2,    0.000,2,   -0.001,2, -999.000,9, 2335.800,2, 2388.300,2
           NA,     P10,     49,   1,-999.0,     -99,  2,20050617,0202,  12.5042,  149.3267,  5920, 1599.900,    2.847,   34.593,2,   34.593,2,   76.500,1,   92.880,2,  129.570,2,   39.420,2,    0.000,2,    2.837,2,   -0.003,2,   -0.001,2, -999.000,9, 2339.400,2, 2398.300,2
           NA,     P10,     49,   1,-999.0,     -99,  2,20050617,0202,  12.5042,  149.3267,  5920, 1800.800,    2.540,   34.610,2,   34.611,2,   80.220,1,   97.970,2,  135.770,2,   39.350,2,    0.000,2,    2.825,2,   -0.006,2,    0.000,2, -999.000,9, 2344.900,2, 2405.800,2
           NA,     P10,     49,   1,-999.0,     -99,  2,20050617,0202,  12.5042,  149.3267,  5920, 2003.000,    2.281,   34.625,2,   34.625,2,   85.230,1,  104.960,2,  140.540,2,   39.010,2,    0.000,2,    2.793,2,   -0.003,2,   -0.001,2, -999.000,9, 2345.200,2, 2410.400,2
           NA,     P10,     49,   1,-999.0,     -99,  2,20050617,0202,  12.5042,  149.3267,  5920, 2200.500,    2.093,   34.638,2,   34.638,6,   89.550,1,  111.000,2,  143.940,2,   38.760,2,    0.000,2,    2.763,2,   -0.002,2,   -0.001,2, -999.000,9, 2346.000,2, 2415.300,2
           NA,     P10,     49,   1,-999.0,     -99,  2,20050617,0202,  12.5042,  149.3267,  5920, 2400.000,    1.946,   34.648,2,   34.648,2,   93.270,1,  116.420,2,  146.610,2,   38.490,2,    0.010,2,    2.741,2,    0.012,2,    0.002,2, -999.000,9, 2346.300,6, 2413.700,2
           NA,     P10,     49,   1,-999.0,     -99,  2,20050617,0202,  12.5042,  149.3267,  5920, 2600.600,    1.834,   34.657,2,   34.657,2,   96.950,1,  121.650,2,  148.150,2,   38.110,2,    0.010,2,    2.707,2,    0.000,2,    0.001,2, -999.000,9, 2343.600,2, 2419.400,6
           NA,     P10,     49,   1,-999.0,     -99,  2,20050617,0202,  12.5042,  149.3267,  5920, 2801.500,    1.753,   34.663,2,   34.663,2,  100.250,1,  126.500,2,  148.870,2,   37.880,2,    0.000,2,    2.685,2, -999.000,9, -999.000,9, -999.000,9, 2342.600,2, 2420.200,2
           NA,     P10,     49,   1,-999.0,     -99,  2,20050617,0202,  12.5042,  149.3267,  5920, 3000.600,    1.693,   34.668,2,   34.668,2,  103.160,1,  130.670,6,  149.440,2,   37.600,2,    0.000,2,    2.659,2, -999.000,9, -999.000,9, -999.000,9, 2341.700,2, 2420.800,2
           NA,     P10,     49,   1,-999.0,     -99,  2,20050617,0202,  12.5042,  149.3267,  5920, 3250.100,    1.616,   34.674,2,   34.673,2,  107.800,1,  137.440,2,  148.460,2,   37.110,2,    0.000,2,    2.610,2, -999.000,9, -999.000,9, -999.000,9, 2336.900,2, 2420.200,2
           NA,     P10,     49,   1,-999.0,     -99,  2,20050617,0202,  12.5042,  149.3267,  5920, 3500.900,    1.540,   34.680,2,   34.680,2,  113.680,1,  145.760,2,  146.670,2,   36.590,2,    0.000,2,    2.579,2, -999.000,9, -999.000,9, -999.000,9, 2330.200,2, 2419.000,2
           NA,     P10,     49,   1,-999.0,     -99,  2,20050617,0202,  12.5042,  149.3267,  5920, 3748.900,    1.507,   34.684,2,   34.683,2,  117.720,1,  151.300,2,  144.600,2,   36.180,2,    0.010,2,    2.552,2, -999.000,9, -999.000,9, -999.000,9, 2324.900,2, 2418.700,2
           NA,     P10,     49,   1,-999.0,     -99,  2,20050617,0202,  12.5042,  149.3267,  5920, 4000.300,    1.483,   34.688,2,   34.687,2,  121.610,1,  156.590,2,  142.250,2,   35.790,2,    0.000,2,    2.521,2, -999.000,9, -999.000,9, -999.000,9, 2319.500,2, 2413.200,2
           NA,     P10,     49,   1,-999.0,     -99,  2,20050617,0202,  12.5042,  149.3267,  5920, 4249.400,    1.469,   34.690,2,   34.690,2,  124.950,1,  161.280,2,  140.350,2,   35.460,2,    0.000,2,    2.496,2, -999.000,9, -999.000,9, -999.000,9, 2316.600,6, 2414.000,2
           NA,     P10,     49,   1,-999.0,     -99,  2,20050617,0202,  12.5042,  149.3267,  5920, 4499.400,    1.462,   34.693,2,   34.692,6,  128.310,1,  165.800,2,  137.850,2,   35.140,2,    0.000,2,    2.471,2, -999.000,9, -999.000,9, -999.000,9, 2314.000,2, 2410.200,6
           NA,     P10,     49,   1,-999.0,     -99,  2,20050617,0202,  12.5042,  149.3267,  5920, 4749.200,    1.456,   34.695,2,   34.695,2,  131.720,1,  170.360,2,  135.680,2,   34.840,2,    0.000,2,    2.448,2, -999.000,9, -999.000,9, -999.000,9, 2307.400,2, 2408.200,2
           NA,     P10,     49,   1,-999.0,     -99,  2,20050617,0202,  12.5042,  149.3267,  5920, 5002.300,    1.464,   34.697,2,   34.697,2,  134.210,1,  173.120,6,  134.210,2,   34.580,2,    0.000,2,    2.432,2, -999.000,9, -999.000,9, -999.000,9, 2304.100,2, 2404.700,2
           NA,     P10,     49,   1,-999.0,     -99,  2,20050617,0202,  12.5042,  149.3267,  5920, 5248.700,    1.481,   34.698,2,   34.698,2,  136.050,1,  174.830,2,  133.350,2,   34.450,2,    0.000,2,    2.423,2, -999.000,9, -999.000,9, -999.000,9, 2301.200,2, 2404.800,2
           NA,     P10,     49,   1,-999.0,     -99,  2,20050617,0202,  12.5042,  149.3267,  5920, 5500.600,    1.506,   34.699,2,   34.699,2,  137.660,1,  175.860,2,  132.820,2,   34.450,2,    0.000,2,    2.417,2, -999.000,9, -999.000,9, -999.000,9, 2300.800,2, 2405.600,2
           NA,     P10,     49,   1,-999.0,     -99,  2,20050617,0202,  12.5042,  149.3267,  5920, 5751.600,    1.536,   34.699,2,   34.699,2,  139.030,1,  176.340,2,  132.650,2,   34.350,2,    0.000,2,    2.415,2, -999.000,9, -999.000,9, -999.000,9, 2300.200,2, 2405.200,2
           NA,     P10,     49,   1,-999.0,     -99,  2,20050617,0202,  12.5042,  149.3267,  5920, 6025.800,    1.567,   34.699,2,   34.699,6,  140.940,1,  176.800,2,  132.390,2,   34.340,2,    0.000,2,    2.415,2, -999.000,9, -999.000,9, -999.000,9, 2300.100,2, 2399.000,2