BOTTLE,20214413JOAExport
EXPOCODE,SECT_ID,STNNBR,CASTNO,SAMPNO,BTLNBR,BTLNBR_FLAG_W,DATE,TIME,LATITUDE,LONGITUDE,DEPTH,CTDPRS,CTDTMP,CTDSAL,CTDSAL_FLAG_W,SALNTY,SALNTY_FLAG_W,CTDOXY,CTDOXY_FLAG_W,OXYGEN,OXYGEN_FLAG_W,SILCAT,SILCAT_FLAG_W,NITRAT,NITRAT_FLAG_W,NITRIT,NITRIT_FLAG_W,PHSPHT,PHSPHT_FLAG_W,CFC-11,CFC-11_FLAG_W,CFC-12,CFC-12_FLAG_W,SF6,SF6_FLAG_W,TCARBN,TCARBN_FLAG_W,ALKALI,ALKALI_FLAG_W
,,,,,,,,,,,,,DB,ITS-90,PSS-78,,PSS-78,,UMOL/KG,,UMOL/KG,,UMOL/KG,,UMOL/KG,,UMOL/KG,,UMOL/KG,,PMOL/KG,,PMOL/KG,,FMOL/KG,,UMOL/KG,,UMOL/KG
           NA,    P10N,    113,   1,-999.0,     -99,  2,20050603,0229,  35.7385,  148.2943,  5829,    9.900,   22.467,   34.603,2,   34.618,2,  194.550,1,  218.200,6,    1.640,2,    0.000,2,    0.010,2,    0.050,2,    1.896,2,    1.127,2, -999.000,9, -999.000,9, -999.000,9
           NA,    P10N,    113,   1,-999.0,     -99,  2,20050603,0229,  35.7385,  148.2943,  5829,   49.700,   20.383,   34.800,2,   34.806,2,  201.220,1,  226.270,2,    1.700,2,   -0.030,2,    0.010,2,    0.047,2,    2.060,2,    1.228,2, -999.000,9, -999.000,9, -999.000,9
           NA,    P10N,    113,   1,-999.0,     -99,  2,20050603,0229,  35.7385,  148.2943,  5829,  100.000,   19.368,   34.862,2,   34.857,2,  192.180,1,  217.290,2,    2.270,2,    1.230,2,    0.120,2,    0.132,2,    2.099,2,    1.249,2, -999.000,9, -999.000,9, -999.000,9
           NA,    P10N,    113,   1,-999.0,     -99,  2,20050603,0229,  35.7385,  148.2943,  5829,  149.900,   18.753,   34.855,2,   34.854,2,  190.800,1,  215.240,2,    2.830,2,    2.110,2,    0.020,2,    0.181,2,    2.166,2,    1.272,2, -999.000,9, -999.000,9, -999.000,9
           NA,    P10N,    113,   1,-999.0,     -99,  2,20050603,0229,  35.7385,  148.2943,  5829,  201.800,   17.730,   34.822,2,   34.829,2,  189.210,1,  215.760,2,    3.510,2,    3.080,2,    0.020,2,    0.239,2,    2.241,2,    1.330,2, -999.000,9, -999.000,9, -999.000,9
           NA,    P10N,    113,   1,-999.0,     -99,  2,20050603,0229,  35.7385,  148.2943,  5829,  249.900,   17.076,   34.768,2,   34.766,2,  182.650,1,  207.580,2,    4.690,2,    4.900,2,    0.010,2,    0.353,2,    2.316,6,    1.348,6, -999.000,9, -999.000,9, -999.000,9
           NA,    P10N,    113,   1,-999.0,     -99,  2,20050603,0229,  35.7385,  148.2943,  5829,  300.000,   16.163,   34.693,2,   34.688,2,  177.340,1,  200.610,2,    6.850,2,    6.930,2,    0.010,2,    0.495,2,    2.372,2,    1.356,2, -999.000,9, -999.000,9, -999.000,9
           NA,    P10N,    113,   1,-999.0,     -99,  2,20050603,0229,  35.7385,  148.2943,  5829,  401.900,   13.384,   34.484,2,   34.481,2,  160.320,1,  182.720,2,   16.210,2,   12.960,2,    0.010,2,    0.929,2,    2.419,2,    1.304,2, -999.000,9, -999.000,9, -999.000,9
           NA,    P10N,    113,   1,-999.0,     -99,  2,20050603,0229,  35.7385,  148.2943,  5829,  502.500,   10.208,   34.281,2,   34.281,6,  143.410,1,  164.340,2,   31.810,2,   19.870,2,    0.010,2,    1.448,2,    2.227,2,    1.177,2, -999.000,9, -999.000,9, -999.000,9
           NA,    P10N,    113,   1,-999.0,     -99,  2,20050603,0229,  35.7385,  148.2943,  5829,  602.500,    7.504,   34.193,2,   34.188,2,  112.020,1,  129.440,2,   56.100,2,   27.800,2,    0.010,2,    2.037,2,    1.698,2,    0.870,2, -999.000,9, -999.000,9, -999.000,9
           NA,    P10N,    113,   1,-999.0,     -99,  2,20050603,0229,  35.7385,  148.2943,  5829,  701.100,    6.131,   34.169,2,   34.166,2,   91.830,1,  105.580,2,   72.680,2,   32.550,2,    0.010,2,    2.381,2,    1.346,2,    0.667,2, -999.000,9, -999.000,9, -999.000,9
           NA,    P10N,    113,   1,-999.0,     -99,  2,20050603,0229,  35.7385,  148.2943,  5829,  802.600,    5.106,   34.198,2,   34.197,2,   74.490,1,   85.450,2,   88.570,2,   35.820,2,    0.000,2,    2.605,2,    1.008,6,    0.506,6, -999.000,9, -999.000,9, -999.000,9
           NA,    P10N,    113,   1,-999.0,     -99,  2,20050603,0229,  35.7385,  148.2943,  5829,  902.300,    4.631,   34.288,2,   34.285,2,   61.780,1,   70.300,2,  101.940,2,   37.820,2,    0.000,2,    2.738,2,    0.588,2,    0.285,2, -999.000,9, -999.000,9, -999.000,9
           NA,    P10N,    113,   1,-999.0,     -99,  2,20050603,0229,  35.7385,  148.2943,  5829, 1002.900,    3.936,   34.340,2,   34.340,6,   52.560,1,   59.780,2,  116.000,2,   39.650,2,    0.000,2,    2.867,2,    0.327,2,    0.148,2, -999.000,9, -999.000,9, -999.000,9
           NA,    P10N,    113,   1,-999.0,     -99,  2,20050603,0229,  35.7385,  148.2943,  5829, 1203.200,    2.970,   34.397,2,   34.401,2,   37.410,1,   41.920,6,  139.940,2,   42.130,2,    0.000,2,    3.043,2,    0.162,2,    0.082,2, -999.000,9, -999.000,9, -999.000,9
           NA,    P10N,    113,   1,-999.0,     -99,  2,20050603,0229,  35.7385,  148.2943,  5829, 1400.600,    2.712,   34.458,2,   34.458,2,   38.710,1,   43.100,2,  148.320,2,   42.510,2,    0.010,2,    3.056,2,    0.075,2,    0.043,2, -999.000,9, -999.000,9, -999.000,9
           NA,    P10N,    113,   1,-999.0,     -99,  2,20050603,0229,  35.7385,  148.2943,  5829, 1601.400,    2.380,   34.516,2,   34.515,2,   43.740,1,   49.220,2,  156.930,2,   42.340,2,    0.000,2,    3.031,2,    0.027,2,    0.024,2, -999.000,9, -999.000,9, -999.000,9
           NA,    P10N,    113,   1,-999.0,     -99,  2,20050603,0229,  35.7385,  148.2943,  5829, 1801.700,    2.200,   34.552,2,   34.551,2,   51.240,1,   58.580,2,  159.880,2,   41.910,2,    0.000,2,    2.992,2,    0.007,2,    0.011,2, -999.000,9, -999.000,9, -999.000,9
           NA,    P10N,    113,   1,-999.0,     -99,  2,20050603,0229,  35.7385,  148.2943,  5829, 2002.900,    2.037,   34.583,2,   34.582,2,   60.020,1,   69.490,2,  161.960,2,   41.320,2,    0.000,2,    2.943,2,   -0.001,2,    0.010,2, -999.000,9, -999.000,9, -999.000,9
           NA,    P10N,    113,   1,-999.0,     -99,  2,20050603,0229,  35.7385,  148.2943,  5829, 2201.200,    1.896,   34.607,2,   34.606,6,   70.790,1,   82.940,2,  162.280,2,   40.560,2,    0.000,2,    2.874,2,    0.000,2,   -0.003,2, -999.000,9, -999.000,9, -999.000,9
           NA,    P10N,    113,   1,-999.0,     -99,  2,20050603,0229,  35.7385,  148.2943,  5829, 2403.100,    1.779,   34.627,2,   34.626,2,   81.030,1,   96.020,2,  161.440,2,   39.680,2,    0.000,2,    2.812,2,   -0.002,2,   -0.003,2, -999.000,9, -999.000,9, -999.000,9
           NA,    P10N,    113,   1,-999.0,     -99,  2,20050603,0229,  35.7385,  148.2943,  5829, 2602.900,    1.687,   34.643,2,   34.642,2,   90.440,1,  108.070,2,  159.990,2,   39.040,2,    0.000,2,    2.754,2,   -0.003,2,   -0.005,2, -999.000,9, -999.000,9, -999.000,9
           NA,    P10N,    113,   1,-999.0,     -99,  2,20050603,0229,  35.7385,  148.2943,  5829, 2800.700,    1.631,   34.652,2,   34.652,2,   97.160,1,  116.470,2,  158.470,2,   38.370,2,    0.000,2,    2.713,2, -999.000,9, -999.000,9, -999.000,9, -999.000,9, -999.000,9
           NA,    P10N,    113,   1,-999.0,     -99,  2,20050603,0229,  35.7385,  148.2943,  5829, 3001.900,    1.580,   34.661,2,   34.660,2,  103.490,1,  124.660,6,  156.920,2,   37.860,2,    0.000,2,    2.667,2, -999.000,9, -999.000,9, -999.000,9, -999.000,9, -999.000,9
           NA,    P10N,    113,   1,-999.0,     -99,  2,20050603,0229,  35.7385,  148.2943,  5829, 3251.300,    1.534,   34.669,2,   34.668,6,  110.000,1,  132.980,2,  154.820,2,   37.350,2,    0.000,2,    2.620,2, -999.000,9, -999.000,9, -999.000,9, -999.000,9, -999.000,9
           NA,    P10N,    113,   1,-999.0,     -99,  2,20050603,0229,  35.7385,  148.2943,  5829, 3501.700,    1.503,   34.675,2,   34.675,2,  115.430,1,  140.020,2,  153.140,2,   36.920,2,    0.010,2,    2.589,2, -999.000,9, -999.000,9, -999.000,9, -999.000,9, -999.000,9
           NA,    P10N,    113,   1,-999.0,     -99,  2,20050603,0229,  35.7385,  148.2943,  5829, 3750.500,    1.482,   34.680,2,   34.680,2,  120.040,1,  145.880,2,  151.260,2,   36.450,2,    0.000,2,    2.556,2, -999.000,9, -999.000,9, -999.000,9, -999.000,9, -999.000,9
           NA,    P10N,    113,   1,-999.0,     -99,  2,20050603,0229,  35.7385,  148.2943,  5829, 4002.200,    1.479,   34.683,2,   34.682,2,  123.040,1,  149.210,2,  150.420,2,   36.270,2,    0.000,2,    2.548,2, -999.000,9, -999.000,9, -999.000,9, -999.000,9, -999.000,9
           NA,    P10N,    113,   1,-999.0,     -99,  2,20050603,0229,  35.7385,  148.2943,  5829, 4250.000,    1.471,   34.687,2,   34.686,2,  126.630,1,  153.520,2,  149.210,2,   35.970,2,    0.000,2,    2.521,2, -999.000,9, -999.000,9, -999.000,9, -999.000,9, -999.000,9
           NA,    P10N,    113,   1,-999.0,     -99,  2,20050603,0229,  35.7385,  148.2943,  5829, 4501.000,    1.464,   34.690,2,   34.689,6,  130.920,1,  158.470,2,  146.730,2,   35.550,2,    0.000,2,    2.490,2, -999.000,9, -999.000,9, -999.000,9, -999.000,9, -999.000,9
           NA,    P10N,    113,   1,-999.0,     -99,  2,20050603,0229,  35.7385,  148.2943,  5829, 4750.900,    1.481,   34.691,2,   34.691,2,  133.050,1,  160.510,2,  145.830,2,   35.460,2,    0.000,2,    2.480,2, -999.000,9, -999.000,9, -999.000,9, -999.000,9, -999.000,9
           NA,    P10N,    113,   1,-999.0,     -99,  2,20050603,0229,  35.7385,  148.2943,  5829, 5001.900,    1.500,   34.692,2,   34.692,2,  135.130,1,  162.470,6,  144.640,2,   35.340,2,    0.000,2,    2.468,2, -999.000,9, -999.000,9, -999.000,9, -999.000,9, -999.000,9
           NA,    P10N,    113,   1,-999.0,     -99,  2,20050603,0229,  35.7385,  148.2943,  5829, 5248.800,    1.520,   34.693,2,   34.693,2,  137.520,1,  164.490,2,  143.090,2,   35.220,2,    0.000,2,    2.459,2, -999.000,9, -999.000,9, -999.000,9, -999.000,9, -999.000,9
           NA,    P10N,    113,   1,-999.0,     -99,  2,20050603,0229,  35.7385,  148.2943,  5829, 5500.100,    1.546,   34.694,2,   34.693,2,  139.160,1,  165.500,2,  142.190,2,   35.110,2,    0.010,2,    2.450,2, -999.000,9, -999.000,9, -999.000,9, -999.000,9, -999.000,9
           NA,    P10N,    113,   1,-999.0,     -99,  2,20050603,0229,  35.7385,  148.2943,  5829, 5749.100,    1.575,   34.694,2,   34.694,2,  140.760,1,  166.570,2,  141.070,2,   35.080,2,    0.010,2,    2.448,2, -999.000,9, -999.000,9, -999.000,9, -999.000,9, -999.000,9
           NA,    P10N,    113,   1,-999.0,     -99,  2,20050603,0229,  35.7385,  148.2943,  5829, 5934.800,    1.597,   34.695,2,   34.694,6,  142.120,1,  167.120,2,  140.840,2,   35.080,2,    0.000,2,    2.443,2, -999.000,9, -999.000,9, -999.000,9, -999.000,9, -999.000,9