BOTTLE,20214413JOAExport
EXPOCODE,SECT_ID,STNNBR,CASTNO,SAMPNO,BTLNBR,BTLNBR_FLAG_W,DATE,TIME,LATITUDE,LONGITUDE,DEPTH,CTDPRS,CTDTMP,CTDSAL,CTDSAL_FLAG_W,SALNTY,SALNTY_FLAG_W,CTDOXY,CTDOXY_FLAG_W,OXYGEN,OXYGEN_FLAG_W,SILCAT,SILCAT_FLAG_W,NITRAT,NITRAT_FLAG_W,NITRIT,NITRIT_FLAG_W,PHSPHT,PHSPHT_FLAG_W,CFC-11,CFC-11_FLAG_W,CFC-12,CFC-12_FLAG_W,SF6,SF6_FLAG_W,TCARBN,TCARBN_FLAG_W,ALKALI,ALKALI_FLAG_W
,,,,,,,,,,,,,DB,ITS-90,PSS-78,,PSS-78,,UMOL/KG,,UMOL/KG,,UMOL/KG,,UMOL/KG,,UMOL/KG,,UMOL/KG,,PMOL/KG,,PMOL/KG,,FMOL/KG,,UMOL/KG,,UMOL/KG
           NA,    P10N,    117,   1,-999.0,     -99,  2,20050602,0432,  36.7545,  147.6358,  5685,   10.100,   16.811,   34.507,2,   34.507,2,  221.620,1,  246.800,6,    5.730,2,    1.630,2,    0.120,2,    0.217,2,    2.402,2,    1.397,2, -999.000,9, -999.000,9, -999.000,9
           NA,    P10N,    117,   1,-999.0,     -99,  2,20050602,0432,  36.7545,  147.6358,  5685,   50.200,   14.167,   34.509,2,   34.508,2,  174.220,1,  189.720,2,   16.030,2,   11.270,2,    0.140,2,    0.832,2,    2.267,2,    1.280,2, -999.000,9, -999.000,9, -999.000,9
           NA,    P10N,    117,   1,-999.0,     -99,  2,20050602,0432,  36.7545,  147.6358,  5685,  101.300,   10.889,   34.271,2,   34.271,2,  218.670,1,  247.640,2,   14.570,2,   10.850,2,    0.020,2,    0.820,2,    3.158,2,    1.701,2, -999.000,9, -999.000,9, -999.000,9
           NA,    P10N,    117,   1,-999.0,     -99,  2,20050602,0432,  36.7545,  147.6358,  5685,  151.400,    9.295,   34.114,2,   34.114,2,  213.160,1,  243.490,2,   20.520,2,   13.620,2,    0.020,2,    1.039,2,    3.319,2,    1.775,2, -999.000,9, -999.000,9, -999.000,9
           NA,    P10N,    117,   1,-999.0,     -99,  2,20050602,0432,  36.7545,  147.6358,  5685,  200.300,    7.203,   33.868,2,   33.864,2,  209.520,1,  239.170,2,   30.770,2,   17.970,2,    0.020,2,    1.387,2,    3.606,2,    1.876,2, -999.000,9, -999.000,9, -999.000,9
           NA,    P10N,    117,   1,-999.0,     -99,  2,20050602,0432,  36.7545,  147.6358,  5685,  250.400,    5.885,   33.804,2,   33.805,2,  181.700,1,  207.520,2,   45.660,2,   24.030,2,    0.020,2,    1.830,2,    3.392,6,    1.725,6, -999.000,9, -999.000,9, -999.000,9
           NA,    P10N,    117,   1,-999.0,     -99,  2,20050602,0432,  36.7545,  147.6358,  5685,  300.900,    5.917,   33.934,2,   33.932,2,  151.140,1,  172.690,2,   54.550,2,   26.910,2,    0.020,2,    2.019,2,    2.622,2,    1.376,2, -999.000,9, -999.000,9, -999.000,9
           NA,    P10N,    117,   1,-999.0,     -99,  2,20050602,0432,  36.7545,  147.6358,  5685,  399.900,    4.797,   33.976,2,   33.972,2,  107.530,1,  122.680,2,   76.070,2,   33.490,2,    0.010,2,    2.475,2,    2.046,2,    1.050,2, -999.000,9, -999.000,9, -999.000,9
           NA,    P10N,    117,   1,-999.0,     -99,  2,20050602,0432,  36.7545,  147.6358,  5685,  501.300,    4.722,   34.146,2,   34.146,6,   70.820,1,   79.830,2,   92.370,2,   37.140,2,    0.010,2,    2.705,2,    1.117,2,    0.554,2, -999.000,9, -999.000,9, -999.000,9
           NA,    P10N,    117,   1,-999.0,     -99,  2,20050602,0432,  36.7545,  147.6358,  5685,  599.600,    4.070,   34.197,2,   34.200,2,   52.770,1,   58.930,2,  107.320,2,   39.660,2,    0.010,2,    2.881,2,    0.784,2,    0.382,2, -999.000,9, -999.000,9, -999.000,9
           NA,    P10N,    117,   1,-999.0,     -99,  2,20050602,0432,  36.7545,  147.6358,  5685,  700.800,    3.821,   34.274,2,   34.276,2,   45.840,1,   50.780,2,  116.640,2,   40.670,2,    0.000,2,    2.944,2,    0.467,2,    0.223,2, -999.000,9, -999.000,9, -999.000,9
           NA,    P10N,    117,   1,-999.0,     -99,  2,20050602,0432,  36.7545,  147.6358,  5685,  801.500,    3.491,   34.326,2,   34.326,2,   39.690,1,   43.710,2,  125.790,2,   41.610,2,    0.010,2,    3.006,2,    0.282,6,    0.133,6, -999.000,9, -999.000,9, -999.000,9
           NA,    P10N,    117,   1,-999.0,     -99,  2,20050602,0432,  36.7545,  147.6358,  5685,  900.000,    3.196,   34.377,2,   34.378,2,   37.950,1,   41.510,2,  134.270,2,   42.090,2,    0.010,2,    3.035,2,    0.170,2,    0.079,2, -999.000,9, -999.000,9, -999.000,9
           NA,    P10N,    117,   1,-999.0,     -99,  2,20050602,0432,  36.7545,  147.6358,  5685, 1000.600,    3.010,   34.411,2,   34.412,6,   35.980,1,   39.300,2,  139.630,2,   42.530,2,    0.010,2,    3.064,2,    0.093,2,    0.031,2, -999.000,9, -999.000,9, -999.000,9
           NA,    P10N,    117,   1,-999.0,     -99,  2,20050602,0432,  36.7545,  147.6358,  5685, 1199.900,    2.652,   34.466,2,   34.466,2,   38.190,1,   42.100,6,  149.390,2,   42.610,2,    0.010,2,    3.066,2,    0.055,2,    0.027,2, -999.000,9, -999.000,9, -999.000,9
           NA,    P10N,    117,   1,-999.0,     -99,  2,20050602,0432,  36.7545,  147.6358,  5685, 1399.500,    2.375,   34.514,2,   34.514,2,   42.870,1,   47.970,2,  156.890,2,   42.480,2,    0.010,2,    3.045,2,    0.021,2,    0.011,2, -999.000,9, -999.000,9, -999.000,9
           NA,    P10N,    117,   1,-999.0,     -99,  2,20050602,0432,  36.7545,  147.6358,  5685, 1600.400,    2.167,   34.552,2,   34.552,2,   50.660,1,   57.250,2,  160.580,2,   41.950,2,    0.010,2,    2.999,2,    0.009,2,    0.006,2, -999.000,9, -999.000,9, -999.000,9
           NA,    P10N,    117,   1,-999.0,     -99,  2,20050602,0432,  36.7545,  147.6358,  5685, 1800.800,    2.015,   34.582,2,   34.582,2,   60.210,1,   69.070,2,  162.540,2,   41.410,2,    0.000,2,    2.949,2,   -0.002,2,    0.004,2, -999.000,9, -999.000,9, -999.000,9
           NA,    P10N,    117,   1,-999.0,     -99,  2,20050602,0432,  36.7545,  147.6358,  5685, 2000.500,    1.871,   34.608,2,   34.608,2,   72.740,1,   84.650,2,  161.600,2,   40.370,2,    0.010,2,    2.872,2,    0.002,2,    0.002,2, -999.000,9, -999.000,9, -999.000,9
           NA,    P10N,    117,   1,-999.0,     -99,  2,20050602,0432,  36.7545,  147.6358,  5685, 2199.300,    1.773,   34.625,2,   34.625,6,   81.020,1,   94.740,2,  161.560,2,   39.810,2,    0.010,2,    2.825,2,    0.000,2,    0.000,2, -999.000,9, -999.000,9, -999.000,9
           NA,    P10N,    117,   1,-999.0,     -99,  2,20050602,0432,  36.7545,  147.6358,  5685, 2399.800,    1.689,   34.640,2,   34.639,2,   89.750,1,  105.720,2,  159.800,2,   38.950,2,    0.010,2,    2.765,2,    0.001,2,    0.003,2, -999.000,9, -999.000,9, -999.000,9
           NA,    P10N,    117,   1,-999.0,     -99,  2,20050602,0432,  36.7545,  147.6358,  5685, 2601.900,    1.624,   34.650,2,   34.650,2,   96.820,1,  114.460,2,  159.100,2,   38.580,2,    0.010,2,    2.729,2,    0.000,2,   -0.009,2, -999.000,9, -999.000,9, -999.000,9
           NA,    P10N,    117,   1,-999.0,     -99,  2,20050602,0432,  36.7545,  147.6358,  5685, 2801.300,    1.572,   34.659,2,   34.659,2,  102.990,1,  122.280,2,  157.570,2,   37.940,2,    0.010,2,    2.690,2, -999.000,9, -999.000,9, -999.000,9, -999.000,9, -999.000,9
           NA,    P10N,    117,   1,-999.0,     -99,  2,20050602,0432,  36.7545,  147.6358,  5685, 3002.400,    1.538,   34.665,2,   34.665,2,  107.930,1,  128.540,6,  156.150,2,   37.640,2,    0.010,2,    2.653,2, -999.000,9, -999.000,9, -999.000,9, -999.000,9, -999.000,9
           NA,    P10N,    117,   1,-999.0,     -99,  2,20050602,0432,  36.7545,  147.6358,  5685, 3250.200,    1.505,   34.672,2, -999.000,3,  113.810,1,  135.950,2,  154.530,2,   37.140,2,    0.010,2,    2.604,2, -999.000,9, -999.000,9, -999.000,9, -999.000,9, -999.000,9
           NA,    P10N,    117,   1,-999.0,     -99,  2,20050602,0432,  36.7545,  147.6358,  5685, 3498.700,    1.480,   34.677,2,   34.677,2,  118.470,1,  141.540,2,  152.820,2,   36.680,2,    0.010,2,    2.577,2, -999.000,9, -999.000,9, -999.000,9, -999.000,9, -999.000,9
           NA,    P10N,    117,   1,-999.0,     -99,  2,20050602,0432,  36.7545,  147.6358,  5685, 3748.500,    1.464,   34.682,2,   34.681,2,  122.700,1,  146.600,2,  152.030,2,   36.430,2,    0.010,2,    2.551,2, -999.000,9, -999.000,9, -999.000,9, -999.000,9, -999.000,9
           NA,    P10N,    117,   1,-999.0,     -99,  2,20050602,0432,  36.7545,  147.6358,  5685, 3999.200,    1.459,   34.685,2,   34.684,2,  126.110,1,  150.810,2,  150.690,2,   36.210,2,    0.000,2,    2.532,2, -999.000,9, -999.000,9, -999.000,9, -999.000,9, -999.000,9
           NA,    P10N,    117,   1,-999.0,     -99,  2,20050602,0432,  36.7545,  147.6358,  5685, 4251.100,    1.461,   34.687,2,   34.687,2,  129.200,1,  154.110,2,  149.490,2,   35.960,2,    0.000,2,    2.510,2, -999.000,9, -999.000,9, -999.000,9, -999.000,9, -999.000,9
           NA,    P10N,    117,   1,-999.0,     -99,  2,20050602,0432,  36.7545,  147.6358,  5685, 4499.700,    1.470,   34.689,2,   34.688,6,  132.030,1,  157.030,2,  148.290,2,   35.780,2,    0.000,2,    2.497,2, -999.000,9, -999.000,9, -999.000,9, -999.000,9, -999.000,9
           NA,    P10N,    117,   1,-999.0,     -99,  2,20050602,0432,  36.7545,  147.6358,  5685, 4751.000,    1.483,   34.691,2,   34.690,2,  134.550,1,  159.600,2,  146.810,2,   35.510,2,    0.000,2,    2.483,2, -999.000,9, -999.000,9, -999.000,9, -999.000,9, -999.000,9
           NA,    P10N,    117,   1,-999.0,     -99,  2,20050602,0432,  36.7545,  147.6358,  5685, 4999.400,    1.501,   34.692,2,   34.691,2,  136.640,1,  161.320,6,  145.560,2,   35.350,2,    0.010,2,    2.476,2, -999.000,9, -999.000,9, -999.000,9, -999.000,9, -999.000,9
           NA,    P10N,    117,   1,-999.0,     -99,  2,20050602,0432,  36.7545,  147.6358,  5685, 5249.300,    1.525,   34.693,2,   34.692,2,  138.660,1,  162.940,2,  144.480,2,   35.320,2,    0.010,2,    2.469,2, -999.000,9, -999.000,9, -999.000,9, -999.000,9, -999.000,9
           NA,    P10N,    117,   1,-999.0,     -99,  2,20050602,0432,  36.7545,  147.6358,  5685, 5499.000,    1.551,   34.694,2,   34.693,2,  140.390,1,  164.050,2,  143.560,2,   35.240,2,    0.000,2,    2.464,2, -999.000,9, -999.000,9, -999.000,9, -999.000,9, -999.000,9
           NA,    P10N,    117,   1,-999.0,     -99,  2,20050602,0432,  36.7545,  147.6358,  5685, 5750.400,    1.580,   34.694,2,   34.693,2,  142.100,1,  164.690,2,  143.200,2,   35.170,2,    0.010,2,    2.465,2, -999.000,9, -999.000,9, -999.000,9, -999.000,9, -999.000,9
           NA,    P10N,    117,   1,-999.0,     -99,  2,20050602,0432,  36.7545,  147.6358,  5685, 5787.400,    1.585,   34.694,2,   34.693,6,  142.540,1,  164.720,2,  143.180,2,   35.150,2,    0.010,2,    2.460,2, -999.000,9, -999.000,9, -999.000,9, -999.000,9, -999.000,9
           NA,    P10N,    118,   1,-999.0,     -99,  2,20050601,2247,  36.9858,  147.4755,  5624,   10.400,   16.803,   34.503,2,   34.501,2,  235.440,1,  259.480,6,    5.090,2,    0.340,2,    0.030,2,    0.136,2,    2.626,2,    1.446,2, -999.000,9, 1997.900,2, 2284.600,2
           NA,    P10N,    118,   1,-999.0,     -99,  2,20050601,2247,  36.9858,  147.4755,  5624,   50.100,   13.549,   34.454,2,   34.444,2,  228.920,1,  250.390,2,    7.860,2,    4.900,2,    0.520,2,    0.482,2,    2.965,2,    1.591,2, -999.000,9, 2043.700,6, 2286.200,2
           NA,    P10N,    118,   1,-999.0,     -99,  2,20050601,2247,  36.9858,  147.4755,  5624,   99.700,   11.662,   34.341,2,   34.335,2,  211.110,1,  231.180,2,   15.960,2,   11.390,2,    0.020,2,    0.850,2,    3.012,2,    1.580,2, -999.000,9, 2084.300,2, 2279.300,6
           NA,    P10N,    118,   1,-999.0,     -99,  2,20050601,2247,  36.9858,  147.4755,  5624,  149.900,    9.833,   34.181,2,   34.170,2,  189.410,1,  210.760,2,   25.280,2,   16.090,2,    0.010,2,    1.207,2, -999.000,9, -999.000,9, -999.000,9, 2118.500,2, 2278.400,2
           NA,    P10N,    118,   1,-999.0,     -99,  2,20050601,2247,  36.9858,  147.4755,  5624,  199.900,    7.711,   33.938,2,   33.920,2,  208.080,1,  231.120,2,   30.320,2,   17.900,2,    0.020,2,    1.372,2,    3.560,2,    1.809,2, -999.000,9, 2130.800,2, 2273.500,2
           NA,    P10N,    118,   1,-999.0,     -99,  2,20050601,2247,  36.9858,  147.4755,  5624,  249.600,    6.396,   33.844,2,   33.837,2,  198.330,1,  215.630,2,   41.420,2,   22.380,2,    0.020,2,    1.711,2,    3.523,2,    1.760,2, -999.000,9, 2158.300,2, 2273.500,2
           NA,    P10N,    118,   1,-999.0,     -99,  2,20050601,2247,  36.9858,  147.4755,  5624,  299.500,    5.444,   33.837,2,   33.835,2,  165.760,1,  182.290,2,   54.590,2,   27.150,2,    0.020,2,    2.054,2,    3.145,2,    1.544,2, -999.000,9, 2195.100,2, 2282.900,2
           NA,    P10N,    118,   1,-999.0,     -99,  2,20050601,2247,  36.9858,  147.4755,  5624,  398.900,    4.800,   33.939,2,   33.934,2,  119.060,1,  128.790,2,   73.780,2,   33.090,2,    0.000,2,    2.454,2,    2.356,2,    1.118,2, -999.000,9, 2248.000,2, 2298.600,2
           NA,    P10N,    118,   1,-999.0,     -99,  2,20050601,2247,  36.9858,  147.4755,  5624,  498.100,    4.589,   34.099,2,   34.105,2,   76.780,1,   83.570,2,   91.490,2,   37.190,2,    0.000,2,    2.712,2,    1.276,2,    0.586,2, -999.000,9, 2286.800,2, 2323.900,2
           NA,    P10N,    118,   1,-999.0,     -99,  2,20050601,2247,  36.9858,  147.4755,  5624,  601.500,    4.176,   34.194,2,   34.203,2,   57.420,1,   61.440,2,  104.740,2,   39.300,2,    0.000,2,    2.851,2,    0.738,2,    0.299,2, -999.000,9, 2315.500,2, 2340.400,2
           NA,    P10N,    118,   1,-999.0,     -99,  2,20050601,2247,  36.9858,  147.4755,  5624,  700.300,    3.793,   34.275,2,   34.278,2,   46.060,1,   48.840,2,  117.240,2,   40.830,2,    0.000,2,    2.956,2,    0.404,2,    0.171,2, -999.000,9, 2336.800,6, 2353.900,2
           NA,    P10N,    118,   1,-999.0,     -99,  2,20050601,2247,  36.9858,  147.4755,  5624,  801.900,    3.465,   34.332,2,   34.332,2,   42.050,1,   44.360,2,  126.540,2,   41.550,2,    0.000,2,    3.004,2,    0.252,6,    0.108,6, -999.000,9, 2349.800,2, 2363.600,6
           NA,    P10N,    118,   1,-999.0,     -99,  2,20050601,2247,  36.9858,  147.4755,  5624,  900.400,    3.193,   34.378,2,   34.379,2,   40.080,1,   42.000,2,  134.380,2,   41.990,2,    0.000,2,    3.035,2,    0.153,2,    0.060,2, -999.000,9, 2358.600,2, 2372.000,2
           NA,    P10N,    118,   1,-999.0,     -99,  2,20050601,2247,  36.9858,  147.4755,  5624, 1000.100,    2.974,   34.411,2,   34.414,6,   39.540,1,   41.560,2,  140.560,2,   42.270,2,    0.000,2,    3.049,2,    0.108,2,    0.039,2, -999.000,9, 2365.100,2, 2380.300,2
           NA,    P10N,    118,   1,-999.0,     -99,  2,20050601,2247,  36.9858,  147.4755,  5624, 1200.100,    2.601,   34.473,2,   34.474,2,   40.770,1,   42.790,6,  150.810,2,   42.560,2,    0.000,2,    3.059,2,    0.045,2,    0.013,2, -999.000,9, 2375.600,2, 2391.800,2
           NA,    P10N,    118,   1,-999.0,     -99,  2,20050601,2247,  36.9858,  147.4755,  5624, 1400.600,    2.340,   34.521,2,   34.521,2,   46.760,1,   49.760,2,  157.080,2,   42.360,2,    0.000,2,    3.036,2,    0.016,2,    0.000,2, -999.000,9, 2374.700,2, 2402.500,2
           NA,    P10N,    118,   1,-999.0,     -99,  2,20050601,2247,  36.9858,  147.4755,  5624, 1599.900,    2.180,   34.551,2,   34.550,2,   52.840,1,   56.420,2,  160.510,2,   42.230,2,    0.000,2,    3.004,2,    0.001,2,    0.000,2, -999.000,9, 2378.900,2, 2412.000,2
           NA,    P10N,    118,   1,-999.0,     -99,  2,20050601,2247,  36.9858,  147.4755,  5624, 1799.100,    2.011,   34.582,2,   34.582,2,   63.730,1,   68.910,2,  162.190,2,   41.390,2,    0.000,2,    2.943,2,    0.001,2,    0.000,2, -999.000,9, 2376.700,2, 2413.600,2
           NA,    P10N,    118,   1,-999.0,     -99,  2,20050601,2247,  36.9858,  147.4755,  5624, 2002.300,    1.866,   34.608,2,   34.608,2,   76.030,1,   83.060,2,  162.260,2,   40.550,2,    0.000,2,    2.876,2,   -0.004,2,    0.000,2, -999.000,9, 2368.900,2, 2415.300,2
           NA,    P10N,    118,   1,-999.0,     -99,  2,20050601,2247,  36.9858,  147.4755,  5624, 2198.400,    1.778,   34.625,2,   34.625,6,   86.090,1,   94.750,2,  161.290,2,   39.820,2,    0.000,2,    2.823,2,    0.001,2,    0.000,2, -999.000,9, 2359.800,2, 2418.700,2
           NA,    P10N,    118,   1,-999.0,     -99,  2,20050601,2247,  36.9858,  147.4755,  5624, 2600.300,    1.621,   34.650,2,   34.650,2,  102.730,1,  113.490,2,  159.700,2,   38.630,2,    0.000,2,    2.729,2,    0.000,2,    0.000,2, -999.000,9, 2348.300,2, 2416.800,6
           NA,    P10N,    118,   1,-999.0,     -99,  2,20050601,2247,  36.9858,  147.4755,  5624, 2798.700,    1.579,   34.659,2,   34.658,2,  110.330,1,  122.010,2,  157.490,2,   38.090,2,    0.000,2,    2.686,2, -999.000,9, -999.000,9, -999.000,9, 2346.300,2, 2419.300,2
           NA,    P10N,    118,   1,-999.0,     -99,  2,20050601,2247,  36.9858,  147.4755,  5624, 3002.000,    1.540,   34.665,2,   34.665,2,  115.830,1,  128.160,6,  155.850,2,   37.520,2,    0.000,2,    2.645,2, -999.000,9, -999.000,9, -999.000,9, 2342.400,2, 2420.700,2
           NA,    P10N,    118,   1,-999.0,     -99,  2,20050601,2247,  36.9858,  147.4755,  5624, 3250.100,    1.506,   34.672,2,   34.672,6,  123.420,1,  135.710,2,  154.490,2,   37.140,2,    0.000,2,    2.614,2, -999.000,9, -999.000,9, -999.000,9, 2331.100,2, 2423.400,2
           NA,    P10N,    118,   1,-999.0,     -99,  2,20050601,2247,  36.9858,  147.4755,  5624, 3499.100,    1.480,   34.677,2,   34.677,2,  130.550,1,  142.160,2,  152.710,2,   36.870,2,    0.000,2,    2.579,2, -999.000,9, -999.000,9, -999.000,9, 2330.300,2, -999.000,3
           NA,    P10N,    118,   1,-999.0,     -99,  2,20050601,2247,  36.9858,  147.4755,  5624, 3499.300,    1.480,   34.677,2,   34.677,2,  130.540,1,  142.050,2,  152.750,2,   36.760,2,    0.000,2,    2.582,2, -999.000,9, -999.000,9, -999.000,9, 2328.100,2, 2423.400,2
           NA,    P10N,    118,   1,-999.0,     -99,  2,20050601,2247,  36.9858,  147.4755,  5624, 3749.000,    1.465,   34.682,2,   34.681,2,  135.100,1,  146.950,2,  151.470,2,   36.410,2,    0.000,2,    2.551,2, -999.000,9, -999.000,9, -999.000,9, 2329.500,2, -999.000,3
           NA,    P10N,    118,   1,-999.0,     -99,  2,20050601,2247,  36.9858,  147.4755,  5624, 3999.600,    1.460,   34.685,2,   34.684,2,  138.890,1,  150.930,2,  150.090,2,   36.170,2,    0.000,2,    2.530,2, -999.000,9, -999.000,9, -999.000,9, 2323.800,2, 2422.300,2
           NA,    P10N,    118,   1,-999.0,     -99,  2,20050601,2247,  36.9858,  147.4755,  5624, 4248.900,    1.463,   34.687,2,   34.687,2,  141.770,1,  153.650,2,  149.760,2,   36.020,2,    0.000,2,    2.520,2, -999.000,9, -999.000,9, -999.000,9, 2322.400,6, 2420.600,2
           NA,    P10N,    118,   1,-999.0,     -99,  2,20050601,2247,  36.9858,  147.4755,  5624, 4501.400,    1.469,   34.689,2,   34.689,6,  145.120,1,  157.110,2,  148.580,2,   35.770,2,    0.000,2,    2.500,2, -999.000,9, -999.000,9, -999.000,9, 2320.600,2, 2418.200,6
           NA,    P10N,    118,   1,-999.0,     -99,  2,20050601,2247,  36.9858,  147.4755,  5624, 4750.800,    1.484,   34.691,2,   34.691,2,  147.900,1,  159.510,2,  146.820,2,   35.550,2,    0.000,2,    2.485,2, -999.000,9, -999.000,9, -999.000,9, 2316.200,2, 2417.800,2
           NA,    P10N,    118,   1,-999.0,     -99,  2,20050601,2247,  36.9858,  147.4755,  5624, 5000.100,    1.503,   34.692,2,   34.691,2,  149.870,1,  161.110,6,  146.340,2,   35.400,2,    0.000,2,    2.477,2, -999.000,9, -999.000,9, -999.000,9, 2316.800,2, 2416.700,2
           NA,    P10N,    118,   1,-999.0,     -99,  2,20050601,2247,  36.9858,  147.4755,  5624, 5251.200,    1.526,   34.693,2,   34.693,2,  152.280,1,  162.870,2,  144.480,2,   35.400,2,    0.000,2,    2.470,2, -999.000,9, -999.000,9, -999.000,9, 2315.700,2, 2412.400,2
           NA,    P10N,    118,   1,-999.0,     -99,  2,20050601,2247,  36.9858,  147.4755,  5624, 5498.200,    1.551,   34.694,2,   34.693,2,  154.540,1,  164.240,2,  143.470,2,   35.240,2,    0.000,2,    2.459,2, -999.000,9, -999.000,9, -999.000,9, 2313.300,2, 2413.000,2
           NA,    P10N,    118,   1,-999.0,     -99,  2,20050601,2247,  36.9858,  147.4755,  5624, 5728.300,    1.577,   34.694,2,   34.694,6,  156.530,1,  164.740,2,  143.130,2,   35.170,2,    0.000,2,    2.457,2, -999.000,9, -999.000,9, -999.000,9, 2311.300,2, 2410.600,2