BOTTLE,20214413JOAExport
EXPOCODE,SECT_ID,STNNBR,CASTNO,SAMPNO,BTLNBR,BTLNBR_FLAG_W,DATE,TIME,LATITUDE,LONGITUDE,DEPTH,CTDPRS,CTDTMP,CTDSAL,CTDSAL_FLAG_W,SALNTY,SALNTY_FLAG_W,CTDOXY,CTDOXY_FLAG_W,OXYGEN,OXYGEN_FLAG_W,SILCAT,SILCAT_FLAG_W,NITRAT,NITRAT_FLAG_W,NITRIT,NITRIT_FLAG_W,PHSPHT,PHSPHT_FLAG_W,CFC-11,CFC-11_FLAG_W,CFC-12,CFC-12_FLAG_W,SF6,SF6_FLAG_W,TCARBN,TCARBN_FLAG_W,ALKALI,ALKALI_FLAG_W
,,,,,,,,,,,,,DB,ITS-90,PSS-78,,PSS-78,,UMOL/KG,,UMOL/KG,,UMOL/KG,,UMOL/KG,,UMOL/KG,,UMOL/KG,,PMOL/KG,,PMOL/KG,,FMOL/KG,,UMOL/KG,,UMOL/KG
           NA,     P10,     15,   1,-999.0,     -99,  2,20050625,1012,  -0.7443,  145.9305,  2421,   10.800,   29.712,   34.077,2,   34.126,2,  171.320,1,  195.870,6,    0.800,2,    0.030,2,    0.000,2,    0.134,2,    1.382,2,    0.874,2, -999.000,9, 1892.100,2, 2245.900,2
           NA,     P10,     15,   1,-999.0,     -99,  2,20050625,1012,  -0.7443,  145.9305,  2421,   50.200,   30.001,   34.801,2,   34.823,2,  172.220,1,  196.800,2,    0.750,2,    0.030,2,    0.010,2,    0.191,2,    1.381,2,    0.860,2, -999.000,9, 1938.200,6, 2300.000,2
           NA,     P10,     15,   1,-999.0,     -99,  2,20050625,1012,  -0.7443,  145.9305,  2421,  100.500,   27.114,   35.357,2,   35.358,2,  139.020,1,  150.910,2,    2.280,2,    6.140,2,    0.130,2,    0.610,2,    1.588,2,    0.938,2, -999.000,9, 2040.500,2, 2330.100,6
           NA,     P10,     15,   1,-999.0,     -99,  2,20050625,1012,  -0.7443,  145.9305,  2421,  150.400,   24.018,   35.511,2,   35.523,2,  116.530,1,  133.410,2,    2.900,2,    8.870,2,    0.020,2,    0.768,2,    1.743,2,    0.987,2, -999.000,9, 2080.300,2, 2341.800,2
           NA,     P10,     15,   1,-999.0,     -99,  2,20050625,1012,  -0.7443,  145.9305,  2421,  200.400,   19.364,   35.543,2,   35.492,2,  114.930,1,  134.760,2,    4.400,2,   11.540,2,    0.010,2,    0.957,2,    1.811,2,    0.996,2, -999.000,9, 2119.700,2, 2342.800,2
           NA,     P10,     15,   1,-999.0,     -99,  2,20050625,1012,  -0.7443,  145.9305,  2421,  250.500,   15.468,   35.234,2,   35.203,2,  120.310,1,  141.530,2,    7.650,2,   15.230,2,    0.010,2,    1.187,2,    1.613,6,    0.854,6, -999.000,9, 2138.100,2, 2325.400,2
           NA,     P10,     15,   1,-999.0,     -99,  2,20050625,1012,  -0.7443,  145.9305,  2421,  300.000,   11.501,   34.865,2,   34.852,2,  120.920,1,  140.400,2,   16.430,2,   21.520,2,    0.010,2,    1.573,2,    1.165,2,    0.594,2, -999.000,9, 2166.600,2, 2312.400,2
           NA,     P10,     15,   1,-999.0,     -99,  2,20050625,1012,  -0.7443,  145.9305,  2421,  399.600,   10.335,   34.754,2,   34.749,2,   99.250,1,  113.040,2,   23.320,2,   26.430,2,    0.010,2,    1.889,2,    0.792,2,    0.404,2, -999.000,9, 2194.800,2, 2314.800,2
           NA,     P10,     15,   1,-999.0,     -99,  2,20050625,1012,  -0.7443,  145.9305,  2421,  500.900,    8.816,   34.651,2,   34.638,6,  107.400,1,  132.740,2,   26.230,2,   27.860,2,    0.000,2,    1.977,2,    0.612,2,    0.320,2, -999.000,9, 2196.300,2, 2310.900,2
           NA,     P10,     15,   1,-999.0,     -99,  2,20050625,1012,  -0.7443,  145.9305,  2421,  599.700,    6.578,   34.539,2,   34.537,2,  110.410,1,  132.340,2,   40.560,2,   32.060,2,    0.000,2,    2.277,2,    0.262,2,    0.151,2, -999.000,9, 2222.900,2, 2316.600,2
           NA,     P10,     15,   1,-999.0,     -99,  2,20050625,1012,  -0.7443,  145.9305,  2421,  700.300,    6.124,   34.533,2,   34.533,2,  102.250,1,  119.270,2,   49.150,2,   34.160,2,    0.000,2,    2.429,2,    0.162,2,    0.047,2, -999.000,9, 2240.200,6, 2328.600,2
           NA,     P10,     15,   1,-999.0,     -99,  2,20050625,1012,  -0.7443,  145.9305,  2421,  799.800,    5.625,   34.539,2,   34.538,2,   83.550,1,   98.960,2,   60.610,2,   36.910,2,    0.000,2,    2.636,2,    0.054,6,    0.018,6, -999.000,9, 2265.300,2, 2337.200,6
           NA,     P10,     15,   1,-999.0,     -99,  2,20050625,1012,  -0.7443,  145.9305,  2421,  900.800,    5.088,   34.536,2,   34.536,2,   91.830,1,  109.850,2,   68.280,2,   36.440,2,    0.000,2,    2.600,2,    0.048,2,    0.008,2, -999.000,9, 2268.500,2, 2344.200,2
           NA,     P10,     15,   1,-999.0,     -99,  2,20050625,1012,  -0.7443,  145.9305,  2421, 1000.000,    4.409,   34.551,2,   34.551,6,   88.520,1,  105.400,2,   83.030,2,   37.530,2,    0.000,2,    2.693,2,    0.019,2,    0.005,2, -999.000,9, 2287.700,2, 2362.000,2
           NA,     P10,     15,   1,-999.0,     -99,  2,20050625,1012,  -0.7443,  145.9305,  2421, 1200.300,    3.827,   34.569,2,   34.569,2,   86.650,1,  104.180,6,   96.350,2,   38.250,2,    0.000,2,    2.751,2,    0.006,2,    0.000,2, -999.000,9, 2303.900,2, 2375.000,2
           NA,     P10,     15,   1,-999.0,     -99,  2,20050625,1012,  -0.7443,  145.9305,  2421, 1401.200,    3.130,   34.597,2,   34.596,2,   87.030,1,  104.840,2,  113.980,2,   38.740,2,    0.000,2,    2.778,2,    0.000,2,    0.000,2, -999.000,9, 2323.400,2, 2394.700,2
           NA,     P10,     15,   1,-999.0,     -99,  2,20050625,1012,  -0.7443,  145.9305,  2421, 1601.500,    2.718,   34.614,2,   34.614,2,   91.810,1,  111.100,2,  122.990,2,   38.450,2,    0.000,2,    2.747,2,    0.002,2,    0.000,2, -999.000,9, 2328.200,2, 2402.200,2
           NA,     P10,     15,   1,-999.0,     -99,  2,20050625,1012,  -0.7443,  145.9305,  2421, 1801.400,    2.427,   34.628,2,   34.628,6,   95.820,1,  116.200,2,  129.460,2,   38.260,2,    0.000,2,    2.724,2,   -0.001,2,    0.000,2, -999.000,9, 2332.000,2, 2407.300,2
           NA,     P10,     15,   1,-999.0,     -99,  2,20050625,1012,  -0.7443,  145.9305,  2421, 2001.500,    2.226,   34.638,2,   34.638,2,   98.230,1,  119.220,2,  134.080,2,   38.140,2,    0.000,2,    2.709,2,    0.000,2,    0.000,2, -999.000,9, 2335.700,2, 2413.800,2
           NA,     P10,     15,   1,-999.0,     -99,  2,20050625,1012,  -0.7443,  145.9305,  2421, 2201.600,    2.093,   34.645,2,   34.645,2,  101.370,1,  122.930,2,  136.920,2,   37.810,2,    0.000,2,    2.686,2,    0.002,2,    0.000,2, -999.000,9, 2336.700,2, 2417.800,2
           NA,     P10,     15,   1,-999.0,     -99,  2,20050625,1012,  -0.7443,  145.9305,  2421, 2400.400,    1.865,   34.656,2,   34.656,2,  107.060,1,  129.490,2,  140.810,2,   37.500,2,    0.000,2,    2.653,2,   -0.002,2,    0.000,2, -999.000,9, 2335.800,6, 2423.000,2
           NA,     P10,     15,   1,-999.0,     -99,  2,20050625,1012,  -0.7443,  145.9305,  2421, 2436.900,    1.863,   34.657,2,   34.657,6,  107.240,1,  129.710,6,  141.110,2,   37.500,2,    0.000,2,    2.652,2,    0.000,2,    0.000,2, -999.000,9, 2335.400,2, 2422.000,2
           NA,     P10,     16,   1,-999.0,     -99,  2,20050625,0457,  -0.4703,  146.0070,  3417,    9.700,   29.718,   34.024,2,   34.058,2,  171.230,1,  195.900,6,    0.850,2,    0.010,2,    0.000,2,    0.137,2,    1.363,2,    0.844,2, -999.000,9, -999.000,9, -999.000,9
           NA,     P10,     16,   1,-999.0,     -99,  2,20050625,0457,  -0.4703,  146.0070,  3417,   49.800,   29.914,   34.826,2,   34.880,2,  172.510,1,  196.120,2,    0.850,2,    0.100,2,    0.020,2,    0.207,2,    1.372,2,    0.839,2, -999.000,9, -999.000,9, -999.000,9
           NA,     P10,     16,   1,-999.0,     -99,  2,20050625,0457,  -0.4703,  146.0070,  3417,   99.400,   26.502,   35.285,2,   35.298,2,  133.140,1,  150.990,2,    2.480,2,    5.960,2,    0.110,2,    0.600,2,    1.544,2,    0.937,2, -999.000,9, -999.000,9, -999.000,9
           NA,     P10,     16,   1,-999.0,     -99,  2,20050625,0457,  -0.4703,  146.0070,  3417,  149.900,   23.732,   35.524,2,   35.518,2,  115.780,1,  133.440,2,    3.060,2,    9.050,2,    0.020,2,    0.782,2,    1.680,2,    0.983,2, -999.000,9, -999.000,9, -999.000,9
           NA,     P10,     16,   1,-999.0,     -99,  2,20050625,0457,  -0.4703,  146.0070,  3417,  199.500,   18.082,   35.446,2,   35.419,2,  117.030,1,  136.920,2,    5.150,2,   12.350,2,    0.010,2,    1.004,2,    1.710,2,    0.956,2, -999.000,9, -999.000,9, -999.000,9
           NA,     P10,     16,   1,-999.0,     -99,  2,20050625,0457,  -0.4703,  146.0070,  3417,  248.800,   14.283,   35.123,2,   35.101,2,  122.600,1,  144.470,2,    9.580,2,   16.610,2,    0.000,2,    1.262,2,    1.485,6,    0.804,6, -999.000,9, -999.000,9, -999.000,9
           NA,     P10,     16,   1,-999.0,     -99,  2,20050625,0457,  -0.4703,  146.0070,  3417,  301.100,   11.145,   34.830,2,   34.825,2,  117.830,1,  137.840,2,   17.640,2,   22.180,2,    0.000,2,    1.620,2,    1.109,2,    0.582,2, -999.000,9, -999.000,9, -999.000,9
           NA,     P10,     16,   1,-999.0,     -99,  2,20050625,0457,  -0.4703,  146.0070,  3417,  399.500,   10.055,   34.730,2,   34.719,2,   82.770,1,   99.350,2,   25.850,2,   28.450,2,    0.000,2,    2.024,2,    0.646,2,    0.336,2, -999.000,9, -999.000,9, -999.000,9
           NA,     P10,     16,   1,-999.0,     -99,  2,20050625,0457,  -0.4703,  146.0070,  3417,  500.000,    8.527,   34.634,2,   34.623,6,  112.530,1,  135.310,2,   27.150,2,   28.060,2,    0.000,2,    1.997,2,    0.605,2,    0.314,2, -999.000,9, -999.000,9, -999.000,9
           NA,     P10,     16,   1,-999.0,     -99,  2,20050625,0457,  -0.4703,  146.0070,  3417,  600.400,    6.690,   34.538,2,   34.538,2,  115.420,1,  134.320,2,   38.660,2,   31.620,2,    0.000,2,    2.249,2,    0.311,2,    0.163,2, -999.000,9, -999.000,9, -999.000,9
           NA,     P10,     16,   1,-999.0,     -99,  2,20050625,0457,  -0.4703,  146.0070,  3417,  699.300,    6.107,   34.536,2,   34.535,2,   94.230,1,  112.290,2,   50.380,2,   34.750,2,    0.000,2,    2.483,2,    0.134,2,    0.072,2, -999.000,9, -999.000,9, -999.000,9
           NA,     P10,     16,   1,-999.0,     -99,  2,20050625,0457,  -0.4703,  146.0070,  3417,  799.900,    5.671,   34.540,2,   34.539,2,   81.680,1,   96.670,2,   60.330,2,   36.980,2,    0.000,2,    2.655,2,    0.061,6,    0.030,6, -999.000,9, -999.000,9, -999.000,9
           NA,     P10,     16,   1,-999.0,     -99,  2,20050625,0457,  -0.4703,  146.0070,  3417,  901.100,    5.022,   34.538,2,   34.538,2,   91.100,1,  108.800,2,   69.420,2,   36.560,2,    0.000,2,    2.607,2,    0.051,2,    0.026,2, -999.000,9, -999.000,9, -999.000,9
           NA,     P10,     16,   1,-999.0,     -99,  2,20050625,0457,  -0.4703,  146.0070,  3417,  999.600,    4.404,   34.550,2,   34.551,6,   89.150,1,  105.890,2,   82.820,2,   37.470,2,    0.000,2,    2.687,2,    0.023,2,    0.015,2, -999.000,9, -999.000,9, -999.000,9
           NA,     P10,     16,   1,-999.0,     -99,  2,20050625,0457,  -0.4703,  146.0070,  3417, 1202.100,    3.798,   34.569,2,   34.569,2,   87.010,1,  104.900,6,   95.990,2,   38.220,2,    0.000,2,    2.744,2,    0.004,2,    0.001,2, -999.000,9, -999.000,9, -999.000,9
           NA,     P10,     16,   1,-999.0,     -99,  2,20050625,0457,  -0.4703,  146.0070,  3417, 1402.400,    3.075,   34.599,2,   34.599,2,   86.040,1,  104.460,2,  115.320,2,   38.760,2,    0.000,2,    2.785,2,   -0.002,2,    0.000,2, -999.000,9, -999.000,9, -999.000,9
           NA,     P10,     16,   1,-999.0,     -99,  2,20050625,0457,  -0.4703,  146.0070,  3417, 1599.400,    2.774,   34.612,2,   34.612,2,   90.630,1,  110.570,2,  121.660,2,   38.410,2,    0.000,2,    2.750,2,   -0.003,2,    0.001,2, -999.000,9, -999.000,9, -999.000,9
           NA,     P10,     16,   1,-999.0,     -99,  2,20050625,0457,  -0.4703,  146.0070,  3417, 1800.900,    2.443,   34.627,2,   34.627,6,   94.960,1,  116.160,2,  128.390,2,   38.220,2,    0.000,2,    2.726,2,    0.001,2,   -0.003,2, -999.000,9, -999.000,9, -999.000,9
           NA,     P10,     16,   1,-999.0,     -99,  2,20050625,0457,  -0.4703,  146.0070,  3417, 1998.700,    2.238,   34.638,2,   34.638,2,   95.980,1,  118.080,2,  134.160,2,   38.240,2,    0.000,2,    2.724,2,    0.003,2,    0.001,2, -999.000,9, -999.000,9, -999.000,9
           NA,     P10,     16,   1,-999.0,     -99,  2,20050625,0457,  -0.4703,  146.0070,  3417, 2200.100,    2.027,   34.648,2,   34.648,2,  100.660,1,  124.190,2,  138.470,2,   37.810,2,    0.000,2,    2.683,2, -999.000,9, -999.000,9, -999.000,9, -999.000,9, -999.000,9
           NA,     P10,     16,   1,-999.0,     -99,  2,20050625,0457,  -0.4703,  146.0070,  3417, 2399.200,    1.878,   34.656,2,   34.656,6,  104.230,1,  129.000,2,  140.870,2,   37.500,2,    0.000,2,    2.659,2, -999.000,9, -999.000,9, -999.000,9, -999.000,9, -999.000,9
           NA,     P10,     16,   1,-999.0,     -99,  2,20050625,0457,  -0.4703,  146.0070,  3417, 2601.300,    1.725,   34.664,2,   34.664,2,  109.240,1,  135.360,2,  142.530,2,   37.120,2,    0.000,2,    2.623,2, -999.000,9, -999.000,9, -999.000,9, -999.000,9, -999.000,9
           NA,     P10,     16,   1,-999.0,     -99,  2,20050625,0457,  -0.4703,  146.0070,  3417, 2801.600,    1.642,   34.670,2,   34.669,2,  112.860,1,  139.990,2,  143.230,2,   36.830,2,    0.000,2,    2.597,2, -999.000,9, -999.000,9, -999.000,9, -999.000,9, -999.000,9
           NA,     P10,     16,   1,-999.0,     -99,  2,20050625,0457,  -0.4703,  146.0070,  3417, 2998.900,    1.607,   34.673,2,   34.673,6,  114.960,1,  142.510,6,  142.830,2,   36.530,2,    0.000,2,    2.579,2, -999.000,9, -999.000,9, -999.000,9, -999.000,9, -999.000,9
           NA,     P10,     16,   1,-999.0,     -99,  2,20050625,0457,  -0.4703,  146.0070,  3417, 3251.800,    1.588,   34.676,2,   34.675,2,  117.180,1,  144.740,2,  143.060,2,   36.470,2,    0.000,2,    2.559,2, -999.000,9, -999.000,9, -999.000,9, -999.000,9, -999.000,9
           NA,     P10,     16,   1,-999.0,     -99,  2,20050625,0457,  -0.4703,  146.0070,  3417, 3478.000,    1.576,   34.678,2,   34.678,6,  119.270,1,  146.650,6,  142.920,2,   36.310,2,    0.000,2,    2.563,2, -999.000,9, -999.000,9, -999.000,9, -999.000,9, -999.000,9
           NA,     P10,     16,   1,-999.0,     -99,  2,20050625,0457,  -0.4703,  146.0070,  3417, 3478.000,    1.575,   34.678,2,   34.678,2,  119.290,1,  146.790,2,  143.260,2,   36.440,2,    0.000,2,    2.569,2,    0.002,2,    0.001,2, -999.000,9, -999.000,9, -999.000,9