BOTTLE,20214413JOAExport
EXPOCODE,SECT_ID,STNNBR,CASTNO,SAMPNO,BTLNBR,BTLNBR_FLAG_W,DATE,TIME,LATITUDE,LONGITUDE,DEPTH,CTDPRS,CTDTMP,CTDSAL,CTDSAL_FLAG_W,SALNTY,SALNTY_FLAG_W,CTDOXY,CTDOXY_FLAG_W,OXYGEN,OXYGEN_FLAG_W,SILCAT,SILCAT_FLAG_W,NITRAT,NITRAT_FLAG_W,NITRIT,NITRIT_FLAG_W,PHSPHT,PHSPHT_FLAG_W,CFC-11,CFC-11_FLAG_W,CFC-12,CFC-12_FLAG_W,SF6,SF6_FLAG_W,TCARBN,TCARBN_FLAG_W,ALKALI,ALKALI_FLAG_W
,,,,,,,,,,,,,DB,ITS-90,PSS-78,,PSS-78,,UMOL/KG,,UMOL/KG,,UMOL/KG,,UMOL/KG,,UMOL/KG,,UMOL/KG,,PMOL/KG,,PMOL/KG,,FMOL/KG,,UMOL/KG,,UMOL/KG
           NA,    P10N,     97,   1,-999.0,     -99,  2,20050607,0614,  30.5040,  149.3275,  6144,   10.700,   22.362,   34.518,2,   34.569,2,  191.870,1,  222.740,6,    1.680,2,    0.000,2,    0.000,2,    0.030,2,    1.988,2,    1.195,2, -999.000,9, 1994.500,2, 2271.700,2
           NA,    P10N,     97,   1,-999.0,     -99,  2,20050607,0614,  30.5040,  149.3275,  6144,   50.700,   19.701,   34.912,2,   34.912,2,  199.080,1,  231.310,2,    1.890,2,    0.000,2,    0.000,2,    0.050,2,    2.164,2,    1.283,2, -999.000,9, 1993.100,2, 2300.200,2
           NA,    P10N,     97,   1,-999.0,     -99,  2,20050607,0614,  30.5040,  149.3275,  6144,  100.500,   18.247,   34.836,2,   34.836,2,  188.110,1,  220.010,2,    2.530,2,    1.860,2,    0.080,2,    0.173,2,    2.261,2,    1.331,2, -999.000,9, 2011.000,2, 2295.000,6
           NA,    P10N,     97,   1,-999.0,     -99,  2,20050607,0614,  30.5040,  149.3275,  6144,  150.500,   17.688,   34.810,2,   34.810,2,  190.770,1,  222.520,2,    2.980,2,    2.720,2,    0.010,2,    0.214,2,    2.302,2,    1.352,2, -999.000,9, 2009.400,2, 2295.900,2
           NA,    P10N,     97,   1,-999.0,     -99,  2,20050607,0614,  30.5040,  149.3275,  6144,  201.200,   17.470,   34.814,2,   34.813,2,  188.520,1,  220.850,2,    3.250,2,    3.130,2,    0.010,2,    0.243,2,    2.310,2,    1.359,2, -999.000,9, 2010.900,2, 2292.700,2
           NA,    P10N,     97,   1,-999.0,     -99,  2,20050607,0614,  30.5040,  149.3275,  6144,  249.400,   17.319,   34.802,2,   34.804,2,  187.420,1,  220.490,2,    3.420,2,    3.360,2,    0.010,2,    0.253,2,    2.318,6,    1.366,6, -999.000,9, 2018.400,2, 2287.200,2
           NA,    P10N,     97,   1,-999.0,     -99,  2,20050607,0614,  30.5040,  149.3275,  6144,  300.100,   17.087,   34.785,2,   34.785,2,  182.950,1,  214.820,2,    3.980,2,    4.160,2,    0.010,2,    0.303,2,    2.354,2,    1.375,2, -999.000,9, 2021.800,2, 2291.800,2
           NA,    P10N,     97,   1,-999.0,     -99,  2,20050607,0614,  30.5040,  149.3275,  6144,  402.400,   15.771,   34.660,2,   34.659,2,  166.630,1,  195.910,2,    8.180,2,    7.970,2,    0.000,2,    0.563,2,    2.427,2,    1.368,2, -999.000,9, 2052.300,2, 2283.500,2
           NA,    P10N,     97,   1,-999.0,     -99,  2,20050607,0614,  30.5040,  149.3275,  6144,  501.800,   13.261,   34.460,2,   34.457,6,  164.550,1,  194.530,2,   13.990,2,   11.900,2,    0.000,2,    0.851,2,    2.616,2,    1.419,2, -999.000,9, 2079.400,2, 2276.500,2
           NA,    P10N,     97,   1,-999.0,     -99,  2,20050607,0614,  30.5040,  149.3275,  6144,  602.400,   10.303,   34.240,2,   34.237,2,  155.860,1,  185.970,2,   24.890,2,   17.660,2,    0.000,2,    1.276,2,    2.617,2,    1.378,2, -999.000,9, 2120.500,2, 2277.600,2
           NA,    P10N,     97,   1,-999.0,     -99,  2,20050607,0614,  30.5040,  149.3275,  6144,  701.000,    7.818,   34.081,2,   34.078,2,  135.750,1,  161.980,2,   42.260,2,   24.330,2,    0.000,2,    1.782,2,    2.320,2,    1.190,2, -999.000,9, 2172.800,6, 2284.600,2
           NA,    P10N,     97,   1,-999.0,     -99,  2,20050607,0614,  30.5040,  149.3275,  6144,  800.300,    5.675,   34.038,2,   34.037,2,   98.160,1,  117.500,2,   68.050,2,   32.190,2,    0.000,2,    2.363,2,    1.749,6,    0.873,6, -999.000,9, 2237.800,2, 2303.700,6
           NA,    P10N,     97,   1,-999.0,     -99,  2,20050607,0614,  30.5040,  149.3275,  6144,  901.200,    4.746,   34.114,2,   34.115,2,   67.090,1,   79.950,2,   89.420,2,   37.200,2,    0.000,2,    2.706,2,    1.125,2,    0.557,2, -999.000,9, 2283.600,2, 2321.000,2
           NA,    P10N,     97,   1,-999.0,     -99,  2,20050607,0614,  30.5040,  149.3275,  6144, 1001.000,    4.254,   34.208,2,   34.211,6,   45.160,1,   52.450,2,  104.700,2,   40.180,2,    0.000,2,    2.911,2,    0.493,2,    0.242,2, -999.000,9, 2317.100,2, 2342.000,2
           NA,    P10N,     97,   1,-999.0,     -99,  2,20050607,0614,  30.5040,  149.3275,  6144, 1202.300,    3.426,   34.352,2,   34.351,2,   32.490,1,   37.130,6,  128.210,2,   42.440,2,    0.000,2,    3.056,2,    0.128,2,    0.055,2, -999.000,9, 2353.400,2, 2368.600,2
           NA,    P10N,     97,   1,-999.0,     -99,  2,20050607,0614,  30.5040,  149.3275,  6144, 1400.000,    2.936,   34.442,2,   34.441,2,   33.110,1,   37.910,2,  142.150,2,   42.950,2,    0.000,2,    3.087,2,    0.035,2,    0.015,2, -999.000,9, 2366.100,2, 2393.000,2
           NA,    P10N,     97,   1,-999.0,     -99,  2,20050607,0614,  30.5040,  149.3275,  6144, 1600.400,    2.571,   34.501,2,   34.500,2,   38.390,1,   44.810,2,  151.580,2,   42.870,2,    0.000,2,    3.053,2,    0.014,2,    0.005,2, -999.000,9, 2378.200,2, 2397.500,2
           NA,    P10N,     97,   1,-999.0,     -99,  2,20050607,0614,  30.5040,  149.3275,  6144, 1801.100,    2.255,   34.549,2,   34.548,2,   46.900,1,   56.030,2,  158.520,2,   42.240,2,    0.000,2,    3.009,2,    0.008,2,    0.002,2, -999.000,9, 2379.000,2, 2410.700,2
           NA,    P10N,     97,   1,-999.0,     -99,  2,20050607,0614,  30.5040,  149.3275,  6144, 2000.300,    2.032,   34.586,2,   34.584,2,   57.650,1,   69.820,2,  161.630,2,   41.510,2,    0.000,2,    2.944,2,   -0.002,2,   -0.001,2, -999.000,9, 2370.500,2, 2418.100,2
           NA,    P10N,     97,   1,-999.0,     -99,  2,20050607,0614,  30.5040,  149.3275,  6144, 2199.900,    1.900,   34.610,2,   34.607,2,   69.690,1,   85.740,2,  160.730,2,   40.520,2,    0.000,2,    2.866,2,    0.002,2,    0.001,2, -999.000,9, 2363.100,2, 2416.900,2
           NA,    P10N,     97,   1,-999.0,     -99,  2,20050607,0614,  30.5040,  149.3275,  6144, 2400.100,    1.791,   34.628,2,   34.627,2,   78.150,1,   97.090,2,  160.110,2,   39.730,2,    0.000,2,    2.809,2, -999.000,9, -999.000,9, -999.000,9, 2360.400,6, 2420.400,2
           NA,    P10N,     97,   1,-999.0,     -99,  2,20050607,0614,  30.5040,  149.3275,  6144, 2599.400,    1.697,   34.642,2,   34.641,2,   86.610,1,  108.500,2,  158.880,2,   38.970,2,    0.000,2,    2.752,2, -999.000,9, -999.000,9, -999.000,9, 2353.200,2, 2419.800,6
           NA,    P10N,     97,   1,-999.0,     -99,  2,20050607,0614,  30.5040,  149.3275,  6144, 2800.100,    1.629,   34.654,2,   34.652,2,   93.690,1,  118.320,2,  157.300,2,   38.380,2,    0.000,2,    2.704,2, -999.000,9, -999.000,9, -999.000,9, 2345.300,2, -999.000,3
           NA,    P10N,     97,   1,-999.0,     -99,  2,20050607,0614,  30.5040,  149.3275,  6144, 2999.700,    1.582,   34.663,2, -999.000,3,  101.050,1,  128.570,6,  153.860,2,   37.730,2,    0.000,2,    2.650,2, -999.000,9, -999.000,9, -999.000,9, 2339.300,2, -999.000,3
           NA,    P10N,     97,   1,-999.0,     -99,  2,20050607,0614,  30.5040,  149.3275,  6144, 3249.600,    1.547,   34.669,2,   34.669,6,  105.350,1,  134.640,2,  152.740,2,   37.210,2,    0.000,2,    2.613,2, -999.000,9, -999.000,9, -999.000,9, 2336.900,2, 2420.500,2
           NA,    P10N,     97,   1,-999.0,     -99,  2,20050607,0614,  30.5040,  149.3275,  6144, 3498.900,    1.519,   34.675,2,   34.674,2,  109.590,1,  140.760,2,  151.040,2,   36.870,2,    0.000,2,    2.584,2, -999.000,9, -999.000,9, -999.000,9, 2328.800,2, 2422.500,2
           NA,    P10N,     97,   1,-999.0,     -99,  2,20050607,0614,  30.5040,  149.3275,  6144, 3748.800,    1.500,   34.680,2, -999.000,3,  112.930,1,  145.560,2,  149.760,2,   36.540,2,    0.000,2,    2.556,2, -999.000,9, -999.000,9, -999.000,9, 2322.900,2, 2422.600,2
           NA,    P10N,     97,   1,-999.0,     -99,  2,20050607,0614,  30.5040,  149.3275,  6144, 4001.700,    1.489,   34.683,2,   34.682,2,  115.950,1,  150.050,2,  148.490,2,   36.250,2,    0.000,2,    2.533,2, -999.000,9, -999.000,9, -999.000,9, 2323.800,2, 2418.800,2
           NA,    P10N,     97,   1,-999.0,     -99,  2,20050607,0614,  30.5040,  149.3275,  6144, 4251.100,    1.483,   34.686,2, -999.000,3,  118.680,1,  153.860,2,  147.190,2,   35.950,2,    0.000,2,    2.517,2, -999.000,9, -999.000,9, -999.000,9, 2321.600,6, 2421.400,2
           NA,    P10N,     97,   1,-999.0,     -99,  2,20050607,0614,  30.5040,  149.3275,  6144, 4501.500,    1.487,   34.688,2,   34.688,6,  120.930,1,  156.830,2,  146.400,2,   35.780,2,   -0.010,2,    2.502,2, -999.000,9, -999.000,9, -999.000,9, 2319.100,2, 2420.300,6
           NA,    P10N,     97,   1,-999.0,     -99,  2,20050607,0614,  30.5040,  149.3275,  6144, 4752.000,    1.498,   34.690,2,   34.690,2,  123.130,1,  159.620,2,  143.850,2,   35.440,2,    0.000,2,    2.471,2, -999.000,9, -999.000,9, -999.000,9, 2314.600,2, -999.000,3
           NA,    P10N,     97,   1,-999.0,     -99,  2,20050607,0614,  30.5040,  149.3275,  6144, 4999.000,    1.511,   34.692,2,   34.691,2,  125.070,1,  161.810,6,  143.210,2,   35.350,2,    0.000,2,    2.470,2, -999.000,9, -999.000,9, -999.000,9, 2312.300,2, 2419.200,2
           NA,    P10N,     97,   1,-999.0,     -99,  2,20050607,0614,  30.5040,  149.3275,  6144, 5248.300,    1.528,   34.693,2, -999.000,3,  127.390,1,  164.260,2,  142.120,2,   35.260,2,    0.000,2,    2.460,2, -999.000,9, -999.000,9, -999.000,9, 2312.900,2, 2418.100,2
           NA,    P10N,     97,   1,-999.0,     -99,  2,20050607,0614,  30.5040,  149.3275,  6144, 5500.100,    1.549,   34.694,2,   34.694,2,  129.680,1,  166.400,2,  140.360,2,   35.060,2,    0.000,2,    2.448,2, -999.000,9, -999.000,9, -999.000,9, 2308.900,2, 2415.200,2
           NA,    P10N,     97,   1,-999.0,     -99,  2,20050607,0614,  30.5040,  149.3275,  6144, 5750.100,    1.572,   34.695,2,   34.694,2,  131.890,1,  168.210,2,  138.750,2,   34.950,2,    0.000,2,    2.433,2, -999.000,9, -999.000,9, -999.000,9, 2303.900,2, 2413.200,2
           NA,    P10N,     97,   1,-999.0,     -99,  2,20050607,0614,  30.5040,  149.3275,  6144, 6250.900,    1.627,   34.696,2,   34.696,6,  135.950,1,  170.690,2,  136.920,2,   34.760,2,    0.000,2,    2.421,2, -999.000,9, -999.000,9, -999.000,9, 2301.100,2, 2415.300,2