BOTTLE,20214413JOAExport
EXPOCODE,SECT_ID,STNNBR,CASTNO,SAMPNO,BTLNBR,BTLNBR_FLAG_W,DATE,TIME,LATITUDE,LONGITUDE,DEPTH,CTDPRS,CTDTMP,CTDSAL,CTDSAL_FLAG_W,SALNTY,SALNTY_FLAG_W,CTDOXY,CTDOXY_FLAG_W,OXYGEN,OXYGEN_FLAG_W,SILCAT,SILCAT_FLAG_W,NITRAT,NITRAT_FLAG_W,NITRIT,NITRIT_FLAG_W,PHSPHT,PHSPHT_FLAG_W,CFC-11,CFC-11_FLAG_W,CFC-12,CFC-12_FLAG_W,SF6,SF6_FLAG_W,TCARBN,TCARBN_FLAG_W,ALKALI,ALKALI_FLAG_W
,,,,,,,,,,,,,DB,ITS-90,PSS-78,,PSS-78,,UMOL/KG,,UMOL/KG,,UMOL/KG,,UMOL/KG,,UMOL/KG,,UMOL/KG,,PMOL/KG,,PMOL/KG,,FMOL/KG,,UMOL/KG,,UMOL/KG
           NA,    P10N,    128,   1,-999.0,     -99,  2,20050529,1625,  39.5005,  145.7835,  5258,   10.100,   10.084,   33.445,2,   33.445,2,  297.550,1,  316.030,6,    0.830,2,    3.140,2,    0.150,2,    0.553,2,    4.432,2,    2.238,2, -999.000,9, 2029.800,2, 2261.200,2
           NA,    P10N,    128,   1,-999.0,     -99,  2,20050529,1625,  39.5005,  145.7835,  5258,   50.200,    6.470,   33.571,2,   33.571,2,  286.130,1,  302.110,2,   12.590,2,   10.590,2,    0.210,2,    1.087,2, -999.000,9, -999.000,9, -999.000,9, 2086.700,2, 2261.200,2
           NA,    P10N,    128,   1,-999.0,     -99,  2,20050529,1625,  39.5005,  145.7835,  5258,  100.200,    5.679,   33.682,2,   33.660,2,  263.250,1,  280.130,2,   28.630,2,   16.550,2,    0.050,2,    1.337,2,    4.629,2,    2.301,2, -999.000,9, 2118.900,2, 2264.500,6
           NA,    P10N,    128,   1,-999.0,     -99,  2,20050529,1625,  39.5005,  145.7835,  5258,  150.300,    4.064,   33.503,2,   33.508,2,  265.510,1,  280.290,2,   37.230,2,   20.250,2,    0.040,2,    1.621,2, -999.000,9, -999.000,9, -999.000,9, 2137.800,2, 2262.300,2
           NA,    P10N,    128,   1,-999.0,     -99,  2,20050529,1625,  39.5005,  145.7835,  5258,  199.100,    2.117,   33.358,2,   33.368,2,  256.490,1,  270.340,2,   51.540,2,   25.920,2,    0.020,2,    2.055,2,    5.168,2,    2.520,2, -999.000,9, 2173.700,2, 2261.800,2
           NA,    P10N,    128,   1,-999.0,     -99,  2,20050529,1625,  39.5005,  145.7835,  5258,  250.900,    1.842,   33.390,2,   33.397,2,  233.980,1,  247.620,2,   59.500,2,   28.700,2,    0.020,2,    2.256,2,    4.945,2,    2.440,2, -999.000,9, 2199.200,2, 2266.200,2
           NA,    P10N,    128,   1,-999.0,     -99,  2,20050529,1625,  39.5005,  145.7835,  5258,  301.400,    3.082,   33.624,2,   33.624,2,  169.160,1,  177.510,2,   71.240,2,   32.400,2,    0.020,2,    2.466,2, -999.000,9, -999.000,9, -999.000,9, 2237.200,2, 2285.000,2
           NA,    P10N,    128,   1,-999.0,     -99,  2,20050529,1625,  39.5005,  145.7835,  5258,  399.900,    2.906,   33.777,2,   33.783,2,  107.360,1,  108.740,2,   91.950,2,   38.260,2,    0.010,2,    2.835,2,    2.741,2,    1.284,2, -999.000,9, 2292.100,2, 2301.800,2
           NA,    P10N,    128,   1,-999.0,     -99,  2,20050529,1625,  39.5005,  145.7835,  5258,  502.000,    3.355,   33.969,2,   33.968,6,   65.070,1,   66.650,2,  104.350,2,   40.890,2,    0.010,2,    2.985,2,    1.731,2,    0.786,2, -999.000,9, 2319.500,2, 2318.600,2
           NA,    P10N,    128,   1,-999.0,     -99,  2,20050529,1625,  39.5005,  145.7835,  5258,  600.000,    3.224,   34.076,2,   34.079,2,   38.690,1,   38.290,2,  118.820,2,   43.060,2,    0.010,2,    3.114,2,    1.119,2,    0.492,2, -999.000,9, 2347.100,2, 2332.400,2
           NA,    P10N,    128,   1,-999.0,     -99,  2,20050529,1625,  39.5005,  145.7835,  5258,  700.600,    3.220,   34.190,2,   34.191,2,   32.880,1,   30.700,2,  128.720,2,   43.270,2,    0.010,2,    3.129,2,    0.651,2,    0.308,2, -999.000,9, 2357.600,6, 2349.000,2
           NA,    P10N,    128,   1,-999.0,     -99,  2,20050529,1625,  39.5005,  145.7835,  5258,  799.800,    3.012,   34.266,2,   34.266,2,   32.840,1,   31.950,2,  136.380,2,   43.120,2,    0.010,2,    3.122,2,    0.469,6,    0.229,6, -999.000,9, 2364.500,2, 2362.300,6
           NA,    P10N,    128,   1,-999.0,     -99,  2,20050529,1625,  39.5005,  145.7835,  5258,  901.100,    3.067,   34.333,2,   34.334,2,   36.380,1,   36.220,2,  138.000,2,   42.510,2,    0.010,2,    3.085,2,    0.279,2,    0.149,2, -999.000,9, 2364.800,2, 2369.500,2
           NA,    P10N,    128,   1,-999.0,     -99,  2,20050529,1625,  39.5005,  145.7835,  5258, 1000.300,    2.729,   34.354,2,   34.353,6,   29.360,1,   28.530,2,  149.080,2,   43.410,2,    0.010,2,    3.138,2,    0.254,2,    0.130,2, -999.000,9, 2377.100,2, 2376.900,2
           NA,    P10N,    128,   1,-999.0,     -99,  2,20050529,1625,  39.5005,  145.7835,  5258, 1200.100,    2.480,   34.427,2,   34.429,2,   37.080,1,   37.300,6,  156.840,2,   42.980,2,    0.010,2,    3.106,2,    0.171,2,    0.085,2, -999.000,9, 2380.400,2, 2387.400,2
           NA,    P10N,    128,   1,-999.0,     -99,  2,20050529,1625,  39.5005,  145.7835,  5258, 1400.400,    2.309,   34.489,2,   34.488,2,   45.560,1,   46.070,2,  160.720,2,   42.570,2,    0.010,2,    3.069,2,    0.090,2,    0.043,2, -999.000,9, 2382.500,2, 2397.700,2
           NA,    P10N,    128,   1,-999.0,     -99,  2,20050529,1625,  39.5005,  145.7835,  5258, 1601.200,    2.158,   34.543,2,   34.542,2,   54.650,1,   56.000,2,  162.690,2,   42.040,2,    0.010,2,    3.022,2,    0.026,2,    0.020,2, -999.000,9, 2379.200,2, 2405.300,2
           NA,    P10N,    128,   1,-999.0,     -99,  2,20050529,1625,  39.5005,  145.7835,  5258, 1800.000,    2.049,   34.573,2,   34.573,2,   62.750,1,   64.930,2,  163.010,2,   41.660,2,    0.010,2,    2.976,2,    0.010,2,    0.009,2, -999.000,9, 2378.900,2, 2407.400,2
           NA,    P10N,    128,   1,-999.0,     -99,  2,20050529,1625,  39.5005,  145.7835,  5258, 2001.200,    1.920,   34.598,2,   34.598,2,   73.820,1,   78.170,2,  163.490,2,   40.950,2,    0.000,2,    2.918,2,   -0.002,2,    0.007,2, -999.000,9, 2372.900,2, 2414.800,2
           NA,    P10N,    128,   1,-999.0,     -99,  2,20050529,1625,  39.5005,  145.7835,  5258, 2200.500,    1.795,   34.621,2,   34.621,6,   86.660,1,   90.820,2,  162.630,2,   40.070,2,    0.000,2,    2.846,2,    0.002,2,   -0.001,2, -999.000,9, 2365.500,2, 2416.900,2
           NA,    P10N,    128,   1,-999.0,     -99,  2,20050529,1625,  39.5005,  145.7835,  5258, 2400.900,    1.705,   34.637,2,   34.637,2,   97.550,1,  102.910,2,  161.060,2,   39.330,2,    0.000,2,    2.793,2,    0.000,2,   -0.001,2, -999.000,9, 2359.000,6, 2418.100,2
           NA,    P10N,    128,   1,-999.0,     -99,  2,20050529,1625,  39.5005,  145.7835,  5258, 2600.800,    1.637,   34.648,2,   34.649,2,  106.340,1,  112.680,2,  159.390,2,   38.750,2,    0.000,2,    2.743,2,    0.000,2,    0.002,2, -999.000,9, 2351.400,2, 2421.900,6
           NA,    P10N,    128,   1,-999.0,     -99,  2,20050529,1625,  39.5005,  145.7835,  5258, 2800.800,    1.593,   34.657,2,   34.657,2,  113.220,1,  120.170,2,  158.040,2,   38.240,2,    0.000,2,    2.706,2, -999.000,9, -999.000,9, -999.000,9, 2349.100,2, -999.000,3
           NA,    P10N,    128,   1,-999.0,     -99,  2,20050529,1625,  39.5005,  145.7835,  5258, 3001.300,    1.558,   34.663,2,   34.663,2,  118.610,1,  126.100,6,  156.810,2,   37.740,2,    0.000,2,    2.673,2, -999.000,9, -999.000,9, -999.000,9, 2346.300,2, 2423.200,2
           NA,    P10N,    128,   1,-999.0,     -99,  2,20050529,1625,  39.5005,  145.7835,  5258, 3251.000,    1.520,   34.670,2,   34.670,6,  124.700,1,  132.720,2,  156.350,2,   37.380,2,    0.000,2,    2.635,2, -999.000,9, -999.000,9, -999.000,9, 2340.000,2, 2421.700,2
           NA,    P10N,    128,   1,-999.0,     -99,  2,20050529,1625,  39.5005,  145.7835,  5258, 3500.400,    1.491,   34.676,2,   34.675,2,  131.340,1,  139.930,2,  154.130,2,   36.880,2,    0.000,2,    2.603,2, -999.000,9, -999.000,9, -999.000,9, 2337.500,2, 2418.100,2
           NA,    P10N,    128,   1,-999.0,     -99,  2,20050529,1625,  39.5005,  145.7835,  5258, 3500.400,    1.491,   34.676,2,   34.676,2,  131.300,1,  139.970,2,  154.130,2,   36.920,2,    0.000,2,    2.602,2, -999.000,9, -999.000,9, -999.000,9, 2336.800,2, 2420.700,2
           NA,    P10N,    128,   1,-999.0,     -99,  2,20050529,1625,  39.5005,  145.7835,  5258, 3500.800,    1.491,   34.676,2,   34.675,2,  131.320,1,  139.990,2,  153.890,2,   36.930,2,    0.000,2,    2.598,2, -999.000,9, -999.000,9, -999.000,9, 2335.700,2, 2422.200,2
           NA,    P10N,    128,   1,-999.0,     -99,  2,20050529,1625,  39.5005,  145.7835,  5258, 3751.400,    1.467,   34.681,2,   34.681,2,  136.980,1,  145.840,2,  152.410,2,   36.570,2,    0.000,2,    2.570,2, -999.000,9, -999.000,9, -999.000,9, 2331.500,2, 2422.200,2
           NA,    P10N,    128,   1,-999.0,     -99,  2,20050529,1625,  39.5005,  145.7835,  5258, 4001.500,    1.462,   34.684,2,   34.685,2,  141.050,1,  150.000,2,  151.360,2,   36.240,2,    0.000,2,    2.551,2, -999.000,9, -999.000,9, -999.000,9, 2328.100,2, 2419.100,2
           NA,    P10N,    128,   1,-999.0,     -99,  2,20050529,1625,  39.5005,  145.7835,  5258, 4250.300,    1.460,   34.687,2,   34.687,2,  144.930,1,  153.980,2,  150.460,2,   36.000,2,    0.000,2,    2.530,2, -999.000,9, -999.000,9, -999.000,9, 2326.800,6, 2422.200,2
           NA,    P10N,    128,   1,-999.0,     -99,  2,20050529,1625,  39.5005,  145.7835,  5258, 4499.800,    1.469,   34.689,2,   34.689,6,  147.850,1,  156.550,2,  149.830,2,   35.860,2,    0.000,2,    2.515,2, -999.000,9, -999.000,9, -999.000,9, 2325.100,2, 2421.000,6
           NA,    P10N,    128,   1,-999.0,     -99,  2,20050529,1625,  39.5005,  145.7835,  5258, 4750.100,    1.484,   34.691,2,   34.691,2,  150.270,1,  158.490,2,  149.190,2,   35.640,2,    0.000,2,    2.502,2, -999.000,9, -999.000,9, -999.000,9, 2323.800,2, 2419.700,2
           NA,    P10N,    128,   1,-999.0,     -99,  2,20050529,1625,  39.5005,  145.7835,  5258, 4999.300,    1.506,   34.692,2,   34.691,2,  152.180,1,  159.740,6,  149.000,2,   35.610,2,    0.000,2,    2.495,2, -999.000,9, -999.000,9, -999.000,9, 2321.600,2, -999.000,4
           NA,    P10N,    128,   1,-999.0,     -99,  2,20050529,1625,  39.5005,  145.7835,  5258, 5249.900,    1.529,   34.693,2,   34.693,2,  154.830,1,  161.480,2,  147.380,2,   35.380,2,    0.000,2,    2.487,2, -999.000,9, -999.000,9, -999.000,9, 2317.900,2, 2416.500,2
           NA,    P10N,    128,   1,-999.0,     -99,  2,20050529,1625,  39.5005,  145.7835,  5258, 5344.700,    1.538,   34.693,2,   34.693,2,  155.230,1,  161.190,2,  147.860,2,   35.330,2,    0.010,2,    2.493,2, -999.000,9, -999.000,9, -999.000,9, 2321.300,2, 2416.700,2