BOTTLE,20214413JOAExport
EXPOCODE,SECT_ID,STNNBR,CASTNO,SAMPNO,BTLNBR,BTLNBR_FLAG_W,DATE,TIME,LATITUDE,LONGITUDE,DEPTH,CTDPRS,CTDTMP,CTDSAL,CTDSAL_FLAG_W,SALNTY,SALNTY_FLAG_W,CTDOXY,CTDOXY_FLAG_W,OXYGEN,OXYGEN_FLAG_W,SILCAT,SILCAT_FLAG_W,NITRAT,NITRAT_FLAG_W,NITRIT,NITRIT_FLAG_W,PHSPHT,PHSPHT_FLAG_W,CFC-11,CFC-11_FLAG_W,CFC-12,CFC-12_FLAG_W,SF6,SF6_FLAG_W,TCARBN,TCARBN_FLAG_W,ALKALI,ALKALI_FLAG_W
,,,,,,,,,,,,,DB,ITS-90,PSS-78,,PSS-78,,UMOL/KG,,UMOL/KG,,UMOL/KG,,UMOL/KG,,UMOL/KG,,UMOL/KG,,PMOL/KG,,PMOL/KG,,FMOL/KG,,UMOL/KG,,UMOL/KG
           NA,     P10,     63,   1,-999.0,     -99,  2,20050611,1219,  21.8315,  149.3263,  5615,   10.500,   29.198,   34.731,2,   34.732,2,  174.840,1,  197.640,6,    0.850,2,    0.010,2,    0.000,2,    0.049,2,    1.387,2,    0.903,2, -999.000,9, -999.000,9, -999.000,9
           NA,     P10,     63,   1,-999.0,     -99,  2,20050611,1219,  21.8315,  149.3263,  5615,   50.700,   27.879,   34.795,2,   34.810,2,  183.730,1,  209.200,2,    0.800,2,   -0.010,2,    0.000,2,    0.049,2,    1.483,2,    0.955,2, -999.000,9, -999.000,9, -999.000,9
           NA,     P10,     63,   1,-999.0,     -99,  2,20050611,1219,  21.8315,  149.3263,  5615,  100.700,   26.560,   34.862,2,   34.869,2,  181.190,1,  206.750,2,    0.850,2,    0.000,2,    0.000,2,    0.048,2,    1.539,2,    1.000,2, -999.000,9, -999.000,9, -999.000,9
           NA,     P10,     63,   1,-999.0,     -99,  2,20050611,1219,  21.8315,  149.3263,  5615,  150.700,   24.507,   35.078,2,   35.085,2,  170.350,1,  194.860,2,    1.070,2,    0.070,2,    0.150,2,    0.079,2,    1.678,2,    1.079,2, -999.000,9, -999.000,9, -999.000,9
           NA,     P10,     63,   1,-999.0,     -99,  2,20050611,1219,  21.8315,  149.3263,  5615,  201.000,   22.303,   35.124,2,   35.116,2,  160.800,1,  185.810,2,    1.650,2,    1.240,2,    0.020,2,    0.170,2,    1.864,2,    1.180,2, -999.000,9, -999.000,9, -999.000,9
           NA,     P10,     63,   1,-999.0,     -99,  2,20050611,1219,  21.8315,  149.3263,  5615,  250.700,   18.626,   34.878,2,   34.876,2,  166.450,1,  193.830,2,    3.050,2,    3.660,2,    0.010,2,    0.306,2,    2.109,6,    1.309,6, -999.000,9, -999.000,9, -999.000,9
           NA,     P10,     63,   1,-999.0,     -99,  2,20050611,1219,  21.8315,  149.3263,  5615,  300.200,   17.253,   34.772,2,   34.763,2,  173.930,1,  203.870,2,    4.060,2,    4.950,2,    0.010,2,    0.373,2,    2.238,2,    1.362,2, -999.000,9, -999.000,9, -999.000,9
           NA,     P10,     63,   1,-999.0,     -99,  2,20050611,1219,  21.8315,  149.3263,  5615,  400.000,   14.166,   34.502,2,   34.484,2,  162.210,1,  189.940,2,   10.490,2,   10.740,2,    0.000,2,    0.789,2,    2.460,2,    1.406,2, -999.000,9, -999.000,9, -999.000,9
           NA,     P10,     63,   1,-999.0,     -99,  2,20050611,1219,  21.8315,  149.3263,  5615,  500.200,   10.986,   34.273,2,   34.259,6,  153.520,1,  179.230,2,   21.270,2,   17.250,2,    0.000,2,    1.253,2,    2.448,2,    1.327,2, -999.000,9, -999.000,9, -999.000,9
           NA,     P10,     63,   1,-999.0,     -99,  2,20050611,1219,  21.8315,  149.3263,  5615,  599.300,    8.459,   34.141,2,   34.141,2,  119.730,1,  140.680,2,   38.090,2,   25.280,2,    0.000,2,    1.835,2,    1.850,2,    0.952,2, -999.000,9, -999.000,9, -999.000,9
           NA,     P10,     63,   1,-999.0,     -99,  2,20050611,1219,  21.8315,  149.3263,  5615,  700.500,    6.406,   34.135,2,   34.137,2,   75.920,1,   88.880,2,   64.080,2,   33.800,2,    0.000,2,    2.468,2,    0.909,2,    0.455,2, -999.000,9, -999.000,9, -999.000,9
           NA,     P10,     63,   1,-999.0,     -99,  2,20050611,1219,  21.8315,  149.3263,  5615,  799.900,    5.301,   34.238,2,   34.241,2,   50.320,1,   58.370,2,   83.890,2,   38.450,2,    0.000,2,    2.803,2,    0.329,6,    0.152,6, -999.000,9, -999.000,9, -999.000,9
           NA,     P10,     63,   1,-999.0,     -99,  2,20050611,1219,  21.8315,  149.3263,  5615,  899.000,    4.762,   34.326,2,   34.328,2,   45.190,1,   52.580,2,   94.600,2,   39.720,2,    0.000,2,    2.886,2,    0.145,2,    0.064,2, -999.000,9, -999.000,9, -999.000,9
           NA,     P10,     63,   1,-999.0,     -99,  2,20050611,1219,  21.8315,  149.3263,  5615, 1000.100,    4.113,   34.382,2,   34.385,6,   43.800,1,   51.310,2,  109.460,2,   40.920,2,    0.000,2,    2.962,2,    0.070,2,    0.031,2, -999.000,9, -999.000,9, -999.000,9
           NA,     P10,     63,   1,-999.0,     -99,  2,20050611,1219,  21.8315,  149.3263,  5615, 1200.200,    3.520,   34.485,2,   34.486,2,   55.850,1,   66.620,6,  121.140,2,   40.410,2,    0.000,2,    2.909,2,    0.023,2,    0.009,2, -999.000,9, -999.000,9, -999.000,9
           NA,     P10,     63,   1,-999.0,     -99,  2,20050611,1219,  21.8315,  149.3263,  5615, 1400.800,    2.834,   34.520,2,   34.520,2,   57.960,1,   69.870,2,  136.730,2,   40.810,2,    0.000,2,    2.924,2,    0.019,2,    0.011,2, -999.000,9, -999.000,9, -999.000,9
           NA,     P10,     63,   1,-999.0,     -99,  2,20050611,1219,  21.8315,  149.3263,  5615, 1599.900,    2.468,   34.564,2,   34.564,2,   69.660,1,   85.200,2,  141.500,2,   39.990,2,    0.000,2,    2.853,2,    0.004,2,    0.002,2, -999.000,9, -999.000,9, -999.000,9
           NA,     P10,     63,   1,-999.0,     -99,  2,20050611,1219,  21.8315,  149.3263,  5615, 1801.700,    2.194,   34.594,2,   34.595,2,   78.860,1,   97.470,2,  144.630,2,   39.370,2,    0.000,2,    2.797,2,    0.000,2,    0.001,2, -999.000,9, -999.000,9, -999.000,9
           NA,     P10,     63,   1,-999.0,     -99,  2,20050611,1219,  21.8315,  149.3263,  5615, 2000.900,    2.034,   34.615,2,   34.615,2,   84.120,1,  104.740,2,  147.030,2,   39.030,2,    0.000,2,    2.766,2,    0.001,2,    0.001,2, -999.000,9, -999.000,9, -999.000,9
           NA,     P10,     63,   1,-999.0,     -99,  2,20050611,1219,  21.8315,  149.3263,  5615, 2200.800,    1.889,   34.630,2,   34.631,6,   89.040,1,  111.680,2,  148.900,2,   38.670,2,    0.000,2,    2.737,2,   -0.001,2,   -0.002,2, -999.000,9, -999.000,9, -999.000,9
           NA,     P10,     63,   1,-999.0,     -99,  2,20050611,1219,  21.8315,  149.3263,  5615, 2400.900,    1.784,   34.642,2,   34.643,2,   93.570,1,  117.780,2,  149.900,2,   38.280,2,    0.000,2,    2.710,2, -999.000,9, -999.000,9, -999.000,9, -999.000,9, -999.000,9
           NA,     P10,     63,   1,-999.0,     -99,  2,20050611,1219,  21.8315,  149.3263,  5615, 2600.500,    1.710,   34.652,2,   34.652,2,   97.330,1,  123.450,2,  150.380,2,   38.000,2,    0.000,2,    2.681,2, -999.000,9, -999.000,9, -999.000,9, -999.000,9, -999.000,9
           NA,     P10,     63,   1,-999.0,     -99,  2,20050611,1219,  21.8315,  149.3263,  5615, 2799.100,    1.658,   34.660,2,   34.660,2,  101.130,1,  128.640,2,  149.970,2,   37.630,2,    0.000,2,    2.651,2, -999.000,9, -999.000,9, -999.000,9, -999.000,9, -999.000,9
           NA,     P10,     63,   1,-999.0,     -99,  2,20050611,1219,  21.8315,  149.3263,  5615, 2999.400,    1.612,   34.665,2,   34.665,2,  104.050,1,  132.990,6,  150.040,2,   37.410,2,    0.000,2,    2.636,2, -999.000,9, -999.000,9, -999.000,9, -999.000,9, -999.000,9
           NA,     P10,     63,   1,-999.0,     -99,  2,20050611,1219,  21.8315,  149.3263,  5615, 3250.500,    1.568,   34.671,2,   34.672,6,  107.430,1,  137.910,2,  149.790,2,   37.020,2,    0.000,2,    2.596,2, -999.000,9, -999.000,9, -999.000,9, -999.000,9, -999.000,9
           NA,     P10,     63,   1,-999.0,     -99,  2,20050611,1219,  21.8315,  149.3263,  5615, 3499.900,    1.530,   34.677,2,   34.677,2,  111.230,1,  143.500,2,  148.710,2,   36.670,2,    0.000,2,    2.570,2, -999.000,9, -999.000,9, -999.000,9, -999.000,9, -999.000,9
           NA,     P10,     63,   1,-999.0,     -99,  2,20050611,1219,  21.8315,  149.3263,  5615, 3751.300,    1.500,   34.681,2,   34.681,2,  115.150,1,  148.750,2,  147.050,2,   36.370,2,    0.000,2,    2.546,2, -999.000,9, -999.000,9, -999.000,9, -999.000,9, -999.000,9
           NA,     P10,     63,   1,-999.0,     -99,  2,20050611,1219,  21.8315,  149.3263,  5615, 3999.200,    1.488,   34.684,2,   34.685,2,  118.050,1,  152.550,2,  145.620,2,   36.120,2,    0.000,2,    2.526,2, -999.000,9, -999.000,9, -999.000,9, -999.000,9, -999.000,9
           NA,     P10,     63,   1,-999.0,     -99,  2,20050611,1219,  21.8315,  149.3263,  5615, 4248.000,    1.478,   34.688,2,   34.687,2,  121.420,1,  157.280,2,  143.480,2,   35.780,2,    0.000,2,    2.503,2, -999.000,9, -999.000,9, -999.000,9, -999.000,9, -999.000,9
           NA,     P10,     63,   1,-999.0,     -99,  2,20050611,1219,  21.8315,  149.3263,  5615, 4498.400,    1.476,   34.690,2,   34.690,6,  124.320,1,  160.990,2,  141.930,2,   35.520,2,    0.000,2,    2.486,2, -999.000,9, -999.000,9, -999.000,9, -999.000,9, -999.000,9
           NA,     P10,     63,   1,-999.0,     -99,  2,20050611,1219,  21.8315,  149.3263,  5615, 4750.000,    1.478,   34.692,2,   34.693,2,  127.640,1,  164.960,2,  139.660,2,   35.220,2,    0.000,2,    2.458,2, -999.000,9, -999.000,9, -999.000,9, -999.000,9, -999.000,9
           NA,     P10,     63,   1,-999.0,     -99,  2,20050611,1219,  21.8315,  149.3263,  5615, 5000.900,    1.490,   34.694,2,   34.694,2,  130.460,1,  167.970,6,  137.660,2,   34.970,2,    0.000,2,    2.441,2, -999.000,9, -999.000,9, -999.000,9, -999.000,9, -999.000,9
           NA,     P10,     63,   1,-999.0,     -99,  2,20050611,1219,  21.8315,  149.3263,  5615, 5248.000,    1.501,   34.695,2,   34.696,2,  133.410,1,  170.870,2,  135.960,2,   34.850,2,    0.000,2,    2.429,2, -999.000,9, -999.000,9, -999.000,9, -999.000,9, -999.000,9
           NA,     P10,     63,   1,-999.0,     -99,  2,20050611,1219,  21.8315,  149.3263,  5615, 5498.600,    1.509,   34.697,2,   34.698,2,  136.860,1,  174.210,2,  134.060,2,   34.560,2,    0.000,2,    2.404,2, -999.000,9, -999.000,9, -999.000,9, -999.000,9, -999.000,9
           NA,     P10,     63,   1,-999.0,     -99,  2,20050611,1219,  21.8315,  149.3263,  5615, 5713.600,    1.514,   34.699,2,   34.700,6,  140.110,1,  177.130,2,  132.420,2,   34.340,2,    0.000,2,    2.398,2, -999.000,9, -999.000,9, -999.000,9, -999.000,9, -999.000,9
           NA,     P10,     64,   1,-999.0,     -99,  2,20050611,0528,  22.5022,  149.3513,  5708,    9.900,   29.093,   34.610,2,   34.637,2,  175.130,1,  198.350,6,    0.880,2,    0.040,2,    0.000,2,    0.055,2,    1.419,2,    0.885,2, -999.000,9, 1930.500,2, 2281.200,2
           NA,     P10,     64,   1,-999.0,     -99,  2,20050611,0528,  22.5022,  149.3513,  5708,   49.900,   28.065,   34.680,2,   34.689,2,  180.510,1,  205.660,2,    0.830,2,    0.020,2,    0.010,2,    0.048,2,    1.495,2,    0.927,2, -999.000,9, 1931.300,6, 2285.500,2
           NA,     P10,     64,   1,-999.0,     -99,  2,20050611,0528,  22.5022,  149.3513,  5708,   99.200,   25.968,   34.947,2,   34.949,2,  182.430,1,  208.260,2,    0.830,2,    0.010,2,    0.010,2,    0.046,2,    1.604,2,    0.998,2, -999.000,9, 1952.500,2, 2300.500,6
           NA,     P10,     64,   1,-999.0,     -99,  2,20050611,0528,  22.5022,  149.3513,  5708,  149.800,   24.406,   35.096,2,   35.115,2,  170.660,1,  193.250,2,    1.120,2,    0.160,2,    0.120,2,    0.095,2,    1.756,2,    1.082,2, -999.000,9, 1995.900,2, 2310.300,2
           NA,     P10,     64,   1,-999.0,     -99,  2,20050611,0528,  22.5022,  149.3513,  5708,  199.400,   21.409,   35.088,2,   35.082,2,  161.040,1,  186.380,2,    1.870,2,    1.660,2,    0.020,2,    0.199,2,    1.985,2,    1.199,2, -999.000,9, 2027.500,2, 2309.300,2
           NA,     P10,     64,   1,-999.0,     -99,  2,20050611,0528,  22.5022,  149.3513,  5708,  250.100,   18.698,   34.896,2,   34.887,2,  163.340,1,  190.270,2,    3.270,2,    3.910,2,    0.010,2,    0.341,2,    2.196,6,    1.304,6, -999.000,9, 2043.200,2, 2299.200,2
           NA,     P10,     64,   1,-999.0,     -99,  2,20050611,0528,  22.5022,  149.3513,  5708,  299.900,   16.828,   34.738,2,   34.731,2,  174.670,1,  203.250,2,    4.610,2,    5.430,2,    0.010,2,    0.415,2,    2.316,2,    1.358,2, -999.000,9, 2040.700,2, 2287.500,2
           NA,     P10,     64,   1,-999.0,     -99,  2,20050611,0528,  22.5022,  149.3513,  5708,  401.400,   14.060,   34.503,2,   34.504,2,  162.940,1,  191.150,2,   10.580,2,   10.490,2,    0.010,2,    0.781,2,    2.521,2,    1.391,2, -999.000,9, 2079.100,2, 2279.500,2
           NA,     P10,     64,   1,-999.0,     -99,  2,20050611,0528,  22.5022,  149.3513,  5708,  501.700,   10.941,   34.283,2,   34.278,2,  147.590,1,  173.450,2,   22.380,2,   17.590,2,    0.010,2,    1.298,2,    2.404,2,    1.252,2, -999.000,9, 2123.900,2, 2274.500,2
           NA,     P10,     64,   1,-999.0,     -99,  2,20050611,0528,  22.5022,  149.3513,  5708,  600.500,    8.242,   34.140,2,   34.140,2,  118.450,1,  140.190,2,   40.170,2,   25.460,2,    0.010,2,    1.872,2,    1.858,2,    0.927,2, -999.000,9, 2182.900,2, 2285.900,2
           NA,     P10,     64,   1,-999.0,     -99,  2,20050611,0528,  22.5022,  149.3513,  5708,  700.900,    6.335,   34.128,2,   34.130,6,   77.570,1,   91.920,2,   64.090,2,   33.430,2,    0.010,2,    2.457,2,    0.888,2,    0.428,2, -999.000,9, 2249.200,6, 2303.500,2
           NA,     P10,     64,   1,-999.0,     -99,  2,20050611,0528,  22.5022,  149.3513,  5708,  799.900,    5.267,   34.200,2,   34.205,2,   56.070,1,   65.180,2,   83.840,2,   37.760,2,    0.010,2,    2.775,2,    0.493,6,    0.225,6, -999.000,9, 2292.200,2, 2327.400,6
           NA,     P10,     64,   1,-999.0,     -99,  2,20050611,0528,  22.5022,  149.3513,  5708,  900.300,    4.470,   34.276,2,   34.276,2,   44.700,1,   52.010,2,  100.680,2,   40.170,2,    0.000,2,    2.913,2,    0.266,2,    0.120,2, -999.000,9, 2320.700,2, 2345.200,2
           NA,     P10,     64,   1,-999.0,     -99,  2,20050611,0528,  22.5022,  149.3513,  5708, 1001.000,    3.963,   34.372,2,   34.372,2,   42.340,1,   49.170,2,  112.420,2,   40.970,2,    0.000,2,    2.979,2,    0.095,2,    0.038,2, -999.000,9, 2336.400,2, 2363.700,2
           NA,     P10,     64,   1,-999.0,     -99,  2,20050611,0528,  22.5022,  149.3513,  5708, 1200.700,    3.299,   34.472,2,   34.472,6,   50.360,1,   59.760,6,  127.220,2,   41.100,2,    0.000,2,    2.964,2,    0.031,2,    0.010,2, -999.000,9, 2349.100,2, 2383.700,2
           NA,     P10,     64,   1,-999.0,     -99,  2,20050611,0528,  22.5022,  149.3513,  5708, 1402.000,    2.793,   34.529,2,   34.529,2,   60.380,1,   72.670,2,  136.850,2,   40.540,2,    0.000,2,    2.917,2,    0.016,2,    0.003,2, -999.000,9, 2353.200,2, 2398.700,2
           NA,     P10,     64,   1,-999.0,     -99,  2,20050611,0528,  22.5022,  149.3513,  5708, 1600.900,    2.439,   34.568,2,   34.568,2,   70.060,1,   85.440,2,  142.140,2,   39.990,2,    0.000,2,    2.863,2,    0.003,2,    0.000,2, -999.000,9, 2351.800,2, 2400.000,2
           NA,     P10,     64,   1,-999.0,     -99,  2,20050611,0528,  22.5022,  149.3513,  5708, 1802.000,    2.174,   34.595,2,   34.596,2,   77.580,1,   95.610,2,  146.030,2,   39.540,2,    0.000,2,    2.815,2,    0.002,2,   -0.001,2, -999.000,9, 2351.000,2, 2412.000,2
           NA,     P10,     64,   1,-999.0,     -99,  2,20050611,0528,  22.5022,  149.3513,  5708, 1999.700,    1.989,   34.617,2,   34.617,2,   84.690,1,  105.020,2,  147.910,2,   39.010,2,    0.000,2,    2.771,2,    0.003,2,   -0.001,2, -999.000,9, 2348.600,2, 2415.400,2
           NA,     P10,     64,   1,-999.0,     -99,  2,20050611,0528,  22.5022,  149.3513,  5708, 2202.200,    1.858,   34.633,2, -999.000,3,   90.120,1,  112.470,2,  149.140,2,   38.500,2,    0.000,2,    2.733,2,    0.005,2,    0.000,2, -999.000,9, 2347.600,2, 2416.700,2
           NA,     P10,     64,   1,-999.0,     -99,  2,20050611,0528,  22.5022,  149.3513,  5708, 2401.100,    1.768,   34.644,2,   34.644,2,   94.440,1,  118.680,2,  149.790,2,   38.160,2,    0.000,2,    2.703,2,    0.004,2,   -0.001,2, -999.000,9, 2345.500,6, 2417.200,2
           NA,     P10,     64,   1,-999.0,     -99,  2,20050611,0528,  22.5022,  149.3513,  5708, 2601.100,    1.688,   34.653,2,   34.653,2,   98.720,1,  124.840,2,  150.240,2,   37.880,2,    0.000,2,    2.678,2,    0.000,2,   -0.002,2, -999.000,9, 2342.800,2, 2419.800,6
           NA,     P10,     64,   1,-999.0,     -99,  2,20050611,0528,  22.5022,  149.3513,  5708, 2800.800,    1.627,   34.661,2,   34.661,2,  102.350,1,  130.020,2,  150.250,2,   37.540,2,    0.000,2,    2.648,2,   -0.002,2,   -0.001,2, -999.000,9, 2337.900,2, 2421.600,2
           NA,     P10,     64,   1,-999.0,     -99,  2,20050611,0528,  22.5022,  149.3513,  5708, 3001.700,    1.582,   34.667,2,   34.667,2,  105.540,1,  134.700,6,  149.690,2,   37.180,2,    0.000,2,    2.624,2,    0.001,2,    0.001,2, -999.000,9, 2339.000,2, 2422.000,2
           NA,     P10,     64,   1,-999.0,     -99,  2,20050611,0528,  22.5022,  149.3513,  5708, 3249.500,    1.542,   34.672,2,   34.672,6,  108.730,1,  139.390,2,  149.540,2,   36.880,2,    0.000,2,    2.594,2,   -0.001,2,   -0.001,2, -999.000,9, 2335.100,2, 2423.700,2
           NA,     P10,     64,   1,-999.0,     -99,  3,20050611,0528,  22.5022,  149.3513,  5708, 3498.800,    1.509,   34.677,2,   34.677,2,  112.310,1,  144.720,2,  148.540,2,   36.510,2,    0.000,2,    2.568,2,   -0.001,2,    0.001,2, -999.000,9, 2331.100,2, 2418.100,2
           NA,     P10,     64,   1,-999.0,     -99,  2,20050611,0528,  22.5022,  149.3513,  5708, 3750.800,    1.488,   34.682,2,   34.681,2,  115.610,1,  149.200,2,  147.120,2,   36.160,2,    0.000,2,    2.546,2,   -0.004,2,   -0.002,2, -999.000,9, 2326.500,2, 2420.800,2
           NA,     P10,     64,   1,-999.0,     -99,  2,20050611,0528,  22.5022,  149.3513,  5708, 4000.900,    1.467,   34.686,2,   34.685,2,  119.350,1,  154.450,2,  145.170,2,   35.890,2,    0.000,2,    2.521,2,    0.002,2,    0.002,2, -999.000,9, 2322.000,2, 2421.000,2
           NA,     P10,     64,   1,-999.0,     -99,  2,20050611,0528,  22.5022,  149.3513,  5708, 4250.500,    1.464,   34.688,2,   34.688,2,  122.290,1,  158.470,2,  143.320,2,   35.590,2,    0.000,2,    2.501,2,    0.000,2,    0.004,2, -999.000,9, 2319.600,6, 2416.300,2
           NA,     P10,     64,   1,-999.0,     -99,  2,20050611,0528,  22.5022,  149.3513,  5708, 4500.000,    1.463,   34.691,2,   34.691,6,  125.490,1,  162.720,2,  141.020,2,   35.340,2,    0.010,2,    2.477,2,    0.001,2,    0.000,2, -999.000,9, 2315.900,2, 2416.000,6
           NA,     P10,     64,   1,-999.0,     -99,  2,20050611,0528,  22.5022,  149.3513,  5708, 4750.700,    1.471,   34.693,2,   34.693,2,  128.110,1,  165.720,2,  139.180,2,   35.070,2,    0.000,2,    2.460,2,   -0.001,2,    0.001,2, -999.000,9, 2312.200,2, 2415.400,2
           NA,     P10,     64,   1,-999.0,     -99,  2,20050611,0528,  22.5022,  149.3513,  5708, 5000.400,    1.481,   34.694,2,   34.695,2,  130.840,1,  168.990,6,  137.270,2,   34.790,2,    0.000,2,    2.442,2,    0.003,2,    0.001,2, -999.000,9, 2310.100,2, 2412.800,2
           NA,     P10,     64,   1,-999.0,     -99,  2,20050611,0528,  22.5022,  149.3513,  5708, 5250.400,    1.492,   34.696,2,   34.697,2,  133.990,1,  171.880,2,  135.280,2,   34.680,2,    0.010,2,    2.424,2,   -0.002,2,    0.000,2, -999.000,9, 2305.500,2, 2406.800,2
           NA,     P10,     64,   1,-999.0,     -99,  2,20050611,0528,  22.5022,  149.3513,  5708, 5500.100,    1.504,   34.698,2,   34.698,2,  136.970,1,  174.870,2,  133.460,2,   34.400,2,    0.010,2,    2.411,2,   -0.001,2,   -0.001,2, -999.000,9, 2302.400,2, 2408.300,2
           NA,     P10,     64,   1,-999.0,     -99,  2,20050611,0528,  22.5022,  149.3513,  5708, 5749.100,    1.525,   34.699,2,   34.699,2,  139.230,1,  176.510,2,  132.730,2,   34.320,2,    0.000,2,    2.401,2,   -0.003,2,    0.000,2, -999.000,9, 2303.800,2, 2407.200,2
           NA,     P10,     64,   1,-999.0,     -99,  2,20050611,0528,  22.5022,  149.3513,  5708, 5811.200,    1.534,   34.699,2,   34.699,6,  139.610,1,  176.560,2,  132.490,2,   34.280,2,    0.000,2,    2.401,2,   -0.003,2,   -0.001,2, -999.000,9, 2300.100,2, 2407.800,2