BOTTLE,20214413JOAExport
EXPOCODE,SECT_ID,STNNBR,CASTNO,SAMPNO,BTLNBR,BTLNBR_FLAG_W,DATE,TIME,LATITUDE,LONGITUDE,DEPTH,CTDPRS,CTDTMP,CTDSAL,CTDSAL_FLAG_W,SALNTY,SALNTY_FLAG_W,CTDOXY,CTDOXY_FLAG_W,OXYGEN,OXYGEN_FLAG_W,SILCAT,SILCAT_FLAG_W,NITRAT,NITRAT_FLAG_W,NITRIT,NITRIT_FLAG_W,PHSPHT,PHSPHT_FLAG_W,CFC-11,CFC-11_FLAG_W,CFC-12,CFC-12_FLAG_W,SF6,SF6_FLAG_W,TCARBN,TCARBN_FLAG_W,ALKALI,ALKALI_FLAG_W
,,,,,,,,,,,,,DB,ITS-90,PSS-78,,PSS-78,,UMOL/KG,,UMOL/KG,,UMOL/KG,,UMOL/KG,,UMOL/KG,,UMOL/KG,,PMOL/KG,,PMOL/KG,,FMOL/KG,,UMOL/KG,,UMOL/KG
           NA,    P10N,     99,   1,-999.0,     -99,  2,20050606,1559,  31.8420,  149.3213,  5666,    9.600,   20.824,   34.386,2,   34.429,2,  197.480,1,  229.580,6,    1.590,2,    0.010,2,    0.000,2,    0.045,2,    2.155,2,    1.292,2, -999.000,9, -999.000,9, -999.000,9
           NA,    P10N,     99,   1,-999.0,     -99,  2,20050606,1559,  31.8420,  149.3213,  5666,   49.700,   18.415,   34.812,2,   34.813,2,  202.150,1,  234.790,2,    1.590,2,    0.010,2,    0.020,2,    0.073,2,    2.293,2,    1.357,2, -999.000,9, -999.000,9, -999.000,9
           NA,    P10N,     99,   1,-999.0,     -99,  2,20050606,1559,  31.8420,  149.3213,  5666,  100.200,   17.788,   34.834,2,   34.834,2,  191.840,1,  223.290,2,    2.800,2,    2.370,2,    0.020,2,    0.206,2,    2.312,2,    1.364,2, -999.000,9, -999.000,9, -999.000,9
           NA,    P10N,     99,   1,-999.0,     -99,  2,20050606,1559,  31.8420,  149.3213,  5666,  149.300,   17.600,   34.825,2,   34.824,2,  192.910,1,  224.830,2,    2.830,2,    2.510,2,    0.020,2,    0.218,2,    2.325,2,    1.371,2, -999.000,9, -999.000,9, -999.000,9
           NA,    P10N,     99,   1,-999.0,     -99,  2,20050606,1559,  31.8420,  149.3213,  5666,  198.700,   17.428,   34.816,2,   34.816,2,  191.790,1,  223.700,2,    3.140,2,    2.950,2,    0.010,2,    0.249,2,    2.335,2,    1.376,2, -999.000,9, -999.000,9, -999.000,9
           NA,    P10N,     99,   1,-999.0,     -99,  2,20050606,1559,  31.8420,  149.3213,  5666,  249.000,   17.298,   34.808,2,   34.809,2,  192.030,1,  224.860,2,    3.190,2,    2.970,2,    0.010,2,    0.244,2,    2.352,6,    1.382,6, -999.000,9, -999.000,9, -999.000,9
           NA,    P10N,     99,   1,-999.0,     -99,  2,20050606,1559,  31.8420,  149.3213,  5666,  301.500,   17.158,   34.805,2,   34.804,2,  194.250,1,  227.070,2,    3.300,2,    2.990,2,    0.010,2,    0.247,2,    2.339,2,    1.372,2, -999.000,9, -999.000,9, -999.000,9
           NA,    P10N,     99,   1,-999.0,     -99,  2,20050606,1559,  31.8420,  149.3213,  5666,  402.500,   15.755,   34.657,2,   34.654,2,  165.740,1,  194.310,2,    8.650,2,    8.290,2,    0.010,2,    0.600,2,    2.379,2,    1.355,2, -999.000,9, -999.000,9, -999.000,9
           NA,    P10N,     99,   1,-999.0,     -99,  2,20050606,1559,  31.8420,  149.3213,  5666,  500.400,   13.678,   34.506,2,   34.502,6,  153.380,1,  180.420,2,   15.830,2,   12.900,2,    0.010,2,    0.923,2,    2.404,2,    1.308,2, -999.000,9, -999.000,9, -999.000,9
           NA,    P10N,     99,   1,-999.0,     -99,  2,20050606,1559,  31.8420,  149.3213,  5666,  599.500,   10.631,   34.297,2,   34.295,2,  145.050,1,  171.750,2,   28.700,2,   18.610,2,    0.010,2,    1.351,2,    2.335,2,    1.244,2, -999.000,9, -999.000,9, -999.000,9
           NA,    P10N,     99,   1,-999.0,     -99,  2,20050606,1559,  31.8420,  149.3213,  5666,  699.300,    7.901,   34.114,2,   34.112,2,  133.480,1,  159.450,2,   45.120,2,   24.500,2,    0.000,2,    1.803,2,    2.245,2,    1.167,2, -999.000,9, -999.000,9, -999.000,9
           NA,    P10N,     99,   1,-999.0,     -99,  2,20050606,1559,  31.8420,  149.3213,  5666,  800.300,    5.761,   34.038,2,   34.041,2,  107.180,1,  127.470,2,   66.810,2,   31.290,2,    0.010,2,    2.300,2,    1.922,6,    0.970,6, -999.000,9, -999.000,9, -999.000,9
           NA,    P10N,     99,   1,-999.0,     -99,  2,20050606,1559,  31.8420,  149.3213,  5666,  901.700,    4.814,   34.139,2,   34.140,2,   68.180,1,   83.840,2,   89.480,2,   36.820,2,    0.000,2,    2.677,2,    1.104,2,    0.549,2, -999.000,9, -999.000,9, -999.000,9
           NA,    P10N,     99,   1,-999.0,     -99,  2,20050606,1559,  31.8420,  149.3213,  5666, 1001.700,    4.305,   34.222,2,   34.221,6,   53.060,1,   62.810,2,  103.940,2,   39.000,2,    0.000,2,    2.831,2,    0.712,2,    0.343,2, -999.000,9, -999.000,9, -999.000,9
           NA,    P10N,     99,   1,-999.0,     -99,  2,20050606,1559,  31.8420,  149.3213,  5666, 1199.200,    3.490,   34.337,2,   34.338,2,   38.580,1,   44.750,6,  126.390,2,   41.570,2,    0.000,2,    3.001,2,    0.267,2,    0.133,2, -999.000,9, -999.000,9, -999.000,9
           NA,    P10N,     99,   1,-999.0,     -99,  2,20050606,1559,  31.8420,  149.3213,  5666, 1402.700,    2.901,   34.434,2,   34.435,2,   35.120,1,   40.420,2,  143.030,2,   42.670,2,    0.000,2,    3.066,2,    0.078,2,    0.034,2, -999.000,9, -999.000,9, -999.000,9
           NA,    P10N,     99,   1,-999.0,     -99,  2,20050606,1559,  31.8420,  149.3213,  5666, 1600.100,    2.542,   34.494,2,   34.495,2,   38.040,1,   44.390,2,  152.510,2,   42.750,2,    0.000,2,    3.060,2,    0.032,2,    0.012,2, -999.000,9, -999.000,9, -999.000,9
           NA,    P10N,     99,   1,-999.0,     -99,  2,20050606,1559,  31.8420,  149.3213,  5666, 1801.900,    2.289,   34.541,2,   34.541,2,   45.390,1,   53.910,2,  156.930,2,   42.140,2,    0.010,2,    3.017,2,    0.010,2,    0.004,2, -999.000,9, -999.000,9, -999.000,9
           NA,    P10N,     99,   1,-999.0,     -99,  2,20050606,1559,  31.8420,  149.3213,  5666, 2002.600,    2.060,   34.581,2,   34.581,2,   56.400,1,   67.790,2,  160.440,2,   41.490,2,    0.010,2,    2.946,2,   -0.001,2,    0.000,2, -999.000,9, -999.000,9, -999.000,9
           NA,    P10N,     99,   1,-999.0,     -99,  2,20050606,1559,  31.8420,  149.3213,  5666, 2200.000,    1.907,   34.607,2,   34.608,6,   68.320,1,   83.710,2,  160.750,2,   40.670,2,    0.000,2,    2.880,2,   -0.001,2,    0.000,2, -999.000,9, -999.000,9, -999.000,9
           NA,    P10N,     99,   1,-999.0,     -99,  2,20050606,1559,  31.8420,  149.3213,  5666, 2400.000,    1.784,   34.628,2,   34.628,2,   79.070,1,   98.040,2,  159.230,2,   39.750,2,    0.000,2,    2.806,2,   -0.001,2,    0.000,2, -999.000,9, -999.000,9, -999.000,9
           NA,    P10N,     99,   1,-999.0,     -99,  2,20050606,1559,  31.8420,  149.3213,  5666, 2601.200,    1.701,   34.642,2,   34.642,2,   87.140,1,  109.080,2,  157.780,2,   39.030,2,    0.000,2,    2.751,2,    0.002,2,    0.001,2, -999.000,9, -999.000,9, -999.000,9
           NA,    P10N,     99,   1,-999.0,     -99,  2,20050606,1559,  31.8420,  149.3213,  5666, 2801.600,    1.634,   34.653,2,   34.653,2,   93.540,1,  117.660,2,  156.920,2,   38.450,2,    0.000,2,    2.708,2,   -0.004,2,    0.003,2, -999.000,9, -999.000,9, -999.000,9
           NA,    P10N,     99,   1,-999.0,     -99,  2,20050606,1559,  31.8420,  149.3213,  5666, 3000.100,    1.586,   34.661,2,   34.661,2,   98.850,1,  125.030,6,  155.630,2,   37.980,2,    0.000,2,    2.670,2,    0.000,2,   -0.004,2, -999.000,9, -999.000,9, -999.000,9
           NA,    P10N,     99,   1,-999.0,     -99,  2,20050606,1559,  31.8420,  149.3213,  5666, 3252.900,    1.538,   34.669,2,   34.669,6,  104.920,1,  133.660,2,  153.520,2,   37.380,2,    0.000,2,    2.619,2,    0.006,2,   -0.002,2, -999.000,9, -999.000,9, -999.000,9
           NA,    P10N,     99,   1,-999.0,     -99,  2,20050606,1559,  31.8420,  149.3213,  5666, 3501.300,    1.512,   34.675,2,   34.674,2,  109.060,1,  139.430,2,  152.210,2,   37.070,2,    0.000,2,    2.594,2,   -0.003,2,   -0.004,2, -999.000,9, -999.000,9, -999.000,9
           NA,    P10N,     99,   1,-999.0,     -99,  2,20050606,1559,  31.8420,  149.3213,  5666, 3749.900,    1.486,   34.680,2,   34.680,2,  113.170,1,  145.260,2,  150.580,2,   36.540,2,    0.010,2,    2.564,2,   -0.003,2,   -0.004,2, -999.000,9, -999.000,9, -999.000,9
           NA,    P10N,     99,   1,-999.0,     -99,  2,20050606,1559,  31.8420,  149.3213,  5666, 4001.400,    1.475,   34.684,2,   34.683,2,  116.340,1,  149.620,2,  149.840,2,   36.360,2,    0.000,2,    2.542,2,    0.007,2,   -0.002,2, -999.000,9, -999.000,9, -999.000,9
           NA,    P10N,     99,   1,-999.0,     -99,  2,20050606,1559,  31.8420,  149.3213,  5666, 4250.600,    1.474,   34.687,2,   34.686,2,  119.020,1,  153.370,2,  148.450,2,   36.090,2,    0.000,2,    2.523,2,    0.000,2,   -0.006,2, -999.000,9, -999.000,9, -999.000,9
           NA,    P10N,     99,   1,-999.0,     -99,  2,20050606,1559,  31.8420,  149.3213,  5666, 4501.400,    1.478,   34.689,2,   34.689,6,  121.640,1,  156.750,2,  147.060,2,   35.920,2,    0.000,2,    2.505,2,    0.000,2,   -0.004,2, -999.000,9, -999.000,9, -999.000,9
           NA,    P10N,     99,   1,-999.0,     -99,  2,20050606,1559,  31.8420,  149.3213,  5666, 4750.500,    1.487,   34.691,2,   34.691,2,  124.380,1,  159.810,2,  145.330,2,   35.620,2,    0.000,2,    2.484,2,   -0.003,2,   -0.006,2, -999.000,9, -999.000,9, -999.000,9
           NA,    P10N,     99,   1,-999.0,     -99,  2,20050606,1559,  31.8420,  149.3213,  5666, 5002.400,    1.499,   34.693,2,   34.692,2,  127.060,1,  162.810,6,  143.410,2,   35.450,2,    0.000,2,    2.475,2,    0.000,2,   -0.004,2, -999.000,9, -999.000,9, -999.000,9
           NA,    P10N,     99,   1,-999.0,     -99,  2,20050606,1559,  31.8420,  149.3213,  5666, 5253.800,    1.520,   34.694,2,   34.694,2,  129.240,1,  164.700,2,  141.800,2,   35.320,2,    0.000,2,    2.463,2,    0.002,2,   -0.001,2, -999.000,9, -999.000,9, -999.000,9
           NA,    P10N,     99,   1,-999.0,     -99,  2,20050606,1559,  31.8420,  149.3213,  5666, 5502.100,    1.540,   34.695,2,   34.694,2,  131.790,1, -999.000,4,  140.250,2,   35.150,2,    0.000,2,    2.450,2,   -0.002,2,   -0.004,2, -999.000,9, -999.000,9, -999.000,9
           NA,    P10N,     99,   1,-999.0,     -99,  2,20050606,1559,  31.8420,  149.3213,  5666, 5749.600,    1.558,   34.696,2,   34.696,2,  134.590,1,  169.270,2,  138.080,2,   34.940,2,    0.000,2,    2.432,2,    0.000,2,   -0.001,2, -999.000,9, -999.000,9, -999.000,9
           NA,    P10N,     99,   1,-999.0,     -99,  2,20050606,1559,  31.8420,  149.3213,  5666, 5773.200,    1.561,   34.696,2,   34.696,6,  134.950,1,  169.370,2,  138.130,2,   34.990,2,    0.000,2,    2.436,2,    0.002,2,    0.003,2, -999.000,9, -999.000,9, -999.000,9
           NA,    P10N,    100,   1,-999.0,     -99,  2,20050606,1004,  32.1765,  149.3178,  5649,   10.600,   21.337,   34.489,2,   34.505,2,  165.460,1,  225.460,6,    1.660,2,    0.050,2,    0.000,2,    0.065,2,    2.127,2,    1.169,2, -999.000,9, 1964.500,2, 2272.800,2
           NA,    P10N,    100,   1,-999.0,     -99,  2,20050606,1004,  32.1765,  149.3178,  5649,   50.000,   19.433,   34.742,2,   34.741,2,  157.370,1,  215.280,2,    3.030,2,    1.760,2,    0.110,2,    0.186,2,    2.248,2,    1.232,2, -999.000,9, 2000.100,6, 2289.200,2
           NA,    P10N,    100,   1,-999.0,     -99,  2,20050606,1004,  32.1765,  149.3178,  5649,  100.400,   18.127,   34.818,2,   34.818,2,  165.960,1,  227.840,2,    2.320,2,    1.010,2,    0.140,2,    0.146,2,    2.415,2,    1.298,2, -999.000,9, 2002.300,2, 2291.500,6
           NA,    P10N,    100,   1,-999.0,     -99,  2,20050606,1004,  32.1765,  149.3178,  5649,  150.500,   17.720,   34.827,2,   34.826,2,  156.260,1,  217.520,2,    3.380,2,    3.100,2,    0.020,2,    0.254,2,    2.434,2,    1.311,2, -999.000,9, 2016.100,2, 2293.200,2
           NA,    P10N,    100,   1,-999.0,     -99,  2,20050606,1004,  32.1765,  149.3178,  5649,  201.000,   17.531,   34.820,2,   34.818,2,  157.010,1,  219.510,2,    3.230,2,    3.220,2,    0.010,2,    0.252,2,    2.440,2,    1.306,2, -999.000,9, 2011.500,2, 2290.400,2
           NA,    P10N,    100,   1,-999.0,     -99,  2,20050606,1004,  32.1765,  149.3178,  5649,  250.200,   17.405,   34.817,2,   34.815,2,  159.570,1,  223.030,2,    3.200,2,    3.090,2,    0.010,2,    0.248,2,    2.447,6,    1.334,6, -999.000,9, 2012.700,2, 2289.200,2
           NA,    P10N,    100,   1,-999.0,     -99,  2,20050606,1004,  32.1765,  149.3178,  5649,  300.100,   17.192,   34.795,2,   34.793,2,  154.440,1,  216.850,2,    3.840,2,    3.930,2,    0.010,2,    0.298,2,    2.455,2,    1.323,2, -999.000,9, 2016.500,2, 2287.800,2
           NA,    P10N,    100,   1,-999.0,     -99,  2,20050606,1004,  32.1765,  149.3178,  5649,  399.900,   16.113,   34.688,2,   34.686,2,  139.050,1,  197.530,2,    7.560,2,    7.490,2,    0.010,2,    0.535,2,    2.538,2,    1.320,2, -999.000,9, 2047.700,2, 2286.400,2
           NA,    P10N,    100,   1,-999.0,     -99,  2,20050606,1004,  32.1765,  149.3178,  5649,  501.100,   13.681,   34.508,2,   34.508,6,  124.730,1,  179.900,2,   15.900,2,   12.880,2,    0.010,2,    0.926,2,    2.544,2,    1.277,2, -999.000,9, 2091.400,2, 2278.300,2
           NA,    P10N,    100,   1,-999.0,     -99,  2,20050606,1004,  32.1765,  149.3178,  5649,  600.100,   10.875,   34.319,2,   34.316,2,  116.220,1,  170.560,2,   27.970,2,   18.370,2,    0.010,2,    1.331,2,    2.474,2,    1.188,2, -999.000,9, 2128.700,2, 2281.100,2
           NA,    P10N,    100,   1,-999.0,     -99,  2,20050606,1004,  32.1765,  149.3178,  5649,  700.400,    8.300,   34.160,2,   34.163,2,  102.530,1,  153.700,2,   43.730,2,   24.310,2,    0.000,2,    1.783,2,    2.257,2,    1.043,2, -999.000,9, 2173.900,6, 2289.200,2
           NA,    P10N,    100,   1,-999.0,     -99,  2,20050606,1004,  32.1765,  149.3178,  5649,  800.800,    5.921,   34.097,2,   34.097,2,   78.600,1,  118.910,2,   69.810,2,   31.850,2,    0.000,2,    2.344,2,    1.750,6,    0.796,6, -999.000,9, 2239.200,2, 2303.000,6
           NA,    P10N,    100,   1,-999.0,     -99,  2,20050606,1004,  32.1765,  149.3178,  5649,  901.200,    5.070,   34.146,2,   34.148,2,   57.950,1,   88.650,2,   86.080,2,   35.880,2,    0.000,2,    2.605,2,    1.202,2,    0.526,2, -999.000,9, 2277.300,2, 2319.700,2
           NA,    P10N,    100,   1,-999.0,     -99,  2,20050606,1004,  32.1765,  149.3178,  5649, 1001.500,    4.222,   34.208,2,   34.207,6,   40.620,1,   63.060,2,  105.340,2,   39.460,2,    0.000,2,    2.865,2,    0.759,2,    0.332,2, -999.000,9, 2311.000,2, 2338.300,2
           NA,    P10N,    100,   1,-999.0,     -99,  2,20050606,1004,  32.1765,  149.3178,  5649, 1200.600,    3.457,   34.335,2,   34.335,2,   28.260,1,   42.280,6,  127.370,2,   41.960,2,    0.010,2,    3.031,2,    0.228,2,    0.096,2, -999.000,9, 2347.400,2, 2364.400,2
           NA,    P10N,    100,   1,-999.0,     -99,  2,20050606,1004,  32.1765,  149.3178,  5649, 1400.800,    2.911,   34.436,2,   34.436,2,   25.220,1,   37.650,2,  143.190,2,   43.010,2,    0.000,2,    3.098,2,    0.037,2,    0.017,2, -999.000,9, 2368.200,2, 2385.100,2
           NA,    P10N,    100,   1,-999.0,     -99,  2,20050606,1004,  32.1765,  149.3178,  5649, 1602.100,    2.542,   34.495,2,   34.494,2,   27.920,1,   42.570,2,  153.400,2,   43.000,2,    0.000,2,    3.080,2,    0.017,2,    0.005,2, -999.000,9, 2377.400,2, 2394.600,2
           NA,    P10N,    100,   1,-999.0,     -99,  2,20050606,1004,  32.1765,  149.3178,  5649, 1801.400,    2.297,   34.540,2,   34.540,2,   34.150,1,   52.960,2,  158.400,2,   42.540,2,    0.000,2,    3.039,2,    0.003,2,    0.002,2, -999.000,9, 2377.100,2, 2404.200,2
           NA,    P10N,    100,   1,-999.0,     -99,  2,20050606,1004,  32.1765,  149.3178,  5649, 2000.400,    2.090,   34.576,2,   34.576,2,   42.490,1,   67.620,2,  160.760,2,   41.620,2,    0.000,2,    2.965,2,    0.001,2,    0.004,2, -999.000,9, 2369.100,2, 2409.000,2
           NA,    P10N,    100,   1,-999.0,     -99,  2,20050606,1004,  32.1765,  149.3178,  5649, 2201.800,    1.932,   34.602,2,   34.603,6,   49.880,1,   80.650,2,  161.600,2,   40.780,2,    0.000,2,    2.903,2,   -0.001,2,    0.000,2, -999.000,9, 2366.900,2, -999.000,3
           NA,    P10N,    100,   1,-999.0,     -99,  2,20050606,1004,  32.1765,  149.3178,  5649, 2400.700,    1.809,   34.624,2,   34.625,2,   57.720,1,   94.700,2,  160.960,2,   39.930,2,    0.000,2,    2.833,2, -999.000,9, -999.000,9, -999.000,9, 2358.000,6, 2414.300,2
           NA,    P10N,    100,   1,-999.0,     -99,  2,20050606,1004,  32.1765,  149.3178,  5649, 2601.800,    1.723,   34.639,2,   34.640,2,   64.510,1,  107.270,2,  158.440,2,   39.100,2,    0.010,2,    2.775,2, -999.000,9, -999.000,9, -999.000,9, 2352.800,2, 2414.700,6
           NA,    P10N,    100,   1,-999.0,     -99,  2,20050606,1004,  32.1765,  149.3178,  5649, 2800.800,    1.661,   34.651,2,   34.650,2,   70.220,1,  117.780,2,  156.060,2,   38.460,2,    0.000,2,    2.722,2, -999.000,9, -999.000,9, -999.000,9, 2347.200,2, 2416.200,2
           NA,    P10N,    100,   1,-999.0,     -99,  2,20050606,1004,  32.1765,  149.3178,  5649, 3001.300,    1.608,   34.659,2,   34.660,2,   74.350,1,  125.320,6,  154.770,2,   38.010,2,    0.000,2,    2.686,2, -999.000,9, -999.000,9, -999.000,9, 2342.200,2, 2417.700,2
           NA,    P10N,    100,   1,-999.0,     -99,  2,20050606,1004,  32.1765,  149.3178,  5649, 3252.000,    1.562,   34.667,2,   34.667,6,   76.840,1,  130.280,2,  154.940,2,   37.640,2,    0.000,2,    2.645,2, -999.000,9, -999.000,9, -999.000,9, 2337.000,2, 2419.900,2
           NA,    P10N,    100,   1,-999.0,     -99,  2,20050606,1004,  32.1765,  149.3178,  5649, 3501.200,    1.530,   34.673,2,   34.673,2,   80.530,1,  137.260,2,  153.390,2,   37.150,2,    0.000,2,    2.616,2, -999.000,9, -999.000,9, -999.000,9, 2333.600,2, 2418.100,2
           NA,    P10N,    100,   1,-999.0,     -99,  2,20050606,1004,  32.1765,  149.3178,  5649, 3751.000,    1.502,   34.679,2,   34.679,2,   83.790,1,  143.250,2,  151.980,2,   36.860,2,    0.000,2,    2.589,2, -999.000,9, -999.000,9, -999.000,9, 2326.800,2, 2415.800,2
           NA,    P10N,    100,   1,-999.0,     -99,  2,20050606,1004,  32.1765,  149.3178,  5649, 4001.100,    1.475,   34.684,2,   34.684,2,   87.150,1,  149.510,2,  150.480,2,   36.430,2,    0.000,2,    2.552,2, -999.000,9, -999.000,9, -999.000,9, 2325.100,2, 2417.400,2
           NA,    P10N,    100,   1,-999.0,     -99,  2,20050606,1004,  32.1765,  149.3178,  5649, 4249.700,    1.471,   34.687,2,   34.687,2,   89.480,1,  153.270,2,  149.190,2,   36.140,2,    0.000,2,    2.540,2, -999.000,9, -999.000,9, -999.000,9, 2321.700,6, 2418.400,2
           NA,    P10N,    100,   1,-999.0,     -99,  2,20050606,1004,  32.1765,  149.3178,  5649, 4499.800,    1.481,   34.689,2,   34.689,6,   91.510,1,  156.580,2,  147.300,2,   35.960,2,    0.000,2,    2.521,2, -999.000,9, -999.000,9, -999.000,9, 2320.700,2, 2416.300,6
           NA,    P10N,    100,   1,-999.0,     -99,  2,20050606,1004,  32.1765,  149.3178,  5649, 4749.800,    1.483,   34.691,2,   34.691,2,   93.930,1,  160.400,2,  145.450,2,   35.690,2,    0.000,2,    2.501,2, -999.000,9, -999.000,9, -999.000,9, 2314.600,2, 2414.300,2
           NA,    P10N,    100,   1,-999.0,     -99,  2,20050606,1004,  32.1765,  149.3178,  5649, 5000.200,    1.497,   34.693,2,   34.693,2,   95.950,1,  163.310,6,  143.370,2,   35.450,2,    0.000,2,    2.480,2, -999.000,9, -999.000,9, -999.000,9, 2311.900,2, 2413.900,2
           NA,    P10N,    100,   1,-999.0,     -99,  2,20050606,1004,  32.1765,  149.3178,  5649, 5250.800,    1.517,   34.694,2,   34.694,2,   97.810,1,  165.640,2,  141.390,2,   35.230,2,    0.000,2,    2.471,2, -999.000,9, -999.000,9, -999.000,9, 2309.000,2, 2411.300,2
           NA,    P10N,    100,   1,-999.0,     -99,  2,20050606,1004,  32.1765,  149.3178,  5649, 5501.000,    1.531,   34.696,2,   34.695,2,  100.090,1,  168.590,2,  139.120,2,   35.060,2,    0.000,2,    2.455,2, -999.000,9, -999.000,9, -999.000,9, 2308.100,2, 2413.000,2
           NA,    P10N,    100,   1,-999.0,     -99,  2,20050606,1004,  32.1765,  149.3178,  5649, 5668.900,    1.554,   34.696,2,   34.696,6,  100.700,1,  168.640,2,  139.050,2,   35.090,2,    0.000,2,    2.465,2, -999.000,9, -999.000,9, -999.000,9, 2305.900,2, 2407.400,2