BOTTLE,20214413JOAExport
EXPOCODE,SECT_ID,STNNBR,CASTNO,SAMPNO,BTLNBR,BTLNBR_FLAG_W,DATE,TIME,LATITUDE,LONGITUDE,DEPTH,CTDPRS,CTDTMP,CTDSAL,CTDSAL_FLAG_W,SALNTY,SALNTY_FLAG_W,CTDOXY,CTDOXY_FLAG_W,OXYGEN,OXYGEN_FLAG_W,SILCAT,SILCAT_FLAG_W,NITRAT,NITRAT_FLAG_W,NITRIT,NITRIT_FLAG_W,PHSPHT,PHSPHT_FLAG_W,CFC-11,CFC-11_FLAG_W,CFC-12,CFC-12_FLAG_W,SF6,SF6_FLAG_W,TCARBN,TCARBN_FLAG_W,ALKALI,ALKALI_FLAG_W
,,,,,,,,,,,,,DB,ITS-90,PSS-78,,PSS-78,,UMOL/KG,,UMOL/KG,,UMOL/KG,,UMOL/KG,,UMOL/KG,,UMOL/KG,,PMOL/KG,,PMOL/KG,,FMOL/KG,,UMOL/KG,,UMOL/KG
           NA,    P10N,    114,   1,-999.0,     -99,  2,20050602,2054,  35.9847,  148.1602,  5793,    9.300,   22.767,   34.618,2,   34.633,2,  193.390,1,  216.220,6,    1.410,2,    0.030,2,    0.000,2,    0.040,2,    1.920,2,    1.160,2, -999.000,9, 1961.700,2, 2283.000,2
           NA,    P10N,    114,   1,-999.0,     -99,  2,20050602,2054,  35.9847,  148.1602,  5793,   50.000,   21.305,   34.786,2,   34.800,2,  182.580,1,  205.970,2,    2.070,2,    1.320,2,    0.100,2,    0.127,2,    2.053,2,    1.201,2, -999.000,9, 1991.200,6, 2292.600,2
           NA,    P10N,    114,   1,-999.0,     -99,  2,20050602,2054,  35.9847,  148.1602,  5793,  100.900,   19.978,   34.884,2,   34.866,2,  199.220,1,  217.850,2,    2.090,2,    0.960,2,    0.090,2,    0.108,2,    2.218,2,    1.291,2, -999.000,9, 1998.900,2, 2295.500,6
           NA,    P10N,    114,   1,-999.0,     -99,  2,20050602,2054,  35.9847,  148.1602,  5793,  150.500,   18.182,   34.779,2,   34.777,2,  172.460,1,  194.370,2,    4.890,2,    4.980,2,    0.010,2,    0.364,2,    2.332,2,    1.329,2, -999.000,9, 2033.000,2, 2291.400,2
           NA,    P10N,    114,   1,-999.0,     -99,  2,20050602,2054,  35.9847,  148.1602,  5793,  200.700,   16.945,   34.735,2,   34.736,2,  173.600,1,  197.320,2,    5.800,2,    6.090,2,    0.010,2,    0.432,2,    2.464,2,    1.383,2, -999.000,9, 2041.500,2, 2289.400,2
           NA,    P10N,    114,   1,-999.0,     -99,  2,20050602,2054,  35.9847,  148.1602,  5793,  249.400,   15.938,   34.673,2,   34.668,2,  176.930,1,  199.040,2,    7.560,2,    7.490,2,    0.010,2,    0.527,2,    2.539,6,    1.384,6, -999.000,9, 2048.600,2, 2287.300,2
           NA,    P10N,    114,   1,-999.0,     -99,  2,20050602,2054,  35.9847,  148.1602,  5793,  299.500,   14.896,   34.590,2,   34.581,2,  167.900,1,  189.410,2,   11.260,2,   10.000,2,    0.010,2,    0.712,2,    2.569,2,    1.380,2, -999.000,9, 2069.600,2, 2280.500,2
           NA,    P10N,    114,   1,-999.0,     -99,  2,20050602,2054,  35.9847,  148.1602,  5793,  400.600,   11.280,   34.376,2,   34.366,2,  141.350,1,  161.270,2,   29.560,2,   18.630,2,    0.000,2,    1.340,2,    2.236,2,    1.128,2, -999.000,9, 2134.500,2, 2290.900,2
           NA,    P10N,    114,   1,-999.0,     -99,  2,20050602,2054,  35.9847,  148.1602,  5793,  498.700,    7.997,   34.137,2,   34.130,6,  134.180,1,  151.870,2,   46.560,2,   25.000,2,    0.010,2,    1.832,2,    2.242,2,    1.098,2, -999.000,9, 2184.400,2, 2290.700,2
           NA,    P10N,    114,   1,-999.0,     -99,  2,20050602,2054,  35.9847,  148.1602,  5793,  600.400,    6.072,   34.109,2,   34.108,2,  103.230,1,  117.000,2,   67.900,2,   31.460,2,    0.000,2,    2.295,2,    1.662,2,    0.791,2, -999.000,9, 2236.600,2, 2309.300,2
           NA,    P10N,    114,   1,-999.0,     -99,  2,20050602,2054,  35.9847,  148.1602,  5793,  700.900,    4.314,   34.035,2,   34.065,2,   81.490,1,   91.290,2,   89.720,2,   36.640,2,    0.000,2,    2.671,2,    1.593,2,    0.754,2, -999.000,9, 2281.900,6, 2316.400,2
           NA,    P10N,    114,   1,-999.0,     -99,  2,20050602,2054,  35.9847,  148.1602,  5793,  800.100,    4.759,   34.283,2,   34.276,2,   63.930,1,   71.340,2,  100.080,2,   37.800,2,    0.000,2,    2.733,2,    0.600,6,    0.269,6, -999.000,9, 2302.000,2, 2342.600,6
           NA,    P10N,    114,   1,-999.0,     -99,  2,20050602,2054,  35.9847,  148.1602,  5793,  902.600,    3.746,   34.261,2,   34.259,2,   45.140,1,   50.020,2,  118.290,2,   40.810,2,    0.000,2,    2.947,2,    0.544,2,    0.243,2, -999.000,9, 2334.200,2, 2353.500,2
           NA,    P10N,    114,   1,-999.0,     -99,  2,20050602,2054,  35.9847,  148.1602,  5793, 1000.500,    3.378,   34.317,2,   34.317,6,   39.510,1,   43.860,2,  128.390,2,   41.610,2,    0.010,2,    3.001,2,    0.358,2,    0.135,2, -999.000,9, 2349.200,2, 2363.400,2
           NA,    P10N,    114,   1,-999.0,     -99,  2,20050602,2054,  35.9847,  148.1602,  5793, 1203.300,    2.893,   34.408,2,   34.409,2,   36.680,1,   40.740,6,  143.380,2,   42.420,2,    0.000,2,    3.054,2,    0.135,2,    0.057,2, -999.000,9, 2367.200,2, 2381.200,2
           NA,    P10N,    114,   1,-999.0,     -99,  2,20050602,2054,  35.9847,  148.1602,  5793, 1399.600,    2.537,   34.474,2,   34.475,2,   38.550,1,   42.730,2,  153.880,2,   42.650,2,    0.000,2,    3.060,2,    0.058,2,    0.024,2, -999.000,9, 2377.100,2, 2396.200,2
           NA,    P10N,    114,   1,-999.0,     -99,  2,20050602,2054,  35.9847,  148.1602,  5793, 1601.700,    2.315,   34.530,2,   34.530,2,   46.240,1,   52.030,2,  157.610,2,   42.350,2,    0.000,2,    3.017,2,    0.013,2,    0.003,2, -999.000,9, 2378.600,2, 2403.000,2
           NA,    P10N,    114,   1,-999.0,     -99,  2,20050602,2054,  35.9847,  148.1602,  5793, 1802.300,    2.110,   34.567,2,   34.567,2,   55.820,1,   64.020,2,  161.150,2,   41.720,2,    0.000,2,    2.965,2,    0.003,2,    0.003,2, -999.000,9, 2375.900,2, 2411.600,2
           NA,    P10N,    114,   1,-999.0,     -99,  2,20050602,2054,  35.9847,  148.1602,  5793, 2000.500,    1.976,   34.592,2,   34.592,2,   65.260,1,   75.710,2,  161.700,2,   41.020,2,    0.000,2,    2.905,2,    0.003,2,    0.004,2, -999.000,9, 2371.700,2, 2413.400,2
           NA,    P10N,    114,   1,-999.0,     -99,  2,20050602,2054,  35.9847,  148.1602,  5793, 2202.900,    1.832,   34.617,2,   34.617,6,   75.510,1,   88.500,2,  162.240,2,   40.260,2,    0.000,2,    2.844,2,   -0.005,2,    0.000,2, -999.000,9, 2365.400,2, 2414.300,2
           NA,    P10N,    114,   1,-999.0,     -99,  2,20050602,2054,  35.9847,  148.1602,  5793, 2402.100,    1.729,   34.634,2,   34.634,2,   85.620,1,  101.230,2,  160.800,2,   39.460,2,    0.000,2,    2.782,2,   -0.002,2,    0.000,2, -999.000,9, 2358.100,6, 2420.000,2
           NA,    P10N,    114,   1,-999.0,     -99,  2,20050602,2054,  35.9847,  148.1602,  5793, 2604.200,    1.661,   34.646,2,   34.646,2,   93.340,1,  110.980,2,  159.570,2,   38.840,2,    0.000,2,    2.735,2, -999.000,5, -999.000,5, -999.000,9, 2352.000,2, 2419.400,6
           NA,    P10N,    114,   1,-999.0,     -99,  2,20050602,2054,  35.9847,  148.1602,  5793, 2802.600,    1.599,   34.656,2,   34.656,2,  100.690,1,  120.340,2,  157.780,2,   38.260,2,    0.000,2,    2.688,2, -999.000,9, -999.000,9, -999.000,9, 2346.900,2, 2418.600,2
           NA,    P10N,    114,   1,-999.0,     -99,  2,20050602,2054,  35.9847,  148.1602,  5793, 3001.500,    1.567,   34.662,2,   34.662,2,  105.330,1,  126.280,6,  156.110,2,   37.800,2,    0.000,2,    2.651,2, -999.000,9, -999.000,9, -999.000,9, 2344.300,2, 2420.200,2
           NA,    P10N,    114,   1,-999.0,     -99,  2,20050602,2054,  35.9847,  148.1602,  5793, 3252.000,    1.528,   34.670,2,   34.670,6,  111.090,1,  133.620,2,  154.630,2,   37.310,2,    0.000,2,    2.614,2, -999.000,9, -999.000,9, -999.000,9, 2339.900,2, 2419.600,2
           NA,    P10N,    114,   1,-999.0,     -99,  2,20050602,2054,  35.9847,  148.1602,  5793, 3502.700,    1.495,   34.676,2,   34.676,2,  116.330,1,  140.380,2,  153.220,2,   36.900,2,    0.000,2,    2.579,2, -999.000,9, -999.000,9, -999.000,9, 2335.600,2, 2419.000,2
           NA,    P10N,    114,   1,-999.0,     -99,  2,20050602,2054,  35.9847,  148.1602,  5793, 3753.000,    1.477,   34.681,2,   34.680,2,  120.760,1,  145.840,2,  151.210,2,   36.480,2,    0.000,2,    2.543,2, -999.000,9, -999.000,9, -999.000,9, 2330.300,2, 2419.300,2
           NA,    P10N,    114,   1,-999.0,     -99,  2,20050602,2054,  35.9847,  148.1602,  5793, 4001.800,    1.474,   34.683,2,   34.683,2,  123.810,1,  149.460,2,  150.480,2,   36.320,2,    0.000,2,    2.531,2, -999.000,9, -999.000,9, -999.000,9, 2326.800,2, 2418.300,2
           NA,    P10N,    114,   1,-999.0,     -99,  2,20050602,2054,  35.9847,  148.1602,  5793, 4252.700,    1.471,   34.687,2,   34.686,2,  127.140,1,  153.300,2,  149.590,2,   36.090,2,    0.000,2,    2.511,2, -999.000,9, -999.000,9, -999.000,9, 2324.600,6, 2420.200,2
           NA,    P10N,    114,   1,-999.0,     -99,  2,20050602,2054,  35.9847,  148.1602,  5793, 4502.200,    1.477,   34.688,2,   34.688,6,  130.040,1,  156.480,2,  148.030,2,   35.850,2,    0.000,2,    2.496,2, -999.000,9, -999.000,9, -999.000,9, 2321.700,2, 2418.400,6
           NA,    P10N,    114,   1,-999.0,     -99,  2,20050602,2054,  35.9847,  148.1602,  5793, 4753.000,    1.489,   34.690,2,   34.690,2,  132.710,1,  159.160,2,  146.480,2,   35.660,2,    0.000,2,    2.481,2, -999.000,9, -999.000,9, -999.000,9, 2319.600,2, 2414.000,2
           NA,    P10N,    114,   1,-999.0,     -99,  2,20050602,2054,  35.9847,  148.1602,  5793, 5003.400,    1.504,   34.692,2,   34.691,2,  135.190,1,  161.730,6,  144.910,2,   35.470,2,    0.000,2,    2.468,2, -999.000,9, -999.000,9, -999.000,9, 2316.800,2, 2417.500,2
           NA,    P10N,    114,   1,-999.0,     -99,  2,20050602,2054,  35.9847,  148.1602,  5793, 5253.400,    1.526,   34.693,2,   34.693,2,  137.360,1,  163.490,2,  143.500,2,   35.300,2,    0.000,2,    2.452,2, -999.000,9, -999.000,9, -999.000,9, 2314.900,2, 2415.500,2
           NA,    P10N,    114,   1,-999.0,     -99,  2,20050602,2054,  35.9847,  148.1602,  5793, 5502.600,    1.550,   34.694,2,   34.693,2,  139.250,1,  164.740,2,  142.790,2,   35.260,2,    0.000,2,    2.452,2, -999.000,9, -999.000,9, -999.000,9, 2314.800,2, 2417.200,2
           NA,    P10N,    114,   1,-999.0,     -99,  2,20050602,2054,  35.9847,  148.1602,  5793, 5752.600,    1.577,   34.694,2,   34.694,2,  141.270,1,  166.040,2,  141.870,2,   35.200,2,    0.000,2,    2.445,2, -999.000,9, -999.000,9, -999.000,9, 2313.900,2, 2414.400,2
           NA,    P10N,    114,   1,-999.0,     -99,  2,20050602,2054,  35.9847,  148.1602,  5793, 5882.400,    1.591,   34.694,2,   34.694,6,  142.760,1,  166.740,2,  141.080,2,   35.160,2,    0.000,2,    2.444,2, -999.000,9, -999.000,9, -999.000,9, 2313.100,2, 2413.700,2