BOTTLE,20214413JOAExport
EXPOCODE,SECT_ID,STNNBR,CASTNO,SAMPNO,BTLNBR,BTLNBR_FLAG_W,DATE,TIME,LATITUDE,LONGITUDE,DEPTH,CTDPRS,CTDTMP,CTDSAL,CTDSAL_FLAG_W,SALNTY,SALNTY_FLAG_W,CTDOXY,CTDOXY_FLAG_W,OXYGEN,OXYGEN_FLAG_W,SILCAT,SILCAT_FLAG_W,NITRAT,NITRAT_FLAG_W,NITRIT,NITRIT_FLAG_W,PHSPHT,PHSPHT_FLAG_W,CFC-11,CFC-11_FLAG_W,CFC-12,CFC-12_FLAG_W,SF6,SF6_FLAG_W,TCARBN,TCARBN_FLAG_W,ALKALI,ALKALI_FLAG_W
,,,,,,,,,,,,,DB,ITS-90,PSS-78,,PSS-78,,UMOL/KG,,UMOL/KG,,UMOL/KG,,UMOL/KG,,UMOL/KG,,UMOL/KG,,PMOL/KG,,PMOL/KG,,FMOL/KG,,UMOL/KG,,UMOL/KG
           NA,     P10,      5,   1,-999.0,     -99,  2,20050627,0741,  -3.3020,  145.1452,  2165,   10.100,   29.345,   34.164,2,   34.160,2,  174.780,1,  199.360,6,    0.950,2,    0.040,2,    0.000,2,    0.071,2,    1.398,2,    0.866,2, -999.000,9, 1895.100,2, 2250.700,2
           NA,     P10,      5,   1,-999.0,     -99,  2,20050627,0741,  -3.3020,  145.1452,  2165,   50.200,   28.541,   34.385,2,   34.467,2,  166.360,1,  184.630,2,    1.350,2,    0.570,2,    0.220,2,    0.154,2,    1.477,2,    0.906,2, -999.000,9, 1936.000,6, 2266.800,2
           NA,     P10,      5,   1,-999.0,     -99,  2,20050627,0741,  -3.3020,  145.1452,  2165,  100.000,   27.034,   35.034,2,   35.070,2,  137.820,1,  157.060,2,    1.710,2,    4.260,2,    0.090,2,    0.432,2,    1.598,2,    0.941,2, -999.000,9, 2003.600,2, 2304.900,6
           NA,     P10,      5,   1,-999.0,     -99,  2,20050627,0741,  -3.3020,  145.1452,  2165,  150.500,   22.173,   35.557,2,   35.539,2,  122.920,1,  143.760,2,    2.550,2,    8.010,2,    0.020,2,    0.710,2,    1.834,2,    1.027,2, -999.000,9, 2079.400,2, 2338.900,2
           NA,     P10,      5,   1,-999.0,     -99,  2,20050627,0741,  -3.3020,  145.1452,  2165,  199.700,   17.510,   35.375,2,   35.328,2,  128.920,1,  151.300,2,    5.280,2,   12.090,2,    0.010,2,    0.979,2,    1.789,2,    0.948,2, -999.000,9, 2114.400,2, 2328.200,2
           NA,     P10,      5,   1,-999.0,     -99,  2,20050627,0741,  -3.3020,  145.1452,  2165,  252.300,   14.324,   35.136,2,   35.132,2,  133.860,1,  156.350,2,    7.620,2,   15.010,2,    0.010,2,    1.167,2,    1.638,6,    0.843,6, -999.000,9, 2129.500,2, 2321.700,2
           NA,     P10,      5,   1,-999.0,     -99,  2,20050627,0741,  -3.3020,  145.1452,  2165,  300.300,   12.991,   35.019,2,   34.961,2,  133.010,1,  153.580,2,   11.080,2,   18.320,2,    0.010,2,    1.383,2,    1.384,2,    0.710,2, -999.000,9, 2147.400,2, 2316.800,2
           NA,     P10,      5,   1,-999.0,     -99,  2,20050627,0741,  -3.3020,  145.1452,  2165,  399.900,   10.135,   34.760,2,   34.735,2,  138.200,1,  158.680,2,   16.160,2,   22.740,2,    0.010,2,    1.655,2,    1.036,2,    0.505,2, -999.000,9, 2164.800,2, 2308.300,2
           NA,     P10,      5,   1,-999.0,     -99,  2,20050627,0741,  -3.3020,  145.1452,  2165,  500.300,    8.270,   34.611,2,   34.603,6,  137.570,1,  162.590,2,   21.830,2,   25.940,2,    0.010,2,    1.858,2,    0.724,2,    0.364,2, -999.000,9, 2177.700,2, 2304.900,2
           NA,     P10,      5,   1,-999.0,     -99,  2,20050627,0741,  -3.3020,  145.1452,  2165,  601.200,    6.663,   34.523,2,   34.519,2,  131.780,1,  158.790,2,   33.130,2,   29.490,2,    0.010,2,    2.098,2,    0.408,2,    0.212,2, -999.000,9, 2199.800,2, 2312.600,2
           NA,     P10,      5,   1,-999.0,     -99,  2,20050627,0741,  -3.3020,  145.1452,  2165,  701.100,    6.049,   34.507,2,   34.506,2,  127.990,1,  153.280,2,   40.760,2,   31.070,2,    0.010,2,    2.219,2,    0.263,2,    0.122,2, -999.000,9, 2213.400,6, 2317.900,2
           NA,     P10,      5,   1,-999.0,     -99,  2,20050627,0741,  -3.3020,  145.1452,  2165,  800.800,    5.191,   34.501,2,   34.504,2,  124.820,1,  146.280,2,   54.130,2,   33.020,2,    0.000,2,    2.354,2,    0.133,6,    0.057,6, -999.000,9, 2233.800,2, 2331.100,6
           NA,     P10,      5,   1,-999.0,     -99,  2,20050627,0741,  -3.3020,  145.1452,  2165,  901.000,    4.843,   34.519,2,   34.520,2,  111.790,1,  132.990,2,   64.700,2,   34.610,2,    0.000,2,    2.475,2,    0.082,2,    0.036,2, -999.000,9, 2252.900,2, 2341.000,2
           NA,     P10,      5,   1,-999.0,     -99,  2,20050627,0741,  -3.3020,  145.1452,  2165, 1002.000,    4.495,   34.534,2,   34.536,6,  104.330,1,  124.100,2,   75.080,2,   35.760,2,    0.000,2,    2.566,2,    0.043,2,    0.022,2, -999.000,9, 2268.800,2, 2350.800,2
           NA,     P10,      5,   1,-999.0,     -99,  2,20050627,0741,  -3.3020,  145.1452,  2165, 1202.300,    3.759,   34.567,2,   34.568,2,   94.920,1,  113.640,6,   95.320,2,   37.090,2,    0.010,2,    2.678,2,    0.014,2,    0.010,2, -999.000,9, 2297.600,2, 2377.500,2
           NA,     P10,      5,   1,-999.0,     -99,  2,20050627,0741,  -3.3020,  145.1452,  2165, 1399.800,    3.167,   34.595,2,   34.596,2,   90.550,1,  108.620,2,  112.470,2,   37.970,2,    0.000,2,    2.746,2,   -0.001,2,    0.000,2, -999.000,9, 2318.900,2, 2393.700,2
           NA,     P10,      5,   1,-999.0,     -99,  2,20050627,0741,  -3.3020,  145.1452,  2165, 1600.200,    2.783,   34.613,2,   34.613,6,   91.040,1,  109.290,2,  122.400,2,   38.160,2,    0.000,2,    2.759,2,   -0.001,2,    0.000,2, -999.000,9, 2329.200,2, 2401.700,2
           NA,     P10,      5,   1,-999.0,     -99,  2,20050627,0741,  -3.3020,  145.1452,  2165, 1801.000,    2.447,   34.628,2,   34.629,2,   94.150,1,  113.050,2,  130.340,2,   38.120,2,    0.000,2,    2.746,2,    0.001,2,    0.000,2, -999.000,9, 2334.700,2, 2411.000,2
           NA,     P10,      5,   1,-999.0,     -99,  2,20050627,0741,  -3.3020,  145.1452,  2165, 2003.100,    2.233,   34.638,2,   34.638,2,   98.180,1,  117.660,2,  134.470,2,   38.000,2,    0.010,2,    2.725,2,    0.001,2,    0.000,2, -999.000,9, 2335.800,2, 2412.100,2
           NA,     P10,      5,   1,-999.0,     -99,  2,20050627,0741,  -3.3020,  145.1452,  2165, 2173.100,    2.161,   34.642,2,   34.642,6,  100.440,1,  120.130,6,  136.060,2,   37.900,2,    0.000,2,    2.714,2,    0.000,2,    0.000,2, -999.000,9, 2335.300,2, 2413.700,2
           NA,     P10,      6,   1,-999.0,     -99,  2,20050627,0235,  -2.9978,  145.2875,  2070,   10.000,   29.556,   34.231,2,   34.230,2,  172.080,1,  196.170,6,    1.010,2,    0.030,2,    0.000,2,    0.108,2,    1.345,2,    0.840,2, -999.000,9, -999.000,9, -999.000,9
           NA,     P10,      6,   1,-999.0,     -99,  2,20050627,0235,  -2.9978,  145.2875,  2070,   50.600,   29.141,   34.188,2,   34.220,2,  173.270,1,  197.250,2,    1.260,2,    0.010,2,    0.000,2,    0.052,2,    1.383,2,    0.851,2, -999.000,9, -999.000,9, -999.000,9
           NA,     P10,      6,   1,-999.0,     -99,  2,20050627,0235,  -2.9978,  145.2875,  2070,  100.600,   26.832,   35.100,2,   35.159,2,  136.660,1,  155.900,2,    1.750,2,    4.450,2,    0.070,2,    0.431,2,    1.584,2,    0.942,2, -999.000,9, -999.000,9, -999.000,9
           NA,     P10,      6,   1,-999.0,     -99,  2,20050627,0235,  -2.9978,  145.2875,  2070,  150.000,   22.906,   35.500,2,   35.507,2,  127.870,1,  146.900,2,    2.270,2,    7.110,2,    0.030,2,    0.625,2,    1.765,2,    1.013,2, -999.000,9, -999.000,9, -999.000,9
           NA,     P10,      6,   1,-999.0,     -99,  2,20050627,0235,  -2.9978,  145.2875,  2070,  199.800,   18.428,   35.451,2,   35.432,2,  121.840,1,  141.560,2,    4.650,2,   11.480,2,    0.010,2,    0.932,2,    1.780,2,    0.964,2, -999.000,9, -999.000,9, -999.000,9
           NA,     P10,      6,   1,-999.0,     -99,  2,20050627,0235,  -2.9978,  145.2875,  2070,  249.700,   14.497,   35.151,2,   35.105,2,  126.090,1,  148.640,2,    8.580,2,   16.200,2,    0.010,2,    1.233,2,    1.509,6,    0.780,6, -999.000,9, -999.000,9, -999.000,9
           NA,     P10,      6,   1,-999.0,     -99,  2,20050627,0235,  -2.9978,  145.2875,  2070,  299.100,   12.352,   34.960,2,   34.946,2,  132.920,1,  156.920,2,   10.700,2,   18.330,2,    0.010,2,    1.362,2,    1.367,2,    0.707,2, -999.000,9, -999.000,9, -999.000,9
           NA,     P10,      6,   1,-999.0,     -99,  2,20050627,0235,  -2.9978,  145.2875,  2070,  401.300,    9.774,   34.729,2,   34.728,2,  136.990,1,  158.870,2,   16.210,2,   22.790,2,    0.000,2,    1.641,2,    1.019,2,    0.506,2, -999.000,9, -999.000,9, -999.000,9
           NA,     P10,      6,   1,-999.0,     -99,  2,20050627,0235,  -2.9978,  145.2875,  2070,  499.500,    8.051,   34.605,2,   34.598,6,  127.290,1,  152.780,2,   25.210,2,   27.230,2,    0.010,2,    1.935,2,    0.612,2,    0.295,2, -999.000,9, -999.000,9, -999.000,9
           NA,     P10,      6,   1,-999.0,     -99,  2,20050627,0235,  -2.9978,  145.2875,  2070,  601.600,    6.570,   34.516,2,   34.514,2,  134.920,1,  160.460,2,   33.170,2,   29.430,2,    0.010,2,    2.082,2,    0.377,2,    0.180,2, -999.000,9, -999.000,9, -999.000,9
           NA,     P10,      6,   1,-999.0,     -99,  2,20050627,0235,  -2.9978,  145.2875,  2070,  699.400,    6.035,   34.504,2,   34.502,2,  130.190,1,  155.870,2,   40.710,2,   30.950,2,    0.010,2,    2.191,2,    0.260,2,    0.120,2, -999.000,9, -999.000,9, -999.000,9
           NA,     P10,      6,   1,-999.0,     -99,  2,20050627,0235,  -2.9978,  145.2875,  2070,  800.100,    5.220,   34.502,2,   34.503,2,  124.010,1,  147.700,2,   53.220,2,   32.830,2,    0.010,2,    2.332,2,    0.131,6,    0.063,6, -999.000,9, -999.000,9, -999.000,9
           NA,     P10,      6,   1,-999.0,     -99,  2,20050627,0235,  -2.9978,  145.2875,  2070,  900.200,    4.724,   34.520,2,   34.522,2,  112.900,1,  133.530,2,   66.620,2,   34.700,2,    0.010,2,    2.467,2,    0.069,2,    0.034,2, -999.000,9, -999.000,9, -999.000,9
           NA,     P10,      6,   1,-999.0,     -99,  2,20050627,0235,  -2.9978,  145.2875,  2070, 1000.200,    4.497,   34.546,2,   34.547,6,   93.680,1,  111.210,2,   79.840,2,   36.770,2,    0.000,2,    2.643,2,    0.032,2,    0.014,2, -999.000,9, -999.000,9, -999.000,9
           NA,     P10,      6,   1,-999.0,     -99,  2,20050627,0235,  -2.9978,  145.2875,  2070, 1200.100,    3.698,   34.575,2,   34.575,2,   88.890,1,  106.010,6,   99.830,2,   37.940,2,    0.000,2,    2.735,2,    0.009,2,    0.005,2, -999.000,9, -999.000,9, -999.000,9
           NA,     P10,      6,   1,-999.0,     -99,  2,20050627,0235,  -2.9978,  145.2875,  2070, 1400.200,    3.222,   34.593,2,   34.593,2,   90.480,1,  107.890,2,  111.050,2,   38.030,2,    0.010,2,    2.743,2,    0.004,2,    0.000,2, -999.000,9, -999.000,9, -999.000,9
           NA,     P10,      6,   1,-999.0,     -99,  2,20050627,0235,  -2.9978,  145.2875,  2070, 1599.900,    2.829,   34.611,2,   34.611,6,   91.190,1,  109.260,2,  121.070,2,   38.120,2,    0.010,2,    2.750,2,   -0.005,2,    0.000,2, -999.000,9, -999.000,9, -999.000,9
           NA,     P10,      6,   1,-999.0,     -99,  2,20050627,0235,  -2.9978,  145.2875,  2070, 1801.200,    2.431,   34.629,2,   34.630,2,   94.540,1,  113.210,2,  130.610,2,   38.050,2,    0.000,2,    2.741,2,    0.005,2,    0.000,2, -999.000,9, -999.000,9, -999.000,9
           NA,     P10,      6,   1,-999.0,     -99,  2,20050627,0235,  -2.9978,  145.2875,  2070, 2001.500,    2.256,   34.637,2,   34.637,2,   98.860,1,  118.570,2,  133.810,2,   37.990,2,    0.000,2,    2.718,2,    0.001,2,    0.000,2, -999.000,9, -999.000,9, -999.000,9
           NA,     P10,      6,   1,-999.0,     -99,  2,20050627,0235,  -2.9978,  145.2875,  2070, 2079.000,    2.201,   34.640,2,   34.640,6,  100.030,1,  119.470,6,  134.880,2,   37.890,2,    0.000,2,    2.714,2,   -0.001,2,    0.000,2, -999.000,9, -999.000,9, -999.000,9
           NA,     P10,      7,   1,-999.0,     -99,  2,20050626,2148,  -2.7452,  145.3590,  1630,    9.900,   29.630,   34.198,2,   34.196,2,  171.660,1,  195.570,6,    0.880,2,    0.040,2,    0.000,2,    0.131,2,    1.377,2,    0.855,2, -999.000,9, 1899.100,2, 2253.400,2
           NA,     P10,      7,   1,-999.0,     -99,  2,20050626,2148,  -2.7452,  145.3590,  1630,   50.000,   28.708,   34.332,2,   34.333,2,  169.940,1,  194.070,2,    1.370,2,    0.020,2,    0.000,2,    0.084,2,    1.446,2,    0.893,2, -999.000,9, 1916.900,6, 2259.600,2
           NA,     P10,      7,   1,-999.0,     -99,  2,20050626,2148,  -2.7452,  145.3590,  1630,   99.600,   26.955,   35.014,2,   35.069,2,  148.370,1,  167.660,2,    1.470,2,    2.990,2,    0.140,2,    0.359,2,    1.576,2,    0.953,2, -999.000,9, 1993.100,2, 2302.700,6
           NA,     P10,      7,   1,-999.0,     -99,  2,20050626,2148,  -2.7452,  145.3590,  1630,  150.000,   22.997,   35.507,2,   35.509,2,  127.530,1,  146.610,2,    2.410,2,    7.430,2,    0.030,2,    0.663,2,    1.739,2,    1.034,2, -999.000,9, 2070.500,2, 2332.300,2
           NA,     P10,      7,   1,-999.0,     -99,  2,20050626,2148,  -2.7452,  145.3590,  1630,  200.300,   18.781,   35.467,2,   35.455,2,  126.080,1,  146.420,2,    4.040,2,   10.460,2,    0.010,2,    0.869,2,    1.773,2,    1.010,2, -999.000,9, 2104.200,2, 2333.600,2
           NA,     P10,      7,   1,-999.0,     -99,  2,20050626,2148,  -2.7452,  145.3590,  1630,  249.600,   13.165,   35.035,2,   35.016,2,  126.670,1,  147.740,2,   10.250,2,   17.890,2,    0.000,2,    1.356,2,    1.394,6,    0.754,6, -999.000,9, 2149.500,2, 2314.200,2
           NA,     P10,      7,   1,-999.0,     -99,  2,20050626,2148,  -2.7452,  145.3590,  1630,  299.900,   11.192,   34.847,2,   34.838,2,  120.200,1,  140.390,2,   16.340,2,   22.060,2,    0.000,2,    1.617,2,    1.106,2,    0.591,2, -999.000,9, 2168.700,2, 2308.100,2
           NA,     P10,      7,   1,-999.0,     -99,  2,20050626,2148,  -2.7452,  145.3590,  1630,  400.200,   10.024,   34.747,2,   34.732,2,  127.990,1,  150.680,2,   17.660,2,   23.520,2,    0.000,2,    1.702,2,    0.986,2,    0.522,2, -999.000,9, 2170.900,2, 2302.600,2
           NA,     P10,      7,   1,-999.0,     -99,  2,20050626,2148,  -2.7452,  145.3590,  1630,  500.400,    8.547,   34.629,2,   34.621,6,  143.070,1,  166.580,2,   19.910,2,   24.910,2,    0.000,2,    1.783,2,    0.833,2,    0.437,2, -999.000,9, 2173.800,2, 2302.600,2
           NA,     P10,      7,   1,-999.0,     -99,  2,20050626,2148,  -2.7452,  145.3590,  1630,  601.200,    6.969,   34.550,2,   34.550,2,  123.110,1,  145.410,2,   34.130,2,   29.940,2,    0.000,2,    2.131,2,    0.406,2,    0.211,2, -999.000,9, 2207.400,2, 2311.800,2
           NA,     P10,      7,   1,-999.0,     -99,  2,20050626,2148,  -2.7452,  145.3590,  1630,  699.900,    5.867,   34.504,2,   34.504,2,  127.180,1,  150.910,2,   42.990,2,   31.490,2,    0.000,2,    2.242,2,    0.249,2,    0.132,2, -999.000,9, 2218.800,6, 2316.500,2
           NA,     P10,      7,   1,-999.0,     -99,  2,20050626,2148,  -2.7452,  145.3590,  1630,  800.700,    5.482,   34.524,2,   34.523,2,  106.990,1,  127.520,2,   56.010,2,   34.220,2,    0.000,2,    2.446,2,    0.155,6,    0.074,6, -999.000,9, 2244.500,2, 2332.700,6
           NA,     P10,      7,   1,-999.0,     -99,  2,20050626,2148,  -2.7452,  145.3590,  1630,  900.800,    4.654,   34.539,2,   34.539,2,   97.950,1,  116.100,2,   74.220,2,   36.210,2,    0.000,2,    2.597,2,    0.043,2,    0.028,2, -999.000,9, 2272.000,2, 2346.700,2
           NA,     P10,      7,   1,-999.0,     -99,  2,20050626,2148,  -2.7452,  145.3590,  1630, 1001.300,    4.210,   34.558,2,   34.559,6,   88.540,1,  105.060,2,   87.650,2,   37.650,2,    0.000,2,    2.711,2,    0.015,2,    0.010,2, -999.000,9, 2293.000,2, 2363.700,2
           NA,     P10,      7,   1,-999.0,     -99,  2,20050626,2148,  -2.7452,  145.3590,  1630, 1200.600,    3.750,   34.573,2, -999.000,3,   88.710,1,  105.280,6,   98.470,2,   37.980,2,    0.000,2,    2.739,2,    0.009,2,    0.005,2, -999.000,9, 2305.500,2, 2375.500,2
           NA,     P10,      7,   1,-999.0,     -99,  2,20050626,2148,  -2.7452,  145.3590,  1630, 1401.200,    3.247,   34.592,2,   34.592,2,   90.960,1,  107.990,2,  110.100,2,   38.050,2,    0.000,2,    2.748,2,    0.004,2,    0.007,2, -999.000,9, 2315.800,2, 2389.800,2
           NA,     P10,      7,   1,-999.0,     -99,  2,20050626,2148,  -2.7452,  145.3590,  1630, 1600.600,    2.814,   34.611,2,   34.612,2,   92.180,1,  109.410,2,  121.540,2,   38.170,2,    0.000,2,    2.755,2,   -0.003,2,    0.001,2, -999.000,9, 2329.000,2, 2405.300,2
           NA,     P10,      7,   1,-999.0,     -99,  2,20050626,2148,  -2.7452,  145.3590,  1630, 1707.300,    2.515,   34.625,2,   34.626,6,   94.390,1,  111.900,6,  128.580,2,   38.110,2,    0.000,2,    2.750,2,    0.003,2,    0.004,2, -999.000,9, 2335.500,2, 2408.200,2