BOTTLE,20214413JOAExport
EXPOCODE,SECT_ID,STNNBR,CASTNO,SAMPNO,BTLNBR,BTLNBR_FLAG_W,DATE,TIME,LATITUDE,LONGITUDE,DEPTH,CTDPRS,CTDTMP,CTDSAL,CTDSAL_FLAG_W,SALNTY,SALNTY_FLAG_W,CTDOXY,CTDOXY_FLAG_W,OXYGEN,OXYGEN_FLAG_W,SILCAT,SILCAT_FLAG_W,NITRAT,NITRAT_FLAG_W,NITRIT,NITRIT_FLAG_W,PHSPHT,PHSPHT_FLAG_W,CFC-11,CFC-11_FLAG_W,CFC-12,CFC-12_FLAG_W,SF6,SF6_FLAG_W,TCARBN,TCARBN_FLAG_W,ALKALI,ALKALI_FLAG_W
,,,,,,,,,,,,,DB,ITS-90,PSS-78,,PSS-78,,UMOL/KG,,UMOL/KG,,UMOL/KG,,UMOL/KG,,UMOL/KG,,UMOL/KG,,PMOL/KG,,PMOL/KG,,FMOL/KG,,UMOL/KG,,UMOL/KG
           NA,     P10,     40,   1,-999.0,     -99,  2,20050619,0920,   8.0065,  149.1608,  2995,   10.000,   29.525,   33.933,2,   33.942,2,  172.090,1,  195.380,6,    0.940,2,    0.040,2,    0.010,2,    0.087,2,    1.311,2,    0.894,2, -999.000,9, 1889.000,2, 2231.400,2
           NA,     P10,     40,   1,-999.0,     -99,  2,20050619,0920,   8.0065,  149.1608,  2995,   50.200,   29.361,   33.975,2,   34.009,2,  172.260,1,  195.870,2,    0.950,2,    0.030,2,    0.000,2,    0.090,2,    1.309,2,    0.886,2, -999.000,9, 1893.600,6, 2237.900,2
           NA,     P10,     40,   1,-999.0,     -99,  2,20050619,0920,   8.0065,  149.1608,  2995,  100.100,   24.259,   34.665,2,   34.682,2,  149.370,1,  168.680,2,    3.610,2,    2.940,2,    0.240,2,    0.372,2,    1.614,2,    1.034,2, -999.000,9, 2010.400,2, 2286.300,6
           NA,     P10,     40,   1,-999.0,     -99,  2,20050619,0920,   8.0065,  149.1608,  2995,  150.400,   18.403,   34.749,2,   34.740,2,  121.090,1,  138.340,2,   10.030,2,   11.380,2,    0.020,2,    0.907,2,    1.738,2,    1.080,2, -999.000,9, 2090.500,2, 2295.500,2
           NA,     P10,     40,   1,-999.0,     -99,  2,20050619,0920,   8.0065,  149.1608,  2995,  198.600,   13.706,   34.575,2,   34.565,2,   94.140,1,  105.050,2,   20.020,2,   20.670,2,    0.010,2,    1.554,2,    1.447,2,    0.863,2, -999.000,9, 2156.500,2, 2290.200,2
           NA,     P10,     40,   1,-999.0,     -99,  2,20050619,0920,   8.0065,  149.1608,  2995,  252.500,   10.576,   34.570,2,   34.568,2,   56.300,1,   65.290,2,   31.130,2,   29.510,2,    0.010,2,    2.164,2,    0.712,6,    0.410,6, -999.000,9, 2217.100,2, 2299.300,2
           NA,     P10,     40,   1,-999.0,     -99,  2,20050619,0920,   8.0065,  149.1608,  2995,  302.900,    9.628,   34.600,2,   34.597,2,   44.140,1,   50.200,2,   35.270,2,   32.890,2,    0.010,2,    2.378,2,    0.379,2,    0.225,2, -999.000,9, 2240.200,2, 2305.300,2
           NA,     P10,     40,   1,-999.0,     -99,  2,20050619,0920,   8.0065,  149.1608,  2995,  401.500,    8.744,   34.593,2,   34.591,2,   46.820,1,   53.660,2,   39.600,2,   34.420,2,    0.010,2,    2.479,2,    0.228,2,    0.131,2, -999.000,9, 2250.600,2, 2311.200,2
           NA,     P10,     40,   1,-999.0,     -99,  3,20050619,0920,   8.0065,  149.1608,  2995,  502.800,    7.864,   34.567,2,   34.565,6,   49.150,1,   57.370,2,   46.060,2,   35.670,2,    0.010,2,    2.582,2,    0.129,2,    0.075,2, -999.000,9, 2260.000,2, 2317.400,2
           NA,     P10,     40,   1,-999.0,     -99,  2,20050619,0920,   8.0065,  149.1608,  2995,  604.800,    7.048,   34.545,2,   34.544,2,   49.460,1,   56.850,2,   54.560,2,   37.210,2,    0.010,2,    2.706,2,    0.067,2,    0.042,2, -999.000,9, 2272.200,2, 2324.500,2
           NA,     P10,     40,   1,-999.0,     -99,  2,20050619,0920,   8.0065,  149.1608,  2995,  701.500,    6.276,   34.533,2,   34.533,2,   54.850,1,   63.560,2,   64.130,2,   38.110,2,    0.010,2,    2.763,2,    0.040,2,    0.019,2, -999.000,9, 2281.700,6, 2334.100,2
           NA,     P10,     40,   1,-999.0,     -99,  2,20050619,0920,   8.0065,  149.1608,  2995,  802.400,    5.684,   34.536,2,   34.536,2,   60.250,1,   70.370,2,   72.200,2,   38.470,2,    0.000,2,    2.776,2,    0.028,6,    0.017,6, -999.000,9, 2287.900,2, 2343.000,6
           NA,     P10,     40,   1,-999.0,     -99,  2,20050619,0920,   8.0065,  149.1608,  2995,  902.000,    5.087,   34.544,2,   34.543,2,   67.240,1,   78.920,2,   81.160,2,   38.520,2,    0.010,2,    2.771,2,    0.019,2,    0.014,2, -999.000,9, 2295.300,2, 2354.200,2
           NA,     P10,     40,   1,-999.0,     -99,  2,20050619,0920,   8.0065,  149.1608,  2995, 1002.900,    4.593,   34.553,2,   34.553,6,   70.660,1,   83.400,2,   90.200,2,   38.660,2,    0.010,2,    2.789,2,    0.016,2,    0.011,2, -999.000,9, 2302.700,2, 2363.700,2
           NA,     P10,     40,   1,-999.0,     -99,  2,20050619,0920,   8.0065,  149.1608,  2995, 1201.900,    3.749,   34.573,2,   34.573,2,   74.480,1,   88.780,6,  107.640,2,   39.130,2,    0.010,2,    2.816,2,    0.004,2,    0.006,2, -999.000,9, 2319.900,2, 2380.600,2
           NA,     P10,     40,   1,-999.0,     -99,  2,20050619,0920,   8.0065,  149.1608,  2995, 1400.800,    3.313,   34.586,2,   34.586,2,   78.050,1,   93.660,2,  116.930,2,   39.140,2,    0.010,2,    2.806,2,    0.001,2,    0.003,2, -999.000,9, 2327.300,2, 2393.500,2
           NA,     P10,     40,   1,-999.0,     -99,  2,20050619,0920,   8.0065,  149.1608,  2995, 1602.100,    2.797,   34.605,2,   34.605,2,   82.500,1,   99.810,2,  127.730,2,   39.000,2,    0.010,2,    2.792,2,    0.001,2,    0.001,2, -999.000,9, 2334.600,2, 2401.700,2
           NA,     P10,     40,   1,-999.0,     -99,  2,20050619,0920,   8.0065,  149.1608,  2995, 1801.500,    2.419,   34.623,2,   34.624,6,   87.660,1,  106.590,2,  135.270,2,   38.810,2,    0.010,2,    2.764,2,    0.000,2,   -0.001,2, -999.000,9, 2339.700,2, 2407.800,2
           NA,     P10,     40,   1,-999.0,     -99,  2,20050619,0920,   8.0065,  149.1608,  2995, 2000.500,    2.219,   34.635,2,   34.636,2,   90.640,1,  110.720,2,  139.210,2,   38.710,2,    0.010,2,    2.749,2,    0.000,2,    0.000,2, -999.000,9, 2338.300,2, 2413.900,2
           NA,     P10,     40,   1,-999.0,     -99,  2,20050619,0920,   8.0065,  149.1608,  2995, 2001.000,    2.218,   34.635,2,   34.635,2,   90.700,1,  110.730,2,  139.260,2,   38.680,2,    0.010,2,    2.757,2, -999.000,9, -999.000,9, -999.000,9, 2342.800,2, 2414.000,2
           NA,     P10,     40,   1,-999.0,     -99,  2,20050619,0920,   8.0065,  149.1608,  2995, 2201.100,    2.043,   34.645,2,   34.645,2,   94.300,1,  115.440,2,  142.820,2,   38.510,2,    0.000,2,    2.727,2,   -0.002,2,    0.000,2, -999.000,9, 2342.300,2, 2417.200,2
           NA,     P10,     40,   1,-999.0,     -99,  2,20050619,0920,   8.0065,  149.1608,  2995, 2400.300,    1.900,   34.653,2,   34.654,2,   99.350,1,  121.810,2,  144.470,2,   38.110,2,    0.010,2,    2.694,2, -999.000,9, -999.000,9, -999.000,9, 2339.100,6, 2419.400,2
           NA,     P10,     40,   1,-999.0,     -99,  2,20050619,0920,   8.0065,  149.1608,  2995, 2600.700,    1.761,   34.661,2,   34.661,6,  104.920,1,  129.020,2,  145.700,2,   37.620,2,    0.010,2,    2.653,2, -999.000,9, -999.000,9, -999.000,9, 2340.100,2, 2421.500,6
           NA,     P10,     40,   1,-999.0,     -99,  2,20050619,0920,   8.0065,  149.1608,  2995, 2800.600,    1.677,   34.666,2,   34.667,2,  108.920,1,  133.630,2,  146.290,2,   37.320,2,    0.000,2,    2.628,2, -999.000,9, -999.000,9, -999.000,9, 2339.300,2, 2422.700,2
           NA,     P10,     40,   1,-999.0,     -99,  2,20050619,0920,   8.0065,  149.1608,  2995, 2999.600,    1.610,   34.671,2,   34.671,2,  113.090,1,  138.570,6,  146.240,2,   36.930,2,    0.000,2,    2.602,2, -999.000,9, -999.000,9, -999.000,9, 2334.000,2, 2421.100,2
           NA,     P10,     40,   1,-999.0,     -99,  2,20050619,0920,   8.0065,  149.1608,  2995, 3033.500,    1.604,   34.672,2,   34.672,6,  113.750,1,  139.110,6,  146.370,2,   36.960,2,    0.000,2,    2.609,2, -999.000,9, -999.000,9, -999.000,9, 2332.500,2, 2420.500,2
           NA,     P10,     41,   1,-999.0,     -99,  2,20050619,0346,   8.5088,  149.3270,  3702,   10.700,   29.271,   33.909,2,   33.908,2,  172.850,1,  196.230,6,    0.920,2,    0.000,2,    0.000,2,    0.072,2, -999.000,5, -999.000,5, -999.000,9, -999.000,9, -999.000,9
           NA,     P10,     41,   1,-999.0,     -99,  2,20050619,0346,   8.5088,  149.3270,  3702,   50.200,   29.248,   33.915,2,   33.970,2,  172.880,1,  196.950,2,    0.920,2,   -0.010,2,    0.000,2,    0.074,2,    1.411,2,    0.852,2, -999.000,9, -999.000,9, -999.000,9
           NA,     P10,     41,   1,-999.0,     -99,  2,20050619,0346,   8.5088,  149.3270,  3702,  101.000,   27.234,   34.435,2,   34.472,2,  169.480,1,  191.070,2,    1.810,2,    0.340,2,    0.020,2,    0.148,2,    1.600,2,    0.938,2, -999.000,9, -999.000,9, -999.000,9
           NA,     P10,     41,   1,-999.0,     -99,  2,20050619,0346,   8.5088,  149.3270,  3702,  150.500,   17.907,   34.730,2,   34.729,2,  120.530,1,  139.100,2,    9.800,2,   11.210,2,    0.020,2,    0.898,2,    1.975,2,    1.062,2, -999.000,9, -999.000,9, -999.000,9
           NA,     P10,     41,   1,-999.0,     -99,  2,20050619,0346,   8.5088,  149.3270,  3702,  199.400,   13.854,   34.572,2,   34.567,2,   99.300,1,  112.910,2,   19.080,2,   19.490,2,    0.000,2,    1.462,2,    1.601,2,    0.799,2, -999.000,9, -999.000,9, -999.000,9
           NA,     P10,     41,   1,-999.0,     -99,  2,20050619,0346,   8.5088,  149.3270,  3702,  248.200,   10.754,   34.540,2,   34.549,2,   61.930,1,   66.370,2,   30.950,2,   29.270,2,    0.000,2,    2.146,2,    0.819,6,    0.393,6, -999.000,9, -999.000,9, -999.000,9
           NA,     P10,     41,   1,-999.0,     -99,  2,20050619,0346,   8.5088,  149.3270,  3702,  302.000,    9.591,   34.600,2,   34.599,2,   43.470,1,   49.070,2,   35.720,2,   33.110,2,    0.000,2,    2.394,2,    0.368,2,    0.174,2, -999.000,9, -999.000,9, -999.000,9
           NA,     P10,     41,   1,-999.0,     -99,  2,20050619,0346,   8.5088,  149.3270,  3702,  402.000,    8.480,   34.583,2,   34.581,2,   51.000,1,   59.080,2,   41.500,2,   34.390,2,    0.000,2,    2.477,2,    0.223,2,    0.098,2, -999.000,9, -999.000,9, -999.000,9
           NA,     P10,     41,   1,-999.0,     -99,  3,20050619,0346,   8.5088,  149.3270,  3702,  500.200,    7.827,   34.560,2,   34.559,6,   57.490,1,   66.180,2,   46.390,2,   35.010,2,    0.000,2,    2.525,2,    0.174,2,    0.078,2, -999.000,9, -999.000,9, -999.000,9
           NA,     P10,     41,   1,-999.0,     -99,  2,20050619,0346,   8.5088,  149.3270,  3702,  600.100,    6.989,   34.545,2,   34.544,2,   54.100,1,   62.530,2,   55.190,2,   36.880,2,    0.000,2,    2.672,2,    0.078,2,    0.045,2, -999.000,9, -999.000,9, -999.000,9
           NA,     P10,     41,   1,-999.0,     -99,  2,20050619,0346,   8.5088,  149.3270,  3702,  702.000,    6.321,   34.534,2,   34.535,2,   56.660,1,   66.840,2,   63.290,2,   37.690,2,   -0.010,2,    2.730,2,    0.043,2,    0.023,2, -999.000,9, -999.000,9, -999.000,9
           NA,     P10,     41,   1,-999.0,     -99,  2,20050619,0346,   8.5088,  149.3270,  3702,  801.400,    5.625,   34.537,2,   34.536,2,   60.980,1,   71.170,2,   73.310,2,   38.380,2,    0.000,2,    2.777,2,    0.032,6,    0.016,6, -999.000,9, -999.000,9, -999.000,9
           NA,     P10,     41,   1,-999.0,     -99,  2,20050619,0346,   8.5088,  149.3270,  3702,  901.500,    5.035,   34.543,2,   34.543,2,   65.200,1,   76.560,2,   83.300,2,   38.630,2,    0.000,2,    2.792,2,    0.013,2,    0.018,2, -999.000,9, -999.000,9, -999.000,9
           NA,     P10,     41,   1,-999.0,     -99,  2,20050619,0346,   8.5088,  149.3270,  3702, 1001.500,    4.718,   34.549,2,   34.549,6,   67.480,1,   79.630,2,   88.950,2,   38.790,2,    0.000,2,    2.799,2,    0.009,2,    0.014,2, -999.000,9, -999.000,9, -999.000,9
           NA,     P10,     41,   1,-999.0,     -99,  2,20050619,0346,   8.5088,  149.3270,  3702, 1203.100,    3.916,   34.568,2,   34.568,2,   73.690,1,   87.770,6,  104.530,2,   38.840,2,    0.000,2,    2.802,2,   -0.004,2,    0.006,2, -999.000,9, -999.000,9, -999.000,9
           NA,     P10,     41,   1,-999.0,     -99,  2,20050619,0346,   8.5088,  149.3270,  3702, 1401.500,    3.334,   34.584,2,   34.584,2,   77.070,1,   92.600,2,  116.920,2,   39.050,2,    0.000,2,    2.811,2,    0.002,2,    0.004,2, -999.000,9, -999.000,9, -999.000,9
           NA,     P10,     41,   1,-999.0,     -99,  2,20050619,0346,   8.5088,  149.3270,  3702, 1603.400,    2.819,   34.603,2,   34.603,2,   81.650,1,   98.800,2,  127.520,2,   39.020,2,    0.000,2,    2.795,2,   -0.001,2,    0.000,2, -999.000,9, -999.000,9, -999.000,9
           NA,     P10,     41,   1,-999.0,     -99,  2,20050619,0346,   8.5088,  149.3270,  3702, 1800.900,    2.526,   34.617,2,   34.618,6,   86.760,1,  105.790,2,  132.840,2,   38.720,2,   -0.010,2,    2.765,2,    0.003,2,    0.000,2, -999.000,9, -999.000,9, -999.000,9
           NA,     P10,     41,   1,-999.0,     -99,  2,20050619,0346,   8.5088,  149.3270,  3702, 2001.100,    2.241,   34.632,2,   34.632,2,   90.540,1,  110.870,2,  138.720,2,   38.550,2,    0.000,2,    2.749,2,   -0.003,2,    0.000,2, -999.000,9, -999.000,9, -999.000,9
           NA,     P10,     41,   1,-999.0,     -99,  2,20050619,0346,   8.5088,  149.3270,  3702, 2201.200,    2.026,   34.643,2,   34.643,2,   94.360,1,  116.050,2,  143.100,2,   38.330,2,    0.000,2,    2.723,2,    0.002,2,    0.000,2, -999.000,9, -999.000,9, -999.000,9
           NA,     P10,     41,   1,-999.0,     -99,  2,20050619,0346,   8.5088,  149.3270,  3702, 2400.300,    1.876,   34.652,2,   34.653,2,   98.610,1,  122.080,2,  145.130,2,   38.010,2,    0.000,2,    2.691,2, -999.000,9, -999.000,9, -999.000,9, -999.000,9, -999.000,9
           NA,     P10,     41,   1,-999.0,     -99,  2,20050619,0346,   8.5088,  149.3270,  3702, 2600.800,    1.758,   34.660,2,   34.661,6,  103.580,1,  128.730,2,  146.170,2,   37.580,2,    0.000,2,    2.660,2, -999.000,9, -999.000,9, -999.000,9, -999.000,9, -999.000,9
           NA,     P10,     41,   1,-999.0,     -99,  2,20050619,0346,   8.5088,  149.3270,  3702, 2801.300,    1.675,   34.666,2,   34.667,2,  107.410,1,  133.900,2,  146.490,2,   37.290,2,    0.000,2,    2.628,2, -999.000,9, -999.000,9, -999.000,9, -999.000,9, -999.000,9
           NA,     P10,     41,   1,-999.0,     -99,  2,20050619,0346,   8.5088,  149.3270,  3702, 3001.700,    1.622,   34.671,2,   34.671,2,  110.550,1,  137.620,2,  145.880,2,   36.890,2,    0.000,2,    2.606,2, -999.000,9, -999.000,9, -999.000,9, -999.000,9, -999.000,9
           NA,     P10,     41,   1,-999.0,     -99,  2,20050619,0346,   8.5088,  149.3270,  3702, 3250.000,    1.551,   34.676,2,   34.677,2,  115.910,1,  144.290,2,  145.550,2,   36.560,2,    0.000,2,    2.573,2, -999.000,9, -999.000,9, -999.000,9, -999.000,9, -999.000,9
           NA,     P10,     41,   1,-999.0,     -99,  2,20050619,0346,   8.5088,  149.3270,  3702, 3502.800,    1.503,   34.681,2,   34.682,2,  121.120,1,  150.180,2,  143.850,2,   36.130,2,    0.000,2,    2.538,2, -999.000,9, -999.000,9, -999.000,9, -999.000,9, -999.000,9
           NA,     P10,     41,   1,-999.0,     -99,  2,20050619,0346,   8.5088,  149.3270,  3702, 3721.200,    1.504,   34.683,2,   34.683,2,  123.420,1,  152.540,6,  143.110,2,   36.010,2,    0.000,2,    2.532,2, -999.000,9, -999.000,9, -999.000,9, -999.000,9, -999.000,9
           NA,     P10,     41,   1,-999.0,     -99,  2,20050619,0346,   8.5088,  149.3270,  3702, 3721.300,    1.503,   34.683,2,   34.683,6,  123.390,1,  152.380,6,  143.170,2,   36.010,2,    0.000,2,    2.531,2, -999.000,9, -999.000,9, -999.000,9, -999.000,9, -999.000,9