BOTTLE,20214413JOAExport
EXPOCODE,SECT_ID,STNNBR,CASTNO,SAMPNO,BTLNBR,BTLNBR_FLAG_W,DATE,TIME,LATITUDE,LONGITUDE,DEPTH,CTDPRS,CTDTMP,CTDSAL,CTDSAL_FLAG_W,SALNTY,SALNTY_FLAG_W,CTDOXY,CTDOXY_FLAG_W,OXYGEN,OXYGEN_FLAG_W,SILCAT,SILCAT_FLAG_W,NITRAT,NITRAT_FLAG_W,NITRIT,NITRIT_FLAG_W,PHSPHT,PHSPHT_FLAG_W,CFC-11,CFC-11_FLAG_W,CFC-12,CFC-12_FLAG_W,SF6,SF6_FLAG_W,TCARBN,TCARBN_FLAG_W,ALKALI,ALKALI_FLAG_W
,,,,,,,,,,,,,DB,ITS-90,PSS-78,,PSS-78,,UMOL/KG,,UMOL/KG,,UMOL/KG,,UMOL/KG,,UMOL/KG,,UMOL/KG,,PMOL/KG,,PMOL/KG,,FMOL/KG,,UMOL/KG,,UMOL/KG
           NA,     P10,     66,   1,-999.0,     -99,  2,20050610,1534,  23.8240,  149.3293,  5817,   10.100,   26.314,   34.962,2,   34.973,2,  184.670,1,  210.860,6,    1.210,2,    0.040,2,    0.010,2,    0.036,2,    1.748,2,    1.018,2, -999.000,9, -999.000,9, -999.000,9
           NA,     P10,     66,   1,-999.0,     -99,  2,20050610,1534,  23.8240,  149.3293,  5817,   49.200,   21.986,   35.030,2,   35.029,2,  197.810,1,  227.680,2,    1.580,2,    0.020,2,    0.010,2,    0.032,2,    2.113,2,    1.166,2, -999.000,9, -999.000,9, -999.000,9
           NA,     P10,     66,   1,-999.0,     -99,  2,20050610,1534,  23.8240,  149.3293,  5817,  100.400,   19.903,   34.949,2,   34.937,2,  184.760,1,  212.300,2,    2.140,2,    0.150,2,    0.020,2,    0.086,2,    2.285,2,    1.247,2, -999.000,9, -999.000,9, -999.000,9
           NA,     P10,     66,   1,-999.0,     -99,  2,20050610,1534,  23.8240,  149.3293,  5817,  150.100,   18.151,   34.831,2,   34.827,2,  172.370,1,  200.280,2,    3.240,2,    3.820,2,    0.020,2,    0.296,2,    2.446,2,    1.291,2, -999.000,9, -999.000,9, -999.000,9
           NA,     P10,     66,   1,-999.0,     -99,  2,20050610,1534,  23.8240,  149.3293,  5817,  198.500,   16.985,   34.760,2,   34.758,2,  177.010,1,  206.560,2,    4.290,2,    5.050,2,    0.010,2,    0.364,2,    2.537,2,    1.357,2, -999.000,9, -999.000,9, -999.000,9
           NA,     P10,     66,   1,-999.0,     -99,  2,20050610,1534,  23.8240,  149.3293,  5817,  250.400,   16.314,   34.701,2,   34.690,2,  173.960,1,  202.920,2,    5.850,2,    6.480,2,    0.010,2,    0.465,2,    2.607,6,    1.342,6, -999.000,9, -999.000,9, -999.000,9
           NA,     P10,     66,   1,-999.0,     -99,  2,20050610,1534,  23.8240,  149.3293,  5817,  299.300,   14.988,   34.590,2,   34.581,2,  170.350,1,  199.370,2,    8.810,2,    8.740,2,    0.010,2,    0.625,2,    2.735,2,    1.391,2, -999.000,9, -999.000,9, -999.000,9
           NA,     P10,     66,   1,-999.0,     -99,  2,20050610,1534,  23.8240,  149.3293,  5817,  398.600,   12.377,   34.387,2,   34.379,2,  160.820,1,  189.580,2,   16.040,2,   13.780,2,    0.010,2,    0.994,2,    2.853,2,    1.379,2, -999.000,9, -999.000,9, -999.000,9
           NA,     P10,     66,   1,-999.0,     -99,  3,20050610,1534,  23.8240,  149.3293,  5817,  498.900,    9.959,   34.219,2,   34.214,6,  143.590,1,  169.290,2,   27.300,2,   19.860,2,    0.010,2,    1.444,2,    2.570,2,    1.198,2, -999.000,9, -999.000,9, -999.000,9
           NA,     P10,     66,   1,-999.0,     -99,  2,20050610,1534,  23.8240,  149.3293,  5817,  600.400,    7.420,   34.109,2,   34.108,2,  108.840,1,  128.570,2,   49.040,2,   28.260,2,    0.010,2,    2.058,2,    1.723,2,    0.787,2, -999.000,9, -999.000,9, -999.000,9
           NA,     P10,     66,   1,-999.0,     -99,  2,20050610,1534,  23.8240,  149.3293,  5817,  699.000,    6.112,   34.112,2,   34.104,2,   82.040,1,   99.020,2,   67.420,2,   33.410,2,    0.010,2,    2.441,2,    1.193,2,    0.550,2, -999.000,9, -999.000,9, -999.000,9
           NA,     P10,     66,   1,-999.0,     -99,  2,20050610,1534,  23.8240,  149.3293,  5817,  800.600,    4.792,   34.166,2,   34.166,2,   57.130,1,   67.520,2,   90.680,2,   38.230,2,    0.010,2,    2.776,2,    0.669,6,    0.295,6, -999.000,9, -999.000,9, -999.000,9
           NA,     P10,     66,   1,-999.0,     -99,  2,20050610,1534,  23.8240,  149.3293,  5817,  901.900,    4.159,   34.261,2,   34.263,2,   41.890,1,   48.440,2,  107.740,2,   40.780,2,    0.010,2,    2.952,2,    0.286,2,    0.123,2, -999.000,9, -999.000,9, -999.000,9
           NA,     P10,     66,   1,-999.0,     -99,  2,20050610,1534,  23.8240,  149.3293,  5817, 1000.300,    3.735,   34.347,2,   34.347,6,   37.810,1,   43.260,2,  119.120,2,   41.740,2,    0.010,2,    3.015,2,    0.118,2,    0.052,2, -999.000,9, -999.000,9, -999.000,9
           NA,     P10,     66,   1,-999.0,     -99,  2,20050610,1534,  23.8240,  149.3293,  5817, 1197.000,    3.041,   34.457,2,   34.458,2,   40.990,1,   48.220,6,  136.710,2,   42.200,2,    0.010,2,    3.030,2,    0.025,2,    0.007,2, -999.000,9, -999.000,9, -999.000,9
           NA,     P10,     66,   1,-999.0,     -99,  2,20050610,1534,  23.8240,  149.3293,  5817, 1400.300,    2.685,   34.507,2,   34.506,2,   46.900,1,   55.530,2,  144.530,2,   41.890,2,    0.010,2,    2.995,2,    0.008,2,    0.002,2, -999.000,9, -999.000,9, -999.000,9
           NA,     P10,     66,   1,-999.0,     -99,  2,20050610,1534,  23.8240,  149.3293,  5817, 1597.900,    2.325,   34.558,2,   34.558,2,   60.400,1,   73.220,2,  149.370,2,   40.950,2,    0.010,2,    2.915,2,    0.003,2,    0.002,2, -999.000,9, -999.000,9, -999.000,9
           NA,     P10,     66,   1,-999.0,     -99,  2,20050610,1534,  23.8240,  149.3293,  5817, 1800.900,    2.055,   34.594,2,   34.594,2,   71.500,1,   87.880,2,  152.850,2,   40.190,2,    0.010,2,    2.847,2,   -0.004,2,   -0.002,2, -999.000,9, -999.000,9, -999.000,9
           NA,     P10,     66,   1,-999.0,     -99,  2,20050610,1534,  23.8240,  149.3293,  5817, 2000.700,    1.914,   34.617,2,   34.616,2,   81.910,1,  101.610,2,  151.740,2,   39.370,2,    0.010,2,    2.783,2,    0.001,2,    0.000,2, -999.000,9, -999.000,9, -999.000,9
           NA,     P10,     66,   1,-999.0,     -99,  2,20050610,1534,  23.8240,  149.3293,  5817, 2201.100,    1.785,   34.632,2,   34.632,6,   87.380,1,  109.270,2,  153.260,2,   38.920,2,    0.010,2,    2.749,2, -999.000,5, -999.000,5, -999.000,9, -999.000,9, -999.000,9
           NA,     P10,     66,   1,-999.0,     -99,  2,20050610,1534,  23.8240,  149.3293,  5817, 2399.100,    1.708,   34.647,2,   34.647,2,   95.440,1,  120.300,2,  151.250,2,   38.150,2,    0.010,2,    2.691,2, -999.000,9, -999.000,9, -999.000,9, -999.000,9, -999.000,9
           NA,     P10,     66,   1,-999.0,     -99,  2,20050610,1534,  23.8240,  149.3293,  5817, 2602.100,    1.631,   34.656,2,   34.656,2,   99.960,1,  126.730,2,  151.100,2,   37.850,2,    0.010,2,    2.657,2, -999.000,9, -999.000,9, -999.000,9, -999.000,9, -999.000,9
           NA,     P10,     66,   1,-999.0,     -99,  2,20050610,1534,  23.8240,  149.3293,  5817, 2799.900,    1.578,   34.664,2,   34.665,2,  104.320,1,  133.020,2,  150.220,2,   37.400,2,    0.010,2,    2.628,2, -999.000,9, -999.000,9, -999.000,9, -999.000,9, -999.000,9
           NA,     P10,     66,   1,-999.0,     -99,  2,20050610,1534,  23.8240,  149.3293,  5817, 3001.200,    1.543,   34.671,2,   34.670,2,  107.420,1,  137.640,6,  149.830,2,   37.180,2,    0.010,2,    2.605,2, -999.000,9, -999.000,9, -999.000,9, -999.000,9, -999.000,9
           NA,     P10,     66,   1,-999.0,     -99,  2,20050610,1534,  23.8240,  149.3293,  5817, 3249.800,    1.514,   34.675,2,   34.674,6,  110.270,1,  141.820,2,  149.260,2,   36.840,2,    0.010,2,    2.583,2, -999.000,9, -999.000,9, -999.000,9, -999.000,9, -999.000,9
           NA,     P10,     66,   1,-999.0,     -99,  2,20050610,1534,  23.8240,  149.3293,  5817, 3500.000,    1.490,   34.679,2, -999.000,3,  113.190,1,  146.210,2,  147.900,2,   36.390,2,    0.010,2,    2.547,2, -999.000,9, -999.000,9, -999.000,9, -999.000,9, -999.000,9
           NA,     P10,     66,   1,-999.0,     -99,  2,20050610,1534,  23.8240,  149.3293,  5817, 3751.500,    1.462,   34.683,2,   34.683,2,  117.000,1,  151.570,2,  146.610,2,   36.050,2,    0.010,2,    2.523,2, -999.000,9, -999.000,9, -999.000,9, -999.000,9, -999.000,9
           NA,     P10,     66,   1,-999.0,     -99,  2,20050610,1534,  23.8240,  149.3293,  5817, 4001.200,    1.456,   34.686,2,   34.687,2,  119.620,1,  155.230,2,  144.880,2,   35.740,2,    0.020,2,    2.501,2, -999.000,9, -999.000,9, -999.000,9, -999.000,9, -999.000,9
           NA,     P10,     66,   1,-999.0,     -99,  2,20050610,1534,  23.8240,  149.3293,  5817, 4250.300,    1.449,   34.689,2,   34.689,2,  122.040,1,  158.740,2,  144.330,2,   35.590,2,    0.010,2,    2.489,2, -999.000,9, -999.000,9, -999.000,9, -999.000,9, -999.000,9
           NA,     P10,     66,   1,-999.0,     -99,  2,20050610,1534,  23.8240,  149.3293,  5817, 4501.300,    1.461,   34.691,2,   34.691,2,  123.900,1,  161.100,2,  143.520,2,   35.500,2,    0.010,2,    2.480,2, -999.000,9, -999.000,9, -999.000,9, -999.000,9, -999.000,9
           NA,     P10,     66,   1,-999.0,     -99,  2,20050610,1534,  23.8240,  149.3293,  5817, 4750.900,    1.474,   34.692,2,   34.692,2,  126.090,1,  163.700,2,  141.580,2,   35.270,2,    0.010,2,    2.457,2, -999.000,9, -999.000,9, -999.000,9, -999.000,9, -999.000,9
           NA,     P10,     66,   1,-999.0,     -99,  2,20050610,1534,  23.8240,  149.3293,  5817, 4999.900,    1.488,   34.694,2,   34.694,2,  128.770,1,  166.690,6,  139.290,2,   35.100,2,    0.010,2,    2.443,2, -999.000,9, -999.000,9, -999.000,9, -999.000,9, -999.000,9
           NA,     P10,     66,   1,-999.0,     -99,  2,20050610,1534,  23.8240,  149.3293,  5817, 5251.000,    1.503,   34.695,2,   34.695,2,  131.910,1,  170.040,2,  136.990,2,   34.860,2,    0.010,2,    2.430,2, -999.000,9, -999.000,9, -999.000,9, -999.000,9, -999.000,9
           NA,     P10,     66,   1,-999.0,     -99,  2,20050610,1534,  23.8240,  149.3293,  5817, 5498.400,    1.517,   34.697,2,   34.698,2,  135.130,1,  173.230,2,  134.210,2,   34.490,2,    0.010,2,    2.405,2, -999.000,9, -999.000,9, -999.000,9, -999.000,9, -999.000,9
           NA,     P10,     66,   1,-999.0,     -99,  2,20050610,1534,  23.8240,  149.3293,  5817, 5749.600,    1.532,   34.698,2,   34.698,2,  137.940,1,  175.700,2,  133.150,2,   34.480,2,    0.010,2,    2.397,2, -999.000,9, -999.000,9, -999.000,9, -999.000,9, -999.000,9
           NA,     P10,     66,   1,-999.0,     -99,  2,20050610,1534,  23.8240,  149.3293,  5817, 5921.100,    1.547,   34.699,2,   34.699,6,  139.620,1,  176.770,2,  132.590,2,   34.460,2,    0.010,2,    2.390,2, -999.000,9, -999.000,9, -999.000,9, -999.000,9, -999.000,9