BOTTLE,20214413JOAExport
EXPOCODE,SECT_ID,STNNBR,CASTNO,SAMPNO,BTLNBR,BTLNBR_FLAG_W,DATE,TIME,LATITUDE,LONGITUDE,DEPTH,CTDPRS,CTDTMP,CTDSAL,CTDSAL_FLAG_W,SALNTY,SALNTY_FLAG_W,CTDOXY,CTDOXY_FLAG_W,OXYGEN,OXYGEN_FLAG_W,SILCAT,SILCAT_FLAG_W,NITRAT,NITRAT_FLAG_W,NITRIT,NITRIT_FLAG_W,PHSPHT,PHSPHT_FLAG_W,CFC-11,CFC-11_FLAG_W,CFC-12,CFC-12_FLAG_W,SF6,SF6_FLAG_W,TCARBN,TCARBN_FLAG_W,ALKALI,ALKALI_FLAG_W
,,,,,,,,,,,,,DB,ITS-90,PSS-78,,PSS-78,,UMOL/KG,,UMOL/KG,,UMOL/KG,,UMOL/KG,,UMOL/KG,,UMOL/KG,,PMOL/KG,,PMOL/KG,,FMOL/KG,,UMOL/KG,,UMOL/KG
           NA,    P10N,    133,   1,-999.0,     -99,  2,20050528,1021,  40.7700,  144.8852,  6166,   10.500,   11.597,   33.786,2,   33.798,2,  286.310,1,  300.370,6,    3.890,2,    2.100,2,    0.120,2,    0.369,2,    3.556,2,    1.938,2, -999.000,9, -999.000,9, -999.000,9
           NA,    P10N,    133,   1,-999.0,     -99,  2,20050528,1021,  40.7700,  144.8852,  6166,   50.600,    8.090,   33.665,2,   33.681,2,  277.370,1,  290.540,2,    8.000,2,    6.980,2,    0.390,2,    0.778,2,    4.045,2,    2.194,2, -999.000,9, -999.000,9, -999.000,9
           NA,    P10N,    133,   1,-999.0,     -99,  2,20050528,1021,  40.7700,  144.8852,  6166,  100.600,    5.657,   33.600,2,   33.613,2,  272.500,1,  286.270,2,   22.110,2,   14.980,2,    0.160,2,    1.260,2,    4.327,2,    2.353,2, -999.000,9, -999.000,9, -999.000,9
           NA,    P10N,    133,   1,-999.0,     -99,  2,20050528,1021,  40.7700,  144.8852,  6166,  150.900,    5.778,   33.716,2,   33.710,2,  234.590,1,  247.850,2,   36.230,2,   20.050,2,    0.040,2,    1.576,2,    3.894,2,    2.063,2, -999.000,9, -999.000,9, -999.000,9
           NA,    P10N,    133,   1,-999.0,     -99,  2,20050528,1021,  40.7700,  144.8852,  6166,  201.000,    4.211,   33.577,2,   33.581,2,  233.870,1,  246.450,2,   45.900,2,   24.210,2,    0.030,2,    1.894,2, -999.000,4, -999.000,4, -999.000,9, -999.000,9, -999.000,9
           NA,    P10N,    133,   1,-999.0,     -99,  2,20050528,1021,  40.7700,  144.8852,  6166,  249.600,    5.328,   33.869,2,   33.858,2,  158.260,1,  167.050,2,   58.840,2,   28.900,2,    0.020,2,    2.181,2,    2.604,6,    1.471,6, -999.000,9, -999.000,9, -999.000,9
           NA,    P10N,    133,   1,-999.0,     -99,  2,20050528,1021,  40.7700,  144.8852,  6166,  300.000,    3.764,   33.737,2,   33.739,2,  156.020,1,  162.240,2,   70.770,2,   32.290,2,    0.010,2,    2.438,2,    3.104,2,    1.588,2, -999.000,9, -999.000,9, -999.000,9
           NA,    P10N,    133,   1,-999.0,     -99,  2,20050528,1021,  40.7700,  144.8852,  6166,  402.600,    3.547,   33.849,2,   33.853,2,  109.130,1,  114.140,2,   86.400,2,   36.490,2,    0.010,2,    2.713,2,    2.297,2,    1.228,2, -999.000,9, -999.000,9, -999.000,9
           NA,    P10N,    133,   1,-999.0,     -99,  2,20050528,1021,  40.7700,  144.8852,  6166,  501.000,    3.278,   33.979,2,   33.983,6,   63.770,1,   64.740,2,  106.200,2,   40.890,2,    0.010,2,    2.992,2,    1.638,2,    0.822,2, -999.000,9, -999.000,9, -999.000,9
           NA,    P10N,    133,   1,-999.0,     -99,  2,20050528,1021,  40.7700,  144.8852,  6166,  600.500,    3.264,   34.107,2,   34.110,2,   38.930,1,   36.850,2,  120.520,2,   42.900,2,    0.010,2,    3.111,2,    1.020,2,    0.501,2, -999.000,9, -999.000,9, -999.000,9
           NA,    P10N,    133,   1,-999.0,     -99,  2,20050528,1021,  40.7700,  144.8852,  6166,  700.500,    3.194,   34.198,2,   34.197,2,   31.880,1,   31.200,2,  128.490,2,   43.150,2,    0.000,2,    3.127,2,    0.698,2,    0.343,2, -999.000,9, -999.000,9, -999.000,9
           NA,    P10N,    133,   1,-999.0,     -99,  2,20050528,1021,  40.7700,  144.8852,  6166,  800.000,    3.080,   34.266,2,   34.270,2,   31.620,1,   31.960,2,  134.720,2,   42.960,2,    0.000,2,    3.121,2,    0.481,6,    0.235,6, -999.000,9, -999.000,9, -999.000,9
           NA,    P10N,    133,   1,-999.0,     -99,  2,20050528,1021,  40.7700,  144.8852,  6166,  901.000,    3.099,   34.345,2,   34.344,2,   37.900,1,   38.030,2,  136.430,2,   42.330,2,    0.000,2,    3.064,2,    0.286,2,    0.142,2, -999.000,9, -999.000,9, -999.000,9
           NA,    P10N,    133,   1,-999.0,     -99,  2,20050528,1021,  40.7700,  144.8852,  6166,  999.400,    2.791,   34.364,2,   34.364,6,   34.690,1,   34.490,2,  145.970,2,   42.940,2,    0.000,2,    3.108,2,    0.280,2,    0.139,2, -999.000,9, -999.000,9, -999.000,9
           NA,    P10N,    133,   1,-999.0,     -99,  2,20050528,1021,  40.7700,  144.8852,  6166, 1200.600,    2.547,   34.444,2,   34.444,2,   38.830,1,   39.000,6,  153.920,2,   42.810,2,    0.000,2,    3.094,2,    0.130,2,    0.069,2, -999.000,9, -999.000,9, -999.000,9
           NA,    P10N,    133,   1,-999.0,     -99,  2,20050528,1021,  40.7700,  144.8852,  6166, 1400.600,    2.371,   34.502,2,   34.502,2,   44.820,1,   45.500,2,  157.960,2,   42.650,2,    0.000,2,    3.067,2,    0.046,2,    0.033,2, -999.000,9, -999.000,9, -999.000,9
           NA,    P10N,    133,   1,-999.0,     -99,  3,20050528,1021,  40.7700,  144.8852,  6166, 1600.200,    2.203,   34.538,2,   34.537,2,   52.220,1,   53.580,2,  161.430,2,   42.250,2,    0.000,2,    3.033,2,    0.023,2,    0.012,2, -999.000,9, -999.000,9, -999.000,9
           NA,    P10N,    133,   1,-999.0,     -99,  3,20050528,1021,  40.7700,  144.8852,  6166, 1800.600,    2.059,   34.572,2,   34.572,2,   62.430,1,   65.060,2,  162.000,2,   41.640,2,    0.000,2,    2.977,2,    0.008,2,   -0.001,2, -999.000,9, -999.000,9, -999.000,9
           NA,    P10N,    133,   1,-999.0,     -99,  2,20050528,1021,  40.7700,  144.8852,  6166, 2000.700,    1.949,   34.598,2,   34.597,2,   75.930,1,   79.470,2,  159.720,2,   40.710,2,    0.000,2,    2.910,2,   -0.003,2,    0.001,2, -999.000,9, -999.000,9, -999.000,9
           NA,    P10N,    133,   1,-999.0,     -99,  2,20050528,1021,  40.7700,  144.8852,  6166, 2200.400,    1.832,   34.617,2,   34.617,6,   86.290,1,   91.160,2, -999.000,3,   40.050,2,    0.000,2,    2.852,2,    0.000,2,    0.003,2, -999.000,9, -999.000,9, -999.000,9
           NA,    P10N,    133,   1,-999.0,     -99,  2,20050528,1021,  40.7700,  144.8852,  6166, 2401.900,    1.740,   34.633,2,   34.632,2,   95.180,1,  100.890,2,  160.360,2,   39.420,2,    0.000,2,    2.803,2,   -0.006,2,    0.001,2, -999.000,9, -999.000,9, -999.000,9
           NA,    P10N,    133,   1,-999.0,     -99,  2,20050528,1021,  40.7700,  144.8852,  6166, 2602.200,    1.668,   34.644,2,   34.644,2,  102.300,1,  109.000,2,  159.990,2,   38.930,2,    0.000,2,    2.762,2,    0.016,2,    0.006,2, -999.000,9, -999.000,9, -999.000,9
           NA,    P10N,    133,   1,-999.0,     -99,  2,20050528,1021,  40.7700,  144.8852,  6166, 2800.900,    1.616,   34.654,2,   34.654,2,  109.890,1,  117.460,2,  158.530,2,   38.400,2,    0.000,2,    2.720,2, -999.000,9, -999.000,9, -999.000,9, -999.000,9, -999.000,9
           NA,    P10N,    133,   1,-999.0,     -99,  2,20050528,1021,  40.7700,  144.8852,  6166, 3001.200,    1.576,   34.661,2,   34.661,2,  115.790,1,  124.190,6,  157.130,2,   37.960,2,    0.000,2,    2.684,2, -999.000,9, -999.000,9, -999.000,9, -999.000,9, -999.000,9
           NA,    P10N,    133,   1,-999.0,     -99,  2,20050528,1021,  40.7700,  144.8852,  6166, 3251.100,    1.533,   34.669,2,   34.668,2,  122.870,1,  132.190,2,  155.120,2,   37.380,2,    0.000,2,    2.632,2, -999.000,9, -999.000,9, -999.000,9, -999.000,9, -999.000,9
           NA,    P10N,    133,   1,-999.0,     -99,  2,20050528,1021,  40.7700,  144.8852,  6166, 3750.800,    1.495,   34.678,2,   34.678,2,  132.700,1,  143.130,2,  152.280,2,   36.580,2,    0.000,2,    2.579,2, -999.000,9, -999.000,9, -999.000,9, -999.000,9, -999.000,9
           NA,    P10N,    133,   1,-999.0,     -99,  2,20050528,1021,  40.7700,  144.8852,  6166, 4000.800,    1.487,   34.682,2,   34.682,2,  136.840,1,  147.440,2,  150.660,2,   36.250,2,    0.000,2,    2.558,2, -999.000,9, -999.000,9, -999.000,9, -999.000,9, -999.000,9
           NA,    P10N,    133,   1,-999.0,     -99,  2,20050528,1021,  40.7700,  144.8852,  6166, 4248.600,    1.485,   34.685,2,   34.684,2,  140.430,1,  151.260,2,  149.670,2,   36.090,2,    0.000,2,    2.541,2, -999.000,9, -999.000,9, -999.000,9, -999.000,9, -999.000,9
           NA,    P10N,    133,   1,-999.0,     -99,  2,20050528,1021,  40.7700,  144.8852,  6166, 4500.500,    1.488,   34.687,2,   34.687,2,  143.840,1,  154.770,2,  148.410,2,   35.830,2,    0.000,2,    2.526,2, -999.000,9, -999.000,9, -999.000,9, -999.000,9, -999.000,9
           NA,    P10N,    133,   1,-999.0,     -99,  2,20050528,1021,  40.7700,  144.8852,  6166, 4751.200,    1.500,   34.689,2,   34.689,6,  146.480,1,  157.340,2, -999.000,3,   35.680,2,    0.000,2,    2.512,2, -999.000,9, -999.000,9, -999.000,9, -999.000,9, -999.000,9
           NA,    P10N,    133,   1,-999.0,     -99,  2,20050528,1021,  40.7700,  144.8852,  6166, 5000.000,    1.518,   34.690,2, -999.000,3,  148.580,1,  159.160,6,  146.560,2,   35.530,2,    0.000,2,    2.501,2, -999.000,9, -999.000,9, -999.000,9, -999.000,9, -999.000,9
           NA,    P10N,    133,   1,-999.0,     -99,  2,20050528,1021,  40.7700,  144.8852,  6166, 5250.900,    1.538,   34.692,2, -999.000,3,  150.710,1,  160.770,2,  145.200,2,   35.490,2,    0.000,2,    2.491,2, -999.000,9, -999.000,9, -999.000,9, -999.000,9, -999.000,9
           NA,    P10N,    133,   1,-999.0,     -99,  2,20050528,1021,  40.7700,  144.8852,  6166, 5500.000,    1.563,   34.692,2,   34.692,2,  152.540,1,  161.930,2,  144.790,2,   35.390,2,    0.000,2,    2.485,2, -999.000,9, -999.000,9, -999.000,9, -999.000,9, -999.000,9
           NA,    P10N,    133,   1,-999.0,     -99,  2,20050528,1021,  40.7700,  144.8852,  6166, 5751.000,    1.592,   34.693,2,   34.693,2,  154.210,1,  162.640,2,  144.420,2,   35.270,2,    0.000,2,    2.482,2, -999.000,9, -999.000,9, -999.000,9, -999.000,9, -999.000,9
           NA,    P10N,    133,   1,-999.0,     -99,  2,20050528,1021,  40.7700,  144.8852,  6166, 6325.200,    1.665,   34.694,2,   34.694,6,  158.070,1,  163.690,2,  144.250,2,   35.240,2,    0.000,2,    2.479,2, -999.000,9, -999.000,9, -999.000,9, -999.000,9, -999.000,9
           NA,    P10N,    134,   1,-999.0,     -99,  3,20050528,0403,  41.0163,  144.6995,  6117,   10.200,    8.095,   33.346,2,   33.344,2,  301.480,1,  317.550,6,    4.070,2,    3.850,2,    0.150,2,    0.619,2,    4.281,2,    2.330,2, -999.000,9, 2038.700,2, 2262.600,2
           NA,    P10N,    134,   1,-999.0,     -99,  2,20050528,0403,  41.0163,  144.6995,  6117,   50.400,    5.884,   33.632,2,   33.647,2,  271.290,1,  281.830,2,   20.490,2,   14.190,2,    0.250,2,    1.199,2, -999.000,9, -999.000,9, -999.000,9, 2107.000,6, 2259.000,2
           NA,    P10N,    134,   1,-999.0,     -99,  2,20050528,0403,  41.0163,  144.6995,  6117,  100.300,    5.702,   33.707,2,   33.671,2,  233.980,1,  251.140,2,   37.400,2,   20.700,2,    0.050,2,    1.640,2,    3.966,2,    2.114,2, -999.000,9, 2142.700,2, 2270.700,6
           NA,    P10N,    134,   1,-999.0,     -99,  2,20050528,0403,  41.0163,  144.6995,  6117,  150.400,    3.234,   33.439,2,   33.465,2,  265.580,1,  272.380,2,   45.200,2,   23.710,2,    0.030,2,    1.882,2, -999.000,9, -999.000,9, -999.000,9, 2157.100,2, 2263.400,2
           NA,    P10N,    134,   1,-999.0,     -99,  2,20050528,0403,  41.0163,  144.6995,  6117,  199.800,    4.148,   33.660,2,   33.659,2,  198.530,1,  208.690,2,   56.190,2,   27.560,2,    0.040,2,    2.129,2,    3.673,2,    1.910,2, -999.000,9, 2190.300,2, 2274.600,2
           NA,    P10N,    134,   1,-999.0,     -99,  2,20050528,0403,  41.0163,  144.6995,  6117,  251.100,    3.918,   33.715,2,   33.711,2,  168.670,1,  175.560,2,   66.600,2,   30.970,2,    0.030,2,    2.358,2,    3.314,2,    1.684,2, -999.000,9, 2224.700,2, 2282.500,2
           NA,    P10N,    134,   1,-999.0,     -99,  2,20050528,0403,  41.0163,  144.6995,  6117,  300.200,    3.918,   33.808,2,   33.797,2,  135.860,1,  141.300,2,   76.920,2,   33.880,2,    0.030,2,    2.547,2, -999.000,9, -999.000,9, -999.000,9, 2251.200,2, 2295.000,2
           NA,    P10N,    134,   1,-999.0,     -99,  2,20050528,0403,  41.0163,  144.6995,  6117,  400.900,    3.266,   33.877,2,   33.886,2,   82.370,1,   83.990,2,   97.570,2,   39.690,2,    0.010,2,    2.913,2,    2.023,2,    1.064,2, -999.000,9, 2304.100,2, 2306.500,2
           NA,    P10N,    134,   1,-999.0,     -99,  3,20050528,0403,  41.0163,  144.6995,  6117,  499.800,    2.974,   33.985,2,   33.985,6,   64.330,1, -999.000,3,  112.570,2,   41.170,2,    0.010,2,    3.016,2, -999.000,9, -999.000,9, -999.000,9, 2329.100,2, 2324.900,2
           NA,    P10N,    134,   1,-999.0,     -99,  2,20050528,0403,  41.0163,  144.6995,  6117,  600.200,    3.057,   34.047,2,   34.054,2,   52.500,1,   52.600,2,  117.660,2,   41.920,2,    0.010,2,    3.059,2,    1.330,2,    0.660,2, -999.000,9, 2337.800,2, 2328.300,2
           NA,    P10N,    134,   1,-999.0,     -99,  3,20050528,0403,  41.0163,  144.6995,  6117,  700.800,    3.198,   34.181,2,   34.185,2,   30.770,1,   30.090,2,  128.480,2,   43.280,2,    0.010,2,    3.138,2, -999.000,9, -999.000,9, -999.000,9, 2358.900,6, 2346.000,2
           NA,    P10N,    134,   1,-999.0,     -99,  2,20050528,0403,  41.0163,  144.6995,  6117,  799.700,    2.958,   34.265,2,   34.267,2,   31.600,1,   31.140,2,  137.890,2,   43.160,2,    0.010,2,    3.133,2,    0.523,2,    0.253,2, -999.000,9, 2366.300,2, 2365.700,6
           NA,    P10N,    134,   1,-999.0,     -99,  2,20050528,0403,  41.0163,  144.6995,  6117,  900.100,    2.954,   34.340,2,   34.339,2,   35.220,1,   34.680,2,  141.280,2,   42.820,2,    0.000,2,    3.098,2, -999.000,9, -999.000,9, -999.000,9, 2368.900,2, 2371.600,2
           NA,    P10N,    134,   1,-999.0,     -99,  2,20050528,0403,  41.0163,  144.6995,  6117, 1001.500,    2.744,   34.373,2,   34.374,6,   35.040,1,   34.680,2,  147.300,2,   42.950,2,    0.000,2,    3.110,2,    0.265,2,    0.132,2, -999.000,9, 2372.200,2, 2377.800,2
           NA,    P10N,    134,   1,-999.0,     -99,  2,20050528,0403,  41.0163,  144.6995,  6117, 1200.900,    2.632,   34.456,2,   34.456,2,   40.280,1,   40.260,6,  150.610,2,   42.700,2,    0.000,2,    3.086,2, -999.000,9, -999.000,9, -999.000,9, 2377.600,2, 2392.900,2
           NA,    P10N,    134,   1,-999.0,     -99,  2,20050528,0403,  41.0163,  144.6995,  6117, 1400.900,    2.386,   34.504,2,   34.502,2,   44.570,1,   45.030,2,  157.440,2,   42.690,2,    0.000,2,    3.073,2,    0.061,2,    0.025,2, -999.000,9, 2380.100,2, 2402.200,2
           NA,    P10N,    134,   1,-999.0,     -99,  2,20050528,0403,  41.0163,  144.6995,  6117, 1601.200,    2.195,   34.543,2,   34.543,2,   53.280,1,   54.380,2,  161.360,2,   42.220,2,    0.000,2,    3.030,2, -999.000,9, -999.000,9, -999.000,9, 2380.600,2, 2407.600,2
           NA,    P10N,    134,   1,-999.0,     -99,  2,20050528,0403,  41.0163,  144.6995,  6117, 1800.600,    2.055,   34.571,2,   34.571,2,   62.080,1,   64.140,2,  162.760,2,   41.630,2,    0.010,2,    2.985,2,   -0.002,2,    0.001,2, -999.000,9, 2378.800,2, 2410.300,2
           NA,    P10N,    134,   1,-999.0,     -99,  2,20050528,0403,  41.0163,  144.6995,  6117, 2003.100,    1.931,   34.596,2,   34.596,2,   72.510,1,   76.280,2,  162.920,2,   40.920,2,    0.010,2,    2.921,2, -999.000,9, -999.000,9, -999.000,9, 2374.300,2, 2411.900,2
           NA,    P10N,    134,   1,-999.0,     -99,  2,20050528,0403,  41.0163,  144.6995,  6117, 2200.400,    1.826,   34.618,2,   34.618,6,   85.870,1,   90.530,2,  161.240,2,   40.110,2,    0.010,2,    2.859,2,   -0.013,2,    0.000,2, -999.000,9, -999.000,3, 2417.900,2
           NA,    P10N,    134,   1,-999.0,     -99,  2,20050528,0403,  41.0163,  144.6995,  6117, 2400.200,    1.740,   34.632,2,   34.633,2,   94.850,1,  100.980,2,  160.680,2,   39.470,2,    0.010,2,    2.812,2, -999.000,9, -999.000,9, -999.000,9, 2358.200,6, 2414.800,2
           NA,    P10N,    134,   1,-999.0,     -99,  2,20050528,0403,  41.0163,  144.6995,  6117, 2599.900,    1.672,   34.644,2,   34.645,2,  103.500,1,  111.500,2,  158.740,2,   38.820,2,    0.010,2,    2.760,2,    0.015,2,   -0.001,2, -999.000,9, 2354.800,2, 2420.300,6
           NA,    P10N,    134,   1,-999.0,     -99,  2,20050528,0403,  41.0163,  144.6995,  6117, 2799.600,    1.617,   34.654,2,   34.654,2,  110.970,1,  119.620,2,  157.640,2,   38.250,2,    0.010,2,    2.718,2, -999.000,9, -999.000,9, -999.000,9, 2347.100,2, 2420.200,2
           NA,    P10N,    134,   1,-999.0,     -99,  2,20050528,0403,  41.0163,  144.6995,  6117, 3000.200,    1.569,   34.662,2,   34.663,2,  117.330,1,  126.910,6,  156.360,2,   37.790,2,    0.000,2,    2.682,2, -999.000,9, -999.000,9, -999.000,9, 2342.400,2, 2422.500,2
           NA,    P10N,    134,   1,-999.0,     -99,  2,20050528,0403,  41.0163,  144.6995,  6117, 3249.700,    1.538,   34.668,2,   34.668,2,  123.250,1,  133.100,2,  154.410,2,   37.340,2,    0.000,2,    2.633,2, -999.000,9, -999.000,9, -999.000,9, 2340.200,2, 2420.200,2
           NA,    P10N,    134,   1,-999.0,     -99,  2,20050528,0403,  41.0163,  144.6995,  6117, 3750.300,    1.496,   34.678,2,   34.679,6,  132.960,1,  145.260,2,  152.140,2,   36.610,2,    0.000,2,    2.578,2, -999.000,9, -999.000,9, -999.000,9, 2330.600,2, 2421.400,2
           NA,    P10N,    134,   1,-999.0,     -99,  2,20050528,0403,  41.0163,  144.6995,  6117, 4000.400,    1.488,   34.682,2,   34.682,2,  136.950,1,  148.910,2,  151.090,2,   36.330,2,    0.000,2,    2.559,2, -999.000,9, -999.000,9, -999.000,9, 2328.200,2, 2419.100,2
           NA,    P10N,    134,   1,-999.0,     -99,  2,20050528,0403,  41.0163,  144.6995,  6117, 4250.700,    1.487,   34.685,2,   34.685,2,  139.970,1, -999.000,4,  150.820,2,   36.130,2,    0.000,2,    2.545,2, -999.000,9, -999.000,9, -999.000,9, 2325.200,6, 2420.100,2
           NA,    P10N,    134,   1,-999.0,     -99,  2,20050528,0403,  41.0163,  144.6995,  6117, 4501.200,    1.487,   34.687,2,   34.688,2,  144.080,1,  154.920,2,  148.690,2,   35.850,2,    0.000,2,    2.519,2, -999.000,9, -999.000,9, -999.000,9, 2323.000,2, 2421.800,6
           NA,    P10N,    134,   1,-999.0,     -99,  2,20050528,0403,  41.0163,  144.6995,  6117, 4750.700,    1.498,   34.689,2,   34.690,6,  146.360,1,  157.070,2,  148.580,2,   35.680,2,    0.000,2,    2.511,2, -999.000,9, -999.000,9, -999.000,9, 2318.700,2, 2415.400,2
           NA,    P10N,    134,   1,-999.0,     -99,  2,20050528,0403,  41.0163,  144.6995,  6117, 5001.100,    1.514,   34.691,2,   34.691,2,  148.380,1,  158.860,6,  148.050,2,   35.560,2,    0.000,2,    2.506,2, -999.000,9, -999.000,9, -999.000,9, 2320.700,2, 2418.100,2
           NA,    P10N,    134,   1,-999.0,     -99,  2,20050528,0403,  41.0163,  144.6995,  6117, 5250.400,    1.539,   34.692,2,   34.692,2,  150.730,1,  160.730,2,  146.240,2,   35.440,2,    0.000,2,    2.494,2, -999.000,9, -999.000,9, -999.000,9, 2317.600,2, 2418.100,2
           NA,    P10N,    134,   1,-999.0,     -99,  2,20050528,0403,  41.0163,  144.6995,  6117, 5500.600,    1.564,   34.692,2,   34.692,2,  152.520,1,  161.880,2,  145.170,2,   35.290,2,    0.000,2,    2.485,2, -999.000,9, -999.000,9, -999.000,9, 2315.500,2, 2416.000,2
           NA,    P10N,    134,   1,-999.0,     -99,  2,20050528,0403,  41.0163,  144.6995,  6117, 5749.500,    1.595,   34.693,2,   34.693,2,  154.020,1,  162.380,2,  145.290,2,   35.320,2,    0.000,2,    2.481,2, -999.000,9, -999.000,9, -999.000,9, 2315.800,2, 2417.300,2
           NA,    P10N,    134,   1,-999.0,     -99,  2,20050528,0403,  41.0163,  144.6995,  6117, 6230.300,    1.654,   34.694,2,   34.693,6,  157.710,1,  163.490,2,  143.940,2,   35.180,2,    0.000,2,    2.476,2, -999.000,9, -999.000,9, -999.000,9, 2315.300,2, 2415.800,2