BOTTLE,20214413JOAExport
EXPOCODE,SECT_ID,STNNBR,CASTNO,SAMPNO,BTLNBR,BTLNBR_FLAG_W,DATE,TIME,LATITUDE,LONGITUDE,DEPTH,CTDPRS,CTDTMP,CTDSAL,CTDSAL_FLAG_W,SALNTY,SALNTY_FLAG_W,CTDOXY,CTDOXY_FLAG_W,OXYGEN,OXYGEN_FLAG_W,SILCAT,SILCAT_FLAG_W,NITRAT,NITRAT_FLAG_W,NITRIT,NITRIT_FLAG_W,PHSPHT,PHSPHT_FLAG_W,CFC-11,CFC-11_FLAG_W,CFC-12,CFC-12_FLAG_W,SF6,SF6_FLAG_W,TCARBN,TCARBN_FLAG_W,ALKALI,ALKALI_FLAG_W
,,,,,,,,,,,,,DB,ITS-90,PSS-78,,PSS-78,,UMOL/KG,,UMOL/KG,,UMOL/KG,,UMOL/KG,,UMOL/KG,,UMOL/KG,,PMOL/KG,,PMOL/KG,,FMOL/KG,,UMOL/KG,,UMOL/KG
           NA,     P10,     61,   1,-999.0,     -99,  2,20050613,0546,  20.4933,  149.3223,  4568,   10.100,   29.166,   35.039,2,   35.050,2,  174.030,1,  197.970,6,    0.950,2,    0.040,2,    0.000,2,    0.039,2,    1.477,2,    0.902,2, -999.000,9, 1957.400,2, 2311.000,2
           NA,     P10,     61,   1,-999.0,     -99,  2,20050613,0546,  20.4933,  149.3223,  4568,   50.500,   26.591,   35.058,2,   35.064,2,  187.010,1,  213.950,2,    0.920,2,    0.050,2,    0.010,2,    0.032,2,    1.636,2,    0.993,2, -999.000,9, 1957.900,6, 2311.900,2
           NA,     P10,     61,   1,-999.0,     -99,  2,20050613,0546,  20.4933,  149.3223,  4568,  100.800,   24.382,   35.147,2,   35.148,2,  184.080,1,  211.690,2,    1.140,2,    0.020,2,    0.000,2,    0.038,2,    1.760,2,    1.060,2, -999.000,9, 1979.000,2, 2316.300,6
           NA,     P10,     61,   1,-999.0,     -99,  2,20050613,0546,  20.4933,  149.3223,  4568,  150.200,   22.353,   35.102,2,   35.102,2,  180.190,1,  208.020,2,    1.510,2,    0.050,2,    0.040,2,    0.056,2,    1.913,2,    1.145,2, -999.000,9, 1999.700,2, 2312.300,2
           NA,     P10,     61,   1,-999.0,     -99,  2,20050613,0546,  20.4933,  149.3223,  4568,  199.900,   19.499,   34.942,2,   34.937,2,  169.060,1,  196.510,2,    2.570,2,    2.460,2,    0.020,2,    0.223,2,    2.170,2,    1.271,2, -999.000,9, 2029.200,2, 2304.600,2
           NA,     P10,     61,   1,-999.0,     -99,  2,20050613,0546,  20.4933,  149.3223,  4568,  250.000,   17.412,   34.787,2,   34.781,2,  174.180,1,  202.510,2,    3.910,2,    4.630,2,    0.010,2,    0.347,2,    2.334,6,    1.349,6, -999.000,9, 2036.700,2, 2291.300,2
           NA,     P10,     61,   1,-999.0,     -99,  2,20050613,0546,  20.4933,  149.3223,  4568,  300.900,   16.276,   34.693,2,   34.687,2,  173.770,1,  203.060,2,    5.580,2,    6.330,2,    0.010,2,    0.463,2,    2.428,2,    1.379,2, -999.000,9, 2045.700,2, 2288.800,2
           NA,     P10,     61,   1,-999.0,     -99,  2,20050613,0546,  20.4933,  149.3223,  4568,  401.200,   13.188,   34.443,2,   34.438,2,  161.860,1,  190.590,2,   13.460,2,   12.290,2,    0.000,2,    0.887,2,    2.582,2,    1.385,2, -999.000,9, 2087.200,2, 2281.000,2
           NA,     P10,     61,   1,-999.0,     -99,  2,20050613,0546,  20.4933,  149.3223,  4568,  501.200,    9.764,   34.203,2,   34.203,6,  141.900,1,  168.140,2,   27.690,2,   20.170,2,    0.010,2,    1.466,2,    2.333,2,    1.194,2, -999.000,9, 2142.600,2, 2279.400,2
           NA,     P10,     61,   1,-999.0,     -99,  2,20050613,0546,  20.4933,  149.3223,  4568,  601.000,    6.984,   34.117,2,   34.118,2,   92.320,1,  109.230,2,   54.640,2,   30.820,2,    0.000,2,    2.249,2,    1.287,2,    0.635,2, -999.000,9, 2223.900,2, 2298.300,2
           NA,     P10,     61,   1,-999.0,     -99,  2,20050613,0546,  20.4933,  149.3223,  4568,  700.300,    5.593,   34.170,2,   34.173,2,   63.060,1,   73.780,2,   77.150,2,   36.450,2,    0.000,2,    2.659,2,    0.646,2,    0.316,2, -999.000,9, 2276.500,6, 2322.400,2
           NA,     P10,     61,   1,-999.0,     -99,  2,20050613,0546,  20.4933,  149.3223,  4568,  801.700,    4.739,   34.271,2,   34.273,2,   45.880,1,   53.140,2,   95.000,2,   39.720,2,    0.000,2,    2.895,2,    0.245,6,    0.116,6, -999.000,9, 2311.400,2, 2342.700,6
           NA,     P10,     61,   1,-999.0,     -99,  2,20050613,0546,  20.4933,  149.3223,  4568,  901.800,    4.308,   34.387,2,   34.387,2,   46.430,1,   54.030,2,  104.450,2,   40.380,2,    0.000,2,    2.929,2,    0.073,2,    0.040,2, -999.000,9, 2325.200,2, 2359.300,2
           NA,     P10,     61,   1,-999.0,     -99,  2,20050613,0546,  20.4933,  149.3223,  4568, 1000.700,    3.944,   34.450,2,   34.450,6,   51.580,1,   60.730,2,  112.050,2,   40.400,2,    0.000,2,    2.920,2,    0.028,2,    0.015,2, -999.000,9, 2330.500,2, 2373.200,2
           NA,     P10,     61,   1,-999.0,     -99,  2,20050613,0546,  20.4933,  149.3223,  4568, 1201.200,    3.269,   34.518,2,   34.519,2,   61.960,1,   74.210,6,  124.960,2,   40.060,2,    0.010,2,    2.885,2,    0.006,2,    0.003,2, -999.000,9, 2338.800,2, 2386.000,2
           NA,     P10,     61,   1,-999.0,     -99,  2,20050613,0546,  20.4933,  149.3223,  4568, 1400.400,    2.791,   34.554,2,   34.555,2,   69.460,1,   83.820,2,  134.080,2,   39.850,2,    0.000,2,    2.855,2,    0.001,2,   -0.001,2, -999.000,9, 2344.300,2, 2399.400,2
           NA,     P10,     61,   1,-999.0,     -99,  2,20050613,0546,  20.4933,  149.3223,  4568, 1600.400,    2.573,   34.574,2,   34.574,2,   74.090,1,   90.270,2,  137.630,2,   39.540,2,    0.000,2,    2.831,2,    0.001,2,    0.001,2, -999.000,9, 2344.300,2, 2405.100,2
           NA,     P10,     61,   1,-999.0,     -99,  2,20050613,0546,  20.4933,  149.3223,  4568, 1800.000,    2.304,   34.596,2,   34.596,6,   79.650,1,   97.790,2,  142.230,2,   39.250,2,    0.000,2,    2.798,2,   -0.002,2,    0.002,2, -999.000,9, 2345.600,2, 2411.700,2
           NA,     P10,     61,   1,-999.0,     -99,  2,20050613,0546,  20.4933,  149.3223,  4568, 2001.800,    2.051,   34.617,2,   34.617,2,   86.130,1,  106.700,2,  145.870,2,   38.830,2,    0.000,2,    2.757,2,   -0.001,2,   -0.001,2, -999.000,9, 2345.500,2, 2411.000,2
           NA,     P10,     61,   1,-999.0,     -99,  2,20050613,0546,  20.4933,  149.3223,  4568, 2199.600,    1.918,   34.631,2,   34.632,2,   90.170,1,  112.230,2,  148.020,2,   38.560,2,    0.000,2,    2.737,2,    0.004,2,    0.004,2, -999.000,9, 2345.100,2, 2416.600,2
           NA,     P10,     61,   1,-999.0,     -99,  2,20050613,0546,  20.4933,  149.3223,  4568, 2401.100,    1.797,   34.643,2,   34.644,2,   95.200,1,  119.490,2,  148.870,2,   38.120,2,    0.000,2,    2.699,2, -999.000,9, -999.000,9, -999.000,9, 2342.400,6, 2418.500,2
           NA,     P10,     61,   1,-999.0,     -99,  2,20050613,0546,  20.4933,  149.3223,  4568, 2601.500,    1.711,   34.654,2,   34.654,2,   99.370,1,  125.330,2,  149.500,2,   37.830,2,    0.000,2,    2.673,2, -999.000,9, -999.000,9, -999.000,9, 2339.100,2, 2418.600,6
           NA,     P10,     61,   1,-999.0,     -99,  2,20050613,0546,  20.4933,  149.3223,  4568, 2800.200,    1.660,   34.660,2,   34.660,6,  102.030,1,  128.950,2,  149.820,2,   37.570,2,    0.000,2,    2.651,2, -999.000,9, -999.000,9, -999.000,9, 2337.600,2, 2421.000,2
           NA,     P10,     61,   1,-999.0,     -99,  2,20050613,0546,  20.4933,  149.3223,  4568, 3000.200,    1.607,   34.666,2,   34.666,2,  105.790,1,  134.350,6,  149.440,2,   37.280,2,    0.000,2,    2.628,2, -999.000,9, -999.000,9, -999.000,9, 2334.500,2, 2422.800,2
           NA,     P10,     61,   1,-999.0,     -99,  2,20050613,0546,  20.4933,  149.3223,  4568, 3249.400,    1.560,   34.672,2,   34.672,2,  109.320,1,  139.230,2,  149.180,2,   36.990,2,    0.000,2,    2.592,2, -999.000,9, -999.000,9, -999.000,9, 2332.200,2, 2419.200,2
           NA,     P10,     61,   1,-999.0,     -99,  2,20050613,0546,  20.4933,  149.3223,  4568, 3500.100,    1.513,   34.678,2,   34.678,2,  113.900,1,  145.520,2,  147.700,2,   36.520,2,    0.000,2,    2.563,2, -999.000,9, -999.000,9, -999.000,9, 2327.700,2, 2419.800,2
           NA,     P10,     61,   1,-999.0,     -99,  2,20050613,0546,  20.4933,  149.3223,  4568, 3749.100,    1.484,   34.682,2,   34.683,6,  118.040,1,  150.800,2,  146.150,2,   36.180,2,    0.000,2,    2.537,2, -999.000,9, -999.000,9, -999.000,9, 2323.200,2, 2421.100,2
           NA,     P10,     61,   1,-999.0,     -99,  2,20050613,0546,  20.4933,  149.3223,  4568, 4000.000,    1.467,   34.686,2,   34.687,2,  122.500,1,  156.050,2,  143.450,2,   35.800,2,    0.000,2,    2.508,2, -999.000,9, -999.000,9, -999.000,9, 2317.700,2, 2417.800,2
           NA,     P10,     61,   1,-999.0,     -99,  2,20050613,0546,  20.4933,  149.3223,  4568, 4249.000,    1.453,   34.690,2,   34.690,2,  127.010,1,  161.420,2,  141.070,2,   35.440,2,    0.000,2,    2.480,2, -999.000,9, -999.000,9, -999.000,9, 2314.000,6, 2413.800,2
           NA,     P10,     61,   1,-999.0,     -99,  2,20050613,0546,  20.4933,  149.3223,  4568, 4499.200,    1.449,   34.693,2,   34.692,2,  131.000,1,  165.680,2,  138.750,2,   35.120,2,    0.000,2,    2.456,2, -999.000,9, -999.000,9, -999.000,9, 2309.400,2, 2412.500,6
           NA,     P10,     61,   1,-999.0,     -99,  2,20050613,0546,  20.4933,  149.3223,  4568, 4612.100,    1.453,   34.693,2,   34.693,2,  132.440,1,  166.870,6,  138.230,2,   34.970,2,    0.000,2,    2.452,2, -999.000,9, -999.000,9, -999.000,9, 2308.900,2, 2412.000,2
           NA,     P10,     62,   2,-999.0,     -99,  2,20050612,2248,  21.1732,  149.3282,  5372,   10.300,   29.175,   34.589,2,   34.592,2,  174.350,1,  197.900,6,    0.950,2,    0.030,2,    0.000,2,    0.049,2,    1.460,2,    0.892,2, -999.000,9, -999.000,9, -999.000,9
           NA,     P10,     62,   2,-999.0,     -99,  2,20050612,2248,  21.1732,  149.3282,  5372,   50.200,   27.771,   34.844,2,   34.851,2,  180.590,1,  206.230,2,    0.920,2,    0.010,2,    0.000,2,    0.039,2,    1.582,2,    0.972,2, -999.000,9, -999.000,9, -999.000,9
           NA,     P10,     62,   2,-999.0,     -99,  2,20050612,2248,  21.1732,  149.3282,  5372,  100.700,   25.525,   34.905,2,   34.918,2,  186.020,1,  213.250,2,    1.030,2,    0.020,2,    0.000,2,    0.038,2,    1.751,2,    1.057,2, -999.000,9, -999.000,9, -999.000,9
           NA,     P10,     62,   2,-999.0,     -99,  2,20050612,2248,  21.1732,  149.3282,  5372,  150.800,   23.516,   35.070,2,   35.075,2,  173.040,1,  199.030,2,    1.330,2,    0.110,2,    0.060,2,    0.079,2,    1.911,2,    1.157,2, -999.000,9, -999.000,9, -999.000,9
           NA,     P10,     62,   2,-999.0,     -99,  2,20050612,2248,  21.1732,  149.3282,  5372,  200.100,   20.973,   35.036,2,   35.028,2,  170.700,1,  198.380,2,    1.930,2,    1.150,2,    0.040,2,    0.145,2,    2.148,2,    1.271,2, -999.000,9, -999.000,9, -999.000,9
           NA,     P10,     62,   2,-999.0,     -99,  2,20050612,2248,  21.1732,  149.3282,  5372,  250.200,   18.398,   34.859,2,   34.851,2,  170.820,1,  199.840,2,    3.090,2,    3.410,2,    0.010,2,    0.282,2,    2.398,6,    1.382,6, -999.000,9, -999.000,9, -999.000,9
           NA,     P10,     62,   2,-999.0,     -99,  2,20050612,2248,  21.1732,  149.3282,  5372,  300.400,   16.734,   34.729,2,   34.726,2,  171.430,1,  200.570,2,    4.800,2,    5.690,2,    0.010,2,    0.432,2,    2.565,2,    1.439,2, -999.000,9, -999.000,9, -999.000,9
           NA,     P10,     62,   2,-999.0,     -99,  2,20050612,2248,  21.1732,  149.3282,  5372,  400.000,   14.416,   34.527,2,   34.513,2,  164.820,1,  193.560,2,   10.040,2,   10.070,2,    0.010,2,    0.738,2,    2.777,2,    1.491,2, -999.000,9, -999.000,9, -999.000,9
           NA,     P10,     62,   2,-999.0,     -99,  2,20050612,2248,  21.1732,  149.3282,  5372,  499.800,   10.537,   34.244,2,   34.240,2,  146.320,1,  172.690,2,   23.040,2,   18.340,2,    0.000,2,    1.339,2,    2.671,2,    1.334,2, -999.000,9, -999.000,9, -999.000,9
           NA,     P10,     62,   2,-999.0,     -99,  2,20050612,2248,  21.1732,  149.3282,  5372,  600.400,    8.032,   34.128,2,   34.130,2,  114.740,1,  136.360,2,   41.650,2,   26.170,2,    0.010,2,    1.905,2,    1.861,2,    0.912,2, -999.000,9, -999.000,9, -999.000,9
           NA,     P10,     62,   2,-999.0,     -99,  2,20050612,2248,  21.1732,  149.3282,  5372,  701.100,    6.041,   34.129,2,   34.129,6,   77.420,1,   92.050,2,   68.180,2,   33.800,2,    0.000,2,    2.476,2,    1.001,6,    0.475,6, -999.000,9, -999.000,9, -999.000,9
           NA,     P10,     62,   2,-999.0,     -99,  2,20050612,2248,  21.1732,  149.3282,  5372,  800.000,    5.096,   34.237,2,   34.238,2,   50.340,1,   58.810,2,   87.420,2,   38.640,2,    0.000,2,    2.820,2,    0.341,2,    0.142,2, -999.000,9, -999.000,9, -999.000,9
           NA,     P10,     62,   2,-999.0,     -99,  2,20050612,2248,  21.1732,  149.3282,  5372,  901.500,    4.470,   34.350,2,   34.350,2,   44.950,1,   52.220,2,  101.190,2,   40.220,2,    0.000,2,    2.926,2,    0.101,2,    0.037,2, -999.000,9, -999.000,9, -999.000,9
           NA,     P10,     62,   2,-999.0,     -99,  2,20050612,2248,  21.1732,  149.3282,  5372, 1001.600,    3.971,   34.417,2,   34.417,2,   47.590,1,   56.000,2,  111.960,2,   40.760,2,    0.000,2,    2.941,2,    0.055,2,    0.014,2, -999.000,9, -999.000,9, -999.000,9
           NA,     P10,     62,   2,-999.0,     -99,  2,20050612,2248,  21.1732,  149.3282,  5372, 1200.800,    3.251,   34.492,2,   34.493,6,   54.920,1,   65.470,6,  127.510,2,   40.770,2,    0.000,2,    2.930,2,    0.017,2,    0.001,2, -999.000,9, -999.000,9, -999.000,9
           NA,     P10,     62,   2,-999.0,     -99,  2,20050612,2248,  21.1732,  149.3282,  5372, 1401.200,    2.715,   34.543,2,   34.542,2,   64.750,1,   78.210,2,  137.200,2,   40.250,2,    0.000,2,    2.883,2,    0.007,2,    0.000,2, -999.000,9, -999.000,9, -999.000,9
           NA,     P10,     62,   2,-999.0,     -99,  2,20050612,2248,  21.1732,  149.3282,  5372, 1599.700,    2.379,   34.577,2,   34.576,2,   73.310,1,   89.630,2,  142.200,2,   39.730,2,    0.000,2,    2.829,2, -999.000,3, -999.000,3, -999.000,9, -999.000,9, -999.000,9
           NA,     P10,     62,   2,-999.0,     -99,  2,20050612,2248,  21.1732,  149.3282,  5372, 1800.900,    2.127,   34.604,2,   34.603,2,   81.440,1,  100.310,2,  145.400,2,   39.210,2,    0.000,2,    2.781,2,   -0.002,2,   -0.001,2, -999.000,9, -999.000,9, -999.000,9
           NA,     P10,     62,   2,-999.0,     -99,  2,20050612,2248,  21.1732,  149.3282,  5372, 1999.100,    1.977,   34.622,2,   34.621,2,   87.590,1,  109.080,2,  146.760,2,   38.690,2,    0.000,2,    2.743,2,    0.000,2,    0.000,2, -999.000,9, -999.000,9, -999.000,9
           NA,     P10,     62,   2,-999.0,     -99,  2,20050612,2248,  21.1732,  149.3282,  5372, 2200.200,    1.861,   34.635,2,   34.635,6,   91.450,1,  114.370,2,  148.510,2,   38.450,2,    0.000,2,    2.719,2,    0.002,2,    0.001,2, -999.000,9, -999.000,9, -999.000,9
           NA,     P10,     62,   2,-999.0,     -99,  2,20050612,2248,  21.1732,  149.3282,  5372, 2400.900,    1.770,   34.645,2,   34.646,2,   95.560,1,  120.200,2,  149.400,2,   38.130,2,    0.000,2,    2.691,2, -999.000,9, -999.000,9, -999.000,9, -999.000,9, -999.000,9
           NA,     P10,     62,   2,-999.0,     -99,  2,20050612,2248,  21.1732,  149.3282,  5372, 2601.200,    1.690,   34.655,2,   34.655,2,   99.520,1,  125.900,2,  149.720,2,   37.760,2,    0.000,2,    2.665,2, -999.000,9, -999.000,9, -999.000,9, -999.000,9, -999.000,9
           NA,     P10,     62,   2,-999.0,     -99,  2,20050612,2248,  21.1732,  149.3282,  5372, 2799.700,    1.644,   34.661,2,   34.661,2,  101.800,1,  129.480,2,  150.360,2,   37.590,2,    0.000,2,    2.644,2, -999.000,9, -999.000,9, -999.000,9, -999.000,9, -999.000,9
           NA,     P10,     62,   2,-999.0,     -99,  2,20050612,2248,  21.1732,  149.3282,  5372, 3000.100,    1.605,   34.666,2,   34.666,2,  104.630,1,  133.410,6,  149.880,2,   37.310,2,    0.000,2,    2.619,2, -999.000,9, -999.000,9, -999.000,9, -999.000,9, -999.000,9
           NA,     P10,     62,   2,-999.0,     -99,  2,20050612,2248,  21.1732,  149.3282,  5372, 3249.900,    1.547,   34.673,2,   34.673,6,  109.210,1,  140.100,2,  149.010,2,   36.830,2,    0.000,2,    2.587,2, -999.000,9, -999.000,9, -999.000,9, -999.000,9, -999.000,9
           NA,     P10,     62,   2,-999.0,     -99,  2,20050612,2248,  21.1732,  149.3282,  5372, 3499.500,    1.521,   34.677,2,   34.678,2,  112.150,1,  144.400,2,  147.630,2,   36.560,2,    0.000,2,    2.562,2, -999.000,9, -999.000,9, -999.000,9, -999.000,9, -999.000,9
           NA,     P10,     62,   2,-999.0,     -99,  2,20050612,2248,  21.1732,  149.3282,  5372, 3750.900,    1.503,   34.681,2,   34.681,2,  115.250,1,  148.590,2,  146.480,2,   36.310,2,    0.000,2,    2.540,2, -999.000,9, -999.000,9, -999.000,9, -999.000,9, -999.000,9
           NA,     P10,     62,   2,-999.0,     -99,  2,20050612,2248,  21.1732,  149.3282,  5372, 4000.200,    1.473,   34.686,2,   34.685,2,  119.670,1,  154.670,2,  144.290,2,   35.880,2,    0.000,2,    2.509,2, -999.000,9, -999.000,9, -999.000,9, -999.000,9, -999.000,9
           NA,     P10,     62,   2,-999.0,     -99,  2,20050612,2248,  21.1732,  149.3282,  5372, 4250.700,    1.465,   34.689,2,   34.688,2,  123.000,1,  159.100,2,  142.490,2,   35.670,2,    0.000,2,    2.487,2, -999.000,9, -999.000,9, -999.000,9, -999.000,9, -999.000,9
           NA,     P10,     62,   2,-999.0,     -99,  2,20050612,2248,  21.1732,  149.3282,  5372, 4500.600,    1.464,   34.691,2,   34.691,2,  126.160,1,  163.030,2,  140.160,2,   35.330,2,    0.000,2,    2.466,2, -999.000,9, -999.000,9, -999.000,9, -999.000,9, -999.000,9
           NA,     P10,     62,   2,-999.0,     -99,  2,20050612,2248,  21.1732,  149.3282,  5372, 4751.000,    1.472,   34.693,2,   34.694,2,  128.940,1,  166.130,2,  138.520,2,   35.100,2,    0.000,2,    2.448,2, -999.000,9, -999.000,9, -999.000,9, -999.000,9, -999.000,9
           NA,     P10,     62,   2,-999.0,     -99,  2,20050612,2248,  21.1732,  149.3282,  5372, 5001.300,    1.477,   34.695,2,   34.695,2,  132.310,1,  169.670,6,  136.410,2,   34.830,2,    0.000,2,    2.425,2, -999.000,9, -999.000,9, -999.000,9, -999.000,9, -999.000,9
           NA,     P10,     62,   2,-999.0,     -99,  2,20050612,2248,  21.1732,  149.3282,  5372, 5250.900,    1.467,   34.698,2,   34.698,2,  137.240,1,  175.160,2,  132.940,2,   34.350,2,    0.000,2,    2.393,2, -999.000,9, -999.000,9, -999.000,9, -999.000,9, -999.000,9
           NA,     P10,     62,   2,-999.0,     -99,  2,20050612,2248,  21.1732,  149.3282,  5372, 5475.200,    1.489,   34.698,2,   34.699,6,  139.140,1,  176.280,2,  132.380,2,   34.410,2,    0.000,2,    2.393,2, -999.000,9, -999.000,9, -999.000,9, -999.000,9, -999.000,9