BOTTLE,20214413JOAExport
EXPOCODE,SECT_ID,STNNBR,CASTNO,SAMPNO,BTLNBR,BTLNBR_FLAG_W,DATE,TIME,LATITUDE,LONGITUDE,DEPTH,CTDPRS,CTDTMP,CTDSAL,CTDSAL_FLAG_W,SALNTY,SALNTY_FLAG_W,CTDOXY,CTDOXY_FLAG_W,OXYGEN,OXYGEN_FLAG_W,SILCAT,SILCAT_FLAG_W,NITRAT,NITRAT_FLAG_W,NITRIT,NITRIT_FLAG_W,PHSPHT,PHSPHT_FLAG_W,CFC-11,CFC-11_FLAG_W,CFC-12,CFC-12_FLAG_W,SF6,SF6_FLAG_W,TCARBN,TCARBN_FLAG_W,ALKALI,ALKALI_FLAG_W
,,,,,,,,,,,,,DB,ITS-90,PSS-78,,PSS-78,,UMOL/KG,,UMOL/KG,,UMOL/KG,,UMOL/KG,,UMOL/KG,,UMOL/KG,,PMOL/KG,,PMOL/KG,,FMOL/KG,,UMOL/KG,,UMOL/KG
           NA,     P10,     12,   1,-999.0,     -99,  2,20050626,0006,  -1.4942,  145.7062,  2196,    9.000,   29.803,   34.125,2,   34.166,2,  170.820,1,  195.300,6,    0.800,2,    0.020,2,    0.000,2,    0.134,2,    1.400,2,    0.860,2, -999.000,9, 1895.200,2, 2251.100,2
           NA,     P10,     12,   1,-999.0,     -99,  2,20050626,0006,  -1.4942,  145.7062,  2196,   50.600,   29.980,   34.871,2,   34.899,2,  172.930,1,  196.850,2,    0.730,2,    0.090,2,    0.010,2,    0.195,2,    1.419,2,    0.857,2, -999.000,9, 1946.100,6, 2299.700,2
           NA,     P10,     12,   1,-999.0,     -99,  2,20050626,0006,  -1.4942,  145.7062,  2196,  100.300,   26.990,   35.352,2,   35.413,2,  136.100,1,  149.920,2,    2.250,2,    6.550,2,    0.070,2,    0.636,2,    1.607,2,    0.948,2, -999.000,9, 2045.500,2, 2327.800,6
           NA,     P10,     12,   1,-999.0,     -99,  2,20050626,0006,  -1.4942,  145.7062,  2196,  150.700,   21.873,   35.602,2,   35.595,2,  115.410,1,  133.480,2,    3.070,2,    9.560,2,    0.010,2,    0.821,2,    1.792,2,    1.020,2, -999.000,9, 2099.100,2, 2343.200,2
           NA,     P10,     12,   1,-999.0,     -99,  2,20050626,0006,  -1.4942,  145.7062,  2196,  200.500,   18.608,   35.474,2,   35.419,2,  116.930,1,  137.260,2,    5.080,2,   12.310,2,    0.010,2,    1.006,2,    1.754,2,    0.964,2, -999.000,9, 2122.800,2, 2334.800,2
           NA,     P10,     12,   1,-999.0,     -99,  2,20050626,0006,  -1.4942,  145.7062,  2196,  251.800,   14.506,   35.148,2,   35.132,2,  121.980,1,  142.330,2,    8.940,2,   16.320,2,    0.000,2,    1.251,2,    1.542,6,    0.815,6, -999.000,9, 2142.600,2, 2318.600,2
           NA,     P10,     12,   1,-999.0,     -99,  2,20050626,0006,  -1.4942,  145.7062,  2196,  299.800,   11.175,   34.825,2,   34.822,2,  116.430,1,  136.150,2,   18.200,2,   22.360,2,    0.000,2,    1.630,2,    1.136,2,    0.588,2, -999.000,9, 2171.000,2, 2310.600,2
           NA,     P10,     12,   1,-999.0,     -99,  2,20050626,0006,  -1.4942,  145.7062,  2196,  400.000,    9.990,   34.739,2,   34.728,2,  116.120,1,  140.700,2,   19.770,2,   24.520,2,    0.000,2,    1.759,2,    0.944,2,    0.488,2, -999.000,9, 2179.500,2, 2303.700,2
           NA,     P10,     12,   1,-999.0,     -99,  2,20050626,0006,  -1.4942,  145.7062,  2196,  499.500,    8.493,   34.624,2,   34.613,2,  142.720,1,  161.720,2,   21.890,2,   25.760,2,   -0.010,2,    1.829,2,    0.797,2,    0.408,2, -999.000,9, 2180.800,2, 2305.200,2
           NA,     P10,     12,   1,-999.0,     -99,  2,20050626,0006,  -1.4942,  145.7062,  2196,  600.900,    6.562,   34.534,2,   34.531,2,  118.510,1,  140.220,2,   39.530,2,   31.420,2,   -0.010,2,    2.226,2,    0.329,2,    0.174,2, -999.000,9, 2219.200,2, 2315.600,2
           NA,     P10,     12,   1,-999.0,     -99,  2,20050626,0006,  -1.4942,  145.7062,  2196,  699.300,    5.921,   34.532,2,   34.531,2,   99.070,1,  119.750,2,   51.890,2,   34.420,2,    0.000,2,    2.452,2,    0.158,2,    0.051,2, -999.000,9, 2244.800,6, 2323.800,2
           NA,     P10,     12,   1,-999.0,     -99,  2,20050626,0006,  -1.4942,  145.7062,  2196,  802.200,    5.482,   34.533,2,   34.531,2,   94.470,1,  114.580,2,   59.670,2,   35.580,2,    0.000,2,    2.537,2,    0.102,6,    0.051,6, -999.000,9, 2258.200,2, 2334.600,6
           NA,     P10,     12,   1,-999.0,     -99,  2,20050626,0006,  -1.4942,  145.7062,  2196,  900.300,    4.833,   34.534,2,   34.535,2,   97.750,1,  116.280,2,   70.210,2,   36.120,2,    0.000,2,    2.579,2,    0.060,2,    0.034,2, -999.000,9, 2269.700,2, 2346.500,2
           NA,     P10,     12,   1,-999.0,     -99,  2,20050626,0006,  -1.4942,  145.7062,  2196,  999.800,    4.435,   34.551,2,   34.552,6,   87.020,1,  103.480,2,   83.270,2,   37.690,2,    0.000,2,    2.710,2,    0.024,2,    0.013,2, -999.000,9, 2290.900,2, 2359.500,2
           NA,     P10,     12,   1,-999.0,     -99,  2,20050626,0006,  -1.4942,  145.7062,  2196, 1201.500,    3.719,   34.575,2,   34.575,2,   84.710,1,  101.370,6,  100.350,2,   38.530,2,   -0.010,2,    2.776,2,    0.003,2,    0.004,2, -999.000,9, 2310.400,2, 2376.400,2
           NA,     P10,     12,   1,-999.0,     -99,  2,20050626,0006,  -1.4942,  145.7062,  2196, 1400.600,    3.264,   34.591,2,   34.593,2,   86.400,1,  103.650,2,  111.120,2,   38.700,2,   -0.010,2,    2.784,2,   -0.005,2,    0.000,2, -999.000,9, 2321.500,2, 2386.000,2
           NA,     P10,     12,   1,-999.0,     -99,  2,20050626,0006,  -1.4942,  145.7062,  2196, 1600.300,    2.833,   34.610,2,   34.610,6,   90.920,1,  109.400,2,  120.470,2,   38.520,2,   -0.010,2,    2.761,2,   -0.002,2,    0.000,2, -999.000,9, 2326.500,2, 2399.000,2
           NA,     P10,     12,   1,-999.0,     -99,  2,20050626,0006,  -1.4942,  145.7062,  2196, 1799.800,    2.459,   34.626,2,   34.627,2,   95.870,1,  115.480,2,  128.650,2,   38.270,2,    0.000,2,    2.728,2,    0.003,2,   -0.001,2, -999.000,9, 2333.400,2, 2405.400,2
           NA,     P10,     12,   1,-999.0,     -99,  2,20050626,0006,  -1.4942,  145.7062,  2196, 2002.900,    2.264,   34.636,2,   34.637,2,   98.710,1,  118.770,2,  133.310,2,   38.130,2,   -0.010,2,    2.718,2,    0.010,2,    0.001,2, -999.000,9, 2335.700,2, 2409.300,2
           NA,     P10,     12,   1,-999.0,     -99,  2,20050626,0006,  -1.4942,  145.7062,  2196, 2202.600,    2.033,   34.648,2,   34.648,6,  102.520,1,  123.230,6,  139.060,2,   37.920,2,    0.000,2,    2.699,2, -999.000,3,    0.000,2, -999.000,9, 2339.300,2, 2415.800,2
           NA,     P10,     13,   1,-999.0,     -99,  2,20050625,1939,  -1.2463,  145.7823,  2294,    9.700,   29.789,   34.132,2, -999.000,4,  170.570,1,  195.680,6,    0.760,2,    0.040,2,    0.000,2,    0.147,2,    1.439,2,    0.877,2, -999.000,9, -999.000,9, -999.000,9
           NA,     P10,     13,   1,-999.0,     -99,  2,20050625,1939,  -1.2463,  145.7823,  2294,   49.500,   29.996,   34.800,2, -999.000,4,  172.160,1,  194.810,2,    0.810,2,    0.280,2,    0.050,2,    0.221,2,    1.463,2,    0.895,2, -999.000,9, -999.000,9, -999.000,9
           NA,     P10,     13,   1,-999.0,     -99,  2,20050625,1939,  -1.2463,  145.7823,  2294,   99.900,   26.933,   35.354,2,   35.385,2,  134.870,1,  151.560,2,    2.190,2,    6.170,2,    0.100,2,    0.614,2,    1.640,2,    0.951,2, -999.000,9, -999.000,9, -999.000,9
           NA,     P10,     13,   1,-999.0,     -99,  2,20050625,1939,  -1.2463,  145.7823,  2294,  149.700,   22.672,   35.575,2,   35.581,2,  116.130,1,  133.990,2,    2.890,2,    9.080,2,    0.020,2,    0.784,2,    1.857,2,    1.042,2, -999.000,9, -999.000,9, -999.000,9
           NA,     P10,     13,   1,-999.0,     -99,  2,20050625,1939,  -1.2463,  145.7823,  2294,  199.600,   18.613,   35.472,2,   35.445,2,  116.640,1,  136.170,2,    4.880,2,   12.030,2,    0.010,2,    0.985,2,    1.863,2,    0.984,2, -999.000,9, -999.000,9, -999.000,9
           NA,     P10,     13,   1,-999.0,     -99,  2,20050625,1939,  -1.2463,  145.7823,  2294,  251.900,   14.065,   35.109,2,   35.118,2,  122.400,1,  142.630,2,    9.070,2,   16.480,2,    0.010,2,    1.265,2,    1.591,6,    0.819,6, -999.000,9, -999.000,9, -999.000,9
           NA,     P10,     13,   1,-999.0,     -99,  2,20050625,1939,  -1.2463,  145.7823,  2294,  300.400,   11.280,   34.837,2,   34.829,2,  117.750,1,  134.320,2,   18.140,2,   22.480,2,    0.010,2,    1.639,2,    1.142,2,    0.561,2, -999.000,9, -999.000,9, -999.000,9
           NA,     P10,     13,   1,-999.0,     -99,  2,20050625,1939,  -1.2463,  145.7823,  2294,  399.300,   10.062,   34.734,2,   34.731,2,   91.410,1,  113.660,2,   23.460,2,   26.860,2,    0.010,2,    1.920,2,    0.775,2,    0.380,2, -999.000,9, -999.000,9, -999.000,9
           NA,     P10,     13,   1,-999.0,     -99,  2,20050625,1939,  -1.2463,  145.7823,  2294,  501.700,    8.434,   34.620,2,   34.612,6,  142.140,1,  163.460,2,   21.350,2,   25.560,2,    0.010,2,    1.822,2,    0.804,2,    0.386,2, -999.000,9, -999.000,9, -999.000,9
           NA,     P10,     13,   1,-999.0,     -99,  2,20050625,1939,  -1.2463,  145.7823,  2294,  599.400,    6.743,   34.540,2,   34.539,2,  120.660,1,  141.670,2,   37.640,2,   30.930,2,    0.000,2,    2.197,2,    0.342,2,    0.146,2, -999.000,9, -999.000,9, -999.000,9
           NA,     P10,     13,   1,-999.0,     -99,  2,20050625,1939,  -1.2463,  145.7823,  2294,  699.400,    6.011,   34.541,2,   34.539,2,   86.450,1,  105.500,2,   53.400,2,   35.630,2,    0.000,2,    2.547,2,    0.099,2,    0.041,2, -999.000,9, -999.000,9, -999.000,9
           NA,     P10,     13,   1,-999.0,     -99,  2,20050625,1939,  -1.2463,  145.7823,  2294,  799.700,    5.483,   34.540,2,   34.538,2,   81.720,1,   99.480,2,   63.530,2,   36.920,2,    0.000,2,    2.646,2,    0.047,6,    0.016,6, -999.000,9, -999.000,9, -999.000,9
           NA,     P10,     13,   1,-999.0,     -99,  2,20050625,1939,  -1.2463,  145.7823,  2294,  901.200,    4.734,   34.540,2,   34.541,2,   93.230,1,  110.550,2,   74.440,2,   36.690,2,    0.000,2,    2.624,2,    0.034,2,    0.011,2, -999.000,9, -999.000,9, -999.000,9
           NA,     P10,     13,   1,-999.0,     -99,  2,20050625,1939,  -1.2463,  145.7823,  2294, 1000.600,    4.430,   34.552,2,   34.552,6,   86.560,1,  103.040,2,   83.400,2,   37.670,2,    0.000,2,    2.711,2,    0.018,2,    0.000,2, -999.000,9, -999.000,9, -999.000,9
           NA,     P10,     13,   1,-999.0,     -99,  2,20050625,1939,  -1.2463,  145.7823,  2294, 1200.500,    3.753,   34.574,2,   34.574,2,   84.430,1,  101.040,6,   99.670,2,   38.510,2,    0.000,2,    2.774,2,    0.001,2,    0.000,2, -999.000,9, -999.000,9, -999.000,9
           NA,     P10,     13,   1,-999.0,     -99,  2,20050625,1939,  -1.2463,  145.7823,  2294, 1400.400,    3.224,   34.593,2,   34.593,2,   86.580,1,  103.990,2,  112.220,2,   38.680,2,    0.000,2,    2.784,2,    0.000,2,    0.000,2, -999.000,9, -999.000,9, -999.000,9
           NA,     P10,     13,   1,-999.0,     -99,  2,20050625,1939,  -1.2463,  145.7823,  2294, 1601.500,    2.782,   34.612,2,   34.613,6,   91.390,1,  110.150,2,  121.270,2,   38.330,2,    0.000,2,    2.753,2, -999.000,9, -999.000,9, -999.000,9, -999.000,9, -999.000,9
           NA,     P10,     13,   1,-999.0,     -99,  2,20050625,1939,  -1.2463,  145.7823,  2294, 1799.900,    2.486,   34.625,2,   34.626,2,   95.280,1,  115.120,2,  128.440,2,   38.280,2,    0.000,2,    2.735,2, -999.000,9, -999.000,9, -999.000,9, -999.000,9, -999.000,9
           NA,     P10,     13,   1,-999.0,     -99,  2,20050625,1939,  -1.2463,  145.7823,  2294, 1999.500,    2.285,   34.635,2, -999.000,9,   98.120,1,  118.430,2, -999.000,9, -999.000,9, -999.000,9, -999.000,9, -999.000,9, -999.000,9, -999.000,9, -999.000,9, -999.000,9
           NA,     P10,     13,   1,-999.0,     -99,  2,20050625,1939,  -1.2463,  145.7823,  2294, 1999.500,    2.285,   34.635,2,   34.635,2,   98.070,1,  118.590,2,  133.120,2,   38.150,2,    0.000,2,    2.719,2,   -0.004,2,    0.000,2, -999.000,9, -999.000,9, -999.000,9
           NA,     P10,     13,   1,-999.0,     -99,  2,20050625,1939,  -1.2463,  145.7823,  2294, 2199.700,    2.070,   34.646,2,   34.646,2,  101.880,1,  122.880,2,  137.980,2,   37.870,2,    0.000,2,    2.698,2, -999.000,9, -999.000,9, -999.000,9, -999.000,9, -999.000,9
           NA,     P10,     13,   1,-999.0,     -99,  2,20050625,1939,  -1.2463,  145.7823,  2294, 2300.100,    1.972,   34.651,2,   34.651,6,  104.310,1,  125.440,6,  139.620,2,   37.760,2,    0.010,2,    2.684,2,    0.003,2,    0.000,2, -999.000,9, -999.000,9, -999.000,9
           NA,     P10,     14,   1,-999.0,     -99,  2,20050625,1459,  -0.9965,  145.8547,  2308,   10.300,   29.774,   34.134,2,   34.134,2,  170.720,1,  195.150,6,    0.790,2,    0.030,2,    0.000,2,    0.129,2,    1.402,2,    0.860,2, -999.000,9, -999.000,9, -999.000,9
           NA,     P10,     14,   1,-999.0,     -99,  2,20050625,1459,  -0.9965,  145.8547,  2308,   49.900,   30.066,   34.617,2, -999.000,4,  172.450,1,  195.920,2,    0.750,2,    0.120,2,    0.020,2,    0.182,2,    1.395,2,    0.840,2, -999.000,9, -999.000,9, -999.000,9
           NA,     P10,     14,   1,-999.0,     -99,  2,20050625,1459,  -0.9965,  145.8547,  2308,  100.100,   27.509,   35.403,2,   35.391,2,  142.880,1,  159.540,2,    1.960,2,    5.220,2,    0.210,2,    0.567,2,    1.541,2,    0.920,2, -999.000,9, -999.000,9, -999.000,9
           NA,     P10,     14,   1,-999.0,     -99,  2,20050625,1459,  -0.9965,  145.8547,  2308,  150.200,   23.405,   35.525,2,   35.552,2,  115.430,1,  133.210,2,    3.000,2,    9.210,2,    0.020,2,    0.792,2,    1.722,2,    0.993,2, -999.000,9, -999.000,9, -999.000,9
           NA,     P10,     14,   1,-999.0,     -99,  2,20050625,1459,  -0.9965,  145.8547,  2308,  200.300,   19.020,   35.474,2,   35.445,2,  117.630,1,  137.070,2,    4.740,2,   11.830,2,    0.010,2,    0.960,2,    1.759,2,    0.972,2, -999.000,9, -999.000,9, -999.000,9
           NA,     P10,     14,   1,-999.0,     -99,  2,20050625,1459,  -0.9965,  145.8547,  2308,  249.500,   15.427,   35.229,2,   35.192,2,  120.580,1,  141.520,2,    7.810,2,   15.400,2,    0.010,2,    1.197,2,    1.589,6,    0.854,6, -999.000,9, -999.000,9, -999.000,9
           NA,     P10,     14,   1,-999.0,     -99,  2,20050625,1459,  -0.9965,  145.8547,  2308,  301.500,   11.456,   34.857,2,   34.835,2,  119.930,1,  136.690,2,   17.600,2,   22.060,2,    0.010,2,    1.608,2,    1.144,2,    0.596,2, -999.000,9, -999.000,9, -999.000,9
           NA,     P10,     14,   1,-999.0,     -99,  2,20050625,1459,  -0.9965,  145.8547,  2308,  402.100,    9.971,   34.730,2,   34.727,2,   99.950,1,  121.610,2,   22.630,2,   26.290,2,    0.000,2,    1.881,2,    0.817,2,    0.420,2, -999.000,9, -999.000,9, -999.000,9
           NA,     P10,     14,   1,-999.0,     -99,  2,20050625,1459,  -0.9965,  145.8547,  2308,  501.300,    8.394,   34.618,2,   34.607,6,  141.150,1,  164.860,2,   21.140,2,   25.490,2,    0.010,2,    1.812,2,    0.801,2,    0.399,2, -999.000,9, -999.000,9, -999.000,9
           NA,     P10,     14,   1,-999.0,     -99,  2,20050625,1459,  -0.9965,  145.8547,  2308,  602.700,    6.695,   34.540,2,   34.539,2,  118.200,1,  139.070,2,   38.030,2,   31.180,2,    0.000,2,    2.214,2,    0.350,2,    0.172,2, -999.000,9, -999.000,9, -999.000,9
           NA,     P10,     14,   1,-999.0,     -99,  2,20050625,1459,  -0.9965,  145.8547,  2308,  700.200,    6.014,   34.532,2,   34.532,2,  100.830,1,  118.150,2,   51.300,2,   34.440,2,    0.000,2,    2.455,2,    0.167,2,    0.081,2, -999.000,9, -999.000,9, -999.000,9
           NA,     P10,     14,   1,-999.0,     -99,  2,20050625,1459,  -0.9965,  145.8547,  2308,  800.100,    5.501,   34.535,2,   34.535,2,   89.150,1,  105.840,2,   61.240,2,   36.350,2,    0.000,2,    2.603,2,    0.077,6,    0.039,6, -999.000,9, -999.000,9, -999.000,9
           NA,     P10,     14,   1,-999.0,     -99,  2,20050625,1459,  -0.9965,  145.8547,  2308,  900.000,    5.163,   34.535,2,   34.535,2,   93.150,1, -999.000,5,   66.680,2,   36.270,2,    0.000,2,    2.592,2,    0.073,2,    0.038,2, -999.000,9, -999.000,9, -999.000,9
           NA,     P10,     14,   1,-999.0,     -99,  2,20050625,1459,  -0.9965,  145.8547,  2308,  999.700,    4.473,   34.550,2,   34.550,6,   87.800,1,  105.240,2,   82.150,2,   37.500,2,    0.000,2,    2.689,2,    0.024,2,    0.012,2, -999.000,9, -999.000,9, -999.000,9
           NA,     P10,     14,   1,-999.0,     -99,  2,20050625,1459,  -0.9965,  145.8547,  2308, 1202.400,    3.823,   34.571,2,   34.570,2,   83.940,1,  100.620,6,   98.010,2,   38.510,2,    0.000,2,    2.770,2,    0.009,2,    0.004,2, -999.000,9, -999.000,9, -999.000,9
           NA,     P10,     14,   1,-999.0,     -99,  2,20050625,1459,  -0.9965,  145.8547,  2308, 1400.300,    3.184,   34.595,2,   34.595,2,   86.740,1,  104.550,2,  112.750,2,   38.640,2,    0.000,2,    2.779,2,    0.000,2,   -0.002,2, -999.000,9, -999.000,9, -999.000,9
           NA,     P10,     14,   1,-999.0,     -99,  2,20050625,1459,  -0.9965,  145.8547,  2308, 1600.600,    2.760,   34.613,2,   34.613,6,   91.630,1,  110.840,2,  121.690,2,   38.410,2,    0.000,2,    2.749,2,    0.000,2,    0.000,2, -999.000,9, -999.000,9, -999.000,9
           NA,     P10,     14,   1,-999.0,     -99,  2,20050625,1459,  -0.9965,  145.8547,  2308, 1799.600,    2.490,   34.625,2,   34.625,2,   95.400,1,  115.570,2,  127.640,2,   38.270,2,    0.000,2,    2.733,2,    0.001,2,    0.000,2, -999.000,9, -999.000,9, -999.000,9
           NA,     P10,     14,   1,-999.0,     -99,  2,20050625,1459,  -0.9965,  145.8547,  2308, 2000.900,    2.287,   34.635,2,   34.635,2,   98.070,1,  118.670,2,  132.770,2,   38.130,2,    0.000,2,    2.717,2,    0.000,2,    0.000,2, -999.000,9, -999.000,9, -999.000,9
           NA,     P10,     14,   1,-999.0,     -99,  2,20050625,1459,  -0.9965,  145.8547,  2308, 2200.900,    2.125,   34.644,2,   34.644,2,  101.240,1,  122.320,2,  136.270,2,   37.940,2,    0.000,2,    2.701,2,    0.002,2,    0.001,2, -999.000,9, -999.000,9, -999.000,9
           NA,     P10,     14,   1,-999.0,     -99,  2,20050625,1459,  -0.9965,  145.8547,  2308, 2321.100,    1.899,   34.654,2,   34.654,6,  106.040,1,  127.790,6,  140.410,2,   37.560,2,    0.000,2,    2.667,2,   -0.002,2,    0.001,2, -999.000,9, -999.000,9, -999.000,9