BOTTLE,20214413JOAExport
EXPOCODE,SECT_ID,STNNBR,CASTNO,SAMPNO,BTLNBR,BTLNBR_FLAG_W,DATE,TIME,LATITUDE,LONGITUDE,DEPTH,CTDPRS,CTDTMP,CTDSAL,CTDSAL_FLAG_W,SALNTY,SALNTY_FLAG_W,CTDOXY,CTDOXY_FLAG_W,OXYGEN,OXYGEN_FLAG_W,SILCAT,SILCAT_FLAG_W,NITRAT,NITRAT_FLAG_W,NITRIT,NITRIT_FLAG_W,PHSPHT,PHSPHT_FLAG_W,CFC-11,CFC-11_FLAG_W,CFC-12,CFC-12_FLAG_W,SF6,SF6_FLAG_W,TCARBN,TCARBN_FLAG_W,ALKALI,ALKALI_FLAG_W
,,,,,,,,,,,,,DB,ITS-90,PSS-78,,PSS-78,,UMOL/KG,,UMOL/KG,,UMOL/KG,,UMOL/KG,,UMOL/KG,,UMOL/KG,,PMOL/KG,,PMOL/KG,,FMOL/KG,,UMOL/KG,,UMOL/KG
           NA,     P10,     55,   1,-999.0,     -99,  2,20050615,0617,  16.5065,  149.3322,  5177,    9.800,   29.033,   34.460,2,   34.460,2,  175.150,1,  197.740,6,    1.100,2,    0.000,2,    0.000,2,    0.061,2,    1.448,2,    0.891,2, -999.000,9, -999.000,9, -999.000,9
           NA,     P10,     55,   1,-999.0,     -99,  2,20050615,0617,  16.5065,  149.3322,  5177,   49.800,   28.241,   34.616,2,   34.630,2,  183.620,1,  208.000,2,    1.000,2,    0.020,2,    0.000,2,    0.041,2,    1.524,2,    0.924,2, -999.000,9, -999.000,9, -999.000,9
           NA,     P10,     55,   1,-999.0,     -99,  2,20050615,0617,  16.5065,  149.3322,  5177,  100.500,   26.549,   34.886,2,   34.903,2,  184.750,1,  209.590,2,    0.950,2,    0.000,2,    0.000,2,    0.034,2,    1.606,2,    0.986,2, -999.000,9, -999.000,9, -999.000,9
           NA,     P10,     55,   1,-999.0,     -99,  2,20050615,0617,  16.5065,  149.3322,  5177,  150.500,   25.492,   34.961,2,   34.964,2,  179.560,1,  204.450,2,    1.020,2,    0.050,2,    0.010,2,    0.040,2,    1.653,2,    0.999,2, -999.000,9, -999.000,9, -999.000,9
           NA,     P10,     55,   1,-999.0,     -99,  2,20050615,0617,  16.5065,  149.3322,  5177,  200.200,   22.570,   35.144,2,   35.130,2,  163.110,1,  185.850,2,    1.770,2,    1.230,2,    0.020,2,    0.166,2,    1.945,2,    1.162,2, -999.000,9, -999.000,9, -999.000,9
           NA,     P10,     55,   1,-999.0,     -99,  2,20050615,0617,  16.5065,  149.3322,  5177,  250.600,   18.650,   34.898,2,   34.874,2,  156.020,1,  179.660,2,    4.100,2,    5.110,2,    0.010,2,    0.441,2,    2.227,6,    1.287,6, -999.000,9, -999.000,9, -999.000,9
           NA,     P10,     55,   1,-999.0,     -99,  2,20050615,0617,  16.5065,  149.3322,  5177,  300.600,   15.823,   34.633,2,   34.614,2,  151.530,1,  176.240,2,    7.810,2,    9.180,2,    0.010,2,    0.720,2,    2.392,2,    1.332,2, -999.000,9, -999.000,9, -999.000,9
           NA,     P10,     55,   1,-999.0,     -99,  2,20050615,0617,  16.5065,  149.3322,  5177,  400.300,   11.239,   34.284,2,   34.278,2,  148.750,1,  173.670,2,   19.780,2,   16.980,2,    0.010,2,    1.261,2,    2.512,2,    1.316,2, -999.000,9, -999.000,9, -999.000,9
           NA,     P10,     55,   1,-999.0,     -99,  2,20050615,0617,  16.5065,  149.3322,  5177,  500.500,    8.123,   34.167,2,   34.165,6,  103.000,1,  118.270,2,   44.120,2,   28.090,2,    0.010,2,    2.066,2,    1.520,2,    0.745,2, -999.000,9, -999.000,9, -999.000,9
           NA,     P10,     55,   1,-999.0,     -99,  2,20050615,0617,  16.5065,  149.3322,  5177,  600.700,    5.953,   34.182,2,   34.189,2,   65.740,1,   74.890,2,   72.990,2,   35.990,2,    0.000,2,    2.633,2,    0.663,2,    0.313,2, -999.000,9, -999.000,9, -999.000,9
           NA,     P10,     55,   1,-999.0,     -99,  2,20050615,0617,  16.5065,  149.3322,  5177,  701.700,    5.808,   34.394,2,   34.397,2,   48.840,1,   56.670,2,   76.960,2,   38.400,2,    0.010,2,    2.808,2,    0.143,2,    0.065,2, -999.000,9, -999.000,9, -999.000,9
           NA,     P10,     55,   1,-999.0,     -99,  2,20050615,0617,  16.5065,  149.3322,  5177,  800.300,    5.170,   34.461,2,   34.462,2,   54.030,1,   63.170,2,   86.300,2,   39.050,2,    0.000,2,    2.842,2,    0.057,6,    0.026,6, -999.000,9, -999.000,9, -999.000,9
           NA,     P10,     55,   1,-999.0,     -99,  2,20050615,0617,  16.5065,  149.3322,  5177,  900.800,    4.723,   34.495,2,   34.497,2,   57.800,1,   67.740,2,   94.040,2,   39.460,2,    0.000,2,    2.847,2,    0.036,2,    0.021,2, -999.000,9, -999.000,9, -999.000,9
           NA,     P10,     55,   1,-999.0,     -99,  2,20050615,0617,  16.5065,  149.3322,  5177, 1001.100,    4.318,   34.516,2,   34.517,6,   61.470,1,   72.600,2,  101.820,2,   39.500,2,    0.010,2,    2.857,2,    0.028,2,    0.013,2, -999.000,9, -999.000,9, -999.000,9
           NA,     P10,     55,   1,-999.0,     -99,  2,20050615,0617,  16.5065,  149.3322,  5177, 1200.000,    3.617,   34.546,2,   34.546,2,   66.790,1,   79.640,6,  115.680,2,   39.740,2,    0.000,2,    2.861,2,    0.010,2,    0.005,2, -999.000,9, -999.000,9, -999.000,9
           NA,     P10,     55,   1,-999.0,     -99,  2,20050615,0617,  16.5065,  149.3322,  5177, 1400.600,    3.085,   34.574,2,   34.575,2,   70.850,1,   85.170,2,  125.960,2,   39.830,2,    0.000,2,    2.861,2,    0.005,2,    0.001,2, -999.000,9, -999.000,9, -999.000,9
           NA,     P10,     55,   1,-999.0,     -99,  2,20050615,0617,  16.5065,  149.3322,  5177, 1602.100,    2.671,   34.590,2,   34.592,2,   76.440,1,   92.800,2,  134.140,2,   39.630,2,    0.000,2,    2.831,2,    0.000,2,    0.002,2, -999.000,9, -999.000,9, -999.000,9
           NA,     P10,     55,   1,-999.0,     -99,  2,20050615,0617,  16.5065,  149.3322,  5177, 1801.100,    2.376,   34.606,2,   34.606,2,   81.320,1,   99.720,2,  139.870,2,   39.320,2,    0.000,2,    2.802,2,   -0.003,2,   -0.001,2, -999.000,9, -999.000,9, -999.000,9
           NA,     P10,     55,   1,-999.0,     -99,  2,20050615,0617,  16.5065,  149.3322,  5177, 2001.400,    2.177,   34.621,2,   34.620,2,   85.460,1,  105.220,2,  143.380,2,   39.070,2,    0.000,2,    2.777,2,    0.000,2,    0.002,2, -999.000,9, -999.000,9, -999.000,9
           NA,     P10,     55,   1,-999.0,     -99,  2,20050615,0617,  16.5065,  149.3322,  5177, 2201.700,    1.995,   34.635,2,   34.635,6,   89.860,1,  111.470,2,  146.690,2,   38.780,2,    0.000,2,    2.752,2,    0.001,2,   -0.001,2, -999.000,9, -999.000,9, -999.000,9
           NA,     P10,     55,   1,-999.0,     -99,  2,20050615,0617,  16.5065,  149.3322,  5177, 2400.300,    1.873,   34.648,2,   34.647,2,   93.920,1,  117.330,2,  148.510,2,   38.460,2,    0.000,2,    2.721,2,   -0.003,2,   -0.001,2, -999.000,9, -999.000,9, -999.000,9
           NA,     P10,     55,   1,-999.0,     -99,  2,20050615,0617,  16.5065,  149.3322,  5177, 2600.400,    1.763,   34.656,2,   34.656,2,   98.140,1,  123.320,2,  149.710,2,   38.080,2,    0.000,2,    2.691,2,    0.000,2,   -0.002,2, -999.000,9, -999.000,9, -999.000,9
           NA,     P10,     55,   1,-999.0,     -99,  2,20050615,0617,  16.5065,  149.3322,  5177, 2797.900,    1.701,   34.662,2,   34.662,2,  101.110,1,  127.550,2,  149.940,2,   37.820,2,    0.000,2,    2.671,2, -999.000,9, -999.000,9, -999.000,9, -999.000,9, -999.000,9
           NA,     P10,     55,   1,-999.0,     -99,  2,20050615,0617,  16.5065,  149.3322,  5177, 3000.600,    1.631,   34.668,2,   34.668,2,  104.810,1,  132.810,6,  150.110,2,   37.510,2,    0.000,2,    2.642,2, -999.000,9, -999.000,9, -999.000,9, -999.000,9, -999.000,9
           NA,     P10,     55,   1,-999.0,     -99,  2,20050615,0617,  16.5065,  149.3322,  5177, 3248.200,    1.575,   34.674,2,   34.674,6,  108.850,1,  138.570,2,  149.510,2,   37.130,2,    0.000,2,    2.603,2, -999.000,9, -999.000,9, -999.000,9, -999.000,9, -999.000,9
           NA,     P10,     55,   1,-999.0,     -99,  2,20050615,0617,  16.5065,  149.3322,  5177, 3498.900,    1.526,   34.680,2,   34.680,2,  113.630,1,  145.140,2,  147.750,2,   36.630,2,    0.000,2,    2.571,2, -999.000,9, -999.000,9, -999.000,9, -999.000,9, -999.000,9
           NA,     P10,     55,   1,-999.0,     -99,  2,20050615,0617,  16.5065,  149.3322,  5177, 3749.100,    1.497,   34.683,2, -999.000,4,  117.580,1,  150.710,2,  145.580,2,   36.210,2,    0.010,2,    2.551,2, -999.000,9, -999.000,9, -999.000,9, -999.000,9, -999.000,9
           NA,     P10,     55,   1,-999.0,     -99,  2,20050615,0617,  16.5065,  149.3322,  5177, 4000.200,    1.474,   34.687,2,   34.687,2,  121.410,1,  155.660,2,  143.850,2,   35.870,2,    0.000,2,    2.516,2, -999.000,9, -999.000,9, -999.000,9, -999.000,9, -999.000,9
           NA,     P10,     55,   1,-999.0,     -99,  2,20050615,0617,  16.5065,  149.3322,  5177, 4251.000,    1.457,   34.690,2,   34.691,2,  126.000,1,  161.670,2,  140.580,2,   35.430,2,    0.010,2,    2.488,2, -999.000,9, -999.000,9, -999.000,9, -999.000,9, -999.000,9
           NA,     P10,     55,   1,-999.0,     -99,  2,20050615,0617,  16.5065,  149.3322,  5177, 4498.800,    1.451,   34.693,2,   34.693,2,  129.660,1,  165.960,2,  138.320,2,   35.140,2,    0.000,2,    2.463,2, -999.000,9, -999.000,9, -999.000,9, -999.000,9, -999.000,9
           NA,     P10,     55,   1,-999.0,     -99,  2,20050615,0617,  16.5065,  149.3322,  5177, 4750.100,    1.452,   34.695,2,   34.695,2,  133.350,1,  170.080,2,  136.130,2,   34.890,2,    0.000,2,    2.441,2, -999.000,9, -999.000,9, -999.000,9, -999.000,9, -999.000,9
           NA,     P10,     55,   1,-999.0,     -99,  2,20050615,0617,  16.5065,  149.3322,  5177, 4999.400,    1.450,   34.698,2,   34.698,2,  137.260,1,  174.080,6,  133.770,2,   34.550,2,    0.000,2,    2.418,2, -999.000,9, -999.000,9, -999.000,9, -999.000,9, -999.000,9
           NA,     P10,     55,   1,-999.0,     -99,  2,20050615,0617,  16.5065,  149.3322,  5177, 5249.400,    1.453,   34.700,2,   34.699,2,  140.730,1,  177.510,2,  132.140,2,   34.320,2,    0.000,2,    2.401,2, -999.000,9, -999.000,9, -999.000,9, -999.000,9, -999.000,9
           NA,     P10,     55,   1,-999.0,     -99,  2,20050615,0617,  16.5065,  149.3322,  5177, 5297.000,    1.459,   34.700,2,   34.699,2,  141.150,1,  177.360,2,  132.140,2,   34.380,2,    0.000,2,    2.401,2, -999.000,9, -999.000,9, -999.000,9, -999.000,9, -999.000,9
           NA,     P10,     55,   1,-999.0,     -99,  2,20050615,0617,  16.5065,  149.3322,  5177, 5297.500,    1.459,   34.699,2,   34.699,6,  141.110,1,  177.330,2,  132.200,2,   34.310,2,    0.000,2,    2.403,2, -999.000,9, -999.000,9, -999.000,9, -999.000,9, -999.000,9
           NA,     P10,     56,   1,-999.0,     -99,  2,20050614,2050,  17.1728,  149.3250,  5394,   10.400,   28.957,   34.810,2,   34.814,2,  174.280,1,  197.710,6,    0.850,2,    0.030,2,    0.000,2,    0.056,2,    1.459,2,    0.876,2, -999.000,9, 1940.000,2, 2288.900,2
           NA,     P10,     56,   1,-999.0,     -99,  2,20050614,2050,  17.1728,  149.3250,  5394,   50.600,   27.617,   34.886,2,   34.898,2,  182.800,1,  208.140,2,    0.830,2,    0.020,2,    0.000,2,    0.055,2,    1.551,2,    0.936,2, -999.000,9, 1943.600,6, 2296.800,2
           NA,     P10,     56,   1,-999.0,     -99,  2,20050614,2050,  17.1728,  149.3250,  5394,  100.100,   25.683,   34.965,2,   34.968,2,  183.240,1,  208.820,2,    0.890,2,    0.010,2,    0.000,2,    0.057,2,    1.676,2,    1.003,2, -999.000,9, 1957.100,2, 2301.200,6
           NA,     P10,     56,   1,-999.0,     -99,  2,20050614,2050,  17.1728,  149.3250,  5394,  150.300,   23.546,   35.083,2,   35.089,2,  173.810,1,  198.390,2,    1.240,2,    0.130,2,    0.040,2,    0.085,2,    1.859,2,    1.116,2, -999.000,9, 1996.000,2, 2303.500,2
           NA,     P10,     56,   1,-999.0,     -99,  2,20050614,2050,  17.1728,  149.3250,  5394,  200.100,   20.523,   35.014,2,   34.998,2,  176.780,1,  203.770,2,    1.970,2,    1.360,2,    0.020,2,    0.162,2,    2.119,2,    1.238,2, -999.000,9, 2013.100,2, 2303.400,2
           NA,     P10,     56,   1,-999.0,     -99,  2,20050614,2050,  17.1728,  149.3250,  5394,  250.400,   17.456,   34.789,2,   34.783,2,  175.550,1,  204.330,2,    3.730,2,    4.490,2,    0.010,2,    0.355,2,    2.443,6,    1.367,6, -999.000,9, 2031.800,2, 2288.500,2
           NA,     P10,     56,   1,-999.0,     -99,  2,20050614,2050,  17.1728,  149.3250,  5394,  301.300,   16.546,   34.727,2,   34.722,2,  178.310,1,  207.230,2,    4.950,2,    5.660,2,    0.010,2,    0.432,2,    2.533,2,    1.403,2, -999.000,9, 2037.000,2, 2284.400,2
           NA,     P10,     56,   1,-999.0,     -99,  2,20050614,2050,  17.1728,  149.3250,  5394,  401.600,   12.544,   34.382,2,   34.377,2,  163.210,1,  191.190,2,   14.250,2,   13.090,2,    0.010,2,    0.974,2,    2.847,2,    1.469,2, -999.000,9, 2093.100,2, 2271.900,2
           NA,     P10,     56,   1,-999.0,     -99,  2,20050614,2050,  17.1728,  149.3250,  5394,  499.800,    8.471,   34.177,2,   34.173,6,  106.330,1,  124.240,2,   39.790,2,   26.770,2,    0.000,2,    1.977,2,    1.675,2,    0.803,2, -999.000,9, 2192.000,2, 2283.400,2
           NA,     P10,     56,   1,-999.0,     -99,  2,20050614,2050,  17.1728,  149.3250,  5394,  601.400,    6.996,   34.309,2,   34.307,2,   53.040,1,   61.440,2,   59.890,2,   35.450,2,    0.000,2,    2.624,2,    0.320,2,    0.184,2, -999.000,9, 2263.900,2, 2312.100,2
           NA,     P10,     56,   1,-999.0,     -99,  2,20050614,2050,  17.1728,  149.3250,  5394,  700.000,    5.757,   34.393,2,   34.392,2,   50.710,1,   58.810,2,   77.340,2,   38.190,2,    0.000,2,    2.797,2,    0.125,2,    0.063,2, -999.000,9, 2292.200,6, 2333.300,2
           NA,     P10,     56,   1,-999.0,     -99,  2,20050614,2050,  17.1728,  149.3250,  5394,  801.600,    5.166,   34.434,2,   34.434,2,   54.730,1,   64.010,2,   86.830,2,   38.720,2,    0.000,2,    2.825,2,    0.083,6,    0.037,6, -999.000,9, 2300.400,2, 2345.800,6
           NA,     P10,     56,   1,-999.0,     -99,  2,20050614,2050,  17.1728,  149.3250,  5394,  900.400,    4.695,   34.498,2,   34.497,2,   56.680,1,   66.660,2,   94.400,2,   39.510,2,    0.000,2,    2.860,2,    0.023,2,    0.009,2, -999.000,9, 2310.600,2, 2358.300,2
           NA,     P10,     56,   1,-999.0,     -99,  2,20050614,2050,  17.1728,  149.3250,  5394, 1000.300,    4.284,   34.524,2,   34.525,6,   58.550,1,   69.090,2,  101.650,2,   39.910,2,    0.010,2,    2.893,2,    0.002,2,    0.003,2, -999.000,9, 2319.700,2, 2368.200,2
           NA,     P10,     56,   1,-999.0,     -99,  2,20050614,2050,  17.1728,  149.3250,  5394, 1201.200,    3.641,   34.551,2,   34.551,2,   64.660,1,   77.060,6,  114.890,2,   40.060,2,    0.000,2,    2.891,2,    0.001,2,    0.000,2, -999.000,9, 2329.600,2, 2379.800,2
           NA,     P10,     56,   1,-999.0,     -99,  2,20050614,2050,  17.1728,  149.3250,  5394, 1400.600,    3.154,   34.569,2,   34.569,2,   70.150,1,   84.770,2,  125.030,2,   39.820,2,    0.000,2,    2.863,2,    0.006,2,    0.000,2, -999.000,9, 2336.100,2, 2394.500,2
           NA,     P10,     56,   1,-999.0,     -99,  2,20050614,2050,  17.1728,  149.3250,  5394, 1600.700,    2.726,   34.585,2,   34.585,2,   75.730,1,   91.970,2,  133.020,2,   39.620,2,    0.000,2,    2.835,2,    0.000,2,    0.000,2, -999.000,9, 2340.000,2, 2399.000,2
           NA,     P10,     56,   1,-999.0,     -99,  2,20050614,2050,  17.1728,  149.3250,  5394, 1800.200,    2.392,   34.604,2,   34.605,2,   81.220,1,   99.570,2,  139.420,2,   39.350,2,    0.000,2,    2.802,2,    0.001,2,    0.000,2, -999.000,9, 2343.500,2, 2405.200,2
           NA,     P10,     56,   1,-999.0,     -99,  2,20050614,2050,  17.1728,  149.3250,  5394, 2001.100,    2.154,   34.622,2,   34.622,2,   86.030,1,  106.350,2,  143.570,2,   38.980,2,    0.000,2,    2.770,2,    0.005,2,    0.000,2, -999.000,9, 2345.000,2, 2412.300,2
           NA,     P10,     56,   1,-999.0,     -99,  2,20050614,2050,  17.1728,  149.3250,  5394, 2200.400,    1.995,   34.635,2,   34.636,6,   90.230,1,  112.190,2,  146.260,2,   38.780,2,    0.000,2,    2.751,2,    0.006,2,    0.000,2, -999.000,9, 2345.200,2, 2416.500,2
           NA,     P10,     56,   1,-999.0,     -99,  2,20050614,2050,  17.1728,  149.3250,  5394, 2399.200,    1.836,   34.647,2,   34.647,2,   95.080,1,  118.790,2,  148.690,2,   38.400,2,    0.000,2,    2.717,2,   -0.002,2,    0.000,2, -999.000,9, 2343.200,6, 2420.000,2
           NA,     P10,     56,   1,-999.0,     -99,  2,20050614,2050,  17.1728,  149.3250,  5394, 2599.900,    1.742,   34.657,2,   34.657,2,   99.030,1,  124.610,2,  149.540,2,   38.080,2,    0.000,2,    2.689,2,    0.004,2,    0.000,2, -999.000,9, 2340.400,2, 2420.000,6
           NA,     P10,     56,   1,-999.0,     -99,  2,20050614,2050,  17.1728,  149.3250,  5394, 2799.900,    1.679,   34.662,2,   34.663,2,  101.960,1,  128.900,2,  149.960,2,   37.800,2,    0.000,2,    2.665,2,   -0.005,2,    0.000,2, -999.000,9, 2338.800,2, 2419.600,2
           NA,     P10,     56,   1,-999.0,     -99,  2,20050614,2050,  17.1728,  149.3250,  5394, 3000.700,    1.606,   34.669,2,   34.669,2,  106.120,1,  134.730,6,  149.850,2,   37.470,2,    0.000,2,    2.634,2,   -0.002,2,    0.000,2, -999.000,9, 2336.000,2, 2421.000,2
           NA,     P10,     56,   1,-999.0,     -99,  2,20050614,2050,  17.1728,  149.3250,  5394, 3250.300,    1.562,   34.675,2,   34.675,6,  109.620,1,  139.770,2,  149.380,2,   37.060,2,    0.000,2,    2.603,2,   -0.006,2,    0.000,2, -999.000,9, 2333.100,2, 2422.300,2
           NA,     P10,     56,   1,-999.0,     -99,  2,20050614,2050,  17.1728,  149.3250,  5394, 3499.600,    1.529,   34.679,2,   34.680,2,  113.100,1,  144.730,2,  147.990,2,   36.740,2,    0.000,2,    2.579,2,    0.001,2,    0.000,2, -999.000,9, 2329.900,2, 2418.100,2
           NA,     P10,     56,   1,-999.0,     -99,  2,20050614,2050,  17.1728,  149.3250,  5394, 3749.400,    1.503,   34.683,2,   34.683,2,  116.630,1,  150.070,2,  146.200,2,   36.360,2,    0.000,2,    2.550,2,   -0.005,2,    0.000,2, -999.000,9, 2325.300,2, 2417.300,2
           NA,     P10,     56,   1,-999.0,     -99,  2,20050614,2050,  17.1728,  149.3250,  5394, 3999.700,    1.483,   34.687,2,   34.687,2,  120.340,1,  154.840,2,  144.190,2,   36.060,2,    0.000,2,    2.528,2,    0.000,2,    0.000,2, -999.000,9, 2320.000,2, 2417.100,2
           NA,     P10,     56,   1,-999.0,     -99,  2,20050614,2050,  17.1728,  149.3250,  5394, 4251.600,    1.470,   34.689,2,   34.690,2,  123.980,1,  159.640,2,  142.070,2,   35.760,2,    0.000,2,    2.505,2,   -0.004,2,    0.000,2, -999.000,9, 2317.300,6, 2414.500,2
           NA,     P10,     56,   1,-999.0,     -99,  2,20050614,2050,  17.1728,  149.3250,  5394, 4501.000,    1.455,   34.693,2, -999.000,3,  128.690,1,  165.610,2,  138.720,2,   35.250,2,    0.000,2,    2.469,2,   -0.005,2,    0.000,2, -999.000,9, 2312.600,2, 2411.000,6
           NA,     P10,     56,   1,-999.0,     -99,  2,20050614,2050,  17.1728,  149.3250,  5394, 4750.200,    1.455,   34.695,2,   34.695,2,  132.270,1,  169.610,2,  136.530,2,   35.000,2,    0.000,2,    2.447,2,   -0.004,2,    0.000,2, -999.000,9, 2307.400,2, 2406.200,2
           NA,     P10,     56,   1,-999.0,     -99,  2,20050614,2050,  17.1728,  149.3250,  5394, 5001.200,    1.462,   34.697,2,   34.697,2,  135.520,1,  172.940,2,  134.650,2,   34.730,2,    0.000,2,    2.432,2,   -0.001,2,    0.000,2, -999.000,9, 2303.900,2, 2406.600,2
           NA,     P10,     56,   1,-999.0,     -99,  2,20050614,2050,  17.1728,  149.3250,  5394, 5251.300,    1.476,   34.698,2,   34.699,2,  138.140,1,  175.070,2,  133.380,2,   34.600,2,    0.000,2,    2.415,2,   -0.005,2,    0.000,2, -999.000,9, 2301.500,2, 2402.600,2
           NA,     P10,     56,   1,-999.0,     -99,  2,20050614,2050,  17.1728,  149.3250,  5394, 5484.100,    1.494,   34.699,2,   34.699,6,  140.400,1,  176.690,2,  132.710,2,   34.500,2,    0.000,2,    2.411,2,   -0.002,2,    0.000,2, -999.000,9, 2298.000,2, 2402.800,2
           NA,     P10,     56,   1,-999.0,     -99,  2,20050614,2050,  17.1728,  149.3250,  5394, 5484.700,    1.494,   34.699,2,   34.699,2,  140.410,1,  176.560,6,  132.560,2,   34.430,2,    0.000,2,    2.403,2, -999.000,9, -999.000,9, -999.000,9, 2299.200,2, 2401.100,2