BOTTLE,20214413JOAExport
EXPOCODE,SECT_ID,STNNBR,CASTNO,SAMPNO,BTLNBR,BTLNBR_FLAG_W,DATE,TIME,LATITUDE,LONGITUDE,DEPTH,CTDPRS,CTDTMP,CTDSAL,CTDSAL_FLAG_W,SALNTY,SALNTY_FLAG_W,CTDOXY,CTDOXY_FLAG_W,OXYGEN,OXYGEN_FLAG_W,SILCAT,SILCAT_FLAG_W,NITRAT,NITRAT_FLAG_W,NITRIT,NITRIT_FLAG_W,PHSPHT,PHSPHT_FLAG_W,CFC-11,CFC-11_FLAG_W,CFC-12,CFC-12_FLAG_W,SF6,SF6_FLAG_W,TCARBN,TCARBN_FLAG_W,ALKALI,ALKALI_FLAG_W
,,,,,,,,,,,,,DB,ITS-90,PSS-78,,PSS-78,,UMOL/KG,,UMOL/KG,,UMOL/KG,,UMOL/KG,,UMOL/KG,,UMOL/KG,,PMOL/KG,,PMOL/KG,,FMOL/KG,,UMOL/KG,,UMOL/KG
           NA,     P10,     33,   1,-999.0,     -99,  2,20050620,2059,   4.5035,  147.6428,  3707,   10.300,   29.641,   33.950,2,   33.966,2,  171.660,1,  195.030,6,    0.910,2,    0.030,2,    0.000,2,    0.087,2,    1.410,2,    0.858,2, -999.000,9, -999.000,9, -999.000,9
           NA,     P10,     33,   1,-999.0,     -99,  2,20050620,2059,   4.5035,  147.6428,  3707,   50.000,   29.587,   34.395,2,   34.465,2,  175.550,1,  202.060,2,    1.010,2,    0.040,2,    0.010,2,    0.127,2,    1.496,2,    0.908,2, -999.000,9, -999.000,9, -999.000,9
           NA,     P10,     33,   1,-999.0,     -99,  2,20050620,2059,   4.5035,  147.6428,  3707,  100.600,   25.003,   35.063,2,   35.060,2,  113.590,1, -999.000,5,    4.240,2,    8.830,2,    0.030,2,    0.711,2,    1.685,2,    0.940,2, -999.000,9, -999.000,9, -999.000,9
           NA,     P10,     33,   1,-999.0,     -99,  2,20050620,2059,   4.5035,  147.6428,  3707,  150.200,   20.690,   34.866,2,   34.860,2,  127.990,1,  147.770,2,    7.570,2,    8.430,2,    0.020,2,    0.688,2,    1.919,2,    1.054,2, -999.000,9, -999.000,9, -999.000,9
           NA,     P10,     33,   1,-999.0,     -99,  2,20050620,2059,   4.5035,  147.6428,  3707,  203.600,   13.809,   34.619,2,   34.628,2,   99.960,1,  118.330,2,   19.050,2,   18.750,2,    0.010,2,    1.402,2,    1.695,2,    0.835,2, -999.000,9, -999.000,9, -999.000,9
           NA,     P10,     33,   1,-999.0,     -99,  2,20050620,2059,   4.5035,  147.6428,  3707,  253.100,   10.644,   34.575,2,   34.576,2,   59.790,1,   68.730,2,   31.190,2,   29.160,2,    0.010,2,    2.137,2,    0.793,6,    0.380,6, -999.000,9, -999.000,9, -999.000,9
           NA,     P10,     33,   1,-999.0,     -99,  2,20050620,2059,   4.5035,  147.6428,  3707,  302.900,    9.292,   34.624,2,   34.621,2,   45.770,1,   52.040,2,   36.090,2,   33.480,2,    0.000,2,    2.422,2,    0.317,2,    0.150,2, -999.000,9, -999.000,9, -999.000,9
           NA,     P10,     33,   1,-999.0,     -99,  2,20050620,2059,   4.5035,  147.6428,  3707,  401.900,    8.462,   34.607,2,   34.603,2,   55.200,1,   64.820,2,   39.330,2,   34.310,2,    0.000,2,    2.477,2,    0.222,2,    0.101,2, -999.000,9, -999.000,9, -999.000,9
           NA,     P10,     33,   1,-999.0,     -99,  2,20050620,2059,   4.5035,  147.6428,  3707,  499.600,    7.707,   34.580,2,   34.577,6,   61.830,1,   70.490,2,   44.380,2,   35.240,2,    0.000,2,    2.548,2,    0.147,2,    0.070,2, -999.000,9, -999.000,9, -999.000,9
           NA,     P10,     33,   1,-999.0,     -99,  2,20050620,2059,   4.5035,  147.6428,  3707,  602.900,    6.922,   34.560,2,   34.559,2,   53.310,1,   61.390,2,   52.350,2,   37.570,2,    0.000,2,    2.731,2,    0.059,2,    0.024,2, -999.000,9, -999.000,9, -999.000,9
           NA,     P10,     33,   1,-999.0,     -99,  2,20050620,2059,   4.5035,  147.6428,  3707,  700.400,    6.053,   34.543,2,   34.543,2,   62.560,1,   73.100,2,   62.230,2,   38.120,2,    0.000,2,    2.768,2,    0.030,2,    0.015,2, -999.000,9, -999.000,9, -999.000,9
           NA,     P10,     33,   1,-999.0,     -99,  2,20050620,2059,   4.5035,  147.6428,  3707,  800.000,    5.515,   34.542,2,   34.542,2,   65.170,1,   78.250,2,   71.750,2,   38.320,2,    0.000,2,    2.778,2,    0.025,6,    0.012,6, -999.000,9, -999.000,9, -999.000,9
           NA,     P10,     33,   1,-999.0,     -99,  3,20050620,2059,   4.5035,  147.6428,  3707,  899.300,    4.999,   34.546,2,   34.548,2,   68.550,1,   83.850,2,   79.970,2,   38.410,2,    0.000,2,    2.771,2,    0.017,2,    0.009,2, -999.000,9, -999.000,9, -999.000,9
           NA,     P10,     33,   1,-999.0,     -99,  2,20050620,2059,   4.5035,  147.6428,  3707, 1000.000,    4.536,   34.555,2,   34.556,6,   72.880,1,   86.210,2,   88.450,2,   38.720,2,    0.000,2,    2.807,2,    0.014,2,    0.014,2, -999.000,9, -999.000,9, -999.000,9
           NA,     P10,     33,   1,-999.0,     -99,  2,20050620,2059,   4.5035,  147.6428,  3707, 1199.900,    3.965,   34.568,2,   34.569,2,   75.610,1,   90.190,6,  102.460,2,   38.880,2,    0.000,2,    2.815,2,    0.014,2,    0.009,2, -999.000,9, -999.000,9, -999.000,9
           NA,     P10,     33,   1,-999.0,     -99,  2,20050620,2059,   4.5035,  147.6428,  3707, 1403.500,    3.360,   34.588,2,   34.589,2,   77.560,1,   93.330,2,  114.990,2,   39.190,2,    0.000,2,    2.834,2,    0.002,2,    0.000,2, -999.000,9, -999.000,9, -999.000,9
           NA,     P10,     33,   1,-999.0,     -99,  3,20050620,2059,   4.5035,  147.6428,  3707, 1600.300,    2.841,   34.608,2,   34.608,2,   81.890,1,   98.820,2,  125.180,2,   38.800,2,    0.010,2,    2.808,2,   -0.002,2,    0.000,2, -999.000,9, -999.000,9, -999.000,9
           NA,     P10,     33,   1,-999.0,     -99,  2,20050620,2059,   4.5035,  147.6428,  3707, 1799.800,    2.482,   34.624,2,   34.624,6,   85.410,1,  103.910,2,  134.330,2,   39.090,2,    0.000,2,    2.806,2,   -0.001,2,    0.000,2, -999.000,9, -999.000,9, -999.000,9
           NA,     P10,     33,   1,-999.0,     -99,  2,20050620,2059,   4.5035,  147.6428,  3707, 2000.100,    2.237,   34.637,2,   34.637,2,   89.950,1,  110.110,2,  138.970,2,   38.700,2,    0.000,2,    2.770,2,   -0.003,2,    0.000,2, -999.000,9, -999.000,9, -999.000,9
           NA,     P10,     33,   1,-999.0,     -99,  2,20050620,2059,   4.5035,  147.6428,  3707, 2200.600,    1.995,   34.650,2,   34.650,2,   96.570,1,  118.900,2,  142.430,2,   38.210,2,    0.000,2,    2.731,2,    0.004,2,    0.008,2, -999.000,9, -999.000,9, -999.000,9
           NA,     P10,     33,   1,-999.0,     -99,  2,20050620,2059,   4.5035,  147.6428,  3707, 2400.000,    1.845,   34.658,2,   34.658,2,  101.570,1,  125.620,2,  144.260,2,   37.800,2,    0.000,2,    2.691,2, -999.000,9, -999.000,9, -999.000,9, -999.000,9, -999.000,9
           NA,     P10,     33,   1,-999.0,     -99,  2,20050620,2059,   4.5035,  147.6428,  3707, 2601.100,    1.728,   34.664,2,   34.665,6,  106.800,1,  132.700,2,  144.460,2,   37.310,2,    0.000,2,    2.648,2, -999.000,9, -999.000,9, -999.000,9, -999.000,9, -999.000,9
           NA,     P10,     33,   1,-999.0,     -99,  2,20050620,2059,   4.5035,  147.6428,  3707, 2800.000,    1.658,   34.669,2,   34.670,2,  110.940,1,  137.870,2,  143.990,2,   36.910,2,    0.000,2,    2.623,2, -999.000,9, -999.000,9, -999.000,9, -999.000,9, -999.000,9
           NA,     P10,     33,   1,-999.0,     -99,  2,20050620,2059,   4.5035,  147.6428,  3707, 3000.200,    1.609,   34.673,2,   34.674,2,  114.290,1,  142.260,6,  143.700,2,   36.670,2,    0.000,2,    2.604,2, -999.000,9, -999.000,9, -999.000,9, -999.000,9, -999.000,9
           NA,     P10,     33,   1,-999.0,     -99,  2,20050620,2059,   4.5035,  147.6428,  3707, 3250.300,    1.561,   34.678,2,   34.678,6,  117.880,1,  146.670,2,  143.080,2,   36.360,2,    0.000,2,    2.568,2, -999.000,9, -999.000,9, -999.000,9, -999.000,9, -999.000,9
           NA,     P10,     33,   1,-999.0,     -99,  2,20050620,2059,   4.5035,  147.6428,  3707, 3500.700,    1.524,   34.682,2,   34.682,2,  121.420,1,  150.540,2,  142.600,2,   36.070,2,    0.000,2,    2.547,2, -999.000,9, -999.000,9, -999.000,9, -999.000,9, -999.000,9
           NA,     P10,     33,   1,-999.0,     -99,  2,20050620,2059,   4.5035,  147.6428,  3707, 3753.200,    1.524,   34.684,2,   34.685,6,  123.520,1,  152.030,6,  142.550,2,   36.050,2,    0.000,2,    2.547,2, -999.000,9, -999.000,9, -999.000,9, -999.000,9, -999.000,9
           NA,     P10,     34,   1,-999.0,     -99,  2,20050620,1511,   5.0072,  147.8520,  4110,   10.100,   29.681,   33.971,2,   33.978,2,  171.690,1,  194.950,6,    0.930,2,    0.050,2,    0.000,2,    0.100,2,    1.287,2,    0.855,2, -999.000,9, 1890.300,2, 2241.600,2
           NA,     P10,     34,   1,-999.0,     -99,  2,20050620,1511,   5.0072,  147.8520,  4110,   49.500,   29.745,   34.206,2, -999.000,4,  172.530,1,  197.150,2,    0.940,2,    0.050,2,    0.000,2,    0.105,2,    1.360,2,    0.887,2, -999.000,9, 1927.500,6, 2258.600,2
           NA,     P10,     34,   1,-999.0,     -99,  2,20050620,1511,   5.0072,  147.8520,  4110,   99.800,   24.727,   34.728,2,   34.750,2,  125.490,1,  141.670,2,    5.130,2,    7.230,2,    0.040,2,    0.588,2,    1.550,2,    0.971,2, -999.000,9, 2023.300,2, 2286.900,6
           NA,     P10,     34,   1,-999.0,     -99,  2,20050620,1511,   5.0072,  147.8520,  4110,  149.900,   22.032,   34.934,2,   34.918,2,  123.460,1,  142.910,2,    6.840,2,    8.530,2,    0.010,2,    0.696,2,    1.726,2,    1.040,2, -999.000,9, 2060.200,2, 2303.000,2
           NA,     P10,     34,   1,-999.0,     -99,  2,20050620,1511,   5.0072,  147.8520,  4110,  199.200,   14.493,   34.638,2,   34.622,2,  102.550,1,  113.890,2,   19.210,2,   19.210,2,    0.000,2,    1.436,2,    1.513,2,    0.847,2, -999.000,9, 2142.800,2, 2295.400,2
           NA,     P10,     34,   1,-999.0,     -99,  3,20050620,1511,   5.0072,  147.8520,  4110,  249.200,   10.175,   34.580,2,   34.581,2,   58.510,1,   66.370,2,   33.190,2,   30.390,2,    0.000,2,    2.220,2,    0.540,6,    0.311,6, -999.000,9, 2223.600,2, 2305.400,2
           NA,     P10,     34,   1,-999.0,     -99,  2,20050620,1511,   5.0072,  147.8520,  4110,  303.000,    9.420,   34.613,2,   34.611,2,   47.950,1,   54.670,2,   35.580,2,   32.940,2,    0.000,2,    2.387,2,    0.257,2,    0.179,2, -999.000,9, 2239.400,2, 2307.300,2
           NA,     P10,     34,   1,-999.0,     -99,  2,20050620,1511,   5.0072,  147.8520,  4110,  402.100,    8.570,   34.614,2,   34.611,2,   53.550,1,   62.080,2,   38.200,2,   34.220,2,    0.000,2,    2.461,2,    0.101,2,    0.112,2, -999.000,9, 2244.400,2, 2308.300,2
           NA,     P10,     34,   1,-999.0,     -99,  2,20050620,1511,   5.0072,  147.8520,  4110,  500.000,    7.871,   34.587,2,   34.585,6,   60.350,1,   70.310,2,   42.000,2,   34.820,2,    0.000,2,    2.514,2,    0.052,2,    0.083,2, -999.000,9, 2247.900,2, 2313.500,2
           NA,     P10,     34,   1,-999.0,     -99,  2,20050620,1511,   5.0072,  147.8520,  4110,  599.800,    7.121,   34.564,2,   34.562,2,   59.560,1,   69.470,2,   48.790,2,   36.370,2,    0.000,2,    2.642,2,    0.097,2,    0.037,2, -999.000,9, 2259.600,2, 2321.900,2
           NA,     P10,     34,   1,-999.0,     -99,  2,20050620,1511,   5.0072,  147.8520,  4110,  701.500,    6.163,   34.543,2,   34.543,2,   58.990,1,   68.720,2,   62.090,2,   38.130,2,    0.000,2,    2.766,2,    0.047,2,    0.020,2, -999.000,9, 2276.900,6, 2335.500,2
           NA,     P10,     34,   1,-999.0,     -99,  2,20050620,1511,   5.0072,  147.8520,  4110,  802.000,    5.532,   34.538,2,   34.538,2,   69.040,1,   81.190,2,   71.570,2,   37.760,2,    0.000,2,    2.738,2,    0.045,6,    0.017,6, -999.000,9, 2282.200,2, 2344.200,6
           NA,     P10,     34,   1,-999.0,     -99,  2,20050620,1511,   5.0072,  147.8520,  4110,  900.000,    5.086,   34.545,2,   34.545,2,   69.530,1,   82.310,2,   78.460,2,   38.240,2,    0.000,2,    2.772,2,    0.025,2,    0.009,2, -999.000,9, 2290.000,2, 2352.400,2
           NA,     P10,     34,   1,-999.0,     -99,  2,20050620,1511,   5.0072,  147.8520,  4110, 1000.600,    4.738,   34.550,2,   34.550,6,   74.840,1,   88.760,2,   83.180,2,   38.230,2,    0.000,2,    2.769,2,    0.012,2,    0.011,2, -999.000,9, 2292.200,2, 2358.700,2
           NA,     P10,     34,   1,-999.0,     -99,  2,20050620,1511,   5.0072,  147.8520,  4110, 1199.800,    3.997,   34.568,2,   34.568,2,   74.800,1,   89.590,6,  100.990,2,   38.900,2,    0.000,2,    2.812,2,    0.014,2,    0.005,2, -999.000,9, 2311.600,2, 2376.400,2
           NA,     P10,     34,   1,-999.0,     -99,  2,20050620,1511,   5.0072,  147.8520,  4110, 1399.900,    3.305,   34.590,2,   34.590,2,   78.710,1,   94.950,2,  115.970,2,   38.960,2,    0.000,2,    2.813,2,    0.000,2,    0.000,2, -999.000,9, 2322.300,2, 2392.200,2
           NA,     P10,     34,   1,-999.0,     -99,  2,20050620,1511,   5.0072,  147.8520,  4110, 1601.600,    2.840,   34.609,2,   34.608,2,   80.280,1,   97.350,2,  125.880,2,   39.300,2,    0.000,2,    2.831,2,    0.004,2,    0.000,2, -999.000,9, 2336.800,2, 2402.700,2
           NA,     P10,     34,   1,-999.0,     -99,  2,20050620,1511,   5.0072,  147.8520,  4110, 1799.400,    2.540,   34.622,2,   34.622,6,   83.920,1,  103.150,2,  132.780,2,   39.070,2,    0.000,2,    2.812,2,   -0.006,2,    0.000,2, -999.000,9, 2340.500,2, 2407.500,2
           NA,     P10,     34,   1,-999.0,     -99,  2,20050620,1511,   5.0072,  147.8520,  4110, 1999.600,    2.252,   34.636,2,   34.636,2,   89.910,1,  110.280,2,  138.450,2,   38.670,2,    0.000,2,    2.768,2, -999.000,9, -999.000,9, -999.000,9, 2339.900,2, 2411.600,2
           NA,     P10,     34,   1,-999.0,     -99,  2,20050620,1511,   5.0072,  147.8520,  4110, 2203.000,    1.998,   34.650,2,   34.650,2,   96.000,1,  118.600,2,  142.340,2,   38.190,2,    0.000,2,    2.724,2,    0.000,2,    0.000,2, -999.000,9, 2339.900,2, 2417.500,2
           NA,     P10,     34,   1,-999.0,     -99,  2,20050620,1511,   5.0072,  147.8520,  4110, 2400.300,    1.855,   34.658,2,   34.657,2,  100.870,1,  125.140,2,  143.930,2,   37.750,2,    0.000,2,    2.682,2, -999.000,9, -999.000,9, -999.000,9, 2337.200,6, 2421.800,2
           NA,     P10,     34,   1,-999.0,     -99,  2,20050620,1511,   5.0072,  147.8520,  4110, 2601.400,    1.745,   34.664,2,   34.664,6,  105.890,1,  132.010,2,  143.600,2,   37.130,2,    0.000,2,    2.640,2, -999.000,9, -999.000,9, -999.000,9, 2335.200,2, 2421.800,6
           NA,     P10,     34,   1,-999.0,     -99,  2,20050620,1511,   5.0072,  147.8520,  4110, 2800.900,    1.627,   34.671,2,   34.671,2,  111.870,1,  140.020,2,  143.280,2,   36.740,2,    0.000,2,    2.601,2, -999.000,9, -999.000,9, -999.000,9, 2331.300,2, 2422.600,2
           NA,     P10,     34,   1,-999.0,     -99,  2,20050620,1511,   5.0072,  147.8520,  4110, 3001.200,    1.580,   34.675,2,   34.675,2,  114.710,1,  143.950,6,  143.360,2,   36.480,2,    0.000,2,    2.586,2, -999.000,9, -999.000,9, -999.000,9, 2328.700,2, 2423.700,2
           NA,     P10,     34,   1,-999.0,     -99,  2,20050620,1511,   5.0072,  147.8520,  4110, 3251.100,    1.554,   34.679,2,   34.678,6,  117.020,1,  146.920,2,  142.830,2,   36.210,2,    0.000,2,    2.554,2, -999.000,9, -999.000,9, -999.000,9, 2329.000,2, 2426.300,2
           NA,     P10,     34,   1,-999.0,     -99,  2,20050620,1511,   5.0072,  147.8520,  4110, 3503.300,    1.558,   34.680,2,   34.680,2,  118.300,1,  148.320,2,  143.070,2,   36.230,2,    0.000,2,    2.558,2, -999.000,9, -999.000,9, -999.000,9, 2328.100,2, 2423.700,2
           NA,     P10,     34,   1,-999.0,     -99,  2,20050620,1511,   5.0072,  147.8520,  4110, 3750.100,    1.529,   34.684,2,   34.684,2,  121.290,1,  151.580,2,  142.420,2,   35.970,2,    0.000,2,    2.536,2, -999.000,9, -999.000,9, -999.000,9, 2325.800,2, 2426.000,2
           NA,     P10,     34,   1,-999.0,     -99,  2,20050620,1511,   5.0072,  147.8520,  4110, 3998.900,    1.540,   34.685,2,   34.685,2,  122.720,1,  152.690,2,  142.550,2,   35.980,2,    0.000,2,    2.535,2, -999.000,9, -999.000,9, -999.000,9, 2323.900,2, 2428.100,2
           NA,     P10,     34,   1,-999.0,     -99,  2,20050620,1511,   5.0072,  147.8520,  4110, 4241.900,    1.555,   34.686,2,   34.686,2,  124.120,1,  153.420,2,  142.430,2,   35.910,2,    0.000,2,    2.535,2,    0.002,2,    0.000,2, -999.000,9, 2324.300,2, 2424.500,2
           NA,     P10,     34,   1,-999.0,     -99,  2,20050620,1511,   5.0072,  147.8520,  4110, 4242.000,    1.555,   34.686,2,   34.686,6,  124.160,1,  153.450,6,  142.470,2,   35.890,2,    0.000,2,    2.534,2, -999.000,9, -999.000,9, -999.000,9, 2325.600,2, 2425.500,2