BOTTLE,20214413JOAExport
EXPOCODE,SECT_ID,STNNBR,CASTNO,SAMPNO,BTLNBR,BTLNBR_FLAG_W,DATE,TIME,LATITUDE,LONGITUDE,DEPTH,CTDPRS,CTDTMP,CTDSAL,CTDSAL_FLAG_W,SALNTY,SALNTY_FLAG_W,CTDOXY,CTDOXY_FLAG_W,OXYGEN,OXYGEN_FLAG_W,SILCAT,SILCAT_FLAG_W,NITRAT,NITRAT_FLAG_W,NITRIT,NITRIT_FLAG_W,PHSPHT,PHSPHT_FLAG_W,CFC-11,CFC-11_FLAG_W,CFC-12,CFC-12_FLAG_W,SF6,SF6_FLAG_W,TCARBN,TCARBN_FLAG_W,ALKALI,ALKALI_FLAG_W
,,,,,,,,,,,,,DB,ITS-90,PSS-78,,PSS-78,,UMOL/KG,,UMOL/KG,,UMOL/KG,,UMOL/KG,,UMOL/KG,,UMOL/KG,,PMOL/KG,,PMOL/KG,,FMOL/KG,,UMOL/KG,,UMOL/KG
           NA,    P10N,    101,   1,-999.0,     -99,  2,20050606,0429,  32.4922,  149.3343,  5955,   10.300,   21.718,   34.545,2,   34.576,2,  165.220,1,  223.000,6,    1.600,2,    0.010,2,    0.000,2,    0.053,2, -999.000,3,    1.190,2, -999.000,9, -999.000,9, -999.000,9
           NA,    P10N,    101,   1,-999.0,     -99,  2,20050606,0429,  32.4922,  149.3343,  5955,   50.800,   20.474,   34.836,2,   34.836,2,  163.130,1,  221.110,2,    1.820,2,    0.170,2,    0.060,2,    0.080,2, -999.000,3,    1.201,2, -999.000,9, -999.000,9, -999.000,9
           NA,    P10N,    101,   1,-999.0,     -99,  2,20050606,0429,  32.4922,  149.3343,  5955,  100.500,   19.232,   34.867,2,   34.865,2,  159.000,1,  218.330,2,    2.330,2,    1.410,2,    0.080,2,    0.150,2, -999.000,3,    1.280,2, -999.000,9, -999.000,9, -999.000,9
           NA,    P10N,    101,   1,-999.0,     -99,  2,20050606,0429,  32.4922,  149.3343,  5955,  150.200,   18.396,   34.864,2,   34.862,2,  162.290,1,  224.710,2,    2.230,2,    1.320,2,    0.030,2,    0.146,2, -999.000,3,    1.324,2, -999.000,9, -999.000,9, -999.000,9
           NA,    P10N,    101,   1,-999.0,     -99,  2,20050606,0429,  32.4922,  149.3343,  5955,  199.600,   17.749,   34.828,2,   34.830,2,  161.910,1,  225.480,2,    2.830,2,    2.270,2,    0.010,2,    0.197,2, -999.000,3,    1.351,2, -999.000,9, -999.000,9, -999.000,9
           NA,    P10N,    101,   1,-999.0,     -99,  2,20050606,0429,  32.4922,  149.3343,  5955,  250.400,   17.585,   34.828,2,   34.827,2,  159.960,1,  222.930,2,    3.120,2,    2.790,2,    0.010,2,    0.231,2, -999.000,3,    1.339,6, -999.000,9, -999.000,9, -999.000,9
           NA,    P10N,    101,   1,-999.0,     -99,  2,20050606,0429,  32.4922,  149.3343,  5955,  301.800,   17.383,   34.814,2,   34.813,2,  159.210,1,  223.450,2,    3.210,2,    3.040,2,    0.010,2,    0.238,2, -999.000,3,    1.344,2, -999.000,9, -999.000,9, -999.000,9
           NA,    P10N,    101,   1,-999.0,     -99,  2,20050606,0429,  32.4922,  149.3343,  5955,  400.900,   16.661,   34.735,2,   34.733,2,  147.670,1,  208.370,2,    5.470,2,    5.590,2,    0.000,2,    0.411,2, -999.000,3,    1.355,2, -999.000,9, -999.000,9, -999.000,9
           NA,    P10N,    101,   1,-999.0,     -99,  2,20050606,0429,  32.4922,  149.3343,  5955,  499.300,   14.508,   34.564,2,   34.556,6,  128.720,1,  184.370,2,   13.000,2,   11.310,2,    0.000,2,    0.808,2, -999.000,3,    1.302,2, -999.000,9, -999.000,9, -999.000,9
           NA,    P10N,    101,   1,-999.0,     -99,  2,20050606,0429,  32.4922,  149.3343,  5955,  601.300,   11.291,   34.340,2,   34.334,2,  120.320,1,  176.610,2,   24.710,2,   17.120,2,    0.000,2,    1.240,2, -999.000,3,    1.272,2, -999.000,9, -999.000,9, -999.000,9
           NA,    P10N,    101,   1,-999.0,     -99,  2,20050606,0429,  32.4922,  149.3343,  5955,  699.700,    7.820,   34.015,2,   34.047,2,  125.930,1,  182.030,2,   39.200,2,   22.070,2,    0.000,2,    1.643,2, -999.000,3,    1.351,2, -999.000,9, -999.000,9, -999.000,9
           NA,    P10N,    101,   1,-999.0,     -99,  2,20050606,0429,  32.4922,  149.3343,  5955,  801.200,    5.949,   34.023,2,   34.028,2,   87.910,1,  132.380,2,   62.920,2,   30.590,2,    0.000,2,    2.263,2, -999.000,3,    0.989,6, -999.000,9, -999.000,9, -999.000,9
           NA,    P10N,    101,   1,-999.0,     -99,  2,20050606,0429,  32.4922,  149.3343,  5955,  901.500,    5.180,   34.122,2,   34.122,2,   62.320,1,   94.870,2,   82.980,2,   35.200,2,    0.000,2,    2.565,2, -999.000,3,    0.665,2, -999.000,9, -999.000,9, -999.000,9
           NA,    P10N,    101,   1,-999.0,     -99,  2,20050606,0429,  32.4922,  149.3343,  5955, 1001.600,    4.259,   34.196,2, -999.000,3,   38.810,1,   58.390,2,  104.030,2,   39.700,2,    0.000,2,    2.873,2, -999.000,3,    0.313,2, -999.000,9, -999.000,9, -999.000,9
           NA,    P10N,    101,   1,-999.0,     -99,  2,20050606,0429,  32.4922,  149.3343,  5955, 1200.900,    3.437,   34.340,2,   34.340,2,   27.370,1,   40.650,6,  128.030,2,   42.060,2,    0.000,2,    3.036,2, -999.000,3,    0.096,2, -999.000,9, -999.000,9, -999.000,9
           NA,    P10N,    101,   1,-999.0,     -99,  2,20050606,0429,  32.4922,  149.3343,  5955, 1400.600,    2.941,   34.430,2,   34.431,2,   26.010,1,   38.910,2,  142.090,2,   42.840,2,    0.000,2,    3.077,2, -999.000,3,    0.025,2, -999.000,9, -999.000,9, -999.000,9
           NA,    P10N,    101,   1,-999.0,     -99,  2,20050606,0429,  32.4922,  149.3343,  5955, 1601.500,    2.592,   34.487,2,   34.487,2,   28.060,1,   42.560,2,  151.680,2,   42.950,2,    0.000,2,    3.069,2, -999.000,3,    0.011,2, -999.000,9, -999.000,9, -999.000,9
           NA,    P10N,    101,   1,-999.0,     -99,  2,20050606,0429,  32.4922,  149.3343,  5955, 1801.300,    2.320,   34.531,2,   34.531,2,   33.350,1,   51.930,2,  157.790,2,   42.420,2,    0.000,2,    3.029,2, -999.000,3,    0.008,2, -999.000,9, -999.000,9, -999.000,9
           NA,    P10N,    101,   1,-999.0,     -99,  2,20050606,0429,  32.4922,  149.3343,  5955, 2002.000,    2.129,   34.567,2,   34.567,2,   40.130,1,   63.530,2,  160.500,2,   41.840,2,    0.000,2,    2.978,2, -999.000,3,    0.001,2, -999.000,9, -999.000,9, -999.000,9
           NA,    P10N,    101,   1,-999.0,     -99,  2,20050606,0429,  32.4922,  149.3343,  5955, 2199.300,    1.985,   34.593,2,   34.594,2,   46.200,1,   74.180,2,  162.140,2,   41.270,2,    0.000,2,    2.931,2, -999.000,3,   -0.001,2, -999.000,9, -999.000,9, -999.000,9
           NA,    P10N,    101,   1,-999.0,     -99,  2,20050606,0429,  32.4922,  149.3343,  5955, 2399.800,    1.847,   34.617,2,   34.618,2,   53.810,1,   87.930,2,  162.460,2,   40.430,2,    0.000,2,    2.861,2, -999.000,9, -999.000,9, -999.000,9, -999.000,9, -999.000,9
           NA,    P10N,    101,   1,-999.0,     -99,  2,20050606,0429,  32.4922,  149.3343,  5955, 2600.300,    1.755,   34.634,2,   34.633,2,   60.730,1,  100.680,2,  160.270,2,   39.580,2,    0.000,2,    2.795,2, -999.000,9, -999.000,9, -999.000,9, -999.000,9, -999.000,9
           NA,    P10N,    101,   1,-999.0,     -99,  2,20050606,0429,  32.4922,  149.3343,  5955, 2799.500,    1.690,   34.645,2,   34.645,2,   65.910,1,  109.940,2,  159.300,2,   39.050,2,    0.000,2,    2.755,2, -999.000,9, -999.000,9, -999.000,9, -999.000,9, -999.000,9
           NA,    P10N,    101,   1,-999.0,     -99,  2,20050606,0429,  32.4922,  149.3343,  5955, 3000.100,    1.649,   34.653,2,   34.653,2,   69.550,1,  116.980,6,  157.770,2,   38.570,2,    0.000,2,    2.721,2, -999.000,9, -999.000,9, -999.000,9, -999.000,9, -999.000,9
           NA,    P10N,    101,   1,-999.0,     -99,  2,20050606,0429,  32.4922,  149.3343,  5955, 3249.400,    1.611,   34.660,2,   34.661,6,   73.430,1,  124.340,2,  156.120,2,   37.970,2,    0.000,2,    2.670,2, -999.000,9, -999.000,9, -999.000,9, -999.000,9, -999.000,9
           NA,    P10N,    101,   1,-999.0,     -99,  2,20050606,0429,  32.4922,  149.3343,  5955, 3500.300,    1.513,   34.674,2,   34.674,2,   81.140,1,  138.540,2,  152.920,2,   37.120,2,    0.000,2,    2.607,2, -999.000,9, -999.000,9, -999.000,9, -999.000,9, -999.000,9
           NA,    P10N,    101,   1,-999.0,     -99,  2,20050606,0429,  32.4922,  149.3343,  5955, 3752.400,    1.497,   34.679,2,   34.678,2,   83.960,1,  143.680,2,  151.890,2,   36.770,2,    0.000,2,    2.583,2, -999.000,9, -999.000,9, -999.000,9, -999.000,9, -999.000,9
           NA,    P10N,    101,   1,-999.0,     -99,  2,20050606,0429,  32.4922,  149.3343,  5955, 4005.500,    1.492,   34.682,2,   34.682,2,   86.060,1,  147.490,2,  150.670,2,   36.470,2,    0.000,2,    2.555,2, -999.000,9, -999.000,9, -999.000,9, -999.000,9, -999.000,9
           NA,    P10N,    101,   1,-999.0,     -99,  2,20050606,0429,  32.4922,  149.3343,  5955, 4248.800,    1.488,   34.685,2,   34.685,2,   88.400,1,  151.650,2,  149.020,2,   36.280,2,   -0.010,2,    2.538,2, -999.000,9, -999.000,9, -999.000,9, -999.000,9, -999.000,9
           NA,    P10N,    101,   1,-999.0,     -99,  2,20050606,0429,  32.4922,  149.3343,  5955, 4497.000,    1.492,   34.688,2,   34.687,2,   90.300,1,  154.730,2,  148.400,2,   36.070,2,    0.000,2,    2.522,2, -999.000,9, -999.000,9, -999.000,9, -999.000,9, -999.000,9
           NA,    P10N,    101,   1,-999.0,     -99,  2,20050606,0429,  32.4922,  149.3343,  5955, 4748.100,    1.498,   34.690,2,   34.691,2,   92.460,1, -999.000,4,  147.040,2,   35.880,2,   -0.010,2,    2.510,2, -999.000,9, -999.000,9, -999.000,9, -999.000,9, -999.000,9
           NA,    P10N,    101,   1,-999.0,     -99,  2,20050606,0429,  32.4922,  149.3343,  5955, 4998.900,    1.509,   34.692,2, -999.000,3,   94.590,1,  161.070,6,  145.120,2,   35.580,2,    0.000,2,    2.486,2, -999.000,9, -999.000,9, -999.000,9, -999.000,9, -999.000,9
           NA,    P10N,    101,   1,-999.0,     -99,  2,20050606,0429,  32.4922,  149.3343,  5955, 5248.300,    1.529,   34.693,2,   34.693,2,   96.180,1,  163.140,2,  143.290,2,   35.440,2,    0.000,2,    2.481,2, -999.000,9, -999.000,9, -999.000,9, -999.000,9, -999.000,9
           NA,    P10N,    101,   1,-999.0,     -99,  2,20050606,0429,  32.4922,  149.3343,  5955, 5498.800,    1.552,   34.694,2,   34.694,2,   97.630,1, -999.000,4,  142.260,2,   35.370,2,    0.000,2,    2.473,2, -999.000,9, -999.000,9, -999.000,9, -999.000,9, -999.000,9
           NA,    P10N,    101,   1,-999.0,     -99,  2,20050606,0429,  32.4922,  149.3343,  5955, 5749.200,    1.578,   34.694,2,   34.694,2,   99.090,1,  166.030,2,  141.190,2,   35.230,2,    0.000,2,    2.467,2, -999.000,9, -999.000,9, -999.000,9, -999.000,9, -999.000,9
           NA,    P10N,    101,   1,-999.0,     -99,  3,20050606,0429,  32.4922,  149.3343,  5955, 6058.000,    1.600,   34.696,2,   34.696,6,  102.190,1,  169.790,2,  138.050,2,   34.930,2,    0.000,2,    2.442,2, -999.000,9, -999.000,9, -999.000,9, -999.000,9, -999.000,9