BOTTLE,20214413JOAExport
EXPOCODE,SECT_ID,STNNBR,CASTNO,SAMPNO,BTLNBR,BTLNBR_FLAG_W,DATE,TIME,LATITUDE,LONGITUDE,DEPTH,CTDPRS,CTDTMP,CTDSAL,CTDSAL_FLAG_W,SALNTY,SALNTY_FLAG_W,CTDOXY,CTDOXY_FLAG_W,OXYGEN,OXYGEN_FLAG_W,SILCAT,SILCAT_FLAG_W,NITRAT,NITRAT_FLAG_W,NITRIT,NITRIT_FLAG_W,PHSPHT,PHSPHT_FLAG_W,CFC-11,CFC-11_FLAG_W,CFC-12,CFC-12_FLAG_W,SF6,SF6_FLAG_W,TCARBN,TCARBN_FLAG_W,ALKALI,ALKALI_FLAG_W
,,,,,,,,,,,,,DB,ITS-90,PSS-78,,PSS-78,,UMOL/KG,,UMOL/KG,,UMOL/KG,,UMOL/KG,,UMOL/KG,,UMOL/KG,,PMOL/KG,,PMOL/KG,,FMOL/KG,,UMOL/KG,,UMOL/KG
           NA,     P10,     35,   1,-999.0,     -99,  2,20050620,0953,   5.5035,  148.0608,  3664,   10.700,   29.699,   33.936,2,   33.942,2,  171.860,1,  195.040,6,    0.920,2,    0.020,2,    0.010,2,    0.080,2,    1.426,2,    0.867,2, -999.000,9, -999.000,9, -999.000,9
           NA,     P10,     35,   1,-999.0,     -99,  2,20050620,0953,   5.5035,  148.0608,  3664,   50.800,   29.148,   34.509,2,   34.547,2,  177.600,1,  200.160,2,    1.070,2,    0.060,2,    0.010,2,    0.125,2,    1.502,2,    0.888,2, -999.000,9, -999.000,9, -999.000,9
           NA,     P10,     35,   1,-999.0,     -99,  2,20050620,0953,   5.5035,  148.0608,  3664,  100.500,   25.002,   34.805,2,   34.802,2,  143.960,1,  162.320,2,    3.720,2,    4.430,2,    0.050,2,    0.404,2,    1.725,2,    1.010,2, -999.000,9, -999.000,9, -999.000,9
           NA,     P10,     35,   1,-999.0,     -99,  2,20050620,0953,   5.5035,  148.0608,  3664,  150.500,   19.107,   34.742,2,   34.726,2,  127.660,1,  142.280,2,    9.680,2,   10.670,2,    0.030,2,    0.840,2,    1.929,2,    1.077,2, -999.000,9, -999.000,9, -999.000,9
           NA,     P10,     35,   1,-999.0,     -99,  2,20050620,0953,   5.5035,  148.0608,  3664,  202.500,   13.196,   34.587,2,   34.584,2,   89.540,1,  103.070,2,   22.080,2,   21.670,2,    0.010,2,    1.608,2,    1.491,2,    0.777,2, -999.000,9, -999.000,9, -999.000,9
           NA,     P10,     35,   1,-999.0,     -99,  2,20050620,0953,   5.5035,  148.0608,  3664,  250.300,   10.486,   34.578,2,   34.583,2,   58.940,1,   64.420,2,   32.460,2,   30.280,2,    0.010,2,    2.198,2,    0.734,6,    0.360,6, -999.000,9, -999.000,9, -999.000,9
           NA,     P10,     35,   1,-999.0,     -99,  2,20050620,0953,   5.5035,  148.0608,  3664,  298.800,    9.236,   34.598,2,   34.597,2,   48.560,1,   55.250,2,   37.180,2,   33.380,2,    0.010,2,    2.405,2,    0.374,2,    0.178,2, -999.000,9, -999.000,9, -999.000,9
           NA,     P10,     35,   1,-999.0,     -99,  2,20050620,0953,   5.5035,  148.0608,  3664,  401.400,    8.327,   34.586,2,   34.584,2,   54.160,1,   62.430,2,   41.600,2,   34.560,2,    0.000,2,    2.486,2, -999.000,5, -999.000,5, -999.000,9, -999.000,9, -999.000,9
           NA,     P10,     35,   1,-999.0,     -99,  2,20050620,0953,   5.5035,  148.0608,  3664,  498.900,    7.897,   34.578,2,   34.578,6,   59.710,1,   69.870,2,   43.580,2,   34.820,2,    0.010,2,    2.508,2,    0.206,2,    0.098,2, -999.000,9, -999.000,9, -999.000,9
           NA,     P10,     35,   1,-999.0,     -99,  2,20050620,0953,   5.5035,  148.0608,  3664,  599.400,    7.084,   34.550,2,   34.548,2,   64.270,1,   74.830,2,   52.070,2,   35.820,2,    0.010,2,    2.586,2,    0.149,2,    0.123,2, -999.000,9, -999.000,9, -999.000,9
           NA,     P10,     35,   1,-999.0,     -99,  2,20050620,0953,   5.5035,  148.0608,  3664,  700.000,    6.176,   34.537,2,   34.536,2,   66.080,1,   77.300,2,   63.010,2,   37.100,2,    0.010,2,    2.686,2,    0.079,2,    0.037,2, -999.000,9, -999.000,9, -999.000,9
           NA,     P10,     35,   1,-999.0,     -99,  2,20050620,0953,   5.5035,  148.0608,  3664,  802.300,    5.572,   34.541,2,   34.540,2,   65.310,1,   76.450,2,   70.920,2,   38.320,2,    0.010,2,    2.767,2,    0.035,6,    0.017,6, -999.000,9, -999.000,9, -999.000,9
           NA,     P10,     35,   1,-999.0,     -99,  2,20050620,0953,   5.5035,  148.0608,  3664,  900.100,    5.101,   34.543,2,   34.543,2,   69.720,1,   82.250,2,   80.060,2,   38.240,2,    0.010,2,    2.758,2,    0.036,2,    0.018,2, -999.000,9, -999.000,9, -999.000,9
           NA,     P10,     35,   1,-999.0,     -99,  2,20050620,0953,   5.5035,  148.0608,  3664, 1000.400,    4.666,   34.552,2,   34.552,6,   69.520,1,   82.110,2,   87.440,2,   38.970,2,    0.010,2,    2.814,2,    0.012,2,    0.008,2, -999.000,9, -999.000,9, -999.000,9
           NA,     P10,     35,   1,-999.0,     -99,  2,20050620,0953,   5.5035,  148.0608,  3664, 1198.600,    3.925,   34.571,2,   34.570,2,   74.010,1,   88.150,6,  102.710,2,   39.170,2,    0.010,2,    2.825,2,    0.011,2,    0.006,2, -999.000,9, -999.000,9, -999.000,9
           NA,     P10,     35,   1,-999.0,     -99,  2,20050620,0953,   5.5035,  148.0608,  3664, 1402.000,    3.255,   34.593,2,   34.593,2,   75.430,1,   90.000,2,  117.270,2,   39.730,2,    0.010,2,    2.866,2,    0.001,2,    0.004,2, -999.000,9, -999.000,9, -999.000,9
           NA,     P10,     35,   1,-999.0,     -99,  2,20050620,0953,   5.5035,  148.0608,  3664, 1600.300,    2.791,   34.611,2,   34.610,2,   80.480,1,   97.270,2,  127.310,2,   39.440,2,    0.010,2,    2.831,2,    0.002,2,    0.000,2, -999.000,9, -999.000,9, -999.000,9
           NA,     P10,     35,   1,-999.0,     -99,  2,20050620,0953,   5.5035,  148.0608,  3664, 1800.400,    2.502,   34.624,2,   34.624,6,   85.900,1,  104.400,2,  133.130,2,   39.010,2,    0.010,2,    2.799,2,   -0.001,2,   -0.001,2, -999.000,9, -999.000,9, -999.000,9
           NA,     P10,     35,   1,-999.0,     -99,  2,20050620,0953,   5.5035,  148.0608,  3664, 1999.400,    2.269,   34.635,2,   34.635,2,   90.570,1,  110.770,2,  137.740,2,   38.690,2,    0.010,2,    2.762,2,   -0.001,2,    0.001,2, -999.000,9, -999.000,9, -999.000,9
           NA,     P10,     35,   1,-999.0,     -99,  2,20050620,0953,   5.5035,  148.0608,  3664, 2202.400,    2.057,   34.646,2,   34.646,2,   94.410,1,  115.820,2,  142.020,2,   38.440,2,    0.010,2,    2.738,2, -999.000,9, -999.000,9, -999.000,9, -999.000,9, -999.000,9
           NA,     P10,     35,   1,-999.0,     -99,  2,20050620,0953,   5.5035,  148.0608,  3664, 2400.200,    1.932,   34.653,2,   34.654,2,   98.690,1,  121.740,2,  143.670,2,   38.080,2,    0.000,2,    2.709,2, -999.000,9, -999.000,9, -999.000,9, -999.000,9, -999.000,9
           NA,     P10,     35,   1,-999.0,     -99,  2,20050620,0953,   5.5035,  148.0608,  3664, 2599.300,    1.788,   34.661,2,   34.662,6,  104.360,1,  129.310,2,  144.510,2,   37.560,2,    0.010,2,    2.658,2, -999.000,9, -999.000,9, -999.000,9, -999.000,9, -999.000,9
           NA,     P10,     35,   1,-999.0,     -99,  2,20050620,0953,   5.5035,  148.0608,  3664, 2801.500,    1.688,   34.668,2,   34.668,2,  109.880,1,  136.430,2,  144.020,2,   37.110,2,    0.010,2,    2.620,2, -999.000,9, -999.000,9, -999.000,9, -999.000,9, -999.000,9
           NA,     P10,     35,   1,-999.0,     -99,  2,20050620,0953,   5.5035,  148.0608,  3664, 2999.600,    1.624,   34.673,2,   34.672,2,  113.660,1,  141.090,6,  143.880,2,   36.740,2,    0.010,2,    2.598,2, -999.000,9, -999.000,9, -999.000,9, -999.000,9, -999.000,9
           NA,     P10,     35,   1,-999.0,     -99,  2,20050620,0953,   5.5035,  148.0608,  3664, 3250.900,    1.575,   34.677,2,   34.677,6,  117.350,1,  145.490,2,  143.020,2,   36.470,2,    0.010,2,    2.568,2, -999.000,9, -999.000,9, -999.000,9, -999.000,9, -999.000,9
           NA,     P10,     35,   1,-999.0,     -99,  2,20050620,0953,   5.5035,  148.0608,  3664, 3500.500,    1.543,   34.681,2,   34.681,2,  120.750,1,  149.130,2,  143.090,2,   36.230,2,    0.010,2,    2.553,2, -999.000,9, -999.000,9, -999.000,9, -999.000,9, -999.000,9
           NA,     P10,     35,   1,-999.0,     -99,  2,20050620,0953,   5.5035,  148.0608,  3664, 3642.000,    1.539,   34.682,2,   34.682,6,  122.060,1,  150.320,6,  142.900,2,   36.220,2,    0.010,2,    2.551,2, -999.000,9, -999.000,9, -999.000,9, -999.000,9, -999.000,9
           NA,     P10,     35,   1,-999.0,     -99,  2,20050620,0953,   5.5035,  148.0608,  3664, 3642.100,    1.539,   34.682,2,   34.682,2,  122.070,1,  150.120,2,  142.910,2,   36.190,2,    0.010,2,    2.546,2,    0.001,2,    0.000,2, -999.000,9, -999.000,9, -999.000,9
           NA,     P10,     36,   1,-999.0,     -99,  2,20050620,0423,   6.0008,  148.2708,  4097,   10.000,   29.726,   33.975,2,   33.975,2,  172.470,1,  195.830,6,    1.100,2,    0.030,2,    0.010,2,    0.127,2,    1.389,2,    0.854,2, -999.000,9, 1896.400,2, 2240.000,2
           NA,     P10,     36,   1,-999.0,     -99,  2,20050620,0423,   6.0008,  148.2708,  4097,   50.100,   29.347,   34.335,2,   34.369,2,  175.740,1,  199.500,2,    1.110,2,    0.010,2,    0.010,2,    0.140,2,    1.430,2,    0.866,2, -999.000,9, 1924.500,6, 2262.900,2
           NA,     P10,     36,   1,-999.0,     -99,  2,20050620,0423,   6.0008,  148.2708,  4097,  100.300,   24.374,   34.605,2,   34.637,2,  143.300,1,  161.150,2,    4.700,2,    4.510,2,    0.250,2,    0.483,2,    1.752,2,    0.999,2, -999.000,9, 2019.800,2, 2284.500,6
           NA,     P10,     36,   1,-999.0,     -99,  2,20050620,0423,   6.0008,  148.2708,  4097,  150.500,   18.205,   34.733,2,   34.731,2,  120.250,1,  139.250,2,   10.110,2,   11.280,2,    0.020,2,    0.903,2,    1.932,2,    1.057,2, -999.000,9, 2090.400,2, 2293.900,2
           NA,     P10,     36,   1,-999.0,     -99,  2,20050620,0423,   6.0008,  148.2708,  4097,  199.700,   13.372,   34.590,2,   34.582,2,   89.050,1,  100.740,2,   22.360,2,   21.930,2,    0.010,2,    1.641,2,    1.420,2,    0.723,2, -999.000,9, 2166.300,2, 2294.600,2
           NA,     P10,     36,   1,-999.0,     -99,  2,20050620,0423,   6.0008,  148.2708,  4097,  248.700,   10.297,   34.568,2,   34.574,2,   56.000,1,   60.570,2,   33.160,2,   30.760,2,    0.010,2,    2.249,2,    0.622,6,    0.286,6, -999.000,9, 2225.700,2, 2300.000,2
           NA,     P10,     36,   1,-999.0,     -99,  2,20050620,0423,   6.0008,  148.2708,  4097,  300.100,    9.313,   34.604,2,   34.601,2,   45.690,1,   52.920,2,   37.050,2,   33.500,2,    0.010,2,    2.426,2,    0.305,2,    0.146,2, -999.000,9, 2244.700,2, 2307.400,2
           NA,     P10,     36,   1,-999.0,     -99,  2,20050620,0423,   6.0008,  148.2708,  4097,  400.600,    8.576,   34.592,2,   34.591,2,   51.790,1,   60.090,2,   40.240,2,   34.240,2,    0.010,2,    2.475,2,    0.230,2,    0.103,2, -999.000,9, 2248.400,2, 2315.200,2
           NA,     P10,     36,   1,-999.0,     -99,  2,20050620,0423,   6.0008,  148.2708,  4097,  500.000,    7.719,   34.563,2,   34.565,6,   64.170,1,   76.210,2,   45.020,2,   34.550,2,    0.010,2,    2.488,2,    0.198,2,    0.082,2, -999.000,9, 2249.100,2, 2317.200,2
           NA,     P10,     36,   1,-999.0,     -99,  2,20050620,0423,   6.0008,  148.2708,  4097,  600.700,    6.820,   34.544,2,   34.544,2,   69.100,1,   80.300,2,   53.990,2,   35.760,2,    0.000,2,    2.586,2,    0.114,2,    0.048,2, -999.000,9, 2260.400,2, 2326.800,2
           NA,     P10,     36,   1,-999.0,     -99,  2,20050620,0423,   6.0008,  148.2708,  4097,  702.700,    6.055,   34.536,2,   34.535,2,   67.870,1,   79.290,2,   64.290,2,   36.990,2,    0.010,2,    2.682,2,    0.062,2,    0.029,2, -999.000,9, 2273.300,6, 2337.000,2
           NA,     P10,     36,   1,-999.0,     -99,  2,20050620,0423,   6.0008,  148.2708,  4097,  801.600,    5.466,   34.538,2,   34.538,2,   70.330,1,   82.800,2,   73.360,2,   37.660,2,    0.010,2,    2.727,2,    0.036,6,    0.015,6, -999.000,9, 2282.700,2, 2348.200,6
           NA,     P10,     36,   1,-999.0,     -99,  2,20050620,0423,   6.0008,  148.2708,  4097,  902.700,    4.902,   34.546,2,   34.546,2,   72.280,1,   85.420,2,   83.650,2,   38.080,2,    0.010,2,    2.760,2,    0.025,2,    0.010,2, -999.000,9, 2294.700,2, 2358.000,2
           NA,     P10,     36,   1,-999.0,     -99,  2,20050620,0423,   6.0008,  148.2708,  4097, 1000.300,    4.501,   34.555,2,   34.556,6,   72.690,1,   86.040,2,   91.090,2,   38.630,2,    0.010,2,    2.797,2,    0.018,2,    0.007,2, -999.000,9, 2304.400,2, 2362.200,2
           NA,     P10,     36,   1,-999.0,     -99,  2,20050620,0423,   6.0008,  148.2708,  4097, 1201.600,    3.786,   34.575,2,   34.575,2,   73.250,1,   87.570,6,  105.530,2,   39.300,2,    0.010,2,    2.846,2,    0.005,2,    0.004,2, -999.000,9, 2320.100,2, 2379.800,2
           NA,     P10,     36,   1,-999.0,     -99,  2,20050620,0423,   6.0008,  148.2708,  4097, 1401.700,    3.228,   34.593,2,   34.593,2,   78.910,1,   95.010,2,  117.630,2,   39.080,2,    0.010,2,    2.818,2,    0.001,2,    0.002,2, -999.000,9, 2329.300,2, 2390.300,2
           NA,     P10,     36,   1,-999.0,     -99,  2,20050620,0423,   6.0008,  148.2708,  4097, 1599.900,    2.855,   34.607,2,   34.607,2,   80.640,1,   97.630,2,  126.560,2,   39.280,2,    0.010,2,    2.828,2,   -0.002,2,    0.000,2, -999.000,9, 2336.500,2, 2402.200,2
           NA,     P10,     36,   1,-999.0,     -99,  2,20050620,0423,   6.0008,  148.2708,  4097, 1801.100,    2.545,   34.621,2,   34.621,6,   84.760,1,  103.240,2,  132.720,2,   39.030,2,    0.010,2,    2.800,2,    0.003,2,    0.000,2, -999.000,9, 2340.500,2, 2408.500,2
           NA,     P10,     36,   1,-999.0,     -99,  2,20050620,0423,   6.0008,  148.2708,  4097, 2002.200,    2.222,   34.637,2,   34.637,2,   89.970,1,  110.360,2,  139.430,2,   38.700,2,    0.010,2,    2.764,2,   -0.004,2,    0.000,2, -999.000,9, 2344.600,2, 2416.300,2
           NA,     P10,     36,   1,-999.0,     -99,  2,20050620,0423,   6.0008,  148.2708,  4097, 2201.100,    2.068,   34.646,2,   34.646,2,   93.940,1,  115.910,2,  142.000,2,   38.360,2,    0.000,2,    2.736,2,   -0.001,2,   -0.001,2, -999.000,9, 2344.500,2, 2418.400,2
           NA,     P10,     36,   1,-999.0,     -99,  2,20050620,0423,   6.0008,  148.2708,  4097, 2399.800,    1.934,   34.654,2, -999.000,3,   98.600,1,  122.440,2,  143.350,2,   37.950,2,    0.010,2,    2.708,2, -999.000,9, -999.000,9, -999.000,9, 2342.500,2, 2417.800,2
           NA,     P10,     36,   1,-999.0,     -99,  2,20050620,0423,   6.0008,  148.2708,  4097, 2601.000,    1.803,   34.661,2,   34.661,6,  103.740,1,  129.150,2,  144.040,2,   37.560,2,    0.010,2,    2.662,2,    0.003,2,    0.000,2, -999.000,9, 2337.800,2, 2421.300,6
           NA,     P10,     36,   1,-999.0,     -99,  2,20050620,0423,   6.0008,  148.2708,  4097, 2800.000,    1.677,   34.669,2,   34.668,2,  109.400,1,  136.760,2,  144.320,2,   37.020,2,    0.010,2,    2.622,2, -999.000,9, -999.000,9, -999.000,9, 2335.300,2, 2422.900,2
           NA,     P10,     36,   1,-999.0,     -99,  2,20050620,0423,   6.0008,  148.2708,  4097, 2999.900,    1.620,   34.673,2,   34.673,2,  113.030,1,  141.660,6,  143.810,2,   36.720,2,    0.010,2,    2.600,2,    0.000,2,    0.001,2, -999.000,9, 2332.800,2, 2419.600,2
           NA,     P10,     36,   1,-999.0,     -99,  2,20050620,0423,   6.0008,  148.2708,  4097, 3250.700,    1.565,   34.678,2,   34.677,6,  116.630,1,  146.370,2,  143.630,2,   36.370,2,    0.010,2,    2.568,2, -999.000,9, -999.000,9, -999.000,9, 2331.300,2, 2421.600,2
           NA,     P10,     36,   1,-999.0,     -99,  2,20050620,0423,   6.0008,  148.2708,  4097, 3499.600,    1.538,   34.681,2,   34.681,2,  119.380,1,  149.730,2,  142.890,2,   36.130,2,    0.010,2,    2.555,2,    0.002,2,    0.001,2, -999.000,9, 2329.300,2, 2423.700,2
           NA,     P10,     36,   1,-999.0,     -99,  2,20050620,0423,   6.0008,  148.2708,  4097, 3750.500,    1.530,   34.683,2,   34.684,2,  121.680,1,  152.030,2,  142.620,2,   35.970,2,    0.010,2,    2.545,2, -999.000,9, -999.000,9, -999.000,9, 2327.400,2, 2424.400,2
           NA,     P10,     36,   1,-999.0,     -99,  2,20050620,0423,   6.0008,  148.2708,  4097, 3998.800,    1.538,   34.684,2,   34.684,2,  123.430,1,  153.290,2,  142.400,2,   35.920,2,    0.010,2,    2.535,2,   -0.002,2,    0.001,2, -999.000,9, 2325.000,2, 2423.100,2
           NA,     P10,     36,   1,-999.0,     -99,  2,20050620,0423,   6.0008,  148.2708,  4097, 4141.000,    1.538,   34.685,2,   34.685,2,  124.970,1,  154.600,2,  142.150,2,   35.830,2,    0.010,2,    2.530,2,    0.007,2,   -0.001,2, -999.000,9, 2326.100,6, 2423.700,2
           NA,     P10,     36,   1,-999.0,     -99,  2,20050620,0423,   6.0008,  148.2708,  4097, 4142.100,    1.538,   34.685,2,   34.685,6,  124.950,1,  154.510,6,  142.140,2,   35.820,2,    0.010,2,    2.543,2,   -0.005,2,   -0.002,2, -999.000,9, 2325.700,2, 2420.100,2