BOTTLE,20214413JOAExport
EXPOCODE,SECT_ID,STNNBR,CASTNO,SAMPNO,BTLNBR,BTLNBR_FLAG_W,DATE,TIME,LATITUDE,LONGITUDE,DEPTH,CTDPRS,CTDTMP,CTDSAL,CTDSAL_FLAG_W,SALNTY,SALNTY_FLAG_W,CTDOXY,CTDOXY_FLAG_W,OXYGEN,OXYGEN_FLAG_W,SILCAT,SILCAT_FLAG_W,NITRAT,NITRAT_FLAG_W,NITRIT,NITRIT_FLAG_W,PHSPHT,PHSPHT_FLAG_W,CFC-11,CFC-11_FLAG_W,CFC-12,CFC-12_FLAG_W,SF6,SF6_FLAG_W,TCARBN,TCARBN_FLAG_W,ALKALI,ALKALI_FLAG_W
,,,,,,,,,,,,,DB,ITS-90,PSS-78,,PSS-78,,UMOL/KG,,UMOL/KG,,UMOL/KG,,UMOL/KG,,UMOL/KG,,UMOL/KG,,PMOL/KG,,PMOL/KG,,FMOL/KG,,UMOL/KG,,UMOL/KG
           NA,    P10N,    115,   1,-999.0,     -99,  2,20050602,1529,  36.2458,  147.9920,  5813,    9.900,   23.184,   34.673,2,   34.676,2,  192.250,1,  213.940,6,    1.510,2,    0.030,2,    0.010,2,    0.054,2,    1.774,2,    1.083,2, -999.000,9, -999.000,9, -999.000,9
           NA,    P10N,    115,   1,-999.0,     -99,  2,20050602,1529,  36.2458,  147.9920,  5813,   50.400,   20.822,   34.703,2,   34.714,2,  177.300,1,  197.550,2,    3.920,2,    2.950,2,    0.100,2,    0.252,2,    1.973,2,    1.183,2, -999.000,9, -999.000,9, -999.000,9
           NA,    P10N,    115,   1,-999.0,     -99,  2,20050602,1529,  36.2458,  147.9920,  5813,  100.100,   18.426,   34.758,2,   34.755,2,  174.730,1,  196.230,2,    5.590,2,    4.910,2,    0.020,2,    0.370,2,    2.130,2,    1.245,2, -999.000,9, -999.000,9, -999.000,9
           NA,    P10N,    115,   1,-999.0,     -99,  2,20050602,1529,  36.2458,  147.9920,  5813,  150.800,   16.700,   34.657,2,   34.657,2,  172.420,1,  193.330,2,    9.180,2,    7.340,2,    0.030,2,    0.538,2,    2.199,2,    1.261,2, -999.000,9, -999.000,9, -999.000,9
           NA,    P10N,    115,   1,-999.0,     -99,  2,20050602,1529,  36.2458,  147.9920,  5813,  200.200,   14.384,   34.558,2,   34.556,2,  160.430,1,  180.520,2,   16.070,2,   11.790,2,    0.010,2,    0.843,2,    2.221,2,    1.247,2, -999.000,9, -999.000,9, -999.000,9
           NA,    P10N,    115,   1,-999.0,     -99,  2,20050602,1529,  36.2458,  147.9920,  5813,  249.600,   12.293,   34.453,2,   34.447,2,  141.170,1,  158.730,2,   27.770,2,   17.290,2,    0.010,2,    1.246,2,    1.990,6,    1.076,6, -999.000,9, -999.000,9, -999.000,9
           NA,    P10N,    115,   1,-999.0,     -99,  2,20050602,1529,  36.2458,  147.9920,  5813,  300.400,   10.512,   34.333,2,   34.327,2,  136.960,1,  155.940,2,   33.450,2,   20.280,2,    0.010,2,    1.457,2,    1.994,2,    1.073,2, -999.000,9, -999.000,9, -999.000,9
           NA,    P10N,    115,   1,-999.0,     -99,  2,20050602,1529,  36.2458,  147.9920,  5813,  401.100,    8.067,   34.219,2,   34.216,2,  116.850,1,  132.950,2,   52.150,2,   26.650,2,    0.010,2,    1.936,2, -999.000,5, -999.000,5, -999.000,9, -999.000,9, -999.000,9
           NA,    P10N,    115,   1,-999.0,     -99,  2,20050602,1529,  36.2458,  147.9920,  5813,  503.600,    5.901,   34.116,2,   34.103,6,  103.970,1,  120.850,2,   70.460,2,   31.760,2,    0.010,2,    2.322,2,    1.661,2,    0.858,2, -999.000,9, -999.000,9, -999.000,9
           NA,    P10N,    115,   1,-999.0,     -99,  2,20050602,1529,  36.2458,  147.9920,  5813,  600.300,    4.736,   34.073,2,   34.065,2,   79.750,1,   93.720,2,   86.780,2,   36.360,2,    0.010,2,    2.652,2,    1.455,2,    0.728,2, -999.000,9, -999.000,9, -999.000,9
           NA,    P10N,    115,   1,-999.0,     -99,  2,20050602,1529,  36.2458,  147.9920,  5813,  697.600,    4.002,   34.145,2,   34.146,2,   56.230,1,   63.190,2,  105.230,2,   39.560,2,    0.010,2,    2.865,2,    1.039,2,    0.514,2, -999.000,9, -999.000,9, -999.000,9
           NA,    P10N,    115,   1,-999.0,     -99,  2,20050602,1529,  36.2458,  147.9920,  5813,  800.600,    3.471,   34.211,2,   34.214,2,   38.440,1,   42.080,2,  122.330,2,   41.830,2,    0.000,2,    3.032,2,    0.694,6,    0.339,6, -999.000,9, -999.000,9, -999.000,9
           NA,    P10N,    115,   1,-999.0,     -99,  2,20050602,1529,  36.2458,  147.9920,  5813,  903.500,    3.289,   34.311,2,   34.308,2,   36.950,1,   40.350,2,  130.870,2,   41.900,2,    0.000,2,    3.025,2,    0.386,2,    0.184,2, -999.000,9, -999.000,9, -999.000,9
           NA,    P10N,    115,   1,-999.0,     -99,  2,20050602,1529,  36.2458,  147.9920,  5813, 1000.400,    3.080,   34.357,2,   34.357,6,   35.790,1,   39.150,2,  137.550,2,   42.270,2,    0.000,2,    3.050,2,    0.265,2,    0.122,2, -999.000,9, -999.000,9, -999.000,9
           NA,    P10N,    115,   1,-999.0,     -99,  2,20050602,1529,  36.2458,  147.9920,  5813, 1199.600,    2.769,   34.433,2,   34.433,2,   37.880,1,   41.610,6,  146.750,2,   42.460,2,    0.000,2,    3.056,2,    0.125,2,    0.063,2, -999.000,9, -999.000,9, -999.000,9
           NA,    P10N,    115,   1,-999.0,     -99,  2,20050602,1529,  36.2458,  147.9920,  5813, 1403.500,    2.461,   34.500,2,   34.500,2,   42.020,1,   46.720,2,  154.350,2,   42.480,2,    0.000,2,    3.040,2,    0.040,2,    0.023,2, -999.000,9, -999.000,9, -999.000,9
           NA,    P10N,    115,   1,-999.0,     -99,  2,20050602,1529,  36.2458,  147.9920,  5813, 1603.100,    2.215,   34.547,2,   34.547,2,   51.160,1,   57.930,2,  159.170,2,   42.000,2,    0.000,2,    2.995,2,    0.012,2,    0.010,2, -999.000,9, -999.000,9, -999.000,9
           NA,    P10N,    115,   1,-999.0,     -99,  2,20050602,1529,  36.2458,  147.9920,  5813, 1800.300,    2.077,   34.573,2,   34.572,2,   57.800,1,   66.570,2,  161.120,2,   41.560,2,    0.000,2,    2.955,2,    0.002,2,   -0.004,2, -999.000,9, -999.000,9, -999.000,9
           NA,    P10N,    115,   1,-999.0,     -99,  2,20050602,1529,  36.2458,  147.9920,  5813, 2002.000,    1.936,   34.599,2,   34.599,2,   68.460,1,   79.620,2,  161.600,2,   40.830,2,    0.000,2,    2.894,2,   -0.001,2,    0.007,2, -999.000,9, -999.000,9, -999.000,9
           NA,    P10N,    115,   1,-999.0,     -99,  2,20050602,1529,  36.2458,  147.9920,  5813, 2203.300,    1.809,   34.620,2,   34.620,6,   79.290,1,   92.670,2,  160.860,2,   39.990,2,    0.000,2,    2.829,2,   -0.004,2,    0.005,2, -999.000,9, -999.000,9, -999.000,9
           NA,    P10N,    115,   1,-999.0,     -99,  2,20050602,1529,  36.2458,  147.9920,  5813, 2400.500,    1.712,   34.637,2,   34.636,2,   87.860,1,  103.390,2,  160.440,2,   39.320,2,    0.000,2,    2.775,2,   -0.005,2,   -0.007,2, -999.000,9, -999.000,9, -999.000,9
           NA,    P10N,    115,   1,-999.0,     -99,  2,20050602,1529,  36.2458,  147.9920,  5813, 2600.900,    1.642,   34.648,2,   34.648,2,   95.290,1,  112.650,2,  159.100,2,   38.720,2,    0.000,2,    2.731,2,   -0.002,2,   -0.006,2, -999.000,9, -999.000,9, -999.000,9
           NA,    P10N,    115,   1,-999.0,     -99,  2,20050602,1529,  36.2458,  147.9920,  5813, 2801.000,    1.589,   34.657,2,   34.657,2,  101.660,1,  120.740,2,  157.760,2,   38.180,2,    0.000,2,    2.689,2,   -0.009,2,   -0.004,2, -999.000,9, -999.000,9, -999.000,9
           NA,    P10N,    115,   1,-999.0,     -99,  2,20050602,1529,  36.2458,  147.9920,  5813, 3001.300,    1.548,   34.665,2,   34.664,2,  107.400,1,  128.150,6,  156.150,2,   37.670,2,    0.000,2,    2.653,2,   -0.002,2,   -0.005,2, -999.000,9, -999.000,9, -999.000,9
           NA,    P10N,    115,   1,-999.0,     -99,  2,20050602,1529,  36.2458,  147.9920,  5813, 3252.000,    1.512,   34.671,2,   34.671,6,  112.870,1,  135.130,2,  154.610,2,   37.210,2,    0.000,2,    2.602,2,    0.003,2,   -0.005,2, -999.000,9, -999.000,9, -999.000,9
           NA,    P10N,    115,   1,-999.0,     -99,  2,20050602,1529,  36.2458,  147.9920,  5813, 3501.600,    1.488,   34.676,2,   34.676,2,  117.180,1,  140.580,2,  153.470,2,   36.840,2,    0.000,2,    2.582,2,   -0.001,2,   -0.005,2, -999.000,9, -999.000,9, -999.000,9
           NA,    P10N,    115,   1,-999.0,     -99,  2,20050602,1529,  36.2458,  147.9920,  5813, 3751.200,    1.474,   34.681,2,   34.680,2,  121.160,1,  145.440,2,  152.190,2,   36.540,2,    0.000,2,    2.556,2,    0.002,2,   -0.005,2, -999.000,9, -999.000,9, -999.000,9
           NA,    P10N,    115,   1,-999.0,     -99,  2,20050602,1529,  36.2458,  147.9920,  5813, 4001.500,    1.469,   34.684,2,   34.684,2,  124.510,1,  149.480,2,  150.740,2,   36.200,2,    0.010,2,    2.534,2,   -0.003,2,    0.004,2, -999.000,9, -999.000,9, -999.000,9
           NA,    P10N,    115,   1,-999.0,     -99,  2,20050602,1529,  36.2458,  147.9920,  5813, 4251.200,    1.468,   34.687,2,   34.686,2,  127.730,1,  153.330,2,  149.850,2,   36.010,2,    0.000,2,    2.519,2,    0.014,2,    0.012,2, -999.000,9, -999.000,9, -999.000,9
           NA,    P10N,    115,   1,-999.0,     -99,  2,20050602,1529,  36.2458,  147.9920,  5813, 4502.100,    1.476,   34.689,2,   34.688,6,  130.240,1,  156.150,2,  148.830,2,   35.840,2,    0.000,2,    2.500,2,   -0.004,2,   -0.006,2, -999.000,9, -999.000,9, -999.000,9
           NA,    P10N,    115,   1,-999.0,     -99,  2,20050602,1529,  36.2458,  147.9920,  5813, 4750.100,    1.488,   34.690,2,   34.691,2,  132.440,1,  158.340,2,  148.140,2,   35.700,2,    0.000,2,    2.492,2,   -0.004,2,   -0.007,2, -999.000,9, -999.000,9, -999.000,9
           NA,    P10N,    115,   1,-999.0,     -99,  2,20050602,1529,  36.2458,  147.9920,  5813, 5003.900,    1.509,   34.692,2,   34.691,2,  134.310,1,  160.320,6,  146.970,2,   35.510,2,    0.000,2,    2.483,2,    0.002,2,    0.008,2, -999.000,9, -999.000,9, -999.000,9
           NA,    P10N,    115,   1,-999.0,     -99,  2,20050602,1529,  36.2458,  147.9920,  5813, 5251.200,    1.530,   34.693,2,   34.692,2,  136.230,1, -999.000,4,  145.430,2,   35.400,2,    0.000,2,    2.470,2,    0.005,2,    0.008,2, -999.000,9, -999.000,9, -999.000,9
           NA,    P10N,    115,   1,-999.0,     -99,  2,20050602,1529,  36.2458,  147.9920,  5813, 5501.200,    1.555,   34.693,2,   34.693,2,  137.940,1,  163.260,2,  144.310,2,   35.320,2,    0.000,2,    2.464,2,    0.001,2,   -0.004,2, -999.000,9, -999.000,9, -999.000,9
           NA,    P10N,    115,   1,-999.0,     -99,  2,20050602,1529,  36.2458,  147.9920,  5813, 5752.900,    1.581,   34.694,2,   34.694,2,  139.800,1,  164.380,2,  143.250,2,   35.150,2,    0.000,2,    2.456,2,    0.005,2,    0.008,2, -999.000,9, -999.000,9, -999.000,9
           NA,    P10N,    115,   1,-999.0,     -99,  2,20050602,1529,  36.2458,  147.9920,  5813, 5915.200,    1.602,   34.694,2,   34.694,6,  140.770,1,  164.410,2,  143.620,2,   35.190,2,    0.000,2,    2.457,2,    0.002,2,    0.006,2, -999.000,9, -999.000,9, -999.000,9