BOTTLE,20214413JOAExport
EXPOCODE,SECT_ID,STNNBR,CASTNO,SAMPNO,BTLNBR,BTLNBR_FLAG_W,DATE,TIME,LATITUDE,LONGITUDE,DEPTH,CTDPRS,CTDTMP,CTDSAL,CTDSAL_FLAG_W,SALNTY,SALNTY_FLAG_W,CTDOXY,CTDOXY_FLAG_W,OXYGEN,OXYGEN_FLAG_W,SILCAT,SILCAT_FLAG_W,NITRAT,NITRAT_FLAG_W,NITRIT,NITRIT_FLAG_W,PHSPHT,PHSPHT_FLAG_W,CFC-11,CFC-11_FLAG_W,CFC-12,CFC-12_FLAG_W,SF6,SF6_FLAG_W,TCARBN,TCARBN_FLAG_W,ALKALI,ALKALI_FLAG_W
,,,,,,,,,,,,,DB,ITS-90,PSS-78,,PSS-78,,UMOL/KG,,UMOL/KG,,UMOL/KG,,UMOL/KG,,UMOL/KG,,UMOL/KG,,PMOL/KG,,PMOL/KG,,FMOL/KG,,UMOL/KG,,UMOL/KG
           NA,    P10N,    107,   1,-999.0,     -99,  2,20050604,1743,  34.2400,  149.1738,  6170,    9.900,   20.208,   34.678,2,   34.681,2,  199.400,1,  229.330,6,    1.690,2,    0.020,2,    0.010,2,    0.051,2,    2.109,2,    1.260,2, -999.000,9, -999.000,9, -999.000,9
           NA,    P10N,    107,   1,-999.0,     -99,  2,20050604,1743,  34.2400,  149.1738,  6170,   50.800,   19.239,   34.762,2,   34.767,2,  203.390,1,  234.320,2,    1.730,2,    0.000,2,    0.010,2,    0.059,2,    2.198,2,    1.305,2, -999.000,9, -999.000,9, -999.000,9
           NA,    P10N,    107,   1,-999.0,     -99,  2,20050604,1743,  34.2400,  149.1738,  6170,   99.500,   18.688,   34.838,2,   34.839,2,  187.160,1,  216.060,2,    2.880,2,    2.210,2,    0.040,2,    0.201,2,    2.157,2,    1.284,2, -999.000,9, -999.000,9, -999.000,9
           NA,    P10N,    107,   1,-999.0,     -99,  2,20050604,1743,  34.2400,  149.1738,  6170,  150.100,   18.153,   34.844,2,   34.844,2,  189.490,1,  219.360,2,    2.970,2,    2.350,2,    0.030,2,    0.206,2,    2.229,2,    1.317,2, -999.000,9, -999.000,9, -999.000,9
           NA,    P10N,    107,   1,-999.0,     -99,  2,20050604,1743,  34.2400,  149.1738,  6170,  200.300,   17.634,   34.827,2,   34.826,2,  192.810,1,  223.950,2,    3.040,2,    2.550,2,    0.020,2,    0.217,2,    2.272,2,    1.342,2, -999.000,9, -999.000,9, -999.000,9
           NA,    P10N,    107,   1,-999.0,     -99,  2,20050604,1743,  34.2400,  149.1738,  6170,  249.200,   17.371,   34.811,2,   34.811,2,  195.530,1,  226.740,2,    3.050,2,    2.740,2,    0.020,2,    0.227,2,    2.312,6,    1.372,6, -999.000,9, -999.000,9, -999.000,9
           NA,    P10N,    107,   1,-999.0,     -99,  2,20050604,1743,  34.2400,  149.1738,  6170,  299.500,   17.250,   34.806,2,   34.805,2,  194.800,1,  225.900,2,    3.360,2,    3.020,2,    0.010,2,    0.238,2,    2.293,2,    1.345,2, -999.000,9, -999.000,9, -999.000,9
           NA,    P10N,    107,   1,-999.0,     -99,  2,20050604,1743,  34.2400,  149.1738,  6170,  399.900,   16.404,   34.707,2,   34.702,2,  173.360,1,  200.800,2,    7.030,2,    6.730,2,    0.020,2,    0.484,2,    2.317,2,    1.323,2, -999.000,9, -999.000,9, -999.000,9
           NA,    P10N,    107,   1,-999.0,     -99,  2,20050604,1743,  34.2400,  149.1738,  6170,  499.700,   14.359,   34.554,2,   34.546,6,  156.150,1,  181.840,2,   14.130,2,   11.760,2,    0.010,2,    0.836,2,    2.332,2,    1.283,2, -999.000,9, -999.000,9, -999.000,9
           NA,    P10N,    107,   1,-999.0,     -99,  2,20050604,1743,  34.2400,  149.1738,  6170,  599.200,   11.705,   34.360,2,   34.358,2,  150.050,1,  175.860,2,   23.320,2,   16.360,2,    0.010,2,    1.182,2,    2.364,2,    1.260,2, -999.000,9, -999.000,9, -999.000,9
           NA,    P10N,    107,   1,-999.0,     -99,  2,20050604,1743,  34.2400,  149.1738,  6170,  700.100,    9.024,   34.175,2,   34.171,2,  141.620,1,  167.390,2,   36.120,2,   21.810,2,    0.010,2,    1.589,2,    2.325,2,    1.207,2, -999.000,9, -999.000,9, -999.000,9
           NA,    P10N,    107,   1,-999.0,     -99,  2,20050604,1743,  34.2400,  149.1738,  6170,  800.000,    7.073,   34.084,2,   34.077,2,  122.610,1,  145.360,2,   53.800,2,   27.480,2,    0.010,2,    2.022,2,    2.081,6,    1.064,6, -999.000,9, -999.000,9, -999.000,9
           NA,    P10N,    107,   1,-999.0,     -99,  2,20050604,1743,  34.2400,  149.1738,  6170,  899.300,    5.272,   34.046,2,   34.050,2,   95.170,1,  113.030,2,   75.010,2,   33.430,2,    0.010,2,    2.441,2,    1.742,2,    0.873,2, -999.000,9, -999.000,9, -999.000,9
           NA,    P10N,    107,   1,-999.0,     -99,  2,20050604,1743,  34.2400,  149.1738,  6170, 1000.600,    4.641,   34.141,2,   34.141,6,   65.200,1,   77.800,2,   93.730,2,   37.670,2,    0.010,2,    2.741,2,    1.084,2,    0.536,2, -999.000,9, -999.000,9, -999.000,9
           NA,    P10N,    107,   1,-999.0,     -99,  2,20050604,1743,  34.2400,  149.1738,  6170, 1200.100,    3.705,   34.309,2,   34.310,2,   42.030,1,   48.410,6,  121.170,2,   41.120,2,    0.010,2,    2.961,2,    0.347,2,    0.161,2, -999.000,9, -999.000,9, -999.000,9
           NA,    P10N,    107,   1,-999.0,     -99,  2,20050604,1743,  34.2400,  149.1738,  6170, 1402.000,    3.068,   34.394,2,   34.394,2,   36.780,1,   41.910,2,  138.810,2,   42.270,2,    0.010,2,    3.048,2,    0.171,2,    0.095,2, -999.000,9, -999.000,9, -999.000,9
           NA,    P10N,    107,   1,-999.0,     -99,  2,20050604,1743,  34.2400,  149.1738,  6170, 1600.700,    2.700,   34.463,2,   34.464,2,   36.600,1,   41.800,2,  149.310,2,   42.780,2,    0.010,2,    3.059,2,    0.059,2,    0.035,2, -999.000,9, -999.000,9, -999.000,9
           NA,    P10N,    107,   1,-999.0,     -99,  2,20050604,1743,  34.2400,  149.1738,  6170, 1801.500,    2.407,   34.515,2,   34.516,2,   42.640,1,   49.310,2,  155.140,2,   42.200,2,    0.010,2,    3.028,2,    0.028,2,    0.007,2, -999.000,9, -999.000,9, -999.000,9
           NA,    P10N,    107,   1,-999.0,     -99,  2,20050604,1743,  34.2400,  149.1738,  6170, 2000.200,    2.195,   34.556,2,   34.556,2,   50.320,1,   59.560,2,  159.540,2,   41.840,2,    0.010,2,    2.976,2,    0.009,2,    0.002,2, -999.000,9, -999.000,9, -999.000,9
           NA,    P10N,    107,   1,-999.0,     -99,  2,20050604,1743,  34.2400,  149.1738,  6170, 2199.700,    2.007,   34.589,2,   34.590,6,   60.440,1,   72.760,2,  161.970,2,   41.250,2,    0.010,2,    2.927,2,    0.004,2,    0.000,2, -999.000,9, -999.000,9, -999.000,9
           NA,    P10N,    107,   1,-999.0,     -99,  2,20050604,1743,  34.2400,  149.1738,  6170, 2401.000,    1.875,   34.613,2,   34.613,2,   70.810,1,   86.350,2,  161.680,2,   40.400,2,    0.010,2,    2.860,2,    0.002,2,   -0.003,2, -999.000,9, -999.000,9, -999.000,9
           NA,    P10N,    107,   1,-999.0,     -99,  2,20050604,1743,  34.2400,  149.1738,  6170, 2600.800,    1.777,   34.630,2,   34.631,2,   79.540,1,   98.210,2,  160.310,2,   39.590,2,    0.010,2,    2.806,2,    0.001,2,   -0.003,2, -999.000,9, -999.000,9, -999.000,9
           NA,    P10N,    107,   1,-999.0,     -99,  2,20050604,1743,  34.2400,  149.1738,  6170, 2801.100,    1.703,   34.643,2,   34.643,2,   87.120,1,  108.230,2,  159.430,2,   39.030,2,    0.010,2,    2.756,2,   -0.001,2,   -0.004,2, -999.000,9, -999.000,9, -999.000,9
           NA,    P10N,    107,   1,-999.0,     -99,  2,20050604,1743,  34.2400,  149.1738,  6170, 3001.200,    1.639,   34.654,2,   34.654,2,   94.320,1,  117.950,6,  157.840,2,   38.440,2,    0.000,2,    2.710,2,    0.001,2,    0.002,2, -999.000,9, -999.000,9, -999.000,9
           NA,    P10N,    107,   1,-999.0,     -99,  2,20050604,1743,  34.2400,  149.1738,  6170, 3250.900,    1.583,   34.664,2,   34.663,6,  101.440,1,  127.890,2,  155.730,2,   37.800,2,    0.010,2,    2.649,2,    0.003,2,    0.002,2, -999.000,9, -999.000,9, -999.000,9
           NA,    P10N,    107,   1,-999.0,     -99,  2,20050604,1743,  34.2400,  149.1738,  6170, 3500.700,    1.546,   34.671,2,   34.671,2,  106.400,1,  134.980,2,  153.940,2,   37.250,2,    0.010,2,    2.613,2,   -0.004,2,    0.002,2, -999.000,9, -999.000,9, -999.000,9
           NA,    P10N,    107,   1,-999.0,     -99,  2,20050604,1743,  34.2400,  149.1738,  6170, 3751.900,    1.522,   34.676,2,   34.676,2,  110.370,1,  140.500,2,  153.060,2,   36.950,2,    0.010,2,    2.589,2,   -0.004,2,    0.003,2, -999.000,9, -999.000,9, -999.000,9
           NA,    P10N,    107,   1,-999.0,     -99,  2,20050604,1743,  34.2400,  149.1738,  6170, 3999.700,    1.502,   34.681,2,   34.681,2,  114.650,1,  146.240,2,  151.070,2,   36.460,2,    0.010,2,    2.558,2,   -0.001,2,    0.000,2, -999.000,9, -999.000,9, -999.000,9
           NA,    P10N,    107,   1,-999.0,     -99,  2,20050604,1743,  34.2400,  149.1738,  6170, 4249.500,    1.492,   34.684,2,   34.685,2,  117.900,1,  150.880,2,  150.060,2,   36.240,2,    0.010,2,    2.534,2,   -0.002,2,    0.001,2, -999.000,9, -999.000,9, -999.000,9
           NA,    P10N,    107,   1,-999.0,     -99,  2,20050604,1743,  34.2400,  149.1738,  6170, 4498.900,    1.493,   34.687,2,   34.687,6,  120.740,1,  154.570,2,  148.470,2,   35.970,2,    0.010,2,    2.513,2,   -0.005,2,   -0.002,2, -999.000,9, -999.000,9, -999.000,9
           NA,    P10N,    107,   1,-999.0,     -99,  2,20050604,1743,  34.2400,  149.1738,  6170, 4749.700,    1.503,   34.689,2,   34.689,2,  122.740,1,  157.240,2,  147.430,2,   35.790,2,    0.010,2,    2.499,2,    0.007,2,    0.002,2, -999.000,9, -999.000,9, -999.000,9
           NA,    P10N,    107,   1,-999.0,     -99,  2,20050604,1743,  34.2400,  149.1738,  6170, 4998.700,    1.515,   34.691,2,   34.690,2,  125.220,1,  160.080,6,  145.700,2,   35.560,2,    0.010,2,    2.485,2,   -0.002,2,    0.000,2, -999.000,9, -999.000,9, -999.000,9
           NA,    P10N,    107,   1,-999.0,     -99,  2,20050604,1743,  34.2400,  149.1738,  6170, 5250.000,    1.535,   34.692,2,   34.693,2,  127.080,1,  162.000,2,  144.470,2,   35.410,2,    0.010,2,    2.473,2,   -0.001,2,   -0.001,2, -999.000,9, -999.000,9, -999.000,9
           NA,    P10N,    107,   1,-999.0,     -99,  2,20050604,1743,  34.2400,  149.1738,  6170, 5502.000,    1.557,   34.693,2,   34.693,2,  129.060,1,  163.740,2,  143.360,2,   35.340,2,    0.010,2,    2.468,2,    0.000,2,    0.000,2, -999.000,9, -999.000,9, -999.000,9
           NA,    P10N,    107,   1,-999.0,     -99,  2,20050604,1743,  34.2400,  149.1738,  6170, 5751.500,    1.583,   34.694,2,   34.694,2,  130.940,1,  165.150,2,  142.290,2,   35.220,2,    0.010,2,    2.457,2,   -0.001,2,   -0.002,2, -999.000,9, -999.000,9, -999.000,9
           NA,    P10N,    107,   1,-999.0,     -99,  2,20050604,1743,  34.2400,  149.1738,  6170, 6284.200,    1.643,   34.695,2,   34.695,6,  135.060,1,  167.820,2,  139.660,2,   34.970,2,    0.010,2,    2.441,2,    0.006,2,    0.002,2, -999.000,9, -999.000,9, -999.000,9
           NA,    P10N,    108,   1,-999.0,     -99,  2,20050604,1102,  34.4885,  149.0283,  6163,    9.500,   21.260,   34.689,2,   34.691,2,  194.830,1,  223.130,6,    1.650,2,    0.030,2,    0.000,2,    0.057,2,    2.060,2,    1.152,2, -999.000,9, 1973.500,2, 2291.000,2
           NA,    P10N,    108,   1,-999.0,     -99,  2,20050604,1102,  34.4885,  149.0283,  6163,   49.500,   20.110,   34.843,2,   34.843,2,  195.350,1,  224.550,2,    1.660,2,    0.080,2,    0.060,2,    0.070,2,    2.159,2,    1.212,2, -999.000,9, 1989.200,6, 2299.400,2
           NA,    P10N,    108,   1,-999.0,     -99,  2,20050604,1102,  34.4885,  149.0283,  6163,  100.600,   19.317,   34.865,2,   34.867,2,  183.390,1,  211.190,2,    2.680,2,    2.070,2,    0.030,2,    0.179,2,    2.221,2,    1.241,2, -999.000,9, 2006.700,2, 2296.500,6
           NA,    P10N,    108,   1,-999.0,     -99,  2,20050604,1102,  34.4885,  149.0283,  6163,  149.200,   18.347,   34.849,2,   34.852,2,  195.240,1,  225.040,2,    2.380,2,    1.250,2,    0.110,2,    0.144,2,    2.353,2,    1.308,2, -999.000,9, 2005.500,2, 2295.700,2
           NA,    P10N,    108,   1,-999.0,     -99,  2,20050604,1102,  34.4885,  149.0283,  6163,  200.100,   17.799,   34.827,2,   34.828,2,  192.890,1,  223.260,2,    2.900,2,    2.410,2,    0.020,2,    0.197,2,    2.383,2,    1.320,2, -999.000,9, 2011.800,2, 2293.800,2
           NA,    P10N,    108,   1,-999.0,     -99,  2,20050604,1102,  34.4885,  149.0283,  6163,  249.000,   17.591,   34.830,2,   34.829,2,  191.510,1,  221.920,2,    3.160,2,    2.850,2,    0.010,2,    0.225,2,    2.384,6,    1.324,6, -999.000,9, 2014.200,2, 2293.800,2
           NA,    P10N,    108,   1,-999.0,     -99,  2,20050604,1102,  34.4885,  149.0283,  6163,  299.600,   17.367,   34.810,2,   34.810,2,  193.370,1,  224.070,2,    3.280,2,    3.010,2,    0.010,2,    0.232,2,    2.410,2,    1.328,2, -999.000,9, 2015.000,2, 2297.000,2
           NA,    P10N,    108,   1,-999.0,     -99,  2,20050604,1102,  34.4885,  149.0283,  6163,  499.500,   14.443,   34.559,2,   34.546,6,  157.810,1,  184.320,2,   13.440,2,   11.390,2,    0.010,2,    0.813,2,    2.560,2,    1.327,2, -999.000,9, 2077.000,2, 2283.400,2
           NA,    P10N,    108,   1,-999.0,     -99,  2,20050604,1102,  34.4885,  149.0283,  6163,  599.700,   11.585,   34.367,2,   34.364,2,  146.560,1,  171.980,2,   24.840,2,   16.950,2,    0.010,2,    1.229,2,    2.449,2,    1.218,2, -999.000,9, 2122.100,2, 2286.600,2
           NA,    P10N,    108,   1,-999.0,     -99,  2,20050604,1102,  34.4885,  149.0283,  6163,  700.200,    7.070,   33.897,2,   33.890,2,  182.860,1, -999.000,3,   35.630,2,   19.900,2,    0.010,2,    1.521,2,    3.498,2,    1.729,2, -999.000,9, 2145.200,2, 2280.100,2
           NA,    P10N,    108,   1,-999.0,     -99,  2,20050604,1102,  34.4885,  149.0283,  6163,  799.600,    5.336,   33.868,2,   33.868,2,  143.550,1,  171.130,2,   58.970,2,   28.520,2,    0.010,2,    2.139,2,    2.985,6,    1.429,6, -999.000,9, 2207.300,2, 2290.600,6
           NA,    P10N,    108,   1,-999.0,     -99,  2,20050604,1102,  34.4885,  149.0283,  6163,  901.000,    4.380,   33.959,2,   33.954,2,   92.980,1,  111.180,2,   82.980,2,   35.350,2,    0.000,2,    2.611,2,    2.155,2,    1.016,2, -999.000,9, 2267.600,2, 2312.300,2
           NA,    P10N,    108,   1,-999.0,     -99,  2,20050604,1102,  34.4885,  149.0283,  6163, 1000.400,    4.356,   34.125,2,   34.123,6,   63.130,1,   75.300,2,   97.120,2,   38.210,2,    0.000,2,    2.779,2,    1.187,2,    0.533,2, -999.000,9, 2300.900,2, 2329.800,2
           NA,    P10N,    108,   1,-999.0,     -99,  2,20050604,1102,  34.4885,  149.0283,  6163, 1200.100,    3.679,   34.317,2,   34.317,2,   42.690,1,   49.470,6,  121.760,2,   40.990,2,    0.000,2,    2.959,2,    0.326,2,    0.141,2, -999.000,9, 2341.200,2, 2361.600,2
           NA,    P10N,    108,   1,-999.0,     -99,  2,20050604,1102,  34.4885,  149.0283,  6163, 1400.600,    3.018,   34.404,2,   34.404,2,   35.220,1,   40.320,2,  140.340,2,   42.490,2,    0.000,2,    3.060,2,    0.123,2,    0.046,2, -999.000,9, 2362.600,2, 2382.200,2
           NA,    P10N,    108,   1,-999.0,     -99,  2,20050604,1102,  34.4885,  149.0283,  6163, 1599.700,    2.693,   34.467,2,   34.467,2,   36.500,1,   41.920,2,  149.260,2,   42.770,2,    0.000,2,    3.069,2,    0.034,2,    0.016,2, -999.000,9, 2374.500,2, 2397.300,2
           NA,    P10N,    108,   1,-999.0,     -99,  2,20050604,1102,  34.4885,  149.0283,  6163, 1800.700,    2.351,   34.527,2,   34.527,2,   43.320,1,   50.940,2,  157.720,2,   42.470,2,    0.000,2,    3.027,2,    0.012,2,    0.000,2, -999.000,9, 2379.500,2, 2409.000,2
           NA,    P10N,    108,   1,-999.0,     -99,  2,20050604,1102,  34.4885,  149.0283,  6163, 1999.300,    2.160,   34.561,2,   34.562,2,   51.990,1,   61.860,2,  160.500,2,   41.800,2,    0.000,2,    2.980,2,   -0.001,2,    0.000,2, -999.000,9, 2377.200,2, 2416.700,2
           NA,    P10N,    108,   1,-999.0,     -99,  2,20050604,1102,  34.4885,  149.0283,  6163, 2201.800,    1.980,   34.593,2,   34.594,6,   61.470,1,   74.350,2,  162.600,2,   41.150,2,    0.000,2,    2.924,2,    0.001,2,    0.000,2, -999.000,9, 2372.600,2, 2416.800,2
           NA,    P10N,    108,   1,-999.0,     -99,  2,20050604,1102,  34.4885,  149.0283,  6163, 2401.200,    1.870,   34.613,2,   34.613,2,   70.790,1,   86.590,2,  162.050,2,   40.410,2,    0.000,2,    2.862,2, -999.000,9, -999.000,9, -999.000,9, 2365.800,6, 2417.600,2
           NA,    P10N,    108,   1,-999.0,     -99,  2,20050604,1102,  34.4885,  149.0283,  6163, 2600.100,    1.778,   34.630,2,   34.630,2,   79.550,1,   98.440,2,  160.700,2,   39.680,2,    0.000,2,    2.804,2, -999.000,9, -999.000,9, -999.000,9, 2361.500,2, 2421.100,6
           NA,    P10N,    108,   1,-999.0,     -99,  2,20050604,1102,  34.4885,  149.0283,  6163, 2800.100,    1.696,   34.643,2,   34.644,2,   87.370,1,  108.870,2,  159.660,2,   38.950,2,    0.000,2,    2.750,2, -999.000,9, -999.000,9, -999.000,9, 2353.700,2, 2422.700,2
           NA,    P10N,    108,   1,-999.0,     -99,  2,20050604,1102,  34.4885,  149.0283,  6163, 3000.500,    1.630,   34.655,2,   34.656,2,   95.520,1,  120.110,6,  157.180,2,   38.300,2,    0.000,2,    2.698,2, -999.000,9, -999.000,9, -999.000,9, 2346.400,2, 2422.400,2
           NA,    P10N,    108,   1,-999.0,     -99,  2,20050604,1102,  34.4885,  149.0283,  6163, 3250.300,    1.588,   34.663,2,   34.663,6,  100.820,1,  127.410,2,  155.680,2,   37.680,2,    0.000,2,    2.648,2, -999.000,9, -999.000,9, -999.000,9, 2340.800,2, 2422.500,2
           NA,    P10N,    108,   1,-999.0,     -99,  2,20050604,1102,  34.4885,  149.0283,  6163, 3501.000,    1.552,   34.670,2,   34.670,2,  106.250,1,  134.970,2,  153.770,2,   37.170,2,    0.000,2,    2.612,2, -999.000,9, -999.000,9, -999.000,9, 2337.200,2, 2426.500,2
           NA,    P10N,    108,   1,-999.0,     -99,  2,20050604,1102,  34.4885,  149.0283,  6163, 3751.200,    1.535,   34.675,2,   34.675,2,  109.600,1,  139.810,2,  152.770,2,   36.920,2,    0.000,2,    2.593,2, -999.000,9, -999.000,9, -999.000,9, 2334.700,2, 2426.800,2
           NA,    P10N,    108,   1,-999.0,     -99,  2,20050604,1102,  34.4885,  149.0283,  6163, 4000.700,    1.515,   34.680,2,   34.680,2,  113.490,1,  144.970,2,  151.630,2,   36.570,2,    0.000,2,    2.564,2, -999.000,9, -999.000,9, -999.000,9, 2328.200,2, 2423.300,2
           NA,    P10N,    108,   1,-999.0,     -99,  2,20050604,1102,  34.4885,  149.0283,  6163, 4252.500,    1.507,   34.683,2,   34.683,2,  116.450,1,  148.960,2,  150.360,2,   36.300,2,    0.000,2,    2.533,2, -999.000,9, -999.000,9, -999.000,9, 2327.100,6, 2424.900,2
           NA,    P10N,    108,   1,-999.0,     -99,  2,20050604,1102,  34.4885,  149.0283,  6163, 4500.900,    1.504,   34.686,2,   34.687,6,  119.720,1,  153.370,2,  148.870,2,   36.000,2,    0.000,2,    2.515,2, -999.000,9, -999.000,9, -999.000,9, 2324.500,2, 2424.200,6
           NA,    P10N,    108,   1,-999.0,     -99,  2,20050604,1102,  34.4885,  149.0283,  6163, 4751.700,    1.510,   34.688,2,   34.689,2,  122.250,1,  156.430,2,  147.830,2,   35.810,2,    0.000,2,    2.500,2, -999.000,9, -999.000,9, -999.000,9, 2317.800,2, 2423.400,2
           NA,    P10N,    108,   1,-999.0,     -99,  2,20050604,1102,  34.4885,  149.0283,  6163, 4999.600,    1.525,   34.690,2,   34.690,2,  124.190,1,  158.550,6,  146.810,2,   35.670,2,    0.000,2,    2.489,2, -999.000,9, -999.000,9, -999.000,9, 2318.100,2, 2421.200,2
           NA,    P10N,    108,   1,-999.0,     -99,  2,20050604,1102,  34.4885,  149.0283,  6163, 5250.900,    1.539,   34.691,2,   34.692,2,  126.890,1,  161.430,2,  144.620,2,   35.470,2,    0.000,2,    2.474,2, -999.000,9, -999.000,9, -999.000,9, 2316.500,2, -999.000,3
           NA,    P10N,    108,   1,-999.0,     -99,  2,20050604,1102,  34.4885,  149.0283,  6163, 5498.800,    1.558,   34.693,2,   34.693,2,  129.330,1,  163.680,2,  143.130,2,   35.300,2,    0.000,2,    2.461,2, -999.000,9, -999.000,9, -999.000,9, 2314.200,2, 2420.400,2
           NA,    P10N,    108,   1,-999.0,     -99,  2,20050604,1102,  34.4885,  149.0283,  6163, 5751.100,    1.582,   34.694,2,   34.694,2,  131.380,1,  165.270,2,  141.790,2,   35.200,2,    0.000,2,    2.455,2, -999.000,9, -999.000,9, -999.000,9, 2308.900,2, 2416.900,2
           NA,    P10N,    108,   1,-999.0,     -99,  2,20050604,1102,  34.4885,  149.0283,  6163, 6270.000,    1.638,   34.695,2,   34.696,6,  135.740,1,  168.320,2,  139.250,2,   34.950,2,    0.000,2,    2.435,2, -999.000,9, -999.000,9, -999.000,9, 2311.700,2, 2414.000,2