BOTTLE,20214413JOAExport
EXPOCODE,SECT_ID,STNNBR,CASTNO,SAMPNO,BTLNBR,BTLNBR_FLAG_W,DATE,TIME,LATITUDE,LONGITUDE,DEPTH,CTDPRS,CTDTMP,CTDSAL,CTDSAL_FLAG_W,SALNTY,SALNTY_FLAG_W,CTDOXY,CTDOXY_FLAG_W,OXYGEN,OXYGEN_FLAG_W,SILCAT,SILCAT_FLAG_W,NITRAT,NITRAT_FLAG_W,NITRIT,NITRIT_FLAG_W,PHSPHT,PHSPHT_FLAG_W,CFC-11,CFC-11_FLAG_W,CFC-12,CFC-12_FLAG_W,SF6,SF6_FLAG_W,TCARBN,TCARBN_FLAG_W,ALKALI,ALKALI_FLAG_W
,,,,,,,,,,,,,DB,ITS-90,PSS-78,,PSS-78,,UMOL/KG,,UMOL/KG,,UMOL/KG,,UMOL/KG,,UMOL/KG,,UMOL/KG,,PMOL/KG,,PMOL/KG,,FMOL/KG,,UMOL/KG,,UMOL/KG
           NA,     P10,     48,   1,-999.0,     -99,  2,20050617,0923,  11.8418,  149.3172,  5820,   10.400,   29.008,   34.332,2,   34.331,2,  172.590,1,  196.890,6,    0.990,2,    0.040,2,    0.000,2,    0.082,2,    1.475,2,    0.863,2, -999.000,9, -999.000,9, -999.000,9
           NA,     P10,     48,   1,-999.0,     -99,  2,20050617,0923,  11.8418,  149.3172,  5820,   49.600,   28.914,   34.341,2,   34.337,2,  172.930,1,  197.460,2,    0.960,2,    0.020,2,    0.000,2,    0.073,2,    1.486,2,    0.877,2, -999.000,9, -999.000,9, -999.000,9
           NA,     P10,     48,   1,-999.0,     -99,  2,20050617,0923,  11.8418,  149.3172,  5820,   99.800,   27.104,   34.595,2,   34.636,2,  178.630,1,  204.080,2,    0.820,2,    0.020,2,    0.000,2,    0.099,2,    1.605,2,    0.927,2, -999.000,9, -999.000,9, -999.000,9
           NA,     P10,     48,   1,-999.0,     -99,  2,20050617,0923,  11.8418,  149.3172,  5820,  149.800,   24.211,   35.076,2,   35.067,2,  168.280,1,  187.970,2,    1.490,2,    0.550,2,    0.090,2,    0.207,2,    1.967,2,    1.143,2, -999.000,9, -999.000,9, -999.000,9
           NA,     P10,     48,   1,-999.0,     -99,  2,20050617,0923,  11.8418,  149.3172,  5820,  198.900,   18.258,   34.830,2,   34.819,2,  144.480,1,  167.090,2,    4.880,2,    6.460,2,    0.020,2,    0.591,2,    2.409,2,    1.301,2, -999.000,9, -999.000,9, -999.000,9
           NA,     P10,     48,   1,-999.0,     -99,  2,20050617,0923,  11.8418,  149.3172,  5820,  251.300,   13.672,   34.463,2,   34.475,2,  139.110,1,  158.330,2,   12.250,2,   13.500,2,    0.010,2,    1.048,2,    2.569,6,    1.295,6, -999.000,9, -999.000,9, -999.000,9
           NA,     P10,     48,   1,-999.0,     -99,  2,20050617,0923,  11.8418,  149.3172,  5820,  298.700,   11.004,   34.358,2,   34.361,2,   97.050,1,  108.380,2,   26.110,2,   23.830,2,    0.000,2,    1.797,2,    1.743,2,    0.838,2, -999.000,9, -999.000,9, -999.000,9
           NA,     P10,     48,   1,-999.0,     -99,  2,20050617,0923,  11.8418,  149.3172,  5820,  399.000,    8.779,   34.478,2,   34.485,2,   47.010,1,   52.450,2,   42.100,2,   33.600,2,    0.000,2,    2.473,2,    0.381,2,    0.218,2, -999.000,9, -999.000,9, -999.000,9
           NA,     P10,     48,   1,-999.0,     -99,  2,20050617,0923,  11.8418,  149.3172,  5820,  500.700,    7.478,   34.518,2,   34.516,6,   42.870,1,   49.190,2,   52.850,2,   36.660,2,    0.000,2,    2.684,2,    0.113,2,    0.049,2, -999.000,9, -999.000,9, -999.000,9
           NA,     P10,     48,   1,-999.0,     -99,  2,20050617,0923,  11.8418,  149.3172,  5820,  598.900,    6.686,   34.518,2,   34.517,2,   42.730,1,   48.020,2,   61.440,2,   38.410,2,    0.000,2,    2.815,2,    0.047,2,    0.020,2, -999.000,9, -999.000,9, -999.000,9
           NA,     P10,     48,   1,-999.0,     -99,  2,20050617,0923,  11.8418,  149.3172,  5820,  699.400,    6.117,   34.517,2,   34.516,2,   42.540,1,   49.130,2,   69.090,2,   39.380,2,    0.000,2,    2.887,2,    0.031,2,    0.011,2, -999.000,9, -999.000,9, -999.000,9
           NA,     P10,     48,   1,-999.0,     -99,  2,20050617,0923,  11.8418,  149.3172,  5820,  800.500,    5.582,   34.519,2,   34.518,2,   48.460,1,   56.080,2,   76.500,2,   39.690,2,    0.000,2,    2.894,2,    0.025,6,    0.010,6, -999.000,9, -999.000,9, -999.000,9
           NA,     P10,     48,   1,-999.0,     -99,  2,20050617,0923,  11.8418,  149.3172,  5820,  901.000,    5.011,   34.534,2,   34.534,2,   49.000,1,   56.860,2,   85.790,2,   40.590,2,    0.000,2,    2.946,2,    0.008,2,    0.008,2, -999.000,9, -999.000,9, -999.000,9
           NA,     P10,     48,   1,-999.0,     -99,  2,20050617,0923,  11.8418,  149.3172,  5820, 1000.300,    4.519,   34.547,2,   34.546,6,   51.860,1,   60.920,2,   94.970,2,   40.910,2,    0.000,2,    2.970,2,    0.000,2,    0.004,2, -999.000,9, -999.000,9, -999.000,9
           NA,     P10,     48,   1,-999.0,     -99,  2,20050617,0923,  11.8418,  149.3172,  5820, 1200.200,    3.771,   34.568,2,   34.567,2,   59.070,1,   70.270,6,  110.540,2,   40.840,2,    0.000,2,    2.962,2,   -0.002,2,    0.000,2, -999.000,9, -999.000,9, -999.000,9
           NA,     P10,     48,   1,-999.0,     -99,  2,20050617,0923,  11.8418,  149.3172,  5820, 1401.400,    3.138,   34.587,2,   34.587,2,   68.340,1,   82.190,2,  123.780,2,   40.320,2,    0.000,2,    2.903,2,    0.000,2,    0.000,2, -999.000,9, -999.000,9, -999.000,9
           NA,     P10,     48,   1,-999.0,     -99,  2,20050617,0923,  11.8418,  149.3172,  5820, 1602.400,    2.780,   34.590,2,   34.590,2,   75.040,1,   91.150,2,  131.780,2,   39.630,2,    0.000,2,    2.840,2,    0.000,2,    0.000,2, -999.000,9, -999.000,9, -999.000,9
           NA,     P10,     48,   1,-999.0,     -99,  2,20050617,0923,  11.8418,  149.3172,  5820, 1802.000,    2.525,   34.612,2,   34.612,2,   80.090,1,   98.000,2,  135.960,2,   39.390,2,    0.000,2,    2.817,2,    0.001,2,    0.000,2, -999.000,9, -999.000,9, -999.000,9
           NA,     P10,     48,   1,-999.0,     -99,  2,20050617,0923,  11.8418,  149.3172,  5820, 2002.800,    2.267,   34.627,2,   34.627,2,   86.220,1,  106.530,2,  140.210,2,   38.920,2,    0.000,2,    2.777,2,    0.001,2,    0.001,2, -999.000,9, -999.000,9, -999.000,9
           NA,     P10,     48,   1,-999.0,     -99,  2,20050617,0923,  11.8418,  149.3172,  5820, 2200.300,    2.071,   34.639,2,   34.640,6,   90.350,1,  112.200,2,  144.000,2,   38.690,2,    0.000,2,    2.750,2,    0.001,2,    0.000,2, -999.000,9, -999.000,9, -999.000,9
           NA,     P10,     48,   1,-999.0,     -99,  2,20050617,0923,  11.8418,  149.3172,  5820, 2402.300,    1.921,   34.651,2,   34.651,2,   95.940,1,  119.740,2,  145.490,2,   38.210,2,    0.000,2,    2.712,2,   -0.006,2,    0.000,2, -999.000,9, -999.000,9, -999.000,9
           NA,     P10,     48,   1,-999.0,     -99,  2,20050617,0923,  11.8418,  149.3172,  5820, 2601.100,    1.803,   34.659,2,   34.659,2,   99.430,1,  125.290,2,  146.990,2,   37.860,2,    0.000,2,    2.681,2,    0.001,2,    0.004,2, -999.000,9, -999.000,9, -999.000,9
           NA,     P10,     48,   1,-999.0,     -99,  2,20050617,0923,  11.8418,  149.3172,  5820, 2800.000,    1.720,   34.665,2,   34.664,2,  102.510,1,  129.600,2,  147.950,2,   37.630,2,    0.000,2,    2.654,2,   -0.003,2,    0.000,2, -999.000,9, -999.000,9, -999.000,9
           NA,     P10,     48,   1,-999.0,     -99,  2,20050617,0923,  11.8418,  149.3172,  5820, 3001.200,    1.655,   34.670,2,   34.670,2,  105.190,1,  133.560,6,  148.580,2,   37.320,2,    0.000,2,    2.634,2,    0.000,2,    0.000,2, -999.000,9, -999.000,9, -999.000,9
           NA,     P10,     48,   1,-999.0,     -99,  2,20050617,0923,  11.8418,  149.3172,  5820, 3250.900,    1.567,   34.677,2,   34.677,6,  110.460,1,  141.020,2,  148.140,2,   36.890,2,    0.000,2,    2.591,2,    0.002,2,    0.003,2, -999.000,9, -999.000,9, -999.000,9
           NA,     P10,     48,   1,-999.0,     -99,  2,20050617,0923,  11.8418,  149.3172,  5820, 3502.100,    1.524,   34.681,2,   34.681,2,  114.560,1,  146.970,2,  146.290,2,   36.510,2,    0.000,2,    2.557,2,    0.000,2,    0.000,2, -999.000,9, -999.000,9, -999.000,9
           NA,     P10,     48,   1,-999.0,     -99,  2,20050617,0923,  11.8418,  149.3172,  5820, 3753.200,    1.501,   34.684,2,   34.684,2,  117.910,1,  151.810,2,  144.410,2,   36.160,2,    0.000,2,    2.534,2,    0.002,2,    0.002,2, -999.000,9, -999.000,9, -999.000,9
           NA,     P10,     48,   1,-999.0,     -99,  2,20050617,0923,  11.8418,  149.3172,  5820, 4000.900,    1.492,   34.687,2,   34.686,2,  120.560,1,  155.160,2,  143.030,2,   35.850,2,    0.000,2,    2.516,2,   -0.003,2,    0.000,2, -999.000,9, -999.000,9, -999.000,9
           NA,     P10,     48,   1,-999.0,     -99,  2,20050617,0923,  11.8418,  149.3172,  5820, 4251.400,    1.463,   34.691,2,   34.690,2,  125.470,1,  162.090,2,  139.680,2,   35.370,2,    0.000,2,    2.482,2,   -0.004,2,    0.000,2, -999.000,9, -999.000,9, -999.000,9
           NA,     P10,     48,   1,-999.0,     -99,  2,20050617,0923,  11.8418,  149.3172,  5820, 4503.000,    1.449,   34.694,2,   34.693,6,  129.520,1,  167.420,2,  136.910,2,   34.990,2,    0.000,2,    2.454,2,   -0.001,2,    0.000,2, -999.000,9, -999.000,9, -999.000,9
           NA,     P10,     48,   1,-999.0,     -99,  2,20050617,0923,  11.8418,  149.3172,  5820, 4750.600,    1.457,   34.695,2,   34.695,2,  131.790,1,  170.230,2,  135.590,2,   34.820,2,    0.000,2,    2.437,2,    0.000,2,    0.000,2, -999.000,9, -999.000,9, -999.000,9
           NA,     P10,     48,   1,-999.0,     -99,  2,20050617,0923,  11.8418,  149.3172,  5820, 5001.200,    1.459,   34.697,2,   34.697,2,  134.680,1,  173.570,6,  133.760,2,   34.550,2,    0.000,2,    2.414,2,    0.001,2,    0.002,2, -999.000,9, -999.000,9, -999.000,9
           NA,     P10,     48,   1,-999.0,     -99,  2,20050617,0923,  11.8418,  149.3172,  5820, 5249.600,    1.476,   34.698,2,   34.698,2,  136.770,1,  175.290,2,  132.730,2,   34.420,2,    0.000,2,    2.407,2,   -0.003,2,    0.000,2, -999.000,9, -999.000,9, -999.000,9
           NA,     P10,     48,   1,-999.0,     -99,  2,20050617,0923,  11.8418,  149.3172,  5820, 5499.600,    1.503,   34.699,2,   34.699,2,  138.110,1,  176.180,2,  132.540,2,   34.400,2,    0.000,2,    2.405,2,    0.006,2,    0.001,2, -999.000,9, -999.000,9, -999.000,9
           NA,     P10,     48,   1,-999.0,     -99,  2,20050617,0923,  11.8418,  149.3172,  5820, 5749.500,    1.533,   34.699,2, -999.000,3,  139.370,1,  176.330,2,  132.440,2,   34.350,2,    0.000,2,    2.406,2,    0.000,2,    0.000,2, -999.000,9, -999.000,9, -999.000,9
           NA,     P10,     48,   1,-999.0,     -99,  2,20050617,0923,  11.8418,  149.3172,  5820, 5908.200,    1.554,   34.699,2,   34.699,6,  140.420,1,  176.510,2,  132.420,2,   34.360,2,    0.000,2,    2.408,2,    0.007,2,    0.000,2, -999.000,9, -999.000,9, -999.000,9