BOTTLE,20214413JOAExport
EXPOCODE,SECT_ID,STNNBR,CASTNO,SAMPNO,BTLNBR,BTLNBR_FLAG_W,DATE,TIME,LATITUDE,LONGITUDE,DEPTH,CTDPRS,CTDTMP,CTDSAL,CTDSAL_FLAG_W,SALNTY,SALNTY_FLAG_W,CTDOXY,CTDOXY_FLAG_W,OXYGEN,OXYGEN_FLAG_W,SILCAT,SILCAT_FLAG_W,NITRAT,NITRAT_FLAG_W,NITRIT,NITRIT_FLAG_W,PHSPHT,PHSPHT_FLAG_W,CFC-11,CFC-11_FLAG_W,CFC-12,CFC-12_FLAG_W,SF6,SF6_FLAG_W,TCARBN,TCARBN_FLAG_W,ALKALI,ALKALI_FLAG_W
,,,,,,,,,,,,,DB,ITS-90,PSS-78,,PSS-78,,UMOL/KG,,UMOL/KG,,UMOL/KG,,UMOL/KG,,UMOL/KG,,UMOL/KG,,PMOL/KG,,PMOL/KG,,FMOL/KG,,UMOL/KG,,UMOL/KG
           NA,    P10N,    110,   1,-999.0,     -99,  2,20050603,2337,  34.9827,  148.7332,  6104,    9.200,   21.419,   34.624,2,   34.624,2,  195.050,1,  222.460,6,    1.520,2,    0.010,2,    0.000,2,    0.051,2,    2.057,2,    1.185,2, -999.000,9, 1968.400,2, 2283.400,2
           NA,    P10N,    110,   1,-999.0,     -99,  2,20050603,2337,  34.9827,  148.7332,  6104,   49.700,   21.217,   34.724,2,   34.724,2,  194.330,1,  221.910,2,    1.490,2,    0.000,2,    0.010,2,    0.052,2,    2.066,2,    1.196,2, -999.000,9, 1975.600,6, 2288.800,2
           NA,    P10N,    110,   1,-999.0,     -99,  2,20050603,2337,  34.9827,  148.7332,  6104,   99.500,   20.326,   34.801,2,   34.800,2,  178.990,1,  204.680,2,    2.690,2,    2.130,2,    0.070,2,    0.187,2,    2.143,2,    1.232,2, -999.000,9, 2001.300,2, 2295.600,6
           NA,    P10N,    110,   1,-999.0,     -99,  2,20050603,2337,  34.9827,  148.7332,  6104,  150.100,   19.301,   34.876,2,   34.875,2,  187.420,1,  215.230,2,    2.220,2,    1.670,2,    0.030,2,    0.145,2,    2.243,2,    1.275,2, -999.000,9, 2003.200,2, 2295.700,2
           NA,    P10N,    110,   1,-999.0,     -99,  2,20050603,2337,  34.9827,  148.7332,  6104,  198.400,   18.587,   34.866,2,   34.864,2,  201.450,1,  231.600,2,    1.820,2,    0.240,2,    0.140,2,    0.078,2,    2.358,2,    1.328,2, -999.000,9, 2000.600,2, 2299.100,2
           NA,    P10N,    110,   1,-999.0,     -99,  2,20050603,2337,  34.9827,  148.7332,  6104,  249.600,   17.852,   34.836,2,   34.831,2,  186.710,1,  215.150,2,    3.360,2,    3.120,2,    0.020,2,    0.240,2,    2.396,2,    1.335,2, -999.000,9, 2016.700,2, 2295.700,2
           NA,    P10N,    110,   1,-999.0,     -99,  2,20050603,2337,  34.9827,  148.7332,  6104,  298.800,   17.423,   34.798,2,   34.798,2,  183.850,1,  212.460,2,    3.890,2,    3.980,2,    0.020,2,    0.292,2,    2.431,2,    1.349,2, -999.000,9, 2023.500,2, 2294.200,2
           NA,    P10N,    110,   1,-999.0,     -99,  2,20050603,2337,  34.9827,  148.7332,  6104,  400.500,   16.057,   34.684,2,   34.681,2,  171.040,1,  197.880,2,    7.260,2,    7.440,2,    0.010,2,    0.522,2,    2.565,2,    1.381,2, -999.000,9, 2048.300,2, 2293.200,2
           NA,    P10N,    110,   1,-999.0,     -99,  2,20050603,2337,  34.9827,  148.7332,  6104,  499.700,   13.819,   34.515,2,   34.510,6,  155.150,1,  180.290,2,   15.760,2,   12.610,2,    0.010,2,    0.902,2, -999.000,5, -999.000,5, -999.000,9, 2089.000,2, 2288.400,2
           NA,    P10N,    110,   1,-999.0,     -99,  2,20050603,2337,  34.9827,  148.7332,  6104,  601.100,   10.677,   34.321,2,   34.320,2,  138.540,1,  162.650,2,   30.050,2,   19.390,2,    0.010,2,    1.397,2,    2.346,2,    1.166,2, -999.000,9, 2140.600,2, 2287.300,2
           NA,    P10N,    110,   1,-999.0,     -99,  2,20050603,2337,  34.9827,  148.7332,  6104,  699.100,    8.769,   34.251,2,   34.257,2,  118.180,1,  136.870,2,   46.790,2,   25.080,2,    0.010,2,    1.826,2,    1.837,2,    0.897,2, -999.000,9, 2186.700,6, 2297.000,2
           NA,    P10N,    110,   1,-999.0,     -99,  2,20050603,2337,  34.9827,  148.7332,  6104,  801.500,    5.247,   33.928,2,   33.919,2,  128.850,1,  153.570,2,   64.770,2,   30.230,2,    0.010,2,    2.255,2,    2.676,6,    1.277,6, -999.000,9, 2223.000,2, 2294.300,6
           NA,    P10N,    110,   1,-999.0,     -99,  2,20050603,2337,  34.9827,  148.7332,  6104,  902.200,    5.063,   34.160,2,   34.157,2,   71.660,1,   83.580,2,   87.630,2,   36.260,2,    0.000,2,    2.636,2,    1.075,2,    0.490,2, -999.000,9, 2281.700,2, 2326.100,2
           NA,    P10N,    110,   1,-999.0,     -99,  2,20050603,2337,  34.9827,  148.7332,  6104, 1000.900,    4.266,   34.229,2,   34.230,6,   52.700,1,   61.210,2,  105.810,2,   39.300,2,    0.010,2,    2.843,2,    0.656,2,    0.277,2, -999.000,9, 2316.400,2, 2344.600,2
           NA,    P10N,    110,   1,-999.0,     -99,  2,20050603,2337,  34.9827,  148.7332,  6104, 1200.300,    3.485,   34.342,2,   34.343,2,   41.040,1,   46.960,6,  126.980,2,   41.420,2,    0.000,2,    2.981,2,    0.249,2,    0.111,2, -999.000,9, 2346.700,2, 2370.600,2
           NA,    P10N,    110,   1,-999.0,     -99,  2,20050603,2337,  34.9827,  148.7332,  6104, 1400.400,    2.960,   34.418,2,   34.418,2,   37.840,1,   43.250,2,  141.280,2,   42.330,2,    0.000,2,    3.037,2,    0.114,2,    0.044,2, -999.000,9, 2365.600,2, 2386.100,2
           NA,    P10N,    110,   1,-999.0,     -99,  2,20050603,2337,  34.9827,  148.7332,  6104, 1599.500,    2.622,   34.471,2,   34.472,2,   38.060,1,   43.690,2,  151.240,2,   42.570,2,    0.000,2,    3.054,2,    0.054,2,    0.027,2, -999.000,9, 2372.900,2, -999.000,3
           NA,    P10N,    110,   1,-999.0,     -99,  2,20050603,2337,  34.9827,  148.7332,  6104, 1799.800,    2.360,   34.525,2,   34.525,2,   44.390,1,   51.590,2,  157.180,2,   42.370,2,    0.000,2,    3.019,2,    0.019,2,    0.006,2, -999.000,9, 2378.100,2, 2405.700,2
           NA,    P10N,    110,   1,-999.0,     -99,  2,20050603,2337,  34.9827,  148.7332,  6104, 1999.700,    2.185,   34.557,2,   34.556,2,   50.320,1,   59.180,2,  160.720,2,   41.980,2,    0.000,2,    2.990,2,    0.009,2,    0.000,2, -999.000,9, 2377.600,2, -999.000,3
           NA,    P10N,    110,   1,-999.0,     -99,  2,20050603,2337,  34.9827,  148.7332,  6104, 2199.900,    2.002,   34.590,2,   34.590,6,   60.370,1,   72.280,2,  162.950,2,   41.310,2,    0.000,2,    2.930,2,    0.001,2,    0.000,2, -999.000,9, 2373.400,2, 2414.200,2
           NA,    P10N,    110,   1,-999.0,     -99,  2,20050603,2337,  34.9827,  148.7332,  6104, 2400.900,    1.875,   34.613,2,   34.613,2,   71.060,1,   86.190,2,  162.200,2,   40.520,2,    0.000,2,    2.858,2,    0.000,2,    0.000,2, -999.000,9, 2366.000,6, 2416.700,2
           NA,    P10N,    110,   1,-999.0,     -99,  2,20050603,2337,  34.9827,  148.7332,  6104, 2600.100,    1.790,   34.628,2,   34.628,2,   78.690,1,   96.510,2,  161.260,2,   39.790,2,    0.000,2,    2.809,2,   -0.001,2,    0.000,2, -999.000,9, 2359.500,2, 2418.500,6
           NA,    P10N,    110,   1,-999.0,     -99,  2,20050603,2337,  34.9827,  148.7332,  6104, 2801.200,    1.695,   34.644,2,   34.644,2,   88.030,1,  108.810,2,  160.080,2,   39.050,2,    0.000,2,    2.754,2, -999.000,9, -999.000,9, -999.000,9, 2354.800,2, 2419.400,2
           NA,    P10N,    110,   1,-999.0,     -99,  2,20050603,2337,  34.9827,  148.7332,  6104, 3000.600,    1.645,   34.653,2,   34.653,2,   94.220,1,  117.080,6,  158.310,2,   38.520,2,    0.000,2,    2.709,2, -999.000,9, -999.000,9, -999.000,9, 2349.800,2, 2420.800,2
           NA,    P10N,    110,   1,-999.0,     -99,  2,20050603,2337,  34.9827,  148.7332,  6104, 3252.900,    1.595,   34.662,2,   34.662,6,  100.580,1,  125.760,2,  156.480,2,   37.840,2,    0.000,2,    2.656,2, -999.000,9, -999.000,9, -999.000,9, 2343.700,2, 2422.300,2
           NA,    P10N,    110,   1,-999.0,     -99,  2,20050603,2337,  34.9827,  148.7332,  6104, 3500.400,    1.553,   34.670,2,   34.670,2,  106.300,1,  133.420,2,  154.850,2,   37.400,2,    0.000,2,    2.618,2, -999.000,9, -999.000,9, -999.000,9, 2338.500,2, 2422.200,2
           NA,    P10N,    110,   1,-999.0,     -99,  2,20050603,2337,  34.9827,  148.7332,  6104, 3750.800,    1.522,   34.676,2,   34.675,2,  111.250,1,  140.190,2,  153.490,2,   36.990,2,    0.000,2,    2.583,2, -999.000,9, -999.000,9, -999.000,9, 2335.000,2, 2423.400,2
           NA,    P10N,    110,   1,-999.0,     -99,  2,20050603,2337,  34.9827,  148.7332,  6104, 4000.400,    1.506,   34.680,2,   34.680,2,  115.230,1,  145.400,2,  151.650,2,   36.630,2,    0.000,2,    2.556,2, -999.000,9, -999.000,9, -999.000,9, 2329.600,2, 2422.000,2
           NA,    P10N,    110,   1,-999.0,     -99,  2,20050603,2337,  34.9827,  148.7332,  6104, 4251.100,    1.500,   34.684,2,   34.684,2,  118.270,1,  149.610,2,  150.770,2,   36.330,2,    0.000,2,    2.536,2, -999.000,9, -999.000,9, -999.000,9, 2327.500,6, 2421.800,2
           NA,    P10N,    110,   1,-999.0,     -99,  2,20050603,2337,  34.9827,  148.7332,  6104, 4499.500,    1.499,   34.686,2,   34.687,6,  121.260,1,  153.420,2,  149.480,2,   36.080,2,    0.000,2,    2.517,2, -999.000,9, -999.000,9, -999.000,9, 2324.500,2, 2420.700,6
           NA,    P10N,    110,   1,-999.0,     -99,  2,20050603,2337,  34.9827,  148.7332,  6104, 4749.600,    1.506,   34.689,2,   34.689,2,  123.850,1,  156.470,2,  148.460,2,   35.950,2,    0.000,2,    2.500,2, -999.000,9, -999.000,9, -999.000,9, 2323.100,2, 2418.600,2
           NA,    P10N,    110,   1,-999.0,     -99,  2,20050603,2337,  34.9827,  148.7332,  6104, 5002.000,    1.519,   34.690,2,   34.690,2,  126.040,1,  158.920,6,  147.410,2,   35.780,2,    0.000,2,    2.484,2, -999.000,9, -999.000,9, -999.000,9, 2320.500,2, 2417.700,2
           NA,    P10N,    110,   1,-999.0,     -99,  2,20050603,2337,  34.9827,  148.7332,  6104, 5251.900,    1.536,   34.692,2,   34.692,2,  128.400,1,  161.390,2,  145.550,2,   35.560,2,    0.000,2,    2.472,2, -999.000,9, -999.000,9, -999.000,9, 2316.000,2, 2416.800,2
           NA,    P10N,    110,   1,-999.0,     -99,  2,20050603,2337,  34.9827,  148.7332,  6104, 5500.500,    1.559,   34.693,2,   34.693,2,  130.410,1,  163.040,2,  144.230,2,   35.460,2,    0.000,2,    2.464,2, -999.000,9, -999.000,9, -999.000,9, 2315.900,2, 2417.000,2
           NA,    P10N,    110,   1,-999.0,     -99,  2,20050603,2337,  34.9827,  148.7332,  6104, 5750.700,    1.583,   34.694,2,   34.694,2,  132.410,1,  164.600,2,  143.090,2,   35.350,2,    0.000,2,    2.457,2, -999.000,9, -999.000,9, -999.000,9, 2314.900,2, 2414.400,2
           NA,    P10N,    110,   1,-999.0,     -99,  2,20050603,2337,  34.9827,  148.7332,  6104, 6211.200,    1.633,   34.695,2,   34.695,6,  136.040,1,  167.260,2,  140.580,2,   35.110,2,    0.010,2,    2.441,2, -999.000,9, -999.000,9, -999.000,9, 2311.600,2, 2411.800,2
           NA,    P10N,    111,   1,-999.0,     -99,  2,20050603,1802,  35.2260,  148.5857,  6009,   11.900,   20.851,   34.676,2,   34.677,2,  197.090,1,  225.020,6,    1.480,2,    0.040,2,    0.000,2,    0.047,2,    2.025,2,    1.216,2, -999.000,9, -999.000,9, -999.000,9
           NA,    P10N,    111,   1,-999.0,     -99,  2,20050603,1802,  35.2260,  148.5857,  6009,   50.900,   20.777,   34.780,2,   34.780,2,  197.690,1,  225.890,2,    1.520,2,    0.000,2,    0.000,2,    0.052,2,    2.038,2,    1.220,2, -999.000,9, -999.000,9, -999.000,9
           NA,    P10N,    111,   1,-999.0,     -99,  2,20050603,1802,  35.2260,  148.5857,  6009,   99.300,   19.623,   34.839,2,   34.841,2,  199.320,1, -999.000,5,    1.700,2,    0.140,2,    0.050,2,    0.069,2,    2.130,2,    1.279,2, -999.000,9, -999.000,9, -999.000,9
           NA,    P10N,    111,   1,-999.0,     -99,  2,20050603,1802,  35.2260,  148.5857,  6009,  149.300,   18.694,   34.850,2,   34.852,2,  202.690,1,  232.920,2,    1.620,2,    0.030,2,    0.050,2,    0.071,2,    2.194,2,    1.320,2, -999.000,9, -999.000,9, -999.000,9
           NA,    P10N,    111,   1,-999.0,     -99,  2,20050603,1802,  35.2260,  148.5857,  6009,  200.200,   17.899,   34.828,2,   34.810,2,  196.700,1,  226.260,2,    1.720,2,    0.060,2,    0.040,2,    0.060,2,    2.076,2,    1.241,2, -999.000,9, -999.000,9, -999.000,9
           NA,    P10N,    111,   1,-999.0,     -99,  3,20050603,1802,  35.2260,  148.5857,  6009,  249.800,   17.662,   34.824,2,   34.824,2,  195.780,1,  225.590,2,    3.050,2,    2.490,2,    0.020,2,    0.201,2,    2.251,6,    1.359,6, -999.000,9, -999.000,9, -999.000,9
           NA,    P10N,    111,   1,-999.0,     -99,  2,20050603,1802,  35.2260,  148.5857,  6009,  399.000,   15.852,   34.637,2,   34.635,2,  168.700,1,  194.140,2,    9.950,2,    8.290,2,    0.020,2,    0.611,2,    2.310,2,    1.315,2, -999.000,9, -999.000,9, -999.000,9
           NA,    P10N,    111,   1,-999.0,     -99,  2,20050603,1802,  35.2260,  148.5857,  6009,  501.100,   13.322,   34.487,2,   34.482,6,  151.860,1,  176.040,2,   18.370,2,   13.860,2,    0.010,2,    1.000,2,    2.303,2,    1.249,2, -999.000,9, -999.000,9, -999.000,9
           NA,    P10N,    111,   1,-999.0,     -99,  2,20050603,1802,  35.2260,  148.5857,  6009,  600.200,   10.011,   34.322,2,   34.323,2,  123.910,1,  144.040,2,   38.580,2,   22.220,2,    0.010,2,    1.616,2,    1.852,2,    0.963,2, -999.000,9, -999.000,9, -999.000,9
           NA,    P10N,    111,   1,-999.0,     -99,  2,20050603,1802,  35.2260,  148.5857,  6009,  700.200,    7.911,   34.163,2,   34.168,2,  122.060,1,  141.720,2,   49.670,2,   26.070,2,    0.010,2,    1.910,2,    1.897,2,    0.980,2, -999.000,9, -999.000,9, -999.000,9
           NA,    P10N,    111,   1,-999.0,     -99,  2,20050603,1802,  35.2260,  148.5857,  6009,  801.600,    4.716,   33.899,2,   33.925,2,  119.390,1,  138.090,2,   70.920,2,   32.100,2,    0.010,2,    2.391,2,    2.312,6,    1.200,6, -999.000,9, -999.000,9, -999.000,9
           NA,    P10N,    111,   1,-999.0,     -99,  2,20050603,1802,  35.2260,  148.5857,  6009,  901.100,    3.743,   33.974,2,   33.977,2,   74.060,1,   86.580,2,   94.950,2,   38.070,2,    0.010,2,    2.792,2,    1.797,2,    0.902,2, -999.000,9, -999.000,9, -999.000,9
           NA,    P10N,    111,   1,-999.0,     -99,  2,20050603,1802,  35.2260,  148.5857,  6009, 1002.300,    4.469,   34.274,2,   34.275,6,   58.210,1,   68.030,2,  103.420,2,   38.150,2,    0.010,2,    2.768,2,    0.593,2,    0.282,2, -999.000,9, -999.000,9, -999.000,9
           NA,    P10N,    111,   1,-999.0,     -99,  2,20050603,1802,  35.2260,  148.5857,  6009, 1203.400,    3.425,   34.356,2,   34.357,2,   40.850,1,   46.720,6,  128.380,2,   41.490,2,    0.000,2,    3.000,2,    0.246,2,    0.121,2, -999.000,9, -999.000,9, -999.000,9
           NA,    P10N,    111,   1,-999.0,     -99,  2,20050603,1802,  35.2260,  148.5857,  6009, 1402.500,    2.881,   34.423,2, -999.000,4,   36.590,1,   41.540,2,  143.730,2,   42.300,2,    0.000,2,    3.057,2,    0.134,2,    0.066,2, -999.000,9, -999.000,9, -999.000,9
           NA,    P10N,    111,   1,-999.0,     -99,  2,20050603,1802,  35.2260,  148.5857,  6009, 1601.200,    2.561,   34.487,2,   34.487,2,   38.190,1,   43.650,2,  152.810,2,   42.740,2,    0.000,2,    3.063,2,    0.045,2,    0.018,2, -999.000,9, -999.000,9, -999.000,9
           NA,    P10N,    111,   1,-999.0,     -99,  2,20050603,1802,  35.2260,  148.5857,  6009, 1802.300,    2.338,   34.527,2,   34.527,2,   45.000,1,   52.390,2,  157.480,2,   42.200,2,    0.000,2,    3.029,2,    0.032,2,    0.010,2, -999.000,9, -999.000,9, -999.000,9
           NA,    P10N,    111,   1,-999.0,     -99,  2,20050603,1802,  35.2260,  148.5857,  6009, 2000.500,    2.159,   34.560,2,   34.560,2,   51.770,1,   61.340,2,  161.130,2,   41.840,2,    0.000,2,    2.988,2,    0.009,2,   -0.001,2, -999.000,9, -999.000,9, -999.000,9
           NA,    P10N,    111,   1,-999.0,     -99,  2,20050603,1802,  35.2260,  148.5857,  6009, 2202.100,    2.020,   34.587,2,   34.587,6,   59.420,1,   71.450,2,  162.150,2,   41.140,2,    0.010,2,    2.931,2,    0.000,2,   -0.001,2, -999.000,9, -999.000,9, -999.000,9
           NA,    P10N,    111,   1,-999.0,     -99,  2,20050603,1802,  35.2260,  148.5857,  6009, 2400.800,    1.904,   34.608,2,   34.608,2,   68.370,1,   82.910,2,  162.520,2,   40.600,2,    0.000,2,    2.880,2,    0.001,2,   -0.002,2, -999.000,9, -999.000,9, -999.000,9
           NA,    P10N,    111,   1,-999.0,     -99,  2,20050603,1802,  35.2260,  148.5857,  6009, 2602.300,    1.793,   34.628,2,   34.629,2,   78.720,1,   96.800,2,  160.980,2,   39.640,2,    0.000,2,    2.824,2,   -0.004,2,   -0.005,2, -999.000,9, -999.000,9, -999.000,9
           NA,    P10N,    111,   1,-999.0,     -99,  2,20050603,1802,  35.2260,  148.5857,  6009, 2797.700,    1.720,   34.640,2,   34.640,2,   85.870,1,  106.140,2,  159.710,2,   39.110,2,    0.000,2,    2.769,2,    0.003,2,   -0.004,2, -999.000,9, -999.000,9, -999.000,9
           NA,    P10N,    111,   1,-999.0,     -99,  2,20050603,1802,  35.2260,  148.5857,  6009, 3002.700,    1.663,   34.651,2,   34.651,2,   92.810,1,  115.510,6,  157.500,2,   38.490,2,    0.010,2,    2.721,2,    0.002,2,   -0.001,2, -999.000,9, -999.000,9, -999.000,9
           NA,    P10N,    111,   1,-999.0,     -99,  2,20050603,1802,  35.2260,  148.5857,  6009, 3251.300,    1.603,   34.662,2,   34.662,6,  101.210,1, -999.000,3,  154.960,2,   37.730,2,    0.000,2,    2.652,2,   -0.005,2,    0.001,2, -999.000,9, -999.000,9, -999.000,9
           NA,    P10N,    111,   1,-999.0,     -99,  2,20050603,1802,  35.2260,  148.5857,  6009, 3501.700,    1.569,   34.668,2,   34.668,2,  104.850,1,  131.970,2,  154.450,2,   37.310,2,    0.010,2,    2.628,2,    0.001,2,    0.004,2, -999.000,9, -999.000,9, -999.000,9
           NA,    P10N,    111,   1,-999.0,     -99,  2,20050603,1802,  35.2260,  148.5857,  6009, 3751.700,    1.553,   34.673,2,   34.673,2,  108.950,1,  137.680,2,  153.250,2,   37.010,2,    0.000,2,    2.610,2,    0.003,2,    0.001,2, -999.000,9, -999.000,9, -999.000,9
           NA,    P10N,    111,   1,-999.0,     -99,  2,20050603,1802,  35.2260,  148.5857,  6009, 4001.800,    1.533,   34.678,2,   34.678,2,  112.880,1,  142.910,2,  151.720,2,   36.700,2,    0.000,2,    2.580,2,    0.004,2,    0.001,2, -999.000,9, -999.000,9, -999.000,9
           NA,    P10N,    111,   1,-999.0,     -99,  2,20050603,1802,  35.2260,  148.5857,  6009, 4250.800,    1.523,   34.682,2,   34.681,2,  116.320,1,  147.470,2,  150.530,2,   36.420,2,    0.000,2,    2.556,2,   -0.003,2,   -0.002,2, -999.000,9, -999.000,9, -999.000,9
           NA,    P10N,    111,   1,-999.0,     -99,  2,20050603,1802,  35.2260,  148.5857,  6009, 4500.100,    1.523,   34.684,2,   34.685,6,  119.110,1,  151.080,2,  149.300,2,   36.150,2,    0.000,2,    2.543,2,   -0.001,2,    0.001,2, -999.000,9, -999.000,9, -999.000,9
           NA,    P10N,    111,   1,-999.0,     -99,  2,20050603,1802,  35.2260,  148.5857,  6009, 4752.800,    1.523,   34.687,2,   34.687,2,  122.250,1,  154.750,2,  147.990,2,   35.890,2,    0.000,2,    2.518,2,   -0.004,2,    0.002,2, -999.000,9, -999.000,9, -999.000,9
           NA,    P10N,    111,   1,-999.0,     -99,  2,20050603,1802,  35.2260,  148.5857,  6009, 4999.900,    1.530,   34.689,2,   34.689,2,  125.170,1,  158.140,6,  146.620,2,   35.650,2,    0.000,2,    2.501,2,   -0.004,2,    0.000,2, -999.000,9, -999.000,9, -999.000,9
           NA,    P10N,    111,   1,-999.0,     -99,  2,20050603,1802,  35.2260,  148.5857,  6009, 5252.200,    1.528,   34.693,2,   34.693,2,  129.700,1,  163.190,2,  143.140,2,   35.280,2,    0.000,2,    2.472,2,    0.002,2,    0.001,2, -999.000,9, -999.000,9, -999.000,9
           NA,    P10N,    111,   1,-999.0,     -99,  2,20050603,1802,  35.2260,  148.5857,  6009, 5499.300,    1.546,   34.694,2,   34.694,2,  132.300,1,  165.770,2,  141.250,2,   35.160,2,    0.010,2,    2.462,2,   -0.003,2,    0.001,2, -999.000,9, -999.000,9, -999.000,9
           NA,    P10N,    111,   1,-999.0,     -99,  2,20050603,1802,  35.2260,  148.5857,  6009, 5750.200,    1.571,   34.695,2,   34.694,2,  134.530,1, -999.000,5,  139.840,2,   35.020,2,    0.010,2,    2.450,2,   -0.002,2,    0.001,2, -999.000,9, -999.000,9, -999.000,9
           NA,    P10N,    111,   1,-999.0,     -99,  2,20050603,1802,  35.2260,  148.5857,  6009, 6156.600,    1.622,   34.695,2,   34.695,6,  136.840,1,  168.360,2,  139.240,2,   34.910,2,    0.020,2,    2.463,2,    0.000,2,    0.003,2, -999.000,9, -999.000,9, -999.000,9