BOTTLE,20210102JOAExport
EXPOCODE,SECT_ID,STNNBR,CASTNO,SAMPNO,BTLNBR,BTLNBR_FLAG_W,DATE,TIME,LATITUDE,LONGITUDE,DEPTH,CTDPRS,CTDTMP,CTDSAL,CTDSAL_FLAG_W,SALNTY,SALNTY_FLAG_W,CTDOXY,CTDOXY_FLAG_W,OXYGEN,OXYGEN_FLAG_W,SILCAT,SILCAT_FLAG_W,NITRAT,NITRAT_FLAG_W,NITRIT,NITRIT_FLAG_W,PHSPHT,PHSPHT_FLAG_W,CFC-11,CFC-11_FLAG_W,CFC-12,CFC-12_FLAG_W,SF6,SF6_FLAG_W,TCARBN,TCARBN_FLAG_W,ALKALI,ALKALI_FLAG_W
,,,,,,,,,,,,DB,ITS-90,PSS-78,,PSS-78,,UMOL/KG,,UMOL/KG,,UMOL/KG,,UMOL/KG,,UMOL/KG,,UMOL/KG,,PMOL/KG,,PMOL/KG,,FMOL/KG,,UMOL/KG,,UMOL/KG
           NA,     P10,     12,   1,      20,     -99,  2,19931014,0524,  -1.5028,  145.7112,  2189,      6.1,  28.8394,  34.2819,2,  34.2823,2,    216.2,2,  210.700,2,     1.17,2,     0.00,2,     0.00,2,     0.06,2,  -999.00,4,    0.962,2, -999.000,9,   1909.8,2,   2258.0,2
           NA,     P10,     12,   1,      19,     -99,  2,19931014,0524,  -1.5028,  145.7112,  2189,     47.9,  27.3552,  34.5376,2,  34.5470,2,    208.5,2,  206.800,2,     1.21,2,     0.00,2,     0.00,2,     0.08,2,  -999.00,4,    0.996,2, -999.000,9,   1933.0,2,   -999.0,4
           NA,     P10,     12,   1,      18,     -99,  2,19931014,0524,  -1.5028,  145.7112,  2189,     97.2,  24.3137,  35.0868,2,  35.0998,2,    168.8,2,  162.600,2,     2.72,2,     4.38,2,     0.18,2,     0.44,2,  -999.00,4,    0.938,2, -999.000,9,   2013.4,2,   2310.2,2
           NA,     P10,     12,   1,      17,     -99,  2,19931014,0524,  -1.5028,  145.7112,  2189,    147.2,  20.4713,  35.4539,2,  35.4454,2,    150.2,2,  146.000,2,     4.40,2,     9.51,2,     0.02,2,     0.78,2,  -999.00,4,    0.878,2, -999.000,9,   2081.9,2,   2330.0,2
           NA,     P10,     12,   1,      16,     -99,  2,19931014,0524,  -1.5028,  145.7112,  2189,    196.7,  18.4720,  35.3725,2,  35.3699,2,    142.5,2,  146.000,2,     5.42,2,    11.01,2,     0.01,2,     0.87,2,  -999.00,4,    0.773,2, -999.000,9,   2095.1,6,   2329.6,6
           NA,     P10,     12,   1,      15,     -99,  2,19931014,0524,  -1.5028,  145.7112,  2189,    246.9,  13.9655,  35.1010,2,  35.0760,2,    150.2,2,  147.500,2,    10.03,2,    16.36,2,     0.00,2,     1.22,2,  -999.00,4,    0.516,2, -999.000,9,   2130.7,2,   2317.8,2
           NA,     P10,     12,   1,      14,     -99,  2,19931014,0524,  -1.5028,  145.7112,  2189,    302.0,  11.6633,  34.8799,2,  34.8755,2,    138.2,2,  140.900,2,    14.96,2,    20.87,2,     0.00,2,     1.48,2,  -999.00,4,    0.391,6, -999.000,9,   2154.7,2,   2311.4,2
           NA,     P10,     12,   1,      13,     -99,  2,19931014,0524,  -1.5028,  145.7112,  2189,    397.1,   9.7309,  34.7046,2,  34.7056,2,    106.6,2,  105.400,2,    26.25,2,    28.04,2,     0.00,2,     1.95,2,  -999.00,4,    0.188,2, -999.000,9,   2199.6,2,   2311.2,2
           NA,     P10,     12,   1,      12,     -99,  2,19931014,0524,  -1.5028,  145.7112,  2189,    475.2,   9.0894,  34.6693,2,  34.6737,2,    134.9,2,  143.900,2,    22.22,2,    25.73,2,     0.00,2,     1.79,2,  -999.00,4,    0.203,2, -999.000,9,   2179.0,2,   2311.0,2
           NA,     P10,     12,   1,      11,     -99,  2,19931014,0524,  -1.5028,  145.7112,  2189,    598.1,   6.8552,  34.5555,2,  34.5545,2,    120.9,2,  121.100,2,    39.04,2,    32.67,2,     0.00,2,     2.25,2,  -999.00,4,    0.061,2, -999.000,9,   2223.6,2,   2325.7,2
           NA,     P10,     12,   1,      10,     -99,  2,19931014,0524,  -1.5028,  145.7112,  2189,    703.8,   5.9565,  34.5418,2,  34.5423,2,     99.3,2,   98.300,2,    55.19,2,    36.27,2,     0.00,2,     2.54,2,  -999.00,9, -999.000,9, -999.000,9,   2255.5,2,   2343.9,2
           NA,     P10,     12,   1,       9,     -99,  2,19931014,0524,  -1.5028,  145.7112,  2189,    794.5,   5.5256,  34.5395,2,  34.5392,2,    101.6,2,  100.600,2,    62.39,2,    36.65,2,     0.00,2,     2.57,2,  -999.00,4,    0.012,2, -999.000,9,   2264.2,2,   2340.5,2
           NA,     P10,     12,   1,       8,     -99,  2,19931014,0524,  -1.5028,  145.7112,  2189,    894.6,   4.9189,  34.5365,2,  34.5380,2,    110.6,2,  110.500,2,    70.08,2,    36.50,2,     0.00,2,     2.57,2,  -999.00,4,    0.009,2, -999.000,9,   2270.3,2,   2347.9,2
           NA,     P10,     12,   1,       7,     -99,  2,19931014,0524,  -1.5028,  145.7112,  2189,    995.2,   4.3877,  34.5541,2,  34.5539,2,    100.9,2,  100.300,2,    84.26,2,    37.85,2,     0.00,2,     2.68,2,  -999.00,4,    0.004,2, -999.000,9,   2290.9,2,   -999.0,3
           NA,     P10,     12,   1,       6,     -99,  2,19931014,0524,  -1.5028,  145.7112,  2189,   1193.4,   3.7346,  34.5748,2,  34.5736,2,    104.1,2,  102.700,2,    98.76,2,    38.17,2,     0.00,2,     2.71,2,  -999.00,4,    0.006,2, -999.000,9,   2305.3,2,   2372.7,2
           NA,     P10,     12,   1,       5,     -99,  2,19931014,0524,  -1.5028,  145.7112,  2189,   1399.0,   3.2326,  34.5935,2,  34.5930,2,    105.3,2,  105.100,2,   110.33,2,    38.40,2,    -0.01,2,     2.71,2,  -999.00,9, -999.000,9, -999.000,9,   2318.2,2,   2396.8,2
           NA,     P10,     12,   1,       4,     -99,  2,19931014,0524,  -1.5028,  145.7112,  2189,   1594.7,   2.7878,  34.6118,2,-999.0000,4,    111.9,2, -999.000,4,   119.94,2,    38.21,2,    -0.01,2,     2.70,2,  -999.00,4,    0.005,2, -999.000,9,   2328.6,6,   2409.0,2
           NA,     P10,     12,   1,       3,     -99,  2,19931014,0524,  -1.5028,  145.7112,  2189,   1795.2,   2.5367,  34.6245,2,  34.6233,2,    115.1,2,  114.300,2,   125.98,2,    38.01,2,    -0.01,2,     2.68,2,  -999.00,9, -999.000,9, -999.000,9,   2330.3,2,   2419.0,6
           NA,     P10,     12,   1,       2,     -99,  2,19931014,0524,  -1.5028,  145.7112,  2189,   1997.3,   2.3268,  34.6354,2,  34.6335,2,    119.3,2,  118.100,2,   130.53,2,    37.81,2,     0.00,2,     2.67,2,  -999.00,4,    0.002,2, -999.000,9,   2332.9,2,   2431.5,2
           NA,     P10,     12,   1,       1,     -99,  2,19931014,0524,  -1.5028,  145.7112,  2189,   2199.0,   2.1575,  34.6431,2,  34.6433,2,    118.9,2,  121.000,2,   134.69,2,    37.60,2,     0.00,2,     2.64,2,  -999.00,4,    0.001,2, -999.000,9,   2336.7,2,   2420.3,2
           NA,     P10,     13,   1,      22,     -99,  2,19931014,0905,  -1.2500,  145.7862,  2289,     16.9,  28.5422,  34.2913,2,  34.2963,2,    216.7,2,  211.500,2,     1.25,2,     0.03,2,     0.00,2,     0.07,2,  -999.00,9, -999.000,9, -999.000,9,   -999.0,9,   -999.0,9
           NA,     P10,     13,   1,      21,     -99,  2,19931014,0905,  -1.2500,  145.7862,  2289,     56.7,  26.9001,  34.5947,2,  34.5966,2,    203.5,2,  207.400,2,     1.43,2,     0.04,2,     0.00,2,     0.10,2,  -999.00,9, -999.000,9, -999.000,9,   -999.0,9,   -999.0,9
           NA,     P10,     13,   1,      20,     -99,  2,19931014,0905,  -1.2500,  145.7862,  2289,    106.2,  24.9160,  34.8957,2,  34.8887,2,    173.9,2,  172.000,2,     3.06,2,     4.29,2,     0.15,2,     0.39,2,  -999.00,9, -999.000,9, -999.000,9,   -999.0,9,   -999.0,9
           NA,     P10,     13,   1,      19,     -99,  2,19931014,0905,  -1.2500,  145.7862,  2289,    156.0,  20.5993,  35.5117,2,  35.4970,2,    143.1,2,  139.300,2,     3.88,2,     9.48,2,     0.02,2,     0.77,2,  -999.00,9, -999.000,9, -999.000,9,   -999.0,9,   -999.0,9
           NA,     P10,     13,   1,      18,     -99,  2,19931014,0905,  -1.2500,  145.7862,  2289,    205.8,  17.3951,  35.3263,2,  35.3069,2,    148.1,2,  144.500,2,     6.48,2,    12.47,2,     0.02,2,     0.96,2,  -999.00,9, -999.000,9, -999.000,9,   -999.0,9,   -999.0,9
           NA,     P10,     13,   1,      17,     -99,  2,19931014,0905,  -1.2500,  145.7862,  2289,    255.4,  12.9800,  34.9928,2,  34.9959,2,    146.4,2,  145.000,2,    11.83,2,    18.11,2,     0.01,2,     1.31,2,  -999.00,9, -999.000,9, -999.000,9,   -999.0,9,   -999.0,9
           NA,     P10,     13,   1,      16,     -99,  2,19931014,0905,  -1.2500,  145.7862,  2289,    305.3,  10.9451,  34.7941,2,  34.7939,2,    127.0,2,  123.400,2,    20.57,2,    23.79,2,     0.00,2,     1.67,2,  -999.00,9, -999.000,9, -999.000,9,   -999.0,9,   -999.0,9
           NA,     P10,     13,   1,      15,     -99,  2,19931014,0905,  -1.2500,  145.7862,  2289,    405.4,   9.7264,  34.7028,2,  34.7086,2,    113.8,2,  113.200,2,    24.62,2,    27.12,2,     0.00,2,     1.88,2,  -999.00,9, -999.000,9, -999.000,9,   -999.0,9,   -999.0,9
           NA,     P10,     13,   1,      14,     -99,  2,19931014,0905,  -1.2500,  145.7862,  2289,    465.0,   9.0958,  34.6677,2,  34.6785,2,    131.6,2,  131.600,2,    24.16,2,    26.43,2,     0.00,2,     1.85,2,  -999.00,9, -999.000,9, -999.000,9,   -999.0,9,   -999.0,9
           NA,     P10,     13,   1,      13,     -99,  2,19931014,0905,  -1.2500,  145.7862,  2289,    505.5,   8.1563,  34.6140,2,  34.6145,2,    133.9,2,  131.900,2,    27.40,2,    28.61,2,    -0.01,2,     1.97,2,  -999.00,9, -999.000,9, -999.000,9,   -999.0,9,   -999.0,9
           NA,     P10,     13,   1,      12,     -99,  2,19931014,0905,  -1.2500,  145.7862,  2289,    606.0,   6.7369,  34.5507,2,  34.5522,2,    117.7,2,  120.000,2,    40.35,2,    32.64,2,    -0.01,2,     2.27,2,  -999.00,9, -999.000,9, -999.000,9,   -999.0,9,   -999.0,9
           NA,     P10,     13,   1,      11,     -99,  2,19931014,0905,  -1.2500,  145.7862,  2289,    699.7,   5.9334,  34.5317,2,  34.5343,2,    114.5,2,  117.700,2,    51.67,2,    34.14,2,     0.00,2,     2.39,2,  -999.00,9, -999.000,9, -999.000,9,   -999.0,9,   -999.0,9
           NA,     P10,     13,   1,      10,     -99,  2,19931014,0905,  -1.2500,  145.7862,  2289,    797.9,   5.3391,  34.5356,2,  34.5394,2,    107.4,2,  105.700,2,    63.79,2,    36.18,2,    -0.01,2,     2.55,2,  -999.00,9, -999.000,9, -999.000,9,   -999.0,9,   -999.0,9
           NA,     P10,     13,   1,       9,     -99,  2,19931014,0905,  -1.2500,  145.7862,  2289,    898.7,   4.7943,  34.5380,2,  34.5412,2,    110.0,2,  110.000,2,    72.53,2,    36.41,2,     0.00,2,     2.57,2,  -999.00,9, -999.000,9, -999.000,9,   -999.0,9,   -999.0,9
           NA,     P10,     13,   1,       8,     -99,  2,19931014,0905,  -1.2500,  145.7862,  2289,   1029.5,   4.4311,  34.5549,2,-999.0000,3,     93.9,2,   93.800,2,    84.98,2,    38.25,2,     0.00,2,     2.72,2,  -999.00,9, -999.000,9, -999.000,9,   -999.0,9,   -999.0,9
           NA,     P10,     13,   1,       7,     -99,  2,19931014,0905,  -1.2500,  145.7862,  2289,   1201.2,   3.7745,  34.5714,2,  34.5721,2,    103.4,2,  102.800,2,    97.91,2,    37.69,2,     0.00,2,     2.70,2,  -999.00,9, -999.000,9, -999.000,9,   -999.0,9,   -999.0,9
           NA,     P10,     13,   1,       6,     -99,  2,19931014,0905,  -1.2500,  145.7862,  2289,   1398.0,   3.1742,  34.5929,2,  34.5952,2,    106.2,2,  105.400,2,   111.82,2,    38.17,2,     0.00,2,     2.72,2,  -999.00,9, -999.000,9, -999.000,9,   -999.0,9,   -999.0,9
           NA,     P10,     13,   1,       5,     -99,  2,19931014,0905,  -1.2500,  145.7862,  2289,   1594.8,   2.7981,  34.6102,2,  34.6111,2,    111.9,2,  111.500,2,   119.90,2,    37.94,2,     0.00,2,     2.70,2,  -999.00,9, -999.000,9, -999.000,9,   -999.0,9,   -999.0,9
           NA,     P10,     13,   1,       4,     -99,  2,19931014,0905,  -1.2500,  145.7862,  2289,   1798.1,   2.5497,  34.6222,2,  34.6218,2,    114.8,2,  114.700,2,   125.73,2,    37.86,2,     0.00,2,     2.69,2,  -999.00,9, -999.000,9, -999.000,9,   -999.0,9,   -999.0,9
           NA,     P10,     13,   1,       3,     -99,  2,19931014,0905,  -1.2500,  145.7862,  2289,   2001.1,   2.3599,  34.6312,2,  34.6316,2,    118.7,2,  117.500,2,   130.26,2,    37.69,2,     0.00,2,     2.68,2,  -999.00,9, -999.000,9, -999.000,9,   -999.0,9,   -999.0,9
           NA,     P10,     13,   1,       2,     -99,  2,19931014,0905,  -1.2500,  145.7862,  2289,   2194.1,   2.1785,  34.6396,2,  34.6410,2,    122.8,2,  120.800,2,   134.31,2,    37.50,2,     0.00,2,     2.67,2,  -999.00,9, -999.000,9, -999.000,9,   -999.0,9,   -999.0,9
           NA,     P10,     13,   1,       1,     -99,  2,19931014,0905,  -1.2500,  145.7862,  2289,   2296.8,   2.0343,-999.0000,3,  34.6528,2,    122.6,2,  124.100,2,   137.59,2,    37.45,2,     0.00,2,     2.64,2,  -999.00,9, -999.000,9, -999.000,9,   -999.0,9,   -999.0,9
           NA,     P10,     14,   1,      21,     -99,  2,19931014,1319,  -0.9987,  145.8578,  2311,      6.8,  28.4629,  34.3126,2,  34.3165,2,    202.6,2,  209.200,2,     1.15,2,     0.00,2,     0.00,2,     0.06,2,  -999.00,4,    0.983,2, -999.000,9,   -999.0,9,   -999.0,9
           NA,     P10,     14,   1,      20,     -99,  2,19931014,1319,  -0.9987,  145.8578,  2311,     47.7,  27.2604,  34.5439,2,  34.5607,2,    204.8,2,  207.100,2,     1.33,2,     0.03,2,     0.00,2,     0.10,2,  -999.00,4,    0.960,2, -999.000,9,   -999.0,9,   -999.0,9
           NA,     P10,     14,   1,      19,     -99,  2,19931014,1319,  -0.9987,  145.8578,  2311,     97.5,  24.8008,  34.8695,2,  34.8635,2,    174.1,2,  171.600,2,     2.95,2,     3.76,2,     0.08,2,     0.37,2,  -999.00,4, -999.000,4, -999.000,9,   -999.0,9,   -999.0,9
           NA,     P10,     14,   1,      18,     -99,  2,19931014,1319,  -0.9987,  145.8578,  2311,    146.5,  20.8452,  35.2388,2,  35.2314,2,    148.4,2,  143.900,2,     5.71,2,     9.05,2,     0.02,2,     0.73,2,  -999.00,4,    0.873,2, -999.000,9,   -999.0,9,   -999.0,9
           NA,     P10,     14,   1,      17,     -99,  2,19931014,1319,  -0.9987,  145.8578,  2311,    197.7,  17.4392,  35.3355,2,  35.3278,2,    147.1,2,  145.300,2,     6.21,2,    11.95,2,     0.01,2,     0.94,2,  -999.00,4,    0.728,6, -999.000,9,   -999.0,9,   -999.0,9
           NA,     P10,     14,   1,      16,     -99,  2,19931014,1319,  -0.9987,  145.8578,  2311,    247.4,  14.1052,  35.0959,2,  35.0926,2,    147.1,2,  145.900,2,     9.93,2,    16.31,2,     0.01,2,     1.22,2,  -999.00,4,    0.528,2, -999.000,9,   -999.0,9,   -999.0,9
           NA,     P10,     14,   1,      15,     -99,  2,19931014,1319,  -0.9987,  145.8578,  2311,    297.3,  11.1294,  34.8126,2,  34.8138,2,    126.0,2,  126.600,2,    19.62,2,    23.04,2,     0.01,2,     1.65,2,  -999.00,4,    0.334,2, -999.000,9,   -999.0,9,   -999.0,9
           NA,     P10,     14,   1,      14,     -99,  2,19931014,1319,  -0.9987,  145.8578,  2311,    394.3,   9.6732,  34.7051,2,  34.7086,2,    117.3,2,  113.700,2,    24.79,2,    27.05,2,     0.00,2,     1.90,2,  -999.00,4,    0.185,2, -999.000,9,   -999.0,9,   -999.0,9
           NA,     P10,     14,   1,      13,     -99,  2,19931014,1319,  -0.9987,  145.8578,  2311,    496.0,   8.0622,  34.6107,2,  34.6096,2,    135.2,2,  135.400,2,    27.55,2,    28.35,2,     0.01,2,     1.98,2,  -999.00,4,    0.128,2, -999.000,9,   -999.0,9,   -999.0,9
           NA,     P10,     14,   1,      12,     -99,  2,19931014,1319,  -0.9987,  145.8578,  2311,    595.4,   6.6351,  34.5479,2,  34.5487,2,    126.1,2,  120.300,2,    41.60,2,    32.91,2,     0.00,2,     2.30,2,  -999.00,9, -999.000,9, -999.000,9,   -999.0,9,   -999.0,9
           NA,     P10,     14,   1,      11,     -99,  2,19931014,1319,  -0.9987,  145.8578,  2311,    695.7,   5.9895,  34.5329,2,  34.5412,2,    117.4,2,  115.400,2,    51.29,2,    34.22,2,     0.00,2,     2.41,2,  -999.00,4,    0.027,2, -999.000,9,   -999.0,9,   -999.0,9
           NA,     P10,     14,   1,      10,     -99,  2,19931014,1319,  -0.9987,  145.8578,  2311,    796.0,   5.3154,  34.5367,2,  34.5408,2,    108.8,2,  107.300,2,    64.04,2,    35.95,2,     0.00,2,     2.54,2,  -999.00,9, -999.000,9, -999.000,9,   -999.0,9,   -999.0,9
           NA,     P10,     14,   1,       9,     -99,  2,19931014,1319,  -0.9987,  145.8578,  2311,    946.9,   4.6564,  34.5493,2,  34.5497,2,     93.8,2,   99.600,2,    78.56,2,    37.45,2,     0.00,2,     2.67,2,  -999.00,4,    0.000,2, -999.000,9,   -999.0,9,   -999.0,9
           NA,     P10,     14,   1,       8,     -99,  2,19931014,1319,  -0.9987,  145.8578,  2311,   1059.4,   4.3017,  34.5600,2,  34.5601,2,     96.8,2,   96.800,2,    87.28,2,    38.05,2,     0.01,2,     2.72,2,  -999.00,4,   -0.002,2, -999.000,9,   -999.0,9,   -999.0,9
           NA,     P10,     14,   1,       7,     -99,  2,19931014,1319,  -0.9987,  145.8578,  2311,   1211.7,   3.8449,  34.5718,2,  34.5713,2,    103.1,2,  103.100,2,    96.32,2,    37.85,2,     0.00,2,     2.70,2,  -999.00,4,    0.000,2, -999.000,9,   -999.0,9,   -999.0,9
           NA,     P10,     14,   1,       6,     -99,  2,19931014,1319,  -0.9987,  145.8578,  2311,   1412.9,   3.2200,  34.5947,2,  34.5939,2,    105.6,2,  105.800,2,   110.52,2,    38.14,2,     0.00,2,     2.72,2,  -999.00,4,    0.006,2, -999.000,9,   -999.0,9,   -999.0,9
           NA,     P10,     14,   1,       5,     -99,  2,19931014,1319,  -0.9987,  145.8578,  2311,   1616.1,   2.7397,  34.6148,2,  34.6135,2,    112.2,2,  112.100,2,   121.00,2,    37.91,2,     0.00,2,     2.70,2,  -999.00,9, -999.000,9, -999.000,9,   -999.0,9,   -999.0,9
           NA,     P10,     14,   1,       4,     -99,  2,19931014,1319,  -0.9987,  145.8578,  2311,   1819.2,   2.5004,  34.6260,2,  34.6243,2,    115.7,2,  116.000,2,   126.66,2,    37.69,2,     0.01,2,     2.69,2,  -999.00,4, -999.000,4, -999.000,9,   -999.0,9,   -999.0,9
           NA,     P10,     14,   1,       3,     -99,  2,19931014,1319,  -0.9987,  145.8578,  2311,   2022.4,   2.3465,  34.6346,2,  34.6341,2,    118.9,2,  118.300,2,   130.54,2,    37.70,2,     0.01,2,     2.68,2,  -999.00,9, -999.000,9, -999.000,9,   -999.0,9,   -999.0,9
           NA,     P10,     14,   1,       2,     -99,  2,19931014,1319,  -0.9987,  145.8578,  2311,   2225.7,   2.0641,  34.6478,2,  34.6483,2,    124.8,2,  123.700,2,   136.52,2,    37.39,2,     0.00,2,     2.65,2,  -999.00,4, -999.000,4, -999.000,9,   -999.0,9,   -999.0,9
           NA,     P10,     14,   1,       1,     -99,  2,19931014,1319,  -0.9987,  145.8578,  2311,   2320.5,   1.9964,  34.6521,2,  34.6510,2,    124.0,2,  124.600,2,   138.23,2,    37.36,2,     0.01,2,     2.65,2,  -999.00,4,    0.004,2, -999.000,9,   -999.0,9,   -999.0,9