BOTTLE,20210102JOAExport
EXPOCODE,SECT_ID,STNNBR,CASTNO,SAMPNO,BTLNBR,BTLNBR_FLAG_W,DATE,TIME,LATITUDE,LONGITUDE,DEPTH,CTDPRS,CTDTMP,CTDSAL,CTDSAL_FLAG_W,SALNTY,SALNTY_FLAG_W,CTDOXY,CTDOXY_FLAG_W,OXYGEN,OXYGEN_FLAG_W,SILCAT,SILCAT_FLAG_W,NITRAT,NITRAT_FLAG_W,NITRIT,NITRIT_FLAG_W,PHSPHT,PHSPHT_FLAG_W,CFC-11,CFC-11_FLAG_W,CFC-12,CFC-12_FLAG_W,SF6,SF6_FLAG_W,TCARBN,TCARBN_FLAG_W,ALKALI,ALKALI_FLAG_W
,,,,,,,,,,,,DB,ITS-90,PSS-78,,PSS-78,,UMOL/KG,,UMOL/KG,,UMOL/KG,,UMOL/KG,,UMOL/KG,,UMOL/KG,,PMOL/KG,,PMOL/KG,,FMOL/KG,,UMOL/KG,,UMOL/KG
           NA,     P10,     87,   1,      36,     -99,  2,19931108,0145,  34.5972,  141.9305,  8281,     17.0,  23.6143,  34.7377,2,  34.7381,2,    215.1,2,  209.600,2,     1.91,2,     0.21,2,     0.04,2,     0.08,2,  -999.00,9, -999.000,9, -999.000,9,   -999.0,9,   -999.0,9
           NA,     P10,     87,   1,      35,     -99,  3,19931108,0145,  34.5972,  141.9305,  8281,     47.3,  23.6237,  34.7370,2,  34.7342,2,    216.3,2,  209.200,2,     1.93,2,     0.21,2,     0.04,2,     0.06,2,  -999.00,9, -999.000,9, -999.000,9,   -999.0,9,   -999.0,9
           NA,     P10,     87,   1,      34,     -99,  2,19931108,0145,  34.5972,  141.9305,  8281,     96.1,  22.9609,  34.7622,2,  34.7591,2,    214.4,2,  201.900,2,     3.16,2,     1.39,2,     0.07,2,     0.15,2,  -999.00,9, -999.000,9, -999.000,9,   -999.0,9,   -999.0,9
           NA,     P10,     87,   1,      33,     -99,  2,19931108,0145,  34.5972,  141.9305,  8281,    142.8,  17.6435,  34.7465,2,  34.7399,2,    195.2,2,  182.700,2,     8.74,2,     6.91,2,     0.02,2,     0.53,2,  -999.00,9, -999.000,9, -999.000,9,   -999.0,9,   -999.0,9
           NA,     P10,     87,   1,      32,     -99,  2,19931108,0145,  34.5972,  141.9305,  8281,    194.9,  15.8379,  34.6443,2,  34.6436,2,    179.0,2,  174.100,2,    14.14,2,    10.29,2,     0.01,2,     0.77,2,  -999.00,9, -999.000,9, -999.000,9,   -999.0,9,   -999.0,9
           NA,     P10,     87,   1,      31,     -99,  2,19931108,0145,  34.5972,  141.9305,  8281,    245.0,  14.1188,  34.5599,2,  34.5612,2,    169.7,2,  172.600,2,    17.80,2,    12.64,2,     0.01,2,     0.93,2,  -999.00,9, -999.000,9, -999.000,9,   -999.0,9,   -999.0,9
           NA,     P10,     87,   1,      30,     -99,  2,19931108,0145,  34.5972,  141.9305,  8281,    295.0,  12.4162,  34.4676,2,  34.4644,2,    159.0,2,  157.300,2,    28.42,2,    17.05,2,     0.00,2,     1.24,2,  -999.00,9, -999.000,9, -999.000,9,   -999.0,9,   -999.0,9
           NA,     P10,     87,   1,      29,     -99,  2,19931108,0145,  34.5972,  141.9305,  8281,    344.3,  10.6284,  34.3805,2,  34.3810,2,    154.2,2,  148.100,2,    36.95,2,    20.47,2,     0.01,2,     1.48,2,  -999.00,9, -999.000,9, -999.000,9,   -999.0,9,   -999.0,9
           NA,     P10,     87,   1,      28,     -99,  2,19931108,0145,  34.5972,  141.9305,  8281,    393.4,   9.5527,  34.3252,2,  34.3267,2,    144.5,2,  141.100,2,    44.26,2,    22.99,2,     0.01,2,     1.66,2,  -999.00,9, -999.000,9, -999.000,9,   -999.0,9,   -999.0,9
           NA,     P10,     87,   1,      27,     -99,  2,19931108,0145,  34.5972,  141.9305,  8281,    494.9,   7.3203,  34.1818,2,  34.1847,2,    119.8,2,  131.800,2,    58.35,2,    27.80,2,     0.00,2,     2.01,2,  -999.00,9, -999.000,9, -999.000,9,   -999.0,9,   -999.0,9
           NA,     P10,     87,   1,      26,     -99,  2,19931108,0145,  34.5972,  141.9305,  8281,    598.6,   5.5161,  34.2080,2,  34.2084,2,     87.8,2,   92.000,2,    83.02,2,    34.33,2,     0.00,2,     2.47,2,  -999.00,9, -999.000,9, -999.000,9,   -999.0,9,   -999.0,9
           NA,     P10,     87,   1,      25,     -99,  2,19931108,0145,  34.5972,  141.9305,  8281,    696.5,   4.6224,  34.2322,2,  34.2296,2,     68.9,2,   71.500,2,    98.48,2,    37.59,2,     0.00,2,     2.70,2,  -999.00,9, -999.000,9, -999.000,9,   -999.0,9,   -999.0,9
           NA,     P10,     87,   1,      24,     -99,  2,19931108,0145,  34.5972,  141.9305,  8281,    798.6,   4.1106,  34.2990,2,  34.2974,2,     58.7,2,   62.100,2,   110.46,2,    38.97,2,     0.00,2,     2.78,2,  -999.00,9, -999.000,9, -999.000,9,   -999.0,9,   -999.0,9
           NA,     P10,     87,   1,      23,     -99,  2,19931108,0145,  34.5972,  141.9305,  8281,    901.2,   3.5225,  34.3436,2,  34.3435,2,     49.6,2,   47.700,2,   124.70,2,    40.98,2,     0.00,2,     2.92,2,  -999.00,9, -999.000,9, -999.000,9,   -999.0,9,   -999.0,9
           NA,     P10,     87,   1,      22,     -99,  2,19931108,0145,  34.5972,  141.9305,  8281,   1001.7,   3.4039,  34.3960,2,  34.3957,2,     54.6,2,   55.200,2,   127.13,2,    40.53,2,     0.00,2,     2.89,2,  -999.00,9, -999.000,9, -999.000,9,   -999.0,9,   -999.0,9
           NA,     P10,     87,   1,      21,     -99,  2,19931108,0145,  34.5972,  141.9305,  8281,   1202.6,   2.8340,  34.4518,2,  34.4519,2,     50.4,2,   49.800,2,   142.58,2,    41.62,2,     0.00,2,     2.96,2,  -999.00,9, -999.000,9, -999.000,9,   -999.0,9,   -999.0,9
           NA,     P10,     87,   1,      20,     -99,  2,19931108,0145,  34.5972,  141.9305,  8281,   1406.3,   2.5114,  34.5041,2,  34.5045,2,     52.8,2,   53.700,2,   150.20,2,    41.62,2,     0.00,2,     2.95,2,  -999.00,9, -999.000,9, -999.000,9,   -999.0,9,   -999.0,9
           NA,     P10,     87,   1,      19,     -99,  2,19931108,0145,  34.5972,  141.9305,  8281,   1620.3,   2.2480,  34.5397,2,  34.5400,2,     59.1,2,   58.700,2,   157.31,2,    41.57,2,     0.00,2,     2.95,2,  -999.00,9, -999.000,9, -999.000,9,   -999.0,9,   -999.0,9
           NA,     P10,     87,   1,      18,     -99,  2,19931108,0145,  34.5972,  141.9305,  8281,   1821.7,   2.0563,  34.5754,2,  34.5781,2,     68.1,2,   69.400,2,   159.91,2,    41.00,2,     0.00,2,     2.89,2,  -999.00,9, -999.000,9, -999.000,9,   -999.0,9,   -999.0,9
           NA,     P10,     87,   1,      17,     -99,  2,19931108,0145,  34.5972,  141.9305,  8281,   2008.3,   1.9398,  34.5978,2,  34.5982,2,     81.6,2,   81.800,2,   159.38,2,    40.27,2,     0.00,2,     2.83,2,  -999.00,9, -999.000,9, -999.000,9,   -999.0,9,   -999.0,9
           NA,     P10,     87,   1,      16,     -99,  2,19931108,0145,  34.5972,  141.9305,  8281,   2270.1,   1.7926,  34.6229,2,  34.6233,2,     96.2,2,   97.300,2,   158.85,2,    39.30,2,     0.00,2,     2.77,2,  -999.00,9, -999.000,9, -999.000,9,   -999.0,9,   -999.0,9
           NA,     P10,     87,   1,      15,     -99,  2,19931108,0145,  34.5972,  141.9305,  8281,   2503.8,   1.6927,  34.6385,2,  34.6390,2,    107.4,2,  107.400,2,   158.49,2,    38.67,2,     0.00,2,     2.72,2,  -999.00,9, -999.000,9, -999.000,9,   -999.0,9,   -999.0,9
           NA,     P10,     87,   1,      14,     -99,  2,19931108,0145,  34.5972,  141.9305,  8281,   2756.3,   1.6142,  34.6527,2,  34.6536,2,    117.6,2, -999.000,3,   155.19,2,    37.82,2,     0.00,2,     2.66,2,  -999.00,9, -999.000,9, -999.000,9,   -999.0,9,   -999.0,9
           NA,     P10,     87,   1,      13,     -99,  2,19931108,0145,  34.5972,  141.9305,  8281,   3014.3,   1.5584,  34.6617,2,  34.6618,2,    126.8,2,  127.900,2,   155.02,2,    37.36,2,     0.00,2,     2.63,2,  -999.00,9, -999.000,9, -999.000,9,   -999.0,9,   -999.0,9
           NA,     P10,     87,   1,      12,     -99,  2,19931108,0145,  34.5972,  141.9305,  8281,   3248.1,   1.5178,  34.6684,2,  34.6687,2,    133.8,2,  135.400,2,   153.28,2,    36.86,2,     0.00,2,     2.59,2,  -999.00,9, -999.000,9, -999.000,9,   -999.0,9,   -999.0,9
           NA,     P10,     87,   1,      11,     -99,  2,19931108,0145,  34.5972,  141.9305,  8281,   3391.7,   1.5007,  34.6719,2,  34.6726,2,    137.7,2,  140.000,2,   152.41,2,    36.69,2,     0.00,2,     2.57,2,  -999.00,9, -999.000,9, -999.000,9,   -999.0,9,   -999.0,9
           NA,     P10,     87,   1,      10,     -99,  2,19931108,0145,  34.5972,  141.9305,  8281,   3609.6,   1.4792,  34.6765,2,  34.6770,2,    142.4,2,  144.300,2,   151.54,2,    36.31,2,     0.00,2,     2.55,2,  -999.00,9, -999.000,9, -999.000,9,   -999.0,9,   -999.0,9
           NA,     P10,     87,   1,       9,     -99,  2,19931108,0145,  34.5972,  141.9305,  8281,   3871.5,   1.4703,  34.6802,2,  34.6807,2,    147.3,2,  148.600,2,   149.98,2,    36.08,2,    -0.01,2,     2.52,2,  -999.00,9, -999.000,9, -999.000,9,   -999.0,9,   -999.0,9
           NA,     P10,     87,   1,       8,     -99,  2,19931108,0145,  34.5972,  141.9305,  8281,   4119.8,   1.4615,  34.6832,2,  34.6840,2,    151.9,2,  153.300,2,   148.41,2,    35.73,2,     0.00,2,     2.50,2,  -999.00,9, -999.000,9, -999.000,9,   -999.0,9,   -999.0,9
           NA,     P10,     87,   1,       7,     -99,  2,19931108,0145,  34.5972,  141.9305,  8281,   4358.2,   1.4669,  34.6857,2,  34.6878,2,    155.6,2,  155.500,2,   147.54,2,    35.57,2,     0.00,2,     2.48,2,  -999.00,9, -999.000,9, -999.000,9,   -999.0,9,   -999.0,9
           NA,     P10,     87,   1,       6,     -99,  2,19931108,0145,  34.5972,  141.9305,  8281,   4594.6,   1.4776,  34.6870,2,  34.6901,2,    157.9,2,  157.900,2,   146.15,2,    34.89,2,     0.00,2,     2.47,2,  -999.00,9, -999.000,9, -999.000,9,   -999.0,9,   -999.0,9
           NA,     P10,     87,   1,       5,     -99,  2,19931108,0145,  34.5972,  141.9305,  8281,   4953.2,   1.5048,  34.6889,2,  34.6891,2,    160.4,2,  160.800,2,   145.11,2,    35.20,2,    -0.01,2,     2.46,2,  -999.00,9, -999.000,9, -999.000,9,   -999.0,9,   -999.0,9
           NA,     P10,     87,   1,       4,     -99,  2,19931108,0145,  34.5972,  141.9305,  8281,   5270.0,   1.5349,  34.6902,2,  34.6899,2,    162.4,2,  162.200,2,   144.25,2,    35.07,2,     0.00,2,     2.46,2,  -999.00,9, -999.000,9, -999.000,9,   -999.0,9,   -999.0,9
           NA,     P10,     87,   1,       3,     -99,  2,19931108,0145,  34.5972,  141.9305,  8281,   5513.3,   1.5617,  34.6899,2,  34.6901,2,    163.7,2,  163.300,2,   143.55,2,    34.96,2,     0.00,2,     2.45,2,  -999.00,9, -999.000,9, -999.000,9,   -999.0,9,   -999.0,9
           NA,     P10,     87,   1,       2,     -99,  2,19931108,0145,  34.5972,  141.9305,  8281,   5755.5,   1.5893,  34.6905,2,  34.6907,2,    164.1,2,  163.800,2,   142.85,2,    34.92,2,    -0.01,2,     2.44,2,  -999.00,9, -999.000,9, -999.000,9,   -999.0,9,   -999.0,9
           NA,     P10,     87,   1,       1,     -99,  2,19931108,0145,  34.5972,  141.9305,  8281,   5906.0,   1.6080,  34.6910,2,  34.6913,2,    163.6,2,  164.200,2,   142.54,2,    34.93,2,     0.00,2,     2.43,2,  -999.00,9, -999.000,9, -999.000,9,   -999.0,9,   -999.0,9
           NA,     P10,     88,   1,      36,     -99,  2,19931108,0827,  34.7388,  141.6417,  5235,     16.3,  23.2298,-999.0000,3,  34.7450,2,    217.0,2,  210.000,2,     2.14,2,     0.42,2,     0.04,2,     0.06,2,     1.96,2,    1.052,2, -999.000,9,   -999.0,9,   -999.0,9
           NA,     P10,     88,   1,      32,     -99,  2,19931108,0827,  34.7388,  141.6417,  5235,     60.8,  21.1786,  34.5672,2,  34.5630,2,    219.7,2,  211.500,2,     3.90,2,     1.52,2,     0.11,2,     0.19,2,     2.20,2,    1.167,2, -999.000,9,   -999.0,9,   -999.0,9
           NA,     P10,     88,   1,      31,     -99,  2,19931108,0827,  34.7388,  141.6417,  5235,    110.3,  18.8866,  34.6107,2,  34.6147,2,    205.4,2,  187.300,2,     8.78,2,     5.90,2,     0.14,2,     0.47,2,     2.11,2,    1.105,2, -999.000,9,   -999.0,9,   -999.0,9
           NA,     P10,     88,   1,      30,     -99,  2,19931108,0827,  34.7388,  141.6417,  5235,    159.7,  15.8592,  34.6058,2,  34.6039,2,    184.6,2,  173.700,2,    14.88,2,    10.60,2,     0.01,2,     0.76,2,  -999.00,9, -999.000,9, -999.000,9,   -999.0,9,   -999.0,9
           NA,     P10,     88,   1,      29,     -99,  2,19931108,0827,  34.7388,  141.6417,  5235,    208.2,  13.8495,  34.5220,2,  34.5232,2,    170.2,2,  165.800,2,    21.86,2,    14.10,2,     0.01,2,     1.01,2,     1.85,2,    0.946,2, -999.000,9,   -999.0,9,   -999.0,9
           NA,     P10,     88,   1,      28,     -99,  2,19931108,0827,  34.7388,  141.6417,  5235,    256.1,  11.9960,  34.4332,2,  34.4417,2,    156.5,2,  156.900,2,    30.22,2,    17.67,2,     0.01,2,     1.26,2,     1.63,6,    0.818,6, -999.000,9,   -999.0,9,   -999.0,9
           NA,     P10,     88,   1,      27,     -99,  2,19931108,0827,  34.7388,  141.6417,  5235,    301.1,  11.1339,  34.3945,2,  34.4012,2,    150.7,2,  151.400,2,    34.76,2,    19.46,2,     0.01,2,     1.39,2,     1.62,2,    0.824,2, -999.000,9,   -999.0,9,   -999.0,9
           NA,     P10,     88,   1,      26,     -99,  2,19931108,0827,  34.7388,  141.6417,  5235,    390.7,   8.7920,  34.3026,2,  34.3029,2,    140.6,2,  135.300,2,    50.44,2,    24.82,2,     0.00,2,     1.77,2,     1.22,2,    0.589,2, -999.000,9,   -999.0,9,   -999.0,9
           NA,     P10,     88,   1,      25,     -99,  2,19931108,0827,  34.7388,  141.6417,  5235,    503.3,   6.0465,  34.2725,2,  34.2713,2,     99.8,2,   97.800,2,    80.90,2,    32.74,2,     0.00,2,     2.33,2,  -999.00,9, -999.000,9, -999.000,9,   -999.0,9,   -999.0,9
           NA,     P10,     88,   1,      24,     -99,  2,19931108,0827,  34.7388,  141.6417,  5235,    608.0,   4.4169,  34.2811,2,  34.2819,2,     70.0,2,   68.500,2,   104.40,2,    38.09,2,     0.00,2,     2.70,2,     0.34,2,    0.160,2, -999.000,9,   -999.0,9,   -999.0,9
           NA,     P10,     88,   1,      23,     -99,  2,19931108,0827,  34.7388,  141.6417,  5235,    715.2,   3.6902,  34.3148,2,  34.3151,2,     51.8,2,   50.200,2,   119.71,2,    40.54,2,     0.00,2,     2.87,2,     0.16,2,    0.070,2, -999.000,9,   -999.0,9,   -999.0,9
           NA,     P10,     88,   1,      22,     -99,  2,19931108,0827,  34.7388,  141.6417,  5235,    827.8,   3.2972,  34.3605,2,  34.3608,2,     47.0,2,   47.100,2,   130.16,2,    41.14,2,     0.00,2,     2.92,2,     0.14,2,    0.066,2, -999.000,9,   -999.0,9,   -999.0,9
           NA,     P10,     88,   1,      21,     -99,  3,19931108,0827,  34.7388,  141.6417,  5235,    935.3,   3.0966,  34.3977,2,  34.4224,2,     46.3,2,   51.300,2,  -999.00,4,  -999.00,4,  -999.00,4,  -999.00,4,  -999.00,9, -999.000,9, -999.000,9,   -999.0,9,   -999.0,9
           NA,     P10,     88,   1,      20,     -99,  2,19931108,0827,  34.7388,  141.6417,  5235,   1036.4,   2.8950,  34.4315,2,  34.4340,2,     46.6,2,   47.000,2,   141.14,2,    41.65,2,     0.00,2,     2.94,2,     0.05,2,    0.023,2, -999.000,9,   -999.0,9,   -999.0,9
           NA,     P10,     88,   1,      19,     -99,  2,19931108,0827,  34.7388,  141.6417,  5235,   1180.0,   2.6302,  34.4809,2,  34.4813,2,     49.1,2,   50.800,2,   147.41,2,    41.65,2,     0.00,2,     2.94,2,     0.02,2,    0.007,2, -999.000,9,   -999.0,9,   -999.0,9
           NA,     P10,     88,   1,      18,     -99,  2,19931108,0827,  34.7388,  141.6417,  5235,   1373.5,   2.3349,  34.5215,2,  34.5220,2,     52.0,2,   53.100,2,   155.94,2,    41.81,2,     0.00,2,     2.95,2,     0.02,2,    0.007,2, -999.000,9,   -999.0,9,   -999.0,9
           NA,     P10,     88,   1,      17,     -99,  2,19931108,0827,  34.7388,  141.6417,  5235,   1562.3,   2.1499,  34.5568,2,  34.5575,2,     60.8,2,   61.500,2,   159.26,2,    41.25,2,     0.00,2,     2.91,2,     0.00,2,    0.001,2, -999.000,9,   -999.0,9,   -999.0,9
           NA,     P10,     88,   1,      16,     -99,  2,19931108,0827,  34.7388,  141.6417,  5235,   1787.1,   2.0018,  34.5842,2,  34.5827,2,     71.9,2,   72.600,2,   160.83,2,    40.75,2,     0.00,2,     2.87,2,     0.01,2,    0.002,2, -999.000,9,   -999.0,9,   -999.0,9
           NA,     P10,     88,   1,      15,     -99,  2,19931108,0827,  34.7388,  141.6417,  5235,   2012.4,   1.9015,  34.6034,2,  34.6035,2,     81.0,2,   82.600,2,   160.67,2,    40.14,2,     0.00,2,     2.82,2,  -999.00,9, -999.000,9, -999.000,9,   -999.0,9,   -999.0,9
           NA,     P10,     88,   1,      14,     -99,  2,19931108,0827,  34.7388,  141.6417,  5235,   2218.7,   1.7943,  34.6225,2,  34.6218,2,     93.2,2,   95.600,2,   159.46,2,    39.36,2,     0.00,2,     2.77,2,  -999.00,9, -999.000,9, -999.000,9,   -999.0,9,   -999.0,9
           NA,     P10,     88,   1,      13,     -99,  2,19931108,0827,  34.7388,  141.6417,  5235,   2406.7,   1.6977,  34.6384,2,  34.6373,2,    105.3,2,  107.400,2,   158.43,2,    38.63,2,     0.00,2,     2.72,2,  -999.00,9, -999.000,9, -999.000,9,   -999.0,9,   -999.0,9
           NA,     P10,     88,   1,      12,     -99,  2,19931108,0827,  34.7388,  141.6417,  5235,   2594.6,   1.6264,  34.6494,2,  34.6493,2,    116.5,2,  115.800,2,   157.40,2,    38.13,2,     0.00,2,     2.67,2,  -999.00,9, -999.000,9, -999.000,9,   -999.0,9,   -999.0,9
           NA,     P10,     88,   1,      11,     -99,  2,19931108,0827,  34.7388,  141.6417,  5235,   2767.4,   1.5784,  34.6575,2,  34.6565,2,    122.8,2,  123.200,2,   156.20,2,    37.63,2,     0.00,2,     2.64,2,  -999.00,9, -999.000,9, -999.000,9,   -999.0,9,   -999.0,9
           NA,     P10,     88,   1,      10,     -99,  2,19931108,0827,  34.7388,  141.6417,  5235,   2985.3,   1.5293,  34.6659,2,  34.6656,2,    130.3,2,  130.900,2,   154.64,2,    37.17,2,     0.01,2,     2.60,2,  -999.00,9, -999.000,9, -999.000,9,   -999.0,9,   -999.0,9
           NA,     P10,     88,   1,       9,     -99,  2,19931108,0827,  34.7388,  141.6417,  5235,   3241.6,   1.5088,  34.6707,2,  34.6693,2,    136.4,2,  135.800,2,   153.62,2,    36.85,2,     0.00,2,     2.58,2,  -999.00,9, -999.000,9, -999.000,9,   -999.0,9,   -999.0,9
           NA,     P10,     88,   1,       8,     -99,  2,19931108,0827,  34.7388,  141.6417,  5235,   3461.7,   1.4895,  34.6754,2,  34.6742,2,    141.0,2,  141.300,2,   152.41,2,    36.56,2,     0.00,2,     2.55,2,  -999.00,9, -999.000,9, -999.000,9,   -999.0,9,   -999.0,9
           NA,     P10,     88,   1,       7,     -99,  2,19931108,0827,  34.7388,  141.6417,  5235,   3733.7,   1.4649,  34.6801,2,  34.6799,2,    146.9,2,  147.000,2,   150.69,2,    36.12,2,     0.00,2,     2.52,2,  -999.00,9, -999.000,9, -999.000,9,   -999.0,9,   -999.0,9
           NA,     P10,     88,   1,       6,     -99,  2,19931108,0827,  34.7388,  141.6417,  5235,   4000.5,   1.4477,  34.6844,2,  34.6842,2,    153.3,2,  152.900,2,   148.62,2,    35.63,2,    -0.01,2,     2.49,2,  -999.00,9, -999.000,9, -999.000,9,   -999.0,9,   -999.0,9
           NA,     P10,     88,   1,       5,     -99,  2,19931108,0827,  34.7388,  141.6417,  5235,   4265.6,   1.4498,  34.6870,2,  34.6868,2,    156.4,2,  156.300,2,   147.41,2,    35.34,2,     0.00,2,     2.47,2,  -999.00,9, -999.000,9, -999.000,9,   -999.0,9,   -999.0,9
           NA,     P10,     88,   1,       4,     -99,  2,19931108,0827,  34.7388,  141.6417,  5235,   4513.9,   1.4588,  34.6890,2,  34.6890,2,    159.0,2,  159.300,2,   146.20,2,    35.23,2,     0.00,2,     2.47,2,  -999.00,4,    0.000,2, -999.000,9,   -999.0,9,   -999.0,9
           NA,     P10,     88,   1,       3,     -99,  2,19931108,0827,  34.7388,  141.6417,  5235,   4783.2,   1.4783,  34.6909,2,  34.6899,2,    160.6,2,  160.700,2,   145.35,2,    35.12,2,     0.00,2,     2.46,2,  -999.00,9, -999.000,9, -999.000,9,   -999.0,9,   -999.0,9
           NA,     P10,     88,   1,       2,     -99,  2,19931108,0827,  34.7388,  141.6417,  5235,   5106.6,   1.5109,  34.6912,2,  34.6905,2,    161.9,2,  162.600,2,   144.67,2,    35.01,2,     0.00,2,     2.47,2,  -999.00,4,    0.003,2, -999.000,9,   -999.0,9,   -999.0,9
           NA,     P10,     88,   1,       1,     -99,  2,19931108,0827,  34.7388,  141.6417,  5235,   5379.6,   1.5403,  34.6915,2,  34.6911,2,    161.9,2,  162.800,2,   143.89,2,    34.91,2,     0.01,2,     2.43,2,     0.00,2,    0.001,2, -999.000,9,   -999.0,9,   -999.0,9