BOTTLE,20210102JOAExport
EXPOCODE,SECT_ID,STNNBR,CASTNO,SAMPNO,BTLNBR,BTLNBR_FLAG_W,DATE,TIME,LATITUDE,LONGITUDE,DEPTH,CTDPRS,CTDTMP,CTDSAL,CTDSAL_FLAG_W,SALNTY,SALNTY_FLAG_W,CTDOXY,CTDOXY_FLAG_W,OXYGEN,OXYGEN_FLAG_W,SILCAT,SILCAT_FLAG_W,NITRAT,NITRAT_FLAG_W,NITRIT,NITRIT_FLAG_W,PHSPHT,PHSPHT_FLAG_W,CFC-11,CFC-11_FLAG_W,CFC-12,CFC-12_FLAG_W,SF6,SF6_FLAG_W,TCARBN,TCARBN_FLAG_W,ALKALI,ALKALI_FLAG_W
,,,,,,,,,,,,DB,ITS-90,PSS-78,,PSS-78,,UMOL/KG,,UMOL/KG,,UMOL/KG,,UMOL/KG,,UMOL/KG,,UMOL/KG,,PMOL/KG,,PMOL/KG,,FMOL/KG,,UMOL/KG,,UMOL/KG
           NA,     P10,     58,   1,      36,     -99,  2,19931028,0940,  18.5055,  149.3305,  5592,     16.5,  28.9094,  34.7947,2,  34.7927,2,    213.4,2,  210.200,2,     0.15,2,     0.06,2,     0.00,2,     0.04,2,     1.66,2,    0.939,2, -999.000,9,   -999.0,9,   -999.0,9
           NA,     P10,     58,   1,      35,     -99,  2,19931028,0940,  18.5055,  149.3305,  5592,     60.7,  28.8487,  34.8872,2,  34.8838,2,    215.9,2,  207.600,2,     0.13,2,     0.12,2,     0.00,2,     0.03,2,     1.70,2,    0.954,2, -999.000,9,   -999.0,9,   -999.0,9
           NA,     P10,     58,   1,      34,     -99,  2,19931028,0940,  18.5055,  149.3305,  5592,    110.5,  25.5818,  35.0019,2,  35.0062,2,    208.3,2,  217.100,2,     0.27,2,     0.08,2,    -0.01,2,     0.07,2,     2.00,2,    1.083,2, -999.000,9,   -999.0,9,   -999.0,9
           NA,     P10,     58,   1,      33,     -99,  2,19931028,0940,  18.5055,  149.3305,  5592,    159.7,  23.2983,  35.1408,2,  35.1355,2,    197.4,2,  199.000,2,     0.60,2,     0.38,2,     0.08,2,     0.12,2,     2.15,2,    1.153,2, -999.000,9,   -999.0,9,   -999.0,9
           NA,     P10,     58,   1,      32,     -99,  2,19931028,0940,  18.5055,  149.3305,  5592,    208.9,  20.2557,  35.0268,2,  35.0205,2,    205.3,2,  198.700,2,     1.27,2,     1.42,2,     0.02,2,     0.16,2,     2.39,6,    1.261,6, -999.000,9,   -999.0,9,   -999.0,9
           NA,     P10,     58,   1,      31,     -99,  2,19931028,0940,  18.5055,  149.3305,  5592,    258.7,  17.5502,  34.8164,2,  34.8163,2,    206.5,2,  206.300,2,     2.63,2,     3.85,2,     0.00,2,     0.31,2,     2.58,2,    1.350,2, -999.000,9,   -999.0,9,   -999.0,9
           NA,     P10,     58,   1,      30,     -99,  2,19931028,0940,  18.5055,  149.3305,  5592,    307.4,  16.0029,  34.7004,2,  34.6939,2,    201.8,2,  199.000,2,     5.37,2,     6.81,2,     0.00,2,     0.52,2,     2.55,2,    1.302,2, -999.000,9,   -999.0,9,   -999.0,9
           NA,     P10,     58,   1,      29,     -99,  2,19931028,0940,  18.5055,  149.3305,  5592,    407.5,  11.1470,  34.2744,2,  34.2712,2,    170.4,2,  164.300,2,    18.84,2,    17.41,2,     0.00,2,     1.31,2,     1.88,2,    0.921,2, -999.000,9,   -999.0,9,   -999.0,9
           NA,     P10,     58,   1,      28,     -99,  2,19931028,0940,  18.5055,  149.3305,  5592,    505.9,   8.4948,  34.1642,2,  34.1607,2,    142.7,2,  141.400,2,    36.64,2,    24.79,2,     0.00,2,     1.82,2,     1.21,2,    0.577,2, -999.000,9,   -999.0,9,   -999.0,9
           NA,     P10,     58,   1,      27,     -99,  2,19931028,0940,  18.5055,  149.3305,  5592,    607.0,   6.8493,  34.1928,2,  34.1890,2,     82.6,2,   83.700,2,    57.55,2,    33.16,2,     0.00,2,     2.41,2,     0.39,2,    0.193,2, -999.000,9,   -999.0,9,   -999.0,9
           NA,     P10,     58,   1,      26,     -99,  2,19931028,0940,  18.5055,  149.3305,  5592,    707.2,   5.7584,  34.3042,2,  34.3098,2,     57.2,2,   57.900,2,    76.03,2,    37.69,2,     0.01,2,     2.73,2,     0.07,2,    0.033,2, -999.000,9,   -999.0,9,   -999.0,9
           NA,     P10,     58,   1,      25,     -99,  2,19931028,0940,  18.5055,  149.3305,  5592,    757.0,   5.5050,  34.3707,2,  34.3694,2,     57.9,2,   58.100,2,    79.97,2,    38.29,2,     0.01,2,     2.75,2,     0.04,2,    0.016,2, -999.000,9,   -999.0,9,   -999.0,9
           NA,     P10,     58,   1,      24,     -99,  2,19931028,0940,  18.5055,  149.3305,  5592,    857.5,   4.8166,  34.4221,2,-999.0000,3,     62.5,2,   62.100,2,    92.57,2,    39.13,2,     0.00,2,     2.80,2,     0.02,2,    0.013,2, -999.000,9,   -999.0,9,   -999.0,9
           NA,     P10,     58,   1,      23,     -99,  2,19931028,0940,  18.5055,  149.3305,  5592,   1008.2,   4.0658,  34.4933,2,  34.4902,2,     70.8,2,   70.400,2,   106.55,2,    39.40,2,     0.01,2,     2.81,2,     0.01,2,    0.002,2, -999.000,9,   -999.0,9,   -999.0,9
           NA,     P10,     58,   1,      22,     -99,  2,19931028,0940,  18.5055,  149.3305,  5592,   1106.8,   3.6733,  34.5212,2,  34.5198,2,     75.6,2,   75.800,2,   114.13,2,    39.46,2,     0.01,2,     2.81,2,     0.00,2,   -0.002,2, -999.000,9,   -999.0,9,   -999.0,9
           NA,     P10,     58,   1,      21,     -99,  2,19931028,0940,  18.5055,  149.3305,  5592,   1206.2,   3.3751,  34.5432,2,  34.5398,2,     79.2,2,   81.000,2,   119.63,2,    39.37,2,     0.00,2,     2.79,2,  -999.00,4,   -0.002,2, -999.000,9,   -999.0,9,   -999.0,9
           NA,     P10,     58,   1,      20,     -99,  2,19931028,0940,  18.5055,  149.3305,  5592,   1407.4,   2.9167,  34.5730,2,-999.0000,4,     89.5,2,   90.000,2,   127.91,2,    39.17,2,     0.00,2,     2.77,2,  -999.00,9, -999.000,9, -999.000,9,   -999.0,9,   -999.0,9
           NA,     P10,     58,   1,      19,     -99,  3,19931028,0940,  18.5055,  149.3305,  5592,   1609.0,   2.5963,  34.5916,2,-999.0000,3,     93.5,2, -999.000,3,   133.59,2,    38.83,2,     0.00,2,     2.75,2,  -999.00,9, -999.000,9, -999.000,9,   -999.0,9,   -999.0,9
           NA,     P10,     58,   1,      18,     -99,  2,19931028,0940,  18.5055,  149.3305,  5592,   1807.5,   2.3493,  34.6057,2,  34.6047,2,    100.0,2,   99.300,2,   138.74,2,    38.90,2,     0.00,2,     2.75,2,  -999.00,9, -999.000,9, -999.000,9,   -999.0,9,   -999.0,9
           NA,     P10,     58,   1,      17,     -99,  3,19931028,0940,  18.5055,  149.3305,  5592,   2009.6,   2.1187,  34.6231,2,-999.0000,4,    105.9,2,  106.300,2,  -999.00,4,  -999.00,4,  -999.00,4,  -999.00,4,  -999.00,9, -999.000,9, -999.000,9,   -999.0,9,   -999.0,9
           NA,     P10,     58,   1,      16,     -99,  2,19931028,0940,  18.5055,  149.3305,  5592,   2202.1,   1.9532,  34.6352,2,  34.6326,2,    112.8,2,  111.900,2,   145.25,2,    38.32,2,     0.00,2,     2.69,2,  -999.00,9, -999.000,9, -999.000,9,   -999.0,9,   -999.0,9
           NA,     P10,     58,   1,      15,     -99,  2,19931028,0940,  18.5055,  149.3305,  5592,   2407.7,   1.8183,  34.6481,2,  34.6465,2,    119.4,2,  119.100,2,   146.95,2,    37.99,2,     0.01,2,     2.66,2,  -999.00,9, -999.000,9, -999.000,9,   -999.0,9,   -999.0,9
           NA,     P10,     58,   1,      14,     -99,  2,19931028,0940,  18.5055,  149.3305,  5592,   2610.2,   1.7384,  34.6543,2,  34.6548,2,    123.3,2,  124.000,2,   147.45,2,    37.73,2,     0.01,2,     2.64,2,  -999.00,9, -999.000,9, -999.000,9,   -999.0,9,   -999.0,9
           NA,     P10,     58,   1,      13,     -99,  2,19931028,0940,  18.5055,  149.3305,  5592,   2813.3,   1.6740,  34.6627,2,  34.6585,2,    128.0,2,  129.000,2,   147.94,2,    37.46,2,     0.01,2,     2.61,2,  -999.00,9, -999.000,9, -999.000,9,   -999.0,9,   -999.0,9
           NA,     P10,     58,   1,      12,     -99,  2,19931028,0940,  18.5055,  149.3305,  5592,   3012.5,   1.6208,  34.6682,2,  34.6660,2,    132.8,2,  133.200,2,   148.08,2,    37.21,2,     0.00,2,     2.59,2,     0.00,2,   -0.002,2, -999.000,9,   -999.0,9,   -999.0,9
           NA,     P10,     58,   1,      11,     -99,  2,19931028,0940,  18.5055,  149.3305,  5592,   3254.7,   1.5768,  34.6736,2,  34.6730,2,    137.8,2,  138.100,2,   147.89,2,    36.93,2,     0.01,2,     2.57,2,  -999.00,4,   -0.003,2, -999.000,9,   -999.0,9,   -999.0,9
           NA,     P10,     58,   1,      10,     -99,  2,19931028,0940,  18.5055,  149.3305,  5592,   3505.5,   1.5297,  34.6787,2,  34.6778,2,    144.3,2,  144.600,2,   145.78,2,    36.50,2,     0.01,2,     2.54,2,  -999.00,9, -999.000,9, -999.000,9,   -999.0,9,   -999.0,9
           NA,     P10,     58,   1,       9,     -99,  2,19931028,0940,  18.5055,  149.3305,  5592,   3751.6,   1.4977,  34.6841,2,  34.6835,2,    149.7,2,  150.200,2,   143.85,2,    36.07,2,     0.01,2,     2.50,2,  -999.00,9, -999.000,9, -999.000,9,   -999.0,9,   -999.0,9
           NA,     P10,     58,   1,       8,     -99,  2,19931028,0940,  18.5055,  149.3305,  5592,   4005.2,   1.4808,  34.6862,2,  34.6874,2,    154.3,2,  154.700,2,   142.09,2,    35.81,2,     0.01,2,     2.48,2,  -999.00,9, -999.000,9, -999.000,9,   -999.0,9,   -999.0,9
           NA,     P10,     58,   1,       7,     -99,  2,19931028,0940,  18.5055,  149.3305,  5592,   4250.5,   1.4647,  34.6903,2,  34.6880,2,    160.1,2,  160.600,2,   138.96,2,    35.32,2,     0.01,2,     2.44,2,  -999.00,9, -999.000,9, -999.000,9,   -999.0,9,   -999.0,9
           NA,     P10,     58,   1,       6,     -99,  2,19931028,0940,  18.5055,  149.3305,  5592,   4494.7,   1.4582,  34.6930,2,  34.6907,2,    164.3,2,  164.700,2,   137.03,2,    35.01,2,     0.00,2,     2.43,2,  -999.00,9, -999.000,9, -999.000,9,   -999.0,9,   -999.0,9
           NA,     P10,     58,   1,       5,     -99,  3,19931028,0940,  18.5055,  149.3305,  5592,   4753.2,   1.4589,  34.6952,2,-999.0000,4,    168.5,2, -999.000,4,  -999.00,4,  -999.00,4,  -999.00,4,  -999.00,4,  -999.00,9, -999.000,9, -999.000,9,   -999.0,9,   -999.0,9
           NA,     P10,     58,   1,       4,     -99,  2,19931028,0940,  18.5055,  149.3305,  5592,   5011.4,   1.4728,  34.6964,2,  34.6958,2,    172.2,2,  171.400,2,   133.18,2,    34.52,2,     0.01,2,     2.38,2,  -999.00,9, -999.000,9, -999.000,9,   -999.0,9,   -999.0,9
           NA,     P10,     58,   1,       3,     -99,  2,19931028,0940,  18.5055,  149.3305,  5592,   5264.4,   1.4911,  34.6978,2,  34.6952,2,    173.9,2,  173.200,2,   132.11,2,    34.41,2,     0.02,2,     2.38,2,  -999.00,9, -999.000,9, -999.000,9,   -999.0,9,   -999.0,9
           NA,     P10,     58,   1,       2,     -99,  2,19931028,0940,  18.5055,  149.3305,  5592,   5486.7,   1.5128,  34.6981,2,  34.6958,2,    175.5,2,  174.200,2,   131.40,2,    34.32,2,     0.02,2,     2.37,2,  -999.00,9, -999.000,9, -999.000,9,   -999.0,9,   -999.0,9
           NA,     P10,     58,   1,       1,     -99,  2,19931028,0940,  18.5055,  149.3305,  5592,   5682.8,   1.5348,  34.6994,2,  34.6976,2,    175.5,2,  175.000,2,   131.19,2,    34.14,2,     0.01,2,     2.36,2,     0.00,2,   -0.002,2, -999.000,9,   -999.0,9,   -999.0,9