BOTTLE,20210102JOAExport
EXPOCODE,SECT_ID,STNNBR,CASTNO,SAMPNO,BTLNBR,BTLNBR_FLAG_W,DATE,TIME,LATITUDE,LONGITUDE,DEPTH,CTDPRS,CTDTMP,CTDSAL,CTDSAL_FLAG_W,SALNTY,SALNTY_FLAG_W,CTDOXY,CTDOXY_FLAG_W,OXYGEN,OXYGEN_FLAG_W,SILCAT,SILCAT_FLAG_W,NITRAT,NITRAT_FLAG_W,NITRIT,NITRIT_FLAG_W,PHSPHT,PHSPHT_FLAG_W,CFC-11,CFC-11_FLAG_W,CFC-12,CFC-12_FLAG_W,SF6,SF6_FLAG_W,TCARBN,TCARBN_FLAG_W,ALKALI,ALKALI_FLAG_W
,,,,,,,,,,,,DB,ITS-90,PSS-78,,PSS-78,,UMOL/KG,,UMOL/KG,,UMOL/KG,,UMOL/KG,,UMOL/KG,,UMOL/KG,,PMOL/KG,,PMOL/KG,,FMOL/KG,,UMOL/KG,,UMOL/KG
           NA,     P10,     78,   1,      36,     -99,  2,19931105,0810,  31.2138,  146.7695,  6065,     16.8,  23.9396,  34.5666,2,  34.5685,2,    207.1,2,  213.600,2,     1.30,2,     0.04,2,     0.01,2,     0.03,2,     1.95,2,    1.038,2, -999.000,9,   -999.0,9,   -999.0,9
           NA,     P10,     78,   1,      35,     -99,  2,19931105,0810,  31.2138,  146.7695,  6065,     61.5,  24.0300,  34.6873,2,  34.6874,2,    205.4,2,  212.300,2,     1.49,2,     0.04,2,     0.01,2,     0.02,2,  -999.00,9, -999.000,9, -999.000,9,   -999.0,9,   -999.0,9
           NA,     P10,     78,   1,      34,     -99,  2,19931105,0810,  31.2138,  146.7695,  6065,    110.8,  20.1947,  34.9167,2,  34.9143,2,    220.7,2,  221.600,2,     1.86,2,     0.43,2,     0.20,2,     0.09,2,     2.57,2,    1.379,2, -999.000,9,   -999.0,9,   -999.0,9
           NA,     P10,     78,   1,      33,     -99,  2,19931105,0810,  31.2138,  146.7695,  6065,    160.8,  18.5938,  34.8481,2,  34.8494,2,    211.4,2,  211.100,2,     2.60,2,     2.21,2,     0.03,2,     0.21,2,  -999.00,9, -999.000,9, -999.000,9,   -999.0,9,   -999.0,9
           NA,     P10,     78,   1,      32,     -99,  2,19931105,0810,  31.2138,  146.7695,  6065,    210.5,  17.8275,  34.8135,2,  34.8161,2,    203.9,2,  205.000,2,     3.69,2,     3.87,2,     0.02,2,     0.30,2,     2.31,2,    1.181,2, -999.000,9,   -999.0,9,   -999.0,9
           NA,     P10,     78,   1,      31,     -99,  2,19931105,0810,  31.2138,  146.7695,  6065,    260.5,  17.3273,  34.7889,2,  34.7890,2,    203.6,2,  206.700,2,     4.25,2,     4.46,2,     0.02,2,     0.35,2,  -999.00,9, -999.000,9, -999.000,9,   -999.0,9,   -999.0,9
           NA,     P10,     78,   1,      30,     -99,  2,19931105,0810,  31.2138,  146.7695,  6065,    310.3,  16.9079,  34.7622,2,  34.7615,2,    195.9,2,  200.800,2,     5.34,2,     5.69,2,     0.01,2,     0.43,2,     2.62,2,    1.383,2, -999.000,9,   -999.0,9,   -999.0,9
           NA,     P10,     78,   1,      29,     -99,  2,19931105,0810,  31.2138,  146.7695,  6065,    359.6,  16.2136,  34.7067,2,  34.7080,2,    190.8,2,  191.800,2,     7.71,2,     7.55,2,     0.02,2,     0.57,2,  -999.00,9, -999.000,9, -999.000,9,   -999.0,9,   -999.0,9
           NA,     P10,     78,   1,      28,     -99,  2,19931105,0810,  31.2138,  146.7695,  6065,    409.4,  15.1004,  34.6257,2,  34.6259,2,    184.2,2,  184.700,2,    11.17,2,     9.92,2,     0.00,2,     0.73,2,     2.22,2,    1.124,2, -999.000,9,   -999.0,9,   -999.0,9
           NA,     P10,     78,   1,      27,     -99,  2,19931105,0810,  31.2138,  146.7695,  6065,    508.0,  12.5738,  34.4539,2,  34.4531,2,    189.2,2,  175.700,2,    20.25,2,    14.87,2,     0.01,2,     1.08,2,  -999.00,9, -999.000,9, -999.000,9,   -999.0,9,   -999.0,9
           NA,     P10,     78,   1,      26,     -99,  2,19931105,0810,  31.2138,  146.7695,  6065,    608.1,  10.2886,  34.3021,2,  34.3027,2,    168.2,2,  166.000,2,    32.24,2,    19.51,2,     0.01,2,     1.42,2,     1.91,2,    0.925,2, -999.000,9,   -999.0,9,   -999.0,9
           NA,     P10,     78,   1,      25,     -99,  2,19931105,0810,  31.2138,  146.7695,  6065,    707.8,   6.3650,  33.9518,2,  33.9517,2,    185.4,2, -999.000,3,    49.85,2,    25.64,2,     0.01,2,     1.91,2,  -999.00,9, -999.000,9, -999.000,9,   -999.0,9,   -999.0,9
           NA,     P10,     78,   1,      24,     -99,  2,19931105,0810,  31.2138,  146.7695,  6065,    808.0,   5.1611,  34.0277,2,  34.0310,2,    122.8,2,  116.700,2,    73.81,2,    33.10,2,     0.01,2,     2.40,2,     1.55,2,    0.702,2, -999.000,9,   -999.0,9,   -999.0,9
           NA,     P10,     78,   1,      23,     -99,  2,19931105,0810,  31.2138,  146.7695,  6065,    908.2,   4.5542,  34.1132,2,  34.1145,2,     79.4,2,   81.900,2,    90.87,2,    37.01,2,     0.00,2,     2.67,2,  -999.00,9, -999.000,9, -999.000,9,   -999.0,9,   -999.0,9
           NA,     P10,     78,   1,      22,     -99,  3,19931105,0810,  31.2138,  146.7695,  6065,   1007.7,   4.0458,  34.2223,2,  34.2233,2,     55.7,2,   56.600,2,   108.28,2,    39.71,2,     0.01,2,     2.84,2,     0.38,2,    0.164,2, -999.000,9,   -999.0,9,   -999.0,9
           NA,     P10,     78,   1,      21,     -99,  2,19931105,0810,  31.2138,  146.7695,  6065,   1206.2,   3.3341,  34.3586,2,  34.3579,2,     44.4,2,   44.600,2,   129.31,2,    41.48,2,     0.01,2,     2.96,2,  -999.00,9, -999.000,9, -999.000,9,   -999.0,9,   -999.0,9
           NA,     P10,     78,   1,      20,     -99,  2,19931105,0810,  31.2138,  146.7695,  6065,   1404.3,   2.8240,  34.4421,2,  34.4427,2,     41.9,2,   41.300,2,   143.27,2,    42.27,2,     0.01,2,     3.00,2,     0.03,2,    0.013,2, -999.000,9,   -999.0,9,   -999.0,9
           NA,     P10,     78,   1,      19,     -99,  2,19931105,0810,  31.2138,  146.7695,  6065,   1602.3,   2.4531,  34.5043,2,  34.5051,2,     47.2,2,   46.700,2,   153.25,2,    42.27,2,     0.01,2,     2.99,2,  -999.00,9, -999.000,9, -999.000,9,   -999.0,9,   -999.0,9
           NA,     P10,     78,   1,      18,     -99,  2,19931105,0810,  31.2138,  146.7695,  6065,   1802.4,   2.2477,  34.5425,2,  34.5426,2,     54.3,2,   54.800,2,   157.77,2,    41.92,2,     0.00,2,     2.96,2,  -999.00,9, -999.000,9, -999.000,9,   -999.0,9,   -999.0,9
           NA,     P10,     78,   1,      17,     -99,  2,19931105,0810,  31.2138,  146.7695,  6065,   2004.8,   2.0484,  34.5783,2,  34.5789,2,     72.2,2,   68.500,2,   160.13,2,    41.18,2,     0.00,2,     2.90,2,  -999.00,9, -999.000,9, -999.000,9,   -999.0,9,   -999.0,9
           NA,     P10,     78,   1,      16,     -99,  2,19931105,0810,  31.2138,  146.7695,  6065,   2247.0,   1.8695,  34.6107,2,  34.6104,2,     86.4,2,   86.900,2,   159.58,2,    40.06,2,     0.00,2,     2.81,2,  -999.00,9, -999.000,9, -999.000,9,   -999.0,9,   -999.0,9
           NA,     P10,     78,   1,      15,     -99,  2,19931105,0810,  31.2138,  146.7695,  6065,   2491.9,   1.7409,  34.6334,2,  34.6337,2,    103.2,2,  103.900,2,   157.41,2,    38.95,2,     0.00,2,     2.73,2,  -999.00,9, -999.000,9, -999.000,9,   -999.0,9,   -999.0,9
           NA,     P10,     78,   1,      14,     -99,  2,19931105,0810,  31.2138,  146.7695,  6065,   2745.7,   1.6505,  34.6483,2,  34.6489,2,    116.4,2,  115.900,2,   155.60,2,    38.20,2,     0.00,2,     2.67,2,  -999.00,9, -999.000,9, -999.000,9,   -999.0,9,   -999.0,9
           NA,     P10,     78,   1,      13,     -99,  2,19931105,0810,  31.2138,  146.7695,  6065,   3002.0,   1.5921,  34.6578,2,  34.6587,2,    125.1,2,  124.500,2,   154.33,2,    37.62,2,     0.00,2,     2.64,2,  -999.00,9, -999.000,9, -999.000,9,   -999.0,9,   -999.0,9
           NA,     P10,     78,   1,      12,     -99,  2,19931105,0810,  31.2138,  146.7695,  6065,   3259.2,   1.5508,  34.6655,2,  34.6660,2,    134.0,2,  133.200,2,   151.98,2,    37.04,2,     0.00,2,     2.59,2,  -999.00,9, -999.000,9, -999.000,9,   -999.0,9,   -999.0,9
           NA,     P10,     78,   1,      11,     -99,  2,19931105,0810,  31.2138,  146.7695,  6065,   3499.9,   1.5168,  34.6723,2,  34.6726,2,    140.4,2,  141.200,2,   149.81,2,    36.56,2,     0.00,2,     2.55,2,  -999.00,9, -999.000,9, -999.000,9,   -999.0,9,   -999.0,9
           NA,     P10,     78,   1,      10,     -99,  2,19931105,0810,  31.2138,  146.7695,  6065,   3744.0,   1.5023,  34.6763,2,  34.6768,2,    145.3,2,  145.200,2,   148.72,2,    36.31,2,    -0.01,2,     2.54,2,  -999.00,9, -999.000,9, -999.000,9,   -999.0,9,   -999.0,9
           NA,     P10,     78,   1,       9,     -99,  2,19931105,0810,  31.2138,  146.7695,  6065,   3997.0,   1.4889,  34.6798,2,  34.6813,2,    149.1,2,  149.600,2,   147.27,2,    36.08,2,     0.01,2,     2.50,2,  -999.00,9, -999.000,9, -999.000,9,   -999.0,9,   -999.0,9
           NA,     P10,     78,   1,       8,     -99,  2,19931105,0810,  31.2138,  146.7695,  6065,   4250.7,   1.4809,  34.6834,2,  34.6840,2,    153.3,2,  153.400,2,   146.86,2,    35.69,2,     0.01,2,     2.46,2,  -999.00,9, -999.000,9, -999.000,9,   -999.0,9,   -999.0,9
           NA,     P10,     78,   1,       7,     -99,  2,19931105,0810,  31.2138,  146.7695,  6065,   4494.1,   1.4793,  34.6860,2,  34.6864,2,    156.3,2,  156.700,2,   145.65,2,    35.51,2,     0.01,2,     2.47,2,  -999.00,9, -999.000,9, -999.000,9,   -999.0,9,   -999.0,9
           NA,     P10,     78,   1,       6,     -99,  2,19931105,0810,  31.2138,  146.7695,  6065,   4743.2,   1.4881,  34.6874,2,  34.6890,2,    159.6,2,  160.000,2,   143.84,2,    35.29,2,     0.01,2,     2.45,2,  -999.00,9, -999.000,9, -999.000,9,   -999.0,9,   -999.0,9
           NA,     P10,     78,   1,       5,     -99,  2,19931105,0810,  31.2138,  146.7695,  6065,   4995.1,   1.5020,  34.6891,2,  34.6903,2,    162.3,2,  162.600,2,   142.57,2,    35.03,2,     0.01,2,     2.43,2,  -999.00,9, -999.000,9, -999.000,9,   -999.0,9,   -999.0,9
           NA,     P10,     78,   1,       4,     -99,  2,19931105,0810,  31.2138,  146.7695,  6065,   5297.5,   1.5242,  34.6909,2,  34.6919,2,    165.5,2,  165.600,2,   139.86,2,    34.82,2,     0.01,2,     2.42,2,  -999.00,4,    0.001,2, -999.000,9,   -999.0,9,   -999.0,9
           NA,     P10,     78,   1,       3,     -99,  2,19931105,0810,  31.2138,  146.7695,  6065,   5594.7,   1.5502,  34.6921,2,  34.6929,2,    168.0,2,  167.900,2,   138.05,2,    34.67,2,     0.01,2,     2.41,2,     0.00,2,    0.000,2, -999.000,9,   -999.0,9,   -999.0,9
           NA,     P10,     78,   1,       2,     -99,  2,19931105,0810,  31.2138,  146.7695,  6065,   5871.5,   1.5767,  34.6931,2,  34.6946,2,    169.5,2,  169.900,2,   136.24,2,    34.58,2,     0.00,2,     2.39,2,  -999.00,4,   -0.001,2, -999.000,9,   -999.0,9,   -999.0,9
           NA,     P10,     78,   1,       1,     -99,  2,19931105,0810,  31.2138,  146.7695,  6065,   6178.7,   1.6092,  34.6935,2,  34.6948,2,    170.5,2,  170.700,2,   136.13,2,    34.52,2,     0.01,2,     2.37,2,    -0.00,2,    0.002,2, -999.000,9,   -999.0,9,   -999.0,9