BOTTLE,20210102JOAExport
EXPOCODE,SECT_ID,STNNBR,CASTNO,SAMPNO,BTLNBR,BTLNBR_FLAG_W,DATE,TIME,LATITUDE,LONGITUDE,DEPTH,CTDPRS,CTDTMP,CTDSAL,CTDSAL_FLAG_W,SALNTY,SALNTY_FLAG_W,CTDOXY,CTDOXY_FLAG_W,OXYGEN,OXYGEN_FLAG_W,SILCAT,SILCAT_FLAG_W,NITRAT,NITRAT_FLAG_W,NITRIT,NITRIT_FLAG_W,PHSPHT,PHSPHT_FLAG_W,CFC-11,CFC-11_FLAG_W,CFC-12,CFC-12_FLAG_W,SF6,SF6_FLAG_W,TCARBN,TCARBN_FLAG_W,ALKALI,ALKALI_FLAG_W
,,,,,,,,,,,,DB,ITS-90,PSS-78,,PSS-78,,UMOL/KG,,UMOL/KG,,UMOL/KG,,UMOL/KG,,UMOL/KG,,UMOL/KG,,PMOL/KG,,PMOL/KG,,FMOL/KG,,UMOL/KG,,UMOL/KG
           NA,     P10,     73,   1,      36,     -99,  2,19931103,0817,  28.5055,  149.3222,  6224,     16.4,  25.6988,  35.0833,2,  35.0751,2,    226.3,2,  212.300,2,     1.61,2,     0.03,2,     0.01,2,     0.01,2,     1.89,2,    1.045,2, -999.000,9,   -999.0,9,   -999.0,9
           NA,     P10,     73,   1,      35,     -99,  2,19931103,0817,  28.5055,  149.3222,  6224,     61.3,  25.5779,  35.0862,2,  35.0904,2,    213.3,2,  214.500,2,     1.63,2,     0.03,2,     0.01,2,     0.02,2,     1.92,2,    1.082,2, -999.000,9,   -999.0,9,   -999.0,9
           NA,     P10,     73,   1,      34,     -99,  2,19931103,0817,  28.5055,  149.3222,  6224,    110.9,  19.3920,  34.9100,2,  34.9088,2,    237.2,2,  221.800,2,     2.00,2,     0.18,2,     0.12,2,     0.07,2,     2.43,6,    1.294,6, -999.000,9,   -999.0,9,   -999.0,9
           NA,     P10,     73,   1,      33,     -99,  2,19931103,0817,  28.5055,  149.3222,  6224,    160.3,  18.2495,  34.8414,2,  34.8395,2,    214.6,2,  210.100,2,     3.05,2,     2.63,2,     0.02,2,     0.21,2,     2.44,2,    1.264,2, -999.000,9,   -999.0,9,   -999.0,9
           NA,     P10,     73,   1,      32,     -99,  2,19931103,0817,  28.5055,  149.3222,  6224,    209.7,  17.5785,  34.8184,2,  34.8167,2,    215.0,2,  215.500,2,     3.24,2,     3.15,2,     0.02,2,     0.24,2,     2.63,2,    1.406,2, -999.000,9,   -999.0,9,   -999.0,9
           NA,     P10,     73,   1,      31,     -99,  2,19931103,0817,  28.5055,  149.3222,  6224,    261.1,  17.1712,  34.7935,2,  34.7923,2,    218.9,2,  212.500,2,     4.11,2,     4.04,2,     0.02,2,     0.30,2,     2.43,2,    1.260,2, -999.000,9,   -999.0,9,   -999.0,9
           NA,     P10,     73,   1,      30,     -99,  2,19931103,0817,  28.5055,  149.3222,  6224,    310.4,  16.5676,  34.7431,2,  34.7412,2,    213.6,2,  199.700,2,     6.19,2,     6.19,2,     0.01,2,     0.44,2,     2.40,2,    1.250,2, -999.000,9,   -999.0,9,   -999.0,9
           NA,     P10,     73,   1,      29,     -99,  2,19931103,0817,  28.5055,  149.3222,  6224,    409.9,  15.0286,  34.6221,2,  34.6214,2,    197.1,2,  186.800,2,    11.17,2,     9.79,2,     0.01,2,     0.69,2,     2.22,2,    1.139,2, -999.000,9,   -999.0,9,   -999.0,9
           NA,     P10,     73,   1,      28,     -99,  2,19931103,0817,  28.5055,  149.3222,  6224,    510.5,  12.4070,  34.4410,2,  34.4362,2,    190.4,2,  182.900,2,    19.92,2,    14.38,2,     0.01,2,     1.02,2,     2.08,2,    1.057,2, -999.000,9,   -999.0,9,   -999.0,9
           NA,     P10,     73,   1,      27,     -99,  2,19931103,0817,  28.5055,  149.3222,  6224,    609.0,   8.6724,  34.1365,2,  34.1362,2,    184.3,2,  179.400,2,    36.40,2,    20.93,2,     0.01,2,     1.51,2,     2.27,2,    1.104,2, -999.000,9,   -999.0,9,   -999.0,9
           NA,     P10,     73,   1,      26,     -99,  2,19931103,0817,  28.5055,  149.3222,  6224,    708.5,   6.2035,  34.0028,2,  34.0034,2,    153.0,2,  153.600,2,    57.14,2,    28.03,2,     0.01,2,     2.02,2,     2.10,2,    0.997,2, -999.000,9,   -999.0,9,   -999.0,9
           NA,     P10,     73,   1,      25,     -99,  2,19931103,0817,  28.5055,  149.3222,  6224,    809.7,   4.9129,  34.0565,2,  34.0555,2,     99.9,2,  104.100,2,    80.09,2,    34.62,2,     0.00,2,     2.48,2,     1.29,2,    0.604,2, -999.000,9,   -999.0,9,   -999.0,9
           NA,     P10,     73,   1,      24,     -99,  2,19931103,0817,  28.5055,  149.3222,  6224,    909.8,   4.4201,  34.1546,2,  34.1543,2,     65.2,2,   70.400,2,    96.87,2,    38.12,2,     0.01,2,     2.73,2,     0.59,2,    0.271,2, -999.000,9,   -999.0,9,   -999.0,9
           NA,     P10,     73,   1,      23,     -99,  2,19931103,0817,  28.5055,  149.3222,  6224,   1008.5,   3.9535,  34.2477,2,  34.2466,2,     46.1,2,   48.700,2,   112.06,2,    40.46,2,     0.01,2,     2.86,2,     0.21,2,    0.090,2, -999.000,9,   -999.0,9,   -999.0,9
           NA,     P10,     73,   1,      22,     -99,  2,19931103,0817,  28.5055,  149.3222,  6224,   1209.0,   3.2426,  34.3781,2,  34.3781,2,     35.8,2,   36.000,2,   133.10,2,    42.20,2,     0.00,2,     2.99,2,     0.04,2,    0.020,2, -999.000,9,   -999.0,9,   -999.0,9
           NA,     P10,     73,   1,      21,     -99,  2,19931103,0817,  28.5055,  149.3222,  6224,   1410.9,   2.7291,  34.4607,2,  34.4591,2,     38.1,2,   37.700,2,   147.64,2,    42.66,2,     0.00,2,     3.00,2,  -999.00,9, -999.000,9, -999.000,9,   -999.0,9,   -999.0,9
           NA,     P10,     73,   1,      20,     -99,  2,19931103,0817,  28.5055,  149.3222,  6224,   1596.4,   2.4236,  34.5153,2,  34.5141,2,     47.2,2,   45.800,2,   155.01,2,    42.34,2,     0.01,2,     2.98,2,  -999.00,9, -999.000,9, -999.000,9,   -999.0,9,   -999.0,9
           NA,     P10,     73,   1,      19,     -99,  2,19931103,0817,  28.5055,  149.3222,  6224,   1797.1,   2.1995,  34.5603,2,  34.5599,2,     64.0,2,   61.800,2,   157.42,2,    41.45,2,     0.01,2,     2.90,2,  -999.00,9, -999.000,9, -999.000,9,   -999.0,9,   -999.0,9
           NA,     P10,     73,   1,      18,     -99,  2,19931103,0817,  28.5055,  149.3222,  6224,   2001.3,   1.9776,  34.5963,2,  34.5964,2,   -999.0,3,   79.300,2,   158.80,2,    40.40,2,     0.01,2,     2.81,2,  -999.00,9, -999.000,9, -999.000,9,   -999.0,9,   -999.0,9
           NA,     P10,     73,   1,      17,     -99,  2,19931103,0817,  28.5055,  149.3222,  6224,   2259.5,   1.8100,  34.6250,2,  34.6241,2,     99.3,2,   99.800,2,   156.43,2,    39.15,2,     0.01,2,     2.73,2,  -999.00,9, -999.000,9, -999.000,9,   -999.0,9,   -999.0,9
           NA,     P10,     73,   1,      16,     -99,  2,19931103,0817,  28.5055,  149.3222,  6224,   2494.6,   1.7327,  34.6404,2,  34.6404,2,    114.4,2,  114.200,2,   152.67,2,    38.26,2,     0.01,2,     2.66,2,  -999.00,9, -999.000,9, -999.000,9,   -999.0,9,   -999.0,9
           NA,     P10,     73,   1,      15,     -99,  2,19931103,0817,  28.5055,  149.3222,  6224,   2741.6,   1.6597,  34.6515,2,  34.6510,2,    123.7,2,  122.800,2,   151.50,2,    37.75,2,     0.01,2,     2.62,2,  -999.00,9, -999.000,9, -999.000,9,   -999.0,9,   -999.0,9
           NA,     P10,     73,   1,      14,     -99,  2,19931103,0817,  28.5055,  149.3222,  6224,   3008.0,   1.5917,  34.6616,2,  34.6612,2,    130.5,2,  130.400,2,   151.00,2,    37.37,2,     0.01,2,     2.58,2,     0.00,2,   -0.003,2, -999.000,9,   -999.0,9,   -999.0,9
           NA,     P10,     73,   1,      13,     -99,  2,19931103,0817,  28.5055,  149.3222,  6224,   3267.3,   1.5603,  34.6674,2,  34.6671,2,    137.5,2,  135.800,2,   150.16,2,    37.06,2,     0.01,2,     2.55,2,  -999.00,9, -999.000,9, -999.000,9,   -999.0,9,   -999.0,9
           NA,     P10,     73,   1,      12,     -99,  2,19931103,0817,  28.5055,  149.3222,  6224,   3496.0,   1.5301,  34.6722,2,  34.6719,2,    140.2,2,  140.600,2,   149.66,2,    36.75,2,     0.01,2,     2.53,2,  -999.00,9, -999.000,9, -999.000,9,   -999.0,9,   -999.0,9
           NA,     P10,     73,   1,      11,     -99,  2,19931103,0817,  28.5055,  149.3222,  6224,   3745.8,   1.5112,  34.6765,2,  34.6758,2,    144.5,2,  144.400,2,   149.17,2,    36.49,2,     0.01,2,     2.51,2,  -999.00,9, -999.000,9, -999.000,9,   -999.0,9,   -999.0,9
           NA,     P10,     73,   1,      10,     -99,  2,19931103,0817,  28.5055,  149.3222,  6224,   3998.1,   1.4953,  34.6805,2,  34.6793,2,    148.9,2,  148.800,2,   148.17,2,    36.13,2,     0.00,2,     2.48,2,  -999.00,9, -999.000,9, -999.000,9,   -999.0,9,   -999.0,9
           NA,     P10,     73,   1,       9,     -99,  2,19931103,0817,  28.5055,  149.3222,  6224,   4250.5,   1.4900,  34.6834,2,  34.6831,2,    153.3,2,  153.300,2,   146.81,2,    35.87,2,     0.00,2,     2.47,2,  -999.00,9, -999.000,9, -999.000,9,   -999.0,9,   -999.0,9
           NA,     P10,     73,   1,       8,     -99,  2,19931103,0817,  28.5055,  149.3222,  6224,   4499.6,   1.4905,  34.6855,2,  34.6856,2,    156.4,2,  156.100,2,   145.46,2,    35.62,2,     0.00,2,     2.44,2,  -999.00,9, -999.000,9, -999.000,9,   -999.0,9,   -999.0,9
           NA,     P10,     73,   1,       7,     -99,  2,19931103,0817,  28.5055,  149.3222,  6224,   4748.2,   1.4960,  34.6880,2,  34.6870,2,    159.6,2,  159.300,2,   144.62,2,    35.40,2,     0.00,2,     2.43,2,  -999.00,9, -999.000,9, -999.000,9,   -999.0,9,   -999.0,9
           NA,     P10,     73,   1,       6,     -99,  2,19931103,0817,  28.5055,  149.3222,  6224,   4998.4,   1.5086,  34.6895,2,-999.0000,3,    162.3,2,  161.100,2,   142.77,2,    35.20,2,     0.00,2,     2.42,2,  -999.00,9, -999.000,9, -999.000,9,   -999.0,9,   -999.0,9
           NA,     P10,     73,   1,       5,     -99,  2,19931103,0817,  28.5055,  149.3222,  6224,   5247.2,   1.5247,  34.6910,2,  34.6907,2,    164.4,2,  164.500,2,   140.90,2,    35.00,2,    -0.01,2,     2.40,2,    -0.00,2,    0.006,2, -999.000,9,   -999.0,9,   -999.0,9
           NA,     P10,     73,   1,       4,     -99,  2,19931103,0817,  28.5055,  149.3222,  6224,   5497.7,   1.5455,  34.6925,2,  34.6917,2,    166.9,2,  166.800,2,   139.38,2,    34.88,2,     0.00,2,     2.39,2,  -999.00,4,    0.002,2, -999.000,9,   -999.0,9,   -999.0,9
           NA,     P10,     73,   1,       3,     -99,  2,19931103,0817,  28.5055,  149.3222,  6224,   5746.3,   1.5695,  34.6924,2,  34.6927,2,    168.8,2,  168.200,2,   138.21,2,    34.74,2,    -0.01,2,     2.38,2,  -999.00,9, -999.000,9, -999.000,9,   -999.0,9,   -999.0,9
           NA,     P10,     73,   1,       2,     -99,  2,19931103,0817,  28.5055,  149.3222,  6224,   5997.6,   1.5932,  34.6935,2,  34.6939,2,    170.8,2,  169.900,2,   137.02,2,    34.58,2,    -0.01,2,     2.37,2,  -999.00,4,    0.002,2, -999.000,9,   -999.0,9,   -999.0,9
           NA,     P10,     73,   1,       1,     -99,  2,19931103,0817,  28.5055,  149.3222,  6224,   6331.5,   1.6356,  34.6947,2,  34.6945,2,    171.7,2,  170.900,2,   136.25,2,    34.50,2,     0.00,2,     2.37,2,     0.01,2,   -0.004,2, -999.000,9,   -999.0,9,   -999.0,9