BOTTLE,20210102JOAExport
EXPOCODE,SECT_ID,STNNBR,CASTNO,SAMPNO,BTLNBR,BTLNBR_FLAG_W,DATE,TIME,LATITUDE,LONGITUDE,DEPTH,CTDPRS,CTDTMP,CTDSAL,CTDSAL_FLAG_W,SALNTY,SALNTY_FLAG_W,CTDOXY,CTDOXY_FLAG_W,OXYGEN,OXYGEN_FLAG_W,SILCAT,SILCAT_FLAG_W,NITRAT,NITRAT_FLAG_W,NITRIT,NITRIT_FLAG_W,PHSPHT,PHSPHT_FLAG_W,CFC-11,CFC-11_FLAG_W,CFC-12,CFC-12_FLAG_W,SF6,SF6_FLAG_W,TCARBN,TCARBN_FLAG_W,ALKALI,ALKALI_FLAG_W
,,,,,,,,,,,,DB,ITS-90,PSS-78,,PSS-78,,UMOL/KG,,UMOL/KG,,UMOL/KG,,UMOL/KG,,UMOL/KG,,UMOL/KG,,PMOL/KG,,PMOL/KG,,FMOL/KG,,UMOL/KG,,UMOL/KG
           NA,     P10,     45,   1,      36,     -99,  2,19931023,0141,   9.9972,  149.3278,  5557,      8.4,  29.0108,  34.0762,2,  34.0765,2,    210.4,2,  202.100,2,     1.36,2,     0.00,2,     0.01,2,     0.12,2,     1.81,2,    0.928,2, -999.000,9,   -999.0,9,   -999.0,9
           NA,     P10,     45,   1,      34,     -99,  2,19931023,0141,   9.9972,  149.3278,  5557,     46.3,  28.4009,  34.5670,2,  34.5198,2,    215.6,2,  217.400,2,     1.20,2,    -0.01,2,     0.02,2,     0.13,2,     1.85,2,    1.006,2, -999.000,9,   -999.0,9,   -999.0,9
           NA,     P10,     45,   1,      33,     -99,  2,19931023,0141,   9.9972,  149.3278,  5557,     95.9,  22.4856,  34.8473,2,  34.8445,2,    210.8,2,  196.000,2,     2.51,2,     0.26,2,     0.03,2,     0.27,2,     2.17,2,    1.126,2, -999.000,9,   -999.0,9,   -999.0,9
           NA,     P10,     45,   1,      32,     -99,  2,19931023,0141,   9.9972,  149.3278,  5557,    149.6,  17.4665,  34.7397,2,  34.7340,2,    162.5,2,  162.200,2,     6.60,2,     7.80,2,     0.06,2,     0.71,2,     2.27,6,    1.135,6, -999.000,9,   -999.0,9,   -999.0,9
           NA,     P10,     45,   1,      31,     -99,  2,19931023,0141,   9.9972,  149.3278,  5557,    199.8,  12.2161,  34.4051,2,  34.4101,2,    116.6,2,  144.100,2,    18.20,2,    17.71,2,     0.02,2,     1.34,2,     1.78,2,    0.841,2, -999.000,9,   -999.0,9,   -999.0,9
           NA,     P10,     45,   1,      30,     -99,  2,19931023,0141,   9.9972,  149.3278,  5557,    297.7,   9.6607,  34.5967,2,  34.5958,2,     46.7,2,   48.200,2,    35.67,2,    32.79,2,     0.02,2,     2.33,2,     0.21,2,    0.103,2, -999.000,9,   -999.0,9,   -999.0,9
           NA,     P10,     45,   1,      29,     -99,  2,19931023,0141,   9.9972,  149.3278,  5557,    390.3,   8.5377,  34.5927,2,  34.5933,2,     51.2,2,   51.800,2,    41.05,2,    34.76,2,     0.01,2,     2.46,2,     0.09,2,    0.033,2, -999.000,9,   -999.0,9,   -999.0,9
           NA,     P10,     45,   1,      28,     -99,  2,19931023,0141,   9.9972,  149.3278,  5557,    498.4,   7.6861,  34.5658,2,  34.5650,2,     55.0,2,   54.600,2,    47.92,2,    36.08,2,     0.02,2,     2.57,2,     0.04,2,    0.019,2, -999.000,9,   -999.0,9,   -999.0,9
           NA,     P10,     45,   1,      27,     -99,  2,19931023,0141,   9.9972,  149.3278,  5557,    594.0,   7.0307,  34.5427,2,  34.5416,2,     56.0,2, -999.000,4,    55.26,2,    37.18,2,     0.01,2,     2.66,2,     0.02,2,    0.003,2, -999.000,9,   -999.0,9,   -999.0,9
           NA,     P10,     45,   1,      26,     -99,  2,19931023,0141,   9.9972,  149.3278,  5557,    699.6,   6.2882,  34.5336,2,  34.5330,2,     59.1,2,   59.800,2,    64.40,2,    38.34,2,     0.01,2,     2.73,2,     0.01,2,    0.005,2, -999.000,9,   -999.0,9,   -999.0,9
           NA,     P10,     45,   1,      25,     -99,  2,19931023,0141,   9.9972,  149.3278,  5557,    801.0,   5.5977,  34.5336,2,  34.5304,2,     66.7,2,   66.000,2,    74.03,2,    38.81,2,     0.01,2,     2.77,2,     0.00,2,   -0.001,2, -999.000,9,   -999.0,9,   -999.0,9
           NA,     P10,     45,   1,      24,     -99,  2,19931023,0141,   9.9972,  149.3278,  5557,    999.4,   4.5309,  34.5485,2,  34.5469,2,     81.6,2,   81.400,2,    93.13,2,    38.71,2,     0.01,2,     2.76,2,     0.01,2,    0.001,2, -999.000,9,   -999.0,9,   -999.0,9
           NA,     P10,     45,   1,      23,     -99,  2,19931023,0141,   9.9972,  149.3278,  5557,   1193.2,   3.7612,  34.5727,2,  34.5707,2,     87.3,2, -999.000,3,   107.65,2,    38.88,2,     0.01,2,     2.78,2,     0.00,2,    0.000,2, -999.000,9,   -999.0,9,   -999.0,9
           NA,     P10,     45,   1,      22,     -99,  2,19931023,0141,   9.9972,  149.3278,  5557,   1398.2,   3.1163,  34.5913,2,  34.5960,2,     93.4,2,   94.700,2,   121.68,2,    39.07,2,     0.01,2,     2.77,2,    -0.00,2,    0.000,2, -999.000,9,   -999.0,9,   -999.0,9
           NA,     P10,     45,   1,      20,     -99,  2,19931023,0141,   9.9972,  149.3278,  5557,   1602.0,   2.7295,  34.6095,2,  34.6086,2,     98.4,2,  100.700,2,   129.35,2,    38.97,2,     0.01,2,     2.76,2,  -999.00,9, -999.000,9, -999.000,9,   -999.0,9,   -999.0,9
           NA,     P10,     45,   1,      19,     -99,  2,19931023,0141,   9.9972,  149.3278,  5557,   1804.1,   2.4759,  34.6234,2,  34.6241,2,    102.0,2,  103.400,2,   134.89,2,  -999.00,3,     0.01,2,     2.75,2,  -999.00,9, -999.000,9, -999.000,9,   -999.0,9,   -999.0,9
           NA,     P10,     45,   1,      18,     -99,  2,19931023,0141,   9.9972,  149.3278,  5557,   2012.9,   2.2027,  34.6333,2,-999.0000,4,    110.8,2,  110.500,2,   139.78,2,    38.52,2,     0.01,2,     2.72,2,  -999.00,9, -999.000,9, -999.000,9,   -999.0,9,   -999.0,9
           NA,     P10,     45,   1,      17,     -99,  2,19931023,0141,   9.9972,  149.3278,  5557,   2262.3,   1.9836,  34.6470,2,  34.6481,2,    116.3,2,  117.100,2,   144.02,2,    38.13,2,     0.01,2,     2.69,2,  -999.00,9, -999.000,9, -999.000,9,   -999.0,9,   -999.0,9
           NA,     P10,     45,   1,      16,     -99,  2,19931023,0141,   9.9972,  149.3278,  5557,   2468.1,   1.8367,  34.6567,2,  34.6571,2,    121.4,2,  123.200,2,   145.97,2,    37.84,2,     0.01,2,     2.66,2,  -999.00,9, -999.000,9, -999.000,9,   -999.0,9,   -999.0,9
           NA,     P10,     45,   1,      15,     -99,  2,19931023,0141,   9.9972,  149.3278,  5557,   2743.3,   1.7082,  34.6640,2,  34.6634,2,    128.8,2,  130.700,2,   146.95,2,    37.24,2,     0.00,2,     2.62,2,  -999.00,9, -999.000,9, -999.000,9,   -999.0,9,   -999.0,9
           NA,     P10,     45,   1,      14,     -99,  2,19931023,0141,   9.9972,  149.3278,  5557,   2988.3,   1.6262,  34.6700,2,  34.6709,2,   -999.0,3,  137.000,2,   147.92,2,    36.94,2,     0.01,2,     2.61,2,    -0.00,2,   -0.002,2, -999.000,9,   -999.0,9,   -999.0,9
           NA,     P10,     45,   1,      13,     -99,  2,19931023,0141,   9.9972,  149.3278,  5557,   3187.6,   1.5739,  34.6747,2,  34.6748,2,    139.1,2,  140.500,2,   147.27,2,    36.66,2,     0.01,2,     2.57,2,  -999.00,9, -999.000,9, -999.000,9,   -999.0,9,   -999.0,9
           NA,     P10,     45,   1,      12,     -99,  2,19931023,0141,   9.9972,  149.3278,  5557,   3390.6,   1.5362,  34.6790,2,  34.6779,2,    145.5,2,  145.700,2,   145.80,2,    36.28,2,     0.00,2,     2.55,2,  -999.00,9, -999.000,9, -999.000,9,   -999.0,9,   -999.0,9
           NA,     P10,     45,   1,      10,     -99,  2,19931023,0141,   9.9972,  149.3278,  5557,   3595.1,   1.5099,  34.6818,2,  34.6833,2,    149.2,2,  150.900,2,   144.50,2,    36.00,2,     0.01,2,     2.52,2,  -999.00,9, -999.000,9, -999.000,9,   -999.0,9,   -999.0,9
           NA,     P10,     45,   1,       9,     -99,  2,19931023,0141,   9.9972,  149.3278,  5557,   3797.9,   1.4816,  34.6859,2,-999.0000,3,    154.7,2,  155.100,2,   142.37,2,    35.60,2,     0.01,2,     2.51,2,  -999.00,9, -999.000,9, -999.000,9,   -999.0,9,   -999.0,9
           NA,     P10,     45,   1,       8,     -99,  2,19931023,0141,   9.9972,  149.3278,  5557,   3999.4,   1.4662,  34.6882,2,  34.6888,2,    158.9,2,  158.800,2,   140.57,2,    35.33,2,     0.00,2,     2.49,2,  -999.00,9, -999.000,9, -999.000,9,   -999.0,9,   -999.0,9
           NA,     P10,     45,   1,       7,     -99,  2,19931023,0141,   9.9972,  149.3278,  5557,   4200.9,   1.4564,  34.6906,2,  34.6929,2,    163.1,2,  162.800,2,   138.78,2,    35.17,2,     0.00,2,     2.47,2,  -999.00,9, -999.000,9, -999.000,9,   -999.0,9,   -999.0,9
           NA,     P10,     45,   1,       6,     -99,  2,19931023,0141,   9.9972,  149.3278,  5557,   4401.7,   1.4459,  34.6927,2,  34.6948,2,    167.1,2,  166.300,2,   137.31,2,    34.88,2,     0.00,2,     2.45,2,  -999.00,9, -999.000,9, -999.000,9,   -999.0,9,   -999.0,9
           NA,     P10,     45,   1,       5,     -99,  2,19931023,0141,   9.9972,  149.3278,  5557,   4591.2,   1.4449,  34.6944,2,  34.6950,2,    170.0,2,  169.000,2,   136.16,2,    34.61,2,     0.00,2,     2.43,2,  -999.00,9, -999.000,9, -999.000,9,   -999.0,9,   -999.0,9
           NA,     P10,     45,   1,       4,     -99,  2,19931023,0141,   9.9972,  149.3278,  5557,   4809.7,   1.4491,  34.6963,2,  34.6960,2,    172.6,2,  171.600,2,   134.21,2,    34.39,2,     0.00,2,     2.41,2,  -999.00,9, -999.000,9, -999.000,9,   -999.0,9,   -999.0,9
           NA,     P10,     45,   1,       3,     -99,  2,19931023,0141,   9.9972,  149.3278,  5557,   5005.9,   1.4550,  34.6979,2,  34.6972,2,    175.4,2,  174.200,2,   133.39,2,    34.36,2,    -0.02,2,     2.38,2,    -0.00,2,    0.001,2, -999.000,9,   -999.0,9,   -999.0,9
           NA,     P10,     45,   1,       2,     -99,  2,19931023,0141,   9.9972,  149.3278,  5557,   5420.2,   1.4909,  34.6991,2,  34.7017,2,    177.6,2,  176.200,2,   132.25,2,    34.23,2,    -0.01,2,     2.37,2,  -999.00,9, -999.000,9, -999.000,9,   -999.0,9,   -999.0,9
           NA,     P10,     45,   1,       1,     -99,  2,19931023,0141,   9.9972,  149.3278,  5557,   5642.5,   1.5207,  34.6988,2,-999.0000,4,    176.4,2,  176.400,2,   132.08,2,    34.05,2,    -0.02,2,     2.36,2,    -0.00,2,   -0.002,2, -999.000,9,   -999.0,9,   -999.0,9
           NA,     P10,     46,   1,      36,     -99,  3,19931023,0837,  10.4972,  149.3305,  5715,     16.9,  29.0806,  34.2283,2,  34.2296,2,    208.0,2,  202.700,2,     0.87,2,     0.00,2,     0.01,2,     0.12,2,  -999.00,4, -999.000,4, -999.000,9,   -999.0,9,   -999.0,9
           NA,     P10,     46,   1,      35,     -99,  2,19931023,0837,  10.4972,  149.3305,  5715,     61.1,  26.4759,  34.8734,2,  34.8718,2,    220.4,2,  217.200,2,     1.10,2,     0.01,2,     0.00,2,     0.13,2,     1.99,2,    1.061,2, -999.000,9,   -999.0,9,   -999.0,9
           NA,     P10,     46,   1,      34,     -99,  2,19931023,0837,  10.4972,  149.3305,  5715,    110.5,  20.5249,  34.9367,2,  34.8856,2,   -999.0,3,  173.900,2,     2.27,2,     3.11,2,     0.11,2,     0.48,2,     2.23,2,    1.143,2, -999.000,9,   -999.0,9,   -999.0,9
           NA,     P10,     46,   1,      33,     -99,  2,19931023,0837,  10.4972,  149.3305,  5715,    160.4,  14.9537,  34.5915,2,  34.5891,2,    176.5,2,  181.000,2,     9.12,2,     9.70,2,     0.01,2,     0.87,2,     2.39,2,    1.182,2, -999.000,9,   -999.0,9,   -999.0,9
           NA,     P10,     46,   1,      32,     -99,  2,19931023,0837,  10.4972,  149.3305,  5715,    210.6,  11.4931,  34.4495,2,  34.4540,2,   -999.0,3,  100.100,2,    25.07,2,    23.49,2,     0.01,2,     1.82,2,     1.08,2,    0.508,2, -999.000,9,   -999.0,9,   -999.0,9
           NA,     P10,     46,   1,      31,     -99,  2,19931023,0837,  10.4972,  149.3305,  5715,    308.5,   9.5209,  34.5937,2,  34.5933,2,     49.6,2,   49.900,2,    36.55,2,    32.82,2,     0.01,2,     2.34,2,     0.19,6,    0.094,6, -999.000,9,   -999.0,9,   -999.0,9
           NA,     P10,     46,   1,      30,     -99,  2,19931023,0837,  10.4972,  149.3305,  5715,    409.1,   8.3734,  34.5850,2,-999.0000,4,     53.9,2,   53.500,2,    42.50,2,    34.83,2,     0.01,2,     2.47,2,     0.07,2,    0.034,2, -999.000,9,   -999.0,9,   -999.0,9
           NA,     P10,     46,   1,      29,     -99,  2,19931023,0837,  10.4972,  149.3305,  5715,    507.4,   7.3711,  34.5455,2,-999.0000,4,     65.4,2,   64.800,2,    50.56,2,    35.61,2,     0.00,2,     2.54,2,     0.06,2,    0.025,2, -999.000,9,   -999.0,9,   -999.0,9
           NA,     P10,     46,   1,      28,     -99,  2,19931023,0837,  10.4972,  149.3305,  5715,    605.6,   6.5096,  34.5205,2,  34.5479,2,     69.1,2,   74.400,2,    57.57,2,    36.16,2,     0.00,2,     2.59,2,     0.04,2,    0.020,2, -999.000,9,   -999.0,9,   -999.0,9
           NA,     P10,     46,   1,      27,     -99,  2,19931023,0837,  10.4972,  149.3305,  5715,    705.8,   5.8632,  34.5294,2,  34.5294,2,     79.7,2,   69.900,2,    66.72,2,    37.79,2,     0.00,2,     2.71,2,     0.01,2,    0.003,2, -999.000,9,   -999.0,9,   -999.0,9
           NA,     P10,     46,   1,      26,     -99,  2,19931023,0837,  10.4972,  149.3305,  5715,    805.6,   5.3074,  34.5371,2,-999.0000,4,     73.3,2,   70.300,2,    75.72,2,    38.61,2,     0.00,2,     2.75,2,     0.01,2,    0.007,2, -999.000,9,   -999.0,9,   -999.0,9
           NA,     P10,     46,   1,      24,     -99,  2,19931023,0837,  10.4972,  149.3305,  5715,   1008.7,   4.4423,  34.5546,2,-999.0000,9,     80.1,2,   80.300,2,    91.15,2,    38.87,2,     0.00,2,     2.76,2,     0.01,2,    0.005,2, -999.000,9,   -999.0,9,   -999.0,9
           NA,     P10,     46,   1,      23,     -99,  2,19931023,0837,  10.4972,  149.3305,  5715,   1209.3,   3.7828,  34.5707,2,-999.0000,4,     87.6,2,   86.500,2,   104.91,2,    38.99,2,     0.00,2,     2.76,2,     0.01,2,    0.002,2, -999.000,9,   -999.0,9,   -999.0,9
           NA,     P10,     46,   1,      22,     -99,  2,19931023,0837,  10.4972,  149.3305,  5715,   1409.5,   3.1988,  34.5847,2,-999.0000,3,     92.6,2,   91.100,2,   118.06,2,    39.16,2,    -0.01,2,     2.76,2,  -999.00,9, -999.000,9, -999.000,9,   -999.0,9,   -999.0,9
           NA,     P10,     46,   1,      20,     -99,  2,19931023,0837,  10.4972,  149.3305,  5715,   1612.9,   2.7696,  34.6033,2,-999.0000,3,     99.7,2,   97.200,2,   126.58,2,    38.99,2,     0.00,2,     2.75,2,  -999.00,9, -999.000,9, -999.000,9,   -999.0,9,   -999.0,9
           NA,     P10,     46,   1,      19,     -99,  2,19931023,0837,  10.4972,  149.3305,  5715,   1813.8,   2.4560,  34.6212,2,-999.0000,4,    106.2,2,  104.100,2,   132.49,2,    38.61,2,     0.00,2,     2.71,2,  -999.00,9, -999.000,9, -999.000,9,   -999.0,9,   -999.0,9
           NA,     P10,     46,   1,      18,     -99,  2,19931023,0837,  10.4972,  149.3305,  5715,   2014.2,   2.2484,  34.6325,2,-999.0000,4,    111.1,2,  109.100,2,   136.41,2,    38.39,2,     0.00,2,     2.69,2,  -999.00,9, -999.000,9, -999.000,9,   -999.0,9,   -999.0,9
           NA,     P10,     46,   1,      17,     -99,  2,19931023,0837,  10.4972,  149.3305,  5715,   2215.7,   2.0946,  34.6415,2,-999.0000,4,    115.2,2,  113.300,2,   139.54,2,    38.23,2,     0.00,2,     2.68,2,  -999.00,9, -999.000,9, -999.000,9,   -999.0,9,   -999.0,9
           NA,     P10,     46,   1,      16,     -99,  2,19931023,0837,  10.4972,  149.3305,  5715,   2417.3,   1.9304,  34.6495,2,-999.0000,3,    120.2,2,  120.000,2,   142.22,2,    37.79,2,     0.00,2,     2.64,2,  -999.00,9, -999.000,9, -999.000,9,   -999.0,9,   -999.0,9
           NA,     P10,     46,   1,      15,     -99,  2,19931023,0837,  10.4972,  149.3305,  5715,   2592.7,   1.8199,  34.6566,2,  34.6516,2,    123.9,2,  124.600,2,   143.71,2,    37.54,2,    -0.01,2,     2.62,2,  -999.00,9, -999.000,9, -999.000,9,   -999.0,9,   -999.0,9
           NA,     P10,     46,   1,      14,     -99,  2,19931023,0837,  10.4972,  149.3305,  5715,   2796.7,   1.7341,  34.6622,2,-999.0000,3,    128.2,2,  129.100,2,   145.15,2,    37.32,2,     0.00,2,     2.60,2,  -999.00,9, -999.000,9, -999.000,9,   -999.0,9,   -999.0,9
           NA,     P10,     46,   1,      13,     -99,  2,19931023,0837,  10.4972,  149.3305,  5715,   2993.4,   1.6754,  34.6673,2,  34.6691,2,    132.8,2,  132.900,2,   145.68,2,    37.05,2,     0.00,2,     2.58,2,     0.01,2,    0.004,2, -999.000,9,   -999.0,9,   -999.0,9
           NA,     P10,     46,   1,      12,     -99,  2,19931023,0837,  10.4972,  149.3305,  5715,   3247.9,   1.5982,  34.6734,2,-999.0000,4,    138.7,2,  139.300,2,   145.59,2,    36.70,2,     0.00,2,     2.55,2,  -999.00,9, -999.000,9, -999.000,9,   -999.0,9,   -999.0,9
           NA,     P10,     46,   1,      10,     -99,  2,19931023,0837,  10.4972,  149.3305,  5715,   3501.2,   1.5454,  34.6782,2,-999.0000,4,    145.4,2,  145.600,2,   144.12,2,    36.23,2,     0.00,2,     2.52,2,  -999.00,9, -999.000,9, -999.000,9,   -999.0,9,   -999.0,9
           NA,     P10,     46,   1,       9,     -99,  2,19931023,0837,  10.4972,  149.3305,  5715,   3708.9,   1.5048,  34.6826,2,  34.6825,2,    151.1,2,  151.800,2,   142.02,2,    35.86,2,    -0.01,2,     2.49,2,  -999.00,9, -999.000,9, -999.000,9,   -999.0,9,   -999.0,9
           NA,     P10,     46,   1,       8,     -99,  2,19931023,0837,  10.4972,  149.3305,  5715,   3997.0,   1.4799,  34.6864,2,  34.6913,2,    157.4,2,  157.200,2,   139.79,2,    35.48,2,    -0.01,2,     2.47,2,    -0.00,2,    0.002,2, -999.000,9,   -999.0,9,   -999.0,9
           NA,     P10,     46,   1,       7,     -99,  2,19931023,0837,  10.4972,  149.3305,  5715,   4245.1,   1.4618,  34.6893,2,-999.0000,3,    163.4,2,  162.100,2,   137.85,2,    35.07,2,     0.00,2,     2.43,2,  -999.00,9, -999.000,9, -999.000,9,   -999.0,9,   -999.0,9
           NA,     P10,     46,   1,       6,     -99,  2,19931023,0837,  10.4972,  149.3305,  5715,   4495.0,   1.4524,  34.6924,2,  34.6946,2,    167.6,2,  167.000,2,   135.77,2,    34.78,2,    -0.01,2,     2.41,2,  -999.00,9, -999.000,9, -999.000,9,   -999.0,9,   -999.0,9
           NA,     P10,     46,   1,       5,     -99,  2,19931023,0837,  10.4972,  149.3305,  5715,   4742.5,   1.4495,  34.6943,2,  34.6952,2,    171.9,2,  170.600,2,   134.67,2,    34.45,2,    -0.01,2,     2.39,2,  -999.00,9, -999.000,9, -999.000,9,   -999.0,9,   -999.0,9
           NA,     P10,     46,   1,       4,     -99,  2,19931023,0837,  10.4972,  149.3305,  5715,   4997.4,   1.4568,  34.6968,2,  34.6982,2,    175.0,2,  174.000,2,   132.37,2,    34.29,2,    -0.01,2,     2.38,2,  -999.00,9, -999.000,9, -999.000,9,   -999.0,9,   -999.0,9
           NA,     P10,     46,   1,       3,     -99,  2,19931023,0837,  10.4972,  149.3305,  5715,   5253.4,   1.4769,  34.6976,2,-999.0000,3,    176.6,2,  175.500,2,   131.51,2,    34.17,2,     0.00,2,     2.37,2,  -999.00,9, -999.000,9, -999.000,9,   -999.0,9,   -999.0,9
           NA,     P10,     46,   1,       2,     -99,  2,19931023,0837,  10.4972,  149.3305,  5715,   5491.5,   1.5008,  34.6981,2,  34.7004,2,    177.3,2,  176.000,2,   131.12,2,    34.13,2,    -0.01,2,     2.36,2,  -999.00,9, -999.000,9, -999.000,9,   -999.0,9,   -999.0,9
           NA,     P10,     46,   1,       1,     -99,  2,19931023,0837,  10.4972,  149.3305,  5715,   5808.3,   1.5388,  34.6987,2,-999.0000,4,    177.1,2,  177.000,2,   131.25,2,    34.00,2,    -0.01,2,     2.33,2,     0.00,2,    0.004,2, -999.000,9,   -999.0,9,   -999.0,9