BOTTLE,20210102JOAExport
EXPOCODE,SECT_ID,STNNBR,CASTNO,SAMPNO,BTLNBR,BTLNBR_FLAG_W,DATE,TIME,LATITUDE,LONGITUDE,DEPTH,CTDPRS,CTDTMP,CTDSAL,CTDSAL_FLAG_W,SALNTY,SALNTY_FLAG_W,CTDOXY,CTDOXY_FLAG_W,OXYGEN,OXYGEN_FLAG_W,SILCAT,SILCAT_FLAG_W,NITRAT,NITRAT_FLAG_W,NITRIT,NITRIT_FLAG_W,PHSPHT,PHSPHT_FLAG_W,CFC-11,CFC-11_FLAG_W,CFC-12,CFC-12_FLAG_W,SF6,SF6_FLAG_W,TCARBN,TCARBN_FLAG_W,ALKALI,ALKALI_FLAG_W
,,,,,,,,,,,,DB,ITS-90,PSS-78,,PSS-78,,UMOL/KG,,UMOL/KG,,UMOL/KG,,UMOL/KG,,UMOL/KG,,UMOL/KG,,PMOL/KG,,PMOL/KG,,FMOL/KG,,UMOL/KG,,UMOL/KG
           NA,     P10,     53,   1,      36,     -99,  2,19931026,0403,  15.1695,  149.3417,  5684,      9.5,  28.9923,  34.2903,2,  34.2921,2,    201.9,2,  209.000,2,     1.08,2,     0.03,2,     0.01,2,     0.11,2,     1.75,2,    0.965,2, -999.000,9,   -999.0,9,   -999.0,9
           NA,     P10,     53,   1,      35,     -99,  2,19931026,0403,  15.1695,  149.3417,  5684,     52.6,  29.0143,  34.3986,2,  34.3965,2,    205.6,2,  208.100,2,     1.08,2,    -0.01,2,     0.01,2,     0.10,2,     1.75,2,    0.976,2, -999.000,9,   -999.0,9,   -999.0,9
           NA,     P10,     53,   1,      34,     -99,  2,19931026,0403,  15.1695,  149.3417,  5684,    101.9,  26.9343,  34.8666,2,  34.8624,2,    210.1,2,  223.600,2,     0.90,2,     0.03,2,     0.01,2,     0.08,2,     2.02,2,    1.081,2, -999.000,9,   -999.0,9,   -999.0,9
           NA,     P10,     53,   1,      33,     -99,  2,19931026,0403,  15.1695,  149.3417,  5684,    151.8,  24.8056,  35.1095,2,  35.1111,2,    194.4,2,  202.200,2,     1.07,2,     0.00,2,     0.15,2,     0.10,2,     2.09,2,    1.123,2, -999.000,9,   -999.0,9,   -999.0,9
           NA,     P10,     53,   1,      32,     -99,  2,19931026,0403,  15.1695,  149.3417,  5684,    200.5,  21.6282,  35.1379,2,  35.1298,2,    180.3,2,  185.100,2,     1.94,2,     1.54,2,     0.03,2,     0.24,2,     2.33,6,    1.231,6, -999.000,9,   -999.0,9,   -999.0,9
           NA,     P10,     53,   1,      31,     -99,  2,19931026,0403,  15.1695,  149.3417,  5684,    249.4,  17.3370,  34.8150,2,  34.8146,2,    185.8,2,  182.600,2,     4.92,2,     5.68,2,     0.01,2,     0.50,2,     2.47,2,    1.264,2, -999.000,9,   -999.0,9,   -999.0,9
           NA,     P10,     53,   1,      30,     -99,  2,19931026,0403,  15.1695,  149.3417,  5684,    298.9,  13.3433,  34.4613,2,  34.4589,2,    177.2,2,  164.300,2,    13.33,2,    13.39,2,     0.01,2,     1.05,2,     2.17,2,    1.038,2, -999.000,9,   -999.0,9,   -999.0,9
           NA,     P10,     53,   1,      29,     -99,  2,19931026,0403,  15.1695,  149.3417,  5684,    348.3,  10.4421,  34.3055,2,  34.3092,2,    143.7,2,  127.000,2,    26.67,2,    22.26,2,     0.01,2,     1.67,2,  -999.00,9, -999.000,9, -999.000,9,   -999.0,9,   -999.0,9
           NA,     P10,     53,   1,      28,     -99,  2,19931026,0403,  15.1695,  149.3417,  5684,    398.0,   9.1793,  34.2846,2,  34.2831,2,    118.2,2,  106.000,2,    35.78,2,    26.66,2,     0.01,2,     1.97,2,     0.88,2,    0.409,2, -999.000,9,   -999.0,9,   -999.0,9
           NA,     P10,     53,   1,      27,     -99,  2,19931026,0403,  15.1695,  149.3417,  5684,    457.8,   7.6032,  34.2964,2,  34.2917,2,   -999.0,3,   80.000,2,    51.38,2,    32.04,2,     0.01,2,     2.34,2,     0.39,2,    0.167,2, -999.000,9,   -999.0,9,   -999.0,9
           NA,     P10,     53,   1,      26,     -99,  2,19931026,0403,  15.1695,  149.3417,  5684,    498.3,   7.2855,  34.3626,2,  34.3622,2,     74.3,2,   64.800,2,    55.93,2,    34.22,2,     0.01,2,     2.51,2,     0.20,2,    0.096,2, -999.000,9,   -999.0,9,   -999.0,9
           NA,     P10,     53,   1,      25,     -99,  2,19931026,0403,  15.1695,  149.3417,  5684,    549.8,   6.7311,  34.4233,2,  34.4203,2,     61.5,2,   61.800,2,    62.58,2,    35.92,2,     0.00,2,     2.61,2,     0.10,2,    0.033,2, -999.000,9,   -999.0,9,   -999.0,9
           NA,     P10,     53,   1,      24,     -99,  2,19931026,0403,  15.1695,  149.3417,  5684,    599.4,   6.3748,  34.4420,2,  34.4383,2,     62.0,2,   63.800,2,    66.78,2,    36.45,2,     0.00,2,     2.65,2,     0.08,2,    0.028,2, -999.000,9,   -999.0,9,   -999.0,9
           NA,     P10,     53,   1,      23,     -99,  2,19931026,0403,  15.1695,  149.3417,  5684,    697.5,   5.8215,  34.4773,2,  34.4745,2,     65.7,2,   66.300,2,    73.78,2,    37.30,2,     0.00,2,     2.70,2,     0.04,2,    0.008,2, -999.000,9,   -999.0,9,   -999.0,9
           NA,     P10,     53,   1,      22,     -99,  2,19931026,0403,  15.1695,  149.3417,  5684,    805.4,   5.2539,  34.5022,2,  34.4988,2,     69.3,2,   68.500,2,    82.19,2,    38.15,2,     0.00,2,     2.75,2,     0.02,2,    0.006,2, -999.000,9,   -999.0,9,   -999.0,9
           NA,     P10,     53,   1,      21,     -99,  2,19931026,0403,  15.1695,  149.3417,  5684,    899.4,   4.8470,  34.5167,2,  34.5153,2,     77.6,2,   75.300,2,    89.02,2,    38.16,2,     0.00,2,     2.75,2,     0.02,2,    0.004,2, -999.000,9,   -999.0,9,   -999.0,9
           NA,     P10,     53,   1,      20,     -99,  2,19931026,0403,  15.1695,  149.3417,  5684,    998.0,   4.3616,  34.5367,2,  34.5332,2,     74.8,2,   72.700,2,    98.65,2,    39.12,2,     0.00,2,     2.81,2,     0.00,2,    0.001,2, -999.000,9,   -999.0,9,   -999.0,9
           NA,     P10,     53,   1,      19,     -99,  2,19931026,0403,  15.1695,  149.3417,  5684,   1239.6,   3.5653,  34.5591,2,-999.0000,4,     83.6,2,   85.000,2,   114.94,2,    38.75,2,     0.00,2,     2.79,2,     0.00,2,    0.000,2, -999.000,9,   -999.0,9,   -999.0,9
           NA,     P10,     53,   1,      18,     -99,  2,19931026,0403,  15.1695,  149.3417,  5684,   1491.9,   2.8867,  34.5901,2,  34.5876,2,     90.4,2,   91.500,2,   128.07,2,    39.02,2,     0.00,2,     2.79,2,  -999.00,9, -999.000,9, -999.000,9,   -999.0,9,   -999.0,9
           NA,     P10,     53,   1,      17,     -99,  2,19931026,0403,  15.1695,  149.3417,  5684,   1752.3,   2.4920,  34.6112,2,  34.6094,2,    101.0,2,  100.000,2,   135.41,2,    38.70,2,     0.00,2,     2.77,2,  -999.00,9, -999.000,9, -999.000,9,   -999.0,9,   -999.0,9
           NA,     P10,     53,   1,      16,     -99,  2,19931026,0403,  15.1695,  149.3417,  5684,   1998.2,   2.1906,  34.6282,2,  34.6253,2,    107.6,2,  106.300,2,   141.53,2,    38.56,2,     0.00,2,     2.73,2,  -999.00,9, -999.000,9, -999.000,9,   -999.0,9,   -999.0,9
           NA,     P10,     53,   1,      15,     -99,  2,19931026,0403,  15.1695,  149.3417,  5684,   2244.7,   1.9751,  34.6432,2,  34.6410,2,    114.9,2,  114.300,2,   145.03,2,    38.08,2,     0.00,2,     2.71,2,  -999.00,9, -999.000,9, -999.000,9,   -999.0,9,   -999.0,9
           NA,     P10,     53,   1,      14,     -99,  2,19931026,0403,  15.1695,  149.3417,  5684,   2488.6,   1.8265,  34.6537,2,  34.6540,2,    121.5,2,  120.100,2,   147.28,2,    37.77,2,     0.00,2,     2.68,2,  -999.00,9, -999.000,9, -999.000,9,   -999.0,9,   -999.0,9
           NA,     P10,     53,   1,      13,     -99,  2,19931026,0403,  15.1695,  149.3417,  5684,   2743.6,   1.7169,  34.6630,2,  34.6609,2,    126.5,2,  126.500,2,   148.68,2,    37.41,2,    -0.01,2,     2.64,2,  -999.00,9, -999.000,9, -999.000,9,   -999.0,9,   -999.0,9
           NA,     P10,     53,   1,      12,     -99,  2,19931026,0403,  15.1695,  149.3417,  5684,   2996.7,   1.6429,  34.6697,2,  34.6668,2,    132.4,2,  131.700,2,   149.18,2,    37.10,2,    -0.01,2,     2.61,2,     0.00,2,   -0.001,2, -999.000,9,   -999.0,9,   -999.0,9
           NA,     P10,     53,   1,      11,     -99,  2,19931026,0403,  15.1695,  149.3417,  5684,   3244.3,   1.5849,  34.6747,2,  34.6736,2,    137.1,2,  137.400,2,   149.17,2,    36.73,2,     0.00,2,     2.59,2,  -999.00,9, -999.000,9, -999.000,9,   -999.0,9,   -999.0,9
           NA,     P10,     53,   1,      10,     -99,  2,19931026,0403,  15.1695,  149.3417,  5684,   3492.0,   1.5339,  34.6795,2,  34.6789,2,    142.8,2,  143.500,2,   147.58,2,    36.32,2,    -0.01,2,     2.56,2,  -999.00,9, -999.000,9, -999.000,9,   -999.0,9,   -999.0,9
           NA,     P10,     53,   1,       9,     -99,  2,19931026,0403,  15.1695,  149.3417,  5684,   3743.8,   1.4937,  34.6839,2,  34.6842,2,    149.0,2,  151.400,2,   144.58,2,    35.85,2,    -0.01,2,     2.51,2,  -999.00,9, -999.000,9, -999.000,9,   -999.0,9,   -999.0,9
           NA,     P10,     53,   1,       8,     -99,  2,19931026,0403,  15.1695,  149.3417,  5684,   3978.3,   1.4731,  34.6869,2,  34.6866,2,    155.6,2,  155.400,2,   143.00,2,    35.53,2,     0.00,2,     2.49,2,    -0.00,2,    0.002,2, -999.000,9,   -999.0,9,   -999.0,9
           NA,     P10,     53,   1,       7,     -99,  2,19931026,0403,  15.1695,  149.3417,  5684,   4248.3,   1.4596,  34.6901,2,  34.6931,2,    160.0,2,  160.800,2,   140.01,2,    35.07,2,    -0.01,2,     2.46,2,  -999.00,9, -999.000,9, -999.000,9,   -999.0,9,   -999.0,9
           NA,     P10,     53,   1,       6,     -99,  2,19931026,0403,  15.1695,  149.3417,  5684,   4542.9,   1.4519,  34.6933,2,  34.6915,2,    166.8,2,  166.100,2,   137.19,2,    34.76,2,    -0.01,2,     2.43,2,  -999.00,9, -999.000,9, -999.000,9,   -999.0,9,   -999.0,9
           NA,     P10,     53,   1,       5,     -99,  2,19931026,0403,  15.1695,  149.3417,  5684,   4744.3,   1.4548,  34.6956,2,  34.6933,2,    169.6,2,  168.900,2,   135.43,2,    34.44,2,    -0.01,2,     2.42,2,  -999.00,9, -999.000,9, -999.000,9,   -999.0,9,   -999.0,9
           NA,     P10,     53,   1,       4,     -99,  2,19931026,0403,  15.1695,  149.3417,  5684,   4995.1,   1.4632,  34.6968,2,  34.6952,2,    172.7,2,  172.200,2,   133.66,2,    34.29,2,    -0.01,2,     2.39,2,  -999.00,9, -999.000,9, -999.000,9,   -999.0,9,   -999.0,9
           NA,     P10,     53,   1,       3,     -99,  2,19931026,0403,  15.1695,  149.3417,  5684,   5254.2,   1.4753,  34.6988,2,  34.6982,2,    176.0,2,  174.900,2,   132.42,2,    34.08,2,    -0.01,2,     2.38,2,  -999.00,9, -999.000,9, -999.000,9,   -999.0,9,   -999.0,9
           NA,     P10,     53,   1,       2,     -99,  2,19931026,0403,  15.1695,  149.3417,  5684,   5582.7,   1.5044,  34.6996,2,  34.7005,2,    177.4,2,  176.500,2,   131.36,2,    33.93,2,    -0.01,2,     2.38,2,  -999.00,9, -999.000,9, -999.000,9,   -999.0,9,   -999.0,9
           NA,     P10,     53,   1,       1,     -99,  2,19931026,0403,  15.1695,  149.3417,  5684,   5777.3,   1.5254,  34.7000,2,  34.6996,2,    177.3,2,  176.700,2,   130.78,2,    33.82,2,     0.00,2,     2.36,2,     0.00,2,    0.001,2, -999.000,9,   -999.0,9,   -999.0,9