BOTTLE,20210102JOAExport
EXPOCODE,SECT_ID,STNNBR,CASTNO,SAMPNO,BTLNBR,BTLNBR_FLAG_W,DATE,TIME,LATITUDE,LONGITUDE,DEPTH,CTDPRS,CTDTMP,CTDSAL,CTDSAL_FLAG_W,SALNTY,SALNTY_FLAG_W,CTDOXY,CTDOXY_FLAG_W,OXYGEN,OXYGEN_FLAG_W,SILCAT,SILCAT_FLAG_W,NITRAT,NITRAT_FLAG_W,NITRIT,NITRIT_FLAG_W,PHSPHT,PHSPHT_FLAG_W,CFC-11,CFC-11_FLAG_W,CFC-12,CFC-12_FLAG_W,SF6,SF6_FLAG_W,TCARBN,TCARBN_FLAG_W,ALKALI,ALKALI_FLAG_W
,,,,,,,,,,,,DB,ITS-90,PSS-78,,PSS-78,,UMOL/KG,,UMOL/KG,,UMOL/KG,,UMOL/KG,,UMOL/KG,,UMOL/KG,,PMOL/KG,,PMOL/KG,,FMOL/KG,,UMOL/KG,,UMOL/KG
           NA,     P10,     74,   3,      36,     -99,  2,19931103,2344,  29.1612,  149.2778,  5974,     16.3,  25.5418,  35.0124,2,  35.0140,2,    208.8,2,  209.700,2,     1.83,2,     0.01,2,    -0.01,2,     0.00,2,     1.98,2,    1.082,2, -999.000,9,   1963.3,2,   2306.7,2
           NA,     P10,     74,   3,      35,     -99,  2,19931103,2344,  29.1612,  149.2778,  5974,     45.9,  25.2285,  34.9825,2,  34.9831,2,    209.3,2,  209.800,2,     1.83,2,     0.01,2,    -0.01,2,     0.00,2,     2.07,2,    1.149,2, -999.000,9,   1961.5,6,   2304.2,6
           NA,     P10,     74,   3,      34,     -99,  2,19931103,2344,  29.1612,  149.2778,  5974,     94.8,  19.8613,  34.8506,2,  34.8553,2,    204.9,2,  202.800,2,     3.32,2,     2.28,2,     0.05,2,     0.19,2,     2.44,2,    1.268,2, -999.000,9,   2000.9,2,   2297.0,2
           NA,     P10,     74,   3,      33,     -99,  3,19931103,2344,  29.1612,  149.2778,  5974,    144.4,  18.4531,  34.8406,2,  34.8407,2,    209.2,2,  209.700,2,     3.14,2,     2.60,2,     0.01,2,     0.21,2,  -999.00,9, -999.000,9, -999.000,9,   -999.0,9,   -999.0,9
           NA,     P10,     74,   3,      32,     -99,  2,19931103,2344,  29.1612,  149.2778,  5974,    195.0,  17.7741,  34.8248,2,  34.8244,2,    212.1,2,  213.600,2,     3.33,2,     3.03,2,     0.01,2,     0.23,2,     2.69,6,    1.421,6, -999.000,9,   2009.3,2,   2288.4,2
           NA,     P10,     74,   3,      31,     -99,  2,19931103,2344,  29.1612,  149.2778,  5974,    246.0,  17.3784,  34.8061,2,  34.8049,2,    217.9,2,  215.600,2,     3.71,2,     3.48,2,     0.00,2,     0.25,2,     2.68,2,    1.402,2, -999.000,9,   2009.1,2,   2288.1,2
           NA,     P10,     74,   3,      30,     -99,  2,19931103,2344,  29.1612,  149.2778,  5974,    294.8,  17.1044,  34.7908,2,  34.7937,2,    211.7,2,  217.300,2,     4.08,2,     3.68,2,     0.01,2,     0.27,2,     2.73,2,    1.438,2, -999.000,9,   2013.6,2,   2295.3,2
           NA,     P10,     74,   3,      29,     -99,  2,19931103,2344,  29.1612,  149.2778,  5974,    396.4,  15.4275,  34.6552,2,-999.0000,4,    193.9,2, -999.000,4,  -999.00,4,  -999.00,4,  -999.00,4,  -999.00,4,  -999.00,4, -999.000,4, -999.000,9,   -999.0,4,   -999.0,4
           NA,     P10,     74,   3,      28,     -99,  2,19931103,2344,  29.1612,  149.2778,  5974,    495.2,  12.6950,  34.4443,2,  34.4409,2,    187.2,2,  185.100,2,    17.86,2,    13.69,2,     0.01,2,     0.97,2,     2.27,2,    1.134,2, -999.000,9,   2091.3,2,   2277.1,2
           NA,     P10,     74,   3,      27,     -99,  2,19931103,2344,  29.1612,  149.2778,  5974,    595.7,   9.8140,  34.2251,2,  34.2306,2,    181.8,2,  178.300,2,    29.21,2,    19.19,2,     0.01,2,     1.36,2,     2.10,2,    1.026,2, -999.000,9,   2129.6,2,   2284.1,2
           NA,     P10,     74,   3,      26,     -99,  2,19931103,2344,  29.1612,  149.2778,  5974,    695.9,   7.1177,  34.0714,2,  34.0678,2,    157.1,2,  155.800,2,    49.30,2,    26.20,2,     0.01,2,     1.88,2,     1.87,2,    0.876,2, -999.000,9,   2187.7,2,   2291.4,2
           NA,     P10,     74,   3,      25,     -99,  2,19931103,2344,  29.1612,  149.2778,  5974,    794.4,   5.1459,  34.0273,2,  34.0261,2,    121.5,2,  117.100,2,    73.67,2,    33.13,2,     0.00,2,     2.37,2,  -999.00,9, -999.000,9, -999.000,9,   2246.1,2,   2308.8,2
           NA,     P10,     74,   3,      24,     -99,  2,19931103,2344,  29.1612,  149.2778,  5974,    898.3,   4.4280,  34.1530,2,  34.1515,2,     76.2,2,   70.500,2,    96.37,2,    38.19,2,     0.00,2,     2.71,2,     0.60,2,    0.273,2, -999.000,9,   2299.9,2,   2330.8,2
           NA,     P10,     74,   3,      23,     -99,  2,19931103,2344,  29.1612,  149.2778,  5974,    999.7,   3.9504,  34.2438,2,  34.2437,2,     50.9,2,   51.000,2,   111.80,2,    40.40,2,     0.01,2,     2.85,2,     0.26,2,    0.113,2, -999.000,9,   2327.5,2,   2352.7,2
           NA,     P10,     74,   3,      22,     -99,  2,19931103,2344,  29.1612,  149.2778,  5974,   1187.1,   3.2544,  34.3676,2,  34.3673,2,     36.7,2,   37.300,2,   132.62,2,    42.26,2,     0.01,2,     2.98,2,     0.06,2,    0.024,2, -999.000,9,   2360.4,2,   2381.9,2
           NA,     P10,     74,   3,      21,     -99,  2,19931103,2344,  29.1612,  149.2778,  5974,   1398.9,   2.7329,  34.4589,2,  34.4584,2,     36.4,2,   38.000,2,   147.50,2,    42.81,2,     0.00,2,     3.01,2,  -999.00,4,    0.006,2, -999.000,9,   2375.2,2,   2396.4,2
           NA,     P10,     74,   3,      20,     -99,  2,19931103,2344,  29.1612,  149.2778,  5974,   1602.0,   2.3620,  34.5245,2,  34.5237,2,     45.5,2,   47.700,2,   156.43,2,    42.42,2,     0.01,2,     2.98,2,  -999.00,9, -999.000,9, -999.000,9,   2381.6,2,   2407.0,2
           NA,     P10,     74,   3,      19,     -99,  2,19931103,2344,  29.1612,  149.2778,  5974,   1806.2,   2.1240,  34.5701,2,  34.5707,2,   -999.0,3,   65.100,2,   159.03,2,    41.39,2,     0.01,2,     2.90,2,  -999.00,9, -999.000,9, -999.000,9,   2373.5,2,   2413.6,2
           NA,     P10,     74,   3,      18,     -99,  2,19931103,2344,  29.1612,  149.2778,  5974,   2007.3,   1.9501,  34.5999,2,  34.5990,2,   -999.0,3,   79.700,2,   160.16,2,    40.52,2,     0.01,2,     2.84,2,     0.00,2,   -0.002,2, -999.000,9,   2369.5,2,   2421.4,2
           NA,     P10,     74,   3,      17,     -99,  2,19931103,2344,  29.1612,  149.2778,  5974,   2198.9,   1.8356,  34.6238,2,  34.6245,2,   -999.0,3,  102.200,2,   154.02,2,    39.00,2,     0.01,2,     2.73,2,  -999.00,9, -999.000,9, -999.000,9,   2354.2,2,   2420.7,2
           NA,     P10,     74,   3,      16,     -99,  2,19931103,2344,  29.1612,  149.2778,  5974,   2400.2,   1.7472,  34.6373,2,  34.6375,2,    110.8,2,  112.500,2,   152.92,2,    38.41,2,     0.00,2,     2.68,2,  -999.00,9, -999.000,9, -999.000,9,   2350.4,2,   -999.0,4
           NA,     P10,     74,   3,      15,     -99,  2,19931103,2344,  29.1612,  149.2778,  5974,   2598.8,   1.6832,  34.6469,2,  34.6477,2,    117.4,2,  118.600,2,   152.74,2,    37.97,2,     0.01,2,     2.65,2,  -999.00,9, -999.000,9, -999.000,9,   2346.1,2,   -999.0,3
           NA,     P10,     74,   3,      14,     -99,  2,19931103,2344,  29.1612,  149.2778,  5974,   2801.9,   1.6247,  34.6560,2,-999.0000,3,    125.2,2,  126.600,2,   151.44,2,    37.48,2,     0.01,2,     2.61,2,  -999.00,9, -999.000,9, -999.000,9,   2342.9,2,   -999.0,3
           NA,     P10,     74,   3,      12,     -99,  2,19931103,2344,  29.1612,  149.2778,  5974,   3252.9,   1.5506,  34.6688,2,  34.6697,2,    136.4,2,  137.100,2,   149.97,2,    36.78,2,     0.01,2,     2.56,2,  -999.00,9, -999.000,9, -999.000,9,   2335.0,2,   2427.1,2
           NA,     P10,     74,   3,      11,     -99,  2,19931103,2344,  29.1612,  149.2778,  5974,   3507.7,   1.5248,  34.6732,2,  34.6730,2,    140.8,2,  141.400,2,   149.79,2,    36.56,2,     0.01,2,     2.54,2,  -999.00,9, -999.000,9, -999.000,9,   2333.7,2,   -999.0,4
           NA,     P10,     74,   3,      10,     -99,  2,19931103,2344,  29.1612,  149.2778,  5974,   3751.2,   1.5056,  34.6782,2,  34.6779,2,    145.7,2,  146.300,2,   148.30,2,    36.25,2,     0.00,2,     2.52,2,  -999.00,9, -999.000,9, -999.000,9,   2328.3,2,   2423.7,2
           NA,     P10,     74,   3,       9,     -99,  2,19931103,2344,  29.1612,  149.2778,  5974,   4004.8,   1.4892,  34.6816,2,  34.6819,2,    149.9,2,  150.700,2,   147.01,2,    35.98,2,     0.01,2,     2.50,2,  -999.00,9, -999.000,9, -999.000,9,   2327.6,2,   -999.0,5
           NA,     P10,     74,   3,       8,     -99,  2,19931103,2344,  29.1612,  149.2778,  5974,   4259.5,   1.4784,  34.6847,2,  34.6850,2,    154.8,2,  154.900,2,   145.91,2,    35.65,2,     0.01,2,     2.48,2,  -999.00,9, -999.000,9, -999.000,9,   2322.7,2,   2428.3,2
           NA,     P10,     74,   3,       7,     -99,  2,19931103,2344,  29.1612,  149.2778,  5974,   4504.6,   1.4857,  34.6872,2,  34.6870,2,    157.0,2,  157.600,2,   144.80,2,    35.44,2,     0.01,2,     2.46,2,  -999.00,9, -999.000,9, -999.000,9,   2321.3,2,   -999.0,3
           NA,     P10,     74,   3,       6,     -99,  2,19931103,2344,  29.1612,  149.2778,  5974,   4750.2,   1.4943,  34.6890,2,  34.6888,2,    160.1,2,  160.000,2,   143.69,2,    35.33,2,     0.01,2,     2.46,2,  -999.00,9, -999.000,9, -999.000,9,   2317.5,2,   2420.4,2
           NA,     P10,     74,   3,       5,     -99,  2,19931103,2344,  29.1612,  149.2778,  5974,   4996.5,   1.5063,  34.6902,2,  34.6903,2,    163.0,2,  162.900,2,   142.21,2,    35.13,2,     0.00,2,     2.43,2,    -0.00,2,   -0.001,2, -999.000,9,   2324.5,2,   -999.0,3
           NA,     P10,     74,   3,       4,     -99,  2,19931103,2344,  29.1612,  149.2778,  5974,   5252.5,   1.5235,  34.6916,2,  34.6935,2,    165.4,2, -999.000,3,   139.44,2,    34.84,2,     0.01,2,     2.41,2,  -999.00,4,   -0.003,2, -999.000,9,   2310.7,6,   2417.9,6
           NA,     P10,     74,   3,       3,     -99,  2,19931103,2344,  29.1612,  149.2778,  5974,   5497.1,   1.5433,  34.6928,2,  34.6933,2,    167.7,2,  167.400,2,   139.06,2,    34.80,2,     0.01,2,     2.41,2,  -999.00,9, -999.000,9, -999.000,9,   2311.5,2,   2415.9,2
           NA,     P10,     74,   3,       2,     -99,  2,19931103,2344,  29.1612,  149.2778,  5974,   5753.1,   1.5689,  34.6936,2,  34.6939,2,    169.5,2,  168.900,2,   137.78,2,    34.64,2,     0.01,2,     2.40,2,  -999.00,4,   -0.001,2, -999.000,9,   2307.3,2,   2420.5,2
           NA,     P10,     74,   3,       1,     -99,  2,19931103,2344,  29.1612,  149.2778,  5974,   6087.1,   1.6018,  34.6944,2,  34.6946,2,    171.7,2,  170.600,2,   136.29,2,    34.44,2,     0.00,2,     2.37,2,    -0.00,2,    0.000,2, -999.000,9,   2307.9,2,   2415.4,2