BOTTLE,20210102JOAExport
EXPOCODE,SECT_ID,STNNBR,CASTNO,SAMPNO,BTLNBR,BTLNBR_FLAG_W,DATE,TIME,LATITUDE,LONGITUDE,DEPTH,CTDPRS,CTDTMP,CTDSAL,CTDSAL_FLAG_W,SALNTY,SALNTY_FLAG_W,CTDOXY,CTDOXY_FLAG_W,OXYGEN,OXYGEN_FLAG_W,SILCAT,SILCAT_FLAG_W,NITRAT,NITRAT_FLAG_W,NITRIT,NITRIT_FLAG_W,PHSPHT,PHSPHT_FLAG_W,CFC-11,CFC-11_FLAG_W,CFC-12,CFC-12_FLAG_W,SF6,SF6_FLAG_W,TCARBN,TCARBN_FLAG_W,ALKALI,ALKALI_FLAG_W
,,,,,,,,,,,,DB,ITS-90,PSS-78,,PSS-78,,UMOL/KG,,UMOL/KG,,UMOL/KG,,UMOL/KG,,UMOL/KG,,UMOL/KG,,PMOL/KG,,PMOL/KG,,FMOL/KG,,UMOL/KG,,UMOL/KG
           NA,     P10,     83,   1,      36,     -99,  2,19931106,2306,  33.6612,  143.6638,  5608,     15.0,  23.1124,  34.6275,2,  34.6294,2,    208.2,2,  215.700,2,     1.46,2,     0.00,2,     0.00,2,     0.03,2,     2.18,2,    1.181,2, -999.000,9,   1948.9,2,   -999.0,3
           NA,     P10,     83,   1,      35,     -99,  2,19931106,2306,  33.6612,  143.6638,  5608,     59.1,  22.8791,  34.6148,2,  34.6159,2,    210.7,2,  216.200,2,     1.47,2,     0.00,2,     0.00,2,     0.05,2,     2.20,2,    1.240,2, -999.000,9,   1948.5,2,   2282.1,2
           NA,     P10,     83,   1,      34,     -99,  2,19931106,2306,  33.6612,  143.6638,  5608,    108.7,  21.1520,  34.7654,2,  34.7619,2,    212.3,2,  213.100,2,     2.19,2,     0.97,2,     0.12,2,     0.14,2,     2.37,2,    1.284,2, -999.000,9,   1981.5,2,   2290.3,2
           NA,     P10,     83,   1,      33,     -99,  2,19931106,2306,  33.6612,  143.6638,  5608,    148.7,  18.8276,  34.8491,2,  34.8494,2,    214.3,2,  215.000,2,     2.36,2,     1.59,2,     0.02,2,     0.18,2,     2.56,2,    1.386,2, -999.000,9,   1997.4,6,   2297.3,2
           NA,     P10,     83,   1,      32,     -99,  2,19931106,2306,  33.6612,  143.6638,  5608,    198.8,  17.7894,  34.8278,2,  34.8285,2,    216.2,2,  216.300,2,     2.90,2,     2.74,2,     0.01,2,     0.24,2,     2.67,6,    1.417,6, -999.000,9,   2002.8,2,   2300.5,2
           NA,     P10,     83,   1,      31,     -99,  2,19931106,2306,  33.6612,  143.6638,  5608,    248.6,  17.4934,  34.8115,2,  34.8116,2,    220.0,2,  220.600,2,     3.09,2,     2.80,2,     0.01,2,     0.25,2,     2.71,2,    1.449,2, -999.000,9,   2005.2,2,   2296.4,6
           NA,     P10,     83,   1,      30,     -99,  2,19931106,2306,  33.6612,  143.6638,  5608,    303.8,  17.3227,  34.8034,2,  34.8028,2,    221.4,2,  219.900,2,     3.45,2,     3.11,2,     0.01,2,     0.27,2,     2.70,2,    1.439,2, -999.000,9,   2002.8,2,   2287.4,2
           NA,     P10,     83,   1,      29,     -99,  2,19931106,2306,  33.6612,  143.6638,  5608,    403.3,  17.0899,  34.7929,2,  34.7927,2,    217.3,2,  218.400,2,     3.97,2,     3.74,2,     0.01,2,     0.31,2,     2.66,2,    1.428,2, -999.000,9,   2011.4,2,   2298.7,2
           NA,     P10,     83,   1,      28,     -99,  2,19931106,2306,  33.6612,  143.6638,  5608,    500.8,  15.7017,  34.6795,2,  34.6740,2,    193.9,2,  193.800,2,     8.58,2,     8.17,2,     0.01,2,     0.62,2,     2.43,2,    1.260,2, -999.000,9,   2044.0,2,   -999.0,4
           NA,     P10,     83,   1,      27,     -99,  2,19931106,2306,  33.6612,  143.6638,  5608,    600.5,  13.1374,  34.4787,2,  34.4780,2,    188.3,2,  186.700,2,    16.18,2,    12.83,2,     0.00,2,     0.95,2,  -999.00,9, -999.000,9, -999.000,9,   2082.3,2,   2293.1,2
           NA,     P10,     83,   1,      26,     -99,  2,19931106,2306,  33.6612,  143.6638,  5608,    699.5,  10.5363,  34.2954,2,  34.2970,2,    177.8,2,  176.400,2,    28.05,2,    18.05,2,     0.00,2,     1.33,2,     2.08,2,    1.030,2, -999.000,9,   2123.9,2,   -999.0,4
           NA,     P10,     83,   1,      25,     -99,  2,19931106,2306,  33.6612,  143.6638,  5608,    799.7,   8.3394,  34.2135,2,  34.2111,2,    148.5,2,  146.000,2,    47.16,2,    24.69,2,     0.00,2,     1.81,2,     1.53,2,    0.737,2, -999.000,9,   2178.6,2,   2309.5,2
           NA,     P10,     83,   1,      24,     -99,  2,19931106,2306,  33.6612,  143.6638,  5608,    900.9,   5.8407,  34.1490,2,  34.1508,2,    120.0,2,  110.700,2,    74.04,2,    32.27,2,     0.00,2,     2.33,2,  -999.00,9, -999.000,9, -999.000,9,   2244.0,2,   2309.4,2
           NA,     P10,     83,   1,      23,     -99,  2,19931106,2306,  33.6612,  143.6638,  5608,   1001.7,   5.0582,  34.2377,2,  34.2368,2,   -999.0,3,   82.000,2,    91.91,2,    35.92,2,     0.00,2,     2.59,2,     0.56,2,    0.253,2, -999.000,9,   2284.6,2,   2352.8,2
           NA,     P10,     83,   1,      22,     -99,  2,19931106,2306,  33.6612,  143.6638,  5608,   1100.8,   4.4714,  34.3117,2,  34.3106,2,   -999.0,3,   69.700,2,   104.82,2,    37.90,2,     0.00,2,     2.73,2,     0.27,2,    0.129,2, -999.000,9,   2305.3,2,   2347.6,2
           NA,     P10,     83,   1,      21,     -99,  2,19931106,2306,  33.6612,  143.6638,  5608,   1196.8,   3.6730,  34.3173,2,  34.3190,2,   -999.0,3,   49.000,2,   120.73,2,    40.72,2,     0.00,2,     2.91,2,  -999.00,9, -999.000,9, -999.000,9,   2339.9,2,   2374.2,2
           NA,     P10,     83,   1,      20,     -99,  2,19931106,2306,  33.6612,  143.6638,  5608,   1399.3,   3.0535,  34.4062,2,  34.4065,2,     39.7,2,   39.100,2,   138.23,2,    42.19,2,     0.00,2,     3.01,2,     0.04,2,    0.020,2, -999.000,9,   2364.0,2,   2378.8,2
           NA,     P10,     83,   1,      19,     -99,  2,19931106,2306,  33.6612,  143.6638,  5608,   1601.6,   2.6804,  34.4695,2,  34.4703,2,     42.5,2,   43.000,2,   147.78,2,    42.29,2,     0.00,2,     3.01,2,     0.02,2,    0.012,2, -999.000,9,   2373.3,2,   2403.3,2
           NA,     P10,     83,   1,      18,     -99,  2,19931106,2306,  33.6612,  143.6638,  5608,   1803.4,   2.3564,  34.5224,2,  34.5226,2,     49.6,2,   51.700,2,   156.09,2,    41.94,2,    -0.01,2,     2.98,2,     0.01,2,    0.007,2, -999.000,9,   2377.0,2,   2400.6,2
           NA,     P10,     83,   1,      17,     -99,  2,19931106,2306,  33.6612,  143.6638,  5608,   2006.2,   2.1767,  34.5570,2,  34.5581,2,     59.1,2,   60.800,2,   159.62,2,    41.52,2,    -0.01,2,     2.94,2,  -999.00,9, -999.000,9, -999.000,9,   2376.0,2,   -999.0,3
           NA,     P10,     83,   1,      16,     -99,  2,19931106,2306,  33.6612,  143.6638,  5608,   2208.3,   2.0167,  34.5871,2,  34.5882,2,     72.0,2,   74.000,2,   160.50,2,    40.73,2,     0.00,2,     2.88,2,  -999.00,9, -999.000,9, -999.000,9,   2368.5,2,   2411.6,2
           NA,     P10,     83,   1,      15,     -99,  2,19931106,2306,  33.6612,  143.6638,  5608,   2410.7,   1.9058,  34.6078,2,  34.6109,2,     85.1,2,   85.900,2,   159.97,2,    40.06,2,    -0.01,2,     2.83,2,  -999.00,9, -999.000,9, -999.000,9,   2366.3,2,   2413.5,2
           NA,     P10,     83,   1,      14,     -99,  2,19931106,2306,  33.6612,  143.6638,  5608,   2613.0,   1.8046,  34.6257,2,  34.6265,2,     98.0,2,   97.300,2,   158.74,2,    39.32,2,     0.00,2,     2.77,2,  -999.00,9, -999.000,9, -999.000,9,   2360.4,2,   2416.8,2
           NA,     P10,     83,   1,      13,     -99,  2,19931106,2306,  33.6612,  143.6638,  5608,   2809.1,   1.7056,  34.6419,2,  34.6422,2,    109.8,2,  109.700,2,   157.67,2,    38.55,2,    -0.01,2,     2.71,2,     0.00,2,    0.006,2, -999.000,9,   2354.5,2,   2418.1,2
           NA,     P10,     83,   1,      12,     -99,  2,19931106,2306,  33.6612,  143.6638,  5608,   3009.9,   1.6344,  34.6536,2,  34.6538,2,    119.3,2,  119.800,2,   155.91,2,    37.92,2,    -0.01,2,     2.67,2,  -999.00,9, -999.000,9, -999.000,9,   2347.3,2,   -999.0,3
           NA,     P10,     83,   1,      11,     -99,  2,19931106,2306,  33.6612,  143.6638,  5608,   3262.3,   1.5743,  34.6632,2,  34.6652,2,    129.4,2,  129.800,2,   154.32,2,    37.29,2,     0.00,2,     2.62,2,  -999.00,9, -999.000,9, -999.000,9,   2341.0,2,   2421.2,2
           NA,     P10,     83,   1,      10,     -99,  2,19931106,2306,  33.6612,  143.6638,  5608,   3504.8,   1.5343,  34.6702,2,  34.6717,2,    136.8,2,  136.800,2,   152.38,2,    36.83,2,    -0.01,2,     2.58,2,  -999.00,9, -999.000,9, -999.000,9,   2337.1,2,   2420.5,2
           NA,     P10,     83,   1,       9,     -99,  2,19931106,2306,  33.6612,  143.6638,  5608,   3751.2,   1.5054,  34.6761,2,  34.6770,2,    143.3,2,  142.900,2,   151.50,2,    36.36,2,    -0.01,2,     2.56,2,  -999.00,9, -999.000,9, -999.000,9,   2331.8,2,   2419.0,2
           NA,     P10,     83,   1,       8,     -99,  2,19931106,2306,  33.6612,  143.6638,  5608,   3983.5,   1.4929,  34.6801,2,  34.6823,2,    147.6,2,  147.600,2,   149.55,2,    36.14,2,    -0.01,2,     2.53,2,  -999.00,9, -999.000,9, -999.000,9,   2326.2,2,   2423.9,2
           NA,     P10,     83,   1,       7,     -99,  2,19931106,2306,  33.6612,  143.6638,  5608,   4247.3,   1.4696,  34.6853,2,  34.6856,2,    153.3,2,  154.300,2,   147.96,2,    35.67,2,    -0.01,2,     2.50,2,  -999.00,9, -999.000,9, -999.000,9,   2324.3,2,   2420.5,2
           NA,     P10,     83,   1,       6,     -99,  2,19931106,2306,  33.6612,  143.6638,  5608,   4503.7,   1.4723,  34.6872,2,  34.6882,2,    157.8,2,  157.600,2,   146.38,2,    35.42,2,    -0.01,2,     2.48,2,  -999.00,9, -999.000,9, -999.000,9,   2320.4,6,   2420.5,6
           NA,     P10,     83,   1,       5,     -99,  2,19931106,2306,  33.6612,  143.6638,  5608,   4746.3,   1.4867,  34.6889,2,  34.6899,2,    159.7,2,  159.800,2,   145.32,2,    35.26,2,    -0.01,2,     2.47,2,  -999.00,9, -999.000,9, -999.000,9,   2322.3,2,   2420.2,2
           NA,     P10,     83,   1,       4,     -99,  2,19931106,2306,  33.6612,  143.6638,  5608,   5004.0,   1.5031,  34.6903,2,-999.0000,3,    162.0,2,  162.500,2,   144.08,2,    35.10,2,     0.00,2,     2.45,2,  -999.00,4,    0.005,2, -999.000,9,   2317.4,2,   2424.6,2
           NA,     P10,     83,   1,       3,     -99,  2,19931106,2306,  33.6612,  143.6638,  5608,   5208.0,   1.5193,  34.6909,2,  34.6913,2,    163.6,2,  163.900,2,   143.03,2,    35.00,2,    -0.01,2,     2.44,2,  -999.00,9, -999.000,9, -999.000,9,   2316.4,2,   2417.3,2
           NA,     P10,     83,   1,       2,     -99,  2,19931106,2306,  33.6612,  143.6638,  5608,   5439.8,   1.5460,  34.6917,2,  34.6921,2,    164.6,2,  165.100,2,   142.33,2,    34.95,2,    -0.01,2,     2.44,2,  -999.00,4,    0.004,2, -999.000,9,   2315.9,2,   2414.2,2
           NA,     P10,     83,   1,       1,     -99,  2,19931106,2306,  33.6612,  143.6638,  5608,   5712.8,   1.5813,  34.6912,2,  34.6917,2,    163.9,2,  164.400,2,   142.14,2,    34.90,2,    -0.01,2,     2.42,2,    -0.00,2,    0.003,2, -999.000,9,   2316.0,2,   2416.3,2