BOTTLE,20210102JOAExport
EXPOCODE,SECT_ID,STNNBR,CASTNO,SAMPNO,BTLNBR,BTLNBR_FLAG_W,DATE,TIME,LATITUDE,LONGITUDE,DEPTH,CTDPRS,CTDTMP,CTDSAL,CTDSAL_FLAG_W,SALNTY,SALNTY_FLAG_W,CTDOXY,CTDOXY_FLAG_W,OXYGEN,OXYGEN_FLAG_W,SILCAT,SILCAT_FLAG_W,NITRAT,NITRAT_FLAG_W,NITRIT,NITRIT_FLAG_W,PHSPHT,PHSPHT_FLAG_W,CFC-11,CFC-11_FLAG_W,CFC-12,CFC-12_FLAG_W,SF6,SF6_FLAG_W,TCARBN,TCARBN_FLAG_W,ALKALI,ALKALI_FLAG_W
,,,,,,,,,,,,DB,ITS-90,PSS-78,,PSS-78,,UMOL/KG,,UMOL/KG,,UMOL/KG,,UMOL/KG,,UMOL/KG,,UMOL/KG,,PMOL/KG,,PMOL/KG,,FMOL/KG,,UMOL/KG,,UMOL/KG
           NA,     P10,     59,   1,      36,     -99,  2,19931028,1719,  19.1695,  149.3362,  5553,      7.7,  28.7588,  34.7279,2,  34.7281,2,    215.9,2,  209.200,2,     0.65,2,     0.01,2,    -0.01,2,     0.05,2,     1.73,2,    0.975,2, -999.000,9,   1923.5,2,   2286.7,2
           NA,     P10,     59,   1,      35,     -99,  2,19931028,1719,  19.1695,  149.3362,  5553,     26.4,  28.7689,  34.7282,2,  34.7279,2,    208.5,2,  210.200,2,     0.66,2,     0.01,2,    -0.01,2,     0.05,2,     1.71,6,    0.944,6, -999.000,9,   1924.2,2,   2287.9,2
           NA,     P10,     59,   1,      34,     -99,  2,19931028,1719,  19.1695,  149.3362,  5553,     50.7,  28.7652,  34.7271,2,  34.7279,2,    211.8,2,  210.200,2,     0.84,2,    -0.05,2,     0.00,2,     0.05,2,     1.74,2,    0.969,2, -999.000,9,   1922.7,2,   2286.6,2
           NA,     P10,     59,   1,      33,     -99,  2,19931028,1719,  19.1695,  149.3362,  5553,     99.9,  25.9188,  35.0602,2,  35.0591,2,    223.2,2,  222.200,2,     0.84,2,     0.02,2,     0.00,2,     0.03,2,  -999.00,9, -999.000,9, -999.000,9,   1950.4,6,   2308.6,2
           NA,     P10,     59,   1,      32,     -99,  2,19931028,1719,  19.1695,  149.3362,  5553,    149.9,  23.5150,  35.1157,2,  35.1270,2,    207.5,2,  204.000,2,     1.02,2,     0.46,2,     0.06,2,     0.09,2,     2.15,2,    1.156,2, -999.000,9,   1984.0,2,   2309.8,6
           NA,     P10,     59,   1,      31,     -99,  2,19931028,1719,  19.1695,  149.3362,  5553,    199.7,  19.4045,  34.9698,2,  34.9837,2,    194.9,2,  191.200,2,     2.57,2,     2.59,2,     0.02,2,     0.27,2,  -999.00,9, -999.000,9, -999.000,9,   2024.3,2,   2303.6,2
           NA,     P10,     59,   1,      30,     -99,  2,19931028,1719,  19.1695,  149.3362,  5553,    248.9,  17.4859,  34.8322,2,  34.8254,2,    200.7,2,  198.100,2,     3.78,2,     4.46,2,     0.01,2,     0.36,2,     2.58,2,    1.331,2, -999.000,9,   2028.1,2,   2294.3,2
           NA,     P10,     59,   1,      29,     -99,  2,19931028,1719,  19.1695,  149.3362,  5553,    298.3,  15.8342,  34.6814,2,  34.6807,2,    206.1,2,  197.500,2,     6.19,2,     6.89,2,     0.00,2,     0.54,2,  -999.00,9, -999.000,9, -999.000,9,   2041.3,2,   2287.0,2
           NA,     P10,     59,   1,      28,     -99,  2,19931028,1719,  19.1695,  149.3362,  5553,    347.2,  14.2453,  34.5307,2,  34.5175,2,    192.6,2,  189.400,2,     9.81,2,    10.07,2,     0.01,2,     0.76,2,     2.45,2,    1.210,2, -999.000,9,   2067.0,2,   2280.4,2
           NA,     P10,     59,   1,      27,     -99,  2,19931028,1719,  19.1695,  149.3362,  5553,    397.4,  12.0300,  34.3513,2,  34.3534,2,    189.0,2,  183.800,2,    15.67,2,    14.20,2,     0.00,2,     1.05,2,  -999.00,9, -999.000,9, -999.000,9,   2094.7,2,   2274.3,2
           NA,     P10,     59,   1,      26,     -99,  2,19931028,1719,  19.1695,  149.3362,  5553,    495.5,   8.7613,  34.1698,2,  34.1668,2,    155.0,2,  145.400,2,    35.11,2,    23.97,2,     0.00,2,     1.74,2,     1.36,2,    0.661,2, -999.000,9,   2164.5,2,   2283.4,2
           NA,     P10,     59,   1,      25,     -99,  2,19931028,1719,  19.1695,  149.3362,  5553,    595.6,   6.7582,  34.1562,2,  34.1564,2,     95.9,2,   94.200,2,    57.83,2,    32.26,2,     0.00,2,     2.33,2,  -999.00,9, -999.000,9, -999.000,9,   2233.1,2,   2303.3,2
           NA,     P10,     59,   1,      24,     -99,  2,19931028,1719,  19.1695,  149.3362,  5553,    695.4,   5.5860,  34.2595,2,  34.2637,2,     57.5,2,   58.500,2,    77.96,2,    37.59,2,     0.00,2,     2.72,2,     0.11,2,    0.054,2, -999.000,9,   2286.6,2,   2328.4,2
           NA,     P10,     59,   1,      23,     -99,  2,19931028,1719,  19.1695,  149.3362,  5553,    795.8,   4.9044,  34.3624,2,  34.3634,2,     54.3,2,   53.700,2,    91.55,2,    39.30,2,     0.00,2,     2.82,2,  -999.00,9, -999.000,9, -999.000,9,   2310.3,2,   2356.5,2
           NA,     P10,     59,   1,      22,     -99,  3,19931028,1719,  19.1695,  149.3362,  5553,    900.5,   4.4818,  34.4318,2,  34.4309,2,     60.9,2,   60.300,2,    99.46,2,    39.46,2,     0.00,2,     2.83,2,     0.01,2,    0.003,2, -999.000,9,   2318.4,2,   2366.3,6
           NA,     P10,     59,   1,      21,     -99,  2,19931028,1719,  19.1695,  149.3362,  5553,    999.9,   4.0261,  34.4921,2,  34.4909,2,     70.7,2,   71.200,2,   107.72,2,    39.20,2,     0.00,2,     2.80,2,  -999.00,4,    0.009,2, -999.000,9,   2324.6,2,   2379.2,2
           NA,     P10,     59,   1,      20,     -99,  2,19931028,1719,  19.1695,  149.3362,  5553,   1202.7,   3.3687,  34.5416,2,  34.5404,2,     80.9,2,   81.000,2,   120.28,2,    39.16,2,     0.00,2,     2.79,2,     0.00,2,    0.002,2, -999.000,9,   2333.9,2,   2390.9,2
           NA,     P10,     59,   1,      19,     -99,  2,19931028,1719,  19.1695,  149.3362,  5553,   1402.4,   2.8998,  34.5670,2,  34.5662,2,     86.7,2,   86.400,2,   129.06,2,    39.11,2,     0.00,2,     2.79,2,  -999.00,9, -999.000,9, -999.000,9,   2342.1,2,   2409.6,2
           NA,     P10,     59,   1,      18,     -99,  2,19931028,1719,  19.1695,  149.3362,  5553,   1595.5,   2.5712,  34.5854,2,  34.5848,2,     92.6,2,   92.500,2,   135.59,2,    38.89,2,     0.01,2,     2.76,2,  -999.00,9, -999.000,9, -999.000,9,   2345.3,2,   2409.6,2
           NA,     P10,     59,   1,      17,     -99,  2,19931028,1719,  19.1695,  149.3362,  5553,   1795.6,   2.3273,  34.5998,2,  34.6001,2,     99.2,2,   98.300,2,   140.25,2,    38.68,2,     0.00,2,     2.75,2,  -999.00,9, -999.000,9, -999.000,9,   2348.4,2,   2418.9,2
           NA,     P10,     59,   1,      16,     -99,  2,19931028,1719,  19.1695,  149.3362,  5553,   1992.2,   2.1020,  34.6178,2,  34.6176,2,    105.5,2,  105.400,2,   143.86,2,    38.37,2,     0.00,2,     2.72,2,     0.00,2,    0.002,2, -999.000,9,   2348.5,2,   2421.7,2
           NA,     P10,     59,   1,      15,     -99,  2,19931028,1719,  19.1695,  149.3362,  5553,   2196.1,   1.9421,  34.6304,2,  34.6308,2,    111.9,2,  111.600,2,   146.27,2,    38.11,2,     0.00,2,     2.70,2,  -999.00,9, -999.000,9, -999.000,9,   2347.8,2,   2427.3,2
           NA,     P10,     59,   1,      14,     -99,  2,19931028,1719,  19.1695,  149.3362,  5553,   2394.5,   1.8386,  34.6432,2,  34.6438,2,    118.2,2,  117.300,2,   147.82,2,    37.83,2,     0.00,2,     2.67,2,  -999.00,9, -999.000,9, -999.000,9,   2343.5,2,   2424.9,2
           NA,     P10,     59,   1,      13,     -99,  2,19931028,1719,  19.1695,  149.3362,  5553,   2598.8,   1.7407,  34.6522,2,  34.6534,2,    124.1,2,  123.500,2,   148.35,2,    37.57,2,     0.00,2,     2.64,2,  -999.00,9, -999.000,9, -999.000,9,   2341.6,2,   2426.7,2
           NA,     P10,     59,   1,      12,     -99,  2,19931028,1719,  19.1695,  149.3362,  5553,   2791.0,   1.6729,  34.6592,2,  34.6597,2,    129.0,2,  128.500,2,   148.69,2,    37.31,2,     0.00,2,     2.61,2,  -999.00,9, -999.000,9, -999.000,9,   2337.2,2,   2426.0,2
           NA,     P10,     59,   1,      11,     -99,  2,19931028,1719,  19.1695,  149.3362,  5553,   2998.0,   1.6199,  34.6647,2,  34.6656,2,    133.4,2,  133.700,2,   148.18,2,    36.92,2,     0.01,2,     2.59,2,  -999.00,4,    0.002,2, -999.000,9,   2337.7,2,   2428.6,2
           NA,     P10,     59,   1,      10,     -99,  2,19931028,1719,  19.1695,  149.3362,  5553,   3245.2,   1.5774,  34.6706,2,  34.6717,2,    138.1,2,  138.600,2,   147.84,2,    36.71,2,     0.01,2,     2.57,2,  -999.00,9, -999.000,9, -999.000,9,   2334.7,2,   2431.1,2
           NA,     P10,     59,   1,       9,     -99,  2,19931028,1719,  19.1695,  149.3362,  5553,   3495.8,   1.5322,  34.6763,2,  34.6764,2,    143.7,2,  144.200,2,   146.47,2,    36.29,2,     0.01,2,     2.54,2,    -0.00,2,   -0.002,2, -999.000,9,   2331.7,2,   2423.8,2
           NA,     P10,     59,   1,       8,     -99,  2,19931028,1719,  19.1695,  149.3362,  5553,   3715.9,   1.5040,  34.6802,2,  34.6809,2,    148.1,2,  149.000,2,   144.93,2,    36.02,2,     0.01,2,     2.51,2,  -999.00,9, -999.000,9, -999.000,9,   2326.3,2,   2424.1,2
           NA,     P10,     59,   1,       7,     -99,  2,19931028,1719,  19.1695,  149.3362,  5553,   4035.8,   1.4752,  34.6842,2,  34.6860,2,    155.3,2,  155.600,2,   142.18,2,    35.54,2,     0.01,2,     2.48,2,  -999.00,9, -999.000,9, -999.000,9,   2322.0,2,   2420.1,2
           NA,     P10,     59,   1,       6,     -99,  2,19931028,1719,  19.1695,  149.3362,  5553,   4245.5,   1.4697,  34.6866,2,  34.6872,2,    158.9,2,  158.900,2,   140.80,2,    35.27,2,     0.01,2,     2.46,2,  -999.00,9, -999.000,9, -999.000,9,   2318.1,2,   2417.6,2
           NA,     P10,     59,   1,       5,     -99,  3,19931028,1719,  19.1695,  149.3362,  5553,   4479.6,   1.4688,  34.6885,2,-999.0000,4,    162.5,2, -999.000,4,  -999.00,4,  -999.00,4,  -999.00,4,  -999.00,4,  -999.00,9, -999.000,9, -999.000,9,   -999.0,3,   -999.0,4
           NA,     P10,     59,   1,       4,     -99,  2,19931028,1719,  19.1695,  149.3362,  5553,   4734.5,   1.4636,  34.6916,2,  34.6929,2,    167.6,2,  167.400,2,   136.00,2,    34.58,2,     0.01,2,     2.40,2,  -999.00,9, -999.000,9, -999.000,9,   2307.1,2,   2413.2,6
           NA,     P10,     59,   1,       3,     -99,  2,19931028,1719,  19.1695,  149.3362,  5553,   4990.9,   1.4718,  34.6932,2,  34.6943,2,    171.1,2,  171.000,2,   134.11,2,    34.37,2,     0.01,2,     2.39,2,  -999.00,9, -999.000,9, -999.000,9,   2306.0,6,   2408.3,2
           NA,     P10,     59,   1,       2,     -99,  2,19931028,1719,  19.1695,  149.3362,  5553,   5234.6,   1.4903,  34.6945,2,  34.6950,2,    173.6,2,  172.900,2,   133.09,2,    34.21,2,     0.01,2,     2.38,2,  -999.00,9, -999.000,9, -999.000,9,   2303.1,2,   2410.5,2
           NA,     P10,     59,   1,       1,     -99,  2,19931028,1719,  19.1695,  149.3362,  5553,   5647.2,   1.5284,  34.6958,2,  34.6962,2,    175.1,2,  175.100,2,   131.75,2,    33.96,2,     0.01,2,     2.36,2,     0.00,2,   -0.001,2, -999.000,9,   2302.8,2,   2407.4,2
           NA,     P10,     60,   1,      32,     -99,  2,19931029,0010,  19.8362,  149.3333,  3710,      7.6,  28.6588,  34.8432,2,  34.8437,2,    209.5,2,  205.400,2,     0.53,2,     0.00,2,     0.00,2,     0.04,2,     1.78,2,    0.948,2, -999.000,9,   -999.0,9,   -999.0,9
           NA,     P10,     60,   1,      31,     -99,  2,19931029,0010,  19.8362,  149.3333,  3710,     20.5,  28.6539,  34.8428,2,  34.8449,2,    205.2,2,  204.800,2,     0.52,2,     0.00,2,     0.00,2,     0.04,2,  -999.00,9, -999.000,9, -999.000,9,   -999.0,9,   -999.0,9
           NA,     P10,     60,   1,      30,     -99,  2,19931029,0010,  19.8362,  149.3333,  3710,     59.9,  28.6379,  34.8487,2,  34.8496,2,    212.1,2,  206.500,2,     0.52,2,     0.03,2,     0.01,2,     0.04,2,     1.79,6,    0.985,6, -999.000,9,   -999.0,9,   -999.0,9
           NA,     P10,     60,   1,      29,     -99,  2,19931029,0010,  19.8362,  149.3333,  3710,    109.6,  25.5559,  35.0272,2,  35.0227,2,    210.9,2,  212.500,2,     1.03,2,    -0.01,2,     0.01,2,     0.07,2,     2.05,2,    1.127,2, -999.000,9,   -999.0,9,   -999.0,9
           NA,     P10,     60,   1,      28,     -99,  2,19931029,0010,  19.8362,  149.3333,  3710,    158.4,  23.4403,  35.1333,2,  35.1330,2,    198.6,2,  204.000,2,     1.37,2,     0.24,2,     0.13,2,     0.09,2,  -999.00,9, -999.000,9, -999.000,9,   -999.0,9,   -999.0,9
           NA,     P10,     60,   1,      27,     -99,  2,19931029,0010,  19.8362,  149.3333,  3710,    206.6,  20.2141,  35.0306,2,  35.0339,2,    189.4,2,  181.300,2,     2.57,2,     2.90,2,     0.02,2,     0.33,2,     2.36,2,    1.251,2, -999.000,9,   -999.0,9,   -999.0,9
           NA,     P10,     60,   1,      26,     -99,  2,19931029,0010,  19.8362,  149.3333,  3710,    257.0,  17.9120,  34.8625,2,  34.8592,2,    203.2,2,  198.600,2,     3.43,2,     3.85,2,     0.01,2,     0.32,2,  -999.00,9, -999.000,9, -999.000,9,   -999.0,9,   -999.0,9
           NA,     P10,     60,   1,      25,     -99,  2,19931029,0010,  19.8362,  149.3333,  3710,    307.3,  15.6576,  34.6596,2,  34.6658,2,    207.0,2,  195.800,2,     6.53,2,     7.22,2,     0.01,2,     0.56,2,     2.61,2,    1.351,2, -999.000,9,   -999.0,9,   -999.0,9
           NA,     P10,     60,   1,      24,     -99,  2,19931029,0010,  19.8362,  149.3333,  3710,    357.5,  13.8135,  34.4908,2,  34.4896,2,    196.9,2,  188.600,2,    10.68,2,    10.69,2,     0.01,2,     0.82,2,  -999.00,9, -999.000,9, -999.000,9,   -999.0,9,   -999.0,9
           NA,     P10,     60,   1,      23,     -99,  2,19931029,0010,  19.8362,  149.3333,  3710,    404.0,  12.0849,  34.3648,2,  34.3659,2,    187.1,2,  178.900,2,    16.20,2,    14.53,2,     0.00,2,     1.08,2,     2.15,2,    1.071,2, -999.000,9,   -999.0,9,   -999.0,9
           NA,     P10,     60,   1,      22,     -99,  3,19931029,0010,  19.8362,  149.3333,  3710,    504.9,   8.3232,  34.1451,2,  34.1459,2,    162.2,2,  147.900,2,    38.50,2,    24.41,2,     0.00,2,     1.78,2,  -999.00,9, -999.000,9, -999.000,9,   -999.0,9,   -999.0,9
           NA,     P10,     60,   1,      21,     -99,  2,19931029,0010,  19.8362,  149.3333,  3710,    555.9,   7.3877,  34.1285,2,  34.1286,2,    138.0,2,  122.800,2,    48.53,2,    28.34,2,     0.00,2,     2.07,2,  -999.00,4,    0.479,2, -999.000,9,   -999.0,9,   -999.0,9
           NA,     P10,     60,   1,      20,     -99,  2,19931029,0010,  19.8362,  149.3333,  3710,    605.5,   6.9762,  34.1824,2,  34.1821,2,    102.5,2,   88.600,2,    56.47,2,    32.16,2,     0.00,2,     2.35,2,     0.47,2,    0.220,2, -999.000,9,   -999.0,9,   -999.0,9
           NA,     P10,     60,   1,      19,     -99,  2,19931029,0010,  19.8362,  149.3333,  3710,    704.8,   5.7232,  34.2718,2,  34.2723,2,     67.1,2,   60.000,2,    76.52,2,    37.07,2,     0.00,2,     2.70,2,  -999.00,9, -999.000,9, -999.000,9,   -999.0,9,   -999.0,9
           NA,     P10,     60,   1,      18,     -99,  2,19931029,0010,  19.8362,  149.3333,  3710,    806.5,   4.8886,  34.3744,2,  34.3736,2,     55.0,2,   55.400,2,    92.24,2,    39.12,2,     0.00,2,     2.83,2,     0.03,2,    0.014,2, -999.000,9,   -999.0,9,   -999.0,9
           NA,     P10,     60,   1,      17,     -99,  2,19931029,0010,  19.8362,  149.3333,  3710,    906.8,   4.5002,  34.4427,2,  34.4419,2,     60.3,2,   63.200,2,    99.50,2,    39.12,2,     0.00,2,     2.83,2,  -999.00,9, -999.000,9, -999.000,9,   -999.0,9,   -999.0,9
           NA,     P10,     60,   1,      16,     -99,  2,19931029,0010,  19.8362,  149.3333,  3710,   1014.2,   4.1698,  34.4770,2,  34.4756,2,     68.4,2,   67.600,2,   105.89,2,    39.24,2,     0.00,2,     2.82,2,     0.01,2,    0.004,2, -999.000,9,   -999.0,9,   -999.0,9
           NA,     P10,     60,   1,      15,     -99,  2,19931029,0010,  19.8362,  149.3333,  3710,   1089.0,   3.8532,  34.5071,2,  34.5063,2,     74.1,2,   73.700,2,   111.77,2,    39.13,2,     0.00,2,     2.81,2,  -999.00,9, -999.000,9, -999.000,9,   -999.0,9,   -999.0,9
           NA,     P10,     60,   1,      14,     -99,  2,19931029,0010,  19.8362,  149.3333,  3710,   1192.1,   3.5153,  34.5307,2,  34.5294,2,     79.4,2,   78.200,2,   118.34,2,    39.18,2,     0.00,2,     2.82,2,  -999.00,9, -999.000,9, -999.000,9,   -999.0,9,   -999.0,9
           NA,     P10,     60,   1,      13,     -99,  2,19931029,0010,  19.8362,  149.3333,  3710,   1409.3,   3.0332,  34.5597,2,  34.5589,2,     85.9,2,   85.000,2,   127.49,2,    39.22,2,     0.01,2,     2.81,2,  -999.00,9, -999.000,9, -999.000,9,   -999.0,9,   -999.0,9
           NA,     P10,     60,   1,      12,     -99,  2,19931029,0010,  19.8362,  149.3333,  3710,   1611.6,   2.5903,  34.5824,2,  34.5825,2,     91.8,2,   92.000,2,   135.79,2,    39.11,2,     0.01,2,     2.79,2,    -0.00,2,    0.000,2, -999.000,9,   -999.0,9,   -999.0,9
           NA,     P10,     60,   1,      11,     -99,  2,19931029,0010,  19.8362,  149.3333,  3710,   1809.3,   2.3544,  34.5975,2,  34.5964,2,     97.5,2,   98.300,2,   139.94,2,    38.84,2,     0.01,2,     2.76,2,  -999.00,4,   -0.002,2, -999.000,9,   -999.0,9,   -999.0,9
           NA,     P10,     60,   1,      10,     -99,  2,19931029,0010,  19.8362,  149.3333,  3710,   1999.3,   2.1832,  34.6115,2,  34.6096,2,    103.7,2,  102.900,2,   143.40,2,    38.64,2,     0.00,2,     2.75,2,  -999.00,9, -999.000,9, -999.000,9,   -999.0,9,   -999.0,9
           NA,     P10,     60,   1,       9,     -99,  2,19931029,0010,  19.8362,  149.3333,  3710,   2205.6,   1.9838,  34.6263,2,  34.6265,2,    112.5,2,  110.000,2,   146.16,2,    38.25,2,     0.00,2,     2.72,2,  -999.00,9, -999.000,9, -999.000,9,   -999.0,9,   -999.0,9
           NA,     P10,     60,   1,       8,     -99,  2,19931029,0010,  19.8362,  149.3333,  3710,   2407.4,   1.7977,  34.6457,2,  34.6447,2,    119.6,2,  119.800,2,   148.41,2,    37.70,2,     0.00,2,     2.67,2,  -999.00,9, -999.000,9, -999.000,9,   -999.0,9,   -999.0,9
           NA,     P10,     60,   1,       7,     -99,  2,19931029,0010,  19.8362,  149.3333,  3710,   2609.4,   1.7271,  34.6531,2,  34.6530,2,    124.0,2,  124.600,2,   148.93,2,    37.42,2,     0.00,2,     2.65,2,  -999.00,9, -999.000,9, -999.000,9,   -999.0,9,   -999.0,9
           NA,     P10,     60,   1,       6,     -99,  2,19931029,0010,  19.8362,  149.3333,  3710,   2801.9,   1.6730,  34.6587,2,  34.6587,2,    128.5,2,  128.700,2,   149.10,2,    37.16,2,    -0.01,2,     2.63,2,  -999.00,9, -999.000,9, -999.000,9,   -999.0,9,   -999.0,9
           NA,     P10,     60,   1,       5,     -99,  2,19931029,0010,  19.8362,  149.3333,  3710,   3006.5,   1.6327,  34.6637,2,  34.6634,2,    132.4,2,  132.600,2,   148.93,2,    36.84,2,    -0.01,2,     2.61,2,  -999.00,9, -999.000,9, -999.000,9,   -999.0,9,   -999.0,9
           NA,     P10,     60,   1,       4,     -99,  2,19931029,0010,  19.8362,  149.3333,  3710,   3208.0,   1.5751,  34.6699,2,  34.6701,2,    137.6,2,  138.300,2,   148.06,2,    36.44,2,     0.00,2,     2.58,2,  -999.00,9, -999.000,9, -999.000,9,   -999.0,9,   -999.0,9
           NA,     P10,     60,   1,       3,     -99,  2,19931029,0010,  19.8362,  149.3333,  3710,   3411.3,   1.5376,  34.6751,2,  34.6748,2,    142.0,2,  143.200,2,   147.20,2,    36.16,2,     0.00,2,     2.55,2,  -999.00,9, -999.000,9, -999.000,9,   -999.0,9,   -999.0,9
           NA,     P10,     60,   1,       2,     -99,  2,19931029,0010,  19.8362,  149.3333,  3710,   3615.1,   1.4991,  34.6798,2,  34.6791,2,    148.8,2,  148.900,2,   145.47,2,    35.72,2,     0.00,2,     2.52,2,  -999.00,9, -999.000,9, -999.000,9,   -999.0,9,   -999.0,9
           NA,     P10,     60,   1,       1,     -99,  2,19931029,0010,  19.8362,  149.3333,  3710,   3881.5,   1.4614,  34.6846,2,  34.6846,2,    155.6,2,  155.300,2,   142.35,2,    35.25,2,     0.00,2,     2.48,2,    -0.00,2,   -0.003,2, -999.000,9,   -999.0,9,   -999.0,9