BOTTLE,20210102JOAExport
EXPOCODE,SECT_ID,STNNBR,CASTNO,SAMPNO,BTLNBR,BTLNBR_FLAG_W,DATE,TIME,LATITUDE,LONGITUDE,DEPTH,CTDPRS,CTDTMP,CTDSAL,CTDSAL_FLAG_W,SALNTY,SALNTY_FLAG_W,CTDOXY,CTDOXY_FLAG_W,OXYGEN,OXYGEN_FLAG_W,SILCAT,SILCAT_FLAG_W,NITRAT,NITRAT_FLAG_W,NITRIT,NITRIT_FLAG_W,PHSPHT,PHSPHT_FLAG_W,CFC-11,CFC-11_FLAG_W,CFC-12,CFC-12_FLAG_W,SF6,SF6_FLAG_W,TCARBN,TCARBN_FLAG_W,ALKALI,ALKALI_FLAG_W
,,,,,,,,,,,,DB,ITS-90,PSS-78,,PSS-78,,UMOL/KG,,UMOL/KG,,UMOL/KG,,UMOL/KG,,UMOL/KG,,UMOL/KG,,PMOL/KG,,PMOL/KG,,FMOL/KG,,UMOL/KG,,UMOL/KG
           NA,     P10,     35,   1,      36,     -99,  2,19931020,1905,   5.4862,  148.0667,  3636,      9.0,  29.0162,  33.6547,2,  33.6566,2,    191.6,2,  207.400,2,     1.42,2,     0.01,2,     0.00,2,     0.01,2,     1.85,2,    0.981,2, -999.000,9,   -999.0,9,   -999.0,9
           NA,     P10,     35,   1,      28,     -99,  2,19931020,1905,   5.4862,  148.0667,  3636,     48.8,  29.0323,  33.6712,2,  33.6672,2,    208.1,2,  205.200,2,     1.58,2,     0.04,2,     0.02,2,     0.02,2,     1.82,2,    0.936,2, -999.000,9,   -999.0,9,   -999.0,9
           NA,     P10,     35,   1,      27,     -99,  2,19931020,1905,   5.4862,  148.0667,  3636,     97.2,  26.4405,  34.4216,2,  34.4110,2,    195.7,2,  202.300,2,     2.07,2,     0.03,2,     0.03,2,     0.10,2,     1.88,2,    0.971,2, -999.000,9,   -999.0,9,   -999.0,9
           NA,     P10,     35,   1,      26,     -99,  2,19931020,1905,   5.4862,  148.0667,  3636,    146.4,  15.9196,  34.6546,2,  34.6519,2,    133.6,2,  140.100,2,    14.04,2,    13.71,2,     0.02,2,     1.03,2,     1.72,2,    0.859,2, -999.000,9,   -999.0,9,   -999.0,9
           NA,     P10,     35,   1,      25,     -99,  2,19931020,1905,   5.4862,  148.0667,  3636,    196.8,  12.8982,  34.6444,2,  34.6409,2,    126.7,2,  126.300,2,    23.10,2,    19.70,2,     0.01,2,     1.47,2,  -999.00,9, -999.000,9, -999.000,9,   -999.0,9,   -999.0,9
           NA,     P10,     35,   1,      24,     -99,  2,19931020,1905,   5.4862,  148.0667,  3636,    246.5,  10.9095,  34.5146,2,  34.5329,2,     99.9,2,   92.900,2,    31.35,2,    26.39,2,     0.02,2,     1.89,2,     0.73,2,    0.357,2, -999.000,9,   -999.0,9,   -999.0,9
           NA,     P10,     35,   1,      23,     -99,  2,19931020,1905,   5.4862,  148.0667,  3636,    295.9,   9.4670,  34.5843,2,  34.5805,2,     69.1,2,   66.700,2,    36.69,2,    31.31,2,     0.01,2,     2.22,2,     0.29,2,    0.134,2, -999.000,9,   -999.0,9,   -999.0,9
           NA,     P10,     35,   1,      22,     -99,  3,19931020,1905,   5.4862,  148.0667,  3636,    395.5,   8.4952,  34.6092,2,  34.6082,2,     62.1,2,   56.600,2,    39.44,2,    34.45,2,     0.00,2,     2.41,2,     0.08,2,    0.036,2, -999.000,9,   -999.0,9,   -999.0,9
           NA,     P10,     35,   1,      20,     -99,  2,19931020,1905,   5.4862,  148.0667,  3636,    495.9,   7.7409,  34.5780,2,-999.0000,4,     78.0,2,   71.200,2,    43.81,2,    34.54,2,     0.01,2,     2.42,2,     0.08,2,    0.035,2, -999.000,9,   -999.0,9,   -999.0,9
           NA,     P10,     35,   1,      19,     -99,  2,19931020,1905,   5.4862,  148.0667,  3636,    596.3,   6.8562,  34.5527,2,  34.5541,2,     79.4,2,   79.300,2,    51.25,2,    35.45,2,     0.00,2,     2.50,2,     0.05,2,    0.016,2, -999.000,9,   -999.0,9,   -999.0,9
           NA,     P10,     35,   1,      18,     -99,  2,19931020,1905,   5.4862,  148.0667,  3636,    698.5,   6.2924,  34.5398,2,-999.0000,3,     65.3,2,   64.500,2,    62.89,2,    37.55,2,     0.01,2,     2.66,2,     0.01,2,    0.004,2, -999.000,9,   -999.0,9,   -999.0,9
           NA,     P10,     35,   1,      17,     -99,  2,19931020,1905,   5.4862,  148.0667,  3636,    796.9,   5.7831,  34.5379,2,  34.5412,2,     69.1,2,   68.700,2,    70.01,2,    38.03,2,     0.01,2,     2.70,2,     0.01,2,   -0.001,2, -999.000,9,   -999.0,9,   -999.0,9
           NA,     P10,     35,   1,      16,     -99,  2,19931020,1905,   5.4862,  148.0667,  3636,    896.7,   4.9142,  34.5479,2,  34.5465,2,     80.9,2,   81.700,2,    82.94,2,    38.09,2,     0.01,2,     2.69,2,     0.02,2,    0.015,2, -999.000,9,   -999.0,9,   -999.0,9
           NA,     P10,     35,   1,      15,     -99,  2,19931020,1905,   5.4862,  148.0667,  3636,    974.9,   4.6510,  34.5514,2,  34.5510,2,     81.7,2,   81.400,2,    88.76,2,    38.35,2,     0.01,2,     2.72,2,     0.01,2,    0.000,2, -999.000,9,   -999.0,9,   -999.0,9
           NA,     P10,     35,   1,      14,     -99,  2,19931020,1905,   5.4862,  148.0667,  3636,   1096.7,   4.0369,  34.5672,2,  34.5663,2,     90.6,2,   89.700,2,    99.75,2,    38.36,2,     0.00,2,     2.71,2,     0.01,2,    0.001,2, -999.000,9,   -999.0,9,   -999.0,9
           NA,     P10,     35,   1,      13,     -99,  2,19931020,1905,   5.4862,  148.0667,  3636,   1196.9,   3.7354,  34.5756,2,  34.5772,2,     92.2,2,   91.400,2,   106.38,2,    38.47,2,     0.00,2,     2.73,2,     0.00,2,    0.002,2, -999.000,9,   -999.0,9,   -999.0,9
           NA,     P10,     35,   1,      12,     -99,  2,19931020,1905,   5.4862,  148.0667,  3636,   1402.7,   3.1249,  34.5970,2,  34.5966,2,     93.4,2,   93.400,2,   118.82,2,    39.05,2,     0.01,2,     2.77,2,     0.00,2,   -0.002,2, -999.000,9,   -999.0,9,   -999.0,9
           NA,     P10,     35,   1,      10,     -99,  2,19931020,1905,   5.4862,  148.0667,  3636,   1806.2,   2.4489,  34.6250,2,  34.6252,2,    104.1,2,  104.400,2,   133.36,2,    38.73,2,     0.01,2,     2.72,2,  -999.00,9, -999.000,9, -999.000,9,   -999.0,9,   -999.0,9
           NA,     P10,     35,   1,       9,     -99,  2,19931020,1905,   5.4862,  148.0667,  3636,   2014.5,   2.1362,  34.6408,2,  34.6401,2,    111.2,2,  113.300,2,   139.00,2,    38.27,2,    -0.01,2,     2.69,2,  -999.00,9, -999.000,9, -999.000,9,   -999.0,9,   -999.0,9
           NA,     P10,     35,   1,       8,     -99,  2,19931020,1905,   5.4862,  148.0667,  3636,   2208.1,   2.0274,  34.6472,2,  34.6474,2,    117.0,2,  117.200,2,   141.10,2,    38.02,2,    -0.01,2,     2.68,2,  -999.00,9, -999.000,9, -999.000,9,   -999.0,9,   -999.0,9
           NA,     P10,     35,   1,       7,     -99,  2,19931020,1905,   5.4862,  148.0667,  3636,   2390.3,   1.9310,  34.6525,2,  34.6523,2,    122.7,2,  121.900,2,   141.90,2,    37.76,2,    -0.01,2,     2.64,2,  -999.00,9, -999.000,9, -999.000,9,   -999.0,9,   -999.0,9
           NA,     P10,     35,   1,       6,     -99,  2,19931020,1905,   5.4862,  148.0667,  3636,   2581.7,   1.7921,  34.6608,2,  34.6608,2,    129.5,2,  130.000,2,   142.22,2,    37.26,2,     0.01,2,     2.60,2,    -0.00,2,    0.000,2, -999.000,9,   -999.0,9,   -999.0,9
           NA,     P10,     35,   1,       5,     -99,  2,19931020,1905,   5.4862,  148.0667,  3636,   2804.3,   1.6741,  34.6680,2,  34.6694,2,    137.3,2,  137.400,2,   142.54,2,    36.75,2,    -0.01,2,     2.56,2,  -999.00,9, -999.000,9, -999.000,9,   -999.0,9,   -999.0,9
           NA,     P10,     35,   1,       4,     -99,  2,19931020,1905,   5.4862,  148.0667,  3636,   2992.9,   1.6025,  34.6732,2,  34.6730,2,    142.9,2,  142.900,2,   142.05,2,    36.32,2,     0.00,2,     2.53,2,  -999.00,9, -999.000,9, -999.000,9,   -999.0,9,   -999.0,9
           NA,     P10,     35,   1,       3,     -99,  2,19931020,1905,   5.4862,  148.0667,  3636,   3194.9,   1.5675,  34.6764,2,  34.6799,2,    146.1,2,  145.700,2,   141.89,2,    36.16,2,     0.00,2,     2.52,2,  -999.00,9, -999.000,9, -999.000,9,   -999.0,9,   -999.0,9
           NA,     P10,     35,   1,       2,     -99,  2,19931020,1905,   5.4862,  148.0667,  3636,   3396.1,   1.5418,  34.6794,2,  34.6797,2,    149.2,2,  148.900,2,   141.72,2,    36.02,2,    -0.01,2,     2.50,2,  -999.00,9, -999.000,9, -999.000,9,   -999.0,9,   -999.0,9
           NA,     P10,     35,   1,       1,     -99,  2,19931020,1905,   5.4862,  148.0667,  3636,   3687.5,   1.5443,  34.6813,2,  34.6846,2,    149.7,2,  150.400,2,   141.33,2,    35.72,2,     0.00,2,     2.48,2,     0.00,2,    0.000,2, -999.000,9,   -999.0,9,   -999.0,9
           NA,     P10,     36,   1,      36,     -99,  2,19931021,0045,   5.9888,  148.2805,  4093,      7.1,  28.8591,  33.7112,2,  33.7154,2,    205.2,2,  208.400,2,     1.13,2,    -0.01,2,     0.01,2,     0.02,2,     1.74,2,    0.933,2, -999.000,9,   1875.3,2,   2224.5,2
           NA,     P10,     36,   1,      30,     -99,  2,19931021,0045,   5.9888,  148.2805,  4093,     47.4,  28.8851,  33.7222,2,  33.7211,2,    201.6,2,  208.400,2,     1.30,2,     0.04,2,     0.01,2,     0.03,2,     1.77,2,    0.926,2, -999.000,9,   1874.1,6,   2223.6,2
           NA,     P10,     36,   1,      29,     -99,  2,19931021,0045,   5.9888,  148.2805,  4093,     96.8,  22.3428,  34.6976,2,  34.6952,2,    196.2,2,  174.400,2,     4.87,2,     2.62,2,     0.27,2,     0.40,2,     1.94,2,    1.012,2, -999.000,9,   2017.5,2,   2293.5,2
           NA,     P10,     36,   1,      28,     -99,  2,19931021,0045,   5.9888,  148.2805,  4093,    145.9,  14.8492,  34.6241,2,  34.6295,2,    140.4,2,  137.700,2,    16.72,2,    15.29,2,     0.02,2,     1.13,2,     1.63,2,    0.790,2, -999.000,9,   2110.9,2,   2298.8,6
           NA,     P10,     36,   1,      27,     -99,  2,19931021,0045,   5.9888,  148.2805,  4093,    195.8,  12.0835,  34.5421,2,  34.5406,2,    111.9,2,  107.300,2,    25.32,2,    22.54,2,     0.03,2,     1.62,2,     1.06,6,    0.505,6, -999.000,9,   2161.1,2,   2299.2,2
           NA,     P10,     36,   1,      26,     -99,  2,19931021,0045,   5.9888,  148.2805,  4093,    245.7,  10.3311,  34.5576,2,-999.0000,4,     78.4,2,   77.100,2,    32.95,2,    28.67,2,     0.01,2,     2.03,2,     0.51,2,    0.247,2, -999.000,9,   2207.7,2,   2307.9,2
           NA,     P10,     36,   1,      25,     -99,  2,19931021,0045,   5.9888,  148.2805,  4093,    296.7,   9.6187,  34.5782,2,  34.5795,2,     74.3,2,   76.900,2,    36.36,2,    30.24,2,     0.01,2,     2.14,2,     0.36,2,    0.172,2, -999.000,9,   2220.2,2,   2314.0,2
           NA,     P10,     36,   1,      24,     -99,  2,19931021,0045,   5.9888,  148.2805,  4093,    346.8,   9.1165,  34.6109,2,  34.6098,2,     60.7,2,   62.500,2,    36.69,2,    32.51,2,     0.00,2,     2.28,2,     0.19,2,    0.090,2, -999.000,9,   2235.7,2,   2315.3,2
           NA,     P10,     36,   1,      23,     -99,  2,19931021,0045,   5.9888,  148.2805,  4093,    387.2,   9.0397,  34.6083,2,  34.6073,2,     66.1,2,   59.100,2,    37.02,2,    32.92,2,     0.01,2,     2.31,2,     0.17,2,    0.086,2, -999.000,9,   2237.6,2,   2315.5,2
           NA,     P10,     36,   1,      22,     -99,  2,19931021,0045,   5.9888,  148.2805,  4093,    495.1,   8.0887,  34.5843,2,  34.5992,2,     60.0,2,   59.500,2,    43.03,2,    34.87,2,     0.01,2,     2.45,2,     0.06,2,    0.035,2, -999.000,9,   2247.8,2,   2323.4,2
           NA,     P10,     36,   1,      20,     -99,  2,19931021,0045,   5.9888,  148.2805,  4093,    596.8,   6.8071,  34.5507,2,-999.0000,4,     59.0,2,   60.100,2,    56.33,2,    37.12,2,     0.01,2,     2.64,2,     0.02,2,    0.009,2, -999.000,9,   2269.6,2,   2332.3,2
           NA,     P10,     36,   1,      19,     -99,  2,19931021,0045,   5.9888,  148.2805,  4093,    699.1,   6.1029,  34.5400,2,  34.5376,2,     62.1,2,   66.400,2,    65.58,2,    37.76,2,     0.00,2,     2.68,2,     0.01,2,    0.004,2, -999.000,9,   2277.9,2,   2343.8,2
           NA,     P10,     36,   1,      18,     -99,  2,19931021,0045,   5.9888,  148.2805,  4093,    797.9,   5.1782,  34.5431,2,  34.5447,2,     72.9,2,   75.500,2,    79.22,2,    38.28,2,     0.01,2,     2.72,2,  -999.00,4, -999.000,4, -999.000,9,   2291.4,2,   2361.1,2
           NA,     P10,     36,   1,      17,     -99,  2,19931021,0045,   5.9888,  148.2805,  4093,    955.3,   4.5385,  34.5546,2,  34.5524,2,     84.0,2,   84.900,2,    90.58,2,    38.13,2,     0.00,2,     2.71,2,     0.01,2,    0.000,2, -999.000,9,   2298.5,2,   2373.1,2
           NA,     P10,     36,   1,      16,     -99,  2,19931021,0045,   5.9888,  148.2805,  4093,   1103.7,   3.8112,  34.5727,2,  34.5709,2,     89.9,2,   90.800,2,   104.85,2,    38.43,2,     0.01,2,     2.72,2,  -999.00,3,   -0.001,2, -999.000,9,   2312.1,2,   2386.2,2
           NA,     P10,     36,   1,      15,     -99,  2,19931021,0045,   5.9888,  148.2805,  4093,   1219.5,   3.5057,  34.5831,2,  34.5827,2,     93.1,2,   93.100,2,   110.86,2,    38.49,2,     0.00,2,     2.73,2,     0.00,2,   -0.003,2, -999.000,9,   2318.8,2,   2394.3,2
           NA,     P10,     36,   1,      13,     -99,  2,19931021,0045,   5.9888,  148.2805,  4093,   1578.1,   2.7904,  34.6109,2,-999.0000,4,     97.3,2,   98.100,2,   126.28,2,    38.85,2,     0.00,2,     2.75,2,  -999.00,9, -999.000,9, -999.000,9,   2333.0,2,   2414.9,2
           NA,     P10,     36,   1,      12,     -99,  2,19931021,0045,   5.9888,  148.2805,  4093,   1779.9,   2.5342,  34.6216,2,  34.6242,2,    102.8,2,  103.300,2,   131.63,2,    38.54,2,    -0.01,2,     2.73,2,  -999.00,9, -999.000,9, -999.000,9,   2334.6,2,   2418.5,2
           NA,     P10,     36,   1,      11,     -99,  2,19931021,0045,   5.9888,  148.2805,  4093,   1983.2,   2.2588,  34.6351,2,  34.6354,2,    109.8,2,  109.700,2,   137.31,2,    38.32,2,     0.00,2,     2.71,2,    -0.00,2,   -0.003,2, -999.000,9,   2333.0,2,   -999.0,5
           NA,     P10,     36,   1,      10,     -99,  2,19931021,0045,   5.9888,  148.2805,  4093,   2183.2,   2.0806,  34.6453,2,  34.6442,2,    115.8,2,  116.300,2,   139.75,2,    37.80,2,    -0.01,2,     2.67,2,  -999.00,9, -999.000,9, -999.000,9,   2336.7,2,   2426.6,2
           NA,     P10,     36,   1,       9,     -99,  2,19931021,0045,   5.9888,  148.2805,  4093,   2377.6,   1.9054,  34.6543,2,  34.6557,2,    121.9,2,  123.000,2,   142.04,2,    37.52,2,     0.00,2,     2.64,2,  -999.00,9, -999.000,9, -999.000,9,   2332.4,2,   2432.7,2
           NA,     P10,     36,   1,       8,     -99,  2,19931021,0045,   5.9888,  148.2805,  4093,   2567.6,   1.8013,  34.6606,2,  34.6639,2,    129.7,2,  129.500,2,   142.20,2,    37.16,2,    -0.01,2,     2.61,2,  -999.00,9, -999.000,9, -999.000,9,   2333.3,2,   2437.0,6
           NA,     P10,     36,   1,       7,     -99,  2,19931021,0045,   5.9888,  148.2805,  4093,   2763.0,   1.6947,  34.6671,2,  34.6680,2,    134.9,2,  135.800,2,   142.70,2,    36.69,2,    -0.01,2,     2.58,2,  -999.00,9, -999.000,9, -999.000,9,   2331.1,2,   2431.2,2
           NA,     P10,     36,   1,       6,     -99,  2,19931021,0045,   5.9888,  148.2805,  4093,   2962.7,   1.6381,  34.6711,2,  34.6755,2,    140.3,2,  140.600,2,   142.54,2,    36.41,2,     0.00,2,     2.55,2,    -0.00,2,   -0.001,2, -999.000,9,   2325.8,6,   2434.5,2
           NA,     P10,     36,   1,       5,     -99,  3,19931021,0045,   5.9888,  148.2805,  4093,   3223.0,   1.5626,-999.0000,3,-999.0000,4,   -999.0,3, -999.000,4,  -999.00,4,  -999.00,4,  -999.00,4,  -999.00,4,  -999.00,9, -999.000,9, -999.000,9,   -999.0,2,   -999.0,2
           NA,     P10,     36,   1,       4,     -99,  3,19931021,0045,   5.9888,  148.2805,  4093,   3497.6,   1.5278,  34.6818,2,  34.6814,2,    150.8,2,  150.300,2,   141.59,2,    35.89,2,    -0.01,2,     2.50,2,  -999.00,9, -999.000,9, -999.000,9,   2324.5,2,   2428.4,2
           NA,     P10,     36,   1,       3,     -99,  2,19931021,0045,   5.9888,  148.2805,  4093,   3709.1,   1.5275,  34.6835,2,  34.6856,2,    152.3,2,  151.500,2,   141.27,2,    35.84,2,    -0.02,2,     2.50,2,  -999.00,9, -999.000,9, -999.000,9,   2319.1,2,   -999.0,4
           NA,     P10,     36,   1,       2,     -99,  2,19931021,0045,   5.9888,  148.2805,  4093,   3922.4,   1.5378,  34.6838,2,  34.6842,2,    153.3,2,  152.400,2,   141.44,2,    35.83,2,    -0.01,2,     2.49,2,  -999.00,9, -999.000,9, -999.000,9,   -999.0,4,   -999.0,4
           NA,     P10,     36,   1,       1,     -99,  2,19931021,0045,   5.9888,  148.2805,  4093,   4140.8,   1.5319,  34.6859,2,  34.6850,2,    155.3,2,  154.800,2,   140.64,2,    35.54,2,     0.00,2,     2.46,2,     0.00,2,    0.000,2, -999.000,9,   2318.8,2,   2426.8,2