BOTTLE,20210102JOAExport
EXPOCODE,SECT_ID,STNNBR,CASTNO,SAMPNO,BTLNBR,BTLNBR_FLAG_W,DATE,TIME,LATITUDE,LONGITUDE,DEPTH,CTDPRS,CTDTMP,CTDSAL,CTDSAL_FLAG_W,SALNTY,SALNTY_FLAG_W,CTDOXY,CTDOXY_FLAG_W,OXYGEN,OXYGEN_FLAG_W,SILCAT,SILCAT_FLAG_W,NITRAT,NITRAT_FLAG_W,NITRIT,NITRIT_FLAG_W,PHSPHT,PHSPHT_FLAG_W,CFC-11,CFC-11_FLAG_W,CFC-12,CFC-12_FLAG_W,SF6,SF6_FLAG_W,TCARBN,TCARBN_FLAG_W,ALKALI,ALKALI_FLAG_W
,,,,,,,,,,,,DB,ITS-90,PSS-78,,PSS-78,,UMOL/KG,,UMOL/KG,,UMOL/KG,,UMOL/KG,,UMOL/KG,,UMOL/KG,,PMOL/KG,,PMOL/KG,,FMOL/KG,,UMOL/KG,,UMOL/KG
           NA,     P10,     29,   1,      36,     -99,  2,19931018,2107,   2.7472,  146.9305,  4388,     14.0,  28.8157,  34.0753,2,  34.0786,2,    211.1,2,  216.300,2,     1.70,2,    -0.01,2,     0.01,2,     0.04,2,  -999.00,9, -999.000,9, -999.000,9,   -999.0,9,   -999.0,9
           NA,     P10,     29,   1,      31,     -99,  2,19931018,2107,   2.7472,  146.9305,  4388,     33.4,  28.5579,  34.1591,2,  34.1584,2,    213.0,2,  214.000,2,     1.72,2,     0.04,2,     0.01,2,     0.05,2,  -999.00,9, -999.000,9, -999.000,9,   -999.0,9,   -999.0,9
           NA,     P10,     29,   1,      30,     -99,  2,19931018,2107,   2.7472,  146.9305,  4388,     58.5,  28.3045,  34.2495,2,  34.2492,2,    212.0,2,  213.400,2,     1.73,2,    -0.01,2,     0.01,2,     0.06,2,  -999.00,9, -999.000,9, -999.000,9,   -999.0,9,   -999.0,9
           NA,     P10,     29,   1,      29,     -99,  2,19931018,2107,   2.7472,  146.9305,  4388,     82.6,  27.6176,  34.3571,2,  34.4036,2,    209.2,2,  208.600,2,     1.75,2,     0.01,2,     0.01,2,     0.11,2,  -999.00,9, -999.000,9, -999.000,9,   -999.0,9,   -999.0,9
           NA,     P10,     29,   1,      28,     -99,  2,19931018,2107,   2.7472,  146.9305,  4388,    106.9,  23.6117,  34.6627,2,  34.6581,2,    175.4,2,  173.800,2,     5.06,2,     3.91,2,     0.06,2,     0.43,2,  -999.00,9, -999.000,9, -999.000,9,   -999.0,9,   -999.0,9
           NA,     P10,     29,   1,      27,     -99,  2,19931018,2107,   2.7472,  146.9305,  4388,    155.5,  19.4069,  34.9360,2,  34.9759,2,    151.7,2,  152.900,2,     8.03,2,     9.13,2,     0.03,2,     0.77,2,  -999.00,9, -999.000,9, -999.000,9,   -999.0,9,   -999.0,9
           NA,     P10,     29,   1,      26,     -99,  2,19931018,2107,   2.7472,  146.9305,  4388,    205.1,  13.7539,  34.5826,2,  34.5856,2,    124.4,2,  132.600,2,    20.04,2,    17.53,2,     0.01,2,     1.31,2,  -999.00,9, -999.000,9, -999.000,9,   -999.0,9,   -999.0,9
           NA,     P10,     29,   1,      25,     -99,  2,19931018,2107,   2.7472,  146.9305,  4388,    255.3,  10.3436,  34.6562,2,  34.6595,2,    110.7,2,  116.600,2,    28.76,2,    25.32,2,     0.01,2,     1.82,2,  -999.00,9, -999.000,9, -999.000,9,   -999.0,9,   -999.0,9
           NA,     P10,     29,   1,      24,     -99,  2,19931018,2107,   2.7472,  146.9305,  4388,    305.0,  10.1009,  34.7342,2,  34.7595,2,    121.4,2,  120.700,2,    22.86,2,    25.71,2,     0.01,2,     1.81,2,  -999.00,9, -999.000,9, -999.000,9,   -999.0,9,   -999.0,9
           NA,     P10,     29,   1,      23,     -99,  2,19931018,2107,   2.7472,  146.9305,  4388,    403.9,   9.3637,  34.6753,2,  34.6811,2,    107.7,2,  106.300,2,    27.97,2,    28.54,2,     0.00,2,     1.98,2,  -999.00,9, -999.000,9, -999.000,9,   -999.0,9,   -999.0,9
           NA,     P10,     29,   1,      22,     -99,  2,19931018,2107,   2.7472,  146.9305,  4388,    529.8,   8.2420,  34.6051,2,  34.6129,2,    104.1,2,  102.000,2,    35.05,2,    31.09,2,     0.00,2,     2.17,2,  -999.00,9, -999.000,9, -999.000,9,   -999.0,9,   -999.0,9
           NA,     P10,     29,   1,      20,     -99,  2,19931018,2107,   2.7472,  146.9305,  4388,    729.4,   6.1763,  34.5392,2,-999.0000,3,     87.9,2,   83.000,2,    57.40,2,    36.77,2,     0.00,2,     2.60,2,  -999.00,9, -999.000,9, -999.000,9,   -999.0,9,   -999.0,9
           NA,     P10,     29,   1,      19,     -99,  2,19931018,2107,   2.7472,  146.9305,  4388,    829.0,   5.5530,  34.5400,2,-999.0000,3,     73.9,2,   76.100,2,    67.41,2,    38.66,2,     0.00,2,     2.72,2,  -999.00,9, -999.000,9, -999.000,9,   -999.0,9,   -999.0,9
           NA,     P10,     29,   1,      18,     -99,  2,19931018,2107,   2.7472,  146.9305,  4388,    929.3,   4.9888,  34.5409,2,-999.0000,3,     85.7,2,   83.500,2,    77.11,2,    38.53,2,    -0.01,2,     2.72,2,  -999.00,9, -999.000,9, -999.000,9,   -999.0,9,   -999.0,9
           NA,     P10,     29,   1,      17,     -99,  2,19931018,2107,   2.7472,  146.9305,  4388,   1004.9,   4.5947,  34.5526,2,  34.5561,2,     88.4,2,   88.900,2,    85.36,2,    38.32,2,     0.00,2,     2.72,2,  -999.00,9, -999.000,9, -999.000,9,   -999.0,9,   -999.0,9
           NA,     P10,     29,   1,      16,     -99,  2,19931018,2107,   2.7472,  146.9305,  4388,   1205.2,   3.8640,  34.5711,2,  34.5734,2,     94.4,2,   94.200,2,   101.13,2,    38.40,2,    -0.01,2,     2.72,2,  -999.00,9, -999.000,9, -999.000,9,   -999.0,9,   -999.0,9
           NA,     P10,     29,   1,      15,     -99,  2,19931018,2107,   2.7472,  146.9305,  4388,   1405.9,   3.4489,  34.5838,2,  34.5866,2,     97.8,2,   96.800,2,   109.84,2,    38.51,2,     0.00,2,     2.73,2,  -999.00,9, -999.000,9, -999.000,9,   -999.0,9,   -999.0,9
           NA,     P10,     29,   1,      14,     -99,  2,19931018,2107,   2.7472,  146.9305,  4388,   1606.5,   2.9341,  34.6014,2,-999.0000,3,    104.8,2,  103.200,2,   120.20,2,    38.53,2,    -0.01,2,     2.72,2,  -999.00,9, -999.000,9, -999.000,9,   -999.0,9,   -999.0,9
           NA,     P10,     29,   1,      12,     -99,  2,19931018,2107,   2.7472,  146.9305,  4388,   2008.2,   2.2367,  34.6313,2,-999.0000,3,    116.4,2,  115.700,2,   134.61,2,    37.99,2,    -0.01,2,     2.68,2,  -999.00,9, -999.000,9, -999.000,9,   -999.0,9,   -999.0,9
           NA,     P10,     29,   1,      10,     -99,  2,19931018,2107,   2.7472,  146.9305,  4388,   2396.4,   1.9042,  34.6513,2,-999.0000,3,    124.7,2,  124.900,2,   140.53,2,    37.45,2,     0.00,2,     2.63,2,  -999.00,9, -999.000,9, -999.000,9,   -999.0,9,   -999.0,9
           NA,     P10,     29,   1,       9,     -99,  2,19931018,2107,   2.7472,  146.9305,  4388,   2595.7,   1.7507,  34.6602,2,-999.0000,3,    131.4,2,  132.100,2,   142.02,2,    36.99,2,    -0.01,2,     2.60,2,  -999.00,9, -999.000,9, -999.000,9,   -999.0,9,   -999.0,9
           NA,     P10,     29,   1,       8,     -99,  2,19931018,2107,   2.7472,  146.9305,  4388,   2797.3,   1.6552,  34.6694,2,-999.0000,4,    138.0,2,  138.700,2,   142.03,2,    36.73,2,    -0.01,2,     2.56,2,  -999.00,9, -999.000,9, -999.000,9,   -999.0,9,   -999.0,9
           NA,     P10,     29,   1,       7,     -99,  2,19931018,2107,   2.7472,  146.9305,  4388,   2996.2,   1.6230,  34.6719,2,-999.0000,4,    141.2,2,  141.300,2,   142.04,2,    36.54,2,    -0.01,2,     2.55,2,  -999.00,9, -999.000,9, -999.000,9,   -999.0,9,   -999.0,9
           NA,     P10,     29,   1,       6,     -99,  2,19931018,2107,   2.7472,  146.9305,  4388,   3245.4,   1.5973,  34.6764,2,-999.0000,4,    143.9,2,  144.100,2,   142.05,2,    36.33,2,    -0.01,2,     2.54,2,  -999.00,9, -999.000,9, -999.000,9,   -999.0,9,   -999.0,9
           NA,     P10,     29,   1,       5,     -99,  2,19931018,2107,   2.7472,  146.9305,  4388,   3503.4,   1.5758,  34.6796,2,  34.6791,2,    146.4,2,  146.000,2,   142.09,2,    36.18,2,    -0.01,2,     2.52,2,  -999.00,9, -999.000,9, -999.000,9,   -999.0,9,   -999.0,9
           NA,     P10,     29,   1,       4,     -99,  2,19931018,2107,   2.7472,  146.9305,  4388,   3743.2,   1.5292,  34.6836,2,  34.6835,2,    151.8,2,  151.800,2,   141.13,2,    35.76,2,    -0.01,2,     2.50,2,  -999.00,9, -999.000,9, -999.000,9,   -999.0,9,   -999.0,9
           NA,     P10,     29,   1,       3,     -99,  2,19931018,2107,   2.7472,  146.9305,  4388,   3993.6,   1.5268,  34.6857,2,  34.6848,2,    154.1,2,  153.900,2,   140.97,2,    35.72,2,    -0.01,2,     2.50,2,  -999.00,9, -999.000,9, -999.000,9,   -999.0,9,   -999.0,9
           NA,     P10,     29,   1,       2,     -99,  2,19931018,2107,   2.7472,  146.9305,  4388,   4244.2,   1.5330,  34.6873,2,  34.6860,2,    155.8,2,  155.600,2,   140.99,2,    35.67,2,    -0.02,2,     2.49,2,  -999.00,9, -999.000,9, -999.000,9,   -999.0,9,   -999.0,9
           NA,     P10,     29,   1,       1,     -99,  9,19931018,2107,   2.7472,  146.9305,  4388,   4443.8,   1.5523,-999.0000,3,-999.0000,9,   -999.0,3, -999.000,9,   141.07,2,    35.64,2,     0.01,2,     2.46,2,  -999.00,9, -999.000,9, -999.000,9,   -999.0,9,   -999.0,9
           NA,     P10,     30,   1,      36,     -99,  2,19931019,0223,   3.0000,  147.0055,  4426,      6.4,  29.0640,  34.0779,2,  34.0784,2,    210.3,2,  215.000,2,     1.47,2,     0.03,2,     0.01,2,     0.05,2,     1.75,2,    0.949,2, -999.000,9,   1895.0,2,   2232.8,2
           NA,     P10,     30,   1,      32,     -99,  2,19931019,0223,   3.0000,  147.0055,  4426,     20.8,  28.5371,  34.1374,2,  34.1502,2,    214.4,2,  211.400,2,     1.63,2,    -0.01,2,     0.01,2,     0.06,2,     1.77,2,    0.956,2, -999.000,9,   1900.4,2,   2253.5,2
           NA,     P10,     30,   1,      30,     -99,  2,19931019,0223,   3.0000,  147.0055,  4426,     98.3,  26.8768,  34.5616,2,  34.5612,2,    205.3,2,  209.600,2,     1.30,2,     0.10,2,     0.02,2,     0.12,2,     1.79,2,    0.954,2, -999.000,9,   1939.7,2,   2280.8,2
           NA,     P10,     30,   1,      29,     -99,  2,19931019,0223,   3.0000,  147.0055,  4426,    137.2,  20.7341,  34.7724,2,  34.7548,2,    160.1,2, -999.000,9,     8.06,2,     6.97,2,     0.03,2,     0.62,2,     1.83,2,    0.925,2, -999.000,9,   2040.0,2,   2272.7,2
           NA,     P10,     30,   1,      28,     -99,  2,19931019,0223,   3.0000,  147.0055,  4426,    175.9,  16.1992,  34.6946,2,  34.6919,2,    147.9,2,  144.900,2,    13.99,2,    12.90,2,     0.02,2,     1.00,2,     1.72,6,    0.850,6, -999.000,9,   2092.4,2,   2303.9,2
           NA,     P10,     30,   1,      27,     -99,  2,19931019,0223,   3.0000,  147.0055,  4426,    216.2,  11.1137,  34.5182,2,  34.5178,2,    119.7,2,  115.000,2,    29.98,2,    23.40,2,     0.01,2,     1.71,2,     0.96,2,    0.460,2, -999.000,9,   2169.3,2,   2299.7,6
           NA,     P10,     30,   1,      26,     -99,  2,19931019,0223,   3.0000,  147.0055,  4426,    256.0,   9.9315,  34.6686,2,  34.6679,2,    100.4,2,  113.500,2,  -999.00,9,  -999.00,9,  -999.00,9,  -999.00,9,     0.50,2,    0.248,2, -999.000,9,   2189.4,6,   2318.0,6
           NA,     P10,     30,   1,      25,     -99,  2,19931019,0223,   3.0000,  147.0055,  4426,    296.0,   9.8197,  34.7097,2,  34.7082,2,    113.0,2,  105.000,2,    26.03,2,    27.60,2,     0.01,2,     1.95,2,     0.35,2,    0.162,2, -999.000,9,   2197.2,2,   2327.5,2
           NA,     P10,     30,   1,      24,     -99,  2,19931019,0223,   3.0000,  147.0055,  4426,    346.2,   9.4126,  34.6790,2,  34.6717,2,    106.9,2,  104.900,2,    28.33,2,    28.42,2,     0.01,2,     2.00,2,     0.30,2,    0.146,2, -999.000,9,   2201.0,2,   -999.0,3
           NA,     P10,     30,   1,      23,     -99,  2,19931019,0223,   3.0000,  147.0055,  4426,    416.4,   8.9348,  34.6527,2,  34.6500,2,    113.1,2,  111.300,2,    29.15,2,    28.76,2,     0.01,2,     2.02,2,     0.25,2,    0.126,2, -999.000,9,   2201.7,2,   2326.8,2
           NA,     P10,     30,   1,      22,     -99,  2,19931019,0223,   3.0000,  147.0055,  4426,    506.3,   8.3216,  34.6080,2,  34.6078,2,    106.7,2,   96.600,2,    35.91,2,    31.19,2,     0.01,2,     2.20,2,     0.16,2,    0.089,2, -999.000,9,   2218.0,2,   -999.0,3
           NA,     P10,     30,   1,      21,     -99,  3,19931019,0223,   3.0000,  147.0055,  4426,    585.8,   7.4608,  34.5730,2,  34.5734,2,    116.7,2,  110.800,2,    38.88,2,    31.55,2,     0.00,2,     2.22,2,  -999.00,9, -999.000,9, -999.000,9,   2216.0,2,   2325.5,2
           NA,     P10,     30,   1,      20,     -99,  2,19931019,0223,   3.0000,  147.0055,  4426,    696.2,   6.4068,  34.5482,2,-999.0000,4,     82.8,2,   83.000,2,    54.88,2,    36.13,2,     0.00,2,     2.57,2,     0.02,2,    0.012,2, -999.000,9,   2258.0,2,   2344.8,2
           NA,     P10,     30,   1,      19,     -99,  2,19931019,0223,   3.0000,  147.0055,  4426,    775.5,   5.8774,  34.5480,2,-999.0000,4,     70.5,2,   70.100,2,    63.78,2,    38.57,2,     0.00,2,     2.75,2,  -999.00,9, -999.000,9, -999.000,9,   2275.8,2,   2355.1,2
           NA,     P10,     30,   1,      18,     -99,  2,19931019,0223,   3.0000,  147.0055,  4426,    895.5,   4.9943,  34.5485,2,  34.5493,2,     84.5,2,   85.300,2,    77.30,2,    38.04,2,     0.00,2,     2.72,2,     0.00,2,   -0.003,2, -999.000,9,   2284.4,2,   2369.3,2
           NA,     P10,     30,   1,      17,     -99,  2,19931019,0223,   3.0000,  147.0055,  4426,    995.7,   4.6537,  34.5540,2,  34.5548,2,     88.8,2,   88.900,2,    84.39,2,    38.12,2,     0.00,2,     2.72,2,    -0.00,2,    0.000,2, -999.000,9,   2288.3,2,   2362.2,6
           NA,     P10,     30,   1,      16,     -99,  2,19931019,0223,   3.0000,  147.0055,  4426,   1194.1,   3.9362,  34.5728,2,  34.5730,2,     92.2,2,   90.300,2,   100.71,2,    38.56,2,     0.00,2,     2.76,2,  -999.00,9, -999.000,9, -999.000,9,   2308.6,2,   2398.0,2
           NA,     P10,     30,   1,      15,     -99,  2,19931019,0223,   3.0000,  147.0055,  4426,   1390.2,   3.3599,  34.5896,2,  34.5889,2,     98.8,2,   98.100,2,   112.09,2,    38.32,2,    -0.01,2,     2.73,2,     0.00,2,   -0.004,2, -999.000,9,   -999.0,3,   2410.5,2
           NA,     P10,     30,   1,      14,     -99,  2,19931019,0223,   3.0000,  147.0055,  4426,   1596.1,   2.9170,  34.6067,2,  34.6060,2,    102.0,2,  102.800,2,   121.32,2,    38.27,2,     0.00,2,     2.73,2,  -999.00,9, -999.000,9, -999.000,9,   2325.5,2,   2412.2,2
           NA,     P10,     30,   1,      13,     -99,  2,19931019,0223,   3.0000,  147.0055,  4426,   1797.2,   2.5058,  34.6251,2,  34.6263,2,    105.5,2,  107.000,2,   130.88,2,    38.39,2,     0.00,2,     2.73,2,    -0.00,2,   -0.004,2, -999.000,9,   2330.4,2,   2419.9,2
           NA,     P10,     30,   1,      12,     -99,  2,19931019,0223,   3.0000,  147.0055,  4426,   1997.4,   2.1694,  34.6413,2,  34.6424,2,    114.9,2, -999.000,3,   134.67,2,    38.10,2,    -0.01,2,     2.71,2,    -0.00,2,   -0.006,2, -999.000,9,   2330.3,2,   2415.5,2
           NA,     P10,     30,   1,      11,     -99,  2,19931019,0223,   3.0000,  147.0055,  4426,   2196.6,   1.9941,  34.6499,2,-999.0000,4,    119.9,2, -999.000,3,  -999.00,3,  -999.00,3,    -0.01,2,  -999.00,3,  -999.00,9, -999.000,9, -999.000,9,   2329.7,2,   2422.9,2
           NA,     P10,     30,   1,      10,     -99,  2,19931019,0223,   3.0000,  147.0055,  4426,   2391.9,   1.8365,  34.6593,2,  34.6593,2,    124.3,2, -999.000,3,   142.57,2,    37.27,2,    -0.01,2,     2.63,2,  -999.00,9, -999.000,9, -999.000,9,   2319.7,2,   -999.0,3
           NA,     P10,     30,   1,       9,     -99,  2,19931019,0223,   3.0000,  147.0055,  4426,   2597.3,   1.7268,  34.6652,2,  34.6654,2,    132.2,2, -999.000,9,   142.41,2,    36.76,2,    -0.02,2,     2.60,2,     0.00,2,   -0.005,2, -999.000,9,   2326.9,2,   -999.0,3
           NA,     P10,     30,   1,       8,     -99,  2,19931019,0223,   3.0000,  147.0055,  4426,   2793.5,   1.6392,  34.6703,2,  34.6711,2,    138.0,2,  139.400,2,   142.57,2,    36.39,2,    -0.01,2,     2.57,2,  -999.00,9, -999.000,9, -999.000,9,   2319.5,2,   2433.8,2
           NA,     P10,     30,   1,       7,     -99,  2,19931019,0223,   3.0000,  147.0055,  4426,   2996.7,   1.6069,  34.6740,2,  34.6732,2,    141.6,2,  141.900,2,   142.74,2,    36.24,2,    -0.01,2,     2.56,2,     0.01,2,   -0.001,2, -999.000,9,   2323.9,2,   2436.8,2
           NA,     P10,     30,   1,       6,     -99,  2,19931019,0223,   3.0000,  147.0055,  4426,   3243.9,   1.5914,  34.6760,2,-999.0000,4,    143.9,2,  144.500,2,   142.74,2,    36.10,2,    -0.01,2,     2.55,2,  -999.00,9, -999.000,9, -999.000,9,   2311.7,6,   -999.0,3
           NA,     P10,     30,   1,       5,     -99,  2,19931019,0223,   3.0000,  147.0055,  4426,   3493.3,   1.5700,  34.6793,2,  34.6801,2,    146.8,2,  147.300,2,   142.41,2,    35.95,2,    -0.01,2,     2.54,2,    -0.00,2,   -0.008,2, -999.000,9,   2320.1,2,   2433.4,2
           NA,     P10,     30,   1,       4,     -99,  2,19931019,0223,   3.0000,  147.0055,  4426,   3744.0,   1.5400,  34.6830,2,-999.0000,3,    150.9,2,  151.000,2,   141.74,2,    35.69,2,    -0.01,2,     2.51,2,    -0.00,2,   -0.004,2, -999.000,9,   -999.0,4,   2430.0,2
           NA,     P10,     30,   1,       3,     -99,  2,19931019,0223,   3.0000,  147.0055,  4426,   3995.3,   1.5238,  34.6857,2,  34.6866,2,    154.8,2,  154.200,2,   141.41,2,    35.61,2,    -0.01,2,     2.51,2,  -999.00,9, -999.000,9, -999.000,9,   2327.6,2,   2431.5,2
           NA,     P10,     30,   1,       2,     -99,  2,19931019,0223,   3.0000,  147.0055,  4426,   4250.3,   1.5342,  34.6880,2,-999.0000,4,    155.9,2,  155.000,2,   141.24,2,    35.52,2,    -0.01,2,     2.49,2,  -999.00,9, -999.000,9, -999.000,9,   2326.3,2,   2435.0,2
           NA,     P10,     30,   1,       1,     -99,  2,19931019,0223,   3.0000,  147.0055,  4426,   4483.0,   1.5565,  34.6878,2,-999.0000,3,   -999.0,3,  155.900,2,   140.85,2,    35.47,2,     0.00,2,     2.50,2,  -999.00,3,    0.005,2, -999.000,9,   2327.4,2,   2441.6,2