BOTTLE,20210102JOAExport
EXPOCODE,SECT_ID,STNNBR,CASTNO,SAMPNO,BTLNBR,BTLNBR_FLAG_W,DATE,TIME,LATITUDE,LONGITUDE,DEPTH,CTDPRS,CTDTMP,CTDSAL,CTDSAL_FLAG_W,SALNTY,SALNTY_FLAG_W,CTDOXY,CTDOXY_FLAG_W,OXYGEN,OXYGEN_FLAG_W,SILCAT,SILCAT_FLAG_W,NITRAT,NITRAT_FLAG_W,NITRIT,NITRIT_FLAG_W,PHSPHT,PHSPHT_FLAG_W,CFC-11,CFC-11_FLAG_W,CFC-12,CFC-12_FLAG_W,SF6,SF6_FLAG_W,TCARBN,TCARBN_FLAG_W,ALKALI,ALKALI_FLAG_W
,,,,,,,,,,,,DB,ITS-90,PSS-78,,PSS-78,,UMOL/KG,,UMOL/KG,,UMOL/KG,,UMOL/KG,,UMOL/KG,,UMOL/KG,,PMOL/KG,,PMOL/KG,,FMOL/KG,,UMOL/KG,,UMOL/KG
           NA,     P10,     49,   1,      36,     -99,  2,19931024,1841,  12.5028,  149.3388,  5929,      7.8,  29.2190,  34.2027,2,  34.2041,2,    208.8,2,  208.400,2,     0.93,2,     0.01,2,     0.01,2,     0.13,2,     1.74,2,    0.974,2, -999.000,9,   1896.8,2,   2254.6,2
           NA,     P10,     49,   1,      35,     -99,  3,19931024,1841,  12.5028,  149.3388,  5929,     52.2,  29.2445,  34.2352,2,  34.2258,2,    218.4,2,  209.500,2,     1.14,2,    -0.01,2,     0.01,2,     0.14,2,     1.69,2,    0.939,2, -999.000,9,   1898.2,2,   2258.9,2
           NA,     P10,     49,   1,      34,     -99,  2,19931024,1841,  12.5028,  149.3388,  5929,    100.4,  26.7647,  34.7664,2,  34.7633,2,    220.9,2,  220.700,2,     0.95,2,     0.01,2,     0.01,2,     0.11,2,  -999.00,9, -999.000,9, -999.000,9,   1939.3,2,   2292.0,2
           NA,     P10,     49,   1,      33,     -99,  2,19931024,1841,  12.5028,  149.3388,  5929,    149.5,  23.0304,  35.0781,2,  35.0788,2,    201.5,2,  195.600,2,     1.58,2,     0.11,2,     0.17,2,     0.19,2,     2.16,2,    1.155,2, -999.000,9,   2002.9,2,   2313.2,2
           NA,     P10,     49,   1,      32,     -99,  2,19931024,1841,  12.5028,  149.3388,  5929,    196.6,  17.4171,  34.7793,2,  34.7774,2,    167.7,2,  165.600,2,     5.99,2,     7.12,2,     0.02,2,     0.65,2,  -999.00,9, -999.000,9, -999.000,9,   2067.8,6,   2297.4,6
           NA,     P10,     49,   1,      31,     -99,  2,19931024,1841,  12.5028,  149.3388,  5929,    248.5,  13.2792,  34.4488,2,  34.4501,2,    169.4,2,  168.600,2,    13.12,2,    13.04,2,     0.01,2,     1.01,2,     2.09,2,    1.021,2, -999.000,9,   2091.6,2,   2279.9,2
           NA,     P10,     49,   1,      30,     -99,  2,19931024,1841,  12.5028,  149.3388,  5929,    297.8,  10.6561,  34.2895,2,  34.2884,2,    143.7,2,  147.900,2,    23.61,2,    19.74,2,     0.01,2,     1.48,2,  -999.00,9, -999.000,9, -999.000,9,   2137.3,2,   2277.9,2
           NA,     P10,     49,   1,      29,     -99,  2,19931024,1841,  12.5028,  149.3388,  5929,    397.0,   8.0468,  34.3846,2,  34.3842,2,     68.9,2,   68.600,2,    48.14,2,    32.50,2,     0.01,2,     2.39,2,     0.27,2,    0.129,2, -999.000,9,   2239.7,2,   2309.0,2
           NA,     P10,     49,   1,      28,     -99,  2,19931024,1841,  12.5028,  149.3388,  5929,    497.6,   6.8845,  34.4463,2,  34.4427,2,     54.5,2,   53.900,2,    60.10,2,    36.24,2,     0.01,2,     2.65,2,  -999.00,9, -999.000,9, -999.000,9,   2269.1,2,   2325.1,2
           NA,     P10,     49,   1,      27,     -99,  2,19931024,1841,  12.5028,  149.3388,  5929,    598.3,   6.1013,  34.4864,2,  34.4835,2,     69.0,2,   63.000,2,    69.34,2,    37.28,2,     0.02,2,     2.71,2,     0.02,2,    0.004,2, -999.000,9,   2279.6,2,   2338.5,2
           NA,     P10,     49,   1,      26,     -99,  2,19931024,1841,  12.5028,  149.3388,  5929,    646.8,   5.8254,  34.4934,2,  34.4909,2,     68.6,2,   63.400,2,    72.91,2,    37.75,2,     0.01,2,     2.73,2,  -999.00,9, -999.000,9, -999.000,9,   2283.4,2,   2342.2,2
           NA,     P10,     49,   1,      25,     -99,  2,19931024,1841,  12.5028,  149.3388,  5929,    696.6,   5.6463,  34.5002,2,  34.4978,2,     72.3,2,   65.200,2,    76.07,2,    37.96,2,     0.01,2,     2.75,2,     0.02,2,    0.013,2, -999.000,9,   2288.6,2,   2350.0,2
           NA,     P10,     49,   1,      24,     -99,  2,19931024,1841,  12.5028,  149.3388,  5929,    797.4,   5.0636,  34.5149,2,  34.5147,2,     79.5,2,   79.000,2,    83.84,2,    37.64,2,     0.01,2,     2.72,2,  -999.00,9, -999.000,9, -999.000,9,   2290.6,2,   2361.9,2
           NA,     P10,     49,   1,      23,     -99,  2,19931024,1841,  12.5028,  149.3388,  5929,    896.5,   4.5878,  34.5324,2,  34.5306,2,     73.3,2,   66.900,2,    94.55,2,    39.44,2,     0.00,2,     2.85,2,     0.00,2,    0.000,2, -999.000,9,   2310.9,2,   2370.9,2
           NA,     P10,     49,   1,      22,     -99,  2,19931024,1841,  12.5028,  149.3388,  5929,    996.4,   4.2262,  34.5450,2,  34.5432,2,     68.3,2,   68.400,2,   101.08,2,    39.69,2,     0.00,2,     2.89,2,  -999.00,9, -999.000,9, -999.000,9,   2318.2,2,   2381.2,2
           NA,     P10,     49,   1,      21,     -99,  3,19931024,1841,  12.5028,  149.3388,  5929,   1197.1,   3.5584,  34.5654,2,  34.5624,2,     79.7,2,   79.000,2,   114.73,2,    39.42,2,     0.01,2,     2.86,2,    -0.00,2,    0.000,2, -999.000,9,   2317.7,2,   2397.9,2
           NA,     P10,     49,   1,      20,     -99,  2,19931024,1841,  12.5028,  149.3388,  5929,   1396.0,   2.9392,  34.5911,2,-999.0000,3,     90.8,2,   91.100,2,   126.28,2,    38.89,2,     0.00,2,     2.80,2,    -0.00,2,    0.001,2, -999.000,9,   2334.1,2,   -999.0,3
           NA,     P10,     49,   1,      19,     -99,  3,19931024,1841,  12.5028,  149.3388,  5929,   1603.7,   2.5674,  34.6111,2,  34.6104,2,     98.3,2,   98.800,2,   133.22,2,    38.63,2,     0.00,2,     2.77,2,  -999.00,9, -999.000,9, -999.000,9,   -999.0,9,   -999.0,9
           NA,     P10,     49,   1,      18,     -99,  2,19931024,1841,  12.5028,  149.3388,  5929,   1797.2,   2.3146,  34.6253,2,  34.6259,2,    105.0,2,  105.100,2,   138.28,2,    38.41,2,     0.00,2,     2.75,2,  -999.00,9, -999.000,9, -999.000,9,   2340.5,2,   2418.9,2
           NA,     P10,     49,   1,      17,     -99,  2,19931024,1841,  12.5028,  149.3388,  5929,   1988.0,   2.0925,  34.6357,2,  34.6347,2,    111.2,2,  111.500,2,   142.50,2,    38.09,2,     0.00,2,     2.71,2,  -999.00,3,    0.000,2, -999.000,9,   2338.4,2,   2426.4,2
           NA,     P10,     49,   1,      16,     -99,  2,19931024,1841,  12.5028,  149.3388,  5929,   2249.2,   1.9658,  34.6456,2,  34.6457,2,    117.3,2,  117.000,2,   144.41,2,    37.81,2,     0.00,2,     2.70,2,  -999.00,9, -999.000,9, -999.000,9,   2338.6,2,   2427.1,2
           NA,     P10,     49,   1,      15,     -99,  2,19931024,1841,  12.5028,  149.3388,  5929,   2492.8,   1.8591,  34.6533,2,  34.6516,2,    122.0,2,  121.400,2,   146.11,2,    37.60,2,     0.00,2,     2.67,2,  -999.00,9, -999.000,9, -999.000,9,   2340.0,2,   -999.0,3
           NA,     P10,     49,   1,      14,     -99,  2,19931024,1841,  12.5028,  149.3388,  5929,   2746.0,   1.7287,  34.6629,2,  34.6652,2,    127.7,2,  128.300,2,   146.98,2,    37.12,2,     0.00,2,     2.64,2,  -999.00,9, -999.000,9, -999.000,9,   2340.1,2,   2442.0,2
           NA,     P10,     49,   1,      13,     -99,  2,19931024,1841,  12.5028,  149.3388,  5929,   2997.4,   1.6307,  34.6707,2,  34.6713,2,    133.4,2,  134.500,2,   148.47,2,    36.86,2,     0.00,2,     2.60,2,    -0.00,2,    0.000,2, -999.000,9,   2338.0,2,   2439.9,2
           NA,     P10,     49,   1,      12,     -99,  2,19931024,1841,  12.5028,  149.3388,  5929,   3245.3,   1.5798,  34.6755,2,  34.6764,2,    139.5,2,  138.900,2,   148.29,2,    36.49,2,     0.00,2,     2.58,2,  -999.00,9, -999.000,9, -999.000,9,   2335.2,2,   2436.0,2
           NA,     P10,     49,   1,      11,     -99,  2,19931024,1841,  12.5028,  149.3388,  5929,   3493.3,   1.5351,  34.6803,2,  34.6789,2,    145.6,2,  144.400,2,   147.26,2,    36.16,2,     0.00,2,     2.56,2,  -999.00,9, -999.000,9, -999.000,9,   2330.9,2,   2434.9,2
           NA,     P10,     49,   1,      10,     -99,  2,19931024,1841,  12.5028,  149.3388,  5929,   3670.9,   1.5060,  34.6831,2,  34.6846,2,    149.1,2,  149.300,2,   145.39,2,    35.85,2,    -0.01,2,     2.53,2,  -999.00,9, -999.000,9, -999.000,9,   2328.2,2,   -999.0,5
           NA,     P10,     49,   1,       9,     -99,  2,19931024,1841,  12.5028,  149.3388,  5929,   3993.3,   1.4735,  34.6877,2,  34.6854,2,    157.3,2,  157.200,2,   141.63,2,    35.31,2,     0.00,2,     2.48,2,  -999.00,9, -999.000,9, -999.000,9,   2319.9,2,   2419.2,2
           NA,     P10,     49,   1,       8,     -99,  2,19931024,1841,  12.5028,  149.3388,  5929,   4243.4,   1.4555,  34.6914,2,  34.6911,2,    163.4,2,  162.600,2,   138.57,2,    34.92,2,     0.01,2,     2.45,2,  -999.00,9, -999.000,9, -999.000,9,   2314.8,2,   2427.7,2
           NA,     P10,     49,   1,       7,     -99,  2,19931024,1841,  12.5028,  149.3388,  5929,   4496.2,   1.4468,  34.6946,2,  34.6917,2,    167.5,2,  166.900,2,   136.43,2,    34.46,2,    -0.01,2,     2.43,2,  -999.00,9, -999.000,9, -999.000,9,   2310.4,2,   -999.0,3
           NA,     P10,     49,   1,       6,     -99,  2,19931024,1841,  12.5028,  149.3388,  5929,   4746.1,   1.4488,  34.6956,2,  34.6946,2,    171.2,2,  170.500,2,   134.56,2,    34.25,2,    -0.01,2,     2.41,2,  -999.00,9, -999.000,9, -999.000,9,   2305.4,6,   2413.7,6
           NA,     P10,     49,   1,       5,     -99,  2,19931024,1841,  12.5028,  149.3388,  5929,   4993.4,   1.4608,  34.6974,2,  34.6964,2,    173.6,2,  172.900,2,   133.53,2,    34.09,2,    -0.01,2,     2.40,2,    -0.00,2,    0.000,2, -999.000,9,   2302.8,2,   2410.2,2
           NA,     P10,     49,   1,       4,     -99,  2,19931024,1841,  12.5028,  149.3388,  5929,   5244.1,   1.4775,  34.6985,2,  34.6968,2,    175.6,2,  175.200,2,   131.88,2,    33.87,2,     0.00,2,     2.38,2,  -999.00,9, -999.000,9, -999.000,9,   2300.2,2,   2407.9,2
           NA,     P10,     49,   1,       3,     -99,  2,19931024,1841,  12.5028,  149.3388,  5929,   5490.7,   1.5014,  34.6993,2,  34.6984,2,    177.3,2,  176.300,2,   131.71,2,    33.92,2,     0.00,2,     2.37,2,  -999.00,9, -999.000,9, -999.000,9,   2298.2,2,   2409.4,2
           NA,     P10,     49,   1,       2,     -99,  2,19931024,1841,  12.5028,  149.3388,  5929,   5767.2,   1.5336,  34.6993,2,  34.6992,2,    177.0,2,  177.300,2,   131.50,2,    33.87,2,    -0.01,2,     2.38,2,  -999.00,9, -999.000,9, -999.000,9,   2299.0,2,   2414.7,2
           NA,     P10,     49,   1,       1,     -99,  2,19931024,1841,  12.5028,  149.3388,  5929,   6022.7,   1.5633,  34.6999,2,  34.6986,2,    178.1,2,  177.100,2,   131.11,2,    33.83,2,    -0.01,2,     2.37,2,    -0.00,2,    0.005,2, -999.000,9,   2296.3,2,   2407.4,2