BOTTLE,20210102JOAExport
EXPOCODE,SECT_ID,STNNBR,CASTNO,SAMPNO,BTLNBR,BTLNBR_FLAG_W,DATE,TIME,LATITUDE,LONGITUDE,DEPTH,CTDPRS,CTDTMP,CTDSAL,CTDSAL_FLAG_W,SALNTY,SALNTY_FLAG_W,CTDOXY,CTDOXY_FLAG_W,OXYGEN,OXYGEN_FLAG_W,SILCAT,SILCAT_FLAG_W,NITRAT,NITRAT_FLAG_W,NITRIT,NITRIT_FLAG_W,PHSPHT,PHSPHT_FLAG_W,CFC-11,CFC-11_FLAG_W,CFC-12,CFC-12_FLAG_W,SF6,SF6_FLAG_W,TCARBN,TCARBN_FLAG_W,ALKALI,ALKALI_FLAG_W
,,,,,,,,,,,,DB,ITS-90,PSS-78,,PSS-78,,UMOL/KG,,UMOL/KG,,UMOL/KG,,UMOL/KG,,UMOL/KG,,UMOL/KG,,PMOL/KG,,PMOL/KG,,FMOL/KG,,UMOL/KG,,UMOL/KG
           NA,     P10,     91,   1,      36,     -99,  2,19931108,2147,  35.0388,  140.9833,  1891,     13.2,  22.1435,  34.6443,2,  34.6447,2,    209.5,2,  211.800,2,     2.75,2,     1.21,2,     0.16,2,     0.21,2,  -999.00,9, -999.000,9, -999.000,9,   -999.0,9,   -999.0,9
           NA,     P10,     91,   1,      22,     -99,  2,19931108,2147,  35.0388,  140.9833,  1891,     47.3,  22.0673,  34.6842,2,  34.6813,2,    206.5,2,  208.800,2,     3.46,2,     1.82,2,     0.15,2,     0.24,2,  -999.00,9, -999.000,9, -999.000,9,   -999.0,9,   -999.0,9
           NA,     P10,     91,   1,      21,     -99,  2,19931108,2147,  35.0388,  140.9833,  1891,    101.1,  17.6684,  34.7127,2,  34.7025,2,    177.3,2,  178.900,2,    10.82,2,     8.31,2,     0.04,2,     0.66,2,  -999.00,9, -999.000,9, -999.000,9,   -999.0,9,   -999.0,9
           NA,     P10,     91,   1,      20,     -99,  2,19931108,2147,  35.0388,  140.9833,  1891,    149.0,  13.2526,  34.4771,2,  34.4845,2,    169.9,2,  161.400,2,    25.01,2,    15.64,2,     0.02,2,     1.15,2,  -999.00,9, -999.000,9, -999.000,9,   -999.0,9,   -999.0,9
           NA,     P10,     91,   1,      19,     -99,  2,19931108,2147,  35.0388,  140.9833,  1891,    185.0,  12.1385,  34.4520,2,  34.4511,2,    159.9,2,  156.600,2,    29.21,2,    17.80,2,     0.01,2,     1.30,2,  -999.00,9, -999.000,9, -999.000,9,   -999.0,9,   -999.0,9
           NA,     P10,     91,   1,      18,     -99,  2,19931108,2147,  35.0388,  140.9833,  1891,    273.2,   9.4335,  34.3267,2,  34.3275,2,    146.2,2,  137.900,2,    45.86,2,    23.89,2,     0.01,2,     1.73,2,  -999.00,9, -999.000,9, -999.000,9,   -999.0,9,   -999.0,9
           NA,     P10,     91,   1,      17,     -99,  2,19931108,2147,  35.0388,  140.9833,  1891,    371.8,   6.4671,  34.1063,2,  34.1094,2,    130.0,2,  134.300,2,    61.81,2,    29.41,2,     0.00,2,     2.14,2,  -999.00,9, -999.000,9, -999.000,9,   -999.0,9,   -999.0,9
           NA,     P10,     91,   1,      16,     -99,  2,19931108,2147,  35.0388,  140.9833,  1891,    424.7,   5.3451,  34.0468,2,  34.0592,2,    123.0,2,  118.400,2,    73.90,2,    32.88,2,     0.00,2,     2.39,2,  -999.00,9, -999.000,9, -999.000,9,   -999.0,9,   -999.0,9
           NA,     P10,     91,   1,      15,     -99,  2,19931108,2147,  35.0388,  140.9833,  1891,    487.4,   4.8130,  34.1020,2,  34.1031,2,     94.9,2,   96.500,2,    85.11,2,    35.42,2,     0.00,2,     2.56,2,  -999.00,9, -999.000,9, -999.000,9,   -999.0,9,   -999.0,9
           NA,     P10,     91,   1,      14,     -99,  2,19931108,2147,  35.0388,  140.9833,  1891,    541.7,   4.2348,  34.1001,2,  34.1010,2,     81.2,2,   80.000,2,    95.96,2,    37.67,2,     0.00,2,     2.73,2,  -999.00,9, -999.000,9, -999.000,9,   -999.0,9,   -999.0,9
           NA,     P10,     91,   1,      13,     -99,  2,19931108,2147,  35.0388,  140.9833,  1891,    594.8,   4.0842,  34.1198,2,  34.1206,2,     74.8,2,   72.200,2,   100.69,2,    38.51,2,    -0.01,2,     2.79,2,  -999.00,9, -999.000,9, -999.000,9,   -999.0,9,   -999.0,9
           NA,     P10,     91,   1,      12,     -99,  2,19931108,2147,  35.0388,  140.9833,  1891,    634.7,   4.4111,  34.2275,2,  34.2255,2,     69.7,2,   69.400,2,   101.29,2,    38.13,2,     0.00,2,     2.74,2,  -999.00,9, -999.000,9, -999.000,9,   -999.0,9,   -999.0,9
           NA,     P10,     91,   1,      11,     -99,  2,19931108,2147,  35.0388,  140.9833,  1891,    674.6,   3.9084,  34.2072,2,  34.2074,2,     61.3,2,   58.700,2,   110.36,2,    39.90,2,    -0.01,2,     2.87,2,  -999.00,9, -999.000,9, -999.000,9,   -999.0,9,   -999.0,9
           NA,     P10,     91,   1,      10,     -99,  2,19931108,2147,  35.0388,  140.9833,  1891,    715.4,   4.1059,  34.2666,2,  34.2674,2,     57.8,2,   61.400,2,   108.82,2,    39.26,2,     0.00,2,     2.80,2,  -999.00,9, -999.000,9, -999.000,9,   -999.0,9,   -999.0,9
           NA,     P10,     91,   1,       9,     -99,  2,19931108,2147,  35.0388,  140.9833,  1891,    755.4,   4.0443,  34.2899,2,  34.2888,2,     59.4,2,   61.300,2,   110.83,2,    39.32,2,     0.00,2,     2.82,2,  -999.00,9, -999.000,9, -999.000,9,   -999.0,9,   -999.0,9
           NA,     P10,     91,   1,       8,     -99,  2,19931108,2147,  35.0388,  140.9833,  1891,    795.8,   3.7944,  34.2811,2,  34.2819,2,     54.3,2,   54.700,2,   116.44,2,    40.13,2,     0.01,2,     2.87,2,  -999.00,9, -999.000,9, -999.000,9,   -999.0,9,   -999.0,9
           NA,     P10,     91,   1,       7,     -99,  2,19931108,2147,  35.0388,  140.9833,  1891,    896.7,   3.3924,  34.3403,2,  34.3414,2,     48.4,2,   46.900,2,   127.47,2,    41.08,2,     0.00,2,     2.94,2,  -999.00,9, -999.000,9, -999.000,9,   -999.0,9,   -999.0,9
           NA,     P10,     91,   1,       6,     -99,  3,19931108,2147,  35.0388,  140.9833,  1891,    995.4,   3.1458,  34.3813,2,  34.3820,2,     46.0,2,   45.600,2,   133.41,2,    41.31,2,     0.00,2,     2.96,2,  -999.00,9, -999.000,9, -999.000,9,   -999.0,9,   -999.0,9
           NA,     P10,     91,   1,       5,     -99,  2,19931108,2147,  35.0388,  140.9833,  1891,   1192.4,   2.6851,  34.4504,2,  34.4509,2,     44.7,2,   43.900,2,   147.92,2,    42.03,2,     0.00,2,     3.00,2,  -999.00,9, -999.000,9, -999.000,9,   -999.0,9,   -999.0,9
           NA,     P10,     91,   1,       4,     -99,  2,19931108,2147,  35.0388,  140.9833,  1891,   1394.1,   2.5337,  34.4776,2,  34.4780,2,     46.3,2,   45.700,2,   152.47,2,    42.15,2,     0.00,2,     3.00,2,  -999.00,9, -999.000,9, -999.000,9,   -999.0,9,   -999.0,9
           NA,     P10,     91,   1,       3,     -99,  2,19931108,2147,  35.0388,  140.9833,  1891,   1595.3,   2.3255,  34.5235,2,  34.5253,2,     53.5,2,   52.400,2,   156.49,2,    41.88,2,     0.00,2,     2.97,2,  -999.00,9, -999.000,9, -999.000,9,   -999.0,9,   -999.0,9
           NA,     P10,     91,   1,       2,     -99,  2,19931108,2147,  35.0388,  140.9833,  1891,   1795.4,   2.2138,  34.5466,2,  34.5461,2,     58.9,2,   58.100,2,   158.41,2,    41.56,2,     0.00,2,     2.95,2,  -999.00,9, -999.000,9, -999.000,9,   -999.0,9,   -999.0,9
           NA,     P10,     91,   1,       1,     -99,  2,19931108,2147,  35.0388,  140.9833,  1891,   1931.7,   2.0449,  34.5769,2,  34.5787,2,   -999.0,3,   72.100,2,   159.21,2,    40.94,2,    -0.01,2,     2.88,2,  -999.00,9, -999.000,9, -999.000,9,   -999.0,9,   -999.0,9
           NA,     P10,     92,   1,      36,     -99,  2,19931109,0105,  35.0917,  140.8888,  1154,     12.5,  22.8074,  34.7167,2,  34.7180,2,    215.1,2,  214.400,2,     2.26,2,     0.71,2,     0.11,2,     0.10,2,     2.17,2,    1.156,2, -999.000,9,   -999.0,9,   -999.0,9
           NA,     P10,     92,   1,      15,     -99,  2,19931109,0105,  35.0917,  140.8888,  1154,     56.1,  21.8968,  34.7868,2,  34.7656,2,    202.7,2,  199.900,2,     3.50,2,     2.26,2,     0.11,2,     0.21,2,     2.20,2,    1.154,2, -999.000,9,   -999.0,9,   -999.0,9
           NA,     P10,     92,   1,      14,     -99,  2,19931109,0105,  35.0917,  140.8888,  1154,    105.0,  17.2893,  34.6471,2,  34.6361,2,    173.1,2,  176.200,2,    11.88,2,     8.67,2,     0.03,2,     0.64,2,     2.14,6,    1.080,6, -999.000,9,   -999.0,9,   -999.0,9
           NA,     P10,     92,   1,      13,     -99,  2,19931109,0105,  35.0917,  140.8888,  1154,    155.1,  13.6521,  34.5197,2,  34.5096,2,    168.9,2,  170.900,2,    20.26,2,    13.67,2,     0.02,2,     0.99,2,  -999.00,9, -999.000,9, -999.000,9,   -999.0,9,   -999.0,9
           NA,     P10,     92,   1,      12,     -99,  2,19931109,0105,  35.0917,  140.8888,  1154,    204.0,  11.4834,  34.4132,2,  34.4101,2,    154.2,2,  157.700,2,    30.91,2,    18.25,2,     0.00,2,     1.30,2,     1.72,2,    0.864,2, -999.000,9,   -999.0,9,   -999.0,9
           NA,     P10,     92,   1,      11,     -99,  2,19931109,0105,  35.0917,  140.8888,  1154,    252.8,   9.9468,  34.3218,2,  34.3208,2,    139.6,2,  150.900,2,    38.42,2,    21.36,2,    -0.01,2,     1.52,2,     1.59,2,    0.765,2, -999.000,9,   -999.0,9,   -999.0,9
           NA,     P10,     92,   1,      10,     -99,  2,19931109,0105,  35.0917,  140.8888,  1154,    304.4,   7.8029,  34.2119,2,  34.2088,2,    135.8,2,  135.200,2,    54.65,2,    26.58,2,    -0.01,2,     1.91,2,     1.50,2,    0.729,2, -999.000,9,   -999.0,9,   -999.0,9
           NA,     P10,     92,   1,       9,     -99,  2,19931109,0105,  35.0917,  140.8888,  1154,    353.1,   6.1076,  34.0975,2,  34.0974,2,    132.7,2,  128.900,2,    66.01,2,    30.09,2,    -0.01,2,     2.17,2,  -999.00,9, -999.000,9, -999.000,9,   -999.0,9,   -999.0,9
           NA,     P10,     92,   1,       8,     -99,  2,19931109,0105,  35.0917,  140.8888,  1154,    401.6,   5.2211,  34.0715,2,  34.0708,2,    116.5,2,  113.400,2,    77.01,2,    33.02,2,     0.00,2,     2.38,2,     1.50,2,    0.673,2, -999.000,9,   -999.0,9,   -999.0,9
           NA,     P10,     92,   1,       7,     -99,  2,19931109,0105,  35.0917,  140.8888,  1154,    504.3,   4.7159,  34.0855,2,  34.0849,2,     97.6,2,   97.200,2,    85.57,2,    35.31,2,     0.00,2,     2.54,2,  -999.00,9, -999.000,9, -999.000,9,   -999.0,9,   -999.0,9
           NA,     P10,     92,   1,       6,     -99,  2,19931109,0105,  35.0917,  140.8888,  1154,    604.2,   4.2855,  34.1092,2,  34.1139,2,     79.3,2,   81.100,2,    95.69,2,    37.26,2,     0.00,2,     2.68,2,     1.10,2,    0.489,2, -999.000,9,   -999.0,9,   -999.0,9
           NA,     P10,     92,   1,       5,     -99,  2,19931109,0105,  35.0917,  140.8888,  1154,    704.7,   4.2574,  34.2014,2,  34.2011,2,     64.7,2,   66.400,2,   102.84,2,    38.32,2,     0.00,2,     2.74,2,  -999.00,9, -999.000,9, -999.000,9,   -999.0,9,   -999.0,9
           NA,     P10,     92,   1,       4,     -99,  2,19931109,0105,  35.0917,  140.8888,  1154,    802.1,   3.8500,  34.2431,2,  34.2425,2,     56.5,2,   56.500,2,   113.32,2,    39.83,2,     0.00,2,     2.84,2,  -999.00,3,    0.187,2, -999.000,9,   -999.0,9,   -999.0,9
           NA,     P10,     92,   1,       3,     -99,  2,19931109,0105,  35.0917,  140.8888,  1154,    903.4,   3.5064,  34.3310,2,  34.3302,2,     51.0,2,   49.400,2,   124.30,2,    40.72,2,     0.00,2,     2.91,2,  -999.00,9, -999.000,9, -999.000,9,   -999.0,9,   -999.0,9
           NA,     P10,     92,   1,       2,     -99,  2,19931109,0105,  35.0917,  140.8888,  1154,   1055.5,   3.1329,  34.3884,2,  34.3885,2,     46.5,2,   46.100,2,   134.60,2,    41.46,2,    -0.01,2,     2.95,2,  -999.00,3,    0.040,2, -999.000,9,   -999.0,9,   -999.0,9
           NA,     P10,     92,   1,       1,     -99,  2,19931109,0105,  35.0917,  140.8888,  1154,   1156.4,   3.0042,  34.4065,2,  34.4067,2,     45.2,2,   44.300,2,   138.29,2,    41.59,2,     0.00,2,     2.96,2,     0.09,2,    0.021,2, -999.000,9,   -999.0,9,   -999.0,9
           NA,     P10,     93,   1,      10,     -99,  2,19931109,0400,  35.1250,  140.8305,   466,     16.1,  22.9353,  34.7384,2,  34.7377,2,    203.1,2,  213.100,2,     2.10,2,     1.21,2,     0.07,2,     0.11,2,     2.16,2,    1.168,2, -999.000,9,   -999.0,9,   -999.0,9
           NA,     P10,     93,   1,       9,     -99,  2,19931109,0400,  35.1250,  140.8305,   466,     55.3,  22.9477,  34.7398,2,  34.7379,2,    203.7,2,  210.800,2,     2.12,2,     1.27,2,     0.08,2,     0.11,2,     2.15,2,    1.160,2, -999.000,9,   -999.0,9,   -999.0,9
           NA,     P10,     93,   1,       8,     -99,  2,19931109,0400,  35.1250,  140.8305,   466,    105.0,  18.4458,  34.6376,2,  34.5654,2,    195.5,2,  183.500,2,     9.66,2,     7.51,2,     0.09,2,     0.55,2,     2.20,6,    1.146,6, -999.000,9,   -999.0,9,   -999.0,9
           NA,     P10,     93,   1,       7,     -99,  2,19931109,0400,  35.1250,  140.8305,   466,    155.1,  15.4090,  34.6001,2,  34.5591,2,    168.4,2,  174.600,2,    15.98,2,    11.55,2,     0.03,2,     0.82,2,     2.10,2,    1.077,2, -999.000,9,   -999.0,9,   -999.0,9
           NA,     P10,     93,   1,       6,     -99,  2,19931109,0400,  35.1250,  140.8305,   466,    203.6,  12.9683,  34.4838,2,  34.4831,2,    157.1,2,  164.200,2,    24.56,2,    15.89,2,     0.01,2,     1.13,2,     1.89,2,    0.953,2, -999.000,9,   -999.0,9,   -999.0,9
           NA,     P10,     93,   1,       5,     -99,  2,19931109,0400,  35.1250,  140.8305,   466,    253.6,  10.5484,  34.3599,2,  34.3581,2,    145.5,2,  151.900,2,    36.31,2,    20.99,2,     0.00,2,     1.48,2,     1.60,2,    0.804,2, -999.000,9,   -999.0,9,   -999.0,9
           NA,     P10,     93,   1,       4,     -99,  2,19931109,0400,  35.1250,  140.8305,   466,    304.2,   8.2628,  34.2380,2,  34.2202,2,    132.2,2,  135.700,2,    53.64,2,    26.96,2,     0.00,2,     1.91,2,  -999.00,3,    0.666,2, -999.000,9,   -999.0,9,   -999.0,9
           NA,     P10,     93,   1,       3,     -99,  2,19931109,0400,  35.1250,  140.8305,   466,    351.7,   6.3126,  34.0912,2,  34.0943,2,    130.7,2,  132.400,2,    63.81,2,    30.07,2,     0.00,2,     2.15,2,     1.69,2,    0.794,2, -999.000,9,   -999.0,9,   -999.0,9
           NA,     P10,     93,   1,       2,     -99,  2,19931109,0400,  35.1250,  140.8305,   466,    398.7,   5.7243,  34.0751,2,  34.0761,2,    121.4,2,  124.100,2,    70.12,2,    31.85,2,     0.00,2,     2.28,2,  -999.00,3,    0.750,2, -999.000,9,   -999.0,9,   -999.0,9
           NA,     P10,     93,   1,       1,     -99,  2,19931109,0400,  35.1250,  140.8305,   466,    471.7,   5.4658,  34.0867,2,  34.0878,2,    112.0,2,  114.100,2,    75.02,2,    33.02,2,     0.00,2,     2.36,2,     1.50,2,    0.704,2, -999.000,9,   -999.0,9,   -999.0,9
           NA,     P10,     94,   1,      19,     -99,  2,19931109,0600,  35.1667,  140.7528,   217,     10.0,  22.7659,  34.7029,2,  34.7029,2,    208.5,2,  212.800,2,     2.23,2,     0.82,2,     0.11,2,     0.10,2,  -999.00,9, -999.000,9, -999.000,9,   -999.0,9,   -999.0,9
           NA,     P10,     94,   1,      18,     -99,  2,19931109,0600,  35.1667,  140.7528,   217,     20.6,  22.7648,  34.7055,2,  34.7053,2,    210.6,2,  212.400,2,     2.07,2,     0.85,2,     0.10,2,     0.11,2,  -999.00,9, -999.000,9, -999.000,9,   -999.0,9,   -999.0,9
           NA,     P10,     94,   1,      17,     -99,  2,19931109,0600,  35.1667,  140.7528,   217,     44.9,  22.7717,  34.7046,2,  34.7041,2,    215.9,2,  215.400,2,     2.09,2,     0.92,2,     0.10,2,     0.11,2,  -999.00,9, -999.000,9, -999.000,9,   -999.0,9,   -999.0,9
           NA,     P10,     94,   1,      16,     -99,  2,19931109,0600,  35.1667,  140.7528,   217,     69.6,  22.6886,  34.6918,2,  34.6909,2,    213.1,2,  214.400,2,     2.29,2,     1.03,2,     0.12,2,     0.11,2,  -999.00,9, -999.000,9, -999.000,9,   -999.0,9,   -999.0,9
           NA,     P10,     94,   1,      15,     -99,  2,19931109,0600,  35.1667,  140.7528,   217,     94.9,  20.0479,  34.3963,2,  34.3997,2,    221.4,2,  218.600,2,     3.53,2,     1.81,2,     0.24,2,     0.22,2,  -999.00,9, -999.000,9, -999.000,9,   -999.0,9,   -999.0,9
           NA,     P10,     94,   1,      14,     -99,  2,19931109,0600,  35.1667,  140.7528,   217,    118.5,  18.3924,  34.4453,2,  34.4446,2,    196.3,2,  194.200,2,     9.33,2,     6.31,2,     0.40,2,     0.50,2,  -999.00,9, -999.000,9, -999.000,9,   -999.0,9,   -999.0,9
           NA,     P10,     94,   1,      13,     -99,  2,19931109,0600,  35.1667,  140.7528,   217,    147.8,  16.1701,  34.5325,2,  34.5316,2,    180.0,2,  177.100,2,    15.12,2,    10.58,2,     0.11,2,     0.77,2,  -999.00,9, -999.000,9, -999.000,9,   -999.0,9,   -999.0,9
           NA,     P10,     94,   1,      12,     -99,  2,19931109,0600,  35.1667,  140.7528,   217,    175.9,  14.9318,  34.5205,2,  34.5204,2,    169.6,2,  172.100,2,    18.47,2,    12.51,2,     0.08,2,     0.91,2,  -999.00,9, -999.000,9, -999.000,9,   -999.0,9,   -999.0,9
           NA,     P10,     94,   1,      11,     -99,  2,19931109,0600,  35.1667,  140.7528,   217,    208.4,  13.7526,  34.5054,2,  34.4921,2,    167.9,2,  166.600,2,    22.70,2,    14.36,2,     0.08,2,     1.05,2,  -999.00,9, -999.000,9, -999.000,9,   -999.0,9,   -999.0,9