BOTTLE,20210102JOAExport
EXPOCODE,SECT_ID,STNNBR,CASTNO,SAMPNO,BTLNBR,BTLNBR_FLAG_W,DATE,TIME,LATITUDE,LONGITUDE,DEPTH,CTDPRS,CTDTMP,CTDSAL,CTDSAL_FLAG_W,SALNTY,SALNTY_FLAG_W,CTDOXY,CTDOXY_FLAG_W,OXYGEN,OXYGEN_FLAG_W,SILCAT,SILCAT_FLAG_W,NITRAT,NITRAT_FLAG_W,NITRIT,NITRIT_FLAG_W,PHSPHT,PHSPHT_FLAG_W,CFC-11,CFC-11_FLAG_W,CFC-12,CFC-12_FLAG_W,SF6,SF6_FLAG_W,TCARBN,TCARBN_FLAG_W,ALKALI,ALKALI_FLAG_W
,,,,,,,,,,,,DB,ITS-90,PSS-78,,PSS-78,,UMOL/KG,,UMOL/KG,,UMOL/KG,,UMOL/KG,,UMOL/KG,,UMOL/KG,,PMOL/KG,,PMOL/KG,,FMOL/KG,,UMOL/KG,,UMOL/KG
           NA,     P10,     57,   1,      36,     -99,  2,19931028,0204,  17.8333,  149.3305,  5333,      9.0,  29.0683,  34.9134,2,  34.9123,2,    204.1,2,  211.900,2,     0.53,2,     0.01,2,    -0.01,2,     0.01,2,     1.77,2,    1.012,2, -999.000,9,   -999.0,9,   -999.0,9
           NA,     P10,     57,   1,      35,     -99,  2,19931028,0204,  17.8333,  149.3305,  5333,     47.1,  28.9058,  34.9093,2,  34.9098,2,    199.4,2,  212.900,2,     0.52,2,     0.01,2,    -0.01,2,     0.02,2,     1.75,2,    0.979,2, -999.000,9,   -999.0,9,   -999.0,9
           NA,     P10,     57,   1,      34,     -99,  2,19931028,0204,  17.8333,  149.3305,  5333,     95.7,  25.5347,  35.1140,2,  35.1164,2,    217.6,2,  220.000,2,     0.86,2,     0.01,2,    -0.01,2,     0.02,2,     2.10,2,    1.141,2, -999.000,9,   -999.0,9,   -999.0,9
           NA,     P10,     57,   1,      33,     -99,  2,19931028,0204,  17.8333,  149.3305,  5333,    147.5,  21.9751,  35.0977,2,  35.0991,2,    200.2,2,  195.900,2,     1.38,2,     1.03,2,     0.02,2,     0.17,2,     2.30,2,    1.227,2, -999.000,9,   -999.0,9,   -999.0,9
           NA,     P10,     57,   1,      32,     -99,  2,19931028,0204,  17.8333,  149.3305,  5333,    196.9,  19.3069,  34.9812,2,  34.9786,2,    196.3,2,  196.900,2,     2.24,2,     2.15,2,     0.01,2,     0.22,2,     2.49,2,    1.319,2, -999.000,9,   -999.0,9,   -999.0,9
           NA,     P10,     57,   1,      31,     -99,  2,19931028,0204,  17.8333,  149.3305,  5333,    247.0,  17.0397,  34.7866,2,  34.7833,2,    206.5,2,  205.600,2,     3.95,2,     4.70,2,     0.01,2,     0.36,2,     2.60,2,    1.355,2, -999.000,9,   -999.0,9,   -999.0,9
           NA,     P10,     57,   1,      30,     -99,  2,19931028,0204,  17.8333,  149.3305,  5333,    295.7,  15.9408,  34.6985,2,  34.6964,2,    197.3,2,  199.800,2,     6.19,2,     6.81,2,     0.00,2,     0.52,2,     2.59,6,    1.343,6, -999.000,9,   -999.0,9,   -999.0,9
           NA,     P10,     57,   1,      29,     -99,  2,19931028,0204,  17.8333,  149.3305,  5333,    346.5,  13.3644,  34.4837,2,  34.4721,2,    197.5,2,  191.200,2,    12.06,2,    11.46,2,     0.00,2,     0.85,2,     2.40,2,    1.188,2, -999.000,9,   -999.0,9,   -999.0,9
           NA,     P10,     57,   1,      28,     -99,  2,19931028,0204,  17.8333,  149.3305,  5333,    395.9,  11.5031,  34.3139,2,  34.3051,2,    185.4,2,  179.800,2,    18.80,2,    15.88,2,     0.00,2,     1.18,2,     2.15,2,    1.059,2, -999.000,9,   -999.0,9,   -999.0,9
           NA,     P10,     57,   1,      27,     -99,  2,19931028,0204,  17.8333,  149.3305,  5333,    445.7,   9.3893,  34.2093,2,  34.2062,2,    152.4,2,  140.600,2,    31.25,2,    23.25,2,     0.00,2,     1.72,2,     1.34,2,    0.655,2, -999.000,9,   -999.0,9,   -999.0,9
           NA,     P10,     57,   1,      26,     -99,  2,19931028,0204,  17.8333,  149.3305,  5333,    495.5,   8.5676,  34.1900,2,  34.1892,2,    113.2,2,  120.400,2,    38.34,2,    26.41,2,     0.00,2,     1.94,2,     0.99,2,    0.485,2, -999.000,9,   -999.0,9,   -999.0,9
           NA,     P10,     57,   1,      25,     -99,  2,19931028,0204,  17.8333,  149.3305,  5333,    595.9,   6.7819,  34.2461,2,  34.2441,2,     60.2,2,   65.900,2,    60.45,2,    34.65,2,     0.00,2,     2.54,2,     0.23,2,    0.121,2, -999.000,9,   -999.0,9,   -999.0,9
           NA,     P10,     57,   1,      24,     -99,  2,19931028,0204,  17.8333,  149.3305,  5333,    696.2,   5.9388,  34.3368,2,-999.0000,3,     51.1,2,   51.700,2,    74.10,2,    37.76,2,    -0.01,2,     2.75,2,     0.06,2,    0.036,2, -999.000,9,   -999.0,9,   -999.0,9
           NA,     P10,     57,   1,      23,     -99,  2,19931028,0204,  17.8333,  149.3305,  5333,    795.8,   5.3389,  34.4399,2,-999.0000,3,     56.0,2,   55.600,2,    83.43,2,    38.86,2,     0.00,2,     2.81,2,     0.01,2,    0.011,2, -999.000,9,   -999.0,9,   -999.0,9
           NA,     P10,     57,   1,      22,     -99,  2,19931028,0204,  17.8333,  149.3305,  5333,    895.7,   4.9738,  34.4744,2,-999.0000,3,     64.5,2,   65.500,2,    89.49,2,    38.67,2,     0.00,2,     2.77,2,     0.01,2,    0.005,2, -999.000,9,   -999.0,9,   -999.0,9
           NA,     P10,     57,   1,      21,     -99,  2,19931028,0204,  17.8333,  149.3305,  5333,    996.5,   4.4081,  34.5094,2,  34.5067,2,     73.1,2,   72.600,2,    99.64,2,    38.86,2,     0.00,2,     2.78,2,  -999.00,4,    0.008,2, -999.000,9,   -999.0,9,   -999.0,9
           NA,     P10,     57,   1,      20,     -99,  2,19931028,0204,  17.8333,  149.3305,  5333,   1196.8,   3.7043,  34.5414,2,  34.5400,2,     81.7,2,   80.900,2,   113.46,2,    38.98,2,     0.00,2,     2.77,2,     0.00,2,    0.006,2, -999.000,9,   -999.0,9,   -999.0,9
           NA,     P10,     57,   1,      19,     -99,  2,19931028,0204,  17.8333,  149.3305,  5333,   1400.4,   3.0533,  34.5738,2,  34.5736,2,     89.4,2,   88.900,2,   125.89,2,    39.10,2,     0.00,2,     2.76,2,  -999.00,9, -999.000,9, -999.000,9,   -999.0,9,   -999.0,9
           NA,     P10,     57,   1,      18,     -99,  2,19931028,0204,  17.8333,  149.3305,  5333,   1586.5,   2.6786,  34.5911,2,  34.5903,2,     93.9,2,   94.100,2,   132.96,2,    39.04,2,     0.00,2,     2.75,2,  -999.00,9, -999.000,9, -999.000,9,   -999.0,9,   -999.0,9
           NA,     P10,     57,   1,      17,     -99,  2,19931028,0204,  17.8333,  149.3305,  5333,   1797.1,   2.3396,  34.6090,2,  34.6082,2,     99.9,2,  100.300,2,   139.52,2,    38.88,2,     0.00,2,     2.73,2,  -999.00,9, -999.000,9, -999.000,9,   -999.0,9,   -999.0,9
           NA,     P10,     57,   1,      16,     -99,  2,19931028,0204,  17.8333,  149.3305,  5333,   1994.1,   2.1533,  34.6233,2,  34.6200,2,    105.8,2,  105.900,2,   143.13,2,    38.61,2,     0.00,2,     2.72,2,  -999.00,9, -999.000,9, -999.000,9,   -999.0,9,   -999.0,9
           NA,     P10,     57,   1,      15,     -99,  2,19931028,0204,  17.8333,  149.3305,  5333,   2194.2,   1.9989,  34.6345,2,  34.6322,2,    111.0,2,  111.000,2,   146.06,2,    38.33,2,     0.00,2,     2.69,2,  -999.00,9, -999.000,9, -999.000,9,   -999.0,9,   -999.0,9
           NA,     P10,     57,   1,      14,     -99,  2,19931028,0204,  17.8333,  149.3305,  5333,   2396.9,   1.8650,  34.6458,2,  34.6451,2,    117.8,2,  117.300,2,   147.78,2,    37.95,2,     0.00,2,     2.67,2,  -999.00,9, -999.000,9, -999.000,9,   -999.0,9,   -999.0,9
           NA,     P10,     57,   1,      12,     -99,  2,19931028,0204,  17.8333,  149.3305,  5333,   2795.4,   1.6978,  34.6616,2,  34.6601,2,    126.9,2,  127.200,2,   149.67,2,    37.40,2,     0.00,2,     2.62,2,  -999.00,9, -999.000,9, -999.000,9,   -999.0,9,   -999.0,9
           NA,     P10,     57,   1,      11,     -99,  2,19931028,0204,  17.8333,  149.3305,  5333,   2993.5,   1.6260,  34.6688,2,  34.6664,2,    132.8,2,  133.300,2,   149.31,2,    37.01,2,     0.00,2,     2.61,2,  -999.00,4,    0.000,2, -999.000,9,   -999.0,9,   -999.0,9
           NA,     P10,     57,   1,      10,     -99,  2,19931028,0204,  17.8333,  149.3305,  5333,   3237.4,   1.5778,  34.6738,2,  34.6719,2,    137.3,2,  138.500,2,   148.78,2,    36.74,2,     0.00,2,     2.56,2,    -0.00,2,   -0.002,2, -999.000,9,   -999.0,9,   -999.0,9
           NA,     P10,     57,   1,       9,     -99,  2,19931028,0204,  17.8333,  149.3305,  5333,   3497.0,   1.5439,  34.6784,2,  34.6789,2,    142.5,2,  143.400,2,   147.40,2,    36.36,2,     0.00,2,     2.54,2,  -999.00,9, -999.000,9, -999.000,9,   -999.0,9,   -999.0,9
           NA,     P10,     57,   1,       8,     -99,  2,19931028,0204,  17.8333,  149.3305,  5333,   3744.8,   1.5152,  34.6826,2,  34.6807,2,    147.9,2,  146.100,2,   146.18,2,    36.07,2,     0.01,2,     2.52,2,  -999.00,9, -999.000,9, -999.000,9,   -999.0,9,   -999.0,9
           NA,     P10,     57,   1,       7,     -99,  2,19931028,0204,  17.8333,  149.3305,  5333,   3995.0,   1.4828,  34.6871,2,  34.6852,2,    154.1,2,  154.800,2,   143.40,2,    35.60,2,     0.00,2,     2.47,2,  -999.00,9, -999.000,9, -999.000,9,   -999.0,9,   -999.0,9
           NA,     P10,     57,   1,       6,     -99,  2,19931028,0204,  17.8333,  149.3305,  5333,   4244.0,   1.4663,  34.6902,2,  34.6876,2,    159.3,2,  160.200,2,   140.79,2,    35.21,2,     0.00,2,     2.44,2,  -999.00,9, -999.000,9, -999.000,9,   -999.0,9,   -999.0,9
           NA,     P10,     57,   1,       5,     -99,  2,19931028,0204,  17.8333,  149.3305,  5333,   4498.0,   1.4558,  34.6934,2,  34.6903,2,    164.5,2,  165.000,2,   138.20,2,    34.82,2,     0.00,2,     2.41,2,  -999.00,9, -999.000,9, -999.000,9,   -999.0,9,   -999.0,9
           NA,     P10,     57,   1,       4,     -99,  2,19931028,0204,  17.8333,  149.3305,  5333,   4740.4,   1.4593,  34.6954,2,  34.6941,2,    168.3,2,  168.700,2,   136.12,2,    34.54,2,     0.01,2,     2.39,2,  -999.00,9, -999.000,9, -999.000,9,   -999.0,9,   -999.0,9
           NA,     P10,     57,   1,       3,     -99,  2,19931028,0204,  17.8333,  149.3305,  5333,   4986.5,   1.4608,  34.6978,2,  34.6954,2,    172.8,2,  172.600,2,   134.03,2,    34.22,2,     0.01,2,     2.37,2,  -999.00,9, -999.000,9, -999.000,9,   -999.0,9,   -999.0,9
           NA,     P10,     57,   1,       2,     -99,  2,19931028,0204,  17.8333,  149.3305,  5333,   5269.0,   1.4838,  34.6988,2,  34.6980,2,    174.5,2,  174.400,2,   132.98,2,    34.16,2,     0.01,2,     2.36,2,  -999.00,9, -999.000,9, -999.000,9,   -999.0,9,   -999.0,9
           NA,     P10,     57,   1,       1,     -99,  2,19931028,0204,  17.8333,  149.3305,  5333,   5405.0,   1.4901,  34.6998,2,  34.6984,2,    174.7,2,  175.700,2,   131.76,2,    34.09,2,     0.00,2,     2.35,2,    -0.00,2,   -0.001,2, -999.000,9,   -999.0,9,   -999.0,9