BOTTLE,20210102JOAExport
EXPOCODE,SECT_ID,STNNBR,CASTNO,SAMPNO,BTLNBR,BTLNBR_FLAG_W,DATE,TIME,LATITUDE,LONGITUDE,DEPTH,CTDPRS,CTDTMP,CTDSAL,CTDSAL_FLAG_W,SALNTY,SALNTY_FLAG_W,CTDOXY,CTDOXY_FLAG_W,OXYGEN,OXYGEN_FLAG_W,SILCAT,SILCAT_FLAG_W,NITRAT,NITRAT_FLAG_W,NITRIT,NITRIT_FLAG_W,PHSPHT,PHSPHT_FLAG_W,CFC-11,CFC-11_FLAG_W,CFC-12,CFC-12_FLAG_W,SF6,SF6_FLAG_W,TCARBN,TCARBN_FLAG_W,ALKALI,ALKALI_FLAG_W
,,,,,,,,,,,,DB,ITS-90,PSS-78,,PSS-78,,UMOL/KG,,UMOL/KG,,UMOL/KG,,UMOL/KG,,UMOL/KG,,UMOL/KG,,PMOL/KG,,PMOL/KG,,FMOL/KG,,UMOL/KG,,UMOL/KG
           NA,     P10,     71,   1,      36,     -99,  2,19931102,1632,  27.1667,  149.3362,  5884,      7.0,  26.0300,  35.1136,2,  35.1148,2,    209.1,2,  212.800,2,     2.03,2,    -0.01,2,     0.01,2,     0.01,2,     1.88,2,    1.052,2, -999.000,9,   1966.5,2,   2315.3,2
           NA,     P10,     71,   1,      35,     -99,  2,19931102,1632,  27.1667,  149.3362,  5884,     49.4,  25.8951,  35.1010,2,  35.1022,2,    208.3,2,  215.500,2,     2.38,2,    -0.01,2,     0.01,2,     0.01,2,     1.93,2,    1.102,2, -999.000,9,   1966.2,2,   2315.3,2
           NA,     P10,     71,   1,      34,     -99,  2,19931102,1632,  27.1667,  149.3362,  5884,     99.1,  19.8173,  34.9078,2,  34.9129,2,    229.0,2,  225.100,2,     2.90,2,    -0.01,2,     0.01,2,     0.05,2,     2.32,2,    1.229,2, -999.000,9,   1993.2,2,   2307.9,2
           NA,     P10,     71,   1,      33,     -99,  2,19931102,1632,  27.1667,  149.3362,  5884,    148.4,  17.9359,  34.8413,2,  34.8395,2,    217.3,2,  214.500,2,     3.59,2,     2.28,2,     0.04,2,     0.20,2,     2.66,2,    1.433,2, -999.000,9,   2009.3,2,   2301.2,2
           NA,     P10,     71,   1,      32,     -99,  2,19931102,1632,  27.1667,  149.3362,  5884,    199.3,  17.3054,  34.8033,2,  34.7996,2,    216.5,2,  214.200,2,     4.29,2,     3.59,2,     0.00,2,     0.27,2,     2.55,2,    1.353,2, -999.000,9,   2013.6,6,   2296.5,2
           NA,     P10,     71,   1,      31,     -99,  2,19931102,1632,  27.1667,  149.3362,  5884,    249.3,  16.7804,  34.7632,2,  34.7658,2,    215.0,2,  208.300,2,     5.32,2,     4.96,2,     0.00,2,     0.37,2,     2.56,2,    1.354,2, -999.000,9,   2024.3,2,   2297.5,2
           NA,     P10,     71,   1,      30,     -99,  2,19931102,1632,  27.1667,  149.3362,  5884,    298.9,  16.2808,  34.7253,2,  34.7235,2,    208.2,2,  204.600,2,     6.36,2,     6.02,2,     0.01,2,     0.44,2,     2.52,2,    1.318,2, -999.000,9,   2032.5,2,   -999.0,3
           NA,     P10,     71,   1,      29,     -99,  2,19931102,1632,  27.1667,  149.3362,  5884,    397.8,  14.0803,  34.5434,2,  34.5391,2,    198.2,2,  189.900,2,    13.23,2,    10.90,2,     0.00,2,     0.78,2,     2.22,2,    1.121,2, -999.000,9,   2069.2,2,   2290.8,2
           NA,     P10,     71,   1,      28,     -99,  2,19931102,1632,  27.1667,  149.3362,  5884,    497.1,  11.1958,  34.3269,2,  34.3265,2,    190.2,2,  184.000,2,    22.87,2,    16.19,2,    -0.01,2,     1.15,2,     2.09,2,    1.036,2, -999.000,9,   2108.7,2,   2299.3,2
           NA,     P10,     71,   1,      27,     -99,  2,19931102,1632,  27.1667,  149.3362,  5884,    596.3,   8.5297,  34.1455,2,  34.1402,2,    172.3,2,  168.100,2,    38.50,2,    22.42,2,     0.00,2,     1.62,2,     1.94,2,    0.957,2, -999.000,9,   2156.8,2,   2307.7,2
           NA,     P10,     71,   1,      26,     -99,  2,19931102,1632,  27.1667,  149.3362,  5884,    697.8,   5.8610,  34.0535,2,  34.0498,2,    139.9,2,  124.700,2,    66.00,2,    31.00,2,     0.00,2,     2.23,2,     1.35,6,    0.642,6, -999.000,9,   2229.1,2,   2319.8,2
           NA,     P10,     71,   1,      25,     -99,  2,19931102,1632,  27.1667,  149.3362,  5884,    797.1,   4.7832,  34.1246,2,  34.1274,2,     94.4,2,   77.000,2,    88.67,2,    36.99,2,     0.00,2,     2.63,2,     0.56,2,    0.265,2, -999.000,9,   2285.0,2,   2357.1,2
           NA,     P10,     71,   1,      24,     -99,  2,19931102,1632,  27.1667,  149.3362,  5884,    896.9,   4.2592,  34.2305,2,  34.2300,2,     56.8,2,   48.100,2,   104.30,2,    40.19,2,     0.00,2,     2.84,2,     0.14,2,    0.068,2, -999.000,9,   2321.1,2,   2369.6,2
           NA,     P10,     71,   1,      23,     -99,  2,19931102,1632,  27.1667,  149.3362,  5884,    991.6,   3.8686,  34.2959,2,  34.2945,2,     42.3,2,   40.100,2,   115.29,2,    41.31,2,    -0.01,2,     2.92,2,     0.07,2,    0.031,2, -999.000,9,   2339.7,2,   2394.9,2
           NA,     P10,     71,   1,      22,     -99,  2,19931102,1632,  27.1667,  149.3362,  5884,   1195.6,   3.2561,  34.4129,2,  34.4105,2,     40.0,2,   40.000,2,   131.58,2,    42.02,2,    -0.01,2,     2.96,2,     0.01,2,    0.004,2, -999.000,9,   2358.2,2,   -999.0,3
           NA,     P10,     71,   1,      21,     -99,  2,19931102,1632,  27.1667,  149.3362,  5884,   1396.4,   2.7486,  34.4994,2,  34.4984,2,     53.4,2,   53.900,2,   142.74,2,    41.51,2,     0.00,2,     2.91,2,  -999.00,9, -999.000,9, -999.000,9,   2365.3,2,   2414.5,2
           NA,     P10,     71,   1,      20,     -99,  2,19931102,1632,  27.1667,  149.3362,  5884,   1597.1,   2.4239,  34.5447,2,  34.5446,2,     67.2,2,   67.800,2,   147.88,2,    40.80,2,     0.00,2,     2.85,2,     0.00,2,    0.003,2, -999.000,9,   2363.9,2,   -999.0,3
           NA,     P10,     71,   1,      19,     -99,  2,19931102,1632,  27.1667,  149.3362,  5884,   1795.9,   2.1409,  34.5790,2,  34.5783,2,     80.6,2,   78.800,2,   152.68,2,    40.14,2,     0.00,2,     2.80,2,  -999.00,9, -999.000,9, -999.000,9,   2362.1,2,   2427.7,2
           NA,     P10,     71,   1,      18,     -99,  2,19931102,1632,  27.1667,  149.3362,  5884,   2000.2,   1.9695,  34.6056,2,  34.6049,2,     93.0,2,   94.700,2,  -999.00,3,    39.22,2,     0.00,2,     2.73,2,  -999.00,9, -999.000,9, -999.000,9,   2356.3,2,   2437.0,2
           NA,     P10,     71,   1,      17,     -99,  2,19931102,1632,  27.1667,  149.3362,  5884,   2194.9,   1.8384,  34.6239,2,  34.6235,2,    105.2,2,  105.600,2,  -999.00,3,    38.62,2,     0.00,2,     2.69,2,  -999.00,9, -999.000,9, -999.000,9,   2350.4,2,   2438.0,2
           NA,     P10,     71,   1,      16,     -99,  2,19931102,1632,  27.1667,  149.3362,  5884,   2399.1,   1.7507,  34.6374,2,  34.6379,2,    115.2,2,  115.000,2,  -999.00,3,    38.06,2,     0.00,2,     2.64,2,  -999.00,9, -999.000,9, -999.000,9,   2343.7,2,   2427.7,2
           NA,     P10,     71,   1,      15,     -99,  3,19931102,1632,  27.1667,  149.3362,  5884,   2596.6,   1.6692,  34.6493,2,-999.0000,4,    122.3,2,  120.200,2,  -999.00,4,  -999.00,4,  -999.00,4,  -999.00,4,  -999.00,9, -999.000,9, -999.000,9,   2342.5,2,   2430.7,2
           NA,     P10,     71,   1,      14,     -99,  2,19931102,1632,  27.1667,  149.3362,  5884,   2794.9,   1.6162,  34.6567,2,  34.6573,2,    127.6,2,  128.400,2,   150.77,2,    37.15,2,     0.00,2,     2.58,2,  -999.00,9, -999.000,9, -999.000,9,   2339.7,2,   2432.8,2
           NA,     P10,     71,   1,      13,     -99,  2,19931102,1632,  27.1667,  149.3362,  5884,   3004.3,   1.5750,  34.6632,2,  34.6648,2,    133.1,2,  133.400,2,   150.07,2,    36.86,2,    -0.01,2,     2.56,2,  -999.00,9, -999.000,9, -999.000,9,   2336.9,2,   2436.6,2
           NA,     P10,     71,   1,      12,     -99,  2,19931102,1632,  27.1667,  149.3362,  5884,   3235.9,   1.5506,  34.6669,2,  34.6675,2,    136.5,2,  136.800,2,   150.07,2,    36.66,2,    -0.02,2,     2.54,2,  -999.00,9, -999.000,9, -999.000,9,   2334.2,2,   2434.0,2
           NA,     P10,     71,   1,      11,     -99,  2,19931102,1632,  27.1667,  149.3362,  5884,   3433.1,   1.5240,  34.6714,2,  34.6719,2,    139.8,2,  141.400,2,   149.21,2,    36.40,2,    -0.01,2,     2.52,2,  -999.00,9, -999.000,9, -999.000,9,   2330.2,2,   2425.6,2
           NA,     P10,     71,   1,      10,     -99,  2,19931102,1632,  27.1667,  149.3362,  5884,   3744.0,   1.4970,  34.6768,2,  34.6781,2,    145.4,2,  145.800,2,   148.70,2,    36.05,2,    -0.01,2,     2.51,2,  -999.00,9, -999.000,9, -999.000,9,   2329.5,2,   2427.3,2
           NA,     P10,     71,   1,       9,     -99,  3,19931102,1632,  27.1667,  149.3362,  5884,   3992.1,   1.4808,  34.6803,2,-999.0000,4,    150.0,2, -999.000,4,  -999.00,4,  -999.00,4,  -999.00,4,  -999.00,4,  -999.00,9, -999.000,9, -999.000,9,   -999.0,2,   -999.0,4
           NA,     P10,     71,   1,       8,     -99,  2,19931102,1632,  27.1667,  149.3362,  5884,   4246.9,   1.4717,  34.6840,2,  34.6856,2,    154.3,2,  155.000,2,   146.11,2,    35.48,2,     0.00,2,     2.46,2,  -999.00,9, -999.000,9, -999.000,9,   2320.2,2,   2419.9,2
           NA,     P10,     71,   1,       7,     -99,  2,19931102,1632,  27.1667,  149.3362,  5884,   4498.3,   1.4766,  34.6855,2,-999.0000,3,    157.4,2,  157.700,2,   145.08,2,    35.28,2,     0.00,2,     2.44,2,  -999.00,9, -999.000,9, -999.000,9,   2320.7,2,   2418.9,2
           NA,     P10,     71,   1,       6,     -99,  2,19931102,1632,  27.1667,  149.3362,  5884,   4745.5,   1.4852,  34.6877,2,  34.6891,2,    160.9,2,  160.700,2,   143.70,2,    35.09,2,    -0.01,2,     2.43,2,  -999.00,9, -999.000,9, -999.000,9,   2318.5,2,   -999.0,3
           NA,     P10,     71,   1,       5,     -99,  2,19931102,1632,  27.1667,  149.3362,  5884,   4994.0,   1.4997,  34.6897,2,  34.6897,2,    163.2,2,  162.900,2,   141.98,2,    34.93,2,     0.00,2,     2.42,2,     0.00,2,    0.005,2, -999.000,9,   2313.6,2,   -999.0,3
           NA,     P10,     71,   1,       4,     -99,  2,19931102,1632,  27.1667,  149.3362,  5884,   5238.6,   1.5183,  34.6907,2,  34.6929,2,    165.1,2,  165.300,2,   140.27,2,    34.78,2,     0.00,2,     2.41,2,  -999.00,4,   -0.001,2, -999.000,9,   2313.5,2,   2416.7,2
           NA,     P10,     71,   1,       3,     -99,  2,19931102,1632,  27.1667,  149.3362,  5884,   5494.0,   1.5416,  34.6915,2,  34.6927,2,    167.3,2,  167.000,2,   139.06,2,    34.68,2,     0.00,2,     2.40,2,  -999.00,9, -999.000,9, -999.000,9,   2312.2,2,   2416.1,6
           NA,     P10,     71,   1,       2,     -99,  2,19931102,1632,  27.1667,  149.3362,  5884,   5739.5,   1.5669,  34.6922,2,  34.6927,2,    169.1,2,  168.500,2,   137.69,2,    34.58,2,     0.00,2,     2.39,2,  -999.00,4,    0.000,2, -999.000,9,   2309.6,2,   2410.5,2
           NA,     P10,     71,   1,       1,     -99,  2,19931102,1632,  27.1667,  149.3362,  5884,   5996.2,   1.5928,  34.6932,2,  34.6941,2,    170.3,2,  170.600,2,   136.45,2,    34.45,2,     0.00,2,     2.36,2,     0.00,2,    0.004,2, -999.000,9,   2308.7,2,   2410.9,2