BOTTLE,20210102JOAExport
EXPOCODE,SECT_ID,STNNBR,CASTNO,SAMPNO,BTLNBR,BTLNBR_FLAG_W,DATE,TIME,LATITUDE,LONGITUDE,DEPTH,CTDPRS,CTDTMP,CTDSAL,CTDSAL_FLAG_W,SALNTY,SALNTY_FLAG_W,CTDOXY,CTDOXY_FLAG_W,OXYGEN,OXYGEN_FLAG_W,SILCAT,SILCAT_FLAG_W,NITRAT,NITRAT_FLAG_W,NITRIT,NITRIT_FLAG_W,PHSPHT,PHSPHT_FLAG_W,CFC-11,CFC-11_FLAG_W,CFC-12,CFC-12_FLAG_W,SF6,SF6_FLAG_W,TCARBN,TCARBN_FLAG_W,ALKALI,ALKALI_FLAG_W
,,,,,,,,,,,,DB,ITS-90,PSS-78,,PSS-78,,UMOL/KG,,UMOL/KG,,UMOL/KG,,UMOL/KG,,UMOL/KG,,UMOL/KG,,PMOL/KG,,PMOL/KG,,FMOL/KG,,UMOL/KG,,UMOL/KG
           NA,     P10,     21,   1,      36,     -99,  2,19931016,1444,   0.7500,  146.3583,  4495,      9.3,  28.9911,  34.0857,2,  34.0894,2,    234.8,2,  214.600,2,     1.14,2,    -0.01,2,     0.01,2,     0.02,2,  -999.00,9, -999.000,9, -999.000,9,   1900.9,6,   2250.0,6
           NA,     P10,     21,   1,      35,     -99,  4,19931016,1444,   0.7500,  146.3583,  4495,     49.5,  27.6849,  34.3615,2,-999.0000,4,    226.1,2, -999.000,4,  -999.00,4,  -999.00,4,  -999.00,4,  -999.00,4,  -999.00,9, -999.000,9, -999.000,9,   -999.0,5,   -999.0,5
           NA,     P10,     21,   1,      34,     -99,  2,19931016,1444,   0.7500,  146.3583,  4495,     96.4,  24.0576,  35.0114,2,  34.9955,2,    184.0,2,  173.800,2,     2.43,2,     4.63,2,     0.05,2,     0.43,2,  -999.00,9, -999.000,9, -999.000,9,   2008.9,2,   2304.3,2
           NA,     P10,     21,   1,      33,     -99,  2,19931016,1444,   0.7500,  146.3583,  4495,    145.8,  19.9571,  35.1801,2,  35.1824,2,    146.3,2,  141.600,2,     6.30,2,    10.01,2,     0.02,2,     0.79,2,  -999.00,9, -999.000,9, -999.000,9,   2080.4,2,   2325.5,2
           NA,     P10,     21,   1,      32,     -99,  2,19931016,1444,   0.7500,  146.3583,  4495,    196.9,  16.8843,  35.1099,2,  35.1016,2,    143.2,2,  142.700,2,     9.68,2,    13.19,2,     0.01,2,     1.02,2,  -999.00,9, -999.000,9, -999.000,9,   2107.9,6,   2323.7,6
           NA,     P10,     21,   1,      31,     -99,  2,19931016,1444,   0.7500,  146.3583,  4495,    297.5,  11.6524,  34.8537,2,  34.8334,2,    129.7,2,  133.300,2,    18.06,2,    21.89,2,     0.01,2,     1.56,2,  -999.00,9, -999.000,9, -999.000,9,   2164.2,2,   2316.1,2
           NA,     P10,     21,   1,      30,     -99,  2,19931016,1444,   0.7500,  146.3583,  4495,    396.5,   9.4733,  34.6771,2,  34.6762,2,    101.2,2,  101.900,2,    28.05,2,    28.61,2,     0.00,2,     2.01,2,  -999.00,9, -999.000,9, -999.000,9,   2207.3,2,   2318.9,2
           NA,     P10,     21,   1,      29,     -99,  2,19931016,1444,   0.7500,  146.3583,  4495,    496.5,   7.9417,  34.5931,2,  34.5909,2,    123.2,2,  116.400,2,    33.53,2,    30.28,2,     0.00,2,     2.11,2,  -999.00,9, -999.000,9, -999.000,9,   2213.3,2,   2320.0,2
           NA,     P10,     21,   1,      28,     -99,  2,19931016,1444,   0.7500,  146.3583,  4495,    596.9,   6.5720,  34.5376,2,  34.5361,2,    131.1,2,  130.800,2,    39.81,2,    31.81,2,     0.00,2,     2.23,2,  -999.00,9, -999.000,9, -999.000,9,   2222.1,2,   2321.9,2
           NA,     P10,     21,   1,      27,     -99,  2,19931016,1444,   0.7500,  146.3583,  4495,    696.7,   6.0659,  34.5452,2,  34.5436,2,     96.4,2,   92.800,2,    54.15,2,    36.52,2,     0.00,2,     2.57,2,  -999.00,9, -999.000,9, -999.000,9,   -999.0,3,   2340.3,2
           NA,     P10,     21,   1,      26,     -99,  2,19931016,1444,   0.7500,  146.3583,  4495,    798.1,   5.5039,  34.5397,2,  34.5398,2,     99.5,2,  100.300,2,    61.72,2,    36.45,2,    -0.01,2,     2.57,2,  -999.00,9, -999.000,9, -999.000,9,   2264.8,2,   2346.2,2
           NA,     P10,     21,   1,      25,     -99,  2,19931016,1444,   0.7500,  146.3583,  4495,    896.5,   5.1014,  34.5404,2,  34.5400,2,    103.9,2,  104.300,2,    68.32,2,    36.72,2,    -0.01,2,     2.59,2,  -999.00,9, -999.000,9, -999.000,9,   2271.8,2,   2354.4,2
           NA,     P10,     21,   1,      24,     -99,  2,19931016,1444,   0.7500,  146.3583,  4495,    995.6,   4.6628,  34.5501,2,  34.5495,2,    100.1,2,   99.900,2,    79.11,2,    37.34,2,    -0.01,2,     2.66,2,  -999.00,9, -999.000,9, -999.000,9,   2286.1,2,   2374.0,2
           NA,     P10,     21,   1,      23,     -99,  2,19931016,1444,   0.7500,  146.3583,  4495,   1196.6,   3.9146,  34.5737,2,  34.5726,2,     97.0,2,   95.900,2,    99.56,2,    38.18,2,    -0.01,2,     2.72,2,  -999.00,9, -999.000,9, -999.000,9,   2309.0,2,   2388.6,2
           NA,     P10,     21,   1,      22,     -99,  2,19931016,1444,   0.7500,  146.3583,  4495,   1395.0,   3.3606,  34.5900,2,  34.5931,2,    100.8,2,  101.300,2,   108.90,2,    38.36,2,    -0.01,2,     2.73,2,  -999.00,9, -999.000,9, -999.000,9,   2317.4,2,   -999.0,3
           NA,     P10,     21,   1,      21,     -99,  2,19931016,1444,   0.7500,  146.3583,  4495,   1596.4,   2.8346,  34.6103,2,  34.6104,2,    106.6,2,  107.400,2,   120.17,2,    38.21,2,    -0.02,2,     2.73,2,  -999.00,9, -999.000,9, -999.000,9,   2327.6,2,   2406.1,2
           NA,     P10,     21,   1,      20,     -99,  2,19931016,1444,   0.7500,  146.3583,  4495,   1795.8,   2.5444,  34.6239,2,  34.6241,2,    111.1,2,  111.700,2,   126.29,2,    38.12,2,    -0.01,2,     2.71,2,  -999.00,9, -999.000,9, -999.000,9,   2332.7,2,   2417.6,2
           NA,     P10,     21,   1,      19,     -99,  2,19931016,1444,   0.7500,  146.3583,  4495,   1996.2,   2.3363,  34.6341,2,  34.6322,2,    117.5,2, -999.000,3,   130.14,2,    37.86,2,    -0.01,2,     2.68,2,  -999.00,9, -999.000,9, -999.000,9,   2332.5,2,   2423.8,2
           NA,     P10,     21,   1,      18,     -99,  2,19931016,1444,   0.7500,  146.3583,  4495,   2197.9,   2.1794,  34.6411,2,-999.0000,3,    119.3,2,  120.200,2,   134.49,2,    37.75,2,    -0.01,2,     2.67,2,  -999.00,9, -999.000,9, -999.000,9,   2336.6,2,   2421.7,2
           NA,     P10,     21,   1,      17,     -99,  2,19931016,1444,   0.7500,  146.3583,  4495,   2400.3,   1.9325,  34.6532,2,  34.6516,2,    125.2,2,  126.700,2,   139.32,2,    37.36,2,     0.00,2,     2.63,2,  -999.00,9, -999.000,9, -999.000,9,   2337.2,2,   2431.1,2
           NA,     P10,     21,   1,      16,     -99,  2,19931016,1444,   0.7500,  146.3583,  4495,   2595.5,   1.7945,  34.6608,2,  34.6624,2,    131.6,2,  133.100,2,   140.44,2,    37.06,2,     0.00,2,     2.60,2,  -999.00,9, -999.000,9, -999.000,9,   2336.0,2,   2433.6,2
           NA,     P10,     21,   1,      15,     -99,  2,19931016,1444,   0.7500,  146.3583,  4495,   2793.3,   1.6757,  34.6681,2,  34.6681,2,    137.7,2,  138.400,2,   141.41,2,    36.60,2,    -0.01,2,     2.59,2,  -999.00,9, -999.000,9, -999.000,9,   2332.1,2,   -999.0,4
           NA,     P10,     21,   1,      14,     -99,  2,19931016,1444,   0.7500,  146.3583,  4495,   2998.8,   1.6266,  34.6726,2,  34.6744,2,    141.1,2,  141.900,2,   141.73,2,    36.38,2,     0.00,2,     2.56,2,  -999.00,9, -999.000,9, -999.000,9,   2330.2,2,   2432.1,2
           NA,     P10,     21,   1,      13,     -99,  2,19931016,1444,   0.7500,  146.3583,  4495,   3244.9,   1.5990,  34.6756,2,  34.6789,2,    144.4,2,  144.800,2,   141.73,2,    36.14,2,    -0.01,2,     2.54,2,  -999.00,9, -999.000,9, -999.000,9,   2329.1,2,   2434.4,2
           NA,     P10,     21,   1,      12,     -99,  2,19931016,1444,   0.7500,  146.3583,  4495,   3494.4,   1.5762,  34.6793,2,  34.6793,2,    147.1,2,  146.800,2,   141.57,2,    36.09,2,     0.00,2,     2.54,2,     0.00,2,   -0.001,2, -999.000,9,   -999.0,9,   -999.0,9
           NA,     P10,     21,   1,      11,     -99,  2,19931016,1444,   0.7500,  146.3583,  4495,   3495.1,   1.5760,  34.6793,2,  34.6793,2,    147.1,2,  147.300,2,   141.73,2,    36.07,2,     0.00,2,     2.53,2,  -999.00,4,   -0.004,2, -999.000,9,   2328.6,2,   2442.1,2
           NA,     P10,     21,   1,      10,     -99,  2,19931016,1444,   0.7500,  146.3583,  4495,   3743.7,   1.5568,  34.6823,2,  34.6836,2,    150.6,2,  149.900,2,   141.41,2,    35.81,2,     0.00,2,     2.51,2,    -0.00,2,   -0.004,2, -999.000,9,   2326.4,2,   2443.3,2
           NA,     P10,     21,   1,       9,     -99,  2,19931016,1444,   0.7500,  146.3583,  4495,   3743.7,   1.5568,  34.6826,2,  34.6827,2,    150.6,2,  150.400,2,   141.41,2,    35.88,2,    -0.01,2,     2.52,2,  -999.00,4,   -0.004,2, -999.000,9,   -999.0,9,   -999.0,9
           NA,     P10,     21,   1,       8,     -99,  2,19931016,1444,   0.7500,  146.3583,  4495,   3993.4,   1.5403,  34.6858,2,  34.6838,2,    154.1,2,  153.100,2,   140.92,2,    35.67,2,    -0.01,2,     2.51,2,     0.01,2,   -0.003,2, -999.000,9,   -999.0,9,   -999.0,9
           NA,     P10,     21,   1,       7,     -99,  2,19931016,1444,   0.7500,  146.3583,  4495,   3993.8,   1.5403,  34.6850,2,  34.6874,2,    154.1,2,  153.300,2,   140.92,2,    35.63,2,     0.00,2,     2.50,2,  -999.00,4,   -0.001,2, -999.000,9,   2324.3,6,   2443.6,2
           NA,     P10,     21,   1,       5,     -99,  2,19931016,1444,   0.7500,  146.3583,  4495,   4247.1,   1.5336,  34.6877,2,  34.6868,2,    157.2,2,  155.700,2,   140.28,2,    35.44,2,    -0.01,2,     2.49,2,  -999.00,4,   -0.001,2, -999.000,9,   -999.0,9,   -999.0,9
           NA,     P10,     21,   1,       6,     -99,  2,19931016,1444,   0.7500,  146.3583,  4495,   4247.8,   1.5338,  34.6873,2,  34.6860,2,    157.2,2,  155.500,2,   140.44,2,    35.50,2,     0.00,2,     2.49,2,     0.00,2,   -0.002,2, -999.000,9,   2319.8,2,   2439.0,2
           NA,     P10,     21,   1,       1,     -99,  2,19931016,1444,   0.7500,  146.3583,  4495,   4552.7,   1.5550,  34.6891,2,  34.6870,2,    157.4,2,  156.200,2,   139.96,2,    35.45,2,    -0.01,2,     2.48,2,  -999.00,4,   -0.002,2, -999.000,9,   2320.1,6,   2437.9,6
           NA,     P10,     21,   1,       2,     -99,  2,19931016,1444,   0.7500,  146.3583,  4495,   4552.7,   1.5550,  34.6891,2,  34.6860,2,    157.4,2,  157.000,2,   140.11,2,    35.42,2,    -0.01,2,     2.49,2,  -999.00,3,    0.003,2, -999.000,9,   -999.0,9,   -999.0,9
           NA,     P10,     21,   1,       4,     -99,  3,19931016,1444,   0.7500,  146.3583,  4495,   4552.8,   1.5551,  34.6889,2,  34.6864,2,    157.4,2,  156.900,2,   139.80,2,    35.28,2,    -0.02,2,     2.49,2,  -999.00,4,    0.002,2, -999.000,9,   -999.0,9,   -999.0,9
           NA,     P10,     21,   1,       3,     -99,  2,19931016,1444,   0.7500,  146.3583,  4495,   4553.1,   1.5552,  34.6886,2,  34.6864,2,    157.4,2,  156.900,2,   139.95,2,    35.38,2,    -0.02,2,     2.48,2,  -999.00,4,    0.000,2, -999.000,9,   -999.0,9,   -999.0,9
           NA,     P10,     22,   1,      30,     -99,  2,19931016,2015,   1.0028,  146.4250,  4530,     19.8,  28.6678,  34.2042,2,  34.2045,2,    238.6,2,  211.700,2,  -999.00,3,     0.05,2,     0.01,2,     0.08,2,  -999.00,4,    1.007,2, -999.000,9,   -999.0,9,   -999.0,9
           NA,     P10,     22,   1,      29,     -99,  2,19931016,2015,   1.0028,  146.4250,  4530,     59.2,  27.6988,  34.3432,2,  34.3431,2,    222.8,2,  210.500,2,  -999.00,3,     0.02,2,     0.01,2,     0.08,2,  -999.00,4,    1.016,2, -999.000,9,   -999.0,9,   -999.0,9
           NA,     P10,     22,   1,      28,     -99,  2,19931016,2015,   1.0028,  146.4250,  4530,    108.5,  23.6758,  34.9314,2,  34.9633,2,    177.0,2,  171.100,2,  -999.00,3,     4.86,2,     0.05,2,     0.45,2,  -999.00,4,    0.984,2, -999.000,9,   -999.0,9,   -999.0,9
           NA,     P10,     22,   1,      27,     -99,  2,19931016,2015,   1.0028,  146.4250,  4530,    157.8,  19.8863,  35.1640,2,  35.1767,2,    146.8,2,  143.100,2,     7.01,2,    10.21,2,     0.02,2,     0.82,2,  -999.00,4,    0.858,2, -999.000,9,   -999.0,9,   -999.0,9
           NA,     P10,     22,   1,      26,     -99,  2,19931016,2015,   1.0028,  146.4250,  4530,    206.8,  16.3842,  35.0651,2,  35.0623,2,    142.6,2,  141.200,2,    11.21,2,    13.72,2,     0.01,2,     1.05,2,  -999.00,4,    0.738,2, -999.000,9,   -999.0,9,   -999.0,9
           NA,     P10,     22,   1,      25,     -99,  2,19931016,2015,   1.0028,  146.4250,  4530,    256.4,  12.8522,  34.6377,2,  34.6418,2,    132.2,2,  128.700,2,    24.09,2,    19.69,2,     0.01,2,     1.44,2,  -999.00,4,    0.612,2, -999.000,9,   -999.0,9,   -999.0,9
           NA,     P10,     22,   1,      24,     -99,  2,19931016,2015,   1.0028,  146.4250,  4530,    306.4,  10.8221,  34.7586,2,  34.7589,2,    121.8,2,  116.400,2,    23.14,2,    24.59,2,     0.00,2,     1.75,2,  -999.00,4,    0.299,2, -999.000,9,   -999.0,9,   -999.0,9
           NA,     P10,     22,   1,      23,     -99,  2,19931016,2015,   1.0028,  146.4250,  4530,    386.1,   9.9995,  34.7156,2,  34.7151,2,     95.4,2,   95.600,2,    26.54,2,    28.25,2,     0.00,2,     1.98,2,  -999.00,4,    0.177,2, -999.000,9,   -999.0,9,   -999.0,9
           NA,     P10,     22,   1,      22,     -99,  2,19931016,2015,   1.0028,  146.4250,  4530,    505.9,   7.9150,  34.5892,2,  34.5895,2,    110.9,2,  111.200,2,    35.57,2,    30.70,2,     0.00,2,     2.16,2,  -999.00,4,    0.081,2, -999.000,9,   -999.0,9,   -999.0,9
           NA,     P10,     22,   1,      21,     -99,  2,19931016,2015,   1.0028,  146.4250,  4530,    598.7,   6.5594,  34.5404,2,  34.5379,2,    120.8,2,  121.000,2,    43.62,2,    32.53,2,     0.00,2,     2.28,2,  -999.00,4,    0.034,2, -999.000,9,   -999.0,9,   -999.0,9
           NA,     P10,     22,   1,      20,     -99,  2,19931016,2015,   1.0028,  146.4250,  4530,    698.1,   6.0785,  34.5405,2,  34.5391,2,    105.3,2,  103.500,2,    52.00,2,    34.89,2,     0.00,2,     2.48,2,  -999.00,4,    0.016,2, -999.000,9,   -999.0,9,   -999.0,9
           NA,     P10,     22,   1,      19,     -99,  2,19931016,2015,   1.0028,  146.4250,  4530,    822.4,   5.3419,  34.5387,2,  34.5410,2,    103.1,2,  102.600,2,    64.39,2,    36.24,2,     0.00,2,     2.56,2,  -999.00,9, -999.000,9, -999.000,9,   -999.0,9,   -999.0,9
           NA,     P10,     22,   1,      18,     -99,  2,19931016,2015,   1.0028,  146.4250,  4530,    922.5,   4.8596,  34.5462,2,  34.5461,2,    101.0,2,  100.500,2,    75.18,2,    37.04,2,     0.00,2,     2.62,2,  -999.00,4,    0.005,2, -999.000,9,   -999.0,9,   -999.0,9
           NA,     P10,     22,   1,      17,     -99,  2,19931016,2015,   1.0028,  146.4250,  4530,    994.2,   4.5548,  34.5524,2,  34.5518,2,     96.7,2,   96.200,2,    82.10,2,    37.44,2,     0.00,2,     2.68,2,  -999.00,9, -999.000,9, -999.000,9,   -999.0,9,   -999.0,9
           NA,     P10,     22,   1,      16,     -99,  2,19931016,2015,   1.0028,  146.4250,  4530,   1195.2,   4.0539,  34.5693,2,  34.5707,2,     95.6,2,   96.100,2,    95.93,2,    37.97,2,    -0.01,2,     2.70,2,  -999.00,4,    0.001,2, -999.000,9,   -999.0,9,   -999.0,9
           NA,     P10,     22,   1,      15,     -99,  2,19931016,2015,   1.0028,  146.4250,  4530,   1396.8,   3.4483,  34.5869,2,  34.5852,2,    100.3,2,  100.000,2,   108.63,2,  -999.00,3,    -0.01,2,     2.72,2,  -999.00,9, -999.000,9, -999.000,9,   -999.0,9,   -999.0,9
           NA,     P10,     22,   1,      14,     -99,  2,19931016,2015,   1.0028,  146.4250,  4530,   1596.9,   2.8866,  34.6049,2,-999.0000,3,    105.7,2,  106.100,2,   119.73,2,    38.24,2,    -0.01,2,     2.72,2,  -999.00,4,   -0.003,2, -999.000,9,   -999.0,9,   -999.0,9
           NA,     P10,     22,   1,      13,     -99,  2,19931016,2015,   1.0028,  146.4250,  4530,   1797.8,   2.5991,  34.6210,2,  34.6245,2,    109.3,2,  110.100,2,   125.84,2,  -999.00,3,    -0.01,2,     2.71,2,  -999.00,9, -999.000,9, -999.000,9,   -999.0,9,   -999.0,9
           NA,     P10,     22,   1,      12,     -99,  2,19931016,2015,   1.0028,  146.4250,  4530,   1995.0,   2.3650,  34.6322,2,  34.6339,2,    115.5,2,  116.000,2,   130.18,2,  -999.00,3,    -0.01,2,     2.67,2,     0.00,2,    0.002,2, -999.000,9,   -999.0,9,   -999.0,9
           NA,     P10,     22,   1,      11,     -99,  2,19931016,2015,   1.0028,  146.4250,  4530,   2197.4,   2.1778,  34.6412,2,-999.0000,4,    118.6,2,  119.400,2,   134.84,2,    37.51,2,    -0.01,2,     2.66,2,  -999.00,9, -999.000,9, -999.000,9,   -999.0,9,   -999.0,9
           NA,     P10,     22,   1,      10,     -99,  2,19931016,2015,   1.0028,  146.4250,  4530,   2394.9,   1.9346,  34.6538,2,  34.6559,2,    124.0,2,  124.500,2,   140.15,2,    37.22,2,    -0.02,2,     2.64,2,    -0.00,2,   -0.002,2, -999.000,9,   -999.0,9,   -999.0,9
           NA,     P10,     22,   1,       9,     -99,  2,19931016,2015,   1.0028,  146.4250,  4530,   2597.1,   1.7596,  34.6625,2,-999.0000,4,    132.4,2,  133.400,2,   141.28,2,    36.78,2,    -0.01,2,     2.59,2,  -999.00,4,   -0.002,2, -999.000,9,   -999.0,9,   -999.0,9
           NA,     P10,     22,   1,       8,     -99,  2,19931016,2015,   1.0028,  146.4250,  4530,   2794.6,   1.6808,  34.6676,2,  34.6675,2,    137.0,2,  137.800,2,   141.76,2,  -999.00,3,    -0.01,2,     2.57,2,  -999.00,9, -999.000,9, -999.000,9,   -999.0,9,   -999.0,9
           NA,     P10,     22,   1,       7,     -99,  2,19931016,2015,   1.0028,  146.4250,  4530,   2992.8,   1.6521,  34.6706,2,  34.6736,2,    139.8,2,  140.600,2,   141.77,2,  -999.00,3,    -0.02,2,     2.56,2,  -999.00,4,    0.003,2, -999.000,9,   -999.0,9,   -999.0,9
           NA,     P10,     22,   1,       6,     -99,  2,19931016,2015,   1.0028,  146.4250,  4530,   3256.5,   1.6010,  34.6748,2,  34.6750,2,    143.7,2,  143.400,2,   141.78,2,  -999.00,3,    -0.02,2,     2.54,2,  -999.00,9, -999.000,9, -999.000,9,   -999.0,9,   -999.0,9
           NA,     P10,     22,   1,       5,     -99,  2,19931016,2015,   1.0028,  146.4250,  4530,   3494.8,   1.5838,  34.6785,2,  34.6770,2,    146.2,2,  146.700,2,   141.95,2,    35.98,2,    -0.02,2,     2.53,2,  -999.00,4,    0.000,2, -999.000,9,   -999.0,9,   -999.0,9
           NA,     P10,     22,   1,       4,     -99,  2,19931016,2015,   1.0028,  146.4250,  4530,   3748.1,   1.5523,  34.6829,2,  34.6807,2,    150.3,2,  150.600,2,   141.47,2,  -999.00,3,     0.00,2,     2.51,2,  -999.00,9, -999.000,9, -999.000,9,   -999.0,9,   -999.0,9
           NA,     P10,     22,   1,       3,     -99,  2,19931016,2015,   1.0028,  146.4250,  4530,   4002.7,   1.5373,  34.6855,2,  34.6835,2,    154.3,2,  152.800,2,   141.31,2,    35.59,2,    -0.01,2,     2.49,2,  -999.00,4,    0.001,2, -999.000,9,   -999.0,9,   -999.0,9
           NA,     P10,     22,   1,       2,     -99,  2,19931016,2015,   1.0028,  146.4250,  4530,   4242.4,   1.5368,  34.6875,2,  34.6856,2,    156.6,2,  155.200,2,   140.52,2,  -999.00,3,     0.00,2,     2.48,2,     0.00,2,   -0.001,2, -999.000,9,   -999.0,9,   -999.0,9
           NA,     P10,     22,   1,       1,     -99,  2,19931016,2015,   1.0028,  146.4250,  4530,   4573.0,   1.5603,  34.6883,2,  34.6886,2,    156.1,2,  156.000,2,   140.36,2,    35.28,2,    -0.02,2,     2.48,2,  -999.00,4,   -0.002,2, -999.000,9,   -999.0,9,   -999.0,9