BOTTLE,20210102JOAExport
EXPOCODE,SECT_ID,STNNBR,CASTNO,SAMPNO,BTLNBR,BTLNBR_FLAG_W,DATE,TIME,LATITUDE,LONGITUDE,DEPTH,CTDPRS,CTDTMP,CTDSAL,CTDSAL_FLAG_W,SALNTY,SALNTY_FLAG_W,CTDOXY,CTDOXY_FLAG_W,OXYGEN,OXYGEN_FLAG_W,SILCAT,SILCAT_FLAG_W,NITRAT,NITRAT_FLAG_W,NITRIT,NITRIT_FLAG_W,PHSPHT,PHSPHT_FLAG_W,CFC-11,CFC-11_FLAG_W,CFC-12,CFC-12_FLAG_W,SF6,SF6_FLAG_W,TCARBN,TCARBN_FLAG_W,ALKALI,ALKALI_FLAG_W
,,,,,,,,,,,,DB,ITS-90,PSS-78,,PSS-78,,UMOL/KG,,UMOL/KG,,UMOL/KG,,UMOL/KG,,UMOL/KG,,UMOL/KG,,PMOL/KG,,PMOL/KG,,FMOL/KG,,UMOL/KG,,UMOL/KG
           NA,     P10,     27,   1,      36,     -99,  2,19931018,0932,   2.2500,  146.7920,  4622,     15.4,  28.9842,  34.0574,2,  34.0516,2,    225.2,2,  210.100,2,     1.56,2,     0.09,2,     0.00,2,     0.03,2,  -999.00,9, -999.000,9, -999.000,9,   1895.4,2,   2249.8,2
           NA,     P10,     27,   1,      35,     -99,  2,19931018,0932,   2.2500,  146.7920,  4622,     15.4,  28.9810,  34.0600,2,  34.0590,2,    225.2,2,  211.700,2,     2.24,2,     0.09,2,     0.00,2,     0.04,2,  -999.00,9, -999.000,9, -999.000,9,   -999.0,9,   -999.0,9
           NA,     P10,     27,   1,      33,     -99,  2,19931018,0932,   2.2500,  146.7920,  4622,     15.4,  28.9514,  34.0546,2,  34.0537,2,    225.3,2,  213.700,2,     1.74,2,     0.06,2,    -0.01,2,     0.04,2,  -999.00,9, -999.000,9, -999.000,9,   -999.0,9,   -999.0,9
           NA,     P10,     27,   1,      34,     -99,  2,19931018,0932,   2.2500,  146.7920,  4622,     15.5,  28.9501,  34.0592,2,  34.0520,2,    225.3,2,  213.200,2,     1.74,2,     0.04,2,     0.00,2,     0.04,2,  -999.00,9, -999.000,9, -999.000,9,   -999.0,9,   -999.0,9
           NA,     P10,     27,   1,      32,     -99,  2,19931018,0932,   2.2500,  146.7920,  4622,     34.8,  28.5212,  34.1687,2,  34.1600,2,    223.7,2,  214.100,2,     1.91,2,     0.06,2,     0.00,2,     0.05,2,  -999.00,9, -999.000,9, -999.000,9,   1906.5,2,   2256.6,2
           NA,     P10,     27,   1,      31,     -99,  2,19931018,0932,   2.2500,  146.7920,  4622,     58.7,  28.3348,  34.2450,2,  34.2402,2,    217.6,2,  214.800,2,     1.91,2,     0.07,2,     0.00,2,     0.06,2,  -999.00,9, -999.000,9, -999.000,9,   1912.6,2,   2263.7,2
           NA,     P10,     27,   1,      30,     -99,  2,19931018,0932,   2.2500,  146.7920,  4622,    108.1,  25.0926,  34.6765,2,  34.6966,2,   -999.0,3,  186.800,2,     3.26,2,     2.01,2,     0.09,2,     0.29,2,  -999.00,9, -999.000,9, -999.000,9,   1982.8,2,   2285.2,2
           NA,     P10,     27,   1,      29,     -99,  2,19931018,0932,   2.2500,  146.7920,  4622,    156.8,  21.0444,  35.2018,2,  35.2048,2,    145.8,2,  146.000,2,     5.60,2,     8.56,2,     0.02,2,     0.70,2,  -999.00,9, -999.000,9, -999.000,9,   2062.2,2,   2319.6,2
           NA,     P10,     27,   1,      28,     -99,  2,19931018,0932,   2.2500,  146.7920,  4622,    206.6,  14.6124,  34.7412,2,  34.7517,2,    140.3,2,  137.000,2,    17.66,2,    16.27,2,     0.00,2,     1.21,2,  -999.00,9, -999.000,9, -999.000,9,   2121.2,2,   2308.6,2
           NA,     P10,     27,   1,      27,     -99,  2,19931018,0932,   2.2500,  146.7920,  4622,    256.5,  10.7012,  34.7358,2,  34.7322,2,    120.4,2, -999.000,4,    24.84,2,    24.45,2,     0.00,2,     1.74,2,  -999.00,9, -999.000,9, -999.000,9,   2178.9,2,   2315.0,2
           NA,     P10,     27,   1,      26,     -99,  2,19931018,0932,   2.2500,  146.7920,  4622,    306.3,  10.1666,  34.7312,2,  34.7304,2,    115.8,2,  116.200,2,    25.35,2,    25.95,2,     0.00,2,     1.83,2,  -999.00,9, -999.000,9, -999.000,9,   2188.2,6,   2313.4,6
           NA,     P10,     27,   1,      25,     -99,  2,19931018,0932,   2.2500,  146.7920,  4622,    405.7,   9.1742,  34.6645,2,  34.6931,2,    117.9,2,  111.600,2,    26.69,2,    27.32,2,     0.00,2,     1.91,2,  -999.00,9, -999.000,9, -999.000,9,   2195.8,2,   -999.0,3
           NA,     P10,     27,   1,      24,     -99,  2,19931018,0932,   2.2500,  146.7920,  4622,    505.4,   8.2601,  34.6105,2,  34.6019,2,    112.0,2,  106.000,2,    34.56,2,    30.74,2,    -0.01,2,     2.14,2,  -999.00,9, -999.000,9, -999.000,9,   2216.9,2,   2319.2,2
           NA,     P10,     27,   1,      23,     -99,  2,19931018,0932,   2.2500,  146.7920,  4622,    605.9,   7.1075,  34.5607,2,  34.5585,2,    112.4,2,  106.300,2,    43.42,2,    32.99,2,     0.00,2,     2.30,2,  -999.00,9, -999.000,9, -999.000,9,   2232.6,2,   -999.0,3
           NA,     P10,     27,   1,      22,     -99,  2,19931018,0932,   2.2500,  146.7920,  4622,    705.7,   6.1721,  34.5428,2,  34.5424,2,     95.0,2,   88.200,2,    57.98,2,    36.29,2,     0.00,2,     2.56,2,  -999.00,9, -999.000,9, -999.000,9,   2261.9,2,   2339.4,2
           NA,     P10,     27,   1,      20,     -99,  2,19931018,0932,   2.2500,  146.7920,  4622,    836.2,   5.4479,  34.5386,2,  34.5420,2,    104.7,2,   93.500,2,    68.35,2,    36.74,2,     0.00,2,     2.60,2,  -999.00,9, -999.000,9, -999.000,9,   2271.8,2,   2346.3,2
           NA,     P10,     27,   1,      19,     -99,  2,19931018,0932,   2.2500,  146.7920,  4622,    906.6,   5.0591,  34.5451,2,  34.5453,2,     91.4,2,   91.400,2,    76.71,2,    37.42,2,     0.00,2,     2.66,2,  -999.00,9, -999.000,9, -999.000,9,   2282.5,2,   2360.6,2
           NA,     P10,     27,   1,      18,     -99,  2,19931018,0932,   2.2500,  146.7920,  4622,   1006.9,   4.4681,  34.5573,2,  34.5587,2,     93.6,2,   93.300,2,    88.74,2,    37.91,2,     0.00,2,     2.69,2,  -999.00,9, -999.000,9, -999.000,9,   2295.0,2,   2367.5,2
           NA,     P10,     27,   1,      17,     -99,  2,19931018,0932,   2.2500,  146.7920,  4622,   1207.5,   3.7898,  34.5744,2,  34.5752,2,     99.5,2,  100.000,2,    99.28,2,    38.15,2,     0.00,2,     2.71,2,  -999.00,9, -999.000,9, -999.000,9,   2306.8,2,   2384.2,2
           NA,     P10,     27,   1,      16,     -99,  2,19931018,0932,   2.2500,  146.7920,  4622,   1407.7,   3.2774,  34.5923,2,  34.5913,2,    101.4,2,   99.900,2,   113.82,2,    38.31,2,     0.00,2,     2.72,2,  -999.00,9, -999.000,9, -999.000,9,   2320.0,2,   2399.7,2
           NA,     P10,     27,   1,      15,     -99,  2,19931018,0932,   2.2500,  146.7920,  4622,   1607.9,   2.8313,  34.6091,2,-999.0000,3,    104.2,2,  104.000,2,   124.01,2,    38.38,2,     0.00,2,     2.72,2,  -999.00,9, -999.000,9, -999.000,9,   2329.1,2,   2409.4,2
           NA,     P10,     27,   1,      14,     -99,  2,19931018,0932,   2.2500,  146.7920,  4622,   1807.8,   2.5411,  34.6220,2,  34.6225,2,    108.9,2,  108.900,2,   129.86,2,    38.28,2,     0.00,2,     2.71,2,  -999.00,9, -999.000,9, -999.000,9,   2335.0,2,   2419.9,2
           NA,     P10,     27,   1,      12,     -99,  2,19931018,0932,   2.2500,  146.7920,  4622,   2208.3,   2.0643,  34.6458,2,  34.6504,2,    120.4,2,  120.700,2,   138.55,2,    37.74,2,     0.00,2,     2.66,2,  -999.00,9, -999.000,9, -999.000,9,   2335.6,2,   2440.1,2
           NA,     P10,     27,   1,      11,     -99,  2,19931018,0932,   2.2500,  146.7920,  4622,   2410.8,   1.8822,  34.6563,2,-999.0000,3,    123.4,2,  125.500,2,   142.22,2,    37.47,2,     0.00,2,     2.63,2,  -999.00,9, -999.000,9, -999.000,9,   2336.8,2,   2432.8,2
           NA,     P10,     27,   1,      10,     -99,  2,19931018,0932,   2.2500,  146.7920,  4622,   2614.0,   1.7443,  34.6635,2,  34.6675,2,    131.7,2,  133.600,2,   142.89,2,    36.93,2,     0.00,2,     2.59,2,  -999.00,9, -999.000,9, -999.000,9,   2332.3,2,   2443.3,2
           NA,     P10,     27,   1,       9,     -99,  2,19931018,0932,   2.2500,  146.7920,  4622,   2816.5,   1.6671,  34.6683,2,  34.6730,2,    137.2,2,  138.200,2,   142.72,2,    36.67,2,     0.00,2,     2.56,2,  -999.00,9, -999.000,9, -999.000,9,   2330.4,2,   -999.0,4
           NA,     P10,     27,   1,       8,     -99,  2,19931018,0932,   2.2500,  146.7920,  4622,   3016.7,   1.6200,  34.6731,2,-999.0000,3,    141.3,2,  141.700,2,   143.05,2,    36.46,2,     0.00,2,     2.55,2,  -999.00,9, -999.000,9, -999.000,9,   2330.1,2,   2439.1,2
           NA,     P10,     27,   1,       7,     -99,  2,19931018,0932,   2.2500,  146.7920,  4622,   3269.5,   1.5828,  34.6766,2,  34.6760,2,    144.4,2,  145.100,2,   143.05,2,    36.18,2,     0.01,2,     2.53,2,  -999.00,9, -999.000,9, -999.000,9,   2329.1,2,   2433.6,2
           NA,     P10,     27,   1,       6,     -99,  2,19931018,0932,   2.2500,  146.7920,  4622,   3523.7,   1.5609,  34.6802,2,  34.6805,2,    147.0,2,  147.600,2,   142.87,2,    36.04,2,     0.00,2,     2.52,2,  -999.00,9, -999.000,9, -999.000,9,   2329.8,6,   2435.1,6
           NA,     P10,     27,   1,       5,     -99,  2,19931018,0932,   2.2500,  146.7920,  4622,   3768.4,   1.5335,  34.6831,2,  34.6821,2,    151.5,2, -999.000,3,   142.54,2,    35.99,2,     0.00,2,     2.52,2,  -999.00,9, -999.000,9, -999.000,9,   2325.8,2,   -999.0,3
           NA,     P10,     27,   1,       4,     -99,  2,19931018,0932,   2.2500,  146.7920,  4622,   3998.4,   1.5183,  34.6860,2,-999.0000,4,    154.5,2,  154.900,2,   141.37,2,    35.56,2,     0.00,2,     2.48,2,  -999.00,9, -999.000,9, -999.000,9,   2321.4,2,   2441.0,2
           NA,     P10,     27,   1,       2,     -99,  2,19931018,0932,   2.2500,  146.7920,  4622,   4500.7,   1.5587,  34.6876,2,-999.0000,4,    154.8,2,  155.100,2,   141.50,2,    35.56,2,     0.00,2,     2.48,2,  -999.00,9, -999.000,9, -999.000,9,   2324.2,2,   2441.1,2
           NA,     P10,     27,   1,       1,     -99,  2,19931018,0932,   2.2500,  146.7920,  4622,   4683.4,   1.5773,  34.6879,2,  34.6886,2,   -999.0,3,  156.200,2,   141.48,2,    35.61,2,     0.00,2,     2.46,2,  -999.00,9, -999.000,9, -999.000,9,   2322.5,2,   2430.5,2
           NA,     P10,     28,   1,      36,     -99,  2,19931018,1540,   2.5000,  146.8612,  4445,      8.6,  29.0765,  34.0489,2,  34.0484,2,    202.2,2,  215.200,2,     0.77,2,    -0.01,2,     0.01,2,     0.03,2,     1.74,2,    0.964,2, -999.000,9,   -999.0,9,   -999.0,9
           NA,     P10,     28,   1,      31,     -99,  2,19931018,1540,   2.5000,  146.8612,  4445,     20.4,  29.0283,  34.0545,2,  34.0463,2,    201.0,2,  214.200,2,     0.59,2,     0.00,2,     0.01,2,     0.04,2,  -999.00,9, -999.000,9, -999.000,9,   -999.0,9,   -999.0,9
           NA,     P10,     28,   1,      30,     -99,  2,19931018,1540,   2.5000,  146.8612,  4445,     47.1,  28.3078,  34.2353,2,  34.2339,2,    206.4,2,  217.100,2,     1.05,2,     0.07,2,     0.00,2,     0.06,2,     1.74,2,    0.916,2, -999.000,9,   -999.0,9,   -999.0,9
           NA,     P10,     28,   1,      29,     -99,  2,19931018,1540,   2.5000,  146.8612,  4445,     72.7,  28.1311,  34.2961,2,  34.3229,2,    207.7,2,  214.500,2,     0.69,2,     0.03,2,     0.00,2,     0.08,2,     1.78,2,    0.959,2, -999.000,9,   -999.0,9,   -999.0,9
           NA,     P10,     28,   1,      28,     -99,  3,19931018,1540,   2.5000,  146.8612,  4445,     96.8,  25.5383,  34.6147,2,  34.6449,2,    195.3,2,  197.000,2,     1.49,2,     1.00,2,     0.12,2,     0.23,2,     1.81,2,    0.967,2, -999.000,9,   -999.0,9,   -999.0,9
           NA,     P10,     28,   1,      27,     -99,  2,19931018,1540,   2.5000,  146.8612,  4445,    146.4,  21.5623,  35.1236,2,  35.1257,2,    157.5,2,  156.400,2,     3.77,2,     7.26,2,     0.02,2,     0.62,2,     1.77,2,    0.914,2, -999.000,9,   -999.0,9,   -999.0,9
           NA,     P10,     28,   1,      26,     -99,  2,19931018,1540,   2.5000,  146.8612,  4445,    195.9,  14.8558,  34.6686,2,  34.6477,2,    145.0,2,  139.800,2,    15.76,2,    15.33,2,     0.01,2,     1.14,2,     1.60,2,    0.802,2, -999.000,9,   -999.0,9,   -999.0,9
           NA,     P10,     28,   1,      25,     -99,  2,19931018,1540,   2.5000,  146.8612,  4445,    226.1,  11.4155,  34.4962,2,  34.5067,2,    124.5,2,  119.000,2,    27.91,2,    22.64,2,     0.01,2,     1.65,2,     1.05,2,    0.513,2, -999.000,9,   -999.0,9,   -999.0,9
           NA,     P10,     28,   1,      24,     -99,  3,19931018,1540,   2.5000,  146.8612,  4445,    295.8,  10.0633,  34.7331,2,  34.7340,2,    117.1,2,  119.800,2,    21.46,2,    25.75,2,     0.00,2,     1.80,2,  -999.00,9, -999.000,9, -999.000,9,   -999.0,9,   -999.0,9
           NA,     P10,     28,   1,      23,     -99,  4,19931018,1540,   2.5000,  146.8612,  4445,    395.9,   9.4956,  34.6877,2,-999.0000,2,    109.9,2, -999.000,2,  -999.00,2,  -999.00,2,  -999.00,2,  -999.00,2,  -999.00,2, -999.000,2, -999.000,9,   -999.0,9,   -999.0,9
           NA,     P10,     28,   1,      22,     -99,  3,19931018,1540,   2.5000,  146.8612,  4445,    495.7,   8.5807,  34.6262,2,  34.6155,2,    106.4,2,  104.300,2,    31.13,2,    30.07,2,     0.00,2,     2.06,2,  -999.00,9, -999.000,9, -999.000,9,   -999.0,9,   -999.0,9
           NA,     P10,     28,   1,      20,     -99,  2,19931018,1540,   2.5000,  146.8612,  4445,    695.7,   6.5422,  34.5484,2,  34.5389,2,     83.5,2,   88.300,2,    50.86,2,    35.58,2,     0.00,2,     2.46,2,     0.03,2,    0.017,2, -999.000,9,   -999.0,9,   -999.0,9
           NA,     P10,     28,   1,      19,     -99,  2,19931018,1540,   2.5000,  146.8612,  4445,    796.1,   5.7402,  34.5417,2,  34.5400,2,     91.3,2,   91.700,2,    61.69,2,    36.53,2,    -0.01,2,     2.61,2,     0.01,2,    0.011,2, -999.000,9,   -999.0,9,   -999.0,9
           NA,     P10,     28,   1,      18,     -99,  2,19931018,1540,   2.5000,  146.8612,  4445,    896.0,   5.1153,  34.5471,2,  34.5375,2,     88.6,2,   88.400,2,    73.84,2,    37.50,2,     0.00,2,     2.67,2,  -999.00,9, -999.000,9, -999.000,9,   -999.0,9,   -999.0,9
           NA,     P10,     28,   1,      17,     -99,  2,19931018,1540,   2.5000,  146.8612,  4445,    996.2,   4.6671,  34.5544,2,  34.5524,2,     90.0,2,   89.600,2,    83.03,2,    37.84,2,     0.01,2,     2.69,2,  -999.00,9, -999.000,9, -999.000,9,   -999.0,9,   -999.0,9
           NA,     P10,     28,   1,      16,     -99,  2,19931018,1540,   2.5000,  146.8612,  4445,   1195.9,   3.8636,  34.5742,2,  34.5734,2,     97.1,2,   97.500,2,    99.03,2,    37.96,2,     0.00,2,     2.70,2,     0.00,2,    0.003,2, -999.000,9,   -999.0,9,   -999.0,9
           NA,     P10,     28,   1,      15,     -99,  2,19931018,1540,   2.5000,  146.8612,  4445,   1396.2,   3.4379,  34.5875,2,  34.5856,2,     98.6,2,   98.800,2,   109.04,2,    38.29,2,     0.00,2,     2.72,2,  -999.00,9, -999.000,9, -999.000,9,   -999.0,9,   -999.0,9
           NA,     P10,     28,   1,      14,     -99,  3,19931018,1540,   2.5000,  146.8612,  4445,   1594.3,   2.9371,  34.6056,2,  34.6043,2,    103.3,2,  103.200,2,   120.29,2,    38.25,2,     0.00,2,     2.73,2,  -999.00,3, -999.000,3, -999.000,9,   -999.0,9,   -999.0,9
           NA,     P10,     28,   1,      13,     -99,  2,19931018,1540,   2.5000,  146.8612,  4445,   1794.5,   2.5186,  34.6239,2,  34.6218,2,    109.6,2,  110.300,2,   130.14,2,    38.10,2,     0.00,2,     2.72,2,  -999.00,9, -999.000,9, -999.000,9,   -999.0,9,   -999.0,9
           NA,     P10,     28,   1,      12,     -99,  2,19931018,1540,   2.5000,  146.8612,  4445,   1996.6,   2.1556,  34.6415,2,-999.0000,3,    116.7,2,  118.000,2,   137.18,2,    37.73,2,     0.00,2,     2.67,2,  -999.00,9, -999.000,9, -999.000,9,   -999.0,9,   -999.0,9
           NA,     P10,     28,   1,      11,     -99,  2,19931018,1540,   2.5000,  146.8612,  4445,   2199.3,   2.0314,  34.6472,2,-999.0000,4,    121.2,2,  122.200,2,   139.12,2,    37.37,2,    -0.01,2,     2.65,2,     0.00,2,    0.000,2, -999.000,9,   -999.0,9,   -999.0,9
           NA,     P10,     28,   1,      10,     -99,  2,19931018,1540,   2.5000,  146.8612,  4445,   2396.3,   1.8992,  34.6561,2,  34.6561,2,    124.2,2,  124.900,2,   142.21,2,    37.32,2,     0.00,2,     2.64,2,     0.00,2,    0.000,2, -999.000,9,   -999.0,9,   -999.0,9
           NA,     P10,     28,   1,       9,     -99,  2,19931018,1540,   2.5000,  146.8612,  4445,   2594.3,   1.7716,  34.6634,2,  34.6612,2,    129.6,2,  132.000,2,   143.17,2,    36.94,2,     0.00,2,     2.61,2,  -999.00,9, -999.000,9, -999.000,9,   -999.0,9,   -999.0,9
           NA,     P10,     28,   1,       8,     -99,  2,19931018,1540,   2.5000,  146.8612,  4445,   2794.2,   1.6692,  34.6689,2,  34.6673,2,    137.4,2,  138.500,2,   142.81,2,    36.48,2,    -0.01,2,     2.57,2,    -0.00,2,    0.000,2, -999.000,9,   -999.0,9,   -999.0,9
           NA,     P10,     28,   1,       7,     -99,  2,19931018,1540,   2.5000,  146.8612,  4445,   2993.7,   1.6233,  34.6727,2,  34.6701,2,    141.1,2,  141.300,2,   142.94,2,    36.32,2,    -0.01,2,     2.55,2,  -999.00,9, -999.000,9, -999.000,9,   -999.0,9,   -999.0,9
           NA,     P10,     28,   1,       6,     -99,  2,19931018,1540,   2.5000,  146.8612,  4445,   3247.1,   1.5953,  34.6765,2,  34.6748,2,    144.0,2,  144.300,2,   142.75,2,    36.11,2,    -0.01,2,     2.54,2,    -0.00,2,   -0.001,2, -999.000,9,   -999.0,9,   -999.0,9
           NA,     P10,     28,   1,       5,     -99,  2,19931018,1540,   2.5000,  146.8612,  4445,   3494.2,   1.5759,  34.6798,2,-999.0000,4,    146.8,2,  146.700,2,   142.72,2,    36.02,2,    -0.01,2,     2.54,2,  -999.00,9, -999.000,9, -999.000,9,   -999.0,9,   -999.0,9
           NA,     P10,     28,   1,       4,     -99,  2,19931018,1540,   2.5000,  146.8612,  4445,   3742.9,   1.5504,  34.6836,2,  34.6815,2,    150.0,2,  150.200,2,   141.83,2,    35.76,2,    -0.01,2,     2.51,2,  -999.00,9, -999.000,9, -999.000,9,   -999.0,9,   -999.0,9
           NA,     P10,     28,   1,       3,     -99,  2,19931018,1540,   2.5000,  146.8612,  4445,   3995.4,   1.5303,  34.6857,2,-999.0000,4,    154.2,2,  154.100,2,   141.70,2,    35.54,2,    -0.01,2,  -999.00,3,  -999.00,3,    0.000,2, -999.000,9,   -999.0,9,   -999.0,9
           NA,     P10,     28,   1,       2,     -99,  2,19931018,1540,   2.5000,  146.8612,  4445,   4242.0,   1.5298,  34.6883,2,  34.6862,2,    156.6,2,  155.500,2,   141.20,2,    35.52,2,    -0.02,2,     2.49,2,    -0.00,2,   -0.008,2, -999.000,9,   -999.0,9,   -999.0,9