BOTTLE,20210102JOAExport
EXPOCODE,SECT_ID,STNNBR,CASTNO,SAMPNO,BTLNBR,BTLNBR_FLAG_W,DATE,TIME,LATITUDE,LONGITUDE,DEPTH,CTDPRS,CTDTMP,CTDSAL,CTDSAL_FLAG_W,SALNTY,SALNTY_FLAG_W,CTDOXY,CTDOXY_FLAG_W,OXYGEN,OXYGEN_FLAG_W,SILCAT,SILCAT_FLAG_W,NITRAT,NITRAT_FLAG_W,NITRIT,NITRIT_FLAG_W,PHSPHT,PHSPHT_FLAG_W,CFC-11,CFC-11_FLAG_W,CFC-12,CFC-12_FLAG_W,SF6,SF6_FLAG_W,TCARBN,TCARBN_FLAG_W,ALKALI,ALKALI_FLAG_W
,,,,,,,,,,,,DB,ITS-90,PSS-78,,PSS-78,,UMOL/KG,,UMOL/KG,,UMOL/KG,,UMOL/KG,,UMOL/KG,,UMOL/KG,,PMOL/KG,,PMOL/KG,,FMOL/KG,,UMOL/KG,,UMOL/KG
           NA,     P10,     63,   1,      36,     -99,  2,19931029,2153,  21.8362,  149.3305,  5621,     16.0,  27.5868,  35.1011,2,  35.1018,2,    203.7,2,  208.300,2,     0.63,2,    -0.02,2,     0.02,2,     0.01,2,     1.91,2,    1.060,2, -999.000,9,   -999.0,9,   -999.0,9
           NA,     P10,     63,   1,      34,     -99,  2,19931029,2153,  21.8362,  149.3305,  5621,     60.9,  24.5832,  35.0930,2,  35.0989,2,    215.0,2,  217.900,2,     0.81,2,    -0.01,2,     0.01,2,     0.02,2,     2.14,2,    1.162,2, -999.000,9,   -999.0,9,   -999.0,9
           NA,     P10,     63,   1,      33,     -99,  2,19931029,2153,  21.8362,  149.3305,  5621,    109.5,  20.7589,  34.9769,2,  34.9900,2,    209.9,2,  207.400,2,     1.51,2,     0.46,2,     0.11,2,     0.09,2,     2.37,2,    1.263,2, -999.000,9,   -999.0,9,   -999.0,9
           NA,     P10,     63,   1,      32,     -99,  2,19931029,2153,  21.8362,  149.3305,  5621,    159.5,  19.1637,  34.9283,2,  34.9296,2,    197.4,2,  197.000,2,     2.22,2,     2.47,2,     0.03,2,     0.22,2,     2.44,2,    1.286,2, -999.000,9,   -999.0,9,   -999.0,9
           NA,     P10,     63,   1,      31,     -99,  2,19931029,2153,  21.8362,  149.3305,  5621,    206.5,  17.6395,  34.8190,2,  34.8193,2,    199.6,2,  203.100,2,     3.27,2,     3.94,2,     0.03,2,     0.31,2,     2.48,6,    1.287,6, -999.000,9,   -999.0,9,   -999.0,9
           NA,     P10,     63,   1,      30,     -99,  2,19931029,2153,  21.8362,  149.3305,  5621,    259.7,  16.6865,  34.7562,2,  34.7546,2,    203.1,2,  203.200,2,     4.68,2,     5.49,2,     0.02,2,     0.41,2,     2.63,2,    1.371,2, -999.000,9,   -999.0,9,   -999.0,9
           NA,     P10,     63,   1,      29,     -99,  2,19931029,2153,  21.8362,  149.3305,  5621,    295.1,  16.1419,  34.7132,2,  34.7151,2,    200.9,2,  200.600,2,     5.90,2,     6.56,2,     0.02,2,     0.49,2,  -999.00,9, -999.000,9, -999.000,9,   -999.0,9,   -999.0,9
           NA,     P10,     63,   1,      28,     -99,  2,19931029,2153,  21.8362,  149.3305,  5621,    411.9,  13.8314,  34.5085,2,  34.5216,2,    192.6,2,  193.700,2,    11.34,2,    10.53,2,     0.03,2,     0.77,2,     2.48,2,    1.255,2, -999.000,9,   -999.0,9,   -999.0,9
           NA,     P10,     63,   1,      27,     -99,  2,19931029,2153,  21.8362,  149.3305,  5621,    508.3,   9.8540,  34.2190,2,  34.2294,2,    184.5,2,  182.000,2,    26.08,2,    18.43,2,     0.02,2,     1.33,2,     2.10,2,    1.009,2, -999.000,9,   -999.0,9,   -999.0,9
           NA,     P10,     63,   1,      26,     -99,  2,19931029,2153,  21.8362,  149.3305,  5621,    590.7,   7.7017,  34.1012,2,  34.1010,2,    157.8,2,  153.700,2,    42.57,2,    25.08,2,     0.02,2,     1.82,2,     1.61,2,    0.748,2, -999.000,9,   -999.0,9,   -999.0,9
           NA,     P10,     63,   1,      25,     -99,  2,19931029,2153,  21.8362,  149.3305,  5621,    700.2,   5.5622,  34.0822,2,  34.0820,2,     97.9,2,  103.200,2,    71.33,2,    33.54,2,     0.02,2,     2.42,2,     0.88,2,    0.405,2, -999.000,9,   -999.0,9,   -999.0,9
           NA,     P10,     63,   1,      24,     -99,  3,19931029,2153,  21.8362,  149.3305,  5621,    808.0,   4.5523,  34.2276,2,-999.0000,4,     59.6,2, -999.000,4,  -999.00,4,  -999.00,4,  -999.00,4,  -999.00,4,  -999.00,9, -999.000,9, -999.000,9,   -999.0,9,   -999.0,9
           NA,     P10,     63,   1,      23,     -99,  2,19931029,2153,  21.8362,  149.3305,  5621,    904.0,   4.1136,  34.3431,2,  34.3416,2,     51.2,2,   52.000,2,   108.50,2,    40.25,2,     0.02,2,     2.88,2,     0.06,2,    0.023,2, -999.000,9,   -999.0,9,   -999.0,9
           NA,     P10,     63,   1,      22,     -99,  2,19931029,2153,  21.8362,  149.3305,  5621,   1004.7,   3.4609,  34.3908,2,  34.3900,2,   -999.0,3,   43.300,2,   125.32,2,    41.75,2,     0.01,2,     2.98,2,     0.03,2,    0.007,2, -999.000,9,   -999.0,9,   -999.0,9
           NA,     P10,     63,   1,      21,     -99,  2,19931029,2153,  21.8362,  149.3305,  5621,   1105.1,   3.2690,  34.4503,2,  34.4501,2,   -999.0,3,   56.900,2,   128.11,2,    40.91,2,     0.01,2,     2.92,2,  -999.00,4,    0.007,2, -999.000,9,   -999.0,9,   -999.0,9
           NA,     P10,     63,   1,      20,     -99,  2,19931029,2153,  21.8362,  149.3305,  5621,   1204.0,   3.0933,  34.5111,2,  34.5100,2,   -999.0,3,   69.400,2,   129.68,2,    40.17,2,     0.02,2,     2.86,2,  -999.00,9, -999.000,9, -999.000,9,   -999.0,9,   -999.0,9
           NA,     P10,     63,   1,      19,     -99,  2,19931029,2153,  21.8362,  149.3305,  5621,   1404.0,   2.7071,  34.5492,2,  34.5493,2,     80.4,2,   80.400,2,   136.16,2,    39.73,2,     0.01,2,     2.82,2,  -999.00,9, -999.000,9, -999.000,9,   -999.0,9,   -999.0,9
           NA,     P10,     63,   1,      18,     -99,  2,19931029,2153,  21.8362,  149.3305,  5621,   1608.6,   2.3723,  34.5793,2,-999.0000,3,   -999.0,3,   91.600,2,   141.06,2,    39.23,2,     0.01,2,     2.78,2,  -999.00,9, -999.000,9, -999.000,9,   -999.0,9,   -999.0,9
           NA,     P10,     63,   1,      17,     -99,  2,19931029,2153,  21.8362,  149.3305,  5621,   1799.3,   2.1585,  34.6007,2,  34.6013,2,     99.0,2,   99.300,2,   144.38,2,    38.84,2,     0.01,2,     2.75,2,     0.00,2,    0.000,2, -999.000,9,   -999.0,9,   -999.0,9
           NA,     P10,     63,   1,      16,     -99,  2,19931029,2153,  21.8362,  149.3305,  5621,   2002.9,   1.9849,  34.6203,2,  34.6208,2,    107.3,2,  107.900,2,   146.47,2,    38.40,2,     0.01,2,     2.72,2,  -999.00,9, -999.000,9, -999.000,9,   -999.0,9,   -999.0,9
           NA,     P10,     63,   1,      15,     -99,  2,19931029,2153,  21.8362,  149.3305,  5621,   2207.9,   1.8406,  34.6362,2,  34.6363,2,    115.5,2,  115.300,2,   148.05,2,    38.01,2,     0.01,2,     2.69,2,  -999.00,9, -999.000,9, -999.000,9,   -999.0,9,   -999.0,9
           NA,     P10,     63,   1,      14,     -99,  2,19931029,2153,  21.8362,  149.3305,  5621,   2409.6,   1.7435,  34.6460,2,  34.6463,2,    121.8,2,  121.500,2,   148.56,2,    37.68,2,     0.01,2,     2.66,2,  -999.00,9, -999.000,9, -999.000,9,   -999.0,9,   -999.0,9
           NA,     P10,     63,   1,      13,     -99,  2,19931029,2153,  21.8362,  149.3305,  5621,   2611.0,   1.6868,  34.6543,2,  34.6538,2,    126.8,2,  126.200,2,   148.90,2,    37.30,2,     0.00,2,     2.63,2,  -999.00,9, -999.000,9, -999.000,9,   -999.0,9,   -999.0,9
           NA,     P10,     63,   1,      12,     -99,  2,19931029,2153,  21.8362,  149.3305,  5621,   2801.0,   1.6307,  34.6601,2,  34.6610,2,    131.0,2,  131.300,2,   148.90,2,    37.19,2,     0.01,2,     2.61,2,  -999.00,9, -999.000,9, -999.000,9,   -999.0,9,   -999.0,9
           NA,     P10,     63,   1,      11,     -99,  2,19931029,2153,  21.8362,  149.3305,  5621,   2999.6,   1.5928,  34.6653,2,  34.6662,2,    135.3,2,  135.300,2,   148.72,2,    36.87,2,     0.00,2,     2.59,2,  -999.00,4,   -0.002,2, -999.000,9,   -999.0,9,   -999.0,9
           NA,     P10,     63,   1,      10,     -99,  2,19931029,2153,  21.8362,  149.3305,  5621,   3254.3,   1.5496,  34.6711,2,  34.6711,2,    139.8,2,  139.800,2,   148.53,2,    36.53,2,     0.00,2,     2.57,2,  -999.00,9, -999.000,9, -999.000,9,   -999.0,9,   -999.0,9
           NA,     P10,     63,   1,       9,     -99,  2,19931029,2153,  21.8362,  149.3305,  5621,   3501.8,   1.5125,  34.6757,2,  34.6760,2,    144.7,2,  145.700,2,   147.12,2,    36.20,2,     0.00,2,     2.54,2,  -999.00,9, -999.000,9, -999.000,9,   -999.0,9,   -999.0,9
           NA,     P10,     63,   1,       8,     -99,  2,19931029,2153,  21.8362,  149.3305,  5621,   3757.1,   1.4890,  34.6806,2,  34.6807,2,    149.8,2,  150.600,2,   145.36,2,    35.81,2,     0.00,2,     2.51,2,  -999.00,9, -999.000,9, -999.000,9,   -999.0,9,   -999.0,9
           NA,     P10,     63,   1,       7,     -99,  2,19931029,2153,  21.8362,  149.3305,  5621,   4001.5,   1.4768,  34.6830,2,  34.6833,2,    154.4,2,  153.900,2,   144.31,2,    35.59,2,     0.00,2,     2.49,2,  -999.00,9, -999.000,9, -999.000,9,   -999.0,9,   -999.0,9
           NA,     P10,     63,   1,       6,     -99,  2,19931029,2153,  21.8362,  149.3305,  5621,   4254.7,   1.4654,  34.6865,2,  34.6870,2,    158.9,2,  159.300,2,   142.02,2,    35.21,2,     0.00,2,     2.47,2,  -999.00,9, -999.000,9, -999.000,9,   -999.0,9,   -999.0,9
           NA,     P10,     63,   1,       5,     -99,  2,19931029,2153,  21.8362,  149.3305,  5621,   4508.0,   1.4634,  34.6895,2,  34.6890,2,    162.5,2,  163.400,2,   139.75,2,    34.87,2,     0.00,2,     2.45,2,  -999.00,9, -999.000,9, -999.000,9,   -999.0,9,   -999.0,9
           NA,     P10,     63,   1,       4,     -99,  2,19931029,2153,  21.8362,  149.3305,  5621,   4756.1,   1.4704,  34.6908,2,  34.6909,2,    165.3,2,  166.600,2,   137.81,2,    34.66,2,    -0.01,2,     2.43,2,  -999.00,4,    0.003,2, -999.000,9,   -999.0,9,   -999.0,9
           NA,     P10,     63,   1,       3,     -99,  2,19931029,2153,  21.8362,  149.3305,  5621,   5012.8,   1.4819,  34.6925,2,  34.6927,2,    168.8,2,  168.600,2,   136.23,2,    34.43,2,     0.00,2,     2.41,2,  -999.00,9, -999.000,9, -999.000,9,   -999.0,9,   -999.0,9
           NA,     P10,     63,   1,       2,     -99,  2,19931029,2153,  21.8362,  149.3305,  5621,   5318.0,   1.4955,  34.6947,2,  34.6950,2,    172.9,2,  173.000,2,   133.77,2,    34.11,2,    -0.01,2,     2.40,2,  -999.00,4,    0.000,2, -999.000,9,   -999.0,9,   -999.0,9
           NA,     P10,     63,   1,       1,     -99,  2,19931029,2153,  21.8362,  149.3305,  5621,   5717.3,   1.5190,  34.6970,2,  34.6976,2,    177.3,2,  176.700,2,   131.41,2,    33.82,2,     0.01,2,     2.36,2,     0.00,2,   -0.001,2, -999.000,9,   -999.0,9,   -999.0,9