BOTTLE,20210102JOAExport
EXPOCODE,SECT_ID,STNNBR,CASTNO,SAMPNO,BTLNBR,BTLNBR_FLAG_W,DATE,TIME,LATITUDE,LONGITUDE,DEPTH,CTDPRS,CTDTMP,CTDSAL,CTDSAL_FLAG_W,SALNTY,SALNTY_FLAG_W,CTDOXY,CTDOXY_FLAG_W,OXYGEN,OXYGEN_FLAG_W,SILCAT,SILCAT_FLAG_W,NITRAT,NITRAT_FLAG_W,NITRIT,NITRIT_FLAG_W,PHSPHT,PHSPHT_FLAG_W,CFC-11,CFC-11_FLAG_W,CFC-12,CFC-12_FLAG_W,SF6,SF6_FLAG_W,TCARBN,TCARBN_FLAG_W,ALKALI,ALKALI_FLAG_W
,,,,,,,,,,,,DB,ITS-90,PSS-78,,PSS-78,,UMOL/KG,,UMOL/KG,,UMOL/KG,,UMOL/KG,,UMOL/KG,,UMOL/KG,,PMOL/KG,,PMOL/KG,,FMOL/KG,,UMOL/KG,,UMOL/KG
           NA,     P10,     43,   1,      36,     -99,  2,19931022,1432,   9.4500,  149.3305,  4605,     17.3,  29.1139,  33.8017,2,  33.8010,2,    201.1,2,  207.800,2,     0.93,2,    -0.02,2,     0.02,2,     0.12,2,     1.74,2,    0.957,2, -999.000,9,   -999.0,9,   -999.0,9
           NA,     P10,     43,   1,      35,     -99,  3,19931022,1432,   9.4500,  149.3305,  4605,     25.5,  29.1197,  33.8042,2,  33.8059,2,    201.1,2,  208.700,2,     1.09,2,     0.01,2,     0.02,2,     0.12,2,     1.73,2,    0.928,2, -999.000,9,   -999.0,9,   -999.0,9
           NA,     P10,     43,   1,      34,     -99,  2,19931022,1432,   9.4500,  149.3305,  4605,     48.1,  27.8722,  34.5768,2,  34.5840,2,    213.0,2,  214.300,2,     1.10,2,     0.22,2,     0.02,2,     0.16,2,     1.86,2,    1.007,2, -999.000,9,   -999.0,9,   -999.0,9
           NA,     P10,     43,   1,      32,     -99,  2,19931022,1432,   9.4500,  149.3305,  4605,    197.4,  11.1202,  34.5207,2,  34.5416,2,     86.3,2,   78.600,2,    28.04,2,    26.70,2,     0.03,2,     1.95,2,     0.73,2,    0.351,2, -999.000,9,   -999.0,9,   -999.0,9
           NA,     P10,     43,   1,      31,     -99,  2,19931022,1432,   9.4500,  149.3305,  4605,    244.0,  10.2779,  34.5464,2,  34.5480,2,     62.2,2,   62.800,2,    31.94,2,    29.92,2,     0.02,2,     2.15,2,     0.44,2,    0.210,2, -999.000,9,   -999.0,9,   -999.0,9
           NA,     P10,     43,   1,      30,     -99,  2,19931022,1432,   9.4500,  149.3305,  4605,    294.4,   9.3777,  34.5699,2,  34.5703,2,     51.5,2,   56.200,2,    36.82,2,    32.35,2,     0.02,2,     2.30,2,     0.22,6,    0.097,6, -999.000,9,   -999.0,9,   -999.0,9
           NA,     P10,     43,   1,      29,     -99,  2,19931022,1432,   9.4500,  149.3305,  4605,    345.2,   8.7441,  34.5930,2,-999.0000,3,     50.8,2,   52.400,2,    39.58,2,    34.42,2,     0.02,2,     2.41,2,     0.09,2,    0.044,2, -999.000,9,   -999.0,9,   -999.0,9
           NA,     P10,     43,   1,      28,     -99,  2,19931022,1432,   9.4500,  149.3305,  4605,    393.4,   8.1246,  34.5798,2,  34.5797,2,     53.8,2,   56.200,2,    43.32,2,    34.98,2,     0.02,2,     2.48,2,     0.06,2,    0.030,2, -999.000,9,   -999.0,9,   -999.0,9
           NA,     P10,     43,   1,      26,     -99,  2,19931022,1432,   9.4500,  149.3305,  4605,    596.8,   6.6741,  34.5364,2,  34.5421,2,     57.7,2,   58.400,2,    58.26,2,    37.42,2,     0.02,2,     2.67,2,     0.02,2,    0.005,2, -999.000,9,   -999.0,9,   -999.0,9
           NA,     P10,     43,   1,      25,     -99,  2,19931022,1432,   9.4500,  149.3305,  4605,    697.2,   6.0213,  34.5337,2,  34.5319,2,     61.0,2,   62.500,2,    67.13,2,    38.14,2,     0.02,2,     2.72,2,  -999.00,9, -999.000,9, -999.000,9,   -999.0,9,   -999.0,9
           NA,     P10,     43,   1,      24,     -99,  2,19931022,1432,   9.4500,  149.3305,  4605,    798.4,   5.4261,  34.5370,2,-999.0000,4,     67.8,2,   70.700,2,    75.96,2,    38.30,2,     0.02,2,     2.73,2,     0.01,2,    0.001,2, -999.000,9,   -999.0,9,   -999.0,9
           NA,     P10,     43,   1,      23,     -99,  9,19931022,1432,   9.4500,  149.3305,  4605,    898.0,   5.0065,  34.5421,2,  34.5449,2,     75.1,2,   74.600,2,    83.27,2,    38.34,2,     0.02,2,     2.74,2,  -999.00,9, -999.000,9, -999.000,9,   -999.0,9,   -999.0,9
           NA,     P10,     43,   1,      22,     -99,  2,19931022,1432,   9.4500,  149.3305,  4605,    994.1,   4.5911,  34.5507,2,-999.0000,4,     78.5,2,   76.000,2,    90.74,2,  -999.00,3,     0.01,2,     2.77,2,     0.00,2,   -0.002,2, -999.000,9,   -999.0,9,   -999.0,9
           NA,     P10,     43,   1,      20,     -99,  2,19931022,1432,   9.4500,  149.3305,  4605,   1195.1,   3.7828,  34.5719,2,  34.5750,2,     86.4,2,   85.800,2,   106.64,2,    38.73,2,     0.02,2,     2.76,2,     0.00,2,    0.003,2, -999.000,9,   -999.0,9,   -999.0,9
           NA,     P10,     43,   1,      19,     -99,  2,19931022,1432,   9.4500,  149.3305,  4605,   1397.3,   3.1942,  34.5917,2,-999.0000,3,     93.9,2,   93.400,2,   118.83,2,    38.60,2,     0.02,2,     2.74,2,     0.00,2,    0.000,2, -999.000,9,   -999.0,9,   -999.0,9
           NA,     P10,     43,   1,      18,     -99,  2,19931022,1432,   9.4500,  149.3305,  4605,   1600.1,   2.7529,  34.6092,2,-999.0000,4,     99.3,2,   98.700,2,   128.09,2,    38.56,2,     0.01,2,     2.74,2,  -999.00,9, -999.000,9, -999.000,9,   -999.0,9,   -999.0,9
           NA,     P10,     43,   1,      17,     -99,  2,19931022,1432,   9.4500,  149.3305,  4605,   1800.4,   2.4278,  34.6235,2,-999.0000,3,    105.0,2,  104.900,2,   134.55,2,    38.18,2,     0.01,2,     2.71,2,  -999.00,9, -999.000,9, -999.000,9,   -999.0,9,   -999.0,9
           NA,     P10,     43,   1,      16,     -99,  2,19931022,1432,   9.4500,  149.3305,  4605,   1999.6,   2.2099,  34.6350,2,-999.0000,4,    110.5,2,  110.400,2,   138.78,2,    38.08,2,     0.01,2,     2.69,2,  -999.00,9, -999.000,9, -999.000,9,   -999.0,9,   -999.0,9
           NA,     P10,     43,   1,      15,     -99,  2,19931022,1432,   9.4500,  149.3305,  4605,   2196.7,   2.0426,  34.6445,2,  34.6429,2,    115.9,2,  115.500,2,   141.91,2,    38.19,2,     0.01,2,     2.68,2,  -999.00,9, -999.000,9, -999.000,9,   -999.0,9,   -999.0,9
           NA,     P10,     43,   1,      14,     -99,  3,19931022,1432,   9.4500,  149.3305,  4605,   2395.1,   1.8756,  34.6536,2,  34.6549,2,    121.9,2,  121.500,2,   145.00,2,    37.74,2,     0.00,2,     2.65,2,  -999.00,9, -999.000,9, -999.000,9,   -999.0,9,   -999.0,9
           NA,     P10,     43,   1,      13,     -99,  2,19931022,1432,   9.4500,  149.3305,  4605,   2586.5,   1.7909,  34.6597,2,-999.0000,3,    125.0,2,  125.100,2,   146.34,2,    37.57,2,     0.02,2,     2.63,2,  -999.00,9, -999.000,9, -999.000,9,   -999.0,9,   -999.0,9
           NA,     P10,     43,   1,      12,     -99,  2,19931022,1432,   9.4500,  149.3305,  4605,   2793.3,   1.6691,  34.6666,2,-999.0000,3,    132.1,2,  133.100,2,   146.80,2,    37.10,2,     0.01,2,     2.58,2,     0.00,2,    0.001,2, -999.000,9,   -999.0,9,   -999.0,9
           NA,     P10,     43,   1,      10,     -99,  2,19931022,1432,   9.4500,  149.3305,  4605,   2993.7,   1.6128,  34.6720,2,  34.6722,2,    138.0,2,  138.300,2,   145.84,2,    36.44,2,     0.00,2,     2.56,2,  -999.00,9, -999.000,9, -999.000,9,   -999.0,9,   -999.0,9
           NA,     P10,     43,   1,       9,     -99,  2,19931022,1432,   9.4500,  149.3305,  4605,   3195.5,   1.5697,  34.6758,2,  34.6787,2,    140.8,2,  141.600,2,   146.18,2,    36.28,2,     0.00,2,     2.55,2,  -999.00,9, -999.000,9, -999.000,9,   -999.0,9,   -999.0,9
           NA,     P10,     43,   1,       8,     -99,  9,19931022,1432,   9.4500,  149.3305,  4605,   3394.5,   1.5352,  34.6790,2,  34.6787,2,    146.7,2,  146.100,2,   145.22,2,    36.03,2,     0.00,2,     2.52,2,  -999.00,9, -999.000,9, -999.000,9,   -999.0,9,   -999.0,9
           NA,     P10,     43,   1,       7,     -99,  2,19931022,1432,   9.4500,  149.3305,  4605,   3595.2,   1.5148,  34.6826,2,  34.6830,2,    150.4,2,  149.500,2,   144.02,2,    35.89,2,     0.01,2,     2.50,2,  -999.00,9, -999.000,9, -999.000,9,   -999.0,9,   -999.0,9
           NA,     P10,     43,   1,       6,     -99,  2,19931022,1432,   9.4500,  149.3305,  4605,   3794.8,   1.4876,  34.6855,2,  34.6891,2,    154.5,2,  154.400,2,   142.32,2,    35.56,2,     0.00,2,     2.50,2,  -999.00,9, -999.000,9, -999.000,9,   -999.0,9,   -999.0,9
           NA,     P10,     43,   1,       5,     -99,  2,19931022,1432,   9.4500,  149.3305,  4605,   3997.9,   1.4663,  34.6892,2,  34.6875,2,    159.3,2,  159.000,2,   139.89,2,    35.04,2,     0.00,2,     2.47,2,     0.00,2,    0.002,2, -999.000,9,   -999.0,9,   -999.0,9
           NA,     P10,     43,   1,       4,     -99,  2,19931022,1432,   9.4500,  149.3305,  4605,   4189.5,   1.4512,  34.6913,2,  34.6917,2,    163.5,2,  162.900,2,   138.12,2,    35.09,2,     0.00,2,     2.43,2,  -999.00,9, -999.000,9, -999.000,9,   -999.0,9,   -999.0,9
           NA,     P10,     43,   1,       3,     -99,  2,19931022,1432,   9.4500,  149.3305,  4605,   4396.1,   1.4424,  34.6939,2,  34.6921,2,    167.1,2,  166.500,2,   136.42,2,    34.60,2,     0.01,2,     2.40,2,  -999.00,9, -999.000,9, -999.000,9,   -999.0,9,   -999.0,9
           NA,     P10,     43,   1,       2,     -99,  2,19931022,1432,   9.4500,  149.3305,  4605,   4497.8,   1.4416,  34.6946,2,  34.6923,2,    169.1,2,  168.200,2,   135.70,2,    34.40,2,     0.00,2,     2.40,2,  -999.00,9, -999.000,9, -999.000,9,   -999.0,9,   -999.0,9
           NA,     P10,     43,   1,       1,     -99,  2,19931022,1432,   9.4500,  149.3305,  4605,   4718.6,   1.4582,  34.6947,2,  34.6950,2,    169.4,2,  169.600,2,   134.93,2,    34.54,2,    -0.01,2,     2.39,2,    -0.00,2,    0.002,2, -999.000,9,   -999.0,9,   -999.0,9
           NA,     P10,     44,   1,      36,     -99,  2,19931022,1953,   9.6888,  149.3305,  5362,     16.3,  29.0940,  33.8918,2,  33.9098,2,    200.9,2,  207.500,2,     1.23,2,     0.02,2,     0.02,2,     0.11,2,     1.72,2,    0.938,2, -999.000,9,   1878.8,2,   2234.6,2
           NA,     P10,     44,   1,      35,     -99,  3,19931022,1953,   9.6888,  149.3305,  5362,     60.3,  27.5836,  34.6076,2,  34.6106,2,    221.0,2,  217.300,2,     1.55,2,     0.03,2,     0.01,2,     0.14,2,  -999.00,9, -999.000,9, -999.000,9,   -999.0,9,   -999.0,9
           NA,     P10,     44,   1,      34,     -99,  2,19931022,1953,   9.6888,  149.3305,  5362,    109.3,  21.8478,  34.9395,2,  34.9408,2,    202.8,2,  190.200,2,     2.21,2,     0.29,2,     0.05,2,     0.26,2,     2.20,2,    1.137,2, -999.000,9,   2019.6,6,   2308.7,6
           NA,     P10,     44,   1,      33,     -99,  2,19931022,1953,   9.6888,  149.3305,  5362,    158.0,  15.4106,  34.6070,2,  34.6147,2,    144.7,2,  149.900,2,    10.54,2,    11.87,2,     0.05,2,     0.96,2,  -999.00,9, -999.000,9, -999.000,9,   2095.0,2,   2290.6,2
           NA,     P10,     44,   1,      32,     -99,  2,19931022,1953,   9.6888,  149.3305,  5362,    208.1,  12.3324,  34.5391,2,  34.5045,2,   -999.0,3,  107.100,2,    21.17,2,    21.17,2,     0.02,2,     1.58,2,  -999.00,9, -999.000,9, -999.000,9,   2155.8,2,   2288.8,2
           NA,     P10,     44,   1,      31,     -99,  2,19931022,1953,   9.6888,  149.3305,  5362,    307.5,   9.2888,  34.5740,2,  34.5791,2,     53.3,2,   56.900,2,    37.18,2,    32.21,2,     0.01,2,     2.30,2,  -999.00,9, -999.000,9, -999.000,9,   2235.5,2,   2313.2,2
           NA,     P10,     44,   1,      30,     -99,  2,19931022,1953,   9.6888,  149.3305,  5362,    406.8,   8.6215,  34.5903,2,  34.5950,2,     53.5,2,   53.400,2,    40.44,2,    34.17,2,     0.01,2,     2.41,2,  -999.00,9, -999.000,9, -999.000,9,   2248.2,2,   2315.6,2
           NA,     P10,     44,   1,      29,     -99,  2,19931022,1953,   9.6888,  149.3305,  5362,    507.1,   7.7437,  34.5685,2,  34.5699,2,     55.8,2,   54.900,2,    47.14,2,    35.38,2,     0.01,2,     2.54,2,     0.04,2,    0.013,2, -999.000,9,   2258.1,2,   2322.2,2
           NA,     P10,     44,   1,      28,     -99,  2,19931022,1953,   9.6888,  149.3305,  5362,    608.0,   6.7193,  34.5387,2,  34.5420,2,     57.9,2,   59.400,2,    58.41,2,    37.07,2,     0.00,2,     2.65,2,  -999.00,9, -999.000,9, -999.000,9,   2271.0,2,   2335.8,2
           NA,     P10,     44,   1,      27,     -99,  2,19931022,1953,   9.6888,  149.3305,  5362,    705.6,   5.8976,  34.5292,2,  34.5330,2,     64.7,2,   63.000,2,    69.02,2,    38.06,2,     0.01,2,     2.72,2,     0.01,2,    0.003,2, -999.000,9,   2284.2,2,   2353.3,2
           NA,     P10,     44,   1,      26,     -99,  2,19931022,1953,   9.6888,  149.3305,  5362,    795.9,   5.3804,  34.5370,2,  34.5367,2,     65.9,2,   65.700,2,    76.70,2,    38.47,2,     0.00,2,     2.75,2,  -999.00,9, -999.000,9, -999.000,9,   2294.9,2,   2353.8,2
           NA,     P10,     44,   1,      25,     -99,  2,19931022,1953,   9.6888,  149.3305,  5362,    994.7,   4.4354,  34.5540,2,  34.5546,2,     77.9,2,   77.900,2,    93.35,2,    38.62,2,     0.01,2,     2.76,2,    -0.00,2,   -0.001,2, -999.000,9,   2307.9,2,   2372.4,2
           NA,     P10,     44,   1,      24,     -99,  2,19931022,1953,   9.6888,  149.3305,  5362,   1196.9,   3.7291,  34.5747,2,  34.5744,2,     86.8,2,   86.600,2,   107.72,2,    38.92,2,     0.01,2,     2.76,2,    -0.00,2,   -0.001,2, -999.000,9,   2313.9,2,   2387.5,2
           NA,     P10,     44,   1,      23,     -99,  2,19931022,1953,   9.6888,  149.3305,  5362,   1392.8,   3.1682,  34.5933,2,  34.5929,2,     93.3,2,   93.300,2,   118.97,2,    38.68,2,     0.00,2,     2.74,2,  -999.00,9, -999.000,9, -999.000,9,   2328.7,2,   2403.5,2
           NA,     P10,     44,   1,      22,     -99,  2,19931022,1953,   9.6888,  149.3305,  5362,   1595.7,   2.6736,  34.6132,2,-999.0000,4,    100.3,2,  100.400,2,   129.08,2,    38.47,2,     0.01,2,     2.72,2,  -999.00,9, -999.000,9, -999.000,9,   2336.7,2,   2412.7,2
           NA,     P10,     44,   1,      20,     -99,  2,19931022,1953,   9.6888,  149.3305,  5362,   1797.6,   2.3396,  34.6290,2,-999.0000,4,    106.1,2,  106.900,2,   135.93,2,    38.13,2,     0.00,2,     2.70,2,  -999.00,9, -999.000,9, -999.000,9,   2340.3,2,   2419.2,2
           NA,     P10,     44,   1,      19,     -99,  2,19931022,1953,   9.6888,  149.3305,  5362,   1998.6,   2.1612,  34.6362,2,  34.6369,2,    111.7,2, -999.000,4,   139.34,2,    37.92,2,     0.00,2,     2.68,2,  -999.00,9, -999.000,9, -999.000,9,   2342.0,2,   2419.0,2
           NA,     P10,     44,   1,      18,     -99,  2,19931022,1953,   9.6888,  149.3305,  5362,   2249.4,   1.9601,  34.6487,2,  34.6481,2,    117.6,2,  117.900,2,   143.08,2,    37.82,2,     0.00,2,     2.65,2,  -999.00,9, -999.000,9, -999.000,9,   2341.5,2,   2425.3,2
           NA,     P10,     44,   1,      17,     -99,  2,19931022,1953,   9.6888,  149.3305,  5362,   2500.0,   1.7982,  34.6590,2,  34.6579,2,    124.3,2,  124.300,2,   145.51,2,    37.37,2,     0.00,2,     2.61,2,  -999.00,9, -999.000,9, -999.000,9,   2342.5,2,   2428.7,2
           NA,     P10,     44,   1,      16,     -99,  2,19931022,1953,   9.6888,  149.3305,  5362,   2740.7,   1.6915,  34.6662,2,  34.6652,2,    131.0,2,  131.000,2,   146.32,2,    37.07,2,     0.00,2,     2.58,2,  -999.00,9, -999.000,9, -999.000,9,   2334.2,6,   2429.3,2
           NA,     P10,     44,   1,      15,     -99,  2,19931022,1953,   9.6888,  149.3305,  5362,   2992.6,   1.6183,  34.6718,2,  34.6713,2,    137.1,2,  136.600,2,   145.81,2,    36.72,2,     0.00,2,     2.55,2,  -999.00,9, -999.000,9, -999.000,9,   2340.4,2,   2429.0,2
           NA,     P10,     44,   1,      14,     -99,  2,19931022,1953,   9.6888,  149.3305,  5362,   3194.2,   1.5765,  34.6754,2,-999.0000,4,    141.3,2,  140.800,2,   145.81,2,    36.42,2,     0.00,2,     2.54,2,  -999.00,9, -999.000,9, -999.000,9,   2334.8,2,   2423.3,2
           NA,     P10,     44,   1,      13,     -99,  2,19931022,1953,   9.6888,  149.3305,  5362,   3394.6,   1.5408,  34.6791,2,-999.0000,4,    145.6,2, -999.000,4,  -999.00,4,  -999.00,4,  -999.00,4,  -999.00,4,  -999.00,9, -999.000,9, -999.000,9,   -999.0,4,   -999.0,4
           NA,     P10,     44,   1,      12,     -99,  2,19931022,1953,   9.6888,  149.3305,  5362,   3588.1,   1.5054,  34.6821,2,  34.6815,2,    150.4,2,  150.400,2,   142.84,2,    35.76,2,     0.00,2,     2.48,2,  -999.00,9, -999.000,9, -999.000,9,   2326.0,2,   2422.8,2
           NA,     P10,     44,   1,      10,     -99,  2,19931022,1953,   9.6888,  149.3305,  5362,   3799.4,   1.4858,  34.6853,2,  34.6850,2,    154.3,2,  154.600,2,   141.19,2,    35.36,2,     0.00,2,     2.46,2,  -999.00,9, -999.000,9, -999.000,9,   2322.9,2,   2423.8,2
           NA,     P10,     44,   1,       9,     -99,  2,19931022,1953,   9.6888,  149.3305,  5362,   4002.7,   1.4628,  34.6885,2,  34.6897,2,    159.6,2,  159.600,2,   139.39,2,    35.12,2,     0.00,2,     2.44,2,  -999.00,9, -999.000,9, -999.000,9,   2318.6,2,   2425.2,2
           NA,     P10,     44,   1,       8,     -99,  2,19931022,1953,   9.6888,  149.3305,  5362,   4203.6,   1.4449,  34.6914,2,  34.6929,2,    163.8,2,  163.900,2,   137.42,2,    34.77,2,     0.00,2,     2.41,2,  -999.00,9, -999.000,9, -999.000,9,   2314.0,2,   2418.7,2
           NA,     P10,     44,   1,       7,     -99,  2,19931022,1953,   9.6888,  149.3305,  5362,   4395.7,   1.4442,  34.6933,2,  34.6933,2,    166.7,2,  166.500,2,   135.94,2,    34.57,2,    -0.01,2,     2.39,2,  -999.00,9, -999.000,9, -999.000,9,   2310.2,2,   2414.7,2
           NA,     P10,     44,   1,       6,     -99,  2,19931022,1953,   9.6888,  149.3305,  5362,   4592.4,   1.4423,  34.6946,2,  34.6958,2,    170.5,2,  168.900,2,   134.30,2,    34.47,2,    -0.01,2,     2.38,2,  -999.00,9, -999.000,9, -999.000,9,   -999.0,9,   -999.0,9
           NA,     P10,     44,   1,       5,     -99,  2,19931022,1953,   9.6888,  149.3305,  5362,   4595.1,   1.4423,  34.6948,2,  34.6962,2,    170.6,2,  169.400,2,   134.44,2,    34.42,2,    -0.01,2,     2.38,2,  -999.00,9, -999.000,9, -999.000,9,   2307.3,2,   2414.1,2
           NA,     P10,     44,   1,       4,     -99,  2,19931022,1953,   9.6888,  149.3305,  5362,   4794.3,   1.4482,  34.6962,2,  34.6960,2,    172.6,2,  171.800,2,   132.97,2,    34.17,2,    -0.01,2,     2.36,2,  -999.00,9, -999.000,9, -999.000,9,   2304.9,2,   2410.8,2
           NA,     P10,     44,   1,       3,     -99,  2,19931022,1953,   9.6888,  149.3305,  5362,   4996.5,   1.4539,  34.6981,2,  34.6998,2,    174.8,2,  174.200,2,   132.14,2,    33.98,2,    -0.01,2,     2.36,2,  -999.00,9, -999.000,9, -999.000,9,   2303.4,2,   2409.7,2
           NA,     P10,     44,   1,       2,     -99,  2,19931022,1953,   9.6888,  149.3305,  5362,   5194.1,   1.4646,  34.6991,2,  34.6996,2,    177.1,2,  176.300,2,   130.67,2,    33.67,2,    -0.01,2,     2.35,2,  -999.00,9, -999.000,9, -999.000,9,   2298.4,2,   2410.8,2
           NA,     P10,     44,   1,       1,     -99,  2,19931022,1953,   9.6888,  149.3305,  5362,   5427.8,   1.4925,  34.6992,2,  34.6986,2,    176.5,2,  176.100,2,   130.35,2,    33.70,2,     0.00,2,     2.34,2,  -999.00,3,    0.007,2, -999.000,9,   2299.4,2,   2407.7,2