BOTTLE,20210102JOAExport
EXPOCODE,SECT_ID,STNNBR,CASTNO,SAMPNO,BTLNBR,BTLNBR_FLAG_W,DATE,TIME,LATITUDE,LONGITUDE,DEPTH,CTDPRS,CTDTMP,CTDSAL,CTDSAL_FLAG_W,SALNTY,SALNTY_FLAG_W,CTDOXY,CTDOXY_FLAG_W,OXYGEN,OXYGEN_FLAG_W,SILCAT,SILCAT_FLAG_W,NITRAT,NITRAT_FLAG_W,NITRIT,NITRIT_FLAG_W,PHSPHT,PHSPHT_FLAG_W,CFC-11,CFC-11_FLAG_W,CFC-12,CFC-12_FLAG_W,SF6,SF6_FLAG_W,TCARBN,TCARBN_FLAG_W,ALKALI,ALKALI_FLAG_W
,,,,,,,,,,,,DB,ITS-90,PSS-78,,PSS-78,,UMOL/KG,,UMOL/KG,,UMOL/KG,,UMOL/KG,,UMOL/KG,,UMOL/KG,,PMOL/KG,,PMOL/KG,,FMOL/KG,,UMOL/KG,,UMOL/KG
           NA,     P10,     31,   1,      36,     -99,  2,19931019,0935,   3.4917,  147.2278,  4597,     14.9,  28.8652,  34.0935,2,-999.0000,9,    215.4,2,  213.600,2,  -999.00,9,  -999.00,9,  -999.00,9,  -999.00,9,     1.75,2,    0.938,2, -999.000,9,   -999.0,9,   -999.0,9
           NA,     P10,     31,   1,      30,     -99,  2,19931019,0935,   3.4917,  147.2278,  4597,     58.1,  28.6024,  34.2065,2,  34.2080,2,    214.9,2,  213.700,2,     1.76,2,     0.01,2,     0.00,2,     0.06,2,     1.71,2,    0.901,2, -999.000,9,   -999.0,9,   -999.0,9
           NA,     P10,     31,   1,      29,     -99,  2,19931019,0935,   3.4917,  147.2278,  4597,    106.5,  25.5128,  34.5083,2,  34.5025,2,   -999.0,3,  192.300,2,     3.24,2,     0.74,2,     0.44,2,     0.22,2,     1.80,2,    0.925,2, -999.000,9,   -999.0,9,   -999.0,9
           NA,     P10,     31,   1,      28,     -99,  2,19931019,0935,   3.4917,  147.2278,  4597,    155.7,  16.8215,  34.6801,2,  34.6719,2,    161.6,2,  145.600,2,    12.61,2,    11.93,2,     0.00,2,     0.93,2,     1.80,2,    0.880,2, -999.000,9,   -999.0,9,   -999.0,9
           NA,     P10,     31,   1,      27,     -99,  2,19931019,0935,   3.4917,  147.2278,  4597,    205.5,  11.3354,  34.4853,2,  34.4727,2,    110.1,2,  117.500,2,    28.70,2,    22.80,2,     0.00,2,     1.66,2,     1.08,6,    0.522,6, -999.000,9,   -999.0,9,   -999.0,9
           NA,     P10,     31,   1,      26,     -99,  2,19931019,0935,   3.4917,  147.2278,  4597,    255.3,   9.6498,  34.4983,2,  34.5055,2,     85.8,2,   95.800,2,    37.40,2,    28.04,2,     0.00,2,     2.01,2,     0.60,2,    0.284,2, -999.000,9,   -999.0,9,   -999.0,9
           NA,     P10,     31,   1,      25,     -99,  2,19931019,0935,   3.4917,  147.2278,  4597,    305.1,   8.8574,  34.5782,2,  34.5829,2,     84.7,2,   89.700,2,    38.39,2,    30.51,2,     0.00,2,     2.16,2,     0.61,2,    0.317,2, -999.000,9,   -999.0,9,   -999.0,9
           NA,     P10,     31,   1,      24,     -99,  2,19931019,0935,   3.4917,  147.2278,  4597,    405.5,   8.4215,  34.6171,2,  34.6104,2,    103.3,2,  103.800,2,    34.62,2,    30.46,2,     0.00,2,     2.14,2,     0.20,2,    0.101,2, -999.000,9,   -999.0,9,   -999.0,9
           NA,     P10,     31,   1,      23,     -99,  2,19931019,0935,   3.4917,  147.2278,  4597,    505.4,   7.8601,  34.5860,2,  34.5874,2,     88.2,2,   89.400,2,    40.21,2,    32.71,2,     0.00,2,     2.30,2,  -999.00,9, -999.000,9, -999.000,9,   -999.0,9,   -999.0,9
           NA,     P10,     31,   1,      22,     -99,  2,19931019,0935,   3.4917,  147.2278,  4597,    605.6,   7.1571,  34.5580,2,-999.0000,4,     94.3,2,   88.500,2,    46.95,2,    34.21,2,     0.00,2,     2.42,2,     0.06,2,    0.033,2, -999.000,9,   -999.0,9,   -999.0,9
           NA,     P10,     31,   1,      21,     -99,  3,19931019,0935,   3.4917,  147.2278,  4597,    705.8,   6.4699,  34.5494,2,  34.5479,2,     81.7,2,   81.900,2,    54.33,2,    36.09,2,     0.00,2,     2.56,2,     0.03,2,    0.010,2, -999.000,9,   -999.0,9,   -999.0,9
           NA,     P10,     31,   1,      20,     -99,  2,19931019,0935,   3.4917,  147.2278,  4597,    805.8,   5.6413,  34.5450,2,-999.0000,4,     80.5,2,   79.900,2,    66.64,2,    37.86,2,     0.00,2,     2.69,2,     0.01,2,    0.003,2, -999.000,9,   -999.0,9,   -999.0,9
           NA,     P10,     31,   1,      19,     -99,  2,19931019,0935,   3.4917,  147.2278,  4597,    906.1,   5.1779,  34.5473,2,  34.5483,2,     83.7,2,   82.200,2,    74.03,2,    38.50,2,     0.00,2,     2.73,2,     0.00,2,    0.005,2, -999.000,9,   -999.0,9,   -999.0,9
           NA,     P10,     31,   1,      18,     -99,  2,19931019,0935,   3.4917,  147.2278,  4597,   1006.5,   4.8694,  34.5515,2,  34.5520,2,   -999.0,3,   84.200,2,    79.78,2,    38.45,2,     0.00,2,     2.74,2,  -999.00,3, -999.000,3, -999.000,9,   -999.0,9,   -999.0,9
           NA,     P10,     31,   1,      16,     -99,  2,19931019,0935,   3.4917,  147.2278,  4597,   1408.0,   3.2459,  34.5941,2,  34.5941,2,     95.0,2,   95.000,2,   115.85,2,    38.82,2,     0.00,2,     2.76,2,  -999.00,9, -999.000,9, -999.000,9,   -999.0,9,   -999.0,9
           NA,     P10,     31,   1,      15,     -99,  2,19931019,0935,   3.4917,  147.2278,  4597,   1609.0,   2.7993,  34.6108,2,  34.6113,2,    100.2,2,   99.300,2,   126.02,2,    38.72,2,     0.00,2,     2.76,2,  -999.00,9, -999.000,9, -999.000,9,   -999.0,9,   -999.0,9
           NA,     P10,     31,   1,      14,     -99,  2,19931019,0935,   3.4917,  147.2278,  4597,   1810.4,   2.4889,  34.6255,2,  34.6298,2,    106.9,2,  107.900,2,   131.43,2,    38.35,2,     0.00,2,     2.76,2,  -999.00,9, -999.000,9, -999.000,9,   -999.0,9,   -999.0,9
           NA,     P10,     31,   1,      13,     -99,  4,19931019,0935,   3.4917,  147.2278,  4597,   2011.7,   2.2066,-999.0000,3,-999.0000,4,   -999.0,3, -999.000,4,  -999.00,4,  -999.00,4,  -999.00,4,  -999.00,4,  -999.00,9, -999.000,9, -999.000,9,   -999.0,9,   -999.0,9
           NA,     P10,     31,   1,      12,     -99,  2,19931019,0935,   3.4917,  147.2278,  4597,   2212.7,   2.0192,  34.6486,2,-999.0000,3,    120.3,2,  121.000,2,   139.48,2,    37.61,2,     0.00,2,     2.67,2,  -999.00,9, -999.000,9, -999.000,9,   -999.0,9,   -999.0,9
           NA,     P10,     31,   1,      10,     -99,  2,19931019,0935,   3.4917,  147.2278,  4597,   2616.1,   1.7492,  34.6647,2,  34.6683,2,    131.6,2,  132.300,2,   142.76,2,    36.86,2,     0.00,2,     2.62,2,  -999.00,9, -999.000,9, -999.000,9,   -999.0,9,   -999.0,9
           NA,     P10,     31,   1,       9,     -99,  2,19931019,0935,   3.4917,  147.2278,  4597,   2817.4,   1.6741,  34.6690,2,  34.6724,2,    137.1,2,  137.500,2,   142.44,2,    36.54,2,     0.00,2,     2.59,2,  -999.00,9, -999.000,9, -999.000,9,   -999.0,9,   -999.0,9
           NA,     P10,     31,   1,       8,     -99,  2,19931019,0935,   3.4917,  147.2278,  4597,   3018.2,   1.6242,  34.6728,2,  34.6756,2,    140.6,2,  141.300,2,   142.92,2,    36.33,2,     0.00,2,     2.57,2,  -999.00,3,    0.004,2, -999.000,9,   -999.0,9,   -999.0,9
           NA,     P10,     31,   1,       7,     -99,  2,19931019,0935,   3.4917,  147.2278,  4597,   3268.9,   1.5979,  34.6763,2,  34.6764,2,    143.5,2,  144.100,2,   142.60,2,    36.12,2,     0.00,2,     2.55,2,  -999.00,9, -999.000,9, -999.000,9,   -999.0,9,   -999.0,9
           NA,     P10,     31,   1,       6,     -99,  2,19931019,0935,   3.4917,  147.2278,  4597,   3518.4,   1.5632,  34.6801,2,  34.6807,2,    146.9,2,  147.700,2,   142.28,2,    35.96,2,     0.00,2,     2.54,2,  -999.00,9, -999.000,9, -999.000,9,   -999.0,9,   -999.0,9
           NA,     P10,     31,   1,       5,     -99,  2,19931019,0935,   3.4917,  147.2278,  4597,   3767.2,   1.5409,  34.6832,2,  34.6856,2,    151.0,2,  150.500,2,   141.79,2,    35.75,2,     0.00,2,     2.53,2,     0.00,2,   -0.001,2, -999.000,9,   -999.0,9,   -999.0,9
           NA,     P10,     31,   1,       4,     -99,  2,19931019,0935,   3.4917,  147.2278,  4597,   4002.9,   1.5244,  34.6863,2,  34.6860,2,    154.4,2,  153.300,2,   141.30,2,    35.60,2,     0.00,2,     2.51,2,  -999.00,9, -999.000,9, -999.000,9,   -999.0,9,   -999.0,9
           NA,     P10,     31,   1,       3,     -99,  2,19931019,0935,   3.4917,  147.2278,  4597,   4209.1,   1.5339,  34.6872,2,  34.6891,2,    155.4,2,  154.500,2,   141.31,2,    35.55,2,     0.00,2,     2.51,2,  -999.00,9, -999.000,9, -999.000,9,   -999.0,9,   -999.0,9
           NA,     P10,     31,   1,       2,     -99,  2,19931019,0935,   3.4917,  147.2278,  4597,   4404.6,   1.5502,  34.6879,2,  34.6895,2,    156.6,2,  154.900,2,   141.14,2,    35.49,2,     0.00,2,     2.50,2,  -999.00,9, -999.000,9, -999.000,9,   -999.0,9,   -999.0,9
           NA,     P10,     31,   1,       1,     -99,  2,19931019,0935,   3.4917,  147.2278,  4597,   4656.0,   1.5743,  34.6886,2,  34.6870,2,    154.5,2,  155.700,2,   140.69,2,    35.48,2,     0.00,2,     2.48,2,  -999.00,3,    0.001,2, -999.000,9,   -999.0,9,   -999.0,9
           NA,     P10,     32,   1,      27,     -99,  2,19931019,1536,   3.9972,  147.4333,  4120,     49.8,  29.0275,  34.2651,2,  34.2631,2,    224.5,2,  213.800,2,     1.85,2,    -0.02,2,     0.01,2,     0.04,2,     1.72,2,    0.933,2, -999.000,9,   -999.0,9,   -999.0,9
           NA,     P10,     32,   1,      26,     -99,  2,19931019,1536,   3.9972,  147.4333,  4120,     98.9,  27.4904,  34.3283,2,  34.3316,2,    216.0,2,  211.900,2,     2.19,2,     0.09,2,     0.01,2,     0.08,2,     1.76,2,    0.940,2, -999.000,9,   -999.0,9,   -999.0,9
           NA,     P10,     32,   1,      25,     -99,  2,19931019,1536,   3.9972,  147.4333,  4120,    143.3,  20.3677,  34.7040,2,  34.7041,2,    146.5,2,  158.600,2,     7.57,2,     6.66,2,     0.04,2,     0.60,2,     1.84,6,    0.946,6, -999.000,9,   -999.0,9,   -999.0,9
           NA,     P10,     32,   1,      24,     -99,  2,19931019,1536,   3.9972,  147.4333,  4120,    195.6,  11.4461,  34.4805,2,  34.4762,2,    111.8,2,  117.800,2,    28.23,2,    22.39,2,     0.01,2,     1.61,2,  -999.00,4, -999.000,4, -999.000,9,   -999.0,9,   -999.0,9
           NA,     P10,     32,   1,      23,     -99,  3,19931019,1536,   3.9972,  147.4333,  4120,    245.6,   9.4711,  34.5028,2,  34.5031,2,     92.6,2,   87.600,2,    36.37,2,    28.63,2,     0.01,2,     2.05,2,  -999.00,9, -999.000,9, -999.000,9,   -999.0,9,   -999.0,9
           NA,     P10,     32,   1,      22,     -99,  2,19931019,1536,   3.9972,  147.4333,  4120,    295.4,   9.2271,  34.6057,2,  34.6021,2,     59.7,2,   58.000,2,    36.88,2,    32.43,2,     0.01,2,     2.30,2,     0.19,2,    0.079,2, -999.000,9,   -999.0,9,   -999.0,9
           NA,     P10,     32,   1,      21,     -99,  2,19931019,1536,   3.9972,  147.4333,  4120,    396.6,   8.1697,  34.5916,2,  34.5909,2,     68.9,2,   71.500,2,    40.64,2,    33.41,2,     0.03,2,     2.36,2,     0.11,2,    0.053,2, -999.000,9,   -999.0,9,   -999.0,9
           NA,     P10,     32,   1,      20,     -99,  2,19931019,1536,   3.9972,  147.4333,  4120,    496.3,   7.3407,  34.5686,2,  34.5650,2,     81.6,2,   84.500,2,    44.89,2,    33.92,2,     0.00,2,     2.40,2,     0.08,2,    0.043,2, -999.000,9,   -999.0,9,   -999.0,9
           NA,     P10,     32,   1,      19,     -99,  2,19931019,1536,   3.9972,  147.4333,  4120,    596.2,   6.7229,  34.5494,2,  34.5487,2,     98.8,2,   99.300,2,    48.00,2,    33.80,2,     0.01,2,     2.38,2,     0.06,2,    0.032,2, -999.000,9,   -999.0,9,   -999.0,9
           NA,     P10,     32,   1,      18,     -99,  2,19931019,1536,   3.9972,  147.4333,  4120,    746.0,   5.9157,  34.5460,2,-999.0000,4,     75.7,2,   76.200,2,    62.18,2,    37.50,2,     0.01,2,     2.67,2,     0.01,2,    0.007,2, -999.000,9,   -999.0,9,   -999.0,9
           NA,     P10,     32,   1,      17,     -99,  2,19931019,1536,   3.9972,  147.4333,  4120,    796.2,   5.6495,  34.5442,2,-999.0000,3,     79.0,2,   81.400,2,    65.61,2,    37.40,2,     0.01,2,     2.65,2,     0.01,2,    0.006,2, -999.000,9,   -999.0,9,   -999.0,9
           NA,     P10,     32,   1,      16,     -99,  2,19931019,1536,   3.9972,  147.4333,  4120,    894.7,   5.2390,  34.5438,2,  34.5448,2,     86.0,2,   84.700,2,    73.45,2,    37.46,2,     0.00,2,     2.67,2,     0.01,2,    0.004,2, -999.000,9,   -999.0,9,   -999.0,9
           NA,     P10,     32,   1,      15,     -99,  2,19931019,1536,   3.9972,  147.4333,  4120,    995.7,   4.7272,  34.5502,2,-999.0000,3,     89.4,2,   88.500,2,    84.53,2,    37.57,2,    -0.01,2,     2.68,2,     0.01,2,    0.008,2, -999.000,9,   -999.0,9,   -999.0,9
           NA,     P10,     32,   1,      14,     -99,  2,19931019,1536,   3.9972,  147.4333,  4120,   1196.1,   3.9673,  34.5694,2,  34.5703,2,     92.4,2,   91.900,2,   100.34,2,  -999.00,3,     0.01,2,     2.72,2,     0.00,2,    0.003,2, -999.000,9,   -999.0,9,   -999.0,9
           NA,     P10,     32,   1,      13,     -99,  2,19931019,1536,   3.9972,  147.4333,  4120,   1379.6,   3.3954,  34.5881,2,  34.5897,2,     92.7,2,   92.100,2,   112.57,2,    38.63,2,    -0.01,2,     2.75,2,  -999.00,9, -999.000,9, -999.000,9,   -999.0,9,   -999.0,9
           NA,     P10,     32,   1,      12,     -99,  2,19931019,1536,   3.9972,  147.4333,  4120,   1595.8,   2.8722,  34.6074,2,  34.6094,2,     96.7,2,   97.300,2,   123.66,2,    38.55,2,     0.01,2,     2.75,2,  -999.00,9, -999.000,9, -999.000,9,   -999.0,9,   -999.0,9
           NA,     P10,     32,   1,      11,     -99,  2,19931019,1536,   3.9972,  147.4333,  4120,   1797.6,   2.5525,  34.6216,2,-999.0000,4,    104.3,2,  105.600,2,   129.87,2,  -999.00,3,     0.01,2,     2.72,2,  -999.00,9, -999.000,9, -999.000,9,   -999.0,9,   -999.0,9
           NA,     P10,     32,   1,      10,     -99,  2,19931019,1536,   3.9972,  147.4333,  4120,   1995.5,   2.2704,  34.6350,2,  34.6359,2,    111.7,2,  111.300,2,   135.60,2,    38.20,2,    -0.01,2,     2.71,2,  -999.00,9, -999.000,9, -999.000,9,   -999.0,9,   -999.0,9
           NA,     P10,     32,   1,       9,     -99,  3,19931019,1536,   3.9972,  147.4333,  4120,   2258.7,   1.9487,  34.6519,2,  34.6487,2,    120.1,2,  119.200,2,   139.05,2,    37.43,2,     0.01,2,     2.65,2,  -999.00,9, -999.000,9, -999.000,9,   -999.0,9,   -999.0,9
           NA,     P10,     32,   1,       8,     -99,  2,19931019,1536,   3.9972,  147.4333,  4120,   2462.2,   1.7871,  34.6608,2,  34.6618,2,    129.4,2,  129.300,2,   142.34,2,    37.06,2,     0.01,2,     2.61,2,    -0.00,2,    0.001,2, -999.000,9,   -999.0,9,   -999.0,9
           NA,     P10,     32,   1,       7,     -99,  2,19931019,1536,   3.9972,  147.4333,  4120,   2745.1,   1.6933,  34.6669,2,  34.6675,2,    136.2,2,  136.600,2,   141.89,2,    36.53,2,     0.01,2,     2.58,2,  -999.00,9, -999.000,9, -999.000,9,   -999.0,9,   -999.0,9
           NA,     P10,     32,   1,       6,     -99,  2,19931019,1536,   3.9972,  147.4333,  4120,   2996.2,   1.6362,  34.6721,2,  34.6715,2,    140.9,2,  140.500,2,   142.08,2,    36.23,2,     0.00,2,     2.57,2,  -999.00,9, -999.000,9, -999.000,9,   -999.0,9,   -999.0,9
           NA,     P10,     32,   1,       5,     -99,  2,19931019,1536,   3.9972,  147.4333,  4120,   3244.5,   1.5813,  34.6770,2,  34.6768,2,    145.4,2,  145.000,2,   141.79,2,    35.97,2,    -0.01,2,     2.53,2,  -999.00,9, -999.000,9, -999.000,9,   -999.0,9,   -999.0,9
           NA,     P10,     32,   1,       4,     -99,  2,19931019,1536,   3.9972,  147.4333,  4120,   3496.7,   1.5459,  34.6803,2,  34.6838,2,    149.0,2,  149.000,2,   141.17,2,    35.65,2,     0.00,2,     2.51,2,  -999.00,9, -999.000,9, -999.000,9,   -999.0,9,   -999.0,9
           NA,     P10,     32,   1,       3,     -99,  2,19931019,1536,   3.9972,  147.4333,  4120,   3744.9,   1.5254,  34.6838,2,  34.6836,2,    152.9,2,  151.900,2,   141.05,2,    35.60,2,    -0.01,2,     2.50,2,  -999.00,9, -999.000,9, -999.000,9,   -999.0,9,   -999.0,9
           NA,     P10,     32,   1,       2,     -99,  2,19931019,1536,   3.9972,  147.4333,  4120,   3996.0,   1.5283,  34.6857,2,  34.6856,2,    154.4,2,  153.500,2,   140.75,2,    35.49,2,     0.00,2,     2.49,2,  -999.00,9, -999.000,9, -999.000,9,   -999.0,9,   -999.0,9
           NA,     P10,     32,   1,       1,     -99,  2,19931019,1536,   3.9972,  147.4333,  4120,   4167.6,   1.5317,  34.6865,2,  34.6876,2,    153.2,2,  154.300,2,   140.20,2,    35.31,2,     0.00,2,     2.48,2,  -999.00,3,    0.002,6, -999.000,9,   -999.0,9,   -999.0,9