BOTTLE,20210102JOAExport
EXPOCODE,SECT_ID,STNNBR,CASTNO,SAMPNO,BTLNBR,BTLNBR_FLAG_W,DATE,TIME,LATITUDE,LONGITUDE,DEPTH,CTDPRS,CTDTMP,CTDSAL,CTDSAL_FLAG_W,SALNTY,SALNTY_FLAG_W,CTDOXY,CTDOXY_FLAG_W,OXYGEN,OXYGEN_FLAG_W,SILCAT,SILCAT_FLAG_W,NITRAT,NITRAT_FLAG_W,NITRIT,NITRIT_FLAG_W,PHSPHT,PHSPHT_FLAG_W,CFC-11,CFC-11_FLAG_W,CFC-12,CFC-12_FLAG_W,SF6,SF6_FLAG_W,TCARBN,TCARBN_FLAG_W,ALKALI,ALKALI_FLAG_W
,,,,,,,,,,,,DB,ITS-90,PSS-78,,PSS-78,,UMOL/KG,,UMOL/KG,,UMOL/KG,,UMOL/KG,,UMOL/KG,,UMOL/KG,,PMOL/KG,,PMOL/KG,,FMOL/KG,,UMOL/KG,,UMOL/KG
           NA,     P10,     50,   1,      36,     -99,  2,19931025,0234,  13.1638,  149.3250,  5967,     17.9,  29.4594,  34.5412,2,  34.5406,2,    198.3,2,  200.000,2,     1.11,2,     0.03,2,     0.01,2,     0.12,2,     1.75,2,    0.973,2, -999.000,9,   -999.0,9,   -999.0,9
           NA,     P10,     50,   1,      35,     -99,  2,19931025,0234,  13.1638,  149.3250,  5967,     47.6,  29.2663,  34.5755,2,  34.5758,2,    200.6,2,  199.900,2,     1.11,2,     0.04,2,     0.01,2,     0.12,2,     1.74,2,    0.969,2, -999.000,9,   -999.0,9,   -999.0,9
           NA,     P10,     50,   1,      34,     -99,  2,19931025,0234,  13.1638,  149.3250,  5967,     96.2,  26.4526,  34.8348,2,  34.8334,2,    217.3,2,  216.100,2,     0.94,2,    -0.02,2,     0.01,2,     0.10,2,     2.00,2,    1.094,2, -999.000,9,   -999.0,9,   -999.0,9
           NA,     P10,     50,   1,      33,     -99,  2,19931025,0234,  13.1638,  149.3250,  5967,    146.4,  23.9849,  35.0037,2,  35.0099,2,    195.9,2,  200.400,2,     1.11,2,     0.03,2,     0.02,2,     0.14,2,     2.14,2,    1.145,2, -999.000,9,   -999.0,9,   -999.0,9
           NA,     P10,     50,   1,      32,     -99,  2,19931025,0234,  13.1638,  149.3250,  5967,    197.0,  19.2950,  34.9114,2,  34.9243,2,    167.8,2,  170.800,2,     3.73,2,     4.23,2,     0.02,2,     0.48,2,     2.32,2,    1.206,2, -999.000,9,   -999.0,9,   -999.0,9
           NA,     P10,     50,   1,      31,     -99,  2,19931025,0234,  13.1638,  149.3250,  5967,    246.4,  13.6555,  34.4724,2,  34.4988,2,    172.8,2,  173.500,2,    11.76,2,    11.94,2,     0.01,2,     0.94,2,     2.30,2,    1.165,2, -999.000,9,   -999.0,9,   -999.0,9
           NA,     P10,     50,   1,      30,     -99,  2,19931025,0234,  13.1638,  149.3250,  5967,    297.8,  11.3888,  34.3331,2,  34.3324,2,    159.3,2,  143.300,2,    21.02,2,    18.90,2,     0.01,2,     1.45,2,     1.65,6,    0.803,6, -999.000,9,   -999.0,9,   -999.0,9
           NA,     P10,     50,   1,      29,     -99,  2,19931025,0234,  13.1638,  149.3250,  5967,    348.4,   9.7679,  34.3164,2,  34.3161,2,    111.2,2,  105.100,2,    32.02,2,    25.54,2,     0.01,2,     1.92,2,     0.96,2,    0.470,2, -999.000,9,   -999.0,9,   -999.0,9
           NA,     P10,     50,   1,      28,     -99,  2,19931025,0234,  13.1638,  149.3250,  5967,    397.6,   8.5433,  34.3388,2,  34.3398,2,     73.1,2,   73.900,2,    42.49,2,    30.70,2,     0.01,2,     2.29,2,     0.42,2,    0.189,2, -999.000,9,   -999.0,9,   -999.0,9
           NA,     P10,     50,   1,      27,     -99,  2,19931025,0234,  13.1638,  149.3250,  5967,    495.6,   7.0875,  34.4255,2,  34.4242,2,     53.5,2,   55.600,2,    58.03,2,    35.64,2,     0.01,2,     2.62,2,     0.08,2,    0.030,2, -999.000,9,   -999.0,9,   -999.0,9
           NA,     P10,     50,   1,      26,     -99,  2,19931025,0234,  13.1638,  149.3250,  5967,    596.7,   6.2461,  34.4708,2,  34.4695,2,     57.4,2,   59.400,2,    67.64,2,    37.23,2,     0.01,2,     2.71,2,     0.03,2,    0.004,2, -999.000,9,   -999.0,9,   -999.0,9
           NA,     P10,     50,   1,      25,     -99,  2,19931025,0234,  13.1638,  149.3250,  5967,    693.0,   5.6573,  34.4938,2,  34.4927,2,     60.5,2,   61.500,2,    75.84,2,    38.30,2,     0.01,2,     2.76,2,     0.01,2,    0.006,2, -999.000,9,   -999.0,9,   -999.0,9
           NA,     P10,     50,   1,      24,     -99,  2,19931025,0234,  13.1638,  149.3250,  5967,    795.2,   5.1529,  34.5111,2,  34.5100,2,     62.8,2,   64.800,2,    84.05,2,    38.88,2,     0.01,2,     2.81,2,     0.01,2,    0.007,2, -999.000,9,   -999.0,9,   -999.0,9
           NA,     P10,     50,   1,      23,     -99,  2,19931025,0234,  13.1638,  149.3250,  5967,    895.8,   4.6673,  34.5264,2,  34.5261,2,     62.5,2,   63.200,2,    92.95,2,    39.69,2,     0.00,2,     2.86,2,     0.00,2,   -0.001,2, -999.000,9,   -999.0,9,   -999.0,9
           NA,     P10,     50,   1,      22,     -99,  2,19931025,0234,  13.1638,  149.3250,  5967,    993.6,   4.2696,  34.5428,2,  34.5420,2,     63.5,2,   61.200,2,   100.98,2,    40.48,2,     0.01,2,     2.93,2,     0.00,2,    0.002,2, -999.000,9,   -999.0,9,   -999.0,9
           NA,     P10,     50,   1,      21,     -99,  2,19931025,0234,  13.1638,  149.3250,  5967,   1197.0,   3.5876,  34.5630,2,  34.5614,2,     76.1,2,   78.600,2,   114.24,2,    39.58,2,     0.01,2,     2.84,2,  -999.00,3,    0.001,2, -999.000,9,   -999.0,9,   -999.0,9
           NA,     P10,     50,   1,      20,     -99,  2,19931025,0234,  13.1638,  149.3250,  5967,   1404.6,   2.9842,  34.5848,2,  34.5836,2,     86.5,2,   86.100,2,   126.47,2,    39.54,2,     0.00,2,     2.82,2,  -999.00,9, -999.000,9, -999.000,9,   -999.0,9,   -999.0,9
           NA,     P10,     50,   1,      19,     -99,  2,19931025,0234,  13.1638,  149.3250,  5967,   1602.0,   2.5979,  34.6015,2,  34.5997,2,     93.6,2,   94.400,2,   134.14,2,    39.23,2,     0.00,2,     2.79,2,  -999.00,9, -999.000,9, -999.000,9,   -999.0,9,   -999.0,9
           NA,     P10,     50,   1,      18,     -99,  2,19931025,0234,  13.1638,  149.3250,  5967,   1799.7,   2.2929,  34.6207,2,  34.6198,2,   -999.0,3,  102.900,2,   139.37,2,    38.74,2,     0.01,2,     2.74,2,  -999.00,9, -999.000,9, -999.000,9,   -999.0,9,   -999.0,9
           NA,     P10,     50,   1,      17,     -99,  2,19931025,0234,  13.1638,  149.3250,  5967,   1997.2,   2.0974,  34.6342,2,  34.6329,2,    109.6,2,  111.800,2,   141.65,2,    38.27,2,     0.00,2,     2.72,2,  -999.00,3,    0.002,2, -999.000,9,   -999.0,9,   -999.0,9
           NA,     P10,     50,   1,      16,     -99,  2,19931025,0234,  13.1638,  149.3250,  5967,   2242.4,   1.9167,  34.6480,2,  34.6483,2,    117.0,2,  119.200,2,   144.25,2,    37.90,2,     0.00,2,     2.68,2,  -999.00,9, -999.000,9, -999.000,9,   -999.0,9,   -999.0,9
           NA,     P10,     50,   1,      15,     -99,  2,19931025,0234,  13.1638,  149.3250,  5967,   2494.1,   1.7719,  34.6577,2,  34.6559,2,    123.5,2,  125.000,2,   146.71,2,    37.59,2,     0.00,2,     2.66,2,  -999.00,9, -999.000,9, -999.000,9,   -999.0,9,   -999.0,9
           NA,     P10,     50,   1,      14,     -99,  2,19931025,0234,  13.1638,  149.3250,  5967,   2756.9,   1.6935,  34.6651,2,  34.6648,2,    128.8,2,  129.100,2,   148.44,2,    37.38,2,     0.00,2,     2.63,2,  -999.00,9, -999.000,9, -999.000,9,   -999.0,9,   -999.0,9
           NA,     P10,     50,   1,      13,     -99,  2,19931025,0234,  13.1638,  149.3250,  5967,   2992.8,   1.6088,  34.6716,2,  34.6722,2,    135.0,2,  135.400,2,   147.91,2,    36.86,2,     0.00,2,     2.60,2,  -999.00,9, -999.000,9, -999.000,9,   -999.0,9,   -999.0,9
           NA,     P10,     50,   1,      12,     -99,  2,19931025,0234,  13.1638,  149.3250,  5967,   3246.9,   1.5453,  34.6774,2,  34.6764,2,    141.7,2,  142.100,2,   147.22,2,    36.53,2,     0.00,2,     2.57,2,  -999.00,9, -999.000,9, -999.000,9,   -999.0,9,   -999.0,9
           NA,     P10,     50,   1,      11,     -99,  2,19931025,0234,  13.1638,  149.3250,  5967,   3494.7,   1.5044,  34.6812,2,-999.0000,4,    147.5,2, -999.000,4,  -999.00,4,  -999.00,4,  -999.00,4,  -999.00,4,  -999.00,9, -999.000,9, -999.000,9,   -999.0,9,   -999.0,9
           NA,     P10,     50,   1,      10,     -99,  2,19931025,0234,  13.1638,  149.3250,  5967,   3744.1,   1.4826,  34.6847,2,  34.6831,2,    153.5,2,  152.800,2,   143.37,2,    35.74,2,     0.00,2,     2.51,2,  -999.00,9, -999.000,9, -999.000,9,   -999.0,9,   -999.0,9
           NA,     P10,     50,   1,       9,     -99,  2,19931025,0234,  13.1638,  149.3250,  5967,   3993.9,   1.4668,  34.6878,2,  34.6864,2,    159.0,2,  157.600,2,   141.27,2,    35.37,2,     0.00,2,     2.48,2,     0.00,2,    0.000,2, -999.000,9,   -999.0,9,   -999.0,9
           NA,     P10,     50,   1,       8,     -99,  2,19931025,0234,  13.1638,  149.3250,  5967,   4238.5,   1.4572,  34.6905,2,  34.6897,2,    163.9,2,  162.400,2,   138.83,2,    35.11,2,     0.00,2,     2.45,2,  -999.00,9, -999.000,9, -999.000,9,   -999.0,9,   -999.0,9
           NA,     P10,     50,   1,       7,     -99,  2,19931025,0234,  13.1638,  149.3250,  5967,   4495.4,   1.4521,  34.6929,2,  34.6915,2,    168.1,2,  166.600,2,   136.73,2,    34.80,2,     0.00,2,     2.42,2,  -999.00,9, -999.000,9, -999.000,9,   -999.0,9,   -999.0,9
           NA,     P10,     50,   1,       6,     -99,  2,19931025,0234,  13.1638,  149.3250,  5967,   4728.6,   1.4519,  34.6951,2,  34.6956,2,    170.9,2,  170.300,2,   134.45,2,    34.42,2,     0.00,2,     2.40,2,  -999.00,9, -999.000,9, -999.000,9,   -999.0,9,   -999.0,9
           NA,     P10,     50,   1,       5,     -99,  3,19931025,0234,  13.1638,  149.3250,  5967,   4991.1,   1.4621,-999.0000,3,-999.0000,4,   -999.0,3, -999.000,4,  -999.00,4,  -999.00,4,  -999.00,4,  -999.00,4,  -999.00,9, -999.000,9, -999.000,9,   -999.0,9,   -999.0,9
           NA,     P10,     50,   1,       4,     -99,  2,19931025,0234,  13.1638,  149.3250,  5967,   5244.6,   1.4788,  34.6982,2,  34.6972,2,    175.7,2,  175.000,2,   132.19,2,    34.12,2,    -0.01,2,     2.38,2,  -999.00,9, -999.000,9, -999.000,9,   -999.0,9,   -999.0,9
           NA,     P10,     50,   1,       3,     -99,  2,19931025,0234,  13.1638,  149.3250,  5967,   5495.4,   1.5023,  34.6981,2,  34.6972,2,    176.4,2,  176.200,2,   131.66,2,    34.06,2,     0.00,2,     2.38,2,    -0.00,2,   -0.001,2, -999.000,9,   -999.0,9,   -999.0,9
           NA,     P10,     50,   1,       2,     -99,  2,19931025,0234,  13.1638,  149.3250,  5967,   5754.8,   1.5313,  34.6988,2,  34.6972,2,    176.7,2,  176.900,2,   131.31,2,    34.07,2,    -0.01,2,     2.37,2,  -999.00,9, -999.000,9, -999.000,9,   -999.0,9,   -999.0,9
           NA,     P10,     50,   1,       1,     -99,  2,19931025,0234,  13.1638,  149.3250,  5967,   6067.9,   1.5670,  34.6992,2,  34.7002,2,    177.3,2,  176.900,2,   130.60,2,    33.89,2,     0.00,2,     2.37,2,    -0.00,2,   -0.002,2, -999.000,9,   -999.0,9,   -999.0,9