BOTTLE,20210102JOAExport
EXPOCODE,SECT_ID,STNNBR,CASTNO,SAMPNO,BTLNBR,BTLNBR_FLAG_W,DATE,TIME,LATITUDE,LONGITUDE,DEPTH,CTDPRS,CTDTMP,CTDSAL,CTDSAL_FLAG_W,SALNTY,SALNTY_FLAG_W,CTDOXY,CTDOXY_FLAG_W,OXYGEN,OXYGEN_FLAG_W,SILCAT,SILCAT_FLAG_W,NITRAT,NITRAT_FLAG_W,NITRIT,NITRIT_FLAG_W,PHSPHT,PHSPHT_FLAG_W,CFC-11,CFC-11_FLAG_W,CFC-12,CFC-12_FLAG_W,SF6,SF6_FLAG_W,TCARBN,TCARBN_FLAG_W,ALKALI,ALKALI_FLAG_W
,,,,,,,,,,,,DB,ITS-90,PSS-78,,PSS-78,,UMOL/KG,,UMOL/KG,,UMOL/KG,,UMOL/KG,,UMOL/KG,,UMOL/KG,,PMOL/KG,,PMOL/KG,,FMOL/KG,,UMOL/KG,,UMOL/KG
           NA,     P10,     72,   1,      36,     -99,  2,19931103,0041,  27.8333,  149.3333,  5971,      5.3,  26.0808,  35.1221,2,  35.1227,2,    205.3,2,  207.800,2,     1.73,2,    -0.01,2,     0.01,2,     0.00,2,     1.96,2,    1.101,2, -999.000,9,   -999.0,9,   -999.0,9
           NA,     P10,     72,   1,      35,     -99,  2,19931103,0041,  27.8333,  149.3333,  5971,     46.3,  25.7841,  35.1029,2,  35.1015,2,    212.1,2,  208.300,2,     1.75,2,    -0.01,2,     0.01,2,     0.00,2,     1.97,2,    1.114,2, -999.000,9,   -999.0,9,   -999.0,9
           NA,     P10,     72,   1,      34,     -99,  2,19931103,0041,  27.8333,  149.3333,  5971,     96.6,  19.8743,  34.8652,2,  34.8665,2,    213.1,2,  217.200,2,     2.44,2,     0.24,2,     0.12,2,     0.07,2,     2.48,6,    1.330,6, -999.000,9,   -999.0,9,   -999.0,9
           NA,     P10,     72,   1,      33,     -99,  2,19931103,0041,  27.8333,  149.3333,  5971,    146.4,  18.1556,  34.8373,2,  34.8374,2,    212.6,2,  215.000,2,     2.98,2,     2.68,2,     0.03,2,     0.20,2,     2.63,2,    1.401,2, -999.000,9,   -999.0,9,   -999.0,9
           NA,     P10,     72,   1,      32,     -99,  2,19931103,0041,  27.8333,  149.3333,  5971,    194.9,  17.5880,  34.8186,2,  34.8187,2,    214.9,2,  213.300,2,     3.33,2,     3.16,2,     0.02,2,     0.22,2,  -999.00,4, -999.000,4, -999.000,9,   -999.0,9,   -999.0,9
           NA,     P10,     72,   1,      31,     -99,  2,19931103,0041,  27.8333,  149.3333,  5971,    245.5,  17.1381,  34.7928,2,  34.7923,2,    211.1,2,  213.000,2,     4.03,2,     4.00,2,     0.00,2,     0.28,2,  -999.00,9, -999.000,9, -999.000,9,   -999.0,9,   -999.0,9
           NA,     P10,     72,   1,      30,     -99,  2,19931103,0041,  27.8333,  149.3333,  5971,    296.7,  16.4945,  34.7420,2,  34.7318,2,    202.0,2,  201.600,2,     6.10,2,     6.21,2,    -0.01,2,     0.43,2,     2.58,2,    1.346,2, -999.000,9,   -999.0,9,   -999.0,9
           NA,     P10,     72,   1,      29,     -99,  2,19931103,0041,  27.8333,  149.3333,  5971,    395.4,  13.9308,  34.5310,2,  34.5292,2,    196.8,2,  189.600,2,    13.14,2,    11.20,2,     0.01,2,     0.78,2,     2.31,2,    1.151,2, -999.000,9,   -999.0,9,   -999.0,9
           NA,     P10,     72,   1,      28,     -99,  2,19931103,0041,  27.8333,  149.3333,  5971,    495.2,  11.6372,  34.3537,2,  34.3535,2,    199.9,2,  191.900,2,    19.48,2,    14.68,2,     0.02,2,     1.03,2,     2.37,2,    1.186,2, -999.000,9,   -999.0,9,   -999.0,9
           NA,     P10,     72,   1,      27,     -99,  2,19931103,0041,  27.8333,  149.3333,  5971,    594.8,   9.2702,  34.1825,2,  34.1819,2,    187.6,2,  178.300,2,    31.14,2,    20.06,2,     0.02,2,     1.42,2,     2.11,2,    1.026,2, -999.000,9,   -999.0,9,   -999.0,9
           NA,     P10,     72,   1,      26,     -99,  2,19931103,0041,  27.8333,  149.3333,  5971,    694.4,   6.7494,  34.0523,2,  34.0526,2,    164.9,2,  146.500,2,    52.21,2,    27.53,2,     0.02,2,     1.96,2,     1.62,2,    0.740,2, -999.000,9,   -999.0,9,   -999.0,9
           NA,     P10,     72,   1,      25,     -99,  2,19931103,0041,  27.8333,  149.3333,  5971,    798.3,   4.9810,  34.0818,2,  34.0816,2,    108.9,2,   94.200,2,    81.15,2,    35.26,2,     0.02,2,     2.50,2,     0.96,2,    0.442,2, -999.000,9,   -999.0,9,   -999.0,9
           NA,     P10,     72,   1,      24,     -99,  2,19931103,0041,  27.8333,  149.3333,  5971,    896.8,   4.3973,  34.1871,2,  34.1856,2,     62.3,2,   57.200,2,    98.95,2,    39.31,2,     0.02,2,     2.77,2,     0.30,2,    0.144,2, -999.000,9,   -999.0,9,   -999.0,9
           NA,     P10,     72,   1,      23,     -99,  2,19931103,0041,  27.8333,  149.3333,  5971,    993.8,   3.9412,  34.2613,2,  34.2609,2,     48.5,2,   46.900,2,   112.15,2,    40.70,2,     0.02,2,     2.86,2,     0.19,2,    0.079,2, -999.000,9,   -999.0,9,   -999.0,9
           NA,     P10,     72,   1,      22,     -99,  2,19931103,0041,  27.8333,  149.3333,  5971,   1193.3,   3.2597,  34.3969,2,  34.3979,2,     38.2,2,   38.000,2,   131.99,2,    42.29,2,     0.01,2,     2.97,2,     0.02,2,    0.001,2, -999.000,9,   -999.0,9,   -999.0,9
           NA,     P10,     72,   1,      21,     -99,  3,19931103,0041,  27.8333,  149.3333,  5971,   1396.1,   2.8184,  34.4686,2,-999.0000,4,     45.7,2, -999.000,4,  -999.00,4,  -999.00,4,  -999.00,4,  -999.00,4,  -999.00,9, -999.000,9, -999.000,9,   -999.0,9,   -999.0,9
           NA,     P10,     72,   1,      20,     -99,  2,19931103,0041,  27.8333,  149.3333,  5971,   1596.7,   2.5141,  34.5275,2,  34.5271,2,     57.1,2,   56.700,2,   148.60,2,    41.69,2,     0.01,2,     2.92,2,  -999.00,9, -999.000,9, -999.000,9,   -999.0,9,   -999.0,9
           NA,     P10,     72,   1,      19,     -99,  2,19931103,0041,  27.8333,  149.3333,  5971,   1793.4,   2.1905,  34.5697,2,  34.5697,2,     71.1,2,   70.900,2,   154.09,2,    40.93,2,     0.01,2,     2.85,2,  -999.00,9, -999.000,9, -999.000,9,   -999.0,9,   -999.0,9
           NA,     P10,     72,   1,      18,     -99,  2,19931103,0041,  27.8333,  149.3333,  5971,   1994.1,   2.0268,  34.5932,2,  34.5931,2,     88.2,2,   81.500,2,   155.81,2,    40.32,2,     0.01,2,     2.80,2,  -999.00,9, -999.000,9, -999.000,9,   -999.0,9,   -999.0,9
           NA,     P10,     72,   1,      17,     -99,  2,19931103,0041,  27.8333,  149.3333,  5971,   2192.7,   1.8616,  34.6190,2,  34.6184,2,   -999.0,3,   97.100,2,   155.65,2,    39.41,2,     0.01,2,     2.73,2,  -999.00,9, -999.000,9, -999.000,9,   -999.0,9,   -999.0,9
           NA,     P10,     72,   1,      16,     -99,  2,19931103,0041,  27.8333,  149.3333,  5971,   2397.3,   1.7527,  34.6353,2,  34.6357,2,   -999.0,3,  109.400,2,   154.30,2,    38.60,2,     0.01,2,     2.68,2,  -999.00,9, -999.000,9, -999.000,9,   -999.0,9,   -999.0,9
           NA,     P10,     72,   1,      15,     -99,  2,19931103,0041,  27.8333,  149.3333,  5971,   2594.2,   1.6808,  34.6473,2,  34.6473,2,    120.7,2,  119.300,2,   152.60,2,    37.99,2,     0.00,2,     2.63,2,  -999.00,9, -999.000,9, -999.000,9,   -999.0,9,   -999.0,9
           NA,     P10,     72,   1,      14,     -99,  2,19931103,0041,  27.8333,  149.3333,  5971,   2795.1,   1.6267,  34.6558,2,  34.6563,2,    127.3,2,  126.200,2,   151.24,2,    37.49,2,     0.00,2,     2.59,2,  -999.00,9, -999.000,9, -999.000,9,   -999.0,9,   -999.0,9
           NA,     P10,     72,   1,      13,     -99,  2,19931103,0041,  27.8333,  149.3333,  5971,   2947.6,   1.5948,  34.6601,2,  34.6607,2,    131.7,2,  130.000,2,   151.08,2,    37.29,2,     0.00,2,     2.58,2,  -999.00,9, -999.000,9, -999.000,9,   -999.0,9,   -999.0,9
           NA,     P10,     72,   1,      12,     -99,  2,19931103,0041,  27.8333,  149.3333,  5971,   3246.0,   1.5482,  34.6679,2,  34.6683,2,    137.1,2,  136.800,2,   150.57,2,    36.84,2,     0.00,2,     2.55,2,  -999.00,9, -999.000,9, -999.000,9,   -999.0,9,   -999.0,9
           NA,     P10,     72,   1,      11,     -99,  2,19931103,0041,  27.8333,  149.3333,  5971,   3495.6,   1.5173,  34.6737,2,  34.6742,2,    143.4,2,  141.900,2,   149.39,2,    36.53,2,     0.00,2,     2.52,2,  -999.00,4,    0.001,2, -999.000,9,   -999.0,9,   -999.0,9
           NA,     P10,     72,   1,      10,     -99,  2,19931103,0041,  27.8333,  149.3333,  5971,   3749.1,   1.4976,  34.6779,2,  34.6778,2,    147.5,2,  145.700,2,   148.89,2,    36.24,2,    -0.01,2,     2.50,2,  -999.00,9, -999.000,9, -999.000,9,   -999.0,9,   -999.0,9
           NA,     P10,     72,   1,       9,     -99,  2,19931103,0041,  27.8333,  149.3333,  5971,   4007.2,   1.4833,  34.6814,2,  34.6819,2,    151.3,2,  150.600,2,   147.53,2,    35.89,2,    -0.01,2,     2.48,2,  -999.00,9, -999.000,9, -999.000,9,   -999.0,9,   -999.0,9
           NA,     P10,     72,   1,       8,     -99,  2,19931103,0041,  27.8333,  149.3333,  5971,   4247.2,   1.4747,  34.6846,2,  34.6852,2,    155.6,2,  154.700,2,   146.17,2,    35.64,2,     0.00,2,     2.46,2,  -999.00,9, -999.000,9, -999.000,9,   -999.0,9,   -999.0,9
           NA,     P10,     72,   1,       7,     -99,  2,19931103,0041,  27.8333,  149.3333,  5971,   4504.4,   1.4751,  34.6874,2,  34.6882,2,    158.6,2,  158.200,2,   145.17,2,    35.39,2,    -0.01,2,     2.45,2,  -999.00,9, -999.000,9, -999.000,9,   -999.0,9,   -999.0,9
           NA,     P10,     72,   1,       6,     -99,  2,19931103,0041,  27.8333,  149.3333,  5971,   4749.0,   1.4833,  34.6895,2,  34.6893,2,    161.6,2,  161.100,2,   143.29,2,    35.20,2,    -0.01,2,     2.43,2,  -999.00,9, -999.000,9, -999.000,9,   -999.0,9,   -999.0,9
           NA,     P10,     72,   1,       5,     -99,  2,19931103,0041,  27.8333,  149.3333,  5971,   4994.2,   1.4974,  34.6906,2,  34.6913,2,    164.1,2,  163.600,2,   141.81,2,    34.92,2,     0.00,2,     2.44,2,  -999.00,9, -999.000,9, -999.000,9,   -999.0,9,   -999.0,9
           NA,     P10,     72,   1,       4,     -99,  2,19931103,0041,  27.8333,  149.3333,  5971,   5251.2,   1.5168,  34.6917,2,  34.6925,2,    166.3,2,  165.900,2,   140.25,2,    34.79,2,     0.00,2,     2.40,2,  -999.00,4,    0.003,2, -999.000,9,   -999.0,9,   -999.0,9
           NA,     P10,     72,   1,       3,     -99,  2,19931103,0041,  27.8333,  149.3333,  5971,   5495.6,   1.5369,  34.6927,2,  34.6927,2,    168.9,2,  167.900,2,   138.37,2,    34.55,2,    -0.01,2,     2.39,2,     0.00,2,   -0.001,2, -999.000,9,   -999.0,9,   -999.0,9
           NA,     P10,     72,   1,       2,     -99,  2,19931103,0041,  27.8333,  149.3333,  5971,   5743.7,   1.5559,  34.6942,2,  34.6941,2,    171.6,2,  170.300,2,   136.79,2,    34.39,2,     0.00,2,     2.38,2,  -999.00,4,    0.000,2, -999.000,9,   -999.0,9,   -999.0,9
           NA,     P10,     72,   1,       1,     -99,  3,19931103,0041,  27.8333,  149.3333,  5971,   6098.7,   1.6020,  34.6948,2,-999.0000,4,    171.4,2, -999.000,4,  -999.00,9,  -999.00,9,  -999.00,9,  -999.00,9,  -999.00,2, -999.000,2, -999.000,9,   -999.0,9,   -999.0,9