BOTTLE,20210102JOAExport
EXPOCODE,SECT_ID,STNNBR,CASTNO,SAMPNO,BTLNBR,BTLNBR_FLAG_W,DATE,TIME,LATITUDE,LONGITUDE,DEPTH,CTDPRS,CTDTMP,CTDSAL,CTDSAL_FLAG_W,SALNTY,SALNTY_FLAG_W,CTDOXY,CTDOXY_FLAG_W,OXYGEN,OXYGEN_FLAG_W,SILCAT,SILCAT_FLAG_W,NITRAT,NITRAT_FLAG_W,NITRIT,NITRIT_FLAG_W,PHSPHT,PHSPHT_FLAG_W,CFC-11,CFC-11_FLAG_W,CFC-12,CFC-12_FLAG_W,SF6,SF6_FLAG_W,TCARBN,TCARBN_FLAG_W,ALKALI,ALKALI_FLAG_W
,,,,,,,,,,,,DB,ITS-90,PSS-78,,PSS-78,,UMOL/KG,,UMOL/KG,,UMOL/KG,,UMOL/KG,,UMOL/KG,,UMOL/KG,,PMOL/KG,,PMOL/KG,,FMOL/KG,,UMOL/KG,,UMOL/KG
           NA,     P10,      5,   1,      23,     -99,  2,19931013,0426,  -3.3083,  145.1500,  2164,      5.8,  28.8055,  34.3090,2,  34.3113,2,    205.4,2,  217.700,2,     1.43,2,    -0.09,2,     0.01,2,     0.03,2,  -999.00,4,    1.005,2, -999.000,9,   -999.0,9,   -999.0,9
           NA,     P10,      5,   1,      22,     -99,  2,19931013,0426,  -3.3083,  145.1500,  2164,     47.3,  27.8966,  34.4346,2,  34.4359,2,    200.7,2,  213.200,2,     1.27,2,     0.01,2,     0.00,2,     0.05,2,  -999.00,4,    1.071,2, -999.000,9,   -999.0,9,   -999.0,9
           NA,     P10,      5,   1,      21,     -99,  2,19931013,0426,  -3.3083,  145.1500,  2164,     96.2,  25.7152,  34.9526,2,  34.9463,2,    211.0,2,  211.400,2,     0.80,2,     0.05,2,     0.02,2,     0.14,2,  -999.00,4,    1.074,2, -999.000,9,   -999.0,9,   -999.0,9
           NA,     P10,      5,   1,      20,     -99,  2,19931013,0426,  -3.3083,  145.1500,  2164,    146.2,  20.5618,  35.5000,2,  35.4981,2,    153.1,2,  152.100,2,     3.40,2,     8.33,2,     0.03,2,     0.68,2,  -999.00,9, -999.000,9, -999.000,9,   -999.0,9,   -999.0,9
           NA,     P10,      5,   1,      19,     -99,  2,19931013,0426,  -3.3083,  145.1500,  2164,    196.5,  17.9082,  35.3928,2,  35.3900,2,    143.1,2,  148.100,2,     5.34,2,    11.56,2,     0.01,2,     0.92,2,  -999.00,4,    0.807,2, -999.000,9,   -999.0,9,   -999.0,9
           NA,     P10,      5,   1,      18,     -99,  2,19931013,0426,  -3.3083,  145.1500,  2164,    247.0,  16.4184,  35.2996,2,  35.2982,2,    143.7,2,  145.900,2,     6.33,2,    12.96,2,     0.02,2,     1.01,2,  -999.00,4,    0.739,6, -999.000,9,   -999.0,9,   -999.0,9
           NA,     P10,      5,   1,      17,     -99,  3,19931013,0426,  -3.3083,  145.1500,  2164,    297.5,  13.2331,  35.0291,2,  35.0541,2,    150.8,2,  150.500,2,     9.73,2,    16.54,2,     0.01,2,     1.23,2,  -999.00,9, -999.000,9, -999.000,9,   -999.0,9,   -999.0,9
           NA,     P10,      5,   1,      16,     -99,  2,19931013,0426,  -3.3083,  145.1500,  2164,    349.2,  11.7539,  34.8945,2,  34.8934,2,    156.7,2,  153.700,2,    12.49,2,    19.56,2,     0.01,2,     1.42,2,  -999.00,4,    0.458,2, -999.000,9,   -999.0,9,   -999.0,9
           NA,     P10,      5,   1,      15,     -99,  2,19931013,0426,  -3.3083,  145.1500,  2164,    398.4,   9.5412,  34.7066,2,  34.7089,2,    161.2,2,  159.600,2,    16.87,2,    22.90,2,     0.01,2,     1.61,2,  -999.00,9, -999.000,9, -999.000,9,   -999.0,9,   -999.0,9
           NA,     P10,      5,   1,      14,     -99,  2,19931013,0426,  -3.3083,  145.1500,  2164,    447.1,   8.9747,  34.6647,2,  34.6604,2,    138.6,2,  137.700,2,    22.54,2,    26.28,2,     0.01,2,     1.84,2,  -999.00,4, -999.000,3, -999.000,9,   -999.0,9,   -999.0,9
           NA,     P10,      5,   1,      13,     -99,  2,19931013,0426,  -3.3083,  145.1500,  2164,    496.5,   8.1726,  34.6088,2,  34.6113,2,    153.5,2,  151.200,2,    24.49,2,    26.61,2,     0.01,2,     1.86,2,  -999.00,9, -999.000,9, -999.000,9,   -999.0,9,   -999.0,9
           NA,     P10,      5,   1,      12,     -99,  2,19931013,0426,  -3.3083,  145.1500,  2164,    596.1,   6.9078,  34.5504,2,  34.5525,2,    127.7,2,  128.100,2,    37.28,2,    31.61,2,     0.00,2,     2.20,2,  -999.00,4,    0.048,2, -999.000,9,   -999.0,9,   -999.0,9
           NA,     P10,      5,   1,      11,     -99,  2,19931013,0426,  -3.3083,  145.1500,  2164,    694.6,   6.1235,  34.5048,2,  34.5089,2,    151.6,2,  153.700,2,    39.56,2,    30.46,2,     0.01,2,     2.13,2,  -999.00,4,    0.069,2, -999.000,9,   -999.0,9,   -999.0,9
           NA,     P10,      5,   1,      10,     -99,  2,19931013,0426,  -3.3083,  145.1500,  2164,    795.1,   5.6480,  34.5109,2,  34.5038,2,    142.9,2,  139.800,2,    49.11,2,    32.57,2,     0.01,2,     2.28,2,  -999.00,4,    0.037,2, -999.000,9,   -999.0,9,   -999.0,9
           NA,     P10,      5,   1,       9,     -99,  2,19931013,0426,  -3.3083,  145.1500,  2164,    894.5,   5.2347,  34.5330,2,  34.5333,2,    114.0,2,  114.500,2,    63.68,2,    35.49,2,     0.02,2,     2.50,2,  -999.00,4,    0.019,2, -999.000,9,   -999.0,9,   -999.0,9
           NA,     P10,      5,   1,       8,     -99,  2,19931013,0426,  -3.3083,  145.1500,  2164,    894.6,   5.2344,  34.5332,2,  34.5333,2,    114.0,2,  114.500,2,    63.70,2,    35.46,2,     0.01,2,     2.50,2,  -999.00,4,    0.013,2, -999.000,9,   -999.0,9,   -999.0,9
           NA,     P10,      5,   1,       7,     -99,  2,19931013,0426,  -3.3083,  145.1500,  2164,    994.6,   4.4900,  34.5318,2,  34.5339,2,    127.3,2,  125.500,2,    73.74,2,    35.20,2,     0.01,2,     2.49,2,  -999.00,4,    0.013,2, -999.000,9,   -999.0,9,   -999.0,9
           NA,     P10,      5,   1,       6,     -99,  2,19931013,0426,  -3.3083,  145.1500,  2164,   1195.7,   3.9755,  34.5634,2,  34.5659,2,    106.7,2,  106.100,2,    93.00,2,    37.35,2,     0.01,2,     2.67,2,  -999.00,4,    0.009,2, -999.000,9,   -999.0,9,   -999.0,9
           NA,     P10,      5,   1,       5,     -99,  2,19931013,0426,  -3.3083,  145.1500,  2164,   1403.9,   3.3136,  34.5891,2,  34.5891,2,    107.1,2,  107.500,2,   108.55,2,    37.44,2,     0.01,2,     2.69,2,  -999.00,9, -999.000,9, -999.000,9,   -999.0,9,   -999.0,9
           NA,     P10,      5,   1,       4,     -99,  2,19931013,0426,  -3.3083,  145.1500,  2164,   1615.9,   2.8402,  34.6074,2,  34.6107,2,    107.8,2,  108.000,2,   120.86,2,    37.72,2,     0.02,2,     2.71,2,  -999.00,9, -999.000,9, -999.000,9,   -999.0,9,   -999.0,9
           NA,     P10,      5,   1,       3,     -99,  2,19931013,0426,  -3.3083,  145.1500,  2164,   1785.4,   2.5788,  34.6193,2,  34.6215,2,    110.7,2,  109.900,2,   127.19,2,    37.69,2,     0.01,2,     2.70,2,  -999.00,4,    0.001,2, -999.000,9,   -999.0,9,   -999.0,9
           NA,     P10,      5,   1,       2,     -99,  2,19931013,0426,  -3.3083,  145.1500,  2164,   1997.9,   2.3407,  34.6314,2,  34.6343,2,    113.8,2,  112.900,2,   132.70,2,    37.56,2,     0.01,2,     2.69,2,  -999.00,9, -999.000,9, -999.000,9,   -999.0,9,   -999.0,9
           NA,     P10,      5,   1,       1,     -99,  2,19931013,0426,  -3.3083,  145.1500,  2164,   2183.5,   2.2379,  34.6275,2,-999.0000,3,   -999.0,3,  116.300,2,   135.00,2,    37.45,2,     0.02,2,     2.69,2,  -999.00,4,    0.004,6, -999.000,9,   -999.0,9,   -999.0,9
           NA,     P10,      6,   1,      22,     -99,  2,19931013,0850,  -2.9972,  145.2888,  2072,     17.7,  28.5690,  34.2143,2,  34.2158,2,    203.0,2,  211.500,2,     1.37,2,     0.00,2,    -0.02,2,     0.02,2,  -999.00,4,    1.017,2, -999.000,9,   1905.9,2,   2256.0,2
           NA,     P10,      6,   1,      21,     -99,  2,19931013,0850,  -2.9972,  145.2888,  2072,     57.4,  28.3489,  34.3319,2,  34.3321,2,    212.6,2,  207.900,2,     1.37,2,     0.05,2,    -0.01,2,     0.03,2,  -999.00,4,    1.018,2, -999.000,9,   1912.3,2,   2260.0,2
           NA,     P10,      6,   1,      20,     -99,  2,19931013,0850,  -2.9972,  145.2888,  2072,    107.2,  23.2878,  35.3894,2,  35.3882,2,    153.5,2, -999.000,3,     2.51,2,     6.16,2,     0.05,2,     0.54,2,  -999.00,4,    1.013,2, -999.000,9,   2040.2,2,   2323.9,2
           NA,     P10,      6,   1,      19,     -99,  2,19931013,0850,  -2.9972,  145.2888,  2072,    157.1,  20.0753,  35.4399,2,  35.4381,2,    143.4,2,  143.600,2,     4.13,2,     9.39,2,     0.01,2,     0.75,2,  -999.00,4,    0.939,2, -999.000,9,   2083.2,2,   2332.2,2
           NA,     P10,      6,   1,      18,     -99,  2,19931013,0850,  -2.9972,  145.2888,  2072,    206.7,  17.8802,  35.3957,2,  35.3662,2,    142.4,2,  142.700,2,     5.59,2,    11.87,2,     0.00,2,     0.93,2,  -999.00,4,    0.802,6, -999.000,9,   2105.5,2,   2329.7,2
           NA,     P10,      6,   1,      17,     -99,  2,19931013,0850,  -2.9972,  145.2888,  2072,    256.5,  15.2787,  35.2055,2,  35.2016,2,    144.0,2,  142.600,2,     7.87,2,    14.84,2,     0.01,2,     1.13,2,  -999.00,4,    0.670,2, -999.000,9,   2126.4,2,   2325.5,2
           NA,     P10,      6,   1,      16,     -99,  2,19931013,0850,  -2.9972,  145.2888,  2072,    296.1,  13.4309,  35.0373,2,  35.0529,2,    145.9,2,  146.500,2,    10.13,2,    17.00,2,     0.00,2,     1.25,2,  -999.00,9, -999.000,9, -999.000,9,   2135.7,6,   2315.5,6
           NA,     P10,      6,   1,      15,     -99,  2,19931013,0850,  -2.9972,  145.2888,  2072,    396.0,   9.6279,  34.7172,2,  34.7180,2,    148.7,2,  147.200,2,    19.05,2,    23.95,2,    -0.01,2,     1.69,2,  -999.00,4,    0.252,2, -999.000,9,   2169.7,2,   2313.4,2
           NA,     P10,      6,   1,      14,     -99,  2,19931013,0850,  -2.9972,  145.2888,  2072,    496.7,   7.9711,  34.5977,2,  34.5977,2,    149.4,2,  150.700,2,    25.85,2,    27.09,2,     0.00,2,     1.89,2,  -999.00,4,    0.154,2, -999.000,9,   2187.1,2,   2314.8,2
           NA,     P10,      6,   1,      13,     -99,  2,19931013,0850,  -2.9972,  145.2888,  2072,    597.7,   6.7915,  34.5415,2,  34.5435,2,    129.7,2,  134.800,2,    36.54,2,    31.01,2,     0.00,2,     2.17,2,  -999.00,9, -999.000,9, -999.000,9,   2214.2,2,   2330.7,2
           NA,     P10,      6,   1,      12,     -99,  2,19931013,0850,  -2.9972,  145.2888,  2072,    647.8,   6.4238,  34.5171,2,  34.5148,2,   -999.0,3,  153.900,2,    36.70,2,    30.02,2,    -0.01,2,     2.09,2,  -999.00,9, -999.000,9, -999.000,9,   2206.1,2,   2322.2,2
           NA,     P10,      6,   1,      11,     -99,  2,19931013,0850,  -2.9972,  145.2888,  2072,    688.3,   5.9548,  34.5069,2,  34.5107,2,    152.2,2,  147.600,2,    42.86,2,    31.34,2,     0.00,2,     2.19,2,  -999.00,9, -999.000,9, -999.000,9,   2217.4,2,   2338.5,2
           NA,     P10,      6,   1,      10,     -99,  2,19931013,0850,  -2.9972,  145.2888,  2072,    748.9,   5.6047,  34.5117,2,  34.5172,2,    136.9,2,  136.800,2,    50.79,2,    32.91,2,    -0.01,2,     2.31,2,  -999.00,9, -999.000,9, -999.000,9,   2234.2,2,   2338.4,2
           NA,     P10,      6,   1,       9,     -99,  2,19931013,0850,  -2.9972,  145.2888,  2072,    798.9,   5.4006,  34.5324,2,  34.5327,2,    116.9,2,  114.700,2,    60.51,2,    35.17,2,     0.00,2,     2.48,2,  -999.00,9, -999.000,9, -999.000,9,   2256.0,2,   2345.4,2
           NA,     P10,      6,   1,       8,     -99,  2,19931013,0850,  -2.9972,  145.2888,  2072,    899.5,   4.8934,  34.5378,2,  34.5380,2,    113.1,2,  110.500,2,    70.69,2,    36.06,2,    -0.01,2,     2.56,2,  -999.00,9, -999.000,9, -999.000,9,   2270.7,2,   2350.2,2
           NA,     P10,      6,   1,       7,     -99,  2,19931013,0850,  -2.9972,  145.2888,  2072,   1020.5,   4.4504,  34.5494,2,  34.5516,2,    107.4,2,  106.100,2,    81.70,2,    37.11,2,    -0.02,2,     2.63,2,  -999.00,4,    0.006,2, -999.000,9,   2285.3,2,   2361.3,2
           NA,     P10,      6,   1,       6,     -99,  2,19931013,0850,  -2.9972,  145.2888,  2072,   1181.9,   3.9234,  34.5631,2,  34.5637,2,    109.4,2,  109.800,2,    92.21,2,    36.93,2,    -0.02,2,     2.63,2,  -999.00,9, -999.000,9, -999.000,9,   2297.2,2,   2374.7,2
           NA,     P10,      6,   1,       5,     -99,  2,19931013,0850,  -2.9972,  145.2888,  2072,   1398.8,   3.4461,  34.5848,2,  34.5846,2,    106.4,2,  106.200,2,   105.96,2,    37.61,2,    -0.02,2,     2.69,2,  -999.00,9, -999.000,9, -999.000,9,   2314.4,2,   2394.4,2
           NA,     P10,      6,   1,       4,     -99,  2,19931013,0850,  -2.9972,  145.2888,  2072,   1597.1,   2.9729,  34.6046,2,  34.6056,2,    108.0,2,  106.900,2,   117.92,2,    37.71,2,    -0.02,2,     2.71,2,  -999.00,9, -999.000,9, -999.000,9,   2329.1,6,   2414.4,2
           NA,     P10,      6,   1,       3,     -99,  2,19931013,0850,  -2.9972,  145.2888,  2072,   1798.5,   2.5972,  34.6207,2,-999.0000,3,    110.9,2,  110.000,2,   126.82,2,    37.80,2,    -0.02,2,     2.71,2,  -999.00,9, -999.000,9, -999.000,9,   2336.1,2,   2415.1,2
           NA,     P10,      6,   1,       2,     -99,  2,19931013,0850,  -2.9972,  145.2888,  2072,   2021.0,   2.2766,  34.6372,2,  34.6352,2,    115.3,2,  114.500,2,   134.08,2,    37.48,2,    -0.02,2,     2.69,2,  -999.00,4,    0.005,2, -999.000,9,   2343.8,2,   2423.0,2
           NA,     P10,      6,   1,       1,     -99,  2,19931013,0850,  -2.9972,  145.2888,  2072,   2077.0,   2.2477,  34.6352,2,  34.6380,2,    114.7,2,  115.900,2,   134.88,2,    37.51,2,     0.00,2,     2.69,2,  -999.00,4,    0.001,2, -999.000,9,   2344.0,2,   2428.3,2
           NA,     P10,      7,   1,      20,     -99,  2,19931013,1253,  -2.7500,  145.3583,  1697,     17.2,  28.7145,  34.1926,2,  34.2034,2,    215.2,2,  207.300,2,     1.39,2,    -0.04,2,     0.00,2,     0.02,2,  -999.00,9, -999.000,9, -999.000,9,   -999.0,9,   -999.0,9
           NA,     P10,      7,   1,      19,     -99,  2,19931013,1253,  -2.7500,  145.3583,  1697,     56.8,  28.3567,  34.3046,2,  34.3056,2,    202.7,2,  212.600,2,     1.41,2,    -0.03,2,     0.00,2,     0.03,2,  -999.00,9, -999.000,9, -999.000,9,   -999.0,9,   -999.0,9
           NA,     P10,      7,   1,      17,     -99,  2,19931013,1253,  -2.7500,  145.3583,  1697,    156.0,  19.9865,  35.3740,2,  35.3638,2,    146.5,2,  145.500,2,     4.70,2,     9.45,2,     0.01,2,     0.76,2,  -999.00,9, -999.000,9, -999.000,9,   -999.0,9,   -999.0,9
           NA,     P10,      7,   1,      16,     -99,  2,19931013,1253,  -2.7500,  145.3583,  1697,    205.7,  18.4067,  35.4762,2,  35.4237,2,    146.3,2,  144.700,2,     4.88,2,    10.81,2,     0.01,2,     0.87,2,  -999.00,9, -999.000,9, -999.000,9,   -999.0,9,   -999.0,9
           NA,     P10,      7,   1,      15,     -99,  2,19931013,1253,  -2.7500,  145.3583,  1697,    255.8,  14.2062,  35.1026,2,  35.1087,2,    147.8,2,  146.100,2,     9.66,2,    16.05,2,     0.01,2,     1.20,2,  -999.00,9, -999.000,9, -999.000,9,   -999.0,9,   -999.0,9
           NA,     P10,      7,   1,      14,     -99,  2,19931013,1253,  -2.7500,  145.3583,  1697,    305.0,  12.7380,  34.9624,2,  34.9630,2,    143.5,2,  141.300,2,    13.27,2,    18.79,2,     0.00,2,     1.38,2,  -999.00,9, -999.000,9, -999.000,9,   -999.0,9,   -999.0,9
           NA,     P10,      7,   1,      13,     -99,  2,19931013,1253,  -2.7500,  145.3583,  1697,    405.2,   9.4917,  34.7064,2,  34.7140,2,    154.5,2,  155.000,2,    18.37,2,    23.44,2,     0.00,2,     1.66,2,  -999.00,9, -999.000,9, -999.000,9,   -999.0,9,   -999.0,9
           NA,     P10,      7,   1,      12,     -99,  2,19931013,1253,  -2.7500,  145.3583,  1697,    505.6,   8.1628,  34.6136,2,  34.6144,2,    142.4,2,  142.700,2,    26.24,2,    27.44,2,     0.00,2,     1.92,2,  -999.00,9, -999.000,9, -999.000,9,   -999.0,9,   -999.0,9
           NA,     P10,      7,   1,      11,     -99,  2,19931013,1253,  -2.7500,  145.3583,  1697,    604.5,   7.0627,  34.5582,2,  34.5627,2,    128.7,2,  126.700,2,    35.75,2,    31.40,2,     0.00,2,     2.20,2,  -999.00,9, -999.000,9, -999.000,9,   -999.0,9,   -999.0,9
           NA,     P10,      7,   1,      10,     -99,  2,19931013,1253,  -2.7500,  145.3583,  1697,    656.2,   6.4872,  34.5309,2,  34.5313,2,    139.2,2,  142.300,2,    39.53,2,    31.00,2,     0.00,2,     2.18,2,  -999.00,9, -999.000,9, -999.000,9,   -999.0,9,   -999.0,9
           NA,     P10,      7,   1,       9,     -99,  2,19931013,1253,  -2.7500,  145.3583,  1697,    705.7,   5.9577,  34.5219,2,  34.5278,2,    130.0,2,  133.500,2,    47.23,2,    32.79,2,     0.00,2,     2.31,2,  -999.00,9, -999.000,9, -999.000,9,   -999.0,9,   -999.0,9
           NA,     P10,      7,   1,       8,     -99,  2,19931013,1253,  -2.7500,  145.3583,  1697,    757.3,   5.5673,  34.5299,2,  34.5337,2,    119.3,2,  118.100,2,    56.89,2,    34.75,2,     0.00,2,     2.45,2,  -999.00,9, -999.000,9, -999.000,9,   -999.0,9,   -999.0,9
           NA,     P10,      7,   1,       7,     -99,  2,19931013,1253,  -2.7500,  145.3583,  1697,    804.8,   5.3942,  34.5296,2,  34.5325,2,    116.9,2,  118.000,2,    60.02,2,    34.99,2,     0.00,2,     2.48,2,  -999.00,9, -999.000,9, -999.000,9,   -999.0,9,   -999.0,9
           NA,     P10,      7,   1,       6,     -99,  2,19931013,1253,  -2.7500,  145.3583,  1697,    906.6,   5.0400,  34.5365,2,  34.5408,2,    109.4,2,  110.300,2,    68.37,2,    36.09,2,     0.00,2,     2.57,2,  -999.00,9, -999.000,9, -999.000,9,   -999.0,9,   -999.0,9
           NA,     P10,      7,   1,       5,     -99,  2,19931013,1253,  -2.7500,  145.3583,  1697,   1008.5,   4.6464,  34.5418,2,  34.5437,2,    112.2,2,  112.000,2,    76.06,2,    36.26,2,     0.01,2,     2.58,2,  -999.00,9, -999.000,9, -999.000,9,   -999.0,9,   -999.0,9
           NA,     P10,      7,   1,       4,     -99,  2,19931013,1253,  -2.7500,  145.3583,  1697,   1210.7,   3.9160,  34.5658,2,  34.5671,2,    109.5,2,  109.300,2,    93.57,2,    37.05,2,     0.00,2,     2.65,2,  -999.00,9, -999.000,9, -999.000,9,   -999.0,9,   -999.0,9
           NA,     P10,      7,   1,       3,     -99,  2,19931013,1253,  -2.7500,  145.3583,  1697,   1409.6,   3.3135,  34.5897,2,  34.5853,2,    107.0,2,  106.800,2,   109.27,2,    37.56,2,     0.00,2,     2.70,2,  -999.00,9, -999.000,9, -999.000,9,   -999.0,9,   -999.0,9
           NA,     P10,      7,   1,       2,     -99,  2,19931013,1253,  -2.7500,  145.3583,  1697,   1614.9,   2.7543,  34.6136,2,  34.6170,2,    109.3,2,  109.300,2,   122.84,2,    37.84,2,     0.00,2,     2.71,2,  -999.00,9, -999.000,9, -999.000,9,   -999.0,9,   -999.0,9
           NA,     P10,      7,   1,       1,     -99,  2,19931013,1253,  -2.7500,  145.3583,  1697,   1708.4,   2.7196,  34.6149,2,  34.6158,2,   -999.0,3,  109.900,2,   123.81,2,    37.79,2,     0.00,2,     2.71,2,  -999.00,9, -999.000,9, -999.000,9,   -999.0,9,   -999.0,9