BOTTLE,20210102JOAExport
EXPOCODE,SECT_ID,STNNBR,CASTNO,SAMPNO,BTLNBR,BTLNBR_FLAG_W,DATE,TIME,LATITUDE,LONGITUDE,DEPTH,CTDPRS,CTDTMP,CTDSAL,CTDSAL_FLAG_W,SALNTY,SALNTY_FLAG_W,CTDOXY,CTDOXY_FLAG_W,OXYGEN,OXYGEN_FLAG_W,SILCAT,SILCAT_FLAG_W,NITRAT,NITRAT_FLAG_W,NITRIT,NITRIT_FLAG_W,PHSPHT,PHSPHT_FLAG_W,CFC-11,CFC-11_FLAG_W,CFC-12,CFC-12_FLAG_W,SF6,SF6_FLAG_W,TCARBN,TCARBN_FLAG_W,ALKALI,ALKALI_FLAG_W
,,,,,,,,,,,,DB,ITS-90,PSS-78,,PSS-78,,UMOL/KG,,UMOL/KG,,UMOL/KG,,UMOL/KG,,UMOL/KG,,UMOL/KG,,PMOL/KG,,PMOL/KG,,FMOL/KG,,UMOL/KG,,UMOL/KG
           NA,     P10,     52,   1,      36,     -99,  2,19931025,2004,  14.5083,  149.3250,  5300,     16.1,  29.1241,  34.6326,2,  34.6330,2,    211.6,2,  205.600,2,     1.06,2,     0.00,2,     0.02,2,     0.11,2,     1.73,2,    0.945,2, -999.000,9,   1923.9,2,   2281.5,2
           NA,     P10,     52,   1,      35,     -99,  2,19931025,2004,  14.5083,  149.3250,  5300,     60.3,  29.1024,  34.6310,2,  34.6322,2,    208.1,2,  208.300,2,     1.24,2,     0.00,2,     0.02,2,     0.12,2,     1.75,2,    0.975,2, -999.000,9,   1924.1,2,   2278.4,2
           NA,     P10,     52,   1,      34,     -99,  2,19931025,2004,  14.5083,  149.3250,  5300,    109.0,  26.1079,  34.8308,2,  34.8307,2,    217.7,2,  218.700,2,     1.07,2,     0.00,2,     0.03,2,     0.11,2,     2.04,2,    1.115,2, -999.000,9,   1947.8,2,   2295.5,2
           NA,     P10,     52,   1,      33,     -99,  2,19931025,2004,  14.5083,  149.3250,  5300,    158.7,  23.6299,  35.0618,2,  35.0046,2,    194.5,2,  201.400,2,     1.43,2,    -0.04,2,     0.18,2,     0.19,2,     2.18,2,    1.151,2, -999.000,9,   1997.2,2,   2313.6,2
           NA,     P10,     52,   1,      32,     -99,  2,19931025,2004,  14.5083,  149.3250,  5300,    207.4,  19.1086,  34.9563,2,  34.9503,2,    185.2,2,  177.600,2,     3.69,2,     4.14,2,     0.03,2,     0.43,2,     2.42,2,    1.227,2, -999.000,9,   2049.4,2,   2309.5,2
           NA,     P10,     52,   1,      31,     -99,  2,19931025,2004,  14.5083,  149.3250,  5300,    257.5,  15.3439,  34.6299,2,  34.6264,2,    193.2,2,  188.300,2,     7.54,2,     8.09,2,     0.02,2,     0.65,2,     2.53,2,    1.246,2, -999.000,9,   2058.8,2,   2289.0,2
           NA,     P10,     52,   1,      30,     -99,  2,19931025,2004,  14.5083,  149.3250,  5300,    306.7,  12.0689,  34.3767,2,  34.3758,2,    160.4,2,  150.200,2,    18.21,2,    17.03,2,     0.02,2,     1.31,2,     1.81,2,    0.850,2, -999.000,9,   2122.3,6,   2282.3,6
           NA,     P10,     52,   1,      29,     -99,  2,19931025,2004,  14.5083,  149.3250,  5300,    406.1,   8.3963,  34.4026,2,  34.3997,2,     79.9,2,   60.400,2,    44.95,2,    32.58,2,     0.02,2,     2.41,2,     0.25,2,    0.124,2, -999.000,9,   2242.2,2,   2307.7,2
           NA,     P10,     52,   1,      28,     -99,  2,19931025,2004,  14.5083,  149.3250,  5300,    504.3,   7.1997,  34.4379,2,  34.4367,2,     51.4,2,   60.100,2,    57.01,2,    35.27,2,     0.02,2,     2.57,2,     0.10,2,    0.044,2, -999.000,9,   2262.2,2,   2328.2,2
           NA,     P10,     52,   1,      27,     -99,  2,19931025,2004,  14.5083,  149.3250,  5300,    603.6,   6.2805,  34.4567,2,  34.4552,2,     66.6,2,   66.200,2,    67.50,2,    36.51,2,     0.02,2,     2.65,2,     0.05,2,    0.026,2, -999.000,9,   2274.9,2,   2340.3,2
           NA,     P10,     52,   1,      26,     -99,  2,19931025,2004,  14.5083,  149.3250,  5300,    702.3,   5.7159,  34.4872,2,  34.4823,2,     67.7,2,   65.300,2,    75.19,2,    37.76,2,     0.02,2,     2.73,2,     0.02,2,    0.008,2, -999.000,9,   2288.7,2,   2359.8,2
           NA,     P10,     52,   1,      25,     -99,  2,19931025,2004,  14.5083,  149.3250,  5300,    802.3,   5.3406,  34.5000,2,  34.4990,2,     65.9,2,   69.500,2,    80.96,2,    38.03,2,     0.02,2,     2.74,2,     0.01,2,    0.007,2, -999.000,9,   2293.5,2,   2361.0,2
           NA,     P10,     52,   1,      24,     -99,  2,19931025,2004,  14.5083,  149.3250,  5300,    903.3,   4.9686,  34.5147,2,  34.5147,2,     68.3,2,   73.300,2,    87.07,2,    38.26,2,     0.01,2,     2.76,2,     0.01,2,    0.001,2, -999.000,9,   2299.8,2,   2370.8,2
           NA,     P10,     52,   1,      23,     -99,  2,19931025,2004,  14.5083,  149.3250,  5300,   1002.6,   4.5545,  34.5253,2,  34.5251,2,     76.6,2,   72.700,2,    95.30,2,    38.79,2,     0.02,2,     2.80,2,     0.01,2,    0.009,2, -999.000,9,   2309.6,2,   2382.7,2
           NA,     P10,     52,   1,      22,     -99,  2,19931025,2004,  14.5083,  149.3250,  5300,   1103.7,   4.0755,  34.5388,2,  34.5389,2,     78.4,2,   77.800,2,   105.08,2,    38.81,2,     0.01,2,     2.80,2,     0.00,2,   -0.001,2, -999.000,9,   2314.3,2,   2387.0,2
           NA,     P10,     52,   1,      21,     -99,  2,19931025,2004,  14.5083,  149.3250,  5300,   1205.4,   3.7521,  34.5515,2,  34.5486,2,     80.8,2,   81.200,2,   111.20,2,    38.91,2,     0.02,2,     2.81,2,     0.00,2,   -0.002,2, -999.000,9,   2322.8,2,   2391.4,2
           NA,     P10,     52,   1,      20,     -99,  2,19931025,2004,  14.5083,  149.3250,  5300,   1406.9,   3.2190,  34.5749,2,  34.5744,2,     84.8,2,   84.600,2,   122.21,2,    39.25,2,     0.01,2,     2.83,2,  -999.00,9, -999.000,9, -999.000,9,   2333.6,2,   2401.0,2
           NA,     P10,     52,   1,      19,     -99,  2,19931025,2004,  14.5083,  149.3250,  5300,   1608.6,   2.8111,  34.5918,2,  34.5890,2,     90.6,2,   91.100,2,   130.42,2,    39.14,2,     0.01,2,     2.80,2,  -999.00,9, -999.000,9, -999.000,9,   2339.8,2,   2413.8,2
           NA,     P10,     52,   1,      18,     -99,  2,19931025,2004,  14.5083,  149.3250,  5300,   1810.6,   2.4816,  34.6091,2,  34.6068,2,    102.0,2,  101.300,2,   135.84,2,    38.62,2,     0.01,2,     2.75,2,  -999.00,9, -999.000,9, -999.000,9,   2339.1,2,   -999.0,3
           NA,     P10,     52,   1,      17,     -99,  2,19931025,2004,  14.5083,  149.3250,  5300,   2013.1,   2.2616,  34.6221,2,  34.6215,2,    107.1,2,  106.800,2,   139.69,2,    38.35,2,     0.01,2,     2.74,2,  -999.00,9, -999.000,9, -999.000,9,   2342.1,2,   2419.4,6
           NA,     P10,     52,   1,      16,     -99,  2,19931025,2004,  14.5083,  149.3250,  5300,   2245.2,   2.0128,  34.6374,2,  34.6402,2,    113.9,2,  113.800,2,   144.24,2,    37.98,2,     0.01,2,     2.71,2,  -999.00,9, -999.000,9, -999.000,9,   2342.4,2,   2427.8,2
           NA,     P10,     52,   1,      15,     -99,  2,19931025,2004,  14.5083,  149.3250,  5300,   2497.7,   1.8324,  34.6524,2,  34.6536,2,    119.6,2,  120.600,2,   147.56,2,    37.72,2,     0.01,2,     2.68,2,     0.00,2,   -0.003,2, -999.000,9,   2340.6,2,   2430.3,2
           NA,     P10,     52,   1,      14,     -99,  2,19931025,2004,  14.5083,  149.3250,  5300,   2746.3,   1.7033,  34.6631,2,  34.6638,2,    127.5,2,  128.000,2,   148.77,2,    37.24,2,     0.01,2,     2.64,2,  -999.00,9, -999.000,9, -999.000,9,   2339.3,2,   2426.1,2
           NA,     P10,     52,   1,      13,     -99,  2,19931025,2004,  14.5083,  149.3250,  5300,   2997.7,   1.6159,  34.6696,2,  34.6713,2,    133.6,2,  134.000,2,   149.30,2,    36.91,2,     0.01,2,     2.61,2,  -999.00,9, -999.000,9, -999.000,9,   2337.6,2,   2434.0,2
           NA,     P10,     52,   1,      12,     -99,  2,19931025,2004,  14.5083,  149.3250,  5300,   3240.2,   1.5789,  34.6742,2,  34.6750,2,    138.4,2,  138.400,2,   148.78,2,    36.61,2,     0.00,2,     2.59,2,  -999.00,9, -999.000,9, -999.000,9,   2332.5,2,   2434.0,2
           NA,     P10,     52,   1,      11,     -99,  2,19931025,2004,  14.5083,  149.3250,  5300,   3495.9,   1.5227,  34.6795,2,-999.0000,4,    144.2,2,  145.100,2,   147.56,2,    36.17,2,     0.01,2,     2.55,2,  -999.00,9, -999.000,9, -999.000,9,   2328.5,2,   2427.5,2
           NA,     P10,     52,   1,      10,     -99,  2,19931025,2004,  14.5083,  149.3250,  5300,   3743.8,   1.4828,  34.6840,2,  34.6850,2,    150.8,2,  152.400,2,   144.58,2,    35.65,2,     0.00,2,     2.51,2,  -999.00,9, -999.000,9, -999.000,9,   2321.8,2,   2437.9,2
           NA,     P10,     52,   1,       9,     -99,  2,19931025,2004,  14.5083,  149.3250,  5300,   3998.2,   1.4577,  34.6881,2,  34.6876,2,    156.9,2,  158.100,2,   141.79,2,    35.22,2,     0.01,2,     2.48,2,  -999.00,9, -999.000,9, -999.000,9,   2315.7,2,   2425.4,2
           NA,     P10,     52,   1,       8,     -99,  2,19931025,2004,  14.5083,  149.3250,  5300,   4246.7,   1.4354,  34.6916,2,  34.6883,2,    163.1,2,  161.700,2,  -999.00,3,  -999.00,3,     0.00,2,  -999.00,3,  -999.00,9, -999.000,9, -999.000,9,   2310.2,2,   2431.6,2
           NA,     P10,     52,   1,       7,     -99,  2,19931025,2004,  14.5083,  149.3250,  5300,   4500.4,   1.4327,  34.6939,2,  34.6945,2,    168.7,2,  168.900,2,   136.03,2,    34.54,2,     0.00,2,     2.43,2,  -999.00,9, -999.000,9, -999.000,9,   2304.4,2,   2418.2,2
           NA,     P10,     52,   1,       6,     -99,  2,19931025,2004,  14.5083,  149.3250,  5300,   4745.8,   1.4407,  34.6951,2,  34.6956,2,    172.2,2,  170.900,2,   134.45,2,    34.33,2,     0.00,2,     2.41,2,  -999.00,9, -999.000,9, -999.000,9,   2303.0,6,   2420.4,6
           NA,     P10,     52,   1,       5,     -99,  2,19931025,2004,  14.5083,  149.3250,  5300,   4999.2,   1.4497,  34.6966,2,  34.6964,2,    174.3,2,  174.400,2,   132.72,2,    34.13,2,    -0.01,2,     2.40,2,  -999.00,9, -999.000,9, -999.000,9,   2301.7,2,   2423.6,2
           NA,     P10,     52,   1,       3,     -99,  2,19931025,2004,  14.5083,  149.3250,  5300,   5201.6,   1.4651,  34.6982,2,-999.0000,4,    176.3,2,  175.600,2,   132.01,2,    34.03,2,    -0.01,2,     2.38,2,     0.00,2,   -0.003,2, -999.000,9,   -999.0,9,   -999.0,9
           NA,     P10,     52,   1,       4,     -99,  2,19931025,2004,  14.5083,  149.3250,  5300,   5202.2,   1.4653,  34.6978,2,  34.6984,2,    176.4,2,  175.300,2,   132.19,1,    34.01,1,     0.00,1,     2.39,1,  -999.00,4,    0.002,2, -999.000,9,   2301.0,2,   2419.0,2
           NA,     P10,     52,   1,       1,     -99,  2,19931025,2004,  14.5083,  149.3250,  5300,   5363.2,   1.4827,  34.6980,2,  34.6992,2,    176.0,2,  177.100,2,   131.64,2,    33.94,2,     0.00,2,     2.38,2,     0.00,2,   -0.001,2, -999.000,9,   -999.0,9,   -999.0,9
           NA,     P10,     52,   1,       2,     -99,  2,19931025,2004,  14.5083,  149.3250,  5300,   5363.2,   1.4828,  34.6979,2,  34.6989,2,    176.0,2,  177.400,2,   131.85,1,    34.03,1,    -0.01,1,     2.39,1,  -999.00,4,    0.003,2, -999.000,9,   2299.2,2,   -999.0,3