BOTTLE,20210102JOAExport
EXPOCODE,SECT_ID,STNNBR,CASTNO,SAMPNO,BTLNBR,BTLNBR_FLAG_W,DATE,TIME,LATITUDE,LONGITUDE,DEPTH,CTDPRS,CTDTMP,CTDSAL,CTDSAL_FLAG_W,SALNTY,SALNTY_FLAG_W,CTDOXY,CTDOXY_FLAG_W,OXYGEN,OXYGEN_FLAG_W,SILCAT,SILCAT_FLAG_W,NITRAT,NITRAT_FLAG_W,NITRIT,NITRIT_FLAG_W,PHSPHT,PHSPHT_FLAG_W,CFC-11,CFC-11_FLAG_W,CFC-12,CFC-12_FLAG_W,SF6,SF6_FLAG_W,TCARBN,TCARBN_FLAG_W,ALKALI,ALKALI_FLAG_W
,,,,,,,,,,,,DB,ITS-90,PSS-78,,PSS-78,,UMOL/KG,,UMOL/KG,,UMOL/KG,,UMOL/KG,,UMOL/KG,,UMOL/KG,,PMOL/KG,,PMOL/KG,,FMOL/KG,,UMOL/KG,,UMOL/KG
           NA,     P10,     70,   1,      36,     -99,  2,19931102,0849,  26.5112,  149.3278,  6079,     17.2,  26.8235,  35.1176,2,  35.1190,2,    208.0,2,  212.700,2,     1.32,2,     0.00,2,     0.00,2,     0.01,2,     1.80,2,    1.000,2, -999.000,9,   -999.0,9,   -999.0,9
           NA,     P10,     70,   1,      35,     -99,  2,19931102,0849,  26.5112,  149.3278,  6079,     51.1,  26.6755,  35.1160,2,  35.1168,2,    210.6,2,  216.300,2,     1.50,2,     0.00,2,     0.00,2,     0.02,2,     1.82,2,    1.010,2, -999.000,9,   -999.0,9,   -999.0,9
           NA,     P10,     70,   1,      34,     -99,  2,19931102,0849,  26.5112,  149.3278,  6079,    100.5,  20.6313,  34.9558,2,  34.9570,2,    227.0,2,  228.800,2,     2.20,2,     0.05,2,     0.00,2,     0.03,2,     2.37,2,    1.269,2, -999.000,9,   -999.0,9,   -999.0,9
           NA,     P10,     70,   1,      33,     -99,  2,19931102,0849,  26.5112,  149.3278,  6079,    151.4,  18.1647,  34.8551,2,  34.8598,2,    214.1,2,  212.200,2,     3.07,2,     1.69,2,     0.05,2,     0.19,2,     2.57,2,    1.358,2, -999.000,9,   -999.0,9,   -999.0,9
           NA,     P10,     70,   1,      32,     -99,  2,19931102,0849,  26.5112,  149.3278,  6079,    201.1,  17.4504,  34.8084,2,  34.8073,2,    214.5,2,  211.800,2,     3.76,2,     3.57,2,     0.01,2,     0.28,2,     2.53,6,    1.338,6, -999.000,9,   -999.0,9,   -999.0,9
           NA,     P10,     70,   1,      31,     -99,  2,19931102,0849,  26.5112,  149.3278,  6079,    250.3,  16.8663,  34.7714,2,  34.7705,2,    211.3,2,  208.500,2,     4.79,2,     4.85,2,     0.01,2,     0.36,2,     2.46,2,    1.288,2, -999.000,9,   -999.0,9,   -999.0,9
           NA,     P10,     70,   1,      30,     -99,  2,19931102,0849,  26.5112,  149.3278,  6079,    300.9,  15.9739,  34.7004,2,  34.6994,2,    204.0,2,  202.300,2,     6.69,2,     6.76,2,     0.00,2,     0.49,2,     2.55,2,    1.330,2, -999.000,9,   -999.0,9,   -999.0,9
           NA,     P10,     70,   1,      29,     -99,  2,19931102,0849,  26.5112,  149.3278,  6079,    399.9,  13.3603,  34.4860,2,  34.4847,2,    197.2,2,  191.300,2,    14.24,2,    11.94,2,     0.00,2,     0.86,2,     2.38,2,    1.217,2, -999.000,9,   -999.0,9,   -999.0,9
           NA,     P10,     70,   1,      28,     -99,  2,19931102,0849,  26.5112,  149.3278,  6079,    498.8,  10.8940,  34.2936,2,  34.2933,2,    197.8,2,  189.300,2,    21.79,2,    16.25,2,     0.00,2,     1.15,2,     2.33,2,    1.139,2, -999.000,9,   -999.0,9,   -999.0,9
           NA,     P10,     70,   1,      27,     -99,  2,19931102,0849,  26.5112,  149.3278,  6079,    598.9,   7.9325,  34.0909,2,  34.0955,2,    182.9,2,  167.400,2,    39.64,2,    23.67,2,     0.00,2,     1.70,2,     1.86,2,    0.914,2, -999.000,9,   -999.0,9,   -999.0,9
           NA,     P10,     70,   1,      26,     -99,  2,19931102,0849,  26.5112,  149.3278,  6079,    699.0,   6.0557,  34.0456,2,  34.0471,2,    145.5,2,  125.400,2,    61.77,2,    30.81,2,    -0.01,2,     2.21,2,     1.24,2,    0.592,2, -999.000,9,   -999.0,9,   -999.0,9
           NA,     P10,     70,   1,      25,     -99,  2,19931102,0849,  26.5112,  149.3278,  6079,    798.4,   4.9575,  34.1096,2,  34.1112,2,     96.1,2,   80.800,2,    84.07,2,    36.60,2,    -0.01,2,     2.62,2,     0.58,2,    0.260,2, -999.000,9,   -999.0,9,   -999.0,9
           NA,     P10,     70,   1,      24,     -99,  2,19931102,0849,  26.5112,  149.3278,  6079,    899.3,   4.2580,  34.2159,2,  34.2160,2,     58.1,2,   50.900,2,   103.27,2,    40.13,2,    -0.01,2,     2.85,2,     0.19,2,    0.087,2, -999.000,9,   -999.0,9,   -999.0,9
           NA,     P10,     70,   1,      23,     -99,  2,19931102,0849,  26.5112,  149.3278,  6079,   1000.1,   3.6973,  34.3086,2,  34.3074,2,     41.5,2,   39.700,2,   119.05,2,    41.60,2,     0.00,2,     2.96,2,     0.07,2,    0.037,2, -999.000,9,   -999.0,9,   -999.0,9
           NA,     P10,     70,   1,      22,     -99,  2,19931102,0849,  26.5112,  149.3278,  6079,   1201.6,   3.1288,  34.4207,2,  34.4209,2,     38.6,2,   38.500,2,   134.65,2,    42.48,2,     0.00,2,     3.01,2,     0.01,2,    0.006,2, -999.000,9,   -999.0,9,   -999.0,9
           NA,     P10,     70,   1,      21,     -99,  2,19931102,0849,  26.5112,  149.3278,  6079,   1401.4,   2.6769,  34.5093,2,  34.5102,2,     55.3,2,   54.600,2,   143.91,2,    41.63,2,     0.03,2,     2.94,2,  -999.00,9, -999.000,9, -999.000,9,   -999.0,9,   -999.0,9
           NA,     P10,     70,   1,      20,     -99,  2,19931102,0849,  26.5112,  149.3278,  6079,   1603.4,   2.3011,  34.5564,2,  34.5561,2,     68.6,2,   67.400,2,   151.45,2,    41.07,2,     0.03,2,     2.90,2,  -999.00,9, -999.000,9, -999.000,9,   -999.0,9,   -999.0,9
           NA,     P10,     70,   1,      19,     -99,  2,19931102,0849,  26.5112,  149.3278,  6079,   1804.4,   2.0748,  34.5886,2,  34.5891,2,   -999.0,3,   82.600,2,   153.18,2,    40.21,2,     0.02,2,     2.82,2,  -999.00,9, -999.000,9, -999.000,9,   -999.0,9,   -999.0,9
           NA,     P10,     70,   1,      18,     -99,  2,19931102,0849,  26.5112,  149.3278,  6079,   2005.3,   1.9206,  34.6101,2,  34.6102,2,     98.0,2,   95.900,2,   153.35,2,    39.34,2,     0.02,2,     2.76,2,  -999.00,9, -999.000,9, -999.000,9,   -999.0,9,   -999.0,9
           NA,     P10,     70,   1,      17,     -99,  2,19931102,0849,  26.5112,  149.3278,  6079,   2205.2,   1.8136,  34.6262,2,  34.6267,2,    106.8,2,  106.200,2,   152.68,2,    38.78,2,     0.02,2,     2.72,2,  -999.00,9, -999.000,9, -999.000,9,   -999.0,9,   -999.0,9
           NA,     P10,     70,   1,      16,     -99,  2,19931102,0849,  26.5112,  149.3278,  6079,   2405.9,   1.7358,  34.6391,2,  34.6394,2,    115.9,2,  115.400,2,   151.66,2,    38.17,2,     0.02,2,     2.67,2,  -999.00,9, -999.000,9, -999.000,9,   -999.0,9,   -999.0,9
           NA,     P10,     70,   1,      15,     -99,  2,19931102,0849,  26.5112,  149.3278,  6079,   2607.1,   1.6804,  34.6491,2,  34.6493,2,    124.3,2,  123.100,2,   150.12,2,    37.55,2,     0.02,2,     2.63,2,  -999.00,9, -999.000,9, -999.000,9,   -999.0,9,   -999.0,9
           NA,     P10,     70,   1,      14,     -99,  2,19931102,0849,  26.5112,  149.3278,  6079,   2799.0,   1.6328,  34.6569,2,  34.6567,2,    129.1,2,  129.100,2,   148.94,2,    37.26,2,     0.01,2,     2.61,2,  -999.00,9, -999.000,9, -999.000,9,   -999.0,9,   -999.0,9
           NA,     P10,     70,   1,      13,     -99,  2,19931102,0849,  26.5112,  149.3278,  6079,   3002.8,   1.5964,  34.6622,2,  34.6626,2,    132.9,2,  133.100,2,   148.77,2,    37.06,2,     0.01,2,     2.58,2,     0.00,2,    0.003,2, -999.000,9,   -999.0,9,   -999.0,9
           NA,     P10,     70,   1,      12,     -99,  2,19931102,0849,  26.5112,  149.3278,  6079,   3254.1,   1.5488,  34.6680,2,  34.6681,2,    137.3,2,  137.800,2,   148.62,2,    36.70,2,     0.01,2,     2.56,2,  -999.00,9, -999.000,9, -999.000,9,   -999.0,9,   -999.0,9
           NA,     P10,     70,   1,      11,     -99,  2,19931102,0849,  26.5112,  149.3278,  6079,   3510.6,   1.5199,  34.6724,2,  34.6734,2,    141.1,2,  142.400,2,   148.29,2,    36.55,2,     0.01,2,     2.54,2,  -999.00,9, -999.000,9, -999.000,9,   -999.0,9,   -999.0,9
           NA,     P10,     70,   1,      10,     -99,  2,19931102,0849,  26.5112,  149.3278,  6079,   3775.4,   1.4974,  34.6773,2,  34.6774,2,    146.2,2,  147.100,2,   147.26,2,    36.15,2,     0.00,2,     2.53,2,  -999.00,9, -999.000,9, -999.000,9,   -999.0,9,   -999.0,9
           NA,     P10,     70,   1,       9,     -99,  4,19931102,0849,  26.5112,  149.3278,  6079,   4024.9,   1.4838,  34.6812,2,-999.0000,4,    150.7,2, -999.000,4,  -999.00,4,  -999.00,4,  -999.00,4,  -999.00,4,  -999.00,9, -999.000,9, -999.000,9,   -999.0,9,   -999.0,9
           NA,     P10,     70,   1,       8,     -99,  2,19931102,0849,  26.5112,  149.3278,  6079,   4269.3,   1.4727,  34.6842,2,  34.6844,2,    154.3,2,  155.000,2,   145.40,2,    35.69,2,     0.00,2,     2.47,2,  -999.00,9, -999.000,9, -999.000,9,   -999.0,9,   -999.0,9
           NA,     P10,     70,   1,       7,     -99,  2,19931102,0849,  26.5112,  149.3278,  6079,   4519.7,   1.4748,  34.6867,2,  34.6864,2,    157.8,2,  158.300,2,   143.87,2,    35.39,2,     0.00,2,     2.46,2,  -999.00,9, -999.000,9, -999.000,9,   -999.0,9,   -999.0,9
           NA,     P10,     70,   1,       6,     -99,  2,19931102,0849,  26.5112,  149.3278,  6079,   4750.9,   1.4900,  34.6878,2,  34.6880,2,    159.7,2,  160.000,2,   143.54,2,    35.50,2,     0.00,2,     2.45,2,  -999.00,9, -999.000,9, -999.000,9,   -999.0,9,   -999.0,9
           NA,     P10,     70,   1,       5,     -99,  2,19931102,0849,  26.5112,  149.3278,  6079,   4984.7,   1.5100,  34.6880,2,  34.6895,2,    162.0,2,  161.300,2,   142.52,2,    35.09,2,     0.00,2,     2.44,2,    -0.00,2,    0.001,2, -999.000,9,   -999.0,9,   -999.0,9
           NA,     P10,     70,   1,       4,     -99,  2,19931102,0849,  26.5112,  149.3278,  6079,   5289.8,   1.5388,  34.6889,2,  34.6901,2,    163.7,2,  163.300,2,   140.99,2,    35.10,2,    -0.01,2,     2.43,2,  -999.00,4,    0.006,2, -999.000,9,   -999.0,9,   -999.0,9
           NA,     P10,     70,   1,       3,     -99,  2,19931102,0849,  26.5112,  149.3278,  6079,   5586.9,   1.5673,  34.6910,2,  34.6909,2,    165.6,2,  164.900,2,   139.96,2,    34.95,2,    -0.01,2,     2.42,2,  -999.00,9, -999.000,9, -999.000,9,   -999.0,9,   -999.0,9
           NA,     P10,     70,   1,       2,     -99,  2,19931102,0849,  26.5112,  149.3278,  6079,   5882.5,   1.5970,  34.6912,2,  34.6923,2,    167.4,2,  167.200,2,   138.26,2,    34.80,2,    -0.01,2,     2.41,2,  -999.00,4,    0.000,2, -999.000,9,   -999.0,9,   -999.0,9
           NA,     P10,     70,   1,       1,     -99,  2,19931102,0849,  26.5112,  149.3278,  6079,   6192.1,   1.6073,  34.6944,2,  34.6952,2,    173.5,2,  173.100,2,   133.32,2,    34.27,2,    -0.01,2,     2.37,2,     0.00,2,   -0.003,2, -999.000,9,   -999.0,9,   -999.0,9