BOTTLE,20210102JOAExport
EXPOCODE,SECT_ID,STNNBR,CASTNO,SAMPNO,BTLNBR,BTLNBR_FLAG_W,DATE,TIME,LATITUDE,LONGITUDE,DEPTH,CTDPRS,CTDTMP,CTDSAL,CTDSAL_FLAG_W,SALNTY,SALNTY_FLAG_W,CTDOXY,CTDOXY_FLAG_W,OXYGEN,OXYGEN_FLAG_W,SILCAT,SILCAT_FLAG_W,NITRAT,NITRAT_FLAG_W,NITRIT,NITRIT_FLAG_W,PHSPHT,PHSPHT_FLAG_W,CFC-11,CFC-11_FLAG_W,CFC-12,CFC-12_FLAG_W,SF6,SF6_FLAG_W,TCARBN,TCARBN_FLAG_W,ALKALI,ALKALI_FLAG_W
,,,,,,,,,,,,DB,ITS-90,PSS-78,,PSS-78,,UMOL/KG,,UMOL/KG,,UMOL/KG,,UMOL/KG,,UMOL/KG,,UMOL/KG,,PMOL/KG,,PMOL/KG,,FMOL/KG,,UMOL/KG,,UMOL/KG
           NA,     P10,     82,   1,      36,     -99,  2,19931106,1453,  33.1417,  144.3195,  5820,     14.5,  23.2330,  34.6639,2,  34.6638,2,    211.4,2,  215.000,2,     1.32,2,    -0.02,2,     0.02,2,     0.03,2,     2.14,2,    1.201,2, -999.000,9,   -999.0,9,   -999.0,9
           NA,     P10,     82,   1,      35,     -99,  2,19931106,1453,  33.1417,  144.3195,  5820,     46.3,  23.1395,  34.6930,2,  34.6923,2,    220.0,2,  214.800,2,     1.33,2,     0.01,2,    -0.01,2,     0.02,2,  -999.00,9, -999.000,9, -999.000,9,   -999.0,9,   -999.0,9
           NA,     P10,     82,   1,      34,     -99,  2,19931106,1453,  33.1417,  144.3195,  5820,     98.5,  22.8167,  34.7314,2,  34.7361,2,    202.4,2,  214.200,2,     1.51,2,     0.05,2,     0.05,2,     0.04,2,     2.16,2,    1.167,2, -999.000,9,   -999.0,9,   -999.0,9
           NA,     P10,     82,   1,      32,     -99,  2,19931106,1453,  33.1417,  144.3195,  5820,    147.8,  19.1743,  34.8697,2,  34.8686,2,    211.9,2,  213.200,2,     2.24,2,     1.48,2,     0.02,2,     0.16,2,     2.39,2,    1.263,2, -999.000,9,   -999.0,9,   -999.0,9
           NA,     P10,     82,   1,      33,     -99,  2,19931106,1453,  33.1417,  144.3195,  5820,    148.2,  19.1744,  34.8711,2,-999.0000,3,    211.9,2, -999.000,3,  -999.00,3,  -999.00,3,  -999.00,3,  -999.00,3,  -999.00,9, -999.000,9, -999.000,9,   -999.0,9,   -999.0,9
           NA,     P10,     82,   1,      31,     -99,  2,19931106,1453,  33.1417,  144.3195,  5820,    192.8,  18.0733,  34.8363,2,  34.8380,2,    206.2,2,  210.400,2,     2.77,2,     2.70,2,     0.01,2,     0.23,2,     2.53,2,    1.345,2, -999.000,9,   -999.0,9,   -999.0,9
           NA,     P10,     82,   1,      30,     -99,  2,19931106,1453,  33.1417,  144.3195,  5820,    246.7,  17.5901,  34.8058,2,  34.8081,2,    209.5,2,  207.800,2,     3.66,2,     3.86,2,     0.00,2,     0.30,2,     2.53,6,    1.332,6, -999.000,9,   -999.0,9,   -999.0,9
           NA,     P10,     82,   1,      29,     -99,  2,19931106,1453,  33.1417,  144.3195,  5820,    296.8,  17.2034,  34.7838,2,  34.7821,2,    215.1,2,  203.500,2,     4.55,2,     4.85,2,     0.00,2,     0.37,2,  -999.00,9, -999.000,9, -999.000,9,   -999.0,9,   -999.0,9
           NA,     P10,     82,   1,      28,     -99,  2,19931106,1453,  33.1417,  144.3195,  5820,    396.5,  15.9599,  34.6956,2,  34.6895,2,    197.3,2,  194.300,2,     7.72,2,     7.69,2,     0.00,2,     0.57,2,     2.28,2,    1.159,2, -999.000,9,   -999.0,9,   -999.0,9
           NA,     P10,     82,   1,      27,     -99,  2,19931106,1453,  33.1417,  144.3195,  5820,    497.0,  13.5262,  34.5102,2,  34.5104,2,    186.6,2,  182.800,2,    15.48,2,    12.55,2,     0.00,2,     0.91,2,     2.16,2,    1.097,2, -999.000,9,   -999.0,9,   -999.0,9
           NA,     P10,     82,   1,      26,     -99,  2,19931106,1453,  33.1417,  144.3195,  5820,    598.3,  11.1735,  34.3341,2,  34.3347,2,    182.5,2,  182.800,2,    23.40,2,    16.32,2,     0.00,2,     1.18,2,     2.16,2,    1.073,2, -999.000,9,   -999.0,9,   -999.0,9
           NA,     P10,     82,   1,      25,     -99,  2,19931106,1453,  33.1417,  144.3195,  5820,    694.9,   8.5952,  34.1649,2,  34.1629,2,    155.9,2,  166.800,2,    38.73,2,    22.24,2,     0.00,2,     1.62,2,  -999.00,9, -999.000,9, -999.000,9,   -999.0,9,   -999.0,9
           NA,     P10,     82,   1,      24,     -99,  2,19931106,1453,  33.1417,  144.3195,  5820,    892.8,   5.2449,  34.0708,2,  34.0729,2,    105.9,2,  109.200,2,    75.34,2,    33.29,2,     0.00,2,     2.41,2,     1.25,2,    0.566,2, -999.000,9,   -999.0,9,   -999.0,9
           NA,     P10,     82,   1,      23,     -99,  2,19931106,1453,  33.1417,  144.3195,  5820,    992.0,   5.0902,  34.2622,2,  34.2619,2,     83.1,2,   79.200,2,    92.23,2,    35.95,2,     0.00,2,     2.58,2,  -999.00,9, -999.000,9, -999.000,9,   -999.0,9,   -999.0,9
           NA,     P10,     82,   1,      22,     -99,  3,19931106,1453,  33.1417,  144.3195,  5820,   1190.2,   3.8261,  34.3354,2,  34.3337,2,     54.0,2, -999.000,3,   116.68,2,    39.67,2,     0.00,2,     2.84,2,     0.17,2,    0.075,2, -999.000,9,   -999.0,9,   -999.0,9
           NA,     P10,     82,   1,      21,     -99,  2,19931106,1453,  33.1417,  144.3195,  5820,   1394.0,   3.1580,  34.4036,2,  34.4022,2,     47.2,2,   47.500,2,   133.75,2,    41.24,2,     0.00,2,     2.94,2,  -999.00,4,    0.023,2, -999.000,9,   -999.0,9,   -999.0,9
           NA,     P10,     82,   1,      20,     -99,  2,19931106,1453,  33.1417,  144.3195,  5820,   1593.9,   2.6959,  34.4735,2,  34.4727,2,     46.9,2,   46.900,2,   146.25,2,    41.77,2,     0.00,2,     2.98,2,     0.03,2,    0.008,2, -999.000,9,   -999.0,9,   -999.0,9
           NA,     P10,     82,   1,      19,     -99,  2,19931106,1453,  33.1417,  144.3195,  5820,   1794.2,   2.3962,  34.5214,2,  34.5212,2,     52.4,2,   53.100,2,   153.46,2,    41.61,2,     0.00,2,     2.96,2,     0.01,2,    0.004,2, -999.000,9,   -999.0,9,   -999.0,9
           NA,     P10,     82,   1,      18,     -99,  2,19931106,1453,  33.1417,  144.3195,  5820,   1993.8,   2.1785,  34.5586,2,  34.5569,2,     60.3,2,   61.900,2,   157.51,2,    41.24,2,     0.00,2,     2.92,2,  -999.00,9, -999.000,9, -999.000,9,   -999.0,9,   -999.0,9
           NA,     P10,     82,   1,      17,     -99,  2,19931106,1453,  33.1417,  144.3195,  5820,   2196.1,   1.9952,  34.5912,2,  34.5897,2,     75.4,2,   76.100,2,   159.27,2,    40.36,2,     0.00,2,     2.86,2,  -999.00,9, -999.000,9, -999.000,9,   -999.0,9,   -999.0,9
           NA,     P10,     82,   1,      16,     -99,  2,19931106,1453,  33.1417,  144.3195,  5820,   2396.3,   1.8462,  34.6175,2,  34.6157,2,     90.6,2,   91.900,2,   158.58,2,    39.37,2,     0.00,2,     2.78,2,  -999.00,9, -999.000,9, -999.000,9,   -999.0,9,   -999.0,9
           NA,     P10,     82,   1,      15,     -99,  3,19931106,1453,  33.1417,  144.3195,  5820,   2563.1,   1.7529,  34.6328,2,-999.0000,4,    101.8,2, -999.000,4,  -999.00,4,  -999.00,4,  -999.00,4,  -999.00,4,  -999.00,9, -999.000,9, -999.000,9,   -999.0,9,   -999.0,9
           NA,     P10,     82,   1,      14,     -99,  2,19931106,1453,  33.1417,  144.3195,  5820,   2796.0,   1.6685,  34.6467,2,  34.6461,2,    112.6,2,  114.000,2,   156.47,2,    38.12,2,     0.00,2,     2.69,2,  -999.00,9, -999.000,9, -999.000,9,   -999.0,9,   -999.0,9
           NA,     P10,     82,   1,      13,     -99,  2,19931106,1453,  33.1417,  144.3195,  5820,   2994.6,   1.6131,  34.6555,2,  34.6575,2,    121.8,2,  122.000,2,   154.90,2,    37.50,2,    -0.01,2,     2.66,2,  -999.00,9, -999.000,9, -999.000,9,   -999.0,9,   -999.0,9
           NA,     P10,     82,   1,      12,     -99,  2,19931106,1453,  33.1417,  144.3195,  5820,   3243.9,   1.5611,  34.6650,2,  34.6634,2,    130.4,2,  130.200,2,   153.50,2,    37.02,2,     0.00,2,     2.61,2,  -999.00,9, -999.000,9, -999.000,9,   -999.0,9,   -999.0,9
           NA,     P10,     82,   1,      11,     -99,  2,19931106,1453,  33.1417,  144.3195,  5820,   3497.5,   1.5181,  34.6721,2,  34.6711,2,    137.6,2,  138.500,2,   151.40,2,    36.46,2,    -0.01,2,     2.56,2,  -999.00,9, -999.000,9, -999.000,9,   -999.0,9,   -999.0,9
           NA,     P10,     82,   1,      10,     -99,  2,19931106,1453,  33.1417,  144.3195,  5820,   3741.3,   1.4938,  34.6767,2,  34.6766,2,    143.5,2,  144.300,2,   150.36,2,    36.13,2,     0.00,2,     2.54,2,  -999.00,9, -999.000,9, -999.000,9,   -999.0,9,   -999.0,9
           NA,     P10,     82,   1,       9,     -99,  2,19931106,1453,  33.1417,  144.3195,  5820,   3989.0,   1.4659,  34.6828,2,  34.6825,2,    150.4,2,  150.900,2,   148.25,2,    35.72,2,    -0.01,2,     2.50,2,  -999.00,9, -999.000,9, -999.000,9,   -999.0,9,   -999.0,9
           NA,     P10,     82,   1,       8,     -99,  2,19931106,1453,  33.1417,  144.3195,  5820,   4246.2,   1.4664,  34.6856,2,  34.6848,2,    154.0,2,  154.100,2,   147.20,2,    35.42,2,    -0.01,2,     2.48,2,  -999.00,9, -999.000,9, -999.000,9,   -999.0,9,   -999.0,9
           NA,     P10,     82,   1,       7,     -99,  2,19931106,1453,  33.1417,  144.3195,  5820,   4500.8,   1.4698,  34.6882,2,  34.6866,2,    157.2,2,  157.400,2,   145.98,2,    35.20,2,     0.00,2,     2.46,2,  -999.00,9, -999.000,9, -999.000,9,   -999.0,9,   -999.0,9
           NA,     P10,     82,   1,       6,     -99,  2,19931106,1453,  33.1417,  144.3195,  5820,   4739.4,   1.4853,  34.6895,2,  34.6884,2,    159.7,2,  159.900,2,   144.76,2,    35.06,2,    -0.01,2,     2.45,2,  -999.00,9, -999.000,9, -999.000,9,   -999.0,9,   -999.0,9
           NA,     P10,     82,   1,       5,     -99,  2,19931106,1453,  33.1417,  144.3195,  5820,   5010.8,   1.5068,  34.6900,2,  34.6895,2,    161.7,2,  161.600,2,   143.36,2,    34.89,2,     0.00,2,     2.43,2,  -999.00,9, -999.000,9, -999.000,9,   -999.0,9,   -999.0,9
           NA,     P10,     82,   1,       4,     -99,  2,19931106,1453,  33.1417,  144.3195,  5820,   5242.0,   1.5288,  34.6912,2,  34.6901,2,    163.3,2,  162.700,2,   142.48,2,    34.84,2,     0.00,2,     2.43,2,  -999.00,4,   -0.001,2, -999.000,9,   -999.0,9,   -999.0,9
           NA,     P10,     82,   1,       3,     -99,  2,19931106,1453,  33.1417,  144.3195,  5820,   5487.5,   1.5527,  34.6915,2,  34.6911,2,    164.0,2,  163.900,2,   141.97,2,    34.73,2,     0.01,2,     2.42,2,  -999.00,9, -999.000,9, -999.000,9,   -999.0,9,   -999.0,9
           NA,     P10,     82,   1,       2,     -99,  2,19931106,1453,  33.1417,  144.3195,  5820,   5744.2,   1.5833,  34.6922,2,  34.6913,2,    165.0,2,  164.900,2,   141.10,2,    34.76,2,    -0.01,2,     2.42,2,  -999.00,4,    0.000,2, -999.000,9,   -999.0,9,   -999.0,9
           NA,     P10,     82,   1,       1,     -99,  2,19931106,1453,  33.1417,  144.3195,  5820,   5931.8,   1.6068,  34.6922,2,  34.6911,2,    163.2,2,  164.600,2,   141.48,2,    34.66,2,     0.01,2,     2.41,2,     0.00,2,   -0.002,2, -999.000,9,   -999.0,9,   -999.0,9