BOTTLE,20210102JOAExport
EXPOCODE,SECT_ID,STNNBR,CASTNO,SAMPNO,BTLNBR,BTLNBR_FLAG_W,DATE,TIME,LATITUDE,LONGITUDE,DEPTH,CTDPRS,CTDTMP,CTDSAL,CTDSAL_FLAG_W,SALNTY,SALNTY_FLAG_W,CTDOXY,CTDOXY_FLAG_W,OXYGEN,OXYGEN_FLAG_W,SILCAT,SILCAT_FLAG_W,NITRAT,NITRAT_FLAG_W,NITRIT,NITRIT_FLAG_W,PHSPHT,PHSPHT_FLAG_W,CFC-11,CFC-11_FLAG_W,CFC-12,CFC-12_FLAG_W,SF6,SF6_FLAG_W,TCARBN,TCARBN_FLAG_W,ALKALI,ALKALI_FLAG_W
,,,,,,,,,,,,DB,ITS-90,PSS-78,,PSS-78,,UMOL/KG,,UMOL/KG,,UMOL/KG,,UMOL/KG,,UMOL/KG,,UMOL/KG,,PMOL/KG,,PMOL/KG,,FMOL/KG,,UMOL/KG,,UMOL/KG
           NA,     P10,     77,   1,      36,     -99,  2,19931105,0008,  30.7000,  147.4028,  6208,     15.5,  25.1797,  35.0989,2,  35.1018,2,    214.5,2,  210.500,2,     1.50,2,     0.00,2,     0.01,2,     0.01,2,     2.09,2,    1.125,2, -999.000,9,   1969.3,2,   2308.9,2
           NA,     P10,     77,   1,      35,     -99,  2,19931105,0008,  30.7000,  147.4028,  6208,     46.0,  25.1717,  35.0988,2,  35.1009,2,    214.9,2,  210.700,2,     1.69,2,     0.05,2,     0.01,2,     0.01,2,     2.09,2,    1.159,2, -999.000,9,   1959.7,2,   2314.8,2
           NA,     P10,     77,   1,      34,     -99,  2,19931105,0008,  30.7000,  147.4028,  6208,     92.7,  21.2662,  34.9135,2,  34.9218,2,    238.0,2,  234.000,2,     1.87,2,     0.42,2,     0.01,2,     0.03,2,     2.54,2,    1.337,2, -999.000,9,   1979.0,2,   2308.9,2
           NA,     P10,     77,   1,      33,     -99,  2,19931105,0008,  30.7000,  147.4028,  6208,    143.8,  18.7482,  34.8881,2,  34.8867,2,    221.2,2,  217.600,2,     2.25,2,     1.08,2,     0.09,2,     0.11,2,     2.70,2,    1.419,2, -999.000,9,   2004.0,2,   2309.2,2
           NA,     P10,     77,   1,      32,     -99,  2,19931105,0008,  30.7000,  147.4028,  6208,    196.1,  17.8966,  34.8348,2,  34.8334,2,    214.2,2,  212.100,2,     2.98,2,     3.50,2,     0.01,2,     0.23,2,     2.71,6,    1.445,6, -999.000,9,   2011.1,2,   2301.4,2
           NA,     P10,     77,   1,      31,     -99,  2,19931105,0008,  30.7000,  147.4028,  6208,    246.1,  17.4325,  34.8083,2,  34.8055,2,    215.1,2,  212.100,2,     3.53,2,     4.23,2,     0.02,2,     0.29,2,     2.78,2,    1.460,2, -999.000,9,   2016.7,2,   2296.4,2
           NA,     P10,     77,   1,      30,     -99,  2,19931105,0008,  30.7000,  147.4028,  6208,    295.3,  17.0706,  34.7859,2,  34.7853,2,    211.5,2,  209.400,2,     4.26,2,     4.97,2,     0.01,2,     0.34,2,     2.72,2,    1.438,2, -999.000,9,   2020.2,6,   2293.3,6
           NA,     P10,     77,   1,      29,     -99,  2,19931105,0008,  30.7000,  147.4028,  6208,    395.3,  15.7066,  34.6762,2,  34.6758,2,    199.3,2,  193.500,2,     8.43,2,     8.64,2,     0.01,2,     0.60,2,     2.45,2,    1.234,2, -999.000,9,   2045.7,2,   2297.4,2
           NA,     P10,     77,   1,      28,     -99,  2,19931105,0008,  30.7000,  147.4028,  6208,    494.9,  13.5515,  34.5071,2,  34.5043,2,    190.6,2,  184.700,2,    14.96,2,    12.89,2,     0.01,2,     0.90,2,     2.27,2,    1.124,2, -999.000,9,   2078.4,2,   2298.0,2
           NA,     P10,     77,   1,      27,     -99,  2,19931105,0008,  30.7000,  147.4028,  6208,    598.8,  11.0672,  34.3256,2,  34.3263,2,    181.3,2,  179.900,2,    24.22,2,    17.35,2,     0.01,2,     1.22,2,     2.15,2,    1.052,2, -999.000,9,   2114.2,2,   2292.3,2
           NA,     P10,     77,   1,      26,     -99,  2,19931105,0008,  30.7000,  147.4028,  6208,    693.3,   8.6506,  34.1643,2,  34.1549,2,    164.0,2,  170.000,2,    37.10,2,    22.40,2,     0.01,2,     1.60,2,     2.13,2,    1.016,2, -999.000,9,   2151.4,2,   2304.6,2
           NA,     P10,     77,   1,      25,     -99,  2,19931105,0008,  30.7000,  147.4028,  6208,    794.0,   6.1651,  34.0223,2,  34.0228,2,    130.0,2,  145.600,2,    58.14,2,    29.20,2,     0.01,2,     2.11,2,     1.88,2,    0.866,2, -999.000,9,   2208.6,2,   2313.7,2
           NA,     P10,     77,   1,      24,     -99,  2,19931105,0008,  30.7000,  147.4028,  6208,    896.6,   4.9589,  34.0553,2,  34.0578,2,     89.6,2,  102.600,2,    79.91,2,    35.00,2,     0.01,2,     2.51,2,     1.27,2,    0.567,2, -999.000,9,   2263.7,2,   2333.1,2
           NA,     P10,     77,   1,      23,     -99,  2,19931105,0008,  30.7000,  147.4028,  6208,    999.9,   4.2860,  34.1821,2,  34.1817,2,     61.3,2,   63.500,2,   100.94,2,    39.14,2,     0.00,2,     2.79,2,     0.48,2,    0.216,2, -999.000,9,   2309.4,2,   2368.5,2
           NA,     P10,     77,   1,      22,     -99,  3,19931105,0008,  30.7000,  147.4028,  6208,   1199.5,   3.4657,  34.3328,2,  34.3322,2,   -999.0,3,   43.100,2,   125.95,2,    41.62,2,     0.00,2,     2.96,2,     0.13,2,    0.052,2, -999.000,9,   2349.3,2,   2398.8,2
           NA,     P10,     77,   1,      21,     -99,  2,19931105,0008,  30.7000,  147.4028,  6208,   1397.4,   2.9698,  34.4322,2,  34.4326,2,     37.7,2,   37.700,2,   140.10,2,  -999.00,3,     0.00,2,     3.02,2,  -999.00,4,    0.009,2, -999.000,9,   2369.5,2,   2411.3,2
           NA,     P10,     77,   1,      20,     -99,  2,19931105,0008,  30.7000,  147.4028,  6208,   1589.3,   2.6000,  34.4954,2,  34.4957,2,     46.2,2,   45.200,2,   149.15,2,  -999.00,3,     0.00,2,     3.01,2,     0.00,2,   -0.002,2, -999.000,9,   2369.1,2,   -999.0,3
           NA,     P10,     77,   1,      19,     -99,  2,19931105,0008,  30.7000,  147.4028,  6208,   1789.2,   2.3349,  34.5448,2,  34.5446,2,     61.0,2,   59.700,2,   153.33,2,  -999.00,3,     0.00,2,     2.94,2,    -0.00,2,   -0.002,2, -999.000,9,   2373.1,2,   2432.8,2
           NA,     P10,     77,   1,      18,     -99,  2,19931105,0008,  30.7000,  147.4028,  6208,   1991.2,   2.0973,  34.5773,2,  34.5776,2,     69.7,2,   69.100,2,   158.23,2,  -999.00,3,     0.00,2,     2.90,2,  -999.00,9, -999.000,9, -999.000,9,   2374.0,2,   2437.5,2
           NA,     P10,     77,   1,      17,     -99,  2,19931105,0008,  30.7000,  147.4028,  6208,   2238.7,   1.9187,  34.6081,2,  34.6092,2,   -999.0,3,   86.900,2,   157.69,2,  -999.00,3,     0.00,2,     2.81,2,  -999.00,9, -999.000,9, -999.000,9,   2361.0,2,   -999.0,3
           NA,     P10,     77,   1,      16,     -99,  2,19931105,0008,  30.7000,  147.4028,  6208,   2572.9,   1.7366,  34.6381,2,  34.6394,2,    110.5,2,  110.400,2,   154.78,2,  -999.00,3,     0.00,2,     2.71,2,  -999.00,9, -999.000,9, -999.000,9,   2351.5,2,   2445.7,2
           NA,     P10,     77,   1,      15,     -99,  2,19931105,0008,  30.7000,  147.4028,  6208,   2755.1,   1.6807,  34.6479,2,  34.6491,2,    117.9,2,  117.500,2,   153.52,2,  -999.00,3,     0.00,2,     2.67,2,  -999.00,9, -999.000,9, -999.000,9,   2347.6,2,   -999.0,3
           NA,     P10,     77,   1,      14,     -99,  2,19931105,0008,  30.7000,  147.4028,  6208,   2998.6,   1.6198,  34.6573,2,  34.6587,2,    125.9,2,  125.800,2,   152.44,2,  -999.00,3,     0.01,2,     2.63,2,  -999.00,9, -999.000,9, -999.000,9,   2342.5,2,   2449.7,2
           NA,     P10,     77,   1,      13,     -99,  2,19931105,0008,  30.7000,  147.4028,  6208,   3252.3,   1.5728,  34.6649,2,  34.6660,2,    133.4,2,  132.600,2,   151.35,2,  -999.00,3,     0.00,2,     2.60,2,  -999.00,9, -999.000,9, -999.000,9,   2338.8,2,   -999.0,3
           NA,     P10,     77,   1,      12,     -99,  2,19931105,0008,  30.7000,  147.4028,  6208,   3501.3,   1.5408,  34.6709,2,  34.6711,2,    138.2,2,  138.500,2,   149.73,2,  -999.00,3,    -0.01,2,     2.56,2,  -999.00,9, -999.000,9, -999.000,9,   2335.9,2,   2454.9,2
           NA,     P10,     77,   1,      11,     -99,  2,19931105,0008,  30.7000,  147.4028,  6208,   3755.9,   1.5248,  34.6755,2,  34.6750,2,    143.0,2,  143.500,2,   148.65,2,  -999.00,3,     0.00,2,     2.54,2,  -999.00,4,   -0.002,2, -999.000,9,   2330.7,2,   2453.4,2
           NA,     P10,     77,   1,      10,     -99,  3,19931105,0008,  30.7000,  147.4028,  6208,   4007.7,   1.5041,  34.6790,2,  34.6799,2,    147.7,2,  148.000,2,   148.11,2,  -999.00,3,    -0.01,2,     2.52,2,  -999.00,9, -999.000,9, -999.000,9,   2330.0,2,   2458.6,2
           NA,     P10,     77,   1,       9,     -99,  2,19931105,0008,  30.7000,  147.4028,  6208,   4249.8,   1.4958,  34.6825,2,  34.6831,2,    151.9,2,  152.300,2,   146.49,2,  -999.00,3,    -0.01,2,     2.49,2,  -999.00,9, -999.000,9, -999.000,9,   2323.9,6,   2457.5,2
           NA,     P10,     77,   1,       8,     -99,  2,19931105,0008,  30.7000,  147.4028,  6208,   4504.5,   1.4969,  34.6853,2,  34.6852,2,    155.1,2,  155.700,2,   145.40,2,  -999.00,3,    -0.01,2,     2.48,2,  -999.00,9, -999.000,9, -999.000,9,   2322.7,6,   -999.0,5
           NA,     P10,     77,   1,       7,     -99,  2,19931105,0008,  30.7000,  147.4028,  6208,   4750.9,   1.5064,  34.6870,2,  34.6876,2,    157.8,2,  158.200,2,   144.50,2,  -999.00,3,    -0.01,2,     2.47,2,  -999.00,9, -999.000,9, -999.000,9,   2321.2,2,   2448.2,6
           NA,     P10,     77,   1,       6,     -99,  2,19931105,0008,  30.7000,  147.4028,  6208,   5006.6,   1.5174,  34.6891,2,  34.6891,2,    160.9,2,  160.800,2,   142.87,2,  -999.00,3,    -0.01,2,     2.45,2,  -999.00,9, -999.000,9, -999.000,9,   2317.5,2,   -999.0,4
           NA,     P10,     77,   1,       5,     -99,  2,19931105,0008,  30.7000,  147.4028,  6208,   5251.7,   1.5312,  34.6901,2,  34.6911,2,    163.3,2,  163.600,2,   141.07,2,    35.16,2,    -0.02,2,     2.43,2,  -999.00,9, -999.000,9, -999.000,9,   2315.4,2,   2445.3,2
           NA,     P10,     77,   1,       4,     -99,  2,19931105,0008,  30.7000,  147.4028,  6208,   5494.8,   1.5503,  34.6914,2,  34.6927,2,    166.3,2,  166.300,2,   138.90,2,    34.93,2,    -0.01,2,     2.42,2,  -999.00,4,   -0.001,2, -999.000,9,   2313.0,2,   2446.6,2
           NA,     P10,     77,   1,       3,     -99,  2,19931105,0008,  30.7000,  147.4028,  6208,   5754.7,   1.5750,  34.6922,2,  34.6925,2,    167.9,2,  167.700,2,   138.18,2,    34.82,2,    -0.01,2,     2.41,2,    -0.00,2,    0.000,2, -999.000,9,   2312.2,2,   2439.9,2
           NA,     P10,     77,   1,       2,     -99,  2,19931105,0008,  30.7000,  147.4028,  6208,   5988.1,   1.5993,  34.6929,2,  34.6937,2,    170.0,2,  169.200,2,   137.09,2,    34.71,2,    -0.01,2,     2.40,2,  -999.00,4,   -0.002,2, -999.000,9,   2307.9,2,   2443.8,2
           NA,     P10,     77,   1,       1,     -99,  2,19931105,0008,  30.7000,  147.4028,  6208,   6348.2,   1.6392,  34.6943,2,  34.6943,2,    171.4,2,  170.500,2,   135.82,2,    34.47,2,    -0.01,2,     2.37,2,    -0.00,2,   -0.001,2, -999.000,9,   2308.8,2,   2435.0,2