BOTTLE,20210102JOAExport
EXPOCODE,SECT_ID,STNNBR,CASTNO,SAMPNO,BTLNBR,BTLNBR_FLAG_W,DATE,TIME,LATITUDE,LONGITUDE,DEPTH,CTDPRS,CTDTMP,CTDSAL,CTDSAL_FLAG_W,SALNTY,SALNTY_FLAG_W,CTDOXY,CTDOXY_FLAG_W,OXYGEN,OXYGEN_FLAG_W,SILCAT,SILCAT_FLAG_W,NITRAT,NITRAT_FLAG_W,NITRIT,NITRIT_FLAG_W,PHSPHT,PHSPHT_FLAG_W,CFC-11,CFC-11_FLAG_W,CFC-12,CFC-12_FLAG_W,SF6,SF6_FLAG_W,TCARBN,TCARBN_FLAG_W,ALKALI,ALKALI_FLAG_W
,,,,,,,,,,,,DB,ITS-90,PSS-78,,PSS-78,,UMOL/KG,,UMOL/KG,,UMOL/KG,,UMOL/KG,,UMOL/KG,,UMOL/KG,,PMOL/KG,,PMOL/KG,,FMOL/KG,,UMOL/KG,,UMOL/KG
           NA,     P10,     79,   1,      36,     -99,  2,19931105,1630,  31.7167,  146.1195,  6242,      6.5,  23.7953,  34.6390,2,  34.6418,2,    211.6,2,  214.200,2,     0.92,2,     0.00,2,     0.02,2,     0.02,2,     2.00,2,    1.076,2, -999.000,9,   -999.0,9,   -999.0,9
           NA,     P10,     79,   1,      35,     -99,  2,19931105,1630,  31.7167,  146.1195,  6242,     50.4,  23.8724,  34.6767,2,  34.6783,2,    211.4,2,  214.000,2,     0.89,2,     0.02,2,     0.00,2,     0.01,2,     2.04,2,    1.105,2, -999.000,9,   -999.0,9,   -999.0,9
           NA,     P10,     79,   1,      34,     -99,  2,19931105,1630,  31.7167,  146.1195,  6242,     99.2,  23.3083,  34.7328,2,  34.7399,2,    208.4,2,  211.500,2,     1.22,2,     0.25,2,     0.14,2,     0.06,2,     2.06,2,    1.107,2, -999.000,9,   -999.0,9,   -999.0,9
           NA,     P10,     79,   1,      33,     -99,  2,19931105,1630,  31.7167,  146.1195,  6242,    149.8,  19.2268,  34.8599,2,  34.8604,2,    212.2,2,  210.200,2,     2.97,2,     1.92,2,     0.01,2,     0.18,2,     2.41,2,    1.276,2, -999.000,9,   -999.0,9,   -999.0,9
           NA,     P10,     79,   1,      32,     -99,  2,19931105,1630,  31.7167,  146.1195,  6242,    198.7,  18.4225,  34.8560,2,  34.8570,2,    208.2,2,  212.600,2,     2.76,2,     1.87,2,     0.01,2,     0.19,2,     2.48,2,    1.301,2, -999.000,9,   -999.0,9,   -999.0,9
           NA,     P10,     79,   1,      31,     -99,  2,19931105,1630,  31.7167,  146.1195,  6242,    298.8,  17.1384,  34.7714,2,  34.7697,2,    198.2,2,  199.400,2,     5.58,2,     5.43,2,     0.00,2,     0.41,2,     2.37,2,    1.210,2, -999.000,9,   -999.0,9,   -999.0,9
           NA,     P10,     79,   1,      30,     -99,  2,19931105,1630,  31.7167,  146.1195,  6242,    398.7,  15.6245,  34.6607,2,  34.6569,2,    190.6,2,  184.600,2,    11.10,2,     9.07,2,     0.02,2,     0.70,2,     2.21,6,    1.124,6, -999.000,9,   -999.0,9,   -999.0,9
           NA,     P10,     79,   1,      28,     -99,  2,19931105,1630,  31.7167,  146.1195,  6242,    597.2,  10.7680,  34.3378,2,  34.3259,2,    173.7,2,  167.800,2,    30.15,2,    18.42,2,     0.01,2,     1.40,2,     1.81,2,    0.860,2, -999.000,9,   -999.0,9,   -999.0,9
           NA,     P10,     79,   1,      27,     -99,  2,19931105,1630,  31.7167,  146.1195,  6242,    697.4,   7.7026,  34.1596,2,  34.1574,2,    160.6,2,  148.000,2,    50.09,2,    25.48,2,     0.01,2,  -999.00,3,     1.63,2,    0.761,2, -999.000,9,   -999.0,9,   -999.0,9
           NA,     P10,     79,   1,      26,     -99,  2,19931105,1630,  31.7167,  146.1195,  6242,    798.3,   5.4106,  34.0289,2,  34.0294,2,    134.6,2,  126.200,2,    70.22,2,    31.68,2,     0.01,2,  -999.00,3,     1.64,2,    0.748,2, -999.000,9,   -999.0,9,   -999.0,9
           NA,     P10,     79,   1,      25,     -99,  2,19931105,1630,  31.7167,  146.1195,  6242,    893.5,   4.6328,  34.0933,2,  34.0933,2,     90.2,2,   88.800,2,    88.19,2,    36.17,2,     0.01,2,  -999.00,3,     1.04,2,    0.451,2, -999.000,9,   -999.0,9,   -999.0,9
           NA,     P10,     79,   1,      24,     -99,  3,19931105,1630,  31.7167,  146.1195,  6242,    994.1,   4.2100,-999.0000,3,-999.0000,4,   -999.0,3, -999.000,4,  -999.00,4,  -999.00,4,  -999.00,4,  -999.00,4,  -999.00,9, -999.000,9, -999.000,9,   -999.0,9,   -999.0,9
           NA,     P10,     79,   1,      23,     -99,  2,19931105,1630,  31.7167,  146.1195,  6242,   1193.4,   3.4075,  34.3485,2,  34.3473,2,   -999.0,3,   39.400,2,   127.89,2,    41.93,2,     0.01,2,  -999.00,3,     0.07,2,    0.030,2, -999.000,9,   -999.0,9,   -999.0,9
           NA,     P10,     79,   1,      22,     -99,  2,19931105,1630,  31.7167,  146.1195,  6242,   1395.3,   2.8462,  34.4377,2,  34.4383,2,     41.6,2,   41.700,2,   143.37,2,    42.05,2,     0.01,2,  -999.00,3,     0.04,2,    0.015,2, -999.000,9,   -999.0,9,   -999.0,9
           NA,     P10,     79,   1,      21,     -99,  2,19931105,1630,  31.7167,  146.1195,  6242,   1597.3,   2.5327,  34.4894,2,  34.4904,2,     44.5,2,   44.800,2,   152.09,2,    42.27,2,     0.01,2,  -999.00,3,  -999.00,4,    0.007,2, -999.000,9,   -999.0,9,   -999.0,9
           NA,     P10,     79,   1,      20,     -99,  2,19931105,1630,  31.7167,  146.1195,  6242,   1797.4,   2.2958,  34.5336,2,  34.5347,2,     53.5,2,   53.100,2,   157.41,2,    42.01,2,     0.01,2,  -999.00,3,     0.00,2,    0.003,2, -999.000,9,   -999.0,9,   -999.0,9
           NA,     P10,     79,   1,      19,     -99,  2,19931105,1630,  31.7167,  146.1195,  6242,   1994.2,   2.0933,  34.5720,2,  34.5715,2,     65.9,2,   64.200,2,   159.90,2,    41.27,2,     0.01,2,  -999.00,3,  -999.00,9, -999.000,9, -999.000,9,   -999.0,9,   -999.0,9
           NA,     P10,     79,   1,      18,     -99,  2,19931105,1630,  31.7167,  146.1195,  6242,   2198.3,   1.9335,  34.6005,2,  34.6005,2,     80.6,2,   79.500,2,   160.78,2,    40.41,2,     0.02,2,  -999.00,3,  -999.00,9, -999.000,9, -999.000,9,   -999.0,9,   -999.0,9
           NA,     P10,     79,   1,      17,     -99,  2,19931105,1630,  31.7167,  146.1195,  6242,   2398.1,   1.8045,  34.6229,2,  34.6237,2,     96.0,2,   96.300,2,   158.63,2,    39.36,2,     0.02,2,     2.72,2,  -999.00,9, -999.000,9, -999.000,9,   -999.0,9,   -999.0,9
           NA,     P10,     79,   1,      16,     -99,  2,19931105,1630,  31.7167,  146.1195,  6242,   2600.4,   1.7312,  34.6358,2,  34.6363,2,    107.9,2,  106.000,2,   157.38,2,    38.79,2,     0.01,2,     2.67,2,  -999.00,9, -999.000,9, -999.000,9,   -999.0,9,   -999.0,9
           NA,     P10,     79,   1,      15,     -99,  2,19931105,1630,  31.7167,  146.1195,  6242,   2798.2,   1.6692,  34.6464,2,  34.6469,2,    117.2,2,  115.100,2,   155.59,2,    38.16,2,     0.01,2,     2.62,2,  -999.00,9, -999.000,9, -999.000,9,   -999.0,9,   -999.0,9
           NA,     P10,     79,   1,      14,     -99,  2,19931105,1630,  31.7167,  146.1195,  6242,   2999.5,   1.6053,  34.6561,2,  34.6561,2,    123.6,2,  123.400,2,   154.87,2,    37.74,2,     0.01,2,     2.58,2,  -999.00,9, -999.000,9, -999.000,9,   -999.0,9,   -999.0,9
           NA,     P10,     79,   1,      13,     -99,  3,19931105,1630,  31.7167,  146.1195,  6242,   3248.0,   1.5570,  34.6650,2,-999.0000,4,    131.6,2, -999.000,4,   153.44,2,    37.48,2,     0.01,2,     2.57,2,  -999.00,9, -999.000,9, -999.000,9,   -999.0,9,   -999.0,9
           NA,     P10,     79,   1,      12,     -99,  2,19931105,1630,  31.7167,  146.1195,  6242,   3496.5,   1.5287,  34.6710,2,  34.6721,2,    137.5,2,  138.400,2,   151.29,2,    36.79,2,     0.01,2,     2.52,2,    -0.00,2,    0.000,2, -999.000,9,   -999.0,9,   -999.0,9
           NA,     P10,     79,   1,      11,     -99,  2,19931105,1630,  31.7167,  146.1195,  6242,   3744.5,   1.5068,  34.6750,2,  34.6750,2,    141.9,2,  142.400,2,   151.12,2,    36.64,2,     0.01,2,     2.49,2,  -999.00,9, -999.000,9, -999.000,9,   -999.0,9,   -999.0,9
           NA,     P10,     79,   1,      10,     -99,  2,19931105,1630,  31.7167,  146.1195,  6242,   3988.7,   1.4899,  34.6797,2,  34.6797,2,    146.9,2,  147.700,2,   149.51,2,    36.16,2,     0.02,2,     2.47,2,  -999.00,9, -999.000,9, -999.000,9,   -999.0,9,   -999.0,9
           NA,     P10,     79,   1,       9,     -99,  2,19931105,1630,  31.7167,  146.1195,  6242,   4242.3,   1.4808,  34.6830,2,  34.6829,2,    152.6,2,  153.300,2,   147.18,2,    35.73,2,     0.03,2,     2.44,2,  -999.00,9, -999.000,9, -999.000,9,   -999.0,9,   -999.0,9
           NA,     P10,     79,   1,       8,     -99,  2,19931105,1630,  31.7167,  146.1195,  6242,   4493.7,   1.4854,  34.6856,2,  34.6858,2,    155.7,2,  156.500,2,   145.93,2,    35.61,2,     0.00,2,     2.44,2,  -999.00,9, -999.000,9, -999.000,9,   -999.0,9,   -999.0,9
           NA,     P10,     79,   1,       7,     -99,  2,19931105,1630,  31.7167,  146.1195,  6242,   4744.7,   1.4979,  34.6874,2,  34.6868,2,    158.7,2,  158.600,2,   144.86,2,    35.40,2,     0.00,2,     2.42,2,  -999.00,9, -999.000,9, -999.000,9,   -999.0,9,   -999.0,9
           NA,     P10,     79,   1,       6,     -99,  2,19931105,1630,  31.7167,  146.1195,  6242,   4994.8,   1.5135,  34.6881,2,  34.6888,2,    161.2,2,  160.900,2,   143.78,2,    35.30,2,     0.00,2,     2.41,2,  -999.00,9, -999.000,9, -999.000,9,   -999.0,9,   -999.0,9
           NA,     P10,     79,   1,       5,     -99,  2,19931105,1630,  31.7167,  146.1195,  6242,   5241.7,   1.5288,  34.6897,2,  34.6899,2,    163.7,2,  163.300,2,   141.81,2,    35.16,2,     0.00,2,     2.41,2,  -999.00,9, -999.000,9, -999.000,9,   -999.0,9,   -999.0,9
           NA,     P10,     79,   1,       4,     -99,  2,19931105,1630,  31.7167,  146.1195,  6242,   5492.0,   1.5455,  34.6911,2,  34.6921,2,    166.6,2,  165.700,2,   139.85,2,    34.95,2,     0.00,2,     2.40,2,  -999.00,4,    0.003,2, -999.000,9,   -999.0,9,   -999.0,9
           NA,     P10,     79,   1,       3,     -99,  2,19931105,1630,  31.7167,  146.1195,  6242,   5742.6,   1.5673,  34.6924,2,  34.6929,2,    168.7,2,  168.400,2,   137.88,2,    34.81,2,    -0.01,2,     2.38,2,  -999.00,9, -999.000,9, -999.000,9,   -999.0,9,   -999.0,9
           NA,     P10,     79,   1,       2,     -99,  2,19931105,1630,  31.7167,  146.1195,  6242,   5987.6,   1.5945,  34.6932,2,  34.6929,2,    170.5,2,  169.800,2,   136.98,2,    34.76,2,     0.00,2,     2.39,2,  -999.00,4,    0.002,2, -999.000,9,   -999.0,9,   -999.0,9
           NA,     P10,     79,   1,       1,     -99,  2,19931105,1630,  31.7167,  146.1195,  6242,   6357.7,   1.6432,  34.6935,2,  34.6927,2,    169.8,2,  170.300,2,   136.35,2,    34.61,2,    -0.01,2,     2.37,2,     0.00,2,    0.003,2, -999.000,9,   -999.0,9,   -999.0,9