BOTTLE,20210102JOAExport
EXPOCODE,SECT_ID,STNNBR,CASTNO,SAMPNO,BTLNBR,BTLNBR_FLAG_W,DATE,TIME,LATITUDE,LONGITUDE,DEPTH,CTDPRS,CTDTMP,CTDSAL,CTDSAL_FLAG_W,SALNTY,SALNTY_FLAG_W,CTDOXY,CTDOXY_FLAG_W,OXYGEN,OXYGEN_FLAG_W,SILCAT,SILCAT_FLAG_W,NITRAT,NITRAT_FLAG_W,NITRIT,NITRIT_FLAG_W,PHSPHT,PHSPHT_FLAG_W,CFC-11,CFC-11_FLAG_W,CFC-12,CFC-12_FLAG_W,SF6,SF6_FLAG_W,TCARBN,TCARBN_FLAG_W,ALKALI,ALKALI_FLAG_W
,,,,,,,,,,,,DB,ITS-90,PSS-78,,PSS-78,,UMOL/KG,,UMOL/KG,,UMOL/KG,,UMOL/KG,,UMOL/KG,,UMOL/KG,,PMOL/KG,,PMOL/KG,,FMOL/KG,,UMOL/KG,,UMOL/KG
           NA,     P10,     80,   1,      36,     -99,  2,19931106,0033,  32.2305,  145.4722,  5876,      7.5,  24.1303,  34.6927,2,  34.6948,2,    209.4,2,  213.100,2,     1.62,2,    -0.01,2,     0.01,2,     0.02,2,     2.15,2,    1.169,2, -999.000,9,   1948.7,2,   2280.3,2
           NA,     P10,     80,   1,      35,     -99,  2,19931106,0033,  32.2305,  145.4722,  5876,     44.3,  24.0289,  34.6894,2,  34.6909,2,    209.9,2,  212.800,2,     1.63,2,    -0.01,2,     0.01,2,     0.02,2,     2.06,2,    1.125,2, -999.000,9,   1948.4,2,   2276.2,2
           NA,     P10,     80,   1,      34,     -99,  2,19931106,0033,  32.2305,  145.4722,  5876,     94.0,  22.0186,  34.7698,2,  34.7705,2,    198.8,2,  205.800,2,     2.35,2,     1.13,2,     0.13,2,     0.12,2,     2.27,2,    1.207,2, -999.000,9,   1974.0,2,   2298.5,2
           NA,     P10,     80,   1,      33,     -99,  2,19931106,0033,  32.2305,  145.4722,  5876,    143.6,  18.6608,  34.8448,2,  34.8462,2,    208.5,2,  212.600,2,     2.71,2,     1.98,2,     0.02,2,     0.19,2,     2.55,2,    1.355,2, -999.000,9,   2001.8,2,   2302.9,2
           NA,     P10,     80,   1,      32,     -99,  2,19931106,0033,  32.2305,  145.4722,  5876,    194.7,  17.6796,  34.8212,2,  34.8214,2,    214.8,2,  218.900,2,     2.90,2,     2.67,2,     0.02,2,     0.21,2,     2.66,6,    1.414,6, -999.000,9,   2003.4,2,   -999.0,3
           NA,     P10,     80,   1,      31,     -99,  2,19931106,0033,  32.2305,  145.4722,  5876,    248.1,  17.4372,  34.8078,2,  34.8079,2,    220.7,2,  221.200,2,     3.09,2,     2.77,2,     0.02,2,     0.21,2,     2.72,2,    1.456,2, -999.000,9,   2003.3,6,   2299.0,6
           NA,     P10,     80,   1,      30,     -99,  2,19931106,0033,  32.2305,  145.4722,  5876,    299.2,  17.3238,  34.8021,2,  34.8018,2,    219.8,2,  220.500,2,     3.28,2,     3.10,2,     0.02,2,     0.24,2,     2.69,2,    1.424,2, -999.000,9,   2007.0,2,   2293.4,2
           NA,     P10,     80,   1,      29,     -99,  2,19931106,0033,  32.2305,  145.4722,  5876,    395.8,  16.4948,  34.7377,2,  34.7381,2,    209.7,2,  203.600,2,     5.96,2,     6.01,2,     0.01,2,     0.43,2,     2.56,2,    1.333,2, -999.000,9,   2028.6,2,   2299.4,2
           NA,     P10,     80,   1,      28,     -99,  2,19931106,0033,  32.2305,  145.4722,  5876,    492.4,  14.7239,  34.5965,2,  34.5964,2,    193.2,2,  186.000,2,    11.83,2,    10.38,2,     0.01,2,     0.73,2,     2.26,2,    1.147,2, -999.000,9,   2063.2,2,   2293.3,2
           NA,     P10,     80,   1,      27,     -99,  2,19931106,0033,  32.2305,  145.4722,  5876,    595.5,  11.6369,  34.3820,2,  34.3781,2,    190.8,2,  175.400,2,    23.93,2,    16.39,2,     0.01,2,     1.17,2,     2.03,2,    0.991,2, -999.000,9,   2109.4,2,   2293.5,2
           NA,     P10,     80,   1,      26,     -99,  2,19931106,0033,  32.2305,  145.4722,  5876,    697.6,   8.2415,  34.1123,2,  34.1068,2,    180.4,2,  178.500,2,    38.71,2,    21.51,2,     0.01,2,     1.58,2,     2.34,2,    1.124,2, -999.000,9,   2152.1,2,   2302.9,2
           NA,     P10,     80,   1,      25,     -99,  2,19931106,0033,  32.2305,  145.4722,  5876,    798.4,   5.7837,  34.0215,2,  34.0279,2,    146.8,2,  137.500,2,    64.69,2,    30.10,2,     0.01,2,     2.20,2,     1.85,2,    0.843,2, -999.000,9,   2221.4,2,   2303.4,2
           NA,     P10,     80,   1,      24,     -99,  2,19931106,0033,  32.2305,  145.4722,  5876,    893.2,   4.8058,  34.0739,2,  34.0790,2,    104.2,2,   95.800,2,    84.45,2,    35.45,2,     0.00,2,     2.56,2,     1.17,2,    0.521,2, -999.000,9,   2271.3,2,   2314.8,2
           NA,     P10,     80,   1,      23,     -99,  2,19931106,0033,  32.2305,  145.4722,  5876,    993.5,   4.2816,  34.1851,2,  34.1855,2,     67.7,2,   65.000,2,   101.36,2,    38.65,2,     0.01,2,     2.76,2,     0.55,2,    0.246,2, -999.000,9,   2303.5,2,   2336.9,2
           NA,     P10,     80,   1,      22,     -99,  2,19931106,0033,  32.2305,  145.4722,  5876,   1194.3,   3.5488,  34.3221,2,  34.3241,2,     44.7,2,   42.300,2,   124.13,2,    41.35,2,     0.00,2,     2.95,2,     0.12,2,    0.055,2, -999.000,9,   2346.4,2,   2365.2,2
           NA,     P10,     80,   1,      21,     -99,  2,19931106,0033,  32.2305,  145.4722,  5876,   1391.7,   2.9990,  34.4126,2,  34.4138,2,     40.5,2,   40.600,2,   139.43,2,    42.09,2,     0.00,2,     2.99,2,  -999.00,9, -999.000,9, -999.000,9,   2363.5,2,   2383.1,2
           NA,     P10,     80,   1,      20,     -99,  2,19931106,0033,  32.2305,  145.4722,  5876,   1591.2,   2.6232,  34.4746,2,  34.4754,2,     41.9,2,   41.300,2,   150.11,2,    42.41,2,     0.00,2,     3.01,2,     0.02,2,    0.006,2, -999.000,9,   2375.6,2,   2402.7,2
           NA,     P10,     80,   1,      19,     -99,  2,19931106,0033,  32.2305,  145.4722,  5876,   1794.6,   2.3569,  34.5214,2,  34.5218,2,     49.6,2,   51.300,2,   156.53,2,    41.99,2,     0.00,2,     2.97,2,  -999.00,9, -999.000,9, -999.000,9,   2377.0,2,   2413.8,2
           NA,     P10,     80,   1,      18,     -99,  2,19931106,0033,  32.2305,  145.4722,  5876,   1995.8,   2.1395,  34.5638,2,  34.5646,2,     60.4,2,   62.200,2,   159.92,2,    41.41,2,     0.00,2,     2.92,2,  -999.00,9, -999.000,9, -999.000,9,   2375.0,2,   2414.3,2
           NA,     P10,     80,   1,      17,     -99,  2,19931106,0033,  32.2305,  145.4722,  5876,   2194.0,   1.9981,  34.5954,2,  34.5956,2,     78.1,2,   81.300,2,  -999.00,3,    40.15,2,     0.00,2,     2.82,2,  -999.00,9, -999.000,9, -999.000,9,   2364.8,2,   2417.8,2
           NA,     P10,     80,   1,      16,     -99,  2,19931106,0033,  32.2305,  145.4722,  5876,   2396.6,   1.8636,  34.6166,2,  34.6166,2,     92.1,2,   94.300,2,  -999.00,3,    39.47,2,     0.00,2,     2.76,2,  -999.00,9, -999.000,9, -999.000,9,   2360.9,2,   2416.1,2
           NA,     P10,     80,   1,      15,     -99,  2,19931106,0033,  32.2305,  145.4722,  5876,   2603.7,   1.7384,  34.6328,2,  34.6335,2,    102.2,2,  102.900,2,   159.25,2,    38.93,2,     0.01,2,     2.72,2,  -999.00,9, -999.000,9, -999.000,9,   2353.9,2,   2420.5,2
           NA,     P10,     80,   1,      14,     -99,  3,19931106,0033,  32.2305,  145.4722,  5876,   2806.3,   1.6650,  34.6457,2,  34.6463,2,    114.5,2,  113.300,2,   157.49,2,    38.20,2,     0.00,2,     2.68,2,  -999.00,9, -999.000,9, -999.000,9,   2350.2,2,   2421.5,2
           NA,     P10,     80,   1,      13,     -99,  2,19931106,0033,  32.2305,  145.4722,  5876,   3003.5,   1.6180,  34.6542,2,  34.6550,2,    122.2,2,  120.800,2,   156.26,2,    37.78,2,     0.01,2,     2.64,2,  -999.00,9, -999.000,9, -999.000,9,   2344.9,2,   2424.1,2
           NA,     P10,     80,   1,      12,     -99,  2,19931106,0033,  32.2305,  145.4722,  5876,   3252.3,   1.5648,  34.6631,2,  34.6634,2,    129.8,2,  129.600,2,   154.14,2,    37.27,2,     0.00,2,     2.59,2,  -999.00,9, -999.000,9, -999.000,9,   2340.2,2,   2423.1,2
           NA,     P10,     80,   1,      11,     -99,  2,19931106,0033,  32.2305,  145.4722,  5876,   3505.7,   1.5261,  34.6697,2,  34.6705,2,    137.3,2,  137.400,2,   152.73,2,    36.74,2,     0.00,2,     2.55,2,  -999.00,9, -999.000,9, -999.000,9,   2333.9,2,   2424.4,2
           NA,     P10,     80,   1,      10,     -99,  2,19931106,0033,  32.2305,  145.4722,  5876,   3750.5,   1.4968,  34.6756,2,  34.6762,2,    142.9,2,  143.400,2,   151.32,2,    36.38,2,     0.00,2,     2.52,2,  -999.00,9, -999.000,9, -999.000,9,   2332.3,2,   2424.4,2
           NA,     P10,     80,   1,       9,     -99,  2,19931106,0033,  32.2305,  145.4722,  5876,   4004.4,   1.4823,  34.6800,2,  34.6807,2,    148.5,2,  148.800,2,   149.74,2,    35.96,2,     0.00,2,     2.49,2,  -999.00,9, -999.000,9, -999.000,9,   2327.0,6,   2421.7,2
           NA,     P10,     80,   1,       8,     -99,  2,19931106,0033,  32.2305,  145.4722,  5876,   4257.9,   1.4783,  34.6828,2,  34.6838,2,    152.4,2,  152.900,2,   148.51,2,    35.70,2,     0.00,2,     2.47,2,  -999.00,9, -999.000,9, -999.000,9,   2322.0,2,   2420.3,2
           NA,     P10,     80,   1,       7,     -99,  2,19931106,0033,  32.2305,  145.4722,  5876,   4503.6,   1.4808,  34.6854,2,  34.6858,2,    155.9,2,  156.300,2,   147.28,2,    35.49,2,     0.00,2,     2.45,2,  -999.00,9, -999.000,9, -999.000,9,   2321.2,2,   2420.1,2
           NA,     P10,     80,   1,       6,     -99,  2,19931106,0033,  32.2305,  145.4722,  5876,   4760.3,   1.4899,  34.6872,2,  34.6880,2,    159.1,2,  159.700,2,   145.87,2,    35.28,2,     0.00,2,     2.44,2,  -999.00,9, -999.000,9, -999.000,9,   2320.3,6,   2428.3,2
           NA,     P10,     80,   1,       5,     -99,  2,19931106,0033,  32.2305,  145.4722,  5876,   5003.0,   1.5043,  34.6885,2,  34.6895,2,    161.5,2,  161.600,2,   144.11,2,    35.13,2,     0.00,2,     2.43,2,  -999.00,9, -999.000,9, -999.000,9,   2315.5,2,   2418.1,6
           NA,     P10,     80,   1,       4,     -99,  2,19931106,0033,  32.2305,  145.4722,  5876,   5256.6,   1.5267,  34.6902,2,  34.6903,2,    163.3,2,  163.600,2,   143.06,2,    34.98,2,     0.00,2,     2.42,2,  -999.00,4,   -0.001,2, -999.000,9,   2315.5,2,   2417.3,2
           NA,     P10,     80,   1,       3,     -99,  2,19931106,0033,  32.2305,  145.4722,  5876,   5500.6,   1.5521,  34.6906,2,  34.6905,2,    164.3,2,  164.500,2,   142.18,2,    34.94,2,    -0.01,2,     2.41,2,     0.00,2,   -0.002,2, -999.000,9,   2316.6,2,   2413.3,2
           NA,     P10,     80,   1,       2,     -99,  2,19931106,0033,  32.2305,  145.4722,  5876,   5746.8,   1.5790,  34.6909,2,  34.6917,2,    165.6,2,  165.600,2,   141.49,2,    34.83,2,    -0.01,2,     2.42,2,  -999.00,4,    0.003,2, -999.000,9,   2314.7,2,   2416.1,2
           NA,     P10,     80,   1,       1,     -99,  2,19931106,0033,  32.2305,  145.4722,  5876,   5988.7,   1.6049,  34.6917,2,  34.6917,2,    165.6,2,  166.600,2,   140.28,2,    34.70,2,     0.00,2,     2.41,2,    -0.00,2,    0.001,2, -999.000,9,   2315.7,2,   2416.4,2