BOTTLE,20210102JOAExport
EXPOCODE,SECT_ID,STNNBR,CASTNO,SAMPNO,BTLNBR,BTLNBR_FLAG_W,DATE,TIME,LATITUDE,LONGITUDE,DEPTH,CTDPRS,CTDTMP,CTDSAL,CTDSAL_FLAG_W,SALNTY,SALNTY_FLAG_W,CTDOXY,CTDOXY_FLAG_W,OXYGEN,OXYGEN_FLAG_W,SILCAT,SILCAT_FLAG_W,NITRAT,NITRAT_FLAG_W,NITRIT,NITRIT_FLAG_W,PHSPHT,PHSPHT_FLAG_W,CFC-11,CFC-11_FLAG_W,CFC-12,CFC-12_FLAG_W,SF6,SF6_FLAG_W,TCARBN,TCARBN_FLAG_W,ALKALI,ALKALI_FLAG_W
,,,,,,,,,,,,DB,ITS-90,PSS-78,,PSS-78,,UMOL/KG,,UMOL/KG,,UMOL/KG,,UMOL/KG,,UMOL/KG,,UMOL/KG,,PMOL/KG,,PMOL/KG,,FMOL/KG,,UMOL/KG,,UMOL/KG
           NA,     P10,     65,   3,      36,     -99,  2,19931030,2108,  23.1833,  149.3417,  5807,     16.2,  27.3092,  35.0086,2,  35.0109,2,    196.0,2,  206.100,2,     0.91,2,    -0.01,2,     0.01,2,     0.02,2,     1.81,2,    0.990,2, -999.000,9,   1942.5,2,   2307.6,2
           NA,     P10,     65,   3,      35,     -99,  3,19931030,2108,  23.1833,  149.3417,  5807,     59.8,  26.7990,  35.0026,2,  35.0123,2,    205.1,2,  211.400,2,     1.10,2,    -0.01,2,     0.01,2,     0.03,2,     1.88,2,    1.042,2, -999.000,9,   1948.9,2,   2306.2,2
           NA,     P10,     65,   3,      34,     -99,  2,19931030,2108,  23.1833,  149.3417,  5807,    108.9,  20.2861,  34.9451,2,  34.9460,2,    211.7,2,  221.100,2,     1.64,2,    -0.02,2,     0.05,2,     0.06,2,     2.52,2,    1.321,2, -999.000,9,   1994.7,2,   2302.4,2
           NA,     P10,     65,   3,      33,     -99,  2,19931030,2108,  23.1833,  149.3417,  5807,    156.1,  18.6802,  34.8874,2,  34.8860,2,    193.9,2,  202.100,2,     2.53,2,     2.34,2,     0.03,2,     0.24,2,     2.50,2,    1.313,2, -999.000,9,   2018.1,2,   2298.4,2
           NA,     P10,     65,   3,      32,     -99,  2,19931030,2108,  23.1833,  149.3417,  5807,    207.9,  17.4662,  34.8081,2,  34.8081,2,    207.9,2,  213.400,2,     3.07,2,     3.31,2,     0.03,2,     0.28,2,     2.62,2,    1.337,2, -999.000,9,   2015.9,2,   2298.9,2
           NA,     P10,     65,   3,      31,     -99,  2,19931030,2108,  23.1833,  149.3417,  5807,    260.0,  16.7988,  34.7637,2,  34.7638,2,    203.4,2,  204.200,2,     4.65,2,     5.22,2,     0.01,2,     0.41,2,     2.52,6,    1.299,6, -999.000,9,   2032.3,2,   2297.9,2
           NA,     P10,     65,   3,      30,     -99,  2,19931030,2108,  23.1833,  149.3417,  5807,    309.5,  16.0244,  34.7008,2,  34.7005,2,    201.2,2,  198.200,2,     6.40,2,     6.88,2,     0.01,2,     0.54,2,     2.47,2,    1.216,2, -999.000,9,   2039.2,2,   2292.6,2
           NA,     P10,     65,   3,      29,     -99,  2,19931030,2108,  23.1833,  149.3417,  5807,    356.7,  14.6665,  34.5808,2,  34.5803,2,    194.6,2,  191.000,2,     9.53,2,     9.39,2,     0.02,2,     0.73,2,     2.31,2,    1.122,2, -999.000,9,   2061.8,6,   2292.4,6
           NA,     P10,     65,   3,      28,     -99,  2,19931030,2108,  23.1833,  149.3417,  5807,    405.9,  12.9693,  34.4398,2,  34.4403,2,    194.3,2,  190.300,2,    13.71,2,    12.21,2,     0.01,2,     0.93,2,     2.26,2,    1.132,2, -999.000,9,   2080.3,2,   2290.3,2
           NA,     P10,     65,   3,      27,     -99,  2,19931030,2108,  23.1833,  149.3417,  5807,    508.4,  10.2833,  34.2515,2,  34.2515,2,    178.9,2,  180.500,2,    25.00,2,    17.89,2,     0.01,2,     1.32,2,     2.01,2,    0.986,2, -999.000,9,   2120.3,2,   2286.4,2
           NA,     P10,     65,   3,      26,     -99,  2,19931030,2108,  23.1833,  149.3417,  5807,    608.8,   7.6682,  34.1015,2,  34.1127,2,    154.2,2,  147.800,2,    45.14,2,    25.63,2,     0.01,2,     1.89,2,     1.49,2,    0.725,2, -999.000,9,   2181.8,2,   2297.6,2
           NA,     P10,     65,   3,      25,     -99,  2,19931030,2108,  23.1833,  149.3417,  5807,    705.4,   5.5191,  34.1062,2,  34.1063,2,    104.6,2,   96.900,2,    73.93,2,    33.82,2,     0.01,2,     2.47,2,     0.73,2,    0.337,2, -999.000,9,   2254.4,2,   2321.2,2
           NA,     P10,     65,   3,      24,     -99,  2,19931030,2108,  23.1833,  149.3417,  5807,    800.5,   4.7676,  34.1860,2,  34.1849,2,     76.4,2,   67.600,2,    91.63,2,    37.67,2,     0.01,2,     2.75,2,     0.33,2,    0.147,2, -999.000,9,   2296.4,2,   2346.0,2
           NA,     P10,     65,   3,      23,     -99,  2,19931030,2108,  23.1833,  149.3417,  5807,    903.5,   4.1579,  34.2664,2,  34.2651,2,     50.8,2,   49.500,2,   106.90,2,    40.03,2,     0.01,2,     2.90,2,     0.13,2,    0.054,2, -999.000,9,   2324.3,2,   2360.2,2
           NA,     P10,     65,   3,      22,     -99,  2,19931030,2108,  23.1833,  149.3417,  5807,   1006.1,   3.6702,  34.3526,2,  34.3532,2,     43.8,2,   44.400,2,   119.90,2,    41.08,2,     0.01,2,     2.97,2,     0.05,2,    0.009,2, -999.000,9,   2342.1,2,   2372.9,2
           NA,     P10,     65,   3,      21,     -99,  2,19931030,2108,  23.1833,  149.3417,  5807,   1159.8,   3.2247,  34.4535,2,  34.4505,2,     55.5,2,   55.300,2,   129.28,2,    40.80,2,     0.01,2,     2.94,2,  -999.00,4,    0.004,2, -999.000,9,   2349.2,2,   2390.7,2
           NA,     P10,     65,   3,      20,     -99,  2,19931030,2108,  23.1833,  149.3417,  5807,   1261.4,   2.8714,  34.4762,2,  34.4764,2,     48.5,2,   48.300,2,   140.04,2,    41.67,2,     0.01,2,     3.01,2,  -999.00,9, -999.000,9, -999.000,9,   2364.6,2,   2399.6,2
           NA,     P10,     65,   3,      19,     -99,  2,19931030,2108,  23.1833,  149.3417,  5807,   1410.6,   2.5932,  34.5257,2,  34.5257,2,     66.6,2,   64.300,2,   143.53,2,    40.76,2,     0.01,2,     2.92,2,     0.01,2,    0.000,2, -999.000,9,   2360.6,2,   2408.3,2
           NA,     P10,     65,   3,      18,     -99,  2,19931030,2108,  23.1833,  149.3417,  5807,   1607.6,   2.2825,  34.5666,2,  34.5675,2,     81.1,2,   81.300,2,   146.83,2,    39.74,2,     0.01,2,     2.85,2,  -999.00,9, -999.000,9, -999.000,9,   2356.8,2,   2413.8,2
           NA,     P10,     65,   3,      17,     -99,  2,19931030,2108,  23.1833,  149.3417,  5807,   1810.9,   2.0325,  34.5984,2,  34.6001,2,     96.9,2, -999.000,3,   149.80,2,    39.07,2,     0.01,2,     2.79,2,  -999.00,9, -999.000,9, -999.000,9,   2354.1,2,   2420.9,2
           NA,     P10,     65,   3,      16,     -99,  2,19931030,2108,  23.1833,  149.3417,  5807,   2015.7,   1.8935,  34.6179,2,  34.6186,2,    102.7,2,  104.800,2,   150.33,2,    38.51,2,     0.00,2,     2.73,2,  -999.00,9, -999.000,9, -999.000,9,   2349.4,2,   2426.6,2
           NA,     P10,     65,   3,      15,     -99,  2,19931030,2108,  23.1833,  149.3417,  5807,   2271.1,   1.7694,  34.6368,2,  34.6371,2,    113.9,2,  115.400,2,   150.00,2,    37.89,2,     0.00,2,     2.70,2,  -999.00,9, -999.000,9, -999.000,9,   2344.6,2,   2428.0,2
           NA,     P10,     65,   3,      14,     -99,  2,19931030,2108,  23.1833,  149.3417,  5807,   2520.0,   1.6751,  34.6489,2,  34.6506,2,    121.2,2,  123.500,2,   150.19,2,    37.43,2,     0.01,2,     2.65,2,    -0.00,2,   -0.001,2, -999.000,9,   2340.7,2,   2426.9,2
           NA,     P10,     65,   3,      13,     -99,  2,19931030,2108,  23.1833,  149.3417,  5807,   2752.2,   1.6241,  34.6584,2,  34.6597,2,    128.8,2,  130.400,2,   149.34,2,    36.99,2,     0.00,2,     2.62,2,  -999.00,9, -999.000,9, -999.000,9,   2336.2,2,   2434.3,2
           NA,     P10,     65,   3,      12,     -99,  2,19931030,2108,  23.1833,  149.3417,  5807,   2998.5,   1.5749,  34.6649,2,  34.6656,2,    134.0,2,  135.500,2,   149.02,2,    36.72,2,     0.00,2,     2.60,2,  -999.00,9, -999.000,9, -999.000,9,   2330.0,2,   2429.6,2
           NA,     P10,     65,   3,      11,     -99,  2,19931030,2108,  23.1833,  149.3417,  5807,   3252.7,   1.5430,  34.6698,2,  34.6707,2,    139.0,2,  140.300,2,   148.52,2,    36.38,2,     0.00,2,     2.57,2,  -999.00,4,   -0.002,2, -999.000,9,   2331.8,2,   2433.1,2
           NA,     P10,     65,   3,      10,     -99,  2,19931030,2108,  23.1833,  149.3417,  5807,   3509.4,   1.5135,  34.6756,2,  34.6768,2,    144.3,2,  145.500,2,   147.33,2,    36.05,2,     0.00,2,     2.54,2,  -999.00,9, -999.000,9, -999.000,9,   2327.7,2,   2436.6,2
           NA,     P10,     65,   3,       8,     -99,  2,19931030,2108,  23.1833,  149.3417,  5807,   4006.4,   1.4729,  34.6824,2,  34.6836,2,    153.6,2,  155.000,2,   144.05,2,    35.42,2,     0.01,2,     2.49,2,     0.00,2,    0.003,2, -999.000,9,   2318.9,2,   2431.9,2
           NA,     P10,     65,   3,       7,     -99,  2,19931030,2108,  23.1833,  149.3417,  5807,   4247.8,   1.4673,  34.6848,2,  34.6862,2,    157.3,2,  158.100,2,   142.85,2,    35.15,2,     0.00,2,     2.47,2,  -999.00,9, -999.000,9, -999.000,9,   2316.7,6,   2427.8,2
           NA,     P10,     65,   3,       6,     -99,  2,19931030,2108,  23.1833,  149.3417,  5807,   4494.5,   1.4677,  34.6872,2,  34.6882,2,    161.2,2,  162.200,2,   140.97,2,    34.87,2,     0.00,2,     2.45,2,  -999.00,9, -999.000,9, -999.000,9,   2313.6,2,   2436.4,2
           NA,     P10,     65,   3,       5,     -99,  2,19931030,2108,  23.1833,  149.3417,  5807,   4746.2,   1.4755,  34.6895,2,  34.6909,2,    164.7,2,  165.500,2,   138.73,2,    34.65,2,     0.00,2,     2.43,2,  -999.00,9, -999.000,9, -999.000,9,   2309.9,2,   2425.3,2
           NA,     P10,     65,   3,       4,     -99,  2,19931030,2108,  23.1833,  149.3417,  5807,   4993.1,   1.4830,  34.6911,2,  34.6923,2,    167.9,2,  168.400,2,   137.20,2,    34.33,2,    -0.01,2,     2.41,2,  -999.00,4,    0.001,2, -999.000,9,   2306.6,2,   2424.1,2
           NA,     P10,     65,   3,       3,     -99,  2,19931030,2108,  23.1833,  149.3417,  5807,   5295.3,   1.5005,  34.6927,2,  34.6945,2,    170.9,2,  171.700,2,   135.14,2,    34.04,2,     0.00,2,     2.40,2,    -0.00,2,    0.000,2, -999.000,9,   2303.8,2,   2424.5,2
           NA,     P10,     65,   3,       2,     -99,  2,19931030,2108,  23.1833,  149.3417,  5807,   5583.2,   1.5178,  34.6948,2,  34.6946,2,    174.6,2,  175.200,2,   132.73,2,    33.77,2,    -0.01,2,     2.37,2,  -999.00,4,    0.001,2, -999.000,9,   2299.5,2,   2411.3,2
           NA,     P10,     65,   3,       1,     -99,  2,19931030,2108,  23.1833,  149.3417,  5807,   5903.9,   1.5424,  34.6960,2,-999.0000,4,    176.5,2,  175.900,2,  -999.00,4,  -999.00,4,  -999.00,4,  -999.00,4,    -0.00,2,    0.000,2, -999.000,9,   2297.6,2,   2419.8,2
           NA,     P10,     66,   1,      36,     -99,  2,19931101,0113,  23.8333,  149.3333,  5845,     14.2,  27.3386,  35.0299,2,  35.0312,2,    203.5,2,  214.900,2,     0.96,2,     0.00,2,     0.00,2,     0.03,2,     1.88,2,    1.062,2, -999.000,9,   1945.7,2,   2316.0,2
           NA,     P10,     66,   1,      35,     -99,  2,19931101,0113,  23.8333,  149.3333,  5845,     50.9,  27.0862,  35.0471,2,  35.0473,2,    194.9,2,  216.500,2,     0.96,2,    -0.01,2,     0.01,2,     0.04,2,     1.86,2,    1.044,2, -999.000,9,   1949.5,2,   2311.7,2
           NA,     P10,     66,   1,      34,     -99,  2,19931101,0113,  23.8333,  149.3333,  5845,     97.6,  21.6546,  34.9897,2,  34.9902,2,    223.4,2,  229.600,2,     1.66,2,    -0.01,2,     0.01,2,     0.06,2,     2.43,2,    1.322,2, -999.000,9,   1985.3,2,   2311.9,2
           NA,     P10,     66,   1,      33,     -99,  2,19931101,0113,  23.8333,  149.3333,  5845,    148.8,  18.9402,  34.8947,2,  34.8952,2,    203.8,2,  214.900,2,     2.19,2,     0.30,2,     0.20,2,     0.12,2,     2.60,6,    1.383,6, -999.000,9,   2006.0,2,   2307.3,2
           NA,     P10,     66,   1,      32,     -99,  2,19931101,0113,  23.8333,  149.3333,  5845,    197.1,  17.6458,  34.8206,2,  34.8201,2,    203.6,2,  213.800,2,     3.06,2,     3.25,2,     0.01,2,     0.28,2,     2.68,2,    1.430,2, -999.000,9,   2014.6,2,   2299.3,2
           NA,     P10,     66,   1,      31,     -99,  2,19931101,0113,  23.8333,  149.3333,  5845,    247.3,  16.8028,  34.7643,2,  34.7642,2,    208.6,2,  205.800,2,     4.62,2,     5.13,2,     0.01,2,     0.40,2,     2.63,2,    1.382,2, -999.000,9,   2026.4,2,   2296.9,2
           NA,     P10,     66,   1,      30,     -99,  2,19931101,0113,  23.8333,  149.3333,  5845,    297.1,  16.2032,  34.7157,2,  34.7127,2,    201.8,2,  200.200,2,     5.83,2,     6.49,2,     0.00,2,     0.50,2,  -999.00,9, -999.000,9, -999.000,9,   2037.9,6,   2296.3,6
           NA,     P10,     66,   1,      29,     -99,  2,19931101,0113,  23.8333,  149.3333,  5845,    397.1,  13.1331,  34.4481,2,  34.4505,2,    195.9,2,  188.700,2,    13.26,2,    12.19,2,     0.00,2,     0.91,2,     2.22,2,    1.119,2, -999.000,9,   2081.8,2,   2289.1,2
           NA,     P10,     66,   1,      28,     -99,  2,19931101,0113,  23.8333,  149.3333,  5845,    497.0,  10.4263,  34.2606,2,  34.2615,2,    187.7,2,  180.900,2,    24.31,2,    17.54,2,     0.00,2,     1.28,2,     2.04,2,    1.014,2, -999.000,9,   2119.1,2,   2287.6,2
           NA,     P10,     66,   1,      27,     -99,  2,19931101,0113,  23.8333,  149.3333,  5845,    597.5,   7.9616,  34.1196,2,  34.1186,2,    156.7,2,  155.600,2,    41.24,2,    24.27,2,    -0.01,2,     1.76,2,     1.59,2,    0.774,2, -999.000,9,   2171.9,2,   2293.7,2
           NA,     P10,     66,   1,      26,     -99,  2,19931101,0113,  23.8333,  149.3333,  5845,    698.3,   5.9739,  34.0921,2,  34.0906,2,    110.9,2,  109.100,2,    65.76,2,    31.91,2,     0.00,2,     2.31,2,     0.85,2,    0.399,2, -999.000,9,   2238.1,2,   2311.9,6
           NA,     P10,     66,   1,      25,     -99,  2,19931101,0113,  23.8333,  149.3333,  5845,    793.9,   4.8284,  34.1796,2,  34.1794,2,     68.3,2,   69.500,2,    89.75,2,    37.21,2,     0.00,2,     2.68,2,     0.37,2,    0.176,2, -999.000,9,   2292.2,2,   2336.7,2
           NA,     P10,     66,   1,      24,     -99,  2,19931101,0113,  23.8333,  149.3333,  5845,    894.3,   4.0157,  34.2595,2,  34.2578,2,     46.4,2,   46.300,2,   109.60,2,    40.29,2,     0.00,2,     2.88,2,     0.14,2,    0.054,2, -999.000,9,   2330.0,2,   2358.1,2
           NA,     P10,     66,   1,      23,     -99,  2,19931101,0113,  23.8333,  149.3333,  5845,    995.8,   3.6820,  34.3590,2,  34.3592,2,     45.9,2,   45.300,2,   118.92,2,    40.84,2,    -0.01,2,     2.91,2,     0.05,2,    0.021,2, -999.000,9,   2342.2,2,   2373.0,2
           NA,     P10,     66,   1,      22,     -99,  2,19931101,0113,  23.8333,  149.3333,  5845,   1197.0,   3.0811,  34.4524,2,  34.4511,2,     47.3,2,   47.500,2,   133.93,2,    41.31,2,     0.00,2,     2.93,2,     0.00,2,    0.003,2, -999.000,9,   2359.0,2,   2392.3,2
           NA,     P10,     66,   1,      21,     -99,  2,19931101,0113,  23.8333,  149.3333,  5845,   1393.1,   2.6147,  34.5235,2,  34.5230,2,   -999.0,3,   64.700,2,   142.56,2,    40.55,2,     0.00,2,     2.85,2,  -999.00,9, -999.000,9, -999.000,9,   2361.9,2,   2406.8,2
           NA,     P10,     66,   1,      20,     -99,  2,19931101,0113,  23.8333,  149.3333,  5845,   1594.0,   2.2631,  34.5660,2,  34.5658,2,     78.4,2,   79.300,2,   147.56,2,    39.81,2,    -0.01,2,     2.80,2,     0.00,2,    0.002,2, -999.000,9,   2359.1,2,   2413.0,2
           NA,     P10,     66,   1,      19,     -99,  2,19931101,0113,  23.8333,  149.3333,  5845,   1796.4,   2.0545,  34.5953,2,  34.5952,2,     90.8,2,   91.700,2,   149.47,2,    39.11,2,    -0.01,2,     2.74,2,    -0.00,2,   -0.001,2, -999.000,9,   2354.7,2,   2419.4,2
           NA,     P10,     66,   1,      18,     -99,  2,19931101,0113,  23.8333,  149.3333,  5845,   1997.7,   1.9015,  34.6208,2,  34.6206,2,    106.0,2,  106.700,2,   148.60,2,    38.17,2,     0.01,2,     2.68,2,    -0.00,2,   -0.001,2, -999.000,9,   2348.3,2,   2424.3,2
           NA,     P10,     66,   1,      17,     -99,  2,19931101,0113,  23.8333,  149.3333,  5845,   2195.9,   1.7852,  34.6322,2,  34.6326,2,    112.3,2,  111.300,2,   150.51,2,    37.88,2,     0.01,2,     2.65,2,  -999.00,9, -999.000,9, -999.000,9,   2348.4,2,   2430.4,2
           NA,     P10,     66,   1,      16,     -99,  2,19931101,0113,  23.8333,  149.3333,  5845,   2396.0,   1.7101,  34.6449,2,  34.6451,2,    119.3,2,  119.800,2,   149.48,2,    37.36,2,     0.01,2,     2.62,2,  -999.00,9, -999.000,9, -999.000,9,   2342.1,2,   2433.9,2
           NA,     P10,     66,   1,      15,     -99,  2,19931101,0113,  23.8333,  149.3333,  5845,   2598.6,   1.6479,  34.6519,2,  34.6522,2,    124.9,2,  125.100,2,   149.83,2,    37.09,2,     0.00,2,     2.59,2,  -999.00,9, -999.000,9, -999.000,9,   2340.0,2,   2426.8,2
           NA,     P10,     66,   1,      14,     -99,  2,19931101,0113,  23.8333,  149.3333,  5845,   2800.1,   1.5988,  34.6587,2,  34.6591,2,    128.8,2,  129.800,2,   149.49,2,    36.81,2,     0.00,2,     2.57,2,  -999.00,9, -999.000,9, -999.000,9,   2338.4,2,   2433.6,2
           NA,     P10,     66,   1,      13,     -99,  2,19931101,0113,  23.8333,  149.3333,  5845,   2986.5,   1.5628,  34.6646,2,  34.6650,2,    134.3,2,  135.300,2,   148.63,2,    36.47,2,     0.00,2,     2.55,2,  -999.00,9, -999.000,9, -999.000,9,   2336.5,2,   2435.7,2
           NA,     P10,     66,   1,      12,     -99,  2,19931101,0113,  23.8333,  149.3333,  5845,   3248.8,   1.5311,  34.6707,2,  34.6703,2,    139.4,2,  139.700,2,   148.12,2,    36.19,2,    -0.01,2,     2.53,2,  -999.00,9, -999.000,9, -999.000,9,   2326.8,2,   2433.1,2
           NA,     P10,     66,   1,      11,     -99,  2,19931101,0113,  23.8333,  149.3333,  5845,   3476.3,   1.5076,  34.6760,2,  34.6768,2,    143.8,2,  145.400,2,   146.58,2,    35.85,2,    -0.01,2,     2.50,2,  -999.00,9, -999.000,9, -999.000,9,   2330.9,2,   2432.7,2
           NA,     P10,     66,   1,      10,     -99,  2,19931101,0113,  23.8333,  149.3333,  5845,   3741.3,   1.4876,  34.6789,2,  34.6801,2,    148.0,2,  148.700,2,   146.07,2,    35.62,2,     0.00,2,     2.48,2,  -999.00,9, -999.000,9, -999.000,9,   2327.9,2,   2429.2,2
           NA,     P10,     66,   1,       8,     -99,  2,19931101,0113,  23.8333,  149.3333,  5845,   4238.6,   1.4661,  34.6853,2,  34.6862,2,    157.0,2,  158.000,2,   142.10,2,    34.97,2,     0.01,2,     2.43,2,  -999.00,9, -999.000,9, -999.000,9,   2318.7,6,   2427.5,6
           NA,     P10,     66,   1,       7,     -99,  2,19931101,0113,  23.8333,  149.3333,  5845,   4472.1,   1.4709,  34.6873,2,  34.6880,2,    160.5,2,  160.200,2,   141.24,2,    34.82,2,     0.00,2,     2.42,2,  -999.00,9, -999.000,9, -999.000,9,   2317.8,2,   2430.4,2
           NA,     P10,     66,   1,       6,     -99,  2,19931101,0113,  23.8333,  149.3333,  5845,   4815.2,   1.4771,  34.6906,2,  34.6903,2,    165.4,2,  165.600,2,   137.63,2,    34.41,2,     0.00,2,     2.39,2,  -999.00,9, -999.000,9, -999.000,9,   2313.0,2,   2418.9,2
           NA,     P10,     66,   1,       5,     -99,  2,19931101,0113,  23.8333,  149.3333,  5845,   5000.0,   1.4875,  34.6913,2,  34.6921,2,    167.1,2,  166.900,2,   137.12,2,    34.32,2,    -0.01,2,     2.38,2,  -999.00,9, -999.000,9, -999.000,9,   2310.9,6,   -999.0,3
           NA,     P10,     66,   1,       4,     -99,  2,19931101,0113,  23.8333,  149.3333,  5845,   5255.7,   1.5052,  34.6919,2,  34.6927,2,    169.4,2,  169.800,2,   135.40,2,    34.16,2,    -0.02,2,     2.38,2,  -999.00,4,   -0.001,2, -999.000,9,   2307.1,2,   2427.8,2
           NA,     P10,     66,   1,       3,     -99,  2,19931101,0113,  23.8333,  149.3333,  5845,   5499.9,   1.5183,  34.6942,2,  34.6943,2,    172.8,2,  172.400,2,   133.68,2,    33.88,2,    -0.02,2,     2.36,2,  -999.00,9, -999.000,9, -999.000,9,   2301.9,2,   2431.2,2
           NA,     P10,     66,   1,       2,     -99,  2,19931101,0113,  23.8333,  149.3333,  5845,   5747.4,   1.5273,  34.6966,2,  34.6958,2,    175.9,2,  175.900,2,   131.62,2,    33.59,2,    -0.02,2,     2.34,2,  -999.00,4,    0.001,2, -999.000,9,   2291.3,2,   2420.5,2
           NA,     P10,     66,   1,       1,     -99,  2,19931101,0113,  23.8333,  149.3333,  5845,   5942.7,   1.5455,  34.6965,2,  34.6972,2,    176.8,2,  177.100,2,   131.11,2,    33.47,2,    -0.01,2,     2.34,2,     0.00,2,    0.001,2, -999.000,9,   2298.2,2,   2420.9,2