BOTTLE,20210102JOAExport
EXPOCODE,SECT_ID,STNNBR,CASTNO,SAMPNO,BTLNBR,BTLNBR_FLAG_W,DATE,TIME,LATITUDE,LONGITUDE,DEPTH,CTDPRS,CTDTMP,CTDSAL,CTDSAL_FLAG_W,SALNTY,SALNTY_FLAG_W,CTDOXY,CTDOXY_FLAG_W,OXYGEN,OXYGEN_FLAG_W,SILCAT,SILCAT_FLAG_W,NITRAT,NITRAT_FLAG_W,NITRIT,NITRIT_FLAG_W,PHSPHT,PHSPHT_FLAG_W,CFC-11,CFC-11_FLAG_W,CFC-12,CFC-12_FLAG_W,SF6,SF6_FLAG_W,TCARBN,TCARBN_FLAG_W,ALKALI,ALKALI_FLAG_W
,,,,,,,,,,,,DB,ITS-90,PSS-78,,PSS-78,,UMOL/KG,,UMOL/KG,,UMOL/KG,,UMOL/KG,,UMOL/KG,,UMOL/KG,,PMOL/KG,,PMOL/KG,,FMOL/KG,,UMOL/KG,,UMOL/KG
           NA,     P10,     23,   1,      31,     -99,  2,19931017,0150,   1.2500,  146.5000,  4469,      7.4,  29.0731,  34.0381,2,  34.0343,2,    226.5,2,  213.400,2,     1.48,2,    -0.01,2,     0.01,2,     0.03,2,  -999.00,9, -999.000,9, -999.000,9,   -999.0,9,   -999.0,9
           NA,     P10,     23,   1,      30,     -99,  2,19931017,0150,   1.2500,  146.5000,  4469,     47.4,  28.0658,  34.2933,2,  34.2933,2,    211.6,2,  212.700,2,     1.33,2,     0.03,2,     0.01,2,     0.07,2,  -999.00,9, -999.000,9, -999.000,9,   -999.0,9,   -999.0,9
           NA,     P10,     23,   1,      29,     -99,  2,19931017,0150,   1.2500,  146.5000,  4469,     97.3,  24.5728,  34.9242,2,  34.9432,2,    164.4,2,  168.900,2,     2.96,2,     4.42,2,     0.08,2,     0.40,2,  -999.00,9, -999.000,9, -999.000,9,   -999.0,9,   -999.0,9
           NA,     P10,     23,   1,      28,     -99,  2,19931017,0150,   1.2500,  146.5000,  4469,    147.6,  21.0113,  35.1695,2,  35.1556,2,    139.9,2,  146.800,2,     6.04,2,     8.89,2,     0.03,2,     0.71,2,  -999.00,9, -999.000,9, -999.000,9,   -999.0,9,   -999.0,9
           NA,     P10,     23,   1,      27,     -99,  2,19931017,0150,   1.2500,  146.5000,  4469,    196.5,  16.8153,  35.1668,2,  35.1727,2,    143.0,2,  143.300,2,     8.97,2,    12.97,2,     0.01,2,     1.00,2,  -999.00,9, -999.000,9, -999.000,9,   -999.0,9,   -999.0,9
           NA,     P10,     23,   1,      26,     -99,  2,19931017,0150,   1.2500,  146.5000,  4469,    246.0,  12.3507,  34.6036,2,  34.6151,2,    131.6,2,  127.500,2,    24.66,2,    20.19,2,     0.02,2,     1.48,2,  -999.00,9, -999.000,9, -999.000,9,   -999.0,9,   -999.0,9
           NA,     P10,     23,   1,      25,     -99,  2,19931017,0150,   1.2500,  146.5000,  4469,    297.1,  10.6385,  34.7583,2,  34.7591,2,    114.6,2,  104.800,2,    23.86,2,    26.06,2,     0.00,2,     1.84,2,  -999.00,9, -999.000,9, -999.000,9,   -999.0,9,   -999.0,9
           NA,     P10,     23,   1,      24,     -99,  2,19931017,0150,   1.2500,  146.5000,  4469,    397.4,   9.6390,  34.6903,2,  34.7059,2,     96.2,2,   95.600,2,    28.40,2,    28.76,2,     0.01,2,     2.02,2,  -999.00,9, -999.000,9, -999.000,9,   -999.0,9,   -999.0,9
           NA,     P10,     23,   1,      23,     -99,  2,19931017,0150,   1.2500,  146.5000,  4469,    495.9,   7.9082,  34.5910,2,  34.5911,2,    111.4,2,  108.800,2,    36.32,2,    30.88,2,     0.01,2,     2.17,2,  -999.00,9, -999.000,9, -999.000,9,   -999.0,9,   -999.0,9
           NA,     P10,     23,   1,      22,     -99,  2,19931017,0150,   1.2500,  146.5000,  4469,    596.9,   6.4055,  34.5395,2,  34.5379,2,    110.0,2,  120.400,2,    45.70,2,    32.58,2,     0.03,2,     2.31,2,  -999.00,9, -999.000,9, -999.000,9,   -999.0,9,   -999.0,9
           NA,     P10,     23,   1,      21,     -99,  2,19931017,0150,   1.2500,  146.5000,  4469,    646.9,   6.1167,  34.5361,2,  34.5363,2,    123.9,2,  114.700,2,    49.42,2,    33.90,2,     0.02,2,     2.39,2,  -999.00,9, -999.000,9, -999.000,9,   -999.0,9,   -999.0,9
           NA,     P10,     23,   1,      20,     -99,  2,19931017,0150,   1.2500,  146.5000,  4469,    696.3,   5.9104,  34.5442,2,  34.5430,2,    113.0,2,   94.600,2,    56.53,2,    36.04,2,     0.01,2,     2.58,2,  -999.00,9, -999.000,9, -999.000,9,   -999.0,9,   -999.0,9
           NA,     P10,     23,   1,      19,     -99,  2,19931017,0150,   1.2500,  146.5000,  4469,    796.1,   5.1868,  34.5408,2,  34.5444,2,    102.6,2,  103.300,2,    67.36,2,    35.96,2,     0.00,2,     2.58,2,  -999.00,9, -999.000,9, -999.000,9,   -999.0,9,   -999.0,9
           NA,     P10,     23,   1,      18,     -99,  2,19931017,0150,   1.2500,  146.5000,  4469,    896.3,   4.8974,  34.5478,2,-999.0000,4,    102.9,2,   98.800,2,    74.95,2,    36.81,2,     0.01,2,     2.65,2,  -999.00,9, -999.000,9, -999.000,9,   -999.0,9,   -999.0,9
           NA,     P10,     23,   1,      17,     -99,  2,19931017,0150,   1.2500,  146.5000,  4469,    995.9,   4.4644,  34.5557,2,  34.5550,2,    100.0,2,  100.800,2,    83.51,2,  -999.00,3,     0.00,2,     2.66,2,  -999.00,9, -999.000,9, -999.000,9,   -999.0,9,   -999.0,9
           NA,     P10,     23,   1,      16,     -99,  2,19931017,0150,   1.2500,  146.5000,  4469,   1195.9,   3.8304,  34.5756,2,  34.5738,2,     99.4,2,   99.600,2,    99.16,2,  -999.00,3,     0.01,2,     2.72,2,  -999.00,9, -999.000,9, -999.000,9,   -999.0,9,   -999.0,9
           NA,     P10,     23,   1,      15,     -99,  2,19931017,0150,   1.2500,  146.5000,  4469,   1396.3,   3.3232,  34.5919,2,  34.5909,2,     99.5,2,  102.000,2,   110.13,2,  -999.00,3,     0.01,2,     2.73,2,  -999.00,9, -999.000,9, -999.000,9,   -999.0,9,   -999.0,9
           NA,     P10,     23,   1,      14,     -99,  2,19931017,0150,   1.2500,  146.5000,  4469,   1595.8,   2.7422,  34.6153,2,  34.6159,2,    106.9,2,  108.200,2,   122.38,2,  -999.00,3,     0.01,2,     2.72,2,  -999.00,9, -999.000,9, -999.000,9,   -999.0,9,   -999.0,9
           NA,     P10,     23,   1,      13,     -99,  2,19931017,0150,   1.2500,  146.5000,  4469,   1797.2,   2.5349,  34.6247,2,  34.6239,2,    110.9,2,  112.800,2,   126.74,2,  -999.00,3,     0.01,2,     2.70,2,  -999.00,9, -999.000,9, -999.000,9,   -999.0,9,   -999.0,9
           NA,     P10,     23,   1,      12,     -99,  2,19931017,0150,   1.2500,  146.5000,  4469,   1992.5,   2.3249,  34.6353,2,  34.6365,2,    116.5,2,  116.400,2,   130.93,2,  -999.00,3,     0.01,2,     2.67,2,  -999.00,9, -999.000,9, -999.000,9,   -999.0,9,   -999.0,9
           NA,     P10,     23,   1,      11,     -99,  2,19931017,0150,   1.2500,  146.5000,  4469,   2196.5,   2.1508,  34.6438,2,  34.6440,2,    119.3,2,  120.200,2,   135.91,2,  -999.00,3,     0.02,2,     2.67,2,  -999.00,9, -999.000,9, -999.000,9,   -999.0,9,   -999.0,9
           NA,     P10,     23,   1,      10,     -99,  2,19931017,0150,   1.2500,  146.5000,  4469,   2394.9,   1.9446,  34.6540,2,  34.6526,2,    124.3,2,  125.600,2,   139.29,2,  -999.00,3,     0.00,2,     2.64,2,  -999.00,9, -999.000,9, -999.000,9,   -999.0,9,   -999.0,9
           NA,     P10,     23,   1,       9,     -99,  2,19931017,0150,   1.2500,  146.5000,  4469,   2597.1,   1.7771,  34.6637,2,  34.6642,2,    131.6,2,  131.900,2,   141.71,2,  -999.00,3,     0.00,2,     2.61,2,  -999.00,9, -999.000,9, -999.000,9,   -999.0,9,   -999.0,9
           NA,     P10,     23,   1,       8,     -99,  2,19931017,0150,   1.2500,  146.5000,  4469,   2796.7,   1.6787,  34.6693,2,  34.6685,2,    137.7,2,  138.300,2,   141.87,2,  -999.00,3,     0.01,2,     2.58,2,  -999.00,9, -999.000,9, -999.000,9,   -999.0,9,   -999.0,9
           NA,     P10,     23,   1,       7,     -99,  2,19931017,0150,   1.2500,  146.5000,  4469,   2996.8,   1.6379,  34.6727,2,  34.6736,2,    141.1,2,  141.200,2,   141.86,2,    36.19,2,     0.00,2,     2.56,2,  -999.00,9, -999.000,9, -999.000,9,   -999.0,9,   -999.0,9
           NA,     P10,     23,   1,       6,     -99,  3,19931017,0150,   1.2500,  146.5000,  4469,   3245.1,   1.5926,  34.6771,2,  34.6785,2,    144.3,2,  144.700,2,   141.86,2,  -999.00,3,     0.02,2,     2.54,2,  -999.00,9, -999.000,9, -999.000,9,   -999.0,9,   -999.0,9
           NA,     P10,     23,   1,       5,     -99,  2,19931017,0150,   1.2500,  146.5000,  4469,   3526.9,   1.5603,  34.6816,2,  34.6791,2,    148.6,2,  148.800,2,   141.69,2,    35.79,2,     0.01,2,     2.53,2,  -999.00,9, -999.000,9, -999.000,9,   -999.0,9,   -999.0,9
           NA,     P10,     23,   1,       4,     -99,  2,19931017,0150,   1.2500,  146.5000,  4469,   3743.0,   1.5484,  34.6844,2,  34.6829,2,    151.5,2,  151.400,2,   141.68,2,    35.76,2,     0.00,2,     2.52,2,  -999.00,9, -999.000,9, -999.000,9,   -999.0,9,   -999.0,9
           NA,     P10,     23,   1,       3,     -99,  2,19931017,0150,   1.2500,  146.5000,  4469,   3992.7,   1.5365,  34.6864,2,  34.6856,2,    154.1,2,  153.600,2,   141.52,2,    35.49,2,     0.01,2,     2.51,2,  -999.00,9, -999.000,9, -999.000,9,   -999.0,9,   -999.0,9
           NA,     P10,     23,   1,       2,     -99,  2,19931017,0150,   1.2500,  146.5000,  4469,   4246.8,   1.5298,  34.6895,2,  34.6876,2,    157.2,2,  155.100,2,   141.03,2,  -999.00,3,    -0.01,2,     2.49,2,  -999.00,9, -999.000,9, -999.000,9,   -999.0,9,   -999.0,9
           NA,     P10,     23,   1,       1,     -99,  2,19931017,0150,   1.2500,  146.5000,  4469,   4522.9,   1.5552,  34.6884,2,  34.6880,2,    155.4,2,  157.100,2,   140.70,2,  -999.00,3,     0.00,2,     2.48,2,  -999.00,9, -999.000,9, -999.000,9,   -999.0,9,   -999.0,9
           NA,     P10,     24,   1,      36,     -99,  2,19931017,0721,   1.5000,  146.5722,  4486,      8.6,  29.1086,  34.0630,2,  34.0643,2,    232.7,2,  209.200,2,     1.27,2,     0.06,2,     0.00,2,     0.03,2,  -999.00,4, -999.000,4, -999.000,9,   1895.3,2,   2257.0,2
           NA,     P10,     24,   1,      30,     -99,  2,19931017,0721,   1.5000,  146.5722,  4486,     45.6,  28.0547,  34.2899,2,  34.2959,2,    225.3,2,  215.000,2,     1.44,2,     0.07,2,     0.00,2,     0.05,2,     1.78,2,    0.954,2, -999.000,9,   1917.9,2,   2274.3,2
           NA,     P10,     24,   1,      29,     -99,  2,19931017,0721,   1.5000,  146.5722,  4486,     98.0,  23.6043,  35.0397,2,  35.0390,2,    174.7,2,  159.800,2,     3.44,2,     5.73,2,     0.05,2,     0.48,2,  -999.00,9, -999.000,9, -999.000,9,   2018.4,2,   2314.4,2
           NA,     P10,     24,   1,      28,     -99,  2,19931017,0721,   1.5000,  146.5722,  4486,    148.9,  21.5859,  35.1623,2,  35.1473,2,    148.1,2,  144.800,2,     5.60,2,     8.49,2,     0.03,2,     0.67,2,     1.76,2,    0.901,2, -999.000,9,   2055.3,6,   2321.4,6
           NA,     P10,     24,   1,      27,     -99,  2,19931017,0721,   1.5000,  146.5722,  4486,    198.1,  16.7005,  35.0523,2,  35.0453,2,    146.6,2, -999.000,4,    10.44,2,    13.08,2,     0.01,2,     0.99,2,  -999.00,9, -999.000,9, -999.000,9,   2102.0,2,   2320.7,2
           NA,     P10,     24,   1,      26,     -99,  2,19931017,0721,   1.5000,  146.5722,  4486,    248.0,  11.9196,  34.7152,2,  34.7228,2,    130.3,2,  127.900,2,    23.77,2,    21.31,2,     0.01,2,     1.51,2,     0.96,6,    0.463,6, -999.000,9,   2156.6,2,   2310.8,2
           NA,     P10,     24,   1,      25,     -99,  2,19931017,0721,   1.5000,  146.5722,  4486,    299.7,  10.5521,  34.7350,2,  34.7334,2,    118.7,2,  111.400,2,    24.94,2,    25.54,2,     0.01,2,     1.78,2,  -999.00,4,    0.268,6, -999.000,9,   2184.8,2,   2316.4,2
           NA,     P10,     24,   1,      24,     -99,  2,19931017,0721,   1.5000,  146.5722,  4486,    398.2,   9.6166,  34.6902,2,  34.6891,2,     98.1,2,   91.600,2,    28.60,2,    29.39,2,     0.00,2,     2.01,2,     0.26,2,    0.128,2, -999.000,9,   2208.0,2,   2318.1,2
           NA,     P10,     24,   1,      23,     -99,  2,19931017,0721,   1.5000,  146.5722,  4486,    496.2,   8.3786,  34.6142,2,  34.6125,2,    103.8,2,  106.800,2,    33.44,2,    30.25,2,     0.01,2,     2.08,2,  -999.00,9, -999.000,9, -999.000,9,   2212.4,2,   2321.9,2
           NA,     P10,     24,   1,      22,     -99,  2,19931017,0721,   1.5000,  146.5722,  4486,    596.5,   7.0161,  34.5590,2,  34.5501,2,    105.2,2,  105.100,2,    43.60,2,    33.11,2,     0.01,2,     2.30,2,     0.07,2,    0.033,2, -999.000,9,   2231.6,2,   2329.8,2
           NA,     P10,     24,   1,      21,     -99,  2,19931017,0721,   1.5000,  146.5722,  4486,    701.5,   5.9620,  34.5372,2,  34.5359,2,    119.9,2,  112.900,2,    54.10,2,    34.32,2,     0.01,2,     2.44,2,  -999.00,9, -999.000,9, -999.000,9,   2244.6,2,   2339.3,2
           NA,     P10,     24,   1,      20,     -99,  2,19931017,0721,   1.5000,  146.5722,  4486,    799.6,   5.4972,  34.5412,2,  34.5449,2,    101.1,2,   99.700,2,    62.09,2,    36.50,2,     0.01,2,     2.62,2,     0.02,2,    0.007,2, -999.000,9,   2262.3,2,   2342.4,2
           NA,     P10,     24,   1,      19,     -99,  2,19931017,0721,   1.5000,  146.5722,  4486,    872.1,   5.1077,  34.5428,2,  34.5418,2,    103.6,2,  102.300,2,    69.25,2,    36.63,2,     0.01,2,     2.63,2,  -999.00,9, -999.000,9, -999.000,9,   2269.3,2,   2350.0,2
           NA,     P10,     24,   1,      18,     -99,  2,19931017,0721,   1.5000,  146.5722,  4486,    993.9,   4.7032,  34.5514,2,  34.5530,2,     98.3,2,   96.700,2,    78.57,2,    37.66,2,     0.01,2,     2.71,2,     0.03,2,    0.009,2, -999.000,9,   2281.7,2,   2358.0,2
           NA,     P10,     24,   1,      17,     -99,  2,19931017,0721,   1.5000,  146.5722,  4486,   1087.8,   4.4128,  34.5611,2,  34.5603,2,     97.0,2,   95.500,2,    88.07,2,    37.73,2,     0.01,2,     2.72,2,  -999.00,9, -999.000,9, -999.000,9,   2291.9,2,   2372.4,2
           NA,     P10,     24,   1,      16,     -99,  2,19931017,0721,   1.5000,  146.5722,  4486,   1195.0,   4.0354,  34.5691,2,-999.0000,4,    100.3,2,   99.400,2,    94.05,2,    37.80,2,     0.01,2,     2.72,2,  -999.00,4, -999.000,4, -999.000,9,   2298.5,2,   2380.0,2
           NA,     P10,     24,   1,      15,     -99,  2,19931017,0721,   1.5000,  146.5722,  4486,   1396.9,   3.4193,  34.5887,2,  34.5887,2,    100.5,2,  100.100,2,   109.03,2,    38.27,2,     0.00,2,     2.75,2,  -999.00,9, -999.000,9, -999.000,9,   2313.1,2,   2402.2,2
           NA,     P10,     24,   1,      14,     -99,  2,19931017,0721,   1.5000,  146.5722,  4486,   1596.8,   2.8499,  34.6097,2,  34.6115,2,    106.7,2,  107.300,2,   120.52,2,    38.10,2,     0.02,2,     2.74,2,  -999.00,4, -999.000,4, -999.000,9,   2322.9,2,   2403.5,2
           NA,     P10,     24,   1,      13,     -99,  2,19931017,0721,   1.5000,  146.5722,  4486,   1798.3,   2.6061,  34.6221,2,  34.6174,2,    109.3,2,  110.000,2,   125.33,2,    38.12,2,     0.01,2,     2.74,2,  -999.00,9, -999.000,9, -999.000,9,   2326.4,2,   2413.9,2
           NA,     P10,     24,   1,      12,     -99,  2,19931017,0721,   1.5000,  146.5722,  4486,   1994.3,   2.3566,  34.6325,2,  34.6361,2,    114.9,2,  114.700,2,   131.15,2,    37.79,2,     0.01,2,     2.72,2,  -999.00,4, -999.000,4, -999.000,9,   2329.3,2,   2428.9,2
           NA,     P10,     24,   1,      11,     -99,  2,19931017,0721,   1.5000,  146.5722,  4486,   2193.8,   2.1919,  34.6413,2,-999.0000,3,    117.9,2,  118.300,2,   135.30,2,    37.68,2,     0.01,2,     2.69,2,  -999.00,9, -999.000,9, -999.000,9,   2331.6,2,   2424.9,2
           NA,     P10,     24,   1,      10,     -99,  2,19931017,0721,   1.5000,  146.5722,  4486,   2395.5,   1.9481,  34.6550,2,  34.6557,2,    123.2,2,  124.600,2,   139.62,2,    37.35,2,     0.01,2,     2.66,2,  -999.00,4, -999.000,4, -999.000,9,   2331.3,2,   2430.0,2
           NA,     P10,     24,   1,       9,     -99,  2,19931017,0721,   1.5000,  146.5722,  4486,   2597.5,   1.8035,  34.6625,2,  34.6610,2,    130.2,2,  130.600,2,   141.44,2,    36.96,2,     0.01,2,     2.63,2,  -999.00,9, -999.000,9, -999.000,9,   2330.9,2,   2428.2,2
           NA,     P10,     24,   1,       8,     -99,  2,19931017,0721,   1.5000,  146.5722,  4486,   2797.3,   1.6837,  34.6693,2,  34.6677,2,    137.2,2,  137.500,2,   141.77,2,    36.51,2,     0.01,2,     2.59,2,     0.00,2,    0.001,2, -999.000,9,   2328.5,2,   2434.6,2
           NA,     P10,     24,   1,       7,     -99,  2,19931017,0721,   1.5000,  146.5722,  4486,   2995.7,   1.6376,-999.0000,3,  34.6724,2,    140.6,2,  140.800,2,   142.09,2,    36.30,2,     0.01,2,     2.57,2,  -999.00,9, -999.000,9, -999.000,9,   2326.8,2,   2440.1,2
           NA,     P10,     24,   1,       6,     -99,  2,19931017,0721,   1.5000,  146.5722,  4486,   3246.7,   1.6024,  34.6765,2,-999.0000,4,    144.0,2,  143.700,2,   141.92,2,    36.09,2,     0.00,2,     2.56,2,    -0.00,2,   -0.002,2, -999.000,9,   2326.4,2,   2442.6,2
           NA,     P10,     24,   1,       5,     -99,  2,19931017,0721,   1.5000,  146.5722,  4486,   3496.8,   1.5798,  34.6795,2,  34.6793,2,    146.7,2,  146.200,2,   141.74,2,    35.93,2,     0.00,2,     2.54,2,  -999.00,9, -999.000,9, -999.000,9,   2326.3,2,   -999.0,4
           NA,     P10,     24,   1,       4,     -99,  2,19931017,0721,   1.5000,  146.5722,  4486,   3742.4,   1.5553,  34.6835,2,  34.6850,2,    151.0,2,  149.900,2,   141.23,2,    35.77,2,     0.00,2,     2.52,2,    -0.00,2,   -0.001,2, -999.000,9,   2323.8,6,   2440.8,2
           NA,     P10,     24,   1,       3,     -99,  2,19931017,0721,   1.5000,  146.5722,  4486,   3949.6,   1.5403,  34.6859,2,  34.6888,2,    153.5,2,  152.000,2,   141.22,2,    35.61,2,     0.00,2,     2.51,2,  -999.00,9, -999.000,9, -999.000,9,   2323.3,2,   -999.0,3
           NA,     P10,     24,   1,       2,     -99,  2,19931017,0721,   1.5000,  146.5722,  4486,   4293.2,   1.5368,  34.6887,2,-999.0000,4,    157.4,2,  155.400,2,   140.38,2,    35.45,2,     0.00,2,     2.50,2,     0.00,2,    0.002,2, -999.000,9,   2322.2,2,   -999.0,3
           NA,     P10,     24,   1,       1,     -99,  2,19931017,0721,   1.5000,  146.5722,  4486,   4547.8,   1.5575,  34.6897,2,-999.0000,4,    156.8,2,  155.600,2,   140.21,2,    35.46,2,    -0.01,2,     2.48,2,  -999.00,4, -999.000,4, -999.000,9,   2326.0,2,   2436.5,2