BOTTLE,20210102JOAExport
EXPOCODE,SECT_ID,STNNBR,CASTNO,SAMPNO,BTLNBR,BTLNBR_FLAG_W,DATE,TIME,LATITUDE,LONGITUDE,DEPTH,CTDPRS,CTDTMP,CTDSAL,CTDSAL_FLAG_W,SALNTY,SALNTY_FLAG_W,CTDOXY,CTDOXY_FLAG_W,OXYGEN,OXYGEN_FLAG_W,SILCAT,SILCAT_FLAG_W,NITRAT,NITRAT_FLAG_W,NITRIT,NITRIT_FLAG_W,PHSPHT,PHSPHT_FLAG_W,CFC-11,CFC-11_FLAG_W,CFC-12,CFC-12_FLAG_W,SF6,SF6_FLAG_W,TCARBN,TCARBN_FLAG_W,ALKALI,ALKALI_FLAG_W
,,,,,,,,,,,,DB,ITS-90,PSS-78,,PSS-78,,UMOL/KG,,UMOL/KG,,UMOL/KG,,UMOL/KG,,UMOL/KG,,UMOL/KG,,PMOL/KG,,PMOL/KG,,FMOL/KG,,UMOL/KG,,UMOL/KG
           NA,     P10,     61,   1,      36,     -99,  2,19931029,0642,  20.5112,  149.3333,  4548,      9.0,  28.5633,  34.8593,2,  34.8598,2,    204.1,2,  212.100,2,     0.60,2,    -0.01,2,     0.01,2,     0.06,2,     1.73,2,    0.979,2, -999.000,9,   -999.0,9,   -999.0,9
           NA,     P10,     61,   1,      30,     -99,  2,19931029,0642,  20.5112,  149.3333,  4548,     99.7,  25.5834,  35.0860,2,  35.0861,2,    212.0,2,  217.400,2,     0.78,2,     0.05,2,     0.01,2,     0.06,2,     1.91,2,    1.052,2, -999.000,9,   -999.0,9,   -999.0,9
           NA,     P10,     61,   1,      29,     -99,  2,19931029,0642,  20.5112,  149.3333,  4548,    149.4,  23.1615,  35.1431,2,  35.1393,2,    187.4,2,  198.000,2,     1.14,2,     0.55,2,     0.07,2,     0.12,2,     2.16,2,    1.166,2, -999.000,9,   -999.0,9,   -999.0,9
           NA,     P10,     61,   1,      28,     -99,  2,19931029,0642,  20.5112,  149.3333,  4548,    198.7,  18.8301,  34.9036,2,  34.9021,2,    196.8,2,  205.000,2,     2.36,2,     2.32,2,     0.03,2,     0.23,2,     2.49,6,    1.312,6, -999.000,9,   -999.0,9,   -999.0,9
           NA,     P10,     61,   1,      27,     -99,  2,19931029,0642,  20.5112,  149.3333,  4548,    248.6,  17.4204,  34.8044,2,  34.7994,2,    210.6,2,  211.500,2,     3.41,2,     3.78,2,     0.03,2,     0.31,2,     2.55,2,    1.341,2, -999.000,9,   -999.0,9,   -999.0,9
           NA,     P10,     61,   1,      26,     -99,  2,19931029,0642,  20.5112,  149.3333,  4548,    299.0,  16.3317,  34.7290,2,  34.7186,2,    204.9,2,  200.000,2,     5.65,2,     6.47,2,     0.02,2,     0.50,2,     2.54,2,    1.329,2, -999.000,9,   -999.0,9,   -999.0,9
           NA,     P10,     61,   1,      25,     -99,  2,19931029,0642,  20.5112,  149.3333,  4548,    348.2,  15.1077,  34.6192,2,  34.6155,2,    202.3,2,  191.600,2,     8.59,2,     8.94,2,     0.02,2,     0.68,2,     2.41,2,    1.240,2, -999.000,9,   -999.0,9,   -999.0,9
           NA,     P10,     61,   1,      24,     -99,  2,19931029,0642,  20.5112,  149.3333,  4548,    398.9,  13.6643,  34.4776,2,  34.5025,2,    188.4,2,  186.700,2,    11.36,2,    11.29,2,     0.02,2,     0.85,2,     2.42,2,    1.234,2, -999.000,9,   -999.0,9,   -999.0,9
           NA,     P10,     61,   1,      23,     -99,  2,19931029,0642,  20.5112,  149.3333,  4548,    497.5,  10.0853,  34.2361,2,  34.2366,2,    166.6,2,  164.900,2,    25.84,2,    19.86,2,     0.01,2,     1.47,2,     1.85,2,    0.909,2, -999.000,9,   -999.0,9,   -999.0,9
           NA,     P10,     61,   1,      22,     -99,  2,19931029,0642,  20.5112,  149.3333,  4548,    601.3,   7.9111,  34.1662,2,  34.1668,2,    112.8,2,  116.200,2,    44.62,2,    28.37,2,     0.01,2,     2.07,2,     0.88,2,    0.434,2, -999.000,9,   -999.0,9,   -999.0,9
           NA,     P10,     61,   1,      21,     -99,  2,19931029,0642,  20.5112,  149.3333,  4548,    700.8,   5.9381,  34.1327,2,  34.1310,2,     81.7,2,   91.200,2,    68.73,2,    34.31,2,     0.01,2,     2.48,2,  -999.00,4,    0.268,2, -999.000,9,   -999.0,9,   -999.0,9
           NA,     P10,     61,   1,      20,     -99,  2,19931029,0642,  20.5112,  149.3333,  4548,    793.0,   5.0303,  34.2248,2,  34.2255,2,     58.1,2,   59.700,2,    87.33,2,    38.69,2,     0.00,2,     2.78,2,     0.16,2,    0.080,2, -999.000,9,   -999.0,9,   -999.0,9
           NA,     P10,     61,   1,      19,     -99,  2,19931029,0642,  20.5112,  149.3333,  4548,    895.2,   4.4239,  34.3635,2,  34.3628,2,     52.4,2,   52.500,2,   100.93,2,    40.20,2,     0.00,2,     2.89,2,     0.03,2,    0.023,2, -999.000,9,   -999.0,9,   -999.0,9
           NA,     P10,     61,   1,      18,     -99,  2,19931029,0642,  20.5112,  149.3333,  4548,    996.0,   3.9624,  34.4325,2,  34.4324,2,     57.2,2,   57.200,2,   110.58,2,    40.48,2,     0.00,2,     2.90,2,     0.01,2,    0.011,2, -999.000,9,   -999.0,9,   -999.0,9
           NA,     P10,     61,   1,      17,     -99,  2,19931029,0642,  20.5112,  149.3333,  4548,   1198.1,   3.2234,  34.5131,2,  34.5118,2,     68.9,2,   70.900,2,   125.56,2,    40.21,2,    -0.01,2,     2.87,2,     0.00,2,    0.005,2, -999.000,9,   -999.0,9,   -999.0,9
           NA,     P10,     61,   1,      16,     -99,  2,19931029,0642,  20.5112,  149.3333,  4548,   1398.6,   2.6638,  34.5543,2,  34.5542,2,     82.4,2,   82.700,2,   136.06,2,    39.65,2,     0.00,2,     2.83,2,  -999.00,9, -999.000,9, -999.000,9,   -999.0,9,   -999.0,9
           NA,     P10,     61,   1,      15,     -99,  2,19931029,0642,  20.5112,  149.3333,  4548,   1607.2,   2.4200,  34.5875,2,  34.5878,2,     93.7,2,   94.400,2,   138.82,2,    38.95,2,    -0.02,2,     2.78,2,  -999.00,9, -999.000,9, -999.000,9,   -999.0,9,   -999.0,9
           NA,     P10,     61,   1,      14,     -99,  2,19931029,0642,  20.5112,  149.3333,  4548,   1798.0,   2.2391,  34.6055,2,  34.6058,2,    101.8,2,  101.100,2,   141.93,2,    38.50,2,    -0.01,2,     2.76,2,  -999.00,9, -999.000,9, -999.000,9,   -999.0,9,   -999.0,9
           NA,     P10,     61,   1,      13,     -99,  2,19931029,0642,  20.5112,  149.3333,  4548,   2004.1,   2.0229,  34.6235,2,  34.6247,2,    108.5,2,  108.300,2,   145.21,2,    38.12,2,    -0.02,2,     2.72,2,  -999.00,9, -999.000,9, -999.000,9,   -999.0,9,   -999.0,9
           NA,     P10,     61,   1,      12,     -99,  2,19931029,0642,  20.5112,  149.3333,  4548,   2194.2,   1.8908,  34.6339,2,  34.6345,2,    114.6,2,  114.000,2,   146.78,2,    37.79,2,    -0.02,2,     2.70,2,  -999.00,9, -999.000,9, -999.000,9,   -999.0,9,   -999.0,9
           NA,     P10,     61,   1,      11,     -99,  2,19931029,0642,  20.5112,  149.3333,  4548,   2381.4,   1.7912,  34.6448,2,  34.6455,2,    119.7,2,  120.500,2,   147.64,2,    37.45,2,    -0.02,2,     2.68,2,  -999.00,4,    0.006,2, -999.000,9,   -999.0,9,   -999.0,9
           NA,     P10,     61,   1,      10,     -99,  2,19931029,0642,  20.5112,  149.3333,  4548,   2587.1,   1.7214,  34.6534,2,  34.6534,2,    124.8,2,  124.600,2,   148.35,2,    37.24,2,    -0.02,2,     2.65,2,  -999.00,9, -999.000,9, -999.000,9,   -999.0,9,   -999.0,9
           NA,     P10,     61,   1,       9,     -99,  2,19931029,0642,  20.5112,  149.3333,  4548,   2789.1,   1.6687,  34.6593,2,  34.6597,2,    129.4,2,  128.900,2,   148.36,2,    37.01,2,    -0.01,2,     2.63,2,  -999.00,9, -999.000,9, -999.000,9,   -999.0,9,   -999.0,9
           NA,     P10,     61,   1,       8,     -99,  2,19931029,0642,  20.5112,  149.3333,  4548,   2994.9,   1.6401,  34.6627,2,  34.6626,2,    133.1,2,  132.100,2,   148.20,2,    36.91,2,    -0.01,2,     2.62,2,  -999.00,9, -999.000,9, -999.000,9,   -999.0,9,   -999.0,9
           NA,     P10,     61,   1,       7,     -99,  2,19931029,0642,  20.5112,  149.3333,  4548,   3198.5,   1.6044,  34.6675,2,  34.6681,2,    136.1,2,  135.800,2,   148.21,2,    36.68,2,    -0.01,2,     2.59,2,  -999.00,9, -999.000,9, -999.000,9,   -999.0,9,   -999.0,9
           NA,     P10,     61,   1,       6,     -99,  2,19931029,0642,  20.5112,  149.3333,  4548,   3397.9,   1.5708,  34.6721,2,  34.6722,2,    139.7,2,  140.100,2,   147.53,2,    36.52,2,    -0.01,2,     2.57,2,  -999.00,9, -999.000,9, -999.000,9,   -999.0,9,   -999.0,9
           NA,     P10,     61,   1,       5,     -99,  2,19931029,0642,  20.5112,  149.3333,  4548,   3594.5,   1.5336,  34.6757,2,  34.6762,2,    144.9,2,  144.900,2,   146.34,2,    36.25,2,    -0.01,2,     2.55,2,  -999.00,9, -999.000,9, -999.000,9,   -999.0,9,   -999.0,9
           NA,     P10,     61,   1,       3,     -99,  2,19931029,0642,  20.5112,  149.3333,  4548,   3992.6,   1.5013,  34.6818,2,  34.6817,2,    152.2,2,  152.000,2,   143.89,2,    35.66,2,     0.00,2,     2.50,2,    -0.00,2,    0.000,2, -999.000,9,   -999.0,9,   -999.0,9
           NA,     P10,     61,   1,       2,     -99,  2,19931029,0642,  20.5112,  149.3333,  4548,   4303.8,   1.4462,  34.6890,2,  34.6888,2,    162.6,2,  162.800,2,   140.52,2,    35.02,2,    -0.01,2,     2.45,2,  -999.00,4,    0.004,2, -999.000,9,   -999.0,9,   -999.0,9
           NA,     P10,     61,   1,       1,     -99,  2,19931029,0642,  20.5112,  149.3333,  4548,   4607.3,   1.4448,  34.6924,2,  34.6927,2,    168.1,2,  168.000,2,   136.34,2,    34.60,2,    -0.01,2,     2.41,2,     0.00,2,    0.005,2, -999.000,9,   -999.0,9,   -999.0,9
           NA,     P10,     62,   1,      36,     -99,  2,19931029,1347,  21.1695,  149.3362,  5388,     21.8,  28.4396,  34.8636,2,  34.8590,2,    195.5,2,  208.600,2,     0.69,2,     0.01,2,     0.00,2,     0.02,2,     1.64,2,    0.908,2, -999.000,9,   1931.1,2,   2298.7,2
           NA,     P10,     62,   1,      35,     -99,  2,19931029,1347,  21.1695,  149.3362,  5388,     47.2,  28.4520,  34.8668,2,  34.8677,2,    199.2,2,  209.500,2,     0.69,2,     0.07,2,     0.00,2,     0.03,2,     1.72,2,    0.962,2, -999.000,9,   1934.9,6,   2296.3,2
           NA,     P10,     62,   1,      34,     -99,  2,19931029,1347,  21.1695,  149.3362,  5388,     96.1,  24.8856,  35.0494,2,  35.0507,2,    214.0,2,  225.400,2,     1.03,2,     0.11,2,     0.01,2,     0.03,2,  -999.00,9, -999.000,9, -999.000,9,   1965.7,2,   2307.4,6
           NA,     P10,     62,   1,      33,     -99,  2,19931029,1347,  21.1695,  149.3362,  5388,    141.8,  21.0650,  35.0025,2,  35.0085,2,    196.6,2,  200.100,2,     1.72,2,     1.21,2,     0.04,2,     0.14,2,     2.27,2,    1.222,2, -999.000,9,   2011.0,2,   2309.3,2
           NA,     P10,     62,   1,      32,     -99,  2,19931029,1347,  21.1695,  149.3362,  5388,    199.5,  18.4854,  34.8763,2,  34.8751,2,    189.8,2,  194.300,2,     3.10,2,     3.77,2,     0.01,2,     0.30,2,     2.31,2,    1.206,2, -999.000,9,   2031.3,2,   2298.7,2
           NA,     P10,     62,   1,      31,     -99,  2,19931029,1347,  21.1695,  149.3362,  5388,    249.2,  17.2536,  34.7953,2,  34.7929,2,    197.0,2,  198.500,2,     4.13,2,     5.00,2,     0.01,2,     0.38,2,  -999.00,9, -999.000,9, -999.000,9,   2036.0,2,   2298.0,2
           NA,     P10,     62,   1,      30,     -99,  2,19931029,1347,  21.1695,  149.3362,  5388,    299.0,  15.9788,  34.6965,2,  34.6931,2,    199.0,2,  197.100,2,     6.28,2,     7.11,2,     0.01,2,     0.53,2,     2.44,2,    1.274,2, -999.000,9,   2050.3,2,   2289.6,2
           NA,     P10,     62,   1,      29,     -99,  2,19931029,1347,  21.1695,  149.3362,  5388,    396.8,  12.7691,  34.4170,2,  34.4164,2,    187.6,2,  184.900,2,    13.95,2,    12.93,2,     0.01,2,     0.96,2,     2.16,2,    1.087,2, -999.000,9,   2094.8,2,   2283.3,2
           NA,     P10,     62,   1,      28,     -99,  2,19931029,1347,  21.1695,  149.3362,  5388,    496.8,   9.7228,  34.2135,2,  34.2121,2,    171.5,2,  161.800,2,    27.55,2,    20.49,2,     0.00,2,     1.48,2,  -999.00,9, -999.000,9, -999.000,9,   2149.1,2,   2289.0,2
           NA,     P10,     62,   1,      27,     -99,  2,19931029,1347,  21.1695,  149.3362,  5388,    598.0,   7.0399,  34.1088,2,-999.0000,4,    134.1,2, -999.000,4,  -999.00,4,  -999.00,4,  -999.00,4,  -999.00,4,  -999.00,4, -999.000,4, -999.000,9,   2262.7,2,   2329.2,2
           NA,     P10,     62,   1,      26,     -99,  2,19931029,1347,  21.1695,  149.3362,  5388,    701.5,   5.8055,  34.1405,2,  34.1419,2,     84.7,2,   85.900,2,    70.61,2,    34.50,2,     0.00,2,     2.49,2,     0.43,2,    0.214,2, -999.000,9,   2267.0,2,   2323.6,2
           NA,     P10,     62,   1,      25,     -99,  2,19931029,1347,  21.1695,  149.3362,  5388,    795.5,   4.7834,  34.2515,2,  34.2484,2,     53.6,2,   55.700,2,    92.30,2,    38.88,2,     0.00,2,     2.79,2,     0.13,2,    0.040,2, -999.000,9,   2311.7,2,   2345.4,2
           NA,     P10,     62,   1,      24,     -99,  2,19931029,1347,  21.1695,  149.3362,  5388,    896.6,   4.3501,  34.3483,2,  34.3490,2,     49.8,2,   50.000,2,   102.97,2,    40.06,2,     0.00,2,     2.88,2,  -999.00,9, -999.000,9, -999.000,9,   2330.2,2,   2367.6,2
           NA,     P10,     62,   1,      23,     -99,  2,19931029,1347,  21.1695,  149.3362,  5388,    992.1,   4.0194,  34.4237,2,  34.4224,2,     55.5,2,   55.600,2,   109.85,2,    40.16,2,     0.01,2,     2.87,2,     0.01,2,    0.005,2, -999.000,9,   2336.3,2,   2379.8,2
           NA,     P10,     62,   1,      22,     -99,  3,19931029,1347,  21.1695,  149.3362,  5388,   1094.9,   3.5792,  34.4781,2,  34.4764,2,     64.7,2,   63.500,2,   118.80,2,    40.01,2,     0.00,2,     2.86,2,     0.00,2,    0.005,2, -999.000,9,   2338.7,2,   2394.3,2
           NA,     P10,     62,   1,      21,     -99,  2,19931029,1347,  21.1695,  149.3362,  5388,   1207.4,   3.2807,  34.5133,2,  34.5122,2,     73.2,2,   71.300,2,   124.31,2,    39.73,2,     0.00,2,     2.84,2,  -999.00,4,    0.003,2, -999.000,9,   2342.6,2,   2398.1,2
           NA,     P10,     62,   1,      20,     -99,  2,19931029,1347,  21.1695,  149.3362,  5388,   1406.7,   2.7187,  34.5565,2,  34.5563,2,     84.2,2,   83.800,2,   134.28,2,    39.29,2,     0.01,2,     2.79,2,  -999.00,9, -999.000,9, -999.000,9,   2347.2,2,   2414.1,2
           NA,     P10,     62,   1,      19,     -99,  2,19931029,1347,  21.1695,  149.3362,  5388,   1565.4,   2.4426,  34.5750,2,  34.5746,2,     89.5,2,   89.700,2,   139.54,2,    39.16,2,     0.00,2,     2.78,2,  -999.00,9, -999.000,9, -999.000,9,   2349.3,2,   2416.2,2
           NA,     P10,     62,   1,      18,     -99,  2,19931029,1347,  21.1695,  149.3362,  5388,   1782.6,   2.1867,  34.5973,2,  34.5966,2,     99.6,2,   97.700,2,   143.92,2,    38.78,2,     0.00,2,     2.74,2,  -999.00,9, -999.000,9, -999.000,9,   2350.3,6,   2423.4,2
           NA,     P10,     62,   1,      17,     -99,  2,19931029,1347,  21.1695,  149.3362,  5388,   2003.5,   1.9703,  34.6215,2,  34.6214,2,    109.4,2,  108.300,2,   146.15,2,    38.23,2,    -0.01,2,     2.71,2,  -999.00,9, -999.000,9, -999.000,9,   2347.8,2,   2428.2,2
           NA,     P10,     62,   1,      16,     -99,  2,19931029,1347,  21.1695,  149.3362,  5388,   2187.2,   1.8567,  34.6341,2,  34.6341,2,    115.9,2,  114.800,2,   147.36,2,    37.89,2,    -0.01,2,     2.67,2,  -999.00,9, -999.000,9, -999.000,9,   2346.4,2,   2428.6,2
           NA,     P10,     62,   1,      15,     -99,  2,19931029,1347,  21.1695,  149.3362,  5388,   2393.2,   1.7565,  34.6464,2,  34.6461,2,    121.2,2,  121.200,2,   148.04,2,    37.55,2,     0.00,2,     2.65,2,  -999.00,9, -999.000,9, -999.000,9,   2344.2,2,   2428.1,2
           NA,     P10,     62,   1,      14,     -99,  3,19931029,1347,  21.1695,  149.3362,  5388,   2585.0,   1.6948,  34.6542,2,  34.6540,2,    126.1,2,  126.200,2,   148.22,2,    37.21,2,     0.00,2,     2.62,2,  -999.00,9, -999.000,9, -999.000,9,   2339.9,2,   2433.8,2
           NA,     P10,     62,   1,      13,     -99,  2,19931029,1347,  21.1695,  149.3362,  5388,   2804.0,   1.6421,  34.6608,2,  34.6607,2,    130.6,2,  130.500,2,   148.56,2,    36.99,2,     0.00,2,     2.60,2,  -999.00,9, -999.000,9, -999.000,9,   2338.8,2,   2432.5,2
           NA,     P10,     62,   1,      12,     -99,  2,19931029,1347,  21.1695,  149.3362,  5388,   3006.7,   1.5945,  34.6664,2,  34.6660,2,    135.1,2,  135.000,2,   148.74,2,    36.72,2,    -0.01,2,     2.57,2,  -999.00,9, -999.000,9, -999.000,9,   2335.6,2,   2433.6,2
           NA,     P10,     62,   1,      11,     -99,  2,19931029,1347,  21.1695,  149.3362,  5388,   3213.9,   1.5409,  34.6724,2,  34.6722,2,    139.2,2,  140.800,2,   147.88,2,    36.39,2,    -0.01,2,     2.55,2,  -999.00,4,    0.001,2, -999.000,9,   2332.6,2,   2432.2,2
           NA,     P10,     62,   1,      10,     -99,  2,19931029,1347,  21.1695,  149.3362,  5388,   3384.8,   1.5168,  34.6752,2,  34.6750,2,    142.2,2,  145.500,2,   146.50,2,    36.14,2,     0.00,2,     2.52,2,    -0.00,2,    0.000,2, -999.000,9,   2329.8,2,   2431.2,2
           NA,     P10,     62,   1,       9,     -99,  2,19931029,1347,  21.1695,  149.3362,  5388,   3588.6,   1.4982,  34.6785,2,  34.6789,2,    146.8,2,  148.000,2,   145.64,2,    35.82,2,     0.00,2,     2.51,2,  -999.00,9, -999.000,9, -999.000,9,   2325.8,2,   2430.2,2
           NA,     P10,     62,   1,       8,     -99,  2,19931029,1347,  21.1695,  149.3362,  5388,   3797.2,   1.4755,  34.6820,2,  34.6817,2,    151.6,2,  152.600,2,   144.26,2,    35.54,2,     0.00,2,     2.48,2,  -999.00,9, -999.000,9, -999.000,9,   2322.8,2,   2427.9,2
           NA,     P10,     62,   1,       7,     -99,  2,19931029,1347,  21.1695,  149.3362,  5388,   4027.7,   1.4664,  34.6852,2,  34.6848,2,    155.5,2,  156.200,2,   142.53,2,    35.33,2,    -0.01,2,     2.47,2,  -999.00,9, -999.000,9, -999.000,9,   2320.2,2,   2425.8,6
           NA,     P10,     62,   1,       6,     -99,  2,19931029,1347,  21.1695,  149.3362,  5388,   4257.0,   1.4577,  34.6876,2,  34.6872,2,    160.1,2,  160.500,2,   140.56,2,    35.05,2,     0.00,2,     2.44,2,  -999.00,9, -999.000,9, -999.000,9,   2315.7,2,   2428.0,2
           NA,     P10,     62,   1,       5,     -99,  2,19931029,1347,  21.1695,  149.3362,  5388,   4489.4,   1.4541,  34.6897,2,  34.6901,2,    163.4,2,  164.000,2,   139.09,2,    34.81,2,     0.00,2,     2.42,2,  -999.00,9, -999.000,9, -999.000,9,   2312.7,2,   2425.1,2
           NA,     P10,     62,   1,       4,     -99,  2,19931029,1347,  21.1695,  149.3362,  5388,   4744.1,   1.4644,  34.6922,2,  34.6919,2,    166.6,2,  167.300,2,   136.86,2,    34.48,2,     0.00,2,     2.41,2,  -999.00,4,    0.003,2, -999.000,9,   2307.3,2,   -999.0,5
           NA,     P10,     62,   1,       3,     -99,  2,19931029,1347,  21.1695,  149.3362,  5388,   4987.9,   1.4829,  34.6932,2,  34.6925,2,    168.7,2,  169.300,2,   135.99,2,    34.33,2,    -0.01,2,     2.39,2,  -999.00,4, -999.000,4, -999.000,9,   2304.8,2,   2423.5,2
           NA,     P10,     62,   1,       2,     -99,  2,19931029,1347,  21.1695,  149.3362,  5388,   5236.5,   1.5078,  34.6931,2,  34.6923,2,    169.9,2,  170.000,2,   135.30,2,    34.22,2,    -0.01,2,     2.38,2,  -999.00,4,    0.000,2, -999.000,9,   2304.3,2,   2419.2,2
           NA,     P10,     62,   1,       1,     -99,  2,19931029,1347,  21.1695,  149.3362,  5388,   5481.1,   1.5193,  34.6955,2,  34.6950,2,   -999.0,3,  173.300,2,   133.59,2,    33.98,2,     0.00,2,     2.37,2,     0.00,2,    0.006,2, -999.000,9,   2302.0,2,   2417.0,2