BOTTLE,20210102JOAExport
EXPOCODE,SECT_ID,STNNBR,CASTNO,SAMPNO,BTLNBR,BTLNBR_FLAG_W,DATE,TIME,LATITUDE,LONGITUDE,DEPTH,CTDPRS,CTDTMP,CTDSAL,CTDSAL_FLAG_W,SALNTY,SALNTY_FLAG_W,CTDOXY,CTDOXY_FLAG_W,OXYGEN,OXYGEN_FLAG_W,SILCAT,SILCAT_FLAG_W,NITRAT,NITRAT_FLAG_W,NITRIT,NITRIT_FLAG_W,PHSPHT,PHSPHT_FLAG_W,CFC-11,CFC-11_FLAG_W,CFC-12,CFC-12_FLAG_W,SF6,SF6_FLAG_W,TCARBN,TCARBN_FLAG_W,ALKALI,ALKALI_FLAG_W
,,,,,,,,,,,,DB,ITS-90,PSS-78,,PSS-78,,UMOL/KG,,UMOL/KG,,UMOL/KG,,UMOL/KG,,UMOL/KG,,UMOL/KG,,PMOL/KG,,PMOL/KG,,FMOL/KG,,UMOL/KG,,UMOL/KG
           NA,     P10,     41,   1,      36,     -99,  2,19931021,0318,   8.4972,  149.3333,  3617,     14.3,  29.0386,  33.8095,2,  33.8134,2,    204.6,2,  200.900,2,     1.11,2,     0.06,2,     0.01,2,     0.12,2,     1.79,2,    0.979,2, -999.000,9,   1877.5,2,   2232.7,2
           NA,     P10,     41,   1,      27,     -99,  2,19931021,0318,   8.4972,  149.3333,  3617,     33.8,  28.7290,  33.9854,2,  33.9963,2,    202.9,2,  202.800,2,     1.28,2,     0.00,2,     0.01,2,     0.13,2,  -999.00,9, -999.000,9, -999.000,9,   1888.7,6,   2237.1,2
           NA,     P10,     41,   1,      26,     -99,  2,19931021,0318,   8.4972,  149.3333,  3617,     57.8,  26.5634,  34.5637,2,  34.5656,2,    217.2,2,  207.100,2,     1.59,2,     0.00,2,     0.01,2,     0.16,2,  -999.00,9, -999.000,9, -999.000,9,   1942.3,2,   2284.9,6
           NA,     P10,     41,   1,      25,     -99,  2,19931021,0318,   8.4972,  149.3333,  3617,     96.7,  22.8205,  34.7732,2,  34.7753,2,    192.6,2,  182.900,2,     3.38,2,     1.54,2,     0.13,2,     0.34,2,     2.11,2,    1.081,2, -999.000,9,   2009.1,2,   2307.7,2
           NA,     P10,     41,   1,      24,     -99,  2,19931021,0318,   8.4972,  149.3333,  3617,    146.2,  15.9173,  34.6374,2,-999.0000,3,    128.6,2,  132.100,2,    12.76,2,    13.80,2,     0.03,2,     1.08,2,     1.79,2,    0.895,2, -999.000,9,   2107.0,2,   2294.0,6
           NA,     P10,     41,   1,      23,     -99,  4,19931021,0318,   8.4972,  149.3333,  3617,    194.1,  11.2208,  34.4985,2,-999.0000,2,     93.8,2, -999.000,2,  -999.00,2,  -999.00,2,  -999.00,2,  -999.00,2,  -999.00,9, -999.000,9, -999.000,9,   -999.0,9,   -999.0,9
           NA,     P10,     41,   1,      22,     -99,  2,19931021,0318,   8.4972,  149.3333,  3617,    244.9,   9.8493,  34.5522,2,  34.5539,2,     63.3,2,   63.500,2,    34.61,2,    30.48,2,     0.01,2,     2.21,2,     0.35,2,    0.176,2, -999.000,9,   2225.2,2,   2312.2,2
           NA,     P10,     41,   1,      21,     -99,  2,19931021,0318,   8.4972,  149.3333,  3617,    282.3,   9.2239,  34.5894,2,-999.0000,4,     55.4,2, -999.000,4,  -999.00,4,  -999.00,4,  -999.00,4,  -999.00,4,  -999.00,9, -999.000,9, -999.000,9,   -999.0,4,   -999.0,4
           NA,     P10,     41,   1,      20,     -99,  2,19931021,0318,   8.4972,  149.3333,  3617,    334.4,   8.6498,  34.6002,2,-999.0000,3,     48.3,2,   49.400,2,    39.78,2,    34.72,2,     0.01,2,     2.45,2,     0.08,2,    0.047,2, -999.000,9,   2252.3,2,   -999.0,3
           NA,     P10,     41,   1,      19,     -99,  2,19931021,0318,   8.4972,  149.3333,  3617,    496.0,   7.3414,  34.5593,2,  34.5595,2,     58.3,2,   52.800,2,    50.62,2,    36.94,2,     0.01,2,     2.63,2,     0.03,2,    0.012,2, -999.000,9,   2267.2,2,   2336.2,2
           NA,     P10,     41,   1,      18,     -99,  2,19931021,0318,   8.4972,  149.3333,  3617,    595.1,   6.6479,  34.5362,2,  34.5353,2,     62.7,2,   62.800,2,    58.39,2,    37.05,2,     0.01,2,     2.64,2,  -999.00,9, -999.000,9, -999.000,9,   2272.4,2,   2344.8,2
           NA,     P10,     41,   1,      17,     -99,  2,19931021,0318,   8.4972,  149.3333,  3617,    696.7,   5.9765,  34.5313,2,  34.5315,2,     65.5,2,   65.500,2,    67.28,2,    38.04,2,     0.00,2,     2.71,2,     0.02,2,    0.010,2, -999.000,9,   2282.1,2,   2346.6,2
           NA,     P10,     41,   1,      16,     -99,  2,19931021,0318,   8.4972,  149.3333,  3617,    797.2,   5.5884,  34.5372,2,  34.5374,2,     70.8,2,   70.700,2,    73.10,2,    37.93,2,     0.01,2,     2.71,2,     0.01,2,    0.007,2, -999.000,9,   2288.1,2,   2370.1,2
           NA,     P10,     41,   1,      15,     -99,  2,19931021,0318,   8.4972,  149.3333,  3617,    897.7,   5.0259,  34.5427,2,  34.5418,2,     76.6,2,   75.900,2,    82.48,2,    38.46,2,     0.00,2,     2.72,2,     0.01,2,    0.015,2, -999.000,9,   2295.5,2,   2378.3,2
           NA,     P10,     41,   1,      14,     -99,  2,19931021,0318,   8.4972,  149.3333,  3617,   1003.5,   4.5768,  34.5514,2,  34.5522,2,     80.2,2,   79.800,2,    90.88,2,    38.21,2,     0.00,2,     2.74,2,  -999.00,9, -999.000,9, -999.000,9,   2303.0,2,   2381.3,2
           NA,     P10,     41,   1,      13,     -99,  2,19931021,0318,   8.4972,  149.3333,  3617,   1215.0,   3.7052,  34.5748,2,  34.5762,2,     89.2,2,   88.500,2,   107.70,2,    38.77,2,     0.00,2,     2.75,2,     0.00,2,   -0.002,2, -999.000,9,   2318.0,2,   2399.7,2
           NA,     P10,     41,   1,      12,     -99,  2,19931021,0318,   8.4972,  149.3333,  3617,   1374.5,   3.1767,  34.5912,2,  34.5909,2,     92.9,2,   92.600,2,   118.69,2,    38.93,2,     0.00,2,     2.76,2,  -999.00,9, -999.000,9, -999.000,9,   2327.3,2,   2405.9,2
           NA,     P10,     41,   1,      11,     -99,  3,19931021,0318,   8.4972,  149.3333,  3617,   1583.9,   2.7112,  34.6108,2,  34.6098,2,     99.6,2,   99.500,2,   128.22,2,    38.58,2,     0.00,2,     2.75,2,  -999.00,9, -999.000,9, -999.000,9,   2335.4,2,   2420.8,2
           NA,     P10,     41,   1,      10,     -99,  2,19931021,0318,   8.4972,  149.3333,  3617,   1784.9,   2.4399,  34.6250,2,  34.6248,2,    104.6,2,  104.500,2,   133.71,2,    38.42,2,     0.00,2,     2.73,2,  -999.00,9, -999.000,9, -999.000,9,   2338.6,2,   2414.4,2
           NA,     P10,     41,   1,       9,     -99,  2,19931021,0318,   8.4972,  149.3333,  3617,   1991.6,   2.2083,  34.6357,2,  34.6350,2,    109.3,2,  110.500,2,   138.39,2,    38.17,2,     0.00,2,     2.71,2,    -0.00,2,   -0.002,2, -999.000,9,   2339.4,2,   2439.6,2
           NA,     P10,     41,   1,       8,     -99,  2,19931021,0318,   8.4972,  149.3333,  3617,   2190.7,   2.0097,  34.6464,2,  34.6454,2,    116.2,2,  116.600,2,   141.77,2,    37.96,2,     0.00,2,     2.68,2,  -999.00,9, -999.000,9, -999.000,9,   2340.7,2,   2434.5,2
           NA,     P10,     41,   1,       7,     -99,  2,19931021,0318,   8.4972,  149.3333,  3617,   2390.6,   1.8951,  34.6528,2,  34.6527,2,    121.5,2,  121.900,2,   143.22,2,    37.57,2,    -0.01,2,     2.67,2,  -999.00,9, -999.000,9, -999.000,9,   2338.0,2,   2425.6,2
           NA,     P10,     41,   1,       6,     -99,  2,19931021,0318,   8.4972,  149.3333,  3617,   2591.7,   1.7159,  34.6618,2,  34.6635,2,    127.9,2,  129.700,2,   146.12,2,    37.15,2,     0.00,2,     2.61,2,  -999.00,9, -999.000,9, -999.000,9,   2335.5,6,   2430.3,2
           NA,     P10,     41,   1,       5,     -99,  2,19931021,0318,   8.4972,  149.3333,  3617,   2796.8,   1.6519,  34.6671,2,  34.6671,2,    133.4,2,  133.500,2,   146.43,2,    36.68,2,     0.00,2,     2.60,2,  -999.00,9, -999.000,9, -999.000,9,   2335.1,2,   2426.8,6
           NA,     P10,     41,   1,       4,     -99,  2,19931021,0318,   8.4972,  149.3333,  3617,   2998.3,   1.5972,  34.6718,2,  34.6724,2,    138.5,2,  138.400,2,   145.61,2,    36.44,2,    -0.01,2,     2.58,2,  -999.00,9, -999.000,9, -999.000,9,   2331.7,2,   2439.2,2
           NA,     P10,     41,   1,       3,     -99,  2,19931021,0318,   8.4972,  149.3333,  3617,   3195.0,   1.5518,  34.6759,2,  34.6747,2,    143.6,2,  141.400,2,   145.28,2,    36.50,2,    -0.01,2,     2.57,2,  -999.00,9, -999.000,9, -999.000,9,   2326.5,2,   2433.6,2
           NA,     P10,     41,   1,       2,     -99,  2,19931021,0318,   8.4972,  149.3333,  3617,   3291.7,   1.5453,  34.6769,2,  34.6773,2,    144.6,2,  144.500,2,   144.62,2,    36.29,2,    -0.01,2,     2.54,2,  -999.00,9, -999.000,9, -999.000,9,   2328.1,2,   2427.5,6
           NA,     P10,     41,   1,       1,     -99,  2,19931021,0318,   8.4972,  149.3333,  3617,   3665.1,   1.5244,  34.6812,2,  34.6787,2,    148.9,2,  150.000,2,   142.69,2,    35.82,2,     0.00,2,     2.51,2,  -999.00,3,    0.001,2, -999.000,9,   2325.3,2,   2433.3,2
           NA,     P10,     42,   1,      36,     -99,  2,19931022,0804,   8.8278,  149.3333,  4120,     14.4,  28.8440,  33.6557,2,  33.6584,2,    201.4,2,  208.400,2,     1.08,2,    -0.01,2,     0.02,2,     0.09,2,  -999.00,9, -999.000,9, -999.000,9,   -999.0,9,   -999.0,9
           NA,     P10,     42,   1,      33,     -99,  4,19931022,0804,   8.8278,  149.3333,  4120,     47.6,  28.2814,  34.4458,2,-999.0000,2,    209.3,2, -999.000,2,  -999.00,2,  -999.00,2,  -999.00,2,  -999.00,2,  -999.00,9, -999.000,9, -999.000,9,   -999.0,9,   -999.0,9
           NA,     P10,     42,   1,      32,     -99,  2,19931022,0804,   8.8278,  149.3333,  4120,     96.3,  23.7159,  34.7136,2,  34.7289,2,    180.1,2,  192.900,2,     3.01,2,     1.15,2,     0.09,2,     0.26,2,  -999.00,9, -999.000,9, -999.000,9,   -999.0,9,   -999.0,9
           NA,     P10,     42,   1,      31,     -99,  2,19931022,0804,   8.8278,  149.3333,  4120,    146.3,  14.1645,  34.5505,2,  34.5728,2,    147.4,2,  130.400,2,    14.64,2,    15.95,2,     0.02,2,     1.21,2,  -999.00,9, -999.000,9, -999.000,9,   -999.0,9,   -999.0,9
           NA,     P10,     42,   1,      30,     -99,  2,19931022,0804,   8.8278,  149.3333,  4120,    195.3,  11.1200,  34.3567,2,  34.3640,2,    123.8,2,  123.200,2,    23.68,2,    21.65,2,     0.02,2,     1.58,2,  -999.00,9, -999.000,9, -999.000,9,   -999.0,9,   -999.0,9
           NA,     P10,     42,   1,      29,     -99,  2,19931022,0804,   8.8278,  149.3333,  4120,    245.9,   9.6897,  34.5554,2,  34.5553,2,     60.8,2,   61.900,2,    35.31,2,    31.24,2,     0.01,2,     2.22,2,  -999.00,9, -999.000,9, -999.000,9,   -999.0,9,   -999.0,9
           NA,     P10,     42,   1,      28,     -99,  2,19931022,0804,   8.8278,  149.3333,  4120,    296.3,   8.8157,  34.5836,2,  34.6037,2,     58.5,2,   56.800,2,    39.51,2,    33.50,2,     0.01,2,     2.35,2,  -999.00,9, -999.000,9, -999.000,9,   -999.0,9,   -999.0,9
           NA,     P10,     42,   1,      27,     -99,  2,19931022,0804,   8.8278,  149.3333,  4120,    399.7,   8.1995,  34.5781,2,  34.5768,2,     59.5,2, -999.000,4,    42.90,2,    34.89,2,     0.01,2,     2.44,2,  -999.00,9, -999.000,9, -999.000,9,   -999.0,9,   -999.0,9
           NA,     P10,     42,   1,      26,     -99,  2,19931022,0804,   8.8278,  149.3333,  4120,    499.1,   7.7073,  34.5643,2,  34.5659,2,     60.7,2,   59.700,2,    46.78,2,    35.35,2,     0.01,2,     2.50,2,  -999.00,9, -999.000,9, -999.000,9,   -999.0,9,   -999.0,9
           NA,     P10,     42,   1,      25,     -99,  2,19931022,0804,   8.8278,  149.3333,  4120,    600.3,   6.9815,  34.5464,2,  34.5473,2,     62.8,2,   60.400,2,    54.59,2,    36.71,2,     0.01,2,     2.59,2,  -999.00,9, -999.000,9, -999.000,9,   -999.0,9,   -999.0,9
           NA,     P10,     42,   1,      24,     -99,  2,19931022,0804,   8.8278,  149.3333,  4120,    698.0,   6.2003,  34.5346,2,  34.5360,2,     64.5,2,   62.900,2,    64.40,2,    37.96,2,     0.01,2,     2.69,2,  -999.00,9, -999.000,9, -999.000,9,   -999.0,9,   -999.0,9
           NA,     P10,     42,   1,      23,     -99,  2,19931022,0804,   8.8278,  149.3333,  4120,    823.7,   5.2750,  34.5346,2,  34.5329,2,     75.6,2,   74.500,2,    78.30,2,    38.27,2,     0.01,2,     2.71,2,  -999.00,9, -999.000,9, -999.000,9,   -999.0,9,   -999.0,9
           NA,     P10,     42,   1,      22,     -99,  2,19931022,0804,   8.8278,  149.3333,  4120,    899.4,   4.8707,  34.5439,2,-999.0000,4,     74.3,2,   72.200,2,  -999.00,3,  -999.00,3,     0.01,2,  -999.00,3,  -999.00,9, -999.000,9, -999.000,9,   -999.0,9,   -999.0,9
           NA,     P10,     42,   1,      20,     -99,  2,19931022,0804,   8.8278,  149.3333,  4120,   1005.4,   4.4631,  34.5545,2,-999.0000,3,     80.6,2,   80.700,2,    92.85,2,    38.83,2,     0.01,2,     2.75,2,  -999.00,9, -999.000,9, -999.000,9,   -999.0,9,   -999.0,9
           NA,     P10,     42,   1,      19,     -99,  2,19931022,0804,   8.8278,  149.3333,  4120,   1194.6,   3.6009,  34.5736,2,  34.5742,2,     88.3,2,   87.100,2,   110.78,2,    39.04,2,     0.01,2,     2.76,2,  -999.00,9, -999.000,9, -999.000,9,   -999.0,9,   -999.0,9
           NA,     P10,     42,   1,      18,     -99,  2,19931022,0804,   8.8278,  149.3333,  4120,   1390.5,   3.1657,  34.5920,2,  34.5903,2,     93.5,2,   92.800,2,   119.36,2,    39.00,2,     0.00,2,     2.75,2,  -999.00,9, -999.000,9, -999.000,9,   -999.0,9,   -999.0,9
           NA,     P10,     42,   1,      17,     -99,  2,19931022,0804,   8.8278,  149.3333,  4120,   1595.3,   2.7137,  34.6106,2,  34.6106,2,     98.3,2,   97.800,2,   128.90,2,    38.68,2,     0.00,2,     2.74,2,  -999.00,9, -999.000,9, -999.000,9,   -999.0,9,   -999.0,9
           NA,     P10,     42,   1,      16,     -99,  2,19931022,0804,   8.8278,  149.3333,  4120,   1800.1,   2.4315,  34.6234,2,  34.6234,2,    106.8,2,  106.100,2,   134.08,2,    38.36,2,     0.01,2,     2.72,2,  -999.00,9, -999.000,9, -999.000,9,   -999.0,9,   -999.0,9
           NA,     P10,     42,   1,      15,     -99,  2,19931022,0804,   8.8278,  149.3333,  4120,   1993.6,   2.2161,  34.6343,2,-999.0000,3,    112.3,2,  111.200,2,   138.29,2,    38.16,2,     0.01,2,     2.70,2,  -999.00,9, -999.000,9, -999.000,9,   -999.0,9,   -999.0,9
           NA,     P10,     42,   1,      14,     -99,  2,19931022,0804,   8.8278,  149.3333,  4120,   2195.4,   2.0387,  34.6444,2,  34.6444,2,    117.6,2,  117.000,2,   141.16,2,    38.00,2,     0.00,2,     2.66,2,  -999.00,9, -999.000,9, -999.000,9,   -999.0,9,   -999.0,9
           NA,     P10,     42,   1,      13,     -99,  2,19931022,0804,   8.8278,  149.3333,  4120,   2398.9,   1.8618,  34.6534,2,  34.6555,2,    123.4,2,  123.100,2,   143.96,2,    37.60,2,     0.00,2,     2.64,2,  -999.00,9, -999.000,9, -999.000,9,   -999.0,9,   -999.0,9
           NA,     P10,     42,   1,      12,     -99,  2,19931022,0804,   8.8278,  149.3333,  4120,   2599.6,   1.7349,  34.6617,2,-999.0000,4,    129.0,2,  129.400,2,   145.05,2,    37.24,2,     0.01,2,     2.60,2,  -999.00,9, -999.000,9, -999.000,9,   -999.0,9,   -999.0,9
           NA,     P10,     42,   1,      10,     -99,  2,19931022,0804,   8.8278,  149.3333,  4120,   2797.8,   1.6831,  34.6651,2,  34.6684,2,    133.2,2,  133.500,2,   145.44,2,    36.93,2,     0.00,2,     2.60,2,  -999.00,9, -999.000,9, -999.000,9,   -999.0,9,   -999.0,9
           NA,     P10,     42,   1,       9,     -99,  2,19931022,0804,   8.8278,  149.3333,  4120,   2996.3,   1.6226,  34.6704,2,  34.6686,2,    136.8,2,  137.800,2,   145.13,2,    36.69,2,    -0.01,2,     2.58,2,  -999.00,9, -999.000,9, -999.000,9,   -999.0,9,   -999.0,9
           NA,     P10,     42,   1,       8,     -99,  2,19931022,0804,   8.8278,  149.3333,  4120,   3194.1,   1.5961,  34.6734,2,  34.6753,2,    140.5,2,  140.500,2,   145.14,2,    36.58,2,    -0.01,2,     2.55,2,  -999.00,9, -999.000,9, -999.000,9,   -999.0,9,   -999.0,9
           NA,     P10,     42,   1,       7,     -99,  2,19931022,0804,   8.8278,  149.3333,  4120,   3392.0,   1.5688,  34.6761,2,  34.6777,2,    143.4,2,  143.400,2,   144.99,2,    36.21,2,     0.00,2,     2.54,2,  -999.00,9, -999.000,9, -999.000,9,   -999.0,9,   -999.0,9
           NA,     P10,     42,   1,       6,     -99,  2,19931022,0804,   8.8278,  149.3333,  4120,   3597.9,   1.5343,  34.6793,2,  34.6828,2,    148.0,2,  148.000,2,   143.87,2,    35.86,2,     0.00,2,     2.52,2,  -999.00,9, -999.000,9, -999.000,9,   -999.0,9,   -999.0,9
           NA,     P10,     42,   1,       5,     -99,  2,19931022,0804,   8.8278,  149.3333,  4120,   3797.0,   1.5318,  34.6816,2,-999.0000,4,    150.7,2,  150.500,2,   143.24,2,    35.75,2,     0.00,2,     2.51,2,  -999.00,9, -999.000,9, -999.000,9,   -999.0,9,   -999.0,9
           NA,     P10,     42,   1,       4,     -99,  2,19931022,0804,   8.8278,  149.3333,  4120,   3896.8,   1.5215,  34.6821,2,  34.6828,2,    152.5,2,  152.500,2,   142.28,2,    35.65,2,     0.00,2,     2.49,2,  -999.00,9, -999.000,9, -999.000,9,   -999.0,9,   -999.0,9
           NA,     P10,     42,   1,       3,     -99,  2,19931022,0804,   8.8278,  149.3333,  4120,   3998.4,   1.4937,  34.6857,2,  34.6887,2,    155.7,2,  156.300,2,   140.67,2,    35.39,2,     0.00,2,     2.48,2,  -999.00,9, -999.000,9, -999.000,9,   -999.0,9,   -999.0,9
           NA,     P10,     42,   1,       2,     -99,  2,19931022,0804,   8.8278,  149.3333,  4120,   4097.8,   1.4814,  34.6874,2,-999.0000,4,    158.8,2,  158.600,2,   140.03,2,    35.35,2,    -0.01,2,     2.46,2,  -999.00,9, -999.000,9, -999.000,9,   -999.0,9,   -999.0,9
           NA,     P10,     42,   1,       1,     -99,  2,19931022,0804,   8.8278,  149.3333,  4120,   4172.3,   1.4727,  34.6888,2,-999.0000,4,    158.6,2,  160.200,2,   138.82,2,    35.08,2,    -0.01,2,     2.44,2,  -999.00,9, -999.000,9, -999.000,9,   -999.0,9,   -999.0,9