BOTTLE,20210102JOAExport
EXPOCODE,SECT_ID,STNNBR,CASTNO,SAMPNO,BTLNBR,BTLNBR_FLAG_W,DATE,TIME,LATITUDE,LONGITUDE,DEPTH,CTDPRS,CTDTMP,CTDSAL,CTDSAL_FLAG_W,SALNTY,SALNTY_FLAG_W,CTDOXY,CTDOXY_FLAG_W,OXYGEN,OXYGEN_FLAG_W,SILCAT,SILCAT_FLAG_W,NITRAT,NITRAT_FLAG_W,NITRIT,NITRIT_FLAG_W,PHSPHT,PHSPHT_FLAG_W,CFC-11,CFC-11_FLAG_W,CFC-12,CFC-12_FLAG_W,SF6,SF6_FLAG_W,TCARBN,TCARBN_FLAG_W,ALKALI,ALKALI_FLAG_W
,,,,,,,,,,,,DB,ITS-90,PSS-78,,PSS-78,,UMOL/KG,,UMOL/KG,,UMOL/KG,,UMOL/KG,,UMOL/KG,,UMOL/KG,,PMOL/KG,,PMOL/KG,,FMOL/KG,,UMOL/KG,,UMOL/KG
           NA,     P10,     76,   1,      36,     -99,  2,19931104,1538,  30.1888,  148.0528,  6182,      5.8,  24.6573,  34.7936,2,  34.7786,2,    210.1,2,  211.600,2,     1.39,2,    -0.01,2,     0.01,2,     0.02,2,     1.96,2,    1.064,2, -999.000,9,   -999.0,9,   -999.0,9
           NA,     P10,     76,   1,      35,     -99,  2,19931104,1538,  30.1888,  148.0528,  6182,     49.1,  24.6401,  34.8582,2,  34.8561,2,    212.0,2,  210.900,2,     1.57,2,    -0.01,2,     0.01,2,     0.02,2,     2.01,2,    1.096,2, -999.000,9,   -999.0,9,   -999.0,9
           NA,     P10,     76,   1,      34,     -99,  2,19931104,1538,  30.1888,  148.0528,  6182,     99.8,  20.5514,  34.9570,2,  34.9658,2,    231.7,2,  231.700,2,     1.76,2,     0.00,2,     0.00,2,     0.04,2,  -999.00,9, -999.000,9, -999.000,9,   -999.0,9,   -999.0,9
           NA,     P10,     76,   1,      33,     -99,  2,19931104,1538,  30.1888,  148.0528,  6182,    149.4,  18.4674,  34.8756,2,  34.8751,2,    218.1,2,  217.700,2,     2.31,2,     0.25,2,     0.14,2,     0.12,2,     2.51,2,    1.320,2, -999.000,9,   -999.0,9,   -999.0,9
           NA,     P10,     76,   1,      32,     -99,  2,19931104,1538,  30.1888,  148.0528,  6182,    198.9,  17.8091,  34.8318,2,  34.8331,2,    212.2,2,  211.900,2,     2.87,2,     2.74,2,     0.00,2,     0.24,2,     2.66,2,    1.409,2, -999.000,9,   -999.0,9,   -999.0,9
           NA,     P10,     76,   1,      31,     -99,  2,19931104,1538,  30.1888,  148.0528,  6182,    295.4,  17.0700,  34.7876,2,  34.7866,2,    212.7,2,  211.600,2,     3.97,2,     4.18,2,     0.00,2,     0.33,2,     2.61,2,    1.367,2, -999.000,9,   -999.0,9,   -999.0,9
           NA,     P10,     76,   1,      30,     -99,  2,19931104,1538,  30.1888,  148.0528,  6182,    396.9,  15.8538,  34.6892,2,  34.6884,2,    202.3,2,  202.300,2,     6.74,2,     6.79,2,     0.01,2,     0.51,2,     2.52,6,    1.296,6, -999.000,9,   -999.0,9,   -999.0,9
           NA,     P10,     76,   1,      29,     -99,  2,19931104,1538,  30.1888,  148.0528,  6182,    498.7,  13.5398,  34.5110,2,  34.4951,2,    196.8,2,  192.100,2,    13.37,2,    11.42,2,     0.01,2,     0.83,2,  -999.00,9, -999.000,9, -999.000,9,   -999.0,9,   -999.0,9
           NA,     P10,     76,   1,      28,     -99,  2,19931104,1538,  30.1888,  148.0528,  6182,    598.2,  11.1820,  34.3325,2,  34.3316,2,    188.7,2,  180.600,2,    23.49,2,    16.43,2,     0.01,2,     1.19,2,     2.03,2,    1.018,2, -999.000,9,   -999.0,9,   -999.0,9
           NA,     P10,     76,   1,      27,     -99,  2,19931104,1538,  30.1888,  148.0528,  6182,    693.3,   8.4811,  34.1507,2,  34.1508,2,    170.4,2,  167.200,2,    39.14,2,    22.40,2,     0.00,2,     1.62,2,     1.89,2,    0.890,2, -999.000,9,   -999.0,9,   -999.0,9
           NA,     P10,     76,   1,      26,     -99,  2,19931104,1538,  30.1888,  148.0528,  6182,    797.9,   5.8249,  34.0208,2,  34.0232,2,    142.6,2,  136.600,2,    63.07,2,    29.85,2,     0.01,2,     2.18,2,     1.71,2,    0.809,2, -999.000,9,   -999.0,9,   -999.0,9
           NA,     P10,     76,   1,      25,     -99,  2,19931104,1538,  30.1888,  148.0528,  6182,    898.6,   4.7633,  34.0808,2,  34.0794,2,    101.2,2,   94.800,2,    84.59,2,    35.45,2,     0.00,2,     2.56,2,     1.10,2,    0.502,2, -999.000,9,   -999.0,9,   -999.0,9
           NA,     P10,     76,   1,      24,     -99,  2,19931104,1538,  30.1888,  148.0528,  6182,    989.1,   4.2898,  34.1794,2,  34.1794,2,     65.8,2,   64.900,2,   100.96,2,    38.53,2,     0.00,2,     2.75,2,     0.51,2,    0.236,2, -999.000,9,   -999.0,9,   -999.0,9
           NA,     P10,     76,   1,      23,     -99,  2,19931104,1538,  30.1888,  148.0528,  6182,   1192.5,   3.4770,  34.3281,2,  34.3273,2,     39.7,2,   40.300,2,   125.78,2,    41.40,2,     0.00,2,     2.94,2,     0.10,2,    0.044,2, -999.000,9,   -999.0,9,   -999.0,9
           NA,     P10,     76,   1,      22,     -99,  2,19931104,1538,  30.1888,  148.0528,  6182,   1394.0,   2.9067,  34.4282,2,  34.4266,2,     36.1,2,   36.700,2,   141.95,2,    42.35,2,     0.01,2,     3.00,2,     0.02,2,    0.007,2, -999.000,9,   -999.0,9,   -999.0,9
           NA,     P10,     76,   1,      21,     -99,  2,19931104,1538,  30.1888,  148.0528,  6182,   1596.1,   2.5235,  34.4965,2,  34.4966,2,     41.8,2,   42.500,2,   152.43,2,    42.35,2,     0.01,2,     2.99,2,  -999.00,4,    0.001,2, -999.000,9,   -999.0,9,   -999.0,9
           NA,     P10,     76,   1,      20,     -99,  2,19931104,1538,  30.1888,  148.0528,  6182,   1792.4,   2.2514,  34.5451,2,  34.5448,2,     52.2,2,   53.900,2,   158.12,2,    41.76,2,     0.01,2,     2.95,2,    -0.00,2,    0.001,2, -999.000,9,   -999.0,9,   -999.0,9
           NA,     P10,     76,   1,      19,     -99,  2,19931104,1538,  30.1888,  148.0528,  6182,   1995.8,   2.0605,  34.5806,2,  34.5795,2,     68.1,2,   68.000,2,   159.76,2,    40.91,2,     0.01,2,     2.88,2,  -999.00,9, -999.000,9, -999.000,9,   -999.0,9,   -999.0,9
           NA,     P10,     76,   1,      18,     -99,  2,19931104,1538,  30.1888,  148.0528,  6182,   2194.4,   1.9017,  34.6084,2,  34.6070,2,     86.6,2,   85.700,2,   158.65,2,    39.81,2,     0.00,2,     2.79,2,  -999.00,9, -999.000,9, -999.000,9,   -999.0,9,   -999.0,9
           NA,     P10,     76,   1,      17,     -99,  2,19931104,1538,  30.1888,  148.0528,  6182,   2390.8,   1.7782,  34.6274,2,  34.6275,2,    100.7,2,  100.300,2,   157.54,2,    38.91,2,     0.00,2,     2.72,2,  -999.00,9, -999.000,9, -999.000,9,   -999.0,9,   -999.0,9
           NA,     P10,     76,   1,      16,     -99,  2,19931104,1538,  30.1888,  148.0528,  6182,   2591.5,   1.6970,  34.6418,2,  34.6426,2,    112.5,2,  111.600,2,   155.69,2,    38.21,2,     0.00,2,     2.68,2,  -999.00,9, -999.000,9, -999.000,9,   -999.0,9,   -999.0,9
           NA,     P10,     76,   1,      15,     -99,  2,19931104,1538,  30.1888,  148.0528,  6182,   2794.0,   1.6377,  34.6521,2,  34.6522,2,    121.2,2,  121.600,2,   153.30,2,    37.53,2,     0.00,2,     2.63,2,  -999.00,9, -999.000,9, -999.000,9,   -999.0,9,   -999.0,9
           NA,     P10,     76,   1,      14,     -99,  2,19931104,1538,  30.1888,  148.0528,  6182,   2991.8,   1.6027,  34.6585,2,  34.6591,2,    127.7,2,  127.400,2,   152.19,2,    37.21,2,     0.00,2,     2.60,2,  -999.00,9, -999.000,9, -999.000,9,   -999.0,9,   -999.0,9
           NA,     P10,     76,   1,      13,     -99,  2,19931104,1538,  30.1888,  148.0528,  6182,   3245.7,   1.5577,  34.6665,2,  34.6660,2,    134.9,2,  134.300,2,   150.58,2,    36.73,2,     0.00,2,     2.55,2,  -999.00,9, -999.000,9, -999.000,9,   -999.0,9,   -999.0,9
           NA,     P10,     76,   1,      12,     -99,  2,19931104,1538,  30.1888,  148.0528,  6182,   3495.3,   1.5279,  34.6724,2,  34.6711,2,    141.0,2,  140.100,2,   149.57,2,    36.35,2,     0.01,2,     2.52,2,     0.00,2,   -0.001,2, -999.000,9,   -999.0,9,   -999.0,9
           NA,     P10,     76,   1,      11,     -99,  2,19931104,1538,  30.1888,  148.0528,  6182,   3744.0,   1.4953,  34.6775,2,  34.6772,2,    146.1,2,  147.200,2,   147.40,2,    35.88,2,     0.01,2,     2.49,2,  -999.00,9, -999.000,9, -999.000,9,   -999.0,9,   -999.0,9
           NA,     P10,     76,   1,      10,     -99,  2,19931104,1538,  30.1888,  148.0528,  6182,   3994.3,   1.4960,  34.6799,2,  34.6807,2,    149.2,2,  150.000,2,   146.28,2,    35.73,2,     0.00,2,     2.49,2,  -999.00,9, -999.000,9, -999.000,9,   -999.0,9,   -999.0,9
           NA,     P10,     76,   1,       9,     -99,  2,19931104,1538,  30.1888,  148.0528,  6182,   4239.3,   1.4837,  34.6837,2,  34.6836,2,    152.7,2,  153.500,2,   146.10,2,    35.47,2,     0.00,2,     2.47,2,  -999.00,9, -999.000,9, -999.000,9,   -999.0,9,   -999.0,9
           NA,     P10,     76,   1,       8,     -99,  2,19931104,1538,  30.1888,  148.0528,  6182,   4494.0,   1.4842,  34.6858,2,  34.6866,2,    155.9,2,  157.000,2,   144.81,2,    35.25,2,     0.00,2,     2.45,2,  -999.00,9, -999.000,9, -999.000,9,   -999.0,9,   -999.0,9
           NA,     P10,     76,   1,       7,     -99,  2,19931104,1538,  30.1888,  148.0528,  6182,   4753.2,   1.4948,  34.6879,2,  34.6878,2,    159.3,2,  159.900,2,   143.15,2,    35.06,2,    -0.01,2,     2.43,2,  -999.00,9, -999.000,9, -999.000,9,   -999.0,9,   -999.0,9
           NA,     P10,     76,   1,       6,     -99,  2,19931104,1538,  30.1888,  148.0528,  6182,   4998.7,   1.5073,  34.6894,2,  34.6893,2,    162.3,2,  162.600,2,   141.67,2,    34.90,2,    -0.01,2,     2.41,2,  -999.00,9, -999.000,9, -999.000,9,   -999.0,9,   -999.0,9
           NA,     P10,     76,   1,       5,     -99,  2,19931104,1538,  30.1888,  148.0528,  6182,   5247.0,   1.5241,  34.6905,2,  34.6905,2,    164.8,2,  164.800,2,   140.20,2,    34.75,2,    -0.01,2,     2.41,2,  -999.00,9, -999.000,9, -999.000,9,   -999.0,9,   -999.0,9
           NA,     P10,     76,   1,       4,     -99,  2,19931104,1538,  30.1888,  148.0528,  6182,   5495.3,   1.5459,  34.6919,2,  34.6917,2,    166.7,2,  166.800,2,   139.09,2,    34.58,2,    -0.01,2,     2.40,2,  -999.00,4,    0.000,2, -999.000,9,   -999.0,9,   -999.0,9
           NA,     P10,     76,   1,       3,     -99,  2,19931104,1538,  30.1888,  148.0528,  6182,   5741.7,   1.5687,  34.6920,2,  34.6929,2,    168.9,2,  168.500,2,   137.43,2,    34.48,2,    -0.01,2,     2.39,2,     0.00,2,    0.002,2, -999.000,9,   -999.0,9,   -999.0,9
           NA,     P10,     76,   1,       2,     -99,  2,19931104,1538,  30.1888,  148.0528,  6182,   5992.7,   1.5940,  34.6931,2,  34.6937,2,    170.7,2,  169.800,2,   136.52,2,    34.32,2,     0.00,2,     2.38,2,  -999.00,4,    0.000,2, -999.000,9,   -999.0,9,   -999.0,9
           NA,     P10,     76,   1,       1,     -99,  2,19931104,1538,  30.1888,  148.0528,  6182,   6304.3,   1.6325,  34.6939,2,  34.6943,2,    171.0,2,  171.000,2,   135.75,2,    34.28,2,    -0.01,2,     2.36,2,    -0.00,2,    0.002,2, -999.000,9,   -999.0,9,   -999.0,9