BOTTLE,20210102JOAExport
EXPOCODE,SECT_ID,STNNBR,CASTNO,SAMPNO,BTLNBR,BTLNBR_FLAG_W,DATE,TIME,LATITUDE,LONGITUDE,DEPTH,CTDPRS,CTDTMP,CTDSAL,CTDSAL_FLAG_W,SALNTY,SALNTY_FLAG_W,CTDOXY,CTDOXY_FLAG_W,OXYGEN,OXYGEN_FLAG_W,SILCAT,SILCAT_FLAG_W,NITRAT,NITRAT_FLAG_W,NITRIT,NITRIT_FLAG_W,PHSPHT,PHSPHT_FLAG_W,CFC-11,CFC-11_FLAG_W,CFC-12,CFC-12_FLAG_W,SF6,SF6_FLAG_W,TCARBN,TCARBN_FLAG_W,ALKALI,ALKALI_FLAG_W
,,,,,,,,,,,,DB,ITS-90,PSS-78,,PSS-78,,UMOL/KG,,UMOL/KG,,UMOL/KG,,UMOL/KG,,UMOL/KG,,UMOL/KG,,PMOL/KG,,PMOL/KG,,FMOL/KG,,UMOL/KG,,UMOL/KG
           NA,     P10,     85,   1,      36,     -99,  2,19931107,1155,  34.1888,  142.7112,  5558,     21.9,  24.1201,  34.7154,2,  34.7167,2,    220.3,2,  211.000,2,     1.75,2,     0.14,2,     0.06,2,     0.00,2,     1.92,2,    1.060,2, -999.000,9,   -999.0,9,   -999.0,9
           NA,     P10,     85,   1,      35,     -99,  2,19931107,1155,  34.1888,  142.7112,  5558,     47.0,  24.1109,  34.7175,2,  34.7165,2,    217.7,2,  210.800,2,     1.76,2,     0.09,2,     0.05,2,     0.00,2,  -999.00,9, -999.000,9, -999.000,9,   -999.0,9,   -999.0,9
           NA,     P10,     85,   1,      34,     -99,  2,19931107,1155,  34.1888,  142.7112,  5558,     96.8,  23.0597,  34.7419,2,  34.7430,2,    195.8,2,  193.100,2,     3.35,2,     2.14,2,     0.08,2,     0.14,2,     2.06,2,    1.131,2, -999.000,9,   -999.0,9,   -999.0,9
           NA,     P10,     85,   1,      33,     -99,  2,19931107,1155,  34.1888,  142.7112,  5558,    146.7,  19.3992,  34.8634,2,  34.8574,2,    215.2,2,  213.100,2,     2.48,2,     1.55,2,     0.04,2,     0.10,2,     2.39,2,    1.277,2, -999.000,9,   -999.0,9,   -999.0,9
           NA,     P10,     85,   1,      32,     -99,  2,19931107,1155,  34.1888,  142.7112,  5558,    196.4,  18.0671,  34.8348,2,  34.8336,2,    211.2,2,  209.400,2,     3.02,2,     2.87,2,     0.02,2,     0.19,2,  -999.00,9, -999.000,9, -999.000,9,   -999.0,9,   -999.0,9
           NA,     P10,     85,   1,      31,     -99,  2,19931107,1155,  34.1888,  142.7112,  5558,    246.0,  17.5400,  34.8137,2,  34.8128,2,    217.9,2,  215.500,2,     3.20,2,     3.08,2,     0.02,2,     0.20,2,     2.60,2,    1.392,2, -999.000,9,   -999.0,9,   -999.0,9
           NA,     P10,     85,   1,      30,     -99,  2,19931107,1155,  34.1888,  142.7112,  5558,    300.3,  17.1932,  34.7949,2,  34.7908,2,    216.1,2,  211.700,2,     3.92,2,     4.01,2,     0.02,2,     0.25,2,  -999.00,9, -999.000,9, -999.000,9,   -999.0,9,   -999.0,9
           NA,     P10,     85,   1,      29,     -99,  2,19931107,1155,  34.1888,  142.7112,  5558,    400.5,  15.3887,  34.6480,2,  34.6475,2,    191.7,2,  189.900,2,     9.54,2,     8.84,2,     0.02,2,     0.60,2,     2.23,2,    1.132,2, -999.000,9,   -999.0,9,   -999.0,9
           NA,     P10,     85,   1,      28,     -99,  2,19931107,1155,  34.1888,  142.7112,  5558,    500.3,  13.1152,  34.4950,2,  34.4943,2,    192.0,2,  173.200,2,    19.90,2,    14.09,2,     0.01,2,     0.98,2,  -999.00,9, -999.000,9, -999.000,9,   -999.0,9,   -999.0,9
           NA,     P10,     85,   1,      27,     -99,  2,19931107,1155,  34.1888,  142.7112,  5558,    607.3,  10.6629,  34.3197,2,  34.3202,2,    178.3,2,  169.600,2,    28.86,2,    18.30,2,     0.01,2,     1.29,2,     1.80,2,    0.879,2, -999.000,9,   -999.0,9,   -999.0,9
           NA,     P10,     85,   1,      26,     -99,  2,19931107,1155,  34.1888,  142.7112,  5558,    705.7,   7.7663,  34.1431,2,  34.1431,2,    166.1,2,  151.500,2,    47.63,2,    25.05,2,     0.01,2,     1.78,2,  -999.00,9, -999.000,9, -999.000,9,   -999.0,9,   -999.0,9
           NA,     P10,     85,   1,      25,     -99,  2,19931107,1155,  34.1888,  142.7112,  5558,    805.9,   5.7243,  34.0316,2,  34.0314,2,    141.2,2,  130.500,2,    65.18,2,    30.65,2,     0.01,2,     2.20,2,     1.60,2,    0.749,2, -999.000,9,   -999.0,9,   -999.0,9
           NA,     P10,     85,   1,      24,     -99,  2,19931107,1155,  34.1888,  142.7112,  5558,    902.2,   4.7033,  34.0924,2,  34.0918,2,     92.8,2,   90.900,2,    86.57,2,    35.80,2,     0.00,2,     2.56,2,  -999.00,9, -999.000,9, -999.000,9,   -999.0,9,   -999.0,9
           NA,     P10,     85,   1,      23,     -99,  2,19931107,1155,  34.1888,  142.7112,  5558,    996.9,   4.1550,  34.2228,2,  34.2211,2,     58.2,2,   55.300,2,   105.90,2,    39.47,2,     0.01,2,     2.78,2,     0.29,2,    0.124,2, -999.000,9,   -999.0,9,   -999.0,9
           NA,     P10,     85,   1,      22,     -99,  2,19931107,1155,  34.1888,  142.7112,  5558,   1089.5,   3.8182,  34.2757,2,  34.2764,2,     48.3,2,   48.000,2,   115.98,2,    40.48,2,     0.01,2,     2.85,2,     0.20,2,    0.097,2, -999.000,9,   -999.0,9,   -999.0,9
           NA,     P10,     85,   1,      21,     -99,  2,19931107,1155,  34.1888,  142.7112,  5558,   1199.9,   3.6524,  34.3870,2,  34.3853,2,     63.2,2,   62.300,2,   121.24,2,    39.47,2,     0.01,2,     2.77,2,  -999.00,4,    0.051,2, -999.000,9,   -999.0,9,   -999.0,9
           NA,     P10,     85,   1,      20,     -99,  2,19931107,1155,  34.1888,  142.7112,  5558,   1405.2,   3.0802,  34.4491,2,  34.4503,2,     58.8,2,   60.900,2,   133.69,2,    40.22,2,     0.01,2,     2.83,2,     0.05,2,    0.022,2, -999.000,9,   -999.0,9,   -999.0,9
           NA,     P10,     85,   1,      19,     -99,  2,19931107,1155,  34.1888,  142.7112,  5558,   1622.0,   2.4913,  34.5022,2,  34.5012,2,     51.5,2,   50.600,2,   152.01,2,    41.73,2,     0.01,2,     2.94,2,     0.01,2,    0.004,2, -999.000,9,   -999.0,9,   -999.0,9
           NA,     P10,     85,   1,      18,     -99,  2,19931107,1155,  34.1888,  142.7112,  5558,   1774.4,   2.3042,  34.5315,2,  34.5316,2,     55.3,2,   56.200,2,   156.51,2,    41.38,2,     0.01,2,     2.93,2,  -999.00,3,    0.003,2, -999.000,9,   -999.0,9,   -999.0,9
           NA,     P10,     85,   1,      17,     -99,  2,19931107,1155,  34.1888,  142.7112,  5558,   1984.4,   2.1525,  34.5664,2,  34.5666,2,     68.7,2,   68.000,2,   157.21,2,    40.82,2,     0.00,2,     2.88,2,     0.00,2,    0.000,2, -999.000,9,   -999.0,9,   -999.0,9
           NA,     P10,     85,   1,      16,     -99,  2,19931107,1155,  34.1888,  142.7112,  5558,   2205.2,   1.9602,  34.5993,2,-999.0000,4,     82.8,2,   84.600,2,   157.21,2,    39.84,2,     0.00,2,     2.80,2,  -999.00,9, -999.000,9, -999.000,9,   -999.0,9,   -999.0,9
           NA,     P10,     85,   1,      15,     -99,  2,19931107,1155,  34.1888,  142.7112,  5558,   2400.3,   1.8445,  34.6176,2,  34.6170,2,     91.4,2,   91.900,2,   159.14,2,    39.36,2,     0.01,2,     2.77,2,  -999.00,9, -999.000,9, -999.000,9,   -999.0,9,   -999.0,9
           NA,     P10,     85,   1,      14,     -99,  2,19931107,1155,  34.1888,  142.7112,  5558,   2607.1,   1.7165,  34.6372,2,  34.6369,2,    103.4,2,  105.600,2,   158.61,2,    38.53,2,     0.01,2,     2.71,2,  -999.00,9, -999.000,9, -999.000,9,   -999.0,9,   -999.0,9
           NA,     P10,     85,   1,      13,     -99,  3,19931107,1155,  34.1888,  142.7112,  5558,   2804.9,   1.6584,  34.6474,2,  34.6453,2,    113.9,2,  113.800,2,   156.69,2,    37.96,2,     0.00,2,     2.68,2,  -999.00,9, -999.000,9, -999.000,9,   -999.0,9,   -999.0,9
           NA,     P10,     85,   1,      12,     -99,  2,19931107,1155,  34.1888,  142.7112,  5558,   3003.1,   1.6130,  34.6559,2,  34.6552,2,    121.5,2,  120.900,2,   155.99,2,    37.66,2,     0.00,2,     2.64,2,  -999.00,9, -999.000,9, -999.000,9,   -999.0,9,   -999.0,9
           NA,     P10,     85,   1,      11,     -99,  2,19931107,1155,  34.1888,  142.7112,  5558,   3246.1,   1.5677,  34.6634,2,  34.6632,2,    130.8,2,  129.200,2,   154.76,2,    36.97,2,     0.00,2,     2.61,2,  -999.00,9, -999.000,9, -999.000,9,   -999.0,9,   -999.0,9
           NA,     P10,     85,   1,      10,     -99,  2,19931107,1155,  34.1888,  142.7112,  5558,   3503.6,   1.5232,  34.6713,2,  34.6711,2,    136.9,2,  137.300,2,   152.84,2,    36.51,2,     0.00,2,     2.57,2,  -999.00,9, -999.000,9, -999.000,9,   -999.0,9,   -999.0,9
           NA,     P10,     85,   1,       9,     -99,  2,19931107,1155,  34.1888,  142.7112,  5558,   3750.6,   1.4871,  34.6778,2,  34.6772,2,    143.7,2,  144.500,2,   150.75,2,    36.05,2,     0.00,2,     2.53,2,  -999.00,9, -999.000,9, -999.000,9,   -999.0,9,   -999.0,9
           NA,     P10,     85,   1,       8,     -99,  2,19931107,1155,  34.1888,  142.7112,  5558,   3988.3,   1.4789,  34.6806,2,  34.6813,2,    149.0,2,  148.900,2,   149.87,2,    35.77,2,     0.01,2,     2.51,2,  -999.00,9, -999.000,9, -999.000,9,   -999.0,9,   -999.0,9
           NA,     P10,     85,   1,       7,     -99,  2,19931107,1155,  34.1888,  142.7112,  5558,   4245.1,   1.4746,  34.6848,2,  34.6852,2,    153.2,2,  153.300,2,   148.12,2,    35.52,2,     0.01,2,     2.49,2,  -999.00,9, -999.000,9, -999.000,9,   -999.0,9,   -999.0,9
           NA,     P10,     85,   1,       6,     -99,  2,19931107,1155,  34.1888,  142.7112,  5558,   4500.4,   1.4758,  34.6873,2,  34.6886,2,    157.3,2,  156.900,2,   146.90,2,    35.21,2,     0.01,2,     2.47,2,  -999.00,9, -999.000,9, -999.000,9,   -999.0,9,   -999.0,9
           NA,     P10,     85,   1,       5,     -99,  2,19931107,1155,  34.1888,  142.7112,  5558,   4752.9,   1.4863,  34.6891,2,  34.6886,2,    159.5,2,  159.400,2,   145.68,2,    35.17,2,     0.00,2,     2.46,2,  -999.00,9, -999.000,9, -999.000,9,   -999.0,9,   -999.0,9
           NA,     P10,     85,   1,       4,     -99,  2,19931107,1155,  34.1888,  142.7112,  5558,   5001.3,   1.5018,  34.6908,2,  34.6901,2,    161.9,2,  162.600,2,   144.10,2,    34.95,2,     0.00,2,     2.45,2,  -999.00,9, -999.000,9, -999.000,9,   -999.0,9,   -999.0,9
           NA,     P10,     85,   1,       3,     -99,  2,19931107,1155,  34.1888,  142.7112,  5558,   5240.8,   1.5203,  34.6912,2,  34.6909,2,    164.3,2,  164.100,2,   142.18,2,    34.80,2,     0.00,2,     2.44,2,  -999.00,9, -999.000,9, -999.000,9,   -999.0,9,   -999.0,9
           NA,     P10,     85,   1,       2,     -99,  2,19931107,1155,  34.1888,  142.7112,  5558,   5491.5,   1.5488,  34.6917,2,  34.6915,2,    165.2,2,  164.700,2,   141.84,2,    34.74,2,     0.01,2,     2.44,2,  -999.00,9, -999.000,9, -999.000,9,   -999.0,9,   -999.0,9
           NA,     P10,     85,   1,       1,     -99,  2,19931107,1155,  34.1888,  142.7112,  5558,   5699.4,   1.5748,  34.6922,2,  34.6923,2,    164.6,2,  164.300,2,   141.89,2,    34.73,2,     0.01,2,     2.44,2,     0.00,2,    0.002,2, -999.000,9,   -999.0,9,   -999.0,9