BOTTLE,20210102JOAExport
EXPOCODE,SECT_ID,STNNBR,CASTNO,SAMPNO,BTLNBR,BTLNBR_FLAG_W,DATE,TIME,LATITUDE,LONGITUDE,DEPTH,CTDPRS,CTDTMP,CTDSAL,CTDSAL_FLAG_W,SALNTY,SALNTY_FLAG_W,CTDOXY,CTDOXY_FLAG_W,OXYGEN,OXYGEN_FLAG_W,SILCAT,SILCAT_FLAG_W,NITRAT,NITRAT_FLAG_W,NITRIT,NITRIT_FLAG_W,PHSPHT,PHSPHT_FLAG_W,CFC-11,CFC-11_FLAG_W,CFC-12,CFC-12_FLAG_W,SF6,SF6_FLAG_W,TCARBN,TCARBN_FLAG_W,ALKALI,ALKALI_FLAG_W
,,,,,,,,,,,,DB,ITS-90,PSS-78,,PSS-78,,UMOL/KG,,UMOL/KG,,UMOL/KG,,UMOL/KG,,UMOL/KG,,UMOL/KG,,PMOL/KG,,PMOL/KG,,FMOL/KG,,UMOL/KG,,UMOL/KG
           NA,     P10,     67,   1,      36,     -99,  2,19931101,0914,  24.5055,  149.3333,  5775,     24.9,  27.0386,  35.0485,2,  35.0499,2,    203.7,2,  211.500,2,     0.97,2,    -0.02,2,     0.02,2,     0.01,2,     1.84,2,    1.052,2, -999.000,9,   -999.0,9,   -999.0,9
           NA,     P10,     67,   1,      35,     -99,  2,19931101,0914,  24.5055,  149.3333,  5775,     59.1,  26.8679,  35.1321,2,  35.1286,2,    203.9,2,  214.200,2,     1.33,2,    -0.01,2,     0.01,2,     0.01,2,     1.79,2,    1.003,2, -999.000,9,   -999.0,9,   -999.0,9
           NA,     P10,     67,   1,      34,     -99,  2,19931101,0914,  24.5055,  149.3333,  5775,    108.9,  20.6984,  34.9556,2,  34.9589,2,    218.4,2,  227.700,2,     1.86,2,    -0.01,2,     0.02,2,     0.04,2,     2.42,2,    1.293,2, -999.000,9,   -999.0,9,   -999.0,9
           NA,     P10,     67,   1,      33,     -99,  2,19931101,0914,  24.5055,  149.3333,  5775,    157.2,  18.5345,  34.8784,2,  34.8806,2,    196.0,2,  202.900,2,     2.90,2,     2.37,2,     0.04,2,     0.23,2,     2.47,2,    1.297,2, -999.000,9,   -999.0,9,   -999.0,9
           NA,     P10,     67,   1,      32,     -99,  2,19931101,0914,  24.5055,  149.3333,  5775,    208.4,  17.4318,  34.8049,2,  34.8038,2,    200.9,2,  205.600,2,     3.59,2,     3.93,2,     0.01,2,     0.32,2,     2.50,2,    1.308,2, -999.000,9,   -999.0,9,   -999.0,9
           NA,     P10,     67,   1,      31,     -99,  2,19931101,0914,  24.5055,  149.3333,  5775,    257.3,  16.7686,  34.7658,2,  34.7609,2,    201.0,2,  201.800,2,     4.81,2,     5.22,2,     0.00,2,     0.41,2,     2.45,2,    1.257,2, -999.000,9,   -999.0,9,   -999.0,9
           NA,     P10,     67,   1,      30,     -99,  2,19931101,0914,  24.5055,  149.3333,  5775,    306.2,  15.9016,  34.6923,2,  34.6911,2,    200.2,2,  198.800,2,     6.72,2,     6.87,2,     0.00,2,     0.52,2,     2.42,6,    1.239,6, -999.000,9,   -999.0,9,   -999.0,9
           NA,     P10,     67,   1,      29,     -99,  2,19931101,0914,  24.5055,  149.3333,  5775,    354.5,  15.1031,  34.6243,2,  34.6231,2,    195.5,2,  192.900,2,     9.32,2,     8.69,2,     0.00,2,     0.65,2,     2.34,2,    1.198,2, -999.000,9,   -999.0,9,   -999.0,9
           NA,     P10,     67,   1,      28,     -99,  2,19931101,0914,  24.5055,  149.3333,  5775,    404.6,  13.5810,  34.4985,2,  34.4980,2,    190.1,2,  189.400,2,    13.13,2,    11.33,2,     0.00,2,     0.85,2,     2.28,2,    1.145,2, -999.000,9,   -999.0,9,   -999.0,9
           NA,     P10,     67,   1,      27,     -99,  2,19931101,0914,  24.5055,  149.3333,  5775,    467.7,  11.6300,  34.3510,2,  34.3504,2,    183.7,2,  184.800,2,    19.53,2,    14.92,2,     0.00,2,     1.10,2,     2.10,2,    1.037,2, -999.000,9,   -999.0,9,   -999.0,9
           NA,     P10,     67,   1,      26,     -99,  2,19931101,0914,  24.5055,  149.3333,  5775,    517.7,  10.2325,  34.2515,2,  34.2586,2,    173.0,2,  177.800,2,    25.92,2,    17.92,2,     0.00,2,     1.33,2,     1.94,2,    0.950,2, -999.000,9,   -999.0,9,   -999.0,9
           NA,     P10,     67,   1,      25,     -99,  2,19931101,0914,  24.5055,  149.3333,  5775,    616.3,   7.5491,  34.1062,2,  34.1063,2,    146.4,2,  145.000,2,    45.96,2,    25.79,2,     0.00,2,     1.91,2,     1.36,2,    0.651,2, -999.000,9,   -999.0,9,   -999.0,9
           NA,     P10,     67,   1,      24,     -99,  2,19931101,0914,  24.5055,  149.3333,  5775,    714.8,   5.6474,  34.0783,2,  34.0784,2,    102.7,2,  105.500,2,    70.13,2,    32.69,2,    -0.01,2,     2.39,2,     0.89,2,    0.424,2, -999.000,9,   -999.0,9,   -999.0,9
           NA,     P10,     67,   1,      23,     -99,  2,19931101,0914,  24.5055,  149.3333,  5775,    814.0,   4.6295,  34.1566,2,  34.1553,2,     69.3,2,   67.100,2,    92.39,2,    37.56,2,     0.01,2,     2.73,2,     0.40,2,    0.183,2, -999.000,9,   -999.0,9,   -999.0,9
           NA,     P10,     67,   1,      22,     -99,  2,19931101,0914,  24.5055,  149.3333,  5775,    912.1,   4.0834,  34.2419,2,  34.2398,2,     46.0,2,   47.100,2,   107.92,2,    39.94,2,     0.01,2,     2.89,2,     0.16,2,    0.070,2, -999.000,9,   -999.0,9,   -999.0,9
           NA,     P10,     67,   1,      21,     -99,  2,19931101,0914,  24.5055,  149.3333,  5775,   1009.8,   3.6385,  34.3268,2,  34.3253,2,     37.6,2,   38.700,2,   120.85,2,    41.18,2,     0.01,2,     2.99,2,  -999.00,9, -999.000,9, -999.000,9,   -999.0,9,   -999.0,9
           NA,     P10,     67,   1,      20,     -99,  2,19931101,0914,  24.5055,  149.3333,  5775,   1213.3,   3.0852,  34.4483,2,  34.4466,2,     45.0,2,   44.000,2,   134.99,2,    41.43,2,     0.01,2,     2.98,2,     0.00,2,    0.004,2, -999.000,9,   -999.0,9,   -999.0,9
           NA,     P10,     67,   1,      19,     -99,  2,19931101,0914,  24.5055,  149.3333,  5775,   1420.2,   2.5508,  34.5219,2,  34.5228,2,     57.4,2,   57.000,2,   146.53,2,    41.04,2,     0.01,2,     2.94,2,     0.00,2,    0.001,2, -999.000,9,   -999.0,9,   -999.0,9
           NA,     P10,     67,   1,      18,     -99,  2,19931101,0914,  24.5055,  149.3333,  5775,   1618.3,   2.2215,  34.5672,2,  34.5671,2,     73.7,2,   73.200,2,   151.53,2,    40.24,2,     0.01,2,     2.87,2,  -999.00,9, -999.000,9, -999.000,9,   -999.0,9,   -999.0,9
           NA,     P10,     67,   1,      17,     -99,  2,19931101,0914,  24.5055,  149.3333,  5775,   1817.8,   1.9927,  34.6027,2,  34.6027,2,     93.9,2,   93.100,2,   151.17,2,    39.14,2,     0.01,2,     2.77,2,  -999.00,9, -999.000,9, -999.000,9,   -999.0,9,   -999.0,9
           NA,     P10,     67,   1,      16,     -99,  2,19931101,0914,  24.5055,  149.3333,  5775,   1997.1,   1.8814,  34.6188,2,  34.6190,2,    105.6,2,  105.000,2,   149.97,2,    38.46,2,     0.00,2,     2.71,2,  -999.00,9, -999.000,9, -999.000,9,   -999.0,9,   -999.0,9
           NA,     P10,     67,   1,      15,     -99,  2,19931101,0914,  24.5055,  149.3333,  5775,   2249.2,   1.7368,  34.6398,2,  34.6404,2,    117.9,2,  117.200,2,   149.79,2,    37.83,2,     0.00,2,     2.66,2,  -999.00,9, -999.000,9, -999.000,9,   -999.0,9,   -999.0,9
           NA,     P10,     67,   1,      14,     -99,  2,19931101,0914,  24.5055,  149.3333,  5775,   2499.9,   1.6505,  34.6512,2,  34.6514,2,    126.5,2,  124.200,2,   150.13,2,    37.43,2,     0.00,2,     2.62,2,  -999.00,9, -999.000,9, -999.000,9,   -999.0,9,   -999.0,9
           NA,     P10,     67,   1,      13,     -99,  2,19931101,0914,  24.5055,  149.3333,  5775,   2758.5,   1.6072,  34.6597,2,  34.6603,2,    132.0,2,  130.600,2,   149.44,2,    37.04,2,     0.00,2,     2.60,2,  -999.00,9, -999.000,9, -999.000,9,   -999.0,9,   -999.0,9
           NA,     P10,     67,   1,      12,     -99,  2,19931101,0914,  24.5055,  149.3333,  5775,   3004.5,   1.5528,  34.6670,2,  34.6679,2,    137.1,2,  136.400,2,   149.09,2,    36.71,2,     0.00,2,     2.57,2,    -0.00,2,    0.000,2, -999.000,9,   -999.0,9,   -999.0,9
           NA,     P10,     67,   1,      11,     -99,  2,19931101,0914,  24.5055,  149.3333,  5775,   3258.6,   1.5150,  34.6722,2,  34.6721,2,    142.0,2,  142.000,2,   148.05,2,    36.28,2,     0.03,2,     2.54,2,  -999.00,9, -999.000,9, -999.000,9,   -999.0,9,   -999.0,9
           NA,     P10,     67,   1,      10,     -99,  2,19931101,0914,  24.5055,  149.3333,  5775,   3512.4,   1.4913,  34.6760,2,  34.6766,2,    146.4,2,  146.200,2,   147.19,2,    35.90,2,     0.02,2,     2.52,2,  -999.00,9, -999.000,9, -999.000,9,   -999.0,9,   -999.0,9
           NA,     P10,     67,   1,       9,     -99,  2,19931101,0914,  24.5055,  149.3333,  5775,   3763.2,   1.4641,  34.6808,2,  34.6815,2,    151.5,2,  151.600,2,   145.30,2,    35.52,2,     0.00,2,     2.48,2,  -999.00,9, -999.000,9, -999.000,9,   -999.0,9,   -999.0,9
           NA,     P10,     67,   1,       8,     -99,  2,19931101,0914,  24.5055,  149.3333,  5775,   4054.5,   1.4573,  34.6845,2,  34.6850,2,    156.0,2,  155.500,2,   143.57,2,    35.17,2,     0.02,2,     2.46,2,  -999.00,9, -999.000,9, -999.000,9,   -999.0,9,   -999.0,9
           NA,     P10,     67,   1,       7,     -99,  2,19931101,0914,  24.5055,  149.3333,  5775,   4297.4,   1.4569,  34.6862,2,  34.6876,2,    159.3,2,  159.200,2,   142.01,2,    34.84,2,     0.00,2,     2.45,2,  -999.00,9, -999.000,9, -999.000,9,   -999.0,9,   -999.0,9
           NA,     P10,     67,   1,       6,     -99,  2,19931101,0914,  24.5055,  149.3333,  5775,   4498.9,   1.4601,  34.6878,2,  34.6868,2,    161.4,2,  160.900,2,   140.12,2,    34.44,2,     0.00,2,     2.41,2,  -999.00,9, -999.000,9, -999.000,9,   -999.0,9,   -999.0,9
           NA,     P10,     67,   1,       5,     -99,  2,19931101,0914,  24.5055,  149.3333,  5775,   4749.3,   1.4750,  34.6896,2,  34.6901,2,    163.3,2,  163.700,2,   140.29,2,    34.35,2,     0.00,2,     2.41,2,  -999.00,9, -999.000,9, -999.000,9,   -999.0,9,   -999.0,9
           NA,     P10,     67,   1,       4,     -99,  2,19931101,0914,  24.5055,  149.3333,  5775,   4998.0,   1.4848,  34.6910,2,  34.6923,2,    167.1,2,  167.500,2,   137.87,2,    34.12,2,     0.00,2,     2.39,2,  -999.00,9, -999.000,9, -999.000,9,   -999.0,9,   -999.0,9
           NA,     P10,     67,   1,       3,     -99,  2,19931101,0914,  24.5055,  149.3333,  5775,   5299.7,   1.4980,  34.6936,2,  34.6941,2,    171.4,2,  171.300,2,   134.94,2,    33.79,2,     0.00,2,     2.37,2,  -999.00,9, -999.000,9, -999.000,9,   -999.0,9,   -999.0,9
           NA,     P10,     67,   1,       2,     -99,  2,19931101,0914,  24.5055,  149.3333,  5775,   5588.2,   1.5228,  34.6948,2,  34.6954,2,    173.7,2,  173.200,2,   133.73,2,    33.68,2,     0.00,2,     2.35,2,  -999.00,9, -999.000,9, -999.000,9,   -999.0,9,   -999.0,9
           NA,     P10,     67,   1,       1,     -99,  2,19931101,0914,  24.5055,  149.3333,  5775,   5866.5,   1.5384,  34.6958,2,  34.6964,2,    175.5,2,  176.900,2,   131.43,2,    33.46,2,     0.01,2,     2.33,2,     0.00,2,    0.003,2, -999.000,9,   -999.0,9,   -999.0,9