BOTTLE,20210102JOAExport
EXPOCODE,SECT_ID,STNNBR,CASTNO,SAMPNO,BTLNBR,BTLNBR_FLAG_W,DATE,TIME,LATITUDE,LONGITUDE,DEPTH,CTDPRS,CTDTMP,CTDSAL,CTDSAL_FLAG_W,SALNTY,SALNTY_FLAG_W,CTDOXY,CTDOXY_FLAG_W,OXYGEN,OXYGEN_FLAG_W,SILCAT,SILCAT_FLAG_W,NITRAT,NITRAT_FLAG_W,NITRIT,NITRIT_FLAG_W,PHSPHT,PHSPHT_FLAG_W,CFC-11,CFC-11_FLAG_W,CFC-12,CFC-12_FLAG_W,SF6,SF6_FLAG_W,TCARBN,TCARBN_FLAG_W,ALKALI,ALKALI_FLAG_W
,,,,,,,,,,,,DB,ITS-90,PSS-78,,PSS-78,,UMOL/KG,,UMOL/KG,,UMOL/KG,,UMOL/KG,,UMOL/KG,,UMOL/KG,,PMOL/KG,,PMOL/KG,,FMOL/KG,,UMOL/KG,,UMOL/KG
           NA,     P10,     39,   1,      36,     -99,  2,19931021,1747,   7.4945,  149.0000,  1003,      6.9,  28.6776,  33.5914,2,  33.5914,2,    206.8,2,  211.900,2,     1.20,2,     0.02,2,     0.00,2,     0.07,2,     1.75,2,    0.978,2, -999.000,9,   -999.0,9,   -999.0,9
           NA,     P10,     39,   1,      18,     -99,  2,19931021,1747,   7.4945,  149.0000,  1003,     23.3,  28.6878,  33.5915,2,  33.5908,2,    215.1,2,  208.400,2,     1.05,2,     0.02,2,     0.00,2,     0.08,2,     1.79,2,    0.956,2, -999.000,9,   -999.0,9,   -999.0,9
           NA,     P10,     39,   1,      17,     -99,  2,19931021,1747,   7.4945,  149.0000,  1003,     47.1,  28.6948,  33.5950,2,  33.5977,2,    209.5,2,  209.500,2,     1.06,2,    -0.03,2,     0.00,2,     0.08,2,     1.76,2,    0.979,2, -999.000,9,   -999.0,9,   -999.0,9
           NA,     P10,     39,   1,      16,     -99,  2,19931021,1747,   7.4945,  149.0000,  1003,     96.8,  22.5289,  34.7366,2,  34.7470,2,    195.6,2,  181.700,2,     3.98,2,     2.46,2,     0.14,2,     0.37,2,  -999.00,9, -999.000,9, -999.000,9,   -999.0,9,   -999.0,9
           NA,     P10,     39,   1,      15,     -99,  3,19931021,1747,   7.4945,  149.0000,  1003,    134.9,  16.6997,  34.6632,2,  34.6608,2,    162.8,2,  131.700,2,    12.91,2,    13.36,2,     0.03,2,     1.03,2,  -999.00,9, -999.000,9, -999.000,9,   -999.0,9,   -999.0,9
           NA,     P10,     39,   1,      14,     -99,  2,19931021,1747,   7.4945,  149.0000,  1003,    194.4,  11.6849,  34.5420,2,  34.5384,2,    105.4,2,   93.700,2,    26.38,2,    24.33,2,     0.01,2,     1.75,2,  -999.00,9, -999.000,9, -999.000,9,   -999.0,9,   -999.0,9
           NA,     P10,     39,   1,      13,     -99,  2,19931021,1747,   7.4945,  149.0000,  1003,    246.1,   9.7890,  34.5744,2,  34.5730,2,     67.8,2,   60.300,2,    34.82,2,    31.20,2,     0.00,2,     2.21,2,  -999.00,9, -999.000,9, -999.000,9,   -999.0,9,   -999.0,9
           NA,     P10,     39,   1,      12,     -99,  2,19931021,1747,   7.4945,  149.0000,  1003,    297.4,   9.3992,  34.5932,2,  34.5919,2,     56.2,2,   54.900,2,    36.28,2,    32.44,2,     0.00,2,     2.30,2,     0.21,2,    0.097,2, -999.000,9,   -999.0,9,   -999.0,9
           NA,     P10,     39,   1,      11,     -99,  3,19931021,1747,   7.4945,  149.0000,  1003,    348.5,   8.9827,  34.5991,2,  34.5976,2,     52.8,2,   52.700,2,    38.25,2,    33.54,2,     0.00,2,     2.35,2,  -999.00,9, -999.000,9, -999.000,9,   -999.0,9,   -999.0,9
           NA,     P10,     39,   1,      10,     -99,  2,19931021,1747,   7.4945,  149.0000,  1003,    398.5,   8.6623,  34.5989,2,  34.5953,2,     54.2,2,   55.600,2,    39.72,2,    33.90,2,     0.00,2,     2.38,2,  -999.00,9, -999.000,9, -999.000,9,   -999.0,9,   -999.0,9
           NA,     P10,     39,   1,       9,     -99,  2,19931021,1747,   7.4945,  149.0000,  1003,    444.5,   8.3502,  34.5886,2,  34.5862,2,     53.8,2,   53.900,2,    42.00,2,    34.73,2,     0.00,2,     2.44,2,  -999.00,9, -999.000,9, -999.000,9,   -999.0,9,   -999.0,9
           NA,     P10,     39,   1,       8,     -99,  2,19931021,1747,   7.4945,  149.0000,  1003,    498.9,   7.8910,  34.5766,2,  34.5750,2,     58.8,2,   57.900,2,    45.25,2,    35.25,2,     0.00,2,     2.48,2,  -999.00,9, -999.000,9, -999.000,9,   -999.0,9,   -999.0,9
           NA,     P10,     39,   1,       7,     -99,  2,19931021,1747,   7.4945,  149.0000,  1003,    554.2,   7.3762,  34.5605,2,  34.5583,2,     60.6,2,   60.300,2,    50.13,2,    35.93,2,     0.00,2,     2.54,2,  -999.00,9, -999.000,9, -999.000,9,   -999.0,9,   -999.0,9
           NA,     P10,     39,   1,       6,     -99,  2,19931021,1747,   7.4945,  149.0000,  1003,    604.7,   6.8789,  34.5506,2,  34.5516,2,     61.2,2,   61.300,2,    56.14,2,    36.82,2,    -0.01,2,     2.60,2,  -999.00,9, -999.000,9, -999.000,9,   -999.0,9,   -999.0,9
           NA,     P10,     39,   1,       5,     -99,  2,19931021,1747,   7.4945,  149.0000,  1003,    701.7,   6.1748,  34.5364,2,  34.5384,2,     65.4,2,   65.600,2,    65.23,2,    37.53,2,     0.00,2,     2.66,2,  -999.00,9, -999.000,9, -999.000,9,   -999.0,9,   -999.0,9
           NA,     P10,     39,   1,       4,     -99,  2,19931021,1747,   7.4945,  149.0000,  1003,    799.0,   5.5709,  34.5374,2,  34.5349,2,     70.4,2,   69.700,2,    73.99,2,    38.06,2,     0.00,2,     2.70,2,  -999.00,9, -999.000,9, -999.000,9,   -999.0,9,   -999.0,9
           NA,     P10,     39,   1,       3,     -99,  2,19931021,1747,   7.4945,  149.0000,  1003,    862.6,   5.4780,  34.5371,2,  34.5362,2,     71.0,2,   70.600,2,    75.47,2,    38.22,2,     0.00,2,     2.71,2,  -999.00,9, -999.000,9, -999.000,9,   -999.0,9,   -999.0,9
           NA,     P10,     39,   1,       2,     -99,  2,19931021,1747,   7.4945,  149.0000,  1003,    968.5,   5.0172,  34.5435,2,  34.5437,2,     73.8,2,   75.500,2,    82.77,2,    38.28,2,     0.00,2,     2.71,2,  -999.00,4,    0.000,2, -999.000,9,   -999.0,9,   -999.0,9
           NA,     P10,     39,   1,       1,     -99,  2,19931021,1747,   7.4945,  149.0000,  1003,    968.8,   5.0024,  34.5530,2,  34.5441,2,     73.8,2,   75.000,2,    82.00,2,    38.19,2,     0.00,2,     2.71,2,     0.01,2,    0.010,2, -999.000,9,   -999.0,9,   -999.0,9
           NA,     P10,     40,   1,      36,     -99,  2,19931021,2204,   7.9945,  149.1667,  3010,     13.2,  28.7590,  33.6605,2,  33.6623,2,    202.6,2,  205.100,2,     1.06,2,    -0.01,2,     0.01,2,     0.09,2,     1.86,2,    0.968,2, -999.000,9,   -999.0,9,   -999.0,9
           NA,     P10,     40,   1,      24,     -99,  2,19931021,2204,   7.9945,  149.1667,  3010,     56.3,  27.2618,  34.4993,2,  34.5095,2,    213.6,2,  213.200,2,     1.20,2,    -0.01,2,     0.01,2,     0.14,2,     1.98,2,    1.032,2, -999.000,9,   -999.0,9,   -999.0,9
           NA,     P10,     40,   1,      23,     -99,  2,19931021,2204,   7.9945,  149.1667,  3010,    103.2,  21.1714,  34.8197,2,  34.8108,2,    190.7,2,  174.900,2,     3.95,2,     2.78,2,     0.20,2,     0.41,2,     2.18,2,    1.088,2, -999.000,9,   -999.0,9,   -999.0,9
           NA,     P10,     40,   1,      22,     -99,  2,19931021,2204,   7.9945,  149.1667,  3010,    155.5,  13.8863,  34.5638,2,  34.5614,2,    129.0,2,  117.300,2,    17.84,2,    18.27,2,     0.02,2,     1.35,2,     1.52,2,    0.727,2, -999.000,9,   -999.0,9,   -999.0,9
           NA,     P10,     40,   1,      21,     -99,  3,19931021,2204,   7.9945,  149.1667,  3010,    204.2,  11.1104,  34.5055,2,  34.5022,2,     90.2,2,   90.700,2,    27.70,2,    25.97,2,     0.01,2,     1.88,2,  -999.00,9, -999.000,9, -999.000,9,   -999.0,9,   -999.0,9
           NA,     P10,     40,   1,      20,     -99,  2,19931021,2204,   7.9945,  149.1667,  3010,    254.9,   9.9098,  34.5640,2,  34.5689,2,     55.5,2,   57.700,2,    33.83,2,    31.15,2,     0.01,2,     2.20,2,     0.33,2,    0.159,2, -999.000,9,   -999.0,9,   -999.0,9
           NA,     P10,     40,   1,      19,     -99,  2,19931021,2204,   7.9945,  149.1667,  3010,    301.6,   9.2501,  34.5763,2,  34.5750,2,     54.5,2,   56.200,2,    37.04,2,    32.67,2,     0.01,2,     2.29,2,  -999.00,9, -999.000,9, -999.000,9,   -999.0,9,   -999.0,9
           NA,     P10,     40,   1,      18,     -99,  2,19931021,2204,   7.9945,  149.1667,  3010,    402.5,   8.4101,  34.5807,2,  34.5789,2,     54.6,2,   55.800,2,    42.05,2,    34.51,2,     0.01,2,     2.40,2,     0.09,2,    0.055,2, -999.000,9,   -999.0,9,   -999.0,9
           NA,     P10,     40,   1,      17,     -99,  2,19931021,2204,   7.9945,  149.1667,  3010,    502.1,   7.8791,  34.5717,2,  34.5715,2,     56.5,2,   56.400,2,    45.75,2,    35.51,2,     0.01,2,     2.48,2,  -999.00,9, -999.000,9, -999.000,9,   -999.0,9,   -999.0,9
           NA,     P10,     40,   1,      16,     -99,  2,19931021,2204,   7.9945,  149.1667,  3010,    602.0,   7.0065,  34.5408,2,  34.5406,2,     63.1,2,   63.600,2,    54.45,2,    36.30,2,     0.01,2,     2.56,2,  -999.00,4, -999.000,4, -999.000,9,   -999.0,9,   -999.0,9
           NA,     P10,     40,   1,      15,     -99,  2,19931021,2204,   7.9945,  149.1667,  3010,    700.6,   6.1981,  34.5362,2,  34.5359,2,     64.3,2,   64.500,2,    64.12,2,    37.78,2,     0.01,2,     2.66,2,  -999.00,9, -999.000,9, -999.000,9,   -999.0,9,   -999.0,9
           NA,     P10,     40,   1,      14,     -99,  2,19931021,2204,   7.9945,  149.1667,  3010,    799.5,   5.6734,  34.5383,2,-999.0000,3,     71.0,2,   69.500,2,    71.86,2,    38.21,2,     0.00,2,     2.69,2,  -999.00,9, -999.000,9, -999.000,9,   -999.0,9,   -999.0,9
           NA,     P10,     40,   1,      13,     -99,  2,19931021,2204,   7.9945,  149.1667,  3010,    898.0,   5.0540,  34.5439,2,  34.5463,2,     73.0,2,   75.000,2,    82.00,2,    38.53,2,     0.00,2,     2.72,2,  -999.00,9, -999.000,9, -999.000,9,   -999.0,9,   -999.0,9
           NA,     P10,     40,   1,      12,     -99,  2,19931021,2204,   7.9945,  149.1667,  3010,    995.1,   4.5358,  34.5534,2,-999.0000,4,     81.6,2,   77.800,2,    91.34,2,    38.95,2,     0.01,2,     2.74,2,     0.01,2,    0.001,2, -999.000,9,   -999.0,9,   -999.0,9
           NA,     P10,     40,   1,      11,     -99,  2,19931021,2204,   7.9945,  149.1667,  3010,   1097.5,   4.1953,  34.5626,2,  34.5644,2,     85.3,2,   84.000,2,    98.09,2,    38.65,2,     0.00,2,     2.72,2,     0.00,6,    0.001,6, -999.000,9,   -999.0,9,   -999.0,9
           NA,     P10,     40,   1,      10,     -99,  2,19931021,2204,   7.9945,  149.1667,  3010,   1197.7,   3.7407,  34.5741,2,  34.5732,2,     88.3,2,   88.500,2,   106.77,2,    38.81,2,     0.00,2,     2.73,2,     0.00,2,   -0.001,2, -999.000,9,   -999.0,9,   -999.0,9
           NA,     P10,     40,   1,       9,     -99,  2,19931021,2204,   7.9945,  149.1667,  3010,   1396.0,   3.0554,  34.5956,2,  34.5974,2,     94.7,2,   95.100,2,   121.42,2,    38.77,2,     0.00,2,     2.73,2,  -999.00,9, -999.000,9, -999.000,9,   -999.0,9,   -999.0,9
           NA,     P10,     40,   1,       8,     -99,  2,19931021,2204,   7.9945,  149.1667,  3010,   1600.2,   2.6806,  34.6125,2,  34.6118,2,    100.7,2,  100.800,2,   128.80,2,    38.62,2,     0.00,2,     2.71,2,  -999.00,9, -999.000,9, -999.000,9,   -999.0,9,   -999.0,9
           NA,     P10,     40,   1,       7,     -99,  2,19931021,2204,   7.9945,  149.1667,  3010,   1800.6,   2.4030,  34.6246,2,  34.6263,2,    105.3,2,  106.000,2,   134.25,2,    38.43,2,    -0.01,2,     2.69,2,  -999.00,9, -999.000,9, -999.000,9,   -999.0,9,   -999.0,9
           NA,     P10,     40,   1,       6,     -99,  2,19931021,2204,   7.9945,  149.1667,  3010,   1996.9,   2.1540,  34.6371,2,  34.6360,2,    111.6,2,  112.500,2,   138.56,2,    38.17,2,     0.00,2,     2.67,2,  -999.00,9, -999.000,9, -999.000,9,   -999.0,9,   -999.0,9
           NA,     P10,     40,   1,       5,     -99,  2,19931021,2204,   7.9945,  149.1667,  3010,   2190.8,   1.9977,  34.6467,2,-999.0000,3,    117.3,2,  118.200,2,   141.59,2,    37.81,2,    -0.01,2,     2.65,2,  -999.00,9, -999.000,9, -999.000,9,   -999.0,9,   -999.0,9
           NA,     P10,     40,   1,       4,     -99,  2,19931021,2204,   7.9945,  149.1667,  3010,   2425.9,   1.8085,  34.6566,2,  34.6598,2,    125.1,2,  125.200,2,   144.13,2,    37.35,2,    -0.01,2,     2.62,2,  -999.00,9, -999.000,9, -999.000,9,   -999.0,9,   -999.0,9
           NA,     P10,     40,   1,       3,     -99,  2,19931021,2204,   7.9945,  149.1667,  3010,   2618.9,   1.7273,  34.6626,2,  34.6631,2,    129.8,2,  129.800,2,   144.90,2,    37.14,2,    -0.01,2,     2.59,2,  -999.00,9, -999.000,9, -999.000,9,   -999.0,9,   -999.0,9
           NA,     P10,     40,   1,       2,     -99,  2,19931021,2204,   7.9945,  149.1667,  3010,   2811.2,   1.6358,  34.6688,2,  34.6686,2,    136.0,2,  136.000,2,   145.02,2,    36.79,2,    -0.01,2,     2.56,2,  -999.00,9, -999.000,9, -999.000,9,   -999.0,9,   -999.0,9
           NA,     P10,     40,   1,       1,     -99,  2,19931021,2204,   7.9945,  149.1667,  3010,   3058.0,   1.6018,  34.6717,2,-999.0000,3,    138.2,2,  138.800,2,   144.64,2,    36.52,2,    -0.02,2,     2.53,2,    -0.00,2,   -0.001,2, -999.000,9,   -999.0,9,   -999.0,9