BOTTLE,20210102JOAExport
EXPOCODE,SECT_ID,STNNBR,CASTNO,SAMPNO,BTLNBR,BTLNBR_FLAG_W,DATE,TIME,LATITUDE,LONGITUDE,DEPTH,CTDPRS,CTDTMP,CTDSAL,CTDSAL_FLAG_W,SALNTY,SALNTY_FLAG_W,CTDOXY,CTDOXY_FLAG_W,OXYGEN,OXYGEN_FLAG_W,SILCAT,SILCAT_FLAG_W,NITRAT,NITRAT_FLAG_W,NITRIT,NITRIT_FLAG_W,PHSPHT,PHSPHT_FLAG_W,CFC-11,CFC-11_FLAG_W,CFC-12,CFC-12_FLAG_W,SF6,SF6_FLAG_W,TCARBN,TCARBN_FLAG_W,ALKALI,ALKALI_FLAG_W
,,,,,,,,,,,,DB,ITS-90,PSS-78,,PSS-78,,UMOL/KG,,UMOL/KG,,UMOL/KG,,UMOL/KG,,UMOL/KG,,UMOL/KG,,PMOL/KG,,PMOL/KG,,FMOL/KG,,UMOL/KG,,UMOL/KG
           NA,     P10,     81,   1,      36,     -99,  3,19931106,0745,  32.6862,  144.8888,  5569,     15.3,  24.4727,  34.8089,2,  34.8069,2,    218.0,2,  213.100,2,     1.33,2,     0.00,2,     0.00,2,     0.02,2,     2.03,2,    1.114,2, -999.000,9,   -999.0,9,   -999.0,9
           NA,     P10,     81,   1,      35,     -99,  2,19931106,0745,  32.6862,  144.8888,  5569,     49.9,  24.4136,  34.7986,2,  34.7982,2,    213.0,2,  213.600,2,     1.51,2,     0.01,2,     0.00,2,     0.02,2,     2.00,2,    1.082,2, -999.000,9,   -999.0,9,   -999.0,9
           NA,     P10,     81,   1,      34,     -99,  2,19931106,0745,  32.6862,  144.8888,  5569,     99.3,  21.8160,  34.9010,2,  34.9080,2,    224.3,2, -999.000,3,     1.70,2,     0.01,2,     0.06,2,     0.05,2,     2.29,6,    1.207,6, -999.000,9,   -999.0,9,   -999.0,9
           NA,     P10,     81,   1,      33,     -99,  2,19931106,0745,  32.6862,  144.8888,  5569,    149.4,  18.8899,  34.8961,2,  34.8987,2,    218.6,2,  218.100,2,     2.06,2,     0.29,2,     0.15,2,     0.11,2,     2.52,2,    1.315,2, -999.000,9,   -999.0,9,   -999.0,9
           NA,     P10,     81,   1,      32,     -99,  2,19931106,0745,  32.6862,  144.8888,  5569,    198.9,  17.8159,  34.8327,2,  34.8307,2,    213.7,2,  212.500,2,     2.78,2,     2.90,2,     0.01,2,     0.24,2,  -999.00,9, -999.000,9, -999.000,9,   -999.0,9,   -999.0,9
           NA,     P10,     81,   1,      31,     -99,  2,19931106,0745,  32.6862,  144.8888,  5569,    249.4,  17.3614,  34.8033,2,  34.8026,2,    213.7,2,  213.400,2,     3.32,2,     3.64,2,     0.01,2,     0.30,2,     2.58,2,    1.366,2, -999.000,9,   -999.0,9,   -999.0,9
           NA,     P10,     81,   1,      30,     -99,  2,19931106,0745,  32.6862,  144.8888,  5569,    299.2,  16.9954,  34.7825,2,  34.7782,2,    210.3,2,  208.900,2,     4.22,2,     4.65,2,     0.01,2,     0.36,2,     2.32,2,    1.168,2, -999.000,9,   -999.0,9,   -999.0,9
           NA,     P10,     81,   1,      29,     -99,  2,19931106,0745,  32.6862,  144.8888,  5569,    399.0,  15.6395,  34.6694,2,  34.6636,2,    195.7,2,  191.500,2,     8.83,2,     8.55,2,     0.00,2,     0.63,2,     2.30,2,    1.156,2, -999.000,9,   -999.0,9,   -999.0,9
           NA,     P10,     81,   1,      28,     -99,  2,19931106,0745,  32.6862,  144.8888,  5569,    498.3,  13.6426,  34.5149,2,  34.5143,2,    187.6,2,  185.800,2,    14.51,2,    12.09,2,     0.00,2,     0.89,2,     2.21,2,    1.107,2, -999.000,9,   -999.0,9,   -999.0,9
           NA,     P10,     81,   1,      27,     -99,  2,19931106,0745,  32.6862,  144.8888,  5569,    596.9,  11.0873,  34.3386,2,  34.3382,2,    175.9,2,  176.700,2,    25.51,2,    17.10,2,     0.00,2,     1.25,2,  -999.00,9, -999.000,9, -999.000,9,   -999.0,9,   -999.0,9
           NA,     P10,     81,   1,      26,     -99,  2,19931106,0745,  32.6862,  144.8888,  5569,    696.9,   7.9148,  34.1262,2,  34.1325,2,    161.4,2,  159.700,2,    45.57,2,    24.28,2,     0.00,2,     1.79,2,     1.86,2,    0.875,2, -999.000,9,   -999.0,9,   -999.0,9
           NA,     P10,     81,   1,      25,     -99,  2,19931106,0745,  32.6862,  144.8888,  5569,    748.0,   6.3904,  34.0300,2,  34.0351,2,    155.2,2,  151.900,2,    56.75,2,    27.66,2,     0.00,2,     2.04,2,     2.06,2,    0.966,2, -999.000,9,   -999.0,9,   -999.0,9
           NA,     P10,     81,   1,      24,     -99,  2,19931106,0745,  32.6862,  144.8888,  5569,    797.6,   5.8624,  34.0641,2,  34.0637,2,    132.8,2,  132.000,2,    65.97,2,    30.46,2,     0.00,2,     2.25,2,     1.66,2,    0.737,2, -999.000,9,   -999.0,9,   -999.0,9
           NA,     P10,     81,   1,      23,     -99,  2,19931106,0745,  32.6862,  144.8888,  5569,    898.2,   4.5336,  34.0517,2,  34.0498,2,     97.1,2,   97.300,2,    86.02,2,    35.85,2,     0.00,2,     2.61,2,     1.34,2,    0.579,2, -999.000,9,   -999.0,9,   -999.0,9
           NA,     P10,     81,   1,      22,     -99,  2,19931106,0745,  32.6862,  144.8888,  5569,    993.6,   4.1771,  34.1640,2,  34.1643,2,     66.6,2,   67.600,2,   101.80,2,    38.60,2,     0.00,2,     2.79,2,     0.70,2,    0.295,2, -999.000,9,   -999.0,9,   -999.0,9
           NA,     P10,     81,   1,      21,     -99,  2,19931106,0745,  32.6862,  144.8888,  5569,   1194.5,   3.2925,  34.2887,2,  34.2884,2,     41.4,2,   41.000,2,   128.93,2,    41.65,2,     0.00,2,     3.00,2,  -999.00,4,    0.111,2, -999.000,9,   -999.0,9,   -999.0,9
           NA,     P10,     81,   1,      20,     -99,  2,19931106,0745,  32.6862,  144.8888,  5569,   1396.1,   2.9011,  34.4143,2,  34.4130,2,     43.1,2,   42.800,2,   141.51,2,    41.87,2,     0.00,2,     3.01,2,     0.09,2,    0.039,2, -999.000,9,   -999.0,9,   -999.0,9
           NA,     P10,     81,   1,      19,     -99,  2,19931106,0745,  32.6862,  144.8888,  5569,   1597.6,   2.5748,  34.4876,2,  34.4862,2,     46.3,2,   46.400,2,   150.19,2,    42.09,2,     0.00,2,     3.01,2,     0.02,2,    0.006,2, -999.000,9,   -999.0,9,   -999.0,9
           NA,     P10,     81,   1,      18,     -99,  2,19931106,0745,  32.6862,  144.8888,  5569,   1795.9,   2.3272,  34.5293,2,  34.5279,2,     52.3,2,   52.600,2,   156.22,2,    41.82,2,     0.00,2,     2.98,2,     0.01,2,    0.003,2, -999.000,9,   -999.0,9,   -999.0,9
           NA,     P10,     81,   1,      17,     -99,  2,19931106,0745,  32.6862,  144.8888,  5569,   1996.7,   2.1089,  34.5701,2,  34.5685,2,     64.4,2,   66.100,2,   159.41,2,    41.16,2,    -0.01,2,     2.92,2,  -999.00,9, -999.000,9, -999.000,9,   -999.0,9,   -999.0,9
           NA,     P10,     81,   1,      16,     -99,  2,19931106,0745,  32.6862,  144.8888,  5569,   2200.1,   1.9646,  34.5972,2,  34.5972,2,     79.0,2,   80.300,2,   158.88,2,    40.26,2,     0.00,2,     2.85,2,  -999.00,9, -999.000,9, -999.000,9,   -999.0,9,   -999.0,9
           NA,     P10,     81,   1,      15,     -99,  2,19931106,0745,  32.6862,  144.8888,  5569,   2396.9,   1.8359,  34.6189,2,  34.6186,2,     92.7,2,   92.900,2,   158.71,2,    39.47,2,     0.00,2,     2.80,2,  -999.00,9, -999.000,9, -999.000,9,   -999.0,9,   -999.0,9
           NA,     P10,     81,   1,      14,     -99,  2,19931106,0745,  32.6862,  144.8888,  5569,   2593.4,   1.7387,  34.6345,2,  34.6339,2,    102.8,2,  103.200,2,   158.53,2,    38.85,2,    -0.01,2,     2.75,2,  -999.00,9, -999.000,9, -999.000,9,   -999.0,9,   -999.0,9
           NA,     P10,     81,   1,      13,     -99,  2,19931106,0745,  32.6862,  144.8888,  5569,   2796.0,   1.6650,  34.6471,2,  34.6469,2,    113.3,2,  114.200,2,   156.24,2,    38.16,2,     0.00,2,     2.71,2,  -999.00,9, -999.000,9, -999.000,9,   -999.0,9,   -999.0,9
           NA,     P10,     81,   1,      12,     -99,  2,19931106,0745,  32.6862,  144.8888,  5569,   2995.2,   1.6033,  34.6568,2,  34.6567,2,    123.3,2,  122.400,2,   155.53,2,    37.74,2,     0.00,2,     2.66,2,  -999.00,9, -999.000,9, -999.000,9,   -999.0,9,   -999.0,9
           NA,     P10,     81,   1,      11,     -99,  2,19931106,0745,  32.6862,  144.8888,  5569,   3248.4,   1.5522,  34.6660,2,  34.6656,2,    131.2,2,  131.000,2,   153.94,2,    37.11,2,     0.00,2,     2.63,2,  -999.00,9, -999.000,9, -999.000,9,   -999.0,9,   -999.0,9
           NA,     P10,     81,   1,      10,     -99,  2,19931106,0745,  32.6862,  144.8888,  5569,   3497.0,   1.5172,  34.6726,2,  34.6721,2,    138.8,2,  138.000,2,   151.82,2,    36.64,2,     0.00,2,     2.58,2,  -999.00,9, -999.000,9, -999.000,9,   -999.0,9,   -999.0,9
           NA,     P10,     81,   1,       9,     -99,  2,19931106,0745,  32.6862,  144.8888,  5569,   3750.0,   1.4866,  34.6782,2,  34.6768,2,    145.4,2,  145.400,2,   150.24,2,    36.17,2,     0.00,2,     2.55,2,  -999.00,9, -999.000,9, -999.000,9,   -999.0,9,   -999.0,9
           NA,     P10,     81,   1,       8,     -99,  2,19931106,0745,  32.6862,  144.8888,  5569,   3996.5,   1.4694,  34.6823,2,  34.6850,2,    150.5,2,  150.400,2,   148.65,2,    35.91,2,     0.00,2,     2.52,2,  -999.00,9, -999.000,9, -999.000,9,   -999.0,9,   -999.0,9
           NA,     P10,     81,   1,       7,     -99,  2,19931106,0745,  32.6862,  144.8888,  5569,   4243.3,   1.4632,  34.6855,2,  34.6856,2,    154.8,2,  154.500,2,   147.05,2,    35.55,2,     0.00,2,     2.50,2,  -999.00,9, -999.000,9, -999.000,9,   -999.0,9,   -999.0,9
           NA,     P10,     81,   1,       6,     -99,  2,19931106,0745,  32.6862,  144.8888,  5569,   4500.8,   1.4708,  34.6875,2,  34.6882,2,    157.7,2,  157.800,2,   146.00,2,    35.29,2,    -0.01,2,     2.48,2,  -999.00,9, -999.000,9, -999.000,9,   -999.0,9,   -999.0,9
           NA,     P10,     81,   1,       5,     -99,  2,19931106,0745,  32.6862,  144.8888,  5569,   4748.5,   1.4788,  34.6893,2,  34.6897,2,    160.7,2,  160.800,2,   144.24,2,    35.08,2,     0.00,2,     2.47,2,  -999.00,9, -999.000,9, -999.000,9,   -999.0,9,   -999.0,9
           NA,     P10,     81,   1,       4,     -99,  3,19931106,0745,  32.6862,  144.8888,  5569,   4997.1,   1.4963,  34.6909,2,-999.0000,4,    163.3,2, -999.000,4,  -999.00,4,  -999.00,4,  -999.00,4,  -999.00,4,  -999.00,9, -999.000,9, -999.000,9,   -999.0,9,   -999.0,9
           NA,     P10,     81,   1,       3,     -99,  2,19931106,0745,  32.6862,  144.8888,  5569,   5191.1,   1.5140,  34.6919,2,  34.6915,2,    164.2,2,  163.500,2,   142.12,2,    34.99,2,     0.00,2,     2.45,2,     0.00,2,    0.000,2, -999.000,9,   -999.0,9,   -999.0,9
           NA,     P10,     81,   1,       2,     -99,  2,19931106,0745,  32.6862,  144.8888,  5569,   5443.8,   1.5390,  34.6928,2,  34.6915,2,    165.7,2,  165.400,2,   140.89,2,    34.78,2,     0.00,2,     2.44,2,  -999.00,4,    0.000,2, -999.000,9,   -999.0,9,   -999.0,9
           NA,     P10,     81,   1,       1,     -99,  2,19931106,0745,  32.6862,  144.8888,  5569,   5675.7,   1.5653,  34.6933,2,  34.6925,2,    165.2,2,  165.700,2,   140.29,2,    34.74,2,     0.00,2,     2.41,2,     0.00,2,    0.001,2, -999.000,9,   -999.0,9,   -999.0,9