BOTTLE,20210102JOAExport
EXPOCODE,SECT_ID,STNNBR,CASTNO,SAMPNO,BTLNBR,BTLNBR_FLAG_W,DATE,TIME,LATITUDE,LONGITUDE,DEPTH,CTDPRS,CTDTMP,CTDSAL,CTDSAL_FLAG_W,SALNTY,SALNTY_FLAG_W,CTDOXY,CTDOXY_FLAG_W,OXYGEN,OXYGEN_FLAG_W,SILCAT,SILCAT_FLAG_W,NITRAT,NITRAT_FLAG_W,NITRIT,NITRIT_FLAG_W,PHSPHT,PHSPHT_FLAG_W,CFC-11,CFC-11_FLAG_W,CFC-12,CFC-12_FLAG_W,SF6,SF6_FLAG_W,TCARBN,TCARBN_FLAG_W,ALKALI,ALKALI_FLAG_W
,,,,,,,,,,,,DB,ITS-90,PSS-78,,PSS-78,,UMOL/KG,,UMOL/KG,,UMOL/KG,,UMOL/KG,,UMOL/KG,,UMOL/KG,,PMOL/KG,,PMOL/KG,,FMOL/KG,,UMOL/KG,,UMOL/KG
           NA,     P10,     86,   1,      36,     -99,  2,19931107,1852,  34.4083,  142.3083,  7298,      8.2,  24.1137,  34.7433,2,  34.7438,2,    218.5,2,  208.700,2,     1.60,2,     0.03,2,     0.03,2,     0.05,2,     2.07,2,    1.146,2, -999.000,9,   1947.4,2,   2301.5,2
           NA,     P10,     86,   1,      35,     -99,  2,19931107,1852,  34.4083,  142.3083,  7298,     52.4,  24.1031,  34.7414,2,  34.7426,2,    216.3,2,  208.100,2,     1.78,2,     0.08,2,     0.03,2,     0.05,2,     2.06,2,    1.143,2, -999.000,9,   1946.6,2,   2297.5,2
           NA,     P10,     86,   1,      34,     -99,  2,19931107,1852,  34.4083,  142.3083,  7298,    102.3,  22.9081,  34.6574,2,  34.6603,2,    211.4,2,  189.800,2,     4.25,2,     2.64,2,     0.11,2,     0.24,2,     1.96,2,    1.050,2, -999.000,9,   1978.1,2,   2304.0,2
           NA,     P10,     86,   1,      33,     -99,  2,19931107,1852,  34.4083,  142.3083,  7298,    151.7,  19.1000,  34.8039,2,  34.8026,2,    198.8,2,  192.800,2,     5.49,2,     4.57,2,     0.02,2,     0.37,2,     2.27,2,    1.207,2, -999.000,9,   2018.2,6,   2303.9,2
           NA,     P10,     86,   1,      32,     -99,  2,19931107,1852,  34.4083,  142.3083,  7298,    200.5,  17.3595,  34.7735,2,  34.7739,2,    188.6,2,  190.100,2,     6.20,2,     6.07,2,     0.01,2,     0.47,2,     2.31,2,    1.213,2, -999.000,9,   2034.0,2,   2309.6,2
           NA,     P10,     86,   1,      31,     -99,  2,19931107,1852,  34.4083,  142.3083,  7298,    248.0,  16.4871,  34.7056,2,  34.7051,2,    188.9,2,  183.400,2,     9.73,2,     8.12,2,     0.01,2,     0.62,2,     2.26,2,    1.177,2, -999.000,9,   2047.6,2,   2314.8,2
           NA,     P10,     86,   1,      30,     -99,  2,19931107,1852,  34.4083,  142.3083,  7298,    296.1,  15.0978,  34.6183,2,  34.6284,2,    181.2,2,  189.000,2,    10.44,2,     9.41,2,     0.01,2,     0.69,2,     2.20,6,    1.117,6, -999.000,9,   2056.5,2,   -999.0,3
           NA,     P10,     86,   1,      29,     -99,  2,19931107,1852,  34.4083,  142.3083,  7298,    397.7,  12.0541,  34.4281,2,  34.4269,2,    173.1,2,  169.900,2,    23.81,2,    16.19,2,     0.01,2,     1.18,2,     1.80,2,    0.871,2, -999.000,9,   2108.3,2,   2312.6,2
           NA,     P10,     86,   1,      28,     -99,  2,19931107,1852,  34.4083,  142.3083,  7298,    497.9,   9.5556,  34.3165,2,  34.3176,2,    148.6,2,  143.400,2,    42.47,2,    22.92,2,     0.01,2,     1.66,2,     1.37,2,    0.668,2, -999.000,9,   2162.6,2,   2303.1,2
           NA,     P10,     86,   1,      27,     -99,  2,19931107,1852,  34.4083,  142.3083,  7298,    597.9,   8.6181,  34.2694,2,-999.0000,4,    140.7,2,  134.600,2,    49.00,2,    25.21,2,     0.01,2,     1.84,2,     1.20,2,    0.581,2, -999.000,9,   2183.4,2,   2318.9,2
           NA,     P10,     86,   1,      26,     -99,  2,19931107,1852,  34.4083,  142.3083,  7298,    697.3,   7.4605,  34.2681,2,  34.2684,2,    123.9,2,  115.000,2,    62.74,2,    28.81,2,     0.01,2,     2.10,2,     0.86,2,    0.403,2, -999.000,9,   2218.8,2,   2318.3,2
           NA,     P10,     86,   1,      25,     -99,  2,19931107,1852,  34.4083,  142.3083,  7298,    793.0,   5.6377,  34.2564,2,  34.2562,2,     89.4,2,   88.600,2,    84.92,2,    34.40,2,     0.01,2,     2.49,2,     0.55,2,    0.246,2, -999.000,9,   2269.0,2,   2358.4,2
           NA,     P10,     86,   1,      24,     -99,  2,19931107,1852,  34.4083,  142.3083,  7298,    898.8,   4.6832,  34.2992,2,-999.0000,3,     74.3,2,   73.400,2,   100.60,2,    37.19,2,     0.01,2,     2.69,2,     0.28,2,    0.133,2, -999.000,9,   2299.5,2,   2348.6,2
           NA,     P10,     86,   1,      23,     -99,  2,19931107,1852,  34.4083,  142.3083,  7298,    987.0,   4.0150,  34.3100,2,  34.3078,2,     57.3,2,   58.600,2,   113.64,2,    39.39,2,     0.01,2,     2.84,2,     0.22,2,    0.094,2, -999.000,9,   2322.7,2,   2380.6,2
           NA,     P10,     86,   1,      22,     -99,  2,19931107,1852,  34.4083,  142.3083,  7298,   1089.7,   3.4903,  34.3616,2,  34.3602,2,     52.4,2,   50.000,2,   125.97,2,    40.65,2,     0.00,2,     2.93,2,     0.10,2,    0.044,2, -999.000,9,   2341.4,2,   2376.5,2
           NA,     P10,     86,   1,      21,     -99,  2,19931107,1852,  34.4083,  142.3083,  7298,   1217.1,   3.1581,  34.4165,2,  34.4154,2,   -999.0,3,   51.000,2,   134.08,2,    41.10,2,     0.00,2,     2.95,2,  -999.00,4,    0.026,2, -999.000,9,   2352.1,2,   2412.6,2
           NA,     P10,     86,   1,      20,     -99,  2,19931107,1852,  34.4083,  142.3083,  7298,   1360.4,   2.8239,  34.4517,2,  34.4531,2,     46.4,2,   46.200,2,   143.78,2,    41.60,2,     0.01,2,     3.00,2,     0.03,2,    0.013,2, -999.000,9,   2365.6,2,   2395.1,2
           NA,     P10,     86,   1,      19,     -99,  2,19931107,1852,  34.4083,  142.3083,  7298,   1454.5,   2.6226,  34.4744,2,  34.4743,2,     46.4,2,   45.600,2,   149.78,2,    42.01,2,     0.00,2,     3.02,2,     0.02,2,    0.004,2, -999.000,9,   2371.4,2,   2428.5,2
           NA,     P10,     86,   1,      18,     -99,  2,19931107,1852,  34.4083,  142.3083,  7298,   1596.8,   2.4538,  34.5035,2,  34.5033,2,     49.7,2,   49.300,2,   154.37,2,    41.90,2,     0.01,2,     3.00,2,     0.02,2,    0.009,2, -999.000,9,   2373.8,2,   2417.1,2
           NA,     P10,     86,   1,      17,     -99,  2,19931107,1852,  34.4083,  142.3083,  7298,   1799.2,   2.2004,  34.5526,2,  34.5524,2,     62.9,2, -999.000,3,   158.61,2,    41.32,2,     0.00,2,     2.96,2,     0.00,2,    0.001,2, -999.000,9,   2372.6,2,   2437.3,2
           NA,     P10,     86,   1,      16,     -99,  2,19931107,1852,  34.4083,  142.3083,  7298,   2006.1,   2.0083,  34.5861,2,  34.5864,2,     76.1,2,   76.500,2,   160.03,2,    40.53,2,     0.00,2,     2.88,2,  -999.00,9, -999.000,9, -999.000,9,   2368.9,2,   2439.4,2
           NA,     P10,     86,   1,      15,     -99,  2,19931107,1852,  34.4083,  142.3083,  7298,   2255.3,   1.8546,  34.6147,2,  34.6155,2,     91.9,2, -999.000,3,   158.29,2,    39.40,2,    -0.01,2,     2.79,2,  -999.00,9, -999.000,9, -999.000,9,   2356.7,2,   2436.4,2
           NA,     P10,     86,   1,      14,     -99,  2,19931107,1852,  34.4083,  142.3083,  7298,   2505.0,   1.7312,  34.6343,2,  34.6353,2,    106.1,2,  107.300,2,   157.43,2,    38.64,2,     0.00,2,     2.73,2,  -999.00,9, -999.000,9, -999.000,9,   2353.2,2,   2431.9,2
           NA,     P10,     86,   1,      13,     -99,  3,19931107,1852,  34.4083,  142.3083,  7298,   2743.5,   1.6444,  34.6475,2,  34.6467,2,    116.1,2,  116.200,2,   156.57,2,    38.00,2,     0.00,2,     2.70,2,  -999.00,9, -999.000,9, -999.000,9,   2345.0,2,   -999.0,3
           NA,     P10,     86,   1,      12,     -99,  2,19931107,1852,  34.4083,  142.3083,  7298,   2998.4,   1.5753,  34.6589,2,  34.6593,2,    124.8,2,  126.600,2,   155.53,2,    37.40,2,     0.00,2,     2.64,2,  -999.00,9, -999.000,9, -999.000,9,   2343.3,2,   -999.0,5
           NA,     P10,     86,   1,      11,     -99,  3,19931107,1852,  34.4083,  142.3083,  7298,   3267.5,   1.5408,  34.6661,2,-999.0000,4,    134.0,2, -999.000,4,  -999.00,4,  -999.00,4,  -999.00,4,  -999.00,4,  -999.00,9, -999.000,9, -999.000,9,   -999.0,2,   -999.0,3
           NA,     P10,     86,   1,      10,     -99,  2,19931107,1852,  34.4083,  142.3083,  7298,   3515.8,   1.5095,  34.6719,2,  34.6719,2,    140.4,2,  139.900,2,   152.74,2,    36.47,2,     0.00,2,     2.56,2,    -0.00,2,    0.002,2, -999.000,9,   2334.3,2,   2446.5,2
           NA,     P10,     86,   1,       9,     -99,  2,19931107,1852,  34.4083,  142.3083,  7298,   3742.6,   1.4764,  34.6773,2,  34.6779,2,    145.4,2,  146.300,2,   151.00,2,    36.17,2,     0.00,2,     2.53,2,  -999.00,9, -999.000,9, -999.000,9,   2330.1,2,   2453.1,2
           NA,     P10,     86,   1,       8,     -99,  2,19931107,1852,  34.4083,  142.3083,  7298,   3997.4,   1.4747,  34.6806,2,  34.6803,2,    150.1,2,  150.800,2,   149.62,2,    35.83,2,     0.00,2,     2.52,2,  -999.00,9, -999.000,9, -999.000,9,   2326.6,6,   2451.7,2
           NA,     P10,     86,   1,       7,     -99,  2,19931107,1852,  34.4083,  142.3083,  7298,   4250.9,   1.4768,  34.6838,2,  34.6836,2,    153.3,2,  153.500,2,   148.76,2,    35.73,2,     0.00,2,     2.51,2,  -999.00,9, -999.000,9, -999.000,9,   2324.2,2,   2435.7,2
           NA,     P10,     86,   1,       6,     -99,  2,19931107,1852,  34.4083,  142.3083,  7298,   4500.3,   1.4797,  34.6856,2,  34.6860,2,    156.3,2,  156.900,2,   147.37,2,    35.45,2,    -0.01,2,     2.49,2,  -999.00,9, -999.000,9, -999.000,9,   2321.3,2,   2442.0,2
           NA,     P10,     86,   1,       4,     -99,  2,19931107,1852,  34.4083,  142.3083,  7298,   5010.8,   1.5118,  34.6888,2,  34.6886,2,    161.2,2,  160.700,2,   145.28,2,    35.21,2,    -0.01,2,     2.47,2,  -999.00,9, -999.000,9, -999.000,9,   2318.5,2,   2444.8,2
           NA,     P10,     86,   1,       3,     -99,  2,19931107,1852,  34.4083,  142.3083,  7298,   5289.8,   1.5347,  34.6895,2,  34.6895,2,    162.9,2,  162.600,2,   144.06,2,    35.00,2,     0.00,2,     2.46,2,  -999.00,9, -999.000,9, -999.000,9,   2315.3,2,   2445.5,2
           NA,     P10,     86,   1,       2,     -99,  2,19931107,1852,  34.4083,  142.3083,  7298,   5578.4,   1.5658,  34.6906,2,  34.6901,2,    164.0,2,  163.600,2,   143.37,2,    34.82,2,    -0.01,2,     2.45,2,  -999.00,9, -999.000,9, -999.000,9,   2315.1,2,   2438.5,2
           NA,     P10,     86,   1,       1,     -99,  2,19931107,1852,  34.4083,  142.3083,  7298,   5891.2,   1.6028,  34.6910,2,  34.6915,2,    165.0,2,  164.300,2,   142.64,2,    34.82,2,     0.00,2,     2.43,2,    -0.00,2,    0.001,2, -999.000,9,   2315.1,2,   2439.4,2