BOTTLE,20210102JOAExport
EXPOCODE,SECT_ID,STNNBR,CASTNO,SAMPNO,BTLNBR,BTLNBR_FLAG_W,DATE,TIME,LATITUDE,LONGITUDE,DEPTH,CTDPRS,CTDTMP,CTDSAL,CTDSAL_FLAG_W,SALNTY,SALNTY_FLAG_W,CTDOXY,CTDOXY_FLAG_W,OXYGEN,OXYGEN_FLAG_W,SILCAT,SILCAT_FLAG_W,NITRAT,NITRAT_FLAG_W,NITRIT,NITRIT_FLAG_W,PHSPHT,PHSPHT_FLAG_W,CFC-11,CFC-11_FLAG_W,CFC-12,CFC-12_FLAG_W,SF6,SF6_FLAG_W,TCARBN,TCARBN_FLAG_W,ALKALI,ALKALI_FLAG_W
,,,,,,,,,,,,DB,ITS-90,PSS-78,,PSS-78,,UMOL/KG,,UMOL/KG,,UMOL/KG,,UMOL/KG,,UMOL/KG,,UMOL/KG,,PMOL/KG,,PMOL/KG,,FMOL/KG,,UMOL/KG,,UMOL/KG
           NA,     P10,     25,   3,      35,     -99,  2,19931017,1840,   1.7500,  146.6445,  4454,     10.6,  28.9687,  34.0648,2,  34.0553,2,    224.8,2,  215.700,2,     2.13,2,     0.01,2,     0.01,2,     0.03,2,  -999.00,9, -999.000,9, -999.000,9,   -999.0,9,   -999.0,9
           NA,     P10,     25,   3,      36,     -99,  2,19931017,1840,   1.7500,  146.6445,  4454,     10.6,  28.9681,  34.0642,2,  34.0653,2,    224.8,2,  215.800,2,     1.94,2,     0.01,2,     0.00,2,     0.03,2,  -999.00,9, -999.000,9, -999.000,9,   -999.0,9,   -999.0,9
           NA,     P10,     25,   3,      34,     -99,  2,19931017,1840,   1.7500,  146.6445,  4454,     49.5,  28.2083,  34.2407,2,  34.2410,2,    219.8,2,  216.800,2,     2.15,2,     0.09,2,     0.00,2,     0.07,2,  -999.00,9, -999.000,9, -999.000,9,   -999.0,9,   -999.0,9
           NA,     P10,     25,   3,      33,     -99,  2,19931017,1840,   1.7500,  146.6445,  4454,     98.7,  24.6974,  34.8191,2,  34.8663,2,    195.4,2,  178.400,2,     3.17,2,     2.85,2,     0.07,2,     0.33,2,  -999.00,9, -999.000,9, -999.000,9,   -999.0,9,   -999.0,9
           NA,     P10,     25,   3,      32,     -99,  2,19931017,1840,   1.7500,  146.6445,  4454,    147.4,  21.3870,  35.1488,2,  35.1426,2,    141.0,2,  147.500,2,     6.35,2,     8.55,2,     0.03,2,     0.68,2,  -999.00,9, -999.000,9, -999.000,9,   -999.0,9,   -999.0,9
           NA,     P10,     25,   3,      31,     -99,  2,19931017,1840,   1.7500,  146.6445,  4454,    196.8,  15.1935,  34.8160,2,  34.8047,2,    142.4,2,  140.600,2,    15.68,2,    14.91,2,     0.01,2,     1.11,2,  -999.00,9, -999.000,9, -999.000,9,   -999.0,9,   -999.0,9
           NA,     P10,     25,   3,      30,     -99,  2,19931017,1840,   1.7500,  146.6445,  4454,    248.6,  11.4913,  34.6092,2,  34.6239,2,    124.4,2,  122.800,2,    27.84,2,    22.45,2,     0.00,2,     1.61,2,  -999.00,9, -999.000,9, -999.000,9,   -999.0,9,   -999.0,9
           NA,     P10,     25,   3,      29,     -99,  9,19931017,1840,   1.7500,  146.6445,  4454,    299.1,  10.3087,-999.0000,3,-999.0000,9,   -999.0,3, -999.000,9,  -999.00,4,  -999.00,4,  -999.00,4,  -999.00,4,  -999.00,9, -999.000,9, -999.000,9,   -999.0,9,   -999.0,9
           NA,     P10,     25,   3,      28,     -99,  2,19931017,1840,   1.7500,  146.6445,  4454,    350.8,   9.8957,  34.7051,2,  34.7039,2,     97.7,2,   99.000,2,    27.71,2,    28.07,2,     0.01,2,     1.94,2,  -999.00,9, -999.000,9, -999.000,9,   -999.0,9,   -999.0,9
           NA,     P10,     25,   3,      27,     -99,  2,19931017,1840,   1.7500,  146.6445,  4454,    424.8,   9.4320,  34.6800,2,  34.6779,2,     96.9,2,   98.100,2,    29.24,2,    29.28,2,     0.00,2,     2.02,2,  -999.00,9, -999.000,9, -999.000,9,   -999.0,9,   -999.0,9
           NA,     P10,     25,   3,      26,     -99,  2,19931017,1840,   1.7500,  146.6445,  4454,    499.0,   8.6593,  34.6311,2,  34.6335,2,    107.8,2,  107.600,2,    31.92,2,    29.69,2,     0.00,2,     2.05,2,  -999.00,9, -999.000,9, -999.000,9,   -999.0,9,   -999.0,9
           NA,     P10,     25,   3,      25,     -99,  2,19931017,1840,   1.7500,  146.6445,  4454,    598.6,   6.9588,  34.5568,2,  34.5601,2,    105.5,2,  106.400,2,    44.25,2,    33.16,2,     0.00,2,     2.30,2,  -999.00,9, -999.000,9, -999.000,9,   -999.0,9,   -999.0,9
           NA,     P10,     25,   3,      24,     -99,  2,19931017,1840,   1.7500,  146.6445,  4454,    672.1,   6.3431,  34.5420,2,  34.5426,2,    104.5,2,  103.900,2,    51.59,2,    34.53,2,     0.00,2,     2.41,2,  -999.00,9, -999.000,9, -999.000,9,   -999.0,9,   -999.0,9
           NA,     P10,     25,   3,      23,     -99,  2,19931017,1840,   1.7500,  146.6445,  4454,    721.4,   5.8089,  34.5358,2,  34.5385,2,    111.5,2,  110.900,2,    57.43,2,    34.71,2,     0.00,2,     2.43,2,  -999.00,9, -999.000,9, -999.000,9,   -999.0,9,   -999.0,9
           NA,     P10,     25,   3,      22,     -99,  2,19931017,1840,   1.7500,  146.6445,  4454,    822.7,   5.5280,  34.5321,2,-999.0000,3,    117.9,2,  116.000,2,    58.94,2,    34.84,2,     0.00,2,     2.43,2,  -999.00,9, -999.000,9, -999.000,9,   -999.0,9,   -999.0,9
           NA,     P10,     25,   3,      21,     -99,  9,19931017,1840,   1.7500,  146.6445,  4454,    897.0,   5.0853,  34.5412,2,  34.5483,2,    105.4,2, -999.000,9,    66.95,2,    35.99,2,     0.00,2,     2.52,2,  -999.00,9, -999.000,9, -999.000,9,   -999.0,9,   -999.0,9
           NA,     P10,     25,   3,      20,     -99,  2,19931017,1840,   1.7500,  146.6445,  4454,    991.2,   4.7356,  34.5500,2,  34.5430,2,    100.8,2,  100.100,2,    78.61,2,    37.26,2,    -0.01,2,     2.61,2,  -999.00,9, -999.000,9, -999.000,9,   -999.0,9,   -999.0,9
           NA,     P10,     25,   3,      19,     -99,  2,19931017,1840,   1.7500,  146.6445,  4454,   1094.2,   4.3252,  34.5624,2,  34.5612,2,     96.8,2,   94.800,2,    90.44,2,    38.00,2,     0.00,2,     2.68,2,  -999.00,9, -999.000,9, -999.000,9,   -999.0,9,   -999.0,9
           NA,     P10,     25,   3,      18,     -99,  2,19931017,1840,   1.7500,  146.6445,  4454,   1196.1,   3.9617,  34.5715,2,-999.0000,3,     97.9,2,   97.400,2,    97.61,2,    38.19,2,    -0.01,2,     2.69,2,  -999.00,9, -999.000,9, -999.000,9,   -999.0,9,   -999.0,9
           NA,     P10,     25,   3,      16,     -99,  2,19931017,1840,   1.7500,  146.6445,  4454,   1623.9,   2.7826,  34.6138,2,-999.0000,3,    107.9,2,  106.500,2,   122.03,2,    38.48,2,    -0.01,2,     2.70,2,  -999.00,9, -999.000,9, -999.000,9,   -999.0,9,   -999.0,9
           NA,     P10,     25,   3,      15,     -99,  2,19931017,1840,   1.7500,  146.6445,  4454,   1801.9,   2.5798,  34.6223,2,-999.0000,3,    110.5,2,  110.400,2,   127.21,2,    38.26,2,    -0.01,2,     2.68,2,  -999.00,9, -999.000,9, -999.000,9,   -999.0,9,   -999.0,9
           NA,     P10,     25,   3,      14,     -99,  2,19931017,1840,   1.7500,  146.6445,  4454,   2000.7,   2.3007,  34.6347,2,-999.0000,3,    115.0,2,  115.200,2,   133.55,2,    38.11,2,    -0.01,2,     2.67,2,  -999.00,9, -999.000,9, -999.000,9,   -999.0,9,   -999.0,9
           NA,     P10,     25,   3,      13,     -99,  2,19931017,1840,   1.7500,  146.6445,  4454,   2195.9,   2.1258,  34.6442,2,  34.6445,2,    119.8,2,  119.700,2,   136.92,2,    37.91,2,    -0.01,2,     2.65,2,  -999.00,9, -999.000,9, -999.000,9,   -999.0,9,   -999.0,9
           NA,     P10,     25,   3,      12,     -99,  2,19931017,1840,   1.7500,  146.6445,  4454,   2397.4,   1.9698,  34.6530,2,  34.6524,2,    123.7,2,  123.900,2,   139.77,2,    37.63,2,     0.00,2,     2.62,2,  -999.00,9, -999.000,9, -999.000,9,   -999.0,9,   -999.0,9
           NA,     P10,     25,   3,      11,     -99,  9,19931017,1840,   1.7500,  146.6445,  4454,   2596.4,   1.7728,-999.0000,3,-999.0000,4,   -999.0,3, -999.000,9,  -999.00,4,  -999.00,4,  -999.00,4,  -999.00,4,  -999.00,9, -999.000,9, -999.000,9,   -999.0,9,   -999.0,9
           NA,     P10,     25,   3,      10,     -99,  2,19931017,1840,   1.7500,  146.6445,  4454,   2791.6,   1.6795,  34.6690,2,  34.6689,2,    137.2,2,  137.700,2,   142.47,2,    36.80,2,     0.01,2,     2.56,2,  -999.00,9, -999.000,9, -999.000,9,   -999.0,9,   -999.0,9
           NA,     P10,     25,   3,       9,     -99,  2,19931017,1840,   1.7500,  146.6445,  4454,   2995.3,   1.6286,  34.6730,2,  34.6713,2,    141.0,2,  141.200,2,   142.65,2,    36.64,2,     0.01,2,     2.54,2,  -999.00,9, -999.000,9, -999.000,9,   -999.0,9,   -999.0,9
           NA,     P10,     25,   3,       8,     -99,  2,19931017,1840,   1.7500,  146.6445,  4454,   3244.5,   1.6031,  34.6766,2,  34.6787,2,    143.9,2,  143.900,2,   142.67,2,    36.49,2,     0.01,2,     2.52,2,  -999.00,9, -999.000,9, -999.000,9,   -999.0,9,   -999.0,9
           NA,     P10,     25,   3,       7,     -99,  2,19931017,1840,   1.7500,  146.6445,  4454,   3493.4,   1.5786,  34.6794,2,-999.0000,4,    147.0,2,  146.700,2,   142.64,2,    36.10,2,     0.01,2,     2.51,2,  -999.00,9, -999.000,9, -999.000,9,   -999.0,9,   -999.0,9
           NA,     P10,     25,   3,       6,     -99,  2,19931017,1840,   1.7500,  146.6445,  4454,   3742.6,   1.5577,  34.6830,2,  34.6817,2,    150.5,2,  149.600,2,   142.71,2,    35.89,2,     0.01,2,     2.51,2,  -999.00,9, -999.000,9, -999.000,9,   -999.0,9,   -999.0,9
           NA,     P10,     25,   3,       5,     -99,  4,19931017,1840,   1.7500,  146.6445,  4454,   3997.0,   1.5440,-999.0000,3,-999.0000,4,   -999.0,3, -999.000,4,  -999.00,4,  -999.00,4,  -999.00,4,  -999.00,4,  -999.00,9, -999.000,9, -999.000,9,   -999.0,9,   -999.0,9
           NA,     P10,     25,   3,       4,     -99,  2,19931017,1840,   1.7500,  146.6445,  4454,   3997.2,   1.5436,  34.6864,2,  34.6842,2,    153.1,2,  152.700,2,   141.92,2,    35.69,2,     0.01,2,     2.48,2,  -999.00,9, -999.000,9, -999.000,9,   -999.0,9,   -999.0,9
           NA,     P10,     25,   3,       1,     -99,  2,19931017,1840,   1.7500,  146.6445,  4454,   4498.1,   1.5516,  34.6897,2,  34.6876,2,    155.6,2,  156.000,2,   140.83,2,    35.41,2,     0.01,2,     2.45,2,  -999.00,9, -999.000,9, -999.000,9,   -999.0,9,   -999.0,9
           NA,     P10,     25,   3,       2,     -99,  2,19931017,1840,   1.7500,  146.6445,  4454,   4498.2,   1.5523,  34.6889,2,  34.6891,2,    155.6,2,  156.400,2,   141.27,2,    35.49,2,     0.00,2,     2.46,2,  -999.00,9, -999.000,9, -999.000,9,   -999.0,9,   -999.0,9
           NA,     P10,     26,   1,      36,     -99,  2,19931018,0352,   2.0000,  146.7167,  4438,     10.2,  29.4064,  34.0998,2,  34.0861,2,    209.3,2,  212.400,2,     1.88,2,     0.07,2,     0.00,2,     0.05,2,  -999.00,4, -999.000,4, -999.000,9,   -999.0,9,   -999.0,9
           NA,     P10,     26,   1,      35,     -99,  2,19931018,0352,   2.0000,  146.7167,  4438,     48.1,  28.2986,  34.2858,2,  34.2827,2,    211.4,2,  216.100,2,     2.04,2,     0.07,2,     0.01,2,     0.07,2,     1.75,2,    0.959,2, -999.000,9,   -999.0,9,   -999.0,9
           NA,     P10,     26,   1,      34,     -99,  2,19931018,0352,   2.0000,  146.7167,  4438,     97.0,  24.4236,  34.8408,2,  34.8423,2,    178.8,2,  178.800,2,     3.05,2,     3.06,2,     0.08,2,     0.36,2,     1.80,2,    0.967,2, -999.000,9,   -999.0,9,   -999.0,9
           NA,     P10,     26,   1,      33,     -99,  2,19931018,0352,   2.0000,  146.7167,  4438,    146.5,  21.3072,  35.1904,2,  35.1830,2,    145.8,2,  153.400,2,     5.71,2,     8.40,2,     0.02,2,     0.70,2,     1.75,2,    0.878,2, -999.000,9,   -999.0,9,   -999.0,9
           NA,     P10,     26,   1,      32,     -99,  2,19931018,0352,   2.0000,  146.7167,  4438,    197.4,  16.1949,  34.8167,2,  34.7920,2,    130.6,2,  143.300,2,    13.54,2,    13.34,2,     0.02,2,     1.03,2,     1.68,2,    0.827,2, -999.000,9,   -999.0,9,   -999.0,9
           NA,     P10,     26,   1,      31,     -99,  2,19931018,0352,   2.0000,  146.7167,  4438,    246.9,  12.3603,  34.6239,2,  34.6367,2,    113.7,2,  126.200,2,    25.37,2,    20.91,2,     0.01,2,     1.52,2,  -999.00,9, -999.000,9, -999.000,9,   -999.0,9,   -999.0,9
           NA,     P10,     26,   1,      30,     -99,  2,19931018,0352,   2.0000,  146.7167,  4438,    296.7,  10.3795,  34.7449,2,  34.7471,2,    104.8,2,  113.400,2,    23.71,2,    25.80,2,     0.01,2,     1.84,2,     0.46,6,    0.238,6, -999.000,9,   -999.0,9,   -999.0,9
           NA,     P10,     26,   1,      29,     -99,  3,19931018,0352,   2.0000,  146.7167,  4438,    346.6,  10.0126,-999.0000,3,-999.0000,4,   -999.0,3, -999.000,4,  -999.00,4,  -999.00,4,  -999.00,4,  -999.00,4,  -999.00,9, -999.000,9, -999.000,9,   -999.0,9,   -999.0,9
           NA,     P10,     26,   1,      27,     -99,  2,19931018,0352,   2.0000,  146.7167,  4438,    446.6,   9.3296,  34.6749,2,  34.6724,2,    104.3,2,  104.000,2,    28.55,2,    28.88,2,     0.01,2,     2.02,2,     0.27,2,    0.137,2, -999.000,9,   -999.0,9,   -999.0,9
           NA,     P10,     26,   1,      26,     -99,  2,19931018,0352,   2.0000,  146.7167,  4438,    497.7,   9.0015,  34.6511,2,  34.6532,2,    105.9,2,  102.900,2,    30.88,2,    29.45,2,     0.01,2,     2.07,2,  -999.00,9, -999.000,9, -999.000,9,   -999.0,9,   -999.0,9
           NA,     P10,     26,   1,      25,     -99,  2,19931018,0352,   2.0000,  146.7167,  4438,    547.3,   8.3335,  34.6145,2,  34.6129,2,    105.5,2,  106.700,2,    33.71,2,    30.46,2,     0.01,2,     2.13,2,     0.18,2,    0.085,2, -999.000,9,   -999.0,9,   -999.0,9
           NA,     P10,     26,   1,      24,     -99,  2,19931018,0352,   2.0000,  146.7167,  4438,    596.9,   7.5211,  34.5752,2,  34.5683,2,    101.6,2,  107.000,2,    39.54,2,    31.94,2,     0.00,2,     2.24,2,  -999.00,9, -999.000,9, -999.000,9,   -999.0,9,   -999.0,9
           NA,     P10,     26,   1,      23,     -99,  2,19931018,0352,   2.0000,  146.7167,  4438,    647.0,   6.9474,  34.5546,2,  34.5542,2,    105.7,2,  106.300,2,    44.54,2,    33.12,2,     0.00,2,     2.33,2,     0.09,2,    0.039,2, -999.000,9,   -999.0,9,   -999.0,9
           NA,     P10,     26,   1,      22,     -99,  2,19931018,0352,   2.0000,  146.7167,  4438,    697.9,   6.3404,  34.5393,2,  34.5396,2,     98.3,2,  113.100,2,    49.03,2,    33.73,2,     0.01,2,     2.37,2,     0.06,2,    0.034,2, -999.000,9,   -999.0,9,   -999.0,9
           NA,     P10,     26,   1,      21,     -99,  3,19931018,0352,   2.0000,  146.7167,  4438,    748.7,   5.9067,  34.5400,2,  34.5383,2,    117.0,2,   98.500,2,    59.19,2,    35.59,2,     0.00,2,     2.51,2,  -999.00,9, -999.000,9, -999.000,9,   -999.0,9,   -999.0,9
           NA,     P10,     26,   1,      20,     -99,  2,19931018,0352,   2.0000,  146.7167,  4438,    796.7,   5.5612,  34.5319,2,  34.5410,2,    116.4,2,  117.200,2,  -999.00,3,  -999.00,3,  -999.00,3,  -999.00,3,  -999.00,9, -999.000,9, -999.000,9,   -999.0,9,   -999.0,9
           NA,     P10,     26,   1,      19,     -99,  2,19931018,0352,   2.0000,  146.7167,  4438,    894.2,   5.0627,  34.5455,2,  34.5440,2,     97.3,2,   95.800,2,    74.34,2,    37.07,2,     0.00,2,     2.62,2,     0.01,2,    0.005,2, -999.000,9,   -999.0,9,   -999.0,9
           NA,     P10,     26,   1,      18,     -99,  2,19931018,0352,   2.0000,  146.7167,  4438,    945.2,   4.8558,  34.5507,2,  34.5510,2,     92.1,2,   93.800,2,    79.83,2,    37.47,2,     0.00,2,     2.66,2,  -999.00,9, -999.000,9, -999.000,9,   -999.0,9,   -999.0,9
           NA,     P10,     26,   1,      17,     -99,  2,19931018,0352,   2.0000,  146.7167,  4438,    996.4,   4.6522,  34.5549,2,-999.0000,3,     96.4,2,   92.300,2,    84.49,2,    37.88,2,     0.00,2,     2.71,2,     0.00,2,   -0.002,2, -999.000,9,   -999.0,9,   -999.0,9
           NA,     P10,     26,   1,      16,     -99,  2,19931018,0352,   2.0000,  146.7167,  4438,   1197.3,   3.9077,  34.5731,2,  34.5721,2,     99.9,2,   97.400,2,    98.98,2,    38.17,2,     0.00,2,     2.72,2,  -999.00,9, -999.000,9, -999.000,9,   -999.0,9,   -999.0,9
           NA,     P10,     26,   1,      15,     -99,  2,19931018,0352,   2.0000,  146.7167,  4438,   1395.4,   3.4000,  34.5893,2,  34.5901,2,    101.4,2,  100.900,2,   108.79,2,    38.34,2,     0.00,2,     2.73,2,    -0.00,2,   -0.002,2, -999.000,9,   -999.0,9,   -999.0,9
           NA,     P10,     26,   1,      14,     -99,  2,19931018,0352,   2.0000,  146.7167,  4438,   1599.8,   2.8470,  34.6099,2,  34.6096,2,    106.4,2,  106.200,2,   121.46,2,    38.26,2,     0.01,2,     2.71,2,  -999.00,9, -999.000,9, -999.000,9,   -999.0,9,   -999.0,9
           NA,     P10,     26,   1,      13,     -99,  3,19931018,0352,   2.0000,  146.7167,  4438,   1795.1,   2.5853,  34.6212,2,  34.6218,2,    107.9,2,  107.900,2,   128.42,2,    38.26,2,     0.00,2,     2.72,2,     0.00,2,    0.008,2, -999.000,9,   -999.0,9,   -999.0,9
           NA,     P10,     26,   1,      12,     -99,  2,19931018,0352,   2.0000,  146.7167,  4438,   1995.3,   2.3079,  34.6340,2,  34.6347,2,    113.8,2,  114.300,2,   133.74,2,    38.00,2,     0.00,2,     2.68,2,     0.00,2,   -0.001,2, -999.000,9,   -999.0,9,   -999.0,9
           NA,     P10,     26,   1,      10,     -99,  2,19931018,0352,   2.0000,  146.7167,  4438,   2396.7,   1.9574,  34.6531,2,-999.0000,3,    123.1,2,  123.600,2,   140.39,2,    37.57,2,     0.00,2,     2.65,2,  -999.00,9, -999.000,9, -999.000,9,   -999.0,9,   -999.0,9
           NA,     P10,     26,   1,       9,     -99,  2,19931018,0352,   2.0000,  146.7167,  4438,   2598.7,   1.7715,  34.6640,2,  34.6652,2,    130.9,2,  131.800,2,   142.05,2,    36.97,2,     0.00,2,     2.61,2,  -999.00,3, -999.000,3, -999.000,9,   -999.0,9,   -999.0,9
           NA,     P10,     26,   1,       8,     -99,  2,19931018,0352,   2.0000,  146.7167,  4438,   2799.6,   1.6817,  34.6688,2,  34.6687,2,    137.1,2,  137.100,2,   142.54,2,    36.72,2,     0.00,2,     2.58,2,  -999.00,9, -999.000,9, -999.000,9,   -999.0,9,   -999.0,9
           NA,     P10,     26,   1,       7,     -99,  2,19931018,0352,   2.0000,  146.7167,  4438,   2993.6,   1.6328,  34.6725,2,  34.6715,2,    141.0,2,  140.800,2,   142.53,2,    36.50,2,     0.00,2,     2.56,2,    -0.00,2,   -0.001,2, -999.000,9,   -999.0,9,   -999.0,9
           NA,     P10,     26,   1,       6,     -99,  2,19931018,0352,   2.0000,  146.7167,  4438,   3245.7,   1.6076,  34.6753,2,-999.0000,3,    143.1,2,  143.200,2,   142.70,2,    36.36,2,     0.00,2,     2.55,2,  -999.00,9, -999.000,9, -999.000,9,   -999.0,9,   -999.0,9
           NA,     P10,     26,   1,       5,     -99,  2,19931018,0352,   2.0000,  146.7167,  4438,   3495.1,   1.5787,  34.6789,2,  34.6781,2,    146.3,2,  145.500,2,   142.51,2,    36.22,2,     0.01,2,     2.53,2,    -0.00,2,   -0.002,2, -999.000,9,   -999.0,9,   -999.0,9
           NA,     P10,     26,   1,       4,     -99,  2,19931018,0352,   2.0000,  146.7167,  4438,   3745.0,   1.5579,  34.6821,2,  34.6825,2,    149.6,2,  149.800,2,   142.02,2,    35.99,2,     0.01,2,     2.52,2,     0.00,2,    0.000,2, -999.000,9,   -999.0,9,   -999.0,9
           NA,     P10,     26,   1,       2,     -99,  2,19931018,0352,   2.0000,  146.7167,  4438,   4244.1,   1.5330,  34.6884,2,  34.6866,2,    156.0,2,  155.300,2,   141.09,2,    35.64,2,     0.01,2,     2.48,2,     0.00,2,    0.006,2, -999.000,9,   -999.0,9,   -999.0,9