BOTTLE,20210102JOAExport
EXPOCODE,SECT_ID,STNNBR,CASTNO,SAMPNO,BTLNBR,BTLNBR_FLAG_W,DATE,TIME,LATITUDE,LONGITUDE,DEPTH,CTDPRS,CTDTMP,CTDSAL,CTDSAL_FLAG_W,SALNTY,SALNTY_FLAG_W,CTDOXY,CTDOXY_FLAG_W,OXYGEN,OXYGEN_FLAG_W,SILCAT,SILCAT_FLAG_W,NITRAT,NITRAT_FLAG_W,NITRIT,NITRIT_FLAG_W,PHSPHT,PHSPHT_FLAG_W,CFC-11,CFC-11_FLAG_W,CFC-12,CFC-12_FLAG_W,SF6,SF6_FLAG_W,TCARBN,TCARBN_FLAG_W,ALKALI,ALKALI_FLAG_W
,,,,,,,,,,,,DB,ITS-90,PSS-78,,PSS-78,,UMOL/KG,,UMOL/KG,,UMOL/KG,,UMOL/KG,,UMOL/KG,,UMOL/KG,,PMOL/KG,,PMOL/KG,,FMOL/KG,,UMOL/KG,,UMOL/KG
           NA,     P10,     89,   1,      36,     -99,  2,19931108,1335,  34.8055,  141.4583,  4028,      6.6,  22.1477,  34.6492,2,  34.6491,2,    212.9,2,  213.900,2,     2.51,2,     0.76,2,     0.10,2,     0.10,2,  -999.00,9, -999.000,9, -999.000,9,   -999.0,9,   -999.0,9
           NA,     P10,     89,   1,      27,     -99,  2,19931108,1335,  34.8055,  141.4583,  4028,     46.2,  21.3343,  34.5368,2,  34.5451,2,    208.2,2,  213.700,2,     3.05,2,     1.14,2,     0.16,2,     0.16,2,  -999.00,9, -999.000,9, -999.000,9,   -999.0,9,   -999.0,9
           NA,     P10,     89,   1,      26,     -99,  2,19931108,1335,  34.8055,  141.4583,  4028,     95.4,  17.0896,  34.5694,2,  34.5656,2,    179.1,2,  175.300,2,    13.37,2,     9.33,2,     0.05,2,     0.67,2,  -999.00,9, -999.000,9, -999.000,9,   -999.0,9,   -999.0,9
           NA,     P10,     89,   1,      25,     -99,  2,19931108,1335,  34.8055,  141.4583,  4028,    144.6,  14.6276,  34.5017,2,  34.5043,2,    165.7,2,  164.700,2,    20.73,2,    13.47,2,     0.03,2,     0.97,2,  -999.00,9, -999.000,9, -999.000,9,   -999.0,9,   -999.0,9
           NA,     P10,     89,   1,      24,     -99,  2,19931108,1335,  34.8055,  141.4583,  4028,    194.7,  13.0814,  34.4980,2,  34.4929,2,    162.3,2,  161.300,2,    24.76,2,    15.57,2,     0.02,2,     1.11,2,  -999.00,9, -999.000,9, -999.000,9,   -999.0,9,   -999.0,9
           NA,     P10,     89,   1,      23,     -99,  2,19931108,1335,  34.8055,  141.4583,  4028,    244.3,  11.4506,  34.4096,2,  34.4136,2,    157.1,2,  156.200,2,    31.07,2,    18.59,2,     0.02,2,     1.32,2,  -999.00,9, -999.000,9, -999.000,9,   -999.0,9,   -999.0,9
           NA,     P10,     89,   1,      22,     -99,  3,19931108,1335,  34.8055,  141.4583,  4028,    295.8,  10.1497,  34.3385,2,  34.3398,2,    154.1,2,  149.900,2,    37.55,2,    21.28,2,     0.02,2,     1.51,2,  -999.00,9, -999.000,9, -999.000,9,   -999.0,9,   -999.0,9
           NA,     P10,     89,   1,      21,     -99,  2,19931108,1335,  34.8055,  141.4583,  4028,    345.8,   9.0100,  34.3000,2,  34.3006,2,    146.6,2,  138.400,2,    47.01,2,    24.21,2,     0.02,2,     1.72,2,  -999.00,9, -999.000,9, -999.000,9,   -999.0,9,   -999.0,9
           NA,     P10,     89,   1,      20,     -99,  2,19931108,1335,  34.8055,  141.4583,  4028,    394.5,   7.8515,  34.2717,2,  34.2713,2,    135.6,2,  124.000,2,    58.20,2,    27.51,2,     0.02,2,     1.95,2,  -999.00,9, -999.000,9, -999.000,9,   -999.0,9,   -999.0,9
           NA,     P10,     89,   1,      19,     -99,  2,19931108,1335,  34.8055,  141.4583,  4028,    494.8,   5.6965,  34.2441,2,  34.2441,2,     94.8,2,   90.100,2,    82.15,2,    34.16,2,     0.02,2,     2.42,2,  -999.00,9, -999.000,9, -999.000,9,   -999.0,9,   -999.0,9
           NA,     P10,     89,   1,      18,     -99,  2,19931108,1335,  34.8055,  141.4583,  4028,    593.2,   4.3966,  34.3074,2,  34.3070,2,     70.6,2,   68.000,2,   105.04,2,    38.08,2,     0.01,2,     2.70,2,  -999.00,9, -999.000,9, -999.000,9,   -999.0,9,   -999.0,9
           NA,     P10,     89,   1,      17,     -99,  2,19931108,1335,  34.8055,  141.4583,  4028,    693.7,   3.7382,  34.3081,2,  34.3070,2,     52.7,2,   52.800,2,   117.97,2,    40.23,2,     0.01,2,     2.85,2,  -999.00,9, -999.000,9, -999.000,9,   -999.0,9,   -999.0,9
           NA,     P10,     89,   1,      16,     -99,  2,19931108,1335,  34.8055,  141.4583,  4028,    794.2,   3.3896,  34.3547,2,  34.3535,2,     47.7,2,   47.900,2,   126.89,2,    41.06,2,     0.01,2,     2.90,2,  -999.00,9, -999.000,9, -999.000,9,   -999.0,9,   -999.0,9
           NA,     P10,     89,   1,      15,     -99,  2,19931108,1335,  34.8055,  141.4583,  4028,    894.4,   3.1357,  34.3910,2,  34.3902,2,     47.3,2,   45.600,2,   134.05,2,    41.58,2,     0.00,2,     2.94,2,  -999.00,9, -999.000,9, -999.000,9,   -999.0,9,   -999.0,9
           NA,     P10,     89,   1,      14,     -99,  2,19931108,1335,  34.8055,  141.4583,  4028,    994.2,   2.9830,  34.4178,2,  34.4177,2,     46.6,2,   46.000,2,   138.09,2,    41.62,2,     0.00,2,     2.94,2,  -999.00,9, -999.000,9, -999.000,9,   -999.0,9,   -999.0,9
           NA,     P10,     89,   1,      13,     -99,  2,19931108,1335,  34.8055,  141.4583,  4028,   1191.9,   2.6537,  34.4652,2,  34.4641,2,     45.5,2,   44.300,2,   147.88,2,    42.17,2,     0.00,2,     2.97,2,  -999.00,9, -999.000,9, -999.000,9,   -999.0,9,   -999.0,9
           NA,     P10,     89,   1,      12,     -99,  2,19931108,1335,  34.8055,  141.4583,  4028,   1394.1,   2.3668,  34.5136,2,  34.5125,2,     51.0,2,   49.600,2,   155.22,2,    42.06,2,     0.01,2,     2.96,2,  -999.00,9, -999.000,9, -999.000,9,   -999.0,9,   -999.0,9
           NA,     P10,     89,   1,      11,     -99,  2,19931108,1335,  34.8055,  141.4583,  4028,   1593.8,   2.1932,  34.5491,2,  34.5479,2,     58.8,2,   58.700,2,   158.19,2,    41.72,2,     0.01,2,     2.92,2,  -999.00,9, -999.000,9, -999.000,9,   -999.0,9,   -999.0,9
           NA,     P10,     89,   1,      10,     -99,  2,19931108,1335,  34.8055,  141.4583,  4028,   1795.9,   2.0021,  34.5842,2,  34.5833,2,     72.3,2,   72.100,2,   160.12,2,    40.96,2,     0.01,2,     2.87,2,  -999.00,9, -999.000,9, -999.000,9,   -999.0,9,   -999.0,9
           NA,     P10,     89,   1,       9,     -99,  2,19931108,1335,  34.8055,  141.4583,  4028,   1993.2,   1.8839,  34.6055,2,  34.6049,2,     83.5,2,   83.700,2,   160.14,2,    40.20,2,     0.00,2,     2.81,2,  -999.00,9, -999.000,9, -999.000,9,   -999.0,9,   -999.0,9
           NA,     P10,     89,   1,       8,     -99,  2,19931108,1335,  34.8055,  141.4583,  4028,   2244.7,   1.7562,  34.6275,2,  34.6275,2,     98.2,2,  100.300,2,   158.23,2,    39.21,2,     0.00,2,     2.74,2,  -999.00,9, -999.000,9, -999.000,9,   -999.0,9,   -999.0,9
           NA,     P10,     89,   1,       7,     -99,  2,19931108,1335,  34.8055,  141.4583,  4028,   2498.0,   1.6473,  34.6455,2,  34.6449,2,    110.6,2,  112.000,2,   157.56,2,    38.42,2,     0.00,2,     2.68,2,  -999.00,9, -999.000,9, -999.000,9,   -999.0,9,   -999.0,9
           NA,     P10,     89,   1,       6,     -99,  2,19931108,1335,  34.8055,  141.4583,  4028,   2754.7,   1.5618,  34.6590,2,  34.6595,2,    124.1,2,  123.900,2,   155.31,2,    37.63,2,     0.00,2,     2.63,2,  -999.00,9, -999.000,9, -999.000,9,   -999.0,9,   -999.0,9
           NA,     P10,     89,   1,       5,     -99,  2,19931108,1335,  34.8055,  141.4583,  4028,   3000.2,   1.5150,  34.6668,2,  34.6671,2,    131.8,2,  132.200,2,   153.76,2,    37.14,2,     0.00,2,     2.60,2,  -999.00,9, -999.000,9, -999.000,9,   -999.0,9,   -999.0,9
           NA,     P10,     89,   1,       4,     -99,  2,19931108,1335,  34.8055,  141.4583,  4028,   3241.8,   1.4725,  34.6740,2,  34.6740,2,    139.9,2,  140.400,2,   152.03,2,    36.65,2,     0.00,2,     2.55,2,  -999.00,9, -999.000,9, -999.000,9,   -999.0,9,   -999.0,9
           NA,     P10,     89,   1,       3,     -99,  2,19931108,1335,  34.8055,  141.4583,  4028,   3490.8,   1.4588,  34.6778,2,  34.6793,2,    144.4,2,  144.900,2,   150.81,2,    36.32,2,     0.00,2,     2.54,2,  -999.00,9, -999.000,9, -999.000,9,   -999.0,9,   -999.0,9
           NA,     P10,     89,   1,       2,     -99,  2,19931108,1335,  34.8055,  141.4583,  4028,   3740.8,   1.4546,  34.6809,2,  34.6809,2,    147.9,2,  148.200,2,   149.78,2,    36.11,2,    -0.01,2,     2.51,2,  -999.00,9, -999.000,9, -999.000,9,   -999.0,9,   -999.0,9
           NA,     P10,     89,   1,       1,     -99,  2,19931108,1335,  34.8055,  141.4583,  4028,   4097.4,   1.4471,  34.6859,2,  34.6854,2,   -999.0,3,  153.900,2,   148.15,2,    35.64,2,     0.01,2,     2.47,2,  -999.00,9, -999.000,9, -999.000,9,   -999.0,9,   -999.0,9
           NA,     P10,     90,   1,      36,     -99,  2,19931108,1800,  34.9305,  141.2055,  3150,      6.7,  20.8472,  34.4904,2,  34.4921,2,    219.8,2,  217.600,2,     3.28,2,     1.03,2,     0.13,2,     0.20,2,     2.40,2,    1.238,2, -999.000,9,   -999.0,5,   2272.4,2
           NA,     P10,     90,   1,      24,     -99,  2,19931108,1800,  34.9305,  141.2055,  3150,     48.6,  20.3360,  34.5139,2,  34.5094,2,    196.3,2,  205.600,2,     4.88,2,     2.69,2,     0.24,2,     0.30,2,     2.30,2,    1.146,2, -999.000,9,   1983.3,2,   2269.0,2
           NA,     P10,     90,   1,      23,     -99,  2,19931108,1800,  34.9305,  141.2055,  3150,     97.3,  17.4744,  34.6372,2,  34.6406,2,    171.0,2,  178.500,2,    11.27,2,     8.08,2,     0.08,2,     0.64,2,     2.20,2,    1.105,2, -999.000,9,   2044.3,2,   2282.1,2
           NA,     P10,     90,   1,      22,     -99,  3,19931108,1800,  34.9305,  141.2055,  3150,    147.2,  14.3376,  34.5690,2,  34.5693,2,    160.9,2,  168.900,2,    18.89,2,    12.81,2,     0.03,2,     0.96,2,     1.96,2,    0.916,2, -999.000,9,   2085.0,2,   2285.0,6
           NA,     P10,     90,   1,      21,     -99,  2,19931108,1800,  34.9305,  141.2055,  3150,    197.0,  12.7350,  34.4695,2,  34.4745,2,    151.3,2,  159.500,2,    26.68,2,    16.29,2,     0.03,2,     1.21,2,     1.88,2,    0.890,2, -999.000,9,   2112.2,2,   2284.8,2
           NA,     P10,     90,   1,      20,     -99,  2,19931108,1800,  34.9305,  141.2055,  3150,    245.6,  10.8994,  34.3882,2,  34.3897,2,    146.9,2,  148.500,2,    36.42,2,    20.21,2,     0.02,2,     1.43,2,     1.52,6,    0.729,6, -999.000,9,   2145.0,2,   2288.7,2
           NA,     P10,     90,   1,      19,     -99,  3,19931108,1800,  34.9305,  141.2055,  3150,    295.4,   9.8474,  34.3339,2,-999.0000,9,    140.1,2, -999.000,4,  -999.00,9,  -999.00,9,  -999.00,9,  -999.00,9,  -999.00,9, -999.000,9, -999.000,9,   -999.0,9,   -999.0,9
           NA,     P10,     90,   1,      18,     -99,  2,19931108,1800,  34.9305,  141.2055,  3150,    344.9,   8.8341,  34.3013,2,  34.3035,2,    133.1,2,  131.900,2,    50.22,2,    25.07,2,     0.02,2,     1.76,2,     1.19,2,    0.578,2, -999.000,9,   2184.6,2,   2298.4,2
           NA,     P10,     90,   1,      17,     -99,  2,19931108,1800,  34.9305,  141.2055,  3150,    396.1,   7.6516,  34.2682,2,  34.2696,2,    125.3,2,  120.700,2,    60.49,2,    27.99,2,     0.02,2,     1.99,2,     1.03,2,    0.489,2, -999.000,9,   2210.1,2,   2306.9,2
           NA,     P10,     90,   1,      16,     -99,  2,19931108,1800,  34.9305,  141.2055,  3150,    496.1,   5.4589,  34.2422,2,  34.2451,2,     92.1,2,   86.400,2,    85.42,2,    34.76,2,     0.02,2,     2.49,2,     0.49,2,    0.212,2, -999.000,9,   2273.0,2,   2326.5,2
           NA,     P10,     90,   1,      15,     -99,  2,19931108,1800,  34.9305,  141.2055,  3150,    596.3,   4.4106,  34.3188,2,  34.3188,2,     75.3,2,   69.200,2,   105.03,2,    38.03,2,     0.00,2,     2.69,2,     0.25,2,    0.108,2, -999.000,9,   2308.3,2,   2346.6,2
           NA,     P10,     90,   1,      14,     -99,  2,19931108,1800,  34.9305,  141.2055,  3150,    696.4,   3.6841,  34.3268,2,  34.3269,2,     59.6,2,   52.000,2,   119.69,2,    40.28,2,     0.00,2,     2.85,2,  -999.00,9, -999.000,9, -999.000,9,   2335.6,2,   2359.6,2
           NA,     P10,     90,   1,      13,     -99,  2,19931108,1800,  34.9305,  141.2055,  3150,    796.0,   3.4333,  34.3630,2,  34.3651,2,     49.1,2,   52.100,2,   125.69,2,    40.79,2,    -0.01,2,     2.88,2,     0.13,2,    0.043,2, -999.000,9,   2342.6,2,   2363.9,2
           NA,     P10,     90,   1,      12,     -99,  2,19931108,1800,  34.9305,  141.2055,  3150,    897.3,   3.1118,  34.3946,2,  34.3936,2,     48.1,2,   51.000,2,   134.69,2,    41.34,2,    -0.01,2,     2.93,2,     0.10,2,    0.037,2, -999.000,9,   2353.8,2,   2375.5,2
           NA,     P10,     90,   1,      11,     -99,  2,19931108,1800,  34.9305,  141.2055,  3150,    996.2,   2.8526,  34.4245,2,  34.4252,2,     44.4,2,   43.700,2,   142.10,2,    41.81,2,     0.00,2,     2.99,2,  -999.00,9, -999.000,9, -999.000,9,   2364.7,6,   2378.6,2
           NA,     P10,     90,   1,      10,     -99,  2,19931108,1800,  34.9305,  141.2055,  3150,   1198.2,   2.5900,  34.4681,2,  34.4695,2,     46.3,2, -999.000,3,   149.77,2,    42.08,2,     0.00,2,     2.99,2,     0.04,2,    0.005,2, -999.000,9,   2372.3,2,   2387.6,2
           NA,     P10,     90,   1,       9,     -99,  2,19931108,1800,  34.9305,  141.2055,  3150,   1398.6,   2.3384,  34.5184,2,  34.5188,2,     51.2,2, -999.000,3,   156.00,2,    41.94,2,    -0.01,2,     2.96,2,     0.02,2,    0.001,2, -999.000,9,   2376.1,2,   -999.0,3
           NA,     P10,     90,   1,       8,     -99,  2,19931108,1800,  34.9305,  141.2055,  3150,   1597.3,   2.1945,  34.5470,2,  34.5475,2,     58.7,2,   57.300,2,   158.98,2,    41.48,2,     0.00,2,     2.92,2,     0.01,2,    0.000,2, -999.000,9,   2376.2,2,   2413.7,2
           NA,     P10,     90,   1,       7,     -99,  2,19931108,1800,  34.9305,  141.2055,  3150,   1798.2,   2.0403,  34.5761,2,  34.5766,2,     67.8,2,   68.400,2,   160.20,2,    41.00,2,    -0.01,2,     2.87,2,     0.00,2,    0.001,2, -999.000,9,   2373.7,2,   2421.4,2
           NA,     P10,     90,   1,       6,     -99,  2,19931108,1800,  34.9305,  141.2055,  3150,   1997.9,   1.8967,  34.6031,2,  34.6033,2,     83.5,2,   82.900,2,   160.00,2,    40.16,2,     0.00,2,     2.80,2,  -999.00,9, -999.000,9, -999.000,9,   2367.1,6,   2437.3,2
           NA,     P10,     90,   1,       5,     -99,  2,19931108,1800,  34.9305,  141.2055,  3150,   2189.2,   1.7946,  34.6209,2,  34.6216,2,     94.9,2,   94.900,2,   158.93,2,    39.39,2,     0.00,2,     2.75,2,  -999.00,9, -999.000,9, -999.000,9,   2360.7,2,   2426.7,2
           NA,     P10,     90,   1,       4,     -99,  2,19931108,1800,  34.9305,  141.2055,  3150,   2395.1,   1.7118,  34.6345,2,  34.6351,2,    104.4,2,  104.600,2,   158.20,2,    38.90,2,    -0.01,2,     2.71,2,  -999.00,9, -999.000,9, -999.000,9,   2356.5,2,   2431.5,2
           NA,     P10,     90,   1,       3,     -99,  2,19931108,1800,  34.9305,  141.2055,  3150,   2598.2,   1.6409,  34.6461,2,  34.6475,2,    114.6,2,  113.900,2,   157.49,2,    38.22,2,     0.00,2,     2.67,2,  -999.00,9, -999.000,9, -999.000,9,   2350.2,6,   2433.0,2
           NA,     P10,     90,   1,       2,     -99,  2,19931108,1800,  34.9305,  141.2055,  3150,   2883.3,   1.5491,  34.6608,2,  34.6618,2,    127.8,2,  127.300,2,   154.82,2,    37.36,2,    -0.01,2,     2.61,2,  -999.00,9, -999.000,9, -999.000,9,   2342.5,2,   2433.0,6
           NA,     P10,     90,   1,       1,     -99,  2,19931108,1800,  34.9305,  141.2055,  3150,   3344.5,   1.4913,  34.6727,2,  34.6724,2,    138.7,2,  139.100,2,   151.86,2,    36.54,2,    -0.01,2,     2.56,2,     0.00,2,    0.000,2, -999.000,9,   2336.0,2,   2433.6,2