BOTTLE,20210102JOAExport
EXPOCODE,SECT_ID,STNNBR,CASTNO,SAMPNO,BTLNBR,BTLNBR_FLAG_W,DATE,TIME,LATITUDE,LONGITUDE,DEPTH,CTDPRS,CTDTMP,CTDSAL,CTDSAL_FLAG_W,SALNTY,SALNTY_FLAG_W,CTDOXY,CTDOXY_FLAG_W,OXYGEN,OXYGEN_FLAG_W,SILCAT,SILCAT_FLAG_W,NITRAT,NITRAT_FLAG_W,NITRIT,NITRIT_FLAG_W,PHSPHT,PHSPHT_FLAG_W,CFC-11,CFC-11_FLAG_W,CFC-12,CFC-12_FLAG_W,SF6,SF6_FLAG_W,TCARBN,TCARBN_FLAG_W,ALKALI,ALKALI_FLAG_W
,,,,,,,,,,,,DB,ITS-90,PSS-78,,PSS-78,,UMOL/KG,,UMOL/KG,,UMOL/KG,,UMOL/KG,,UMOL/KG,,UMOL/KG,,PMOL/KG,,PMOL/KG,,FMOL/KG,,UMOL/KG,,UMOL/KG
           NA,     P10,     15,   1,      22,     -99,  2,19931014,1915,  -0.7472,  145.9278,  2423,      5.9,  28.0970,  34.3528,2,  34.3453,2,    207.3,2,  212.400,2,     0.71,2,     0.01,2,    -0.01,2,     0.09,2,  -999.00,9, -999.000,9, -999.000,9,   1911.2,2,   2264.3,2
           NA,     P10,     15,   1,      20,     -99,  2,19931014,1915,  -0.7472,  145.9278,  2423,     97.2,  24.2756,  34.8747,2,  34.8842,2,    172.8,2,  172.000,2,     2.66,2,     3.69,2,     0.07,2,     0.40,2,  -999.00,9, -999.000,9, -999.000,9,   1995.9,2,   2300.6,2
           NA,     P10,     15,   1,      19,     -99,  2,19931014,1915,  -0.7472,  145.9278,  2423,    156.7,  19.7526,  35.1886,2,  35.1757,2,    141.4,2,  141.000,2,     6.70,2,    10.30,2,     0.01,2,     0.83,2,  -999.00,9, -999.000,9, -999.000,9,   2077.1,2,   2316.4,2
           NA,     P10,     15,   1,      18,     -99,  2,19931014,1915,  -0.7472,  145.9278,  2423,    196.0,  17.7343,  35.3430,2,  35.3371,2,    146.6,2,  144.600,2,     5.59,2,    11.58,2,     0.00,2,     0.93,2,  -999.00,9, -999.000,9, -999.000,9,   2100.2,6,   2331.1,6
           NA,     P10,     15,   1,      17,     -99,  2,19931014,1915,  -0.7472,  145.9278,  2423,    275.7,  12.6680,  34.9729,2,  34.9749,2,    148.0,2,  152.800,2,    10.91,2,    17.83,2,    -0.01,2,     1.33,2,  -999.00,9, -999.000,9, -999.000,9,   2136.9,2,   2316.3,2
           NA,     P10,     15,   1,      16,     -99,  2,19931014,1915,  -0.7472,  145.9278,  2423,    385.9,  10.0137,  34.7258,2,  34.7306,2,    107.2,2,  106.400,2,    24.09,2,    27.33,2,     0.00,2,     1.93,2,  -999.00,9, -999.000,9, -999.000,9,   2194.0,2,   2322.1,2
           NA,     P10,     15,   1,      15,     -99,  2,19931014,1915,  -0.7472,  145.9278,  2423,    466.0,   8.7299,  34.6426,2,  34.6424,2,    132.6,2,  131.900,2,    25.40,2,    27.39,2,     0.00,2,     1.93,2,  -999.00,9, -999.000,9, -999.000,9,   2190.0,2,   2313.2,2
           NA,     P10,     15,   1,      14,     -99,  2,19931014,1915,  -0.7472,  145.9278,  2423,    526.0,   7.8068,  34.5961,2,  34.5954,2,    129.5,2,  130.700,2,    28.95,2,    30.07,2,     0.00,2,     2.08,2,  -999.00,9, -999.000,9, -999.000,9,   2202.5,2,   2315.5,2
           NA,     P10,     15,   1,      13,     -99,  2,19931014,1915,  -0.7472,  145.9278,  2423,    596.8,   6.7953,  34.5399,2,  34.5408,2,    138.1,2,  142.000,2,    36.19,2,    30.40,2,     0.00,2,     2.15,2,  -999.00,9, -999.000,9, -999.000,9,   2200.8,2,   2334.7,2
           NA,     P10,     15,   1,      12,     -99,  2,19931014,1915,  -0.7472,  145.9278,  2423,    697.5,   6.0419,  34.5352,2,  34.5375,2,    114.6,2,  116.000,2,    49.85,2,    34.31,2,     0.00,2,     2.41,2,  -999.00,9, -999.000,9, -999.000,9,   2239.8,2,   2338.9,2
           NA,     P10,     15,   1,      10,     -99,  2,19931014,1915,  -0.7472,  145.9278,  2423,    798.8,   5.3275,  34.5352,2,  34.5340,2,    103.4,2,  110.300,2,    62.22,2,    35.91,2,     0.00,2,     2.54,2,  -999.00,9, -999.000,9, -999.000,9,   2259.0,2,   2342.8,2
           NA,     P10,     15,   1,       9,     -99,  2,19931014,1915,  -0.7472,  145.9278,  2423,    879.2,   4.8210,  34.5415,2,  34.5438,2,    108.1,2,  104.000,2,    72.34,2,    36.96,2,     0.00,2,     2.64,2,  -999.00,9, -999.000,9, -999.000,9,   2272.1,2,   2354.5,2
           NA,     P10,     15,   1,       8,     -99,  2,19931014,1915,  -0.7472,  145.9278,  2423,    978.8,   4.5754,  34.5542,2,  34.5532,2,     90.9,2,   91.800,2,    81.50,2,    38.32,2,     0.00,2,     2.74,2,  -999.00,9, -999.000,9, -999.000,9,   2290.8,2,   2356.7,2
           NA,     P10,     15,   1,       7,     -99,  2,19931014,1915,  -0.7472,  145.9278,  2423,   1191.8,   3.9061,  34.5688,2,-999.0000,3,    102.3,2,  103.500,2,    94.02,2,    37.67,2,     0.01,2,     2.70,2,  -999.00,9, -999.000,9, -999.000,9,   2299.8,2,   2368.6,2
           NA,     P10,     15,   1,       6,     -99,  2,19931014,1915,  -0.7472,  145.9278,  2423,   1394.4,   3.1919,  34.5945,2,  34.5941,2,    104.3,2,  106.400,2,   110.40,2,    38.20,2,     0.01,2,     2.72,2,  -999.00,9, -999.000,9, -999.000,9,   2316.1,2,   -999.0,3
           NA,     P10,     15,   1,       5,     -99,  2,19931014,1915,  -0.7472,  145.9278,  2423,   1596.6,   2.7532,  34.6134,2,  34.6147,2,    111.1,2,  112.500,2,   119.87,2,    38.01,2,     0.01,2,     2.71,2,  -999.00,9, -999.000,9, -999.000,9,   2324.2,2,   2407.7,2
           NA,     P10,     15,   1,       4,     -99,  2,19931014,1915,  -0.7472,  145.9278,  2423,   1799.6,   2.5184,  34.6245,2,  34.6275,2,    113.7,2,  114.500,2,   125.96,2,    37.93,2,     0.01,2,     2.71,2,  -999.00,9, -999.000,9, -999.000,9,   2329.7,6,   2415.9,6
           NA,     P10,     15,   1,       3,     -99,  2,19931014,1915,  -0.7472,  145.9278,  2423,   2002.2,   2.3165,  34.6348,2,  34.6355,2,    118.3,2,  118.300,2,   130.30,2,    37.76,2,     0.01,2,     2.67,2,  -999.00,9, -999.000,9, -999.000,9,   2332.6,2,   -999.0,3
           NA,     P10,     15,   1,       2,     -99,  2,19931014,1915,  -0.7472,  145.9278,  2423,   2205.6,   2.0925,  34.6465,2,  34.6471,2,    122.8,2,  123.300,2,   135.28,2,    37.53,2,     0.01,2,     2.65,2,  -999.00,9, -999.000,9, -999.000,9,   2334.9,2,   2419.7,2
           NA,     P10,     15,   1,       1,     -99,  2,19931014,1915,  -0.7472,  145.9278,  2423,   2435.7,   1.9087,  34.6555,2,  34.6544,2,    126.2,2,  128.100,2,   138.88,2,    37.24,2,     0.00,2,     2.67,2,  -999.00,9, -999.000,9, -999.000,9,   2335.1,2,   2427.4,2
           NA,     P10,     16,   3,      28,     -99,  2,19931015,0627,  -0.4722,  146.0055,  3433,      7.7,  28.4787,  34.3536,2,  34.3537,2,    225.0,2,  212.100,2,     1.10,2,    -0.02,2,     0.01,2,     0.09,2,  -999.00,4,    0.968,2, -999.000,9,   -999.0,9,   -999.0,9
           NA,     P10,     16,   3,      27,     -99,  2,19931015,0627,  -0.4722,  146.0055,  3433,     47.4,  27.3317,  34.5196,2,  34.5536,2,    207.3,2,  213.600,2,     1.11,2,     0.00,2,     0.00,2,     0.11,2,  -999.00,4, -999.000,4, -999.000,9,   -999.0,9,   -999.0,9
           NA,     P10,     16,   3,      26,     -99,  2,19931015,0627,  -0.4722,  146.0055,  3433,     97.2,  25.0236,  34.8033,2,  34.8065,2,    183.9,2,  187.000,2,     2.25,2,     2.60,2,     0.14,2,     0.31,2,  -999.00,4,    1.005,2, -999.000,9,   -999.0,9,   -999.0,9
           NA,     P10,     16,   3,      25,     -99,  2,19931015,0627,  -0.4722,  146.0055,  3433,    146.3,  21.5582,  35.2387,2,  35.2383,2,    146.4,2,  147.000,2,     4.83,2,     8.36,2,     0.02,2,     0.69,2,  -999.00,4,    0.863,2, -999.000,9,   -999.0,9,   -999.0,9
           NA,     P10,     16,   3,      24,     -99,  2,19931015,0627,  -0.4722,  146.0055,  3433,    196.1,  18.3359,  35.3561,2,  35.3481,2,    147.6,2,  146.100,2,     5.49,2,    11.02,2,     0.01,2,     0.90,2,  -999.00,4,    0.810,2, -999.000,9,   -999.0,9,   -999.0,9
           NA,     P10,     16,   3,      23,     -99,  2,19931015,0627,  -0.4722,  146.0055,  3433,    266.2,  12.4144,  34.9191,2,  34.9172,2,    151.1,2,  141.500,2,    14.99,2,    19.35,2,     0.01,2,     1.43,2,  -999.00,4,    0.472,2, -999.000,9,   -999.0,9,   -999.0,9
           NA,     P10,     16,   3,      22,     -99,  2,19931015,0627,  -0.4722,  146.0055,  3433,    321.5,  11.0988,  34.8119,2,  34.8067,2,    129.4,2,  127.600,2,    19.18,2,    23.07,2,     0.00,2,     1.66,2,  -999.00,4,    0.332,6, -999.000,9,   -999.0,9,   -999.0,9
           NA,     P10,     16,   3,      21,     -99,  2,19931015,0627,  -0.4722,  146.0055,  3433,    375.9,   9.7114,  34.7069,2,  34.7055,2,    104.7,2,  109.100,2,    24.82,2,    27.57,2,     0.00,2,     1.94,2,  -999.00,4,    0.181,2, -999.000,9,   -999.0,9,   -999.0,9
           NA,     P10,     16,   3,      20,     -99,  2,19931015,0627,  -0.4722,  146.0055,  3433,    495.5,   7.9081,  34.5997,2,  34.5889,2,    138.3,2,  137.300,2,    29.34,2,    28.50,2,    -0.01,2,     2.00,2,  -999.00,4,    0.124,2, -999.000,9,   -999.0,9,   -999.0,9
           NA,     P10,     16,   3,      19,     -99,  2,19931015,0627,  -0.4722,  146.0055,  3433,    596.6,   6.6310,  34.5348,2,  34.5340,2,    141.2,2,  140.700,2,    38.04,2,    30.65,2,    -0.01,2,     2.17,2,  -999.00,4,    0.066,2, -999.000,9,   -999.0,9,   -999.0,9
           NA,     P10,     16,   3,      18,     -99,  2,19931015,0627,  -0.4722,  146.0055,  3433,    695.0,   6.1331,  34.5364,2,  34.5369,2,    106.6,2,  114.300,2,    48.99,2,    34.04,2,    -0.01,2,     2.41,2,  -999.00,4,    0.024,2, -999.000,9,   -999.0,9,   -999.0,9
           NA,     P10,     16,   3,      17,     -99,  2,19931015,0627,  -0.4722,  146.0055,  3433,    795.6,   5.3477,  34.5413,2,  34.5418,2,     98.6,2,   96.800,2,    65.41,2,    37.02,2,    -0.01,2,     2.65,2,  -999.00,4,    0.006,2, -999.000,9,   -999.0,9,   -999.0,9
           NA,     P10,     16,   3,      16,     -99,  2,19931015,0627,  -0.4722,  146.0055,  3433,    871.1,   4.8976,  34.5450,2,  34.5434,2,    109.4,2,   99.100,2,    73.14,2,    37.38,2,     0.00,2,     2.68,2,  -999.00,4, -999.000,4, -999.000,9,   -999.0,9,   -999.0,9
           NA,     P10,     16,   3,      15,     -99,  2,19931015,0627,  -0.4722,  146.0055,  3433,    997.5,   4.5219,  34.5548,2,  34.5538,2,     94.0,2,   93.000,2,    83.29,2,    38.29,2,     0.01,2,     2.74,2,  -999.00,4,    0.000,2, -999.000,9,   -999.0,9,   -999.0,9
           NA,     P10,     16,   3,      14,     -99,  2,19931015,0627,  -0.4722,  146.0055,  3433,   1196.6,   3.7502,  34.5743,2,  34.5721,2,   -999.0,3,  102.800,2,    97.94,2,  -999.00,3,     0.01,2,  -999.00,3,  -999.00,4,   -0.001,2, -999.000,9,   -999.0,9,   -999.0,9
           NA,     P10,     16,   3,      13,     -99,  2,19931015,0627,  -0.4722,  146.0055,  3433,   1296.3,   3.5178,  34.5843,2,  34.5838,2,   -999.0,3,   95.400,2,   105.83,2,    38.90,2,     0.00,2,     2.80,2,  -999.00,9, -999.000,9, -999.000,9,   -999.0,9,   -999.0,9
           NA,     P10,     16,   3,      12,     -99,  2,19931015,0627,  -0.4722,  146.0055,  3433,   1397.3,   3.3031,  34.5916,2,  34.5901,2,   -999.0,3,  101.900,2,   109.23,2,    38.39,2,     0.00,2,     2.76,2,  -999.00,4, -999.000,3, -999.000,9,   -999.0,9,   -999.0,9
           NA,     P10,     16,   3,      11,     -99,  2,19931015,0627,  -0.4722,  146.0055,  3433,   1498.3,   3.0260,  34.5998,2,  34.5999,2,    111.7,2,  110.300,2,   113.74,2,    37.95,2,    -0.01,2,     2.72,2,  -999.00,9, -999.000,9, -999.000,9,   -999.0,9,   -999.0,9
           NA,     P10,     16,   3,      10,     -99,  2,19931015,0627,  -0.4722,  146.0055,  3433,   1594.1,   2.8079,  34.6102,2,  34.6094,2,   -999.0,3,  109.700,2,   119.87,2,    38.05,2,    -0.01,2,     2.73,2,  -999.00,4, -999.000,4, -999.000,9,   -999.0,9,   -999.0,9
           NA,     P10,     16,   3,       9,     -99,  2,19931015,0627,  -0.4722,  146.0055,  3433,   1797.0,   2.5358,  34.6237,2,  34.6239,2,   -999.0,3,  112.500,2,   126.64,2,    37.96,2,    -0.01,2,     2.72,2,  -999.00,9, -999.000,9, -999.000,9,   -999.0,9,   -999.0,9
           NA,     P10,     16,   3,       8,     -99,  2,19931015,0627,  -0.4722,  146.0055,  3433,   1989.8,   2.3925,  34.6312,2,  34.6306,2,    118.9,2,  117.200,2,   128.90,2,    37.64,2,    -0.01,2,     2.70,2,  -999.00,4,    0.004,2, -999.000,9,   -999.0,9,   -999.0,9
           NA,     P10,     16,   3,       7,     -99,  2,19931015,0627,  -0.4722,  146.0055,  3433,   2197.9,   2.2058,  34.6415,2,  34.6400,2,    122.5,2,  120.700,2,   133.42,2,    37.47,2,    -0.02,2,     2.68,2,  -999.00,9, -999.000,9, -999.000,9,   -999.0,9,   -999.0,9
           NA,     P10,     16,   3,       6,     -99,  2,19931015,0627,  -0.4722,  146.0055,  3433,   2395.8,   1.9903,  34.6516,2,-999.0000,4,    126.9,2,  125.600,2,   138.26,2,    37.25,2,    -0.02,2,     2.65,2,  -999.00,4,    0.000,2, -999.000,9,   -999.0,9,   -999.0,9
           NA,     P10,     16,   3,       5,     -99,  2,19931015,0627,  -0.4722,  146.0055,  3433,   2593.8,   1.7639,  34.6631,2,  34.6648,2,    134.9,2,  133.600,2,   141.17,2,    36.74,2,    -0.02,2,     2.62,2,  -999.00,4,    0.001,2, -999.000,9,   -999.0,9,   -999.0,9
           NA,     P10,     16,   3,       4,     -99,  2,19931015,0627,  -0.4722,  146.0055,  3433,   2796.5,   1.6842,  34.6678,2,-999.0000,4,    139.3,2, -999.000,4,   142.31,2,  -999.00,3,     0.00,2,  -999.00,3,  -999.00,9, -999.000,9, -999.000,9,   -999.0,9,   -999.0,9
           NA,     P10,     16,   3,       3,     -99,  2,19931015,0627,  -0.4722,  146.0055,  3433,   3000.7,   1.6273,  34.6723,2,  34.6711,2,    143.5,2,  141.900,2,   142.32,2,    36.32,2,     0.00,2,     2.57,2,  -999.00,4,    0.001,2, -999.000,9,   -999.0,9,   -999.0,9
           NA,     P10,     16,   3,       2,     -99,  2,19931015,0627,  -0.4722,  146.0055,  3433,   3257.0,   1.6005,  34.6750,2,-999.0000,4,   -999.0,3,  144.200,2,   142.17,2,    36.14,2,    -0.01,2,     2.56,2,  -999.00,4,    0.003,2, -999.000,9,   -999.0,9,   -999.0,9
           NA,     P10,     16,   3,       1,     -99,  2,19931015,0627,  -0.4722,  146.0055,  3433,   3561.8,   1.6074,  34.6770,2,  34.6760,2,    146.1,2,  145.800,2,   141.99,2,    36.07,2,     0.00,2,     2.55,2,  -999.00,4,    0.002,2, -999.000,9,   -999.0,9,   -999.0,9