BOTTLE,20210102JOAExport
EXPOCODE,SECT_ID,STNNBR,CASTNO,SAMPNO,BTLNBR,BTLNBR_FLAG_W,DATE,TIME,LATITUDE,LONGITUDE,DEPTH,CTDPRS,CTDTMP,CTDSAL,CTDSAL_FLAG_W,SALNTY,SALNTY_FLAG_W,CTDOXY,CTDOXY_FLAG_W,OXYGEN,OXYGEN_FLAG_W,SILCAT,SILCAT_FLAG_W,NITRAT,NITRAT_FLAG_W,NITRIT,NITRIT_FLAG_W,PHSPHT,PHSPHT_FLAG_W,CFC-11,CFC-11_FLAG_W,CFC-12,CFC-12_FLAG_W,SF6,SF6_FLAG_W,TCARBN,TCARBN_FLAG_W,ALKALI,ALKALI_FLAG_W
,,,,,,,,,,,,DB,ITS-90,PSS-78,,PSS-78,,UMOL/KG,,UMOL/KG,,UMOL/KG,,UMOL/KG,,UMOL/KG,,UMOL/KG,,PMOL/KG,,PMOL/KG,,FMOL/KG,,UMOL/KG,,UMOL/KG
           NA,     P10,     64,   1,      36,     -99,  2,19931030,0554,  22.5000,  149.3333,  5709,      8.7,  27.6841,  34.9999,2,  35.0022,2,    199.9,2,  214.800,2,     0.62,2,    -0.01,2,     0.01,2,     0.01,2,     1.68,2, -999.000,4, -999.000,9,   -999.0,9,   -999.0,9
           NA,     P10,     64,   1,      35,     -99,  2,19931030,0554,  22.5000,  149.3333,  5709,     23.8,  27.6877,  34.9994,2,  35.0018,2,    198.9,2,  215.800,2,     0.98,2,    -0.01,2,     0.01,2,     0.01,2,  -999.00,9, -999.000,9, -999.000,9,   -999.0,9,   -999.0,9
           NA,     P10,     64,   1,      34,     -99,  2,19931030,0554,  22.5000,  149.3333,  5709,     48.5,  27.6987,  35.0034,2,  35.0042,2,    196.8,2,  218.100,2,     0.80,2,    -0.01,2,     0.01,2,     0.02,2,     1.79,2,    0.997,2, -999.000,9,   -999.0,9,   -999.0,9
           NA,     P10,     64,   1,      33,     -99,  3,19931030,0554,  22.5000,  149.3333,  5709,     98.2,  23.5563,  35.0224,2,  35.0235,2,    218.1,2,  221.400,2,     1.34,2,    -0.01,2,     0.01,2,     0.03,2,     2.00,2,    1.072,2, -999.000,9,   -999.0,9,   -999.0,9
           NA,     P10,     64,   1,      32,     -99,  2,19931030,0554,  22.5000,  149.3333,  5709,    148.8,  19.3974,  34.9306,2,  34.9269,2,    204.6,2,  212.700,2,     2.22,2,     0.78,2,     0.14,2,     0.14,2,     2.38,2,    1.266,2, -999.000,9,   -999.0,9,   -999.0,9
           NA,     P10,     64,   1,      31,     -99,  2,19931030,0554,  22.5000,  149.3333,  5709,    197.2,  17.8829,  34.8378,2,  34.8374,2,    192.6,2,  198.600,2,     3.28,2,     3.89,2,     0.02,2,     0.32,2,     2.46,2,    1.300,2, -999.000,9,   -999.0,9,   -999.0,9
           NA,     P10,     64,   1,      30,     -99,  2,19931030,0554,  22.5000,  149.3333,  5709,    246.3,  16.9128,  34.7729,2,  34.7711,2,    205.1,2,  204.200,2,     4.16,2,     4.96,2,     0.01,2,     0.39,2,     2.48,2,    1.289,2, -999.000,9,   -999.0,9,   -999.0,9
           NA,     P10,     64,   1,      29,     -99,  2,19931030,0554,  22.5000,  149.3333,  5709,    296.5,  16.3224,  34.7251,2,  34.7251,2,    200.3,2,  201.000,2,     5.39,2,     6.14,2,     0.01,2,     0.47,2,     2.49,6,    1.279,6, -999.000,9,   -999.0,9,   -999.0,9
           NA,     P10,     64,   1,      28,     -99,  2,19931030,0554,  22.5000,  149.3333,  5709,    346.2,  15.0854,  34.6186,2,  34.6180,2,    195.3,2,  194.000,2,     8.19,2,     8.46,2,     0.01,2,     0.64,2,     2.44,2,    1.261,2, -999.000,9,   -999.0,9,   -999.0,9
           NA,     P10,     64,   1,      27,     -99,  2,19931030,0554,  22.5000,  149.3333,  5709,    394.7,  13.7306,  34.5015,2,  34.5012,2,    189.0,2,  189.400,2,    11.54,2,    11.00,2,     0.00,2,     0.82,2,     2.24,2,    1.126,2, -999.000,9,   -999.0,9,   -999.0,9
           NA,     P10,     64,   1,      26,     -99,  2,19931030,0554,  22.5000,  149.3333,  5709,    493.5,  10.7098,  34.2758,2,  34.2755,2,    182.9,2,  182.600,2,    22.04,2,    16.76,2,     0.00,2,     1.23,2,     2.05,2,    1.017,2, -999.000,9,   -999.0,9,   -999.0,9
           NA,     P10,     64,   1,      25,     -99,  2,19931030,0554,  22.5000,  149.3333,  5709,    595.5,   7.7710,  34.1187,2,  34.1188,2,    141.1,2,  144.600,2,    43.40,2,    25.62,2,     0.01,2,     1.87,2,     1.33,2,    0.621,2, -999.000,9,   -999.0,9,   -999.0,9
           NA,     P10,     64,   1,      24,     -99,  2,19931030,0554,  22.5000,  149.3333,  5709,    696.7,   5.9345,  34.1045,2,  34.1039,2,    105.8,2,  102.300,2,    67.37,2,    32.67,2,     0.01,2,     2.38,2,     0.77,2,    0.362,2, -999.000,9,   -999.0,9,   -999.0,9
           NA,     P10,     64,   1,      23,     -99,  3,19931030,0554,  22.5000,  149.3333,  5709,    800.4,   4.9064,  34.2144,2,-999.0000,3,     64.8,2,   67.900,2,    85.59,2,    36.45,2,     0.01,2,     2.65,2,  -999.00,4, -999.000,4, -999.000,9,   -999.0,9,   -999.0,9
           NA,     P10,     64,   1,      22,     -99,  2,19931030,0554,  22.5000,  149.3333,  5709,    897.4,   4.2031,  34.2976,2,  34.2961,2,     51.6,2,   53.000,2,   105.88,2,    39.79,2,     0.00,2,     2.86,2,     0.11,2,    0.045,2, -999.000,9,   -999.0,9,   -999.0,9
           NA,     P10,     64,   1,      21,     -99,  2,19931030,0554,  22.5000,  149.3333,  5709,   1004.3,   3.7371,  34.3700,2,  34.3696,2,     50.5,2,   50.000,2,   117.60,2,    40.58,2,     0.00,2,     2.92,2,  -999.00,4,    0.024,2, -999.000,9,   -999.0,9,   -999.0,9
           NA,     P10,     64,   1,      20,     -99,  2,19931030,0554,  22.5000,  149.3333,  5709,   1204.6,   3.1343,  34.4584,2,  34.4578,2,     56.5,2,   56.200,2,   131.95,2,    40.91,2,     0.00,2,     2.93,2,     0.01,2,    0.001,2, -999.000,9,   -999.0,9,   -999.0,9
           NA,     P10,     64,   1,      19,     -99,  2,19931030,0554,  22.5000,  149.3333,  5709,   1370.4,   2.7839,  34.5100,2,  34.5104,2,     67.8,2,   66.400,2,   138.08,2,    40.28,2,     0.00,2,     2.88,2,  -999.00,9, -999.000,9, -999.000,9,   -999.0,9,   -999.0,9
           NA,     P10,     64,   1,      18,     -99,  2,19931030,0554,  22.5000,  149.3333,  5709,   1597.4,   2.3873,  34.5649,2,  34.5658,2,     84.1,2,   83.500,2,   143.15,2,    39.43,2,     0.00,2,     2.81,2,  -999.00,9, -999.000,9, -999.000,9,   -999.0,9,   -999.0,9
           NA,     P10,     64,   1,      17,     -99,  2,19931030,0554,  22.5000,  149.3333,  5709,   1797.2,   2.0888,  34.5972,2,  34.5978,2,     94.1,2,   94.900,2,   147.53,2,    38.91,2,     0.00,2,     2.76,2,  -999.00,9, -999.000,9, -999.000,9,   -999.0,9,   -999.0,9
           NA,     P10,     64,   1,      16,     -99,  2,19931030,0554,  22.5000,  149.3333,  5709,   1997.7,   1.9385,  34.6208,2,  34.6206,2,    105.8,2,  107.300,2,   147.89,2,    38.18,2,     0.00,2,     2.71,2,  -999.00,9, -999.000,9, -999.000,9,   -999.0,9,   -999.0,9
           NA,     P10,     64,   1,      15,     -99,  2,19931030,0554,  22.5000,  149.3333,  5709,   2241.5,   1.7857,  34.6339,2,  34.6339,2,    110.7,2,  111.200,2,   150.52,2,    37.88,2,     0.00,2,     2.69,2,  -999.00,9, -999.000,9, -999.000,9,   -999.0,9,   -999.0,9
           NA,     P10,     64,   1,      14,     -99,  2,19931030,0554,  22.5000,  149.3333,  5709,   2492.3,   1.6771,  34.6490,2,  34.6498,2,    121.8,2,  122.500,2,   150.18,2,    37.37,2,     0.00,2,     2.64,2,  -999.00,9, -999.000,9, -999.000,9,   -999.0,9,   -999.0,9
           NA,     P10,     64,   1,      13,     -99,  2,19931030,0554,  22.5000,  149.3333,  5709,   2747.9,   1.6168,  34.6575,2,  34.6581,2,    128.3,2,  128.700,2,   149.84,2,    36.97,2,     0.00,2,     2.62,2,  -999.00,9, -999.000,9, -999.000,9,   -999.0,9,   -999.0,9
           NA,     P10,     64,   1,      12,     -99,  2,19931030,0554,  22.5000,  149.3333,  5709,   2992.9,   1.5598,  34.6672,2,  34.6673,2,    136.5,2,  136.300,2,   148.97,2,    36.63,2,     0.00,2,     2.57,2,    -0.00,2,    0.001,2, -999.000,9,   -999.0,9,   -999.0,9
           NA,     P10,     64,   1,      11,     -99,  2,19931030,0554,  22.5000,  149.3333,  5709,   3238.3,   1.5300,  34.6718,2,  34.6724,2,    141.2,2,  141.100,2,   148.28,2,    36.29,2,     0.00,2,     2.55,2,  -999.00,9, -999.000,9, -999.000,9,   -999.0,9,   -999.0,9
           NA,     P10,     64,   1,      10,     -99,  2,19931030,0554,  22.5000,  149.3333,  5709,   3497.6,   1.4973,  34.6765,2,  34.6791,2,    147.4,2,  148.000,2,   146.36,2,    35.83,2,     0.00,2,     2.52,2,  -999.00,9, -999.000,9, -999.000,9,   -999.0,9,   -999.0,9
           NA,     P10,     64,   1,       9,     -99,  2,19931030,0554,  22.5000,  149.3333,  5709,   3750.3,   1.4740,  34.6809,2,  34.6799,2,    152.3,2, -999.000,3,   145.84,2,    35.66,2,     0.00,2,     2.51,2,  -999.00,9, -999.000,9, -999.000,9,   -999.0,9,   -999.0,9
           NA,     P10,     64,   1,       8,     -99,  2,19931030,0554,  22.5000,  149.3333,  5709,   4003.8,   1.4673,  34.6837,2,  34.6846,2,    156.1,2,  155.200,2,   143.93,2,    35.25,2,     0.00,2,     2.49,2,  -999.00,9, -999.000,9, -999.000,9,   -999.0,9,   -999.0,9
           NA,     P10,     64,   1,       7,     -99,  2,19931030,0554,  22.5000,  149.3333,  5709,   4243.7,   1.4553,  34.6867,2,  34.6874,2,    160.6,2,  159.800,2,   141.50,2,    34.91,2,     0.00,2,     2.46,2,  -999.00,9, -999.000,9, -999.000,9,   -999.0,9,   -999.0,9
           NA,     P10,     64,   1,       6,     -99,  2,19931030,0554,  22.5000,  149.3333,  5709,   4492.6,   1.4568,  34.6889,2,  34.6897,2,    164.4,2,  163.600,2,   139.75,2,    34.69,2,    -0.01,2,     2.44,2,  -999.00,9, -999.000,9, -999.000,9,   -999.0,9,   -999.0,9
           NA,     P10,     64,   1,       5,     -99,  2,19931030,0554,  22.5000,  149.3333,  5709,   4748.3,   1.4672,  34.6909,2,  34.6915,2,    167.0,2,  166.600,2,   137.83,2,    34.62,2,     0.00,2,     2.42,2,  -999.00,9, -999.000,9, -999.000,9,   -999.0,9,   -999.0,9
           NA,     P10,     64,   1,       4,     -99,  2,19931030,0554,  22.5000,  149.3333,  5709,   4992.0,   1.4761,  34.6926,2,  34.6945,2,    169.7,2,  169.600,2,   136.27,2,    34.22,2,     0.00,2,     2.42,2,  -999.00,4,   -0.002,2, -999.000,9,   -999.0,9,   -999.0,9
           NA,     P10,     64,   1,       3,     -99,  2,19931030,0554,  22.5000,  149.3333,  5709,   5243.1,   1.4929,  34.6937,2,  34.6939,2,    172.2,2,  171.600,2,   135.05,2,    34.10,2,     0.00,2,     2.39,2,  -999.00,9, -999.000,9, -999.000,9,   -999.0,9,   -999.0,9
           NA,     P10,     64,   1,       2,     -99,  2,19931030,0554,  22.5000,  149.3333,  5709,   5489.8,   1.5012,  34.6959,2,  34.6968,2,    176.0,2,  175.100,2,   132.62,2,    33.83,2,    -0.01,2,     2.37,2,  -999.00,4,   -0.001,2, -999.000,9,   -999.0,9,   -999.0,9
           NA,     P10,     64,   1,       1,     -99,  2,19931030,0554,  22.5000,  149.3333,  5709,   5811.9,   1.5285,  34.6965,2,  34.6982,2,    178.0,2,  176.600,2,   131.10,2,    33.59,2,     0.00,2,     2.35,2,     0.00,2,    0.001,2, -999.000,9,   -999.0,9,   -999.0,9