BOTTLE,20210102JOAExport
# Exported from JOA (5.5.0 Final September 29th, 2020) on 2021/07/02 09:01:39
#BOTTLE,20030220WHPSIOdm,,,,,,,,,,,,,,,,,,,,,,,,,,,,,,,,,,,,,,
#code : jjward hyd_to_exchange.pl ,,,,,,,,,,,,,,,,,,,,,,,,,,,,,,,,,,,,,,,
#original files copied from HTML directory: 20030220,,,,,,,,,,,,,,,,,,,,,,,,,,,,,,,,,,,,,,,
#original HYD file: p10hy.txt   Thu Feb 20 09:20:29 2003,,,,,,,,,,,,,,,,,,,,,,,,,,,,,,,,,,,,,,,
#original SUM file: p10su.txt   Wed Jun 27 10:18:00 2001,,,,,,,,,,,,,,,,,,,,,,,,,,,,,,,,,,,,,,,
EXPOCODE,SECT_ID,STNNBR,CASTNO,SAMPNO,BTLNBR,BTLNBR_FLAG_W,DATE,TIME,LATITUDE,LONGITUDE,DEPTH,CTDPRS,CTDTMP,CTDSAL,CTDSAL_FLAG_W,SALNTY,SALNTY_FLAG_W,CTDOXY,CTDOXY_FLAG_W,OXYGEN,OXYGEN_FLAG_W,SILCAT,SILCAT_FLAG_W,NITRAT,NITRAT_FLAG_W,NITRIT,NITRIT_FLAG_W,PHSPHT,PHSPHT_FLAG_W,CFC-11,CFC-11_FLAG_W,CFC-12,CFC-12_FLAG_W,SF6,SF6_FLAG_W,TCARBN,TCARBN_FLAG_W,ALKALI,ALKALI_FLAG_W
,,,,,,,,,,,,DB,ITS-90,PSS-78,,PSS-78,,UMOL/KG,,UMOL/KG,,UMOL/KG,,UMOL/KG,,UMOL/KG,,UMOL/KG,,PMOL/KG,,PMOL/KG,,FMOL/KG,,UMOL/KG,,UMOL/KG
           NA,     P10,      1,   1,       9,     -99,  2,19931012,1425,  -4.0153,  144.8112,   217,      8.4,  28.1802,  34.5153,2,  34.5182,2,    217.4,2,  207.000,2,     1.16,2,     0.04,2,     0.01,2,     0.06,2,  -999.00,4,    0.986,6, -999.000,9,   1925.4,2,   2271.1,2
           NA,     P10,      1,   1,       8,     -99,  2,19931012,1425,  -4.0153,  144.8112,   217,     28.6,  27.3581,  34.5910,2,  34.6016,2,    215.5,2,  210.100,2,     1.34,2,     0.05,2,     0.01,2,     0.08,2,  -999.00,4, -999.000,4, -999.000,9,   1932.1,2,   2278.6,2
           NA,     P10,      1,   1,       7,     -99,  2,19931012,1425,  -4.0153,  144.8112,   217,     53.3,  26.7736,  34.6662,2,  34.6671,2,    207.0,2,  209.700,2,     1.19,2,     0.00,2,     0.01,2,     0.10,2,  -999.00,4,    1.008,2, -999.000,9,   1936.2,2,   2282.0,2
           NA,     P10,      1,   1,       6,     -99,  2,19931012,1425,  -4.0153,  144.8112,   217,     78.4,  26.1177,  34.7574,2,  34.7571,2,    204.6,2,  205.300,2,     1.20,2,     0.44,2,     0.05,2,     0.15,2,  -999.00,4,    1.008,2, -999.000,9,   1949.1,2,   2283.9,2
           NA,     P10,      1,   1,       5,     -99,  2,19931012,1425,  -4.0153,  144.8112,   217,    102.7,  25.1181,  34.9401,2,  34.9421,2,    192.3,2,  197.100,2,     1.69,2,     1.86,2,     0.10,2,     0.25,2,  -999.00,4,    0.994,6, -999.000,9,   1976.9,2,   2296.2,2
           NA,     P10,      1,   1,       4,     -99,  2,19931012,1425,  -4.0153,  144.8112,   217,    127.0,  22.9598,  35.2994,2,  35.2824,2,    174.1,2,  175.600,2,     2.34,2,     4.66,2,     0.11,2,     0.47,2,  -999.00,4,    1.001,2, -999.000,9,   2025.8,2,   2318.5,2
           NA,     P10,      1,   1,       3,     -99,  2,19931012,1425,  -4.0153,  144.8112,   217,    152.3,  21.9528,  35.3641,2,  35.3628,2,    159.8,2,  166.900,2,     2.83,2,     6.11,2,     0.19,2,     0.58,2,  -999.00,4,    0.939,2, -999.000,9,   2047.9,2,   2323.5,2
           NA,     P10,      1,   1,       2,     -99,  2,19931012,1425,  -4.0153,  144.8112,   217,    177.0,  17.1296,  35.3490,2,  35.3535,2,    153.6,2,  154.700,2,     5.56,2,    11.32,2,     0.17,2,     0.94,2,  -999.00,4,    0.780,2, -999.000,9,   2107.1,2,   2328.9,2
           NA,     P10,      1,   1,       1,     -99,  2,19931012,1425,  -4.0153,  144.8112,   217,    200.2,  16.3835,  35.2938,2,  35.3017,2,    155.0,2,  155.300,2,     6.19,2,    12.39,2,     0.02,2,     1.00,2,  -999.00,4,    0.714,6, -999.000,9,   2113.4,2,   2327.0,2
           NA,     P10,      2,   1,      23,     -99,  2,19931012,1604,  -3.9778,  144.8333,   804,     10.1,  27.6174,  34.5490,2,  34.5474,2,    220.6,2,  209.300,2,     1.31,2,     0.05,2,    -0.01,2,     0.05,2,  -999.00,4,    0.995,2, -999.000,9,   1925.7,2,   2273.8,2
           NA,     P10,      2,   1,      22,     -99,  2,19931012,1604,  -3.9778,  144.8333,   804,     22.4,  27.5314,  34.5653,2,  34.5690,2,    220.4,2,  208.100,2,     1.32,2,     0.05,2,    -0.01,2,     0.06,2,  -999.00,9, -999.000,9, -999.000,9,   1927.1,2,   2273.8,2
           NA,     P10,      2,   1,      21,     -99,  2,19931012,1604,  -3.9778,  144.8333,   804,     50.3,  26.7392,  34.6767,2,  34.6779,2,    221.2,2,  209.200,2,     1.34,2,     0.09,2,     0.00,2,     0.09,2,  -999.00,4,    0.985,2, -999.000,9,   1939.3,2,   2281.7,2
           NA,     P10,      2,   1,      20,     -99,  2,19931012,1604,  -3.9778,  144.8333,   804,     74.4,  26.0494,  34.7634,2,  34.7750,2,    212.1,2,  206.200,2,     1.50,2,     0.69,2,     0.02,2,     0.15,2,  -999.00,9, -999.000,9, -999.000,9,   1951.6,2,   2286.4,2
           NA,     P10,      2,   1,      19,     -99,  2,19931012,1604,  -3.9778,  144.8333,   804,     99.6,  25.1698,  34.9258,2,  34.9303,2,    192.6,2,  196.500,2,     1.68,2,     1.87,2,     0.07,2,     0.23,2,  -999.00,4,    0.994,2, -999.000,9,   1973.7,2,   2296.2,2
           NA,     P10,      2,   1,      18,     -99,  2,19931012,1604,  -3.9778,  144.8333,   804,    149.3,  21.7033,  35.3953,2,  35.4123,2,    157.7,2,  161.100,2,     3.13,2,     7.08,2,     0.05,2,     0.61,2,  -999.00,9, -999.000,9, -999.000,9,   2058.7,2,   2324.7,2
           NA,     P10,      2,   1,      17,     -99,  2,19931012,1604,  -3.9778,  144.8333,   804,    199.3,  17.0418,  35.3607,2,  35.3376,2,    148.2,2,  152.700,2,     5.54,2,    11.66,2,     0.01,2,     0.93,2,  -999.00,9, -999.000,9, -999.000,9,   -999.0,9,   -999.0,9
           NA,     P10,      2,   1,      16,     -99,  3,19931012,1604,  -3.9778,  144.8333,   804,    248.0,  15.7180,  35.2568,2,-999.0000,3,    152.3,2,  155.300,2,     6.52,2,    13.15,2,     0.00,2,     1.02,2,  -999.00,9, -999.000,9, -999.000,9,   2116.4,2,   2321.5,2
           NA,     P10,      2,   1,      15,     -99,  2,19931012,1604,  -3.9778,  144.8333,   804,    303.8,  13.6506,  35.0706,2,  35.0561,2,    153.6,2,  154.400,2,     9.58,2,    16.55,2,     0.01,2,     1.23,2,  -999.00,9, -999.000,9, -999.000,9,   2135.0,2,   2315.7,6
           NA,     P10,      2,   1,      14,     -99,  2,19931012,1604,  -3.9778,  144.8333,   804,    398.6,  10.5370,  34.7986,2,  34.7781,2,    158.7,2,  159.000,2,    15.20,2,    21.48,2,     0.01,2,     1.53,2,  -999.00,4,    0.335,2, -999.000,9,   2157.1,2,   2311.7,2
           NA,     P10,      2,   1,      13,     -99,  2,19931012,1604,  -3.9778,  144.8333,   804,    493.3,   8.3318,  34.6184,2,  34.6172,2,    163.4,2,  164.100,2,    21.48,2,    25.05,2,     0.01,2,     1.75,2,  -999.00,9, -999.000,9, -999.000,9,   2173.8,2,   2311.4,2
           NA,     P10,      2,   1,      12,     -99,  2,19931012,1604,  -3.9778,  144.8333,   804,    593.5,   7.0853,  34.5457,2,  34.5482,2,    155.8,2,  157.000,2,    30.78,2,    28.25,2,     0.00,2,     1.96,2,  -999.00,9, -999.000,9, -999.000,9,   2195.0,2,   -999.0,3
           NA,     P10,      2,   1,      11,     -99,  2,19931012,1604,  -3.9778,  144.8333,   804,    695.2,   6.0064,  34.5137,2,  34.5209,2,    150.2,2,  147.700,2,    43.46,2,    31.14,2,     0.01,2,     2.18,2,  -999.00,9, -999.000,9, -999.000,9,   2220.7,2,   2330.9,2
           NA,     P10,      2,   1,      10,     -99,  2,19931012,1604,  -3.9778,  144.8333,   804,    794.0,   5.3783,  34.5100,2,  34.5139,2,    138.9,2,  142.200,2,    53.56,2,    32.62,2,     0.01,2,     2.29,2,  -999.00,4,    0.042,6, -999.000,9,   2236.5,2,   -999.0,3
           NA,     P10,      3,   1,      16,     -99,  2,19931012,1837,  -3.8888,  144.8917,  1396,      5.3,  28.4421,  34.4038,2,  34.4059,2,    206.3,2,  206.200,2,     0.99,2,     0.02,2,     0.01,2,     0.05,2,  -999.00,4,    0.994,6, -999.000,9,   1917.5,2,   2261.2,2
           NA,     P10,      3,   1,      15,     -99,  2,19931012,1837,  -3.8888,  144.8917,  1396,     50.6,  27.0539,  34.6235,2,  34.6179,2,    214.7,2,  206.300,2,     1.02,2,     0.07,2,     0.01,2,     0.09,2,  -999.00,4,    1.045,2, -999.000,9,   1931.1,6,   2277.9,6
           NA,     P10,      3,   1,      13,     -99,  2,19931012,1837,  -3.8888,  144.8917,  1396,    151.0,  21.0324,  35.4476,2,  35.4594,2,    158.9,2,  154.800,2,     2.97,2,     7.86,2,     0.00,2,     0.67,2,  -999.00,4,    0.895,2, -999.000,9,   2066.6,2,   2332.1,2
           NA,     P10,      3,   1,      12,     -99,  2,19931012,1837,  -3.8888,  144.8917,  1396,    200.7,  17.5878,  35.3925,2,  35.3878,2,    146.6,2,  148.000,2,     5.09,2,    11.43,2,     0.04,2,     0.93,2,  -999.00,4,    0.751,2, -999.000,9,   2103.1,2,   2330.5,2
           NA,     P10,      3,   1,      11,     -99,  2,19931012,1837,  -3.8888,  144.8917,  1396,    250.6,  15.3409,  35.2337,2,  35.2195,2,    150.0,2,  150.300,2,     6.88,2,    13.74,2,     0.01,2,     1.07,2,  -999.00,4,    0.684,2, -999.000,9,   2118.5,2,   2325.3,2
           NA,     P10,      3,   1,      10,     -99,  2,19931012,1837,  -3.8888,  144.8917,  1396,    303.2,  13.0513,  35.0210,2,  35.0226,2,    154.3,2,  156.200,2,     9.65,2,    16.95,2,     0.01,2,     1.28,2,  -999.00,4,    0.525,2, -999.000,9,   2130.1,2,   2314.7,2
           NA,     P10,      3,   1,       9,     -99,  2,19931012,1837,  -3.8888,  144.8917,  1396,    404.8,  10.3644,  34.7783,2,  34.7763,2,    159.4,2,  157.600,2,    14.68,2,    21.49,2,     0.01,2,     1.54,2,  -999.00,4,    0.338,6, -999.000,9,   2152.2,2,   2309.5,2
           NA,     P10,      3,   1,       8,     -99,  2,19931012,1837,  -3.8888,  144.8917,  1396,    504.4,   8.4081,  34.6215,2,  34.6203,2,    163.3,2,  163.300,2,    20.51,2,    25.08,2,     0.00,2,     1.77,2,  -999.00,9, -999.000,9, -999.000,9,   2171.1,2,   -999.0,5
           NA,     P10,      3,   1,       7,     -99,  2,19931012,1837,  -3.8888,  144.8917,  1396,    604.9,   7.0670,  34.5593,2,  34.5571,2,    138.3,2, -999.000,4,    34.74,2,    30.60,2,     0.01,2,     2.15,2,  -999.00,9, -999.000,9, -999.000,9,   2210.7,2,   2318.0,2
           NA,     P10,      3,   1,       6,     -99,  2,19931012,1837,  -3.8888,  144.8917,  1396,    705.9,   6.0233,  34.5128,2,  34.5111,2,    149.3,2,  148.300,2,    42.04,2,    31.18,2,     0.00,2,     2.22,2,  -999.00,9, -999.000,9, -999.000,9,   2215.9,2,   2325.1,2
           NA,     P10,      3,   1,       5,     -99,  2,19931012,1837,  -3.8888,  144.8917,  1396,    805.9,   5.5377,  34.5114,2,  34.5095,2,    143.3,2,  142.000,2,    50.14,2,    32.57,2,     0.00,2,     2.29,2,  -999.00,4,    0.049,2, -999.000,9,   2231.9,2,   2334.7,2
           NA,     P10,      3,   1,       4,     -99,  2,19931012,1837,  -3.8888,  144.8917,  1396,    906.6,   4.9482,  34.5177,2,-999.0000,3,    138.0,2,  136.900,2,    61.16,2,    33.75,2,     0.00,2,     2.37,2,  -999.00,9, -999.000,9, -999.000,9,   2249.3,6,   2351.6,6
           NA,     P10,      3,   1,       3,     -99,  2,19931012,1837,  -3.8888,  144.8917,  1396,   1008.3,   4.4284,  34.5384,2,  34.5384,2,   -999.0,3,  123.200,2,    75.90,2,    35.34,2,     0.00,2,     2.53,2,  -999.00,9, -999.000,9, -999.000,9,   2266.7,2,   2359.6,2
           NA,     P10,      3,   1,       2,     -99,  2,19931012,1837,  -3.8888,  144.8917,  1396,   1210.9,   3.7218,  34.5718,2,  34.5706,2,    111.5,2,  110.500,2,    96.79,2,    37.02,2,     0.00,2,     2.65,2,  -999.00,4,    0.003,2, -999.000,9,   2302.7,2,   2380.1,2
           NA,     P10,      3,   1,       1,     -99,  2,19931012,1837,  -3.8888,  144.8917,  1396,   1381.5,   3.3911,  34.5874,2,  34.5828,2,   -999.0,3,  108.100,2,   106.23,2,    37.46,2,    -0.01,2,     2.69,2,  -999.00,4,    0.007,6, -999.000,9,   2315.0,2,   2391.0,2
           NA,     P10,      4,   1,      19,     -99,  2,19931013,0047,  -3.6167,  145.0125,  1882,     18.0,  28.5948,  34.3355,2,  34.3348,2,    215.8,2,  207.800,2,     1.25,2,     0.25,2,    -0.01,2,     0.03,2,  -999.00,4,    0.980,6, -999.000,9,   -999.0,9,   -999.0,9
           NA,     P10,      4,   1,      18,     -99,  2,19931013,0047,  -3.6167,  145.0125,  1882,     57.5,  26.9694,  34.6320,2,  34.6356,2,    210.4,2,  209.200,2,     0.94,2,     0.30,2,    -0.01,2,     0.07,2,  -999.00,4,    1.034,2, -999.000,9,   -999.0,9,   -999.0,9
           NA,     P10,      4,   1,      17,     -99,  2,19931013,0047,  -3.6167,  145.0125,  1882,    107.3,  25.3985,  35.0222,2,  35.0073,2,    199.2,2,  196.100,2,     1.10,2,     1.15,2,     0.21,2,     0.19,2,  -999.00,4,    1.076,2, -999.000,9,   -999.0,9,   -999.0,9
           NA,     P10,      4,   1,      16,     -99,  2,19931013,0047,  -3.6167,  145.0125,  1882,    156.7,  19.6253,  35.5030,2,  35.4953,2,    154.7,2,  147.300,2,     3.53,2,     9.47,2,     0.01,2,     0.74,2,  -999.00,4,    0.869,2, -999.000,9,   -999.0,9,   -999.0,9
           NA,     P10,      4,   1,      15,     -99,  2,19931013,0047,  -3.6167,  145.0125,  1882,    206.3,  17.4709,  35.3861,2,  35.3760,2,    144.6,2,  147.200,2,     4.84,2,    11.60,2,     0.01,2,     0.90,2,  -999.00,9, -999.000,9, -999.000,9,   -999.0,9,   -999.0,9
           NA,     P10,      4,   1,      14,     -99,  2,19931013,0047,  -3.6167,  145.0125,  1882,    256.0,  15.0596,  35.1990,2,  35.1957,2,    155.3,2,  147.900,2,     7.26,2,    14.65,2,     0.00,2,     1.10,2,  -999.00,4,    0.649,2, -999.000,9,   -999.0,9,   -999.0,9
           NA,     P10,      4,   1,      13,     -99,  2,19931013,0047,  -3.6167,  145.0125,  1882,    304.9,  12.3855,  34.9589,2,  34.9608,2,    159.2,2,  151.600,2,    10.83,2,    18.45,2,     0.00,2,     1.33,2,  -999.00,4,    0.479,2, -999.000,9,   -999.0,9,   -999.0,9
           NA,     P10,      4,   1,      12,     -99,  2,19931013,0047,  -3.6167,  145.0125,  1882,    403.9,   9.5098,  34.7071,2,  34.7081,2,    158.2,2,  158.600,2,    16.97,2,    23.22,2,     0.00,2,     1.62,2,  -999.00,4,    0.283,2, -999.000,9,   -999.0,9,   -999.0,9
           NA,     P10,      4,   1,      11,     -99,  2,19931013,0047,  -3.6167,  145.0125,  1882,    503.8,   8.1720,  34.6035,2,-999.0000,9,    166.2,2,  166.100,2,    21.01,2,    25.26,2,     0.00,2,     1.76,2,  -999.00,9, -999.000,9, -999.000,9,   -999.0,9,   -999.0,9
           NA,     P10,      4,   1,      10,     -99,  2,19931013,0047,  -3.6167,  145.0125,  1882,    603.7,   6.9304,  34.5521,2,  34.5502,2,    162.2,2,  134.000,2,    35.38,2,    30.96,2,     0.01,2,     2.14,2,  -999.00,4,    0.063,2, -999.000,9,   -999.0,9,   -999.0,9
           NA,     P10,      4,   1,       9,     -99,  2,19931013,0047,  -3.6167,  145.0125,  1882,    705.3,   5.9723,  34.5132,2,  34.5105,2,    145.1,2,  144.600,2,    43.29,2,    31.76,2,     0.01,2,     2.20,2,  -999.00,9, -999.000,9, -999.000,9,   -999.0,9,   -999.0,9
           NA,     P10,      4,   1,       8,     -99,  2,19931013,0047,  -3.6167,  145.0125,  1882,    808.4,   5.7245,  34.5264,2,  34.5248,2,    134.2,2,  128.800,2,    51.52,2,    33.45,2,     0.00,2,     2.33,2,  -999.00,4,    0.039,2, -999.000,9,   -999.0,9,   -999.0,9
           NA,     P10,      4,   1,       7,     -99,  2,19931013,0047,  -3.6167,  145.0125,  1882,    908.1,   5.0074,  34.5147,2,  34.5148,2,    138.9,2,  138.100,2,    59.28,2,    33.59,2,     0.01,2,     2.34,2,  -999.00,9, -999.000,9, -999.000,9,   -999.0,9,   -999.0,9
           NA,     P10,      4,   1,       6,     -99,  2,19931013,0047,  -3.6167,  145.0125,  1882,   1008.7,   4.5046,  34.5356,2,  34.5351,2,    126.2,2,  125.000,2,    73.47,2,    35.32,2,     0.01,2,     2.48,2,  -999.00,4, -999.000,4, -999.000,9,   -999.0,9,   -999.0,9
           NA,     P10,      4,   1,       5,     -99,  2,19931013,0047,  -3.6167,  145.0125,  1882,   1212.2,   3.7327,  34.5729,2,  34.5716,2,    109.9,2,  109.300,2,    96.86,2,    37.18,2,     0.01,2,     2.64,2,  -999.00,9, -999.000,9, -999.000,9,   -999.0,9,   -999.0,9
           NA,     P10,      4,   1,       4,     -99,  2,19931013,0047,  -3.6167,  145.0125,  1882,   1413.2,   3.2771,  34.5928,2,  34.5916,2,    107.6,2,  107.300,2,   109.42,2,    37.47,2,     0.02,2,     2.68,2,  -999.00,9, -999.000,9, -999.000,9,   -999.0,9,   -999.0,9
           NA,     P10,      4,   1,       3,     -99,  2,19931013,0047,  -3.6167,  145.0125,  1882,   1615.9,   2.8462,  34.6119,2,  34.6113,2,    108.2,2,  107.500,2,   120.56,2,    37.81,2,     0.02,2,     2.71,2,  -999.00,9, -999.000,9, -999.000,9,   -999.0,9,   -999.0,9
           NA,     P10,      4,   1,       2,     -99,  2,19931013,0047,  -3.6167,  145.0125,  1882,   1817.3,   2.5465,  34.6254,2,  34.6250,2,    109.8,2,  109.100,2,   127.64,2,    37.68,2,     0.03,2,     2.69,2,  -999.00,9, -999.000,9, -999.000,9,   -999.0,9,   -999.0,9
           NA,     P10,      4,   1,       1,     -99,  2,19931013,0047,  -3.6167,  145.0125,  1882,   1873.3,   2.5061,  34.6275,2,  34.6299,2,    107.6,2,  109.100,2,   129.33,2,    37.66,2,     0.01,2,     2.69,2,  -999.00,4,    0.005,6, -999.000,9,   -999.0,9,   -999.0,9