BOTTLE,20210102JOAExport
EXPOCODE,SECT_ID,STNNBR,CASTNO,SAMPNO,BTLNBR,BTLNBR_FLAG_W,DATE,TIME,LATITUDE,LONGITUDE,DEPTH,CTDPRS,CTDTMP,CTDSAL,CTDSAL_FLAG_W,SALNTY,SALNTY_FLAG_W,CTDOXY,CTDOXY_FLAG_W,OXYGEN,OXYGEN_FLAG_W,SILCAT,SILCAT_FLAG_W,NITRAT,NITRAT_FLAG_W,NITRIT,NITRIT_FLAG_W,PHSPHT,PHSPHT_FLAG_W,CFC-11,CFC-11_FLAG_W,CFC-12,CFC-12_FLAG_W,SF6,SF6_FLAG_W,TCARBN,TCARBN_FLAG_W,ALKALI,ALKALI_FLAG_W
,,,,,,,,,,,,DB,ITS-90,PSS-78,,PSS-78,,UMOL/KG,,UMOL/KG,,UMOL/KG,,UMOL/KG,,UMOL/KG,,UMOL/KG,,PMOL/KG,,PMOL/KG,,FMOL/KG,,UMOL/KG,,UMOL/KG
           NA,     P10,     51,   1,      36,     -99,  2,19931025,1049,  13.8362,  149.3278,  5990,     17.5,  29.1696,  34.6286,2,  34.6159,2,    192.0,2,  216.900,2,     0.95,2,     0.00,2,     0.01,2,     0.12,2,     1.71,2,    0.934,2, -999.000,9,   -999.0,9,   -999.0,9
           NA,     P10,     51,   1,      35,     -99,  3,19931025,1049,  13.8362,  149.3278,  5990,     46.8,  29.1656,  34.6316,2,  34.6304,2,    207.1,2,  215.200,2,     1.30,2,     0.00,2,     0.01,2,     0.13,2,  -999.00,9, -999.000,9, -999.000,9,   -999.0,9,   -999.0,9
           NA,     P10,     51,   1,      34,     -99,  2,19931025,1049,  13.8362,  149.3278,  5990,     98.1,  26.4619,  34.8329,2,  34.8252,2,    221.6,2,  224.700,2,     0.95,2,     0.00,2,     0.01,2,     0.12,2,     1.97,6,    1.062,6, -999.000,9,   -999.0,9,   -999.0,9
           NA,     P10,     51,   1,      33,     -99,  2,19931025,1049,  13.8362,  149.3278,  5990,    145.6,  24.0117,  35.0757,2,  35.0800,2,    208.1,2,  213.000,2,     1.13,2,     0.03,2,     0.09,2,     0.14,2,     2.11,2,    1.128,2, -999.000,9,   -999.0,9,   -999.0,9
           NA,     P10,     51,   1,      32,     -99,  2,19931025,1049,  13.8362,  149.3278,  5990,    195.7,  18.6132,  34.9023,2,  34.9129,2,    183.0,2,  176.200,2,     4.15,2,     4.81,2,     0.02,2,     0.48,2,     2.34,2,    1.176,2, -999.000,9,   -999.0,9,   -999.0,9
           NA,     P10,     51,   1,      31,     -99,  2,19931025,1049,  13.8362,  149.3278,  5990,    246.6,  14.7724,  34.5583,2,  34.5601,2,    179.3,2,  173.400,2,     9.12,2,    10.07,2,     0.01,2,     0.82,2,     2.33,2,    1.151,2, -999.000,9,   -999.0,9,   -999.0,9
           NA,     P10,     51,   1,      30,     -99,  2,19931025,1049,  13.8362,  149.3278,  5990,    296.2,  11.8189,  34.3191,2,  34.3245,2,    179.9,2,  174.900,2,    16.39,2,    14.90,2,     0.01,2,     1.13,2,     2.16,2,    1.030,2, -999.000,9,   -999.0,9,   -999.0,9
           NA,     P10,     51,   1,      29,     -99,  2,19931025,1049,  13.8362,  149.3278,  5990,    395.9,   8.8576,  34.3263,2,  34.2880,2,     83.9,2,   85.100,2,    39.95,2,    29.22,2,     0.00,2,     2.18,2,     0.56,2,    0.262,2, -999.000,9,   -999.0,9,   -999.0,9
           NA,     P10,     51,   1,      28,     -99,  2,19931025,1049,  13.8362,  149.3278,  5990,    496.7,   7.4638,  34.4171,2,  34.4140,2,     59.6,2,   57.700,2,    54.64,2,    34.78,2,     0.01,2,     2.55,2,     0.13,2,    0.055,2, -999.000,9,   -999.0,9,   -999.0,9
           NA,     P10,     51,   1,      27,     -99,  2,19931025,1049,  13.8362,  149.3278,  5990,    587.4,   6.5570,  34.4571,2,  34.4536,2,     60.3,2,   60.200,2,    64.37,2,    36.60,2,     0.01,2,     2.66,2,     0.05,2,    0.019,2, -999.000,9,   -999.0,9,   -999.0,9
           NA,     P10,     51,   1,      26,     -99,  2,19931025,1049,  13.8362,  149.3278,  5990,    689.1,   6.0031,  34.4881,2,  34.4872,2,     69.1,2,   59.100,2,    71.08,2,    37.90,2,     0.00,2,     2.75,2,     0.02,2,    0.008,2, -999.000,9,   -999.0,9,   -999.0,9
           NA,     P10,     51,   1,      25,     -99,  2,19931025,1049,  13.8362,  149.3278,  5990,    812.3,   5.2981,  34.5009,2,  34.4984,2,     68.7,2,   69.200,2,    82.03,2,    38.16,2,     0.00,2,     2.75,2,     0.02,2,    0.006,2, -999.000,9,   -999.0,9,   -999.0,9
           NA,     P10,     51,   1,      24,     -99,  2,19931025,1049,  13.8362,  149.3278,  5990,    884.2,   4.9580,  34.5111,2,-999.0000,4,     73.8,2,   69.000,2,    88.21,2,    38.75,2,     0.01,2,     2.79,2,     0.01,2,    0.004,2, -999.000,9,   -999.0,9,   -999.0,9
           NA,     P10,     51,   1,      23,     -99,  2,19931025,1049,  13.8362,  149.3278,  5990,   1008.3,   4.4732,  34.5338,2,  34.5334,2,     80.8,2,   79.200,2,    95.96,2,    38.43,2,     0.00,2,     2.77,2,     0.01,2,   -0.001,2, -999.000,9,   -999.0,9,   -999.0,9
           NA,     P10,     51,   1,      22,     -99,  3,19931025,1049,  13.8362,  149.3278,  5990,   1260.1,   3.5397,  34.5626,2,  34.5618,2,     82.1,2,   82.500,2,   115.74,2,    39.29,2,     0.00,2,     2.82,2,     0.00,2,   -0.001,2, -999.000,9,   -999.0,9,   -999.0,9
           NA,     P10,     51,   1,      21,     -99,  2,19931025,1049,  13.8362,  149.3278,  5990,   1511.1,   2.8843,  34.5887,2,-999.0000,4,     87.9,2,   88.700,2,   129.32,2,    39.34,2,     0.00,2,     2.83,2,  -999.00,9, -999.000,9, -999.000,9,   -999.0,9,   -999.0,9
           NA,     P10,     51,   1,      20,     -99,  2,19931025,1049,  13.8362,  149.3278,  5990,   1758.9,   2.4218,  34.6117,2,  34.6102,2,     95.4,2, -999.000,3,   137.59,2,    38.86,2,     0.00,2,     2.78,2,  -999.00,9, -999.000,9, -999.000,9,   -999.0,9,   -999.0,9
           NA,     P10,     51,   1,      19,     -99,  2,19931025,1049,  13.8362,  149.3278,  5990,   2000.7,   2.1539,  34.6287,2,  34.6271,2,    106.3,2,  106.800,2,   142.85,2,    38.64,2,     0.00,2,     2.74,2,  -999.00,9, -999.000,9, -999.000,9,   -999.0,9,   -999.0,9
           NA,     P10,     51,   1,      18,     -99,  2,19931025,1049,  13.8362,  149.3278,  5990,   2250.7,   1.9501,  34.6441,2,  34.6430,2,    114.4,2,  114.000,2,   146.16,2,    38.21,2,     0.00,2,     2.71,2,  -999.00,9, -999.000,9, -999.000,9,   -999.0,9,   -999.0,9
           NA,     P10,     51,   1,      17,     -99,  2,19931025,1049,  13.8362,  149.3278,  5990,   2508.9,   1.8071,  34.6556,2,  34.6546,2,    121.8,2,  121.500,2,   147.89,2,    37.78,2,     0.00,2,     2.67,2,  -999.00,9, -999.000,9, -999.000,9,   -999.0,9,   -999.0,9
           NA,     P10,     51,   1,      16,     -99,  2,19931025,1049,  13.8362,  149.3278,  5990,   2761.4,   1.7048,  34.6643,2,-999.0000,3,    127.9,2,  128.500,2,   148.39,2,    37.31,2,     0.00,2,     2.64,2,  -999.00,9, -999.000,9, -999.000,9,   -999.0,9,   -999.0,9
           NA,     P10,     51,   1,      15,     -99,  2,19931025,1049,  13.8362,  149.3278,  5990,   3005.3,   1.6286,  34.6698,2,  34.6677,2,    132.5,2,  133.600,2,   149.05,2,    36.93,2,     0.00,2,     2.61,2,  -999.00,9, -999.000,9, -999.000,9,   -999.0,9,   -999.0,9
           NA,     P10,     51,   1,      14,     -99,  2,19931025,1049,  13.8362,  149.3278,  5990,   3260.2,   1.5757,  34.6749,2,-999.0000,3,    138.3,2,  139.000,2,   148.31,2,    36.61,2,     0.00,2,     2.58,2,  -999.00,9, -999.000,9, -999.000,9,   -999.0,9,   -999.0,9
           NA,     P10,     51,   1,      13,     -99,  2,19931025,1049,  13.8362,  149.3278,  5990,   3502.1,   1.5298,  34.6792,2,  34.6768,2,    145.4,2,  145.400,2,   146.86,2,    36.18,2,     0.00,2,     2.55,2,    -0.00,2,   -0.002,2, -999.000,9,   -999.0,9,   -999.0,9
           NA,     P10,     51,   1,      12,     -99,  2,19931025,1049,  13.8362,  149.3278,  5990,   3756.5,   1.4948,  34.6832,2,  34.6829,2,    151.4,2,  151.400,2,   144.53,2,    35.81,2,     0.00,2,     2.52,2,  -999.00,9, -999.000,9, -999.000,9,   -999.0,9,   -999.0,9
           NA,     P10,     51,   1,      11,     -99,  2,19931025,1049,  13.8362,  149.3278,  5990,   4011.2,   1.4714,  34.6877,2,  34.6848,2,    156.9,2,  156.700,2,   142.02,2,    35.44,2,    -0.01,2,     2.49,2,  -999.00,9, -999.000,9, -999.000,9,   -999.0,9,   -999.0,9
           NA,     P10,     51,   1,      10,     -99,  2,19931025,1049,  13.8362,  149.3278,  5990,   4256.1,   1.4576,  34.6900,2,  34.6907,2,    162.0,2,  161.900,2,   139.17,2,    35.00,2,     0.00,2,     2.45,2,  -999.00,9, -999.000,9, -999.000,9,   -999.0,9,   -999.0,9
           NA,     P10,     51,   1,       9,     -99,  2,19931025,1049,  13.8362,  149.3278,  5990,   4500.2,   1.4552,  34.6923,2,  34.6931,2,    166.3,2,  166.200,2,   137.02,2,    34.74,2,     0.00,2,     2.43,2,  -999.00,9, -999.000,9, -999.000,9,   -999.0,9,   -999.0,9
           NA,     P10,     51,   1,       8,     -99,  2,19931025,1049,  13.8362,  149.3278,  5990,   4756.5,   1.4614,  34.6935,2,  34.6913,2,    169.1,2,  168.600,2,   135.75,2,    34.52,2,     0.00,2,     2.42,2,  -999.00,9, -999.000,9, -999.000,9,   -999.0,9,   -999.0,9
           NA,     P10,     51,   1,       7,     -99,  2,19931025,1049,  13.8362,  149.3278,  5990,   5002.0,   1.4594,  34.6963,2,  34.6945,2,    173.5,2,  173.600,2,   133.25,2,    34.21,2,    -0.01,2,     2.39,2,  -999.00,9, -999.000,9, -999.000,9,   -999.0,9,   -999.0,9
           NA,     P10,     51,   1,       6,     -99,  2,19931025,1049,  13.8362,  149.3278,  5990,   5257.8,   1.4763,  34.6980,2,-999.0000,4,    176.1,2,  174.400,2,   131.29,2,    33.98,2,     0.00,2,     2.38,2,  -999.00,9, -999.000,9, -999.000,9,   -999.0,9,   -999.0,9
           NA,     P10,     51,   1,       5,     -99,  3,19931025,1049,  13.8362,  149.3278,  5990,   5502.4,   1.5014,  34.6980,2,-999.0000,4,    177.2,2, -999.000,4,  -999.00,4,  -999.00,4,  -999.00,4,  -999.00,4,  -999.00,9, -999.000,9, -999.000,9,   -999.0,9,   -999.0,9
           NA,     P10,     51,   1,       4,     -99,  2,19931025,1049,  13.8362,  149.3278,  5990,   5759.1,   1.5298,  34.6984,2,  34.6958,2,    176.8,2,  177.000,2,   131.40,2,    33.95,2,    -0.01,2,     2.37,2,  -999.00,4,   -0.001,2, -999.000,9,   -999.0,9,   -999.0,9
           NA,     P10,     51,   1,       3,     -99,  3,19931025,1049,  13.8362,  149.3278,  5990,   5759.6,   1.5298,  34.6981,2,-999.0000,4,    176.8,2, -999.000,4,  -999.00,4,  -999.00,4,  -999.00,4,  -999.00,4,  -999.00,2, -999.000,2, -999.000,9,   -999.0,9,   -999.0,9
           NA,     P10,     51,   1,       1,     -99,  2,19931025,1049,  13.8362,  149.3278,  5990,   6091.2,   1.5708,  34.6991,2,  34.6984,2,    176.8,2,  176.900,2,   130.84,2,    33.84,2,     0.00,2,     2.37,2,     0.00,2,   -0.001,2, -999.000,9,   -999.0,9,   -999.0,9
           NA,     P10,     51,   1,       2,     -99,  2,19931025,1049,  13.8362,  149.3278,  5990,   6091.8,   1.5706,  34.6992,2,  34.6970,2,    176.8,2,  177.200,2,   130.98,2,    33.90,2,    -0.01,2,     2.37,2,  -999.00,4,    0.000,2, -999.000,9,   -999.0,9,   -999.0,9