BOTTLE,20210102JOAExport
EXPOCODE,SECT_ID,STNNBR,CASTNO,SAMPNO,BTLNBR,BTLNBR_FLAG_W,DATE,TIME,LATITUDE,LONGITUDE,DEPTH,CTDPRS,CTDTMP,CTDSAL,CTDSAL_FLAG_W,SALNTY,SALNTY_FLAG_W,CTDOXY,CTDOXY_FLAG_W,OXYGEN,OXYGEN_FLAG_W,SILCAT,SILCAT_FLAG_W,NITRAT,NITRAT_FLAG_W,NITRIT,NITRIT_FLAG_W,PHSPHT,PHSPHT_FLAG_W,CFC-11,CFC-11_FLAG_W,CFC-12,CFC-12_FLAG_W,SF6,SF6_FLAG_W,TCARBN,TCARBN_FLAG_W,ALKALI,ALKALI_FLAG_W
,,,,,,,,,,,,DB,ITS-90,PSS-78,,PSS-78,,UMOL/KG,,UMOL/KG,,UMOL/KG,,UMOL/KG,,UMOL/KG,,UMOL/KG,,PMOL/KG,,PMOL/KG,,FMOL/KG,,UMOL/KG,,UMOL/KG
           NA,     P10,     68,   1,      36,     -99,  2,19931101,1737,  25.1695,  149.3362,  5906,      7.6,  26.9434,  35.1339,2,  35.1341,2,    202.5,2,  206.300,2,     1.56,2,    -0.01,2,     0.01,2,     0.03,2,     1.84,2,    1.027,2, -999.000,9,   -999.0,9,   -999.0,9
           NA,     P10,     68,   1,      35,     -99,  3,19931101,1737,  25.1695,  149.3362,  5906,     49.5,  26.8970,  35.1316,2,  35.1326,2,    202.5,2,  206.700,2,     1.57,2,     0.00,2,     0.00,2,     0.03,2,     1.80,2,    1.030,2, -999.000,9,   -999.0,9,   -999.0,9
           NA,     P10,     68,   1,      34,     -99,  2,19931101,1737,  25.1695,  149.3362,  5906,    100.1,  20.3878,  34.9586,2,  34.9586,2,    210.2,2,  222.800,2,     2.10,2,     0.00,2,     0.00,2,     0.06,2,     2.46,6,    1.316,6, -999.000,9,   -999.0,9,   -999.0,9
           NA,     P10,     68,   1,      33,     -99,  3,19931101,1737,  25.1695,  149.3362,  5906,    149.0,  18.5160,  34.8778,2,  34.8765,2,    209.6,2,  214.100,2,     2.79,2,     0.99,2,     0.10,2,     0.16,2,     2.57,2,    1.343,2, -999.000,9,   -999.0,9,   -999.0,9
           NA,     P10,     68,   1,      32,     -99,  2,19931101,1737,  25.1695,  149.3362,  5906,    199.2,  17.4524,  34.8108,2,  34.8089,2,    212.6,2,  212.500,2,     3.66,2,     3.49,2,     0.01,2,     0.29,2,     2.64,2,    1.388,2, -999.000,9,   -999.0,9,   -999.0,9
           NA,     P10,     68,   1,      31,     -99,  2,19931101,1737,  25.1695,  149.3362,  5906,    249.4,  16.7618,  34.7647,2,  34.7621,2,    212.5,2,  206.800,2,     4.87,2,     5.13,2,     0.01,2,     0.40,2,     2.57,2,    1.340,2, -999.000,9,   -999.0,9,   -999.0,9
           NA,     P10,     68,   1,      30,     -99,  2,19931101,1737,  25.1695,  149.3362,  5906,    298.9,  15.6341,  34.6896,2,  34.6724,2,    211.2,2,  199.200,2,     7.46,2,     7.43,2,     0.01,2,     0.56,2,  -999.00,9, -999.000,9, -999.000,9,   -999.0,9,   -999.0,9
           NA,     P10,     68,   1,      29,     -99,  2,19931101,1737,  25.1695,  149.3362,  5906,    353.4,  14.4687,  34.5701,2,  34.5636,2,    204.1,2,  191.800,2,    10.56,2,     9.88,2,     0.01,2,     0.74,2,     2.33,2,    1.181,2, -999.000,9,   -999.0,9,   -999.0,9
           NA,     P10,     68,   1,      28,     -99,  2,19931101,1737,  25.1695,  149.3362,  5906,    398.7,  13.2249,  34.4624,2,  34.4540,2,    200.4,2,  189.900,2,    13.65,2,    12.10,2,     0.00,2,     0.90,2,     2.28,2,    1.155,2, -999.000,9,   -999.0,9,   -999.0,9
           NA,     P10,     68,   1,      27,     -99,  2,19931101,1737,  25.1695,  149.3362,  5906,    497.8,  10.7184,  34.2775,2,  34.2725,2,    190.7,2,  183.000,2,    22.60,2,    17.02,2,     0.00,2,     1.24,2,  -999.00,9, -999.000,9, -999.000,9,   -999.0,9,   -999.0,9
           NA,     P10,     68,   1,      26,     -99,  2,19931101,1737,  25.1695,  149.3362,  5906,    597.0,   7.5574,  34.0896,2,  34.0890,2,   -999.0,3,  154.200,2,    45.09,2,    25.57,2,     0.00,2,     1.85,2,     1.58,2,    0.769,2, -999.000,9,   -999.0,9,   -999.0,9
           NA,     P10,     68,   1,      25,     -99,  2,19931101,1737,  25.1695,  149.3362,  5906,    697.3,   5.5985,  34.0647,2,  34.0653,2,   -999.0,3,  108.300,2,    69.98,2,    32.99,2,     0.00,2,     2.37,2,     0.91,2,    0.405,2, -999.000,9,   -999.0,9,   -999.0,9
           NA,     P10,     68,   1,      24,     -99,  2,19931101,1737,  25.1695,  149.3362,  5906,    796.9,   4.6993,  34.1413,2,  34.1398,2,     88.7,2,   72.000,2,    90.59,2,    37.64,2,     0.01,2,     2.70,2,     0.44,2,    0.208,2, -999.000,9,   -999.0,9,   -999.0,9
           NA,     P10,     68,   1,      23,     -99,  2,19931101,1737,  25.1695,  149.3362,  5906,    896.3,   4.2510,  34.2092,2,  34.2107,2,     57.8,2,   54.800,2,   101.91,2,    39.44,2,     0.00,2,     2.81,2,  -999.00,9, -999.000,9, -999.000,9,   -999.0,9,   -999.0,9
           NA,     P10,     68,   1,      22,     -99,  2,19931101,1737,  25.1695,  149.3362,  5906,    997.1,   3.6287,  34.3354,2,-999.0000,3,     42.9,2,   40.000,2,   122.00,2,    41.80,2,     0.00,2,     2.97,2,     0.04,2,    0.023,2, -999.000,9,   -999.0,9,   -999.0,9
           NA,     P10,     68,   1,      21,     -99,  2,19931101,1737,  25.1695,  149.3362,  5906,   1197.5,   3.0877,  34.4418,2,  34.4413,2,     39.9,2,   42.100,2,   135.54,2,    42.16,2,     0.00,2,     2.98,2,  -999.00,9, -999.000,9, -999.000,9,   -999.0,9,   -999.0,9
           NA,     P10,     68,   1,      20,     -99,  2,19931101,1737,  25.1695,  149.3362,  5906,   1398.1,   2.6148,  34.5131,2,  34.5116,2,   -999.0,3,   57.000,2,   146.01,2,    41.64,2,     0.00,2,     2.94,2,    -0.00,2,    0.001,2, -999.000,9,   -999.0,9,   -999.0,9
           NA,     P10,     68,   1,      19,     -99,  2,19931101,1737,  25.1695,  149.3362,  5906,   1595.7,   2.3148,  34.5547,2,  34.5561,2,     66.4,2,   67.200,2,   150.98,2,    40.92,2,     0.00,2,     2.88,2,  -999.00,9, -999.000,9, -999.000,9,   -999.0,9,   -999.0,9
           NA,     P10,     68,   1,      18,     -99,  2,19931101,1737,  25.1695,  149.3362,  5906,   1798.5,   2.0260,  34.5953,2,  34.5937,2,     85.7,2,   86.600,2,   153.05,2,    39.80,2,     0.00,2,     2.79,2,  -999.00,9, -999.000,9, -999.000,9,   -999.0,9,   -999.0,9
           NA,     P10,     68,   1,      17,     -99,  2,19931101,1737,  25.1695,  149.3362,  5906,   1998.1,   1.8739,  34.6195,2,  34.6186,2,    101.0,2,  103.300,2,   151.34,2,    38.78,2,     0.00,2,     2.72,2,  -999.00,9, -999.000,9, -999.000,9,   -999.0,9,   -999.0,9
           NA,     P10,     68,   1,      16,     -99,  2,19931101,1737,  25.1695,  149.3362,  5906,   2246.5,   1.7679,  34.6345,2,  34.6339,2,    110.8,2,  112.500,2,   151.51,2,    38.21,2,     0.01,2,     2.67,2,  -999.00,9, -999.000,9, -999.000,9,   -999.0,9,   -999.0,9
           NA,     P10,     68,   1,      15,     -99,  2,19931101,1737,  25.1695,  149.3362,  5906,   2494.7,   1.6807,  34.6468,2,  34.6465,2,    120.3,2,  121.100,2,   151.18,2,    37.71,2,     0.00,2,     2.63,2,  -999.00,9, -999.000,9, -999.000,9,   -999.0,9,   -999.0,9
           NA,     P10,     68,   1,      14,     -99,  2,19931101,1737,  25.1695,  149.3362,  5906,   2747.6,   1.6097,  34.6576,2,  34.6571,2,    128.8,2,  129.400,2,   149.99,2,    37.20,2,     0.00,2,     2.59,2,    -0.00,2,    0.000,2, -999.000,9,   -999.0,9,   -999.0,9
           NA,     P10,     68,   1,      13,     -99,  2,19931101,1737,  25.1695,  149.3362,  5906,   3001.3,   1.5583,  34.6653,2,  34.6648,2,    135.2,2,  135.400,2,   149.30,2,    36.79,2,     0.00,2,     2.56,2,  -999.00,9, -999.000,9, -999.000,9,   -999.0,9,   -999.0,9
           NA,     P10,     68,   1,      12,     -99,  2,19931101,1737,  25.1695,  149.3362,  5906,   3244.1,   1.5330,  34.6702,2,  34.6693,2,    140.6,2,  139.900,2,   148.46,2,    36.53,2,     0.00,2,     2.54,2,  -999.00,9, -999.000,9, -999.000,9,   -999.0,9,   -999.0,9
           NA,     P10,     68,   1,      11,     -99,  2,19931101,1737,  25.1695,  149.3362,  5906,   3497.7,   1.4978,  34.6757,2,  34.6756,2,    145.7,2,  145.600,2,   147.26,2,    36.17,2,     0.00,2,     2.51,2,  -999.00,9, -999.000,9, -999.000,9,   -999.0,9,   -999.0,9
           NA,     P10,     68,   1,      10,     -99,  2,19931101,1737,  25.1695,  149.3362,  5906,   3744.0,   1.4778,  34.6800,2,  34.6799,2,    150.6,2,  150.600,2,   145.73,2,    35.82,2,     0.00,2,     2.48,2,  -999.00,9, -999.000,9, -999.000,9,   -999.0,9,   -999.0,9
           NA,     P10,     68,   1,       9,     -99,  2,19931101,1737,  25.1695,  149.3362,  5906,   3999.5,   1.4713,  34.6832,2,  34.6829,2,    154.7,2,  154.800,2,   144.19,2,    35.57,2,     0.00,2,     2.47,2,  -999.00,9, -999.000,9, -999.000,9,   -999.0,9,   -999.0,9
           NA,     P10,     68,   1,       8,     -99,  2,19931101,1737,  25.1695,  149.3362,  5906,   4247.1,   1.4693,  34.6854,2,  34.6854,2,    157.6,2,  157.600,2,   143.00,2,    35.36,2,     0.00,2,     2.45,2,  -999.00,9, -999.000,9, -999.000,9,   -999.0,9,   -999.0,9
           NA,     P10,     68,   1,       7,     -99,  2,19931101,1737,  25.1695,  149.3362,  5906,   4491.0,   1.4708,  34.6883,2,  34.6882,2,    161.7,2,  161.700,2,   140.09,2,    35.06,2,     0.00,2,     2.42,2,  -999.00,9, -999.000,9, -999.000,9,   -999.0,9,   -999.0,9
           NA,     P10,     68,   1,       6,     -99,  2,19931101,1737,  25.1695,  149.3362,  5906,   4748.6,   1.4808,  34.6888,2,  34.6888,2,    162.9,2,  163.300,2,   139.63,2,    34.79,2,     0.00,2,     2.39,2,  -999.00,9, -999.000,9, -999.000,9,   -999.0,9,   -999.0,9
           NA,     P10,     68,   1,       5,     -99,  2,19931101,1737,  25.1695,  149.3362,  5906,   4992.2,   1.4939,  34.6909,2,  34.6913,2,    166.1,2,  166.200,2,   138.73,2,    34.74,2,     0.01,2,     2.39,2,  -999.00,9, -999.000,9, -999.000,9,   -999.0,9,   -999.0,9
           NA,     P10,     68,   1,       4,     -99,  2,19931101,1737,  25.1695,  149.3362,  5906,   5261.9,   1.5133,  34.6921,2,  34.6939,2,    169.3,2,  169.000,2,   136.97,2,    34.57,2,     0.00,2,     2.39,2,  -999.00,4,    0.003,2, -999.000,9,   -999.0,9,   -999.0,9
           NA,     P10,     68,   1,       3,     -99,  2,19931101,1737,  25.1695,  149.3362,  5906,   5499.0,   1.5254,  34.6942,2,  34.6937,2,    172.1,2,  171.600,2,   134.64,2,    34.45,2,     0.00,2,     2.37,2,  -999.00,9, -999.000,9, -999.000,9,   -999.0,9,   -999.0,9
           NA,     P10,     68,   1,       2,     -99,  2,19931101,1737,  25.1695,  149.3362,  5906,   5744.3,   1.5454,  34.6947,2,  34.6945,2,    174.7,2,  174.600,2,   133.11,2,    34.25,2,     0.00,2,     2.36,2,  -999.00,4,    0.001,2, -999.000,9,   -999.0,9,   -999.0,9
           NA,     P10,     68,   1,       1,     -99,  2,19931101,1737,  25.1695,  149.3362,  5906,   6014.2,   1.5583,  34.6965,2,  34.6964,2,    178.3,2,  177.100,2,   131.35,2,    33.96,2,     0.00,2,     2.33,2,    -0.00,2,    0.001,2, -999.000,9,   -999.0,9,   -999.0,9