BOTTLE,20210102JOAExport
EXPOCODE,SECT_ID,STNNBR,CASTNO,SAMPNO,BTLNBR,BTLNBR_FLAG_W,DATE,TIME,LATITUDE,LONGITUDE,DEPTH,CTDPRS,CTDTMP,CTDSAL,CTDSAL_FLAG_W,SALNTY,SALNTY_FLAG_W,CTDOXY,CTDOXY_FLAG_W,OXYGEN,OXYGEN_FLAG_W,SILCAT,SILCAT_FLAG_W,NITRAT,NITRAT_FLAG_W,NITRIT,NITRIT_FLAG_W,PHSPHT,PHSPHT_FLAG_W,CFC-11,CFC-11_FLAG_W,CFC-12,CFC-12_FLAG_W,SF6,SF6_FLAG_W,TCARBN,TCARBN_FLAG_W,ALKALI,ALKALI_FLAG_W
,,,,,,,,,,,,DB,ITS-90,PSS-78,,PSS-78,,UMOL/KG,,UMOL/KG,,UMOL/KG,,UMOL/KG,,UMOL/KG,,UMOL/KG,,PMOL/KG,,PMOL/KG,,FMOL/KG,,UMOL/KG,,UMOL/KG
           NA,     P10,     54,   1,      36,     -99,  2,19931026,1148,  15.8333,  149.3333,  4633,      9.3,  28.8448,  34.5038,2,  34.5041,2,    208.1,2,  201.200,2,     1.02,2,     0.00,2,     0.01,2,     0.11,2,  -999.00,4, -999.000,3, -999.000,9,   1917.0,2,   2270.9,6
           NA,     P10,     54,   1,      35,     -99,  2,19931026,1148,  15.8333,  149.3333,  4633,     48.6,  28.8646,  34.5036,2,  34.5027,2,    203.8,2,  202.900,2,     1.18,2,     0.06,2,     0.01,2,     0.11,2,     1.72,2,    0.966,2, -999.000,9,   1916.1,6,   2271.7,2
           NA,     P10,     54,   1,      34,     -99,  2,19931026,1148,  15.8333,  149.3333,  4633,    107.9,  26.6730,  34.7936,2,  34.7918,2,    209.2,2,  217.200,2,     1.01,2,     0.06,2,     0.01,2,     0.10,2,  -999.00,4, -999.000,3, -999.000,9,   1943.2,2,   2290.7,2
           NA,     P10,     54,   1,      33,     -99,  2,19931026,1148,  15.8333,  149.3333,  4633,    157.5,  25.0605,  35.0743,2,  35.0711,2,    190.9,2,  205.400,2,     1.18,2,     0.06,2,     0.06,2,     0.09,2,     2.03,2,    1.094,2, -999.000,9,   1971.9,2,   2315.1,6
           NA,     P10,     54,   1,      32,     -99,  2,19931026,1148,  15.8333,  149.3333,  4633,    206.0,  22.2028,  35.1745,2,  35.1715,2,    177.1,2,  185.800,2,     1.87,2,     1.13,2,     0.04,2,     0.21,2,     2.14,2,    1.131,2, -999.000,9,   2018.9,2,   2319.8,2
           NA,     P10,     54,   1,      31,     -99,  2,19931026,1148,  15.8333,  149.3333,  4633,    256.7,  18.7170,  34.9482,2,  34.9519,2,    184.1,2,  185.000,2,     3.46,2,     3.78,2,     0.02,2,     0.36,2,     2.42,2,    1.245,2, -999.000,9,   2040.1,2,   2308.2,2
           NA,     P10,     54,   1,      30,     -99,  2,19931026,1148,  15.8333,  149.3333,  4633,    306.5,  15.1076,  34.6271,2,  34.6465,2,    168.4,2,  187.900,2,     8.01,2,     8.47,2,     0.01,2,     0.67,2,     2.31,2,    1.110,2, -999.000,9,   2060.7,2,   2298.0,2
           NA,     P10,     54,   1,      29,     -99,  2,19931026,1148,  15.8333,  149.3333,  4633,    355.5,  12.6210,  34.4085,2,-999.0000,3,    142.3,2,  157.000,2,    15.90,2,    15.40,2,     0.01,2,     1.18,2,     1.94,2,    0.959,2, -999.000,9,   2111.0,2,   2279.1,6
           NA,     P10,     54,   1,      28,     -99,  2,19931026,1148,  15.8333,  149.3333,  4633,    405.1,  11.0403,  34.3360,2,  34.3522,2,    127.5,2,  133.500,2,    23.96,2,    20.80,2,     0.03,2,     1.56,2,     1.40,2,    0.677,2, -999.000,9,   2148.5,2,   2291.2,2
           NA,     P10,     54,   1,      27,     -99,  2,19931026,1148,  15.8333,  149.3333,  4633,    455.0,   9.2725,  34.2308,2,  34.2266,2,    128.0,2,  133.200,2,    33.25,2,    24.08,2,     0.01,2,     1.79,2,  -999.00,9, -999.000,9, -999.000,9,   2170.5,2,   2303.8,2
           NA,     P10,     54,   1,      26,     -99,  2,19931026,1148,  15.8333,  149.3333,  4633,    504.5,   7.8659,  34.1926,2,  34.1862,2,     98.2,2,  110.300,2,    46.23,2,    28.65,2,     0.02,2,     2.11,2,     0.76,2,    0.346,2, -999.000,9,   2208.8,2,   2297.0,2
           NA,     P10,     54,   1,      25,     -99,  2,19931026,1148,  15.8333,  149.3333,  4633,    555.1,   6.7760,  34.1903,2,  34.1856,2,     73.7,2,   86.400,2,    59.03,2,    32.76,2,     0.02,2,     2.40,2,  -999.00,9, -999.000,9, -999.000,9,   2242.7,6,   2316.1,2
           NA,     P10,     54,   1,      24,     -99,  2,19931026,1148,  15.8333,  149.3333,  4633,    603.5,   6.2789,  34.2426,2,-999.0000,3,     64.4,2,   70.900,2,    67.57,2,    35.09,2,     0.01,2,     2.57,2,     0.22,2,    0.105,2, -999.000,9,   2262.9,2,   2331.9,2
           NA,     P10,     54,   1,      23,     -99,  2,19931026,1148,  15.8333,  149.3333,  4633,    647.9,   5.9503,  34.2902,2,  34.2914,2,     59.9,2,   63.500,2,    73.22,2,    36.51,2,     0.01,2,     2.67,2,  -999.00,9, -999.000,9, -999.000,9,   2278.5,2,   2352.5,2
           NA,     P10,     54,   1,      22,     -99,  2,19931026,1148,  15.8333,  149.3333,  4633,    697.0,   5.4843,  34.3723,2,  34.3704,2,     61.7,2,   61.300,2,    81.45,2,    37.83,2,     0.01,2,     2.75,2,     0.05,2,    0.024,2, -999.000,9,   2292.0,2,   2355.3,2
           NA,     P10,     54,   1,      21,     -99,  3,19931026,1148,  15.8333,  149.3333,  4633,    750.1,   5.2831,  34.4208,2,  34.4187,2,     64.7,2,   64.300,2,    84.77,2,    37.99,2,     0.01,2,     2.76,2,  -999.00,9, -999.000,9, -999.000,9,   2294.1,2,   2366.8,2
           NA,     P10,     54,   1,      20,     -99,  2,19931026,1148,  15.8333,  149.3333,  4633,    802.8,   5.0018,  34.4518,2,  34.4480,2,     68.7,2,   66.300,2,    89.32,2,    38.37,2,     0.01,2,     2.77,2,     0.03,2,    0.007,2, -999.000,9,   2299.3,2,   2373.4,2
           NA,     P10,     54,   1,      19,     -99,  2,19931026,1148,  15.8333,  149.3333,  4633,   1003.5,   4.0346,  34.5264,2,  34.5267,2,     80.5,2,   80.000,2,   106.67,2,    38.67,2,     0.03,2,     2.77,2,     0.02,2,    0.003,2, -999.000,9,   2314.8,2,   2382.8,6
           NA,     P10,     54,   1,      18,     -99,  2,19931026,1148,  15.8333,  149.3333,  4633,   1206.8,   3.4174,  34.5607,2,-999.0000,4,     84.6,2,   83.900,2,   118.24,2,    39.01,2,     0.01,2,     2.80,2,     0.00,2,   -0.002,2, -999.000,9,   2327.4,2,   -999.0,5
           NA,     P10,     54,   1,      17,     -99,  2,19931026,1148,  15.8333,  149.3333,  4633,   1407.7,   2.8659,  34.5841,2,  34.5821,2,     91.1,2,   91.300,2,   128.92,2,    39.07,2,     0.01,2,     2.78,2,  -999.00,9, -999.000,9, -999.000,9,   2335.4,2,   -999.0,5
           NA,     P10,     54,   1,      16,     -99,  2,19931026,1148,  15.8333,  149.3333,  4633,   1608.9,   2.5325,  34.6006,2,  34.5978,2,     96.6,2,   96.600,2,   135.39,2,    38.91,2,     0.01,2,     2.77,2,  -999.00,9, -999.000,9, -999.000,9,   2338.4,2,   2406.4,2
           NA,     P10,     54,   1,      15,     -99,  2,19931026,1148,  15.8333,  149.3333,  4633,   1808.3,   2.3128,  34.6123,2,  34.6104,2,    101.5,2,  101.300,2,   139.78,2,    38.71,2,     0.01,2,     2.76,2,  -999.00,9, -999.000,9, -999.000,9,   2340.0,6,   -999.0,3
           NA,     P10,     54,   1,      14,     -99,  2,19931026,1148,  15.8333,  149.3333,  4633,   2011.7,   2.1036,  34.6278,2,  34.6263,2,    107.9,2,  108.100,2,   142.92,2,    38.41,2,     0.00,2,     2.73,2,  -999.00,9, -999.000,9, -999.000,9,   2342.1,2,   2416.7,2
           NA,     P10,     54,   1,      13,     -99,  2,19931026,1148,  15.8333,  149.3333,  4633,   2215.7,   1.9448,  34.6387,2,  34.6369,2,    113.6,2,  113.300,2,   146.06,2,    38.10,2,     0.00,2,     2.71,2,  -999.00,9, -999.000,9, -999.000,9,   2341.8,2,   2423.1,2
           NA,     P10,     54,   1,      12,     -99,  2,19931026,1148,  15.8333,  149.3333,  4633,   2416.3,   1.8211,  34.6490,2,  34.6485,2,    119.1,2,  118.800,2,   147.81,2,    37.79,2,     0.00,2,     2.68,2,  -999.00,9, -999.000,9, -999.000,9,   2338.3,2,   -999.0,3
           NA,     P10,     54,   1,      11,     -99,  2,19931026,1148,  15.8333,  149.3333,  4633,   2618.8,   1.7207,  34.6586,2,  34.6581,2,    124.9,2,  125.200,2,   148.85,2,    37.53,2,     0.00,2,     2.66,2,  -999.00,9, -999.000,9, -999.000,9,   2338.1,2,   2429.7,2
           NA,     P10,     54,   1,      10,     -99,  2,19931026,1148,  15.8333,  149.3333,  4633,   2820.4,   1.6606,  34.6653,2,  34.6636,2,    129.4,2,  130.100,2,   149.20,2,    37.28,2,     0.00,2,     2.63,2,  -999.00,9, -999.000,9, -999.000,9,   2336.8,2,   2427.0,2
           NA,     P10,     54,   1,       9,     -99,  2,19931026,1148,  15.8333,  149.3333,  4633,   3021.0,   1.6048,  34.6709,2,  34.6697,2,    133.9,2,  134.400,2,   149.19,2,    37.07,2,     0.00,2,     2.61,2,     0.00,2,   -0.001,2, -999.000,9,   2333.5,2,   2427.6,2
           NA,     P10,     54,   1,       8,     -99,  2,19931026,1148,  15.8333,  149.3333,  4633,   3203.3,   1.5681,  34.6752,2,  34.6756,2,    137.8,2,  137.800,2,   149.18,2,    36.92,2,     0.00,2,     2.59,2,  -999.00,9, -999.000,9, -999.000,9,   2331.9,6,   -999.0,3
           NA,     P10,     54,   1,       7,     -99,  2,19931026,1148,  15.8333,  149.3333,  4633,   3395.0,   1.5423,  34.6782,2,  34.6778,2,    141.8,2,  141.900,2,   148.13,2,    36.72,2,     0.00,2,     2.57,2,  -999.00,9, -999.000,9, -999.000,9,   2328.1,2,   2422.9,2
           NA,     P10,     54,   1,       6,     -99,  2,19931026,1148,  15.8333,  149.3333,  4633,   3608.0,   1.5149,  34.6816,2,  34.6835,2,    146.4,2,  146.600,2,   146.55,2,    36.41,2,     0.00,2,     2.55,2,  -999.00,9, -999.000,9, -999.000,9,   2326.3,2,   2420.0,2
           NA,     P10,     54,   1,       5,     -99,  2,19931026,1148,  15.8333,  149.3333,  4633,   3810.2,   1.4845,  34.6844,2,  34.6836,2,    152.0,2,  152.000,2,   144.26,2,    35.99,2,     0.00,2,     2.51,2,  -999.00,9, -999.000,9, -999.000,9,   2318.7,2,   -999.0,3
           NA,     P10,     54,   1,       4,     -99,  2,19931026,1148,  15.8333,  149.3333,  4633,   4010.6,   1.4631,  34.6879,2,  34.6870,2,    156.2,2,  156.600,2,   141.80,2,    35.58,2,     0.00,2,     2.49,2,    -0.00,2,   -0.002,2, -999.000,9,   2313.1,2,   2418.3,2
           NA,     P10,     54,   1,       3,     -99,  2,19931026,1148,  15.8333,  149.3333,  4633,   4252.1,   1.4497,  34.6914,2,  34.6935,2,    161.3,2,  161.700,2,   139.34,2,    35.27,2,    -0.01,2,     2.46,2,  -999.00,9, -999.000,9, -999.000,9,   2310.2,2,   2423.8,6
           NA,     P10,     54,   1,       2,     -99,  2,19931026,1148,  15.8333,  149.3333,  4633,   4496.1,   1.4359,  34.6947,2,  34.6931,2,    167.6,2,  167.300,2,   136.01,2,    34.85,2,     0.00,2,     2.42,2,  -999.00,9, -999.000,9, -999.000,9,   2304.5,2,   2412.6,2
           NA,     P10,     54,   1,       1,     -99,  2,19931026,1148,  15.8333,  149.3333,  4633,   4801.4,   1.4404,  34.6968,2,-999.0000,3,    171.8,2,  172.600,2,   133.52,2,    34.33,2,     0.01,2,     2.38,2,     0.00,2,   -0.001,2, -999.000,9,   2296.1,2,   2408.5,2
           NA,     P10,     55,   1,      36,     -99,  2,19931026,1919,  16.5055,  149.3305,  5153,      8.5,  28.7132,  34.7854,2,  34.7849,2,    210.0,2,  205.800,2,     0.88,2,     0.01,2,     0.01,2,     0.06,2,  -999.00,9, -999.000,9, -999.000,9,   -999.0,9,   -999.0,9
           NA,     P10,     55,   1,      35,     -99,  2,19931026,1919,  16.5055,  149.3305,  5153,     51.5,  28.7726,  34.8727,2,  34.8704,2,    206.0,2,  206.600,2,     0.88,2,     0.01,2,     0.01,2,     0.05,2,     1.74,2,    0.980,2, -999.000,9,   -999.0,9,   -999.0,9
           NA,     P10,     55,   1,      34,     -99,  2,19931026,1919,  16.5055,  149.3305,  5153,    100.8,  26.2728,  34.9338,2,  34.9312,2,    216.2,2,  212.800,2,     0.88,2,     0.06,2,     0.01,2,     0.08,2,     1.97,6,    1.093,6, -999.000,9,   -999.0,9,   -999.0,9
           NA,     P10,     55,   1,      33,     -99,  2,19931026,1919,  16.5055,  149.3305,  5153,    148.9,  23.4637,  35.1472,2,  35.1426,2,    192.8,2,  196.700,2,     1.23,2,     0.49,2,     0.11,2,     0.15,2,  -999.00,9, -999.000,9, -999.000,9,   -999.0,9,   -999.0,9
           NA,     P10,     55,   1,      32,     -99,  2,19931026,1919,  16.5055,  149.3305,  5153,    195.7,  20.6678,  35.0671,2,  35.0636,2,    190.7,2,  193.200,2,     2.10,2,     1.60,2,     0.03,2,     0.21,2,     2.39,2,    1.265,2, -999.000,9,   -999.0,9,   -999.0,9
           NA,     P10,     55,   1,      31,     -99,  2,19931026,1919,  16.5055,  149.3305,  5153,    249.0,  17.2665,  34.7957,2,  34.8000,2,    187.5,2,  180.100,2,     5.09,2,     6.07,2,     0.02,2,     0.54,2,  -999.00,9, -999.000,9, -999.000,9,   -999.0,9,   -999.0,9
           NA,     P10,     55,   1,      30,     -99,  2,19931026,1919,  16.5055,  149.3305,  5153,    298.7,  15.6247,  34.6592,2,  34.6546,2,    184.8,2,  190.700,2,     6.84,2,     7.59,2,     0.01,2,     0.62,2,     2.55,2,    1.333,2, -999.000,9,   -999.0,9,   -999.0,9
           NA,     P10,     55,   1,      29,     -99,  2,19931026,1919,  16.5055,  149.3305,  5153,    347.6,  12.7438,  34.4044,2,  34.4002,2,    170.8,2,  167.100,2,    14.55,2,    14.24,2,     0.01,2,     1.10,2,  -999.00,9, -999.000,9, -999.000,9,   -999.0,9,   -999.0,9
           NA,     P10,     55,   1,      28,     -99,  2,19931026,1919,  16.5055,  149.3305,  5153,    396.0,  10.5168,  34.2843,2,  34.2829,2,    146.6,2,  141.900,2,    24.90,2,    20.78,2,     0.01,2,     1.56,2,     1.52,2,    0.738,2, -999.000,9,   -999.0,9,   -999.0,9
           NA,     P10,     55,   1,      27,     -99,  2,19931026,1919,  16.5055,  149.3305,  5153,    495.9,   7.6443,  34.2141,2,  34.2100,2,     94.7,2,   93.100,2,    48.93,2,    30.69,2,     0.01,2,     2.26,2,  -999.00,9, -999.000,9, -999.000,9,   -999.0,9,   -999.0,9
           NA,     P10,     55,   1,      26,     -99,  2,19931026,1919,  16.5055,  149.3305,  5153,    599.4,   6.0596,  34.3184,2,  34.3176,2,     56.2,2,   54.300,2,    71.74,2,    37.39,2,     0.00,2,     2.72,2,     0.08,2,    0.038,2, -999.000,9,   -999.0,9,   -999.0,9
           NA,     P10,     55,   1,      25,     -99,  2,19931026,1919,  16.5055,  149.3305,  5153,    697.5,   5.5328,  34.4076,2,  34.4050,2,     52.2,2,   53.200,2,    80.16,2,    38.74,2,     0.00,2,     2.80,2,  -999.00,9, -999.000,9, -999.000,9,   -999.0,9,   -999.0,9
           NA,     P10,     55,   1,      24,     -99,  2,19931026,1919,  16.5055,  149.3305,  5153,    797.3,   5.0593,  34.4708,2,  34.4676,2,     66.4,2,   63.200,2,    87.70,2,    38.83,2,     0.01,2,     2.79,2,  -999.00,9, -999.000,9, -999.000,9,   -999.0,9,   -999.0,9
           NA,     P10,     55,   1,      23,     -99,  2,19931026,1919,  16.5055,  149.3305,  5153,    897.3,   4.5278,  34.5027,2,  34.4994,2,     74.4,2,   73.700,2,    97.01,2,    38.57,2,     0.01,2,     2.77,2,     0.02,2,    0.011,2, -999.000,9,   -999.0,9,   -999.0,9
           NA,     P10,     55,   1,      22,     -99,  2,19931026,1919,  16.5055,  149.3305,  5153,    998.7,   4.1090,  34.5315,2,  34.5308,2,     75.0,2,   78.600,2,   104.56,2,    39.19,2,     0.00,2,     2.80,2,     0.01,2,    0.005,2, -999.000,9,   -999.0,9,   -999.0,9
           NA,     P10,     55,   1,      20,     -99,  2,19931026,1919,  16.5055,  149.3305,  5153,   1199.3,   3.4285,  34.5576,2,-999.0000,3,     84.2,2,   83.200,2,   118.07,2,    38.99,2,     0.00,2,     2.80,2,  -999.00,9, -999.000,9, -999.000,9,   -999.0,9,   -999.0,9
           NA,     P10,     55,   1,      19,     -99,  2,19931026,1919,  16.5055,  149.3305,  5153,   1397.4,   3.0042,  34.5789,2,  34.5760,2,     91.4,2,   90.900,2,   125.97,2,    38.83,2,     0.00,2,     2.77,2,  -999.00,9, -999.000,9, -999.000,9,   -999.0,9,   -999.0,9
           NA,     P10,     55,   1,      18,     -99,  2,19931026,1919,  16.5055,  149.3305,  5153,   1600.3,   2.6172,  34.5958,2,  34.5933,2,     96.1,2,   95.300,2,   133.88,2,    38.88,2,     0.00,2,     2.77,2,  -999.00,9, -999.000,9, -999.000,9,   -999.0,9,   -999.0,9
           NA,     P10,     55,   1,      17,     -99,  2,19931026,1919,  16.5055,  149.3305,  5153,   1800.0,   2.3437,  34.6122,2,  34.6096,2,    102.4,2,  101.700,2,   138.98,2,    38.67,2,     0.00,2,     2.74,2,  -999.00,9, -999.000,9, -999.000,9,   -999.0,9,   -999.0,9
           NA,     P10,     55,   1,      16,     -99,  2,19931026,1919,  16.5055,  149.3305,  5153,   1998.1,   2.0891,  34.6270,2,  34.6243,2,    107.4,2,  108.500,2,   143.90,2,    38.35,2,     0.00,2,     2.72,2,  -999.00,9, -999.000,9, -999.000,9,   -999.0,9,   -999.0,9
           NA,     P10,     55,   1,      15,     -99,  2,19931026,1919,  16.5055,  149.3305,  5153,   2200.6,   1.9626,  34.6373,2,  34.6377,2,    111.5,2,  112.600,2,   146.19,2,    38.20,2,     0.00,2,     2.70,2,  -999.00,9, -999.000,9, -999.000,9,   -999.0,9,   -999.0,9
           NA,     P10,     55,   1,      14,     -99,  2,19931026,1919,  16.5055,  149.3305,  5153,   2399.5,   1.8528,  34.6472,2,  34.6471,2,    118.2,2,  117.900,2,   147.78,2,    37.93,2,     0.00,2,     2.68,2,    -0.00,2,    0.002,2, -999.000,9,   -999.0,9,   -999.0,9
           NA,     P10,     55,   1,      13,     -99,  2,19931026,1919,  16.5055,  149.3305,  5153,   2594.7,   1.7621,  34.6554,2,-999.0000,4,    123.2,2,  122.800,2,   148.66,2,    37.57,2,     0.00,2,     2.65,2,  -999.00,9, -999.000,9, -999.000,9,   -999.0,9,   -999.0,9
           NA,     P10,     55,   1,      12,     -99,  2,19931026,1919,  16.5055,  149.3305,  5153,   2792.3,   1.6893,  34.6625,2,  34.6609,2,    128.3,2,  127.300,2,   149.38,2,    37.32,2,    -0.01,2,     2.63,2,  -999.00,9, -999.000,9, -999.000,9,   -999.0,9,   -999.0,9
           NA,     P10,     55,   1,      10,     -99,  2,19931026,1919,  16.5055,  149.3305,  5153,   2992.8,   1.6422,  34.6679,2,  34.6665,2,    131.8,2,  131.800,2,   149.39,2,    37.06,2,    -0.01,2,     2.61,2,  -999.00,9, -999.000,9, -999.000,9,   -999.0,9,   -999.0,9
           NA,     P10,     55,   1,       9,     -99,  2,19931026,1919,  16.5055,  149.3305,  5153,   3239.0,   1.5833,  34.6738,2,  34.6728,2,    137.1,2,  137.400,2,   149.05,2,    36.74,2,     0.00,2,     2.58,2,  -999.00,9, -999.000,9, -999.000,9,   -999.0,9,   -999.0,9
           NA,     P10,     55,   1,       8,     -99,  2,19931026,1919,  16.5055,  149.3305,  5153,   3467.4,   1.5553,  34.6773,2,  34.6752,2,    141.1,2,  141.500,2,   148.35,2,    36.43,2,     0.00,2,     2.57,2,     0.00,2,   -0.001,2, -999.000,9,   -999.0,9,   -999.0,9
           NA,     P10,     55,   1,       7,     -99,  2,19931026,1919,  16.5055,  149.3305,  5153,   3751.3,   1.5095,  34.6824,2,  34.6819,2,    147.9,2,  148.800,2,   145.56,2,    35.96,2,     0.00,2,     2.52,2,  -999.00,9, -999.000,9, -999.000,9,   -999.0,9,   -999.0,9
           NA,     P10,     55,   1,       6,     -99,  2,19931026,1919,  16.5055,  149.3305,  5153,   3996.6,   1.4913,  34.6861,2,  34.6858,2,    152.5,2,  153.400,2,   144.16,2,    35.65,2,     0.00,2,     2.50,2,  -999.00,9, -999.000,9, -999.000,9,   -999.0,9,   -999.0,9
           NA,     P10,     55,   1,       5,     -99,  2,19931026,1919,  16.5055,  149.3305,  5153,   4245.2,   1.4754,  34.6893,2,  34.6878,2,    159.2,2,  158.500,2,   141.36,2,    35.24,2,    -0.01,2,     2.47,2,  -999.00,9, -999.000,9, -999.000,9,   -999.0,9,   -999.0,9
           NA,     P10,     55,   1,       4,     -99,  2,19931026,1919,  16.5055,  149.3305,  5153,   4495.3,   1.4551,  34.6928,2,  34.6915,2,    165.1,2,  165.100,2,   137.51,2,    34.71,2,     0.00,2,     2.43,2,  -999.00,9, -999.000,9, -999.000,9,   -999.0,9,   -999.0,9
           NA,     P10,     55,   1,       3,     -99,  2,19931026,1919,  16.5055,  149.3305,  5153,   4743.5,   1.4566,  34.6940,2,  34.6933,2,    169.6,2,  169.100,2,   135.59,2,    34.46,2,    -0.01,2,     2.41,2,  -999.00,9, -999.000,9, -999.000,9,   -999.0,9,   -999.0,9
           NA,     P10,     55,   1,       2,     -99,  2,19931026,1919,  16.5055,  149.3305,  5153,   4984.2,   1.4657,  34.6964,2,  34.6950,2,    172.2,2,  171.700,2,   134.02,2,    34.30,2,    -0.01,2,     2.40,2,  -999.00,9, -999.000,9, -999.000,9,   -999.0,9,   -999.0,9
           NA,     P10,     55,   1,       1,     -99,  2,19931026,1919,  16.5055,  149.3305,  5153,   5282.8,   1.4848,  34.6980,2,  34.6976,2,    174.3,2,  174.200,2,   132.40,2,    34.08,2,     0.00,2,     2.37,2,  -999.00,4, -999.000,3, -999.000,9,   -999.0,9,   -999.0,9