BOTTLE,20210102JOAExport
EXPOCODE,SECT_ID,STNNBR,CASTNO,SAMPNO,BTLNBR,BTLNBR_FLAG_W,DATE,TIME,LATITUDE,LONGITUDE,DEPTH,CTDPRS,CTDTMP,CTDSAL,CTDSAL_FLAG_W,SALNTY,SALNTY_FLAG_W,CTDOXY,CTDOXY_FLAG_W,OXYGEN,OXYGEN_FLAG_W,SILCAT,SILCAT_FLAG_W,NITRAT,NITRAT_FLAG_W,NITRIT,NITRIT_FLAG_W,PHSPHT,PHSPHT_FLAG_W,CFC-11,CFC-11_FLAG_W,CFC-12,CFC-12_FLAG_W,SF6,SF6_FLAG_W,TCARBN,TCARBN_FLAG_W,ALKALI,ALKALI_FLAG_W
,,,,,,,,,,,,DB,ITS-90,PSS-78,,PSS-78,,UMOL/KG,,UMOL/KG,,UMOL/KG,,UMOL/KG,,UMOL/KG,,UMOL/KG,,PMOL/KG,,PMOL/KG,,FMOL/KG,,UMOL/KG,,UMOL/KG
           NA,     P10,     17,   1,      32,     -99,  2,19931015,1703,  -0.2500,  146.0722,  4621,      5.9,  28.0728,  34.3500,2,  34.3506,2,    227.7,2,  202.900,2,     0.89,2,    -0.05,2,     0.03,2,     0.08,2,  -999.00,4,    0.959,2, -999.000,9,   -999.0,9,   -999.0,9
           NA,     P10,     17,   1,      31,     -99,  2,19931015,1703,  -0.2500,  146.0722,  4621,     51.1,  26.9178,  34.5447,2,  34.5310,2,    214.4,2,  200.800,2,     1.22,2,     0.02,2,     0.02,2,     0.09,2,  -999.00,4,    0.970,2, -999.000,9,   -999.0,9,   -999.0,9
           NA,     P10,     17,   1,      30,     -99,  2,19931015,1703,  -0.2500,  146.0722,  4621,    100.6,  25.0985,  34.8767,2,  34.8738,2,    186.5,2,  176.700,2,     1.87,2,     2.90,2,     0.16,2,     0.31,2,  -999.00,4,    0.957,2, -999.000,9,   -999.0,9,   -999.0,9
           NA,     P10,     17,   1,      29,     -99,  2,19931015,1703,  -0.2500,  146.0722,  4621,    149.3,  21.8750,  35.2302,2,  35.2257,2,    153.3,2,  148.000,2,     4.44,2,     8.04,2,     0.04,2,     0.66,2,  -999.00,4,    0.911,2, -999.000,9,   -999.0,9,   -999.0,9
           NA,     P10,     17,   1,      28,     -99,  2,19931015,1703,  -0.2500,  146.0722,  4621,    198.9,  17.5888,  35.2919,2,  35.3112,2,    146.7,2,  145.800,2,     5.73,2,    11.34,2,     0.03,2,     0.90,2,  -999.00,9, -999.000,9, -999.000,9,   -999.0,9,   -999.0,9
           NA,     P10,     17,   1,      27,     -99,  2,19931015,1703,  -0.2500,  146.0722,  4621,    246.8,  14.0045,  35.1035,2,  35.1026,2,    151.6,2,  154.100,2,     8.14,2,    15.41,2,     0.02,2,     1.16,2,  -999.00,9, -999.000,9, -999.000,9,   -999.0,9,   -999.0,9
           NA,     P10,     17,   1,      26,     -99,  2,19931015,1703,  -0.2500,  146.0722,  4621,    297.8,  12.0630,  34.9114,2,  34.9068,2,    141.1,2,  143.700,2,    14.24,2,    19.76,2,     0.02,2,     1.44,2,  -999.00,4,    0.419,2, -999.000,9,   -999.0,9,   -999.0,9
           NA,     P10,     17,   1,      25,     -99,  2,19931015,1703,  -0.2500,  146.0722,  4621,    377.5,  10.0535,  34.7225,2,  34.7361,2,    106.7,2,  103.000,2,    24.03,2,    27.39,2,     0.02,2,     1.92,2,  -999.00,9, -999.000,9, -999.000,9,   -999.0,9,   -999.0,9
           NA,     P10,     17,   1,      24,     -99,  2,19931015,1703,  -0.2500,  146.0722,  4621,    499.9,   7.7756,  34.5825,2,  34.5872,2,    139.0,2,  132.300,2,    30.93,2,    29.09,2,     0.02,2,     2.04,2,  -999.00,9, -999.000,9, -999.000,9,   -999.0,9,   -999.0,9
           NA,     P10,     17,   1,      23,     -99,  2,19931015,1703,  -0.2500,  146.0722,  4621,    549.6,   7.1637,  34.5532,2,  34.5581,2,    144.4,2,  144.300,2,    32.54,2,    29.29,2,     0.02,2,     2.05,2,  -999.00,9, -999.000,9, -999.000,9,   -999.0,9,   -999.0,9
           NA,     P10,     17,   1,      22,     -99,  2,19931015,1703,  -0.2500,  146.0722,  4621,    699.4,   6.0599,  34.5436,2,  34.5469,2,    100.7,2,   96.000,2,    53.40,2,    36.01,2,     0.02,2,     2.54,2,  -999.00,9, -999.000,9, -999.000,9,   -999.0,9,   -999.0,9
           NA,     P10,     17,   1,      21,     -99,  2,19931015,1703,  -0.2500,  146.0722,  4621,    794.7,   5.3501,  34.5408,2,  34.5393,2,     98.5,2,   96.900,2,    64.95,2,    36.90,2,     0.01,2,     2.62,2,  -999.00,9, -999.000,9, -999.000,9,   -999.0,9,   -999.0,9
           NA,     P10,     17,   1,      19,     -99,  2,19931015,1703,  -0.2500,  146.0722,  4621,    895.2,   5.0752,  34.5380,2,  34.5424,2,    103.9,2,  104.400,2,    68.17,2,    36.54,2,     0.02,2,     2.59,2,  -999.00,9, -999.000,9, -999.000,9,   -999.0,9,   -999.0,9
           NA,     P10,     17,   1,      18,     -99,  2,19931015,1703,  -0.2500,  146.0722,  4621,    996.1,   4.5736,  34.5525,2,  34.5526,2,     96.3,2,   96.100,2,    81.81,2,    37.75,2,     0.01,2,     2.70,2,  -999.00,4,   -0.001,2, -999.000,9,   -999.0,9,   -999.0,9
           NA,     P10,     17,   1,      17,     -99,  2,19931015,1703,  -0.2500,  146.0722,  4621,   1198.0,   3.7828,  34.5712,2,  34.5717,2,    104.9,2,  104.700,2,    96.08,2,    37.70,2,     0.02,2,     2.69,2,  -999.00,9, -999.000,9, -999.000,9,   -999.0,9,   -999.0,9
           NA,     P10,     17,   1,      16,     -99,  2,19931015,1703,  -0.2500,  146.0722,  4621,   1399.2,   3.1810,  34.5947,2,  34.5982,2,    105.1,2,  104.000,2,   111.64,2,    38.23,2,     0.01,2,     2.73,2,  -999.00,9, -999.000,9, -999.000,9,   -999.0,9,   -999.0,9
           NA,     P10,     17,   1,      15,     -99,  2,19931015,1703,  -0.2500,  146.0722,  4621,   1599.8,   2.8121,  34.6102,2,  34.6098,2,    109.3,2,  108.700,2,   119.82,2,    38.10,2,     0.01,2,     2.72,2,  -999.00,9, -999.000,9, -999.000,9,   -999.0,9,   -999.0,9
           NA,     P10,     17,   1,      14,     -99,  2,19931015,1703,  -0.2500,  146.0722,  4621,   1797.0,   2.4915,  34.6245,2,  34.6261,2,    113.3,2,  114.000,2,   127.05,2,    37.83,2,     0.01,2,     2.70,2,  -999.00,4,   -0.001,6, -999.000,9,   -999.0,9,   -999.0,9
           NA,     P10,     17,   1,      13,     -99,  2,19931015,1703,  -0.2500,  146.0722,  4621,   1993.4,   2.3234,  34.6331,2,  34.6333,2,    118.0,2,  117.900,2,   130.58,2,    37.47,2,     0.01,2,     2.69,2,  -999.00,9, -999.000,9, -999.000,9,   -999.0,9,   -999.0,9
           NA,     P10,     17,   1,      12,     -99,  2,19931015,1703,  -0.2500,  146.0722,  4621,   2200.2,   2.0922,  34.6448,2,  34.6477,2,    122.3,2,  121.900,2,   136.04,2,    37.36,2,     0.01,2,     2.67,2,  -999.00,4,   -0.002,2, -999.000,9,   -999.0,9,   -999.0,9
           NA,     P10,     17,   1,      11,     -99,  2,19931015,1703,  -0.2500,  146.0722,  4621,   2403.6,   1.9080,  34.6542,2,  34.6534,2,    127.8,2,  127.800,2,   139.41,2,    37.09,2,     0.01,2,     2.64,2,  -999.00,9, -999.000,9, -999.000,9,   -999.0,9,   -999.0,9
           NA,     P10,     17,   1,      10,     -99,  2,19931015,1703,  -0.2500,  146.0722,  4621,   2603.6,   1.7531,  34.6627,2,-999.0000,3,    134.2,2,  133.800,2,   141.34,2,    36.73,2,     0.01,2,     2.59,2,  -999.00,9, -999.000,9, -999.000,9,   -999.0,9,   -999.0,9
           NA,     P10,     17,   1,       9,     -99,  2,19931015,1703,  -0.2500,  146.0722,  4621,   2791.0,   1.6797,  34.6667,2,  34.6658,2,    138.1,2,  138.100,2,   141.84,2,    36.51,2,     0.01,2,     2.58,2,  -999.00,9, -999.000,9, -999.000,9,   -999.0,9,   -999.0,9
           NA,     P10,     17,   1,       8,     -99,  2,19931015,1703,  -0.2500,  146.0722,  4621,   2990.4,   1.6417,  34.6695,2,  34.6724,2,    141.5,2,  140.800,2,   142.16,2,    36.31,2,     0.00,2,     2.57,2,  -999.00,9, -999.000,9, -999.000,9,   -999.0,9,   -999.0,9
           NA,     P10,     17,   1,       7,     -99,  2,19931015,1703,  -0.2500,  146.0722,  4621,   3242.1,   1.5909,  34.6748,2,  34.6776,2,    145.7,2,  144.500,2,   142.34,2,    36.07,2,     0.01,2,     2.55,2,  -999.00,4,   -0.002,2, -999.000,9,   -999.0,9,   -999.0,9
           NA,     P10,     17,   1,       6,     -99,  2,19931015,1703,  -0.2500,  146.0722,  4621,   3496.8,   1.5705,  34.6782,2,  34.6791,2,    148.2,2,  147.400,2,   142.18,2,    35.95,2,     0.01,2,     2.54,2,  -999.00,9, -999.000,9, -999.000,9,   -999.0,9,   -999.0,9
           NA,     P10,     17,   1,       5,     -99,  2,19931015,1703,  -0.2500,  146.0722,  4621,   3746.0,   1.5405,  34.6817,2,-999.0000,3,    152.7,2,  151.100,2,   141.56,2,    35.78,2,     0.01,2,     2.52,2,  -999.00,9, -999.000,9, -999.000,9,   -999.0,9,   -999.0,9
           NA,     P10,     17,   1,       4,     -99,  2,19931015,1703,  -0.2500,  146.0722,  4621,   4000.2,   1.5404,  34.6841,2,  34.6846,2,    154.9,2,  153.000,2,   141.24,2,    35.69,2,     0.01,2,     2.51,2,  -999.00,9, -999.000,9, -999.000,9,   -999.0,9,   -999.0,9
           NA,     P10,     17,   1,       3,     -99,  2,19931015,1703,  -0.2500,  146.0722,  4621,   4244.9,   1.5348,  34.6861,2,  34.6862,2,   -999.0,3,  155.400,2,   140.61,2,    35.48,2,     0.01,2,     2.50,2,  -999.00,9, -999.000,9, -999.000,9,   -999.0,9,   -999.0,9
           NA,     P10,     17,   1,       2,     -99,  2,19931015,1703,  -0.2500,  146.0722,  4621,   4550.2,   1.5552,  34.6872,2,  34.6856,2,   -999.0,3,  156.500,2,   140.11,2,    35.33,2,     0.01,2,     2.48,2,  -999.00,4,   -0.008,2, -999.000,9,   -999.0,9,   -999.0,9
           NA,     P10,     18,   1,      27,     -99,  2,19931015,2200,   0.0028,  146.1445,  3471,     15.1,  28.1077,  34.3449,2,-999.0000,3,    230.4,2,  208.000,2,     1.07,2,     0.02,2,     0.00,2,     0.08,2,  -999.00,4,    0.993,2, -999.000,9,   1920.2,2,   2262.7,2
           NA,     P10,     18,   1,      26,     -99,  2,19931015,2200,   0.0028,  146.1445,  3471,     59.6,  26.6105,  34.5879,2,-999.0000,3,    213.0,2,  207.500,2,     1.25,2,     0.00,2,     0.00,2,     0.10,2,  -999.00,4,    0.994,2, -999.000,9,   1944.3,2,   2279.2,2
           NA,     P10,     18,   1,      25,     -99,  2,19931015,2200,   0.0028,  146.1445,  3471,    108.6,  24.5120,  34.8063,2,-999.0000,4,    169.3,2,  177.400,2,     2.69,2,     3.08,2,     0.10,2,     0.34,2,  -999.00,4,    1.004,2, -999.000,9,   1992.0,2,   2292.3,2
           NA,     P10,     18,   1,      24,     -99,  2,19931015,2200,   0.0028,  146.1445,  3471,    157.6,  19.8127,  35.4033,2,  35.3982,2,    145.8,2,  146.900,2,     4.47,2,     9.59,2,     0.02,2,     0.79,2,  -999.00,4,    0.855,2, -999.000,9,   2085.8,2,   2333.0,2
           NA,     P10,     18,   1,      23,     -99,  2,19931015,2200,   0.0028,  146.1445,  3471,    206.4,  16.6634,  35.2805,2,  35.2799,2,    148.0,2,  147.000,2,     6.40,2,    12.52,2,     0.02,2,     0.99,2,  -999.00,4,    0.716,2, -999.000,9,   2110.9,2,   2331.4,2
           NA,     P10,     18,   1,      22,     -99,  2,19931015,2200,   0.0028,  146.1445,  3471,    256.4,  13.7489,  35.0634,2,  35.0613,2,    143.0,2,  151.600,2,     9.77,2,    16.14,2,     0.02,2,     1.22,2,  -999.00,4,    0.566,2, -999.000,9,   2131.9,6,   2318.1,6
           NA,     P10,     18,   1,      21,     -99,  2,19931015,2200,   0.0028,  146.1445,  3471,    306.4,  11.3950,  34.8466,2,  34.8397,2,    136.6,2,  135.700,2,    17.15,2,    21.69,2,     0.01,2,     1.56,2,  -999.00,4,    0.371,2, -999.000,9,   2163.2,2,   2312.1,2
           NA,     P10,     18,   1,      20,     -99,  2,19931015,2200,   0.0028,  146.1445,  3471,    406.3,   9.4107,  34.6829,2,  34.7031,2,    111.4,2,  111.700,2,    25.97,2,    27.82,2,     0.00,2,     1.96,2,  -999.00,4,    0.156,2, -999.000,9,   2200.1,2,   2304.7,2
           NA,     P10,     18,   1,      19,     -99,  2,19931015,2200,   0.0028,  146.1445,  3471,    505.5,   7.6054,  34.5740,2,  34.5748,2,    140.6,2,  144.200,2,    29.34,2,    28.19,2,     0.01,2,     1.98,2,  -999.00,4,    0.119,2, -999.000,9,   2197.3,2,   2318.3,2
           NA,     P10,     18,   1,      18,     -99,  2,19931015,2200,   0.0028,  146.1445,  3471,    556.1,   6.9121,  34.5492,2,  34.5499,2,    121.8,2,  119.100,2,    41.20,2,    31.89,2,     0.00,2,     2.25,2,  -999.00,4,    0.043,2, -999.000,9,   2226.1,2,   2319.0,2
           NA,     P10,     18,   1,      17,     -99,  2,19931015,2200,   0.0028,  146.1445,  3471,    606.0,   6.5417,  34.5327,2,-999.0000,3,    137.3,2,  136.400,2,    39.93,2,    31.09,2,     0.00,2,     2.19,2,  -999.00,4,    0.052,2, -999.000,9,   2219.0,2,   2317.5,2
           NA,     P10,     18,   1,      16,     -99,  2,19931015,2200,   0.0028,  146.1445,  3471,    706.1,   6.0856,  34.5434,2,  34.5420,2,     99.2,2,   96.900,2,    53.23,2,    35.82,2,     0.00,2,     2.53,2,  -999.00,4,    0.002,2, -999.000,9,   2255.8,2,   2333.8,2
           NA,     P10,     18,   1,      15,     -99,  2,19931015,2200,   0.0028,  146.1445,  3471,    806.7,   5.3787,  34.5407,2,  34.5408,2,     98.2,2,   96.600,2,    64.61,2,    36.72,2,     0.00,2,     2.62,2,  -999.00,4,    0.002,2, -999.000,9,   2270.6,2,   2354.5,2
           NA,     P10,     18,   1,      14,     -99,  2,19931015,2200,   0.0028,  146.1445,  3471,    906.7,   5.1410,  34.5399,2,  34.5418,2,    103.9,2,  101.900,2,    68.46,2,    36.51,2,     0.00,2,     2.60,2,  -999.00,4,    0.002,2, -999.000,9,   2272.9,2,   2351.5,2
           NA,     P10,     18,   1,      13,     -99,  2,19931015,2200,   0.0028,  146.1445,  3471,   1006.7,   4.6078,  34.5523,2,  34.5542,2,     96.4,2,   95.200,2,    81.12,2,    37.73,2,     0.00,2,     2.70,2,  -999.00,4,   -0.001,2, -999.000,9,   2291.1,2,   2357.3,2
           NA,     P10,     18,   1,      12,     -99,  2,19931015,2200,   0.0028,  146.1445,  3471,   1207.7,   3.8733,  34.5692,2,-999.0000,3,    103.8,2,  102.500,2,    95.06,2,    37.65,2,     0.00,2,     2.70,2,  -999.00,4,    0.002,2, -999.000,9,   2302.6,2,   2385.8,2
           NA,     P10,     18,   1,      11,     -99,  2,19931015,2200,   0.0028,  146.1445,  3471,   1408.8,   3.3089,  34.5920,2,-999.0000,3,    101.2,2,  100.600,2,   110.12,2,    38.42,2,     0.00,2,     2.75,2,  -999.00,4,   -0.001,2, -999.000,9,   2320.8,2,   2397.8,2
           NA,     P10,     18,   1,      10,     -99,  2,19931015,2200,   0.0028,  146.1445,  3471,   1609.2,   2.8378,  34.6092,2,  34.6080,2,    109.1,2,  108.800,2,   118.93,2,    37.92,2,     0.01,2,     2.72,2,  -999.00,4,    0.000,2, -999.000,9,   2325.4,2,   2407.2,2
           NA,     P10,     18,   1,       9,     -99,  2,19931015,2200,   0.0028,  146.1445,  3471,   1811.1,   2.5589,  34.6215,2,  34.6172,2,    115.3,2,  114.000,2,   124.86,2,    37.81,2,     0.00,2,     2.70,2,  -999.00,4,   -0.001,2, -999.000,9,   2329.7,2,   2414.4,2
           NA,     P10,     18,   1,       8,     -99,  2,19931015,2200,   0.0028,  146.1445,  3471,   2012.9,   2.3244,  34.6336,2,  34.6345,2,    118.4,2,  118.100,2,   130.31,2,    37.65,2,    -0.01,2,     2.68,2,  -999.00,9, -999.000,9, -999.000,9,   2332.7,2,   -999.0,3
           NA,     P10,     18,   1,       7,     -99,  2,19931015,2200,   0.0028,  146.1445,  3471,   2213.4,   2.0846,  34.6453,2,  34.6461,2,    122.4,2,  122.200,2,   136.09,2,    37.42,2,     0.00,2,     2.66,2,  -999.00,4,    0.000,2, -999.000,9,   2336.2,2,   2423.3,2
           NA,     P10,     18,   1,       6,     -99,  2,19931015,2200,   0.0028,  146.1445,  3471,   2415.3,   1.8847,  34.6551,2,  34.6553,2,    128.3,2,  128.200,2,   139.78,2,    37.12,2,    -0.01,2,     2.62,2,  -999.00,9, -999.000,9, -999.000,9,   2336.2,2,   2427.5,2
           NA,     P10,     18,   1,       5,     -99,  2,19931015,2200,   0.0028,  146.1445,  3471,   2614.6,   1.7647,  34.6617,2,  34.6616,2,    132.9,2,  133.600,2,   140.90,2,    36.73,2,    -0.01,2,     2.60,2,  -999.00,4,    0.002,2, -999.000,9,   2334.6,2,   2436.5,2
           NA,     P10,     18,   1,       4,     -99,  2,19931015,2200,   0.0028,  146.1445,  3471,   2812.2,   1.6812,  34.6675,2,  34.6673,2,    137.7,2,  138.100,2,   141.71,2,    36.37,2,     0.00,2,     2.57,2,  -999.00,9, -999.000,9, -999.000,9,   2332.5,6,   -999.0,3
           NA,     P10,     18,   1,       3,     -99,  2,19931015,2200,   0.0028,  146.1445,  3471,   3017.2,   1.6124,  34.6724,2,  34.6721,2,    142.3,2,  142.200,2,   141.89,2,    36.20,2,    -0.01,2,     2.55,2,  -999.00,4,    0.001,2, -999.000,9,   2332.0,2,   -999.0,3
           NA,     P10,     18,   1,       2,     -99,  2,19931015,2200,   0.0028,  146.1445,  3471,   3244.7,   1.5905,  34.6753,2,  34.6776,2,    145.1,2,  144.700,2,   141.58,2,    35.93,2,     0.00,2,     2.55,2,  -999.00,4,   -0.001,2, -999.000,9,   2330.1,2,   2432.3,2
           NA,     P10,     18,   1,       1,     -99,  2,19931015,2200,   0.0028,  146.1445,  3471,   3502.7,   1.5797,  34.6770,2,  34.6768,2,    145.0,2,  146.300,2,   141.69,2,    35.91,2,     0.00,2,     2.53,2,  -999.00,4,   -0.002,2, -999.000,9,   2330.4,2,   2435.4,2