BOTTLE,20210102JOAExport
EXPOCODE,SECT_ID,STNNBR,CASTNO,SAMPNO,BTLNBR,BTLNBR_FLAG_W,DATE,TIME,LATITUDE,LONGITUDE,DEPTH,CTDPRS,CTDTMP,CTDSAL,CTDSAL_FLAG_W,SALNTY,SALNTY_FLAG_W,CTDOXY,CTDOXY_FLAG_W,OXYGEN,OXYGEN_FLAG_W,SILCAT,SILCAT_FLAG_W,NITRAT,NITRAT_FLAG_W,NITRIT,NITRIT_FLAG_W,PHSPHT,PHSPHT_FLAG_W,CFC-11,CFC-11_FLAG_W,CFC-12,CFC-12_FLAG_W,SF6,SF6_FLAG_W,TCARBN,TCARBN_FLAG_W,ALKALI,ALKALI_FLAG_W
,,,,,,,,,,,,DB,ITS-90,PSS-78,,PSS-78,,UMOL/KG,,UMOL/KG,,UMOL/KG,,UMOL/KG,,UMOL/KG,,UMOL/KG,,PMOL/KG,,PMOL/KG,,FMOL/KG,,UMOL/KG,,UMOL/KG
           NA,     P10,     56,   3,      36,     -99,  2,19931027,1340,  17.1667,  149.3333,  5398,     11.1,  28.8909,  34.9396,2,  34.9393,2,    212.9,2,  204.100,2,     0.52,2,     0.06,2,     0.01,2,     0.02,2,     1.67,2,    0.924,2, -999.000,9,   1930.8,2,   2300.5,2
           NA,     P10,     56,   3,      35,     -99,  2,19931027,1340,  17.1667,  149.3333,  5398,     46.5,  28.9064,  34.9397,2,  34.9395,2,    205.5,2,  207.100,2,     0.52,2,     0.06,2,     0.01,2,     0.03,2,     1.71,2,    0.975,2, -999.000,9,   1929.0,2,   2299.4,2
           NA,     P10,     56,   3,      34,     -99,  2,19931027,1340,  17.1667,  149.3333,  5398,     96.7,  24.9691,  35.1294,2,  35.1213,2,    223.2,2,  218.000,2,     1.03,2,     0.06,2,     0.01,2,     0.04,2,     2.00,2,    1.081,2, -999.000,9,   1967.3,6,   2310.6,2
           NA,     P10,     56,   3,      33,     -99,  2,19931027,1340,  17.1667,  149.3333,  5398,    146.5,  22.1811,  35.1063,2,  35.1074,2,    200.7,2,  205.900,2,     1.39,2,     0.61,2,     0.07,2,     0.12,2,     2.21,6,    1.176,6, -999.000,9,   2000.6,2,   2310.6,2
           NA,     P10,     56,   3,      32,     -99,  2,19931027,1340,  17.1667,  149.3333,  5398,    197.3,  19.0165,  34.9560,2,  34.9532,2,    198.6,2,  203.100,2,     2.60,2,     2.40,2,     0.02,2,     0.25,2,     2.45,2,    1.296,2, -999.000,9,   2021.9,2,   2301.5,6
           NA,     P10,     56,   3,      31,     -99,  2,19931027,1340,  17.1667,  149.3333,  5398,    246.3,  17.6331,  34.8467,2,  34.8431,2,    199.2,2,  198.000,2,     3.63,2,     4.36,2,     0.01,2,     0.38,2,     2.45,2,    1.265,2, -999.000,9,   2033.5,2,   2295.6,2
           NA,     P10,     56,   3,      30,     -99,  2,19931027,1340,  17.1667,  149.3333,  5398,    297.9,  15.1035,  34.6192,2,  34.6239,2,    194.9,2,  197.800,2,     7.95,2,     8.40,2,     0.01,2,     0.64,2,     2.47,2,    1.264,2, -999.000,9,   2053.4,2,   2285.9,2
           NA,     P10,     56,   3,      29,     -99,  2,19931027,1340,  17.1667,  149.3333,  5398,    401.2,  10.5670,  34.2480,2,  34.2643,2,    162.3,2,  171.200,2,    21.97,2,    18.22,2,     0.01,2,     1.37,2,     1.87,2,    0.885,2, -999.000,9,   2124.3,2,   2277.7,2
           NA,     P10,     56,   3,      28,     -99,  2,19931027,1340,  17.1667,  149.3333,  5398,    499.6,   7.9341,  34.2053,2,  34.2045,2,     97.5,2,  102.800,2,    44.80,2,    29.39,2,     0.00,2,     2.19,2,     0.66,2,    0.317,2, -999.000,9,   2212.9,2,   2294.7,2
           NA,     P10,     56,   3,      27,     -99,  2,19931027,1340,  17.1667,  149.3333,  5398,    594.8,   6.3832,  34.2870,2,  34.2821,2,     60.4,2,   59.600,2,    66.42,2,    36.35,2,     0.00,2,     2.69,2,     0.13,2,    0.071,2, -999.000,9,   2273.5,2,   2317.6,2
           NA,     P10,     56,   3,      26,     -99,  2,19931027,1340,  17.1667,  149.3333,  5398,    693.4,   5.6475,  34.3872,2,-999.0000,3,     50.9,2,   53.300,2,    78.35,2,    38.64,2,     0.01,2,     2.83,2,     0.03,2,    0.009,2, -999.000,9,   2295.3,2,   2340.7,2
           NA,     P10,     56,   3,      25,     -99,  2,19931027,1340,  17.1667,  149.3333,  5398,    794.9,   5.1734,  34.4619,2,-999.0000,3,     59.8,2,   61.200,2,    85.79,2,    38.88,2,     0.01,2,     2.83,2,     0.02,2,    0.005,2, -999.000,9,   2302.8,2,   2351.8,2
           NA,     P10,     56,   3,      24,     -99,  2,19931027,1340,  17.1667,  149.3333,  5398,    897.0,   4.6801,  34.5001,2,  34.4968,2,     68.0,2,   69.400,2,    94.24,2,    39.00,2,     0.01,2,     2.83,2,     0.01,2,    0.003,2, -999.000,9,   2310.2,2,   2365.4,2
           NA,     P10,     56,   3,      23,     -99,  2,19931027,1340,  17.1667,  149.3333,  5398,    998.0,   4.2417,  34.5203,2,  34.5180,2,     75.1,2,   76.200,2,   102.20,2,    38.84,2,     0.01,2,     2.81,2,     0.01,2,    0.004,2, -999.000,9,   2315.8,2,   2377.5,2
           NA,     P10,     56,   3,      22,     -99,  3,19931027,1340,  17.1667,  149.3333,  5398,   1095.1,   3.9880,  34.5351,2,  34.5359,2,     79.1,2,   79.200,2,   107.04,2,    38.96,2,     0.01,2,     2.82,2,     0.01,2,    0.007,2, -999.000,9,   2320.0,2,   2379.8,2
           NA,     P10,     56,   3,      21,     -99,  2,19931027,1340,  17.1667,  149.3333,  5398,   1199.4,   3.6860,  34.5463,2,  34.5440,2,     81.5,2,   80.500,2,   113.27,2,    39.20,2,     0.00,2,     2.83,2,  -999.00,4,    0.002,2, -999.000,9,   2326.5,2,   2389.3,2
           NA,     P10,     56,   3,      20,     -99,  2,19931027,1340,  17.1667,  149.3333,  5398,   1394.1,   3.1183,  34.5709,2,  34.5683,2,     86.8,2,   87.100,2,   124.51,2,    39.27,2,     0.00,2,     2.82,2,  -999.00,9, -999.000,9, -999.000,9,   2336.3,2,   2400.1,2
           NA,     P10,     56,   3,      19,     -99,  2,19931027,1340,  17.1667,  149.3333,  5398,   1595.6,   2.6757,  34.5920,2,-999.0000,3,     92.4,2,   94.900,2,   132.80,2,    39.22,2,     0.00,2,     2.80,2,  -999.00,9, -999.000,9, -999.000,9,   2341.1,2,   2411.7,2
           NA,     P10,     56,   3,      18,     -99,  2,19931027,1340,  17.1667,  149.3333,  5398,   1792.3,   2.3886,  34.6067,2,  34.6056,2,     99.5,2,   98.600,2,   138.51,2,    39.07,2,     0.00,2,     2.78,2,  -999.00,9, -999.000,9, -999.000,9,   2344.4,6,   2419.3,2
           NA,     P10,     56,   3,      17,     -99,  2,19931027,1340,  17.1667,  149.3333,  5398,   1994.6,   2.1470,  34.6236,2,  34.6229,2,    105.5,2,  105.300,2,   142.82,2,    38.84,2,     0.01,2,     2.76,2,     0.00,2,    0.008,2, -999.000,9,   2342.7,2,   -999.0,5
           NA,     P10,     56,   3,      16,     -99,  2,19931027,1340,  17.1667,  149.3333,  5398,   2196.3,   1.9624,  34.6376,2,-999.0000,3,    112.4,2,  112.300,2,   145.60,2,    38.46,2,     0.01,2,     2.72,2,  -999.00,9, -999.000,9, -999.000,9,   2345.1,2,   2423.9,2
           NA,     P10,     56,   3,      15,     -99,  2,19931027,1340,  17.1667,  149.3333,  5398,   2389.2,   1.8400,  34.6486,2,  34.6449,2,    117.9,2,  118.100,2,   147.32,2,    38.13,2,     0.01,2,     2.71,2,  -999.00,9, -999.000,9, -999.000,9,   2352.6,2,   2431.2,2
           NA,     P10,     56,   3,      14,     -99,  3,19931027,1340,  17.1667,  149.3333,  5398,   2595.4,   1.7536,  34.6575,2,  34.6561,2,    123.0,2,  123.500,2,   148.36,2,    37.81,2,     0.00,2,     2.68,2,  -999.00,9, -999.000,9, -999.000,9,   2352.6,2,   2428.8,2
           NA,     P10,     56,   3,      13,     -99,  2,19931027,1340,  17.1667,  149.3333,  5398,   2792.9,   1.6784,  34.6649,2,-999.0000,4,    127.8,2,  128.800,2,   148.53,2,    37.59,2,     0.00,2,     2.66,2,  -999.00,9, -999.000,9, -999.000,9,   2351.5,2,   2433.5,2
           NA,     P10,     56,   3,      12,     -99,  2,19931027,1340,  17.1667,  149.3333,  5398,   2995.1,   1.6219,  34.6707,2,  34.6681,2,    132.9,2,  133.900,2,   148.53,2,    37.15,2,     0.00,2,     2.62,2,    -0.00,2,    0.002,2, -999.000,9,   2335.1,2,   2427.9,2
           NA,     P10,     56,   3,      11,     -99,  2,19931027,1340,  17.1667,  149.3333,  5398,   3197.1,   1.5663,  34.6756,2,  34.6728,2,    138.4,2,  139.300,2,   147.84,2,    36.83,2,     0.00,2,     2.60,2,  -999.00,4,    0.002,2, -999.000,9,   2339.8,2,   2429.9,2
           NA,     P10,     56,   3,      10,     -99,  2,19931027,1340,  17.1667,  149.3333,  5398,   3394.7,   1.5425,  34.6791,2,  34.6781,2,    141.7,2, -999.000,4,   146.97,2,    36.56,2,    -0.01,2,     2.58,2,  -999.00,9, -999.000,9, -999.000,9,   2332.1,2,   2423.9,2
           NA,     P10,     56,   3,       9,     -99,  2,19931027,1340,  17.1667,  149.3333,  5398,   3594.7,   1.5200,  34.6828,2,  34.6821,2,    145.9,2,  146.300,2,   145.93,2,    36.34,2,     0.00,2,     2.56,2,  -999.00,9, -999.000,9, -999.000,9,   2329.5,2,   2427.7,2
           NA,     P10,     56,   3,       8,     -99,  2,19931027,1340,  17.1667,  149.3333,  5398,   3797.0,   1.4956,  34.6854,2,  34.6831,2,    150.6,2,  151.300,2,   144.54,2,    36.01,2,     0.00,2,     2.55,2,  -999.00,9, -999.000,9, -999.000,9,   2325.7,2,   2424.8,2
           NA,     P10,     56,   3,       7,     -99,  2,19931027,1340,  17.1667,  149.3333,  5398,   4010.4,   1.4776,  34.6885,2,-999.0000,4,    154.9,2,  155.900,2,   142.47,2,    35.67,2,     0.00,2,     2.52,2,  -999.00,9, -999.000,9, -999.000,9,   2321.6,2,   2420.5,2
           NA,     P10,     56,   3,       6,     -99,  2,19931027,1340,  17.1667,  149.3333,  5398,   4253.2,   1.4596,  34.6922,2,  34.6899,2,    160.9,2,  161.200,2,   139.53,2,    35.23,2,     0.00,2,     2.49,2,  -999.00,9, -999.000,9, -999.000,9,   2315.7,2,   2418.5,2
           NA,     P10,     56,   3,       5,     -99,  2,19931027,1340,  17.1667,  149.3333,  5398,   4508.4,   1.4588,  34.6943,2,  34.6909,2,    165.0,2,  164.900,2,   137.45,2,    34.96,2,     0.00,2,     2.46,2,     0.00,2,    0.003,2, -999.000,9,   2310.8,2,   2415.0,2
           NA,     P10,     56,   3,       4,     -99,  2,19931027,1340,  17.1667,  149.3333,  5398,   4754.1,   1.4533,  34.6966,2,-999.0000,3,    169.9,2,  170.000,2,   134.69,2,    34.58,2,     0.00,2,     2.43,2,  -999.00,9, -999.000,9, -999.000,9,   2306.2,2,   2413.3,6
           NA,     P10,     56,   3,       3,     -99,  2,19931027,1340,  17.1667,  149.3333,  5398,   4999.4,   1.4653,  34.6979,2,  34.6986,2,    173.0,2,  172.400,2,   133.65,2,    34.48,2,    -0.01,2,     2.42,2,  -999.00,9, -999.000,9, -999.000,9,   2302.7,6,   2412.1,2
           NA,     P10,     56,   3,       2,     -99,  2,19931027,1340,  17.1667,  149.3333,  5398,   5193.3,   1.4766,  34.6995,2,  34.6992,2,    174.7,2,  174.400,2,   132.62,2,    34.31,2,     0.00,2,     2.41,2,  -999.00,9, -999.000,9, -999.000,9,   2301.6,2,   2412.0,6
           NA,     P10,     56,   3,       1,     -99,  2,19931027,1340,  17.1667,  149.3333,  5398,   5482.1,   1.4953,  34.7007,2,  34.7017,2,    177.7,2, -999.000,3,   130.89,2,    34.12,2,     0.00,2,     2.39,2,    -0.00,2,    0.001,2, -999.000,9,   2297.0,2,   2404.3,2