BOTTLE,20210102JOAExport
EXPOCODE,SECT_ID,STNNBR,CASTNO,SAMPNO,BTLNBR,BTLNBR_FLAG_W,DATE,TIME,LATITUDE,LONGITUDE,DEPTH,CTDPRS,CTDTMP,CTDSAL,CTDSAL_FLAG_W,SALNTY,SALNTY_FLAG_W,CTDOXY,CTDOXY_FLAG_W,OXYGEN,OXYGEN_FLAG_W,SILCAT,SILCAT_FLAG_W,NITRAT,NITRAT_FLAG_W,NITRIT,NITRIT_FLAG_W,PHSPHT,PHSPHT_FLAG_W,CFC-11,CFC-11_FLAG_W,CFC-12,CFC-12_FLAG_W,SF6,SF6_FLAG_W,TCARBN,TCARBN_FLAG_W,ALKALI,ALKALI_FLAG_W
,,,,,,,,,,,,DB,ITS-90,PSS-78,,PSS-78,,UMOL/KG,,UMOL/KG,,UMOL/KG,,UMOL/KG,,UMOL/KG,,UMOL/KG,,PMOL/KG,,PMOL/KG,,FMOL/KG,,UMOL/KG,,UMOL/KG
           NA,     P10,     37,   1,      36,     -99,  2,19931021,0720,   6.4917,  148.4862,  3386,      7.8,  28.7601,  33.3134,2,  33.3145,2,    205.8,2,  211.100,2,     1.13,2,     0.04,2,     0.01,2,     0.06,2,     1.76,2,    0.925,2, -999.000,9,   -999.0,9,   -999.0,9
           NA,     P10,     37,   1,      26,     -99,  2,19931021,0720,   6.4917,  148.4862,  3386,     48.3,  28.9066,  33.7989,2,  33.7887,2,    210.2,2,  218.600,2,     1.46,2,     0.04,2,     0.01,2,     0.04,2,     1.76,2,    0.965,2, -999.000,9,   -999.0,9,   -999.0,9
           NA,     P10,     37,   1,      25,     -99,  2,19931021,0720,   6.4917,  148.4862,  3386,     97.1,  24.6757,  34.6245,2,  34.6372,2,    180.2,2,  200.100,2,     3.08,2,     0.09,2,     0.02,2,     0.21,2,  -999.00,9, -999.000,9, -999.000,9,   -999.0,9,   -999.0,9
           NA,     P10,     37,   1,      24,     -99,  2,19931021,0720,   6.4917,  148.4862,  3386,    145.7,  15.6688,  34.6550,2,  34.6728,2,    123.8,2,  129.300,2,    15.21,2,    15.38,2,     0.02,2,     1.16,2,  -999.00,9, -999.000,9, -999.000,9,   -999.0,9,   -999.0,9
           NA,     P10,     37,   1,      23,     -99,  2,19931021,0720,   6.4917,  148.4862,  3386,    198.7,  12.2374,  34.5530,2,  34.5697,2,    109.4,2,  112.200,2,    24.43,2,    21.99,2,     0.01,2,     1.59,2,     1.11,2,    0.533,2, -999.000,9,   -999.0,9,   -999.0,9
           NA,     P10,     37,   1,      22,     -99,  2,19931021,0720,   6.4917,  148.4862,  3386,    248.9,  10.5506,  34.5400,2,  34.5427,2,     88.2,2,   92.000,2,    31.70,2,    26.87,2,     0.01,2,     1.92,2,     0.65,2,    0.310,2, -999.000,9,   -999.0,9,   -999.0,9
           NA,     P10,     37,   1,      20,     -99,  2,19931021,0720,   6.4917,  148.4862,  3386,    396.6,   8.8350,  34.5960,2,  34.5986,2,     68.1,2,   67.400,2,    37.68,2,    32.74,2,     0.01,2,     2.30,2,  -999.00,9, -999.000,9, -999.000,9,   -999.0,9,   -999.0,9
           NA,     P10,     37,   1,      19,     -99,  2,19931021,0720,   6.4917,  148.4862,  3386,    496.0,   8.0652,  34.5853,2,  34.5897,2,     60.9,2,   60.200,2,    42.69,2,    34.99,2,     0.01,2,     2.46,2,  -999.00,9, -999.000,9, -999.000,9,   -999.0,9,   -999.0,9
           NA,     P10,     37,   1,      18,     -99,  2,19931021,0720,   6.4917,  148.4862,  3386,    599.6,   7.4674,  34.5624,2,-999.0000,4,     57.8,2,   60.100,2,    49.00,2,    36.10,2,     0.00,2,     2.55,2,  -999.00,9, -999.000,9, -999.000,9,   -999.0,9,   -999.0,9
           NA,     P10,     37,   1,      17,     -99,  2,19931021,0720,   6.4917,  148.4862,  3386,    700.0,   6.5177,  34.5464,2,  34.5443,2,     61.9,2,   62.500,2,    60.15,2,    37.50,2,     0.01,2,     2.67,2,     0.02,2,    0.007,2, -999.000,9,   -999.0,9,   -999.0,9
           NA,     P10,     37,   1,      16,     -99,  2,19931021,0720,   6.4917,  148.4862,  3386,    802.0,   5.7784,  34.5369,2,  34.5357,2,     70.9,2,   70.900,2,    70.65,2,    38.04,2,     0.00,2,     2.71,2,     0.02,2,    0.002,2, -999.000,9,   -999.0,9,   -999.0,9
           NA,     P10,     37,   1,      15,     -99,  4,19931021,0720,   6.4917,  148.4862,  3386,    902.9,   4.8226,  34.5481,2,-999.0000,2,     79.8,2, -999.000,2,  -999.00,2,  -999.00,2,  -999.00,2,  -999.00,2,  -999.00,9, -999.000,9, -999.000,9,   -999.0,9,   -999.0,9
           NA,     P10,     37,   1,      14,     -99,  2,19931021,0720,   6.4917,  148.4862,  3386,    987.5,   4.2311,  34.5619,2,-999.0000,3,     86.5,2,   87.600,2,    96.35,2,    38.46,2,     0.00,2,     2.74,2,     0.01,2,   -0.004,2, -999.000,9,   -999.0,9,   -999.0,9
           NA,     P10,     37,   1,      13,     -99,  3,19931021,0720,   6.4917,  148.4862,  3386,   1192.4,   3.6349,  34.5800,2,-999.0000,4,     92.2,2, -999.000,4,   107.50,2,    38.68,2,     0.00,2,     2.75,2,  -999.00,9, -999.000,9, -999.000,9,   -999.0,9,   -999.0,9
           NA,     P10,     37,   1,      12,     -99,  2,19931021,0720,   6.4917,  148.4862,  3386,   1397.0,   3.1165,  34.5972,2,  34.6014,2,     95.2,2,   94.900,2,   119.19,2,    38.87,2,     0.00,2,     2.76,2,     0.01,2,    0.003,2, -999.000,9,   -999.0,9,   -999.0,9
           NA,     P10,     37,   1,      11,     -99,  2,19931021,0720,   6.4917,  148.4862,  3386,   1596.5,   2.7332,  34.6122,2,-999.0000,4,    100.6,2,  100.400,2,   127.36,2,    38.83,2,     0.00,2,     2.76,2,  -999.00,9, -999.000,9, -999.000,9,   -999.0,9,   -999.0,9
           NA,     P10,     37,   1,      10,     -99,  2,19931021,0720,   6.4917,  148.4862,  3386,   1791.1,   2.4604,  34.6250,2,-999.0000,4,    105.1,2,  105.600,2,   133.17,2,    38.62,2,     0.00,2,     2.73,2,  -999.00,9, -999.000,9, -999.000,9,   -999.0,9,   -999.0,9
           NA,     P10,     37,   1,       9,     -99,  2,19931021,0720,   6.4917,  148.4862,  3386,   1996.7,   2.1998,  34.6381,2,  34.6379,2,    111.5,2,  111.800,2,   138.17,2,    38.37,2,    -0.01,2,     2.71,2,  -999.00,9, -999.000,9, -999.000,9,   -999.0,9,   -999.0,9
           NA,     P10,     37,   1,       8,     -99,  2,19931021,0720,   6.4917,  148.4862,  3386,   2203.0,   1.9969,  34.6493,2,-999.0000,4,    118.0,2,  118.300,2,   141.56,2,    38.00,2,    -0.01,2,     2.68,2,  -999.00,9, -999.000,9, -999.000,9,   -999.0,9,   -999.0,9
           NA,     P10,     37,   1,       7,     -99,  2,19931021,0720,   6.4917,  148.4862,  3386,   2398.3,   1.8796,  34.6556,2,-999.0000,4,    123.1,2,  124.200,2,   142.52,2,    37.64,2,    -0.01,2,     2.65,2,  -999.00,9, -999.000,9, -999.000,9,   -999.0,9,   -999.0,9
           NA,     P10,     37,   1,       6,     -99,  2,19931021,0720,   6.4917,  148.4862,  3386,   2592.4,   1.7722,  34.6622,2,  34.6618,2,    129.9,2,  130.400,2,   143.15,2,    37.27,2,    -0.01,2,     2.61,2,  -999.00,9, -999.000,9, -999.000,9,   -999.0,9,   -999.0,9
           NA,     P10,     37,   1,       5,     -99,  2,19931021,0720,   6.4917,  148.4862,  3386,   2798.9,   1.6866,  34.6676,2,  34.6673,2,    135.7,2,  136.000,2,   142.98,2,    36.85,2,    -0.01,2,     2.58,2,  -999.00,9, -999.000,9, -999.000,9,   -999.0,9,   -999.0,9
           NA,     P10,     37,   1,       4,     -99,  2,19931021,0720,   6.4917,  148.4862,  3386,   3011.9,   1.6287,  34.6728,2,  34.6738,2,    141.7,2,  140.800,2,   142.33,2,    36.49,2,    -0.01,2,     2.55,2,  -999.00,9, -999.000,9, -999.000,9,   -999.0,9,   -999.0,9
           NA,     P10,     37,   1,       3,     -99,  2,19931021,0720,   6.4917,  148.4862,  3386,   3204.4,   1.5773,  34.6763,2,  34.6806,2,    145.1,2,  145.100,2,   142.00,2,    36.22,2,    -0.01,2,     2.53,2,  -999.00,9, -999.000,9, -999.000,9,   -999.0,9,   -999.0,9
           NA,     P10,     37,   1,       2,     -99,  2,19931021,0720,   6.4917,  148.4862,  3386,   3400.6,   1.5378,  34.6805,2,  34.6818,2,    149.7,2,  149.400,2,   141.66,2,    36.02,2,    -0.01,2,     2.52,2,  -999.00,9, -999.000,9, -999.000,9,   -999.0,9,   -999.0,9
           NA,     P10,     37,   1,       1,     -99,  2,19931021,0720,   6.4917,  148.4862,  3386,   3679.8,   1.5108,  34.6840,2,-999.0000,4,    152.7,2,  152.500,2,   140.91,2,    35.73,2,     0.00,2,     2.49,2,     0.00,2,    0.004,2, -999.000,9,   -999.0,9,   -999.0,9
           NA,     P10,     38,   1,      36,     -99,  2,19931021,1257,   7.0000,  148.6972,  3199,      9.6,  28.5665,  33.3801,2,  33.3824,2,    205.4,2,  209.200,2,     1.23,2,    -0.01,2,     0.01,2,     0.04,2,     1.76,2,    0.951,2, -999.000,9,   1857.6,2,   2201.0,2
           NA,     P10,     38,   1,      26,     -99,  2,19931021,1257,   7.0000,  148.6972,  3199,     24.3,  28.6042,  33.4155,2,  33.4074,2,    196.9,2,  207.600,2,     1.41,2,    -0.02,2,     0.02,2,     0.04,2,     1.74,2,    0.919,2, -999.000,9,   1858.8,2,   2200.2,2
           NA,     P10,     38,   1,      25,     -99,  2,19931021,1257,   7.0000,  148.6972,  3199,     48.3,  28.2737,  34.1375,2,  34.1372,2,    204.1,2,  209.400,2,     1.43,2,    -0.01,2,     0.01,2,     0.09,2,     1.82,2,    0.966,2, -999.000,9,   1904.3,2,   2249.6,2
           NA,     P10,     38,   1,      24,     -99,  2,19931021,1257,   7.0000,  148.6972,  3199,     96.6,  22.3164,  34.7309,2,  34.7281,2,    172.1,2,  167.100,2,     5.54,2,     3.77,2,     0.28,2,     0.46,2,     1.82,6,    0.936,6, -999.000,9,   2023.6,2,   2293.8,2
           NA,     P10,     38,   1,      23,     -99,  2,19931021,1257,   7.0000,  148.6972,  3199,    145.7,  16.8948,  34.6622,2,  34.6602,2,    131.9,2,  132.300,2,    13.27,2,    13.39,2,     0.03,2,     1.03,2,  -999.00,4, -999.000,4, -999.000,9,   2097.5,2,   2291.0,2
           NA,     P10,     38,   1,      22,     -99,  2,19931021,1257,   7.0000,  148.6972,  3199,    195.8,  12.0508,  34.5549,2,-999.0000,3,    105.2,2,   96.200,2,    25.27,2,    23.49,2,     0.02,2,     1.70,2,     0.96,2,    0.466,2, -999.000,9,   2172.7,6,   2296.8,2
           NA,     P10,     38,   1,      21,     -99,  3,19931021,1257,   7.0000,  148.6972,  3199,    265.4,   9.7235,  34.5859,2,  34.5860,2,     65.8,2,   66.500,2,    35.13,2,    31.19,2,     0.01,2,     2.21,2,  -999.00,9, -999.000,9, -999.000,9,   -999.0,9,   -999.0,9
           NA,     P10,     38,   1,      20,     -99,  2,19931021,1257,   7.0000,  148.6972,  3199,    335.2,   8.8962,  34.6057,2,  34.6053,2,     54.1,2,   54.100,2,    38.42,2,    33.69,2,     0.01,2,     2.35,2,     0.12,2,    0.056,2, -999.000,9,   2245.0,2,   2314.0,6
           NA,     P10,     38,   1,      19,     -99,  2,19931021,1257,   7.0000,  148.6972,  3199,    395.6,   8.4081,  34.5947,2,  34.5960,2,     55.5,2,   56.500,2,    41.05,2,    34.42,2,     0.01,2,     2.41,2,     0.08,2,    0.043,2, -999.000,9,   2250.3,2,   2315.8,2
           NA,     P10,     38,   1,      18,     -99,  2,19931021,1257,   7.0000,  148.6972,  3199,    499.2,   7.6926,  34.5719,2,  34.5730,2,     60.0,2,   59.600,2,    46.47,2,    35.52,2,     0.00,2,     2.49,2,     0.05,2,    0.025,2, -999.000,9,   2256.9,2,   2322.5,2
           NA,     P10,     38,   1,      17,     -99,  2,19931021,1257,   7.0000,  148.6972,  3199,    597.9,   7.0074,  34.5462,2,  34.5492,2,     60.5,2,   59.800,2,    53.85,2,    36.66,2,     0.01,2,     2.58,2,     0.03,2,    0.008,2, -999.000,9,   2269.1,2,   2328.3,2
           NA,     P10,     38,   1,      16,     -99,  2,19931021,1257,   7.0000,  148.6972,  3199,    694.5,   6.2751,  34.5422,2,  34.5437,2,     64.2,2,   64.000,2,    63.53,2,    37.65,2,     0.01,2,     2.66,2,  -999.00,9, -999.000,9, -999.000,9,   2279.5,2,   2337.9,2
           NA,     P10,     38,   1,      15,     -99,  2,19931021,1257,   7.0000,  148.6972,  3199,    793.1,   5.6167,  34.5415,2,-999.0000,4,     70.3,2,   71.200,2,    72.71,2,    38.08,2,     0.00,2,     2.68,2,     0.01,2,    0.004,2, -999.000,9,   2287.3,2,   2352.7,2
           NA,     P10,     38,   1,      14,     -99,  2,19931021,1257,   7.0000,  148.6972,  3199,    905.2,   4.7242,  34.5508,2,  34.5510,2,     82.2,2,   82.700,2,    87.46,2,    38.13,2,     0.01,2,     2.70,2,     0.01,2,    0.001,2, -999.000,9,   2299.4,2,   -999.0,4
           NA,     P10,     38,   1,      13,     -99,  2,19931021,1257,   7.0000,  148.6972,  3199,    999.4,   4.3943,  34.5583,2,  34.5577,2,     85.5,2,   85.000,2,    93.85,2,    38.33,2,     0.01,2,     2.71,2,     0.02,2,    0.004,2, -999.000,9,   2306.4,6,   2371.6,2
           NA,     P10,     38,   1,      12,     -99,  2,19931021,1257,   7.0000,  148.6972,  3199,   1102.9,   3.9911,  34.5692,2,-999.0000,4,     87.8,2,   87.700,2,   101.87,2,    38.51,2,     0.00,2,     2.72,2,     0.01,2,   -0.001,2, -999.000,9,   2311.8,2,   2384.1,6
           NA,     P10,     38,   1,      11,     -99,  3,19931021,1257,   7.0000,  148.6972,  3199,   1205.4,   3.6518,  34.5792,2,  34.5827,2,     91.2,2,   90.900,2,   108.57,2,    38.56,2,     0.00,2,     2.72,2,     0.00,2,   -0.001,2, -999.000,9,   2319.3,2,   2389.6,2
           NA,     P10,     38,   1,      10,     -99,  2,19931021,1257,   7.0000,  148.6972,  3199,   1402.8,   3.0029,  34.6019,2,  34.6045,2,     97.1,2,   96.900,2,   122.16,2,    38.77,2,     0.00,2,     2.72,2,  -999.00,9, -999.000,9, -999.000,9,   2330.3,2,   2404.3,2
           NA,     P10,     38,   1,       9,     -99,  2,19931021,1257,   7.0000,  148.6972,  3199,   1608.1,   2.7228,  34.6138,2,  34.6120,2,    100.2,2,  100.100,2,   128.04,2,    38.72,2,     0.00,2,     2.72,2,  -999.00,9, -999.000,9, -999.000,9,   2335.1,2,   2411.1,2
           NA,     P10,     38,   1,       8,     -99,  2,19931021,1257,   7.0000,  148.6972,  3199,   1807.2,   2.5234,  34.6229,2,  34.6222,2,    103.8,2,  103.800,2,   132.27,2,    38.57,2,     0.00,2,     2.72,2,  -999.00,9, -999.000,9, -999.000,9,   2337.4,2,   2414.8,2
           NA,     P10,     38,   1,       7,     -99,  2,19931021,1257,   7.0000,  148.6972,  3199,   2010.9,   2.1527,  34.6409,2,  34.6395,2,    112.8,2,  113.300,2,   138.81,2,    38.05,2,     0.00,2,     2.68,2,  -999.00,9, -999.000,9, -999.000,9,   2339.8,2,   2425.3,2
           NA,     P10,     38,   1,       6,     -99,  2,19931021,1257,   7.0000,  148.6972,  3199,   2213.7,   1.9894,  34.6493,2,  34.6492,2,    118.6,2,  119.700,2,   141.07,2,    37.69,2,     0.00,2,     2.66,2,     0.00,2,   -0.001,2, -999.000,9,   2337.8,2,   2423.7,2
           NA,     P10,     38,   1,       5,     -99,  2,19931021,1257,   7.0000,  148.6972,  3199,   2416.1,   1.8624,  34.6571,2,  34.6568,2,    124.2,2,  125.700,2,   142.53,2,    37.33,2,     0.00,2,     2.62,2,  -999.00,9, -999.000,9, -999.000,9,   2337.0,6,   2428.0,2
           NA,     P10,     38,   1,       4,     -99,  2,19931021,1257,   7.0000,  148.6972,  3199,   2615.9,   1.7678,  34.6632,2,  34.6619,2,    130.1,2,  131.200,2,   142.67,2,    36.92,2,     0.00,2,     2.59,2,  -999.00,9, -999.000,9, -999.000,9,   2334.9,2,   2429.0,6
           NA,     P10,     38,   1,       3,     -99,  2,19931021,1257,   7.0000,  148.6972,  3199,   2820.3,   1.6975,  34.6680,2,  34.6673,2,    136.1,2,  136.100,2,   142.82,2,    36.66,2,    -0.01,2,     2.57,2,  -999.00,9, -999.000,9, -999.000,9,   2332.5,2,   2426.6,2
           NA,     P10,     38,   1,       2,     -99,  2,19931021,1257,   7.0000,  148.6972,  3199,   3001.0,   1.6459,  34.6719,2,  34.6708,2,    140.7,2,  140.100,2,   142.63,2,    36.41,2,    -0.01,2,     2.54,2,  -999.00,9, -999.000,9, -999.000,9,   2328.1,2,   2429.2,2
           NA,     P10,     38,   1,       1,     -99,  2,19931021,1257,   7.0000,  148.6972,  3199,   3235.3,   1.6118,  34.6748,2,  34.6726,2,    142.2,2,  143.700,2,   142.16,2,    36.09,2,     0.00,2,     2.51,2,     0.01,2,    0.000,2, -999.000,9,   -999.0,5,   2420.1,2