BOTTLE,20210102JOAExport
EXPOCODE,SECT_ID,STNNBR,CASTNO,SAMPNO,BTLNBR,BTLNBR_FLAG_W,DATE,TIME,LATITUDE,LONGITUDE,DEPTH,CTDPRS,CTDTMP,CTDSAL,CTDSAL_FLAG_W,SALNTY,SALNTY_FLAG_W,CTDOXY,CTDOXY_FLAG_W,OXYGEN,OXYGEN_FLAG_W,SILCAT,SILCAT_FLAG_W,NITRAT,NITRAT_FLAG_W,NITRIT,NITRIT_FLAG_W,PHSPHT,PHSPHT_FLAG_W,CFC-11,CFC-11_FLAG_W,CFC-12,CFC-12_FLAG_W,SF6,SF6_FLAG_W,TCARBN,TCARBN_FLAG_W,ALKALI,ALKALI_FLAG_W
,,,,,,,,,,,,DB,ITS-90,PSS-78,,PSS-78,,UMOL/KG,,UMOL/KG,,UMOL/KG,,UMOL/KG,,UMOL/KG,,UMOL/KG,,PMOL/KG,,PMOL/KG,,FMOL/KG,,UMOL/KG,,UMOL/KG
           NA,     P10,     69,   1,      36,     -99,  2,19931102,0101,  25.8333,  149.3333,  5896,     15.4,  26.9240,  35.1394,2,  35.1406,2,    199.1,2,  206.300,2,     1.24,2,    -0.01,2,     0.01,2,     0.03,2,     1.89,2,    1.068,2, -999.000,9,   1959.4,2,   2318.8,2
           NA,     P10,     69,   1,      35,     -99,  2,19931102,0101,  25.8333,  149.3333,  5896,     45.5,  26.6277,  35.1372,2,  35.1357,2,    203.6,2,  206.300,2,     1.25,2,    -0.01,2,     0.01,2,     0.03,2,     1.93,2,    1.097,2, -999.000,9,   1959.5,2,   2318.3,2
           NA,     P10,     69,   1,      34,     -99,  2,19931102,0101,  25.8333,  149.3333,  5896,     94.9,  20.4647,  34.9859,2,  34.9847,2,    233.6,2,  226.000,2,     1.77,2,    -0.01,2,     0.01,2,     0.05,2,     2.54,2,    1.369,2, -999.000,9,   1991.6,2,   2310.8,2
           NA,     P10,     69,   1,      33,     -99,  2,19931102,0101,  25.8333,  149.3333,  5896,    145.0,  17.9679,  34.8454,2,  34.8443,2,    210.1,2,  211.800,2,     2.80,2,     2.33,2,     0.03,2,     0.23,2,     2.68,2,    1.432,2, -999.000,9,   2012.4,6,   2298.9,2
           NA,     P10,     69,   1,      32,     -99,  2,19931102,0101,  25.8333,  149.3333,  5896,    194.9,  17.3164,  34.8009,2,  34.8004,2,    215.1,2,  212.900,2,     3.50,2,     3.73,2,     0.02,2,     0.31,2,     2.67,6,    1.433,6, -999.000,9,   2015.3,2,   2296.5,2
           NA,     P10,     69,   1,      31,     -99,  2,19931102,0101,  25.8333,  149.3333,  5896,    246.1,  16.8185,  34.7677,2,  34.7674,2,    209.8,2,  209.600,2,     4.54,2,     4.81,2,     0.01,2,     0.38,2,     2.66,2,    1.396,2, -999.000,9,   2022.5,2,   2293.9,2
           NA,     P10,     69,   1,      30,     -99,  2,19931102,0101,  25.8333,  149.3333,  5896,    296.8,  16.2306,  34.7206,2,  34.7192,2,    204.1,2,  203.100,2,     5.93,2,     6.36,2,     0.01,2,     0.48,2,     2.58,2,    1.339,2, -999.000,9,   2034.2,2,   2290.3,6
           NA,     P10,     69,   1,      29,     -99,  2,19931102,0101,  25.8333,  149.3333,  5896,    346.0,  15.0171,  34.6148,2,  34.6147,2,    199.9,2,  194.500,2,     9.55,2,     8.97,2,     0.01,2,     0.67,2,     2.45,2,    1.256,2, -999.000,9,   2054.6,2,   2284.5,2
           NA,     P10,     69,   1,      28,     -99,  2,19931102,0101,  25.8333,  149.3333,  5896,    397.4,  13.5557,  34.4989,2,  34.5000,2,    197.9,2,  192.000,2,    13.53,2,    11.54,2,     0.00,2,     0.85,2,     2.41,2,    1.224,2, -999.000,9,   2073.6,2,   2282.7,2
           NA,     P10,     69,   1,      27,     -99,  2,19931102,0101,  25.8333,  149.3333,  5896,    497.5,  10.7882,  34.2852,2,  34.2662,2,    191.4,2, -999.000,4,  -999.00,4,  -999.00,4,  -999.00,4,  -999.00,4,  -999.00,4, -999.000,4, -999.000,9,   -999.0,4,   -999.0,4
           NA,     P10,     69,   1,      26,     -99,  2,19931102,0101,  25.8333,  149.3333,  5896,    593.9,   8.6392,  34.1376,2,  34.1439,2,    170.2,2,  172.700,2,    34.43,2,    21.72,2,     0.00,2,     1.57,2,     1.97,2,    0.966,2, -999.000,9,   2148.4,2,   2287.4,2
           NA,     P10,     69,   1,      25,     -99,  2,19931102,0101,  25.8333,  149.3333,  5896,    695.4,   6.1472,  34.0467,2,  34.0453,2,    130.0,2,  128.900,2,    60.17,2,    30.29,2,     0.00,2,     2.19,2,     1.34,2,    0.635,2, -999.000,9,   2218.8,2,   2310.4,2
           NA,     P10,     69,   1,      24,     -99,  2,19931102,0101,  25.8333,  149.3333,  5896,    797.4,   4.7992,  34.1340,2,  34.1331,2,     79.0,2,   72.700,2,    88.13,2,    37.44,2,    -0.01,2,     2.69,2,     0.47,2,    0.213,2, -999.000,9,   2287.5,2,   2329.0,2
           NA,     P10,     69,   1,      23,     -99,  2,19931102,0101,  25.8333,  149.3333,  5896,    889.6,   4.3234,  34.2063,2,  34.2058,2,     52.2,2,   53.000,2,   101.60,2,    39.78,2,     0.00,2,     2.84,2,     0.22,2,    0.106,2, -999.000,9,   2315.0,2,   2346.2,2
           NA,     P10,     69,   1,      22,     -99,  2,19931102,0101,  25.8333,  149.3333,  5896,    992.7,   3.9414,  34.2896,2,  34.2894,2,     40.6,2,   42.400,2,   112.65,2,    41.17,2,     0.00,2,     2.93,2,     0.08,2,    0.040,2, -999.000,9,   2336.1,2,   2358.4,2
           NA,     P10,     69,   1,      21,     -99,  2,19931102,0101,  25.8333,  149.3333,  5896,   1195.1,   3.2301,  34.4226,2,  34.4215,2,     42.3,2,   40.700,2,   132.32,2,    42.19,2,     0.00,2,     2.99,2,  -999.00,9, -999.000,9, -999.000,9,   2360.3,2,   2386.3,2
           NA,     P10,     69,   1,      20,     -99,  2,19931102,0101,  25.8333,  149.3333,  5896,   1396.6,   2.7480,  34.4959,2,  34.4962,2,     51.2,2,   50.600,2,   143.54,2,    41.93,2,     0.00,2,     2.96,2,     0.00,2,   -0.002,2, -999.000,9,   2366.3,2,   2401.6,2
           NA,     P10,     69,   1,      19,     -99,  2,19931102,0101,  25.8333,  149.3333,  5896,   1596.5,   2.3629,  34.5456,2,  34.5459,2,   -999.0,3,   64.300,2,   150.79,2,    41.18,2,    -0.01,2,     2.90,2,  -999.00,9, -999.000,9, -999.000,9,   2367.3,2,   2412.7,2
           NA,     P10,     69,   1,      18,     -99,  2,19931102,0101,  25.8333,  149.3333,  5896,   1792.5,   2.0875,  34.5847,2,  34.5848,2,   -999.0,3,   80.800,2,   153.55,2,    40.24,2,     0.00,2,     2.83,2,  -999.00,9, -999.000,9, -999.000,9,   2363.1,2,   2417.6,2
           NA,     P10,     69,   1,      17,     -99,  2,19931102,0101,  25.8333,  149.3333,  5896,   1995.3,   1.9505,  34.6055,2,  34.6060,2,   -999.0,3,   93.300,2,   153.37,2,    39.52,2,    -0.01,2,     2.77,2,  -999.00,9, -999.000,9, -999.000,9,   2357.6,2,   2420.0,6
           NA,     P10,     69,   1,      16,     -99,  2,19931102,0101,  25.8333,  149.3333,  5896,   2240.7,   1.8167,  34.6271,2,  34.6271,2,   -999.0,3,  107.400,2,   152.34,2,    38.61,2,    -0.01,2,     2.71,2,  -999.00,9, -999.000,9, -999.000,9,   2350.1,2,   2433.1,2
           NA,     P10,     69,   1,      15,     -99,  2,19931102,0101,  25.8333,  149.3333,  5896,   2495.5,   1.6947,  34.6460,2,  34.6457,2,    122.2,2,  121.700,2,   150.27,2,    37.68,2,    -0.01,2,     2.64,2,  -999.00,9, -999.000,9, -999.000,9,   2342.3,2,   2437.7,2
           NA,     P10,     69,   1,      14,     -99,  2,19931102,0101,  25.8333,  149.3333,  5896,   2743.5,   1.6253,  34.6551,2,  34.6553,2,    129.8,2,  127.800,2,   150.45,2,    37.36,2,     0.00,2,     2.61,2,  -999.00,9, -999.000,9, -999.000,9,   2339.2,2,   -999.0,3
           NA,     P10,     69,   1,      12,     -99,  2,19931102,0101,  25.8333,  149.3333,  5896,   3242.6,   1.5356,  34.6687,2,  34.6679,2,    138.3,2,  137.700,2,   149.58,2,    36.71,2,    -0.01,2,     2.57,2,  -999.00,9, -999.000,9, -999.000,9,   2330.4,2,   2441.2,2
           NA,     P10,     69,   1,      11,     -99,  2,19931102,0101,  25.8333,  149.3333,  5896,   3491.0,   1.5072,  34.6736,2,  34.6740,2,    143.5,2,  144.400,2,   148.72,2,    36.35,2,    -0.01,2,     2.53,2,  -999.00,9, -999.000,9, -999.000,9,   2329.7,2,   -999.0,3
           NA,     P10,     69,   1,      10,     -99,  2,19931102,0101,  25.8333,  149.3333,  5896,   3747.4,   1.4961,  34.6772,2,  34.6772,2,    147.0,2,  147.300,2,   148.38,2,    36.14,2,    -0.01,2,     2.51,2,  -999.00,9, -999.000,9, -999.000,9,   2327.2,2,   2435.7,2
           NA,     P10,     69,   1,       9,     -99,  2,19931102,0101,  25.8333,  149.3333,  5896,   4003.6,   1.4725,  34.6815,2,  34.6821,2,    152.4,2,  152.100,2,   146.84,2,    35.78,2,    -0.01,2,     2.49,2,  -999.00,9, -999.000,9, -999.000,9,   2322.8,2,   2431.7,2
           NA,     P10,     69,   1,       8,     -99,  2,19931102,0101,  25.8333,  149.3333,  5896,   4248.4,   1.4663,  34.6846,2,  34.6852,2,    156.0,2,  156.100,2,   145.98,2,    35.53,2,    -0.01,2,     2.47,2,  -999.00,9, -999.000,9, -999.000,9,   2321.3,6,   2429.1,6
           NA,     P10,     69,   1,       7,     -99,  2,19931102,0101,  25.8333,  149.3333,  5896,   4503.2,   1.4640,  34.6870,2,  34.6876,2,    159.8,2,  160.000,2,   144.07,2,    35.27,2,    -0.01,2,     2.45,2,  -999.00,9, -999.000,9, -999.000,9,   2328.1,2,   2419.7,2
           NA,     P10,     69,   1,       6,     -99,  3,19931102,0101,  25.8333,  149.3333,  5896,   4749.0,   1.4866,  34.6880,2,  34.6891,2,    161.2,2,  160.900,2,   143.91,2,    35.17,2,    -0.01,2,     2.44,2,  -999.00,9, -999.000,9, -999.000,9,   2326.5,2,   2434.2,2
           NA,     P10,     69,   1,       5,     -99,  2,19931102,0101,  25.8333,  149.3333,  5896,   5002.6,   1.5120,  34.6887,2,  34.6897,2,    161.9,2,  161.500,2,   143.57,2,    35.17,2,    -0.01,2,     2.44,2,    -0.00,2,    0.000,2, -999.000,9,   2320.0,2,   2426.1,2
           NA,     P10,     69,   1,       4,     -99,  2,19931102,0101,  25.8333,  149.3333,  5896,   5249.5,   1.5388,  34.6886,2,  34.6897,2,    162.8,2,  162.500,2,   143.06,2,    35.12,2,    -0.01,2,     2.43,2,  -999.00,4,    0.001,2, -999.000,9,   2321.3,2,   2423.1,2
           NA,     P10,     69,   1,       3,     -99,  2,19931102,0101,  25.8333,  149.3333,  5896,   5503.9,   1.5638,  34.6900,2,  34.6903,2,    164.3,2,  164.300,2,   141.68,2,    34.97,2,    -0.01,2,     2.43,2,  -999.00,9, -999.000,9, -999.000,9,   2314.5,6,   2412.8,2
           NA,     P10,     69,   1,       2,     -99,  3,19931102,0101,  25.8333,  149.3333,  5896,   5757.8,   1.5896,  34.6911,2,  34.6911,2,    166.3,2,  165.700,2,   140.65,2,    34.91,2,    -0.01,2,     2.42,2,  -999.00,4,   -0.003,2, -999.000,9,   2315.4,2,   2417.9,2
           NA,     P10,     69,   1,       1,     -99,  3,19931102,0101,  25.8333,  149.3333,  5896,   5998.6,   1.6098,  34.6919,2,  34.6931,2,    167.4,2,  168.000,2,   138.34,2,    34.67,2,     0.00,2,     2.40,2,     0.00,2,    0.003,2, -999.000,9,   2305.3,2,   2420.5,2