BOTTLE,20210102JOAExport
EXPOCODE,SECT_ID,STNNBR,CASTNO,SAMPNO,BTLNBR,BTLNBR_FLAG_W,DATE,TIME,LATITUDE,LONGITUDE,DEPTH,CTDPRS,CTDTMP,CTDSAL,CTDSAL_FLAG_W,SALNTY,SALNTY_FLAG_W,CTDOXY,CTDOXY_FLAG_W,OXYGEN,OXYGEN_FLAG_W,SILCAT,SILCAT_FLAG_W,NITRAT,NITRAT_FLAG_W,NITRIT,NITRIT_FLAG_W,PHSPHT,PHSPHT_FLAG_W,CFC-11,CFC-11_FLAG_W,CFC-12,CFC-12_FLAG_W,SF6,SF6_FLAG_W,TCARBN,TCARBN_FLAG_W,ALKALI,ALKALI_FLAG_W
,,,,,,,,,,,,DB,ITS-90,PSS-78,,PSS-78,,UMOL/KG,,UMOL/KG,,UMOL/KG,,UMOL/KG,,UMOL/KG,,UMOL/KG,,PMOL/KG,,PMOL/KG,,FMOL/KG,,UMOL/KG,,UMOL/KG
           NA,     P10,     33,   1,      36,     -99,  2,19931019,2116,   4.4945,  147.6528,  3709,     13.8,  29.3850,  33.8517,2,  33.8539,2,    212.9,2,  209.400,2,     1.50,2,     0.09,2,     0.02,2,     0.04,2,     1.77,2,    0.983,2, -999.000,9,   1882.3,2,   2231.8,2
           NA,     P10,     33,   1,      26,     -99,  2,19931019,2116,   4.4945,  147.6528,  3709,     57.5,  28.9278,  34.0545,2,  34.0538,2,    214.6,2,  208.600,2,     1.50,2,     0.04,2,     0.02,2,     0.06,2,     1.79,2,    0.987,2, -999.000,9,   1898.5,2,   2244.9,2
           NA,     P10,     33,   1,      25,     -99,  2,19931019,2116,   4.4945,  147.6528,  3709,    106.2,  24.7792,  34.5795,2,  34.5872,2,   -999.0,3,  195.200,2,     2.81,2,     0.12,2,     0.09,2,     0.19,2,     1.90,2,    1.020,2, -999.000,9,   1970.9,2,   2285.1,2
           NA,     P10,     33,   1,      24,     -99,  2,19931019,2116,   4.4945,  147.6528,  3709,    155.4,  16.4319,  34.6338,2,  34.6692,2,    135.8,2,  139.500,2,    12.75,2,    12.85,2,     0.03,2,     0.98,2,     1.77,2,    0.904,2, -999.000,9,   2093.3,6,   2296.4,6
           NA,     P10,     33,   1,      23,     -99,  2,19931019,2116,   4.4945,  147.6528,  3709,    204.7,  12.5934,  34.5589,2,  34.5565,2,   -999.0,3,  128.400,2,    23.51,2,    19.74,2,     0.01,2,     1.43,2,     1.26,2,    0.616,2, -999.000,9,   2144.8,2,   2296.2,2
           NA,     P10,     33,   1,      22,     -99,  2,19931019,2116,   4.4945,  147.6528,  3709,    264.3,   9.4866,  34.5741,2,  34.5823,2,     63.2,2,   70.300,2,    36.38,2,    30.89,2,     0.00,2,     2.16,2,     0.34,2,    0.163,2, -999.000,9,   2226.0,2,   2307.6,2
           NA,     P10,     33,   1,      21,     -99,  9,19931019,2116,   4.4945,  147.6528,  3709,    363.5,   8.4107,  34.5906,2,-999.0000,9,     81.1,2, -999.000,9,    37.36,2,    31.10,2,     0.02,2,     2.16,2,  -999.00,9, -999.000,9, -999.000,9,   -999.0,9,   -999.0,9
           NA,     P10,     33,   1,      20,     -99,  2,19931019,2116,   4.4945,  147.6528,  3709,    413.0,   7.9429,  34.5842,2,  34.5870,2,     72.5,2,   78.200,2,    41.12,2,    33.27,2,     0.01,2,     2.30,2,     0.10,2,    0.058,2, -999.000,9,   2239.8,2,   2319.5,2
           NA,     P10,     33,   1,      19,     -99,  2,19931019,2116,   4.4945,  147.6528,  3709,    502.7,   7.3922,  34.5675,2,-999.0000,3,     78.0,2,   77.400,2,    45.68,2,    34.61,2,     0.00,2,     2.40,2,     0.07,2,    0.034,2, -999.000,9,   2251.8,2,   2325.4,2
           NA,     P10,     33,   1,      18,     -99,  2,19931019,2116,   4.4945,  147.6528,  3709,    622.1,   6.6539,  34.5484,2,-999.0000,4,     93.6,2,   83.100,2,    52.86,2,    35.47,2,     0.00,2,     2.46,2,     0.04,2,    0.021,2, -999.000,9,   2257.3,2,   2326.1,2
           NA,     P10,     33,   1,      17,     -99,  2,19931019,2116,   4.4945,  147.6528,  3709,    701.5,   6.1280,  34.5401,2,  34.5398,2,     83.8,2,   82.100,2,    60.36,2,    36.48,2,     0.00,2,  -999.00,3,  -999.00,9, -999.000,9, -999.000,9,   2268.2,2,   2334.8,2
           NA,     P10,     33,   1,      16,     -99,  2,19931019,2116,   4.4945,  147.6528,  3709,    800.7,   5.4493,  34.5388,2,  34.5359,2,     88.4,2,   87.100,2,    70.63,2,    37.13,2,    -0.01,2,  -999.00,3,     0.01,2,    0.006,2, -999.000,9,   2278.9,2,   2345.6,2
           NA,     P10,     33,   1,      15,     -99,  2,19931019,2116,   4.4945,  147.6528,  3709,    901.0,   4.9276,  34.5424,2,  34.5412,2,     88.2,2,   87.300,2,    81.89,2,    37.50,2,     0.00,2,  -999.00,3,     0.01,2,    0.004,2, -999.000,9,   2289.6,2,   2356.4,2
           NA,     P10,     33,   1,      14,     -99,  2,19931019,2116,   4.4945,  147.6528,  3709,   1000.9,   4.6162,  34.5536,2,  34.5585,2,     90.8,2,   89.200,2,    86.30,2,    37.93,2,     0.00,2,  -999.00,3,  -999.00,9, -999.000,9, -999.000,9,   2295.0,2,   2363.7,2
           NA,     P10,     33,   1,      13,     -99,  2,19931019,2116,   4.4945,  147.6528,  3709,   1200.1,   3.9705,  34.5688,2,  34.5667,2,     93.2,2,   92.500,2,   100.65,2,    38.00,2,  -999.00,3,  -999.00,3,  -999.00,9, -999.000,9, -999.000,9,   2307.6,2,   2380.1,2
           NA,     P10,     33,   1,      12,     -99,  2,19931019,2116,   4.4945,  147.6528,  3709,   1400.0,   3.2728,  34.5915,2,-999.0000,4,     94.9,2,   94.400,2,   115.98,2,    38.59,2,     0.00,2,  -999.00,3,  -999.00,9, -999.000,9, -999.000,9,   2324.5,2,   2413.3,2
           NA,     P10,     33,   1,      11,     -99,  2,19931019,2116,   4.4945,  147.6528,  3709,   1601.4,   2.7906,  34.6110,2,-999.0000,4,     98.6,2,   98.500,2,   125.93,2,    38.56,2,    -0.01,2,  -999.00,3,  -999.00,9, -999.000,9, -999.000,9,   2334.4,2,   2404.3,2
           NA,     P10,     33,   1,      10,     -99,  2,19931019,2116,   4.4945,  147.6528,  3709,   1803.4,   2.5147,  34.6232,2,-999.0000,3,    103.1,2,  102.600,2,   132.26,2,    38.61,2,    -0.01,2,  -999.00,3,  -999.00,9, -999.000,9, -999.000,9,   2339.0,2,   2419.4,2
           NA,     P10,     33,   1,       9,     -99,  2,19931019,2116,   4.4945,  147.6528,  3709,   2005.0,   2.1466,  34.6417,2,  34.6393,2,    112.1,2,  112.400,2,   139.48,2,    38.14,2,     0.00,2,  -999.00,3,  -999.00,9, -999.000,9, -999.000,9,   2340.7,2,   2421.1,2
           NA,     P10,     33,   1,       8,     -99,  2,19931019,2116,   4.4945,  147.6528,  3709,   2195.3,   1.9782,  34.6508,2,-999.0000,4,    117.6,2,  119.000,2,   141.78,2,    37.69,2,    -0.01,2,  -999.00,3,    -0.00,2,    0.002,2, -999.000,9,   2339.7,2,   2427.5,2
           NA,     P10,     33,   1,       7,     -99,  2,19931019,2116,   4.4945,  147.6528,  3709,   2395.2,   1.8352,  34.6585,2,-999.0000,4,    126.6,2,  126.100,2,   142.76,2,    37.21,2,     0.00,2,     2.62,2,  -999.00,9, -999.000,9, -999.000,9,   2337.6,2,   2435.3,2
           NA,     P10,     33,   1,       6,     -99,  2,19931019,2116,   4.4945,  147.6528,  3709,   2595.0,   1.7602,  34.6631,2,  34.6649,2,    131.5,2,  131.500,2,   142.77,2,    36.90,2,     0.00,2,     2.62,2,  -999.00,9, -999.000,9, -999.000,9,   2333.7,6,   2436.1,6
           NA,     P10,     33,   1,       5,     -99,  2,19931019,2116,   4.4945,  147.6528,  3709,   2797.8,   1.6521,  34.6689,2,  34.6694,2,    138.4,2,  138.500,2,   142.46,2,    36.44,2,    -0.01,2,     2.59,2,  -999.00,9, -999.000,9, -999.000,9,   2331.1,2,   2425.1,2
           NA,     P10,     33,   1,       4,     -99,  2,19931019,2116,   4.4945,  147.6528,  3709,   2995.3,   1.5958,  34.6740,2,  34.6736,2,    143.4,2,  143.300,2,   142.14,2,    36.07,2,     0.00,2,     2.56,2,  -999.00,9, -999.000,9, -999.000,9,   2330.9,2,   2425.7,2
           NA,     P10,     33,   1,       3,     -99,  2,19931019,2116,   4.4945,  147.6528,  3709,   3247.2,   1.5757,  34.6769,2,  34.6783,2,    146.4,2,  146.000,2,   142.16,2,    35.98,2,    -0.01,2,     2.54,2,  -999.00,9, -999.000,9, -999.000,9,   2330.6,2,   2429.2,2
           NA,     P10,     33,   1,       2,     -99,  2,19931019,2116,   4.4945,  147.6528,  3709,   3499.4,   1.5544,  34.6803,2,  34.6799,2,    149.4,2,  148.900,2,   142.01,2,    35.88,2,    -0.01,2,     2.51,2,  -999.00,9, -999.000,9, -999.000,9,   2329.5,2,   2425.2,2
           NA,     P10,     33,   1,       1,     -99,  2,19931019,2116,   4.4945,  147.6528,  3709,   3723.7,   1.5491,  34.6827,2,  34.6842,2,    148.9,2,  150.100,2,   141.54,2,    35.71,2,    -0.02,2,     2.50,2,  -999.00,3, -999.000,3, -999.000,9,   2328.4,2,   2433.9,2
           NA,     P10,     34,   3,      36,     -99,  2,19931020,0901,   4.9945,  147.8555,  4192,     16.4,  29.0171,  33.5230,2,  33.5252,2,    207.7,2, -999.000,9,     1.53,2,     0.03,2,     0.01,2,     0.03,2,  -999.00,4, -999.000,4, -999.000,9,   -999.0,9,   -999.0,9
           NA,     P10,     34,   3,      29,     -99,  2,19931020,0901,   4.9945,  147.8555,  4192,     58.2,  29.0640,  33.8675,2,  33.8765,2,    205.5,2,  211.500,2,     1.69,2,    -0.01,2,     0.01,2,     0.04,2,     1.73,2,    0.963,2, -999.000,9,   -999.0,9,   -999.0,9
           NA,     P10,     34,   3,      28,     -99,  2,19931020,0901,   4.9945,  147.8555,  4192,    107.3,  24.4824,  34.5828,2,  34.5777,2,   -999.0,3,  196.500,2,     3.32,2,     0.16,2,     0.09,2,     0.21,2,     1.86,2,    0.978,2, -999.000,9,   -999.0,9,   -999.0,9
           NA,     P10,     34,   3,      27,     -99,  2,19931020,0901,   4.9945,  147.8555,  4192,    156.7,  15.5818,  34.6402,2,  34.6602,2,    132.1,2, -999.000,3,    14.40,2,    13.82,2,     0.03,2,     1.04,2,     1.71,2,    0.842,2, -999.000,9,   -999.0,9,   -999.0,9
           NA,     P10,     34,   3,      26,     -99,  2,19931020,0901,   4.9945,  147.8555,  4192,    206.8,   9.9729,  34.4957,2,  34.4936,2,    115.3,2,  101.900,2,    33.96,2,    26.80,2,     0.01,2,     1.92,2,     0.69,6,    0.326,6, -999.000,9,   -999.0,9,   -999.0,9
           NA,     P10,     34,   3,      25,     -99,  2,19931020,0901,   4.9945,  147.8555,  4192,    256.5,   9.4830,  34.5841,2,  34.5886,2,   -999.0,3,   77.700,2,    36.73,2,    30.40,2,     0.02,2,     2.16,2,     0.35,2,    0.167,2, -999.000,9,   -999.0,9,   -999.0,9
           NA,     P10,     34,   3,      24,     -99,  2,19931020,0901,   4.9945,  147.8555,  4192,    306.6,   8.9132,  34.5878,2,  34.5860,2,     80.6,2,   74.400,2,    37.71,2,    31.91,2,     0.00,2,     2.25,2,     0.24,2,    0.127,2, -999.000,9,   -999.0,9,   -999.0,9
           NA,     P10,     34,   3,      23,     -99,  2,19931020,0901,   4.9945,  147.8555,  4192,    406.4,   8.0782,  34.5915,2,  34.5894,2,     77.4,2,   91.200,2,    38.36,2,    32.28,2,     0.00,2,     2.27,2,     0.14,2,    0.072,2, -999.000,9,   -999.0,9,   -999.0,9
           NA,     P10,     34,   3,      22,     -99,  2,19931020,0901,   4.9945,  147.8555,  4192,    481.3,   7.6311,  34.5763,2,  34.5746,2,    108.4,2,   99.600,2,    40.32,2,    32.38,2,     0.01,2,     2.27,2,     0.12,2,    0.063,2, -999.000,9,   -999.0,9,   -999.0,9
           NA,     P10,     34,   3,      21,     -99,  2,19931020,0901,   4.9945,  147.8555,  4192,    556.5,   7.2624,  34.5624,2,  34.5610,2,     78.9,2,   80.100,2,    47.66,2,    35.25,2,     0.01,2,     2.49,2,     0.05,2,    0.023,2, -999.000,9,   -999.0,9,   -999.0,9
           NA,     P10,     34,   3,      20,     -99,  2,19931020,0901,   4.9945,  147.8555,  4192,    631.2,   6.8759,  34.5527,2,  34.5500,2,     84.1,2,   81.900,2,    50.59,2,    35.37,2,     0.00,2,     2.49,2,     0.04,2,    0.019,2, -999.000,9,   -999.0,9,   -999.0,9
           NA,     P10,     34,   3,      19,     -99,  2,19931020,0901,   4.9945,  147.8555,  4192,    705.7,   6.3797,  34.5437,2,  34.5416,2,     76.3,2,   74.800,2,    59.24,2,    36.79,2,     0.00,2,     2.62,2,     0.02,2,    0.009,2, -999.000,9,   -999.0,9,   -999.0,9
           NA,     P10,     34,   3,      18,     -99,  2,19931020,0901,   4.9945,  147.8555,  4192,    805.7,   5.5310,  34.5375,2,  34.5364,2,     82.8,2,   82.800,2,    71.14,2,    37.27,2,     0.00,2,     2.65,2,     0.01,2,    0.010,2, -999.000,9,   -999.0,9,   -999.0,9
           NA,     P10,     34,   3,      17,     -99,  2,19931020,0901,   4.9945,  147.8555,  4192,    906.3,   5.0535,  34.5429,2,  34.5412,2,     86.4,2,   86.700,2,    78.81,2,    37.65,2,     0.00,2,     2.68,2,     0.02,2,    0.010,2, -999.000,9,   -999.0,9,   -999.0,9
           NA,     P10,     34,   3,      16,     -99,  2,19931020,0901,   4.9945,  147.8555,  4192,   1006.2,   4.5969,  34.5529,2,-999.0000,4,     88.4,2,   87.200,2,    88.44,2,    38.02,2,     0.00,2,     2.71,2,     0.01,2,    0.004,2, -999.000,9,   -999.0,9,   -999.0,9
           NA,     P10,     34,   3,      15,     -99,  2,19931020,0901,   4.9945,  147.8555,  4192,   1206.4,   3.7573,  34.5754,2,  34.5738,2,   -999.0,3,   91.600,2,   105.57,2,    38.44,2,     0.00,2,     2.74,2,     0.00,2,    0.002,2, -999.000,9,   -999.0,9,   -999.0,9
           NA,     P10,     34,   3,      14,     -99,  2,19931020,0901,   4.9945,  147.8555,  4192,   1406.3,   3.1294,  34.5965,2,  34.5941,2,     96.0,2,   95.600,2,   119.10,2,    38.81,2,     0.00,2,     2.76,2,  -999.00,9, -999.000,9, -999.000,9,   -999.0,9,   -999.0,9
           NA,     P10,     34,   3,      13,     -99,  2,19931020,0901,   4.9945,  147.8555,  4192,   1606.8,   2.7293,  34.6136,2,  34.6116,2,     98.7,2,   98.900,2,   127.27,2,    38.88,2,    -0.01,2,     2.77,2,  -999.00,9, -999.000,9, -999.000,9,   -999.0,9,   -999.0,9
           NA,     P10,     34,   3,      12,     -99,  2,19931020,0901,   4.9945,  147.8555,  4192,   1799.2,   2.4270,  34.6276,2,  34.6277,2,    103.8,2,  104.600,2,   134.12,2,    38.71,2,    -0.01,2,     2.74,2,  -999.00,9, -999.000,9, -999.000,9,   -999.0,9,   -999.0,9
           NA,     P10,     34,   3,      11,     -99,  2,19931020,0901,   4.9945,  147.8555,  4192,   1999.9,   2.1475,  34.6411,2,-999.0000,4,    110.3,2,  111.900,2,   139.18,2,    38.33,2,     0.00,2,     2.72,2,    -0.00,2,   -0.002,2, -999.000,9,   -999.0,9,   -999.0,9
           NA,     P10,     34,   3,      10,     -99,  2,19931020,0901,   4.9945,  147.8555,  4192,   2196.5,   1.9977,  34.6492,2,  34.6488,2,    116.5,2,  118.000,2,   141.31,2,    37.96,2,     0.00,2,     2.68,2,  -999.00,9, -999.000,9, -999.000,9,   -999.0,9,   -999.0,9
           NA,     P10,     34,   3,       9,     -99,  2,19931020,0901,   4.9945,  147.8555,  4192,   2396.2,   1.8751,  34.6562,2,  34.6551,2,    125.5,2,  124.700,2,   141.97,2,    37.48,2,     0.00,2,     2.65,2,  -999.00,9, -999.000,9, -999.000,9,   -999.0,9,   -999.0,9
           NA,     P10,     34,   3,       8,     -99,  2,19931020,0901,   4.9945,  147.8555,  4192,   2595.7,   1.7597,  34.6625,2,  34.6639,2,    131.5,2,  130.200,2,   143.11,2,    37.22,2,     0.00,2,     2.62,2,  -999.00,9, -999.000,9, -999.000,9,   -999.0,9,   -999.0,9
           NA,     P10,     34,   3,       6,     -99,  2,19931020,0901,   4.9945,  147.8555,  4192,   2997.7,   1.6141,  34.6726,2,  34.6728,2,    142.4,2,  142.000,2,   142.30,2,    36.48,2,     0.00,2,     2.56,2,    -0.00,2,   -0.001,2, -999.000,9,   -999.0,9,   -999.0,9
           NA,     P10,     34,   3,       5,     -99,  2,19931020,0901,   4.9945,  147.8555,  4192,   3247.3,   1.5723,  34.6768,2,  34.6761,2,    146.1,2,  145.400,2,   142.14,2,    36.27,2,    -0.01,2,     2.54,2,  -999.00,9, -999.000,9, -999.000,9,   -999.0,9,   -999.0,9
           NA,     P10,     34,   3,       4,     -99,  2,19931020,0901,   4.9945,  147.8555,  4192,   3500.4,   1.5570,  34.6804,2,  34.6785,2,    148.6,2,  147.900,2,   141.99,2,    36.10,2,     0.00,2,     2.52,2,  -999.00,9, -999.000,9, -999.000,9,   -999.0,9,   -999.0,9
           NA,     P10,     34,   3,       3,     -99,  2,19931020,0901,   4.9945,  147.8555,  4192,   3747.2,   1.5318,  34.6834,2,  34.6848,2,    152.2,2,  151.200,2,   141.66,2,    35.89,2,     0.00,2,     2.51,2,  -999.00,9, -999.000,9, -999.000,9,   -999.0,9,   -999.0,9
           NA,     P10,     34,   3,       2,     -99,  2,19931020,0901,   4.9945,  147.8555,  4192,   3998.2,   1.5439,  34.6843,2,  34.6848,2,    153.3,2,  152.200,2,   141.84,2,    35.85,2,    -0.01,2,     2.50,2,  -999.00,9, -999.000,9, -999.000,9,   -999.0,9,   -999.0,9
           NA,     P10,     34,   3,       1,     -99,  2,19931020,0901,   4.9945,  147.8555,  4192,   4242.8,   1.5578,  34.6854,2,  34.6842,2,    153.5,2,  153.300,2,   141.06,2,    35.70,2,     0.00,2,     2.49,2,     0.00,2,    0.001,2, -999.000,9,   -999.0,9,   -999.0,9