BOTTLE,20210102JOAExport
EXPOCODE,SECT_ID,STNNBR,CASTNO,SAMPNO,BTLNBR,BTLNBR_FLAG_W,DATE,TIME,LATITUDE,LONGITUDE,DEPTH,CTDPRS,CTDTMP,CTDSAL,CTDSAL_FLAG_W,SALNTY,SALNTY_FLAG_W,CTDOXY,CTDOXY_FLAG_W,OXYGEN,OXYGEN_FLAG_W,SILCAT,SILCAT_FLAG_W,NITRAT,NITRAT_FLAG_W,NITRIT,NITRIT_FLAG_W,PHSPHT,PHSPHT_FLAG_W,CFC-11,CFC-11_FLAG_W,CFC-12,CFC-12_FLAG_W,SF6,SF6_FLAG_W,TCARBN,TCARBN_FLAG_W,ALKALI,ALKALI_FLAG_W
,,,,,,,,,,,,DB,ITS-90,PSS-78,,PSS-78,,UMOL/KG,,UMOL/KG,,UMOL/KG,,UMOL/KG,,UMOL/KG,,UMOL/KG,,PMOL/KG,,PMOL/KG,,FMOL/KG,,UMOL/KG,,UMOL/KG
           NA,     P10,     75,   1,      36,     -99,  2,19931104,0746,  29.6805,  148.6888,  6224,     16.4,  25.4728,  35.0747,2,  35.0770,2,    209.9,2,  213.000,2,     1.55,2,     0.00,2,     0.00,2,     0.02,2,     1.88,2,    1.031,2, -999.000,9,   -999.0,9,   -999.0,9
           NA,     P10,     75,   1,      35,     -99,  2,19931104,0746,  29.6805,  148.6888,  6224,     59.9,  25.4786,  35.0759,2,  35.0774,2,    211.5,2,  212.700,2,     1.55,2,     0.06,2,     0.00,2,     0.02,2,     1.93,2,    1.065,2, -999.000,9,   -999.0,9,   -999.0,9
           NA,     P10,     75,   1,      34,     -99,  2,19931104,0746,  29.6805,  148.6888,  6224,    110.5,  19.5891,  34.8940,2,  34.9109,2,    227.1,2,  225.600,2,     2.11,2,     0.21,2,     0.00,2,     0.07,2,     2.48,2,    1.290,2, -999.000,9,   -999.0,9,   -999.0,9
           NA,     P10,     75,   1,      33,     -99,  2,19931104,0746,  29.6805,  148.6888,  6224,    158.0,  18.3229,  34.8696,2,  34.8692,2,    213.9,2,  216.100,2,     2.49,2,     1.45,2,     0.00,2,     0.18,2,     2.44,2,    1.276,2, -999.000,9,   -999.0,9,   -999.0,9
           NA,     P10,     75,   1,      32,     -99,  2,19931104,0746,  29.6805,  148.6888,  6224,    209.0,  17.6002,  34.8175,2,  34.8179,2,    214.5,2,  214.300,2,     3.23,2,     3.22,2,     0.00,2,     0.26,2,     2.71,2,    1.431,2, -999.000,9,   -999.0,9,   -999.0,9
           NA,     P10,     75,   1,      31,     -99,  2,19931104,0746,  29.6805,  148.6888,  6224,    258.2,  17.1956,  34.7924,2,  34.7927,2,    212.3,2,  211.600,2,     3.97,2,     4.14,2,    -0.01,2,     0.32,2,     2.49,2,    1.294,2, -999.000,9,   -999.0,9,   -999.0,9
           NA,     P10,     75,   1,      30,     -99,  2,19931104,0746,  29.6805,  148.6888,  6224,    308.2,  16.7822,  34.7617,2,  34.7609,2,    206.5,2,  204.200,2,     5.27,2,     5.48,2,    -0.01,2,     0.41,2,     2.54,2,    1.316,2, -999.000,9,   -999.0,9,   -999.0,9
           NA,     P10,     75,   1,      29,     -99,  2,19931104,0746,  29.6805,  148.6888,  6224,    408.5,  15.1553,  34.6276,2,  34.6302,2,    193.1,2,  189.900,2,    10.07,2,     9.28,2,     0.00,2,     0.67,2,     2.29,2,    1.150,2, -999.000,9,   -999.0,9,   -999.0,9
           NA,     P10,     75,   1,      28,     -99,  2,19931104,0746,  29.6805,  148.6888,  6224,    508.4,  12.6598,  34.4468,2,  34.4436,2,    188.7,2,  183.500,2,    17.99,2,    13.94,2,     0.00,2,     1.01,2,     2.15,2,    1.067,2, -999.000,9,   -999.0,9,   -999.0,9
           NA,     P10,     75,   1,      27,     -99,  2,19931104,0746,  29.6805,  148.6888,  6224,    607.1,   9.6850,  34.2392,2,  34.2396,2,    180.0,2,  169.900,2,    32.74,2,    20.15,2,     0.00,2,     1.47,2,     1.92,2,    0.942,2, -999.000,9,   -999.0,9,   -999.0,9
           NA,     P10,     75,   1,      26,     -99,  2,19931104,0746,  29.6805,  148.6888,  6224,    707.0,   6.9259,  34.0580,2,  34.0653,2,    162.0,2,  155.300,2,    49.89,2,    26.26,2,     0.00,2,     1.91,2,     1.90,2,    0.893,2, -999.000,9,   -999.0,9,   -999.0,9
           NA,     P10,     75,   1,      25,     -99,  2,19931104,0746,  29.6805,  148.6888,  6224,    805.0,   5.2537,  34.0226,2,  34.0236,2,    126.2,2,  121.100,2,    71.45,2,    32.48,2,     0.00,2,     2.36,2,     1.59,2,    0.730,2, -999.000,9,   -999.0,9,   -999.0,9
           NA,     P10,     75,   1,      24,     -99,  2,19931104,0746,  29.6805,  148.6888,  6224,    907.0,   4.5416,  34.1212,2,  34.1202,2,     84.5,2,   79.600,2,    91.91,2,    37.19,2,     0.00,2,     2.68,2,     0.83,2,    0.388,2, -999.000,9,   -999.0,9,   -999.0,9
           NA,     P10,     75,   1,      23,     -99,  2,19931104,0746,  29.6805,  148.6888,  6224,   1007.4,   4.1386,  34.2158,2,  34.2158,2,     55.5,2,   56.400,2,   106.09,2,    39.65,2,     0.00,2,     2.84,2,     0.34,2,    0.161,2, -999.000,9,   -999.0,9,   -999.0,9
           NA,     P10,     75,   1,      22,     -99,  3,19931104,0746,  29.6805,  148.6888,  6224,   1209.8,   3.2746,  34.3624,2,  34.3632,2,     38.2,2,   38.700,2,   131.88,2,    42.01,2,     0.00,2,     2.99,2,     0.07,2,    0.029,2, -999.000,9,   -999.0,9,   -999.0,9
           NA,     P10,     75,   1,      21,     -99,  2,19931104,0746,  29.6805,  148.6888,  6224,   1395.3,   2.8063,  34.4504,2,  34.4503,2,     38.2,2,   38.000,2,   144.96,2,    42.53,2,     0.02,2,     3.01,2,  -999.00,4,    0.003,2, -999.000,9,   -999.0,9,   -999.0,9
           NA,     P10,     75,   1,      20,     -99,  2,19931104,0746,  29.6805,  148.6888,  6224,   1597.1,   2.4705,  34.5107,2,  34.5110,2,     45.6,2,   45.600,2,   153.25,2,    42.36,2,    -0.02,2,     3.00,2,  -999.00,9, -999.000,9, -999.000,9,   -999.0,9,   -999.0,9
           NA,     P10,     75,   1,      19,     -99,  2,19931104,0746,  29.6805,  148.6888,  6224,   1795.9,   2.2178,  34.5633,2,  34.5640,2,     65.4,2,   66.500,2,   154.91,2,    41.19,2,    -0.02,2,     2.89,2,  -999.00,9, -999.000,9, -999.000,9,   -999.0,9,   -999.0,9
           NA,     P10,     75,   1,      18,     -99,  2,19931104,0746,  29.6805,  148.6888,  6224,   1998.7,   2.0139,  34.5926,2,  34.5927,2,     76.9,2,   77.700,2,   158.05,2,    40.54,2,    -0.02,2,     2.85,2,  -999.00,9, -999.000,9, -999.000,9,   -999.0,9,   -999.0,9
           NA,     P10,     75,   1,      17,     -99,  2,19931104,0746,  29.6805,  148.6888,  6224,   2250.9,   1.8641,  34.6172,2,  34.6176,2,     93.5,2,   93.100,2,   157.33,2,    39.51,2,    -0.01,2,     2.77,2,  -999.00,9, -999.000,9, -999.000,9,   -999.0,9,   -999.0,9
           NA,     P10,     75,   1,      16,     -99,  2,19931104,0746,  29.6805,  148.6888,  6224,   2497.3,   1.7428,  34.6380,2,  34.6375,2,    110.3,2,  109.700,2,   154.75,2,    38.56,2,    -0.01,2,     2.70,2,  -999.00,9, -999.000,9, -999.000,9,   -999.0,9,   -999.0,9
           NA,     P10,     75,   1,      15,     -99,  2,19931104,0746,  29.6805,  148.6888,  6224,   2746.0,   1.6632,  34.6508,2,  34.6510,2,    120.9,2,  121.300,2,   152.37,2,    37.76,2,    -0.01,2,     2.65,2,  -999.00,9, -999.000,9, -999.000,9,   -999.0,9,   -999.0,9
           NA,     P10,     75,   1,      14,     -99,  2,19931104,0746,  29.6805,  148.6888,  6224,   2997.8,   1.6018,  34.6601,2,  34.6603,2,    127.8,2,  128.500,2,   151.82,2,    37.34,2,    -0.01,2,     2.62,2,  -999.00,9, -999.000,9, -999.000,9,   -999.0,9,   -999.0,9
           NA,     P10,     75,   1,      13,     -99,  2,19931104,0746,  29.6805,  148.6888,  6224,   3260.5,   1.5515,  34.6677,2,  34.6677,2,    133.6,2,  134.800,2,   151.28,2,    36.91,2,    -0.01,2,     2.58,2,  -999.00,9, -999.000,9, -999.000,9,   -999.0,9,   -999.0,9
           NA,     P10,     75,   1,      12,     -99,  2,19931104,0746,  29.6805,  148.6888,  6224,   3500.2,   1.5303,  34.6727,2,  34.6724,2,    139.1,2,  139.800,2,   150.37,2,    36.64,2,    -0.01,2,     2.56,2,  -999.00,9, -999.000,9, -999.000,9,   -999.0,9,   -999.0,9
           NA,     P10,     75,   1,      11,     -99,  2,19931104,0746,  29.6805,  148.6888,  6224,   3646.0,   1.5182,  34.6752,2,  34.6748,2,    142.4,2,  142.400,2,   149.46,2,    36.37,2,     0.00,2,     2.55,2,  -999.00,9, -999.000,9, -999.000,9,   -999.0,9,   -999.0,9
           NA,     P10,     75,   1,      10,     -99,  2,19931104,0746,  29.6805,  148.6888,  6224,   3998.1,   1.4948,  34.6812,2,  34.6807,2,    149.2,2,  149.600,2,   147.07,2,    35.95,2,     0.00,2,     2.51,2,  -999.00,9, -999.000,9, -999.000,9,   -999.0,9,   -999.0,9
           NA,     P10,     75,   1,       9,     -99,  2,19931104,0746,  29.6805,  148.6888,  6224,   4246.4,   1.4913,  34.6836,2,  34.6831,2,    152.8,2,  153.000,2,   146.35,2,    35.73,2,     0.00,2,     2.50,2,  -999.00,9, -999.000,9, -999.000,9,   -999.0,9,   -999.0,9
           NA,     P10,     75,   1,       8,     -99,  2,19931104,0746,  29.6805,  148.6888,  6224,   4497.3,   1.4903,  34.6864,2,  34.6860,2,    155.9,2,  155.900,2,   145.80,2,    35.53,2,     0.00,2,     2.47,2,  -999.00,9, -999.000,9, -999.000,9,   -999.0,9,   -999.0,9
           NA,     P10,     75,   1,       7,     -99,  2,19931104,0746,  29.6805,  148.6888,  6224,   4743.2,   1.4986,  34.6875,2,  34.6882,2,    158.5,2,  158.200,2,   144.90,2,    35.37,2,     0.00,2,     2.47,2,  -999.00,9, -999.000,9, -999.000,9,   -999.0,9,   -999.0,9
           NA,     P10,     75,   1,       6,     -99,  2,19931104,0746,  29.6805,  148.6888,  6224,   4997.5,   1.5127,  34.6891,2,  34.6901,2,    161.6,2,  161.300,2,   142.87,2,    35.16,2,     0.00,2,     2.45,2,  -999.00,9, -999.000,9, -999.000,9,   -999.0,9,   -999.0,9
           NA,     P10,     75,   1,       5,     -99,  2,19931104,0746,  29.6805,  148.6888,  6224,   5248.6,   1.5268,  34.6910,2,  34.6911,2,    164.9,2,  163.900,2,   141.05,2,    34.96,2,    -0.01,2,     2.43,2,    -0.00,2,   -0.001,2, -999.000,9,   -999.0,9,   -999.0,9
           NA,     P10,     75,   1,       4,     -99,  2,19931104,0746,  29.6805,  148.6888,  6224,   5500.7,   1.5488,  34.6924,2,  34.6927,2,    166.4,2,  166.100,2,   139.77,2,    34.85,2,    -0.01,2,     2.42,2,  -999.00,4,   -0.001,2, -999.000,9,   -999.0,9,   -999.0,9
           NA,     P10,     75,   1,       3,     -99,  2,19931104,0746,  29.6805,  148.6888,  6224,   5739.5,   1.5700,  34.6932,2,  34.6929,2,    168.6,2,  167.700,2,   138.30,2,    34.69,2,     0.00,2,     2.41,2,  -999.00,9, -999.000,9, -999.000,9,   -999.0,9,   -999.0,9
           NA,     P10,     75,   1,       2,     -99,  2,19931104,0746,  29.6805,  148.6888,  6224,   5985.2,   1.5947,  34.6938,2,  34.6945,2,    170.5,2,  169.400,2,   137.39,2,    34.58,2,     0.00,2,     2.40,2,  -999.00,4,    0.002,2, -999.000,9,   -999.0,9,   -999.0,9
           NA,     P10,     75,   1,       1,     -99,  2,19931104,0746,  29.6805,  148.6888,  6224,   6341.6,   1.6387,  34.6941,2,  34.6954,2,    171.9,2,  170.700,2,   136.07,2,    34.42,2,     0.00,2,     2.37,2,     0.00,2,    0.003,2, -999.000,9,   -999.0,9,   -999.0,9