BOTTLE,20210102JOAExport
EXPOCODE,SECT_ID,STNNBR,CASTNO,SAMPNO,BTLNBR,BTLNBR_FLAG_W,DATE,TIME,LATITUDE,LONGITUDE,DEPTH,CTDPRS,CTDTMP,CTDSAL,CTDSAL_FLAG_W,SALNTY,SALNTY_FLAG_W,CTDOXY,CTDOXY_FLAG_W,OXYGEN,OXYGEN_FLAG_W,SILCAT,SILCAT_FLAG_W,NITRAT,NITRAT_FLAG_W,NITRIT,NITRIT_FLAG_W,PHSPHT,PHSPHT_FLAG_W,CFC-11,CFC-11_FLAG_W,CFC-12,CFC-12_FLAG_W,SF6,SF6_FLAG_W,TCARBN,TCARBN_FLAG_W,ALKALI,ALKALI_FLAG_W
,,,,,,,,,,,,DB,ITS-90,PSS-78,,PSS-78,,UMOL/KG,,UMOL/KG,,UMOL/KG,,UMOL/KG,,UMOL/KG,,UMOL/KG,,PMOL/KG,,PMOL/KG,,FMOL/KG,,UMOL/KG,,UMOL/KG
           NA,     P10,     19,   1,      27,     -99,  2,19931016,0332,   0.2500,  146.2138,  3716,     14.5,  28.0660,  34.3409,2,  34.3414,2,    227.2,2, -999.000,4,     0.97,2,     0.01,2,     0.00,2,     0.07,2,  -999.00,9, -999.000,9, -999.000,9,   -999.0,9,   -999.0,9
           NA,     P10,     19,   1,      26,     -99,  2,19931016,0332,   0.2500,  146.2138,  3716,     47.8,  27.6240,  34.3907,2,  34.3965,2,    226.8,2,  217.100,2,     1.30,2,     0.01,2,     0.00,2,     0.08,2,  -999.00,9, -999.000,9, -999.000,9,   -999.0,9,   -999.0,9
           NA,     P10,     19,   1,      25,     -99,  2,19931016,0332,   0.2500,  146.2138,  3716,     97.1,  24.1489,  34.9285,2,  34.9495,2,    181.3,2,  173.200,2,     2.76,2,     4.26,2,     0.07,2,     0.41,2,  -999.00,9, -999.000,9, -999.000,9,   -999.0,9,   -999.0,9
           NA,     P10,     19,   1,      23,     -99,  2,19931016,0332,   0.2500,  146.2138,  3716,    198.2,  16.3863,  35.2061,2,  35.2204,2,    147.2,2,  144.800,2,     7.61,2,    13.11,2,     0.01,2,     1.01,2,  -999.00,9, -999.000,9, -999.000,9,   -999.0,9,   -999.0,9
           NA,     P10,     19,   1,      22,     -99,  2,19931016,0332,   0.2500,  146.2138,  3716,    245.1,  13.8758,  34.9667,2,  34.9654,2,    148.7,2,  142.600,2,    13.75,2,    16.98,2,     0.00,2,     1.26,2,  -999.00,9, -999.000,9, -999.000,9,   -999.0,9,   -999.0,9
           NA,     P10,     19,   1,      21,     -99,  2,19931016,0332,   0.2500,  146.2138,  3716,    296.3,  12.3419,  34.9139,2,  34.9092,2,    140.0,2,  139.800,2,    15.37,2,    19.85,2,     0.01,2,     1.44,2,  -999.00,9, -999.000,9, -999.000,9,   -999.0,9,   -999.0,9
           NA,     P10,     19,   1,      20,     -99,  2,19931016,0332,   0.2500,  146.2138,  3716,    397.7,  10.4571,  34.7540,2,  34.7534,2,    102.7,2,  104.400,2,    23.28,2,    26.69,2,     0.00,2,     1.87,2,  -999.00,9, -999.000,9, -999.000,9,   -999.0,9,   -999.0,9
           NA,     P10,     19,   1,      19,     -99,  2,19931016,0332,   0.2500,  146.2138,  3716,    477.3,   8.7841,  34.6390,2,  34.6428,2,    124.3,2,  109.500,2,    30.06,2,    29.35,2,     0.00,2,     2.04,2,  -999.00,9, -999.000,9, -999.000,9,   -999.0,9,   -999.0,9
           NA,     P10,     19,   1,      18,     -99,  2,19931016,0332,   0.2500,  146.2138,  3716,    522.2,   7.9423,  34.5933,2,  34.5907,2,    139.7,2,  120.200,2,    33.14,2,    30.11,2,     0.00,2,     2.09,2,  -999.00,9, -999.000,9, -999.000,9,   -999.0,9,   -999.0,9
           NA,     P10,     19,   1,      17,     -99,  2,19931016,0332,   0.2500,  146.2138,  3716,    600.5,   6.5731,  34.5346,2,  34.5341,2,    134.8,2,  134.300,2,    40.08,2,    31.47,2,     0.00,2,     2.19,2,  -999.00,9, -999.000,9, -999.000,9,   -999.0,9,   -999.0,9
           NA,     P10,     19,   1,      16,     -99,  2,19931016,0332,   0.2500,  146.2138,  3716,    699.9,   6.1199,  34.5386,2,  34.5393,2,    101.3,2,  108.300,2,    50.56,2,    34.84,2,     0.00,2,     2.44,2,  -999.00,9, -999.000,9, -999.000,9,   -999.0,9,   -999.0,9
           NA,     P10,     19,   1,      15,     -99,  2,19931016,0332,   0.2500,  146.2138,  3716,    802.8,   5.4473,  34.5408,2,  34.5400,2,     97.9,2,   95.800,2,    63.63,2,    37.05,2,     0.00,2,     2.61,2,  -999.00,9, -999.000,9, -999.000,9,   -999.0,9,   -999.0,9
           NA,     P10,     19,   1,      14,     -99,  2,19931016,0332,   0.2500,  146.2138,  3716,    934.0,   5.0439,  34.5430,2,  34.5416,2,     99.8,2,  101.400,2,    71.05,2,    36.87,2,     0.01,2,     2.60,2,  -999.00,9, -999.000,9, -999.000,9,   -999.0,9,   -999.0,9
           NA,     P10,     19,   1,      13,     -99,  2,19931016,0332,   0.2500,  146.2138,  3716,    995.8,   4.7234,  34.5505,2,  34.5503,2,     98.4,2,   97.000,2,    78.63,2,    37.64,2,     0.00,2,     2.67,2,  -999.00,9, -999.000,9, -999.000,9,   -999.0,9,   -999.0,9
           NA,     P10,     19,   1,      12,     -99,  2,19931016,0332,   0.2500,  146.2138,  3716,   1196.6,   4.1061,  34.5626,2,  34.5638,2,    101.9,2,  100.400,2,    90.73,2,    37.88,2,     0.00,2,     2.69,2,  -999.00,9, -999.000,9, -999.000,9,   -999.0,9,   -999.0,9
           NA,     P10,     19,   1,      11,     -99,  2,19931016,0332,   0.2500,  146.2138,  3716,   1394.5,   3.4990,  34.5858,2,  34.5872,2,     98.1,2,   95.500,2,   106.37,2,    38.92,2,     0.00,2,     2.77,2,  -999.00,9, -999.000,9, -999.000,9,   -999.0,9,   -999.0,9
           NA,     P10,     19,   1,      10,     -99,  2,19931016,0332,   0.2500,  146.2138,  3716,   1595.7,   2.9515,  34.6054,2,  34.6053,2,    108.1,2,  107.400,2,   117.81,2,    38.26,2,    -0.01,2,     2.71,2,  -999.00,9, -999.000,9, -999.000,9,   -999.0,9,   -999.0,9
           NA,     P10,     19,   1,       9,     -99,  2,19931016,0332,   0.2500,  146.2138,  3716,   1795.6,   2.5543,  34.6233,2,  34.6227,2,    111.8,2,  112.200,2,   126.52,2,    38.04,2,    -0.01,2,     2.70,2,  -999.00,9, -999.000,9, -999.000,9,   -999.0,9,   -999.0,9
           NA,     P10,     19,   1,       8,     -99,  2,19931016,0332,   0.2500,  146.2138,  3716,   1995.4,   2.4048,  34.6310,2,  34.6304,2,    117.6,2,  116.200,2,   129.27,2,    37.90,2,     0.00,2,     2.67,2,  -999.00,9, -999.000,9, -999.000,9,   -999.0,9,   -999.0,9
           NA,     P10,     19,   1,       7,     -99,  2,19931016,0332,   0.2500,  146.2138,  3716,   2243.6,   2.1355,  34.6444,2,  34.6463,2,    121.8,2,  122.700,2,   135.56,2,    37.64,2,     0.00,2,     2.65,2,  -999.00,9, -999.000,9, -999.000,9,   -999.0,9,   -999.0,9
           NA,     P10,     19,   1,       6,     -99,  2,19931016,0332,   0.2500,  146.2138,  3716,   2497.3,   1.8228,  34.6597,2,-999.0000,3,    129.8,2,  131.000,2,   140.73,2,    37.17,2,    -0.01,2,     2.60,2,  -999.00,9, -999.000,9, -999.000,9,   -999.0,9,   -999.0,9
           NA,     P10,     19,   1,       5,     -99,  2,19931016,0332,   0.2500,  146.2138,  3716,   2737.1,   1.6892,  34.6669,2,  34.6687,2,    136.4,2,  137.600,2,   142.03,2,    36.71,2,     0.00,2,     2.56,2,  -999.00,9, -999.000,9, -999.000,9,   -999.0,9,   -999.0,9
           NA,     P10,     19,   1,       4,     -99,  2,19931016,0332,   0.2500,  146.2138,  3716,   2993.6,   1.6300,  34.6724,2,  34.6711,2,    141.3,2,  141.700,2,   142.51,2,    36.50,2,     0.00,2,     2.54,2,  -999.00,9, -999.000,9, -999.000,9,   -999.0,9,   -999.0,9
           NA,     P10,     19,   1,       3,     -99,  2,19931016,0332,   0.2500,  146.2138,  3716,   3246.6,   1.5938,  34.6759,2,  34.6783,2,    144.0,2,  144.500,2,   142.52,2,    36.28,2,     0.00,2,     2.53,2,  -999.00,9, -999.000,9, -999.000,9,   -999.0,9,   -999.0,9
           NA,     P10,     19,   1,       2,     -99,  2,19931016,0332,   0.2500,  146.2138,  3716,   3501.3,   1.5828,  34.6792,2,  34.6772,2,    146.8,2,  146.700,2,   141.90,2,    36.10,2,     0.00,2,     2.52,2,  -999.00,9, -999.000,9, -999.000,9,   -999.0,9,   -999.0,9
           NA,     P10,     19,   1,       1,     -99,  2,19931016,0332,   0.2500,  146.2138,  3716,   3750.9,   1.5548,  34.6828,2,  34.6817,2,   -999.0,3,  150.600,2,   141.92,2,    35.90,2,     0.00,2,     2.50,2,  -999.00,9, -999.000,9, -999.000,9,   -999.0,9,   -999.0,9
           NA,     P10,     20,   1,      30,     -99,  2,19931016,0844,   0.4972,  146.2805,  4136,     19.9,  28.5897,  34.3413,2,  34.3430,2,    225.2,2,  207.600,2,     0.93,2,     0.05,2,     0.01,2,     0.10,2,  -999.00,4,    0.965,2, -999.000,9,   -999.0,9,   -999.0,9
           NA,     P10,     20,   1,      29,     -99,  2,19931016,0844,   0.4972,  146.2805,  4136,     60.1,  27.6748,  34.3662,2,  34.3740,2,    215.2,2,  210.600,2,     1.43,2,     0.10,2,     0.01,2,     0.09,2,  -999.00,4,    0.982,2, -999.000,9,   -999.0,9,   -999.0,9
           NA,     P10,     20,   1,      28,     -99,  2,19931016,0844,   0.4972,  146.2805,  4136,    108.9,  23.7277,  34.9219,2,  34.9347,2,    172.9,2,  172.000,2,     3.22,2,     4.53,2,     0.06,2,     0.43,2,  -999.00,4,    0.963,2, -999.000,9,   -999.0,9,   -999.0,9
           NA,     P10,     20,   1,      27,     -99,  2,19931016,0844,   0.4972,  146.2805,  4136,    157.9,  19.9216,  35.2597,2,  35.2722,2,    141.9,2,  141.800,2,     5.83,2,     9.94,2,     0.01,2,     0.80,2,  -999.00,4,    0.846,6, -999.000,9,   -999.0,9,   -999.0,9
           NA,     P10,     20,   1,      26,     -99,  2,19931016,0844,   0.4972,  146.2805,  4136,    206.8,  16.7983,  35.1255,2,  35.1243,2,    142.4,2,  141.900,2,     9.89,2,    13.14,2,     0.01,2,     1.02,2,  -999.00,9, -999.000,9, -999.000,9,   -999.0,9,   -999.0,9
           NA,     P10,     20,   1,      25,     -99,  2,19931016,0844,   0.4972,  146.2805,  4136,    256.2,  13.0327,  34.7911,2,  34.7912,2,    121.7,2,  134.100,2,    19.48,2,    19.04,2,     0.01,2,     1.40,2,  -999.00,4,    0.578,2, -999.000,9,   -999.0,9,   -999.0,9
           NA,     P10,     20,   1,      24,     -99,  2,19931016,0844,   0.4972,  146.2805,  4136,    305.8,  11.7290,  34.8724,2,  34.8714,2,    134.4,2,  137.900,2,    16.24,2,    21.01,2,     0.00,2,     1.51,2,  -999.00,9, -999.000,9, -999.000,9,   -999.0,9,   -999.0,9
           NA,     P10,     20,   1,      23,     -99,  2,19931016,0844,   0.4972,  146.2805,  4136,    404.6,   9.9933,  34.7204,2,  34.7198,2,     99.7,2,   97.500,2,    25.83,2,    28.19,2,     0.00,2,     1.98,2,  -999.00,4,    0.175,2, -999.000,9,   -999.0,9,   -999.0,9
           NA,     P10,     20,   1,      22,     -99,  2,19931016,0844,   0.4972,  146.2805,  4136,    504.7,   8.1959,  34.6073,2,  34.6064,2,    118.1,2,  127.300,2,    29.41,2,    28.78,2,     0.00,2,     2.01,2,  -999.00,9, -999.000,9, -999.000,9,   -999.0,9,   -999.0,9
           NA,     P10,     20,   1,      21,     -99,  2,19931016,0844,   0.4972,  146.2805,  4136,    554.5,   7.6181,  34.5772,2,  34.5764,2,    119.8,2,  111.800,2,    37.21,2,    31.32,2,     0.00,2,     2.20,2,  -999.00,4,    0.063,2, -999.000,9,   -999.0,9,   -999.0,9
           NA,     P10,     20,   1,      20,     -99,  2,19931016,0844,   0.4972,  146.2805,  4136,    605.2,   6.6660,  34.5377,2,  34.5302,2,    125.3,2,  133.100,2,    39.49,2,    31.29,2,     0.00,2,     2.20,2,  -999.00,9, -999.000,9, -999.000,9,   -999.0,9,   -999.0,9
           NA,     P10,     20,   1,      19,     -99,  2,19931016,0844,   0.4972,  146.2805,  4136,    705.5,   6.1940,  34.5448,2,  34.5424,2,     96.7,2,   99.900,2,    51.34,2,    35.42,2,     0.00,2,     2.50,2,  -999.00,4,    0.014,2, -999.000,9,   -999.0,9,   -999.0,9
           NA,     P10,     20,   1,      18,     -99,  2,19931016,0844,   0.4972,  146.2805,  4136,    805.6,   5.6047,  34.5413,2,  34.5396,2,    100.8,2,   94.700,2,    61.41,2,    36.82,2,    -0.01,2,     2.62,2,  -999.00,9, -999.000,9, -999.000,9,   -999.0,9,   -999.0,9
           NA,     P10,     20,   1,      17,     -99,  2,19931016,0844,   0.4972,  146.2805,  4136,    886.1,   5.2017,  34.5386,2,  34.5449,2,    105.0,2,  104.500,2,    66.94,2,    36.29,2,     0.00,2,     2.58,2,  -999.00,4,    0.003,2, -999.000,9,   -999.0,9,   -999.0,9
           NA,     P10,     20,   1,      16,     -99,  2,19931016,0844,   0.4972,  146.2805,  4136,   1006.7,   4.5540,  34.5524,2,-999.0000,3,     97.8,2,   96.400,2,    81.71,2,    37.82,2,    -0.01,2,     2.70,2,  -999.00,9, -999.000,9, -999.000,9,   -999.0,9,   -999.0,9
           NA,     P10,     20,   1,      15,     -99,  2,19931016,0844,   0.4972,  146.2805,  4136,   1197.5,   3.9524,  34.5707,2,  34.5691,2,    101.3,2,   98.400,2,    96.64,2,    37.91,2,    -0.01,2,     2.72,2,  -999.00,4,    0.016,2, -999.000,9,   -999.0,9,   -999.0,9
           NA,     P10,     20,   1,      14,     -99,  2,19931016,0844,   0.4972,  146.2805,  4136,   1393.7,   3.2837,  34.5955,2,-999.0000,3,     99.5,2,   99.800,2,   110.11,2,    38.59,2,  -999.00,4,     2.76,2,  -999.00,9, -999.000,9, -999.000,9,   -999.0,9,   -999.0,9
           NA,     P10,     20,   1,      13,     -99,  2,19931016,0844,   0.4972,  146.2805,  4136,   1595.3,   2.8291,  34.6098,2,  34.6094,2,    108.0,2,  107.500,2,   120.82,2,    38.09,2,  -999.00,4,     2.72,2,  -999.00,4,    0.003,2, -999.000,9,   -999.0,9,   -999.0,9
           NA,     P10,     20,   1,      12,     -99,  2,19931016,0844,   0.4972,  146.2805,  4136,   1796.6,   2.5533,  34.6227,2,-999.0000,3,    110.7,2,  111.300,2,   126.66,2,    38.03,2,     0.00,2,     2.72,2,  -999.00,4,    0.002,2, -999.000,9,   -999.0,9,   -999.0,9
           NA,     P10,     20,   1,      11,     -99,  2,19931016,0844,   0.4972,  146.2805,  4136,   1997.3,   2.3230,  34.6343,2,-999.0000,4,    118.2,2,  117.400,2,   130.88,2,    37.69,2,     0.00,2,     2.68,2,  -999.00,4,    0.000,2, -999.000,9,   -999.0,9,   -999.0,9
           NA,     P10,     20,   1,      10,     -99,  2,19931016,0844,   0.4972,  146.2805,  4136,   2193.8,   2.1362,  34.6439,2,  34.6459,2,    120.0,2,  121.100,2,   135.42,2,    37.43,2,     0.00,2,     2.67,2,  -999.00,4,   -0.001,2, -999.000,9,   -999.0,9,   -999.0,9
           NA,     P10,     20,   1,       9,     -99,  2,19931016,0844,   0.4972,  146.2805,  4136,   2395.5,   1.9001,  34.6543,2,  34.6542,2,    126.8,2,  127.500,2,   140.12,2,    37.18,2,     0.00,2,     2.64,2,  -999.00,4,    0.001,2, -999.000,9,   -999.0,9,   -999.0,9
           NA,     P10,     20,   1,       8,     -99,  2,19931016,0844,   0.4972,  146.2805,  4136,   2593.2,   1.7890,  34.6615,2,  34.6620,2,    131.6,2,  132.000,2,   141.42,2,    36.84,2,     0.00,2,     2.62,2,  -999.00,4, -999.000,4, -999.000,9,   -999.0,9,   -999.0,9
           NA,     P10,     20,   1,       7,     -99,  2,19931016,0844,   0.4972,  146.2805,  4136,   2796.7,   1.6758,  34.6681,2,-999.0000,3,    137.8,2,  137.900,2,   142.07,2,    36.46,2,    -0.01,2,     2.58,2,  -999.00,4,    0.000,2, -999.000,9,   -999.0,9,   -999.0,9
           NA,     P10,     20,   1,       6,     -99,  2,19931016,0844,   0.4972,  146.2805,  4136,   2994.7,   1.6382,  34.6712,2,  34.6721,2,    140.8,2,  140.500,2,   142.40,2,    36.29,2,    -0.01,2,     2.56,2,  -999.00,4,   -0.002,2, -999.000,9,   -999.0,9,   -999.0,9
           NA,     P10,     20,   1,       4,     -99,  2,19931016,0844,   0.4972,  146.2805,  4136,   3496.5,   1.5833,  34.6783,2,-999.0000,3,    146.4,2,  145.700,2,   142.23,2,    36.00,2,    -0.01,2,     2.54,2,  -999.00,4,    0.000,2, -999.000,9,   -999.0,9,   -999.0,9
           NA,     P10,     20,   1,       3,     -99,  2,19931016,0844,   0.4972,  146.2805,  4136,   3745.5,   1.5447,  34.6823,2,  34.6833,2,    151.4,2,  150.600,2,   141.74,2,    35.74,2,    -0.01,2,     2.51,2,  -999.00,4,   -0.002,2, -999.000,9,   -999.0,9,   -999.0,9
           NA,     P10,     20,   1,       2,     -99,  2,19931016,0844,   0.4972,  146.2805,  4136,   3999.3,   1.5234,  34.6854,2,-999.0000,3,    155.2,2,  153.600,2,   141.10,2,    35.53,2,    -0.01,2,     2.50,2,  -999.00,4,    0.001,2, -999.000,9,   -999.0,9,   -999.0,9
           NA,     P10,     20,   1,       1,     -99,  2,19931016,0844,   0.4972,  146.2805,  4136,   4182.0,   1.5232,  34.6876,2,  34.6905,2,   -999.0,3,  155.900,2,   140.68,2,    35.52,2,     0.00,2,     2.49,2,  -999.00,4,   -0.002,2, -999.000,9,   -999.0,9,   -999.0,9