BOTTLE,20210102JOAExport
EXPOCODE,SECT_ID,STNNBR,CASTNO,SAMPNO,BTLNBR,BTLNBR_FLAG_W,DATE,TIME,LATITUDE,LONGITUDE,DEPTH,CTDPRS,CTDTMP,CTDSAL,CTDSAL_FLAG_W,SALNTY,SALNTY_FLAG_W,CTDOXY,CTDOXY_FLAG_W,OXYGEN,OXYGEN_FLAG_W,SILCAT,SILCAT_FLAG_W,NITRAT,NITRAT_FLAG_W,NITRIT,NITRIT_FLAG_W,PHSPHT,PHSPHT_FLAG_W,CFC-11,CFC-11_FLAG_W,CFC-12,CFC-12_FLAG_W,SF6,SF6_FLAG_W,TCARBN,TCARBN_FLAG_W,ALKALI,ALKALI_FLAG_W
,,,,,,,,,,,,DB,ITS-90,PSS-78,,PSS-78,,UMOL/KG,,UMOL/KG,,UMOL/KG,,UMOL/KG,,UMOL/KG,,UMOL/KG,,PMOL/KG,,PMOL/KG,,FMOL/KG,,UMOL/KG,,UMOL/KG
           NA,     P10,     84,   1,      36,     -99,  2,19931107,0526,  33.9250,  143.1750,  5376,      8.3,  22.6405,  34.6455,2,  34.6449,2,    214.5,2,  215.900,2,     1.38,2,     0.01,2,     0.00,2,     0.07,2,     2.16,2,    1.193,2, -999.000,9,   -999.0,9,   -999.0,9
           NA,     P10,     84,   1,      35,     -99,  2,19931107,0526,  33.9250,  143.1750,  5376,     50.1,  22.6382,  34.6462,2,  34.6457,2,    220.1,2,  215.500,2,     1.56,2,     0.00,2,     0.01,2,     0.07,2,  -999.00,9, -999.000,9, -999.000,9,   -999.0,9,   -999.0,9
           NA,     P10,     84,   1,      34,     -99,  2,19931107,0526,  33.9250,  143.1750,  5376,     99.7,  20.1720,  34.7586,2,  34.7587,2,    221.7,2,  216.800,2,     2.29,2,     1.14,2,     0.13,2,     0.17,2,     2.43,2,    1.319,2, -999.000,9,   -999.0,9,   -999.0,9
           NA,     P10,     84,   1,      33,     -99,  2,19931107,0526,  33.9250,  143.1750,  5376,    149.0,  18.5984,  34.8023,2,  34.7998,2,    218.5,2,  217.800,2,     2.65,2,     2.21,2,     0.02,2,     0.23,2,  -999.00,9, -999.000,9, -999.000,9,   -999.0,9,   -999.0,9
           NA,     P10,     84,   1,      32,     -99,  2,19931107,0526,  33.9250,  143.1750,  5376,    198.6,  17.7783,  34.8228,2,  34.8203,2,    222.0,2,  219.900,2,     3.01,2,     2.64,2,     0.01,2,     0.25,2,     2.42,2,    1.292,2, -999.000,9,   -999.0,9,   -999.0,9
           NA,     P10,     84,   1,      31,     -99,  2,19931107,0526,  33.9250,  143.1750,  5376,    258.1,  17.6022,  34.8250,2,  34.8240,2,    223.0,2,  221.900,2,     3.03,2,     2.53,2,     0.01,2,     0.25,2,  -999.00,9, -999.000,9, -999.000,9,   -999.0,9,   -999.0,9
           NA,     P10,     84,   1,      30,     -99,  2,19931107,0526,  33.9250,  143.1750,  5376,    302.2,  17.5785,  34.8239,2,  34.8246,2,    223.3,2,  222.000,2,     3.04,2,     2.59,2,     0.00,2,     0.25,2,     2.53,2,    1.310,2, -999.000,9,   -999.0,9,   -999.0,9
           NA,     P10,     84,   1,      29,     -99,  2,19931107,0526,  33.9250,  143.1750,  5376,    399.7,  17.2000,  34.8011,2,  34.7994,2,    224.2,2,  221.000,2,     3.57,2,     3.22,2,     0.00,2,     0.30,2,  -999.00,9, -999.000,9, -999.000,9,   -999.0,9,   -999.0,9
           NA,     P10,     84,   1,      28,     -99,  2,19931107,0526,  33.9250,  143.1750,  5376,    495.4,  15.7386,  34.6793,2,  34.6766,2,    196.4,2,  194.600,2,     8.52,2,     7.92,2,     0.00,2,     0.63,2,     2.28,2,    1.179,2, -999.000,9,   -999.0,9,   -999.0,9
           NA,     P10,     84,   1,      27,     -99,  2,19931107,0526,  33.9250,  143.1750,  5376,    596.3,  12.7467,  34.4562,2,  34.4570,2,    205.5,2,  207.600,2,    15.22,2,    11.41,2,     0.00,2,     0.89,2,  -999.00,9, -999.000,9, -999.000,9,   -999.0,9,   -999.0,9
           NA,     P10,     84,   1,      26,     -99,  2,19931107,0526,  33.9250,  143.1750,  5376,    696.9,  10.9132,  34.3161,2,  34.3196,2,    180.7,2,  178.600,2,    25.61,2,    17.07,2,     0.00,2,     1.28,2,     2.06,2,    1.012,2, -999.000,9,   -999.0,9,   -999.0,9
           NA,     P10,     84,   1,      25,     -99,  2,19931107,0526,  33.9250,  143.1750,  5376,    792.2,   8.0514,  34.1196,2,  34.1210,2,    174.4,2,  165.200,2,    42.17,2,    23.37,2,    -0.01,2,     1.75,2,  -999.00,9, -999.000,9, -999.000,9,   -999.0,9,   -999.0,9
           NA,     P10,     84,   1,      24,     -99,  2,19931107,0526,  33.9250,  143.1750,  5376,    895.3,   5.7102,  34.0308,2,  34.0306,2,    136.8,2,  129.100,2,    66.13,2,    30.88,2,    -0.01,2,     2.30,2,     1.56,2,    0.710,2, -999.000,9,   -999.0,9,   -999.0,9
           NA,     P10,     84,   1,      23,     -99,  2,19931107,0526,  33.9250,  143.1750,  5376,    997.7,   4.6732,  34.1134,2,  34.1102,2,     92.7,2,   85.900,2,    89.20,2,    36.33,2,    -0.01,2,     2.66,2,  -999.00,9, -999.000,9, -999.000,9,   -999.0,9,   -999.0,9
           NA,     P10,     84,   1,      22,     -99,  2,19931107,0526,  33.9250,  143.1750,  5376,   1192.0,   3.9114,  34.3422,2,  34.3392,2,     62.5,2,   60.800,2,   116.31,2,    39.28,2,    -0.01,2,     2.85,2,     0.18,2,    0.086,2, -999.000,9,   -999.0,9,   -999.0,9
           NA,     P10,     84,   1,      21,     -99,  2,19931107,0526,  33.9250,  143.1750,  5376,   1292.8,   3.5570,  34.3893,2,  34.3877,2,     58.8,2,   58.600,2,   124.60,2,    39.96,2,     0.00,2,     2.90,2,  -999.00,9, -999.000,9, -999.000,9,   -999.0,9,   -999.0,9
           NA,     P10,     84,   1,      20,     -99,  2,19931107,0526,  33.9250,  143.1750,  5376,   1395.2,   3.2370,  34.4327,2,  34.4324,2,     60.7,2,   60.500,2,   130.95,2,    40.29,2,    -0.01,2,     2.91,2,     0.06,2,    0.026,2, -999.000,9,   -999.0,9,   -999.0,9
           NA,     P10,     84,   1,      19,     -99,  2,19931107,0526,  33.9250,  143.1750,  5376,   1495.0,   2.9306,  34.4504,2,-999.0000,3,     55.8,2,   57.300,2,   132.74,2,    39.50,2,    -0.01,2,     2.84,2,  -999.00,9, -999.000,9, -999.000,9,   -999.0,9,   -999.0,9
           NA,     P10,     84,   1,      18,     -99,  2,19931107,0526,  33.9250,  143.1750,  5376,   1594.8,   2.6782,  34.4749,2,  34.4735,2,     44.8,2,   44.400,2,   148.60,2,    42.09,2,    -0.01,2,     3.03,2,  -999.00,9, -999.000,9, -999.000,9,   -999.0,9,   -999.0,9
           NA,     P10,     84,   1,      17,     -99,  2,19931107,0526,  33.9250,  143.1750,  5376,   1695.4,   2.5542,  34.5063,2,  34.5059,2,     56.0,2,   55.500,2,   149.51,2,    41.30,2,    -0.01,2,     2.97,2,  -999.00,9, -999.000,9, -999.000,9,   -999.0,9,   -999.0,9
           NA,     P10,     84,   1,      16,     -99,  3,19931107,0526,  33.9250,  143.1750,  5376,   1793.3,   2.3468,  34.5249,2,  34.5237,2,     52.0,2,   52.300,2,   156.40,2,    41.77,2,    -0.01,2,     3.00,2,  -999.00,9, -999.000,9, -999.000,9,   -999.0,9,   -999.0,9
           NA,     P10,     84,   1,      15,     -99,  2,19931107,0526,  33.9250,  143.1750,  5376,   2005.0,   2.1480,  34.5623,2,  34.5626,2,     62.8,2,   61.900,2,   160.47,2,    41.29,2,     0.00,2,     2.97,2,  -999.00,9, -999.000,9, -999.000,9,   -999.0,9,   -999.0,9
           NA,     P10,     84,   1,      14,     -99,  2,19931107,0526,  33.9250,  143.1750,  5376,   2199.8,   1.9665,  34.5953,2,  34.5946,2,     78.5,2,   78.500,2,   160.67,2,    40.29,2,     0.00,2,     2.88,2,  -999.00,9, -999.000,9, -999.000,9,   -999.0,9,   -999.0,9
           NA,     P10,     84,   1,      13,     -99,  2,19931107,0526,  33.9250,  143.1750,  5376,   2397.4,   1.8496,  34.6159,2,  34.6155,2,     91.0,2,   90.700,2,   159.99,2,    39.56,2,    -0.01,2,     2.82,2,  -999.00,9, -999.000,9, -999.000,9,   -999.0,9,   -999.0,9
           NA,     P10,     84,   1,      12,     -99,  2,19931107,0526,  33.9250,  143.1750,  5376,   2600.2,   1.7277,  34.6360,2,  34.6349,2,    104.2,2,  104.900,2,   159.13,2,    38.65,2,     0.00,2,     2.77,2,  -999.00,9, -999.000,9, -999.000,9,   -999.0,9,   -999.0,9
           NA,     P10,     84,   1,      11,     -99,  2,19931107,0526,  33.9250,  143.1750,  5376,   2793.8,   1.6509,  34.6481,2,  34.6463,2,    115.1,2,  115.000,2,   157.58,2,    38.02,2,     0.00,2,     2.71,2,  -999.00,9, -999.000,9, -999.000,9,   -999.0,9,   -999.0,9
           NA,     P10,     84,   1,      10,     -99,  2,19931107,0526,  33.9250,  143.1750,  5376,   2997.7,   1.5902,  34.6580,2,  34.6575,2,    123.3,2,  124.000,2,   155.48,2,    37.49,2,     0.00,2,     2.67,2,  -999.00,9, -999.000,9, -999.000,9,   -999.0,9,   -999.0,9
           NA,     P10,     84,   1,       9,     -99,  2,19931107,0526,  33.9250,  143.1750,  5376,   3241.6,   1.5457,  34.6652,2,  34.6652,2,    131.1,2,  131.400,2,   154.10,2,    37.02,2,     0.00,2,     2.62,2,  -999.00,9, -999.000,9, -999.000,9,   -999.0,9,   -999.0,9
           NA,     P10,     84,   1,       8,     -99,  2,19931107,0526,  33.9250,  143.1750,  5376,   3491.7,   1.5049,  34.6726,2,  34.6722,2,    138.3,2,  139.200,2,   152.90,2,    36.54,2,     0.00,2,     2.59,2,  -999.00,9, -999.000,9, -999.000,9,   -999.0,9,   -999.0,9
           NA,     P10,     84,   1,       7,     -99,  2,19931107,0526,  33.9250,  143.1750,  5376,   3740.6,   1.4846,  34.6769,2,  34.6770,2,    144.1,2,  144.800,2,   151.68,2,    36.12,2,     0.00,2,     2.55,2,  -999.00,9, -999.000,9, -999.000,9,   -999.0,9,   -999.0,9
           NA,     P10,     84,   1,       6,     -99,  2,19931107,0526,  33.9250,  143.1750,  5376,   3990.7,   1.4645,  34.6814,2,  34.6823,2,    150.1,2,  150.500,2,   149.60,2,    35.75,2,     0.00,2,     2.53,2,  -999.00,9, -999.000,9, -999.000,9,   -999.0,9,   -999.0,9
           NA,     P10,     84,   1,       4,     -99,  2,19931107,0526,  33.9250,  143.1750,  5376,   4498.1,   1.4604,  34.6885,2,  34.6872,2,    158.7,2,  158.900,2,   146.27,2,    35.18,2,     0.00,2,     2.49,2,  -999.00,4,    0.003,2, -999.000,9,   -999.0,9,   -999.0,9
           NA,     P10,     84,   1,       3,     -99,  2,19931107,0526,  33.9250,  143.1750,  5376,   4759.0,   1.4746,  34.6893,2,  34.6890,2,    161.5,2,  161.400,2,   144.36,2,    35.02,2,     0.00,2,     2.47,2,     0.00,2,    0.000,2, -999.000,9,   -999.0,9,   -999.0,9
           NA,     P10,     84,   1,       2,     -99,  2,19931107,0526,  33.9250,  143.1750,  5376,   5094.0,   1.5029,  34.6906,2,  34.6905,2,    163.6,2,  163.400,2,   143.16,2,    34.81,2,     0.00,2,     2.45,2,  -999.00,4,    0.001,2, -999.000,9,   -999.0,9,   -999.0,9
           NA,     P10,     84,   1,       1,     -99,  2,19931107,0526,  33.9250,  143.1750,  5376,   5471.8,   1.5463,  34.6918,2,  34.6913,2,    163.8,2,  164.200,2,   142.21,2,    34.81,2,     0.00,2,     2.44,2,    -0.00,2,    0.004,2, -999.000,9,   -999.0,9,   -999.0,9