BOTTLE,20210102JOAExport
EXPOCODE,SECT_ID,STNNBR,CASTNO,SAMPNO,BTLNBR,BTLNBR_FLAG_W,DATE,TIME,LATITUDE,LONGITUDE,DEPTH,CTDPRS,CTDTMP,CTDSAL,CTDSAL_FLAG_W,SALNTY,SALNTY_FLAG_W,CTDOXY,CTDOXY_FLAG_W,OXYGEN,OXYGEN_FLAG_W,SILCAT,SILCAT_FLAG_W,NITRAT,NITRAT_FLAG_W,NITRIT,NITRIT_FLAG_W,PHSPHT,PHSPHT_FLAG_W,CFC-11,CFC-11_FLAG_W,CFC-12,CFC-12_FLAG_W,SF6,SF6_FLAG_W,TCARBN,TCARBN_FLAG_W,ALKALI,ALKALI_FLAG_W
,,,,,,,,,,,,DB,ITS-90,PSS-78,,PSS-78,,UMOL/KG,,UMOL/KG,,UMOL/KG,,UMOL/KG,,UMOL/KG,,UMOL/KG,,PMOL/KG,,PMOL/KG,,FMOL/KG,,UMOL/KG,,UMOL/KG
           NA,     P10,      8,   1,      15,     -99,  3,19931013,1626,  -2.5000,  145.4278,  1094,      6.9,  28.7386,  34.2518,2,  34.2519,2,    203.5,2,  210.400,2,     3.39,2,     0.17,2,     0.01,2,     0.09,2,  -999.00,4,    0.987,2, -999.000,9,   -999.0,9,   -999.0,9
           NA,     P10,      8,   1,      14,     -99,  2,19931013,1626,  -2.5000,  145.4278,  1094,     46.7,  28.6713,  34.2528,2,  34.2560,2,    208.3,2,  212.100,2,     1.61,2,     0.13,2,     0.01,2,     0.13,2,  -999.00,4,    0.988,2, -999.000,9,   -999.0,9,   -999.0,9
           NA,     P10,      8,   1,      13,     -99,  2,19931013,1626,  -2.5000,  145.4278,  1094,     95.1,  24.6602,  35.1856,2,  35.1374,2,    184.3,2,  177.800,2,     1.78,2,     2.40,2,     0.21,2,     0.37,2,  -999.00,9, -999.000,9, -999.000,9,   -999.0,9,   -999.0,9
           NA,     P10,      8,   1,      12,     -99,  2,19931013,1626,  -2.5000,  145.4278,  1094,    146.5,  20.5490,  35.3702,2,  35.3683,2,    150.5,2,  143.500,2,     4.84,2,     9.05,2,     0.02,2,     0.77,2,  -999.00,9, -999.000,9, -999.000,9,   -999.0,9,   -999.0,9
           NA,     P10,      8,   1,      11,     -99,  2,19931013,1626,  -2.5000,  145.4278,  1094,    196.1,  18.7203,  35.4525,2,  35.4348,2,    147.0,2,  144.100,2,     5.00,2,    10.68,2,     0.01,2,     0.89,2,  -999.00,9, -999.000,9, -999.000,9,   -999.0,9,   -999.0,9
           NA,     P10,      8,   1,      10,     -99,  2,19931013,1626,  -2.5000,  145.4278,  1094,    246.0,  14.9505,  35.1817,2,  35.1784,2,    145.4,2,  145.900,2,     8.39,2,    14.95,2,     0.01,2,     1.17,2,  -999.00,4,    0.608,2, -999.000,9,   -999.0,9,   -999.0,9
           NA,     P10,      8,   1,       9,     -99,  2,19931013,1626,  -2.5000,  145.4278,  1094,    295.8,  13.0725,  34.9934,2,  35.0016,2,    140.1,2,  143.000,2,    12.26,2,    18.13,2,     0.01,2,     1.37,2,  -999.00,9, -999.000,9, -999.000,9,   -999.0,9,   -999.0,9
           NA,     P10,      8,   1,       8,     -99,  2,19931013,1626,  -2.5000,  145.4278,  1094,    395.9,   9.9151,  34.7380,2,  34.7323,2,    145.5,2,  141.300,2,    19.84,2,    24.42,2,     0.01,2,     1.74,2,  -999.00,9, -999.000,9, -999.000,9,   -999.0,9,   -999.0,9
           NA,     P10,      8,   1,       7,     -99,  2,19931013,1626,  -2.5000,  145.4278,  1094,    495.8,   8.5385,  34.6356,2,  34.6307,2,    144.2,2,  148.100,2,    24.37,2,    26.33,2,     0.00,2,     1.88,2,  -999.00,9, -999.000,9, -999.000,9,   -999.0,9,   -999.0,9
           NA,     P10,      8,   1,       6,     -99,  2,19931013,1626,  -2.5000,  145.4278,  1094,    596.7,   6.8494,  34.5501,2,  34.5598,2,    135.6,2,  136.400,2,    37.44,2,    30.63,2,     0.01,2,     2.17,2,  -999.00,9, -999.000,9, -999.000,9,   -999.0,9,   -999.0,9
           NA,     P10,      8,   1,       5,     -99,  2,19931013,1626,  -2.5000,  145.4278,  1094,    696.1,   5.6940,  34.5257,2,  34.5245,2,    129.2,2,  129.000,2,    51.80,2,    33.38,2,     0.00,2,     2.36,2,  -999.00,4,    0.038,2, -999.000,9,   -999.0,9,   -999.0,9
           NA,     P10,      8,   1,       4,     -99,  2,19931013,1626,  -2.5000,  145.4278,  1094,    797.6,   5.3252,  34.5323,2,  34.5321,2,    115.8,2,  115.500,2,    61.33,2,    35.22,2,     0.01,2,     2.50,2,  -999.00,4,    0.017,2, -999.000,9,   -999.0,9,   -999.0,9
           NA,     P10,      8,   1,       3,     -99,  2,19931013,1626,  -2.5000,  145.4278,  1094,    895.6,   5.0655,  34.5358,2,  34.5370,2,    112.7,2,  112.600,2,    66.97,2,    35.76,2,     0.01,2,     2.55,2,  -999.00,9, -999.000,9, -999.000,9,   -999.0,9,   -999.0,9
           NA,     P10,      8,   1,       2,     -99,  2,19931013,1626,  -2.5000,  145.4278,  1094,    989.3,   4.7693,  34.5429,2,  34.5427,2,    110.6,2,  110.000,2,    73.91,2,    36.34,2,     0.01,2,     2.59,2,  -999.00,9, -999.000,9, -999.000,9,   -999.0,9,   -999.0,9
           NA,     P10,      8,   1,       1,     -99,  2,19931013,1626,  -2.5000,  145.4278,  1094,   1083.7,   4.3504,  34.5511,2,  34.5518,2,    108.6,2, -999.000,3,    83.11,2,    36.59,2,     0.01,2,     2.62,2,  -999.00,4,    0.004,2, -999.000,9,   -999.0,9,   -999.0,9
           NA,     P10,      9,   1,      16,     -99,  2,19931013,1936,  -2.2528,  145.4972,  1005,      6.1,  28.5215,  34.2017,2,  34.2071,2,    203.1,2,  206.600,2,     1.40,2,    -0.03,2,     0.00,2,     0.08,2,  -999.00,9, -999.000,9, -999.000,9,   1905.2,2,   2250.5,2
           NA,     P10,      9,   1,      15,     -99,  2,19931013,1936,  -2.2528,  145.4972,  1005,     54.5,  28.2146,  34.3332,2,  34.3325,2,    207.5,2,  204.900,2,     1.23,2,    -0.02,2,     0.00,2,     0.09,2,  -999.00,9, -999.000,9, -999.000,9,   1912.5,2,   2262.6,2
           NA,     P10,      9,   1,      14,     -99,  2,19931013,1936,  -2.2528,  145.4972,  1005,     99.1,  24.0941,  35.2167,2,  35.2014,2,    168.3,2,  163.500,2,     2.35,2,     4.02,2,     0.12,2,     0.44,2,  -999.00,9, -999.000,9, -999.000,9,   2012.1,2,   -999.0,5
           NA,     P10,      9,   1,      13,     -99,  3,19931013,1936,  -2.2528,  145.4972,  1005,    149.1,  20.4230,  35.3308,2,  35.3352,2,    149.0,2,  144.100,2,     5.09,2,     9.04,2,     0.02,2,     0.76,2,  -999.00,9, -999.000,9, -999.000,9,   -999.0,9,   -999.0,9
           NA,     P10,      9,   1,      12,     -99,  2,19931013,1936,  -2.2528,  145.4972,  1005,    198.8,  17.8771,  35.3696,2,  35.3628,2,    148.8,2,  143.300,2,     5.89,2,    11.56,2,     0.01,2,     0.94,2,  -999.00,9, -999.000,9, -999.000,9,   2099.1,2,   2327.8,2
           NA,     P10,      9,   1,      11,     -99,  2,19931013,1936,  -2.2528,  145.4972,  1005,    244.0,  15.1012,  35.1914,2,  35.1861,2,    148.0,2,  145.000,2,     8.13,2,    14.83,2,     0.01,2,     1.15,2,  -999.00,9, -999.000,9, -999.000,9,   2124.1,2,   2325.9,2
           NA,     P10,      9,   1,      10,     -99,  2,19931013,1936,  -2.2528,  145.4972,  1005,    298.5,  12.7672,  34.9758,2,  34.9705,2,    142.1,2,  142.400,2,    12.80,2,    18.70,2,     0.00,2,     1.39,2,  -999.00,9, -999.000,9, -999.000,9,   2144.7,6,   2315.6,6
           NA,     P10,      9,   1,       9,     -99,  2,19931013,1936,  -2.2528,  145.4972,  1005,    398.2,  10.3150,  34.7751,2,  34.7695,2,    146.0,2,  144.700,2,    17.78,2,    22.90,2,     0.01,2,     1.65,2,  -999.00,9, -999.000,9, -999.000,9,   2165.4,2,   2316.3,2
           NA,     P10,      9,   1,       8,     -99,  2,19931013,1936,  -2.2528,  145.4972,  1005,    498.7,   8.2771,  34.6218,2,  34.6227,2,    143.9,2,  141.600,2,    25.99,2,    27.24,2,     0.01,2,     1.93,2,  -999.00,9, -999.000,9, -999.000,9,   2187.8,2,   2309.4,2
           NA,     P10,      9,   1,       7,     -99,  2,19931013,1936,  -2.2528,  145.4972,  1005,    548.7,   7.4827,  34.5837,2,  34.5822,2,    142.5,2,  137.400,2,    31.61,2,    29.26,2,     0.01,2,     2.08,2,  -999.00,9, -999.000,9, -999.000,9,   2201.4,2,   2326.7,2
           NA,     P10,      9,   1,       6,     -99,  2,19931013,1936,  -2.2528,  145.4972,  1005,    594.3,   6.7001,  34.5503,2,  34.5523,2,    132.0,2,  130.200,2,    40.30,2,    31.55,2,     0.01,2,     2.24,2,  -999.00,9, -999.000,9, -999.000,9,   2217.8,2,   2329.8,2
           NA,     P10,      9,   1,       5,     -99,  2,19931013,1936,  -2.2528,  145.4972,  1005,    649.5,   6.2460,  34.5383,2,  34.5376,2,    129.8,2,  123.700,2,    46.57,2,    32.94,2,     0.01,2,     2.35,2,  -999.00,9, -999.000,9, -999.000,9,   2231.0,2,   2324.9,2
           NA,     P10,      9,   1,       4,     -99,  2,19931013,1936,  -2.2528,  145.4972,  1005,    694.7,   5.9702,  34.5329,2,  34.5370,2,    121.9,2,  127.300,2,    50.58,2,    33.93,2,     0.01,2,     2.42,2,  -999.00,9, -999.000,9, -999.000,9,   2239.5,2,   2336.5,2
           NA,     P10,      9,   1,       3,     -99,  2,19931013,1936,  -2.2528,  145.4972,  1005,    795.3,   5.3137,  34.5334,2,  34.5325,2,    117.6,2,  114.800,2,    61.36,2,    35.24,2,     0.01,2,     2.52,2,  -999.00,9, -999.000,9, -999.000,9,   2255.6,2,   2343.9,2
           NA,     P10,      9,   1,       2,     -99,  2,19931013,1936,  -2.2528,  145.4972,  1005,    896.3,   5.0609,  34.5356,2,  34.5376,2,    113.3,2,  112.800,2,    66.65,2,    35.71,2,     0.00,2,     2.56,2,  -999.00,9, -999.000,9, -999.000,9,   2262.9,2,   -999.0,3
           NA,     P10,      9,   1,       1,     -99,  2,19931013,1936,  -2.2528,  145.4972,  1005,    997.5,   4.8030,  34.5413,2,  34.5419,2,    108.8,2,  109.600,2,    73.01,2,    36.16,2,     0.01,2,     2.60,2,  -999.00,9, -999.000,9, -999.000,9,   2267.0,2,   2360.4,2
           NA,     P10,     10,   1,      13,     -99,  2,19931013,2239,  -2.0000,  145.5695,   741,     15.2,  28.6622,  34.1979,2,  34.1973,2,    193.1,2,  211.800,2,     1.14,2,     0.00,2,     0.00,2,     0.08,2,  -999.00,4,    0.991,2, -999.000,9,   -999.0,9,   -999.0,9
           NA,     P10,     10,   1,      12,     -99,  2,19931013,2239,  -2.0000,  145.5695,   741,     64.9,  27.8824,  34.4378,2,  34.4481,2,    213.8,2,  210.500,2,     1.00,2,     0.00,2,     0.00,2,     0.10,2,  -999.00,4,    0.982,2, -999.000,9,   -999.0,9,   -999.0,9
           NA,     P10,     10,   1,      11,     -99,  2,19931013,2239,  -2.0000,  145.5695,   741,    104.3,  23.9123,  35.2230,2,  35.2176,2,    174.5,2,  162.100,2,     2.46,2,     4.90,2,     0.10,2,     0.49,2,  -999.00,4,    0.978,2, -999.000,9,   -999.0,9,   -999.0,9
           NA,     P10,     10,   1,      10,     -99,  2,19931013,2239,  -2.0000,  145.5695,   741,    153.5,  20.7604,  35.3174,2,  35.3096,2,    146.6,2,  147.200,2,     4.89,2,     8.66,2,     0.02,2,     0.76,2,  -999.00,4,    0.898,2, -999.000,9,   -999.0,9,   -999.0,9
           NA,     P10,     10,   1,       9,     -99,  2,19931013,2239,  -2.0000,  145.5695,   741,    203.2,  18.2980,  35.3830,2,  35.3782,2,    143.9,2,  144.600,2,     5.38,2,    11.12,2,     0.01,2,     0.92,2,  -999.00,4,    0.832,2, -999.000,9,   -999.0,9,   -999.0,9
           NA,     P10,     10,   1,       8,     -99,  2,19931013,2239,  -2.0000,  145.5695,   741,    253.5,  13.0904,  35.0093,2,-999.0000,4,    147.3,2,  143.900,2,    12.15,2,    18.05,2,     0.01,2,     1.37,2,  -999.00,4,    0.498,2, -999.000,9,   -999.0,9,   -999.0,9
           NA,     P10,     10,   1,       7,     -99,  2,19931013,2239,  -2.0000,  145.5695,   741,    302.5,  12.1056,  34.9065,2,  34.9046,2,    140.5,2,  140.400,2,    14.74,2,    20.00,2,     0.00,2,     1.47,2,  -999.00,4,    0.421,2, -999.000,9,   -999.0,9,   -999.0,9
           NA,     P10,     10,   1,       6,     -99,  2,19931013,2239,  -2.0000,  145.5695,   741,    396.6,   9.6176,  34.7129,2,  34.7117,2,    148.7,2,  145.300,2,    19.58,2,    24.16,2,     0.00,2,     1.72,2,  -999.00,4,    0.250,2, -999.000,9,   -999.0,9,   -999.0,9
           NA,     P10,     10,   1,       5,     -99,  2,19931013,2239,  -2.0000,  145.5695,   741,    503.6,   8.1322,  34.6108,2,  34.6091,2,    143.2,2,  141.800,2,    26.84,2,    27.65,2,     0.00,2,     1.94,2,  -999.00,4,    0.147,2, -999.000,9,   -999.0,9,   -999.0,9
           NA,     P10,     10,   1,       4,     -99,  2,19931013,2239,  -2.0000,  145.5695,   741,    554.2,   7.6197,  34.5865,2,  34.5871,2,    138.8,2,  138.300,2,    30.71,2,    28.98,2,     0.00,2,     2.05,2,  -999.00,4,    0.111,6, -999.000,9,   -999.0,9,   -999.0,9
           NA,     P10,     10,   1,       3,     -99,  2,19931013,2239,  -2.0000,  145.5695,   741,    603.8,   6.5239,  34.5462,2,  34.5453,2,    123.2,2,  121.800,2,    42.47,2,    32.76,2,     0.00,2,     2.30,2,  -999.00,4,    0.036,2, -999.000,9,   -999.0,9,   -999.0,9
           NA,     P10,     10,   1,       2,     -99,  2,19931013,2239,  -2.0000,  145.5695,   741,    653.7,   6.0809,  34.5349,2,  34.5335,2,    119.4,2,  118.600,2,    47.87,2,    33.80,2,     0.00,2,     2.39,2,  -999.00,4,    0.022,2, -999.000,9,   -999.0,9,   -999.0,9
           NA,     P10,     10,   1,       1,     -99,  2,19931013,2239,  -2.0000,  145.5695,   741,    733.0,   5.7797,  34.5303,2,  34.5313,2,    117.4,2,  119.100,2,    52.15,2,    34.28,2,     0.00,2,     2.42,2,  -999.00,4,    0.018,2, -999.000,9,   -999.0,9,   -999.0,9
           NA,     P10,     11,   1,      20,     -99,  2,19931014,0145,  -1.7555,  145.6417,  1915,      6.5,  28.6582,  34.2677,2,  34.2677,2,    201.6,2,  201.000,2,     1.13,2,     0.02,2,     0.01,2,     0.06,2,  -999.00,9, -999.000,9, -999.000,9,   -999.0,9,   -999.0,9
           NA,     P10,     11,   1,      19,     -99,  2,19931014,0145,  -1.7555,  145.6417,  1915,     47.0,  27.7931,  34.4528,2,  34.4534,2,    210.4,2,  207.800,2,     0.99,2,     0.02,2,     0.01,2,     0.08,2,  -999.00,9, -999.000,9, -999.000,9,   -999.0,9,   -999.0,9
           NA,     P10,     11,   1,      18,     -99,  2,19931014,0145,  -1.7555,  145.6417,  1915,     96.7,  24.8092,  34.9798,2,  34.9732,2,    168.7,2,  168.600,2,     2.45,2,     3.42,2,     0.24,2,     0.36,2,  -999.00,9, -999.000,9, -999.000,9,   -999.0,9,   -999.0,9
           NA,     P10,     11,   1,      17,     -99,  2,19931014,0145,  -1.7555,  145.6417,  1915,    145.9,  21.6912,  35.3317,2,  35.3202,2,    142.5,2,  148.900,2,     3.91,2,     7.78,2,     0.03,2,     0.64,2,  -999.00,9, -999.000,9, -999.000,9,   -999.0,9,   -999.0,9
           NA,     P10,     11,   1,      16,     -99,  2,19931014,0145,  -1.7555,  145.6417,  1915,    196.2,  18.7582,  35.3681,2,  35.3595,2,    145.3,2,  145.500,2,     5.38,2,    10.42,2,     0.02,2,     0.83,2,  -999.00,9, -999.000,9, -999.000,9,   -999.0,9,   -999.0,9
           NA,     P10,     11,   1,      15,     -99,  2,19931014,0145,  -1.7555,  145.6417,  1915,    246.3,  14.1297,  35.0971,2,  35.0900,2,    148.8,2,  147.300,2,     9.74,2,    16.27,2,     0.01,2,     1.21,2,  -999.00,9, -999.000,9, -999.000,9,   -999.0,9,   -999.0,9
           NA,     P10,     11,   1,      14,     -99,  2,19931014,0145,  -1.7555,  145.6417,  1915,    295.8,  11.9398,  34.8936,2,  34.8920,2,    138.6,2,  138.000,2,    15.23,2,    20.76,2,     0.01,2,     1.47,2,  -999.00,9, -999.000,9, -999.000,9,   -999.0,9,   -999.0,9
           NA,     P10,     11,   1,      13,     -99,  2,19931014,0145,  -1.7555,  145.6417,  1915,    396.2,   9.6858,  34.6991,2,  34.7005,2,    111.5,2,  101.800,2,    27.02,2,    28.40,2,     0.00,2,     1.98,2,  -999.00,9, -999.000,9, -999.000,9,   -999.0,9,   -999.0,9
           NA,     P10,     11,   1,      12,     -99,  2,19931014,0145,  -1.7555,  145.6417,  1915,    446.7,   9.4733,  34.6981,2,  34.6920,2,    142.1,2,  143.400,2,    20.59,2,    24.78,2,     0.00,2,     1.74,2,  -999.00,9, -999.000,9, -999.000,9,   -999.0,9,   -999.0,9
           NA,     P10,     11,   1,      11,     -99,  2,19931014,0145,  -1.7555,  145.6417,  1915,    496.8,   8.2694,  34.6217,2,  34.6225,2,    135.0,2,  132.700,2,    26.72,2,    28.41,2,     0.00,2,     1.97,2,  -999.00,9, -999.000,9, -999.000,9,   -999.0,9,   -999.0,9
           NA,     P10,     11,   1,      10,     -99,  2,19931014,0145,  -1.7555,  145.6417,  1915,    606.8,   6.7612,  34.5537,2,  34.5525,2,    118.0,2,  120.400,2,    39.62,2,    32.70,2,     0.00,2,     2.29,2,  -999.00,9, -999.000,9, -999.000,9,   -999.0,9,   -999.0,9
           NA,     P10,     11,   1,       9,     -99,  2,19931014,0145,  -1.7555,  145.6417,  1915,    707.7,   5.7348,  34.5328,2,  34.5313,2,    115.7,2,  114.600,2,    55.27,2,    34.88,2,     0.00,2,     2.45,2,  -999.00,9, -999.000,9, -999.000,9,   -999.0,9,   -999.0,9
           NA,     P10,     11,   1,       8,     -99,  2,19931014,0145,  -1.7555,  145.6417,  1915,    762.0,   5.5772,  34.5378,2,  34.5374,2,    106.6,2,  104.200,2,    60.12,2,    36.15,2,     0.01,2,     2.55,2,  -999.00,9, -999.000,9, -999.000,9,   -999.0,9,   -999.0,9
           NA,     P10,     11,   1,       7,     -99,  2,19931014,0145,  -1.7555,  145.6417,  1915,    893.6,   4.8391,  34.5427,2,  34.5421,2,    108.3,2,  107.700,2,    72.85,2,    36.77,2,     0.00,2,     2.60,2,  -999.00,9, -999.000,9, -999.000,9,   -999.0,9,   -999.0,9
           NA,     P10,     11,   1,       6,     -99,  2,19931014,0145,  -1.7555,  145.6417,  1915,    995.0,   4.4870,  34.5520,2,  34.5523,2,    101.2,2,  101.200,2,    81.87,2,    37.72,2,     0.00,2,     2.68,2,  -999.00,9, -999.000,9, -999.000,9,   -999.0,9,   -999.0,9
           NA,     P10,     11,   1,       5,     -99,  2,19931014,0145,  -1.7555,  145.6417,  1915,   1212.0,   3.7176,  34.5760,2,  34.5739,2,    105.1,2,  103.500,2,    98.66,2,    37.95,2,     0.00,2,     2.71,2,  -999.00,9, -999.000,9, -999.000,9,   -999.0,9,   -999.0,9
           NA,     P10,     11,   1,       4,     -99,  2,19931014,0145,  -1.7555,  145.6417,  1915,   1390.6,   3.2664,  34.5922,2,  34.5944,2,    104.9,2,  106.700,2,   109.43,2,    38.16,2,     0.00,2,     2.72,2,  -999.00,9, -999.000,9, -999.000,9,   -999.0,9,   -999.0,9
           NA,     P10,     11,   1,       3,     -99,  2,19931014,0145,  -1.7555,  145.6417,  1915,   1614.5,   2.8723,  34.6089,2,  34.6073,2,    111.4,2,  111.200,2,   117.66,2,    38.02,2,     0.00,2,     2.72,2,  -999.00,9, -999.000,9, -999.000,9,   -999.0,9,   -999.0,9
           NA,     P10,     11,   1,       2,     -99,  2,19931014,0145,  -1.7555,  145.6417,  1915,   1816.4,   2.5377,  34.6240,2,  34.6233,2,    115.3,2,  114.800,2,   125.87,2,    37.93,2,     0.00,2,     2.69,2,  -999.00,4,    0.006,2, -999.000,9,   -999.0,9,   -999.0,9
           NA,     P10,     11,   1,       1,     -99,  2,19931014,0145,  -1.7555,  145.6417,  1915,   1922.5,   2.3768,  34.6316,2,  34.6331,2,    115.5,2,  117.500,2,   129.61,2,    37.76,2,     0.00,2,     2.68,2,  -999.00,4,    0.000,2, -999.000,9,   -999.0,9,   -999.0,9