BOTTLE,20210102JOAExport
EXPOCODE,SECT_ID,STNNBR,CASTNO,SAMPNO,BTLNBR,BTLNBR_FLAG_W,DATE,TIME,LATITUDE,LONGITUDE,DEPTH,CTDPRS,CTDTMP,CTDSAL,CTDSAL_FLAG_W,SALNTY,SALNTY_FLAG_W,CTDOXY,CTDOXY_FLAG_W,OXYGEN,OXYGEN_FLAG_W,SILCAT,SILCAT_FLAG_W,NITRAT,NITRAT_FLAG_W,NITRIT,NITRIT_FLAG_W,PHSPHT,PHSPHT_FLAG_W,CFC-11,CFC-11_FLAG_W,CFC-12,CFC-12_FLAG_W,SF6,SF6_FLAG_W,TCARBN,TCARBN_FLAG_W,ALKALI,ALKALI_FLAG_W
,,,,,,,,,,,,DB,ITS-90,PSS-78,,PSS-78,,UMOL/KG,,UMOL/KG,,UMOL/KG,,UMOL/KG,,UMOL/KG,,UMOL/KG,,PMOL/KG,,PMOL/KG,,FMOL/KG,,UMOL/KG,,UMOL/KG
           NA,     P10,     47,   3,      36,     -99,  2,19931023,2307,  11.1612,  149.3333,  5813,     17.0,  29.1299,  34.1465,2,  34.1464,2,    202.6,2,  200.500,2,     1.08,2,    -0.01,2,     0.02,2,     0.21,2,     1.78,2,    0.983,2, -999.000,9,   1893.5,2,   2246.5,2
           NA,     P10,     47,   3,      35,     -99,  2,19931023,2307,  11.1612,  149.3333,  5813,     61.6,  26.9902,  34.7159,2,  34.7129,2,    221.4,2,  213.600,2,     0.90,2,     0.05,2,     0.01,2,     0.20,2,     1.99,2,    1.068,2, -999.000,9,   1935.8,2,   2289.4,2
           NA,     P10,     47,   3,      34,     -99,  2,19931023,2307,  11.1612,  149.3333,  5813,    110.4,  23.4893,  35.0794,2,  35.0790,2,    212.9,2,  198.700,2,     1.45,2,     0.04,2,     0.02,2,     0.22,2,     2.18,2,    1.159,2, -999.000,9,   1991.6,2,   2315.7,2
           NA,     P10,     47,   3,      33,     -99,  2,19931023,2307,  11.1612,  149.3333,  5813,    158.6,  18.1806,  34.8301,2,  34.8482,2,    172.6,2,  170.300,2,     4.80,2,     5.78,2,     0.07,2,     0.62,2,     2.39,2,    1.213,2, -999.000,9,   2061.1,2,   2301.9,2
           NA,     P10,     47,   3,      32,     -99,  2,19931023,2307,  11.1612,  149.3333,  5813,    209.0,  13.3900,  34.4931,2,  34.5127,2,    152.5,2,  130.800,2,    15.21,2,    16.76,2,     0.03,2,     1.32,2,     1.74,6,    0.844,6, -999.000,9,   2123.2,2,   2286.3,2
           NA,     P10,     47,   3,      31,     -99,  2,19931023,2307,  11.1612,  149.3333,  5813,    309.3,   9.1723,  34.3299,2,  34.3324,2,   -999.0,3,   87.400,2,    36.00,2,    28.41,2,     0.02,2,     2.11,2,     0.66,2,    0.308,2, -999.000,9,   2209.1,2,   2293.1,2
           NA,     P10,     47,   3,      30,     -99,  2,19931023,2307,  11.1612,  149.3333,  5813,    409.5,   7.7670,  34.4578,2,  34.4582,2,     63.5,2,   65.300,2,    49.20,2,    33.98,2,     0.02,2,     2.43,2,     0.15,2,    0.072,2, -999.000,9,   2247.2,6,   2320.4,6
           NA,     P10,     47,   3,      29,     -99,  2,19931023,2307,  11.1612,  149.3333,  5813,    508.3,   6.8511,  34.4762,2,  34.4745,2,     61.8,2,   75.700,2,    56.93,2,    35.02,2,     0.01,2,     2.48,2,     0.09,2,    0.038,2, -999.000,9,   2255.4,2,   2331.2,2
           NA,     P10,     47,   3,      28,     -99,  2,19931023,2307,  11.1612,  149.3333,  5813,    609.9,   6.1545,  34.5005,2,  34.4976,2,     79.6,2,   78.800,2,    64.14,2,    36.21,2,     0.01,2,     2.57,2,     0.05,2,    0.026,2, -999.000,9,   2263.4,2,   2345.1,2
           NA,     P10,     47,   3,      27,     -99,  2,19931023,2307,  11.1612,  149.3333,  5813,    708.8,   5.6649,  34.5199,2,  34.5190,2,     79.7,2,   74.400,2,    71.35,2,    37.61,2,     0.01,2,     2.66,2,     0.02,2,    0.008,2, -999.000,9,   2280.2,2,   2354.8,2
           NA,     P10,     47,   3,      26,     -99,  2,19931023,2307,  11.1612,  149.3333,  5813,    808.4,   5.2190,  34.5310,2,  34.5281,2,     77.5,2,   74.600,2,    79.35,2,    38.24,2,     0.01,2,     2.67,2,     0.01,2,    0.001,2, -999.000,9,   2288.8,2,   2365.4,2
           NA,     P10,     47,   3,      24,     -99,  2,19931023,2307,  11.1612,  149.3333,  5813,   1010.1,   4.3592,  34.5499,2,  34.5481,2,     77.0,2,   76.800,2,    95.40,2,    39.02,2,     0.01,2,     2.77,2,     0.01,2,    0.002,2, -999.000,9,   2308.3,2,   2377.9,2
           NA,     P10,     47,   3,      23,     -99,  2,19931023,2307,  11.1612,  149.3333,  5813,   1210.1,   3.6809,  34.5703,2,  34.5715,2,     86.2,2,   84.800,2,   108.91,2,    39.06,2,     0.00,2,     2.74,2,     0.00,2,   -0.001,2, -999.000,9,   2320.4,2,   2395.6,2
           NA,     P10,     47,   3,      22,     -99,  2,19931023,2307,  11.1612,  149.3333,  5813,   1411.3,   3.0898,  34.5904,2,  34.5884,2,     92.1,2,   90.500,2,   120.67,2,    39.08,2,     0.01,2,     2.77,2,     0.00,2,   -0.002,2, -999.000,9,   2330.6,2,   2409.1,2
           NA,     P10,     47,   3,      20,     -99,  2,19931023,2307,  11.1612,  149.3333,  5813,   1613.3,   2.6417,  34.6099,2,  34.6086,2,     99.4,2,   97.900,2,   129.59,2,    38.91,2,     0.01,2,     2.75,2,     0.00,2,    0.002,2, -999.000,9,   2337.6,2,   -999.0,3
           NA,     P10,     47,   3,      19,     -99,  2,19931023,2307,  11.1612,  149.3333,  5813,   1814.3,   2.3392,  34.6265,2,  34.6259,2,    108.4,2,  107.200,2,   134.83,2,    38.43,2,     0.00,2,     2.72,2,     0.00,2,    0.000,2, -999.000,9,   2338.4,2,   2419.6,2
           NA,     P10,     47,   3,      18,     -99,  2,19931023,2307,  11.1612,  149.3333,  5813,   2005.3,   2.1778,  34.6373,2,  34.6363,2,    111.9,2,  109.800,2,   138.31,2,    38.43,2,     0.00,2,     2.71,2,  -999.00,9, -999.000,9, -999.000,9,   2341.2,2,   -999.0,3
           NA,     P10,     47,   3,      17,     -99,  2,19931023,2307,  11.1612,  149.3333,  5813,   2257.8,   1.9695,  34.6484,2,  34.6475,2,    118.6,2,  118.100,2,   141.43,2,    37.83,2,     0.00,2,     2.67,2,  -999.00,9, -999.000,9, -999.000,9,   2338.3,2,   2430.7,2
           NA,     P10,     47,   3,      16,     -99,  2,19931023,2307,  11.1612,  149.3333,  5813,   2507.5,   1.8387,  34.6565,2,  34.6552,2,    123.4,2,  123.600,2,   143.16,2,    37.61,2,     0.01,2,     2.66,2,     0.00,2,    0.002,2, -999.000,9,   2338.0,2,   2431.4,2
           NA,     P10,     47,   3,      15,     -99,  2,19931023,2307,  11.1612,  149.3333,  5813,   2759.9,   1.7156,  34.6640,2,  34.6632,2,    129.1,2,  129.800,2,   144.70,2,    37.23,2,     0.01,2,     2.62,2,  -999.00,9, -999.000,9, -999.000,9,   2336.9,2,   2431.5,2
           NA,     P10,     47,   3,      14,     -99,  2,19931023,2307,  11.1612,  149.3333,  5813,   3012.2,   1.6305,  34.6711,2,  34.6697,2,    134.5,2,  135.900,2,   145.20,2,    36.75,2,     0.00,2,     2.58,2,  -999.00,9, -999.000,9, -999.000,9,   2337.8,2,   2430.3,2
           NA,     P10,     47,   3,      12,     -99,  2,19931023,2307,  11.1612,  149.3333,  5813,   3508.8,   1.5366,  34.6796,2,  34.6819,2,    145.9,2,  147.000,2,   143.06,2,    36.10,2,     0.00,2,     2.53,2,    -0.00,2,   -0.001,2, -999.000,9,   2330.5,2,   2429.6,2
           NA,     P10,     47,   3,      10,     -99,  2,19931023,2307,  11.1612,  149.3333,  5813,   3757.1,   1.5012,  34.6840,2,  34.6833,2,    152.0,2,  152.700,2,   140.92,2,    35.72,2,     0.00,2,     2.50,2,  -999.00,9, -999.000,9, -999.000,9,   2322.6,2,   2432.5,2
           NA,     P10,     47,   3,       9,     -99,  2,19931023,2307,  11.1612,  149.3333,  5813,   4006.5,   1.4768,  34.6877,2,  34.6870,2,    156.9,2,  158.300,2,   138.96,2,    35.34,2,     0.00,2,     2.48,2,     0.00,2,    0.000,2, -999.000,9,   2319.1,2,   2427.0,2
           NA,     P10,     47,   3,       8,     -99,  2,19931023,2307,  11.1612,  149.3333,  5813,   4256.0,   1.4652,  34.6904,2,  34.6895,2,    162.2,2,  162.800,2,   137.36,2,    35.02,2,     0.00,2,     2.46,2,  -999.00,9, -999.000,9, -999.000,9,   2314.6,6,   2420.6,6
           NA,     P10,     47,   3,       7,     -99,  2,19931023,2307,  11.1612,  149.3333,  5813,   4510.2,   1.4548,  34.6929,2,  34.6927,2,    167.0,2,  166.900,2,   135.04,2,    34.71,2,    -0.01,2,     2.40,2,     0.01,2,    0.008,2, -999.000,9,   2309.5,2,   2419.3,2
           NA,     P10,     47,   3,       6,     -99,  2,19931023,2307,  11.1612,  149.3333,  5813,   4755.0,   1.4525,  34.6953,2,  34.6958,2,    170.6,2,  171.300,2,   133.61,2,    34.43,2,    -0.01,2,     2.38,2,  -999.00,9, -999.000,9, -999.000,9,   2305.4,2,   2421.3,2
           NA,     P10,     47,   3,       5,     -99,  2,19931023,2307,  11.1612,  149.3333,  5813,   5011.6,   1.4652,  34.6968,2,  34.6988,2,    173.6,2,  173.300,2,   132.53,2,    34.33,2,    -0.01,2,     2.37,2,     0.00,2,   -0.002,2, -999.000,9,   2303.2,2,   2420.0,2
           NA,     P10,     47,   3,       4,     -99,  2,19931023,2307,  11.1612,  149.3333,  5813,   5266.1,   1.4839,  34.6975,2,  34.6986,2,    175.7,2,  174.700,2,   131.81,2,    34.11,2,    -0.01,2,     2.35,2,  -999.00,9, -999.000,9, -999.000,9,   2300.6,2,   -999.0,3
           NA,     P10,     47,   3,       3,     -99,  2,19931023,2307,  11.1612,  149.3333,  5813,   5513.0,   1.5091,  34.6986,2,  34.6994,2,    176.4,2,  175.800,2,   131.43,2,    34.16,2,    -0.01,2,     2.35,2,  -999.00,9, -999.000,9, -999.000,9,   2301.1,2,   -999.0,3
           NA,     P10,     47,   3,       2,     -99,  2,19931023,2307,  11.1612,  149.3333,  5813,   5758.5,   1.5366,  34.6991,2,  34.6982,2,    176.2,2,  176.900,2,   131.40,2,    34.00,2,    -0.01,2,     2.35,2,     0.00,2,   -0.003,2, -999.000,9,   2299.1,2,   -999.0,3
           NA,     P10,     47,   3,       1,     -99,  2,19931023,2307,  11.1612,  149.3333,  5813,   5912.2,   1.5552,  34.6990,2,  34.7014,2,    176.5,2,  176.900,2,   131.22,2,    34.01,2,    -0.01,2,     2.34,2,    -0.00,2,    0.001,2, -999.000,9,   2298.4,2,   2418.4,2
           NA,     P10,     48,   1,      36,     -99,  2,19931024,1119,  11.8362,  149.3278,  5816,     16.2,  29.2381,  34.1607,2,  34.1643,2,    209.6,2,  204.700,2,     1.03,2,     0.03,2,     0.01,2,     0.13,2,     1.72,2,    0.937,2, -999.000,9,   -999.0,9,   -999.0,9
           NA,     P10,     48,   1,      35,     -99,  2,19931024,1119,  11.8362,  149.3278,  5816,     61.7,  27.8944,  34.6473,2,  34.6463,2,    217.4,2,  217.000,2,     1.04,2,     0.00,2,     0.00,2,     0.14,2,     1.84,2,    0.991,2, -999.000,9,   -999.0,9,   -999.0,9
           NA,     P10,     48,   1,      34,     -99,  2,19931024,1119,  11.8362,  149.3278,  5816,    109.7,  25.5835,  34.8959,2,  34.8954,2,    215.7,2,  210.700,2,     1.04,2,     0.04,2,     0.00,2,     0.09,2,     2.04,2,    1.105,2, -999.000,9,   -999.0,9,   -999.0,9
           NA,     P10,     48,   1,      32,     -99,  2,19931024,1119,  11.8362,  149.3278,  5816,    208.3,  15.7247,  34.6520,2,  34.6296,2,    156.9,2,  147.100,2,    10.76,2,    12.07,2,     0.05,2,     0.97,2,     1.95,6,    0.970,6, -999.000,9,   -999.0,9,   -999.0,9
           NA,     P10,     48,   1,      31,     -99,  2,19931024,1119,  11.8362,  149.3278,  5816,    258.8,  11.9584,  34.4262,2,-999.0000,3,    108.4,2,  115.700,2,    21.55,2,    20.58,2,     0.08,2,     1.55,2,     1.33,2,    0.637,2, -999.000,9,   -999.0,9,   -999.0,9
           NA,     P10,     48,   1,      30,     -99,  2,19931024,1119,  11.8362,  149.3278,  5816,    307.6,  10.0439,  34.3391,2,-999.0000,4,    100.6,2,  102.400,2,    30.01,2,    25.27,2,     0.00,2,     1.88,2,     0.96,2,    0.454,2, -999.000,9,   -999.0,9,   -999.0,9
           NA,     P10,     48,   1,      29,     -99,  2,19931024,1119,  11.8362,  149.3278,  5816,    357.5,   8.8354,  34.3741,2,-999.0000,3,     69.7,2,   72.900,2,    40.57,2,    30.46,2,     0.00,2,     2.25,2,     0.44,2,    0.202,2, -999.000,9,   -999.0,9,   -999.0,9
           NA,     P10,     48,   1,      28,     -99,  2,19931024,1119,  11.8362,  149.3278,  5816,    407.0,   8.2270,  34.4439,2,-999.0000,4,     55.6,2,   62.300,2,    46.90,2,    33.05,2,    -0.01,2,     2.39,2,     0.20,2,    0.092,2, -999.000,9,   -999.0,9,   -999.0,9
           NA,     P10,     48,   1,      27,     -99,  2,19931024,1119,  11.8362,  149.3278,  5816,    457.0,   7.4691,  34.4350,2,  34.4326,2,     52.6,2,   54.600,2,    54.11,2,    35.10,2,    -0.01,2,     2.54,2,     0.10,2,    0.051,2, -999.000,9,   -999.0,9,   -999.0,9
           NA,     P10,     48,   1,      26,     -99,  2,19931024,1119,  11.8362,  149.3278,  5816,    506.4,   6.9904,  34.4499,2,  34.4529,2,     58.7,2,   58.000,2,    58.98,2,    35.89,2,     0.00,2,     2.58,2,     0.08,2,    0.038,2, -999.000,9,   -999.0,9,   -999.0,9
           NA,     P10,     48,   1,      25,     -99,  2,19931024,1119,  11.8362,  149.3278,  5816,    606.5,   6.2604,  34.4783,2,  34.4802,2,     66.2,2,   61.700,2,    67.22,2,    37.23,2,    -0.01,2,     2.67,2,     0.03,2,    0.015,2, -999.000,9,   -999.0,9,   -999.0,9
           NA,     P10,     48,   1,      24,     -99,  2,19931024,1119,  11.8362,  149.3278,  5816,    707.8,   5.5922,  34.4975,2,-999.0000,4,     72.7,2,   71.300,2,    75.68,2,    37.60,2,    -0.01,2,     2.69,2,     0.02,2,    0.005,2, -999.000,9,   -999.0,9,   -999.0,9
           NA,     P10,     48,   1,      23,     -99,  2,19931024,1119,  11.8362,  149.3278,  5816,    807.4,   5.1146,  34.5211,2,  34.5216,2,     80.6,2,   81.600,2,    81.58,2,    37.65,2,    -0.01,2,     2.66,2,  -999.00,9, -999.000,9, -999.000,9,   -999.0,9,   -999.0,9
           NA,     P10,     48,   1,      22,     -99,  2,19931024,1119,  11.8362,  149.3278,  5816,    907.9,   4.7487,  34.5336,2,  34.5334,2,     82.9,2,   82.900,2,    88.99,2,    37.98,2,    -0.02,2,     2.70,2,     0.01,2,    0.006,2, -999.000,9,   -999.0,9,   -999.0,9
           NA,     P10,     48,   1,      21,     -99,  2,19931024,1119,  11.8362,  149.3278,  5816,   1006.9,   4.3529,  34.5469,2,  34.5440,2,     82.2,2,   80.900,2,    95.74,2,    38.34,2,    -0.01,2,     2.73,2,  -999.00,9, -999.000,9, -999.000,9,   -999.0,9,   -999.0,9
           NA,     P10,     48,   1,      20,     -99,  2,19931024,1119,  11.8362,  149.3278,  5816,   1208.3,   3.5852,  34.5694,2,  34.5713,2,     85.9,2,   84.800,2,   112.85,2,    39.03,2,     0.00,2,     2.76,2,     0.00,2,   -0.003,2, -999.000,9,   -999.0,9,   -999.0,9
           NA,     P10,     48,   1,      19,     -99,  2,19931024,1119,  11.8362,  149.3278,  5816,   1410.0,   3.0028,  34.5914,2,  34.5931,2,     91.7,2,   91.300,2,   124.68,2,    38.98,2,    -0.01,2,     2.76,2,  -999.00,9, -999.000,9, -999.000,9,   -999.0,9,   -999.0,9
           NA,     P10,     48,   1,      18,     -99,  2,19931024,1119,  11.8362,  149.3278,  5816,   1611.4,   2.5630,  34.6094,2,-999.0000,4,     98.4,2,   99.100,2,   133.33,2,    38.75,2,    -0.01,2,     2.74,2,  -999.00,9, -999.000,9, -999.000,9,   -999.0,9,   -999.0,9
           NA,     P10,     48,   1,      17,     -99,  2,19931024,1119,  11.8362,  149.3278,  5816,   1812.0,   2.3259,  34.6244,2,  34.6251,2,    106.1,2,  105.700,2,   137.34,2,    38.43,2,    -0.01,2,     2.72,2,  -999.00,9, -999.000,9, -999.000,9,   -999.0,9,   -999.0,9
           NA,     P10,     48,   1,      16,     -99,  2,19931024,1119,  11.8362,  149.3278,  5816,   2015.3,   2.1504,  34.6345,2,  34.6349,2,    111.3,2,  110.600,2,   140.51,2,    38.22,2,    -0.01,2,     2.70,2,  -999.00,9, -999.000,9, -999.000,9,   -999.0,9,   -999.0,9
           NA,     P10,     48,   1,      15,     -99,  2,19931024,1119,  11.8362,  149.3278,  5816,   2267.1,   1.9775,  34.6456,2,  34.6459,2,    117.2,2,  116.300,2,   143.88,2,    37.83,2,    -0.01,2,     2.67,2,  -999.00,9, -999.000,9, -999.000,9,   -999.0,9,   -999.0,9
           NA,     P10,     48,   1,      14,     -99,  2,19931024,1119,  11.8362,  149.3278,  5816,   2519.9,   1.8189,  34.6559,2,  34.6577,2,    123.0,2,  122.800,2,   146.41,2,    37.45,2,    -0.01,2,     2.65,2,  -999.00,9, -999.000,9, -999.000,9,   -999.0,9,   -999.0,9
           NA,     P10,     48,   1,      13,     -99,  2,19931024,1119,  11.8362,  149.3278,  5816,   2763.8,   1.7039,  34.6641,2,  34.6646,2,    129.5,2,  129.100,2,   147.08,2,    37.12,2,     0.00,2,     2.60,2,  -999.00,9, -999.000,9, -999.000,9,   -999.0,9,   -999.0,9
           NA,     P10,     48,   1,      12,     -99,  2,19931024,1119,  11.8362,  149.3278,  5816,   3006.4,   1.6294,  34.6703,2,  34.6689,2,    135.1,2,  135.800,2,   146.40,2,    36.53,2,    -0.01,2,     2.59,2,     0.00,2,   -0.002,2, -999.000,9,   -999.0,9,   -999.0,9
           NA,     P10,     48,   1,      11,     -99,  2,19931024,1119,  11.8362,  149.3278,  5816,   3260.2,   1.5783,  34.6751,2,  34.6748,2,    140.2,2,  140.300,2,   146.40,2,    36.21,2,    -0.01,2,     2.56,2,  -999.00,9, -999.000,9, -999.000,9,   -999.0,9,   -999.0,9
           NA,     P10,     48,   1,      10,     -99,  2,19931024,1119,  11.8362,  149.3278,  5816,   3503.2,   1.5319,  34.6798,2,  34.6825,2,    145.9,2,  146.300,2,   144.71,2,    35.88,2,    -0.01,2,     2.53,2,  -999.00,9, -999.000,9, -999.000,9,   -999.0,9,   -999.0,9
           NA,     P10,     48,   1,       9,     -99,  2,19931024,1119,  11.8362,  149.3278,  5816,   3745.5,   1.4932,  34.6843,2,  34.6846,2,    151.9,2,  152.600,2,   144.70,2,    35.56,2,    -0.01,2,     2.51,2,  -999.00,9, -999.000,9, -999.000,9,   -999.0,9,   -999.0,9
           NA,     P10,     48,   1,       8,     -99,  2,19931024,1119,  11.8362,  149.3278,  5816,   4000.7,   1.4732,  34.6883,2,  34.6901,2,    157.4,2,  157.200,2,   140.69,2,    35.24,2,    -0.01,2,     2.46,2,     0.01,2,   -0.003,2, -999.000,9,   -999.0,9,   -999.0,9
           NA,     P10,     48,   1,       7,     -99,  2,19931024,1119,  11.8362,  149.3278,  5816,   4255.5,   1.4497,  34.6918,2,  34.6929,2,    163.7,2,  163.500,2,   136.68,2,    34.69,2,     0.00,2,     2.43,2,  -999.00,9, -999.000,9, -999.000,9,   -999.0,9,   -999.0,9
           NA,     P10,     48,   1,       6,     -99,  2,19931024,1119,  11.8362,  149.3278,  5816,   4500.2,   1.4473,  34.6938,2,  34.6931,2,    167.8,2,  167.000,2,   135.83,2,    34.37,2,     0.00,2,     2.40,2,  -999.00,9, -999.000,9, -999.000,9,   -999.0,9,   -999.0,9
           NA,     P10,     48,   1,       5,     -99,  2,19931024,1119,  11.8362,  149.3278,  5816,   4756.2,   1.4473,  34.6962,2,  34.6974,2,    171.3,2,  170.800,2,   133.51,2,    34.15,2,     0.00,2,     2.38,2,  -999.00,9, -999.000,9, -999.000,9,   -999.0,9,   -999.0,9
           NA,     P10,     48,   1,       4,     -99,  2,19931024,1119,  11.8362,  149.3278,  5816,   5001.0,   1.4563,  34.6980,2,  34.6958,2,    174.3,2,  173.500,2,   132.24,2,    34.21,2,     0.00,2,     2.38,2,     0.01,2,    0.003,2, -999.000,9,   -999.0,9,   -999.0,9
           NA,     P10,     48,   1,       3,     -99,  2,19931024,1119,  11.8362,  149.3278,  5816,   5307.7,   1.4795,  34.6996,2,  34.6992,2,    176.2,2,  175.600,2,   131.39,2,    34.15,2,     0.00,2,     2.36,2,  -999.00,9, -999.000,9, -999.000,9,   -999.0,9,   -999.0,9
           NA,     P10,     48,   1,       2,     -99,  2,19931024,1119,  11.8362,  149.3278,  5816,   5659.2,   1.5188,  34.6996,2,  34.6990,2,    177.3,2,  176.400,2,   130.75,2,    34.02,2,     0.00,2,     2.36,2,  -999.00,9, -999.000,9, -999.000,9,   -999.0,9,   -999.0,9
           NA,     P10,     48,   1,       1,     -99,  2,19931024,1119,  11.8362,  149.3278,  5816,   5914.7,   1.5488,  34.6998,2,-999.0000,3,    177.2,2,  177.100,2,   130.16,2,    33.99,2,     0.00,2,     2.34,2,    -0.00,2,   -0.003,2, -999.000,9,   -999.0,9,   -999.0,9