BOTTLE,20020809WHPSIObren
EXPOCODE,SECT_ID,STNNBR,CASTNO,SAMPNO,BTLNBR,BTLNBR_FLAG_W,DATE,TIME,LATITUDE,LONGITUDE,DEPTH,CTDPRS,CTDTMP,CTDSAL,CTDSAL_FLAG_W,SALNTY,SALNTY_FLAG_W,CTDOXY,CTDOXY_FLAG_W,OXYGEN,OXYGEN_FLAG_W,SILCAT,SILCAT_FLAG_W,NO2+NO3,NO2+NO3_FLAG_W,PHSPHT,PHSPHT_FLAG_W,CTDRAW,REVTMP,REVPRS,THETA
,,,,,,,,,,,,DBAR,ITS-90,PSS-78,,PSS-78,,UMOL/KG,,UMOL/KG,,UMOL/KG,,UMOL/KG,,UMOL/KG,,,DEG C,DBAR,ITS-90
     32MW084_1,  PRS2,     2,  3,     14,     14,2,19970603,2058, 22.7407,-158.0128, 4723,      4.7,  25.3333,  34.8867,2,  34.8978,3,    209.8,1,   -999.0,9,  -999.00,9,  -999.00,9,  -999.00,9,      5,-999.000,  -999.0, 25.3323
     32MW084_1,  PRS2,     2,  3,     13,     13,2,19970603,2058, 22.7407,-158.0128, 4723,     25.0,  25.1626,  34.8907,2,  34.8931,2,    208.9,1,   -999.0,9,  -999.00,9,  -999.00,9,  -999.00,9,     25,-999.000,  -999.0, 25.1571
     32MW084_1,  PRS2,     2,  3,     12,     12,2,19970603,2058, 22.7407,-158.0128, 4723,     45.0,  24.9978,  34.9251,2,  34.9237,2,    209.5,1,   -999.0,9,  -999.00,9,  -999.00,9,  -999.00,9,     45,-999.000,  -999.0, 24.9880
     32MW084_1,  PRS2,     2,  3,     11,     11,2,19970603,2058, 22.7407,-158.0128, 4723,     75.0,  24.5023,  34.9355,2,  34.9293,2,    211.1,1,   -999.0,9,  -999.00,9,  -999.00,9,  -999.00,9,     75,-999.000,  -999.0, 24.4863
     32MW084_1,  PRS2,     2,  3,     10,     32,2,19970603,2058, 22.7407,-158.0128, 4723,    100.0,  23.5651,  35.0051,2,  35.0030,2,    211.2,1,   -999.0,9,  -999.00,9,  -999.00,9,  -999.00,9,    100,-999.000,  -999.0, 23.5444
     32MW084_1,  PRS2,     2,  3,      9,      3,4,19970603,2058, 22.7407,-158.0128, 4723,    124.8,  21.6951,  35.0158,2,-999.0000,5,    194.1,1,   -999.0,9,  -999.00,9,  -999.00,9,  -999.00,9,    125,-999.000,  -999.0, 21.6706
     32MW084_1,  PRS2,     2,  3,      8,     29,2,19970603,2058, 22.7407,-158.0128, 4723,    139.4,  20.9767,  35.0487,2,  35.0460,2,    194.1,1,   -999.0,9,  -999.00,9,  -999.00,9,  -999.00,9,    140,-999.000,  -999.0, 20.9500
     32MW084_1,  PRS2,     2,  3,      7,     28,2,19970603,2058, 22.7407,-158.0128, 4723,    148.8,  20.5650,  35.0527,2,  35.0527,2,    193.5,1,   -999.0,9,  -999.00,9,  -999.00,9,  -999.00,9,    149,-999.000,  -999.0, 20.5369
     32MW084_1,  PRS2,     2,  3,      6,      7,2,19970603,2058, 22.7407,-158.0128, 4723,    175.8,  19.5070,  35.0173,2,  35.0171,2,    200.1,1,   -999.0,9,  -999.00,9,  -999.00,9,  -999.00,9,    176,-999.000,  -999.0, 19.4750
     32MW084_1,  PRS2,     2,  3,      5,     38,2,19970603,2058, 22.7407,-158.0128, 4723,    249.3,  15.1693,  34.5827,2,  34.5812,2,    202.6,1,   -999.0,9,  -999.00,9,  -999.00,9,  -999.00,9,    249,-999.000,  -999.0, 15.1313
     32MW084_1,  PRS2,     2,  3,      4,     36,2,19970603,2058, 22.7407,-158.0128, 4723,    478.6,   7.7312,  34.0611,2,  34.0612,2,    142.7,1,   -999.0,9,  -999.00,9,  -999.00,9,  -999.00,9,    479,-999.000,  -999.0,  7.6835
     32MW084_1,  PRS2,     2,  3,      3,     35,2,19970603,2058, 22.7407,-158.0128, 4723,    497.8,   7.2272,  34.0738,2,  34.0722,2,    121.2,1,   -999.0,9,  -999.00,9,  -999.00,9,  -999.00,9,    498,-999.000,  -999.0,  7.1794
     32MW084_1,  PRS2,     2,  3,      2,     34,2,19970603,2058, 22.7407,-158.0128, 4723,    749.6,   4.9597,  34.3253,2,  34.3239,2,     27.6,1,   -999.0,9,  -999.00,9,  -999.00,9,  -999.00,9,    751,-999.000,  -999.0,  4.8991
     32MW084_1,  PRS2,     2,  3,      1,     33,2,19970603,2058, 22.7407,-158.0128, 4723,   1020.0,   4.0830,  34.4935,2,  34.4954,2,     40.4,1,   -999.0,9,  -999.00,9,  -999.00,9,  -999.00,9,   1020,-999.000,  -999.0,  4.0051
     32MW084_1,  PRS2,     2,  4,     14,     14,2,19970603,2357, 22.7485,-158.0013, 4722,      5.0,  25.4228,  34.8755,2,  34.8744,2,    207.9,1,   -999.0,9,  -999.00,9,  -999.00,9,  -999.00,9,      5,-999.000,  -999.0, 25.4217
     32MW084_1,  PRS2,     2,  4,     13,     13,2,19970603,2357, 22.7485,-158.0013, 4722,     25.3,  25.2663,  34.8703,2,  34.8709,2,    208.7,1,   -999.0,9,  -999.00,9,  -999.00,9,  -999.00,9,     26,-999.000,  -999.0, 25.2608
     32MW084_1,  PRS2,     2,  4,     12,     12,2,19970603,2357, 22.7485,-158.0013, 4722,     45.1,  25.1035,  34.8599,2,  34.8593,2,    210.5,1,   -999.0,9,  -999.00,9,  -999.00,9,  -999.00,9,     46,-999.000,  -999.0, 25.0937
     32MW084_1,  PRS2,     2,  4,     11,     11,2,19970603,2357, 22.7485,-158.0013, 4722,     76.0,  24.2753,  34.9644,2,  34.9427,3,    215.0,1,   -999.0,9,  -999.00,9,  -999.00,9,  -999.00,9,     76,-999.000,  -999.0, 24.2592
     32MW084_1,  PRS2,     2,  4,     10,     32,2,19970603,2357, 22.7485,-158.0013, 4722,     98.4,  23.6941,  34.9907,2,  34.9879,2,    215.8,1,   -999.0,9,  -999.00,9,  -999.00,9,  -999.00,9,     98,-999.000,  -999.0, 23.6736
     32MW084_1,  PRS2,     2,  4,      9,      3,2,19970603,2357, 22.7485,-158.0013, 4722,    125.1,  22.0589,  35.0374,2,  35.0396,2,    204.1,1,   -999.0,9,  -999.00,9,  -999.00,9,  -999.00,9,    126,-999.000,  -999.0, 22.0341
     32MW084_1,  PRS2,     2,  4,      8,     29,2,19970603,2357, 22.7485,-158.0013, 4722,    139.0,  21.2661,  35.0322,2,  35.0294,2,    189.9,1,   -999.0,9,  -999.00,9,  -999.00,9,  -999.00,9,    140,-999.000,  -999.0, 21.2393
     32MW084_1,  PRS2,     2,  4,      7,     28,2,19970603,2357, 22.7485,-158.0013, 4722,    149.9,  20.8111,  35.0531,2,  35.0523,2,    196.5,1,   -999.0,9,  -999.00,9,  -999.00,9,  -999.00,9,    150,-999.000,  -999.0, 20.7826
     32MW084_1,  PRS2,     2,  4,      6,      7,2,19970603,2357, 22.7485,-158.0013, 4722,    173.6,  19.8927,  35.0306,2,  35.0286,2,    193.5,1,   -999.0,9,  -999.00,9,  -999.00,9,  -999.00,9,    174,-999.000,  -999.0, 19.8607
     32MW084_1,  PRS2,     2,  4,      5,     38,2,19970603,2357, 22.7485,-158.0013, 4722,    249.2,  15.6240,  34.6136,2,  34.6133,2,    190.8,1,   -999.0,9,  -999.00,9,  -999.00,9,  -999.00,9,    250,-999.000,  -999.0, 15.5852
     32MW084_1,  PRS2,     2,  4,      4,     36,2,19970603,2357, 22.7485,-158.0013, 4722,    479.5,   8.0822,  34.0632,2,  34.0623,2,    152.7,1,   -999.0,9,  -999.00,9,  -999.00,9,  -999.00,9,    480,-999.000,  -999.0,  8.0331
     32MW084_1,  PRS2,     2,  4,      3,     35,2,19970603,2357, 22.7485,-158.0013, 4722,    499.4,   7.5991,  34.0625,2,  34.0622,2,    138.4,1,   -999.0,9,  -999.00,9,  -999.00,9,  -999.00,9,    500,-999.000,  -999.0,  7.5498
     32MW084_1,  PRS2,     2,  4,      2,     34,2,19970603,2357, 22.7485,-158.0013, 4722,    749.5,   4.9271,  34.3288,2,  34.3287,2,     26.0,1,   -999.0,9,  -999.00,9,  -999.00,9,  -999.00,9,    749,-999.000,  -999.0,  4.8667
     32MW084_1,  PRS2,     2,  4,      1,     33,2,19970603,2357, 22.7485,-158.0013, 4722,   1020.3,   4.1251,  34.4894,2,  34.4905,2,     39.3,1,   -999.0,9,  -999.00,9,  -999.00,9,  -999.00,9,   1020,-999.000,  -999.0,  4.0468
     32MW084_1,  PRS2,     2,  5,     17,     17,2,19970604,0301, 22.7500,-158.0053, 4725,      5.1,  25.3764,  34.8773,2,  34.8784,2,    209.8,2,    207.5,2,  -999.00,5,  -999.00,5,  -999.00,5,      5,-999.000,  -999.0, 25.3753
     32MW084_1,  PRS2,     2,  5,     16,     16,2,19970604,0301, 22.7500,-158.0053, 4725,    150.0,  20.6431,  35.0534,2,  35.0524,2,    195.4,2,    195.8,2,  -999.00,5,  -999.00,5,  -999.00,5,    151,-999.000,  -999.0, 20.6148
     32MW084_1,  PRS2,     2,  5,     15,     15,2,19970604,0301, 22.7500,-158.0053, 4725,    209.9,  18.1128,  34.8910,2,  34.8932,2,    193.5,2,    193.8,2,  -999.00,5,  -999.00,5,  -999.00,5,    210,-999.000,  -999.0, 18.0766
     32MW084_1,  PRS2,     2,  5,     14,     14,2,19970604,0301, 22.7500,-158.0053, 4725,    225.2,  17.1568,  34.7803,2,  34.7819,2,    188.2,2,    191.4,2,     3.36,2,     4.27,2,     0.37,2,    225,-999.000,  -999.0, 17.1194
     32MW084_1,  PRS2,     2,  5,     13,     13,2,19970604,0301, 22.7500,-158.0053, 4725,    235.1,  16.9043,  34.7554,2,  34.7579,2,    193.4,2,    191.7,2,     3.69,2,     4.50,2,     0.39,2,    234,-999.000,  -999.0, 16.8657
     32MW084_1,  PRS2,     2,  5,     12,     12,2,19970604,0301, 22.7500,-158.0053, 4725,    249.2,  16.4366,  34.7095,2,  34.7160,2,    197.3,2,    194.5,2,     5.80,2,     4.86,2,     0.42,2,    251,-999.000,  -999.0, 16.3964
     32MW084_1,  PRS2,     2,  5,     11,     11,2,19970604,0301, 22.7500,-158.0053, 4725,    273.2,  15.5856,  34.6137,2,  34.6130,2,    191.5,2,    195.3,2,     7.33,2,     5.86,2,     0.48,2,    274,-999.000,  -999.0, 15.5431
     32MW084_1,  PRS2,     2,  5,     10,     32,2,19970604,0301, 22.7500,-158.0053, 4725,    300.3,  14.2926,  34.4956,2,  34.4950,2,    204.8,2,    204.1,2,     7.23,2,     7.01,2,     0.54,2,    301,-999.000,  -999.0, 14.2486
     32MW084_1,  PRS2,     2,  5,      9,      3,2,19970604,0301, 22.7500,-158.0053, 4725,    325.2,  13.0837,  34.3850,2,  34.3839,2,    210.3,2,    208.6,2,     9.19,2,     8.83,2,     0.65,2,    325,-999.000,  -999.0, 13.0389
     32MW084_1,  PRS2,     2,  5,      8,     29,2,19970604,0301, 22.7500,-158.0053, 4725,    350.7,  12.2074,  34.3094,2,  34.3082,2,    206.9,2,    207.1,2,    11.13,2,    10.61,2,     0.76,2,    351,-999.000,  -999.0, 12.1612
     32MW084_1,  PRS2,     2,  5,      7,     28,2,19970604,0301, 22.7500,-158.0053, 4725,    400.6,  10.4030,  34.1704,2,  34.1714,2,    201.7,2,    201.1,2,    16.54,2,    14.69,2,     1.04,2,    401,-999.000,  -999.0, 10.3554
     32MW084_1,  PRS2,     2,  5,      6,      7,2,19970604,0301, 22.7500,-158.0053, 4725,    499.5,   7.6302,  34.0585,2,  34.0589,2,    139.3,2,    140.1,2,    38.56,2,    25.64,2,     1.81,2,    500,-999.000,  -999.0,  7.5808
     32MW084_1,  PRS2,     2,  5,      5,     38,2,19970604,0301, 22.7500,-158.0053, 4725,    601.0,   5.7564,  34.1157,2,  34.1156,2,     60.9,2,     61.2,2,    69.02,2,    35.91,2,     2.60,2,    601,-999.000,  -999.0,  5.7049
     32MW084_1,  PRS2,     2,  5,      4,     36,2,19970604,0301, 22.7500,-158.0053, 4725,    700.7,   5.2032,  34.2550,2,  34.2549,2,     30.3,2,     30.8,2,    84.64,2,    39.63,2,     2.89,2,    701,-999.000,  -999.0,  5.1455
     32MW084_1,  PRS2,     2,  5,      3,     35,2,19970604,0301, 22.7500,-158.0053, 4725,    799.2,   4.7769,  34.3766,2,  34.3766,2,     26.6,2,     28.1,2,    94.41,2,    41.00,2,     2.99,2,    800,-999.000,  -999.0,  4.7130
     32MW084_1,  PRS2,     2,  5,      2,     34,2,19970604,0301, 22.7500,-158.0053, 4725,    900.5,   4.5116,  34.4447,2,  34.4474,2,     32.0,2,     31.7,2,    99.41,2,    41.39,2,     2.99,2,    902,-999.000,  -999.0,  4.4407
     32MW084_1,  PRS2,     2,  5,      1,     33,2,19970604,0301, 22.7500,-158.0053, 4725,   1021.9,   4.2169,  34.4808,2,  34.4826,2,     37.8,2,     37.8,2,   105.47,2,    41.85,2,     3.03,2,   1022,-999.000,  -999.0,  4.1377
     32MW084_1,  PRS2,     2,  6,     23,     30,2,19970604,0553, 22.7578,-157.9982, 4715,      5.2,  25.2943,  34.8850,2,  34.8843,2,    206.4,2,   -999.0,5,  -999.00,5,  -999.00,5,  -999.00,5,      6,-999.000,  -999.0, 25.2932
     32MW084_1,  PRS2,     2,  6,     22,     22,2,19970604,0553, 22.7578,-157.9982, 4715,      5.2,  25.2953,  34.8850,2,  34.8839,2,    206.4,2,    207.7,2,     0.78,2,     0.00,2,     0.07,2,      6,-999.000,  -999.0, 25.2941
     32MW084_1,  PRS2,     2,  6,     21,     21,2,19970604,0553, 22.7578,-157.9982, 4715,     15.3,  25.3004,  34.8849,2,  34.9396,4,    206.4,3,    207.6,2,     1.00,2,     0.01,2,     0.07,2,     16,-999.000,  -999.0, 25.2971
     32MW084_1,  PRS2,     2,  6,     19,     19,2,19970604,0553, 22.7578,-157.9982, 4715,     24.7,  25.2983,  34.8843,2,  34.8855,2,    206.6,2,    207.6,2,     0.79,2,     0.00,2,     0.07,2,     25,-999.000,  -999.0, 25.2929
     32MW084_1,  PRS2,     2,  6,     20,     20,2,19970604,0553, 22.7578,-157.9982, 4715,     24.9,  25.2982,  34.8849,2,  34.8849,2,    206.5,2,   -999.0,5,  -999.00,5,  -999.00,5,  -999.00,5,     25,-999.000,  -999.0, 25.2928
     32MW084_1,  PRS2,     2,  6,     18,     18,2,19970604,0553, 22.7578,-157.9982, 4715,     35.2,  25.2960,  34.8845,2,  34.8857,2,    206.6,2,    207.6,2,     0.81,2,     0.00,2,     0.07,2,     36,-999.000,  -999.0, 25.2883
     32MW084_1,  PRS2,     2,  6,     17,     17,2,19970604,0553, 22.7578,-157.9982, 4715,     45.6,  25.2153,  34.8876,2,  34.8865,2,    208.6,2,    208.3,2,     0.78,2,     0.01,2,     0.07,2,     46,-999.000,  -999.0, 25.2054
     32MW084_1,  PRS2,     2,  6,     16,     16,2,19970604,0553, 22.7578,-157.9982, 4715,     60.6,  24.7897,  34.9142,2,  34.9130,2,    211.8,2,    210.4,2,     0.84,2,     0.00,2,     0.07,2,     60,-999.000,  -999.0, 24.7766
     32MW084_1,  PRS2,     2,  6,     15,     15,2,19970604,0553, 22.7578,-157.9982, 4715,     75.4,  24.4921,  34.9253,2,  34.9272,2,    213.1,2,    211.8,2,     0.74,2,     0.00,2,     0.06,2,     75,-999.000,  -999.0, 24.4760
     32MW084_1,  PRS2,     2,  6,     14,     14,2,19970604,0553, 22.7578,-157.9982, 4715,     85.1,  24.3820,  34.9215,2,  34.9199,2,    211.8,2,    211.7,2,     0.73,2,     0.00,2,     0.07,2,     85,-999.000,  -999.0, 24.3639
     32MW084_1,  PRS2,     2,  6,     13,     13,2,19970604,0553, 22.7578,-157.9982, 4715,     94.9,  23.8437,  34.9874,2,  34.9839,2,    214.4,2,    215.5,2,     1.17,2,     0.01,2,     0.05,2,     95,-999.000,  -999.0, 23.8238
     32MW084_1,  PRS2,     2,  6,     12,     12,2,19970604,0553, 22.7578,-157.9982, 4715,    104.6,  23.3293,  35.0049,2,  35.0077,2,    211.3,2,    214.3,2,     1.20,2,     0.01,2,     0.06,2,    105,-999.000,  -999.0, 23.3078
     32MW084_1,  PRS2,     2,  6,     11,     11,2,19970604,0553, 22.7578,-157.9982, 4715,    114.6,  22.9947,  35.0242,2,  35.0240,2,    212.7,2,    214.2,2,     1.15,2,     0.01,2,     0.05,2,    115,-999.000,  -999.0, 22.9713
     32MW084_1,  PRS2,     2,  6,     10,     32,2,19970604,0553, 22.7578,-157.9982, 4715,    124.6,  22.1584,  35.0372,2,  35.0342,2,    206.1,2,    196.7,3,     0.84,2,     0.14,2,     0.09,2,    125,-999.000,  -999.0, 22.1337
     32MW084_1,  PRS2,     2,  6,      9,      3,2,19970604,0553, 22.7578,-157.9982, 4715,    134.8,  21.5482,  35.0168,2,  35.1752,4,    189.9,3,    195.6,2,     1.06,2,     0.76,2,     0.17,2,    134,-999.000,  -999.0, 21.5219
     32MW084_1,  PRS2,     2,  6,      8,     29,2,19970604,0553, 22.7578,-157.9982, 4715,    149.3,  20.6871,  35.0495,2,  35.0496,2,    194.7,2,    196.1,2,     1.15,2,     1.24,2,     0.19,2,    150,-999.000,  -999.0, 20.6589
     32MW084_1,  PRS2,     2,  6,      7,     28,2,19970604,0553, 22.7578,-157.9982, 4715,    159.4,  20.3870,  35.0474,2,  35.0402,2,    194.1,2,    194.8,2,  -999.00,5,  -999.00,5,  -999.00,5,    160,-999.000,  -999.0, 20.3572
     32MW084_1,  PRS2,     2,  6,      6,      7,2,19970604,0553, 22.7578,-157.9982, 4715,    175.0,  19.7992,  35.0256,2,  35.0207,2,    192.5,2,    195.8,2,     1.49,2,     1.80,2,     0.20,2,    175,-999.000,  -999.0, 19.7670
     32MW084_1,  PRS2,     2,  6,      5,     38,2,19970604,0553, 22.7578,-157.9982, 4715,    184.9,  19.3089,  35.0027,2,  34.9984,2,    196.7,2,    197.1,2,  -999.00,5,  -999.00,5,  -999.00,5,    185,-999.000,  -999.0, 19.2756
     32MW084_1,  PRS2,     2,  6,      4,     36,2,19970604,0553, 22.7578,-157.9982, 4715,    199.9,  18.6256,  34.9403,2,  34.9301,2,    192.4,2,    194.5,2,     2.76,2,     2.77,2,     0.27,2,    200,-999.000,  -999.0, 18.5905
     32MW084_1,  PRS2,     2,  6,      3,     35,2,19970604,0553, 22.7578,-157.9982, 4715,    481.0,   7.9431,  34.0600,2,  34.0660,2,    149.6,2,    148.4,2,  -999.00,5,  -999.00,5,  -999.00,5,    481,-999.000,  -999.0,  7.8945
     32MW084_1,  PRS2,     2,  6,      2,     34,2,19970604,0553, 22.7578,-157.9982, 4715,    775.8,   4.8078,  34.3633,2,  34.3625,2,     26.6,2,     26.7,2,  -999.00,5,  -999.00,5,  -999.00,5,    776,-999.000,  -999.0,  4.7458
     32MW084_1,  PRS2,     2,  6,      1,     33,2,19970604,0553, 22.7578,-157.9982, 4715,   1020.7,   4.1188,  34.4905,2,  34.4926,2,     39.2,2,     38.8,2,  -999.00,5,  -999.00,5,  -999.00,5,   1021,-999.000,  -999.0,  4.0405
     32MW084_1,  PRS2,     2,  7,     10,     32,2,19970604,0855, 22.7487,-158.0033, 4725,      4.9,  25.2577,  34.8861,2,  34.8902,2,    208.8,1,   -999.0,9,  -999.00,9,  -999.00,9,  -999.00,9,      5,-999.000,  -999.0, 25.2566
     32MW084_1,  PRS2,     2,  7,      9,      3,2,19970604,0855, 22.7487,-158.0033, 4725,    124.8,  21.6310,  35.0197,2,  35.0260,2,    194.9,1,   -999.0,9,  -999.00,9,  -999.00,9,  -999.00,9,    125,-999.000,  -999.0, 21.6067
     32MW084_1,  PRS2,     2,  7,      7,     28,2,19970604,0855, 22.7487,-158.0033, 4725,    125.0,  21.6308,  35.0189,2,-999.0000,5,    192.9,1,   -999.0,9,  -999.00,9,  -999.00,9,  -999.00,9,    126,-999.000,  -999.0, 21.6064
     32MW084_1,  PRS2,     2,  7,      8,     29,2,19970604,0855, 22.7487,-158.0033, 4725,    125.1,  21.6335,  35.0195,2,  35.0214,2,    193.9,1,   -999.0,9,  -999.00,9,  -999.00,9,  -999.00,9,    125,-999.000,  -999.0, 21.6091
     32MW084_1,  PRS2,     2,  7,      4,     36,4,19970604,0855, 22.7487,-158.0033, 4725,    125.1,  21.6101,  35.0177,2,-999.0000,5,    190.8,1,   -999.0,9,  -999.00,9,  -999.00,9,  -999.00,9,    126,-999.000,  -999.0, 21.5857
     32MW084_1,  PRS2,     2,  7,      6,      7,2,19970604,0855, 22.7487,-158.0033, 4725,    125.2,  21.6217,  35.0184,2,-999.0000,5,    192.1,1,   -999.0,9,  -999.00,9,  -999.00,9,  -999.00,9,    126,-999.000,  -999.0, 21.5972
     32MW084_1,  PRS2,     2,  7,      5,     38,2,19970604,0855, 22.7487,-158.0033, 4725,    125.2,  21.6177,  35.0183,2,-999.0000,5,    191.4,1,   -999.0,9,  -999.00,9,  -999.00,9,  -999.00,9,    125,-999.000,  -999.0, 21.5933
     32MW084_1,  PRS2,     2,  7,      3,     35,2,19970604,0855, 22.7487,-158.0033, 4725,    150.3,  20.3528,  35.0462,2,  35.0444,2,    192.8,1,   -999.0,9,  -999.00,9,  -999.00,9,  -999.00,9,    151,-999.000,  -999.0, 20.3247
     32MW084_1,  PRS2,     2,  7,      2,     34,2,19970604,0855, 22.7487,-158.0033, 4725,    495.6,   7.5328,  34.0579,2,  34.0552,2,    135.8,1,   -999.0,9,  -999.00,9,  -999.00,9,  -999.00,9,    496,-999.000,  -999.0,  7.4841
     32MW084_1,  PRS2,     2,  7,      1,     33,2,19970604,0855, 22.7487,-158.0033, 4725,   1019.9,   4.0929,  34.4925,2,  34.4942,2,     39.0,1,   -999.0,9,  -999.00,9,  -999.00,9,  -999.00,9,   1019,-999.000,  -999.0,  4.0149
     32MW084_1,  PRS2,     2,  8,      4,     36,2,19970604,1155, 22.7548,-157.9683, 4710,      4.8,  25.2454,  34.8767,2,  34.9114,4,    208.9,1,   -999.0,9,  -999.00,9,  -999.00,9,  -999.00,9,      5,-999.000,  -999.0, 25.2444
     32MW084_1,  PRS2,     2,  8,      3,     35,2,19970604,1155, 22.7548,-157.9683, 4710,    150.1,  20.3213,  35.0481,2,  35.0474,2,    193.6,1,   -999.0,9,  -999.00,9,  -999.00,9,  -999.00,9,    150,-999.000,  -999.0, 20.2933
     32MW084_1,  PRS2,     2,  8,      2,     34,2,19970604,1155, 22.7548,-157.9683, 4710,    495.0,   7.4112,  34.0590,2,  34.0572,2,    130.4,1,   -999.0,9,  -999.00,9,  -999.00,9,  -999.00,9,    495,-999.000,  -999.0,  7.3630
     32MW084_1,  PRS2,     2,  8,      1,     33,2,19970604,1155, 22.7548,-157.9683, 4710,   1020.6,   4.1508,  34.4878,2,  34.4896,2,     38.6,1,   -999.0,9,  -999.00,9,  -999.00,9,  -999.00,9,   1021,-999.000,  -999.0,  4.0723