BOTTLE,20020809WHPSIObren
#code : jjward hyd_to_exchange.pl 
#original files copied from HTML directory: 20020809
#original HYD file: /whpo/11/HOTS/BOTTLE/hot84/hot84.sea   Fri Aug  9 09:51:38 2002
#original SUM file: /whpo/11/HOTS/BOTTLE/hot84/hot84.sum   Fri Aug  9 13:30:41 2002
EXPOCODE,SECT_ID,STNNBR,CASTNO,SAMPNO,BTLNBR,BTLNBR_FLAG_W,DATE,TIME,LATITUDE,LONGITUDE,DEPTH,CTDPRS,CTDTMP,CTDSAL,CTDSAL_FLAG_W,SALNTY,SALNTY_FLAG_W,CTDOXY,CTDOXY_FLAG_W,OXYGEN,OXYGEN_FLAG_W,SILCAT,SILCAT_FLAG_W,NO2+NO3,NO2+NO3_FLAG_W,PHSPHT,PHSPHT_FLAG_W,CTDRAW,REVTMP,REVPRS,THETA
,,,,,,,,,,,,DBAR,ITS-90,PSS-78,,PSS-78,,UMOL/KG,,UMOL/KG,,UMOL/KG,,UMOL/KG,,UMOL/KG,,,DEG C,DBAR,ITS-90
     32MW084_1,  PRS2,     1,  1,     24,     31,2,19970602,2317, 21.3422,-158.2713, 1485,      4.8,  25.5833,  34.8175,2,  34.8145,2,    206.1,2,    206.6,2,  -999.00,5,  -999.00,5,  -999.00,5,      5,-999.000,  -999.0, 25.5823
     32MW084_1,  PRS2,     1,  1,     23,     30,2,19970602,2317, 21.3422,-158.2713, 1485,      4.8,  25.5773,  34.8149,2,  34.8151,2,    205.8,2,    215.0,4,     0.72,2,     0.02,2,     0.11,2,      5,-999.000,  -999.0, 25.5762
     32MW084_1,  PRS2,     1,  1,     22,     22,2,19970602,2317, 21.3422,-158.2713, 1485,     25.1,  25.2926,  34.8533,2,  34.8520,2,    207.5,2,    207.9,2,     1.07,2,     0.01,2,     0.15,3,     25,-999.000,  -999.0, 25.2871
     32MW084_1,  PRS2,     1,  1,     21,     21,2,19970602,2317, 21.3422,-158.2713, 1485,     44.9,  24.4974,  34.9098,2,  34.9056,2,    211.7,2,    212.1,2,     0.85,2,     0.01,2,     0.08,2,     45,-999.000,  -999.0, 24.4879
     32MW084_1,  PRS2,     1,  1,     20,     20,2,19970602,2317, 21.3422,-158.2713, 1485,     59.6,  24.4152,  34.9002,2,  34.9041,2,    211.8,2,    211.5,2,     0.75,2,     0.01,2,     0.08,2,     60,-999.000,  -999.0, 24.4025
     32MW084_1,  PRS2,     1,  1,     19,     19,2,19970602,2317, 21.3422,-158.2713, 1485,     74.6,  23.9766,  34.9309,2,  34.9360,2,    211.7,2,    212.1,2,     1.00,2,    -0.01,2,     0.08,2,     75,-999.000,  -999.0, 23.9610
     32MW084_1,  PRS2,     1,  1,     18,     18,2,19970602,2317, 21.3422,-158.2713, 1485,     94.7,  23.2071,  34.9792,2,  34.9800,2,    210.9,2,    210.4,2,     1.10,2,     0.00,2,     0.08,2,     95,-999.000,  -999.0, 23.1877
     32MW084_1,  PRS2,     1,  1,     17,     17,2,19970602,2317, 21.3422,-158.2713, 1485,    104.5,  22.9617,  34.9905,2,  34.9889,2,    209.3,2,    209.5,2,     0.80,2,     0.02,2,     0.09,2,    105,-999.000,  -999.0, 22.9404
     32MW084_1,  PRS2,     1,  1,     16,     16,2,19970602,2317, 21.3422,-158.2713, 1485,    113.8,  22.7588,  34.9960,2,  34.9962,2,    209.0,2,    207.8,2,     1.30,2,     0.04,2,     0.09,2,    114,-999.000,  -999.0, 22.7357
     32MW084_1,  PRS2,     1,  1,     15,     15,2,19970602,2317, 21.3422,-158.2713, 1485,    129.2,  22.2677,  35.0045,2,  35.0069,2,    203.0,2,    203.0,2,     1.16,2,     0.25,2,     0.12,2,    130,-999.000,  -999.0, 22.2420
     32MW084_1,  PRS2,     1,  1,     14,     14,2,19970602,2317, 21.3422,-158.2713, 1485,    150.0,  21.2476,  35.0332,2,  35.0331,2,    202.9,2,    202.6,2,     1.33,2,     0.71,2,     0.14,2,    150,-999.000,  -999.0, 21.2187
     32MW084_1,  PRS2,     1,  1,     13,     13,2,19970602,2317, 21.3422,-158.2713, 1485,    174.7,  19.5422,  34.9762,2,  34.9746,2,    196.6,2,    197.0,2,     2.19,2,     1.99,2,     0.22,2,    175,-999.000,  -999.0, 19.5104
     32MW084_1,  PRS2,     1,  1,     12,     12,2,19970602,2317, 21.3422,-158.2713, 1485,    200.4,  18.0115,  34.8582,2,  34.8599,2,    192.4,2,    193.0,2,     2.98,2,     3.38,2,     0.31,2,    201,-999.000,  -999.0, 17.9771
     32MW084_1,  PRS2,     1,  1,     11,     11,2,19970602,2317, 21.3422,-158.2713, 1485,    224.9,  16.6196,  34.7160,2,  34.7166,2,    190.7,2,    191.0,2,     4.92,2,     4.95,2,     0.43,2,    225,-999.000,  -999.0, 16.5831
     32MW084_1,  PRS2,     1,  1,     10,     32,2,19970602,2317, 21.3422,-158.2713, 1485,    250.0,  15.8136,  34.6303,2,  34.6264,2,    190.1,2,    189.6,2,     5.37,2,     6.21,2,     0.51,2,    250,-999.000,  -999.0, 15.7744
     32MW084_1,  PRS2,     1,  1,      9,      3,2,19970602,2317, 21.3422,-158.2713, 1485,    299.7,  13.1973,  34.3662,2,  34.3647,2,    185.3,2,    184.9,2,     9.57,2,    10.46,2,     0.80,2,    300,-999.000,  -999.0, 13.1557
     32MW084_1,  PRS2,     1,  1,      8,     29,2,19970602,2317, 21.3422,-158.2713, 1485,    349.6,  10.6353,  34.1886,2,  34.1854,2,    171.4,2,    166.2,2,    19.09,2,    17.20,2,     1.26,2,    350,-999.000,  -999.0, 10.5932
     32MW084_1,  PRS2,     1,  1,      7,     28,2,19970602,2317, 21.3422,-158.2713, 1485,    430.0,   8.6008,  34.1153,2,  34.1153,2,    142.9,2,    143.5,2,    32.59,2,    23.36,2,     1.71,2,    430,-999.000,  -999.0,  8.5553
     32MW084_1,  PRS2,     1,  1,      6,      7,2,19970602,2317, 21.3422,-158.2713, 1485,    500.2,   7.4313,  34.1418,2,  34.1417,2,    100.8,2,    100.6,2,    47.68,2,    29.02,2,     2.15,2,    500,-999.000,  -999.0,  7.3825
     32MW084_1,  PRS2,     1,  1,      5,     38,2,19970602,2317, 21.3422,-158.2713, 1485,    600.0,   5.7249,  34.1787,2,  34.1803,2,     52.0,2,     51.5,2,    72.00,2,    35.95,2,     2.74,2,    600,-999.000,  -999.0,  5.6736
     32MW084_1,  PRS2,     1,  1,      4,     36,2,19970602,2317, 21.3422,-158.2713, 1485,    700.4,   5.0168,  34.3308,2,  34.3321,2,     31.3,2,     30.5,2,    89.70,2,    39.90,2,     2.92,2,    701,-999.000,  -999.0,  4.9601
     32MW084_1,  PRS2,     1,  1,      3,     35,2,19970602,2317, 21.3422,-158.2713, 1485,    799.3,   4.6062,  34.4357,2,  34.4379,2,     35.7,2,     35.7,2,    97.46,2,    40.60,2,     2.99,2,    800,-999.000,  -999.0,  4.5433
     32MW084_1,  PRS2,     1,  1,      2,     34,2,19970602,2317, 21.3422,-158.2713, 1485,    899.7,   4.1697,  34.4887,2,  34.4901,2,     41.3,2,     41.7,2,   105.52,2,    40.73,2,     3.00,2,    900,-999.000,  -999.0,  4.1011
     32MW084_1,  PRS2,     1,  1,      1,     33,2,19970602,2317, 21.3422,-158.2713, 1485,   1021.2,   3.9080,  34.5073,2,  34.5100,2,     45.4,2,     46.1,2,   111.03,2,    41.02,2,     3.01,2,   1022,-999.000,  -999.0,  3.8313
     32MW084_1,  PRS2,     2,  1,     24,     31,2,19970603,1239, 22.7423,-158.0035, 4720,      5.3,  25.3044,  34.8763,2,  34.8786,2,    210.1,2,    206.5,2,     1.15,2,     0.02,2,     0.07,2,      5,-999.000,  -999.0, 25.3032
     32MW084_1,  PRS2,     2,  1,     23,     30,2,19970603,1239, 22.7423,-158.0035, 4720,    144.9,  21.0261,  35.0514,2,  35.0506,2,    198.1,2,    196.4,2,     1.16,2,     1.01,2,     0.15,2,    145,-999.000,  -999.0, 20.9983
     32MW084_1,  PRS2,     2,  1,     22,     22,2,19970603,1239, 22.7423,-158.0035, 4720,    475.9,   8.2525,  34.0674,2,  34.0698,2,    161.8,2,    156.7,2,    31.46,2,    22.70,2,     1.56,2,    475,-999.000,  -999.0,  8.2032
     32MW084_1,  PRS2,     2,  1,     21,     21,2,19970603,1239, 22.7423,-158.0035, 4720,    800.5,   4.8058,  34.3672,2,  34.3707,2,     26.5,2,     25.5,2,    93.28,2,    40.45,2,     2.92,3,    800,-999.000,  -999.0,  4.7417
     32MW084_1,  PRS2,     2,  1,     20,     20,2,19970603,1239, 22.7423,-158.0035, 4720,   1000.7,   4.1076,  34.4921,2,  34.4898,2,     40.1,2,     39.3,2,   106.72,2,    41.12,2,     2.95,3,   1000,-999.000,  -999.0,  4.0311
     32MW084_1,  PRS2,     2,  1,     19,     19,2,19970603,1239, 22.7423,-158.0035, 4720,   1400.7,   3.2080,  34.5536,2,  34.5518,2,     56.5,2,     56.7,2,   126.38,2,    40.87,2,     2.93,2,   1401,-999.000,  -999.0,  3.1062
     32MW084_1,  PRS2,     2,  1,     18,     18,2,19970603,1239, 22.7423,-158.0035, 4720,   1600.4,   2.7782,  34.5834,2,  34.5831,2,     67.3,2,     66.0,2,  -999.00,5,  -999.00,5,  -999.00,5,   1601,-999.000,  -999.0,  2.6646
     32MW084_1,  PRS2,     2,  1,     17,     17,2,19970603,1239, 22.7423,-158.0035, 4720,   1800.7,   2.4613,  34.5974,2,  34.5975,2,     76.2,2,     76.5,2,   143.89,2,    39.87,2,     2.81,2,   1800,-999.000,  -999.0,  2.3350
     32MW084_1,  PRS2,     2,  1,     16,     16,2,19970603,1239, 22.7423,-158.0035, 4720,   2000.7,   2.2007,  34.6136,2,  34.6143,2,     83.7,2,     83.5,2,   149.24,2,    39.42,2,     2.80,2,   2001,-999.000,  -999.0,  2.0612
     32MW084_1,  PRS2,     2,  1,     15,     15,2,19970603,1239, 22.7423,-158.0035, 4720,   2201.2,   1.9885,  34.6290,2,  34.6305,2,     92.6,2,     92.8,2,   154.24,2,    38.89,2,     2.76,2,   2200,-999.000,  -999.0,  1.8351
     32MW084_1,  PRS2,     2,  1,     14,     14,2,19970603,1239, 22.7423,-158.0035, 4720,   2399.2,   1.8408,  34.6398,2,  34.6397,2,     98.1,2,     98.5,2,   158.82,2,    38.50,2,     2.72,2,   2398,-999.000,  -999.0,  1.6725
     32MW084_1,  PRS2,     2,  1,     13,     13,2,19970603,1239, 22.7423,-158.0035, 4720,   2600.4,   1.7234,  34.6502,2,  34.6513,2,    105.3,2,    105.0,3,   161.92,2,    38.14,2,     2.71,2,   2600,-999.000,  -999.0,  1.5392
     32MW084_1,  PRS2,     2,  1,     12,     12,2,19970603,1239, 22.7423,-158.0035, 4720,   2800.5,   1.6344,  34.6592,2,  34.6584,2,    112.9,2,    114.0,2,   161.99,2,    37.70,2,     2.68,2,   2800,-999.000,  -999.0,  1.4336
     32MW084_1,  PRS2,     2,  1,     11,     11,2,19970603,1239, 22.7423,-158.0035, 4720,   3000.8,   1.5618,  34.6671,2,  34.6668,2,    121.3,2,    121.9,2,   160.52,2,    37.22,2,     2.63,2,   3001,-999.000,  -999.0,  1.3436
     32MW084_1,  PRS2,     2,  1,     10,     32,2,19970603,1239, 22.7423,-158.0035, 4720,   3201.9,   1.5045,  34.6741,2,  34.6722,2,    129.6,2,    130.3,2,   161.47,3,    36.58,2,     2.58,2,   3202,-999.000,  -999.0,  1.2681
     32MW084_1,  PRS2,     2,  1,      9,      3,2,19970603,1239, 22.7423,-158.0035, 4720,   3400.3,   1.4795,  34.6785,2,  34.6777,2,    135.6,2,    135.8,2,   159.00,3,    36.37,2,     2.56,2,   3399,-999.000,  -999.0,  1.2240
     32MW084_1,  PRS2,     2,  1,      8,     29,2,19970603,1239, 22.7423,-158.0035, 4720,   3600.3,   1.4666,  34.6816,2,  34.6810,2,    139.7,2,    140.2,2,   157.34,3,    36.10,2,     2.55,2,   3600,-999.000,  -999.0,  1.1910
     32MW084_1,  PRS2,     2,  1,      7,     28,2,19970603,1239, 22.7423,-158.0035, 4720,   3799.4,   1.4577,  34.6839,2,  34.6838,2,    143.8,2,    144.2,2,   153.81,2,    36.14,3,     2.51,2,   3799,-999.000,  -999.0,  1.1615
     32MW084_1,  PRS2,     2,  1,      6,      7,2,19970603,1239, 22.7423,-158.0035, 4720,   4001.0,   1.4606,  34.6856,2,  34.6852,2,    146.5,2,    146.4,2,   152.46,2,    35.57,2,     2.48,3,   4001,-999.000,  -999.0,  1.1427
     32MW084_1,  PRS2,     2,  1,      5,     38,2,19970603,1239, 22.7423,-158.0035, 4720,   4200.6,   1.4679,  34.6870,2,  34.6668,4,    149.2,3,    120.3,4,   161.10,4,    37.38,4,     2.64,4,   4199,-999.000,  -999.0,  1.1278
     32MW084_1,  PRS2,     2,  1,      4,     36,2,19970603,1239, 22.7423,-158.0035, 4720,   4401.3,   1.4788,  34.6883,2,  34.6873,2,    151.3,2,    150.5,2,   150.71,2,    35.47,2,     2.49,2,   4400,-999.000,  -999.0,  1.1158
     32MW084_1,  PRS2,     2,  1,      3,     35,2,19970603,1239, 22.7423,-158.0035, 4720,   4500.6,   1.4852,  34.6886,2,  34.6874,2,    152.2,2,    151.8,2,   149.43,2,    35.37,2,     2.49,2,   4500,-999.000,  -999.0,  1.1106
     32MW084_1,  PRS2,     2,  1,      2,     34,2,19970603,1239, 22.7423,-158.0035, 4720,   4601.1,   1.4922,  34.6892,2,  34.6870,2,    152.9,2,    150.3,3,   150.98,3,    35.42,3,     2.49,3,   4601,-999.000,  -999.0,  1.1057
     32MW084_1,  PRS2,     2,  1,      1,     33,2,19970603,1239, 22.7423,-158.0035, 4720,   4805.7,   1.5023,  34.6906,2,  34.6899,2,    155.3,2,    154.7,2,   147.03,2,    35.18,2,     2.47,2,   4804,-999.000,  -999.0,  1.0914
     32MW084_1,  PRS2,     2,  2,     24,     31,2,19970603,1803, 22.7507,-157.9970, 4723,      8.7,  25.1780,  34.9035,2,  34.9035,2,    209.5,2,    207.4,2,     0.85,2,     0.00,2,     0.08,2,      9,-999.000,  -999.0, 25.1761
     32MW084_1,  PRS2,     2,  2,     23,     30,2,19970603,1803, 22.7507,-157.9970, 4723,     72.9,  24.7715,  34.9181,2,  34.9187,2,    211.3,2,    209.8,2,     0.90,2,     0.00,2,     0.07,2,     73,-999.000,  -999.0, 24.7558
     32MW084_1,  PRS2,     2,  2,     22,     22,2,19970603,1803, 22.7507,-157.9970, 4723,     98.5,  23.3294,  35.0132,2,  35.0128,2,    214.8,2,    214.2,2,     0.96,2,     0.00,2,     0.06,2,     99,-999.000,  -999.0, 23.3091
     32MW084_1,  PRS2,     2,  2,     21,     21,2,19970603,1803, 22.7507,-157.9970, 4723,    130.8,  21.1362,  35.0442,2,  35.0418,2,    191.2,2,    198.3,2,     1.39,2,     0.75,2,     0.15,2,    131,-999.000,  -999.0, 21.1111
     32MW084_1,  PRS2,     2,  2,     20,     20,2,19970603,1803, 22.7507,-157.9970, 4723,    143.8,  20.5779,  35.0540,2,  35.0529,2,    194.5,2,    195.7,2,     1.26,2,     1.30,2,     0.18,2,    144,-999.000,  -999.0, 20.5508
     32MW084_1,  PRS2,     2,  2,     19,     19,2,19970603,1803, 22.7507,-157.9970, 4723,    193.1,  18.8929,  34.9626,2,  34.9633,2,    193.7,2,    194.4,2,     1.89,2,     2.44,2,     0.25,2,    193,-999.000,  -999.0, 18.8586
     32MW084_1,  PRS2,     2,  2,     18,     18,2,19970603,1803, 22.7507,-157.9970, 4723,    241.6,  15.7009,  34.6285,2,  34.6281,2,    194.0,2,    194.7,2,     4.45,2,     5.59,2,     0.46,2,    242,-999.000,  -999.0, 15.6632
     32MW084_1,  PRS2,     2,  2,     17,     17,2,19970603,1803, 22.7507,-157.9970, 4723,    323.3,  12.0365,  34.2958,2,  34.2941,2,    206.8,2,    206.7,2,    10.14,2,    10.89,2,     0.78,2,    324,-999.000,  -999.0, 11.9943
     32MW084_1,  PRS2,     2,  2,     16,     16,2,19970603,1803, 22.7507,-157.9970, 4723,    382.3,  10.4863,  34.1756,2,  34.1761,2,    204.0,2,    201.6,2,    15.95,2,    14.50,2,     1.04,2,    382,-999.000,  -999.0, 10.4407
     32MW084_1,  PRS2,     2,  2,     15,     15,2,19970603,1803, 22.7507,-157.9970, 4723,    409.7,   9.8581,  34.1410,2,  34.1399,2,    197.6,2,    194.9,2,    20.83,2,    16.54,2,     1.17,2,    410,-999.000,  -999.0,  9.8110
     32MW084_1,  PRS2,     2,  2,     14,     14,2,19970603,1803, 22.7507,-157.9970, 4723,    447.2,   8.9598,  34.0923,2,  34.0938,2,    182.3,2,    180.5,2,    24.50,2,    19.56,2,     1.38,2,    447,-999.000,  -999.0,  8.9113
     32MW084_1,  PRS2,     2,  2,     13,     13,2,19970603,1803, 22.7507,-157.9970, 4723,    495.6,   7.9125,  34.0619,2,  34.0606,2,    151.8,2,    147.6,2,    35.74,2,    24.68,2,     1.75,2,    496,-999.000,  -999.0,  7.8624
     32MW084_1,  PRS2,     2,  2,     12,     12,2,19970603,1803, 22.7507,-157.9970, 4723,    523.2,   7.4086,  34.0718,2,  34.0691,2,    129.5,2,    125.5,2,    42.81,2,    27.62,2,     1.99,2,    523,-999.000,  -999.0,  7.3576
     32MW084_1,  PRS2,     2,  2,     11,     11,2,19970603,1803, 22.7507,-157.9970, 4723,    564.0,   6.7812,  34.0892,2,  34.0885,2,     98.8,2,     96.9,2,    52.78,2,    31.17,2,     2.27,2,    564,-999.000,  -999.0,  6.7287
     32MW084_1,  PRS2,     2,  2,     10,     32,2,19970603,1803, 22.7507,-157.9970, 4723,    594.4,   6.2197,  34.1128,2,  34.1125,2,     73.1,2,     73.2,2,    62.96,2,    34.18,2,     2.49,2,    595,-999.000,  -999.0,  6.1667
     32MW084_1,  PRS2,     2,  2,      9,      3,2,19970603,1803, 22.7507,-157.9970, 4723,    656.6,   5.5749,  34.1438,2,  34.1417,2,     52.4,2,     48.4,2,    74.49,2,    37.27,2,     2.72,2,    656,-999.000,  -999.0,  5.5193
     32MW084_1,  PRS2,     2,  2,      8,     29,2,19970603,1803, 22.7507,-157.9970, 4723,    704.0,   5.3112,  34.2396,2,  34.2377,2,     34.5,2,     33.1,2,    82.81,2,    39.29,2,     2.89,2,    704,-999.000,  -999.0,  5.2527
     32MW084_1,  PRS2,     2,  2,      7,     28,2,19970603,1803, 22.7507,-157.9970, 4723,    729.7,   5.1356,  34.2692,2,  34.2676,2,     28.9,2,     28.8,2,    86.29,2,    40.02,2,     2.95,2,    730,-999.000,  -999.0,  5.0758
     32MW084_1,  PRS2,     2,  2,      6,      7,2,19970603,1803, 22.7507,-157.9970, 4723,    771.7,   4.9723,  34.3212,2,  34.3192,2,     27.5,2,     26.3,2,    89.41,2,    40.54,2,     3.01,2,    773,-999.000,  -999.0,  4.9096
     32MW084_1,  PRS2,     2,  2,      5,     38,2,19970603,1803, 22.7507,-157.9970, 4723,    800.6,   4.8103,  34.3639,2,  34.3567,2,     26.3,2,     26.5,2,    93.53,2,    40.89,2,     3.01,2,    801,-999.000,  -999.0,  4.7461
     32MW084_1,  PRS2,     2,  2,      4,     36,2,19970603,1803, 22.7507,-157.9970, 4723,    870.4,   4.6482,  34.4168,2,  34.4156,2,     29.3,2,     29.7,2,    96.85,2,    41.25,2,     3.03,2,    871,-999.000,  -999.0,  4.5790
     32MW084_1,  PRS2,     2,  2,      3,     35,2,19970603,1803, 22.7507,-157.9970, 4723,    924.9,   4.3977,  34.4557,2,  34.4558,2,     33.7,2,     34.6,2,   101.69,2,    41.29,2,     3.03,2,    925,-999.000,  -999.0,  4.3254
     32MW084_1,  PRS2,     2,  2,      2,     34,2,19970603,1803, 22.7507,-157.9970, 4723,    992.4,   4.0961,  34.4927,2,  34.4915,2,     39.8,2,     37.0,2,   107.95,2,    41.46,2,     3.03,2,    993,-999.000,  -999.0,  4.0203
     32MW084_1,  PRS2,     2,  2,      1,     33,2,19970603,1803, 22.7507,-157.9970, 4723,   1021.3,   3.9959,  34.5035,2,  34.5032,2,     41.6,2,     41.6,2,   109.35,2,    41.37,2,     3.01,2,   1021,-999.000,  -999.0,  3.9185