BOTTLE,20020809WHPSIObren
EXPOCODE,SECT_ID,STNNBR,CASTNO,SAMPNO,BTLNBR,BTLNBR_FLAG_W,DATE,TIME,LATITUDE,LONGITUDE,DEPTH,CTDPRS,CTDTMP,CTDSAL,CTDSAL_FLAG_W,SALNTY,SALNTY_FLAG_W,CTDOXY,CTDOXY_FLAG_W,OXYGEN,OXYGEN_FLAG_W,SILCAT,SILCAT_FLAG_W,NO2+NO3,NO2+NO3_FLAG_W,PHSPHT,PHSPHT_FLAG_W,CTDRAW,REVTMP,REVPRS,THETA
,,,,,,,,,,,,DBAR,ITS-90,PSS-78,,PSS-78,,UMOL/KG,,UMOL/KG,,UMOL/KG,,UMOL/KG,,UMOL/KG,,,DEG C,DBAR,ITS-90
     32MW084_1,  PRS2,     2,  9,     24,     31,2,19970604,1518, 22.7603,-157.9910, 4714,      2.2,  25.2649,  34.8766,2,  34.8741,2,    208.7,1,   -999.0,9,  -999.00,9,  -999.00,9,  -999.00,9,      2,-999.000,  -999.0, 25.2644
     32MW084_1,  PRS2,     2,  9,     23,     30,2,19970604,1518, 22.7603,-157.9910, 4714,      4.7,  25.2674,  34.8765,2,  34.8729,2,    208.7,1,   -999.0,9,  -999.00,9,  -999.00,9,  -999.00,9,      5,-999.000,  -999.0, 25.2663
     32MW084_1,  PRS2,     2,  9,     22,     22,2,19970604,1518, 22.7603,-157.9910, 4714,      9.9,  25.2687,  34.8763,2,  34.8731,2,    208.7,1,   -999.0,9,  -999.00,9,  -999.00,9,  -999.00,9,     10,-999.000,  -999.0, 25.2666
     32MW084_1,  PRS2,     2,  9,     21,     21,2,19970604,1518, 22.7603,-157.9910, 4714,     14.5,  25.2688,  34.8761,2,  34.8800,2,    208.7,1,   -999.0,9,  -999.00,9,  -999.00,9,  -999.00,9,     15,-999.000,  -999.0, 25.2656
     32MW084_1,  PRS2,     2,  9,     20,     20,2,19970604,1518, 22.7603,-157.9910, 4714,     19.7,  25.2715,  34.8761,2,  34.8729,2,    208.7,1,   -999.0,9,  -999.00,9,  -999.00,9,  -999.00,9,     20,-999.000,  -999.0, 25.2672
     32MW084_1,  PRS2,     2,  9,     19,     19,2,19970604,1518, 22.7603,-157.9910, 4714,     24.4,  25.1724,  34.8881,2,  34.8821,2,    208.9,1,   -999.0,9,  -999.00,9,  -999.00,9,  -999.00,9,     25,-999.000,  -999.0, 25.1671
     32MW084_1,  PRS2,     2,  9,     18,     18,2,19970604,1518, 22.7603,-157.9910, 4714,     29.3,  24.7534,  34.9426,2,  34.9357,2,    211.1,1,   -999.0,9,  -999.00,9,  -999.00,9,  -999.00,9,     29,-999.000,  -999.0, 24.7471
     32MW084_1,  PRS2,     2,  9,     17,     17,2,19970604,1518, 22.7603,-157.9910, 4714,     34.9,  24.7055,  34.9455,2,  34.9433,2,    211.2,1,   -999.0,9,  -999.00,9,  -999.00,9,  -999.00,9,     35,-999.000,  -999.0, 24.6980
     32MW084_1,  PRS2,     2,  9,     16,     16,2,19970604,1518, 22.7603,-157.9910, 4714,     39.6,  24.6517,  34.9453,2,  34.9423,2,    211.0,1,   -999.0,9,  -999.00,9,  -999.00,9,  -999.00,9,     40,-999.000,  -999.0, 24.6432
     32MW084_1,  PRS2,     2,  9,     15,     15,2,19970604,1518, 22.7603,-157.9910, 4714,     44.8,  24.5688,  34.9463,2,  34.9435,2,    212.4,1,   -999.0,9,  -999.00,9,  -999.00,9,  -999.00,9,     46,-999.000,  -999.0, 24.5592
     32MW084_1,  PRS2,     2,  9,     14,     14,2,19970604,1518, 22.7603,-157.9910, 4714,     49.8,  24.5449,  34.9435,2,  34.9421,2,    212.4,1,   -999.0,9,  -999.00,9,  -999.00,9,  -999.00,9,     50,-999.000,  -999.0, 24.5342
     32MW084_1,  PRS2,     2,  9,     13,     13,2,19970604,1518, 22.7603,-157.9910, 4714,     55.0,  24.5132,  34.9404,2,  34.9424,2,    212.3,1,   -999.0,9,  -999.00,9,  -999.00,9,  -999.00,9,     55,-999.000,  -999.0, 24.5015
     32MW084_1,  PRS2,     2,  9,     12,     12,2,19970604,1518, 22.7603,-157.9910, 4714,     64.2,  24.4065,  34.9259,2,  34.9229,2,    212.4,1,   -999.0,9,  -999.00,9,  -999.00,9,  -999.00,9,     64,-999.000,  -999.0, 24.3929
     32MW084_1,  PRS2,     2,  9,     11,     11,2,19970604,1518, 22.7603,-157.9910, 4714,     75.4,  24.3961,  34.9460,2,  34.9481,2,    213.3,1,   -999.0,9,  -999.00,9,  -999.00,9,  -999.00,9,     76,-999.000,  -999.0, 24.3801
     32MW084_1,  PRS2,     2,  9,     10,     32,2,19970604,1518, 22.7603,-157.9910, 4714,     85.6,  24.1625,  34.9283,2,  34.9291,2,    211.7,1,   -999.0,9,  -999.00,9,  -999.00,9,  -999.00,9,     87,-999.000,  -999.0, 24.1444
     32MW084_1,  PRS2,     2,  9,      9,      3,2,19970604,1518, 22.7603,-157.9910, 4714,     94.8,  23.7319,  34.9705,2,  34.9647,2,    211.6,1,   -999.0,9,  -999.00,9,  -999.00,9,  -999.00,9,     96,-999.000,  -999.0, 23.7121
     32MW084_1,  PRS2,     2,  9,      8,     29,2,19970604,1518, 22.7603,-157.9910, 4714,    104.9,  23.3620,  35.0063,2,  35.0076,2,    214.0,1,   -999.0,9,  -999.00,9,  -999.00,9,  -999.00,9,    106,-999.000,  -999.0, 23.3404
     32MW084_1,  PRS2,     2,  9,      7,     28,2,19970604,1518, 22.7603,-157.9910, 4714,    114.8,  22.7602,  35.0286,2,  35.0284,2,    210.4,1,   -999.0,9,  -999.00,9,  -999.00,9,  -999.00,9,    115,-999.000,  -999.0, 22.7369
     32MW084_1,  PRS2,     2,  9,      6,      7,2,19970604,1518, 22.7603,-157.9910, 4714,    125.6,  21.7957,  35.0206,2,  35.0254,2,    197.9,1,   -999.0,9,  -999.00,9,  -999.00,9,  -999.00,9,    126,-999.000,  -999.0, 21.7711
     32MW084_1,  PRS2,     2,  9,      5,     38,2,19970604,1518, 22.7603,-157.9910, 4714,    149.2,  20.6550,  35.0377,2,  35.0352,2,    191.9,1,   -999.0,9,  -999.00,9,  -999.00,9,  -999.00,9,    150,-999.000,  -999.0, 20.6268
     32MW084_1,  PRS2,     2,  9,      4,     36,2,19970604,1518, 22.7603,-157.9910, 4714,    174.1,  19.9197,  35.0314,2,  35.0321,2,    193.7,1,   -999.0,9,  -999.00,9,  -999.00,9,  -999.00,9,    174,-999.000,  -999.0, 19.8876
     32MW084_1,  PRS2,     2,  9,      3,     35,2,19970604,1518, 22.7603,-157.9910, 4714,    250.5,  15.5466,  34.5973,2,  34.5975,2,    185.6,1,   -999.0,9,  -999.00,9,  -999.00,9,  -999.00,9,    251,-999.000,  -999.0, 15.5078
     32MW084_1,  PRS2,     2,  9,      2,     34,2,19970604,1518, 22.7603,-157.9910, 4714,    499.3,   7.6105,  34.0573,2,  34.0582,2,    138.7,1,   -999.0,9,  -999.00,9,  -999.00,9,  -999.00,9,    500,-999.000,  -999.0,  7.5611
     32MW084_1,  PRS2,     2,  9,      1,     33,2,19970604,1518, 22.7603,-157.9910, 4714,   1019.8,   4.1795,  34.4853,2,  34.4868,2,     38.3,1,   -999.0,9,  -999.00,9,  -999.00,9,  -999.00,9,   1020,-999.000,  -999.0,  4.1009
     32MW084_1,  PRS2,     2, 10,     13,     13,2,19970604,1759, 22.7448,-158.0213, 4723,      4.4,  25.2487,  34.8713,2,  34.8704,2,    208.4,1,   -999.0,9,  -999.00,9,  -999.00,9,  -999.00,9,      5,-999.000,  -999.0, 25.2478
     32MW084_1,  PRS2,     2, 10,     12,     12,2,19970604,1759, 22.7448,-158.0213, 4723,     24.9,  25.2519,  34.8713,2,  34.8709,2,    208.4,1,   -999.0,9,  -999.00,9,  -999.00,9,  -999.00,9,     25,-999.000,  -999.0, 25.2465
     32MW084_1,  PRS2,     2, 10,     11,     11,2,19970604,1759, 22.7448,-158.0213, 4723,     45.2,  24.7151,  34.9413,2,  34.9418,2,    210.6,1,   -999.0,9,  -999.00,9,  -999.00,9,  -999.00,9,     46,-999.000,  -999.0, 24.7054
     32MW084_1,  PRS2,     2, 10,     10,     32,2,19970604,1759, 22.7448,-158.0213, 4723,     75.1,  24.4035,  34.9451,2,  34.9469,2,    213.0,1,   -999.0,9,  -999.00,9,  -999.00,9,  -999.00,9,     76,-999.000,  -999.0, 24.3876
     32MW084_1,  PRS2,     2, 10,      9,      3,2,19970604,1759, 22.7448,-158.0213, 4723,    100.3,  23.5878,  35.0015,2,  35.0025,2,    213.6,1,   -999.0,9,  -999.00,9,  -999.00,9,  -999.00,9,    101,-999.000,  -999.0, 23.5669
     32MW084_1,  PRS2,     2, 10,      8,     29,2,19970604,1759, 22.7448,-158.0213, 4723,    124.6,  21.7028,  35.0182,2,  35.0171,2,    193.9,1,   -999.0,9,  -999.00,9,  -999.00,9,  -999.00,9,    125,-999.000,  -999.0, 21.6784
     32MW084_1,  PRS2,     2, 10,      7,     28,2,19970604,1759, 22.7448,-158.0213, 4723,    149.9,  20.4618,  35.0438,2,  35.0454,2,    195.7,1,   -999.0,9,  -999.00,9,  -999.00,9,  -999.00,9,    150,-999.000,  -999.0, 20.4336
     32MW084_1,  PRS2,     2, 10,      6,      7,2,19970604,1759, 22.7448,-158.0213, 4723,    159.7,  20.0004,  35.0333,2,  35.0365,2,    192.0,1,   -999.0,9,  -999.00,9,  -999.00,9,  -999.00,9,    161,-999.000,  -999.0, 19.9709
     32MW084_1,  PRS2,     2, 10,      5,     38,2,19970604,1759, 22.7448,-158.0213, 4723,    174.3,  19.6244,  35.0157,2,  35.0157,2,    192.5,1,   -999.0,9,  -999.00,9,  -999.00,9,  -999.00,9,    175,-999.000,  -999.0, 19.5926
     32MW084_1,  PRS2,     2, 10,      4,     36,2,19970604,1759, 22.7448,-158.0213, 4723,    251.2,  16.5664,  34.7243,2,  34.7247,2,    191.4,1,   -999.0,9,  -999.00,9,  -999.00,9,  -999.00,9,    251,-999.000,  -999.0, 16.5256
     32MW084_1,  PRS2,     2, 10,      3,     35,2,19970604,1759, 22.7448,-158.0213, 4723,    500.8,   8.0880,  34.0618,2,  34.0613,2,    156.9,1,   -999.0,9,  -999.00,9,  -999.00,9,  -999.00,9,    501,-999.000,  -999.0,  8.0367
     32MW084_1,  PRS2,     2, 10,      2,     34,2,19970604,1759, 22.7448,-158.0213, 4723,    750.8,   4.9539,  34.3268,2,  34.3268,2,     27.1,1,   -999.0,9,  -999.00,9,  -999.00,9,  -999.00,9,    751,-999.000,  -999.0,  4.8932
     32MW084_1,  PRS2,     2, 10,      1,     33,2,19970604,1759, 22.7448,-158.0213, 4723,   1020.6,   4.0513,  34.4961,2,  34.4974,2,     40.5,1,   -999.0,9,  -999.00,9,  -999.00,9,  -999.00,9,   1021,-999.000,  -999.0,  3.9735
     32MW084_1,  PRS2,     2, 11,     10,     32,2,19970604,2058, 22.7323,-158.0313, 4731,      4.6,  25.3048,  34.8718,2,-999.0000,5,    208.2,1,   -999.0,9,  -999.00,9,  -999.00,9,  -999.00,9,      5,-999.000,  -999.0, 25.3038
     32MW084_1,  PRS2,     2, 11,      9,      3,2,19970604,2058, 22.7323,-158.0313, 4731,     25.8,  25.2648,  34.8728,2,  34.8768,2,    208.4,1,   -999.0,9,  -999.00,9,  -999.00,9,  -999.00,9,     26,-999.000,  -999.0, 25.2592
     32MW084_1,  PRS2,     2, 11,      8,     29,2,19970604,2058, 22.7323,-158.0313, 4731,     44.9,  24.6265,  34.9447,2,  34.9457,2,    211.3,1,   -999.0,9,  -999.00,9,  -999.00,9,  -999.00,9,     46,-999.000,  -999.0, 24.6169
     32MW084_1,  PRS2,     2, 11,      7,     28,2,19970604,2058, 22.7323,-158.0313, 4731,     74.5,  24.3838,  34.9438,2,  34.9451,2,    212.9,1,   -999.0,9,  -999.00,9,  -999.00,9,  -999.00,9,     74,-999.000,  -999.0, 24.3679
     32MW084_1,  PRS2,     2, 11,      6,      7,2,19970604,2058, 22.7323,-158.0313, 4731,     99.8,  23.4173,  35.0069,2,  35.0075,2,    214.0,1,   -999.0,9,  -999.00,9,  -999.00,9,  -999.00,9,    100,-999.000,  -999.0, 23.3966
     32MW084_1,  PRS2,     2, 11,      5,     38,2,19970604,2058, 22.7323,-158.0313, 4731,    124.4,  21.9001,  35.0191,2,  35.0201,2,    194.5,1,   -999.0,9,  -999.00,9,  -999.00,9,  -999.00,9,    124,-999.000,  -999.0, 21.8756
     32MW084_1,  PRS2,     2, 11,      4,     36,2,19970604,2058, 22.7323,-158.0313, 4731,    149.5,  20.6253,  35.0478,2,  35.0471,2,    194.4,1,   -999.0,9,  -999.00,9,  -999.00,9,  -999.00,9,    149,-999.000,  -999.0, 20.5971
     32MW084_1,  PRS2,     2, 11,      3,     35,2,19970604,2058, 22.7323,-158.0313, 4731,    174.4,  18.9137,  34.9659,2,  34.9732,2,    190.1,1,   -999.0,9,  -999.00,9,  -999.00,9,  -999.00,9,    175,-999.000,  -999.0, 18.8827
     32MW084_1,  PRS2,     2, 11,      2,     34,2,19970604,2058, 22.7323,-158.0313, 4731,    499.3,   7.5718,  34.0586,2,  34.0561,2,    137.6,1,   -999.0,9,  -999.00,9,  -999.00,9,  -999.00,9,    499,-999.000,  -999.0,  7.5226
     32MW084_1,  PRS2,     2, 11,      1,     33,2,19970604,2058, 22.7323,-158.0313, 4731,   1022.2,   4.0350,  34.4974,2,  34.4989,2,     40.8,1,   -999.0,9,  -999.00,9,  -999.00,9,  -999.00,9,   1022,-999.000,  -999.0,  3.9572
     32MW084_1,  PRS2,     2, 12,     12,     12,3,19970604,2358, 22.7190,-158.0667, 4742,      5.0,  25.3491,  34.8742,2,  34.8748,2,    208.4,1,   -999.0,9,  -999.00,9,  -999.00,9,  -999.00,9,      6,-999.000,  -999.0, 25.3480
     32MW084_1,  PRS2,     2, 12,     11,     11,2,19970604,2358, 22.7190,-158.0667, 4742,     25.1,  25.2961,  34.8740,2,  34.8912,4,    208.8,1,   -999.0,9,  -999.00,9,  -999.00,9,  -999.00,9,     26,-999.000,  -999.0, 25.2907
     32MW084_1,  PRS2,     2, 12,     10,     32,2,19970604,2358, 22.7190,-158.0667, 4742,     48.3,  24.5842,  34.9446,2,  34.9449,2,    212.5,1,   -999.0,9,  -999.00,9,  -999.00,9,  -999.00,9,     48,-999.000,  -999.0, 24.5739
     32MW084_1,  PRS2,     2, 12,      9,      3,2,19970604,2358, 22.7190,-158.0667, 4742,     74.9,  24.4005,  34.9243,2,  34.9279,2,    212.7,1,   -999.0,9,  -999.00,9,  -999.00,9,  -999.00,9,     75,-999.000,  -999.0, 24.3846
     32MW084_1,  PRS2,     2, 12,      8,     29,2,19970604,2358, 22.7190,-158.0667, 4742,     99.5,  23.6127,  34.9823,2,  34.9793,2,    211.8,1,   -999.0,9,  -999.00,9,  -999.00,9,  -999.00,9,    100,-999.000,  -999.0, 23.5920
     32MW084_1,  PRS2,     2, 12,      7,     28,2,19970604,2358, 22.7190,-158.0667, 4742,    124.9,  21.8763,  35.0180,2,  35.0211,2,    196.2,1,   -999.0,9,  -999.00,9,  -999.00,9,  -999.00,9,    126,-999.000,  -999.0, 21.8517
     32MW084_1,  PRS2,     2, 12,      6,      7,2,19970604,2358, 22.7190,-158.0667, 4742,    148.6,  20.8143,  35.0358,2,  35.0363,2,    189.8,1,   -999.0,9,  -999.00,9,  -999.00,9,  -999.00,9,    149,-999.000,  -999.0, 20.7860
     32MW084_1,  PRS2,     2, 12,      5,     38,2,19970604,2358, 22.7190,-158.0667, 4742,    174.1,  19.5817,  35.0125,2,  35.0125,2,    190.0,1,   -999.0,9,  -999.00,9,  -999.00,9,  -999.00,9,    174,-999.000,  -999.0, 19.5500
     32MW084_1,  PRS2,     2, 12,      4,     36,2,19970604,2358, 22.7190,-158.0667, 4742,    250.0,  15.8879,  34.6392,2,  34.6411,2,    190.5,1,   -999.0,9,  -999.00,9,  -999.00,9,  -999.00,9,    250,-999.000,  -999.0, 15.8486
     32MW084_1,  PRS2,     2, 12,      3,     35,2,19970604,2358, 22.7190,-158.0667, 4742,    498.9,   7.5802,  34.0592,2,  34.0600,2,    137.6,1,   -999.0,9,  -999.00,9,  -999.00,9,  -999.00,9,    499,-999.000,  -999.0,  7.5310
     32MW084_1,  PRS2,     2, 12,      2,     34,2,19970604,2358, 22.7190,-158.0667, 4742,    749.8,   4.9439,  34.3266,2,  34.3265,2,     25.4,1,   -999.0,9,  -999.00,9,  -999.00,9,  -999.00,9,    750,-999.000,  -999.0,  4.8833
     32MW084_1,  PRS2,     2, 12,      1,     33,2,19970604,2358, 22.7190,-158.0667, 4742,   1020.5,   4.1290,  34.4883,2,  34.4923,2,     39.3,1,   -999.0,9,  -999.00,9,  -999.00,9,  -999.00,9,   1020,-999.000,  -999.0,  4.0507
     32MW084_1,  PRS2,     2, 13,     24,     31,2,19970605,0254, 22.7087,-158.0745, 4745,      2.9,  25.3541,  34.8739,2,  34.9274,4,    208.8,1,   -999.0,9,  -999.00,9,  -999.00,9,  -999.00,9,      3,-999.000,  -999.0, 25.3535
     32MW084_1,  PRS2,     2, 13,     23,     30,2,19970605,0254, 22.7087,-158.0745, 4745,      5.2,  25.3535,  34.8738,2,  34.9170,4,    208.8,1,   -999.0,9,  -999.00,9,  -999.00,9,  -999.00,9,      5,-999.000,  -999.0, 25.3523
     32MW084_1,  PRS2,     2, 13,     22,     22,2,19970605,0254, 22.7087,-158.0745, 4745,      9.8,  25.3548,  34.8736,2,  34.8737,2,    208.8,1,   -999.0,9,  -999.00,9,  -999.00,9,  -999.00,9,     10,-999.000,  -999.0, 25.3527
     32MW084_1,  PRS2,     2, 13,     21,     21,2,19970605,0254, 22.7087,-158.0745, 4745,     14.6,  25.3493,  34.8735,2,  34.8718,2,    208.9,1,   -999.0,9,  -999.00,9,  -999.00,9,  -999.00,9,     15,-999.000,  -999.0, 25.3461
     32MW084_1,  PRS2,     2, 13,     20,     20,2,19970605,0254, 22.7087,-158.0745, 4745,     19.2,  25.3477,  34.8734,2,  34.8719,2,    208.8,1,   -999.0,9,  -999.00,9,  -999.00,9,  -999.00,9,     19,-999.000,  -999.0, 25.3435
     32MW084_1,  PRS2,     2, 13,     19,     19,2,19970605,0254, 22.7087,-158.0745, 4745,     24.7,  25.3329,  34.8748,2,  34.8815,2,    208.8,1,   -999.0,9,  -999.00,9,  -999.00,9,  -999.00,9,     25,-999.000,  -999.0, 25.3275
     32MW084_1,  PRS2,     2, 13,     18,     18,2,19970605,0254, 22.7087,-158.0745, 4745,     30.0,  25.2872,  34.8826,2,  34.8783,2,    208.7,1,   -999.0,9,  -999.00,9,  -999.00,9,  -999.00,9,     30,-999.000,  -999.0, 25.2807
     32MW084_1,  PRS2,     2, 13,     17,     17,2,19970605,0254, 22.7087,-158.0745, 4745,     33.7,  25.0351,  34.9121,2,  34.9100,2,    208.6,1,   -999.0,9,  -999.00,9,  -999.00,9,  -999.00,9,     33,-999.000,  -999.0, 25.0278
     32MW084_1,  PRS2,     2, 13,     16,     16,2,19970605,0254, 22.7087,-158.0745, 4745,     39.5,  24.6227,  34.9469,2,  34.9477,2,    212.4,1,   -999.0,9,  -999.00,9,  -999.00,9,  -999.00,9,     40,-999.000,  -999.0, 24.6142
     32MW084_1,  PRS2,     2, 13,     15,     15,2,19970605,0254, 22.7087,-158.0745, 4745,     44.8,  24.6110,  34.9467,2,  34.9541,2,    212.5,1,   -999.0,9,  -999.00,9,  -999.00,9,  -999.00,9,     45,-999.000,  -999.0, 24.6014
     32MW084_1,  PRS2,     2, 13,     14,     14,2,19970605,0254, 22.7087,-158.0745, 4745,     48.7,  24.5961,  34.9463,2,  34.9477,2,    212.4,1,   -999.0,9,  -999.00,9,  -999.00,9,  -999.00,9,     49,-999.000,  -999.0, 24.5856
     32MW084_1,  PRS2,     2, 13,     13,     13,2,19970605,0254, 22.7087,-158.0745, 4745,     55.2,  24.5798,  34.9454,2,  34.9458,2,    212.4,1,   -999.0,9,  -999.00,9,  -999.00,9,  -999.00,9,     56,-999.000,  -999.0, 24.5680
     32MW084_1,  PRS2,     2, 13,     12,     12,2,19970605,0254, 22.7087,-158.0745, 4745,     65.0,  24.5392,  34.9394,2,  34.9406,2,    212.6,1,   -999.0,9,  -999.00,9,  -999.00,9,  -999.00,9,     65,-999.000,  -999.0, 24.5253
     32MW084_1,  PRS2,     2, 13,     11,     11,2,19970605,0254, 22.7087,-158.0745, 4745,     73.8,  24.5046,  34.9353,2,  34.9362,2,    212.7,1,   -999.0,9,  -999.00,9,  -999.00,9,  -999.00,9,     75,-999.000,  -999.0, 24.4888
     32MW084_1,  PRS2,     2, 13,     10,     32,2,19970605,0254, 22.7087,-158.0745, 4745,     84.6,  24.4013,  34.9246,2,  34.9254,2,    213.0,1,   -999.0,9,  -999.00,9,  -999.00,9,  -999.00,9,     85,-999.000,  -999.0, 24.3833
     32MW084_1,  PRS2,     2, 13,      9,      3,2,19970605,0254, 22.7087,-158.0745, 4745,     95.3,  24.3750,  34.9302,2,  34.9324,2,    213.1,1,   -999.0,9,  -999.00,9,  -999.00,9,  -999.00,9,     96,-999.000,  -999.0, 24.3547
     32MW084_1,  PRS2,     2, 13,      8,     29,2,19970605,0254, 22.7087,-158.0745, 4745,    105.0,  24.1982,  34.9320,2,  34.9349,2,    212.0,1,   -999.0,9,  -999.00,9,  -999.00,9,  -999.00,9,    106,-999.000,  -999.0, 24.1760
     32MW084_1,  PRS2,     2, 13,      7,     28,2,19970605,0254, 22.7087,-158.0745, 4745,    114.3,  23.5387,  34.9740,2,  34.9728,2,    211.1,1,   -999.0,9,  -999.00,9,  -999.00,9,  -999.00,9,    116,-999.000,  -999.0, 23.5149
     32MW084_1,  PRS2,     2, 13,      6,      7,2,19970605,0254, 22.7087,-158.0745, 4745,    125.2,  22.7137,  35.0243,2,  35.0247,2,    208.7,1,   -999.0,9,  -999.00,9,  -999.00,9,  -999.00,9,    126,-999.000,  -999.0, 22.6884
     32MW084_1,  PRS2,     2, 13,      5,     38,2,19970605,0254, 22.7087,-158.0745, 4745,    151.2,  21.4055,  35.0153,2,  35.0181,2,    193.0,1,   -999.0,9,  -999.00,9,  -999.00,9,  -999.00,9,    151,-999.000,  -999.0, 21.3762
     32MW084_1,  PRS2,     2, 13,      4,     36,2,19970605,0254, 22.7087,-158.0745, 4745,    175.5,  20.4111,  35.0439,2,  35.0453,2,    196.7,1,   -999.0,9,  -999.00,9,  -999.00,9,  -999.00,9,    176,-999.000,  -999.0, 20.3782
     32MW084_1,  PRS2,     2, 13,      3,     35,2,19970605,0254, 22.7087,-158.0745, 4745,    251.8,  16.5010,  34.7200,2,  34.7244,2,    191.8,1,   -999.0,9,  -999.00,9,  -999.00,9,  -999.00,9,    252,-999.000,  -999.0, 16.4603
     32MW084_1,  PRS2,     2, 13,      2,     34,2,19970605,0254, 22.7087,-158.0745, 4745,    500.4,   7.5534,  34.0588,2,  34.0571,2,    137.1,1,   -999.0,9,  -999.00,9,  -999.00,9,  -999.00,9,    501,-999.000,  -999.0,  7.5042
     32MW084_1,  PRS2,     2, 13,      1,     33,2,19970605,0254, 22.7087,-158.0745, 4745,   1019.2,   4.1716,  34.4854,2,  34.4889,2,     38.5,1,   -999.0,9,  -999.00,9,  -999.00,9,  -999.00,9,   1020,-999.000,  -999.0,  4.0930