BOTTLE,20020809WHPSIObren
EXPOCODE,SECT_ID,STNNBR,CASTNO,SAMPNO,BTLNBR,BTLNBR_FLAG_W,DATE,TIME,LATITUDE,LONGITUDE,DEPTH,CTDPRS,CTDTMP,CTDSAL,CTDSAL_FLAG_W,SALNTY,SALNTY_FLAG_W,CTDOXY,CTDOXY_FLAG_W,OXYGEN,OXYGEN_FLAG_W,SILCAT,SILCAT_FLAG_W,NO2+NO3,NO2+NO3_FLAG_W,PHSPHT,PHSPHT_FLAG_W,CTDRAW,REVTMP,REVPRS,THETA
,,,,,,,,,,,,DBAR,ITS-90,PSS-78,,PSS-78,,UMOL/KG,,UMOL/KG,,UMOL/KG,,UMOL/KG,,UMOL/KG,,,DEG C,DBAR,ITS-90
     32MW084_1,  PRS2,     2, 14,     24,     31,2,19970605,0558, 22.7272,-158.0687, 4740,      4.8,  25.3269,  34.8841,2,  34.8923,2,    207.8,1,   -999.0,9,  -999.00,9,  -999.00,9,  -999.00,9,      5,-999.000,  -999.0, 25.3259
     32MW084_1,  PRS2,     2, 14,     23,     30,2,19970605,0558, 22.7272,-158.0687, 4740,     19.8,  25.2210,  34.8980,2,  34.8952,2,    207.6,1,   -999.0,9,  -999.00,9,  -999.00,9,  -999.00,9,     21,-999.000,  -999.0, 25.2167
     32MW084_1,  PRS2,     2, 14,     21,     21,2,19970605,0558, 22.7272,-158.0687, 4740,     24.8,  24.7843,  34.9476,2,  34.9449,2,    207.5,1,   -999.0,9,  -999.00,9,  -999.00,9,  -999.00,9,     25,-999.000,  -999.0, 24.7790
     32MW084_1,  PRS2,     2, 14,     22,     22,2,19970605,0558, 22.7272,-158.0687, 4740,     25.0,  24.7210,  34.9543,2,  34.9401,3,    207.3,1,   -999.0,9,  -999.00,9,  -999.00,9,  -999.00,9,     26,-999.000,  -999.0, 24.7157
     32MW084_1,  PRS2,     2, 14,     20,     20,2,19970605,0558, 22.7272,-158.0687, 4740,     39.8,  24.6031,  34.9512,2,  34.9517,2,    211.7,1,   -999.0,9,  -999.00,9,  -999.00,9,  -999.00,9,     40,-999.000,  -999.0, 24.5946
     32MW084_1,  PRS2,     2, 14,     19,     19,2,19970605,0558, 22.7272,-158.0687, 4740,     44.9,  24.5824,  34.9473,2,  34.9483,2,    211.7,1,   -999.0,9,  -999.00,9,  -999.00,9,  -999.00,9,     45,-999.000,  -999.0, 24.5728
     32MW084_1,  PRS2,     2, 14,     18,     18,2,19970605,0558, 22.7272,-158.0687, 4740,     59.5,  24.5506,  34.9462,2,  34.9460,2,    211.8,1,   -999.0,9,  -999.00,9,  -999.00,9,  -999.00,9,     60,-999.000,  -999.0, 24.5379
     32MW084_1,  PRS2,     2, 14,     17,     17,2,19970605,0558, 22.7272,-158.0687, 4740,     74.4,  24.5134,  34.9419,2,  34.9423,2,    211.7,1,   -999.0,9,  -999.00,9,  -999.00,9,  -999.00,9,     74,-999.000,  -999.0, 24.4975
     32MW084_1,  PRS2,     2, 14,     16,     16,2,19970605,0558, 22.7272,-158.0687, 4740,     80.4,  24.4051,  34.9303,2,  34.9307,2,    211.7,1,   -999.0,9,  -999.00,9,  -999.00,9,  -999.00,9,     81,-999.000,  -999.0, 24.3880
     32MW084_1,  PRS2,     2, 14,     15,     15,2,19970605,0558, 22.7272,-158.0687, 4740,    100.0,  23.5278,  34.9595,2,  34.9594,2,    207.6,1,   -999.0,9,  -999.00,9,  -999.00,9,  -999.00,9,    100,-999.000,  -999.0, 23.5071
     32MW084_1,  PRS2,     2, 14,     14,     14,2,19970605,0558, 22.7272,-158.0687, 4740,    100.1,  23.5239,  34.9605,2,  34.9605,2,    207.4,1,   -999.0,9,  -999.00,9,  -999.00,9,  -999.00,9,    100,-999.000,  -999.0, 23.5032
     32MW084_1,  PRS2,     2, 14,     13,     13,2,19970605,0558, 22.7272,-158.0687, 4740,    120.0,  22.5317,  35.0225,2,  35.0275,2,    208.5,1,   -999.0,9,  -999.00,9,  -999.00,9,  -999.00,9,    121,-999.000,  -999.0, 22.5075
     32MW084_1,  PRS2,     2, 14,     12,     12,2,19970605,0558, 22.7272,-158.0687, 4740,    124.2,  22.1375,  35.0357,2,  35.0440,2,    202.7,1,   -999.0,9,  -999.00,9,  -999.00,9,  -999.00,9,    125,-999.000,  -999.0, 22.1128
     32MW084_1,  PRS2,     2, 14,      5,     38,2,19970605,0558, 22.7272,-158.0687, 4740,    140.4,  21.2548,  35.0338,2,  35.0355,2,    191.4,1,   -999.0,9,  -999.00,9,  -999.00,9,  -999.00,9,    141,-999.000,  -999.0, 21.2277
     32MW084_1,  PRS2,     2, 14,      6,      7,2,19970605,0558, 22.7272,-158.0687, 4740,    140.5,  21.2572,  35.0325,2,  35.0341,2,    191.6,1,   -999.0,9,  -999.00,9,  -999.00,9,  -999.00,9,    141,-999.000,  -999.0, 21.2301
     32MW084_1,  PRS2,     2, 14,     10,     32,2,19970605,0558, 22.7272,-158.0687, 4740,    140.6,  21.2626,  35.0324,2,  35.0367,2,    192.0,1,   -999.0,9,  -999.00,9,  -999.00,9,  -999.00,9,    140,-999.000,  -999.0, 21.2355
     32MW084_1,  PRS2,     2, 14,      8,     29,2,19970605,0558, 22.7272,-158.0687, 4740,    140.6,  21.2604,  35.0322,2,  35.0337,2,    191.9,1,   -999.0,9,  -999.00,9,  -999.00,9,  -999.00,9,    141,-999.000,  -999.0, 21.2333
     32MW084_1,  PRS2,     2, 14,     11,     11,2,19970605,0558, 22.7272,-158.0687, 4740,    140.7,  21.2642,  35.0324,2,  35.0335,2,    192.0,1,   -999.0,9,  -999.00,9,  -999.00,9,  -999.00,9,    142,-999.000,  -999.0, 21.2370
     32MW084_1,  PRS2,     2, 14,      9,      3,2,19970605,0558, 22.7272,-158.0687, 4740,    140.7,  21.2614,  35.0324,2,  35.0334,2,    192.0,1,   -999.0,9,  -999.00,9,  -999.00,9,  -999.00,9,    141,-999.000,  -999.0, 21.2343
     32MW084_1,  PRS2,     2, 14,      7,     28,2,19970605,0558, 22.7272,-158.0687, 4740,    140.7,  21.2580,  35.0325,2,  35.0331,2,    191.8,1,   -999.0,9,  -999.00,9,  -999.00,9,  -999.00,9,    141,-999.000,  -999.0, 21.2308
     32MW084_1,  PRS2,     2, 14,      4,     36,2,19970605,0558, 22.7272,-158.0687, 4740,    149.9,  20.5023,  35.0359,2,  35.0343,2,    189.6,1,   -999.0,9,  -999.00,9,  -999.00,9,  -999.00,9,    150,-999.000,  -999.0, 20.4741
     32MW084_1,  PRS2,     2, 14,      3,     35,2,19970605,0558, 22.7272,-158.0687, 4740,    175.0,  19.2850,  34.9925,2,  34.9942,2,    190.3,1,   -999.0,9,  -999.00,9,  -999.00,9,  -999.00,9,    175,-999.000,  -999.0, 19.2535
     32MW084_1,  PRS2,     2, 14,      2,     34,2,19970605,0558, 22.7272,-158.0687, 4740,    500.0,   7.6511,  34.0598,2,  34.0604,2,    137.2,1,   -999.0,9,  -999.00,9,  -999.00,9,  -999.00,9,    501,-999.000,  -999.0,  7.6015
     32MW084_1,  PRS2,     2, 14,      1,     33,2,19970605,0558, 22.7272,-158.0687, 4740,   1019.0,   4.1447,  34.4875,2,  34.4897,2,     38.8,1,   -999.0,9,  -999.00,9,  -999.00,9,  -999.00,9,   1019,-999.000,  -999.0,  4.0664
     32MW084_1,  PRS2,     8,  1,     15,     15,2,19970606,0219, 22.4742,-158.1473, 4810,      5.4,  25.2669,  34.9144,2,  34.9336,4,    207.2,3,    208.0,2,  -999.00,9,  -999.00,9,  -999.00,9,      6,-999.000,  -999.0, 25.2657
     32MW084_1,  PRS2,     8,  1,     14,     14,2,19970606,0219, 22.4742,-158.1473, 4810,     24.2,  25.1767,  34.9078,2,  34.9085,2,    209.2,2,   -999.0,5,  -999.00,9,  -999.00,9,  -999.00,9,     24,-999.000,  -999.0, 25.1714
     32MW084_1,  PRS2,     8,  1,     13,     13,2,19970606,0219, 22.4742,-158.1473, 4810,     45.2,  24.7560,  34.9328,2,  34.9317,2,    212.3,2,    211.3,2,  -999.00,9,  -999.00,9,  -999.00,9,     45,-999.000,  -999.0, 24.7462
     32MW084_1,  PRS2,     8,  1,     12,     12,2,19970606,0219, 22.4742,-158.1473, 4810,     75.5,  24.3831,  34.9516,2,  34.9492,2,    214.4,2,   -999.0,5,  -999.00,9,  -999.00,9,  -999.00,9,     75,-999.000,  -999.0, 24.3670
     32MW084_1,  PRS2,     8,  1,     11,     11,2,19970606,0219, 22.4742,-158.1473, 4810,     99.6,  22.7051,  35.0243,2,  35.0255,2,    214.1,2,   -999.0,5,  -999.00,9,  -999.00,9,  -999.00,9,    100,-999.000,  -999.0, 22.6850
     32MW084_1,  PRS2,     8,  1,     10,     32,2,19970606,0219, 22.4742,-158.1473, 4810,    124.5,  21.6635,  35.0572,2,  35.0601,2,    210.1,2,    210.4,2,  -999.00,9,  -999.00,9,  -999.00,9,    125,-999.000,  -999.0, 21.6391
     32MW084_1,  PRS2,     8,  1,      9,      3,2,19970606,0219, 22.4742,-158.1473, 4810,    149.4,  20.4124,  35.0697,2,  35.0697,2,    217.1,2,   -999.0,5,  -999.00,9,  -999.00,9,  -999.00,9,    150,-999.000,  -999.0, 20.3844
     32MW084_1,  PRS2,     8,  1,      8,     29,2,19970606,0219, 22.4742,-158.1473, 4810,    174.7,  18.9834,  34.9763,2,  34.9738,2,    195.6,2,    195.7,2,  -999.00,9,  -999.00,9,  -999.00,9,    176,-999.000,  -999.0, 18.9523
     32MW084_1,  PRS2,     8,  1,      7,     28,2,19970606,0219, 22.4742,-158.1473, 4810,    250.5,  15.5905,  34.6376,2,  34.6311,2,    202.9,2,    202.7,2,  -999.00,9,  -999.00,9,  -999.00,9,    251,-999.000,  -999.0, 15.5516
     32MW084_1,  PRS2,     8,  1,      6,      7,2,19970606,0219, 22.4742,-158.1473, 4810,    511.0,   7.4377,  34.0489,2,  34.0496,2,    146.3,2,   -999.0,5,  -999.00,9,  -999.00,9,  -999.00,9,    511,-999.000,  -999.0,  7.3879
     32MW084_1,  PRS2,     8,  1,      5,     38,2,19970606,0219, 22.4742,-158.1473, 4810,    760.2,   4.9093,  34.3068,2,  34.3066,2,     25.5,2,     25.1,2,  -999.00,9,  -999.00,9,  -999.00,9,    761,-999.000,  -999.0,  4.8481
     32MW084_1,  PRS2,     8,  1,      4,     36,2,19970606,0219, 22.4742,-158.1473, 4810,   1026.6,   4.0480,  34.4913,2,  34.4924,2,     38.8,2,   -999.0,5,  -999.00,9,  -999.00,9,  -999.00,9,   1026,-999.000,  -999.0,  3.9698
     32MW084_1,  PRS2,     8,  1,      3,     35,2,19970606,0219, 22.4742,-158.1473, 4810,   1027.7,   4.0390,  34.4924,2,  34.4930,2,     38.9,2,   -999.0,5,  -999.00,9,  -999.00,9,  -999.00,9,   1028,-999.000,  -999.0,  3.9608
     32MW084_1,  PRS2,     8,  1,      2,     34,2,19970606,0219, 22.4742,-158.1473, 4810,   1028.1,   4.0347,  34.4928,2,  34.4946,2,     38.9,2,   -999.0,5,  -999.00,9,  -999.00,9,  -999.00,9,   1029,-999.000,  -999.0,  3.9564
     32MW084_1,  PRS2,     8,  1,      1,     33,2,19970606,0219, 22.4742,-158.1473, 4810,   1028.8,   4.0301,  34.4932,2,  34.4937,2,     39.1,2,     39.4,2,  -999.00,9,  -999.00,9,  -999.00,9,   1028,-999.000,  -999.0,  3.9518