BOTTLE,20211202JOAExport
EXPOCODE,SECT_ID,STNNBR,CASTNO,SAMPNO,BTLNBR,BTLNBR_FLAG_W,DATE,TIME,LATITUDE,LONGITUDE,DEPTH,CTDPRS,CTDTMP,CTDSAL,CTDSAL_FLAG_W,SALNTY,SALNTY_FLAG_W,CTDOXY,CTDOXY_FLAG_W,OXYGEN,OXYGEN_FLAG_W,SILCAT,SILCAT_FLAG_W,NITRAT,NITRAT_FLAG_W,NITRIT,NITRIT_FLAG_W,PHSPHT,PHSPHT_FLAG_W,CFC-11,CFC-11_FLAG_W,CFC-12,CFC-12_FLAG_W,SF6,SF6_FLAG_W,TCARBN,TCARBN_FLAG_W,ALKALI,ALKALI_FLAG_W
,,,,,,,,,,,,DB,ITS-90,PSS-78,,PSS-78,,UMOL/KG,,UMOL/KG,,UMOL/KG,,UMOL/KG,,UMOL/KG,,UMOL/KG,,PMOL/KG,,PMOL/KG,,FMOL/KG,,UMOL/KG,,UMOL/KG
           NA,    PR02,   2392,   1,      99,      99,  2,20090502,1919,   8.9925,  136.9895,  3658,    0.000,  29.1532,  33.9813,2, -999.000,9, -999.000,9,  198.000,2,     1.15,2,     0.00,2,     0.00,2,     0.03,2, -999.000,9, -999.000,9, -999.000,9, -999.000,9, -999.000,9
           NA,    PR02,   2392,   1,      23,   19380,  2,20090502,1919,   8.9925,  136.9895,  3658,   11.300,  29.1508,  33.9814,2, -999.000,9, -999.000,9,  198.000,2,     1.12,2,     0.00,2,     0.00,2,     0.03,2, -999.000,9, -999.000,9, -999.000,9, -999.000,9, -999.000,9
           NA,    PR02,   2392,   1,      22,   16028,  2,20090502,1919,   8.9925,  136.9895,  3658,   26.200,  29.1553,  33.9811,2, -999.000,9, -999.000,9,  197.000,2,     1.11,2,     0.00,2,     0.00,2,     0.03,2, -999.000,9, -999.000,9, -999.000,9, -999.000,9, -999.000,9
           NA,    PR02,   2392,   1,      21,   16027,  2,20090502,1919,   8.9925,  136.9895,  3658,   51.200,  28.9567,  34.2977,2, -999.000,9, -999.000,9,  196.000,2,     1.12,2,     0.00,2,     0.00,2,     0.06,2, -999.000,9, -999.000,9, -999.000,9, -999.000,9, -999.000,9
           NA,    PR02,   2392,   1,      20,   16026,  2,20090502,1919,   8.9925,  136.9895,  3658,   75.900,  27.7549,  34.5701,2, -999.000,9, -999.000,9,  189.000,2,     1.48,2,     0.26,2,     0.04,2,     0.13,2, -999.000,9, -999.000,9, -999.000,9, -999.000,9, -999.000,9
           NA,    PR02,   2392,   1,      19,   19378,  2,20090502,1919,   8.9925,  136.9895,  3658,  103.000,  26.4547,  34.7200,2, -999.000,9, -999.000,9,  176.000,2,     2.26,2,     1.75,2,     0.15,2,     0.24,2, -999.000,9, -999.000,9, -999.000,9, -999.000,9, -999.000,9
           NA,    PR02,   2392,   1,      18,   19377,  2,20090502,1919,   8.9925,  136.9895,  3658,  126.600,  23.6106,  34.7794,2, -999.000,9, -999.000,9,  159.000,2,     3.60,2,     3.70,2,     0.10,2,     0.39,2, -999.000,9, -999.000,9, -999.000,9, -999.000,9, -999.000,9
           NA,    PR02,   2392,   1,      17,   16023,  2,20090502,1919,   8.9925,  136.9895,  3658,  151.700,  20.1930,  34.7343,2, -999.000,9, -999.000,9,  147.000,2,     7.01,2,     8.58,2,     0.02,2,     0.67,2, -999.000,9, -999.000,9, -999.000,9, -999.000,9, -999.000,9
           NA,    PR02,   2392,   1,      15,   16021,  2,20090502,1919,   8.9925,  136.9895,  3658,  202.800,  13.4501,  34.5457,2, -999.000,9, -999.000,9,  111.000,2,    19.54,2,    20.50,2,     0.00,2,     1.48,2, -999.000,9, -999.000,9, -999.000,9, -999.000,9, -999.000,9
           NA,    PR02,   2392,   1,      16,   16022,  2,20090502,1919,   8.9925,  136.9895,  3658,  203.000,  13.4560,  34.5460,2, -999.000,9, -999.000,9,  111.000,2,    19.71,2,    20.40,2,     0.00,2,     1.49,2, -999.000,9, -999.000,9, -999.000,9, -999.000,9, -999.000,9
           NA,    PR02,   2392,   1,      14,   16020,  2,20090502,1919,   8.9925,  136.9895,  3658,  253.300,  10.7927,  34.5060,2, -999.000,9, -999.000,9,   86.000,2,    29.90,2,    27.30,2,     0.00,2,     1.95,2, -999.000,9, -999.000,9, -999.000,9, -999.000,9, -999.000,9
           NA,    PR02,   2392,   1,      13,   16019,  2,20090502,1919,   8.9925,  136.9895,  3658,  302.600,   9.4130,  34.5301,2, -999.000,9, -999.000,9,   73.000,2,    36.65,2,    31.50,2,     0.00,2,     2.22,2, -999.000,9, -999.000,9, -999.000,9, -999.000,9, -999.000,9
           NA,    PR02,   2392,   1,      12,   16018,  2,20090502,1919,   8.9925,  136.9895,  3658,  405.400,   8.3536,  34.5491,2, -999.000,9, -999.000,9,   74.000,2,    41.74,2,    33.50,2,     0.00,2,     2.36,2, -999.000,9, -999.000,9, -999.000,9, -999.000,9, -999.000,9
           NA,    PR02,   2392,   1,      11,   19376,  2,20090502,1919,   8.9925,  136.9895,  3658,  504.700,   7.8062,  34.5469,2, -999.000,9, -999.000,9,   77.000,2,    45.00,2,    34.40,2,     0.00,2,     2.42,2, -999.000,9, -999.000,9, -999.000,9, -999.000,9, -999.000,9
           NA,    PR02,   2392,   1,      10,   19375,  2,20090502,1919,   8.9925,  136.9895,  3658,  605.900,   7.0457,  34.5322,2, -999.000,9, -999.000,9,   85.000,2,    51.43,2,    35.30,2,     0.00,2,     2.49,2, -999.000,9, -999.000,9, -999.000,9, -999.000,9, -999.000,9
           NA,    PR02,   2392,   1,       9,   16015,  2,20090502,1919,   8.9925,  136.9895,  3658,  705.600,   6.3817,  34.5189,2, -999.000,9, -999.000,9,   86.000,2,    59.02,2,    36.20,2,     0.00,2,     2.56,2, -999.000,9, -999.000,9, -999.000,9, -999.000,9, -999.000,9
           NA,    PR02,   2392,   1,       8,   16014,  2,20090502,1919,   8.9925,  136.9895,  3658,  806.200,   5.7524,  34.5245,2, -999.000,9, -999.000,9,   85.000,2,    68.46,2,    37.20,2,     0.00,2,     2.64,2, -999.000,9, -999.000,9, -999.000,9, -999.000,9, -999.000,9
           NA,    PR02,   2392,   1,       7,   19374,  2,20090502,1919,   8.9925,  136.9895,  3658,  907.600,   5.2200,  34.5357,2, -999.000,9, -999.000,9,   85.000,2,    77.69,2,    38.00,2,     0.00,2,     2.70,2, -999.000,9, -999.000,9, -999.000,9, -999.000,9, -999.000,9
           NA,    PR02,   2392,   1,       5,   16011,  2,20090502,1919,   8.9925,  136.9895,  3658, 1009.500,   4.5881,  34.5469,2, -999.000,9, -999.000,9,   88.000,2,    89.67,2,    38.60,2,     0.00,2,     2.74,2, -999.000,9, -999.000,9, -999.000,9, -999.000,9, -999.000,9
           NA,    PR02,   2392,   1,       6,   19373,  2,20090502,1919,   8.9925,  136.9895,  3658, 1009.900,   4.5882,  34.5470,2, -999.000,9, -999.000,9,   87.000,2,    89.17,2,    38.60,2,     0.00,2,     2.74,2, -999.000,9, -999.000,9, -999.000,9, -999.000,9, -999.000,9
           NA,    PR02,   2392,   1,       4,   16010,  2,20090502,1919,   8.9925,  136.9895,  3658, 1262.300,   3.6876,  34.5715,2, -999.000,9, -999.000,9,   94.000,2,   107.19,2,    39.00,2,     0.00,2,     2.77,2, -999.000,9, -999.000,9, -999.000,9, -999.000,9, -999.000,9
           NA,    PR02,   2392,   1,       3,   16009,  2,20090502,1919,   8.9925,  136.9895,  3658, 1514.200,   3.0181,  34.5972,2, -999.000,9, -999.000,9,  101.000,2,   119.76,2,    39.10,2,     0.00,2,     2.77,2, -999.000,9, -999.000,9, -999.000,9, -999.000,9, -999.000,9
           NA,    PR02,   2392,   1,       2,   16008,  2,20090502,1919,   8.9925,  136.9895,  3658, 1768.100,   2.6268,  34.6139,2, -999.000,9, -999.000,9,  107.000,2,   127.69,2,    38.90,2,     0.00,2,     2.74,2, -999.000,9, -999.000,9, -999.000,9, -999.000,9, -999.000,9
           NA,    PR02,   2392,   1,       1,   16007,  2,20090502,1919,   8.9925,  136.9895,  3658, 2032.100,   2.2333,  34.6325,2, -999.000,9, -999.000,9,  118.000,2,   134.43,2,    38.50,2,     0.00,2,     2.69,2, -999.000,9, -999.000,9, -999.000,9, -999.000,9, -999.000,9
           NA,    PR02,   2391,   1,      99,      99,  2,20090502,1233,  10.0077,  137.0222,  4755,    0.000,  29.3075,  34.1158,2, -999.000,9, -999.000,9,  198.000,2,     1.25,2,     0.00,2,     0.00,2,     0.03,2, -999.000,9, -999.000,9, -999.000,9, -999.000,9, -999.000,9
           NA,    PR02,   2391,   1,      23,   19380,  2,20090502,1233,  10.0077,  137.0222,  4755,   11.500,  29.3094,  34.1149,2,   34.114,2, -999.000,9,  198.000,2,     1.19,2,     0.00,2,     0.00,2,     0.03,2, -999.000,9, -999.000,9, -999.000,9, -999.000,3, -999.000,9
           NA,    PR02,   2391,   1,      22,   16028,  2,20090502,1233,  10.0077,  137.0222,  4755,   25.900,  29.3183,  34.1142,2, -999.000,9, -999.000,9,  198.000,2,     1.22,2,     0.00,2,     0.00,2,     0.03,2, -999.000,9, -999.000,9, -999.000,9, -999.000,3, -999.000,9
           NA,    PR02,   2391,   1,      21,   16027,  2,20090502,1233,  10.0077,  137.0222,  4755,   51.500,  29.3318,  34.1131,2, -999.000,9, -999.000,9,  198.000,2,     1.21,2,     0.00,2,     0.00,2,     0.03,2, -999.000,9, -999.000,9, -999.000,9, -999.000,3, -999.000,9
           NA,    PR02,   2391,   1,      20,   16026,  2,20090502,1233,  10.0077,  137.0222,  4755,   76.200,  29.2802,  34.1230,2, -999.000,9, -999.000,9,  198.000,2,     1.24,2,     0.00,2,     0.00,2,     0.03,2, -999.000,9, -999.000,9, -999.000,9, -999.000,3, -999.000,9
           NA,    PR02,   2391,   1,      19,   19378,  2,20090502,1233,  10.0077,  137.0222,  4755,  102.100,  28.4756,  34.3035,2, -999.000,4, -999.000,9,  200.000,2,     1.00,2,     0.00,2,     0.00,2,     0.04,2, -999.000,9, -999.000,9, -999.000,9, 1912.000,2, -999.000,9
           NA,    PR02,   2391,   1,      18,   19377,  2,20090502,1233,  10.0077,  137.0222,  4755,  127.200,  27.4608,  34.7185,2, -999.000,9, -999.000,9,  194.000,2,     1.21,2,     0.08,2,     0.12,2,     0.11,2, -999.000,9, -999.000,9, -999.000,9, 1957.000,2, -999.000,9
           NA,    PR02,   2391,   1,      17,   16023,  2,20090502,1233,  10.0077,  137.0222,  4755,  154.100,  24.1727,  34.8363,2, -999.000,9, -999.000,9,  169.000,2,     2.94,2,     2.95,2,     0.05,2,     0.33,2, -999.000,9, -999.000,9, -999.000,9, 2021.500,2, -999.000,9
           NA,    PR02,   2391,   1,      16,   16022,  2,20090502,1233,  10.0077,  137.0222,  4755,  204.000,  18.0668,  34.6832,2, -999.000,4, -999.000,9,  140.000,2,     9.33,2,    10.98,2,     0.02,2,     0.84,2, -999.000,9, -999.000,9, -999.000,9, 2092.700,2, -999.000,9
           NA,    PR02,   2391,   1,      15,   16021,  2,20090502,1233,  10.0077,  137.0222,  4755,  253.700,  14.0809,  34.5577,2, -999.000,9, -999.000,9,  119.000,2,    17.19,2,    18.39,2,     0.01,2,     1.33,2, -999.000,9, -999.000,9, -999.000,9, 2138.500,2, -999.000,9
           NA,    PR02,   2391,   1,      13,   16019,  2,20090502,1233,  10.0077,  137.0222,  4755,  304.000,  10.6262,  34.4050,2,   34.403,2, -999.000,9,  108.000,2,    28.35,2,    24.89,2,     0.01,2,     1.79,2, -999.000,9, -999.000,9, -999.000,9, 2179.800,2, -999.000,9
           NA,    PR02,   2391,   1,      14,   16020,  2,20090502,1233,  10.0077,  137.0222,  4755,  304.100,  10.6346,  34.4034,2,   34.402,2, -999.000,9,  109.000,2,    28.52,2,    24.89,2,     0.01,2,     1.79,2, -999.000,9, -999.000,9, -999.000,9, -999.000,9, -999.000,9
           NA,    PR02,   2391,   1,      12,   16018,  2,20090502,1233,  10.0077,  137.0222,  4755,  405.700,   8.4140,  34.4660,2,   34.465,2, -999.000,9,   78.000,2,    43.88,2,    32.49,2,     0.01,2,     2.30,2, -999.000,9, -999.000,9, -999.000,9, 2237.500,2, -999.000,9
           NA,    PR02,   2391,   1,      11,   19376,  2,20090502,1233,  10.0077,  137.0222,  4755,  506.200,   7.6466,  34.5358,2,   34.535,2, -999.000,9,   82.000,2,    45.75,2,    33.99,2,     0.01,2,     2.39,2, -999.000,9, -999.000,9, -999.000,9, 2248.600,2, -999.000,9
           NA,    PR02,   2391,   1,      10,   19375,  2,20090502,1233,  10.0077,  137.0222,  4755,  607.000,   6.9313,  34.5239,2,   34.524,2, -999.000,9,   91.000,2,    51.25,2,    34.69,2,     0.01,2,     2.45,2, -999.000,9, -999.000,9, -999.000,9, 2252.700,2, -999.000,9
           NA,    PR02,   2391,   1,       9,   16015,  2,20090502,1233,  10.0077,  137.0222,  4755,  708.000,   6.2732,  34.5108,2, -999.000,4, -999.000,9,   89.000,2,    60.15,2,    35.89,2,     0.01,2,     2.54,2, -999.000,9, -999.000,9, -999.000,9, 2263.700,2, -999.000,9
           NA,    PR02,   2391,   1,       8,   16014,  2,20090502,1233,  10.0077,  137.0222,  4755,  808.100,   5.7147,  34.5212,2,   34.521,2, -999.000,9,   89.000,2,    68.72,2,    36.99,2,     0.01,2,     2.62,2, -999.000,9, -999.000,9, -999.000,9, 2277.200,2, -999.000,9
           NA,    PR02,   2391,   1,       7,   19374,  2,20090502,1233,  10.0077,  137.0222,  4755,  909.800,   5.2066,  34.5297,2,   34.529,2, -999.000,9,   87.000,2,    78.00,2,    37.60,2,     0.00,2,     2.68,2, -999.000,9, -999.000,9, -999.000,9, 2278.900,2, -999.000,9
           NA,    PR02,   2391,   1,       6,   19373,  2,20090502,1233,  10.0077,  137.0222,  4755, 1012.000,   4.6850,  34.5414,2,   34.541,2, -999.000,9,   87.000,2,    88.26,2,    38.40,2,     0.00,2,     2.73,2, -999.000,9, -999.000,9, -999.000,9, 2295.000,2, -999.000,9
           NA,    PR02,   2391,   1,       4,   16010,  2,20090502,1233,  10.0077,  137.0222,  4755, 1264.700,   3.6097,  34.5731,2,   34.573,2, -999.000,9,   93.000,2,   109.10,2,    39.00,2,     0.00,2,     2.76,2, -999.000,9, -999.000,9, -999.000,9, 2314.400,2, -999.000,9
           NA,    PR02,   2391,   1,       5,   16011,  2,20090502,1233,  10.0077,  137.0222,  4755, 1265.100,   3.6086,  34.5733,2,   34.573,2, -999.000,9,   94.000,2,   109.55,2,    38.90,2,     0.00,2,     2.77,2, -999.000,9, -999.000,9, -999.000,9, -999.000,9, -999.000,9
           NA,    PR02,   2391,   1,       3,   16009,  2,20090502,1233,  10.0077,  137.0222,  4755, 1516.100,   3.0334,  34.5928,2,   34.593,2, -999.000,9,  100.000,2,   120.82,2,    38.90,2,     0.00,2,     2.75,2, -999.000,9, -999.000,9, -999.000,9, 2325.900,2, -999.000,9
           NA,    PR02,   2391,   1,       2,   16008,  2,20090502,1233,  10.0077,  137.0222,  4755, 1769.300,   2.5619,  34.6147,2,   34.615,2, -999.000,9,  108.000,2,   129.30,2,    38.80,2,     0.00,2,     2.73,2, -999.000,9, -999.000,9, -999.000,9, 2335.900,6, -999.000,9
           NA,    PR02,   2391,   1,       1,   16007,  2,20090502,1233,  10.0077,  137.0222,  4755, 2024.900,   2.2114,  34.6312,2,   34.632,2, -999.000,9,  115.000,2,   136.08,2,    38.60,2,     0.00,2,     2.69,2, -999.000,9, -999.000,9, -999.000,9, 2341.300,2, -999.000,9