BOTTLE,20211202JOAExport
EXPOCODE,SECT_ID,STNNBR,CASTNO,SAMPNO,BTLNBR,BTLNBR_FLAG_W,DATE,TIME,LATITUDE,LONGITUDE,DEPTH,CTDPRS,CTDTMP,CTDSAL,CTDSAL_FLAG_W,SALNTY,SALNTY_FLAG_W,CTDOXY,CTDOXY_FLAG_W,OXYGEN,OXYGEN_FLAG_W,SILCAT,SILCAT_FLAG_W,NITRAT,NITRAT_FLAG_W,NITRIT,NITRIT_FLAG_W,PHSPHT,PHSPHT_FLAG_W,CFC-11,CFC-11_FLAG_W,CFC-12,CFC-12_FLAG_W,SF6,SF6_FLAG_W,TCARBN,TCARBN_FLAG_W,ALKALI,ALKALI_FLAG_W
,,,,,,,,,,,,DB,ITS-90,PSS-78,,PSS-78,,UMOL/KG,,UMOL/KG,,UMOL/KG,,UMOL/KG,,UMOL/KG,,UMOL/KG,,PMOL/KG,,PMOL/KG,,FMOL/KG,,UMOL/KG,,UMOL/KG
           NA,    PR02,   2396,   1,      99,      99,  2,20090503,2124,   5.0015,  137.0117,  5156,    0.000,  29.6537,  34.2109,2, -999.000,9, -999.000,9,  198.000,2,     1.40,2,     0.00,2,     0.00,2,     0.05,2, -999.000,9, -999.000,9, -999.000,9, -999.000,9, -999.000,9
           NA,    PR02,   2396,   1,      23,   19380,  2,20090503,2124,   5.0015,  137.0117,  5156,   10.700,  29.6544,  34.2127,2,   34.212,2, -999.000,9,  197.000,2,     1.35,2,     0.00,2,     0.00,2,     0.05,2, -999.000,9, -999.000,9, -999.000,9, 1907.900,2, -999.000,9
           NA,    PR02,   2396,   1,      22,   16028,  2,20090503,2124,   5.0015,  137.0117,  5156,   25.100,  29.6492,  34.2207,2, -999.000,9, -999.000,9,  197.000,2,     1.34,2,     0.00,2,     0.00,2,     0.05,2, -999.000,9, -999.000,9, -999.000,9, 1903.200,2, -999.000,9
           NA,    PR02,   2396,   1,      21,   16027,  2,20090503,2124,   5.0015,  137.0117,  5156,   50.500,  29.7193,  34.7735,2, -999.000,9, -999.000,9,  200.000,2,     1.13,2,     0.00,2,     0.00,2,     0.10,2, -999.000,9, -999.000,9, -999.000,9, 1934.700,2, -999.000,9
           NA,    PR02,   2396,   1,      20,   16026,  2,20090503,2124,   5.0015,  137.0117,  5156,   76.000,  29.1117,  34.8737,2, -999.000,9, -999.000,9,  196.000,2,     1.32,2,    -0.02,2,     0.02,2,     0.14,2, -999.000,9, -999.000,9, -999.000,9, 1951.400,2, -999.000,9
           NA,    PR02,   2396,   1,      19,   19378,  2,20090503,2124,   5.0015,  137.0117,  5156,  100.900,  28.2256,  35.2680,2,   35.271,2, -999.000,9,  176.000,2,     1.91,2,     2.77,2,     0.63,2,     0.39,2, -999.000,9, -999.000,9, -999.000,9, -999.000,9, -999.000,9
           NA,    PR02,   2396,   1,      18,   19377,  2,20090503,2124,   5.0015,  137.0117,  5156,  100.900,  28.2241,  35.2679,2,   35.271,2, -999.000,9,  176.000,2,     1.91,2,     2.67,2,     0.63,2,     0.38,2, -999.000,9, -999.000,9, -999.000,9, 2003.000,2, -999.000,9
           NA,    PR02,   2396,   1,      17,   16023,  2,20090503,2124,   5.0015,  137.0117,  5156,  125.400,  26.2521,  35.0371,2, -999.000,9, -999.000,9,  154.000,2,     4.39,2,     6.37,2,     0.03,2,     0.53,2, -999.000,9, -999.000,9, -999.000,9, 2028.400,2, -999.000,9
           NA,    PR02,   2396,   1,      16,   16022,  2,20090503,2124,   5.0015,  137.0117,  5156,  151.000,  23.4019,  34.9537,2, -999.000,9, -999.000,9,  152.000,2,     5.41,2,     6.78,2,     0.02,2,     0.56,2, -999.000,9, -999.000,9, -999.000,9, 2040.200,2, -999.000,9
           NA,    PR02,   2396,   1,      15,   16021,  2,20090503,2124,   5.0015,  137.0117,  5156,  202.700,  16.7895,  34.6570,2, -999.000,4, -999.000,9,  148.000,2,    10.66,2,    11.19,2,     0.01,2,     0.85,2, -999.000,9, -999.000,9, -999.000,9, 2086.400,2, -999.000,9
           NA,    PR02,   2396,   1,      14,   16020,  2,20090503,2124,   5.0015,  137.0117,  5156,  252.300,  11.4346,  34.5554,2, -999.000,9, -999.000,9,   75.000,2,    27.61,2,    27.60,2,     0.00,2,     1.96,2, -999.000,9, -999.000,9, -999.000,9, -999.000,3, -999.000,9
           NA,    PR02,   2396,   1,      13,   16019,  2,20090503,2124,   5.0015,  137.0117,  5156,  303.000,   9.7895,  34.5905,2,   34.589,2, -999.000,9,   56.000,2,    34.47,2,    32.60,2,     0.00,2,     2.30,2, -999.000,9, -999.000,9, -999.000,9, -999.000,3, -999.000,9
           NA,    PR02,   2396,   1,      12,   16018,  2,20090503,2124,   5.0015,  137.0117,  5156,  403.100,   8.2821,  34.5822,2,   34.581,2, -999.000,9,   68.000,2,    41.00,2,    34.40,2,     0.00,2,     2.41,2, -999.000,9, -999.000,9, -999.000,9, -999.000,3, -999.000,9
           NA,    PR02,   2396,   1,      11,   19376,  2,20090503,2124,   5.0015,  137.0117,  5156,  503.200,   7.2683,  34.5513,2,   34.551,2, -999.000,9,  119.000,2,    41.37,2,    31.80,2,     0.00,2,     2.23,2, -999.000,9, -999.000,9, -999.000,9, -999.000,3, -999.000,9
           NA,    PR02,   2396,   1,       9,   16015,  2,20090503,2124,   5.0015,  137.0117,  5156,  604.200,   6.8568,  34.5433,2,   34.543,2, -999.000,9,  111.000,2,    46.43,2,    33.40,2,     0.00,2,     2.35,2, -999.000,9, -999.000,9, -999.000,9, -999.000,3, -999.000,9
           NA,    PR02,   2396,   1,      10,   19375,  2,20090503,2124,   5.0015,  137.0117,  5156,  604.400,   6.8558,  34.5435,2,   34.543,2, -999.000,9,  110.000,2,    46.33,2,    33.60,2,     0.00,2,     2.35,2, -999.000,9, -999.000,9, -999.000,9, -999.000,9, -999.000,9
           NA,    PR02,   2396,   1,       8,   16014,  2,20090503,2124,   5.0015,  137.0117,  5156,  704.900,   6.1246,  34.5294,2,   34.529,2, -999.000,9,  123.000,2,    52.68,2,    33.60,2,     0.00,2,     2.37,2, -999.000,9, -999.000,9, -999.000,9, -999.000,3, -999.000,9
           NA,    PR02,   2396,   1,       7,   19374,  2,20090503,2124,   5.0015,  137.0117,  5156,  806.000,   5.5067,  34.5328,2,   34.532,2, -999.000,9,  103.000,2,    67.61,2,    36.20,2,     0.00,2,     2.55,2, -999.000,9, -999.000,9, -999.000,9, -999.000,3, -999.000,9
           NA,    PR02,   2396,   1,       6,   19373,  2,20090503,2124,   5.0015,  137.0117,  5156,  906.900,   4.9940,  34.5406,2,   34.540,2, -999.000,9,  103.000,2,    76.76,2,    36.90,2,     0.00,2,     2.60,2, -999.000,9, -999.000,9, -999.000,9, -999.000,3, -999.000,9
           NA,    PR02,   2396,   1,       5,   16011,  2,20090503,2124,   5.0015,  137.0117,  5156, 1008.100,   4.5422,  34.5536,2,   34.552,2, -999.000,9,   97.000,2,    88.03,2,    37.80,2,     0.00,2,     2.68,2, -999.000,9, -999.000,9, -999.000,9, -999.000,3, -999.000,9
           NA,    PR02,   2396,   1,       4,   16010,  2,20090503,2124,   5.0015,  137.0117,  5156, 1261.100,   3.5719,  34.5782,2,   34.576,2, -999.000,9,   95.000,2,   109.18,2,    39.10,2,     0.00,2,     2.77,2, -999.000,9, -999.000,9, -999.000,9, -999.000,3, -999.000,9
           NA,    PR02,   2396,   1,       3,   16009,  2,20090503,2124,   5.0015,  137.0117,  5156, 1514.400,   2.9297,  34.6027,2,   34.602,2, -999.000,9,  106.000,2,   119.77,2,    38.80,2,     0.00,2,     2.74,2, -999.000,9, -999.000,9, -999.000,9, -999.000,3, -999.000,9
           NA,    PR02,   2396,   1,       2,   16008,  2,20090503,2124,   5.0015,  137.0117,  5156, 1767.700,   2.5147,  34.6205,2,   34.620,2, -999.000,9,  109.000,2,   129.92,2,    38.90,2,     0.00,2,     2.73,2, -999.000,9, -999.000,9, -999.000,9, -999.000,3, -999.000,9
           NA,    PR02,   2396,   1,       1,   16007,  2,20090503,2124,   5.0015,  137.0117,  5156, 2033.100,   2.1466,  34.6387,2,   34.639,2, -999.000,9,  119.000,2,   136.02,2,    38.40,2,     0.00,2,     2.69,2, -999.000,9, -999.000,9, -999.000,9, -999.000,3, -999.000,9
           NA,    PR02,   2395,   1,      99,      99,  2,20090503,1511,   5.9875,  137.0135,  4403,    0.000,  29.1151,  33.7691,2, -999.000,9, -999.000,9,  199.000,2,     1.30,2,     0.00,2,     0.00,2,     0.00,2, -999.000,9, -999.000,9, -999.000,9, -999.000,9, -999.000,9
           NA,    PR02,   2395,   1,      23,   19380,  2,20090503,1511,   5.9875,  137.0135,  4403,   10.700,  29.1350,  33.7878,2, -999.000,9, -999.000,9,  200.000,2,     1.29,2,     0.00,2,     0.00,2,     0.00,2, -999.000,9, -999.000,9, -999.000,9, -999.000,9, -999.000,9
           NA,    PR02,   2395,   1,      22,   16028,  2,20090503,1511,   5.9875,  137.0135,  4403,   26.400,  29.1161,  33.8883,2, -999.000,9, -999.000,9,  199.000,2,     1.29,2,     0.00,2,     0.00,2,     0.00,2, -999.000,9, -999.000,9, -999.000,9, -999.000,9, -999.000,9
           NA,    PR02,   2395,   1,      21,   16027,  2,20090503,1511,   5.9875,  137.0135,  4403,   51.200,  28.6717,  34.3615,2, -999.000,9, -999.000,9,  199.000,2,     1.38,2,     0.00,2,     0.00,2,     0.06,2, -999.000,9, -999.000,9, -999.000,9, -999.000,9, -999.000,9
           NA,    PR02,   2395,   1,      20,   16026,  2,20090503,1511,   5.9875,  137.0135,  4403,   74.500,  27.0769,  34.7005,2, -999.000,9, -999.000,9,  187.000,2,     1.70,2,     0.01,2,     0.09,2,     0.14,2, -999.000,9, -999.000,9, -999.000,9, -999.000,9, -999.000,9
           NA,    PR02,   2395,   1,      19,   19378,  2,20090503,1511,   5.9875,  137.0135,  4403,  100.900,  23.5159,  34.8299,2, -999.000,9, -999.000,9,  162.000,2,     3.71,2,     3.86,2,     0.04,2,     0.40,2, -999.000,9, -999.000,9, -999.000,9, -999.000,9, -999.000,9
           NA,    PR02,   2395,   1,      18,   19377,  2,20090503,1511,   5.9875,  137.0135,  4403,  101.200,  23.5006,  34.8261,2, -999.000,9, -999.000,9,  161.000,2,     3.84,2,     4.06,2,     0.04,2,     0.40,2, -999.000,9, -999.000,9, -999.000,9, -999.000,9, -999.000,9
           NA,    PR02,   2395,   1,      17,   16023,  2,20090503,1511,   5.9875,  137.0135,  4403,  127.500,  19.0678,  34.7183,2, -999.000,9, -999.000,9,  143.000,2,     7.90,2,     9.58,2,     0.02,2,     0.74,2, -999.000,9, -999.000,9, -999.000,9, -999.000,9, -999.000,9
           NA,    PR02,   2395,   1,      16,   16022,  2,20090503,1511,   5.9875,  137.0135,  4403,  153.000,  16.1515,  34.6336,2, -999.000,9, -999.000,9,  130.000,2,    13.02,2,    14.60,2,     0.00,2,     1.07,2, -999.000,9, -999.000,9, -999.000,9, -999.000,9, -999.000,9
           NA,    PR02,   2395,   1,      15,   16021,  2,20090503,1511,   5.9875,  137.0135,  4403,  201.800,  12.0663,  34.5422,2, -999.000,9, -999.000,9,   89.000,2,    24.92,2,    24.90,2,     0.00,2,     1.79,2, -999.000,9, -999.000,9, -999.000,9, -999.000,9, -999.000,9
           NA,    PR02,   2395,   1,      14,   16020,  2,20090503,1511,   5.9875,  137.0135,  4403,  252.600,  10.0502,  34.5160,2, -999.000,9, -999.000,9,   80.000,2,    33.44,2,    29.40,2,     0.00,2,     2.09,2, -999.000,9, -999.000,9, -999.000,9, -999.000,9, -999.000,9
           NA,    PR02,   2395,   1,      13,   16019,  2,20090503,1511,   5.9875,  137.0135,  4403,  303.200,   9.3364,  34.5861,2, -999.000,9, -999.000,9,   59.000,2,    36.27,2,    32.90,2,     0.00,2,     2.33,2, -999.000,9, -999.000,9, -999.000,9, -999.000,9, -999.000,9
           NA,    PR02,   2395,   1,      12,   16018,  2,20090503,1511,   5.9875,  137.0135,  4403,  402.500,   8.2717,  34.5842,2, -999.000,9, -999.000,9,   69.000,2,    40.57,2,    34.30,2,     0.00,2,     2.40,2, -999.000,9, -999.000,9, -999.000,9, -999.000,9, -999.000,9
           NA,    PR02,   2395,   1,      11,   19376,  2,20090503,1511,   5.9875,  137.0135,  4403,  504.400,   7.5131,  34.5491,2, -999.000,9, -999.000,9,   93.000,2,    45.92,2,    33.40,2,     0.00,2,     2.37,2, -999.000,9, -999.000,9, -999.000,9, -999.000,9, -999.000,9
           NA,    PR02,   2395,   1,      10,   19375,  2,20090503,1511,   5.9875,  137.0135,  4403,  606.200,   6.8546,  34.5403,2, -999.000,9, -999.000,9,   97.000,2,    49.41,2,    34.60,2,     0.00,2,     2.42,2, -999.000,9, -999.000,9, -999.000,9, -999.000,9, -999.000,9
           NA,    PR02,   2395,   1,       8,   16014,  2,20090503,1511,   5.9875,  137.0135,  4403,  706.200,   6.2283,  34.5298,2, -999.000,9, -999.000,9,   86.000,2,    60.25,2,    36.50,2,     0.00,2,     2.57,2, -999.000,9, -999.000,9, -999.000,9, -999.000,9, -999.000,9
           NA,    PR02,   2395,   1,       9,   16015,  2,20090503,1511,   5.9875,  137.0135,  4403,  707.500,   6.2273,  34.5298,2, -999.000,9, -999.000,9,   87.000,2,    60.38,2,    36.50,2,     0.00,2,     2.57,2, -999.000,9, -999.000,9, -999.000,9, -999.000,9, -999.000,9
           NA,    PR02,   2395,   1,       7,   19374,  2,20090503,1511,   5.9875,  137.0135,  4403,  808.500,   5.5848,  34.5313,2, -999.000,9, -999.000,9,   86.000,2,    70.88,2,    37.40,2,     0.00,2,     2.65,2, -999.000,9, -999.000,9, -999.000,9, -999.000,9, -999.000,9
           NA,    PR02,   2395,   1,       6,   19373,  2,20090503,1511,   5.9875,  137.0135,  4403,  909.700,   4.9467,  34.5416,2, -999.000,9, -999.000,9,   88.000,2,    81.89,2,    38.30,2,     0.00,2,     2.70,2, -999.000,9, -999.000,9, -999.000,9, -999.000,9, -999.000,9
           NA,    PR02,   2395,   1,       5,   16011,  2,20090503,1511,   5.9875,  137.0135,  4403, 1010.200,   4.5182,  34.5515,2, -999.000,9, -999.000,9,   90.000,2,    90.14,2,    38.50,2,     0.00,2,     2.73,2, -999.000,9, -999.000,9, -999.000,9, -999.000,9, -999.000,9
           NA,    PR02,   2395,   1,       4,   16010,  2,20090503,1511,   5.9875,  137.0135,  4403, 1262.800,   3.5236,  34.5802,2, -999.000,9, -999.000,9,   96.000,2,   109.27,2,    38.90,2,     0.00,2,     2.76,2, -999.000,9, -999.000,9, -999.000,9, -999.000,9, -999.000,9
           NA,    PR02,   2395,   1,       3,   16009,  2,20090503,1511,   5.9875,  137.0135,  4403, 1517.300,   2.8570,  34.6047,2, -999.000,9, -999.000,9,  102.000,2,   123.26,2,    39.10,2,     0.00,2,     2.75,2, -999.000,9, -999.000,9, -999.000,9, -999.000,9, -999.000,9
           NA,    PR02,   2395,   1,       2,   16008,  2,20090503,1511,   5.9875,  137.0135,  4403, 1768.100,   2.4602,  34.6226,2, -999.000,9, -999.000,9,  110.000,2,   130.90,2,    38.80,2,     0.00,2,     2.72,2, -999.000,9, -999.000,9, -999.000,9, -999.000,9, -999.000,9
           NA,    PR02,   2395,   1,       1,   16007,  2,20090503,1511,   5.9875,  137.0135,  4403, 2033.700,   2.1429,  34.6396,2, -999.000,9, -999.000,9,  119.000,2,   136.22,2,    38.50,2,     0.00,2,     2.69,2, -999.000,9, -999.000,9, -999.000,9, -999.000,9, -999.000,9