BOTTLE,20211202JOAExport
EXPOCODE,SECT_ID,STNNBR,CASTNO,SAMPNO,BTLNBR,BTLNBR_FLAG_W,DATE,TIME,LATITUDE,LONGITUDE,DEPTH,CTDPRS,CTDTMP,CTDSAL,CTDSAL_FLAG_W,SALNTY,SALNTY_FLAG_W,CTDOXY,CTDOXY_FLAG_W,OXYGEN,OXYGEN_FLAG_W,SILCAT,SILCAT_FLAG_W,NITRAT,NITRAT_FLAG_W,NITRIT,NITRIT_FLAG_W,PHSPHT,PHSPHT_FLAG_W,CFC-11,CFC-11_FLAG_W,CFC-12,CFC-12_FLAG_W,SF6,SF6_FLAG_W,TCARBN,TCARBN_FLAG_W,ALKALI,ALKALI_FLAG_W
,,,,,,,,,,,,DB,ITS-90,PSS-78,,PSS-78,,UMOL/KG,,UMOL/KG,,UMOL/KG,,UMOL/KG,,UMOL/KG,,UMOL/KG,,PMOL/KG,,PMOL/KG,,FMOL/KG,,UMOL/KG,,UMOL/KG
           NA,    PR02,   2383,   1,      99,      99,  2,20090428,1844,  24.9607,  137.0007,  5288,    0.000,  23.1489,  34.6737,2, -999.000,9, -999.000,9,  219.000,2,     1.32,2,     0.00,2,     0.00,2,     0.00,2, -999.000,9, -999.000,9, -999.000,9, -999.000,9, -999.000,9
           NA,    PR02,   2383,   1,      24,   16030,  2,20090428,1844,  24.9607,  137.0007,  5288,   10.200,  23.1553,  34.6764,2,   34.675,2, -999.000,9,  218.000,2,     1.31,2,     0.00,2,     0.00,2,     0.00,2, -999.000,9, -999.000,9, -999.000,9, 1963.800,2, -999.000,9
           NA,    PR02,   2383,   1,      23,   19380,  2,20090428,1844,  24.9607,  137.0007,  5288,   25.900,  23.1640,  34.6773,2, -999.000,9, -999.000,9,  218.000,2,     1.31,2,     0.00,2,     0.00,2,     0.00,2, -999.000,9, -999.000,9, -999.000,9, 1963.700,2, -999.000,9
           NA,    PR02,   2383,   1,      22,   16028,  2,20090428,1844,  24.9607,  137.0007,  5288,   51.100,  21.7875,  34.7192,2, -999.000,9, -999.000,9,  224.000,2,     1.50,2,     0.00,2,     0.00,2,     0.00,2, -999.000,9, -999.000,9, -999.000,9, 1974.200,2, -999.000,9
           NA,    PR02,   2383,   1,      21,   16027,  2,20090428,1844,  24.9607,  137.0007,  5288,   76.400,  20.7942,  34.7271,2, -999.000,9, -999.000,9,  221.000,2,     1.78,2,     0.00,2,     0.00,2,     0.00,2, -999.000,9, -999.000,9, -999.000,9, 1988.800,2, -999.000,9
           NA,    PR02,   2383,   1,      20,   16026,  2,20090428,1844,  24.9607,  137.0007,  5288,  102.600,  19.7354,  34.7765,2,   34.776,2, -999.000,9,  205.000,2,     2.39,2,     1.69,2,     0.11,2,     0.11,2, -999.000,9, -999.000,9, -999.000,9, 2014.400,2, -999.000,9
           NA,    PR02,   2383,   1,      19,   19378,  2,20090428,1844,  24.9607,  137.0007,  5288,  127.000,  18.9158,  34.8042,2, -999.000,9, -999.000,9,  199.000,2,     2.95,2,     3.17,2,     0.03,2,     0.20,2, -999.000,9, -999.000,9, -999.000,9, 2028.900,2, -999.000,9
           NA,    PR02,   2383,   1,      18,   19377,  2,20090428,1844,  24.9607,  137.0007,  5288,  153.400,  18.5418,  34.7988,2, -999.000,9, -999.000,9,  200.000,2,     3.28,2,     3.89,2,     0.01,2,     0.23,2, -999.000,9, -999.000,9, -999.000,9, 2028.300,2, -999.000,9
           NA,    PR02,   2383,   1,      17,   16023,  2,20090428,1844,  24.9607,  137.0007,  5288,  203.600,  18.0020,  34.7857,2,   34.785,2, -999.000,9,  200.000,2,     3.75,2,     4.49,2,     0.01,2,     0.27,2, -999.000,9, -999.000,9, -999.000,9, 2034.300,2, -999.000,9
           NA,    PR02,   2383,   1,      16,   16022,  2,20090428,1844,  24.9607,  137.0007,  5288,  252.400,  17.2438,  34.7498,2, -999.000,9, -999.000,9,  199.000,2,     4.94,2,     5.80,2,     0.00,2,     0.36,2, -999.000,9, -999.000,9, -999.000,9, 2044.400,2, -999.000,9
           NA,    PR02,   2383,   1,      15,   16021,  2,20090428,1844,  24.9607,  137.0007,  5288,  306.000,  16.0805,  34.6713,2,   34.674,2, -999.000,9,  193.000,2,     7.39,2,     7.90,2,     0.00,2,     0.51,2, -999.000,9, -999.000,9, -999.000,9, -999.000,3, -999.000,9
           NA,    PR02,   2383,   1,      14,   16020,  2,20090428,1844,  24.9607,  137.0007,  5288,  405.100,  13.5873,  34.4856,2,   34.486,2, -999.000,9,  186.000,2,    14.33,2,    12.60,2,     0.00,2,     0.83,2, -999.000,9, -999.000,9, -999.000,9, -999.000,3, -999.000,9
           NA,    PR02,   2383,   1,      13,   16019,  2,20090428,1844,  24.9607,  137.0007,  5288,  506.900,  10.4246,  34.2704,2,   34.273,2, -999.000,9,  171.000,2,    28.37,2,    19.30,2,     0.00,2,     1.33,2, -999.000,9, -999.000,9, -999.000,9, -999.000,3, -999.000,9
           NA,    PR02,   2383,   1,      12,   16018,  2,20090428,1844,  24.9607,  137.0007,  5288,  609.500,   7.7946,  34.1436,2,   34.147,2, -999.000,9,  142.000,2,    47.88,2,    26.60,2,     0.00,2,     1.88,2, -999.000,9, -999.000,9, -999.000,9, -999.000,3, -999.000,9
           NA,    PR02,   2383,   1,      11,   19376,  2,20090428,1844,  24.9607,  137.0007,  5288,  708.400,   5.9599,  34.1458,2,   34.146,2, -999.000,9,  102.000,2,    71.83,2,    33.30,2,     0.00,2,     2.38,2, -999.000,9, -999.000,9, -999.000,9, -999.000,3, -999.000,9
           NA,    PR02,   2383,   1,      10,   19375,  2,20090428,1844,  24.9607,  137.0007,  5288,  811.200,   4.8009,  34.2174,2,   34.217,2, -999.000,9,   74.000,2,    93.01,2,    37.60,2,     0.00,2,     2.69,2, -999.000,9, -999.000,9, -999.000,9, 2298.200,2, -999.000,9
           NA,    PR02,   2383,   1,       9,   16015,  2,20090428,1844,  24.9607,  137.0007,  5288,  911.600,   4.1410,  34.2979,2,   34.297,2, -999.000,9,   59.000,2,   107.94,2,    39.70,2,     0.00,2,     2.85,2, -999.000,9, -999.000,9, -999.000,9, 2325.000,2, -999.000,9
           NA,    PR02,   2383,   1,       8,   16014,  2,20090428,1844,  24.9607,  137.0007,  5288, 1015.600,   3.5721,  34.3593,2,   34.356,2, -999.000,9,   54.000,2,   121.22,2,    41.10,2,     0.00,2,     2.92,2, -999.000,9, -999.000,9, -999.000,9, 2343.400,2, -999.000,9
           NA,    PR02,   2383,   1,       7,   19374,  2,20090428,1844,  24.9607,  137.0007,  5288, 1264.100,   2.8708,  34.4756,2,   34.475,2, -999.000,9,   65.000,2,   134.88,2,    41.00,2,     0.00,2,     2.90,2, -999.000,9, -999.000,9, -999.000,9, 2355.200,2, -999.000,9
           NA,    PR02,   2383,   1,       6,   19373,  2,20090428,1844,  24.9607,  137.0007,  5288, 1519.100,   2.3797,  34.5484,2,   34.549,2, -999.000,9,   85.000,2,   140.88,2,    40.10,2,     0.00,2,     2.83,2, -999.000,9, -999.000,9, -999.000,9, 2354.500,2, -999.000,9
           NA,    PR02,   2383,   1,       5,   16011,  2,20090428,1844,  24.9607,  137.0007,  5288, 1772.900,   2.1157,  34.5927,2,   34.592,2, -999.000,9,  104.000,2,   141.11,2,    38.80,2,     0.00,2,     2.73,2, -999.000,9, -999.000,9, -999.000,9, 2347.200,6, -999.000,9
           NA,    PR02,   2383,   1,       4,   16010,  2,20090428,1844,  24.9607,  137.0007,  5288, 2027.800,   1.9253,  34.6224,2,   34.622,2, -999.000,9,  119.000,2,   140.88,2,    38.10,2,     0.00,2,     2.67,2, -999.000,9, -999.000,9, -999.000,9, 2340.400,2, -999.000,9
           NA,    PR02,   2383,   1,       3,   16009,  2,20090428,1844,  24.9607,  137.0007,  5288, 3044.000,   1.6141,  34.6653,2,   34.664,2, -999.000,9,  143.000,2,   140.09,2,    36.80,2,     0.00,2,     2.55,2, -999.000,9, -999.000,9, -999.000,9, -999.000,9, -999.000,9
           NA,    PR02,   2383,   1,       2,   16008,  2,20090428,1844,  24.9607,  137.0007,  5288, 4065.600,   1.5328,  34.6832,2,   34.682,2, -999.000,9,  158.000,2,   138.21,2,    36.00,2,     0.00,2,     2.47,2, -999.000,9, -999.000,9, -999.000,9, -999.000,9, -999.000,9
           NA,    PR02,   2383,   1,       1,   16007,  2,20090428,1844,  24.9607,  137.0007,  5288, 5245.000,   1.6599,  34.6847,2,   34.684,2, -999.000,9,  158.000,2,   138.03,2,    35.80,2,     0.00,2,     2.46,2, -999.000,9, -999.000,9, -999.000,9, -999.000,9, -999.000,9
           NA,    PR02,   2382,   1,      99,      99,  2,20090428,0950,  25.9748,  137.0080,  5540,    0.000,  21.9631,  34.6078,2, -999.000,9, -999.000,9,  223.000,2,     1.41,2,     0.00,2,     0.00,2,     0.00,2, -999.000,9, -999.000,9, -999.000,9, -999.000,9, -999.000,9
           NA,    PR02,   2382,   1,      24,   16030,  2,20090428,0950,  25.9748,  137.0080,  5540,   10.700,  21.9692,  34.6076,2, -999.000,9, -999.000,9,  222.000,2,     1.41,2,     0.00,2,     0.00,2,     0.00,2, -999.000,9, -999.000,9, -999.000,9, -999.000,9, -999.000,9
           NA,    PR02,   2382,   1,      23,   19380,  2,20090428,0950,  25.9748,  137.0080,  5540,   27.300,  21.9079,  34.6115,2, -999.000,9, -999.000,9,  222.000,2,     1.41,2,     0.00,2,     0.00,2,     0.00,2, -999.000,9, -999.000,9, -999.000,9, -999.000,9, -999.000,9
           NA,    PR02,   2382,   1,      22,   16028,  2,20090428,0950,  25.9748,  137.0080,  5540,   52.100,  21.3419,  34.6534,2, -999.000,9, -999.000,9,  225.000,2,     1.50,2,     0.00,2,     0.00,2,     0.00,2, -999.000,9, -999.000,9, -999.000,9, -999.000,9, -999.000,9
           NA,    PR02,   2382,   1,      21,   16027,  2,20090428,0950,  25.9748,  137.0080,  5540,   78.000,  20.6869,  34.7021,2, -999.000,9, -999.000,9,  222.000,2,     1.40,2,     0.00,2,     0.00,2,     0.00,2, -999.000,9, -999.000,9, -999.000,9, -999.000,9, -999.000,9
           NA,    PR02,   2382,   1,      20,   16026,  2,20090428,0950,  25.9748,  137.0080,  5540,  101.300,  20.1664,  34.7058,2, -999.000,9, -999.000,9,  217.000,2,     1.87,2,     0.70,2,     0.10,2,     0.05,2, -999.000,9, -999.000,9, -999.000,9, -999.000,9, -999.000,9
           NA,    PR02,   2382,   1,      19,   19378,  2,20090428,0950,  25.9748,  137.0080,  5540,  127.200,  19.7669,  34.7455,2, -999.000,9, -999.000,9,  206.000,2,     2.38,2,     2.08,2,     0.02,2,     0.13,2, -999.000,9, -999.000,9, -999.000,9, -999.000,9, -999.000,9
           NA,    PR02,   2382,   1,      18,   19377,  2,20090428,0950,  25.9748,  137.0080,  5540,  153.500,  19.3643,  34.7697,2, -999.000,9, -999.000,9,  203.000,2,     2.62,2,     2.58,2,     0.02,2,     0.16,2, -999.000,9, -999.000,9, -999.000,9, -999.000,9, -999.000,9
           NA,    PR02,   2382,   1,      17,   16023,  2,20090428,0950,  25.9748,  137.0080,  5540,  203.700,  18.2326,  34.7939,2, -999.000,9, -999.000,9,  198.000,2,     3.61,2,     4.39,2,     0.01,2,     0.26,2, -999.000,9, -999.000,9, -999.000,9, -999.000,9, -999.000,9
           NA,    PR02,   2382,   1,      16,   16022,  2,20090428,0950,  25.9748,  137.0080,  5540,  254.200,  17.6112,  34.7663,2, -999.000,9, -999.000,9,  196.000,2,     4.54,2,     5.40,2,     0.00,2,     0.33,2, -999.000,9, -999.000,9, -999.000,9, -999.000,9, -999.000,9
           NA,    PR02,   2382,   1,      15,   16021,  2,20090428,0950,  25.9748,  137.0080,  5540,  305.700,  16.5929,  34.7067,2, -999.000,9, -999.000,9,  192.000,2,     6.70,2,     7.20,2,     0.00,2,     0.46,2, -999.000,9, -999.000,9, -999.000,9, -999.000,9, -999.000,9
           NA,    PR02,   2382,   1,      14,   16020,  2,20090428,0950,  25.9748,  137.0080,  5540,  406.100,  14.7817,  34.5769,2, -999.000,9, -999.000,9,  182.000,2,    11.99,2,    11.00,2,     0.00,2,     0.73,2, -999.000,9, -999.000,9, -999.000,9, -999.000,9, -999.000,9
           NA,    PR02,   2382,   1,      13,   16019,  2,20090428,0950,  25.9748,  137.0080,  5540,  507.600,  11.2544,  34.3422,2, -999.000,9, -999.000,9,  168.000,2,    26.38,2,    18.10,2,     0.00,2,     1.25,2, -999.000,9, -999.000,9, -999.000,9, -999.000,9, -999.000,9
           NA,    PR02,   2382,   1,      12,   16018,  2,20090428,0950,  25.9748,  137.0080,  5540,  609.400,   8.6093,  34.2086,2, -999.000,9, -999.000,9,  144.000,2,    44.58,2,    24.90,2,     0.00,2,     1.75,2, -999.000,9, -999.000,9, -999.000,9, -999.000,9, -999.000,9
           NA,    PR02,   2382,   1,      11,   19376,  2,20090428,0950,  25.9748,  137.0080,  5540,  710.900,   6.4667,  34.1806,2, -999.000,9, -999.000,9,  110.000,2,    68.11,2,    31.70,2,     0.00,2,     2.26,2, -999.000,9, -999.000,9, -999.000,9, -999.000,9, -999.000,9
           NA,    PR02,   2382,   1,      10,   19375,  2,20090428,0950,  25.9748,  137.0080,  5540,  812.300,   5.1186,  34.1957,2, -999.000,9, -999.000,9,   82.000,2,    86.59,2,    36.40,2,     0.00,2,     2.61,2, -999.000,9, -999.000,9, -999.000,9, -999.000,9, -999.000,9
           NA,    PR02,   2382,   1,       9,   16015,  2,20090428,0950,  25.9748,  137.0080,  5540,  911.800,   4.3020,  34.2733,2, -999.000,9, -999.000,9,   64.000,2,   104.22,2,    39.10,2,     0.00,2,     2.80,2, -999.000,9, -999.000,9, -999.000,9, -999.000,9, -999.000,9
           NA,    PR02,   2382,   1,       8,   16014,  2,20090428,0950,  25.9748,  137.0080,  5540, 1011.500,   3.8517,  34.3353,2, -999.000,9, -999.000,9,   57.000,2,   114.25,2,    40.30,2,     0.00,2,     2.87,2, -999.000,9, -999.000,9, -999.000,9, -999.000,9, -999.000,9
           NA,    PR02,   2382,   1,       7,   19374,  2,20090428,0950,  25.9748,  137.0080,  5540, 1266.600,   3.0190,  34.4496,2, -999.000,9, -999.000,9,   60.000,2,   132.54,2,    41.20,2,     0.00,2,     2.92,2, -999.000,9, -999.000,9, -999.000,9, -999.000,9, -999.000,9
           NA,    PR02,   2382,   1,       6,   19373,  2,20090428,0950,  25.9748,  137.0080,  5540, 1521.100,   2.5055,  34.5278,2, -999.000,9, -999.000,9,   78.000,2,   140.27,2,    40.40,2,     0.00,2,     2.86,2, -999.000,9, -999.000,9, -999.000,9, -999.000,9, -999.000,9
           NA,    PR02,   2382,   1,       5,   16011,  2,20090428,0950,  25.9748,  137.0080,  5540, 1771.900,   2.1668,  34.5791,2, -999.000,9, -999.000,9,   97.000,2,   142.80,2,    39.50,2,     0.00,2,     2.77,2, -999.000,9, -999.000,9, -999.000,9, -999.000,9, -999.000,9
           NA,    PR02,   2382,   1,       4,   16010,  2,20090428,0950,  25.9748,  137.0080,  5540, 2027.600,   1.9742,  34.6113,2, -999.000,9, -999.000,9,  112.000,2,   141.95,2,    38.40,2,     0.00,2,     2.70,2, -999.000,9, -999.000,9, -999.000,9, -999.000,9, -999.000,9
           NA,    PR02,   2382,   1,       3,   16009,  2,20090428,0950,  25.9748,  137.0080,  5540, 3041.200,   1.6354,  34.6632,2, -999.000,9, -999.000,9,  142.000,2,   140.62,2,    36.80,2,     0.00,2,     2.55,2, -999.000,9, -999.000,9, -999.000,9, -999.000,9, -999.000,9
           NA,    PR02,   2382,   1,       2,   16008,  2,20090428,0950,  25.9748,  137.0080,  5540, 4065.300,   1.5519,  34.6817,2, -999.000,9, -999.000,9,  155.000,2,   138.83,2,    35.90,2,     0.00,2,     2.48,2, -999.000,9, -999.000,9, -999.000,9, -999.000,9, -999.000,9
           NA,    PR02,   2382,   1,       1,   16007,  2,20090428,0950,  25.9748,  137.0080,  5540, 5610.200,   1.7064,  34.6848,2, -999.000,9, -999.000,9,  158.000,2,   138.13,2,    35.90,2,     0.00,2,     2.46,2, -999.000,9, -999.000,9, -999.000,9, -999.000,9, -999.000,9