BOTTLE,20211202JOAExport
EXPOCODE,SECT_ID,STNNBR,CASTNO,SAMPNO,BTLNBR,BTLNBR_FLAG_W,DATE,TIME,LATITUDE,LONGITUDE,DEPTH,CTDPRS,CTDTMP,CTDSAL,CTDSAL_FLAG_W,SALNTY,SALNTY_FLAG_W,CTDOXY,CTDOXY_FLAG_W,OXYGEN,OXYGEN_FLAG_W,SILCAT,SILCAT_FLAG_W,NITRAT,NITRAT_FLAG_W,NITRIT,NITRIT_FLAG_W,PHSPHT,PHSPHT_FLAG_W,CFC-11,CFC-11_FLAG_W,CFC-12,CFC-12_FLAG_W,SF6,SF6_FLAG_W,TCARBN,TCARBN_FLAG_W,ALKALI,ALKALI_FLAG_W
,,,,,,,,,,,,DB,ITS-90,PSS-78,,PSS-78,,UMOL/KG,,UMOL/KG,,UMOL/KG,,UMOL/KG,,UMOL/KG,,UMOL/KG,,PMOL/KG,,PMOL/KG,,FMOL/KG,,UMOL/KG,,UMOL/KG
           NA,    PR02,   2386,   1,      99,      99,  2,20090501,0141,  14.9837,  136.9918,  5081,    0.000,  29.2327,  34.4761,2, -999.000,9, -999.000,9,  200.000,2,     1.00,2,     0.00,2,     0.00,2,     0.04,2, -999.000,9, -999.000,9, -999.000,9, -999.000,9, -999.000,9
           NA,    PR02,   2386,   1,      23,   19380,  2,20090501,0141,  14.9837,  136.9918,  5081,   11.300,  29.2174,  34.4759,2,   34.474,2, -999.000,9,  199.000,2,     0.95,2,     0.00,2,     0.00,2,     0.03,2, -999.000,9, -999.000,9, -999.000,9, 1923.900,2, -999.000,9
           NA,    PR02,   2386,   1,      22,   16028,  2,20090501,0141,  14.9837,  136.9918,  5081,   24.500,  29.1765,  34.4684,2, -999.000,9, -999.000,9,  199.000,2,     0.99,2,     0.00,2,     0.00,2,     0.03,2, -999.000,9, -999.000,9, -999.000,9, 1917.200,2, -999.000,9
           NA,    PR02,   2386,   1,      21,   16027,  2,20090501,0141,  14.9837,  136.9918,  5081,   51.300,  28.6823,  34.5562,2, -999.000,9, -999.000,9,  204.000,2,     0.94,2,     0.00,2,     0.00,2,     0.02,2, -999.000,9, -999.000,9, -999.000,9, 1918.300,2, -999.000,9
           NA,    PR02,   2386,   1,      20,   16026,  2,20090501,0141,  14.9837,  136.9918,  5081,   76.500,  28.2561,  34.5794,2, -999.000,9, -999.000,9,  205.000,2,     0.93,2,     0.00,2,     0.00,2,     0.02,2, -999.000,9, -999.000,9, -999.000,9, 1931.500,2, -999.000,9
           NA,    PR02,   2386,   1,      19,   19378,  2,20090501,0141,  14.9837,  136.9918,  5081,  102.300,  27.8628,  34.6663,2,   34.664,2, -999.000,9,  203.000,2,     0.92,2,     0.00,2,     0.00,2,     0.01,2, -999.000,9, -999.000,9, -999.000,9, 1937.700,2, -999.000,9
           NA,    PR02,   2386,   1,      18,   19377,  2,20090501,0141,  14.9837,  136.9918,  5081,  127.700,  26.9070,  34.7828,2, -999.000,9, -999.000,9,  199.000,2,     0.92,2,     0.00,2,     0.00,2,     0.01,2, -999.000,9, -999.000,9, -999.000,9, 1955.700,2, -999.000,9
           NA,    PR02,   2386,   1,      17,   16023,  2,20090501,0141,  14.9837,  136.9918,  5081,  152.800,  24.9924,  34.9545,2, -999.000,9, -999.000,9,  184.000,2,     1.19,2,     0.09,2,     0.11,2,     0.05,2, -999.000,9, -999.000,9, -999.000,9, 1996.600,2, -999.000,9
           NA,    PR02,   2386,   1,      16,   16022,  2,20090501,0141,  14.9837,  136.9918,  5081,  204.200,  21.2955,  34.9646,2,   34.965,2, -999.000,9,  182.000,2,     2.13,2,     2.19,2,     0.01,2,     0.18,2, -999.000,9, -999.000,9, -999.000,9, 2033.800,2, -999.000,9
           NA,    PR02,   2386,   1,      15,   16021,  2,20090501,0141,  14.9837,  136.9918,  5081,  255.000,  18.0407,  34.7941,2, -999.000,9, -999.000,9,  194.000,2,     3.67,2,     4.59,2,     0.01,2,     0.29,2, -999.000,9, -999.000,9, -999.000,9, 2045.300,2, -999.000,9
           NA,    PR02,   2386,   1,      14,   16020,  2,20090501,0141,  14.9837,  136.9918,  5081,  308.500,  15.6935,  34.6215,2,   34.625,2, -999.000,9,  188.000,2,     7.34,2,     8.30,2,     0.00,2,     0.56,2, -999.000,9, -999.000,9, -999.000,9, -999.000,3, -999.000,9
           NA,    PR02,   2386,   1,      13,   16019,  2,20090501,0141,  14.9837,  136.9918,  5081,  408.300,  11.2125,  34.3154,2,   34.315,2, -999.000,9,  157.000,2,    22.40,2,    18.80,2,     0.00,2,     1.33,2, -999.000,9, -999.000,9, -999.000,9, -999.000,3, -999.000,9
           NA,    PR02,   2386,   1,      12,   16018,  2,20090501,0141,  14.9837,  136.9918,  5081,  505.100,   8.3615,  34.2725,2,   34.272,2, -999.000,9,   99.000,2,    43.67,2,    29.70,2,     0.00,2,     2.13,2, -999.000,9, -999.000,9, -999.000,9, -999.000,9, -999.000,9
           NA,    PR02,   2386,   1,      11,   19376,  2,20090501,0141,  14.9837,  136.9918,  5081,  506.300,   8.3676,  34.2737,2, -999.000,4, -999.000,9,   98.000,2,    43.53,2,    29.40,2,     0.00,2,     2.12,2, -999.000,9, -999.000,9, -999.000,9, -999.000,3, -999.000,9
           NA,    PR02,   2386,   1,      10,   19375,  2,20090501,0141,  14.9837,  136.9918,  5081,  606.200,   7.0171,  34.3606,2,   34.360,2, -999.000,9,   74.000,2,    58.82,2,    34.70,2,     0.00,2,     2.49,2, -999.000,9, -999.000,9, -999.000,9, -999.000,3, -999.000,9
           NA,    PR02,   2386,   1,       9,   16015,  2,20090501,0141,  14.9837,  136.9918,  5081,  709.500,   6.0160,  34.4073,2,   34.407,2, -999.000,9,   68.000,2,    71.47,2,    37.20,2,     0.00,2,     2.67,2, -999.000,9, -999.000,9, -999.000,9, -999.000,3, -999.000,9
           NA,    PR02,   2386,   1,       8,   16014,  2,20090501,0141,  14.9837,  136.9918,  5081,  812.500,   5.3489,  34.4660,2,   34.465,2, -999.000,9,   72.000,2,    80.92,2,    38.30,2,     0.00,2,     2.73,2, -999.000,9, -999.000,9, -999.000,9, 2296.000,2, -999.000,9
           NA,    PR02,   2386,   1,       7,   19374,  2,20090501,0141,  14.9837,  136.9918,  5081,  912.400,   4.8100,  34.5036,2,   34.501,2, -999.000,9,   80.000,2,    88.84,2,    38.30,2,     0.00,2,     2.74,2, -999.000,9, -999.000,9, -999.000,9, 2305.200,2, -999.000,9
           NA,    PR02,   2386,   1,       6,   19373,  2,20090501,0141,  14.9837,  136.9918,  5081, 1007.100,   4.2990,  34.5284,2,   34.528,2, -999.000,9,   86.000,2,    98.12,2,    38.60,2,     0.00,2,     2.74,2, -999.000,9, -999.000,9, -999.000,9, 2313.200,2, -999.000,9
           NA,    PR02,   2386,   1,       5,   16011,  2,20090501,0141,  14.9837,  136.9918,  5081, 1263.200,   3.3837,  34.5591,2,   34.558,2, -999.000,9,   92.000,2,   116.78,2,    38.80,2,     0.00,2,     2.75,2, -999.000,9, -999.000,9, -999.000,9, 2329.900,2, -999.000,9
           NA,    PR02,   2386,   1,       4,   16010,  2,20090501,0141,  14.9837,  136.9918,  5081, 1516.400,   2.8179,  34.5837,2,   34.583,2, -999.000,9,  100.000,2,   127.34,2,    38.90,2,     0.00,2,     2.74,2, -999.000,9, -999.000,9, -999.000,9, 2338.800,2, -999.000,9
           NA,    PR02,   2386,   1,       3,   16009,  2,20090501,0141,  14.9837,  136.9918,  5081, 1769.600,   2.4043,  34.6076,2,   34.607,2, -999.000,9,  107.000,2,   134.41,2,    38.70,2,     0.00,2,     2.72,2, -999.000,9, -999.000,9, -999.000,9, 2342.200,6, -999.000,9
           NA,    PR02,   2386,   1,       1,   16007,  2,20090501,0141,  14.9837,  136.9918,  5081, 2028.600,   2.0915,  34.6299,2,   34.631,2, -999.000,9,  117.000,2,   138.66,2,    38.40,2,     0.00,2,     2.68,2, -999.000,9, -999.000,9, -999.000,9, 2342.300,2, -999.000,9
           NA,    PR02,   2386,   1,       2,   16008,  2,20090501,0141,  14.9837,  136.9918,  5081, 2029.400,   2.0918,  34.6297,2,   34.630,2, -999.000,9,  116.000,2,   138.84,2,    38.30,2,     0.00,2,     2.68,2, -999.000,9, -999.000,9, -999.000,9, -999.000,9, -999.000,9
           NA,    PR02,   2384,   1,      99,      99,  2,20090429,0231,  23.9712,  136.9925,  4111,    0.000,  23.1231,  34.6581,2, -999.000,9, -999.000,9,  219.000,2,     1.38,2,     0.00,2,     0.00,2,     0.00,2, -999.000,9, -999.000,9, -999.000,9, -999.000,9, -999.000,9
           NA,    PR02,   2384,   1,      23,   19380,  2,20090429,0231,  23.9712,  136.9925,  4111,   11.000,  23.1253,  34.6579,2, -999.000,9, -999.000,9,  218.000,2,     1.38,2,     0.00,2,     0.00,2,     0.00,2, -999.000,9, -999.000,9, -999.000,9, -999.000,9, -999.000,9
           NA,    PR02,   2384,   1,      22,   16028,  2,20090429,0231,  23.9712,  136.9925,  4111,   27.700,  23.0962,  34.6548,2, -999.000,9, -999.000,9,  219.000,2,     1.37,2,     0.00,2,     0.00,2,     0.00,2, -999.000,9, -999.000,9, -999.000,9, -999.000,9, -999.000,9
           NA,    PR02,   2384,   1,      21,   16027,  2,20090429,0231,  23.9712,  136.9925,  4111,   49.700,  22.1817,  34.5867,2, -999.000,9, -999.000,9,  224.000,2,     1.42,2,     0.00,2,     0.00,2,     0.00,2, -999.000,9, -999.000,9, -999.000,9, -999.000,9, -999.000,9
           NA,    PR02,   2384,   1,      20,   16026,  2,20090429,0231,  23.9712,  136.9925,  4111,   76.600,  20.3432,  34.7081,2, -999.000,9, -999.000,9,  224.000,2,     1.69,2,     0.00,2,     0.00,2,     0.01,2, -999.000,9, -999.000,9, -999.000,9, -999.000,9, -999.000,9
           NA,    PR02,   2384,   1,      19,   19378,  2,20090429,0231,  23.9712,  136.9925,  4111,  100.300,  19.8688,  34.6930,2, -999.000,9, -999.000,9,  220.000,2,     1.88,2,     0.80,2,     0.10,2,     0.06,2, -999.000,9, -999.000,9, -999.000,9, -999.000,9, -999.000,9
           NA,    PR02,   2384,   1,      18,   19377,  2,20090429,0231,  23.9712,  136.9925,  4111,  126.600,  19.5244,  34.7286,2, -999.000,9, -999.000,9,  212.000,2,     2.30,2,     1.78,2,     0.02,2,     0.11,2, -999.000,9, -999.000,9, -999.000,9, -999.000,9, -999.000,9
           NA,    PR02,   2384,   1,      17,   16023,  2,20090429,0231,  23.9712,  136.9925,  4111,  152.400,  19.1121,  34.7850,2, -999.000,9, -999.000,9,  201.000,2,     2.86,2,     2.99,2,     0.01,2,     0.19,2, -999.000,9, -999.000,9, -999.000,9, -999.000,9, -999.000,9
           NA,    PR02,   2384,   1,      16,   16022,  2,20090429,0231,  23.9712,  136.9925,  4111,  203.800,  17.8626,  34.7781,2, -999.000,9, -999.000,9,  198.000,2,     4.08,2,     4.79,2,     0.01,2,     0.30,2, -999.000,9, -999.000,9, -999.000,9, -999.000,9, -999.000,9
           NA,    PR02,   2384,   1,      15,   16021,  2,20090429,0231,  23.9712,  136.9925,  4111,  254.000,  16.9232,  34.7276,2, -999.000,9, -999.000,9,  194.000,2,     5.95,2,     6.59,2,     0.01,2,     0.42,2, -999.000,9, -999.000,9, -999.000,9, -999.000,9, -999.000,9
           NA,    PR02,   2384,   1,      14,   16020,  2,20090429,0231,  23.9712,  136.9925,  4111,  304.700,  15.8968,  34.6581,2, -999.000,9, -999.000,9,  194.000,2,     7.83,2,     8.09,2,     0.01,2,     0.53,2, -999.000,9, -999.000,9, -999.000,9, -999.000,9, -999.000,9
           NA,    PR02,   2384,   1,      13,   16019,  2,20090429,0231,  23.9712,  136.9925,  4111,  407.500,  13.3042,  34.4636,2, -999.000,9, -999.000,9,  187.000,2,    14.93,2,    12.80,2,     0.00,2,     0.86,2, -999.000,9, -999.000,9, -999.000,9, -999.000,9, -999.000,9
           NA,    PR02,   2384,   1,      11,   19376,  2,20090429,0231,  23.9712,  136.9925,  4111,  507.000,  10.8599,  34.3137,2, -999.000,9, -999.000,9,  168.000,2,    28.00,2,    18.80,2,     0.00,2,     1.30,2, -999.000,9, -999.000,9, -999.000,9, -999.000,9, -999.000,9
           NA,    PR02,   2384,   1,      12,   16018,  2,20090429,0231,  23.9712,  136.9925,  4111,  510.000,  10.8073,  34.3108,2, -999.000,9, -999.000,9,  168.000,2,    28.11,2,    19.00,2,     0.00,2,     1.32,2, -999.000,9, -999.000,9, -999.000,9, -999.000,9, -999.000,9
           NA,    PR02,   2384,   1,      10,   19375,  2,20090429,0231,  23.9712,  136.9925,  4111,  611.700,   8.0998,  34.1664,2, -999.000,9, -999.000,9,  144.000,2,    46.63,2,    25.70,2,     0.00,2,     1.83,2, -999.000,9, -999.000,9, -999.000,9, -999.000,9, -999.000,9
           NA,    PR02,   2384,   1,       9,   16015,  2,20090429,0231,  23.9712,  136.9925,  4111,  713.500,   6.4659,  34.1472,2, -999.000,9, -999.000,9,  114.000,2,    65.52,2,    31.30,2,     0.00,2,     2.25,2, -999.000,9, -999.000,9, -999.000,9, -999.000,9, -999.000,9
           NA,    PR02,   2384,   1,       8,   16014,  2,20090429,0231,  23.9712,  136.9925,  4111,  813.400,   5.0293,  34.1941,2, -999.000,9, -999.000,9,   81.000,2,    88.56,2,    36.60,2,     0.00,2,     2.62,2, -999.000,9, -999.000,9, -999.000,9, -999.000,9, -999.000,9
           NA,    PR02,   2384,   1,       7,   19374,  2,20090429,0231,  23.9712,  136.9925,  4111,  912.000,   4.3174,  34.2738,2, -999.000,9, -999.000,9,   62.000,2,   103.76,2,    39.30,2,     0.00,2,     2.83,2, -999.000,9, -999.000,9, -999.000,9, -999.000,9, -999.000,9
           NA,    PR02,   2384,   1,       6,   19373,  2,20090429,0231,  23.9712,  136.9925,  4111, 1016.100,   3.6803,  34.3712,2, -999.000,9, -999.000,9,   57.000,2,   117.81,2,    40.70,2,     0.00,2,     2.91,2, -999.000,9, -999.000,9, -999.000,9, -999.000,9, -999.000,9
           NA,    PR02,   2384,   1,       5,   16011,  2,20090429,0231,  23.9712,  136.9925,  4111, 1263.500,   2.9123,  34.4776,2, -999.000,9, -999.000,9,   68.000,2,   133.55,2,    40.80,2,     0.00,2,     2.90,2, -999.000,9, -999.000,9, -999.000,9, -999.000,9, -999.000,9
           NA,    PR02,   2384,   1,       4,   16010,  2,20090429,0231,  23.9712,  136.9925,  4111, 1517.000,   2.4950,  34.5449,2, -999.000,9, -999.000,9,   88.000,2,   138.17,2,    40.00,2,     0.00,2,     2.82,2, -999.000,9, -999.000,9, -999.000,9, -999.000,9, -999.000,9
           NA,    PR02,   2384,   1,       3,   16009,  2,20090429,0231,  23.9712,  136.9925,  4111, 1767.700,   2.1776,  34.5953,2, -999.000,9, -999.000,9,  107.000,2,   139.43,2,    38.90,2,     0.00,2,     2.73,2, -999.000,9, -999.000,9, -999.000,9, -999.000,9, -999.000,9
           NA,    PR02,   2384,   1,       2,   16008,  3,20090429,0231,  23.9712,  136.9925,  4111, 2023.500,   2.0221,  34.6168,2, -999.000,9, -999.000,9,  118.000,2,   139.77,2,    38.20,2,     0.00,2,     2.68,2, -999.000,9, -999.000,9, -999.000,9, -999.000,9, -999.000,9
           NA,    PR02,   2384,   1,       1,   16007,  2,20090429,0231,  23.9712,  136.9925,  4111, 2026.100,   2.0200,  34.6170,2, -999.000,9, -999.000,9,  116.000,2,   140.03,2,    38.40,2,     0.00,2,     2.71,2, -999.000,9, -999.000,9, -999.000,9, -999.000,9, -999.000,9