BOTTLE,20211202JOAExport
EXPOCODE,SECT_ID,STNNBR,CASTNO,SAMPNO,BTLNBR,BTLNBR_FLAG_W,DATE,TIME,LATITUDE,LONGITUDE,DEPTH,CTDPRS,CTDTMP,CTDSAL,CTDSAL_FLAG_W,SALNTY,SALNTY_FLAG_W,CTDOXY,CTDOXY_FLAG_W,OXYGEN,OXYGEN_FLAG_W,SILCAT,SILCAT_FLAG_W,NITRAT,NITRAT_FLAG_W,NITRIT,NITRIT_FLAG_W,PHSPHT,PHSPHT_FLAG_W,CFC-11,CFC-11_FLAG_W,CFC-12,CFC-12_FLAG_W,SF6,SF6_FLAG_W,TCARBN,TCARBN_FLAG_W,ALKALI,ALKALI_FLAG_W
,,,,,,,,,,,,DB,ITS-90,PSS-78,,PSS-78,,UMOL/KG,,UMOL/KG,,UMOL/KG,,UMOL/KG,,UMOL/KG,,UMOL/KG,,PMOL/KG,,PMOL/KG,,FMOL/KG,,UMOL/KG,,UMOL/KG
           NA,    PR02,   2376,   1,      99,      99,  2,20090424,1643,  30.9952,  136.9742,  4366,    0.000,  20.0715,  34.7201,2, -999.000,9, -999.000,9,  231.000,2,     1.63,2,     0.10,2,     0.00,2,     0.00,2, -999.000,9, -999.000,9, -999.000,9, -999.000,9, -999.000,9
           NA,    PR02,   2376,   1,      24,   16030,  2,20090424,1643,  30.9952,  136.9742,  4366,   10.100,  20.0713,  34.7197,2, -999.000,9, -999.000,9,  230.000,2,     1.63,2,     0.00,2,     0.00,2,     0.00,2, -999.000,9, -999.000,9, -999.000,9, -999.000,9, -999.000,9
           NA,    PR02,   2376,   1,      23,   19380,  2,20090424,1643,  30.9952,  136.9742,  4366,   26.900,  20.0775,  34.7195,2, -999.000,9, -999.000,9,  230.000,2,     1.67,2,     0.00,2,     0.00,2,     0.00,2, -999.000,9, -999.000,9, -999.000,9, -999.000,9, -999.000,9
           NA,    PR02,   2376,   1,      22,   16028,  2,20090424,1643,  30.9952,  136.9742,  4366,   52.700,  19.5793,  34.6921,2, -999.000,9, -999.000,9,  233.000,2,     1.67,2,     0.00,2,     0.00,2,     0.00,2, -999.000,9, -999.000,9, -999.000,9, -999.000,9, -999.000,9
           NA,    PR02,   2376,   1,      21,   16027,  2,20090424,1643,  30.9952,  136.9742,  4366,   75.900,  19.4458,  34.6936,2, -999.000,9, -999.000,9,  230.000,2,     1.71,2,     0.05,2,     0.05,2,     0.01,2, -999.000,9, -999.000,9, -999.000,9, -999.000,9, -999.000,9
           NA,    PR02,   2376,   1,      20,   16026,  2,20090424,1643,  30.9952,  136.9742,  4366,  102.100,  19.3422,  34.6942,2, -999.000,9, -999.000,9,  225.000,2,     1.80,2,     0.38,2,     0.22,2,     0.04,2, -999.000,9, -999.000,9, -999.000,9, -999.000,9, -999.000,9
           NA,    PR02,   2376,   1,      19,   19378,  2,20090424,1643,  30.9952,  136.9742,  4366,  125.500,  19.3021,  34.6914,2, -999.000,9, -999.000,9,  226.000,2,     1.80,2,     0.32,2,     0.28,2,     0.04,2, -999.000,9, -999.000,9, -999.000,9, -999.000,9, -999.000,9
           NA,    PR02,   2376,   1,      18,   19377,  2,20090424,1643,  30.9952,  136.9742,  4366,  152.100,  19.2689,  34.6915,2, -999.000,9, -999.000,9,  224.000,2,     1.89,2,     0.58,2,     0.22,2,     0.05,2, -999.000,9, -999.000,9, -999.000,9, -999.000,9, -999.000,9
           NA,    PR02,   2376,   1,      17,   16023,  2,20090424,1643,  30.9952,  136.9742,  4366,  202.400,  19.2140,  34.6949,2, -999.000,9, -999.000,9,  223.000,2,     1.97,2,     0.98,2,     0.02,2,     0.06,2, -999.000,9, -999.000,9, -999.000,9, -999.000,9, -999.000,9
           NA,    PR02,   2376,   1,      16,   16022,  2,20090424,1643,  30.9952,  136.9742,  4366,  253.600,  18.9122,  34.7590,2, -999.000,9, -999.000,9,  209.000,2,     2.64,2,     2.59,2,     0.01,2,     0.16,2, -999.000,9, -999.000,9, -999.000,9, -999.000,9, -999.000,9
           NA,    PR02,   2376,   1,      15,   16021,  2,20090424,1643,  30.9952,  136.9742,  4366,  303.900,  18.4600,  34.7992,2, -999.000,9, -999.000,9,  200.000,2,     3.39,2,     3.89,2,     0.01,2,     0.22,2, -999.000,9, -999.000,9, -999.000,9, -999.000,9, -999.000,9
           NA,    PR02,   2376,   1,      14,   16020,  2,20090424,1643,  30.9952,  136.9742,  4366,  404.100,  17.3313,  34.7539,2, -999.000,9, -999.000,9,  196.000,2,     5.14,2,     5.99,2,     0.01,2,     0.36,2, -999.000,9, -999.000,9, -999.000,9, -999.000,9, -999.000,9
           NA,    PR02,   2376,   1,      13,   16019,  2,20090424,1643,  30.9952,  136.9742,  4366,  504.900,  15.5323,  34.6270,2, -999.000,9, -999.000,9,  186.000,2,     9.82,2,     9.70,2,     0.00,2,     0.63,2, -999.000,9, -999.000,9, -999.000,9, -999.000,9, -999.000,9
           NA,    PR02,   2376,   1,      12,   16018,  2,20090424,1643,  30.9952,  136.9742,  4366,  606.800,  12.8902,  34.4468,2, -999.000,9, -999.000,9,  174.000,2,    19.26,2,    14.90,2,     0.00,2,     1.01,2, -999.000,9, -999.000,9, -999.000,9, -999.000,9, -999.000,9
           NA,    PR02,   2376,   1,      11,   19376,  2,20090424,1643,  30.9952,  136.9742,  4366,  707.500,  10.1441,  34.2813,2, -999.000,9, -999.000,9,  159.000,2,    33.72,2,    21.00,2,     0.00,2,     1.46,2, -999.000,9, -999.000,9, -999.000,9, -999.000,9, -999.000,9
           NA,    PR02,   2376,   1,      10,   19375,  2,20090424,1643,  30.9952,  136.9742,  4366,  808.700,   7.8866,  34.2107,2, -999.000,9, -999.000,9,  129.000,2,    53.79,2,    27.70,2,     0.00,2,     1.97,2, -999.000,9, -999.000,9, -999.000,9, -999.000,9, -999.000,9
           NA,    PR02,   2376,   1,       9,   16015,  2,20090424,1643,  30.9952,  136.9742,  4366,  909.200,   5.7722,  34.1897,2, -999.000,9, -999.000,9,   95.000,2,    78.79,2,    34.40,2,     0.00,2,     2.44,2, -999.000,9, -999.000,9, -999.000,9, -999.000,9, -999.000,9
           NA,    PR02,   2376,   1,       8,   16014,  2,20090424,1643,  30.9952,  136.9742,  4366, 1010.200,   5.0031,  34.2873,2, -999.000,9, -999.000,9,   77.000,2,    94.91,2,    37.10,2,     0.00,2,     2.65,2, -999.000,9, -999.000,9, -999.000,9, -999.000,9, -999.000,9
           NA,    PR02,   2376,   1,       7,   19374,  2,20090424,1643,  30.9952,  136.9742,  4366, 1263.600,   3.5288,  34.4030,2, -999.000,9, -999.000,9,   61.000,2,   122.72,2,    40.40,2,     0.00,2,     2.87,2, -999.000,9, -999.000,9, -999.000,9, -999.000,9, -999.000,9
           NA,    PR02,   2376,   1,       6,   19373,  2,20090424,1643,  30.9952,  136.9742,  4366, 1516.100,   2.8801,  34.4862,2, -999.000,9, -999.000,9,   71.000,2,   134.85,2,    40.40,2,     0.00,2,     2.87,2, -999.000,9, -999.000,9, -999.000,9, -999.000,9, -999.000,9
           NA,    PR02,   2376,   1,       5,   16011,  2,20090424,1643,  30.9952,  136.9742,  4366, 1771.300,   2.4280,  34.5460,2, -999.000,9, -999.000,9,   87.000,2,   140.40,2,    40.00,2,     0.00,2,     2.82,2, -999.000,9, -999.000,9, -999.000,9, -999.000,9, -999.000,9
           NA,    PR02,   2376,   1,       4,   16010,  2,20090424,1643,  30.9952,  136.9742,  4366, 2025.800,   2.1343,  34.5860,2, -999.000,9, -999.000,9,  100.000,2,   142.88,2,    39.20,2,     0.00,2,     2.76,2, -999.000,9, -999.000,9, -999.000,9, -999.000,9, -999.000,9
           NA,    PR02,   2376,   1,       3,   16009,  2,20090424,1643,  30.9952,  136.9742,  4366, 3043.200,   1.6241,  34.6626,2, -999.000,9, -999.000,9,  141.000,2,   141.32,2,    36.80,2,     0.00,2,     2.56,2, -999.000,9, -999.000,9, -999.000,9, -999.000,9, -999.000,9
           NA,    PR02,   2376,   1,       2,   16008,  2,20090424,1643,  30.9952,  136.9742,  4366, 4067.400,   1.5569,  34.6814,2, -999.000,9, -999.000,9,  155.000,2,   139.54,2,    36.10,2,     0.00,2,     2.48,2, -999.000,9, -999.000,9, -999.000,9, -999.000,9, -999.000,9
           NA,    PR02,   2376,   1,       1,   16007,  2,20090424,1643,  30.9952,  136.9742,  4366, 4376.400,   1.5854,  34.6822,2, -999.000,9, -999.000,9,  156.000,2,   139.41,2,    36.10,2,     0.00,2,     2.48,2, -999.000,9, -999.000,9, -999.000,9, -999.000,9, -999.000,9
           NA,    PR02,   2373,   1,      99,      99,  2,20090424,0227,  31.9700,  137.0080,  4242,    0.000,  20.6596,  34.7093,2, -999.000,9, -999.000,9,  230.000,2,     1.63,2,     0.00,2,     0.00,2,     0.00,2, -999.000,9, -999.000,9, -999.000,9, -999.000,9, -999.000,9
           NA,    PR02,   2373,   1,      24,   16030,  2,20090424,0227,  31.9700,  137.0080,  4242,   10.900,  20.1890,  34.7019,2,   34.702,2, -999.000,9,  229.000,2,     1.62,2,     0.00,2,     0.00,2,     0.00,2, -999.000,9, -999.000,9, -999.000,9, -999.000,9, -999.000,9
           NA,    PR02,   2373,   1,      23,   19380,  2,20090424,0227,  31.9700,  137.0080,  4242,   26.600,  20.0224,  34.6947,2, -999.000,9, -999.000,9,  231.000,2,     1.62,2,     0.00,2,     0.00,2,     0.00,2, -999.000,9, -999.000,9, -999.000,9, -999.000,9, -999.000,9
           NA,    PR02,   2373,   1,      22,   16028,  2,20090424,0227,  31.9700,  137.0080,  4242,   50.100,  19.9262,  34.6924,2, -999.000,9, -999.000,9,  231.000,2,     1.62,2,     0.00,2,     0.00,2,     0.01,2, -999.000,9, -999.000,9, -999.000,9, -999.000,9, -999.000,9
           NA,    PR02,   2373,   1,      21,   16027,  2,20090424,0227,  31.9700,  137.0080,  4242,   75.200,  19.5011,  34.7051,2, -999.000,9, -999.000,9,  228.000,2,     1.67,2,     0.16,2,     0.24,2,     0.03,2, -999.000,9, -999.000,9, -999.000,9, -999.000,9, -999.000,9
           NA,    PR02,   2373,   1,      20,   16026,  2,20090424,0227,  31.9700,  137.0080,  4242,  101.200,  19.4025,  34.6955,2,   34.695,2, -999.000,9,  227.000,2,     1.71,2,     0.18,2,     0.32,2,     0.04,2, -999.000,9, -999.000,9, -999.000,9, -999.000,9, -999.000,9
           NA,    PR02,   2373,   1,      19,   19378,  2,20090424,0227,  31.9700,  137.0080,  4242,  126.400,  19.3699,  34.7089,2, -999.000,9, -999.000,9,  221.000,2,     1.95,2,     1.05,2,     0.05,2,     0.07,2, -999.000,9, -999.000,9, -999.000,9, -999.000,9, -999.000,9
           NA,    PR02,   2373,   1,      18,   19377,  2,20090424,0227,  31.9700,  137.0080,  4242,  152.000,  19.3294,  34.7152,2, -999.000,9, -999.000,9,  222.000,2,     1.91,2,     0.96,2,     0.04,2,     0.06,2, -999.000,9, -999.000,9, -999.000,9, -999.000,9, -999.000,9
           NA,    PR02,   2373,   1,      17,   16023,  2,20090424,0227,  31.9700,  137.0080,  4242,  200.800,  18.9600,  34.7343,2,   34.734,2, -999.000,9,  208.000,2,     2.89,2,     2.78,2,     0.02,2,     0.17,2, -999.000,9, -999.000,9, -999.000,9, -999.000,9, -999.000,9
           NA,    PR02,   2373,   1,      16,   16022,  2,20090424,0227,  31.9700,  137.0080,  4242,  252.800,  18.1683,  34.7839,2, -999.000,9, -999.000,9,  200.000,2,     3.72,2,     4.39,2,     0.01,2,     0.27,2, -999.000,9, -999.000,9, -999.000,9, -999.000,9, -999.000,9
           NA,    PR02,   2373,   1,      15,   16021,  2,20090424,0227,  31.9700,  137.0080,  4242,  301.700,  17.5189,  34.7591,2,   34.759,2, -999.000,9,  198.000,2,     4.76,2,     5.69,2,     0.01,2,     0.34,2, -999.000,9, -999.000,9, -999.000,9, -999.000,9, -999.000,9
           NA,    PR02,   2373,   1,      14,   16020,  2,20090424,0227,  31.9700,  137.0080,  4242,  403.200,  15.6975,  34.6408,2,   34.643,2, -999.000,9,  188.000,2,     9.08,2,     9.20,2,     0.00,2,     0.60,2, -999.000,9, -999.000,9, -999.000,9, -999.000,9, -999.000,9
           NA,    PR02,   2373,   1,      13,   16019,  2,20090424,0227,  31.9700,  137.0080,  4242,  504.600,  13.2855,  34.4701,2, -999.000,4, -999.000,9,  177.000,2,    17.77,2,    14.20,2,     0.00,2,     0.96,2, -999.000,9, -999.000,9, -999.000,9, -999.000,9, -999.000,9
           NA,    PR02,   2373,   1,      12,   16018,  2,20090424,0227,  31.9700,  137.0080,  4242,  605.300,  10.6065,  34.3025,2,   34.303,2, -999.000,9,  163.000,2,    30.03,2,    19.90,2,     0.00,2,     1.38,2, -999.000,9, -999.000,9, -999.000,9, -999.000,9, -999.000,9
           NA,    PR02,   2373,   1,      11,   19376,  2,20090424,0227,  31.9700,  137.0080,  4242,  707.900,   8.1974,  34.1887,2,   34.188,2, -999.000,9,  140.000,2,    48.55,2,    26.30,2,     0.00,2,     1.86,2, -999.000,9, -999.000,9, -999.000,9, -999.000,9, -999.000,9
           NA,    PR02,   2373,   1,      10,   19375,  2,20090424,0227,  31.9700,  137.0080,  4242,  809.000,   5.9585,  34.1670,2,   34.168,2, -999.000,9,  104.000,2,    74.26,2,    33.20,2,     0.00,2,     2.39,2, -999.000,9, -999.000,9, -999.000,9, -999.000,9, -999.000,9
           NA,    PR02,   2373,   1,       9,   16015,  2,20090424,0227,  31.9700,  137.0080,  4242,  908.700,   4.8674,  34.2406,2,   34.240,2, -999.000,9,   76.000,2,    94.30,2,    37.30,2,     0.00,2,     2.68,2, -999.000,9, -999.000,9, -999.000,9, -999.000,9, -999.000,9
           NA,    PR02,   2373,   1,       8,   16014,  2,20090424,0227,  31.9700,  137.0080,  4242, 1011.400,   4.2298,  34.3226,2,   34.322,2, -999.000,9,   67.000,2,   109.23,2,    38.90,2,     0.00,2,     2.80,2, -999.000,9, -999.000,9, -999.000,9, -999.000,9, -999.000,9
           NA,    PR02,   2373,   1,       7,   19374,  2,20090424,0227,  31.9700,  137.0080,  4242, 1263.900,   3.2257,  34.4409,2,   34.441,2, -999.000,9,   65.000,2,   128.94,2,    40.60,2,     0.00,2,     2.89,2, -999.000,9, -999.000,9, -999.000,9, -999.000,9, -999.000,9
           NA,    PR02,   2373,   1,       6,   19373,  2,20090424,0227,  31.9700,  137.0080,  4242, 1518.100,   2.7168,  34.5082,2,   34.507,2, -999.000,9,   78.000,2,   136.67,2,    40.30,2,     0.00,2,     2.85,2, -999.000,9, -999.000,9, -999.000,9, -999.000,9, -999.000,9
           NA,    PR02,   2373,   1,       5,   16011,  2,20090424,0227,  31.9700,  137.0080,  4242, 1768.800,   2.3473,  34.5573,2, -999.000,4, -999.000,9, -999.000,4,  -999.00,4,  -999.00,4,  -999.00,4,  -999.00,4, -999.000,9, -999.000,9, -999.000,9, -999.000,9, -999.000,9
           NA,    PR02,   2373,   1,       4,   16010,  2,20090424,0227,  31.9700,  137.0080,  4242, 2024.300,   2.0440,  34.5987,2,   34.599,2, -999.000,9,  109.000,2,   142.99,2,    38.60,2,     0.00,2,     2.73,2, -999.000,9, -999.000,9, -999.000,9, -999.000,9, -999.000,9
           NA,    PR02,   2373,   1,       3,   16009,  2,20090424,0227,  31.9700,  137.0080,  4242, 3048.400,   1.5292,  34.6724,2,   34.672,2, -999.000,9,  149.000,2,   140.81,2,    36.40,2,     0.00,2,     2.53,2, -999.000,9, -999.000,9, -999.000,9, -999.000,9, -999.000,9
           NA,    PR02,   2373,   1,       2,   16008,  2,20090424,0227,  31.9700,  137.0080,  4242, 4066.400,   1.5530,  34.6815,2,   34.681,2, -999.000,9,  155.000,2,   140.06,2,    36.10,2,     0.00,2,     2.49,2, -999.000,9, -999.000,9, -999.000,9, -999.000,9, -999.000,9
           NA,    PR02,   2373,   1,       1,   16007,  2,20090424,0227,  31.9700,  137.0080,  4242, 4223.800,   1.5655,  34.6819,2,   34.684,2, -999.000,9,  158.000,2,   139.84,2,    36.10,2,     0.00,2,     2.49,2, -999.000,9, -999.000,9, -999.000,9, -999.000,9, -999.000,9