BOTTLE,20211202JOAExport
# Exported from JOA (5.5.0 Final September 29th, 2020) on 2021/07/02 11:12:02
#BOTTLE,20190917PRINUNIVRMK,,,,,,,,,,,,,,,,,,,,,,,,,,,,,,,,,,,,,,
# Processed by CCHDO on 2021-05-21, no changes,,,,,,,,,,,,,,,,,,,,,,,,,,,,,,,,,,,,,,
# 09/16/2019 Initialized README file  ,,,,,,,,,,,,,,,,,,,,,,,,,,,,,,,,,,,,,,,
# Data source:  Masao Ishii 2018/11/30 ,,,,,,,,,,,,,,,,,,,,,,,,,,,,,,,,,,,,,,,
# SHIP: R/V Keifu Maru II ,,,,,,,,,,,,,,,,,,,,,,,,,,,,,,,,,,,,,,,
# Cruise: KS09-04 ,,,,,,,,,,,,,,,,,,,,,,,,,,,,,,,,,,,,,,,
# Region: North Pacific Ocean ,,,,,,,,,,,,,,,,,,,,,,,,,,,,,,,,,,,,,,,
#"# 	sta 2367:2398 on 137E 3-35N; PR02 ",,,,,,,,,,,,,,,,,,,,,,,,,,,,,,,,,,,,,,,
# EXPOCODE: 49UF20090422 ,,,,,,,,,,,,,,,,,,,,,,,,,,,,,,,,,,,,,,,
# DATES: 20090422 - 20090512 ,,,,,,,,,,,,,,,,,,,,,,,,,,,,,,,,,,,,,,,
# Chief Scientist: Tatsushi Shiga ,,,,,,,,,,,,,,,,,,,,,,,,,,,,,,,,,,,,,,,
# 25 stations with 24 place Rosette ,,,,,,,,,,,,,,,,,,,,,,,,,,,,,,,,,,,,,,,
# NOTE: ,,,,,,,,,,,,,,,,,,,,,,,,,,,,,,,,,,,,,,,
#"# 	Preceeding ""KS-"" removed from original station numbers ",,,,,,,,,,,,,,,,,,,,,,,,,,,,,,,,,,,,,,,
#"# 	Preceeding ""02-"" removed from original bottle numbers ",,,,,,,,,,,,,,,,,,,,,,,,,,,,,,,,,,,,,,,
#"# 	BUCKET samples coded as bottle/sample 99 ",,,,,,,,,,,,,,,,,,,,,,,,,,,,,,,,,,,,,,,
# CTD: Who - Tatsushi Shiga; Status - final ,,,,,,,,,,,,,,,,,,,,,,,,,,,,,,,,,,,,,,,
#"# 	Includes: CTDSAL ",,,,,,,,,,,,,,,,,,,,,,,,,,,,,,,,,,,,,,,
# SALNTY: Who - Tatsushi Shiga; Status - final ,,,,,,,,,,,,,,,,,,,,,,,,,,,,,,,,,,,,,,,
#"# 	Notes: 	 ",,,,,,,,,,,,,,,,,,,,,,,,,,,,,,,,,,,,,,,
# Nutrients: Who - Tatsushi Shiga; Status - final ,,,,,,,,,,,,,,,,,,,,,,,,,,,,,,,,,,,,,,,
#"# 	Includes: nitrate", nitrite, silicate, phosphate ,,,,,,,,,,,,,,,,,,,,,,,,,,,,,,,,,,,,
#"# 	Nitrite and NO3+NO2 reported. Separated by subtraction ",,,,,,,,,,,,,,,,,,,,,,,,,,,,,,,,,,,,,,,
# OXYGEN: Who - Tatsushi Shiga; Status - final ,,,,,,,,,,,,,,,,,,,,,,,,,,,,,,,,,,,,,,,
#"# 	Notes: ",,,,,,,,,,,,,,,,,,,,,,,,,,,,,,,,,,,,,,,
# TCARBN: Who - Shiya Minato; Status - final ,,,,,,,,,,,,,,,,,,,,,,,,,,,,,,,,,,,,,,,
#"# 	Notes:  ",,,,,,,,,,,,,,,,,,,,,,,,,,,,,,,,,,,,,,,
# PH_TOT: Who - Shiya Minato; Status - final ,,,,,,,,,,,,,,,,,,,,,,,,,,,,,,,,,,,,,,,
#"# 	Notes:  ",,,,,,,,,,,,,,,,,,,,,,,,,,,,,,,,,,,,,,,
# These data should be cited as: Shiga, Tatsushi; Minato, Shinya; Matsueda, Hidekazu (2019). Dissolved inorganic carbon (DIC), pH on total scale, temperature, salinity, oxygen, nutrients and other measurements collected from profile and discrete sample observations during the R/V Keifu Maru II cruise KS09-04, GO-SHIP_P09 (EXPOCODE 49UF20090422) in the North Pacific Ocean from 2009-04-22 to 2009-05-12 (NCEI Accession 0186216). [indicate subset used]. NOAA National Centers for Environmental Information. Dataset. https://doi.org/10.25921/tpvw-em32 ,,,,,,,,,,,,,,,,,,,,,,,,,,,,,,
# References that have used data from this cruise: ,,,,,,,,,,,,,,,,,,,,,,,,,,,,,,,,,,,,,,,
EXPOCODE,SECT_ID,STNNBR,CASTNO,SAMPNO,BTLNBR,BTLNBR_FLAG_W,DATE,TIME,LATITUDE,LONGITUDE,DEPTH,CTDPRS,CTDTMP,CTDSAL,CTDSAL_FLAG_W,SALNTY,SALNTY_FLAG_W,CTDOXY,CTDOXY_FLAG_W,OXYGEN,OXYGEN_FLAG_W,SILCAT,SILCAT_FLAG_W,NITRAT,NITRAT_FLAG_W,NITRIT,NITRIT_FLAG_W,PHSPHT,PHSPHT_FLAG_W,CFC-11,CFC-11_FLAG_W,CFC-12,CFC-12_FLAG_W,SF6,SF6_FLAG_W,TCARBN,TCARBN_FLAG_W,ALKALI,ALKALI_FLAG_W
,,,,,,,,,,,,DB,ITS-90,PSS-78,,PSS-78,,UMOL/KG,,UMOL/KG,,UMOL/KG,,UMOL/KG,,UMOL/KG,,UMOL/KG,,PMOL/KG,,PMOL/KG,,FMOL/KG,,UMOL/KG,,UMOL/KG
           NA,    PR02,   2398,   1,      99,      99,  2,20090504,1039,   3.0085,  136.9895,  4496,    0.000,  30.0610,  34.3900,2, -999.000,9, -999.000,9,  197.000,2,     1.21,2,     0.00,2,     0.00,2,     0.05,2, -999.000,9, -999.000,9, -999.000,9, -999.000,9, -999.000,9
           NA,    PR02,   2398,   1,      23,   19380,  2,20090504,1039,   3.0085,  136.9895,  4496,   11.200,  29.9298,  34.4356,2, -999.000,4, -999.000,9,  197.000,2,     1.11,2,     0.00,2,     0.00,2,     0.06,2, -999.000,9, -999.000,9, -999.000,9, 1925.400,2, -999.000,9
           NA,    PR02,   2398,   1,      22,   16028,  2,20090504,1039,   3.0085,  136.9895,  4496,   25.800,  29.7635,  34.5964,2, -999.000,9, -999.000,9,  197.000,2,     1.10,2,     0.00,2,     0.00,2,     0.09,2, -999.000,9, -999.000,9, -999.000,9, 1934.100,2, -999.000,9
           NA,    PR02,   2398,   1,      21,   16027,  2,20090504,1039,   3.0085,  136.9895,  4496,   50.900,  28.9394,  35.2700,2, -999.000,9, -999.000,9,  184.000,2,     1.60,2,     1.96,2,     0.34,2,     0.33,2, -999.000,9, -999.000,9, -999.000,9, 2003.800,2, -999.000,9
           NA,    PR02,   2398,   1,      20,   16026,  2,20090504,1039,   3.0085,  136.9895,  4496,   77.400,  28.3113,  35.4607,2, -999.000,9, -999.000,9,  170.000,2,     2.02,2,     4.69,2,     0.11,2,     0.48,2, -999.000,9, -999.000,9, -999.000,9, 2031.900,2, -999.000,9
           NA,    PR02,   2398,   1,      19,   19378,  2,20090504,1039,   3.0085,  136.9895,  4496,  101.900,  27.9780,  35.4670,2,   35.466,2, -999.000,9,  167.000,2,     2.20,2,     5.18,2,     0.12,2,     0.51,2, -999.000,9, -999.000,9, -999.000,9, 2037.300,2, -999.000,9
           NA,    PR02,   2398,   1,      18,   19377,  2,20090504,1039,   3.0085,  136.9895,  4496,  126.600,  27.1895,  35.3929,2, -999.000,9, -999.000,9,  159.000,2,     2.61,2,     6.17,2,     0.03,2,     0.56,2, -999.000,9, -999.000,9, -999.000,9, 2042.500,2, -999.000,9
           NA,    PR02,   2398,   1,      17,   16023,  2,20090504,1039,   3.0085,  136.9895,  4496,  152.000,  24.7227,  34.9934,2, -999.000,9, -999.000,9,  151.000,2,     4.24,2,     6.39,2,     0.01,2,     0.53,2, -999.000,9, -999.000,9, -999.000,9, 2037.700,2, -999.000,9
           NA,    PR02,   2398,   1,      16,   16022,  2,20090504,1039,   3.0085,  136.9895,  4496,  202.400,  20.9483,  35.0386,2, -999.000,4, -999.000,9,  143.000,2,     7.28,2,     9.69,2,     0.01,2,     0.74,2, -999.000,9, -999.000,9, -999.000,9, 2083.300,2, -999.000,9
           NA,    PR02,   2398,   1,      15,   16021,  2,20090504,1039,   3.0085,  136.9895,  4496,  252.400,  14.5301,  34.5942,2, -999.000,9, -999.000,9,  142.000,2,    16.50,2,    15.80,2,     0.00,2,     1.15,2, -999.000,9, -999.000,9, -999.000,9, 2126.000,2, -999.000,9
           NA,    PR02,   2398,   1,      14,   16020,  2,20090504,1039,   3.0085,  136.9895,  4496,  302.900,  10.9711,  34.4894,2,   34.493,2, -999.000,9,   98.000,2,    29.48,2,    25.70,2,     0.00,2,     1.85,2, -999.000,9, -999.000,9, -999.000,9, 2192.600,2, -999.000,9
           NA,    PR02,   2398,   1,      12,   16018,  2,20090504,1039,   3.0085,  136.9895,  4496,  403.200,   8.7071,  34.5753,2,   34.579,2, -999.000,9,   67.000,2,    38.84,2,    33.50,2,     0.00,2,     2.36,2, -999.000,9, -999.000,9, -999.000,9, 2244.500,2, -999.000,9
           NA,    PR02,   2398,   1,      13,   16019,  2,20090504,1039,   3.0085,  136.9895,  4496,  403.700,   8.7028,  34.5820,2, -999.000,4, -999.000,9,   68.000,2,    39.38,2,    33.40,2,     0.00,2,     2.38,2, -999.000,9, -999.000,9, -999.000,9, -999.000,9, -999.000,9
           NA,    PR02,   2398,   1,      11,   19376,  2,20090504,1039,   3.0085,  136.9895,  4496,  504.700,   7.6585,  34.5699,2,   34.569,2, -999.000,9,  100.000,2,    39.71,2,    32.70,2,     0.00,2,     2.29,2, -999.000,9, -999.000,9, -999.000,9, 2233.700,2, -999.000,9
           NA,    PR02,   2398,   1,      10,   19375,  2,20090504,1039,   3.0085,  136.9895,  4496,  605.100,   6.7372,  34.5402,2,   34.541,2, -999.000,9,  105.000,2,    48.10,2,    34.10,2,     0.00,2,     2.39,2, -999.000,9, -999.000,9, -999.000,9, 2244.700,2, -999.000,9
           NA,    PR02,   2398,   1,       9,   16015,  2,20090504,1039,   3.0085,  136.9895,  4496,  706.400,   6.1640,  34.5342,2,   34.534,2, -999.000,9,   98.000,2,    57.37,2,    35.70,2,     0.00,2,     2.53,2, -999.000,9, -999.000,9, -999.000,9, 2260.900,2, -999.000,9
           NA,    PR02,   2398,   1,       8,   16014,  2,20090504,1039,   3.0085,  136.9895,  4496,  806.800,   5.6026,  34.5346,2,   34.534,2, -999.000,9,   98.000,2,    64.96,2,    36.70,2,     0.00,2,     2.60,2, -999.000,9, -999.000,9, -999.000,9, 2271.000,2, -999.000,9
           NA,    PR02,   2398,   1,       7,   19374,  2,20090504,1039,   3.0085,  136.9895,  4496,  908.400,   5.0786,  34.5413,2,   34.542,2, -999.000,9,  103.000,2,    74.80,2,    36.70,2,     0.00,2,     2.60,2, -999.000,9, -999.000,9, -999.000,9, 2279.300,2, -999.000,9
           NA,    PR02,   2398,   1,       6,   19373,  2,20090504,1039,   3.0085,  136.9895,  4496, 1007.700,   4.5323,  34.5539,2,   34.553,2, -999.000,9,   92.000,2,    85.90,2,    38.40,2,     0.00,2,     2.74,2, -999.000,9, -999.000,9, -999.000,9, 2298.000,2, -999.000,9
           NA,    PR02,   2398,   1,       5,   16011,  2,20090504,1039,   3.0085,  136.9895,  4496, 1261.000,   3.6942,  34.5768,2,   34.577,2, -999.000,9,   96.000,2,   104.04,2,    38.80,2,     0.00,2,     2.77,2, -999.000,9, -999.000,9, -999.000,9, 2316.500,2, -999.000,9
           NA,    PR02,   2398,   1,       4,   16010,  2,20090504,1039,   3.0085,  136.9895,  4496, 1514.100,   3.0467,  34.5988,2,   34.599,2, -999.000,9,  103.000,2,   118.01,2,    39.00,2,     0.00,2,     2.78,2, -999.000,9, -999.000,9, -999.000,9, 2329.000,2, -999.000,9
           NA,    PR02,   2398,   1,       3,   16009,  2,20090504,1039,   3.0085,  136.9895,  4496, 1767.900,   2.5216,  34.6208,2,   34.621,2, -999.000,9,  110.000,2,   128.93,2,    38.70,2,     0.00,2,     2.74,2, -999.000,9, -999.000,9, -999.000,9, 2339.000,6, -999.000,9
           NA,    PR02,   2398,   1,       2,   16008,  2,20090504,1039,   3.0085,  136.9895,  4496, 2032.100,   2.1345,  34.6403,2,   34.640,2, -999.000,9,  119.000,2,   136.00,2,    38.30,2,     0.00,2,     2.69,2, -999.000,9, -999.000,9, -999.000,9, -999.000,9, -999.000,9
           NA,    PR02,   2398,   1,       1,   16007,  2,20090504,1039,   3.0085,  136.9895,  4496, 2032.400,   2.1327,  34.6403,2,   34.640,2, -999.000,9,  119.000,2,   136.19,2,    38.30,2,     0.00,2,     2.69,2, -999.000,9, -999.000,9, -999.000,9, 2342.700,2, -999.000,9
           NA,    PR02,   2397,   1,      99,      99,  2,20090504,0400,   4.0035,  136.9985,  4681,    0.000,  29.9448,  34.3690,2, -999.000,9, -999.000,9,  199.000,2,     1.20,2,     0.00,2,     0.00,2,     0.06,2, -999.000,9, -999.000,9, -999.000,9, -999.000,9, -999.000,9
           NA,    PR02,   2397,   1,      23,   19380,  2,20090504,0400,   4.0035,  136.9985,  4681,   11.400,  29.8218,  34.3678,2, -999.000,9, -999.000,9,  198.000,2,     1.19,2,     0.00,2,     0.00,2,     0.06,2, -999.000,9, -999.000,9, -999.000,9, -999.000,9, -999.000,9
           NA,    PR02,   2397,   1,      22,   16028,  2,20090504,0400,   4.0035,  136.9985,  4681,   25.600,  29.7444,  34.5830,2, -999.000,9, -999.000,9,  200.000,2,     1.09,2,     0.00,2,     0.00,2,     0.08,2, -999.000,9, -999.000,9, -999.000,9, -999.000,9, -999.000,9
           NA,    PR02,   2397,   1,      20,   16026,  2,20090504,0400,   4.0035,  136.9985,  4681,   51.900,  29.8688,  35.2021,2, -999.000,9, -999.000,9,  201.000,2,     1.26,2,     0.00,2,     0.00,2,     0.18,2, -999.000,9, -999.000,9, -999.000,9, -999.000,9, -999.000,9
           NA,    PR02,   2397,   1,      21,   16027,  2,20090504,0400,   4.0035,  136.9985,  4681,   52.000,  29.8687,  35.2024,2, -999.000,9, -999.000,9,  200.000,2,     1.18,2,     0.00,2,     0.00,2,     0.18,2, -999.000,9, -999.000,9, -999.000,9, -999.000,9, -999.000,9
           NA,    PR02,   2397,   1,      19,   19378,  2,20090504,0400,   4.0035,  136.9985,  4681,   76.700,  29.2565,  35.2972,2, -999.000,9, -999.000,9,  187.000,2,     1.34,2,     0.91,2,     0.19,2,     0.27,2, -999.000,9, -999.000,9, -999.000,9, -999.000,9, -999.000,9
           NA,    PR02,   2397,   1,      18,   19377,  2,20090504,0400,   4.0035,  136.9985,  4681,  101.300,  28.4224,  35.4427,2, -999.000,9, -999.000,9,  171.000,2,     1.80,2,     4.52,2,     0.18,2,     0.47,2, -999.000,9, -999.000,9, -999.000,9, -999.000,9, -999.000,9
           NA,    PR02,   2397,   1,      17,   16023,  2,20090504,0400,   4.0035,  136.9985,  4681,  126.400,  27.5894,  35.4950,2, -999.000,9, -999.000,9,  163.000,2,     2.26,2,     6.02,2,     0.08,2,     0.56,2, -999.000,9, -999.000,9, -999.000,9, -999.000,9, -999.000,9
           NA,    PR02,   2397,   1,      16,   16022,  2,20090504,0400,   4.0035,  136.9985,  4681,  151.900,  25.6578,  35.0589,2, -999.000,9, -999.000,9,  151.000,2,     4.02,2,     6.67,2,     0.03,2,     0.56,2, -999.000,9, -999.000,9, -999.000,9, -999.000,9, -999.000,9
           NA,    PR02,   2397,   1,      15,   16021,  2,20090504,0400,   4.0035,  136.9985,  4681,  201.300,  20.5663,  34.9407,2, -999.000,9, -999.000,9,  150.000,2,     7.51,2,     8.99,2,     0.01,2,     0.69,2, -999.000,9, -999.000,9, -999.000,9, -999.000,9, -999.000,9
           NA,    PR02,   2397,   1,      14,   16020,  2,20090504,0400,   4.0035,  136.9985,  4681,  252.800,  10.9298,  34.5274,2, -999.000,9, -999.000,9,   83.000,2,    30.57,2,    28.10,2,     0.00,2,     1.99,2, -999.000,9, -999.000,9, -999.000,9, -999.000,9, -999.000,9
           NA,    PR02,   2397,   1,      13,   16019,  2,20090504,0400,   4.0035,  136.9985,  4681,  303.000,   9.0778,  34.5471,2, -999.000,9, -999.000,9,   81.000,2,    39.78,2,    31.80,2,     0.00,2,     2.23,2, -999.000,9, -999.000,9, -999.000,9, -999.000,9, -999.000,9
           NA,    PR02,   2397,   1,      12,   16018,  2,20090504,0400,   4.0035,  136.9985,  4681,  403.500,   7.9519,  34.5792,2, -999.000,9, -999.000,9,   93.000,2,    39.61,2,    33.10,2,     0.00,2,     2.32,2, -999.000,9, -999.000,9, -999.000,9, -999.000,9, -999.000,9
           NA,    PR02,   2397,   1,      10,   19375,  2,20090504,0400,   4.0035,  136.9985,  4681,  504.500,   7.0279,  34.5456,2, -999.000,9, -999.000,9,   99.000,2,    46.49,2,    34.30,2,     0.00,2,     2.40,2, -999.000,9, -999.000,9, -999.000,9, -999.000,9, -999.000,9
           NA,    PR02,   2397,   1,      11,   19376,  2,20090504,0400,   4.0035,  136.9985,  4681,  504.600,   7.0276,  34.5458,2, -999.000,9, -999.000,9,   99.000,2,    46.70,2,    34.40,2,     0.00,2,     2.41,2, -999.000,9, -999.000,9, -999.000,9, -999.000,9, -999.000,9
           NA,    PR02,   2397,   1,       9,   16015,  2,20090504,0400,   4.0035,  136.9985,  4681,  605.500,   6.4225,  34.5348,2, -999.000,9, -999.000,9,   97.000,2,    53.92,2,    35.50,2,     0.00,2,     2.50,2, -999.000,9, -999.000,9, -999.000,9, -999.000,9, -999.000,9
           NA,    PR02,   2397,   1,       8,   16014,  2,20090504,0400,   4.0035,  136.9985,  4681,  706.000,   5.8856,  34.5344,2, -999.000,9, -999.000,9,   99.000,2,    61.21,2,    36.30,2,     0.00,2,     2.55,2, -999.000,9, -999.000,9, -999.000,9, -999.000,9, -999.000,9
           NA,    PR02,   2397,   1,       7,   19374,  2,20090504,0400,   4.0035,  136.9985,  4681,  806.900,   5.3822,  34.5294,2, -999.000,9, -999.000,9,  112.000,2,    63.95,2,    36.00,2,     0.00,2,     2.52,2, -999.000,9, -999.000,9, -999.000,9, -999.000,9, -999.000,9
           NA,    PR02,   2397,   1,       6,   19373,  2,20090504,0400,   4.0035,  136.9985,  4681,  907.700,   4.8179,  34.5480,2, -999.000,9, -999.000,9,   97.000,2,    83.30,2,    37.70,2,     0.00,2,     2.66,2, -999.000,9, -999.000,9, -999.000,9, -999.000,9, -999.000,9
           NA,    PR02,   2397,   1,       5,   16011,  2,20090504,0400,   4.0035,  136.9985,  4681, 1008.600,   4.3128,  34.5604,2, -999.000,9, -999.000,9,  100.000,2,    90.89,2,    38.10,2,     0.00,2,     2.70,2, -999.000,9, -999.000,9, -999.000,9, -999.000,9, -999.000,9
           NA,    PR02,   2397,   1,       4,   16010,  2,20090504,0400,   4.0035,  136.9985,  4681, 1261.700,   3.6254,  34.5791,2, -999.000,9, -999.000,9,   97.000,2,   105.69,2,    39.30,2,     0.00,2,     2.78,2, -999.000,9, -999.000,9, -999.000,9, -999.000,9, -999.000,9
           NA,    PR02,   2397,   1,       3,   16009,  2,20090504,0400,   4.0035,  136.9985,  4681, 1515.600,   3.0754,  34.5969,2, -999.000,9, -999.000,9,  103.000,2,   117.60,2,    39.20,2,     0.00,2,     2.77,2, -999.000,9, -999.000,9, -999.000,9, -999.000,9, -999.000,9
           NA,    PR02,   2397,   1,       2,   16008,  2,20090504,0400,   4.0035,  136.9985,  4681, 1767.300,   2.6114,  34.6165,2, -999.000,9, -999.000,9,  109.000,2,   127.70,2,    39.00,2,     0.00,2,     2.75,2, -999.000,9, -999.000,9, -999.000,9, -999.000,9, -999.000,9
           NA,    PR02,   2397,   1,       1,   16007,  2,20090504,0400,   4.0035,  136.9985,  4681, 2033.300,   2.1508,  34.6390,2, -999.000,9, -999.000,9,  120.000,2,   135.88,2,    38.60,2,     0.00,2,     2.70,2, -999.000,9, -999.000,9, -999.000,9, -999.000,9, -999.000,9