BOTTLE,20211202JOAExport
EXPOCODE,SECT_ID,STNNBR,CASTNO,SAMPNO,BTLNBR,BTLNBR_FLAG_W,DATE,TIME,LATITUDE,LONGITUDE,DEPTH,CTDPRS,CTDTMP,CTDSAL,CTDSAL_FLAG_W,SALNTY,SALNTY_FLAG_W,CTDOXY,CTDOXY_FLAG_W,OXYGEN,OXYGEN_FLAG_W,SILCAT,SILCAT_FLAG_W,NITRAT,NITRAT_FLAG_W,NITRIT,NITRIT_FLAG_W,PHSPHT,PHSPHT_FLAG_W,CFC-11,CFC-11_FLAG_W,CFC-12,CFC-12_FLAG_W,SF6,SF6_FLAG_W,TCARBN,TCARBN_FLAG_W,ALKALI,ALKALI_FLAG_W
,,,,,,,,,,,,DB,ITS-90,PSS-78,,PSS-78,,UMOL/KG,,UMOL/KG,,UMOL/KG,,UMOL/KG,,UMOL/KG,,UMOL/KG,,PMOL/KG,,PMOL/KG,,FMOL/KG,,UMOL/KG,,UMOL/KG
           NA,    PR02,   2367,   1,      99,      99,  2,20090422,2225,  33.9727,  137.0030,  1248,    0.000,  18.4650,  34.5795,2, -999.000,9, -999.000,9,  241.000,2,     1.35,2,     0.09,2,     0.01,2,     0.05,2, -999.000,9, -999.000,9, -999.000,9, -999.000,9, -999.000,9
           NA,    PR02,   2367,   1,      21,   16027,  2,20090422,2225,  33.9727,  137.0030,  1248,   11.100,  18.4675,  34.5782,2,   34.580,2, -999.000,9,  242.000,2,     1.34,2,    -0.01,2,     0.01,2,     0.03,2, -999.000,9, -999.000,9, -999.000,9, -999.000,9, -999.000,9
           NA,    PR02,   2367,   1,      20,   16026,  2,20090422,2225,  33.9727,  137.0030,  1248,   26.000,  18.4661,  34.5790,2, -999.000,9, -999.000,9,  241.000,2,     1.34,2,    -0.01,2,     0.01,2,     0.04,2, -999.000,9, -999.000,9, -999.000,9, -999.000,9, -999.000,9
           NA,    PR02,   2367,   1,      19,   19378,  2,20090422,2225,  33.9727,  137.0030,  1248,   51.100,  17.9966,  34.5727,2, -999.000,9, -999.000,9,  236.000,2,     3.14,2,     1.05,2,     0.15,2,     0.13,2, -999.000,9, -999.000,9, -999.000,9, -999.000,9, -999.000,9
           NA,    PR02,   2367,   1,      18,   19377,  2,20090422,2225,  33.9727,  137.0030,  1248,   76.600,  15.1382,  34.5675,2, -999.000,9, -999.000,9,  189.000,2,    14.06,2,    10.14,2,     0.16,2,     0.69,2, -999.000,9, -999.000,9, -999.000,9, -999.000,9, -999.000,9
           NA,    PR02,   2367,   1,      17,   16023,  2,20090422,2225,  33.9727,  137.0030,  1248,  101.900,  13.6412,  34.4746,2,   34.473,2, -999.000,9,  205.000,2,    16.61,2,    11.28,2,     0.22,2,     0.78,2, -999.000,9, -999.000,9, -999.000,9, -999.000,9, -999.000,9
           NA,    PR02,   2367,   1,      16,   16022,  2,20090422,2225,  33.9727,  137.0030,  1248,  127.300,  13.1741,  34.4452,2, -999.000,9, -999.000,9,  212.000,2,    17.79,2,    11.52,2,     0.18,2,     0.81,2, -999.000,9, -999.000,9, -999.000,9, -999.000,9, -999.000,9
           NA,    PR02,   2367,   1,      15,   16021,  2,20090422,2225,  33.9727,  137.0030,  1248,  151.900,  11.9965,  34.4020,2, -999.000,9, -999.000,9,  176.000,2,    28.53,2,    16.79,2,     0.01,2,     1.16,2, -999.000,9, -999.000,9, -999.000,9, -999.000,9, -999.000,9
           NA,    PR02,   2367,   1,      14,   16020,  2,20090422,2225,  33.9727,  137.0030,  1248,  203.700,  10.8962,  34.3512,2,   34.351,2, -999.000,9,  158.000,2,    35.65,2,    19.99,2,     0.01,2,     1.41,2, -999.000,9, -999.000,9, -999.000,9, -999.000,9, -999.000,9
           NA,    PR02,   2367,   1,      13,   16019,  2,20090422,2225,  33.9727,  137.0030,  1248,  254.200,   9.5770,  34.2966,2, -999.000,9, -999.000,9,  144.000,2,    44.09,2,    23.39,2,     0.01,2,     1.65,2, -999.000,9, -999.000,9, -999.000,9, -999.000,9, -999.000,9
           NA,    PR02,   2367,   1,      11,   19376,  2,20090422,2225,  33.9727,  137.0030,  1248,  305.800,   8.3706,  34.2423,2,   34.244,2, -999.000,9,  133.000,2,    52.17,2,    26.09,2,     0.01,2,     1.87,2, -999.000,9, -999.000,9, -999.000,9, -999.000,9, -999.000,9
           NA,    PR02,   2367,   1,      12,   16018,  2,20090422,2225,  33.9727,  137.0030,  1248,  307.200,   8.3562,  34.2416,2,   34.243,2, -999.000,9,  133.000,2,    52.36,2,    26.19,2,     0.01,2,     1.87,2, -999.000,9, -999.000,9, -999.000,9, -999.000,9, -999.000,9
           NA,    PR02,   2367,   1,      10,   19375,  2,20090422,2225,  33.9727,  137.0030,  1248,  405.400,   6.8246,  34.2049,2,   34.206,2, -999.000,9,  115.000,2,    67.19,2,    30.60,2,     0.00,2,     2.19,2, -999.000,9, -999.000,9, -999.000,9, -999.000,9, -999.000,9
           NA,    PR02,   2367,   1,       9,   16015,  2,20090422,2225,  33.9727,  137.0030,  1248,  505.500,   5.5074,  34.1993,2,   34.200,2, -999.000,9,   93.000,2,    83.20,2,    34.70,2,     0.00,2,     2.49,2, -999.000,9, -999.000,9, -999.000,9, -999.000,9, -999.000,9
           NA,    PR02,   2367,   1,       8,   16014,  2,20090422,2225,  33.9727,  137.0030,  1248,  607.300,   5.0526,  34.2729,2,   34.274,2, -999.000,9,   79.000,2,    92.97,2,    36.70,2,     0.00,2,     2.62,2, -999.000,9, -999.000,9, -999.000,9, -999.000,9, -999.000,9
           NA,    PR02,   2367,   1,       7,   19374,  2,20090422,2225,  33.9727,  137.0030,  1248,  707.700,   4.0846,  34.3058,2, -999.000,4, -999.000,9,   62.000,2,   110.75,2,    39.40,2,     0.00,2,     2.82,2, -999.000,9, -999.000,9, -999.000,9, -999.000,9, -999.000,9
           NA,    PR02,   2367,   1,       6,   19373,  2,20090422,2225,  33.9727,  137.0030,  1248,  809.600,   3.8399,  34.3464,2,   34.347,2, -999.000,9,   60.000,2,   116.21,2,    39.90,2,     0.00,2,     2.85,2, -999.000,9, -999.000,9, -999.000,9, -999.000,9, -999.000,9
           NA,    PR02,   2367,   1,       5,   16011,  2,20090422,2225,  33.9727,  137.0030,  1248,  909.900,   3.5012,  34.3787,2,   34.379,2, -999.000,9,   56.000,2,   123.72,2,    40.50,2,     0.00,2,     2.90,2, -999.000,9, -999.000,9, -999.000,9, -999.000,9, -999.000,9
           NA,    PR02,   2367,   1,       4,   16010,  2,20090422,2225,  33.9727,  137.0030,  1248, 1009.200,   3.3366,  34.4125,2,   34.414,2, -999.000,9,   61.000,2,   126.76,2,    40.60,2,     0.00,2,     2.89,2, -999.000,9, -999.000,9, -999.000,9, -999.000,9, -999.000,9
           NA,    PR02,   2367,   1,       2,   16008,  2,20090422,2225,  33.9727,  137.0030,  1248, 1158.700,   2.9629,  34.4677,2,   34.469,2, -999.000,9,   69.000,2,   132.80,2,    40.30,2,     0.00,2,     2.87,2, -999.000,9, -999.000,9, -999.000,9, -999.000,9, -999.000,9
           NA,    PR02,   2367,   1,       1,   16007,  2,20090422,2225,  33.9727,  137.0030,  1248, 1159.700,   2.9627,  34.4678,2,   34.470,2, -999.000,9,   70.000,2,   132.95,2,    40.30,2,     0.00,2,     2.87,2, -999.000,9, -999.000,9, -999.000,9, -999.000,9, -999.000,9