BOTTLE,20211202JOAExport
EXPOCODE,SECT_ID,STNNBR,CASTNO,SAMPNO,BTLNBR,BTLNBR_FLAG_W,DATE,TIME,LATITUDE,LONGITUDE,DEPTH,CTDPRS,CTDTMP,CTDSAL,CTDSAL_FLAG_W,SALNTY,SALNTY_FLAG_W,CTDOXY,CTDOXY_FLAG_W,OXYGEN,OXYGEN_FLAG_W,SILCAT,SILCAT_FLAG_W,NITRAT,NITRAT_FLAG_W,NITRIT,NITRIT_FLAG_W,PHSPHT,PHSPHT_FLAG_W,CFC-11,CFC-11_FLAG_W,CFC-12,CFC-12_FLAG_W,SF6,SF6_FLAG_W,TCARBN,TCARBN_FLAG_W,ALKALI,ALKALI_FLAG_W
,,,,,,,,,,,,DB,ITS-90,PSS-78,,PSS-78,,UMOL/KG,,UMOL/KG,,UMOL/KG,,UMOL/KG,,UMOL/KG,,UMOL/KG,,PMOL/KG,,PMOL/KG,,FMOL/KG,,UMOL/KG,,UMOL/KG
           NA,    PR02,   2379,   1,      99,      99,  2,20090427,0918,  28.9863,  136.9977,  4530,    0.000,  21.1288,  34.6699,2, -999.000,9, -999.000,9,  225.000,2,     1.48,2,     0.00,2,     0.00,2,     0.00,2, -999.000,9, -999.000,9, -999.000,9, -999.000,9, -999.000,9
           NA,    PR02,   2379,   1,      24,   16030,  2,20090427,0918,  28.9863,  136.9977,  4530,   12.100,  21.1328,  34.6703,2, -999.000,9, -999.000,9,  225.000,2,     1.48,2,     0.00,2,     0.00,2,     0.00,2, -999.000,9, -999.000,9, -999.000,9, -999.000,9, -999.000,9
           NA,    PR02,   2379,   1,      23,   19380,  2,20090427,0918,  28.9863,  136.9977,  4530,   25.100,  21.1348,  34.6695,2, -999.000,9, -999.000,9,  225.000,2,     1.52,2,     0.10,2,     0.00,2,     0.00,2, -999.000,9, -999.000,9, -999.000,9, -999.000,9, -999.000,9
           NA,    PR02,   2379,   1,      22,   16028,  2,20090427,0918,  28.9863,  136.9977,  4530,   50.500,  20.5684,  34.6349,2, -999.000,9, -999.000,9,  228.000,2,     1.71,2,     0.00,2,     0.00,2,     0.00,2, -999.000,9, -999.000,9, -999.000,9, -999.000,9, -999.000,9
           NA,    PR02,   2379,   1,      21,   16027,  2,20090427,0918,  28.9863,  136.9977,  4530,   73.600,  19.7265,  34.7005,2, -999.000,9, -999.000,9,  228.000,2,     1.85,2,    -0.02,2,     0.02,2,     0.01,2, -999.000,9, -999.000,9, -999.000,9, -999.000,9, -999.000,9
           NA,    PR02,   2379,   1,      20,   16026,  2,20090427,0918,  28.9863,  136.9977,  4530,  100.300,  19.3322,  34.7117,2, -999.000,9, -999.000,9,  227.000,2,     1.99,2,     0.12,2,     0.18,2,     0.03,2, -999.000,9, -999.000,9, -999.000,9, -999.000,9, -999.000,9
           NA,    PR02,   2379,   1,      19,   19378,  2,20090427,0918,  28.9863,  136.9977,  4530,  126.200,  19.0792,  34.7032,2, -999.000,9, -999.000,9,  221.000,2,     2.28,2,     1.38,2,     0.12,2,     0.09,2, -999.000,9, -999.000,9, -999.000,9, -999.000,9, -999.000,9
           NA,    PR02,   2379,   1,      18,   19377,  2,20090427,0918,  28.9863,  136.9977,  4530,  151.600,  18.9747,  34.7666,2, -999.000,9, -999.000,9,  202.000,2,     2.99,2,     3.08,2,     0.02,2,     0.19,2, -999.000,9, -999.000,9, -999.000,9, -999.000,9, -999.000,9
           NA,    PR02,   2379,   1,      17,   16023,  2,20090427,0918,  28.9863,  136.9977,  4530,  201.500,  18.1593,  34.7788,2, -999.000,9, -999.000,9,  199.000,2,     3.89,2,     4.49,2,     0.01,2,     0.27,2, -999.000,9, -999.000,9, -999.000,9, -999.000,9, -999.000,9
           NA,    PR02,   2379,   1,      16,   16022,  2,20090427,0918,  28.9863,  136.9977,  4530,  254.900,  17.5460,  34.7553,2, -999.000,9, -999.000,9,  197.000,2,     4.84,2,     5.59,2,     0.01,2,     0.34,2, -999.000,9, -999.000,9, -999.000,9, -999.000,9, -999.000,9
           NA,    PR02,   2379,   1,      15,   16021,  2,20090427,0918,  28.9863,  136.9977,  4530,  305.100,  16.7080,  34.7089,2, -999.000,9, -999.000,9,  193.000,2,     6.89,2,     7.20,2,     0.00,2,     0.45,2, -999.000,9, -999.000,9, -999.000,9, -999.000,9, -999.000,9
           NA,    PR02,   2379,   1,      14,   16020,  2,20090427,0918,  28.9863,  136.9977,  4530,  404.500,  14.9063,  34.5847,2, -999.000,9, -999.000,9,  182.000,2,    12.08,2,    10.90,2,     0.00,2,     0.72,2, -999.000,9, -999.000,9, -999.000,9, -999.000,9, -999.000,9
           NA,    PR02,   2379,   1,      13,   16019,  2,20090427,0918,  28.9863,  136.9977,  4530,  503.500,  12.1099,  34.3968,2, -999.000,9, -999.000,9,  171.000,2,    22.71,2,    16.60,2,     0.00,2,     1.13,2, -999.000,9, -999.000,9, -999.000,9, -999.000,9, -999.000,9
           NA,    PR02,   2379,   1,      12,   16018,  2,20090427,0918,  28.9863,  136.9977,  4530,  605.000,   9.6294,  34.2612,2, -999.000,9, -999.000,9,  152.000,2,    37.67,2,    22.50,2,     0.00,2,     1.58,2, -999.000,9, -999.000,9, -999.000,9, -999.000,9, -999.000,9
           NA,    PR02,   2379,   1,      11,   19376,  2,20090427,0918,  28.9863,  136.9977,  4530,  706.300,   7.2544,  34.1977,2, -999.000,9, -999.000,9,  121.000,2,    60.06,2,    29.60,2,     0.00,2,     2.10,2, -999.000,9, -999.000,9, -999.000,9, -999.000,9, -999.000,9
           NA,    PR02,   2379,   1,      10,   19375,  2,20090427,0918,  28.9863,  136.9977,  4530,  808.000,   5.7446,  34.2506,2, -999.000,9, -999.000,9,   92.000,2,    83.51,2,    34.70,2,     0.00,2,     2.48,2, -999.000,9, -999.000,9, -999.000,9, -999.000,9, -999.000,9
           NA,    PR02,   2379,   1,       9,   16015,  2,20090427,0918,  28.9863,  136.9977,  4530,  907.900,   4.5938,  34.2803,2, -999.000,9, -999.000,9,   70.000,2,   101.66,2,    38.40,2,     0.00,2,     2.74,2, -999.000,9, -999.000,9, -999.000,9, -999.000,9, -999.000,9
           NA,    PR02,   2379,   1,       8,   16014,  2,20090427,0918,  28.9863,  136.9977,  4530, 1010.500,   3.9219,  34.3324,2, -999.000,9, -999.000,9,   59.000,2,   114.87,2,    40.20,2,     0.00,2,     2.86,2, -999.000,9, -999.000,9, -999.000,9, -999.000,9, -999.000,9
           NA,    PR02,   2379,   1,       7,   19374,  2,20090427,0918,  28.9863,  136.9977,  4530, 1263.400,   3.0711,  34.4612,2, -999.000,9, -999.000,9,   67.000,2,   131.69,2,    40.70,2,     0.00,2,     2.88,2, -999.000,9, -999.000,9, -999.000,9, -999.000,9, -999.000,9
           NA,    PR02,   2379,   1,       6,   19373,  2,20090427,0918,  28.9863,  136.9977,  4530, 1516.000,   2.6061,  34.5213,2, -999.000,9, -999.000,9,   80.000,2,   138.79,2,    40.40,2,     0.00,2,     2.85,2, -999.000,9, -999.000,9, -999.000,9, -999.000,9, -999.000,9
           NA,    PR02,   2379,   1,       5,   16011,  2,20090427,0918,  28.9863,  136.9977,  4530, 1770.400,   2.1943,  34.5706,2, -999.000,9, -999.000,9,   91.000,2,   146.05,2,    40.30,2,     0.00,2,     2.82,2, -999.000,9, -999.000,9, -999.000,9, -999.000,9, -999.000,9
           NA,    PR02,   2379,   1,       4,   16010,  2,20090427,0918,  28.9863,  136.9977,  4530, 2024.200,   1.9450,  34.6069,2, -999.000,9, -999.000,9,  105.000,2,   147.34,2,    39.20,2,     0.00,2,     2.75,2, -999.000,9, -999.000,9, -999.000,9, -999.000,9, -999.000,9
           NA,    PR02,   2379,   1,       3,   16009,  2,20090427,0918,  28.9863,  136.9977,  4530, 3042.500,   1.5837,  34.6670,2, -999.000,9, -999.000,9,  144.000,2,   141.68,2,    36.70,2,     0.00,2,     2.54,2, -999.000,9, -999.000,9, -999.000,9, -999.000,9, -999.000,9
           NA,    PR02,   2379,   1,       2,   16008,  2,20090427,0918,  28.9863,  136.9977,  4530, 4064.200,   1.5415,  34.6829,2, -999.000,9, -999.000,9,  157.000,2,   139.79,2,    36.00,2,     0.00,2,     2.48,2, -999.000,9, -999.000,9, -999.000,9, -999.000,9, -999.000,9
           NA,    PR02,   2379,   1,       1,   16007,  2,20090427,0918,  28.9863,  136.9977,  4530, 4549.900,   1.5850,  34.6839,2, -999.000,9, -999.000,9,  158.000,2,   139.15,2,    35.90,2,     0.00,2,     2.48,2, -999.000,9, -999.000,9, -999.000,9, -999.000,9, -999.000,9
           NA,    PR02,   2378,   1,      99,      99,  2,20090427,0107,  29.9870,  137.0158,  4510,    0.000,  20.2555,  34.7039,2, -999.000,9, -999.000,9,  227.000,2,     1.56,2,     0.28,2,     0.02,2,     0.02,2, -999.000,9, -999.000,9, -999.000,9, -999.000,9, -999.000,9
           NA,    PR02,   2378,   1,      24,   16030,  2,20090427,0107,  29.9870,  137.0158,  4510,   10.000,  20.2525,  34.7037,2,   34.703,2, -999.000,9,  227.000,2,     1.56,2,     0.09,2,     0.01,2,     0.01,2, -999.000,9, -999.000,9, -999.000,9, 1980.700,2, -999.000,9
           NA,    PR02,   2378,   1,      23,   19380,  2,20090427,0107,  29.9870,  137.0158,  4510,   25.400,  20.2601,  34.7035,2, -999.000,9, -999.000,9,  227.000,2,     1.56,2,     0.09,2,     0.01,2,     0.01,2, -999.000,9, -999.000,9, -999.000,9, 1979.500,2, -999.000,9
           NA,    PR02,   2378,   1,      22,   16028,  2,20090427,0107,  29.9870,  137.0158,  4510,   52.200,  20.2055,  34.7018,2, -999.000,9, -999.000,9,  227.000,2,     1.56,2,     0.08,2,     0.02,2,     0.01,2, -999.000,9, -999.000,9, -999.000,9, 1982.600,2, -999.000,9
           NA,    PR02,   2378,   1,      21,   16027,  2,20090427,0107,  29.9870,  137.0158,  4510,   73.900,  19.9208,  34.6918,2, -999.000,9, -999.000,9,  219.000,2,     1.99,2,     0.96,2,     0.14,2,     0.07,2, -999.000,9, -999.000,9, -999.000,9, 1989.900,2, -999.000,9
           NA,    PR02,   2378,   1,      20,   16026,  2,20090427,0107,  29.9870,  137.0158,  4510,  100.700,  19.6671,  34.7020,2,   34.701,2, -999.000,9,  220.000,2,     1.99,2,     1.07,2,     0.13,2,     0.07,2, -999.000,9, -999.000,9, -999.000,9, 1991.200,2, -999.000,9
           NA,    PR02,   2378,   1,      19,   19378,  2,20090427,0107,  29.9870,  137.0158,  4510,  126.500,  19.5148,  34.7054,2, -999.000,9, -999.000,9,  225.000,2,     1.80,2,     0.36,2,     0.24,2,     0.04,2, -999.000,9, -999.000,9, -999.000,9, 1987.600,2, -999.000,9
           NA,    PR02,   2378,   1,      18,   19377,  2,20090427,0107,  29.9870,  137.0158,  4510,  154.500,  19.4226,  34.7082,2, -999.000,9, -999.000,9,  223.000,2,     1.94,2,     0.90,2,     0.10,2,     0.06,2, -999.000,9, -999.000,9, -999.000,9, 1991.400,2, -999.000,9
           NA,    PR02,   2378,   1,      17,   16023,  2,20090427,0107,  29.9870,  137.0158,  4510,  203.500,  19.1200,  34.7176,2,   34.717,2, -999.000,9,  217.000,2,     2.41,2,     1.88,2,     0.02,2,     0.11,2, -999.000,9, -999.000,9, -999.000,9, 2001.900,2, -999.000,9
           NA,    PR02,   2378,   1,      16,   16022,  2,20090427,0107,  29.9870,  137.0158,  4510,  252.600,  18.7049,  34.7951,2, -999.000,9, -999.000,9,  197.000,2,     3.61,2,     4.09,2,     0.01,2,     0.24,2, -999.000,9, -999.000,9, -999.000,9, 2027.500,2, -999.000,9
           NA,    PR02,   2378,   1,      15,   16021,  2,20090427,0107,  29.9870,  137.0158,  4510,  302.900,  17.9092,  34.7802,2,   34.781,2, -999.000,9,  198.000,2,     4.12,2,     4.90,2,     0.00,2,     0.30,2, -999.000,9, -999.000,9, -999.000,9, 2035.100,2, -999.000,9
           NA,    PR02,   2378,   1,      14,   16020,  2,20090427,0107,  29.9870,  137.0158,  4510,  403.700,  16.1947,  34.6775,2,   34.676,2, -999.000,9,  190.000,2,     7.84,2,     8.30,2,     0.00,2,     0.53,2, -999.000,9, -999.000,9, -999.000,9, 2061.600,2, -999.000,9
           NA,    PR02,   2378,   1,      13,   16019,  2,20090427,0107,  29.9870,  137.0158,  4510,  505.100,  13.4554,  34.4856,2,   34.488,2, -999.000,9,  177.000,2,    16.78,2,    13.70,2,     0.00,2,     0.92,2, -999.000,9, -999.000,9, -999.000,9, 2099.300,2, -999.000,9
           NA,    PR02,   2378,   1,      12,   16018,  2,20090427,0107,  29.9870,  137.0158,  4510,  605.700,  10.1123,  34.2842,2,   34.284,2, -999.000,9,  157.000,2,    33.98,2,    21.30,2,     0.00,2,     1.49,2, -999.000,9, -999.000,9, -999.000,9, 2155.100,2, -999.000,9
           NA,    PR02,   2378,   1,      11,   19376,  2,20090427,0107,  29.9870,  137.0158,  4510,  708.700,   7.7505,  34.1998,2,   34.201,2, -999.000,9,  131.000,2,    53.01,2,    27.80,2,     0.00,2,     1.97,2, -999.000,9, -999.000,9, -999.000,9, 2205.800,2, -999.000,9
           NA,    PR02,   2378,   1,      10,   19375,  2,20090427,0107,  29.9870,  137.0158,  4510,  808.900,   6.1656,  34.2143,2,   34.213,2, -999.000,9,   99.000,2,    74.05,2,    33.40,2,     0.00,2,     2.40,2, -999.000,9, -999.000,9, -999.000,9, 2258.100,2, -999.000,9
           NA,    PR02,   2378,   1,       9,   16015,  2,20090427,0107,  29.9870,  137.0158,  4510,  908.100,   5.1564,  34.2775,2,   34.278,2, -999.000,9,   80.000,2,    92.17,2,    36.90,2,     0.00,2,     2.62,2, -999.000,9, -999.000,9, -999.000,9, 2294.500,2, -999.000,9
           NA,    PR02,   2378,   1,       8,   16014,  2,20090427,0107,  29.9870,  137.0158,  4510, 1015.200,   4.2144,  34.3313,2,   34.329,2, -999.000,9,   66.000,2,   109.28,2,    39.40,2,     0.00,2,     2.81,2, -999.000,9, -999.000,9, -999.000,9, 2322.000,2, -999.000,9
           NA,    PR02,   2378,   1,       7,   19374,  2,20090427,0107,  29.9870,  137.0158,  4510, 1263.100,   3.2103,  34.4423,2,   34.442,2, -999.000,9,   67.000,2,   129.27,2,    40.80,2,     0.00,2,     2.90,2, -999.000,9, -999.000,9, -999.000,9, 2349.100,2, -999.000,9
           NA,    PR02,   2378,   1,       6,   19373,  2,20090427,0107,  29.9870,  137.0158,  4510, 1519.000,   2.6332,  34.5149,2,   34.515,2, -999.000,9,   77.000,2,   138.81,2,    40.80,2,     0.00,2,     2.87,2, -999.000,9, -999.000,9, -999.000,9, 2354.200,2, -999.000,9
           NA,    PR02,   2378,   1,       5,   16011,  2,20090427,0107,  29.9870,  137.0158,  4510, 1772.800,   2.2674,  34.5651,2,   34.566,2, -999.000,9,   92.000,2,   142.56,2,    39.80,2,     0.00,2,     2.81,2, -999.000,9, -999.000,9, -999.000,9, 2352.600,6, -999.000,9
           NA,    PR02,   2378,   1,       4,   16010,  2,20090427,0107,  29.9870,  137.0158,  4510, 2028.900,   1.9770,  34.6038,2,   34.604,2, -999.000,9,  106.000,2,   145.98,2,    39.30,2,     0.00,2,     2.76,2, -999.000,9, -999.000,9, -999.000,9, 2356.600,2, -999.000,9
           NA,    PR02,   2378,   1,       3,   16009,  2,20090427,0107,  29.9870,  137.0158,  4510, 3045.000,   1.5819,  34.6672,2,   34.666,2, -999.000,9,  145.000,2,   140.68,2,    36.90,2,     0.00,2,     2.55,2, -999.000,9, -999.000,9, -999.000,9, -999.000,9, -999.000,9
           NA,    PR02,   2378,   1,       2,   16008,  2,20090427,0107,  29.9870,  137.0158,  4510, 4064.500,   1.5540,  34.6815,2,   34.681,2, -999.000,9,  155.000,2,   139.45,2,    36.30,2,     0.00,2,     2.50,2, -999.000,9, -999.000,9, -999.000,9, -999.000,9, -999.000,9
           NA,    PR02,   2378,   1,       1,   16007,  2,20090427,0107,  29.9870,  137.0158,  4510, 4528.800,   1.5945,  34.6826,2,   34.682,2, -999.000,9,  158.000,2,   139.60,2,    36.30,2,     0.00,2,     2.49,2, -999.000,9, -999.000,9, -999.000,9, -999.000,9, -999.000,9