BOTTLE,20210402JOAExport
EXPOCODE,SECT_ID,STNNBR,CASTNO,SAMPNO,BTLNBR,BTLNBR_FLAG_W,DATE,TIME,LATITUDE,LONGITUDE,DEPTH,CTDPRS,CTDTMP,CTDSAL,CTDSAL_FLAG_W,SALNTY,SALNTY_FLAG_W,CTDOXY,CTDOXY_FLAG_W,OXYGEN,OXYGEN_FLAG_W,SILCAT,SILCAT_FLAG_W,NITRAT,NITRAT_FLAG_W,NITRIT,NITRIT_FLAG_W,PHSPHT,PHSPHT_FLAG_W,CFC-11,CFC-11_FLAG_W,CFC-12,CFC-12_FLAG_W,SF6,SF6_FLAG_W,TCARBN,TCARBN_FLAG_W,ALKALI,ALKALI_FLAG_W
,,,,,,,,,,,,DB,DEG C,PSS-78,,PSS-78,,UMOL/KG,,UMOL/KG,,UMOL/KG,,UMOL/KG,,UMOL/KG,,UMOL/KG,,PMOL/KG,,PMOL/KG,,FMOL/KG,,UMOL/KG,,UMOL/KG
           NA,    PR02, RY8528,  99,       1,       1,  2,19930727,1322,  31.9885,  136.9945,  4230,    0.000,  25.5510,   34.056,2, -999.000,9, -999.000,9,  210.000,2, -999.000,9,      0.0,2,     0.06,2,     0.04,2, -999.000,9, -999.000,9, -999.000,9, -999.000,9, -999.000,9
           NA,    PR02, RY8528,  99,       2,       2,  2,19930727,1322,  31.9885,  136.9945,  4230,   10.800,  25.5495,   34.063,2, -999.000,9, -999.000,9,  208.000,2, -999.000,9,      0.0,2,     0.04,2,     0.04,2, -999.000,9, -999.000,9, -999.000,9, -999.000,9, -999.000,9
           NA,    PR02, RY8528,  99,       3,       3,  2,19930727,1322,  31.9885,  136.9945,  4230,   25.700,  25.1033,   34.450,2, -999.000,9, -999.000,9,  211.000,2, -999.000,9,      0.0,2,     0.05,2,     0.04,2, -999.000,9, -999.000,9, -999.000,9, -999.000,9, -999.000,9
           NA,    PR02, RY8528,  99,       4,       4,  2,19930727,1322,  31.9885,  136.9945,  4230,   50.300,  21.1727,   34.784,2, -999.000,9, -999.000,9,  235.000,2, -999.000,9,      0.0,2,     0.05,2,     0.04,2, -999.000,9, -999.000,9, -999.000,9, -999.000,9, -999.000,9
           NA,    PR02, RY8528,  99,       5,       5,  2,19930727,1322,  31.9885,  136.9945,  4230,   75.500,  20.2010,   34.835,2, -999.000,9, -999.000,9,  231.000,2, -999.000,9,      0.0,2,     0.05,2,     0.04,2, -999.000,9, -999.000,9, -999.000,9, -999.000,9, -999.000,9
           NA,    PR02, RY8528,  99,       6,       6,  2,19930727,1322,  31.9885,  136.9945,  4230,  100.700,  19.2480,   34.855,2, -999.000,9, -999.000,9,  222.000,2, -999.000,9,      0.5,2,     0.15,2,     0.10,2, -999.000,9, -999.000,9, -999.000,9, -999.000,9, -999.000,9
           NA,    PR02, RY8528,  99,       7,       7,  2,19930727,1322,  31.9885,  136.9945,  4230,  126.700,  18.9930,   34.853,2, -999.000,9, -999.000,9,  216.000,2, -999.000,9,      1.4,2,     0.07,2,     0.14,2, -999.000,9, -999.000,9, -999.000,9, -999.000,9, -999.000,9
           NA,    PR02, RY8528,  99,       8,       8,  2,19930727,1322,  31.9885,  136.9945,  4230,  151.200,  18.8595,   34.847,2, -999.000,9, -999.000,9,  216.000,2, -999.000,9,      1.4,2,     0.06,2,     0.15,2, -999.000,9, -999.000,9, -999.000,9, -999.000,9, -999.000,9
           NA,    PR02, RY8528,  99,       9,       9,  2,19930727,1322,  31.9885,  136.9945,  4230,  176.500,  18.7703,   34.844,2, -999.000,9, -999.000,9,  219.000,2, -999.000,9,      1.4,2,     0.05,2,     0.15,2, -999.000,9, -999.000,9, -999.000,9, -999.000,9, -999.000,9
           NA,    PR02, RY8528,  99,      10,      10,  2,19930727,1322,  31.9885,  136.9945,  4230,  201.800,  18.7023,   34.843,2, -999.000,9, -999.000,9,  218.000,2, -999.000,9,      1.5,2,     0.05,2,     0.15,2, -999.000,9, -999.000,9, -999.000,9, -999.000,9, -999.000,9
           NA,    PR02, RY8528,  99,      11,      11,  2,19930727,1322,  31.9885,  136.9945,  4230,  251.800,  18.4380,   34.848,2, -999.000,9, -999.000,9,  214.000,2, -999.000,9,      1.9,2,     0.05,2,     0.18,2, -999.000,9, -999.000,9, -999.000,9, -999.000,9, -999.000,9
           NA,    PR02, RY8528,  99,      12,      12,  2,19930727,1322,  31.9885,  136.9945,  4230,  304.300,  17.9435,   34.833,2, -999.000,9, -999.000,9,  213.000,2, -999.000,9,      2.5,2,     0.04,2,     0.23,2, -999.000,9, -999.000,9, -999.000,9, -999.000,9, -999.000,9
           NA,    PR02, RY8528,  99,      13,      13,  2,19930727,1322,  31.9885,  136.9945,  4230,  403.400,  16.5010,   34.729,2, -999.000,9, -999.000,9,  195.000,2, -999.000,9,      6.0,2,     0.02,2,     0.47,2, -999.000,9, -999.000,9, -999.000,9, -999.000,9, -999.000,9
           NA,    PR02, RY8528,  99,      14,      14,  2,19930727,1322,  31.9885,  136.9945,  4230,  502.800,  14.0286,   34.509,2, -999.000,9, -999.000,9,  181.000,2, -999.000,9,     11.3,2,     0.02,2,     0.84,2, -999.000,9, -999.000,9, -999.000,9, -999.000,9, -999.000,9
           NA,    PR02, RY8528,  99,      15,      15,  2,19930727,1322,  31.9885,  136.9945,  4230,  604.200,  11.0573,   34.364,2, -999.000,9, -999.000,9,  168.000,2, -999.000,9,     17.4,2,     0.01,2,     1.31,2, -999.000,9, -999.000,9, -999.000,9, -999.000,9, -999.000,9
           NA,    PR02, RY8528,  99,      16,      16,  2,19930727,1322,  31.9885,  136.9945,  4230,  703.700,   8.6850,   34.243,2, -999.000,9, -999.000,9,  141.000,2, -999.000,9,     24.1,2,     0.01,2,     1.79,2, -999.000,9, -999.000,9, -999.000,9, -999.000,9, -999.000,9
           NA,    PR02, RY8528,  99,      17,      17,  2,19930727,1322,  31.9885,  136.9945,  4230,  804.900,   6.5732,   34.202,2, -999.000,9, -999.000,9,  109.000,2, -999.000,9,     30.7,2,     0.01,2,     2.29,2, -999.000,9, -999.000,9, -999.000,9, -999.000,9, -999.000,9
           NA,    PR02, RY8528,  99,      18,      18,  2,19930727,1322,  31.9885,  136.9945,  4230,  906.500,   5.3128,   34.251,2, -999.000,9, -999.000,9,   82.000,2, -999.000,9,     35.7,2,     0.00,2,     2.62,2, -999.000,9, -999.000,9, -999.000,9, -999.000,9, -999.000,9
           NA,    PR02, RY8528,  99,      19,      19,  2,19930727,1322,  31.9885,  136.9945,  4230, 1007.600,   4.4445,   34.323,2, -999.000,9, -999.000,9,   72.000,2, -999.000,9,     37.3,2,     0.00,2,     2.78,2, -999.000,9, -999.000,9, -999.000,9, -999.000,9, -999.000,9
           NA,    PR02, RY8528,  99,      20,      20,  2,19930727,1322,  31.9885,  136.9945,  4230, 1260.700,   3.5271,   34.414,2, -999.000,9, -999.000,9,   68.000,2, -999.000,9,     39.8,2,     0.00,2,     2.90,2, -999.000,9, -999.000,9, -999.000,9, -999.000,9, -999.000,9
           NA,    PR02, RY8529,  99,       1,       1,  2,19930727,1918,  32.6607,  137.0132,  4169,    0.000,  27.3810,   34.487,2, -999.000,9, -999.000,9,  203.000,2, -999.000,9,      0.0,2,     0.04,2,     0.06,2, -999.000,9, -999.000,9, -999.000,9, -999.000,9, -999.000,9
           NA,    PR02, RY8529,  99,       2,       2,  2,19930727,1918,  32.6607,  137.0132,  4169,   11.900,  27.3865,   34.488,2, -999.000,9, -999.000,9,  202.000,2, -999.000,9,      0.0,2,     0.03,2,     0.05,2, -999.000,9, -999.000,9, -999.000,9, -999.000,9, -999.000,9
           NA,    PR02, RY8529,  99,       3,       3,  2,19930727,1918,  32.6607,  137.0132,  4169,   27.700,  27.0338,   34.388,2, -999.000,9, -999.000,9,  202.000,2, -999.000,9,      0.0,2,     0.03,2,     0.05,2, -999.000,9, -999.000,9, -999.000,9, -999.000,9, -999.000,9
           NA,    PR02, RY8529,  99,       4,       4,  2,19930727,1918,  32.6607,  137.0132,  4169,   51.900,  24.8251,   34.883,2, -999.000,9, -999.000,9,  214.000,2, -999.000,9,      0.0,2,     0.02,2,     0.05,2, -999.000,9, -999.000,9, -999.000,9, -999.000,9, -999.000,9
           NA,    PR02, RY8529,  99,       5,       5,  2,19930727,1918,  32.6607,  137.0132,  4169,   76.800,  22.4440,   34.769,2, -999.000,9, -999.000,9,  203.000,2, -999.000,9,      1.2,2,     0.14,2,     0.16,2, -999.000,9, -999.000,9, -999.000,9, -999.000,9, -999.000,9
           NA,    PR02, RY8529,  99,       6,       6,  2,19930727,1918,  32.6607,  137.0132,  4169,  102.800,  20.8492,   34.781,2, -999.000,9, -999.000,9,  203.000,2, -999.000,9,      1.9,2,     0.10,2,     0.21,2, -999.000,9, -999.000,9, -999.000,9, -999.000,9, -999.000,9
           NA,    PR02, RY8529,  99,       7,       7,  2,19930727,1918,  32.6607,  137.0132,  4169,  127.800,  20.0182,   34.877,2, -999.000,9, -999.000,9,  198.000,2, -999.000,9,      2.1,2,     0.04,2,     0.21,2, -999.000,9, -999.000,9, -999.000,9, -999.000,9, -999.000,9
           NA,    PR02, RY8529,  99,       8,       8,  2,19930727,1918,  32.6607,  137.0132,  4169,  152.800,  19.4970,   34.887,2, -999.000,9, -999.000,9,  203.000,2, -999.000,9,      2.2,2,     0.04,2,     0.22,2, -999.000,9, -999.000,9, -999.000,9, -999.000,9, -999.000,9
           NA,    PR02, RY8529,  99,       9,       9,  2,19930727,1918,  32.6607,  137.0132,  4169,  177.200,  18.7673,   34.858,2, -999.000,9, -999.000,9,  194.000,2, -999.000,9,      3.3,2,     0.04,2,     0.29,2, -999.000,9, -999.000,9, -999.000,9, -999.000,9, -999.000,9
           NA,    PR02, RY8529,  99,      10,      10,  2,19930727,1918,  32.6607,  137.0132,  4169,  203.100,  18.1079,   34.812,2, -999.000,9, -999.000,9,  194.000,2, -999.000,9,      4.3,2,     0.03,2,     0.36,2, -999.000,9, -999.000,9, -999.000,9, -999.000,9, -999.000,9
           NA,    PR02, RY8529,  99,      11,      11,  2,19930727,1918,  32.6607,  137.0132,  4169,  254.300,  16.8420,   34.752,2, -999.000,9, -999.000,9,  197.000,2, -999.000,9,      5.6,2,     0.03,2,     0.45,2, -999.000,9, -999.000,9, -999.000,9, -999.000,9, -999.000,9
           NA,    PR02, RY8529,  99,      12,      12,  2,19930727,1918,  32.6607,  137.0132,  4169,  306.500,  15.8216,   34.686,2, -999.000,9, -999.000,9,  192.000,2, -999.000,9,      7.1,2,     0.03,2,     0.57,2, -999.000,9, -999.000,9, -999.000,9, -999.000,9, -999.000,9
           NA,    PR02, RY8529,  99,      13,      13,  2,19930727,1918,  32.6607,  137.0132,  4169,  404.400,  12.5289,   34.427,2, -999.000,9, -999.000,9,  180.000,2, -999.000,9,     13.8,2,     0.01,2,     1.05,2, -999.000,9, -999.000,9, -999.000,9, -999.000,9, -999.000,9
           NA,    PR02, RY8529,  99,      14,      14,  2,19930727,1918,  32.6607,  137.0132,  4169,  504.700,   9.7424,   34.233,2, -999.000,9, -999.000,9,  159.000,2, -999.000,9,     20.9,2,     0.01,2,     1.58,2, -999.000,9, -999.000,9, -999.000,9, -999.000,9, -999.000,9
           NA,    PR02, RY8529,  99,      15,      15,  2,19930727,1918,  32.6607,  137.0132,  4169,  605.100,   7.3717,   34.184,2, -999.000,9, -999.000,9,  128.000,2, -999.000,9,     27.8,2,     0.00,2,     2.09,2, -999.000,9, -999.000,9, -999.000,9, -999.000,9, -999.000,9
           NA,    PR02, RY8529,  99,      16,      16,  2,19930727,1918,  32.6607,  137.0132,  4169,  706.100,   5.7115,   34.204,2, -999.000,9, -999.000,9,   96.000,2, -999.000,9,     33.8,2,     0.00,2,     2.53,2, -999.000,9, -999.000,9, -999.000,9, -999.000,9, -999.000,9
           NA,    PR02, RY8529,  99,      17,      17,  2,19930727,1918,  32.6607,  137.0132,  4169,  806.100,   4.8024,   34.266,2, -999.000,9, -999.000,9,   75.000,2, -999.000,9,     37.5,2,     0.01,2,     2.76,2, -999.000,9, -999.000,9, -999.000,9, -999.000,9, -999.000,9
           NA,    PR02, RY8529,  99,      18,      18,  2,19930727,1918,  32.6607,  137.0132,  4169,  909.200,   4.2763,   34.340,2, -999.000,9, -999.000,9,   69.000,2, -999.000,9,     38.5,2,     0.00,2,     2.85,2, -999.000,9, -999.000,9, -999.000,9, -999.000,9, -999.000,9
           NA,    PR02, RY8529,  99,      19,      19,  2,19930727,1918,  32.6607,  137.0132,  4169, 1009.500,   3.6954,   34.367,2, -999.000,9, -999.000,9,   65.000,2, -999.000,9,     40.1,2,     0.00,2,     2.94,2, -999.000,9, -999.000,9, -999.000,9, -999.000,9, -999.000,9
           NA,    PR02, RY8529,  99,      20,      20,  2,19930727,1918,  32.6607,  137.0132,  4169, 1264.100,   3.0392,   34.459,2, -999.000,9, -999.000,9,   68.000,2, -999.000,9,     40.5,2,     0.00,2,     2.97,2, -999.000,9, -999.000,9, -999.000,9, -999.000,9, -999.000,9
           NA,    PR02, RY8530,  99,       2,       2,  2,19930728,0057,  33.3408,  137.0107,  2588,   11.000,  24.4187,   33.614,2,   33.554,2, -999.000,9,  215.000,2, -999.000,9,      0.0,2,     0.03,2,     0.04,2, -999.000,9, -999.000,9, -999.000,9, -999.000,9, -999.000,9
           NA,    PR02, RY8530,  99,       3,       3,  2,19930728,0057,  33.3408,  137.0107,  2588,   27.400,  21.7736,   34.064,2, -999.000,9, -999.000,9,  219.000,2, -999.000,9,      0.0,2,     0.04,2,     0.06,2, -999.000,9, -999.000,9, -999.000,9, -999.000,9, -999.000,9
           NA,    PR02, RY8530,  99,       4,       4,  2,19930728,0057,  33.3408,  137.0107,  2588,   53.400,  16.4274,   34.689,2, -999.000,9, -999.000,9,  182.000,2, -999.000,9,      7.9,2,     0.20,2,     0.64,2, -999.000,9, -999.000,9, -999.000,9, -999.000,9, -999.000,9
           NA,    PR02, RY8530,  99,       5,       5,  2,19930728,0057,  33.3408,  137.0107,  2588,   77.600,  15.2638,   34.601,2, -999.000,9, -999.000,9,  173.000,2, -999.000,9,     10.9,2,     0.06,2,     0.83,2, -999.000,9, -999.000,9, -999.000,9, -999.000,9, -999.000,9
           NA,    PR02, RY8530,  99,       6,       6,  2,19930728,0057,  33.3408,  137.0107,  2588,  103.600,  13.6506,   34.598,2, -999.000,9, -999.000,9,  171.000,2, -999.000,9,     13.1,2,     0.05,2,     1.01,2, -999.000,9, -999.000,9, -999.000,9, -999.000,9, -999.000,9
           NA,    PR02, RY8530,  99,       7,       7,  2,19930728,0057,  33.3408,  137.0107,  2588,  128.300,  12.6848,   34.471,2,   34.484,2, -999.000,9,  162.000,2, -999.000,9,     15.8,2,     0.04,2,     1.19,2, -999.000,9, -999.000,9, -999.000,9, -999.000,9, -999.000,9
           NA,    PR02, RY8530,  99,       8,       8,  2,19930728,0057,  33.3408,  137.0107,  2588,  153.700,  11.0211,   34.423,2, -999.000,9, -999.000,9,  150.000,2, -999.000,9,     19.8,2,     0.04,2,     1.48,2, -999.000,9, -999.000,9, -999.000,9, -999.000,9, -999.000,9
           NA,    PR02, RY8530,  99,       9,       9,  2,19930728,0057,  33.3408,  137.0107,  2588,  178.400,   9.9977,   34.371,2,   34.376,2, -999.000,9,  142.000,2, -999.000,9,     22.2,2,     0.04,2,     1.66,2, -999.000,9, -999.000,9, -999.000,9, -999.000,9, -999.000,9
           NA,    PR02, RY8530,  99,      11,      11,  2,19930728,0057,  33.3408,  137.0107,  2588,  254.000,   7.5495,   34.212,2, -999.000,9, -999.000,9,  128.000,2, -999.000,9,     28.2,2,     0.02,2,     2.06,2, -999.000,9, -999.000,9, -999.000,9, -999.000,9, -999.000,9
           NA,    PR02, RY8530,  99,      12,      12,  2,19930728,0057,  33.3408,  137.0107,  2588,  302.500,   6.6426,   34.173,2,   34.186,2, -999.000,9,  116.000,2, -999.000,9,     30.6,2,     0.01,2,     2.27,2, -999.000,9, -999.000,9, -999.000,9, -999.000,9, -999.000,9
           NA,    PR02, RY8530,  99,      13,      13,  2,19930728,0057,  33.3408,  137.0107,  2588,  404.400,   5.9555,   34.227,2,   34.231,2, -999.000,9,  102.000,2, -999.000,9,     34.0,2,     0.02,2,     2.50,2, -999.000,9, -999.000,9, -999.000,9, -999.000,9, -999.000,9
           NA,    PR02, RY8530,  99,      15,      15,  2,19930728,0057,  33.3408,  137.0107,  2588,  506.200,   5.0174,   34.219,2,   34.229,2, -999.000,9,   85.000,2, -999.000,9,     37.0,2,     0.01,2,     2.70,2, -999.000,9, -999.000,9, -999.000,9, -999.000,9, -999.000,9
           NA,    PR02, RY8530,  99,      17,      17,  2,19930728,0057,  33.3408,  137.0107,  2588,  606.000,   4.4722,   34.263,2,   34.263,2, -999.000,9,   74.000,2, -999.000,9,     39.0,2,     0.01,2,     2.83,2, -999.000,9, -999.000,9, -999.000,9, -999.000,9, -999.000,9
           NA,    PR02, RY8530,  99,      18,      18,  2,19930728,0057,  33.3408,  137.0107,  2588,  703.800,   4.2138,   34.324,2,   34.328,2, -999.000,9,   71.000,2, -999.000,9,     39.6,2,     0.01,2,     2.88,2, -999.000,9, -999.000,9, -999.000,9, -999.000,9, -999.000,9
           NA,    PR02, RY8530,  99,      19,      19,  2,19930728,0057,  33.3408,  137.0107,  2588,  807.600,   3.6703,   34.350,2,   34.354,2, -999.000,9,   63.000,2, -999.000,9,     41.0,2,     0.01,2,     2.96,2, -999.000,9, -999.000,9, -999.000,9, -999.000,9, -999.000,9
           NA,    PR02, RY8530,  99,      20,      20,  2,19930728,0057,  33.3408,  137.0107,  2588,  908.100,   3.5006,   34.393,2,   34.395,2, -999.000,9,   67.000,2, -999.000,9,     41.2,2,     0.00,2,     2.98,2, -999.000,9, -999.000,9, -999.000,9, -999.000,9, -999.000,9
           NA,    PR02, RY8530,  99,      21,      21,  2,19930728,0057,  33.3408,  137.0107,  2588, 1009.300,   3.3255,   34.425,2,   34.426,2, -999.000,9,   66.000,2, -999.000,9,     41.5,2,     0.00,2,     2.97,2, -999.000,9, -999.000,9, -999.000,9, -999.000,9, -999.000,9
           NA,    PR02, RY8530,  99,      23,      23,  2,19930728,0057,  33.3408,  137.0107,  2588, 1263.200,   2.9325,   34.476,2,   34.479,2, -999.000,9,   74.000,2, -999.000,9,     41.5,2,     0.00,2,     2.96,2, -999.000,9, -999.000,9, -999.000,9, -999.000,9, -999.000,9