BOTTLE,20210402JOAExport
EXPOCODE,SECT_ID,STNNBR,CASTNO,SAMPNO,BTLNBR,BTLNBR_FLAG_W,DATE,TIME,LATITUDE,LONGITUDE,DEPTH,CTDPRS,CTDTMP,CTDSAL,CTDSAL_FLAG_W,SALNTY,SALNTY_FLAG_W,CTDOXY,CTDOXY_FLAG_W,OXYGEN,OXYGEN_FLAG_W,SILCAT,SILCAT_FLAG_W,NITRAT,NITRAT_FLAG_W,NITRIT,NITRIT_FLAG_W,PHSPHT,PHSPHT_FLAG_W,CFC-11,CFC-11_FLAG_W,CFC-12,CFC-12_FLAG_W,SF6,SF6_FLAG_W,TCARBN,TCARBN_FLAG_W,ALKALI,ALKALI_FLAG_W
,,,,,,,,,,,,DB,DEG C,PSS-78,,PSS-78,,UMOL/KG,,UMOL/KG,,UMOL/KG,,UMOL/KG,,UMOL/KG,,UMOL/KG,,PMOL/KG,,PMOL/KG,,FMOL/KG,,UMOL/KG,,UMOL/KG
           NA,    PR02, RY8521,  99,       1,       1,  2,19930724,1221,  24.0068,  136.9792,  4732,    0.000,  30.2296,   35.104,2, -999.000,9, -999.000,9,  193.000,2, -999.000,9,      0.1,2,     0.00,2,     0.02,2, -999.000,9, -999.000,9, -999.000,9, -999.000,9, -999.000,9
           NA,    PR02, RY8521,  99,       2,       2,  2,19930724,1221,  24.0068,  136.9792,  4732,   10.900,  30.2323,   35.102,2, -999.000,9, -999.000,9,  195.000,2, -999.000,9,      0.1,2,     0.00,2,     0.03,2, -999.000,9, -999.000,9, -999.000,9, -999.000,9, -999.000,9
           NA,    PR02, RY8521,  99,       3,       3,  2,19930724,1221,  24.0068,  136.9792,  4732,   26.100,  30.0978,   35.125,2, -999.000,9, -999.000,9,  197.000,2, -999.000,9,      0.0,2,     0.00,2,     0.02,2, -999.000,9, -999.000,9, -999.000,9, -999.000,9, -999.000,9
           NA,    PR02, RY8521,  99,       4,       4,  2,19930724,1221,  24.0068,  136.9792,  4732,   51.900,  22.8801,   34.948,2, -999.000,9, -999.000,9,  229.000,2, -999.000,9,      0.0,2,     0.00,2,     0.02,2, -999.000,9, -999.000,9, -999.000,9, -999.000,9, -999.000,9
           NA,    PR02, RY8521,  99,       5,       5,  2,19930724,1221,  24.0068,  136.9792,  4732,   75.400,  21.0397,   34.944,2, -999.000,9, -999.000,9,  226.000,2, -999.000,9,      0.0,2,     0.00,2,     0.01,2, -999.000,9, -999.000,9, -999.000,9, -999.000,9, -999.000,9
           NA,    PR02, RY8521,  99,       6,       6,  2,19930724,1221,  24.0068,  136.9792,  4732,  101.700,  20.0981,   34.908,2, -999.000,9, -999.000,9,  216.000,2, -999.000,9,      0.1,2,     0.00,2,     0.04,2, -999.000,9, -999.000,9, -999.000,9, -999.000,9, -999.000,9
           NA,    PR02, RY8521,  99,       7,       7,  2,19930724,1221,  24.0068,  136.9792,  4732,  126.700,  19.4156,   34.884,2, -999.000,9, -999.000,9,  206.000,2, -999.000,9,      1.4,2,     0.07,2,     0.14,2, -999.000,9, -999.000,9, -999.000,9, -999.000,9, -999.000,9
           NA,    PR02, RY8521,  99,       9,       9,  2,19930724,1221,  24.0068,  136.9792,  4732,  176.700,  18.2837,   34.837,2, -999.000,9, -999.000,9,  206.000,2, -999.000,9,      2.8,2,     0.02,2,     0.23,2, -999.000,9, -999.000,9, -999.000,9, -999.000,9, -999.000,9
           NA,    PR02, RY8521,  99,      10,      10,  2,19930724,1221,  24.0068,  136.9792,  4732,  202.000,  17.6001,   34.803,2, -999.000,9, -999.000,9,  201.000,2, -999.000,9,      4.0,2,     0.02,2,     0.31,2, -999.000,9, -999.000,9, -999.000,9, -999.000,9, -999.000,9
           NA,    PR02, RY8521,  99,      11,      11,  2,19930724,1221,  24.0068,  136.9792,  4732,  252.500,  16.6993,   34.745,2, -999.000,9, -999.000,9,  202.000,2, -999.000,9,      5.2,2,     0.01,2,     0.40,2, -999.000,9, -999.000,9, -999.000,9, -999.000,9, -999.000,9
           NA,    PR02, RY8521,  99,      12,      12,  2,19930724,1221,  24.0068,  136.9792,  4732,  305.300,  15.6954,   34.673,2, -999.000,9, -999.000,9,  198.000,2, -999.000,9,      6.9,2,     0.01,2,     0.53,2, -999.000,9, -999.000,9, -999.000,9, -999.000,9, -999.000,9
           NA,    PR02, RY8521,  99,      13,      13,  2,19930724,1221,  24.0068,  136.9792,  4732,  402.600,  12.7890,   34.450,2, -999.000,9, -999.000,9,  185.000,2, -999.000,9,     12.8,2,     0.00,2,     0.97,2, -999.000,9, -999.000,9, -999.000,9, -999.000,9, -999.000,9
           NA,    PR02, RY8521,  99,      14,      14,  2,19930724,1221,  24.0068,  136.9792,  4732,  503.200,  10.1341,   34.259,2, -999.000,9, -999.000,9,  175.000,2, -999.000,9,     18.5,2,     0.00,2,     1.39,2, -999.000,9, -999.000,9, -999.000,9, -999.000,9, -999.000,9
           NA,    PR02, RY8521,  99,      15,      15,  2,19930724,1221,  24.0068,  136.9792,  4732,  604.400,   7.8594,   34.139,2, -999.000,9, -999.000,9,  151.000,2, -999.000,9,     24.8,2,     0.00,2,     1.85,2, -999.000,9, -999.000,9, -999.000,9, -999.000,9, -999.000,9
           NA,    PR02, RY8521,  99,      16,      16,  2,19930724,1221,  24.0068,  136.9792,  4732,  705.600,   5.8500,   34.140,2, -999.000,9, -999.000,9,  106.000,2, -999.000,9,     32.9,2,     0.00,2,     2.44,2, -999.000,9, -999.000,9, -999.000,9, -999.000,9, -999.000,9
           NA,    PR02, RY8521,  99,      17,      17,  2,19930724,1221,  24.0068,  136.9792,  4732,  805.600,   5.0542,   34.185,2, -999.000,9, -999.000,9,   85.000,2, -999.000,9,     36.1,2,     0.00,2,     2.65,2, -999.000,9, -999.000,9, -999.000,9, -999.000,9, -999.000,9
           NA,    PR02, RY8521,  99,      18,      18,  2,19930724,1221,  24.0068,  136.9792,  4732,  904.700,   4.2273,   34.280,2, -999.000,9, -999.000,9,   67.000,2, -999.000,9,     39.1,2,     0.00,2,     2.88,2, -999.000,9, -999.000,9, -999.000,9, -999.000,9, -999.000,9
           NA,    PR02, RY8521,  99,      19,      19,  2,19930724,1221,  24.0068,  136.9792,  4732, 1008.300,   3.7728,   34.355,2, -999.000,9, -999.000,9,   57.000,2, -999.000,9,     40.5,2,     0.00,2,     2.96,2, -999.000,9, -999.000,9, -999.000,9, -999.000,9, -999.000,9
           NA,    PR02, RY8521,  99,      20,      20,  2,19930724,1221,  24.0068,  136.9792,  4732, 1257.300,   2.9960,   34.475,2, -999.000,9, -999.000,9,   69.000,2, -999.000,9,     41.0,2,     0.00,2,     2.96,2, -999.000,9, -999.000,9, -999.000,9, -999.000,9, -999.000,9
           NA,    PR02, RY8522,  99,       1,       1,  2,19930724,2000,  25.0087,  137.0020,  5017,    0.000,  29.9025,   35.181,2, -999.000,9, -999.000,9,  192.000,2, -999.000,9,      0.1,2,     0.00,2,     0.02,2, -999.000,9, -999.000,9, -999.000,9, -999.000,9, -999.000,9
           NA,    PR02, RY8522,  99,       2,       2,  2,19930724,2000,  25.0087,  137.0020,  5017,   10.300,  29.9060,   35.179,2, -999.000,9, -999.000,9,  195.000,2, -999.000,9,      0.0,2,     0.00,2,     0.02,2, -999.000,9, -999.000,9, -999.000,9, -999.000,9, -999.000,9
           NA,    PR02, RY8522,  99,       3,       3,  2,19930724,2000,  25.0087,  137.0020,  5017,   25.400,  29.7184,   35.059,2, -999.000,9, -999.000,9,  195.000,2, -999.000,9,      0.0,2,     0.00,2,     0.02,2, -999.000,9, -999.000,9, -999.000,9, -999.000,9, -999.000,9
           NA,    PR02, RY8522,  99,       4,       4,  2,19930724,2000,  25.0087,  137.0020,  5017,   50.200,  23.6124,   34.959,2,   34.963,2, -999.000,9,  230.000,2, -999.000,9,      0.0,2,     0.00,2,     0.02,2, -999.000,9, -999.000,9, -999.000,9, -999.000,9, -999.000,9
           NA,    PR02, RY8522,  99,       5,       5,  2,19930724,2000,  25.0087,  137.0020,  5017,   76.100,  21.4339,   34.948,2, -999.000,9, -999.000,9,  224.000,2, -999.000,9,      0.0,2,     0.00,2,     0.02,2, -999.000,9, -999.000,9, -999.000,9, -999.000,9, -999.000,9
           NA,    PR02, RY8522,  99,       6,       6,  2,19930724,2000,  25.0087,  137.0020,  5017,  101.100,  20.0874,   34.912,2, -999.000,9, -999.000,9,  219.000,2, -999.000,9,      0.1,2,     0.02,2,     0.04,2, -999.000,9, -999.000,9, -999.000,9, -999.000,9, -999.000,9
           NA,    PR02, RY8522,  99,       7,       7,  2,19930724,2000,  25.0087,  137.0020,  5017,  126.400,  19.1891,   34.859,2, -999.000,9, -999.000,9,  216.000,2, -999.000,9,      1.2,2,     0.06,2,     0.12,2, -999.000,9, -999.000,9, -999.000,9, -999.000,9, -999.000,9
           NA,    PR02, RY8522,  99,       8,       8,  2,19930724,2000,  25.0087,  137.0020,  5017,  151.200,  18.5801,   34.849,2, -999.000,9, -999.000,9,  214.000,2, -999.000,9,      1.9,2,     0.02,2,     0.18,2, -999.000,9, -999.000,9, -999.000,9, -999.000,9, -999.000,9
           NA,    PR02, RY8522,  99,       9,       9,  2,19930724,2000,  25.0087,  137.0020,  5017,  176.000,  18.1815,   34.839,2, -999.000,9, -999.000,9,  212.000,2, -999.000,9,      2.3,2,     0.02,2,     0.19,2, -999.000,9, -999.000,9, -999.000,9, -999.000,9, -999.000,9
           NA,    PR02, RY8522,  99,      10,      10,  2,19930724,2000,  25.0087,  137.0020,  5017,  201.700,  17.7846,   34.836,2, -999.000,9, -999.000,9,  216.000,2, -999.000,9,      2.5,2,     0.02,2,     0.23,2, -999.000,9, -999.000,9, -999.000,9, -999.000,9, -999.000,9
           NA,    PR02, RY8522,  99,      11,      11,  2,19930724,2000,  25.0087,  137.0020,  5017,  253.100,  17.3523,   34.794,2,   34.799,2, -999.000,9,  213.000,2, -999.000,9,      3.4,2,     0.01,2,     0.27,2, -999.000,9, -999.000,9, -999.000,9, -999.000,9, -999.000,9
           NA,    PR02, RY8522,  99,      12,      12,  2,19930724,2000,  25.0087,  137.0020,  5017,  302.600,  16.3560,   34.724,2, -999.000,9, -999.000,9,  203.000,2, -999.000,9,      5.8,2,     0.01,2,     0.46,2, -999.000,9, -999.000,9, -999.000,9, -999.000,9, -999.000,9
           NA,    PR02, RY8522,  99,      13,      13,  2,19930724,2000,  25.0087,  137.0020,  5017,  404.400,  13.7406,   34.519,2,   34.523,2, -999.000,9,  189.000,2, -999.000,9,     11.0,2,     0.01,2,     0.83,2, -999.000,9, -999.000,9, -999.000,9, -999.000,9, -999.000,9
           NA,    PR02, RY8522,  99,      14,      14,  2,19930724,2000,  25.0087,  137.0020,  5017,  503.400,  10.8934,   34.311,2, -999.000,9, -999.000,9,  177.000,2, -999.000,9,     16.8,2,     0.01,2,     1.27,2, -999.000,9, -999.000,9, -999.000,9, -999.000,9, -999.000,9
           NA,    PR02, RY8522,  99,      15,      15,  2,19930724,2000,  25.0087,  137.0020,  5017,  605.200,   8.8929,   34.191,2,   34.210,2, -999.000,9,  159.000,2, -999.000,9,     22.4,2,     0.01,2,     1.67,2, -999.000,9, -999.000,9, -999.000,9, -999.000,9, -999.000,9
           NA,    PR02, RY8522,  99,      16,      16,  2,19930724,2000,  25.0087,  137.0020,  5017,  708.100,   6.5818,   34.098,2, -999.000,9, -999.000,9,  129.000,2, -999.000,9,     29.6,2,     0.00,2,     2.21,2, -999.000,9, -999.000,9, -999.000,9, -999.000,9, -999.000,9
           NA,    PR02, RY8522,  99,      17,      17,  2,19930724,2000,  25.0087,  137.0020,  5017,  806.600,   5.3573,   34.172,2,   34.180,2, -999.000,9,   93.000,2, -999.000,9,     35.0,2,     0.00,2,     2.59,2, -999.000,9, -999.000,9, -999.000,9, -999.000,9, -999.000,9
           NA,    PR02, RY8522,  99,      18,      18,  2,19930724,2000,  25.0087,  137.0020,  5017,  906.900,   4.4292,   34.264,2,   34.269,2, -999.000,9,   89.000,2, -999.000,9,     38.9,2,     0.00,2,     2.87,2, -999.000,9, -999.000,9, -999.000,9, -999.000,9, -999.000,9
           NA,    PR02, RY8522,  99,      19,      19,  2,19930724,2000,  25.0087,  137.0020,  5017, 1008.700,   3.8890,   34.336,2, -999.000,9, -999.000,9,   61.000,2, -999.000,9,     40.6,2,     0.00,2,     2.98,2, -999.000,9, -999.000,9, -999.000,9, -999.000,9, -999.000,9
           NA,    PR02, RY8522,  99,      20,      20,  2,19930724,2000,  25.0087,  137.0020,  5017, 1261.900,   2.9564,   34.464,2,   34.467,2, -999.000,9,   66.000,2, -999.000,9,     41.1,2,     0.00,2,     3.00,2, -999.000,9, -999.000,9, -999.000,9, -999.000,9, -999.000,9
           NA,    PR02, RY8522,  99,      21,      21,  2,19930724,2000,  25.0087,  137.0020,  5017, 1515.400,   2.4265,   34.539,2,   34.543,2, -999.000,9,   87.000,2, -999.000,9,     39.9,2,     0.00,2,     2.91,2, -999.000,9, -999.000,9, -999.000,9, -999.000,9, -999.000,9
           NA,    PR02, RY8522,  99,      22,      22,  2,19930724,2000,  25.0087,  137.0020,  5017, 2023.000,   1.9715,   34.614,2,   34.612,2, -999.000,9,  117.000,2, -999.000,9,     38.3,2,     0.01,2,     2.76,2, -999.000,9, -999.000,9, -999.000,9, -999.000,9, -999.000,9
           NA,    PR02, RY8522,  99,      23,      23,  2,19930724,2000,  25.0087,  137.0020,  5017, 2532.700,   1.7360,   34.646,2,   34.649,2, -999.000,9,  134.000,2, -999.000,9,     37.4,2,     0.00,2,     2.68,2, -999.000,9, -999.000,9, -999.000,9, -999.000,9, -999.000,9
           NA,    PR02, RY8522,  99,      24,      24,  2,19930724,2000,  25.0087,  137.0020,  5017, 3038.900,   1.6141,   34.664,2,   34.664,2, -999.000,9,  145.000,2, -999.000,9,     36.8,2,     0.00,2,     2.63,2, -999.000,9, -999.000,9, -999.000,9, -999.000,9, -999.000,9
           NA,    PR02, RY8522,  99,      25,      25,  2,19930724,2000,  25.0087,  137.0020,  5017, 4070.100,   1.5409,   34.682,2,   34.682,2, -999.000,9,  162.000,2, -999.000,9,     36.1,2,     0.00,2,     2.56,2, -999.000,9, -999.000,9, -999.000,9, -999.000,9, -999.000,9
           NA,    PR02, RY8523,  99,       1,       1,  2,19930725,0432,  26.0028,  136.9945,  5589,    0.000,  27.7573,   34.543,2, -999.000,9, -999.000,9,  198.000,2, -999.000,9,      0.0,2,     0.00,2,     0.01,2, -999.000,9, -999.000,9, -999.000,9, -999.000,9, -999.000,9
           NA,    PR02, RY8523,  99,       2,       2,  2,19930725,0432,  26.0028,  136.9945,  5589,   10.500,  27.6856,   34.565,2, -999.000,9, -999.000,9,  202.000,2, -999.000,9,      0.0,2,     0.00,2,     0.01,2, -999.000,9, -999.000,9, -999.000,9, -999.000,9, -999.000,9
           NA,    PR02, RY8523,  99,       3,       3,  2,19930725,0432,  26.0028,  136.9945,  5589,   25.500,  23.3535,   34.770,2, -999.000,9, -999.000,9,  225.000,2, -999.000,9,      0.0,2,     0.00,2,     0.00,2, -999.000,9, -999.000,9, -999.000,9, -999.000,9, -999.000,9
           NA,    PR02, RY8523,  99,       4,       4,  2,19930725,0432,  26.0028,  136.9945,  5589,   51.000,  20.4965,   34.819,2, -999.000,9, -999.000,9,  229.000,2, -999.000,9,      0.0,2,     0.00,2,     0.01,2, -999.000,9, -999.000,9, -999.000,9, -999.000,9, -999.000,9
           NA,    PR02, RY8523,  99,       5,       5,  2,19930725,0432,  26.0028,  136.9945,  5589,   76.100,  19.2541,   34.849,2, -999.000,9, -999.000,9,  220.000,2, -999.000,9,      0.5,2,     0.15,2,     0.05,2, -999.000,9, -999.000,9, -999.000,9, -999.000,9, -999.000,9
           NA,    PR02, RY8523,  99,       6,       6,  2,19930725,0432,  26.0028,  136.9945,  5589,  101.400,  18.9352,   34.852,2, -999.000,9, -999.000,9,  218.000,2, -999.000,9,      1.4,2,     0.04,2,     0.10,2, -999.000,9, -999.000,9, -999.000,9, -999.000,9, -999.000,9
           NA,    PR02, RY8523,  99,       7,       7,  2,19930725,0432,  26.0028,  136.9945,  5589,  125.900,  18.6963,   34.849,2, -999.000,9, -999.000,9,  217.000,2, -999.000,9,      1.7,2,     0.01,2,     0.13,2, -999.000,9, -999.000,9, -999.000,9, -999.000,9, -999.000,9
           NA,    PR02, RY8523,  99,       8,       8,  2,19930725,0432,  26.0028,  136.9945,  5589,  151.900,  18.4287,   34.851,2, -999.000,9, -999.000,9,  213.000,2, -999.000,9,      2.1,2,     0.01,2,     0.16,2, -999.000,9, -999.000,9, -999.000,9, -999.000,9, -999.000,9
           NA,    PR02, RY8523,  99,       9,       9,  2,19930725,0432,  26.0028,  136.9945,  5589,  177.000,  18.0727,   34.830,2, -999.000,9, -999.000,9,  209.000,2, -999.000,9,      2.7,2,     0.03,2,     0.20,2, -999.000,9, -999.000,9, -999.000,9, -999.000,9, -999.000,9
           NA,    PR02, RY8523,  99,      10,      10,  2,19930725,0432,  26.0028,  136.9945,  5589,  203.400,  17.7007,   34.794,2, -999.000,9, -999.000,9,  205.000,2, -999.000,9,      3.7,2,     0.00,2,     0.27,2, -999.000,9, -999.000,9, -999.000,9, -999.000,9, -999.000,9
           NA,    PR02, RY8523,  99,      11,      11,  2,19930725,0432,  26.0028,  136.9945,  5589,  252.400,  17.0803,   34.768,2, -999.000,9, -999.000,9,  200.000,2, -999.000,9,      5.1,2,     0.00,2,     0.36,2, -999.000,9, -999.000,9, -999.000,9, -999.000,9, -999.000,9
           NA,    PR02, RY8523,  99,      12,      12,  2,19930725,0432,  26.0028,  136.9945,  5589,  304.800,  16.3511,   34.720,2, -999.000,9, -999.000,9,  198.000,2, -999.000,9,      6.4,2,     0.01,2,     0.47,2, -999.000,9, -999.000,9, -999.000,9, -999.000,9, -999.000,9
           NA,    PR02, RY8523,  99,      13,      13,  2,19930725,0432,  26.0028,  136.9945,  5589,  404.600,  14.3731,   34.531,2, -999.000,9, -999.000,9,  185.000,2, -999.000,9,     10.7,2,     0.01,2,     0.77,2, -999.000,9, -999.000,9, -999.000,9, -999.000,9, -999.000,9
           NA,    PR02, RY8523,  99,      14,      14,  2,19930725,0432,  26.0028,  136.9945,  5589,  505.400,  10.9959,   34.351,2, -999.000,9, -999.000,9,  168.000,2, -999.000,9,     17.8,2,     0.00,2,     1.31,2, -999.000,9, -999.000,9, -999.000,9, -999.000,9, -999.000,9
           NA,    PR02, RY8523,  99,      15,      15,  2,19930725,0432,  26.0028,  136.9945,  5589,  605.900,   8.0458,   34.169,2, -999.000,9, -999.000,9,  154.000,2, -999.000,9,     24.8,2,     0.01,2,     1.80,2, -999.000,9, -999.000,9, -999.000,9, -999.000,9, -999.000,9
           NA,    PR02, RY8523,  99,      16,      16,  2,19930725,0432,  26.0028,  136.9945,  5589,  705.400,   5.9948,   34.139,2, -999.000,9, -999.000,9,  114.000,2, -999.000,9,     31.6,2,     0.00,2,     2.33,2, -999.000,9, -999.000,9, -999.000,9, -999.000,9, -999.000,9
           NA,    PR02, RY8523,  99,      17,      17,  2,19930725,0432,  26.0028,  136.9945,  5589,  808.600,   5.1255,   34.188,2, -999.000,9, -999.000,9,   89.000,2, -999.000,9,     35.8,2,     0.01,2,     2.61,2, -999.000,9, -999.000,9, -999.000,9, -999.000,9, -999.000,9
           NA,    PR02, RY8523,  99,      18,      18,  2,19930725,0432,  26.0028,  136.9945,  5589,  909.800,   4.5220,   34.250,2, -999.000,9, -999.000,9,   68.000,2, -999.000,9,     38.1,2,     0.00,2,     2.79,2, -999.000,9, -999.000,9, -999.000,9, -999.000,9, -999.000,9
           NA,    PR02, RY8523,  99,      19,      19,  2,19930725,0432,  26.0028,  136.9945,  5589, 1010.500,   3.8817,   34.339,2, -999.000,9, -999.000,9,   63.000,2, -999.000,9,     39.5,2,     0.00,2,     2.90,2, -999.000,9, -999.000,9, -999.000,9, -999.000,9, -999.000,9
           NA,    PR02, RY8523,  99,      20,      20,  2,19930725,0432,  26.0028,  136.9945,  5589, 1265.100,   2.9809,   34.454,2, -999.000,9, -999.000,9,   65.000,2, -999.000,9,     40.7,2,     0.00,2,     2.95,2, -999.000,9, -999.000,9, -999.000,9, -999.000,9, -999.000,9