BOTTLE,20210402JOAExport
EXPOCODE,SECT_ID,STNNBR,CASTNO,SAMPNO,BTLNBR,BTLNBR_FLAG_W,DATE,TIME,LATITUDE,LONGITUDE,DEPTH,CTDPRS,CTDTMP,CTDSAL,CTDSAL_FLAG_W,SALNTY,SALNTY_FLAG_W,CTDOXY,CTDOXY_FLAG_W,OXYGEN,OXYGEN_FLAG_W,SILCAT,SILCAT_FLAG_W,NITRAT,NITRAT_FLAG_W,NITRIT,NITRIT_FLAG_W,PHSPHT,PHSPHT_FLAG_W,CFC-11,CFC-11_FLAG_W,CFC-12,CFC-12_FLAG_W,SF6,SF6_FLAG_W,TCARBN,TCARBN_FLAG_W,ALKALI,ALKALI_FLAG_W
,,,,,,,,,,,,DB,DEG C,PSS-78,,PSS-78,,UMOL/KG,,UMOL/KG,,UMOL/KG,,UMOL/KG,,UMOL/KG,,UMOL/KG,,PMOL/KG,,PMOL/KG,,FMOL/KG,,UMOL/KG,,UMOL/KG
           NA,    PR02, RY8515,  99,       1,       1,  2,19930722,1447,  17.9990,  137.0188,  4632,    0.000,  30.3310,   34.912,2, -999.000,9, -999.000,9,  192.000,2, -999.000,9,      0.2,2,     0.00,2,     0.03,2, -999.000,9, -999.000,9, -999.000,9, -999.000,9, -999.000,9
           NA,    PR02, RY8515,  99,       2,       2,  2,19930722,1447,  17.9990,  137.0188,  4632,   12.200,  30.3183,   34.910,2, -999.000,9, -999.000,9,  194.000,2, -999.000,9,      0.2,2,     0.00,2,     0.04,2, -999.000,9, -999.000,9, -999.000,9, -999.000,9, -999.000,9
           NA,    PR02, RY8515,  99,       3,       3,  2,19930722,1447,  17.9990,  137.0188,  4632,   26.400,  30.2164,   34.917,2, -999.000,9, -999.000,9,  196.000,2, -999.000,9,      0.2,2,     0.00,2,     0.03,2, -999.000,9, -999.000,9, -999.000,9, -999.000,9, -999.000,9
           NA,    PR02, RY8515,  99,       4,       4,  2,19930722,1447,  17.9990,  137.0188,  4632,   52.000,  28.5135,   34.922,2, -999.000,9, -999.000,9,  211.000,2, -999.000,9,      0.2,2,     0.00,2,     0.03,2, -999.000,9, -999.000,9, -999.000,9, -999.000,9, -999.000,9
           NA,    PR02, RY8515,  99,       5,       5,  2,19930722,1447,  17.9990,  137.0188,  4632,   76.300,  26.6426,   35.013,2, -999.000,9, -999.000,9,  216.000,2, -999.000,9,      0.2,2,     0.00,2,     0.03,2, -999.000,9, -999.000,9, -999.000,9, -999.000,9, -999.000,9
           NA,    PR02, RY8515,  99,       6,       6,  2,19930722,1447,  17.9990,  137.0188,  4632,  102.100,  25.1189,   35.035,2, -999.000,9, -999.000,9,  214.000,2, -999.000,9,      0.3,2,     0.00,2,     0.03,2, -999.000,9, -999.000,9, -999.000,9, -999.000,9, -999.000,9
           NA,    PR02, RY8515,  99,       7,       7,  2,19930722,1447,  17.9990,  137.0188,  4632,  127.500,  24.2552,   35.055,2, -999.000,9, -999.000,9,  203.000,2, -999.000,9,      0.3,2,     0.00,2,     0.05,2, -999.000,9, -999.000,9, -999.000,9, -999.000,9, -999.000,9
           NA,    PR02, RY8515,  99,       8,       8,  2,19930722,1447,  17.9990,  137.0188,  4632,  152.500,  22.7116,   35.029,2, -999.000,9, -999.000,9,  202.000,2, -999.000,9,      0.4,2,     0.14,2,     0.05,2, -999.000,9, -999.000,9, -999.000,9, -999.000,9, -999.000,9
           NA,    PR02, RY8515,  99,       9,       9,  2,19930722,1447,  17.9990,  137.0188,  4632,  177.200,  21.1089,   34.985,2, -999.000,9, -999.000,9,  198.000,2, -999.000,9,      1.3,2,     0.03,2,     0.13,2, -999.000,9, -999.000,9, -999.000,9, -999.000,9, -999.000,9
           NA,    PR02, RY8515,  99,      10,      10,  2,19930722,1447,  17.9990,  137.0188,  4632,  202.400,  19.1032,   34.910,2, -999.000,9, -999.000,9,  195.000,2, -999.000,9,      2.7,2,     0.01,2,     0.24,2, -999.000,9, -999.000,9, -999.000,9, -999.000,9, -999.000,9
           NA,    PR02, RY8515,  99,      11,      11,  2,19930722,1447,  17.9990,  137.0188,  4632,  252.800,  17.3051,   34.798,2, -999.000,9, -999.000,9,  198.000,2, -999.000,9,      4.3,2,     0.01,2,     0.36,2, -999.000,9, -999.000,9, -999.000,9, -999.000,9, -999.000,9
           NA,    PR02, RY8515,  99,      12,      12,  2,19930722,1447,  17.9990,  137.0188,  4632,  305.500,  15.5892,   34.657,2, -999.000,9, -999.000,9,  196.000,2, -999.000,9,      6.7,2,     0.01,2,     0.55,2, -999.000,9, -999.000,9, -999.000,9, -999.000,9, -999.000,9
           NA,    PR02, RY8515,  99,      13,      13,  2,19930722,1447,  17.9990,  137.0188,  4632,  402.300,  11.2998,   34.363,2, -999.000,9, -999.000,9,  175.000,2, -999.000,9,     15.8,2,     0.00,2,     1.22,2, -999.000,9, -999.000,9, -999.000,9, -999.000,9, -999.000,9
           NA,    PR02, RY8515,  99,      14,      14,  2,19930722,1447,  17.9990,  137.0188,  4632,  503.200,   8.0355,   34.152,2, -999.000,9, -999.000,9,  133.000,2, -999.000,9,     25.8,2,     0.00,2,     1.96,2, -999.000,9, -999.000,9, -999.000,9, -999.000,9, -999.000,9
           NA,    PR02, RY8515,  99,      15,      15,  2,19930722,1447,  17.9990,  137.0188,  4632,  604.300,   6.2474,   34.208,2, -999.000,9, -999.000,9,   79.000,2, -999.000,9,     34.5,2,     0.00,2,     2.57,2, -999.000,9, -999.000,9, -999.000,9, -999.000,9, -999.000,9
           NA,    PR02, RY8515,  99,      16,      16,  2,19930722,1447,  17.9990,  137.0188,  4632,  705.600,   5.5019,   34.335,2, -999.000,9, -999.000,9,   66.000,2, -999.000,9,     37.5,2,     0.00,2,     2.76,2, -999.000,9, -999.000,9, -999.000,9, -999.000,9, -999.000,9
           NA,    PR02, RY8515,  99,      17,      17,  2,19930722,1447,  17.9990,  137.0188,  4632,  807.500,   4.7068,   34.430,2, -999.000,9, -999.000,9,   71.000,2, -999.000,9,     38.8,2,     0.00,2,     2.81,2, -999.000,9, -999.000,9, -999.000,9, -999.000,9, -999.000,9
           NA,    PR02, RY8515,  99,      18,      18,  2,19930722,1447,  17.9990,  137.0188,  4632,  907.200,   4.1421,   34.469,2, -999.000,9, -999.000,9,   77.000,2, -999.000,9,     39.0,2,     0.00,2,     2.81,2, -999.000,9, -999.000,9, -999.000,9, -999.000,9, -999.000,9
           NA,    PR02, RY8515,  99,      19,      19,  2,19930722,1447,  17.9990,  137.0188,  4632, 1008.100,   3.7417,   34.501,2, -999.000,9, -999.000,9,   86.000,2, -999.000,9,     39.4,2,     0.00,2,     2.82,2, -999.000,9, -999.000,9, -999.000,9, -999.000,9, -999.000,9
           NA,    PR02, RY8515,  99,      20,      20,  2,19930722,1447,  17.9990,  137.0188,  4632, 1262.200,   2.9860,   34.560,2, -999.000,9, -999.000,9,   96.000,2, -999.000,9,     39.6,2,     0.01,2,     2.82,2, -999.000,9, -999.000,9, -999.000,9, -999.000,9, -999.000,9
           NA,    PR02, RY8516,  99,       1,       1,  2,19930722,2151,  18.9945,  136.9933,  4724,    0.000,  30.1977,   34.855,2, -999.000,9, -999.000,9,  196.000,2, -999.000,9,      0.2,2,     0.00,2,     0.03,2, -999.000,9, -999.000,9, -999.000,9, -999.000,9, -999.000,9
           NA,    PR02, RY8516,  99,       2,       2,  2,19930722,2151,  18.9945,  136.9933,  4724,   12.400,  30.1884,   34.854,2, -999.000,9, -999.000,9,  195.000,2, -999.000,9,      0.2,2,     0.00,2,     0.03,2, -999.000,9, -999.000,9, -999.000,9, -999.000,9, -999.000,9
           NA,    PR02, RY8516,  99,       3,       3,  2,19930722,2151,  18.9945,  136.9933,  4724,   27.500,  30.1294,   34.907,2, -999.000,9, -999.000,9,  198.000,2, -999.000,9,      0.2,2,     0.00,2,     0.02,2, -999.000,9, -999.000,9, -999.000,9, -999.000,9, -999.000,9
           NA,    PR02, RY8516,  99,       4,       4,  2,19930722,2151,  18.9945,  136.9933,  4724,   52.300,  28.2209,   34.983,2, -999.000,9, -999.000,9,  213.000,2, -999.000,9,      0.2,2,     0.00,2,     0.02,2, -999.000,9, -999.000,9, -999.000,9, -999.000,9, -999.000,9
           NA,    PR02, RY8516,  99,       5,       5,  2,19930722,2151,  18.9945,  136.9933,  4724,   77.100,  25.9162,   35.033,2, -999.000,9, -999.000,9,  207.000,2, -999.000,9,      0.2,2,     0.00,2,     0.03,2, -999.000,9, -999.000,9, -999.000,9, -999.000,9, -999.000,9
           NA,    PR02, RY8516,  99,       6,       6,  2,19930722,2151,  18.9945,  136.9933,  4724,  102.300,  24.6628,   35.073,2, -999.000,9, -999.000,9,  199.000,2, -999.000,9,      0.2,2,     0.01,2,     0.04,2, -999.000,9, -999.000,9, -999.000,9, -999.000,9, -999.000,9
           NA,    PR02, RY8516,  99,       7,       7,  2,19930722,2151,  18.9945,  136.9933,  4724,  128.000,  23.3180,   35.089,2, -999.000,9, -999.000,9,  193.000,2, -999.000,9,      0.7,2,     0.09,2,     0.10,2, -999.000,9, -999.000,9, -999.000,9, -999.000,9, -999.000,9
           NA,    PR02, RY8516,  99,       8,       8,  2,19930722,2151,  18.9945,  136.9933,  4724,  152.600,  22.6691,   35.060,2, -999.000,9, -999.000,9,  192.000,2, -999.000,9,      0.9,2,     0.06,2,     0.12,2, -999.000,9, -999.000,9, -999.000,9, -999.000,9, -999.000,9
           NA,    PR02, RY8516,  99,       9,       9,  2,19930722,2151,  18.9945,  136.9933,  4724,  178.400,  21.3873,   35.049,2, -999.000,9, -999.000,9,  192.000,2, -999.000,9,      1.3,2,     0.02,2,     0.16,2, -999.000,9, -999.000,9, -999.000,9, -999.000,9, -999.000,9
           NA,    PR02, RY8516,  99,      10,      10,  2,19930722,2151,  18.9945,  136.9933,  4724,  203.500,  20.0590,   34.968,2, -999.000,9, -999.000,9,  188.000,2, -999.000,9,      2.3,2,     0.01,2,     0.24,2, -999.000,9, -999.000,9, -999.000,9, -999.000,9, -999.000,9
           NA,    PR02, RY8516,  99,      11,      11,  2,19930722,2151,  18.9945,  136.9933,  4724,  253.100,  17.2694,   34.777,2, -999.000,9, -999.000,9,  181.000,2, -999.000,9,      5.9,2,     0.00,2,     0.53,2, -999.000,9, -999.000,9, -999.000,9, -999.000,9, -999.000,9
           NA,    PR02, RY8516,  99,      12,      12,  2,19930722,2151,  18.9945,  136.9933,  4724,  304.900,  15.1967,   34.609,2, -999.000,9, -999.000,9,  178.000,2, -999.000,9,      8.9,2,     0.00,2,     0.74,2, -999.000,9, -999.000,9, -999.000,9, -999.000,9, -999.000,9
           NA,    PR02, RY8516,  99,      13,      13,  2,19930722,2151,  18.9945,  136.9933,  4724,  402.800,  11.4308,   34.315,2, -999.000,9, -999.000,9,  174.000,2, -999.000,9,     15.3,2,     0.00,2,     1.18,2, -999.000,9, -999.000,9, -999.000,9, -999.000,9, -999.000,9
           NA,    PR02, RY8516,  99,      14,      14,  2,19930722,2151,  18.9945,  136.9933,  4724,  503.400,   8.8175,   34.184,2, -999.000,9, -999.000,9,  148.000,2, -999.000,9,     23.5,2,     0.00,2,     1.78,2, -999.000,9, -999.000,9, -999.000,9, -999.000,9, -999.000,9
           NA,    PR02, RY8516,  99,      15,      15,  2,19930722,2151,  18.9945,  136.9933,  4724,  603.800,   6.3053,   34.139,2, -999.000,9, -999.000,9,  104.000,2, -999.000,9,     32.0,2,     0.00,2,     2.37,2, -999.000,9, -999.000,9, -999.000,9, -999.000,9, -999.000,9
           NA,    PR02, RY8516,  99,      16,      16,  2,19930722,2151,  18.9945,  136.9933,  4724,  705.500,   5.0989,   34.238,2, -999.000,9, -999.000,9,   69.000,2, -999.000,9,     37.5,2,     0.00,2,     2.74,2, -999.000,9, -999.000,9, -999.000,9, -999.000,9, -999.000,9
           NA,    PR02, RY8516,  99,      17,      17,  2,19930722,2151,  18.9945,  136.9933,  4724,  805.800,   4.5985,   34.356,2, -999.000,9, -999.000,9,   56.000,2, -999.000,9,     39.7,2,     0.00,2,     2.89,2, -999.000,9, -999.000,9, -999.000,9, -999.000,9, -999.000,9
           NA,    PR02, RY8516,  99,      18,      18,  2,19930722,2151,  18.9945,  136.9933,  4724,  906.900,   4.0607,   34.428,2, -999.000,9, -999.000,9,   66.000,2, -999.000,9,     39.6,2,     0.00,2,     2.86,2, -999.000,9, -999.000,9, -999.000,9, -999.000,9, -999.000,9
           NA,    PR02, RY8516,  99,      19,      19,  2,19930722,2151,  18.9945,  136.9933,  4724, 1008.600,   3.6954,   34.477,2, -999.000,9, -999.000,9,   73.000,2, -999.000,9,     39.7,2,     0.00,2,     2.85,2, -999.000,9, -999.000,9, -999.000,9, -999.000,9, -999.000,9
           NA,    PR02, RY8516,  99,      20,      20,  2,19930722,2151,  18.9945,  136.9933,  4724, 1262.600,   2.9995,   34.545,2, -999.000,9, -999.000,9,   90.000,2, -999.000,9,     39.4,2,     0.00,2,     2.82,2, -999.000,9, -999.000,9, -999.000,9, -999.000,9, -999.000,9
           NA,    PR02, RY8517,  99,       1,       1,  2,19930723,0538,  20.0083,  137.0052,  4678,    0.000,  30.6136,   35.082,2, -999.000,9, -999.000,9,  192.000,2, -999.000,9,      0.1,2,     0.01,2,     0.02,2, -999.000,9, -999.000,9, -999.000,9, -999.000,9, -999.000,9
           NA,    PR02, RY8517,  99,       2,       2,  2,19930723,0538,  20.0083,  137.0052,  4678,   11.100,  30.5335,   35.093,2, -999.000,9, -999.000,9,  194.000,2, -999.000,9,      0.0,2,     0.01,2,     0.01,2, -999.000,9, -999.000,9, -999.000,9, -999.000,9, -999.000,9
           NA,    PR02, RY8517,  99,       3,       3,  2,19930723,0538,  20.0083,  137.0052,  4678,   26.600,  30.4230,   35.083,2, -999.000,9, -999.000,9,  196.000,2, -999.000,9,      0.0,2,     0.00,2,     0.01,2, -999.000,9, -999.000,9, -999.000,9, -999.000,9, -999.000,9
           NA,    PR02, RY8517,  99,       4,       4,  2,19930723,0538,  20.0083,  137.0052,  4678,   51.800,  28.3675,   34.988,2,   34.992,2, -999.000,9,  216.000,2, -999.000,9,      0.0,2,     0.00,2,     0.01,2, -999.000,9, -999.000,9, -999.000,9, -999.000,9, -999.000,9
           NA,    PR02, RY8517,  99,       5,       5,  2,19930723,0538,  20.0083,  137.0052,  4678,   77.000,  26.7370,   35.037,2, -999.000,9, -999.000,9,  217.000,2, -999.000,9,      0.1,2,     0.00,2,     0.01,2, -999.000,9, -999.000,9, -999.000,9, -999.000,9, -999.000,9
           NA,    PR02, RY8517,  99,       7,       7,  2,19930723,0538,  20.0083,  137.0052,  4678,  126.900,  24.5565,   35.054,2, -999.000,9, -999.000,9,  204.000,2, -999.000,9,      0.1,2,     0.06,2,     0.03,2, -999.000,9, -999.000,9, -999.000,9, -999.000,9, -999.000,9
           NA,    PR02, RY8517,  99,       8,       8,  2,19930723,0538,  20.0083,  137.0052,  4678,  152.300,  23.6385,   35.073,2, -999.000,9, -999.000,9,  196.000,2, -999.000,9,      0.4,2,     0.08,2,     0.09,2, -999.000,9, -999.000,9, -999.000,9, -999.000,9, -999.000,9
           NA,    PR02, RY8517,  99,       9,       9,  2,19930723,0538,  20.0083,  137.0052,  4678,  177.900,  21.5151,   34.972,2, -999.000,9, -999.000,9,  204.000,2, -999.000,9,      0.5,2,     0.02,2,     0.06,2, -999.000,9, -999.000,9, -999.000,9, -999.000,9, -999.000,9
           NA,    PR02, RY8517,  99,      10,      10,  2,19930723,0538,  20.0083,  137.0052,  4678,  202.300,  20.3800,   34.944,2, -999.000,9, -999.000,9,  203.000,2, -999.000,9,      1.0,2,     0.02,2,     0.10,2, -999.000,9, -999.000,9, -999.000,9, -999.000,9, -999.000,9
           NA,    PR02, RY8517,  99,      11,      11,  2,19930723,0538,  20.0083,  137.0052,  4678,  250.600,  18.2756,   34.877,2,   34.881,2, -999.000,9,  199.000,2, -999.000,9,      2.8,2,     0.01,2,     0.24,2, -999.000,9, -999.000,9, -999.000,9, -999.000,9, -999.000,9
           NA,    PR02, RY8517,  99,      12,      12,  2,19930723,0538,  20.0083,  137.0052,  4678,  302.900,  16.7919,   34.754,2, -999.000,9, -999.000,9,  202.000,2, -999.000,9,      4.7,2,     0.01,2,     0.37,2, -999.000,9, -999.000,9, -999.000,9, -999.000,9, -999.000,9
           NA,    PR02, RY8517,  99,      13,      13,  2,19930723,0538,  20.0083,  137.0052,  4678,  404.400,  13.5673,   34.484,2,   34.489,2, -999.000,9,  186.000,2, -999.000,9,     10.8,2,     0.01,2,     0.83,2, -999.000,9, -999.000,9, -999.000,9, -999.000,9, -999.000,9
           NA,    PR02, RY8517,  99,      14,      14,  2,19930723,0538,  20.0083,  137.0052,  4678,  503.600,   9.8255,   34.215,2, -999.000,9, -999.000,9,  168.000,2, -999.000,9,     19.6,2,     0.00,2,     1.47,2, -999.000,9, -999.000,9, -999.000,9, -999.000,9, -999.000,9
           NA,    PR02, RY8517,  99,      15,      15,  2,19930723,0538,  20.0083,  137.0052,  4678,  604.100,   7.2372,   34.136,2,   34.144,2, -999.000,9,  118.000,2, -999.000,9,     29.3,2,     0.00,2,     2.16,2, -999.000,9, -999.000,9, -999.000,9, -999.000,9, -999.000,9
           NA,    PR02, RY8517,  99,      16,      16,  2,19930723,0538,  20.0083,  137.0052,  4678,  704.700,   5.6335,   34.159,2, -999.000,9, -999.000,9,   95.000,2, -999.000,9,     34.2,2,     0.00,2,     2.52,2, -999.000,9, -999.000,9, -999.000,9, -999.000,9, -999.000,9
           NA,    PR02, RY8517,  99,      17,      17,  2,19930723,0538,  20.0083,  137.0052,  4678,  806.300,   4.7774,   34.259,2,   34.264,2, -999.000,9,   63.000,2, -999.000,9,     38.7,2,     0.00,2,     2.83,2, -999.000,9, -999.000,9, -999.000,9, -999.000,9, -999.000,9
           NA,    PR02, RY8517,  99,      18,      18,  2,19930723,0538,  20.0083,  137.0052,  4678,  906.800,   4.2403,   34.369,2,   34.373,2, -999.000,9,   60.000,2, -999.000,9,     40.1,2,     0.00,2,     2.92,2, -999.000,9, -999.000,9, -999.000,9, -999.000,9, -999.000,9
           NA,    PR02, RY8517,  99,      19,      19,  2,19930723,0538,  20.0083,  137.0052,  4678, 1009.300,   3.8651,   34.434,2, -999.000,9, -999.000,9,   66.000,2, -999.000,9,     40.2,2,     0.00,2,     2.93,2, -999.000,9, -999.000,9, -999.000,9, -999.000,9, -999.000,9
           NA,    PR02, RY8517,  99,      20,      20,  2,19930723,0538,  20.0083,  137.0052,  4678, 1261.800,   3.0100,   34.518,2,   34.522,2, -999.000,9,   82.000,2, -999.000,9,     40.0,2,     0.01,2,     2.89,2, -999.000,9, -999.000,9, -999.000,9, -999.000,9, -999.000,9
           NA,    PR02, RY8517,  99,      21,      21,  2,19930723,0538,  20.0083,  137.0052,  4678, 1515.100,   2.6260,   34.568,2,   34.571,2, -999.000,9,   99.000,2, -999.000,9,     39.0,2,     0.00,2,     2.82,2, -999.000,9, -999.000,9, -999.000,9, -999.000,9, -999.000,9
           NA,    PR02, RY8517,  99,      22,      22,  2,19930723,0538,  20.0083,  137.0052,  4678, 2021.900,   2.0270,   34.627,2,   34.629,2, -999.000,9,  118.000,2, -999.000,9,     38.2,2,     0.00,2,     2.71,2, -999.000,9, -999.000,9, -999.000,9, -999.000,9, -999.000,9
           NA,    PR02, RY8517,  99,      23,      23,  2,19930723,0538,  20.0083,  137.0052,  4678, 2531.200,   1.7740,   34.649,2,   34.652,2, -999.000,9,  131.000,2, -999.000,9,     37.7,2,     0.01,2,     2.67,2, -999.000,9, -999.000,9, -999.000,9, -999.000,9, -999.000,9
           NA,    PR02, RY8517,  99,      24,      24,  2,19930723,0538,  20.0083,  137.0052,  4678, 3041.700,   1.6295,   34.665,2,   34.667,2, -999.000,9,  143.000,2, -999.000,9,     36.7,2,     0.00,2,     2.61,2, -999.000,9, -999.000,9, -999.000,9, -999.000,9, -999.000,9
           NA,    PR02, RY8517,  99,      25,      25,  2,19930723,0538,  20.0083,  137.0052,  4678, 4067.900,   1.5165,   34.684,2,   34.684,2, -999.000,9,  161.000,2, -999.000,9,     35.6,2,     0.00,2,     2.51,2, -999.000,9, -999.000,9, -999.000,9, -999.000,9, -999.000,9