BOTTLE,20210402JOAExport
EXPOCODE,SECT_ID,STNNBR,CASTNO,SAMPNO,BTLNBR,BTLNBR_FLAG_W,DATE,TIME,LATITUDE,LONGITUDE,DEPTH,CTDPRS,CTDTMP,CTDSAL,CTDSAL_FLAG_W,SALNTY,SALNTY_FLAG_W,CTDOXY,CTDOXY_FLAG_W,OXYGEN,OXYGEN_FLAG_W,SILCAT,SILCAT_FLAG_W,NITRAT,NITRAT_FLAG_W,NITRIT,NITRIT_FLAG_W,PHSPHT,PHSPHT_FLAG_W,CFC-11,CFC-11_FLAG_W,CFC-12,CFC-12_FLAG_W,SF6,SF6_FLAG_W,TCARBN,TCARBN_FLAG_W,ALKALI,ALKALI_FLAG_W
,,,,,,,,,,,,DB,DEG C,PSS-78,,PSS-78,,UMOL/KG,,UMOL/KG,,UMOL/KG,,UMOL/KG,,UMOL/KG,,UMOL/KG,,PMOL/KG,,PMOL/KG,,FMOL/KG,,UMOL/KG,,UMOL/KG
           NA,    PR02, RY8506,  99,       1,       1,  2,19930706,1106,  11.9912,  136.9925,  4976,    0.000,  29.2278,   33.963,2, -999.000,9, -999.000,9,  198.000,2, -999.000,9,      0.0,2,     0.00,2,     0.04,2, -999.000,9, -999.000,9, -999.000,9, -999.000,9, -999.000,9
           NA,    PR02, RY8506,  99,       2,       2,  2,19930706,1106,  11.9912,  136.9925,  4976,   11.400,  29.2548,   33.973,2, -999.000,9, -999.000,9,  199.000,2, -999.000,9,      0.0,2,     0.00,2,     0.04,2, -999.000,9, -999.000,9, -999.000,9, -999.000,9, -999.000,9
           NA,    PR02, RY8506,  99,       3,       3,  2,19930706,1106,  11.9912,  136.9925,  4976,   26.600,  29.1572,   34.024,2, -999.000,9, -999.000,9,  198.000,2, -999.000,9,      0.0,2,     0.00,2,     0.05,2, -999.000,9, -999.000,9, -999.000,9, -999.000,9, -999.000,9
           NA,    PR02, RY8506,  99,       4,       4,  2,19930706,1106,  11.9912,  136.9925,  4976,   51.500,  29.1197,   34.079,2,   34.085,2, -999.000,9,  198.000,2, -999.000,9,      0.0,2,     0.00,2,     0.04,2, -999.000,9, -999.000,9, -999.000,9, -999.000,9, -999.000,9
           NA,    PR02, RY8506,  99,       5,       5,  2,19930706,1106,  11.9912,  136.9925,  4976,   76.900,  28.4162,   34.164,2, -999.000,9, -999.000,9,  202.000,2, -999.000,9,      0.0,2,     0.00,2,     0.04,2, -999.000,9, -999.000,9, -999.000,9, -999.000,9, -999.000,9
           NA,    PR02, RY8506,  99,       6,       6,  2,19930706,1106,  11.9912,  136.9925,  4976,  101.700,  27.1717,   34.484,2,   34.482,2, -999.000,9,  174.000,2, -999.000,9,      0.0,2,     0.00,2,     0.09,2, -999.000,9, -999.000,9, -999.000,9, -999.000,9, -999.000,9
           NA,    PR02, RY8506,  99,       7,       7,  2,19930706,1106,  11.9912,  136.9925,  4976,  126.600,  25.4110,   34.692,2, -999.000,9, -999.000,9,  201.000,2, -999.000,9,      0.0,2,     0.01,2,     0.13,2, -999.000,9, -999.000,9, -999.000,9, -999.000,9, -999.000,9
           NA,    PR02, RY8506,  99,       8,       8,  2,19930706,1106,  11.9912,  136.9925,  4976,  152.300,  22.1806,   34.776,2, -999.000,9, -999.000,9,  173.000,2, -999.000,9,      2.8,2,     0.44,2,     0.40,2, -999.000,9, -999.000,9, -999.000,9, -999.000,9, -999.000,9
           NA,    PR02, RY8506,  99,       9,       9,  2,19930706,1106,  11.9912,  136.9925,  4976,  177.800,  19.5927,   34.944,2, -999.000,9, -999.000,9,  203.000,2, -999.000,9,      4.5,2,     0.04,2,     0.46,2, -999.000,9, -999.000,9, -999.000,9, -999.000,9, -999.000,9
           NA,    PR02, RY8506,  99,      10,      10,  2,19930706,1106,  11.9912,  136.9925,  4976,  203.500,  16.1543,   34.651,2,   34.654,2, -999.000,9,  146.000,2, -999.000,9,     12.4,2,     0.02,2,     0.93,2, -999.000,9, -999.000,9, -999.000,9, -999.000,9, -999.000,9
           NA,    PR02, RY8506,  99,      11,      11,  2,19930706,1106,  11.9912,  136.9925,  4976,  252.400,  13.1085,   34.532,2, -999.000,9, -999.000,9,  121.000,2, -999.000,9,     20.3,2,     0.01,2,     1.43,2, -999.000,9, -999.000,9, -999.000,9, -999.000,9, -999.000,9
           NA,    PR02, RY8506,  99,      12,      12,  2,19930706,1106,  11.9912,  136.9925,  4976,  304.400,  10.9476,   34.477,2,   34.459,2, -999.000,9,  109.000,2, -999.000,9,     25.0,2,     0.02,2,     1.77,2, -999.000,9, -999.000,9, -999.000,9, -999.000,9, -999.000,9
           NA,    PR02, RY8506,  99,      13,      13,  2,19930706,1106,  11.9912,  136.9925,  4976,  402.800,   8.9923,   34.481,2, -999.000,9, -999.000,9,   75.000,2, -999.000,9,     32.2,2,     0.00,2,     2.28,2, -999.000,9, -999.000,9, -999.000,9, -999.000,9, -999.000,9
           NA,    PR02, RY8506,  99,      14,      14,  2,19930706,1106,  11.9912,  136.9925,  4976,  503.000,   7.0567,   34.391,2,   34.398,2, -999.000,9,   77.000,2, -999.000,9,     34.8,2,     0.00,2,     2.49,2, -999.000,9, -999.000,9, -999.000,9, -999.000,9, -999.000,9
           NA,    PR02, RY8506,  99,      15,      15,  2,19930706,1106,  11.9912,  136.9925,  4976,  603.600,   6.2546,   34.445,2,   34.451,2, -999.000,9,   83.000,2, -999.000,9,     36.5,2,     0.01,2,     2.59,2, -999.000,9, -999.000,9, -999.000,9, -999.000,9, -999.000,9
           NA,    PR02, RY8506,  99,      16,      16,  2,19930706,1106,  11.9912,  136.9925,  4976,  704.400,   5.7810,   34.486,2,   34.491,2, -999.000,9,   90.000,2, -999.000,9,     37.0,2,     0.00,2,     2.64,2, -999.000,9, -999.000,9, -999.000,9, -999.000,9, -999.000,9
           NA,    PR02, RY8506,  99,      17,      17,  2,19930706,1106,  11.9912,  136.9925,  4976,  805.600,   5.5240,   34.512,2,   34.518,2, -999.000,9,   93.000,2, -999.000,9,     37.4,2,     0.01,2,     2.66,2, -999.000,9, -999.000,9, -999.000,9, -999.000,9, -999.000,9
           NA,    PR02, RY8506,  99,      18,      18,  2,19930706,1106,  11.9912,  136.9925,  4976,  907.000,   5.1170,   34.519,2,   34.525,2, -999.000,9,   87.000,2, -999.000,9,     38.0,2,     0.00,2,     2.72,2, -999.000,9, -999.000,9, -999.000,9, -999.000,9, -999.000,9
           NA,    PR02, RY8506,  99,      19,      19,  2,19930706,1106,  11.9912,  136.9925,  4976, 1008.200,   4.7153,   34.529,2,   34.532,2, -999.000,9,   87.000,2, -999.000,9,     38.4,2,     0.00,2,     2.76,2, -999.000,9, -999.000,9, -999.000,9, -999.000,9, -999.000,9
           NA,    PR02, RY8506,  99,      20,      20,  2,19930706,1106,  11.9912,  136.9925,  4976, 1260.500,   3.7409,   34.561,2,   34.564,2, -999.000,9,   94.000,2, -999.000,9,     38.9,2,     0.01,2,     2.80,2, -999.000,9, -999.000,9, -999.000,9, -999.000,9, -999.000,9
           NA,    PR02, RY8507,  99,       1,       1,  2,19930707,0757,  12.9997,  136.9838,  4714,    0.000,  29.4685,   34.127,2, -999.000,9, -999.000,9,  199.000,2, -999.000,9,      0.0,2,     0.00,2,     0.05,2, -999.000,9, -999.000,9, -999.000,9, -999.000,9, -999.000,9
           NA,    PR02, RY8507,  99,       2,       2,  2,19930707,0757,  12.9997,  136.9838,  4714,   10.200,  29.4608,   34.125,2, -999.000,9, -999.000,9,  198.000,2, -999.000,9,      0.0,2,     0.00,2,     0.05,2, -999.000,9, -999.000,9, -999.000,9, -999.000,9, -999.000,9
           NA,    PR02, RY8507,  99,       3,       3,  2,19930707,0757,  12.9997,  136.9838,  4714,   25.100,  29.2240,   34.117,2, -999.000,9, -999.000,9,  199.000,2, -999.000,9,      0.1,2,     0.00,2,     0.04,2, -999.000,9, -999.000,9, -999.000,9, -999.000,9, -999.000,9
           NA,    PR02, RY8507,  99,       4,       4,  2,19930707,0757,  12.9997,  136.9838,  4714,   50.500,  28.7197,   34.341,2, -999.000,9, -999.000,9,  204.000,2, -999.000,9,      0.0,2,     0.00,2,     0.05,2, -999.000,9, -999.000,9, -999.000,9, -999.000,9, -999.000,9
           NA,    PR02, RY8507,  99,       5,       5,  2,19930707,0757,  12.9997,  136.9838,  4714,   74.300,  27.5352,   34.505,2, -999.000,9, -999.000,9,  207.000,2, -999.000,9,      0.2,2,     0.00,2,     0.07,2, -999.000,9, -999.000,9, -999.000,9, -999.000,9, -999.000,9
           NA,    PR02, RY8507,  99,       6,       6,  2,19930707,0757,  12.9997,  136.9838,  4714,  100.900,  26.8204,   34.609,2, -999.000,9, -999.000,9,  204.000,2, -999.000,9,      0.1,2,     0.00,2,     0.09,2, -999.000,9, -999.000,9, -999.000,9, -999.000,9, -999.000,9
           NA,    PR02, RY8507,  99,       7,       7,  2,19930707,0757,  12.9997,  136.9838,  4714,  126.200,  26.4530,   34.735,2, -999.000,9, -999.000,9,  204.000,2, -999.000,9,      0.2,2,     0.00,2,     0.09,2, -999.000,9, -999.000,9, -999.000,9, -999.000,9, -999.000,9
           NA,    PR02, RY8507,  99,       8,       8,  2,19930707,0757,  12.9997,  136.9838,  4714,  150.600,  25.3790,   34.920,2, -999.000,9, -999.000,9,  199.000,2, -999.000,9,      0.2,2,     0.00,2,     0.10,2, -999.000,9, -999.000,9, -999.000,9, -999.000,9, -999.000,9
           NA,    PR02, RY8507,  99,       9,       9,  2,19930707,0757,  12.9997,  136.9838,  4714,  176.200,  22.7572,   34.977,2, -999.000,9, -999.000,9,  183.000,2, -999.000,9,      0.7,2,     0.22,2,     0.23,2, -999.000,9, -999.000,9, -999.000,9, -999.000,9, -999.000,9
           NA,    PR02, RY8507,  99,      10,      10,  2,19930707,0757,  12.9997,  136.9838,  4714,  199.900,  19.8706,   34.940,2, -999.000,9, -999.000,9,  172.000,2, -999.000,9,      3.4,2,     0.02,2,     0.41,2, -999.000,9, -999.000,9, -999.000,9, -999.000,9, -999.000,9
           NA,    PR02, RY8507,  99,      11,      11,  2,19930707,0757,  12.9997,  136.9838,  4714,  250.600,  15.3687,   34.648,2, -999.000,9, -999.000,9,  161.000,2, -999.000,9,      9.7,2,     0.01,2,     0.84,2, -999.000,9, -999.000,9, -999.000,9, -999.000,9, -999.000,9
           NA,    PR02, RY8507,  99,      12,      12,  2,19930707,0757,  12.9997,  136.9838,  4714,  301.000,  12.3288,   34.433,2, -999.000,9, -999.000,9,  144.000,2, -999.000,9,     16.3,2,     0.01,2,     1.31,2, -999.000,9, -999.000,9, -999.000,9, -999.000,9, -999.000,9
           NA,    PR02, RY8507,  99,      13,      13,  2,19930707,0757,  12.9997,  136.9838,  4714,  405.100,   9.5087,   34.466,2, -999.000,9, -999.000,9,   88.000,2, -999.000,9,     28.0,2,     0.00,2,     2.08,2, -999.000,9, -999.000,9, -999.000,9, -999.000,9, -999.000,9
           NA,    PR02, RY8507,  99,      14,      14,  2,19930707,0757,  12.9997,  136.9838,  4714,  506.000,   7.5630,   34.429,2, -999.000,9, -999.000,9,   72.000,2, -999.000,9,     33.0,2,     0.00,2,     2.43,2, -999.000,9, -999.000,9, -999.000,9, -999.000,9, -999.000,9
           NA,    PR02, RY8507,  99,      15,      15,  2,19930707,0757,  12.9997,  136.9838,  4714,  606.800,   6.2940,   34.412,2, -999.000,9, -999.000,9,   79.000,2, -999.000,9,     35.1,2,     0.00,2,     2.54,2, -999.000,9, -999.000,9, -999.000,9, -999.000,9, -999.000,9
           NA,    PR02, RY8507,  99,      16,      16,  2,19930707,0757,  12.9997,  136.9838,  4714,  706.800,   5.4042,   34.443,2, -999.000,9, -999.000,9,   89.000,2, -999.000,9,     36.4,2,     0.01,2,     2.61,2, -999.000,9, -999.000,9, -999.000,9, -999.000,9, -999.000,9
           NA,    PR02, RY8507,  99,      17,      17,  2,19930707,0757,  12.9997,  136.9838,  4714,  807.800,   5.0565,   34.481,2, -999.000,9, -999.000,9,   87.000,2, -999.000,9,     37.6,2,     0.00,2,     2.68,2, -999.000,9, -999.000,9, -999.000,9, -999.000,9, -999.000,9
           NA,    PR02, RY8507,  99,      18,      18,  2,19930707,0757,  12.9997,  136.9838,  4714,  908.500,   4.6850,   34.509,2, -999.000,9, -999.000,9,   87.000,2, -999.000,9,     38.5,2,     0.00,2,     2.70,2, -999.000,9, -999.000,9, -999.000,9, -999.000,9, -999.000,9
           NA,    PR02, RY8507,  99,      19,      19,  2,19930707,0757,  12.9997,  136.9838,  4714, 1008.700,   4.2916,   34.530,2, -999.000,9, -999.000,9,   88.000,2, -999.000,9,     39.2,2,     0.00,2,     2.72,2, -999.000,9, -999.000,9, -999.000,9, -999.000,9, -999.000,9
           NA,    PR02, RY8507,  99,      20,      20,  2,19930707,0757,  12.9997,  136.9838,  4714, 1263.500,   3.4945,   34.563,2, -999.000,9, -999.000,9,   98.000,2, -999.000,9,     39.3,2,     0.01,2,     2.75,2, -999.000,9, -999.000,9, -999.000,9, -999.000,9, -999.000,9
           NA,    PR02, RY8511,  99,       1,       1,  2,19930721,0929,  13.9952,  136.9988,  4693,    0.000,  29.6731,   34.052,2, -999.000,9, -999.000,9,  196.000,2, -999.000,9,      0.0,2,     0.00,2,     0.06,2, -999.000,9, -999.000,9, -999.000,9, -999.000,9, -999.000,9
           NA,    PR02, RY8511,  99,       2,       2,  2,19930721,0929,  13.9952,  136.9988,  4693,    9.400,  29.6260,   34.152,2, -999.000,9, -999.000,9,  197.000,2, -999.000,9,      0.0,2,     0.00,2,     0.05,2, -999.000,9, -999.000,9, -999.000,9, -999.000,9, -999.000,9
           NA,    PR02, RY8511,  99,       3,       3,  2,19930721,0929,  13.9952,  136.9988,  4693,   25.200,  29.6576,   34.380,2, -999.000,9, -999.000,9,  198.000,2, -999.000,9,      0.0,2,     0.00,2,     0.05,2, -999.000,9, -999.000,9, -999.000,9, -999.000,9, -999.000,9
           NA,    PR02, RY8511,  99,       4,       4,  2,19930721,0929,  13.9952,  136.9988,  4693,   50.100,  28.8756,   34.382,2, -999.000,9, -999.000,9,  205.000,2, -999.000,9,      0.1,2,     0.00,2,     0.06,2, -999.000,9, -999.000,9, -999.000,9, -999.000,9, -999.000,9
           NA,    PR02, RY8511,  99,       5,       5,  2,19930721,0929,  13.9952,  136.9988,  4693,   75.100,  28.1974,   34.630,2, -999.000,9, -999.000,9,  208.000,2, -999.000,9,      0.0,2,     0.00,2,     0.07,2, -999.000,9, -999.000,9, -999.000,9, -999.000,9, -999.000,9
           NA,    PR02, RY8511,  99,       6,       6,  2,19930721,0929,  13.9952,  136.9988,  4693,  100.100,  27.3638,   34.877,2, -999.000,9, -999.000,9,  212.000,2, -999.000,9,      0.0,2,     0.00,2,     0.07,2, -999.000,9, -999.000,9, -999.000,9, -999.000,9, -999.000,9
           NA,    PR02, RY8511,  99,       7,       7,  2,19930721,0929,  13.9952,  136.9988,  4693,  125.600,  25.6928,   34.826,2, -999.000,9, -999.000,9,  203.000,2, -999.000,9,      0.0,2,     0.00,2,     0.12,2, -999.000,9, -999.000,9, -999.000,9, -999.000,9, -999.000,9
           NA,    PR02, RY8511,  99,       8,       8,  2,19930721,0929,  13.9952,  136.9988,  4693,  150.800,  24.3479,   35.004,2, -999.000,9, -999.000,9,  198.000,2, -999.000,9,      0.2,2,     0.17,2,     0.11,2, -999.000,9, -999.000,9, -999.000,9, -999.000,9, -999.000,9
           NA,    PR02, RY8511,  99,       9,       9,  2,19930721,0929,  13.9952,  136.9988,  4693,  175.900,  22.2485,   35.006,2, -999.000,9, -999.000,9,  186.000,2, -999.000,9,      1.2,2,     0.02,2,     0.25,2, -999.000,9, -999.000,9, -999.000,9, -999.000,9, -999.000,9
           NA,    PR02, RY8511,  99,      10,      10,  2,19930721,0929,  13.9952,  136.9988,  4693,  201.200,  19.7583,   34.914,2, -999.000,9, -999.000,9,  175.000,2, -999.000,9,      3.5,2,     0.01,2,     0.46,2, -999.000,9, -999.000,9, -999.000,9, -999.000,9, -999.000,9
           NA,    PR02, RY8511,  99,      11,      11,  2,19930721,0929,  13.9952,  136.9988,  4693,  252.000,  16.3383,   34.709,2, -999.000,9, -999.000,9,  188.000,2, -999.000,9,      6.6,2,     0.00,2,     0.61,2, -999.000,9, -999.000,9, -999.000,9, -999.000,9, -999.000,9
           NA,    PR02, RY8511,  99,      12,      12,  2,19930721,0929,  13.9952,  136.9988,  4693,  302.300,  13.2714,   34.461,2, -999.000,9, -999.000,9,  176.000,2, -999.000,9,     12.2,2,     0.00,2,     1.02,2, -999.000,9, -999.000,9, -999.000,9, -999.000,9, -999.000,9
           NA,    PR02, RY8511,  99,      13,      13,  2,19930721,0929,  13.9952,  136.9988,  4693,  402.200,   9.4639,   34.317,2, -999.000,9, -999.000,9,  116.000,2, -999.000,9,     25.2,2,     0.00,2,     1.95,2, -999.000,9, -999.000,9, -999.000,9, -999.000,9, -999.000,9
           NA,    PR02, RY8511,  99,      14,      14,  2,19930721,0929,  13.9952,  136.9988,  4693,  503.200,   7.9109,   34.404,2, -999.000,9, -999.000,9,   74.000,2, -999.000,9,     33.0,2,     0.00,2,     2.48,2, -999.000,9, -999.000,9, -999.000,9, -999.000,9, -999.000,9
           NA,    PR02, RY8511,  99,      15,      15,  2,19930721,0929,  13.9952,  136.9988,  4693,  604.400,   6.5123,   34.427,2, -999.000,9, -999.000,9,   73.000,2, -999.000,9,     36.1,2,     0.00,2,     2.68,2, -999.000,9, -999.000,9, -999.000,9, -999.000,9, -999.000,9
           NA,    PR02, RY8511,  99,      16,      16,  2,19930721,0929,  13.9952,  136.9988,  4693,  704.800,   5.8060,   34.457,2, -999.000,9, -999.000,9,   83.000,2, -999.000,9,     36.7,2,     0.00,2,     2.73,2, -999.000,9, -999.000,9, -999.000,9, -999.000,9, -999.000,9
           NA,    PR02, RY8511,  99,      17,      17,  2,19930721,0929,  13.9952,  136.9988,  4693,  806.000,   5.3510,   34.489,2, -999.000,9, -999.000,9,   82.000,2, -999.000,9,     37.7,2,     0.00,2,     2.78,2, -999.000,9, -999.000,9, -999.000,9, -999.000,9, -999.000,9
           NA,    PR02, RY8511,  99,      18,      18,  2,19930721,0929,  13.9952,  136.9988,  4693,  907.400,   4.8700,   34.510,2, -999.000,9, -999.000,9,   87.000,2, -999.000,9,     38.1,2,     0.00,2,     2.80,2, -999.000,9, -999.000,9, -999.000,9, -999.000,9, -999.000,9
           NA,    PR02, RY8511,  99,      19,      19,  2,19930721,0929,  13.9952,  136.9988,  4693, 1008.500,   4.5090,   34.523,2, -999.000,9, -999.000,9,   90.000,2, -999.000,9,     38.3,2,     0.00,2,     2.82,2, -999.000,9, -999.000,9, -999.000,9, -999.000,9, -999.000,9
           NA,    PR02, RY8511,  99,      20,      20,  2,19930721,0929,  13.9952,  136.9988,  4693, 1264.400,   3.5495,   34.559,2, -999.000,9, -999.000,9,   95.000,2, -999.000,9,     39.1,2,     0.00,2,     2.87,2, -999.000,9, -999.000,9, -999.000,9, -999.000,9, -999.000,9