BOTTLE,20210402JOAExport
EXPOCODE,SECT_ID,STNNBR,CASTNO,SAMPNO,BTLNBR,BTLNBR_FLAG_W,DATE,TIME,LATITUDE,LONGITUDE,DEPTH,CTDPRS,CTDTMP,CTDSAL,CTDSAL_FLAG_W,SALNTY,SALNTY_FLAG_W,CTDOXY,CTDOXY_FLAG_W,OXYGEN,OXYGEN_FLAG_W,SILCAT,SILCAT_FLAG_W,NITRAT,NITRAT_FLAG_W,NITRIT,NITRIT_FLAG_W,PHSPHT,PHSPHT_FLAG_W,CFC-11,CFC-11_FLAG_W,CFC-12,CFC-12_FLAG_W,SF6,SF6_FLAG_W,TCARBN,TCARBN_FLAG_W,ALKALI,ALKALI_FLAG_W
,,,,,,,,,,,,DB,DEG C,PSS-78,,PSS-78,,UMOL/KG,,UMOL/KG,,UMOL/KG,,UMOL/KG,,UMOL/KG,,UMOL/KG,,PMOL/KG,,PMOL/KG,,FMOL/KG,,UMOL/KG,,UMOL/KG
           NA,    PR02, RY8503,  99,       1,       1,  2,19930705,1241,   9.0080,  136.9890,  3758,    0.000,  28.9995,   33.909,2, -999.000,9, -999.000,9,  197.000,2, -999.000,9,      0.0,2,     0.01,2,     0.04,2, -999.000,9, -999.000,9, -999.000,9, -999.000,9, -999.000,9
           NA,    PR02, RY8503,  99,       2,       2,  2,19930705,1241,   9.0080,  136.9890,  3758,   11.200,  29.0055,   33.908,2, -999.000,9, -999.000,9,  198.000,2, -999.000,9,      0.0,2,     0.00,2,     0.04,2, -999.000,9, -999.000,9, -999.000,9, -999.000,9, -999.000,9
           NA,    PR02, RY8503,  99,       3,       3,  2,19930705,1241,   9.0080,  136.9890,  3758,   25.700,  28.9380,   33.907,2, -999.000,9, -999.000,9,  198.000,2, -999.000,9,      0.0,2,     0.00,2,     0.03,2, -999.000,9, -999.000,9, -999.000,9, -999.000,9, -999.000,9
           NA,    PR02, RY8503,  99,       4,       4,  2,19930705,1241,   9.0080,  136.9890,  3758,   51.600,  27.1170,   34.484,2, -999.000,9, -999.000,9,  203.000,2, -999.000,9,      0.0,2,     0.01,2,     0.08,2, -999.000,9, -999.000,9, -999.000,9, -999.000,9, -999.000,9
           NA,    PR02, RY8503,  99,       5,       5,  2,19930705,1241,   9.0080,  136.9890,  3758,   76.500,  24.0515,   34.683,2, -999.000,9, -999.000,9,  185.000,2, -999.000,9,      0.7,2,     0.09,2,     0.24,2, -999.000,9, -999.000,9, -999.000,9, -999.000,9, -999.000,9
           NA,    PR02, RY8503,  99,       6,       6,  2,19930705,1241,   9.0080,  136.9890,  3758,  101.700,  20.1677,   34.753,2, -999.000,9, -999.000,9,  162.000,2, -999.000,9,      5.8,2,     0.34,2,     0.60,2, -999.000,9, -999.000,9, -999.000,9, -999.000,9, -999.000,9
           NA,    PR02, RY8503,  99,       7,       7,  2,19930705,1241,   9.0080,  136.9890,  3758,  126.600,  16.7237,   34.654,2, -999.000,9, -999.000,9,  142.000,2, -999.000,9,     12.3,2,     0.05,2,     0.99,2, -999.000,9, -999.000,9, -999.000,9, -999.000,9, -999.000,9
           NA,    PR02, RY8503,  99,       8,       8,  2,19930705,1241,   9.0080,  136.9890,  3758,  152.400,  14.0570,   34.577,2, -999.000,9, -999.000,9,  125.000,2, -999.000,9,     18.1,2,     0.01,2,     1.37,2, -999.000,9, -999.000,9, -999.000,9, -999.000,9, -999.000,9
           NA,    PR02, RY8503,  99,       9,       9,  2,19930705,1241,   9.0080,  136.9890,  3758,  177.300,  12.2574,   34.492,2, -999.000,9, -999.000,9,  120.000,2, -999.000,9,     20.9,2,     0.02,2,     1.57,2, -999.000,9, -999.000,9, -999.000,9, -999.000,9, -999.000,9
           NA,    PR02, RY8503,  99,      10,      10,  2,19930705,1241,   9.0080,  136.9890,  3758,  202.300,  11.6034,   34.457,2, -999.000,9, -999.000,9,  115.000,2, -999.000,9,     22.0,2,     0.01,2,     1.64,2, -999.000,9, -999.000,9, -999.000,9, -999.000,9, -999.000,9
           NA,    PR02, RY8503,  99,      11,      11,  2,19930705,1241,   9.0080,  136.9890,  3758,  252.300,  10.2777,   34.462,2, -999.000,9, -999.000,9,   92.000,2, -999.000,9,     27.1,2,     0.01,2,     2.00,2, -999.000,9, -999.000,9, -999.000,9, -999.000,9, -999.000,9
           NA,    PR02, RY8503,  99,      12,      12,  2,19930705,1241,   9.0080,  136.9890,  3758,  303.100,   8.9716,   34.503,2, -999.000,9, -999.000,9,   73.000,2, -999.000,9,     31.8,2,     0.01,2,     2.31,2, -999.000,9, -999.000,9, -999.000,9, -999.000,9, -999.000,9
           NA,    PR02, RY8503,  99,      13,      13,  2,19930705,1241,   9.0080,  136.9890,  3758,  402.400,   8.0323,   34.528,2, -999.000,9, -999.000,9,   77.000,2, -999.000,9,     34.9,2,     0.01,2,     2.53,2, -999.000,9, -999.000,9, -999.000,9, -999.000,9, -999.000,9
           NA,    PR02, RY8503,  99,      14,      14,  2,19930705,1241,   9.0080,  136.9890,  3758,  503.000,   7.2650,   34.522,2, -999.000,9, -999.000,9,   70.000,2, -999.000,9,     34.0,2,     0.00,2,     2.47,2, -999.000,9, -999.000,9, -999.000,9, -999.000,9, -999.000,9
           NA,    PR02, RY8503,  99,      15,      15,  2,19930705,1241,   9.0080,  136.9890,  3758,  604.100,   6.4498,   34.507,2, -999.000,9, -999.000,9,   84.000,2, -999.000,9,     35.8,2,     0.00,2,     2.59,2, -999.000,9, -999.000,9, -999.000,9, -999.000,9, -999.000,9
           NA,    PR02, RY8503,  99,      16,      16,  2,19930705,1241,   9.0080,  136.9890,  3758,  703.900,   5.9805,   34.521,2, -999.000,9, -999.000,9,   80.000,2, -999.000,9,     37.1,2,     0.01,2,     2.70,2, -999.000,9, -999.000,9, -999.000,9, -999.000,9, -999.000,9
           NA,    PR02, RY8503,  99,      17,      17,  2,19930705,1241,   9.0080,  136.9890,  3758,  804.200,   5.5744,   34.523,2, -999.000,9, -999.000,9,   83.000,2, -999.000,9,     37.5,2,     0.00,2,     2.73,2, -999.000,9, -999.000,9, -999.000,9, -999.000,9, -999.000,9
           NA,    PR02, RY8503,  99,      18,      18,  2,19930705,1241,   9.0080,  136.9890,  3758,  906.000,   5.1846,   34.531,2, -999.000,9, -999.000,9,   80.000,2, -999.000,9,     37.9,2,     0.00,2,     2.76,2, -999.000,9, -999.000,9, -999.000,9, -999.000,9, -999.000,9
           NA,    PR02, RY8503,  99,      19,      19,  2,19930705,1241,   9.0080,  136.9890,  3758, 1007.600,   4.7976,   34.538,2, -999.000,9, -999.000,9,   86.000,2, -999.000,9,     38.5,2,     0.01,2,     2.79,2, -999.000,9, -999.000,9, -999.000,9, -999.000,9, -999.000,9
           NA,    PR02, RY8503,  99,      20,      20,  2,19930705,1241,   9.0080,  136.9890,  3758, 1261.200,   3.7636,   34.564,2, -999.000,9, -999.000,9,   93.000,2, -999.000,9,     38.8,2,     0.00,2,     2.81,2, -999.000,9, -999.000,9, -999.000,9, -999.000,9, -999.000,9
           NA,    PR02, RY8504,  99,       1,       1,  2,19930705,1913,   9.9917,  136.9933,  4947,    0.000,  28.7154,   33.739,2, -999.000,9, -999.000,9,  199.000,2, -999.000,9,      0.0,2,     0.01,2,     0.02,2, -999.000,9, -999.000,9, -999.000,9, -999.000,9, -999.000,9
           NA,    PR02, RY8504,  99,       2,       2,  2,19930705,1913,   9.9917,  136.9933,  4947,   11.200,  28.9041,   33.943,2,   33.940,2, -999.000,9,  198.000,2, -999.000,9,      0.0,2,     0.00,2,     0.01,2, -999.000,9, -999.000,9, -999.000,9, -999.000,9, -999.000,9
           NA,    PR02, RY8504,  99,       3,       3,  2,19930705,1913,   9.9917,  136.9933,  4947,   25.900,  28.9005,   33.959,2,   33.952,2, -999.000,9,  198.000,2, -999.000,9,      0.0,2,     0.00,2,     0.02,2, -999.000,9, -999.000,9, -999.000,9, -999.000,9, -999.000,9
           NA,    PR02, RY8504,  99,       4,       4,  2,19930705,1913,   9.9917,  136.9933,  4947,   51.300,  28.8026,   34.079,2, -999.000,9, -999.000,9,  200.000,2, -999.000,9,      0.0,2,     0.01,2,     0.03,2, -999.000,9, -999.000,9, -999.000,9, -999.000,9, -999.000,9
           NA,    PR02, RY8504,  99,       5,       5,  2,19930705,1913,   9.9917,  136.9933,  4947,   76.400,  27.4255,   34.371,2, -999.000,9, -999.000,9,  198.000,2, -999.000,9,      0.0,2,     0.01,2,     0.06,2, -999.000,9, -999.000,9, -999.000,9, -999.000,9, -999.000,9
           NA,    PR02, RY8504,  99,       6,       6,  2,19930705,1913,   9.9917,  136.9933,  4947,  102.000,  24.6090,   34.702,2, -999.000,9, -999.000,9,  207.000,2, -999.000,9,      0.1,2,     0.02,2,     0.16,2, -999.000,9, -999.000,9, -999.000,9, -999.000,9, -999.000,9
           NA,    PR02, RY8504,  99,       7,       7,  2,19930705,1913,   9.9917,  136.9933,  4947,  126.800,  21.5493,   34.805,2, -999.000,9, -999.000,9,  179.000,2, -999.000,9,      2.7,2,     0.22,2,     0.38,2, -999.000,9, -999.000,9, -999.000,9, -999.000,9, -999.000,9
           NA,    PR02, RY8504,  99,       8,       8,  2,19930705,1913,   9.9917,  136.9933,  4947,  152.200,  17.4305,   34.716,2, -999.000,9, -999.000,9,  163.000,2, -999.000,9,      8.0,2,     0.05,2,     0.68,2, -999.000,9, -999.000,9, -999.000,9, -999.000,9, -999.000,9
           NA,    PR02, RY8504,  99,       9,       9,  2,19930705,1913,   9.9917,  136.9933,  4947,  177.300,  14.3211,   34.548,2, -999.000,9, -999.000,9,  158.000,2, -999.000,9,     13.0,2,     0.01,2,     0.99,2, -999.000,9, -999.000,9, -999.000,9, -999.000,9, -999.000,9
           NA,    PR02, RY8504,  99,      10,      10,  2,19930705,1913,   9.9917,  136.9933,  4947,  202.200,  13.5853,   34.512,2, -999.000,9, -999.000,9,  157.000,2, -999.000,9,     14.6,2,     0.02,2,     1.10,2, -999.000,9, -999.000,9, -999.000,9, -999.000,9, -999.000,9
           NA,    PR02, RY8504,  99,      11,      11,  2,19930705,1913,   9.9917,  136.9933,  4947,  252.700,  10.3811,   34.473,2,   34.475,2, -999.000,9,   95.000,2, -999.000,9,     26.7,2,     0.03,2,     1.92,2, -999.000,9, -999.000,9, -999.000,9, -999.000,9, -999.000,9
           NA,    PR02, RY8504,  99,      12,      12,  2,19930705,1913,   9.9917,  136.9933,  4947,  303.200,   9.3326,   34.504,2, -999.000,9, -999.000,9,   77.000,2, -999.000,9,     30.4,2,     0.01,2,     2.20,2, -999.000,9, -999.000,9, -999.000,9, -999.000,9, -999.000,9
           NA,    PR02, RY8504,  99,      13,      13,  2,19930705,1913,   9.9917,  136.9933,  4947,  406.000,   8.2322,   34.539,2,   34.539,2, -999.000,9,   69.000,2, -999.000,9,     33.7,2,     0.02,2,     2.42,2, -999.000,9, -999.000,9, -999.000,9, -999.000,9, -999.000,9
           NA,    PR02, RY8504,  99,      14,      14,  2,19930705,1913,   9.9917,  136.9933,  4947,  503.000,   7.5526,   34.530,2, -999.000,9, -999.000,9,   82.000,2, -999.000,9,     34.3,2,     0.01,2,     2.47,2, -999.000,9, -999.000,9, -999.000,9, -999.000,9, -999.000,9
           NA,    PR02, RY8504,  99,      15,      15,  2,19930705,1913,   9.9917,  136.9933,  4947,  604.000,   6.8896,   34.521,2,   34.522,2, -999.000,9,   82.000,2, -999.000,9,     35.3,2,     0.02,2,     2.53,2, -999.000,9, -999.000,9, -999.000,9, -999.000,9, -999.000,9
           NA,    PR02, RY8504,  99,      16,      16,  2,19930705,1913,   9.9917,  136.9933,  4947,  704.900,   6.2938,   34.523,2, -999.000,9, -999.000,9,   84.000,2, -999.000,9,     36.1,2,     0.00,2,     2.61,2, -999.000,9, -999.000,9, -999.000,9, -999.000,9, -999.000,9
           NA,    PR02, RY8504,  99,      17,      17,  2,19930705,1913,   9.9917,  136.9933,  4947,  805.700,   5.8011,   34.518,2,   34.518,2, -999.000,9,   88.000,2, -999.000,9,     36.6,2,     0.00,2,     2.65,2, -999.000,9, -999.000,9, -999.000,9, -999.000,9, -999.000,9
           NA,    PR02, RY8504,  99,      18,      18,  2,19930705,1913,   9.9917,  136.9933,  4947,  906.200,   5.2851,   34.529,2,   34.532,2, -999.000,9,   87.000,2, -999.000,9,     37.5,2,     0.01,2,     2.71,2, -999.000,9, -999.000,9, -999.000,9, -999.000,9, -999.000,9
           NA,    PR02, RY8504,  99,      19,      19,  2,19930705,1913,   9.9917,  136.9933,  4947, 1007.900,   4.7575,   34.540,2, -999.000,9, -999.000,9,   89.000,2, -999.000,9,     37.8,2,     0.01,2,     2.73,2, -999.000,9, -999.000,9, -999.000,9, -999.000,9, -999.000,9
           NA,    PR02, RY8504,  99,      20,      20,  2,19930705,1913,   9.9917,  136.9933,  4947, 1260.500,   3.7125,   34.569,2,   34.568,2, -999.000,9,   95.000,2, -999.000,9,     38.5,2,     0.00,2,     2.80,2, -999.000,9, -999.000,9, -999.000,9, -999.000,9, -999.000,9
           NA,    PR02, RY8504,  99,      21,      21,  2,19930705,1913,   9.9917,  136.9933,  4947, 1514.600,   2.9960,   34.592,2,   34.588,2, -999.000,9,   96.000,2, -999.000,9,     38.1,2,     0.00,2,     2.77,2, -999.000,9, -999.000,9, -999.000,9, -999.000,9, -999.000,9
           NA,    PR02, RY8504,  99,      22,      22,  2,19930705,1913,   9.9917,  136.9933,  4947, 2021.900,   2.2078,   34.633,2,   34.633,2, -999.000,9,  116.000,2, -999.000,9,     38.3,2,     0.01,2,     2.73,2, -999.000,9, -999.000,9, -999.000,9, -999.000,9, -999.000,9
           NA,    PR02, RY8504,  99,      23,      23,  2,19930705,1913,   9.9917,  136.9933,  4947, 2531.200,   1.7724,   34.658,2,   34.658,2, -999.000,9,  134.000,2, -999.000,9,     37.0,2,     0.00,2,     2.63,2, -999.000,9, -999.000,9, -999.000,9, -999.000,9, -999.000,9
           NA,    PR02, RY8504,  99,      24,      24,  2,19930705,1913,   9.9917,  136.9933,  4947, 3040.900,   1.5785,   34.672,2,   34.672,2, -999.000,9,  147.000,2, -999.000,9,     36.2,2,     0.00,2,     2.59,2, -999.000,9, -999.000,9, -999.000,9, -999.000,9, -999.000,9
           NA,    PR02, RY8504,  99,      25,      25,  2,19930705,1913,   9.9917,  136.9933,  4947, 4065.600,   1.5240,   34.683,2,   34.684,2, -999.000,9,  162.000,2, -999.000,9,     35.3,2,     0.00,2,     2.52,2, -999.000,9, -999.000,9, -999.000,9, -999.000,9, -999.000,9
           NA,    PR02, RY8505,  99,       1,       1,  2,19930706,0411,  10.9808,  137.0020,  4782,    0.000,  29.1024,   33.954,2, -999.000,9, -999.000,9,  196.000,2, -999.000,9,      0.0,2,     0.00,2,     0.04,2, -999.000,9, -999.000,9, -999.000,9, -999.000,9, -999.000,9
           NA,    PR02, RY8505,  99,       2,       2,  2,19930706,0411,  10.9808,  137.0020,  4782,   10.900,  28.9210,   33.952,2, -999.000,9, -999.000,9,  198.000,2, -999.000,9,      0.0,2,     0.00,2,     0.04,2, -999.000,9, -999.000,9, -999.000,9, -999.000,9, -999.000,9
           NA,    PR02, RY8505,  99,       3,       3,  2,19930706,0411,  10.9808,  137.0020,  4782,   25.600,  28.9214,   33.957,2, -999.000,9, -999.000,9,  200.000,2, -999.000,9,      0.0,2,     0.00,2,     0.03,2, -999.000,9, -999.000,9, -999.000,9, -999.000,9, -999.000,9
           NA,    PR02, RY8505,  99,       4,       4,  2,19930706,0411,  10.9808,  137.0020,  4782,   51.100,  28.9163,   33.971,2, -999.000,9, -999.000,9,  198.000,2, -999.000,9,      0.0,2,     0.00,2,     0.03,2, -999.000,9, -999.000,9, -999.000,9, -999.000,9, -999.000,9
           NA,    PR02, RY8505,  99,       5,       5,  2,19930706,0411,  10.9808,  137.0020,  4782,   75.700,  27.7599,   34.303,2, -999.000,9, -999.000,9,  201.000,2, -999.000,9,      0.0,2,     0.00,2,     0.06,2, -999.000,9, -999.000,9, -999.000,9, -999.000,9, -999.000,9
           NA,    PR02, RY8505,  99,       6,       6,  2,19930706,0411,  10.9808,  137.0020,  4782,  101.000,  26.4798,   34.473,2, -999.000,9, -999.000,9,  195.000,2, -999.000,9,      0.0,2,     0.01,2,     0.11,2, -999.000,9, -999.000,9, -999.000,9, -999.000,9, -999.000,9
           NA,    PR02, RY8505,  99,       7,       7,  2,19930706,0411,  10.9808,  137.0020,  4782,  126.600,  24.1141,   34.658,2, -999.000,9, -999.000,9,  180.000,2, -999.000,9,      1.3,2,     0.18,2,     0.26,2, -999.000,9, -999.000,9, -999.000,9, -999.000,9, -999.000,9
           NA,    PR02, RY8505,  99,       8,       8,  2,19930706,0411,  10.9808,  137.0020,  4782,  151.800,  18.2137,   34.724,2, -999.000,9, -999.000,9,  155.000,2, -999.000,9,      8.4,2,     0.06,2,     0.73,2, -999.000,9, -999.000,9, -999.000,9, -999.000,9, -999.000,9
           NA,    PR02, RY8505,  99,       9,       9,  2,19930706,0411,  10.9808,  137.0020,  4782,  177.000,  14.8829,   34.579,2, -999.000,9, -999.000,9,  154.000,2, -999.000,9,     12.8,2,     0.02,2,     0.98,2, -999.000,9, -999.000,9, -999.000,9, -999.000,9, -999.000,9
           NA,    PR02, RY8505,  99,      10,      10,  2,19930706,0411,  10.9808,  137.0020,  4782,  201.700,  13.0432,   34.458,2, -999.000,9, -999.000,9,  153.000,2, -999.000,9,     15.7,2,     0.01,2,     1.17,2, -999.000,9, -999.000,9, -999.000,9, -999.000,9, -999.000,9
           NA,    PR02, RY8505,  99,      11,      11,  2,19930706,0411,  10.9808,  137.0020,  4782,  252.700,  10.7142,   34.469,2, -999.000,9, -999.000,9,  102.000,2, -999.000,9,     25.8,2,     0.01,2,     1.87,2, -999.000,9, -999.000,9, -999.000,9, -999.000,9, -999.000,9
           NA,    PR02, RY8505,  99,      12,      12,  2,19930706,0411,  10.9808,  137.0020,  4782,  301.700,   9.3371,   34.501,2, -999.000,9, -999.000,9,   82.000,2, -999.000,9,     31.1,2,     0.04,2,     2.24,2, -999.000,9, -999.000,9, -999.000,9, -999.000,9, -999.000,9
           NA,    PR02, RY8505,  99,      13,      13,  2,19930706,0411,  10.9808,  137.0020,  4782,  402.600,   8.0186,   34.531,2, -999.000,9, -999.000,9,   72.000,2, -999.000,9,     34.1,2,     0.00,2,     2.45,2, -999.000,9, -999.000,9, -999.000,9, -999.000,9, -999.000,9
           NA,    PR02, RY8505,  99,      14,      14,  2,19930706,0411,  10.9808,  137.0020,  4782,  503.500,   7.2539,   34.519,2, -999.000,9, -999.000,9,   80.000,2, -999.000,9,     34.9,2,     0.00,2,     2.51,2, -999.000,9, -999.000,9, -999.000,9, -999.000,9, -999.000,9
           NA,    PR02, RY8505,  99,      15,      15,  2,19930706,0411,  10.9808,  137.0020,  4782,  604.600,   6.5545,   34.514,2, -999.000,9, -999.000,9,   84.000,2, -999.000,9,     36.0,2,     0.00,2,     2.59,2, -999.000,9, -999.000,9, -999.000,9, -999.000,9, -999.000,9
           NA,    PR02, RY8505,  99,      16,      16,  2,19930706,0411,  10.9808,  137.0020,  4782,  704.900,   5.9665,   34.514,2, -999.000,9, -999.000,9,   84.000,2, -999.000,9,     36.9,2,     0.00,2,     2.67,2, -999.000,9, -999.000,9, -999.000,9, -999.000,9, -999.000,9
           NA,    PR02, RY8505,  99,      17,      17,  2,19930706,0411,  10.9808,  137.0020,  4782,  805.700,   5.4555,   34.519,2, -999.000,9, -999.000,9,   84.000,2, -999.000,9,     37.7,2,     0.00,2,     2.73,2, -999.000,9, -999.000,9, -999.000,9, -999.000,9, -999.000,9
           NA,    PR02, RY8505,  99,      18,      18,  2,19930706,0411,  10.9808,  137.0020,  4782,  906.300,   5.1275,   34.526,2, -999.000,9, -999.000,9,   86.000,2, -999.000,9,     38.1,2,     0.00,2,     2.76,2, -999.000,9, -999.000,9, -999.000,9, -999.000,9, -999.000,9
           NA,    PR02, RY8505,  99,      19,      19,  2,19930706,0411,  10.9808,  137.0020,  4782, 1007.800,   4.7078,   34.532,2, -999.000,9, -999.000,9,   92.000,2, -999.000,9,     38.1,2,     0.00,2,     2.76,2, -999.000,9, -999.000,9, -999.000,9, -999.000,9, -999.000,9
           NA,    PR02, RY8505,  99,      20,      20,  2,19930706,0411,  10.9808,  137.0020,  4782, 1261.800,   3.7789,   34.564,2, -999.000,9, -999.000,9,   95.000,2, -999.000,9,     38.8,2,     0.01,2,     2.82,2, -999.000,9, -999.000,9, -999.000,9, -999.000,9, -999.000,9