BOTTLE,20210402JOAExport
# Exported from JOA (5.5.0 Final September 29th, 2020) on 2021/07/02 11:04:05
#BOTTLE,20010413WHPSIOKJU,,,,,,,,,,,,,,,,,,,,,,,,,,,,,,,,,,,,,,
#code : jjward hyd_to_exchange.pl ,,,,,,,,,,,,,,,,,,,,,,,,,,,,,,,,,,,,,,,
#original files copied from HTML directory: 20010413,,,,,,,,,,,,,,,,,,,,,,,,,,,,,,,,,,,,,,,
#original HYD file: pr02_hhy.txt   Fri Apr 13 11:28:54 2001,,,,,,,,,,,,,,,,,,,,,,,,,,,,,,,,,,,,,,,
#original SUM file: pr02_hsu.txt   Tue Aug 29 09:12:42 2000,,,,,,,,,,,,,,,,,,,,,,,,,,,,,,,,,,,,,,,
EXPOCODE,SECT_ID,STNNBR,CASTNO,SAMPNO,BTLNBR,BTLNBR_FLAG_W,DATE,TIME,LATITUDE,LONGITUDE,DEPTH,CTDPRS,CTDTMP,CTDSAL,CTDSAL_FLAG_W,SALNTY,SALNTY_FLAG_W,CTDOXY,CTDOXY_FLAG_W,OXYGEN,OXYGEN_FLAG_W,SILCAT,SILCAT_FLAG_W,NITRAT,NITRAT_FLAG_W,NITRIT,NITRIT_FLAG_W,PHSPHT,PHSPHT_FLAG_W,CFC-11,CFC-11_FLAG_W,CFC-12,CFC-12_FLAG_W,SF6,SF6_FLAG_W,TCARBN,TCARBN_FLAG_W,ALKALI,ALKALI_FLAG_W
,,,,,,,,,,,,DB,DEG C,PSS-78,,PSS-78,,UMOL/KG,,UMOL/KG,,UMOL/KG,,UMOL/KG,,UMOL/KG,,UMOL/KG,,PMOL/KG,,PMOL/KG,,FMOL/KG,,UMOL/KG,,UMOL/KG
           NA,    PR02, RY8497,  99,       1,       1,  2,19930703,1059,   3.0090,  137.0032,  4535,    0.000,  29.7719,   34.116,2, -999.000,9, -999.000,9,  198.000,2, -999.000,9,      0.2,2,     0.01,2,     0.06,2, -999.000,9, -999.000,9, -999.000,9, -999.000,9, -999.000,9
           NA,    PR02, RY8497,  99,       2,       2,  2,19930703,1059,   3.0090,  137.0032,  4535,    9.100,  29.4036,   34.108,2, -999.000,9, -999.000,9,  199.000,2, -999.000,9,      0.2,2,     0.01,2,     0.06,2, -999.000,9, -999.000,9, -999.000,9, -999.000,9, -999.000,9
           NA,    PR02, RY8497,  99,       3,       3,  2,19930703,1059,   3.0090,  137.0032,  4535,   24.100,  29.3038,   34.114,2, -999.000,9, -999.000,9,  199.000,2, -999.000,9,      0.2,2,     0.01,2,     0.05,2, -999.000,9, -999.000,9, -999.000,9, -999.000,9, -999.000,9
           NA,    PR02, RY8497,  99,       4,       4,  2,19930703,1059,   3.0090,  137.0032,  4535,   49.300,  27.0206,   34.400,2,   34.409,2, -999.000,9,  200.000,2, -999.000,9,      0.3,2,     0.01,2,     0.11,2, -999.000,9, -999.000,9, -999.000,9, -999.000,9, -999.000,9
           NA,    PR02, RY8497,  99,       5,       5,  2,19930703,1059,   3.0090,  137.0032,  4535,   75.200,  25.4536,   34.844,2, -999.000,9, -999.000,9,  159.000,2, -999.000,9,      4.6,2,     0.15,2,     0.38,2, -999.000,9, -999.000,9, -999.000,9, -999.000,9, -999.000,9
           NA,    PR02, RY8497,  99,       6,       6,  2,19930703,1059,   3.0090,  137.0032,  4535,   99.500,  23.2472,   34.737,2,   34.734,2, -999.000,9,  143.000,2, -999.000,9,      8.1,2,     0.08,2,     0.61,2, -999.000,9, -999.000,9, -999.000,9, -999.000,9, -999.000,9
           NA,    PR02, RY8497,  99,       7,       7,  2,19930703,1059,   3.0090,  137.0032,  4535,  125.300,  22.1694,   34.877,2, -999.000,9, -999.000,9,  141.000,2, -999.000,9,      9.3,2,     0.04,2,     0.69,2, -999.000,9, -999.000,9, -999.000,9, -999.000,9, -999.000,9
           NA,    PR02, RY8497,  99,       8,       8,  2,19930703,1059,   3.0090,  137.0032,  4535,  150.100,  20.7849,   35.205,2, -999.000,9, -999.000,9,  147.000,2, -999.000,9,      9.1,2,     0.02,2,     0.71,2, -999.000,9, -999.000,9, -999.000,9, -999.000,9, -999.000,9
           NA,    PR02, RY8497,  99,       9,       9,  2,19930703,1059,   3.0090,  137.0032,  4535,  175.900,  18.5514,   35.121,2, -999.000,9, -999.000,9,  146.000,2, -999.000,9,     11.4,2,     0.03,2,     0.86,2, -999.000,9, -999.000,9, -999.000,9, -999.000,9, -999.000,9
           NA,    PR02, RY8497,  99,      10,      10,  2,19930703,1059,   3.0090,  137.0032,  4535,  201.100,  18.2260,   35.378,2,   35.379,2, -999.000,9,  150.000,2, -999.000,9,     10.9,2,     0.02,2,     0.85,2, -999.000,9, -999.000,9, -999.000,9, -999.000,9, -999.000,9
           NA,    PR02, RY8497,  99,      11,      11,  2,19930703,1059,   3.0090,  137.0032,  4535,  250.600,  14.6591,   34.960,2, -999.000,9, -999.000,9,  143.000,2, -999.000,9,     16.6,2,     0.01,2,     1.19,2, -999.000,9, -999.000,9, -999.000,9, -999.000,9, -999.000,9
           NA,    PR02, RY8497,  99,      12,      12,  2,19930703,1059,   3.0090,  137.0032,  4535,  303.200,  10.8636,   34.508,2,   34.513,2, -999.000,9,  125.000,2, -999.000,9,     24.4,2,     0.01,2,     1.71,2, -999.000,9, -999.000,9, -999.000,9, -999.000,9, -999.000,9
           NA,    PR02, RY8497,  99,      13,      13,  2,19930703,1059,   3.0090,  137.0032,  4535,  401.800,   8.9315,   34.572,2, -999.000,9, -999.000,9,   68.000,2, -999.000,9,     33.8,2,     0.01,2,     2.36,2, -999.000,9, -999.000,9, -999.000,9, -999.000,9, -999.000,9
           NA,    PR02, RY8497,  99,      14,      14,  2,19930703,1059,   3.0090,  137.0032,  4535,  503.300,   7.7772,   34.570,2,   34.575,2, -999.000,9,   92.000,2, -999.000,9,     33.8,2,     0.01,2,     2.36,2, -999.000,9, -999.000,9, -999.000,9, -999.000,9, -999.000,9
           NA,    PR02, RY8497,  99,      15,      15,  2,19930703,1059,   3.0090,  137.0032,  4535,  603.500,   6.8210,   34.546,2,   34.549,2, -999.000,9,   79.000,2, -999.000,9,     36.7,2,     0.00,2,     2.58,2, -999.000,9, -999.000,9, -999.000,9, -999.000,9, -999.000,9
           NA,    PR02, RY8497,  99,      16,      16,  2,19930703,1059,   3.0090,  137.0032,  4535,  704.900,   6.0804,   34.534,2,   34.537,2, -999.000,9,   91.000,2, -999.000,9,     37.1,2,     0.01,2,     2.62,2, -999.000,9, -999.000,9, -999.000,9, -999.000,9, -999.000,9
           NA,    PR02, RY8497,  99,      17,      17,  2,19930703,1059,   3.0090,  137.0032,  4535,  805.600,   5.4762,   34.533,2,   34.538,2, -999.000,9,   94.000,2, -999.000,9,     37.8,2,     0.00,2,     2.69,2, -999.000,9, -999.000,9, -999.000,9, -999.000,9, -999.000,9
           NA,    PR02, RY8497,  99,      18,      18,  2,19930703,1059,   3.0090,  137.0032,  4535,  906.600,   4.9120,   34.544,2,   34.546,2, -999.000,9,   90.000,2, -999.000,9,     38.5,2,     0.00,2,     2.75,2, -999.000,9, -999.000,9, -999.000,9, -999.000,9, -999.000,9
           NA,    PR02, RY8497,  99,      19,      19,  2,19930703,1059,   3.0090,  137.0032,  4535, 1008.100,   4.4497,   34.554,2,   34.558,2, -999.000,9,   92.000,2, -999.000,9,     39.4,2,     0.01,2,     2.81,2, -999.000,9, -999.000,9, -999.000,9, -999.000,9, -999.000,9
           NA,    PR02, RY8497,  99,      20,      20,  2,19930703,1059,   3.0090,  137.0032,  4535, 1262.600,   3.6209,   34.576,2,   34.541,2, -999.000,9,  100.000,2, -999.000,9,     39.3,2,     0.00,2,     2.81,2, -999.000,9, -999.000,9, -999.000,9, -999.000,9, -999.000,9
           NA,    PR02, RY8498,  99,       1,       1,  2,19930703,1830,   4.0127,  137.0123,  4659,    0.000,  29.1356,   32.991,2, -999.000,9, -999.000,9,  198.000,2, -999.000,9,      0.0,2,     0.00,2,     0.05,2, -999.000,9, -999.000,9, -999.000,9, -999.000,9, -999.000,9
           NA,    PR02, RY8498,  99,       2,       2,  2,19930703,1830,   4.0127,  137.0123,  4659,   11.900,  29.4856,   34.066,2, -999.000,9, -999.000,9,  196.000,2, -999.000,9,      0.0,2,     0.01,2,     0.05,2, -999.000,9, -999.000,9, -999.000,9, -999.000,9, -999.000,9
           NA,    PR02, RY8498,  99,       3,       3,  2,19930703,1830,   4.0127,  137.0123,  4659,   26.000,  29.0301,   34.122,2, -999.000,9, -999.000,9,  200.000,2, -999.000,9,      0.0,2,     0.01,2,     0.04,2, -999.000,9, -999.000,9, -999.000,9, -999.000,9, -999.000,9
           NA,    PR02, RY8498,  99,       4,       4,  2,19930703,1830,   4.0127,  137.0123,  4659,   51.500,  28.2472,   34.310,2, -999.000,9, -999.000,9,  201.000,2, -999.000,9,      0.1,2,     0.00,2,     0.05,2, -999.000,9, -999.000,9, -999.000,9, -999.000,9, -999.000,9
           NA,    PR02, RY8498,  99,       5,       5,  2,19930703,1830,   4.0127,  137.0123,  4659,   75.600,  25.0667,   34.547,2, -999.000,9, -999.000,9,  181.000,2, -999.000,9,      2.4,2,     0.57,2,     0.24,2, -999.000,9, -999.000,9, -999.000,9, -999.000,9, -999.000,9
           NA,    PR02, RY8498,  99,       6,       6,  2,19930703,1830,   4.0127,  137.0123,  4659,  101.900,  23.6300,   34.831,2, -999.000,9, -999.000,9,  158.000,2, -999.000,9,      5.4,2,     0.07,2,     0.45,2, -999.000,9, -999.000,9, -999.000,9, -999.000,9, -999.000,9
           NA,    PR02, RY8498,  99,       7,       7,  2,19930703,1830,   4.0127,  137.0123,  4659,  126.900,  22.8797,   34.944,2, -999.000,9, -999.000,9,  150.000,2, -999.000,9,      7.0,2,     0.04,2,     0.57,2, -999.000,9, -999.000,9, -999.000,9, -999.000,9, -999.000,9
           NA,    PR02, RY8498,  99,       8,       8,  2,19930703,1830,   4.0127,  137.0123,  4659,  152.100,  20.6185,   35.207,2, -999.000,9, -999.000,9,  141.000,2, -999.000,9,      9.6,2,     0.02,2,     0.75,2, -999.000,9, -999.000,9, -999.000,9, -999.000,9, -999.000,9
           NA,    PR02, RY8498,  99,       9,       9,  2,19930703,1830,   4.0127,  137.0123,  4659,  177.300,  18.5822,   35.096,2, -999.000,9, -999.000,9,  144.000,2, -999.000,9,     11.2,2,     0.02,2,     0.86,2, -999.000,9, -999.000,9, -999.000,9, -999.000,9, -999.000,9
           NA,    PR02, RY8498,  99,      10,      10,  2,19930703,1830,   4.0127,  137.0123,  4659,  202.900,  14.7940,   34.672,2, -999.000,9, -999.000,9,  137.000,2, -999.000,9,     15.6,2,     0.02,2,     1.15,2, -999.000,9, -999.000,9, -999.000,9, -999.000,9, -999.000,9
           NA,    PR02, RY8498,  99,      11,      11,  2,19930703,1830,   4.0127,  137.0123,  4659,  250.900,  10.4577,   34.451,2, -999.000,9, -999.000,9,  119.000,2, -999.000,9,     24.4,2,     0.01,2,     1.75,2, -999.000,9, -999.000,9, -999.000,9, -999.000,9, -999.000,9
           NA,    PR02, RY8498,  99,      12,      12,  2,19930703,1830,   4.0127,  137.0123,  4659,  303.900,   9.3023,   34.568,2, -999.000,9, -999.000,9,   69.000,2, -999.000,9,     31.7,2,     0.01,2,     2.26,2, -999.000,9, -999.000,9, -999.000,9, -999.000,9, -999.000,9
           NA,    PR02, RY8498,  99,      13,      13,  2,19930703,1830,   4.0127,  137.0123,  4659,  402.600,   7.6745,   34.550,2, -999.000,9, -999.000,9,   85.000,2, -999.000,9,     33.6,2,     0.00,2,     2.39,2, -999.000,9, -999.000,9, -999.000,9, -999.000,9, -999.000,9
           NA,    PR02, RY8498,  99,      14,      14,  2,19930703,1830,   4.0127,  137.0123,  4659,  505.100,   7.0353,   34.552,2, -999.000,9, -999.000,9,  110.000,2, -999.000,9,     33.2,2,     0.01,2,     2.35,2, -999.000,9, -999.000,9, -999.000,9, -999.000,9, -999.000,9
           NA,    PR02, RY8498,  99,      15,      15,  2,19930703,1830,   4.0127,  137.0123,  4659,  605.900,   6.6862,   34.542,2, -999.000,9, -999.000,9,  108.000,2, -999.000,9,     33.9,2,     0.00,2,     2.42,2, -999.000,9, -999.000,9, -999.000,9, -999.000,9, -999.000,9
           NA,    PR02, RY8498,  99,      16,      16,  2,19930703,1830,   4.0127,  137.0123,  4659,  706.500,   6.1208,   34.537,2, -999.000,9, -999.000,9,   93.000,2, -999.000,9,     36.1,2,     0.00,2,     2.59,2, -999.000,9, -999.000,9, -999.000,9, -999.000,9, -999.000,9
           NA,    PR02, RY8498,  99,      17,      17,  2,19930703,1830,   4.0127,  137.0123,  4659,  805.200,   5.5125,   34.539,2, -999.000,9, -999.000,9,   89.000,2, -999.000,9,     37.9,2,     0.01,2,     2.71,2, -999.000,9, -999.000,9, -999.000,9, -999.000,9, -999.000,9
           NA,    PR02, RY8498,  99,      18,      18,  2,19930703,1830,   4.0127,  137.0123,  4659,  906.600,   5.0330,   34.543,2, -999.000,9, -999.000,9,   91.000,2, -999.000,9,     38.0,2,     0.00,2,     2.72,2, -999.000,9, -999.000,9, -999.000,9, -999.000,9, -999.000,9
           NA,    PR02, RY8498,  99,      19,      19,  2,19930703,1830,   4.0127,  137.0123,  4659, 1006.300,   4.4954,   34.554,2, -999.000,9, -999.000,9,   91.000,2, -999.000,9,     38.5,2,     0.00,2,     2.76,2, -999.000,9, -999.000,9, -999.000,9, -999.000,9, -999.000,9
           NA,    PR02, RY8498,  99,      20,      20,  2,19930703,1830,   4.0127,  137.0123,  4659, 1268.100,   3.6750,   34.573,2, -999.000,9, -999.000,9,   97.000,2, -999.000,9,     38.7,2,     0.00,2,     2.79,2, -999.000,9, -999.000,9, -999.000,9, -999.000,9, -999.000,9
           NA,    PR02, RY8499,  99,       1,       1,  2,19930704,0638,   5.1693,  137.0230,  3956,    0.000,  28.9586,   33.892,2, -999.000,9, -999.000,9,  195.000,2, -999.000,9,      0.0,2,     0.02,2,     0.02,2, -999.000,9, -999.000,9, -999.000,9, -999.000,9, -999.000,9
           NA,    PR02, RY8499,  99,       2,       2,  2,19930704,0638,   5.1693,  137.0230,  3956,   11.400,  29.1647,   34.126,2, -999.000,9, -999.000,9,  198.000,2, -999.000,9,      0.0,2,     0.02,2,     0.02,2, -999.000,9, -999.000,9, -999.000,9, -999.000,9, -999.000,9
           NA,    PR02, RY8499,  99,       3,       3,  2,19930704,0638,   5.1693,  137.0230,  3956,   26.100,  28.8647,   34.105,2,   34.063,2, -999.000,9,  199.000,2, -999.000,9,      0.0,2,     0.02,2,     0.02,2, -999.000,9, -999.000,9, -999.000,9, -999.000,9, -999.000,9
           NA,    PR02, RY8499,  99,       4,       4,  2,19930704,0638,   5.1693,  137.0230,  3956,   51.600,  28.0066,   34.409,2, -999.000,9, -999.000,9,  204.000,2, -999.000,9,      0.0,2,     0.02,2,     0.03,2, -999.000,9, -999.000,9, -999.000,9, -999.000,9, -999.000,9
           NA,    PR02, RY8499,  99,       5,       5,  2,19930704,0638,   5.1693,  137.0230,  3956,   77.200,  23.8831,   34.611,2, -999.000,9, -999.000,9,  175.000,2, -999.000,9,      3.2,2,     0.25,2,     0.33,2, -999.000,9, -999.000,9, -999.000,9, -999.000,9, -999.000,9
           NA,    PR02, RY8499,  99,       6,       6,  2,19930704,0638,   5.1693,  137.0230,  3956,  102.000,  22.5900,   34.673,2, -999.000,9, -999.000,9,  162.000,2, -999.000,9,      5.1,2,     0.15,2,     0.45,2, -999.000,9, -999.000,9, -999.000,9, -999.000,9, -999.000,9
           NA,    PR02, RY8499,  99,       7,       7,  2,19930704,0638,   5.1693,  137.0230,  3956,  127.600,  20.4557,   34.735,2, -999.000,9, -999.000,9,  161.000,2, -999.000,9,      6.1,2,     0.15,2,     0.56,2, -999.000,9, -999.000,9, -999.000,9, -999.000,9, -999.000,9
           NA,    PR02, RY8499,  99,       8,       8,  2,19930704,0638,   5.1693,  137.0230,  3956,  153.500,  16.4980,   34.673,2, -999.000,9, -999.000,9,  141.000,2, -999.000,9,     12.5,2,     0.04,2,     0.96,2, -999.000,9, -999.000,9, -999.000,9, -999.000,9, -999.000,9
           NA,    PR02, RY8499,  99,       9,       9,  2,19930704,0638,   5.1693,  137.0230,  3956,  178.700,  13.5795,   34.546,2, -999.000,9, -999.000,9,  133.000,2, -999.000,9,     17.2,2,     0.03,2,     1.29,2, -999.000,9, -999.000,9, -999.000,9, -999.000,9, -999.000,9
           NA,    PR02, RY8499,  99,      10,      10,  2,19930704,0638,   5.1693,  137.0230,  3956,  204.300,  11.2366,   34.505,2,   34.544,2, -999.000,9,  108.000,2, -999.000,9,     24.0,2,     0.03,2,     1.76,2, -999.000,9, -999.000,9, -999.000,9, -999.000,9, -999.000,9
           NA,    PR02, RY8499,  99,      11,      11,  2,19930704,0638,   5.1693,  137.0230,  3956,  254.000,   9.9998,   34.539,2, -999.000,9, -999.000,9,   81.000,2, -999.000,9,     28.3,2,     0.03,2,     2.05,2, -999.000,9, -999.000,9, -999.000,9, -999.000,9, -999.000,9
           NA,    PR02, RY8499,  99,      12,      12,  2,19930704,0638,   5.1693,  137.0230,  3956,  303.400,   8.8840,   34.582,2,   34.552,2, -999.000,9,   66.000,2, -999.000,9,     32.3,2,     0.02,2,     2.35,2, -999.000,9, -999.000,9, -999.000,9, -999.000,9, -999.000,9
           NA,    PR02, RY8499,  99,      13,      13,  2,19930704,0638,   5.1693,  137.0230,  3956,  394.700,   7.8580,   34.550,2, -999.000,9, -999.000,9,   91.000,2, -999.000,9,     32.0,2,     0.02,2,     2.33,2, -999.000,9, -999.000,9, -999.000,9, -999.000,9, -999.000,9
           NA,    PR02, RY8499,  99,      14,      14,  2,19930704,0638,   5.1693,  137.0230,  3956,  503.800,   7.2736,   34.555,2,   34.559,2, -999.000,9,  108.000,2, -999.000,9,     32.0,2,     0.02,2,     2.34,2, -999.000,9, -999.000,9, -999.000,9, -999.000,9, -999.000,9
           NA,    PR02, RY8499,  99,      15,      15,  2,19930704,0638,   5.1693,  137.0230,  3956,  605.200,   6.4406,   34.535,2, -999.000,9, -999.000,9,   93.000,2, -999.000,9,     35.0,2,     0.01,2,     2.58,2, -999.000,9, -999.000,9, -999.000,9, -999.000,9, -999.000,9
           NA,    PR02, RY8499,  99,      16,      16,  2,19930704,0638,   5.1693,  137.0230,  3956,  706.400,   5.8070,   34.536,2,   34.542,2, -999.000,9,   89.000,2, -999.000,9,     36.4,2,     0.02,2,     2.69,2, -999.000,9, -999.000,9, -999.000,9, -999.000,9, -999.000,9
           NA,    PR02, RY8499,  99,      17,      17,  2,19930704,0638,   5.1693,  137.0230,  3956,  807.400,   5.2571,   34.536,2, -999.000,9, -999.000,9,   92.000,2, -999.000,9,     36.7,2,     0.00,2,     2.70,2, -999.000,9, -999.000,9, -999.000,9, -999.000,9, -999.000,9
           NA,    PR02, RY8499,  99,      18,      18,  2,19930704,0638,   5.1693,  137.0230,  3956,  908.500,   4.8430,   34.541,2,   34.555,2, -999.000,9,   92.000,2, -999.000,9,     37.2,2,     0.00,2,     2.73,2, -999.000,9, -999.000,9, -999.000,9, -999.000,9, -999.000,9
           NA,    PR02, RY8499,  99,      19,      19,  2,19930704,0638,   5.1693,  137.0230,  3956, 1009.800,   4.4938,   34.552,2, -999.000,9, -999.000,9,   92.000,2, -999.000,9,     37.6,2,     0.01,2,     2.74,2, -999.000,9, -999.000,9, -999.000,9, -999.000,9, -999.000,9
           NA,    PR02, RY8499,  99,      20,      20,  2,19930704,0638,   5.1693,  137.0230,  3956, 1262.300,   3.6615,   34.573,2, -999.000,9, -999.000,9,   98.000,2, -999.000,9,     37.9,2,     0.00,2,     2.75,2, -999.000,9, -999.000,9, -999.000,9, -999.000,9, -999.000,9
           NA,    PR02, RY8499,  99,      21,      21,  2,19930704,0638,   5.1693,  137.0230,  3956, 1515.900,   3.0250,   34.596,2,   34.597,2, -999.000,9,  101.000,2, -999.000,9,     38.1,2,     0.01,2,     2.84,2, -999.000,9, -999.000,9, -999.000,9, -999.000,9, -999.000,9
           NA,    PR02, RY8499,  99,      22,      22,  2,19930704,0638,   5.1693,  137.0230,  3956, 2022.500,   2.2145,   34.633,2,   34.635,2, -999.000,9,  115.000,2, -999.000,9,     37.9,2,     0.01,2,     2.79,2, -999.000,9, -999.000,9, -999.000,9, -999.000,9, -999.000,9
           NA,    PR02, RY8499,  99,      23,      23,  2,19930704,0638,   5.1693,  137.0230,  3956, 2531.000,   1.7535,   34.658,2,   34.663,2, -999.000,9,  139.000,2, -999.000,9,     36.7,2,     0.01,2,     2.66,2, -999.000,9, -999.000,9, -999.000,9, -999.000,9, -999.000,9
           NA,    PR02, RY8499,  99,      24,      24,  2,19930704,0638,   5.1693,  137.0230,  3956, 3040.100,   1.5803,   34.669,2,   34.666,2, -999.000,9,  145.000,2, -999.000,9,     35.6,2,     0.00,2,     2.59,2, -999.000,9, -999.000,9, -999.000,9, -999.000,9, -999.000,9
           NA,    PR02, RY8499,  99,      25,      25,  2,19930704,0638,   5.1693,  137.0230,  3956, 3865.400,   1.5140,   34.679,2,   34.683,2, -999.000,9,  163.000,2, -999.000,9,     35.4,2,     0.01,2,     2.57,2, -999.000,9, -999.000,9, -999.000,9, -999.000,9, -999.000,9