BOTTLE,20210402JOAExport
EXPOCODE,SECT_ID,STNNBR,CASTNO,SAMPNO,BTLNBR,BTLNBR_FLAG_W,DATE,TIME,LATITUDE,LONGITUDE,DEPTH,CTDPRS,CTDTMP,CTDSAL,CTDSAL_FLAG_W,SALNTY,SALNTY_FLAG_W,CTDOXY,CTDOXY_FLAG_W,OXYGEN,OXYGEN_FLAG_W,SILCAT,SILCAT_FLAG_W,NITRAT,NITRAT_FLAG_W,NITRIT,NITRIT_FLAG_W,PHSPHT,PHSPHT_FLAG_W,CFC-11,CFC-11_FLAG_W,CFC-12,CFC-12_FLAG_W,SF6,SF6_FLAG_W,TCARBN,TCARBN_FLAG_W,ALKALI,ALKALI_FLAG_W
,,,,,,,,,,,,DB,DEG C,PSS-78,,PSS-78,,UMOL/KG,,UMOL/KG,,UMOL/KG,,UMOL/KG,,UMOL/KG,,UMOL/KG,,PMOL/KG,,PMOL/KG,,FMOL/KG,,UMOL/KG,,UMOL/KG
           NA,    PR02, RY8512,  99,       1,       1,  2,19930721,1628,  15.0030,  136.9982,  5274,    0.000,  30.3799,   34.418,2, -999.000,9, -999.000,9,  195.000,2, -999.000,9,      0.1,2,     0.00,2,     0.04,2, -999.000,9, -999.000,9, -999.000,9, -999.000,9, -999.000,9
           NA,    PR02, RY8512,  99,       2,       2,  2,19930721,1628,  15.0030,  136.9982,  5274,   11.300,  29.7697,   34.379,2, -999.000,9, -999.000,9,  197.000,2, -999.000,9,      0.1,2,     0.00,2,     0.04,2, -999.000,9, -999.000,9, -999.000,9, -999.000,9, -999.000,9
           NA,    PR02, RY8512,  99,       3,       3,  2,19930721,1628,  15.0030,  136.9982,  5274,   27.200,  29.7200,   34.384,2, -999.000,9, -999.000,9,  197.000,2, -999.000,9,      0.1,2,     0.00,2,     0.04,2, -999.000,9, -999.000,9, -999.000,9, -999.000,9, -999.000,9
           NA,    PR02, RY8512,  99,       4,       4,  2,19930721,1628,  15.0030,  136.9982,  5274,   51.200,  29.3635,   34.381,2,   34.380,2, -999.000,9,  203.000,2, -999.000,9,      0.1,2,     0.00,2,     0.04,2, -999.000,9, -999.000,9, -999.000,9, -999.000,9, -999.000,9
           NA,    PR02, RY8512,  99,       5,       5,  2,19930721,1628,  15.0030,  136.9982,  5274,   77.100,  27.7280,   34.568,2, -999.000,9, -999.000,9,  208.000,2, -999.000,9,      0.1,2,     0.00,2,     0.08,2, -999.000,9, -999.000,9, -999.000,9, -999.000,9, -999.000,9
           NA,    PR02, RY8512,  99,       6,       6,  2,19930721,1628,  15.0030,  136.9982,  5274,  101.900,  27.1530,   34.683,2, -999.000,9, -999.000,9,  208.000,2, -999.000,9,      0.1,2,     0.00,2,     0.08,2, -999.000,9, -999.000,9, -999.000,9, -999.000,9, -999.000,9
           NA,    PR02, RY8512,  99,       7,       7,  2,19930721,1628,  15.0030,  136.9982,  5274,  126.700,  26.3432,   34.767,2, -999.000,9, -999.000,9,  204.000,2, -999.000,9,      0.1,2,     0.00,2,     0.09,2, -999.000,9, -999.000,9, -999.000,9, -999.000,9, -999.000,9
           NA,    PR02, RY8512,  99,       8,       8,  2,19930721,1628,  15.0030,  136.9982,  5274,  153.000,  24.9263,   34.975,2, -999.000,9, -999.000,9,  199.000,2, -999.000,9,      0.2,2,     0.10,2,     0.11,2, -999.000,9, -999.000,9, -999.000,9, -999.000,9, -999.000,9
           NA,    PR02, RY8512,  99,       9,       9,  2,19930721,1628,  15.0030,  136.9982,  5274,  177.200,  22.4289,   35.008,2, -999.000,9, -999.000,9,  190.000,2, -999.000,9,      0.9,2,     0.03,2,     0.16,2, -999.000,9, -999.000,9, -999.000,9, -999.000,9, -999.000,9
           NA,    PR02, RY8512,  99,      10,      10,  2,19930721,1628,  15.0030,  136.9982,  5274,  202.700,  20.9428,   34.993,2, -999.000,9, -999.000,9,  189.000,2, -999.000,9,      1.6,2,     0.02,2,     0.22,2, -999.000,9, -999.000,9, -999.000,9, -999.000,9, -999.000,9
           NA,    PR02, RY8512,  99,      11,      11,  2,19930721,1628,  15.0030,  136.9982,  5274,  253.000,  18.0046,   34.821,2,   35.000,2, -999.000,9,  199.000,2, -999.000,9,      3.6,2,     0.01,2,     0.31,2, -999.000,9, -999.000,9, -999.000,9, -999.000,9, -999.000,9
           NA,    PR02, RY8512,  99,      12,      12,  2,19930721,1628,  15.0030,  136.9982,  5274,  301.800,  14.8709,   34.590,2, -999.000,9, -999.000,9,  181.000,2, -999.000,9,      9.4,2,     0.01,2,     0.75,2, -999.000,9, -999.000,9, -999.000,9, -999.000,9, -999.000,9
           NA,    PR02, RY8512,  99,      13,      13,  2,19930721,1628,  15.0030,  136.9982,  5274,  405.300,  10.5090,   34.330,2,   34.335,2, -999.000,9,  133.000,2, -999.000,9,     21.9,2,     0.00,2,     1.64,2, -999.000,9, -999.000,9, -999.000,9, -999.000,9, -999.000,9
           NA,    PR02, RY8512,  99,      14,      14,  2,19930721,1628,  15.0030,  136.9982,  5274,  504.100,   7.5785,   34.289,2, -999.000,9, -999.000,9,   88.000,2, -999.000,9,     32.5,2,     0.00,2,     2.38,2, -999.000,9, -999.000,9, -999.000,9, -999.000,9, -999.000,9
           NA,    PR02, RY8512,  99,      15,      15,  2,19930721,1628,  15.0030,  136.9982,  5274,  604.900,   6.4862,   34.410,2,   34.415,2, -999.000,9,   68.000,2, -999.000,9,     37.0,2,     0.00,2,     2.66,2, -999.000,9, -999.000,9, -999.000,9, -999.000,9, -999.000,9
           NA,    PR02, RY8512,  99,      16,      16,  2,19930721,1628,  15.0030,  136.9982,  5274,  705.200,   5.8994,   34.459,2, -999.000,9, -999.000,9,   73.000,2, -999.000,9,     38.1,2,     0.00,2,     2.73,2, -999.000,9, -999.000,9, -999.000,9, -999.000,9, -999.000,9
           NA,    PR02, RY8512,  99,      17,      17,  2,19930721,1628,  15.0030,  136.9982,  5274,  806.300,   5.2379,   34.486,2,   34.490,2, -999.000,9,   78.000,2, -999.000,9,     38.6,2,     0.00,2,     2.76,2, -999.000,9, -999.000,9, -999.000,9, -999.000,9, -999.000,9
           NA,    PR02, RY8512,  99,      18,      18,  2,19930721,1628,  15.0030,  136.9982,  5274,  907.000,   4.6426,   34.513,2,   34.516,2, -999.000,9,   83.000,2, -999.000,9,     39.0,2,     0.00,2,     2.78,2, -999.000,9, -999.000,9, -999.000,9, -999.000,9, -999.000,9
           NA,    PR02, RY8512,  99,      19,      19,  2,19930721,1628,  15.0030,  136.9982,  5274, 1009.900,   4.3030,   34.523,2, -999.000,9, -999.000,9,   86.000,2, -999.000,9,     39.2,2,     0.00,2,     2.81,2, -999.000,9, -999.000,9, -999.000,9, -999.000,9, -999.000,9
           NA,    PR02, RY8512,  99,      20,      20,  2,19930721,1628,  15.0030,  136.9982,  5274, 1260.700,   3.4699,   34.557,2,   34.560,2, -999.000,9,   92.000,2, -999.000,9,     39.4,2,     0.00,2,     2.80,2, -999.000,9, -999.000,9, -999.000,9, -999.000,9, -999.000,9
           NA,    PR02, RY8512,  99,      21,      21,  2,19930721,1628,  15.0030,  136.9982,  5274, 1514.500,   2.7670,   34.586,2,   34.590,2, -999.000,9,  101.000,2, -999.000,9,     39.4,2,     0.00,2,     2.81,2, -999.000,9, -999.000,9, -999.000,9, -999.000,9, -999.000,9
           NA,    PR02, RY8512,  99,      22,      22,  2,19930721,1628,  15.0030,  136.9982,  5274, 2022.900,   2.0485,   34.631,2,   34.632,2, -999.000,9,  118.000,2, -999.000,9,     38.7,2,     0.00,2,     2.74,2, -999.000,9, -999.000,9, -999.000,9, -999.000,9, -999.000,9
           NA,    PR02, RY8512,  99,      23,      23,  2,19930721,1628,  15.0030,  136.9982,  5274, 2530.200,   1.7750,   34.653,2,   34.657,2, -999.000,9,  132.000,2, -999.000,9,     38.1,2,     0.00,2,     2.69,2, -999.000,9, -999.000,9, -999.000,9, -999.000,9, -999.000,9
           NA,    PR02, RY8512,  99,      24,      24,  2,19930721,1628,  15.0030,  136.9982,  5274, 3037.600,   1.6495,   34.666,2,   34.666,2, -999.000,9,  142.000,2, -999.000,9,     37.1,2,     0.00,2,     2.63,2, -999.000,9, -999.000,9, -999.000,9, -999.000,9, -999.000,9
           NA,    PR02, RY8512,  99,      25,      25,  2,19930721,1628,  15.0030,  136.9982,  5274, 4069.900,   1.5175,   34.684,2,   34.691,2, -999.000,9,  164.000,2, -999.000,9,     35.6,2,     0.00,2,     2.54,2, -999.000,9, -999.000,9, -999.000,9, -999.000,9, -999.000,9
           NA,    PR02, RY8513,  99,       1,       1,  2,19930722,0057,  16.0037,  136.9970,  5254,    0.000,  30.0242,   34.275,2, -999.000,9, -999.000,9,  195.000,2, -999.000,9,      0.2,2,     0.00,2,     0.04,2, -999.000,9, -999.000,9, -999.000,9, -999.000,9, -999.000,9
           NA,    PR02, RY8513,  99,       2,       2,  2,19930722,0057,  16.0037,  136.9970,  5254,   11.600,  29.6729,   34.292,2, -999.000,9, -999.000,9,  198.000,2, -999.000,9,      0.2,2,     0.00,2,     0.04,2, -999.000,9, -999.000,9, -999.000,9, -999.000,9, -999.000,9
           NA,    PR02, RY8513,  99,       3,       3,  2,19930722,0057,  16.0037,  136.9970,  5254,   26.700,  29.6034,   34.296,2, -999.000,9, -999.000,9,  197.000,2, -999.000,9,      0.2,2,     0.00,2,     0.04,2, -999.000,9, -999.000,9, -999.000,9, -999.000,9, -999.000,9
           NA,    PR02, RY8513,  99,       4,       4,  2,19930722,0057,  16.0037,  136.9970,  5254,   51.800,  28.9762,   34.396,2, -999.000,9, -999.000,9,  204.000,2, -999.000,9,      0.2,2,     0.00,2,     0.04,2, -999.000,9, -999.000,9, -999.000,9, -999.000,9, -999.000,9
           NA,    PR02, RY8513,  99,       5,       5,  2,19930722,0057,  16.0037,  136.9970,  5254,   76.600,  28.4241,   34.645,2, -999.000,9, -999.000,9,  207.000,2, -999.000,9,      0.2,2,     0.00,2,     0.04,2, -999.000,9, -999.000,9, -999.000,9, -999.000,9, -999.000,9
           NA,    PR02, RY8513,  99,       6,       6,  2,19930722,0057,  16.0037,  136.9970,  5254,  102.400,  26.9524,   34.683,2, -999.000,9, -999.000,9,  208.000,2, -999.000,9,      0.2,2,     0.00,2,     0.08,2, -999.000,9, -999.000,9, -999.000,9, -999.000,9, -999.000,9
           NA,    PR02, RY8513,  99,       7,       7,  2,19930722,0057,  16.0037,  136.9970,  5254,  126.900,  26.2098,   34.794,2, -999.000,9, -999.000,9,  205.000,2, -999.000,9,      0.2,2,     0.00,2,     0.07,2, -999.000,9, -999.000,9, -999.000,9, -999.000,9, -999.000,9
           NA,    PR02, RY8513,  99,       8,       8,  2,19930722,0057,  16.0037,  136.9970,  5254,  152.300,  25.2390,   35.009,2, -999.000,9, -999.000,9,  200.000,2, -999.000,9,      0.2,2,     0.06,2,     0.07,2, -999.000,9, -999.000,9, -999.000,9, -999.000,9, -999.000,9
           NA,    PR02, RY8513,  99,       9,       9,  2,19930722,0057,  16.0037,  136.9970,  5254,  177.600,  23.6766,   35.084,2, -999.000,9, -999.000,9,  199.000,2, -999.000,9,      0.4,2,     0.12,2,     0.06,2, -999.000,9, -999.000,9, -999.000,9, -999.000,9, -999.000,9
           NA,    PR02, RY8513,  99,      10,      10,  2,19930722,0057,  16.0037,  136.9970,  5254,  202.700,  21.5855,   35.010,2, -999.000,9, -999.000,9,  181.000,2, -999.000,9,      1.9,2,     0.02,2,     0.25,2, -999.000,9, -999.000,9, -999.000,9, -999.000,9, -999.000,9
           NA,    PR02, RY8513,  99,      11,      11,  2,19930722,0057,  16.0037,  136.9970,  5254,  252.200,  17.5847,   34.821,2, -999.000,9, -999.000,9,  193.000,2, -999.000,9,      4.1,2,     0.01,2,     0.37,2, -999.000,9, -999.000,9, -999.000,9, -999.000,9, -999.000,9
           NA,    PR02, RY8513,  99,      12,      12,  2,19930722,0057,  16.0037,  136.9970,  5254,  304.000,  15.6131,   34.664,2, -999.000,9, -999.000,9,  199.000,2, -999.000,9,      6.6,2,     0.01,2,     0.54,2, -999.000,9, -999.000,9, -999.000,9, -999.000,9, -999.000,9
           NA,    PR02, RY8513,  99,      13,      13,  2,19930722,0057,  16.0037,  136.9970,  5254,  403.000,  11.0717,   34.295,2, -999.000,9, -999.000,9,  176.000,2, -999.000,9,     15.8,2,     0.00,2,     1.24,2, -999.000,9, -999.000,9, -999.000,9, -999.000,9, -999.000,9
           NA,    PR02, RY8513,  99,      14,      14,  2,19930722,0057,  16.0037,  136.9970,  5254,  503.500,   8.1028,   34.187,2, -999.000,9, -999.000,9,  122.000,2, -999.000,9,     26.7,2,     0.00,2,     2.04,2, -999.000,9, -999.000,9, -999.000,9, -999.000,9, -999.000,9
           NA,    PR02, RY8513,  99,      15,      15,  2,19930722,0057,  16.0037,  136.9970,  5254,  604.800,   6.4756,   34.314,2, -999.000,9, -999.000,9,   75.000,2, -999.000,9,     34.6,2,     0.01,2,     2.61,2, -999.000,9, -999.000,9, -999.000,9, -999.000,9, -999.000,9
           NA,    PR02, RY8513,  99,      16,      16,  2,19930722,0057,  16.0037,  136.9970,  5254,  705.400,   5.7295,   34.400,2, -999.000,9, -999.000,9,   71.000,2, -999.000,9,     36.5,2,     0.01,2,     2.72,2, -999.000,9, -999.000,9, -999.000,9, -999.000,9, -999.000,9
           NA,    PR02, RY8513,  99,      17,      17,  2,19930722,0057,  16.0037,  136.9970,  5254,  806.200,   5.0135,   34.464,2, -999.000,9, -999.000,9,   80.000,2, -999.000,9,     37.6,2,     0.00,2,     2.77,2, -999.000,9, -999.000,9, -999.000,9, -999.000,9, -999.000,9
           NA,    PR02, RY8513,  99,      18,      18,  2,19930722,0057,  16.0037,  136.9970,  5254,  907.700,   4.6111,   34.494,2, -999.000,9, -999.000,9,   81.000,2, -999.000,9,     37.9,2,     0.00,2,     2.78,2, -999.000,9, -999.000,9, -999.000,9, -999.000,9, -999.000,9
           NA,    PR02, RY8513,  99,      19,      19,  2,19930722,0057,  16.0037,  136.9970,  5254, 1007.900,   4.1245,   34.522,2, -999.000,9, -999.000,9,   86.000,2, -999.000,9,     38.3,2,     0.00,2,     2.81,2, -999.000,9, -999.000,9, -999.000,9, -999.000,9, -999.000,9
           NA,    PR02, RY8513,  99,      20,      20,  2,19930722,0057,  16.0037,  136.9970,  5254, 1261.500,   3.3342,   34.557,2, -999.000,9, -999.000,9,   96.000,2, -999.000,9,     38.6,2,     0.00,2,     2.81,2, -999.000,9, -999.000,9, -999.000,9, -999.000,9, -999.000,9
           NA,    PR02, RY8514,  99,       1,       1,  2,19930722,0740,  17.0105,  136.9957,  4796,    0.000,  30.3623,   34.553,2, -999.000,9, -999.000,9,  195.000,2, -999.000,9,      0.0,2,     0.00,2,     0.04,2, -999.000,9, -999.000,9, -999.000,9, -999.000,9, -999.000,9
           NA,    PR02, RY8514,  99,       2,       2,  2,19930722,0740,  17.0105,  136.9957,  4796,   10.200,  30.0800,   34.537,2, -999.000,9, -999.000,9,  195.000,2, -999.000,9,      0.0,2,     0.00,2,     0.04,2, -999.000,9, -999.000,9, -999.000,9, -999.000,9, -999.000,9
           NA,    PR02, RY8514,  99,       3,       3,  2,19930722,0740,  17.0105,  136.9957,  4796,   25.900,  29.9570,   34.533,2, -999.000,9, -999.000,9,  196.000,2, -999.000,9,      0.0,2,     0.00,2,     0.04,2, -999.000,9, -999.000,9, -999.000,9, -999.000,9, -999.000,9
           NA,    PR02, RY8514,  99,       4,       4,  2,19930722,0740,  17.0105,  136.9957,  4796,   51.400,  29.7474,   34.833,2, -999.000,9, -999.000,9,  203.000,2, -999.000,9,      0.0,2,     0.00,2,     0.03,2, -999.000,9, -999.000,9, -999.000,9, -999.000,9, -999.000,9
           NA,    PR02, RY8514,  99,       5,       5,  2,19930722,0740,  17.0105,  136.9957,  4796,   75.800,  27.3523,   34.971,2, -999.000,9, -999.000,9,  215.000,2, -999.000,9,      0.0,2,     0.00,2,     0.02,2, -999.000,9, -999.000,9, -999.000,9, -999.000,9, -999.000,9
           NA,    PR02, RY8514,  99,       6,       6,  2,19930722,0740,  17.0105,  136.9957,  4796,  101.100,  25.9443,   34.984,2, -999.000,9, -999.000,9,  206.000,2, -999.000,9,      0.0,2,     0.00,2,     0.05,2, -999.000,9, -999.000,9, -999.000,9, -999.000,9, -999.000,9
           NA,    PR02, RY8514,  99,       7,       7,  2,19930722,0740,  17.0105,  136.9957,  4796,  126.000,  24.6954,   35.008,2, -999.000,9, -999.000,9,  198.000,2, -999.000,9,      0.1,2,     0.12,2,     0.08,2, -999.000,9, -999.000,9, -999.000,9, -999.000,9, -999.000,9
           NA,    PR02, RY8514,  99,       8,       8,  2,19930722,0740,  17.0105,  136.9957,  4796,  151.400,  23.8468,   35.054,2, -999.000,9, -999.000,9,  195.000,2, -999.000,9,      0.2,2,     0.11,2,     0.08,2, -999.000,9, -999.000,9, -999.000,9, -999.000,9, -999.000,9
           NA,    PR02, RY8514,  99,       9,       9,  2,19930722,0740,  17.0105,  136.9957,  4796,  177.700,  21.8625,   35.027,2, -999.000,9, -999.000,9,  188.000,2, -999.000,9,      1.1,2,     0.02,2,     0.17,2, -999.000,9, -999.000,9, -999.000,9, -999.000,9, -999.000,9
           NA,    PR02, RY8514,  99,      10,      10,  2,19930722,0740,  17.0105,  136.9957,  4796,  201.200,  20.3574,   34.953,2, -999.000,9, -999.000,9,  195.000,2, -999.000,9,      1.4,2,     0.01,2,     0.18,2, -999.000,9, -999.000,9, -999.000,9, -999.000,9, -999.000,9
           NA,    PR02, RY8514,  99,      11,      11,  2,19930722,0740,  17.0105,  136.9957,  4796,  251.400,  18.3003,   34.844,2, -999.000,9, -999.000,9,  198.000,2, -999.000,9,      2.8,2,     0.01,2,     0.27,2, -999.000,9, -999.000,9, -999.000,9, -999.000,9, -999.000,9
           NA,    PR02, RY8514,  99,      12,      12,  2,19930722,0740,  17.0105,  136.9957,  4796,  302.400,  16.8483,   34.766,2, -999.000,9, -999.000,9,  200.000,2, -999.000,9,      4.6,2,     0.01,2,     0.40,2, -999.000,9, -999.000,9, -999.000,9, -999.000,9, -999.000,9
           NA,    PR02, RY8514,  99,      13,      13,  2,19930722,0740,  17.0105,  136.9957,  4796,  405.100,  12.3175,   34.384,2, -999.000,9, -999.000,9,  182.000,2, -999.000,9,     13.0,2,     0.00,2,     1.04,2, -999.000,9, -999.000,9, -999.000,9, -999.000,9, -999.000,9
           NA,    PR02, RY8514,  99,      14,      14,  2,19930722,0740,  17.0105,  136.9957,  4796,  506.100,   8.8252,   34.198,2, -999.000,9, -999.000,9,  182.000,2, -999.000,9,     23.4,2,     0.00,2,     1.79,2, -999.000,9, -999.000,9, -999.000,9, -999.000,9, -999.000,9
           NA,    PR02, RY8514,  99,      15,      15,  2,19930722,0740,  17.0105,  136.9957,  4796,  607.600,   7.1875,   34.272,2, -999.000,9, -999.000,9,   84.000,2, -999.000,9,     32.0,2,     0.00,2,     2.42,2, -999.000,9, -999.000,9, -999.000,9, -999.000,9, -999.000,9
           NA,    PR02, RY8514,  99,      16,      16,  2,19930722,0740,  17.0105,  136.9957,  4796,  707.700,   6.0205,   34.346,2, -999.000,9, -999.000,9,   71.000,2, -999.000,9,     35.2,2,     0.00,2,     2.64,2, -999.000,9, -999.000,9, -999.000,9, -999.000,9, -999.000,9
           NA,    PR02, RY8514,  99,      17,      17,  2,19930722,0740,  17.0105,  136.9957,  4796,  809.200,   5.2934,   34.397,2, -999.000,9, -999.000,9,   75.000,2, -999.000,9,     36.7,2,     0.00,2,     2.73,2, -999.000,9, -999.000,9, -999.000,9, -999.000,9, -999.000,9
           NA,    PR02, RY8514,  99,      18,      18,  2,19930722,0740,  17.0105,  136.9957,  4796,  909.600,   4.6389,   34.440,2, -999.000,9, -999.000,9,   77.000,2, -999.000,9,     37.5,2,     0.00,2,     2.76,2, -999.000,9, -999.000,9, -999.000,9, -999.000,9, -999.000,9
           NA,    PR02, RY8514,  99,      19,      19,  2,19930722,0740,  17.0105,  136.9957,  4796, 1009.900,   4.0854,   34.484,2, -999.000,9, -999.000,9,   88.000,2, -999.000,9,     35.6,2,     0.00,2,     2.63,2, -999.000,9, -999.000,9, -999.000,9, -999.000,9, -999.000,9
           NA,    PR02, RY8514,  99,      20,      20,  2,19930722,0740,  17.0105,  136.9957,  4796, 1263.900,   3.1612,   34.550,2, -999.000,9, -999.000,9,   94.000,2, -999.000,9,     38.1,2,     0.01,2,     2.79,2, -999.000,9, -999.000,9, -999.000,9, -999.000,9, -999.000,9