BOTTLE,20020703LDEODAL
EXPOCODE,SECT_ID,STNNBR,CASTNO,SAMPNO,BTLNBR,BTLNBR_FLAG_W,DATE,TIME,LATITUDE,LONGITUDE,DEPTH,CTDPRS,CTDTMP,CTDSAL,CTDSAL_FLAG_W,SALNTY,SALNTY_FLAG_W,OXYGEN,OXYGEN_FLAG_W,CFC-11,CFC-11_FLAG_W,CFC-12,CFC-12_FLAG_W,CFC-113,CFC-113_FLAG_W
,,,,,,,,,,,,DBARS,ITS-90,PSS-78,,PSS-78,,ML/L,,ML/L,,PMOL/KG,,PMOL/KG,,PMOL/KG,,
         EN311, EN311,     2,  1,      1,      1,2,19971204,0429, 39.7830, -69.8400, 1547,   1554.4,   3.6766,  34.9389,2,  34.9382,2,      5.2,2,    2.071,2,    1.302,2,    0.102,2
         EN311, EN311,     2,  1,      2,      2,2,19971204,0429, 39.7830, -69.8400, 1547,   1514.8,   3.7068,  34.9403,2,  34.9410,2,      4.7,2,   -9.000,9,   -9.000,9,   -9.000,9
         EN311, EN311,     2,  1,      3,      3,2,19971204,0429, 39.7830, -69.8400, 1547,   1413.4,   3.7527,  34.9426,2,  34.9459,2,      4.7,2,    2.056,2,    1.255,2,    0.105,2
         EN311, EN311,     2,  1,      4,      4,2,19971204,0429, 39.7830, -69.8400, 1547,   1311.7,   3.8277,  34.9470,2,  34.9495,2,      4.6,2,   -9.000,9,   -9.000,9,   -9.000,9
         EN311, EN311,     2,  1,      5,      5,2,19971204,0429, 39.7830, -69.8400, 1547,   1210.6,   3.9468,  34.9529,2,  34.9534,2,      4.5,2,    2.099,2,    1.185,2,    0.107,2
         EN311, EN311,     2,  1,      6,      6,2,19971204,0429, 39.7830, -69.8400, 1547,   1109.8,   4.0313,  34.9531,2,  34.9560,2,      4.4,2,    2.230,2,    1.150,2,    0.117,2
         EN311, EN311,     2,  1,      7,      7,2,19971204,0429, 39.7830, -69.8400, 1547,   1007.6,   4.1392,  34.9589,2,  34.9586,2,      4.3,2,    2.244,2,    1.382,2,    0.133,2
         EN311, EN311,     2,  1,      8,      8,2,19971204,0429, 39.7830, -69.8400, 1547,    907.8,   4.2818,  34.9643,2,  34.9649,2,      4.2,2,    2.233,2,    1.126,2,    0.118,2
         EN311, EN311,     2,  1,      9,      9,2,19971204,0429, 39.7830, -69.8400, 1547,    806.6,   4.5618,  34.9820,2,  34.9856,2,      4.1,2,    2.047,2,    1.013,2,    0.109,2
         EN311, EN311,     2,  1,     10,     10,2,19971204,0429, 39.7830, -69.8400, 1547,    705.1,   4.6706,  34.9871,2,  34.9894,2,      4.0,2,    2.026,2,    1.185,2,    0.136,2
         EN311, EN311,     2,  1,     11,     11,2,19971204,0429, 39.7830, -69.8400, 1547,    604.8,   4.9244,  35.0000,2,  35.0014,2,      3.9,2,    2.009,2,    1.004,2,    0.109,2
         EN311, EN311,     2,  1,     12,     12,2,19971204,0429, 39.7830, -69.8400, 1547,    504.7,   5.6099,  35.0164,2,  35.0155,2,      3.7,2,    1.810,2,    0.909,2,    0.104,2
         EN311, EN311,     2,  1,     13,     13,2,19971204,0429, 39.7830, -69.8400, 1547,    402.7,   6.8101,  35.0681,2,  35.0684,2,      3.5,2,   -9.000,9,   -9.000,9,   -9.000,9
         EN311, EN311,     2,  1,     14,     14,2,19971204,0429, 39.7830, -69.8400, 1547,    300.4,   8.7945,  35.1546,2,  35.1513,2,      3.0,2,   -9.000,9,   -9.000,9,   -9.000,9
         EN311, EN311,     2,  1,     15,     15,2,19971204,0429, 39.7830, -69.8400, 1547,    201.4,  10.9271,  35.3897,2,  35.3911,2,      2.7,2,   -9.000,9,   -9.000,9,   -9.000,9
         EN311, EN311,     2,  1,     16,     16,2,19971204,0429, 39.7830, -69.8400, 1547,     99.9,  16.9483,  36.1997,2,  36.2010,2,      2.1,2,    1.882,2,    1.096,2,    0.043,2
         EN311, EN311,     2,  1,     17,     17,2,19971204,0429, 39.7830, -69.8400, 1547,     56.6,  15.9296,  34.9013,2,  34.9170,2,      2.2,2,    4.419,2,    3.371,2,    1.652,2
         EN311, EN311,     2,  1,     18,     18,2,19971204,0429, 39.7830, -69.8400, 1547,      0.8,  11.2325,  33.2839,2,  33.2858,2,      2.5,2,   -9.000,9,   -9.000,9,   -9.000,9
         EN311, EN311,     3,  1,      1,      1,2,19971204,1026, 39.0860, -69.3560, 3023,   3028.3,   2.4970,  34.9164,2,  34.9169,2,      6.1,2,    1.268,2,    0.640,2,    0.058,2
         EN311, EN311,     3,  1,      2,      2,2,19971204,1026, 39.0860, -69.3560, 3023,   2883.6,   2.6193,  34.9217,2,  34.9258,2,      6.0,2,    1.681,2,    1.034,2,    0.086,2
         EN311, EN311,     3,  1,      3,      3,2,19971204,1026, 39.0860, -69.3560, 3023,   2779.6,   2.7479,  34.9278,2,  34.9286,2,      5.9,2,    1.249,2,    0.628,2,    0.055,2
         EN311, EN311,     3,  1,      4,      4,2,19971204,1026, 39.0860, -69.3560, 3023,   2678.6,   2.8443,  34.9321,2,  34.9157,2,      5.8,2,    1.053,2,    0.523,2,    0.045,2
         EN311, EN311,     3,  1,      5,      5,2,19971204,1026, 39.0860, -69.3560, 3023,   2526.8,   2.9791,  34.9366,2,  34.9400,2,      5.7,2,    1.157,2,    0.723,2,    0.041,2
         EN311, EN311,     3,  1,      6,      6,2,19971204,1026, 39.0860, -69.3560, 3023,   2374.4,   3.1319,  34.9386,2,  34.9405,2,      5.5,2,    1.250,2,    0.742,2,    0.058,2
         EN311, EN311,     3,  1,      7,      7,2,19971204,1026, 39.0860, -69.3560, 3023,   2223.4,   3.2340,  34.9416,2,  34.9446,2,      5.4,2,   -9.000,9,   -9.000,9,   -9.000,9
         EN311, EN311,     3,  1,      8,      8,2,19971204,1026, 39.0860, -69.3560, 3023,   2072.4,   3.3068,  34.9360,2,  34.9372,2,      5.2,2,    1.600,2,    1.016,2,    0.098,2
         EN311, EN311,     3,  1,      9,      9,2,19971204,1026, 39.0860, -69.3560, 3023,   1919.5,   3.3705,  34.9324,2,  34.9356,2,      5.1,2,   -9.000,9,   -9.000,9,   -9.000,9
         EN311, EN311,     3,  1,     10,     10,2,19971204,1026, 39.0860, -69.3560, 3023,   1767.2,   3.4248,  34.9265,2,  34.9279,2,      5.0,2,   -9.000,2,   -9.000,2,   -9.000,2
         EN311, EN311,     3,  1,     11,     11,2,19971204,1026, 39.0860, -69.3560, 3023,   1615.7,   3.5412,  34.9328,2,  34.9356,2,      4.9,2,    1.954,2,    1.105,2,    0.113,2
         EN311, EN311,     3,  1,     12,     12,2,19971204,1026, 39.0860, -69.3560, 3023,   1465.1,   3.5981,  34.9294,2,  34.9393,2,      4.8,2,    2.165,2,    1.183,2,    0.125,2
         EN311, EN311,     3,  1,     13,     13,2,19971204,1026, 39.0860, -69.3560, 3023,   1315.5,   3.8066,  34.9480,2,  34.9545,2,      4.6,2,    1.917,2,    1.105,2,    0.114,2
         EN311, EN311,     3,  1,     14,     14,2,19971204,1026, 39.0860, -69.3560, 3023,   1213.3,   3.9204,  34.9568,2,  34.9606,2,      4.5,2,    1.930,2,    1.378,2,    0.124,2
         EN311, EN311,     3,  1,     15,     15,2,19971204,1026, 39.0860, -69.3560, 3023,   1115.0,   4.0621,  34.9692,2,  34.9734,2,      4.4,2,    1.887,2,    1.088,2,    0.140,2
         EN311, EN311,     3,  1,     16,     16,2,19971204,1026, 39.0860, -69.3560, 3023,   1013.1,   4.1825,  34.9742,2,  34.9810,2,      4.3,2,    1.887,2,    0.974,2,    0.125,2
         EN311, EN311,     3,  1,     17,     17,2,19971204,1026, 39.0860, -69.3560, 3023,    911.2,   4.4029,  34.9917,2,  34.9336,2,      4.2,2,    1.873,2,    0.988,2,    0.109,2
         EN311, EN311,     3,  1,     18,     18,2,19971204,1026, 39.0860, -69.3560, 3023,    711.6,   4.9096,  35.0111,2,  35.0061,2,      4.0,2,   -9.000,9,   -9.000,9,   -9.000,9
         EN311, EN311,     3,  1,     19,     19,2,19971204,1026, 39.0860, -69.3560, 3023,    508.8,   6.2972,  35.0196,2,  35.0224,2,      3.6,2,    1.603,2,    0.870,2,    0.099,2
         EN311, EN311,     3,  1,     20,     20,2,19971204,1026, 39.0860, -69.3560, 3023,    306.4,  10.3541,  35.3326,2,  35.3283,2,      2.8,2,    1.048,2,    0.706,2,    0.039,2
         EN311, EN311,     3,  1,     21,     21,2,19971204,1026, 39.0860, -69.3560, 3023,    101.0,  18.8532,  36.0949,2,  36.0805,2,      2.1,2,    2.325,2,    1.369,2,    0.155,2
         EN311, EN311,     3,  1,     22,     22,2,19971204,1026, 39.0860, -69.3560, 3023,      0.2,  11.5648,  33.5511,2,  33.5456,2,      2.5,2,    3.576,2,    2.034,2,    0.320,2
         EN311, EN311,     4,  1,      1,      1,2,19971204,0000, 39.6200, -69.7290, 2219,   2228.8,   3.2911,  34.9378,2,  34.9382,2,      7.3,2,   -9.000,9,   -9.000,9,   -9.000,9
         EN311, EN311,     4,  1,      2,      2,2,19971204,0000, 39.6200, -69.7290, 2219,   2123.8,   3.3369,  34.9357,2,  34.9347,2,      5.2,2,   -9.000,9,   -9.000,9,   -9.000,9
         EN311, EN311,     4,  1,      3,      3,2,19971204,0000, 39.6200, -69.7290, 2219,   2022.8,   3.3926,  34.9354,2,  34.9351,2,      5.2,2,   -9.000,9,   -9.000,9,   -9.000,9
         EN311, EN311,     4,  1,      4,      4,2,19971204,0000, 39.6200, -69.7290, 2219,   1922.5,   3.4241,  34.9333,2,  34.9337,2,      5.1,2,    1.792,2,    0.937,2,    0.108,2
         EN311, EN311,     4,  1,      5,      5,2,19971204,0000, 39.6200, -69.7290, 2219,   1762.2,   3.4886,  34.9329,2,  34.9327,2,      5.0,2,    2.148,2,    1.663,2,    0.173,2
         EN311, EN311,     4,  1,      6,      6,2,19971204,0000, 39.6200, -69.7290, 2219,   1617.9,   3.5522,  34.9324,2,  34.9324,2,      4.9,2,   -9.000,9,   -9.000,9,   -9.000,9
         EN311, EN311,     4,  1,      7,      7,2,19971204,0000, 39.6200, -69.7290, 2219,   1516.0,   3.6202,  34.9345,2,  34.9361,2,      4.8,2,    2.186,2,    1.604,2,    0.164,2
         EN311, EN311,     4,  1,      8,      8,2,19971204,0000, 39.6200, -69.7290, 2219,   1212.9,   3.8846,  34.9444,2,  34.9468,2,      4.5,2,    2.321,2,    1.871,2,    0.159,2
         EN311, EN311,     4,  1,      9,      9,2,19971204,0000, 39.6200, -69.7290, 2219,   1007.3,   4.1252,  34.9554,2,  34.9578,2,      4.3,2,    2.346,2,    1.463,2,    0.171,2
         EN311, EN311,     4,  1,     10,     10,2,19971204,0000, 39.6200, -69.7290, 2219,    807.0,   4.4223,  34.9646,2,  34.9689,2,      4.1,2,   -9.000,9,   -9.000,9,   -9.000,9
         EN311, EN311,     4,  1,     11,     11,2,19971204,0000, 39.6200, -69.7290, 2219,    707.5,   4.7928,  34.9868,2,  34.9882,2,      4.0,2,    2.107,2,    1.249,2,    0.137,2
         EN311, EN311,     4,  1,     12,     12,2,19971204,0000, 39.6200, -69.7290, 2219,    605.7,   5.0961,  34.9830,2,  34.9862,2,      3.9,2,   -9.000,9,    1.707,2,    0.177,2
         EN311, EN311,     4,  1,     13,     13,2,19971204,0000, 39.6200, -69.7290, 2219,    506.2,   6.1565,  35.0642,2,  35.0927,2,      3.6,2,    1.361,2,    0.716,2,    0.064,2
         EN311, EN311,     4,  1,     14,     14,2,19971204,0000, 39.6200, -69.7290, 2219,    403.4,   7.2557,  35.0933,2,  35.0933,2,      3.3,2,    1.114,2,    0.595,2,    0.089,2
         EN311, EN311,     4,  1,     15,     15,2,19971204,0000, 39.6200, -69.7290, 2219,    302.2,   9.3670,  35.2162,2,  35.2111,2,      3.0,2,    0.894,2,    0.803,2,    0.035,2
         EN311, EN311,     4,  1,     16,     16,2,19971204,0000, 39.6200, -69.7290, 2219,    203.1,  12.4063,  35.5910,2,  35.5986,2,      2.5,2,    1.185,2,    0.660,2,    0.018,2
         EN311, EN311,     4,  1,     17,     17,2,19971204,0000, 39.6200, -69.7290, 2219,     98.2,  17.5676,  36.0096,2,  35.9947,2,      2.1,2,   -9.000,9,   -9.000,9,   -9.000,9
         EN311, EN311,     4,  1,     18,     18,2,19971204,0000, 39.6200, -69.7290, 2219,      0.2,  13.2349,  33.9950,2,  33.9852,2,      2.4,2,   -9.000,2,   -9.000,2,   -9.000,2
         EN311, EN311,     5,  1,      1,      1,2,19971204,0708, 38.8270, -69.1700, 3245,   3274.2,   2.2942,  34.9092,2,  34.9487,2,     11.2,2,    1.267,2,    0.647,2,    0.073,2
         EN311, EN311,     5,  1,      2,      2,2,19971204,0708, 38.8270, -69.1700, 3245,   3139.3,   2.3963,  34.9139,2,  34.9139,2,      6.3,2,    1.151,2,    0.553,2,    0.064,2
         EN311, EN311,     5,  1,      3,      3,2,19971204,0708, 38.8270, -69.1700, 3245,   3038.4,   2.5018,  34.9197,2,  34.9197,2,      6.2,2,    1.154,2,    0.562,2,    0.051,2
         EN311, EN311,     5,  1,      4,      4,2,19971204,0708, 38.8270, -69.1700, 3245,   2883.2,   2.6164,  34.9279,2,  34.9279,2,      7.6,2,    1.040,2,    0.557,2,    0.040,2
         EN311, EN311,     5,  1,      5,      5,2,19971204,0708, 38.8270, -69.1700, 3245,   2674.1,   2.8668,  34.9403,2,  34.9403,2,      5.8,2,    0.832,2,    0.457,2,    0.032,2
         EN311, EN311,     5,  1,      6,      6,2,19971204,0708, 38.8270, -69.1700, 3245,   2474.8,   3.0591,  34.9488,2,  34.9488,2,      5.6,2,   -9.000,9,   -9.000,9,   -9.000,9
         EN311, EN311,     5,  1,      7,      7,2,19971204,0708, 38.8270, -69.1700, 3245,   2271.6,   3.2076,  34.9525,2,  34.9525,2,      5.4,2,    0.892,2,    0.458,2,    0.039,2
         EN311, EN311,     5,  1,      8,      8,2,19971204,0708, 38.8270, -69.1700, 3245,   2072.2,   3.3254,  34.9502,2,  34.9502,2,      5.2,2,    1.189,2,    0.587,2,    0.035,2
         EN311, EN311,     5,  1,      9,      9,2,19971204,0708, 38.8270, -69.1700, 3245,   1925.9,   3.3698,  34.9424,2,  34.9411,2,      5.1,2,   -9.000,9,   -9.000,9,   -9.000,9
         EN311, EN311,     5,  1,     10,     10,2,19971204,0708, 38.8270, -69.1700, 3245,   1769.4,   3.4340,  34.9392,2,  34.9385,2,      5.0,2,    1.641,2,    0.831,2,    0.067,2
         EN311, EN311,     5,  1,     11,     11,2,19971204,0708, 38.8270, -69.1700, 3245,   1566.0,   3.5297,  34.9335,2,  34.9342,2,      4.8,2,    1.975,2,    0.991,2,    0.104,2
         EN311, EN311,     5,  1,     12,     12,2,19971204,0708, 38.8270, -69.1700, 3245,   1464.5,   3.5895,  34.9360,2,  34.9367,2,      4.7,2,    2.090,2,    1.262,2,    0.147,2
         EN311, EN311,     5,  1,     13,     13,2,19971204,0708, 38.8270, -69.1700, 3245,   1361.2,   3.6788,  34.9398,2,  34.9402,2,      4.7,2,   -9.000,9,   -9.000,9,   -9.000,9
         EN311, EN311,     5,  1,     14,     14,2,19971204,0708, 38.8270, -69.1700, 3245,   1260.3,   3.7779,  34.9456,2,  34.9465,2,      4.6,2,    2.148,2,    1.109,2,    0.123,2
         EN311, EN311,     5,  1,     15,     15,2,19971204,0708, 38.8270, -69.1700, 3245,   1160.3,   3.8798,  34.9505,2,  34.9516,2,      4.5,2,    2.114,2,    1.104,2,    0.112,2
         EN311, EN311,     5,  1,     16,     16,2,19971204,0708, 38.8270, -69.1700, 3245,   1058.8,   4.0363,  34.9613,2,  34.9619,2,      4.4,2,   -9.000,9,   -9.000,9,   -9.000,9
         EN311, EN311,     5,  1,     17,     17,2,19971204,0708, 38.8270, -69.1700, 3245,    906.7,   4.2824,  34.9683,2,  34.9703,2,      4.2,2,    2.323,2,    1.219,2,    0.139,2
         EN311, EN311,     5,  1,     18,     18,2,19971204,0708, 38.8270, -69.1700, 3245,    705.1,   4.7844,  -9.0000,2,  34.9749,2,      5.1,2,    2.445,2,    1.377,2,    0.259,2
         EN311, EN311,     5,  1,     19,     19,2,19971204,0708, 38.8270, -69.1700, 3245,    502.1,   6.0118,  34.9985,2,  34.9191,2,      3.7,2,    1.903,2,    0.959,2,    0.105,2
         EN311, EN311,     5,  1,     20,     20,2,19971204,0708, 38.8270, -69.1700, 3245,    301.8,   9.2646,  35.2042,2,  35.1978,2,      3.0,2,    0.734,2,    0.385,2,    0.014,2
         EN311, EN311,     5,  1,     21,     21,2,19971204,0708, 38.8270, -69.1700, 3245,    100.3,  11.9067,  34.1795,2,  34.1798,2,      2.7,2,   -9.000,9,   -9.000,9,   -9.000,9
         EN311, EN311,     5,  1,     22,     22,2,19971204,0708, 38.8270, -69.1700, 3245,      0.5,  11.7106,  33.4597,2,  33.4564,2,      2.7,2,    4.238,2,    2.115,2,    0.315,2
         EN311, EN311,     6,  1,      1,      1,2,19971204,1358, 39.3500, -69.5370, 2513,   2125.1,   3.3338,  34.9482,2,  34.9488,2,      5.2,2,    1.243,2,    0.634,2,    0.078,2
         EN311, EN311,     6,  1,      2,      2,2,19971204,1358, 39.3500, -69.5370, 2513,   2022.5,   3.3745,  34.9457,2,  34.9469,2,      5.2,2,    1.346,2,    0.674,2,    0.065,2
         EN311, EN311,     6,  1,      3,      3,2,19971204,1358, 39.3500, -69.5370, 2513,   1918.1,   3.4428,  34.9460,2,  34.9500,2,      5.1,2,    1.439,2,    0.740,2,    0.070,2
         EN311, EN311,     6,  1,      4,      4,2,19971204,1358, 39.3500, -69.5370, 2513,   1817.3,   3.4525,  34.9351,2,  34.9396,2,      5.0,2,    1.782,2,    0.957,2,    0.119,2
         EN311, EN311,     6,  1,      5,      5,2,19971204,1358, 39.3500, -69.5370, 2513,   1715.6,   3.5235,  34.9360,2,  34.9399,2,      4.9,2,    1.825,2,    1.039,2,    0.124,2
         EN311, EN311,     6,  1,      6,      6,2,19971204,1358, 39.3500, -69.5370, 2513,   1616.2,   3.5572,  34.9344,2,  34.9375,2,      4.8,2,    2.001,2,    1.228,2,    0.150,2
         EN311, EN311,     6,  1,      7,      7,2,19971204,1358, 39.3500, -69.5370, 2513,   1512.7,   3.6296,  34.9395,2,  34.9417,2,      4.8,2,    1.922,2,    0.990,2,    0.122,2
         EN311, EN311,     6,  1,      8,      8,2,19971204,1358, 39.3500, -69.5370, 2513,   1412.0,   3.7227,  34.9457,2,  34.9514,2,      4.7,2,    1.914,2,    0.975,2,    0.116,2
         EN311, EN311,     6,  1,      9,      9,2,19971204,1358, 39.3500, -69.5370, 2513,   1309.7,   3.8417,  34.9522,2,  34.9586,2,      4.6,2,   -9.000,9,   -9.000,9,   -9.000,9
         EN311, EN311,     6,  1,     10,     10,2,19971204,1358, 39.3500, -69.5370, 2513,   1209.4,   3.9326,  34.9588,2,  34.9629,2,      4.5,2,    1.871,2,    0.979,2,    0.127,2
         EN311, EN311,     6,  1,     11,     11,2,19971204,1358, 39.3500, -69.5370, 2513,   1107.1,   4.0343,  34.9644,2,  34.9717,2,      4.4,2,   -9.000,9,   -9.000,9,   -9.000,9
         EN311, EN311,     6,  1,     12,     12,2,19971204,1358, 39.3500, -69.5370, 2513,   1005.7,   4.1911,  34.9763,2,  34.9812,2,      4.3,2,    1.872,2,    0.963,2,    0.088,2
         EN311, EN311,     6,  1,     13,     13,2,19971204,1358, 39.3500, -69.5370, 2513,    905.4,   4.5082,  35.0069,2,  35.0099,2,      4.2,2,   -9.000,9,   -9.000,9,   -9.000,9
         EN311, EN311,     6,  1,     14,     14,2,19971204,1358, 39.3500, -69.5370, 2513,    695.8,   5.1150,  35.0343,2,  35.0353,2,      3.9,2,    1.710,2,    0.911,2,    0.168,2
         EN311, EN311,     6,  1,     15,     15,2,19971204,1358, 39.3500, -69.5370, 2513,    509.4,   6.4153,  35.0671,2,  35.0702,2,      3.6,2,    1.282,2,    1.071,2,    0.077,2
         EN311, EN311,     6,  1,     16,     16,2,19971204,1358, 39.3500, -69.5370, 2513,    301.8,   9.8985,  35.2528,2,  35.2654,2,      2.9,2,    1.110,2,    0.606,2,    0.044,2
         EN311, EN311,     6,  1,     17,     17,2,19971204,1358, 39.3500, -69.5370, 2513,    100.9,  18.3316,  35.8208,2,  35.8208,2,      2.2,2,    2.438,2,    1.469,2,    0.192,2
         EN311, EN311,     6,  1,     18,     18,2,19971204,1358, 39.3500, -69.5370, 2513,      0.8,  18.5943,  35.8164,2,  35.7995,2,      2.0,2,    2.388,2,    1.450,2,    0.217,2