BOTTLE,20215502JOAExport
EXPOCODE,SECT_ID,STNNBR,CASTNO,SAMPNO,BTLNBR,BTLNBR_FLAG_W,DATE,TIME,LATITUDE,LONGITUDE,DEPTH,CTDPRS,CTDTMP,CTDSAL,CTDSAL_FLAG_W,SALNTY,SALNTY_FLAG_W,CTDOXY,CTDOXY_FLAG_W,OXYGEN,OXYGEN_FLAG_W,SILCAT,SILCAT_FLAG_W,NITRAT,NITRAT_FLAG_W,NITRIT,NITRIT_FLAG_W,PHSPHT,PHSPHT_FLAG_W,CFC-11,CFC-11_FLAG_W,CFC-12,CFC-12_FLAG_W,SF6,SF6_FLAG_W,TCARBN,TCARBN_FLAG_W,ALKALI,ALKALI_FLAG_W
,,,,,,,,,,,,DB,DEG C,PSS-78,,PSS-78,,UMOL/KG,,UMOL/KG,,UMOL/KG,,UMOL/KG,,UMOL/KG,,UMOL/KG,,PMOL/KG,,PMOL/KG,,FMOL/KG,,UMOL/KG,,UMOL/KG
           NA,    PR02, RY7888,  99,       1,       1,  2,19910123,2130,  18.9833,  137.0000,  4699,    1.000,   26.054,   34.556,2, -999.000,9, -999.000,9,  205.000,2, -999.000,9,      0.1,2,     0.00,2,     0.02,2, -999.000,9, -999.000,9, -999.000,9, -999.000,9, -999.000,9
           NA,    PR02, RY7888,  99,       2,       2,  2,19910123,2130,  18.9833,  137.0000,  4699,   11.000,   26.072,   34.556,2, -999.000,9, -999.000,9,  206.000,2, -999.000,9,      0.1,2,     0.00,2,     0.02,2, -999.000,9, -999.000,9, -999.000,9, -999.000,9, -999.000,9
           NA,    PR02, RY7888,  99,       3,       3,  2,19910123,2130,  18.9833,  137.0000,  4699,   25.000,   26.074,   34.556,2, -999.000,9, -999.000,9,  206.000,2, -999.000,9,      0.2,2,     0.00,2,     0.01,2, -999.000,9, -999.000,9, -999.000,9, -999.000,9, -999.000,9
           NA,    PR02, RY7888,  99,       4,       4,  2,19910123,2130,  18.9833,  137.0000,  4699,   50.000,   26.078,   34.555,2, -999.000,9, -999.000,9,  206.000,2, -999.000,9,      0.2,2,     0.02,2,     0.02,2, -999.000,9, -999.000,9, -999.000,9, -999.000,9, -999.000,9
           NA,    PR02, RY7888,  99,       5,       5,  2,19910123,2130,  18.9833,  137.0000,  4699,   75.000,   26.082,   34.556,2, -999.000,9, -999.000,9,  205.000,2, -999.000,9,      0.2,2,     0.00,2,     0.02,2, -999.000,9, -999.000,9, -999.000,9, -999.000,9, -999.000,9
           NA,    PR02, RY7888,  99,       6,       6,  2,19910123,2130,  18.9833,  137.0000,  4699,  100.000,   26.078,   34.557,2, -999.000,9, -999.000,9,  205.000,2, -999.000,9,      0.2,2,     0.00,2,     0.00,2, -999.000,9, -999.000,9, -999.000,9, -999.000,9, -999.000,9
           NA,    PR02, RY7888,  99,       7,       7,  2,19910123,2130,  18.9833,  137.0000,  4699,  127.000,   26.028,   34.583,2, -999.000,9, -999.000,9,  204.000,2, -999.000,9,      0.3,2,     0.00,2,     0.01,2, -999.000,9, -999.000,9, -999.000,9, -999.000,9, -999.000,9
           NA,    PR02, RY7888,  99,       8,       8,  2,19910123,2130,  18.9833,  137.0000,  4699,  152.000,   23.328,   34.987,2, -999.000,9, -999.000,9,  190.000,2, -999.000,9,      0.8,2,     0.02,2,     0.04,2, -999.000,9, -999.000,9, -999.000,9, -999.000,9, -999.000,9
           NA,    PR02, RY7888,  99,       9,       9,  2,19910123,2130,  18.9833,  137.0000,  4699,  176.000,   21.576,   34.996,2, -999.000,9, -999.000,9,  181.000,2, -999.000,9,      2.3,2,     0.01,2,     0.13,2, -999.000,9, -999.000,9, -999.000,9, -999.000,9, -999.000,9
           NA,    PR02, RY7888,  99,      10,      10,  2,19910123,2130,  18.9833,  137.0000,  4699,  201.000,   20.232,   34.974,2, -999.000,9, -999.000,9,  189.000,2, -999.000,9,      2.6,2,     0.05,2,     0.06,2, -999.000,9, -999.000,9, -999.000,9, -999.000,9, -999.000,9
           NA,    PR02, RY7888,  99,      11,      11,  2,19910123,2130,  18.9833,  137.0000,  4699,  251.000,   17.541,   34.815,2, -999.000,9, -999.000,9,  183.000,2, -999.000,9,      6.0,2,     0.00,2,     0.44,2, -999.000,9, -999.000,9, -999.000,9, -999.000,9, -999.000,9
           NA,    PR02, RY7888,  99,      12,      12,  2,19910123,2130,  18.9833,  137.0000,  4699,  302.000,   15.592,   34.670,2, -999.000,9, -999.000,9,  198.000,2, -999.000,9,      7.9,2,     0.00,2,     0.54,2, -999.000,9, -999.000,9, -999.000,9, -999.000,9, -999.000,9
           NA,    PR02, RY7888,  99,      13,      13,  2,19910123,2130,  18.9833,  137.0000,  4699,  403.000,   11.961,   34.379,2, -999.000,9, -999.000,9,  183.000,2, -999.000,9,     15.0,2,     0.00,2,     1.15,2, -999.000,9, -999.000,9, -999.000,9, -999.000,9, -999.000,9
           NA,    PR02, RY7888,  99,      14,      14,  2,19910123,2130,  18.9833,  137.0000,  4699,  503.000,    8.487,   34.201,2, -999.000,9, -999.000,9,  184.000,2, -999.000,9,     26.5,2,     0.04,2,     1.94,2, -999.000,9, -999.000,9, -999.000,9, -999.000,9, -999.000,9
           NA,    PR02, RY7888,  99,      15,      15,  2,19910123,2130,  18.9833,  137.0000,  4699,  605.000,    6.631,   34.202,2, -999.000,9, -999.000,9,   91.000,2, -999.000,9,     34.4,2,     0.02,2,     2.51,2, -999.000,9, -999.000,9, -999.000,9, -999.000,9, -999.000,9
           NA,    PR02, RY7888,  99,      16,      16,  2,19910123,2130,  18.9833,  137.0000,  4699,  705.000,    5.758,   34.303,2, -999.000,9, -999.000,9,   74.000,2, -999.000,9,     37.5,2,     0.00,2,     2.80,2, -999.000,9, -999.000,9, -999.000,9, -999.000,9, -999.000,9
           NA,    PR02, RY7888,  99,      17,      17,  2,19910123,2130,  18.9833,  137.0000,  4699,  806.000,    4.738,   34.345,2, -999.000,9, -999.000,9,   66.000,2, -999.000,9,     40.3,2,     0.00,2,     2.97,2, -999.000,9, -999.000,9, -999.000,9, -999.000,9, -999.000,9
           NA,    PR02, RY7888,  99,      18,      18,  2,19910123,2130,  18.9833,  137.0000,  4699,  908.000,    4.174,   34.410,2, -999.000,9, -999.000,9,   67.000,2, -999.000,9,     41.0,2,     0.00,2,     3.02,2, -999.000,9, -999.000,9, -999.000,9, -999.000,9, -999.000,9
           NA,    PR02, RY7888,  99,      19,      19,  2,19910123,2130,  18.9833,  137.0000,  4699, 1007.000,    3.856,   34.478,2, -999.000,9, -999.000,9,   77.000,2, -999.000,9,     40.4,2,     0.00,2,     2.98,2, -999.000,9, -999.000,9, -999.000,9, -999.000,9, -999.000,9
           NA,    PR02, RY7888,  99,      20,      20,  2,19910123,2130,  18.9833,  137.0000,  4699, 1262.000,    3.000,   34.551,2, -999.000,9, -999.000,9,   95.000,2, -999.000,9,     39.7,2,     0.00,2,     2.93,2, -999.000,9, -999.000,9, -999.000,9, -999.000,9, -999.000,9
           NA,    PR02, RY7887,  99,       1,       1,  2,19910124,1306,  19.9667,  136.9667,  4632,    3.000,   25.938,   34.578,2,   34.582,2, -999.000,9,  207.000,2, -999.000,9,      0.4,2,     0.00,2,     0.05,2, -999.000,9, -999.000,9, -999.000,9, -999.000,9, -999.000,9
           NA,    PR02, RY7887,  99,       2,       2,  2,19910124,1306,  19.9667,  136.9667,  4632,   10.000,   25.937,   34.579,2,   34.576,2, -999.000,9,  206.000,2, -999.000,9,      0.4,2,     0.00,2,     0.02,2, -999.000,9, -999.000,9, -999.000,9, -999.000,9, -999.000,9
           NA,    PR02, RY7887,  99,       3,       3,  2,19910124,1306,  19.9667,  136.9667,  4632,   24.000,   25.949,   34.579,2,   34.576,2, -999.000,9,  207.000,2, -999.000,9,      0.5,2,     0.00,2,     0.02,2, -999.000,9, -999.000,9, -999.000,9, -999.000,9, -999.000,9
           NA,    PR02, RY7887,  99,       4,       4,  2,19910124,1306,  19.9667,  136.9667,  4632,   51.000,   25.937,   34.579,2,   34.576,2, -999.000,9,  206.000,2, -999.000,9,      0.5,2,     0.00,2,     0.03,2, -999.000,9, -999.000,9, -999.000,9, -999.000,9, -999.000,9
           NA,    PR02, RY7887,  99,       5,       5,  2,19910124,1306,  19.9667,  136.9667,  4632,   77.000,   25.957,   34.579,2,   34.571,2, -999.000,9,  206.000,2, -999.000,9,      0.4,2,     0.00,2,     0.04,2, -999.000,9, -999.000,9, -999.000,9, -999.000,9, -999.000,9
           NA,    PR02, RY7887,  99,       6,       6,  2,19910124,1306,  19.9667,  136.9667,  4632,  101.000,   25.736,   34.618,2,   34.617,2, -999.000,9,  206.000,2, -999.000,9,      0.5,2,     0.00,2,     0.03,2, -999.000,9, -999.000,9, -999.000,9, -999.000,9, -999.000,9
           NA,    PR02, RY7887,  99,       7,       7,  2,19910124,1306,  19.9667,  136.9667,  4632,  127.000,   25.696,   34.628,2,   34.621,2, -999.000,9,  205.000,2, -999.000,9,      0.5,2,     0.00,2,     0.01,2, -999.000,9, -999.000,9, -999.000,9, -999.000,9, -999.000,9
           NA,    PR02, RY7887,  99,       8,       8,  2,19910124,1306,  19.9667,  136.9667,  4632,  152.000,   24.656,   34.975,2,   34.964,2, -999.000,9,  197.000,2, -999.000,9,      0.6,2,     0.04,2,     0.04,2, -999.000,9, -999.000,9, -999.000,9, -999.000,9, -999.000,9
           NA,    PR02, RY7887,  99,       9,       9,  2,19910124,1306,  19.9667,  136.9667,  4632,  176.000,   23.529,   35.030,2,   35.035,2, -999.000,9,  190.000,2, -999.000,9,      1.1,2,     0.00,2,     0.09,2, -999.000,9, -999.000,9, -999.000,9, -999.000,9, -999.000,9
           NA,    PR02, RY7887,  99,      10,      10,  2,19910124,1306,  19.9667,  136.9667,  4632,  200.000,   22.124,   35.041,2,   35.038,2, -999.000,9,  190.000,2, -999.000,9,      1.7,2,     0.02,2,     0.07,2, -999.000,9, -999.000,9, -999.000,9, -999.000,9, -999.000,9
           NA,    PR02, RY7887,  99,      11,      11,  2,19910124,1306,  19.9667,  136.9667,  4632,  252.000,   19.132,   34.931,2,   34.931,2, -999.000,9,  193.000,2, -999.000,9,      3.3,2,     0.01,2,     0.19,2, -999.000,9, -999.000,9, -999.000,9, -999.000,9, -999.000,9
           NA,    PR02, RY7887,  99,      12,      12,  2,19910124,1306,  19.9667,  136.9667,  4632,  300.000,   17.440,   34.808,2,   34.814,2, -999.000,9,  191.000,2, -999.000,9,      5.6,2,     0.00,2,     0.41,2, -999.000,9, -999.000,9, -999.000,9, -999.000,9, -999.000,9
           NA,    PR02, RY7887,  99,      13,      13,  2,19910124,1306,  19.9667,  136.9667,  4632,  402.000,   12.641,   34.428,2,   34.429,2, -999.000,9,  176.000,2, -999.000,9,     13.7,2,     0.00,2,     1.05,2, -999.000,9, -999.000,9, -999.000,9, -999.000,9, -999.000,9
           NA,    PR02, RY7887,  99,      14,      14,  2,19910124,1306,  19.9667,  136.9667,  4632,  503.000,   10.052,   34.260,2,   34.256,2, -999.000,9,  159.000,2, -999.000,9,     20.0,2,     0.00,2,     1.53,2, -999.000,9, -999.000,9, -999.000,9, -999.000,9, -999.000,9
           NA,    PR02, RY7887,  99,      15,      15,  2,19910124,1306,  19.9667,  136.9667,  4632,  605.000,    7.669,   34.182,2,   34.189,2, -999.000,9,  118.000,2, -999.000,9,     28.5,2,     0.00,2,     2.20,2, -999.000,9, -999.000,9, -999.000,9, -999.000,9, -999.000,9
           NA,    PR02, RY7887,  99,      16,      16,  2,19910124,1306,  19.9667,  136.9667,  4632,  708.000,    6.077,   34.240,2,   34.246,2, -999.000,9,   79.000,2, -999.000,9,     35.0,2,     0.01,2,     2.68,2, -999.000,9, -999.000,9, -999.000,9, -999.000,9, -999.000,9
           NA,    PR02, RY7887,  99,      17,      17,  2,19910124,1306,  19.9667,  136.9667,  4632,  808.000,    4.955,   34.315,2,   34.319,2, -999.000,9,   68.000,2, -999.000,9,     38.2,2,     0.00,2,     2.93,2, -999.000,9, -999.000,9, -999.000,9, -999.000,9, -999.000,9
           NA,    PR02, RY7887,  99,      18,      18,  2,19910124,1306,  19.9667,  136.9667,  4632,  908.000,    4.427,   34.398,2,   34.399,2, -999.000,9,   71.000,2, -999.000,9,     38.9,2,     0.00,2,     2.94,2, -999.000,9, -999.000,9, -999.000,9, -999.000,9, -999.000,9
           NA,    PR02, RY7887,  99,      20,      20,  2,19910124,1306,  19.9667,  136.9667,  4632, 1263.000,    2.990,   34.518,2,   34.515,2, -999.000,9,   83.000,2, -999.000,9,     39.9,2,     0.00,2,     2.93,2, -999.000,9, -999.000,9, -999.000,9, -999.000,9, -999.000,9
           NA,    PR02, RY7887,  99,      21,      21,  2,19910124,1306,  19.9667,  136.9667,  4632, 1513.000,    2.584,   34.576,2,   34.572,2, -999.000,9,  103.000,2, -999.000,9,     38.7,2,     0.00,2,     3.00,2, -999.000,9, -999.000,9, -999.000,9, -999.000,9, -999.000,9
           NA,    PR02, RY7887,  99,      22,      22,  2,19910124,1306,  19.9667,  136.9667,  4632, 2023.000,    2.063,   34.622,2,   34.626,2, -999.000,9,  119.000,2, -999.000,9,     38.3,2,     0.00,2,     2.87,2, -999.000,9, -999.000,9, -999.000,9, -999.000,9, -999.000,9
           NA,    PR02, RY7887,  99,      23,      23,  2,19910124,1306,  19.9667,  136.9667,  4632, 2530.000,    1.778,   34.649,2,   34.645,2, -999.000,9,  134.000,2, -999.000,9,     37.7,2,     0.00,2,     2.82,2, -999.000,9, -999.000,9, -999.000,9, -999.000,9, -999.000,9
           NA,    PR02, RY7887,  99,      24,      24,  2,19910124,1306,  19.9667,  136.9667,  4632, 3039.000,    1.637,   34.663,2,   34.660,2, -999.000,9,  146.000,2, -999.000,9,     36.9,2,     0.00,2,     2.71,2, -999.000,9, -999.000,9, -999.000,9, -999.000,9, -999.000,9
           NA,    PR02, RY7887,  99,      25,      25,  2,19910124,1306,  19.9667,  136.9667,  4632, 4074.000,    1.525,   34.682,2, -999.000,3, -999.000,9,  160.000,2, -999.000,9,     36.2,2,     0.00,2,     2.68,2, -999.000,9, -999.000,9, -999.000,9, -999.000,9, -999.000,9
           NA,    PR02, RY7886,  99,       1,       1,  2,19910123,0644,  20.9833,  137.0000,  4499,    1.000,   25.591,   34.592,2, -999.000,9, -999.000,9,  208.000,2, -999.000,9,      0.4,2,     0.00,2,     0.02,2, -999.000,9, -999.000,9, -999.000,9, -999.000,9, -999.000,9
           NA,    PR02, RY7886,  99,       2,       2,  2,19910123,0644,  20.9833,  137.0000,  4499,   10.000,   25.590,   34.594,2, -999.000,9, -999.000,9,  209.000,2, -999.000,9,      0.5,2,     0.00,2,     0.03,2, -999.000,9, -999.000,9, -999.000,9, -999.000,9, -999.000,9
           NA,    PR02, RY7886,  99,       3,       3,  2,19910123,0644,  20.9833,  137.0000,  4499,   24.000,   25.590,   34.594,2, -999.000,9, -999.000,9,  208.000,2, -999.000,9,      0.4,2,     0.01,2,     0.01,2, -999.000,9, -999.000,9, -999.000,9, -999.000,9, -999.000,9
           NA,    PR02, RY7886,  99,       4,       4,  2,19910123,0644,  20.9833,  137.0000,  4499,   50.000,   25.573,   34.592,2, -999.000,9, -999.000,9,  209.000,2, -999.000,9,      0.4,2,     0.00,2,     0.01,2, -999.000,9, -999.000,9, -999.000,9, -999.000,9, -999.000,9
           NA,    PR02, RY7886,  99,       5,       5,  2,19910123,0644,  20.9833,  137.0000,  4499,   75.000,   25.383,   34.613,2, -999.000,9, -999.000,9,  208.000,2, -999.000,9,      0.5,2,     0.00,2,     0.01,2, -999.000,9, -999.000,9, -999.000,9, -999.000,9, -999.000,9
           NA,    PR02, RY7886,  99,       6,       6,  2,19910123,0644,  20.9833,  137.0000,  4499,  100.000,   25.150,   34.655,2, -999.000,9, -999.000,9,  208.000,2, -999.000,9,      0.4,2,     0.01,2,     0.02,2, -999.000,9, -999.000,9, -999.000,9, -999.000,9, -999.000,9
           NA,    PR02, RY7886,  99,       7,       7,  2,19910123,0644,  20.9833,  137.0000,  4499,  127.000,   25.106,   34.686,2, -999.000,9, -999.000,9,  206.000,2, -999.000,9,      0.5,2,     0.00,2,     0.00,2, -999.000,9, -999.000,9, -999.000,9, -999.000,9, -999.000,9
           NA,    PR02, RY7886,  99,       8,       8,  2,19910123,0644,  20.9833,  137.0000,  4499,  150.000,   24.770,   34.806,2, -999.000,9, -999.000,9,  205.000,2, -999.000,9,      0.5,2,     0.03,2,     0.01,2, -999.000,9, -999.000,9, -999.000,9, -999.000,9, -999.000,9
           NA,    PR02, RY7886,  99,       9,       9,  2,19910123,0644,  20.9833,  137.0000,  4499,  178.000,   24.192,   34.891,2, -999.000,9, -999.000,9,  203.000,2, -999.000,9,      0.5,2,     0.06,2,     0.02,2, -999.000,9, -999.000,9, -999.000,9, -999.000,9, -999.000,9
           NA,    PR02, RY7886,  99,      10,      10,  2,19910123,0644,  20.9833,  137.0000,  4499,  201.000,   21.229,   34.975,2, -999.000,9, -999.000,9,  198.000,2, -999.000,9,      1.3,2,     0.09,2,     0.04,2, -999.000,9, -999.000,9, -999.000,9, -999.000,9, -999.000,9
           NA,    PR02, RY7886,  99,      11,      11,  2,19910123,0644,  20.9833,  137.0000,  4499,  251.000,   18.523,   34.876,2, -999.000,9, -999.000,9,  200.000,2, -999.000,9,      3.4,2,     0.01,2,     0.22,2, -999.000,9, -999.000,9, -999.000,9, -999.000,9, -999.000,9
           NA,    PR02, RY7886,  99,      12,      12,  2,19910123,0644,  20.9833,  137.0000,  4499,  301.000,   17.107,   34.788,2, -999.000,9, -999.000,9,  201.000,2, -999.000,9,      5.3,2,     0.00,2,     0.34,2, -999.000,9, -999.000,9, -999.000,9, -999.000,9, -999.000,9
           NA,    PR02, RY7886,  99,      13,      13,  2,19910123,0644,  20.9833,  137.0000,  4499,  404.000,   14.397,   34.581,2, -999.000,9, -999.000,9,  196.000,2, -999.000,9,     10.0,2,     0.00,2,     0.70,2, -999.000,9, -999.000,9, -999.000,9, -999.000,9, -999.000,9
           NA,    PR02, RY7886,  99,      14,      14,  2,19910123,0644,  20.9833,  137.0000,  4499,  502.000,   10.863,   34.304,2, -999.000,9, -999.000,9,  179.000,2, -999.000,9,     17.1,2,     0.00,2,     1.27,2, -999.000,9, -999.000,9, -999.000,9, -999.000,9, -999.000,9
           NA,    PR02, RY7886,  99,      15,      15,  2,19910123,0644,  20.9833,  137.0000,  4499,  605.000,    7.799,   34.173,2, -999.000,9, -999.000,9,  126.000,2, -999.000,9,     27.8,2,     0.00,2,     2.09,2, -999.000,9, -999.000,9, -999.000,9, -999.000,9, -999.000,9
           NA,    PR02, RY7886,  99,      16,      16,  2,19910123,0644,  20.9833,  137.0000,  4499,  705.000,    6.201,   34.186,2, -999.000,9, -999.000,9,   90.000,2, -999.000,9,     33.9,2,     0.00,2,     2.55,2, -999.000,9, -999.000,9, -999.000,9, -999.000,9, -999.000,9
           NA,    PR02, RY7886,  99,      17,      17,  2,19910123,0644,  20.9833,  137.0000,  4499,  806.000,    5.092,   34.256,2, -999.000,9, -999.000,9,   70.000,2, -999.000,9,     38.0,2,     0.00,2,     2.85,2, -999.000,9, -999.000,9, -999.000,9, -999.000,9, -999.000,9
           NA,    PR02, RY7886,  99,      18,      18,  2,19910123,0644,  20.9833,  137.0000,  4499,  906.000,    4.258,   34.300,2, -999.000,9, -999.000,9,   62.000,2, -999.000,9,     39.7,2,     0.00,2,     2.93,2, -999.000,9, -999.000,9, -999.000,9, -999.000,9, -999.000,9
           NA,    PR02, RY7886,  99,      19,      19,  2,19910123,0644,  20.9833,  137.0000,  4499, 1007.000,    3.845,   34.401,2, -999.000,9, -999.000,9,   65.000,2, -999.000,9,     40.4,2,     0.00,2,     2.98,2, -999.000,9, -999.000,9, -999.000,9, -999.000,9, -999.000,9
           NA,    PR02, RY7886,  99,      20,      20,  2,19910123,0644,  20.9833,  137.0000,  4499, 1261.000,    3.154,   34.516,2, -999.000,9, -999.000,9,   89.000,2, -999.000,9,     38.9,2,     0.00,2,     2.86,2, -999.000,9, -999.000,9, -999.000,9, -999.000,9, -999.000,9