BOTTLE,20215502JOAExport
EXPOCODE,SECT_ID,STNNBR,CASTNO,SAMPNO,BTLNBR,BTLNBR_FLAG_W,DATE,TIME,LATITUDE,LONGITUDE,DEPTH,CTDPRS,CTDTMP,CTDSAL,CTDSAL_FLAG_W,SALNTY,SALNTY_FLAG_W,CTDOXY,CTDOXY_FLAG_W,OXYGEN,OXYGEN_FLAG_W,SILCAT,SILCAT_FLAG_W,NITRAT,NITRAT_FLAG_W,NITRIT,NITRIT_FLAG_W,PHSPHT,PHSPHT_FLAG_W,CFC-11,CFC-11_FLAG_W,CFC-12,CFC-12_FLAG_W,SF6,SF6_FLAG_W,TCARBN,TCARBN_FLAG_W,ALKALI,ALKALI_FLAG_W
,,,,,,,,,,,,DB,DEG C,PSS-78,,PSS-78,,UMOL/KG,,UMOL/KG,,UMOL/KG,,UMOL/KG,,UMOL/KG,,UMOL/KG,,PMOL/KG,,PMOL/KG,,FMOL/KG,,UMOL/KG,,UMOL/KG
           NA,    PR02, RY7894,  99,       1,       1,  2,19910125,1513,  12.9833,  136.9833,  4734,    1.000,   26.666,   34.559,2, -999.000,9, -999.000,9,  204.000,2, -999.000,9,      0.0,2,     0.00,2,     0.08,2, -999.000,9, -999.000,9, -999.000,9, -999.000,9, -999.000,9
           NA,    PR02, RY7894,  99,       2,       2,  2,19910125,1513,  12.9833,  136.9833,  4734,   11.000,   26.671,   34.560,2, -999.000,9, -999.000,9,  205.000,2, -999.000,9,      0.0,2,     0.01,2,     0.09,2, -999.000,9, -999.000,9, -999.000,9, -999.000,9, -999.000,9
           NA,    PR02, RY7894,  99,       3,       3,  2,19910125,1513,  12.9833,  136.9833,  4734,   25.000,   26.674,   34.559,2, -999.000,9, -999.000,9,  204.000,2, -999.000,9,      0.0,2,     0.00,2,     0.08,2, -999.000,9, -999.000,9, -999.000,9, -999.000,9, -999.000,9
           NA,    PR02, RY7894,  99,       4,       4,  2,19910125,1513,  12.9833,  136.9833,  4734,   50.000,   26.677,   34.559,2, -999.000,9, -999.000,9,  205.000,2, -999.000,9,      0.0,2,     0.00,2,     0.05,2, -999.000,9, -999.000,9, -999.000,9, -999.000,9, -999.000,9
           NA,    PR02, RY7894,  99,       5,       5,  2,19910125,1513,  12.9833,  136.9833,  4734,   76.000,   26.677,   34.559,2, -999.000,9, -999.000,9,  205.000,2, -999.000,9,      0.0,2,     0.01,2,     0.07,2, -999.000,9, -999.000,9, -999.000,9, -999.000,9, -999.000,9
           NA,    PR02, RY7894,  99,       6,       6,  2,19910125,1513,  12.9833,  136.9833,  4734,  101.000,   26.527,   34.561,2, -999.000,9, -999.000,9,  205.000,2, -999.000,9,      0.0,2,     0.00,2,     0.07,2, -999.000,9, -999.000,9, -999.000,9, -999.000,9, -999.000,9
           NA,    PR02, RY7894,  99,       7,       7,  2,19910125,1513,  12.9833,  136.9833,  4734,  126.000,   24.324,   34.966,2, -999.000,9, -999.000,9,  193.000,2, -999.000,9,      0.1,2,     0.09,2,     0.11,2, -999.000,9, -999.000,9, -999.000,9, -999.000,9, -999.000,9
           NA,    PR02, RY7894,  99,       8,       8,  2,19910125,1513,  12.9833,  136.9833,  4734,  149.000,   20.952,   34.988,2, -999.000,9, -999.000,9,  177.000,2, -999.000,9,      2.4,2,     0.03,2,     0.30,2, -999.000,9, -999.000,9, -999.000,9, -999.000,9, -999.000,9
           NA,    PR02, RY7894,  99,       9,       9,  2,19910125,1513,  12.9833,  136.9833,  4734,  176.000,   18.193,   34.873,2, -999.000,9, -999.000,9,  188.000,2, -999.000,9,      4.2,2,     0.01,2,     0.38,2, -999.000,9, -999.000,9, -999.000,9, -999.000,9, -999.000,9
           NA,    PR02, RY7894,  99,      10,      10,  2,19910125,1513,  12.9833,  136.9833,  4734,  205.000,   16.714,   34.763,2, -999.000,9, -999.000,9,  196.000,2, -999.000,9,      5.5,2,     0.01,2,     0.44,2, -999.000,9, -999.000,9, -999.000,9, -999.000,9, -999.000,9
           NA,    PR02, RY7894,  99,      11,      11,  2,19910125,1513,  12.9833,  136.9833,  4734,  252.000,   14.461,   34.574,2, -999.000,9, -999.000,9,  194.000,2, -999.000,9,      9.2,2,     0.01,2,     0.72,2, -999.000,9, -999.000,9, -999.000,9, -999.000,9, -999.000,9
           NA,    PR02, RY7894,  99,      12,      12,  2,19910125,1513,  12.9833,  136.9833,  4734,  303.000,   11.309,   34.359,2, -999.000,9, -999.000,9,  154.000,2, -999.000,9,     18.1,2,     0.00,2,     1.44,2, -999.000,9, -999.000,9, -999.000,9, -999.000,9, -999.000,9
           NA,    PR02, RY7894,  99,      13,      13,  2,19910125,1513,  12.9833,  136.9833,  4734,  405.000,    8.266,   34.390,2, -999.000,9, -999.000,9,   80.000,2, -999.000,9,     31.0,2,     0.00,2,     2.41,2, -999.000,9, -999.000,9, -999.000,9, -999.000,9, -999.000,9
           NA,    PR02, RY7894,  99,      14,      14,  2,19910125,1513,  12.9833,  136.9833,  4734,  505.000,    7.101,   34.430,2, -999.000,9, -999.000,9,   75.000,2, -999.000,9,     34.1,2,     0.00,2,     2.61,2, -999.000,9, -999.000,9, -999.000,9, -999.000,9, -999.000,9
           NA,    PR02, RY7894,  99,      15,      15,  2,19910125,1513,  12.9833,  136.9833,  4734,  605.000,    6.063,   34.468,2, -999.000,9, -999.000,9,   81.000,2, -999.000,9,     35.5,2,     0.00,2,     2.70,2, -999.000,9, -999.000,9, -999.000,9, -999.000,9, -999.000,9
           NA,    PR02, RY7894,  99,      16,      16,  2,19910125,1513,  12.9833,  136.9833,  4734,  705.000,    5.441,   34.499,2, -999.000,9, -999.000,9,   87.000,2, -999.000,9,     36.1,2,     0.00,2,     2.77,2, -999.000,9, -999.000,9, -999.000,9, -999.000,9, -999.000,9
           NA,    PR02, RY7894,  99,      17,      17,  2,19910125,1513,  12.9833,  136.9833,  4734,  804.000,    4.959,   34.516,2, -999.000,9, -999.000,9,   86.000,2, -999.000,9,     37.3,2,     0.00,2,     2.83,2, -999.000,9, -999.000,9, -999.000,9, -999.000,9, -999.000,9
           NA,    PR02, RY7894,  99,      18,      18,  2,19910125,1513,  12.9833,  136.9833,  4734,  906.000,    4.503,   34.532,2, -999.000,9, -999.000,9,   88.000,2, -999.000,9,     37.4,2,     0.00,2,     2.85,2, -999.000,9, -999.000,9, -999.000,9, -999.000,9, -999.000,9
           NA,    PR02, RY7894,  99,      19,      19,  2,19910125,1513,  12.9833,  136.9833,  4734, 1006.000,    4.149,   34.541,2, -999.000,9, -999.000,9,   92.000,2, -999.000,9,     37.6,2,     0.00,2,     2.85,2, -999.000,9, -999.000,9, -999.000,9, -999.000,9, -999.000,9
           NA,    PR02, RY7894,  99,      20,      20,  2,19910125,1513,  12.9833,  136.9833,  4734, 1261.000,    3.307,   34.566,2, -999.000,9, -999.000,9,   98.000,2, -999.000,9,     37.9,2,     0.00,2,     2.83,2, -999.000,9, -999.000,9, -999.000,9, -999.000,9, -999.000,9
           NA,    PR02, RY7893,  99,       1,       1,  2,19910125,0852,  14.0000,  136.9833,  5032,    2.000,   26.636,   34.599,2, -999.000,9, -999.000,9,  204.000,2, -999.000,9,      0.0,2,     0.00,2,     0.06,2, -999.000,9, -999.000,9, -999.000,9, -999.000,9, -999.000,9
           NA,    PR02, RY7893,  99,       2,       2,  2,19910125,0852,  14.0000,  136.9833,  5032,   10.000,   26.643,   34.599,2, -999.000,9, -999.000,9,  205.000,2, -999.000,9,      0.0,2,     0.00,2,     0.07,2, -999.000,9, -999.000,9, -999.000,9, -999.000,9, -999.000,9
           NA,    PR02, RY7893,  99,       3,       3,  2,19910125,0852,  14.0000,  136.9833,  5032,   26.000,   26.645,   34.599,2, -999.000,9, -999.000,9,  205.000,2, -999.000,9,      0.0,2,     0.00,2,     0.05,2, -999.000,9, -999.000,9, -999.000,9, -999.000,9, -999.000,9
           NA,    PR02, RY7893,  99,       4,       4,  2,19910125,0852,  14.0000,  136.9833,  5032,   50.000,   26.637,   34.597,2, -999.000,9, -999.000,9,  205.000,2, -999.000,9,      0.0,2,     0.00,2,     0.06,2, -999.000,9, -999.000,9, -999.000,9, -999.000,9, -999.000,9
           NA,    PR02, RY7893,  99,       5,       5,  2,19910125,0852,  14.0000,  136.9833,  5032,   75.000,   26.598,   34.596,2, -999.000,9, -999.000,9,  204.000,2, -999.000,9,      0.1,2,     0.00,2,     0.05,2, -999.000,9, -999.000,9, -999.000,9, -999.000,9, -999.000,9
           NA,    PR02, RY7893,  99,       6,       6,  2,19910125,0852,  14.0000,  136.9833,  5032,  102.000,   26.185,   34.693,2, -999.000,9, -999.000,9,  202.000,2, -999.000,9,      0.0,2,     0.00,2,     0.07,2, -999.000,9, -999.000,9, -999.000,9, -999.000,9, -999.000,9
           NA,    PR02, RY7893,  99,       7,       7,  2,19910125,0852,  14.0000,  136.9833,  5032,  126.000,   23.047,   35.029,2, -999.000,9, -999.000,9,  188.000,2, -999.000,9,      0.6,2,     0.08,2,     0.09,2, -999.000,9, -999.000,9, -999.000,9, -999.000,9, -999.000,9
           NA,    PR02, RY7893,  99,       8,       8,  2,19910125,0852,  14.0000,  136.9833,  5032,  150.000,   20.425,   35.004,2, -999.000,9, -999.000,9,  183.000,2, -999.000,9,      2.6,2,     0.02,2,     0.23,2, -999.000,9, -999.000,9, -999.000,9, -999.000,9, -999.000,9
           NA,    PR02, RY7893,  99,       9,       9,  2,19910125,0852,  14.0000,  136.9833,  5032,  174.000,   18.218,   34.871,2, -999.000,9, -999.000,9,  193.000,2, -999.000,9,      4.1,2,     0.01,2,     0.32,2, -999.000,9, -999.000,9, -999.000,9, -999.000,9, -999.000,9
           NA,    PR02, RY7893,  99,      10,      10,  2,19910125,0852,  14.0000,  136.9833,  5032,  199.000,   17.005,   34.787,2, -999.000,9, -999.000,9,  199.000,2, -999.000,9,      5.3,2,     0.01,2,     0.41,2, -999.000,9, -999.000,9, -999.000,9, -999.000,9, -999.000,9
           NA,    PR02, RY7893,  99,      11,      11,  2,19910125,0852,  14.0000,  136.9833,  5032,  252.000,   14.542,   34.583,2, -999.000,9, -999.000,9,  190.000,2, -999.000,9,      9.2,2,     0.00,2,     0.69,2, -999.000,9, -999.000,9, -999.000,9, -999.000,9, -999.000,9
           NA,    PR02, RY7893,  99,      12,      12,  2,19910125,0852,  14.0000,  136.9833,  5032,  301.000,   12.320,   34.415,2, -999.000,9, -999.000,9,  164.000,2, -999.000,9,     15.7,2,     0.01,2,     1.17,2, -999.000,9, -999.000,9, -999.000,9, -999.000,9, -999.000,9
           NA,    PR02, RY7893,  99,      13,      13,  2,19910125,0852,  14.0000,  136.9833,  5032,  404.000,    9.103,   34.373,2, -999.000,9, -999.000,9,   92.000,2, -999.000,9,     29.2,2,     0.00,2,     2.17,2, -999.000,9, -999.000,9, -999.000,9, -999.000,9, -999.000,9
           NA,    PR02, RY7893,  99,      14,      14,  2,19910125,0852,  14.0000,  136.9833,  5032,  503.000,    7.551,   34.422,2, -999.000,9, -999.000,9,   70.000,2, -999.000,9,     34.5,2,     0.00,2,     2.50,2, -999.000,9, -999.000,9, -999.000,9, -999.000,9, -999.000,9
           NA,    PR02, RY7893,  99,      15,      15,  2,19910125,0852,  14.0000,  136.9833,  5032,  604.000,    6.437,   34.413,2, -999.000,9, -999.000,9,   75.000,2, -999.000,9,     36.1,2,     0.00,2,     2.60,2, -999.000,9, -999.000,9, -999.000,9, -999.000,9, -999.000,9
           NA,    PR02, RY7893,  99,      16,      16,  2,19910125,0852,  14.0000,  136.9833,  5032,  705.000,    5.729,   34.468,2, -999.000,9, -999.000,9,   82.000,2, -999.000,9,     37.1,2,     0.00,2,     2.67,2, -999.000,9, -999.000,9, -999.000,9, -999.000,9, -999.000,9
           NA,    PR02, RY7893,  99,      17,      17,  2,19910125,0852,  14.0000,  136.9833,  5032,  803.000,    5.099,   34.485,2, -999.000,9, -999.000,9,   83.000,2, -999.000,9,     38.0,2,     0.00,2,     2.72,2, -999.000,9, -999.000,9, -999.000,9, -999.000,9, -999.000,9
           NA,    PR02, RY7893,  99,      18,      18,  2,19910125,0852,  14.0000,  136.9833,  5032,  907.000,    4.621,   34.514,2, -999.000,9, -999.000,9,   86.000,2, -999.000,9,     38.3,2,     0.00,2,     2.72,2, -999.000,9, -999.000,9, -999.000,9, -999.000,9, -999.000,9
           NA,    PR02, RY7893,  99,      19,      19,  2,19910125,0852,  14.0000,  136.9833,  5032, 1007.000,    4.216,   34.528,2, -999.000,9, -999.000,9,   89.000,2, -999.000,9,     38.3,2,     0.00,2,     2.75,2, -999.000,9, -999.000,9, -999.000,9, -999.000,9, -999.000,9
           NA,    PR02, RY7893,  99,      20,      20,  2,19910125,0852,  14.0000,  136.9833,  5032, 1260.000,    3.355,   34.561,2, -999.000,9, -999.000,9,   95.000,2, -999.000,9,     38.5,2,     0.00,2,     2.75,2, -999.000,9, -999.000,9, -999.000,9, -999.000,9, -999.000,9
           NA,    PR02, RY7892,  99,       1,       1,  2,19910124,2357,  15.0000,  136.9667,  5646,    1.000,   26.828,   34.540,2,   34.544,2, -999.000,9,  204.000,2, -999.000,9,      0.2,2,     0.00,2,     0.00,2, -999.000,9, -999.000,9, -999.000,9, -999.000,9, -999.000,9
           NA,    PR02, RY7892,  99,       2,       2,  2,19910124,2357,  15.0000,  136.9667,  5646,   10.000,   26.831,   34.539,2,   34.542,2, -999.000,9,  204.000,2, -999.000,9,      0.2,2,     0.00,2,     0.00,2, -999.000,9, -999.000,9, -999.000,9, -999.000,9, -999.000,9
           NA,    PR02, RY7892,  99,       3,       3,  2,19910124,2357,  15.0000,  136.9667,  5646,   24.000,   26.832,   34.541,2,   34.542,2, -999.000,9,  203.000,2, -999.000,9,      0.3,2,     0.01,2,     0.00,2, -999.000,9, -999.000,9, -999.000,9, -999.000,9, -999.000,9
           NA,    PR02, RY7892,  99,       4,       4,  2,19910124,2357,  15.0000,  136.9667,  5646,   49.000,   26.834,   34.541,2,   34.535,2, -999.000,9,  204.000,2, -999.000,9,      0.2,2,     0.01,2,     0.00,2, -999.000,9, -999.000,9, -999.000,9, -999.000,9, -999.000,9
           NA,    PR02, RY7892,  99,       5,       5,  2,19910124,2357,  15.0000,  136.9667,  5646,   76.000,   26.841,   34.542,2,   34.536,2, -999.000,9,  204.000,2, -999.000,9,      0.1,2,     0.00,2,     0.00,2, -999.000,9, -999.000,9, -999.000,9, -999.000,9, -999.000,9
           NA,    PR02, RY7892,  99,       6,       6,  2,19910124,2357,  15.0000,  136.9667,  5646,  101.000,   26.120,   34.764,2,   34.990,2, -999.000,9,  191.000,2, -999.000,9,      0.6,2,     0.10,2,     0.09,2, -999.000,9, -999.000,9, -999.000,9, -999.000,9, -999.000,9
           NA,    PR02, RY7892,  99,       7,       7,  2,19910124,2357,  15.0000,  136.9667,  5646,  126.000,   24.265,   34.995,2,   34.994,2, -999.000,9,  190.000,2, -999.000,9,      0.6,2,     0.10,2,     0.09,2, -999.000,9, -999.000,9, -999.000,9, -999.000,9, -999.000,9
           NA,    PR02, RY7892,  99,       8,       8,  2,19910124,2357,  15.0000,  136.9667,  5646,  152.000,   21.788,   35.038,2,   35.036,2, -999.000,9,  187.000,2, -999.000,9,      1.5,2,     0.04,2,     0.12,2, -999.000,9, -999.000,9, -999.000,9, -999.000,9, -999.000,9
           NA,    PR02, RY7892,  99,       9,       9,  2,19910124,2357,  15.0000,  136.9667,  5646,  176.000,   19.652,   34.976,2,   34.979,2, -999.000,9,  187.000,2, -999.000,9,      2.8,2,     0.00,2,     0.22,2, -999.000,9, -999.000,9, -999.000,9, -999.000,9, -999.000,9
           NA,    PR02, RY7892,  99,      10,      10,  2,19910124,2357,  15.0000,  136.9667,  5646,  200.000,   17.965,   34.882,2,   34.857,2, -999.000,9,  195.000,2, -999.000,9,      4.2,2,     0.03,2,     0.29,2, -999.000,9, -999.000,9, -999.000,9, -999.000,9, -999.000,9
           NA,    PR02, RY7892,  99,      11,      11,  2,19910124,2357,  15.0000,  136.9667,  5646,  252.000,   15.498,   34.664,2,   34.675,2, -999.000,9,  195.000,2, -999.000,9,      7.9,2,     0.00,2,     0.57,2, -999.000,9, -999.000,9, -999.000,9, -999.000,9, -999.000,9
           NA,    PR02, RY7892,  99,      12,      12,  2,19910124,2357,  15.0000,  136.9667,  5646,  300.000,   12.608,   34.440,2,   34.481,2, -999.000,9,  166.000,2, -999.000,9,     15.3,2,     0.00,2,     1.09,2, -999.000,9, -999.000,9, -999.000,9, -999.000,9, -999.000,9
           NA,    PR02, RY7892,  99,      13,      13,  2,19910124,2357,  15.0000,  136.9667,  5646,  404.000,    9.454,   34.344,2,   34.358,2, -999.000,9,  109.000,2, -999.000,9,     24.7,2,     0.00,2,     1.95,2, -999.000,9, -999.000,9, -999.000,9, -999.000,9, -999.000,9
           NA,    PR02, RY7892,  99,      14,      14,  2,19910124,2357,  15.0000,  136.9667,  5646,  504.000,    7.658,   34.406,2,   34.400,2, -999.000,9,   77.000,2, -999.000,9,     33.6,2,     0.00,2,     2.50,2, -999.000,9, -999.000,9, -999.000,9, -999.000,9, -999.000,9
           NA,    PR02, RY7892,  99,      15,      15,  2,19910124,2357,  15.0000,  136.9667,  5646,  602.000,    6.842,   34.433,2,   34.431,2, -999.000,9,   75.000,2, -999.000,9,     36.2,2,     0.00,2,     2.68,2, -999.000,9, -999.000,9, -999.000,9, -999.000,9, -999.000,9
           NA,    PR02, RY7892,  99,      16,      16,  2,19910124,2357,  15.0000,  136.9667,  5646,  704.000,    5.731,   34.436,2,   34.430,2, -999.000,9,   82.000,2, -999.000,9,     37.5,2,     0.00,2,     2.80,2, -999.000,9, -999.000,9, -999.000,9, -999.000,9, -999.000,9
           NA,    PR02, RY7892,  99,      17,      17,  2,19910124,2357,  15.0000,  136.9667,  5646,  807.000,    4.953,   34.492,2,   34.493,2, -999.000,9,   86.000,2, -999.000,9,     38.5,2,     0.00,2,     2.84,2, -999.000,9, -999.000,9, -999.000,9, -999.000,9, -999.000,9
           NA,    PR02, RY7892,  99,      18,      18,  2,19910124,2357,  15.0000,  136.9667,  5646,  908.000,    4.506,   34.517,2,   34.514,2, -999.000,9,   89.000,2, -999.000,9,     38.9,2,     0.00,2,     2.89,2, -999.000,9, -999.000,9, -999.000,9, -999.000,9, -999.000,9
           NA,    PR02, RY7892,  99,      19,      19,  2,19910124,2357,  15.0000,  136.9667,  5646, 1010.000,    4.139,   34.536,2,   34.535,2, -999.000,9,   93.000,2, -999.000,9,     38.9,2,     0.00,2,     2.93,2, -999.000,9, -999.000,9, -999.000,9, -999.000,9, -999.000,9
           NA,    PR02, RY7892,  99,      20,      20,  2,19910124,2357,  15.0000,  136.9667,  5646, 1262.000,    3.356,   34.562,2,   34.561,2, -999.000,9,   98.000,2, -999.000,9,     39.3,2,     0.00,2,     2.91,2, -999.000,9, -999.000,9, -999.000,9, -999.000,9, -999.000,9
           NA,    PR02, RY7892,  99,      21,      21,  2,19910124,2357,  15.0000,  136.9667,  5646, 1515.000,    2.823,   34.583,2,   34.582,2, -999.000,9,  104.000,2, -999.000,9,     39.5,2,     0.00,2,     3.01,2, -999.000,9, -999.000,9, -999.000,9, -999.000,9, -999.000,9
           NA,    PR02, RY7892,  99,      22,      22,  2,19910124,2357,  15.0000,  136.9667,  5646, 2022.000,    2.029,   34.631,2,   34.631,2, -999.000,9,  120.000,2, -999.000,9,     39.2,2,     0.00,2,     2.92,2, -999.000,9, -999.000,9, -999.000,9, -999.000,9, -999.000,9
           NA,    PR02, RY7892,  99,      23,      23,  2,19910124,2357,  15.0000,  136.9667,  5646, 2530.000,    1.749,   34.655,2,   34.650,2, -999.000,9,  136.000,2, -999.000,9,     38.4,2,     0.00,2,     2.85,2, -999.000,9, -999.000,9, -999.000,9, -999.000,9, -999.000,9
           NA,    PR02, RY7892,  99,      24,      24,  2,19910124,2357,  15.0000,  136.9667,  5646, 3038.000,    1.623,   34.667,2,   34.666,2, -999.000,9,  146.000,2, -999.000,9,     37.7,2,     0.00,2,     2.78,2, -999.000,9, -999.000,9, -999.000,9, -999.000,9, -999.000,9
           NA,    PR02, RY7892,  99,      25,      25,  2,19910124,2357,  15.0000,  136.9667,  5646, 4066.000,    1.499,   34.683,2,   34.676,2, -999.000,9,  160.000,2, -999.000,9,     36.6,2,     0.00,2,     2.71,2, -999.000,9, -999.000,9, -999.000,9, -999.000,9, -999.000,9