BOTTLE,20215502JOAExport
# Exported from JOA (5.5.0 Final September 29th, 2020) on 2021/07/02 10:55:14
#BOTTLE,20020817WHPSIOHLB,,,,,,,,,,,,,,,,,,,,,,,,,,,,,,,,,,,,,,
#code : jjward hyd_to_exchange.pl ,,,,,,,,,,,,,,,,,,,,,,,,,,,,,,,,,,,,,,,
#original files copied from HTML directory: 20020817,,,,,,,,,,,,,,,,,,,,,,,,,,,,,,,,,,,,,,,
#original HYD file: pr02_chy.txt   Sat Aug 17 12:52:10 2002,,,,,,,,,,,,,,,,,,,,,,,,,,,,,,,,,,,,,,,
#original SUM file: pr02_csu.txt   Sat Aug 17 12:52:06 2002,,,,,,,,,,,,,,,,,,,,,,,,,,,,,,,,,,,,,,,
EXPOCODE,SECT_ID,STNNBR,CASTNO,SAMPNO,BTLNBR,BTLNBR_FLAG_W,DATE,TIME,LATITUDE,LONGITUDE,DEPTH,CTDPRS,CTDTMP,CTDSAL,CTDSAL_FLAG_W,SALNTY,SALNTY_FLAG_W,CTDOXY,CTDOXY_FLAG_W,OXYGEN,OXYGEN_FLAG_W,SILCAT,SILCAT_FLAG_W,NITRAT,NITRAT_FLAG_W,NITRIT,NITRIT_FLAG_W,PHSPHT,PHSPHT_FLAG_W,CFC-11,CFC-11_FLAG_W,CFC-12,CFC-12_FLAG_W,SF6,SF6_FLAG_W,TCARBN,TCARBN_FLAG_W,ALKALI,ALKALI_FLAG_W
,,,,,,,,,,,,DB,DEG C,PSS-78,,PSS-78,,UMOL/KG,,UMOL/KG,,UMOL/KG,,UMOL/KG,,UMOL/KG,,UMOL/KG,,PMOL/KG,,PMOL/KG,,FMOL/KG,,UMOL/KG,,UMOL/KG
           NA,    PR02, RY7904,  99,       1,       1,  2,19910130,1052,   3.0000,  136.9833,  4509,    1.000,   28.305,   34.094,2,   34.097,2, -999.000,9,  201.000,2, -999.000,9,      0.0,2,     0.00,2,     0.05,2, -999.000,9, -999.000,9, -999.000,9, -999.000,9, -999.000,9
           NA,    PR02, RY7904,  99,       2,       2,  2,19910130,1052,   3.0000,  136.9833,  4509,   10.000,   28.414,   34.343,2,   34.329,2, -999.000,9,  203.000,2, -999.000,9,      0.0,2,     0.00,2,     0.08,2, -999.000,9, -999.000,9, -999.000,9, -999.000,9, -999.000,9
           NA,    PR02, RY7904,  99,       3,       3,  2,19910130,1052,   3.0000,  136.9833,  4509,   24.000,   28.300,   34.622,2,   34.605,2, -999.000,9,  195.000,2, -999.000,9,      0.3,2,     0.03,2,     0.13,2, -999.000,9, -999.000,9, -999.000,9, -999.000,9, -999.000,9
           NA,    PR02, RY7904,  99,       4,       4,  2,19910130,1052,   3.0000,  136.9833,  4509,   50.000,   25.913,   35.281,2,   35.270,2, -999.000,9,  194.000,2, -999.000,9,      7.3,2,     0.76,2,     0.67,2, -999.000,9, -999.000,9, -999.000,9, -999.000,9, -999.000,9
           NA,    PR02, RY7904,  99,       5,       5,  2,19910130,1052,   3.0000,  136.9833,  4509,   75.000,   24.751,   35.268,2,   35.265,2, -999.000,9,  187.000,2, -999.000,9,      8.2,2,     0.12,2,     0.72,2, -999.000,9, -999.000,9, -999.000,9, -999.000,9, -999.000,9
           NA,    PR02, RY7904,  99,       6,       6,  2,19910130,1052,   3.0000,  136.9833,  4509,   99.000,   22.857,   34.869,2,   34.874,2, -999.000,9,  162.000,2, -999.000,9,      5.4,2,     0.04,2,     0.46,2, -999.000,9, -999.000,9, -999.000,9, -999.000,9, -999.000,9
           NA,    PR02, RY7904,  99,       7,       7,  2,19910130,1052,   3.0000,  136.9833,  4509,  125.000,   22.683,   35.007,2,   34.993,2, -999.000,9,  156.000,2, -999.000,9,      6.7,2,     0.03,2,     0.59,2, -999.000,9, -999.000,9, -999.000,9, -999.000,9, -999.000,9
           NA,    PR02, RY7904,  99,       8,       8,  2,19910130,1052,   3.0000,  136.9833,  4509,  150.000,   22.071,   35.081,2,   35.104,2, -999.000,9,  148.000,2, -999.000,9,      8.2,2,     0.04,2,     0.69,2, -999.000,9, -999.000,9, -999.000,9, -999.000,9, -999.000,9
           NA,    PR02, RY7904,  99,       9,       9,  2,19910130,1052,   3.0000,  136.9833,  4509,  173.000,   20.052,   34.739,2,   34.733,2, -999.000,9,  165.000,2, -999.000,9,      7.2,2,     0.03,2,     0.60,2, -999.000,9, -999.000,9, -999.000,9, -999.000,9, -999.000,9
           NA,    PR02, RY7904,  99,      10,      10,  2,19910130,1052,   3.0000,  136.9833,  4509,  199.000,   18.941,   34.737,2,   34.736,2, -999.000,9,  144.000,2, -999.000,9,     11.7,2,     0.03,2,     0.90,2, -999.000,9, -999.000,9, -999.000,9, -999.000,9, -999.000,9
           NA,    PR02, RY7904,  99,      11,      11,  2,19910130,1052,   3.0000,  136.9833,  4509,  250.000,   13.758,   34.652,2,   34.641,2, -999.000,9,  163.000,2, -999.000,9,     14.2,2,     0.01,2,     1.10,2, -999.000,9, -999.000,9, -999.000,9, -999.000,9, -999.000,9
           NA,    PR02, RY7904,  99,      12,      12,  2,19910130,1052,   3.0000,  136.9833,  4509,  300.000,    9.995,   34.664,2,   34.668,2, -999.000,9,  130.000,2, -999.000,9,     25.2,2,     0.00,2,     1.87,2, -999.000,9, -999.000,9, -999.000,9, -999.000,9, -999.000,9
           NA,    PR02, RY7904,  99,      13,      13,  2,19910130,1052,   3.0000,  136.9833,  4509,  403.000,    8.689,   34.634,2,   34.631,2, -999.000,9,  117.000,2, -999.000,9,     29.3,2,     0.00,2,     2.11,2, -999.000,9, -999.000,9, -999.000,9, -999.000,9, -999.000,9
           NA,    PR02, RY7904,  99,      14,      14,  2,19910130,1052,   3.0000,  136.9833,  4509,  503.000,    7.720,   34.588,2,   34.587,2, -999.000,9,  125.000,2, -999.000,9,     30.6,2,     0.00,2,     2.20,2, -999.000,9, -999.000,9, -999.000,9, -999.000,9, -999.000,9
           NA,    PR02, RY7904,  99,      15,      15,  2,19910130,1052,   3.0000,  136.9833,  4509,  604.000,    6.753,   34.547,2,   34.545,2, -999.000,9,  123.000,2, -999.000,9,     32.9,2,     0.00,2,     2.37,2, -999.000,9, -999.000,9, -999.000,9, -999.000,9, -999.000,9
           NA,    PR02, RY7904,  99,      16,      16,  2,19910130,1052,   3.0000,  136.9833,  4509,  706.000,    6.244,   34.538,2,   34.541,2, -999.000,9,  113.000,2, -999.000,9,     34.6,2,     0.00,2,     2.48,2, -999.000,9, -999.000,9, -999.000,9, -999.000,9, -999.000,9
           NA,    PR02, RY7904,  99,      17,      17,  2,19910130,1052,   3.0000,  136.9833,  4509,  807.000,    5.724,   34.539,2,   34.541,2, -999.000,9,   99.000,2, -999.000,9,     36.6,2,     0.00,2,     2.67,2, -999.000,9, -999.000,9, -999.000,9, -999.000,9, -999.000,9
           NA,    PR02, RY7904,  99,      18,      18,  2,19910130,1052,   3.0000,  136.9833,  4509,  907.000,    4.816,   34.548,2,   34.541,2, -999.000,9,   87.000,2, -999.000,9,     39.4,2,     0.00,2,     2.86,2, -999.000,9, -999.000,9, -999.000,9, -999.000,9, -999.000,9
           NA,    PR02, RY7904,  99,      19,      19,  2,19910130,1052,   3.0000,  136.9833,  4509, 1009.000,    4.419,   34.556,2,   34.558,2, -999.000,9,   91.000,2, -999.000,9,     39.0,2,     0.00,2,     2.84,2, -999.000,9, -999.000,9, -999.000,9, -999.000,9, -999.000,9
           NA,    PR02, RY7904,  99,      20,      20,  2,19910130,1052,   3.0000,  136.9833,  4509, 1262.000,    3.443,   34.582,2,   34.586,2, -999.000,9,  102.000,2, -999.000,9,     39.2,2,     0.00,2,     2.84,2, -999.000,9, -999.000,9, -999.000,9, -999.000,9, -999.000,9
           NA,    PR02, RY7903,  99,       1,       1,  2,19910130,0410,   3.9833,  137.0000,  4657,    2.000,   28.392,   34.625,2, -999.000,9, -999.000,9,  197.000,2, -999.000,9,      0.2,2,     0.00,2,     0.10,2, -999.000,9, -999.000,9, -999.000,9, -999.000,9, -999.000,9
           NA,    PR02, RY7903,  99,       2,       2,  2,19910130,0410,   3.9833,  137.0000,  4657,   11.000,   28.381,   34.626,2, -999.000,9, -999.000,9,  197.000,2, -999.000,9,      0.2,2,     0.01,2,     0.12,2, -999.000,9, -999.000,9, -999.000,9, -999.000,9, -999.000,9
           NA,    PR02, RY7903,  99,       3,       3,  2,19910130,0410,   3.9833,  137.0000,  4657,   25.000,   28.256,   34.637,2, -999.000,9, -999.000,9,  197.000,2, -999.000,9,      0.3,2,     0.01,2,     0.12,2, -999.000,9, -999.000,9, -999.000,9, -999.000,9, -999.000,9
           NA,    PR02, RY7903,  99,       4,       4,  2,19910130,0410,   3.9833,  137.0000,  4657,   50.000,   24.573,   34.584,2, -999.000,9, -999.000,9,  169.000,2, -999.000,9,      4.9,2,     0.26,2,     0.46,2, -999.000,9, -999.000,9, -999.000,9, -999.000,9, -999.000,9
           NA,    PR02, RY7903,  99,       5,       5,  2,19910130,0410,   3.9833,  137.0000,  4657,   76.000,   23.334,   34.600,2, -999.000,9, -999.000,9,  157.000,2, -999.000,9,      7.2,2,     0.10,2,     0.63,2, -999.000,9, -999.000,9, -999.000,9, -999.000,9, -999.000,9
           NA,    PR02, RY7903,  99,       6,       6,  2,19910130,0410,   3.9833,  137.0000,  4657,  101.000,   23.204,   34.723,2, -999.000,9, -999.000,9,  153.000,2, -999.000,9,      7.4,2,     0.06,2,     0.62,2, -999.000,9, -999.000,9, -999.000,9, -999.000,9, -999.000,9
           NA,    PR02, RY7903,  99,       7,       7,  2,19910130,0410,   3.9833,  137.0000,  4657,  126.000,   23.559,   35.073,2, -999.000,9, -999.000,9,  152.000,2, -999.000,9,      7.2,2,     0.05,2,     0.64,2, -999.000,9, -999.000,9, -999.000,9, -999.000,9, -999.000,9
           NA,    PR02, RY7903,  99,       8,       8,  2,19910130,0410,   3.9833,  137.0000,  4657,  151.000,   21.520,   34.856,2, -999.000,9, -999.000,9,  145.000,2, -999.000,9,      9.2,2,     0.04,2,     0.76,2, -999.000,9, -999.000,9, -999.000,9, -999.000,9, -999.000,9
           NA,    PR02, RY7903,  99,       9,       9,  2,19910130,0410,   3.9833,  137.0000,  4657,  177.000,   20.576,   34.763,2, -999.000,9, -999.000,9,  146.000,2, -999.000,9,      9.7,2,     0.02,2,     0.79,2, -999.000,9, -999.000,9, -999.000,9, -999.000,9, -999.000,9
           NA,    PR02, RY7903,  99,      10,      10,  2,19910130,0410,   3.9833,  137.0000,  4657,  201.000,   19.047,   34.790,2, -999.000,9, -999.000,9,  175.000,2, -999.000,9,      5.9,2,     0.11,2,     0.48,2, -999.000,9, -999.000,9, -999.000,9, -999.000,9, -999.000,9
           NA,    PR02, RY7903,  99,      11,      11,  2,19910130,0410,   3.9833,  137.0000,  4657,  252.000,   14.772,   34.620,2, -999.000,9, -999.000,9,  168.000,2, -999.000,9,     11.5,2,     0.01,2,     0.91,2, -999.000,9, -999.000,9, -999.000,9, -999.000,9, -999.000,9
           NA,    PR02, RY7903,  99,      12,      12,  2,19910130,0410,   3.9833,  137.0000,  4657,  301.000,   10.423,   34.396,2, -999.000,9, -999.000,9,  122.000,2, -999.000,9,     22.8,2,     0.00,2,     1.73,2, -999.000,9, -999.000,9, -999.000,9, -999.000,9, -999.000,9
           NA,    PR02, RY7903,  99,      13,      13,  2,19910130,0410,   3.9833,  137.0000,  4657,  403.000,    8.137,   34.554,2, -999.000,9, -999.000,9,   80.000,2, -999.000,9,     31.9,2,     0.00,2,     2.35,2, -999.000,9, -999.000,9, -999.000,9, -999.000,9, -999.000,9
           NA,    PR02, RY7903,  99,      14,      14,  2,19910130,0410,   3.9833,  137.0000,  4657,  504.000,    7.386,   34.556,2, -999.000,9, -999.000,9,   96.000,2, -999.000,9,     32.6,2,     0.00,2,     2.38,2, -999.000,9, -999.000,9, -999.000,9, -999.000,9, -999.000,9
           NA,    PR02, RY7903,  99,      15,      15,  2,19910130,0410,   3.9833,  137.0000,  4657,  604.000,    6.561,   34.543,2, -999.000,9, -999.000,9,   99.000,2, -999.000,9,     33.9,2,     0.00,2,     2.48,2, -999.000,9, -999.000,9, -999.000,9, -999.000,9, -999.000,9
           NA,    PR02, RY7903,  99,      16,      16,  2,19910130,0410,   3.9833,  137.0000,  4657,  705.000,    5.936,   34.537,2, -999.000,9, -999.000,9,   97.000,2, -999.000,9,     35.0,2,     0.00,2,     2.57,2, -999.000,9, -999.000,9, -999.000,9, -999.000,9, -999.000,9
           NA,    PR02, RY7903,  99,      17,      17,  2,19910130,0410,   3.9833,  137.0000,  4657,  806.000,    5.452,   34.538,2, -999.000,9, -999.000,9,   89.000,2, -999.000,9,     36.8,2,     0.00,2,     2.68,2, -999.000,9, -999.000,9, -999.000,9, -999.000,9, -999.000,9
           NA,    PR02, RY7903,  99,      18,      18,  2,19910130,0410,   3.9833,  137.0000,  4657,  906.000,    4.937,   34.544,2, -999.000,9, -999.000,9,   90.000,2, -999.000,9,     37.5,2,     0.00,2,     2.73,2, -999.000,9, -999.000,9, -999.000,9, -999.000,9, -999.000,9
           NA,    PR02, RY7903,  99,      19,      19,  2,19910130,0410,   3.9833,  137.0000,  4657, 1008.000,    4.369,   34.556,2, -999.000,9, -999.000,9,   95.000,2, -999.000,9,     37.6,2,     0.00,2,     2.75,2, -999.000,9, -999.000,9, -999.000,9, -999.000,9, -999.000,9
           NA,    PR02, RY7903,  99,      20,      20,  2,19910130,0410,   3.9833,  137.0000,  4657, 1260.000,    3.660,   34.575,2, -999.000,9, -999.000,9,   98.000,2, -999.000,9,     38.0,2,     0.00,2,     2.77,2, -999.000,9, -999.000,9, -999.000,9, -999.000,9, -999.000,9
           NA,    PR02, RY7902,  99,       1,       1,  2,19910129,1933,   5.0167,  137.0000,  4834,    2.000,   27.991,   34.502,2,   34.510,2, -999.000,9,  201.000,2, -999.000,9,      0.0,2,     0.05,2,  -999.00,5, -999.000,9, -999.000,9, -999.000,9, -999.000,9, -999.000,9
           NA,    PR02, RY7902,  99,       2,       2,  2,19910129,1933,   5.0167,  137.0000,  4834,   11.000,   27.992,   34.502,2,   34.497,2, -999.000,9,  200.000,2, -999.000,9,      0.0,2,     0.00,2,     0.02,2, -999.000,9, -999.000,9, -999.000,9, -999.000,9, -999.000,9
           NA,    PR02, RY7902,  99,       3,       3,  2,19910129,1933,   5.0167,  137.0000,  4834,   24.000,   27.993,   34.502,2,   34.491,2, -999.000,9,  200.000,2, -999.000,9,      0.0,2,     0.01,2,     0.00,2, -999.000,9, -999.000,9, -999.000,9, -999.000,9, -999.000,9
           NA,    PR02, RY7902,  99,       4,       4,  2,19910129,1933,   5.0167,  137.0000,  4834,   51.000,   27.434,   34.470,2,   34.473,2, -999.000,9,  197.000,2, -999.000,9,      0.2,2,     0.11,2,     0.02,2, -999.000,9, -999.000,9, -999.000,9, -999.000,9, -999.000,9
           NA,    PR02, RY7902,  99,       5,       5,  2,19910129,1933,   5.0167,  137.0000,  4834,   76.000,   25.549,   34.496,2,   34.467,2, -999.000,9,  193.000,2, -999.000,9,      0.7,2,     0.24,2,     0.13,2, -999.000,9, -999.000,9, -999.000,9, -999.000,9, -999.000,9
           NA,    PR02, RY7902,  99,       6,       6,  2,19910129,1933,   5.0167,  137.0000,  4834,  101.000,   24.490,   34.546,2,   34.550,2, -999.000,9,  185.000,2, -999.000,9,      2.0,2,     0.34,2,     0.23,2, -999.000,9, -999.000,9, -999.000,9, -999.000,9, -999.000,9
           NA,    PR02, RY7902,  99,       7,       7,  2,19910129,1933,   5.0167,  137.0000,  4834,  124.000,   23.970,   34.673,2,   34.670,2, -999.000,9,  173.000,2, -999.000,9,      3.5,2,     0.23,2,     0.35,2, -999.000,9, -999.000,9, -999.000,9, -999.000,9, -999.000,9
           NA,    PR02, RY7902,  99,       8,       8,  2,19910129,1933,   5.0167,  137.0000,  4834,  149.000,   19.962,   34.821,2,   34.811,2, -999.000,9,  150.000,2, -999.000,9,      9.1,2,     0.06,2,     0.75,2, -999.000,9, -999.000,9, -999.000,9, -999.000,9, -999.000,9
           NA,    PR02, RY7902,  99,       9,       9,  2,19910129,1933,   5.0167,  137.0000,  4834,  177.000,   18.365,   34.814,2,   34.802,2, -999.000,9,  173.000,2, -999.000,9,      5.9,2,     0.19,2,     0.49,2, -999.000,9, -999.000,9, -999.000,9, -999.000,9, -999.000,9
           NA,    PR02, RY7902,  99,      10,      10,  2,19910129,1933,   5.0167,  137.0000,  4834,  201.000,   15.801,   34.709,2,   34.700,2, -999.000,9,  171.000,2, -999.000,9,      8.7,2,     0.18,2,     0.68,2, -999.000,9, -999.000,9, -999.000,9, -999.000,9, -999.000,9
           NA,    PR02, RY7902,  99,      11,      11,  2,19910129,1933,   5.0167,  137.0000,  4834,  251.000,   10.424,   34.435,2,   34.467,2, -999.000,9,  107.000,2, -999.000,9,     24.1,2,     0.02,2,     1.87,2, -999.000,9, -999.000,9, -999.000,9, -999.000,9, -999.000,9
           NA,    PR02, RY7902,  99,      12,      12,  2,19910129,1933,   5.0167,  137.0000,  4834,  300.000,    8.600,   34.451,2,   34.450,2, -999.000,9,  104.000,2, -999.000,9,     28.0,2,     0.01,2,     2.14,2, -999.000,9, -999.000,9, -999.000,9, -999.000,9, -999.000,9
           NA,    PR02, RY7902,  99,      13,      13,  2,19910129,1933,   5.0167,  137.0000,  4834,  404.000,    7.919,   34.572,2,   34.575,2, -999.000,9,   94.000,2, -999.000,9,     31.4,2,     0.00,2,     2.32,2, -999.000,9, -999.000,9, -999.000,9, -999.000,9, -999.000,9
           NA,    PR02, RY7902,  99,      14,      14,  2,19910129,1933,   5.0167,  137.0000,  4834,  503.000,    7.004,   34.557,2,   34.554,2, -999.000,9,  115.000,2, -999.000,9,     31.6,2,     0.00,2,     2.34,2, -999.000,9, -999.000,9, -999.000,9, -999.000,9, -999.000,9
           NA,    PR02, RY7902,  99,      15,      15,  2,19910129,1933,   5.0167,  137.0000,  4834,  602.000,    6.374,   34.547,2,   34.544,2, -999.000,9,   87.000,2, -999.000,9,     35.3,2,     0.00,2,     2.65,2, -999.000,9, -999.000,9, -999.000,9, -999.000,9, -999.000,9
           NA,    PR02, RY7902,  99,      16,      16,  2,19910129,1933,   5.0167,  137.0000,  4834,  706.000,    5.993,   34.539,2,   34.543,2, -999.000,9,   95.000,2, -999.000,9,     35.1,2,     0.00,2,     2.62,2, -999.000,9, -999.000,9, -999.000,9, -999.000,9, -999.000,9
           NA,    PR02, RY7902,  99,      17,      17,  2,19910129,1933,   5.0167,  137.0000,  4834,  806.000,    5.461,   34.541,2,   34.539,2, -999.000,9,   93.000,2, -999.000,9,     36.4,2,     0.00,2,     2.72,2, -999.000,9, -999.000,9, -999.000,9, -999.000,9, -999.000,9
           NA,    PR02, RY7902,  99,      18,      18,  2,19910129,1933,   5.0167,  137.0000,  4834,  907.000,    4.954,   34.544,2,   34.546,2, -999.000,9,   93.000,2, -999.000,9,     37.4,2,     0.00,2,     2.79,2, -999.000,9, -999.000,9, -999.000,9, -999.000,9, -999.000,9
           NA,    PR02, RY7902,  99,      19,      19,  2,19910129,1933,   5.0167,  137.0000,  4834, 1007.000,    4.430,   34.556,2, -999.000,9, -999.000,9,   93.000,2, -999.000,9,     37.6,2,     0.00,2,     2.82,2, -999.000,9, -999.000,9, -999.000,9, -999.000,9, -999.000,9
           NA,    PR02, RY7902,  99,      20,      20,  2,19910129,1933,   5.0167,  137.0000,  4834, 1262.000,    3.728,   34.573,2,   34.573,2, -999.000,9,   99.000,2, -999.000,9,     38.0,2,     0.00,2,     2.84,2, -999.000,9, -999.000,9, -999.000,9, -999.000,9, -999.000,9
           NA,    PR02, RY7902,  99,      21,      21,  2,19910129,1933,   5.0167,  137.0000,  4834, 1515.000,    3.071,   34.595,2,   34.594,2, -999.000,9,  106.000,2, -999.000,9,     38.1,2,     0.00,2,     2.86,2, -999.000,9, -999.000,9, -999.000,9, -999.000,9, -999.000,9
           NA,    PR02, RY7902,  99,      22,      22,  2,19910129,1933,   5.0167,  137.0000,  4834, 2023.000,    2.231,   34.635,2,   34.635,2, -999.000,9,  120.000,2, -999.000,9,     38.0,2,     0.00,2,     2.80,2, -999.000,9, -999.000,9, -999.000,9, -999.000,9, -999.000,9
           NA,    PR02, RY7902,  99,      23,      23,  2,19910129,1933,   5.0167,  137.0000,  4834, 2533.000,    1.794,   34.657,2,   34.661,2, -999.000,9,  136.000,2, -999.000,9,     36.8,2,     0.00,2,     2.71,2, -999.000,9, -999.000,9, -999.000,9, -999.000,9, -999.000,9
           NA,    PR02, RY7902,  99,      24,      24,  2,19910129,1933,   5.0167,  137.0000,  4834, 3041.000,    1.614,   34.670,2,   34.673,2, -999.000,9,  147.000,2, -999.000,9,     36.1,2,     0.00,2,     2.66,2, -999.000,9, -999.000,9, -999.000,9, -999.000,9, -999.000,9
           NA,    PR02, RY7902,  99,      25,      25,  2,19910129,1933,   5.0167,  137.0000,  4834, 4066.000,    1.509,   34.685,2,   34.682,2, -999.000,9,  158.000,2, -999.000,9,     35.2,2,     0.00,2,     2.58,2, -999.000,9, -999.000,9, -999.000,9, -999.000,9, -999.000,9