BOTTLE,20215502JOAExport
EXPOCODE,SECT_ID,STNNBR,CASTNO,SAMPNO,BTLNBR,BTLNBR_FLAG_W,DATE,TIME,LATITUDE,LONGITUDE,DEPTH,CTDPRS,CTDTMP,CTDSAL,CTDSAL_FLAG_W,SALNTY,SALNTY_FLAG_W,CTDOXY,CTDOXY_FLAG_W,OXYGEN,OXYGEN_FLAG_W,SILCAT,SILCAT_FLAG_W,NITRAT,NITRAT_FLAG_W,NITRIT,NITRIT_FLAG_W,PHSPHT,PHSPHT_FLAG_W,CFC-11,CFC-11_FLAG_W,CFC-12,CFC-12_FLAG_W,SF6,SF6_FLAG_W,TCARBN,TCARBN_FLAG_W,ALKALI,ALKALI_FLAG_W
,,,,,,,,,,,,DB,DEG C,PSS-78,,PSS-78,,UMOL/KG,,UMOL/KG,,UMOL/KG,,UMOL/KG,,UMOL/KG,,UMOL/KG,,PMOL/KG,,PMOL/KG,,FMOL/KG,,UMOL/KG,,UMOL/KG
           NA,    PR02, RY7897,  99,       1,       1,  2,19910128,0901,  10.0000,  136.9833,  4777,    2.000,   27.201,   34.262,2,   34.267,2, -999.000,9,  204.000,2, -999.000,9,      0.0,2,     0.00,2,     0.06,2, -999.000,9, -999.000,9, -999.000,9, -999.000,9, -999.000,9
           NA,    PR02, RY7897,  99,       2,       2,  2,19910128,0901,  10.0000,  136.9833,  4777,   10.000,   27.206,   34.261,2,   34.258,2, -999.000,9,  204.000,2, -999.000,9,      0.0,2,     0.00,2,     0.06,2, -999.000,9, -999.000,9, -999.000,9, -999.000,9, -999.000,9
           NA,    PR02, RY7897,  99,       3,       3,  2,19910128,0901,  10.0000,  136.9833,  4777,   25.000,   27.198,   34.267,2,   34.270,2, -999.000,9,  203.000,2, -999.000,9,      0.0,2,     0.00,2,     0.10,2, -999.000,9, -999.000,9, -999.000,9, -999.000,9, -999.000,9
           NA,    PR02, RY7897,  99,       4,       4,  2,19910128,0901,  10.0000,  136.9833,  4777,   50.000,   27.158,   34.292,2,   34.285,2, -999.000,9,  204.000,2, -999.000,9,      0.0,2,     0.00,2,     0.06,2, -999.000,9, -999.000,9, -999.000,9, -999.000,9, -999.000,9
           NA,    PR02, RY7897,  99,       5,       5,  2,19910128,0901,  10.0000,  136.9833,  4777,   75.000,   24.501,   34.674,2,   34.630,2, -999.000,9,  195.000,2, -999.000,9,      0.4,2,     0.03,2,     0.18,2, -999.000,9, -999.000,9, -999.000,9, -999.000,9, -999.000,9
           NA,    PR02, RY7897,  99,       6,       6,  2,19910128,0901,  10.0000,  136.9833,  4777,  101.000,   21.787,   34.727,2,   34.724,2, -999.000,9,  168.000,2, -999.000,9,      4.3,2,     0.37,2,     0.45,2, -999.000,9, -999.000,9, -999.000,9, -999.000,9, -999.000,9
           NA,    PR02, RY7897,  99,       7,       7,  2,19910128,0901,  10.0000,  136.9833,  4777,  125.000,   19.853,   34.760,2,   34.745,2, -999.000,9,  159.000,2, -999.000,9,      6.7,2,     0.12,2,     0.58,2, -999.000,9, -999.000,9, -999.000,9, -999.000,9, -999.000,9
           NA,    PR02, RY7897,  99,       8,       8,  2,19910128,0901,  10.0000,  136.9833,  4777,  150.000,   17.611,   34.728,2,   34.724,2, -999.000,9,  156.000,2, -999.000,9,      8.6,2,     0.02,2,     0.70,2, -999.000,9, -999.000,9, -999.000,9, -999.000,9, -999.000,9
           NA,    PR02, RY7897,  99,       9,       9,  2,19910128,0901,  10.0000,  136.9833,  4777,  177.000,   14.620,   34.575,2,   34.579,2, -999.000,9,  159.000,2, -999.000,9,     11.7,2,     0.01,2,     0.85,2, -999.000,9, -999.000,9, -999.000,9, -999.000,9, -999.000,9
           NA,    PR02, RY7897,  99,      10,      10,  2,19910128,0901,  10.0000,  136.9833,  4777,  201.000,   13.001,   34.472,2,   34.498,2, -999.000,9,  150.000,2, -999.000,9,     15.3,2,     0.01,2,     1.14,2, -999.000,9, -999.000,9, -999.000,9, -999.000,9, -999.000,9
           NA,    PR02, RY7897,  99,      11,      11,  2,19910128,0901,  10.0000,  136.9833,  4777,  251.000,   10.590,   34.397,2,   34.398,2, -999.000,9,  114.000,2, -999.000,9,     23.9,2,     0.01,2,     1.72,2, -999.000,9, -999.000,9, -999.000,9, -999.000,9, -999.000,9
           NA,    PR02, RY7897,  99,      12,      12,  2,19910128,0901,  10.0000,  136.9833,  4777,  301.000,    9.521,   34.436,2,   34.436,2, -999.000,9,   87.000,2, -999.000,9,     28.9,2,     0.00,2,     2.22,2, -999.000,9, -999.000,9, -999.000,9, -999.000,9, -999.000,9
           NA,    PR02, RY7897,  99,      13,      13,  2,19910128,0901,  10.0000,  136.9833,  4777,  403.000,    7.878,   34.441,2,   34.445,2, -999.000,9,   68.000,2, -999.000,9,     33.1,2,     0.00,2,     2.49,2, -999.000,9, -999.000,9, -999.000,9, -999.000,9, -999.000,9
           NA,    PR02, RY7897,  99,      14,      14,  2,19910128,0901,  10.0000,  136.9833,  4777,  504.000,    6.943,   34.500,2,   34.496,2, -999.000,9,   86.000,2, -999.000,9,     34.6,2,     0.00,2,     2.57,2, -999.000,9, -999.000,9, -999.000,9, -999.000,9, -999.000,9
           NA,    PR02, RY7897,  99,      15,      15,  2,19910128,0901,  10.0000,  136.9833,  4777,  604.000,    6.120,   34.474,2,   34.470,2, -999.000,9,   84.000,2, -999.000,9,     35.9,2,     0.00,2,     2.67,2, -999.000,9, -999.000,9, -999.000,9, -999.000,9, -999.000,9
           NA,    PR02, RY7897,  99,      16,      16,  2,19910128,0901,  10.0000,  136.9833,  4777,  703.000,    5.654,   34.499,2,   34.496,2, -999.000,9,   88.000,2, -999.000,9,     36.9,2,     0.00,2,     2.76,2, -999.000,9, -999.000,9, -999.000,9, -999.000,9, -999.000,9
           NA,    PR02, RY7897,  99,      17,      17,  2,19910128,0901,  10.0000,  136.9833,  4777,  806.000,    5.139,   34.524,2,   34.523,2, -999.000,9,   89.000,2, -999.000,9,     38.1,2,     0.00,2,     2.81,2, -999.000,9, -999.000,9, -999.000,9, -999.000,9, -999.000,9
           NA,    PR02, RY7897,  99,      18,      18,  2,19910128,0901,  10.0000,  136.9833,  4777,  907.000,    4.651,   34.540,2,   34.540,2, -999.000,9,   90.000,2, -999.000,9,     37.8,2,     0.01,2,     2.79,2, -999.000,9, -999.000,9, -999.000,9, -999.000,9, -999.000,9
           NA,    PR02, RY7897,  99,      19,      19,  2,19910128,0901,  10.0000,  136.9833,  4777, 1010.000,    4.227,   34.548,2,   34.550,2, -999.000,9,   96.000,2, -999.000,9,     38.0,2,     0.00,2,     2.83,2, -999.000,9, -999.000,9, -999.000,9, -999.000,9, -999.000,9
           NA,    PR02, RY7897,  99,      20,      20,  2,19910128,0901,  10.0000,  136.9833,  4777, 1262.000,    3.354,   34.578,2,   34.579,2, -999.000,9,  103.000,2, -999.000,9,     38.3,2,     0.00,2,     2.86,2, -999.000,9, -999.000,9, -999.000,9, -999.000,9, -999.000,9
           NA,    PR02, RY7897,  99,      21,      21,  2,19910128,0901,  10.0000,  136.9833,  4777, 1515.000,    2.772,   34.600,2,   34.593,2, -999.000,9,  107.000,2, -999.000,9,     39.2,2,     0.00,2,     2.68,2, -999.000,9, -999.000,9, -999.000,9, -999.000,9, -999.000,9
           NA,    PR02, RY7897,  99,      22,      22,  2,19910128,0901,  10.0000,  136.9833,  4777, 2021.000,    2.081,   34.637,2,   34.636,2, -999.000,9,  123.000,2, -999.000,9,     38.8,2,     0.00,2,     2.63,2, -999.000,9, -999.000,9, -999.000,9, -999.000,9, -999.000,9
           NA,    PR02, RY7897,  99,      23,      23,  2,19910128,0901,  10.0000,  136.9833,  4777, 2532.000,    1.706,   34.660,2,   34.658,2, -999.000,9,  139.000,2, -999.000,9,     37.8,2,     0.00,2,     2.51,2, -999.000,9, -999.000,9, -999.000,9, -999.000,9, -999.000,9
           NA,    PR02, RY7897,  99,      24,      24,  2,19910128,0901,  10.0000,  136.9833,  4777, 3041.000,    1.563,   34.672,2,   34.669,2, -999.000,9,  152.000,2, -999.000,9,     37.1,2,     0.00,2,     2.64,2, -999.000,9, -999.000,9, -999.000,9, -999.000,9, -999.000,9
           NA,    PR02, RY7896,  99,       1,       1,  2,19910128,0205,  11.0000,  136.9833,  6082,    0.000,   27.200,   34.272,2, -999.000,9, -999.000,9,  205.000,2, -999.000,9,      0.1,2,     0.00,2,     0.03,2, -999.000,9, -999.000,9, -999.000,9, -999.000,9, -999.000,9
           NA,    PR02, RY7896,  99,       2,       2,  2,19910128,0205,  11.0000,  136.9833,  6082,   10.000,   27.188,   34.271,2, -999.000,9, -999.000,9,  205.000,2, -999.000,9,      0.0,2,     0.00,2,     0.04,2, -999.000,9, -999.000,9, -999.000,9, -999.000,9, -999.000,9
           NA,    PR02, RY7896,  99,       3,       3,  2,19910128,0205,  11.0000,  136.9833,  6082,   25.000,   27.189,   34.272,2, -999.000,9, -999.000,9,  206.000,2, -999.000,9,      0.0,2,     0.00,2,     0.04,2, -999.000,9, -999.000,9, -999.000,9, -999.000,9, -999.000,9
           NA,    PR02, RY7896,  99,       4,       4,  2,19910128,0205,  11.0000,  136.9833,  6082,   52.000,   27.190,   34.273,2, -999.000,9, -999.000,9,  206.000,2, -999.000,9,      0.1,2,     0.00,2,     0.05,2, -999.000,9, -999.000,9, -999.000,9, -999.000,9, -999.000,9
           NA,    PR02, RY7896,  99,       5,       5,  2,19910128,0205,  11.0000,  136.9833,  6082,   75.000,   27.183,   34.277,2, -999.000,9, -999.000,9,  209.000,2, -999.000,9,      0.1,2,     0.00,2,     0.02,2, -999.000,9, -999.000,9, -999.000,9, -999.000,9, -999.000,9
           NA,    PR02, RY7896,  99,       6,       6,  2,19910128,0205,  11.0000,  136.9833,  6082,   99.000,   24.333,   34.966,2, -999.000,9, -999.000,9,  196.000,2, -999.000,9,      0.1,2,     0.01,2,     0.09,2, -999.000,9, -999.000,9, -999.000,9, -999.000,9, -999.000,9
           NA,    PR02, RY7896,  99,       7,       7,  2,19910128,0205,  11.0000,  136.9833,  6082,  126.000,   20.238,   34.883,2, -999.000,9, -999.000,9,  168.000,2, -999.000,9,      4.2,2,     0.15,2,     0.34,2, -999.000,9, -999.000,9, -999.000,9, -999.000,9, -999.000,9
           NA,    PR02, RY7896,  99,       8,       8,  2,19910128,0205,  11.0000,  136.9833,  6082,  151.000,   17.740,   34.756,2, -999.000,9, -999.000,9,  155.000,2, -999.000,9,      8.8,2,     0.02,2,     0.69,2, -999.000,9, -999.000,9, -999.000,9, -999.000,9, -999.000,9
           NA,    PR02, RY7896,  99,       9,       9,  2,19910128,0205,  11.0000,  136.9833,  6082,  176.000,   15.709,   34.646,2, -999.000,9, -999.000,9,  154.000,2, -999.000,9,     11.6,2,     0.00,2,     0.77,2, -999.000,9, -999.000,9, -999.000,9, -999.000,9, -999.000,9
           NA,    PR02, RY7896,  99,      10,      10,  2,19910128,0205,  11.0000,  136.9833,  6082,  203.000,   13.670,   34.530,2, -999.000,9, -999.000,9,  153.000,2, -999.000,9,     14.8,2,     0.00,2,     0.98,2, -999.000,9, -999.000,9, -999.000,9, -999.000,9, -999.000,9
           NA,    PR02, RY7896,  99,      11,      11,  2,19910128,0205,  11.0000,  136.9833,  6082,  251.000,   10.867,   34.382,2, -999.000,9, -999.000,9,  134.000,2, -999.000,9,     21.2,2,     0.00,2,     1.46,2, -999.000,9, -999.000,9, -999.000,9, -999.000,9, -999.000,9
           NA,    PR02, RY7896,  99,      12,      12,  2,19910128,0205,  11.0000,  136.9833,  6082,  300.000,    9.475,   34.377,2, -999.000,9, -999.000,9,  102.000,2, -999.000,9,     26.5,2,     0.00,2,     1.88,2, -999.000,9, -999.000,9, -999.000,9, -999.000,9, -999.000,9
           NA,    PR02, RY7896,  99,      13,      13,  2,19910128,0205,  11.0000,  136.9833,  6082,  401.000,    7.570,   34.444,2, -999.000,9, -999.000,9,   72.000,2, -999.000,9,     33.6,2,     0.00,2,     2.47,2, -999.000,9, -999.000,9, -999.000,9, -999.000,9, -999.000,9
           NA,    PR02, RY7896,  99,      14,      14,  2,19910128,0205,  11.0000,  136.9833,  6082,  504.000,    6.470,   34.471,2, -999.000,9, -999.000,9,   81.000,2, -999.000,9,     35.3,2,     0.00,2,     2.66,2, -999.000,9, -999.000,9, -999.000,9, -999.000,9, -999.000,9
           NA,    PR02, RY7896,  99,      15,      15,  2,19910128,0205,  11.0000,  136.9833,  6082,  604.000,    5.939,   34.496,2, -999.000,9, -999.000,9,   85.000,2, -999.000,9,     36.6,2,     0.00,2,     2.72,2, -999.000,9, -999.000,9, -999.000,9, -999.000,9, -999.000,9
           NA,    PR02, RY7896,  99,      16,      16,  2,19910128,0205,  11.0000,  136.9833,  6082,  706.000,    5.382,   34.513,2, -999.000,9, -999.000,9,   85.000,2, -999.000,9,     37.5,2,     0.00,2,     2.82,2, -999.000,9, -999.000,9, -999.000,9, -999.000,9, -999.000,9
           NA,    PR02, RY7896,  99,      17,      17,  2,19910128,0205,  11.0000,  136.9833,  6082,  805.000,    4.955,   34.531,2, -999.000,9, -999.000,9,   89.000,2, -999.000,9,     37.8,2,     0.00,2,     2.80,2, -999.000,9, -999.000,9, -999.000,9, -999.000,9, -999.000,9
           NA,    PR02, RY7896,  99,      18,      18,  2,19910128,0205,  11.0000,  136.9833,  6082,  906.000,    4.548,   34.542,2, -999.000,9, -999.000,9,   98.000,2, -999.000,9,     38.1,2,     0.00,2,     2.83,2, -999.000,9, -999.000,9, -999.000,9, -999.000,9, -999.000,9
           NA,    PR02, RY7896,  99,      19,      19,  2,19910128,0205,  11.0000,  136.9833,  6082, 1008.000,    4.181,   34.549,2, -999.000,9, -999.000,9,   93.000,2, -999.000,9,     38.5,2,     0.00,2,     2.76,2, -999.000,9, -999.000,9, -999.000,9, -999.000,9, -999.000,9
           NA,    PR02, RY7896,  99,      20,      20,  2,19910128,0205,  11.0000,  136.9833,  6082, 1259.000,    3.308,   34.574,2, -999.000,9, -999.000,9,  101.000,2, -999.000,9,     38.9,2,     0.00,2,     2.72,2, -999.000,9, -999.000,9, -999.000,9, -999.000,9, -999.000,9
           NA,    PR02, RY7895,  99,       1,       1,  2,19910125,2149,  12.0000,  137.0000,  5104,    1.000,   26.842,   34.490,2, -999.000,9, -999.000,9,  203.000,2, -999.000,9,      0.1,2,     0.00,2,     0.05,2, -999.000,9, -999.000,9, -999.000,9, -999.000,9, -999.000,9
           NA,    PR02, RY7895,  99,       2,       2,  2,19910125,2149,  12.0000,  137.0000,  5104,   10.000,   26.844,   34.490,2, -999.000,9, -999.000,9,  204.000,2, -999.000,9,      0.0,2,     0.00,2,     0.05,2, -999.000,9, -999.000,9, -999.000,9, -999.000,9, -999.000,9
           NA,    PR02, RY7895,  99,       3,       3,  2,19910125,2149,  12.0000,  137.0000,  5104,   26.000,   26.847,   34.490,2, -999.000,9, -999.000,9,  203.000,2, -999.000,9,      0.0,2,     0.00,2,     0.05,2, -999.000,9, -999.000,9, -999.000,9, -999.000,9, -999.000,9
           NA,    PR02, RY7895,  99,       4,       4,  2,19910125,2149,  12.0000,  137.0000,  5104,   49.000,   26.848,   34.492,2, -999.000,9, -999.000,9,  203.000,2, -999.000,9,      0.0,2,     0.00,2,     0.05,2, -999.000,9, -999.000,9, -999.000,9, -999.000,9, -999.000,9
           NA,    PR02, RY7895,  99,       5,       5,  2,19910125,2149,  12.0000,  137.0000,  5104,   76.000,   25.395,   34.686,2, -999.000,9, -999.000,9,  202.000,2, -999.000,9,      0.1,2,     0.00,2,     0.08,2, -999.000,9, -999.000,9, -999.000,9, -999.000,9, -999.000,9
           NA,    PR02, RY7895,  99,       6,       6,  2,19910125,2149,  12.0000,  137.0000,  5104,  101.000,   23.618,   34.821,2, -999.000,9, -999.000,9,  187.000,2, -999.000,9,      0.8,2,     0.15,2,     0.20,2, -999.000,9, -999.000,9, -999.000,9, -999.000,9, -999.000,9
           NA,    PR02, RY7895,  99,       7,       7,  2,19910125,2149,  12.0000,  137.0000,  5104,  126.000,   22.799,   34.997,2, -999.000,9, -999.000,9,  176.000,2, -999.000,9,      1.5,2,     0.10,2,     0.29,2, -999.000,9, -999.000,9, -999.000,9, -999.000,9, -999.000,9
           NA,    PR02, RY7895,  99,       8,       8,  2,19910125,2149,  12.0000,  137.0000,  5104,  152.000,   19.233,   34.892,2, -999.000,9, -999.000,9,  170.000,2, -999.000,9,      4.4,2,     0.02,2,     0.45,2, -999.000,9, -999.000,9, -999.000,9, -999.000,9, -999.000,9
           NA,    PR02, RY7895,  99,       9,       9,  2,19910125,2149,  12.0000,  137.0000,  5104,  177.000,   17.833,   34.817,2, -999.000,9, -999.000,9,  170.000,2, -999.000,9,      6.0,2,     0.01,2,     0.58,2, -999.000,9, -999.000,9, -999.000,9, -999.000,9, -999.000,9
           NA,    PR02, RY7895,  99,      10,      10,  2,19910125,2149,  12.0000,  137.0000,  5104,  202.000,   15.775,   34.670,2, -999.000,9, -999.000,9,  173.000,2, -999.000,9,      8.1,2,     0.00,2,     0.68,2, -999.000,9, -999.000,9, -999.000,9, -999.000,9, -999.000,9
           NA,    PR02, RY7895,  99,      11,      11,  2,19910125,2149,  12.0000,  137.0000,  5104,  252.000,   11.796,   34.378,2, -999.000,9, -999.000,9,  169.000,2, -999.000,9,     14.8,2,     0.00,2,     1.21,2, -999.000,9, -999.000,9, -999.000,9, -999.000,9, -999.000,9
           NA,    PR02, RY7895,  99,      12,      12,  2,19910125,2149,  12.0000,  137.0000,  5104,  301.000,    9.585,   34.282,2, -999.000,9, -999.000,9,  131.000,2, -999.000,9,     22.3,2,     0.00,2,     1.76,2, -999.000,9, -999.000,9, -999.000,9, -999.000,9, -999.000,9
           NA,    PR02, RY7895,  99,      13,      13,  2,19910125,2149,  12.0000,  137.0000,  5104,  402.000,    7.930,   34.428,2, -999.000,9, -999.000,9,   68.000,2, -999.000,9,     32.0,2,     0.00,2,     2.40,2, -999.000,9, -999.000,9, -999.000,9, -999.000,9, -999.000,9
           NA,    PR02, RY7895,  99,      14,      14,  2,19910125,2149,  12.0000,  137.0000,  5104,  503.000,    6.625,   34.469,2, -999.000,9, -999.000,9,   71.000,2, -999.000,9,     34.5,2,     0.00,2,     2.59,2, -999.000,9, -999.000,9, -999.000,9, -999.000,9, -999.000,9
           NA,    PR02, RY7895,  99,      15,      15,  2,19910125,2149,  12.0000,  137.0000,  5104,  604.000,    6.095,   34.491,2, -999.000,9, -999.000,9,   78.000,2, -999.000,9,     36.2,2,     0.00,2,     2.65,2, -999.000,9, -999.000,9, -999.000,9, -999.000,9, -999.000,9
           NA,    PR02, RY7895,  99,      16,      16,  2,19910125,2149,  12.0000,  137.0000,  5104,  704.000,    5.474,   34.514,2, -999.000,9, -999.000,9,   84.000,2, -999.000,9,     37.1,2,     0.00,2,     2.70,2, -999.000,9, -999.000,9, -999.000,9, -999.000,9, -999.000,9
           NA,    PR02, RY7895,  99,      17,      17,  2,19910125,2149,  12.0000,  137.0000,  5104,  805.000,    4.963,   34.528,2, -999.000,9, -999.000,9,   84.000,2, -999.000,9,     37.8,2,     0.00,2,     2.72,2, -999.000,9, -999.000,9, -999.000,9, -999.000,9, -999.000,9
           NA,    PR02, RY7895,  99,      18,      18,  2,19910125,2149,  12.0000,  137.0000,  5104,  905.000,    4.553,   34.534,2, -999.000,9, -999.000,9,   87.000,2, -999.000,9,     38.3,2,     0.00,2,     2.73,2, -999.000,9, -999.000,9, -999.000,9, -999.000,9, -999.000,9
           NA,    PR02, RY7895,  99,      19,      19,  2,19910125,2149,  12.0000,  137.0000,  5104, 1008.000,    4.182,   34.546,2, -999.000,9, -999.000,9,   92.000,2, -999.000,9,     38.5,2,     0.00,2,     2.75,2, -999.000,9, -999.000,9, -999.000,9, -999.000,9, -999.000,9
           NA,    PR02, RY7895,  99,      20,      20,  2,19910125,2149,  12.0000,  137.0000,  5104, 1261.000,    3.314,   34.572,2, -999.000,9, -999.000,9,   97.000,2, -999.000,9,     38.8,2,     0.00,2,     2.74,2, -999.000,9, -999.000,9, -999.000,9, -999.000,9, -999.000,9