BOTTLE,20215502JOAExport
EXPOCODE,SECT_ID,STNNBR,CASTNO,SAMPNO,BTLNBR,BTLNBR_FLAG_W,DATE,TIME,LATITUDE,LONGITUDE,DEPTH,CTDPRS,CTDTMP,CTDSAL,CTDSAL_FLAG_W,SALNTY,SALNTY_FLAG_W,CTDOXY,CTDOXY_FLAG_W,OXYGEN,OXYGEN_FLAG_W,SILCAT,SILCAT_FLAG_W,NITRAT,NITRAT_FLAG_W,NITRIT,NITRIT_FLAG_W,PHSPHT,PHSPHT_FLAG_W,CFC-11,CFC-11_FLAG_W,CFC-12,CFC-12_FLAG_W,SF6,SF6_FLAG_W,TCARBN,TCARBN_FLAG_W,ALKALI,ALKALI_FLAG_W
,,,,,,,,,,,,DB,DEG C,PSS-78,,PSS-78,,UMOL/KG,,UMOL/KG,,UMOL/KG,,UMOL/KG,,UMOL/KG,,UMOL/KG,,PMOL/KG,,PMOL/KG,,FMOL/KG,,UMOL/KG,,UMOL/KG
           NA,    PR02, RY7885,  99,       1,       1,  2,19910123,0034,  21.9833,  137.0167,  4668,    3.000,   25.220,   34.635,2, -999.000,9, -999.000,9,  209.000,2, -999.000,9,      0.4,2,     0.00,2,     0.02,2, -999.000,9, -999.000,9, -999.000,9, -999.000,9, -999.000,9
           NA,    PR02, RY7885,  99,       2,       2,  2,19910123,0034,  21.9833,  137.0167,  4668,   11.000,   25.230,   34.635,2, -999.000,9, -999.000,9,  209.000,2, -999.000,9,      0.4,2,     0.00,2,     0.02,2, -999.000,9, -999.000,9, -999.000,9, -999.000,9, -999.000,9
           NA,    PR02, RY7885,  99,       3,       3,  2,19910123,0034,  21.9833,  137.0167,  4668,   26.000,   25.226,   34.636,2, -999.000,9, -999.000,9,  209.000,2, -999.000,9,      0.5,2,     0.00,2,     0.02,2, -999.000,9, -999.000,9, -999.000,9, -999.000,9, -999.000,9
           NA,    PR02, RY7885,  99,       4,       4,  2,19910123,0034,  21.9833,  137.0167,  4668,   51.000,   24.645,   34.745,2, -999.000,9, -999.000,9,  211.000,2, -999.000,9,      0.5,2,     0.00,2,     0.02,2, -999.000,9, -999.000,9, -999.000,9, -999.000,9, -999.000,9
           NA,    PR02, RY7885,  99,       5,       5,  2,19910123,0034,  21.9833,  137.0167,  4668,   75.000,   24.375,   34.793,2, -999.000,9, -999.000,9,  211.000,2, -999.000,9,      0.5,2,     0.00,2,     0.00,2, -999.000,9, -999.000,9, -999.000,9, -999.000,9, -999.000,9
           NA,    PR02, RY7885,  99,       6,       6,  2,19910123,0034,  21.9833,  137.0167,  4668,  101.000,   24.174,   34.857,2, -999.000,9, -999.000,9,  211.000,2, -999.000,9,      0.5,2,     0.00,2,     0.01,2, -999.000,9, -999.000,9, -999.000,9, -999.000,9, -999.000,9
           NA,    PR02, RY7885,  99,       7,       7,  2,19910123,0034,  21.9833,  137.0167,  4668,  125.000,   22.014,   34.961,2, -999.000,9, -999.000,9,  203.000,2, -999.000,9,      0.9,2,     0.08,2,     0.03,2, -999.000,9, -999.000,9, -999.000,9, -999.000,9, -999.000,9
           NA,    PR02, RY7885,  99,       8,       8,  2,19910123,0034,  21.9833,  137.0167,  4668,  151.000,   19.766,   34.918,2, -999.000,9, -999.000,9,  203.000,2, -999.000,9,      2.1,2,     0.02,2,     0.12,2, -999.000,9, -999.000,9, -999.000,9, -999.000,9, -999.000,9
           NA,    PR02, RY7885,  99,       9,       9,  2,19910123,0034,  21.9833,  137.0167,  4668,  176.000,   18.815,   34.898,2, -999.000,9, -999.000,9,  196.000,2, -999.000,9,      3.8,2,     0.00,2,     0.20,2, -999.000,9, -999.000,9, -999.000,9, -999.000,9, -999.000,9
           NA,    PR02, RY7885,  99,      10,      10,  2,19910123,0034,  21.9833,  137.0167,  4668,  200.000,   18.109,   34.852,2, -999.000,9, -999.000,9,  198.000,2, -999.000,9,      4.4,2,     0.01,2,     0.23,2, -999.000,9, -999.000,9, -999.000,9, -999.000,9, -999.000,9
           NA,    PR02, RY7885,  99,      11,      11,  2,19910123,0034,  21.9833,  137.0167,  4668,  251.000,   16.933,   34.776,2, -999.000,9, -999.000,9,  203.000,2, -999.000,9,      5.8,2,     0.00,2,     0.36,2, -999.000,9, -999.000,9, -999.000,9, -999.000,9, -999.000,9
           NA,    PR02, RY7885,  99,      12,      12,  2,19910123,0034,  21.9833,  137.0167,  4668,  298.000,   15.690,   34.683,2, -999.000,9, -999.000,9,  202.000,2, -999.000,9,      7.6,2,     0.01,2,     0.48,2, -999.000,9, -999.000,9, -999.000,9, -999.000,9, -999.000,9
           NA,    PR02, RY7885,  99,      13,      13,  2,19910123,0034,  21.9833,  137.0167,  4668,  403.000,   13.481,   34.511,2, -999.000,9, -999.000,9,  196.000,2, -999.000,9,     11.7,2,     0.00,2,     0.81,2, -999.000,9, -999.000,9, -999.000,9, -999.000,9, -999.000,9
           NA,    PR02, RY7885,  99,      14,      14,  2,19910123,0034,  21.9833,  137.0167,  4668,  503.000,   10.618,   34.289,2, -999.000,9, -999.000,9,  176.000,2, -999.000,9,     18.3,2,     0.00,2,     1.39,2, -999.000,9, -999.000,9, -999.000,9, -999.000,9, -999.000,9
           NA,    PR02, RY7885,  99,      15,      15,  2,19910123,0034,  21.9833,  137.0167,  4668,  603.000,    8.344,   34.186,2, -999.000,9, -999.000,9,  142.000,2, -999.000,9,     26.4,2,     0.00,2,     2.02,2, -999.000,9, -999.000,9, -999.000,9, -999.000,9, -999.000,9
           NA,    PR02, RY7885,  99,      16,      16,  2,19910123,0034,  21.9833,  137.0167,  4668,  705.000,    6.122,   34.187,2, -999.000,9, -999.000,9,   91.000,2, -999.000,9,     34.6,2,     0.00,2,     2.62,2, -999.000,9, -999.000,9, -999.000,9, -999.000,9, -999.000,9
           NA,    PR02, RY7885,  99,      17,      17,  2,19910123,0034,  21.9833,  137.0167,  4668,  805.000,    5.119,   34.230,2, -999.000,9, -999.000,9,   68.000,2, -999.000,9,     38.9,2,     0.00,2,     2.93,2, -999.000,9, -999.000,9, -999.000,9, -999.000,9, -999.000,9
           NA,    PR02, RY7885,  99,      18,      18,  2,19910123,0034,  21.9833,  137.0167,  4668,  906.000,    4.380,   34.302,2, -999.000,9, -999.000,9,   63.000,2, -999.000,9,     40.9,2,     0.00,2,     3.02,2, -999.000,9, -999.000,9, -999.000,9, -999.000,9, -999.000,9
           NA,    PR02, RY7885,  99,      19,      19,  2,19910123,0034,  21.9833,  137.0167,  4668, 1007.000,    3.823,   34.380,2, -999.000,9, -999.000,9,   61.000,2, -999.000,9,     41.7,2,     0.00,2,     3.09,2, -999.000,9, -999.000,9, -999.000,9, -999.000,9, -999.000,9
           NA,    PR02, RY7885,  99,      20,      20,  2,19910123,0034,  21.9833,  137.0167,  4668, 1259.000,    3.016,   34.489,2, -999.000,9, -999.000,9,   74.000,2, -999.000,9,     41.8,2,     0.00,2,     3.06,2, -999.000,9, -999.000,9, -999.000,9, -999.000,9, -999.000,9
           NA,    PR02, RY7884,  99,       1,       1,  2,19910122,1819,  22.9833,  137.0167,  2920,    0.000,   24.358,   34.802,2, -999.000,9, -999.000,9,  212.000,2, -999.000,9,      0.2,2,     0.00,2,     0.00,2, -999.000,9, -999.000,9, -999.000,9, -999.000,9, -999.000,9
           NA,    PR02, RY7884,  99,       2,       2,  2,19910122,1819,  22.9833,  137.0167,  2920,    9.000,   24.370,   34.801,2, -999.000,9, -999.000,9,  213.000,2, -999.000,9,      0.3,2,     0.00,2,     0.00,2, -999.000,9, -999.000,9, -999.000,9, -999.000,9, -999.000,9
           NA,    PR02, RY7884,  99,       3,       3,  2,19910122,1819,  22.9833,  137.0167,  2920,   25.000,   24.375,   34.806,2, -999.000,9, -999.000,9,  213.000,2, -999.000,9,      0.3,2,     0.00,2,     0.02,2, -999.000,9, -999.000,9, -999.000,9, -999.000,9, -999.000,9
           NA,    PR02, RY7884,  99,       4,       4,  2,19910122,1819,  22.9833,  137.0167,  2920,   50.000,   24.186,   34.818,2, -999.000,9, -999.000,9,  213.000,2, -999.000,9,      0.4,2,     0.00,2,     0.00,2, -999.000,9, -999.000,9, -999.000,9, -999.000,9, -999.000,9
           NA,    PR02, RY7884,  99,       5,       5,  2,19910122,1819,  22.9833,  137.0167,  2920,   75.000,   23.811,   34.892,2, -999.000,9, -999.000,9,  212.000,2, -999.000,9,      0.4,2,     0.00,2,     0.00,2, -999.000,9, -999.000,9, -999.000,9, -999.000,9, -999.000,9
           NA,    PR02, RY7884,  99,       6,       6,  2,19910122,1819,  22.9833,  137.0167,  2920,   99.000,   22.450,   34.977,2, -999.000,9, -999.000,9,  204.000,2, -999.000,9,      0.7,2,     0.04,2,     0.00,2, -999.000,9, -999.000,9, -999.000,9, -999.000,9, -999.000,9
           NA,    PR02, RY7884,  99,       7,       7,  2,19910122,1819,  22.9833,  137.0167,  2920,  125.000,   20.269,   34.960,2, -999.000,9, -999.000,9,  203.000,2, -999.000,9,      1.4,2,     0.03,2,     0.01,2, -999.000,9, -999.000,9, -999.000,9, -999.000,9, -999.000,9
           NA,    PR02, RY7884,  99,       8,       8,  2,19910122,1819,  22.9833,  137.0167,  2920,  150.000,   19.430,   34.933,2, -999.000,9, -999.000,9,  200.000,2, -999.000,9,      2.2,2,     0.00,2,     0.03,2, -999.000,9, -999.000,9, -999.000,9, -999.000,9, -999.000,9
           NA,    PR02, RY7884,  99,       9,       9,  2,19910122,1819,  22.9833,  137.0167,  2920,  176.000,   18.428,   34.871,2, -999.000,9, -999.000,9,  202.000,2, -999.000,9,      3.3,2,     0.02,2,     0.03,2, -999.000,9, -999.000,9, -999.000,9, -999.000,9, -999.000,9
           NA,    PR02, RY7884,  99,      10,      10,  2,19910122,1819,  22.9833,  137.0167,  2920,  201.000,   17.679,   34.824,2, -999.000,9, -999.000,9,  204.000,2, -999.000,9,      4.0,2,     0.01,2,     0.09,2, -999.000,9, -999.000,9, -999.000,9, -999.000,9, -999.000,9
           NA,    PR02, RY7884,  99,      11,      11,  2,19910122,1819,  22.9833,  137.0167,  2920,  252.000,   16.865,   34.768,2, -999.000,9, -999.000,9,  208.000,2, -999.000,9,      5.1,2,     0.00,2,     0.24,2, -999.000,9, -999.000,9, -999.000,9, -999.000,9, -999.000,9
           NA,    PR02, RY7884,  99,      12,      12,  2,19910122,1819,  22.9833,  137.0167,  2920,  302.000,   16.103,   34.714,2, -999.000,9, -999.000,9,  203.000,2, -999.000,9,      6.5,2,     0.00,2,     0.23,2, -999.000,9, -999.000,9, -999.000,9, -999.000,9, -999.000,9
           NA,    PR02, RY7884,  99,      13,      13,  2,19910122,1819,  22.9833,  137.0167,  2920,  403.000,   13.808,   34.530,2, -999.000,9, -999.000,9,  199.000,2, -999.000,9,      9.8,2,     0.00,2,     0.51,2, -999.000,9, -999.000,9, -999.000,9, -999.000,9, -999.000,9
           NA,    PR02, RY7884,  99,      14,      14,  2,19910122,1819,  22.9833,  137.0167,  2920,  504.000,   11.435,   34.342,2, -999.000,9, -999.000,9,  195.000,2, -999.000,9,     14.8,2,     0.00,2,     1.10,2, -999.000,9, -999.000,9, -999.000,9, -999.000,9, -999.000,9
           NA,    PR02, RY7884,  99,      15,      15,  2,19910122,1819,  22.9833,  137.0167,  2920,  604.000,    8.159,   34.128,2, -999.000,9, -999.000,9,  166.000,2, -999.000,9,     23.5,2,     0.00,2,     1.72,2, -999.000,9, -999.000,9, -999.000,9, -999.000,9, -999.000,9
           NA,    PR02, RY7884,  99,      16,      16,  2,19910122,1819,  22.9833,  137.0167,  2920,  703.000,    6.427,   34.183,2, -999.000,9, -999.000,9,   99.000,2, -999.000,9,     33.5,2,     0.00,2,     2.38,2, -999.000,9, -999.000,9, -999.000,9, -999.000,9, -999.000,9
           NA,    PR02, RY7884,  99,      17,      17,  2,19910122,1819,  22.9833,  137.0167,  2920,  805.000,    5.029,   34.206,2, -999.000,9, -999.000,9,   78.000,2, -999.000,9,     38.0,2,     0.00,2,     2.89,2, -999.000,9, -999.000,9, -999.000,9, -999.000,9, -999.000,9
           NA,    PR02, RY7884,  99,      18,      18,  2,19910122,1819,  22.9833,  137.0167,  2920,  906.000,    4.535,   34.317,2, -999.000,9, -999.000,9,   62.000,2, -999.000,9,     40.1,2,     0.00,2,     2.79,2, -999.000,9, -999.000,9, -999.000,9, -999.000,9, -999.000,9
           NA,    PR02, RY7884,  99,      19,      19,  2,19910122,1819,  22.9833,  137.0167,  2920, 1008.000,    3.888,   34.368,2, -999.000,9, -999.000,9,   59.000,2, -999.000,9,     41.5,2,     0.00,2,     2.99,2, -999.000,9, -999.000,9, -999.000,9, -999.000,9, -999.000,9
           NA,    PR02, RY7884,  99,      20,      20,  2,19910122,1819,  22.9833,  137.0167,  2920, 1260.000,    2.993,   34.470,2, -999.000,9, -999.000,9,   68.000,2, -999.000,9,     42.2,2,     0.00,2,     2.93,2, -999.000,9, -999.000,9, -999.000,9, -999.000,9, -999.000,9
           NA,    PR02, RY7883,  99,       1,       1,  2,19910122,1212,  24.0000,  137.0000,  3888,    2.000,   22.838,   34.889,2,   34.887,2, -999.000,9,  218.000,2, -999.000,9,      0.0,2,     0.00,2,     0.01,2, -999.000,9, -999.000,9, -999.000,9, -999.000,9, -999.000,9
           NA,    PR02, RY7883,  99,       2,       2,  2,19910122,1212,  24.0000,  137.0000,  3888,   10.000,   22.834,   34.889,2,   34.890,2, -999.000,9,  218.000,2, -999.000,9,      0.2,2,     0.00,2,     0.02,2, -999.000,9, -999.000,9, -999.000,9, -999.000,9, -999.000,9
           NA,    PR02, RY7883,  99,       3,       3,  2,19910122,1212,  24.0000,  137.0000,  3888,   25.000,   22.804,   34.892,2,   34.890,2, -999.000,9,  218.000,2, -999.000,9,      0.1,2,     0.00,2,     0.03,2, -999.000,9, -999.000,9, -999.000,9, -999.000,9, -999.000,9
           NA,    PR02, RY7883,  99,       4,       4,  2,19910122,1212,  24.0000,  137.0000,  3888,   50.000,   22.125,   34.940,2,   34.938,2, -999.000,9,  219.000,2, -999.000,9,      0.2,2,     0.00,2,     0.03,2, -999.000,9, -999.000,9, -999.000,9, -999.000,9, -999.000,9
           NA,    PR02, RY7883,  99,       5,       5,  2,19910122,1212,  24.0000,  137.0000,  3888,   75.000,   22.006,   34.947,2,   34.946,2, -999.000,9,  219.000,2, -999.000,9,      0.2,2,     0.00,2,     0.02,2, -999.000,9, -999.000,9, -999.000,9, -999.000,9, -999.000,9
           NA,    PR02, RY7883,  99,       6,       6,  2,19910122,1212,  24.0000,  137.0000,  3888,  101.000,   21.962,   34.955,2,   34.955,2, -999.000,9,  220.000,2, -999.000,9,      0.1,2,     0.00,2,     0.02,2, -999.000,9, -999.000,9, -999.000,9, -999.000,9, -999.000,9
           NA,    PR02, RY7883,  99,       7,       7,  2,19910122,1212,  24.0000,  137.0000,  3888,  126.000,   20.848,   34.916,2,   34.898,2, -999.000,9,  213.000,2, -999.000,9,      0.9,2,     0.06,2,     0.05,2, -999.000,9, -999.000,9, -999.000,9, -999.000,9, -999.000,9
           NA,    PR02, RY7883,  99,       8,       8,  2,19910122,1212,  24.0000,  137.0000,  3888,  151.000,   18.504,   34.843,2,   34.843,2, -999.000,9,  208.000,2, -999.000,9,      2.7,2,     0.02,2,     0.19,2, -999.000,9, -999.000,9, -999.000,9, -999.000,9, -999.000,9
           NA,    PR02, RY7883,  99,       9,       9,  2,19910122,1212,  24.0000,  137.0000,  3888,  175.000,   17.960,   34.811,2,   34.809,2, -999.000,9,  212.000,2, -999.000,9,      3.2,2,     0.01,2,     0.23,2, -999.000,9, -999.000,9, -999.000,9, -999.000,9, -999.000,9
           NA,    PR02, RY7883,  99,      10,      10,  2,19910122,1212,  24.0000,  137.0000,  3888,  202.000,   17.683,   34.798,2,   34.797,2, -999.000,9,  213.000,2, -999.000,9,      3.6,2,     0.01,2,     0.17,2, -999.000,9, -999.000,9, -999.000,9, -999.000,9, -999.000,9
           NA,    PR02, RY7883,  99,      11,      11,  2,19910122,1212,  24.0000,  137.0000,  3888,  251.000,   17.118,   34.777,2,   34.775,2, -999.000,9,  212.000,2, -999.000,9,      4.5,2,     0.00,2,     0.24,2, -999.000,9, -999.000,9, -999.000,9, -999.000,9, -999.000,9
           NA,    PR02, RY7883,  99,      12,      12,  2,19910122,1212,  24.0000,  137.0000,  3888,  301.000,   16.273,   34.725,2,   34.726,2, -999.000,9,  203.000,2, -999.000,9,      6.7,2,     0.01,2,     0.25,2, -999.000,9, -999.000,9, -999.000,9, -999.000,9, -999.000,9
           NA,    PR02, RY7883,  99,      13,      13,  2,19910122,1212,  24.0000,  137.0000,  3888,  404.000,   14.540,   34.600,2,   34.589,2, -999.000,9,  195.000,2, -999.000,9,     10.6,2,     0.00,2,     0.73,2, -999.000,9, -999.000,9, -999.000,9, -999.000,9, -999.000,9
           NA,    PR02, RY7883,  99,      14,      14,  2,19910122,1212,  24.0000,  137.0000,  3888,  504.000,   11.801,   34.389,2,   34.382,2, -999.000,9,  192.000,2, -999.000,9,     15.7,2,     0.00,2,     1.09,2, -999.000,9, -999.000,9, -999.000,9, -999.000,9, -999.000,9
           NA,    PR02, RY7883,  99,      15,      15,  2,19910122,1212,  24.0000,  137.0000,  3888,  604.000,    8.657,   34.202,2,   34.203,2, -999.000,9,  160.000,2, -999.000,9,     24.1,2,     0.00,2,     1.75,2, -999.000,9, -999.000,9, -999.000,9, -999.000,9, -999.000,9
           NA,    PR02, RY7883,  99,      16,      16,  2,19910122,1212,  24.0000,  137.0000,  3888,  705.000,    6.343,   34.122,2,   34.123,2, -999.000,9,  122.000,2, -999.000,9,     31.7,2,     0.00,2,     2.28,2, -999.000,9, -999.000,9, -999.000,9, -999.000,9, -999.000,9
           NA,    PR02, RY7883,  99,      17,      17,  2,19910122,1212,  24.0000,  137.0000,  3888,  806.000,    5.017,   34.177,2,   34.178,2, -999.000,9,   88.000,2, -999.000,9,     36.9,2,     0.00,2,     2.67,2, -999.000,9, -999.000,9, -999.000,9, -999.000,9, -999.000,9
           NA,    PR02, RY7883,  99,      18,      18,  2,19910122,1212,  24.0000,  137.0000,  3888,  907.000,    4.298,   34.251,2,   34.250,2, -999.000,9,   67.000,2, -999.000,9,     39.4,2,     0.00,2,     2.86,2, -999.000,9, -999.000,9, -999.000,9, -999.000,9, -999.000,9
           NA,    PR02, RY7883,  99,      19,      19,  2,19910122,1212,  24.0000,  137.0000,  3888, 1007.000,    3.803,   34.331,2,   34.336,2, -999.000,9,   60.000,2, -999.000,9,     40.3,2,     0.00,2,     2.93,2, -999.000,9, -999.000,9, -999.000,9, -999.000,9, -999.000,9
           NA,    PR02, RY7883,  99,      20,      20,  2,19910122,1212,  24.0000,  137.0000,  3888, 1261.000,    2.938,   34.457,2,   34.454,2, -999.000,9,   65.000,2, -999.000,9,     41.0,2,     0.00,2,     2.96,2, -999.000,9, -999.000,9, -999.000,9, -999.000,9, -999.000,9