BOTTLE,20215502JOAExport
EXPOCODE,SECT_ID,STNNBR,CASTNO,SAMPNO,BTLNBR,BTLNBR_FLAG_W,DATE,TIME,LATITUDE,LONGITUDE,DEPTH,CTDPRS,CTDTMP,CTDSAL,CTDSAL_FLAG_W,SALNTY,SALNTY_FLAG_W,CTDOXY,CTDOXY_FLAG_W,OXYGEN,OXYGEN_FLAG_W,SILCAT,SILCAT_FLAG_W,NITRAT,NITRAT_FLAG_W,NITRIT,NITRIT_FLAG_W,PHSPHT,PHSPHT_FLAG_W,CFC-11,CFC-11_FLAG_W,CFC-12,CFC-12_FLAG_W,SF6,SF6_FLAG_W,TCARBN,TCARBN_FLAG_W,ALKALI,ALKALI_FLAG_W
,,,,,,,,,,,,DB,DEG C,PSS-78,,PSS-78,,UMOL/KG,,UMOL/KG,,UMOL/KG,,UMOL/KG,,UMOL/KG,,UMOL/KG,,PMOL/KG,,PMOL/KG,,FMOL/KG,,UMOL/KG,,UMOL/KG
           NA,    PR02, RY7879,  99,       1,       1,  2,19910121,0714,  28.0167,  137.0000,  4183,    3.000,   20.087,   34.820,2, -999.000,9, -999.000,9,  226.000,2, -999.000,9,      0.6,2,     0.21,2,     0.05,2, -999.000,9, -999.000,9, -999.000,9, -999.000,9, -999.000,9
           NA,    PR02, RY7879,  99,       2,       2,  2,19910121,0714,  28.0167,  137.0000,  4183,   10.000,   20.089,   34.821,2, -999.000,9, -999.000,9,  225.000,2, -999.000,9,      0.7,2,     0.22,2,     0.04,2, -999.000,9, -999.000,9, -999.000,9, -999.000,9, -999.000,9
           NA,    PR02, RY7879,  99,       3,       3,  2,19910121,0714,  28.0167,  137.0000,  4183,   24.000,   20.088,   34.821,2, -999.000,9, -999.000,9,  226.000,2, -999.000,9,      0.7,2,     0.21,2,     0.05,2, -999.000,9, -999.000,9, -999.000,9, -999.000,9, -999.000,9
           NA,    PR02, RY7879,  99,       4,       4,  2,19910121,0714,  28.0167,  137.0000,  4183,   51.000,   20.071,   34.818,2, -999.000,9, -999.000,9,  226.000,2, -999.000,9,      0.8,2,     0.22,2,     0.03,2, -999.000,9, -999.000,9, -999.000,9, -999.000,9, -999.000,9
           NA,    PR02, RY7879,  99,       5,       5,  2,19910121,0714,  28.0167,  137.0000,  4183,   74.000,   20.073,   34.818,2, -999.000,9, -999.000,9,  226.000,2, -999.000,9,      0.8,2,     0.23,2,     0.04,2, -999.000,9, -999.000,9, -999.000,9, -999.000,9, -999.000,9
           NA,    PR02, RY7879,  99,       6,       6,  2,19910121,0714,  28.0167,  137.0000,  4183,  100.000,   20.074,   34.818,2, -999.000,9, -999.000,9,  225.000,2, -999.000,9,      0.8,2,     0.23,2,     0.01,2, -999.000,9, -999.000,9, -999.000,9, -999.000,9, -999.000,9
           NA,    PR02, RY7879,  99,       7,       7,  2,19910121,0714,  28.0167,  137.0000,  4183,  127.000,   20.079,   34.818,2, -999.000,9, -999.000,9,  224.000,2, -999.000,9,      0.8,2,     0.23,2,     0.02,2, -999.000,9, -999.000,9, -999.000,9, -999.000,9, -999.000,9
           NA,    PR02, RY7879,  99,       8,       8,  2,19910121,0714,  28.0167,  137.0000,  4183,  151.000,   19.775,   34.824,2, -999.000,9, -999.000,9,  211.000,2, -999.000,9,      2.0,2,     0.10,2,     0.05,2, -999.000,9, -999.000,9, -999.000,9, -999.000,9, -999.000,9
           NA,    PR02, RY7879,  99,       9,       9,  2,19910121,0714,  28.0167,  137.0000,  4183,  177.000,   18.836,   34.827,2, -999.000,9, -999.000,9,  200.000,2, -999.000,9,      4.0,2,     0.00,2,     0.12,2, -999.000,9, -999.000,9, -999.000,9, -999.000,9, -999.000,9
           NA,    PR02, RY7879,  99,      10,      10,  2,19910121,0714,  28.0167,  137.0000,  4183,  202.000,   18.023,   34.800,2, -999.000,9, -999.000,9,  195.000,2, -999.000,9,      5.5,2,     0.00,2,     0.18,2, -999.000,9, -999.000,9, -999.000,9, -999.000,9, -999.000,9
           NA,    PR02, RY7879,  99,      11,      11,  2,19910121,0714,  28.0167,  137.0000,  4183,  250.000,   17.383,   34.781,2, -999.000,9, -999.000,9,  209.000,2, -999.000,9,      4.5,2,     0.00,2,     0.15,2, -999.000,9, -999.000,9, -999.000,9, -999.000,9, -999.000,9
           NA,    PR02, RY7879,  99,      12,      12,  2,19910121,0714,  28.0167,  137.0000,  4183,  301.000,   16.607,   34.739,2, -999.000,9, -999.000,9,  194.000,2, -999.000,9,      7.2,2,     0.00,2,     0.23,2, -999.000,9, -999.000,9, -999.000,9, -999.000,9, -999.000,9
           NA,    PR02, RY7879,  99,      13,      13,  2,19910121,0714,  28.0167,  137.0000,  4183,  402.000,   14.681,   34.606,2, -999.000,9, -999.000,9,  185.000,2, -999.000,9,     11.4,2,     0.01,2,     0.67,2, -999.000,9, -999.000,9, -999.000,9, -999.000,9, -999.000,9
           NA,    PR02, RY7879,  99,      14,      14,  2,19910121,0714,  28.0167,  137.0000,  4183,  503.000,   12.101,   34.431,2, -999.000,9, -999.000,9,  173.000,2, -999.000,9,     17.0,2,     0.01,2,     1.13,2, -999.000,9, -999.000,9, -999.000,9, -999.000,9, -999.000,9
           NA,    PR02, RY7879,  99,      15,      15,  2,19910121,0714,  28.0167,  137.0000,  4183,  603.000,    9.170,   34.249,2, -999.000,9, -999.000,9,  157.000,2, -999.000,9,   -999.0,5,  -999.00,5,  -999.00,5, -999.000,9, -999.000,9, -999.000,9, -999.000,9, -999.000,9
           NA,    PR02, RY7879,  99,      16,      16,  2,19910121,0714,  28.0167,  137.0000,  4183,  705.000,    6.868,   34.195,2, -999.000,9, -999.000,9,  120.000,2, -999.000,9,     31.1,2,     0.00,2,     2.19,2, -999.000,9, -999.000,9, -999.000,9, -999.000,9, -999.000,9
           NA,    PR02, RY7879,  99,      17,      17,  2,19910121,0714,  28.0167,  137.0000,  4183,  805.000,    5.452,   34.212,2, -999.000,9, -999.000,9,   91.000,2, -999.000,9,     36.3,2,     0.00,2,     2.54,2, -999.000,9, -999.000,9, -999.000,9, -999.000,9, -999.000,9
           NA,    PR02, RY7879,  99,      18,      18,  2,19910121,0714,  28.0167,  137.0000,  4183,  907.000,    4.713,   34.283,2, -999.000,9, -999.000,9,   76.000,2, -999.000,9,     38.9,2,     0.00,2,     2.75,2, -999.000,9, -999.000,9, -999.000,9, -999.000,9, -999.000,9
           NA,    PR02, RY7879,  99,      19,      19,  2,19910121,0714,  28.0167,  137.0000,  4183, 1008.000,    4.068,   34.339,2, -999.000,9, -999.000,9,   67.000,2, -999.000,9,     40.2,2,     0.00,2,     2.88,2, -999.000,9, -999.000,9, -999.000,9, -999.000,9, -999.000,9
           NA,    PR02, RY7879,  99,      20,      20,  2,19910121,0714,  28.0167,  137.0000,  4183, 1261.000,    3.248,   34.452,2, -999.000,9, -999.000,9,   71.000,2, -999.000,9,     40.6,2,     0.00,2,     2.90,2, -999.000,9, -999.000,9, -999.000,9, -999.000,9, -999.000,9
           NA,    PR02, RY7878,  99,       1,       1,  2,19910120,2359,  29.0000,  136.9667,  4632,    3.000,   20.021,   34.838,2, -999.000,9, -999.000,9,  223.000,2, -999.000,9,      0.4,2,     0.15,2,     0.01,2, -999.000,9, -999.000,9, -999.000,9, -999.000,9, -999.000,9
           NA,    PR02, RY7878,  99,       2,       2,  2,19910120,2359,  29.0000,  136.9667,  4632,   11.000,   20.018,   34.838,2, -999.000,9, -999.000,9,  224.000,2, -999.000,9,      0.4,2,     0.14,2,     0.00,2, -999.000,9, -999.000,9, -999.000,9, -999.000,9, -999.000,9
           NA,    PR02, RY7878,  99,       3,       3,  2,19910120,2359,  29.0000,  136.9667,  4632,   24.000,   20.023,   34.837,2, -999.000,9, -999.000,9,  224.000,2, -999.000,9,      0.4,2,     0.14,2,     0.00,2, -999.000,9, -999.000,9, -999.000,9, -999.000,9, -999.000,9
           NA,    PR02, RY7878,  99,       4,       4,  2,19910120,2359,  29.0000,  136.9667,  4632,   50.000,   20.029,   34.837,2, -999.000,9, -999.000,9,  223.000,2, -999.000,9,      0.5,2,     0.21,2,     0.00,2, -999.000,9, -999.000,9, -999.000,9, -999.000,9, -999.000,9
           NA,    PR02, RY7878,  99,       5,       5,  2,19910120,2359,  29.0000,  136.9667,  4632,   75.000,   20.030,   34.838,2, -999.000,9, -999.000,9,  223.000,2, -999.000,9,      0.5,2,     0.12,2,     0.00,2, -999.000,9, -999.000,9, -999.000,9, -999.000,9, -999.000,9
           NA,    PR02, RY7878,  99,       6,       6,  2,19910120,2359,  29.0000,  136.9667,  4632,  102.000,   20.034,   34.838,2, -999.000,9, -999.000,9,  223.000,2, -999.000,9,      0.4,2,     0.14,2,     0.00,2, -999.000,9, -999.000,9, -999.000,9, -999.000,9, -999.000,9
           NA,    PR02, RY7878,  99,       7,       7,  2,19910120,2359,  29.0000,  136.9667,  4632,  126.000,   20.036,   34.838,2, -999.000,9, -999.000,9,  223.000,2, -999.000,9,      0.6,2,     0.15,2,     0.00,2, -999.000,9, -999.000,9, -999.000,9, -999.000,9, -999.000,9
           NA,    PR02, RY7878,  99,       8,       8,  2,19910120,2359,  29.0000,  136.9667,  4632,  149.000,   20.030,   34.838,2, -999.000,9, -999.000,9,  221.000,2, -999.000,9,      0.6,2,     0.17,2,     0.02,2, -999.000,9, -999.000,9, -999.000,9, -999.000,9, -999.000,9
           NA,    PR02, RY7878,  99,       9,       9,  2,19910120,2359,  29.0000,  136.9667,  4632,  176.000,   19.963,   34.832,2, -999.000,9, -999.000,9,  221.000,2, -999.000,9,      0.7,2,     0.23,2,     0.01,2, -999.000,9, -999.000,9, -999.000,9, -999.000,9, -999.000,9
           NA,    PR02, RY7878,  99,      10,      10,  2,19910120,2359,  29.0000,  136.9667,  4632,  201.000,   19.521,   34.825,2, -999.000,9, -999.000,9,  211.000,2, -999.000,9,      1.7,2,     0.09,2,     0.00,2, -999.000,9, -999.000,9, -999.000,9, -999.000,9, -999.000,9
           NA,    PR02, RY7878,  99,      11,      11,  2,19910120,2359,  29.0000,  136.9667,  4632,  250.000,   18.232,   34.802,2, -999.000,9, -999.000,9,  196.000,2, -999.000,9,      4.0,2,     0.00,2,     0.06,2, -999.000,9, -999.000,9, -999.000,9, -999.000,9, -999.000,9
           NA,    PR02, RY7878,  99,      12,      12,  2,19910120,2359,  29.0000,  136.9667,  4632,  301.000,   17.102,   34.743,2, -999.000,9, -999.000,9,  193.000,2, -999.000,9,      5.9,2,     0.00,2,     0.05,2, -999.000,9, -999.000,9, -999.000,9, -999.000,9, -999.000,9
           NA,    PR02, RY7878,  99,      13,      13,  2,19910120,2359,  29.0000,  136.9667,  4632,  402.000,   15.182,   34.643,2, -999.000,9, -999.000,9,  193.000,2, -999.000,9,      8.5,2,     0.00,2,     0.39,2, -999.000,9, -999.000,9, -999.000,9, -999.000,9, -999.000,9
           NA,    PR02, RY7878,  99,      14,      14,  2,19910120,2359,  29.0000,  136.9667,  4632,  503.000,   12.304,   34.449,2, -999.000,9, -999.000,9,  177.000,2, -999.000,9,     14.5,2,     0.00,2,     0.91,2, -999.000,9, -999.000,9, -999.000,9, -999.000,9, -999.000,9
           NA,    PR02, RY7878,  99,      15,      15,  2,19910120,2359,  29.0000,  136.9667,  4632,  603.000,    9.449,   34.286,2, -999.000,9, -999.000,9,  153.000,2, -999.000,9,     22.1,2,     0.00,2,     1.34,2, -999.000,9, -999.000,9, -999.000,9, -999.000,9, -999.000,9
           NA,    PR02, RY7878,  99,      16,      16,  2,19910120,2359,  29.0000,  136.9667,  4632,  704.000,    7.505,   34.209,2, -999.000,9, -999.000,9,  132.000,2, -999.000,9,     27.5,2,     0.00,2,     1.75,2, -999.000,9, -999.000,9, -999.000,9, -999.000,9, -999.000,9
           NA,    PR02, RY7878,  99,      17,      17,  2,19910120,2359,  29.0000,  136.9667,  4632,  805.000,    5.650,   34.183,2, -999.000,9, -999.000,9,  104.000,2, -999.000,9,     33.2,2,     0.00,2,     2.31,2, -999.000,9, -999.000,9, -999.000,9, -999.000,9, -999.000,9
           NA,    PR02, RY7878,  99,      18,      18,  2,19910120,2359,  29.0000,  136.9667,  4632,  907.000,    4.738,   34.285,2, -999.000,9, -999.000,9,   78.000,2, -999.000,9,     37.0,2,     0.00,2,     2.59,2, -999.000,9, -999.000,9, -999.000,9, -999.000,9, -999.000,9
           NA,    PR02, RY7878,  99,      19,      19,  2,19910120,2359,  29.0000,  136.9667,  4632, 1007.000,    4.006,   34.332,2, -999.000,9, -999.000,9,   68.000,2, -999.000,9,     39.4,2,     0.00,2,     2.68,2, -999.000,9, -999.000,9, -999.000,9, -999.000,9, -999.000,9
           NA,    PR02, RY7878,  99,      20,      20,  2,19910120,2359,  29.0000,  136.9667,  4632, 1260.000,    3.010,   34.448,2, -999.000,9, -999.000,9,   65.000,2, -999.000,9,     41.5,2,     0.00,2,     2.74,2, -999.000,9, -999.000,9, -999.000,9, -999.000,9, -999.000,9
           NA,    PR02, RY7877,  99,       1,       1,  2,19910120,1524,  30.0333,  136.9333,  4356,    2.000,   20.056,   34.837,2,   34.845,2, -999.000,9,  224.000,2, -999.000,9,      1.2,2,     0.23,2,     0.07,2, -999.000,9, -999.000,9, -999.000,9, -999.000,9, -999.000,9
           NA,    PR02, RY7877,  99,       2,       2,  2,19910120,1524,  30.0333,  136.9333,  4356,   10.000,   20.061,   34.837,2,   34.840,2, -999.000,9,  224.000,2, -999.000,9,      1.1,2,     0.22,2,     0.06,2, -999.000,9, -999.000,9, -999.000,9, -999.000,9, -999.000,9
           NA,    PR02, RY7877,  99,       3,       3,  2,19910120,1524,  30.0333,  136.9333,  4356,   25.000,   20.067,   34.837,2,   34.839,2, -999.000,9,  225.000,2, -999.000,9,      1.2,2,     0.20,2,     0.07,2, -999.000,9, -999.000,9, -999.000,9, -999.000,9, -999.000,9
           NA,    PR02, RY7877,  99,       4,       4,  2,19910120,1524,  30.0333,  136.9333,  4356,   50.000,   20.058,   34.838,2,   34.843,2, -999.000,9,  226.000,2, -999.000,9,      1.2,2,     0.21,2,     0.05,2, -999.000,9, -999.000,9, -999.000,9, -999.000,9, -999.000,9
           NA,    PR02, RY7877,  99,       5,       5,  2,19910120,1524,  30.0333,  136.9333,  4356,   74.000,   20.065,   34.838,2,   34.841,2, -999.000,9,  223.000,2, -999.000,9,      1.2,2,     0.23,2,     0.03,2, -999.000,9, -999.000,9, -999.000,9, -999.000,9, -999.000,9
           NA,    PR02, RY7877,  99,       6,       6,  2,19910120,1524,  30.0333,  136.9333,  4356,  100.000,   20.073,   34.838,2,   34.838,2, -999.000,9,  224.000,2, -999.000,9,      1.2,2,     0.24,2,     0.06,2, -999.000,9, -999.000,9, -999.000,9, -999.000,9, -999.000,9
           NA,    PR02, RY7877,  99,       7,       7,  2,19910120,1524,  30.0333,  136.9333,  4356,  126.000,   20.076,   34.839,2,   34.839,2, -999.000,9,  225.000,2, -999.000,9,      1.1,2,     0.23,2,     0.05,2, -999.000,9, -999.000,9, -999.000,9, -999.000,9, -999.000,9
           NA,    PR02, RY7877,  99,       8,       8,  2,19910120,1524,  30.0333,  136.9333,  4356,  151.000,   20.083,   34.838,2,   34.839,2, -999.000,9,  223.000,2, -999.000,9,      1.2,2,     0.23,2,     0.05,2, -999.000,9, -999.000,9, -999.000,9, -999.000,9, -999.000,9
           NA,    PR02, RY7877,  99,       9,       9,  2,19910120,1524,  30.0333,  136.9333,  4356,  176.000,   20.022,   34.839,2,   34.839,2, -999.000,9,  221.000,2, -999.000,9,      1.4,2,     0.22,2,     0.07,2, -999.000,9, -999.000,9, -999.000,9, -999.000,9, -999.000,9
           NA,    PR02, RY7877,  99,      10,      10,  2,19910120,1524,  30.0333,  136.9333,  4356,  201.000,   19.207,   34.831,2,   34.828,2, -999.000,9,  202.000,2, -999.000,9,      3.6,2,     0.03,2,     0.16,2, -999.000,9, -999.000,9, -999.000,9, -999.000,9, -999.000,9
           NA,    PR02, RY7877,  99,      11,      11,  2,19910120,1524,  30.0333,  136.9333,  4356,  253.000,   18.726,   34.832,2,   34.835,2, -999.000,9,  203.000,2, -999.000,9,      3.6,2,     0.01,2,     0.17,2, -999.000,9, -999.000,9, -999.000,9, -999.000,9, -999.000,9
           NA,    PR02, RY7877,  99,      12,      12,  2,19910120,1524,  30.0333,  136.9333,  4356,  301.000,   17.928,   34.807,2,   34.811,2, -999.000,9,  201.000,2, -999.000,9,      5.0,2,     0.00,2,     0.23,2, -999.000,9, -999.000,9, -999.000,9, -999.000,9, -999.000,9
           NA,    PR02, RY7877,  99,      13,      13,  2,19910120,1524,  30.0333,  136.9333,  4356,  402.000,   16.411,   34.723,2,   34.727,2, -999.000,9,  195.000,2, -999.000,9,      7.5,2,     0.01,2,     0.39,2, -999.000,9, -999.000,9, -999.000,9, -999.000,9, -999.000,9
           NA,    PR02, RY7877,  99,      14,      14,  2,19910120,1524,  30.0333,  136.9333,  4356,  503.000,   14.331,   34.580,2,   34.574,2, -999.000,9,  189.000,2, -999.000,9,     11.6,2,     0.00,2,     0.67,2, -999.000,9, -999.000,9, -999.000,9, -999.000,9, -999.000,9
           NA,    PR02, RY7877,  99,      15,      15,  2,19910120,1524,  30.0333,  136.9333,  4356,  604.000,   11.780,   34.415,2,   34.411,2, -999.000,9,  172.000,2, -999.000,9,     17.6,2,     0.00,2,     1.20,2, -999.000,9, -999.000,9, -999.000,9, -999.000,9, -999.000,9
           NA,    PR02, RY7877,  99,      16,      16,  2,19910120,1524,  30.0333,  136.9333,  4356,  705.000,    9.476,   34.306,2,   34.311,2, -999.000,9,  152.000,2, -999.000,9,     23.6,2,     0.00,2,     1.64,2, -999.000,9, -999.000,9, -999.000,9, -999.000,9, -999.000,9
           NA,    PR02, RY7877,  99,      17,      17,  2,19910120,1524,  30.0333,  136.9333,  4356,  805.000,    7.120,   34.242,2,   34.246,2, -999.000,9,  117.000,2, -999.000,9,     31.0,2,     0.00,2,     2.16,2, -999.000,9, -999.000,9, -999.000,9, -999.000,9, -999.000,9
           NA,    PR02, RY7877,  99,      18,      18,  2,19910120,1524,  30.0333,  136.9333,  4356,  907.000,    5.690,   34.281,2,   34.282,2, -999.000,9,   94.000,2, -999.000,9,     35.5,2,     0.00,2,     2.48,2, -999.000,9, -999.000,9, -999.000,9, -999.000,9, -999.000,9
           NA,    PR02, RY7877,  99,      19,      19,  2,19910120,1524,  30.0333,  136.9333,  4356, 1008.000,    4.614,   34.321,2,   34.319,2, -999.000,9,   77.000,2, -999.000,9,     38.6,2,     0.00,2,     2.70,2, -999.000,9, -999.000,9, -999.000,9, -999.000,9, -999.000,9
           NA,    PR02, RY7877,  99,      20,      20,  2,19910120,1524,  30.0333,  136.9333,  4356, 1260.000,    3.380,   34.443,2,   34.450,2, -999.000,9,   73.000,2, -999.000,9,     40.6,2,     0.00,2,     2.81,2, -999.000,9, -999.000,9, -999.000,9, -999.000,9, -999.000,9
           NA,    PR02, RY7877,  99,      21,      21,  2,19910120,1524,  30.0333,  136.9333,  4356, 1514.000,    2.789,   34.503,2,   34.505,2, -999.000,9,   83.000,2, -999.000,9,     40.4,2,     0.00,2,     2.89,2, -999.000,9, -999.000,9, -999.000,9, -999.000,9, -999.000,9
           NA,    PR02, RY7877,  99,      22,      22,  2,19910120,1524,  30.0333,  136.9333,  4356, 2021.000,    2.130,   34.586,2,   34.592,2, -999.000,9,  109.000,2, -999.000,9,     39.8,2,     0.00,2,     2.70,2, -999.000,9, -999.000,9, -999.000,9, -999.000,9, -999.000,9
           NA,    PR02, RY7877,  99,      23,      23,  2,19910120,1524,  30.0333,  136.9333,  4356, 2530.000,    1.780,   34.636,2,   34.640,2, -999.000,9,  133.000,2, -999.000,9,     38.3,2,     0.00,2,     2.61,2, -999.000,9, -999.000,9, -999.000,9, -999.000,9, -999.000,9
           NA,    PR02, RY7877,  99,      24,      24,  2,19910120,1524,  30.0333,  136.9333,  4356, 3040.000,    1.603,   34.663,2,   34.668,2, -999.000,9,  148.000,2, -999.000,9,     37.2,2,     0.00,2,     2.54,2, -999.000,9, -999.000,9, -999.000,9, -999.000,9, -999.000,9
           NA,    PR02, RY7877,  99,      25,      25,  2,19910120,1524,  30.0333,  136.9333,  4356, 4062.000,    1.552,   34.679,2,   34.684,2, -999.000,9,  160.000,2, -999.000,9,     36.3,2,     0.00,2,     2.48,2, -999.000,9, -999.000,9, -999.000,9, -999.000,9, -999.000,9