BOTTLE,20215502JOAExport
EXPOCODE,SECT_ID,STNNBR,CASTNO,SAMPNO,BTLNBR,BTLNBR_FLAG_W,DATE,TIME,LATITUDE,LONGITUDE,DEPTH,CTDPRS,CTDTMP,CTDSAL,CTDSAL_FLAG_W,SALNTY,SALNTY_FLAG_W,CTDOXY,CTDOXY_FLAG_W,OXYGEN,OXYGEN_FLAG_W,SILCAT,SILCAT_FLAG_W,NITRAT,NITRAT_FLAG_W,NITRIT,NITRIT_FLAG_W,PHSPHT,PHSPHT_FLAG_W,CFC-11,CFC-11_FLAG_W,CFC-12,CFC-12_FLAG_W,SF6,SF6_FLAG_W,TCARBN,TCARBN_FLAG_W,ALKALI,ALKALI_FLAG_W
,,,,,,,,,,,,DB,DEG C,PSS-78,,PSS-78,,UMOL/KG,,UMOL/KG,,UMOL/KG,,UMOL/KG,,UMOL/KG,,UMOL/KG,,PMOL/KG,,PMOL/KG,,FMOL/KG,,UMOL/KG,,UMOL/KG
           NA,    PR02, RY7873,  99,       1,       1,  2,19910119,1657,  33.3167,  137.0000,  2728,    3.000,   14.351,   34.566,2,   34.364,2, -999.000,9,  244.000,2, -999.000,9,      7.5,2,     0.39,2,     0.64,2, -999.000,9, -999.000,9, -999.000,9, -999.000,9, -999.000,9
           NA,    PR02, RY7873,  99,       2,       2,  2,19910119,1657,  33.3167,  137.0000,  2728,   10.000,   14.354,   34.567,2,   34.404,2, -999.000,9,  246.000,2, -999.000,9,      7.6,2,     0.38,2,     0.66,2, -999.000,9, -999.000,9, -999.000,9, -999.000,9, -999.000,9
           NA,    PR02, RY7873,  99,       3,       3,  2,19910119,1657,  33.3167,  137.0000,  2728,   25.000,   14.358,   34.565,2,   34.445,2, -999.000,9,  245.000,2, -999.000,9,      7.7,2,     0.39,2,     0.68,2, -999.000,9, -999.000,9, -999.000,9, -999.000,9, -999.000,9
           NA,    PR02, RY7873,  99,       4,       4,  2,19910119,1657,  33.3167,  137.0000,  2728,   51.000,   14.349,   34.563,2,   34.460,2, -999.000,9,  244.000,2, -999.000,9,      7.7,2,     0.39,2,     0.66,2, -999.000,9, -999.000,9, -999.000,9, -999.000,9, -999.000,9
           NA,    PR02, RY7873,  99,       5,       5,  2,19910119,1657,  33.3167,  137.0000,  2728,   76.000,   14.361,   34.566,2,   34.461,2, -999.000,9,  243.000,2, -999.000,9,      7.7,2,     0.38,2,     0.64,2, -999.000,9, -999.000,9, -999.000,9, -999.000,9, -999.000,9
           NA,    PR02, RY7873,  99,       6,       6,  2,19910119,1657,  33.3167,  137.0000,  2728,  100.000,   14.255,   34.546,2,   34.509,2, -999.000,9,  242.000,2, -999.000,9,      7.8,2,     0.47,2,     0.67,2, -999.000,9, -999.000,9, -999.000,9, -999.000,9, -999.000,9
           NA,    PR02, RY7873,  99,       7,       7,  2,19910119,1657,  33.3167,  137.0000,  2728,  125.000,   13.989,   34.504,2,   34.546,2, -999.000,9,  236.000,2, -999.000,9,      8.4,2,     0.58,2,     0.68,2, -999.000,9, -999.000,9, -999.000,9, -999.000,9, -999.000,9
           NA,    PR02, RY7873,  99,       8,       8,  2,19910119,1657,  33.3167,  137.0000,  2728,  150.000,   13.395,   34.460,2,   34.578,2, -999.000,9,  196.000,2, -999.000,9,     12.6,2,     0.26,2,     0.99,2, -999.000,9, -999.000,9, -999.000,9, -999.000,9, -999.000,9
           NA,    PR02, RY7873,  99,       9,       9,  2,19910119,1657,  33.3167,  137.0000,  2728,  176.000,   12.936,   34.460,2,   34.578,2, -999.000,9,  182.000,2, -999.000,9,     14.5,2,     0.17,2,     1.13,2, -999.000,9, -999.000,9, -999.000,9, -999.000,9, -999.000,9
           NA,    PR02, RY7873,  99,      10,      10,  2,19910119,1657,  33.3167,  137.0000,  2728,  201.000,   12.100,   34.444,2,   34.566,2, -999.000,9,  161.000,2, -999.000,9,     17.2,2,     0.01,2,     1.35,2, -999.000,9, -999.000,9, -999.000,9, -999.000,9, -999.000,9
           NA,    PR02, RY7873,  99,      11,      11,  2,19910119,1657,  33.3167,  137.0000,  2728,  252.000,   11.094,   34.402,2,   34.567,2, -999.000,9,  156.000,2, -999.000,9,     19.7,2,     0.00,2,     1.50,2, -999.000,9, -999.000,9, -999.000,9, -999.000,9, -999.000,9
           NA,    PR02, RY7873,  99,      12,      12,  2,19910119,1657,  33.3167,  137.0000,  2728,  303.000,   10.031,   34.363,2,   34.567,2, -999.000,9,  146.000,2, -999.000,9,     22.1,2,     0.00,2,     1.69,2, -999.000,9, -999.000,9, -999.000,9, -999.000,9, -999.000,9
           NA,    PR02, RY7873,  99,      13,      13,  2,19910119,1657,  33.3167,  137.0000,  2728,  402.000,    7.973,   34.296,2,   34.494,2, -999.000,9,  124.000,2, -999.000,9,     27.6,2,     0.00,2,     2.07,2, -999.000,9, -999.000,9, -999.000,9, -999.000,9, -999.000,9
           NA,    PR02, RY7873,  99,      14,      14,  2,19910119,1657,  33.3167,  137.0000,  2728,  503.000,    6.530,   34.253,2,   34.433,2, -999.000,9,  109.000,2, -999.000,9,     31.5,2,     0.00,2,     2.35,2, -999.000,9, -999.000,9, -999.000,9, -999.000,9, -999.000,9
           NA,    PR02, RY7873,  99,      15,      15,  2,19910119,1657,  33.3167,  137.0000,  2728,  604.000,    5.366,   34.279,2,   34.404,2, -999.000,9,   89.000,2, -999.000,9,     35.5,2,     0.00,2,     2.65,2, -999.000,9, -999.000,9, -999.000,9, -999.000,9, -999.000,9
           NA,    PR02, RY7873,  99,      16,      16,  2,19910119,1657,  33.3167,  137.0000,  2728,  703.000,    4.672,   34.316,2,   34.349,2, -999.000,9,   75.000,2, -999.000,9,     37.5,2,     0.00,2,     2.77,2, -999.000,9, -999.000,9, -999.000,9, -999.000,9, -999.000,9
           NA,    PR02, RY7873,  99,      17,      17,  2,19910119,1657,  33.3167,  137.0000,  2728,  806.000,    4.207,   34.347,2,   34.317,2, -999.000,9,   72.000,2, -999.000,9,     38.6,2,     0.00,2,     2.86,2, -999.000,9, -999.000,9, -999.000,9, -999.000,9, -999.000,9
           NA,    PR02, RY7873,  99,      18,      18,  2,19910119,1657,  33.3167,  137.0000,  2728,  906.000,    3.688,   34.406,2,   34.283,2, -999.000,9,   71.000,2, -999.000,9,     39.5,2,     0.01,2,     2.90,2, -999.000,9, -999.000,9, -999.000,9, -999.000,9, -999.000,9
           NA,    PR02, RY7873,  99,      19,      19,  2,19910119,1657,  33.3167,  137.0000,  2728, 1009.000,    3.385,   34.435,2,   34.260,2, -999.000,9,   73.000,2, -999.000,9,     39.8,2,     0.00,2,     2.92,2, -999.000,9, -999.000,9, -999.000,9, -999.000,9, -999.000,9
           NA,    PR02, RY7873,  99,      20,      20,  2,19910119,1657,  33.3167,  137.0000,  2728, 1261.000,    2.852,   34.495,2,   34.300,2, -999.000,9,   85.000,2, -999.000,9,     40.0,2,     0.00,2,     2.94,2, -999.000,9, -999.000,9, -999.000,9, -999.000,9, -999.000,9
           NA,    PR02, RY7872,  99,       1,       1,  2,19910119,1136,  34.0000,  137.0333,  1418,    1.000,   14.690,   34.545,2, -999.000,9, -999.000,9,  249.000,2, -999.000,9,      6.8,2,     0.56,2,     0.56,2, -999.000,9, -999.000,9, -999.000,9, -999.000,9, -999.000,9
           NA,    PR02, RY7872,  99,       2,       2,  2,19910119,1136,  34.0000,  137.0333,  1418,   10.000,   14.695,   34.545,2, -999.000,9, -999.000,9,  251.000,2, -999.000,9,      7.0,2,     0.57,2,     0.57,2, -999.000,9, -999.000,9, -999.000,9, -999.000,9, -999.000,9
           NA,    PR02, RY7872,  99,       3,       3,  2,19910119,1136,  34.0000,  137.0333,  1418,   25.000,   14.698,   34.546,2, -999.000,9, -999.000,9,  251.000,2, -999.000,9,      7.0,2,     0.56,2,     0.61,2, -999.000,9, -999.000,9, -999.000,9, -999.000,9, -999.000,9
           NA,    PR02, RY7872,  99,       4,       4,  2,19910119,1136,  34.0000,  137.0333,  1418,   50.000,   14.703,   34.544,2, -999.000,9, -999.000,9,  245.000,2, -999.000,9,      6.9,2,     0.56,2,     0.58,2, -999.000,9, -999.000,9, -999.000,9, -999.000,9, -999.000,9
           NA,    PR02, RY7872,  99,       5,       5,  2,19910119,1136,  34.0000,  137.0333,  1418,   75.000,   14.683,   34.547,2, -999.000,9, -999.000,9,  241.000,2, -999.000,9,      7.0,2,     0.59,2,     0.58,2, -999.000,9, -999.000,9, -999.000,9, -999.000,9, -999.000,9
           NA,    PR02, RY7872,  99,       6,       6,  2,19910119,1136,  34.0000,  137.0333,  1418,  100.000,   14.676,   34.547,2, -999.000,9, -999.000,9,  242.000,2, -999.000,9,      7.0,2,     0.59,2,     0.58,2, -999.000,9, -999.000,9, -999.000,9, -999.000,9, -999.000,9
           NA,    PR02, RY7872,  99,       7,       7,  2,19910119,1136,  34.0000,  137.0333,  1418,  125.000,   14.662,   34.545,2, -999.000,9, -999.000,9,  239.000,2, -999.000,9,      7.1,2,     0.60,2,     0.56,2, -999.000,9, -999.000,9, -999.000,9, -999.000,9, -999.000,9
           NA,    PR02, RY7872,  99,       8,       8,  2,19910119,1136,  34.0000,  137.0333,  1418,  151.000,   14.663,   34.544,2, -999.000,9, -999.000,9,  238.000,2, -999.000,9,      7.1,2,     0.59,2,     0.58,2, -999.000,9, -999.000,9, -999.000,9, -999.000,9, -999.000,9
           NA,    PR02, RY7872,  99,       9,       9,  2,19910119,1136,  34.0000,  137.0333,  1418,  175.000,   13.600,   34.481,2, -999.000,9, -999.000,9,  241.000,2, -999.000,9,     12.7,2,     0.10,2,     0.98,2, -999.000,9, -999.000,9, -999.000,9, -999.000,9, -999.000,9
           NA,    PR02, RY7872,  99,      10,      10,  2,19910119,1136,  34.0000,  137.0333,  1418,  200.000,   13.088,   34.474,2, -999.000,9, -999.000,9,  176.000,2, -999.000,9,     14.9,2,     0.00,2,     1.23,2, -999.000,9, -999.000,9, -999.000,9, -999.000,9, -999.000,9
           NA,    PR02, RY7872,  99,      11,      11,  2,19910119,1136,  34.0000,  137.0333,  1418,  250.000,   11.154,   34.404,2, -999.000,9, -999.000,9,  157.000,2, -999.000,9,     19.3,2,     0.00,2,     1.46,2, -999.000,9, -999.000,9, -999.000,9, -999.000,9, -999.000,9
           NA,    PR02, RY7872,  99,      12,      12,  2,19910119,1136,  34.0000,  137.0333,  1418,  303.000,   10.016,   34.357,2, -999.000,9, -999.000,9,  148.000,2, -999.000,9,     22.1,2,     0.00,2,     1.66,2, -999.000,9, -999.000,9, -999.000,9, -999.000,9, -999.000,9
           NA,    PR02, RY7872,  99,      13,      13,  2,19910119,1136,  34.0000,  137.0333,  1418,  403.000,    8.394,   34.301,2, -999.000,9, -999.000,9,  141.000,2, -999.000,9,     26.3,2,     0.00,2,     1.99,2, -999.000,9, -999.000,9, -999.000,9, -999.000,9, -999.000,9
           NA,    PR02, RY7872,  99,      14,      14,  2,19910119,1136,  34.0000,  137.0333,  1418,  504.000,    6.794,   34.273,2, -999.000,9, -999.000,9,  110.000,2, -999.000,9,     31.0,2,     0.00,2,     2.33,2, -999.000,9, -999.000,9, -999.000,9, -999.000,9, -999.000,9
           NA,    PR02, RY7872,  99,      15,      15,  2,19910119,1136,  34.0000,  137.0333,  1418,  604.000,    5.609,   34.277,2, -999.000,9, -999.000,9,   92.000,2, -999.000,9,     34.8,2,     0.00,2,     2.67,2, -999.000,9, -999.000,9, -999.000,9, -999.000,9, -999.000,9
           NA,    PR02, RY7872,  99,      16,      16,  2,19910119,1136,  34.0000,  137.0333,  1418,  705.000,    5.132,   34.296,2, -999.000,9, -999.000,9,   90.000,2, -999.000,9,     36.4,2,     0.00,2,     2.71,2, -999.000,9, -999.000,9, -999.000,9, -999.000,9, -999.000,9
           NA,    PR02, RY7872,  99,      17,      17,  2,19910119,1136,  34.0000,  137.0333,  1418,  806.000,    4.447,   34.346,2, -999.000,9, -999.000,9,   77.000,2, -999.000,9,     38.3,2,     0.00,2,     2.78,2, -999.000,9, -999.000,9, -999.000,9, -999.000,9, -999.000,9
           NA,    PR02, RY7872,  99,      18,      18,  2,19910119,1136,  34.0000,  137.0333,  1418,  907.000,    3.915,   34.383,2, -999.000,9, -999.000,9,   70.000,2, -999.000,9,     39.3,2,     0.00,2,     2.88,2, -999.000,9, -999.000,9, -999.000,9, -999.000,9, -999.000,9
           NA,    PR02, RY7872,  99,      19,      19,  2,19910119,1136,  34.0000,  137.0333,  1418, 1008.000,    3.564,   34.414,2, -999.000,9, -999.000,9,   75.000,2, -999.000,9,     40.1,2,     0.00,2,     2.90,2, -999.000,9, -999.000,9, -999.000,9, -999.000,9, -999.000,9
           NA,    PR02, RY7872,  99,      20,      20,  2,19910119,1136,  34.0000,  137.0333,  1418, 1261.000,    2.928,   34.483,2, -999.000,9, -999.000,9,   82.000,2, -999.000,9,     40.4,2,     0.00,2,     2.97,2, -999.000,9, -999.000,9, -999.000,9, -999.000,9, -999.000,9