BOTTLE,20081205PRINUNIVRMKPRINUNIVRMK
EXPOCODE,SECT_ID,STNNBR,CASTNO,BTLNBR,DATE,LATITUDE,LONGITUDE,DEPTH,CTDPRS,CTDTMP,CTDSAL,CTDSAL_FLAG_W,SALNTY,SALNTY_FLAG_W,CTDOXY,CTDOXY_FLAG_W,OXYGEN,OXYGEN_FLAG_W,SILCAT,SILCAT_FLAG_W,NITRAT,NITRAT_FLAG_W,TCARBN,TCARBN_FLAG_W,ALKALI,ALKALI_FLAG_W,CHLORA,CHLORA_FLAG_W,THETA
,,,,,,,,METERS,DBARS,ITS-90,PSS-78,,PSS-78,,UMOL/KG,,UMOL/KG,,UMOL/KG,,UMOL/KG,,UMOL/KG,,UMOL/KG,,UG/L,,DEGC
  35MF19981205,  OISO,     9,  1,     19,19981212,-48.5000,  65.0000, 2091,      6.6,   3.3200,  33.8030,2,  33.8070,2,    320.4,2,    328.5,2,    13.43,2,    23.82,2,   2121.1,2,     -9.0,9,     0.52,2,  3.31959514
  35MF19981205,  OISO,     9,  1,     18,19981212,-48.5000,  65.0000, 2091,     10.2,   3.3200,  33.8030,2,  -9.0000,9,    321.7,2,     -9.0,9,    13.78,2,    23.78,2,   2122.0,2,   2273.1,2,     0.50,2,  3.31937408
  35MF19981205,  OISO,     9,  1,     17,19981212,-48.5000,  65.0000, 2091,     19.5,   3.3200,  33.8030,2,  33.8070,2,    323.9,2,    328.0,2,    13.04,2,    23.83,2,   2120.9,2,   2277.1,2,     0.43,2,  3.31880179
  35MF19981205,  OISO,     9,  1,     16,19981212,-48.5000,  65.0000, 2091,     30.2,   3.3200,  33.8030,2,  -9.0000,9,    326.4,2,     -9.0,9,    13.00,2,    23.83,2,   2123.2,2,   2272.2,2,     0.53,2,   3.3181419
  35MF19981205,  OISO,     9,  1,     15,19981212,-48.5000,  65.0000, 2091,     41.3,   3.3200,  33.8030,2,  -9.0000,9,    328.8,2,     -9.0,9,    13.25,2,    23.80,2,   2122.4,2,   2272.2,2,     0.52,2,  3.31745525
  35MF19981205,  OISO,     9,  1,     14,19981212,-48.5000,  65.0000, 2091,     47.3,   3.3200,  33.8030,2,  -9.0000,9,    331.0,2,    328.1,2,    12.97,2,    23.72,2,   2119.9,2,   2272.1,2,     0.46,2,  3.31708326
  35MF19981205,  OISO,     9,  1,     13,19981212,-48.5000,  65.0000, 2091,     74.4,   3.2100,  33.8030,2,  -9.0000,9,    333.8,2,     -9.0,9,    12.90,2,    23.81,2,   2123.7,2,   2273.1,2,     0.62,2,  3.20546235
  35MF19981205,  OISO,     9,  1,     12,19981212,-48.5000,  65.0000, 2091,     99.2,   3.0700,  33.8030,2,  -9.0000,9,    335.0,2,     -9.0,9,    14.31,2,    24.26,2,   2124.5,2,   2273.0,2,     0.49,2,  3.06404279
  35MF19981205,  OISO,     9,  1,     11,19981212,-48.5000,  65.0000, 2091,    125.5,   2.9100,  33.8070,2,  -9.0000,9,    337.9,2,     -9.0,9,    14.53,2,    24.47,2,   2127.2,2,   2272.3,2,     0.26,2,  2.90259912
  35MF19981205,  OISO,     9,  1,     10,19981212,-48.5000,  65.0000, 2091,    151.0,   2.5200,  33.8280,2,  -9.0000,9,    332.2,2,     -9.0,9,    16.35,2,    25.83,2,   2138.5,2,   2283.0,2,    -9.00,9,  2.51153914
  35MF19981205,  OISO,     9,  1,     24,19981212,-48.5000,  65.0000, 2091,    203.8,   2.3000,  33.9480,2,  -9.0000,9,    303.4,2,     -9.0,9,    -9.00,9,    -9.00,9,     -9.0,9,     -9.0,9,    -9.00,9,  2.28881457
  35MF19981205,  OISO,     9,  1,      9,19981212,-48.5000,  65.0000, 2091,    204.1,   2.3000,  33.9490,2,  33.9410,2,    302.5,2,    292.1,2,    23.22,2,    28.67,2,   2156.5,2,   2278.1,2,    -9.00,9,  2.28880014
  35MF19981205,  OISO,     9,  1,      8,19981212,-48.5000,  65.0000, 2091,    249.3,   2.2800,  34.0640,2,  -9.0000,9,    273.3,2,     -9.0,9,    31.64,2,    31.18,2,   2179.1,2,   2285.7,2,    -9.00,9,  2.26621168
  35MF19981205,  OISO,     9,  1,      7,19981212,-48.5000,  65.0000, 2091,    298.3,   2.2800,  34.1630,2,  -9.0000,9,    245.4,2,     -9.0,9,    39.72,2,    33.02,2,   2194.8,2,   2291.7,2,    -9.00,9,  2.26332698
  35MF19981205,  OISO,     9,  1,      6,19981212,-48.5000,  65.0000, 2091,    399.1,   2.2800,  34.2890,2,  -9.0000,9,    212.2,2,     -9.0,9,    50.40,2,    34.69,2,   2219.5,2,   2303.7,2,    -9.00,9,  2.25726913
  35MF19981205,  OISO,     9,  1,      5,19981212,-48.5000,  65.0000, 2091,    500.0,   2.2700,  34.3680,2,  34.3910,2,    196.3,2,    195.5,2,    56.88,2,    35.06,2,   2231.4,2,   2313.3,2,    -9.00,9,  2.24105515
  35MF19981205,  OISO,     9,  1,      4,19981212,-48.5000,  65.0000, 2091,    602.0,   2.2300,  34.4480,2,  -9.0000,9,    184.7,2,     -9.0,9,    64.71,2,    35.01,2,   2239.1,2,   2315.7,2,    -9.00,9,  2.19477792
  35MF19981205,  OISO,     9,  1,      3,19981212,-48.5000,  65.0000, 2091,    797.9,   2.2800,  34.5830,2,  -9.0000,9,    175.1,2,     -9.0,9,    70.53,2,    34.31,2,   2249.1,2,   2331.9,2,    -9.00,9,  2.23152876
  35MF19981205,  OISO,     9,  1,     23,19981212,-48.5000,  65.0000, 2091,    798.3,   2.2800,  34.5830,2,  -9.0000,9,    174.8,2,     -9.0,9,    -9.00,9,    -9.00,9,     -9.0,9,     -9.0,9,    -9.00,9,  2.23150187
  35MF19981205,  OISO,     9,  1,      1,19981212,-48.5000,  65.0000, 2091,   1000.8,   2.2600,  34.6740,2,  34.6730,2,    179.3,2,    181.2,2,    73.43,2,    32.47,2,   2244.4,2,   2335.4,2,    -9.00,9,  2.19756002
  35MF19981205,  OISO,     9,  1,      2,19981212,-48.5000,  65.0000, 2091,   1003.2,   2.2600,  34.6740,2,  -9.0000,9,    179.0,2,     -9.0,9,    73.56,2,    32.48,2,   2246.9,2,   2336.3,2,    -9.00,9,  2.19738912
  35MF19981205,  OISO,    10,  1,     23,19981215,-50.6700,  68.4200, 1614,      5.5,   2.7100,  33.8310,2,  33.8290,2,    321.1,2,    330.5,2,    14.74,2,    27.00,2,   2127.3,2,   2295.4,2,     0.83,2,   2.7096899
  35MF19981205,  OISO,    10,  1,     22,19981215,-50.6700,  68.4200, 1614,      9.6,   2.7100,  33.8310,2,  -9.0000,9,    322.1,2,     -9.0,9,    14.89,2,    26.75,2,   2127.2,2,   2291.7,2,     0.79,2,  2.70945837
  35MF19981205,  OISO,    10,  1,     21,19981215,-50.6700,  68.4200, 1614,     20.1,   2.7100,  33.8310,2,  33.8280,2,    325.1,2,    330.5,2,    14.70,2,    26.66,2,   2129.4,2,   2298.6,2,     0.79,2,  2.70886431
  35MF19981205,  OISO,    10,  1,     20,19981215,-50.6700,  68.4200, 1614,     29.7,   2.7100,  33.8310,2,  -9.0000,9,    327.4,2,     -9.0,9,    14.53,2,    26.64,2,   2121.3,2,   2290.3,2,     0.82,2,  2.70831937
  35MF19981205,  OISO,    10,  1,     19,19981215,-50.6700,  68.4200, 1614,     39.9,   2.7100,  33.8310,2,  -9.0000,9,    330.3,2,     -9.0,9,    14.25,2,    26.25,2,   2127.6,2,   2284.4,2,     0.82,2,   2.7077388
  35MF19981205,  OISO,    10,  1,     18,19981215,-50.6700,  68.4200, 1614,     50.9,   2.7100,  33.8320,2,  33.8310,2,    331.0,2,    330.8,2,    14.54,2,    26.10,2,   2126.5,2,   2277.1,2,     0.90,2,  2.70711077
  35MF19981205,  OISO,    10,  1,     17,19981215,-50.6700,  68.4200, 1614,     73.3,   2.7100,  33.8310,2,  -9.0000,9,    336.0,2,     -9.0,9,    14.56,2,    26.16,2,   2127.3,2,   2274.5,2,     0.84,2,  2.70582566
  35MF19981205,  OISO,    10,  1,     16,19981215,-50.6700,  68.4200, 1614,     99.6,   2.7000,  33.8330,2,  33.8310,2,    337.7,2,    330.3,2,    14.46,2,    26.02,2,   2129.4,2,   2278.1,2,     0.96,2,  2.69431437
  35MF19981205,  OISO,    10,  1,     15,19981215,-50.6700,  68.4200, 1614,    125.4,   2.7000,  33.8320,2,  -9.0000,9,    339.1,2,     -9.0,9,    14.13,2,    26.21,2,   2128.9,2,   2274.3,2,     0.78,2,  2.69281458
  35MF19981205,  OISO,    10,  1,     14,19981215,-50.6700,  68.4200, 1614,    149.5,   2.6200,  33.8330,2,  -9.0000,9,    336.5,2,     -9.0,9,    14.81,2,    25.89,2,   2130.1,2,   2273.9,2,     0.54,2,  2.61150136
  35MF19981205,  OISO,    10,  1,     13,19981215,-50.6700,  68.4200, 1614,    174.7,   2.0700,  33.8890,2,  -9.0000,9,    321.3,2,     -9.0,9,    18.83,2,    28.32,2,   2147.4,2,   2276.6,2,    -9.00,9,   2.0608031
  35MF19981205,  OISO,    10,  1,     12,19981215,-50.6700,  68.4200, 1614,    200.0,   2.1100,  33.9600,2,  33.9630,2,    300.6,2,    296.0,2,    24.23,2,    29.79,2,   2161.3,2,   2280.0,2,    -9.00,9,  2.09933605
  35MF19981205,  OISO,    10,  1,     11,19981215,-50.6700,  68.4200, 1614,    249.0,   2.2200,  34.1010,2,  -9.0000,9,    264.1,2,     -9.0,9,    34.90,2,    32.25,2,   2188.4,2,   2287.0,2,    -9.00,9,  2.20633468
  35MF19981205,  OISO,    10,  1,     10,19981215,-50.6700,  68.4200, 1614,    299.7,   2.2400,  34.1620,2,  34.1670,2,    248.7,2,    243.5,2,    38.78,2,    33.02,2,   2200.0,2,   2289.9,2,    -9.00,9,   2.2233409
  35MF19981205,  OISO,    10,  1,      9,19981215,-50.6700,  68.4200, 1614,    400.0,   2.2600,  34.2760,2,  -9.0000,9,    218.0,2,     -9.0,9,    48.96,2,    35.10,2,   2219.7,2,   2300.1,2,    -9.00,9,  2.23728904
  35MF19981205,  OISO,    10,  1,      8,19981215,-50.6700,  68.4200, 1614,    497.0,   2.2500,  34.3540,2,  34.3560,2,    200.2,2,    198.8,2,    57.06,2,    35.51,2,   2229.3,2,   2307.0,2,    -9.00,9,   2.2213522
  35MF19981205,  OISO,    10,  1,      7,19981215,-50.6700,  68.4200, 1614,    600.3,   2.2600,  34.4510,2,  -9.0000,9,    185.5,2,     -9.0,9,    65.64,2,    35.49,2,   2241.3,2,   2317.7,2,    -9.00,9,  2.22473773
  35MF19981205,  OISO,    10,  1,      6,19981215,-50.6700,  68.4200, 1614,    801.2,   2.3400,  34.5840,2,  -9.0000,9,    174.9,2,     -9.0,9,    70.71,2,    34.62,2,   2249.4,2,   2328.9,2,    -9.00,9,  2.29092257
  35MF19981205,  OISO,    10,  1,      5,19981215,-50.6700,  68.4200, 1614,    999.5,   2.3200,  34.6610,2,  34.6630,2,    178.0,2,    179.9,2,    73.20,2,    32.98,2,   2248.7,2,   2334.7,2,    -9.00,9,  2.25719544
  35MF19981205,  OISO,    10,  1,      4,19981215,-50.6700,  68.4200, 1614,   1198.8,   2.1900,  34.7030,2,  -9.0000,9,    184.6,2,     -9.0,9,    77.58,2,    31.45,2,   2246.8,2,   2338.9,2,    -9.00,9,  2.11389636
  35MF19981205,  OISO,    10,  1,      3,19981215,-50.6700,  68.4200, 1614,   1400.6,   2.0600,  34.7390,2,  -9.0000,9,    191.0,2,     -9.0,9,    80.14,2,    30.09,2,   2240.4,2,   2344.7,2,    -9.00,9,  1.97015962
  35MF19981205,  OISO,    10,  1,      2,19981215,-50.6700,  68.4200, 1614,   1604.0,   1.7800,  34.7560,2,  -9.0000,9,    199.4,2,     -9.0,9,    87.67,2,    29.61,2,   2242.0,2,   2345.2,2,    -9.00,9,  1.67794662
  35MF19981205,  OISO,    10,  1,      1,19981215,-50.6700,  68.4200, 1614,   1604.0,   1.7800,  34.7560,2,  34.7660,2,    199.4,2,    201.5,2,    -9.00,9,    30.85,2,   2239.4,2,   2345.1,2,    -9.00,9,    1.677919
  35MF19981205,  OISO,    11,  1,     19,19981217,-56.5092,  62.9908, 4770,      6.0,   0.1100,  33.8320,2,  33.8330,2,    336.0,2,    347.7,2,    35.74,2,    28.23,2,   2151.4,2,   2282.3,2,     0.13,2,  0.10979245
  35MF19981205,  OISO,    11,  1,     18,19981217,-56.5092,  62.9908, 4770,      9.9,   0.0900,  33.8340,2,  -9.0000,9,    339.9,2,     -9.0,9,    34.79,2,    28.33,2,   2151.1,2,   2284.3,2,     0.13,2,0.0896588619
  35MF19981205,  OISO,    11,  1,     17,19981217,-56.5092,  62.9908, 4770,     20.1,   0.0800,  33.8360,2,  33.8330,2,    345.6,2,    347.1,2,    34.45,2,    27.95,2,   2152.4,2,   2283.5,2,     0.14,2,0.0793072471
  35MF19981205,  OISO,    11,  1,     16,19981217,-56.5092,  62.9908, 4770,     29.8,   0.0800,  33.8360,2,  -9.0000,9,    350.1,2,     -9.0,9,    34.71,2,    28.59,2,   2151.2,2,   2284.3,2,     0.13,2,0.0789700902
  35MF19981205,  OISO,    11,  1,     15,19981217,-56.5092,  62.9908, 4770,     40.0,   0.0800,  33.8370,2,  -9.0000,9,    354.6,2,     -9.0,9,    34.58,2,    28.25,2,   2153.4,2,   2284.6,2,     0.13,2,0.0786137219
  35MF19981205,  OISO,    11,  1,     14,19981217,-56.5092,  62.9908, 4770,     50.2,   0.0700,  33.8360,2,  33.8340,2,    358.9,2,    346.1,2,    34.58,2,    28.28,2,   2152.8,2,   2284.7,2,     0.14,2,0.0682600619
  35MF19981205,  OISO,    11,  1,     13,19981217,-56.5092,  62.9908, 4770,     74.2,   0.1500,  33.8670,2,  -9.0000,9,    362.3,2,     -9.0,9,    35.06,2,    28.42,2,   2156.3,2,   2286.3,2,     0.14,2, 0.147356505
  35MF19981205,  OISO,    11,  1,     12,19981217,-56.5092,  62.9908, 4770,    100.5,   0.3300,  33.9150,2,  -9.0000,9,    362.7,2,     -9.0,9,    34.83,2,    28.84,2,   2158.4,2,   2286.2,2,     0.15,2, 0.326232342
  35MF19981205,  OISO,    11,  1,     11,19981217,-56.5092,  62.9908, 4770,    123.0,   0.2900,  33.9200,2,  -9.0000,9,    358.6,2,     -9.0,9,    36.15,2,    29.26,2,   2158.8,2,   2287.6,2,     0.17,2, 0.285404187
  35MF19981205,  OISO,    11,  1,     10,19981217,-56.5092,  62.9908, 4770,    150.3,   0.0700,  33.9400,2,  -9.0000,9,    354.2,2,     -9.0,9,    37.73,2,    29.09,2,   2163.5,2,   2288.8,2,     0.16,2,0.0646218198
  35MF19981205,  OISO,    11,  1,      9,19981217,-56.5092,  62.9908, 4770,    200.5,   1.2600,  34.2230,2,  34.2260,2,    248.5,2,    239.9,2,    54.53,2,    34.57,2,   2215.4,2,   2301.8,2,    -9.00,9,  1.25062224
  35MF19981205,  OISO,    11,  1,     24,19981217,-56.5092,  62.9908, 4770,    200.5,   1.2600,  34.2230,2,  -9.0000,9,    248.5,2,     -9.0,9,    -9.00,9,    -9.00,9,     -9.0,9,     -9.0,9,     0.03,2,  1.25062334
  35MF19981205,  OISO,    11,  1,      8,19981217,-56.5092,  62.9908, 4770,    249.7,   1.9200,  34.4130,2,  -9.0000,9,    200.7,2,     -9.0,9,    66.52,2,    36.01,2,   2242.6,2,   2315.1,2,    -9.00,9,  1.90676921
  35MF19981205,  OISO,    11,  1,      7,19981217,-56.5092,  62.9908, 4770,    301.2,   1.9800,  34.4750,2,  -9.0000,9,    190.0,2,     -9.0,9,    71.01,2,    36.69,2,   2249.0,2,   2320.7,2,    -9.00,9,  1.96372786
  35MF19981205,  OISO,    11,  1,      6,19981217,-56.5092,  62.9908, 4770,    402.0,   2.0500,  34.5620,2,  -9.0000,9,    183.6,2,     -9.0,9,    75.54,2,    35.77,2,   2252.8,2,   2328.9,2,    -9.00,9,  2.02765033
  35MF19981205,  OISO,    11,  1,      5,19981217,-56.5092,  62.9908, 4770,    499.7,   2.0500,  34.6090,2,  34.6070,2,    183.4,2,    175.0,2,    78.25,2,    35.52,2,   2253.5,2,   2331.5,2,    -9.00,9,   2.0217716
  35MF19981205,  OISO,    11,  1,      4,19981217,-56.5092,  62.9908, 4770,    601.8,   2.0500,  34.6540,2,  -9.0000,9,    185.7,2,     -9.0,9,    80.78,2,    34.81,2,   2251.3,2,   2336.6,2,    -9.00,9,  2.01544393
  35MF19981205,  OISO,    11,  1,      3,19981217,-56.5092,  62.9908, 4770,    801.0,   2.0200,  34.7090,2,  -9.0000,9,    193.8,2,     -9.0,9,    81.02,2,    33.21,2,   2248.5,2,   2341.5,2,    -9.00,9,  1.97280513
  35MF19981205,  OISO,    11,  1,     23,19981217,-56.5092,  62.9908, 4770,   1000.6,   1.9200,  34.7380,2,  -9.0000,9,    201.9,2,     -9.0,9,    -9.00,9,    -9.00,9,     -9.0,9,     -9.0,9,    -9.00,9,  1.86015431
  35MF19981205,  OISO,    11,  1,      1,19981217,-56.5092,  62.9908, 4770,   1001.1,   1.9200,  34.7380,2,  34.7390,2,    201.9,2,    205.4,2,    82.61,2,    32.04,2,   2244.3,2,   2342.2,2,    -9.00,9,  1.86011856
  35MF19981205,  OISO,    11,  1,      2,19981217,-56.5092,  62.9908, 4770,   1001.5,   1.9200,  34.7390,2,  -9.0000,9,    202.0,2,     -9.0,9,    81.36,2,    32.65,2,   2243.7,2,   2341.4,2,    -9.00,9,  1.86009136
  35MF19981205,  OISO,    11,  2,     17,19981217,-56.5092,  62.9908, 4770,   1006.3,   1.8600,  34.7380,2,  34.7390,2,    195.8,2,    194.8,2,    82.86,2,    32.52,2,   2248.9,2,   2353.6,2,    -9.00,9,  1.80024406
  35MF19981205,  OISO,    11,  2,     16,19981217,-56.5092,  62.9908, 4770,   1221.5,   1.6700,  34.7440,2,  -9.0000,9,    201.3,2,     -9.0,9,    87.56,2,    32.29,2,   2246.1,2,   2352.9,2,    -9.00,9,  1.59714017
  35MF19981205,  OISO,    11,  2,     15,19981217,-56.5092,  62.9908, 4770,   1426.1,   1.5300,  34.7470,2,  -9.0000,9,    205.6,2,     -9.0,9,    90.11,2,    32.31,2,   2245.0,2,   2351.3,2,    -9.00,9,  1.44411686
  35MF19981205,  OISO,    11,  2,     23,19981217,-56.5092,  62.9908, 4770,   1629.3,   1.3100,  34.7360,2,  -9.0000,9,    207.0,2,     -9.0,9,    -9.00,9,    -9.00,9,     -9.0,9,     -9.0,9,    -9.00,9,  1.21201489
  35MF19981205,  OISO,    11,  2,     14,19981217,-56.5092,  62.9908, 4770,   1629.3,   1.3100,  34.7360,2,  -9.0000,9,    207.0,2,     -9.0,9,    95.79,2,    32.52,2,   2250.3,2,   2356.1,2,    -9.00,9,  1.21201489
  35MF19981205,  OISO,    11,  2,     13,19981217,-56.5092,  62.9908, 4770,   1828.8,   1.1500,  34.7280,2,  -9.0000,9,    208.7,2,     -9.0,9,   101.34,2,    33.16,2,   2250.8,2,   2357.4,2,    -9.00,9,   1.0393467
  35MF19981205,  OISO,    11,  2,     12,19981217,-56.5092,  62.9908, 4770,   2032.0,   0.9700,  34.7170,2,  34.7190,2,    209.8,2,    209.0,2,   106.81,2,    33.13,2,   2255.7,2,   2356.1,2,    -9.00,9, 0.846554933
  35MF19981205,  OISO,    11,  2,     11,19981217,-56.5092,  62.9908, 4770,   2530.0,   0.5500,  34.6920,2,  -9.0000,9,    211.7,2,     -9.0,9,    -9.00,9,    -9.00,9,   2258.3,2,   2354.4,2,    -9.00,9, 0.394342642
  35MF19981205,  OISO,    11,  2,     10,19981217,-56.5092,  62.9908, 4770,   3039.0,   0.2900,  34.6790,2,  34.6780,2,    217.1,2,    217.8,2,   124.74,2,    33.99,2,   2261.3,2,   2364.7,2,    -9.00,9,0.0966273521
  35MF19981205,  OISO,    11,  2,      9,19981217,-56.5092,  62.9908, 4770,   3551.5,   0.0900,  34.6700,2,  -9.0000,9,    223.6,2,     -9.0,9,   127.89,2,    34.75,2,   2258.7,2,   2356.8,2,    -9.00,9, -0.14509736
  35MF19981205,  OISO,    11,  2,      8,19981217,-56.5092,  62.9908, 4770,   4067.8,  -0.0900,  34.6620,2,  34.6640,2,    230.5,2,    233.9,2,   129.10,2,    34.02,2,   2256.7,2,   2356.7,2,    -9.00,9,-0.370290672
  35MF19981205,  OISO,    11,  2,      7,19981217,-56.5092,  62.9908, 4770,   4272.3,  -0.1400,  34.6590,2,  -9.0000,9,    232.2,2,     -9.0,9,   130.93,2,    34.23,2,   2256.0,2,   2353.8,2,    -9.00,9,-0.439545397
  35MF19981205,  OISO,    11,  2,      6,19981217,-56.5092,  62.9908, 4770,   4486.7,  -0.1700,  34.6580,2,  -9.0000,9,    234.1,2,     -9.0,9,   133.17,2,    34.18,2,   2252.1,2,   2354.5,2,    -9.00,9,-0.490962318
  35MF19981205,  OISO,    11,  2,      5,19981217,-56.5092,  62.9908, 4770,   4599.8,  -0.1800,  34.6570,2,  34.6560,2,    237.0,2,    243.4,2,   134.49,2,    34.15,2,   2262.3,2,     -9.0,9,    -9.00,9,-0.512660395
  35MF19981205,  OISO,    11,  2,      4,19981217,-56.5092,  62.9908, 4770,   4700.8,  -0.1900,  34.6560,2,  -9.0000,9,    235.2,2,     -9.0,9,   134.67,2,    34.02,2,   2252.3,2,   2353.7,2,    -9.00,9,-0.533220038
  35MF19981205,  OISO,    11,  2,      3,19981217,-56.5092,  62.9908, 4770,   4751.8,  -0.1900,  34.6560,2,  -9.0000,9,    235.3,2,     -9.0,9,   134.90,2,    33.64,2,   2250.0,2,   2357.6,2,    -9.00,9,-0.538767614
  35MF19981205,  OISO,    11,  2,      1,19981217,-56.5092,  62.9908, 4770,   4759.2,  -0.1900,  34.6560,2,  34.6540,2,    235.6,2,    240.4,2,   134.78,2,    34.59,2,   2251.0,2,   2355.0,2,     0.00,2,-0.539560124
  35MF19981205,  OISO,    11,  2,      2,19981217,-56.5092,  62.9908, 4770,   4759.9,  -0.1900,  34.6560,2,  -9.0000,9,    235.8,2,     -9.0,9,   134.88,2,    34.21,2,   2251.4,2,   2352.5,2,    -9.00,9,-0.539651903