BOTTLE,20081205PRINUNIVRMKPRINUNIVRMK
EXPOCODE,SECT_ID,STNNBR,CASTNO,BTLNBR,DATE,LATITUDE,LONGITUDE,DEPTH,CTDPRS,CTDTMP,CTDSAL,CTDSAL_FLAG_W,SALNTY,SALNTY_FLAG_W,CTDOXY,CTDOXY_FLAG_W,OXYGEN,OXYGEN_FLAG_W,SILCAT,SILCAT_FLAG_W,NITRAT,NITRAT_FLAG_W,TCARBN,TCARBN_FLAG_W,ALKALI,ALKALI_FLAG_W,CHLORA,CHLORA_FLAG_W,THETA
,,,,,,,,METERS,DBARS,ITS-90,PSS-78,,PSS-78,,UMOL/KG,,UMOL/KG,,UMOL/KG,,UMOL/KG,,UMOL/KG,,UMOL/KG,,UG/L,,DEGC
  35MF19981205,  OISO,     5,  1,     19,19981208,-42.5000,  52.4800, 3582,      5.4,  10.0400,  33.8070,2,  33.8070,2,    305.3,2,    313.9,2,     0.66,2,    10.64,2,   2028.3,2,     -9.0,9,     0.92,2,  10.0393873
  35MF19981205,  OISO,     5,  1,     18,19981208,-42.5000,  52.4800, 3582,     10.1,   8.8600,  33.8020,2,  -9.0000,9,    304.2,2,     -9.0,9,     1.54,2,    13.65,2,   2052.4,2,     -9.0,9,     1.45,2,  8.85894271
  35MF19981205,  OISO,     5,  1,     17,19981208,-42.5000,  52.4800, 3582,     21.4,   8.6500,  33.8030,2,  33.8040,2,    301.7,2,    305.2,2,     3.82,2,    15.28,2,   2062.8,2,   2263.9,2,     0.87,2,  8.64779202
  35MF19981205,  OISO,     5,  1,     16,19981208,-42.5000,  52.4800, 3582,     30.8,   8.5500,  33.8030,2,  -9.0000,9,    301.7,2,     -9.0,9,     3.95,2,    15.63,2,   2065.9,2,   2290.8,2,     0.75,2,  8.54684358
  35MF19981205,  OISO,     5,  1,     15,19981208,-42.5000,  52.4800, 3582,     39.8,   7.6500,  33.8710,2,  -9.0000,9,    297.8,2,     -9.0,9,     3.75,2,    16.69,2,   2081.3,2,   2282.8,2,     1.47,2,  7.64618649
  35MF19981205,  OISO,     5,  1,     14,19981208,-42.5000,  52.4800, 3582,     50.2,   7.1700,  33.9140,2,  33.9200,2,    295.6,2,    295.0,2,     4.52,2,    17.46,2,   2095.4,2,   2301.2,2,     0.84,2,  7.16536704
  35MF19981205,  OISO,     5,  1,     13,19981208,-42.5000,  52.4800, 3582,     74.3,   7.2900,  33.9990,2,  -9.0000,9,    292.1,2,     -9.0,9,     4.79,2,    17.82,2,   2094.3,2,     -9.0,9,     0.21,2,  7.28305301
  35MF19981205,  OISO,     5,  1,     12,19981208,-42.5000,  52.4800, 3582,    100.6,   6.3100,  33.9040,2,  -9.0000,9,    298.3,2,     -9.0,9,     5.28,2,    19.86,2,   2096.9,2,   2304.5,2,     0.07,2,  6.30135058
  35MF19981205,  OISO,     5,  1,     11,19981208,-42.5000,  52.4800, 3582,    125.7,   6.0300,  33.9210,2,  -9.0000,9,    299.0,2,     -9.0,9,     6.36,2,    20.41,2,   2101.3,2,   2294.2,2,     0.04,2,  6.01943998
  35MF19981205,  OISO,     5,  1,     10,19981208,-42.5000,  52.4800, 3582,    149.7,   6.1400,  34.0150,2,  -9.0000,9,    292.2,2,     -9.0,9,     7.27,2,    20.84,2,   2103.8,2,   2302.2,2,    -9.00,9,  6.12724725
  35MF19981205,  OISO,     5,  1,      9,19981208,-42.5000,  52.4800, 3582,    200.5,   4.8500,  33.9390,2,  33.9370,2,    303.1,2,    295.3,2,     9.91,2,    22.72,2,   2118.0,2,   2309.0,2,    -9.00,9,  4.83489407
  35MF19981205,  OISO,     5,  1,     24,19981208,-42.5000,  52.4800, 3582,    201.2,   4.8500,  33.9390,2,  -9.0000,9,    302.8,2,     -9.0,9,    -9.00,9,    -9.00,9,     -9.0,9,     -9.0,9,    -9.00,9,   4.8348396
  35MF19981205,  OISO,     5,  1,      8,19981208,-42.5000,  52.4800, 3582,    250.3,   4.5100,  33.9570,2,  -9.0000,9,    300.4,2,     -9.0,9,    11.77,2,    23.81,2,     -9.0,9,     -9.0,9,    -9.00,9,  4.49171165
  35MF19981205,  OISO,     5,  1,      7,19981208,-42.5000,  52.4800, 3582,    301.1,   4.8700,  34.1020,2,  -9.0000,9,    277.2,2,     -9.0,9,    12.94,2,    25.18,2,   2137.4,2,   2302.6,2,    -9.00,9,  4.84695708
  35MF19981205,  OISO,     5,  1,      6,19981208,-42.5000,  52.4800, 3582,    400.2,   4.8700,  34.2370,2,  -9.0000,9,    251.9,2,     -9.0,9,    16.54,2,    27.80,2,   2154.5,2,   2312.3,2,    -9.00,9,  4.83898728
  35MF19981205,  OISO,     5,  1,      5,19981208,-42.5000,  52.4800, 3582,    500.4,   4.0500,  34.2230,2,  34.2200,2,    249.3,2,    242.7,2,    21.38,2,    29.73,2,   2167.8,2,   2311.5,2,    -9.00,9,  4.01407554
  35MF19981205,  OISO,     5,  1,      4,19981208,-42.5000,  52.4800, 3582,    600.6,   3.3700,  34.2300,2,  -9.0000,9,    239.5,2,     -9.0,9,    28.57,2,    31.49,2,   2184.0,2,   2322.4,2,    -9.00,9,  3.32962919
  35MF19981205,  OISO,     5,  1,      3,19981208,-42.5000,  52.4800, 3582,    802.6,   2.9100,  34.3450,2,  -9.0000,9,    203.9,2,     -9.0,9,    45.84,2,    34.22,2,     -9.0,9,     -9.0,9,    -9.00,9,  2.85753252
  35MF19981205,  OISO,     5,  1,      2,19981208,-42.5000,  52.4800, 3582,   1004.2,   2.7300,  34.4620,2,  -9.0000,9,    181.0,2,     -9.0,9,    57.12,2,    34.65,2,   2236.6,2,   2374.7,2,    -9.00,9,  2.66397004
  35MF19981205,  OISO,     5,  1,     23,19981208,-42.5000,  52.4800, 3582,   1004.6,   2.7300,  34.4620,2,  -9.0000,9,    180.9,2,     -9.0,9,    -9.00,9,    -9.00,9,     -9.0,9,     -9.0,9,    -9.00,9,  2.66394055
  35MF19981205,  OISO,     5,  1,      1,19981208,-42.5000,  52.4800, 3582,   1004.7,   2.7300,  34.4620,2,  34.4590,2,    181.0,2,    184.0,2,    57.61,2,    34.96,2,   2233.6,2,   2377.9,2,    -9.00,9,  2.66393836
  35MF19981205,  OISO,     6,  1,     19,19981208,-45.0000,  52.1200, 3338,      4.5,   5.7500,  33.7670,2,  33.7640,2,    324.0,2,    329.6,2,     1.26,2,    18.23,2,   2079.9,2,   2283.3,2,     1.16,2,  5.74963691
  35MF19981205,  OISO,     6,  1,     18,19981208,-45.0000,  52.1200, 3338,     10.1,   5.7400,  33.7670,2,  -9.0000,9,    325.4,2,     -9.0,9,     1.32,2,    18.32,2,   2079.3,2,   2282.4,2,     1.17,2,   5.7391854
  35MF19981205,  OISO,     6,  1,     17,19981208,-45.0000,  52.1200, 3338,     20.0,   5.7300,  33.7670,2,  33.7680,2,    326.8,2,    329.7,2,     1.41,2,    18.32,2,   2081.7,2,   2285.4,2,     1.15,2,  5.72838702
  35MF19981205,  OISO,     6,  1,     16,19981208,-45.0000,  52.1200, 3338,     30.2,   5.4100,  33.7690,2,  -9.0000,9,    324.8,2,     -9.0,9,     1.52,2,    18.93,2,   2086.5,2,   2295.8,2,     1.77,2,  5.40763814
  35MF19981205,  OISO,     6,  1,     15,19981208,-45.0000,  52.1200, 3338,     40.3,   5.2700,  33.7720,2,  -9.0000,9,    323.3,2,     -9.0,9,     1.72,2,    19.12,2,   2091.1,2,     -9.0,9,     2.12,2,  5.26688956
  35MF19981205,  OISO,     6,  1,     14,19981208,-45.0000,  52.1200, 3338,     49.1,   5.2000,  33.7730,2,  33.7720,2,    322.9,2,    320.6,2,     2.03,2,    19.31,2,   2091.6,2,   2285.0,2,     1.90,2,  5.19623429
  35MF19981205,  OISO,     6,  1,     13,19981208,-45.0000,  52.1200, 3338,     73.9,   5.1200,  33.7730,2,  -9.0000,9,    323.6,2,     -9.0,9,     2.84,2,    19.66,2,   2106.7,2,     -9.0,9,     1.74,2,  5.11436518
  35MF19981205,  OISO,     6,  1,     12,19981208,-45.0000,  52.1200, 3338,     99.9,   4.0600,  33.7780,2,  -9.0000,9,    321.5,2,     -9.0,9,     9.88,2,    23.00,2,   2112.6,2,   2295.9,2,     0.57,2,  4.05320528
  35MF19981205,  OISO,     6,  1,     11,19981208,-45.0000,  52.1200, 3338,    124.6,   3.7600,  33.7950,2,  -9.0000,9,    320.4,2,     -9.0,9,    12.60,2,    24.01,2,   2122.1,2,   2295.9,2,     0.31,2,   3.7517978
  35MF19981205,  OISO,     6,  1,     10,19981208,-45.0000,  52.1200, 3338,    149.6,   3.4900,  33.8550,2,  -9.0000,9,    311.2,2,     -9.0,9,    15.37,2,    26.42,2,   2133.8,2,   2297.5,2,    -9.00,9,  3.48043236
  35MF19981205,  OISO,     6,  1,      9,19981208,-45.0000,  52.1200, 3338,    201.2,   3.3900,  34.0030,2,  34.0030,2,    290.4,2,    282.9,2,    18.76,2,    28.37,2,   2149.3,2,   2298.0,2,    -9.00,9,   3.3771598
  35MF19981205,  OISO,     6,  1,     24,19981208,-45.0000,  52.1200, 3338,    201.3,   3.3800,  34.0020,2,  -9.0000,9,    290.9,2,     -9.0,9,    -9.00,9,    -9.00,9,     -9.0,9,     -9.0,9,    -9.00,9,  3.36716983
  35MF19981205,  OISO,     6,  1,      8,19981208,-45.0000,  52.1200, 3338,    249.2,   3.4100,  34.0990,2,  -9.0000,9,    275.6,2,     -9.0,9,    20.87,2,    29.77,2,   2160.0,2,   2301.1,2,    -9.00,9,  3.39391936
  35MF19981205,  OISO,     6,  1,      7,19981208,-45.0000,  52.1200, 3338,    299.9,   3.1500,  34.1320,2,  -9.0000,9,    267.3,2,     -9.0,9,    23.89,2,    30.97,2,   2165.7,2,   2306.1,2,    -9.00,9,  3.13113595
  35MF19981205,  OISO,     6,  1,      6,19981208,-45.0000,  52.1200, 3338,    398.3,   2.7900,  34.1910,2,  -9.0000,9,    245.1,2,     -9.0,9,    31.99,2,    33.00,2,   2185.7,2,   2315.1,2,    -9.00,9,  2.76574343
  35MF19981205,  OISO,     6,  1,      5,19981208,-45.0000,  52.1200, 3338,    500.5,   2.6700,  34.2770,2,  34.2760,2,    217.7,2,    216.5,2,    42.12,2,    34.77,2,     -9.0,9,     -9.0,9,    -9.00,9,  2.63951256
  35MF19981205,  OISO,     6,  1,      4,19981208,-45.0000,  52.1200, 3338,    600.0,   2.6900,  34.3640,2,  -9.0000,9,    198.6,2,     -9.0,9,    50.54,2,    35.17,2,   2217.7,2,   2326.9,2,    -9.00,9,  2.65277954
  35MF19981205,  OISO,     6,  1,      3,19981208,-45.0000,  52.1200, 3338,    799.9,   2.5600,  34.4950,2,  -9.0000,9,    178.1,2,     -9.0,9,    62.39,2,    35.61,2,   2237.1,2,   2336.7,2,    -9.00,9,  2.50973584
  35MF19981205,  OISO,     6,  1,      1,19981208,-45.0000,  52.1200, 3338,   1001.9,   2.4600,  34.5910,2,  34.5890,2,    175.0,2,    177.6,2,    68.02,2,    34.74,2,     -9.0,9,     -9.0,9,    -9.00,9,  2.39604774
  35MF19981205,  OISO,     6,  1,     23,19981208,-45.0000,  52.1200, 3338,   1001.9,   2.4600,  34.5920,2,  -9.0000,9,    175.0,2,     -9.0,9,    -9.00,9,    -9.00,9,     -9.0,9,     -9.0,9,    -9.00,9,  2.39604254
  35MF19981205,  OISO,     6,  1,      2,19981208,-45.0000,  52.1200, 3338,   1002.3,   2.4600,  34.5920,2,  -9.0000,9,    175.1,2,     -9.0,9,    67.61,2,    34.73,2,   2247.7,2,   2349.5,2,    -9.00,9,  2.39601379
  35MF19981205,  OISO,     7,  1,     19,19981211,-47.6700,  58.0000, 4479,      6.0,   5.3900,  -9.0000,9,  33.7350,2,     -9.0,9,    310.3,2,     5.18,2,    20.74,2,     -9.0,9,     -9.0,9,     0.35,2,  5.38953312
  35MF19981205,  OISO,     7,  1,     18,19981211,-47.6700,  58.0000, 4479,     10.0,   5.4300,  -9.0000,9,  -9.0000,9,     -9.0,9,     -9.0,9,     6.45,2,    21.32,2,   2098.5,2,   2265.4,2,     0.37,2,          -9
  35MF19981205,  OISO,     7,  1,     17,19981211,-47.6700,  58.0000, 4479,     21.0,   5.4500,  33.7370,2,  33.7370,2,    306.6,2,    310.3,2,     5.52,2,    20.77,2,   2096.0,2,   2264.4,2,     0.34,2,  5.44835357
  35MF19981205,  OISO,     7,  1,     16,19981211,-47.6700,  58.0000, 4479,     30.0,   5.4500,  33.7380,2,  -9.0000,9,    306.2,2,     -9.0,9,     5.99,2,    21.35,2,   2097.8,2,   2263.9,2,     0.35,2,  5.44764591
  35MF19981205,  OISO,     7,  1,     15,19981211,-47.6700,  58.0000, 4479,     40.0,   5.4200,  33.7390,2,  -9.0000,9,    306.8,2,     -9.0,9,     5.60,2,    21.30,2,   2101.2,2,   2266.5,2,     0.35,2,  5.41686765
  35MF19981205,  OISO,     7,  1,     14,19981211,-47.6700,  58.0000, 4479,     50.0,   5.2700,  33.7400,2,  33.7350,2,    306.3,2,    311.0,2,     5.32,2,    20.71,2,   2101.4,2,   2264.2,2,     0.35,2,  5.26614037
  35MF19981205,  OISO,     7,  1,     13,19981211,-47.6700,  58.0000, 4479,     74.0,   5.1300,  33.7410,2,  -9.0000,9,    304.0,2,     -9.0,9,     5.16,2,    21.44,2,   2105.1,2,   2264.7,2,     0.39,2,  5.12435561
  35MF19981205,  OISO,     7,  1,     12,19981211,-47.6700,  58.0000, 4479,    100.0,   4.7400,  33.7480,2,  -9.0000,9,    303.0,2,     -9.0,9,     8.50,2,    22.52,2,   2112.5,2,   2266.1,2,     0.27,2,  4.73266072
  35MF19981205,  OISO,     7,  1,     11,19981211,-47.6700,  58.0000, 4479,    122.0,   4.1300,  33.7710,2,  -9.0000,9,    302.6,2,     -9.0,9,    10.64,2,    24.09,2,   2121.1,2,   2266.2,2,     0.08,2,  4.12161411
  35MF19981205,  OISO,     7,  1,     10,19981211,-47.6700,  58.0000, 4479,    150.0,   3.9400,  33.8090,2,  -9.0000,9,    301.0,2,     -9.0,9,    12.67,2,    24.80,2,   2123.6,2,   2267.7,2,    -9.00,9,  3.92987522
  35MF19981205,  OISO,     7,  1,     24,19981211,-47.6700,  58.0000, 4479,    200.0,   3.5400,  33.9140,2,  -9.0000,9,    297.6,2,     -9.0,9,    -9.00,9,    -9.00,9,     -9.0,9,     -9.0,9,    -9.00,9,  3.52702761
  35MF19981205,  OISO,     7,  1,      9,19981211,-47.6700,  58.0000, 4479,    200.0,   3.5400,  33.9140,2,  33.9220,2,    297.6,2,    292.4,2,    16.63,2,    26.66,2,   2141.5,2,   2269.9,2,    -9.00,9,  3.52702484
  35MF19981205,  OISO,     7,  1,      8,19981211,-47.6700,  58.0000, 4479,    250.0,   3.3800,  34.0560,2,  -9.0000,9,    279.6,2,     -9.0,9,    21.26,2,    29.37,2,   2160.7,2,   2278.8,2,    -9.00,9,  3.36394508
  35MF19981205,  OISO,     7,  1,      7,19981211,-47.6700,  58.0000, 4479,    302.0,   3.1800,  34.1130,2,  -9.0000,9,    269.5,2,     -9.0,9,    24.04,2,    30.65,2,   2163.8,2,   2276.0,2,    -9.00,9,  3.16093584
  35MF19981205,  OISO,     7,  1,      6,19981211,-47.6700,  58.0000, 4479,    396.0,   2.9200,  34.1670,2,  -9.0000,9,    253.2,2,     -9.0,9,    29.36,2,    32.41,2,   2181.3,2,   2284.3,2,    -9.00,9,  2.89549306
  35MF19981205,  OISO,     7,  1,      5,19981211,-47.6700,  58.0000, 4479,    500.0,   2.7100,  34.2370,2,  34.2440,2,    231.7,2,    223.0,2,    37.38,2,    32.96,2,   2202.9,2,   2293.3,2,    -9.00,9,   2.6794124
  35MF19981205,  OISO,     7,  1,      4,19981211,-47.6700,  58.0000, 4479,    600.0,   2.6800,  34.3160,2,  -9.0000,9,    210.3,2,     -9.0,9,    47.22,2,    34.94,2,   2216.4,2,   2299.9,2,    -9.00,9,  2.64287774
  35MF19981205,  OISO,     7,  1,      3,19981211,-47.6700,  58.0000, 4479,    800.0,   2.5700,  34.4530,2,  -9.0000,9,    186.6,2,     -9.0,9,    -9.00,9,    -9.00,9,     -9.0,9,     -9.0,9,    -9.00,9,  2.51972378
  35MF19981205,  OISO,     7,  1,     23,19981211,-47.6700,  58.0000, 4479,   1001.5,   2.5000,  34.5770,2,  -9.0000,9,    179.8,2,     -9.0,9,    -9.00,9,    -9.00,9,     -9.0,9,     -9.0,9,    -9.00,9,  2.43578172
  35MF19981205,  OISO,     7,  1,      1,19981211,-47.6700,  58.0000, 4479,   1001.8,   2.5000,  34.5770,2,  34.5770,2,    179.9,2,    185.4,2,    66.16,2,    33.97,2,   2242.0,2,   2329.5,2,    -9.00,9,  2.43576009
  35MF19981205,  OISO,     7,  1,      2,19981211,-47.6700,  58.0000, 4479,   1002.0,   2.5000,  34.5760,2,  -9.0000,9,    179.5,2,     -9.0,9,    66.19,2,    33.68,2,   2247.1,2,   2327.7,2,    -9.00,9,  2.43574739
  35MF19981205,  OISO,     8,  1,     19,19981212,-48.0000,  60.0000, 4259,      5.9,   4.3200,  33.7610,2,  33.7610,2,    308.3,2,    322.1,2,     8.72,2,    22.46,2,   2110.0,2,   2266.6,2,     0.73,2,   4.3195909
  35MF19981205,  OISO,     8,  1,     18,19981212,-48.0000,  60.0000, 4259,     12.0,   4.3200,  33.7610,2,  -9.0000,9,    309.6,2,     -9.0,9,     9.22,2,    22.45,2,   2111.8,2,   2267.8,2,     0.71,2,  4.31916736
  35MF19981205,  OISO,     8,  1,     17,19981212,-48.0000,  60.0000, 4259,     20.5,   4.3200,  33.7620,2,  33.7600,2,    312.3,2,    322.4,2,     8.91,2,    22.62,2,   2111.2,2,   2267.6,2,     0.64,2,  4.31857626
  35MF19981205,  OISO,     8,  1,     16,19981212,-48.0000,  60.0000, 4259,     28.9,   4.3200,  33.7620,2,  -9.0000,9,    314.9,2,     -9.0,9,     9.42,2,    22.65,2,   2107.9,2,   2266.7,2,     0.67,2,  4.31799089
  35MF19981205,  OISO,     8,  1,     15,19981212,-48.0000,  60.0000, 4259,     39.4,   4.3000,  33.7620,2,  -9.0000,9,    317.4,2,     -9.0,9,     9.16,2,    22.65,2,   2113.8,2,   2268.1,2,     0.63,2,  4.29726404
  35MF19981205,  OISO,     8,  1,     14,19981212,-48.0000,  60.0000, 4259,     51.7,   4.3100,  33.7610,2,  33.7620,2,    322.1,2,    321.9,2,     9.36,2,    22.72,2,   2111.1,2,   2268.8,2,     0.62,2,  4.30640084
  35MF19981205,  OISO,     8,  1,     13,19981212,-48.0000,  60.0000, 4259,     75.1,   4.0200,  33.7610,2,  -9.0000,9,    325.0,2,     -9.0,9,    11.36,2,    23.23,2,   2115.3,2,   2266.5,2,     0.56,2,  4.01493296
  35MF19981205,  OISO,     8,  1,     12,19981212,-48.0000,  60.0000, 4259,    100.8,   3.9300,  33.7640,2,  -9.0000,9,    328.7,2,     -9.0,9,    10.54,2,    23.48,2,   2116.9,2,   2267.6,2,     0.38,2,    3.923251
  35MF19981205,  OISO,     8,  1,     11,19981212,-48.0000,  60.0000, 4259,    124.3,   3.5200,  33.7740,2,  -9.0000,9,    332.9,2,     -9.0,9,    12.39,2,    23.52,2,   2120.1,2,   2267.8,2,     0.22,2,  3.51206293
  35MF19981205,  OISO,     8,  1,     10,19981212,-48.0000,  60.0000, 4259,    149.8,   3.1900,  33.7810,2,  -9.0000,9,    337.7,2,     -9.0,9,    13.84,2,    24.55,2,   2126.4,2,   2272.7,2,    -9.00,9,  3.18080223
  35MF19981205,  OISO,     8,  1,     24,19981212,-48.0000,  60.0000, 4259,    200.6,   2.8700,  33.8030,2,  -9.0000,9,    337.5,2,     -9.0,9,    -9.00,9,    -9.00,9,     -9.0,9,     -9.0,9,    -9.00,9,  2.85811366
  35MF19981205,  OISO,     8,  1,      9,19981212,-48.0000,  60.0000, 4259,    200.8,   2.8600,  33.8030,2,  33.8010,2,    336.7,2,    319.1,2,    15.22,2,    25.36,2,   2131.8,2,   2269.8,2,    -9.00,9,  2.84811851
  35MF19981205,  OISO,     8,  1,      8,19981212,-48.0000,  60.0000, 4259,    250.2,   2.8400,  33.9310,2,  -9.0000,9,    312.9,2,     -9.0,9,    18.93,2,    27.73,2,   2146.8,2,   2273.2,2,    -9.00,9,  2.82507775
  35MF19981205,  OISO,     8,  1,      7,19981212,-48.0000,  60.0000, 4259,    299.4,   2.9500,  34.1030,2,  -9.0000,9,    280.2,2,     -9.0,9,    24.34,2,    30.03,2,   2163.9,2,   2276.3,2,    -9.00,9,  2.93166655
  35MF19981205,  OISO,     8,  1,      6,19981212,-48.0000,  60.0000, 4259,    402.1,   2.6600,  34.1890,2,  -9.0000,9,    248.9,2,     -9.0,9,    32.69,2,    32.55,2,   2187.7,2,   2287.2,2,    -9.00,9,  2.63592255
  35MF19981205,  OISO,     8,  1,      5,19981212,-48.0000,  60.0000, 4259,    501.3,   2.6600,  34.2620,2,  34.2620,2,    222.2,2,    215.0,2,    41.17,2,    34.12,2,   2205.2,2,   2295.5,2,    -9.00,9,  2.62951314
  35MF19981205,  OISO,     8,  1,      4,19981212,-48.0000,  60.0000, 4259,    599.9,   2.5700,  34.3530,2,  -9.0000,9,    197.3,2,     -9.0,9,    50.51,2,    35.43,2,   2228.6,2,   2308.9,2,    -9.00,9,  2.53337379
  35MF19981205,  OISO,     8,  1,      3,19981212,-48.0000,  60.0000, 4259,    799.6,   2.4400,  34.4830,2,  -9.0000,9,    178.6,2,     -9.0,9,    62.43,2,    35.48,2,   2242.5,2,   2320.1,2,    -9.00,9,  2.39053566
  35MF19981205,  OISO,     8,  1,     23,19981212,-48.0000,  60.0000, 4259,    799.7,   2.4400,  34.4830,2,  -9.0000,9,    178.4,2,     -9.0,9,    -9.00,9,    -9.00,9,     -9.0,9,     -9.0,9,    -9.00,9,  2.39052883
  35MF19981205,  OISO,     8,  1,      1,19981212,-48.0000,  60.0000, 4259,    999.3,   2.4000,  34.5810,2,  34.5800,2,    174.7,2,    175.9,2,    68.26,2,    34.52,2,   2245.6,2,   2328.1,2,    -9.00,9,  2.33672271
  35MF19981205,  OISO,     8,  1,      2,19981212,-48.0000,  60.0000, 4259,   1000.9,   2.4000,  34.5820,2,  -9.0000,9,    174.4,2,     -9.0,9,    68.29,2,    34.29,2,   2246.3,2,   2329.6,2,    -9.00,9,  2.33660508