BOTTLE,20081205PRINUNIVRMKPRINUNIVRMK
# 5/3/07 Initialized README file 
# Data from C. Lo Monaco 1/15/07 
# Ship: Marion Dufresne 
# Cruise:	OISO-03 
# Dates: 12/5-12/27/1998 
# EXPOCODE: 35M19981205 
# Chief Scientist: N. Metzl 
# 17 stations 
# Hydro: Who - ; Status - final 
# 	Notes: 	only enough salinity to calibrate CTD 
# Nuts/O2: Who - ; Status - final 
# 	Notes: No phosphate 
# TCO2: Who - C.LoMonaco; Status - final 
# 	Notes: CRM? 
# TA: Who - C.LoMonaco; Status - final 
# 	Notes: CRM? 
# fCO2: Who - ; Status -  Underway only 
EXPOCODE,SECT_ID,STNNBR,CASTNO,BTLNBR,DATE,LATITUDE,LONGITUDE,DEPTH,CTDPRS,CTDTMP,CTDSAL,CTDSAL_FLAG_W,SALNTY,SALNTY_FLAG_W,CTDOXY,CTDOXY_FLAG_W,OXYGEN,OXYGEN_FLAG_W,SILCAT,SILCAT_FLAG_W,NITRAT,NITRAT_FLAG_W,TCARBN,TCARBN_FLAG_W,ALKALI,ALKALI_FLAG_W,CHLORA,CHLORA_FLAG_W,THETA
,,,,,,,,METERS,DBARS,ITS-90,PSS-78,,PSS-78,,UMOL/KG,,UMOL/KG,,UMOL/KG,,UMOL/KG,,UMOL/KG,,UMOL/KG,,UG/L,,DEGC
  35MF19981205,  OISO,     1,  1,     19,19981205,-28.0000,  54.3500, 5241,     -9.0,  -9.0000,  -9.0000,9,  -9.0000,9,     -9.0,9,     -9.0,9,    -9.00,9,    -9.00,9,     -9.0,9,     -9.0,9,    -9.00,9,          -9
  35MF19981205,  OISO,     1,  1,     18,19981205,-28.0000,  54.3500, 5241,      9.0,  22.8800,  35.5700,2,  35.5720,2,     -9.0,9,    218.8,2,     1.91,2,     0.11,2,   2008.6,2,   2349.8,2,     0.10,2,  22.8781678
  35MF19981205,  OISO,     1,  1,     17,19981205,-28.0000,  54.3500, 5241,     20.2,  22.8700,  35.5680,2,  35.5750,2,    216.7,2,    219.3,2,     1.96,2,     0.10,2,   2014.9,2,   2350.1,2,     0.10,2,  22.8658884
  35MF19981205,  OISO,     1,  1,     16,19981205,-28.0000,  54.3500, 5241,     29.8,  22.1400,  35.6120,2,  -9.0000,9,    220.4,2,     -9.0,9,     1.89,2,     0.09,2,   2012.6,2,   2351.0,2,     0.10,2,  22.1340722
  35MF19981205,  OISO,     1,  1,     15,19981205,-28.0000,  54.3500, 5241,     40.1,  21.0300,  35.6760,2,  -9.0000,9,    227.1,2,     -9.0,9,     1.94,2,     0.09,2,   2027.0,2,   2352.0,2,     0.08,2,  21.0223074
  35MF19981205,  OISO,     1,  1,     14,19981205,-28.0000,  54.3500, 5241,     49.8,  20.5100,  35.6680,2,  35.6720,2,    230.9,2,    242.8,2,     1.92,2,     0.11,2,   2029.6,2,   2356.2,2,     0.11,2,  20.5006136
  35MF19981205,  OISO,     1,  1,     13,19981205,-28.0000,  54.3500, 5241,     75.3,  18.8300,  35.6480,2,  -9.0000,9,    237.6,2,     -9.0,9,     2.02,2,     0.10,2,   2030.6,2,   2354.3,2,     0.17,2,  18.8166329
  35MF19981205,  OISO,     1,  1,     12,19981205,-28.0000,  54.3500, 5241,     99.5,  17.9800,  35.6470,2,  -9.0000,9,    240.7,2,     -9.0,9,     2.03,2,     0.13,2,   2042.7,2,   2354.7,2,     0.22,2,   17.962889
  35MF19981205,  OISO,     1,  1,     11,19981205,-28.0000,  54.3500, 5241,    123.2,  17.1600,  35.6140,2,  -9.0000,9,    239.6,2,     -9.0,9,     2.13,2,     0.18,2,   2051.6,2,   2351.4,2,     0.43,2,  17.1394817
  35MF19981205,  OISO,     1,  1,     10,19981205,-28.0000,  54.3500, 5241,    149.1,  16.4700,  35.6040,2,  -9.0000,9,    239.3,2,     -9.0,9,     2.17,2,     0.67,2,   2062.1,2,   2353.3,2,    -9.00,9,  16.4458463
  35MF19981205,  OISO,     1,  1,      9,19981205,-28.0000,  54.3500, 5241,    200.1,  15.3200,  35.5100,2,  35.5130,2,    229.4,2,    223.5,2,     2.83,2,     3.49,2,   2081.4,2,   2343.8,2,    -9.00,9,  15.2891241
  35MF19981205,  OISO,     1,  1,     24,19981205,-28.0000,  54.3500, 5241,    202.2,  15.2900,  35.5070,2,  -9.0000,9,    229.1,2,     -9.0,9,    -9.00,9,    -9.00,9,     -9.0,9,     -9.0,9,    -9.00,9,  15.2588411
  35MF19981205,  OISO,     1,  1,      8,19981205,-28.0000,  54.3500, 5241,    248.1,  14.3600,  35.4210,2,  -9.0000,9,    229.2,2,     -9.0,9,     3.61,2,     5.84,2,   2085.2,2,   2340.5,2,    -9.00,9,   14.323325
  35MF19981205,  OISO,     1,  1,      7,19981205,-28.0000,  54.3500, 5241,    293.5,  13.8600,  35.3700,2,  -9.0000,9,    234.4,2,     -9.0,9,     3.69,2,     6.73,2,   2089.0,2,   2340.2,2,    -9.00,9,  13.8175828
  35MF19981205,  OISO,     1,  1,      6,19981205,-28.0000,  54.3500, 5241,    399.7,  12.9500,  35.2380,2,  -9.0000,9,    239.1,2,     -9.0,9,     3.94,2,     8.51,2,   2101.6,2,   2336.1,2,    -9.00,9,  12.8946203
  35MF19981205,  OISO,     1,  1,      5,19981205,-28.0000,  54.3500, 5241,    500.9,  12.0800,  35.0970,2,  35.0990,2,    241.8,2,    236.8,2,     4.38,2,    10.56,2,   2099.3,2,   2325.5,2,    -9.00,9,  12.0134808
  35MF19981205,  OISO,     1,  1,      4,19981205,-28.0000,  54.3500, 5241,    595.1,  11.2600,  34.9690,2,  -9.0000,9,    241.7,2,     -9.0,9,     5.02,2,    12.97,2,   2105.5,2,   2320.6,2,    -9.00,9,  11.1842178
  35MF19981205,  OISO,     1,  1,      3,19981205,-28.0000,  54.3500, 5241,    796.7,   8.9200,  34.6680,2,  -9.0000,9,    227.4,2,     -9.0,9,    -9.00,9,    -9.00,9,     -9.0,9,     -9.0,9,    -9.00,9,  8.83131641
  35MF19981205,  OISO,     1,  1,     23,19981205,-28.0000,  54.3500, 5241,   1000.5,   5.9000,  34.4420,2,  -9.0000,9,    208.9,2,     -9.0,9,    25.00,2,    29.91,2,     -9.0,9,     -9.0,9,    -9.00,9,  5.80993532
  35MF19981205,  OISO,     1,  1,      1,19981205,-28.0000,  54.3500, 5241,   1002.8,   5.9000,  34.4420,2,  34.4450,2,    208.4,2,    204.8,2,    25.10,2,    30.13,2,   2174.9,2,   2311.7,2,    -9.00,9,  5.80970752
  35MF19981205,  OISO,     1,  1,      2,19981205,-28.0000,  54.3500, 5241,   1003.1,   5.8800,  34.4410,2,  -9.0000,9,    208.7,2,     -9.0,9,    -9.00,9,    -9.00,9,     -9.0,9,     -9.0,9,    -9.00,9,  5.78983533
  35MF19981205,  OISO,     2,  1,     19,19981206,-30.0000,  54.1000, 4833,      5.4,  21.9600,  35.6550,2,  35.6590,2,     -9.0,9,    222.3,2,     1.94,2,     0.07,2,   2019.0,2,   2350.5,2,     0.07,2,  21.9589323
  35MF19981205,  OISO,     2,  1,     18,19981206,-30.0000,  54.1000, 4833,     13.0,  21.9400,  35.6550,2,  -9.0000,9,    222.1,2,     -9.0,9,     2.00,2,     0.17,2,   2019.5,2,   2356.2,2,     0.07,2,   21.937431
  35MF19981205,  OISO,     2,  1,     17,19981206,-30.0000,  54.1000, 4833,     21.8,  21.9400,  35.6550,2,  35.6580,2,    216.0,2,    222.4,2,     2.08,2,     0.05,2,   2014.5,2,   2348.9,2,     0.07,2,  21.9356913
  35MF19981205,  OISO,     2,  1,     16,19981206,-30.0000,  54.1000, 4833,     29.8,  21.8200,  35.6500,2,  -9.0000,9,    218.2,2,     -9.0,9,     1.98,2,     0.05,2,   2020.6,2,   2360.2,2,    -9.00,9,  21.8141326
  35MF19981205,  OISO,     2,  1,     15,19981206,-30.0000,  54.1000, 4833,     40.6,  20.9000,  35.6380,2,  -9.0000,9,    247.8,2,     -9.0,9,     1.94,2,     0.10,2,   2031.5,2,   2357.7,2,     0.07,2,  20.8922472
  35MF19981205,  OISO,     2,  1,     14,19981206,-30.0000,  54.1000, 4833,     51.4,  20.2000,  35.6400,2,  35.6440,2,    225.7,2,    232.7,2,     2.03,2,     0.08,2,   2018.6,2,   2337.4,4,    -9.00,9,  20.1904173
  35MF19981205,  OISO,     2,  1,     13,19981206,-30.0000,  54.1000, 4833,     77.2,  19.0000,  35.6600,2,  -9.0000,9,    228.8,2,     -9.0,9,     2.04,2,     0.11,2,   2035.1,2,   2361.8,2,     0.17,2,  18.9862073
  35MF19981205,  OISO,     2,  1,     12,19981206,-30.0000,  54.1000, 4833,    102.1,  18.1400,  35.6480,2,  -9.0000,9,    229.1,2,     -9.0,9,     2.24,2,     0.12,2,   2044.9,2,   2351.4,2,     0.54,2,   18.122332
  35MF19981205,  OISO,     2,  1,     11,19981206,-30.0000,  54.1000, 4833,    126.9,  17.5500,  35.6350,2,  -9.0000,9,    226.6,2,     -9.0,9,     2.49,2,     1.62,2,   2049.7,2,   2355.0,2,     0.40,2,   17.528529
  35MF19981205,  OISO,     2,  1,     10,19981206,-30.0000,  54.1000, 4833,    149.7,  17.2000,  35.6260,2,  -9.0000,9,    228.2,2,     -9.0,9,     2.39,2,     2.01,2,   2055.2,2,   2351.9,2,    -9.00,9,  17.1750097
  35MF19981205,  OISO,     2,  1,      9,19981206,-30.0000,  54.1000, 4833,    200.5,  16.2200,  35.5870,2,  35.5890,2,    232.7,2,    237.7,2,     2.39,2,     2.48,2,   2063.5,2,   2352.1,2,    -9.00,9,  16.1878177
  35MF19981205,  OISO,     2,  1,      8,19981206,-30.0000,  54.1000, 4833,    251.7,  15.2900,  35.5080,2,  -9.0000,9,    227.9,2,     -9.0,9,     3.25,2,     5.93,2,   2083.6,2,   2348.1,2,    -9.00,9,  15.2511565
  35MF19981205,  OISO,     2,  1,      7,19981206,-30.0000,  54.1000, 4833,    302.4,  14.4800,  35.4360,2,  -9.0000,9,    232.2,2,     -9.0,9,     3.34,2,     6.86,2,   2090.6,2,   2357.9,2,    -9.00,9,   14.434965
  35MF19981205,  OISO,     2,  1,      6,19981206,-30.0000,  54.1000, 4833,    398.4,  13.3600,  35.3060,2,  -9.0000,9,    238.3,2,     -9.0,9,     3.69,2,     8.87,2,   2090.5,2,   2335.4,2,    -9.00,9,  13.3036307
  35MF19981205,  OISO,     2,  1,      5,19981206,-30.0000,  54.1000, 4833,    499.3,  12.6000,  35.1870,2,  35.1870,2,    241.4,2,    241.3,2,     4.04,2,    10.41,2,   2097.4,2,   2332.1,2,    -9.00,9,  12.5318194
  35MF19981205,  OISO,     2,  1,      4,19981206,-30.0000,  54.1000, 4833,    598.9,  11.8600,  35.0640,2,  -9.0000,9,    242.9,2,     -9.0,9,     4.44,2,    12.09,2,   2104.6,2,   2331.6,2,    -9.00,9,  11.7811092
  35MF19981205,  OISO,     2,  1,     24,19981206,-30.0000,  54.1000, 4833,    800.5,   9.8700,  34.7730,2,  -9.0000,9,    238.4,2,     -9.0,9,    -9.00,9,    -9.00,9,     -9.0,9,     -9.0,9,    -9.00,9,  9.77527417
  35MF19981205,  OISO,     2,  1,      3,19981206,-30.0000,  54.1000, 4833,    801.7,   9.8600,  34.7720,2,  -9.0000,9,    238.3,2,     -9.0,9,     6.64,2,    17.59,2,   2119.4,2,   2317.3,2,    -9.00,9,  9.76518511
  35MF19981205,  OISO,     2,  1,     23,19981206,-30.0000,  54.1000, 4833,    997.9,   7.0400,  34.5010,2,  -9.0000,9,    224.5,2,     -9.0,9,    -9.00,9,    -9.00,9,   2158.4,2,   2315.3,2,    -9.00,9,  6.94162719
  35MF19981205,  OISO,     2,  1,      2,19981206,-30.0000,  54.1000, 4833,   1000.7,   7.0300,  34.4990,2,  -9.0000,9,    224.5,2,     -9.0,9,    16.93,2,    26.37,2,   2158.4,2,   2315.3,2,    -9.00,9,   6.9314097
  35MF19981205,  OISO,     2,  1,      1,19981206,-30.0000,  54.1000, 4833,   1000.9,   7.0300,  34.4990,2,  34.5000,2,    224.2,2,    205.7,2,    17.08,2,    26.65,2,   2153.6,2,   2311.6,2,    -9.00,9,  6.93138713
  35MF19981205,  OISO,     3,  1,     19,19981207,-35.0000,  53.5000, 3317,      6.2,  18.4000,  35.5900,2,  35.5920,2,     -9.0,9,    242.0,2,     1.31,2,     0.08,2,     -9.0,9,     -9.0,9,     0.12,2,  18.3989191
  35MF19981205,  OISO,     3,  1,     18,19981207,-35.0000,  53.5000, 3317,     10.0,  18.4000,  35.5900,2,  -9.0000,9,     -9.0,9,     -9.0,9,     1.22,2,     0.00,2,   2032.9,2,   2344.5,2,     0.12,2,  18.3982565
  35MF19981205,  OISO,     3,  1,     17,19981207,-35.0000,  53.5000, 3317,     19.6,  18.4000,  35.5900,2,  35.5910,2,     -9.0,9,    243.1,2,     1.26,2,     0.01,2,   2030.5,2,   2355.5,2,     0.14,2,  18.3965819
  35MF19981205,  OISO,     3,  1,     16,19981207,-35.0000,  53.5000, 3317,     30.3,  18.3800,  35.5860,2,  -9.0000,9,     -9.0,9,     -9.0,9,     1.33,2,     0.06,2,   2035.4,2,   2343.7,2,     0.15,2,  18.3747189
  35MF19981205,  OISO,     3,  1,     15,19981207,-35.0000,  53.5000, 3317,     40.3,  18.3400,  35.5800,2,  -9.0000,9,     -9.0,9,     -9.0,9,     1.39,2,     0.03,2,   2025.6,2,   2342.3,2,     0.18,2,  18.3329854
  35MF19981205,  OISO,     3,  1,     14,19981207,-35.0000,  53.5000, 3317,     49.4,  18.1900,  35.5670,2,  35.5700,2,     -9.0,9,    245.7,2,     1.40,2,     0.05,2,   2035.6,2,   2344.4,2,     0.21,2,  18.1814495
  35MF19981205,  OISO,     3,  1,     13,19981207,-35.0000,  53.5000, 3317,     76.0,  16.4700,  35.5400,2,  -9.0000,9,     -9.0,9,     -9.0,9,     1.91,2,     0.93,2,   2053.1,2,   2342.1,2,     0.53,2,  16.4577177
  35MF19981205,  OISO,     3,  1,     12,19981207,-35.0000,  53.5000, 3317,    101.8,  16.0500,  35.5360,2,  -9.0000,9,     -9.0,9,     -9.0,9,     2.38,2,     2.12,2,   2052.0,2,   2340.4,2,     0.40,2,  16.0338274
  35MF19981205,  OISO,     3,  1,     11,19981207,-35.0000,  53.5000, 3317,    125.7,  15.5800,  35.5130,2,  -9.0000,9,     -9.0,9,     -9.0,9,     2.75,2,     2.92,2,   2056.1,2,   2349.4,2,     0.22,2,  15.5604232
  35MF19981205,  OISO,     3,  1,     10,19981207,-35.0000,  53.5000, 3317,    150.4,  15.2700,  35.5040,2,  -9.0000,9,     -9.0,9,     -9.0,9,     3.22,2,     3.94,2,     -9.0,9,     -9.0,9,    -9.00,9,  15.2468799
  35MF19981205,  OISO,     3,  1,     24,19981207,-35.0000,  53.5000, 3317,    202.8,  14.9300,  35.4960,2,  -9.0000,9,     -9.0,9,     -9.0,9,    -9.00,9,    -9.00,9,     -9.0,9,     -9.0,9,    -9.00,9,  14.8992505
  35MF19981205,  OISO,     3,  1,      9,19981207,-35.0000,  53.5000, 3317,    203.9,  14.9300,  35.4960,2,  35.4980,2,     -9.0,9,    236.9,2,     3.24,2,     4.32,2,   2068.1,2,   2340.4,2,    -9.00,9,  14.8990822
  35MF19981205,  OISO,     3,  1,      8,19981207,-35.0000,  53.5000, 3317,    248.6,  14.6700,  35.4700,2,  -9.0000,9,     -9.0,9,     -9.0,9,     3.26,2,     4.76,2,   2071.6,2,   2345.3,2,    -9.00,9,  14.6327048
  35MF19981205,  OISO,     3,  1,      7,19981207,-35.0000,  53.5000, 3317,    284.3,  14.5100,  35.4550,2,  -9.0000,9,     -9.0,9,     -9.0,9,     3.27,2,     5.01,2,   2074.5,2,   2359.1,2,    -9.00,9,  14.4676194
  35MF19981205,  OISO,     3,  1,      6,19981207,-35.0000,  53.5000, 3317,    402.7,  14.0800,  35.4120,2,  -9.0000,9,     -9.0,9,     -9.0,9,     3.60,2,     5.98,2,   2083.4,2,   2337.2,2,    -9.00,9,  14.0209554
  35MF19981205,  OISO,     3,  1,      5,19981207,-35.0000,  53.5000, 3317,    501.5,  12.9200,  35.2270,2,  35.2280,2,     -9.0,9,    228.3,2,     4.33,2,     9.22,2,   2095.1,2,   2347.9,2,    -9.00,9,  12.8503678
  35MF19981205,  OISO,     3,  1,      4,19981207,-35.0000,  53.5000, 3317,    604.2,  12.2700,  35.1220,2,  -9.0000,9,     -9.0,9,     -9.0,9,     4.67,2,    10.57,2,   2099.2,2,   2323.9,2,    -9.00,9,  12.1886116
  35MF19981205,  OISO,     3,  1,      3,19981207,-35.0000,  53.5000, 3317,    801.0,  10.2100,  34.8200,2,  -9.0000,9,     -9.0,9,     -9.0,9,     7.24,2,    16.14,2,   2118.4,2,   2320.2,2,    -9.00,9,   10.113214
  35MF19981205,  OISO,     3,  1,      1,19981207,-35.0000,  53.5000, 3317,   1001.2,   6.7900,  34.4920,2,  34.4910,2,     -9.0,9,    205.2,2,    19.32,2,    26.32,2,   2159.1,2,   2308.1,2,    -9.00,9,   6.6931469
  35MF19981205,  OISO,     3,  1,      2,19981207,-35.0000,  53.5000, 3317,   1001.5,   6.7900,  34.4920,2,  -9.0000,9,     -9.0,9,     -9.0,9,    19.32,2,    26.20,2,   2159.7,2,   2319.5,2,    -9.00,9,  6.69311432
  35MF19981205,  OISO,     4,  1,     19,19981208,-40.0000,  52.8500, 4218,      4.4,  16.7000,  35.5800,2,  35.5810,2,     -9.0,9,    240.2,2,     2.71,2,     1.47,2,   2046.2,2,   2348.8,2,     0.58,2,  16.6992832
  35MF19981205,  OISO,     4,  1,     18,19981208,-40.0000,  52.8500, 4218,      9.6,  16.7000,  35.5800,2,  -9.0000,9,     -9.0,9,     -9.0,9,     2.86,2,     1.51,2,   2040.7,2,   2358.8,2,     0.54,2,  16.6984359
  35MF19981205,  OISO,     4,  1,     17,19981208,-40.0000,  52.8500, 4218,     21.0,  16.7000,  35.5800,2,  35.5820,2,     -9.0,9,    240.2,2,     2.95,2,     1.56,2,   2041.6,2,   2366.1,2,     0.57,2,  16.6965774
  35MF19981205,  OISO,     4,  1,     16,19981208,-40.0000,  52.8500, 4218,     29.6,  16.7000,  35.5800,2,  -9.0000,9,     -9.0,9,     -9.0,9,     2.96,2,     1.59,2,   2040.4,2,   2349.8,2,     0.64,2,  16.6951747
  35MF19981205,  OISO,     4,  1,     15,19981208,-40.0000,  52.8500, 4218,     39.6,  16.6900,  35.5780,2,  -9.0000,9,     -9.0,9,     -9.0,9,     3.08,2,     1.80,2,   2040.7,2,   2344.6,2,     0.54,2,  16.6835457
  35MF19981205,  OISO,     4,  1,     14,19981208,-40.0000,  52.8500, 4218,     48.7,  16.6800,  35.5780,2,  35.5780,2,     -9.0,9,    238.2,2,     2.71,2,     1.62,2,   2038.5,2,   2345.9,2,     0.51,2,  16.6720639
  35MF19981205,  OISO,     4,  1,     13,19981208,-40.0000,  52.8500, 4218,     74.1,  16.4700,  35.5660,2,  -9.0000,9,     -9.0,9,     -9.0,9,     3.21,2,     3.21,2,   2053.8,2,   2341.2,2,     0.11,2,  16.4580231
  35MF19981205,  OISO,     4,  1,     12,19981208,-40.0000,  52.8500, 4218,    100.6,  16.2900,  35.5740,2,  -9.0000,9,     -9.0,9,     -9.0,9,     3.29,2,     3.22,2,   2051.2,2,   2359.5,2,     0.04,2,  16.2738501
  35MF19981205,  OISO,     4,  1,     11,19981208,-40.0000,  52.8500, 4218,    125.0,  16.2300,  35.5720,2,  -9.0000,9,     -9.0,9,     -9.0,9,     3.42,2,     3.33,2,   2052.9,2,   2363.2,2,     0.03,2,   16.209971
  35MF19981205,  OISO,     4,  1,     10,19981208,-40.0000,  52.8500, 4218,    149.8,  16.1100,  35.5630,2,  -9.0000,9,     -9.0,9,     -9.0,9,     3.28,2,     3.69,2,   2058.0,2,   2342.8,2,    -9.00,9,  16.0861047
  35MF19981205,  OISO,     4,  1,      9,19981208,-40.0000,  52.8500, 4218,    200.2,  15.6900,  35.5340,2,  35.5350,2,     -9.0,9,    230.7,2,     3.42,2,     4.18,2,   2065.0,2,   2335.5,2,    -9.00,9,  15.6585985
  35MF19981205,  OISO,     4,  1,     24,19981208,-40.0000,  52.8500, 4218,    200.5,  15.6900,  35.5340,2,  -9.0000,9,     -9.0,9,     -9.0,9,     3.42,2,     4.20,2,     -9.0,9,     -9.0,9,    -9.00,9,  15.6585514
  35MF19981205,  OISO,     4,  1,      8,19981208,-40.0000,  52.8500, 4218,    249.0,  15.4300,  35.5120,2,  -9.0000,9,     -9.0,9,     -9.0,9,     3.56,2,     4.54,2,   2063.7,2,   2341.6,2,    -9.00,9,  15.3913375
  35MF19981205,  OISO,     4,  1,      7,19981208,-40.0000,  52.8500, 4218,    300.0,  15.2100,  35.5110,2,  -9.0000,9,     -9.0,9,     -9.0,9,     3.52,2,     4.26,2,   2066.3,2,   2352.2,2,    -9.00,9,  15.1637994
  35MF19981205,  OISO,     4,  1,      6,19981208,-40.0000,  52.8500, 4218,    400.2,  14.5700,  35.4420,2,  -9.0000,9,     -9.0,9,     -9.0,9,     3.74,2,     5.42,2,   2078.4,2,   2347.6,2,    -9.00,9,  14.5099666
  35MF19981205,  OISO,     4,  1,      5,19981208,-40.0000,  52.8500, 4218,    500.1,  13.5000,  35.2820,2,  35.2810,2,     -9.0,9,    218.9,2,     4.73,2,     8.81,2,   2094.4,2,   2341.6,2,    -9.00,9,  13.4285212
  35MF19981205,  OISO,     4,  1,      4,19981208,-40.0000,  52.8500, 4218,    600.8,  12.1400,  35.0730,2,  -9.0000,9,     -9.0,9,     -9.0,9,     5.27,2,    11.22,2,   2102.5,2,   2319.4,2,    -9.00,9,  12.0596661
  35MF19981205,  OISO,     4,  1,      3,19981208,-40.0000,  52.8500, 4218,    800.6,  10.4100,  34.8440,2,  -9.0000,9,     -9.0,9,     -9.0,9,     7.69,2,    15.75,2,   2121.7,2,   2311.0,2,    -9.00,9,  10.3120976
  35MF19981205,  OISO,     4,  1,      1,19981208,-40.0000,  52.8500, 4218,   1006.3,   7.3600,  34.5390,2,  34.5400,2,     -9.0,9,    203.0,2,    17.57,2,    24.90,2,   2147.0,2,   2321.2,2,    -9.00,9,  7.25831146
  35MF19981205,  OISO,     4,  1,     23,19981208,-40.0000,  52.8500, 4218,   1007.1,   7.3600,  34.5390,2,  -9.0000,9,     -9.0,9,     -9.0,9,    -9.00,9,    -9.00,9,     -9.0,9,     -9.0,9,    -9.00,9,  7.25822693
  35MF19981205,  OISO,     4,  1,      2,19981208,-40.0000,  52.8500, 4218,   1007.4,   7.3600,  34.5390,2,  -9.0000,9,     -9.0,9,     -9.0,9,    17.52,2,    24.71,2,   2157.5,2,   2323.6,2,    -9.00,9,  7.25819465