BOTTLE,20081205PRINUNIVRMKPRINUNIVRMK
EXPOCODE,SECT_ID,STNNBR,CASTNO,BTLNBR,DATE,LATITUDE,LONGITUDE,DEPTH,CTDPRS,CTDTMP,CTDSAL,CTDSAL_FLAG_W,SALNTY,SALNTY_FLAG_W,CTDOXY,CTDOXY_FLAG_W,OXYGEN,OXYGEN_FLAG_W,SILCAT,SILCAT_FLAG_W,NITRAT,NITRAT_FLAG_W,TCARBN,TCARBN_FLAG_W,ALKALI,ALKALI_FLAG_W,CHLORA,CHLORA_FLAG_W,THETA
,,,,,,,,METERS,DBARS,ITS-90,PSS-78,,PSS-78,,UMOL/KG,,UMOL/KG,,UMOL/KG,,UMOL/KG,,UMOL/KG,,UMOL/KG,,UG/L,,DEGC
  35MF19981205,  OISO,    16,  1,     19,19981226,-35.0000,  73.4700, 4206,      4.7,  20.6600,  35.4660,2,  35.4720,2,     -9.0,9,    244.6,2,     1.51,2,     0.07,2,   2048.4,2,   2333.3,2,     0.07,2,  20.6591112
  35MF19981205,  OISO,    16,  1,     18,19981226,-35.0000,  73.4700, 4206,     10.5,  20.6400,  35.4640,2,  -9.0000,9,     -9.0,9,     -9.0,9,     1.47,2,     0.04,2,   2049.1,2,   2334.6,2,     0.07,2,  20.6380157
  35MF19981205,  OISO,    16,  1,     17,19981226,-35.0000,  73.4700, 4206,     22.1,  18.8000,  35.4690,2,  35.4760,2,     -9.0,9,    252.5,2,     1.42,2,     0.02,2,   2053.2,2,   2332.1,2,     0.07,2,  18.7960898
  35MF19981205,  OISO,    16,  1,     16,19981226,-35.0000,  73.4700, 4206,     29.0,  17.0900,  35.4320,2,  -9.0000,9,     -9.0,9,     -9.0,9,     1.53,2,     0.05,2,   2051.7,2,   2329.7,2,     0.09,2,  17.0852013
  35MF19981205,  OISO,    16,  1,     15,19981226,-35.0000,  73.4700, 4206,     40.9,  16.2800,  35.4330,2,  -9.0000,9,     -9.0,9,     -9.0,9,     1.53,2,     0.04,2,   2051.5,2,   2330.3,2,     0.08,2,  16.2734543
  35MF19981205,  OISO,    16,  1,     14,19981226,-35.0000,  73.4700, 4206,     49.8,  15.7900,  35.4440,2,  35.4480,2,     -9.0,9,    270.4,2,     1.80,2,     0.04,2,   2054.3,2,   2331.7,2,     0.10,2,  15.7821934
  35MF19981205,  OISO,    16,  1,     13,19981226,-35.0000,  73.4700, 4206,     74.3,  14.4700,  35.3490,2,  -9.0000,9,     -9.0,9,     -9.0,9,     2.14,2,     1.08,2,   2064.0,2,   2325.1,2,     0.32,2,  14.4590285
  35MF19981205,  OISO,    16,  1,     12,19981226,-35.0000,  73.4700, 4206,    100.8,  13.9900,  35.3270,2,  -9.0000,9,     -9.0,9,     -9.0,9,     2.63,2,     2.72,2,   2071.6,2,   2323.8,2,     0.43,2,  13.9754414
  35MF19981205,  OISO,    16,  1,     11,19981226,-35.0000,  73.4700, 4206,    126.4,  13.5200,  35.2590,2,  -9.0000,9,     -9.0,9,     -9.0,9,     2.48,2,     3.59,2,   2073.9,2,   2319.9,2,     0.21,2,  13.5021539
  35MF19981205,  OISO,    16,  1,     10,19981226,-35.0000,  73.4700, 4206,    150.3,  13.3700,  35.2700,2,  -9.0000,9,     -9.0,9,     -9.0,9,     3.33,2,     4.88,2,   2074.7,2,   2319.1,2,     0.08,2,  13.3489172
  35MF19981205,  OISO,    16,  1,      9,19981226,-35.0000,  73.4700, 4206,    199.8,  13.1700,  35.2750,2,  35.2760,2,     -9.0,9,    240.8,2,     4.16,2,     6.78,2,   2090.8,2,   2319.7,2,    -9.00,9,  13.1422023
  35MF19981205,  OISO,    16,  1,      8,19981226,-35.0000,  73.4700, 4206,    249.7,  12.7800,  35.2140,2,  -9.0000,9,     -9.0,9,     -9.0,9,     4.46,2,     7.86,2,   2095.1,2,   2316.9,2,    -9.00,9,  12.7459002
  35MF19981205,  OISO,    16,  1,      7,19981226,-35.0000,  73.4700, 4206,    300.6,  12.5700,  35.1810,2,  -9.0000,9,     -9.0,9,     -9.0,9,     4.67,2,     8.38,2,   2095.2,2,   2314.3,2,    -9.00,9,  12.5293272
  35MF19981205,  OISO,    16,  1,      6,19981226,-35.0000,  73.4700, 4206,    397.9,  12.0100,  35.0910,2,  -9.0000,9,     -9.0,9,     -9.0,9,     4.87,2,     9.55,2,   2099.0,2,   2310.2,2,    -9.00,9,  11.9575774
  35MF19981205,  OISO,    16,  1,      5,19981226,-35.0000,  73.4700, 4206,    500.0,  11.4100,  35.0030,2,  35.0030,2,     -9.0,9,    244.0,2,     5.12,2,    10.70,2,   2104.1,2,   2306.3,2,    -9.00,9,  11.3460337
  35MF19981205,  OISO,    16,  1,      4,19981226,-35.0000,  73.4700, 4206,    600.2,  10.7700,  34.9030,2,  -9.0000,9,     -9.0,9,     -9.0,9,     5.70,2,    12.23,2,   2108.1,2,   2303.5,2,    -9.00,9,  10.6956956
  35MF19981205,  OISO,    16,  1,      3,19981226,-35.0000,  73.4700, 4206,    794.3,   8.7700,  34.6350,2,  -9.0000,9,     -9.0,9,     -9.0,9,     9.96,2,    18.73,2,   2133.3,2,   2296.6,2,    -9.00,9,  8.68249896
  35MF19981205,  OISO,    16,  1,      2,19981226,-35.0000,  73.4700, 4206,    998.6,   5.8800,  34.4060,2,  -9.0000,9,     -9.0,9,     -9.0,9,    22.13,2,    27.16,2,   2169.1,2,   2293.9,2,    -9.00,9,  5.79032658
  35MF19981205,  OISO,    16,  1,      1,19981226,-35.0000,  73.4700, 4206,   1001.0,   5.8700,  34.4060,2,  34.4070,2,     -9.0,9,    209.7,2,    22.16,2,    27.25,2,   2167.6,2,   2292.3,2,    -9.00,9,  5.78016796
  35MF19981205,  OISO,    17,  1,     24,19981227,-30.0000,  66.4000, 4523,      4.2,  24.2800,  35.8170,2,  35.8130,2,     -9.0,9,    221.0,2,     1.94,2,     0.19,2,   2024.2,2,   2344.6,2,     0.03,2,  24.2791066
  35MF19981205,  OISO,    17,  1,     23,19981227,-30.0000,  66.4000, 4523,     10.5,  24.1400,  35.8440,2,  -9.0000,9,     -9.0,9,     -9.0,9,     1.92,2,     0.19,2,   2024.1,2,   2347.8,2,     0.04,2,  24.1377755
  35MF19981205,  OISO,    17,  1,     22,19981227,-30.0000,  66.4000, 4523,     29.4,  22.1000,  35.9330,2,  -9.0000,9,     -9.0,9,     -9.0,9,     1.78,2,     0.19,2,   2049.5,2,   2358.1,2,     0.04,2,  22.0941504
  35MF19981205,  OISO,    17,  1,     21,19981227,-30.0000,  66.4000, 4523,     49.0,  19.8400,  35.8160,2,  35.8230,2,     -9.0,9,    246.3,2,     1.75,2,     0.14,2,   2038.8,2,   2349.8,2,     0.03,2,  19.8309714
  35MF19981205,  OISO,    17,  1,     20,19981227,-30.0000,  66.4000, 4523,     74.5,  18.1900,  35.7620,2,  -9.0000,9,     -9.0,9,     -9.0,9,     1.74,2,     0.08,2,   2045.0,2,   2351.1,2,     0.06,2,  18.1770818
  35MF19981205,  OISO,    17,  1,     19,19981227,-30.0000,  66.4000, 4523,     99.5,  17.1900,  35.7000,2,  -9.0000,9,     -9.0,9,     -9.0,9,     1.70,2,     0.08,2,   2044.0,2,   2341.1,2,     0.11,2,  17.1734085
  35MF19981205,  OISO,    17,  1,     18,19981227,-30.0000,  66.4000, 4523,    150.3,  15.8000,  35.5800,2,  -9.0000,9,     -9.0,9,     -9.0,9,     1.83,2,     0.29,2,   2064.3,2,   2335.6,2,     0.41,2,  15.7763379
  35MF19981205,  OISO,    17,  1,     17,19981227,-30.0000,  66.4000, 4523,    199.1,  14.5900,  35.4480,2,  35.4450,2,     -9.0,9,    235.3,2,     2.65,2,     4.46,2,   2082.1,2,   2325.3,2,     0.12,2,  14.5602929
  35MF19981205,  OISO,    17,  1,     16,19981227,-30.0000,  66.4000, 4523,    249.9,  13.7600,  35.3590,2,  -9.0000,9,     -9.0,9,     -9.0,9,     3.02,2,     6.73,2,   2090.8,2,   2320.9,2,     0.02,2,   13.724114
  35MF19981205,  OISO,    17,  1,     15,19981227,-30.0000,  66.4000, 4523,    299.7,  13.2800,  35.2930,2,  -9.0000,9,     -9.0,9,     -9.0,9,     3.40,2,     7.59,2,   2091.3,2,   2317.7,2,     0.01,2,  13.2379153
  35MF19981205,  OISO,    17,  1,     14,19981227,-30.0000,  66.4000, 4523,    398.8,  12.5400,  35.1790,2,  -9.0000,9,     -9.0,9,     -9.0,9,     3.81,2,     9.08,2,   2095.3,2,   2310.4,2,    -9.00,9,  12.4859219
  35MF19981205,  OISO,    17,  1,     13,19981227,-30.0000,  66.4000, 4523,    499.1,  11.8600,  35.0670,2,  35.0670,2,     -9.0,9,    240.7,2,     4.07,2,    10.23,2,   2101.9,2,   2306.9,2,    -9.00,9,  11.7945194
  35MF19981205,  OISO,    17,  1,     12,19981227,-30.0000,  66.4000, 4523,    750.9,   9.6600,  34.7430,2,  -9.0000,9,     -9.0,9,     -9.0,9,     7.07,2,    16.75,2,   2116.0,2,   2292.0,2,    -9.00,9,   9.5725256
  35MF19981205,  OISO,    17,  1,     11,19981227,-30.0000,  66.4000, 4523,   1002.1,   6.2200,  34.4390,2,  34.4470,2,     -9.0,9,    209.3,2,    21.59,2,    26.70,2,   2165.5,2,   2288.5,2,    -9.00,9,  6.12737183
  35MF19981205,  OISO,    17,  1,     10,19981227,-30.0000,  66.4000, 4523,   1251.6,   3.8600,  34.4020,2,  -9.0000,9,     -9.0,9,     -9.0,9,    -9.00,9,    -9.00,9,     -9.0,9,     -9.0,9,    -9.00,9,  3.76448822
  35MF19981205,  OISO,    17,  1,      9,19981227,-30.0000,  66.4000, 4523,   1500.5,   3.0500,  34.5330,2,  -9.0000,9,     -9.0,9,     -9.0,9,    65.26,2,    34.28,2,   2242.0,2,   2330.7,2,    -9.00,9,  2.94163876
  35MF19981205,  OISO,    17,  1,      8,19981227,-30.0000,  66.4000, 4523,   1751.3,   2.6100,  34.6380,2,  -9.0000,9,     -9.0,9,     -9.0,9,    75.72,2,    33.38,2,   2249.0,2,   2342.3,2,    -9.00,9,  2.48573166
  35MF19981205,  OISO,    17,  1,      7,19981227,-30.0000,  66.4000, 4523,   2000.0,   2.3400,  34.6900,2,  34.6910,2,     -9.0,9,    182.8,2,    86.64,2,    32.96,2,   2256.8,2,   2356.6,2,    -9.00,9,  2.19817836
  35MF19981205,  OISO,    17,  1,      6,19981227,-30.0000,  66.4000, 4523,   2498.7,   2.0100,  34.7260,2,  -9.0000,9,     -9.0,9,     -9.0,9,   102.37,2,    33.10,2,   2271.3,2,   2374.6,2,    -9.00,9,  1.82931151
  35MF19981205,  OISO,    17,  1,      5,19981227,-30.0000,  66.4000, 4523,   2991.0,   1.7400,  34.7280,2,  34.7260,2,     -9.0,9,    184.7,2,   112.78,2,    33.67,2,   2280.9,2,   2381.3,2,    -9.00,9,  1.51850448
  35MF19981205,  OISO,    17,  1,      4,19981227,-30.0000,  66.4000, 4523,   3493.0,   1.4900,  34.7210,2,  -9.0000,9,     -9.0,9,     -9.0,9,   116.03,2,    33.63,2,   2277.8,2,   2381.0,2,    -9.00,9,  1.22454999
  35MF19981205,  OISO,    17,  1,      3,19981227,-30.0000,  66.4000, 4523,   4005.0,   0.9600,  34.7030,2,  -9.0000,9,     -9.0,9,     -9.0,9,   119.99,2,    33.26,2,   2264.7,2,   2369.1,2,    -9.00,9, 0.655663462
  35MF19981205,  OISO,    17,  1,      1,19981227,-30.0000,  66.4000, 4523,   4512.9,   0.7700,  34.6950,2,  34.6970,2,     -9.0,9,    217.9,2,   121.76,2,    32.74,2,   2265.3,2,   2370.9,2,    -9.00,9,   0.4162317
  35MF19981205,  OISO,    17,  1,      2,19981227,-30.0000,  66.4000, 4523,   4513.1,   0.7700,  34.6950,2,  -9.0000,9,     -9.0,9,     -9.0,9,   122.39,2,    32.58,2,   2260.3,2,   2366.1,2,    -9.00,9, 0.416223778