BOTTLE,20081205PRINUNIVRMKPRINUNIVRMK
EXPOCODE,SECT_ID,STNNBR,CASTNO,BTLNBR,DATE,LATITUDE,LONGITUDE,DEPTH,CTDPRS,CTDTMP,CTDSAL,CTDSAL_FLAG_W,SALNTY,SALNTY_FLAG_W,CTDOXY,CTDOXY_FLAG_W,OXYGEN,OXYGEN_FLAG_W,SILCAT,SILCAT_FLAG_W,NITRAT,NITRAT_FLAG_W,TCARBN,TCARBN_FLAG_W,ALKALI,ALKALI_FLAG_W,CHLORA,CHLORA_FLAG_W,THETA
,,,,,,,,METERS,DBARS,ITS-90,PSS-78,,PSS-78,,UMOL/KG,,UMOL/KG,,UMOL/KG,,UMOL/KG,,UMOL/KG,,UMOL/KG,,UG/L,,DEGC
  35MF19981205,  OISO,    12,  1,     19,19981221,-47.0000,  72.0200, 2544,      6.0,   5.6400,  33.6800,2,  33.6840,2,     -9.0,9,    342.7,2,     6.25,2,    17.56,2,   2080.1,2,   2277.5,2,     0.55,2,   5.6395218
  35MF19981205,  OISO,    12,  1,     18,19981221,-47.0000,  72.0200, 2544,     10.0,   5.0000,  33.6900,2,  -9.0000,9,     -9.0,9,     -9.0,9,     6.17,2,    17.71,2,   2078.7,2,   2273.8,2,     0.87,2,  4.99925321
  35MF19981205,  OISO,    12,  1,     17,19981221,-47.0000,  72.0200, 2544,     20.0,   4.8000,  33.7100,2,  33.7100,2,     -9.0,9,    348.7,2,     5.52,2,    17.96,2,   2077.6,2,   2277.9,2,     1.12,2,  4.79853605
  35MF19981205,  OISO,    12,  1,     16,19981221,-47.0000,  72.0200, 2544,     30.0,   4.6400,  33.7260,2,  -9.0000,9,     -9.0,9,     -9.0,9,     4.69,2,    17.99,2,   2083.0,2,   2275.6,2,     1.50,2,  4.63783923
  35MF19981205,  OISO,    12,  1,     15,19981221,-47.0000,  72.0200, 2544,     40.0,   4.4700,  33.7300,2,  -9.0000,9,     -9.0,9,     -9.0,9,     4.77,2,    18.46,2,   2088.7,2,   2275.5,2,     1.83,2,  4.46716994
  35MF19981205,  OISO,    12,  1,     14,19981221,-47.0000,  72.0200, 2544,     50.0,   4.4100,  33.7400,2,  33.7320,2,     -9.0,9,    342.6,2,     4.81,2,    18.86,2,   2092.6,2,   2277.0,2,     1.21,2,  4.40648239
  35MF19981205,  OISO,    12,  1,     13,19981221,-47.0000,  72.0200, 2544,     73.0,   4.1900,  33.7500,2,  -9.0000,9,     -9.0,9,     -9.0,9,     5.36,2,    19.59,2,   2100.7,2,   2277.8,2,     1.33,2,  4.18497762
  35MF19981205,  OISO,    12,  1,     12,19981221,-47.0000,  72.0200, 2544,     99.0,   3.8800,  33.7700,2,  -9.0000,9,     -9.0,9,     -9.0,9,     8.95,2,    22.52,2,   2117.4,2,   2274.5,2,     1.10,2,   3.8734117
  35MF19981205,  OISO,    12,  1,     11,19981221,-47.0000,  72.0200, 2544,    125.1,   3.7000,  33.7790,2,  -9.0000,9,    306.4,2,     -9.0,9,    11.85,2,    24.00,2,   2127.1,2,   2274.6,2,     0.68,2,  3.69182829
  35MF19981205,  OISO,    12,  1,     10,19981221,-47.0000,  72.0200, 2544,    150.3,   3.5500,  33.7920,2,  -9.0000,9,    311.2,2,     -9.0,9,    13.23,2,    24.01,2,   2127.6,2,   2274.3,2,     0.37,2,  3.54033042
  35MF19981205,  OISO,    12,  1,      9,19981221,-47.0000,  72.0200, 2544,    199.3,   3.3700,  33.8270,2,  33.8300,2,    319.0,2,    319.0,2,    12.56,2,    23.21,2,   2127.7,2,   2280.7,2,     0.37,2,  3.35737617
  35MF19981205,  OISO,    12,  1,      8,19981221,-47.0000,  72.0200, 2544,    248.4,   2.7400,  33.9220,2,  -9.0000,9,    282.6,2,     -9.0,9,    23.28,2,    28.14,2,   2156.9,2,   2280.0,2,    -9.00,9,  2.72539439
  35MF19981205,  OISO,    12,  1,      7,19981221,-47.0000,  72.0200, 2544,    299.8,   2.4400,  34.0520,2,  -9.0000,9,    261.7,2,     -9.0,9,    31.85,2,    30.41,2,   2180.3,2,   2289.2,2,    -9.00,9,  2.42290764
  35MF19981205,  OISO,    12,  1,      6,19981221,-47.0000,  72.0200, 2544,    405.1,   2.1700,  34.1640,2,  -9.0000,9,    239.9,2,     -9.0,9,    42.56,2,    32.21,2,   2200.0,2,   2298.1,2,    -9.00,9,  2.14735909
  35MF19981205,  OISO,    12,  1,      5,19981221,-47.0000,  72.0200, 2544,    499.8,   2.2500,  34.3160,2,  34.3200,2,    205.0,2,    204.7,2,    54.66,2,    33.85,2,   2225.1,2,   2308.9,2,    -9.00,9,  2.22121106
  35MF19981205,  OISO,    12,  1,      4,19981221,-47.0000,  72.0200, 2544,    600.8,   2.2700,  34.4260,2,  -9.0000,9,    187.8,2,     -9.0,9,    62.88,2,    35.06,2,   2240.8,2,   2319.1,2,    -9.00,9,  2.23468403
  35MF19981205,  OISO,    12,  1,      3,19981221,-47.0000,  72.0200, 2544,    799.5,   2.3000,  34.5450,2,  -9.0000,9,    178.9,2,     -9.0,9,    69.84,2,    34.53,2,   2251.2,2,   2335.8,2,    -9.00,9,  2.25134689
  35MF19981205,  OISO,    12,  1,      1,19981221,-47.0000,  72.0200, 2544,   1005.2,   2.3000,  34.6680,2,  34.6700,2,    181.6,2,    181.8,2,    72.97,2,    32.58,2,   2245.3,2,   2338.6,2,    -9.00,9,  2.23693763
  35MF19981205,  OISO,    12,  1,      2,19981221,-47.0000,  72.0200, 2544,   1005.6,   2.3000,  34.6680,2,  -9.0000,9,    181.4,2,     -9.0,9,    72.53,2,    32.36,2,   2244.1,2,   2341.3,2,    -9.00,9,  2.23691279
  35MF19981205,  OISO,    13,  1,     19,19981222,-45.0000,  73.3200, 3591,      5.0,  13.1400,  35.0360,2,  35.0380,2,    275.2,2,    271.5,2,     3.25,2,     5.95,2,   2070.1,2,   2310.4,2,     0.45,2,   13.139312
  35MF19981205,  OISO,    13,  1,     18,19981222,-45.0000,  73.3200, 3591,      9.2,  12.9000,  35.0420,2,  -9.0000,9,    272.9,2,     -9.0,9,     2.86,2,     6.35,2,   2061.6,2,   2311.9,2,     0.55,2,  12.8987494
  35MF19981205,  OISO,    13,  1,     17,19981222,-45.0000,  73.3200, 3591,     19.2,  12.4100,  35.0290,2,  35.0310,2,    269.9,2,    276.6,2,     3.42,2,     6.12,2,   2069.5,2,   2311.0,2,     0.70,2,  12.4074562
  35MF19981205,  OISO,    13,  1,     16,19981222,-45.0000,  73.3200, 3591,     29.6,  12.5300,  35.0890,2,  -9.0000,9,    269.6,2,     -9.0,9,     3.94,2,     7.03,2,   2071.6,2,   2312.9,2,     0.69,2,   12.526049
  35MF19981205,  OISO,    13,  1,     15,19981222,-45.0000,  73.3200, 3591,     40.5,  12.4600,  35.0910,2,  -9.0000,9,    268.3,2,     -9.0,9,     3.36,2,     6.53,2,   2072.7,2,   2311.6,2,     0.60,2,  12.4546118
  35MF19981205,  OISO,    13,  1,     14,19981222,-45.0000,  73.3200, 3591,     50.9,  12.3100,  35.0840,2,  35.0860,2,    267.1,2,    263.9,2,     3.12,2,     7.02,2,   2076.0,2,   2313.3,2,     0.43,2,  12.3032801
  35MF19981205,  OISO,    13,  1,     13,19981222,-45.0000,  73.3200, 3591,     74.0,  12.2600,  35.1020,2,  -9.0000,9,    265.4,2,     -9.0,9,     3.60,2,     7.05,2,   2076.3,2,   2312.9,2,     0.33,2,  12.2502461
  35MF19981205,  OISO,    13,  1,     12,19981222,-45.0000,  73.3200, 3591,     99.7,  12.2900,  35.1240,2,  -9.0000,9,    263.5,2,     -9.0,9,     3.91,2,     7.50,2,   2083.4,2,   2311.5,2,     0.25,2,  12.2768206
  35MF19981205,  OISO,    13,  1,     11,19981222,-45.0000,  73.3200, 3591,    123.9,  12.0200,  35.0810,2,  -9.0000,9,    259.7,2,     -9.0,9,     4.09,2,     7.73,2,   2083.0,2,   2309.5,2,     0.22,2,  12.0038512
  35MF19981205,  OISO,    13,  1,     10,19981222,-45.0000,  73.3200, 3591,    150.8,  12.0200,  35.0860,2,  -9.0000,9,    257.6,2,     -9.0,9,     3.94,2,     7.89,2,   2081.3,2,   2311.3,2,     0.21,2,  12.0003222
  35MF19981205,  OISO,    13,  1,      9,19981222,-45.0000,  73.3200, 3591,    199.2,  11.9300,  35.0780,2,  35.0790,2,    256.7,2,    257.6,2,     4.55,2,     9.46,2,   2101.8,2,     -9.0,9,    -9.00,9,  11.9040842
  35MF19981205,  OISO,    13,  1,      8,19981222,-45.0000,  73.3200, 3591,    250.4,  11.9600,  35.1020,2,  -9.0000,9,    254.1,2,     -9.0,9,     4.31,2,     8.76,2,   2088.6,2,   2310.7,2,    -9.00,9,  11.9272928
  35MF19981205,  OISO,    13,  1,      7,19981222,-45.0000,  73.3200, 3591,    300.3,  11.9100,  35.0990,2,  -9.0000,9,    251.1,2,     -9.0,9,     4.69,2,     8.91,2,   2091.9,2,   2311.1,2,    -9.00,9,  11.8708022
  35MF19981205,  OISO,    13,  1,      6,19981222,-45.0000,  73.3200, 3591,    401.1,  11.8000,  35.0890,2,  -9.0000,9,    246.4,2,     -9.0,9,     4.52,2,     9.28,2,   2091.6,2,   2312.2,2,    -9.00,9,  11.7477455
  35MF19981205,  OISO,    13,  1,      5,19981222,-45.0000,  73.3200, 3591,    499.8,  11.7500,  35.0800,2,  35.0780,2,    241.8,2,    241.0,2,     4.86,2,     6.43,3,   2085.9,2,   2305.9,2,    -9.00,9,  11.6848059
  35MF19981205,  OISO,    13,  1,      4,19981222,-45.0000,  73.3200, 3591,    598.4,  10.4300,  34.8290,2,  -9.0000,9,    250.4,2,     -9.0,9,     6.79,2,    14.63,2,   2109.0,2,   2299.5,2,    -9.00,9,  10.3574404
  35MF19981205,  OISO,    13,  1,      3,19981222,-45.0000,  73.3200, 3591,    798.9,   7.7000,  34.5380,2,  -9.0000,9,    258.2,2,     -9.0,9,    15.19,2,    22.55,2,   2150.6,2,   2292.2,2,    -9.00,9,  7.61834377
  35MF19981205,  OISO,    13,  1,      1,19981222,-45.0000,  73.3200, 3591,   1002.2,   5.3800,  34.3750,2,  34.3770,2,    257.0,2,    208.7,3,    24.14,2,    27.99,2,   2174.0,2,   2291.4,2,    -9.00,9,  5.29379952
  35MF19981205,  OISO,    13,  1,      2,19981222,-45.0000,  73.3200, 3591,   1002.4,   5.3800,  34.3750,2,  -9.0000,9,    256.9,2,     -9.0,9,    24.41,2,    27.57,2,   2175.6,2,   2292.8,2,    -9.00,9,  5.29378413
  35MF19981205,  OISO,    14,  1,     19,19981222,-42.5000,  74.9000, 3313,      5.9,  12.9300,  34.6150,2,  34.6180,2,     -9.0,9,    275.7,2,     3.15,2,     7.47,2,   2052.5,2,   2326.4,2,     0.53,2,  12.9292002
  35MF19981205,  OISO,    14,  1,     18,19981222,-42.5000,  74.9000, 3313,     10.4,  12.8600,  34.6140,2,  -9.0000,9,     -9.0,9,     -9.0,9,     3.41,2,     7.46,2,   2050.8,2,   2296.9,2,     0.55,2,  12.8585951
  35MF19981205,  OISO,    14,  1,     17,19981222,-42.5000,  74.9000, 3313,     19.5,  12.4600,  34.6090,2,  34.6120,2,     -9.0,9,    288.1,2,     3.11,2,     7.96,2,   2044.5,2,   2303.9,2,     0.65,2,  12.4574206
  35MF19981205,  OISO,    14,  1,     16,19981222,-42.5000,  74.9000, 3313,     30.0,  10.9300,  34.5780,2,  -9.0000,9,     -9.0,9,     -9.0,9,     3.07,2,     8.67,2,   2070.8,2,   2296.7,2,     0.76,2,  10.9263623
  35MF19981205,  OISO,    14,  1,     15,19981222,-42.5000,  74.9000, 3313,     39.3,  11.0000,  34.6110,2,  -9.0000,9,     -9.0,9,     -9.0,9,     3.60,2,     9.79,2,   2066.1,2,   2298.9,2,     0.73,2,  10.9952107
  35MF19981205,  OISO,    14,  1,     14,19981222,-42.5000,  74.9000, 3313,     49.6,  10.8900,  34.5970,2,  34.5960,2,     -9.0,9,    281.1,2,     3.60,2,    10.11,2,   2067.0,2,   2296.5,2,     0.61,2,  10.8839933
  35MF19981205,  OISO,    14,  1,     13,19981222,-42.5000,  74.9000, 3313,     73.5,  10.8800,  34.6270,2,  -9.0000,9,     -9.0,9,     -9.0,9,     3.49,2,    10.47,2,   2077.3,2,   2297.3,2,     0.29,2,  10.8710909
  35MF19981205,  OISO,    14,  1,     12,19981222,-42.5000,  74.9000, 3313,     99.5,  11.7500,  34.8940,2,  -9.0000,9,     -9.0,9,     -9.0,9,     4.30,2,     8.90,2,   2077.2,2,   2308.5,2,     0.13,2,  11.7372625
  35MF19981205,  OISO,    14,  1,     11,19981222,-42.5000,  74.9000, 3313,    124.9,  11.9800,  34.9940,2,  -9.0000,9,     -9.0,9,     -9.0,9,     4.67,2,     9.61,2,   2085.9,2,   2307.9,2,     0.05,2,  11.9637708
  35MF19981205,  OISO,    14,  1,     10,19981222,-42.5000,  74.9000, 3313,    150.0,  11.6300,  34.9430,2,  -9.0000,9,     -9.0,9,     -9.0,9,     5.72,2,    10.73,2,   2093.6,2,   2315.6,2,     0.03,2,   11.610875
  35MF19981205,  OISO,    14,  1,      9,19981222,-42.5000,  74.9000, 3313,    199.7,  11.9400,  35.0650,2,  35.0700,2,     -9.0,9,    260.1,2,     5.04,2,     9.34,2,   2085.8,2,   2311.3,2,    -9.00,9,  11.9140069
  35MF19981205,  OISO,    14,  1,      8,19981222,-42.5000,  74.9000, 3313,    247.7,  11.8300,  35.0700,2,  -9.0000,9,     -9.0,9,     -9.0,9,     4.87,2,     9.67,2,   2093.2,2,   2314.6,2,    -9.00,9,   11.797889
  35MF19981205,  OISO,    14,  1,      7,19981222,-42.5000,  74.9000, 3313,    298.2,  11.7800,  35.0710,2,  -9.0000,9,     -9.0,9,     -9.0,9,     5.33,2,     9.71,2,   2088.8,2,   2314.9,2,    -9.00,9,  11.7413665
  35MF19981205,  OISO,    14,  1,      6,19981222,-42.5000,  74.9000, 3313,    396.3,  11.3500,  34.9950,2,  -9.0000,9,     -9.0,9,     -9.0,9,     5.02,2,    11.06,2,   2090.7,2,   2310.0,2,    -9.00,9,  11.2996993
  35MF19981205,  OISO,    14,  1,      5,19981222,-42.5000,  74.9000, 3313,    500.1,   9.5100,  34.7030,2,  34.6990,2,     -9.0,9,    227.6,2,     8.67,2,    17.55,2,   2127.7,2,   2299.9,2,    -9.00,9,  9.45306253
  35MF19981205,  OISO,    14,  1,      4,19981222,-42.5000,  74.9000, 3313,    600.6,   8.2200,  34.5790,2,  -9.0000,9,     -9.0,9,     -9.0,9,    12.63,2,    21.71,2,   2144.1,2,   2294.8,2,    -9.00,9,  8.15703245
  35MF19981205,  OISO,    14,  1,      3,19981222,-42.5000,  74.9000, 3313,    799.0,   5.8000,  34.3840,2,  -9.0000,9,     -9.0,9,     -9.0,9,    21.33,2,    27.96,2,   2170.5,2,   2293.8,2,    -9.00,9,  5.72987296
  35MF19981205,  OISO,    14,  1,      1,19981222,-42.5000,  74.9000, 3313,   1002.3,   4.2000,  34.3420,2,  34.3440,2,     -9.0,9,    216.3,2,    33.15,2,    31.30,2,   2186.0,2,   2299.3,2,    -9.00,9,  4.12286161
  35MF19981205,  OISO,    14,  1,      2,19981222,-42.5000,  74.9000, 3313,   1002.9,   4.2000,  34.3420,2,  -9.0000,9,     -9.0,9,     -9.0,9,    32.80,2,    31.38,2,   2183.7,2,   2304.6,2,    -9.00,9,  4.12281428
  35MF19981205,  OISO,    15,  1,     19,19981223,-40.0000,  76.4000, 3326,      5.0,  14.5800,  35.0200,2,  35.1600,2,     -9.0,9,    272.8,2,     2.70,2,     5.96,2,   2096.8,2,     -9.0,9,     0.29,2,  14.5792607
  35MF19981205,  OISO,    15,  1,     18,19981223,-40.0000,  76.4000, 3326,     10.0,  14.2600,  35.0200,2,  -9.0000,9,     -9.0,9,     -9.0,9,     3.14,2,     6.07,2,   2064.6,2,   2328.6,2,     0.43,2,  14.2585453
  35MF19981205,  OISO,    15,  1,     17,19981223,-40.0000,  76.4000, 3326,     20.0,  13.8800,  35.0600,2,  35.0710,2,     -9.0,9,    276.5,2,     3.09,2,     6.00,2,   2075.5,2,   2327.0,2,     0.41,2,  13.8771413
  35MF19981205,  OISO,    15,  1,     16,19981223,-40.0000,  76.4000, 3326,     30.0,  13.0000,  35.0600,2,  -9.0000,9,     -9.0,9,     -9.0,9,     4.20,2,     6.11,2,   2064.9,2,   2327.5,2,     0.41,2,  12.9958967
  35MF19981205,  OISO,    15,  1,     15,19981223,-40.0000,  76.4000, 3326,     42.0,  12.9000,  35.0980,2,  -9.0000,9,     -9.0,9,     -9.0,9,     3.41,2,     6.41,2,   2068.0,2,   2327.2,2,     0.38,2,  12.8942804
  35MF19981205,  OISO,    15,  1,     14,19981223,-40.0000,  76.4000, 3326,     50.0,  12.7000,  35.0780,2,  35.0750,2,     -9.0,9,    276.7,2,     3.68,2,     6.84,2,   2072.0,2,   2319.9,2,     0.44,2,  12.6932613
  35MF19981205,  OISO,    15,  1,     13,19981223,-40.0000,  76.4000, 3326,     74.0,  12.3600,  35.0650,2,  -9.0000,9,     -9.0,9,     -9.0,9,     3.00,2,     7.21,2,   2075.5,2,   2322.8,2,     0.35,2,  12.3501971
  35MF19981205,  OISO,    15,  1,     12,19981223,-40.0000,  76.4000, 3326,    100.0,  12.2400,  35.0860,2,  -9.0000,9,     -9.0,9,     -9.0,9,     3.80,2,     7.99,2,   2081.3,2,   2329.3,2,     0.24,2,  12.2268216
  35MF19981205,  OISO,    15,  1,     11,19981223,-40.0000,  76.4000, 3326,    125.0,  12.0900,  35.0760,2,  -9.0000,9,     -9.0,9,     -9.0,9,     4.34,2,     8.90,2,   2087.2,2,   2325.9,2,     0.12,2,  12.0736455
  35MF19981205,  OISO,    15,  1,     10,19981223,-40.0000,  76.4000, 3326,    150.0,  12.1200,  35.1020,2,  -9.0000,9,     -9.0,9,     -9.0,9,     3.97,2,     8.69,2,   2084.7,2,   2321.9,2,     0.05,2,  12.1003171
  35MF19981205,  OISO,    15,  1,      9,19981223,-40.0000,  76.4000, 3326,    200.0,  12.0300,  35.1020,2,  35.1090,2,     -9.0,9,    260.9,2,     3.94,2,     8.78,2,   2085.4,2,   2315.4,2,    -9.00,9,  12.0038287
  35MF19981205,  OISO,    15,  1,      8,19981223,-40.0000,  76.4000, 3326,    250.4,  12.0300,  35.1120,2,  -9.0000,9,     -9.0,9,     -9.0,9,     3.91,2,     8.83,2,   2091.2,2,   2319.8,2,    -9.00,9,  11.9971649
  35MF19981205,  OISO,    15,  1,      7,19981223,-40.0000,  76.4000, 3326,    300.3,  11.9000,  35.0850,2,  -9.0000,9,     -9.0,9,     -9.0,9,     3.98,2,     9.25,2,   2104.5,2,     -9.0,9,    -9.00,9,  11.8608293
  35MF19981205,  OISO,    15,  1,      6,19981223,-40.0000,  76.4000, 3326,    400.0,  11.3800,  34.9830,2,  -9.0000,9,     -9.0,9,     -9.0,9,     4.20,2,    10.35,2,   2090.2,2,   2318.2,2,    -9.00,9,  11.3291427
  35MF19981205,  OISO,    15,  1,      5,19981223,-40.0000,  76.4000, 3326,    500.4,  10.9100,  34.9050,2,  34.9000,2,     -9.0,9,    248.8,2,     5.38,2,    12.34,2,   2102.9,2,   2317.6,2,    -9.00,9,  10.8478337
  35MF19981205,  OISO,    15,  1,      4,19981223,-40.0000,  76.4000, 3326,    597.1,   9.8400,  34.7550,2,  -9.0000,9,     -9.0,9,     -9.0,9,     7.56,2,    16.51,2,   2124.1,2,   2308.8,2,    -9.00,9,  9.77019821
  35MF19981205,  OISO,    15,  1,      3,19981223,-40.0000,  76.4000, 3326,    800.7,   7.0700,  34.4890,2,  -9.0000,9,     -9.0,9,     -9.0,9,    16.29,2,    24.72,2,   2158.4,2,   2297.4,2,    -9.00,9,   6.9919472
  35MF19981205,  OISO,    15,  1,      1,19981223,-40.0000,  76.4000, 3326,   1002.2,   4.5600,  34.3300,2,  34.3320,2,     -9.0,9,    221.8,2,    28.78,2,    29.47,2,   2183.4,2,   2307.4,2,    -9.00,9,  4.48012268
  35MF19981205,  OISO,    15,  1,      2,19981223,-40.0000,  76.4000, 3326,   1002.3,   4.5700,  34.3300,2,  -9.0000,9,     -9.0,9,     -9.0,9,    27.04,2,    29.30,2,   2183.0,2,   2305.6,2,    -9.00,9,   4.4900406