BOTTLE,20020812WHPSIOKJU
EXPOCODE,SECT_ID,STNNBR,CASTNO,SAMPNO,BTLNBR,BTLNBR_FLAG_W,DATE,TIME,LATITUDE,LONGITUDE,DEPTH,CTDPRS,CTDTMP,CTDSAL,CTDSAL_FLAG_W,SALNTY,SALNTY_FLAG_W,CTDOXY,CTDOXY_FLAG_W,OXYGEN,OXYGEN_FLAG_W,SILCAT,SILCAT_FLAG_W,NO2+NO3,NO2+NO3_FLAG_W,PHSPHT,PHSPHT_FLAG_W,REVPRS,THETA,CTDRAW,REVTMP
,,,,,,,,,,,,DBAR,ITS-90,PSS-78,,PSS-78,,UMOL/KG,,UMOL/KG,,UMOL/KG,,UMOL/KG,,UMOL/KG,,DBAR,ITS-90,,DEG C
     32WC033_1,  PRS2,     2,  3,     18,     18,2,19920105,0051, 22.7323,-158.0018, 4750,    131.0,  21.1887,  35.1931,2,  35.1885,2,    200.0,2,   -999.0,5,  -999.00,5,  -999.00,5,  -999.00,5,  -999.0, 21.1634,    129,-999.000
     32WC033_1,  PRS2,     2,  3,     17,     17,2,19920105,0051, 22.7323,-158.0018, 4750,    212.5,  16.8905,  34.7535,2,  34.7531,2,    180.0,2,   -999.0,5,  -999.00,5,  -999.00,5,  -999.00,5,  -999.0, 16.8556,    212,-999.000
     32WC033_1,  PRS2,     2,  3,     16,     16,2,19920105,0051, 22.7323,-158.0018, 4750,    226.5,  16.0368,  34.6396,2,  34.6373,2,    173.0,2,    172.5,2,  -999.00,5,  -999.00,5,  -999.00,5,  -999.0, 16.0009,    225,-999.000
     32WC033_1,  PRS2,     2,  3,     15,     15,2,19920105,0051, 22.7323,-158.0018, 4750,    236.5,  15.2194,  34.5492,2,  34.5579,2,    177.5,2,    169.6,2,     7.80,2,     9.04,2,     0.72,2,  -999.0, 15.1833,    235,-999.000
     32WC033_1,  PRS2,     2,  3,     14,     14,2,19920105,0051, 22.7323,-158.0018, 4750,    254.0,  13.7454,  34.3963,2,  34.3964,2,    162.3,2,    164.8,2,  -999.00,5,  -999.00,5,  -999.00,5,  -999.0, 13.7092,    252,-999.000
     32WC033_1,  PRS2,     2,  3,     13,     13,2,19920105,0051, 22.7323,-158.0018, 4750,    276.9,  12.5463,  34.2943,2,  34.2937,2,    170.9,2,    170.9,2,    12.56,2,    13.03,2,     1.00,2,  -999.0, 12.5093,    274,-999.000
     32WC033_1,  PRS2,     2,  3,     12,     12,2,19920105,0051, 22.7323,-158.0018, 4750,    302.0,  11.4726,  34.2194,2,  34.2227,2,    184.3,2,    183.3,2,    15.37,2,    13.83,2,     1.05,2,  -999.0, 11.4345,    301,-999.000
     32WC033_1,  PRS2,     2,  3,     11,     11,2,19920105,0051, 22.7323,-158.0018, 4750,    327.4,  10.8080,  34.1860,2,  34.1869,2,    179.3,2,    181.4,2,    21.22,2,    17.12,2,     1.27,2,  -999.0, 10.7682,    327,-999.000
     32WC033_1,  PRS2,     2,  3,     10,     10,2,19920105,0051, 22.7323,-158.0018, 4750,    353.6,  10.3271,  34.1615,2,  34.1629,2,    177.5,2,    175.5,2,    21.22,2,    17.12,2,     1.27,2,  -999.0, 10.2853,    352,-999.000
     32WC033_1,  PRS2,     2,  3,      9,      9,2,19920105,0051, 22.7323,-158.0018, 4750,    402.6,   9.3674,  34.1237,2,  34.1233,2,    162.2,2,    162.7,2,    26.63,2,    20.41,2,     1.50,2,  -999.0,  9.3225,    400,-999.000
     32WC033_1,  PRS2,     2,  3,      8,      8,2,19920105,0051, 22.7323,-158.0018, 4750,    463.6,   7.8748,  34.1082,2,  34.1067,2,    125.0,2,    125.6,2,    42.43,2,    26.44,2,     1.95,2,  -999.0,  7.8282,    463,-999.000
     32WC033_1,  PRS2,     2,  3,      7,      6,2,19920105,0051, 22.7323,-158.0018, 4750,    504.7,   7.1570,  34.1118,2,  34.1122,2,     99.7,2,   -999.0,5,  -999.00,5,  -999.00,5,  -999.00,5,  -999.0,  7.1087,    504,-999.000
     32WC033_1,  PRS2,     2,  3,      6,      7,2,19920105,0051, 22.7323,-158.0018, 4750,    603.5,   5.8326,  34.2475,2,  34.2480,2,     35.7,2,     32.9,2,    75.98,2,    38.01,2,     2.83,2,  -999.0,  5.7804,    603,-999.000
     32WC033_1,  PRS2,     2,  3,      5,     26,2,19920105,0051, 22.7323,-158.0018, 4750,    700.6,   5.3246,  34.3365,2,  34.3349,2,     30.0,2,     27.4,2,    86.78,2,    39.94,2,     2.94,2,  -999.0,  5.2662,    700,-999.000
     32WC033_1,  PRS2,     2,  3,      4,     25,2,19920105,0051, 22.7323,-158.0018, 4750,    797.1,   4.6097,  34.3717,2,  34.3720,2,     32.7,2,     31.2,2,   100.22,4,    41.08,2,     3.00,2,  -999.0,  4.5470,    796,-999.000
     32WC033_1,  PRS2,     2,  3,      3,      3,2,19920105,0051, 22.7323,-158.0018, 4750,    895.3,   4.2189,  34.4294,2,  34.4299,2,     37.4,2,     36.4,2,   112.98,2,    41.25,2,     3.01,2,  -999.0,  4.1504,    895,-999.000
     32WC033_1,  PRS2,     2,  3,      2,      2,2,19920105,0051, 22.7323,-158.0018, 4750,   1026.2,   3.7424,  34.5039,2,  34.5051,2,     44.2,2,     48.2,2,   117.09,2,    41.19,2,     3.00,2,  -999.0,  3.6666,   1024,-999.000
     32WC033_1,  PRS2,     2,  3,      1,      1,2,19920105,0051, 22.7323,-158.0018, 4750,   1026.2,   3.7424,  34.5039,2,  34.5043,2,     44.2,2,     50.5,2,   117.53,2,    41.23,2,     3.00,2,  -999.0,  3.6666,   1024,-999.000
     32WC033_1,  PRS2,     2,  4,     13,     13,2,19920105,0329, 22.7495,-157.9990, 4750,      6.7,  24.2432,  35.0034,2,  35.0027,2,    209.7,2,   -999.0,5,  -999.00,5,  -999.00,5,  -999.00,5,  -999.0, 24.2417,      5,-999.000
     32WC033_1,  PRS2,     2,  4,     12,     12,2,19920105,0329, 22.7495,-157.9990, 4750,    107.2,  23.5767,  35.1384,2,  35.1398,2,    212.7,2,    211.6,2,     1.30,2,     0.02,2,     0.06,2,  -999.0, 23.5544,    106,-999.000
     32WC033_1,  PRS2,     2,  4,     11,     11,2,19920105,0329, 22.7495,-157.9990, 4750,    115.5,  22.6946,  35.1117,2,  35.1089,2,    209.1,2,    208.5,2,     1.94,2,     0.36,2,     0.10,2,  -999.0, 22.6712,    113,-999.000
     32WC033_1,  PRS2,     2,  4,     10,     10,2,19920105,0329, 22.7495,-157.9990, 4750,    126.7,  21.4137,  35.1381,2,  35.1302,2,    202.3,2,    203.7,2,     1.94,2,     0.91,2,     0.14,2,  -999.0, 21.3891,    126,-999.000
     32WC033_1,  PRS2,     2,  4,      9,      9,2,19920105,0329, 22.7495,-157.9990, 4750,    135.9,  21.1315,  35.1548,2,  35.1531,2,    205.1,2,    203.2,2,     1.94,2,     0.98,2,     0.15,2,  -999.0, 21.1054,    135,-999.000
     32WC033_1,  PRS2,     2,  4,      8,      8,2,19920105,0329, 22.7495,-157.9990, 4750,    152.0,  20.0588,  35.1592,2,  35.1676,2,    201.2,2,   -999.0,5,  -999.00,5,  -999.00,5,  -999.00,5,  -999.0, 20.0306,    149,-999.000
     32WC033_1,  PRS2,     2,  4,      7,      6,2,19920105,0329, 22.7495,-157.9990, 4750,    152.1,  20.0548,  35.1674,2,  35.1602,2,    201.4,2,    201.1,2,     2.17,2,     1.41,2,     0.18,2,  -999.0, 20.0266,    151,-999.000
     32WC033_1,  PRS2,     2,  4,      6,      7,2,19920105,0329, 22.7495,-157.9990, 4750,    161.2,  19.6172,  35.1605,2,  35.1584,2,    201.6,2,    202.3,2,  -999.00,5,  -999.00,5,  -999.00,5,  -999.0, 19.5878,    159,-999.000
     32WC033_1,  PRS2,     2,  4,      5,     26,2,19920105,0329, 22.7495,-157.9990, 4750,    177.5,  18.0953,  34.8898,2,  34.9023,2,    184.7,2,    184.6,2,     4.33,2,     4.25,2,     0.40,2,  -999.0, 18.0648,    176,-999.000
     32WC033_1,  PRS2,     2,  4,      4,     25,2,19920105,0329, 22.7495,-157.9990, 4750,    186.6,  17.7854,  34.8691,2,  34.8663,2,    183.0,2,    185.2,2,  -999.00,5,  -999.00,5,  -999.00,5,  -999.0, 17.7536,    184,-999.000
     32WC033_1,  PRS2,     2,  4,      3,      3,2,19920105,0329, 22.7495,-157.9990, 4750,    198.0,  17.6453,  34.8933,2,  34.8931,2,    190.4,2,    191.0,2,     4.22,2,     4.18,2,     0.37,2,  -999.0, 17.6118,    197,-999.000
     32WC033_1,  PRS2,     2,  4,      2,      2,2,19920105,0329, 22.7495,-157.9990, 4750,    448.5,   8.0342,  34.1045,2,  34.1032,2,    128.5,2,   -999.0,5,  -999.00,5,  -999.00,5,  -999.00,5,  -999.0,  7.9885,    447,-999.000
     32WC033_1,  PRS2,     2,  4,      1,      1,2,19920105,0329, 22.7495,-157.9990, 4750,   1032.4,   3.7361,  34.5051,2,-999.0000,5,     48.4,2,   -999.0,5,  -999.00,5,  -999.00,5,  -999.00,5,  -999.0,  3.6598,   1031,-999.000
     32WC033_1,  PRS2,     2,  5,     14,     14,2,19920105,0601, 22.7485,-158.0050, 4750,      5.8,  24.2502,  35.0025,2,-999.0000,5,    209.0,2,   -999.0,5,  -999.00,5,  -999.00,5,  -999.00,5,  -999.0, 24.2490,      4,-999.000
     32WC033_1,  PRS2,     2,  5,     13,     13,2,19920105,0601, 22.7485,-158.0050, 4750,      5.8,  24.2486,  35.0026,2,  35.0024,2,    209.4,2,    210.2,2,     1.73,2,     0.00,2,     0.07,2,  -999.0, 24.2474,      4,-999.000
     32WC033_1,  PRS2,     2,  5,     12,     12,2,19920105,0601, 22.7485,-158.0050, 4750,     16.0,  24.2488,  35.0024,2,  35.0018,2,    209.5,2,    210.3,2,  -999.00,5,  -999.00,5,  -999.00,5,  -999.0, 24.2454,     15,-999.000
     32WC033_1,  PRS2,     2,  5,     11,     11,2,19920105,0601, 22.7485,-158.0050, 4750,     26.3,  24.2496,  35.0019,2,-999.0000,5,    209.5,2,   -999.0,5,  -999.00,5,  -999.00,5,  -999.00,5,  -999.0, 24.2440,     25,-999.000
     32WC033_1,  PRS2,     2,  5,     10,     10,2,19920105,0601, 22.7485,-158.0050, 4750,     26.3,  24.2494,  35.0020,2,  35.0029,2,    209.0,2,    210.2,2,     1.73,2,     0.00,2,     0.07,2,  -999.0, 24.2438,     25,-999.000
     32WC033_1,  PRS2,     2,  5,      9,      9,2,19920105,0601, 22.7485,-158.0050, 4750,     36.4,  24.2496,  35.0019,2,  35.0037,2,    209.7,2,    209.8,2,     1.94,2,     0.00,2,     0.07,2,  -999.0, 24.2419,     36,-999.000
     32WC033_1,  PRS2,     2,  5,      8,      8,2,19920105,0601, 22.7485,-158.0050, 4750,     46.7,  24.2477,  35.0027,2,  35.0043,2,    209.6,2,    210.0,2,     1.73,2,     0.00,2,     0.07,2,  -999.0, 24.2378,     45,-999.000
     32WC033_1,  PRS2,     2,  5,      7,      6,2,19920105,0601, 22.7485,-158.0050, 4750,     62.0,  24.1433,  35.0505,2,  35.0390,2,    210.3,2,    210.3,2,     2.17,2,     0.00,2,     0.06,2,  -999.0, 24.1302,     60,-999.000
     32WC033_1,  PRS2,     2,  5,      6,      7,2,19920105,0601, 22.7485,-158.0050, 4750,     77.4,  23.9740,  35.1111,2,  35.1094,2,    211.4,2,    210.9,2,     1.73,2,     0.00,2,     0.04,2,  -999.0, 23.9577,     75,-999.000
     32WC033_1,  PRS2,     2,  5,      5,     26,2,19920105,0601, 22.7485,-158.0050, 4750,     87.9,  23.9454,  35.1172,2,  35.1195,2,    211.6,2,    210.8,2,     1.51,2,     0.00,2,     0.04,2,  -999.0, 23.9269,     86,-999.000
     32WC033_1,  PRS2,     2,  5,      4,     25,2,19920105,0601, 22.7485,-158.0050, 4750,     96.7,  23.9060,  35.1209,2,  35.1242,2,    211.0,2,    211.2,2,     1.41,2,     0.00,2,     0.05,2,  -999.0, 23.8857,     94,-999.000
     32WC033_1,  PRS2,     2,  5,      3,      3,2,19920105,0601, 22.7485,-158.0050, 4750,    139.1,  20.6821,  35.1823,2,  35.1734,2,    203.5,2,   -999.0,5,  -999.00,5,  -999.00,5,  -999.00,5,  -999.0, 20.6557,    138,-999.000
     32WC033_1,  PRS2,     2,  5,      2,      2,2,19920105,0601, 22.7485,-158.0050, 4750,    451.5,   7.9059,  34.1081,2,-999.0000,5,    125.3,2,   -999.0,5,  -999.00,5,  -999.00,5,  -999.00,5,  -999.0,  7.8604,    449,-999.000
     32WC033_1,  PRS2,     2,  5,      1,      1,2,19920105,0601, 22.7485,-158.0050, 4750,   1040.8,   3.8338,  34.4928,2,-999.0000,5,     45.8,2,   -999.0,5,  -999.00,5,  -999.00,5,  -999.00,5,  -999.0,  3.7561,   1041,-999.000
     32WC033_1,  PRS2,     2,  6,     14,     14,2,19920105,0857, 22.7540,-158.0110, 4750,      6.6,  24.2412,  35.0018,2,  35.0027,2,    209.3,1,   -999.0,9,  -999.00,9,  -999.00,9,  -999.00,9,  -999.0, 24.2398,      6,-999.000
     32WC033_1,  PRS2,     2,  6,     13,     13,2,19920105,0857, 22.7540,-158.0110, 4750,     25.8,  24.2446,  35.0015,2,  35.0027,2,    209.3,1,   -999.0,9,  -999.00,9,  -999.00,9,  -999.00,9,  -999.0, 24.2391,     25,-999.000
     32WC033_1,  PRS2,     2,  6,     12,     12,2,19920105,0857, 22.7540,-158.0110, 4750,     46.1,  24.2439,  35.0018,2,  35.0033,2,    209.3,1,   -999.0,9,  -999.00,9,  -999.00,9,  -999.00,9,  -999.0, 24.2341,     45,-999.000
     32WC033_1,  PRS2,     2,  6,     11,     11,2,19920105,0857, 22.7540,-158.0110, 4750,     76.3,  24.0084,  35.1073,2,  35.1100,2,    211.2,1,   -999.0,9,  -999.00,9,  -999.00,9,  -999.00,9,  -999.0, 23.9923,     74,-999.000
     32WC033_1,  PRS2,     2,  6,     10,     10,2,19920105,0857, 22.7540,-158.0110, 4750,    100.4,  23.3163,  35.1280,2,  35.1268,2,    210.3,1,   -999.0,9,  -999.00,9,  -999.00,9,  -999.00,9,  -999.0, 23.2956,     99,-999.000
     32WC033_1,  PRS2,     2,  6,      9,      9,2,19920105,0857, 22.7540,-158.0110, 4750,    126.5,  20.7470,  35.1712,2,  35.1693,2,    202.2,1,   -999.0,9,  -999.00,9,  -999.00,9,  -999.00,9,  -999.0, 20.7230,    125,-999.000
     32WC033_1,  PRS2,     2,  6,      8,      8,2,19920105,0857, 22.7540,-158.0110, 4750,    142.2,  20.0079,  35.1351,2,  35.1465,2,    202.5,1,   -999.0,9,  -999.00,9,  -999.00,9,  -999.00,9,  -999.0, 19.9816,    140,-999.000
     32WC033_1,  PRS2,     2,  6,      7,      6,2,19920105,0857, 22.7540,-158.0110, 4750,    152.0,  19.5649,  35.1381,2,-999.0000,5,    200.9,1,   -999.0,9,  -999.00,9,  -999.00,9,  -999.00,9,  -999.0, 19.5372,    151,-999.000
     32WC033_1,  PRS2,     2,  6,      6,      7,2,19920105,0857, 22.7540,-158.0110, 4750,    177.7,  17.9982,  34.8571,2,  34.8589,2,    178.7,1,   -999.0,9,  -999.00,9,  -999.00,9,  -999.00,9,  -999.0, 17.9677,    176,-999.000
     32WC033_1,  PRS2,     2,  6,      5,     26,2,19920105,0857, 22.7540,-158.0110, 4750,    245.9,  13.7823,  34.4055,2,  34.4063,2,    170.4,1,   -999.0,9,  -999.00,9,  -999.00,9,  -999.00,9,  -999.0, 13.7473,    244,-999.000
     32WC033_1,  PRS2,     2,  6,      4,     25,2,19920105,0857, 22.7540,-158.0110, 4750,    435.4,   8.0612,  34.1010,2,  34.0989,2,    131.6,1,   -999.0,9,  -999.00,9,  -999.00,9,  -999.00,9,  -999.0,  8.0169,    434,-999.000
     32WC033_1,  PRS2,     2,  6,      3,      3,2,19920105,0857, 22.7540,-158.0110, 4750,    496.5,   7.1951,  34.1168,2,  34.1201,2,     95.6,1,   -999.0,9,  -999.00,9,  -999.00,9,  -999.00,9,  -999.0,  7.1475,    495,-999.000
     32WC033_1,  PRS2,     2,  6,      2,      2,2,19920105,0857, 22.7540,-158.0110, 4750,    749.3,   5.0291,  34.3542,2,  34.3541,2,     30.4,1,   -999.0,9,  -999.00,9,  -999.00,9,  -999.00,9,  -999.0,  4.9681,    748,-999.000
     32WC033_1,  PRS2,     2,  6,      1,      1,2,19920105,0857, 22.7540,-158.0110, 4750,   1046.3,   3.8567,  34.4872,2,-999.0000,5,     44.8,1,   -999.0,9,  -999.00,9,  -999.00,9,  -999.00,9,  -999.0,  3.7783,   1046,-999.000
     32WC033_1,  PRS2,     2,  7,     10,     10,2,19920105,1312, 22.7505,-157.9887, 4750,     10.1,  24.1994,  35.0046,2,-999.0000,5,    209.9,1,   -999.0,9,  -999.00,9,  -999.00,9,  -999.00,9,  -999.0, 24.1973,      9,-999.000
     32WC033_1,  PRS2,     2,  7,      9,      9,2,19920105,1312, 22.7505,-157.9887, 4750,     15.4,  24.2027,  35.0042,2,  35.0047,2,    209.9,1,   -999.0,9,  -999.00,9,  -999.00,9,  -999.00,9,  -999.0, 24.1994,     13,-999.000
     32WC033_1,  PRS2,     2,  7,      8,      8,2,19920105,1312, 22.7505,-157.9887, 4750,     50.5,  24.1417,  35.0190,2,-999.0000,5,    210.4,1,   -999.0,9,  -999.00,9,  -999.00,9,  -999.00,9,  -999.0, 24.1310,     50,-999.000
     32WC033_1,  PRS2,     2,  7,      7,      6,2,19920105,1312, 22.7505,-157.9887, 4750,     70.9,  24.1199,  35.0230,2,-999.0000,5,    210.7,1,   -999.0,9,  -999.00,9,  -999.00,9,  -999.00,9,  -999.0, 24.1049,     69,-999.000
     32WC033_1,  PRS2,     2,  7,      6,      7,2,19920105,1312, 22.7505,-157.9887, 4750,     91.3,  23.7568,  35.0751,2,-999.0000,5,    210.5,1,   -999.0,9,  -999.00,9,  -999.00,9,  -999.00,9,  -999.0, 23.7377,     90,-999.000
     32WC033_1,  PRS2,     2,  7,      5,     26,2,19920105,1312, 22.7505,-157.9887, 4750,    112.1,  21.8030,  35.1184,2,-999.0000,5,    206.0,1,   -999.0,9,  -999.00,9,  -999.00,9,  -999.00,9,  -999.0, 21.7810,    111,-999.000
     32WC033_1,  PRS2,     2,  7,      4,     25,2,19920105,1312, 22.7505,-157.9887, 4750,    142.7,  20.5252,  35.1544,2,-999.0000,5,    202.1,1,   -999.0,9,  -999.00,9,  -999.00,9,  -999.00,9,  -999.0, 20.4983,    140,-999.000
     32WC033_1,  PRS2,     2,  7,      3,      3,2,19920105,1312, 22.7505,-157.9887, 4750,    183.7,  18.9359,  35.0271,2,  35.0260,2,    192.2,1,   -999.0,9,  -999.00,9,  -999.00,9,  -999.00,9,  -999.0, 18.9032,    183,-999.000
     32WC033_1,  PRS2,     2,  7,      2,      2,2,19920105,1312, 22.7505,-157.9887, 4750,    452.1,   7.9036,  34.1065,2,  34.1042,2,    127.1,1,   -999.0,9,  -999.00,9,  -999.00,9,  -999.00,9,  -999.0,  7.8580,    451,-999.000
     32WC033_1,  PRS2,     2,  7,      1,      1,2,19920105,1312, 22.7505,-157.9887, 4750,   1023.8,   3.8458,  34.4896,2,  34.4897,2,     45.1,1,   -999.0,9,  -999.00,9,  -999.00,9,  -999.00,9,  -999.0,  3.7694,   1022,-999.000
     32WC033_1,  PRS2,     2,  8,      7,      6,2,19920105,1701, 22.7502,-158.0010, 4750,     36.2,  24.1032,  35.0202,2,  35.0218,2,    209.8,1,   -999.0,9,  -999.00,9,  -999.00,9,  -999.00,9,  -999.0, 24.0955,     36,-999.000
     32WC033_1,  PRS2,     2,  8,      6,      7,3,19920105,1701, 22.7502,-158.0010, 4750,     61.8,  24.0606,  35.0634,2,  35.0640,2,    210.5,1,   -999.0,9,  -999.00,9,  -999.00,9,  -999.00,9,  -999.0, 24.0475,     60,-999.000
     32WC033_1,  PRS2,     2,  8,      5,     26,2,19920105,1701, 22.7502,-158.0010, 4750,     72.1,  23.9737,  35.0640,2,  35.0655,2,    210.1,1,   -999.0,9,  -999.00,9,  -999.00,9,  -999.00,9,  -999.0, 23.9586,     71,-999.000
     32WC033_1,  PRS2,     2,  8,      4,     25,2,19920105,1701, 22.7502,-158.0010, 4750,     92.1,  22.6627,  35.1121,2,  35.1104,2,    210.6,1,   -999.0,9,  -999.00,9,  -999.00,9,  -999.00,9,  -999.0, 22.6441,     90,-999.000
     32WC033_1,  PRS2,     2,  8,      3,      3,2,19920105,1701, 22.7502,-158.0010, 4750,    120.2,  20.9681,  35.1316,2,  35.1299,2,    199.2,1,   -999.0,9,  -999.00,9,  -999.00,9,  -999.00,9,  -999.0, 20.9452,    118,-999.000
     32WC033_1,  PRS2,     2,  8,      2,      2,2,19920105,1701, 22.7502,-158.0010, 4750,    452.9,   8.0893,  34.1065,2,  34.1054,2,    127.8,1,   -999.0,9,  -999.00,9,  -999.00,9,  -999.00,9,  -999.0,  8.0430,    451,-999.000
     32WC033_1,  PRS2,     2,  8,      1,      1,2,19920105,1701, 22.7502,-158.0010, 4750,   1002.0,   3.9131,  34.4805,2,  34.4789,2,     43.6,1,   -999.0,9,  -999.00,9,  -999.00,9,  -999.00,9,  -999.0,  3.8380,    999,-999.000