BOTTLE,20020812WHPSIOKJU
EXPOCODE,SECT_ID,STNNBR,CASTNO,SAMPNO,BTLNBR,BTLNBR_FLAG_W,DATE,TIME,LATITUDE,LONGITUDE,DEPTH,CTDPRS,CTDTMP,CTDSAL,CTDSAL_FLAG_W,SALNTY,SALNTY_FLAG_W,CTDOXY,CTDOXY_FLAG_W,OXYGEN,OXYGEN_FLAG_W,SILCAT,SILCAT_FLAG_W,NO2+NO3,NO2+NO3_FLAG_W,PHSPHT,PHSPHT_FLAG_W,REVPRS,THETA,CTDRAW,REVTMP
,,,,,,,,,,,,DBAR,ITS-90,PSS-78,,PSS-78,,UMOL/KG,,UMOL/KG,,UMOL/KG,,UMOL/KG,,UMOL/KG,,DBAR,ITS-90,,DEG C
     32WC033_1,  PRS2,     3,  1,     20,     20,2,19920107,1824, 23.4217,-158.0027, -999,      5.3,  23.3885,  35.2864,2,  35.2869,2,    212.5,2,   -999.0,5,  -999.00,9,  -999.00,9,  -999.00,9,  -999.0, 23.3874,      5,-999.000
     32WC033_1,  PRS2,     3,  1,     19,     19,2,19920107,1824, 23.4217,-158.0027, -999,     25.8,  23.3920,  35.2876,2,  35.2911,2,    212.6,2,    214.1,2,  -999.00,9,  -999.00,9,  -999.00,9,  -999.0, 23.3867,     26,-999.000
     32WC033_1,  PRS2,     3,  1,     18,     18,2,19920107,1824, 23.4217,-158.0027, -999,     45.2,  23.3935,  35.2976,2,  35.2976,2,    212.6,2,   -999.0,5,  -999.00,9,  -999.00,9,  -999.00,9,  -999.0, 23.3842,     44,-999.000
     32WC033_1,  PRS2,     3,  1,     17,     17,2,19920107,1824, 23.4217,-158.0027, -999,     60.3,  23.3954,  35.2975,2,  35.2989,2,    212.8,2,   -999.0,5,  -999.00,9,  -999.00,9,  -999.00,9,  -999.0, 23.3829,     60,-999.000
     32WC033_1,  PRS2,     3,  1,     16,     16,2,19920107,1824, 23.4217,-158.0027, -999,     75.5,  23.3857,  35.3048,2,  35.3005,2,    213.0,2,   -999.0,5,  -999.00,9,  -999.00,9,  -999.00,9,  -999.0, 23.3701,     75,-999.000
     32WC033_1,  PRS2,     3,  1,     15,     15,2,19920107,1824, 23.4217,-158.0027, -999,     96.0,  20.9259,  35.2210,2,  35.2199,2,    223.2,2,    223.7,2,  -999.00,9,  -999.00,9,  -999.00,9,  -999.0, 20.9076,     95,-999.000
     32WC033_1,  PRS2,     3,  1,     14,     14,2,19920107,1824, 23.4217,-158.0027, -999,    105.5,  20.5160,  35.2208,2,  35.2195,2,    213.8,2,   -999.0,5,  -999.00,9,  -999.00,9,  -999.00,9,  -999.0, 20.4961,    106,-999.000
     32WC033_1,  PRS2,     3,  1,     13,     13,2,19920107,1824, 23.4217,-158.0027, -999,    116.6,  20.0990,  35.2066,2,  35.2101,2,    212.8,2,   -999.0,5,  -999.00,9,  -999.00,9,  -999.00,9,  -999.0, 20.0774,    116,-999.000
     32WC033_1,  PRS2,     3,  1,     12,     12,2,19920107,1824, 23.4217,-158.0027, -999,    126.5,  19.8016,  35.1936,2,  35.2050,2,    212.7,2,   -999.0,5,  -999.00,9,  -999.00,9,  -999.00,9,  -999.0, 19.7783,    126,-999.000
     32WC033_1,  PRS2,     3,  1,     11,     11,2,19920107,1824, 23.4217,-158.0027, -999,    152.1,  18.7112,  35.0927,2,  35.1087,3,    202.2,3,    198.7,2,  -999.00,9,  -999.00,9,  -999.00,9,  -999.0, 18.6843,    151,-999.000
     32WC033_1,  PRS2,     3,  1,     10,     10,2,19920107,1824, 23.4217,-158.0027, -999,    177.7,  17.7265,  34.9607,2,  34.9841,3,    203.6,3,   -999.0,5,  -999.00,9,  -999.00,9,  -999.00,9,  -999.0, 17.6963,    176,-999.000
     32WC033_1,  PRS2,     3,  1,      9,      9,2,19920107,1824, 23.4217,-158.0027, -999,    202.3,  16.3291,  34.7578,2,  34.7718,2,    205.6,2,   -999.0,5,  -999.00,9,  -999.00,9,  -999.00,9,  -999.0, 16.2967,    201,-999.000
     32WC033_1,  PRS2,     3,  1,      8,      8,2,19920107,1824, 23.4217,-158.0027, -999,    227.5,  14.6308,  34.5293,2,  34.5297,2,    203.3,2,    203.8,2,  -999.00,9,  -999.00,9,  -999.00,9,  -999.0, 14.5970,    226,-999.000
     32WC033_1,  PRS2,     3,  1,      7,      6,2,19920107,1824, 23.4217,-158.0027, -999,    252.8,  13.6452,  34.4299,2,-999.0000,5,    207.7,2,   -999.0,5,  -999.00,9,  -999.00,9,  -999.00,9,  -999.0, 13.6094,    253,-999.000
     32WC033_1,  PRS2,     3,  1,      6,      7,2,19920107,1824, 23.4217,-158.0027, -999,    303.3,  11.5451,  34.2337,2,  34.2366,2,    203.2,2,   -999.0,5,  -999.00,9,  -999.00,9,  -999.00,9,  -999.0, 11.5066,    302,-999.000
     32WC033_1,  PRS2,     3,  1,      5,     26,2,19920107,1824, 23.4217,-158.0027, -999,    402.4,   9.1682,  34.1047,2,  34.1044,2,    191.2,2,   -999.0,5,  -999.00,9,  -999.00,9,  -999.00,9,  -999.0,  9.1240,    401,-999.000
     32WC033_1,  PRS2,     3,  1,      4,     25,2,19920107,1824, 23.4217,-158.0027, -999,    449.4,   7.9327,  34.0460,2,  34.0452,2,    160.1,2,   -999.0,5,  -999.00,9,  -999.00,9,  -999.00,9,  -999.0,  7.8874,    448,-999.000
     32WC033_1,  PRS2,     3,  1,      3,      3,2,19920107,1824, 23.4217,-158.0027, -999,    499.4,   6.8168,  34.0201,2,  34.0180,2,    128.5,2,   -999.0,5,  -999.00,9,  -999.00,9,  -999.00,9,  -999.0,  6.7705,    498,-999.000
     32WC033_1,  PRS2,     3,  1,      2,      2,2,19920107,1824, 23.4217,-158.0027, -999,    750.6,   4.5228,  34.2565,2,  34.2544,2,     23.0,2,     21.8,2,  -999.00,9,  -999.00,9,  -999.00,9,  -999.0,  4.4647,    750,-999.000
     32WC033_1,  PRS2,     3,  1,      1,      1,2,19920107,1824, 23.4217,-158.0027, -999,   1002.5,   3.8086,  34.4642,2,  34.4663,2,     43.4,2,   -999.0,5,  -999.00,9,  -999.00,9,  -999.00,9,  -999.0,  3.7343,   1001,-999.000
     32WC033_1,  PRS2,     4,  1,     20,     20,2,19920108,0427, 21.9627,-157.9993, 3600,      5.2,  24.5417,  35.0087,2,  35.0079,2,    208.4,2,   -999.0,5,  -999.00,9,  -999.00,9,  -999.00,9,  -999.0, 24.5406,      4,-999.000
     32WC033_1,  PRS2,     4,  1,     19,     19,2,19920108,0427, 21.9627,-157.9993, 3600,     25.9,  24.3313,  35.0288,2,  35.0283,2,    209.2,2,    211.3,2,  -999.00,9,  -999.00,9,  -999.00,9,  -999.0, 24.3258,     25,-999.000
     32WC033_1,  PRS2,     4,  1,     18,     18,2,19920108,0427, 21.9627,-157.9993, 3600,     45.6,  24.1504,  35.0584,2,  35.0598,2,    210.4,2,   -999.0,5,  -999.00,9,  -999.00,9,  -999.00,9,  -999.0, 24.1408,     45,-999.000
     32WC033_1,  PRS2,     4,  1,     17,     17,2,19920108,0427, 21.9627,-157.9993, 3600,     61.1,  24.1042,  35.0687,2,  35.0693,2,    210.5,2,   -999.0,5,  -999.00,9,  -999.00,9,  -999.00,9,  -999.0, 24.0912,     60,-999.000
     32WC033_1,  PRS2,     4,  1,     16,     16,2,19920108,0427, 21.9627,-157.9993, 3600,     76.9,  23.9900,  35.0737,2,  35.0726,2,    210.3,2,   -999.0,5,  -999.00,9,  -999.00,9,  -999.00,9,  -999.0, 23.9738,     76,-999.000
     32WC033_1,  PRS2,     4,  1,     15,     15,2,19920108,0427, 21.9627,-157.9993, 3600,     96.3,  22.5454,  35.1362,2,  35.1394,2,    210.4,2,    211.2,2,  -999.00,9,  -999.00,9,  -999.00,9,  -999.0, 22.5260,     93,-999.000
     32WC033_1,  PRS2,     4,  1,     14,     14,2,19920108,0427, 21.9627,-157.9993, 3600,    105.2,  22.0607,  35.1627,2,  35.1597,2,    207.8,2,   -999.0,5,  -999.00,9,  -999.00,9,  -999.00,9,  -999.0, 22.0399,    103,-999.000
     32WC033_1,  PRS2,     4,  1,     13,     13,2,19920108,0427, 21.9627,-157.9993, 3600,    115.2,  21.8500,  35.1734,2,  35.1742,2,    211.0,2,   -999.0,5,  -999.00,9,  -999.00,9,  -999.00,9,  -999.0, 21.8273,    115,-999.000
     32WC033_1,  PRS2,     4,  1,     12,     12,2,19920108,0427, 21.9627,-157.9993, 3600,    128.3,  20.6896,  35.1673,2,  35.1537,2,    203.3,2,   -999.0,5,  -999.00,9,  -999.00,9,  -999.00,9,  -999.0, 20.6653,    129,-999.000
     32WC033_1,  PRS2,     4,  1,     11,     11,2,19920108,0427, 21.9627,-157.9993, 3600,    151.2,  19.6392,  35.1750,2,-999.0000,5,    203.2,2,   -999.0,5,  -999.00,9,  -999.00,9,  -999.00,9,  -999.0, 19.6116,    148,-999.000
     32WC033_1,  PRS2,     4,  1,     10,     10,2,19920108,0427, 21.9627,-157.9993, 3600,    174.9,  18.3411,  34.9787,2,  34.9858,2,    194.7,2,   -999.0,5,  -999.00,9,  -999.00,9,  -999.00,9,  -999.0, 18.3107,    173,-999.000
     32WC033_1,  PRS2,     4,  1,      9,      9,2,19920108,0427, 21.9627,-157.9993, 3600,    199.0,  17.1406,  34.8440,2,  34.8481,2,    196.4,2,   -999.0,5,  -999.00,9,  -999.00,9,  -999.00,9,  -999.0, 17.1076,    200,-999.000
     32WC033_1,  PRS2,     4,  1,      8,      8,2,19920108,0427, 21.9627,-157.9993, 3600,    225.3,  15.2769,  34.6071,2,  34.6103,2,    192.7,2,   -999.0,5,  -999.00,9,  -999.00,9,  -999.00,9,  -999.0, 15.2424,    225,-999.000
     32WC033_1,  PRS2,     4,  1,      7,      6,2,19920108,0427, 21.9627,-157.9993, 3600,    251.5,  13.7730,  34.4395,2,  34.4858,3,    193.5,3,   -999.0,5,  -999.00,9,  -999.00,9,  -999.00,9,  -999.0, 13.7372,    250,-999.000
     32WC033_1,  PRS2,     4,  1,      6,      7,2,19920108,0427, 21.9627,-157.9993, 3600,    302.1,  11.2977,  34.2189,2,  34.2222,2,    177.9,2,   -999.0,5,  -999.00,9,  -999.00,9,  -999.00,9,  -999.0, 11.2599,    301,-999.000
     32WC033_1,  PRS2,     4,  1,      5,     26,2,19920108,0427, 21.9627,-157.9993, 3600,    404.0,   8.1870,  34.1016,2,  34.1083,2,    138.2,2,   -999.0,5,  -999.00,9,  -999.00,9,  -999.00,9,  -999.0,  8.1456,    402,-999.000
     32WC033_1,  PRS2,     4,  1,      4,     25,2,19920108,0427, 21.9627,-157.9993, 3600,    454.4,   7.1725,  34.0751,2,  34.0733,2,    109.1,2,   -999.0,5,  -999.00,9,  -999.00,9,  -999.00,9,  -999.0,  7.1292,    453,-999.000
     32WC033_1,  PRS2,     4,  1,      3,      3,2,19920108,0427, 21.9627,-157.9993, 3600,    499.4,   6.7324,  34.1156,2,  34.1142,2,     82.4,2,   -999.0,5,  -999.00,9,  -999.00,9,  -999.00,9,  -999.0,  6.6863,    498,-999.000
     32WC033_1,  PRS2,     4,  1,      2,      2,2,19920108,0427, 21.9627,-157.9993, 3600,    752.7,   4.7273,  34.3393,2,  34.3407,2,     32.3,2,     31.2,2,  -999.00,9,  -999.00,9,  -999.00,9,  -999.0,  4.6677,    752,-999.000
     32WC033_1,  PRS2,     4,  1,      1,      1,2,19920108,0427, 21.9627,-157.9993, 3600,   1023.1,   3.9255,  34.4849,2,  34.4848,2,     43.2,2,   -999.0,5,  -999.00,9,  -999.00,9,  -999.00,9,  -999.0,  3.8485,   1020,-999.000
     32WC033_1,  PRS2,     5,  1,     15,     15,2,19920108,0722, 21.7940,-158.0010, -999,      7.3,  24.3141,  35.0308,2,  35.0307,2,    209.0,2,   -999.0,5,  -999.00,9,  -999.00,9,  -999.00,9,  -999.0, 24.3126,      5,-999.000
     32WC033_1,  PRS2,     5,  1,     14,     14,2,19920108,0722, 21.7940,-158.0010, -999,     27.6,  24.2126,  35.0348,2,  35.0346,2,    209.4,2,    210.8,2,  -999.00,9,  -999.00,9,  -999.00,9,  -999.0, 24.2068,     25,-999.000
     32WC033_1,  PRS2,     5,  1,     13,     13,2,19920108,0722, 21.7940,-158.0010, -999,     47.5,  24.1746,  35.0363,2,  35.0362,2,    209.5,2,   -999.0,5,  -999.00,9,  -999.00,9,  -999.00,9,  -999.0, 24.1646,     45,-999.000
     32WC033_1,  PRS2,     5,  1,     12,     12,2,19920108,0722, 21.7940,-158.0010, -999,     62.7,  24.1513,  35.0611,2,  35.0525,2,    209.4,2,   -999.0,5,  -999.00,9,  -999.00,9,  -999.00,9,  -999.0, 24.1380,     60,-999.000
     32WC033_1,  PRS2,     5,  1,     11,     11,2,19920108,0722, 21.7940,-158.0010, -999,     78.0,  24.0682,  35.1163,2,  35.1150,2,    210.3,2,   -999.0,5,  -999.00,9,  -999.00,9,  -999.00,9,  -999.0, 24.0518,     75,-999.000
     32WC033_1,  PRS2,     5,  1,     10,     10,2,19920108,0722, 21.7940,-158.0010, -999,     98.2,  23.5520,  35.1250,2,  35.1203,2,    208.5,2,    209.5,2,  -999.00,9,  -999.00,9,  -999.00,9,  -999.0, 23.5316,     96,-999.000
     32WC033_1,  PRS2,     5,  1,      9,      9,3,19920108,0722, 21.7940,-158.0010, -999,    108.4,  21.8969,  35.1193,2,-999.0000,5,    208.6,2,   -999.0,5,  -999.00,9,  -999.00,9,  -999.00,9,  -999.0, 21.8755,    105,-999.000
     32WC033_1,  PRS2,     5,  1,      8,      8,2,19920108,0722, 21.7940,-158.0010, -999,    118.2,  21.2730,  35.1334,2,  35.1325,2,    202.9,2,   -999.0,5,  -999.00,9,  -999.00,9,  -999.00,9,  -999.0, 21.2501,    115,-999.000
     32WC033_1,  PRS2,     5,  1,      7,      6,2,19920108,0722, 21.7940,-158.0010, -999,    127.7,  20.0661,  35.1216,2,  35.1201,2,    197.8,2,   -999.0,5,  -999.00,9,  -999.00,9,  -999.00,9,  -999.0, 20.0425,    127,-999.000
     32WC033_1,  PRS2,     5,  1,      6,      7,2,19920108,0722, 21.7940,-158.0010, -999,    153.2,  19.0242,  35.0269,2,  35.0423,2,    198.4,2,   -999.0,5,  -999.00,9,  -999.00,9,  -999.00,9,  -999.0, 18.9969,    150,-999.000
     32WC033_1,  PRS2,     5,  1,      5,     26,2,19920108,0722, 21.7940,-158.0010, -999,    177.5,  17.8957,  34.9023,2,  34.9260,3,    190.8,3,   -999.0,5,  -999.00,9,  -999.00,9,  -999.00,9,  -999.0, 17.8654,    173,-999.000
     32WC033_1,  PRS2,     5,  1,      4,     25,2,19920108,0722, 21.7940,-158.0010, -999,    202.1,  17.2645,  34.8234,2,  34.8204,2,    188.4,2,   -999.0,5,  -999.00,9,  -999.00,9,  -999.00,9,  -999.0, 17.2309,    199,-999.000
     32WC033_1,  PRS2,     5,  1,      3,      3,2,19920108,0722, 21.7940,-158.0010, -999,    227.6,  15.9166,  34.6651,2,  34.6606,2,    183.3,2,   -999.0,5,  -999.00,9,  -999.00,9,  -999.00,9,  -999.0, 15.8807,    225,-999.000
     32WC033_1,  PRS2,     5,  1,      2,      2,2,19920108,0722, 21.7940,-158.0010, -999,    249.3,  13.1501,  34.3751,2,  34.3735,2,    176.3,2,   -999.0,5,  -999.00,9,  -999.00,9,  -999.00,9,  -999.0, 13.1157,    247,-999.000
     32WC033_1,  PRS2,     5,  1,      1,      1,2,19920108,0722, 21.7940,-158.0010, -999,    358.0,   9.4583,  34.1606,2,  34.1583,2,    150.9,2,    152.7,2,  -999.00,9,  -999.00,9,  -999.00,9,  -999.0,  9.4182,    354,-999.000