BOTTLE,20020812WHPSIOKJU
EXPOCODE,SECT_ID,STNNBR,CASTNO,SAMPNO,BTLNBR,BTLNBR_FLAG_W,DATE,TIME,LATITUDE,LONGITUDE,DEPTH,CTDPRS,CTDTMP,CTDSAL,CTDSAL_FLAG_W,SALNTY,SALNTY_FLAG_W,CTDOXY,CTDOXY_FLAG_W,OXYGEN,OXYGEN_FLAG_W,SILCAT,SILCAT_FLAG_W,NO2+NO3,NO2+NO3_FLAG_W,PHSPHT,PHSPHT_FLAG_W,REVPRS,THETA,CTDRAW,REVTMP
,,,,,,,,,,,,DBAR,ITS-90,PSS-78,,PSS-78,,UMOL/KG,,UMOL/KG,,UMOL/KG,,UMOL/KG,,UMOL/KG,,DBAR,ITS-90,,DEG C
     32WC033_1,  PRS2,     2, 15,     17,     17,2,19920106,0749, 22.7500,-158.0033, 4750,      7.0,  24.2009,  35.0079,2,  35.0429,4,    209.7,1,   -999.0,9,  -999.00,9,  -999.00,9,  -999.00,9,  -999.0, 24.1994,      6,-999.000
     32WC033_1,  PRS2,     2, 15,     16,     16,2,19920106,0749, 22.7500,-158.0033, 4750,     26.3,  24.1991,  35.0125,2,  35.0136,2,    209.3,1,   -999.0,9,  -999.00,9,  -999.00,9,  -999.00,9,  -999.0, 24.1935,     24,-999.000
     32WC033_1,  PRS2,     2, 15,     15,     15,2,19920106,0749, 22.7500,-158.0033, 4750,     26.3,  24.1994,  35.0129,2,  35.0118,2,    209.3,1,   -999.0,9,  -999.00,9,  -999.00,9,  -999.00,9,  -999.0, 24.1939,     25,-999.000
     32WC033_1,  PRS2,     2, 15,     14,     14,2,19920106,0749, 22.7500,-158.0033, 4750,     45.6,  24.1586,  35.0211,2,  35.0212,2,    209.4,1,   -999.0,9,  -999.00,9,  -999.00,9,  -999.00,9,  -999.0, 24.1490,     44,-999.000
     32WC033_1,  PRS2,     2, 15,     13,     13,2,19920106,0749, 22.7500,-158.0033, 4750,     76.3,  24.0354,  35.0420,2,  35.0419,2,    209.8,1,   -999.0,9,  -999.00,9,  -999.00,9,  -999.00,9,  -999.0, 24.0193,     75,-999.000
     32WC033_1,  PRS2,     2, 15,     12,     12,2,19920106,0749, 22.7500,-158.0033, 4750,     81.5,  23.9823,  35.0684,2,  35.0693,2,    209.3,1,   -999.0,9,  -999.00,9,  -999.00,9,  -999.00,9,  -999.0, 23.9652,     80,-999.000
     32WC033_1,  PRS2,     2, 15,     11,     11,2,19920106,0749, 22.7500,-158.0033, 4750,     86.4,  23.6943,  35.0892,2,  35.0884,2,    210.6,1,   -999.0,9,  -999.00,9,  -999.00,9,  -999.00,9,  -999.0, 23.6763,     85,-999.000
     32WC033_1,  PRS2,     2, 15,     10,     10,2,19920106,0749, 22.7500,-158.0033, 4750,     91.4,  23.3906,  35.1120,2,  35.1077,2,    208.5,1,   -999.0,9,  -999.00,9,  -999.00,9,  -999.00,9,  -999.0, 23.3717,     90,-999.000
     32WC033_1,  PRS2,     2, 15,      9,      9,2,19920106,0749, 22.7500,-158.0033, 4750,     96.5,  23.0773,  35.1077,2,  35.1114,2,    207.4,1,   -999.0,9,  -999.00,9,  -999.00,9,  -999.00,9,  -999.0, 23.0575,     95,-999.000
     32WC033_1,  PRS2,     2, 15,      7,      6,2,19920106,0749, 22.7500,-158.0033, 4750,    101.3,  22.7734,  35.1182,2,  35.1116,2,    207.6,1,   -999.0,9,  -999.00,9,  -999.00,9,  -999.00,9,  -999.0, 22.7528,    101,-999.000
     32WC033_1,  PRS2,     2, 15,      8,      8,2,19920106,0749, 22.7500,-158.0033, 4750,    101.5,  22.7778,  35.1149,2,  35.1112,2,    207.4,1,   -999.0,9,  -999.00,9,  -999.00,9,  -999.00,9,  -999.0, 22.7573,    100,-999.000
     32WC033_1,  PRS2,     2, 15,      6,      7,2,19920106,0749, 22.7500,-158.0033, 4750,    116.9,  21.2954,  35.1496,2,  35.1425,2,    202.2,1,   -999.0,9,  -999.00,9,  -999.00,9,  -999.00,9,  -999.0, 21.2728,    116,-999.000
     32WC033_1,  PRS2,     2, 15,      5,     26,2,19920106,0749, 22.7500,-158.0033, 4750,    126.4,  20.9696,  35.1481,2,  35.1471,2,    205.3,1,   -999.0,9,  -999.00,9,  -999.00,9,  -999.00,9,  -999.0, 20.9455,    125,-999.000
     32WC033_1,  PRS2,     2, 15,      4,     25,2,19920106,0749, 22.7500,-158.0033, 4750,    152.7,  19.8790,  35.1089,2,  35.1063,2,    195.9,1,   -999.0,9,  -999.00,9,  -999.00,9,  -999.00,9,  -999.0, 19.8509,    151,-999.000
     32WC033_1,  PRS2,     2, 15,      3,      3,2,19920106,0749, 22.7500,-158.0033, 4750,    172.1,  18.8511,  34.9582,2,  34.9724,2,    188.0,1,   -999.0,9,  -999.00,9,  -999.00,9,  -999.00,9,  -999.0, 18.8206,    170,-999.000
     32WC033_1,  PRS2,     2, 15,      2,      2,2,19920106,0749, 22.7500,-158.0033, 4750,    447.5,   7.9536,  34.1048,2,  34.1042,2,    125.1,1,   -999.0,9,  -999.00,9,  -999.00,9,  -999.00,9,  -999.0,  7.9083,    446,-999.000
     32WC033_1,  PRS2,     2, 15,      1,      1,2,19920106,0749, 22.7500,-158.0033, 4750,   1030.2,   3.8480,  34.4897,2,  34.4918,2,     45.2,1,   -999.0,9,  -999.00,9,  -999.00,9,  -999.00,9,  -999.0,  3.7710,   1028,-999.000
     32WC033_1,  PRS2,     2, 16,      5,     26,2,19920106,1207, 22.7503,-158.0002, 4750,    428.7,   7.9771,  34.1048,2,  34.1030,2,    128.1,1,   -999.0,9,  -999.00,9,  -999.00,9,  -999.00,9,  -999.0,  7.9337,    428,-999.000
     32WC033_1,  PRS2,     2, 16,      4,     25,2,19920106,1207, 22.7503,-158.0002, 4750,    428.7,   7.9771,  34.1048,2,  34.1036,2,    128.1,1,   -999.0,9,  -999.00,9,  -999.00,9,  -999.00,9,  -999.0,  7.9337,    428,-999.000
     32WC033_1,  PRS2,     2, 16,      3,      3,2,19920106,1207, 22.7503,-158.0002, 4750,   1000.7,   3.9463,  34.4765,2,  34.4765,2,     39.7,1,   -999.0,9,  -999.00,9,  -999.00,9,  -999.00,9,  -999.0,  3.8710,    999,-999.000
     32WC033_1,  PRS2,     2, 16,      2,      2,2,19920106,1207, 22.7503,-158.0002, 4750,   1000.7,   3.9463,  34.4765,2,  34.4757,2,     39.7,1,   -999.0,9,  -999.00,9,  -999.00,9,  -999.00,9,  -999.0,  3.8710,    999,-999.000
     32WC033_1,  PRS2,     2, 16,      1,      1,2,19920106,1207, 22.7503,-158.0002, 4750,   2003.4,   2.0241,  34.6176,2,  34.6203,2,     91.0,1,   -999.0,9,  -999.00,9,  -999.00,9,  -999.00,9,  -999.0,  1.8871,   2003,-999.000
     32WC033_1,  PRS2,     2, 17,      5,     26,2,19920106,1519, 22.7512,-157.9788, 4750,    447.2,   8.1932,  34.1116,2,  34.1087,2,    127.7,1,   -999.0,9,  -999.00,9,  -999.00,9,  -999.00,9,  -999.0,  8.1472,    447,-999.000
     32WC033_1,  PRS2,     2, 17,      4,     25,2,19920106,1519, 22.7512,-157.9788, 4750,    447.2,   8.1932,  34.1116,2,  34.1115,2,    127.7,1,   -999.0,9,  -999.00,9,  -999.00,9,  -999.00,9,  -999.0,  8.1472,    447,-999.000
     32WC033_1,  PRS2,     2, 17,      3,      3,2,19920106,1519, 22.7512,-157.9788, 4750,    994.4,   3.9001,  34.4834,2,  34.4842,2,     40.2,1,   -999.0,9,  -999.00,9,  -999.00,9,  -999.00,9,  -999.0,  3.8257,    994,-999.000
     32WC033_1,  PRS2,     2, 17,      2,      2,2,19920106,1519, 22.7512,-157.9788, 4750,    994.4,   3.9001,  34.4834,2,  34.4824,2,     40.2,1,   -999.0,9,  -999.00,9,  -999.00,9,  -999.00,9,  -999.0,  3.8257,    994,-999.000
     32WC033_1,  PRS2,     2, 17,      1,      1,2,19920106,1519, 22.7512,-157.9788, 4750,   2002.1,   2.0819,  34.6150,2,  34.6150,2,     89.2,1,   -999.0,9,  -999.00,9,  -999.00,9,  -999.00,9,  -999.0,  1.9441,   2003,-999.000
     32WC033_1,  PRS2,     2, 18,      9,      9,2,19920106,1803, 22.7413,-158.0000, 4750,    997.9,   3.9413,  34.4768,2,  34.4756,2,     42.1,2,   -999.0,5,  -999.00,9,  -999.00,9,  -999.00,9,  -999.0,  3.8663,    998,-999.000
     32WC033_1,  PRS2,     2, 18,      8,      8,2,19920106,1803, 22.7413,-158.0000, 4750,   1432.6,   2.8334,  34.5698,2,  34.5698,2,     59.6,2,   -999.0,5,  -999.00,9,  -999.00,9,  -999.00,9,  -999.0,  2.7330,   1432,-999.000
     32WC033_1,  PRS2,     2, 18,      7,      6,2,19920106,1803, 22.7413,-158.0000, 4750,   1432.6,   2.8334,  34.5698,2,  34.5737,3,     59.6,3,   -999.0,5,  -999.00,9,  -999.00,9,  -999.00,9,  -999.0,  2.7330,   1432,-999.000
     32WC033_1,  PRS2,     2, 18,      6,      7,2,19920106,1803, 22.7413,-158.0000, 4750,   1628.3,   2.5391,  34.5885,2,  34.5893,2,     71.1,2,   -999.0,5,  -999.00,9,  -999.00,9,  -999.00,9,  -999.0,  2.4262,   1628,-999.000
     32WC033_1,  PRS2,     2, 18,      5,     26,2,19920106,1803, 22.7413,-158.0000, 4750,   1638.4,   2.5221,  34.5895,2,  34.5898,2,     75.7,2,     75.1,2,  -999.00,9,  -999.00,9,  -999.00,9,  -999.0,  2.4085,   1638,-999.000
     32WC033_1,  PRS2,     2, 18,      4,     25,2,19920106,1803, 22.7413,-158.0000, 4750,   1638.4,   2.5221,  34.5895,2,  34.5893,2,     75.7,2,     75.2,2,  -999.00,9,  -999.00,9,  -999.00,9,  -999.0,  2.4085,   1638,-999.000
     32WC033_1,  PRS2,     2, 18,      3,      3,2,19920106,1803, 22.7413,-158.0000, 4750,   1638.4,   2.5221,  34.5895,2,-999.0000,5,     75.7,2,   -999.0,5,  -999.00,9,  -999.00,9,  -999.00,9,  -999.0,  2.4085,   1638,-999.000
     32WC033_1,  PRS2,     2, 18,      2,      2,2,19920106,1803, 22.7413,-158.0000, 4750,   1660.2,   2.4761,  34.5923,2,  34.5910,2,     80.3,2,     76.5,2,  -999.00,9,  -999.00,9,  -999.00,9,  -999.0,  2.3613,   1661,-999.000
     32WC033_1,  PRS2,     2, 18,      1,      1,2,19920106,1803, 22.7413,-158.0000, 4750,   1660.2,   2.4761,  34.5923,2,  34.5930,2,     80.3,2,   -999.0,5,  -999.00,9,  -999.00,9,  -999.00,9,  -999.0,  2.3613,   1661,-999.000
     32WC033_1,  PRS2,     2, 19,      5,     26,2,19920106,2017, 22.7433,-157.9902, 4750,    452.9,   8.1770,  34.1235,2,  34.1221,2,    124.0,1,   -999.0,9,  -999.00,9,  -999.00,9,  -999.00,9,  -999.0,  8.1304,    452,-999.000
     32WC033_1,  PRS2,     2, 19,      4,     25,2,19920106,2017, 22.7433,-157.9902, 4750,    950.6,   4.0130,  34.4650,2,  34.4651,2,     37.2,1,   -999.0,9,  -999.00,9,  -999.00,9,  -999.00,9,  -999.0,  3.9414,    950,-999.000
     32WC033_1,  PRS2,     2, 19,      3,      3,2,19920106,2017, 22.7433,-157.9902, 4750,    950.6,   4.0130,  34.4650,2,  34.4651,2,     37.2,1,   -999.0,9,  -999.00,9,  -999.00,9,  -999.00,9,  -999.0,  3.9414,    950,-999.000
     32WC033_1,  PRS2,     2, 19,      2,      2,2,19920106,2017, 22.7433,-157.9902, 4750,   2031.4,   2.0254,  34.6192,2,  34.6191,2,     93.9,1,   -999.0,9,  -999.00,9,  -999.00,9,  -999.00,9,  -999.0,  1.8859,   2031,-999.000
     32WC033_1,  PRS2,     2, 19,      1,      1,2,19920106,2017, 22.7433,-157.9902, 4750,   2031.4,   2.0254,  34.6192,2,  34.6187,2,     93.9,1,   -999.0,9,  -999.00,9,  -999.00,9,  -999.00,9,  -999.0,  1.8859,   2031,-999.000
     32WC033_1,  PRS2,     2, 20,     22,     22,2,19920107,0046, 22.7467,-157.9922, 4750,      6.0,  24.2100,  35.0232,2,-999.0000,5,    209.6,1,   -999.0,9,  -999.00,9,  -999.00,9,  -999.00,9,  -999.0, 24.2087,      5,-999.000
     32WC033_1,  PRS2,     2, 20,     21,     21,2,19920107,0046, 22.7467,-157.9922, 4750,     10.8,  24.1947,  35.0229,2,-999.0000,5,    209.4,1,   -999.0,9,  -999.00,9,  -999.00,9,  -999.00,9,  -999.0, 24.1924,     11,-999.000
     32WC033_1,  PRS2,     2, 20,     20,     20,2,19920107,0046, 22.7467,-157.9922, 4750,     16.0,  24.1702,  35.0235,2,  35.0214,2,    209.5,1,   -999.0,9,  -999.00,9,  -999.00,9,  -999.00,9,  -999.0, 24.1668,     15,-999.000
     32WC033_1,  PRS2,     2, 20,     19,     19,2,19920107,0046, 22.7467,-157.9922, 4750,     20.8,  24.1659,  35.0236,2,-999.0000,5,    209.6,1,   -999.0,9,  -999.00,9,  -999.00,9,  -999.00,9,  -999.0, 24.1615,     21,-999.000
     32WC033_1,  PRS2,     2, 20,     18,     18,2,19920107,0046, 22.7467,-157.9922, 4750,     25.0,  24.1630,  35.0233,2,-999.0000,5,    210.1,1,   -999.0,9,  -999.00,9,  -999.00,9,  -999.00,9,  -999.0, 24.1577,     24,-999.000
     32WC033_1,  PRS2,     2, 20,     16,     16,2,19920107,0046, 22.7467,-157.9922, 4750,     50.4,  24.1486,  35.0270,2,-999.0000,5,    209.9,1,   -999.0,9,  -999.00,9,  -999.00,9,  -999.00,9,  -999.0, 24.1379,     50,-999.000
     32WC033_1,  PRS2,     2, 20,     17,     17,2,19920107,0046, 22.7467,-157.9922, 4750,     50.6,  24.1481,  35.0270,2,-999.0000,5,    209.9,1,   -999.0,9,  -999.00,9,  -999.00,9,  -999.00,9,  -999.0, 24.1374,     50,-999.000
     32WC033_1,  PRS2,     2, 20,     15,     15,2,19920107,0046, 22.7467,-157.9922, 4750,     74.2,  24.0093,  35.1001,2,-999.0000,5,    210.9,1,   -999.0,9,  -999.00,9,  -999.00,9,  -999.00,9,  -999.0, 23.9937,     74,-999.000
     32WC033_1,  PRS2,     2, 20,     14,     14,2,19920107,0046, 22.7467,-157.9922, 4750,    100.3,  23.0061,  35.1098,2,-999.0000,5,    208.3,1,   -999.0,9,  -999.00,9,  -999.00,9,  -999.00,9,  -999.0, 22.9857,     99,-999.000
     32WC033_1,  PRS2,     2, 20,     13,     13,2,19920107,0046, 22.7467,-157.9922, 4750,    100.3,  22.9931,  35.1131,2,-999.0000,5,    208.6,1,   -999.0,9,  -999.00,9,  -999.00,9,  -999.00,9,  -999.0, 22.9726,     98,-999.000
     32WC033_1,  PRS2,     2, 20,     12,     12,2,19920107,0046, 22.7467,-157.9922, 4750,    125.6,  20.7461,  35.1445,2,  35.1447,2,    208.8,1,   -999.0,9,  -999.00,9,  -999.00,9,  -999.00,9,  -999.0, 20.7222,    125,-999.000
     32WC033_1,  PRS2,     2, 20,     11,     11,2,19920107,0046, 22.7467,-157.9922, 4750,    151.0,  20.0559,  35.1035,2,-999.0000,5,    196.4,1,   -999.0,9,  -999.00,9,  -999.00,9,  -999.00,9,  -999.0, 20.0280,    150,-999.000
     32WC033_1,  PRS2,     2, 20,     10,     10,2,19920107,0046, 22.7467,-157.9922, 4750,    176.3,  18.8674,  35.0044,2,-999.0000,5,    192.7,1,   -999.0,9,  -999.00,9,  -999.00,9,  -999.00,9,  -999.0, 18.8362,    176,-999.000
     32WC033_1,  PRS2,     2, 20,      9,      9,2,19920107,0046, 22.7467,-157.9922, 4750,    198.8,  17.1708,  34.7907,2,-999.0000,5,    177.1,1,   -999.0,9,  -999.00,9,  -999.00,9,  -999.00,9,  -999.0, 17.1378,    197,-999.000
     32WC033_1,  PRS2,     2, 20,      8,      8,2,19920107,0046, 22.7467,-157.9922, 4750,    249.7,  13.9550,  34.4208,2,-999.0000,5,    174.1,1,   -999.0,9,  -999.00,9,  -999.00,9,  -999.00,9,  -999.0, 13.9191,    250,-999.000
     32WC033_1,  PRS2,     2, 20,      7,      6,2,19920107,0046, 22.7467,-157.9922, 4750,    401.7,   8.8512,  34.1164,2,-999.0000,5,    148.3,1,   -999.0,9,  -999.00,9,  -999.00,9,  -999.00,9,  -999.0,  8.8080,    402,-999.000
     32WC033_1,  PRS2,     2, 20,      6,      7,2,19920107,0046, 22.7467,-157.9922, 4750,    450.5,   8.1546,  34.1215,2,  34.1160,2,    125.9,1,   -999.0,9,  -999.00,9,  -999.00,9,  -999.00,9,  -999.0,  8.1083,    449,-999.000
     32WC033_1,  PRS2,     2, 20,      5,     26,2,19920107,0046, 22.7467,-157.9922, 4750,    499.0,   7.1009,  34.1106,2,-999.0000,5,    102.6,1,   -999.0,9,  -999.00,9,  -999.00,9,  -999.00,9,  -999.0,  7.0535,    499,-999.000
     32WC033_1,  PRS2,     2, 20,      4,     25,2,19920107,0046, 22.7467,-157.9922, 4750,    749.4,   4.9315,  34.3643,2,-999.0000,5,     37.7,1,   -999.0,9,  -999.00,9,  -999.00,9,  -999.00,9,  -999.0,  4.8710,    749,-999.000
     32WC033_1,  PRS2,     2, 20,      3,      3,2,19920107,0046, 22.7467,-157.9922, 4750,    997.6,   3.9165,  34.4814,2,  34.4797,2,     50.2,1,   -999.0,9,  -999.00,9,  -999.00,9,  -999.00,9,  -999.0,  3.8417,    997,-999.000
     32WC033_1,  PRS2,     2, 20,      2,      2,2,19920107,0046, 22.7467,-157.9922, 4750,   1499.3,   2.8183,  34.5704,2,-999.0000,5,     73.2,1,   -999.0,9,  -999.00,9,  -999.00,9,  -999.00,9,  -999.0,  2.7127,   1498,-999.000
     32WC033_1,  PRS2,     2, 20,      1,      1,2,19920107,0046, 22.7467,-157.9922, 4750,   2198.3,   1.8932,  34.6313,2,  34.6331,2,     98.5,1,   -999.0,9,  -999.00,9,  -999.00,9,  -999.00,9,  -999.0,  1.7416,   2198,-999.000
     32WC033_1,  PRS2,     2, 21,      4,     25,2,19920107,0703, 22.7503,-157.9975, 4750,    129.3,  21.3474,  35.1380,2,  35.1331,2,    201.7,1,   -999.0,9,  -999.00,9,  -999.00,9,  -999.00,9,  -999.0, 21.3224,    127,-999.000
     32WC033_1,  PRS2,     2, 21,      3,      3,2,19920107,0703, 22.7503,-157.9975, 4750,    129.3,  21.3474,  35.1380,2,  35.1335,2,    201.7,1,   -999.0,9,  -999.00,9,  -999.00,9,  -999.00,9,  -999.0, 21.3224,    127,-999.000
     32WC033_1,  PRS2,     2, 21,      2,      2,2,19920107,0703, 22.7503,-157.9975, 4750,    487.3,   7.4998,  34.1143,2,  34.1113,2,    108.9,1,   -999.0,9,  -999.00,9,  -999.00,9,  -999.00,9,  -999.0,  7.4520,    486,-999.000
     32WC033_1,  PRS2,     2, 21,      1,      1,2,19920107,0703, 22.7503,-157.9975, 4750,    487.3,   7.4998,  34.1143,2,  34.1113,2,    108.9,1,   -999.0,9,  -999.00,9,  -999.00,9,  -999.00,9,  -999.0,  7.4520,    486,-999.000