BOTTLE,20020812WHPSIOKJU
EXPOCODE,SECT_ID,STNNBR,CASTNO,SAMPNO,BTLNBR,BTLNBR_FLAG_W,DATE,TIME,LATITUDE,LONGITUDE,DEPTH,CTDPRS,CTDTMP,CTDSAL,CTDSAL_FLAG_W,SALNTY,SALNTY_FLAG_W,CTDOXY,CTDOXY_FLAG_W,OXYGEN,OXYGEN_FLAG_W,SILCAT,SILCAT_FLAG_W,NO2+NO3,NO2+NO3_FLAG_W,PHSPHT,PHSPHT_FLAG_W,REVPRS,THETA,CTDRAW,REVTMP
,,,,,,,,,,,,DBAR,ITS-90,PSS-78,,PSS-78,,UMOL/KG,,UMOL/KG,,UMOL/KG,,UMOL/KG,,UMOL/KG,,DBAR,ITS-90,,DEG C
     32WC033_1,  PRS2,     2,  9,     14,     14,2,19920105,1853, 22.7732,-158.0045, 4750,      6.1,  24.1476,  34.9912,2,  34.9978,2,    209.0,1,   -999.0,9,  -999.00,9,  -999.00,9,  -999.00,9,  -999.0, 24.1463,      5,-999.000
     32WC033_1,  PRS2,     2,  9,     13,     13,2,19920105,1853, 22.7732,-158.0045, 4750,     25.7,  24.1416,  35.0193,2,  35.0197,2,    208.8,1,   -999.0,9,  -999.00,9,  -999.00,9,  -999.00,9,  -999.0, 24.1362,     25,-999.000
     32WC033_1,  PRS2,     2,  9,     12,     12,3,19920105,1853, 22.7732,-158.0045, 4750,     46.0,  24.1233,  35.0190,2,  35.0191,2,    209.4,1,   -999.0,9,  -999.00,9,  -999.00,9,  -999.00,9,  -999.0, 24.1136,     44,-999.000
     32WC033_1,  PRS2,     2,  9,     11,     11,2,19920105,1853, 22.7732,-158.0045, 4750,     76.4,  23.7041,  35.0725,2,  35.0746,2,    209.9,1,   -999.0,9,  -999.00,9,  -999.00,9,  -999.00,9,  -999.0, 23.6882,     74,-999.000
     32WC033_1,  PRS2,     2,  9,     10,     10,2,19920105,1853, 22.7732,-158.0045, 4750,    100.7,  22.2283,  35.1197,2,  35.1270,2,    209.4,1,   -999.0,9,  -999.00,9,  -999.00,9,  -999.00,9,  -999.0, 22.2082,    100,-999.000
     32WC033_1,  PRS2,     2,  9,      9,      9,2,19920105,1853, 22.7732,-158.0045, 4750,    125.7,  20.9248,  35.1418,2,  35.1325,2,    202.1,1,   -999.0,9,  -999.00,9,  -999.00,9,  -999.00,9,  -999.0, 20.9008,    124,-999.000
     32WC033_1,  PRS2,     2,  9,      8,      8,2,19920105,1853, 22.7732,-158.0045, 4750,    140.9,  20.2969,  35.1183,2,  35.1421,3,    199.5,1,   -999.0,9,  -999.00,9,  -999.00,9,  -999.00,9,  -999.0, 20.2706,    140,-999.000
     32WC033_1,  PRS2,     2,  9,      7,      6,2,19920105,1853, 22.7732,-158.0045, 4750,    151.2,  19.6866,  35.0692,2,  35.0683,2,    192.5,1,   -999.0,9,  -999.00,9,  -999.00,9,  -999.00,9,  -999.0, 19.6589,    149,-999.000
     32WC033_1,  PRS2,     2,  9,      6,      7,2,19920105,1853, 22.7732,-158.0045, 4750,    176.8,  18.4255,  34.9266,2,  34.9669,3,    186.6,1,   -999.0,9,  -999.00,9,  -999.00,9,  -999.00,9,  -999.0, 18.3946,    175,-999.000
     32WC033_1,  PRS2,     2,  9,      5,     26,2,19920105,1853, 22.7732,-158.0045, 4750,    253.1,  13.9364,  34.4235,2,  34.4714,3,    178.2,1,   -999.0,9,  -999.00,9,  -999.00,9,  -999.00,9,  -999.0, 13.9000,    251,-999.000
     32WC033_1,  PRS2,     2,  9,      4,     25,2,19920105,1853, 22.7732,-158.0045, 4750,    452.7,   7.8715,  34.1037,2,  34.1042,2,    126.5,1,   -999.0,9,  -999.00,9,  -999.00,9,  -999.00,9,  -999.0,  7.8260,    451,-999.000
     32WC033_1,  PRS2,     2,  9,      3,      3,2,19920105,1853, 22.7732,-158.0045, 4750,    498.7,   6.9348,  34.1329,2,-999.0000,5,     79.3,1,   -999.0,9,  -999.00,9,  -999.00,9,  -999.00,9,  -999.0,  6.8880,    497,-999.000
     32WC033_1,  PRS2,     2,  9,      2,      2,2,19920105,1853, 22.7732,-158.0045, 4750,    749.7,   4.9503,  34.3517,2,  34.3505,2,     31.2,1,   -999.0,9,  -999.00,9,  -999.00,9,  -999.00,9,  -999.0,  4.8897,    748,-999.000
     32WC033_1,  PRS2,     2,  9,      1,      1,2,19920105,1853, 22.7732,-158.0045, 4750,   1004.6,   3.8642,  34.4820,2,  34.4869,2,     44.1,1,   -999.0,9,  -999.00,9,  -999.00,9,  -999.00,9,  -999.0,  3.7892,   1003,-999.000
     32WC033_1,  PRS2,     2, 10,     14,     14,2,19920105,2052, 22.7605,-157.9992, 4750,      6.1,  24.1992,  34.9856,2,  34.9878,2,    206.8,1,   -999.0,9,  -999.00,9,  -999.00,9,  -999.00,9,  -999.0, 24.1979,      5,-999.000
     32WC033_1,  PRS2,     2, 10,     13,     13,2,19920105,2052, 22.7605,-157.9992, 4750,     26.5,  24.1974,  35.0068,2,  35.0177,2,    207.3,1,   -999.0,9,  -999.00,9,  -999.00,9,  -999.00,9,  -999.0, 24.1918,     25,-999.000
     32WC033_1,  PRS2,     2, 10,     12,     12,2,19920105,2052, 22.7605,-157.9992, 4750,     45.7,  24.1312,  35.0184,2,  35.0203,2,    208.0,1,   -999.0,9,  -999.00,9,  -999.00,9,  -999.00,9,  -999.0, 24.1216,     45,-999.000
     32WC033_1,  PRS2,     2, 10,     11,     11,2,19920105,2052, 22.7605,-157.9992, 4750,     76.2,  23.4398,  35.1162,2,  35.1142,2,    209.3,1,   -999.0,9,  -999.00,9,  -999.00,9,  -999.00,9,  -999.0, 23.4240,     75,-999.000
     32WC033_1,  PRS2,     2, 10,     10,     10,2,19920105,2052, 22.7605,-157.9992, 4750,     99.8,  22.0361,  35.1450,2,  35.1429,2,    206.0,1,   -999.0,9,  -999.00,9,  -999.00,9,  -999.00,9,  -999.0, 22.0163,     98,-999.000
     32WC033_1,  PRS2,     2, 10,      9,      9,2,19920105,2052, 22.7605,-157.9992, 4750,    125.7,  20.7609,  35.1492,2,  35.1534,2,    202.0,1,   -999.0,9,  -999.00,9,  -999.00,9,  -999.00,9,  -999.0, 20.7370,    124,-999.000
     32WC033_1,  PRS2,     2, 10,      8,      8,2,19920105,2052, 22.7605,-157.9992, 4750,    140.7,  19.8206,  35.0548,2,  35.0740,3,    192.9,1,   -999.0,9,  -999.00,9,  -999.00,9,  -999.00,9,  -999.0, 19.7947,    139,-999.000
     32WC033_1,  PRS2,     2, 10,      7,      6,2,19920105,2052, 22.7605,-157.9992, 4750,    151.0,  19.3752,  35.0062,2,  35.0102,2,    188.5,1,   -999.0,9,  -999.00,9,  -999.00,9,  -999.00,9,  -999.0, 19.3480,    149,-999.000
     32WC033_1,  PRS2,     2, 10,      6,      7,2,19920105,2052, 22.7605,-157.9992, 4750,    171.7,  18.5943,  34.9343,2,  34.9606,3,    188.5,1,   -999.0,9,  -999.00,9,  -999.00,9,  -999.00,9,  -999.0, 18.5642,    170,-999.000
     32WC033_1,  PRS2,     2, 10,      5,     26,2,19920105,2052, 22.7605,-157.9992, 4750,    252.9,  13.5641,  34.3853,2,  34.3627,3,    165.6,1,   -999.0,9,  -999.00,9,  -999.00,9,  -999.00,9,  -999.0, 13.5285,    252,-999.000
     32WC033_1,  PRS2,     2, 10,      4,     25,2,19920105,2052, 22.7605,-157.9992, 4750,    451.9,   7.8526,  34.1054,2,  34.1034,2,    124.8,1,   -999.0,9,  -999.00,9,  -999.00,9,  -999.00,9,  -999.0,  7.8072,    451,-999.000
     32WC033_1,  PRS2,     2, 10,      3,      3,2,19920105,2052, 22.7605,-157.9992, 4750,    503.3,   7.0366,  34.1278,2,  34.1224,2,     96.2,1,   -999.0,9,  -999.00,9,  -999.00,9,  -999.00,9,  -999.0,  6.9890,    501,-999.000
     32WC033_1,  PRS2,     2, 10,      2,      2,2,19920105,2052, 22.7605,-157.9992, 4750,    755.2,   4.9469,  34.3642,2,  34.3652,2,     31.0,1,   -999.0,9,  -999.00,9,  -999.00,9,  -999.00,9,  -999.0,  4.8858,    753,-999.000
     32WC033_1,  PRS2,     2, 10,      1,      1,2,19920105,2052, 22.7605,-157.9992, 4750,   1026.2,   3.8152,  34.4896,2,  34.4934,2,     44.8,1,   -999.0,9,  -999.00,9,  -999.00,9,  -999.00,9,  -999.0,  3.7389,   1025,-999.000
     32WC033_1,  PRS2,     2, 11,     21,     21,2,19920105,2250, 22.7602,-158.0010, 4750,      6.4,  24.2170,  34.9987,2,-999.0000,5,    208.2,1,   -999.0,9,  -999.00,9,  -999.00,9,  -999.00,9,  -999.0, 24.2157,      6,-999.000
     32WC033_1,  PRS2,     2, 11,     20,     20,2,19920105,2250, 22.7602,-158.0010, 4750,     11.9,  24.2115,  34.9988,2,-999.0000,5,    208.4,1,   -999.0,9,  -999.00,9,  -999.00,9,  -999.00,9,  -999.0, 24.2089,     11,-999.000
     32WC033_1,  PRS2,     2, 11,     19,     19,2,19920105,2250, 22.7602,-158.0010, 4750,     16.8,  24.2051,  34.9984,2,  34.9980,2,    208.5,1,   -999.0,9,  -999.00,9,  -999.00,9,  -999.00,9,  -999.0, 24.2016,     14,-999.000
     32WC033_1,  PRS2,     2, 11,     18,     18,2,19920105,2250, 22.7602,-158.0010, 4750,     21.8,  24.2051,  35.0041,2,-999.0000,5,    208.1,1,   -999.0,9,  -999.00,9,  -999.00,9,  -999.00,9,  -999.0, 24.2005,     21,-999.000
     32WC033_1,  PRS2,     2, 11,     17,     17,2,19920105,2250, 22.7602,-158.0010, 4750,     26.9,  24.2002,  35.0063,2,-999.0000,5,    208.1,1,   -999.0,9,  -999.00,9,  -999.00,9,  -999.00,9,  -999.0, 24.1945,     26,-999.000
     32WC033_1,  PRS2,     2, 11,     16,     16,2,19920105,2250, 22.7602,-158.0010, 4750,     37.0,  24.1471,  35.0206,2,-999.0000,5,    209.2,1,   -999.0,9,  -999.00,9,  -999.00,9,  -999.00,9,  -999.0, 24.1393,     36,-999.000
     32WC033_1,  PRS2,     2, 11,     15,     15,2,19920105,2250, 22.7602,-158.0010, 4750,     52.3,  24.1306,  35.0198,2,-999.0000,5,    209.3,1,   -999.0,9,  -999.00,9,  -999.00,9,  -999.00,9,  -999.0, 24.1195,     51,-999.000
     32WC033_1,  PRS2,     2, 11,     14,     14,2,19920105,2250, 22.7602,-158.0010, 4750,     62.3,  24.0649,  35.0315,2,-999.0000,5,    208.7,1,   -999.0,9,  -999.00,9,  -999.00,9,  -999.00,9,  -999.0, 24.0518,     61,-999.000
     32WC033_1,  PRS2,     2, 11,     13,     13,2,19920105,2250, 22.7602,-158.0010, 4750,     77.0,  23.4614,  35.1185,2,-999.0000,5,    209.0,1,   -999.0,9,  -999.00,9,  -999.00,9,  -999.00,9,  -999.0, 23.4455,     76,-999.000
     32WC033_1,  PRS2,     2, 11,     12,     12,2,19920105,2250, 22.7602,-158.0010, 4750,     91.7,  22.2605,  35.1322,2,-999.0000,5,    208.4,1,   -999.0,9,  -999.00,9,  -999.00,9,  -999.00,9,  -999.0, 22.2422,     91,-999.000
     32WC033_1,  PRS2,     2, 11,     11,     11,2,19920105,2250, 22.7602,-158.0010, 4750,    102.0,  21.6541,  35.1793,2,-999.0000,5,    209.1,1,   -999.0,9,  -999.00,9,  -999.00,9,  -999.00,9,  -999.0, 21.6342,    101,-999.000
     32WC033_1,  PRS2,     2, 11,     10,     10,2,19920105,2250, 22.7602,-158.0010, 4750,    122.6,  20.5766,  35.1464,2,  35.1524,2,    200.9,1,   -999.0,9,  -999.00,9,  -999.00,9,  -999.00,9,  -999.0, 20.5535,    120,-999.000
     32WC033_1,  PRS2,     2, 11,      9,      9,2,19920105,2250, 22.7602,-158.0010, 4750,    126.6,  20.2751,  35.0964,2,-999.0000,5,    196.2,1,   -999.0,9,  -999.00,9,  -999.00,9,  -999.00,9,  -999.0, 20.2515,    126,-999.000
     32WC033_1,  PRS2,     2, 11,      8,      8,2,19920105,2250, 22.7602,-158.0010, 4750,    152.0,  18.9112,  34.9815,2,-999.0000,5,    186.4,1,   -999.0,9,  -999.00,9,  -999.00,9,  -999.00,9,  -999.0, 18.8842,    150,-999.000
     32WC033_1,  PRS2,     2, 11,      7,      6,2,19920105,2250, 22.7602,-158.0010, 4750,    175.5,  17.6778,  34.8389,2,-999.0000,5,    180.7,1,   -999.0,9,  -999.00,9,  -999.00,9,  -999.00,9,  -999.0, 17.6481,    174,-999.000
     32WC033_1,  PRS2,     2, 11,      6,      7,2,19920105,2250, 22.7602,-158.0010, 4750,    200.9,  16.7760,  34.7748,2,-999.0000,5,    183.9,1,   -999.0,9,  -999.00,9,  -999.00,9,  -999.00,9,  -999.0, 16.7432,    200,-999.000
     32WC033_1,  PRS2,     2, 11,      5,     26,2,19920105,2250, 22.7602,-158.0010, 4750,    252.5,  12.8206,  34.3204,2,-999.0000,5,    168.1,1,   -999.0,9,  -999.00,9,  -999.00,9,  -999.00,9,  -999.0, 12.7863,    251,-999.000
     32WC033_1,  PRS2,     2, 11,      4,     25,2,19920105,2250, 22.7602,-158.0010, 4750,    453.5,   7.7321,  34.1092,2,  34.1077,2,    120.2,1,   -999.0,9,  -999.00,9,  -999.00,9,  -999.00,9,  -999.0,  7.6869,    453,-999.000
     32WC033_1,  PRS2,     2, 11,      3,      3,2,19920105,2250, 22.7602,-158.0010, 4750,    496.7,   6.8665,  34.1394,2,-999.0000,5,     73.8,1,   -999.0,9,  -999.00,9,  -999.00,9,  -999.00,9,  -999.0,  6.8201,    495,-999.000
     32WC033_1,  PRS2,     2, 11,      2,      2,2,19920105,2250, 22.7602,-158.0010, 4750,    747.7,   5.0015,  34.3598,2,-999.0000,5,     30.2,1,   -999.0,9,  -999.00,9,  -999.00,9,  -999.00,9,  -999.0,  4.9407,    746,-999.000
     32WC033_1,  PRS2,     2, 11,      1,      1,2,19920105,2250, 22.7602,-158.0010, 4750,   1003.4,   3.8717,  34.4825,2,  34.4826,2,     44.1,1,   -999.0,9,  -999.00,9,  -999.00,9,  -999.00,9,  -999.0,  3.7968,   1002,-999.000
     32WC033_1,  PRS2,     2, 12,      4,     25,2,19920106,0045, 22.7508,-158.0013, 4750,      6.2,  24.2881,  34.9830,2,  34.9850,2,    210.3,1,   -999.0,9,  -999.00,9,  -999.00,9,  -999.00,9,  -999.0, 24.2868,      5,-999.000
     32WC033_1,  PRS2,     2, 12,      3,      3,2,19920106,0045, 22.7508,-158.0013, 4750,    107.8,  21.6146,  35.1713,2,  35.1715,2,    208.9,1,   -999.0,9,  -999.00,9,  -999.00,9,  -999.00,9,  -999.0, 21.5935,    106,-999.000
     32WC033_1,  PRS2,     2, 12,      2,      2,2,19920106,0045, 22.7508,-158.0013, 4750,    429.8,   8.2612,  34.1125,2,  34.1119,2,    133.4,1,   -999.0,9,  -999.00,9,  -999.00,9,  -999.00,9,  -999.0,  8.2168,    428,-999.000
     32WC033_1,  PRS2,     2, 12,      1,      1,2,19920106,0045, 22.7508,-158.0013, 4750,   1031.8,   3.7711,  34.5013,2,-999.0000,5,     47.0,1,   -999.0,9,  -999.00,9,  -999.00,9,  -999.00,9,  -999.0,  3.6946,   1030,-999.000
     32WC033_1,  PRS2,     2, 13,     21,     21,2,19920106,0224, 22.7558,-158.0185, 4750,      5.6,  24.2576,  34.9943,2,  34.9921,2,    208.6,1,   -999.0,9,  -999.00,9,  -999.00,9,  -999.00,9,  -999.0, 24.2565,      5,-999.000
     32WC033_1,  PRS2,     2, 13,     20,     20,2,19920106,0224, 22.7558,-158.0185, 4750,     24.8,  24.2257,  35.0110,2,  35.0114,2,    209.8,1,   -999.0,9,  -999.00,9,  -999.00,9,  -999.00,9,  -999.0, 24.2205,     23,-999.000
     32WC033_1,  PRS2,     2, 13,     19,     19,2,19920106,0224, 22.7558,-158.0185, 4750,     36.5,  24.2029,  35.0071,2,  35.0102,2,    209.9,1,   -999.0,9,  -999.00,9,  -999.00,9,  -999.00,9,  -999.0, 24.1952,     36,-999.000
     32WC033_1,  PRS2,     2, 13,     18,     18,2,19920106,0224, 22.7558,-158.0185, 4750,     45.2,  24.1622,  35.0147,2,  35.0155,2,    209.9,1,   -999.0,9,  -999.00,9,  -999.00,9,  -999.00,9,  -999.0, 24.1526,     44,-999.000
     32WC033_1,  PRS2,     2, 13,     17,     17,2,19920106,0224, 22.7558,-158.0185, 4750,     50.7,  24.1514,  35.0197,2,  35.0199,2,    209.8,1,   -999.0,9,  -999.00,9,  -999.00,9,  -999.00,9,  -999.0, 24.1407,     50,-999.000
     32WC033_1,  PRS2,     2, 13,     16,     16,2,19920106,0224, 22.7558,-158.0185, 4750,     60.6,  24.1434,  35.0223,2,  35.0242,2,    210.2,1,   -999.0,9,  -999.00,9,  -999.00,9,  -999.00,9,  -999.0, 24.1306,     61,-999.000
     32WC033_1,  PRS2,     2, 13,     15,     15,2,19920106,0224, 22.7558,-158.0185, 4750,     75.8,  24.0097,  35.0618,2,  35.0659,2,    210.3,1,   -999.0,9,  -999.00,9,  -999.00,9,  -999.00,9,  -999.0, 23.9937,     75,-999.000
     32WC033_1,  PRS2,     2, 13,     14,     14,2,19920106,0224, 22.7558,-158.0185, 4750,     91.2,  23.3021,  35.0980,2,  35.0978,2,    207.8,1,   -999.0,9,  -999.00,9,  -999.00,9,  -999.00,9,  -999.0, 23.2833,     90,-999.000
     32WC033_1,  PRS2,     2, 13,     13,     13,2,19920106,0224, 22.7558,-158.0185, 4750,     94.2,  23.1903,  35.1046,2,  35.1027,2,    208.3,1,   -999.0,9,  -999.00,9,  -999.00,9,  -999.00,9,  -999.0, 23.1709,     93,-999.000
     32WC033_1,  PRS2,     2, 13,     12,     12,2,19920106,0224, 22.7558,-158.0185, 4750,     99.4,  22.4202,  35.1236,2,  35.1339,2,    210.3,1,   -999.0,9,  -999.00,9,  -999.00,9,  -999.00,9,  -999.0, 22.4003,    100,-999.000
     32WC033_1,  PRS2,     2, 13,     11,     11,2,19920106,0224, 22.7558,-158.0185, 4750,    109.8,  21.7075,  35.1694,2,  35.1756,2,    208.4,1,   -999.0,9,  -999.00,9,  -999.00,9,  -999.00,9,  -999.0, 21.6859,    109,-999.000
     32WC033_1,  PRS2,     2, 13,     10,     10,2,19920106,0224, 22.7558,-158.0185, 4750,    124.9,  20.9403,  35.1467,2,  35.1516,2,    202.5,1,   -999.0,9,  -999.00,9,  -999.00,9,  -999.00,9,  -999.0, 20.9164,    124,-999.000
     32WC033_1,  PRS2,     2, 13,      9,      9,2,19920106,0224, 22.7558,-158.0185, 4750,    150.4,  20.0474,  35.0923,2,  35.0836,2,    199.2,1,   -999.0,9,  -999.00,9,  -999.00,9,  -999.00,9,  -999.0, 20.0196,    150,-999.000
     32WC033_1,  PRS2,     2, 13,      8,      8,2,19920106,0224, 22.7558,-158.0185, 4750,    199.7,  17.5774,  34.8546,2,  34.8503,2,    188.7,1,   -999.0,9,  -999.00,9,  -999.00,9,  -999.00,9,  -999.0, 17.5437,    199,-999.000
     32WC033_1,  PRS2,     2, 13,      7,      6,2,19920106,0224, 22.7558,-158.0185, 4750,    298.9,  12.3306,  34.2838,2,  34.2932,2,    173.1,1,   -999.0,9,  -999.00,9,  -999.00,9,  -999.00,9,  -999.0, 12.2910,    298,-999.000
     32WC033_1,  PRS2,     2, 13,      6,      7,2,19920106,0224, 22.7558,-158.0185, 4750,    400.9,   9.2612,  34.1264,2,  34.1254,2,    155.8,1,   -999.0,9,  -999.00,9,  -999.00,9,  -999.00,9,  -999.0,  9.2169,    400,-999.000
     32WC033_1,  PRS2,     2, 13,      5,     26,2,19920106,0224, 22.7558,-158.0185, 4750,    452.2,   8.0682,  34.1061,2,-999.0000,5,    125.2,1,   -999.0,9,  -999.00,9,  -999.00,9,  -999.00,9,  -999.0,  8.0221,    452,-999.000
     32WC033_1,  PRS2,     2, 13,      4,     25,2,19920106,0224, 22.7558,-158.0185, 4750,    503.0,   7.5251,  34.1148,2,  34.1101,2,    113.0,1,   -999.0,9,  -999.00,9,  -999.00,9,  -999.00,9,  -999.0,  7.4757,    502,-999.000
     32WC033_1,  PRS2,     2, 13,      3,      3,2,19920106,0224, 22.7558,-158.0185, 4750,    599.7,   5.8486,  34.2401,2,-999.0000,5,     36.5,1,   -999.0,9,  -999.00,9,  -999.00,9,  -999.00,9,  -999.0,  5.7968,    599,-999.000
     32WC033_1,  PRS2,     2, 13,      2,      2,2,19920106,0224, 22.7558,-158.0185, 4750,    696.9,   5.3944,  34.3270,2,-999.0000,5,     29.4,1,   -999.0,9,  -999.00,9,  -999.00,9,  -999.00,9,  -999.0,  5.3360,    695,-999.000
     32WC033_1,  PRS2,     2, 13,      1,      1,2,19920106,0224, 22.7558,-158.0185, 4750,   1023.8,   3.8159,  34.4975,2,  34.4981,2,     46.2,1,   -999.0,9,  -999.00,9,  -999.00,9,  -999.00,9,  -999.0,  3.7397,   1022,-999.000
     32WC033_1,  PRS2,     2, 14,      4,     25,2,19920106,0533, 22.7490,-157.9995, 4750,      6.9,  24.1761,  35.0091,2,  35.0100,2,    209.6,1,   -999.0,9,  -999.00,9,  -999.00,9,  -999.00,9,  -999.0, 24.1746,      5,-999.000
     32WC033_1,  PRS2,     2, 14,      3,      3,2,19920106,0533, 22.7490,-157.9995, 4750,    134.9,  20.6296,  35.1398,2,  35.1398,2,    200.1,1,   -999.0,9,  -999.00,9,  -999.00,9,  -999.00,9,  -999.0, 20.6041,    132,-999.000
     32WC033_1,  PRS2,     2, 14,      2,      2,2,19920106,0533, 22.7490,-157.9995, 4750,    451.6,   8.0439,  34.1084,2,  34.1058,2,    124.5,1,   -999.0,9,  -999.00,9,  -999.00,9,  -999.00,9,  -999.0,  7.9979,    449,-999.000
     32WC033_1,  PRS2,     2, 14,      1,      1,2,19920106,0533, 22.7490,-157.9995, 4750,   1036.7,   3.8164,  34.4957,2,  34.4932,2,     45.8,1,   -999.0,9,  -999.00,9,  -999.00,9,  -999.00,9,  -999.0,  3.7392,   1035,-999.000