BOTTLE,20020812WHPSIOKJU
#code : jjward hyd_to_exchange.pl 
#original files copied from HTML directory: 20020812
#original HYD file: hot33.sea   Fri Aug  9 09:51:31 2002
#original SUM file: hot33.sum   Mon Aug 12 12:23:54 2002
EXPOCODE,SECT_ID,STNNBR,CASTNO,SAMPNO,BTLNBR,BTLNBR_FLAG_W,DATE,TIME,LATITUDE,LONGITUDE,DEPTH,CTDPRS,CTDTMP,CTDSAL,CTDSAL_FLAG_W,SALNTY,SALNTY_FLAG_W,CTDOXY,CTDOXY_FLAG_W,OXYGEN,OXYGEN_FLAG_W,SILCAT,SILCAT_FLAG_W,NO2+NO3,NO2+NO3_FLAG_W,PHSPHT,PHSPHT_FLAG_W,REVPRS,THETA,CTDRAW,REVTMP
,,,,,,,,,,,,DBAR,ITS-90,PSS-78,,PSS-78,,UMOL/KG,,UMOL/KG,,UMOL/KG,,UMOL/KG,,UMOL/KG,,DBAR,ITS-90,,DEG C
     32WC033_1,  PRS2,     1,  2,     20,     20,3,19920104,0248, 21.3352,-158.2777, 1500,      8.2,  25.0061,  34.9368,2,  34.9432,2,    207.1,2,    207.6,2,     1.51,2,     0.00,2,     0.07,2,  -999.0, 25.0043,      7,-999.000
     32WC033_1,  PRS2,     1,  2,     19,     19,4,19920104,0248, 21.3352,-158.2777, 1500,     26.7,  24.9577,  34.9317,2,  34.9360,2,    207.0,2,    207.7,2,     1.51,2,     0.00,2,     0.07,2,  -999.0, 24.9519,     26,-999.000
     32WC033_1,  PRS2,     1,  2,     18,     18,2,19920104,0248, 21.3352,-158.2777, 1500,     46.0,  24.9323,  34.9284,2,  34.9300,2,    207.9,2,    207.6,2,     1.30,2,     0.00,2,     0.08,2,  -999.0, 24.9223,     44,-999.000
     32WC033_1,  PRS2,     1,  2,     17,     17,2,19920104,0248, 21.3352,-158.2777, 1500,     61.2,  24.9259,  34.9288,2,  34.9336,2,    208.1,2,    207.9,2,     1.30,2,     0.00,2,     0.07,2,  -999.0, 24.9127,     59,-999.000
     32WC033_1,  PRS2,     1,  2,     16,     16,2,19920104,0248, 21.3352,-158.2777, 1500,     75.9,  24.8634,  34.9298,2,  34.9308,2,    208.6,2,    208.5,2,     1.30,2,     0.00,2,     0.07,2,  -999.0, 24.8470,     74,-999.000
     32WC033_1,  PRS2,     1,  2,     15,     15,2,19920104,0248, 21.3352,-158.2777, 1500,     95.7,  24.2710,  35.1191,2,  35.1178,2,    209.7,2,    208.7,2,     1.41,2,     0.02,2,     0.06,2,  -999.0, 24.2507,     94,-999.000
     32WC033_1,  PRS2,     1,  2,     14,     14,2,19920104,0248, 21.3352,-158.2777, 1500,    107.1,  23.4889,  35.2042,2,  35.2001,2,    215.4,2,    215.1,2,     1.73,2,     0.05,2,     0.06,2,  -999.0, 23.4667,    106,-999.000
     32WC033_1,  PRS2,     1,  2,     13,     13,2,19920104,0248, 21.3352,-158.2777, 1500,    118.0,  22.0142,  35.2279,2,  35.2364,2,    210.5,2,    214.7,2,     1.73,2,     0.27,2,     0.08,2,  -999.0, 21.9908,    118,-999.000
     32WC033_1,  PRS2,     1,  2,     12,     12,2,19920104,0248, 21.3352,-158.2777, 1500,    128.2,  21.2073,  35.2122,2,  35.2112,2,    211.6,2,    209.4,2,     1.94,2,     0.55,2,     0.11,2,  -999.0, 21.1826,    127,-999.000
     32WC033_1,  PRS2,     1,  2,     11,     11,2,19920104,0248, 21.3352,-158.2777, 1500,    153.2,  20.0165,  35.1503,2,  35.1491,2,    200.9,2,    198.8,2,     2.17,2,     1.52,2,     0.20,2,  -999.0, 19.9882,    152,-999.000
     32WC033_1,  PRS2,     1,  2,     10,     10,2,19920104,0248, 21.3352,-158.2777, 1500,    178.0,  18.3512,  34.8823,2,  34.8817,2,    185.1,2,    181.1,2,     5.20,2,     4.36,2,     0.42,2,  -999.0, 18.3203,    177,-999.000
     32WC033_1,  PRS2,     1,  2,      9,      9,2,19920104,0248, 21.3352,-158.2777, 1500,    204.2,  16.9375,  34.7283,2,  34.7316,2,    178.7,2,    175.9,2,     6.50,2,     6.24,2,     0.55,2,  -999.0, 16.9040,    202,-999.000
     32WC033_1,  PRS2,     1,  2,      8,      8,2,19920104,0248, 21.3352,-158.2777, 1500,    235.5,  15.7383,  34.6047,2,  34.6116,2,    173.7,2,    174.5,2,     8.23,2,     7.70,2,     0.65,2,  -999.0, 15.7015,    233,-999.000
     32WC033_1,  PRS2,     1,  2,      7,      6,2,19920104,0248, 21.3352,-158.2777, 1500,    256.7,  14.6426,  34.5124,2,  34.5210,2,    179.7,2,    182.9,2,     8.87,2,     8.38,2,     0.68,2,  -999.0, 14.6045,    255,-999.000
     32WC033_1,  PRS2,     1,  2,      6,      7,2,19920104,0248, 21.3352,-158.2777, 1500,    301.8,  12.1937,  34.2834,2,  34.2835,2,    182.4,2,    184.3,2,    14.29,2,    12.47,2,     0.96,2,  -999.0, 12.1540,    301,-999.000
     32WC033_1,  PRS2,     1,  2,      5,     26,2,19920104,0248, 21.3352,-158.2777, 1500,    402.4,   8.9215,  34.1279,2,  34.1308,2,    151.0,2,    150.3,2,    32.04,2,    22.23,2,     1.64,2,  -999.0,  8.8780,    401,-999.000
     32WC033_1,  PRS2,     1,  2,      4,     25,2,19920104,0248, 21.3352,-158.2777, 1500,    430.6,   8.2898,  34.1240,2,  34.1251,2,    133.2,2,   -999.0,5,  -999.00,5,  -999.00,5,  -999.00,5,  -999.0,  8.2452,    428,-999.000
     32WC033_1,  PRS2,     1,  2,      3,      3,2,19920104,0248, 21.3352,-158.2777, 1500,    496.8,   7.0833,  34.1531,2,-999.0000,5,     85.0,2,     82.7,2,  -999.00,5,  -999.00,5,  -999.00,5,  -999.0,  7.0361,    495,-999.000
     32WC033_1,  PRS2,     1,  2,      2,      2,2,19920104,0248, 21.3352,-158.2777, 1500,    752.6,   5.0778,  34.3860,2,  34.3867,2,     31.4,2,     31.1,2,    90.48,2,    40.28,2,     2.96,2,  -999.0,  5.0161,    750,-999.000
     32WC033_1,  PRS2,     1,  2,      1,      1,2,19920104,0248, 21.3352,-158.2777, 1500,   1010.7,   4.0929,  34.5015,2,-999.0000,5,     42.3,2,     43.9,2,   108.87,2,    41.19,2,     3.01,2,  -999.0,  4.0156,   1008,-999.000
     32WC033_1,  PRS2,     2,  1,     24,     27,3,19920104,1618, 22.7113,-157.9938, 4750,    444.3,   8.0704,  34.1073,2,  34.1043,2,    132.2,2,   -999.0,5,  -999.00,5,  -999.00,5,  -999.00,5,  -999.0,  8.0251,    444,-999.000
     32WC033_1,  PRS2,     2,  1,     23,     23,3,19920104,1618, 22.7113,-157.9938, 4750,    998.1,   3.8740,  34.4850,2,  34.4853,2,     45.0,2,     44.2,2,   113.85,2,    40.73,3,     2.96,3,  -999.0,  3.7995,    999,-999.000
     32WC033_1,  PRS2,     2,  1,     22,     22,2,19920104,1618, 22.7113,-157.9938, 4750,   1100.1,   3.6183,  34.5121,2,  34.5116,2,     50.6,2,   -999.0,5,   118.61,2,    40.85,3,     2.96,3,  -999.0,  3.5375,   1101,-999.000
     32WC033_1,  PRS2,     2,  1,     21,     21,2,19920104,1618, 22.7113,-157.9938, 4750,   1202.5,   3.3255,  34.5342,2,  34.5340,2,     55.4,2,     56.2,2,   125.10,2,    40.73,3,     2.94,3,  -999.0,  3.2389,   1203,-999.000
     32WC033_1,  PRS2,     2,  1,     20,     20,2,19920104,1618, 22.7113,-157.9938, 4750,   1400.1,   2.9831,  34.5600,2,  34.5593,2,     63.3,2,     64.7,2,   132.67,2,    40.50,3,     2.93,2,  -999.0,  2.8837,   1401,-999.000
     32WC033_1,  PRS2,     2,  1,     19,     19,2,19920104,1618, 22.7113,-157.9938, 4750,   1500.9,   2.7757,  34.5729,2,  34.5731,2,     66.8,2,     67.7,2,   136.57,2,    40.28,3,     2.90,2,  -999.0,  2.6704,   1502,-999.000
     32WC033_1,  PRS2,     2,  1,     18,     18,2,19920104,1618, 22.7113,-157.9938, 4750,   1701.6,   2.4230,  34.5947,2,  34.5968,2,     75.1,2,     77.3,2,   144.14,2,    39.82,2,     2.85,2,  -999.0,  2.3055,   1702,-999.000
     32WC033_1,  PRS2,     2,  1,     17,     17,2,19920104,1618, 22.7113,-157.9938, 4750,   1795.5,   2.2929,  34.6027,2,  34.6031,2,     79.5,2,     81.1,2,   148.47,2,    39.71,2,     2.83,2,  -999.0,  2.1693,   1797,-999.000
     32WC033_1,  PRS2,     2,  1,     16,     16,2,19920104,1618, 22.7113,-157.9938, 4750,   1993.8,   2.0384,  34.6186,2,  34.6202,2,     87.1,2,     88.4,2,   153.77,2,    39.29,2,     2.79,2,  -999.0,  1.9020,   1994,-999.000
     32WC033_1,  PRS2,     2,  1,     15,     15,2,19920104,1618, 22.7113,-157.9938, 4750,   2192.8,   1.8868,  34.6317,2,  34.6363,4,     94.2,3,     96.8,2,   157.12,2,    38.91,2,     2.76,2,  -999.0,  1.7358,   2194,-999.000
     32WC033_1,  PRS2,     2,  1,     14,     14,2,19920104,1618, 22.7113,-157.9938, 4750,   2399.5,   1.7633,  34.6434,2,  34.6426,2,    108.4,2,    103.3,2,   159.72,2,    38.24,2,     2.73,2,  -999.0,  1.5964,   2401,-999.000
     32WC033_1,  PRS2,     2,  1,     13,     13,2,19920104,1618, 22.7113,-157.9938, 4750,   2599.2,   1.6480,  34.6553,2,  34.6609,4,    117.7,3,    113.4,2,   160.79,2,    37.55,2,     2.67,2,  -999.0,  1.4654,   2600,-999.000
     32WC033_1,  PRS2,     2,  1,     12,     12,2,19920104,1618, 22.7113,-157.9938, 4750,   2800.0,   1.5784,  34.6620,2,  34.6644,2,    125.0,2,    120.1,2,   159.28,2,    37.33,2,     2.63,2,  -999.0,  1.3787,   2801,-999.000
     32WC033_1,  PRS2,     2,  1,     11,     11,2,19920104,1618, 22.7113,-157.9938, 4750,   2996.8,   1.5165,  34.6685,2,  34.6740,4,    130.8,3,    130.0,2,   156.46,2,    36.74,2,     2.59,2,  -999.0,  1.2997,   2995,-999.000
     32WC033_1,  PRS2,     2,  1,     10,     10,2,19920104,1618, 22.7113,-157.9938, 4750,   3198.4,   1.4741,  34.6742,2,  34.6748,2,    135.8,2,    135.5,2,   154.95,2,    36.30,2,     2.56,2,  -999.0,  1.2388,   3199,-999.000
     32WC033_1,  PRS2,     2,  1,      9,      9,2,19920104,1618, 22.7113,-157.9938, 4750,   3391.1,   1.4538,  34.6778,2,  34.6797,2,    139.1,2,    140.2,2,   152.79,2,    35.96,2,     2.53,2,  -999.0,  1.1999,   3392,-999.000
     32WC033_1,  PRS2,     2,  1,      8,      8,2,19920104,1618, 22.7113,-157.9938, 4750,   3598.4,   1.4427,  34.6810,2,  34.6825,2,    144.0,2,    145.2,2,  -999.00,5,  -999.00,5,  -999.00,5,  -999.0,  1.1679,   3600,-999.000
     32WC033_1,  PRS2,     2,  1,      7,      6,2,19920104,1618, 22.7113,-157.9938, 4750,   3797.2,   1.4408,  34.6834,2,  34.6864,2,    148.7,2,    147.8,2,   151.05,2,    35.51,2,     2.50,2,  -999.0,  1.1453,   3797,-999.000
     32WC033_1,  PRS2,     2,  1,      6,      7,2,19920104,1618, 22.7113,-157.9938, 4750,   3984.4,   1.4448,  34.6849,2,  34.6837,2,    150.6,2,    150.8,2,   148.89,2,    35.39,2,     2.49,2,  -999.0,  1.1291,   3986,-999.000
     32WC033_1,  PRS2,     2,  1,      5,     26,2,19920104,1618, 22.7113,-157.9938, 4750,   4188.1,   1.4573,  34.6858,2,  34.6852,2,    150.9,2,    151.9,2,   148.46,2,    35.27,2,     2.49,2,  -999.0,  1.1189,   4188,-999.000
     32WC033_1,  PRS2,     2,  1,      4,     25,2,19920104,1618, 22.7113,-157.9938, 4750,   4396.4,   1.4735,  34.6867,2,  34.6925,4,    153.5,3,    152.9,2,   148.14,2,    35.27,2,     2.48,2,  -999.0,  1.1112,   4399,-999.000
     32WC033_1,  PRS2,     2,  1,      3,      3,2,19920104,1618, 22.7113,-157.9938, 4750,   4495.7,   1.4830,  34.6870,2,  34.6856,2,    155.3,2,    151.2,2,   147.81,2,    35.27,2,     2.48,2,  -999.0,  1.1090,   4497,-999.000
     32WC033_1,  PRS2,     2,  1,      2,      2,2,19920104,1618, 22.7113,-157.9938, 4750,   4600.3,   1.4936,  34.6871,2,  34.6868,2,    157.0,2,    155.0,2,   147.81,2,    35.27,2,     2.48,2,  -999.0,  1.1072,   4601,-999.000
     32WC033_1,  PRS2,     2,  1,      1,      1,2,19920104,1618, 22.7113,-157.9938, 4750,   4705.1,   1.5042,  34.6875,2,  34.6868,2,    157.7,2,    157.3,2,   147.38,2,    35.27,2,     2.48,2,  -999.0,  1.1051,   4707,-999.000
     32WC033_1,  PRS2,     2,  2,     24,     27,2,19920104,2244, 22.7448,-157.9985, 4750,     10.5,  24.2360,  35.0090,2,  35.0101,2,    209.3,2,   -999.0,5,  -999.00,5,  -999.00,5,  -999.00,5,  -999.0, 24.2338,     10,-999.000
     32WC033_1,  PRS2,     2,  2,     23,     23,2,19920104,2244, 22.7448,-157.9985, 4750,     15.3,  24.2328,  35.0086,2,  35.0076,2,    209.9,2,    210.2,2,     1.51,2,     0.00,2,     0.08,2,  -999.0, 24.2295,     15,-999.000
     32WC033_1,  PRS2,     2,  2,     22,     22,2,19920104,2244, 22.7448,-157.9985, 4750,     21.5,  24.2262,  35.0082,2,  35.0074,2,    209.8,2,    209.8,2,     1.51,2,     0.00,2,     0.08,2,  -999.0, 24.2217,     22,-999.000
     32WC033_1,  PRS2,     2,  2,     21,     21,2,19920104,2244, 22.7448,-157.9985, 4750,     26.0,  24.2248,  35.0082,2,  35.0078,2,    210.0,2,    210.0,2,     1.51,2,     0.00,2,     0.08,2,  -999.0, 24.2193,     25,-999.000
     32WC033_1,  PRS2,     2,  2,     20,     20,2,19920104,2244, 22.7448,-157.9985, 4750,     48.3,  24.0297,  35.0965,2,  35.0875,2,    211.5,2,    210.8,2,     1.30,2,     0.00,2,     0.07,2,  -999.0, 24.0196,     48,-999.000
     32WC033_1,  PRS2,     2,  2,     19,     19,2,19920104,2244, 22.7448,-157.9985, 4750,     72.9,  23.9793,  35.1163,2,  35.1174,2,    211.3,2,    210.5,2,     1.30,2,     0.02,2,     0.06,2,  -999.0, 23.9640,     74,-999.000
     32WC033_1,  PRS2,     2,  2,     18,     18,2,19920104,2244, 22.7448,-157.9985, 4750,    101.0,  22.3011,  35.1315,2,  35.1324,2,    214.0,2,    208.7,2,     1.73,2,     0.39,2,     0.13,2,  -999.0, 22.2809,    102,-999.000
     32WC033_1,  PRS2,     2,  2,     17,     17,2,19920104,2244, 22.7448,-157.9985, 4750,    117.1,  21.4741,  35.1284,2,  35.1241,2,    201.4,2,    201.9,2,     2.17,2,     0.82,2,     0.17,2,  -999.0, 21.4514,    117,-999.000
     32WC033_1,  PRS2,     2,  2,     16,     16,2,19920104,2244, 22.7448,-157.9985, 4750,    149.0,  19.3548,  35.0608,2,  35.0548,2,    190.9,2,    192.6,2,     3.46,2,     2.54,2,     0.27,2,  -999.0, 19.3279,    150,-999.000
     32WC033_1,  PRS2,     2,  2,     15,     15,2,19920104,2244, 22.7448,-157.9985, 4750,    206.2,  16.0336,  34.6572,2,  34.6534,2,    175.2,2,    176.2,2,     6.93,2,     7.31,2,     0.62,2,  -999.0, 16.0010,    206,-999.000
     32WC033_1,  PRS2,     2,  2,     14,     14,2,19920104,2244, 22.7448,-157.9985, 4750,    265.8,  11.8748,  34.2445,2,  34.2445,2,    185.9,2,    184.5,2,    12.88,2,    13.09,2,     1.00,2,  -999.0, 11.8405,    265,-999.000
     32WC033_1,  PRS2,     2,  2,     13,     13,2,19920104,2244, 22.7448,-157.9985, 4750,    310.8,  10.3847,  34.1649,2,  34.1637,2,    176.6,2,    177.0,2,    19.70,2,    17.01,2,     1.26,2,  -999.0, 10.3479,    310,-999.000
     32WC033_1,  PRS2,     2,  2,     12,     12,2,19920104,2244, 22.7448,-157.9985, 4750,    391.1,   8.7922,  34.1162,2,  34.1159,2,    148.6,2,    148.3,2,    30.96,2,    22.92,2,     1.68,2,  -999.0,  8.7504,    391,-999.000
     32WC033_1,  PRS2,     2,  2,     11,     11,2,19920104,2244, 22.7448,-157.9985, 4750,    452.0,   7.8462,  34.1058,2,  34.1051,2,    125.7,2,    123.1,2,    41.57,2,    27.00,2,     1.98,2,  -999.0,  7.8008,    453,-999.000
     32WC033_1,  PRS2,     2,  2,     10,     10,2,19920104,2244, 22.7448,-157.9985, 4750,    475.0,   7.5975,  34.1119,2,  34.1110,2,    116.0,2,    114.2,2,    45.03,2,    28.25,2,     2.08,2,  -999.0,  7.5506,    474,-999.000
     32WC033_1,  PRS2,     2,  2,      9,      9,2,19920104,2244, 22.7448,-157.9985, 4750,    504.9,   7.1469,  34.1137,2,  34.1126,2,    100.7,2,     98.5,2,    50.45,2,    30.52,2,     2.25,2,  -999.0,  7.0987,    504,-999.000
     32WC033_1,  PRS2,     2,  2,      8,      8,2,19920104,2244, 22.7448,-157.9985, 4750,    551.1,   6.3716,  34.1539,2,  34.1514,2,     60.6,2,     59.9,2,    63.43,2,    35.24,2,     2.63,2,  -999.0,  6.3220,    552,-999.000
     32WC033_1,  PRS2,     2,  2,      7,      6,2,19920104,2244, 22.7448,-157.9985, 4750,    601.1,   5.9686,  34.2190,2,  34.2163,2,     41.8,2,     38.6,2,    71.01,2,    37.68,2,     2.80,2,  -999.0,  5.9160,    600,-999.000
     32WC033_1,  PRS2,     2,  2,      6,      7,2,19920104,2244, 22.7448,-157.9985, 4750,    657.7,   5.6025,  34.3102,2,  34.3092,2,     29.1,2,     27.3,2,    80.31,2,    39.49,2,     2.94,2,  -999.0,  5.5465,    657,-999.000
     32WC033_1,  PRS2,     2,  2,      5,     26,2,19920104,2244, 22.7448,-157.9985, 4750,    721.3,   5.0807,  34.3558,2,  34.3553,2,     30.7,2,     29.1,2,    89.40,2,    40.63,2,     3.00,2,  -999.0,  5.0218,    721,-999.000
     32WC033_1,  PRS2,     2,  2,      4,     25,2,19920104,2244, 22.7448,-157.9985, 4750,    833.6,   4.4426,  34.4004,2,  34.4003,2,     34.5,2,     33.5,2,   102.39,2,    41.42,2,     3.03,2,  -999.0,  4.3778,    834,-999.000
     32WC033_1,  PRS2,     2,  2,      3,      3,2,19920104,2244, 22.7448,-157.9985, 4750,    981.0,   3.9615,  34.4722,2,  34.4713,2,     42.7,2,     42.2,2,   112.77,2,    41.42,2,     3.03,2,  -999.0,  3.8878,    980,-999.000
     32WC033_1,  PRS2,     2,  2,      2,      2,2,19920104,2244, 22.7448,-157.9985, 4750,   1024.7,   3.8279,  34.4950,2,  34.4951,2,     46.6,2,     47.0,2,   114.93,2,    41.30,2,     3.01,2,  -999.0,  3.7516,   1024,-999.000
     32WC033_1,  PRS2,     2,  2,      1,      1,2,19920104,2244, 22.7448,-157.9985, 4750,   1024.7,   3.8279,  34.4950,2,  34.4973,2,     46.6,2,     46.3,2,   115.15,2,    41.30,2,     3.01,2,  -999.0,  3.7516,   1024,-999.000