BOTTLE,20210804CCHSIOCBG
EXPOCODE,SECT_ID,STNNBR,CASTNO,SAMPNO,BTLNBR,BTLNBR_FLAG_W,DATE,TIME,LATITUDE,LONGITUDE,DEPTH,CTDPRS,CTDTMP,CTDSAL,CTDSAL_FLAG_W,SALNTY,SALNTY_FLAG_W,CTDOXY,CTDOXY_FLAG_W,OXYGEN,OXYGEN_FLAG_W,SILCAT,SILCAT_FLAG_W,NITRAT,NITRAT_FLAG_W,NITRIT,NITRIT_FLAG_W,PHSPHT,PHSPHT_FLAG_W,CFC-11,CFC-11_FLAG_W,CFC-12,CFC-12_FLAG_W,SF6,SF6_FLAG_W,TCARBN,TCARBN_FLAG_W,ALKALI,ALKALI_FLAG_W,PH_TOT,PH_TOT_FLAG_W,DELC13,DELC13_FLAG_W,DELC14,DELC14_FLAG_W,C14ERR,DELO18,DELO18_FLAG_W,DOC,DOC_FLAG_W,TDN,TDN_FLAG_W,N2O,N2O_FLAG_W,BTL_DATE,BTL_TIME,BTL_LAT,BTL_LON,PH_TMP,REFTMP,REFTMP_FLAG_W,CTDBACKSCATTER,CTDBACKSCATTER_FLAG_W,CTDFLUOR,CTDFLUOR_FLAG_W,CTDXMISS,CTDXMISS_FLAG_W
,,,,,,,,,,,METERS,DBAR,ITS-90,PSS-78,,PSS-78,,UMOL/KG,,UMOL/KG,,UMOL/KG,,UMOL/KG,,UMOL/KG,,UMOL/KG,,PMOL/KG,,PMOL/KG,,FMOL/KG,,UMOL/KG,,UMOL/KG,,,,/MILLE,,/MILLE,,/MILLE,/MILLE,,UMOL/KG,,UMOL/KG,,NMOL/KG,,,,,,DEG C,ITS-90,,VOLTS,,VOLTS,,VOLTS,
325020190403,       I06S,      39,          1,          1,          1,2,20190429,       1655,   -52.9994,    30.0013,       5504,  5616.1,  -0.1353,  34.6517,2,  34.6521,2,    241.3,2,   240.8,2,   133.0,2,   32.52,2,    0.00,2,    2.25,2,   0.934,2,   0.380,2,   0.2117,2,  2252.2,6, 2350.23,2,   7.6131,2, -999.00,9,  -999.0,9,  -999.0,   -0.03,2,    39.8,2,   33.32,2,    18.6964,3, 20190429,     1655, -52.9994,  30.0013,      25.06,    -0.1354,2,      0.172,1,      0.059,1,      4.662,1
325020190403,       I06S,      39,          1,          2,          2,2,20190429,       1655,   -52.9994,    30.0013,       5504,  5538.0,  -0.1367,  34.6519,2,  34.6531,2,    240.6,2,   240.6,2,   132.5,2,   32.53,2,    0.00,2,    2.25,2,   0.900,2,   0.371,2,   0.1628,2,  2251.3,2, 2352.43,2,   7.5999,2, -999.00,9,  -999.0,9,  -999.0,   -0.08,6,    38.0,2,   35.27,2,    18.5433,3, 20190429,     1700, -52.9994,  30.0012,      25.05,    -0.1368,2,      0.141,1,      0.059,1,      4.697,1
325020190403,       I06S,      39,          1,          3,          3,2,20190429,       1655,   -52.9994,    30.0013,       5504,  5457.9,  -0.1193,   34.653,2,  34.6533,2,    239.7,2,   239.5,2,   131.9,2,   32.52,2,    0.00,2,    2.25,2,-999.000,5,-999.000,5,-999.0000,5,  2252.3,2, 2351.23,2,   7.6005,2, -999.00,9,  -999.0,9,  -999.0,    -0.1,2,  -999.0,9, -999.00,9,     -999.0,9, 20190429,     1702, -52.9994,  30.0012,      25.02,    -0.1193,2,      0.135,1,      0.059,1,      4.707,1
325020190403,       I06S,      39,          1,          4,          4,2,20190429,       1655,   -52.9994,    30.0013,       5504,  5045.1,  -0.1005,  34.6555,2,  34.6556,2,    236.0,2,   237.1,2,   131.3,2,   32.60,2,    0.00,2,    2.25,2,   0.918,2,   0.371,2,   0.2063,2,  2253.6,2, 2350.81,2,   7.5988,2, -999.00,9,  -999.0,9,  -999.0,   -0.04,2,    39.5,2,   31.48,2,    19.3598,3, 20190429,     1710, -52.9994,  30.0013,      25.05,    -0.1008,2,      0.129,1,      0.060,1,      4.715,1
325020190403,       I06S,      39,          1,          5,          5,2,20190429,       1655,   -52.9994,    30.0013,       5504,  4633.4,  -0.0768,  34.6579,2,  34.6582,2,    234.2,2,   234.5,2,   130.7,2,   32.61,2,    0.00,2,    2.26,2,   0.821,2,   0.333,2,   0.1534,2,  2254.4,2, 2351.01,2,   7.5961,2, -999.00,9,  -999.0,9,  -999.0,   -0.04,2,    39.0,2,   32.13,2,     18.528,3, 20190429,     1718, -52.9994,  30.0013,      25.03,    -0.0769,2,      0.132,1,      0.059,1,      4.719,1
325020190403,       I06S,      39,          1,          6,          6,2,20190429,       1655,   -52.9994,    30.0013,       5504,  4219.5,  -0.0408,  34.6609,2,  34.6613,2,    230.4,2,   231.5,2,   129.5,2,   32.69,2,    0.00,2,    2.26,2,   0.794,2,   0.330,2,   0.1916,2,  2255.8,2, -999.00,9,   7.5936,2, -999.00,9,  -999.0,9,  -999.0, -999.00,9,  -999.0,9, -999.00,9,    18.6474,3, 20190429,     1726, -52.9994,  30.0012,      25.06,    -0.0412,2,      0.126,1,      0.059,1,      4.721,1
325020190403,       I06S,      39,          1,          7,          7,2,20190429,       1655,   -52.9994,    30.0013,       5504,  3810.5,   0.0452,  34.6651,2,   34.665,2,    225.5,2,   226.5,2,   128.6,2,   32.74,2,    0.00,2,    2.27,2,   0.730,2,   0.300,2,   0.1334,2,  2257.7,2, 2353.01,2,   7.5908,2, -999.00,9,  -999.0,9,  -999.0,   -0.05,2,    39.2,2,   32.46,2,     18.768,3, 20190429,     1733, -52.9994,  30.0013,      25.06,     0.0452,2,      0.125,1,      0.060,1,      4.726,1
325020190403,       I06S,      39,          1,          8,          8,2,20190429,       1655,   -52.9994,    30.0013,       5504,  3465.1,    0.201,  34.6725,2,  34.6727,2,    220.8,2,   220.5,2,   128.0,2,   32.79,2,    0.00,2,    2.27,2,   0.667,2,   0.270,2,   0.1336,2,  2258.3,2, 2353.41,2,   7.5881,2, -999.00,9,  -999.0,9,  -999.0, -999.00,9,    38.8,2,   33.06,2,    19.1168,3, 20190429,     1740, -52.9994,  30.0013,      25.07,      0.201,2,      0.124,1,      0.060,1,      4.725,1
325020190403,       I06S,      39,          1,          9,          9,2,20190429,       1655,   -52.9994,    30.0013,       5504,  3160.1,   0.3601,  34.6804,2,  34.6807,2,    216.2,2,   215.6,2,   126.1,2,   32.72,2,    0.00,2,    2.27,2,   0.596,2,   0.249,2,   0.1135,2,  2259.0,2, 2355.70,2,   7.5892,2, -999.00,9,  -999.0,9,  -999.0,   -0.03,2,  -999.0,9, -999.00,9,    19.1945,3, 20190429,     1746, -52.9994,  30.0013,      25.03,       0.36,2,      0.127,1,      0.060,1,      4.725,1
325020190403,       I06S,      39,          1,         10,         10,2,20190429,       1655,   -52.9994,    30.0013,       5504,  2887.2,   0.4762,  34.6866,2,   34.686,2,    212.0,2,   212.3,2,   124.0,2,   32.57,2,    0.00,2,    2.26,2,   0.540,2,   0.223,2,   0.1490,2,  2260.6,6, 2356.55,2,   7.5906,2, -999.00,9,  -999.0,9,  -999.0, -999.00,9,    39.3,2,   33.40,2,    19.3164,3, 20190429,     1752, -52.9994,  30.0013,      25.07,     0.4758,2,      0.125,1,      0.060,1,      4.725,1
325020190403,       I06S,      39,          1,         11,         11,2,20190429,       1655,   -52.9994,    30.0013,       5504,  2631.2,    0.617,  34.6955,2,  34.6956,2,    210.6,2,   210.7,2,   120.2,2,   32.22,2,    0.00,2,    2.23,2,   0.470,2,   0.196,2,   0.0706,2,  2258.8,2, 2356.45,2,   7.5960,2, -999.00,9,  -999.0,9,  -999.0,    0.08,2,    39.6,2,   34.83,2,    19.2778,3, 20190429,     1758, -52.9994,  30.0013,      25.06,     0.6151,2,      0.127,1,      0.061,1,      4.725,1
325020190403,       I06S,      39,          1,         12,         12,2,20190429,       1655,   -52.9994,    30.0013,       5504,  2378.4,   0.7458,  34.7036,2,  34.7037,2,    208.8,2,   209.1,2,   115.6,2,   31.93,2,    0.00,2,    2.21,2,   0.437,2,   0.182,2,   0.1023,2,  2258.0,2, -999.00,9,   7.5992,2, -999.00,9,  -999.0,9,  -999.0, -999.00,9,  -999.0,9, -999.00,9,     19.289,3, 20190429,     1804, -52.9994,  30.0013,      25.07,     0.7453,2,      0.132,1,      0.060,1,      4.725,1
325020190403,       I06S,      39,          1,         13,         13,2,20190429,       1655,   -52.9994,    30.0013,       5504,  2123.1,   0.9136,  34.7124,2,  34.7125,2,    206.8,2,   207.0,2,   109.9,2,   31.52,2,    0.00,2,    2.18,2,   0.417,2,   0.178,2,   0.2005,2,  2255.0,2, 2352.18,3,   7.6017,2, -999.00,9,  -999.0,9,  -999.0,    0.07,2,    39.7,2,   33.42,2,     19.344,3, 20190429,     1810, -52.9994,  30.0013,      25.07,     0.9142,2,      0.131,1,      0.061,1,      4.725,1
325020190403,       I06S,      39,          1,         14,         14,2,20190429,       1655,   -52.9994,    30.0013,       5504,  1896.4,   1.0847,  34.7221,2,  34.7219,2,    205.0,2,   205.4,2,   104.9,2,   31.17,2,    0.00,2,    2.15,2,   0.358,2,   0.153,2,   0.0407,2,  2253.8,2, 2353.70,2,   7.6054,2, -999.00,9,  -999.0,9,  -999.0, -999.00,9,    38.8,2,   31.06,2,     19.187,3, 20190429,     1815, -52.9994,  30.0012,      25.06,     1.0838,2,      0.125,1,      0.060,1,      4.725,1
325020190403,       I06S,      39,          1,         15,         15,2,20190429,       1655,   -52.9994,    30.0013,       5504,  1694.7,   1.2908,   34.733,2,  34.7329,2,    202.9,2,   203.4,2,    99.4,2,   30.80,2,    0.00,2,    2.13,2,   0.308,2,   0.131,2,   0.1528,2,  2251.3,2, 2353.05,2,   7.6092,2, -999.00,9,  -999.0,9,  -999.0,    0.23,2,  -999.0,9, -999.00,9,    19.1608,3, 20190429,     1820, -52.9994,  30.0012,      25.06,     1.2903,2,      0.131,1,      0.062,1,      4.725,1
325020190403,       I06S,      39,          1,         16,         16,2,20190429,       1655,   -52.9994,    30.0013,       5504,  1492.4,    1.482,  34.7421,2,  34.7423,2,    200.6,2,   201.4,2,    94.3,2,   30.39,2,    0.00,2,    2.11,2,   0.268,2,   0.116,2,   0.0612,2,  2249.4,2, 2350.09,2,   7.6108,2, -999.00,9,  -999.0,9,  -999.0, -999.00,9,    39.7,2,   30.88,2,    19.3053,3, 20190429,     1825, -52.9994,  30.0014,      25.08,      1.482,2,      0.130,1,      0.062,1,      4.725,1
325020190403,       I06S,      39,          1,         17,         17,2,20190429,       1655,   -52.9994,    30.0013,       5504,  1360.6,    1.512,  34.7333,2,  34.7337,2,    196.5,2,   197.0,2,    95.1,2,   30.88,2,    0.00,2,    2.14,2,   0.321,2,   0.138,2,   0.1258,2,  2252.2,2, 2350.20,2,   7.6020,2, -999.00,9,  -999.0,9,  -999.0,    0.13,2,    39.7,2,   32.62,2,    20.1419,3, 20190429,     1830, -52.9994,  30.0013,      25.08,     1.5109,2,      0.130,1,      0.061,1,      4.723,1
325020190403,       I06S,      39,          1,         18,         18,2,20190429,       1655,   -52.9994,    30.0013,       5504,  1258.5,     1.66,  34.7366,2,  34.7365,2,    193.1,3,   195.2,2,    91.0,2,   30.71,2,    0.00,2,    2.13,2,   0.312,2,   0.139,2,   0.1360,2,  2250.1,2, -999.00,9,   7.6030,2, -999.00,9,  -999.0,9,  -999.0, -999.00,9,  -999.0,9, -999.00,9,     19.801,3, 20190429,     1833, -52.9994,  30.0013,      25.06,      1.668,2,      0.132,1,      0.061,1,      4.723,1
325020190403,       I06S,      39,          1,         19,         19,2,20190429,       1655,   -52.9994,    30.0013,       5504,  1156.0,   1.9279,  34.7556,2,  34.7561,2,    195.8,2,   196.7,2,    82.8,2,   29.80,2,    0.00,2,    2.07,2,   0.243,2,   0.099,2,   0.0517,2,  2242.0,2, 2349.06,2,   7.6133,2, -999.00,9,  -999.0,9,  -999.0,    0.16,6,    38.0,2,   29.57,2,    19.8934,3, 20190429,     1836, -52.9994,  30.0013,      25.05,     1.9271,2,      0.130,1,      0.061,1,      4.725,1
325020190403,       I06S,      39,          1,         20,         20,2,20190429,       1655,   -52.9994,    30.0013,       5504,  1056.1,   2.1102,  34.7597,2,  34.7598,2,    196.7,2,   195.8,2,    77.8,2,   29.54,2,    0.00,2,    2.05,2,   0.210,2,   0.091,2,   0.0553,2,  2240.4,2, 2343.57,2,   7.6152,2, -999.00,9,  -999.0,9,  -999.0, -999.00,9,    39.1,2,   32.30,2,     19.509,3, 20190429,     1839, -52.9994,  30.0013,      25.09,     2.1093,2,      0.134,1,      0.061,1,      4.725,1
325020190403,       I06S,      39,          1,         21,         21,2,20190429,       1655,   -52.9994,    30.0013,       5504,   953.6,   2.1804,  34.7566,2,  34.7567,2,    192.8,2,   194.2,2,    76.4,2,   29.57,2,    0.00,2,    2.06,2,   0.216,2,   0.098,2,   0.0586,2,  2239.4,2, 2344.28,2,   7.6133,2, -999.00,9,  -999.0,9,  -999.0,    0.24,2,  -999.0,9, -999.00,9,    19.9313,3, 20190429,     1842, -52.9994,  30.0013,      25.10,     2.1795,2,      0.129,1,      0.061,1,      4.725,1
325020190403,       I06S,      39,          1,         22,         22,2,20190429,       1655,   -52.9994,    30.0013,       5504,   852.9,   2.2398,   34.745,2,  34.7459,2,    188.9,2,   190.2,2,    76.3,2,   30.09,2,    0.00,2,    2.09,2,   0.239,2,   0.107,2,   0.0600,2,  2242.9,2, 2343.47,2,   7.6053,2, -999.00,9,  -999.0,9,  -999.0, -999.00,9,    39.1,2,   32.09,2,    20.2832,3, 20190429,     1845, -52.9994,  30.0013,      25.06,      2.239,2,      0.130,1,      0.061,1,      4.725,1
325020190403,       I06S,      39,          1,         23,         23,2,20190429,       1655,   -52.9994,    30.0013,       5504,   750.4,   2.3155,  34.7277,2,  34.7276,2,    185.5,2,   186.1,2,    75.2,2,   30.56,2,    0.00,2,    2.14,2,   0.277,2,   0.123,2,   0.0852,2,  2243.7,2, 2341.06,2,   7.5969,2, -999.00,9,  -999.0,9,  -999.0,    0.23,2,    39.5,2,   34.67,2,    20.6457,3, 20190429,     1848, -52.9994,  30.0013,      25.07,     2.3145,2,      0.130,1,      0.061,1,      4.724,1
325020190403,       I06S,      39,          1,         24,         24,2,20190429,       1655,   -52.9994,    30.0013,       5504,   650.4,   2.2723,   34.683,2,  34.6831,2,    177.6,2,   177.6,2,    78.7,2,   32.08,2,    0.00,2,    2.24,2,   0.402,2,   0.183,2,   0.1366,2,  2250.0,2, -999.00,9,   7.5745,2, -999.00,9,  -999.0,9,  -999.0, -999.00,9,  -999.0,9, -999.00,9,    21.6899,3, 20190429,     1851, -52.9994,  30.0013,      25.02,     2.2715,2,      0.135,1,      0.062,1,      4.722,1
325020190403,       I06S,      39,          1,         25,         25,2,20190429,       1655,   -52.9994,    30.0013,       5504,   548.9,   2.2854,  34.6473,2,  34.6464,2,    172.9,2,   173.1,2,    78.2,2,   33.01,2,    0.00,2,    2.30,2,   0.549,2,   0.260,2,   0.1749,2,  2254.6,6, 2341.53,2,   7.5592,2, -999.00,9,  -999.0,9,  -999.0,    0.19,2,    39.3,2,   37.00,3,    22.3777,3, 20190429,     1854, -52.9994,  30.0013,      25.06,     2.2844,2,      0.139,1,      0.062,1,      4.720,1
325020190403,       I06S,      39,          1,         26,         26,2,20190429,       1655,   -52.9994,    30.0013,       5504,   446.0,   2.0187,  34.5486,2,  34.5466,2,    178.2,2,   177.9,2,    77.3,2,   34.46,2,    0.00,2,    2.39,2,   1.253,2,   0.594,2,   0.5014,2,  2254.7,2, 2336.37,2,   7.5348,2, -999.00,9,  -999.0,9,  -999.0, -999.00,9,    39.6,2,   37.67,3,     23.674,3, 20190429,     1858, -52.9994,  30.0013,      25.07,     2.0229,2,      0.139,1,      0.060,1,      4.715,1
325020190403,       I06S,      39,          1,         27,         27,2,20190429,       1655,   -52.9994,    30.0013,       5504,   375.7,   1.4919,  34.4313,2,  34.4295,2,    199.9,3,   208.9,2,    73.6,2,   34.14,2,    0.00,2,    2.38,2,-999.000,5,-999.000,5,-999.0000,5,  2245.2,2, 2325.01,2,   7.5410,2, -999.00,9,  -999.0,9,  -999.0,    0.02,2,  -999.0,9, -999.00,9,     -999.0,9, 20190429,     1900, -52.9994,  30.0012,      25.09,     1.4841,2,      0.137,1,      0.061,1,      4.714,1
325020190403,       I06S,      39,          1,         28,         28,2,20190429,       1655,   -52.9994,    30.0013,       5504,   324.0,   1.9882,  34.4439,2,  34.4436,2,    190.7,2,   191.0,2,    69.8,2,   34.59,2,    0.00,2,    2.39,2,   1.963,2,   0.926,2,   0.8332,2,  2244.9,2, -999.00,9,   7.5354,2, -999.00,9,  -999.0,9,  -999.0, -999.00,9,    39.4,2,   39.50,3,    23.3808,3, 20190429,     1902, -52.9994,  30.0013,      25.05,     1.9903,2,      0.141,1,      0.061,1,      4.715,1
325020190403,       I06S,      39,          1,         29,         29,2,20190429,       1655,   -52.9994,    30.0013,       5504,   273.3,   1.9512,  34.3789,2,   34.378,2,    234.2,3,   202.2,2,    65.0,2,   34.41,2,    0.00,2,    2.39,2,   2.447,2,   1.177,2,   1.0193,2,  2241.0,2, 2317.89,2,   7.5412,2, -999.00,9,  -999.0,9,  -999.0,    0.05,2,    41.7,2,   38.27,3,    22.9559,3, 20190429,     1904, -52.9994,  30.0013,      24.41,       1.95,2,      0.140,1,      0.061,1,      4.714,1
325020190403,       I06S,      39,          1,         30,         30,2,20190429,       1655,   -52.9994,    30.0013,       5504,   224.1,   1.7636,  34.3018,2,  34.3022,2,    220.8,3,   223.1,2,    59.8,2,   33.70,2,    0.00,2,    2.34,2,   3.127,2,   1.538,2,   1.4974,2,  2231.4,2, 2312.36,2,   7.5525,2, -999.00,9,  -999.0,9,  -999.0,   -0.03,2,  -999.0,9, -999.00,9,    21.6487,3, 20190429,     1906, -52.9994,  30.0013,      25.05,     1.7725,2,      0.134,1,      0.059,1,      4.720,1
325020190403,       I06S,      39,          1,         31,         31,2,20190429,       1655,   -52.9994,    30.0013,       5504,   176.0,   1.5668,  34.1693,2,  34.1567,2,    254.8,3,   259.6,2,    50.5,2,   31.98,2,    0.00,2,    2.22,2,   4.212,2,   2.137,2,   2.2846,2,  2211.6,2, 2302.46,2,   7.5797,2, -999.00,9,  -999.0,9,  -999.0,   -0.07,2,    42.6,2,   35.03,2,    19.2228,3, 20190429,     1908, -52.9994,  30.0013,      25.06,     1.4885,2,      0.149,1,      0.062,1,      4.712,1
325020190403,       I06S,      39,          1,         32,         32,2,20190429,       1655,   -52.9994,    30.0013,       5504,   125.2,    2.142,  33.9638,2,  33.9655,2,    324.3,2,   324.5,2,    34.7,2,   26.14,2,    0.30,2,    1.82,2,   5.139,2,   2.548,2,   3.1537,2,  2174.0,2, -999.00,9,   7.6774,2, -999.00,9,  -999.0,9,  -999.0,   -0.15,2,    43.1,2,   30.39,2,    13.6861,3, 20190429,     1910, -52.9994,  30.0013,      25.04,     2.1402,2,      0.143,1,      0.117,1,      4.691,1
325020190403,       I06S,      39,          1,         33,         33,2,20190429,       1655,   -52.9994,    30.0013,       5504,    92.0,   2.1372,   33.962,2,  33.9622,2,    323.2,2,   325.3,2,    34.5,2,   26.01,2,    0.30,2,    1.81,2,   5.340,2,   2.770,2,   3.4851,2,  2174.8,2, 2297.06,3,   7.6785,2, -999.00,9,  -999.0,9,  -999.0,   -0.19,2,  -999.0,9, -999.00,9,    13.8388,3, 20190429,     1911, -52.9994,  30.0013,      25.07,     2.1362,2,      0.145,1,      0.125,1,      4.684,1
325020190403,       I06S,      39,          1,         34,         34,2,20190429,       1655,   -52.9994,    30.0013,       5504,    68.3,   2.1448,  33.9599,2,  33.9608,2,    323.3,2,   325.4,2,    34.3,2,   25.99,2,    0.30,2,    1.80,2,   5.306,2,   2.759,2,   3.4992,2,  2175.8,2, 2296.94,2,   7.6786,2, -999.00,9,  -999.0,9,  -999.0,   -0.05,6,    42.4,2,   29.42,2,    13.7617,3, 20190429,     1913, -52.9994,  30.0013,      25.07,     2.1452,2,      0.144,1,      0.125,1,      4.685,1
325020190403,       I06S,      39,          1,         35,         35,2,20190429,       1655,   -52.9994,    30.0013,       5504,    43.3,   2.1491,  33.9589,2,  33.9602,2,    322.1,3,   325.4,2,    34.4,2,   25.90,2,    0.30,2,    1.78,2,   5.252,2,   2.760,2,   3.4283,2,  2174.0,2, 2297.06,2,   7.6788,2, -999.00,9,  -999.0,9,  -999.0,   -0.16,2,  -999.0,9, -999.00,9,     13.768,3, 20190429,     1915, -52.9994,  30.0013,      25.07,     2.1478,2,      0.147,1,      0.122,1,      4.683,1
325020190403,       I06S,      39,          1,         36,         36,2,20190429,       1655,   -52.9994,    30.0013,       5504,    12.8,   2.1465,  33.9588,2,    33.96,2,    320.8,3,   325.4,2,    34.5,2,   25.85,2,    0.31,2,    1.79,2,   5.251,2,   2.722,2,   3.5005,2,  2172.6,6, 2295.70,2,   7.6792,2, -999.00,9,  -999.0,9,  -999.0,   -0.19,2,    43.4,2,   30.07,2,    13.6619,3, 20190429,     1917, -52.9994,  30.0013,      25.07,     2.1454,2,      0.146,1,      0.132,1,      4.684,1