BOTTLE,20210804CCHSIOCBG
EXPOCODE,SECT_ID,STNNBR,CASTNO,SAMPNO,BTLNBR,BTLNBR_FLAG_W,DATE,TIME,LATITUDE,LONGITUDE,DEPTH,CTDPRS,CTDTMP,CTDSAL,CTDSAL_FLAG_W,SALNTY,SALNTY_FLAG_W,CTDOXY,CTDOXY_FLAG_W,OXYGEN,OXYGEN_FLAG_W,SILCAT,SILCAT_FLAG_W,NITRAT,NITRAT_FLAG_W,NITRIT,NITRIT_FLAG_W,PHSPHT,PHSPHT_FLAG_W,CFC-11,CFC-11_FLAG_W,CFC-12,CFC-12_FLAG_W,SF6,SF6_FLAG_W,TCARBN,TCARBN_FLAG_W,ALKALI,ALKALI_FLAG_W,PH_TOT,PH_TOT_FLAG_W,DELC13,DELC13_FLAG_W,DELC14,DELC14_FLAG_W,C14ERR,DELO18,DELO18_FLAG_W,DOC,DOC_FLAG_W,TDN,TDN_FLAG_W,N2O,N2O_FLAG_W,BTL_DATE,BTL_TIME,BTL_LAT,BTL_LON,PH_TMP,REFTMP,REFTMP_FLAG_W,CTDBACKSCATTER,CTDBACKSCATTER_FLAG_W,CTDFLUOR,CTDFLUOR_FLAG_W,CTDXMISS,CTDXMISS_FLAG_W
,,,,,,,,,,,METERS,DBAR,ITS-90,PSS-78,,PSS-78,,UMOL/KG,,UMOL/KG,,UMOL/KG,,UMOL/KG,,UMOL/KG,,UMOL/KG,,PMOL/KG,,PMOL/KG,,FMOL/KG,,UMOL/KG,,UMOL/KG,,,,/MILLE,,/MILLE,,/MILLE,/MILLE,,UMOL/KG,,UMOL/KG,,NMOL/KG,,,,,,DEG C,ITS-90,,VOLTS,,VOLTS,,VOLTS,
325020190403,       I06S,      11,          1,          1,          1,2,20190418,       0450,   -66.9994,    30.0003,       4101,  4158.2,  -0.3015,  34.6529,2,  34.6519,2,    241.1,2,   240.7,2,   137.4,2,   32.47,2,    0.00,2,    2.25,2,   0.807,2,   0.413,2,   0.2820,2,  2252.9,2, 2357.65,2,   7.5971,2, -999.00,9,  -999.0,9,  -999.0,   -0.05,2,  -999.0,9, -999.00,9,    20.4894,3, 20190418,      450, -66.9994,  30.0003,      25.04,    -0.3018,2,      0.145,1,      0.061,1,      4.633,1
325020190403,       I06S,      11,          1,          2,          2,2,20190418,       0450,   -66.9994,    30.0003,       4101,  4119.0,  -0.3041,  34.6526,2,  34.6513,2,    241.3,2,   240.9,2,   137.3,2,   32.47,2,    0.00,2,    2.25,2,-999.000,5,-999.000,5,-999.0000,5,  -999.0,9, -999.00,9,-999.0000,9, -999.00,9,  -999.0,9,  -999.0,   -0.07,2,  -999.0,9, -999.00,9,     -999.0,9, 20190418,      452, -66.9994,  30.0003,     -999.0,    -0.3033,2,      0.140,1,      0.061,1,      4.635,1
325020190403,       I06S,      11,          1,          3,          3,2,20190418,       0450,   -66.9994,    30.0003,       4101,  3976.3,   -0.228,  34.6537,2,  34.6523,2,    241.3,2,   241.5,2,   124.0,2,   32.18,2,    0.00,2,    2.24,2,   1.227,2,   0.646,2,   0.4985,2,  2251.3,2, 2348.13,3,   7.5960,2, -999.00,9,  -999.0,9,  -999.0,    -0.1,2,  -999.0,9, -999.00,9,     22.116,3, 20190418,      455, -66.9994,  30.0002,      25.02,    -0.2283,2,      0.126,1,      0.061,1,      4.645,1
325020190403,       I06S,      11,          1,          4,          4,2,20190418,       0450,   -66.9994,    30.0003,       4101,  3667.5,  -0.1878,  34.6555,3,  34.6535,2,    239.0,2,   239.0,2,   122.1,2,   32.22,2,    0.00,2,    2.24,2,   1.231,2,   0.653,2,   0.5092,2,  -999.0,9, -999.00,9,-999.0000,9, -999.00,9,  -999.0,9,  -999.0,   -0.09,6,  -999.0,9, -999.00,9,    22.4297,3, 20190418,      501, -66.9994,  30.0003,     -999.0,    -0.1879,2,      0.125,1,      0.062,1,      4.645,1
325020190403,       I06S,      11,          1,          5,          5,2,20190418,       0450,   -66.9994,    30.0003,       4101,  3358.9,  -0.1638,  34.6566,2,  34.6554,2,    236.6,2,   236.7,2,   121.1,2,   32.17,2,    0.00,2,    2.24,2,   1.182,2,   0.601,2,   0.4650,2,  2254.3,2, 2351.79,2,   7.5935,2, -999.00,9,  -999.0,9,  -999.0,   -0.12,2,  -999.0,9, -999.00,9,    22.3483,3, 20190418,      507, -66.9994,  30.0003,      25.03,    -0.1642,2,      0.124,1,      0.063,1,      4.646,1
325020190403,       I06S,      11,          1,          6,          6,2,20190418,       0450,   -66.9994,    30.0003,       4101,  3051.9,  -0.1375,  34.6581,2,  34.6564,2,    234.3,2,   234.8,2,   121.6,2,   32.32,2,    0.00,2,    2.24,2,   1.165,2,   0.615,2,   0.5277,2,  -999.0,9, -999.00,9,-999.0000,9, -999.00,9,  -999.0,9,  -999.0, -999.00,9,  -999.0,9, -999.00,9,    22.7082,3, 20190418,      513, -66.9994,  30.0003,     -999.0,    -0.1375,2,      0.124,1,      0.060,1,      4.646,1
325020190403,       I06S,      11,          1,          7,          7,2,20190418,       0450,   -66.9994,    30.0003,       4101,  2795.4,  -0.1024,  34.6601,2,  34.6584,2,    231.5,2,   231.9,2,   121.6,2,   32.33,2,    0.00,2,    2.24,2,   1.100,2,   0.576,2,   0.4758,2,  2255.1,2, 2353.08,2,   7.5915,2, -999.00,9,  -999.0,9,  -999.0,   -0.08,2,  -999.0,9, -999.00,9,    22.8406,3, 20190418,      518, -66.9994,  30.0003,      25.07,    -0.1027,2,      0.126,1,      0.062,1,      4.646,1
325020190403,       I06S,      11,          1,          8,          8,2,20190418,       0450,   -66.9994,    30.0003,       4101,  2539.7,  -0.0635,  34.6622,2,  34.6607,2,    229.1,2,   229.8,2,   122.3,2,   32.33,2,    0.00,2,    2.25,2,   1.005,2,   0.525,2,   0.4619,2,  -999.0,9, -999.00,9,-999.0000,9, -999.00,9,  -999.0,9,  -999.0,   -0.02,2,  -999.0,9, -999.00,9,    22.9934,3, 20190418,      522, -66.9994,  30.0003,     -999.0,    -0.0636,2,      0.125,1,      0.062,1,      4.647,1
325020190403,       I06S,      11,          1,          9,          9,2,20190418,       0450,   -66.9994,    30.0003,       4101,  2284.5,   -0.014,   34.665,2,  34.6637,2,    226.2,2,   226.7,2,   122.8,2,   32.38,2,    0.00,2,    2.25,2,   0.891,2,   0.465,2,   0.3399,2,  2257.8,2, 2356.01,2,   7.5899,2, -999.00,9,  -999.0,9,  -999.0, -999.00,9,  -999.0,9, -999.00,9,    23.0262,3, 20190418,      527, -66.9994,  30.0003,      25.05,    -0.0147,2,      0.125,1,      0.063,1,      4.647,1
325020190403,       I06S,      11,          1,         10,         10,2,20190418,       0450,   -66.9994,    30.0003,       4101,  2029.6,     0.06,  34.6687,2,  34.6668,2,    223.2,2,   223.2,2,   122.3,2,   32.39,2,    0.00,2,    2.25,2,   0.804,2,   0.424,2,   0.3590,2,  -999.0,9, -999.00,9,-999.0000,9, -999.00,9,  -999.0,9,  -999.0, -999.00,9,  -999.0,9, -999.00,9,    23.0918,3, 20190418,      532, -66.9994,  30.0003,     -999.0,     0.0596,2,      0.124,1,      0.062,1,      4.647,1
325020190403,       I06S,      11,          1,         11,         11,2,20190418,       0450,   -66.9994,    30.0003,       4101,  1826.0,   0.1261,  34.6716,2,  34.6697,2,    219.6,2,   220.3,2,   122.1,2,   32.53,2,    0.00,2,    2.25,2,   0.751,2,   0.388,2,   0.3318,2,  2257.5,2, 2357.53,2,   7.5872,2, -999.00,9,  -999.0,9,  -999.0,   -0.06,2,  -999.0,9, -999.00,9,    23.1817,3, 20190418,      536, -66.9994,  30.0003,      25.05,     0.1286,2,      0.124,1,      0.061,1,      4.647,1
325020190403,       I06S,      11,          1,         12,         12,2,20190418,       0450,   -66.9994,    30.0003,       4101,  1623.0,   0.2205,  34.6762,2,  34.6731,2,    216.3,2,   216.7,2,   121.1,2,   32.55,2,    0.00,2,    2.25,2,   0.680,2,   0.350,2,   0.2518,2,  -999.0,9, -999.00,9,-999.0000,9, -999.00,9,  -999.0,9,  -999.0, -999.00,9,  -999.0,9, -999.00,9,    23.3108,3, 20190418,      540, -66.9994,  30.0003,     -999.0,     0.2199,2,      0.126,1,      0.062,1,      4.647,1
325020190403,       I06S,      11,          1,         13,         13,2,20190418,       0450,   -66.9994,    30.0003,       4101,  1520.2,   0.2747,  34.6785,2,  34.6764,2,    215.5,2,   214.8,2,   120.4,2,   32.54,2,    0.00,2,    2.25,2,   0.645,2,   0.335,2,   0.2859,2,  2261.9,2, 2355.14,2,   7.5852,2, -999.00,9,  -999.0,9,  -999.0,     0.0,2,  -999.0,9, -999.00,9,    23.2525,3, 20190418,      543, -66.9994,  30.0003,      25.04,     0.2745,2,      0.126,1,      0.062,1,      4.647,1
325020190403,       I06S,      11,          1,         14,         14,2,20190418,       0450,   -66.9994,    30.0003,       4101,  1419.0,   0.3162,  34.6803,2,  34.6784,2,    213.4,2,   213.7,2,   119.5,2,   32.58,2,    0.00,2,    2.25,2,   0.656,2,   0.344,2,   0.2967,2,  -999.0,9, -999.00,9,-999.0000,9, -999.00,9,  -999.0,9,  -999.0, -999.00,9,  -999.0,9, -999.00,9,     22.189,3, 20190418,      545, -66.9994,  30.0003,     -999.0,     0.3155,2,      0.126,1,      0.062,1,      4.647,1
325020190403,       I06S,      11,          1,         15,         15,2,20190418,       0450,   -66.9994,    30.0003,       4101,  1317.7,    0.369,  34.6822,2,  34.6797,2,    212.6,2,   211.7,2,   118.7,2,   32.62,2,    0.00,2,    2.25,2,   0.637,2,   0.327,2,   0.3017,2,  2260.1,2, 2356.78,2,   7.5823,2, -999.00,9,  -999.0,9,  -999.0,     0.0,2,  -999.0,9, -999.00,9,    23.1987,3, 20190418,      548, -66.9994,  30.0003,      25.06,     0.3699,2,      0.126,1,      0.060,1,      4.647,1
325020190403,       I06S,      11,          1,         16,         16,2,20190418,       0450,   -66.9994,    30.0003,       4101,  1214.8,   0.4279,  34.6846,2,  34.6833,2,    210.2,2,   210.2,2,   117.4,2,   32.63,2,    0.00,2,    2.25,2,   0.633,2,   0.332,2,   0.2717,2,  -999.0,9, -999.00,9,-999.0000,9, -999.00,9,  -999.0,9,  -999.0, -999.00,9,  -999.0,9, -999.00,9,    23.4915,3, 20190418,      551, -66.9994,  30.0002,     -999.0,     0.4274,2,      0.127,1,      0.063,1,      4.646,1
325020190403,       I06S,      11,          1,         17,         17,2,20190418,       0450,   -66.9994,    30.0003,       4101,  1113.0,   0.5153,  34.6902,2,  34.6878,2,    209.2,2,   208.6,2,   116.0,2,   32.64,2,    0.00,2,    2.23,2,   0.585,2,   0.302,2,   0.2464,2,  2258.4,2, 2358.27,2,   7.5857,2, -999.00,9,  -999.0,9,  -999.0,   -0.04,2,  -999.0,9, -999.00,9,    23.6261,3, 20190418,      554, -66.9994,  30.0003,      25.04,     0.5146,2,      0.126,1,      0.061,1,      4.647,1
325020190403,       I06S,      11,          1,         18,         18,2,20190418,       0450,   -66.9994,    30.0003,       4101,  1011.9,   0.5862,   34.694,2,  34.6919,2,    207.1,2,   207.1,2,   114.7,2,   32.11,2,    0.00,2,    2.24,2,   0.556,2,   0.281,2,   0.2380,2,  -999.0,9, -999.00,9,-999.0000,9, -999.00,9,  -999.0,9,  -999.0, -999.00,9,  -999.0,9, -999.00,9,    23.7649,3, 20190418,      556, -66.9994,  30.0003,     -999.0,     0.5852,2,      0.125,1,      0.062,1,      4.647,1
325020190403,       I06S,      11,          1,         19,         19,2,20190418,       0450,   -66.9994,    30.0003,       4101,   910.8,    0.628,  34.6936,2,  34.6911,2,    207.3,2,   207.8,2,   111.3,2,   32.11,2,    0.00,2,    2.22,2,   0.624,2,   0.327,2,   0.2646,2,  2256.9,2, 2360.78,2,   7.5878,2, -999.00,9,  -999.0,9,  -999.0,   -0.02,2,  -999.0,9, -999.00,9,    23.7694,3, 20190418,      559, -66.9994,  30.0003,      25.01,     0.6289,2,      0.127,1,      0.063,1,      4.646,1
325020190403,       I06S,      11,          1,         20,         20,2,20190418,       0450,   -66.9994,    30.0003,       4101,   810.3,   0.7397,  34.6999,2,  34.6976,2,    207.1,2,   205.6,2,   109.3,2,   31.96,2,    0.00,2,    2.20,2,   0.569,2,   0.296,2,   0.2114,2,  -999.0,9, -999.00,9,-999.0000,9, -999.00,9,  -999.0,9,  -999.0, -999.00,9,  -999.0,9, -999.00,9,    23.8248,3, 20190418,      601, -66.9994,  30.0003,     -999.0,     0.7387,2,      0.133,1,      0.063,1,      4.644,1
325020190403,       I06S,      11,          1,         21,         21,2,20190418,       0450,   -66.9994,    30.0003,       4101,   708.5,   0.8538,  34.7052,2,  34.7021,2,    204.0,2,   204.2,2,   106.3,2,   31.80,2,    0.00,2,    2.19,2,   0.556,2,   0.295,2,   0.2349,2,  2257.0,2, 2354.62,2,   7.5909,2, -999.00,9,  -999.0,9,  -999.0,    0.03,2,  -999.0,9, -999.00,9,     23.847,3, 20190418,      604, -66.9994,  30.0003,      24.99,     0.8506,2,      0.131,1,      0.062,1,      4.645,1
325020190403,       I06S,      11,          1,         22,         22,2,20190418,       0450,   -66.9994,    30.0003,       4101,   607.7,   0.8644,  34.6988,2,   34.697,2,    205.4,2,   205.1,2,   102.6,2,   31.70,2,    0.00,2,    2.18,2,   0.690,2,   0.373,2,   0.4062,2,  -999.0,9, -999.00,9,-999.0000,9, -999.00,9,  -999.0,9,  -999.0, -999.00,9,  -999.0,9, -999.00,9,    23.0324,3, 20190418,      606, -66.9994,  30.0003,     -999.0,     0.8619,2,      0.133,1,      0.063,1,      4.643,1
325020190403,       I06S,      11,          1,         23,         23,2,20190418,       0450,   -66.9994,    30.0003,       4101,   506.1,    0.958,  34.6996,2,   34.697,2,    204.1,2,   203.7,2,    99.5,2,   31.71,2,    0.00,2,    2.17,2,   0.727,2,   0.391,2,   0.2552,2,  2255.1,2, 2352.23,2,   7.5877,2, -999.00,9,  -999.0,9,  -999.0,    0.07,6,  -999.0,9, -999.00,9,      23.93,3, 20190418,      609, -66.9994,  30.0003,      25.02,     0.9572,2,      0.142,1,      0.062,1,      4.642,1
325020190403,       I06S,      11,          1,         24,         24,2,20190418,       0450,   -66.9994,    30.0003,       4101,   455.2,   0.9765,  34.6965,2,  34.6935,2,    202.7,2,   203.1,2,    98.0,2,   31.75,2,    0.00,2,    2.17,2,   0.776,2,   0.417,2,   0.4058,2,  -999.0,9, -999.00,9,-999.0000,9, -999.00,9,  -999.0,9,  -999.0, -999.00,9,  -999.0,9, -999.00,9,    24.0413,3, 20190418,      611, -66.9994,  30.0003,     -999.0,     0.9793,2,      0.135,1,      0.062,1,      4.641,1
325020190403,       I06S,      11,          1,         25,         25,2,20190418,       0450,   -66.9994,    30.0003,       4101,   405.0,   1.0556,  34.6979,2,  34.6966,2,    202.0,2,   201.3,2,    96.7,2,   31.76,2,    0.00,2,    2.17,2,   0.761,2,   0.415,2,   0.3821,2,  2253.1,2, 2348.72,2,   7.5844,2, -999.00,9,  -999.0,9,  -999.0,    0.11,2,  -999.0,9, -999.00,9,    24.2938,3, 20190418,      612, -66.9994,  30.0003,      25.03,     1.0542,2,      0.138,1,      0.063,1,      4.642,1
325020190403,       I06S,      11,          1,         26,         26,2,20190418,       0450,   -66.9994,    30.0003,       4101,   353.4,   1.0478,  34.6899,2,  34.6872,2,    201.6,2,   201.6,2,    95.1,2,   31.58,2,    0.00,2,    2.17,2,   0.870,2,   0.473,2,   0.4852,2,  -999.0,9, -999.00,9,-999.0000,9, -999.00,9,  -999.0,9,  -999.0, -999.00,9,  -999.0,9, -999.00,9,    23.2064,3, 20190418,      614, -66.9994,  30.0003,     -999.0,     1.0472,2,      0.134,1,      0.063,1,      4.641,1
325020190403,       I06S,      11,          1,         27,         27,2,20190418,       0450,   -66.9994,    30.0003,       4101,   303.1,   1.0729,  34.6841,2,  34.6817,2,    201.9,2,   200.1,2,    93.4,2,   31.89,2,    0.00,2,    2.18,2,   0.932,2,   0.510,2,   0.5001,2,  2253.9,2, 2349.31,2,   7.5775,2, -999.00,9,  -999.0,9,  -999.0,    0.05,2,  -999.0,9, -999.00,9,    24.6845,3, 20190418,      616, -66.9994,  30.0003,      25.05,     1.0709,2,      0.136,1,      0.063,1,      4.638,1
325020190403,       I06S,      11,          1,         28,         28,2,20190418,       0450,   -66.9994,    30.0003,       4101,   252.5,   1.0388,  34.6721,2,  34.6703,2,    200.2,2,   200.3,2,    92.4,2,   32.22,2,    0.00,2,    2.19,2,   1.036,2,   0.561,2,   0.5151,2,  -999.0,9, -999.00,9,-999.0000,9, -999.00,9,  -999.0,9,  -999.0, -999.00,9,  -999.0,9, -999.00,9,    25.2544,3, 20190418,      617, -66.9994,  30.0003,     -999.0,      1.038,2,      0.142,1,      0.065,1,      4.635,1
325020190403,       I06S,      11,          1,         29,         29,2,20190418,       0450,   -66.9994,    30.0003,       4101,   202.8,   0.7643,  34.6323,2,  34.6327,2,    208.0,2,   207.0,2,    89.3,2,   32.50,2,    0.00,2,    2.21,2,   1.485,2,   0.796,2,   0.7722,2,  2253.9,2, 2343.40,2,   7.5674,2, -999.00,9,  -999.0,9,  -999.0,    0.05,2,  -999.0,9, -999.00,9,     25.599,3, 20190418,      619, -66.9994,  30.0003,      25.01,     0.7718,2,      0.140,1,      0.064,1,      4.637,1
325020190403,       I06S,      11,          1,         30,         30,2,20190418,       0450,   -66.9994,    30.0003,       4101,   152.0,   0.5258,  34.5913,2,  34.5926,2,    217.2,3,   214.9,2,    85.3,2,   32.60,2,    0.01,2,    2.21,2,   1.903,2,   1.012,2,   0.9640,2,  -999.0,9, -999.00,9,-999.0000,9, -999.00,9,  -999.0,9,  -999.0,    0.03,2,  -999.0,9, -999.00,9,    25.8246,3, 20190418,      621, -66.9994,  30.0002,     -999.0,     0.5294,2,      0.149,1,      0.077,1,      4.630,1
325020190403,       I06S,      11,          1,         31,         31,2,20190418,       0450,   -66.9994,    30.0003,       4101,   126.1,   0.0652,  34.5323,2,  34.5307,2,    240.2,3,   234.2,2,    80.0,2,   32.09,2,    0.04,2,    2.18,2,   2.643,2,   1.392,2,   1.5461,2,  2244.2,2, 2337.77,2,   7.5725,2, -999.00,9,  -999.0,9,  -999.0,    0.11,2,  -999.0,9, -999.00,9,    24.9958,3, 20190418,      622, -66.9994,  30.0003,      25.02,     0.0632,2,      0.149,1,      0.091,1,      4.626,1
325020190403,       I06S,      11,          1,         32,         32,2,20190418,       0450,   -66.9994,    30.0003,       4101,   101.3,  -0.6105,  34.4591,2,  34.4699,2,    262.1,3,   257.3,2,    74.4,2,   31.60,2,    0.04,2,    2.15,2,   3.397,2,   1.783,2,   2.0549,2,  -999.0,9, -999.00,9,-999.0000,9, -999.00,9,  -999.0,9,  -999.0,   -0.06,2,  -999.0,9, -999.00,9,    24.8838,3, 20190418,      623, -66.9994,  30.0003,     -999.0,     -0.555,3,      0.152,1,      0.099,1,      4.625,1
325020190403,       I06S,      11,          1,         33,         33,2,20190418,       0450,   -66.9994,    30.0003,       4101,    75.5,  -0.7648,  34.4157,2,  34.4099,2,    277.6,3,   271.9,2,    70.2,2,   30.91,2,    0.14,2,    2.11,2,   3.822,2,   2.010,2,   2.2961,2,  2232.1,2, 2336.77,2,   7.5897,2, -999.00,9,  -999.0,9,  -999.0,   -0.03,2,  -999.0,9, -999.00,9,    24.5912,3, 20190418,      625, -66.9994,  30.0003,      25.03,    -0.7667,2,      0.171,1,      0.152,1,      4.599,1
325020190403,       I06S,      11,          1,         34,         34,2,20190418,       0450,   -66.9994,    30.0003,       4101,    50.6,  -1.1892,  34.0301,3,  34.0588,2,    342.2,3,   336.6,2,    51.0,2,   27.26,2,    0.17,2,    1.82,2,   5.796,2,   3.042,2,   3.6711,2,  -999.0,9, -999.00,9,-999.0000,9, -999.00,9,  -999.0,9,  -999.0,   -0.29,2,  -999.0,9, -999.00,9,    21.4729,3, 20190418,      626, -66.9994,  30.0003,     -999.0,    -1.1834,2,      0.220,1,      0.280,1,      4.555,1
325020190403,       I06S,      11,          1,         35,         35,2,20190418,       0450,   -66.9994,    30.0003,       4101,    25.5,  -1.2069,  34.0176,2,   34.017,2,    342.9,2,   343.0,2,    49.3,2,   26.88,2,    0.18,2,    1.77,2,   6.072,2,   3.163,2,   3.9536,2,  -999.0,9, 2304.60,2,   7.6584,2, -999.00,9,  -999.0,9,  -999.0,   -0.13,2,  -999.0,9, -999.00,9,    20.2918,3, 20190418,      627, -66.9994,  30.0003,      25.01,    -1.2068,2,      0.219,1,      0.266,1,      4.551,1
325020190403,       I06S,      11,          1,         36,         36,2,20190418,       0450,   -66.9994,    30.0003,       4101,     4.9,  -1.2095,  34.0173,2,  34.0156,2,    342.3,2,   344.1,2,    49.4,2,   26.90,2,    0.18,2,    1.79,2,   6.086,2,   3.186,2,   3.8849,2,  2187.4,2, 2305.87,2,   7.6594,2, -999.00,9,  -999.0,9,  -999.0,   -0.28,6,  -999.0,9, -999.00,9,    20.8418,3, 20190418,      628, -66.9994,  30.0003,      25.06,    -1.2097,2,      0.219,1,      0.281,1,      4.552,1