BOTTLE,20210804CCHSIOCBG
EXPOCODE,SECT_ID,STNNBR,CASTNO,SAMPNO,BTLNBR,BTLNBR_FLAG_W,DATE,TIME,LATITUDE,LONGITUDE,DEPTH,CTDPRS,CTDTMP,CTDSAL,CTDSAL_FLAG_W,SALNTY,SALNTY_FLAG_W,CTDOXY,CTDOXY_FLAG_W,OXYGEN,OXYGEN_FLAG_W,SILCAT,SILCAT_FLAG_W,NITRAT,NITRAT_FLAG_W,NITRIT,NITRIT_FLAG_W,PHSPHT,PHSPHT_FLAG_W,CFC-11,CFC-11_FLAG_W,CFC-12,CFC-12_FLAG_W,SF6,SF6_FLAG_W,TCARBN,TCARBN_FLAG_W,ALKALI,ALKALI_FLAG_W,PH_TOT,PH_TOT_FLAG_W,DELC13,DELC13_FLAG_W,DELC14,DELC14_FLAG_W,C14ERR,DELO18,DELO18_FLAG_W,DOC,DOC_FLAG_W,TDN,TDN_FLAG_W,N2O,N2O_FLAG_W,BTL_DATE,BTL_TIME,BTL_LAT,BTL_LON,PH_TMP,REFTMP,REFTMP_FLAG_W,CTDBACKSCATTER,CTDBACKSCATTER_FLAG_W,CTDFLUOR,CTDFLUOR_FLAG_W,CTDXMISS,CTDXMISS_FLAG_W
,,,,,,,,,,,METERS,DBAR,ITS-90,PSS-78,,PSS-78,,UMOL/KG,,UMOL/KG,,UMOL/KG,,UMOL/KG,,UMOL/KG,,UMOL/KG,,PMOL/KG,,PMOL/KG,,FMOL/KG,,UMOL/KG,,UMOL/KG,,,,/MILLE,,/MILLE,,/MILLE,/MILLE,,UMOL/KG,,UMOL/KG,,NMOL/KG,,,,,,DEG C,ITS-90,,VOLTS,,VOLTS,,VOLTS,
325020190403,       I06S,      34,          1,          1,          1,2,20190425,       0924,    -55.504,    29.9958,       5462,  5573.4,  -0.2073,  34.6499,2,  34.6497,2,    243.0,2,   243.2,2,   134.3,2,   32.27,2,    0.00,2,    2.24,2,   0.989,2,   0.428,2,   0.2588,2,  2252.1,6, 2352.96,2,   7.6014,2,    0.63,2,  -157.5,2,     2.0,    0.37,6,    39.6,2,   34.49,2,    20.3507,3, 20190425,      924, -55.5040,  29.9958,      25.05,     -999.0,9,      0.169,1,      0.060,1,      4.674,1
325020190403,       I06S,      34,          1,          2,          2,2,20190425,       0924,    -55.504,    29.9958,       5462,  5502.3,  -0.1998,  34.6506,2,  34.6507,2,    242.7,2,   242.9,2,   132.2,2,   32.30,2,    0.00,2,    2.26,2,   0.932,2,   0.404,2,   0.2103,2,  -999.0,9, -999.00,9,-999.0000,9,    0.64,2,  -152.9,2,     2.0,    0.04,6,    39.0,2,   35.36,2,    20.7881,3, 20190425,      927, -55.5040,  29.9957,     -999.0,     -999.0,9,      0.141,1,      0.061,1,      4.689,1
325020190403,       I06S,      34,          1,          3,          3,2,20190425,       0924,    -55.504,    29.9958,       5462,  5424.8,  -0.1948,  34.6511,2,  34.6505,2,    241.8,2,   242.3,2,   130.2,2,   32.26,2,    0.00,2,    2.24,2,   0.931,2,   0.395,2,   0.1561,2,  2254.4,2, 2353.03,2,   7.6004,2,    0.64,2,  -157.1,2,     2.3,    0.03,2,  -999.0,9, -999.00,9,    20.6509,3, 20190425,      930, -55.5041,  29.9956,      25.06,     -999.0,9,      0.129,1,      0.061,1,      4.688,1
325020190403,       I06S,      34,          1,          4,          4,2,20190425,       0924,    -55.504,    29.9958,       5462,  5010.5,  -0.1665,  34.6539,2,  34.6535,2,    239.1,2,   239.6,2,   129.8,2,   32.30,2,    0.00,2,    2.26,2,   0.866,2,   0.367,2,   0.1567,2,  -999.0,9, -999.00,9,-999.0000,9,    0.62,2,  -159.8,2,     2.5,     0.0,2,    39.8,2,   34.84,2,    20.6619,3, 20190425,      940, -55.5045,  29.9949,     -999.0,     -999.0,9,      0.124,1,      0.061,1,      4.686,1
325020190403,       I06S,      34,          1,          5,          5,2,20190425,       0924,    -55.504,    29.9958,       5462,  4597.5,  -0.1457,  34.6563,2,   34.656,2,    236.5,2,   236.7,2,   130.7,2,   32.39,2,    0.00,2,    2.26,2,   0.789,2,   0.343,2,   0.1548,2,  2253.5,2, 2353.75,2,   7.5971,2,    0.62,2,  -155.6,2,     2.1,    0.18,2,    40.6,2,   34.58,2,    20.7088,3, 20190425,      948, -55.5049,  29.9942,      25.05,     -999.0,9,      0.125,1,      0.059,1,      4.686,1
325020190403,       I06S,      34,          1,          6,          6,2,20190425,       0924,    -55.504,    29.9958,       5462,  4189.0,  -0.1128,  34.6588,2,  34.6586,2,    233.0,2,   233.9,2,   128.9,2,   32.43,2,    0.00,2,    2.26,2,   0.776,2,   0.337,2,   0.1788,2,  2254.9,2, 2358.30,2,   7.5952,2,    0.54,2,  -157.4,2,     2.7, -999.00,9,  -999.0,9, -999.00,9,    21.0771,3, 20190425,      956, -55.5049,  29.9940,      25.05,     -999.0,9,      0.125,1,      0.061,1,      4.686,1
325020190403,       I06S,      34,          1,          7,          7,2,20190425,       0924,    -55.504,    29.9958,       5462,  3776.4,  -0.0427,  34.6624,2,  34.6629,2,    229.0,2,   229.4,2,   129.0,2,   32.47,2,    0.00,2,    2.27,2,   0.736,2,   0.317,2,   0.1598,2,  -999.0,9, -999.00,9,-999.0000,9,    0.49,2,  -157.8,2,     2.0,   -0.05,2,    39.4,2,   33.81,2,    21.0997,3, 20190425,     1005, -55.5050,  29.9940,     -999.0,     -999.0,9,      0.125,1,      0.060,1,      4.685,1
325020190403,       I06S,      34,          1,          8,          8,2,20190425,       0924,    -55.504,    29.9958,       5462,  3367.6,   0.0832,  34.6681,2,  34.6682,2,    222.8,2,   223.5,2,   128.2,2,   32.60,2,    0.00,2,    2.26,2,   0.658,2,   0.291,2,   0.1739,2,  -999.0,9, -999.00,9,-999.0000,9,    0.46,2,  -161.5,2,     1.9, -999.00,9,    39.2,2,   34.29,2,     20.713,3, 20190425,     1013, -55.5049,  29.9938,     -999.0,     -999.0,9,      0.125,1,      0.062,1,      4.686,1
325020190403,       I06S,      34,          1,          9,          9,2,20190425,       0924,    -55.504,    29.9958,       5462,  2968.9,   0.2447,  34.6767,3,  34.6688,3,    217.3,2,   217.0,2,   127.0,2,   32.64,2,    0.00,2,    2.28,2,   0.594,2,   0.269,2,   0.1513,2,  2261.0,2, 2356.37,2,   7.5865,2,    0.44,2,  -159.2,2,     2.4,     0.1,2,  -999.0,9, -999.00,9,    21.1768,3, 20190425,     1021, -55.5050,  29.9940,      25.06,     -999.0,9,      0.125,1,      0.061,1,      4.686,1
325020190403,       I06S,      34,          1,         10,         10,2,20190425,       0924,    -55.504,    29.9958,       5462,  2715.2,   0.3602,  34.6821,3,  34.6762,3,    213.9,2,   213.1,2,   125.7,2,   32.57,2,    0.00,2,    2.27,2,   0.564,2,   0.245,2,   0.1946,2,  -999.0,9, -999.00,9,-999.0000,9,    0.44,2,  -162.0,2,     1.8, -999.00,9,    37.6,2,   32.06,2,    21.4971,3, 20190425,     1026, -55.5051,  29.9935,     -999.0,     -999.0,9,      0.124,1,      0.062,1,      4.687,1
325020190403,       I06S,      34,          1,         11,         11,2,20190425,       0924,    -55.504,    29.9958,       5462,  2459.1,   0.4397,  34.6857,3,  34.6813,3,    209.6,2,   210.6,2,   124.0,2,   32.51,2,    0.00,2,    2.26,2,   0.531,2,   0.236,2,   0.1853,2,  2261.9,2, 2355.24,2,   7.5859,2,    0.39,2,  -166.3,3,     2.2,    0.06,2,    41.5,2,   33.97,2,    21.3993,3, 20190425,     1032, -55.5051,  29.9936,      25.06,     -999.0,9,      0.127,1,      0.061,1,      4.688,1
325020190403,       I06S,      34,          1,         12,         12,2,20190425,       0924,    -55.504,    29.9958,       5462,  2204.6,   0.5361,  34.6902,3,  34.6854,3,    206.4,2,   207.7,2,   121.0,2,   32.42,2,    0.00,2,    2.24,2,   0.510,2,   0.234,2,   0.2039,2,  -999.0,9, -999.00,9,-999.0000,9, -999.00,9,  -999.0,9,  -999.0, -999.00,9,  -999.0,9, -999.00,9,    20.7395,3, 20190425,     1037, -55.5051,  29.9936,     -999.0,     -999.0,9,      0.127,1,      0.062,1,      4.689,1
325020190403,       I06S,      34,          1,         13,         13,2,20190425,       0924,    -55.504,    29.9958,       5462,  1972.4,   0.6527,  34.6957,2,   34.696,2,    204.6,2,   205.9,2,   117.1,2,   32.25,2,    0.00,2,    2.23,2,   0.504,2,   0.230,2,   0.2108,2,  2261.2,2, 2357.96,2,   7.5878,2,    0.41,2,  -161.7,2,     3.0,    0.04,2,    40.8,2,   34.30,2,    20.8364,3, 20190425,     1042, -55.5050,  29.9935,      25.07,     -999.0,9,      0.127,1,      0.060,1,      4.690,1
325020190403,       I06S,      34,          1,         14,         14,2,20190425,       0924,    -55.504,    29.9958,       5462,  1767.4,   0.7704,   34.702,2,  34.7025,2,    204.2,2,   204.9,2,   113.3,2,   32.07,2,    0.00,2,    2.20,2,   0.477,2,   0.216,2,   0.1851,2,  2260.4,2, 2356.26,2,   7.5914,2,    0.32,2,  -162.2,2,     1.7, -999.00,9,    38.5,2,   32.77,2,    20.7085,3, 20190425,     1047, -55.5050,  29.9936,      25.10,     -999.0,9,      0.127,1,      0.062,1,      4.690,1
325020190403,       I06S,      34,          1,         15,         15,2,20190425,       0924,    -55.504,    29.9958,       5462,  1562.6,   0.9009,  34.7061,2,  34.7058,2,    202.5,2,   203.1,2,   109.6,2,   31.81,2,    0.00,2,    2.19,2,   0.477,2,   0.220,2,   0.1737,2,  -999.0,9, -999.00,9,-999.0000,9,    0.35,2,  -159.1,2,     2.0,    0.11,2,  -999.0,9, -999.00,9,    20.3959,3, 20190425,     1051, -55.5051,  29.9936,     -999.0,     -999.0,9,      0.129,1,      0.062,1,      4.692,1
325020190403,       I06S,      34,          1,         16,         16,2,20190425,       0924,    -55.504,    29.9958,       5462,  1390.0,   1.0912,  34.7172,2,   34.717,2,    198.7,3,   202.1,2,   104.3,2,   31.34,2,    0.00,2,    2.18,2,   0.411,2,   0.189,2,   0.1508,2,  2257.7,2, 2355.59,2,   7.5984,2,    0.37,2,  -156.6,2,     2.0, -999.00,9,    40.5,2,   32.01,2,    21.0486,3, 20190425,     1055, -55.5051,  29.9935,      25.11,     -999.0,9,      0.128,1,      0.062,1,      4.692,1
325020190403,       I06S,      34,          1,         17,         17,2,20190425,       0924,    -55.504,    29.9958,       5462,  1289.3,    1.114,  34.7092,2,   34.709,2,    198.6,2,   199.0,2,   104.1,2,   31.66,2,    0.00,2,    2.17,2,   0.484,2,   0.222,2,   0.2108,2,  -999.0,9, -999.00,9,-999.0000,9,    0.50,2,  -157.3,2,     2.0,    0.14,2,    37.4,2,   32.50,2,     21.057,3, 20190425,     1058, -55.5050,  29.9936,     -999.0,     -999.0,9,      0.129,1,      0.062,1,      4.694,1
325020190403,       I06S,      34,          1,         18,         18,2,20190425,       0924,    -55.504,    29.9958,       5462,  1188.2,   1.3388,  34.7271,2,  34.7272,2,    199.0,2,   198.8,2,    97.7,2,   30.99,2,    0.00,2,    2.12,2,   0.367,2,   0.167,2,   0.1786,2,  2252.7,2, 2352.28,2,   7.6003,2, -999.00,9,  -999.0,9,  -999.0, -999.00,9,  -999.0,9, -999.00,9,    20.4308,3, 20190425,     1101, -55.5049,  29.9937,      25.12,     -999.0,9,      0.133,1,      0.061,1,      4.695,1
325020190403,       I06S,      34,          1,         19,         19,2,20190425,       0924,    -55.504,    29.9958,       5462,  1084.3,    1.414,  34.7227,2,  34.7221,2,    195.5,2,   195.9,2,    96.7,2,   31.17,2,    0.00,2,    2.14,2,   0.394,2,   0.182,2,   0.1740,2,  -999.0,9, -999.00,9,-999.0000,9,    0.58,2,  -154.5,2,     2.2,    0.15,6,    40.4,2,   33.11,2,    20.6259,3, 20190425,     1104, -55.5049,  29.9937,     -999.0,     -999.0,9,      0.130,1,      0.061,1,      4.697,1
325020190403,       I06S,      34,          1,         20,         20,2,20190425,       0924,    -55.504,    29.9958,       5462,   984.3,   1.5942,  34.7339,2,  34.7343,2,    193.9,2,   195.2,2,    91.7,2,   30.73,2,    0.00,2,    2.10,2,   0.337,2,   0.157,2,   0.1606,2,  2249.7,2, 2351.42,2,   7.6005,2,    0.63,2,  -148.7,2,     1.9, -999.00,9,    41.3,2,   32.06,2,    20.8611,3, 20190425,     1106, -55.5050,  29.9938,      25.10,     -999.0,9,      0.131,1,      0.061,1,      4.698,1
325020190403,       I06S,      34,          1,         21,         21,2,20190425,       0924,    -55.504,    29.9958,       5462,   883.5,   1.7274,  34.7352,2,  34.7349,2,    191.8,2,   193.2,2,    88.7,2,   30.69,2,    0.00,2,    2.09,2,   0.327,2,   0.151,2,   0.1575,2,  -999.0,9, -999.00,9,-999.0000,9,    0.59,2,  -153.6,2,     1.9,    0.19,2,  -999.0,9, -999.00,9,    21.3141,3, 20190425,     1109, -55.5051,  29.9937,     -999.0,     -999.0,9,      0.130,1,      0.061,1,      4.699,1
325020190403,       I06S,      34,          1,         22,         22,2,20190425,       0924,    -55.504,    29.9958,       5462,   781.0,   1.7692,  34.7215,2,  34.7213,2,    188.1,2,   188.1,2,    88.7,2,   31.25,2,    0.00,2,    2.14,2,   0.386,2,   0.181,2,   0.1372,2,  2252.9,2, 2347.61,2,   7.5882,2,    0.46,2,  -153.3,2,     1.8, -999.00,9,    42.3,2,   32.43,2,    21.5454,3, 20190425,     1112, -55.5051,  29.9935,      25.13,     -999.0,9,      0.134,1,      0.061,1,      4.701,1
325020190403,       I06S,      34,          1,         23,         23,2,20190425,       0924,    -55.504,    29.9958,       5462,   679.5,   1.9351,  34.7225,2,  34.7223,2,    184.9,2,   185.5,2,    85.5,2,   31.27,2,    0.00,2,    2.13,2,   0.349,2,   0.158,2,   0.1489,2,  -999.0,9, -999.00,9,-999.0000,9,    0.46,2,  -150.6,2,     1.8,    0.35,2,    41.1,2,   32.20,2,    21.0746,3, 20190425,     1115, -55.5050,  29.9936,     -999.0,     -999.0,9,      0.137,1,      0.060,1,      4.702,1
325020190403,       I06S,      34,          1,         24,         24,2,20190425,       0924,    -55.504,    29.9958,       5462,   577.8,   1.9696,  34.7041,2,  34.7043,2,    180.4,2,   180.6,2,    84.9,2,   31.98,2,    0.00,2,    2.18,2,   0.416,2,   0.194,2,   0.1817,2,  -999.0,5, 2344.91,2,   7.5752,2, -999.00,9,  -999.0,9,  -999.0, -999.00,9,  -999.0,9, -999.00,9,    21.8255,3, 20190425,     1118, -55.5051,  29.9937,      25.12,     -999.0,9,      0.134,1,      0.061,1,      4.702,1
325020190403,       I06S,      34,          1,         25,         25,2,20190425,       0924,    -55.504,    29.9958,       5462,   478.4,   1.9375,  34.6752,2,  34.6743,2,    176.5,2,   176.2,2,    86.1,2,   32.89,2,    0.00,2,    2.24,2,   0.567,2,   0.264,2,   0.2581,2,  2258.2,2, 2343.03,2,   7.5592,2,    0.36,2,  -149.8,2,     1.8,    0.22,2,    40.4,2,   31.41,2,    22.4993,3, 20190425,     1121, -55.5052,  29.9937,      25.12,     -999.0,9,      0.136,1,      0.061,1,      4.703,1
325020190403,       I06S,      34,          1,         26,         26,2,20190425,       0924,    -55.504,    29.9958,       5462,   396.2,   1.9134,  34.6372,2,  34.6368,2,    173.5,3,   176.0,2,    84.0,2,   33.48,2,    0.00,2,    2.28,2,   0.786,2,   0.372,2,   0.3161,2,  2259.6,6, 2339.87,2,   7.5490,2,    0.32,2,  -149.7,2,     1.9, -999.00,9,    42.3,2,   33.92,2,    22.4422,3, 20190425,     1123, -55.5051,  29.9936,      25.11,     -999.0,9,      0.134,1,      0.063,1,      4.702,1
325020190403,       I06S,      34,          1,         27,         27,2,20190425,       0924,    -55.504,    29.9958,       5462,   346.7,   1.8924,  34.6089,2,  34.6091,2,    177.8,3,   173.1,2,    83.3,2,   34.20,2,    0.00,2,    2.34,2,   0.932,2,   0.442,2,   0.3772,2,  2260.4,2, 2341.27,2,   7.5354,2,    0.28,2,  -147.1,2,     1.9,     0.2,2,  -999.0,9, -999.00,9,    22.6426,3, 20190425,     1125, -55.5051,  29.9937,      25.12,     -999.0,9,      0.140,1,      0.062,1,      4.702,1
325020190403,       I06S,      34,          1,         28,         28,2,20190425,       0924,    -55.504,    29.9958,       5462,   296.0,   1.8002,  34.5606,2,  34.5617,2,    179.9,3,   178.1,2,    81.1,2,   34.49,2,    0.00,2,    2.35,2,   1.296,2,   0.611,2,   0.5113,2,  -999.0,9, -999.00,9,-999.0000,9,    0.30,2,  -139.4,2,     2.4, -999.00,9,    40.3,2,   35.41,2,    23.4735,3, 20190425,     1127, -55.5051,  29.9936,     -999.0,     -999.0,9,      0.140,1,      0.062,1,      4.702,1
325020190403,       I06S,      34,          1,         29,         29,2,20190425,       0924,    -55.504,    29.9958,       5462,   244.2,   1.5208,  34.4768,2,  34.4744,2,    194.2,3,   196.6,2,    76.9,2,   34.27,2,    0.00,2,    2.34,2,   2.135,2,   1.002,2,   0.9134,2,  2251.3,2, 2328.47,2,   7.5329,2,    0.41,2,  -136.3,2,     1.9,    0.07,2,    40.2,2,   37.61,3,    22.9223,3, 20190425,     1130, -55.5051,  29.9935,      25.10,     -999.0,9,      0.140,1,      0.062,1,      4.701,1
325020190403,       I06S,      34,          1,         30,         30,2,20190425,       0924,    -55.504,    29.9958,       5462,   196.8,   1.3077,  34.3683,2,  34.3603,2,    243.4,3,   220.6,2,    70.2,2,   33.83,2,    0.00,2,    2.32,2,   3.058,2,   1.474,2,   1.4369,2,  -999.0,9, -999.00,9,-999.0000,9, -999.00,9,  -999.0,9,  -999.0,   -0.04,2,  -999.0,9, -999.00,9,    22.0504,3, 20190425,     1132, -55.5050,  29.9936,     -999.0,     -999.0,9,      0.142,1,      0.061,1,      4.699,1
325020190403,       I06S,      34,          1,         31,         31,2,20190425,       0924,    -55.504,    29.9958,       5462,   144.3,   0.9976,  34.1748,2,  34.1743,2,    295.5,3,   278.2,2,    57.6,2,   30.94,2,    0.13,2,    2.13,2,   4.584,2,   2.311,2,   2.6911,2,  2213.9,2, 2309.09,2,   7.5935,2,    0.75,2,  -120.4,2,     1.9,   -0.07,2,    42.0,2,   35.05,2,    19.5202,3, 20190425,     1134, -55.5051,  29.9935,      25.12,     -999.0,9,      0.136,1,      0.070,1,      4.697,1
325020190403,       I06S,      34,          1,         32,         32,2,20190425,       0924,    -55.504,    29.9958,       5462,    97.9,   1.7063,  34.0138,2,  34.0142,2,    326.1,2,   327.4,2,    41.4,2,   25.83,2,    0.34,2,    1.78,2,   5.515,2,   2.828,2,   3.6708,2,  2180.4,2, 2303.14,2,   7.6779,2,    1.16,2,  -113.0,2,     1.8,   -0.17,2,    41.8,2,   29.17,2,    15.8711,3, 20190425,     1136, -55.5052,  29.9931,      25.10,     -999.0,9,      0.148,1,      0.124,1,      4.698,1
325020190403,       I06S,      34,          1,         33,         33,2,20190425,       0924,    -55.504,    29.9958,       5462,    73.3,    1.707,  34.0138,2,  34.0146,2,    325.3,2,   327.2,2,    41.5,2,   25.80,2,    0.34,2,    1.77,2,   5.516,2,   2.836,2,   3.6883,2,  -999.0,9, -999.00,9,-999.0000,9,    1.12,2,  -108.8,2,     1.8,   -0.12,2,  -999.0,9, -999.00,9,    16.1663,3, 20190425,     1138, -55.5053,  29.9927,     -999.0,     -999.0,9,      0.146,1,      0.122,1,      4.698,1
325020190403,       I06S,      34,          1,         34,         34,2,20190425,       0924,    -55.504,    29.9958,       5462,    49.0,   1.7083,  34.0134,2,  34.0142,2,    325.2,2,   327.7,2,    41.5,2,   25.81,2,    0.34,2,    1.76,2,   5.426,2,   2.844,2,   3.7779,2,  -999.0,9, -999.00,9,-999.0000,9,    1.13,2,  -110.1,2,     1.8,   -0.09,6,    42.3,2,   31.58,2,    15.5264,3, 20190425,     1139, -55.5055,  29.9923,     -999.0,     -999.0,9,      0.149,1,      0.122,1,      4.698,1
325020190403,       I06S,      34,          1,         35,         35,2,20190425,       0924,    -55.504,    29.9958,       5462,    29.6,   1.7079,  34.0135,2,  34.0144,2,    324.4,3,   327.7,2,    41.5,2,   25.71,2,    0.34,2,    1.75,2,   5.492,2,   2.861,2,   3.6763,2,  2181.3,2, 2304.02,2,   7.6789,2,    1.14,2,  -112.8,2,     1.7,   -0.17,2,  -999.0,9, -999.00,9,    15.8098,3, 20190425,     1141, -55.5055,  29.9920,      25.07,     -999.0,9,      0.151,1,      0.116,1,      4.699,1
325020190403,       I06S,      34,          1,         36,         36,2,20190425,       0924,    -55.504,    29.9958,       5462,    12.5,   1.7131,   34.013,2,  34.0142,2,    325.1,2,   327.6,2,    41.4,2,   25.73,2,    0.34,2,    1.77,2,   5.440,2,   2.839,2,   3.7083,2,  2180.9,6, 2305.78,2,   7.6777,2,    1.13,2,  -115.7,2,     1.7,    -0.1,2,    41.0,2,   29.74,2,    15.4099,3, 20190425,     1142, -55.5056,  29.9916,      25.06,     -999.0,9,      0.155,1,      0.101,1,      4.696,1