BOTTLE,20210804CCHSIOCBG
EXPOCODE,SECT_ID,STNNBR,CASTNO,SAMPNO,BTLNBR,BTLNBR_FLAG_W,DATE,TIME,LATITUDE,LONGITUDE,DEPTH,CTDPRS,CTDTMP,CTDSAL,CTDSAL_FLAG_W,SALNTY,SALNTY_FLAG_W,CTDOXY,CTDOXY_FLAG_W,OXYGEN,OXYGEN_FLAG_W,SILCAT,SILCAT_FLAG_W,NITRAT,NITRAT_FLAG_W,NITRIT,NITRIT_FLAG_W,PHSPHT,PHSPHT_FLAG_W,CFC-11,CFC-11_FLAG_W,CFC-12,CFC-12_FLAG_W,SF6,SF6_FLAG_W,TCARBN,TCARBN_FLAG_W,ALKALI,ALKALI_FLAG_W,PH_TOT,PH_TOT_FLAG_W,DELC13,DELC13_FLAG_W,DELC14,DELC14_FLAG_W,C14ERR,DELO18,DELO18_FLAG_W,DOC,DOC_FLAG_W,TDN,TDN_FLAG_W,N2O,N2O_FLAG_W,BTL_DATE,BTL_TIME,BTL_LAT,BTL_LON,PH_TMP,REFTMP,REFTMP_FLAG_W,CTDBACKSCATTER,CTDBACKSCATTER_FLAG_W,CTDFLUOR,CTDFLUOR_FLAG_W,CTDXMISS,CTDXMISS_FLAG_W
,,,,,,,,,,,METERS,DBAR,ITS-90,PSS-78,,PSS-78,,UMOL/KG,,UMOL/KG,,UMOL/KG,,UMOL/KG,,UMOL/KG,,UMOL/KG,,PMOL/KG,,PMOL/KG,,FMOL/KG,,UMOL/KG,,UMOL/KG,,,,/MILLE,,/MILLE,,/MILLE,/MILLE,,UMOL/KG,,UMOL/KG,,NMOL/KG,,,,,,DEG C,ITS-90,,VOLTS,,VOLTS,,VOLTS,
325020190403,       I06S,      40,          1,          1,          1,2,20190429,       2353,   -52.5006,    30.0016,       4510,  4587.6,  -0.1324,  34.6555,2,  34.6556,2,    237.3,2,   236.3,2,   131.7,2,   32.53,2,    0.00,2,    2.25,2,   0.806,2,   0.354,2,   0.2101,2,  2255.3,6, 2353.28,3,   7.5970,2, -999.00,9,  -999.0,9,  -999.0,   -0.04,2,  -999.0,9, -999.00,9,    17.0754,3, 20190429,     2353, -52.5006,  30.0016,      25.08,    -0.1319,2,      0.137,1,      0.062,1,      4.708,1
325020190403,       I06S,      40,          1,          2,          2,2,20190429,       2353,   -52.5006,    30.0016,       4510,  4539.6,  -0.1369,  34.6555,3,  34.6578,2,    236.0,2,   236.4,2,   131.7,2,   32.49,2,    0.00,2,    2.25,2,-999.000,9,-999.000,9,-999.0000,9,  -999.0,9, -999.00,9,-999.0000,9, -999.00,9,  -999.0,9,  -999.0,   -0.09,2,  -999.0,9, -999.00,9,     -999.0,9, 20190429,     2355, -52.5006,  30.0016,     -999.0,    -0.1365,2,      0.150,1,      0.060,1,      4.710,1
325020190403,       I06S,      40,          1,          3,          3,2,20190429,       2353,   -52.5006,    30.0016,       4510,  4495.8,  -0.1389,  34.6558,2,  34.6558,2,    235.9,2,   236.3,2,   131.6,2,   32.49,2,    0.00,2,    2.25,2,   0.793,2,   0.345,2,   0.1289,2,  -999.0,9, -999.00,9,-999.0000,9, -999.00,9,  -999.0,9,  -999.0,   -0.09,2,  -999.0,9, -999.00,9,    17.8738,3, 20190429,     2357, -52.5006,  30.0016,     -999.0,    -0.1381,2,      0.135,1,      0.060,1,      4.711,1
325020190403,       I06S,      40,          1,          4,          4,2,20190429,       2353,   -52.5006,    30.0016,       4510,  4185.8,  -0.1286,  34.6576,2,   34.658,2,    234.6,2,   234.6,2,   131.5,2,   32.54,2,    0.00,2,    2.24,2,-999.000,9,-999.000,9,-999.0000,9,  2255.0,2, 2358.67,2,   7.5962,2, -999.00,9,  -999.0,9,  -999.0,   -0.04,2,  -999.0,9, -999.00,9,     -999.0,9, 20190430,        3, -52.5006,  30.0015,      25.06,    -0.1281,2,      0.133,1,      0.060,1,      4.718,1
325020190403,       I06S,      40,          1,          5,          5,2,20190429,       2353,   -52.5006,    30.0016,       4510,  3876.8,  -0.0619,  34.6606,2,  34.6609,2,    230.7,2,   231.1,2,   130.2,2,   32.60,2,    0.00,2,    2.24,2,   0.737,2,   0.321,2,   0.1460,2,  -999.0,9, -999.00,9,-999.0000,9, -999.00,9,  -999.0,9,  -999.0,   -0.05,2,  -999.0,9, -999.00,9,    18.8642,3, 20190430,        9, -52.5006,  30.0016,     -999.0,    -0.0617,2,      0.124,1,      0.059,1,      4.724,1
325020190403,       I06S,      40,          1,          6,          6,2,20190429,       2353,   -52.5006,    30.0016,       4510,  3567.4,   0.0794,  34.6671,2,  34.6688,2,    225.1,2,   224.9,2,   129.2,2,   32.67,2,    0.00,2,    2.24,2,-999.000,9,-999.000,9,-999.0000,9,  2260.3,2, 2358.95,2,   7.5907,2, -999.00,9,  -999.0,9,  -999.0,   -0.05,2,  -999.0,9, -999.00,9,     -999.0,9, 20190430,       15, -52.5006,  30.0015,      25.08,     0.0796,2,      0.126,1,      0.060,1,      4.725,1
325020190403,       I06S,      40,          1,          7,          7,2,20190429,       2353,   -52.5006,    30.0016,       4510,  3261.2,   0.3075,   34.677,2,  34.6774,2,    216.7,2,   216.7,2,   127.4,2,   32.71,2,    0.00,2,    2.26,2,   0.574,2,   0.250,2,   0.1106,2,  2261.3,2, 2357.23,2,   7.5891,2, -999.00,9,  -999.0,9,  -999.0, -999.00,9,  -999.0,9, -999.00,9,    19.3188,3, 20190430,       21, -52.5006,  30.0016,      25.03,      0.307,2,      0.124,1,      0.059,1,      4.725,1
325020190403,       I06S,      40,          1,          8,          8,2,20190429,       2353,   -52.5006,    30.0016,       4510,  2969.6,   0.5007,  34.6863,2,  34.6874,2,    211.5,2,   211.4,2,   123.9,2,   32.65,2,    0.00,2,    2.25,2,-999.000,9,-999.000,9,-999.0000,9,  2262.6,2, 2362.84,3,   7.5885,2, -999.00,9,  -999.0,9,  -999.0,    0.03,2,  -999.0,9, -999.00,9,     -999.0,9, 20190430,       26, -52.5006,  30.0016,      25.07,     0.5008,2,      0.125,1,      0.060,1,      4.725,1
325020190403,       I06S,      40,          1,          9,          9,2,20190429,       2353,   -52.5006,    30.0016,       4510,  2712.3,   0.5528,  34.6896,2,  34.6898,2,    209.0,2,   209.9,2,   122.2,2,   32.61,2,    0.00,2,    2.24,2,   0.501,2,   0.223,2,   0.1125,2,  -999.0,9, -999.00,9,-999.0000,9, -999.00,9,  -999.0,9,  -999.0, -999.00,9,  -999.0,9, -999.00,9,    19.3211,3, 20190430,       32, -52.5006,  30.0016,     -999.0,     0.5531,2,      0.126,1,      0.061,1,      4.725,1
325020190403,       I06S,      40,          1,         10,         10,2,20190429,       2353,   -52.5006,    30.0016,       4510,  2458.7,   0.6207,  34.6958,3,  34.6988,3,    207.6,2,   209.2,2,   119.6,2,   32.34,2,    0.00,2,    2.21,2,-999.000,9,-999.000,9,-999.0000,9,  -999.0,9, -999.00,9,-999.0000,9, -999.00,9,  -999.0,9,  -999.0, -999.00,9,  -999.0,9, -999.00,9,     -999.0,9, 20190430,       37, -52.5006,  30.0016,     -999.0,     0.6212,2,      0.126,1,      0.062,1,      4.726,1
325020190403,       I06S,      40,          1,         11,         11,2,20190429,       2353,   -52.5006,    30.0016,       4510,  2204.0,   0.7046,  34.7014,2,  34.7013,2,    208.7,2,   208.9,2,   116.8,2,   31.96,2,    0.00,2,    2.19,2,   0.419,2,   0.183,2,   0.1154,2,  2261.1,2, 2365.40,3,   7.5976,2, -999.00,9,  -999.0,9,  -999.0,    0.06,6,  -999.0,9, -999.00,9,    19.0636,3, 20190430,       41, -52.5006,  30.0016,      25.00,     0.7052,2,      0.124,1,      0.060,1,      4.725,1
325020190403,       I06S,      40,          1,         12,         12,2,20190429,       2353,   -52.5006,    30.0016,       4510,  1969.6,   0.8423,  34.7054,2,  34.7056,2,    205.5,2,   205.7,2,   112.5,2,   31.88,2,    0.00,2,    2.18,2,-999.000,9,-999.000,9,-999.0000,9,  -999.0,9, -999.00,9,-999.0000,9, -999.00,9,  -999.0,9,  -999.0, -999.00,9,  -999.0,9, -999.00,9,     -999.0,9, 20190430,       46, -52.5006,  30.0016,     -999.0,     0.8419,2,      0.126,1,      0.061,1,      4.725,1
325020190403,       I06S,      40,          1,         13,         13,2,20190429,       2353,   -52.5006,    30.0016,       4510,  1765.1,   0.9836,  34.7116,2,  34.7121,2,    205.0,2,   203.5,2,   108.3,2,   31.67,2,    0.00,2,    2.16,2,   0.415,2,   0.190,2,   0.1410,2,  2258.8,2, 2357.75,3,   7.5965,2, -999.00,9,  -999.0,9,  -999.0,    0.09,2,  -999.0,9, -999.00,9,    19.1553,3, 20190430,       51, -52.5006,  30.0016,      25.08,     0.9838,2,      0.127,1,      0.060,1,      4.725,1
325020190403,       I06S,      40,          1,         14,         14,2,20190429,       2353,   -52.5006,    30.0016,       4510,  1593.8,   1.1027,   34.718,2,   34.718,2,    202.0,2,   203.5,2,   105.7,2,   31.39,2,    0.00,2,    2.13,2,-999.000,9,-999.000,9,-999.0000,9,  -999.0,9, -999.00,9,-999.0000,9, -999.00,9,  -999.0,9,  -999.0, -999.00,9,  -999.0,9, -999.00,9,     -999.0,9, 20190430,       55, -52.5006,  30.0016,     -999.0,      1.103,2,      0.128,1,      0.060,1,      4.724,1
325020190403,       I06S,      40,          1,         15,         15,2,20190429,       2353,   -52.5006,    30.0016,       4510,  1489.3,   1.1991,  34.7163,2,  34.7166,2,    198.1,2,   199.1,2,   103.6,2,   31.34,2,    0.00,2,    2.14,2,   0.386,2,   0.177,2,   0.1661,2,  -999.0,9, -999.00,9,-999.0000,9, -999.00,9,  -999.0,9,  -999.0,    0.13,2,  -999.0,9, -999.00,9,    19.0823,3, 20190430,       58, -52.5006,  30.0016,     -999.0,     1.1988,2,      0.129,1,      0.062,1,      4.722,1
325020190403,       I06S,      40,          1,         16,         16,2,20190429,       2353,   -52.5006,    30.0016,       4510,  1388.7,   1.3061,  34.7227,2,  34.7225,2,    198.0,2,   198.4,2,   101.3,2,   31.34,2,    0.00,2,    2.12,2,-999.000,9,-999.000,9,-999.0000,9,  2257.3,2, 2357.45,2,   7.5966,2, -999.00,9,  -999.0,9,  -999.0, -999.00,9,  -999.0,9, -999.00,9,     -999.0,9, 20190430,      100, -52.5006,  30.0016,      25.06,     1.3061,2,      0.127,1,      0.061,1,      4.722,1
325020190403,       I06S,      40,          1,         17,         17,2,20190429,       2353,   -52.5006,    30.0016,       4510,  1289.2,   1.4178,  34.7254,2,  34.7249,2,    195.4,2,   196.3,2,    98.4,2,   31.28,2,    0.00,2,    2.11,2,   0.328,2,   0.152,2,   0.1107,2,  -999.0,9, -999.00,9,-999.0000,9, -999.00,9,  -999.0,9,  -999.0,    0.11,2,  -999.0,9, -999.00,9,    19.2285,3, 20190430,      103, -52.5006,  30.0016,     -999.0,     1.4191,2,      0.131,1,      0.062,1,      4.722,1
325020190403,       I06S,      40,          1,         18,         18,2,20190429,       2353,   -52.5006,    30.0016,       4510,  1186.4,   1.5062,   34.725,2,  34.7245,2,    192.8,2,   194.1,2,    96.5,2,   31.28,2,    0.01,2,    2.10,2,-999.000,9,-999.000,9,-999.0000,9,  -999.0,9, -999.00,9,-999.0000,9, -999.00,9,  -999.0,9,  -999.0, -999.00,9,  -999.0,9, -999.00,9,     -999.0,9, 20190430,      105, -52.5006,  30.0016,     -999.0,      1.511,2,      0.131,1,      0.060,1,      4.720,1
325020190403,       I06S,      40,          1,         19,         19,2,20190429,       2353,   -52.5006,    30.0016,       4510,  1084.9,   1.5917,  34.7217,2,   34.721,2,    190.4,2,   190.8,2,    94.4,2,   31.44,2,    0.00,2,    2.11,2,   0.354,2,   0.170,2,   0.1353,2,  2255.1,2, 2352.13,3,   7.5905,2, -999.00,9,  -999.0,9,  -999.0,    0.12,2,  -999.0,9, -999.00,9,    19.5036,3, 20190430,      108, -52.5006,  30.0015,      25.07,     1.5918,2,      0.129,1,      0.062,1,      4.720,1
325020190403,       I06S,      40,          1,         20,         20,2,20190429,       2353,   -52.5006,    30.0016,       4510,   983.6,    1.717,  34.7175,2,  34.7174,2,    187.1,2,   187.9,2,    91.4,2,   31.57,2,    0.00,2,    2.13,2,-999.000,9,-999.000,9,-999.0000,9,  -999.0,9, -999.00,9,-999.0000,9, -999.00,9,  -999.0,9,  -999.0, -999.00,9,  -999.0,9, -999.00,9,     -999.0,9, 20190430,      110, -52.5006,  30.0016,     -999.0,     1.7175,2,      0.131,1,      0.061,1,      4.721,1
325020190403,       I06S,      40,          1,         21,         21,2,20190429,       2353,   -52.5006,    30.0016,       4510,   881.6,   1.7621,  34.7017,2,  34.7015,2,    182.9,2,   183.6,2,    90.7,2,   32.12,2,    0.00,2,    2.17,2,   0.450,2,   0.213,2,   0.2082,2,  2256.4,2, 2349.83,2,   7.5750,2, -999.00,9,  -999.0,9,  -999.0,    0.14,2,  -999.0,9, -999.00,9,    19.7589,3, 20190430,      113, -52.5006,  30.0016,      25.10,     1.7605,2,      0.134,1,      0.061,1,      4.719,1
325020190403,       I06S,      40,          1,         22,         22,2,20190429,       2353,   -52.5006,    30.0016,       4510,   781.4,   1.7731,  34.6733,2,  34.6729,2,    178.8,2,   178.1,2,    90.3,2,   33.09,2,    0.00,2,    2.23,2,-999.000,9,-999.000,9,-999.0000,9,  -999.0,9, -999.00,9,-999.0000,9, -999.00,9,  -999.0,9,  -999.0, -999.00,9,  -999.0,9, -999.00,9,     -999.0,9, 20190430,      115, -52.5006,  30.0016,     -999.0,     1.7735,2,      0.135,1,      0.061,1,      4.717,1
325020190403,       I06S,      40,          1,         23,         23,2,20190429,       2353,   -52.5006,    30.0016,       4510,   680.7,   1.8594,  34.6539,2,  34.6535,2,    175.2,2,   174.9,2,    88.0,2,   33.45,2,    0.00,2,    2.27,2,   0.665,2,   0.316,2,   0.2415,2,  2260.6,2, 2344.05,2,   7.5490,2, -999.00,9,  -999.0,9,  -999.0,    0.11,2,  -999.0,9, -999.00,9,    21.4471,3, 20190430,      118, -52.5006,  30.0016,      25.11,     1.8591,2,      0.136,1,      0.061,1,      4.717,1
325020190403,       I06S,      40,          1,         24,         24,2,20190429,       2353,   -52.5006,    30.0016,       4510,   578.0,   1.8756,  34.6198,2,  34.6197,2,    172.9,2,   173.3,2,    85.7,2,   34.05,2,    0.00,2,    2.30,2,-999.000,9,-999.000,9,-999.0000,9,  2260.9,2, 2340.61,2,   7.5381,2, -999.00,9,  -999.0,9,  -999.0, -999.00,9,  -999.0,9, -999.00,9,     -999.0,9, 20190430,      120, -52.5006,  30.0016,      25.06,     1.8748,2,      0.138,1,      0.061,1,      4.715,1
325020190403,       I06S,      40,          1,         25,         25,2,20190429,       2353,   -52.5006,    30.0016,       4510,   475.6,   1.8648,  34.5477,2,   34.545,2,    176.7,3,   179.8,2,    80.1,2,   34.49,2,    0.00,2,    2.32,2,   1.309,2,   0.636,2,   0.5784,2,  -999.0,9, -999.00,9,-999.0000,9, -999.00,9,  -999.0,9,  -999.0,    0.05,2,  -999.0,9, -999.00,9,    22.2056,3, 20190430,      123, -52.5006,  30.0016,     -999.0,     1.8797,2,      0.138,1,      0.063,1,      4.712,1
325020190403,       I06S,      40,          1,         26,         26,2,20190429,       2353,   -52.5006,    30.0016,       4510,   398.2,   1.7329,  34.4636,2,  34.4611,2,    194.9,3,   192.5,2,    74.3,2,   34.61,2,    0.00,2,    2.33,2,-999.000,9,-999.000,9,-999.0000,9,  -999.0,9, -999.00,9,-999.0000,9, -999.00,9,  -999.0,9,  -999.0, -999.00,9,  -999.0,9, -999.00,9,     -999.0,9, 20190430,      125, -52.5006,  30.0016,     -999.0,     1.7249,2,      0.143,1,      0.061,1,      4.715,1
325020190403,       I06S,      40,          1,         27,         27,2,20190429,       2353,   -52.5006,    30.0016,       4510,   345.9,   1.5989,  34.3893,2,  34.3888,2,    212.2,2,   210.4,2,    69.4,2,   34.28,2,    0.00,2,    2.31,2,   2.505,2,   1.271,2,   1.3160,2,  2243.5,2, 2320.35,2,   7.5386,2, -999.00,9,  -999.0,9,  -999.0,     0.0,2,  -999.0,9, -999.00,9,    21.5254,3, 20190430,      127, -52.5006,  30.0016,      25.10,     1.5971,2,      0.134,1,      0.060,1,      4.718,1
325020190403,       I06S,      40,          1,         28,         28,2,20190429,       2353,   -52.5006,    30.0016,       4510,   296.0,   1.4631,  34.3097,2,  34.3082,2,    219.7,3,   232.7,2,    63.5,2,   33.55,2,    0.00,2,    2.26,2,-999.000,9,-999.000,9,-999.0000,9,  -999.0,9, -999.00,9,-999.0000,9, -999.00,9,  -999.0,9,  -999.0, -999.00,9,  -999.0,9, -999.00,9,     -999.0,9, 20190430,      129, -52.5006,  30.0016,     -999.0,      1.457,2,      0.134,1,      0.060,1,      4.722,1
325020190403,       I06S,      40,          1,         29,         29,2,20190429,       2353,   -52.5006,    30.0016,       4510,   246.6,   1.4272,  34.2283,2,  34.2279,2,    253.6,3,   245.7,2,    56.9,2,   33.02,2,    0.00,2,    2.22,2,   3.603,2,   1.878,2,   1.9478,2,  -999.0,9, -999.00,9,-999.0000,9, -999.00,9,  -999.0,9,  -999.0,   -0.02,2,  -999.0,9, -999.00,9,    19.8934,3, 20190430,      130, -52.5006,  30.0016,     -999.0,     1.4248,2,      0.133,1,      0.061,1,      4.722,1
325020190403,       I06S,      40,          1,         30,         30,2,20190429,       2353,   -52.5006,    30.0016,       4510,   195.3,   1.4886,  34.0679,2,  34.0665,2,    307.6,3,   297.5,2,    46.9,2,   29.28,2,    0.21,2,    1.95,2,-999.000,9,-999.000,9,-999.0000,9,  -999.0,9, -999.00,9,-999.0000,9, -999.00,9,  -999.0,9,  -999.0,   -0.14,6,  -999.0,9, -999.00,9,     -999.0,9, 20190430,      132, -52.5006,  30.0016,     -999.0,     1.5152,3,      0.134,1,      0.074,1,      4.715,1
325020190403,       I06S,      40,          1,         31,         31,2,20190429,       2353,   -52.5006,    30.0016,       4510,   143.1,   2.1344,  33.9589,2,  33.9594,2,    325.0,2,   326.3,2,    38.9,2,   25.63,2,    0.32,2,    1.71,2,   5.056,2,   2.737,2,   3.4397,2,  2177.5,2, 2302.81,2,   7.6795,2, -999.00,9,  -999.0,9,  -999.0,   -0.22,2,  -999.0,9, -999.00,9,    17.4502,3, 20190430,      134, -52.5006,  30.0016,      25.07,     2.1337,2,      0.155,1,      0.123,1,      4.692,1
325020190403,       I06S,      40,          1,         32,         32,2,20190429,       2353,   -52.5006,    30.0016,       4510,    98.7,   2.1499,  33.9569,2,  33.9579,2,    323.4,2,   326.1,2,    38.6,2,   25.56,2,    0.31,2,    1.71,2,-999.000,9,-999.000,9,-999.0000,9,  -999.0,9, -999.00,9,-999.0000,9, -999.00,9,  -999.0,9,  -999.0,   -0.25,2,  -999.0,9, -999.00,9,     -999.0,9, 20190430,      135, -52.5006,  30.0016,     -999.0,       2.15,2,      0.144,1,      0.125,1,      4.691,1
325020190403,       I06S,      40,          1,         33,         33,2,20190429,       2353,   -52.5006,    30.0016,       4510,    72.5,   2.1617,   33.955,2,  33.9551,2,    323.2,2,   325.9,2,    38.4,2,   25.50,2,    0.31,2,    1.71,2,   5.073,2,   2.748,2,   3.5226,2,  2176.6,2, 2300.58,2,   7.6798,2, -999.00,9,  -999.0,9,  -999.0,   -0.24,2,  -999.0,9, -999.00,9,    13.1714,3, 20190430,      137, -52.5006,  30.0015,      25.12,     2.1613,2,      0.144,1,      0.121,1,      4.692,1
325020190403,       I06S,      40,          1,         34,         34,2,20190429,       2353,   -52.5006,    30.0016,       4510,    48.1,   2.2036,  33.9488,2,  33.9485,2,    325.1,2,   326.2,2,    37.7,2,   25.40,2,    0.31,2,    1.70,2,-999.000,9,-999.000,9,-999.0000,9,  -999.0,9, -999.00,9,-999.0000,9, -999.00,9,  -999.0,9,  -999.0,   -0.25,2,  -999.0,9, -999.00,9,     -999.0,9, 20190430,      138, -52.5006,  30.0016,     -999.0,     2.2066,2,      0.144,1,      0.124,1,      4.691,1
325020190403,       I06S,      40,          1,         35,         35,2,20190429,       2353,   -52.5006,    30.0016,       4510,    27.5,   2.2097,  33.9472,2,  33.9483,2,    324.7,2,   326.2,2,    37.6,2,   25.40,2,    0.31,2,    1.68,2,   5.048,2,   2.767,2,   3.5511,2,  -999.0,9, -999.00,9,-999.0000,9, -999.00,9,  -999.0,9,  -999.0,   -0.15,2,  -999.0,9, -999.00,9,    13.0467,3, 20190430,      139, -52.5006,  30.0016,     -999.0,     2.2089,2,      0.143,1,      0.119,1,      4.691,1
325020190403,       I06S,      40,          1,         36,         36,2,20190429,       2353,   -52.5006,    30.0016,       4510,    11.3,    2.214,  33.9468,2,  33.9477,2,    324.0,2,   326.3,2,    37.7,2,   25.25,2,    0.32,2,    1.70,2,   5.051,2,   2.759,2,   3.5843,2,  2175.4,6, 2300.30,2,   7.6833,2, -999.00,9,  -999.0,9,  -999.0,   -0.16,2,  -999.0,9, -999.00,9,    13.1815,3, 20190430,      141, -52.5006,  30.0016,      25.04,      2.213,2,      0.144,1,      0.128,1,      4.688,1