BOTTLE,20210804CCHSIOCBG
EXPOCODE,SECT_ID,STNNBR,CASTNO,SAMPNO,BTLNBR,BTLNBR_FLAG_W,DATE,TIME,LATITUDE,LONGITUDE,DEPTH,CTDPRS,CTDTMP,CTDSAL,CTDSAL_FLAG_W,SALNTY,SALNTY_FLAG_W,CTDOXY,CTDOXY_FLAG_W,OXYGEN,OXYGEN_FLAG_W,SILCAT,SILCAT_FLAG_W,NITRAT,NITRAT_FLAG_W,NITRIT,NITRIT_FLAG_W,PHSPHT,PHSPHT_FLAG_W,CFC-11,CFC-11_FLAG_W,CFC-12,CFC-12_FLAG_W,SF6,SF6_FLAG_W,TCARBN,TCARBN_FLAG_W,ALKALI,ALKALI_FLAG_W,PH_TOT,PH_TOT_FLAG_W,DELC13,DELC13_FLAG_W,DELC14,DELC14_FLAG_W,C14ERR,DELO18,DELO18_FLAG_W,DOC,DOC_FLAG_W,TDN,TDN_FLAG_W,N2O,N2O_FLAG_W,BTL_DATE,BTL_TIME,BTL_LAT,BTL_LON,PH_TMP,REFTMP,REFTMP_FLAG_W,CTDBACKSCATTER,CTDBACKSCATTER_FLAG_W,CTDFLUOR,CTDFLUOR_FLAG_W,CTDXMISS,CTDXMISS_FLAG_W
,,,,,,,,,,,METERS,DBAR,ITS-90,PSS-78,,PSS-78,,UMOL/KG,,UMOL/KG,,UMOL/KG,,UMOL/KG,,UMOL/KG,,UMOL/KG,,PMOL/KG,,PMOL/KG,,FMOL/KG,,UMOL/KG,,UMOL/KG,,,,/MILLE,,/MILLE,,/MILLE,/MILLE,,UMOL/KG,,UMOL/KG,,NMOL/KG,,,,,,DEG C,ITS-90,,VOLTS,,VOLTS,,VOLTS,
325020190403,       I06S,      35,          1,          1,          1,2,20190428,       1325,   -55.0013,    30.0015,       5461,  5579.9,  -0.2063,  34.6496,2,  34.6505,2,    245.9,3,   243.1,2,   133.1,2,   32.45,2,    0.00,2,    2.25,2,   1.019,2,   0.414,2,   0.2537,2,  2253.6,2, 2353.11,2,   7.6019,2, -999.00,9,  -999.0,9,  -999.0,   -0.02,2,    39.9,2,   34.79,2,    17.9486,3, 20190428,     1325, -55.0013,  30.0016,      25.00,    -0.2062,2,      0.193,1,      0.059,1,      4.643,1
325020190403,       I06S,      35,          1,          2,          2,2,20190428,       1325,   -55.0013,    30.0015,       5461,  5506.1,  -0.2157,    34.65,3,  34.6525,2,    240.7,3,   244.2,2,   133.0,2,   32.80,2,    0.00,2,    2.26,2,   0.938,2,   0.409,2,   0.2337,2,  2254.4,2, 2353.97,2,   7.6018,2, -999.00,9,  -999.0,9,  -999.0,     0.0,2,    40.5,2,   31.76,2,    18.0166,3, 20190428,     1328, -55.0013,  30.0017,      25.00,    -0.2155,2,      0.156,1,      0.059,1,      4.678,1
325020190403,       I06S,      35,          1,          3,          3,2,20190428,       1325,   -55.0013,    30.0015,       5461,  5425.7,  -0.1947,  34.6509,2,  34.6517,2,    242.7,2,   242.3,2,   132.6,2,   32.60,2,    0.00,2,    2.26,2,   0.911,2,   0.387,2,   0.1903,2,  2254.4,2, 2354.98,2,   7.6007,2, -999.00,9,  -999.0,9,  -999.0,    0.03,2,  -999.0,9, -999.00,9,    18.0291,3, 20190428,     1331, -55.0014,  30.0018,      25.02,    -0.1944,2,      0.134,1,      0.060,1,      4.707,1
325020190403,       I06S,      35,          1,          4,          4,2,20190428,       1325,   -55.0013,    30.0015,       5461,  5012.9,  -0.1585,   34.654,2,   34.654,2,    239.4,2,   239.2,2,   131.2,2,   32.70,2,    0.00,2,    2.26,2,-999.000,5,-999.000,5,-999.0000,5,  2253.6,2, 2354.15,2,   7.5991,2, -999.00,9,  -999.0,9,  -999.0,    0.02,2,    38.7,2,   34.30,2,     -999.0,9, 20190428,     1340, -55.0014,  30.0018,      25.00,    -0.1586,2,      0.129,1,      0.060,1,      4.711,1
325020190403,       I06S,      35,          1,          5,          5,2,20190428,       1325,   -55.0013,    30.0015,       5461,  4597.9,  -0.1411,  34.6563,2,  34.6564,2,    236.7,2,   236.6,2,   130.8,2,   32.89,2,    0.00,2,    2.27,2,   0.855,2,   0.343,2,   0.1917,2,  2254.6,2, 2354.89,2,   7.5971,2, -999.00,9,  -999.0,9,  -999.0,   -0.05,2,    38.4,2,   31.60,2,    18.2444,3, 20190428,     1349, -55.0014,  30.0016,      25.01,     -0.141,2,      0.124,1,      0.060,1,      4.710,1
325020190403,       I06S,      35,          1,          6,          6,2,20190428,       1325,   -55.0013,    30.0015,       5461,  4183.4,  -0.1047,   34.659,2,  34.6591,2,    232.7,2,   233.6,2,   129.5,2,   32.84,2,    0.00,2,    2.28,2,   0.816,2,   0.333,2,   0.2524,2,  2256.1,2, 2354.66,2,   7.5948,2, -999.00,9,  -999.0,9,  -999.0, -999.00,9,  -999.0,9, -999.00,9,    18.2563,3, 20190428,     1356, -55.0014,  30.0016,      25.03,    -0.1048,2,      0.126,1,      0.060,1,      4.709,1
325020190403,       I06S,      35,          1,          7,          7,2,20190428,       1325,   -55.0013,    30.0015,       5461,  3776.0,  -0.0379,  34.6625,2,  34.6623,2,    228.3,2,   229.4,2,   128.8,2,   32.90,2,    0.00,2,    2.26,2,   0.755,2,   0.310,2,   0.1577,2,  2258.2,2, 2354.87,2,   7.5920,2, -999.00,9,  -999.0,9,  -999.0,    0.08,2,    38.8,2,   34.57,2,    18.4909,3, 20190428,     1404, -55.0014,  30.0015,      25.03,    -0.0378,2,      0.124,1,      0.059,1,      4.709,1
325020190403,       I06S,      35,          1,          8,          8,2,20190428,       1325,   -55.0013,    30.0015,       5461,  3365.4,   0.0657,  34.6668,2,  34.6662,2,    222.7,2,   223.5,2,   127.6,2,   32.49,2,    0.00,2,    2.26,2,   0.706,2,   0.294,2,   0.1804,2,  2260.8,2, 2355.03,2,   7.5875,2, -999.00,9,  -999.0,9,  -999.0, -999.00,9,    38.6,2,   33.88,2,    18.7854,3, 20190428,     1412, -55.0014,  30.0016,      25.01,     0.0647,2,      0.128,1,      0.060,1,      4.709,1
325020190403,       I06S,      35,          1,          9,          9,2,20190428,       1325,   -55.0013,    30.0015,       5461,  3056.5,   0.1718,  34.6719,2,  34.6715,2,    217.5,2,   218.5,2,   127.5,2,   32.13,2,    0.00,2,    2.28,2,   0.633,2,   0.267,2,   0.1694,2,  2261.6,2, 2356.34,2,   7.5853,2, -999.00,9,  -999.0,9,  -999.0,    0.06,2,  -999.0,9, -999.00,9,    18.9117,3, 20190428,     1419, -55.0014,  30.0016,      25.03,     0.1718,2,      0.123,1,      0.059,1,      4.709,1
325020190403,       I06S,      35,          1,         10,         10,2,20190428,       1325,   -55.0013,    30.0015,       5461,  2804.3,   0.2637,  34.6763,2,   34.676,2,    213.7,2,   215.1,2,   126.4,2,   32.29,2,    0.00,2,    2.26,2,   0.589,2,   0.255,2,   0.1731,2,  2263.4,2, 2356.10,2,   7.5842,2, -999.00,9,  -999.0,9,  -999.0, -999.00,9,    38.1,2,   34.31,2,    19.2594,3, 20190428,     1424, -55.0014,  30.0016,      25.03,     0.2647,2,      0.122,1,      0.060,1,      4.709,1
325020190403,       I06S,      35,          1,         11,         11,2,20190428,       1325,   -55.0013,    30.0015,       5461,  2545.7,   0.3581,  34.6809,2,  34.6813,2,    211.0,2,   211.6,2,   125.3,2,   32.27,2,    0.00,2,    2.28,2,   0.567,2,   0.246,2,   0.1193,2,  2264.9,2, 2357.12,2,   7.5830,2, -999.00,9,  -999.0,9,  -999.0,    0.07,6,    39.6,2,   34.72,2,     19.338,3, 20190428,     1429, -55.0014,  30.0016,      25.04,     0.3578,2,      0.124,1,      0.061,1,      4.710,1
325020190403,       I06S,      35,          1,         12,         12,2,20190428,       1325,   -55.0013,    30.0015,       5461,  2290.6,   0.4546,  34.6853,2,  34.6856,2,    207.3,2,   208.8,2,   123.1,2,   32.28,2,    0.00,2,    2.26,2,   0.533,2,   0.234,2,   0.0958,2,  2263.9,2, 2356.83,2,   7.5833,2, -999.00,9,  -999.0,9,  -999.0, -999.00,9,  -999.0,9, -999.00,9,     19.486,3, 20190428,     1434, -55.0014,  30.0016,      25.05,     0.4549,2,      0.125,1,      0.061,1,      4.711,1
325020190403,       I06S,      35,          1,         13,         13,2,20190428,       1325,   -55.0013,    30.0015,       5461,  2034.8,   0.5799,  34.6921,2,  34.6927,2,    206.2,2,   206.7,2,   119.4,2,   32.09,2,    0.00,2,    2.26,2,   0.507,2,   0.232,2,   0.1079,2,  2260.5,2, 2358.14,2,   7.5865,2, -999.00,9,  -999.0,9,  -999.0,    0.26,2,    40.9,2,   34.11,2,    19.3244,3, 20190428,     1439, -55.0014,  30.0015,      25.03,     0.5801,2,      0.125,1,      0.060,1,      4.711,1
325020190403,       I06S,      35,          1,         14,         14,2,20190428,       1325,   -55.0013,    30.0015,       5461,  1831.2,   0.7241,  34.7004,2,  34.7003,2,    205.5,2,   206.1,2,   114.9,2,   31.83,2,    0.00,2,    2.24,2,   0.476,2,   0.225,2,   0.1817,2,  2260.4,2, 2357.85,2,   7.5914,2, -999.00,9,  -999.0,9,  -999.0, -999.00,9,    39.0,2,   34.06,2,     18.918,3, 20190428,     1443, -55.0014,  30.0016,      25.05,      0.724,2,      0.127,1,      0.060,1,      4.712,1
325020190403,       I06S,      35,          1,         15,         15,2,20190428,       1325,   -55.0013,    30.0015,       5461,  1626.1,   0.8975,  34.7107,2,  34.7102,2,    205.5,2,   205.6,2,   109.8,2,   31.39,2,    0.00,2,    2.22,2,   0.412,2,   0.193,2,   0.1857,2,  2257.7,2, 2356.05,2,   7.5976,2, -999.00,9,  -999.0,9,  -999.0,    0.25,2,  -999.0,9, -999.00,9,    18.7017,3, 20190428,     1447, -55.0013,  30.0016,      25.06,     0.8958,2,      0.127,1,      0.061,1,      4.713,1
325020190403,       I06S,      35,          1,         16,         16,2,20190428,       1325,   -55.0013,    30.0015,       5461,  1421.8,   1.0623,  34.7173,2,  34.7164,2,    204.2,2,   202.7,2,   104.6,2,   31.51,2,    0.00,2,    2.20,2,   0.395,2,   0.185,2,   0.1332,2,  2254.9,2, 2354.92,2,   7.5991,2, -999.00,9,  -999.0,9,  -999.0, -999.00,9,    40.7,2,   34.46,2,    18.6241,3, 20190428,     1452, -55.0014,  30.0016,      25.05,     1.0624,2,      0.130,1,      0.060,1,      4.715,1
325020190403,       I06S,      35,          1,         17,         17,2,20190428,       1325,   -55.0013,    30.0015,       5461,  1322.7,   1.1602,  34.7221,2,  34.7237,2,    202.1,2,   201.7,2,   102.4,2,   31.01,2,    0.00,2,    2.18,2,   0.371,2,   0.175,2,   0.0945,2,  2254.9,2, 2355.54,2,   7.6007,2, -999.00,9,  -999.0,9,  -999.0,     0.2,2,    40.9,2,   33.70,2,    18.5733,3, 20190428,     1454, -55.0014,  30.0016,      25.05,     1.1594,2,      0.127,1,      0.060,1,      4.715,1
325020190403,       I06S,      35,          1,         18,         18,2,20190428,       1325,   -55.0013,    30.0015,       5461,  1224.1,   1.2062,  34.7235,2,  34.7231,2,    200.9,2,   200.9,2,   101.1,2,   31.08,2,    0.00,2,    2.18,2,   0.372,2,   0.174,2,   0.1544,2,  2254.3,2, 2356.06,2,   7.6007,2, -999.00,9,  -999.0,9,  -999.0, -999.00,9,  -999.0,9, -999.00,9,     18.792,3, 20190428,     1457, -55.0013,  30.0016,      25.07,     1.2055,2,      0.128,1,      0.062,1,      4.717,1
325020190403,       I06S,      35,          1,         19,         19,2,20190428,       1325,   -55.0013,    30.0015,       5461,  1122.3,   1.3303,  34.7267,2,   34.729,2,    198.5,2,   199.1,2,    97.9,2,   31.00,2,    0.00,2,    2.17,2,   0.366,2,   0.178,2,   0.1268,2,  2253.2,2, 2354.39,2,   7.6001,2, -999.00,9,  -999.0,9,  -999.0,     0.2,2,    44.3,2,   32.54,2,    19.0703,3, 20190428,     1500, -55.0014,  30.0016,      25.04,     1.3294,2,      0.129,1,      0.060,1,      4.718,1
325020190403,       I06S,      35,          1,         20,         20,2,20190428,       1325,   -55.0013,    30.0015,       5461,  1020.4,   1.3437,  34.7177,2,  34.7172,2,    197.0,2,   196.2,2,    97.7,2,   31.27,2,    0.00,2,    2.20,2,   0.435,2,   0.205,2,   0.1591,2,  2257.2,2, 2353.16,2,   7.5938,2, -999.00,9,  -999.0,9,  -999.0, -999.00,9,    56.7,3,   32.76,2,    20.0926,3, 20190428,     1502, -55.0014,  30.0015,      25.08,     1.3421,2,      0.132,1,      0.061,1,      4.718,1
325020190403,       I06S,      35,          1,         21,         21,2,20190428,       1325,   -55.0013,    30.0015,       5461,   918.9,   1.4356,  34.7168,2,  34.7168,2,    194.7,2,   194.0,2,    95.7,2,   31.42,2,    0.00,2,    2.20,2,   0.449,2,   0.216,2,   0.2168,2,  2256.4,2, 2351.45,2,   7.5904,2, -999.00,9,  -999.0,9,  -999.0,    0.16,2,  -999.0,9, -999.00,9,    19.8731,3, 20190428,     1505, -55.0014,  30.0016,      25.03,     1.4356,2,      0.132,1,      0.060,1,      4.718,1
325020190403,       I06S,      35,          1,         22,         22,2,20190428,       1325,   -55.0013,    30.0015,       5461,   819.2,   1.5556,  34.7165,2,  34.7162,2,    191.9,2,   191.4,2,    93.4,2,   31.47,2,    0.00,2,    2.21,2,   0.444,2,   0.211,2,   0.1249,2,  2257.9,2, 2349.23,2,   7.5889,2, -999.00,9,  -999.0,9,  -999.0, -999.00,9,    39.8,2,   33.17,2,    20.1085,3, 20190428,     1508, -55.0014,  30.0015,      25.05,     1.5562,2,      0.132,1,      0.060,1,      4.720,1
325020190403,       I06S,      35,          1,         23,         23,2,20190428,       1325,   -55.0013,    30.0015,       5461,   715.0,   1.6693,  34.7105,2,  34.7113,2,    188.8,2,   188.6,2,    91.0,2,   31.64,2,    0.00,2,    2.22,2,   0.457,2,   0.218,2,   0.1448,2,  2261.4,2, 2347.75,2,   7.5835,2, -999.00,9,  -999.0,9,  -999.0,    0.19,2,    39.1,2,   34.12,2,    20.5762,3, 20190428,     1512, -55.0014,  30.0016,      25.06,     1.6681,2,      0.132,1,      0.062,1,      4.720,1
325020190403,       I06S,      35,          1,         24,         24,2,20190428,       1325,   -55.0013,    30.0015,       5461,   614.9,   1.7384,  34.7021,2,  34.7019,2,    185.7,2,   184.4,2,    89.9,2,   31.94,2,    0.00,2,    2.23,2,   0.497,2,   0.231,2,   0.2308,2,  2259.6,2, 2348.27,2,   7.5758,2, -999.00,9,  -999.0,9,  -999.0, -999.00,9,  -999.0,9, -999.00,9,    20.9292,3, 20190428,     1514, -55.0014,  30.0016,      25.04,     1.7375,2,      0.133,1,      0.062,1,      4.719,1
325020190403,       I06S,      35,          1,         25,         25,2,20190428,       1325,   -55.0013,    30.0015,       5461,   514.4,   1.5507,  34.6511,2,  34.6529,2,    188.6,3,   185.4,2,    90.4,2,   32.92,2,    0.00,2,    2.30,2,   0.905,2,   0.427,2,   0.3971,2,  2259.0,2, 2344.26,2,   7.5588,2, -999.00,9,  -999.0,9,  -999.0,     0.3,6,    42.4,2,   34.43,2,    21.7762,3, 20190428,     1518, -55.0014,  30.0016,      25.03,     1.5545,2,      0.134,1,      0.062,1,      4.716,1
325020190403,       I06S,      35,          1,         26,         26,2,20190428,       1325,   -55.0013,    30.0015,       5461,   409.6,   1.5167,  34.6034,2,  34.6038,2,    196.0,3,   187.8,2,    87.1,2,   33.51,2,    0.00,2,    2.34,2,   1.307,2,   0.615,2,   0.6814,2,  2256.4,2, 2338.42,2,   7.5471,2, -999.00,9,  -999.0,9,  -999.0, -999.00,9,    40.0,2,   34.74,2,    22.6917,3, 20190428,     1520, -55.0014,  30.0015,      25.05,      1.527,2,      0.135,1,      0.061,1,      4.714,1
325020190403,       I06S,      35,          1,         27,         27,2,20190428,       1325,   -55.0013,    30.0015,       5461,   357.7,   1.4777,  34.5631,2,  34.5632,2,    211.5,3,   192.5,2,    84.1,2,   33.73,2,    0.00,2,    2.34,2,   1.579,2,   0.766,2,   0.8151,2,  2253.2,2, 2335.99,2,   7.5433,2, -999.00,9,  -999.0,9,  -999.0,    0.35,6,  -999.0,9, -999.00,9,    22.9837,3, 20190428,     1521, -55.0014,  30.0016,      25.05,      1.483,2,      0.135,1,      0.061,1,      4.715,1
325020190403,       I06S,      35,          1,         28,         28,2,20190428,       1325,   -55.0013,    30.0015,       5461,   308.2,   1.9068,  34.5661,2,  34.5695,2,    220.1,3,   177.3,2,    80.3,2,   34.19,2,    0.00,2,    2.37,2,   1.181,2,   0.555,2,   0.4775,2,  2257.4,2, 2334.73,2,   7.5345,2, -999.00,9,  -999.0,9,  -999.0, -999.00,9,    39.5,2,   34.48,2,    23.7669,3, 20190428,     1522, -55.0014,  30.0016,      25.04,     1.8649,2,      0.139,1,      0.064,1,      4.714,1
325020190403,       I06S,      35,          1,         29,         29,2,20190428,       1325,   -55.0013,    30.0015,       5461,   258.5,   1.6406,  34.4846,2,   34.484,2,    228.6,3,   192.1,2,    76.8,2,   34.39,2,    0.00,2,    2.39,2,   1.933,2,   0.922,2,   0.9921,2,  2251.4,2, 2327.34,2,   7.5317,2, -999.00,9,  -999.0,9,  -999.0,     0.2,2,    37.6,2,   34.56,2,    23.7089,3, 20190428,     1523, -55.0014,  30.0016,      25.04,     1.6185,3,      0.138,1,      0.060,1,      4.715,1
325020190403,       I06S,      35,          1,         30,         30,2,20190428,       1325,   -55.0013,    30.0015,       5461,   207.7,   1.1025,  34.3585,2,  34.3615,2,    260.3,3,   234.4,2,    70.7,2,   32.71,2,    0.00,2,    2.32,2,   3.246,2,   1.617,2,   1.7653,2,  2238.3,2, 2318.76,2,   7.5540,2, -999.00,9,  -999.0,9,  -999.0,    0.13,6,  -999.0,9, -999.00,9,    21.7336,3, 20190428,     1523, -55.0014,  30.0016,      25.06,     0.9556,3,      0.133,1,      0.060,1,      4.720,1
325020190403,       I06S,      35,          1,         31,         31,2,20190428,       1325,   -55.0013,    30.0015,       5461,   157.6,   0.7425,  34.1865,2,  34.1854,2,    292.4,3,   286.6,2,    60.1,2,   29.88,2,    0.22,2,    2.14,2,   4.702,2,   2.414,2,   2.8843,2,  2212.0,2, 2308.78,2,   7.5997,2, -999.00,9,  -999.0,9,  -999.0,    0.01,2,    38.6,2,   32.40,2,    18.5914,3, 20190428,     1524, -55.0014,  30.0016,      25.04,     0.8455,3,      0.133,1,      0.068,1,      4.718,1
325020190403,       I06S,      35,          1,         32,         32,2,20190428,       1325,   -55.0013,    30.0015,       5461,   107.5,   1.6314,  34.0156,2,  34.0173,2,    325.7,2,   325.8,2,    42.0,2,   25.88,2,    0.33,2,    1.83,2,   5.372,2,   2.761,2,   3.4265,2,  2178.3,2, 2302.08,2,   7.6737,2, -999.00,9,  -999.0,9,  -999.0,   -0.02,2,    37.9,2,   29.32,2,    14.6128,3, 20190428,     1526, -55.0014,  30.0016,      25.04,     1.6296,2,      0.144,1,      0.114,1,      4.691,1
325020190403,       I06S,      35,          1,         33,         33,2,20190428,       1325,   -55.0013,    30.0015,       5461,    83.1,   1.6294,  34.0165,2,  34.0173,2,    324.0,2,   325.7,2,    42.2,2,   25.86,2,    0.33,2,    1.82,2,   5.417,2,   2.822,2,   3.6787,2,  2179.9,2, 2301.63,2,   7.6740,2, -999.00,9,  -999.0,9,  -999.0,    0.04,2,  -999.0,9, -999.00,9,    14.6481,3, 20190428,     1526, -55.0014,  30.0016,      25.03,     1.6301,2,      0.144,1,      0.118,1,      4.692,1
325020190403,       I06S,      35,          1,         34,         34,2,20190428,       1325,   -55.0013,    30.0015,       5461,    57.9,   1.6296,  34.0164,2,  34.0173,2,    323.6,2,   326.0,2,    42.1,2,   25.83,2,    0.33,2,    1.81,2,   5.379,2,   2.820,2,   3.6584,2,  2179.8,2, 2302.73,2,   7.6740,2, -999.00,9,  -999.0,9,  -999.0,    0.08,2,    38.2,2,   28.60,2,    14.6188,3, 20190428,     1527, -55.0014,  30.0016,      25.03,     1.6286,2,      0.146,1,      0.114,1,      4.692,1
325020190403,       I06S,      35,          1,         35,         35,2,20190428,       1325,   -55.0013,    30.0015,       5461,    33.1,   1.6297,  34.0163,2,  34.0168,2,    322.9,2,   325.9,2,    42.1,2,   25.85,2,    0.33,2,    1.80,2,   5.414,2,   2.824,2,   3.6091,2,  2180.2,2, 2302.96,2,   7.6743,2, -999.00,9,  -999.0,9,  -999.0,   -0.02,2,  -999.0,9, -999.00,9,    14.6807,3, 20190428,     1529, -55.0014,  30.0016,      25.07,     1.6288,2,      0.144,1,      0.119,1,      4.690,1
325020190403,       I06S,      35,          1,         36,         36,2,20190428,       1325,   -55.0013,    30.0015,       5461,    11.9,   1.6252,  34.0163,2,   34.017,2,    321.5,3,   325.9,2,    42.1,2,   25.74,2,    0.34,2,    1.80,2,   5.366,2,   2.787,2,   3.4858,2,  2181.7,2, 2302.54,2,   7.6744,2, -999.00,9,  -999.0,9,  -999.0,    0.09,2,    38.8,2,   28.41,2,    14.6144,3, 20190428,     1530, -55.0014,  30.0015,      25.09,     1.6247,2,      0.145,1,      0.116,1,      4.691,1