BOTTLE,20210804CCHSIOCBG
EXPOCODE,SECT_ID,STNNBR,CASTNO,SAMPNO,BTLNBR,BTLNBR_FLAG_W,DATE,TIME,LATITUDE,LONGITUDE,DEPTH,CTDPRS,CTDTMP,CTDSAL,CTDSAL_FLAG_W,SALNTY,SALNTY_FLAG_W,CTDOXY,CTDOXY_FLAG_W,OXYGEN,OXYGEN_FLAG_W,SILCAT,SILCAT_FLAG_W,NITRAT,NITRAT_FLAG_W,NITRIT,NITRIT_FLAG_W,PHSPHT,PHSPHT_FLAG_W,CFC-11,CFC-11_FLAG_W,CFC-12,CFC-12_FLAG_W,SF6,SF6_FLAG_W,TCARBN,TCARBN_FLAG_W,ALKALI,ALKALI_FLAG_W,PH_TOT,PH_TOT_FLAG_W,DELC13,DELC13_FLAG_W,DELC14,DELC14_FLAG_W,C14ERR,DELO18,DELO18_FLAG_W,DOC,DOC_FLAG_W,TDN,TDN_FLAG_W,N2O,N2O_FLAG_W,BTL_DATE,BTL_TIME,BTL_LAT,BTL_LON,PH_TMP,REFTMP,REFTMP_FLAG_W,CTDBACKSCATTER,CTDBACKSCATTER_FLAG_W,CTDFLUOR,CTDFLUOR_FLAG_W,CTDXMISS,CTDXMISS_FLAG_W
,,,,,,,,,,,METERS,DBAR,ITS-90,PSS-78,,PSS-78,,UMOL/KG,,UMOL/KG,,UMOL/KG,,UMOL/KG,,UMOL/KG,,UMOL/KG,,PMOL/KG,,PMOL/KG,,FMOL/KG,,UMOL/KG,,UMOL/KG,,,,/MILLE,,/MILLE,,/MILLE,/MILLE,,UMOL/KG,,UMOL/KG,,NMOL/KG,,,,,,DEG C,ITS-90,,VOLTS,,VOLTS,,VOLTS,
325020190403,       I06S,      23,          1,          1,          1,2,20190421,       1053,   -60.9996,    29.9988,       5252,  5357.9,  -0.2647,  34.6502,2,  34.6513,3,    243.3,2,   243.7,2,   136.3,2,   32.42,2,    0.00,2,    2.25,2,   0.834,2,   0.409,2,   0.2709,2,  2252.3,6, 2351.58,2,   7.6017,2, -999.00,9,  -999.0,9,  -999.0,   -0.03,2,  -999.0,9, -999.00,9,     -999.0,5, 20190421,     1053, -60.9996,  29.9988,      25.08,    -0.2645,2,      0.136,1,      0.059,1,      4.621,1
325020190403,       I06S,      23,          1,          2,          2,2,20190421,       1053,   -60.9996,    29.9988,       5252,  5293.1,  -0.2698,  34.6492,2,   34.648,2,    243.0,2,   243.7,2,   135.3,2,   32.47,2,    0.00,2,    2.24,2,-999.000,9,-999.000,9,-999.0000,9,  2251.3,2, 2354.79,2,   7.6010,2, -999.00,9,  -999.0,9,  -999.0,    0.02,2,  -999.0,9, -999.00,9,     -999.0,9, 20190421,     1055, -60.9996,  29.9988,      25.03,      -0.27,2,      0.138,1,      0.059,1,      4.620,1
325020190403,       I06S,      23,          1,          3,          3,2,20190421,       1053,   -60.9996,    29.9988,       5252,  5220.3,  -0.2637,  34.6495,2,  34.6495,2,    243.9,2,   243.1,2,   135.8,2,   32.40,2,    0.00,2,    2.25,2,   0.785,2,   0.385,2,   0.1478,2,  2253.0,2, -999.00,9,-999.0000,9, -999.00,9,  -999.0,9,  -999.0,   -0.04,2,  -999.0,9, -999.00,9,     -999.0,5, 20190421,     1057, -60.9996,  29.9988,     -999.0,    -0.2637,2,      0.129,1,      0.060,1,      4.625,1
325020190403,       I06S,      23,          1,          4,          4,2,20190421,       1053,   -60.9996,    29.9988,       5252,  4807.3,  -0.2469,  34.6523,2,  34.6519,2,    240.4,2,   241.3,2,   132.8,2,   32.41,2,    0.00,2,    2.25,2,-999.000,9,-999.000,9,-999.0000,9,  2252.0,2, -999.00,9,-999.0000,9, -999.00,9,  -999.0,9,  -999.0,    0.09,2,  -999.0,9, -999.00,9,     -999.0,9, 20190421,     1105, -60.9996,  29.9988,     -999.0,    -0.2469,2,      0.122,1,      0.059,1,      4.632,1
325020190403,       I06S,      23,          1,          5,          5,2,20190421,       1053,   -60.9996,    29.9988,       5252,  4395.6,  -0.2283,  34.6543,2,  34.6536,2,    238.3,2,   239.4,2,   131.1,2,   32.70,2,    0.00,2,    2.26,2,   0.697,6,   0.347,6,   0.2053,6,  2252.1,2, 2352.21,2,   7.5999,2, -999.00,9,  -999.0,9,  -999.0, -999.00,9,  -999.0,9, -999.00,9,     -999.0,5, 20190421,     1112, -60.9996,  29.9988,      25.06,    -0.2282,2,      0.142,1,      0.060,1,      4.635,1
325020190403,       I06S,      23,          1,          6,          6,2,20190421,       1053,   -60.9996,    29.9988,       5252,  3981.9,  -0.1939,  34.6568,2,  34.6566,2,    235.4,2,   236.4,2,   129.3,2,   32.43,2,    0.00,2,    2.26,2,-999.000,9,-999.000,9,-999.0000,9,  2253.8,2, -999.00,9,-999.0000,9, -999.00,9,  -999.0,9,  -999.0,    0.13,2,  -999.0,9, -999.00,9,     -999.0,9, 20190421,     1120, -60.9996,  29.9988,     -999.0,    -0.1938,2,      0.120,1,      0.059,1,      4.636,1
325020190403,       I06S,      23,          1,          7,          7,2,20190421,       1053,   -60.9996,    29.9988,       5252,  3673.7,  -0.1642,  34.6585,2,  34.6582,2,    232.1,2,   233.7,2,   128.8,2,   32.60,2,    0.00,2,    2.27,2,   0.681,2,   0.343,2,   0.2338,2,  2253.7,2, 2353.99,2,   7.5952,2, -999.00,9,  -999.0,9,  -999.0, -999.00,9,  -999.0,9, -999.00,9,     -999.0,5, 20190421,     1126, -60.9996,  29.9988,      25.10,    -0.1642,2,      0.124,1,      0.060,1,      4.636,1
325020190403,       I06S,      23,          1,          8,          8,2,20190421,       1053,   -60.9996,    29.9988,       5252,  3365.7,  -0.1216,  34.6607,2,  34.6591,2,    229.8,2,   230.9,2,   129.0,2,   32.68,2,    0.00,2,    2.29,2,-999.000,9,-999.000,9,-999.0000,9,  2257.0,2, -999.00,9,-999.0000,9, -999.00,9,  -999.0,9,  -999.0,   -0.07,2,  -999.0,9, -999.00,9,     -999.0,9, 20190421,     1132, -60.9996,  29.9988,     -999.0,    -0.1215,2,      0.127,1,      0.059,1,      4.637,1
325020190403,       I06S,      23,          1,          9,          9,2,20190421,       1053,   -60.9996,    29.9988,       5252,  3058.6,  -0.0682,  34.6633,2,  34.6625,2,    226.6,2,   227.7,2,   128.7,2,   32.70,2,    0.00,2,    2.29,2,   0.608,2,   0.297,2,   0.1868,2,  2257.8,2, 2355.00,2,   7.5911,2, -999.00,9,  -999.0,9,  -999.0, -999.00,9,  -999.0,9, -999.00,9,     -999.0,5, 20190421,     1138, -60.9996,  29.9988,      25.02,    -0.0681,2,      0.122,1,      0.060,1,      4.637,1
325020190403,       I06S,      23,          1,         10,         10,2,20190421,       1053,   -60.9996,    29.9988,       5252,  2802.7,  -0.0176,  34.6656,2,  34.6656,2,    222.9,2,   224.3,2,   128.8,2,   32.81,2,    0.00,2,    2.29,2,-999.000,9,-999.000,9,-999.0000,9,  2259.8,2, -999.00,9,-999.0000,9, -999.00,9,  -999.0,9,  -999.0,    0.22,2,  -999.0,9, -999.00,9,     -999.0,9, 20190421,     1143, -60.9996,  29.9988,     -999.0,    -0.0177,2,      0.123,1,      0.060,1,      4.636,1
325020190403,       I06S,      23,          1,         11,         11,2,20190421,       1053,   -60.9996,    29.9988,       5252,  2546.8,   0.0628,  34.6693,2,   34.669,2,    220.5,2,   220.5,2,   128.3,2,   32.81,2,    0.00,2,    2.30,2,   0.542,2,   0.267,2,   0.2256,2,  2260.6,6, 2354.97,2,   7.5861,2, -999.00,9,  -999.0,9,  -999.0, -999.00,9,  -999.0,9, -999.00,9,     -999.0,5, 20190421,     1148, -60.9996,  29.9988,      25.09,     0.0628,2,      0.125,1,      0.059,1,      4.637,1
325020190403,       I06S,      23,          1,         12,         12,2,20190421,       1053,   -60.9996,    29.9988,       5252,  2290.3,   0.1399,   34.673,2,  34.6729,2,    216.2,2,   217.2,2,   128.0,2,   32.90,2,    0.00,2,    2.29,2,-999.000,9,-999.000,9,-999.0000,9,  2261.6,2, -999.00,9,-999.0000,9, -999.00,9,  -999.0,9,  -999.0,    0.22,6,  -999.0,9, -999.00,9,     -999.0,9, 20190421,     1153, -60.9996,  29.9988,     -999.0,     0.1405,2,      0.123,1,      0.060,1,      4.636,1
325020190403,       I06S,      23,          1,         13,         13,2,20190421,       1053,   -60.9996,    29.9988,       5252,  2035.6,   0.2237,  34.6766,2,  34.6766,2,    213.0,2,   213.6,2,   126.9,2,   32.91,2,    0.00,2,    2.30,2,   0.509,2,   0.247,2,   0.1636,2,  2261.0,2, 2354.05,2,   7.5828,2, -999.00,9,  -999.0,9,  -999.0, -999.00,9,  -999.0,9, -999.00,9,    17.1982,3, 20190421,     1158, -60.9996,  29.9988,      25.10,     0.2235,2,      0.125,1,      0.060,1,      4.636,1
325020190403,       I06S,      23,          1,         14,         14,2,20190421,       1053,   -60.9996,    29.9988,       5252,  1833.3,    0.303,  34.6806,2,  34.6795,2,    209.6,2,   211.6,2,   126.1,2,   32.90,2,    0.00,2,    2.29,2,-999.000,9,-999.000,9,-999.0000,9,  2261.4,2, -999.00,9,-999.0000,9, -999.00,9,  -999.0,9,  -999.0,   -0.02,2,  -999.0,9, -999.00,9,     -999.0,9, 20190421,     1203, -60.9996,  29.9988,     -999.0,     0.3028,2,      0.125,1,      0.059,1,      4.637,1
325020190403,       I06S,      23,          1,         15,         15,2,20190421,       1053,   -60.9996,    29.9988,       5252,  1630.2,    0.374,  34.6839,2,  34.6837,2,    207.2,2,   208.5,2,   124.6,2,   32.89,2,    0.00,2,    2.29,2,   0.472,2,   0.229,2,   0.1867,2,  2261.2,2, 2350.44,3,   7.5817,2, -999.00,9,  -999.0,9,  -999.0, -999.00,9,  -999.0,9, -999.00,9,     17.993,3, 20190421,     1207, -60.9996,  29.9988,      25.07,     0.3739,2,      0.124,1,      0.060,1,      4.637,1
325020190403,       I06S,      23,          1,         16,         16,2,20190421,       1053,   -60.9996,    29.9988,       5252,  1425.5,   0.4739,  34.6884,2,  34.6884,2,    204.4,2,   205.9,2,   121.8,2,   32.77,2,    0.00,2,    2.29,2,-999.000,9,-999.000,9,-999.0000,9,  2262.4,2, -999.00,9,-999.0000,9, -999.00,9,  -999.0,9,  -999.0,    0.07,2,  -999.0,9, -999.00,9,     -999.0,9, 20190421,     1212, -60.9996,  29.9988,     -999.0,     0.4736,2,      0.126,1,      0.062,1,      4.636,1
325020190403,       I06S,      23,          1,         17,         17,2,20190421,       1053,   -60.9996,    29.9988,       5252,  1324.3,   0.5211,  34.6906,2,  34.6907,2,    204.1,2,   202.8,2,   119.0,2,   32.83,2,    0.00,2,    2.28,2,   0.482,2,   0.239,2,   0.1564,2,  2262.7,2, 2357.29,2,   7.5784,2, -999.00,9,  -999.0,9,  -999.0, -999.00,9,  -999.0,9, -999.00,9,     7.8594,3, 20190421,     1215, -60.9996,  29.9988,      25.07,      0.521,2,      0.128,1,      0.061,1,      4.635,1
325020190403,       I06S,      23,          1,         18,         18,2,20190421,       1053,   -60.9996,    29.9988,       5252,  1221.9,   0.5632,  34.6913,2,  34.6903,2,    202.1,2,   202.8,2,   119.0,2,   32.85,2,    0.00,2,    2.29,2,-999.000,9,-999.000,9,-999.0000,9,  2263.1,2, -999.00,9,-999.0000,9, -999.00,9,  -999.0,9,  -999.0,    0.12,2,  -999.0,9, -999.00,9,     -999.0,9, 20190421,     1218, -60.9996,  29.9988,     -999.0,     0.5628,2,      0.127,1,      0.060,1,      4.633,1
325020190403,       I06S,      23,          1,         19,         19,4,20190421,       1053,   -60.9996,    29.9988,       5252,  1121.5,   0.6368,  34.6945,3,  34.7467,4,    203.2,3,  -999.0,5,  -999.0,9, -999.00,9, -999.00,9, -999.00,9,-999.000,9,-999.000,9,-999.0000,9,  -999.0,9, -999.00,9,-999.0000,9, -999.00,9,  -999.0,9,  -999.0, -999.00,9,  -999.0,9, -999.00,9,     -999.0,9, 20190421,     1221, -60.9996,  29.9988,     -999.0,     0.6388,2,      0.128,1,      0.061,1,      4.634,1
325020190403,       I06S,      23,          1,         20,         20,2,20190421,       1053,   -60.9996,    29.9988,       5252,  1019.8,   0.7137,   34.699,2,  34.6982,2,    201.9,2,   202.7,2,   114.1,2,   32.42,2,    0.00,2,    2.26,2,-999.000,5,-999.000,5,-999.0000,5,  2262.2,2, -999.00,9,-999.0000,9, -999.00,9,  -999.0,9,  -999.0,    0.02,2,  -999.0,9, -999.00,9,    18.8879,3, 20190421,     1223, -60.9996,  29.9988,     -999.0,      0.713,2,      0.126,1,      0.060,1,      4.634,1
325020190403,       I06S,      23,          1,         21,         21,2,20190421,       1053,   -60.9996,    29.9988,       5252,   918.2,   0.7924,  34.7017,2,  34.7019,2,    201.7,2,   202.0,2,   111.8,2,   32.25,2,    0.00,2,    2.25,2,   0.470,2,   0.232,2,   0.2086,2,  2262.3,2, 2350.90,2,   7.5869,2, -999.00,9,  -999.0,9,  -999.0, -999.00,9,  -999.0,9, -999.00,9,     18.761,3, 20190421,     1226, -60.9996,  29.9988,      25.05,     0.7919,2,      0.132,1,      0.060,1,      4.634,1
325020190403,       I06S,      23,          1,         22,         22,2,20190421,       1053,   -60.9996,    29.9988,       5252,   818.0,   0.8673,  34.7026,2,  34.7021,2,    199.8,2,   200.0,2,   109.8,2,   32.20,2,    0.00,2,    2.23,2,-999.000,9,-999.000,9,-999.0000,9,  2262.2,2, -999.00,9,-999.0000,9, -999.00,9,  -999.0,9,  -999.0,    0.35,2,  -999.0,9, -999.00,9,     -999.0,9, 20190421,     1228, -60.9996,  29.9988,     -999.0,     0.8671,2,      0.131,1,      0.061,1,      4.632,1
325020190403,       I06S,      23,          1,         23,         23,2,20190421,       1053,   -60.9996,    29.9988,       5252,   716.4,   0.9957,  34.7085,2,  34.7076,2,    199.2,2,   198.9,2,   106.2,2,   31.97,2,    0.00,2,    2.24,2,   0.463,2,   0.234,2,   0.2183,2,  2261.2,2, 2353.31,2,   7.5882,2, -999.00,9,  -999.0,9,  -999.0, -999.00,9,  -999.0,9, -999.00,9,    19.0508,3, 20190421,     1231, -60.9996,  29.9988,      25.05,     0.9967,2,      0.131,1,      0.060,1,      4.632,1
325020190403,       I06S,      23,          1,         24,         24,2,20190421,       1053,   -60.9996,    29.9988,       5252,   614.8,   1.0798,  34.7072,2,  34.7072,2,    196.9,2,   196.8,2,   103.9,2,   31.97,2,    0.00,2,    2.23,2,-999.000,9,-999.000,9,-999.0000,9,  2259.0,2, -999.00,9,-999.0000,9, -999.00,9,  -999.0,9,  -999.0,    0.32,2,  -999.0,9, -999.00,9,     -999.0,9, 20190421,     1234, -60.9996,  29.9988,     -999.0,     1.0791,2,      0.130,1,      0.061,1,      4.631,1
325020190403,       I06S,      23,          1,         25,         25,2,20190421,       1053,   -60.9996,    29.9988,       5252,   512.6,   1.2828,  34.7129,2,  34.7127,2,    194.3,2,   194.5,2,    99.0,2,   31.75,2,    0.00,2,    2.20,2,   0.448,2,   0.227,2,   0.2144,2,  2258.9,2, -999.00,9,-999.0000,9, -999.00,9,  -999.0,9,  -999.0, -999.00,9,  -999.0,9, -999.00,9,    19.2475,3, 20190421,     1237, -60.9996,  29.9988,     -999.0,     1.2841,2,      0.132,1,      0.061,1,      4.631,1
325020190403,       I06S,      23,          1,         26,         26,2,20190421,       1053,   -60.9996,    29.9988,       5252,   412.7,   1.3087,  34.6962,2,  34.6956,2,    190.4,2,   190.5,2,    97.3,2,   32.31,2,    0.00,2,    2.26,2,-999.000,9,-999.000,9,-999.0000,9,  2261.0,2, 2348.32,2,   7.5750,2, -999.00,9,  -999.0,9,  -999.0,     0.3,2,  -999.0,9, -999.00,9,     -999.0,9, 20190421,     1239, -60.9996,  29.9988,      25.00,      1.309,2,      0.133,1,      0.061,1,      4.632,1
325020190403,       I06S,      23,          1,         27,         27,2,20190421,       1053,   -60.9996,    29.9988,       5252,   361.9,   1.3633,  34.6886,2,  34.6874,2,    188.5,2,   188.9,2,    96.2,2,   32.56,2,    0.00,2,    2.27,2,   0.629,2,   0.334,2,   0.4197,2,  2261.9,2, -999.00,9,-999.0000,9, -999.00,9,  -999.0,9,  -999.0, -999.00,9,  -999.0,9, -999.00,9,    19.7942,3, 20190421,     1241, -60.9996,  29.9988,     -999.0,     1.3648,2,      0.132,1,      0.061,1,      4.628,1
325020190403,       I06S,      23,          1,         28,         28,2,20190421,       1053,   -60.9996,    29.9988,       5252,   309.7,   1.4257,  34.6768,2,  34.6746,2,    186.6,2,   185.7,2,    94.0,2,   32.88,2,    0.00,2,    2.25,2,-999.000,9,-999.000,9,-999.0000,9,  2263.2,2, -999.00,9,-999.0000,9, -999.00,9,  -999.0,9,  -999.0,    0.35,2,  -999.0,9, -999.00,9,     -999.0,9, 20190421,     1243, -60.9996,  29.9988,     -999.0,      1.426,2,      0.136,1,      0.062,1,      4.626,1
325020190403,       I06S,      23,          1,         29,         29,2,20190421,       1053,   -60.9996,    29.9988,       5252,   259.6,   1.5003,  34.6636,2,   34.664,2,    186.3,2,   184.9,2,    92.0,2,   33.01,2,    0.00,2,    2.25,2,   0.746,2,   0.397,2,   0.3727,2,  2262.7,2, 2345.44,2,   7.5600,2, -999.00,9,  -999.0,9,  -999.0,    0.21,2,  -999.0,9, -999.00,9,    20.0133,3, 20190421,     1245, -60.9996,  29.9988,      25.04,     1.5032,2,      0.134,1,      0.061,1,      4.630,1
325020190403,       I06S,      23,          1,         30,         30,2,20190421,       1053,   -60.9996,    29.9988,       5252,   209.0,   1.4581,  34.6245,2,  34.6279,2,    188.0,3,   185.2,2,    89.5,2,   33.53,2,    0.00,2,    2.27,2,-999.000,9,-999.000,9,-999.0000,9,  2260.0,6, 2341.50,2,   7.5499,2, -999.00,9,  -999.0,9,  -999.0,    0.28,6,  -999.0,9, -999.00,9,     -999.0,9, 20190421,     1247, -60.9996,  29.9988,      25.04,      1.451,2,      0.135,1,      0.063,1,      4.630,1
325020190403,       I06S,      23,          1,         31,         31,2,20190421,       1053,   -60.9996,    29.9988,       5252,   159.1,   1.0218,  34.5139,2,  34.5158,2,    214.4,3,   208.7,2,    84.3,2,   33.60,2,    0.00,2,    2.30,2,   2.128,2,   1.084,2,   1.0707,2,  2244.9,2, 2332.95,2,   7.5464,2, -999.00,9,  -999.0,9,  -999.0,    0.26,2,  -999.0,9, -999.00,9,    20.2358,3, 20190421,     1248, -60.9996,  29.9988,      25.06,     0.9505,3,      0.133,1,      0.065,1,      4.630,1
325020190403,       I06S,      23,          1,         32,         32,2,20190421,       1053,   -60.9996,    29.9988,       5252,   108.8,  -0.7073,  34.1777,2,  34.1802,2,    324.1,3,   318.3,2,    64.2,2,   29.64,2,    0.31,2,    2.07,2,-999.000,9,-999.000,9,-999.0000,9,  2211.4,2, -999.00,9,-999.0000,9, -999.00,9,  -999.0,9,  -999.0,   -0.19,2,  -999.0,9, -999.00,9,     -999.0,9, 20190421,     1250, -60.9996,  29.9988,     -999.0,    -0.7053,2,      0.136,1,      0.103,1,      4.615,1
325020190403,       I06S,      23,          1,         33,         33,2,20190421,       1053,   -60.9996,    29.9988,       5252,    84.1,  -1.0334,  34.0668,2,  34.0753,2,    343.8,3,   331.3,2,    57.6,2,   27.75,2,    0.37,2,    1.99,2,   5.777,2,   3.005,2,   3.6676,2,  2202.0,2, 2307.70,2,   7.6321,2, -999.00,9,  -999.0,9,  -999.0,   -0.09,2,  -999.0,9, -999.00,9,    16.8555,3, 20190421,     1252, -60.9996,  29.9988,      25.05,    -0.9685,3,      0.142,1,      0.138,1,      4.598,1
325020190403,       I06S,      23,          1,         34,         34,2,20190421,       1053,   -60.9996,    29.9988,       5252,    58.4,   0.0674,  33.8321,2,  33.8314,2,    338.2,2,   338.3,2,    42.7,2,   24.62,2,    0.27,2,    1.75,2,-999.000,9,-999.000,9,-999.0000,9,  2172.7,2, -999.00,9,-999.0000,9, -999.00,9,  -999.0,9,  -999.0,   -0.02,2,  -999.0,9, -999.00,9,     -999.0,9, 20190421,     1253, -60.9996,  29.9988,     -999.0,     0.0624,2,      0.149,1,      0.117,1,      4.588,1
325020190403,       I06S,      23,          1,         35,         35,2,20190421,       1053,   -60.9996,    29.9988,       5252,    32.8,   0.1566,  33.8122,2,  33.8126,2,    336.3,2,   338.2,2,    42.5,2,   24.44,2,    0.27,2,    1.72,2,   5.864,2,   3.072,2,   3.9473,2,  2174.7,2, 2294.38,2,   7.6788,2, -999.00,9,  -999.0,9,  -999.0,   -0.12,2,  -999.0,9, -999.00,9,    15.6698,3, 20190421,     1254, -60.9996,  29.9988,      25.02,     0.1618,2,      0.146,1,      0.116,1,      4.587,1
325020190403,       I06S,      23,          1,         36,         36,2,20190421,       1053,   -60.9996,    29.9988,       5252,    12.9,   0.1668,  33.8106,2,  33.8116,2,    335.4,2,   338.3,2,    42.6,2,   24.35,2,    0.27,2,    1.69,2,   5.862,2,   3.075,2,   3.7752,2,  2172.9,6, 2293.36,2,   7.6793,2, -999.00,9,  -999.0,9,  -999.0,   -0.19,2,  -999.0,9, -999.00,9,    15.4543,3, 20190421,     1256, -60.9996,  29.9988,      25.03,     0.1677,2,      0.146,1,      0.109,1,      4.587,1