BOTTLE,20210804CCHSIOCBG
EXPOCODE,SECT_ID,STNNBR,CASTNO,SAMPNO,BTLNBR,BTLNBR_FLAG_W,DATE,TIME,LATITUDE,LONGITUDE,DEPTH,CTDPRS,CTDTMP,CTDSAL,CTDSAL_FLAG_W,SALNTY,SALNTY_FLAG_W,CTDOXY,CTDOXY_FLAG_W,OXYGEN,OXYGEN_FLAG_W,SILCAT,SILCAT_FLAG_W,NITRAT,NITRAT_FLAG_W,NITRIT,NITRIT_FLAG_W,PHSPHT,PHSPHT_FLAG_W,CFC-11,CFC-11_FLAG_W,CFC-12,CFC-12_FLAG_W,SF6,SF6_FLAG_W,TCARBN,TCARBN_FLAG_W,ALKALI,ALKALI_FLAG_W,PH_TOT,PH_TOT_FLAG_W,DELC13,DELC13_FLAG_W,DELC14,DELC14_FLAG_W,C14ERR,DELO18,DELO18_FLAG_W,DOC,DOC_FLAG_W,TDN,TDN_FLAG_W,N2O,N2O_FLAG_W,BTL_DATE,BTL_TIME,BTL_LAT,BTL_LON,PH_TMP,REFTMP,REFTMP_FLAG_W,CTDBACKSCATTER,CTDBACKSCATTER_FLAG_W,CTDFLUOR,CTDFLUOR_FLAG_W,CTDXMISS,CTDXMISS_FLAG_W
,,,,,,,,,,,METERS,DBAR,ITS-90,PSS-78,,PSS-78,,UMOL/KG,,UMOL/KG,,UMOL/KG,,UMOL/KG,,UMOL/KG,,UMOL/KG,,PMOL/KG,,PMOL/KG,,FMOL/KG,,UMOL/KG,,UMOL/KG,,,,/MILLE,,/MILLE,,/MILLE,/MILLE,,UMOL/KG,,UMOL/KG,,NMOL/KG,,,,,,DEG C,ITS-90,,VOLTS,,VOLTS,,VOLTS,
325020190403,       I06S,      20,          1,          1,          1,2,20190420,       1450,   -62.5004,       30.0,       5166,  5272.8,  -0.2694,  34.6471,3,  34.6501,2,    243.3,2,   243.2,2,   137.2,2,   32.70,2,    0.01,2,    2.24,2,   0.822,2,   0.407,2,   0.1991,2,  2254.1,6, 2355.74,2,   7.6012,2, -999.00,9,  -999.0,9,  -999.0,   -0.01,2,    38.3,2,   34.64,2,     -999.0,5, 20190420,     1450, -62.5004,  30.0000,      25.06,    -0.2693,2,      0.137,1,      0.060,1,      4.618,1
325020190403,       I06S,      20,          1,          2,          2,2,20190420,       1450,   -62.5004,       30.0,       5166,  5247.8,  -0.2722,   34.647,3,  34.6499,2,    244.2,2,   243.4,2,   137.2,2,   32.69,2,    0.01,2,    2.25,2,-999.000,9,-999.000,9,-999.0000,9,  -999.0,9, -999.00,9,-999.0000,9, -999.00,9,  -999.0,9,  -999.0,    0.04,2,    38.8,2,   30.98,2,     -999.0,9, 20190420,     1452, -62.5004,  30.0000,     -999.0,    -0.2719,2,      0.137,1,      0.059,1,      4.618,1
325020190403,       I06S,      20,          1,          3,          3,2,20190420,       1450,   -62.5004,       30.0,       5166,  5221.5,  -0.2748,  34.6503,2,  34.6521,3,    241.1,2,   243.3,2,   136.7,2,   32.74,2,    0.00,2,    2.25,2,-999.000,9,-999.000,9,-999.0000,9,  -999.0,9, -999.00,9,-999.0000,9, -999.00,9,  -999.0,9,  -999.0,   -0.09,2,  -999.0,9, -999.00,9,     -999.0,9, 20190420,     1454, -62.5004,  30.0000,     -999.0,    -0.2747,2,      0.138,1,      0.060,1,      4.620,1
325020190403,       I06S,      20,          1,          4,          4,2,20190420,       1450,   -62.5004,       30.0,       5166,  4805.1,  -0.2576,  34.6496,3,  34.6523,2,    240.9,2,   241.8,2,   133.1,2,   32.65,2,    0.00,2,    2.24,2,   0.717,2,   0.354,2,   0.1513,2,  2253.8,2, 2352.97,2,   7.6011,2, -999.00,9,  -999.0,9,  -999.0,    0.11,2,    38.1,2,   33.46,2,     -999.0,5, 20190420,     1503, -62.5004,  30.0000,      25.06,    -0.2574,2,      0.124,1,      0.059,1,      4.636,1
325020190403,       I06S,      20,          1,          5,          5,2,20190420,       1450,   -62.5004,       30.0,       5166,  4393.5,  -0.2359,  34.6514,2,  34.6531,2,    238.9,2,   239.9,2,   131.2,2,   32.69,2,    0.00,2,    2.24,2,-999.000,9,-999.000,9,-999.0000,9,  -999.0,9, -999.00,9,-999.0000,9, -999.00,9,  -999.0,9,  -999.0,    0.12,2,    37.8,2,   32.05,2,     -999.0,9, 20190420,     1511, -62.5004,  30.0000,     -999.0,    -0.2359,2,      0.122,1,      0.060,1,      4.637,1
325020190403,       I06S,      20,          1,          6,          6,2,20190420,       1450,   -62.5004,       30.0,       5166,  3983.0,   -0.201,  34.6579,3,  34.6609,3,    232.3,3,   236.6,2,   130.2,2,   32.75,2,    0.01,2,    2.25,2,-999.000,9,-999.000,9,-999.0000,9,  -999.0,9, -999.00,9,-999.0000,9, -999.00,9,  -999.0,9,  -999.0, -999.00,9,  -999.0,9, -999.00,9,     -999.0,9, 20190420,     1519, -62.5004,  30.0000,     -999.0,     -0.201,2,      0.120,1,      0.059,1,      4.639,1
325020190403,       I06S,      20,          1,          7,          7,2,20190420,       1450,   -62.5004,       30.0,       5166,  3673.8,  -0.1685,  34.6556,2,  34.6574,2,    232.8,2,   234.0,2,   129.4,2,   32.73,2,    0.00,2,    2.25,2,   0.685,2,   0.345,2,   0.2581,2,  2257.7,2, 2353.40,2,   7.5959,2, -999.00,9,  -999.0,9,  -999.0,    0.13,2,    39.7,2,   34.28,2,     -999.0,5, 20190420,     1525, -62.5004,  30.0000,      25.06,    -0.1682,2,      0.122,1,      0.060,1,      4.638,1
325020190403,       I06S,      20,          1,          8,          8,2,20190420,       1450,   -62.5004,       30.0,       5166,  3367.2,  -0.1251,  34.6618,2,  34.6629,3,    226.9,3,   231.1,2,   129.1,2,   32.78,2,    0.00,2,    2.25,2,-999.000,9,-999.000,9,-999.0000,9,  -999.0,9, -999.00,9,-999.0000,9, -999.00,9,  -999.0,9,  -999.0, -999.00,9,    39.5,2,   33.92,2,     -999.0,9, 20190420,     1531, -62.5004,  30.0000,     -999.0,     -0.125,2,      0.123,1,      0.059,1,      4.638,1
325020190403,       I06S,      20,          1,          9,          9,2,20190420,       1450,   -62.5004,       30.0,       5166,  3059.2,  -0.0779,  34.6601,2,  34.6615,2,    226.5,2,   228.2,2,   129.3,2,   32.87,2,    0.00,2,    2.27,2,-999.000,9,-999.000,9,-999.0000,9,  -999.0,9, -999.00,9,-999.0000,9, -999.00,9,  -999.0,9,  -999.0,     0.1,2,  -999.0,9, -999.00,9,     -999.0,9, 20190420,     1537, -62.5004,  30.0000,     -999.0,    -0.0774,2,      0.125,1,      0.060,1,      4.639,1
325020190403,       I06S,      20,          1,         10,         10,2,20190420,       1450,   -62.5004,       30.0,       5166,  2802.8,  -0.0194,  34.6627,3,  34.6656,2,    223.4,2,   224.6,2,   128.9,2,   32.95,2,    0.00,2,    2.28,2,   0.574,2,   0.291,2,   0.1974,2,  2259.5,2, 2354.94,2,   7.5884,2, -999.00,9,  -999.0,9,  -999.0, -999.00,9,    38.8,2,   32.10,2,     -999.0,5, 20190420,     1542, -62.5004,  30.0000,      25.01,    -0.0191,2,      0.122,1,      0.062,1,      4.639,1
325020190403,       I06S,      20,          1,         11,         11,2,20190420,       1450,   -62.5004,       30.0,       5166,  2548.1,   0.0498,  34.6657,3,  34.6688,2,    219.9,2,   221.0,2,   128.8,2,   33.00,2,    0.00,2,    2.28,2,-999.000,9,-999.000,9,-999.0000,9,  -999.0,9, -999.00,9,-999.0000,9, -999.00,9,  -999.0,9,  -999.0,    0.07,2,    38.4,2,   34.68,2,     -999.0,9, 20190420,     1547, -62.5004,  30.0000,     -999.0,     0.0499,2,      0.123,1,      0.061,1,      4.640,1
325020190403,       I06S,      20,          1,         12,         12,2,20190420,       1450,   -62.5004,       30.0,       5166,  2293.2,   0.1278,  34.6691,3,  34.6721,2,    216.0,2,   217.5,2,   128.2,2,   33.24,2,    0.00,2,    2.30,2,   0.521,2,   0.259,2,   0.1836,2,  2263.0,2, 2356.45,2,-999.0000,5, -999.00,9,  -999.0,9,  -999.0, -999.00,9,  -999.0,9, -999.00,9,     -999.0,5, 20190420,     1552, -62.5004,  30.0000,     -999.0,     0.1281,2,      0.127,1,      0.060,1,      4.640,1
325020190403,       I06S,      20,          1,         13,         13,2,20190420,       1450,   -62.5004,       30.0,       5166,  2037.9,   0.2141,  34.6729,3,  34.6756,2,    212.4,2,   213.4,2,   127.4,2,   33.15,2,    0.00,2,    2.28,2,-999.000,9,-999.000,9,-999.0000,9,  -999.0,9, -999.00,9,-999.0000,9, -999.00,9,  -999.0,9,  -999.0,    0.22,2,    38.6,2,   34.89,2,     -999.0,9, 20190420,     1557, -62.5004,  30.0001,     -999.0,     0.2141,2,      0.123,1,      0.061,1,      4.640,1
325020190403,       I06S,      20,          1,         14,         14,2,20190420,       1450,   -62.5004,       30.0,       5166,  1833.1,   0.2992,   34.677,2,  34.6801,2,    209.5,2,   211.0,2,   126.3,2,   33.21,2,    0.00,2,    2.29,2,   0.482,2,   0.240,2,   0.1915,2,  2264.1,2, 2358.91,3,   7.5793,2, -999.00,9,  -999.0,9,  -999.0, -999.00,9,    40.0,2,   34.24,2,     -999.0,5, 20190420,     1601, -62.5004,  30.0000,      25.05,     0.2988,2,      0.129,1,      0.060,1,      4.638,1
325020190403,       I06S,      20,          1,         15,         15,2,20190420,       1450,   -62.5004,       30.0,       5166,  1630.0,   0.3791,  34.6806,2,  34.6845,2,    206.4,2,   207.1,2,   124.7,2,   33.09,2,    0.00,2,    2.27,2,-999.000,9,-999.000,9,-999.0000,9,  -999.0,9, -999.00,9,-999.0000,9, -999.00,9,  -999.0,9,  -999.0,    0.08,6,  -999.0,9, -999.00,9,     -999.0,9, 20190420,     1605, -62.5004,  30.0000,     -999.0,      0.379,2,      0.127,1,      0.060,1,      4.638,1
325020190403,       I06S,      20,          1,         16,         16,2,20190420,       1450,   -62.5004,       30.0,       5166,  1424.5,   0.4626,  34.6865,2,  34.6898,3,    203.1,3,   205.4,2,   122.3,2,   33.16,2,    0.00,2,    2.26,2,   0.474,2,   0.236,2,   0.1020,2,  2265.1,2, 2357.37,2,   7.5785,2, -999.00,9,  -999.0,9,  -999.0, -999.00,9,    39.1,2,   34.16,2,     -999.0,5, 20190420,     1610, -62.5004,  30.0000,      25.04,     0.4627,2,      0.127,1,      0.059,1,      4.638,1
325020190403,       I06S,      20,          1,         17,         17,2,20190420,       1450,   -62.5004,       30.0,       5166,  1324.7,   0.5095,   34.686,2,  34.6894,2,    203.7,2,   203.9,2,   120.9,2,   33.14,2,    0.00,2,    2.27,2,-999.000,9,-999.000,9,-999.0000,9,  -999.0,9, -999.00,9,-999.0000,9, -999.00,9,  -999.0,9,  -999.0,    0.19,2,    39.4,2,   35.18,2,     -999.0,9, 20190420,     1612, -62.5004,  30.0000,     -999.0,     0.5095,2,      0.126,1,      0.060,1,      4.637,1
325020190403,       I06S,      20,          1,         18,         18,2,20190420,       1450,   -62.5004,       30.0,       5166,  1222.1,   0.5632,  34.6884,2,  34.6909,2,    202.8,2,   203.4,2,   119.2,2,   33.03,2,    0.00,2,    2.28,2,   0.478,2,   0.241,2,   0.1736,2,  2264.3,2, 2359.60,2,   7.5792,2, -999.00,9,  -999.0,9,  -999.0, -999.00,9,  -999.0,9, -999.00,9,     -999.0,5, 20190420,     1615, -62.5004,  30.0000,      25.05,     0.5631,2,      0.125,1,      0.061,1,      4.638,1
325020190403,       I06S,      20,          1,         19,         19,2,20190420,       1450,   -62.5004,       30.0,       5166,  1121.3,   0.6111,  34.6901,2,  34.6915,2,    201.7,2,   202.0,2,   117.4,2,   32.95,2,    0.01,2,    2.26,2,-999.000,9,-999.000,9,-999.0000,9,  -999.0,9, -999.00,9,-999.0000,9, -999.00,9,  -999.0,9,  -999.0,    0.19,2,    39.0,2,   35.23,2,     -999.0,9, 20190420,     1617, -62.5004,  30.0000,     -999.0,     0.6111,2,      0.128,1,      0.060,1,      4.636,1
325020190403,       I06S,      20,          1,         20,         20,2,20190420,       1450,   -62.5004,       30.0,       5166,  1019.8,   0.6818,  34.6929,2,  34.6964,2,    201.3,2,   202.0,2,   115.3,2,   32.75,2,    0.00,2,    2.26,2,   0.487,2,   0.255,2,   0.2502,2,  2265.4,2, 2363.50,3,   7.5822,2, -999.00,9,  -999.0,9,  -999.0, -999.00,9,    39.0,2,   34.08,2,     -999.0,5, 20190420,     1620, -62.5004,  30.0000,      25.06,     0.6814,2,      0.127,1,      0.061,1,      4.636,1
325020190403,       I06S,      20,          1,         21,         21,2,20190420,       1450,   -62.5004,       30.0,       5166,   917.8,   0.7591,   34.696,2,  34.6978,2,    201.0,2,   201.1,2,   112.7,2,   32.45,2,    0.00,2,    2.22,2,-999.000,9,-999.000,9,-999.0000,9,  -999.0,9, -999.00,9,-999.0000,9, -999.00,9,  -999.0,9,  -999.0,    0.32,2,  -999.0,9, -999.00,9,     -999.0,9, 20190420,     1623, -62.5004,  30.0000,     -999.0,     0.7589,2,      0.129,1,      0.061,1,      4.636,1
325020190403,       I06S,      20,          1,         22,         22,2,20190420,       1450,   -62.5004,       30.0,       5166,   817.6,    0.856,  34.7009,2,  34.7047,3,    200.0,2,   200.5,2,   109.0,2,   32.46,2,    0.00,2,    2.22,2,-999.000,9,-999.000,9,-999.0000,9,  -999.0,9, -999.00,9,-999.0000,9, -999.00,9,  -999.0,9,  -999.0, -999.00,9,    39.7,2,   34.24,2,     -999.0,9, 20190420,     1625, -62.5004,  30.0000,     -999.0,     0.8569,2,      0.130,1,      0.061,1,      4.636,1
325020190403,       I06S,      20,          1,         23,         23,2,20190420,       1450,   -62.5004,       30.0,       5166,   714.7,   0.9456,  34.7019,2,  34.7049,2,    197.9,2,   198.9,2,   106.5,2,   32.51,2,    0.00,2,    2.20,2,   0.471,2,   0.244,2,   0.1671,2,  2262.2,2, 2362.19,3,   7.5861,2, -999.00,9,  -999.0,9,  -999.0,    0.17,2,    39.0,2,   32.92,2,     -999.0,5, 20190420,     1628, -62.5004,  30.0000,      25.04,     0.9457,2,      0.130,1,      0.061,1,      4.634,1
325020190403,       I06S,      20,          1,         24,         24,2,20190420,       1450,   -62.5004,       30.0,       5166,   613.5,   1.0877,  34.7051,2,   34.707,2,    196.3,2,   196.7,2,   104.0,2,   32.10,2,    0.01,2,    2.19,2,-999.000,9,-999.000,9,-999.0000,9,  2261.9,2, 2354.89,2,   7.5856,2, -999.00,9,  -999.0,9,  -999.0, -999.00,9,  -999.0,9, -999.00,9,     -999.0,9, 20190420,     1630, -62.5004,  30.0000,      25.06,     1.0877,2,      0.136,1,      0.061,1,      4.632,1
325020190403,       I06S,      20,          1,         25,         25,2,20190420,       1450,   -62.5004,       30.0,       5166,   512.6,   1.1994,  34.7041,2,  34.7072,2,    193.6,2,   193.7,2,   100.8,2,   32.08,2,    0.01,2,    2.18,2,-999.000,9,-999.000,9,-999.0000,9,  -999.0,9, -999.00,9,-999.0000,9, -999.00,9,  -999.0,9,  -999.0,    0.33,2,    38.3,2,   32.69,2,     -999.0,9, 20190420,     1633, -62.5004,  30.0000,     -999.0,     1.2007,2,      0.131,1,      0.061,1,      4.634,1
325020190403,       I06S,      20,          1,         26,         26,2,20190420,       1450,   -62.5004,       30.0,       5166,   411.8,   1.3371,  34.6974,2,  34.6992,2,    189.9,2,   191.1,2,    97.5,2,   32.20,2,    0.01,2,    2.20,2,   0.530,2,   0.287,2,   0.2974,2,  2260.9,2, 2354.65,2,   7.5772,2, -999.00,9,  -999.0,9,  -999.0, -999.00,9,    40.7,2,   34.26,2,     -999.0,5, 20190420,     1636, -62.5004,  30.0000,      25.06,     1.3361,2,      0.134,1,      0.060,1,      4.631,1
325020190403,       I06S,      20,          1,         27,         27,2,20190420,       1450,   -62.5004,       30.0,       5166,   360.3,   1.3698,  34.6899,3,-999.0000,9,    188.9,2,   188.2,2,    96.4,2,   32.47,2,    0.01,2,    2.21,2,-999.000,9,-999.000,9,-999.0000,9,  -999.0,9, -999.00,9,-999.0000,9, -999.00,9,  -999.0,9,  -999.0,    0.32,2,  -999.0,9, -999.00,9,     -999.0,9, 20190420,     1637, -62.5004,  30.0000,     -999.0,     1.3705,2,      0.138,1,      0.062,1,      4.628,1
325020190403,       I06S,      20,          1,         28,         28,2,20190420,       1450,   -62.5004,       30.0,       5166,   310.7,    1.395,  34.6782,2,  34.6801,2,    187.3,2,   186.7,2,    95.3,2,   32.86,2,    0.01,2,    2.23,2,-999.000,9,-999.000,9,-999.0000,9,  2263.0,2, 2347.61,2,   7.5660,2, -999.00,9,  -999.0,9,  -999.0, -999.00,9,    38.6,2,   31.89,2,     -999.0,9, 20190420,     1639, -62.5004,  30.0001,      25.07,     1.3932,2,      0.138,1,      0.062,1,      4.624,1
325020190403,       I06S,      20,          1,         29,         29,2,20190420,       1450,   -62.5004,       30.0,       5166,   259.1,   1.4398,  34.6618,2,  34.6642,2,    186.2,2,   185.1,2,    93.3,2,   33.21,2,    0.00,2,    2.23,2,   0.752,2,   0.410,2,   0.4801,2,  2262.3,6, 2347.85,2,   7.5586,2, -999.00,9,  -999.0,9,  -999.0,    0.19,2,    38.4,2,   34.11,2,     -999.0,5, 20190420,     1641, -62.5004,  30.0000,      25.06,     1.4381,2,      0.142,1,      0.064,1,      4.620,1
325020190403,       I06S,      20,          1,         30,         30,2,20190420,       1450,   -62.5004,       30.0,       5166,   208.1,   1.3883,  34.6261,2,  34.6281,2,    186.6,2,   186.1,2,    91.1,2,   33.52,2,    0.01,2,    2.26,2,-999.000,9,-999.000,9,-999.0000,9,  -999.0,9, -999.00,9,-999.0000,9, -999.00,9,  -999.0,9,  -999.0,    0.15,2,  -999.0,9, -999.00,9,     -999.0,9, 20190420,     1642, -62.5004,  30.0000,     -999.0,     1.3876,2,      0.143,1,      0.064,1,      4.618,1
325020190403,       I06S,      20,          1,         31,         31,2,20190420,       1450,   -62.5004,       30.0,       5166,   158.8,    1.192,  34.5602,2,  34.5593,2,    200.8,3,   196.9,2,    87.3,2,   33.78,2,    0.01,2,    2.29,2,   1.623,2,   0.863,2,   0.7656,2,  2261.4,2, 2337.41,2,-999.0000,5, -999.00,9,  -999.0,9,  -999.0,    0.25,2,    38.4,2,   33.80,2,     -999.0,5, 20190420,     1644, -62.5004,  30.0000,     -999.0,     1.1798,2,      0.141,1,      0.064,1,      4.620,1
325020190403,       I06S,      20,          1,         32,         32,2,20190420,       1450,   -62.5004,       30.0,       5166,   109.1,  -0.1886,  34.2844,2,  34.2871,2,    291.6,3,   279.2,2,    70.9,2,   31.28,2,    0.05,2,    2.13,2,-999.000,9,-999.000,9,-999.0000,9,  -999.0,9, -999.00,9,-999.0000,9, -999.00,9,  -999.0,9,  -999.0,    0.05,6,    43.0,2,   35.43,2,     -999.0,9, 20190420,     1646, -62.5004,  30.0000,     -999.0,     -0.205,2,      0.152,1,      0.086,1,      4.613,1
325020190403,       I06S,      20,          1,         33,         33,2,20190420,       1450,   -62.5004,       30.0,       5166,    83.9,  -1.1608,  34.1009,2,  34.1054,2,    334.3,3,   328.4,2,    59.7,2,   28.41,2,    0.43,2,    2.00,2,   5.604,2,   2.990,2,   3.6957,2,  2207.4,2, 2291.16,2,   7.6247,2, -999.00,9,  -999.0,9,  -999.0,    0.09,2,  -999.0,9, -999.00,9,     -999.0,5, 20190420,     1647, -62.5004,  30.0000,      25.05,    -1.1674,2,      0.164,1,      0.156,1,      4.581,1
325020190403,       I06S,      20,          1,         34,         34,2,20190420,       1450,   -62.5004,       30.0,       5166,    56.8,   -0.012,  33.8146,2,  33.8185,2,    338.0,2,   338.8,2,    40.8,2,   24.47,2,    0.29,2,    1.68,2,-999.000,9,-999.000,9,-999.0000,9,  -999.0,9, -999.00,9,-999.0000,9, -999.00,9,  -999.0,9,  -999.0,    0.09,2,    42.8,2,   28.87,2,     -999.0,9, 20190420,     1648, -62.5004,  30.0000,     -999.0,    -0.0111,2,      0.195,1,      0.196,1,      4.546,1
325020190403,       I06S,      20,          1,         35,         35,2,20190420,       1450,   -62.5004,       30.0,       5166,    32.7,    0.087,  33.7985,2,  33.8019,2,    338.5,2,   338.5,2,    38.1,2,   24.12,2,    0.28,2,    1.63,2,   5.763,2,   3.076,2,   3.8229,2,  2172.5,2, 2294.13,2,   7.6832,2, -999.00,9,  -999.0,9,  -999.0,   -0.06,2,  -999.0,9, -999.00,9,     -999.0,5, 20190420,     1650, -62.5004,  30.0000,      25.07,     0.0858,2,      0.197,1,      0.206,1,      4.541,1
325020190403,       I06S,      20,          1,         36,         36,2,20190420,       1450,   -62.5004,       30.0,       5166,    12.4,   0.0855,  33.7983,2,  33.8023,2,    337.5,2,   338.4,2,    38.6,2,   24.03,2,    0.28,2,    1.63,2,   5.720,2,   3.048,2,   3.7510,2,  2171.1,6, 2295.01,2,   7.6838,2, -999.00,9,  -999.0,9,  -999.0,   -0.22,2,    40.6,2,   27.45,2,     -999.0,5, 20190420,     1651, -62.5004,  30.0000,      25.05,     0.0856,2,      0.192,1,      0.198,1,      4.540,1