BOTTLE,20210804CCHSIOCBG
EXPOCODE,SECT_ID,STNNBR,CASTNO,SAMPNO,BTLNBR,BTLNBR_FLAG_W,DATE,TIME,LATITUDE,LONGITUDE,DEPTH,CTDPRS,CTDTMP,CTDSAL,CTDSAL_FLAG_W,SALNTY,SALNTY_FLAG_W,CTDOXY,CTDOXY_FLAG_W,OXYGEN,OXYGEN_FLAG_W,SILCAT,SILCAT_FLAG_W,NITRAT,NITRAT_FLAG_W,NITRIT,NITRIT_FLAG_W,PHSPHT,PHSPHT_FLAG_W,CFC-11,CFC-11_FLAG_W,CFC-12,CFC-12_FLAG_W,SF6,SF6_FLAG_W,TCARBN,TCARBN_FLAG_W,ALKALI,ALKALI_FLAG_W,PH_TOT,PH_TOT_FLAG_W,DELC13,DELC13_FLAG_W,DELC14,DELC14_FLAG_W,C14ERR,DELO18,DELO18_FLAG_W,DOC,DOC_FLAG_W,TDN,TDN_FLAG_W,N2O,N2O_FLAG_W,BTL_DATE,BTL_TIME,BTL_LAT,BTL_LON,PH_TMP,REFTMP,REFTMP_FLAG_W,CTDBACKSCATTER,CTDBACKSCATTER_FLAG_W,CTDFLUOR,CTDFLUOR_FLAG_W,CTDXMISS,CTDXMISS_FLAG_W
,,,,,,,,,,,METERS,DBAR,ITS-90,PSS-78,,PSS-78,,UMOL/KG,,UMOL/KG,,UMOL/KG,,UMOL/KG,,UMOL/KG,,UMOL/KG,,PMOL/KG,,PMOL/KG,,FMOL/KG,,UMOL/KG,,UMOL/KG,,,,/MILLE,,/MILLE,,/MILLE,/MILLE,,UMOL/KG,,UMOL/KG,,NMOL/KG,,,,,,DEG C,ITS-90,,VOLTS,,VOLTS,,VOLTS,
325020190403,       I06S,      26,          1,          1,          1,2,20190422,       1303,   -59.5004,    29.9978,       5257,  5362.9,  -0.2481,  34.6498,2,  34.6501,2,    243.4,2,   243.5,2,   135.1,2,   32.39,2,    0.00,2,    2.23,2,   0.788,2,   0.399,2,   0.2741,2,  2249.8,6, 2353.40,2,   7.6015,2,    0.60,2,  -156.2,2,     1.6,    0.06,2,    39.6,2,   33.04,2,    16.9513,3, 20190422,     1303, -59.5003,  29.9978,      25.10,    -0.2479,2,      0.152,1,      0.059,1,      4.603,1
325020190403,       I06S,      26,          1,          2,          2,2,20190422,       1303,   -59.5004,    29.9978,       5257,  5293.3,  -0.2469,    34.65,2,  34.6499,2,    243.3,2,   243.1,2,   134.4,2,   32.36,2,    0.00,2,    2.23,2,-999.000,9,-999.000,9,-999.0000,9,  -999.0,9, -999.00,9,-999.0000,9,    0.61,2,  -156.8,2,     2.0,    0.06,2,    40.1,2,   33.97,2,     -999.0,9, 20190422,     1306, -59.5003,  29.9977,     -999.0,    -0.2469,2,      0.132,1,      0.060,1,      4.618,1
325020190403,       I06S,      26,          1,          3,          3,2,20190422,       1303,   -59.5004,    29.9978,       5257,  5220.5,  -0.2399,   34.651,2,  34.6509,2,    241.6,2,   242.9,2,   136.3,2,   32.37,2,    0.00,2,    2.23,2,   0.737,2,   0.368,2,   0.2063,2,  2250.5,2, 2354.41,2,   7.6009,2,    0.57,2,  -157.0,2,     2.0,   -0.01,2,  -999.0,9, -999.00,9,     17.452,3, 20190422,     1308, -59.5002,  29.9976,      25.08,    -0.2399,2,      0.133,1,      0.059,1,      4.620,1
325020190403,       I06S,      26,          1,          4,          4,2,20190422,       1303,   -59.5004,    29.9978,       5257,  4807.5,  -0.2213,  34.6532,2,  34.6531,2,    239.7,2,   240.5,2,   132.4,2,   32.45,2,    0.00,2,    2.23,2,-999.000,9,-999.000,9,-999.0000,9,  -999.0,9, -999.00,9,-999.0000,9,    0.58,2,  -155.2,2,     1.6,   -0.03,2,    39.4,2,   34.16,2,     -999.0,9, 20190422,     1319, -59.4998,  29.9973,     -999.0,    -0.2212,2,      0.124,1,      0.060,1,      4.630,1
325020190403,       I06S,      26,          1,          5,          5,2,20190422,       1303,   -59.5004,    29.9978,       5257,  4391.6,  -0.1959,  34.6555,2,  34.6548,2,    237.2,2,   237.9,2,   130.0,2,   32.37,2,    0.00,2,    2.24,2,   0.675,2,   0.338,2,   0.2331,2,  -999.0,9, -999.00,9,-999.0000,9,    0.49,2,  -157.2,2,     1.9,    0.03,2,    39.1,2,   33.28,2,    17.4409,3, 20190422,     1327, -59.4997,  29.9971,     -999.0,    -0.1958,2,      0.123,1,      0.060,1,      4.632,1
325020190403,       I06S,      26,          1,          6,          6,2,20190422,       1303,   -59.5004,    29.9978,       5257,  3982.8,  -0.1501,  34.6583,2,   34.658,2,    233.2,2,   234.7,2,   128.6,2,   32.46,2,    0.00,2,    2.24,2,   0.653,2,   0.332,2,   0.2429,2,  2253.1,2, 2356.00,2,   7.5966,2,    0.50,2,  -158.4,2,     1.6, -999.00,9,  -999.0,9, -999.00,9,    17.6196,3, 20190422,     1335, -59.4998,  29.9973,      25.10,    -0.1499,2,      0.121,1,      0.060,1,      4.632,1
325020190403,       I06S,      26,          1,          7,          7,2,20190422,       1303,   -59.5004,    29.9978,       5257,  3676.4,  -0.1002,  34.6606,2,  34.6615,2,    229.8,2,   231.9,2,   127.6,2,   32.57,2,    0.00,2,    2.25,2,-999.000,9,-999.000,9,-999.0000,9,  -999.0,9, -999.00,9,-999.0000,9,    0.48,2,  -157.0,2,     1.6,    0.17,6,    39.2,2,   32.34,2,     -999.0,9, 20190422,     1342, -59.4998,  29.9973,     -999.0,    -0.0999,2,      0.122,1,      0.061,1,      4.633,1
325020190403,       I06S,      26,          1,          8,          8,2,20190422,       1303,   -59.5004,    29.9978,       5257,  3367.2,  -0.0584,   34.663,2,  34.6625,2,    225.6,3,   228.4,2,   128.0,2,   32.69,2,    0.00,2,    2.25,2,-999.000,9,-999.000,9,-999.0000,9,  -999.0,9, -999.00,9,-999.0000,9,    0.46,2,  -157.2,2,     1.7, -999.00,9,    39.1,2,   32.94,2,     -999.0,9, 20190422,     1348, -59.4998,  29.9973,     -999.0,    -0.0585,2,      0.123,1,      0.061,1,      4.633,1
325020190403,       I06S,      26,          1,          9,          9,2,20190422,       1303,   -59.5004,    29.9978,       5257,  3058.0,   0.0205,  34.6667,2,   34.666,2,    221.6,3,   224.4,2,   128.1,2,   32.74,2,    0.00,2,    2.27,2,   0.556,2,   0.276,2,   0.2058,2,  2256.9,2, 2355.71,2,   7.5883,2,    0.51,2,  -162.9,2,     1.6,   -0.05,2,  -999.0,9, -999.00,9,    17.8518,3, 20190422,     1355, -59.4999,  29.9974,      25.09,     0.0204,2,      0.121,1,      0.061,1,      4.634,1
325020190403,       I06S,      26,          1,         10,         10,2,20190422,       1303,   -59.5004,    29.9978,       5257,  2801.1,   0.0862,  34.6697,2,   34.669,2,    218.5,2,   220.3,2,   128.1,2,   32.87,2,    0.00,2,    2.26,2,-999.000,9,-999.000,9,-999.0000,9,  -999.0,9, -999.00,9,-999.0000,9,    0.48,2,  -160.4,2,     1.8, -999.00,9,    39.2,2,   32.63,2,     -999.0,9, 20190422,     1400, -59.5000,  29.9976,     -999.0,     0.0866,2,      0.122,1,      0.060,1,      4.633,1
325020190403,       I06S,      26,          1,         11,         11,2,20190422,       1303,   -59.5004,    29.9978,       5257,  2547.8,   0.1716,  34.6734,2,  34.6729,2,    214.9,2,   216.5,2,   127.6,2,   32.93,2,    0.00,2,    2.27,2,   0.505,2,   0.247,2,   0.2238,2,  2259.9,2, 2358.65,2,   7.5832,2,    0.45,2,  -162.8,2,     1.6,    0.14,2,    38.7,2,   34.12,2,    18.0918,3, 20190422,     1406, -59.5002,  29.9978,      25.06,     0.1716,2,      0.124,1,      0.061,1,      4.634,1
325020190403,       I06S,      26,          1,         12,         12,2,20190422,       1303,   -59.5004,    29.9978,       5257,  2291.1,   0.2778,  34.6783,2,  34.6782,2,    211.3,2,   212.5,2,   126.7,2,   33.01,2,    0.00,2,    2.28,2,-999.000,9,-999.000,9,-999.0000,9,  -999.0,9, -999.00,9,-999.0000,9, -999.00,9,  -999.0,9,  -999.0, -999.00,9,  -999.0,9, -999.00,9,     -999.0,9, 20190422,     1411, -59.5003,  29.9979,     -999.0,     0.2776,2,      0.124,1,      0.060,1,      4.633,1
325020190403,       I06S,      26,          1,         13,         13,2,20190422,       1303,   -59.5004,    29.9978,       5257,  2038.7,   0.3807,  34.6832,2,  34.6827,2,    207.7,2,   209.0,2,   124.5,2,   32.89,2,    0.00,2,    2.27,2,   0.473,2,   0.232,2,   0.1854,2,  2261.8,2, 2359.06,2,   7.5807,2,    0.40,2,  -162.4,2,     1.5,    0.13,2,    38.6,2,   34.35,2,    18.2466,3, 20190422,     1416, -59.5003,  29.9979,      25.15,     0.3808,2,      0.124,1,      0.060,1,      4.633,1
325020190403,       I06S,      26,          1,         14,         14,2,20190422,       1303,   -59.5004,    29.9978,       5257,  1833.0,   0.4666,   34.687,2,  34.6872,2,    204.8,2,   206.5,2,   122.4,2,   32.88,2,    0.00,2,    2.26,2,-999.000,9,-999.000,9,-999.0000,9,  -999.0,9, -999.00,9,-999.0000,9,    0.40,2,  -160.1,2,     1.6, -999.00,9,    39.7,2,   33.61,2,     -999.0,9, 20190422,     1420, -59.5004,  29.9980,     -999.0,     0.4665,2,      0.125,1,      0.060,1,      4.633,1
325020190403,       I06S,      26,          1,         15,         15,2,20190422,       1303,   -59.5004,    29.9978,       5257,  1630.4,   0.5544,  34.6913,2,  34.6911,2,    203.3,2,   205.3,2,   119.6,2,   32.75,2,    0.00,2,    2.25,2,   0.462,2,   0.228,2,   0.2026,2,  2261.6,2, 2359.44,2,   7.5821,2,    0.39,2,  -164.5,2,     1.6,    0.12,2,  -999.0,9, -999.00,9,    18.2442,3, 20190422,     1425, -59.5005,  29.9982,      25.10,     0.5544,2,      0.124,1,      0.061,1,      4.634,1
325020190403,       I06S,      26,          1,         16,         16,2,20190422,       1303,   -59.5004,    29.9978,       5257,  1424.7,   0.6806,  34.6972,2,  34.6972,2,    202.5,2,   203.7,2,   115.5,2,   32.46,2,    0.00,2,    2.23,2,-999.000,9,-999.000,9,-999.0000,9,  -999.0,9, -999.00,9,-999.0000,9,    0.40,2,  -157.9,2,     1.8, -999.00,9,    39.9,2,   33.23,2,     -999.0,9, 20190422,     1429, -59.5006,  29.9983,     -999.0,     0.6805,2,      0.127,1,      0.061,1,      4.632,1
325020190403,       I06S,      26,          1,         17,         17,2,20190422,       1303,   -59.5004,    29.9978,       5257,  1326.4,   0.7664,  34.7016,2,  34.7002,2,    202.4,2,   202.9,2,   112.7,2,   32.21,2,    0.00,2,    2.21,2,   0.447,2,   0.221,2,   0.1592,2,  2261.4,2, 2357.07,2,   7.5887,2,    0.43,2,  -158.3,2,     1.7,    0.14,2,    40.0,2,   33.94,2,    18.2693,3, 20190422,     1432, -59.5007,  29.9983,      24.71,     0.7674,2,      0.127,1,      0.060,1,      4.632,1
325020190403,       I06S,      26,          1,         18,         18,2,20190422,       1303,   -59.5004,    29.9978,       5257,  1223.5,   0.8509,  34.7054,2,  34.7053,2,    202.2,2,   202.6,2,   110.1,2,   32.05,2,    0.00,2,    2.19,2,-999.000,5,-999.000,5,-999.0000,5,  2259.4,2, -999.00,9,-999.0000,9, -999.00,9,  -999.0,9,  -999.0, -999.00,9,  -999.0,9, -999.00,9,     18.081,3, 20190422,     1435, -59.5007,  29.9984,     -999.0,     0.8513,2,      0.128,1,      0.060,1,      4.632,1
325020190403,       I06S,      26,          1,         19,         19,2,20190422,       1303,   -59.5004,    29.9978,       5257,  1123.1,   0.9403,  34.7095,2,    34.71,2,    201.2,2,   201.7,2,   108.0,2,   31.85,2,    0.00,2,    2.17,2,-999.000,9,-999.000,9,-999.0000,9,  -999.0,9, -999.00,9,-999.0000,9,    0.37,2,  -160.0,2,     1.7,    0.11,2,    40.0,2,   33.53,2,     -999.0,9, 20190422,     1437, -59.5007,  29.9984,     -999.0,     0.9401,2,      0.127,1,      0.061,1,      4.632,1
325020190403,       I06S,      26,          1,         20,         20,2,20190422,       1303,   -59.5004,    29.9978,       5257,  1019.6,    1.035,  34.7128,2,  34.7125,2,    199.8,2,   200.7,2,   105.4,2,   31.69,2,    0.00,2,    2.16,2,   0.412,2,   0.207,2,   0.2210,2,  2258.2,2, 2354.56,2,   7.5937,2,    0.38,2,  -159.8,2,     1.9, -999.00,9,    40.5,2,   33.80,2,    18.3188,3, 20190422,     1440, -59.5008,  29.9986,      25.08,     1.0348,2,      0.128,1,      0.061,1,      4.630,1
325020190403,       I06S,      26,          1,         21,         21,2,20190422,       1303,   -59.5004,    29.9978,       5257,   919.8,   1.1377,  34.7169,2,   34.717,2,    198.4,2,   199.4,2,   102.8,2,   31.55,2,    0.00,2,    2.15,2,   0.404,2,   0.207,2,   0.2244,2,  2256.9,2, 2356.98,2,   7.5942,2,    0.39,2,  -155.8,2,     1.8,    0.11,2,  -999.0,9, -999.00,9,    18.5813,3, 20190422,     1442, -59.5009,  29.9986,      25.09,     1.1369,2,      0.129,1,      0.061,1,      4.630,1
325020190403,       I06S,      26,          1,         22,         22,2,20190422,       1303,   -59.5004,    29.9978,       5257,   816.7,   1.2686,  34.7214,2,  34.7211,2,    195.9,3,   198.0,2,    99.7,2,   31.60,2,    0.00,2,    2.19,2,-999.000,9,-999.000,9,-999.0000,9,  -999.0,9, -999.00,9,-999.0000,9,    0.55,2,  -155.4,2,     1.7, -999.00,9,    40.4,2,   33.40,2,     -999.0,9, 20190422,     1445, -59.5010,  29.9988,     -999.0,     1.2682,2,      0.128,1,      0.061,1,      4.631,1
325020190403,       I06S,      26,          1,         23,         23,2,20190422,       1303,   -59.5004,    29.9978,       5257,   716.4,   1.3521,  34.7159,2,  34.7155,2,    192.1,2,   193.7,2,    97.6,2,   31.59,2,    0.00,2,    2.15,2,   0.426,2,   0.216,2,   0.2937,2,  2257.2,2, 2357.13,2,   7.5885,2,    0.51,2,  -152.5,2,     1.7,    0.18,2,    40.0,2,   33.18,2,    18.7019,3, 20190422,     1448, -59.5011,  29.9989,      25.07,      1.352,2,      0.130,1,      0.061,1,      4.629,1
325020190403,       I06S,      26,          1,         24,         24,2,20190422,       1303,   -59.5004,    29.9978,       5257,   614.7,   1.4807,  34.7134,2,  34.7131,2,    190.5,2,   190.7,2,    94.7,2,   31.73,2,    0.00,2,    2.16,2,   0.440,2,   0.234,2,   0.3060,2,  2257.2,2, 2352.72,2,   7.5847,2, -999.00,9,  -999.0,9,  -999.0, -999.00,9,  -999.0,9, -999.00,9,    18.7951,3, 20190422,     1450, -59.5012,  29.9989,      25.07,     1.4847,2,      0.133,1,      0.062,1,      4.628,1
325020190403,       I06S,      26,          1,         25,         25,2,20190422,       1303,   -59.5004,    29.9978,       5257,   512.3,   1.5643,   34.698,2,  34.6974,2,    185.5,2,   186.1,2,    92.7,2,   32.22,2,    0.00,2,    2.20,2,-999.000,9,-999.000,9,-999.0000,9,  -999.0,9, -999.00,9,-999.0000,9,    0.50,2,  -150.5,2,     1.7,    0.17,2,    40.8,2,   35.82,2,     -999.0,9, 20190422,     1453, -59.5013,  29.9990,     -999.0,      1.559,2,      0.131,1,      0.060,1,      4.629,1
325020190403,       I06S,      26,          1,         26,         26,2,20190422,       1303,   -59.5004,    29.9978,       5257,   394.7,   1.6712,  34.6731,2,  34.6719,2,    181.0,2,   181.2,2,    89.8,2,   32.89,2,    0.00,2,    2.24,2,   0.623,2,   0.334,2,   0.3917,2,  2261.0,2, -999.00,9,-999.0000,9,    0.42,2,  -154.3,2,     2.3, -999.00,9,    41.5,2,   35.98,2,    19.5091,3, 20190422,     1456, -59.5014,  29.9992,     -999.0,     1.6698,2,      0.129,1,      0.061,1,      4.633,1
325020190403,       I06S,      26,          1,         27,         27,2,20190422,       1303,   -59.5004,    29.9978,       5257,   350.7,   1.6821,  34.6598,2,  34.6595,2,    179.9,2,   180.1,2,    88.9,2,   33.14,2,    0.00,2,    2.25,2,-999.000,9,-999.000,9,-999.0000,9,  2263.7,2, 2344.38,2,   7.5551,2,    0.41,2,  -149.3,2,     1.7,     0.2,6,  -999.0,9, -999.00,9,     -999.0,9, 20190422,     1458, -59.5014,  29.9992,      25.09,     1.6824,2,      0.130,1,      0.061,1,      4.633,1
325020190403,       I06S,      26,          1,         28,         28,2,20190422,       1303,   -59.5004,    29.9978,       5257,   310.6,   1.7126,  34.6376,2,  34.6366,2,    180.9,3,   178.6,2,    86.7,2,   33.58,2,    0.00,2,    2.28,2,   0.790,2,   0.426,2,   0.4376,2,  2261.2,6, 2342.30,2,   7.5466,2,    0.40,2,  -151.6,2,     1.8, -999.00,9,    41.9,2,   35.88,2,    19.9251,3, 20190422,     1500, -59.5015,  29.9993,      25.01,      1.714,2,      0.128,1,      0.062,1,      4.631,1
325020190403,       I06S,      26,          1,         29,         29,2,20190422,       1303,   -59.5004,    29.9978,       5257,   258.8,   1.6689,  34.6006,2,  34.5995,2,    182.7,3,   180.2,2,    84.5,2,   34.06,2,    0.00,2,    2.30,2,-999.000,9,-999.000,9,-999.0000,9,  2263.3,2, 2336.43,2,   7.5373,2,    0.41,2,  -153.4,2,     1.8,    0.16,2,    43.1,2,   33.65,2,     -999.0,9, 20190422,     1502, -59.5016,  29.9995,      25.13,     1.6693,2,      0.130,1,      0.061,1,      4.631,1
325020190403,       I06S,      26,          1,         30,         30,2,20190422,       1303,   -59.5004,    29.9978,       5257,   209.4,   1.3008,  34.5019,2,  34.5005,2,    202.4,2,   201.3,2,    79.9,2,   34.05,2,    0.00,2,    2.32,2,   2.009,2,   1.032,2,   1.0388,2,  2256.2,2, -999.00,9,-999.0000,9, -999.00,9,  -999.0,9,  -999.0,    0.15,2,  -999.0,9, -999.00,9,    19.9645,3, 20190422,     1504, -59.5018,  29.9996,     -999.0,     1.3059,2,      0.128,1,      0.060,1,      4.629,1
325020190403,       I06S,      26,          1,         31,         31,2,20190422,       1303,   -59.5004,    29.9978,       5257,   158.6,   0.6741,  34.3652,2,  34.3629,2,    252.0,3,   247.5,2,    72.9,2,   32.88,2,    0.00,2,    2.22,2,-999.000,9,-999.000,9,-999.0000,9,  -999.0,9, -999.00,9,-999.0000,9,    0.61,2,  -129.4,2,     2.4,    0.02,2,    42.9,2,   33.98,2,     -999.0,9, 20190422,     1507, -59.5019,  29.9997,     -999.0,     0.6667,2,      0.130,1,      0.062,1,      4.630,1
325020190403,       I06S,      26,          1,         32,         32,2,20190422,       1303,   -59.5004,    29.9978,       5257,   108.9,  -0.2002,  34.1834,2,  34.1829,2,    322.2,2,   319.7,2,    62.4,2,   29.36,2,    0.49,2,    2.05,2,   5.410,2,   2.869,2,   3.5379,2,  2213.5,2, 2313.51,2,   7.6175,2,    0.90,2,  -123.6,2,     1.8,   -0.09,2,    44.2,2,   28.04,2,    16.9936,3, 20190422,     1509, -59.5020,  29.9999,      25.07,    -0.1993,2,      0.136,1,      0.113,1,      4.613,1
325020190403,       I06S,      26,          1,         33,         33,2,20190422,       1303,   -59.5004,    29.9978,       5257,    82.5,   0.4644,  33.8879,2,  33.8879,2,    335.7,2,   334.0,2,    47.5,2,   25.45,2,    0.37,2,    1.78,2,-999.000,9,-999.000,9,-999.0000,9,  -999.0,9, -999.00,9,-999.0000,9,    1.28,2,  -109.8,2,     1.9,   -0.16,2,  -999.0,9, -999.00,9,     -999.0,9, 20190422,     1510, -59.5021,  29.9999,     -999.0,      0.474,3,      0.143,1,      0.119,1,      4.597,1
325020190403,       I06S,      26,          1,         34,         34,2,20190422,       1303,   -59.5004,    29.9978,       5257,    58.6,   0.6123,  33.8327,2,  33.8329,2,    334.7,2,   335.9,2,    44.7,2,   24.80,2,    0.33,2,    1.71,2,   5.651,2,   3.003,2,   3.7969,2,  2173.4,2, -999.00,9,-999.0000,9,    1.31,2,  -106.6,2,     2.2,   -0.22,2,    43.2,2,   25.02,2,    15.2065,3, 20190422,     1512, -59.5022,  30.0001,     -999.0,     0.6118,2,      0.145,1,      0.112,1,      4.592,1
325020190403,       I06S,      26,          1,         35,         35,2,20190422,       1303,   -59.5004,    29.9978,       5257,    32.1,   0.6131,  33.8326,2,  33.8328,2,    333.5,2,   335.8,2,    44.9,2,   24.73,2,    0.33,2,    1.70,2,   5.665,2,   3.006,2,   3.8868,2,  2172.3,2, 2297.52,2,   7.6797,2,    1.33,2,  -107.8,2,     1.7,   -0.13,2,  -999.0,9, -999.00,9,    15.2514,3, 20190422,     1514, -59.5023,  30.0001,      25.08,     0.6125,2,      0.144,1,      0.117,1,      4.592,1
325020190403,       I06S,      26,          1,         36,         36,2,20190422,       1303,   -59.5004,    29.9978,       5257,    13.1,   0.6119,  33.8324,2,  33.8328,2,    332.6,2,   335.8,2,    44.9,2,   24.59,2,    0.33,2,    1.69,2,   5.668,2,   3.019,2,   3.8139,2,  2172.2,6, 2294.66,2,   7.6794,2,    1.31,2,  -107.0,2,     1.7,   -0.18,2,    43.4,2,   23.92,2,    15.2852,3, 20190422,     1515, -59.5023,  30.0002,      25.05,     0.6111,2,      0.146,1,      0.115,1,      4.592,1