BOTTLE,20210804CCHSIOCBG
EXPOCODE,SECT_ID,STNNBR,CASTNO,SAMPNO,BTLNBR,BTLNBR_FLAG_W,DATE,TIME,LATITUDE,LONGITUDE,DEPTH,CTDPRS,CTDTMP,CTDSAL,CTDSAL_FLAG_W,SALNTY,SALNTY_FLAG_W,CTDOXY,CTDOXY_FLAG_W,OXYGEN,OXYGEN_FLAG_W,SILCAT,SILCAT_FLAG_W,NITRAT,NITRAT_FLAG_W,NITRIT,NITRIT_FLAG_W,PHSPHT,PHSPHT_FLAG_W,CFC-11,CFC-11_FLAG_W,CFC-12,CFC-12_FLAG_W,SF6,SF6_FLAG_W,TCARBN,TCARBN_FLAG_W,ALKALI,ALKALI_FLAG_W,PH_TOT,PH_TOT_FLAG_W,DELC13,DELC13_FLAG_W,DELC14,DELC14_FLAG_W,C14ERR,DELO18,DELO18_FLAG_W,DOC,DOC_FLAG_W,TDN,TDN_FLAG_W,N2O,N2O_FLAG_W,BTL_DATE,BTL_TIME,BTL_LAT,BTL_LON,PH_TMP,REFTMP,REFTMP_FLAG_W,CTDBACKSCATTER,CTDBACKSCATTER_FLAG_W,CTDFLUOR,CTDFLUOR_FLAG_W,CTDXMISS,CTDXMISS_FLAG_W
,,,,,,,,,,,METERS,DBAR,ITS-90,PSS-78,,PSS-78,,UMOL/KG,,UMOL/KG,,UMOL/KG,,UMOL/KG,,UMOL/KG,,UMOL/KG,,PMOL/KG,,PMOL/KG,,FMOL/KG,,UMOL/KG,,UMOL/KG,,,,/MILLE,,/MILLE,,/MILLE,/MILLE,,UMOL/KG,,UMOL/KG,,NMOL/KG,,,,,,DEG C,ITS-90,,VOLTS,,VOLTS,,VOLTS,
325020190403,       I06S,      50,          1,          1,          1,2,20190510,       0301,   -34.5577,    29.5087,       4284,  4346.4,   1.1225,  34.7331,2,  34.7319,2,    216.1,2,   215.2,2,   106.7,2,   30.57,2,    0.00,2,    2.09,2,-999.000,5,-999.000,5,-999.0000,5,  2254.3,6, 2366.88,2,   7.6283,3, -999.00,9,  -999.0,9,  -999.0,    0.06,2,  -999.0,9, -999.00,9,     -999.0,5, 20190510,      301, -34.5577,  29.5087,      25.07,     1.1217,2,      0.203,1,      0.061,1,      4.690,1
325020190403,       I06S,      50,          1,          2,          2,2,20190510,       0301,   -34.5577,    29.5087,       4284,  4317.9,   1.1195,  34.7333,2,  34.7323,2,    215.3,2,   215.4,2,   106.8,2,   30.52,2,    0.00,2,    2.09,2,-999.000,5,-999.000,5,-999.0000,5,  -999.0,9, -999.00,9,-999.0000,9, -999.00,9,  -999.0,9,  -999.0, -999.00,9,  -999.0,9, -999.00,9,     -999.0,5, 20190510,      303, -34.5577,  29.5087,     -999.0,     1.1191,2,      0.221,1,      0.062,1,      4.692,1
325020190403,       I06S,      50,          1,          3,          3,2,20190510,       0301,   -34.5577,    29.5087,       4284,  4283.0,   1.1475,  34.7357,2,  34.7339,2,    215.4,2,   215.2,2,   105.8,2,   30.43,2,    0.00,2,    2.07,2,   0.141,2,   0.073,2,   0.0000,2,  2254.2,2, 2367.15,2,   7.6278,2, -999.00,9,  -999.0,9,  -999.0,    0.07,2,  -999.0,9, -999.00,9,    19.7478,3, 20190510,      304, -34.5577,  29.5087,      25.09,     1.1476,2,      0.185,1,      0.061,1,      4.702,1
325020190403,       I06S,      50,          1,          4,          4,2,20190510,       0301,   -34.5577,    29.5087,       4284,  3971.9,   1.4067,  34.7565,2,  34.7551,2,    216.4,2,   216.1,2,    95.8,2,   29.49,2,    0.00,2,    2.01,2,-999.000,9,-999.000,9,-999.0000,9,  -999.0,9, -999.00,9,-999.0000,9, -999.00,9,  -999.0,9,  -999.0, -999.00,9,  -999.0,9, -999.00,9,     -999.0,9, 20190510,      310, -34.5577,  29.5087,     -999.0,     1.4062,2,      0.137,1,      0.062,1,      4.725,1
325020190403,       I06S,      50,          1,          5,          5,2,20190510,       0301,   -34.5577,    29.5087,       4284,  3667.3,   1.6838,  34.7784,2,  34.7767,2,    216.7,2,   216.8,2,    85.6,2,   28.45,2,    0.00,2,    1.94,2,   0.064,2,   0.036,2,   0.0000,2,  2237.1,2, 2353.71,2,   7.6452,2, -999.00,9,  -999.0,9,  -999.0,    0.16,2,  -999.0,9, -999.00,9,    18.7018,3, 20190510,      316, -34.5577,  29.5087,      25.08,     1.6831,2,      0.130,1,      0.061,1,      4.729,1
325020190403,       I06S,      50,          1,          6,          6,2,20190510,       0301,   -34.5577,    29.5087,       4284,  3359.8,   2.0487,  34.8041,2,  34.8028,2,    217.1,2,   217.0,2,    73.3,2,   27.23,2,    0.00,2,    1.85,2,-999.000,9,-999.000,9,-999.0000,9,  -999.0,9, -999.00,9,-999.0000,9, -999.00,9,  -999.0,9,  -999.0, -999.00,9,  -999.0,9, -999.00,9,     -999.0,9, 20190510,      322, -34.5577,  29.5087,     -999.0,     2.0518,2,      0.139,1,      0.063,1,      4.727,1
325020190403,       I06S,      50,          1,          7,          7,2,20190510,       0301,   -34.5577,    29.5087,       4284,  3050.5,   2.3185,  34.8179,2,  34.8164,2,    216.4,2,   216.7,2,    64.7,2,   26.54,2,    0.00,2,    1.81,2,   0.027,2,   0.016,2,   0.0000,2,  2217.3,2, 2347.21,2,   7.6606,2, -999.00,9,  -999.0,9,  -999.0,    0.27,2,  -999.0,9, -999.00,9,    18.2803,3, 20190510,      328, -34.5577,  29.5087,      25.07,     2.3174,2,      0.132,1,      0.062,1,      4.730,1
325020190403,       I06S,      50,          1,          8,          8,2,20190510,       0301,   -34.5577,    29.5087,       4284,  2798.8,   2.4582,  34.8136,2,  34.8118,2,    211.5,2,   212.3,2,    62.9,2,   26.84,2,    0.00,2,    1.83,2,-999.000,9,-999.000,9,-999.0000,9,  -999.0,9, -999.00,9,-999.0000,9, -999.00,9,  -999.0,9,  -999.0, -999.00,9,  -999.0,9, -999.00,9,     -999.0,9, 20190510,      333, -34.5577,  29.5087,     -999.0,     2.4589,2,      0.141,1,      0.061,1,      4.730,1
325020190403,       I06S,      50,          1,          9,          9,2,20190510,       0301,   -34.5577,    29.5087,       4284,  2541.8,   2.5691,  34.7929,2,  34.7914,2,    200.0,3,   202.3,2,    65.7,2,   27.96,2,    0.00,2,    1.93,2,   0.035,2,   0.020,2,   0.0000,2,  2228.1,2, 2343.53,2,   7.6397,2, -999.00,9,  -999.0,9,  -999.0,    0.24,6,  -999.0,9, -999.00,9,    20.0091,3, 20190510,      338, -34.5577,  29.5087,      25.09,     2.5685,2,      0.132,1,      0.060,1,      4.729,1
325020190403,       I06S,      50,          1,         10,         10,2,20190510,       0301,   -34.5577,    29.5087,       4284,  2287.3,   2.6679,  34.7595,2,   34.758,2,    188.1,2,   188.3,2,    72.2,2,   29.73,2,    0.00,2,    2.05,2,-999.000,9,-999.000,9,-999.0000,9,  -999.0,9, -999.00,9,-999.0000,9, -999.00,9,  -999.0,9,  -999.0, -999.00,9,  -999.0,9, -999.00,9,     -999.0,9, 20190510,      342, -34.5577,  29.5087,     -999.0,     2.6671,2,      0.130,1,      0.062,1,      4.729,1
325020190403,       I06S,      50,          1,         11,         11,2,20190510,       0301,   -34.5577,    29.5087,       4284,  2032.2,   2.8756,  34.7193,2,  34.7178,2,    173.5,2,   173.9,2,    76.4,2,   31.44,2,    0.00,2,    2.19,2,   0.096,2,   0.054,2,   0.0000,2,  2249.6,2, 2351.61,3,   7.5941,2, -999.00,9,  -999.0,9,  -999.0,    0.18,2,  -999.0,9, -999.00,9,    23.9844,3, 20190510,      347, -34.5577,  29.5087,      25.07,     2.8752,2,      0.134,1,      0.063,1,      4.727,1
325020190403,       I06S,      50,          1,         12,         12,2,20190510,       0301,   -34.5577,    29.5087,       4284,  1829.9,   3.1952,   34.678,2,  34.6764,2,    162.6,2,   162.1,2,    76.5,2,   32.79,2,    0.00,2,    2.28,2,   0.196,2,   0.100,2,   0.0000,2,  2255.8,2, -999.00,9,-999.0000,9, -999.00,9,  -999.0,9,  -999.0, -999.00,9,  -999.0,9, -999.00,9,    26.2826,3, 20190510,      351, -34.5577,  29.5087,     -999.0,     3.1946,2,      0.136,1,      0.064,1,      4.728,1
325020190403,       I06S,      50,          1,         13,         13,2,20190510,       0301,   -34.5577,    29.5087,       4284,  1624.2,   3.7305,  34.6138,2,  34.6125,2,    154.7,2,   155.1,2,    69.6,2,   33.59,2,    0.00,2,    2.34,2,   0.508,2,   0.214,2,   0.0269,2,  2251.9,6, 2340.13,2,   7.5635,2, -999.00,9,  -999.0,9,  -999.0,    0.15,2,  -999.0,9, -999.00,9,    28.2922,3, 20190510,      355, -34.5577,  29.5087,      25.09,     3.7269,2,      0.132,1,      0.062,1,      4.728,1
325020190403,       I06S,      50,          1,         14,         14,2,20190510,       0301,   -34.5577,    29.5087,       4284,  1524.4,   3.9989,  34.5804,2,  34.5799,2,    156.3,2,   155.8,2,    64.8,2,   33.50,2,    0.00,2,    2.33,2,-999.000,9,-999.000,9,-999.0000,9,  -999.0,9, -999.00,9,-999.0000,9, -999.00,9,  -999.0,9,  -999.0, -999.00,9,  -999.0,9, -999.00,9,     -999.0,9, 20190510,      358, -34.5577,  29.5087,     -999.0,     3.9989,2,      0.130,1,      0.062,1,      4.727,1
325020190403,       I06S,      50,          1,         15,         15,2,20190510,       0301,   -34.5577,    29.5087,       4284,  1421.7,   4.2882,  34.5298,2,  34.5287,2,    162.8,2,   162.6,2,    56.6,2,   33.01,2,    0.00,2,    2.29,2,   1.113,2,   0.452,2,   0.2235,2,  2234.8,2, 2325.34,2,   7.5714,2, -999.00,9,  -999.0,9,  -999.0,    0.17,2,  -999.0,9, -999.00,9,     27.371,3, 20190510,      400, -34.5577,  29.5087,      25.09,     4.2968,2,      0.137,1,      0.063,1,      4.728,1
325020190403,       I06S,      50,          1,         16,         16,2,20190510,       0301,   -34.5577,    29.5087,       4284,  1323.4,    4.714,  34.4898,2,  34.4887,2,    172.3,2,   170.7,2,    47.8,2,   32.00,2,    0.00,2,    2.21,2,-999.000,9,-999.000,9,-999.0000,9,  -999.0,9, -999.00,9,-999.0000,9, -999.00,9,  -999.0,9,  -999.0, -999.00,9,  -999.0,9, -999.00,9,     -999.0,9, 20190510,      403, -34.5577,  29.5087,     -999.0,     4.7182,2,      0.133,1,      0.062,1,      4.727,1
325020190403,       I06S,      50,          1,         17,         17,2,20190510,       0301,   -34.5577,    29.5087,       4284,  1221.7,   5.4276,  34.4778,2,   34.477,2,    182.0,3,   178.7,2,    37.6,2,   30.28,2,    0.00,2,    2.07,2,   1.857,2,   0.896,2,   0.5030,2,  2206.0,2, 2309.33,2,   7.6063,2, -999.00,9,  -999.0,9,  -999.0,    0.27,2,  -999.0,9, -999.00,9,    24.1049,3, 20190510,      405, -34.5577,  29.5087,      25.08,     5.4295,2,      0.156,1,      0.061,1,      4.727,1
325020190403,       I06S,      50,          1,         18,         18,2,20190510,       0301,   -34.5577,    29.5087,       4284,  1119.6,   6.0636,  34.4494,2,  34.4497,2,   -999.0,5,   196.1,2,    25.9,2,   27.80,2,    0.00,2,    1.89,2,   2.422,2,   1.308,2,   0.8238,2,  2185.9,2, -999.00,9,-999.0000,9, -999.00,9,  -999.0,9,  -999.0, -999.00,9,  -999.0,9, -999.00,9,    21.0494,3, 20190510,      408, -34.5577,  29.5087,     -999.0,     6.1034,3,      0.134,1,      0.059,1,      4.728,1
325020190403,       I06S,      50,          1,         19,         19,2,20190510,       0301,   -34.5577,    29.5087,       4284,  1018.1,   7.1666,  34.5154,2,  34.5154,2,    200.5,2,   199.3,2,    18.8,2,   25.18,2,    0.00,2,    1.70,2,   2.654,2,   1.482,2,   0.9369,2,  2174.0,2, 2292.63,2,   7.6619,2, -999.00,9,  -999.0,9,  -999.0,    0.21,2,  -999.0,9, -999.00,9,    19.4012,3, 20190510,      410, -34.5577,  29.5087,      25.10,     7.1743,2,      0.138,1,      0.060,1,      4.727,1
325020190403,       I06S,      50,          1,         20,         20,2,20190510,       0301,   -34.5577,    29.5087,       4284,   914.5,   8.6182,  34.6407,2,  34.6397,2,    206.9,2,   204.9,2,    12.3,2,   21.21,2,    0.00,2,    1.43,2,-999.000,9,-999.000,9,-999.0000,9,  -999.0,9, -999.00,9,-999.0000,9, -999.00,9,  -999.0,9,  -999.0, -999.00,9,  -999.0,9, -999.00,9,     -999.0,9, 20190510,      413, -34.5577,  29.5087,     -999.0,     8.6225,2,      0.132,1,      0.059,1,      4.725,1
325020190403,       I06S,      50,          1,         21,         21,2,20190510,       0301,   -34.5577,    29.5087,       4284,   815.5,  10.0105,  34.7917,2,  34.7912,2,    216.6,2,   215.8,2,     7.0,2,   16.83,2,    0.00,2,    1.14,2,   2.980,2,   1.758,2,   1.2435,2,  2143.4,2, -999.00,9,-999.0000,9, -999.00,9,  -999.0,9,  -999.0,    0.39,2,  -999.0,9, -999.00,9,    14.8465,3, 20190510,      415, -34.5577,  29.5087,     -999.0,    10.0165,2,      0.134,1,      0.059,1,      4.724,1
325020190403,       I06S,      50,          1,         22,         22,2,20190510,       0301,   -34.5577,    29.5087,       4284,   714.8,  11.1329,  34.9426,2,  34.9415,2,    220.5,2,   219.3,2,     5.1,2,   13.91,2,    0.00,2,    0.96,2,   2.991,2,   1.806,2,   1.4365,2,  2133.6,2, 2303.86,2,   7.7866,2, -999.00,9,  -999.0,9,  -999.0,    0.47,2,  -999.0,9, -999.00,9,    13.6556,3, 20190510,      418, -34.5577,  29.5087,      25.10,     11.134,2,      0.134,1,      0.059,1,      4.721,1
325020190403,       I06S,      50,          1,         23,         23,2,20190510,       0301,   -34.5577,    29.5087,       4284,   614.0,  12.3513,  35.1179,2,  35.1179,2,    218.3,2,   217.2,2,     4.2,2,   11.41,2,    0.00,2,    0.80,2,   2.829,2,   1.725,2,   1.4699,2,  2128.0,2, -999.00,9,-999.0000,9, -999.00,9,  -999.0,9,  -999.0,    0.59,2,  -999.0,9, -999.00,9,    12.7048,3, 20190510,      420, -34.5577,  29.5087,     -999.0,    12.3537,2,      0.137,1,      0.059,1,      4.719,1
325020190403,       I06S,      50,          1,         24,         24,2,20190510,       0301,   -34.5577,    29.5087,       4284,   510.4,  13.3122,  35.2514,2,  35.2491,2,    215.5,2,   214.6,2,     3.8,2,    9.60,2,    0.00,2,    0.68,2,   2.693,2,   1.654,2,   1.6131,2,  2125.5,2, 2317.75,2,   7.8343,2, -999.00,9,  -999.0,9,  -999.0,    0.67,2,  -999.0,9, -999.00,9,    12.1509,3, 20190510,      423, -34.5577,  29.5087,      25.09,    13.3205,2,      0.139,1,      0.060,1,      4.716,1
325020190403,       I06S,      50,          1,         25,         25,2,20190510,       0301,   -34.5577,    29.5087,       4284,   460.1,  13.9684,  35.3266,2,  35.3256,2,    210.0,2,   210.7,2,     3.8,2,    8.59,2,    0.00,2,    0.62,2,   2.598,2,   1.620,2,   1.6295,2,  2123.3,2, -999.00,9,-999.0000,9, -999.00,9,  -999.0,9,  -999.0,    0.69,6,  -999.0,9, -999.00,9,    11.8956,3, 20190510,      425, -34.5577,  29.5087,     -999.0,    13.9673,2,      0.140,1,      0.059,1,      4.715,1
325020190403,       I06S,      50,          1,         26,         26,2,20190510,       0301,   -34.5577,    29.5087,       4284,   412.0,  14.5807,  35.3796,2,  35.3784,2,    204.1,3,   207.4,2,     4.0,2,    7.90,2,    0.00,2,    0.58,2,-999.000,9,-999.000,9,-999.0000,9,  -999.0,9, -999.00,9,-999.0000,9, -999.00,9,  -999.0,9,  -999.0,    0.71,2,  -999.0,9, -999.00,9,     -999.0,9, 20190510,      426, -34.5577,  29.5087,     -999.0,     14.582,2,      0.139,1,      0.060,1,      4.715,1
325020190403,       I06S,      50,          1,         27,         27,2,20190510,       0301,   -34.5577,    29.5087,       4284,   362.7,  15.4035,  35.4339,2,  35.4345,2,    197.6,2,   197.7,2,     4.7,2,    7.67,2,    0.00,2,    0.56,2,   2.410,2,   1.480,2,   1.6872,2,  2118.0,2, 2326.83,2,   7.8661,2, -999.00,9,  -999.0,9,  -999.0,    0.74,2,  -999.0,9, -999.00,9,    11.9594,3, 20190510,      428, -34.5577,  29.5087,      25.10,    15.4089,2,      0.137,1,      0.059,1,      4.714,1
325020190403,       I06S,      50,          1,         28,         28,2,20190510,       0301,   -34.5577,    29.5087,       4284,   309.6,  16.3816,  35.5314,2,  35.5302,2,    205.9,2,   206.4,2,     3.5,2,    5.52,2,    0.00,2,    0.40,2,-999.000,9,-999.000,9,-999.0000,9,  -999.0,9, -999.00,9,-999.0000,9, -999.00,9,  -999.0,9,  -999.0, -999.00,9,  -999.0,9, -999.00,9,     -999.0,9, 20190510,      430, -34.5577,  29.5087,     -999.0,    16.3768,2,      0.137,1,      0.061,1,      4.713,1
325020190403,       I06S,      50,          1,         29,         29,2,20190510,       0301,   -34.5577,    29.5087,       4284,   259.7,  17.0137,  35.5707,2,  35.5692,2,    206.4,2,   206.4,2,     3.4,2,    4.84,2,    0.00,2,    0.35,2,   2.267,2,   1.387,2,   1.7271,2,  2093.9,2, 2329.68,2,   7.9179,2, -999.00,9,  -999.0,9,  -999.0,    0.78,2,  -999.0,9, -999.00,9,     10.132,3, 20190510,      432, -34.5577,  29.5087,      25.08,    17.0116,2,      0.139,1,      0.060,1,      4.712,1
325020190403,       I06S,      50,          1,         30,         30,2,20190510,       0301,   -34.5577,    29.5087,       4284,   211.9,  17.5813,  35.5988,2,  35.6011,2,    208.4,2,   210.2,2,     2.9,2,    3.84,2,    0.00,2,    0.28,2,-999.000,9,-999.000,9,-999.0000,9,  -999.0,9, -999.00,9,-999.0000,9, -999.00,9,  -999.0,9,  -999.0, -999.00,9,  -999.0,9, -999.00,9,     -999.0,9, 20190510,      433, -34.5577,  29.5087,     -999.0,    17.5817,2,      0.139,1,      0.059,1,      4.711,1
325020190403,       I06S,      50,          1,         31,         31,2,20190510,       0301,   -34.5577,    29.5087,       4284,   159.6,  18.1462,   35.592,2,  35.5901,2,    201.4,2,   202.8,2,     2.9,2,    3.67,2,    0.01,2,    0.28,2,   2.179,2,   1.332,2,   1.7914,2,  2083.1,2, 2331.45,2,   7.9409,2, -999.00,9,  -999.0,9,  -999.0,    0.85,2,  -999.0,9, -999.00,9,     9.6014,3, 20190510,      435, -34.5577,  29.5087,      25.11,    18.1753,2,      0.146,1,      0.060,1,      4.707,1
325020190403,       I06S,      50,          1,         32,         32,2,20190510,       0301,   -34.5577,    29.5087,       4284,   107.2,  20.0527,  35.5708,2,  35.5718,2,    200.1,2,   201.8,2,     2.3,2,    2.03,2,    0.08,2,    0.20,2,-999.000,9,-999.000,9,-999.0000,9,  -999.0,9, -999.00,9,-999.0000,9, -999.00,9,  -999.0,9,  -999.0,    0.82,2,  -999.0,9, -999.00,9,     -999.0,9, 20190510,      437, -34.5577,  29.5087,     -999.0,    20.0752,2,      0.152,1,      0.089,1,      4.695,1
325020190403,       I06S,      50,          1,         33,         33,2,20190510,       0301,   -34.5577,    29.5087,       4284,    82.3,  21.3331,  35.6142,2,  35.6145,2,    215.2,2,   215.9,2,     1.3,2,    0.06,2,    0.09,2,    0.06,2,   1.977,2,   1.180,2,   1.7120,2,  2044.2,2, 2331.80,2,   8.0151,2, -999.00,9,  -999.0,9,  -999.0,    1.02,2,  -999.0,9, -999.00,9,      7.984,3, 20190510,      438, -34.5577,  29.5087,      25.09,    21.3379,2,      0.172,1,      0.134,1,      4.673,1
325020190403,       I06S,      50,          1,         34,         34,2,20190510,       0301,   -34.5577,    29.5087,       4284,    57.2,  21.6871,  35.5783,2,  35.5771,2,    216.5,2,   218.0,2,     1.3,2,    0.01,2,    0.00,2,    0.04,2,   1.949,2,   1.161,2,   1.6836,2,  -999.0,9, -999.00,9,-999.0000,9, -999.00,9,  -999.0,9,  -999.0,    0.93,2,  -999.0,9, -999.00,9,     7.6887,3, 20190510,      439, -34.5577,  29.5087,     -999.0,    21.6758,2,      0.183,1,      0.142,1,      4.660,1
325020190403,       I06S,      50,          1,         35,         35,2,20190510,       0301,   -34.5577,    29.5087,       4284,    33.0,  22.2176,   35.514,2,  35.5091,2,    216.0,2,   216.5,2,     1.4,2,    0.01,2,    0.00,2,    0.03,2,   1.907,2,   1.137,2,   1.6368,2,  2024.4,2, 2326.65,2,   8.0383,2, -999.00,9,  -999.0,9,  -999.0,    0.82,2,  -999.0,9, -999.00,9,     7.4754,3, 20190510,      441, -34.5577,  29.5087,      25.08,    22.2242,2,      0.180,1,      0.114,1,      4.659,1
325020190403,       I06S,      50,          1,         36,         36,2,20190510,       0301,   -34.5577,    29.5087,       4284,    12.4,  22.2393,  35.4977,2,  35.4973,2,    215.3,2,   216.6,2,     1.5,2,    0.00,2,    0.00,2,    0.04,2,   1.903,2,   1.164,2,   1.6805,2,  2023.4,6, 2323.12,2,   8.0413,2,    0.71,2,    21.2,2,     2.6,    0.83,2,  -999.0,9, -999.00,9,     7.3985,3, 20190510,      443, -34.5577,  29.5087,      25.11,    22.2362,2,      0.176,1,      0.098,1,      4.662,1