BOTTLE,20210804CCHSIOCBG
EXPOCODE,SECT_ID,STNNBR,CASTNO,SAMPNO,BTLNBR,BTLNBR_FLAG_W,DATE,TIME,LATITUDE,LONGITUDE,DEPTH,CTDPRS,CTDTMP,CTDSAL,CTDSAL_FLAG_W,SALNTY,SALNTY_FLAG_W,CTDOXY,CTDOXY_FLAG_W,OXYGEN,OXYGEN_FLAG_W,SILCAT,SILCAT_FLAG_W,NITRAT,NITRAT_FLAG_W,NITRIT,NITRIT_FLAG_W,PHSPHT,PHSPHT_FLAG_W,CFC-11,CFC-11_FLAG_W,CFC-12,CFC-12_FLAG_W,SF6,SF6_FLAG_W,TCARBN,TCARBN_FLAG_W,ALKALI,ALKALI_FLAG_W,PH_TOT,PH_TOT_FLAG_W,DELC13,DELC13_FLAG_W,DELC14,DELC14_FLAG_W,C14ERR,DELO18,DELO18_FLAG_W,DOC,DOC_FLAG_W,TDN,TDN_FLAG_W,N2O,N2O_FLAG_W,BTL_DATE,BTL_TIME,BTL_LAT,BTL_LON,PH_TMP,REFTMP,REFTMP_FLAG_W,CTDBACKSCATTER,CTDBACKSCATTER_FLAG_W,CTDFLUOR,CTDFLUOR_FLAG_W,CTDXMISS,CTDXMISS_FLAG_W
,,,,,,,,,,,METERS,DBAR,ITS-90,PSS-78,,PSS-78,,UMOL/KG,,UMOL/KG,,UMOL/KG,,UMOL/KG,,UMOL/KG,,UMOL/KG,,PMOL/KG,,PMOL/KG,,FMOL/KG,,UMOL/KG,,UMOL/KG,,,,/MILLE,,/MILLE,,/MILLE,/MILLE,,UMOL/KG,,UMOL/KG,,NMOL/KG,,,,,,DEG C,ITS-90,,VOLTS,,VOLTS,,VOLTS,
325020190403,       I06S,      46,          1,          1,          1,2,20190509,       0224,   -33.2343,    28.0952,        521,   518.4,   8.0356,  34.6538,2,  34.6576,2,    191.0,2,   190.5,2,    20.8,2,   23.42,2,    0.00,2,    1.62,2,   2.519,2,   1.353,2,   0.8194,2,  2173.5,6, 2302.60,2,   7.6838,3, -999.00,9,  -999.0,9,  -999.0,    0.26,2,  -999.0,9, -999.00,9,    20.1587,3, 20190509,      224, -33.2343,  28.0952,      24.50,     8.0407,2,      0.176,1,      0.061,1,      4.698,1
325020190403,       I06S,      46,          1,          2,          2,2,20190509,       0224,   -33.2343,    28.0952,        521,   484.3,   9.1009,  34.7376,2,  34.7406,2,    196.6,2,   196.9,2,    14.5,2,   20.43,2,    0.00,2,    1.41,2,-999.000,9,-999.000,9,-999.0000,9,  2160.1,2, 2300.93,2,   7.7139,3, -999.00,9,  -999.0,9,  -999.0,     0.3,2,  -999.0,9, -999.00,9,     -999.0,9, 20190509,      226, -33.2343,  28.0951,      24.96,     9.1378,2,      0.181,1,      0.059,1,      4.701,1
325020190403,       I06S,      46,          1,          3,          3,2,20190509,       0224,   -33.2343,    28.0952,        521,   445.0,   9.7225,  34.7969,2,  34.7971,2,    199.2,2,   199.2,2,    12.0,2,   18.90,2,    0.00,2,    1.32,2,   2.686,2,   1.569,2,   0.9179,2,  2154.6,2, 2301.64,2,   7.7309,3, -999.00,9,  -999.0,9,  -999.0,     0.5,2,  -999.0,9, -999.00,9,    17.8151,3, 20190509,      228, -33.2343,  28.0952,      25.06,     9.7041,2,      0.159,1,      0.060,1,      4.703,1
325020190403,       I06S,      46,          1,          4,          4,2,20190509,       0224,   -33.2343,    28.0952,        521,   395.4,  10.5368,  34.8779,2,  34.8796,2,    201.9,2,   203.1,2,     8.7,2,   16.43,2,    0.00,2,    1.16,2,-999.000,9,-999.000,9,-999.0000,9,  2147.6,2, 2303.00,2,   7.7544,3, -999.00,9,  -999.0,9,  -999.0,    0.47,6,  -999.0,9, -999.00,9,     -999.0,9, 20190509,      229, -33.2343,  28.0952,      25.03,    10.5367,2,      0.145,1,      0.061,1,      4.710,1
325020190403,       I06S,      46,          1,          5,          5,2,20190509,       0224,   -33.2343,    28.0952,        521,   345.4,  11.1762,  34.9579,2,  34.9581,2,    204.7,2,   204.7,2,     7.3,2,   14.78,2,    0.00,2,    1.04,2,   2.987,2,   1.683,2,   1.2336,2,  2141.6,2, 2305.97,2,   7.7715,3, -999.00,9,  -999.0,9,  -999.0,    0.41,2,  -999.0,9, -999.00,9,    15.9077,3, 20190509,      231, -33.2343,  28.0952,      25.03,    11.1803,2,      0.145,1,      0.059,1,      4.708,1
325020190403,       I06S,      46,          1,          6,          6,2,20190509,       0224,   -33.2343,    28.0952,        521,   295.9,  11.8275,  35.0474,2,  35.0501,2,    215.8,2,   214.6,2,     4.9,2,   12.25,2,    0.00,2,    0.89,2,-999.000,9,-999.000,9,-999.0000,9,  -999.0,9, -999.00,9,-999.0000,9, -999.00,9,  -999.0,9,  -999.0,    0.46,2,  -999.0,9, -999.00,9,     -999.0,9, 20190509,      233, -33.2343,  28.0952,     -999.0,    11.8299,2,      0.139,1,      0.059,1,      4.713,1
325020190403,       I06S,      46,          1,          7,          7,2,20190509,       0224,   -33.2343,    28.0952,        521,   252.3,  12.2434,  35.1054,2,  35.1069,2,    216.1,3,   213.2,2,     4.9,2,   11.47,2,    0.00,2,    0.83,2,   2.955,2,   1.712,2,   1.5843,2,  2131.4,2, 2311.52,2,   7.8079,3, -999.00,9,  -999.0,9,  -999.0,     0.5,2,  -999.0,9, -999.00,9,     13.713,3, 20190509,      234, -33.2343,  28.0951,      25.05,    12.2492,2,      0.141,1,      0.059,1,      4.713,1
325020190403,       I06S,      46,          1,          8,          8,2,20190509,       0224,   -33.2343,    28.0952,        521,   223.9,  12.4396,  35.1203,2,  35.1203,2,    198.5,2,   199.8,2,     6.7,2,   12.45,2,    0.00,2,    0.90,2,-999.000,9,-999.000,9,-999.0000,9,  2138.1,2, 2311.84,2,   7.7952,3, -999.00,9,  -999.0,9,  -999.0,     0.5,2,  -999.0,9, -999.00,9,     -999.0,9, 20190509,      236, -33.2343,  28.0951,      25.05,    12.4554,2,      0.150,1,      0.059,1,      4.703,1
325020190403,       I06S,      46,          1,          9,          9,2,20190509,       0224,   -33.2343,    28.0952,        521,   201.2,   12.798,  35.1583,2,  35.1596,2,    193.8,2,   195.0,2,     6.9,2,   12.23,2,    0.00,2,    0.88,2,   2.746,2,   1.589,2,   1.5335,2,  2137.8,2, 2314.99,2,   7.7970,3, -999.00,9,  -999.0,9,  -999.0,    0.52,2,  -999.0,9, -999.00,9,    14.9791,3, 20190509,      237, -33.2343,  28.0952,      25.05,    12.8078,2,      0.153,1,      0.060,1,      4.703,1
325020190403,       I06S,      46,          1,         10,         10,2,20190509,       0224,   -33.2343,    28.0952,        521,   177.0,   13.439,   35.218,2,  35.2198,2,    188.8,2,   188.3,2,     7.2,2,   11.64,2,    0.00,2,    0.85,2,-999.000,9,-999.000,9,-999.0000,9,  -999.0,9, -999.00,9,-999.0000,9, -999.00,9,  -999.0,9,  -999.0,    0.55,2,  -999.0,9, -999.00,9,     -999.0,9, 20190509,      238, -33.2343,  28.0952,     -999.0,      13.46,3,      0.150,1,      0.061,1,      4.701,1
325020190403,       I06S,      46,          1,         11,         11,2,20190509,       0224,   -33.2343,    28.0952,        521,   149.4,  14.4513,  35.3006,2,  35.3003,2,    182.5,2,   182.6,2,     7.1,2,   10.57,2,    0.00,2,    0.77,2,   2.503,2,   1.482,2,   1.4842,2,  -999.0,5, 2320.28,2,   7.8205,3, -999.00,9,  -999.0,9,  -999.0,    0.61,2,  -999.0,9, -999.00,9,    14.4097,3, 20190509,      240, -33.2343,  28.0952,      25.04,    14.4419,2,      0.150,1,      0.060,1,      4.701,1
325020190403,       I06S,      46,          1,         12,         12,2,20190509,       0224,   -33.2343,    28.0952,        521,   127.5,  15.4009,  35.3196,2,  35.3286,2,    174.7,3,   164.5,2,     8.3,2,   11.08,2,    0.00,2,    0.80,2,-999.000,9,-999.000,9,-999.0000,9,  -999.0,9, -999.00,9,-999.0000,9, -999.00,9,  -999.0,9,  -999.0,    0.63,2,  -999.0,9, -999.00,9,     -999.0,9, 20190509,      241, -33.2343,  28.0952,     -999.0,    15.5023,3,      0.155,1,      0.063,1,      4.697,1
325020190403,       I06S,      46,          1,         13,         13,2,20190509,       0224,   -33.2343,    28.0952,        521,    98.5,  18.6363,  35.5237,2,  35.5229,2,    178.7,3,   182.0,2,     4.1,2,    4.88,2,    0.01,2,    0.42,2,   2.126,2,   1.304,2,   1.5677,2,  2094.1,2, 2326.94,2,   7.9112,3, -999.00,9,  -999.0,9,  -999.0,    0.79,2,  -999.0,9, -999.00,9,     10.643,3, 20190509,      243, -33.2343,  28.0951,      25.05,    18.6655,2,      0.160,1,      0.077,1,      4.694,1
325020190403,       I06S,      46,          1,         14,         14,2,20190509,       0224,   -33.2343,    28.0952,        521,    75.5,  19.5588,  35.4632,2,  35.4471,2,    170.5,2,   169.3,2,     4.9,2,    5.84,2,    0.02,2,    0.48,2,-999.000,9,-999.000,9,-999.0000,9,  2088.2,2, 2323.79,2,   7.9114,3, -999.00,9,  -999.0,9,  -999.0,    0.71,6,  -999.0,9, -999.00,9,     -999.0,9, 20190509,      244, -33.2343,  28.0951,      25.04,    19.5685,3,      0.165,1,      0.094,1,      4.684,1
325020190403,       I06S,      46,          1,         15,         15,2,20190509,       0224,   -33.2343,    28.0952,        521,    51.6,  20.9404,  35.3468,2,  35.3434,2,    165.7,3,   162.6,2,     4.9,2,    5.77,2,    0.06,2,    0.48,2,   1.902,2,   1.171,2,   1.5159,2,  2077.2,2, 2316.80,2,   7.9236,3, -999.00,9,  -999.0,9,  -999.0,    0.66,2,  -999.0,9, -999.00,9,    11.7802,3, 20190509,      245, -33.2344,  28.0952,      25.04,    20.9731,2,      0.176,1,      0.127,1,      4.666,1
325020190403,       I06S,      46,          1,         16,         16,2,20190509,       0224,   -33.2343,    28.0952,        521,    31.2,  24.0446,  35.2576,2,  35.2556,2,    208.5,2,   207.4,2,     1.2,2,    0.11,2,    0.03,2,    0.11,2,-999.000,9,-999.000,9,-999.0000,9,  -999.0,9, -999.00,9,-999.0000,9, -999.00,9,  -999.0,9,  -999.0,    0.69,2,  -999.0,9, -999.00,9,     -999.0,9, 20190509,      247, -33.2343,  28.0952,     -999.0,    24.0422,2,      0.213,1,      0.183,1,      4.604,1
325020190403,       I06S,      46,          1,         17,         17,2,20190509,       0224,   -33.2343,    28.0952,        521,    13.7,   24.043,  35.2569,2,  35.2558,2,    204.6,3,   207.0,2,     1.5,2,    0.09,2,    0.03,2,    0.11,2,   1.692,2,   1.056,2,   1.6185,2,  2007.4,6, 2310.39,2,   8.0460,3, -999.00,9,  -999.0,9,  -999.0,    0.66,2,  -999.0,9, -999.00,9,     6.8475,3, 20190509,      249, -33.2343,  28.0952,      25.04,    24.0398,2,      0.213,1,      0.190,1,      4.601,1