BOTTLE,20210804CCHSIOCBG
EXPOCODE,SECT_ID,STNNBR,CASTNO,SAMPNO,BTLNBR,BTLNBR_FLAG_W,DATE,TIME,LATITUDE,LONGITUDE,DEPTH,CTDPRS,CTDTMP,CTDSAL,CTDSAL_FLAG_W,SALNTY,SALNTY_FLAG_W,CTDOXY,CTDOXY_FLAG_W,OXYGEN,OXYGEN_FLAG_W,SILCAT,SILCAT_FLAG_W,NITRAT,NITRAT_FLAG_W,NITRIT,NITRIT_FLAG_W,PHSPHT,PHSPHT_FLAG_W,CFC-11,CFC-11_FLAG_W,CFC-12,CFC-12_FLAG_W,SF6,SF6_FLAG_W,TCARBN,TCARBN_FLAG_W,ALKALI,ALKALI_FLAG_W,PH_TOT,PH_TOT_FLAG_W,DELC13,DELC13_FLAG_W,DELC14,DELC14_FLAG_W,C14ERR,DELO18,DELO18_FLAG_W,DOC,DOC_FLAG_W,TDN,TDN_FLAG_W,N2O,N2O_FLAG_W,BTL_DATE,BTL_TIME,BTL_LAT,BTL_LON,PH_TMP,REFTMP,REFTMP_FLAG_W,CTDBACKSCATTER,CTDBACKSCATTER_FLAG_W,CTDFLUOR,CTDFLUOR_FLAG_W,CTDXMISS,CTDXMISS_FLAG_W
,,,,,,,,,,,METERS,DBAR,ITS-90,PSS-78,,PSS-78,,UMOL/KG,,UMOL/KG,,UMOL/KG,,UMOL/KG,,UMOL/KG,,UMOL/KG,,PMOL/KG,,PMOL/KG,,FMOL/KG,,UMOL/KG,,UMOL/KG,,,,/MILLE,,/MILLE,,/MILLE,/MILLE,,UMOL/KG,,UMOL/KG,,NMOL/KG,,,,,,DEG C,ITS-90,,VOLTS,,VOLTS,,VOLTS,
325020190403,       I06S,       6,          1,          1,          1,2,20190417,       0236,   -68.2426,    30.9434,       2857,  2894.2,  -0.0217,  34.6612,2,  34.6621,2,    229.9,2,   229.6,2,   122.1,2,   32.44,2,    0.00,2,    2.23,2,   1.052,2,   0.548,2,   0.4296,2,  2258.4,6, 2351.93,2,   7.6157,2, -999.00,9,  -999.0,9,  -999.0,   -0.03,2,    38.3,2,   34.75,2,     20.464,3, 20190417,      236, -68.2426,  30.9434,      25.07,    -0.0224,2,      0.129,1,      0.062,1,      4.647,1
325020190403,       I06S,       6,          1,          2,          2,2,20190417,       0236,   -68.2426,    30.9434,       2857,  2796.1,  -0.0146,  34.6618,2,  34.6633,2,    229.1,2,   228.8,2,   122.3,2,   32.44,2,    0.00,2,    2.23,2,-999.000,9,-999.000,9,-999.0000,9,  2261.8,2, -999.00,9,-999.0000,9, -999.00,9,  -999.0,9,  -999.0,   -0.09,6,    37.3,2,   32.91,2,     -999.0,9, 20190417,      240, -68.2426,  30.9434,     -999.0,    -0.0148,2,      0.127,1,      0.062,1,      4.649,1
325020190403,       I06S,       6,          1,          3,          3,2,20190417,       0236,   -68.2426,    30.9434,       2857,  2708.9,  -0.0074,  34.6625,2,  34.6644,2,    229.2,2,   228.2,2,   122.3,2,   32.48,2,    0.00,2,    2.23,2,   0.957,2,   0.506,2,   0.3606,2,  2263.8,2, 2352.17,2,   7.5948,2, -999.00,9,  -999.0,9,  -999.0,   -0.08,2,  -999.0,9, -999.00,9,    21.5438,3, 20190417,      242, -68.2426,  30.9433,      25.07,    -0.0079,2,      0.126,1,      0.061,1,      4.649,1
325020190403,       I06S,       6,          1,          4,          4,2,20190417,       0236,   -68.2426,    30.9434,       2857,  2503.9,   0.0118,  34.6639,2,  34.6654,2,    227.3,2,   226.4,2,   122.5,2,   32.61,2,    0.00,2,    2.24,2,-999.000,9,-999.000,9,-999.0000,9,  2257.5,2, -999.00,9,-999.0000,9, -999.00,9,  -999.0,9,  -999.0, -999.00,9,    37.5,2,   34.32,2,     -999.0,9, 20190417,      246, -68.2426,  30.9433,     -999.0,     0.0112,2,      0.125,1,      0.062,1,      4.649,1
325020190403,       I06S,       6,          1,          5,          5,2,20190417,       0236,   -68.2426,    30.9434,       2857,  2300.1,   0.0398,  34.6652,2,  34.6668,2,    225.8,2,   224.9,2,   121.9,2,   32.48,2,    0.00,2,    2.23,2,   0.908,2,   0.479,2,   0.4062,2,  2257.9,2, 2352.19,2,   7.5897,2, -999.00,9,  -999.0,9,  -999.0,   -0.05,6,    41.6,2,   35.45,2,    21.8654,3, 20190417,      251, -68.2426,  30.9434,      25.06,     0.0392,2,      0.125,1,      0.061,1,      4.650,1
325020190403,       I06S,       6,          1,          6,          6,2,20190417,       0236,   -68.2426,    30.9434,       2857,  2096.5,   0.0761,  34.6671,2,   34.669,2,    224.3,2,   223.3,2,   122.2,2,   32.51,2,    0.00,2,    2.24,2,-999.000,9,-999.000,9,-999.0000,9,  2256.0,2, -999.00,9,-999.0000,9, -999.00,9,  -999.0,9,  -999.0, -999.00,9,  -999.0,9, -999.00,9,     -999.0,9, 20190417,      255, -68.2426,  30.9434,     -999.0,     0.0754,2,      0.124,1,      0.061,1,      4.651,1
325020190403,       I06S,       6,          1,          7,          7,2,20190417,       0236,   -68.2426,    30.9434,       2857,  1962.4,   0.1042,  34.6685,2,  34.6697,2,    222.5,2,   221.9,2,   122.1,2,   32.53,2,    0.00,2,    2.23,2,   0.781,2,   0.409,2,   0.3079,2,  2259.4,2, 2353.24,2,   7.5879,2, -999.00,9,  -999.0,9,  -999.0,   -0.04,2,    40.8,2,   32.81,2,    22.0739,3, 20190417,      258, -68.2426,  30.9434,      25.10,     0.1034,2,      0.126,1,      0.063,1,      4.651,1
325020190403,       I06S,       6,          1,          8,          8,2,20190417,       0236,   -68.2426,    30.9434,       2857,  1860.8,    0.129,  34.6697,2,  34.6703,2,    221.1,2,   220.6,2,   122.1,2,   32.60,2,    0.00,2,    2.24,2,-999.000,9,-999.000,9,-999.0000,9,  2260.1,2, -999.00,9,-999.0000,9, -999.00,9,  -999.0,9,  -999.0, -999.00,9,    38.4,2,   31.30,2,     -999.0,9, 20190417,      300, -68.2426,  30.9433,     -999.0,     0.1281,2,      0.126,1,      0.060,1,      4.651,1
325020190403,       I06S,       6,          1,          9,          9,2,20190417,       0236,   -68.2426,    30.9434,       2857,  1759.1,   0.1575,  34.6711,2,  34.6721,2,    219.5,2,   219.5,2,   121.7,2,   32.57,2,    0.00,2,    2.24,2,   0.740,2,   0.390,2,   0.2970,2,  2259.9,2, 2351.71,2,   7.5874,2, -999.00,9,  -999.0,9,  -999.0, -999.00,9,  -999.0,9, -999.00,9,    22.1956,3, 20190417,      302, -68.2426,  30.9434,      25.05,     0.1572,2,      0.125,1,      0.061,1,      4.651,1
325020190403,       I06S,       6,          1,         10,         10,2,20190417,       0236,   -68.2426,    30.9434,       2857,  1656.7,   0.1957,  34.6723,2,  34.6731,2,    218.6,2,   218.0,2,   121.2,2,   32.58,2,    0.00,2,    2.23,2,-999.000,9,-999.000,9,-999.0000,9,  2262.1,6, -999.00,9,-999.0000,9, -999.00,9,  -999.0,9,  -999.0,   -0.03,2,    37.3,2,   33.04,2,     -999.0,9, 20190417,      305, -68.2426,  30.9434,     -999.0,     0.1952,2,      0.126,1,      0.061,1,      4.650,1
325020190403,       I06S,       6,          1,         11,         11,2,20190417,       0236,   -68.2426,    30.9434,       2857,  1555.2,   0.2468,  34.6736,2,   34.675,2,    217.7,2,   216.9,2,   119.7,2,   32.64,2,    0.00,2,    2.24,2,   0.726,2,   0.388,2,   0.3119,2,  2259.8,2, 2352.02,2,   7.5865,2, -999.00,9,  -999.0,9,  -999.0, -999.00,9,    38.5,2,   33.05,2,    22.2995,3, 20190417,      307, -68.2426,  30.9434,      25.02,     0.2468,2,      0.125,1,      0.062,1,      4.651,1
325020190403,       I06S,       6,          1,         12,         12,2,20190417,       0236,   -68.2426,    30.9434,       2857,  1454.3,   0.2781,  34.6751,2,  34.6766,2,    216.3,2,   215.5,2,   119.4,2,   32.62,2,    0.00,2,    2.23,2,-999.000,9,-999.000,9,-999.0000,9,  2262.3,2, -999.00,9,-999.0000,9, -999.00,9,  -999.0,9,  -999.0, -999.00,9,  -999.0,9, -999.00,9,     -999.0,9, 20190417,      310, -68.2426,  30.9433,     -999.0,     0.2772,2,      0.126,1,      0.063,1,      4.651,1
325020190403,       I06S,       6,          1,         13,         13,2,20190417,       0236,   -68.2426,    30.9434,       2857,  1352.9,   0.3507,   34.678,2,  34.6801,2,    215.3,2,   213.5,2,   117.9,2,   32.40,2,    0.00,2,    2.23,2,   0.696,2,   0.360,2,   0.2605,2,  2262.0,2, 2353.65,2,   7.5872,2, -999.00,9,  -999.0,9,  -999.0,   -0.01,2,    37.9,2,   31.49,2,    22.1819,3, 20190417,      312, -68.2426,  30.9434,      25.06,     0.3492,2,      0.124,1,      0.061,1,      4.651,1
325020190403,       I06S,       6,          1,         14,         14,2,20190417,       0236,   -68.2426,    30.9434,       2857,  1251.0,    0.386,  34.6791,2,  34.6807,2,    213.5,2,   212.8,2,   116.4,2,   32.47,2,    0.00,2,    2.23,2,-999.000,9,-999.000,9,-999.0000,9,  2261.8,2, -999.00,9,-999.0000,9, -999.00,9,  -999.0,9,  -999.0, -999.00,9,    38.9,2,   35.15,2,     -999.0,9, 20190417,      315, -68.2426,  30.9434,     -999.0,     0.3857,2,      0.126,1,      0.062,1,      4.651,1
325020190403,       I06S,       6,          1,         15,         15,2,20190417,       0236,   -68.2426,    30.9434,       2857,  1150.3,    0.442,  34.6816,2,  34.6837,2,    213.4,2,   211.7,2,   115.4,2,   32.44,2,    0.00,2,    2.23,2,   0.687,2,   0.365,2,   0.2481,2,  2262.3,2, 2352.75,2,   7.5866,2, -999.00,9,  -999.0,9,  -999.0,    0.04,2,  -999.0,9, -999.00,9,    22.4488,3, 20190417,      317, -68.2426,  30.9434,      25.05,     0.4413,2,      0.126,1,      0.062,1,      4.651,1
325020190403,       I06S,       6,          1,         16,         16,2,20190417,       0236,   -68.2426,    30.9434,       2857,  1048.4,   0.4681,  34.6803,2,  34.6829,2,    213.2,2,   212.0,2,   112.5,2,   32.21,2,    0.00,2,    2.23,2,-999.000,9,-999.000,9,-999.0000,9,  2261.7,2, -999.00,9,-999.0000,9, -999.00,9,  -999.0,9,  -999.0, -999.00,9,    37.9,2,   30.37,2,     -999.0,9, 20190417,      320, -68.2426,  30.9434,     -999.0,     0.4671,2,      0.127,1,      0.062,1,      4.650,1
325020190403,       I06S,       6,          1,         17,         17,2,20190417,       0236,   -68.2426,    30.9434,       2857,   946.8,   0.4976,  34.6785,2,  34.6807,2,    213.2,2,   212.9,2,   110.1,2,   32.16,2,    0.00,2,    2.22,2,   0.842,2,   0.441,2,   0.4599,2,  2259.2,2, 2353.93,2,   7.5883,2, -999.00,9,  -999.0,9,  -999.0,    0.05,2,    37.0,2,   30.93,2,    22.4321,3, 20190417,      322, -68.2426,  30.9434,      25.04,     0.4961,2,      0.129,1,      0.063,1,      4.649,1
325020190403,       I06S,       6,          1,         18,         18,2,20190417,       0236,   -68.2426,    30.9434,       2857,   844.9,   0.5421,  34.6786,2,  34.6807,2,    213.4,2,   213.0,2,   107.2,2,   32.08,2,    0.00,2,    2.20,2,-999.000,9,-999.000,9,-999.0000,9,  2260.1,2, -999.00,9,-999.0000,9, -999.00,9,  -999.0,9,  -999.0, -999.00,9,  -999.0,9, -999.00,9,     -999.0,9, 20190417,      325, -68.2426,  30.9433,     -999.0,     0.5412,2,      0.131,1,      0.062,1,      4.649,1
325020190403,       I06S,       6,          1,         19,         19,2,20190417,       0236,   -68.2426,    30.9434,       2857,   743.8,   0.5754,  34.6774,2,  34.6843,2,    212.9,2,   213.0,2,   104.8,2,   31.86,2,    0.00,2,    2.19,2,   0.944,2,   0.514,2,   0.4642,2,  2258.8,2, 2349.29,2,   7.5889,2, -999.00,9,  -999.0,9,  -999.0,     0.1,2,    39.1,2,   31.62,2,    22.5179,3, 20190417,      327, -68.2426,  30.9434,      25.06,     0.5749,2,      0.131,1,      0.062,1,      4.647,1
325020190403,       I06S,       6,          1,         20,         20,2,20190417,       0236,   -68.2426,    30.9434,       2857,   641.3,   0.6467,  34.6772,2,  34.6797,2,    210.9,2,   212.6,2,   101.5,2,   31.80,2,    0.00,2,    2.19,2,-999.000,9,-999.000,9,-999.0000,9,  2256.7,2, -999.00,9,-999.0000,9, -999.00,9,  -999.0,9,  -999.0, -999.00,9,    39.4,2,   32.62,2,     -999.0,9, 20190417,      329, -68.2426,  30.9433,     -999.0,     0.6459,2,      0.130,1,      0.062,1,      4.647,1
325020190403,       I06S,       6,          1,         21,         21,2,20190417,       0236,   -68.2426,    30.9434,       2857,   540.8,   0.7718,  34.6824,2,  34.6845,2,    208.9,2,   209.7,2,    99.3,2,   31.58,2,    0.00,2,    2.18,2,   0.926,2,   0.503,2,   0.4741,2,  2256.3,2, 2349.29,2,   7.5889,2, -999.00,9,  -999.0,9,  -999.0,    0.11,2,  -999.0,9, -999.00,9,    22.2158,3, 20190417,      332, -68.2426,  30.9434,      25.04,     0.7709,2,      0.143,1,      0.063,1,      4.646,1
325020190403,       I06S,       6,          1,         22,         22,2,20190417,       0236,   -68.2426,    30.9434,       2857,   469.7,   0.8023,  34.6788,2,  34.6809,2,    209.0,2,   209.7,2,    97.3,2,   31.74,2,    0.00,2,    2.17,2,-999.000,9,-999.000,9,-999.0000,9,  2257.4,2, -999.00,9,-999.0000,9, -999.00,9,  -999.0,9,  -999.0, -999.00,9,    38.3,2,   34.15,2,     -999.0,9, 20190417,      334, -68.2426,  30.9434,     -999.0,     0.8012,2,      0.153,1,      0.063,1,      4.643,1
325020190403,       I06S,       6,          1,         23,         23,2,20190417,       0236,   -68.2426,    30.9434,       2857,   419.3,   0.8325,  34.6735,2,   34.679,2,    208.5,2,   208.0,2,    95.8,2,   31.72,2,    0.00,2,    2.18,2,   1.018,2,   0.552,2,   0.5669,2,  2258.3,2, 2348.60,2,   7.5857,2, -999.00,9,  -999.0,9,  -999.0,    0.09,6,    41.0,2,   35.55,2,     22.804,3, 20190417,      335, -68.2426,  30.9434,      25.03,     0.8285,2,      0.138,1,      0.063,1,      4.645,1
325020190403,       I06S,       6,          1,         24,         24,2,20190417,       0236,   -68.2426,    30.9434,       2857,   368.9,   0.8949,  34.6736,2,  34.6764,2,    207.3,2,   207.4,2,    94.0,2,   31.71,2,    0.00,2,    2.17,2,-999.000,9,-999.000,9,-999.0000,9,  2255.1,6, -999.00,9,-999.0000,9, -999.00,9,  -999.0,9,  -999.0,    0.12,2,  -999.0,9, -999.00,9,     -999.0,9, 20190417,      337, -68.2426,  30.9434,     -999.0,     0.8953,2,      0.138,1,      0.064,1,      4.644,1
325020190403,       I06S,       6,          1,         25,         25,2,20190417,       0236,   -68.2426,    30.9434,       2857,   318.6,   0.7331,  34.6501,2,  34.6529,2,    213.1,2,   212.1,2,    90.9,2,   31.69,2,    0.00,2,    2.17,2,   1.370,2,   0.744,2,   0.6878,2,  2254.7,2, 2342.01,2,   7.5803,2, -999.00,9,  -999.0,9,  -999.0,    0.05,2,    38.4,2,   34.11,2,    23.2298,3, 20190417,      338, -68.2426,  30.9434,      25.03,     0.7351,2,      0.145,1,      0.062,1,      4.641,1
325020190403,       I06S,       6,          1,         26,         26,2,20190417,       0236,   -68.2426,    30.9434,       2857,   267.4,   0.5898,  34.6259,2,  34.6293,2,    218.5,2,   217.7,2,    88.0,2,   31.86,2,    0.00,2,    2.18,2,-999.000,9,-999.000,9,-999.0000,9,  2253.2,2, -999.00,9,-999.0000,9, -999.00,9,  -999.0,9,  -999.0, -999.00,9,    39.4,2,   32.98,2,     -999.0,9, 20190417,      340, -68.2426,  30.9434,     -999.0,     0.5926,2,      0.150,1,      0.063,1,      4.638,1
325020190403,       I06S,       6,          1,         27,         27,2,20190417,       0236,   -68.2426,    30.9434,       2857,   237.2,   0.5512,  34.6166,2,  34.6207,2,    220.2,2,   218.5,2,    87.1,2,   31.90,2,    0.00,2,    2.17,2,   1.763,2,   0.941,2,   0.9101,2,  2252.7,2, 2343.42,3,   7.5760,2, -999.00,9,  -999.0,9,  -999.0,     0.0,2,  -999.0,9, -999.00,9,    24.5579,3, 20190417,      341, -68.2426,  30.9434,      25.07,     0.5503,2,      0.145,1,      0.064,1,      4.638,1
325020190403,       I06S,       6,          1,         28,         28,2,20190417,       0236,   -68.2426,    30.9434,       2857,   212.1,   0.3228,  34.5853,2,   34.597,2,    226.0,2,   224.0,2,    84.7,2,   31.70,2,    0.00,2,    2.18,2,-999.000,9,-999.000,9,-999.0000,9,  2250.3,2, -999.00,9,-999.0000,9, -999.00,9,  -999.0,9,  -999.0,    0.06,2,    41.0,2,   33.14,2,     -999.0,9, 20190417,      343, -68.2426,  30.9434,     -999.0,     0.3226,2,      0.149,1,      0.083,1,      4.637,1
325020190403,       I06S,       6,          1,         29,         29,2,20190417,       0236,   -68.2426,    30.9434,       2857,   186.3,   -0.055,  34.5403,2,  34.5497,2,    244.1,3,   238.6,2,    80.5,2,   31.85,2,    0.00,2,    2.18,2,   2.582,2,   1.374,2,   1.4407,2,  2247.9,2, 2336.20,2,   7.5791,2, -999.00,9,  -999.0,9,  -999.0,   -0.01,2,    37.1,2,   28.86,2,    23.2165,3, 20190417,      344, -68.2426,  30.9434,      25.00,    -0.0634,2,      0.145,1,      0.071,1,      4.636,1
325020190403,       I06S,       6,          1,         30,         30,2,20190417,       0236,   -68.2426,    30.9434,       2857,   161.3,  -0.3937,  34.4991,2,  34.4999,2,    257.3,2,   255.0,2,    76.4,2,   31.53,2,    0.01,2,    2.15,2,-999.000,9,-999.000,9,-999.0000,9,  2243.4,2, -999.00,9,-999.0000,9, -999.00,9,  -999.0,9,  -999.0,   -0.08,2,  -999.0,9, -999.00,9,     -999.0,9, 20190417,      345, -68.2426,  30.9434,     -999.0,    -0.4074,2,      0.142,1,      0.075,1,      4.636,1
325020190403,       I06S,       6,          1,         31,         31,2,20190417,       0236,   -68.2426,    30.9434,       2857,   136.5,  -0.5722,  34.4738,2,  34.4717,2,    260.3,2,   260.3,2,    74.4,2,   31.32,2,    0.02,2,    2.14,2,   3.333,2,   1.738,2,   1.8030,2,  2240.3,2, 2330.54,2,   7.5843,2, -999.00,9,  -999.0,9,  -999.0,   -0.12,2,    38.1,2,   31.34,2,    20.5646,3, 20190417,      346, -68.2426,  30.9434,      25.04,    -0.5787,2,      0.148,1,      0.086,1,      4.631,1
325020190403,       I06S,       6,          1,         32,         32,2,20190417,       0236,   -68.2426,    30.9434,       2857,   110.4,  -1.0378,  34.4031,2,   34.398,2,    284.9,3,   278.7,2,    69.7,2,   30.84,2,    0.10,2,    2.12,2,-999.000,9,-999.000,9,-999.0000,9,  2234.2,2, -999.00,9,-999.0000,9, -999.00,9,  -999.0,9,  -999.0,   -0.13,2,    41.6,2,   30.88,2,     -999.0,9, 20190417,      348, -68.2426,  30.9434,     -999.0,    -1.0026,2,      0.162,1,      0.115,1,      4.620,1
325020190403,       I06S,       6,          1,         33,         33,2,20190417,       0236,   -68.2426,    30.9434,       2857,    86.1,  -1.2579,  34.3034,2,   34.291,2,    309.4,3,   302.4,2,    63.7,2,   29.90,2,    0.14,2,    2.05,2,   4.658,2,   2.467,2,   3.1241,2,  2221.9,2, 2317.23,2,   7.6085,2, -999.00,9,  -999.0,9,  -999.0,   -0.21,2,  -999.0,9, -999.00,9,    21.5963,3, 20190417,      349, -68.2426,  30.9434,      25.06,    -1.2698,2,      0.193,1,      0.181,1,      4.596,1
325020190403,       I06S,       6,          1,         34,         34,2,20190417,       0236,   -68.2426,    30.9434,       2857,    60.2,  -1.5672,  34.0631,3,   34.087,2,    343.1,2,   341.4,2,    55.6,2,   28.02,2,    0.16,2,    1.88,2,-999.000,9,-999.000,9,-999.0000,9,  2198.5,2, -999.00,9,-999.0000,9, -999.00,9,  -999.0,9,  -999.0,   -0.27,6,    43.2,2,   30.51,2,     -999.0,9, 20190417,      350, -68.2426,  30.9434,     -999.0,    -1.5658,2,      0.215,1,      0.291,1,      4.551,1
325020190403,       I06S,       6,          1,         35,         35,2,20190417,       0236,   -68.2426,    30.9434,       2857,    34.8,  -1.6298,  34.0559,2,  34.0578,2,    344.7,2,   346.3,2,    54.4,2,   27.72,2,    0.16,2,    1.83,2,   6.001,2,   3.181,2,   4.0284,2,  2196.7,2, 2304.09,2,   7.6505,2, -999.00,9,  -999.0,9,  -999.0,   -0.21,2,  -999.0,9, -999.00,9,    19.1363,3, 20190417,      352, -68.2426,  30.9434,      25.04,    -1.6296,2,      0.221,1,      0.347,1,      4.547,1
325020190403,       I06S,       6,          1,         36,         36,2,20190417,       0236,   -68.2426,    30.9434,       2857,     4.8,  -1.6349,  34.0554,2,  34.0573,2,    343.8,2,   346.4,2,    54.4,2,   27.82,2,    0.16,2,    1.82,2,   6.024,2,   3.200,2,   4.0740,2,  2196.7,6, -999.00,9,-999.0000,9, -999.00,9,  -999.0,9,  -999.0,   -0.29,2,    45.0,2,   28.39,2,    19.2022,3, 20190417,      353, -68.2426,  30.9434,     -999.0,    -1.6356,2,      0.241,1,      0.316,1,      4.544,1