BOTTLE,20210804CCHSIOCBG
EXPOCODE,SECT_ID,STNNBR,CASTNO,SAMPNO,BTLNBR,BTLNBR_FLAG_W,DATE,TIME,LATITUDE,LONGITUDE,DEPTH,CTDPRS,CTDTMP,CTDSAL,CTDSAL_FLAG_W,SALNTY,SALNTY_FLAG_W,CTDOXY,CTDOXY_FLAG_W,OXYGEN,OXYGEN_FLAG_W,SILCAT,SILCAT_FLAG_W,NITRAT,NITRAT_FLAG_W,NITRIT,NITRIT_FLAG_W,PHSPHT,PHSPHT_FLAG_W,CFC-11,CFC-11_FLAG_W,CFC-12,CFC-12_FLAG_W,SF6,SF6_FLAG_W,TCARBN,TCARBN_FLAG_W,ALKALI,ALKALI_FLAG_W,PH_TOT,PH_TOT_FLAG_W,DELC13,DELC13_FLAG_W,DELC14,DELC14_FLAG_W,C14ERR,DELO18,DELO18_FLAG_W,DOC,DOC_FLAG_W,TDN,TDN_FLAG_W,N2O,N2O_FLAG_W,BTL_DATE,BTL_TIME,BTL_LAT,BTL_LON,PH_TMP,REFTMP,REFTMP_FLAG_W,CTDBACKSCATTER,CTDBACKSCATTER_FLAG_W,CTDFLUOR,CTDFLUOR_FLAG_W,CTDXMISS,CTDXMISS_FLAG_W
,,,,,,,,,,,METERS,DBAR,ITS-90,PSS-78,,PSS-78,,UMOL/KG,,UMOL/KG,,UMOL/KG,,UMOL/KG,,UMOL/KG,,UMOL/KG,,PMOL/KG,,PMOL/KG,,FMOL/KG,,UMOL/KG,,UMOL/KG,,,,/MILLE,,/MILLE,,/MILLE,/MILLE,,UMOL/KG,,UMOL/KG,,NMOL/KG,,,,,,DEG C,ITS-90,,VOLTS,,VOLTS,,VOLTS,
325020190403,       I06S,       7,          1,          1,          1,2,20190417,       0637,   -68.1945,    30.7556,       3186,  3231.3,   -0.122,  34.6568,2,  34.6584,2,    234.9,2,   234.7,2,   121.1,2,   32.25,2,    0.00,2,    2.23,2,   1.179,2,   0.629,2,   0.5417,2,  2254.2,2, 2345.83,3,   7.5922,2, -999.00,9,  -999.0,9,  -999.0,    -0.1,2,  -999.0,9, -999.00,9,    20.4743,3, 20190417,      637, -68.1945,  30.7556,      25.05,    -0.1236,2,      0.127,1,      0.062,1,      4.645,1
325020190403,       I06S,       7,          1,          2,          2,2,20190417,       0637,   -68.1945,    30.7556,       3186,  3211.0,  -0.1194,  34.6568,2,  34.6582,2,    234.4,2,   234.7,2,   121.1,2,   32.17,2,    0.00,2,    2.22,2,-999.000,9,-999.000,9,-999.0000,9,  -999.0,9, -999.00,9,-999.0000,9, -999.00,9,  -999.0,9,  -999.0,   -0.04,2,  -999.0,9, -999.00,9,     -999.0,9, 20190417,      638, -68.1945,  30.7556,     -999.0,    -0.1203,2,      0.127,1,      0.061,1,      4.645,1
325020190403,       I06S,       7,          1,          3,          3,2,20190417,       0637,   -68.1945,    30.7556,       3186,  3190.9,  -0.1074,  34.6573,3,  34.6595,2,    233.9,2,   234.6,2,   120.6,2,   32.31,2,    0.00,2,    2.21,2,   1.146,2,   0.618,2,   0.4379,2,  2253.3,2, 2350.26,2,   7.5922,2, -999.00,9,  -999.0,9,  -999.0,   -0.06,2,  -999.0,9, -999.00,9,    21.5296,3, 20190417,      640, -68.1945,  30.7556,      25.08,    -0.1072,2,      0.127,1,      0.061,1,      4.646,1
325020190403,       I06S,       7,          1,          4,          4,2,20190417,       0637,   -68.1945,    30.7556,       3186,  2986.0,  -0.0742,  34.6593,3,  34.6617,2,    231.2,2,   231.8,2,   121.3,2,   32.29,2,    0.00,2,    2.22,2,-999.000,9,-999.000,9,-999.0000,9,  -999.0,9, -999.00,9,-999.0000,9, -999.00,9,  -999.0,9,  -999.0, -999.00,9,  -999.0,9, -999.00,9,     -999.0,9, 20190417,      644, -68.1945,  30.7556,     -999.0,    -0.0747,2,      0.124,1,      0.062,1,      4.647,1
325020190403,       I06S,       7,          1,          5,          5,2,20190417,       0637,   -68.1945,    30.7556,       3186,  2781.4,  -0.0532,  34.6608,3,  34.6629,2,    229.7,2,   230.1,2,   122.2,2,   32.39,2,    0.00,2,    2.22,2,   1.000,2,   0.532,2,   0.4045,2,  2257.0,2, 2352.68,2,   7.5910,2, -999.00,9,  -999.0,9,  -999.0,   -0.02,2,  -999.0,9, -999.00,9,    21.6481,3, 20190417,      649, -68.1945,  30.7556,      25.06,    -0.0535,2,      0.122,1,      0.062,1,      4.647,1
325020190403,       I06S,       7,          1,          6,          6,2,20190417,       0637,   -68.1945,    30.7556,       3186,  2575.9,   -0.022,  34.6625,3,  34.6658,2,    228.1,2,   227.9,2,   122.2,2,   32.44,2,    0.00,2,    2.21,2,-999.000,9,-999.000,9,-999.0000,9,  -999.0,9, -999.00,9,-999.0000,9, -999.00,9,  -999.0,9,  -999.0,   -0.05,2,  -999.0,9, -999.00,9,     -999.0,9, 20190417,      653, -68.1945,  30.7556,     -999.0,     -0.023,2,      0.123,1,      0.063,1,      4.647,1
325020190403,       I06S,       7,          1,          7,          7,2,20190417,       0637,   -68.1945,    30.7556,       3186,  2372.1,   0.0182,  34.6649,2,  34.6662,2,    225.6,2,   226.3,2,   122.7,2,   32.50,2,    0.00,2,    2.23,2,   0.851,2,   0.444,2,   0.4109,2,  2258.6,2, 2353.14,2,   7.5896,2, -999.00,9,  -999.0,9,  -999.0, -999.00,9,  -999.0,9, -999.00,9,    21.7861,3, 20190417,      658, -68.1945,  30.7556,      25.08,     0.0174,2,      0.124,1,      0.062,1,      4.648,1
325020190403,       I06S,       7,          1,          8,          8,2,20190417,       0637,   -68.1945,    30.7556,       3186,  2167.4,   0.0693,  34.6674,2,  34.6676,2,    223.0,2,   223.2,2,   122.4,2,   32.49,2,    0.00,2,    2.22,2,-999.000,9,-999.000,9,-999.0000,9,  -999.0,9, -999.00,9,-999.0000,9, -999.00,9,  -999.0,9,  -999.0,   -0.01,2,  -999.0,9, -999.00,9,     -999.0,9, 20190417,      703, -68.1945,  30.7556,     -999.0,     0.0674,2,      0.125,1,      0.062,1,      4.648,1
325020190403,       I06S,       7,          1,          9,          9,2,20190417,       0637,   -68.1945,    30.7556,       3186,  1963.9,   0.1322,    34.67,2,  34.6711,2,    220.0,2,   220.6,2,   122.1,2,   32.59,2,    0.00,2,    2.22,2,   0.736,2,   0.389,2,   0.2765,2,  2257.9,2, 2348.86,2,   7.5876,2, -999.00,9,  -999.0,9,  -999.0,   -0.04,2,  -999.0,9, -999.00,9,    21.8952,3, 20190417,      707, -68.1945,  30.7556,      25.08,     0.1313,2,      0.125,1,      0.062,1,      4.648,1
325020190403,       I06S,       7,          1,         10,         10,2,20190417,       0637,   -68.1945,    30.7556,       3186,  1945.4,   0.1386,  34.6739,3,-999.0000,9,    219.0,3,  -999.0,9,  -999.0,9, -999.00,9, -999.00,9, -999.00,9,-999.000,9,-999.000,9,-999.0000,9,  -999.0,9, -999.00,9,-999.0000,9, -999.00,9,  -999.0,9,  -999.0, -999.00,9,  -999.0,9, -999.00,9,     -999.0,9, 20190417,      708, -68.1945,  30.7556,     -999.0,     0.1394,2,      0.124,1,      0.061,1,      4.648,1
325020190403,       I06S,       7,          1,         11,         11,2,20190417,       0637,   -68.1945,    30.7556,       3186,  1942.3,   0.1388,  34.6738,3,-999.0000,9,    219.1,3,  -999.0,9,  -999.0,9, -999.00,9, -999.00,9, -999.00,9,-999.000,9,-999.000,9,-999.0000,9,  -999.0,9, -999.00,9,-999.0000,9, -999.00,9,  -999.0,9,  -999.0, -999.00,9,  -999.0,9, -999.00,9,     -999.0,9, 20190417,      708, -68.1945,  30.7556,     -999.0,     -999.0,9,      0.125,1,      0.063,1,      4.647,1
325020190403,       I06S,       7,          1,         12,         12,2,20190417,       0637,   -68.1945,    30.7556,       3186,  1719.5,    0.277,  34.6775,2,  34.6786,2,    215.0,2,   214.7,2,   121.7,2,   32.68,2,    0.00,2,    2.23,2,   0.598,2,   0.316,2,   0.1768,2,  2259.5,2, 2354.45,2,   7.5853,2, -999.00,9,  -999.0,9,  -999.0,     0.0,6,  -999.0,9, -999.00,9,     22.083,3, 20190417,      717, -68.1945,  30.7556,      25.06,     0.2758,2,      0.125,1,      0.062,1,      4.647,1
325020190403,       I06S,       7,          1,         13,         13,2,20190417,       0637,   -68.1945,    30.7556,       3186,  1586.7,   0.3369,  34.6811,2,  34.6823,2,    212.4,2,   212.1,2,   121.6,2,   32.65,2,    0.00,2,    2.22,2,-999.000,9,-999.000,9,-999.0000,9,  -999.0,9, -999.00,9,-999.0000,9, -999.00,9,  -999.0,9,  -999.0, -999.00,9,  -999.0,9, -999.00,9,     -999.0,9, 20190417,      720, -68.1945,  30.7556,     -999.0,     0.3351,2,      0.124,1,      0.060,1,      4.648,1
325020190403,       I06S,       7,          1,         14,         14,2,20190417,       0637,   -68.1945,    30.7556,       3186,  1444.3,   0.3846,   34.683,2,  34.6852,2,    211.1,2,   210.9,2,   120.5,2,   32.61,2,    0.00,2,    2.22,2,   0.544,2,   0.282,2,   0.1939,2,  2259.7,2, 2349.98,2,   7.5853,2, -999.00,9,  -999.0,9,  -999.0,    0.04,2,  -999.0,9, -999.00,9,    22.1405,3, 20190417,      724, -68.1945,  30.7556,      25.06,     0.3838,2,      0.125,1,      0.062,1,      4.647,1
325020190403,       I06S,       7,          1,         15,         15,2,20190417,       0637,   -68.1945,    30.7556,       3186,  1312.4,   0.4362,  34.6851,2,  34.6864,2,    210.2,2,   209.7,2,   119.1,2,   32.56,2,    0.00,2,    2.21,2,-999.000,9,-999.000,9,-999.0000,9,  -999.0,9, -999.00,9,-999.0000,9, -999.00,9,  -999.0,9,  -999.0, -999.00,9,  -999.0,9, -999.00,9,     -999.0,9, 20190417,      727, -68.1945,  30.7556,     -999.0,     0.4362,2,      0.124,1,      0.063,1,      4.647,1
325020190403,       I06S,       7,          1,         16,         16,2,20190417,       0637,   -68.1945,    30.7556,       3186,  1180.0,   0.5032,  34.6873,2,  34.6876,2,    209.5,2,   208.6,2,   116.8,2,   32.40,2,    0.00,2,    2.20,2,   0.563,2,   0.296,2,   0.1876,2,  2261.9,2, 2353.79,2,   7.5859,2, -999.00,9,  -999.0,9,  -999.0,    0.06,2,  -999.0,9, -999.00,9,    22.2748,3, 20190417,      731, -68.1945,  30.7556,      25.08,      0.502,2,      0.125,1,      0.062,1,      4.647,1
325020190403,       I06S,       7,          1,         17,         17,2,20190417,       0637,   -68.1945,    30.7556,       3186,  1078.4,    0.549,   34.689,2,  34.6907,2,    208.3,2,   208.0,2,   114.8,2,   32.42,2,    0.00,2,    2.19,2,-999.000,9,-999.000,9,-999.0000,9,  -999.0,9, -999.00,9,-999.0000,9, -999.00,9,  -999.0,9,  -999.0, -999.00,9,  -999.0,9, -999.00,9,     -999.0,9, 20190417,      733, -68.1945,  30.7556,     -999.0,     0.5487,2,      0.126,1,      0.061,1,      4.647,1
325020190403,       I06S,       7,          1,         18,         18,2,20190417,       0637,   -68.1945,    30.7556,       3186,   977.2,   0.6104,  34.6918,2,  34.6929,2,    207.0,2,   207.1,2,   112.8,2,   32.25,2,    0.00,2,    2.17,2,   0.572,2,   0.304,2,   0.2218,2,  2257.1,2, 2353.45,2,   7.5870,2, -999.00,9,  -999.0,9,  -999.0,    0.06,2,  -999.0,9, -999.00,9,    22.3774,3, 20190417,      736, -68.1945,  30.7556,      25.05,     0.6097,2,      0.128,1,      0.063,1,      4.647,1
325020190403,       I06S,       7,          1,         19,         19,2,20190417,       0637,   -68.1945,    30.7556,       3186,   875.7,   0.7049,  34.6952,2,   34.699,2,    206.1,2,   206.4,2,   110.5,2,   32.07,2,    0.00,2,    2.17,2,-999.000,9,-999.000,9,-999.0000,9,  -999.0,9, -999.00,9,-999.0000,9, -999.00,9,  -999.0,9,  -999.0, -999.00,9,  -999.0,9, -999.00,9,     -999.0,9, 20190417,      739, -68.1945,  30.7556,     -999.0,      0.704,2,      0.145,1,      0.063,1,      4.646,1
325020190403,       I06S,       7,          1,         20,         20,2,20190417,       0637,   -68.1945,    30.7556,       3186,   774.1,   0.7886,   34.699,2,  34.7007,2,    204.5,2,   205.2,2,   108.1,2,   32.01,2,    0.00,2,    2.16,2,   0.567,2,   0.304,2,   0.2794,2,  2258.1,2, 2351.20,2,   7.5899,2, -999.00,9,  -999.0,9,  -999.0,    0.12,2,  -999.0,9, -999.00,9,    22.3895,3, 20190417,      741, -68.1945,  30.7556,      25.07,     0.7883,2,      0.130,1,      0.062,1,      4.647,1
325020190403,       I06S,       7,          1,         21,         21,2,20190417,       0637,   -68.1945,    30.7556,       3186,   672.8,    0.866,   34.701,2,  34.7013,2,    203.1,2,   204.1,2,   105.6,2,   31.83,2,    0.00,2,    2.15,2,   0.579,2,   0.310,2,   0.2717,2,  2253.2,2, 2351.29,2,   7.5901,2, -999.00,9,  -999.0,9,  -999.0, -999.00,9,  -999.0,9, -999.00,9,     22.564,3, 20190417,      744, -68.1945,  30.7556,      25.06,     0.8634,2,      0.130,1,      0.063,1,      4.645,1
325020190403,       I06S,       7,          1,         22,         22,4,20190417,       0637,   -68.1945,    30.7556,       3186,   571.7,   0.9572,  34.7061,3,-999.0000,9,    201.5,3,  -999.0,9,  -999.0,9, -999.00,9, -999.00,9, -999.00,9,-999.000,9,-999.000,9,-999.0000,9,  -999.0,9, -999.00,9,-999.0000,9, -999.00,9,  -999.0,9,  -999.0, -999.00,9,  -999.0,9, -999.00,9,     -999.0,9, 20190417,      747, -68.1945,  30.7556,     -999.0,      0.956,2,      0.141,1,      0.062,1,      4.644,1
325020190403,       I06S,       7,          1,         23,         23,2,20190417,       0637,   -68.1945,    30.7556,       3186,   490.5,   1.0328,  34.7029,2,  34.7043,2,    200.6,2,   201.2,2,   100.0,2,   31.78,2,    0.00,2,    2.14,2,-999.000,9,-999.000,9,-999.0000,9,  -999.0,9, -999.00,9,-999.0000,9, -999.00,9,  -999.0,9,  -999.0, -999.00,9,  -999.0,9, -999.00,9,     -999.0,9, 20190417,      749, -68.1945,  30.7556,     -999.0,     1.0328,2,      0.140,1,      0.063,1,      4.643,1
325020190403,       I06S,       7,          1,         24,         24,2,20190417,       0637,   -68.1945,    30.7556,       3186,   439.8,   1.0284,  34.6971,2,  34.7007,2,    202.1,2,   202.0,2,    98.3,2,   31.72,2,    0.00,2,    2.13,2,   0.701,2,   0.382,2,   0.3415,2,  2255.1,6, 2348.58,2,   7.5866,2, -999.00,9,  -999.0,9,  -999.0,    0.15,2,  -999.0,9, -999.00,9,    22.8165,3, 20190417,      751, -68.1945,  30.7556,      25.04,      1.031,2,      0.141,1,      0.063,1,      4.642,1
325020190403,       I06S,       7,          1,         25,         25,2,20190417,       0637,   -68.1945,    30.7556,       3186,   389.2,     1.01,  34.6893,2,  34.6909,2,    202.4,2,   203.1,2,    95.8,2,   31.74,2,    0.00,2,    2.13,2,-999.000,9,-999.000,9,-999.0000,9,  -999.0,9, -999.00,9,-999.0000,9, -999.00,9,  -999.0,9,  -999.0, -999.00,9,  -999.0,9, -999.00,9,     -999.0,9, 20190417,      753, -68.1945,  30.7556,     -999.0,     1.0095,2,      0.141,1,      0.063,1,      4.640,1
325020190403,       I06S,       7,          1,         26,         26,2,20190417,       0637,   -68.1945,    30.7556,       3186,   338.9,   1.0613,  34.6838,2,  34.6862,2,    202.2,2,   201.6,2,    94.3,2,   31.90,2,    0.00,2,    2.13,2,   0.893,2,   0.492,2,   0.4577,2,  2253.1,2, 2346.21,2,   7.5805,2, -999.00,9,  -999.0,9,  -999.0,    0.09,2,  -999.0,9, -999.00,9,    23.2525,3, 20190417,      755, -68.1945,  30.7556,      25.04,     1.0593,2,      0.142,1,      0.063,1,      4.638,1
325020190403,       I06S,       7,          1,         27,         27,2,20190417,       0637,   -68.1945,    30.7556,       3186,   287.7,   0.9215,  34.6623,2,  34.6646,2,    205.9,2,   206.0,2,    91.6,2,   31.83,2,    0.00,2,    2.14,2,-999.000,9,-999.000,9,-999.0000,9,  -999.0,9, -999.00,9,-999.0000,9, -999.00,9,  -999.0,9,  -999.0, -999.00,9,  -999.0,9, -999.00,9,     -999.0,9, 20190417,      757, -68.1945,  30.7556,     -999.0,     0.9138,2,      0.151,1,      0.069,1,      4.634,1
325020190403,       I06S,       7,          1,         28,         28,2,20190417,       0637,   -68.1945,    30.7556,       3186,   237.8,   0.6524,  34.6257,2,  34.6331,2,    218.3,3,   212.1,2,    88.1,2,   32.18,2,    0.00,2,    2.17,2,   1.546,2,   0.838,2,   0.8690,2,  2253.1,2, 2340.88,2,   7.5741,2, -999.00,9,  -999.0,9,  -999.0,     0.0,2,  -999.0,9, -999.00,9,    23.7332,3, 20190417,      758, -68.1945,  30.7556,      25.05,      0.661,2,      0.144,1,      0.069,1,      4.626,1
325020190403,       I06S,       7,          1,         29,         29,4,20190417,       0637,   -68.1945,    30.7556,       3186,   187.1,   0.2662,   34.569,3,-999.0000,9,    235.3,3,  -999.0,9,  -999.0,9, -999.00,9, -999.00,9, -999.00,9,-999.000,9,-999.000,9,-999.0000,9,  -999.0,9, -999.00,9,-999.0000,9, -999.00,9,  -999.0,9,  -999.0, -999.00,9,  -999.0,9, -999.00,9,     -999.0,9, 20190417,      800, -68.1945,  30.7556,     -999.0,     0.2635,2,      0.146,1,      0.079,1,      4.630,1
325020190403,       I06S,       7,          1,         30,         30,2,20190417,       0637,   -68.1945,    30.7556,       3186,   141.4,  -0.9891,  34.4271,2,  34.4344,2,    282.4,3,   273.9,2,    70.8,2,   31.32,2,    0.01,2,    2.11,2,   3.834,2,   2.055,2,   2.2556,2,  2237.2,2, 2328.41,2,   7.5870,2, -999.00,9,  -999.0,9,  -999.0,   -0.01,2,  -999.0,9, -999.00,9,    22.1494,3, 20190417,      802, -68.1945,  30.7556,      25.03,     -0.983,2,      0.165,1,      0.093,1,      4.626,1
325020190403,       I06S,       7,          1,         31,         31,2,20190417,       0637,   -68.1945,    30.7556,       3186,   115.9,  -1.3241,  34.3884,2,  34.3819,2,    293.4,2,   291.5,2,    66.2,2,   30.98,2,    0.04,2,    2.08,2,-999.000,9,-999.000,9,-999.0000,9,  -999.0,9, -999.00,9,-999.0000,9, -999.00,9,  -999.0,9,  -999.0,   -0.16,2,  -999.0,9, -999.00,9,     -999.0,9, 20190417,      803, -68.1945,  30.7556,     -999.0,    -1.3776,3,      0.160,1,      0.113,1,      4.619,1
325020190403,       I06S,       7,          1,         32,         32,2,20190417,       0637,   -68.1945,    30.7556,       3186,    90.7,  -1.5708,  34.2733,3,  34.3065,2,    327.1,3,   308.7,2,    62.2,2,   29.97,2,    0.15,2,    2.04,2,   4.879,2,   2.616,2,   3.2163,2,  2220.7,2, 2320.63,2,   7.6070,2, -999.00,9,  -999.0,9,  -999.0,   -0.17,6,  -999.0,9, -999.00,9,    20.9854,3, 20190417,      805, -68.1945,  30.7556,      25.04,    -1.5046,3,      0.230,1,      0.232,1,      4.579,1
325020190403,       I06S,       7,          1,         33,         33,2,20190417,       0637,   -68.1945,    30.7556,       3186,    65.8,  -1.4161,  34.1408,2,  34.1457,2,    341.5,2,   340.5,2,    55.7,2,   28.22,2,    0.16,2,    1.87,2,-999.000,9,-999.000,9,-999.0000,9,  -999.0,9, -999.00,9,-999.0000,9, -999.00,9,  -999.0,9,  -999.0,   -0.22,2,  -999.0,9, -999.00,9,     -999.0,9, 20190417,      806, -68.1945,  30.7556,     -999.0,    -1.4154,2,      0.234,1,      0.278,1,      4.561,1
325020190403,       I06S,       7,          1,         34,         34,2,20190417,       0637,   -68.1945,    30.7556,       3186,    40.3,  -1.6442,  34.0709,2,  34.0758,2,    346.8,2,   347.0,2,    53.8,2,   27.72,2,    0.17,2,    1.81,2,   6.006,2,   3.196,2,   4.1201,2,  2172.6,4, 2306.59,2,   7.6514,2, -999.00,9,  -999.0,9,  -999.0,   -0.19,2,  -999.0,9, -999.00,9,    19.1698,3, 20190417,      808, -68.1945,  30.7556,      25.03,    -1.6446,2,      0.228,1,      0.335,1,      4.536,1
325020190403,       I06S,       7,          1,         35,         35,2,20190417,       0637,   -68.1945,    30.7556,       3186,    20.0,  -1.6453,  34.0705,2,  34.0755,2,    346.5,2,   346.9,2,    53.9,2,   27.69,2,    0.17,2,    1.82,2,-999.000,9,-999.000,9,-999.0000,9,  -999.0,9, -999.00,9,-999.0000,9, -999.00,9,  -999.0,9,  -999.0,   -0.19,2,  -999.0,9, -999.00,9,     -999.0,9, 20190417,      809, -68.1945,  30.7556,     -999.0,    -1.6455,2,      0.231,1,      0.279,1,      4.539,1
325020190403,       I06S,       7,          1,         36,         36,2,20190417,       0637,   -68.1945,    30.7556,       3186,     5.1,  -1.6463,  34.0705,2,  34.0755,2,    345.9,2,   347.1,2,    53.9,2,   27.72,2,    0.17,2,    1.82,2,   6.015,2,   3.216,2,   4.2119,2,  2193.5,2, 2307.97,2,   7.6517,2, -999.00,9,  -999.0,9,  -999.0,   -0.25,2,  -999.0,9, -999.00,9,     19.124,3, 20190417,      811, -68.1945,  30.7556,      25.01,    -1.6448,2,      0.233,1,      0.220,1,      4.531,1