BOTTLE,20210804CCHSIOCBG
EXPOCODE,SECT_ID,STNNBR,CASTNO,SAMPNO,BTLNBR,BTLNBR_FLAG_W,DATE,TIME,LATITUDE,LONGITUDE,DEPTH,CTDPRS,CTDTMP,CTDSAL,CTDSAL_FLAG_W,SALNTY,SALNTY_FLAG_W,CTDOXY,CTDOXY_FLAG_W,OXYGEN,OXYGEN_FLAG_W,SILCAT,SILCAT_FLAG_W,NITRAT,NITRAT_FLAG_W,NITRIT,NITRIT_FLAG_W,PHSPHT,PHSPHT_FLAG_W,CFC-11,CFC-11_FLAG_W,CFC-12,CFC-12_FLAG_W,SF6,SF6_FLAG_W,TCARBN,TCARBN_FLAG_W,ALKALI,ALKALI_FLAG_W,PH_TOT,PH_TOT_FLAG_W,DELC13,DELC13_FLAG_W,DELC14,DELC14_FLAG_W,C14ERR,DELO18,DELO18_FLAG_W,DOC,DOC_FLAG_W,TDN,TDN_FLAG_W,N2O,N2O_FLAG_W,BTL_DATE,BTL_TIME,BTL_LAT,BTL_LON,PH_TMP,REFTMP,REFTMP_FLAG_W,CTDBACKSCATTER,CTDBACKSCATTER_FLAG_W,CTDFLUOR,CTDFLUOR_FLAG_W,CTDXMISS,CTDXMISS_FLAG_W
,,,,,,,,,,,METERS,DBAR,ITS-90,PSS-78,,PSS-78,,UMOL/KG,,UMOL/KG,,UMOL/KG,,UMOL/KG,,UMOL/KG,,UMOL/KG,,PMOL/KG,,PMOL/KG,,FMOL/KG,,UMOL/KG,,UMOL/KG,,,,/MILLE,,/MILLE,,/MILLE,/MILLE,,UMOL/KG,,UMOL/KG,,NMOL/KG,,,,,,DEG C,ITS-90,,VOLTS,,VOLTS,,VOLTS,
325020190403,       I06S,       4,          1,          1,          1,2,20190416,       1719,   -68.3074,    31.2087,       1788,  1807.6,    0.235,  34.6742,2,  34.6735,2,    219.8,2,   218.2,2,   116.9,2,   32.49,2,    0.00,2,    2.23,2,   0.826,2,   0.440,2,   0.3544,2,  2259.7,6, 2352.30,2,   7.5868,2,    0.33,4,  -162.4,2,     1.7,   -0.01,2,    39.4,2,   34.26,2,    20.0588,3, 20190416,     1719, -68.3074,  31.2087,      25.02,     0.2344,2,      0.136,1,      0.062,1,      4.651,1
325020190403,       I06S,       4,          1,          2,          2,2,20190416,       1719,   -68.3074,    31.2087,       1788,  1747.6,   0.2322,  34.6739,2,  34.6743,2,    218.7,2,   218.6,2,   117.4,2,   32.57,2,    0.00,2,    2.23,2,-999.000,9,-999.000,9,-999.0000,9,  -999.0,9, -999.00,9,-999.0000,9, -999.00,9,  -999.0,9,  -999.0,   -0.03,2,    38.5,2,   31.79,2,     -999.0,9, 20190416,     1722, -68.3074,  31.2087,     -999.0,     0.2321,2,      0.132,1,      0.061,1,      4.650,1
325020190403,       I06S,       4,          1,          3,          3,2,20190416,       1719,   -68.3074,    31.2087,       1788,  1689.2,   0.2315,  34.6739,2,  34.6748,2,    218.9,2,   218.3,2,   117.4,2,   32.52,2,    0.00,2,    2.24,2,   0.821,2,   0.438,2,   0.3451,2,  2258.4,2, 2353.48,2,   7.5868,2, -999.00,9,  -999.0,9,  -999.0,   -0.02,2,    39.7,2,   33.95,2,    20.1398,3, 20190416,     1724, -68.3074,  31.2087,      25.02,     0.2311,2,      0.131,1,      0.062,1,      4.651,1
325020190403,       I06S,       4,          1,          4,          4,2,20190416,       1719,   -68.3074,    31.2087,       1788,  1586.6,   0.2447,  34.6743,2,  34.6743,2,    218.5,2,   217.7,2,   117.1,2,   32.43,2,    0.00,2,    2.24,2,-999.000,9,-999.000,9,-999.0000,9,  -999.0,9, -999.00,9,-999.0000,9,    0.50,2,  -156.2,2,     1.8,   -0.05,2,    39.6,2,   34.71,2,     -999.0,9, 20190416,     1727, -68.3074,  31.2087,     -999.0,     0.2446,2,      0.134,1,      0.061,1,      4.651,1
325020190403,       I06S,       4,          1,          5,          5,2,20190416,       1719,   -68.3074,    31.2087,       1788,  1485.1,   0.2607,  34.6745,2,  34.6739,2,    217.5,2,   217.2,2,   116.3,2,   32.46,2,    0.00,2,    2.22,2,   0.817,2,   0.432,2,   0.3237,2,  2260.4,2, 2353.77,2,   7.5869,2, -999.00,9,  -999.0,9,  -999.0,   -0.04,2,  -999.0,9, -999.00,9,    21.0084,3, 20190416,     1730, -68.3074,  31.2087,      25.00,     0.2589,2,      0.129,1,      0.063,1,      4.652,1
325020190403,       I06S,       4,          1,          6,          6,2,20190416,       1719,   -68.3074,    31.2087,       1788,  1383.4,   0.3158,  34.6765,2,  34.6764,2,    217.4,2,   215.8,2,   115.3,2,   32.42,2,    0.00,2,    2.22,2,-999.000,9,-999.000,9,-999.0000,9,  -999.0,9, -999.00,9,-999.0000,9, -999.00,9,  -999.0,9,  -999.0,   -0.01,2,    38.2,2,   34.00,2,     -999.0,9, 20190416,     1733, -68.3074,  31.2087,     -999.0,     0.3154,2,      0.129,1,      0.063,1,      4.653,1
325020190403,       I06S,       4,          1,          7,          7,2,20190416,       1719,   -68.3074,    31.2087,       1788,  1281.0,   0.3362,  34.6766,2,  34.6762,2,    214.8,2,   215.4,2,   114.2,2,   32.38,2,    0.00,2,    2.22,2,   0.814,2,   0.428,2,   0.3833,2,  2259.7,2, 2353.83,2,   7.5868,2, -999.00,9,  -999.0,9,  -999.0,    0.04,2,    36.6,2,   31.64,2,    21.2494,3, 20190416,     1736, -68.3074,  31.2087,      25.04,     0.3349,2,      0.127,1,      0.062,1,      4.653,1
325020190403,       I06S,       4,          1,          8,          8,2,20190416,       1719,   -68.3074,    31.2087,       1788,  1178.9,    0.364,  34.6775,2,   34.678,2,    213.5,2,   214.8,2,   113.5,2,   32.36,2,    0.00,2,    2.22,2,-999.000,9,-999.000,9,-999.0000,9,  -999.0,9, -999.00,9,-999.0000,9,    0.59,2,  -158.1,2,     1.8,    0.05,2,    36.5,2,   33.30,2,     -999.0,9, 20190416,     1739, -68.3075,  31.2087,     -999.0,     0.3637,2,      0.153,1,      0.062,1,      4.653,1
325020190403,       I06S,       4,          1,          9,          9,2,20190416,       1719,   -68.3074,    31.2087,       1788,  1078.5,   0.4054,  34.6785,2,  34.6792,2,    213.7,2,   214.1,2,   112.4,2,   32.21,2,    0.00,2,    2.21,2,   0.812,2,   0.427,2,   0.3679,2,  2259.5,2, 2354.38,2,   7.5873,2, -999.00,9,  -999.0,9,  -999.0,    0.03,2,    37.7,2,   32.65,2,    21.2821,3, 20190416,     1743, -68.3074,  31.2087,      25.01,     0.4068,2,      0.130,1,      0.062,1,      4.654,1
325020190403,       I06S,       4,          1,         10,         10,2,20190416,       1719,   -68.3074,    31.2087,       1788,   976.5,   0.4586,  34.6785,2,  34.6786,2,    214.6,2,   214.1,2,   109.4,2,   32.07,2,    0.00,2,    2.18,2,-999.000,9,-999.000,9,-999.0000,9,  -999.0,9, -999.00,9,-999.0000,9, -999.00,9,  -999.0,9,  -999.0,    0.06,6,  -999.0,9, -999.00,9,     -999.0,9, 20190416,     1746, -68.3074,  31.2087,     -999.0,     0.4582,2,      0.129,1,      0.062,1,      4.652,1
325020190403,       I06S,       4,          1,         11,         11,2,20190416,       1719,   -68.3074,    31.2087,       1788,   875.6,   0.4965,  34.6762,2,  34.6768,2,    214.4,2,   214.7,2,   105.7,2,   31.97,2,    0.00,2,    2.18,2,   0.975,2,   0.522,2,   0.4964,2,  2255.9,2, 2351.78,2,   7.5886,2, -999.00,9,  -999.0,9,  -999.0,     0.0,2,    36.2,2,   31.96,2,    21.2656,3, 20190416,     1749, -68.3074,  31.2087,      25.02,     0.4957,2,      0.129,1,      0.062,1,      4.652,1
325020190403,       I06S,       4,          1,         12,         12,2,20190416,       1719,   -68.3074,    31.2087,       1788,   773.9,   0.5237,  34.6725,2,  34.6748,2,    215.8,2,   215.3,2,   102.3,2,   31.90,2,    0.00,2,    2.18,2,-999.000,9,-999.000,9,-999.0000,9,  -999.0,9, -999.00,9,-999.0000,9, -999.00,9,  -999.0,9,  -999.0,    0.01,2,    38.2,2,   31.72,2,     -999.0,9, 20190416,     1752, -68.3074,  31.2087,     -999.0,     0.5232,2,      0.131,1,      0.062,1,      4.651,1
325020190403,       I06S,       4,          1,         13,         13,2,20190416,       1719,   -68.3074,    31.2087,       1788,   672.6,   0.5233,  34.6656,2,  34.6646,2,    217.4,2,   216.9,2,    98.9,2,   31.78,2,    0.00,2,    2.17,2,   1.221,2,   0.660,2,   0.6301,2,  2255.8,2, 2348.26,2,   7.5880,2,    0.54,2,  -150.5,2,     1.8,    0.07,2,    38.9,2,   31.95,2,    21.6083,3, 20190416,     1755, -68.3074,  31.2087,      25.01,     0.5225,2,      0.131,1,      0.062,1,      4.649,1
325020190403,       I06S,       4,          1,         14,         14,2,20190416,       1719,   -68.3074,    31.2087,       1788,   571.4,   0.5175,  34.6582,2,   34.657,2,    218.0,2,   218.5,2,    95.6,2,   31.63,2,    0.00,2,    2.16,2,-999.000,9,-999.000,9,-999.0000,9,  -999.0,9, -999.00,9,-999.0000,9, -999.00,9,  -999.0,9,  -999.0,    0.01,2,  -999.0,9, -999.00,9,     -999.0,9, 20190416,     1758, -68.3075,  31.2087,     -999.0,     0.5172,2,      0.133,1,      0.062,1,      4.650,1
325020190403,       I06S,       4,          1,         15,         15,2,20190416,       1719,   -68.3074,    31.2087,       1788,   490.4,   0.5281,  34.6536,2,  34.6519,2,    218.9,2,   218.6,2,    93.7,2,   31.66,2,    0.00,2,    2.16,2,   1.432,2,   0.770,2,   0.7606,2,  2252.2,2, 2346.58,2,   7.5860,2, -999.00,9,  -999.0,9,  -999.0,     0.1,2,  -999.0,9, -999.00,9,    21.8982,3, 20190416,     1801, -68.3074,  31.2087,      25.01,      0.527,2,      0.136,1,      0.062,1,      4.649,1
325020190403,       I06S,       4,          1,         16,         16,2,20190416,       1719,   -68.3074,    31.2087,       1788,   439.7,   0.5075,  34.6424,2,  34.6403,2,    220.9,2,   220.4,2,    90.9,2,   31.77,2,    0.00,2,    2.16,2,-999.000,9,-999.000,9,-999.0000,9,  -999.0,9, -999.00,9,-999.0000,9,    0.61,2,  -145.2,2,     1.9,    0.06,2,    39.7,2,   31.86,2,     -999.0,9, 20190416,     1803, -68.3075,  31.2087,     -999.0,     0.5065,2,      0.137,1,      0.063,1,      4.648,1
325020190403,       I06S,       4,          1,         17,         17,2,20190416,       1719,   -68.3074,    31.2087,       1788,   389.1,   0.4268,  34.6202,2,  34.6185,2,    212.7,3,   223.9,2,    87.2,2,   31.75,2,    0.00,2,    2.16,2,   1.862,2,   0.988,2,   0.9805,2,  2250.2,3, 2341.30,2,   7.5812,2, -999.00,9,  -999.0,9,  -999.0,    0.04,2,    40.2,2,   33.87,2,    22.3669,3, 20190416,     1806, -68.3074,  31.2087,      25.03,     0.4148,2,      0.138,1,      0.062,1,      4.644,1
325020190403,       I06S,       4,          1,         18,         18,2,20190416,       1719,   -68.3074,    31.2087,       1788,   338.4,   0.6203,  34.6302,2,  34.6289,2,    214.2,3,   220.1,2,    87.8,2,   31.93,2,    0.00,2,    2.17,2,-999.000,9,-999.000,9,-999.0000,9,  -999.0,9, -999.00,9,-999.0000,9, -999.00,9,  -999.0,9,  -999.0,    0.03,2,    38.9,2,   33.89,2,     -999.0,9, 20190416,     1808, -68.3074,  31.2087,     -999.0,     0.6174,2,      0.139,1,      0.063,1,      4.646,1
325020190403,       I06S,       4,          1,         19,         19,2,20190416,       1719,   -68.3074,    31.2087,       1788,   287.9,   0.2145,  34.5749,2,  34.5748,2,    232.7,2,   230.8,2,    83.0,2,   31.85,2,    0.00,2,    2.16,2,   2.269,2,   1.198,2,   1.2412,2,  2245.8,2, 2337.19,2,   7.5785,2, -999.00,9,  -999.0,9,  -999.0,    0.03,2,    37.9,2,   32.46,2,    22.5651,3, 20190416,     1810, -68.3074,  31.2087,      25.03,     0.2111,2,      0.139,1,      0.066,1,      4.644,1
325020190403,       I06S,       4,          1,         20,         20,2,20190416,       1719,   -68.3074,    31.2087,       1788,   242.3,  -0.5474,  34.4799,2,  34.4785,2,    259.5,2,   258.6,2,    75.2,2,   31.50,2,    0.01,2,    2.12,2,-999.000,9,-999.000,9,-999.0000,9,  -999.0,9, -999.00,9,-999.0000,9,    0.76,2,  -136.7,2,     1.7,   -0.01,6,  -999.0,9, -999.00,9,     -999.0,9, 20190416,     1812, -68.3074,  31.2087,     -999.0,    -0.5486,2,      0.140,1,      0.077,1,      4.640,1
325020190403,       I06S,       4,          1,         21,         21,2,20190416,       1719,   -68.3074,    31.2087,       1788,   216.9,   -0.689,  34.4619,2,  34.4595,2,    266.9,2,   264.8,2,    73.8,2,   31.42,2,    0.01,2,    2.14,2,   3.516,2,   1.851,2,   2.1300,2,  2238.8,2, 2331.77,2,   7.5850,2, -999.00,9,  -999.0,9,  -999.0,   -0.05,2,    38.8,2,   33.39,2,     21.883,3, 20190416,     1814, -68.3075,  31.2087,      25.01,    -0.6875,2,      0.143,1,      0.078,1,      4.641,1
325020190403,       I06S,       4,          1,         22,         22,2,20190416,       1719,   -68.3074,    31.2087,       1788,   191.4,  -1.0198,  34.4176,2,  34.4183,2,    278.5,2,   276.4,2,    70.7,2,   31.19,2,    0.04,2,    2.11,2,-999.000,9,-999.000,9,-999.0000,9,  -999.0,9, -999.00,9,-999.0000,9, -999.00,9,  -999.0,9,  -999.0,   -0.13,2,    38.8,2,   32.15,2,     -999.0,9, 20190416,     1816, -68.3074,  31.2087,     -999.0,    -1.0167,2,      0.164,1,      0.088,1,      4.636,1
325020190403,       I06S,       4,          1,         23,         23,2,20190416,       1719,   -68.3074,    31.2087,       1788,   166.4,  -1.2155,  34.3886,2,  34.3872,2,    285.3,2,   284.4,2,    68.7,2,   31.05,2,    0.06,2,    2.11,2,   4.175,2,   2.215,2,   2.8680,2,  2231.9,2, 2326.01,2,   7.5917,2, -999.00,9,  -999.0,9,  -999.0,   -0.17,2,    37.3,2,   33.56,2,    21.4101,3, 20190416,     1819, -68.3074,  31.2087,      25.03,    -1.2115,2,      0.145,1,      0.090,1,      4.636,1
325020190403,       I06S,       4,          1,         24,         24,2,20190416,       1719,   -68.3074,    31.2087,       1788,   141.1,  -1.4762,  34.3173,2,  34.3165,2,    292.9,2,   295.7,2,    65.5,2,   30.54,2,    0.08,2,    2.08,2,-999.000,9,-999.000,9,-999.0000,9,  -999.0,9, -999.00,9,-999.0000,9,    0.90,2,  -126.8,2,     1.8,   -0.03,2,    38.9,2,   30.84,2,     -999.0,9, 20190416,     1820, -68.3074,  31.2087,     -999.0,    -1.4745,2,      0.147,1,      0.097,1,      4.632,1
325020190403,       I06S,       4,          1,         25,         25,2,20190416,       1719,   -68.3074,    31.2087,       1788,   115.9,  -1.2386,  34.1637,2,  34.1811,2,    330.2,3,   315.0,2,    61.6,2,   29.65,2,    0.12,2,    2.01,2,   5.107,2,   2.709,2,   3.4213,2,  2210.2,2, 2312.39,2,   7.6173,2, -999.00,9,  -999.0,9,  -999.0, -999.00,9,  -999.0,9, -999.00,9,     19.994,3, 20190416,     1822, -68.3074,  31.2087,      25.02,    -1.2368,2,      0.194,1,      0.187,1,      4.586,1
325020190403,       I06S,       4,          1,         26,         26,2,20190416,       1719,   -68.3074,    31.2087,       1788,    90.6,   -1.169,  34.0615,2,  34.0672,2,    341.7,2,   342.6,2,    57.0,2,   28.25,2,    0.16,2,    1.90,2,-999.000,9,-999.000,9,-999.0000,9,  -999.0,9, -999.00,9,-999.0000,9, -999.00,9,  -999.0,9,  -999.0, -999.00,9,    39.5,2,   30.77,2,     -999.0,9, 20190416,     1824, -68.3074,  31.2087,     -999.0,    -1.1683,2,      0.237,1,      0.360,1,      4.529,1
325020190403,       I06S,       4,          1,         27,         27,2,20190416,       1719,   -68.3074,    31.2087,       1788,    65.6,  -1.1953,  34.0522,2,   34.049,2,    341.0,3,   344.6,2,    56.7,2,   28.11,2,    0.17,2,    1.89,2,   6.006,2,   3.154,2,   4.1314,2,  2192.2,2, 2306.90,2,   7.6492,2, -999.00,9,  -999.0,9,  -999.0, -999.00,9,    38.6,2,   29.93,2,    18.5717,3, 20190416,     1826, -68.3074,  31.2087,      25.04,    -1.1955,2,      0.250,1,      0.381,1,      4.521,1
325020190403,       I06S,       4,          1,         28,         28,2,20190416,       1719,   -68.3074,    31.2087,       1788,    40.2,  -1.1866,   34.044,2,  34.0422,2,    346.3,2,   345.0,2,    57.2,2,   28.20,2,    0.17,2,    1.89,2,-999.000,9,-999.000,9,-999.0000,9,  -999.0,9, -999.00,9,-999.0000,9, -999.00,9,  -999.0,9,  -999.0, -999.00,9,  -999.0,9, -999.00,9,     -999.0,9, 20190416,     1828, -68.3074,  31.2087,     -999.0,    -1.1871,2,      0.241,1,      0.362,1,      4.519,1
325020190403,       I06S,       4,          1,         29,         29,2,20190416,       1719,   -68.3074,    31.2087,       1788,    20.0,  -1.1884,  34.0437,2,  34.0395,2,    345.0,2,   345.0,2,    57.2,2,   28.22,2,    0.16,2,    1.86,2,   6.016,2,   3.153,2,   4.0934,2,  2193.2,2, 2304.10,2,   7.6487,2,    1.14,2,  -114.7,2,     1.9, -999.00,9,    39.4,2,   29.03,2,    18.5329,3, 20190416,     1830, -68.3074,  31.2087,      25.03,    -1.1898,2,      0.246,1,      0.357,1,      4.518,1
325020190403,       I06S,       4,          1,         30,         30,2,20190416,       1719,   -68.3074,    31.2087,       1788,     5.4,  -1.1998,  34.0428,2,  34.0398,2,    344.0,2,   345.1,2,    57.6,2,   28.22,2,    0.16,2,    1.86,2,   6.074,2,   3.176,2,   4.0193,2,  2193.6,6, 2303.03,2,   7.6484,2, -999.00,9,  -999.0,9,  -999.0, -999.00,9,  -999.0,9, -999.00,9,    18.5071,3, 20190416,     1831, -68.3074,  31.2087,      25.03,    -1.1975,2,      0.246,1,      0.363,1,      4.520,1