BOTTLE,20210804CCHSIOCBG
EXPOCODE,SECT_ID,STNNBR,CASTNO,SAMPNO,BTLNBR,BTLNBR_FLAG_W,DATE,TIME,LATITUDE,LONGITUDE,DEPTH,CTDPRS,CTDTMP,CTDSAL,CTDSAL_FLAG_W,SALNTY,SALNTY_FLAG_W,CTDOXY,CTDOXY_FLAG_W,OXYGEN,OXYGEN_FLAG_W,SILCAT,SILCAT_FLAG_W,NITRAT,NITRAT_FLAG_W,NITRIT,NITRIT_FLAG_W,PHSPHT,PHSPHT_FLAG_W,CFC-11,CFC-11_FLAG_W,CFC-12,CFC-12_FLAG_W,SF6,SF6_FLAG_W,TCARBN,TCARBN_FLAG_W,ALKALI,ALKALI_FLAG_W,PH_TOT,PH_TOT_FLAG_W,DELC13,DELC13_FLAG_W,DELC14,DELC14_FLAG_W,C14ERR,DELO18,DELO18_FLAG_W,DOC,DOC_FLAG_W,TDN,TDN_FLAG_W,N2O,N2O_FLAG_W,BTL_DATE,BTL_TIME,BTL_LAT,BTL_LON,PH_TMP,REFTMP,REFTMP_FLAG_W,CTDBACKSCATTER,CTDBACKSCATTER_FLAG_W,CTDFLUOR,CTDFLUOR_FLAG_W,CTDXMISS,CTDXMISS_FLAG_W
,,,,,,,,,,,METERS,DBAR,ITS-90,PSS-78,,PSS-78,,UMOL/KG,,UMOL/KG,,UMOL/KG,,UMOL/KG,,UMOL/KG,,UMOL/KG,,PMOL/KG,,PMOL/KG,,FMOL/KG,,UMOL/KG,,UMOL/KG,,,,/MILLE,,/MILLE,,/MILLE,/MILLE,,UMOL/KG,,UMOL/KG,,NMOL/KG,,,,,,DEG C,ITS-90,,VOLTS,,VOLTS,,VOLTS,
325020190403,       I06S,      38,          1,          1,          1,2,20190429,       0949,   -53.4999,    30.0003,       5269,  5371.9,  -0.1498,  34.6524,2,  34.6529,2,    240.2,2,   240.4,2,   133.6,2,   32.63,2,    0.00,2,    2.24,2,   0.856,2,   0.369,2,   0.1997,2,  2254.6,6, 2351.89,2,   7.5998,2,    0.63,2,  -152.9,2,     2.1,    0.13,2,    39.1,2,   34.29,2,    18.4372,3, 20190429,      949, -53.4999,  30.0004,      25.10,    -0.1502,2,      0.135,1,      0.059,1,      4.708,1
325020190403,       I06S,      38,          1,          2,          2,2,20190429,       0949,   -53.4999,    30.0003,       5269,  5292.3,  -0.1548,  34.6526,2,  34.6533,2,    239.5,2,   240.3,2,   133.0,2,   32.63,2,    0.00,2,    2.24,2,-999.000,9,-999.000,9,-999.0000,9,  -999.0,9, -999.00,9,-999.0000,9,    0.66,2,  -156.3,2,     1.7,    0.07,2,    38.9,2,   33.78,2,     -999.0,9, 20190429,      951, -53.4999,  30.0003,     -999.0,    -0.1548,2,      0.131,1,      0.059,1,      4.712,1
325020190403,       I06S,      38,          1,          3,          3,2,20190429,       0949,   -53.4999,    30.0003,       5269,  5216.2,  -0.1607,  34.6527,2,  34.6529,2,    239.6,2,   240.1,2,   133.4,2,   32.70,2,    0.00,2,    2.24,2,   0.855,2,   0.370,2,   0.2415,2,  2254.6,2, 2350.40,2,   7.5986,2,    0.62,2,  -156.0,2,     1.7,   -0.08,2,  -999.0,9, -999.00,9,    18.6416,3, 20190429,      954, -53.4999,  30.0003,      25.11,    -0.1606,2,      0.137,1,      0.060,1,      4.711,1
325020190403,       I06S,      38,          1,          4,          4,2,20190429,       0949,   -53.4999,    30.0003,       5269,  4806.2,  -0.1277,  34.6558,2,  34.6556,2,    236.3,2,   237.2,2,   133.0,2,   32.69,2,    0.00,2,    2.25,2,-999.000,9,-999.000,9,-999.0000,9,  -999.0,9, -999.00,9,-999.0000,9,    0.61,2,  -156.5,2,     1.8,    0.11,2,    40.0,2,   34.27,2,     -999.0,9, 20190429,     1001, -53.4999,  30.0003,     -999.0,    -0.1279,2,      0.128,1,      0.060,1,      4.718,1
325020190403,       I06S,      38,          1,          5,          5,2,20190429,       0949,   -53.4999,    30.0003,       5269,  4389.5,  -0.1026,   34.658,2,  34.6584,2,    233.0,2,   234.4,2,   131.7,2,   32.81,2,    0.00,2,    2.27,2,   0.764,2,   0.330,2,   0.1500,2,  2256.3,2, 2352.40,2,   7.5961,2,    0.63,2,  -153.9,2,     1.8,   -0.01,2,    39.4,2,   34.07,2,    18.7929,3, 20190429,     1009, -53.4999,  30.0003,      25.09,    -0.1027,2,      0.124,1,      0.059,1,      4.723,1
325020190403,       I06S,      38,          1,          6,          6,2,20190429,       0949,   -53.4999,    30.0003,       5269,  3984.0,   -0.033,  34.6615,2,  34.6613,2,    229.1,2,   230.2,2,   129.4,2,   32.78,2,    0.00,2,    2.27,2,-999.000,9,-999.000,9,-999.0000,9,  -999.0,9, 2352.15,2,   7.5919,2,    0.60,2,  -156.4,2,     1.7,     0.2,2,    38.9,2,   35.10,2,     -999.0,9, 20190429,     1017, -53.4999,  30.0003,      25.02,    -0.0326,2,      0.123,1,      0.060,1,      4.726,1
325020190403,       I06S,      38,          1,          7,          7,4,20190429,       0949,   -53.4999,    30.0003,       5269,  3672.4,   0.0385,  34.6666,3,  34.6952,4,    225.1,3,   179.3,4,    85.5,3,   32.47,3,    0.00,3,    2.24,3,   0.447,3,   0.211,3,   0.1648,3,  2256.2,4, -999.00,9,-999.0000,9, -999.00,9,  -999.0,9,  -999.0, -999.00,9,  -999.0,9, -999.00,9,    22.1331,3, 20190429,     1023, -53.4999,  30.0003,     -999.0,     0.0383,2,      0.122,1,      0.060,1,      4.727,1
325020190403,       I06S,      38,          1,          8,          8,2,20190429,       0949,   -53.4999,    30.0003,       5269,  3365.3,   0.1476,  34.6699,2,  34.6703,2,    220.0,2,   220.9,2,   129.1,2,   32.95,2,    0.00,2,    2.29,2,-999.000,9,-999.000,9,-999.0000,9,  2261.5,2, 2353.08,2,   7.5864,2,    0.54,2,  -160.1,2,     1.7, -999.00,9,    38.4,2,   33.53,2,     -999.0,9, 20190429,     1029, -53.4999,  30.0003,      25.05,     0.1481,2,      0.124,1,      0.061,1,      4.728,1
325020190403,       I06S,      38,          1,          9,          9,2,20190429,       0949,   -53.4999,    30.0003,       5269,  3055.7,   0.3011,  34.6774,2,   34.678,2,    215.8,2,   215.6,2,   128.2,2,   33.00,2,    0.00,2,    2.29,2,   0.564,2,   0.251,2,   0.1288,2,  -999.0,9, -999.00,9,-999.0000,9,    0.51,2,  -161.3,2,     1.7,     0.2,2,  -999.0,9, -999.00,9,    19.5699,3, 20190429,     1036, -53.4999,  30.0003,     -999.0,     0.3012,2,      0.123,1,      0.060,1,      4.727,1
325020190403,       I06S,      38,          1,         10,         10,2,20190429,       0949,   -53.4999,    30.0003,       5269,  2802.5,     0.42,  34.6832,2,  34.6829,2,    212.8,2,   212.0,2,   126.1,2,   32.79,2,    0.00,2,    2.28,2,-999.000,9,-999.000,9,-999.0000,9,  2264.0,2, 2354.64,2,   7.5869,2,    0.55,3,  -163.2,2,     1.8, -999.00,9,    38.0,2,   33.82,2,     -999.0,9, 20190429,     1041, -53.4999,  30.0003,      25.10,     0.4203,2,      0.124,1,      0.060,1,      4.726,1
325020190403,       I06S,      38,          1,         11,         11,2,20190429,       0949,   -53.4999,    30.0003,       5269,  2546.5,   0.5232,  34.6886,2,  34.6882,2,    211.0,2,   209.7,2,   123.4,2,   32.71,2,    0.00,2,    2.27,2,   0.499,2,   0.222,2,   0.1137,2,  -999.0,9, -999.00,9,-999.0000,9,    0.43,2,  -159.2,2,     1.6,    0.36,2,    38.8,2,   34.63,2,      19.76,3, 20190429,     1046, -53.5000,  30.0003,     -999.0,     0.5238,2,      0.124,1,      0.060,1,      4.727,1
325020190403,       I06S,      38,          1,         12,         12,2,20190429,       0949,   -53.4999,    30.0003,       5269,  2290.6,    0.659,  34.6963,2,  34.6968,2,    207.5,2,   207.6,2,   118.9,2,   32.40,2,    0.00,2,    2.26,2,-999.000,9,-999.000,9,-999.0000,9,  2262.3,2, 2354.91,2,   7.5911,2, -999.00,9,  -999.0,9,  -999.0, -999.00,9,  -999.0,9, -999.00,9,     -999.0,9, 20190429,     1051, -53.4999,  30.0003,      25.09,     0.6591,2,      0.137,1,      0.059,1,      4.727,1
325020190403,       I06S,      38,          1,         13,         13,2,20190429,       0949,   -53.4999,    30.0003,       5269,  2036.8,   0.8192,  34.7066,2,  34.7068,2,    204.3,3,   206.7,2,   113.4,2,   31.99,2,    0.00,2,    2.22,2,   0.422,2,   0.191,2,   0.0830,2,  2258.5,2, -999.00,9,   7.5979,2,    0.45,2,  -156.7,2,     2.1,    0.23,2,    38.3,2,   32.36,2,    19.7185,3, 20190429,     1057, -53.4999,  30.0004,      25.09,     0.8199,2,      0.126,1,      0.060,1,      4.726,1
325020190403,       I06S,      38,          1,         14,         14,2,20190429,       0949,   -53.4999,    30.0003,       5269,  1831.5,   0.9546,  34.7126,2,  34.7127,2,    203.0,3,   205.2,2,   109.3,2,   31.73,2,    0.00,2,    2.20,2,-999.000,9,-999.000,9,-999.0000,9,  -999.0,9, -999.00,9,-999.0000,9,    0.43,2,  -158.1,2,     1.6, -999.00,9,    39.2,2,   32.80,2,     -999.0,9, 20190429,     1101, -53.4999,  30.0004,     -999.0,     0.9543,2,      0.125,1,      0.061,1,      4.725,1
325020190403,       I06S,      38,          1,         15,         15,2,20190429,       0949,   -53.4999,    30.0003,       5269,  1629.8,   1.1659,  34.7242,2,  34.7247,2,    202.7,2,   203.3,2,   103.5,2,   31.27,2,    0.00,2,    2.17,2,   0.344,2,   0.157,2,   0.0974,2,  2255.9,2, 2352.25,2,   7.6028,2,    0.48,2,  -157.5,2,     1.7,     0.3,2,  -999.0,9, -999.00,9,    19.6556,3, 20190429,     1106, -53.4999,  30.0003,      25.10,     1.1675,2,      0.131,1,      0.061,1,      4.726,1
325020190403,       I06S,      38,          1,         16,         16,2,20190429,       0949,   -53.4999,    30.0003,       5269,  1426.5,   1.3665,  34.7317,2,  34.7316,2,    199.6,2,   200.4,2,    98.0,2,   30.99,2,    0.00,2,    2.15,2,-999.000,9,-999.000,9,-999.0000,9,  -999.0,9, -999.00,9,-999.0000,9,    0.44,2,  -152.4,2,     2.0, -999.00,9,    39.0,2,   32.08,2,     -999.0,9, 20190429,     1111, -53.4999,  30.0004,     -999.0,     1.3669,2,      0.131,1,      0.061,1,      4.725,1
325020190403,       I06S,      38,          1,         17,         17,2,20190429,       0949,   -53.4999,    30.0003,       5269,  1323.4,   1.4523,  34.7343,2,  34.7347,2,    198.4,2,   199.0,2,    96.2,2,   30.83,2,    0.00,2,    2.15,2,   0.312,2,   0.145,2,   0.1022,2,  2253.1,2, 2351.79,2,   7.6040,2,    0.46,2,  -155.2,2,     1.9,     0.3,2,    38.7,2,   30.58,2,    19.8748,3, 20190429,     1113, -53.4999,  30.0003,      25.11,     1.4519,2,      0.129,1,      0.062,1,      4.723,1
325020190403,       I06S,      38,          1,         18,         18,2,20190429,       0949,   -53.4999,    30.0003,       5269,  1221.5,   1.5515,  34.7331,2,  34.7333,2,    197.0,2,   196.3,2,    94.2,2,   30.96,2,    0.00,2,    2.15,2,-999.000,9,-999.000,9,-999.0000,9,  -999.0,9, -999.00,9,-999.0000,9, -999.00,9,  -999.0,9,  -999.0, -999.00,9,  -999.0,9, -999.00,9,     -999.0,9, 20190429,     1116, -53.4999,  30.0004,     -999.0,     1.5513,2,      0.128,1,      0.060,1,      4.724,1
325020190403,       I06S,      38,          1,         19,         19,2,20190429,       0949,   -53.4999,    30.0003,       5269,  1119.9,   1.6492,  34.7306,3,  34.7402,4,    195.8,3,   193.7,2,    92.0,2,   31.04,2,    0.00,2,    2.16,2,   0.334,2,   0.157,2,   0.1397,2,  2253.1,2, 2348.21,2,   7.5978,2,    0.40,2,  -154.6,2,     2.0,    0.27,2,    38.2,2,   30.54,2,    20.4664,3, 20190429,     1119, -53.4999,  30.0003,      25.12,     1.6502,2,      0.130,1,      0.061,1,      4.723,1
325020190403,       I06S,      38,          1,         20,         20,2,20190429,       0949,   -53.4999,    30.0003,       5269,  1018.5,   1.7626,  34.7293,2,  34.7288,2,    191.4,2,   190.5,2,    90.0,2,   31.21,2,    0.00,2,    2.18,2,-999.000,9,-999.000,9,-999.0000,9,  -999.0,9, -999.00,9,-999.0000,9,    0.41,2,  -153.0,2,     1.8, -999.00,9,    39.6,2,   34.48,2,     -999.0,9, 20190429,     1122, -53.4999,  30.0004,     -999.0,     1.7635,2,      0.129,1,      0.061,1,      4.722,1
325020190403,       I06S,      38,          1,         21,         21,2,20190429,       0949,   -53.4999,    30.0003,       5269,   919.3,   1.8429,  34.7245,2,  34.7251,2,    187.5,2,   188.3,2,    88.5,2,   31.41,2,    0.00,2,    2.18,2,   0.352,2,   0.167,2,   0.1367,2,  2253.3,2, 2346.31,2,   7.5894,2,    0.56,2,  -154.8,2,     1.7,     0.5,2,  -999.0,9, -999.00,9,    21.0487,3, 20190429,     1124, -53.5000,  30.0007,      25.11,     1.8411,2,      0.132,1,      0.062,1,      4.722,1
325020190403,       I06S,      38,          1,         22,         22,2,20190429,       0949,   -53.4999,    30.0003,       5269,   817.8,   1.9346,  34.7173,2,   34.717,2,    183.5,2,   185.0,2,    86.5,2,   31.67,2,    0.00,2,    2.20,2,-999.000,9,-999.000,9,-999.0000,9,  -999.0,9, -999.00,9,-999.0000,9,    0.52,2,  -151.8,2,     1.8, -999.00,9,    38.9,2,   35.01,2,     -999.0,9, 20190429,     1127, -53.5000,  30.0009,     -999.0,     1.9369,2,      0.134,1,      0.062,1,      4.722,1
325020190403,       I06S,      38,          1,         23,         23,2,20190429,       0949,   -53.4999,    30.0003,       5269,   716.3,   2.0031,  34.6951,2,  34.6954,2,    179.5,2,   179.5,2,    85.4,2,   32.37,2,    0.00,2,    2.25,2,   0.455,2,   0.208,2,   0.1700,2,  2256.6,2, -999.00,9,   7.5709,2,    0.44,2,  -152.6,2,     1.7,    0.45,2,    38.8,2,   35.19,2,    22.1446,3, 20190429,     1129, -53.5001,  30.0013,      25.11,     2.0022,2,      0.133,1,      0.062,1,      4.719,1
325020190403,       I06S,      38,          1,         24,         24,2,20190429,       0949,   -53.4999,    30.0003,       5269,   615.6,    2.056,  34.6677,2,  34.6682,2,    175.3,2,   174.9,2,    84.1,2,   33.11,2,    0.00,2,    2.30,2,-999.000,9,-999.000,9,-999.0000,9,  2258.0,2, 2339.80,2,   7.5586,2, -999.00,9,  -999.0,9,  -999.0, -999.00,9,  -999.0,9, -999.00,9,     -999.0,9, 20190429,     1132, -53.5002,  30.0018,      25.11,      2.055,2,      0.139,1,      0.062,1,      4.714,1
325020190403,       I06S,      38,          1,         25,         25,2,20190429,       0949,   -53.4999,    30.0003,       5269,   513.2,   2.1012,  34.6223,2,  34.6242,2,    173.5,2,   172.2,2,    81.3,2,   33.85,2,    0.00,2,    2.34,2,   0.755,2,   0.347,2,   0.2782,2,  2260.6,6, 2336.98,2,   7.5450,2,    0.40,2,  -146.2,2,     1.7,    0.33,2,    38.8,2,   37.71,2,    23.8305,3, 20190429,     1135, -53.5002,  30.0020,      25.12,     2.0954,2,      0.144,1,      0.061,1,      4.718,1
325020190403,       I06S,      38,          1,         26,         26,2,20190429,       0949,   -53.4999,    30.0003,       5269,   412.2,   2.0526,  34.5695,2,  34.5705,2,    175.9,3,   173.5,2,    79.5,2,   34.56,2,    0.00,2,    2.40,2,-999.000,9,-999.000,9,-999.0000,9,  2260.6,2, 2333.72,2,   7.5330,2,    0.40,2,  -145.6,2,     1.8, -999.00,9,    40.5,2,   37.35,2,     -999.0,9, 20190429,     1137, -53.5003,  30.0024,      25.13,      2.051,2,      0.144,1,      0.062,1,      4.713,1
325020190403,       I06S,      38,          1,         27,         27,2,20190429,       0949,   -53.4999,    30.0003,       5269,   362.5,   2.0063,  34.5312,2,  34.5311,2,    179.7,3,   177.2,2,    77.4,2,   34.82,2,    0.00,2,    2.39,2,   1.353,2,   0.628,2,   0.5971,2,  -999.0,9, -999.00,9,-999.0000,9,    0.40,2,  -142.9,2,     1.8,     0.2,6,  -999.0,9, -999.00,9,    24.7411,3, 20190429,     1139, -53.5004,  30.0027,     -999.0,     2.0055,2,      0.150,1,      0.062,1,      4.712,1
325020190403,       I06S,      38,          1,         28,         28,2,20190429,       0949,   -53.4999,    30.0003,       5269,   310.9,   1.9346,  34.4719,2,  34.4728,2,    186.4,3,   184.5,2,    74.0,2,   35.03,2,    0.00,2,    2.40,2,-999.000,9,-999.000,9,-999.0000,9,  2253.7,2, 2326.35,2,   7.5289,2,    0.46,2,  -134.3,2,     1.8, -999.00,9,    40.4,2,   33.28,2,     -999.0,9, 20190429,     1141, -53.5005,  30.0033,      25.11,      1.922,2,      0.140,1,      0.060,1,      4.711,1
325020190403,       I06S,      38,          1,         29,         29,2,20190429,       0949,   -53.4999,    30.0003,       5269,   259.0,   1.3215,  34.3182,2,  34.3192,2,    219.9,3,   228.5,2,    66.5,2,   33.91,2,    0.00,2,    2.34,2,   3.341,2,   1.622,2,   1.6725,2,  2235.6,2, 2315.39,2,   7.5472,2,    0.56,2,  -130.2,2,     1.7,    0.19,2,    39.0,2,   32.16,2,    22.7393,3, 20190429,     1143, -53.5007,  30.0039,      25.11,       1.32,2,      0.132,1,      0.061,1,      4.721,1
325020190403,       I06S,      38,          1,         30,         30,2,20190429,       0949,   -53.4999,    30.0003,       5269,   208.7,   1.1273,   34.185,2,  34.1843,2,    277.0,3,   262.6,2,    57.4,2,   32.31,2,    0.02,2,    2.22,2,-999.000,9,-999.000,9,-999.0000,9,  -999.0,9, -999.00,9,-999.0000,9, -999.00,9,  -999.0,9,  -999.0,     0.3,2,  -999.0,9, -999.00,9,     -999.0,9, 20190429,     1145, -53.5007,  30.0042,     -999.0,     1.1219,2,      0.131,1,      0.063,1,      4.720,1
325020190403,       I06S,      38,          1,         31,         31,2,20190429,       0949,   -53.4999,    30.0003,       5269,   159.4,   1.7539,  34.0131,2,  34.0126,2,    321.6,3,   315.5,2,    43.0,2,   27.25,2,    0.28,2,    1.88,2,   5.554,2,   2.740,2,   3.3727,2,  2186.3,2, 2298.63,2,   7.6569,2,    1.15,2,  -113.4,2,     1.8,    0.09,2,    40.0,2,   26.17,2,    15.8846,3, 20190429,     1148, -53.5007,  30.0043,      25.03,     1.7579,2,      0.137,1,      0.093,1,      4.708,1
325020190403,       I06S,      38,          1,         32,         32,2,20190429,       0949,   -53.4999,    30.0003,       5269,   107.9,   2.0569,  33.9675,2,  33.9684,2,    325.7,2,   326.1,2,    38.5,2,   25.96,2,    0.31,2,    1.77,2,-999.000,9,-999.000,9,-999.0000,9,  2177.1,2, -999.00,9,   7.6786,2,    1.25,2,  -110.6,2,     1.8,    -0.0,2,    41.8,2,   25.66,2,     -999.0,9, 20190429,     1150, -53.5007,  30.0044,      25.04,     2.0572,2,      0.141,1,      0.122,1,      4.695,1
325020190403,       I06S,      38,          1,         33,         33,2,20190429,       0949,   -53.4999,    30.0003,       5269,    82.5,   2.0634,   33.964,2,  33.9657,2,    325.6,2,   326.3,2,    38.3,2,   25.89,2,    0.31,2,    1.76,2,   5.673,2,   2.799,2,   3.6052,2,  2175.0,2, 2296.39,2,   7.6795,2,    1.24,2,  -109.1,2,     1.8,   -0.04,2,  -999.0,9, -999.00,9,    14.7412,3, 20190429,     1151, -53.5008,  30.0045,      25.03,     2.0623,2,      0.142,1,      0.120,1,      4.694,1
325020190403,       I06S,      38,          1,         34,         34,2,20190429,       0949,   -53.4999,    30.0003,       5269,    58.1,   2.0738,  33.9625,2,  33.9639,2,    325.7,2,   326.7,2,    38.1,2,   25.83,2,    0.31,2,    1.75,2,-999.000,9,-999.000,9,-999.0000,9,  -999.0,9, -999.00,9,-999.0000,9,    1.24,2,  -108.4,2,     1.7,   -0.02,2,    42.3,2,   26.64,2,     -999.0,9, 20190429,     1153, -53.5008,  30.0045,     -999.0,     2.0743,2,      0.145,1,      0.120,1,      4.691,1
325020190403,       I06S,      38,          1,         35,         35,2,20190429,       0949,   -53.4999,    30.0003,       5269,    31.8,   2.0982,  33.9606,2,  33.9614,2,    328.0,2,   326.7,2,    38.0,2,   25.77,2,    0.31,2,    1.73,2,-999.000,5,   2.815,2,   3.7053,2,  2176.2,2, 2297.01,2,   7.6808,2,    1.21,2,  -109.4,2,     2.7,    0.12,2,  -999.0,9, -999.00,9,    14.6828,3, 20190429,     1154, -53.5008,  30.0046,      25.04,     2.0973,2,      0.145,1,      0.115,1,      4.690,1
325020190403,       I06S,      38,          1,         36,         36,2,20190429,       0949,   -53.4999,    30.0003,       5269,    12.9,    2.114,    33.96,2,  33.9614,2,    327.1,2,   326.5,2,    37.9,2,   25.66,2,    0.31,2,    1.73,2,   5.699,2,   2.779,2,   3.5593,2,  2176.8,2, 2296.69,2,   7.6824,2,    1.14,2,  -119.2,2,     1.6,    0.13,2,    36.3,2,   25.85,2,     14.642,3, 20190429,     1156, -53.5008,  30.0047,      25.03,      2.111,2,      0.144,1,      0.102,1,      4.687,1