BOTTLE,20210804CCHSIOCBG
EXPOCODE,SECT_ID,STNNBR,CASTNO,SAMPNO,BTLNBR,BTLNBR_FLAG_W,DATE,TIME,LATITUDE,LONGITUDE,DEPTH,CTDPRS,CTDTMP,CTDSAL,CTDSAL_FLAG_W,SALNTY,SALNTY_FLAG_W,CTDOXY,CTDOXY_FLAG_W,OXYGEN,OXYGEN_FLAG_W,SILCAT,SILCAT_FLAG_W,NITRAT,NITRAT_FLAG_W,NITRIT,NITRIT_FLAG_W,PHSPHT,PHSPHT_FLAG_W,CFC-11,CFC-11_FLAG_W,CFC-12,CFC-12_FLAG_W,SF6,SF6_FLAG_W,TCARBN,TCARBN_FLAG_W,ALKALI,ALKALI_FLAG_W,PH_TOT,PH_TOT_FLAG_W,DELC13,DELC13_FLAG_W,DELC14,DELC14_FLAG_W,C14ERR,DELO18,DELO18_FLAG_W,DOC,DOC_FLAG_W,TDN,TDN_FLAG_W,N2O,N2O_FLAG_W,BTL_DATE,BTL_TIME,BTL_LAT,BTL_LON,PH_TMP,REFTMP,REFTMP_FLAG_W,CTDBACKSCATTER,CTDBACKSCATTER_FLAG_W,CTDFLUOR,CTDFLUOR_FLAG_W,CTDXMISS,CTDXMISS_FLAG_W
,,,,,,,,,,,METERS,DBAR,ITS-90,PSS-78,,PSS-78,,UMOL/KG,,UMOL/KG,,UMOL/KG,,UMOL/KG,,UMOL/KG,,UMOL/KG,,PMOL/KG,,PMOL/KG,,FMOL/KG,,UMOL/KG,,UMOL/KG,,,,/MILLE,,/MILLE,,/MILLE,/MILLE,,UMOL/KG,,UMOL/KG,,NMOL/KG,,,,,,DEG C,ITS-90,,VOLTS,,VOLTS,,VOLTS,
325020190403,       I06S,      31,          1,          1,          1,2,20190424,       0251,   -57.0048,    29.9983,       5457,  5565.8,  -0.2212,  34.6497,2,  34.6497,2,    244.0,2,   244.0,2,   134.7,2,   32.51,2,    0.00,2,    2.23,2,   0.932,2,   0.415,2,   0.1971,2,  2251.9,6, 2353.33,2,   7.6008,2, -999.00,9,  -999.0,9,  -999.0,   -0.13,2,  -999.0,9, -999.00,9,    17.6992,3, 20190424,      251, -57.0048,  29.9983,      25.01,     -999.0,9,      0.000,1,      0.058,1,      4.605,1
325020190403,       I06S,      31,          1,          2,          2,2,20190424,       0251,   -57.0048,    29.9983,       5457,  5496.6,  -0.2296,  34.6498,2,  34.6485,2,    241.6,2,   243.9,2,   134.7,2,   32.45,2,    0.00,2,    2.23,2,   0.903,2,   0.407,2,   0.2507,2,  -999.0,9, -999.00,9,-999.0000,9, -999.00,9,  -999.0,9,  -999.0,   -0.14,2,  -999.0,9, -999.00,9,    17.9335,3, 20190424,      253, -57.0048,  29.9982,     -999.0,     -999.0,9,      0.000,1,      0.000,1,      4.604,1
325020190403,       I06S,      31,          1,          3,          3,2,20190424,       0251,   -57.0048,    29.9983,       5457,  5424.9,   -0.229,  34.6501,2,  34.6493,2,    243.7,2,   244.2,2,   133.8,2,   32.45,2,    0.00,2,    2.23,2,   0.867,2,   0.402,2,   0.2628,2,  2252.4,2, 2356.99,2,   7.5996,2, -999.00,9,  -999.0,9,  -999.0,   -0.14,2,  -999.0,9, -999.00,9,    17.7592,3, 20190424,      256, -57.0049,  29.9982,      25.00,     -999.0,9,      0.000,1,      0.059,1,      4.611,1
325020190403,       I06S,      31,          1,          4,          4,2,20190424,       0251,   -57.0048,    29.9983,       5457,  5011.8,  -0.2189,  34.6524,2,  34.6515,2,    240.6,2,   241.9,2,   131.7,2,   32.38,2,    0.00,2,    2.24,2,   0.769,2,   0.365,2,   0.2528,2,  2251.5,2, -999.00,9,   7.6012,2, -999.00,9,  -999.0,9,  -999.0,   -0.14,2,  -999.0,9, -999.00,9,    17.9964,3, 20190424,      303, -57.0051,  29.9980,      25.04,     -999.0,9,      0.000,1,      0.060,1,      4.624,1
325020190403,       I06S,      31,          1,          5,          5,2,20190424,       0251,   -57.0048,    29.9983,       5457,  4598.7,  -0.2079,  34.6541,2,  34.6533,2,    239.0,2,   239.5,2,   130.2,2,   32.46,2,    0.00,2,    2.24,2,   0.754,2,   0.358,2,   0.2275,2,  2252.2,2, 2357.59,2,   7.5995,2, -999.00,9,  -999.0,9,  -999.0,   -0.03,2,  -999.0,9, -999.00,9,     18.014,3, 20190424,      311, -57.0052,  29.9979,      24.98,     -999.0,9,      0.000,1,      0.059,1,      4.625,1
325020190403,       I06S,      31,          1,          6,          6,2,20190424,       0251,   -57.0048,    29.9983,       5457,  4186.0,  -0.1713,   34.657,2,  34.6554,2,    235.7,2,   236.6,2,   130.0,2,   32.47,2,    0.00,2,    2.25,2,   0.721,2,   0.346,2,   0.2370,2,  2252.4,2, -999.00,9,   7.5971,2, -999.00,9,  -999.0,9,  -999.0, -999.00,9,  -999.0,9, -999.00,9,    17.9489,3, 20190424,      319, -57.0052,  29.9979,      25.02,     -999.0,9,      0.000,1,      0.060,1,      4.628,1
325020190403,       I06S,      31,          1,          7,          7,2,20190424,       0251,   -57.0048,    29.9983,       5457,  3776.4,  -0.1276,  34.6595,2,  34.6589,2,    231.8,2,   233.7,2,   129.1,2,   32.56,2,    0.00,2,    2.25,2,   0.712,2,   0.336,2,   0.2230,2,  2258.8,2, 2356.52,2,   7.5943,2, -999.00,9,  -999.0,9,  -999.0,   -0.07,6,  -999.0,9, -999.00,9,    18.0469,3, 20190424,      326, -57.0053,  29.9979,      24.94,     -999.0,9,      0.000,1,      0.001,1,      4.628,1
325020190403,       I06S,      31,          1,          8,          8,2,20190424,       0251,   -57.0048,    29.9983,       5457,  3367.3,  -0.0614,  34.6629,2,  34.6615,2,    226.8,2,   228.8,2,   128.3,2,   32.69,2,    0.00,2,    2.26,2,   0.652,2,   0.306,2,   0.2119,2,  2256.5,2, 2356.26,2,   7.5906,2, -999.00,9,  -999.0,9,  -999.0, -999.00,9,  -999.0,9, -999.00,9,    18.0401,3, 20190424,      333, -57.0053,  29.9978,      25.05,     -999.0,9,      0.000,1,      0.000,1,      4.628,1
325020190403,       I06S,      31,          1,          9,          9,2,20190424,       0251,   -57.0048,    29.9983,       5457,  2969.8,   0.0431,  34.6676,2,  34.6666,2,    221.8,2,   223.0,2,   128.5,2,   32.82,2,    0.00,2,    2.27,2,   0.578,2,   0.270,2,   0.1970,2,  -999.0,9, -999.00,9,-999.0000,9, -999.00,9,  -999.0,9,  -999.0,   -0.01,2,  -999.0,9, -999.00,9,     18.065,3, 20190424,      341, -57.0051,  29.9980,     -999.0,     -999.0,9,      0.000,1,      0.059,1,      4.629,1
325020190403,       I06S,      31,          1,         10,         10,2,20190424,       0251,   -57.0048,    29.9983,       5457,  2714.9,    0.122,  34.6711,2,  34.6705,2,    219.5,2,   219.5,2,   128.7,2,   32.85,2,    0.00,2,    2.27,2,   0.571,2,   0.271,2,   0.1791,2,  2260.9,2, 2359.68,2,   7.5854,2, -999.00,9,  -999.0,9,  -999.0, -999.00,9,  -999.0,9, -999.00,9,    18.0153,3, 20190424,      346, -57.0051,  29.9980,      24.99,     -999.0,9,      0.000,1,      0.060,1,      4.628,1
325020190403,       I06S,      31,          1,         11,         11,2,20190424,       0251,   -57.0048,    29.9983,       5457,  2458.3,    0.217,  34.6756,2,  34.6744,2,    215.3,2,   216.8,2,   128.1,2,   32.91,2,    0.00,2,    2.27,2,   0.545,2,   0.271,2,   0.2207,2,  -999.0,9, -999.00,9,-999.0000,9, -999.00,9,  -999.0,9,  -999.0,   -0.04,2,  -999.0,9, -999.00,9,    18.0233,3, 20190424,      351, -57.0052,  29.9979,     -999.0,     -999.0,9,      0.000,1,      0.060,1,      4.628,1
325020190403,       I06S,      31,          1,         12,         12,2,20190424,       0251,   -57.0048,    29.9983,       5457,  2205.6,   0.3128,  34.6803,2,  34.6794,2,    211.8,2,   212.6,2,   126.8,2,   32.86,2,    0.00,2,    2.27,2,   0.497,2,   0.236,2,   0.2280,2,  2262.0,2, 2360.45,6,   7.5852,2, -999.00,9,  -999.0,9,  -999.0, -999.00,9,  -999.0,9, -999.00,9,    18.0146,3, 20190424,      356, -57.0053,  29.9979,      25.06,     -999.0,9,      0.000,1,      0.059,1,      4.628,1
325020190403,       I06S,      31,          1,         13,         13,2,20190424,       0251,   -57.0048,    29.9983,       5457,  1969.1,   0.3934,  34.6838,2,  34.6837,2,    208.8,2,   209.0,2,   125.0,2,   32.93,2,    0.00,2,    2.27,2,   0.486,2,   0.232,2,   0.2248,2,  -999.0,9, -999.00,9,-999.0000,9, -999.00,9,  -999.0,9,  -999.0,   -0.02,2,  -999.0,9, -999.00,9,    17.9836,3, 20190424,      400, -57.0053,  29.9978,     -999.0,     -999.0,9,      0.000,1,      0.060,1,      4.628,1
325020190403,       I06S,      31,          1,         14,         14,2,20190424,       0251,   -57.0048,    29.9983,       5457,  1764.9,   0.4848,  34.6888,2,  34.6923,3,    206.0,2,   207.8,2,   121.7,2,   32.64,2,    0.00,2,    2.26,2,   0.471,2,   0.229,2,   0.2179,2,  2262.7,2, 2362.14,3,   7.5846,2, -999.00,9,  -999.0,9,  -999.0, -999.00,9,  -999.0,9, -999.00,9,    17.9788,3, 20190424,      404, -57.0053,  29.9978,      24.97,     -999.0,9,      0.000,1,      0.060,1,      4.628,1
325020190403,       I06S,      31,          1,         15,         15,2,20190424,       0251,   -57.0048,    29.9983,       5457,  1563.8,   0.5823,  34.6935,2,  34.6933,2,    204.1,3,   206.2,2,   119.3,2,   32.53,2,    0.00,2,    2.24,2,   0.451,2,   0.222,2,   0.1705,2,  -999.0,9, -999.00,9,-999.0000,9, -999.00,9,  -999.0,9,  -999.0,    0.02,2,  -999.0,9, -999.00,9,    17.8851,3, 20190424,      409, -57.0054,  29.9978,     -999.0,     -999.0,9,      0.000,1,      0.060,1,      4.627,1
325020190403,       I06S,      31,          1,         16,         16,2,20190424,       0251,   -57.0048,    29.9983,       5457,  1390.7,   0.6773,  34.6976,2,   34.698,2,    203.5,2,   204.7,2,   115.7,2,   32.44,2,    0.00,2,    2.23,2,   0.449,2,   0.229,2,   0.2298,2,  2259.6,2, 2361.71,3,   7.5893,2, -999.00,9,  -999.0,9,  -999.0, -999.00,9,  -999.0,9, -999.00,9,    17.8538,3, 20190424,      412, -57.0055,  29.9977,      24.38,     -999.0,9,      0.000,1,      0.060,1,      4.626,1
325020190403,       I06S,      31,          1,         17,         17,2,20190424,       0251,   -57.0048,    29.9983,       5457,  1287.1,   0.6931,  34.6943,2,  34.6935,2,    203.0,2,   201.3,2,   115.3,2,   32.74,2,    0.00,2,    2.25,2,   0.495,2,   0.256,2,   0.1611,2,  -999.0,9, -999.00,9,-999.0000,9, -999.00,9,  -999.0,9,  -999.0,    0.03,2,  -999.0,9, -999.00,9,    17.8163,3, 20190424,      415, -57.0055,  29.9977,     -999.0,     -999.0,9,      0.000,1,      0.062,1,      4.626,1
325020190403,       I06S,      31,          1,         18,         18,2,20190424,       0251,   -57.0048,    29.9983,       5457,  1188.2,   0.7837,  34.6993,2,  34.6994,2,    200.8,2,   201.6,2,   111.9,2,   32.42,2,    0.00,2,    2.23,2,   0.466,2,   0.237,2,   0.3144,2,  2260.3,2, 2357.53,2,   7.5847,2, -999.00,9,  -999.0,9,  -999.0, -999.00,9,  -999.0,9, -999.00,9,    17.8617,3, 20190424,      418, -57.0056,  29.9977,      25.11,     -999.0,9,      0.000,1,      0.060,1,      4.625,1
325020190403,       I06S,      31,          1,         19,         19,2,20190424,       0251,   -57.0048,    29.9983,       5457,  1086.1,   0.8646,  34.7021,2,  34.7013,2,    199.9,2,   200.7,2,   110.2,2,   32.25,2,    0.00,2,    2.20,2,   0.457,2,   0.232,2,   0.2561,2,  -999.0,9, -999.00,9,-999.0000,9, -999.00,9,  -999.0,9,  -999.0,    0.04,2,  -999.0,9, -999.00,9,    17.7901,3, 20190424,      420, -57.0057,  29.9976,     -999.0,     -999.0,9,      0.000,1,      0.061,1,      4.624,1
325020190403,       I06S,      31,          1,         20,         20,2,20190424,       0251,   -57.0048,    29.9983,       5457,   983.7,   0.9939,  34.7086,2,  34.7078,2,    198.8,2,   200.5,2,   106.4,2,   31.94,2,    0.00,2,    2.19,2,   0.422,2,   0.216,2,   0.2403,2,  2256.8,2, 2354.14,2,   7.5911,2, -999.00,9,  -999.0,9,  -999.0, -999.00,9,  -999.0,9, -999.00,9,      17.82,3, 20190424,      423, -57.0057,  29.9976,      25.00,     -999.0,9,      0.000,1,      0.061,1,      4.624,1
325020190403,       I06S,      31,          1,         21,         21,2,20190424,       0251,   -57.0048,    29.9983,       5457,   881.5,   1.1177,  34.7108,2,  34.7094,2,    197.8,2,   198.2,2,   103.7,2,   31.84,2,    0.00,2,    2.19,2,   0.423,2,   0.241,2,   0.2198,2,  -999.0,9, -999.00,9,-999.0000,9, -999.00,9,  -999.0,9,  -999.0,    0.17,2,  -999.0,9, -999.00,9,    17.7843,3, 20190424,      425, -57.0056,  29.9976,     -999.0,     -999.0,9,      0.000,1,      0.058,1,      4.622,1
325020190403,       I06S,      31,          1,         22,         22,2,20190424,       0251,   -57.0048,    29.9983,       5457,   780.7,   1.2111,  34.7112,2,  34.7096,2,    195.7,2,   196.9,2,   101.4,2,   31.83,2,    0.00,2,    2.19,2,   0.435,2,   0.227,2,   0.2256,2,  2255.2,2, -999.00,9,   7.5886,2, -999.00,9,  -999.0,9,  -999.0, -999.00,9,  -999.0,9, -999.00,9,    17.8056,3, 20190424,      428, -57.0056,  29.9976,      24.94,     -999.0,9,      0.000,1,      0.060,1,      4.623,1
325020190403,       I06S,      31,          1,         23,         23,2,20190424,       0251,   -57.0048,    29.9983,       5457,   680.4,   1.3391,   34.714,2,  34.7127,2,    193.1,2,   194.0,2,    98.6,2,   31.75,2,    0.01,2,    2.19,2,   0.417,2,   0.215,2,   0.2134,2,  2254.7,2, 2356.30,2,   7.5880,2, -999.00,9,  -999.0,9,  -999.0,    0.32,6,  -999.0,9, -999.00,9,    17.7294,3, 20190424,      431, -57.0055,  29.9977,      25.05,     -999.0,9,      0.000,1,      0.060,1,      4.623,1
325020190403,       I06S,      31,          1,         24,         24,2,20190424,       0251,   -57.0048,    29.9983,       5457,   579.6,    1.478,  34.7135,3,   34.697,2,    189.9,2,   191.3,2,    95.0,2,   31.74,2,    0.00,2,    2.19,2,   0.414,2,   0.224,2,   0.2828,2,  2254.9,2, -999.00,9,   7.5852,2, -999.00,9,  -999.0,9,  -999.0, -999.00,9,  -999.0,9, -999.00,9,    17.7525,3, 20190424,      433, -57.0055,  29.9978,      24.99,     -999.0,9,      0.000,1,      0.062,1,      4.622,1
325020190403,       I06S,      31,          1,         25,         25,2,20190424,       0251,   -57.0048,    29.9983,       5457,   478.4,   1.5629,  34.6984,2,  34.6988,2,    187.1,2,   187.5,2,    93.3,2,   32.20,2,    0.00,2,    2.22,2,   0.477,2,   0.265,2,   0.2079,2,  2257.3,6, 2352.24,2,   7.5769,2, -999.00,9,  -999.0,9,  -999.0,    0.14,2,  -999.0,9, -999.00,9,     17.603,3, 20190424,      436, -57.0055,  29.9978,      24.85,     -999.0,9,      0.000,1,      0.062,1,      4.622,1
325020190403,       I06S,      31,          1,         26,         26,2,20190424,       0251,   -57.0048,    29.9983,       5457,   396.9,     1.37,   34.643,3,  34.7147,4,    189.5,2,   190.6,2,    92.1,2,   32.98,2,    0.00,2,    2.27,2,   0.906,2,   0.490,2,   0.3717,2,  2258.6,2, -999.00,9,   7.5604,2, -999.00,9,  -999.0,9,  -999.0, -999.00,9,  -999.0,9, -999.00,9,    17.6559,3, 20190424,      438, -57.0054,  29.9977,      25.03,     -999.0,9,      0.000,1,      0.002,1,      4.624,1
325020190403,       I06S,      31,          1,         27,         27,2,20190424,       0251,   -57.0048,    29.9983,       5457,   346.4,   1.4249,  34.6308,2,  34.6297,2,    195.5,3,   189.4,2,    89.7,2,   33.24,2,    0.00,2,    2.27,2,   1.049,2,   0.543,2,   0.4228,2,  -999.0,9, -999.00,9,-999.0000,9, -999.00,9,  -999.0,9,  -999.0,    0.06,2,  -999.0,9, -999.00,9,    17.8106,3, 20190424,      440, -57.0054,  29.9978,     -999.0,     -999.0,9,      0.000,1,      0.003,1,      4.626,1
325020190403,       I06S,      31,          1,         28,         28,2,20190424,       0251,   -57.0048,    29.9983,       5457,   296.0,   0.9323,  34.5366,2,  34.5373,2,    201.4,3,   215.3,2,    86.0,2,   33.09,2,    0.00,2,    2.27,2,   2.304,2,   1.074,2,   0.8684,2,  2251.1,2, 2338.86,2,   7.5587,2, -999.00,9,  -999.0,9,  -999.0, -999.00,9,  -999.0,9, -999.00,9,    17.8579,3, 20190424,      442, -57.0054,  29.9978,      25.04,     -999.0,9,      0.000,1,      0.001,1,      4.623,1
325020190403,       I06S,      31,          1,         29,         29,2,20190424,       0251,   -57.0048,    29.9983,       5457,   246.0,   0.3548,  34.4172,2,  34.4166,2,    270.6,3,   255.9,2,    79.7,2,   32.27,2,    0.00,2,    2.20,2,   3.743,2,   1.811,2,   1.7995,2,  -999.0,9, -999.00,9,-999.0000,9, -999.00,9,  -999.0,9,  -999.0,   -0.09,2,  -999.0,9, -999.00,9,    17.8472,3, 20190424,      444, -57.0054,  29.9978,     -999.0,     -999.0,9,      0.000,1,      0.059,1,      4.622,1
325020190403,       I06S,      31,          1,         30,         30,2,20190424,       0251,   -57.0048,    29.9983,       5457,   194.5,  -0.2788,  34.2835,2,  34.2816,2,    294.1,3,   306.6,2,    72.0,2,   30.83,2,    0.05,2,    2.11,2,   5.253,2,   2.635,2,   3.1904,2,  2223.4,2, 2326.33,2,   7.6039,2, -999.00,9,  -999.0,9,  -999.0,   -0.21,2,  -999.0,9, -999.00,9,     17.757,3, 20190424,      446, -57.0055,  29.9978,      25.02,     -999.0,9,      0.000,1,      0.062,1,      4.618,1
325020190403,       I06S,      31,          1,         31,         31,2,20190424,       0251,   -57.0048,    29.9983,       5457,   144.3,   0.6662,  34.0772,3,  34.2804,3,    328.6,2,   326.2,2,    52.7,2,   27.01,2,    0.43,2,    1.91,2,-999.000,5,-999.000,5,-999.0000,5,  2194.9,2, -999.00,9,   7.6533,2, -999.00,9,  -999.0,9,  -999.0,   -0.27,2,  -999.0,9, -999.00,9,    14.5966,3, 20190424,      448, -57.0054,  29.9978,      24.99,     -999.0,9,      0.000,1,      0.100,1,      4.607,1
325020190403,       I06S,      31,          1,         32,         32,2,20190424,       0251,   -57.0048,    29.9983,       5457,    95.9,    1.213,  33.9439,2,  33.9432,2,    333.4,2,   333.0,2,    43.1,2,   25.29,2,    0.37,2,    1.76,2,   5.938,2,   2.946,2,   3.9171,2,  2175.8,2, 2305.33,2,   7.6795,2, -999.00,9,  -999.0,9,  -999.0,   -0.28,2,  -999.0,9, -999.00,9,    17.1965,3, 20190424,      450, -57.0055,  29.9977,      24.96,     -999.0,9,      0.000,1,      0.124,1,      4.585,1
325020190403,       I06S,      31,          1,         33,         33,2,20190424,       0251,   -57.0048,    29.9983,       5457,    73.2,   1.2108,   33.944,2,  33.9444,2,    332.3,2,   332.6,2,    42.7,2,   25.28,2,    0.37,2,    1.75,2,   5.875,2,   2.939,2,   3.9400,2,  -999.0,9, -999.00,9,-999.0000,9, -999.00,9,  -999.0,9,  -999.0,   -0.27,2,  -999.0,9, -999.00,9,    17.2338,3, 20190424,      451, -57.0055,  29.9977,     -999.0,     -999.0,9,      0.000,1,      0.131,1,      4.582,1
325020190403,       I06S,      31,          1,         34,         34,2,20190424,       0251,   -57.0048,    29.9983,       5457,    47.3,   1.2022,  33.9423,2,  33.9422,2,    331.7,2,   333.3,2,    43.3,2,   25.26,2,    0.37,2,    1.74,2,   5.835,2,   2.935,2,   3.8588,2,  2177.9,2, 2307.22,2,   7.6808,2, -999.00,9,  -999.0,9,  -999.0,   -0.15,2,  -999.0,9, -999.00,9,    17.3453,3, 20190424,      453, -57.0055,  29.9977,      25.02,     -999.0,9,      0.000,1,      0.130,1,      4.585,1
325020190403,       I06S,      31,          1,         35,         35,2,20190424,       0251,   -57.0048,    29.9983,       5457,    27.4,   1.2008,  33.9418,2,  33.9418,2,    332.2,2,   332.9,2,    43.4,2,   25.23,2,    0.37,2,    1.72,2,   5.804,2,   2.955,2,   3.9415,2,  -999.0,9, -999.00,9,-999.0000,9, -999.00,9,  -999.0,9,  -999.0,   -0.21,2,  -999.0,9, -999.00,9,    17.3505,3, 20190424,      455, -57.0055,  29.9977,     -999.0,     -999.0,9,      0.000,1,      0.129,1,      4.584,1
325020190403,       I06S,      31,          1,         36,         36,2,20190424,       0251,   -57.0048,    29.9983,       5457,    14.4,    1.202,   33.942,2,   33.942,2,    331.4,2,   332.9,2,    43.5,2,   25.22,2,    0.37,2,    1.71,2,   5.795,2,   2.963,2,   4.0415,2,  2178.5,6, 2303.10,2,   7.6803,2, -999.00,9,  -999.0,9,  -999.0,   -0.24,6,  -999.0,9, -999.00,9,    17.4188,3, 20190424,      456, -57.0055,  29.9977,      25.07,     -999.0,9,      0.000,1,      0.129,1,      4.584,1