BOTTLE,20210804CCHSIOCBG
EXPOCODE,SECT_ID,STNNBR,CASTNO,SAMPNO,BTLNBR,BTLNBR_FLAG_W,DATE,TIME,LATITUDE,LONGITUDE,DEPTH,CTDPRS,CTDTMP,CTDSAL,CTDSAL_FLAG_W,SALNTY,SALNTY_FLAG_W,CTDOXY,CTDOXY_FLAG_W,OXYGEN,OXYGEN_FLAG_W,SILCAT,SILCAT_FLAG_W,NITRAT,NITRAT_FLAG_W,NITRIT,NITRIT_FLAG_W,PHSPHT,PHSPHT_FLAG_W,CFC-11,CFC-11_FLAG_W,CFC-12,CFC-12_FLAG_W,SF6,SF6_FLAG_W,TCARBN,TCARBN_FLAG_W,ALKALI,ALKALI_FLAG_W,PH_TOT,PH_TOT_FLAG_W,DELC13,DELC13_FLAG_W,DELC14,DELC14_FLAG_W,C14ERR,DELO18,DELO18_FLAG_W,DOC,DOC_FLAG_W,TDN,TDN_FLAG_W,N2O,N2O_FLAG_W,BTL_DATE,BTL_TIME,BTL_LAT,BTL_LON,PH_TMP,REFTMP,REFTMP_FLAG_W,CTDBACKSCATTER,CTDBACKSCATTER_FLAG_W,CTDFLUOR,CTDFLUOR_FLAG_W,CTDXMISS,CTDXMISS_FLAG_W
,,,,,,,,,,,METERS,DBAR,ITS-90,PSS-78,,PSS-78,,UMOL/KG,,UMOL/KG,,UMOL/KG,,UMOL/KG,,UMOL/KG,,UMOL/KG,,PMOL/KG,,PMOL/KG,,FMOL/KG,,UMOL/KG,,UMOL/KG,,,,/MILLE,,/MILLE,,/MILLE,/MILLE,,UMOL/KG,,UMOL/KG,,NMOL/KG,,,,,,DEG C,ITS-90,,VOLTS,,VOLTS,,VOLTS,
325020190403,       I06S,      53,          1,          1,          1,2,20190511,       0355,   -37.0004,    30.0002,       4548,  4618.6,   1.1206,  34.7301,3,  34.7325,2,    216.3,2,   216.2,2,   107.6,2,   30.56,2,    0.00,2,    2.12,2,   0.166,2,   0.090,2,   0.0760,2,  2254.1,6, 2363.55,2,   7.6572,3, -999.00,9,  -999.0,9,  -999.0,     0.1,2,  -999.0,9, -999.00,9,    19.6077,3, 20190511,      355, -37.0005,  30.0002,      25.12,     1.1217,2,      0.191,1,      0.062,1,      4.698,1
325020190403,       I06S,      53,          1,          2,          2,2,20190511,       0355,   -37.0004,    30.0002,       4548,  4451.2,   1.1912,  34.7368,2,   34.738,2,    216.2,2,   215.9,2,   104.8,2,   30.38,2,    0.00,2,    2.09,2,   0.134,2,   0.071,2,   0.0000,2,  2250.9,2, 2361.95,2,   7.6297,3, -999.00,9,  -999.0,9,  -999.0,    0.17,2,  -999.0,9, -999.00,9,    19.3336,3, 20190511,      358, -37.0005,  30.0002,      25.09,      1.191,2,      0.168,1,      0.060,1,      4.709,1
325020190403,       I06S,      53,          1,          3,          3,2,20190511,       0355,   -37.0004,    30.0002,       4548,  4282.2,   1.2811,  34.7446,2,  34.7451,2,    215.9,2,   215.7,2,   101.6,2,   30.07,2,    0.00,2,    2.06,2,   0.114,2,   0.061,2,   0.0456,2,  2248.0,2, 2360.28,2,   7.6325,3, -999.00,9,  -999.0,9,  -999.0,     0.1,6,  -999.0,9, -999.00,9,    19.1084,3, 20190511,      402, -37.0005,  30.0002,      25.12,     1.2805,2,      0.152,1,      0.061,1,      4.717,1
325020190403,       I06S,      53,          1,          4,          4,2,20190511,       0355,   -37.0004,    30.0002,       4548,  3974.9,   1.5413,  34.7654,2,  34.7649,2,    215.9,2,   216.2,2,    91.9,2,   29.24,2,    0.00,2,    1.99,2,   0.076,2,   0.043,2,   0.0000,2,  2240.0,2, -999.00,9,-999.0000,9, -999.00,9,  -999.0,9,  -999.0, -999.00,9,  -999.0,9, -999.00,9,    19.0451,3, 20190511,      408, -37.0005,  30.0002,     -999.0,     1.5416,2,      0.135,1,      0.061,1,      4.727,1
325020190403,       I06S,      53,          1,          5,          5,2,20190511,       0355,   -37.0004,    30.0002,       4548,  3667.0,   1.9232,  34.7947,2,  34.7946,2,    217.9,2,   217.2,2,    78.4,2,   27.72,2,    0.00,2,    1.90,2,   0.044,2,   0.030,2,   0.0000,2,  2229.7,2, 2350.98,2,   7.6535,3, -999.00,9,  -999.0,9,  -999.0,     0.2,2,  -999.0,9, -999.00,9,    18.7874,3, 20190511,      414, -37.0005,  30.0002,      25.09,     1.9245,2,      0.130,1,      0.061,1,      4.729,1
325020190403,       I06S,      53,          1,          6,          6,2,20190511,       0355,   -37.0004,    30.0002,       4548,  3359.1,   2.1892,  34.8115,2,  34.8126,2,    217.0,2,   216.9,2,    69.5,2,   26.96,2,    0.00,2,    1.83,2,   0.031,2,   0.019,2,   0.0000,2,  2224.9,2, -999.00,9,-999.0000,9, -999.00,9,  -999.0,9,  -999.0, -999.00,9,  -999.0,9, -999.00,9,    18.2467,3, 20190511,      420, -37.0005,  30.0002,     -999.0,     2.1895,2,      0.130,1,      0.063,1,      4.730,1
325020190403,       I06S,      53,          1,          7,          7,2,20190511,       0355,   -37.0004,    30.0002,       4548,  3051.1,   2.3554,  34.8162,2,  34.8171,2,    215.0,2,   215.3,2,    64.6,2,   26.71,2,    0.00,2,    1.83,2,   0.027,2,   0.021,2,   0.0000,2,  2221.7,2, 2341.31,2,   7.6608,3, -999.00,9,  -999.0,9,  -999.0,    0.24,2,  -999.0,9, -999.00,9,    18.3866,3, 20190511,      426, -37.0005,  30.0002,      25.05,     2.3566,2,      0.131,1,      0.061,1,      4.729,1
325020190403,       I06S,      53,          1,          8,          8,2,20190511,       0355,   -37.0004,    30.0002,       4548,  2797.6,   2.5632,    34.81,2,  34.8114,2,    210.0,2,   210.6,2,    61.1,2,   27.00,2,    0.00,2,    1.85,2,   0.034,2,   0.021,2,   0.0000,2,  2221.8,2, -999.00,9,-999.0000,9, -999.00,9,  -999.0,9,  -999.0, -999.00,9,  -999.0,9, -999.00,9,    18.8929,3, 20190511,      431, -37.0005,  30.0002,     -999.0,     2.5624,2,      0.128,1,      0.060,1,      4.730,1
325020190403,       I06S,      53,          1,          9,          9,2,20190511,       0355,   -37.0004,    30.0002,       4548,  2541.4,      2.7,  34.7832,2,  34.7849,2,    199.3,2,   200.5,2,    62.5,2,   28.21,2,    0.00,2,    1.94,2,   0.054,2,   0.032,2,   0.0000,2,  2226.3,2, 2337.30,2,   7.6355,3, -999.00,9,  -999.0,9,  -999.0,    0.23,2,  -999.0,9, -999.00,9,      20.24,3, 20190511,      436, -37.0005,  30.0002,      25.05,     2.6992,2,      0.130,1,      0.060,1,      4.729,1
325020190403,       I06S,      53,          1,         10,         10,2,20190511,       0355,   -37.0004,    30.0002,       4548,  2287.7,   2.8704,  34.7282,2,  34.7292,2,    181.4,2,   182.3,2,    69.1,2,   30.56,2,    0.00,2,    2.12,2,   0.103,2,   0.059,2,   0.0647,2,  2240.9,2, -999.00,9,-999.0000,9, -999.00,9,  -999.0,9,  -999.0, -999.00,9,  -999.0,9, -999.00,9,    22.6243,3, 20190511,      441, -37.0005,  30.0002,     -999.0,     2.8698,2,      0.135,1,      0.063,1,      4.725,1
325020190403,       I06S,      53,          1,         11,         11,2,20190511,       0355,   -37.0004,    30.0002,       4548,  2032.4,   3.0565,  34.6864,2,  34.6878,2,    169.6,2,   170.2,2,    72.9,2,   32.08,2,    0.00,2,    2.23,2,   0.178,2,   0.094,2,   0.0337,2,  2248.8,2, 2343.81,2,   7.5858,3, -999.00,9,  -999.0,9,  -999.0,    0.17,2,  -999.0,9, -999.00,9,    25.1024,3, 20190511,      446, -37.0005,  30.0002,      25.09,     3.0557,2,      0.136,1,      0.062,1,      4.724,1
325020190403,       I06S,      53,          1,         12,         12,2,20190511,       0355,   -37.0004,    30.0002,       4548,  1829.2,   3.2137,   34.655,2,   34.656,2,    164.7,2,   164.8,2,    71.8,2,   32.84,2,    0.00,2,    2.28,2,   0.273,2,   0.126,2,   0.0608,2,  2252.8,2, -999.00,9,-999.0000,9, -999.00,9,  -999.0,9,  -999.0, -999.00,9,  -999.0,9, -999.00,9,    26.0645,3, 20190511,      450, -37.0005,  30.0002,     -999.0,     3.2128,2,      0.136,1,      0.062,1,      4.725,1
325020190403,       I06S,      53,          1,         13,         13,2,20190511,       0355,   -37.0004,    30.0002,       4548,  1625.8,   3.4663,  34.6028,2,  34.6038,2,    161.7,2,   161.9,2,    68.3,2,   33.40,2,    0.00,2,    2.32,2,   0.529,6,   0.224,6,   0.1195,6,  2249.3,2, 2335.44,2,   7.5679,3, -999.00,9,  -999.0,9,  -999.0,    0.16,2,  -999.0,9, -999.00,9,    26.6811,3, 20190511,      454, -37.0005,  30.0002,      25.11,     3.4655,2,      0.138,1,      0.064,1,      4.726,1
325020190403,       I06S,      53,          1,         14,         14,2,20190511,       0355,   -37.0004,    30.0002,       4548,  1523.9,   3.7397,  34.5693,2,  34.5705,2,    163.8,3,   161.4,2,    64.7,2,   33.57,2,    0.00,2,    2.34,2,   0.778,2,   0.316,2,   0.1219,2,  2246.9,6, 2331.81,2,   7.5650,3, -999.00,9,  -999.0,9,  -999.0, -999.00,9,  -999.0,9, -999.00,9,    27.1149,3, 20190511,      457, -37.0005,  30.0002,      25.10,     3.7387,2,      0.135,1,      0.063,1,      4.725,1
325020190403,       I06S,      53,          1,         15,         15,2,20190511,       0355,   -37.0004,    30.0002,       4548,  1422.1,   3.8895,  34.4697,2,  34.4703,2,    176.7,2,   175.7,2,    52.8,2,   33.06,2,    0.00,2,    2.27,2,   1.485,2,   0.663,2,   0.3909,2,  2229.9,2, 2317.14,2,   7.5732,3, -999.00,9,  -999.0,9,  -999.0,    0.14,2,  -999.0,9, -999.00,9,    25.2865,3, 20190511,      459, -37.0005,  30.0002,      25.09,     3.8895,2,      0.133,1,      0.061,1,      4.725,1
325020190403,       I06S,      53,          1,         16,         16,2,20190511,       0355,   -37.0004,    30.0002,       4548,  1322.1,   4.5095,  34.4393,2,  34.4397,2,    182.9,2,   182.2,2,    43.7,2,   31.82,2,    0.00,2,    2.19,2,   1.813,2,   0.869,2,   0.4672,2,  2218.2,2, -999.00,9,-999.0000,9, -999.00,9,  -999.0,9,  -999.0, -999.00,9,  -999.0,9, -999.00,9,    24.0923,3, 20190511,      502, -37.0005,  30.0002,     -999.0,     4.5131,2,      0.133,1,      0.062,1,      4.726,1
325020190403,       I06S,      53,          1,         17,         17,2,20190511,       0355,   -37.0004,    30.0002,       4548,  1220.3,   5.3439,  34.4393,2,  34.4405,2,    188.7,2,   188.2,2,    34.5,2,   29.96,2,    0.00,2,    2.04,2,   2.090,2,   1.086,2,   0.5734,2,  2203.9,2, 2301.07,2,   7.6134,3, -999.00,9,  -999.0,9,  -999.0,    0.19,2,  -999.0,9, -999.00,9,    22.5821,3, 20190511,      505, -37.0005,  30.0002,      25.10,     5.3434,2,      0.131,1,      0.060,1,      4.727,1
325020190403,       I06S,      53,          1,         18,         18,2,20190511,       0355,   -37.0004,    30.0002,       4548,  1118.6,   6.2409,  34.4609,3,  34.4511,2,    197.1,2,   196.6,2,    25.6,2,   27.83,2,    0.00,2,    1.88,2,   2.447,2,   1.347,2,   0.8848,2,  2186.0,2, -999.00,9,-999.0000,9, -999.00,9,  -999.0,9,  -999.0, -999.00,9,  -999.0,9, -999.00,9,    20.9023,3, 20190511,      507, -37.0005,  30.0002,     -999.0,     6.2509,2,      0.135,1,      0.060,1,      4.726,1
325020190403,       I06S,      53,          1,         19,         19,2,20190511,       0355,   -37.0004,    30.0002,       4548,  1016.2,   7.6743,   34.571,2,  34.5707,2,    195.7,2,   195.3,2,    18.4,2,   24.51,2,    0.00,2,    1.64,2,   2.570,2,   1.444,2,   0.9030,2,  2173.3,2, 2294.04,2,   7.6737,3, -999.00,9,  -999.0,9,  -999.0,    0.25,2,  -999.0,9, -999.00,9,    18.9655,3, 20190511,      510, -37.0005,  30.0002,      25.13,       7.67,2,      0.133,1,      0.061,1,      4.725,1
325020190403,       I06S,      53,          1,         20,         20,2,20190511,       0355,   -37.0004,    30.0002,       4548,   916.9,   8.8357,  34.6552,2,  34.6554,2,    208.4,2,   207.3,2,    11.3,2,   20.57,2,    0.00,2,    1.38,2,   2.869,2,   1.691,2,   1.2694,2,  2156.8,2, -999.00,9,-999.0000,9, -999.00,9,  -999.0,9,  -999.0,     0.3,2,  -999.0,9, -999.00,9,     16.627,3, 20190511,      513, -37.0005,  30.0002,     -999.0,     8.8487,2,      0.138,1,      0.061,1,      4.723,1
325020190403,       I06S,      53,          1,         21,         21,2,20190511,       0355,   -37.0004,    30.0002,       4548,   815.3,  10.0991,  34.7944,2,  34.7944,2,    216.7,2,   215.3,2,     7.0,2,   16.78,2,    0.00,2,    1.14,2,   2.967,2,   1.777,2,   1.3427,2,  2143.8,2, 2297.09,2,   7.7551,3, -999.00,9,  -999.0,9,  -999.0,    0.39,6,  -999.0,9, -999.00,9,    14.3653,3, 20190511,      515, -37.0005,  30.0002,      25.11,    10.1237,2,      0.133,1,      0.059,1,      4.722,1
325020190403,       I06S,      53,          1,         22,         22,2,20190511,       0355,   -37.0004,    30.0002,       4548,   712.7,  11.3752,  34.9699,2,  34.9676,2,    217.7,2,   217.5,2,     5.4,2,   13.72,2,    0.00,2,    0.92,2,   2.916,2,   1.793,2,   1.5137,2,  2133.2,6, 2303.85,2,   7.7895,3, -999.00,9,  -999.0,9,  -999.0, -999.00,9,  -999.0,9, -999.00,9,    13.0583,3, 20190511,      518, -37.0005,  30.0002,      25.10,    11.3738,2,      0.138,1,      0.059,1,      4.719,1
325020190403,       I06S,      53,          1,         23,         23,2,20190511,       0355,   -37.0004,    30.0002,       4548,   612.7,  12.3789,  35.1065,2,  35.1052,2,    217.5,2,   216.7,2,     4.7,2,   11.58,2,    0.00,2,    0.79,2,   2.776,2,   1.742,2,   1.6585,2,  2130.0,2, 2309.44,2,   7.8122,3, -999.00,9,  -999.0,9,  -999.0, -999.00,9,  -999.0,9, -999.00,9,    12.5329,3, 20190511,      520, -37.0005,  30.0002,      25.11,    12.3766,2,      0.137,1,      0.059,1,      4.717,1
325020190403,       I06S,      53,          1,         24,         24,2,20190511,       0355,   -37.0004,    30.0002,       4548,   511.5,  13.4341,  35.2435,2,  35.2432,2,    211.0,2,   210.6,2,     4.5,2,    9.79,2,    0.00,2,    0.67,2,   2.629,2,   1.671,2,   1.6401,2,  2125.4,2, -999.00,9,-999.0000,9, -999.00,9,  -999.0,9,  -999.0,    0.65,2,  -999.0,9, -999.00,9,    12.1411,3, 20190511,      523, -37.0005,  30.0002,     -999.0,    13.4502,2,      0.137,1,      0.059,1,      4.715,1
325020190403,       I06S,      53,          1,         25,         25,2,20190511,       0355,   -37.0004,    30.0002,       4548,   462.0,  14.0053,  35.3045,2,  35.3026,2,    206.6,2,   206.8,2,     4.6,2,    9.04,2,    0.00,2,    0.63,2,   2.570,2,   1.625,2,   1.6962,2,  2123.3,2, 2320.80,3,   7.8413,3, -999.00,9,  -999.0,9,  -999.0, -999.00,9,  -999.0,9, -999.00,9,     11.935,3, 20190511,      525, -37.0005,  30.0002,      25.11,    14.0055,2,      0.144,1,      0.059,1,      4.714,1
325020190403,       I06S,      53,          1,         26,         26,2,20190511,       0355,   -37.0004,    30.0002,       4548,   411.1,  14.7122,  35.3711,2,  35.3701,2,    202.6,2,   202.0,2,     4.6,2,    8.29,2,    0.00,2,    0.59,2,   2.477,2,   1.560,2,   1.6060,2,  2119.3,2, -999.00,9,-999.0000,9, -999.00,9,  -999.0,9,  -999.0,    0.69,2,  -999.0,9, -999.00,9,    11.6414,3, 20190511,      526, -37.0005,  30.0002,     -999.0,    14.7351,2,      0.139,1,      0.060,1,      4.714,1
325020190403,       I06S,      53,          1,         27,         27,2,20190511,       0355,   -37.0004,    30.0002,       4548,   359.6,  15.6377,  35.4657,2,   35.468,2,    202.7,2,   203.1,2,     4.1,2,    6.85,2,    0.00,2,    0.49,2,   2.384,2,   1.502,2,   1.7533,2,  2110.4,2, 2325.47,2,   7.8769,3, -999.00,9,  -999.0,9,  -999.0, -999.00,9,  -999.0,9, -999.00,9,    10.8222,3, 20190511,      528, -37.0005,  30.0002,      25.12,    15.6406,2,      0.137,1,      0.061,1,      4.713,1
325020190403,       I06S,      53,          1,         28,         28,2,20190511,       0355,   -37.0004,    30.0002,       4548,   309.4,   16.219,  35.5165,2,  35.5158,2,    204.5,2,   204.7,2,     3.8,2,    5.90,2,    0.00,2,    0.42,2,   2.308,2,   1.463,2,   1.7910,2,  2104.5,2, -999.00,9,-999.0000,9, -999.00,9,  -999.0,9,  -999.0,    0.77,2,  -999.0,9, -999.00,9,    10.2861,3, 20190511,      529, -37.0005,  30.0002,     -999.0,    16.2217,2,      0.135,1,      0.060,1,      4.713,1
325020190403,       I06S,      53,          1,         29,         29,2,20190511,       0355,   -37.0004,    30.0002,       4548,   259.3,  16.9571,  35.5665,2,  35.5664,2,    204.9,2,   206.6,2,     3.3,2,    4.75,2,    0.00,2,    0.35,2,   2.267,2,   1.417,2,   1.8924,2,  2094.1,2, 2333.76,2,   7.9150,3, -999.00,9,  -999.0,9,  -999.0,    0.79,2,  -999.0,9, -999.00,9,     9.7753,3, 20190511,      531, -37.0005,  30.0002,      25.10,    16.9563,2,      0.138,1,      0.060,1,      4.710,1
325020190403,       I06S,      53,          1,         30,         30,2,20190511,       0355,   -37.0004,    30.0002,       4548,   209.0,  17.5446,  35.5804,2,  35.5838,2,    201.5,2,   202.7,2,     3.4,2,    4.54,2,    0.00,2,    0.33,2,   2.204,2,   1.372,2,   1.8118,2,  2089.9,2, -999.00,9,-999.0000,9, -999.00,9,  -999.0,9,  -999.0,    0.78,2,  -999.0,9, -999.00,9,     9.6982,3, 20190511,      533, -37.0005,  30.0002,     -999.0,    17.5457,2,      0.142,1,      0.060,1,      4.708,1
325020190403,       I06S,      53,          1,         31,         31,2,20190511,       0355,   -37.0004,    30.0002,       4548,   159.0,  18.2965,  35.5733,2,  35.5729,2,    196.0,2,   197.8,2,     3.5,2,    4.02,2,    0.01,2,    0.30,2,   2.158,2,   1.331,2,   1.7330,2,  2084.4,2, 2333.60,2,   7.9322,3, -999.00,9,  -999.0,9,  -999.0,    0.79,2,  -999.0,9, -999.00,9,     9.9316,3, 20190511,      535, -37.0005,  30.0002,      25.11,    18.3147,2,      0.145,1,      0.061,1,      4.706,1
325020190403,       I06S,      53,          1,         32,         32,2,20190511,       0355,   -37.0004,    30.0002,       4548,   107.5,  20.1187,  35.5434,2,  35.5396,2,    209.1,3,   197.8,2,     2.9,2,    2.70,2,    0.05,2,    0.22,2,   2.041,2,   1.248,2,   1.7056,2,  2068.6,2, -999.00,9,-999.0000,9, -999.00,9,  -999.0,9,  -999.0,    0.82,2,  -999.0,9, -999.00,9,     9.7537,3, 20190511,      536, -37.0005,  30.0002,     -999.0,    20.1415,2,      0.162,1,      0.097,1,      4.689,1
325020190403,       I06S,      53,          1,         33,         33,2,20190511,       0355,   -37.0004,    30.0002,       4548,    82.9,  20.7344,  35.5756,2,   35.581,2,    210.5,2,   211.9,2,     2.0,2,    0.74,2,    0.15,2,    0.11,2,   1.981,2,   1.213,2,   1.7216,2,  2048.0,2, 2330.43,3,   8.0017,3, -999.00,9,  -999.0,9,  -999.0,    0.85,2,  -999.0,9, -999.00,9,     8.3534,3, 20190511,      538, -37.0005,  30.0002,      25.12,    20.7383,2,      0.184,1,      0.125,1,      4.669,1
325020190403,       I06S,      53,          1,         34,         34,2,20190511,       0355,   -37.0004,    30.0002,       4548,    58.8,  21.3754,  35.5653,2,  35.5664,2,    215.8,2,   216.6,2,     1.6,2,    0.13,2,    0.03,2,    0.05,2,   1.947,2,   1.172,2,   1.7564,2,  2035.9,2, -999.00,9,-999.0000,9, -999.00,9,  -999.0,9,  -999.0,    0.85,2,  -999.0,9, -999.00,9,     7.6909,3, 20190511,      539, -37.0005,  30.0002,     -999.0,    21.3697,2,      0.215,1,      0.168,1,      4.641,1
325020190403,       I06S,      53,          1,         35,         35,2,20190511,       0355,   -37.0004,    30.0002,       4548,    32.2,  21.5275,  35.5503,2,  35.5501,2,    217.8,2,   217.7,2,     1.7,2,    0.02,2,    0.00,2,    0.04,2,   1.934,2,   1.163,2,   1.6306,2,  2030.2,2, 2328.86,2,   8.0297,3, -999.00,9,  -999.0,9,  -999.0,    0.92,6,  -999.0,9, -999.00,9,     7.5113,3, 20190511,      541, -37.0005,  30.0002,      25.08,    21.5276,2,      0.227,1,      0.183,1,      4.608,1
325020190403,       I06S,      53,          1,         36,         36,2,20190511,       0355,   -37.0004,    30.0002,       4548,    12.3,  21.5248,  35.5498,2,  35.5501,2,    217.3,2,   217.7,2,     1.6,2,    0.02,2,    0.00,2,    0.06,2,   1.936,2,   1.188,2,   1.6172,2,  2029.9,6, 2330.12,2,   8.0301,3, -999.00,9,  -999.0,9,  -999.0,     0.9,2,  -999.0,9, -999.00,9,     7.5072,3, 20190511,      542, -37.0005,  30.0002,      25.05,    21.5241,2,      0.223,1,      0.180,1,      4.607,1