BOTTLE,20210804CCHSIOCBG
EXPOCODE,SECT_ID,STNNBR,CASTNO,SAMPNO,BTLNBR,BTLNBR_FLAG_W,DATE,TIME,LATITUDE,LONGITUDE,DEPTH,CTDPRS,CTDTMP,CTDSAL,CTDSAL_FLAG_W,SALNTY,SALNTY_FLAG_W,CTDOXY,CTDOXY_FLAG_W,OXYGEN,OXYGEN_FLAG_W,SILCAT,SILCAT_FLAG_W,NITRAT,NITRAT_FLAG_W,NITRIT,NITRIT_FLAG_W,PHSPHT,PHSPHT_FLAG_W,CFC-11,CFC-11_FLAG_W,CFC-12,CFC-12_FLAG_W,SF6,SF6_FLAG_W,TCARBN,TCARBN_FLAG_W,ALKALI,ALKALI_FLAG_W,PH_TOT,PH_TOT_FLAG_W,DELC13,DELC13_FLAG_W,DELC14,DELC14_FLAG_W,C14ERR,DELO18,DELO18_FLAG_W,DOC,DOC_FLAG_W,TDN,TDN_FLAG_W,N2O,N2O_FLAG_W,BTL_DATE,BTL_TIME,BTL_LAT,BTL_LON,PH_TMP,REFTMP,REFTMP_FLAG_W,CTDBACKSCATTER,CTDBACKSCATTER_FLAG_W,CTDFLUOR,CTDFLUOR_FLAG_W,CTDXMISS,CTDXMISS_FLAG_W
,,,,,,,,,,,METERS,DBAR,ITS-90,PSS-78,,PSS-78,,UMOL/KG,,UMOL/KG,,UMOL/KG,,UMOL/KG,,UMOL/KG,,UMOL/KG,,PMOL/KG,,PMOL/KG,,FMOL/KG,,UMOL/KG,,UMOL/KG,,,,/MILLE,,/MILLE,,/MILLE,/MILLE,,UMOL/KG,,UMOL/KG,,NMOL/KG,,,,,,DEG C,ITS-90,,VOLTS,,VOLTS,,VOLTS,
325020190403,       I06S,      33,          1,          1,          1,2,20190425,       0153,   -56.0035,    30.0029,       5466,  5575.6,  -0.2199,  34.6498,2,  34.6489,2,    243.4,2,   243.2,2,   136.0,2,   32.46,2,    0.00,2,    2.25,2,   0.791,2,   0.407,2,   0.2406,2,  2253.3,6, 2352.92,2,   7.6013,2, -999.00,9,  -999.0,9,  -999.0,   -0.08,2,  -999.0,9, -999.00,9,    22.0142,3, 20190425,      153, -56.0035,  30.0029,      24.99,     -999.0,9,      0.196,1,      0.060,1,      4.669,1
325020190403,       I06S,      33,          1,          2,          2,2,20190425,       0153,   -56.0035,    30.0029,       5466,  5243.2,  -0.2027,  34.6518,2,  34.6509,2,    241.6,2,   242.1,2,   130.9,2,   32.43,2,    0.00,2,    2.25,2,   0.748,2,   0.385,2,   0.2140,2,  2251.6,2, 2356.90,2,   7.6006,2, -999.00,9,  -999.0,9,  -999.0,   -0.05,2,  -999.0,9, -999.00,9,    21.7403,3, 20190425,      200, -56.0036,  30.0029,      25.01,     -999.0,9,      0.130,1,      0.059,1,      4.667,1
325020190403,       I06S,      33,          1,          3,          3,2,20190425,       0153,   -56.0035,    30.0029,       5466,  5030.9,  -0.1945,  34.6529,2,  34.6521,2,    240.8,2,   240.7,2,   130.6,2,   32.36,2,    0.00,2,    2.25,2,   0.727,2,   0.371,2,   0.2627,2,  2251.7,2, 2353.34,2,   7.5999,2, -999.00,9,  -999.0,9,  -999.0,    -0.1,2,  -999.0,9, -999.00,9,    22.1109,3, 20190425,      204, -56.0036,  30.0029,      25.01,     -999.0,9,      0.126,1,      0.059,1,      4.667,1
325020190403,       I06S,      33,          1,          4,          4,2,20190425,       0153,   -56.0035,    30.0029,       5466,  4618.6,  -0.1685,  34.6555,2,  34.6552,2,    237.5,2,   238.4,2,   130.0,2,   32.51,2,    0.00,2,    2.25,2,   0.666,2,   0.348,2,   0.2098,2,  2251.6,2, 2352.72,2,   7.5983,2, -999.00,9,  -999.0,9,  -999.0,   -0.08,2,  -999.0,9, -999.00,9,    22.0233,3, 20190425,      211, -56.0037,  30.0029,      25.00,     -999.0,9,      0.124,1,      0.061,1,      4.667,1
325020190403,       I06S,      33,          1,          5,          5,2,20190425,       0153,   -56.0035,    30.0029,       5466,  4207.9,  -0.1188,  34.6587,2,  34.6578,2,    234.3,2,   234.7,2,   129.5,2,   32.55,2,    0.00,2,    2.25,2,   0.627,2,   0.332,2,   0.2500,2,  2253.8,2, 2353.12,2,   7.5955,2, -999.00,9,  -999.0,9,  -999.0,   -0.06,2,  -999.0,9, -999.00,9,    21.9971,3, 20190425,      219, -56.0036,  30.0029,      24.99,     -999.0,9,      0.122,1,      0.060,1,      4.667,1
325020190403,       I06S,      33,          1,          6,          6,2,20190425,       0153,   -56.0035,    30.0029,       5466,  3795.5,  -0.0542,  34.6618,2,  34.6611,2,    229.0,2,   230.3,2,   129.1,2,   32.66,2,    0.00,2,    2.25,2,   0.603,2,   0.314,2,   0.1873,2,  2255.6,2, 2353.50,2,   7.5926,2, -999.00,9,  -999.0,9,  -999.0,   -0.06,6,  -999.0,9, -999.00,9,    22.4877,3, 20190425,      227, -56.0036,  30.0030,      25.04,     -999.0,9,      0.121,1,      0.061,1,      4.667,1
325020190403,       I06S,      33,          1,          7,          7,2,20190425,       0153,   -56.0035,    30.0029,       5466,  3384.7,   0.0325,  34.6658,2,   34.667,2,    222.9,2,   224.4,2,   127.8,2,   32.83,2,    0.00,2,    2.25,2,   0.545,2,   0.283,2,   0.1344,2,  2258.1,2, 2353.76,2,   7.5879,2, -999.00,9,  -999.0,9,  -999.0,    0.01,2,  -999.0,9, -999.00,9,    22.1853,3, 20190425,      234, -56.0037,  30.0030,      25.03,     -999.0,9,      0.123,1,      0.062,1,      4.667,1
325020190403,       I06S,      33,          1,          8,          8,2,20190425,       0153,   -56.0035,    30.0029,       5466,  2976.1,   0.1764,  34.6723,2,  34.6717,2,    218.2,2,   218.4,2,   127.7,2,   32.92,2,    0.00,2,    2.26,2,   0.512,2,   0.265,2,   0.1084,2,  2261.5,2, 2355.52,3,   7.5853,2, -999.00,9,  -999.0,9,  -999.0, -999.00,9,  -999.0,9, -999.00,9,    22.3621,3, 20190425,      242, -56.0037,  30.0030,      25.04,     -999.0,9,      0.125,1,      0.061,1,      4.668,1
325020190403,       I06S,      33,          1,          9,          9,2,20190425,       0153,   -56.0035,    30.0029,       5466,  2633.1,   0.2791,   34.677,2,  34.6774,2,    211.3,3,   213.7,2,   126.8,2,   32.90,2,    0.00,2,    2.27,2,   0.477,2,   0.248,2,   0.1518,2,  2262.7,2, 2356.11,2,   7.5822,2, -999.00,9,  -999.0,9,  -999.0,   -0.03,2,  -999.0,9, -999.00,9,    22.4345,3, 20190425,      248, -56.0038,  30.0030,      25.01,     -999.0,9,      0.126,1,      0.060,1,      4.669,1
325020190403,       I06S,      33,          1,         10,         10,2,20190425,       0153,   -56.0035,    30.0029,       5466,  2378.6,    0.381,  34.6815,2,  34.6817,2,    207.1,2,   208.1,2,   125.0,2,   33.10,2,    0.00,2,    2.25,2,   0.456,2,   0.234,2,   0.1313,2,  2263.3,2, 2356.51,2,   7.5774,2, -999.00,9,  -999.0,9,  -999.0, -999.00,9,  -999.0,9, -999.00,9,    22.7887,3, 20190425,      253, -56.0038,  30.0030,      25.04,     -999.0,9,      0.127,1,      0.060,1,      4.669,1
325020190403,       I06S,      33,          1,         11,         11,2,20190425,       0153,   -56.0035,    30.0029,       5466,  2123.5,   0.4963,  34.6869,2,  34.6866,2,    204.3,2,   205.8,2,   121.3,2,   32.91,2,    0.00,2,    2.23,2,   0.454,2,   0.232,2,   0.1703,2,  2264.1,6, 2358.24,3,   7.5788,2, -999.00,9,  -999.0,9,  -999.0,    0.03,2,  -999.0,9, -999.00,9,    22.6331,3, 20190425,      258, -56.0039,  30.0030,      25.03,     -999.0,9,      0.129,1,      0.060,1,      4.670,1
325020190403,       I06S,      33,          1,         12,         12,2,20190425,       0153,   -56.0035,    30.0029,       5466,  1900.7,   0.6067,  34.6929,2,  34.6921,2,    203.3,3,   205.7,2,   118.6,2,   32.60,2,    0.00,2,    2.20,2,   0.454,2,   0.238,2,   0.1307,2,  2261.7,2, 2357.09,3,   7.5845,2, -999.00,9,  -999.0,9,  -999.0, -999.00,9,  -999.0,9, -999.00,9,    22.5407,3, 20190425,      303, -56.0037,  30.0030,      25.05,     -999.0,9,      0.131,1,      0.060,1,      4.671,1
325020190403,       I06S,      33,          1,         13,         13,2,20190425,       0153,   -56.0035,    30.0029,       5466,  1696.0,   0.7153,   34.695,3,     34.7,3,    202.2,2,   202.5,2,   115.2,2,   32.58,2,    0.00,2,    2.20,2,   0.476,2,   0.245,2,   0.2388,2,  2262.2,2, 2355.35,3,   7.5818,2, -999.00,9,  -999.0,9,  -999.0,    0.07,2,  -999.0,9, -999.00,9,    22.9524,3, 20190425,      307, -56.0037,  30.0030,      25.04,     -999.0,9,      0.130,1,      0.062,1,      4.672,1
325020190403,       I06S,      33,          1,         14,         14,2,20190425,       0153,   -56.0035,    30.0029,       5466,  1491.5,   0.9407,  34.7078,2,  34.7074,2,    199.8,3,   203.1,2,   108.7,2,   31.97,2,    0.00,2,    2.15,2,   0.415,2,   0.218,2,   0.1909,2,  2258.6,2, 2357.48,3,   7.5919,2, -999.00,9,  -999.0,9,  -999.0, -999.00,9,  -999.0,9, -999.00,9,    22.5518,3, 20190425,      311, -56.0036,  30.0030,      25.03,     -999.0,9,      0.128,1,      0.062,1,      4.674,1
325020190403,       I06S,      33,          1,         15,         15,2,20190425,       0153,   -56.0035,    30.0029,       5466,  1359.7,   1.0332,  34.7081,2,  34.7107,2,    199.0,2,   199.8,2,   106.6,2,   31.94,2,    0.00,2,    2.13,2,   0.432,2,   0.225,2,   0.2562,2,  2257.6,2, 2355.33,2,   7.5899,2, -999.00,9,  -999.0,9,  -999.0,     0.1,2,  -999.0,9, -999.00,9,    22.9613,3, 20190425,      314, -56.0036,  30.0030,      25.04,     -999.0,9,      0.130,1,      0.061,1,      4.675,1
325020190403,       I06S,      33,          1,         16,         16,2,20190425,       0153,   -56.0035,    30.0029,       5466,  1255.9,   1.0699,  34.7009,3,-999.0000,9,    199.2,3,  -999.0,9,  -999.0,9, -999.00,9, -999.00,9, -999.00,9,-999.000,9,-999.000,9,-999.0000,9,  -999.0,9, -999.00,9,-999.0000,9, -999.00,9,  -999.0,9,  -999.0, -999.00,9,  -999.0,9, -999.00,9,     -999.0,9, 20190425,      317, -56.0037,  30.0031,     -999.0,     -999.0,9,      0.131,1,      0.061,1,      4.676,1
325020190403,       I06S,      33,          1,         17,         17,2,20190425,       0153,   -56.0035,    30.0029,       5466,  1155.8,   1.2255,   34.708,2,  34.7084,2,    196.7,2,   196.3,2,   101.7,2,   31.95,2,    0.00,2,    2.15,2,   0.428,2,   0.226,2,   0.1889,2,  2257.6,2, 2351.78,3,   7.5885,2, -999.00,9,  -999.0,9,  -999.0,    0.18,2,  -999.0,9, -999.00,9,    22.9794,3, 20190425,      319, -56.0039,  30.0031,      25.02,     -999.0,9,      0.133,1,      0.062,1,      4.677,1
325020190403,       I06S,      33,          1,         18,         18,2,20190425,       0153,   -56.0035,    30.0029,       5466,  1055.3,   1.4292,  34.7227,2,  34.7237,2,    195.7,2,   195.9,2,    96.0,2,   31.32,2,    0.00,2,    2.07,2,   0.358,2,   0.185,2,   0.2173,2,  2253.6,2, 2351.61,3,   7.5953,2, -999.00,9,  -999.0,9,  -999.0, -999.00,9,  -999.0,9, -999.00,9,    22.7407,3, 20190425,      322, -56.0039,  30.0031,      25.01,     -999.0,9,      0.131,1,      0.062,1,      4.679,1
325020190403,       I06S,      33,          1,         19,         19,2,20190425,       0153,   -56.0035,    30.0029,       5466,   953.0,   1.7056,  34.7426,2,  34.7437,2,    194.9,2,   196.2,2,    88.9,2,   30.42,2,    0.00,2,    2.02,2,   0.266,2,   0.131,2,   0.1391,2,  2248.0,2, 2352.61,2,   7.6065,2, -999.00,9,  -999.0,9,  -999.0,    0.19,2,  -999.0,9, -999.00,9,    22.8523,3, 20190425,      324, -56.0040,  30.0031,      25.02,     -999.0,9,      0.132,1,      0.062,1,      4.681,1
325020190403,       I06S,      33,          1,         20,         20,2,20190425,       0153,   -56.0035,    30.0029,       5466,   851.9,   1.7887,  34.7336,2,    34.74,3,    191.3,2,   191.8,2,    88.3,2,   30.83,2,    0.00,2,    2.05,2,   0.289,2,   0.146,2,   0.2099,2,  2250.7,2, 2354.56,2,   7.5976,2, -999.00,9,  -999.0,9,  -999.0, -999.00,9,  -999.0,9, -999.00,9,     22.661,3, 20190425,      327, -56.0040,  30.0031,      25.04,     -999.0,9,      0.132,1,      0.061,1,      4.683,1
325020190403,       I06S,      33,          1,         21,         21,2,20190425,       0153,   -56.0035,    30.0029,       5466,   750.8,   1.8306,  34.7184,2,   34.717,2,    186.3,2,   186.9,2,    87.9,2,   31.54,2,    0.00,2,    2.11,2,   0.356,2,   0.182,2,   0.1673,2,  2256.0,2, 2351.57,2,   7.5851,2, -999.00,9,  -999.0,9,  -999.0,    0.16,2,  -999.0,9, -999.00,9,    23.4387,3, 20190425,      329, -56.0041,  30.0031,      25.02,     -999.0,9,      0.133,1,      0.062,1,      4.683,1
325020190403,       I06S,      33,          1,         22,         22,2,20190425,       0153,   -56.0035,    30.0029,       5466,   650.5,   1.9819,  34.7082,2,  34.7072,2,    182.2,2,   182.0,2,    85.0,2,   31.85,2,    0.00,2,    2.12,2,   0.353,2,   0.185,2,   0.1691,2,  2254.8,6, 2345.91,2,   7.5786,2, -999.00,9,  -999.0,9,  -999.0, -999.00,9,  -999.0,9, -999.00,9,    23.1373,3, 20190425,      332, -56.0040,  30.0031,      25.02,     -999.0,9,      0.133,1,      0.060,1,      4.685,1
325020190403,       I06S,      33,          1,         23,         23,2,20190425,       0153,   -56.0035,    30.0029,       5466,   548.6,   1.9859,  34.6783,2,  34.6768,2,    177.1,2,   176.6,2,    85.2,2,   32.83,2,    0.00,2,    2.19,2,   0.465,2,   0.244,2,   0.2443,2,  2257.3,2, 2347.13,2,   7.5618,2, -999.00,9,  -999.0,9,  -999.0,    0.19,2,  -999.0,9, -999.00,9,    23.5966,3, 20190425,      334, -56.0038,  30.0031,      25.03,     -999.0,9,      0.139,1,      0.062,1,      4.686,1
325020190403,       I06S,      33,          1,         24,         24,2,20190425,       0153,   -56.0035,    30.0029,       5466,   448.4,   2.0489,  34.6506,2,  34.6505,2,    171.5,3,   173.6,2,    83.6,2,   33.40,2,    0.00,2,    2.24,2,   0.550,2,   0.296,2,   0.2573,2,  2259.2,2, 2339.40,2,   7.5515,2, -999.00,9,  -999.0,9,  -999.0, -999.00,9,  -999.0,9, -999.00,9,    24.2871,3, 20190425,      337, -56.0036,  30.0031,      25.06,     -999.0,9,      0.135,1,      0.061,1,      4.686,1
325020190403,       I06S,      33,          1,         25,         25,2,20190425,       0153,   -56.0035,    30.0029,       5466,   378.5,   1.9169,  34.5826,2,  34.5832,2,    177.1,2,   175.6,2,    82.1,2,   34.42,2,    0.00,2,    2.30,2,   1.008,2,   0.524,2,   0.4762,2,  2260.9,2, 2340.66,2,   7.5333,2, -999.00,9,  -999.0,9,  -999.0,    0.07,6,  -999.0,9, -999.00,9,    24.3116,3, 20190425,      339, -56.0034,  30.0030,      25.06,     -999.0,9,      0.140,1,      0.063,1,      4.686,1
325020190403,       I06S,      33,          1,         26,         26,2,20190425,       0153,   -56.0035,    30.0029,       5466,   323.8,   1.9475,  34.5533,2,  34.5526,2,    180.4,3,   178.5,2,    79.0,2,   34.42,2,    0.00,2,    2.30,2,   1.184,2,   0.598,2,   0.4410,2,  2257.5,2, 2323.49,2,   7.5343,2, -999.00,9,  -999.0,9,  -999.0, -999.00,9,  -999.0,9, -999.00,9,    24.3666,3, 20190425,      341, -56.0034,  30.0030,      25.07,     -999.0,9,      0.135,1,      0.063,1,      4.686,1
325020190403,       I06S,      33,          1,         27,         27,2,20190425,       0153,   -56.0035,    30.0029,       5466,   276.1,    1.548,    34.46,2,  34.4656,2,    206.7,3,   200.0,2,    75.5,2,   34.39,2,    0.00,2,    2.30,2,   2.139,2,   1.042,2,   0.9146,2,  2250.5,2, 2320.67,2,   7.5365,2, -999.00,9,  -999.0,9,  -999.0,    0.07,2,  -999.0,9, -999.00,9,    23.2492,3, 20190425,      342, -56.0033,  30.0030,      25.04,     -999.0,9,      0.132,1,      0.061,1,      4.685,1
325020190403,       I06S,      33,          1,         28,         28,2,20190425,       0153,   -56.0035,    30.0029,       5466,   225.5,   1.1414,  34.3613,2,  34.3623,2,    237.1,2,   235.5,2,    70.6,2,   33.49,2,    0.00,2,    2.27,2,   3.319,2,   1.641,2,   1.5519,2,  2239.2,2, 2320.67,2,   7.5549,2, -999.00,9,  -999.0,9,  -999.0,    0.23,2,  -999.0,9, -999.00,9,    24.6869,3, 20190425,      344, -56.0033,  30.0030,      25.02,     -999.0,9,      0.130,1,      0.059,1,      4.683,1
325020190403,       I06S,      33,          1,         29,         29,2,20190425,       0153,   -56.0035,    30.0029,       5466,   173.6,   0.8503,  34.2583,2,  34.2583,2,    274.0,2,   272.5,2,    64.6,2,   32.31,2,    0.00,2,    2.17,2,   4.449,2,   2.261,2,   2.4909,2,  2223.6,2, 2318.73,2,   7.5805,2, -999.00,9,  -999.0,9,  -999.0,   -0.03,2,  -999.0,9, -999.00,9,    23.2354,3, 20190425,      346, -56.0033,  30.0030,      25.07,     -999.0,9,      0.131,1,      0.060,1,      4.680,1
325020190403,       I06S,      33,          1,         30,         30,2,20190425,       0153,   -56.0035,    30.0029,       5466,   124.5,   1.7949,  34.0071,2,  34.0076,2,    325.3,2,   325.7,2,    39.6,2,   26.61,2,    0.34,2,    1.80,2,   5.527,2,   2.859,2,   3.6958,2,  2181.2,2, 2301.93,2,   7.6732,2, -999.00,9,  -999.0,9,  -999.0,   -0.05,2,  -999.0,9, -999.00,9,    20.2037,3, 20190425,      347, -56.0033,  30.0030,      25.07,     -999.0,9,      0.146,1,      0.109,1,      4.670,1
325020190403,       I06S,      33,          1,         31,         31,2,20190425,       0153,   -56.0035,    30.0029,       5466,   125.1,   1.7953,  34.0037,3,-999.0000,9,    328.4,3,  -999.0,9,    39.3,2,   26.57,2,    0.34,2,    1.79,2,-999.000,9,-999.000,9,-999.0000,9,  -999.0,9, -999.00,9,-999.0000,9, -999.00,9,  -999.0,9,  -999.0, -999.00,9,  -999.0,9, -999.00,9,     -999.0,9, 20190425,      347, -56.0033,  30.0030,     -999.0,     -999.0,9,      0.146,1,      0.107,1,      4.680,1
325020190403,       I06S,      33,          1,         32,         32,2,20190425,       0153,   -56.0035,    30.0029,       5466,    94.1,   1.8037,   34.005,2,  34.0046,2,    327.5,2,   326.2,2,    38.8,2,   26.48,2,    0.33,2,    1.78,2,   5.630,2,   2.823,2,   3.5780,2,  2178.7,2, 2302.44,2,   7.6747,2, -999.00,9,  -999.0,9,  -999.0,   -0.15,2,  -999.0,9, -999.00,9,    19.8297,3, 20190425,      349, -56.0032,  30.0030,      25.01,     -999.0,9,      0.148,1,      0.113,1,      4.682,1
325020190403,       I06S,      33,          1,         33,         33,2,20190425,       0153,   -56.0035,    30.0029,       5466,    67.8,   1.8029,  34.0047,2,  34.0042,2,    328.5,2,   325.9,2,    39.1,2,   26.45,2,    0.34,2,    1.77,2,   5.756,2,   2.854,2,   3.6296,2,  2178.6,2, 2306.71,2,   7.6754,2, -999.00,9,  -999.0,9,  -999.0,   -0.03,2,  -999.0,9, -999.00,9,    19.9465,3, 20190425,      350, -56.0032,  30.0029,      25.04,     -999.0,9,      0.148,1,      0.114,1,      4.683,1
325020190403,       I06S,      33,          1,         34,         34,2,20190425,       0153,   -56.0035,    30.0029,       5466,    43.0,   1.7997,  34.0044,2,  34.0044,2,    327.3,2,   326.5,2,    39.1,2,   26.41,2,    0.33,2,    1.76,2,   5.797,2,   2.872,2,   3.6519,2,  2177.7,2, 2298.57,2,   7.6756,2, -999.00,9,  -999.0,9,  -999.0,   -0.12,2,  -999.0,9, -999.00,9,    20.3175,3, 20190425,      353, -56.0032,  30.0030,      25.10,     -999.0,9,      0.145,1,      0.115,1,      4.684,1
325020190403,       I06S,      33,          1,         35,         35,2,20190425,       0153,   -56.0035,    30.0029,       5466,    13.4,   1.7976,  34.0004,3,-999.0000,9,    325.9,3,  -999.0,9,    39.2,2,   26.37,2,    0.33,2,    1.76,2,-999.000,9,-999.000,9,-999.0000,9,  -999.0,9, -999.00,9,-999.0000,9, -999.00,9,  -999.0,9,  -999.0, -999.00,9,  -999.0,9, -999.00,9,     -999.0,9, 20190425,      355, -56.0032,  30.0029,     -999.0,     -999.0,9,      0.153,1,      0.112,1,      4.685,1
325020190403,       I06S,      33,          1,         36,         36,2,20190425,       0153,   -56.0035,    30.0029,       5466,    14.1,   1.7978,  34.0042,2,  34.0044,2,    326.0,2,   326.4,2,    39.3,2,   26.27,2,    0.35,2,    1.75,2,   5.970,2,   2.892,2,   3.6835,2,  2179.0,6, 2300.32,2,   7.6753,2, -999.00,9,  -999.0,9,  -999.0,   -0.08,2,  -999.0,9, -999.00,9,    20.4492,3, 20190425,      355, -56.0032,  30.0029,      25.11,     -999.0,9,      0.147,1,      0.113,1,      4.685,1