BOTTLE,20210804CCHSIOCBG
EXPOCODE,SECT_ID,STNNBR,CASTNO,SAMPNO,BTLNBR,BTLNBR_FLAG_W,DATE,TIME,LATITUDE,LONGITUDE,DEPTH,CTDPRS,CTDTMP,CTDSAL,CTDSAL_FLAG_W,SALNTY,SALNTY_FLAG_W,CTDOXY,CTDOXY_FLAG_W,OXYGEN,OXYGEN_FLAG_W,SILCAT,SILCAT_FLAG_W,NITRAT,NITRAT_FLAG_W,NITRIT,NITRIT_FLAG_W,PHSPHT,PHSPHT_FLAG_W,CFC-11,CFC-11_FLAG_W,CFC-12,CFC-12_FLAG_W,SF6,SF6_FLAG_W,TCARBN,TCARBN_FLAG_W,ALKALI,ALKALI_FLAG_W,PH_TOT,PH_TOT_FLAG_W,DELC13,DELC13_FLAG_W,DELC14,DELC14_FLAG_W,C14ERR,DELO18,DELO18_FLAG_W,DOC,DOC_FLAG_W,TDN,TDN_FLAG_W,N2O,N2O_FLAG_W,BTL_DATE,BTL_TIME,BTL_LAT,BTL_LON,PH_TMP,REFTMP,REFTMP_FLAG_W,CTDBACKSCATTER,CTDBACKSCATTER_FLAG_W,CTDFLUOR,CTDFLUOR_FLAG_W,CTDXMISS,CTDXMISS_FLAG_W
,,,,,,,,,,,METERS,DBAR,ITS-90,PSS-78,,PSS-78,,UMOL/KG,,UMOL/KG,,UMOL/KG,,UMOL/KG,,UMOL/KG,,UMOL/KG,,PMOL/KG,,PMOL/KG,,FMOL/KG,,UMOL/KG,,UMOL/KG,,,,/MILLE,,/MILLE,,/MILLE,/MILLE,,UMOL/KG,,UMOL/KG,,NMOL/KG,,,,,,DEG C,ITS-90,,VOLTS,,VOLTS,,VOLTS,
325020190403,       I06S,      41,          1,          1,          1,2,20190430,       0605,   -51.9996,    29.9962,       4494,  4573.4,  -0.1039,   34.658,3,  34.6629,3,    235.4,2,   235.0,2,   133.9,2,   33.00,2,    0.00,2,    2.24,2,   0.724,2,   0.334,2,   0.1613,2,  2250.4,6, 2356.59,2,   7.5968,2, -999.00,9,  -999.0,9,  -999.0,   -0.09,2,    38.5,2,   33.79,2,    18.2585,3, 20190430,      605, -51.9996,  29.9962,      25.09,    -0.1037,2,      0.761,1,      0.061,1,      4.079,1
325020190403,       I06S,      41,          1,          2,          2,2,20190430,       0605,   -51.9996,    29.9962,       4494,  4426.6,  -0.0459,  34.6591,2,  34.6601,2,    232.8,2,   233.3,2,   131.9,2,   33.01,2,    0.00,2,    2.25,2,-999.000,9,-999.000,9,-999.0000,9,  -999.0,9, -999.00,9,-999.0000,9, -999.00,9,  -999.0,9,  -999.0,    -0.1,2,    38.5,2,   35.09,2,     -999.0,9, 20190430,      609, -51.9996,  29.9959,     -999.0,    -0.0457,2,      0.151,1,      0.059,1,      4.645,1
325020190403,       I06S,      41,          1,          3,          3,2,20190430,       0605,   -51.9996,    29.9962,       4494,  4288.2,  -0.0314,  34.6604,2,  34.6607,2,    231.7,2,   231.5,2,   131.6,2,   33.03,2,    0.00,2,    2.25,2,   0.664,2,   0.303,2,   0.1315,2,  2255.3,2, 2354.58,2,   7.5940,2, -999.00,9,  -999.0,9,  -999.0,   -0.07,2,  -999.0,9, -999.00,9,    18.0157,3, 20190430,      612, -51.9996,  29.9956,      24.64,    -0.0316,2,      0.147,1,      0.060,1,      4.694,1
325020190403,       I06S,      41,          1,          4,          4,2,20190430,       0605,   -51.9996,    29.9962,       4494,  3979.7,   0.0096,  34.6631,2,  34.6633,2,    228.9,2,   228.9,2,   130.7,2,   32.86,2,    0.00,2,    2.25,2,   0.637,2,   0.293,2,   0.1674,2,  2258.3,2, -999.00,9,   7.5936,2, -999.00,9,  -999.0,9,  -999.0,    -0.1,6,    39.0,2,   34.83,2,    18.0939,3, 20190430,      619, -51.9996,  29.9952,      25.11,     0.0097,2,      0.129,1,      0.061,1,      4.705,1
325020190403,       I06S,      41,          1,          5,          5,2,20190430,       0605,   -51.9996,    29.9962,       4494,  3671.3,    0.151,  34.6697,2,  34.6697,2,    223.3,2,   223.1,2,   129.3,2,   32.83,2,    0.00,2,    2.25,2,   0.567,2,   0.264,2,   0.0813,2,  2258.2,2, 2355.49,2,   7.5907,2, -999.00,9,  -999.0,9,  -999.0,   -0.09,2,    38.5,2,   33.75,2,    18.1536,3, 20190430,      626, -51.9996,  29.9945,      25.07,     0.1505,2,      0.124,1,      0.061,1,      4.719,1
325020190403,       I06S,      41,          1,          6,          6,2,20190430,       0605,   -51.9996,    29.9962,       4494,  3363.7,   0.3647,  34.6808,3,  34.6907,3,    215.9,2,   215.7,2,   127.1,2,   32.82,2,    0.00,2,    2.25,2,-999.000,9,-999.000,9,-999.0000,9,  -999.0,9, -999.00,9,-999.0000,9, -999.00,9,  -999.0,9,  -999.0, -999.00,9,  -999.0,9, -999.00,9,     -999.0,9, 20190430,      632, -51.9997,  29.9937,     -999.0,     0.3642,2,      0.125,1,      0.061,1,      4.726,1
325020190403,       I06S,      41,          1,          7,          7,2,20190430,       0605,   -51.9996,    29.9962,       4494,  3056.4,   0.5659,  34.6909,2,  34.6909,2,    212.9,2,   211.9,2,   123.1,2,   32.53,2,    0.00,2,    2.22,2,   0.405,2,   0.188,2,   0.0956,2,  2259.2,2, 2358.98,2,   7.5944,2, -999.00,9,  -999.0,9,  -999.0,   -0.07,2,    39.1,2,   35.74,2,    18.3756,3, 20190430,      638, -51.9997,  29.9928,      25.10,     0.5659,2,      0.130,1,      0.059,1,      4.725,1
325020190403,       I06S,      41,          1,          8,          8,2,20190430,       0605,   -51.9996,    29.9962,       4494,  2800.3,   0.7248,  34.7012,2,  34.7009,2,    210.6,2,   210.2,2,   118.0,2,   32.13,2,    0.00,2,    2.19,2,-999.000,9,-999.000,9,-999.0000,9,  -999.0,9, -999.00,9,-999.0000,9, -999.00,9,  -999.0,9,  -999.0, -999.00,9,    39.9,2,   34.13,2,     -999.0,9, 20190430,      644, -51.9998,  29.9918,     -999.0,     0.7242,2,      0.126,1,      0.060,1,      4.726,1
325020190403,       I06S,      41,          1,          9,          9,2,20190430,       0605,   -51.9996,    29.9962,       4494,  2544.6,   0.8622,  34.7074,2,  34.7074,2,    207.7,2,   207.4,2,   113.2,2,   31.92,2,    0.00,2,    2.18,2,   0.343,2,   0.170,2,   0.0963,2,  2260.0,2, 2357.70,2,   7.6000,2, -999.00,9,  -999.0,9,  -999.0,   -0.02,2,  -999.0,9, -999.00,9,     18.111,3, 20190430,      649, -51.9998,  29.9906,      25.08,     0.8619,2,      0.129,1,      0.061,1,      4.725,1
325020190403,       I06S,      41,          1,         10,         10,2,20190430,       0605,   -51.9996,    29.9962,       4494,  2290.6,     1.07,  34.7178,2,  34.7182,2,    205.5,2,   204.9,2,   106.9,2,   31.50,2,    0.00,2,    2.15,2,-999.000,9,-999.000,9,-999.0000,9,  -999.0,9, -999.00,9,-999.0000,9, -999.00,9,  -999.0,9,  -999.0, -999.00,9,    40.1,2,   33.36,2,     -999.0,9, 20190430,      654, -51.9996,  29.9890,     -999.0,     1.0724,2,      0.126,1,      0.060,1,      4.725,1
325020190403,       I06S,      41,          1,         11,         11,2,20190430,       0605,   -51.9996,    29.9962,       4494,  2035.1,    1.243,  34.7261,2,  34.7259,2,    202.7,2,   202.7,2,   101.9,2,   31.17,2,    0.00,2,    2.13,2,   0.276,2,   0.139,2,   0.1238,2,  2254.0,2, 2356.33,2,   7.6046,2, -999.00,9,  -999.0,9,  -999.0,    0.03,2,    40.6,2,   33.65,2,    18.2226,3, 20190430,      700, -51.9995,  29.9877,      25.07,     1.2428,2,      0.127,1,      0.061,1,      4.724,1
325020190403,       I06S,      41,          1,         12,         12,2,20190430,       0605,   -51.9996,    29.9962,       4494,  1831.3,   1.5129,   34.742,2,  34.7412,2,    200.2,2,   201.2,2,    94.5,2,   30.51,2,    0.00,2,    2.07,2,-999.000,9,-999.000,9,-999.0000,9,  -999.0,9, -999.00,9,-999.0000,9, -999.00,9,  -999.0,9,  -999.0, -999.00,9,  -999.0,9, -999.00,9,     -999.0,9, 20190430,      705, -51.9996,  29.9868,     -999.0,     1.5126,2,      0.129,1,      0.060,1,      4.724,1
325020190403,       I06S,      41,          1,         13,         13,2,20190430,       0605,   -51.9996,    29.9962,       4494,  1628.6,   1.5703,  34.7277,2,  34.7274,2,    197.5,3,   194.3,2,    94.9,2,   31.23,2,    0.00,2,    2.13,2,   0.275,2,   0.139,2,   0.1152,2,  2252.7,2, 2353.32,2,   7.5963,2, -999.00,9,  -999.0,9,  -999.0,    0.06,2,    40.6,2,   32.15,2,    18.6326,3, 20190430,      709, -51.9997,  29.9861,      25.10,     1.5716,2,      0.131,1,      0.062,1,      4.722,1
325020190403,       I06S,      41,          1,         14,         14,2,20190430,       0605,   -51.9996,    29.9962,       4494,  1527.6,   1.6092,  34.7184,2,  34.7184,2,    191.0,2,   190.7,2,    94.8,2,   31.71,2,    0.00,2,    2.16,2,   0.326,2,   0.166,2,   0.1539,2,  2255.3,2, -999.00,9,   7.5888,2, -999.00,9,  -999.0,9,  -999.0, -999.00,9,    40.7,2,   35.07,2,    19.0831,3, 20190430,      712, -51.9998,  29.9857,      25.09,       1.61,2,      0.130,1,      0.060,1,      4.719,1
325020190403,       I06S,      41,          1,         15,         15,2,20190430,       0605,   -51.9996,    29.9962,       4494,  1424.9,   1.8344,  34.7319,2,  34.7308,2,    186.7,3,   191.2,2,    88.1,2,   31.72,2,    0.00,2,    2.14,2,   0.265,2,   0.135,2,   0.0958,2,  2252.6,2, 2350.37,2,   7.5958,2, -999.00,9,  -999.0,9,  -999.0, -999.00,9,  -999.0,9, -999.00,9,    19.0712,3, 20190430,      714, -51.9999,  29.9853,      25.12,     1.8306,2,      0.128,1,      0.061,1,      4.722,1
325020190403,       I06S,      41,          1,         16,         16,2,20190430,       0605,   -51.9996,    29.9962,       4494,  1322.1,   1.8435,   34.715,2,  34.7147,2,    183.9,2,   185.1,2,    89.7,2,   31.65,2,    0.00,2,    2.19,2,-999.000,9,-999.000,9,-999.0000,9,  -999.0,9, -999.00,9,-999.0000,9, -999.00,9,  -999.0,9,  -999.0, -999.00,9,    39.4,2,   32.84,2,     -999.0,9, 20190430,      717, -51.9999,  29.9848,     -999.0,     1.8414,2,      0.133,1,      0.062,1,      4.719,1
325020190403,       I06S,      41,          1,         17,         17,2,20190430,       0605,   -51.9996,    29.9962,       4494,  1222.9,   2.0554,   34.719,2,  34.7194,2,    184.7,2,   184.5,2,    83.9,2,   31.33,2,    0.00,2,    2.17,2,   0.273,2,   0.139,2,   0.1231,2,  2253.5,2, 2346.17,2,   7.5867,2, -999.00,9,  -999.0,9,  -999.0,    0.08,2,    40.2,2,   34.68,2,    19.1641,3, 20190430,      720, -52.0000,  29.9844,      25.09,     2.0549,2,      0.135,1,      0.061,1,      4.721,1
325020190403,       I06S,      41,          1,         18,         18,2,20190430,       0605,   -51.9996,    29.9962,       4494,  1120.8,   2.0025,  34.6884,2,  34.6886,2,    178.2,2,   177.4,2,    86.7,2,   32.59,2,    0.00,2,    2.25,2,-999.000,9,-999.000,9,-999.0000,9,  -999.0,9, -999.00,9,-999.0000,9, -999.00,9,  -999.0,9,  -999.0, -999.00,9,  -999.0,9, -999.00,9,     -999.0,9, 20190430,      723, -52.0001,  29.9841,     -999.0,     2.0022,2,      0.131,1,      0.062,1,      4.719,1
325020190403,       I06S,      41,          1,         19,         19,2,20190430,       0605,   -51.9996,    29.9962,       4494,  1018.1,   2.2821,  34.6998,2,  34.7002,2,    173.1,3,   180.4,2,    78.4,2,   31.56,2,    0.00,2,    2.18,2,   0.289,2,   0.144,2,   0.1231,2,  2250.1,2, 2343.52,2,   7.5812,2, -999.00,9,  -999.0,9,  -999.0,    0.16,2,    41.4,2,   35.96,2,    20.7285,3, 20190430,      725, -52.0002,  29.9836,      25.11,     2.2826,2,      0.132,1,      0.061,1,      4.722,1
325020190403,       I06S,      41,          1,         20,         20,2,20190430,       0605,   -51.9996,    29.9962,       4494,   917.7,   2.3309,  34.6673,2,  34.6697,2,    173.9,2,   175.2,2,    78.4,2,   32.45,2,    0.00,2,    2.25,2,-999.000,9,-999.000,9,-999.0000,9,  -999.0,9, -999.00,9,-999.0000,9, -999.00,9,  -999.0,9,  -999.0,    0.08,2,    40.8,2,   36.37,2,     -999.0,9, 20190430,      728, -52.0002,  29.9832,     -999.0,     2.3305,2,      0.136,1,      0.062,1,      4.721,1
325020190403,       I06S,      41,          1,         21,         21,2,20190430,       0605,   -51.9996,    29.9962,       4494,   816.4,   2.3367,  34.6235,2,  34.6228,2,    170.2,2,   171.0,2,    77.8,2,   33.40,2,    0.00,2,    2.31,2,   0.515,2,   0.260,2,   0.2192,2,  2254.5,6, 2337.25,2,   7.5537,2, -999.00,9,  -999.0,9,  -999.0, -999.00,9,  -999.0,9, -999.00,9,    21.0961,3, 20190430,      731, -52.0003,  29.9828,      25.09,     2.3361,2,      0.140,1,      0.061,1,      4.720,1
325020190403,       I06S,      41,          1,         22,         22,2,20190430,       0605,   -51.9996,    29.9962,       4494,   715.9,   2.3873,  34.5803,2,   34.576,2,    170.1,2,   170.4,2,    75.1,2,   34.10,2,    0.00,2,    2.36,2,-999.000,9,-999.000,9,-999.0000,9,  -999.0,9, -999.00,9,-999.0000,9, -999.00,9,  -999.0,9,  -999.0,    0.13,6,    39.4,2,   37.44,3,     -999.0,9, 20190430,      733, -52.0004,  29.9823,     -999.0,     2.3794,2,      0.136,1,      0.061,1,      4.718,1
325020190403,       I06S,      41,          1,         23,         23,2,20190430,       0605,   -51.9996,    29.9962,       4494,   612.9,   2.4064,   34.527,2,  34.5266,2,    171.5,2,   172.8,2,    71.6,2,   34.46,2,    0.00,2,    2.38,2,   0.944,2,   0.464,2,   0.3332,2,  2251.2,2, 2328.87,2,   7.5386,2, -999.00,9,  -999.0,9,  -999.0, -999.00,9,    40.2,2,   37.12,3,    22.8355,3, 20190430,      736, -52.0005,  29.9819,      25.09,     2.4034,2,      0.137,1,      0.062,1,      4.718,1
325020190403,       I06S,      41,          1,         24,         24,2,20190430,       0605,   -51.9996,    29.9962,       4494,   514.9,   2.4909,  34.4707,2,  34.4685,2,    177.9,2,   177.2,2,    66.2,2,   34.51,2,    0.00,2,    2.38,2,-999.000,9,-999.000,9,-999.0000,9,  -999.0,9, -999.00,9,-999.0000,9, -999.00,9,  -999.0,9,  -999.0,    0.02,2,  -999.0,9, -999.00,9,     -999.0,9, 20190430,      739, -52.0005,  29.9815,     -999.0,     2.4888,2,      0.144,1,      0.061,1,      4.715,1
325020190403,       I06S,      41,          1,         25,         25,2,20190430,       0605,   -51.9996,    29.9962,       4494,   462.7,   2.4688,  34.4192,2,  34.4207,2,    185.3,3,   183.2,2,    62.6,2,   34.54,2,    0.00,2,    2.38,2,   1.598,2,   0.799,2,   0.6347,2,  2240.4,2, 2319.72,2,   7.5393,2, -999.00,9,  -999.0,9,  -999.0, -999.00,9,    39.9,2,   38.03,3,    22.8926,3, 20190430,      741, -52.0006,  29.9812,      24.92,     2.4677,2,      0.142,1,      0.062,1,      4.714,1
325020190403,       I06S,      41,          1,         26,         26,2,20190430,       0605,   -51.9996,    29.9962,       4494,   411.8,   2.4679,  34.3751,2,  34.3748,2,    192.8,3,   190.2,2,    58.2,2,   34.39,2,    0.00,2,    2.37,2,-999.000,9,-999.000,9,-999.0000,9,  2236.1,2, -999.00,9,   7.5432,2, -999.00,9,  -999.0,9,  -999.0,   -0.02,2,    39.5,2,   39.08,3,     -999.0,9, 20190430,      742, -52.0006,  29.9809,      25.05,     2.4658,2,      0.148,1,      0.061,1,      4.706,1
325020190403,       I06S,      41,          1,         27,         27,2,20190430,       0605,   -51.9996,    29.9962,       4494,   361.9,   2.4487,  34.3292,2,   34.327,2,    201.1,3,   198.7,2,    54.8,2,   34.12,2,    0.00,2,    2.37,2,   2.279,2,   1.168,2,   1.0430,2,  2230.5,2, 2309.45,2,   7.5464,2, -999.00,9,  -999.0,9,  -999.0, -999.00,9,  -999.0,9, -999.00,9,    21.4508,3, 20190430,      744, -52.0007,  29.9806,      25.06,     2.4482,2,      0.145,1,      0.062,1,      4.714,1
325020190403,       I06S,      41,          1,         28,         28,2,20190430,       0605,   -51.9996,    29.9962,       4494,   310.9,   2.4319,  34.2644,2,  34.2618,2,    213.8,2,   212.7,2,    48.8,2,   33.94,2,    0.00,2,    2.32,2,-999.000,9,-999.000,9,-999.0000,9,  -999.0,9, -999.00,9,-999.0000,9, -999.00,9,  -999.0,9,  -999.0,   -0.07,2,    38.1,2,   35.99,2,     -999.0,9, 20190430,      746, -52.0007,  29.9802,     -999.0,     2.4331,2,      0.144,1,      0.061,1,      4.712,1
325020190403,       I06S,      41,          1,         29,         29,2,20190430,       0605,   -51.9996,    29.9962,       4494,   260.6,   2.4994,  34.2098,2,  34.2113,2,    228.8,3,   224.2,2,    42.6,2,   32.68,2,    0.00,2,    2.27,2,   3.156,2,   1.661,2,   1.5026,2,  2212.4,2, -999.00,9,   7.5674,2, -999.00,9,  -999.0,9,  -999.0, -999.00,9,    41.9,2,   36.70,3,    19.6201,3, 20190430,      748, -52.0008,  29.9799,      25.06,     2.4985,2,      0.146,1,      0.061,1,      4.711,1
325020190403,       I06S,      41,          1,         30,         30,2,20190430,       0605,   -51.9996,    29.9962,       4494,   210.1,   2.4555,  34.1171,2,  34.1173,2,    265.7,3,   249.1,2,    34.8,2,   31.03,2,    0.00,2,    2.16,2,   3.770,2,   2.036,2,   2.1035,2,  2196.4,2, 2288.76,2,   7.5925,2, -999.00,9,  -999.0,9,  -999.0,    -0.1,2,  -999.0,9, -999.00,9,    18.0561,3, 20190430,      750, -52.0008,  29.9796,      24.98,      2.455,2,      0.151,1,      0.060,1,      4.706,1
325020190403,       I06S,      41,          1,         31,         31,2,20190430,       0605,   -51.9996,    29.9962,       4494,   160.6,   2.3678,  33.9648,2,    33.96,2,    302.1,3,   290.8,2,    26.3,2,   28.66,2,    0.09,2,    1.99,2,   4.635,2,   2.555,2,   3.1520,2,  2178.8,2, -999.00,9,   7.6326,2, -999.00,9,  -999.0,9,  -999.0,   -0.14,2,    42.6,2,   29.55,2,    15.1602,3, 20190430,      751, -52.0009,  29.9793,      24.98,     2.3742,2,      0.156,1,      0.073,1,      4.691,1
325020190403,       I06S,      41,          1,         32,         32,2,20190430,       0605,   -51.9996,    29.9962,       4494,   108.6,   3.4133,  33.8479,2,  33.8492,2,    315.7,2,   314.1,2,    14.0,2,   23.92,2,    0.25,2,    1.69,2,   4.664,2,   2.581,2,   3.2772,2,  2153.7,2, -999.00,9,   7.6996,2, -999.00,9,  -999.0,9,  -999.0,   -0.24,2,    39.5,2,   24.46,2,    13.1017,3, 20190430,      753, -52.0009,  29.9790,      24.99,     3.4123,2,      0.184,1,      0.164,1,      4.653,1
325020190403,       I06S,      41,          1,         33,         33,2,20190430,       0605,   -51.9996,    29.9962,       4494,    83.3,   3.4659,  33.8438,2,  33.8447,2,    314.2,2,   314.5,2,    13.3,2,   23.73,2,    0.25,2,    1.67,2,   4.628,2,   2.543,2,   3.3176,2,  2153.1,2, 2284.19,2,   7.7013,2, -999.00,9,  -999.0,9,  -999.0,   -0.19,2,  -999.0,9, -999.00,9,    12.4496,3, 20190430,      755, -52.0010,  29.9788,      24.98,     3.4674,2,      0.180,1,      0.171,1,      4.650,1
325020190403,       I06S,      41,          1,         34,         34,2,20190430,       0605,   -51.9996,    29.9962,       4494,    59.2,   3.5767,  33.8372,2,  33.8384,2,    315.5,2,   313.7,2,    11.5,2,   23.61,2,    0.26,2,    1.65,2,-999.000,9,-999.000,9,-999.0000,9,  -999.0,9, -999.00,9,-999.0000,9, -999.00,9,  -999.0,9,  -999.0,   -0.18,2,    45.3,2,   25.33,2,     -999.0,9, 20190430,      756, -52.0010,  29.9786,     -999.0,     3.5784,2,      0.181,1,      0.158,1,      4.656,1
325020190403,       I06S,      41,          1,         35,         35,2,20190430,       0605,   -51.9996,    29.9962,       4494,    33.7,   3.7367,   33.828,2,  33.8269,2,    314.2,2,   313.7,2,     9.9,2,   23.05,2,    0.26,2,    1.61,2,   4.656,2,   2.557,2,   3.3256,2,  2149.8,2, 2283.40,2,   7.7099,2, -999.00,9,  -999.0,9,  -999.0,   -0.14,2,  -999.0,9, -999.00,9,    12.1927,3, 20190430,      757, -52.0011,  29.9783,      25.00,     3.7355,2,      0.178,1,      0.166,1,      4.652,1
325020190403,       I06S,      41,          1,         36,         36,2,20190430,       0605,   -51.9996,    29.9962,       4494,    12.1,   3.7421,  33.8222,2,  33.8224,2,    313.2,2,   313.6,2,     9.7,2,   22.96,2,    0.26,2,    1.62,2,   4.595,2,   2.518,2,   3.3411,2,  2149.8,6, 2281.89,2,   7.7106,2, -999.00,9,  -999.0,9,  -999.0,   -0.22,6,    42.8,2,   25.28,2,    12.2517,3, 20190430,      759, -52.0011,  29.9780,      25.01,     3.7424,2,      0.179,1,      0.156,1,      4.652,1