BOTTLE,20210804CCHSIOCBG
EXPOCODE,SECT_ID,STNNBR,CASTNO,SAMPNO,BTLNBR,BTLNBR_FLAG_W,DATE,TIME,LATITUDE,LONGITUDE,DEPTH,CTDPRS,CTDTMP,CTDSAL,CTDSAL_FLAG_W,SALNTY,SALNTY_FLAG_W,CTDOXY,CTDOXY_FLAG_W,OXYGEN,OXYGEN_FLAG_W,SILCAT,SILCAT_FLAG_W,NITRAT,NITRAT_FLAG_W,NITRIT,NITRIT_FLAG_W,PHSPHT,PHSPHT_FLAG_W,CFC-11,CFC-11_FLAG_W,CFC-12,CFC-12_FLAG_W,SF6,SF6_FLAG_W,TCARBN,TCARBN_FLAG_W,ALKALI,ALKALI_FLAG_W,PH_TOT,PH_TOT_FLAG_W,DELC13,DELC13_FLAG_W,DELC14,DELC14_FLAG_W,C14ERR,DELO18,DELO18_FLAG_W,DOC,DOC_FLAG_W,TDN,TDN_FLAG_W,N2O,N2O_FLAG_W,BTL_DATE,BTL_TIME,BTL_LAT,BTL_LON,PH_TMP,REFTMP,REFTMP_FLAG_W,CTDBACKSCATTER,CTDBACKSCATTER_FLAG_W,CTDFLUOR,CTDFLUOR_FLAG_W,CTDXMISS,CTDXMISS_FLAG_W
,,,,,,,,,,,METERS,DBAR,ITS-90,PSS-78,,PSS-78,,UMOL/KG,,UMOL/KG,,UMOL/KG,,UMOL/KG,,UMOL/KG,,UMOL/KG,,PMOL/KG,,PMOL/KG,,FMOL/KG,,UMOL/KG,,UMOL/KG,,,,/MILLE,,/MILLE,,/MILLE,/MILLE,,UMOL/KG,,UMOL/KG,,NMOL/KG,,,,,,DEG C,ITS-90,,VOLTS,,VOLTS,,VOLTS,
325020190403,       I06S,      47,          1,          1,          1,2,20190509,       0520,   -33.3855,    28.2045,       2595,  2622.9,   2.3567,  34.8193,2,  34.8201,2,    217.2,2,   216.5,2,    62.2,2,   26.52,2,    0.00,2,    1.80,2,   0.047,2,   0.033,2,   0.1643,2,  2218.4,6, 2342.11,2,   7.6634,3, -999.00,9,  -999.0,9,  -999.0,    0.23,2,  -999.0,9, -999.00,9,    15.6515,3, 20190509,      520, -33.3854,  28.2045,      25.06,     2.3553,2,      0.145,1,      0.061,1,      4.716,1
325020190403,       I06S,      47,          1,          2,          2,2,20190509,       0520,   -33.3855,    28.2045,       2595,  2528.3,   2.4495,  34.8151,2,  34.8162,2,    214.0,2,   213.7,2,    61.3,2,   26.69,2,    0.00,2,    1.81,2,   0.036,2,   0.020,2,   0.0000,2,  2217.9,2, 2339.64,2,   7.6579,3, -999.00,9,  -999.0,9,  -999.0,    0.22,2,  -999.0,9, -999.00,9,    15.4881,3, 20190509,      523, -33.3854,  28.2046,      25.09,     2.4489,2,      0.148,1,      0.062,1,      4.715,1
325020190403,       I06S,      47,          1,          3,          3,2,20190509,       0520,   -33.3855,    28.2045,       2595,  2439.4,   2.4942,  34.8114,2,  34.8124,2,    211.6,2,   211.5,2,    61.1,2,   26.81,2,    0.00,2,    1.82,2,   0.037,2,   0.018,2,   0.0000,2,  2217.5,2, -999.00,9,   7.6557,3, -999.00,9,  -999.0,9,  -999.0,    0.22,2,  -999.0,9, -999.00,9,     15.706,3, 20190509,      525, -33.3855,  28.2045,      25.10,     2.4943,2,      0.146,1,      0.061,1,      4.715,1
325020190403,       I06S,      47,          1,          4,          4,2,20190509,       0520,   -33.3855,    28.2045,       2595,  2235.7,   2.6131,  34.7895,2,    34.79,2,    202.4,2,   202.7,2,    63.1,2,   28.03,2,    0.00,2,    1.90,2,   0.053,2,   0.029,2,   0.0000,2,  2224.8,2, 2340.29,2,   7.6401,3, -999.00,9,  -999.0,9,  -999.0,     0.2,2,  -999.0,9, -999.00,9,    16.5998,3, 20190509,      530, -33.3854,  28.2045,      25.11,     2.6125,2,      0.154,1,      0.062,1,      4.712,1
325020190403,       I06S,      47,          1,          5,          5,2,20190509,       0520,   -33.3855,    28.2045,       2595,  2030.8,   2.7029,  34.7645,2,  34.7647,2,    193.6,2,   193.5,2,    66.2,2,   29.15,2,    0.00,2,    1.99,2,   0.078,2,   0.041,2,   0.0000,2,  2231.2,2, -999.00,9,   7.6246,3, -999.00,9,  -999.0,9,  -999.0,    0.19,2,  -999.0,9, -999.00,9,    17.8084,3, 20190509,      535, -33.3854,  28.2045,      25.09,     2.7026,2,      0.153,1,      0.062,1,      4.712,1
325020190403,       I06S,      47,          1,          6,          6,2,20190509,       0520,   -33.3855,    28.2045,       2595,  1925.1,   2.7466,  34.7513,2,  34.7522,2,    186.7,3,   189.4,2,    67.5,2,   29.65,2,    0.00,2,    2.03,2,   0.089,2,   0.045,2,   0.0000,2,  2234.7,2, 2343.09,2,   7.6171,3, -999.00,9,  -999.0,9,  -999.0,    0.14,2,  -999.0,9, -999.00,9,    17.8364,3, 20190509,      537, -33.3854,  28.2045,      25.09,     2.7458,2,      0.153,1,      0.062,1,      4.710,1
325020190403,       I06S,      47,          1,          7,          7,2,20190509,       0520,   -33.3855,    28.2045,       2595,  1828.4,   2.8368,  34.7284,2,  34.7286,2,    181.0,2,   181.6,2,    69.8,2,   30.70,2,    0.00,2,    2.11,2,   0.122,2,   0.062,2,   0.0000,2,  2241.8,2, -999.00,9,   7.6046,3, -999.00,9,  -999.0,9,  -999.0,     0.2,6,  -999.0,9, -999.00,9,    18.9455,3, 20190509,      540, -33.3854,  28.2045,      25.09,     2.8363,2,      0.160,1,      0.063,1,      4.711,1
325020190403,       I06S,      47,          1,          8,          8,2,20190509,       0520,   -33.3855,    28.2045,       2595,  1727.6,   2.8941,  34.7148,2,  34.7147,2,    176.9,2,   177.4,2,    71.6,2,   31.23,2,    0.00,2,    2.16,2,   0.144,2,   0.074,2,   0.0000,2,  2245.0,2, 2344.13,2,   7.5978,3, -999.00,9,  -999.0,9,  -999.0, -999.00,9,  -999.0,9, -999.00,9,    19.5703,3, 20190509,      543, -33.3854,  28.2045,      25.09,     2.8934,2,      0.153,1,      0.061,1,      4.711,1
325020190403,       I06S,      47,          1,          9,          9,2,20190509,       0520,   -33.3855,    28.2045,       2595,  1627.0,   2.9706,  34.6991,2,  34.6974,2,    172.5,2,   172.4,2,    72.2,2,   31.91,2,    0.00,2,    2.20,2,   0.172,2,   0.085,2,   0.0000,2,  2246.2,2, -999.00,9,   7.5899,3, -999.00,9,  -999.0,9,  -999.0,    0.17,2,  -999.0,9, -999.00,9,    20.4573,3, 20190509,      546, -33.3854,  28.2045,      25.12,     2.9718,2,      0.147,1,      0.061,1,      4.713,1
325020190403,       I06S,      47,          1,         10,         10,2,20190509,       0520,   -33.3855,    28.2045,       2595,  1522.5,   3.1723,  34.6717,2,  34.6731,2,    163.8,2,   164.1,2,    74.5,2,   32.77,2,    0.00,2,    2.27,2,   0.226,2,   0.111,2,   0.0000,2,  2253.0,6, 2345.60,2,   7.5776,3, -999.00,9,  -999.0,9,  -999.0, -999.00,9,  -999.0,9, -999.00,9,    21.2118,3, 20190509,      549, -33.3855,  28.2045,      25.12,      3.174,2,      0.135,1,      0.061,1,      4.719,1
325020190403,       I06S,      47,          1,         11,         11,2,20190509,       0520,   -33.3855,    28.2045,       2595,  1422.5,   3.3296,  34.6557,2,  34.6554,2,    158.9,2,   159.7,2,    74.5,2,   33.30,2,    0.00,2,    2.30,2,   0.281,2,   0.141,2,   0.1823,2,  2255.0,2, -999.00,9,   7.5712,3, -999.00,9,  -999.0,9,  -999.0,    0.12,2,  -999.0,9, -999.00,9,    23.2815,3, 20190509,      552, -33.3854,  28.2045,      25.12,     3.3308,2,      0.141,1,      0.064,1,      4.720,1
325020190403,       I06S,      47,          1,         12,         12,2,20190509,       0520,   -33.3855,    28.2045,       2595,  1321.3,   3.5441,  34.6094,2,  34.6099,2,    158.0,2,   158.4,2,    69.5,2,   33.63,2,    0.00,2,    2.32,2,   0.456,2,   0.238,2,   0.1728,2,  2252.0,2, 2339.84,2,   7.5657,3, -999.00,9,  -999.0,9,  -999.0,    0.13,2,  -999.0,9, -999.00,9,    24.6191,3, 20190509,      554, -33.3854,  28.2045,      25.08,     3.5496,2,      0.133,1,      0.063,1,      4.721,1
325020190403,       I06S,      47,          1,         13,         13,2,20190509,       0520,   -33.3855,    28.2045,       2595,  1220.7,    4.198,  34.6063,2,  34.6058,2,    152.1,2,   151.8,2,    65.1,2,   33.51,2,    0.00,2,    2.32,2,   0.610,2,   0.305,2,   0.1575,2,  2247.0,2, -999.00,9,   7.5645,3, -999.00,9,  -999.0,9,  -999.0, -999.00,9,  -999.0,9, -999.00,9,    24.1133,3, 20190509,      557, -33.3854,  28.2045,      25.04,     4.1992,2,      0.144,1,      0.062,1,      4.716,1
325020190403,       I06S,      47,          1,         14,         14,2,20190509,       0520,   -33.3855,    28.2045,       2595,  1114.1,    4.676,  34.5499,2,  34.5501,2,    157.4,2,   157.1,2,    55.4,2,   32.78,2,    0.00,2,    2.27,2,   0.947,2,   0.464,2,   0.3036,2,  2235.8,2, 2328.76,2,   7.5739,3, -999.00,9,  -999.0,9,  -999.0,    0.21,2,  -999.0,9, -999.00,9,    23.3599,3, 20190509,      559, -33.3854,  28.2045,      25.07,     4.6806,2,      0.136,1,      0.061,1,      4.720,1
325020190403,       I06S,      47,          1,         15,         15,2,20190509,       0520,   -33.3855,    28.2045,       2595,  1016.8,   5.1866,  34.5091,2,  34.5103,2,   -999.0,5,   167.9,2,    44.3,2,   31.27,2,    0.00,2,    2.15,2,   1.401,2,   0.710,2,   0.3275,2,  2219.7,2, -999.00,9,   7.5910,3, -999.00,9,  -999.0,9,  -999.0, -999.00,9,  -999.0,9, -999.00,9,     20.511,3, 20190509,      602, -33.3854,  28.2044,      25.07,     5.1903,2,      0.132,1,      0.061,1,      4.720,1
325020190403,       I06S,      47,          1,         16,         16,2,20190509,       0520,   -33.3855,    28.2045,       2595,   913.1,   6.5847,  34.6206,2,  34.6187,2,    155.0,3,   150.7,2,    40.8,2,   29.82,2,    0.00,2,    2.08,2,   1.423,2,   0.727,2,   0.3612,2,  2217.5,6, 2318.90,2,   7.5976,3, -999.00,9,  -999.0,9,  -999.0,    0.23,2,  -999.0,9, -999.00,9,    21.8448,3, 20190509,      604, -33.3854,  28.2045,      25.07,     6.6088,2,      0.133,1,      0.062,1,      4.719,1
325020190403,       I06S,      47,          1,         17,         17,2,20190509,       0520,   -33.3855,    28.2045,       2595,   810.1,   6.7824,  34.5257,2,  34.5256,2,    186.8,2,   186.6,2,    25.8,2,   26.31,2,    0.00,2,    1.82,2,   2.183,2,   1.142,2,   0.5449,2,  2186.9,2, -999.00,9,   7.6457,3, -999.00,9,  -999.0,9,  -999.0, -999.00,9,  -999.0,9, -999.00,9,    16.9254,3, 20190509,      607, -33.3854,  28.2045,      25.08,     6.8027,2,      0.134,1,      0.061,1,      4.719,1
325020190403,       I06S,      47,          1,         18,         18,2,20190509,       0520,   -33.3855,    28.2045,       2595,   712.3,   8.1816,  34.6376,2,  34.6368,2,    188.7,2,   188.4,2,    18.4,2,   22.81,2,    0.00,2,    1.57,2,   2.512,2,   1.356,2,   0.7172,2,  2171.4,2, 2298.61,2,   7.6803,3, -999.00,9,  -999.0,9,  -999.0,    0.23,2,  -999.0,9, -999.00,9,    15.6085,3, 20190509,      609, -33.3854,  28.2045,      25.09,     8.1702,2,      0.133,1,      0.060,1,      4.717,1
325020190403,       I06S,      47,          1,         19,         19,2,20190509,       0520,   -33.3855,    28.2045,       2595,   613.0,   9.3729,  34.7378,2,  34.7378,2,    204.4,3,   201.9,2,    11.2,2,   18.38,2,    0.00,2,    1.31,2,   2.920,2,   1.628,2,   0.9194,2,  2154.2,2, -999.00,9,   7.7257,3, -999.00,9,  -999.0,9,  -999.0, -999.00,9,  -999.0,9, -999.00,9,    14.5404,3, 20190509,      612, -33.3854,  28.2045,      25.08,     9.3785,2,      0.137,1,      0.060,1,      4.714,1
325020190403,       I06S,      47,          1,         20,         20,2,20190509,       0520,   -33.3855,    28.2045,       2595,   511.3,  10.3184,  34.8378,2,  34.8376,2,    213.2,3,   216.7,2,     6.3,2,   14.51,2,    0.00,2,    1.06,2,   3.066,2,   1.763,2,   1.2805,2,  2139.6,2, 2301.42,2,   7.7665,3, -999.00,9,  -999.0,9,  -999.0,    0.36,2,  -999.0,9, -999.00,9,    11.2745,3, 20190509,      614, -33.3855,  28.2045,      25.09,    10.3308,2,      0.135,1,      0.059,1,      4.716,1
325020190403,       I06S,      47,          1,         21,         21,2,20190509,       0520,   -33.3855,    28.2045,       2595,   461.0,  10.7844,  34.8992,2,  34.9112,2,    216.7,2,   216.9,2,     5.6,2,   13.34,2,    0.00,2,    1.00,2,   3.033,2,   1.752,2,   1.3279,2,  2136.4,2, -999.00,9,   7.7782,3, -999.00,9,  -999.0,9,  -999.0, -999.00,9,  -999.0,9, -999.00,9,    10.9385,3, 20190509,      616, -33.3854,  28.2045,      25.09,    10.7998,2,      0.133,1,      0.059,1,      4.715,1
325020190403,       I06S,      47,          1,         22,         22,2,20190509,       0520,   -33.3855,    28.2045,       2595,   411.2,   11.513,  35.0023,2,  35.0029,2,    211.9,3,   208.7,2,     6.4,2,   12.34,2,    0.00,2,    0.94,2,   2.808,2,   1.717,2,   1.4270,2,  2140.3,2, 2307.52,2,   7.7840,3, -999.00,9,  -999.0,9,  -999.0,    0.44,2,  -999.0,9, -999.00,9,    10.9261,3, 20190509,      618, -33.3854,  28.2045,      25.10,     11.532,2,      0.142,1,      0.059,1,      4.709,1
325020190403,       I06S,      47,          1,         23,         23,2,20190509,       0520,   -33.3855,    28.2045,       2595,   360.7,  12.2993,  35.1162,2,   35.116,2,    199.0,3,   219.1,2,     4.2,2,    9.48,2,    0.00,2,    0.76,2,   2.630,2,   1.743,2,   1.5879,2,  2129.5,2, -999.00,9,   7.8154,3, -999.00,9,  -999.0,9,  -999.0, -999.00,9,  -999.0,9, -999.00,9,     8.0112,3, 20190509,      620, -33.3854,  28.2045,      25.08,    12.3001,2,      0.136,1,      0.060,1,      4.711,1
325020190403,       I06S,      47,          1,         24,         24,2,20190509,       0520,   -33.3855,    28.2045,       2595,   307.8,  13.1245,  35.2278,2,  35.2296,2,    216.5,2,   214.9,2,     4.0,2,    8.01,2,    0.00,2,    0.66,2,   2.753,2,   1.679,2,   1.7317,2,  2124.0,2, 2315.98,2,   7.8314,3, -999.00,9,  -999.0,9,  -999.0,    0.58,2,  -999.0,9, -999.00,9,     9.5934,3, 20190509,      622, -33.3853,  28.2045,      25.10,     13.128,2,      0.138,1,      0.059,1,      4.710,1
325020190403,       I06S,      47,          1,         25,         25,2,20190509,       0520,   -33.3855,    28.2045,       2595,   261.3,  13.5993,  35.2929,2,  35.2953,2,    212.9,3,   216.0,2,     3.5,2,    6.67,2,    0.00,2,    0.59,2,   2.607,2,   1.691,2,   1.6791,2,  2119.9,2, -999.00,9,   7.8454,3, -999.00,9,  -999.0,9,  -999.0, -999.00,9,  -999.0,9, -999.00,9,     8.6719,3, 20190509,      624, -33.3854,  28.2044,      25.07,    13.6029,2,      0.140,1,      0.059,1,      4.709,1
325020190403,       I06S,      47,          1,         26,         26,2,20190509,       0520,   -33.3855,    28.2045,       2595,   236.6,  13.9672,  35.2721,2,  35.2717,2,    199.5,3,   186.6,2,     7.1,2,    9.45,2,    0.00,2,    0.76,2,   2.444,2,   1.537,2,   1.4293,2,  2134.2,2, 2319.01,2,   7.8146,3, -999.00,9,  -999.0,9,  -999.0,     0.6,6,  -999.0,9, -999.00,9,    11.3226,3, 20190509,      626, -33.3854,  28.2044,      25.09,    13.9724,2,      0.162,1,      0.061,1,      4.692,1
325020190403,       I06S,      47,          1,         27,         27,2,20190509,       0520,   -33.3855,    28.2045,       2595,   212.2,  14.8917,  35.3945,2,  35.3959,2,    194.1,3,   197.6,2,     4.7,2,    6.25,2,    0.00,2,    0.57,2,   2.424,2,   1.548,2,   1.6601,2,  2119.9,2, -999.00,9,   7.8531,3, -999.00,9,  -999.0,9,  -999.0, -999.00,9,  -999.0,9, -999.00,9,      9.563,3, 20190509,      627, -33.3853,  28.2045,      25.07,    14.9006,2,      0.139,1,      0.061,1,      4.706,1
325020190403,       I06S,      47,          1,         28,         28,2,20190509,       0520,   -33.3855,    28.2045,       2595,   186.2,   15.225,   35.424,2,  35.4288,2,    192.9,3,   197.6,2,     4.5,2,    5.65,2,    0.00,2,    0.54,2,   2.421,2,   1.492,2,   1.6221,2,  2117.3,2, 2331.23,2,   7.8616,3, -999.00,9,  -999.0,9,  -999.0,    0.66,2,  -999.0,9, -999.00,9,     10.286,3, 20190509,      628, -33.3854,  28.2044,      25.10,    15.2298,2,      0.141,1,      0.060,1,      4.705,1
325020190403,       I06S,      47,          1,         29,         29,2,20190509,       0520,   -33.3855,    28.2045,       2595,   159.2,  16.0934,  35.4933,2,  35.4924,2,    196.7,2,   198.6,2,     4.1,2,    4.43,2,    0.00,2,    0.46,2,   2.454,2,   1.466,2,   1.5212,2,  2110.2,2, -999.00,9,   7.8821,3, -999.00,9,  -999.0,9,  -999.0, -999.00,9,  -999.0,9, -999.00,9,    12.1756,3, 20190509,      631, -33.3854,  28.2044,      25.08,    16.0941,2,      0.141,1,      0.060,1,      4.705,1
325020190403,       I06S,      47,          1,         30,         30,2,20190509,       0520,   -33.3855,    28.2045,       2595,   132.9,  16.3652,  35.3625,2,  35.3449,2,    172.1,3,   163.7,2,     7.9,2,    8.75,2,    0.02,2,    0.74,2,   2.303,2,   1.356,2,   1.3161,2,  2125.6,2, 2322.38,2,   7.8346,3, -999.00,9,  -999.0,9,  -999.0,     0.6,2,  -999.0,9, -999.00,9,    16.8166,3, 20190509,      632, -33.3854,  28.2045,      25.08,    16.3215,3,      0.149,1,      0.068,1,      4.695,1
325020190403,       I06S,      47,          1,         31,         31,2,20190509,       0520,   -33.3855,    28.2045,       2595,   108.9,   18.095,   35.413,2,  35.4128,2,    162.2,3,   157.8,2,     7.0,2,    7.12,2,    0.00,2,    0.64,2,   2.122,2,   1.267,2,   1.4235,2,  2114.2,2, -999.00,9,   7.8651,3, -999.00,9,  -999.0,9,  -999.0,    0.63,2,  -999.0,9, -999.00,9,    15.4769,3, 20190509,      633, -33.3854,  28.2045,      25.10,    18.1644,3,      0.142,1,      0.061,1,      4.701,1
325020190403,       I06S,      47,          1,         32,         32,2,20190509,       0520,   -33.3855,    28.2045,       2595,    83.8,  19.6312,  35.4389,2,  35.4321,2,    172.9,3,   170.8,2,     4.9,2,    4.26,2,    0.03,2,    0.46,2,   2.062,2,   1.265,2,   1.4476,2,  2089.0,2, 2323.50,2,   7.9135,3, -999.00,9,  -999.0,9,  -999.0,    0.69,2,  -999.0,9, -999.00,9,    12.7933,3, 20190509,      634, -33.3854,  28.2045,      25.08,     19.678,2,      0.159,1,      0.092,1,      4.687,1
325020190403,       I06S,      47,          1,         33,         33,2,20190509,       0520,   -33.3855,    28.2045,       2595,    59.3,   22.011,  35.3095,3,  35.2883,2,    179.0,3,   176.7,2,     3.7,2,    1.58,2,    0.51,2,    0.34,2,   1.844,2,   1.137,2,   1.5060,2,  2057.2,2, -999.00,9,   7.9604,3, -999.00,9,  -999.0,9,  -999.0,    0.62,2,  -999.0,9, -999.00,9,     12.386,3, 20190509,      636, -33.3854,  28.2045,      25.10,    22.3692,3,      0.174,1,      0.140,1,      4.663,1
325020190403,       I06S,      47,          1,         34,         34,2,20190509,       0520,   -33.3855,    28.2045,       2595,    34.2,  24.6489,  35.2078,2,  35.2064,2,    203.5,3,   205.6,2,     1.7,2,    0.00,2,    0.04,2,    0.08,2,   1.699,2,   1.030,2,   1.4996,2,  1999.7,2, 2306.88,2,   8.0490,3, -999.00,9,  -999.0,9,  -999.0,    0.65,2,  -999.0,9, -999.00,9,     7.9918,3, 20190509,      637, -33.3854,  28.2044,      25.11,     24.645,2,      0.183,1,      0.129,1,      4.642,1
325020190403,       I06S,      47,          1,         35,         35,2,20190509,       0520,   -33.3855,    28.2045,       2595,    13.3,  24.6508,  35.2069,2,  35.2043,2,    202.9,3,   205.9,2,     1.8,2,    0.00,2,    0.04,2,    0.10,2,   1.691,2,   1.039,2,   1.6141,2,  2002.9,6, 2307.00,3,   8.0497,2, -999.00,9,  -999.0,9,  -999.0,    0.66,2,  -999.0,9, -999.00,9,     7.7651,3, 20190509,      639, -33.3853,  28.2044,      25.06,    24.6591,2,      0.180,1,      0.119,1,      4.640,1