BOTTLE,20210804CCHSIOCBG
EXPOCODE,SECT_ID,STNNBR,CASTNO,SAMPNO,BTLNBR,BTLNBR_FLAG_W,DATE,TIME,LATITUDE,LONGITUDE,DEPTH,CTDPRS,CTDTMP,CTDSAL,CTDSAL_FLAG_W,SALNTY,SALNTY_FLAG_W,CTDOXY,CTDOXY_FLAG_W,OXYGEN,OXYGEN_FLAG_W,SILCAT,SILCAT_FLAG_W,NITRAT,NITRAT_FLAG_W,NITRIT,NITRIT_FLAG_W,PHSPHT,PHSPHT_FLAG_W,CFC-11,CFC-11_FLAG_W,CFC-12,CFC-12_FLAG_W,SF6,SF6_FLAG_W,TCARBN,TCARBN_FLAG_W,ALKALI,ALKALI_FLAG_W,PH_TOT,PH_TOT_FLAG_W,DELC13,DELC13_FLAG_W,DELC14,DELC14_FLAG_W,C14ERR,DELO18,DELO18_FLAG_W,DOC,DOC_FLAG_W,TDN,TDN_FLAG_W,N2O,N2O_FLAG_W,BTL_DATE,BTL_TIME,BTL_LAT,BTL_LON,PH_TMP,REFTMP,REFTMP_FLAG_W,CTDBACKSCATTER,CTDBACKSCATTER_FLAG_W,CTDFLUOR,CTDFLUOR_FLAG_W,CTDXMISS,CTDXMISS_FLAG_W
,,,,,,,,,,,METERS,DBAR,ITS-90,PSS-78,,PSS-78,,UMOL/KG,,UMOL/KG,,UMOL/KG,,UMOL/KG,,UMOL/KG,,UMOL/KG,,PMOL/KG,,PMOL/KG,,FMOL/KG,,UMOL/KG,,UMOL/KG,,,,/MILLE,,/MILLE,,/MILLE,/MILLE,,UMOL/KG,,UMOL/KG,,NMOL/KG,,,,,,DEG C,ITS-90,,VOLTS,,VOLTS,,VOLTS,
325020190403,       I06S,      16,          1,          1,          1,2,20190419,       1026,   -64.4995,    30.0004,       5019,  5116.8,  -0.2785,  34.6515,2,  34.6513,2,    242.6,2,   242.4,2,   139.2,2,   32.48,2,    0.00,2,    2.25,2,   0.741,2,   0.378,2,   0.2772,2,  2252.7,6, 2358.51,2,   7.5996,2, -999.00,9,  -999.0,9,  -999.0,    0.04,2,    39.0,2,   29.82,2,    23.7092,3, 20190419,     1026, -64.4995,  30.0004,      25.04,    -0.2791,2,      0.140,1,      0.060,1,      4.632,1
325020190403,       I06S,      16,          1,          2,          2,2,20190419,       1026,   -64.4995,    30.0004,       5019,  5036.3,  -0.2764,  34.6516,2,  34.6515,2,    243.8,2,   242.7,2,   136.8,2,   32.33,2,    0.00,2,    2.26,2,-999.000,9,-999.000,9,-999.0000,9,  2251.3,2, 2354.25,2,   7.6007,2, -999.00,9,  -999.0,9,  -999.0,   -0.08,2,    39.9,2,   32.34,2,     -999.0,9, 20190419,     1028, -64.4995,  30.0003,      25.04,    -0.2769,2,      0.127,1,      0.060,1,      4.640,1
325020190403,       I06S,      16,          1,          3,          3,2,20190419,       1026,   -64.4995,    30.0004,       5019,  4951.2,  -0.2709,  34.6518,2,  34.6525,2,    243.7,2,   243.1,2,   134.6,2,   32.39,2,    0.00,2,    2.25,2,   0.697,6,   0.354,6,   0.2084,6,  2250.9,2, 2354.69,2,   7.6011,2, -999.00,9,  -999.0,9,  -999.0,    0.01,2,  -999.0,9, -999.00,9,      25.25,3, 20190419,     1031, -64.4995,  30.0004,      25.06,    -0.2711,2,      0.123,1,      0.060,1,      4.641,1
325020190403,       I06S,      16,          1,          4,          4,2,20190419,       1026,   -64.4995,    30.0004,       5019,  4541.9,  -0.2505,  34.6543,2,  34.6548,2,    241.4,2,   240.9,2,   132.3,2,   32.30,2,    0.00,2,    2.24,2,-999.000,9,-999.000,9,-999.0000,9,  -999.0,9, -999.00,9,-999.0000,9, -999.00,9,  -999.0,9,  -999.0,    0.11,2,    39.7,2,   31.18,2,     -999.0,9, 20190419,     1038, -64.4995,  30.0004,     -999.0,    -0.2508,2,      0.124,1,      0.061,1,      4.644,1
325020190403,       I06S,      16,          1,          5,          5,2,20190419,       1026,   -64.4995,    30.0004,       5019,  4180.0,  -0.2334,  34.6553,2,  34.6556,2,    240.1,2,   239.8,2,   128.4,2,   32.23,2,    0.00,2,    2.24,2,   0.790,2,   0.419,2,   0.3073,2,  2252.2,2, 2358.93,2,   7.5987,2, -999.00,9,  -999.0,9,  -999.0,    0.22,2,    38.5,2,   31.58,2,    26.1135,3, 20190419,     1045, -64.4995,  30.0004,      25.06,    -0.2339,2,      0.120,1,      0.061,1,      4.644,1
325020190403,       I06S,      16,          1,          6,          6,2,20190419,       1026,   -64.4995,    30.0004,       5019,  3872.5,  -0.2094,  34.6565,2,  34.6568,2,    238.5,2,   238.3,2,   126.7,2,   32.30,2,    0.00,2,    2.24,2,-999.000,9,-999.000,9,-999.0000,9,  -999.0,9, -999.00,9,-999.0000,9, -999.00,9,  -999.0,9,  -999.0,    0.17,6,  -999.0,9, -999.00,9,     -999.0,9, 20190419,     1051, -64.4995,  30.0003,     -999.0,    -0.2098,2,      0.121,1,      0.061,1,      4.645,1
325020190403,       I06S,      16,          1,          7,          7,2,20190419,       1026,   -64.4995,    30.0004,       5019,  3565.9,  -0.1737,   34.659,2,  34.6586,2,    235.1,2,   235.5,2,   126.3,2,   32.31,2,    0.00,2,    2.25,2,-999.000,9,-999.000,9,-999.0000,9,  -999.0,9, -999.00,9,-999.0000,9, -999.00,9,  -999.0,9,  -999.0,    0.11,2,    40.5,2,   32.87,2,     -999.0,9, 20190419,     1057, -64.4995,  30.0003,     -999.0,    -0.1741,2,      0.122,1,      0.062,1,      4.645,1
325020190403,       I06S,      16,          1,          8,          8,2,20190419,       1026,   -64.4995,    30.0004,       5019,  3255.2,  -0.1341,  34.6615,2,  34.6609,2,    231.7,2,   232.0,2,   127.0,2,   32.39,2,    0.00,2,    2.25,2,   0.686,2,   0.358,2,   0.2688,2,  2254.4,2, 2358.61,2,   7.5930,2, -999.00,9,  -999.0,9,  -999.0,    0.13,2,    40.1,2,   33.07,2,    26.5311,3, 20190419,     1103, -64.4995,  30.0004,      25.08,    -0.1347,2,      0.123,1,      0.063,1,      4.645,1
325020190403,       I06S,      16,          1,          9,          9,2,20190419,       1026,   -64.4995,    30.0004,       5019,  2963.5,  -0.0854,  34.6639,2,  34.6637,2,    228.4,2,   228.7,2,   127.2,2,   32.48,2,    0.00,2,    2.27,2,-999.000,9,-999.000,9,-999.0000,9,  -999.0,9, -999.00,9,-999.0000,9, -999.00,9,  -999.0,9,  -999.0, -999.00,9,  -999.0,9, -999.00,9,     -999.0,9, 20190419,     1110, -64.4995,  30.0003,     -999.0,    -0.0854,2,      0.123,1,      0.061,1,      4.645,1
325020190403,       I06S,      16,          1,         10,         10,2,20190419,       1026,   -64.4995,    30.0004,       5019,  2707.8,  -0.0295,  34.6666,2,  34.6664,2,    225.1,2,   225.3,2,   127.5,2,   32.66,2,    0.00,2,    2.26,2,-999.000,9,-999.000,9,-999.0000,9,  -999.0,9, -999.00,9,-999.0000,9, -999.00,9,  -999.0,9,  -999.0,    0.11,2,    40.2,2,   31.26,2,     -999.0,9, 20190419,     1115, -64.4995,  30.0003,     -999.0,    -0.0299,2,      0.123,1,      0.062,1,      4.646,1
325020190403,       I06S,      16,          1,         11,         11,2,20190419,       1026,   -64.4995,    30.0004,       5019,  2452.4,   0.0375,  34.6692,2,  34.6697,2,    222.0,2,   221.9,2,   127.0,2,   32.70,2,    0.00,2,    2.28,2,   0.547,2,   0.279,2,   0.1743,2,  2257.8,2, 2358.47,2,   7.5870,2, -999.00,9,  -999.0,9,  -999.0, -999.00,9,    41.5,2,   31.62,2,    27.0707,3, 20190419,     1120, -64.4995,  30.0004,      25.07,     0.0371,2,      0.124,1,      0.061,1,      4.646,1
325020190403,       I06S,      16,          1,         12,         12,2,20190419,       1026,   -64.4995,    30.0004,       5019,  2194.0,    0.122,  34.6738,2,  34.6741,2,    217.6,2,   217.5,2,   127.3,2,   32.71,2,    0.00,2,    2.28,2,-999.000,9,-999.000,9,-999.0000,9,  -999.0,9, -999.00,9,-999.0000,9, -999.00,9,  -999.0,9,  -999.0,     0.3,2,  -999.0,9, -999.00,9,     -999.0,9, 20190419,     1125, -64.4995,  30.0004,     -999.0,     0.1217,2,      0.124,1,      0.061,1,      4.645,1
325020190403,       I06S,      16,          1,         13,         13,2,20190419,       1026,   -64.4995,    30.0004,       5019,  1960.7,   0.1992,  34.6767,2,   34.677,2,    213.6,2,   213.8,2,   126.8,2,   33.01,2,    0.00,2,    2.30,2,-999.000,9,-999.000,9,-999.0000,9,  -999.0,9, -999.00,9,-999.0000,9, -999.00,9,  -999.0,9,  -999.0, -999.00,9,    40.4,2,   31.76,2,     -999.0,9, 20190419,     1129, -64.4995,  30.0003,     -999.0,     0.1982,2,      0.125,1,      0.061,1,      4.645,1
325020190403,       I06S,      16,          1,         14,         14,2,20190419,       1026,   -64.4995,    30.0004,       5019,  1758.1,   0.2734,  34.6807,2,  34.6807,2,    210.5,2,   210.5,2,   125.4,2,   32.78,2,    0.00,2,    2.29,2,   0.461,2,   0.233,2,   0.1479,2,  2263.0,2, 2359.66,2,   7.5796,2, -999.00,9,  -999.0,9,  -999.0,    0.13,2,    40.1,2,   35.06,2,    27.4209,3, 20190419,     1134, -64.4995,  30.0004,      25.08,     0.2734,2,      0.126,1,      0.062,1,      4.646,1
325020190403,       I06S,      16,          1,         15,         15,2,20190419,       1026,   -64.4995,    30.0004,       5019,  1555.5,   0.3544,  34.6834,2,  34.6837,2,    207.6,2,   207.6,2,   124.0,2,   32.84,2,    0.00,2,    2.28,2,-999.000,9,-999.000,9,-999.0000,9,  -999.0,9, -999.00,9,-999.0000,9, -999.00,9,  -999.0,9,  -999.0, -999.00,9,  -999.0,9, -999.00,9,     -999.0,9, 20190419,     1138, -64.4995,  30.0003,     -999.0,     0.3542,2,      0.125,1,      0.061,1,      4.646,1
325020190403,       I06S,      16,          1,         16,         16,2,20190419,       1026,   -64.4995,    30.0004,       5019,  1381.4,   0.4371,  34.6877,2,  34.6876,2,    204.6,2,   204.7,2,   122.2,2,   32.79,2,    0.00,2,    2.29,2,   0.457,2,   0.231,2,   0.1703,2,  2261.6,2, 2360.91,2,   7.5769,2, -999.00,9,  -999.0,9,  -999.0,     0.2,2,    38.8,2,   35.19,2,    27.7044,3, 20190419,     1142, -64.4995,  30.0004,      25.05,     0.4364,2,      0.127,1,      0.062,1,      4.645,1
325020190403,       I06S,      16,          1,         17,         17,2,20190419,       1026,   -64.4995,    30.0004,       5019,  1281.2,   0.4781,  34.6889,2,  34.6886,2,    203.9,2,   203.7,2,   120.7,2,   32.89,2,    0.00,2,    2.28,2,-999.000,9,-999.000,9,-999.0000,9,  -999.0,9, -999.00,9,-999.0000,9, -999.00,9,  -999.0,9,  -999.0, -999.00,9,    39.8,2,   32.62,2,     -999.0,9, 20190419,     1144, -64.4995,  30.0004,     -999.0,     0.4768,2,      0.127,1,      0.062,1,      4.645,1
325020190403,       I06S,      16,          1,         18,         18,2,20190419,       1026,   -64.4995,    30.0004,       5019,  1179.3,   0.5291,  34.6914,2,  34.6915,2,    202.5,2,   202.8,2,   119.6,2,   32.78,2,    0.00,2,    2.28,2,   0.476,2,   0.246,2,   0.2579,2,  2260.6,2, 2357.28,2,   7.5777,2, -999.00,9,  -999.0,9,  -999.0,    0.12,2,  -999.0,9, -999.00,9,    27.7853,3, 20190419,     1147, -64.4995,  30.0004,      25.07,     0.5279,2,      0.130,1,      0.062,1,      4.645,1
325020190403,       I06S,      16,          1,         19,         19,4,20190419,       1026,   -64.4995,    30.0004,       5019,  1077.7,   0.5812,  34.6957,3,  34.7017,3,    200.8,3,   198.5,3,   108.5,3,   32.20,3,    0.00,3,    2.22,3,-999.000,9,-999.000,9,-999.0000,9,  -999.0,9, -999.00,9,-999.0000,9, -999.00,9,  -999.0,9,  -999.0, -999.00,9,    37.8,2,   32.33,2,     -999.0,9, 20190419,     1149, -64.4995,  30.0004,     -999.0,     0.5802,2,      0.128,1,      0.063,1,      4.645,1
325020190403,       I06S,      16,          1,         20,         20,2,20190419,       1026,   -64.4995,    30.0004,       5019,   975.6,   0.6475,  34.6954,2,  34.6954,2,    202.0,2,   201.5,2,   115.5,2,   32.46,2,    0.00,2,    2.26,2,-999.000,9,-999.000,9,-999.0000,9,  -999.0,9, -999.00,9,-999.0000,9, -999.00,9,  -999.0,9,  -999.0,    0.23,2,    38.2,2,   33.87,2,     -999.0,9, 20190419,     1152, -64.4995,  30.0004,     -999.0,      0.647,2,      0.129,1,      0.063,1,      4.644,1
325020190403,       I06S,      16,          1,         21,         21,2,20190419,       1026,   -64.4995,    30.0004,       5019,   874.3,   0.7159,  34.6978,2,  34.6984,2,    201.2,2,   200.9,2,   113.7,2,   32.41,2,    0.00,2,    2.23,2,   0.496,2,   0.258,2,   0.1901,2,  2260.7,2, 2356.98,2,   7.5804,2, -999.00,9,  -999.0,9,  -999.0,    0.24,2,  -999.0,9, -999.00,9,    27.9314,3, 20190419,     1155, -64.4995,  30.0003,      25.08,     0.7156,2,      0.129,1,      0.063,1,      4.644,1
325020190403,       I06S,      16,          1,         22,         22,2,20190419,       1026,   -64.4995,    30.0004,       5019,   771.2,   0.8184,  34.7028,2,  34.7031,2,    200.7,2,   201.1,2,   110.0,2,   32.21,2,    0.00,2,    2.22,2,-999.000,9,-999.000,9,-999.0000,9,  2258.6,2, 2357.23,2,   7.5833,2, -999.00,9,  -999.0,9,  -999.0, -999.00,9,    41.0,2,   34.91,2,     -999.0,9, 20190419,     1157, -64.4995,  30.0003,      25.07,     0.8189,2,      0.132,1,      0.062,1,      4.643,1
325020190403,       I06S,      16,          1,         23,         23,2,20190419,       1026,   -64.4995,    30.0004,       5019,   670.4,   0.9129,  34.7055,2,  34.7066,2,    199.1,2,   198.7,2,   107.6,2,   32.13,2,    0.00,2,    2.21,2,   0.485,2,   0.256,2,   0.1982,2,  2256.7,2, 2357.05,2,   7.5837,2, -999.00,9,  -999.0,9,  -999.0,    0.19,6,    38.6,2,   35.04,2,    27.9556,3, 20190419,     1159, -64.4995,  30.0003,      25.06,     0.9136,2,      0.131,1,      0.062,1,      4.642,1
325020190403,       I06S,      16,          1,         24,         24,2,20190419,       1026,   -64.4995,    30.0004,       5019,   571.5,   1.0184,  34.7085,2,  34.7076,2,    197.4,2,   197.6,2,   104.8,2,   31.89,2,    0.00,2,    2.20,2,-999.000,9,-999.000,9,-999.0000,9,  -999.0,9, -999.00,9,-999.0000,9, -999.00,9,  -999.0,9,  -999.0, -999.00,9,  -999.0,9, -999.00,9,     -999.0,9, 20190419,     1202, -64.4995,  30.0003,     -999.0,     1.0194,2,      0.135,1,      0.063,1,      4.640,1
325020190403,       I06S,      16,          1,         25,         25,2,20190419,       1026,   -64.4995,    30.0004,       5019,   469.6,   1.1466,  34.7084,2,  34.7078,2,    194.7,2,   194.6,2,   102.1,2,   32.01,2,    0.00,2,    2.19,2,-999.000,9,-999.000,9,-999.0000,9,  -999.0,9, -999.00,9,-999.0000,9, -999.00,9,  -999.0,9,  -999.0,    0.28,2,    39.4,2,   35.79,2,     -999.0,9, 20190419,     1205, -64.4995,  30.0004,     -999.0,     1.1461,2,      0.134,1,      0.063,1,      4.639,1
325020190403,       I06S,      16,          1,         26,         26,2,20190419,       1026,   -64.4995,    30.0004,       5019,   386.3,   1.2374,   34.705,2,  34.7041,2,    191.9,2,   192.5,2,    99.4,2,   32.02,2,    0.00,2,    2.20,2,   0.541,2,   0.289,2,   0.2459,2,  2259.2,2, 2347.17,3,   7.5779,2, -999.00,9,  -999.0,9,  -999.0, -999.00,9,    38.0,2,   35.71,2,    28.5528,3, 20190419,     1207, -64.4995,  30.0003,      25.06,     1.2361,2,      0.142,1,      0.067,1,      4.640,1
325020190403,       I06S,      16,          1,         27,         27,2,20190419,       1026,   -64.4995,    30.0004,       5019,   339.0,   1.2939,  34.7002,2,  34.6996,2,    189.9,2,   189.9,2,    97.5,2,   32.03,2,    0.00,2,    2.21,2,-999.000,9,-999.000,9,-999.0000,9,  -999.0,9, -999.00,9,-999.0000,9, -999.00,9,  -999.0,9,  -999.0,    0.28,2,  -999.0,9, -999.00,9,     -999.0,9, 20190419,     1208, -64.4995,  30.0004,     -999.0,     1.2928,2,      0.137,1,      0.064,1,      4.637,1
325020190403,       I06S,      16,          1,         28,         28,2,20190419,       1026,   -64.4995,    30.0004,       5019,   287.9,   1.3338,  34.6922,2,  34.6911,2,    188.0,2,   188.0,2,    96.7,2,   32.80,2,    0.00,2,    2.23,2,-999.000,9,-999.000,9,-999.0000,9,  -999.0,9, -999.00,9,-999.0000,9, -999.00,9,  -999.0,9,  -999.0, -999.00,9,    41.9,2,   35.67,2,     -999.0,9, 20190419,     1210, -64.4995,  30.0004,     -999.0,     1.3325,2,      0.142,1,      0.066,1,      4.633,1
325020190403,       I06S,      16,          1,         29,         29,2,20190419,       1026,   -64.4995,    30.0004,       5019,   238.4,   1.3793,  34.6824,2,  34.6819,2,    187.0,2,   186.6,2,    94.8,2,   32.75,2,    0.00,2,    2.22,2,   0.677,2,   0.373,2,   0.3097,2,  2258.2,2, 2346.64,2,   7.5632,2, -999.00,9,  -999.0,9,  -999.0,     0.3,2,    43.9,2,   29.41,2,    29.7929,3, 20190419,     1212, -64.4995,  30.0004,      25.04,     1.3744,2,      0.157,1,      0.064,1,      4.628,1
325020190403,       I06S,      16,          1,         30,         30,2,20190419,       1026,   -64.4995,    30.0004,       5019,   187.1,   1.3547,  34.6614,2,  34.6603,2,    186.2,2,   185.4,2,    93.3,2,   32.99,2,    0.00,2,    2.29,2,-999.000,9,-999.000,9,-999.0000,9,  2259.8,6, 2344.25,2,   7.5539,2, -999.00,9,  -999.0,9,  -999.0, -999.00,9,  -999.0,9, -999.00,9,     -999.0,9, 20190419,     1213, -64.4995,  30.0003,      25.05,     1.3551,2,      0.159,1,      0.068,1,      4.623,1
325020190403,       I06S,      16,          1,         31,         31,2,20190419,       1026,   -64.4995,    30.0004,       5019,   136.0,   1.2513,  34.6164,2,  34.6162,2,    188.9,2,   187.5,2,    90.4,2,   33.47,2,    0.00,2,    2.29,2,   1.181,2,   0.651,2,   0.7200,2,  2259.9,2, -999.00,9,-999.0000,9, -999.00,9,  -999.0,9,  -999.0,     0.3,2,    41.3,2,   31.45,2,     30.907,3, 20190419,     1215, -64.4995,  30.0004,     -999.0,     1.2512,2,      0.154,1,      0.082,1,      4.621,1
325020190403,       I06S,      16,          1,         32,         32,2,20190419,       1026,   -64.4995,    30.0004,       5019,    90.4,   0.7694,  34.5217,2,  34.5254,2,    208.3,3,   204.7,2,    84.2,2,   33.62,2,    0.03,2,    2.31,2,-999.000,9,-999.000,9,-999.0000,9,  -999.0,9, -999.00,9,-999.0000,9, -999.00,9,  -999.0,9,  -999.0, -999.00,9,    45.1,2,   32.60,2,     -999.0,9, 20190419,     1216, -64.4995,  30.0004,     -999.0,     0.7665,2,      0.169,1,      0.151,1,      4.591,1
325020190403,       I06S,      16,          1,         33,         33,2,20190419,       1026,   -64.4995,    30.0004,       5019,    65.5,  -0.7619,  34.3157,2,  34.3116,2,    294.2,3,   289.4,2,    62.2,2,   29.53,2,    0.19,2,    2.06,2,-999.000,9,-999.000,9,-999.0000,9,  -999.0,9, -999.00,9,-999.0000,9, -999.00,9,  -999.0,9,  -999.0,   -0.06,2,  -999.0,9, -999.00,9,     -999.0,9, 20190419,     1218, -64.4995,  30.0004,     -999.0,    -0.8512,3,      0.223,1,      0.279,1,      4.550,1
325020190403,       I06S,      16,          1,         34,         34,2,20190419,       1026,   -64.4995,    30.0004,       5019,    41.0,   -0.549,  33.9176,2,  33.9178,2,    341.0,2,   340.3,2,    40.1,2,   25.12,2,    0.23,2,    1.69,2,   5.775,2,   3.085,2,   4.0235,2,  2177.7,2, 2301.08,2,-999.0000,5, -999.00,9,  -999.0,9,  -999.0,   -0.27,2,    42.7,2,   21.24,2,    23.7695,3, 20190419,     1219, -64.4995,  30.0004,     -999.0,    -0.5493,2,      0.222,1,      0.269,1,      4.547,1
325020190403,       I06S,      16,          1,         35,         35,2,20190419,       1026,   -64.4995,    30.0004,       5019,    20.7,   -0.544,  33.9162,2,  33.9172,2,    340.0,2,   340.5,2,    40.2,2,   25.12,2,    0.23,2,    1.69,2,-999.000,9,-999.000,9,-999.0000,9,  2178.5,2, 2299.44,2,   7.6763,2, -999.00,9,  -999.0,9,  -999.0,   -0.22,2,  -999.0,9, -999.00,9,     -999.0,9, 20190419,     1220, -64.4995,  30.0004,      25.06,    -0.5451,2,      0.220,1,      0.249,1,      4.545,1
325020190403,       I06S,      16,          1,         36,         36,2,20190419,       1026,   -64.4995,    30.0004,       5019,     4.9,  -0.5453,   33.916,2,   33.917,2,    339.3,2,   340.7,2,    40.2,2,   25.09,2,    0.23,2,    1.68,2,   5.803,2,   3.101,2,   3.8483,2,  2176.1,6, 2300.56,2,   7.6760,2, -999.00,9,  -999.0,9,  -999.0,   -0.21,2,    42.9,2,   22.96,2,    23.4594,3, 20190419,     1222, -64.4995,  30.0004,      25.05,    -0.5464,2,      0.208,1,      0.209,1,      4.545,1