BOTTLE,20210804CCHSIOCBG
EXPOCODE,SECT_ID,STNNBR,CASTNO,SAMPNO,BTLNBR,BTLNBR_FLAG_W,DATE,TIME,LATITUDE,LONGITUDE,DEPTH,CTDPRS,CTDTMP,CTDSAL,CTDSAL_FLAG_W,SALNTY,SALNTY_FLAG_W,CTDOXY,CTDOXY_FLAG_W,OXYGEN,OXYGEN_FLAG_W,SILCAT,SILCAT_FLAG_W,NITRAT,NITRAT_FLAG_W,NITRIT,NITRIT_FLAG_W,PHSPHT,PHSPHT_FLAG_W,CFC-11,CFC-11_FLAG_W,CFC-12,CFC-12_FLAG_W,SF6,SF6_FLAG_W,TCARBN,TCARBN_FLAG_W,ALKALI,ALKALI_FLAG_W,PH_TOT,PH_TOT_FLAG_W,DELC13,DELC13_FLAG_W,DELC14,DELC14_FLAG_W,C14ERR,DELO18,DELO18_FLAG_W,DOC,DOC_FLAG_W,TDN,TDN_FLAG_W,N2O,N2O_FLAG_W,BTL_DATE,BTL_TIME,BTL_LAT,BTL_LON,PH_TMP,REFTMP,REFTMP_FLAG_W,CTDBACKSCATTER,CTDBACKSCATTER_FLAG_W,CTDFLUOR,CTDFLUOR_FLAG_W,CTDXMISS,CTDXMISS_FLAG_W
,,,,,,,,,,,METERS,DBAR,ITS-90,PSS-78,,PSS-78,,UMOL/KG,,UMOL/KG,,UMOL/KG,,UMOL/KG,,UMOL/KG,,UMOL/KG,,PMOL/KG,,PMOL/KG,,FMOL/KG,,UMOL/KG,,UMOL/KG,,,,/MILLE,,/MILLE,,/MILLE,/MILLE,,UMOL/KG,,UMOL/KG,,NMOL/KG,,,,,,DEG C,ITS-90,,VOLTS,,VOLTS,,VOLTS,
325020190403,       I06S,      30,          1,          1,          1,2,20190423,       1920,   -57.5023,    30.0024,       5452,  5566.2,  -0.2314,  34.6493,2,  34.6489,2,    244.6,2,   244.1,2,   132.0,2,   32.50,2,    0.00,2,    2.24,2,   0.911,2,   0.418,2,   0.2327,2,  2253.9,6, 2352.53,2,   7.6017,2, -999.00,9,  -999.0,9,  -999.0,   -0.12,2,    38.9,2,   31.78,2,    18.2218,3, 20190423,     1920, -57.5023,  30.0024,      25.02,     -999.0,9,      0.165,1,      0.059,1,      4.588,1
325020190403,       I06S,      30,          1,          2,          2,2,20190423,       1920,   -57.5023,    30.0024,       5452,  5512.8,  -0.2375,  34.6494,2,  34.6491,2,    242.6,2,   244.1,2,   132.5,2,   32.49,2,    0.00,2,    2.24,2,   0.878,2,   0.415,2,   0.2083,2,  2255.5,2, 2352.34,2,   7.6015,2,    0.62,2,  -153.7,2,     1.8,    0.03,2,    38.2,2,   30.13,2,    18.3085,3, 20190423,     1923, -57.5024,  30.0024,      25.04,     -999.0,9,      0.155,1,      0.060,1,      4.590,1
325020190403,       I06S,      30,          1,          3,          3,2,20190423,       1920,   -57.5023,    30.0024,       5452,  5460.6,  -0.2396,  34.6495,2,  34.6497,2,    243.6,2,   244.2,2,   132.0,2,   32.50,2,    0.00,2,    2.24,2,-999.000,9,-999.000,9,-999.0000,9,  -999.0,9, -999.00,9,-999.0000,9, -999.00,9,  -999.0,9,  -999.0,    -0.1,2,  -999.0,9, -999.00,9,     -999.0,9, 20190423,     1925, -57.5025,  30.0025,     -999.0,     -999.0,9,      0.145,1,      0.061,1,      4.601,1
325020190403,       I06S,      30,          1,          4,          4,2,20190423,       1920,   -57.5023,    30.0024,       5452,  5153.5,  -0.2322,  34.6511,2,  34.6515,2,    242.9,2,   242.6,2,   130.6,2,   32.51,2,    0.00,2,    2.24,2,   0.835,2,   0.387,2,   0.1813,2,  2255.2,2, 2352.74,2,   7.6008,2, -999.00,9,  -999.0,9,  -999.0,   -0.08,2,    38.3,2,   31.81,2,    18.3574,3, 20190423,     1932, -57.5028,  30.0026,      25.03,     -999.0,9,      0.128,1,      0.060,1,      4.623,1
325020190403,       I06S,      30,          1,          5,          5,2,20190423,       1920,   -57.5023,    30.0024,       5452,  4737.2,  -0.2229,  34.6532,2,  34.6525,2,    240.0,2,   240.7,2,   129.9,2,   32.52,2,    0.00,2,    2.23,2,-999.000,9,-999.000,9,-999.0000,9,  -999.0,9, -999.00,9,-999.0000,9,    0.58,2,  -155.2,2,     1.7,   -0.07,2,    40.7,2,   32.30,2,     -999.0,9, 20190423,     1940, -57.5033,  30.0028,     -999.0,     -999.0,9,      0.125,1,      0.060,1,      4.625,1
325020190403,       I06S,      30,          1,          6,          6,2,20190423,       1920,   -57.5023,    30.0024,       5452,  4326.8,  -0.1868,  34.6559,2,  34.6544,2,    236.5,2,   237.7,2,   128.1,2,   32.60,2,    0.00,2,    2.22,2,   0.772,2,   0.358,2,   0.1958,2,  2255.8,2, 2352.91,2,   7.5977,2, -999.00,9,  -999.0,9,  -999.0, -999.00,9,    40.2,2,   31.76,2,    18.3745,3, 20190423,     1948, -57.5040,  30.0029,      25.07,     -999.0,9,      0.124,1,      0.060,1,      4.628,1
325020190403,       I06S,      30,          1,          7,          7,4,20190423,       1920,   -57.5023,    30.0024,       5452,  3912.8,  -0.1509,  34.6598,3,-999.0000,9,    231.7,3,  -999.0,9,  -999.0,9, -999.00,9, -999.00,9, -999.00,9,-999.000,9,-999.000,9,-999.0000,9,  -999.0,9, -999.00,9,-999.0000,9,    0.64,2,  -155.1,2,     1.7,   -0.06,2,  -999.0,9, -999.00,9,     -999.0,9, 20190423,     1957, -57.5046,  30.0031,     -999.0,     -999.0,9,      0.123,1,      0.060,1,      4.628,1
325020190403,       I06S,      30,          1,          8,          8,2,20190423,       1920,   -57.5023,    30.0024,       5452,  3504.2,  -0.0985,  34.6611,2,  34.6613,2,    230.0,2,   231.1,2,   128.5,2,   32.73,2,    0.00,2,    2.23,2,   0.676,2,   0.321,2,   0.2054,2,  2258.8,2, 2352.36,2,   7.5929,2, -999.00,9,  -999.0,9,  -999.0, -999.00,9,    40.4,2,   31.50,2,     18.411,3, 20190423,     2005, -57.5051,  30.0031,      25.06,     -999.0,9,      0.123,1,      0.061,1,      4.629,1
325020190403,       I06S,      30,          1,          9,          9,2,20190423,       1920,   -57.5023,    30.0024,       5452,  3159.4,  -0.0343,   34.664,2,  34.6639,2,    225.4,2,   226.6,2,   127.8,2,   32.83,2,    0.00,2,    2.24,2,-999.000,9,-999.000,9,-999.0000,9,  -999.0,9, -999.00,9,-999.0000,9, -999.00,9,  -999.0,9,  -999.0,   -0.02,2,  -999.0,9, -999.00,9,     -999.0,9, 20190423,     2012, -57.5054,  30.0032,     -999.0,     -999.0,9,      0.123,1,      0.060,1,      4.630,1
325020190403,       I06S,      30,          1,         10,         10,2,20190423,       1920,   -57.5023,    30.0024,       5452,  2891.1,   0.0468,  34.6677,2,  34.6676,2,    221.9,2,   222.4,2,   127.7,2,   32.94,2,    0.00,2,    2.24,2,   0.580,2,   0.275,2,   0.1824,2,  2260.8,2, 2353.77,2,   7.5871,2,    0.56,2,  -155.3,2,     2.1, -999.00,9,    40.0,2,   32.74,2,    18.4961,3, 20190423,     2018, -57.5056,  30.0032,      25.05,     -999.0,9,      0.126,1,      0.060,1,      4.630,1
325020190403,       I06S,      30,          1,         11,         11,2,20190423,       1920,   -57.5023,    30.0024,       5452,  2585.1,   0.1368,   34.672,2,  34.6721,2,    216.5,2,   218.2,2,   127.3,2,   32.99,2,    0.00,2,    2.24,2,-999.000,9,-999.000,9,-999.0000,9,  -999.0,9, -999.00,9,-999.0000,9,    0.49,2,  -159.1,2,     2.0,   -0.03,2,    40.0,2,   32.47,2,     -999.0,9, 20190423,     2025, -57.5061,  30.0032,     -999.0,     -999.0,9,      0.127,1,      0.060,1,      4.630,1
325020190403,       I06S,      30,          1,         12,         12,2,20190423,       1920,   -57.5023,    30.0024,       5452,  2377.1,   0.2081,  34.6755,2,  34.6772,3,    214.1,2,   215.1,2,   126.8,2,   33.01,2,    0.00,2,    2.24,2,   0.532,2,   0.248,2,   0.1693,2,  2264.5,2, 2354.83,2,   7.5828,2, -999.00,9,  -999.0,9,  -999.0, -999.00,9,  -999.0,9, -999.00,9,    18.5139,3, 20190423,     2031, -57.5064,  30.0033,      25.07,     -999.0,9,      0.125,1,      0.059,1,      4.630,1
325020190403,       I06S,      30,          1,         13,         13,2,20190423,       1920,   -57.5023,    30.0024,       5452,  2123.3,   0.2859,  34.6788,2,  34.6784,2,    209.9,2,   211.5,2,   126.2,2,   33.05,2,    0.00,2,    2.24,2,-999.000,9,-999.000,9,-999.0000,9,  -999.0,9, -999.00,9,-999.0000,9, -999.00,9,  -999.0,9,  -999.0,    0.03,2,    38.6,2,   32.92,2,     -999.0,9, 20190423,     2037, -57.5066,  30.0033,     -999.0,     -999.0,9,      0.125,1,      0.060,1,      4.630,1
325020190403,       I06S,      30,          1,         14,         14,2,20190423,       1920,   -57.5023,    30.0024,       5452,  1899.1,   0.3689,  34.6826,2,  34.6833,2,    208.6,2,   209.0,2,   124.9,2,   33.09,2,    0.00,2,    2.23,2,   0.504,2,   0.238,2,   0.2139,2,  2267.6,2, 2355.53,2,   7.5802,2,    0.53,2,  -160.0,2,     1.8, -999.00,9,    39.5,2,   32.89,2,    18.5271,3, 20190423,     2042, -57.5069,  30.0034,      25.07,     -999.0,9,      0.139,1,      0.061,1,      4.630,1
325020190403,       I06S,      30,          1,         15,         15,2,20190423,       1920,   -57.5023,    30.0024,       5452,  1697.3,   0.4562,  34.6872,2,  34.6884,2,    204.8,3,   208.1,2,   122.8,2,   32.91,2,    0.00,2,    2.24,2,-999.000,9,-999.000,9,-999.0000,9,  -999.0,9, -999.00,9,-999.0000,9, -999.00,9,  -999.0,9,  -999.0,    0.03,6,  -999.0,9, -999.00,9,     -999.0,9, 20190423,     2047, -57.5073,  30.0034,     -999.0,     -999.0,9,      0.127,1,      0.062,1,      4.628,1
325020190403,       I06S,      30,          1,         16,         16,2,20190423,       1920,   -57.5023,    30.0024,       5452,  1493.1,   0.5294,  34.6906,2,  34.6905,2,    202.1,3,   205.2,2,   120.2,2,   32.85,2,    0.00,2,    2.23,2,   0.508,2,   0.230,2,   0.1750,2,  2264.9,2, 2357.41,2,   7.5817,2,    0.01,4,  -171.5,4,     1.9, -999.00,9,    39.3,2,   32.85,2,    18.5209,3, 20190423,     2052, -57.5076,  30.0034,      25.09,     -999.0,9,      0.132,1,      0.061,1,      4.628,1
325020190403,       I06S,      30,          1,         17,         17,2,20190423,       1920,   -57.5023,    30.0024,       5452,  1358.8,   0.5724,  34.6896,2,  34.6892,2,    202.4,2,   202.0,2,   118.4,2,   33.03,2,    0.00,2,    2.24,2,-999.000,9,-999.000,9,-999.0000,9,  -999.0,9, -999.00,9,-999.0000,9,    0.46,2,  -157.7,2,     1.8,   -0.01,2,    41.1,2,   34.54,2,     -999.0,9, 20190423,     2056, -57.5079,  30.0035,     -999.0,     -999.0,9,      0.127,1,      0.060,1,      4.627,1
325020190403,       I06S,      30,          1,         18,         18,2,20190423,       1920,   -57.5023,    30.0024,       5452,  1256.5,   0.6202,    34.69,2,  34.6892,2,    199.8,2,   201.0,2,   116.7,2,   33.01,2,    0.00,2,    2.22,2,   0.554,2,   0.267,2,   0.2276,2,  2267.3,2, 2354.01,2,   7.5744,2, -999.00,9,  -999.0,9,  -999.0, -999.00,9,  -999.0,9, -999.00,9,    18.5269,3, 20190423,     2059, -57.5083,  30.0036,      25.06,     -999.0,9,      0.131,1,      0.061,1,      4.626,1
325020190403,       I06S,      30,          1,         19,         19,2,20190423,       1920,   -57.5023,    30.0024,       5452,  1154.8,   0.7341,  34.6981,2,  34.6982,2,    199.7,3,   203.0,3,   113.4,2,   32.42,2,    0.00,2,    2.18,2,   0.505,2,   0.238,2,   0.2458,2,  2263.2,2, -999.00,9,-999.0000,9, -999.00,9,  -999.0,9,  -999.0,    0.03,2,    38.9,2,   32.94,2,    18.4843,3, 20190423,     2102, -57.5085,  30.0036,     -999.0,     -999.0,9,      0.130,1,      0.061,1,      4.626,1
325020190403,       I06S,      30,          1,         20,         20,2,20190423,       1920,   -57.5023,    30.0024,       5452,  1056.1,   0.7884,  34.6968,2,  34.6978,2,    200.1,2,   200.6,2,   111.6,2,   32.53,2,    0.00,2,    2.18,2,-999.000,9,-999.000,9,-999.0000,9,  -999.0,9, -999.00,9,-999.0000,9,    0.39,2,  -160.9,2,     1.7, -999.00,9,    37.5,2,   29.54,2,     -999.0,9, 20190423,     2105, -57.5088,  30.0037,     -999.0,     -999.0,9,      0.132,1,      0.062,1,      4.622,1
325020190403,       I06S,      30,          1,         21,         21,2,20190423,       1920,   -57.5023,    30.0024,       5452,   953.7,   0.8638,  34.6951,2,  34.6996,3,    198.5,2,   199.2,2,   109.6,2,   32.50,2,    0.00,2,    2.18,2,   0.546,2,   0.272,2,   0.2568,2,  2264.5,2, 2353.98,2,   7.5819,2, -999.00,9,  -999.0,9,  -999.0,    0.11,2,  -999.0,9, -999.00,9,    18.5619,3, 20190423,     2107, -57.5091,  30.0037,      25.06,     -999.0,9,      0.135,1,      0.060,1,      4.623,1
325020190403,       I06S,      30,          1,         22,         22,2,20190423,       1920,   -57.5023,    30.0024,       5452,   850.7,   0.9448,  34.6975,2,  34.6978,2,    197.0,2,   198.5,2,   107.2,2,   32.35,2,    0.00,2,    2.17,2,-999.000,9,-999.000,9,-999.0000,9,  -999.0,9, -999.00,9,-999.0000,9, -999.00,9,  -999.0,9,  -999.0, -999.00,9,    39.9,2,   33.81,2,     -999.0,9, 20190423,     2110, -57.5094,  30.0038,     -999.0,     -999.0,9,      0.132,1,      0.062,1,      4.623,1
325020190403,       I06S,      30,          1,         23,         23,2,20190423,       1920,   -57.5023,    30.0024,       5452,   752.0,   1.0987,  34.7022,2,  34.7019,2,    195.7,2,   196.8,2,   104.0,2,   32.16,2,    0.00,2,    2.16,2,   0.521,2,   0.262,2,   0.2986,2,  2262.5,2, 2357.58,2,   7.5848,2,    0.40,2,  -154.6,2,     1.7,    0.07,2,    40.6,2,   32.93,2,    18.4976,3, 20190423,     2113, -57.5096,  30.0038,      25.06,     -999.0,9,      0.133,1,      0.061,1,      4.622,1
325020190403,       I06S,      30,          1,         24,         24,3,20190423,       1920,   -57.5023,    30.0024,       5452,   649.7,   1.2155,  34.7002,2,  34.7002,2,    193.3,2,   194.4,3,   100.6,3,   32.21,3,    0.00,3,    2.16,3,-999.000,9,-999.000,9,-999.0000,9,  -999.0,9, -999.00,9,-999.0000,9, -999.00,9,  -999.0,9,  -999.0, -999.00,9,  -999.0,9, -999.00,9,     -999.0,9, 20190423,     2116, -57.5098,  30.0038,     -999.0,     -999.0,9,      0.134,1,      0.063,1,      4.623,1
325020190403,       I06S,      30,          1,         25,         25,2,20190423,       1920,   -57.5023,    30.0024,       5452,   550.1,   1.3103,  34.6936,2,  34.6931,2,    191.9,2,   192.0,2,    97.9,2,   32.32,2,    0.00,2,    2.16,2,   0.625,2,   0.307,2,   0.2740,2,  2262.5,2, -999.00,9,-999.0000,9,    0.39,2,  -157.1,2,     1.9,    0.05,2,    40.1,2,   33.16,2,    18.5467,3, 20190423,     2118, -57.5101,  30.0038,     -999.0,     -999.0,9,      0.131,1,      0.062,1,      4.626,1
325020190403,       I06S,      30,          1,         26,         26,2,20190423,       1920,   -57.5023,    30.0024,       5452,   445.8,   1.4477,   34.683,2,  34.6817,2,    189.6,2,   188.3,2,    94.2,2,   32.61,2,    0.00,2,    2.18,2,   0.689,2,   0.337,2,   0.3017,2,  2261.3,6, 2347.15,2,   7.5697,2,    0.37,2,  -154.1,2,     1.8, -999.00,9,    39.2,2,   32.76,2,    18.5504,3, 20190423,     2121, -57.5104,  30.0038,      25.09,     -999.0,9,      0.132,1,      0.061,1,      4.624,1
325020190403,       I06S,      30,          1,         27,         27,2,20190423,       1920,   -57.5023,    30.0024,       5452,   376.8,   1.3885,  34.6503,2,  34.6493,2,    192.4,3,   190.0,2,    92.6,2,   33.01,2,    0.00,2,    2.21,2,   0.996,2,   0.475,2,   0.3918,2,  -999.0,9, -999.00,9,-999.0000,9, -999.00,9,  -999.0,9,  -999.0,    0.06,2,  -999.0,9, -999.00,9,    18.5681,3, 20190423,     2123, -57.5106,  30.0038,     -999.0,     -999.0,9,      0.136,1,      0.062,1,      4.621,1
325020190403,       I06S,      30,          1,         28,         28,2,20190423,       1920,   -57.5023,    30.0024,       5452,   327.6,   1.3423,  34.6222,2,  34.6217,2,    193.7,2,   192.4,2,    90.3,2,   33.31,2,    0.00,2,    2.22,2,   1.270,2,   0.594,2,   0.4998,2,  2261.5,2, 2345.09,2,   7.5560,2,    0.34,2,  -150.5,2,     2.0, -999.00,9,    39.4,2,   33.19,2,    18.5616,3, 20190423,     2125, -57.5108,  30.0039,      25.04,     -999.0,9,      0.136,1,      0.061,1,      4.624,1
325020190403,       I06S,      30,          1,         29,         29,2,20190423,       1920,   -57.5023,    30.0024,       5452,   325.4,   1.3506,  34.6191,3,-999.0000,9,    192.7,2,   192.6,2,    90.4,2,   33.35,2,    0.00,2,    2.22,2,   1.290,2,   0.597,2,   0.4925,2,  -999.0,9, -999.00,9,-999.0000,9, -999.00,9,  -999.0,9,  -999.0,    0.05,2,  -999.0,9, -999.00,9,    18.5548,3, 20190423,     2126, -57.5108,  30.0039,     -999.0,     -999.0,9,      0.130,1,      0.062,1,      4.624,1
325020190403,       I06S,      30,          1,         30,         30,2,20190423,       1920,   -57.5023,    30.0024,       5452,   243.9,   0.6755,   34.469,2,  34.4675,2,    241.2,3,   236.1,2,    82.7,2,   32.93,2,    0.00,2,    2.19,2,   3.442,2,   1.488,2,   1.4817,2,  -999.0,5, 2332.03,2,   7.5637,2, -999.00,9,  -999.0,9,  -999.0,    0.02,2,    41.0,2,   33.16,2,    18.4744,3, 20190423,     2131, -57.5111,  30.0038,      25.04,     -999.0,9,      0.139,1,      0.061,1,      4.615,1
325020190403,       I06S,      30,          1,         31,         31,2,20190423,       1920,   -57.5023,    30.0024,       5452,   176.0,  -0.2322,  34.2443,2,  34.2422,2,    321.8,3,   314.4,2,    69.8,2,   30.15,2,    0.32,2,    2.05,2,   6.291,2,   2.818,2,   3.5697,2,  -999.0,9, -999.00,9,-999.0000,9, -999.00,9,  -999.0,9,  -999.0,   -0.14,2,    41.4,2,   29.01,2,    18.0044,3, 20190423,     2133, -57.5112,  30.0038,     -999.0,     -999.0,9,      0.136,1,      0.067,1,      4.618,1
325020190403,       I06S,      30,          1,         32,         32,2,20190423,       1920,   -57.5023,    30.0024,       5452,   124.1,   0.9654,  34.0631,2,  34.0594,2,    327.2,2,   325.1,2,    50.1,2,   26.55,2,    0.40,2,    1.83,2,   6.697,2,   2.923,2,   3.7194,2,  2192.9,2, 2314.06,2,   7.6614,2,    1.05,2,  -115.9,2,     1.7,   -0.21,6,    42.0,2,   28.43,2,    17.4195,3, 20190423,     2135, -57.5113,  30.0038,      24.91,     -999.0,9,      0.146,1,      0.101,1,      4.603,1
325020190403,       I06S,      30,          1,         33,         33,2,20190423,       1920,   -57.5023,    30.0024,       5452,    94.4,   1.2873,  33.9423,2,   33.942,2,    334.9,2,   332.1,2,    41.8,2,   25.12,2,    0.36,2,    1.69,2,   6.783,2,   2.942,2,   3.9020,2,  2179.1,2, -999.00,9,-999.0000,9, -999.00,9,  -999.0,9,  -999.0,   -0.26,2,  -999.0,9, -999.00,9,    17.1121,3, 20190423,     2137, -57.5114,  30.0038,     -999.0,     -999.0,9,      0.153,1,      0.130,1,      4.585,1
325020190403,       I06S,      30,          1,         34,         34,2,20190423,       1920,   -57.5023,    30.0024,       5452,    68.9,   1.2828,  33.9412,2,  33.9417,2,    334.1,2,   331.8,2,    41.5,2,   25.38,2,    0.35,2,    1.69,2,   6.466,2,   2.965,2,   3.8494,2,  -999.0,9, -999.00,9,-999.0000,9,    1.21,2,  -110.3,2,     2.0,   -0.24,2,    41.5,2,   26.35,2,    17.0645,3, 20190423,     2138, -57.5115,  30.0038,     -999.0,     -999.0,9,      0.152,1,      0.131,1,      4.584,1
325020190403,       I06S,      30,          1,         35,         35,2,20190423,       1920,   -57.5023,    30.0024,       5452,    42.7,   1.2823,  33.9413,2,  33.9415,2,    332.9,2,   332.0,2,    41.9,2,   25.08,2,    0.36,2,    1.66,2,   6.811,2,   2.959,2,   3.7547,2,  2179.2,2, 2303.38,2,   7.6830,2, -999.00,9,  -999.0,9,  -999.0,    -0.3,2,  -999.0,9, -999.00,9,    17.2401,3, 20190423,     2139, -57.5115,  30.0038,      25.04,     -999.0,9,      0.151,1,      0.129,1,      4.584,1
325020190403,       I06S,      30,          1,         36,         36,2,20190423,       1920,   -57.5023,    30.0024,       5452,    12.5,   1.2801,  33.9403,2,  33.9415,2,    331.5,2,   332.2,2,    42.0,2,   25.08,2,    0.36,2,    1.66,2,   6.858,2,   2.952,2,   3.9018,2,  2179.7,6, 2305.72,2,   7.6845,2,    1.24,2,  -109.5,2,     1.9,   -0.29,2,    42.7,2,   26.25,2,    17.2016,3, 20190423,     2141, -57.5116,  30.0038,      25.02,     -999.0,9,      0.151,1,      0.130,1,      4.583,1