BOTTLE,20210804CCHSIOCBG
EXPOCODE,SECT_ID,STNNBR,CASTNO,SAMPNO,BTLNBR,BTLNBR_FLAG_W,DATE,TIME,LATITUDE,LONGITUDE,DEPTH,CTDPRS,CTDTMP,CTDSAL,CTDSAL_FLAG_W,SALNTY,SALNTY_FLAG_W,CTDOXY,CTDOXY_FLAG_W,OXYGEN,OXYGEN_FLAG_W,SILCAT,SILCAT_FLAG_W,NITRAT,NITRAT_FLAG_W,NITRIT,NITRIT_FLAG_W,PHSPHT,PHSPHT_FLAG_W,CFC-11,CFC-11_FLAG_W,CFC-12,CFC-12_FLAG_W,SF6,SF6_FLAG_W,TCARBN,TCARBN_FLAG_W,ALKALI,ALKALI_FLAG_W,PH_TOT,PH_TOT_FLAG_W,DELC13,DELC13_FLAG_W,DELC14,DELC14_FLAG_W,C14ERR,DELO18,DELO18_FLAG_W,DOC,DOC_FLAG_W,TDN,TDN_FLAG_W,N2O,N2O_FLAG_W,BTL_DATE,BTL_TIME,BTL_LAT,BTL_LON,PH_TMP,REFTMP,REFTMP_FLAG_W,CTDBACKSCATTER,CTDBACKSCATTER_FLAG_W,CTDFLUOR,CTDFLUOR_FLAG_W,CTDXMISS,CTDXMISS_FLAG_W
,,,,,,,,,,,METERS,DBAR,ITS-90,PSS-78,,PSS-78,,UMOL/KG,,UMOL/KG,,UMOL/KG,,UMOL/KG,,UMOL/KG,,UMOL/KG,,PMOL/KG,,PMOL/KG,,FMOL/KG,,UMOL/KG,,UMOL/KG,,,,/MILLE,,/MILLE,,/MILLE,/MILLE,,UMOL/KG,,UMOL/KG,,NMOL/KG,,,,,,DEG C,ITS-90,,VOLTS,,VOLTS,,VOLTS,
325020190403,       I06S,      14,          1,          1,          1,2,20190418,       2203,   -65.4994,    30.0008,       4711,  4796.4,  -0.2953,   34.655,3,  34.6529,3,    242.0,2,   242.2,2,   139.9,2,   32.69,2,    0.00,2,    2.25,2,   0.714,2,   0.365,2,-999.0000,5,  2250.6,6, 2346.36,3,   7.5998,2, -999.00,9,  -999.0,9,  -999.0,   -0.06,2,    39.8,2,   33.10,2,    22.3863,3, 20190418,     2203, -65.4994,  30.0008,      25.09,    -0.2958,2,      0.138,1,      0.065,1,      4.635,1
325020190403,       I06S,      14,          1,          2,          2,2,20190418,       2203,   -65.4994,    30.0008,       4711,  4590.9,  -0.2528,  34.6522,2,  34.6527,2,    242.9,2,   242.8,2,   132.6,2,   32.63,2,    0.00,2,    2.23,2,-999.000,9,-999.000,9,-999.0000,9,  2251.7,2, 2353.04,2,   7.5995,2, -999.00,9,  -999.0,9,  -999.0,   -0.12,6,    39.0,2,   30.53,2,     -999.0,9, 20190418,     2207, -65.4994,  30.0008,      25.06,    -0.2531,2,      0.128,1,      0.064,1,      4.644,1
325020190403,       I06S,      14,          1,          3,          3,2,20190418,       2203,   -65.4994,    30.0008,       4711,  4283.0,  -0.2356,  34.6529,2,  34.6531,2,    242.5,2,   242.0,2,   125.5,2,   32.36,2,    0.00,2,    2.23,2,   1.057,2,   0.544,2,   0.4677,2,  -999.0,9, -999.00,9,-999.0000,9, -999.00,9,  -999.0,9,  -999.0,   -0.11,2,  -999.0,9, -999.00,9,    23.4121,3, 20190418,     2213, -65.4994,  30.0007,     -999.0,    -0.2359,2,      0.123,1,      0.061,1,      4.645,1
325020190403,       I06S,      14,          1,          4,          4,2,20190418,       2203,   -65.4994,    30.0008,       4711,  3974.4,  -0.2139,  34.6547,2,  34.6552,2,    240.1,2,   240.2,2,   125.2,2,   32.44,2,    0.00,2,    2.23,2,-999.000,9,-999.000,9,-999.0000,9,  -999.0,9, -999.00,9,-999.0000,9, -999.00,9,  -999.0,9,  -999.0,   -0.05,2,    39.6,2,   32.06,2,     -999.0,9, 20190418,     2218, -65.4994,  30.0007,     -999.0,    -0.2135,2,      0.123,1,      0.061,1,      4.645,1
325020190403,       I06S,      14,          1,          5,          5,2,20190418,       2203,   -65.4994,    30.0008,       4711,  3666.4,   -0.185,  34.6565,2,  34.6572,2,    237.0,2,   237.3,2,   125.3,2,   32.70,2,    0.00,2,    2.24,2,   0.931,2,   0.492,2,   0.3607,2,  2253.2,2, 2347.85,3,   7.5959,2, -999.00,9,  -999.0,9,  -999.0,   -0.03,2,    39.7,2,   32.17,2,    24.6505,3, 20190418,     2223, -65.4994,  30.0007,      25.06,    -0.1846,2,      0.123,1,      0.060,1,      4.647,1
325020190403,       I06S,      14,          1,          6,          6,2,20190418,       2203,   -65.4994,    30.0008,       4711,  3357.3,  -0.1502,  34.6591,2,  34.6595,2,    233.5,2,   234.0,2,   126.3,2,   32.67,2,    0.00,2,    2.24,2,-999.000,9,-999.000,9,-999.0000,9,  -999.0,9, -999.00,9,-999.0000,9, -999.00,9,  -999.0,9,  -999.0, -999.00,9,  -999.0,9, -999.00,9,     -999.0,9, 20190418,     2228, -65.4994,  30.0008,     -999.0,    -0.1505,2,      0.122,1,      0.061,1,      4.647,1
325020190403,       I06S,      14,          1,          7,          7,2,20190418,       2203,   -65.4994,    30.0008,       4711,  3050.5,  -0.1074,  34.6605,2,  34.6605,2,    231.0,2,   231.8,2,   125.0,2,   32.65,2,    0.00,2,    2.24,2,   0.835,2,   0.446,2,   0.2988,2,  2254.2,2, 2343.49,3,   7.5927,2, -999.00,9,  -999.0,9,  -999.0,   -0.04,2,    39.1,2,   31.98,2,    24.8654,3, 20190418,     2233, -65.4994,  30.0008,      25.09,    -0.1081,2,      0.124,1,      0.062,1,      4.647,1
325020190403,       I06S,      14,          1,          8,          8,3,20190418,       2203,   -65.4994,    30.0008,       4711,  2794.0,  -0.0464,  34.6683,3,   34.664,3,    225.1,2,   227.3,3,   126.8,3,   32.75,3,    0.00,3,    2.25,3,-999.000,9,-999.000,9,-999.0000,9,  -999.0,9, -999.00,9,-999.0000,9, -999.00,9,  -999.0,9,  -999.0,    0.06,2,    39.2,2,   31.10,2,     -999.0,9, 20190418,     2237, -65.4994,  30.0007,     -999.0,    -0.0441,2,      0.123,1,      0.061,1,      4.648,1
325020190403,       I06S,      14,          1,          9,          9,2,20190418,       2203,   -65.4994,    30.0008,       4711,  2539.7,   0.0238,  34.6675,2,  34.6672,2,    224.5,2,   224.0,2,   124.6,2,   32.78,2,    0.00,2,    2.26,2,   0.726,2,   0.392,2,   0.2958,2,  2256.5,2, 2352.59,2,   7.5889,2, -999.00,9,  -999.0,9,  -999.0, -999.00,9,  -999.0,9, -999.00,9,    20.6236,3, 20190418,     2241, -65.4994,  30.0008,      25.08,     0.0242,2,      0.122,1,      0.061,1,      4.647,1
325020190403,       I06S,      14,          1,         10,         10,2,20190418,       2203,   -65.4994,    30.0008,       4711,  2284.0,   0.1009,  34.6707,2,  34.6711,2,    220.1,2,   220.9,2,   124.9,2,   32.83,2,    0.00,2,    2.26,2,-999.000,9,-999.000,9,-999.0000,9,  -999.0,9, -999.00,9,-999.0000,9, -999.00,9,  -999.0,9,  -999.0, -999.00,9,    40.3,2,   31.56,2,     -999.0,9, 20190418,     2245, -65.4994,  30.0008,     -999.0,     0.1024,2,      0.123,1,      0.062,1,      4.648,1
325020190403,       I06S,      14,          1,         11,         11,2,20190418,       2203,   -65.4994,    30.0008,       4711,  2029.1,   0.1933,  34.6748,2,  34.6754,2,    217.0,2,   217.0,2,   122.9,2,   32.91,2,    0.00,2,    2.26,2,   0.587,2,   0.300,2,   0.2321,2,  2259.0,2, 2351.76,2,   7.5858,2, -999.00,9,  -999.0,9,  -999.0,    0.01,2,    40.1,2,   34.05,2,     24.687,3, 20190418,     2250, -65.4994,  30.0008,      25.09,     0.1965,2,      0.123,1,      0.063,1,      4.648,1
325020190403,       I06S,      14,          1,         12,         12,2,20190418,       2203,   -65.4994,    30.0008,       4711,  1822.8,   0.2865,  34.6802,2,  34.6811,2,    212.2,2,   211.8,2,   123.5,2,   32.94,2,    0.00,2,    2.26,2,-999.000,9,-999.000,9,-999.0000,9,  2260.3,2, 2354.69,2,   7.5822,2, -999.00,9,  -999.0,9,  -999.0, -999.00,9,  -999.0,9, -999.00,9,     -999.0,9, 20190418,     2253, -65.4994,  30.0007,      25.09,     0.2874,2,      0.124,1,      0.063,1,      4.648,1
325020190403,       I06S,      14,          1,         13,         13,2,20190418,       2203,   -65.4994,    30.0008,       4711,  1621.4,   0.3721,  34.6841,2,  34.6841,2,    209.4,2,   209.4,2,   122.6,2,   32.86,2,    0.00,2,    2.26,2,   0.479,2,   0.242,2,   0.1926,2,  2260.7,2, 2353.64,2,   7.5818,2, -999.00,9,  -999.0,9,  -999.0,    -0.0,2,    39.9,2,   33.74,2,    25.8326,3, 20190418,     2256, -65.4994,  30.0007,      25.10,     0.3769,2,      0.125,1,      0.061,1,      4.647,1
325020190403,       I06S,      14,          1,         14,         14,2,20190418,       2203,   -65.4994,    30.0008,       4711,  1416.1,    0.462,  34.6883,2,  34.6882,2,    206.4,2,   206.9,2,   121.0,2,   33.10,2,    0.00,2,    2.26,2,-999.000,9,-999.000,9,-999.0000,9,  2259.4,2, 2351.59,2,   7.5811,2, -999.00,9,  -999.0,9,  -999.0, -999.00,9,    40.8,2,   33.95,2,     -999.0,9, 20190418,     2300, -65.4994,  30.0008,      25.08,     0.4629,2,      0.127,1,      0.061,1,      4.647,1
325020190403,       I06S,      14,          1,         15,         15,2,20190418,       2203,   -65.4994,    30.0008,       4711,  1315.2,   0.5095,  34.6902,2,  34.6907,2,    205.9,2,   206.1,2,   119.5,2,   33.00,2,    0.00,2,    2.25,2,   0.489,2,   0.246,2,   0.1943,2,  2259.1,2, 2351.52,3,   7.5815,2, -999.00,9,  -999.0,9,  -999.0,   -0.05,2,  -999.0,9, -999.00,9,    26.0554,3, 20190418,     2301, -65.4994,  30.0007,      25.10,     0.5098,2,      0.125,1,      0.062,1,      4.647,1
325020190403,       I06S,      14,          1,         16,         16,2,20190418,       2203,   -65.4994,    30.0008,       4711,  1212.7,   0.5575,  34.6921,2,  34.6933,2,    205.6,2,   205.6,2,   117.4,2,   32.59,2,    0.00,2,    2.24,2,-999.000,9,-999.000,9,-999.0000,9,  2256.0,2, 2350.13,2,   7.5830,2, -999.00,9,  -999.0,9,  -999.0, -999.00,9,    40.2,2,   33.90,2,     -999.0,9, 20190418,     2303, -65.4994,  30.0008,      25.09,     0.5582,2,      0.126,1,      0.062,1,      4.647,1
325020190403,       I06S,      14,          1,         17,         17,2,20190418,       2203,   -65.4994,    30.0008,       4711,  1113.6,   0.6051,  34.6942,2,  34.6939,2,    204.5,2,   205.0,2,   115.7,2,   32.73,2,    0.00,2,    2.23,2,   0.514,2,   0.260,2,   0.2127,2,  2258.2,2, 2353.37,2,   7.5842,2, -999.00,9,  -999.0,9,  -999.0,   -0.01,2,    40.4,2,   35.33,2,    26.6183,3, 20190418,     2305, -65.4994,  30.0008,      25.10,     0.6119,2,      0.128,1,      0.062,1,      4.647,1
325020190403,       I06S,      14,          1,         18,         18,2,20190418,       2203,   -65.4994,    30.0008,       4711,  1011.5,   0.6544,  34.6953,2,  34.6949,2,    205.1,2,   206.0,2,   112.6,2,   32.38,2,    0.00,2,    2.21,2,-999.000,9,-999.000,9,-999.0000,9,  2257.5,2, 2353.54,2,   7.5867,2, -999.00,9,  -999.0,9,  -999.0, -999.00,9,  -999.0,9, -999.00,9,     -999.0,9, 20190418,     2306, -65.4994,  30.0008,      25.10,     0.6552,2,      0.128,1,      0.062,1,      4.646,1
325020190403,       I06S,      14,          1,         19,         19,2,20190418,       2203,   -65.4994,    30.0008,       4711,   909.5,   0.7322,  34.6978,2,  34.6964,2,    205.2,2,   206.0,2,   110.1,2,   32.21,2,    0.00,2,    2.20,2,   0.575,2,   0.303,2,   0.2208,2,  2254.9,2, 2355.03,2,   7.5880,2, -999.00,9,  -999.0,9,  -999.0,    0.05,6,    41.0,2,   35.25,2,    26.6695,3, 20190418,     2308, -65.4994,  30.0007,      25.10,     0.7356,2,      0.130,1,      0.063,1,      4.646,1
325020190403,       I06S,      14,          1,         20,         20,2,20190418,       2203,   -65.4994,    30.0008,       4711,   808.5,   0.7945,  34.6988,2,  34.6976,2,    205.2,2,   205.3,2,   106.4,2,   32.14,2,    0.00,2,    2.19,2,-999.000,9,-999.000,9,-999.0000,9,  2254.9,2, 2352.67,2,   7.5891,2, -999.00,9,  -999.0,9,  -999.0, -999.00,9,    40.7,2,   34.69,2,     -999.0,9, 20190418,     2310, -65.4994,  30.0008,      25.09,     0.7912,2,      0.129,1,      0.063,1,      4.646,1
325020190403,       I06S,      14,          1,         21,         21,2,20190418,       2203,   -65.4994,    30.0008,       4711,   707.8,   0.9658,  34.7091,2,  34.7088,2,    200.2,2,   200.4,2,   106.3,2,   32.13,2,    0.00,2,    2.19,2,   0.479,2,   0.252,2,   0.2919,2,  2259.2,2, 2350.78,2,   7.5885,2, -999.00,9,  -999.0,9,  -999.0,    0.11,2,  -999.0,9, -999.00,9,    26.9773,3, 20190418,     2312, -65.4994,  30.0007,      25.10,     0.9718,2,      0.132,1,      0.062,1,      4.646,1
325020190403,       I06S,      14,          1,         22,         22,2,20190418,       2203,   -65.4994,    30.0008,       4711,   602.9,   1.0576,  34.7108,2,  34.7115,2,    198.5,2,   199.3,2,   102.9,2,   32.01,2,    0.00,2,    2.18,2,-999.000,9,-999.000,9,-999.0000,9,  2257.7,6, 2350.01,2,   7.5875,2, -999.00,9,  -999.0,9,  -999.0, -999.00,9,    39.3,2,   34.82,2,     -999.0,9, 20190418,     2313, -65.4994,  30.0008,      25.10,     1.0643,2,      0.131,1,      0.061,1,      4.644,1
325020190403,       I06S,      14,          1,         23,         23,2,20190418,       2203,   -65.4994,    30.0008,       4711,   504.4,   1.1424,  34.7087,2,  34.7164,2,    198.0,2,   198.3,2,   100.3,2,   31.96,2,    0.00,2,    2.19,2,   0.548,2,   0.297,2,   0.2707,2,  2255.9,2, 2351.36,2,   7.5856,2, -999.00,9,  -999.0,9,  -999.0,    0.07,2,    39.7,2,   34.09,2,    27.1801,3, 20190418,     2315, -65.4994,  30.0008,      25.09,     1.1609,2,      0.135,1,      0.063,1,      4.643,1
325020190403,       I06S,      14,          1,         24,         24,2,20190418,       2203,   -65.4994,    30.0008,       4711,   403.2,   1.1279,  34.6949,2,  34.6947,2,    199.3,2,   198.4,2,    95.9,2,   31.95,2,    0.00,2,    2.18,2,-999.000,9,-999.000,9,-999.0000,9,  2255.7,2, 2347.83,2,   7.5810,2, -999.00,9,  -999.0,9,  -999.0, -999.00,9,  -999.0,9, -999.00,9,     -999.0,9, 20190418,     2317, -65.4994,  30.0007,      25.11,     1.1344,2,      0.136,1,      0.064,1,      4.641,1
325020190403,       I06S,      14,          1,         25,         25,2,20190418,       2203,   -65.4994,    30.0008,       4711,   353.4,   1.0689,  34.6818,2,  34.6794,2,    201.1,2,   200.4,2,    93.1,2,   32.17,2,    0.02,2,    2.18,2,   0.944,2,   0.516,2,   0.4909,2,  2253.8,2, 2348.31,2,   7.5776,2, -999.00,9,  -999.0,9,  -999.0,    0.06,2,    39.6,2,   35.18,2,    27.6298,3, 20190418,     2317, -65.4994,  30.0008,      25.10,     1.0511,2,      0.139,1,      0.063,1,      4.640,1
325020190403,       I06S,      14,          1,         26,         26,2,20190418,       2203,   -65.4994,    30.0008,       4711,   298.8,   1.0298,  34.6657,2,  34.6644,2,    201.5,2,   201.2,2,    91.7,2,   32.44,2,    0.02,2,    2.20,2,-999.000,9,-999.000,9,-999.0000,9,  2252.8,2, 2343.45,2,   7.5721,2, -999.00,9,  -999.0,9,  -999.0, -999.00,9,    39.6,2,   37.38,3,     -999.0,9, 20190418,     2318, -65.4994,  30.0008,      25.10,     1.0216,2,      0.144,1,      0.065,1,      4.635,1
325020190403,       I06S,      14,          1,         27,         27,2,20190418,       2203,   -65.4994,    30.0008,       4711,   251.4,   0.7711,  34.6298,2,  34.6338,2,    209.0,2,   208.6,2,    88.5,2,   32.41,2,    0.03,2,    2.20,2,   1.543,2,   0.824,2,   0.7832,2,  2250.9,2, 2340.65,2,   7.5687,2, -999.00,9,  -999.0,9,  -999.0,    0.05,2,  -999.0,9, -999.00,9,    28.5901,3, 20190418,     2319, -65.4994,  30.0008,      25.11,     0.7636,2,      0.147,1,      0.068,1,      4.633,1
325020190403,       I06S,      14,          1,         28,         28,2,20190418,       2203,   -65.4994,    30.0008,       4711,   201.4,   0.4468,  34.5775,2,  34.5773,2,    221.6,2,   220.9,2,    84.0,2,   32.66,2,    0.03,2,    2.21,2,-999.000,9,-999.000,9,-999.0000,9,  2250.5,2, 2336.57,2,   7.5664,2, -999.00,9,  -999.0,9,  -999.0, -999.00,9,    41.4,2,   33.47,2,     -999.0,9, 20190418,     2320, -65.4994,  30.0008,      25.10,      0.433,3,      0.150,1,      0.081,1,      4.625,1
325020190403,       I06S,      14,          1,         29,         29,2,20190418,       2203,   -65.4994,    30.0008,       4711,   150.1,  -0.8392,   34.439,2,   34.435,2,    269.5,2,   271.1,2,    70.4,2,   31.61,2,    0.04,2,    2.14,2,   3.876,2,   2.038,2,   2.3190,2,  2234.6,2, 2324.93,2,   7.5831,2, -999.00,9,  -999.0,9,  -999.0,    -0.1,2,    41.0,2,   33.26,2,    26.9325,3, 20190418,     2321, -65.4994,  30.0008,      25.08,    -0.9899,3,      0.161,1,      0.101,1,      4.619,1
325020190403,       I06S,      14,          1,         30,         30,2,20190418,       2203,   -65.4994,    30.0008,       4711,   100.0,    -1.79,  34.3469,2,  34.3445,2,    306.1,3,   312.1,2,    59.7,2,   30.45,2,    0.11,2,    2.06,2,-999.000,9,-999.000,9,-999.0000,9,  2221.5,2, 2324.53,2,   7.6012,2, -999.00,9,  -999.0,9,  -999.0,   -0.19,2,  -999.0,9, -999.00,9,     -999.0,9, 20190418,     2322, -65.4994,  30.0009,      25.08,    -1.7992,2,      0.185,1,      0.165,1,      4.583,1
325020190403,       I06S,      14,          1,         31,         31,2,20190418,       2203,   -65.4994,    30.0008,       4711,    74.5,  -1.7684,  34.3366,2,  34.3366,2,    313.1,2,   313.0,2,    59.1,2,   30.15,2,    0.25,2,    2.05,2,   5.176,2,   2.753,2,   3.3681,2,  2220.4,2, 2323.49,2,   7.6036,2, -999.00,9,  -999.0,9,  -999.0,    -0.1,2,    41.5,2,   29.84,2,    25.1417,3, 20190418,     2322, -65.4994,  30.0008,      25.07,    -1.7693,2,      0.203,1,      0.193,1,      4.582,1
325020190403,       I06S,      14,          1,         32,         32,2,20190418,       2203,   -65.4994,    30.0008,       4711,    46.1,  -0.7828,  33.9907,3,-999.0000,9,    344.1,3,  -999.0,9,  -999.0,9, -999.00,9, -999.00,9, -999.00,9,-999.000,9,-999.000,9,-999.0000,9,  -999.0,9, -999.00,9,-999.0000,9, -999.00,9,  -999.0,9,  -999.0, -999.00,9,  -999.0,9, -999.00,9,     -999.0,9, 20190418,     2323, -65.4994,  30.0008,     -999.0,    -0.7835,2,      0.297,1,      0.445,1,      4.510,1
325020190403,       I06S,      14,          1,         33,         33,2,20190418,       2203,   -65.4994,    30.0008,       4711,    46.2,  -0.7814,  33.9919,2,  33.9945,2,    344.1,2,   342.5,2,    45.0,2,   26.45,2,    0.23,2,    1.76,2,   5.861,2,   3.126,2,   4.0048,2,  2182.6,2, 2303.82,2,   7.6675,2, -999.00,9,  -999.0,9,  -999.0,   -0.31,2,    43.5,2,   29.11,2,    22.8283,3, 20190418,     2323, -65.4994,  30.0007,      25.06,     -999.0,9,      0.285,1,      0.411,1,      4.512,1
325020190403,       I06S,      14,          1,         34,         34,2,20190418,       2203,   -65.4994,    30.0008,       4711,    23.2,  -0.7831,  33.9914,2,  33.9913,2,    343.0,2,   342.4,2,    45.2,2,   26.58,2,    0.23,2,    1.75,2,-999.000,9,-999.000,9,-999.0000,9,  2181.9,2, 2286.99,3,   7.6693,2, -999.00,9,  -999.0,9,  -999.0,   -0.25,2,    42.4,2,   27.78,2,     -999.0,9, 20190418,     2324, -65.4994,  30.0007,      25.03,    -0.7847,2,      0.260,1,      0.381,1,      4.512,1
325020190403,       I06S,      14,          1,         35,         35,2,20190418,       2203,   -65.4994,    30.0008,       4711,     5.4,  -0.7883,  33.9908,2,  33.9909,2,    342.1,2,   342.8,2,    45.1,2,   26.37,2,    0.22,2,    1.75,2,   5.889,2,   3.119,2,   3.8206,2,  2184.0,6, 2313.03,2,   7.6691,2, -999.00,9,  -999.0,9,  -999.0,   -0.34,6,  -999.0,9, -999.00,9,    22.5648,3, 20190418,     2325, -65.4994,  30.0008,      25.08,    -0.7903,2,      0.281,1,      0.394,1,      4.514,1
325020190403,       I06S,      14,          1,         36,         36,2,20190418,       2203,   -65.4994,    30.0008,       4711,     5.2,  -0.7898,    33.99,3,-999.0000,9,    342.1,3,  -999.0,9,  -999.0,9, -999.00,9, -999.00,9, -999.00,9,-999.000,9,-999.000,9,-999.0000,9,  -999.0,9, -999.00,9,-999.0000,9, -999.00,9,  -999.0,9,  -999.0, -999.00,9,    44.4,2,   28.33,2,     -999.0,9, 20190418,     2325, -65.4994,  30.0008,     -999.0,     -999.0,9,      0.263,1,      0.373,1,      4.513,1