BOTTLE,20210804CCHSIOCBG
EXPOCODE,SECT_ID,STNNBR,CASTNO,SAMPNO,BTLNBR,BTLNBR_FLAG_W,DATE,TIME,LATITUDE,LONGITUDE,DEPTH,CTDPRS,CTDTMP,CTDSAL,CTDSAL_FLAG_W,SALNTY,SALNTY_FLAG_W,CTDOXY,CTDOXY_FLAG_W,OXYGEN,OXYGEN_FLAG_W,SILCAT,SILCAT_FLAG_W,NITRAT,NITRAT_FLAG_W,NITRIT,NITRIT_FLAG_W,PHSPHT,PHSPHT_FLAG_W,CFC-11,CFC-11_FLAG_W,CFC-12,CFC-12_FLAG_W,SF6,SF6_FLAG_W,TCARBN,TCARBN_FLAG_W,ALKALI,ALKALI_FLAG_W,PH_TOT,PH_TOT_FLAG_W,DELC13,DELC13_FLAG_W,DELC14,DELC14_FLAG_W,C14ERR,DELO18,DELO18_FLAG_W,DOC,DOC_FLAG_W,TDN,TDN_FLAG_W,N2O,N2O_FLAG_W,BTL_DATE,BTL_TIME,BTL_LAT,BTL_LON,PH_TMP,REFTMP,REFTMP_FLAG_W,CTDBACKSCATTER,CTDBACKSCATTER_FLAG_W,CTDFLUOR,CTDFLUOR_FLAG_W,CTDXMISS,CTDXMISS_FLAG_W
,,,,,,,,,,,METERS,DBAR,ITS-90,PSS-78,,PSS-78,,UMOL/KG,,UMOL/KG,,UMOL/KG,,UMOL/KG,,UMOL/KG,,UMOL/KG,,PMOL/KG,,PMOL/KG,,FMOL/KG,,UMOL/KG,,UMOL/KG,,,,/MILLE,,/MILLE,,/MILLE,/MILLE,,UMOL/KG,,UMOL/KG,,NMOL/KG,,,,,,DEG C,ITS-90,,VOLTS,,VOLTS,,VOLTS,
325020190403,       I06S,      55,          1,          1,          1,2,20190511,       1759,   -38.4994,    30.0015,       4301,  4368.6,   1.0759,  34.7286,2,  34.7298,2,    215.9,2,   215.8,2,   107.6,2,   30.68,2,    0.00,2,    2.36,3,   0.163,2,   0.082,2,   0.0000,2,  2253.7,6, 2365.11,2,   7.6273,3, -999.00,9,  -999.0,9,  -999.0,    2.43,4,    38.1,2,   31.53,2,    19.4871,3, 20190511,     1759, -38.4994,  30.0015,      25.06,     1.0756,2,      0.198,1,      0.060,1,      4.691,1
325020190403,       I06S,      55,          1,          2,          2,2,20190511,       1759,   -38.4994,    30.0015,       4301,  4274.6,   1.1701,  34.7359,2,  34.7365,2,    216.1,2,   215.9,2,   104.0,2,   30.37,2,    0.00,2,    2.13,2,   0.141,6,   0.075,6,   0.0550,6,  2249.8,2, 2366.24,2,   7.6293,3, -999.00,9,  -999.0,9,  -999.0,    0.69,3,    39.2,2,   32.79,2,    19.5849,3, 20190511,     1802, -38.4994,  30.0014,      25.06,     1.1708,2,      0.183,1,      0.061,1,      4.699,1
325020190403,       I06S,      55,          1,          3,          3,2,20190511,       1759,   -38.4994,    30.0015,       4301,  4179.4,   1.2743,   34.744,3,  34.7465,2,    216.1,2,   215.7,2,   100.3,2,   30.01,2,    0.00,2,    2.07,2,   0.115,2,   0.063,2,   0.0562,2,  2248.0,2, 2360.42,2,   7.6319,3, -999.00,9,  -999.0,9,  -999.0,    0.15,3,  -999.0,9, -999.00,9,    18.7221,3, 20190511,     1804, -38.4994,  30.0014,      25.08,     1.2741,2,      0.156,1,      0.061,1,      4.714,1
325020190403,       I06S,      55,          1,          4,          4,2,20190511,       1759,   -38.4994,    30.0015,       4301,  3872.2,   1.5559,  34.7659,2,  34.7667,2,    216.1,2,   215.8,2,    90.6,2,   29.04,2,    0.00,2,    2.01,2,-999.000,9,-999.000,9,-999.0000,9,  2240.4,2, 2355.07,2,   7.6409,3, -999.00,9,  -999.0,9,  -999.0,    0.41,3,    37.2,2,   28.08,2,     -999.0,9, 20190511,     1810, -38.4994,  30.0015,      25.08,     1.5554,2,      0.135,1,      0.060,1,      4.724,1
325020190403,       I06S,      55,          1,          5,          5,2,20190511,       1759,   -38.4994,    30.0015,       4301,  3564.4,   1.9582,  34.7969,2,  34.7975,2,    216.9,2,   216.9,2,    76.3,2,   27.60,2,    0.00,2,    1.88,2,   0.045,2,   0.027,2,   0.0000,2,  2230.4,2, 2348.41,2,   7.6548,3, -999.00,9,  -999.0,9,  -999.0,    0.48,3,    38.0,2,   27.37,2,    17.7577,3, 20190511,     1817, -38.4994,  30.0015,      25.09,     1.9569,2,      0.132,1,      0.061,1,      4.728,1
325020190403,       I06S,      55,          1,          6,          6,2,20190511,       1759,   -38.4994,    30.0015,       4301,  3258.5,   2.2177,  34.8141,2,   34.815,2,    217.2,2,   217.6,2,    67.0,2,   26.78,2,    0.00,2,    1.85,2,   0.030,2,   0.020,2,   0.0835,2,  2222.3,2, 2344.30,2,   7.6622,3, -999.00,9,  -999.0,9,  -999.0, -999.00,9,  -999.0,9, -999.00,9,    17.6342,3, 20190511,     1823, -38.4994,  30.0015,      25.09,     2.2171,2,      0.131,1,      0.061,1,      4.729,1
325020190403,       I06S,      55,          1,          7,          7,2,20190511,       1759,   -38.4994,    30.0015,       4301,  2965.4,   2.4194,  34.8178,2,  34.8189,2,    215.3,2,   215.2,2,    61.6,2,   26.56,2,    0.00,2,    1.82,2,   0.028,2,   0.018,2,   0.0000,2,  2219.3,2, 2339.90,2,   7.6606,3, -999.00,9,  -999.0,9,  -999.0,    0.76,3,    38.4,2,   26.78,2,    18.3592,3, 20190511,     1829, -38.4994,  30.0014,      25.09,     2.4189,2,      0.130,1,      0.060,1,      4.728,1
325020190403,       I06S,      55,          1,          8,          8,2,20190511,       1759,   -38.4994,    30.0015,       4301,  2711.4,    2.508,  34.8023,2,  34.8036,2,    206.8,2,   207.6,2,    63.9,2,   27.48,2,    0.00,2,    1.85,2,-999.000,9,-999.000,9,-999.0000,9,  2223.8,2, 2341.03,2,   7.6483,3, -999.00,9,  -999.0,9,  -999.0, -999.00,9,    38.5,2,   26.14,2,     -999.0,9, 20190511,     1835, -38.4996,  30.0014,      25.09,     2.5075,2,      0.129,1,      0.061,1,      4.728,1
325020190403,       I06S,      55,          1,          9,          9,2,20190511,       1759,   -38.4994,    30.0015,       4301,  2456.7,    2.663,  34.7827,2,  34.7838,2,    199.5,2,   199.8,2,    62.8,2,   28.29,2,    0.00,2,    1.92,2,   0.047,2,   0.030,2,   0.0000,2,  2228.6,2, 2339.80,2,   7.6346,3, -999.00,9,  -999.0,9,  -999.0,    0.44,3,  -999.0,9, -999.00,9,    19.5949,3, 20190511,     1840, -38.4999,  30.0013,      25.10,     2.6633,2,      0.134,1,      0.062,1,      4.728,1
325020190403,       I06S,      55,          1,         10,         10,2,20190511,       1759,   -38.4994,    30.0015,       4301,  2200.9,   2.7959,  34.7401,2,  34.7416,2,    186.9,2,   188.1,2,    65.7,2,   29.88,2,    0.00,2,    2.04,2,   0.105,2,   0.063,2,   0.0702,2,  2236.8,2, 2338.50,2,   7.6125,3, -999.00,9,  -999.0,9,  -999.0, -999.00,9,    37.7,2,   28.81,2,    22.4805,3, 20190511,     1846, -38.5005,  30.0011,      25.09,     2.7953,2,      0.131,1,      0.062,1,      4.727,1
325020190403,       I06S,      55,          1,         11,         11,2,20190511,       1759,   -38.4994,    30.0015,       4301,  1966.0,   2.9963,  34.6704,2,  34.6719,2,    171.9,2,   172.5,2,    70.1,2,   32.09,2,    0.00,2,    2.20,2,   0.226,2,   0.110,2,   0.0661,2,  2246.8,2, 2340.88,2,   7.5836,3, -999.00,9,  -999.0,9,  -999.0,    1.45,4,    38.2,2,   31.79,2,    24.9811,3, 20190511,     1851, -38.5009,  30.0010,      25.09,     2.9947,2,      0.132,1,      0.064,1,      4.727,1
325020190403,       I06S,      55,          1,         12,         12,2,20190511,       1759,   -38.4994,    30.0015,       4301,  1764.1,   3.2963,  34.5854,2,  34.5868,2,    166.6,2,   166.7,2,    66.7,2,   33.31,2,    0.00,2,    2.30,2,-999.000,9,-999.000,9,-999.0000,9,  2247.3,6, 2333.14,2,   7.5680,3, -999.00,9,  -999.0,9,  -999.0, -999.00,9,  -999.0,9, -999.00,9,     -999.0,9, 20190511,     1856, -38.5014,  30.0008,      25.10,      3.294,2,      0.131,1,      0.061,1,      4.726,1
325020190403,       I06S,      55,          1,         13,         13,2,20190511,       1759,   -38.4994,    30.0015,       4301,  1591.7,    3.779,  34.5077,2,  34.5089,2,    171.5,3,   169.0,2,    57.6,2,   33.37,2,    0.00,2,    2.28,2,   1.199,2,   0.488,2,   0.2012,2,  2235.4,2, 2323.49,2,   7.5682,3, -999.00,9,  -999.0,9,  -999.0,    0.32,3,    38.7,2,   31.77,2,    26.1156,3, 20190511,     1900, -38.5018,  30.0007,      25.11,     3.7783,2,      0.134,1,      0.063,1,      4.725,1
325020190403,       I06S,      55,          1,         14,         14,2,20190511,       1759,   -38.4994,    30.0015,       4301,  1489.8,   4.0427,  34.4655,2,  34.4703,2,    176.3,2,   175.0,2,    51.4,2,   32.84,2,    0.00,2,    2.25,2,   1.516,2,   0.666,2,   0.3950,2,  2229.3,2, 2316.84,2,   7.5757,3, -999.00,9,  -999.0,9,  -999.0, -999.00,9,    39.4,2,   32.90,2,    25.6395,3, 20190511,     1902, -38.5021,  30.0006,      25.12,     4.0457,2,      0.132,1,      0.062,1,      4.725,1
325020190403,       I06S,      55,          1,         15,         15,2,20190511,       1759,   -38.4994,    30.0015,       4301,  1387.8,   4.3278,   34.413,2,  34.4138,2,    188.9,2,   187.9,2,    41.9,2,   31.78,2,    0.00,2,    2.14,2,   1.965,2,   0.990,2,   0.5527,2,  2213.8,2, 2307.43,2,   7.5905,3, -999.00,9,  -999.0,9,  -999.0,    0.54,3,  -999.0,9, -999.00,9,    24.2262,3, 20190511,     1905, -38.5024,  30.0005,      25.10,     4.3268,2,      0.137,1,      0.060,1,      4.723,1
325020190403,       I06S,      55,          1,         16,         16,2,20190511,       1759,   -38.4994,    30.0015,       4301,  1284.6,   4.9252,  34.3865,2,  34.3852,2,    198.9,2,   199.7,2,    32.4,2,   30.13,2,    0.00,2,    2.03,2,-999.000,9,-999.000,9,-999.0000,9,  2199.5,2, 2298.89,2,   7.6107,3, -999.00,9,  -999.0,9,  -999.0, -999.00,9,    39.9,2,   29.33,2,     -999.0,9, 20190511,     1908, -38.5027,  30.0004,      25.11,     4.9119,2,      0.136,1,      0.061,1,      4.722,1
325020190403,       I06S,      55,          1,         17,         17,2,20190511,       1759,   -38.4994,    30.0015,       4301,  1184.7,   5.5971,  34.3864,2,  34.3903,2,    206.4,2,   207.0,2,    24.3,2,   28.11,2,    0.00,2,    1.87,2,   2.706,2,   1.541,2,   1.0777,2,  2185.1,2, 2292.72,2,   7.6319,3, -999.00,9,  -999.0,9,  -999.0,    0.37,3,    40.8,2,   27.85,2,     20.497,3, 20190511,     1911, -38.5030,  30.0003,      25.10,     5.6046,2,      0.135,1,      0.060,1,      4.722,1
325020190403,       I06S,      55,          1,         18,         18,2,20190511,       1759,   -38.4994,    30.0015,       4301,  1082.3,   7.0643,  34.5153,2,  34.5146,2,    197.2,2,   195.8,2,    20.9,2,   25.79,2,    0.00,2,    1.71,2,   2.592,2,   1.462,2,   1.0263,2,  2178.1,2, 2295.39,2,   7.6546,3, -999.00,9,  -999.0,9,  -999.0, -999.00,9,  -999.0,9, -999.00,9,    19.7304,3, 20190511,     1914, -38.5033,  30.0002,      25.10,     7.0539,2,      0.137,1,      0.060,1,      4.721,1
325020190403,       I06S,      55,          1,         19,         19,2,20190511,       1759,   -38.4994,    30.0015,       4301,   982.4,   8.6703,  34.6408,2,   34.645,2,    206.3,2,   205.1,2,    12.1,2,   21.07,2,    0.00,2,    1.41,2,   2.846,2,   1.669,2,   1.1881,2,  2157.9,2, 2294.41,2,   7.7061,3, -999.00,9,  -999.0,9,  -999.0,    0.37,3,    41.1,2,   21.30,2,    16.7515,3, 20190511,     1917, -38.5037,  30.0001,      25.10,     8.6626,2,      0.136,1,      0.061,1,      4.722,1
325020190403,       I06S,      55,          1,         20,         20,2,20190511,       1759,   -38.4994,    30.0015,       4301,   879.4,  10.0355,  34.7873,2,  34.7898,2,    214.2,2,   212.6,2,     7.7,2,   17.09,2,    0.00,2,    1.14,2,-999.000,9,-999.000,9,-999.0000,9,  2143.8,2, 2298.04,2,   7.7508,3, -999.00,9,  -999.0,9,  -999.0, -999.00,9,    42.7,2,   18.39,2,     -999.0,9, 20190511,     1920, -38.5040,  30.0000,      25.12,    10.0309,2,      0.136,1,      0.060,1,      4.719,1
325020190403,       I06S,      55,          1,         21,         21,2,20190511,       1759,   -38.4994,    30.0015,       4301,   780.7,  11.0672,  34.9244,2,   34.923,2,    214.9,2,   215.1,2,     6.1,2,   14.58,2,    0.00,2,    0.99,2,   2.882,2,   1.770,2,   1.4540,2,  2137.0,2, 2303.07,2,   7.7782,3, -999.00,9,  -999.0,9,  -999.0,    0.65,3,  -999.0,9, -999.00,9,    13.8874,3, 20190511,     1923, -38.5043,  29.9999,      25.11,     11.068,2,      0.138,1,      0.059,1,      4.718,1
325020190403,       I06S,      55,          1,         22,         22,2,20190511,       1759,   -38.4994,    30.0015,       4301,   679.3,  12.1456,  35.0775,2,  35.0798,2,    214.9,2,   215.1,2,     5.1,2,   12.11,2,    0.00,2,    0.83,2,   2.793,2,   1.735,2,   1.5776,2,  2128.2,2, 2310.40,2,   7.8058,3, -999.00,9,  -999.0,9,  -999.0, -999.00,9,    46.1,2,   13.24,2,      12.94,3, 20190511,     1925, -38.5047,  29.9998,      25.10,    12.1518,2,      0.143,1,      0.059,1,      4.716,1
325020190403,       I06S,      55,          1,         23,         23,2,20190511,       1759,   -38.4994,    30.0015,       4301,   577.2,  13.2489,  35.2166,2,    35.22,2,    213.1,2,   211.7,2,     4.4,2,   10.08,2,    0.00,2,    0.69,2,   2.656,2,   1.660,2,   1.7412,2,  2126.0,2, 2315.63,2,   7.8281,3, -999.00,9,  -999.0,9,  -999.0,    0.99,3,    46.3,2,   11.49,2,    12.2538,3, 20190511,     1928, -38.5051,  29.9997,      25.10,    13.2525,2,      0.138,1,      0.060,1,      4.714,1
325020190403,       I06S,      55,          1,         24,         24,2,20190511,       1759,   -38.4994,    30.0015,       4301,   497.1,  14.4687,  35.3535,2,  35.3534,2,    205.3,2,   203.7,2,     4.7,2,    8.47,2,    0.00,2,    0.60,2,-999.000,9,-999.000,9,-999.0000,9,  2120.6,2, 2321.42,2,   7.8491,3, -999.00,9,  -999.0,9,  -999.0, -999.00,9,  -999.0,9, -999.00,9,     -999.0,9, 20190511,     1930, -38.5054,  29.9996,      25.10,    14.4674,2,      0.136,1,      0.059,1,      4.713,1
325020190403,       I06S,      55,          1,         25,         25,2,20190511,       1759,   -38.4994,    30.0015,       4301,   447.8,  15.0832,  35.4131,2,  35.4146,2,    202.4,2,   202.3,2,     4.6,2,    7.67,2,    0.00,2,    0.54,2,   2.429,2,   1.524,2,   1.7529,2,  2117.0,6, 2324.15,2,   7.8636,3, -999.00,9,  -999.0,9,  -999.0,    1.01,3,    44.4,2,    9.22,2,    11.4659,3, 20190511,     1932, -38.5056,  29.9995,      25.11,    15.0963,2,      0.136,1,      0.060,1,      4.714,1
325020190403,       I06S,      55,          1,         26,         26,2,20190511,       1759,   -38.4994,    30.0015,       4301,   394.4,  15.8099,  35.4741,2,  35.4739,2,    199.4,2,   199.8,2,     4.5,2,    6.91,2,    0.00,2,    0.48,2,   2.343,2,   1.471,2,   1.7074,2,  2110.8,2, 2326.39,2,   7.8777,3, -999.00,9,  -999.0,9,  -999.0, -999.00,9,    46.7,2,    8.86,2,    11.1201,3, 20190511,     1934, -38.5058,  29.9995,      25.10,    15.8017,2,      0.138,1,      0.061,1,      4.712,1
325020190403,       I06S,      55,          1,         27,         27,2,20190511,       1759,   -38.4994,    30.0015,       4301,   345.4,  16.4656,  35.5304,2,    35.53,2,    203.6,2,   203.2,2,     4.2,2,    5.80,2,    0.00,2,    0.40,2,   2.284,2,   1.423,2,   1.6865,2,  2102.6,2, 2327.86,2,   7.8987,3, -999.00,9,  -999.0,9,  -999.0,    0.99,3,  -999.0,9, -999.00,9,    10.4893,3, 20190511,     1936, -38.5060,  29.9994,      25.12,    16.4712,2,      0.137,1,      0.061,1,      4.712,1
325020190403,       I06S,      55,          1,         28,         28,2,20190511,       1759,   -38.4994,    30.0015,       4301,   294.6,  17.0099,  35.5631,2,  35.5631,2,    205.4,2,   204.8,2,     3.7,2,    4.94,2,    0.00,2,    0.35,2,   2.240,2,   1.400,2,   1.7678,2,  2093.7,2, 2329.55,2,   7.9151,3, -999.00,9,  -999.0,9,  -999.0, -999.00,9,    46.8,2,    7.66,2,     9.9471,3, 20190511,     1938, -38.5062,  29.9993,      25.11,    17.0155,2,      0.140,1,      0.060,1,      4.709,1
325020190403,       I06S,      55,          1,         29,         29,2,20190511,       1759,   -38.4994,    30.0015,       4301,   244.3,  17.5235,  35.5815,2,  35.5806,2,    204.0,2,   202.8,2,     3.6,2,    4.49,2,    0.00,2,    0.31,2,   2.195,2,   1.365,2,   1.8038,2,  2091.0,2, 2330.19,2,   7.9247,3, -999.00,9,  -999.0,9,  -999.0,    1.12,3,    50.6,2,    7.52,2,     9.7082,3, 20190511,     1939, -38.5064,  29.9993,      25.14,    17.5242,2,      0.139,1,      0.060,1,      4.708,1
325020190403,       I06S,      55,          1,         30,         30,2,20190511,       1759,   -38.4994,    30.0015,       4301,   193.9,  18.2854,  35.5742,2,  35.5733,2,    195.2,3,   198.0,2,     3.4,2,    3.84,2,    0.00,2,    0.28,2,   2.142,2,   1.315,2,   1.6910,2,  2086.5,2, 2329.68,3,   7.9326,3, -999.00,9,  -999.0,9,  -999.0,    1.07,3,  -999.0,9, -999.00,9,     9.7486,3, 20190511,     1941, -38.5067,  29.9992,      25.11,    18.2858,2,      0.149,1,      0.066,1,      4.703,1
325020190403,       I06S,      55,          1,         31,         31,2,20190511,       1759,   -38.4994,    30.0015,       4301,   143.3,  20.0999,  35.6133,2,  35.6131,2,    217.2,2,   217.4,2,     2.0,2,    0.64,2,    0.10,2,    0.10,2,   2.005,2,   1.219,2,   1.7183,2,  2048.8,2, 2332.41,2,   8.0002,3, -999.00,9,  -999.0,9,  -999.0,    1.08,3,    61.3,2,    4.32,2,     8.0931,3, 20190511,     1943, -38.5069,  29.9991,      25.10,    20.0983,2,      0.182,1,      0.129,1,      4.661,1
325020190403,       I06S,      55,          1,         32,         32,2,20190511,       1759,   -38.4994,    30.0015,       4301,    97.7,  20.1644,  35.6227,2,  35.6228,2,    217.9,3,   220.7,2,     2.0,2,    0.26,2,    0.11,2,    0.08,2,   2.002,2,   1.223,2,   1.7184,2,  2043.3,2, 2332.37,2,   8.0089,3, -999.00,9,  -999.0,9,  -999.0,    1.05,3,    62.1,2,    4.14,2,     7.9695,3, 20190511,     1945, -38.5071,  29.9991,      25.05,    20.1648,2,      0.191,1,      0.154,1,      4.643,1
325020190403,       I06S,      55,          1,         33,         33,2,20190511,       1759,   -38.4994,    30.0015,       4301,    73.9,  20.1626,  35.6224,2,   35.623,2,    218.5,3,   220.8,2,     2.0,2,    0.25,2,    0.11,2,    0.09,2,   1.996,2,   1.215,2,   1.6872,2,  2044.6,2, 2331.96,2,   8.0090,3, -999.00,9,  -999.0,9,  -999.0,    0.98,3,  -999.0,9, -999.00,9,     7.9344,3, 20190511,     1946, -38.5074,  29.9990,      25.11,    20.1626,2,      0.204,1,      0.158,1,      4.641,1
325020190403,       I06S,      55,          1,         34,         34,2,20190511,       1759,   -38.4994,    30.0015,       4301,    48.2,  20.1614,  35.6216,2,  35.6224,2,    219.1,2,   220.8,2,     2.0,2,    0.27,2,    0.10,2,    0.09,2,   2.000,2,   1.220,2,   1.8493,2,  2046.8,2, 2332.79,2,   8.0090,3, -999.00,9,  -999.0,9,  -999.0,    1.59,4,    60.2,2,    4.72,2,     7.9439,3, 20190511,     1947, -38.5076,  29.9989,      25.08,     20.161,2,      0.192,1,      0.173,1,      4.638,1
325020190403,       I06S,      55,          1,         35,         35,2,20190511,       1759,   -38.4994,    30.0015,       4301,    33.1,  20.1627,  35.6219,2,  35.6224,2,    219.0,3,   221.3,2,     2.0,2,    0.25,2,    0.10,2,    0.12,2,   1.998,2,   1.217,2,   1.7447,2,  2045.6,2, 2332.62,2,   8.0100,3, -999.00,9,  -999.0,9,  -999.0,    1.17,3,  -999.0,9, -999.00,9,     7.9231,3, 20190511,     1948, -38.5077,  29.9989,      25.05,    20.1679,2,      0.197,1,      0.187,1,      4.624,1
325020190403,       I06S,      55,          1,         36,         36,2,20190511,       1759,   -38.4994,    30.0015,       4301,    12.9,  20.1897,  35.6211,2,   35.622,2,    219.4,3,   221.7,2,     2.0,2,    0.26,2,    0.10,2,    0.17,2,   2.000,2,   1.230,2,   1.8631,2,  2046.3,6, 2332.42,2,   8.0100,2,    0.63,2,    22.1,2,     2.8,    1.01,3,    57.4,2,    3.93,2,     7.9516,3, 20190511,     1950, -38.5079,  29.9988,      25.05,    20.1855,2,      0.198,1,      0.198,1,      4.618,1