BOTTLE,20210804CCHSIOCBG
EXPOCODE,SECT_ID,STNNBR,CASTNO,SAMPNO,BTLNBR,BTLNBR_FLAG_W,DATE,TIME,LATITUDE,LONGITUDE,DEPTH,CTDPRS,CTDTMP,CTDSAL,CTDSAL_FLAG_W,SALNTY,SALNTY_FLAG_W,CTDOXY,CTDOXY_FLAG_W,OXYGEN,OXYGEN_FLAG_W,SILCAT,SILCAT_FLAG_W,NITRAT,NITRAT_FLAG_W,NITRIT,NITRIT_FLAG_W,PHSPHT,PHSPHT_FLAG_W,CFC-11,CFC-11_FLAG_W,CFC-12,CFC-12_FLAG_W,SF6,SF6_FLAG_W,TCARBN,TCARBN_FLAG_W,ALKALI,ALKALI_FLAG_W,PH_TOT,PH_TOT_FLAG_W,DELC13,DELC13_FLAG_W,DELC14,DELC14_FLAG_W,C14ERR,DELO18,DELO18_FLAG_W,DOC,DOC_FLAG_W,TDN,TDN_FLAG_W,N2O,N2O_FLAG_W,BTL_DATE,BTL_TIME,BTL_LAT,BTL_LON,PH_TMP,REFTMP,REFTMP_FLAG_W,CTDBACKSCATTER,CTDBACKSCATTER_FLAG_W,CTDFLUOR,CTDFLUOR_FLAG_W,CTDXMISS,CTDXMISS_FLAG_W
,,,,,,,,,,,METERS,DBAR,ITS-90,PSS-78,,PSS-78,,UMOL/KG,,UMOL/KG,,UMOL/KG,,UMOL/KG,,UMOL/KG,,UMOL/KG,,PMOL/KG,,PMOL/KG,,FMOL/KG,,UMOL/KG,,UMOL/KG,,,,/MILLE,,/MILLE,,/MILLE,/MILLE,,UMOL/KG,,UMOL/KG,,NMOL/KG,,,,,,DEG C,ITS-90,,VOLTS,,VOLTS,,VOLTS,
325020190403,       I06S,      27,          1,          1,          1,2,20190422,       2021,   -59.0069,    30.0023,       5438,  5547.4,  -0.2119,  34.6503,2,  34.6493,2,    242.8,2,   242.8,2,   135.3,2,   32.71,2,    0.00,2,    2.25,2,   0.799,2,   0.389,2,   0.2183,2,  2252.5,6, 2358.98,2,   7.6010,2, -999.00,9,  -999.0,9,  -999.0,   -0.09,2,  -999.0,9, -999.00,9,    17.9532,3, 20190422,     2021, -59.0069,  30.0023,      25.04,    -0.2118,2,      0.130,1,      0.059,1,      4.619,1
325020190403,       I06S,      27,          1,          2,          2,2,20190422,       2021,   -59.0069,    30.0023,       5438,  5505.4,    -0.21,  34.6506,2,  34.6495,2,    242.5,2,   242.8,2,   133.9,2,   32.67,2,    0.00,2,    2.24,2,   0.802,2,   0.390,2,   0.2896,2,  -999.0,9, -999.00,9,-999.0000,9, -999.00,9,  -999.0,9,  -999.0,   -0.08,6,  -999.0,9, -999.00,9,    18.3313,3, 20190422,     2025, -59.0073,  30.0024,     -999.0,      -0.21,2,      0.131,1,      0.060,1,      4.622,1
325020190403,       I06S,      27,          1,          3,          3,2,20190422,       2021,   -59.0069,    30.0023,       5438,  5462.9,  -0.2095,  34.6509,2,  34.6495,2,    242.2,2,   242.6,2,   133.7,2,   32.67,2,    0.00,2,    2.24,2,   0.776,2,   0.381,2,   0.1979,2,  2252.4,2, 2356.58,2,   7.6014,2, -999.00,9,  -999.0,9,  -999.0,   -0.08,2,  -999.0,9, -999.00,9,    17.7195,3, 20190422,     2027, -59.0075,  30.0024,      25.10,    -0.2095,2,      0.128,1,      0.059,1,      4.623,1
325020190403,       I06S,      27,          1,          4,          4,2,20190422,       2021,   -59.0069,    30.0023,       5438,  5049.3,  -0.2051,  34.6528,2,  34.6519,2,    241.0,2,   241.0,2,   132.2,2,   32.67,2,    0.00,2,    2.25,2,   0.728,2,   0.355,2,   0.1981,2,  -999.0,9, -999.00,9,-999.0000,9, -999.00,9,  -999.0,9,  -999.0,   -0.15,2,  -999.0,9, -999.00,9,    17.8421,3, 20190422,     2041, -59.0084,  30.0026,     -999.0,    -0.2051,2,      0.125,1,      0.059,1,      4.629,1
325020190403,       I06S,      27,          1,          5,          5,2,20190422,       2021,   -59.0069,    30.0023,       5438,  4636.0,   -0.181,  34.6549,2,  34.6542,2,    238.3,2,   238.8,2,   130.1,2,   32.67,2,    0.00,2,    2.25,2,   0.725,2,   0.358,2,   0.2367,2,  2253.3,2, 2357.20,2,   7.5990,2, -999.00,9,  -999.0,9,  -999.0,   -0.02,2,  -999.0,9, -999.00,9,    17.9266,3, 20190422,     2050, -59.0089,  30.0027,      25.08,    -0.1809,2,      0.126,1,      0.059,1,      4.630,1
325020190403,       I06S,      27,          1,          6,          6,2,20190422,       2021,   -59.0069,    30.0023,       5438,  4224.9,  -0.1378,  34.6579,2,   34.657,2,    234.3,2,   235.2,2,   129.1,2,   32.74,2,    0.00,2,    2.25,2,   0.705,2,   0.349,2,   0.2914,2,  -999.0,9, -999.00,9,-999.0000,9, -999.00,9,  -999.0,9,  -999.0, -999.00,9,  -999.0,9, -999.00,9,    17.8967,3, 20190422,     2058, -59.0094,  30.0029,     -999.0,    -0.1363,2,      0.125,1,      0.059,1,      4.632,1
325020190403,       I06S,      27,          1,          7,          7,2,20190422,       2021,   -59.0069,    30.0023,       5438,  3812.0,  -0.1204,  34.6573,2,   34.656,2,    232.4,3,   234.9,2,   124.4,2,   32.60,2,    0.00,2,    2.24,2,-999.000,5,-999.000,5,-999.0000,5,  2255.7,2, 2352.77,2,   7.5947,2, -999.00,9,  -999.0,9,  -999.0,   -0.11,2,  -999.0,9, -999.00,9,    18.0089,3, 20190422,     2106, -59.0098,  30.0030,      25.07,    -0.1204,2,      0.122,1,      0.060,1,      4.633,1
325020190403,       I06S,      27,          1,          8,          8,2,20190422,       2021,   -59.0069,    30.0023,       5438,  3470.5,   -0.114,   34.659,2,  34.6578,2,    232.5,2,   233.1,2,   125.2,2,   32.70,2,    0.00,2,    2.23,2,   0.883,2,   0.450,2,   0.3197,2,  2253.8,2, -999.00,9,-999.0000,9, -999.00,9,  -999.0,9,  -999.0, -999.00,9,  -999.0,9, -999.00,9,    18.0075,3, 20190422,     2113, -59.0103,  30.0031,     -999.0,    -0.1135,2,      0.121,1,      0.060,1,      4.633,1
325020190403,       I06S,      27,          1,          9,          9,2,20190422,       2021,   -59.0069,    30.0023,       5438,  3162.4,  -0.0493,  34.6637,2,  34.6625,2,    226.0,2,   227.5,2,   127.6,2,   32.90,2,    0.00,2,    2.25,2,   0.634,2,   0.319,2,   0.2397,2,  -999.0,9, -999.00,9,-999.0000,9, -999.00,9,  -999.0,9,  -999.0,   -0.04,2,  -999.0,9, -999.00,9,    18.0906,3, 20190422,     2120, -59.0106,  30.0033,     -999.0,    -0.0489,2,      0.124,1,      0.060,1,      4.634,1
325020190403,       I06S,      27,          1,         10,         10,2,20190422,       2021,   -59.0069,    30.0023,       5438,  2890.4,   0.0261,  34.6671,2,   34.666,2,    221.5,2,   223.7,2,   127.7,2,   32.96,2,    0.00,2,    2.25,2,   0.580,2,   0.284,2,   0.2961,2,  2257.2,2, 2359.20,2,   7.5876,2, -999.00,9,  -999.0,9,  -999.0, -999.00,9,  -999.0,9, -999.00,9,     18.105,3, 20190422,     2126, -59.0109,  30.0033,      25.09,     0.0262,2,      0.121,1,      0.060,1,      4.634,1
325020190403,       I06S,      27,          1,         11,         11,2,20190422,       2021,   -59.0069,    30.0023,       5438,  2632.6,   0.1178,  34.6711,2,  34.6717,2,    218.5,2,   219.0,2,   127.3,2,   32.95,2,    0.00,2,    2.26,2,   0.538,2,   0.268,2,   0.2644,2,  -999.0,9, -999.00,9,-999.0000,9, -999.00,9,  -999.0,9,  -999.0,    0.03,2,  -999.0,9, -999.00,9,    18.1892,3, 20190422,     2131, -59.0112,  30.0034,     -999.0,     0.1179,2,      0.124,1,      0.060,1,      4.633,1
325020190403,       I06S,      27,          1,         12,         12,2,20190422,       2021,   -59.0069,    30.0023,       5438,  2378.1,   0.2149,  34.6759,2,  34.6748,2,    214.2,2,   215.2,2,   127.1,2,   33.04,2,    0.00,2,    2.26,2,   0.496,2,   0.247,2,   0.1664,2,  2261.2,2, 2360.01,2,   7.5838,2, -999.00,9,  -999.0,9,  -999.0, -999.00,9,  -999.0,9, -999.00,9,     18.254,3, 20190422,     2137, -59.0115,  30.0035,      25.02,     0.2154,2,      0.125,1,      0.059,1,      4.633,1
325020190403,       I06S,      27,          1,         13,         13,2,20190422,       2021,   -59.0069,    30.0023,       5438,  2124.3,   0.3134,  34.6808,3,   34.685,3,    211.7,2,   211.6,2,   124.9,2,   32.97,2,    0.00,2,    2.26,2,   0.482,2,   0.234,2,   0.2351,2,  2262.6,2, -999.00,9,-999.0000,9, -999.00,9,  -999.0,9,  -999.0,    0.05,2,  -999.0,9, -999.00,9,    18.3716,3, 20190422,     2143, -59.0119,  30.0036,     -999.0,     0.3139,2,      0.125,1,      0.060,1,      4.635,1
325020190403,       I06S,      27,          1,         14,         14,2,20190422,       2021,   -59.0069,    30.0023,       5438,  1899.4,   0.3976,   34.684,2,  34.6835,2,    207.8,2,   208.8,2,   123.3,2,   33.02,2,    0.00,2,    2.26,2,   0.463,2,   0.228,2,   0.2770,2,  -999.0,9, -999.00,9,-999.0000,9, -999.00,9,  -999.0,9,  -999.0, -999.00,9,  -999.0,9, -999.00,9,    18.4334,3, 20190422,     2147, -59.0123,  30.0037,     -999.0,     0.3974,2,      0.124,1,      0.061,1,      4.634,1
325020190403,       I06S,      27,          1,         15,         15,2,20190422,       2021,   -59.0069,    30.0023,       5438,  1694.2,    0.502,   34.689,2,  34.6882,2,    206.6,2,   205.8,2,   121.3,2,   32.88,2,    0.00,2,    2.25,2,   0.460,2,   0.226,2,   0.1387,2,  2262.3,2, 2361.30,2,   7.5820,2, -999.00,9,  -999.0,9,  -999.0,    0.09,2,  -999.0,9, -999.00,9,    18.4759,3, 20190422,     2152, -59.0124,  30.0037,      25.10,     0.5025,2,      0.125,1,      0.062,1,      4.634,1
325020190403,       I06S,      27,          1,         16,         16,2,20190422,       2021,   -59.0069,    30.0023,       5438,  1491.5,   0.6314,  34.6947,2,  34.6986,3,    205.5,2,   204.7,2,   116.9,2,   32.57,2,    0.00,2,    2.22,2,   0.401,2,   0.233,2,   0.2086,2,  -999.0,9, -999.00,9,-999.0000,9, -999.00,9,  -999.0,9,  -999.0, -999.00,9,  -999.0,9, -999.00,9,    13.5934,3, 20190422,     2156, -59.0125,  30.0037,     -999.0,     0.6314,2,      0.125,1,      0.061,1,      4.634,1
325020190403,       I06S,      27,          1,         17,         17,2,20190422,       2021,   -59.0069,    30.0023,       5438,  1358.6,   0.7126,  34.6995,2,  34.6986,2,    203.8,2,   204.2,2,   114.6,2,   32.28,2,    0.00,2,    2.20,2,   0.448,2,   0.221,2,   0.2025,2,  2261.1,2, 2360.60,2,-999.0000,5, -999.00,9,  -999.0,9,  -999.0,    0.09,2,  -999.0,9, -999.00,9,    18.5694,3, 20190422,     2159, -59.0124,  30.0039,     -999.0,     0.7125,2,      0.125,1,      0.062,1,      4.634,1
325020190403,       I06S,      27,          1,         18,         18,2,20190422,       2021,   -59.0069,    30.0023,       5438,  1258.7,   0.7982,  34.7038,2,  34.7033,2,    203.9,2,   203.7,2,   112.1,2,   32.05,2,    0.00,2,    2.19,2,   0.435,2,   0.218,2,   0.2962,2,  -999.0,9, -999.00,9,-999.0000,9, -999.00,9,  -999.0,9,  -999.0, -999.00,9,  -999.0,9, -999.00,9,    18.3824,3, 20190422,     2201, -59.0123,  30.0037,     -999.0,      0.798,2,      0.125,1,      0.061,1,      4.633,1
325020190403,       I06S,      27,          1,         19,         19,2,20190422,       2021,   -59.0069,    30.0023,       5438,  1156.7,   0.8848,  34.7072,2,   34.707,2,    202.9,2,   202.4,2,   109.9,2,   31.95,2,    0.00,2,    2.18,2,   0.427,2,   0.212,2,   0.2243,2,  2259.8,2, 2361.04,2,   7.6019,4, -999.00,9,  -999.0,9,  -999.0,    0.04,6,  -999.0,9, -999.00,9,    18.3711,3, 20190422,     2204, -59.0123,  30.0035,      25.05,     0.8847,2,      0.127,1,      0.060,1,      4.632,1
325020190403,       I06S,      27,          1,         20,         20,2,20190422,       2021,   -59.0069,    30.0023,       5438,  1055.2,   0.9778,  34.7106,2,  34.7098,2,    201.7,2,   201.1,2,   107.1,2,   31.79,2,    0.00,2,    2.17,2,   0.421,2,   0.212,2,   0.3538,2,  -999.0,9, -999.00,9,-999.0000,9, -999.00,9,  -999.0,9,  -999.0, -999.00,9,  -999.0,9, -999.00,9,    18.3351,3, 20190422,     2207, -59.0124,  30.0035,     -999.0,     0.9774,2,      0.128,1,      0.063,1,      4.631,1
325020190403,       I06S,      27,          1,         21,         21,2,20190422,       2021,   -59.0069,    30.0023,       5438,   954.8,   1.0975,  34.7135,2,  34.7117,2,    200.3,2,   199.3,2,   104.2,2,   31.67,2,    0.00,2,    2.16,2,   0.422,2,   0.217,2,   0.2553,2,  2256.8,2, 2364.61,2,   7.5920,2, -999.00,9,  -999.0,9,  -999.0,    0.13,2,  -999.0,9, -999.00,9,    18.3349,3, 20190422,     2209, -59.0125,  30.0036,      25.07,     1.0993,2,      0.130,1,      0.060,1,      4.631,1
325020190403,       I06S,      27,          1,         22,         22,2,20190422,       2021,   -59.0069,    30.0023,       5438,   852.7,   1.2147,  34.7156,2,  34.7213,3,    198.8,2,   197.6,2,   101.2,2,   31.50,2,    0.00,2,    2.17,2,   0.403,2,   0.202,2,   0.2277,2,  -999.0,9, -999.00,9,-999.0000,9, -999.00,9,  -999.0,9,  -999.0, -999.00,9,  -999.0,9, -999.00,9,    18.2875,3, 20190422,     2212, -59.0126,  30.0037,     -999.0,     1.2174,2,      0.131,1,      0.062,1,      4.630,1
325020190403,       I06S,      27,          1,         23,         23,2,20190422,       2021,   -59.0069,    30.0023,       5438,   750.9,   1.3095,  34.7176,2,   34.717,2,    196.0,2,   195.3,2,    98.0,2,   31.51,2,    0.00,2,    2.17,2,   0.408,2,   0.210,2,   0.2323,2,  2258.0,2, 2364.40,2,   7.5909,2, -999.00,9,  -999.0,9,  -999.0,    0.11,2,  -999.0,9, -999.00,9,    18.4182,3, 20190422,     2214, -59.0125,  30.0034,      25.07,     1.3095,2,      0.129,1,      0.062,1,      4.629,1
325020190403,       I06S,      27,          1,         24,         24,2,20190422,       2021,   -59.0069,    30.0023,       5438,   650.8,   1.4419,  34.7166,2,  34.7157,2,    192.9,2,   192.6,2,    95.9,2,   31.50,2,    0.00,2,    2.15,2,   0.412,2,   0.211,2,   0.2415,2,  2257.0,2, -999.00,9,-999.0000,9, -999.00,9,  -999.0,9,  -999.0, -999.00,9,  -999.0,9, -999.00,9,    18.4687,3, 20190422,     2217, -59.0125,  30.0034,     -999.0,     1.4417,2,      0.130,1,      0.061,1,      4.629,1
325020190403,       I06S,      27,          1,         25,         25,2,20190422,       2021,   -59.0069,    30.0023,       5438,   549.1,   1.5959,  34.7122,2,  34.7111,2,    189.0,2,   188.4,2,    92.6,2,   31.73,2,    0.00,2,    2.15,2,   0.430,2,   0.222,2,   0.2705,2,  2257.2,2, 2352.41,2,   7.5826,2, -999.00,9,  -999.0,9,  -999.0,    0.15,2,  -999.0,9, -999.00,9,     18.652,3, 20190422,     2219, -59.0125,  30.0033,      25.10,      1.595,2,      0.130,1,      0.062,1,      4.630,1
325020190403,       I06S,      27,          1,         26,         26,2,20190422,       2021,   -59.0069,    30.0023,       5438,   446.2,   1.6749,  34.6923,2,  34.6919,2,    184.2,2,   183.1,2,    90.8,2,   32.34,2,    0.00,2,    2.21,2,   0.512,2,   0.271,2,   0.3388,2,  -999.0,9, -999.00,9,-999.0000,9, -999.00,9,  -999.0,9,  -999.0, -999.00,9,  -999.0,9, -999.00,9,    18.8103,3, 20190422,     2222, -59.0125,  30.0034,     -999.0,     1.6741,2,      0.129,1,      0.061,1,      4.634,1
325020190403,       I06S,      27,          1,         27,         27,2,20190422,       2021,   -59.0069,    30.0023,       5438,   378.0,   1.6959,  34.6705,2,  34.6688,2,    182.3,2,   180.7,2,    89.5,2,   32.96,2,    0.00,2,    2.24,2,   0.613,2,   0.337,2,   0.3459,2,  2259.7,2, 2348.99,2,   7.5586,3, -999.00,9,  -999.0,9,  -999.0,    0.12,2,  -999.0,9, -999.00,9,     18.824,3, 20190422,     2224, -59.0125,  30.0034,      25.06,     1.6945,2,      0.130,1,      0.063,1,      4.631,1
325020190403,       I06S,      27,          1,         28,         28,2,20190422,       2021,   -59.0069,    30.0023,       5438,   327.4,    1.649,  34.6399,2,  34.6423,2,    181.2,2,   180.3,2,    88.4,2,   33.41,2,    0.00,2,    2.27,2,   0.776,2,   0.428,2,   0.4231,2,  2261.2,6, 2349.25,2,   7.5505,3, -999.00,9,  -999.0,9,  -999.0, -999.00,9,  -999.0,9, -999.00,9,    19.0504,3, 20190422,     2225, -59.0125,  30.0034,      25.07,     1.6319,2,      0.131,1,      0.061,1,      4.631,1
325020190403,       I06S,      27,          1,         29,         29,2,20190422,       2021,   -59.0069,    30.0023,       5438,   274.1,   1.6564,  34.6077,2,  34.6064,2,    183.5,3,   180.9,2,    85.7,2,   33.89,2,    0.00,2,    2.31,2,   0.994,2,   0.535,2,   0.4708,2,  2259.3,2, 2348.91,2,   7.5407,2, -999.00,9,  -999.0,9,  -999.0,    0.08,2,  -999.0,9, -999.00,9,    19.2856,3, 20190422,     2227, -59.0126,  30.0034,      25.08,     1.6555,2,      0.127,1,      0.063,1,      4.631,1
325020190403,       I06S,      27,          1,         30,         30,2,20190422,       2021,   -59.0069,    30.0023,       5438,   225.6,   1.3709,  34.5309,2,  34.5299,2,    198.4,3,   195.6,2,    82.7,2,   34.03,2,    0.00,2,    2.32,2,   1.750,2,   0.902,2,   0.7586,2,  2255.9,2, -999.00,9,-999.0000,9, -999.00,9,  -999.0,9,  -999.0,    0.02,2,  -999.0,9, -999.00,9,    19.2763,3, 20190422,     2229, -59.0127,  30.0034,     -999.0,     1.3665,2,      0.127,1,      0.060,1,      4.632,1
325020190403,       I06S,      27,          1,         31,         31,2,20190422,       2021,   -59.0069,    30.0023,       5438,   175.6,   0.5047,  34.3468,2,   34.346,2,    260.8,3,   257.2,2,    72.8,2,   32.42,2,    0.00,2,    2.21,2,   3.740,2,   1.931,2,   2.1908,2,  2233.8,2, -999.00,9,-999.0000,9, -999.00,9,  -999.0,9,  -999.0,   -0.03,2,  -999.0,9, -999.00,9,    18.4693,3, 20190422,     2230, -59.0127,  30.0034,     -999.0,     0.5009,2,      0.129,1,      0.064,1,      4.631,1
325020190403,       I06S,      27,          1,         32,         32,2,20190422,       2021,   -59.0069,    30.0023,       5438,   124.2,  -0.1638,  34.1806,2,  34.1823,2,    323.7,2,   320.6,2,    62.8,2,   29.50,2,    0.57,2,    2.07,2,   5.431,2,   2.883,2,   3.5191,2,  -999.0,9, -999.00,9,-999.0000,9, -999.00,9,  -999.0,9,  -999.0,   -0.08,2,  -999.0,9, -999.00,9,    17.1329,3, 20190422,     2232, -59.0128,  30.0035,     -999.0,    -0.1836,2,      0.136,1,      0.110,1,      4.615,1
325020190403,       I06S,      27,          1,         33,         33,2,20190422,       2021,   -59.0069,    30.0023,       5438,    94.3,   0.7196,  33.8639,2,  33.8695,2,    333.1,2,   335.2,2,    43.7,2,   24.89,2,    0.35,2,    1.75,2,   5.680,2,   2.989,2,   3.8359,2,  2172.9,2, 2293.32,2,   7.6764,2, -999.00,9,  -999.0,9,  -999.0,   -0.21,2,  -999.0,9, -999.00,9,    15.7389,3, 20190422,     2233, -59.0129,  30.0035,      25.02,     0.7201,2,      0.148,1,      0.127,1,      4.590,1
325020190403,       I06S,      27,          1,         34,         34,2,20190422,       2021,   -59.0069,    30.0023,       5438,    68.5,   0.7339,  33.8592,2,  33.8589,2,    332.8,2,   335.8,2,    42.7,2,   24.61,2,    0.34,2,    1.72,2,   5.689,2,   3.016,2,   3.8107,2,  2172.2,2, -999.00,9,-999.0000,9, -999.00,9,  -999.0,9,  -999.0,   -0.28,6,  -999.0,9, -999.00,9,    15.6652,3, 20190422,     2235, -59.0130,  30.0034,     -999.0,     0.7333,2,      0.149,1,      0.125,1,      4.590,1
325020190403,       I06S,      27,          1,         35,         35,2,20190422,       2021,   -59.0069,    30.0023,       5438,    43.8,   0.7307,  33.8576,2,  33.8582,2,    333.1,2,   335.9,2,    42.3,2,   24.55,2,    0.33,2,    1.69,2,   5.673,2,   2.998,2,   3.8208,2,  2173.4,2, 2298.32,2,   7.6794,2, -999.00,9,  -999.0,9,  -999.0,   -0.26,2,  -999.0,9, -999.00,9,    15.8145,3, 20190422,     2237, -59.0130,  30.0035,      25.05,     0.7303,2,      0.148,1,      0.127,1,      4.589,1
325020190403,       I06S,      27,          1,         36,         36,2,20190422,       2021,   -59.0069,    30.0023,       5438,    12.3,   0.7286,  33.8572,2,  33.8572,2,    332.5,2,   335.7,2,    42.7,2,   24.29,2,    0.34,2,    1.69,2,   5.673,2,   3.018,2,   3.9596,2,  2174.0,6, 2298.64,2,   7.6797,2, -999.00,9,  -999.0,9,  -999.0,   -0.27,2,  -999.0,9, -999.00,9,    15.7848,3, 20190422,     2239, -59.0132,  30.0035,      25.07,     0.7286,2,      0.148,1,      0.129,1,      4.589,1