BOTTLE,20210804CCHSIOCBG
EXPOCODE,SECT_ID,STNNBR,CASTNO,SAMPNO,BTLNBR,BTLNBR_FLAG_W,DATE,TIME,LATITUDE,LONGITUDE,DEPTH,CTDPRS,CTDTMP,CTDSAL,CTDSAL_FLAG_W,SALNTY,SALNTY_FLAG_W,CTDOXY,CTDOXY_FLAG_W,OXYGEN,OXYGEN_FLAG_W,SILCAT,SILCAT_FLAG_W,NITRAT,NITRAT_FLAG_W,NITRIT,NITRIT_FLAG_W,PHSPHT,PHSPHT_FLAG_W,CFC-11,CFC-11_FLAG_W,CFC-12,CFC-12_FLAG_W,SF6,SF6_FLAG_W,TCARBN,TCARBN_FLAG_W,ALKALI,ALKALI_FLAG_W,PH_TOT,PH_TOT_FLAG_W,DELC13,DELC13_FLAG_W,DELC14,DELC14_FLAG_W,C14ERR,DELO18,DELO18_FLAG_W,DOC,DOC_FLAG_W,TDN,TDN_FLAG_W,N2O,N2O_FLAG_W,BTL_DATE,BTL_TIME,BTL_LAT,BTL_LON,PH_TMP,REFTMP,REFTMP_FLAG_W,CTDBACKSCATTER,CTDBACKSCATTER_FLAG_W,CTDFLUOR,CTDFLUOR_FLAG_W,CTDXMISS,CTDXMISS_FLAG_W
,,,,,,,,,,,METERS,DBAR,ITS-90,PSS-78,,PSS-78,,UMOL/KG,,UMOL/KG,,UMOL/KG,,UMOL/KG,,UMOL/KG,,UMOL/KG,,PMOL/KG,,PMOL/KG,,FMOL/KG,,UMOL/KG,,UMOL/KG,,,,/MILLE,,/MILLE,,/MILLE,/MILLE,,UMOL/KG,,UMOL/KG,,NMOL/KG,,,,,,DEG C,ITS-90,,VOLTS,,VOLTS,,VOLTS,
325020190403,       I06S,      37,          1,          1,          1,2,20190429,       0300,   -54.0004,    29.9983,       5218,  5313.0,  -0.2208,  34.6501,2,  34.6519,2,    242.7,2,   243.0,2,   132.3,2,   32.60,2,    0.00,2,    2.25,2,   0.926,2,   0.413,2,   0.2806,2,  2251.0,2, 2349.85,2,   7.6014,2, -999.00,9,  -999.0,9,  -999.0,   -0.12,2,  -999.0,9, -999.00,9,    18.1964,3, 20190429,      300, -54.0004,  29.9983,      25.07,    -0.2201,2,      0.134,1,      0.060,1,      4.710,1
325020190403,       I06S,      37,          1,          2,          2,2,20190429,       0300,   -54.0004,    29.9983,       5218,  5217.5,  -0.1845,  34.6517,2,  34.6515,2,    241.8,2,   241.1,2,   132.3,2,   32.58,2,    0.00,2,    2.25,2,   0.863,2,   0.378,2,   0.2410,2,  2250.6,2, 2353.48,2,   7.6008,2, -999.00,9,  -999.0,9,  -999.0,   -0.03,2,  -999.0,9, -999.00,9,    18.3458,3, 20190429,      302, -54.0004,  29.9983,      25.04,    -0.1849,2,      0.128,1,      0.060,1,      4.718,1
325020190403,       I06S,      37,          1,          3,          3,2,20190429,       0300,   -54.0004,    29.9983,       5218,  5112.9,  -0.1799,  34.6525,2,  34.6515,2,    240.3,2,   241.2,2,   131.6,2,   32.61,2,    0.00,2,    2.25,2,   0.841,2,   0.369,2,   0.2231,2,  2251.6,2, 2352.63,2,   7.5999,2, -999.00,9,  -999.0,9,  -999.0,   -0.11,2,  -999.0,9, -999.00,9,    18.3593,3, 20190429,      305, -54.0004,  29.9983,      25.00,      -0.18,2,      0.128,1,      0.060,1,      4.720,1
325020190403,       I06S,      37,          1,          4,          4,2,20190429,       0300,   -54.0004,    29.9983,       5218,  4700.2,  -0.1688,  34.6544,2,  34.6558,2,    238.2,2,   238.2,2,   131.3,2,   32.62,2,    0.00,2,    2.25,2,   0.811,2,   0.354,2,   0.2167,2,  2251.1,2, -999.00,9,   7.5984,2, -999.00,9,  -999.0,9,  -999.0,   -0.02,2,  -999.0,9, -999.00,9,    18.4379,3, 20190429,      313, -54.0004,  29.9983,      25.00,    -0.1689,2,      0.123,1,      0.059,1,      4.723,1
325020190403,       I06S,      37,          1,          5,          5,2,20190429,       0300,   -54.0004,    29.9983,       5218,  4288.4,   -0.112,   34.658,2,   34.657,2,    232.9,2,   234.3,2,   130.2,2,   32.69,2,    0.00,2,    2.27,2,   0.781,2,   0.344,2,   0.2310,2,  2253.4,2, 2352.02,2,   7.5959,2, -999.00,9,  -999.0,9,  -999.0,    0.02,2,  -999.0,9, -999.00,9,    18.7323,3, 20190429,      320, -54.0004,  29.9983,      25.02,    -0.1119,2,      0.121,1,      0.059,1,      4.723,1
325020190403,       I06S,      37,          1,          6,          6,2,20190429,       0300,   -54.0004,    29.9983,       5218,  3878.1,    -0.01,  34.6627,2,  34.6619,2,    227.5,2,   228.6,2,   128.7,2,   32.80,2,    0.00,2,    2.27,2,   0.710,2,   0.305,2,   0.1039,2,  2255.5,2, -999.00,9,   7.5913,2, -999.00,9,  -999.0,9,  -999.0, -999.00,9,  -999.0,9, -999.00,9,    19.0328,3, 20190429,      327, -54.0004,  29.9983,      25.00,      -0.01,2,      0.123,1,      0.059,1,      4.723,1
325020190403,       I06S,      37,          1,          7,          7,2,20190429,       0300,   -54.0004,    29.9983,       5218,  3568.9,   0.0763,  34.6665,3,  34.6686,2,    224.1,3,   221.6,2,   129.0,2,   32.97,2,    0.00,2,    2.27,2,   0.630,2,   0.273,2,   0.1776,2,  2258.3,2, 2351.40,2,   7.5870,2, -999.00,9,  -999.0,9,  -999.0,    0.02,2,  -999.0,9, -999.00,9,      19.23,3, 20190429,      333, -54.0004,  29.9983,      25.01,     0.0762,2,      0.123,1,      0.060,1,      4.723,1
325020190403,       I06S,      37,          1,          8,          8,2,20190429,       0300,   -54.0004,    29.9983,       5218,  3259.1,   0.2004,  34.6725,2,  34.6723,2,    218.9,2,   218.8,2,   128.5,2,   32.91,2,    0.00,2,    2.27,2,   0.614,2,   0.269,2,   0.1632,2,  2257.8,2, 2354.35,2,   7.5869,2, -999.00,9,  -999.0,9,  -999.0, -999.00,9,  -999.0,9, -999.00,9,    19.1929,3, 20190429,      338, -54.0004,  29.9983,      25.00,     0.2007,2,      0.124,1,      0.060,1,      4.723,1
325020190403,       I06S,      37,          1,          9,          9,2,20190429,       0300,   -54.0004,    29.9983,       5218,  2969.4,   0.3176,  34.6795,3,  34.6829,3,    214.1,2,   214.4,2,   126.4,2,   32.94,2,    0.00,2,    2.27,2,   0.562,2,   0.248,2,   0.1613,2,  2259.9,2, -999.00,9,   7.5861,2, -999.00,9,  -999.0,9,  -999.0,   -0.02,2,  -999.0,9, -999.00,9,    19.3304,3, 20190429,      344, -54.0004,  29.9983,      25.02,     0.3181,2,      0.123,1,      0.061,1,      4.723,1
325020190403,       I06S,      37,          1,         10,         10,2,20190429,       0300,   -54.0004,    29.9983,       5218,  2715.5,   0.4151,  34.6829,2,  34.6821,2,    209.9,2,   211.2,2,   125.4,2,   32.88,2,    0.00,2,    2.27,2,   0.537,2,   0.238,2,   0.1897,2,  2261.7,2, 2357.73,2,   7.5854,2, -999.00,9,  -999.0,9,  -999.0, -999.00,9,  -999.0,9, -999.00,9,    19.4184,3, 20190429,      349, -54.0005,  29.9984,      25.02,     0.4152,2,      0.124,1,      0.060,1,      4.724,1
325020190403,       I06S,      37,          1,         11,         11,2,20190429,       0300,   -54.0004,    29.9983,       5218,  2457.7,   0.5317,  34.6892,2,  34.6884,2,    206.3,3,   212.1,2,   122.1,2,   32.69,2,    0.00,2,    2.25,2,   0.515,2,   0.227,2,   0.1359,2,  2261.6,2, 2356.54,2,   7.5887,2, -999.00,9,  -999.0,9,  -999.0,    0.03,2,  -999.0,9, -999.00,9,    19.4463,3, 20190429,      354, -54.0004,  29.9984,      25.00,     0.5313,2,      0.124,1,      0.061,1,      4.725,1
325020190403,       I06S,      37,          1,         12,         12,2,20190429,       0300,   -54.0004,    29.9983,       5218,  2202.5,   0.6839,  34.6978,3,     34.7,2,    206.0,2,   207.6,2,   117.8,2,   32.29,2,    0.00,2,    2.23,2,   0.474,2,   0.211,2,   0.1272,2,  2258.9,2, -999.00,9,   7.5929,2, -999.00,9,  -999.0,9,  -999.0, -999.00,9,  -999.0,9, -999.00,9,    19.4465,3, 20190429,      359, -54.0004,  29.9983,      24.99,     0.6835,2,      0.125,1,      0.060,1,      4.725,1
325020190403,       I06S,      37,          1,         13,         13,2,20190429,       0300,   -54.0004,    29.9983,       5218,  1967.9,   0.8346,  34.7056,2,  34.7054,2,    204.5,2,   205.6,2,   112.8,2,   31.97,2,    0.00,2,    2.20,2,   0.458,2,   0.204,2,   0.1824,2,  2258.2,2, 2358.11,2,   7.5959,2, -999.00,9,  -999.0,9,  -999.0,    0.07,2,  -999.0,9, -999.00,9,    19.5049,3, 20190429,      403, -54.0004,  29.9983,      25.01,     0.8349,2,      0.129,1,      0.061,1,      4.725,1
325020190403,       I06S,      37,          1,         14,         14,2,20190429,       0300,   -54.0004,    29.9983,       5218,  1764.1,   1.0245,  34.7169,2,  34.7157,2,    203.3,2,   204.8,2,   107.2,2,   31.68,2,    0.00,2,    2.16,2,   0.380,2,   0.172,2,   0.0901,2,  2255.5,2, 2357.89,2,   7.6019,2, -999.00,9,  -999.0,9,  -999.0, -999.00,9,  -999.0,9, -999.00,9,    19.2725,3, 20190429,      407, -54.0004,  29.9983,      25.00,     1.0231,2,      0.126,1,      0.061,1,      4.726,1
325020190403,       I06S,      37,          1,         15,         15,2,20190429,       0300,   -54.0004,    29.9983,       5218,  1562.3,   1.2591,  34.7309,2,  34.7306,2,    202.8,2,   203.0,2,   100.8,2,   31.03,2,    0.00,2,    2.13,2,   0.306,2,   0.136,2,   0.1012,2,  2251.8,2, 2353.75,2,   7.6080,2, -999.00,9,  -999.0,9,  -999.0,    0.14,6,  -999.0,9, -999.00,9,    19.2314,3, 20190429,      412, -54.0004,  29.9983,      25.01,     1.2602,2,      0.125,1,      0.062,1,      4.724,1
325020190403,       I06S,      37,          1,         16,         16,2,20190429,       0300,   -54.0004,    29.9983,       5218,  1390.3,   1.3751,  34.7345,2,  34.7339,2,    200.1,2,   200.9,2,    97.9,2,   30.81,2,    0.00,2,    2.13,2,   0.294,2,   0.137,2,   0.0778,2,  2252.4,2, 2354.41,2,   7.6075,2, -999.00,9,  -999.0,9,  -999.0, -999.00,9,  -999.0,9, -999.00,9,    19.4249,3, 20190429,      416, -54.0004,  29.9983,      25.02,     1.3769,2,      0.129,1,      0.061,1,      4.724,1
325020190403,       I06S,      37,          1,         17,         17,2,20190429,       0300,   -54.0004,    29.9983,       5218,  1288.3,   1.4614,  34.7343,2,  34.7335,2,    197.9,2,   198.0,2,    96.5,2,   30.85,2,    0.00,2,    2.13,2,   0.294,2,   0.138,2,   0.1159,2,  2252.5,2, -999.00,9,   7.6045,2, -999.00,9,  -999.0,9,  -999.0,    0.12,2,  -999.0,9, -999.00,9,    19.6951,3, 20190429,      418, -54.0005,  29.9983,      25.02,     1.4615,2,      0.127,1,      0.061,1,      4.725,1
325020190403,       I06S,      37,          1,         18,         18,2,20190429,       0300,   -54.0004,    29.9983,       5218,  1185.6,   1.5421,  34.7337,2,  34.7339,2,    195.3,2,   195.9,2,    94.4,2,   30.92,2,    0.00,2,    2.14,2,   0.294,2,   0.133,2,   0.1213,2,  2251.6,2, 2350.48,2,   7.6021,2, -999.00,9,  -999.0,9,  -999.0, -999.00,9,  -999.0,9, -999.00,9,    19.8607,3, 20190429,      421, -54.0004,  29.9983,      25.03,     1.5412,2,      0.129,1,      0.060,1,      4.724,1
325020190403,       I06S,      37,          1,         19,         19,2,20190429,       0300,   -54.0004,    29.9983,       5218,  1085.5,   1.6469,  34.7353,2,  34.7351,2,    193.1,2,   194.0,2,    92.3,2,   30.90,2,    0.00,2,    2.14,2,   0.289,2,   0.138,2,   0.0881,2,  2250.6,2, 2348.78,3,   7.6012,2, -999.00,9,  -999.0,9,  -999.0,    0.16,2,  -999.0,9, -999.00,9,    19.9585,3, 20190429,      423, -54.0004,  29.9983,      25.09,     1.6463,2,      0.129,1,      0.062,1,      4.724,1
325020190403,       I06S,      37,          1,         20,         20,2,20190429,       0300,   -54.0004,    29.9983,       5218,   981.8,   1.7409,  34.7319,2,  34.7308,2,    189.8,2,   191.2,2,    90.2,2,   31.04,2,    0.00,2,    2.15,2,   0.314,2,   0.145,2,   0.1550,2,  2251.2,2, 2348.19,2,   7.5967,2, -999.00,9,  -999.0,9,  -999.0, -999.00,9,  -999.0,9, -999.00,9,    20.2711,3, 20190429,      426, -54.0004,  29.9983,      25.08,     1.7398,2,      0.131,1,      0.062,1,      4.723,1
325020190403,       I06S,      37,          1,         21,         21,2,20190429,       0300,   -54.0004,    29.9983,       5218,   882.4,   1.8263,  34.7259,2,  34.7249,2,    186.7,2,   188.2,2,    88.3,2,   31.32,2,    0.00,2,    2.15,2,   0.345,2,   0.161,2,   0.1331,2,  2250.8,2, -999.00,9,   7.5909,2, -999.00,9,  -999.0,9,  -999.0,    0.17,2,  -999.0,9, -999.00,9,    20.7203,3, 20190429,      428, -54.0004,  29.9983,      25.09,     1.8251,2,      0.131,1,      0.060,1,      4.722,1
325020190403,       I06S,      37,          1,         22,         22,2,20190429,       0300,   -54.0004,    29.9983,       5218,   779.8,   1.9564,  34.7096,2,  34.7084,2,    182.2,2,   183.0,2,    86.0,2,   31.94,2,    0.00,2,    2.20,2,   0.391,2,   0.185,2,   0.1583,2,  2251.9,2, 2346.53,2,   7.5794,2, -999.00,9,  -999.0,9,  -999.0, -999.00,9,  -999.0,9, -999.00,9,    21.3445,3, 20190429,      431, -54.0004,  29.9983,      25.11,     1.9561,2,      0.132,1,      0.061,1,      4.721,1
325020190403,       I06S,      37,          1,         23,         23,2,20190429,       0300,   -54.0004,    29.9983,       5218,   679.0,   2.0298,   34.683,3,  34.7178,4,    176.9,2,   177.3,2,    84.9,2,   32.67,2,    0.00,2,    2.26,2,   0.476,2,   0.219,2,   0.1460,2,  2257.5,2, -999.00,9,   7.5661,2, -999.00,9,  -999.0,9,  -999.0,    0.16,2,  -999.0,9, -999.00,9,    22.1695,3, 20190429,      434, -54.0004,  29.9983,      25.09,     2.0285,2,      0.132,1,      0.060,1,      4.717,1
325020190403,       I06S,      37,          1,         24,         24,2,20190429,       0300,   -54.0004,    29.9983,       5218,   579.2,   2.1651,  34.6624,2,  34.6603,2,    174.2,2,   173.2,2,    82.0,2,   33.12,2,    0.00,2,    2.28,2,   0.509,2,   0.236,2,   0.1953,2,  2256.2,2, 2342.34,2,   7.5588,2, -999.00,9,  -999.0,9,  -999.0, -999.00,9,  -999.0,9, -999.00,9,    22.7521,3, 20190429,      437, -54.0003,  29.9982,      25.12,     2.1641,2,      0.136,1,      0.062,1,      4.719,1
325020190403,       I06S,      37,          1,         25,         25,2,20190429,       0300,   -54.0004,    29.9983,       5218,   478.2,   2.2399,   34.634,2,  34.6332,2,    170.6,2,   171.2,2,    79.3,2,   33.56,2,    0.00,2,    2.31,2,   0.592,2,   0.276,2,   0.2403,2,  2256.2,2, 2338.65,2,   7.5522,2, -999.00,9,  -999.0,9,  -999.0,    0.13,2,  -999.0,9, -999.00,9,     23.483,3, 20190429,      439, -54.0001,  29.9981,      25.10,     2.2395,2,      0.139,1,      0.061,1,      4.718,1
325020190403,       I06S,      37,          1,         26,         26,2,20190429,       0300,   -54.0004,    29.9983,       5218,   396.2,   2.2435,  34.5922,2,   34.596,2,    170.0,2,   170.0,2,    77.9,2,   34.18,2,    0.00,2,    2.35,2,   0.779,2,   0.364,2,   0.3019,2,  2256.7,2, 2336.21,2,   7.5417,2, -999.00,9,  -999.0,9,  -999.0, -999.00,9,  -999.0,9, -999.00,9,    24.1234,3, 20190429,      442, -54.0001,  29.9981,      25.07,     2.2421,2,      0.138,1,      0.060,1,      4.717,1
325020190403,       I06S,      37,          1,         27,         27,2,20190429,       0300,   -54.0004,    29.9983,       5218,   346.1,   2.1559,  34.5442,2,  34.5438,2,    172.6,2,   172.4,2,    76.5,2,   34.75,2,    0.00,2,    2.38,2,   1.151,2,   0.525,2,   0.3847,2,  2258.4,2, 2331.09,2,   7.5322,2, -999.00,9,  -999.0,9,  -999.0,    0.13,2,  -999.0,9, -999.00,9,    24.6385,3, 20190429,      444, -54.0000,  29.9980,      25.07,     2.1545,2,      0.139,1,      0.062,1,      4.712,1
325020190403,       I06S,      37,          1,         28,         28,2,20190429,       0300,   -54.0004,    29.9983,       5218,   296.4,   2.0852,  34.4909,2,  34.4891,2,    178.7,2,   177.5,2,    73.6,2,   35.06,2,    0.00,2,    2.40,2,   1.551,2,   0.722,2,   0.6540,2,  2252.6,2, -999.00,9,   7.5265,2, -999.00,9,  -999.0,9,  -999.0, -999.00,9,  -999.0,9, -999.00,9,      24.86,3, 20190429,      446, -53.9998,  29.9979,      25.02,     2.0836,2,      0.141,1,      0.059,1,      4.720,1
325020190403,       I06S,      37,          1,         29,         29,2,20190429,       0300,   -54.0004,    29.9983,       5218,   244.1,   2.0118,  34.4064,2,  34.4066,2,    192.0,2,   191.3,2,    67.2,2,   34.99,2,    0.00,2,    2.39,2,   2.192,2,   1.033,2,   0.9200,2,  2176.3,3, 2317.69,2,   7.5297,2, -999.00,9,  -999.0,9,  -999.0,    0.06,2,  -999.0,9, -999.00,9,    24.3142,3, 20190429,      448, -53.9997,  29.9977,      25.07,     2.0117,2,      0.139,1,      0.062,1,      4.722,1
325020190403,       I06S,      37,          1,         30,         30,2,20190429,       0300,   -54.0004,    29.9983,       5218,   194.7,   1.7466,  34.3068,2,  34.3045,2,    222.1,3,   218.3,2,    60.9,2,   34.12,2,    0.00,2,    2.34,2,   3.130,2,   1.503,2,   1.4145,2,  2233.1,2, 2312.05,2,   7.5467,2, -999.00,9,  -999.0,9,  -999.0,   -0.02,2,  -999.0,9, -999.00,9,    22.7188,3, 20190429,      449, -53.9995,  29.9976,      25.10,     1.7463,2,      0.135,1,      0.061,1,      4.722,1
325020190403,       I06S,      37,          1,         31,         31,2,20190429,       0300,   -54.0004,    29.9983,       5218,   142.1,   1.2455,  34.0911,2,  34.0817,2,    297.1,3,   290.2,2,    49.6,2,   29.72,2,    0.19,2,    2.04,2,   5.025,2,   2.508,2,   3.0235,2,  2199.0,2, 2301.08,2,   7.6157,2, -999.00,9,  -999.0,9,  -999.0,   -0.11,2,  -999.0,9, -999.00,9,    17.8478,3, 20190429,      451, -53.9994,  29.9975,      25.10,     1.2572,2,      0.134,1,      0.074,1,      4.713,1
325020190403,       I06S,      37,          1,         32,         32,2,20190429,       0300,   -54.0004,    29.9983,       5218,    98.8,   2.0693,  33.9593,2,  33.9581,2,    329.0,3,   325.5,2,    41.6,2,   25.58,2,    0.32,2,    1.74,2,   5.575,2,   2.801,2,   3.5156,2,  2175.9,2, -999.00,9,   7.6787,2, -999.00,9,  -999.0,9,  -999.0,    -0.2,6,  -999.0,9, -999.00,9,    14.4119,3, 20190429,      453, -53.9994,  29.9974,      25.13,     2.0685,2,      0.144,1,      0.123,1,      4.691,1
325020190403,       I06S,      37,          1,         33,         33,2,20190429,       0300,   -54.0004,    29.9983,       5218,    76.0,   2.0692,  33.9592,2,  33.9591,2,    328.1,2,   325.4,2,    41.5,2,   25.54,2,    0.32,2,    1.74,2,   5.603,2,   2.813,2,   3.5286,2,  2175.6,2, 2301.06,2,   7.6792,2, -999.00,9,  -999.0,9,  -999.0,   -0.18,2,  -999.0,9, -999.00,9,      14.51,3, 20190429,      454, -53.9993,  29.9974,      25.05,     2.0688,2,      0.146,1,      0.123,1,      4.691,1
325020190403,       I06S,      37,          1,         34,         34,2,20190429,       0300,   -54.0004,    29.9983,       5218,    46.9,   2.0684,  33.9588,2,  33.9585,2,    326.8,2,   325.3,2,    41.5,2,   25.55,2,    0.31,2,    1.73,2,   5.587,2,   2.837,2,   3.6619,2,  2176.0,2, 2298.23,2,   7.6791,2, -999.00,9,  -999.0,9,  -999.0,   -0.26,2,  -999.0,9, -999.00,9,    14.5691,3, 20190429,      456, -53.9992,  29.9973,      25.08,     2.0662,2,      0.146,1,      0.130,1,      4.691,1
325020190403,       I06S,      37,          1,         35,         35,2,20190429,       0300,   -54.0004,    29.9983,       5218,    26.6,   2.0615,  33.9575,2,  33.9571,2,    325.9,2,   325.3,2,    41.5,2,   25.49,2,    0.32,2,    1.72,2,   5.536,2,   2.825,2,   3.7381,2,  2176.0,2, -999.00,9,   7.6792,2, -999.00,9,  -999.0,9,  -999.0,   -0.25,2,  -999.0,9, -999.00,9,    14.6785,3, 20190429,      458, -53.9990,  29.9972,      25.08,     2.0601,2,      0.146,1,      0.122,1,      4.691,1
325020190403,       I06S,      37,          1,         36,         36,2,20190429,       0300,   -54.0004,    29.9983,       5218,    13.3,    2.059,  33.9571,2,  33.9575,2,    325.4,2,   325.3,2,    41.6,2,   25.42,2,    0.31,2,    1.72,2,   5.588,2,   2.837,2,   3.6037,2,  2176.4,2, 2298.55,2,   7.6792,2, -999.00,9,  -999.0,9,  -999.0,   -0.23,2,  -999.0,9, -999.00,9,    14.7434,3, 20190429,      500, -53.9989,  29.9971,      25.08,     2.0579,2,      0.149,1,      0.121,1,      4.692,1