BOTTLE,20210804CCHSIOCBG
EXPOCODE,SECT_ID,STNNBR,CASTNO,SAMPNO,BTLNBR,BTLNBR_FLAG_W,DATE,TIME,LATITUDE,LONGITUDE,DEPTH,CTDPRS,CTDTMP,CTDSAL,CTDSAL_FLAG_W,SALNTY,SALNTY_FLAG_W,CTDOXY,CTDOXY_FLAG_W,OXYGEN,OXYGEN_FLAG_W,SILCAT,SILCAT_FLAG_W,NITRAT,NITRAT_FLAG_W,NITRIT,NITRIT_FLAG_W,PHSPHT,PHSPHT_FLAG_W,CFC-11,CFC-11_FLAG_W,CFC-12,CFC-12_FLAG_W,SF6,SF6_FLAG_W,TCARBN,TCARBN_FLAG_W,ALKALI,ALKALI_FLAG_W,PH_TOT,PH_TOT_FLAG_W,DELC13,DELC13_FLAG_W,DELC14,DELC14_FLAG_W,C14ERR,DELO18,DELO18_FLAG_W,DOC,DOC_FLAG_W,TDN,TDN_FLAG_W,N2O,N2O_FLAG_W,BTL_DATE,BTL_TIME,BTL_LAT,BTL_LON,PH_TMP,REFTMP,REFTMP_FLAG_W,CTDBACKSCATTER,CTDBACKSCATTER_FLAG_W,CTDFLUOR,CTDFLUOR_FLAG_W,CTDXMISS,CTDXMISS_FLAG_W
,,,,,,,,,,,METERS,DBAR,ITS-90,PSS-78,,PSS-78,,UMOL/KG,,UMOL/KG,,UMOL/KG,,UMOL/KG,,UMOL/KG,,UMOL/KG,,PMOL/KG,,PMOL/KG,,FMOL/KG,,UMOL/KG,,UMOL/KG,,,,/MILLE,,/MILLE,,/MILLE,/MILLE,,UMOL/KG,,UMOL/KG,,NMOL/KG,,,,,,DEG C,ITS-90,,VOLTS,,VOLTS,,VOLTS,
325020190403,       I06S,      24,          1,          1,          1,2,20190421,       1723,   -60.4999,    30.0008,       5256,  5359.4,  -0.2441,  34.6498,2,  34.6509,2,    243.0,2,   242.9,2,   137.8,2,   32.55,2,    0.00,2,    2.25,2,   0.788,2,   0.387,2,   0.1509,2,  2251.0,6, 2349.88,2,   7.6011,2, -999.00,9,  -999.0,9,  -999.0,   -0.02,2,    38.8,2,   32.36,2,    18.2879,3, 20190421,     1723, -60.4999,  30.0008,      24.62,    -0.2442,2,      0.147,1,      0.059,1,      4.607,1
325020190403,       I06S,      24,          1,          2,          2,2,20190421,       1723,   -60.4999,    30.0008,       5256,  5256.4,  -0.2375,  34.6504,2,  34.6503,2,    242.8,2,   242.9,2,   134.0,2,   32.47,2,    0.00,2,    2.26,2,-999.000,9,-999.000,9,-999.0000,9,  2255.0,2, 2351.30,2,   7.6020,2, -999.00,9,  -999.0,9,  -999.0,   -0.03,2,    39.3,2,   31.67,2,     -999.0,9, 20190421,     1727, -60.4999,  30.0008,      24.97,    -0.2374,2,      0.127,1,      0.059,1,      4.627,1
325020190403,       I06S,      24,          1,          3,          3,2,20190421,       1723,   -60.4999,    30.0008,       5256,  5151.6,  -0.2375,   34.651,2,  34.6505,2,    242.5,2,   242.5,2,   132.6,2,   32.43,2,    0.00,2,    2.25,2,   0.759,2,   0.365,2,   0.2162,2,  2254.2,2, 2351.61,2,   7.6008,2, -999.00,9,  -999.0,9,  -999.0,   -0.03,2,  -999.0,9, -999.00,9,    18.2585,3, 20190421,     1730, -60.4998,  30.0008,      25.04,    -0.2375,2,      0.125,1,      0.060,1,      4.630,1
325020190403,       I06S,      24,          1,          4,          4,2,20190421,       1723,   -60.4999,    30.0008,       5256,  4739.9,  -0.2169,  34.6532,2,  34.6529,2,    239.5,2,   240.3,2,   131.1,2,   32.45,2,    0.00,2,    2.26,2,-999.000,9,-999.000,9,-999.0000,9,  -999.0,9, -999.00,9,-999.0000,9, -999.00,9,  -999.0,9,  -999.0,   -0.04,6,    38.4,2,   29.68,3,     -999.0,9, 20190421,     1739, -60.4999,  30.0008,     -999.0,    -0.2168,2,      0.122,1,      0.060,1,      4.634,1
325020190403,       I06S,      24,          1,          5,          5,2,20190421,       1723,   -60.4999,    30.0008,       5256,  4393.8,  -0.1933,  34.6556,2,  34.6552,2,    237.3,2,   237.8,2,   130.3,2,   32.37,2,    0.00,2,    2.26,2,-999.000,9,-999.000,9,-999.0000,9,  -999.0,9, -999.00,9,-999.0000,9, -999.00,9,  -999.0,9,  -999.0,   -0.03,2,    39.6,2,   32.05,2,     -999.0,9, 20190421,     1746, -60.4998,  30.0008,     -999.0,    -0.1933,2,      0.124,1,      0.059,1,      4.633,1
325020190403,       I06S,      24,          1,          6,          6,2,20190421,       1723,   -60.4999,    30.0008,       5256,  4086.5,  -0.1667,  34.6572,2,  34.6572,2,    234.9,2,   235.9,2,   129.5,2,   32.61,2,    0.00,2,    2.27,2,   0.706,2,   0.350,2,   0.1732,2,  2251.2,2, 2352.96,2,   7.5963,2, -999.00,9,  -999.0,9,  -999.0, -999.00,9,  -999.0,9, -999.00,9,    18.3957,3, 20190421,     1752, -60.4999,  30.0008,      25.04,    -0.1668,2,      0.122,1,      0.060,1,      4.633,1
325020190403,       I06S,      24,          1,          7,          7,2,20190421,       1723,   -60.4999,    30.0008,       5256,  3776.8,    -0.13,  34.6597,2,  34.6595,2,    232.0,2,   232.9,2,   130.1,2,   32.65,2,    0.00,2,    2.27,2,-999.000,9,-999.000,9,-999.0000,9,  -999.0,9, -999.00,9,-999.0000,9, -999.00,9,  -999.0,9,  -999.0,    0.05,2,    37.8,2,   31.86,2,     -999.0,9, 20190421,     1758, -60.4998,  30.0008,     -999.0,    -0.1299,2,      0.120,1,      0.059,1,      4.635,1
325020190403,       I06S,      24,          1,          8,          8,2,20190421,       1723,   -60.4999,    30.0008,       5256,  3469.5,  -0.0768,   34.662,2,  34.6623,2,    229.2,2,   229.8,2,   128.8,2,   32.71,2,    0.00,2,    2.28,2,-999.000,9,-999.000,9,-999.0000,9,  -999.0,9, -999.00,9,-999.0000,9, -999.00,9,  -999.0,9,  -999.0, -999.00,9,    38.1,2,   30.15,3,     -999.0,9, 20190421,     1804, -60.4998,  30.0008,     -999.0,     -0.077,2,      0.122,1,      0.060,1,      4.636,1
325020190403,       I06S,      24,          1,          9,          9,2,20190421,       1723,   -60.4999,    30.0008,       5256,  3162.1,  -0.0136,  34.6651,2,   34.665,2,    225.5,2,   225.7,2,   128.6,2,   32.72,2,    0.00,2,    2.27,2,   0.572,2,   0.278,2,   0.1637,2,  2255.5,2, 2353.48,2,   7.5896,2, -999.00,9,  -999.0,9,  -999.0,     0.0,2,  -999.0,9, -999.00,9,    18.6021,3, 20190421,     1810, -60.4999,  30.0008,      25.05,    -0.0139,2,      0.122,1,      0.059,1,      4.636,1
325020190403,       I06S,      24,          1,         10,         10,2,20190421,       1723,   -60.4999,    30.0008,       5256,  2890.1,   0.0586,  34.6683,2,  34.6686,2,    222.5,2,   222.0,2,   128.6,2,   32.86,2,    0.00,2,    2.28,2,-999.000,9,-999.000,9,-999.0000,9,  -999.0,9, -999.00,9,-999.0000,9, -999.00,9,  -999.0,9,  -999.0, -999.00,9,    38.0,2,   34.09,2,     -999.0,9, 20190421,     1816, -60.4998,  30.0008,     -999.0,     0.0584,2,      0.122,1,      0.060,1,      4.635,1
325020190403,       I06S,      24,          1,         11,         11,2,20190421,       1723,   -60.4999,    30.0008,       5256,  2635.4,   0.1272,  34.6718,2,  34.6723,2,    218.2,2,   218.5,2,   128.1,2,   32.92,2,    0.00,2,    2.28,2,-999.000,9,-999.000,9,-999.0000,9,  -999.0,9, -999.00,9,-999.0000,9, -999.00,9,  -999.0,9,  -999.0,    0.04,2,    38.3,2,   33.06,2,     -999.0,9, 20190421,     1821, -60.4998,  30.0008,     -999.0,     0.1276,2,      0.124,1,      0.061,1,      4.636,1
325020190403,       I06S,      24,          1,         12,         12,2,20190421,       1723,   -60.4999,    30.0008,       5256,  2378.7,   0.2179,  34.6756,2,  34.6762,2,    214.2,2,   214.5,2,   127.0,2,   32.94,2,    0.00,2,    2.28,2,   0.498,2,   0.242,2,   0.1643,2,  2258.3,2, 2354.45,2,   7.5824,2, -999.00,9,  -999.0,9,  -999.0, -999.00,9,  -999.0,9, -999.00,9,    18.9644,3, 20190421,     1826, -60.4999,  30.0008,      25.03,     0.2178,2,      0.124,1,      0.061,1,      4.636,1
325020190403,       I06S,      24,          1,         13,         13,2,20190421,       1723,   -60.4999,    30.0008,       5256,  2124.1,   0.3072,  34.6799,2,  34.6801,2,    210.7,2,   210.9,2,   126.2,2,   32.96,2,    0.00,2,    2.28,2,-999.000,9,-999.000,9,-999.0000,9,  -999.0,9, -999.00,9,-999.0000,9, -999.00,9,  -999.0,9,  -999.0,    0.04,2,    39.2,2,   29.98,3,     -999.0,9, 20190421,     1832, -60.4998,  30.0008,     -999.0,     0.3072,2,      0.124,1,      0.060,1,      4.636,1
325020190403,       I06S,      24,          1,         14,         14,2,20190421,       1723,   -60.4999,    30.0008,       5256,  1900.7,   0.3942,   34.684,2,  34.6839,2,    208.4,2,   208.2,2,   124.7,2,   32.92,2,    0.00,2,    2.28,2,-999.000,9,-999.000,9,-999.0000,9,  -999.0,9, -999.00,9,-999.0000,9, -999.00,9,  -999.0,9,  -999.0, -999.00,9,    38.1,2,   31.63,2,     -999.0,9, 20190421,     1837, -60.4998,  30.0008,     -999.0,     0.3942,2,      0.125,1,      0.059,1,      4.637,1
325020190403,       I06S,      24,          1,         15,         15,2,20190421,       1723,   -60.4999,    30.0008,       5256,  1695.7,    0.484,  34.6886,2,  34.6886,2,    206.0,2,   206.5,2,   122.3,2,   32.85,2,    0.00,2,    2.27,2,   0.471,2,   0.231,2,   0.1375,2,  2261.8,2, 2355.33,2,   7.5827,2, -999.00,9,  -999.0,9,  -999.0,     0.1,2,  -999.0,9, -999.00,9,    19.1608,3, 20190421,     1841, -60.4999,  30.0008,      24.99,     0.4837,2,      0.126,1,      0.061,1,      4.636,1
325020190403,       I06S,      24,          1,         16,         16,2,20190421,       1723,   -60.4999,    30.0008,       5256,  1491.7,   0.5902,   34.694,2,  34.6941,2,    205.1,2,   205.4,2,   118.6,2,   32.60,2,    0.00,2,    2.26,2,-999.000,9,-999.000,9,-999.0000,9,  -999.0,9, -999.00,9,-999.0000,9, -999.00,9,  -999.0,9,  -999.0, -999.00,9,    39.5,2,   31.09,2,     -999.0,9, 20190421,     1845, -60.4999,  30.0008,     -999.0,     0.5897,2,      0.127,1,      0.061,1,      4.636,1
325020190403,       I06S,      24,          1,         17,         17,2,20190421,       1723,   -60.4999,    30.0008,       5256,  1359.1,    0.677,  34.6981,2,  34.6986,2,    204.3,2,   204.5,2,   115.9,2,   32.43,2,    0.00,2,    2.25,2,-999.000,9,-999.000,9,-999.0000,9,  -999.0,9, -999.00,9,-999.0000,9, -999.00,9,  -999.0,9,  -999.0,    0.13,2,    37.8,2,   32.05,2,     -999.0,9, 20190421,     1849, -60.4998,  30.0008,     -999.0,     0.6766,2,      0.125,1,      0.061,1,      4.634,1
325020190403,       I06S,      24,          1,         18,         18,2,20190421,       1723,   -60.4999,    30.0008,       5256,  1258.9,   0.7499,  34.7012,2,  34.7017,2,    203.5,2,   203.9,2,   113.6,2,   32.26,2,    0.00,2,    2.22,2,   0.446,2,   0.219,2,   0.1747,2,  2259.6,2, 2354.95,2,   7.5900,2, -999.00,9,  -999.0,9,  -999.0, -999.00,9,  -999.0,9, -999.00,9,    19.1774,3, 20190421,     1851, -60.4999,  30.0009,      24.85,     0.7511,2,      0.128,1,      0.061,1,      4.634,1
325020190403,       I06S,      24,          1,         19,         19,4,20190421,       1723,   -60.4999,    30.0008,       5256,  1156.8,   0.8311,  34.7047,3,-999.0000,9,    202.2,3,  -999.0,9,  -999.0,9, -999.00,9, -999.00,9, -999.00,9,-999.000,9,-999.000,9,-999.0000,9,  -999.0,9, -999.00,9,-999.0000,9, -999.00,9,  -999.0,9,  -999.0,    0.08,3,    37.2,2,   32.94,2,     -999.0,9, 20190421,     1854, -60.4998,  30.0008,     -999.0,     0.8302,2,      0.127,1,      0.059,1,      4.634,1
325020190403,       I06S,      24,          1,         20,         20,2,20190421,       1723,   -60.4999,    30.0008,       5256,  1055.3,    0.912,  34.7081,2,  34.7076,2,    200.7,2,   201.9,2,   109.2,2,   31.99,2,    0.00,2,    2.20,2,   0.435,2,   0.220,2,   0.2464,2,  2255.9,2, 2355.38,2,   7.5919,2, -999.00,9,  -999.0,9,  -999.0, -999.00,9,    38.0,2,   32.18,2,    19.0355,3, 20190421,     1856, -60.4999,  30.0008,      25.01,     0.9115,2,      0.130,1,      0.060,1,      4.634,1
325020190403,       I06S,      24,          1,         21,         21,2,20190421,       1723,   -60.4999,    30.0008,       5256,   952.9,   1.0089,  34.7106,2,  34.7107,2,    199.0,2,   200.8,2,   106.4,2,   31.89,2,    0.00,2,    2.20,2,   0.438,2,   0.221,2,   0.3159,2,  2256.5,2, 2354.20,2,   7.5911,2, -999.00,9,  -999.0,9,  -999.0,    0.24,2,  -999.0,9, -999.00,9,    19.2178,3, 20190421,     1859, -60.4999,  30.0008,      25.01,     1.0076,2,      0.129,1,      0.061,1,      4.632,1
325020190403,       I06S,      24,          1,         22,         22,2,20190421,       1723,   -60.4999,    30.0008,       5256,   853.7,   1.1702,   34.717,2,   34.717,2,    197.2,2,   198.7,2,   102.3,2,   31.60,2,    0.00,2,    2.17,2,-999.000,9,-999.000,9,-999.0000,9,  -999.0,9, -999.00,9,-999.0000,9, -999.00,9,  -999.0,9,  -999.0, -999.00,9,    39.5,2,   29.83,2,     -999.0,9, 20190421,     1902, -60.4998,  30.0008,     -999.0,     1.1693,2,      0.129,1,      0.061,1,      4.632,1
325020190403,       I06S,      24,          1,         23,         23,2,20190421,       1723,   -60.4999,    30.0008,       5256,   751.2,    1.283,  34.7183,2,  34.7182,2,    195.4,2,   196.0,2,    99.7,2,   31.66,2,    0.00,2,    2.18,2,-999.000,9,-999.000,9,-999.0000,9,  -999.0,9, -999.00,9,-999.0000,9, -999.00,9,  -999.0,9,  -999.0,    0.17,6,    38.1,2,   30.58,2,     -999.0,9, 20190421,     1905, -60.4998,  30.0008,     -999.0,     1.2844,2,      0.127,1,      0.061,1,      4.632,1
325020190403,       I06S,      24,          1,         24,         24,2,20190421,       1723,   -60.4999,    30.0008,       5256,   649.6,    1.413,  34.7199,2,  34.7198,2,    193.1,2,   194.3,2,    96.9,2,   31.55,2,    0.00,2,    2.16,2,   0.401,2,   0.200,2,   0.1819,2,  2253.0,2, 2351.29,3,   7.5925,2, -999.00,9,  -999.0,9,  -999.0, -999.00,9,  -999.0,9, -999.00,9,    19.2646,3, 20190421,     1907, -60.4999,  30.0008,      24.51,     1.4122,2,      0.130,1,      0.061,1,      4.630,1
325020190403,       I06S,      24,          1,         25,         25,2,20190421,       1723,   -60.4999,    30.0008,       5256,   547.5,   1.4702,  34.7132,2,  34.7129,2,    190.6,2,   191.3,2,    95.6,2,   31.75,2,    0.00,2,    2.19,2,-999.000,9,-999.000,9,-999.0000,9,  -999.0,9, -999.00,9,-999.0000,9, -999.00,9,  -999.0,9,  -999.0,    0.26,2,    38.5,2,   32.51,2,     -999.0,9, 20190421,     1910, -60.4999,  30.0008,     -999.0,     1.4694,2,      0.132,1,      0.061,1,      4.630,1
325020190403,       I06S,      24,          1,         26,         26,2,20190421,       1723,   -60.4999,    30.0008,       5256,   448.4,   1.5503,  34.6953,2,  34.6949,2,    186.7,2,   186.7,2,    93.2,2,   32.31,2,    0.00,2,    2.22,2,   0.533,2,   0.275,2,   0.3052,2,  2256.5,2, 2348.40,2,   7.5737,2, -999.00,9,  -999.0,9,  -999.0, -999.00,9,    38.9,2,   31.81,2,    19.8005,3, 20190421,     1913, -60.4998,  30.0008,      25.14,     1.5495,2,      0.129,1,      0.061,1,      4.631,1
325020190403,       I06S,      24,          1,         27,         27,2,20190421,       1723,   -60.4999,    30.0008,       5256,   376.2,   1.6318,  34.6782,2,   34.678,2,    183.1,2,   183.2,2,    90.8,2,   32.78,2,    0.00,2,    2.25,2,-999.000,9,-999.000,9,-999.0000,9,  -999.0,9, -999.00,9,-999.0000,9, -999.00,9,  -999.0,9,  -999.0,    0.37,6,  -999.0,9, -999.00,9,     -999.0,9, 20190421,     1915, -60.4998,  30.0008,     -999.0,     1.6315,2,      0.129,1,      0.060,1,      4.634,1
325020190403,       I06S,      24,          1,         28,         28,2,20190421,       1723,   -60.4999,    30.0008,       5256,   326.4,   1.6421,  34.6518,2,  34.6525,2,    182.8,2,   181.5,2,    89.4,2,   33.36,2,    0.00,2,    2.29,2,   0.760,2,   0.404,2,   0.4007,2,  -999.0,5, 2342.67,2,   7.5542,2, -999.00,9,  -999.0,9,  -999.0, -999.00,9,    38.2,2,   32.39,2,    20.6656,3, 20190421,     1917, -60.4998,  30.0008,      24.95,      1.641,2,      0.128,1,      0.062,1,      4.634,1
325020190403,       I06S,      24,          1,         29,         29,2,20190421,       1723,   -60.4999,    30.0008,       5256,   275.7,   1.6763,  34.6236,2,  34.6225,2,    181.4,2,   180.1,2,    87.6,2,   33.90,2,    0.00,2,    2.32,2,   0.908,2,   0.484,2,   0.4720,2,  2259.0,6, 2340.84,2,   7.5446,2, -999.00,9,  -999.0,9,  -999.0,    0.17,2,    37.7,2,   36.54,2,    20.9554,3, 20190421,     1918, -60.4998,  30.0008,      25.02,     1.6761,2,      0.127,1,      0.061,1,      4.636,1
325020190403,       I06S,      24,          1,         30,         30,2,20190421,       1723,   -60.4999,    30.0008,       5256,   225.5,   1.6802,  34.5881,2,  34.5868,2,    182.1,2,   180.9,2,    84.8,2,   34.28,2,    0.00,2,    2.35,2,-999.000,9,-999.000,9,-999.0000,9,  -999.0,9, -999.00,9,-999.0000,9, -999.00,9,  -999.0,9,  -999.0,    0.11,2,  -999.0,9, -999.00,9,     -999.0,9, 20190421,     1920, -60.4998,  30.0008,     -999.0,     1.6793,2,      0.130,1,      0.060,1,      4.635,1
325020190403,       I06S,      24,          1,         31,         31,2,20190421,       1723,   -60.4999,    30.0008,       5256,   175.0,   1.3305,  34.4837,2,  34.4809,2,    208.1,3,   204.0,2,    79.6,2,   34.27,2,    0.00,2,    2.34,2,-999.000,9,-999.000,9,-999.0000,9,  -999.0,9, -999.00,9,-999.0000,9, -999.00,9,  -999.0,9,  -999.0,    0.12,2,    38.9,2,   36.15,2,     -999.0,9, 20190421,     1922, -60.4998,  30.0008,     -999.0,     1.3249,2,      0.128,1,      0.062,1,      4.634,1
325020190403,       I06S,      24,          1,         32,         32,2,20190421,       1723,   -60.4999,    30.0008,       5256,   123.8,   0.2187,  34.2635,2,   34.263,2,    301.2,3,   296.3,2,    68.5,2,   31.42,2,    0.02,2,    2.15,2,   4.835,2,   2.518,2,   3.0835,2,  2219.2,2, 2316.06,2,   7.5968,2, -999.00,9,  -999.0,9,  -999.0,   -0.03,2,    37.3,2,   31.38,2,    18.4453,3, 20190421,     1924, -60.4998,  30.0008,      25.06,     0.2144,2,      0.132,1,      0.069,1,      4.631,1
325020190403,       I06S,      24,          1,         33,         33,2,20190421,       1723,   -60.4999,    30.0008,       5256,    94.5,  -0.3394,  34.1463,2,  34.1508,2,    336.6,3,   330.1,2,    61.6,2,   28.70,2,    0.55,2,    2.05,2,-999.000,9,-999.000,9,-999.0000,9,  -999.0,9, -999.00,9,-999.0000,9, -999.00,9,  -999.0,9,  -999.0,   -0.08,2,  -999.0,9, -999.00,9,     -999.0,9, 20190421,     1926, -60.4998,  30.0008,     -999.0,    -0.2505,3,      0.139,1,      0.122,1,      4.612,1
325020190403,       I06S,      24,          1,         34,         34,2,20190421,       1723,   -60.4999,    30.0008,       5256,    67.9,   0.8002,  33.8768,2,  33.8773,2,    333.9,2,   334.3,2,    45.2,2,   25.34,2,    0.34,2,    1.75,2,   5.640,2,   2.961,2,   3.7470,2,  -999.0,9, -999.00,9,-999.0000,9, -999.00,9,  -999.0,9,  -999.0,   -0.16,2,    40.4,2,   28.49,2,    15.4586,3, 20190421,     1927, -60.4999,  30.0008,     -999.0,     0.7995,2,      0.146,1,      0.122,1,      4.598,1
325020190403,       I06S,      24,          1,         35,         35,2,20190421,       1723,   -60.4999,    30.0008,       5256,    43.1,   0.8008,  33.8691,2,  33.8697,2,    332.9,2,   334.2,2,    44.4,2,   25.19,2,    0.34,2,    1.72,2,   5.649,2,   2.972,2,   3.8341,2,  2170.5,2, 2294.41,2,   7.6801,2, -999.00,9,  -999.0,9,  -999.0,   -0.18,2,  -999.0,9, -999.00,9,    15.5354,3, 20190421,     1929, -60.4998,  30.0008,      25.03,      0.798,2,      0.145,1,      0.125,1,      4.596,1
325020190403,       I06S,      24,          1,         36,         36,2,20190421,       1723,   -60.4999,    30.0008,       5256,    12.8,   0.7852,   33.863,2,  33.8642,2,    331.9,2,   334.3,2,    45.0,2,   25.09,2,    0.34,2,    1.72,2,   5.675,2,   2.988,2,   3.8635,2,  2170.7,2, 2294.19,2,   7.6811,2, -999.00,9,  -999.0,9,  -999.0,    -0.2,6,    41.6,2,   28.03,2,    15.5026,3, 20190421,     1930, -60.4998,  30.0008,      25.12,     0.7844,2,      0.147,1,      0.121,1,      4.596,1