BOTTLE,20210804CCHSIOCBG
EXPOCODE,SECT_ID,STNNBR,CASTNO,SAMPNO,BTLNBR,BTLNBR_FLAG_W,DATE,TIME,LATITUDE,LONGITUDE,DEPTH,CTDPRS,CTDTMP,CTDSAL,CTDSAL_FLAG_W,SALNTY,SALNTY_FLAG_W,CTDOXY,CTDOXY_FLAG_W,OXYGEN,OXYGEN_FLAG_W,SILCAT,SILCAT_FLAG_W,NITRAT,NITRAT_FLAG_W,NITRIT,NITRIT_FLAG_W,PHSPHT,PHSPHT_FLAG_W,CFC-11,CFC-11_FLAG_W,CFC-12,CFC-12_FLAG_W,SF6,SF6_FLAG_W,TCARBN,TCARBN_FLAG_W,ALKALI,ALKALI_FLAG_W,PH_TOT,PH_TOT_FLAG_W,DELC13,DELC13_FLAG_W,DELC14,DELC14_FLAG_W,C14ERR,DELO18,DELO18_FLAG_W,DOC,DOC_FLAG_W,TDN,TDN_FLAG_W,N2O,N2O_FLAG_W,BTL_DATE,BTL_TIME,BTL_LAT,BTL_LON,PH_TMP,REFTMP,REFTMP_FLAG_W,CTDBACKSCATTER,CTDBACKSCATTER_FLAG_W,CTDFLUOR,CTDFLUOR_FLAG_W,CTDXMISS,CTDXMISS_FLAG_W
,,,,,,,,,,,METERS,DBAR,ITS-90,PSS-78,,PSS-78,,UMOL/KG,,UMOL/KG,,UMOL/KG,,UMOL/KG,,UMOL/KG,,UMOL/KG,,PMOL/KG,,PMOL/KG,,FMOL/KG,,UMOL/KG,,UMOL/KG,,,,/MILLE,,/MILLE,,/MILLE,/MILLE,,UMOL/KG,,UMOL/KG,,NMOL/KG,,,,,,DEG C,ITS-90,,VOLTS,,VOLTS,,VOLTS,
325020190403,       I06S,      52,          1,          1,          1,2,20190510,       1820,   -35.9994,    30.0004,       4683,  4759.2,    1.113,  34.7287,2,  34.7296,2,    216.3,2,   215.7,2,   108.5,2,   30.93,2,    0.00,2,    2.09,2,   0.174,2,   0.087,2,   0.0000,2,  2255.2,6, 2365.20,2,   7.6264,3,   -0.10,4,  -170.2,4,     1.8,    0.09,2,    38.3,2,   29.39,2,    19.5811,3, 20190510,     1820, -35.9994,  30.0004,      25.09,     1.1126,2,      0.197,1,      0.061,1,      4.686,1
325020190403,       I06S,      52,          1,          2,          2,2,20190510,       1820,   -35.9994,    30.0004,       4683,  4468.8,   1.2323,  34.7402,2,    34.74,2,    216.3,2,   216.1,2,   103.5,2,   30.52,2,    0.00,2,    2.06,2,   0.127,2,   0.065,2,   0.0000,2,  2249.5,2, -999.00,9,   7.6300,3, -999.00,9,  -999.0,9,  -999.0,    0.07,2,    38.7,2,   29.64,2,    19.4746,3, 20190510,     1827, -35.9994,  30.0004,      25.10,     1.2322,2,      0.149,1,      0.061,1,      4.719,1
325020190403,       I06S,      52,          1,          3,          3,2,20190510,       1820,   -35.9994,    30.0004,       4683,  4179.3,   1.3451,  34.7508,2,  34.7502,2,    215.9,2,   216.1,2,    98.9,2,   29.99,2,    0.00,2,    2.02,2,-999.000,9,-999.000,9,-999.0000,9,  2246.1,2, 2359.17,2,   7.6339,3, -999.00,9,  -999.0,9,  -999.0,    0.16,2,  -999.0,9, -999.00,9,     -999.0,9, 20190510,     1832, -35.9994,  30.0004,      25.04,     1.3449,2,      0.140,1,      0.062,1,      4.722,1
325020190403,       I06S,      52,          1,          4,          4,2,20190510,       1820,   -35.9994,    30.0004,       4683,  3871.9,    1.523,  34.7652,2,  34.7645,2,    215.5,2,   216.0,2,    92.1,2,   29.39,2,    0.00,2,    1.98,2,   0.085,2,   0.047,2,   0.0000,2,  2241.6,2, -999.00,9,   7.6401,3, -999.00,9,  -999.0,9,  -999.0,    0.13,2,    39.5,2,   27.89,2,      18.99,3, 20190510,     1839, -35.9995,  30.0004,      25.03,     1.5222,2,      0.139,1,      0.060,1,      4.725,1
325020190403,       I06S,      52,          1,          5,          5,2,20190510,       1820,   -35.9994,    30.0004,       4683,  3563.8,   1.8902,  34.7935,2,  34.7922,2,    217.1,2,   217.0,2,    79.0,2,   28.12,2,    0.00,2,    1.91,2,   0.051,2,   0.032,2,   0.0000,2,  2232.3,2, 2349.40,2,   7.6516,3,    0.54,2,  -145.1,2,     1.8,    0.21,2,    39.0,2,   29.29,2,    18.3266,3, 20190510,     1845, -35.9994,  30.0004,      25.06,     1.8904,2,      0.130,1,      0.063,1,      4.729,1
325020190403,       I06S,      52,          1,          6,          6,2,20190510,       1820,   -35.9994,    30.0004,       4683,  3256.9,   2.1818,  34.8147,2,   34.814,2,    218.0,2,   218.5,2,    68.3,2,   26.90,2,    0.00,2,    1.81,2,-999.000,9,-999.000,9,-999.0000,9,  2224.8,2, -999.00,9,   7.6621,3, -999.00,9,  -999.0,9,  -999.0, -999.00,9,  -999.0,9, -999.00,9,     -999.0,9, 20190510,     1851, -35.9994,  30.0004,      25.08,     2.1821,2,      0.130,1,      0.062,1,      4.729,1
325020190403,       I06S,      52,          1,          7,          7,2,20190510,       1820,   -35.9994,    30.0004,       4683,  2964.4,   2.3672,  34.8201,2,  34.8191,2,    217.1,2,   217.0,2,    63.4,2,   26.76,2,    0.00,2,    1.80,2,   0.029,2,   0.016,2,   0.0000,2,  2219.4,2, 2340.46,2,   7.6623,3, -999.00,9,  -999.0,9,  -999.0,    0.29,2,    38.7,2,   26.97,2,    18.3238,3, 20190510,     1900, -35.9994,  30.0004,      25.08,     2.3664,2,      0.131,1,      0.060,1,      4.729,1
325020190403,       I06S,      52,          1,          8,          8,2,20190510,       1820,   -35.9994,    30.0004,       4683,  2709.7,   2.5307,   34.816,2,   34.815,2,    212.4,2,   213.0,2,    60.4,2,   26.90,2,    0.00,2,    1.81,2,   0.033,2,   0.019,2,   0.0000,2,  2218.4,2, -999.00,9,   7.6573,3,    0.68,2,  -133.6,2,     1.8, -999.00,9,    38.9,2,   26.46,2,    18.8741,3, 20190510,     1905, -35.9994,  30.0004,      25.08,     2.5298,2,      0.130,1,      0.060,1,      4.729,1
325020190403,       I06S,      52,          1,          9,          9,2,20190510,       1820,   -35.9994,    30.0004,       4683,  2453.4,   2.6404,  34.7891,2,  34.7889,2,    200.6,2,   201.7,2,    63.6,2,   28.27,2,    0.00,2,    1.92,2,-999.000,9,-999.000,9,-999.0000,9,  2227.4,2, 2341.28,2,   7.6382,3, -999.00,9,  -999.0,9,  -999.0,    0.26,6,  -999.0,9, -999.00,9,     -999.0,9, 20190510,     1910, -35.9994,  30.0004,      25.08,      2.639,2,      0.131,1,      0.063,1,      4.729,1
325020190403,       I06S,      52,          1,         10,         10,2,20190510,       1820,   -35.9994,    30.0004,       4683,  2201.1,   2.7898,  34.7477,2,  34.7469,2,    189.1,2,   189.6,2,    65.6,2,   29.83,2,    0.00,2,    2.03,2,   0.089,2,   0.053,2,   0.0000,2,  2236.7,2, -999.00,9,   7.6152,3,    0.59,2,  -142.6,2,     2.0, -999.00,9,    39.7,2,   30.77,2,    21.8339,3, 20190510,     1916, -35.9994,  30.0004,      25.08,     2.7894,2,      0.135,1,      0.062,1,      4.729,1
325020190403,       I06S,      52,          1,         11,         11,2,20190510,       1820,   -35.9994,    30.0004,       4683,  1967.0,   2.9609,  34.6784,2,   34.677,2,    173.8,2,   174.9,2,    69.2,2,   31.96,2,    0.00,2,    2.20,2,   0.213,2,   0.106,2,   0.0000,2,  2246.2,2, 2338.92,2,   7.5860,3, -999.00,9,  -999.0,9,  -999.0,    0.15,2,    38.7,2,   33.39,2,    24.1419,3, 20190510,     1921, -35.9994,  30.0004,      25.08,     2.9608,2,      0.132,1,      0.063,1,      4.728,1
325020190403,       I06S,      52,          1,         12,         12,4,20190510,       1820,   -35.9994,    30.0004,       4683,  1762.6,   3.2416,  34.6033,3,-999.0000,9,    166.0,3,  -999.0,9,  -999.0,9, -999.00,9, -999.00,9, -999.00,9,-999.000,9,-999.000,9,-999.0000,9,  -999.0,9, -999.00,9,-999.0000,9, -999.00,9,  -999.0,9,  -999.0, -999.00,9,  -999.0,9, -999.00,9,     -999.0,9, 20190510,     1925, -35.9994,  30.0004,     -999.0,     3.2448,2,      0.132,1,      0.062,1,      4.728,1
325020190403,       I06S,      52,          1,         13,         13,2,20190510,       1820,   -35.9994,    30.0004,       4683,  1590.4,    3.647,  34.5334,2,  34.5322,2,    167.0,2,   166.5,2,    61.4,2,   33.63,2,    0.00,2,    2.31,2,   0.974,2,   0.390,2,   0.2442,2,  2241.6,6, 2326.97,2,   7.5654,3,    0.55,2,  -128.2,2,     2.3,    0.16,2,    39.2,2,   34.87,2,    26.8346,3, 20190510,     1930, -35.9994,  30.0004,      25.08,     3.6468,2,      0.131,1,      0.062,1,      4.728,1
325020190403,       I06S,      52,          1,         14,         14,2,20190510,       1820,   -35.9994,    30.0004,       4683,  1489.4,     4.22,  34.5231,2,  34.5228,2,    165.1,2,   164.0,2,    56.6,2,   33.34,2,    0.00,2,    2.32,2,   1.171,2,   0.489,2,   0.2731,2,  2235.9,2, -999.00,9,   7.5701,3,    0.49,2,  -118.9,2,     2.1, -999.00,9,    38.3,2,   33.17,2,    27.0463,3, 20190510,     1932, -35.9994,  30.0004,      25.07,     4.2185,2,      0.131,1,      0.061,1,      4.727,1
325020190403,       I06S,      52,          1,         15,         15,2,20190510,       1820,   -35.9994,    30.0004,       4683,  1387.8,   4.5395,  34.4814,2,  34.4797,2,    172.6,2,   172.5,2,    48.5,2,   32.45,2,    0.00,2,    2.22,2,-999.000,9,-999.000,9,-999.0000,9,  2224.4,2, 2315.21,2,   7.5823,3, -999.00,9,  -999.0,9,  -999.0,    0.07,2,  -999.0,9, -999.00,9,     -999.0,9, 20190510,     1935, -35.9994,  30.0004,      25.08,     4.5389,2,      0.131,1,      0.060,1,      4.727,1
325020190403,       I06S,      52,          1,         16,         16,2,20190510,       1820,   -35.9994,    30.0004,       4683,  1286.2,   5.0083,  34.4384,2,  34.4385,2,    186.8,3,   184.8,2,    38.7,2,   30.98,2,    0.00,2,    2.11,2,   1.958,2,   0.979,2,   0.5361,2,  2209.3,2, -999.00,9,   7.6010,3, -999.00,9,  -999.0,9,  -999.0, -999.00,9,    40.2,2,   31.70,2,    23.8195,3, 20190510,     1938, -35.9994,  30.0004,      25.08,     5.0031,2,      0.132,1,      0.061,1,      4.727,1
325020190403,       I06S,      52,          1,         17,         17,2,20190510,       1820,   -35.9994,    30.0004,       4683,  1184.2,    5.604,  34.4265,2,  34.4246,2,    195.9,2,   195.7,2,    29.4,2,   29.14,2,    0.00,2,    1.97,2,   2.335,2,   1.260,2,   0.7640,2,  2195.0,2, 2298.05,2,   7.6235,3,    0.73,2,   -54.7,2,     1.8,    0.11,2,    41.2,2,   30.18,2,     21.619,3, 20190510,     1940, -35.9994,  30.0004,      25.06,     5.6047,2,      0.129,1,      0.060,1,      4.727,1
325020190403,       I06S,      52,          1,         18,         18,2,20190510,       1820,   -35.9994,    30.0004,       4683,  1083.5,   6.7869,  34.4996,2,  34.4969,2,    195.2,2,   194.9,2,    22.7,2,   26.63,2,    0.00,2,    1.80,2,-999.000,9,-999.000,9,-999.0000,9,  2182.3,2, -999.00,9,   7.6496,3, -999.00,9,  -999.0,9,  -999.0, -999.00,9,  -999.0,9, -999.00,9,     -999.0,9, 20190510,     1943, -35.9994,  30.0004,      25.11,     6.7752,2,      0.133,1,      0.060,1,      4.726,1
325020190403,       I06S,      52,          1,         19,         19,2,20190510,       1820,   -35.9994,    30.0004,       4683,   982.2,   8.0903,  34.6004,2,  34.5975,2,    200.4,2,   199.1,2,    15.6,2,   23.23,2,    0.00,2,    1.56,2,   2.672,2,   1.516,2,   0.9598,2,  2167.0,2, 2294.21,2,   7.6866,3,    0.59,2,   -15.1,2,     1.9,    0.24,2,    42.2,2,   24.11,2,    18.1996,3, 20190510,     1945, -35.9994,  30.0004,      25.08,     8.0969,2,      0.134,1,      0.059,1,      4.724,1
325020190403,       I06S,      52,          1,         20,         20,2,20190510,       1820,   -35.9994,    30.0004,       4683,   881.6,   9.4472,  34.7211,2,  34.7245,2,    213.5,2,   212.9,2,     8.5,2,   18.57,2,    0.00,2,    1.27,2,   2.946,2,   1.742,2,   1.1906,2,  2146.7,2, -999.00,9,   7.7385,3, -999.00,9,  -999.0,9,  -999.0, -999.00,9,    44.7,2,   19.45,2,    15.3498,3, 20190510,     1948, -35.9994,  30.0004,      25.08,     9.4669,2,      0.132,1,      0.059,1,      4.724,1
325020190403,       I06S,      52,          1,         21,         21,2,20190510,       1820,   -35.9994,    30.0004,       4683,   779.2,  10.6966,  34.8755,2,  34.8715,2,    218.3,2,   217.5,2,     5.7,2,   15.36,2,    0.00,2,    1.08,2,-999.000,9,-999.000,9,-999.0000,9,  2139.9,2, -999.00,9,   7.7727,3, -999.00,9,  -999.0,9,  -999.0,    0.41,2,  -999.0,9, -999.00,9,     -999.0,9, 20190510,     1951, -35.9994,  30.0004,      25.12,    10.7015,2,      0.133,1,      0.059,1,      4.722,1
325020190403,       I06S,      52,          1,         22,         22,2,20190510,       1820,   -35.9994,    30.0004,       4683,   678.8,  11.8619,  35.0403,2,  35.0401,2,    218.8,2,   218.5,2,     4.8,2,   12.60,2,    0.00,2,    0.91,2,   2.842,2,   1.744,2,   1.5483,2,  2131.7,6, 2306.63,2,   7.8021,3,    0.81,2,    36.4,2,     2.0, -999.00,9,    46.0,2,   13.68,2,    12.7282,3, 20190510,     1953, -35.9994,  30.0004,      25.09,    11.8577,2,      0.136,1,      0.059,1,      4.720,1
325020190403,       I06S,      52,          1,         23,         23,2,20190510,       1820,   -35.9994,    30.0004,       4683,   577.4,  12.9222,  35.1956,2,  35.1928,2,    216.2,2,   215.6,2,     4.2,2,   10.43,2,    0.00,2,    0.78,2,   2.725,2,   1.708,2,   1.5855,2,  2127.1,2, -999.00,9,   7.8254,3,    0.68,2,    35.9,2,     2.1,    0.61,2,    44.8,2,   11.52,2,    12.2395,3, 20190510,     1956, -35.9994,  30.0004,      25.10,    12.9215,2,      0.137,1,      0.059,1,      4.717,1
325020190403,       I06S,      52,          1,         24,         24,2,20190510,       1820,   -35.9994,    30.0004,       4683,   495.9,  13.7288,  35.3022,2,   35.303,2,    212.8,2,   213.1,2,     4.0,2,    8.86,2,    0.00,2,    0.67,2,-999.000,9,-999.000,9,-999.0000,9,  2122.6,2, 2319.11,2,   7.8431,3, -999.00,9,  -999.0,9,  -999.0, -999.00,9,  -999.0,9, -999.00,9,     -999.0,9, 20190510,     1959, -35.9994,  30.0004,      25.08,    13.7344,2,      0.143,1,      0.059,1,      4.716,1
325020190403,       I06S,      52,          1,         25,         25,2,20190510,       1820,   -35.9994,    30.0004,       4683,   445.7,  14.3214,   35.348,2,  35.3451,2,    207.4,2,   207.6,2,     4.2,2,    8.37,2,    0.00,2,    0.62,2,   2.535,2,   1.595,2,   1.7811,2,  2120.0,2, -999.00,9,   7.8499,3,    0.56,2,    34.4,2,     2.1,    0.68,2,    45.0,2,   10.73,2,    11.7966,3, 20190510,     2000, -35.9994,  30.0004,      25.10,     14.335,2,      0.137,1,      0.061,1,      4.715,1
325020190403,       I06S,      52,          1,         26,         26,2,20190510,       1820,   -35.9994,    30.0004,       4683,   395.2,  14.9146,  35.4054,2,  35.4081,2,    203.6,2,   204.9,2,     4.2,2,    7.64,2,    0.00,2,    0.58,2,   2.462,2,   1.558,2,   1.7204,2,  2117.7,2, -999.00,9,   7.8614,3, -999.00,9,  -999.0,9,  -999.0, -999.00,9,    46.6,2,    9.35,2,    11.4418,3, 20190510,     2002, -35.9994,  30.0004,      25.11,    14.9363,2,      0.137,1,      0.060,1,      4.714,1
325020190403,       I06S,      52,          1,         27,         27,2,20190510,       1820,   -35.9994,    30.0004,       4683,   344.8,  15.8218,  35.4716,2,  35.4654,2,    199.1,2,   200.2,2,     4.2,2,    6.97,2,    0.00,2,    0.54,2,-999.000,9,-999.000,9,-999.0000,9,  2112.4,2, 2325.11,2,   7.8766,3, -999.00,9,  -999.0,9,  -999.0,    0.75,2,  -999.0,9, -999.00,9,     -999.0,9, 20190510,     2004, -35.9994,  30.0004,      25.08,    15.8252,2,      0.137,1,      0.059,1,      4.714,1
325020190403,       I06S,      52,          1,         28,         28,2,20190510,       1820,   -35.9994,    30.0004,       4683,   294.7,  16.7068,  35.5536,2,  35.5538,2,    205.4,2,   207.0,2,     3.5,2,    5.04,2,    0.00,2,    0.40,2,   2.279,2,   1.428,2,   1.7439,2,  2097.8,2, -999.00,9,   7.9093,3,    0.40,2,    25.3,2,     2.1, -999.00,9,    50.8,2,    7.19,2,    10.1078,3, 20190510,     2005, -35.9994,  30.0004,      25.13,    16.7215,2,      0.138,1,      0.061,1,      4.712,1
325020190403,       I06S,      52,          1,         29,         29,2,20190510,       1820,   -35.9994,    30.0004,       4683,   244.7,  17.1854,  35.5708,2,  35.5666,2,    201.4,2,   203.0,2,     3.4,2,    4.91,2,    0.00,2,    0.39,2,   2.229,2,   1.393,2,   1.8367,2,  2094.8,2, 2329.73,2,   7.9156,3, -999.00,9,  -999.0,9,  -999.0,    0.83,6,    49.2,2,    6.74,2,    10.0293,3, 20190510,     2007, -35.9994,  30.0004,      25.09,     17.181,2,      0.142,1,      0.061,1,      4.710,1
325020190403,       I06S,      52,          1,         30,         30,2,20190510,       1820,   -35.9994,    30.0004,       4683,   194.6,  17.7492,  35.5757,2,  35.5757,2,    198.6,2,   199.6,2,     3.7,2,    4.66,2,    0.00,2,    0.38,2,   2.171,2,   1.339,2,   1.7744,2,  2090.2,2, -999.00,9,   7.9245,3, -999.00,9,  -999.0,9,  -999.0,    0.81,2,  -999.0,9, -999.00,9,     9.9901,3, 20190510,     2009, -35.9994,  30.0004,      25.10,    17.7636,2,      0.145,1,      0.059,1,      4.708,1
325020190403,       I06S,      52,          1,         31,         31,2,20190510,       1820,   -35.9994,    30.0004,       4683,   144.7,  18.9155,  35.5546,2,  35.5562,2,    193.1,2,   194.9,2,     3.3,2,    3.77,2,    0.01,2,    0.32,2,   2.103,2,   1.288,2,   1.8345,2,  2080.7,2, 2328.96,2,   7.9391,3,    0.46,2,    21.7,2,     2.1,    0.79,2,    51.1,2,    6.02,2,     9.9658,3, 20190510,     2010, -35.9994,  30.0004,      25.09,    18.9193,2,      0.167,1,      0.066,1,      4.704,1
325020190403,       I06S,      52,          1,         32,         32,2,20190510,       1820,   -35.9994,    30.0004,       4683,    98.3,  20.1028,  35.5731,2,  35.5714,2,    205.6,2,   206.9,2,     2.2,2,    1.73,2,    0.03,2,    0.20,2,   2.008,2,   1.221,2,   1.5981,2,  2058.9,2, -999.00,9,   7.9856,3, -999.00,9,  -999.0,9,  -999.0,    0.79,2,    52.8,2,    3.93,2,     8.5987,3, 20190510,     2012, -35.9994,  30.0004,      25.11,    20.1089,2,      0.154,1,      0.081,1,      4.696,1
325020190403,       I06S,      52,          1,         33,         33,2,20190510,       1820,   -35.9994,    30.0004,       4683,    73.2,  20.5257,   35.596,2,  35.5987,2,    211.0,3,   220.6,2,     1.9,2,    0.15,2,    0.04,2,    0.10,2,   1.984,2,   1.200,2,   1.7193,2,  2041.3,2, 2331.61,2,   8.0154,3, -999.00,9,  -999.0,9,  -999.0,    0.79,2,  -999.0,9, -999.00,9,     7.8374,3, 20190510,     2013, -35.9994,  30.0004,      25.11,    20.5229,2,      0.208,1,      0.175,1,      4.631,1
325020190403,       I06S,      52,          1,         34,         34,2,20190510,       1820,   -35.9994,    30.0004,       4683,    47.8,  20.7603,  35.5674,2,  35.5678,2,    215.6,3,   222.3,2,     1.8,2,    0.06,2,    0.00,2,    0.08,2,   1.970,2,   1.186,2,   1.7316,2,  2036.6,2, -999.00,9,   8.0218,3,    0.65,2,    22.0,2,     2.1,    0.81,2,    55.2,2,    3.01,2,     7.6736,3, 20190510,     2015, -35.9994,  30.0004,      25.11,    20.7604,2,      0.231,1,      0.201,1,      4.590,1
325020190403,       I06S,      52,          1,         35,         35,2,20190510,       1820,   -35.9994,    30.0004,       4683,    27.5,  21.1318,  35.5339,2,  35.5341,2,    220.4,2,   220.2,2,     1.8,2,    0.09,2,    0.00,2,    0.08,2,   1.946,2,   1.169,2,   1.6982,2,  2032.5,2, 2327.02,2,   8.0266,3, -999.00,9,  -999.0,9,  -999.0,    0.83,2,  -999.0,9, -999.00,9,     7.6021,3, 20190510,     2016, -35.9994,  30.0004,      25.10,    21.1315,2,      0.235,1,      0.217,1,      4.590,1
325020190403,       I06S,      52,          1,         36,         36,2,20190510,       1820,   -35.9994,    30.0004,       4683,    12.8,  21.1331,  35.5316,2,  35.5312,2,    219.9,2,   220.2,2,     1.9,2,    0.09,2,    0.00,2,    0.08,2,   1.938,2,   1.181,2,   1.6783,2,  2032.7,6, -999.00,5,   8.0270,2,    0.72,2,    20.8,2,     2.0,    0.87,2,    60.4,2,    3.85,2,     7.5795,3, 20190510,     2017, -35.9994,  30.0004,      25.11,    21.1379,2,      0.239,1,      0.225,1,      4.593,1