BOTTLE,20210804CCHSIOCBG
EXPOCODE,SECT_ID,STNNBR,CASTNO,SAMPNO,BTLNBR,BTLNBR_FLAG_W,DATE,TIME,LATITUDE,LONGITUDE,DEPTH,CTDPRS,CTDTMP,CTDSAL,CTDSAL_FLAG_W,SALNTY,SALNTY_FLAG_W,CTDOXY,CTDOXY_FLAG_W,OXYGEN,OXYGEN_FLAG_W,SILCAT,SILCAT_FLAG_W,NITRAT,NITRAT_FLAG_W,NITRIT,NITRIT_FLAG_W,PHSPHT,PHSPHT_FLAG_W,CFC-11,CFC-11_FLAG_W,CFC-12,CFC-12_FLAG_W,SF6,SF6_FLAG_W,TCARBN,TCARBN_FLAG_W,ALKALI,ALKALI_FLAG_W,PH_TOT,PH_TOT_FLAG_W,DELC13,DELC13_FLAG_W,DELC14,DELC14_FLAG_W,C14ERR,DELO18,DELO18_FLAG_W,DOC,DOC_FLAG_W,TDN,TDN_FLAG_W,N2O,N2O_FLAG_W,BTL_DATE,BTL_TIME,BTL_LAT,BTL_LON,PH_TMP,REFTMP,REFTMP_FLAG_W,CTDBACKSCATTER,CTDBACKSCATTER_FLAG_W,CTDFLUOR,CTDFLUOR_FLAG_W,CTDXMISS,CTDXMISS_FLAG_W
,,,,,,,,,,,METERS,DBAR,ITS-90,PSS-78,,PSS-78,,UMOL/KG,,UMOL/KG,,UMOL/KG,,UMOL/KG,,UMOL/KG,,UMOL/KG,,PMOL/KG,,PMOL/KG,,FMOL/KG,,UMOL/KG,,UMOL/KG,,,,/MILLE,,/MILLE,,/MILLE,/MILLE,,UMOL/KG,,UMOL/KG,,NMOL/KG,,,,,,DEG C,ITS-90,,VOLTS,,VOLTS,,VOLTS,
325020190403,       I06S,      25,          1,          1,          1,2,20190422,       0433,   -60.0064,    30.0096,       5199,  5304.1,  -0.2526,  34.6496,2,  34.6501,2,    244.3,2,   243.0,2,   136.3,2,   32.47,2,    0.00,2,    2.23,2,   0.754,2,   0.398,2,   0.1858,2,  2253.1,6, 2354.04,2,   7.6019,2, -999.00,9,  -999.0,9,  -999.0,   -0.12,2,  -999.0,9, -999.00,9,    17.2034,3, 20190422,      433, -60.0064,  30.0097,      25.08,    -0.2525,2,      0.143,1,      0.059,1,      4.614,1
325020190403,       I06S,      25,          1,          2,          2,2,20190422,       0433,   -60.0064,    30.0096,       5199,  5210.3,  -0.2519,  34.6504,2,  34.6501,2,    242.9,2,   243.0,2,   133.3,2,   32.39,2,    0.00,2,    2.22,2,   0.733,2,   0.373,2,   0.2658,2,  -999.0,9, -999.00,9,-999.0000,9, -999.00,9,  -999.0,9,  -999.0,   -0.08,2,  -999.0,9, -999.00,9,    17.8158,3, 20190422,      437, -60.0068,  30.0101,     -999.0,    -0.2515,2,      0.130,1,      0.061,1,      4.627,1
325020190403,       I06S,      25,          1,          3,          3,2,20190422,       0433,   -60.0064,    30.0096,       5199,  5115.9,  -0.2455,  34.6507,2,  34.6509,2,    242.5,2,   242.4,2,   132.9,2,   32.40,2,    0.00,2,    2.22,2,   0.731,2,   0.372,2,   0.3062,2,  2251.2,2, 2348.52,3,   7.6012,2, -999.00,9,  -999.0,9,  -999.0,   -0.17,2,  -999.0,9, -999.00,9,    17.7542,3, 20190422,      440, -60.0072,  30.0107,      25.09,    -0.2453,2,      0.124,1,      0.060,1,      4.627,1
325020190403,       I06S,      25,          1,          4,          4,2,20190422,       0433,   -60.0064,    30.0096,       5199,  4703.7,  -0.2194,  34.6533,2,  34.6533,2,    239.5,2,   240.2,2,   131.6,2,   32.47,2,    0.00,2,    2.23,2,   0.689,2,   0.347,2,   0.2270,2,  2252.2,2, 2350.13,2,   7.6001,2, -999.00,9,  -999.0,9,  -999.0,   -0.13,2,  -999.0,9, -999.00,9,     17.929,3, 20190422,      448, -60.0078,  30.0115,      25.06,    -0.2193,2,      0.127,1,      0.059,1,      4.632,1
325020190403,       I06S,      25,          1,          5,          5,2,20190422,       0433,   -60.0064,    30.0096,       5199,  4291.0,   -0.199,  34.6554,2,  34.6554,2,    237.0,2,   237.8,2,   129.8,2,   32.50,2,    0.00,2,    2.24,2,   0.668,2,   0.335,2,   0.2100,2,  -999.0,9, -999.00,9,-999.0000,9, -999.00,9,  -999.0,9,  -999.0,   -0.08,2,  -999.0,9, -999.00,9,    18.0501,3, 20190422,      456, -60.0083,  30.0121,     -999.0,    -0.1987,2,      0.122,1,      0.059,1,      4.634,1
325020190403,       I06S,      25,          1,          6,          6,2,20190422,       0433,   -60.0064,    30.0096,       5199,  3877.3,  -0.1475,  34.6584,2,  34.6588,2,    232.0,2,   234.3,2,   128.8,2,   32.58,2,    0.00,2,    2.25,2,   0.645,2,   0.327,2,   0.2160,2,  2254.3,2, 2352.84,2,   7.5954,2, -999.00,9,  -999.0,9,  -999.0,    -0.1,2,  -999.0,9, -999.00,9,    18.1399,3, 20190422,      503, -60.0086,  30.0126,      25.08,    -0.1472,2,      0.122,1,      0.059,1,      4.635,1
325020190403,       I06S,      25,          1,          7,          7,2,20190422,       0433,   -60.0064,    30.0096,       5199,  3574.4,  -0.0893,  34.6614,2,  34.6607,2,    229.9,2,   230.6,2,   128.7,2,   32.67,2,    0.00,2,    2.26,2,   0.608,2,   0.310,2,   0.3165,2,  -999.0,9, -999.00,9,-999.0000,9, -999.00,9,  -999.0,9,  -999.0, -999.00,9,  -999.0,9, -999.00,9,    18.2607,3, 20190422,      509, -60.0088,  30.0129,     -999.0,    -0.0895,2,      0.122,1,      0.060,1,      4.635,1
325020190403,       I06S,      25,          1,          8,          8,2,20190422,       0433,   -60.0064,    30.0096,       5199,  3265.3,  -0.0331,  34.6642,2,  34.6627,2,    225.7,3,   229.0,2,   128.8,2,   32.72,2,    0.00,2,    2.26,2,   0.608,2,   0.300,2,   0.2314,2,  2257.7,2, 2354.18,2,   7.5919,2, -999.00,9,  -999.0,9,  -999.0,   -0.04,2,  -999.0,9, -999.00,9,    18.3335,3, 20190422,      515, -60.0092,  30.0133,      25.09,    -0.0328,2,      0.124,1,      0.060,1,      4.635,1
325020190403,       I06S,      25,          1,          9,          9,2,20190422,       0433,   -60.0064,    30.0096,       5199,  2971.3,   0.0461,  34.6678,2,  34.6674,2,    222.7,2,   222.5,2,   128.6,2,   32.84,2,    0.00,2,    2.26,2,   0.543,2,   0.268,2,   0.2309,2,  -999.0,9, -999.00,9,-999.0000,9, -999.00,9,  -999.0,9,  -999.0, -999.00,9,  -999.0,9, -999.00,9,    18.4939,3, 20190422,      520, -60.0095,  30.0137,     -999.0,     0.0464,2,      0.121,1,      0.060,1,      4.636,1
325020190403,       I06S,      25,          1,         10,         10,2,20190422,       0433,   -60.0064,    30.0096,       5199,  2714.2,   0.1399,  34.6717,2,  34.6721,2,    218.5,2,   218.0,2,   127.5,2,   32.89,2,    0.00,2,    2.28,2,   0.514,2,   0.254,2,   0.2456,2,  2261.0,2, 2356.10,2,   7.5846,2, -999.00,9,  -999.0,9,  -999.0,   -0.07,2,  -999.0,9, -999.00,9,    18.5938,3, 20190422,      525, -60.0098,  30.0140,      25.07,     0.1401,2,      0.124,1,      0.060,1,      4.635,1
325020190403,       I06S,      25,          1,         11,         11,2,20190422,       0433,   -60.0064,    30.0096,       5199,  2460.4,   0.2287,   34.676,2,   34.676,2,    214.2,2,   214.6,2,   127.5,2,   32.97,2,    0.00,2,    2.28,2,   0.490,2,   0.237,2,   0.2219,2,  -999.0,9, -999.00,9,-999.0000,9, -999.00,9,  -999.0,9,  -999.0, -999.00,9,  -999.0,9, -999.00,9,    18.5668,3, 20190422,      530, -60.0100,  30.0143,     -999.0,     0.2286,2,      0.122,1,      0.059,1,      4.636,1
325020190403,       I06S,      25,          1,         12,         12,2,20190422,       0433,   -60.0064,    30.0096,       5199,  2203.7,   0.3148,    34.68,2,  34.6807,2,    208.9,3,   211.2,2,   125.7,2,   32.92,2,    0.00,2,    2.28,2,   0.472,2,   0.237,2,   0.1430,2,  2263.3,2, 2357.50,2,   7.5818,2, -999.00,9,  -999.0,9,  -999.0,    -0.1,2,  -999.0,9, -999.00,9,    18.5683,3, 20190422,      535, -60.0104,  30.0147,      25.10,     0.3146,2,      0.123,1,      0.059,1,      4.635,1
325020190403,       I06S,      25,          1,         13,         13,2,20190422,       0433,   -60.0064,    30.0096,       5199,  1972.7,   0.4181,  34.6847,2,  34.6845,2,    206.1,3,   208.2,2,   123.9,2,   32.96,2,    0.00,2,    2.27,2,   0.465,2,   0.229,2,   0.1458,2,  2262.6,2, -999.00,9,-999.0000,9, -999.00,9,  -999.0,9,  -999.0, -999.00,9,  -999.0,9, -999.00,9,    18.6775,3, 20190422,      541, -60.0106,  30.0149,     -999.0,     0.4185,2,      0.125,1,      0.060,1,      4.636,1
325020190403,       I06S,      25,          1,         14,         14,2,20190422,       0433,   -60.0064,    30.0096,       5199,  1765.8,    0.523,  34.6901,2,  34.6905,2,    205.2,2,   206.6,2,   120.8,2,   32.66,2,    0.00,2,    2.25,2,   0.466,2,   0.229,2,   0.1950,2,  -999.0,9, -999.00,9,-999.0000,9, -999.00,9,  -999.0,9,  -999.0,     0.0,6,  -999.0,9, -999.00,9,    18.6422,3, 20190422,      545, -60.0108,  30.0152,     -999.0,      0.523,2,      0.123,1,      0.060,1,      4.635,1
325020190403,       I06S,      25,          1,         15,         15,2,20190422,       0433,   -60.0064,    30.0096,       5199,  1563.1,   0.6427,  34.6959,2,  34.6956,2,    204.3,2,   205.0,2,   116.9,2,   32.44,2,    0.00,2,    2.23,2,   0.478,2,   0.268,2,   0.9225,4,  2262.8,2, 2357.25,2,   7.5872,2, -999.00,9,  -999.0,9,  -999.0, -999.00,9,  -999.0,9, -999.00,9,    18.6297,3, 20190422,      550, -60.0109,  30.0153,      25.06,     0.6415,2,      0.124,1,      0.060,1,      4.635,1
325020190403,       I06S,      25,          1,         16,         16,2,20190422,       0433,   -60.0064,    30.0096,       5199,  1392.4,   0.7626,  34.7018,2,  34.7015,2,    203.3,2,   204.1,2,   112.9,2,   32.23,2,    0.00,2,    2.21,2,   0.440,2,   0.219,2,   0.2601,2,  -999.0,9, -999.00,9,-999.0000,9, -999.00,9,  -999.0,9,  -999.0,    0.01,2,  -999.0,9, -999.00,9,    18.7814,3, 20190422,      554, -60.0109,  30.0154,     -999.0,     0.7638,2,      0.125,1,      0.060,1,      4.635,1
325020190403,       I06S,      25,          1,         17,         17,2,20190422,       0433,   -60.0064,    30.0096,       5199,  1288.9,   0.8515,  34.7061,2,  34.7062,2,    203.2,2,   203.4,2,   110.5,2,   32.01,2,    0.00,2,    2.20,2,   0.428,2,   0.210,2,   0.2199,2,  2257.9,2, 2355.69,2,   7.5927,2, -999.00,9,  -999.0,9,  -999.0, -999.00,9,  -999.0,9, -999.00,9,    18.8417,3, 20190422,      557, -60.0110,  30.0154,      25.06,     0.8501,2,      0.126,1,      0.060,1,      4.634,1
325020190403,       I06S,      25,          1,         18,         18,2,20190422,       0433,   -60.0064,    30.0096,       5199,  1186.9,   0.9524,  34.7112,2,  34.7117,2,    202.4,2,   202.4,2,   106.9,2,   31.85,2,    0.00,2,    2.18,2,   0.410,2,   0.209,2,   0.2662,2,  -999.0,9, -999.00,9,-999.0000,9, -999.00,9,  -999.0,9,  -999.0,    0.04,2,  -999.0,9, -999.00,9,    18.7722,3, 20190422,      559, -60.0110,  30.0155,     -999.0,     0.9523,2,      0.129,1,      0.062,1,      4.633,1
325020190403,       I06S,      25,          1,         19,         19,2,20190422,       0433,   -60.0064,    30.0096,       5199,  1087.1,   1.0658,  34.7169,2,   34.717,2,    201.8,2,   201.5,2,   104.3,2,   31.62,2,    0.00,2,    2.16,2,   0.385,2,   0.189,2,   0.2489,2,  2254.5,2, -999.00,9,-999.0000,9, -999.00,9,  -999.0,9,  -999.0, -999.00,9,  -999.0,9, -999.00,9,     18.758,3, 20190422,      602, -60.0110,  30.0156,     -999.0,     1.0664,2,      0.128,1,      0.060,1,      4.634,1
325020190403,       I06S,      25,          1,         20,         20,2,20190422,       0433,   -60.0064,    30.0096,       5199,   982.7,    1.189,  34.7211,2,  34.7219,2,    200.7,2,   199.9,2,   101.8,2,   31.40,2,    0.00,2,    2.15,2,   0.371,2,   0.186,2,   0.2028,2,  2253.4,2, 2354.22,2,   7.5979,2, -999.00,9,  -999.0,9,  -999.0,    0.04,2,  -999.0,9, -999.00,9,    18.7924,3, 20190422,      605, -60.0111,  30.0158,      25.09,      1.188,2,      0.129,1,      0.060,1,      4.632,1
325020190403,       I06S,      25,          1,         21,         21,2,20190422,       0433,   -60.0064,    30.0096,       5199,   885.0,   1.2658,  34.7211,2,  34.7208,2,    198.0,2,   197.7,2,   100.0,2,   31.46,2,    0.00,2,    2.15,2,   0.388,2,   0.196,2,   0.2610,2,  -999.0,9, -999.00,9,-999.0000,9, -999.00,9,  -999.0,9,  -999.0, -999.00,9,  -999.0,9, -999.00,9,    18.8815,3, 20190422,      607, -60.0112,  30.0158,     -999.0,     1.2658,2,      0.130,1,      0.062,1,      4.633,1
325020190403,       I06S,      25,          1,         22,         22,2,20190422,       0433,   -60.0064,    30.0096,       5199,   783.9,   1.3698,  34.7184,2,   34.718,2,    194.8,2,   194.3,2,    97.6,2,   31.63,2,    0.00,2,    2.16,2,   0.411,2,   0.208,2,   0.2223,2,  2254.5,2, 2351.10,2,   7.5905,2, -999.00,9,  -999.0,9,  -999.0,    0.09,2,  -999.0,9, -999.00,9,    19.0635,3, 20190422,      610, -60.0113,  30.0159,      25.10,     1.3703,2,      0.131,1,      0.061,1,      4.631,1
325020190403,       I06S,      25,          1,         23,         23,2,20190422,       0433,   -60.0064,    30.0096,       5199,   681.2,   1.4478,   34.712,2,  34.7117,2,    191.6,2,   191.4,2,    95.6,2,   31.82,2,    0.00,2,    2.18,2,   0.447,2,   0.229,2,   0.2614,2,  -999.0,9, -999.00,9,-999.0000,9, -999.00,9,  -999.0,9,  -999.0, -999.00,9,  -999.0,9, -999.00,9,     19.179,3, 20190422,      613, -60.0115,  30.0162,     -999.0,     1.4474,2,      0.129,1,      0.062,1,      4.630,1
325020190403,       I06S,      25,          1,         24,         24,2,20190422,       0433,   -60.0064,    30.0096,       5199,   578.2,   1.6348,  34.7092,2,   34.709,2,    187.4,2,   187.7,2,    92.0,2,   31.92,2,    0.00,2,    2.18,2,   0.439,2,   0.229,2,   0.2701,2,  2254.6,2, 2353.92,2,   7.5815,2, -999.00,9,  -999.0,9,  -999.0,    0.06,2,  -999.0,9, -999.00,9,    19.3331,3, 20190422,      616, -60.0117,  30.0164,      25.08,     1.6341,2,      0.135,1,      0.062,1,      4.629,1
325020190403,       I06S,      25,          1,         25,         25,2,20190422,       0433,   -60.0064,    30.0096,       5199,   477.7,    1.787,  34.7039,2,  34.7039,2,    184.0,2,   183.7,2,    88.9,2,   32.16,2,    0.00,2,    2.18,2,   0.429,2,   0.220,2,   0.2703,2,  -999.0,9, -999.00,9,-999.0000,9, -999.00,9,  -999.0,9,  -999.0, -999.00,9,  -999.0,9, -999.00,9,    19.5192,3, 20190422,      619, -60.0119,  30.0166,     -999.0,     1.7857,2,      0.131,1,      0.062,1,      4.632,1
325020190403,       I06S,      25,          1,         26,         26,2,20190422,       0433,   -60.0064,    30.0096,       5199,   398.3,   1.7124,  34.6717,2,  34.6713,2,    182.2,2,   182.0,2,    88.4,2,   32.94,2,    0.00,2,    2.24,2,   0.610,2,   0.328,2,   0.3952,2,  2258.2,6, -999.00,9,-999.0000,9, -999.00,9,  -999.0,9,  -999.0,    0.07,2,  -999.0,9, -999.00,9,    19.9669,3, 20190422,      621, -60.0120,  30.0167,     -999.0,     1.7126,2,      0.131,1,      0.061,1,      4.634,1
325020190403,       I06S,      25,          1,         27,         27,2,20190422,       0433,   -60.0064,    30.0096,       5199,   346.5,   1.6357,  34.6361,2,  34.6364,2,    184.0,2,   182.5,2,    87.7,2,   33.42,2,    0.00,2,    2.28,2,   0.844,2,   0.457,2,   0.5072,2,  2257.7,2, 2345.11,2,   7.5519,2, -999.00,9,  -999.0,9,  -999.0, -999.00,9,  -999.0,9, -999.00,9,    20.2465,3, 20190422,      624, -60.0122,  30.0170,      25.08,     1.6348,2,      0.129,1,      0.061,1,      4.633,1
325020190403,       I06S,      25,          1,         28,         28,2,20190422,       0433,   -60.0064,    30.0096,       5199,   296.1,   1.6078,  34.6013,2,  34.6021,2,    186.1,3,   184.2,2,    85.8,2,   33.96,2,    0.00,2,    2.30,2,   1.081,2,   0.580,2,   0.6168,2,  2261.3,2, -999.00,9,-999.0000,9, -999.00,9,  -999.0,9,  -999.0,    0.13,2,  -999.0,9, -999.00,9,    20.5027,3, 20190422,      626, -60.0124,  30.0172,     -999.0,     1.6072,2,      0.129,1,      0.061,1,      4.634,1
325020190403,       I06S,      25,          1,         29,         29,2,20190422,       0433,   -60.0064,    30.0096,       5199,   245.2,   1.4449,  34.5443,2,  34.5415,2,    198.7,3,   195.0,2,    82.3,2,   34.09,2,    0.00,2,    2.31,2,   1.625,2,   0.854,2,   0.8168,2,  2254.4,2, 2338.37,2,   7.5416,2, -999.00,9,  -999.0,9,  -999.0, -999.00,9,  -999.0,9, -999.00,9,     20.476,3, 20190422,      628, -60.0126,  30.0175,      25.03,     1.4425,2,      0.129,1,      0.062,1,      4.633,1
325020190403,       I06S,      25,          1,         30,         30,2,20190422,       0433,   -60.0064,    30.0096,       5199,   196.0,    0.784,  34.3955,2,   34.395,2,    232.8,3,   243.8,2,    75.5,2,   33.09,2,    0.00,2,    2.26,2,   3.340,2,   1.708,2,   1.9351,2,  2243.1,2, -999.00,9,-999.0000,9, -999.00,9,  -999.0,9,  -999.0,    0.02,2,  -999.0,9, -999.00,9,    19.5467,3, 20190422,      631, -60.0127,  30.0177,     -999.0,     0.7421,2,      0.129,1,      0.061,1,      4.633,1
325020190403,       I06S,      25,          1,         31,         31,2,20190422,       0433,   -60.0064,    30.0096,       5199,   144.6,   0.0191,  34.2285,2,   34.223,2,    313.1,3,   304.4,2,    65.2,2,   30.69,2,    0.26,2,    2.11,2,   5.000,2,   2.655,2,   3.2020,2,  -999.0,9, -999.00,9,-999.0000,9, -999.00,9,  -999.0,9,  -999.0,   -0.17,2,  -999.0,9, -999.00,9,    17.8519,3, 20190422,      633, -60.0129,  30.0178,     -999.0,    -0.0046,3,      0.131,1,      0.081,1,      4.625,1
325020190403,       I06S,      25,          1,         32,         32,2,20190422,       0433,   -60.0064,    30.0096,       5199,    99.6,   0.8709,  33.9172,2,  33.9242,2,    332.7,2,   332.1,2,    43.4,2,   25.56,2,    0.35,2,    1.77,2,   5.545,2,   2.964,2,   3.8508,2,  2179.1,2, 2299.97,2,   7.6774,2, -999.00,9,  -999.0,9,  -999.0,   -0.19,6,  -999.0,9, -999.00,9,    15.3852,3, 20190422,      634, -60.0130,  30.0181,      25.03,     0.8796,2,      0.145,1,      0.122,1,      4.599,1
325020190403,       I06S,      25,          1,         33,         33,2,20190422,       0433,   -60.0064,    30.0096,       5199,    73.9,   0.9373,   33.913,2,  33.9135,2,    331.7,2,   332.4,2,    42.4,2,   25.34,2,    0.34,2,    1.74,2,   5.479,2,   2.962,2,   3.8267,2,  2176.8,2, -999.00,9,-999.0000,9, -999.00,9,  -999.0,9,  -999.0,   -0.25,2,  -999.0,9, -999.00,9,    15.3054,3, 20190422,      636, -60.0131,  30.0180,     -999.0,     0.9369,2,      0.145,1,      0.118,1,      4.597,1
325020190403,       I06S,      25,          1,         34,         34,2,20190422,       0433,   -60.0064,    30.0096,       5199,    47.5,   0.9381,  33.9122,2,  33.9127,2,    330.9,2,   332.9,2,    42.5,2,   25.22,2,    0.34,2,    1.73,2,   5.515,2,   2.967,2,   3.9473,2,  2175.7,2, 2301.63,2,   7.6804,2, -999.00,9,  -999.0,9,  -999.0,    -0.2,2,  -999.0,9, -999.00,9,    14.6335,3, 20190422,      637, -60.0132,  30.0183,      25.08,     0.9372,2,      0.144,1,      0.118,1,      4.597,1
325020190403,       I06S,      25,          1,         35,         35,2,20190422,       0433,   -60.0064,    30.0096,       5199,    27.8,   0.9379,  33.9122,2,  33.9135,2,    329.9,2,   332.8,2,    42.5,2,   25.23,2,    0.34,2,    1.70,2,   5.569,2,   2.956,2,   3.9048,2,  2178.8,2, 2298.78,2,   7.6803,2, -999.00,9,  -999.0,9,  -999.0,   -0.25,2,  -999.0,9, -999.00,9,     15.182,3, 20190422,      638, -60.0134,  30.0183,      25.04,     0.9373,2,      0.144,1,      0.113,1,      4.597,1
325020190403,       I06S,      25,          1,         36,         36,2,20190422,       0433,   -60.0064,    30.0096,       5199,    14.3,   0.9414,  33.9122,2,  33.9125,2,    329.4,3,   333.1,2,    42.7,2,   25.09,2,    0.34,2,    1.70,2,   5.586,2,   2.982,2,   3.8635,2,  2176.7,6, 2300.74,2,   7.6803,2, -999.00,9,  -999.0,9,  -999.0,   -0.24,2,  -999.0,9, -999.00,9,    15.3008,3, 20190422,      640, -60.0135,  30.0185,      25.08,     0.9398,2,      0.143,1,      0.113,1,      4.597,1