BOTTLE,20210804CCHSIOCBG
EXPOCODE,SECT_ID,STNNBR,CASTNO,SAMPNO,BTLNBR,BTLNBR_FLAG_W,DATE,TIME,LATITUDE,LONGITUDE,DEPTH,CTDPRS,CTDTMP,CTDSAL,CTDSAL_FLAG_W,SALNTY,SALNTY_FLAG_W,CTDOXY,CTDOXY_FLAG_W,OXYGEN,OXYGEN_FLAG_W,SILCAT,SILCAT_FLAG_W,NITRAT,NITRAT_FLAG_W,NITRIT,NITRIT_FLAG_W,PHSPHT,PHSPHT_FLAG_W,CFC-11,CFC-11_FLAG_W,CFC-12,CFC-12_FLAG_W,SF6,SF6_FLAG_W,TCARBN,TCARBN_FLAG_W,ALKALI,ALKALI_FLAG_W,PH_TOT,PH_TOT_FLAG_W,DELC13,DELC13_FLAG_W,DELC14,DELC14_FLAG_W,C14ERR,DELO18,DELO18_FLAG_W,DOC,DOC_FLAG_W,TDN,TDN_FLAG_W,N2O,N2O_FLAG_W,BTL_DATE,BTL_TIME,BTL_LAT,BTL_LON,PH_TMP,REFTMP,REFTMP_FLAG_W,CTDBACKSCATTER,CTDBACKSCATTER_FLAG_W,CTDFLUOR,CTDFLUOR_FLAG_W,CTDXMISS,CTDXMISS_FLAG_W
,,,,,,,,,,,METERS,DBAR,ITS-90,PSS-78,,PSS-78,,UMOL/KG,,UMOL/KG,,UMOL/KG,,UMOL/KG,,UMOL/KG,,UMOL/KG,,PMOL/KG,,PMOL/KG,,FMOL/KG,,UMOL/KG,,UMOL/KG,,,,/MILLE,,/MILLE,,/MILLE,/MILLE,,UMOL/KG,,UMOL/KG,,NMOL/KG,,,,,,DEG C,ITS-90,,VOLTS,,VOLTS,,VOLTS,
325020190403,       I06S,      54,          1,          1,          1,2,20190511,       1220,   -38.0149,    29.8081,       4059,  4119.0,   1.2382,   34.742,2,  34.7433,2,    215.6,2,   215.5,2,   101.6,2,   30.03,2,    0.00,2,    2.06,2,   0.137,2,   0.074,2,   0.0000,2,  2247.8,6, 2363.80,2,   7.6308,3,    0.63,2,  -150.6,2,     1.8,    0.08,2,    39.2,2,   29.92,2,    19.7185,3, 20190511,     1220, -38.0149,  29.8081,      25.09,     1.2382,2,      0.169,1,      0.061,1,      4.705,1
325020190403,       I06S,      54,          1,          2,          2,2,20190511,       1220,   -38.0149,    29.8081,       4059,  3944.5,   1.3348,    34.75,2,   34.751,2,    216.1,2,   216.4,2,    98.0,2,   29.64,2,    0.00,2,    2.11,2,   0.107,2,   0.062,2,   0.0000,2,  2245.2,2, -999.00,9,-999.0000,9,    0.66,2,  -152.2,2,     1.8,    0.78,3,    40.3,2,   28.19,2,    19.1518,3, 20190511,     1224, -38.0150,  29.8079,     -999.0,     1.3356,2,      0.145,1,      0.060,1,      4.717,1
325020190403,       I06S,      54,          1,          3,          3,2,20190511,       1220,   -38.0149,    29.8081,       4059,  3768.8,   1.5426,  34.7659,2,  34.7673,2,    216.1,2,   215.8,2,    90.7,2,   28.93,2,    0.00,2,    2.01,2,   0.079,2,   0.046,2,   0.0000,2,  2239.2,2, 2356.64,2,   7.6408,3,    0.71,2,  -149.2,2,     1.8,    0.27,2,  -999.0,9, -999.00,9,    18.4576,3, 20190511,     1228, -38.0151,  29.8076,      25.08,     1.5425,2,      0.135,1,      0.063,1,      4.726,1
325020190403,       I06S,      54,          1,          4,          4,2,20190511,       1220,   -38.0149,    29.8081,       4059,  3462.5,   1.9337,  34.7952,2,  34.7955,2,    216.7,2,   216.7,2,    77.0,2,   27.61,2,    0.00,2,    1.98,2,   0.044,2,   0.029,2,   0.0000,2,  2229.4,2, -999.00,9,-999.0000,9,    0.76,2,  -144.4,2,     2.2,    0.37,2,    40.6,2,   26.39,2,    18.2191,3, 20190511,     1234, -38.0153,  29.8071,     -999.0,     1.9344,2,      0.133,1,      0.063,1,      4.728,1
325020190403,       I06S,      54,          1,          5,          5,2,20190511,       1220,   -38.0149,    29.8081,       4059,  3154.1,   2.2117,  34.8121,2,  34.8132,2,    216.6,2,   216.7,2,    67.8,2,   26.80,2,    0.00,2,    1.83,2,   0.029,2,   0.019,2,   0.0000,2,  2221.8,2, 2349.03,2,   7.6603,3,    0.77,2,  -137.8,2,     1.8,    0.27,2,    38.4,2,   28.09,2,    18.9992,3, 20190511,     1240, -38.0155,  29.8066,      25.08,     2.2123,2,      0.130,1,      0.061,1,      4.728,1
325020190403,       I06S,      54,          1,          6,          6,2,20190511,       1220,   -38.0149,    29.8081,       4059,  2883.4,   2.4083,  34.8161,2,  34.8165,2,    215.0,2,   214.7,2,    62.7,2,   26.57,2,    0.00,2,    1.83,2,   0.031,2,   0.016,2,   0.0000,2,  2217.6,2, 2341.67,2,   7.6596,3,    0.74,2,  -136.6,2,     1.8, -999.00,9,  -999.0,9, -999.00,9,    19.0186,3, 20190511,     1245, -38.0156,  29.8062,      25.09,     2.4111,2,      0.130,1,      0.060,1,      4.729,1
325020190403,       I06S,      54,          1,          7,          7,2,20190511,       1220,   -38.0149,    29.8081,       4059,  2630.4,   2.5575,   34.805,2,  34.8052,2,    208.9,2,   208.2,2,    61.9,2,   27.20,2,    0.00,2,    1.85,2,   0.037,2,   0.022,2,   0.0000,2,  2222.2,2, -999.00,9,-999.0000,9,    0.76,2,  -138.7,2,     1.8,    0.25,2,    39.6,2,   27.39,2,    19.3821,3, 20190511,     1251, -38.0158,  29.8058,     -999.0,     2.5583,2,      0.132,1,      0.060,1,      4.729,1
325020190403,       I06S,      54,          1,          8,          8,2,20190511,       1220,   -38.0149,    29.8081,       4059,  2373.1,   2.6913,  34.7813,2,  34.7826,2,    199.8,2,   200.0,2,    62.3,2,   28.38,2,    0.00,2,    1.96,2,   0.057,2,   0.035,2,   0.0000,2,  2223.2,2, 2338.08,2,   7.6351,3,    0.66,2,  -137.4,2,     1.8, -999.00,9,    38.8,2,   28.08,2,    20.4581,3, 20190511,     1256, -38.0159,  29.8054,      25.09,     2.6903,2,      0.131,1,      0.061,1,      4.728,1
325020190403,       I06S,      54,          1,          9,          9,2,20190511,       1220,   -38.0149,    29.8081,       4059,  2118.1,   2.8119,  34.7306,2,  34.7312,2,    185.6,2,   185.9,2,    66.4,2,   30.10,2,    0.00,2,    2.04,2,   0.114,2,   0.065,2,   0.0000,2,  2234.1,2, 2340.85,2,   7.6083,3,    0.63,2,  -139.0,2,     1.8,    0.54,2,  -999.0,9, -999.00,9,    22.5588,3, 20190511,     1301, -38.0160,  29.8051,      25.09,     2.8114,2,      0.137,1,      0.063,1,      4.728,1
325020190403,       I06S,      54,          1,         10,         10,2,20190511,       1220,   -38.0149,    29.8081,       4059,  1894.9,   3.0093,  34.6611,2,  34.6621,2,    172.0,2,   171.6,2,    70.0,2,   32.21,2,    0.00,2,    2.20,2,   0.263,2,   0.130,2,   0.0807,2,  2246.7,2, -999.00,9,-999.0000,9,    0.51,2,  -143.3,2,     1.8, -999.00,9,    38.4,2,   30.02,2,    25.3041,3, 20190511,     1305, -38.0161,  29.8048,     -999.0,     3.0091,2,      0.131,1,      0.062,1,      4.728,1
325020190403,       I06S,      54,          1,         11,         11,2,20190511,       1220,   -38.0149,    29.8081,       4059,  1762.5,    3.178,  34.6023,2,  34.6072,3,    167.6,2,   168.1,2,    67.7,2,   33.05,2,    0.00,2,    2.28,2,   0.497,2,   0.209,2,   0.1408,2,  2245.1,2, 2335.74,2,   7.5704,3,    0.47,2,  -141.1,2,     1.8,     0.2,2,    38.7,2,   30.39,2,    25.5991,3, 20190511,     1308, -38.0162,  29.8047,      25.10,     3.1776,2,      0.134,1,      0.062,1,      4.726,1
325020190403,       I06S,      54,          1,         12,         12,2,20190511,       1220,   -38.0149,    29.8081,       4059,  1661.5,   3.3282,  34.5506,2,   34.552,2,    167.9,2,   167.7,2,    63.9,2,   33.57,2,    0.00,2,    2.29,2,   0.827,2,   0.330,2,   0.1549,2,  2242.4,6, 2333.48,2,   7.5637,3, -999.00,9,  -999.0,9,  -999.0, -999.00,9,  -999.0,9, -999.00,9,    26.4576,3, 20190511,     1311, -38.0162,  29.8045,      25.09,     3.3308,2,      0.134,1,      0.062,1,      4.727,1
325020190403,       I06S,      54,          1,         13,         13,2,20190511,       1220,   -38.0149,    29.8081,       4059,  1560.2,   3.6332,   34.505,2,  34.5062,2,    171.6,2,   170.6,2,    58.2,2,   33.40,2,    0.00,2,    2.25,2,   1.195,2,   0.488,2,   0.2390,2,  2235.2,2, 2323.25,2,   7.5663,3,    0.59,2,  -120.9,2,     1.8,    0.47,6,    40.1,2,   31.80,2,    26.6491,3, 20190511,     1313, -38.0163,  29.8043,      25.11,     3.6348,2,      0.133,1,      0.061,1,      4.723,1
325020190403,       I06S,      54,          1,         14,         14,2,20190511,       1220,   -38.0149,    29.8081,       4059,  1459.0,   3.9214,  34.4692,2,  34.4707,2,    175.3,2,   175.3,2,    52.2,2,   32.96,2,    0.00,2,    2.26,2,   1.498,2,   0.662,2,   0.3469,2,  2227.5,2, -999.00,9,-999.0000,9,    0.56,2,  -109.3,2,     1.9, -999.00,9,    41.0,2,   31.36,2,    25.4499,3, 20190511,     1316, -38.0164,  29.8041,     -999.0,     3.9247,2,      0.134,1,      0.061,1,      4.724,1
325020190403,       I06S,      54,          1,         15,         15,2,20190511,       1220,   -38.0149,    29.8081,       4059,  1357.8,   4.2521,  34.4158,2,  34.4168,2,    187.9,2,   187.3,2,    43.1,2,   31.92,2,    0.00,2,    2.15,2,   1.920,2,   0.968,2,   0.4770,2,  2214.3,2, 2308.87,2,   7.5876,3,    0.68,2,   -87.4,2,     1.9,    0.21,2,  -999.0,9, -999.00,9,     24.843,3, 20190511,     1319, -38.0165,  29.8038,      25.10,      4.255,2,      0.141,1,      0.061,1,      4.724,1
325020190403,       I06S,      54,          1,         16,         16,2,20190511,       1220,   -38.0149,    29.8081,       4059,  1255.7,   4.9363,  34.4142,2,  34.4142,2,    191.2,2,   191.9,2,    35.7,2,   30.45,2,    0.00,2,    2.04,2,   2.208,2,   1.169,2,   0.7481,2,  2202.9,2, -999.00,9,-999.0000,9,    0.75,2,   -72.9,2,     1.8, -999.00,9,    40.2,2,   30.37,2,    23.2828,3, 20190511,     1322, -38.0166,  29.8036,     -999.0,     4.9546,2,      0.138,1,      0.060,1,      4.722,1
325020190403,       I06S,      54,          1,         17,         17,2,20190511,       1220,   -38.0149,    29.8081,       4059,  1153.1,   5.7949,  34.4258,2,  34.4279,2,    197.7,2,   198.6,2,    26.9,2,   28.28,2,    0.00,2,    1.87,2,   2.518,2,   1.418,2,   0.9289,2,  2187.6,2, 2295.77,2,   7.6292,3,    0.82,2,   -42.6,2,     2.0,    0.46,2,    38.9,2,   26.63,2,    21.0462,3, 20190511,     1324, -38.0167,  29.8033,      25.09,     5.8122,2,      0.135,1,      0.059,1,      4.723,1
325020190403,       I06S,      54,          1,         18,         18,2,20190511,       1220,   -38.0149,    29.8081,       4059,  1052.8,   7.1578,   34.514,2,  34.5148,2,    199.5,2,   199.0,2,    19.1,2,   25.23,2,    0.00,2,    1.75,2,   2.673,2,   1.532,2,   1.0612,2,  2174.5,2, 2293.49,2,   7.6605,3, -999.00,9,  -999.0,9,  -999.0, -999.00,9,  -999.0,9, -999.00,9,    19.1165,3, 20190511,     1327, -38.0168,  29.8031,      25.09,     7.1634,2,      0.136,1,      0.059,1,      4.722,1
325020190403,       I06S,      54,          1,         19,         19,2,20190511,       1220,   -38.0149,    29.8081,       4059,   952.0,   8.6843,  34.6634,2,  34.6635,2,    199.7,3,   197.7,2,    14.5,2,   21.65,2,    0.00,2,    1.43,2,   2.700,2,   1.563,2,   1.0418,2,  2160.6,2, -999.00,9,-999.0000,9,    0.81,2,     2.3,2,     2.1,    0.31,2,    43.9,2,   21.20,2,    17.7996,3, 20190511,     1329, -38.0170,  29.8028,     -999.0,     8.6921,2,      0.137,1,      0.061,1,      4.720,1
325020190403,       I06S,      54,          1,         20,         20,2,20190511,       1220,   -38.0149,    29.8081,       4059,   851.0,   9.8545,  34.7734,2,  34.7736,2,    210.6,2,   209.8,2,     8.7,2,   17.73,2,    0.00,2,    1.19,2,   2.915,2,   1.744,2,   1.2641,2,  2143.6,2, 2299.33,2,   7.7435,3,    0.89,2,    23.2,2,     2.0, -999.00,9,    41.2,2,   18.40,2,     15.476,3, 20190511,     1332, -38.0170,  29.8026,      25.10,     9.8712,2,      0.137,1,      0.061,1,      4.720,1
325020190403,       I06S,      54,          1,         21,         21,2,20190511,       1220,   -38.0149,    29.8081,       4059,   748.4,  11.1325,  34.9344,2,  34.9328,2,    215.0,2,   214.7,2,     6.0,2,   14.35,2,    0.00,2,    0.94,2,   2.894,2,   1.776,2,   1.4302,2,  2136.0,2, 2297.76,2,   7.7808,3,    0.97,2,    30.9,2,     2.1,    0.58,2,  -999.0,9, -999.00,9,    13.8961,3, 20190511,     1334, -38.0171,  29.8024,      25.10,    11.1288,2,      0.136,1,      0.060,1,      4.718,1
325020190403,       I06S,      54,          1,         22,         22,2,20190511,       1220,   -38.0149,    29.8081,       4059,   648.0,  12.1163,  35.0769,2,   35.078,2,    214.9,2,   215.7,2,     5.0,2,   12.06,2,    0.00,2,    0.80,2,   2.818,2,   1.756,2,   1.6077,2,  2129.5,2, -999.00,9,-999.0000,9,    0.92,2,    31.0,2,     2.0, -999.00,9,    42.3,2,   13.53,2,    12.8618,3, 20190511,     1337, -38.0172,  29.8021,     -999.0,    12.1162,2,      0.136,1,      0.059,1,      4.717,1
325020190403,       I06S,      54,          1,         23,         23,2,20190511,       1220,   -38.0149,    29.8081,       4059,   546.7,  13.3447,  35.2388,2,  35.2377,2,    211.7,2,   213.0,2,     4.5,2,    9.79,2,    0.00,2,    0.67,2,   2.670,2,   1.680,2,   1.7124,2,  2122.9,2, 2316.13,2,   7.8319,3, -999.00,9,  -999.0,9,  -999.0,     0.8,2,    41.9,2,   10.43,2,    12.0835,3, 20190511,     1339, -38.0174,  29.8018,      25.10,    13.3552,2,      0.136,1,      0.059,1,      4.716,1
325020190403,       I06S,      54,          1,         24,         24,2,20190511,       1220,   -38.0149,    29.8081,       4059,   476.3,   14.048,  35.3145,2,  35.3142,2,    205.7,2,   206.6,2,     4.6,2,    8.91,2,    0.00,2,    0.60,2,   2.558,2,   1.603,2,   1.6736,2,  2119.6,2, 2320.75,2,   7.8427,3, -999.00,9,  -999.0,9,  -999.0, -999.00,9,  -999.0,9, -999.00,9,    11.9431,3, 20190511,     1341, -38.0175,  29.8016,      25.10,    14.0477,2,      0.137,1,      0.059,1,      4.714,1
325020190403,       I06S,      54,          1,         25,         25,2,20190511,       1220,   -38.0149,    29.8081,       4059,   425.9,  14.9346,  35.3957,2,  35.3955,2,    200.3,2,   200.7,2,     4.7,2,    8.01,2,    0.00,2,    0.55,2,   2.452,2,   1.536,2,   1.6838,2,  2117.5,6, -999.00,9,-999.0000,9,    0.60,2,    25.5,2,     2.1,    0.68,2,    47.4,2,    9.62,2,    11.6267,3, 20190511,     1345, -38.0176,  29.8012,     -999.0,    14.9337,2,      0.141,1,      0.060,1,      4.713,1
325020190403,       I06S,      54,          1,         26,         26,2,20190511,       1220,   -38.0149,    29.8081,       4059,   376.9,  15.7796,  35.4711,2,  35.4725,2,    200.5,2,   199.0,2,     4.5,2,    6.98,2,    0.00,2,    0.48,2,   2.361,2,   1.474,2,   1.7323,2,  2110.6,2, 2326.52,2,   7.8763,3,    0.56,2,    28.1,2,     2.1, -999.00,9,    49.9,2,    9.54,2,    11.1978,3, 20190511,     1347, -38.0177,  29.8009,      25.10,    15.7873,2,      0.136,1,      0.060,1,      4.712,1
325020190403,       I06S,      54,          1,         27,         27,2,20190511,       1220,   -38.0149,    29.8081,       4059,   325.6,  16.3504,  35.5043,2,  35.5071,2,    199.7,3,   196.5,2,     4.7,2,    6.61,2,    0.00,2,    0.47,2,   2.286,2,   1.428,2,   1.6947,2,  2106.4,2, 2327.17,2,   7.8878,3,    0.56,2,    29.2,2,     2.0,    0.82,2,  -999.0,9, -999.00,9,    11.2111,3, 20190511,     1349, -38.0178,  29.8007,      25.11,    16.3779,2,      0.146,1,      0.060,1,      4.709,1
325020190403,       I06S,      54,          1,         28,         28,2,20190511,       1220,   -38.0149,    29.8081,       4059,   275.1,  17.0239,  35.5476,2,  35.5473,2,    197.3,2,   197.9,2,     4.4,2,    5.70,2,    0.00,2,    0.41,2,   2.237,2,   1.391,2,   1.7109,2,  2099.5,2, -999.00,9,-999.0000,9,    0.49,2,    24.3,2,     2.0, -999.00,9,    50.5,2,    7.90,2,    10.6071,3, 20190511,     1351, -38.0180,  29.8004,     -999.0,    17.0235,2,      0.139,1,      0.059,1,      4.709,1
325020190403,       I06S,      54,          1,         29,         29,2,20190511,       1220,   -38.0149,    29.8081,       4059,   225.5,  17.6674,   35.577,2,  35.5779,2,    197.5,2,   199.4,2,     3.7,2,    4.80,2,    0.01,2,    0.35,2,   2.187,2,   1.354,2,   1.8110,2,  2091.0,2, 2330.04,2,   7.9228,3,    0.49,2,    26.4,2,     3.6,    0.95,2,    52.7,2,    8.13,2,      9.902,3, 20190511,     1352, -38.0181,  29.8002,      25.11,    17.6672,2,      0.144,1,      0.061,1,      4.708,1
325020190403,       I06S,      54,          1,         30,         30,2,20190511,       1220,   -38.0149,    29.8081,       4059,   174.4,  18.5641,  35.5555,2,  35.5556,2,    192.1,2,   192.0,2,     3.8,2,    4.47,2,    0.01,2,    0.33,2,   2.123,2,   1.300,2,   1.6771,2,  2085.0,2, 2328.53,2,   7.9305,3, -999.00,9,  -999.0,9,  -999.0,    1.07,2,  -999.0,9, -999.00,9,    10.1745,3, 20190511,     1354, -38.0183,  29.7999,      25.11,    18.5686,2,      0.149,1,      0.062,1,      4.704,1
325020190403,       I06S,      54,          1,         31,         31,2,20190511,       1220,   -38.0149,    29.8081,       4059,   142.9,  19.9179,  35.5841,2,  35.5844,2,    215.4,2,   213.6,2,     2.2,2,    1.12,2,    0.14,2,    0.14,2,   2.020,2,   1.228,2,   1.6371,2,  2052.2,2, -999.00,9,-999.0000,9,    0.70,2,    23.5,2,     2.1,    0.83,6,    58.2,2,    5.59,2,     8.4139,3, 20190511,     1356, -38.0184,  29.7996,     -999.0,    19.9334,2,      0.165,1,      0.100,1,      4.681,1
325020190403,       I06S,      54,          1,         32,         32,2,20190511,       1220,   -38.0149,    29.8081,       4059,   119.2,   20.052,  35.5937,2,   35.594,2,    218.0,2,   219.0,2,     2.0,2,    0.46,2,    0.17,2,    0.12,2,   2.023,2,   1.230,2,   1.7567,2,  2045.1,2, 2335.01,2,   8.0053,3,    0.74,2,    19.5,2,     2.0,    0.91,2,    60.1,2,    4.04,2,     8.1335,3, 20190511,     1357, -38.0187,  29.7994,      25.11,     20.051,2,      0.186,1,      0.133,1,      4.662,1
325020190403,       I06S,      54,          1,         33,         33,2,20190511,       1220,   -38.0149,    29.8081,       4059,    92.4,  20.0748,  35.5964,2,   35.596,2,    221.0,2,   220.2,2,     2.0,2,    0.31,2,    0.18,2,    0.10,2,   2.024,2,   1.232,2,   1.7357,2,  2044.8,2, 2332.47,2,   8.0073,3,    0.69,2,    22.6,2,     3.1,     1.0,2,  -999.0,9, -999.00,9,     8.0505,3, 20190511,     1358, -38.0189,  29.7991,      25.11,    20.0749,2,      0.181,1,      0.151,1,      4.654,1
325020190403,       I06S,      54,          1,         34,         34,2,20190511,       1220,   -38.0149,    29.8081,       4059,    67.9,  20.1135,  35.6004,2,  35.6011,2,    222.3,2,   220.9,2,     2.0,2,    0.27,2,    0.16,2,    0.12,2,   2.021,2,   1.226,2,   1.7934,2,  2043.8,2, -999.00,9,-999.0000,9,    0.75,2,    15.0,2,     2.0,    0.95,2,    59.1,2,    3.63,2,     7.9772,3, 20190511,     1400, -38.0191,  29.7988,     -999.0,    20.1134,2,      0.191,1,      0.175,1,      4.643,1
325020190403,       I06S,      54,          1,         35,         35,2,20190511,       1220,   -38.0149,    29.8081,       4059,    42.8,  20.2586,  35.6146,2,  35.6139,2,    221.4,2,   222.8,2,     1.9,2,    0.12,2,    0.08,2,    0.09,2,   2.014,2,   1.220,2,   1.8019,2,  2042.2,2, 2335.37,2,   8.0152,3,    0.80,2,    22.0,2,     2.1,    0.89,2,  -999.0,9, -999.00,9,     7.8465,3, 20190511,     1401, -38.0194,  29.7984,      25.05,    20.2617,2,      0.209,1,      0.229,1,      4.582,1
325020190403,       I06S,      54,          1,         36,         36,2,20190511,       1220,   -38.0149,    29.8081,       4059,    12.3,  20.7443,  35.6109,2,  35.6118,2,    220.4,2,   222.2,2,     1.8,2,    0.02,2,    0.00,2,    0.08,2,   1.989,2,   1.220,2,   1.7866,2,  2037.5,6, 2335.49,2,   8.0214,3,    0.78,2,    22.3,2,     2.7,    1.01,2,    63.9,2,    3.78,2,     7.6538,3, 20190511,     1403, -38.0200,  29.7980,      25.04,    20.7425,2,      0.199,1,      0.157,1,      4.601,1