BOTTLE,20210804CCHSIOCBG
EXPOCODE,SECT_ID,STNNBR,CASTNO,SAMPNO,BTLNBR,BTLNBR_FLAG_W,DATE,TIME,LATITUDE,LONGITUDE,DEPTH,CTDPRS,CTDTMP,CTDSAL,CTDSAL_FLAG_W,SALNTY,SALNTY_FLAG_W,CTDOXY,CTDOXY_FLAG_W,OXYGEN,OXYGEN_FLAG_W,SILCAT,SILCAT_FLAG_W,NITRAT,NITRAT_FLAG_W,NITRIT,NITRIT_FLAG_W,PHSPHT,PHSPHT_FLAG_W,CFC-11,CFC-11_FLAG_W,CFC-12,CFC-12_FLAG_W,SF6,SF6_FLAG_W,TCARBN,TCARBN_FLAG_W,ALKALI,ALKALI_FLAG_W,PH_TOT,PH_TOT_FLAG_W,DELC13,DELC13_FLAG_W,DELC14,DELC14_FLAG_W,C14ERR,DELO18,DELO18_FLAG_W,DOC,DOC_FLAG_W,TDN,TDN_FLAG_W,N2O,N2O_FLAG_W,BTL_DATE,BTL_TIME,BTL_LAT,BTL_LON,PH_TMP,REFTMP,REFTMP_FLAG_W,CTDBACKSCATTER,CTDBACKSCATTER_FLAG_W,CTDFLUOR,CTDFLUOR_FLAG_W,CTDXMISS,CTDXMISS_FLAG_W
,,,,,,,,,,,METERS,DBAR,ITS-90,PSS-78,,PSS-78,,UMOL/KG,,UMOL/KG,,UMOL/KG,,UMOL/KG,,UMOL/KG,,UMOL/KG,,PMOL/KG,,PMOL/KG,,FMOL/KG,,UMOL/KG,,UMOL/KG,,,,/MILLE,,/MILLE,,/MILLE,/MILLE,,UMOL/KG,,UMOL/KG,,NMOL/KG,,,,,,DEG C,ITS-90,,VOLTS,,VOLTS,,VOLTS,
325020190403,       I06S,      45,          1,          1,          1,2,20190502,       2118,   -49.9879,    29.9871,       3624,  3676.0,   0.5412,  34.6897,3,  34.6919,2,    216.3,2,   216.3,2,   123.9,2,   32.45,2,    0.00,2,    2.24,2,   0.588,2,   0.210,2,   0.0446,2,  2258.4,6, 2356.95,2,   7.6007,3,    0.52,2,  -162.4,2,     1.6,   -0.05,2,    39.8,2,   32.18,2,    20.2242,3, 20190502,     2118, -49.9879,  29.9871,      25.14,     0.5418,2,      0.130,1,      0.061,1,      4.724,1
325020190403,       I06S,      45,          1,          2,          2,2,20190502,       2118,   -49.9879,    29.9871,       3624,  3666.5,    0.542,  34.6896,3,  34.6917,2,    216.7,2,   216.4,2,   123.7,2,   32.40,2,    0.00,2,    2.23,2,   0.572,2,   0.200,2,   0.0607,2,  2259.0,2, 2359.48,2,   7.6004,3,    0.47,2,  -160.4,2,     1.4,   -0.03,2,    38.6,2,   32.88,2,    20.2461,3, 20190502,     2120, -49.9879,  29.9869,      25.14,     0.5425,2,      0.127,1,      0.060,1,      4.723,1
325020190403,       I06S,      45,          1,          3,          3,2,20190502,       2118,   -49.9879,    29.9871,       3624,  3655.8,   0.5493,  34.6902,2,  34.6911,2,    216.6,2,   216.0,2,   123.7,2,   32.36,2,    0.00,2,    2.24,2,   0.604,2,   0.198,2,   0.0992,2,  2258.7,2, 2360.01,2,   7.5999,3,    0.47,2,  -161.7,2,     2.1,   -0.03,2,  -999.0,9, -999.00,9,    20.1691,3, 20190502,     2121, -49.9880,  29.9867,      25.16,     0.5451,2,      0.130,1,      0.059,1,      4.726,1
325020190403,       I06S,      45,          1,          4,          4,2,20190502,       2118,   -49.9879,    29.9871,       3624,  3400.4,   0.6183,  34.6889,2,  34.6899,2,    210.6,2,   210.3,2,   123.9,2,   32.64,2,    0.00,2,    2.26,2,   0.620,2,   0.213,2,   0.1094,2,  2261.4,2, 2359.60,2,   7.5912,3,    0.45,2,  -158.4,2,     1.5,    -0.0,2,    38.2,2,   31.41,2,    20.5395,3, 20190502,     2126, -49.9884,  29.9859,      25.14,     0.6183,2,      0.124,1,      0.060,1,      4.726,1
325020190403,       I06S,      45,          1,          5,          5,2,20190502,       2118,   -49.9879,    29.9871,       3624,  3142.9,   0.7393,  34.6942,2,  34.6947,2,    207.4,2,   207.4,2,   119.7,2,   32.48,2,    0.00,2,    2.24,2,   0.609,2,   0.216,2,   0.1037,2,  2260.9,2, 2359.56,2,   7.5907,3,    0.39,2,  -160.3,2,     1.5,    0.06,2,    39.3,2,   31.47,2,    20.6934,3, 20190502,     2132, -49.9888,  29.9851,      25.14,     0.7395,2,      0.127,1,      0.061,1,      4.725,1
325020190403,       I06S,      45,          1,          6,          6,2,20190502,       2118,   -49.9879,    29.9871,       3624,  2884.6,   0.9405,  34.7047,3,   34.707,2,    204.5,2,   205.6,2,   113.4,2,   32.03,2,    0.00,2,    2.21,2,   0.549,2,   0.197,2,   0.0710,2,  2257.2,2, 2357.68,2,   7.5958,3,    0.43,2,  -160.0,2,     1.6, -999.00,9,  -999.0,9, -999.00,9,    20.6467,3, 20190502,     2137, -49.9892,  29.9841,      25.14,     0.9401,2,      0.124,1,      0.062,1,      4.726,1
325020190403,       I06S,      45,          1,          7,          7,2,20190502,       2118,   -49.9879,    29.9871,       3624,  2632.1,   1.0807,  34.7053,2,   34.706,2,    200.5,2,   201.2,2,   109.3,2,   32.03,2,    0.00,2,    2.22,2,   0.595,2,   0.212,2,   0.1995,2,  2258.8,2, 2356.12,2,   7.5919,3,    0.44,2,  -159.2,2,     1.8,    0.07,2,    39.5,2,   33.82,2,    21.0316,3, 20190502,     2142, -49.9894,  29.9836,      25.13,     1.0807,2,      0.126,1,      0.062,1,      4.721,1
325020190403,       I06S,      45,          1,          8,          8,2,20190502,       2118,   -49.9879,    29.9871,       3624,  2376.5,   1.4431,  34.7387,2,  34.7402,2,    202.7,2,   202.9,2,    98.5,2,   30.60,2,    0.00,2,    2.12,2,   0.321,2,   0.112,2,   0.0701,2,  2250.7,2, 2354.88,2,   7.6121,3,    0.45,2,  -154.6,2,     1.6, -999.00,9,    39.2,2,   33.34,2,    20.2106,3, 20190502,     2148, -49.9897,  29.9829,      25.16,      1.444,2,      0.127,1,      0.060,1,      4.728,1
325020190403,       I06S,      45,          1,          9,          9,2,20190502,       2118,   -49.9879,    29.9871,       3624,  2121.8,   1.7321,  34.7585,2,  34.7602,2,    202.7,2,   203.5,2,    88.7,2,   29.68,2,    0.00,2,    2.04,2,   0.241,2,   0.088,2,   0.0586,2,  2243.1,2, 2351.35,2,   7.6215,3,    0.52,2,  -154.2,2,     2.2,    0.16,2,  -999.0,9, -999.00,9,    19.9409,3, 20190502,     2154, -49.9900,  29.9821,      25.15,     1.7293,2,      0.128,1,      0.062,1,      4.728,1
325020190403,       I06S,      45,          1,         10,         10,2,20190502,       2118,   -49.9879,    29.9871,       3624,  1897.9,   1.8815,  34.7501,2,  34.7518,2,    199.9,3,   196.4,2,    87.2,2,   30.19,2,    0.00,2,    2.08,2,   0.303,2,   0.108,2,   0.1131,2,  2247.4,2, 2348.99,2,   7.6114,3,    0.44,2,  -150.7,2,     1.6, -999.00,9,    39.4,2,   31.49,2,    20.6344,3, 20190502,     2159, -49.9903,  29.9815,      25.15,     1.8821,2,      0.126,1,      0.061,1,      4.727,1
325020190403,       I06S,      45,          1,         11,         11,2,20190502,       2118,   -49.9879,    29.9871,       3624,  1765.1,   2.0992,  34.7641,2,  34.7649,2,    197.1,2,   198.0,2,    79.8,2,   29.42,2,    0.00,2,    2.03,2,   0.240,2,   0.087,2,   0.0461,2,  2240.4,6, 2346.89,2,   7.6174,3,    0.54,2,  -144.2,2,     1.7,    0.16,6,    39.5,2,   31.27,2,    20.3666,3, 20190502,     2202, -49.9905,  29.9809,      25.14,     2.1002,2,      0.129,1,      0.061,1,      4.727,1
325020190403,       I06S,      45,          1,         12,         12,2,20190502,       2118,   -49.9879,    29.9871,       3624,  1662.1,   2.1564,  34.7561,2,  34.7567,2,    194.0,2,   194.8,2,    79.6,2,   29.72,2,    0.00,2,    2.04,2,   0.283,2,   0.095,2,   0.0993,2,  2234.0,2, 2348.40,2,   7.6116,3, -999.00,9,  -999.0,9,  -999.0, -999.00,9,  -999.0,9, -999.00,9,    20.9188,3, 20190502,     2205, -49.9906,  29.9806,      25.09,     2.1558,2,      0.129,1,      0.061,1,      4.727,1
325020190403,       I06S,      45,          1,         13,         13,2,20190502,       2118,   -49.9879,    29.9871,       3624,  1560.3,   2.2198,  34.7434,2,  34.7433,2,    190.6,2,   190.4,2,    79.1,2,   30.28,2,    0.00,2,    2.08,2,   0.336,2,   0.118,2,   0.1889,2,  2244.8,2, 2345.74,2,   7.6022,3,    0.59,2,  -146.8,2,     1.7,    0.23,2,    39.5,2,   31.00,2,    21.5509,3, 20190502,     2207, -49.9907,  29.9803,      25.14,     2.2211,2,      0.128,1,      0.062,1,      4.727,1
325020190403,       I06S,      45,          1,         14,         14,2,20190502,       2118,   -49.9879,    29.9871,       3624,  1460.5,   2.3193,  34.7333,2,  34.7365,3,    188.1,2,   187.7,2,    76.4,2,   30.49,2,    0.00,2,    2.11,2,   0.333,2,   0.119,2,   0.0876,2,  2244.7,2, 2344.30,2,   7.5976,3,    0.61,2,  -150.3,2,     1.9, -999.00,9,    39.8,2,   31.41,2,    21.7652,3, 20190502,     2210, -49.9908,  29.9802,      25.14,     2.3191,2,      0.128,1,      0.062,1,      4.727,1
325020190403,       I06S,      45,          1,         15,         15,2,20190502,       2118,   -49.9879,    29.9871,       3624,  1358.8,   2.4256,  34.7214,2,  34.7221,2,    185.9,2,   185.2,2,    74.5,2,   30.80,2,    0.00,2,    2.13,2,   0.350,2,   0.123,2,   0.0398,2,  2244.1,2, 2342.74,2,   7.5940,3,    0.55,2,  -145.3,2,     1.8,    0.18,2,  -999.0,9, -999.00,9,    22.1411,3, 20190502,     2213, -49.9909,  29.9799,      25.16,     2.4259,2,      0.130,1,      0.061,1,      4.726,1
325020190403,       I06S,      45,          1,         16,         16,2,20190502,       2118,   -49.9879,    29.9871,       3624,  1258.9,   2.4246,  34.6984,2,  34.6988,2,    181.3,2,   180.8,2,    75.4,2,   31.52,2,    0.00,2,    2.18,2,   0.415,2,   0.142,2,   0.0367,2,  2247.0,2, 2343.52,2,   7.5824,3,    0.45,2,  -146.2,2,     2.1, -999.00,9,    38.9,2,   30.41,2,    22.8294,3, 20190502,     2215, -49.9911,  29.9795,      25.08,     2.4228,2,      0.130,1,      0.062,1,      4.726,1
325020190403,       I06S,      45,          1,         17,         17,2,20190502,       2118,   -49.9879,    29.9871,       3624,  1155.8,   2.4347,  34.6632,2,  34.6633,2,    176.3,2,   175.9,2,    75.1,2,   32.45,2,    0.00,2,    2.26,2,   0.530,2,   0.191,2,   0.0748,2,  2249.6,2, 2341.04,2,   7.5685,3,    0.29,3,  -148.5,2,     2.5,    0.14,2,    39.5,2,   29.46,2,    23.8807,3, 20190502,     2219, -49.9912,  29.9791,      25.13,     2.4385,2,      0.131,1,      0.062,1,      4.725,1
325020190403,       I06S,      45,          1,         18,         18,2,20190502,       2118,   -49.9879,    29.9871,       3624,  1053.6,   2.4623,  34.6306,2,  34.6329,2,    173.3,2,   172.9,2,    74.8,2,   33.07,2,    0.00,2,    2.29,2,   0.631,2,   0.229,2,   0.1178,2,  2253.1,2, 2339.28,2,   7.5588,3, -999.00,9,  -999.0,9,  -999.0, -999.00,9,  -999.0,9, -999.00,9,    24.4008,3, 20190502,     2221, -49.9914,  29.9786,      25.16,     2.4611,2,      0.132,1,      0.062,1,      4.722,1
325020190403,       I06S,      45,          1,         19,         19,2,20190502,       2118,   -49.9879,    29.9871,       3624,   951.0,   2.4256,  34.5779,2,  34.5771,2,    171.3,2,   171.0,2,    73.8,2,   34.04,2,    0.00,2,    2.36,2,   0.918,2,   0.350,2,   0.1908,2,  2253.8,6, 2334.91,2,   7.5444,3,    0.51,2,  -141.3,2,     2.1,     0.1,2,    38.1,2,   34.22,2,    25.4205,3, 20190502,     2224, -49.9916,  29.9782,      25.05,     2.4235,2,      0.132,1,      0.062,1,      4.723,1
325020190403,       I06S,      45,          1,         20,         20,2,20190502,       2118,   -49.9879,    29.9871,       3624,   855.9,   2.4805,  34.5308,2,  34.5303,2,    172.8,2,   172.7,2,    70.9,2,   34.36,2,    0.00,2,    2.39,2,   1.301,2,   0.452,2,   0.2767,2,  2251.6,2, 2331.40,2,   7.5408,3,    0.17,4,  -144.6,2,     2.3, -999.00,9,    38.8,2,   32.96,2,    25.8808,3, 20190502,     2227, -49.9918,  29.9777,      25.16,     2.4804,2,      0.139,1,      0.061,1,      4.722,1
325020190403,       I06S,      45,          1,         21,         21,2,20190502,       2118,   -49.9879,    29.9871,       3624,   750.2,   2.5314,   34.469,2,  34.4691,2,    177.9,2,   177.9,2,    66.0,2,   34.47,2,    0.00,2,    2.39,2,   1.687,2,   0.629,2,   0.4070,2,  2249.1,2, 2325.48,2,   7.5394,3, -999.00,9,  -999.0,9,  -999.0,     0.1,2,  -999.0,9, -999.00,9,    25.9004,3, 20190502,     2230, -49.9920,  29.9771,      25.15,     2.5308,2,      0.138,1,      0.062,1,      4.721,1
325020190403,       I06S,      45,          1,         22,         22,2,20190502,       2118,   -49.9879,    29.9871,       3624,   649.3,   2.5593,  34.4038,2,  34.4031,2,    186.1,2,   186.4,2,    60.4,2,   34.42,2,    0.00,2,    2.38,2,   2.298,2,   0.870,2,   0.5475,2,  2240.1,2, 2318.03,2,   7.5406,3, -999.00,9,  -999.0,9,  -999.0, -999.00,9,    38.4,2,   36.06,2,    25.6888,3, 20190502,     2233, -49.9923,  29.9766,      25.16,     2.5587,2,      0.147,1,      0.062,1,      4.718,1
325020190403,       I06S,      45,          1,         23,         23,2,20190502,       2118,   -49.9879,    29.9871,       3624,   545.5,   2.6607,  34.3239,2,  34.3245,2,    199.9,2,   199.5,2,    51.8,2,   33.84,2,    0.00,2,    2.35,2,   2.899,2,   1.184,2,   0.7317,2,  2229.5,2, 2308.31,2,   7.5518,3, -999.00,9,  -999.0,9,  -999.0,    0.05,2,    39.2,2,   32.86,2,    24.6911,3, 20190502,     2236, -49.9924,  29.9761,      25.16,     2.6598,2,      0.140,1,      0.062,1,      4.716,1
325020190403,       I06S,      45,          1,         24,         24,2,20190502,       2118,   -49.9879,    29.9871,       3624,   475.6,   2.7524,  34.2704,2,  34.2698,2,    210.0,2,   210.8,2,    45.4,2,   33.10,2,    0.00,2,    2.29,2,   3.341,2,   1.415,2,   1.0889,2,  2219.1,2, 2301.46,2,   7.5633,3, -999.00,9,  -999.0,9,  -999.0, -999.00,9,  -999.0,9, -999.00,9,    23.6616,3, 20190502,     2239, -49.9925,  29.9760,      25.18,      2.752,2,      0.141,1,      0.062,1,      4.717,1
325020190403,       I06S,      45,          1,         25,         25,2,20190502,       2118,   -49.9879,    29.9871,       3624,   429.0,   2.8073,  34.2304,2,  34.2311,2,    220.4,2,   220.7,2,    40.7,2,   32.40,2,    0.00,2,    2.24,2,   3.656,2,   1.580,2,   1.1716,2,  2210.6,2, 2297.01,2,   7.5734,3,    0.82,2,   -85.0,2,     1.9,    -0.0,2,    39.9,2,   30.41,2,    22.9007,3, 20190502,     2241, -49.9926,  29.9758,      25.18,     2.8069,2,      0.144,1,      0.061,1,      4.716,1
325020190403,       I06S,      45,          1,         26,         26,2,20190502,       2118,   -49.9879,    29.9871,       3624,   379.4,   2.8821,  34.1886,2,  34.1939,2,    233.2,2,   232.9,2,    35.2,2,   31.50,2,    0.00,2,    2.17,2,   4.173,2,   1.800,2,   1.4931,2,  2201.0,2, 2292.13,2,   7.5870,3,    0.88,2,   -75.3,2,     1.9, -999.00,9,    40.4,2,   32.04,2,     21.932,3, 20190502,     2243, -49.9926,  29.9756,      25.13,     2.8818,2,      0.144,1,      0.060,1,      4.716,1
325020190403,       I06S,      45,          1,         27,         27,2,20190502,       2118,   -49.9879,    29.9871,       3624,   327.8,   2.9212,  34.1495,2,  34.1496,2,    241.8,2,   243.4,2,    31.0,2,   30.62,2,    0.00,2,    2.12,2,   4.832,2,   1.950,2,   1.6918,2,  2194.7,2, 2288.26,2,   7.5995,3,    0.86,2,   -67.2,2,     1.9,     0.1,2,  -999.0,9, -999.00,9,    20.9549,3, 20190502,     2245, -49.9927,  29.9753,      25.13,     2.9206,2,      0.154,1,      0.061,1,      4.713,1
325020190403,       I06S,      45,          1,         28,         28,2,20190502,       2118,   -49.9879,    29.9871,       3624,   275.5,   3.0604,  34.1045,2,   34.104,2,    256.0,2,   257.1,2,    25.4,2,   29.38,2,    0.00,2,    2.03,2,   4.798,2,   2.167,2,   1.9137,2,  2182.5,2, 2283.10,2,   7.6150,3,    1.00,2,   -56.8,2,     1.9, -999.00,9,    39.0,2,   28.00,2,    19.6557,3, 20190502,     2247, -49.9928,  29.9750,      25.17,     3.0609,2,      0.148,1,      0.061,1,      4.711,1
325020190403,       I06S,      45,          1,         29,         29,2,20190502,       2118,   -49.9879,    29.9871,       3624,   226.0,   3.3098,  34.0748,2,  34.0731,2,    265.7,2,   267.2,2,    20.4,2,   28.17,2,    0.00,2,    1.96,2,   5.434,2,   2.275,2,   2.0507,2,  2173.4,2, 2280.38,2,   7.6309,3,    1.50,2,   -46.1,2,     1.9,   -0.06,2,    41.9,2,   27.43,2,    18.3297,3, 20190502,     2249, -49.9929,  29.9748,      25.09,     3.3106,2,      0.153,1,      0.061,1,      4.709,1
325020190403,       I06S,      45,          1,         30,         30,2,20190502,       2118,   -49.9879,    29.9871,       3624,   178.4,   3.4107,  33.9768,2,  33.9749,2,    283.0,2,   282.7,2,    15.6,2,   26.47,2,    0.01,2,    1.86,2,   5.559,2,   2.483,2,   2.6529,2,  2162.4,2, 2275.44,2,   7.6499,3, -999.00,9,  -999.0,9,  -999.0,   -0.06,6,  -999.0,9, -999.00,9,    16.6566,3, 20190502,     2251, -49.9930,  29.9743,      25.10,     3.5281,3,      0.161,1,      0.067,1,      4.700,1
325020190403,       I06S,      45,          1,         31,         31,2,20190502,       2118,   -49.9879,    29.9871,       3624,   145.9,   4.0117,  33.8739,2,   33.874,2,    303.1,3,   296.7,2,     8.7,2,   24.18,2,    0.23,2,    1.72,2,   5.789,2,   2.533,2,   2.7389,2,  2152.8,2, 2276.96,2,   7.6855,3,    1.35,2,   -64.0,2,     1.8,   -0.19,2,    42.7,2,   25.21,2,    15.6022,3, 20190502,     2252, -49.9931,  29.9740,      25.07,     3.9959,2,      0.159,1,      0.095,1,      4.690,1
325020190403,       I06S,      45,          1,         32,         32,2,20190502,       2118,   -49.9879,    29.9871,       3624,   119.3,   4.7062,  33.7748,2,  33.7739,2,    310.4,2,   310.4,2,     2.7,2,   21.61,2,    0.28,2,    1.56,2,   5.486,2,   2.306,2,   2.7330,2,  2135.4,2, 2278.78,2,   7.7272,3,    1.56,2,   -74.3,2,     1.9,   -0.26,2,    40.4,2,   22.81,2,    13.4326,3, 20190502,     2254, -49.9932,  29.9737,      25.09,     4.7135,2,      0.183,1,      0.164,1,      4.657,1
325020190403,       I06S,      45,          1,         33,         33,2,20190502,       2118,   -49.9879,    29.9871,       3624,    94.3,    4.762,   33.761,2,  33.7632,2,    311.7,2,   310.0,2,     2.5,2,   21.48,2,    0.28,2,    1.55,2,   5.868,2,   2.497,2,   3.1292,2,  2135.6,2, 2277.15,2,   7.7284,3,    1.56,2,   -74.4,2,     1.8,   -0.31,2,  -999.0,9, -999.00,9,    14.0015,3, 20190502,     2256, -49.9933,  29.9734,      25.09,     4.7677,2,      0.190,1,      0.196,1,      4.644,1
325020190403,       I06S,      45,          1,         34,         34,2,20190502,       2118,   -49.9879,    29.9871,       3624,    67.6,   4.7823,  33.7581,2,  33.7595,2,    312.7,2,   310.0,2,     2.9,2,   21.43,2,    0.29,2,    1.54,2,   5.985,2,   2.459,2,   2.8862,2,  2134.4,2, 2275.32,2,   7.7289,3,    1.62,2,   -74.4,2,     2.2,   -0.19,2,    45.6,2,   23.92,2,    14.0044,3, 20190502,     2257, -49.9935,  29.9730,      25.04,      4.783,2,      0.193,1,      0.197,1,      4.644,1
325020190403,       I06S,      45,          1,         35,         35,2,20190502,       2118,   -49.9879,    29.9871,       3624,    44.4,   4.7924,  33.7569,2,  33.7583,2,    311.8,2,   309.8,2,     3.0,2,   21.34,2,    0.29,2,    1.54,2,   5.459,2,   2.490,2,   3.0685,2,  2133.8,2, 2274.84,2,   7.7293,3,    1.63,2,   -73.7,2,     2.5,   -0.25,2,  -999.0,9, -999.00,9,    14.0332,3, 20190502,     2259, -49.9935,  29.9726,      25.08,     4.7914,2,      0.195,1,      0.198,1,      4.644,1
325020190403,       I06S,      45,          1,         36,         36,2,20190502,       2118,   -49.9879,    29.9871,       3624,    13.0,   4.7892,  33.7569,2,  33.7579,2,    310.4,2,   309.7,2,     3.1,2,   21.10,2,    0.29,2,    1.54,2,   5.500,2,   2.482,2,   3.1549,2,  2135.3,6, 2275.49,2,   7.7293,3,    1.64,2,   -70.2,2,     2.2,   -0.26,2,    43.2,2,   24.02,2,    13.9909,3, 20190502,     2301, -49.9937,  29.9723,      25.05,     4.7883,2,      0.195,1,      0.192,1,      4.643,1