BOTTLE,20210804CCHSIOCBG
EXPOCODE,SECT_ID,STNNBR,CASTNO,SAMPNO,BTLNBR,BTLNBR_FLAG_W,DATE,TIME,LATITUDE,LONGITUDE,DEPTH,CTDPRS,CTDTMP,CTDSAL,CTDSAL_FLAG_W,SALNTY,SALNTY_FLAG_W,CTDOXY,CTDOXY_FLAG_W,OXYGEN,OXYGEN_FLAG_W,SILCAT,SILCAT_FLAG_W,NITRAT,NITRAT_FLAG_W,NITRIT,NITRIT_FLAG_W,PHSPHT,PHSPHT_FLAG_W,CFC-11,CFC-11_FLAG_W,CFC-12,CFC-12_FLAG_W,SF6,SF6_FLAG_W,TCARBN,TCARBN_FLAG_W,ALKALI,ALKALI_FLAG_W,PH_TOT,PH_TOT_FLAG_W,DELC13,DELC13_FLAG_W,DELC14,DELC14_FLAG_W,C14ERR,DELO18,DELO18_FLAG_W,DOC,DOC_FLAG_W,TDN,TDN_FLAG_W,N2O,N2O_FLAG_W,BTL_DATE,BTL_TIME,BTL_LAT,BTL_LON,PH_TMP,REFTMP,REFTMP_FLAG_W,CTDBACKSCATTER,CTDBACKSCATTER_FLAG_W,CTDFLUOR,CTDFLUOR_FLAG_W,CTDXMISS,CTDXMISS_FLAG_W
,,,,,,,,,,,METERS,DBAR,ITS-90,PSS-78,,PSS-78,,UMOL/KG,,UMOL/KG,,UMOL/KG,,UMOL/KG,,UMOL/KG,,UMOL/KG,,PMOL/KG,,PMOL/KG,,FMOL/KG,,UMOL/KG,,UMOL/KG,,,,/MILLE,,/MILLE,,/MILLE,/MILLE,,UMOL/KG,,UMOL/KG,,NMOL/KG,,,,,,DEG C,ITS-90,,VOLTS,,VOLTS,,VOLTS,
325020190403,       I06S,      36,          1,          1,          1,2,20190428,       2018,   -54.4994,    30.0009,       4718,  4804.0,  -0.2134,  34.6536,2,  34.6552,3,    240.1,2,   240.3,2,   130.8,2,   32.60,2,    0.00,2,    2.25,2,   0.876,2,   0.382,2,   0.1448,2,  2253.3,2, 2354.01,2,   7.6000,2, -999.00,9,  -999.0,9,  -999.0,    -0.1,2,    39.8,2,   33.98,2,    18.2314,3, 20190428,     2018, -54.4994,  30.0010,      25.05,    -0.2132,2,      0.125,1,      0.059,1,      4.719,1
325020190403,       I06S,      36,          1,          2,          2,2,20190428,       2018,   -54.4994,    30.0009,       4718,  4598.2,  -0.2145,  34.6528,2,  34.6542,2,    238.6,2,   239.6,2,   131.0,2,   32.62,2,    0.00,2,    2.25,2,   0.880,6,   0.385,6,   0.1946,6,  2254.2,2, 2352.35,2,   7.5988,2, -999.00,9,  -999.0,9,  -999.0,   -0.09,2,    38.2,2,   34.90,2,    18.3137,3, 20190428,     2023, -54.4994,  30.0010,      25.03,    -0.2148,2,      0.126,1,      0.060,1,      4.718,1
325020190403,       I06S,      36,          1,          3,          3,2,20190428,       2018,   -54.4994,    30.0009,       4718,  4391.9,  -0.1723,  34.6555,2,  34.6562,2,    236.7,2,   237.0,2,   130.4,2,   32.66,2,    0.00,2,    2.25,2,-999.000,9,-999.000,9,-999.0000,9,  -999.0,9, -999.00,9,-999.0000,9, -999.00,9,  -999.0,9,  -999.0,   -0.01,2,  -999.0,9, -999.00,9,     -999.0,9, 20190428,     2028, -54.4994,  30.0010,     -999.0,    -0.1722,2,      0.126,1,      0.060,1,      4.717,1
325020190403,       I06S,      36,          1,          4,          4,2,20190428,       2018,   -54.4994,    30.0009,       4718,  4083.6,  -0.0886,  34.6591,2,  34.6593,2,    232.7,2,   232.4,2,   129.7,2,   32.79,2,    0.00,2,    2.26,2,   0.740,2,   0.325,2,   0.1668,2,  2259.7,2, 2352.78,2,   7.5938,2, -999.00,9,  -999.0,9,  -999.0,    0.03,6,    38.7,2,   33.47,2,    18.5185,3, 20190428,     2034, -54.4994,  30.0010,      25.09,     -0.088,2,      0.123,1,      0.059,1,      4.717,1
325020190403,       I06S,      36,          1,          5,          5,2,20190428,       2018,   -54.4994,    30.0009,       4718,  3775.6,  -0.0265,  34.6623,2,  34.6627,2,    228.5,2,   229.0,2,   128.8,2,   32.83,2,    0.00,2,    2.26,2,-999.000,9,-999.000,9,-999.0000,9,  2260.2,2, -999.00,9,   7.5917,2, -999.00,9,  -999.0,9,  -999.0,   -0.09,2,    39.4,2,   33.75,2,     -999.0,9, 20190428,     2041, -54.4994,  30.0010,      25.08,    -0.0262,2,      0.122,1,      0.061,1,      4.717,1
325020190403,       I06S,      36,          1,          6,          6,2,20190428,       2018,   -54.4994,    30.0009,       4718,  3466.9,   0.0537,  34.6659,2,  34.6664,2,    224.8,2,   224.9,2,   128.6,2,   32.91,2,    0.00,2,    2.28,2,-999.000,9,-999.000,9,-999.0000,9,  -999.0,9, -999.00,9,-999.0000,9, -999.00,9,  -999.0,9,  -999.0, -999.00,9,  -999.0,9, -999.00,9,     -999.0,9, 20190428,     2048, -54.4994,  30.0010,     -999.0,     0.0537,2,      0.124,1,      0.059,1,      4.717,1
325020190403,       I06S,      36,          1,          7,          7,2,20190428,       2018,   -54.4994,    30.0009,       4718,  3158.2,   0.1891,   34.672,2,  34.6719,2,    218.5,2,   218.7,2,   128.0,2,   32.99,2,    0.00,2,    2.28,2,   0.606,2,   0.268,2,   0.1348,2,  2260.4,2, 2354.49,2,   7.5855,2, -999.00,9,  -999.0,9,  -999.0,   -0.04,2,    38.1,2,   33.53,2,    19.2093,3, 20190428,     2054, -54.4994,  30.0010,      25.08,     0.1887,2,      0.124,1,      0.060,1,      4.718,1
325020190403,       I06S,      36,          1,          8,          8,2,20190428,       2018,   -54.4994,    30.0009,       4718,  2888.0,   0.2921,  34.6771,2,   34.677,2,    213.6,2,   215.0,2,   127.0,2,   32.96,2,    0.00,2,    2.28,2,-999.000,9,-999.000,9,-999.0000,9,  -999.0,9, -999.00,9,-999.0000,9, -999.00,9,  -999.0,9,  -999.0, -999.00,9,    39.4,2,   33.66,2,     -999.0,9, 20190428,     2100, -54.4994,  30.0010,     -999.0,     0.2925,2,      0.125,1,      0.060,1,      4.718,1
325020190403,       I06S,      36,          1,          9,          9,2,20190428,       2018,   -54.4994,    30.0009,       4718,  2633.2,   0.3931,  34.6821,2,  34.6819,2,    210.5,2,   211.3,2,   125.7,2,   32.94,2,    0.00,2,    2.27,2,-999.000,9,-999.000,9,-999.0000,9,  2263.0,2, 2357.81,2,   7.5845,2, -999.00,9,  -999.0,9,  -999.0,    0.05,2,  -999.0,9, -999.00,9,     -999.0,9, 20190428,     2106, -54.4993,  30.0010,      25.08,     0.3932,2,      0.124,1,      0.062,1,      4.718,1
325020190403,       I06S,      36,          1,         10,         10,2,20190428,       2018,   -54.4994,    30.0009,       4718,  2379.2,   0.4889,  34.6877,3,  34.6907,3,    207.3,2,   209.2,2,   123.2,2,   32.75,2,    0.00,2,    2.26,2,   0.504,2,   0.229,2,   0.1055,2,  2261.8,2, -999.00,9,   7.5857,2, -999.00,9,  -999.0,9,  -999.0, -999.00,9,    39.4,2,   34.70,2,    19.4271,3, 20190428,     2112, -54.4994,  30.0010,      25.09,     0.4886,2,      0.125,1,      0.060,1,      4.718,1
325020190403,       I06S,      36,          1,         11,         11,2,20190428,       2018,   -54.4994,    30.0009,       4718,  2123.5,   0.6574,  34.6983,2,   34.699,2,    208.5,2,   208.3,2,   117.8,2,   32.28,2,    0.00,2,    2.23,2,-999.000,9,-999.000,9,-999.0000,9,  -999.0,9, -999.00,9,-999.0000,9, -999.00,9,  -999.0,9,  -999.0,    0.07,2,    39.4,2,   34.73,2,     -999.0,9, 20190428,     2118, -54.4994,  30.0010,     -999.0,     0.6591,2,      0.127,1,      0.062,1,      4.720,1
325020190403,       I06S,      36,          1,         12,         12,2,20190428,       2018,   -54.4994,    30.0009,       4718,  1898.3,   0.7632,   34.703,2,  34.7033,2,    206.0,2,   206.8,2,   114.1,2,   32.11,2,    0.00,2,    2.23,2,-999.000,9,-999.000,9,-999.0000,9,  2259.6,2, 2357.05,2,   7.5949,2, -999.00,9,  -999.0,9,  -999.0, -999.00,9,  -999.0,9, -999.00,9,     -999.0,9, 20190428,     2123, -54.4994,  30.0010,      25.08,     0.7629,2,      0.126,1,      0.060,1,      4.720,1
325020190403,       I06S,      36,          1,         13,         13,2,20190428,       2018,   -54.4994,    30.0009,       4718,  1697.5,   0.8914,  34.7087,2,  34.7088,2,    204.7,2,   204.4,2,   110.2,2,   31.87,2,    0.00,2,    2.21,2,   0.423,2,   0.197,2,   0.1157,2,  2260.7,2, -999.00,9,   7.5963,2, -999.00,9,  -999.0,9,  -999.0,    0.05,2,    38.8,2,   35.41,2,    19.4717,3, 20190428,     2128, -54.4994,  30.0010,      25.08,     0.8922,2,      0.128,1,      0.062,1,      4.721,1
325020190403,       I06S,      36,          1,         14,         14,2,20190428,       2018,   -54.4994,    30.0009,       4718,  1564.7,   0.9982,  34.7118,2,  34.7119,2,    203.7,2,   203.1,2,   107.4,2,   31.69,2,    0.00,2,    2.19,2,-999.000,9,-999.000,9,-999.0000,9,  -999.0,9, -999.00,9,-999.0000,9, -999.00,9,  -999.0,9,  -999.0, -999.00,9,    38.0,2,   33.72,2,     -999.0,9, 20190428,     2132, -54.4994,  30.0010,     -999.0,     0.9979,2,      0.127,1,      0.061,1,      4.723,1
325020190403,       I06S,      36,          1,         15,         15,2,20190428,       2018,   -54.4994,    30.0009,       4718,  1461.9,   1.0973,  34.7178,2,  34.7196,2,    199.8,3,   202.2,2,   105.2,2,   31.57,2,    0.00,2,    2.19,2,-999.000,9,-999.000,9,-999.0000,9,  2255.3,2, 2355.40,2,   7.5993,2, -999.00,9,  -999.0,9,  -999.0,    0.11,2,  -999.0,9, -999.00,9,     -999.0,9, 20190428,     2135, -54.4994,  30.0010,      25.08,     1.0969,2,      0.129,1,      0.060,1,      4.723,1
325020190403,       I06S,      36,          1,         16,         16,2,20190428,       2018,   -54.4994,    30.0009,       4718,  1359.9,   1.2344,  34.7255,2,  34.7255,2,    200.6,2,   200.7,2,   102.1,2,   31.26,2,    0.00,2,    2.17,2,   0.322,2,   0.151,2,   0.1232,2,  2254.8,2, 2359.09,2,   7.6025,2, -999.00,9,  -999.0,9,  -999.0, -999.00,9,    38.2,2,   33.73,2,     19.402,3, 20190428,     2138, -54.4994,  30.0010,      25.08,     1.2344,2,      0.126,1,      0.061,1,      4.724,1
325020190403,       I06S,      36,          1,         17,         17,2,20190428,       2018,   -54.4994,    30.0009,       4718,  1259.5,   1.3301,  34.7303,2,  34.7308,2,    199.2,2,   199.8,2,    99.4,2,   31.04,2,    0.00,2,    2.15,2,-999.000,9,-999.000,9,-999.0000,9,  -999.0,9, -999.00,9,-999.0000,9, -999.00,9,  -999.0,9,  -999.0,    0.12,2,    40.1,2,   34.60,2,     -999.0,9, 20190428,     2142, -54.4994,  30.0010,     -999.0,     1.3316,2,      0.132,1,      0.062,1,      4.725,1
325020190403,       I06S,      36,          1,         18,         18,2,20190428,       2018,   -54.4994,    30.0009,       4718,  1156.9,   1.3984,  34.7294,2,   34.729,2,    196.7,2,   197.7,2,    97.9,2,   31.09,2,    0.00,2,    2.16,2,-999.000,9,-999.000,9,-999.0000,9,  2254.2,2, -999.00,9,   7.6008,2, -999.00,9,  -999.0,9,  -999.0, -999.00,9,  -999.0,9, -999.00,9,     -999.0,9, 20190428,     2145, -54.4994,  30.0010,      25.07,     1.3986,2,      0.127,1,      0.061,1,      4.725,1
325020190403,       I06S,      36,          1,         19,         19,2,20190428,       2018,   -54.4994,    30.0009,       4718,  1054.4,   1.5293,  34.7348,2,  34.7355,2,    195.6,2,   196.4,2,    94.7,2,   30.83,2,    0.00,2,    2.14,2,   0.294,2,   0.137,2,   0.0950,2,  2254.3,2, 2351.11,2,   7.6026,2, -999.00,9,  -999.0,9,  -999.0,    0.12,2,    38.0,2,   33.95,2,    19.7064,3, 20190428,     2147, -54.4994,  30.0010,      25.07,     1.5285,2,      0.128,1,      0.060,1,      4.724,1
325020190403,       I06S,      36,          1,         20,         20,2,20190428,       2018,   -54.4994,    30.0009,       4718,   953.6,   1.6465,  34.7373,2,  34.7376,2,    193.5,2,   194.4,2,    91.8,2,   30.78,2,    0.00,2,    2.14,2,-999.000,9,-999.000,9,-999.0000,9,  -999.0,9, -999.00,9,-999.0000,9, -999.00,9,  -999.0,9,  -999.0, -999.00,9,    38.3,2,   34.89,2,     -999.0,9, 20190428,     2150, -54.4994,  30.0010,     -999.0,     1.6465,2,      0.127,1,      0.061,1,      4.724,1
325020190403,       I06S,      36,          1,         21,         21,2,20190428,       2018,   -54.4994,    30.0009,       4718,   851.1,   1.7147,  34.7296,2,  34.7306,2,    190.4,2,   191.2,2,    90.4,2,   31.12,2,    0.00,2,    2.16,2,   0.331,2,   0.161,2,   0.1691,2,  2251.2,2, 2348.51,2,   7.5954,2, -999.00,9,  -999.0,9,  -999.0,    0.18,2,  -999.0,9, -999.00,9,    20.2753,3, 20190428,     2154, -54.4994,  30.0010,      25.06,     1.7146,2,      0.132,1,      0.061,1,      4.721,1
325020190403,       I06S,      36,          1,         22,         22,2,20190428,       2018,   -54.4994,    30.0009,       4718,   750.1,   1.7555,  34.7168,2,   34.717,2,    186.7,2,   186.9,2,    90.3,2,   31.65,2,    0.00,2,    2.20,2,-999.000,9,-999.000,9,-999.0000,9,  2254.8,2, 2349.17,2,   7.5855,2, -999.00,9,  -999.0,9,  -999.0, -999.00,9,    39.1,2,   34.60,2,     -999.0,9, 20190428,     2157, -54.4994,  30.0010,      25.07,     1.7542,2,      0.130,1,      0.061,1,      4.721,1
325020190403,       I06S,      36,          1,         23,         23,2,20190428,       2018,   -54.4994,    30.0009,       4718,   649.6,    1.891,  34.7104,2,  34.7094,2,    181.4,2,   182.3,2,    87.6,2,   31.93,2,    0.00,2,    2.23,2,   0.380,2,   0.181,2,   0.1427,2,  -999.0,9, -999.00,9,-999.0000,9, -999.00,9,  -999.0,9,  -999.0,    0.15,6,    38.7,2,   35.69,2,    21.1246,3, 20190428,     2159, -54.4994,  30.0010,     -999.0,     1.8902,2,      0.135,1,      0.061,1,      4.719,1
325020190403,       I06S,      36,          1,         24,         24,2,20190428,       2018,   -54.4994,    30.0009,       4718,   549.2,   1.9342,  34.6895,2,  34.6886,2,    179.1,2,   177.5,2,    86.7,2,   32.72,2,    0.00,2,    2.27,2,   0.467,2,   0.225,2,   0.1319,2,  2259.3,2, 2345.38,2,   7.5656,2, -999.00,9,  -999.0,9,  -999.0, -999.00,9,  -999.0,9, -999.00,9,    21.7075,3, 20190428,     2202, -54.4994,  30.0010,      25.06,     1.9331,2,      0.136,1,      0.062,1,      4.718,1
325020190403,       I06S,      36,          1,         25,         25,2,20190428,       2018,   -54.4994,    30.0009,       4718,   474.6,   1.9711,  34.6671,2,  34.6656,2,    172.6,3,   174.7,2,    85.8,2,   33.21,2,    0.00,2,    2.30,2,   0.579,2,   0.278,2,   0.2101,2,  -999.0,9, -999.00,9,-999.0000,9, -999.00,9,  -999.0,9,  -999.0,    0.15,2,    38.5,2,   37.83,3,     22.699,3, 20190428,     2204, -54.4994,  30.0010,     -999.0,     1.9829,2,      0.134,1,      0.062,1,      4.718,1
325020190403,       I06S,      36,          1,         26,         26,2,20190428,       2018,   -54.4994,    30.0009,       4718,   425.4,   2.0815,  34.6643,2,  34.6644,2,    172.5,2,   173.3,2,    83.4,2,   33.14,2,    0.00,2,    2.30,2,   0.518,2,   0.250,2,   0.2371,2,  2257.3,2, 2341.51,2,   7.5566,2, -999.00,9,  -999.0,9,  -999.0, -999.00,9,    38.7,2,   37.43,3,    22.2862,3, 20190428,     2205, -54.4994,  30.0010,      25.03,     2.0686,2,      0.134,1,      0.062,1,      4.718,1
325020190403,       I06S,      36,          1,         27,         27,2,20190428,       2018,   -54.4994,    30.0009,       4718,   374.7,   1.7867,   34.599,2,  34.5973,2,    173.8,2,   175.3,2,    84.7,2,   34.42,2,    0.00,2,    2.39,2,   1.010,2,   0.499,2,   0.4464,2,  2262.2,2, -999.00,9,   7.5328,2, -999.00,9,  -999.0,9,  -999.0,    0.07,2,  -999.0,9, -999.00,9,    23.8071,3, 20190428,     2205, -54.4994,  30.0010,      25.01,     1.7858,2,      0.136,1,      0.063,1,      4.714,1
325020190403,       I06S,      36,          1,         28,         28,2,20190428,       2018,   -54.4994,    30.0009,       4718,   325.6,    1.888,  34.5745,2,  34.5744,2,    176.6,3,   173.8,2,    82.1,2,   34.61,2,    0.00,2,    2.39,2,   1.067,2,   0.525,2,   0.3871,2,  2261.3,2, 2333.80,2,   7.5302,2, -999.00,9,  -999.0,9,  -999.0, -999.00,9,    38.8,2,   38.38,3,    24.1143,3, 20190428,     2206, -54.4995,  30.0011,      25.00,     1.9185,2,      0.141,1,      0.062,1,      4.713,1
325020190403,       I06S,      36,          1,         29,         29,2,20190428,       2018,   -54.4994,    30.0009,       4718,   277.9,   2.0111,   34.547,2,  34.5411,2,    188.9,3,   172.6,2,    78.8,2,   35.00,2,    0.00,2,    2.42,2,   1.195,2,   0.585,2,   0.4701,2,  -999.0,9, -999.00,9,-999.0000,9, -999.00,9,  -999.0,9,  -999.0,    0.11,2,    37.5,2,   33.73,2,    24.5846,3, 20190428,     2207, -54.4994,  30.0010,     -999.0,     1.9411,3,      0.144,1,      0.063,1,      4.712,1
325020190403,       I06S,      36,          1,         30,         30,2,20190428,       2018,   -54.4994,    30.0009,       4718,   224.3,    1.569,  34.4331,2,  34.4311,2,    191.4,3,   198.0,2,    74.1,2,   34.71,2,    0.00,2,    2.40,2,   2.194,2,   1.099,2,   1.1487,2,  2250.2,2, 2321.80,2,   7.5292,2, -999.00,9,  -999.0,9,  -999.0,    -0.0,2,  -999.0,9, -999.00,9,    23.9033,3, 20190428,     2208, -54.4994,  30.0010,      25.01,     1.1374,3,      0.139,1,      0.062,1,      4.712,1
325020190403,       I06S,      36,          1,         31,         31,2,20190428,       2018,   -54.4994,    30.0009,       4718,   171.6,    0.858,   34.182,2,  34.1849,2,    280.6,3,   268.9,2,    60.6,2,   31.83,2,    0.02,2,    2.22,2,   4.201,2,   2.207,2,   2.5499,2,  2221.0,2, -999.00,9,   7.5784,2, -999.00,9,  -999.0,9,  -999.0,   -0.06,2,    39.2,2,   31.82,2,     19.994,3, 20190428,     2209, -54.4994,  30.0010,      25.00,     0.9028,3,      0.135,1,      0.066,1,      4.716,1
325020190403,       I06S,      36,          1,         32,         32,2,20190428,       2018,   -54.4994,    30.0009,       4718,   127.8,   1.7641,  34.0036,2,  34.0064,2,    331.7,3,   326.0,2,    44.0,2,   25.70,2,    0.34,2,    1.80,2,   5.088,2,   2.787,2,   3.5078,2,  -999.0,9, -999.00,9,-999.0000,9, -999.00,9,  -999.0,9,  -999.0,   -0.21,2,    39.2,2,   25.45,2,    11.5418,3, 20190428,     2210, -54.4994,  30.0010,     -999.0,     1.7675,2,      0.143,1,      0.112,1,      4.695,1
325020190403,       I06S,      36,          1,         33,         33,2,20190428,       2018,   -54.4994,    30.0009,       4718,    90.9,   1.7731,  34.0048,2,  34.0054,2,    330.3,3,   326.7,2,    43.9,2,   25.62,2,    0.34,2,    1.79,2,-999.000,5,-999.000,5,-999.0000,5,  2183.0,2, 2303.25,2,   7.6762,2, -999.00,9,  -999.0,9,  -999.0,   -0.12,2,  -999.0,9, -999.00,9,     -999.0,9, 20190428,     2210, -54.4994,  30.0011,      25.06,     1.7722,2,      0.144,1,      0.117,1,      4.692,1
325020190403,       I06S,      36,          1,         34,         34,2,20190428,       2018,   -54.4994,    30.0009,       4718,    67.9,   1.7718,  34.0052,2,  34.0048,2,    329.3,2,   326.9,2,    43.6,2,   25.53,2,    0.34,2,    1.77,2,-999.000,5,-999.000,5,-999.0000,5,  -999.0,9, -999.00,9,-999.0000,9, -999.00,9,  -999.0,9,  -999.0,   -0.18,2,    39.4,2,   26.74,2,     -999.0,9, 20190428,     2211, -54.4994,  30.0010,     -999.0,      1.771,2,      0.144,1,      0.114,1,      4.692,1
325020190403,       I06S,      36,          1,         35,         35,2,20190428,       2018,   -54.4994,    30.0009,       4718,    44.0,    1.768,  34.0052,2,   34.005,2,    328.0,2,   326.9,2,    43.7,2,   25.54,2,    0.34,2,    1.76,2,   5.406,2,   2.893,2,   3.9181,2,  2181.6,2, 2297.35,2,   7.6762,2, -999.00,9,  -999.0,9,  -999.0,   -0.18,2,  -999.0,9, -999.00,9,    14.2973,3, 20190428,     2211, -54.4994,  30.0010,      25.05,     1.7639,2,      0.142,1,      0.117,1,      4.692,1
325020190403,       I06S,      36,          1,         36,         36,2,20190428,       2018,   -54.4994,    30.0009,       4718,    13.1,   1.7513,  34.0049,2,   34.005,2,    323.3,3,   327.3,2,    43.7,2,   25.53,2,    0.34,2,    1.76,2,   5.301,2,   2.830,2,   3.6809,2,  2182.7,2, 2302.17,2,   7.6769,2, -999.00,9,  -999.0,9,  -999.0,   -0.19,6,    42.9,2,   23.25,2,    14.4167,3, 20190428,     2213, -54.4994,  30.0010,      25.07,     1.7502,2,      0.144,1,      0.118,1,      4.692,1