BOTTLE,20210804CCHSIOCBG
EXPOCODE,SECT_ID,STNNBR,CASTNO,SAMPNO,BTLNBR,BTLNBR_FLAG_W,DATE,TIME,LATITUDE,LONGITUDE,DEPTH,CTDPRS,CTDTMP,CTDSAL,CTDSAL_FLAG_W,SALNTY,SALNTY_FLAG_W,CTDOXY,CTDOXY_FLAG_W,OXYGEN,OXYGEN_FLAG_W,SILCAT,SILCAT_FLAG_W,NITRAT,NITRAT_FLAG_W,NITRIT,NITRIT_FLAG_W,PHSPHT,PHSPHT_FLAG_W,CFC-11,CFC-11_FLAG_W,CFC-12,CFC-12_FLAG_W,SF6,SF6_FLAG_W,TCARBN,TCARBN_FLAG_W,ALKALI,ALKALI_FLAG_W,PH_TOT,PH_TOT_FLAG_W,DELC13,DELC13_FLAG_W,DELC14,DELC14_FLAG_W,C14ERR,DELO18,DELO18_FLAG_W,DOC,DOC_FLAG_W,TDN,TDN_FLAG_W,N2O,N2O_FLAG_W,BTL_DATE,BTL_TIME,BTL_LAT,BTL_LON,PH_TMP,REFTMP,REFTMP_FLAG_W,CTDBACKSCATTER,CTDBACKSCATTER_FLAG_W,CTDFLUOR,CTDFLUOR_FLAG_W,CTDXMISS,CTDXMISS_FLAG_W
,,,,,,,,,,,METERS,DBAR,ITS-90,PSS-78,,PSS-78,,UMOL/KG,,UMOL/KG,,UMOL/KG,,UMOL/KG,,UMOL/KG,,UMOL/KG,,PMOL/KG,,PMOL/KG,,FMOL/KG,,UMOL/KG,,UMOL/KG,,,,/MILLE,,/MILLE,,/MILLE,/MILLE,,UMOL/KG,,UMOL/KG,,NMOL/KG,,,,,,DEG C,ITS-90,,VOLTS,,VOLTS,,VOLTS,
325020190403,       I06S,      13,          1,          1,          1,2,20190418,       1616,   -65.9999,    29.9989,       4501,  4581.3,  -0.2755,  34.6519,2,  34.6511,2,    242.8,2,   241.6,2,   136.9,2,   32.65,2,    0.00,2,    2.24,2,   0.837,2,   0.428,2,   0.2918,2,  2252.5,6, 2353.17,2,   7.5994,2, -999.00,9,  -999.0,9,  -999.0,    0.09,2,  -999.0,9, -999.00,9,      20.82,3, 20190418,     1616, -65.9999,  29.9989,      25.05,    -0.2756,2,      0.138,1,      0.060,1,      4.635,1
325020190403,       I06S,      13,          1,          2,          2,2,20190418,       1616,   -65.9999,    29.9989,       4501,  4567.5,  -0.2774,  34.6518,2,  34.6511,2,    242.2,2,   242.6,2,   136.8,2,   32.66,2,    0.00,2,    2.24,2,-999.000,9,-999.000,9,-999.0000,9,  -999.0,9, -999.00,9,-999.0000,9,    0.66,2,  -154.9,2,     1.7,     0.1,2,  -999.0,9, -999.00,9,     -999.0,9, 20190418,     1617, -65.9999,  29.9989,     -999.0,    -0.2781,2,      0.147,1,      0.060,1,      4.635,1
325020190403,       I06S,      13,          1,          3,          3,2,20190418,       1616,   -65.9999,    29.9989,       4501,  4180.9,  -0.2111,  34.6533,2,  34.6538,2,    241.4,2,   241.6,2,   123.2,2,   32.32,2,    0.00,2,    2.23,2,-999.000,9,-999.000,9,-999.0000,9,  -999.0,9, -999.00,9,-999.0000,9,    0.67,2,  -152.2,2,     1.9,    0.03,2,  -999.0,9, -999.00,9,     -999.0,9, 20190418,     1625, -65.9999,  29.9988,     -999.0,    -0.2116,2,      0.125,1,      0.061,1,      4.645,1
325020190403,       I06S,      13,          1,          4,          4,2,20190418,       1616,   -65.9999,    29.9989,       4501,  3871.8,  -0.1902,  34.6548,2,  34.6562,2,    238.9,2,   239.7,2,   123.4,2,   32.35,2,    0.00,2,    2.23,2,   1.150,2,   0.617,2,   0.5164,2,  2251.7,2, 2354.88,2,   7.5954,2,    0.64,2,  -150.3,2,     1.8,    0.03,2,  -999.0,9, -999.00,9,    23.4716,3, 20190418,     1631, -65.9999,  29.9989,      25.05,    -0.1907,2,      0.123,1,      0.062,1,      4.645,1
325020190403,       I06S,      13,          1,          5,          5,2,20190418,       1616,   -65.9999,    29.9989,       4501,  3562.2,  -0.1666,   34.656,2,  34.6566,2,    237.3,2,   237.3,2,   122.9,2,   32.47,2,    0.00,2,    2.24,2,-999.000,9,-999.000,9,-999.0000,9,  -999.0,9, -999.00,9,-999.0000,9,    0.64,2,  -153.5,2,     1.8,    0.23,2,  -999.0,9, -999.00,9,     -999.0,9, 20190418,     1636, -65.9999,  29.9988,     -999.0,    -0.1657,2,      0.122,1,      0.063,1,      4.646,1
325020190403,       I06S,      13,          1,          6,          6,2,20190418,       1616,   -65.9999,    29.9989,       4501,  3255.1,  -0.1351,  34.6578,2,  34.6574,2,    234.3,2,   234.8,2,   122.8,2,   32.53,2,    0.00,2,    2.25,2,   1.087,2,   0.576,2,   0.5110,2,  2253.2,2, 2353.60,2,   7.5934,2, -999.00,9,  -999.0,9,  -999.0, -999.00,9,  -999.0,9, -999.00,9,    23.8376,3, 20190418,     1641, -65.9999,  29.9989,      25.07,    -0.1355,2,      0.122,1,      0.061,1,      4.646,1
325020190403,       I06S,      13,          1,          7,          7,2,20190418,       1616,   -65.9999,    29.9989,       4501,  2963.1,  -0.0915,  34.6595,2,  34.6589,2,    231.3,2,   232.3,2,   122.6,2,   32.59,2,    0.00,2,    2.24,2,-999.000,9,-999.000,9,-999.0000,9,  -999.0,9, -999.00,9,-999.0000,9, -999.00,9,  -999.0,9,  -999.0,    0.01,6,  -999.0,9, -999.00,9,     -999.0,9, 20190418,     1646, -65.9999,  29.9990,     -999.0,    -0.0915,2,      0.124,1,      0.062,1,      4.647,1
325020190403,       I06S,      13,          1,          8,          8,2,20190418,       1616,   -65.9999,    29.9989,       4501,  2706.6,  -0.0479,  34.6617,2,  34.6613,2,    228.7,2,   229.6,2,   122.6,2,   32.65,2,    0.00,2,    2.26,2,   0.990,2,   0.530,2,   0.4548,2,  2253.0,2, 2354.25,2,   7.5908,2, -999.00,9,  -999.0,9,  -999.0,    0.27,2,  -999.0,9, -999.00,9,    24.3971,3, 20190418,     1650, -65.9999,  29.9989,      25.05,    -0.0479,2,      0.124,1,      0.062,1,      4.647,1
325020190403,       I06S,      13,          1,          9,          9,2,20190418,       1616,   -65.9999,    29.9989,       4501,  2451.1,   0.0001,  34.6639,3,   34.666,2,    226.0,2,   226.9,2,   122.5,2,   32.61,2,    0.00,2,    2.27,2,   0.902,2,   0.480,2,   0.3778,2,  2255.2,2, 2352.86,2,   7.5894,2,    0.59,2,  -158.1,2,     1.7, -999.00,9,  -999.0,9, -999.00,9,    24.4471,3, 20190418,     1654, -65.9999,  29.9989,      25.07,     0.0013,2,      0.124,1,      0.062,1,      4.647,1
325020190403,       I06S,      13,          1,         10,         10,2,20190418,       1616,   -65.9999,    29.9989,       4501,  2194.9,   0.1053,  34.6716,2,  34.6715,2,    219.1,2,   220.0,2,   125.8,2,   32.82,2,    0.00,2,    2.29,2,-999.000,9,-999.000,9,-999.0000,9,  -999.0,9, -999.00,9,-999.0000,9,    0.56,2,  -157.9,2,     2.2, -999.00,9,  -999.0,9, -999.00,9,     -999.0,9, 20190418,     1658, -65.9999,  29.9989,     -999.0,     0.1077,2,      0.123,1,      0.061,1,      4.648,1
325020190403,       I06S,      13,          1,         11,         11,2,20190418,       1616,   -65.9999,    29.9989,       4501,  1961.6,   0.1967,  34.6764,2,  34.6762,2,    215.2,2,   215.3,2,   126.1,2,   33.03,2,    0.00,2,    2.29,2,   0.486,2,   0.247,2,   0.1543,2,  2259.7,2, 2354.44,2,   7.5842,2,    0.52,2,  -158.2,2,     2.2,    0.03,2,  -999.0,9, -999.00,9,    25.1225,3, 20190418,     1702, -65.9999,  29.9989,      25.07,     0.1989,2,      0.123,1,      0.062,1,      4.648,1
325020190403,       I06S,      13,          1,         12,         12,2,20190418,       1616,   -65.9999,    29.9989,       4501,  1758.1,   0.2666,  34.6787,2,  34.6801,2,    212.9,2,   213.1,2,   123.5,2,   32.82,2,    0.00,2,    2.28,2,-999.000,9,-999.000,9,-999.0000,9,  -999.0,9, -999.00,9,-999.0000,9, -999.00,9,  -999.0,9,  -999.0, -999.00,9,  -999.0,9, -999.00,9,     -999.0,9, 20190418,     1706, -65.9999,  29.9989,     -999.0,     0.2682,2,      0.124,1,      0.061,1,      4.647,1
325020190403,       I06S,      13,          1,         13,         13,2,20190418,       1616,   -65.9999,    29.9989,       4501,  1584.5,   0.3564,  34.6834,2,  34.6856,2,    209.2,2,   209.4,2,   122.6,2,   32.92,2,    0.00,2,    2.29,2,-999.000,9,-999.000,9,-999.0000,9,  -999.0,9, -999.00,9,-999.0000,9,    0.52,2,  -159.6,2,     2.1,    0.06,2,  -999.0,9, -999.00,9,     -999.0,9, 20190418,     1708, -65.9999,  29.9989,     -999.0,     0.3576,2,      0.124,1,      0.062,1,      4.647,1
325020190403,       I06S,      13,          1,         14,         14,2,20190418,       1616,   -65.9999,    29.9989,       4501,  1483.0,      0.4,  34.6855,2,  34.6852,2,    208.3,2,   208.0,2,   121.8,2,   33.13,2,    0.00,2,    2.29,2,   0.475,2,   0.240,2,   0.2102,2,  2261.4,2, 2354.26,2,   7.5804,2,    0.51,2,  -158.0,2,     2.5, -999.00,9,  -999.0,9, -999.00,9,    25.5254,3, 20190418,     1710, -65.9999,  29.9989,      25.07,     0.4031,2,      0.125,1,      0.061,1,      4.647,1
325020190403,       I06S,      13,          1,         15,         15,2,20190418,       1616,   -65.9999,    29.9989,       4501,  1382.0,   0.4519,  34.6878,2,  34.6872,2,    206.2,2,   206.9,2,   121.2,2,   33.04,2,    0.00,2,    2.29,2,   0.478,2,   0.238,2,   0.1257,2,  2262.1,2, 2360.29,2,   7.5799,2,    0.51,2,  -152.6,2,     1.8,    0.18,2,  -999.0,9, -999.00,9,    25.4772,3, 20190418,     1712, -65.9999,  29.9989,      25.06,     0.4525,2,      0.127,1,      0.063,1,      4.647,1
325020190403,       I06S,      13,          1,         16,         16,2,20190418,       1616,   -65.9999,    29.9989,       4501,  1280.3,   0.5033,  34.6901,2,  34.6896,2,    204.6,2,   205.4,2,   119.8,2,   32.88,2,    0.00,2,    2.29,2,   0.477,2,   0.238,2,   0.1270,2,  2261.8,2, 2355.39,2,   7.5808,2,    0.50,2,  -155.0,2,     1.7, -999.00,9,  -999.0,9, -999.00,9,    25.6023,3, 20190418,     1713, -65.9999,  29.9989,      25.07,     0.5057,2,      0.126,1,      0.061,1,      4.647,1
325020190403,       I06S,      13,          1,         17,         17,2,20190418,       1616,   -65.9999,    29.9989,       4501,  1179.4,   0.5531,  34.6912,2,  34.6905,2,    204.9,2,   204.4,2,   118.5,2,   32.75,2,    0.00,2,    2.28,2,-999.000,9,-999.000,9,-999.0000,9,  -999.0,9, -999.00,9,-999.0000,9,    0.49,2,  -156.0,2,     2.0,    0.08,2,  -999.0,9, -999.00,9,     -999.0,9, 20190418,     1715, -65.9999,  29.9989,     -999.0,      0.555,2,      0.126,1,      0.062,1,      4.646,1
325020190403,       I06S,      13,          1,         18,         18,2,20190418,       1616,   -65.9999,    29.9989,       4501,  1077.0,   0.6167,  34.6937,2,  34.6937,2,    204.1,2,   203.8,2,   116.3,2,   32.70,2,    0.00,2,    2.27,2,   0.503,2,   0.251,2,   0.2008,2,  2260.8,2, 2355.65,2,   7.5821,2, -999.00,9,  -999.0,9,  -999.0, -999.00,9,  -999.0,9, -999.00,9,    25.7403,3, 20190418,     1717, -65.9999,  29.9989,      25.08,     0.6199,2,      0.127,1,      0.062,1,      4.646,1
325020190403,       I06S,      13,          1,         19,         19,2,20190418,       1616,   -65.9999,    29.9989,       4501,   975.4,   0.6723,  34.6951,2,   34.695,2,    205.8,2,   205.5,2,   113.0,2,   32.43,2,    0.00,2,    2.25,2,-999.000,9,-999.000,9,-999.0000,9,  -999.0,9, -999.00,9,-999.0000,9,    0.41,2,  -160.8,2,     1.6,    0.22,2,  -999.0,9, -999.00,9,     -999.0,9, 20190418,     1718, -65.9999,  29.9989,     -999.0,     0.6732,2,      0.127,1,      0.061,1,      4.646,1
325020190403,       I06S,      13,          1,         20,         20,2,20190418,       1616,   -65.9999,    29.9989,       4501,   873.9,   0.7729,  34.6992,2,     34.7,2,    203.2,2,   203.3,2,   110.3,2,   32.24,2,    0.00,2,    2.25,2,   0.536,2,   0.282,2,   0.1958,2,  2258.8,2, 2355.28,2,   7.5861,2,    0.35,2,  -159.6,2,     1.6, -999.00,9,  -999.0,9, -999.00,9,    25.5807,3, 20190418,     1720, -65.9999,  29.9989,      25.08,       0.78,2,      0.130,1,      0.063,1,      4.646,1
325020190403,       I06S,      13,          1,         21,         21,2,20190418,       1616,   -65.9999,    29.9989,       4501,   772.4,   0.8577,  34.7026,2,  34.7035,2,    201.8,2,   202.3,2,   108.1,2,   32.14,2,    0.00,2,    2.25,2,-999.000,9,-999.000,9,-999.0000,9,  -999.0,9, -999.00,9,-999.0000,9,    0.35,2,  -156.4,2,     1.9,    0.33,2,  -999.0,9, -999.00,9,     -999.0,9, 20190418,     1722, -65.9999,  29.9990,     -999.0,     0.8635,2,      0.129,1,      0.063,1,      4.646,1
325020190403,       I06S,      13,          1,         22,         22,2,20190418,       1616,   -65.9999,    29.9989,       4501,   671.2,   0.9491,  34.7056,2,  34.7058,2,    200.7,2,   200.7,2,   105.4,2,   32.07,2,    0.00,2,    2.24,2,-999.000,9,-999.000,9,-999.0000,9,  -999.0,9, -999.00,9,-999.0000,9,    0.37,2,  -153.7,2,     1.9, -999.00,9,  -999.0,9, -999.00,9,     -999.0,9, 20190418,     1723, -65.9999,  29.9989,     -999.0,      0.954,2,      0.131,1,      0.063,1,      4.644,1
325020190403,       I06S,      13,          1,         23,         23,2,20190418,       1616,   -65.9999,    29.9989,       4501,   570.1,   1.0564,  34.7084,2,   34.708,2,    198.9,2,   199.0,2,   102.8,2,   31.93,2,    0.00,2,    2.24,2,   0.525,2,   0.277,2,   0.2812,2,  2256.0,2, 2351.09,2,   7.5859,2,    0.36,2,  -161.7,2,     1.6,    0.24,2,  -999.0,9, -999.00,9,    25.9116,3, 20190418,     1725, -65.9999,  29.9989,      25.08,     1.0675,2,      0.134,1,      0.063,1,      4.643,1
325020190403,       I06S,      13,          1,         24,         24,2,20190418,       1616,   -65.9999,    29.9989,       4501,   488.2,   1.1177,  34.7037,2,  34.7029,2,    199.1,2,   198.4,2,    98.7,2,   31.95,2,    0.00,2,    2.23,2,   0.627,2,   0.338,2,   0.3321,2,  2255.2,2, 2347.24,2,   7.5842,2, -999.00,9,  -999.0,9,  -999.0, -999.00,9,  -999.0,9, -999.00,9,    26.2037,3, 20190418,     1726, -65.9999,  29.9989,      25.08,     1.1178,2,      0.138,1,      0.064,1,      4.640,1
325020190403,       I06S,      13,          1,         25,         25,2,20190418,       1616,   -65.9999,    29.9989,       4501,   437.3,   1.1375,  34.7007,2,  34.6996,2,    198.2,2,   197.8,2,    97.3,2,   31.97,2,    0.00,2,    2.23,2,-999.000,9,-999.000,9,-999.0000,9,  -999.0,9, -999.00,9,-999.0000,9,    0.38,2,  -154.1,2,     1.7,    0.24,2,  -999.0,9, -999.00,9,     -999.0,9, 20190418,     1727, -65.9999,  29.9989,     -999.0,     1.1383,2,      0.136,1,      0.064,1,      4.641,1
325020190403,       I06S,      13,          1,         26,         26,2,20190418,       1616,   -65.9999,    29.9989,       4501,   387.5,   1.2032,  34.6976,2,  34.6964,2,    196.5,2,   195.6,2,    95.7,2,   32.00,2,    0.00,2,    2.25,2,-999.000,9,-999.000,9,-999.0000,9,  -999.0,9, -999.00,9,-999.0000,9,    0.37,2,  -151.6,2,     1.7, -999.00,9,  -999.0,9, -999.00,9,     -999.0,9, 20190418,     1728, -65.9999,  29.9988,     -999.0,     1.2053,2,      0.137,1,      0.063,1,      4.641,1
325020190403,       I06S,      13,          1,         27,         27,2,20190418,       1616,   -65.9999,    29.9989,       4501,   337.8,   1.2064,  34.6917,2,  34.6903,2,    195.8,2,   194.4,2,    95.1,2,   32.17,2,    0.00,2,    2.26,2,   0.753,2,   0.412,2,   0.4529,2,  2254.9,2, 2350.07,2,   7.5754,2,    0.50,2,  -158.4,2,     1.8,    0.14,6,  -999.0,9, -999.00,9,    26.8217,3, 20190418,     1729, -65.9999,  29.9989,      25.09,     1.2031,2,      0.140,1,      0.062,1,      4.639,1
325020190403,       I06S,      13,          1,         28,         28,2,20190418,       1616,   -65.9999,    29.9989,       4501,   285.8,   1.1838,  34.6749,2,  34.6725,2,    196.6,3,   194.5,2,    93.4,2,   32.57,2,    0.00,2,    2.28,2,-999.000,9,-999.000,9,-999.0000,9,  -999.0,9, -999.00,9,-999.0000,9,    0.44,2,  -159.2,2,     1.8, -999.00,9,  -999.0,9, -999.00,9,     -999.0,9, 20190418,     1730, -65.9999,  29.9989,     -999.0,     1.1842,2,      0.144,1,      0.064,1,      4.635,1
325020190403,       I06S,      13,          1,         29,         29,2,20190418,       1616,   -65.9999,    29.9989,       4501,   236.4,   1.0653,  34.6515,2,  34.6484,2,    200.3,3,   197.7,2,    91.1,2,   32.63,2,    0.00,2,    2.24,2,   1.163,2,   0.634,2,   0.5976,2,  2257.6,2, 2348.44,2,   7.5630,2,    0.48,2,  -152.1,2,     1.7,    0.22,2,  -999.0,9, -999.00,9,    28.1066,3, 20190418,     1731, -65.9999,  29.9989,      25.08,     1.0389,2,      0.148,1,      0.064,1,      4.631,1
325020190403,       I06S,      13,          1,         30,         30,2,20190418,       1616,   -65.9999,    29.9989,       4501,   186.3,   0.7248,  34.6007,2,   34.597,2,    210.6,2,   208.6,2,    86.6,2,   32.75,2,    0.01,2,    2.24,2,-999.000,9,-999.000,9,-999.0000,9,  -999.0,9, -999.00,9,-999.0000,9, -999.00,9,  -999.0,9,  -999.0,    0.07,2,  -999.0,9, -999.00,9,     -999.0,9, 20190418,     1731, -65.9999,  29.9989,     -999.0,     0.6753,3,      0.152,1,      0.073,1,      4.628,1
325020190403,       I06S,      13,          1,         31,         31,2,20190418,       1616,   -65.9999,    29.9989,       4501,   135.1,  -0.2502,  34.4836,2,  34.4764,2,    248.3,2,   247.2,2,    75.6,2,   32.27,2,    0.02,2,    2.19,2,   3.218,2,   1.687,2,   1.8820,2,  -999.0,9, -999.00,9,-999.0000,9,    0.62,2,  -137.5,2,     1.7,    0.01,2,  -999.0,9, -999.00,9,    26.6778,3, 20190418,     1732, -65.9999,  29.9989,     -999.0,    -0.5233,3,      0.154,1,      0.088,1,      4.625,1
325020190403,       I06S,      13,          1,         32,         32,2,20190418,       1616,   -65.9999,    29.9989,       4501,    87.2,  -1.6646,  34.3467,2,  34.3409,2,    309.7,2,   309.5,2,    60.1,2,   30.23,2,    0.19,2,    2.06,2,   5.032,2,   2.701,2,   3.1664,2,  2223.3,2, 2322.58,2,   7.6021,2,    0.87,2,  -122.8,2,     1.8,   -0.09,2,  -999.0,9, -999.00,9,    24.0536,3, 20190418,     1733, -65.9999,  29.9989,      25.07,    -1.6937,3,      0.175,1,      0.136,1,      4.602,1
325020190403,       I06S,      13,          1,         33,         33,2,20190418,       1616,   -65.9999,    29.9989,       4501,    64.2,  -1.5632,  34.2923,2,  34.2963,2,    338.4,3,   319.5,2,    56.6,2,   29.28,2,    0.21,2,    2.01,2,-999.000,9,-999.000,9,-999.0000,9,  -999.0,9, -999.00,9,-999.0000,9, -999.00,9,  -999.0,9,  -999.0,   -0.11,2,  -999.0,9, -999.00,9,     -999.0,9, 20190418,     1733, -65.9999,  29.9989,     -999.0,    -1.2414,3,      0.215,1,      0.229,1,      4.559,1
325020190403,       I06S,      13,          1,         34,         34,2,20190418,       1616,   -65.9999,    29.9989,       4501,    42.3,  -0.7411,  33.9888,2,  33.9913,2,    344.5,2,   342.6,2,    47.8,2,   26.74,2,    0.22,2,    1.79,2,   5.854,2,   3.129,2,   3.8870,2,  -999.0,9, -999.00,9,-999.0000,9,    1.25,2,  -117.0,2,     1.8,   -0.07,2,  -999.0,9, -999.00,9,     21.456,3, 20190418,     1734, -65.9999,  29.9989,     -999.0,    -0.7419,2,      0.266,1,      0.375,1,      4.519,1
325020190403,       I06S,      13,          1,         35,         35,2,20190418,       1616,   -65.9999,    29.9989,       4501,    20.5,  -0.7472,  33.9864,2,   33.988,2,    343.4,2,   342.8,2,    47.4,2,   26.68,2,    0.22,2,    1.77,2,   5.864,2,   3.131,2,   4.0147,2,  2184.4,2, 2303.46,2,   7.6670,2,    1.23,2,  -109.2,2,     1.8,   -0.11,2,  -999.0,9, -999.00,9,    21.4651,3, 20190418,     1735, -65.9999,  29.9989,      25.06,    -0.7509,2,      0.271,1,      0.376,1,      4.518,1
325020190403,       I06S,      13,          1,         36,         36,2,20190418,       1616,   -65.9999,    29.9989,       4501,     4.5,  -0.7598,  33.9855,2,  33.9862,2,    342.7,2,   342.9,2,    47.5,2,   26.61,2,    0.22,2,    1.77,2,   5.854,2,   3.141,2,   3.9591,2,  2182.3,6, 2303.86,2,   7.6677,2,    1.26,2,  -113.8,2,     2.1,    -0.2,2,  -999.0,9, -999.00,9,    21.2571,3, 20190418,     1735, -65.9999,  29.9989,      25.03,    -0.7652,2,      0.253,1,      0.373,1,      4.515,1