BOTTLE,20210804CCHSIOCBG
EXPOCODE,SECT_ID,STNNBR,CASTNO,SAMPNO,BTLNBR,BTLNBR_FLAG_W,DATE,TIME,LATITUDE,LONGITUDE,DEPTH,CTDPRS,CTDTMP,CTDSAL,CTDSAL_FLAG_W,SALNTY,SALNTY_FLAG_W,CTDOXY,CTDOXY_FLAG_W,OXYGEN,OXYGEN_FLAG_W,SILCAT,SILCAT_FLAG_W,NITRAT,NITRAT_FLAG_W,NITRIT,NITRIT_FLAG_W,PHSPHT,PHSPHT_FLAG_W,CFC-11,CFC-11_FLAG_W,CFC-12,CFC-12_FLAG_W,SF6,SF6_FLAG_W,TCARBN,TCARBN_FLAG_W,ALKALI,ALKALI_FLAG_W,PH_TOT,PH_TOT_FLAG_W,DELC13,DELC13_FLAG_W,DELC14,DELC14_FLAG_W,C14ERR,DELO18,DELO18_FLAG_W,DOC,DOC_FLAG_W,TDN,TDN_FLAG_W,N2O,N2O_FLAG_W,BTL_DATE,BTL_TIME,BTL_LAT,BTL_LON,PH_TMP,REFTMP,REFTMP_FLAG_W,CTDBACKSCATTER,CTDBACKSCATTER_FLAG_W,CTDFLUOR,CTDFLUOR_FLAG_W,CTDXMISS,CTDXMISS_FLAG_W
,,,,,,,,,,,METERS,DBAR,ITS-90,PSS-78,,PSS-78,,UMOL/KG,,UMOL/KG,,UMOL/KG,,UMOL/KG,,UMOL/KG,,UMOL/KG,,PMOL/KG,,PMOL/KG,,FMOL/KG,,UMOL/KG,,UMOL/KG,,,,/MILLE,,/MILLE,,/MILLE,/MILLE,,UMOL/KG,,UMOL/KG,,NMOL/KG,,,,,,DEG C,ITS-90,,VOLTS,,VOLTS,,VOLTS,
325020190403,       I06S,      15,          1,          1,          1,2,20190419,       0353,   -64.9999,    30.0003,       4861,  4954.7,  -0.2806,  34.6518,2,  34.6507,2,    241.9,2,   241.9,2,   140.5,2,   32.48,2,    0.00,2,    2.23,2,   0.722,2,   0.361,2,   0.2207,2,  2252.8,2, 2352.79,2,   7.6182,2, -999.00,9,  -999.0,9,  -999.0,   -0.09,2,  -999.0,9, -999.00,9,    22.5887,3, 20190419,      353, -64.9999,  30.0002,      25.08,    -0.2801,2,      0.070,1,      0.057,1,      4.630,1
325020190403,       I06S,      15,          1,          2,          2,2,20190419,       0353,   -64.9999,    30.0003,       4861,  4832.5,  -0.2608,  34.6524,2,  34.6521,2,    241.7,2,   241.3,2,   140.1,2,   32.56,2,    0.00,2,    2.23,2,   0.714,2,   0.363,2,   0.1739,2,  2250.1,2, -999.00,9,-999.0000,9, -999.00,9,  -999.0,9,  -999.0,   -0.11,2,  -999.0,9, -999.00,9,    24.5122,3, 20190419,      356, -64.9999,  30.0002,     -999.0,    -0.2606,2,      0.070,1,      0.057,1,      4.640,1
325020190403,       I06S,      15,          1,          3,          3,2,20190419,       0353,   -64.9999,    30.0003,       4861,  4697.3,  -0.2378,   34.653,2,  34.6523,2,    242.3,2,   241.9,2,   132.4,2,   32.25,2,    0.00,2,    2.24,2,   0.861,2,   0.447,2,   0.2971,2,  -999.0,9, -999.00,9,-999.0000,9, -999.00,9,  -999.0,9,  -999.0,   -0.11,2,  -999.0,9, -999.00,9,    24.9036,3, 20190419,      400, -65.0000,  30.0003,     -999.0,    -0.2382,2,      0.070,1,      0.056,1,      4.644,1
325020190403,       I06S,      15,          1,          4,          4,2,20190419,       0353,   -64.9999,    30.0003,       4861,  4387.8,   -0.224,  34.6542,2,   34.654,2,    241.8,2,   241.1,2,   127.8,2,   32.25,2,    0.00,2,    2.24,2,   0.972,2,   0.508,2,   0.4213,2,  2252.5,2, 2356.68,2,   7.5994,2, -999.00,9,  -999.0,9,  -999.0,    -0.1,2,  -999.0,9, -999.00,9,     25.107,3, 20190419,      406, -64.9999,  30.0002,      25.07,    -0.2241,2,      0.071,1,      0.056,1,      4.645,1
325020190403,       I06S,      15,          1,          5,          5,2,20190419,       0353,   -64.9999,    30.0003,       4861,  4078.7,  -0.2095,  34.6545,2,   34.654,2,    240.4,2,   240.7,2,   123.6,2,   32.18,2,    0.00,2,    2.26,2,   1.153,2,   0.605,2,   0.4814,2,  -999.0,9, -999.00,9,-999.0000,9, -999.00,9,  -999.0,9,  -999.0,   -0.08,2,  -999.0,9, -999.00,9,    25.4553,3, 20190419,      412, -65.0000,  30.0002,     -999.0,    -0.2099,2,      0.069,1,      0.056,1,      4.645,1
325020190403,       I06S,      15,          1,          6,          6,2,20190419,       0353,   -64.9999,    30.0003,       4861,  3769.6,  -0.1839,  34.6562,2,  34.6556,2,    238.0,2,   238.1,2,   125.1,2,   32.26,2,    0.00,2,    2.25,2,   1.042,2,   0.550,2,   0.4484,2,  2252.9,2, 2352.29,2,   7.5954,2, -999.00,9,  -999.0,9,  -999.0,   -0.12,2,  -999.0,9, -999.00,9,    25.4693,3, 20190419,      418, -64.9999,  30.0002,      25.08,    -0.1844,2,      0.070,1,      0.057,1,      4.645,1
325020190403,       I06S,      15,          1,          7,          7,2,20190419,       0353,   -64.9999,    30.0003,       4861,  3463.0,  -0.1436,   34.659,2,  34.6588,2,    233.8,2,   234.4,2,   125.9,2,   32.42,2,    0.00,2,    2.27,2,   0.872,2,   0.453,2,   0.3546,2,  -999.0,9, -999.00,9,-999.0000,9, -999.00,9,  -999.0,9,  -999.0,   -0.07,2,  -999.0,9, -999.00,9,    25.4827,3, 20190419,      424, -65.0000,  30.0002,     -999.0,    -0.1439,2,      0.070,1,      0.058,1,      4.646,1
325020190403,       I06S,      15,          1,          8,          8,2,20190419,       0353,   -64.9999,    30.0003,       4861,  3153.0,  -0.1061,  34.6603,2,  34.6599,2,    231.4,2,   232.2,2,   125.2,2,   32.43,2,    0.00,2,    2.27,2,   0.879,2,   0.461,2,   0.3798,2,  2256.8,2, 2357.03,2,   7.5922,2, -999.00,9,  -999.0,9,  -999.0,   -0.05,2,  -999.0,9, -999.00,9,    25.6311,3, 20190419,      430, -65.0000,  30.0003,      25.08,    -0.1062,2,      0.069,1,      0.057,1,      4.646,1
325020190403,       I06S,      15,          1,          9,          9,2,20190419,       0353,   -64.9999,    30.0003,       4861,  2879.8,  -0.0519,   34.667,3,  34.6623,3,    226.0,3,   229.0,2,   124.8,2,   32.49,2,    0.00,2,    2.28,2,   0.832,2,   0.431,2,   0.3379,2,  -999.0,9, -999.00,9,-999.0000,9, -999.00,9,  -999.0,9,  -999.0, -999.00,9,  -999.0,9, -999.00,9,    24.8759,3, 20190419,      436, -64.9999,  30.0002,     -999.0,    -0.0521,2,      0.070,1,      0.058,1,      4.647,1
325020190403,       I06S,      15,          1,         10,         10,2,20190419,       0353,   -64.9999,    30.0003,       4861,  2627.4,   0.0164,  34.6669,2,  34.6662,2,    225.1,2,   225.3,2,   125.6,2,   32.49,2,    0.00,2,    2.28,2,   0.707,2,   0.362,2,   0.2429,2,  2257.8,2, 2354.88,2,   7.5893,2, -999.00,9,  -999.0,9,  -999.0,   -0.03,2,  -999.0,9, -999.00,9,    25.5905,3, 20190419,      441, -64.9999,  30.0003,      25.06,     0.0161,2,      0.070,1,      0.056,1,      4.647,1
325020190403,       I06S,      15,          1,         11,         11,2,20190419,       0353,   -64.9999,    30.0003,       4861,  2372.5,   0.0989,  34.6708,2,  34.6715,2,    219.8,2,   220.6,2,   125.2,2,   32.76,2,    0.00,2,    2.29,2,   0.597,2,   0.310,2,   0.2369,2,  -999.0,9, -999.00,9,-999.0000,9, -999.00,9,  -999.0,9,  -999.0, -999.00,9,  -999.0,9, -999.00,9,    25.8181,3, 20190419,      446, -64.9999,  30.0003,     -999.0,     0.0988,2,      0.068,1,      0.056,1,      4.647,1
325020190403,       I06S,      15,          1,         12,         12,2,20190419,       0353,   -64.9999,    30.0003,       4861,  2114.2,   0.1862,  34.6752,2,  34.6748,2,    216.4,2,   216.9,2,   125.3,2,   32.63,2,    0.00,2,    2.29,2,   0.567,2,   0.287,2,   0.2205,2,  2260.5,2, 2356.03,2,   7.5851,2, -999.00,9,  -999.0,9,  -999.0,    0.03,6,  -999.0,9, -999.00,9,    25.6191,3, 20190419,      451, -64.9999,  30.0003,      25.08,     0.1857,2,      0.068,1,      0.057,1,      4.647,1
325020190403,       I06S,      15,          1,         13,         13,2,20190419,       0353,   -64.9999,    30.0003,       4861,  1891.3,   0.2779,    34.68,2,  34.6797,2,    212.0,2,   212.1,2,   125.0,2,   32.85,2,    0.00,2,    2.30,2,-999.000,5,-999.000,5,-999.0000,5,  -999.0,9, -999.00,9,-999.0000,9, -999.00,9,  -999.0,9,  -999.0, -999.00,9,  -999.0,9, -999.00,9,     -999.0,9, 20190419,      456, -64.9999,  30.0002,     -999.0,     0.2779,2,      0.071,1,      0.058,1,      4.647,1
325020190403,       I06S,      15,          1,         14,         14,2,20190419,       0353,   -64.9999,    30.0003,       4861,  1687.1,   0.3592,   34.684,2,  34.6833,2,    209.0,2,   209.0,2,   123.9,2,   32.75,2,    0.00,2,    2.28,2,   0.468,2,   0.232,2,   0.1756,2,  2262.4,2, 2357.96,2,   7.5807,2, -999.00,9,  -999.0,9,  -999.0,   -0.01,2,  -999.0,9, -999.00,9,    23.5837,3, 20190419,      500, -64.9999,  30.0003,      25.07,     0.3586,2,      0.071,1,      0.058,1,      4.647,1
325020190403,       I06S,      15,          1,         15,         15,2,20190419,       0353,   -64.9999,    30.0003,       4861,  1555.1,    0.411,  34.6866,2,  34.6856,2,    206.9,2,   207.4,2,   122.9,2,   32.85,2,    0.00,2,    2.28,2,   0.462,2,   0.230,2,   0.1332,2,  -999.0,9, -999.00,9,-999.0000,9, -999.00,9,  -999.0,9,  -999.0, -999.00,9,  -999.0,9, -999.00,9,    25.7718,3, 20190419,      503, -64.9999,  30.0004,     -999.0,     0.4107,2,      0.069,1,      0.058,1,      4.647,1
325020190403,       I06S,      15,          1,         16,         16,2,20190419,       0353,   -64.9999,    30.0003,       4861,  1453.6,   0.4544,  34.6883,2,  34.6872,2,    205.7,2,   205.9,2,   122.1,2,   32.72,2,    0.00,2,    2.28,2,   0.468,2,   0.232,2,   0.2153,2,  2263.7,2, 2358.28,2,   7.5802,2, -999.00,9,  -999.0,9,  -999.0,    0.03,2,  -999.0,9, -999.00,9,    26.1068,3, 20190419,      505, -64.9999,  30.0002,      25.06,     0.4538,2,      0.069,1,      0.058,1,      4.647,1
325020190403,       I06S,      15,          1,         17,         17,2,20190419,       0353,   -64.9999,    30.0003,       4861,  1353.8,    0.497,    34.69,2,  34.6888,2,    204.1,2,   204.2,2,   120.5,2,   32.79,2,    0.00,2,    2.28,2,   0.474,2,   0.236,2,   0.2348,2,  -999.0,9, -999.00,9,-999.0000,9, -999.00,9,  -999.0,9,  -999.0, -999.00,9,  -999.0,9, -999.00,9,    26.3418,3, 20190419,      508, -64.9999,  30.0002,     -999.0,     0.4968,2,      0.070,1,      0.057,1,      4.646,1
325020190403,       I06S,      15,          1,         18,         18,2,20190419,       0353,   -64.9999,    30.0003,       4861,  1249.8,   0.5423,  34.6916,2,  34.6905,2,    202.5,2,   203.0,2,   118.5,2,   32.75,2,    0.00,2,    2.28,2,   0.479,2,   0.242,2,   0.1854,2,  2263.1,2, 2360.81,2,   7.5777,2, -999.00,9,  -999.0,9,  -999.0,    -0.0,2,  -999.0,9, -999.00,9,    26.4526,3, 20190419,      510, -64.9999,  30.0003,      25.08,     0.5422,2,      0.070,1,      0.056,1,      4.647,1
325020190403,       I06S,      15,          1,         19,         19,2,20190419,       0353,   -64.9999,    30.0003,       4861,  1148.3,   0.5981,   34.694,2,  34.6939,2,    201.9,2,   203.2,2,   117.5,2,   32.62,2,    0.00,2,    2.22,2,   0.491,2,   0.252,2,   0.2155,2,  -999.0,9, -999.00,9,-999.0000,9, -999.00,9,  -999.0,9,  -999.0, -999.00,9,  -999.0,9, -999.00,9,    26.4851,3, 20190419,      513, -64.9999,  30.0003,     -999.0,     0.5996,2,      0.070,1,      0.057,1,      4.647,1
325020190403,       I06S,      15,          1,         20,         20,2,20190419,       0353,   -64.9999,    30.0003,       4861,  1047.4,   0.6716,  34.6978,2,  34.6974,2,    202.4,2,   202.8,2,   115.3,2,   32.50,2,    0.00,2,    2.22,2,   0.480,2,   0.243,2,   0.1876,2,  2259.2,2, 2360.75,2,   7.5830,2, -999.00,9,  -999.0,9,  -999.0,    0.04,2,  -999.0,9, -999.00,9,    26.4898,3, 20190419,      515, -64.9999,  30.0003,      25.08,     0.6708,2,      0.070,1,      0.057,1,      4.646,1
325020190403,       I06S,      15,          1,         21,         21,2,20190419,       0353,   -64.9999,    30.0003,       4861,   945.9,   0.7423,  34.7004,2,  34.6996,2,    201.9,2,   202.3,2,   113.0,2,   32.34,2,    0.00,2,    2.23,2,   0.489,2,   0.253,2,   0.2187,2,  -999.0,9, -999.00,9,-999.0000,9, -999.00,9,  -999.0,9,  -999.0,    0.05,2,  -999.0,9, -999.00,9,    25.1987,3, 20190419,      518, -64.9999,  30.0003,     -999.0,      0.743,2,      0.070,1,      0.058,1,      4.643,1
325020190403,       I06S,      15,          1,         22,         22,2,20190419,       0353,   -64.9999,    30.0003,       4861,   846.0,   0.8281,  34.7039,2,  34.7031,2,    201.1,2,   201.3,2,   110.6,2,   32.41,2,    0.00,2,    2.23,2,   0.486,2,   0.250,2,   0.2227,2,  2260.1,2, 2356.18,2,   7.5855,2, -999.00,9,  -999.0,9,  -999.0, -999.00,9,  -999.0,9, -999.00,9,    26.3806,3, 20190419,      520, -64.9999,  30.0003,      25.08,     0.8293,2,      0.070,1,      0.056,1,      4.645,1
325020190403,       I06S,      15,          1,         23,         23,2,20190419,       0353,   -64.9999,    30.0003,       4861,   743.9,   0.9313,  34.7081,2,  34.7068,2,    199.2,2,   199.8,2,   107.3,2,   32.38,2,    0.00,2,    2.22,2,   0.472,2,   0.246,2,   0.2278,2,  -999.0,9, -999.00,9,-999.0000,9, -999.00,9,  -999.0,9,  -999.0,    0.06,2,  -999.0,9, -999.00,9,     26.553,3, 20190419,      522, -64.9999,  30.0003,     -999.0,     0.9317,2,      0.069,1,      0.057,1,      4.644,1
325020190403,       I06S,      15,          1,         24,         24,2,20190419,       0353,   -64.9999,    30.0003,       4861,   642.9,    1.038,  34.7114,2,  34.7111,2,    197.8,2,   198.3,2,   104.3,2,   31.68,2,    0.00,2,    2.20,2,   0.469,2,   0.244,2,   0.2122,2,  2255.3,2, 2353.18,2,   7.5873,2, -999.00,9,  -999.0,9,  -999.0, -999.00,9,  -999.0,9, -999.00,9,     26.632,3, 20190419,      525, -64.9999,  30.0002,      25.07,     1.0388,2,      0.070,1,      0.057,1,      4.643,1
325020190403,       I06S,      15,          1,         25,         25,2,20190419,       0353,   -64.9999,    30.0003,       4861,   541.4,   1.1637,  34.7137,2,  34.7125,2,    195.6,2,   196.2,2,   101.4,2,   31.90,2,    0.00,2,    2.19,2,   0.480,2,   0.257,2,   0.2526,2,  -999.0,9, -999.00,9,-999.0000,9, -999.00,9,  -999.0,9,  -999.0,    0.08,2,  -999.0,9, -999.00,9,    26.5086,3, 20190419,      527, -64.9999,  30.0003,     -999.0,     1.1635,2,      0.070,1,      0.056,1,      4.641,1
325020190403,       I06S,      15,          1,         26,         26,2,20190419,       0353,   -64.9999,    30.0003,       4861,   437.3,   1.2585,  34.7108,2,  34.7098,2,    193.4,2,   193.7,2,    99.2,2,   32.22,2,    0.00,2,    2.20,2,   0.523,2,   0.281,2,   0.2689,2,  2256.3,2, 2353.84,2,   7.5809,2, -999.00,9,  -999.0,9,  -999.0, -999.00,9,  -999.0,9, -999.00,9,    26.6134,3, 20190419,      530, -64.9999,  30.0002,      25.09,     1.2578,2,      0.070,1,      0.057,1,      4.641,1
325020190403,       I06S,      15,          1,         27,         27,2,20190419,       0353,   -64.9999,    30.0003,       4861,   367.4,   1.3283,  34.7063,2,  34.7045,2,    191.2,2,   190.9,2,    96.5,2,   32.58,2,    0.00,2,    2.20,2,   0.561,2,   0.308,2,   0.2626,2,  -999.0,9, -999.00,9,-999.0000,9, -999.00,9,  -999.0,9,  -999.0,    0.17,2,  -999.0,9, -999.00,9,    25.5142,3, 20190419,      532, -64.9999,  30.0002,     -999.0,     1.3297,2,      0.070,1,      0.058,1,      4.641,1
325020190403,       I06S,      15,          1,         28,         28,2,20190419,       0353,   -64.9999,    30.0003,       4861,   319.3,   1.3615,   34.701,2,  34.6988,2,    189.3,2,   189.8,2,    96.4,2,   32.49,2,    0.00,2,    2.21,2,   0.600,2,   0.326,2,   0.2672,2,  2259.6,2, 2348.48,2,   7.5730,2, -999.00,9,  -999.0,9,  -999.0, -999.00,9,  -999.0,9, -999.00,9,    27.6264,3, 20190419,      533, -64.9999,  30.0003,      25.08,     1.3583,2,      0.070,1,      0.056,1,      4.638,1
325020190403,       I06S,      15,          1,         29,         29,2,20190419,       0353,   -64.9999,    30.0003,       4861,   269.1,   1.3937,  34.6906,2,   34.689,2,    188.1,2,   187.1,2,    94.0,2,   32.71,2,    0.00,2,    2.22,2,   0.663,2,   0.365,2,   0.3153,2,  -999.0,9, -999.00,9,-999.0000,9, -999.00,9,  -999.0,9,  -999.0,    0.11,2,  -999.0,9, -999.00,9,    28.6439,3, 20190419,      535, -64.9999,  30.0003,     -999.0,     1.3924,2,      0.070,1,      0.057,1,      4.635,1
325020190403,       I06S,      15,          1,         30,         30,2,20190419,       0353,   -64.9999,    30.0003,       4861,   216.0,    1.327,  34.6652,2,  34.6631,2,    187.9,2,   187.4,2,    92.9,2,   33.27,2,    0.00,2,    2.24,2,   0.867,2,   0.482,2,   0.4720,2,  2261.5,6, 2346.84,2,   7.5566,2, -999.00,9,  -999.0,9,  -999.0, -999.00,9,  -999.0,9, -999.00,9,    29.6638,3, 20190419,      536, -64.9999,  30.0002,      25.08,     1.3254,2,      0.070,1,      0.058,1,      4.628,1
325020190403,       I06S,      15,          1,         31,         31,2,20190419,       0353,   -64.9999,    30.0003,       4861,   164.6,    1.209,  34.6343,2,  34.6319,2,    189.4,2,   189.1,2,    91.0,2,   33.74,2,    0.00,2,    2.28,2,   1.111,2,   0.622,2,   0.5878,2,  -999.0,9, -999.00,9,-999.0000,9, -999.00,9,  -999.0,9,  -999.0,    0.08,6,  -999.0,9, -999.00,9,    30.2078,3, 20190419,      538, -64.9999,  30.0003,     -999.0,     1.1772,2,      0.070,1,      0.058,1,      4.619,1
325020190403,       I06S,      15,          1,         32,         32,2,20190419,       0353,   -64.9999,    30.0003,       4861,   115.3,   0.8053,  34.5632,2,  34.5619,2,    216.2,3,   201.5,2,    86.1,2,   33.74,2,    0.02,2,    2.26,2,   1.791,2,   0.959,2,   0.9684,2,  2258.9,2, 2333.69,2,   7.5426,2, -999.00,9,  -999.0,9,  -999.0, -999.00,9,  -999.0,9, -999.00,9,    30.2005,3, 20190419,      540, -64.9999,  30.0003,      25.08,     0.8143,2,      0.071,1,      0.056,1,      4.612,1
325020190403,       I06S,      15,          1,         33,         33,2,20190419,       0353,   -64.9999,    30.0003,       4861,    87.4,  -0.6317,  34.4101,2,  34.4046,2,    280.2,3,   274.7,2,    68.5,2,   31.17,2,    0.18,2,    2.13,2,   3.986,2,   2.129,2,   2.5215,2,  -999.0,9, -999.00,9,-999.0000,9, -999.00,9,  -999.0,9,  -999.0,   -0.11,2,  -999.0,9, -999.00,9,    27.6385,3, 20190419,      541, -64.9999,  30.0003,     -999.0,    -0.6993,3,      0.069,1,      0.055,1,      4.582,1
325020190403,       I06S,      15,          1,         34,         34,2,20190419,       0353,   -64.9999,    30.0003,       4861,    60.7,  -1.0379,  34.3262,2,  34.3255,2,    313.6,3,   297.7,2,    61.0,2,   29.69,2,    0.14,2,    2.03,2,   4.492,2,   2.411,2,   2.8801,2,  2225.1,2, 2327.00,2,   7.6086,2, -999.00,9,  -999.0,9,  -999.0,   -0.21,2,  -999.0,9, -999.00,9,    26.9913,3, 20190419,      542, -64.9999,  30.0002,      25.07,    -1.0397,2,      0.071,1,      0.057,1,      4.548,1
325020190403,       I06S,      15,          1,         35,         35,2,20190419,       0353,   -64.9999,    30.0003,       4861,    35.4,  -0.5839,  33.9287,2,  33.9291,2,    341.3,2,   340.5,2,    39.9,2,   25.65,2,    0.24,2,    1.69,2,   5.712,2,   3.065,2,   3.7804,2,  -999.0,9, -999.00,9,-999.0000,9, -999.00,9,  -999.0,9,  -999.0,   -0.33,2,  -999.0,9, -999.00,9,    23.2346,3, 20190419,      544, -64.9999,  30.0002,     -999.0,     -0.584,2,      0.069,1,      0.056,1,      4.538,1
325020190403,       I06S,      15,          1,         36,         36,2,20190419,       0353,   -64.9999,    30.0003,       4861,     5.8,  -0.5874,   33.929,2,  33.9287,2,    339.9,2,   340.6,2,    40.0,2,   25.67,2,    0.24,2,    1.70,2,   5.727,2,   3.109,2,   3.9573,2,  2177.3,6, 2299.14,2,   7.6748,2, -999.00,9,  -999.0,9,  -999.0,   -0.19,2,  -999.0,9, -999.00,9,    23.0006,3, 20190419,      546, -64.9999,  30.0002,      25.06,    -0.5885,2,      0.069,1,      0.056,1,      4.542,1