BOTTLE,20210804CCHSIOCBG
EXPOCODE,SECT_ID,STNNBR,CASTNO,SAMPNO,BTLNBR,BTLNBR_FLAG_W,DATE,TIME,LATITUDE,LONGITUDE,DEPTH,CTDPRS,CTDTMP,CTDSAL,CTDSAL_FLAG_W,SALNTY,SALNTY_FLAG_W,CTDOXY,CTDOXY_FLAG_W,OXYGEN,OXYGEN_FLAG_W,SILCAT,SILCAT_FLAG_W,NITRAT,NITRAT_FLAG_W,NITRIT,NITRIT_FLAG_W,PHSPHT,PHSPHT_FLAG_W,CFC-11,CFC-11_FLAG_W,CFC-12,CFC-12_FLAG_W,SF6,SF6_FLAG_W,TCARBN,TCARBN_FLAG_W,ALKALI,ALKALI_FLAG_W,PH_TOT,PH_TOT_FLAG_W,DELC13,DELC13_FLAG_W,DELC14,DELC14_FLAG_W,C14ERR,DELO18,DELO18_FLAG_W,DOC,DOC_FLAG_W,TDN,TDN_FLAG_W,N2O,N2O_FLAG_W,BTL_DATE,BTL_TIME,BTL_LAT,BTL_LON,PH_TMP,REFTMP,REFTMP_FLAG_W,CTDBACKSCATTER,CTDBACKSCATTER_FLAG_W,CTDFLUOR,CTDFLUOR_FLAG_W,CTDXMISS,CTDXMISS_FLAG_W
,,,,,,,,,,,METERS,DBAR,ITS-90,PSS-78,,PSS-78,,UMOL/KG,,UMOL/KG,,UMOL/KG,,UMOL/KG,,UMOL/KG,,UMOL/KG,,PMOL/KG,,PMOL/KG,,FMOL/KG,,UMOL/KG,,UMOL/KG,,,,/MILLE,,/MILLE,,/MILLE,/MILLE,,UMOL/KG,,UMOL/KG,,NMOL/KG,,,,,,DEG C,ITS-90,,VOLTS,,VOLTS,,VOLTS,
325020190403,       I06S,      32,          1,          1,          1,2,20190424,       1708,   -56.5029,    30.0002,       5462,  5572.8,   -0.217,  34.6498,2,  34.6499,2,    244.6,2,   246.2,2,   131.4,2,   32.53,2,    0.00,2,    2.23,2,   0.877,2,   0.432,2,   0.1813,2,  2250.7,6, 2352.50,2,   7.6012,2, -999.00,9,  -999.0,9,  -999.0,   -0.02,2,    39.2,2,   34.68,2,    21.7826,3, 20190424,     1708, -56.5029,  30.0002,      25.07,     -999.0,9,      0.140,1,      0.060,1,      4.595,1
325020190403,       I06S,      32,          1,          2,          2,2,20190424,       1708,   -56.5029,    30.0002,       5462,  5497.9,  -0.2236,  34.6499,2,  34.6497,2,    244.3,2,   243.9,2,   131.3,2,   32.39,2,    0.00,2,    2.24,2,   0.859,2,   0.420,2,   0.2521,2,  -999.0,9, -999.00,9,-999.0000,9, -999.00,9,  -999.0,9,  -999.0,   -0.03,2,    40.1,2,   32.36,2,    21.7378,3, 20190424,     1711, -56.5033,  30.0005,     -999.0,     -999.0,9,      0.131,1,      0.060,1,      4.603,1
325020190403,       I06S,      32,          1,          3,          3,2,20190424,       1708,   -56.5029,    30.0002,       5462,  5422.1,  -0.2239,  34.6503,2,  34.6501,2,    244.1,2,   243.8,2,   130.7,2,   32.51,2,    0.00,2,    2.23,2,   0.851,2,   0.421,2,   0.2151,2,  2248.7,2, 2352.61,2,   7.6019,2, -999.00,9,  -999.0,9,  -999.0,   -0.06,2,  -999.0,9, -999.00,9,     21.643,3, 20190424,     1714, -56.5035,  30.0007,      25.06,     -999.0,9,      0.127,1,      0.060,1,      4.608,1
325020190403,       I06S,      32,          1,          4,          4,2,20190424,       1708,   -56.5029,    30.0002,       5462,  5010.1,  -0.2281,   34.652,2,  34.6523,2,    241.5,2,   242.0,2,   131.0,2,   32.55,2,    0.00,2,    2.24,2,   0.807,2,   0.406,2,   0.2114,2,  -999.0,9, -999.00,9,-999.0000,9, -999.00,9,  -999.0,9,  -999.0,    0.04,2,    39.8,2,   30.59,2,    12.5001,3, 20190424,     1722, -56.5038,  30.0009,     -999.0,     -999.0,9,      0.128,1,      0.060,1,      4.608,1
325020190403,       I06S,      32,          1,          5,          5,2,20190424,       1708,   -56.5029,    30.0002,       5462,  4597.4,   -0.214,  34.6539,2,  34.6542,2,    239.7,2,   239.8,2,   130.7,2,   32.60,2,    0.00,2,    2.23,2,   0.755,2,   0.382,2,   0.1616,2,  2250.6,2, 2352.01,2,   7.5989,2, -999.00,9,  -999.0,9,  -999.0,    0.11,2,    38.6,2,   30.83,2,    21.6556,3, 20190424,     1729, -56.5041,  30.0011,      25.06,     -999.0,9,      0.124,1,      0.060,1,      4.612,1
325020190403,       I06S,      32,          1,          6,          6,2,20190424,       1708,   -56.5029,    30.0002,       5462,  4187.6,   -0.165,  34.6569,2,  34.6574,2,    236.2,2,   236.4,2,   128.1,2,   32.67,2,    0.00,2,    2.24,2,   0.740,2,   0.375,2,   0.1766,2,  -999.0,9, -999.00,9,-999.0000,9, -999.00,9,  -999.0,9,  -999.0, -999.00,9,  -999.0,9, -999.00,9,    21.8364,3, 20190424,     1737, -56.5044,  30.0013,     -999.0,     -999.0,9,      0.121,1,      0.060,1,      4.614,1
325020190403,       I06S,      32,          1,          7,          7,2,20190424,       1708,   -56.5029,    30.0002,       5462,  3777.8,  -0.1157,  34.6596,2,  34.6595,2,    231.0,2,   232.5,2,   128.6,2,   32.74,2,    0.00,2,    2.24,2,   0.686,2,   0.349,2,   0.2118,2,  2251.6,2, 2351.80,2,   7.5935,2, -999.00,9,  -999.0,9,  -999.0,    0.16,2,    39.1,2,   32.28,2,    21.8902,3, 20190424,     1746, -56.5041,  30.0011,      25.07,     -999.0,9,      0.123,1,      0.059,1,      4.614,1
325020190403,       I06S,      32,          1,          8,          8,2,20190424,       1708,   -56.5029,    30.0002,       5462,  3366.2,  -0.0323,  34.6635,2,  34.6629,2,    226.3,2,   227.4,2,   128.6,2,   32.90,2,    0.00,2,    2.25,2,   0.614,2,   0.314,2,   0.1372,2,  -999.0,9, -999.00,9,-999.0000,9, -999.00,9,  -999.0,9,  -999.0, -999.00,9,    38.4,2,   32.68,2,    21.8396,3, 20190424,     1754, -56.5036,  30.0009,     -999.0,     -999.0,9,      0.127,1,      0.062,1,      4.613,1
325020190403,       I06S,      32,          1,          9,          9,2,20190424,       1708,   -56.5029,    30.0002,       5462,  3059.6,   0.0461,  34.6673,2,  34.6691,2,    222.3,2,   223.0,2,   129.5,2,   32.99,2,    0.00,2,    2.26,2,   0.563,2,   0.288,2,   0.2242,2,  2256.9,2, 2353.54,2,   7.5870,2, -999.00,9,  -999.0,9,  -999.0,     0.3,2,  -999.0,9, -999.00,9,    21.7759,3, 20190424,     1801, -56.5037,  30.0011,      25.07,     -999.0,9,      0.126,1,      0.061,1,      4.614,1
325020190403,       I06S,      32,          1,         10,         10,2,20190424,       1708,   -56.5029,    30.0002,       5462,  2800.5,   0.1396,  34.6714,2,  34.6717,2,    216.8,3,   219.0,2,   128.9,2,   33.14,2,    0.00,2,    2.26,2,   0.533,2,   0.274,2,   0.1813,2,  -999.0,9, -999.00,9,-999.0000,9, -999.00,9,  -999.0,9,  -999.0, -999.00,9,    39.2,2,   32.62,2,    25.7581,3, 20190424,     1806, -56.5039,  30.0012,     -999.0,     -999.0,9,      0.126,1,      0.060,1,      4.614,1
325020190403,       I06S,      32,          1,         11,         11,2,20190424,       1708,   -56.5029,    30.0002,       5462,  2548.6,    0.238,  34.6762,2,  34.6758,2,    212.6,3,   215.0,2,   127.7,2,   33.08,2,    0.00,2,    2.25,2,   0.502,2,   0.259,2,   0.1819,2,  2259.9,2, 2356.49,2,   7.5839,2, -999.00,9,  -999.0,9,  -999.0,    0.21,2,    38.8,2,   33.02,2,    22.0248,3, 20190424,     1812, -56.5040,  30.0013,      25.06,     -999.0,9,      0.135,1,      0.062,1,      4.614,1
325020190403,       I06S,      32,          1,         12,         12,2,20190424,       1708,   -56.5029,    30.0002,       5462,  2293.0,   0.3537,  34.6813,2,  34.6815,2,    209.9,2,   210.9,2,   126.3,2,   33.08,2,    0.00,2,    2.24,2,   0.462,2,   0.239,2,   0.1824,2,  -999.0,9, -999.00,9,-999.0000,9, -999.00,9,  -999.0,9,  -999.0, -999.00,9,  -999.0,9, -999.00,9,    21.9019,3, 20190424,     1817, -56.5040,  30.0014,     -999.0,     -999.0,9,      0.125,1,      0.061,1,      4.614,1
325020190403,       I06S,      32,          1,         13,         13,2,20190424,       1708,   -56.5029,    30.0002,       5462,  2038.2,    0.464,  34.6871,2,  34.6872,2,    206.5,3,   208.7,2,   124.0,2,   32.90,2,    0.00,2,    2.24,2,   0.446,2,   0.234,2,   0.1645,2,  2260.9,2, 2357.41,2,   7.5846,2, -999.00,9,  -999.0,9,  -999.0,    0.02,2,    38.6,2,   33.39,2,    22.0877,3, 20190424,     1822, -56.5040,  30.0013,      25.04,     -999.0,9,      0.126,1,      0.061,1,      4.613,1
325020190403,       I06S,      32,          1,         14,         14,2,20190424,       1708,   -56.5029,    30.0002,       5462,  1833.0,   0.5623,  34.6919,2,  34.6927,2,    204.5,2,   206.3,2,   120.6,2,   32.81,2,    0.00,2,    2.22,2,   0.435,2,   0.224,2,   0.1239,2,  -999.0,9, -999.00,9,-999.0000,9, -999.00,9,  -999.0,9,  -999.0, -999.00,9,    41.8,2,   32.87,2,    22.2203,3, 20190424,     1827, -56.5040,  30.0013,     -999.0,     -999.0,9,      0.128,1,      0.060,1,      4.613,1
325020190403,       I06S,      32,          1,         15,         15,2,20190424,       1708,   -56.5029,    30.0002,       5462,  1630.3,   0.6972,  34.6982,2,  34.6984,2,    205.1,2,   204.9,2,   116.0,2,   32.54,2,    0.00,2,    2.21,2,   0.430,2,   0.226,2,   0.1810,2,  2260.6,2, 2355.46,2,   7.5880,2, -999.00,9,  -999.0,9,  -999.0,    0.23,6,  -999.0,9, -999.00,9,    22.1247,3, 20190424,     1831, -56.5041,  30.0015,      25.05,     -999.0,9,      0.130,1,      0.061,1,      4.613,1
325020190403,       I06S,      32,          1,         16,         16,2,20190424,       1708,   -56.5029,    30.0002,       5462,  1425.6,   0.8819,  34.7102,2,  34.7098,2,    203.0,2,   204.7,2,   110.7,2,   32.02,2,    0.00,2,    2.17,2,   0.377,2,   0.194,2,   0.1761,2,  -999.0,9, -999.00,9,-999.0000,9, -999.00,9,  -999.0,9,  -999.0, -999.00,9,    41.1,2,   31.95,2,    22.1696,3, 20190424,     1836, -56.5044,  30.0017,     -999.0,     -999.0,9,      0.128,1,      0.060,1,      4.613,1
325020190403,       I06S,      32,          1,         17,         17,2,20190424,       1708,   -56.5029,    30.0002,       5462,  1325.1,   0.9615,  34.7112,2,  34.7139,2,    201.8,2,   202.7,2,   108.4,2,   32.01,2,    0.00,2,    2.16,2,   0.379,2,   0.197,2,   0.1357,2,  2255.6,2, 2356.37,2,   7.5952,2, -999.00,9,  -999.0,9,  -999.0,    0.08,2,    40.2,2,   31.88,2,    22.1871,3, 20190424,     1838, -56.5045,  30.0018,      25.04,     -999.0,9,      0.129,1,      0.061,1,      4.612,1
325020190403,       I06S,      32,          1,         18,         18,2,20190424,       1708,   -56.5029,    30.0002,       5462,  1222.8,   1.1033,  34.7197,2,    34.72,2,    201.6,2,   202.2,2,   105.0,2,   31.63,2,    0.00,2,    2.13,2,   0.340,2,   0.176,2,   0.1549,2,  -999.0,9, -999.00,9,-999.0000,9, -999.00,9,  -999.0,9,  -999.0, -999.00,9,  -999.0,9, -999.00,9,     22.075,3, 20190424,     1841, -56.5046,  30.0018,     -999.0,     -999.0,9,      0.134,1,      0.061,1,      4.612,1
325020190403,       I06S,      32,          1,         19,         19,2,20190424,       1708,   -56.5029,    30.0002,       5462,  1119.7,    1.253,  34.7252,2,  34.7255,2,    201.1,2,   200.5,2,   101.3,2,   31.43,2,    0.00,2,    2.12,2,   0.328,2,   0.167,2,   0.1467,2,  2253.2,2, 2356.79,2,   7.6007,2, -999.00,9,  -999.0,9,  -999.0,    0.35,2,    40.2,2,   30.43,3,    22.1659,3, 20190424,     1844, -56.5046,  30.0018,      25.06,     -999.0,9,      0.130,1,      0.061,1,      4.612,1
325020190403,       I06S,      32,          1,         20,         20,2,20190424,       1708,   -56.5029,    30.0002,       5462,  1021.5,   1.3989,  34.7338,2,  34.7333,2,    199.2,2,   199.5,2,    97.2,2,   31.00,2,    0.00,2,    2.09,2,   0.298,2,   0.159,2,   0.3244,2,  -999.0,9, -999.00,9,-999.0000,9, -999.00,9,  -999.0,9,  -999.0, -999.00,9,    39.9,2,   27.97,2,    22.0665,3, 20190424,     1846, -56.5046,  30.0018,     -999.0,     -999.0,9,      0.132,1,      0.062,1,      4.612,1
325020190403,       I06S,      32,          1,         21,         21,2,20190424,       1708,   -56.5029,    30.0002,       5462,   919.4,   1.5372,   34.739,2,   34.738,2,    198.0,2,   198.0,2,    94.0,2,   30.80,2,    0.00,2,    2.08,2,-999.000,5,-999.000,5,-999.0000,5,  2248.3,2, 2351.25,2,   7.6053,2, -999.00,9,  -999.0,9,  -999.0,    0.16,2,  -999.0,9, -999.00,9,     -999.0,9, 20190424,     1849, -56.5045,  30.0018,      25.05,     -999.0,9,      0.133,1,      0.061,1,      4.613,1
325020190403,       I06S,      32,          1,         22,         22,2,20190424,       1708,   -56.5029,    30.0002,       5462,   816.8,   1.6974,  34.7393,2,  34.7431,3,    194.3,2,   194.9,2,    90.7,2,   30.78,2,    0.00,2,    2.08,2,-999.000,5,-999.000,5,-999.0000,5,  -999.0,9, -999.00,9,-999.0000,9, -999.00,9,  -999.0,9,  -999.0, -999.00,9,    40.8,2,   29.90,2,    22.6136,3, 20190424,     1852, -56.5046,  30.0019,     -999.0,     -999.0,9,      0.131,1,      0.062,1,      4.613,1
325020190403,       I06S,      32,          1,         23,         23,2,20190424,       1708,   -56.5029,    30.0002,       5462,   716.5,   1.7921,  34.7321,2,  34.7394,3,    190.1,2,   190.8,2,    88.2,2,   31.10,2,    0.00,2,    2.10,2,   0.284,2,   0.144,2,   0.1446,2,  2248.1,2, 2349.00,2,   7.5965,2, -999.00,9,  -999.0,9,  -999.0,    0.13,2,    42.1,2,   32.16,2,    22.8499,3, 20190424,     1855, -56.5047,  30.0020,      25.03,     -999.0,9,      0.133,1,      0.062,1,      4.612,1
325020190403,       I06S,      32,          1,         24,         24,2,20190424,       1708,   -56.5029,    30.0002,       5462,   615.7,   1.8508,  34.7191,2,  34.7186,2,    186.8,2,   185.8,2,    87.9,2,   31.73,2,    0.00,2,    2.15,2,   0.336,2,   0.176,2,   0.1611,2,  -999.0,9, -999.00,9,-999.0000,9, -999.00,9,  -999.0,9,  -999.0, -999.00,9,  -999.0,9, -999.00,9,    22.6138,3, 20190424,     1858, -56.5047,  30.0019,     -999.0,     -999.0,9,      0.134,1,      0.063,1,      4.609,1
325020190403,       I06S,      32,          1,         25,         25,2,20190424,       1708,   -56.5029,    30.0002,       5462,   513.4,   1.9518,   34.701,2,     34.7,2,    181.1,2,   180.7,2,    86.5,2,   32.37,2,    0.00,2,    2.18,2,   0.381,2,   0.204,2,   0.1892,2,  2254.1,2, 2345.38,2,   7.5740,2, -999.00,9,  -999.0,9,  -999.0,    0.16,2,    41.6,2,   33.08,2,    22.7463,3, 20190424,     1901, -56.5047,  30.0019,      25.06,     -999.0,9,      0.138,1,      0.062,1,      4.608,1
325020190403,       I06S,      32,          1,         26,         26,2,20190424,       1708,   -56.5029,    30.0002,       5462,   404.9,    1.819,  34.6363,2,  34.6434,2,    174.4,2,   173.8,2,    86.8,2,   34.28,2,    0.00,2,    2.31,2,   0.683,2,   0.382,2,   0.2768,2,  -999.0,9, -999.00,9,-999.0000,9, -999.00,9,  -999.0,9,  -999.0, -999.00,9,    40.3,2,   34.22,2,    22.9048,3, 20190424,     1903, -56.5047,  30.0019,     -999.0,     -999.0,9,      0.135,1,      0.064,1,      4.602,1
325020190403,       I06S,      32,          1,         27,         27,2,20190424,       1708,   -56.5029,    30.0002,       5462,   359.1,   1.8557,  34.6198,2,  34.6195,2,    173.8,2,   172.8,2,    86.6,2,   34.48,2,    0.00,2,    2.33,2,   0.752,2,   0.415,2,   0.3676,2,  2261.7,2, 2338.84,2,   7.5367,2, -999.00,9,  -999.0,9,  -999.0,    0.13,2,  -999.0,9, -999.00,9,    23.0078,3, 20190424,     1904, -56.5047,  30.0020,      25.01,     -999.0,9,      0.138,1,      0.062,1,      4.602,1
325020190403,       I06S,      32,          1,         28,         28,2,20190424,       1708,   -56.5029,    30.0002,       5462,   310.0,   1.9568,  34.5913,2,  34.5968,2,    170.6,2,   169.7,2,    83.5,2,   34.84,2,    0.00,2,    2.34,2,   0.781,2,   0.435,2,   0.3826,2,  2259.4,6, 2334.13,2,-999.0000,9, -999.00,9,  -999.0,9,  -999.0, -999.00,9,    40.5,2,   35.19,2,    23.0116,3, 20190424,     1905, -56.5047,  30.0019,     -999.0,     -999.0,9,      0.141,1,      0.064,1,      4.601,1
325020190403,       I06S,      32,          1,         29,         29,2,20190424,       1708,   -56.5029,    30.0002,       5462,   259.4,   1.7643,  34.5371,2,  34.5383,2,    174.8,3,   178.4,2,    81.4,2,   35.20,2,    0.00,2,    2.36,2,   1.302,2,   0.683,2,   0.5180,2,  2256.3,2, 2333.39,2,   7.5251,2, -999.00,9,  -999.0,9,  -999.0,    0.12,2,    39.6,2,   39.60,3,    25.2022,3, 20190424,     1906, -56.5047,  30.0020,      25.04,     -999.0,9,      0.144,1,      0.062,1,      4.599,1
325020190403,       I06S,      32,          1,         30,         30,2,20190424,       1708,   -56.5029,    30.0002,       5462,   207.9,   1.4164,  34.4385,2,  34.4377,2,    186.9,3,   201.5,2,    76.6,2,   34.94,2,    0.00,2,    2.36,2,   2.317,2,   1.156,2,   0.9747,2,  -999.0,9, -999.00,9,-999.0000,9, -999.00,9,  -999.0,9,  -999.0,    0.34,6,  -999.0,9, -999.00,9,    23.0956,3, 20190424,     1907, -56.5048,  30.0020,     -999.0,     -999.0,9,      0.139,1,      0.062,1,      4.601,1
325020190403,       I06S,      32,          1,         31,         31,2,20190424,       1708,   -56.5029,    30.0002,       5462,   161.0,   0.3088,  34.2552,2,  34.2669,2,    240.4,3,   285.7,2,    69.5,2,   31.85,2,    0.01,2,    2.15,2,   4.588,2,   2.438,2,   2.8139,2,  2221.5,2, 2315.98,2,   7.5889,2, -999.00,9,  -999.0,9,  -999.0,   -0.01,2,    42.5,2,   33.29,2,    22.5585,3, 20190424,     1908, -56.5048,  30.0020,      25.02,     -999.0,9,      0.145,1,      0.061,1,      4.606,1
325020190403,       I06S,      32,          1,         32,         32,2,20190424,       1708,   -56.5029,    30.0002,       5462,   104.8,   1.2488,   33.966,2,  33.9684,2,    331.0,2,   332.3,2,    44.1,2,   25.63,2,    0.35,2,    1.75,2,   5.585,2,   2.987,2,   3.9371,2,  2179.1,2, 2302.42,2,   7.6802,2, -999.00,9,  -999.0,9,  -999.0,   -0.05,6,    42.5,2,   28.87,2,    20.8461,3, 20190424,     1908, -56.5048,  30.0019,      25.05,     -999.0,9,      0.155,1,      0.137,1,      4.565,1
325020190403,       I06S,      32,          1,         33,         33,2,20190424,       1708,   -56.5029,    30.0002,       5462,    84.0,   1.2427,  33.9665,2,  33.9669,2,    330.0,2,   332.4,2,    43.8,2,   25.63,2,    0.35,2,    1.75,2,   5.624,2,   2.988,2,   3.8951,2,  2177.7,2, 2303.13,2,   7.6797,2, -999.00,9,  -999.0,9,  -999.0,   -0.23,2,  -999.0,9, -999.00,9,     20.797,3, 20190424,     1909, -56.5048,  30.0019,      25.05,     -999.0,9,      0.155,1,      0.138,1,      4.564,1
325020190403,       I06S,      32,          1,         34,         34,2,20190424,       1708,   -56.5029,    30.0002,       5462,    57.9,   1.2408,  33.9668,2,  33.9667,2,    328.8,3,   332.6,2,    43.9,2,   25.61,2,    0.35,2,    1.74,2,   5.599,2,   2.998,2,   3.8590,2,  -999.0,9, -999.00,9,-999.0000,9, -999.00,9,  -999.0,9,  -999.0,    0.14,2,    43.5,2,   30.93,2,    20.9852,3, 20190424,     1910, -56.5048,  30.0020,     -999.0,     -999.0,9,      0.158,1,      0.135,1,      4.564,1
325020190403,       I06S,      32,          1,         35,         35,2,20190424,       1708,   -56.5029,    30.0002,       5462,    32.9,   1.2403,  33.9674,2,  33.9686,2,    327.5,3,   332.4,2,    43.4,2,   25.59,2,    0.35,2,    1.73,2,   5.569,2,   2.984,2,   3.7839,2,  2176.6,2, 2303.23,2,   7.6802,2, -999.00,9,  -999.0,9,  -999.0,   -0.14,2,  -999.0,9, -999.00,9,    20.5255,3, 20190424,     1910, -56.5048,  30.0020,      25.01,     -999.0,9,      0.157,1,      0.137,1,      4.564,1
325020190403,       I06S,      32,          1,         36,         36,2,20190424,       1708,   -56.5029,    30.0002,       5462,    12.8,   1.2409,  33.9671,2,  33.9681,2,    326.6,3,   332.4,2,    43.7,2,   25.36,2,    0.38,2,    1.73,2,   5.638,2,   2.981,2,   3.8245,2,  2179.1,6, 2302.60,2,   7.6811,2, -999.00,9,  -999.0,9,  -999.0,   -0.24,2,    41.9,2,   30.40,2,    20.8619,3, 20190424,     1911, -56.5049,  30.0021,      25.00,     -999.0,9,      0.157,1,      0.145,1,      4.563,1