BOTTLE,20210804CCHSIOCBG
EXPOCODE,SECT_ID,STNNBR,CASTNO,SAMPNO,BTLNBR,BTLNBR_FLAG_W,DATE,TIME,LATITUDE,LONGITUDE,DEPTH,CTDPRS,CTDTMP,CTDSAL,CTDSAL_FLAG_W,SALNTY,SALNTY_FLAG_W,CTDOXY,CTDOXY_FLAG_W,OXYGEN,OXYGEN_FLAG_W,SILCAT,SILCAT_FLAG_W,NITRAT,NITRAT_FLAG_W,NITRIT,NITRIT_FLAG_W,PHSPHT,PHSPHT_FLAG_W,CFC-11,CFC-11_FLAG_W,CFC-12,CFC-12_FLAG_W,SF6,SF6_FLAG_W,TCARBN,TCARBN_FLAG_W,ALKALI,ALKALI_FLAG_W,PH_TOT,PH_TOT_FLAG_W,DELC13,DELC13_FLAG_W,DELC14,DELC14_FLAG_W,C14ERR,DELO18,DELO18_FLAG_W,DOC,DOC_FLAG_W,TDN,TDN_FLAG_W,N2O,N2O_FLAG_W,BTL_DATE,BTL_TIME,BTL_LAT,BTL_LON,PH_TMP,REFTMP,REFTMP_FLAG_W,CTDBACKSCATTER,CTDBACKSCATTER_FLAG_W,CTDFLUOR,CTDFLUOR_FLAG_W,CTDXMISS,CTDXMISS_FLAG_W
,,,,,,,,,,,METERS,DBAR,ITS-90,PSS-78,,PSS-78,,UMOL/KG,,UMOL/KG,,UMOL/KG,,UMOL/KG,,UMOL/KG,,UMOL/KG,,PMOL/KG,,PMOL/KG,,FMOL/KG,,UMOL/KG,,UMOL/KG,,,,/MILLE,,/MILLE,,/MILLE,/MILLE,,UMOL/KG,,UMOL/KG,,NMOL/KG,,,,,,DEG C,ITS-90,,VOLTS,,VOLTS,,VOLTS,
325020190403,       I06S,       2,          1,          1,          1,2,20190416,       1142,    -68.354,     31.395,        702,   696.4,   0.5352,  34.6752,3,-999.0000,9,    213.1,3,  -999.0,9,  -999.0,9, -999.00,9, -999.00,9, -999.00,9,-999.000,9,-999.000,9,-999.0000,9,  -999.0,9, -999.00,9,-999.0000,9, -999.00,9,  -999.0,9,  -999.0, -999.00,9,  -999.0,9, -999.00,9,     -999.0,9, 20190416,     1142, -68.3540,  31.3949,     -999.0,     0.5347,2,      0.168,1,      0.062,1,      4.634,1
325020190403,       I06S,       2,          1,          2,          2,2,20190416,       1142,    -68.354,     31.395,        702,   696.5,   0.5345,  34.6752,3,-999.0000,9,    213.1,3,  -999.0,9,  -999.0,9, -999.00,9, -999.00,9, -999.00,9,-999.000,9,-999.000,9,-999.0000,9,  -999.0,9, -999.00,9,-999.0000,9, -999.00,9,  -999.0,9,  -999.0, -999.00,9,  -999.0,9, -999.00,9,     -999.0,9, 20190416,     1143, -68.3540,  31.3950,     -999.0,      0.534,2,      0.192,1,      0.062,1,      4.631,1
325020190403,       I06S,       2,          1,          3,          3,2,20190416,       1142,    -68.354,     31.395,        702,   696.4,   0.5351,  34.6774,2,  34.6768,2,    211.7,2,   211.5,2,   108.2,2,   32.15,2,    0.00,2,    2.22,2,   0.834,2,   0.450,2,   0.3969,2,  2257.3,6, 2350.22,2,   7.5864,2, -999.00,9,  -999.0,9,  -999.0,   -0.01,6,    39.6,2,   30.17,2,    19.9863,3, 20190416,     1143, -68.3540,  31.3950,      24.98,     -999.0,9,      0.176,1,      0.062,1,      4.633,1
325020190403,       I06S,       2,          1,          4,          4,2,20190416,       1142,    -68.354,     31.395,        702,   657.5,   0.5305,  34.6773,2,  34.6758,2,    210.3,3,   212.5,2,   108.3,2,   32.10,2,    0.00,2,    2.22,2,-999.000,9,-999.000,9,-999.0000,9,  -999.0,9, -999.00,9,-999.0000,9, -999.00,9,  -999.0,9,  -999.0,    0.22,2,    39.4,2,   31.56,2,     -999.0,9, 20190416,     1145, -68.3540,  31.3951,     -999.0,     0.5295,2,      0.179,1,      0.063,1,      4.631,1
325020190403,       I06S,       2,          1,          5,          5,2,20190416,       1142,    -68.354,     31.395,        702,   606.3,   0.6331,  34.6743,2,  34.6727,2,    210.2,2,   211.4,2,   103.3,2,   31.97,2,    0.00,2,    2.22,2,   0.946,2,   0.506,2,   0.4892,2,  2257.5,2, 2350.83,2,   7.5863,2, -999.00,9,  -999.0,9,  -999.0,    0.08,2,    40.4,2,   32.89,2,    21.3301,3, 20190416,     1147, -68.3540,  31.3951,      24.97,     0.6401,2,      0.159,1,      0.062,1,      4.639,1
325020190403,       I06S,       2,          1,          6,          6,2,20190416,       1142,    -68.354,     31.395,        702,   502.1,   0.9159,  34.6751,2,  34.6748,2,    205.6,2,   206.4,2,    94.5,2,   31.82,2,    0.00,2,    2.20,2,-999.000,9,-999.000,9,-999.0000,9,  -999.0,9, -999.00,9,-999.0000,9, -999.00,9,  -999.0,9,  -999.0,    0.18,2,    41.4,2,   31.99,2,     -999.0,9, 20190416,     1149, -68.3540,  31.3951,     -999.0,     0.9033,2,      0.134,1,      0.062,1,      4.647,1
325020190403,       I06S,       2,          1,          7,          7,2,20190416,       1142,    -68.354,     31.395,        702,   452.4,   0.9948,  34.6747,2,   34.679,2,    203.0,2,   203.7,2,    93.1,2,   31.96,2,    0.00,2,    2.20,2,   0.993,2,   0.540,2,   0.5339,2,  2252.0,2, 2345.76,2,   7.5808,2, -999.00,9,  -999.0,9,  -999.0,    0.06,2,    41.0,2,   31.49,2,     22.032,3, 20190416,     1150, -68.3540,  31.3951,      24.99,     0.9787,2,      0.135,1,      0.062,1,      4.647,1
325020190403,       I06S,       2,          1,          8,          8,2,20190416,       1142,    -68.354,     31.395,        702,   401.6,   1.2226,  34.6768,2,  34.6752,2,    197.7,3,   195.3,2,    91.9,2,   32.31,2,    0.00,2,    2.23,2,-999.000,9,-999.000,9,-999.0000,9,  -999.0,9, -999.00,9,-999.0000,9, -999.00,9,  -999.0,9,  -999.0,    0.25,2,    41.1,2,   32.59,2,     -999.0,9, 20190416,     1151, -68.3540,  31.3952,     -999.0,     1.2003,2,      0.136,1,      0.063,1,      4.645,1
325020190403,       I06S,       2,          1,          9,          9,2,20190416,       1142,    -68.354,     31.395,        702,   350.7,  -0.1936,  34.5091,2,  34.5003,2,    247.2,2,   247.3,2,    79.6,2,   31.58,2,    0.00,2,    2.18,2,   2.796,2,   1.483,2,   1.6649,2,  2239.2,2, 2333.56,2,   7.5810,2, -999.00,9,  -999.0,9,  -999.0,   -0.06,2,    41.0,2,   32.02,2,    21.4447,3, 20190416,     1152, -68.3540,  31.3952,      24.97,    -0.2769,3,      0.143,1,      0.063,1,      4.641,1
325020190403,       I06S,       2,          1,         10,         10,2,20190416,       1142,    -68.354,     31.395,        702,   301.6,  -0.7746,  34.4306,2,  34.4315,2,    272.2,2,   269.6,2,    72.4,2,   31.12,2,    0.00,2,    2.15,2,-999.000,9,-999.000,9,-999.0000,9,  -999.0,9, -999.00,9,-999.0000,9, -999.00,9,  -999.0,9,  -999.0,    -0.1,2,    42.0,2,   32.35,2,     -999.0,9, 20190416,     1153, -68.3540,  31.3951,     -999.0,      -0.85,3,      0.146,1,      0.064,1,      4.641,1
325020190403,       I06S,       2,          1,         11,         11,2,20190416,       1142,    -68.354,     31.395,        702,   250.3,  -1.2842,  34.3544,2,  34.3519,2,    291.3,2,   291.2,2,    66.3,2,   30.61,2,    0.00,2,    2.12,2,   4.277,2,   2.296,2,   2.7414,2,  2227.8,2, 2322.86,2,   7.6002,2, -999.00,9,  -999.0,9,  -999.0,   -0.19,2,    42.7,2,   27.93,2,    20.3448,3, 20190416,     1154, -68.3540,  31.3951,      24.98,    -1.3307,3,      0.148,1,      0.062,1,      4.640,1
325020190403,       I06S,       2,          1,         12,         12,2,20190416,       1142,    -68.354,     31.395,        702,   225.2,   -1.379,  34.3271,2,  34.3247,2,    295.5,2,   295.3,2,    65.0,2,   30.52,2,    0.00,2,    2.10,2,-999.000,9,-999.000,9,-999.0000,9,  -999.0,9, -999.00,9,-999.0000,9, -999.00,9,  -999.0,9,  -999.0,   -0.21,2,    45.0,2,   32.60,2,     -999.0,9, 20190416,     1154, -68.3540,  31.3951,     -999.0,    -1.4099,2,      0.147,1,      0.065,1,      4.638,1
325020190403,       I06S,       2,          1,         13,         13,2,20190416,       1142,    -68.354,     31.395,        702,   204.7,  -1.4702,  34.3003,2,     34.3,2,    299.8,2,   299.8,2,    63.5,2,   30.40,2,    0.00,2,    2.10,2,   4.560,2,   2.472,2,   2.9685,2,  2218.7,2, 2319.63,2,   7.6032,2, -999.00,9,  -999.0,9,  -999.0,   -0.27,2,    45.0,2,   31.85,2,    20.0367,3, 20190416,     1154, -68.3540,  31.3952,      24.95,     -1.503,2,      0.147,1,      0.066,1,      4.639,1
325020190403,       I06S,       2,          1,         14,         14,2,20190416,       1142,    -68.354,     31.395,        702,   173.8,  -1.5474,   34.253,2,  34.2508,2,    306.0,2,   304.3,2,    62.5,2,   30.25,2,    0.01,2,    2.10,2,-999.000,9,-999.000,9,-999.0000,9,  -999.0,9, -999.00,9,-999.0000,9, -999.00,9,  -999.0,9,  -999.0,   -0.21,6,    45.2,2,   32.77,2,     -999.0,9, 20190416,     1155, -68.3540,  31.3952,     -999.0,     -1.567,2,      0.149,1,      0.066,1,      4.636,1
325020190403,       I06S,       2,          1,         15,         15,2,20190416,       1142,    -68.354,     31.395,        702,   153.3,  -1.5385,  34.1984,2,  34.2037,2,    313.0,2,   312.1,2,    59.8,2,   30.01,2,    0.06,2,    2.08,2,   4.965,2,   2.677,2,   3.1545,2,  2213.2,2, 2315.42,2,   7.6093,2, -999.00,9,  -999.0,9,  -999.0,   -0.27,2,    44.1,2,   29.31,2,    19.5616,3, 20190416,     1155, -68.3540,  31.3952,      24.96,    -1.4995,3,      0.152,1,      0.074,1,      4.633,1
325020190403,       I06S,       2,          1,         16,         16,2,20190416,       1142,    -68.354,     31.395,        702,   123.8,   -1.164,  34.0842,2,   34.094,2,    335.4,3,   331.3,2,    55.9,2,   28.80,2,    0.14,2,    2.01,2,-999.000,9,-999.000,9,-999.0000,9,  -999.0,9, -999.00,9,-999.0000,9, -999.00,9,  -999.0,9,  -999.0,   -0.28,2,    45.3,2,   30.58,2,     -999.0,9, 20190416,     1156, -68.3540,  31.3952,     -999.0,    -1.0613,3,      0.163,1,      0.099,1,      4.618,1
325020190403,       I06S,       2,          1,         17,         17,2,20190416,       1142,    -68.354,     31.395,        702,    99.2,  -1.0378,  34.0556,2,  34.0559,2,    339.4,2,   341.5,2,    54.0,2,   28.25,2,    0.16,2,    1.98,2,   5.792,2,   3.073,2,   3.5641,2,  2194.0,2, 2303.71,2,   7.6403,2, -999.00,9,  -999.0,9,  -999.0,   -0.28,2,    42.8,2,   30.18,2,    18.0619,3, 20190416,     1156, -68.3540,  31.3952,      25.00,    -1.0736,2,      0.178,1,      0.125,1,      4.609,1
325020190403,       I06S,       2,          1,         18,         18,2,20190416,       1142,    -68.354,     31.395,        702,    73.0,  -1.1873,  34.0285,2,  34.0301,2,    341.2,2,   343.1,2,    53.4,2,   28.07,2,    0.17,2,    1.96,2,-999.000,9,-999.000,9,-999.0000,9,  -999.0,9, -999.00,9,-999.0000,9, -999.00,9,  -999.0,9,  -999.0,   -0.28,2,    44.0,2,   32.43,2,     -999.0,9, 20190416,     1157, -68.3540,  31.3952,     -999.0,    -1.3431,3,      0.179,1,      0.160,1,      4.599,1
325020190403,       I06S,       2,          1,         19,         19,2,20190416,       1142,    -68.354,     31.395,        702,    48.7,  -1.5554,  33.9546,2,  33.9516,2,    344.3,2,   346.8,2,    53.0,2,   27.91,2,    0.17,2,    1.95,2,   6.072,2,   3.236,2,   4.0484,2,  2188.4,2, 2297.99,2,   7.6435,2, -999.00,9,  -999.0,9,  -999.0,   -0.32,2,    42.8,2,   28.09,2,    18.0927,3, 20190416,     1157, -68.3540,  31.3952,      25.02,    -1.5667,2,      0.181,1,      0.181,1,      4.590,1
325020190403,       I06S,       2,          1,         20,         20,2,20190416,       1142,    -68.354,     31.395,        702,    21.8,  -1.7434,  33.9222,2,  33.9164,2,    343.0,3,   349.6,2,    53.4,2,   27.86,2,    0.17,2,    1.94,2,   6.203,2,   3.266,2,   4.0076,2,  2183.2,2, 2294.74,2,   7.6450,2, -999.00,9,  -999.0,9,  -999.0,   -0.28,2,    43.8,2,   29.11,2,    17.7979,3, 20190416,     1157, -68.3540,  31.3952,      24.98,    -1.7419,2,      0.183,1,      0.180,1,      4.582,1
325020190403,       I06S,       2,          1,         21,         21,2,20190416,       1142,    -68.354,     31.395,        702,     3.9,  -1.7537,  33.9195,2,   33.916,2,    345.6,3,   349.3,2,    53.0,2,   27.86,2,    0.17,2,    1.94,2,   6.189,2,   3.286,2,   4.1287,2,  2187.5,6, 2296.23,2,   7.6455,2, -999.00,9,  -999.0,9,  -999.0,   -0.27,2,    45.1,2,   32.37,2,    17.7039,3, 20190416,     1158, -68.3540,  31.3952,      24.97,    -1.7824,3,      0.181,1,      0.168,1,      4.582,1