BOTTLE,20210804CCHSIOCBG
EXPOCODE,SECT_ID,STNNBR,CASTNO,SAMPNO,BTLNBR,BTLNBR_FLAG_W,DATE,TIME,LATITUDE,LONGITUDE,DEPTH,CTDPRS,CTDTMP,CTDSAL,CTDSAL_FLAG_W,SALNTY,SALNTY_FLAG_W,CTDOXY,CTDOXY_FLAG_W,OXYGEN,OXYGEN_FLAG_W,SILCAT,SILCAT_FLAG_W,NITRAT,NITRAT_FLAG_W,NITRIT,NITRIT_FLAG_W,PHSPHT,PHSPHT_FLAG_W,CFC-11,CFC-11_FLAG_W,CFC-12,CFC-12_FLAG_W,SF6,SF6_FLAG_W,TCARBN,TCARBN_FLAG_W,ALKALI,ALKALI_FLAG_W,PH_TOT,PH_TOT_FLAG_W,DELC13,DELC13_FLAG_W,DELC14,DELC14_FLAG_W,C14ERR,DELO18,DELO18_FLAG_W,DOC,DOC_FLAG_W,TDN,TDN_FLAG_W,N2O,N2O_FLAG_W,BTL_DATE,BTL_TIME,BTL_LAT,BTL_LON,PH_TMP,REFTMP,REFTMP_FLAG_W,CTDBACKSCATTER,CTDBACKSCATTER_FLAG_W,CTDFLUOR,CTDFLUOR_FLAG_W,CTDXMISS,CTDXMISS_FLAG_W
,,,,,,,,,,,METERS,DBAR,ITS-90,PSS-78,,PSS-78,,UMOL/KG,,UMOL/KG,,UMOL/KG,,UMOL/KG,,UMOL/KG,,UMOL/KG,,PMOL/KG,,PMOL/KG,,FMOL/KG,,UMOL/KG,,UMOL/KG,,,,/MILLE,,/MILLE,,/MILLE,/MILLE,,UMOL/KG,,UMOL/KG,,NMOL/KG,,,,,,DEG C,ITS-90,,VOLTS,,VOLTS,,VOLTS,
325020190403,       I06S,      18,          1,          1,          1,2,20190420,       0007,   -63.5012,    29.9994,       5129,  5223.6,  -0.2738,  34.6509,2,  34.6511,2,    243.4,2,   243.2,2,   137.5,2,   32.62,2,    0.00,2,    2.24,2,   0.796,2,   0.409,2,   0.2570,2,  2250.9,6, 2360.60,2,   7.6012,2, -999.00,9,  -999.0,9,  -999.0,    -0.1,2,  -999.0,9, -999.00,9,    18.6169,3, 20190420,        7, -63.5012,  29.9994,      25.06,    -0.2738,2,      0.137,1,      0.060,1,      4.627,1
325020190403,       I06S,      18,          1,          2,          2,2,20190420,       0007,   -63.5012,    29.9994,       5129,  5188.8,  -0.2781,  34.6509,2,  34.6499,2,    242.4,2,   243.4,2,   137.7,2,   32.59,2,    0.00,2,    2.23,2,-999.000,9,-999.000,9,-999.0000,9,  -999.0,9, -999.00,9,-999.0000,9, -999.00,9,  -999.0,9,  -999.0,   -0.08,2,  -999.0,9, -999.00,9,     -999.0,9, 20190420,        8, -63.5012,  29.9994,     -999.0,    -0.2783,2,      0.141,1,      0.061,1,      4.628,1
325020190403,       I06S,      18,          1,          3,          3,2,20190420,       0007,   -63.5012,    29.9994,       5129,  5147.0,   -0.283,  34.6508,2,  34.6495,2,    240.8,3,   244.0,2,   137.0,2,   32.53,2,    0.00,2,    2.24,2,-999.000,9,-999.000,9,-999.0000,9,  2252.6,2, 2353.65,2,   7.6010,2, -999.00,9,  -999.0,9,  -999.0,   -0.08,2,  -999.0,9, -999.00,9,     -999.0,9, 20190420,       10, -63.5012,  29.9994,      25.07,    -0.2833,2,      0.141,1,      0.061,1,      4.629,1
325020190403,       I06S,      18,          1,          4,          4,2,20190420,       0007,   -63.5012,    29.9994,       5129,  4732.1,  -0.2659,  34.6532,2,  34.6515,2,    242.1,2,   242.3,2,   132.8,2,   32.69,2,    0.00,2,    2.24,2,   0.744,2,   0.377,2,   0.1313,2,  2251.4,2, 2357.43,2,   7.6010,2, -999.00,9,  -999.0,9,  -999.0,   -0.01,2,  -999.0,9, -999.00,9,    24.3997,3, 20190420,       17, -63.5012,  29.9994,      25.07,    -0.2661,2,      0.124,1,      0.062,1,      4.640,1
325020190403,       I06S,      18,          1,          5,          5,2,20190420,       0007,   -63.5012,    29.9994,       5129,  4385.7,   -0.251,  34.6549,2,  34.6535,2,    239.4,2,   240.3,2,   131.9,2,   32.52,2,    0.00,2,    2.23,2,-999.000,9,-999.000,9,-999.0000,9,  -999.0,9, -999.00,9,-999.0000,9, -999.00,9,  -999.0,9,  -999.0,   -0.08,2,  -999.0,9, -999.00,9,     -999.0,9, 20190420,       24, -63.5012,  29.9994,     -999.0,     -0.251,2,      0.123,1,      0.061,1,      4.641,1
325020190403,       I06S,      18,          1,          6,          6,2,20190420,       0007,   -63.5012,    29.9994,       5129,  4078.2,   -0.228,  34.6566,2,  34.6554,2,    237.1,2,   238.7,2,   130.8,2,   32.53,2,    0.00,2,    2.24,2,-999.000,9,-999.000,9,-999.0000,9,  2252.6,2, -999.00,9,-999.0000,9, -999.00,9,  -999.0,9,  -999.0,    -0.1,2,  -999.0,9, -999.00,9,     -999.0,9, 20190420,       30, -63.5012,  29.9994,     -999.0,    -0.2283,2,      0.125,1,      0.060,1,      4.642,1
325020190403,       I06S,      18,          1,          7,          7,2,20190420,       0007,   -63.5012,    29.9994,       5129,  3770.8,  -0.1979,  34.6584,2,  34.6568,2,    234.9,2,   236.6,2,   129.5,2,   32.59,2,    0.00,2,    2.23,2,   0.684,2,   0.346,2,   0.2242,2,  2252.9,2, 2354.35,2,   7.5967,2, -999.00,9,  -999.0,9,  -999.0,   -0.05,2,  -999.0,9, -999.00,9,    26.8694,3, 20190420,       36, -63.5012,  29.9994,      25.06,    -0.1981,2,      0.123,1,      0.061,1,      4.643,1
325020190403,       I06S,      18,          1,          8,          8,2,20190420,       0007,   -63.5012,    29.9994,       5129,  3461.4,  -0.1649,  34.6604,2,  34.6586,2,    231.7,2,   233.5,2,   129.2,2,   32.76,2,    0.00,2,    2.24,2,-999.000,9,-999.000,9,-999.0000,9,  -999.0,9, -999.00,9,-999.0000,9, -999.00,9,  -999.0,9,  -999.0, -999.00,9,  -999.0,9, -999.00,9,     -999.0,9, 20190420,       42, -63.5012,  29.9994,     -999.0,    -0.1651,2,      0.123,1,      0.060,1,      4.644,1
325020190403,       I06S,      18,          1,          9,          9,2,20190420,       0007,   -63.5012,    29.9994,       5129,  3155.2,  -0.1254,  34.6623,2,  34.6609,2,    228.7,2,   230.7,2,   128.9,2,   32.70,2,    0.00,2,    2.24,2,-999.000,9,-999.000,9,-999.0000,9,  -999.0,9, -999.00,9,-999.0000,9, -999.00,9,  -999.0,9,  -999.0,   -0.07,6,  -999.0,9, -999.00,9,     -999.0,9, 20190420,       48, -63.5012,  29.9994,     -999.0,    -0.1254,2,      0.123,1,      0.061,1,      4.643,1
325020190403,       I06S,      18,          1,         10,         10,2,20190420,       0007,   -63.5012,    29.9994,       5129,  2882.6,  -0.0736,  34.6651,2,  34.6644,2,    225.1,3,   227.7,2,   131.5,2,   32.86,2,    0.00,2,    2.25,2,   0.586,2,   0.297,2,   0.2100,2,  2255.6,2, 2354.22,2,   7.5912,2, -999.00,9,  -999.0,9,  -999.0, -999.00,9,  -999.0,9, -999.00,9,    27.5268,3, 20190420,       53, -63.5012,  29.9994,      25.08,    -0.0735,2,      0.127,1,      0.060,1,      4.643,1
325020190403,       I06S,      18,          1,         11,         11,2,20190420,       0007,   -63.5012,    29.9994,       5129,  2626.3,  -0.0099,   34.668,2,  34.6678,2,    222.2,2,   224.4,2,   131.2,2,   32.96,2,    0.00,2,    2.26,2,-999.000,9,-999.000,9,-999.0000,9,  -999.0,9, -999.00,9,-999.0000,9, -999.00,9,  -999.0,9,  -999.0,   -0.05,2,  -999.0,9, -999.00,9,     -999.0,9, 20190420,       58, -63.5012,  29.9994,     -999.0,      -0.01,2,      0.124,1,      0.061,1,      4.643,1
325020190403,       I06S,      18,          1,         12,         12,2,20190420,       0007,   -63.5012,    29.9994,       5129,  2372.1,   0.0622,  34.6711,2,  34.6707,2,    218.2,2,   220.2,2,   129.8,2,   32.96,2,    0.00,2,    2.26,2,-999.000,9,-999.000,9,-999.0000,9,  -999.0,9, -999.00,9,-999.0000,9, -999.00,9,  -999.0,9,  -999.0, -999.00,9,  -999.0,9, -999.00,9,     -999.0,9, 20190420,      103, -63.5012,  29.9994,     -999.0,     0.0623,2,      0.124,1,      0.063,1,      4.643,1
325020190403,       I06S,      18,          1,         13,         13,2,20190420,       0007,   -63.5012,    29.9994,       5129,  2116.0,   0.1469,  34.6749,2,  34.6744,2,    214.4,2,   216.1,2,   126.9,2,   33.03,2,    0.00,2,    2.26,2,   0.497,2,   0.247,2,   0.1673,2,  2257.9,2, 2355.42,2,   7.5833,2, -999.00,9,  -999.0,9,  -999.0,   -0.17,2,  -999.0,9, -999.00,9,    28.1418,3, 20190420,      108, -63.5012,  29.9994,      25.07,     0.1471,2,      0.126,1,      0.062,1,      4.642,1
325020190403,       I06S,      18,          1,         14,         14,2,20190420,       0007,   -63.5012,    29.9994,       5129,  1891.2,   0.2241,  34.6784,2,   34.677,2,    211.6,2,   213.1,2,   123.3,2,   33.11,2,    0.00,2,    2.26,2,-999.000,9,-999.000,9,-999.0000,9,  2260.7,2, 2359.41,2,   7.5817,2, -999.00,9,  -999.0,9,  -999.0, -999.00,9,  -999.0,9, -999.00,9,     -999.0,9, 20190420,      112, -63.5012,  29.9994,      25.08,     0.2232,2,      0.127,1,      0.061,1,      4.643,1
325020190403,       I06S,      18,          1,         15,         15,2,20190420,       0007,   -63.5012,    29.9994,       5129,  1687.9,   0.2885,  34.6813,2,  34.6801,2,    208.2,2,   209.1,2,   123.9,2,   33.11,2,    0.00,2,    2.27,2,-999.000,9,-999.000,9,-999.0000,9,  -999.0,9, -999.00,9,-999.0000,9, -999.00,9,  -999.0,9,  -999.0,   -0.01,2,  -999.0,9, -999.00,9,     -999.0,9, 20190420,      117, -63.5012,  29.9994,     -999.0,     0.2881,2,      0.127,1,      0.062,1,      4.642,1
325020190403,       I06S,      18,          1,         16,         16,2,20190420,       0007,   -63.5012,    29.9994,       5129,  1483.7,   0.3694,  34.6843,2,  34.6835,2,    205.3,2,   206.2,2,   123.8,2,   33.16,2,    0.00,2,    2.28,2,   0.480,2,   0.240,2,   0.2006,2,  2260.0,2, 2359.34,2,   7.5758,2, -999.00,9,  -999.0,9,  -999.0, -999.00,9,  -999.0,9, -999.00,9,    28.8421,3, 20190420,      121, -63.5012,  29.9994,      25.09,     0.3691,2,      0.126,1,      0.061,1,      4.642,1
325020190403,       I06S,      18,          1,         17,         17,2,20190420,       0007,   -63.5012,    29.9994,       5129,  1353.7,   0.4272,  34.6874,2,  34.6858,2,    202.8,2,   204.7,2,   124.2,2,   33.08,2,    0.00,2,    2.26,2,-999.000,9,-999.000,9,-999.0000,9,  2261.7,2, 2357.26,2,   7.5769,2, -999.00,9,  -999.0,9,  -999.0,    0.01,2,  -999.0,9, -999.00,9,     -999.0,9, 20190420,      125, -63.5012,  29.9994,      25.05,      0.427,2,      0.128,1,      0.061,1,      4.641,1
325020190403,       I06S,      18,          1,         18,         18,2,20190420,       0007,   -63.5012,    29.9994,       5129,  1251.2,   0.4846,  34.6899,2,   34.688,2,    202.3,2,   203.5,2,   123.0,2,   32.99,2,    0.00,2,    2.26,2,-999.000,9,-999.000,9,-999.0000,9,  -999.0,9, -999.00,9,-999.0000,9, -999.00,9,  -999.0,9,  -999.0, -999.00,9,  -999.0,9, -999.00,9,     -999.0,9, 20190420,      127, -63.5012,  29.9994,     -999.0,     0.4839,2,      0.128,1,      0.061,1,      4.642,1
325020190403,       I06S,      18,          1,         19,         19,2,20190420,       0007,   -63.5012,    29.9994,       5129,  1150.5,   0.5279,  34.6912,2,  34.6907,2,    201.8,2,   202.3,2,   119.6,2,   33.02,2,    0.00,2,    2.25,2,   0.489,2,   0.246,2,   0.1572,2,  2261.1,2, 2357.16,2,   7.5758,2, -999.00,9,  -999.0,9,  -999.0,    0.01,2,  -999.0,9, -999.00,9,    29.0514,3, 20190420,      130, -63.5012,  29.9994,      25.06,     0.5294,2,      0.130,1,      0.063,1,      4.639,1
325020190403,       I06S,      18,          1,         20,         20,2,20190420,       0007,   -63.5012,    29.9994,       5129,  1048.8,   0.5839,  34.6938,2,  34.6925,2,    201.4,2,   202.2,2,   116.6,2,   32.82,2,    0.00,2,    2.25,2,-999.000,9,-999.000,9,-999.0000,9,  -999.0,9, -999.00,9,-999.0000,9, -999.00,9,  -999.0,9,  -999.0, -999.00,9,  -999.0,9, -999.00,9,     -999.0,9, 20190420,      132, -63.5013,  29.9994,     -999.0,     0.5844,2,      0.131,1,      0.061,1,      4.640,1
325020190403,       I06S,      18,          1,         21,         21,2,20190420,       0007,   -63.5012,    29.9994,       5129,   947.9,   0.6328,  34.6949,2,  34.6933,2,    200.6,2,   201.3,2,   115.8,2,   32.75,2,    0.00,2,    2.23,2,-999.000,9,-999.000,9,-999.0000,9,  2260.4,2, 2359.67,2,   7.5780,2, -999.00,9,  -999.0,9,  -999.0,   -0.03,2,  -999.0,9, -999.00,9,     -999.0,9, 20190420,      135, -63.5012,  29.9994,      25.06,     0.6329,2,      0.130,1,      0.063,1,      4.639,1
325020190403,       I06S,      18,          1,         22,         22,2,20190420,       0007,   -63.5012,    29.9994,       5129,   844.9,   0.7322,  34.6993,2,   34.698,2,    200.1,2,   201.5,2,   112.3,2,   32.54,2,    0.00,2,    2.20,2,   0.492,2,   0.255,2,   0.2401,2,  2259.9,2, -999.00,9,-999.0000,9, -999.00,9,  -999.0,9,  -999.0, -999.00,9,  -999.0,9, -999.00,9,    28.9634,3, 20190420,      138, -63.5012,  29.9994,     -999.0,     0.7297,2,      0.135,1,      0.062,1,      4.639,1
325020190403,       I06S,      18,          1,         23,         23,2,20190420,       0007,   -63.5012,    29.9994,       5129,   743.9,   0.8135,  34.7007,2,  34.6996,2,    199.0,2,   199.6,2,   111.7,2,   32.43,2,    0.00,2,    2.21,2,-999.000,9,-999.000,9,-999.0000,9,  -999.0,9, -999.00,9,-999.0000,9, -999.00,9,  -999.0,9,  -999.0,    0.05,2,  -999.0,9, -999.00,9,     -999.0,9, 20190420,      140, -63.5012,  29.9994,     -999.0,     0.8126,2,      0.131,1,      0.061,1,      4.636,1
325020190403,       I06S,      18,          1,         24,         24,2,20190420,       0007,   -63.5012,    29.9994,       5129,   640.7,   0.8995,  34.7026,2,  34.7007,2,    198.0,2,   198.7,2,   108.6,2,   32.05,2,    0.00,2,    2.19,2,-999.000,9,-999.000,9,-999.0000,9,  2258.4,2, 2353.97,2,   7.5817,2, -999.00,9,  -999.0,9,  -999.0, -999.00,9,  -999.0,9, -999.00,9,     -999.0,9, 20190420,      143, -63.5012,  29.9994,      25.06,     0.8991,2,      0.134,1,      0.063,1,      4.636,1
325020190403,       I06S,      18,          1,         25,         25,2,20190420,       0007,   -63.5012,    29.9994,       5129,   540.4,   1.0809,  34.7104,2,  34.7102,2,    196.6,2,   196.8,2,   106.6,2,   31.93,2,    0.00,2,    2.16,2,   0.475,2,   0.250,2,   0.2128,2,  2256.1,2, -999.00,9,-999.0000,9, -999.00,9,  -999.0,9,  -999.0,    0.09,2,  -999.0,9, -999.00,9,    29.2365,3, 20190420,      145, -63.5012,  29.9994,     -999.0,     1.0795,2,      0.137,1,      0.062,1,      4.638,1
325020190403,       I06S,      18,          1,         26,         26,2,20190420,       0007,   -63.5012,    29.9994,       5129,   440.8,   1.2054,  34.7102,2,  34.7153,2,    193.9,2,   194.4,2,    99.6,2,   32.00,2,    0.00,2,    2.16,2,-999.000,9,-999.000,9,-999.0000,9,  2257.5,2, 2351.75,2,   7.5838,2, -999.00,9,  -999.0,9,  -999.0, -999.00,9,  -999.0,9, -999.00,9,     -999.0,9, 20190420,      148, -63.5012,  29.9994,      25.05,     1.2046,2,      0.133,1,      0.063,1,      4.637,1
325020190403,       I06S,      18,          1,         27,         27,2,20190420,       0007,   -63.5012,    29.9994,       5129,   369.7,   1.2999,  34.7041,2,  34.7031,2,    191.6,2,   191.1,2,    95.4,2,   32.09,2,    0.00,2,    2.17,2,-999.000,9,-999.000,9,-999.0000,9,  -999.0,9, -999.00,9,-999.0000,9, -999.00,9,  -999.0,9,  -999.0,    0.19,2,  -999.0,9, -999.00,9,     -999.0,9, 20190420,      150, -63.5012,  29.9994,     -999.0,     1.2997,2,      0.133,1,      0.063,1,      4.636,1
325020190403,       I06S,      18,          1,         28,         28,2,20190420,       0007,   -63.5012,    29.9994,       5129,   317.6,   1.3796,  34.7005,2,  34.6992,2,    189.7,2,   188.7,2,    94.6,2,   32.17,2,    0.00,2,    2.17,2,   0.546,2,   0.291,2,   0.2724,2,  2257.3,2, 2348.98,2,   7.5743,2, -999.00,9,  -999.0,9,  -999.0, -999.00,9,  -999.0,9, -999.00,9,    30.1397,3, 20190420,      152, -63.5012,  29.9994,      25.07,     1.3781,2,      0.134,1,      0.063,1,      4.635,1
325020190403,       I06S,      18,          1,         29,         29,2,20190420,       0007,   -63.5012,    29.9994,       5129,   267.4,   1.4152,  34.6916,2,  34.6894,2,    189.2,3,   186.8,2,    94.8,2,   32.17,2,    0.00,2,    2.19,2,-999.000,9,-999.000,9,-999.0000,9,  2259.4,2, -999.00,9,-999.0000,9, -999.00,9,  -999.0,9,  -999.0,    0.09,6,  -999.0,9, -999.00,9,     -999.0,9, 20190420,      154, -63.5012,  29.9994,     -999.0,     1.4134,2,      0.138,1,      0.063,1,      4.630,1
325020190403,       I06S,      18,          1,         30,         30,2,20190420,       0007,   -63.5012,    29.9994,       5129,   216.2,   1.2319,  34.6506,2,  34.6578,2,    192.4,2,   190.7,2,    94.0,2,   33.03,2,    0.00,2,    2.23,2,-999.000,9,-999.000,9,-999.0000,9,  -999.0,9, -999.00,9,-999.0000,9, -999.00,9,  -999.0,9,  -999.0, -999.00,9,  -999.0,9, -999.00,9,     -999.0,9, 20190420,      156, -63.5012,  29.9994,     -999.0,      1.232,2,      0.145,1,      0.063,1,      4.628,1
325020190403,       I06S,      18,          1,         31,         31,2,20190420,       0007,   -63.5012,    29.9994,       5129,   167.1,   1.0417,  34.5663,2,  34.5728,2,    210.7,3,   199.4,2,    88.2,2,   33.49,2,    0.02,2,    2.26,2,   1.612,2,   0.863,2,   0.8136,2,  2255.6,2, 2342.16,2,   7.5471,2, -999.00,9,  -999.0,9,  -999.0,    0.08,2,  -999.0,9, -999.00,9,    31.2155,3, 20190420,      157, -63.5012,  29.9994,      25.08,     1.0294,2,      0.147,1,      0.066,1,      4.627,1
325020190403,       I06S,      18,          1,         32,         32,2,20190420,       0007,   -63.5012,    29.9994,       5129,   115.5,  -0.0127,  34.3512,2,  34.3486,2,    275.0,3,   261.0,2,    71.9,2,   31.89,2,    0.04,2,    2.15,2,-999.000,9,-999.000,9,-999.0000,9,  -999.0,9, -999.00,9,-999.0000,9, -999.00,9,  -999.0,9,  -999.0,   -0.11,2,  -999.0,9, -999.00,9,     -999.0,9, 20190420,      159, -63.5012,  29.9994,     -999.0,    -0.0345,2,      0.144,1,      0.080,1,      4.619,1
325020190403,       I06S,      18,          1,         33,         33,2,20190420,       0007,   -63.5012,    29.9994,       5129,    85.5,  -1.2765,  34.0966,2,  34.1056,2,    335.3,3,   327.2,2,    58.6,2,   28.23,2,    0.36,2,    1.95,2,-999.000,9,-999.000,9,-999.0000,9,  2202.9,2, 2310.61,2,   7.6261,2, -999.00,9,  -999.0,9,  -999.0,   -0.19,2,  -999.0,9, -999.00,9,     -999.0,9, 20190420,      200, -63.5012,  29.9994,      25.08,    -1.2779,2,      0.171,1,      0.144,1,      4.587,1
325020190403,       I06S,      18,          1,         34,         34,2,20190420,       0007,   -63.5012,    29.9994,       5129,    60.6,  -0.3049,  33.8342,2,  33.8437,2,    339.6,2,   339.1,2,    43.3,2,   24.65,2,    0.27,2,    1.71,2,   5.811,2,   3.080,2,   3.8585,2,  2172.8,2, 2297.84,2,   7.6738,2, -999.00,9,  -999.0,9,  -999.0,   -0.29,2,  -999.0,9, -999.00,9,    24.0831,3, 20190420,      202, -63.5012,  29.9993,      25.05,    -0.3011,2,      0.187,1,      0.163,1,      4.568,1
325020190403,       I06S,      18,          1,         35,         35,2,20190420,       0007,   -63.5012,    29.9994,       5129,    34.4,  -0.2088,  33.8172,2,  33.8167,2,    338.3,2,   339.4,2,    41.4,2,   24.35,2,    0.26,2,    1.66,2,-999.000,9,-999.000,9,-999.0000,9,  -999.0,9, -999.00,9,-999.0000,9, -999.00,9,  -999.0,9,  -999.0,   -0.28,2,  -999.0,9, -999.00,9,     -999.0,9, 20190420,      203, -63.5012,  29.9994,     -999.0,    -0.2101,2,      0.184,1,      0.172,1,      4.563,1
325020190403,       I06S,      18,          1,         36,         36,2,20190420,       0007,   -63.5012,    29.9994,       5129,     5.1,  -0.1101,  33.8045,2,  33.8034,2,    337.1,2,   338.8,2,    39.1,2,   24.11,2,    0.27,2,    1.65,2,   5.815,2,   3.090,2,   3.8932,2,  2167.4,6, 2293.54,2,   7.6822,2, -999.00,9,  -999.0,9,  -999.0,    -0.3,2,  -999.0,9, -999.00,9,    24.1368,3, 20190420,      205, -63.5012,  29.9994,      25.07,    -0.1115,2,      0.186,1,      0.173,1,      4.558,1