BOTTLE,20210804CCHSIOCBG
EXPOCODE,SECT_ID,STNNBR,CASTNO,SAMPNO,BTLNBR,BTLNBR_FLAG_W,DATE,TIME,LATITUDE,LONGITUDE,DEPTH,CTDPRS,CTDTMP,CTDSAL,CTDSAL_FLAG_W,SALNTY,SALNTY_FLAG_W,CTDOXY,CTDOXY_FLAG_W,OXYGEN,OXYGEN_FLAG_W,SILCAT,SILCAT_FLAG_W,NITRAT,NITRAT_FLAG_W,NITRIT,NITRIT_FLAG_W,PHSPHT,PHSPHT_FLAG_W,CFC-11,CFC-11_FLAG_W,CFC-12,CFC-12_FLAG_W,SF6,SF6_FLAG_W,TCARBN,TCARBN_FLAG_W,ALKALI,ALKALI_FLAG_W,PH_TOT,PH_TOT_FLAG_W,DELC13,DELC13_FLAG_W,DELC14,DELC14_FLAG_W,C14ERR,DELO18,DELO18_FLAG_W,DOC,DOC_FLAG_W,TDN,TDN_FLAG_W,N2O,N2O_FLAG_W,BTL_DATE,BTL_TIME,BTL_LAT,BTL_LON,PH_TMP,REFTMP,REFTMP_FLAG_W,CTDBACKSCATTER,CTDBACKSCATTER_FLAG_W,CTDFLUOR,CTDFLUOR_FLAG_W,CTDXMISS,CTDXMISS_FLAG_W
,,,,,,,,,,,METERS,DBAR,ITS-90,PSS-78,,PSS-78,,UMOL/KG,,UMOL/KG,,UMOL/KG,,UMOL/KG,,UMOL/KG,,UMOL/KG,,PMOL/KG,,PMOL/KG,,FMOL/KG,,UMOL/KG,,UMOL/KG,,,,/MILLE,,/MILLE,,/MILLE,/MILLE,,UMOL/KG,,UMOL/KG,,NMOL/KG,,,,,,DEG C,ITS-90,,VOLTS,,VOLTS,,VOLTS,
325020190403,       I06S,       9,          1,          1,          1,2,20190417,       1717,   -67.9998,    29.9986,       3715,  3774.5,  -0.2542,  34.6526,2,  34.6507,2,    241.2,2,   240.7,2,   125.3,2,   32.34,2,    0.00,2,    2.21,2,   1.171,2,   0.626,2,   0.5050,2,  2257.9,6, 2357.82,2,   7.5981,3, -999.00,9,  -999.0,9,  -999.0,    0.09,2,  -999.0,9, -999.00,9,    19.6492,3, 20190417,     1717, -67.9998,  29.9986,      21.75,    -0.2518,2,      0.134,1,      0.060,1,      4.639,1
325020190403,       I06S,       9,          1,          2,          2,2,20190417,       1717,   -67.9998,    29.9986,       3715,  3667.9,  -0.2039,  34.6535,2,  34.6525,2,    239.5,2,   240.6,2,   121.7,2,   32.28,2,    0.00,2,    2.21,2,   1.277,2,   0.679,2,   0.5056,2,  2257.3,2, 2351.62,2,   7.5976,3, -999.00,9,  -999.0,9,  -999.0,   -0.03,6,  -999.0,9, -999.00,9,    24.1379,3, 20190417,     1721, -67.9998,  29.9985,      21.81,     -0.205,2,      0.126,1,      0.062,1,      4.642,1
325020190403,       I06S,       9,          1,          3,          3,2,20190417,       1717,   -67.9998,    29.9986,       3715,  3565.6,  -0.1866,  34.6542,2,  34.6527,2,    238.6,2,   238.8,2,   120.8,2,   32.27,2,    0.00,2,    2.20,2,   1.286,2,   0.685,2,   0.6375,2,  2258.5,2, 2353.31,2,   7.6006,3, -999.00,9,  -999.0,9,  -999.0,   -0.01,2,  -999.0,9, -999.00,9,     23.596,3, 20190417,     1725, -67.9998,  29.9986,      25.05,    -0.1869,2,      0.124,1,      0.062,1,      4.642,1
325020190403,       I06S,       9,          1,          4,          4,2,20190417,       1717,   -67.9998,    29.9986,       3715,  3461.6,  -0.1759,  34.6548,3,  34.6527,2,    237.5,2,   238.2,2,   120.5,2,   32.25,2,    0.00,2,    2.21,2,   1.286,2,   0.688,2,   0.5907,2,  2258.0,2, 2352.72,2,   7.5938,2, -999.00,9,  -999.0,9,  -999.0,    0.09,2,  -999.0,9, -999.00,9,    23.3527,3, 20190417,     1730, -67.9998,  29.9986,      25.02,    -0.1771,2,      0.125,1,      0.062,1,      4.642,1
325020190403,       I06S,       9,          1,          5,          5,2,20190417,       1717,   -67.9998,    29.9986,       3715,  3155.1,  -0.1516,  34.6566,2,   34.655,2,    235.3,2,   236.2,2,   120.5,2,   32.22,2,    0.00,2,    2.21,2,   1.234,2,   0.653,2,   0.5113,2,  2259.4,2, 2351.95,2,   7.5934,2, -999.00,9,  -999.0,9,  -999.0,    0.01,2,  -999.0,9, -999.00,9,    23.3086,3, 20190417,     1736, -67.9998,  29.9986,      25.06,    -0.1523,2,      0.125,1,      0.062,1,      4.644,1
325020190403,       I06S,       9,          1,          6,          6,2,20190417,       1717,   -67.9998,    29.9986,       3715,  2884.3,  -0.1206,  34.6587,2,   34.657,2,    233.0,2,   233.7,2,   121.0,2,   32.36,2,    0.00,2,    2.22,2,   1.129,2,   0.605,2,   0.4564,2,  2260.8,2, 2351.49,2,   7.5919,2, -999.00,9,  -999.0,9,  -999.0, -999.00,9,  -999.0,9, -999.00,9,    23.1719,3, 20190417,     1743, -67.9998,  29.9986,      25.06,    -0.1214,2,      0.124,1,      0.061,1,      4.644,1
325020190403,       I06S,       9,          1,          7,          7,2,20190417,       1717,   -67.9998,    29.9986,       3715,  2627.4,   -0.078,  34.6611,2,  34.6607,2,    230.0,2,   230.6,2,   121.8,2,   32.41,2,    0.00,2,    2.22,2,   1.005,2,   0.533,2,   0.3590,2,  2260.5,2, 2351.43,2,   7.5911,2, -999.00,9,  -999.0,9,  -999.0,    0.02,2,  -999.0,9, -999.00,9,     23.219,3, 20190417,     1748, -67.9998,  29.9986,      25.07,    -0.0788,2,      0.123,1,      0.062,1,      4.645,1
325020190403,       I06S,       9,          1,          8,          8,2,20190417,       1717,   -67.9998,    29.9986,       3715,  2372.6,  -0.0219,  34.6638,3,  34.6615,2,    226.7,2,   227.2,2,   122.3,2,   32.44,2,    0.00,2,    2.23,2,   0.904,2,   0.479,2,   0.3883,2,  2262.3,2, 2354.02,2,   7.5898,2, -999.00,9,  -999.0,9,  -999.0, -999.00,9,  -999.0,9, -999.00,9,     23.085,3, 20190417,     1754, -67.9998,  29.9986,      25.06,    -0.0213,2,      0.123,1,      0.062,1,      4.644,1
325020190403,       I06S,       9,          1,          9,          9,2,20190417,       1717,   -67.9998,    29.9986,       3715,  2116.5,   0.0414,  34.6705,3,  34.6744,3,    220.8,3,   224.3,2,   122.3,2,   32.53,2,    0.00,2,    2.23,2,   0.834,2,   0.442,2,   0.3249,2,  2262.3,3, 2351.44,2,   7.5887,2, -999.00,9,  -999.0,9,  -999.0,    0.05,2,  -999.0,9, -999.00,9,    23.1282,3, 20190417,     1759, -67.9998,  29.9986,      25.06,     0.0404,2,      0.125,1,      0.062,1,      4.645,1
325020190403,       I06S,       9,          1,         10,         10,2,20190417,       1717,   -67.9998,    29.9986,       3715,  1892.4,   0.1038,   34.669,2,   34.666,2,    220.4,2,   221.6,2,   121.6,2,   32.57,2,    0.00,2,    2.23,2,   0.786,2,   0.412,2,   0.2882,2,  2264.7,3, 2351.03,2,   7.5878,2, -999.00,9,  -999.0,9,  -999.0, -999.00,9,  -999.0,9, -999.00,9,     23.122,3, 20190417,     1804, -67.9998,  29.9986,      25.06,     -999.0,9,      0.124,1,      0.061,1,      4.644,1
325020190403,       I06S,       9,          1,         11,         11,2,20190417,       1717,   -67.9998,    29.9986,       3715,  1759.8,   0.1603,  34.6716,2,  34.6735,2,    218.3,2,   219.4,2,   121.3,2,   32.57,2,    0.00,2,    2.23,2,   0.739,2,   0.388,2,   0.2793,2,  2266.0,3, 2352.72,2,   7.5868,2, -999.00,9,  -999.0,9,  -999.0,    0.11,2,  -999.0,9, -999.00,9,    23.0624,3, 20190417,     1807, -67.9998,  29.9986,      25.06,     -999.0,9,      0.125,1,      0.063,1,      4.644,1
325020190403,       I06S,       9,          1,         12,         12,2,20190417,       1717,   -67.9998,    29.9986,       3715,  1658.5,   0.2061,  34.6731,2,  34.6717,2,    216.1,2,   217.7,2,   120.8,2,   32.51,2,    0.00,2,    2.24,2,   0.719,2,   0.380,2,   0.3195,2,  2266.2,3, 2353.32,2,   7.5866,2, -999.00,9,  -999.0,9,  -999.0, -999.00,9,  -999.0,9, -999.00,9,     23.012,3, 20190417,     1810, -67.9998,  29.9986,      25.05,     -999.0,9,      0.126,1,      0.062,1,      4.644,1
325020190403,       I06S,       9,          1,         13,         13,2,20190417,       1717,   -67.9998,    29.9986,       3715,  1556.5,   0.2697,  34.6766,2,  34.6743,2,    214.4,2,   215.1,2,   119.9,2,   32.58,2,    0.00,2,    2.23,2,   0.652,2,   0.336,2,   0.2384,2,  2267.6,3, 2348.87,2,   7.5859,2, -999.00,9,  -999.0,9,  -999.0,    0.01,2,  -999.0,9, -999.00,9,    22.9579,3, 20190417,     1814, -67.9998,  29.9986,      25.08,     -999.0,9,      0.128,1,      0.063,1,      4.645,1
325020190403,       I06S,       9,          1,         14,         14,2,20190417,       1717,   -67.9998,    29.9986,       3715,  1454.5,   0.3236,  34.6836,2,   34.686,3,    210.8,3,   213.3,2,   120.3,2,   32.54,2,    0.00,2,    2.23,2,   0.619,2,   0.327,2,   0.2647,2,  2259.3,2, 2355.96,2,   7.5854,2, -999.00,9,  -999.0,9,  -999.0, -999.00,9,  -999.0,9, -999.00,9,    22.9346,3, 20190417,     1817, -67.9998,  29.9986,      25.05,     -999.0,9,      0.127,1,      0.063,1,      4.645,1
325020190403,       I06S,       9,          1,         15,         15,2,20190417,       1717,   -67.9998,    29.9986,       3715,  1352.7,   0.3829,  34.6825,2,  34.6817,2,    210.1,2,   211.9,2,   119.4,2,   32.54,2,    0.00,2,    2.23,2,   0.585,2,   0.308,2,   0.1932,2,  2260.2,2, 2352.81,2,   7.5848,2, -999.00,9,  -999.0,9,  -999.0,    0.17,2,  -999.0,9, -999.00,9,    22.9089,3, 20190417,     1820, -67.9998,  29.9986,      25.04,     -999.0,9,      0.125,1,      0.062,1,      4.646,1
325020190403,       I06S,       9,          1,         16,         16,2,20190417,       1717,   -67.9998,    29.9986,       3715,  1251.6,   0.4336,  34.6843,2,  34.6837,2,    208.3,2,   210.2,2,   118.0,2,   32.44,2,    0.00,2,    2.23,2,   0.588,2,   0.312,2,   0.1191,2,  2260.8,2, 2354.05,2,   7.5846,2, -999.00,9,  -999.0,9,  -999.0, -999.00,9,  -999.0,9, -999.00,9,    22.8571,3, 20190417,     1823, -67.9998,  29.9986,      25.05,     -999.0,9,      0.127,1,      0.063,1,      4.645,1
325020190403,       I06S,       9,          1,         17,         17,2,20190417,       1717,   -67.9998,    29.9986,       3715,  1149.2,    0.489,  34.6868,2,  34.6862,2,    207.7,2,   208.8,2,   116.7,2,   32.36,2,    0.00,2,    2.23,2,   0.590,2,   0.308,2,   0.1858,2,  2257.9,2, 2355.05,2,   7.5855,2, -999.00,9,  -999.0,9,  -999.0,     0.1,2,  -999.0,9, -999.00,9,    22.7766,3, 20190417,     1825, -67.9998,  29.9986,      25.06,     -999.0,9,      0.128,1,      0.063,1,      4.644,1
325020190403,       I06S,       9,          1,         18,         18,2,20190417,       1717,   -67.9998,    29.9986,       3715,  1048.3,   0.5564,  34.6899,2,  34.6896,2,    206.0,2,   207.9,2,   115.1,2,   32.24,2,    0.00,2,    2.21,2,   0.571,2,   0.304,2,   0.2151,2,  2258.2,2, 2355.01,2,   7.5875,2, -999.00,9,  -999.0,9,  -999.0, -999.00,9,  -999.0,9, -999.00,9,    22.7528,3, 20190417,     1828, -67.9998,  29.9986,      25.04,     -999.0,9,      0.126,1,      0.063,1,      4.644,1
325020190403,       I06S,       9,          1,         19,         19,2,20190417,       1717,   -67.9998,    29.9986,       3715,   946.8,   0.6223,  34.6929,2,  34.6931,2,    205.1,2,   206.9,2,   113.0,2,   32.08,2,    0.00,2,    2.19,2,   0.577,2,   0.306,2,   0.2737,2,  2259.3,2, 2352.04,2,   7.5875,2, -999.00,9,  -999.0,9,  -999.0,    0.25,6,  -999.0,9, -999.00,9,    21.7299,3, 20190417,     1831, -67.9998,  29.9986,      25.07,     -999.0,9,      0.129,1,      0.062,1,      4.644,1
325020190403,       I06S,       9,          1,         20,         20,2,20190417,       1717,   -67.9998,    29.9986,       3715,   845.1,   0.6744,  34.6931,2,  34.6921,2,    204.4,3,   206.7,2,   109.9,2,   31.93,2,    0.00,2,    2.18,2,   0.614,2,   0.318,2,   0.2613,2,  2258.7,2, 2354.66,2,   7.5889,2, -999.00,9,  -999.0,9,  -999.0, -999.00,9,  -999.0,9, -999.00,9,    22.5509,3, 20190417,     1834, -67.9998,  29.9986,      25.05,     -999.0,9,      0.130,1,      0.062,1,      4.643,1
325020190403,       I06S,       9,          1,         21,         21,2,20190417,       1717,   -67.9998,    29.9986,       3715,   743.8,    0.773,  34.6964,2,  34.6939,2,    205.0,2,   206.1,2,   106.9,2,   31.72,2,    0.00,2,    2.17,2,   0.629,2,   0.344,2,   0.3552,2,  2255.7,2, 2351.83,2,   7.5894,2, -999.00,9,  -999.0,9,  -999.0,    0.25,2,  -999.0,9, -999.00,9,    22.6486,3, 20190417,     1837, -67.9998,  29.9986,      25.06,     -999.0,9,      0.137,1,      0.062,1,      4.642,1
325020190403,       I06S,       9,          1,         22,         22,2,20190417,       1717,   -67.9998,    29.9986,       3715,   642.0,   0.8549,  34.6982,2,  34.6974,2,    204.0,2,   204.8,2,   104.2,2,   31.65,2,    0.00,2,    2.16,2,   0.641,2,   0.339,2,   0.3184,2,  2253.6,2, 2351.27,2,   7.5899,2, -999.00,9,  -999.0,9,  -999.0, -999.00,9,  -999.0,9, -999.00,9,    20.5702,3, 20190417,     1840, -67.9998,  29.9986,      25.06,     -999.0,9,      0.136,1,      0.063,1,      4.642,1
325020190403,       I06S,       9,          1,         23,         23,2,20190417,       1717,   -67.9998,    29.9986,       3715,   540.7,   0.9091,  34.6959,2,  34.6982,2,    203.9,2,   205.4,2,   100.6,2,   31.45,2,    0.00,2,    2.15,2,   0.721,2,   0.385,2,   0.3186,2,  2254.2,2, 2348.99,2,   7.5886,2, -999.00,9,  -999.0,9,  -999.0,    0.17,2,  -999.0,9, -999.00,9,    22.4755,3, 20190417,     1843, -67.9998,  29.9986,      25.06,     -999.0,9,      0.135,1,      0.063,1,      4.640,1
325020190403,       I06S,       9,          1,         24,         24,2,20190417,       1717,   -67.9998,    29.9986,       3715,   469.7,   1.0089,  34.6989,2,  34.6988,2,    201.4,2,   202.2,2,   101.6,2,   31.47,2,    0.00,2,    2.15,2,   0.702,2,   0.382,2,   0.3318,2,  2255.8,3, 2350.91,2,   7.5872,2, -999.00,9,  -999.0,9,  -999.0, -999.00,9,  -999.0,9, -999.00,9,    22.8074,3, 20190417,     1845, -67.9998,  29.9986,      25.05,     -999.0,9,      0.136,1,      0.062,1,      4.638,1
325020190403,       I06S,       9,          1,         25,         25,2,20190417,       1717,   -67.9998,    29.9986,       3715,   419.5,   1.0346,  34.6951,2,  34.6956,2,    201.1,2,   202.1,2,    96.9,2,   31.54,2,    0.00,2,    2.15,2,   0.763,2,   0.423,2,   0.3200,2,  2254.2,2, 2346.85,2,   7.5851,2, -999.00,9,  -999.0,9,  -999.0,    0.11,2,  -999.0,9, -999.00,9,     22.991,3, 20190417,     1847, -67.9998,  29.9986,      25.05,     -999.0,9,      0.138,1,      0.063,1,      4.637,1
325020190403,       I06S,       9,          1,         26,         26,2,20190417,       1717,   -67.9998,    29.9986,       3715,   368.9,   0.9868,  34.6842,2,  34.6852,2,    203.7,2,   203.4,2,    94.9,2,   31.54,2,    0.00,2,    2.15,2,   1.010,2,   0.500,2,   0.4564,2,  2252.6,2, 2345.18,2,   7.5833,2, -999.00,9,  -999.0,9,  -999.0, -999.00,9,  -999.0,9, -999.00,9,    23.1267,3, 20190417,     1849, -67.9998,  29.9986,      25.05,     -999.0,9,      0.141,1,      0.065,1,      4.637,1
325020190403,       I06S,       9,          1,         27,         27,2,20190417,       1717,   -67.9998,    29.9986,       3715,   318.6,   0.9482,   34.671,2,  34.6719,2,    204.7,2,   203.7,2,    92.5,2,   31.69,2,    0.00,2,    2.16,2,   1.073,2,   0.602,2,   0.5853,2,  2252.8,2, 2344.56,2,   7.5796,2, -999.00,9,  -999.0,9,  -999.0,     0.1,2,  -999.0,9, -999.00,9,    23.6061,3, 20190417,     1851, -67.9998,  29.9986,      25.06,     -999.0,9,      0.154,1,      0.064,1,      4.632,1
325020190403,       I06S,       9,          1,         28,         28,2,20190417,       1717,   -67.9998,    29.9986,       3715,   267.6,   0.8105,  34.6452,2,  34.6484,2,    210.4,2,   208.7,2,    89.6,2,   31.79,2,    0.00,2,    2.17,2,   1.362,2,   0.749,2,   0.7008,2,  2251.9,2, 2341.79,2,   7.5754,2, -999.00,9,  -999.0,9,  -999.0, -999.00,9,  -999.0,9, -999.00,9,    23.7152,3, 20190417,     1854, -67.9998,  29.9986,      25.06,     -999.0,9,      0.158,1,      0.067,1,      4.626,1
325020190403,       I06S,       9,          1,         29,         29,2,20190417,       1717,   -67.9998,    29.9986,       3715,   217.2,   0.3566,  34.5928,2,  34.5881,2,    225.1,2,   225.7,2,    84.3,2,   31.77,2,    0.00,2,    2.16,2,   2.102,2,   1.136,2,   1.2381,2,  2248.1,2, 2337.41,2,   7.5758,2, -999.00,9,  -999.0,9,  -999.0,    0.07,2,  -999.0,9, -999.00,9,    23.7781,3, 20190417,     1855, -67.9998,  29.9986,      25.06,     -999.0,9,      0.149,1,      0.072,1,      4.627,1
325020190403,       I06S,       9,          1,         30,         30,2,20190417,       1717,   -67.9998,    29.9986,       3715,   167.0,  -0.4777,  34.4926,2,  34.4926,2,    257.3,2,   255.2,2,    75.4,2,   31.33,2,    0.01,2,    2.14,2,   3.230,2,   1.730,2,   1.9152,2,  2240.6,2, 2330.64,2,   7.5796,3, -999.00,9,  -999.0,9,  -999.0,    0.08,2,  -999.0,9, -999.00,9,    22.9237,3, 20190417,     1858, -67.9998,  29.9986,      25.06,     -999.0,9,      0.155,1,      0.081,1,      4.625,1
325020190403,       I06S,       9,          1,         31,         31,2,20190417,       1717,   -67.9998,    29.9986,       3715,   136.7,  -0.8872,  34.4415,2,   34.444,2,    274.0,2,   271.5,2,    71.1,2,   31.04,2,    0.01,2,    2.11,2,   3.770,2,   2.027,2,   2.2035,2,  2235.1,2, 2328.44,2,   7.5869,2, -999.00,9,  -999.0,9,  -999.0,    0.02,2,  -999.0,9, -999.00,9,    22.5239,3, 20190417,     1859, -67.9998,  29.9986,      25.04,     -999.0,9,      0.162,1,      0.085,1,      4.622,1
325020190403,       I06S,       9,          1,         32,         32,2,20190417,       1717,   -67.9998,    29.9986,       3715,   111.3,  -1.3689,  34.3936,2,  34.3944,2,    289.5,2,   289.4,2,    66.6,2,   30.72,2,    0.04,2,    2.09,2,   4.317,2,   2.332,2,   2.6223,2,  2229.1,2, 2323.49,2,   7.5924,2, -999.00,9,  -999.0,9,  -999.0,    0.04,2,  -999.0,9, -999.00,9,     21.912,3, 20190417,     1901, -67.9998,  29.9986,      25.05,     -999.0,9,      0.166,1,      0.105,1,      4.618,1
325020190403,       I06S,       9,          1,         33,         33,2,20190417,       1717,   -67.9998,    29.9986,       3715,    85.7,  -1.5272,  34.3532,2,  34.3582,2,    296.9,2,   296.3,2,    64.9,2,   30.50,2,    0.09,2,    2.04,2,   4.483,2,   2.421,2,   2.7218,2,  2227.0,2, 2323.97,2,   7.5967,2, -999.00,9,  -999.0,9,  -999.0,    -0.1,2,  -999.0,9, -999.00,9,    21.8486,3, 20190417,     1902, -67.9998,  29.9986,      25.04,     -999.0,9,      0.170,1,      0.134,1,      4.608,1
325020190403,       I06S,       9,          1,         34,         34,2,20190417,       1717,   -67.9998,    29.9986,       3715,    60.4,  -1.5605,  34.0718,3,   34.133,2,    343.6,3,   332.6,2,    54.5,2,   28.01,2,    0.16,2,    1.84,2,   5.567,2,   3.003,2,   3.6397,2,  2199.4,2, 2311.48,2,   7.6386,2, -999.00,9,  -999.0,9,  -999.0,   -0.21,6,  -999.0,9, -999.00,9,    20.4023,3, 20190417,     1904, -67.9998,  29.9986,      25.05,     -999.0,9,      0.257,1,      0.358,1,      4.524,1
325020190403,       I06S,       9,          1,         35,         35,2,20190417,       1717,   -67.9998,    29.9986,       3715,    34.6,  -1.6755,  34.0202,2,  34.0224,2,    344.9,3,   349.1,2,    50.4,2,   27.21,2,    0.19,2,    1.79,2,   6.094,2,   3.265,2,   4.0261,2,  2187.7,2, 2300.64,2,   7.6567,2, -999.00,9,  -999.0,9,  -999.0,    0.09,2,  -999.0,9, -999.00,9,    19.7698,3, 20190417,     1906, -67.9998,  29.9986,      25.02,     -999.0,9,      0.264,1,      0.402,1,      4.520,1
325020190403,       I06S,       9,          1,         36,         36,2,20190417,       1717,   -67.9998,    29.9986,       3715,     5.4,  -1.6756,    34.02,2,   34.031,2,    343.6,3,   349.0,2,    50.9,2,   27.24,2,    0.18,2,    1.75,2,   6.079,2,   3.265,2,   3.9561,2,  2189.7,6, 2300.03,2,   7.6571,2, -999.00,9,  -999.0,9,  -999.0,   -0.08,2,  -999.0,9, -999.00,9,     19.589,3, 20190417,     1908, -67.9998,  29.9986,      25.05,     -999.0,9,      0.271,1,      0.414,1,      4.519,1