BOTTLE,20210804CCHSIOCBG
EXPOCODE,SECT_ID,STNNBR,CASTNO,SAMPNO,BTLNBR,BTLNBR_FLAG_W,DATE,TIME,LATITUDE,LONGITUDE,DEPTH,CTDPRS,CTDTMP,CTDSAL,CTDSAL_FLAG_W,SALNTY,SALNTY_FLAG_W,CTDOXY,CTDOXY_FLAG_W,OXYGEN,OXYGEN_FLAG_W,SILCAT,SILCAT_FLAG_W,NITRAT,NITRAT_FLAG_W,NITRIT,NITRIT_FLAG_W,PHSPHT,PHSPHT_FLAG_W,CFC-11,CFC-11_FLAG_W,CFC-12,CFC-12_FLAG_W,SF6,SF6_FLAG_W,TCARBN,TCARBN_FLAG_W,ALKALI,ALKALI_FLAG_W,PH_TOT,PH_TOT_FLAG_W,DELC13,DELC13_FLAG_W,DELC14,DELC14_FLAG_W,C14ERR,DELO18,DELO18_FLAG_W,DOC,DOC_FLAG_W,TDN,TDN_FLAG_W,N2O,N2O_FLAG_W,BTL_DATE,BTL_TIME,BTL_LAT,BTL_LON,PH_TMP,REFTMP,REFTMP_FLAG_W,CTDBACKSCATTER,CTDBACKSCATTER_FLAG_W,CTDFLUOR,CTDFLUOR_FLAG_W,CTDXMISS,CTDXMISS_FLAG_W
,,,,,,,,,,,METERS,DBAR,ITS-90,PSS-78,,PSS-78,,UMOL/KG,,UMOL/KG,,UMOL/KG,,UMOL/KG,,UMOL/KG,,UMOL/KG,,PMOL/KG,,PMOL/KG,,FMOL/KG,,UMOL/KG,,UMOL/KG,,,,/MILLE,,/MILLE,,/MILLE,/MILLE,,UMOL/KG,,UMOL/KG,,NMOL/KG,,,,,,DEG C,ITS-90,,VOLTS,,VOLTS,,VOLTS,
325020190403,       I06S,      42,          1,          1,          1,2,20190430,       1516,   -51.4999,    30.0016,       4273,  4345.3,  -0.0956,  34.6593,3,  34.6633,3,    233.9,2,   233.8,2,   132.0,2,   32.72,2,    0.00,2,    2.24,2,   0.793,2,   0.341,2,   0.0000,4,  2255.3,6, 2354.09,2,   7.5959,2,    0.49,2,  -156.9,2,     1.7,   -0.03,2,    39.5,2,   32.77,2,    17.6261,3, 20190430,     1516, -51.4999,  30.0016,      25.00,    -0.0956,2,      0.149,1,      0.059,1,      4.703,1
325020190403,       I06S,      42,          1,          2,          2,2,20190430,       1516,   -51.4999,    30.0016,       4273,  4210.6,   -0.105,  34.6581,2,  34.6584,2,    232.2,2,   233.8,2,   132.2,2,   32.74,2,    0.00,2,    2.25,2,   0.771,2,   0.336,2,   0.0000,4,  2255.2,2, 2356.16,2,   7.5962,2,    0.53,2,  -157.6,2,     2.6,    0.06,2,    37.1,2,   31.05,2,    17.3693,3, 20190430,     1519, -51.4999,  30.0016,      24.96,    -0.1044,2,      0.142,1,      0.060,1,      4.703,1
325020190403,       I06S,      42,          1,          3,          3,2,20190430,       1516,   -51.4999,    30.0016,       4273,  4083.0,  -0.1028,  34.6586,2,  34.6589,2,    232.3,2,   233.2,2,   131.7,2,   32.79,2,    0.00,2,    2.25,2,   0.773,2,   0.326,2,   0.0000,4,  -999.0,9, -999.00,9,-999.0000,9,    0.51,2,  -157.2,2,     1.6,   -0.04,2,  -999.0,9, -999.00,9,    17.9313,3, 20190430,     1523, -51.5000,  30.0016,     -999.0,    -0.1022,2,      0.140,1,      0.060,1,      4.708,1
325020190403,       I06S,      42,          1,          4,          4,2,20190430,       1516,   -51.4999,    30.0016,       4273,  3773.8,   0.1475,   34.669,2,  34.6691,2,    223.2,2,   223.7,2,   129.3,2,   32.81,2,    0.00,2,    2.25,2,   0.650,2,   0.281,2,   0.0000,4,  2256.4,2, 2357.85,2,   7.5918,2,    0.45,2,  -164.7,2,     1.7,    0.38,3,    37.1,2,   33.97,2,    17.6816,3, 20190430,     1530, -51.4999,  30.0016,      25.00,     0.1477,2,      0.127,1,      0.060,1,      4.723,1
325020190403,       I06S,      42,          1,          5,          5,2,20190430,       1516,   -51.4999,    30.0016,       4273,  3466.7,   0.3628,   34.679,2,  34.6792,2,    215.8,2,   216.4,2,   127.2,2,   32.77,2,    0.00,2,    2.24,2,   0.556,2,   0.236,2,   0.0000,4,  -999.0,9, -999.00,9,-999.0000,9,    0.42,2,  -157.0,2,     1.7,    0.12,2,    38.8,2,   35.51,2,    17.5147,3, 20190430,     1536, -51.4999,  30.0016,     -999.0,     0.3628,2,      0.122,1,      0.060,1,      4.724,1
325020190403,       I06S,      42,          1,          6,          6,2,20190430,       1516,   -51.4999,    30.0016,       4273,  3158.3,   0.5382,  34.6878,2,  34.6876,2,    210.7,2,   211.5,2,   123.9,2,   32.65,2,    0.00,2,    2.24,2,   0.494,2,   0.213,2,   0.0000,4,  2260.2,2, 2361.86,3,   7.5915,2,    0.38,2,  -159.5,2,     1.7, -999.00,9,  -999.0,9, -999.00,9,    17.4371,3, 20190430,     1543, -51.5000,  30.0016,      25.00,     0.5382,2,      0.124,1,      0.060,1,      4.724,1
325020190403,       I06S,      42,          1,          7,          7,2,20190430,       1516,   -51.4999,    30.0016,       4273,  2887.9,    0.714,  34.6987,3,  34.7009,2,    209.0,2,   209.0,2,   117.8,2,   32.23,2,    0.00,2,    2.22,2,   0.437,2,   0.191,2,   0.0000,4,  -999.0,9, -999.00,9,-999.0000,9,    0.40,2,  -160.2,2,     2.2,    0.26,2,    38.8,2,   34.68,2,    17.5308,3, 20190430,     1548, -51.5000,  30.0016,     -999.0,      0.714,2,      0.128,1,      0.061,1,      4.724,1
325020190403,       I06S,      42,          1,          8,          8,2,20190430,       1516,   -51.4999,    30.0016,       4273,  2631.7,    0.828,  34.7053,2,  34.7053,2,    206.9,2,   208.0,2,   114.8,2,   31.92,2,    0.00,2,    2.20,2,   0.412,2,   0.182,2,   0.0000,4,  2256.6,2, 2351.81,3,   7.6002,2,    0.56,2,  -158.0,2,     1.8, -999.00,9,    39.1,2,   32.76,2,    17.1297,3, 20190430,     1553, -51.4999,  30.0016,      24.99,     0.8284,2,      0.126,1,      0.060,1,      4.723,1
325020190403,       I06S,      42,          1,          9,          9,2,20190430,       1516,   -51.4999,    30.0016,       4273,  2375.5,   1.0191,  34.7155,2,  34.7159,2,    205.3,2,   205.7,2,   108.7,2,   31.50,2,    0.00,2,    2.17,2,   0.387,2,   0.163,2,   0.0000,4,  -999.0,9, -999.00,9,-999.0000,9,    0.55,2,  -159.0,2,     1.6,    0.28,2,  -999.0,9, -999.00,9,    18.7573,3, 20190430,     1558, -51.5000,  30.0016,     -999.0,     1.0193,2,      0.127,1,      0.060,1,      4.723,1
325020190403,       I06S,      42,          1,         10,         10,2,20190430,       1516,   -51.4999,    30.0016,       4273,  2121.2,   1.2587,  34.7291,2,  34.7292,2,    203.8,2,   203.4,2,   102.0,2,   31.03,2,    0.00,2,    2.13,2,   0.315,2,   0.139,2,   0.0000,4,  2251.8,6, 2361.27,2,   7.6069,2,    0.57,2,  -158.4,2,     1.7, -999.00,9,    38.8,2,   30.75,2,    17.6025,3, 20190430,     1603, -51.5000,  30.0017,      25.02,     1.2594,2,      0.128,1,      0.061,1,      4.722,1
325020190403,       I06S,      42,          1,         11,         11,2,20190430,       1516,   -51.4999,    30.0016,       4273,  1896.8,   1.3732,  34.7239,2,  34.7237,2,    198.2,2,   198.3,2,   100.1,2,   30.98,2,    0.00,2,    2.14,2,   0.351,2,   0.158,2,   0.0000,4,  2255.4,2, 2355.44,2,   7.5992,2,    0.48,2,  -157.0,2,     1.7,    0.21,2,    37.1,2,   31.98,2,    17.8871,3, 20190430,     1608, -51.5000,  30.0016,      25.01,     1.3727,2,      0.128,1,      0.061,1,      4.720,1
325020190403,       I06S,      42,          1,         12,         12,2,20190430,       1516,   -51.4999,    30.0016,       4273,  1693.1,   1.6167,  34.7324,2,  34.7317,2,    195.7,2,   195.4,2,    93.5,2,   30.97,2,    0.00,2,    2.13,2,   0.335,2,   0.147,2,   0.0000,4,  2251.9,2, 2353.99,2,   7.6006,2, -999.00,9,  -999.0,9,  -999.0, -999.00,9,  -999.0,9, -999.00,9,    19.4715,3, 20190430,     1612, -51.4999,  30.0016,      24.99,     1.6175,2,      0.129,1,      0.061,1,      4.720,1
325020190403,       I06S,      42,          1,         13,         13,2,20190430,       1516,   -51.4999,    30.0016,       4273,  1562.7,   1.7368,  34.7314,2,  34.7312,2,    191.3,2,   192.3,2,    90.8,2,   30.99,2,    0.00,2,    2.13,2,   0.334,2,   0.147,2,   0.0000,4,  2249.6,2, 2355.59,3,   7.5968,2,    0.53,2,  -149.5,2,     1.8,    0.27,2,    39.7,2,   32.18,2,    19.0628,3, 20190430,     1615, -51.5000,  30.0017,      25.01,     1.7364,2,      0.131,1,      0.062,1,      4.719,1
325020190403,       I06S,      42,          1,         14,         14,2,20190430,       1516,   -51.4999,    30.0016,       4273,  1462.1,   1.8952,   34.733,2,  34.7323,2,    189.1,2,   190.6,2,    87.2,2,   31.00,2,    0.00,2,    2.13,2,   0.312,2,   0.138,2,   0.0000,4,  2250.4,2, 2351.27,2,   7.5960,2,    0.52,2,  -151.8,2,     1.8, -999.00,9,    38.6,2,   29.73,2,    18.5616,3, 20190430,     1617, -51.5000,  30.0016,      25.01,     1.8966,2,      0.132,1,      0.062,1,      4.721,1
325020190403,       I06S,      42,          1,         15,         15,2,20190430,       1516,   -51.4999,    30.0016,       4273,  1356.0,    1.914,  34.7189,2,  34.7188,2,    185.8,2,   185.6,2,    87.2,2,   31.56,2,    0.00,2,    2.17,2,-999.000,5,-999.000,5,-999.0000,5,  2254.4,2, 2348.84,3,   7.5863,2,    0.45,2,  -151.5,2,     1.7,    0.17,6,  -999.0,9, -999.00,9,     -999.0,9, 20190430,     1620, -51.5000,  30.0017,      25.01,     1.9186,2,      0.130,1,      0.060,1,      4.718,1
325020190403,       I06S,      42,          1,         16,         16,2,20190430,       1516,   -51.4999,    30.0016,       4273,  1257.5,    1.988,   34.703,2,  34.7023,2,    181.3,2,   180.7,2,    86.3,2,   32.23,2,    0.00,2,    2.22,2,   0.457,2,   0.205,2,   0.0000,4,  2257.4,2, 2347.12,2,   7.5754,2,    0.49,2,  -150.6,2,     1.8, -999.00,9,    39.9,2,   31.75,2,    19.1504,3, 20190430,     1622, -51.5000,  30.0017,      25.01,     1.9874,2,      0.135,1,      0.062,1,      4.716,1
325020190403,       I06S,      42,          1,         17,         17,2,20190430,       1516,   -51.4999,    30.0016,       4273,  1154.9,   1.9832,  34.6739,2,  34.6733,2,    176.9,2,   175.7,2,    86.1,2,   33.19,2,    0.00,2,    2.29,2,   0.562,2,   0.252,2,   0.0000,4,  2259.8,2, 2345.61,2,   7.5587,2,    0.43,2,  -154.5,2,     2.2,    0.25,2,    38.7,2,   33.22,2,    20.6638,3, 20190430,     1625, -51.5000,  30.0018,      25.01,     1.9852,2,      0.134,1,      0.061,1,      4.715,1
325020190403,       I06S,      42,          1,         18,         18,2,20190430,       1516,   -51.4999,    30.0016,       4273,  1055.2,   2.0744,  34.6549,2,  34.6538,2,    173.7,2,   172.6,2,    84.6,2,   33.71,2,    0.00,2,    2.32,2,   0.623,2,   0.277,2,   0.0000,4,  2261.1,2, 2342.84,2,   7.5506,2, -999.00,9,  -999.0,9,  -999.0, -999.00,9,  -999.0,9, -999.00,9,    20.7981,3, 20190430,     1627, -51.5000,  30.0018,      25.01,     2.0692,2,      0.138,1,      0.062,1,      4.702,1
325020190403,       I06S,      42,          1,         19,         19,2,20190430,       1516,   -51.4999,    30.0016,       4273,   952.2,   2.1295,  34.6323,2,  34.6315,2,    170.6,2,   170.2,2,    82.7,2,   34.05,2,    0.00,2,    2.34,2,   0.671,2,   0.308,2,   0.0000,4,  2259.3,6, 2346.55,3,   7.5443,2,    0.32,2,  -148.5,2,     1.8,    0.34,2,    38.9,2,   33.01,2,    21.2634,3, 20190430,     1630, -51.5000,  30.0018,      25.00,     2.1315,2,      0.137,1,      0.062,1,      4.712,1
325020190403,       I06S,      42,          1,         20,         20,2,20190430,       1516,   -51.4999,    30.0016,       4273,   851.2,   2.0647,  34.5697,2,  34.5697,2,    174.3,3,   171.2,2,    80.2,2,   34.97,2,    0.00,2,    2.39,2,   1.024,2,   0.482,2,   0.0000,4,  2258.7,2, 2335.50,2,   7.5296,2,    0.31,2,  -146.2,2,     1.8, -999.00,9,    38.5,2,   35.96,2,    22.1966,3, 20190430,     1632, -51.5000,  30.0017,      25.01,     2.0592,2,      0.142,1,      0.062,1,      4.711,1
325020190403,       I06S,      42,          1,         21,         21,2,20190430,       1516,   -51.4999,    30.0016,       4273,   750.3,   2.4273,  34.5599,2,  34.5556,2,    171.1,3,   177.7,2,    73.0,2,   34.38,2,    0.00,2,    2.35,2,   0.976,2,   0.453,2,   0.2132,2,  2254.1,2, 2333.43,2,   7.5439,2,    0.37,2,  -139.1,2,     1.7,    0.21,2,  -999.0,9, -999.00,9,    21.9596,3, 20190430,     1635, -51.5000,  30.0017,      25.01,     2.4132,2,      0.155,1,      0.062,1,      4.714,1
325020190403,       I06S,      42,          1,         22,         22,2,20190430,       1516,   -51.4999,    30.0016,       4273,   648.2,   2.4421,  34.5042,2,  34.5034,2,    174.3,2,   173.6,2,    69.6,2,   34.78,2,    0.00,2,    2.39,2,   1.154,2,   0.521,2,   0.2656,2,  2250.7,2, 2330.72,2,   7.5382,2,    0.39,2,  -135.4,2,     1.7, -999.00,9,    38.6,2,   32.77,2,    20.7451,3, 20190430,     1637, -51.5000,  30.0017,      25.01,     2.4412,2,      0.140,1,      0.061,1,      4.716,1
325020190403,       I06S,      42,          1,         23,         23,2,20190430,       1516,   -51.4999,    30.0016,       4273,   547.6,    2.482,  34.4521,2,  34.4503,2,    179.3,3,   181.3,2,    64.8,2,   34.78,2,    0.00,2,    2.39,2,   1.522,2,   0.711,2,   0.5687,2,  2244.7,2, 2323.68,3,   7.5387,2,    0.44,2,  -126.8,2,     2.2,    0.59,3,    39.3,2,   34.69,2,    20.6221,3, 20190430,     1640, -51.5000,  30.0017,      25.00,     2.4844,2,      0.141,1,      0.062,1,      4.715,1
325020190403,       I06S,      42,          1,         24,         24,2,20190430,       1516,   -51.4999,    30.0016,       4273,   446.3,   2.4996,  34.3708,2,  34.3692,2,    191.5,2,   190.8,2,    57.8,2,   34.54,2,    0.00,2,    2.37,2,   2.064,2,   0.991,2,   0.6587,2,  2234.8,2, 2312.98,2,   7.5419,2,    0.44,2,  -114.4,2,     2.1, -999.00,9,  -999.0,9, -999.00,9,       19.7,3, 20190430,     1643, -51.5000,  30.0017,      25.01,     2.4981,2,      0.142,1,      0.062,1,      4.713,1
325020190403,       I06S,      42,          1,         25,         25,2,20190430,       1516,   -51.4999,    30.0016,       4273,   377.4,   2.5136,  34.2933,2,  34.2886,2,    208.8,3,   205.9,2,    49.7,2,   33.78,2,    0.00,2,    2.34,2,   2.707,2,   1.347,2,   1.0096,2,  2223.1,2, 2307.55,3,   7.5522,2,    0.55,2,   -98.6,2,     1.8,    0.24,2,    39.1,2,   35.91,2,    21.3216,3, 20190430,     1645, -51.5000,  30.0018,      25.03,     2.5132,2,      0.144,1,      0.063,1,      4.712,1
325020190403,       I06S,      42,          1,         26,         26,2,20190430,       1516,   -51.4999,    30.0016,       4273,   326.5,   2.3865,  34.1981,2,  34.1956,2,    224.9,3,   228.5,2,    42.7,2,   32.67,2,    0.00,2,    2.26,2,   3.326,2,   1.742,2,   1.6326,2,  2209.9,2, 2297.62,2,   7.5686,2,    0.62,2,   -89.3,2,     2.8,    0.15,2,    39.5,2,   32.64,2,    16.4799,3, 20190430,     1647, -51.5000,  30.0017,      24.99,     2.3864,2,      0.148,1,      0.062,1,      4.708,1
325020190403,       I06S,      42,          1,         27,         27,2,20190430,       1516,   -51.4999,    30.0016,       4273,   275.4,   2.4048,  34.1239,2,  34.1244,2,    254.5,3,   247.0,2,    36.0,2,   31.43,2,    0.03,2,    2.17,2,   3.833,2,   2.043,2,   1.9394,2,  2196.6,2, 2290.77,2,   7.5884,2,    0.77,2,   -78.8,2,     2.0,    0.15,2,  -999.0,9, -999.00,9,    16.6926,3, 20190430,     1649, -51.5000,  30.0017,      25.03,     2.4149,2,      0.156,1,      0.061,1,      4.703,1
325020190403,       I06S,      42,          1,         28,         28,2,20190430,       1516,   -51.4999,    30.0016,       4273,   226.0,   2.2986,  34.0395,2,  34.0389,2,    272.2,2,   270.6,2,    30.6,2,   30.01,2,    0.03,2,    2.09,2,   4.383,2,   2.368,2,   2.5624,2,  2188.9,2, 2286.44,2,   7.6092,2,    0.86,2,   -72.3,2,     1.9,    0.22,2,    40.3,2,   29.39,2,    15.6859,3, 20190430,     1651, -51.4999,  30.0017,      25.02,     2.2964,2,      0.156,1,      0.063,1,      4.700,1
325020190403,       I06S,      42,          1,         29,         29,2,20190430,       1516,   -51.4999,    30.0016,       4273,   174.4,   2.6744,  33.9085,2,  33.9078,2,    308.6,2,   309.9,2,    25.6,2,   25.98,2,    0.22,2,    1.79,2,   4.871,2,   2.626,2,   3.5534,2,  2169.0,2, 2287.72,2,   7.6697,2,    1.14,2,   -89.7,2,     2.2,    0.07,2,    41.8,2,   26.33,2,    12.3144,3, 20190430,     1653, -51.5000,  30.0017,      24.98,     2.6799,2,      0.166,1,      0.114,1,      4.675,1
325020190403,       I06S,      42,          1,         30,         30,2,20190430,       1516,   -51.4999,    30.0016,       4273,   123.5,   3.1966,  33.8626,2,  33.8632,2,    315.2,2,   315.3,2,    18.2,2,   24.43,2,    0.27,2,    1.71,2,   4.861,2,   2.633,2,   3.5294,2,  2158.5,2, 2286.40,2,   7.6938,2,    1.31,2,   -95.2,2,     1.9,    1.91,4,  -999.0,9, -999.00,9,    12.6746,3, 20190430,     1655, -51.4999,  30.0017,      25.04,     3.1926,2,      0.178,1,      0.149,1,      4.660,1
325020190403,       I06S,      42,          1,         31,         31,2,20190430,       1516,   -51.4999,    30.0016,       4273,    92.8,   3.3816,   33.848,2,  33.8482,2,    314.7,2,   315.3,2,    15.0,2,   23.93,2,    0.27,2,    1.66,2,   4.752,2,   2.584,2,   3.6550,2,  2155.4,2, 2286.99,2,   7.7019,2,    1.30,2,   -89.2,2,     2.0,   -0.13,2,    39.3,2,   22.63,2,    10.8783,3, 20190430,     1657, -51.4999,  30.0017,      24.99,     3.3859,2,      0.181,1,      0.164,1,      4.657,1
325020190403,       I06S,      42,          1,         32,         32,2,20190430,       1516,   -51.4999,    30.0016,       4273,    67.8,   3.4946,  33.8371,3,-999.0000,9,    317.0,3,  -999.0,9,    12.9,2,   23.67,2,    0.29,2,    1.67,2,-999.000,9,-999.000,9,-999.0000,9,  -999.0,9, -999.00,9,-999.0000,9, -999.00,9,  -999.0,9,  -999.0, -999.00,9,  -999.0,9, -999.00,9,     -999.0,9, 20190430,     1658, -51.4999,  30.0017,     -999.0,      3.485,2,      0.179,1,      0.173,1,      4.654,1
325020190403,       I06S,      42,          1,         33,         33,2,20190430,       1516,   -51.4999,    30.0016,       4273,    68.2,   3.4806,  33.8416,2,    33.84,2,    315.6,2,   315.3,2,    12.9,2,   23.62,2,    0.27,2,    1.65,2,   4.587,2,   2.482,2,   3.4385,2,  2154.2,2, 2284.55,2,   7.7050,2,    1.23,2,   -89.2,2,     2.0,    0.01,2,    42.6,2,   25.45,2,     9.8507,3, 20190430,     1658, -51.4999,  30.0017,      25.03,     -999.0,9,      0.182,1,      0.162,1,      4.653,1
325020190403,       I06S,      42,          1,         34,         34,2,20190430,       1516,   -51.4999,    30.0016,       4273,    44.3,   3.5647,   33.831,2,   33.832,2,    317.0,2,   315.5,2,    11.8,2,   23.44,2,    0.27,2,    1.64,2,   4.767,2,   2.578,2,   3.6142,2,  2151.7,2, 2286.24,2,   7.7066,2,    1.36,2,   -84.4,2,     1.8,   -0.04,2,    42.0,2,   23.94,2,    11.4455,3, 20190430,     1700, -51.4999,  30.0017,      25.03,      3.564,2,      0.185,1,      0.171,1,      4.646,1
325020190403,       I06S,      42,          1,         35,         35,2,20190430,       1516,   -51.4999,    30.0016,       4273,    12.5,   3.5649,  33.8287,3,-999.0000,9,    315.6,3,  -999.0,9,    11.8,2,   23.41,2,    0.27,2,    1.64,2,-999.000,9,-999.000,9,-999.0000,9,  -999.0,9, -999.00,9,-999.0000,9, -999.00,9,  -999.0,9,  -999.0,   -0.04,2,  -999.0,9, -999.00,9,     -999.0,9, 20190430,     1702, -51.4999,  30.0017,     -999.0,     3.5638,2,      0.186,1,      0.171,1,      4.644,1
325020190403,       I06S,      42,          1,         36,         36,2,20190430,       1516,   -51.4999,    30.0016,       4273,    11.7,   3.5644,  33.8319,2,  33.8329,2,    315.5,2,   315.2,2,    12.0,2,   23.80,2,    0.28,2,    1.67,2,   4.737,2,   2.598,2,   3.5743,2,  2153.1,6, 2286.06,2,   7.7073,2,    0.98,2,   -94.4,2,     1.8, -999.00,9,    38.3,2,   22.35,2,    11.3682,3, 20190430,     1702, -51.4999,  30.0017,      25.03,     -999.0,9,      0.192,1,      0.178,1,      4.634,1