BOTTLE,20210804CCHSIOCBG
EXPOCODE,SECT_ID,STNNBR,CASTNO,SAMPNO,BTLNBR,BTLNBR_FLAG_W,DATE,TIME,LATITUDE,LONGITUDE,DEPTH,CTDPRS,CTDTMP,CTDSAL,CTDSAL_FLAG_W,SALNTY,SALNTY_FLAG_W,CTDOXY,CTDOXY_FLAG_W,OXYGEN,OXYGEN_FLAG_W,SILCAT,SILCAT_FLAG_W,NITRAT,NITRAT_FLAG_W,NITRIT,NITRIT_FLAG_W,PHSPHT,PHSPHT_FLAG_W,CFC-11,CFC-11_FLAG_W,CFC-12,CFC-12_FLAG_W,SF6,SF6_FLAG_W,TCARBN,TCARBN_FLAG_W,ALKALI,ALKALI_FLAG_W,PH_TOT,PH_TOT_FLAG_W,DELC13,DELC13_FLAG_W,DELC14,DELC14_FLAG_W,C14ERR,DELO18,DELO18_FLAG_W,DOC,DOC_FLAG_W,TDN,TDN_FLAG_W,N2O,N2O_FLAG_W,BTL_DATE,BTL_TIME,BTL_LAT,BTL_LON,PH_TMP,REFTMP,REFTMP_FLAG_W,CTDBACKSCATTER,CTDBACKSCATTER_FLAG_W,CTDFLUOR,CTDFLUOR_FLAG_W,CTDXMISS,CTDXMISS_FLAG_W
,,,,,,,,,,,METERS,DBAR,ITS-90,PSS-78,,PSS-78,,UMOL/KG,,UMOL/KG,,UMOL/KG,,UMOL/KG,,UMOL/KG,,UMOL/KG,,PMOL/KG,,PMOL/KG,,FMOL/KG,,UMOL/KG,,UMOL/KG,,,,/MILLE,,/MILLE,,/MILLE,/MILLE,,UMOL/KG,,UMOL/KG,,NMOL/KG,,,,,,DEG C,ITS-90,,VOLTS,,VOLTS,,VOLTS,
325020190403,       I06S,       8,          1,          1,          1,2,20190417,       1150,    -68.102,    30.3813,       3491,  3549.3,   -0.191,   34.654,3,  34.6586,2,    238.6,2,   238.5,2,   121.0,2,   32.28,2,    0.00,2,    2.23,2,-999.000,5,-999.000,5,-999.0000,5,  1898.7,4, 2344.87,2,   7.5944,2,    0.61,2,  -154.0,2,     1.8,    0.06,2,    39.6,2,   30.93,2,     22.567,3, 20190417,     1150, -68.1020,  30.3812,      25.02,    -0.1915,2,      0.134,1,      0.062,1,      4.642,1
325020190403,       I06S,       8,          1,          2,          2,2,20190417,       1150,    -68.102,    30.3813,       3491,  3457.2,  -0.1424,  34.6555,2,  34.6564,2,    235.8,2,   236.6,2,   120.1,2,   32.21,2,    0.00,2,    2.23,2,   1.252,2,   0.669,2,   0.5560,2,  2098.3,4, 2351.19,2,   7.5927,2, -999.00,9,  -999.0,9,  -999.0,   -0.01,2,    38.9,2,   33.29,2,    20.7688,3, 20190417,     1155, -68.1020,  30.3812,      25.01,     -0.143,2,      0.124,1,      0.061,1,      4.645,1
325020190403,       I06S,       8,          1,          3,          3,2,20190417,       1150,    -68.102,    30.3813,       3491,  3359.3,   -0.126,  34.6564,2,  34.6572,2,    234.9,2,   235.4,2,   119.5,2,   32.18,2,    0.00,2,    2.24,2,   1.211,2,   0.651,2,   0.5414,2,  2124.0,4, 2349.02,2,   7.5925,2, -999.00,9,  -999.0,9,  -999.0,    0.11,2,  -999.0,9, -999.00,9,    21.6393,3, 20190417,     1157, -68.1020,  30.3812,      25.01,    -0.1256,2,      0.125,1,      0.062,1,      4.646,1
325020190403,       I06S,       8,          1,          4,          4,2,20190417,       1150,    -68.102,    30.3813,       3491,  3052.9,  -0.0963,  34.6584,2,  34.6591,2,    232.1,2,   233.1,2,   120.7,2,   32.33,2,    0.00,2,    2.24,2,-999.000,9,-999.000,9,-999.0000,9,  -999.0,9, -999.00,9,-999.0000,9,    0.58,2,  -152.0,2,     1.8,     0.1,2,    39.1,2,   32.76,2,     -999.0,9, 20190417,     1203, -68.1020,  30.3812,     -999.0,    -0.0967,2,      0.124,1,      0.062,1,      4.646,1
325020190403,       I06S,       8,          1,          5,          5,2,20190417,       1150,    -68.102,    30.3813,       3491,  2847.7,  -0.0917,  34.6593,2,  34.6603,2,    230.3,2,   232.1,2,   120.9,2,   32.34,2,    0.00,2,    2.23,2,   1.074,2,   0.581,2,   0.4463,2,  2102.9,4, 2352.28,2,   7.5923,2, -999.00,9,  -999.0,9,  -999.0,    0.01,2,    40.6,2,   31.67,2,    22.1013,3, 20190417,     1208, -68.1020,  30.3812,      25.01,    -0.0921,2,      0.124,1,      0.062,1,      4.646,1
325020190403,       I06S,       8,          1,          6,          6,2,20190417,       1150,    -68.102,    30.3813,       3491,  2641.1,  -0.0839,  34.6603,2,  34.6617,2,    229.3,2,   230.9,2,   121.1,2,   32.39,2,    0.00,2,    2.24,2,-999.000,9,-999.000,9,-999.0000,9,  -999.0,9, -999.00,9,-999.0000,9, -999.00,9,  -999.0,9,  -999.0, -999.00,9,  -999.0,9, -999.00,9,     -999.0,9, 20190417,     1213, -68.1020,  30.3812,     -999.0,    -0.0847,2,      0.124,1,      0.060,1,      4.647,1
325020190403,       I06S,       8,          1,          7,          7,2,20190417,       1150,    -68.102,    30.3813,       3491,  2437.8,   -0.065,  34.6617,2,  34.6629,2,    228.1,2,   229.7,2,   121.4,2,   32.37,2,    0.00,2,    2.25,2,   0.977,2,   0.526,2,   0.4059,2,  2173.3,4, 2350.02,2,   7.5907,2,    0.57,2,  -157.1,2,     1.9,    0.09,6,    38.4,2,   32.62,2,    21.7559,3, 20190417,     1218, -68.1020,  30.3812,      25.06,    -0.0655,2,      0.124,1,      0.062,1,      4.647,1
325020190403,       I06S,       8,          1,          8,          8,2,20190417,       1150,    -68.102,    30.3813,       3491,  2233.3,  -0.0334,  34.6635,2,   34.664,2,    225.9,2,   227.5,2,   122.0,2,   32.54,2,    0.00,2,    2.25,2,-999.000,9,-999.000,9,-999.0000,9,  -999.0,9, -999.00,9,-999.0000,9,    0.56,2,  -157.2,2,     1.7, -999.00,9,    39.8,2,   33.95,2,     -999.0,9, 20190417,     1223, -68.1020,  30.3812,     -999.0,     -0.034,2,      0.124,1,      0.060,1,      4.647,1
325020190403,       I06S,       8,          1,          9,          9,2,20190417,       1150,    -68.102,    30.3813,       3491,  2030.1,   0.0479,  34.6669,2,  34.6678,2,    222.7,2,   223.4,2,   121.9,2,   32.52,2,    0.00,2,    2.24,2,   0.788,2,   0.424,2,   0.3614,2,  2289.6,4, 2354.50,2,   7.5887,2, -999.00,9,  -999.0,9,  -999.0,   -0.05,2,  -999.0,9, -999.00,9,    22.0842,3, 20190417,     1227, -68.1020,  30.3812,      25.03,     0.0474,2,      0.125,1,      0.061,1,      4.648,1
325020190403,       I06S,       8,          1,         10,         10,2,20190417,       1150,    -68.102,    30.3813,       3491,  1825.9,   0.1232,  34.6708,2,  34.6711,2,    219.4,2,   220.2,2,   122.2,2,   32.67,2,    0.00,2,    2.24,2,-999.000,9,-999.000,9,-999.0000,9,  2292.9,4, 2352.68,2,   7.5871,2, -999.00,9,  -999.0,9,  -999.0, -999.00,9,    39.5,2,   33.42,2,     -999.0,9, 20190417,     1232, -68.1020,  30.3812,      25.03,     0.1246,2,      0.124,1,      0.061,1,      4.648,1
325020190403,       I06S,       8,          1,         11,         11,2,20190417,       1150,    -68.102,    30.3813,       3491,  1723.7,     0.16,   34.672,2,  34.6723,2,    217.4,2,   219.0,2,   121.0,2,   32.62,2,    0.00,2,    2.25,2,   0.696,2,   0.369,2,   0.2606,2,  2258.8,4, 2355.11,2,   7.5876,2, -999.00,9,  -999.0,9,  -999.0,    0.04,2,    40.1,2,   33.51,2,    22.3196,3, 20190417,     1235, -68.1020,  30.3812,      25.01,     0.1603,2,      0.125,1,      0.061,1,      4.647,1
325020190403,       I06S,       8,          1,         12,         12,2,20190417,       1150,    -68.102,    30.3813,       3491,  1622.1,   0.2096,  34.6735,2,  34.6752,2,    216.7,2,   217.6,2,   120.3,2,   32.41,2,    0.00,2,    2.25,2,-999.000,9,-999.000,9,-999.0000,9,  -999.0,9, -999.00,9,-999.0000,9, -999.00,9,  -999.0,9,  -999.0, -999.00,9,  -999.0,9, -999.00,9,     -999.0,9, 20190417,     1238, -68.1020,  30.3812,     -999.0,      0.209,2,      0.125,1,      0.063,1,      4.647,1
325020190403,       I06S,       8,          1,         13,         13,2,20190417,       1150,    -68.102,    30.3813,       3491,  1520.6,   0.2587,  34.6756,2,  34.6784,2,    215.0,2,   215.6,2,   119.7,2,   32.56,2,    0.00,2,    2.24,2,   0.665,2,   0.359,2,   0.2576,2,  2259.2,2, 2351.50,2,   7.5858,2,    0.51,2,  -158.3,2,     1.9,    0.06,2,    40.0,2,   32.39,2,    22.6321,3, 20190417,     1241, -68.1020,  30.3812,      25.01,     0.2592,2,      0.125,1,      0.061,1,      4.647,1
325020190403,       I06S,       8,          1,         14,         14,2,20190417,       1150,    -68.102,    30.3813,       3491,  1419.7,   0.3048,  34.6772,2,  34.6788,2,    213.2,2,   214.6,2,   118.3,2,   32.42,2,    0.00,2,    2.24,2,-999.000,9,-999.000,9,-999.0000,9,  -999.0,9, -999.00,9,-999.0000,9, -999.00,9,  -999.0,9,  -999.0, -999.00,9,    41.5,2,   34.31,2,     -999.0,9, 20190417,     1243, -68.1020,  30.3812,     -999.0,     0.3048,2,      0.127,1,      0.062,1,      4.647,1
325020190403,       I06S,       8,          1,         15,         15,2,20190417,       1150,    -68.102,    30.3813,       3491,  1317.2,   0.3705,  34.6803,2,  34.6813,2,    211.3,2,   212.3,2,   118.0,2,   32.49,2,    0.00,2,    2.24,2,   0.636,2,   0.337,2,   0.2516,2,  2260.9,2, 2354.59,2,   7.5856,2, -999.00,9,  -999.0,9,  -999.0,    0.09,2,  -999.0,9, -999.00,9,    22.6252,3, 20190417,     1247, -68.1020,  30.3812,      25.02,     0.3691,2,      0.129,1,      0.063,1,      4.647,1
325020190403,       I06S,       8,          1,         16,         16,2,20190417,       1150,    -68.102,    30.3813,       3491,  1215.3,   0.4361,  34.6837,2,  34.6856,2,    209.6,2,   210.5,2,   116.8,2,   32.45,2,    0.00,2,    2.24,2,-999.000,9,-999.000,9,-999.0000,9,  -999.0,9, -999.00,9,-999.0000,9,    0.47,2,  -160.8,2,     1.6, -999.00,9,    41.4,2,   33.93,2,     -999.0,9, 20190417,     1250, -68.1020,  30.3812,     -999.0,     0.4354,2,      0.127,1,      0.062,1,      4.646,1
325020190403,       I06S,       8,          1,         17,         17,2,20190417,       1150,    -68.102,    30.3813,       3491,  1114.7,    0.496,  34.6858,2,  34.6872,2,    208.4,2,   209.2,2,   115.3,2,   32.34,2,    0.00,2,    2.23,2,   0.609,2,   0.327,2,   0.2800,2,  2259.3,2, 2354.95,2,   7.5860,2, -999.00,9,  -999.0,9,  -999.0,     0.1,2,    40.9,2,   32.40,2,    22.8409,3, 20190417,     1252, -68.1020,  30.3812,      25.01,      0.495,2,      0.135,1,      0.062,1,      4.646,1
325020190403,       I06S,       8,          1,         18,         18,2,20190417,       1150,    -68.102,    30.3813,       3491,  1012.0,   0.5745,   34.689,2,  34.6901,2,    207.7,2,   208.4,2,   112.6,2,   32.04,2,    0.00,2,    2.22,2,-999.000,9,-999.000,9,-999.0000,9,  -999.0,9, -999.00,9,-999.0000,9, -999.00,9,  -999.0,9,  -999.0, -999.00,9,  -999.0,9, -999.00,9,     -999.0,9, 20190417,     1255, -68.1020,  30.3812,     -999.0,     0.5726,2,      0.128,1,      0.062,1,      4.647,1
325020190403,       I06S,       8,          1,         19,         19,2,20190417,       1150,    -68.102,    30.3813,       3491,   910.7,   0.6253,  34.6901,2,  34.6917,2,    207.6,2,   208.4,2,   109.7,2,   32.03,2,    0.00,2,    2.22,2,   0.643,2,   0.347,2,   0.2852,2,  2257.3,2, 2351.55,2,   7.5883,2,    0.10,4,  -166.1,3,     1.7,    0.09,2,    40.7,2,   32.88,2,     22.914,3, 20190417,     1258, -68.1020,  30.3812,      24.99,     0.6232,2,      0.131,1,      0.063,1,      4.646,1
325020190403,       I06S,       8,          1,         20,         20,2,20190417,       1150,    -68.102,    30.3813,       3491,   809.3,   0.6932,  34.6928,2,  34.6947,2,    205.3,3,   207.4,2,   108.2,2,   32.01,2,    0.00,2,    2.20,2,-999.000,9,-999.000,9,-999.0000,9,  -999.0,9, -999.00,9,-999.0000,9,    0.40,2,  -156.5,2,     2.1, -999.00,9,    40.7,2,   34.01,2,     -999.0,9, 20190417,     1301, -68.1020,  30.3812,     -999.0,     0.6924,2,      0.132,1,      0.063,1,      4.646,1
325020190403,       I06S,       8,          1,         21,         21,2,20190417,       1150,    -68.102,    30.3813,       3491,   708.0,   0.7611,  34.6927,2,  34.6947,2,    205.0,2,   206.7,2,   104.7,2,   31.87,2,    0.00,2,    2.20,2,   0.691,2,   0.374,2,   0.3174,2,  2255.4,2, 2349.11,2,   7.5890,2, -999.00,9,  -999.0,9,  -999.0,    0.13,2,  -999.0,9, -999.00,9,     22.897,3, 20190417,     1304, -68.1020,  30.3812,      24.99,     0.7605,2,      0.132,1,      0.063,1,      4.644,1
325020190403,       I06S,       8,          1,         22,         22,2,20190417,       1150,    -68.102,    30.3813,       3491,   606.8,   0.8668,  34.6955,2,  34.6984,2,    205.2,2,   205.0,2,   102.0,2,   31.73,2,    0.00,2,    2.16,2,-999.000,9,-999.000,9,-999.0000,9,  2257.2,2, 2351.22,2,   7.5893,2,    0.42,2,  -154.9,2,     1.7, -999.00,9,    37.5,2,   30.91,2,     -999.0,9, 20190417,     1307, -68.1020,  30.3812,      24.99,     0.8653,2,      0.134,1,      0.063,1,      4.643,1
325020190403,       I06S,       8,          1,         23,         23,2,20190417,       1150,    -68.102,    30.3813,       3491,   506.0,   0.9215,  34.6911,2,   34.695,2,    203.2,2,   204.4,2,    98.7,2,   31.65,2,    0.00,2,    2.16,2,   0.763,2,   0.418,2,   0.3683,2,  2255.2,6, 2350.80,2,   7.5872,2, -999.00,9,  -999.0,9,  -999.0,    0.13,2,    39.6,2,   32.07,2,     23.123,3, 20190417,     1309, -68.1020,  30.3812,      25.01,     0.9192,2,      0.140,1,      0.064,1,      4.640,1
325020190403,       I06S,       8,          1,         24,         24,2,20190417,       1150,    -68.102,    30.3813,       3491,   455.0,   0.9687,   34.694,3,  34.6697,3,    203.1,2,   204.4,2,    94.0,2,   31.63,2,    0.00,2,    2.16,2,-999.000,9,-999.000,9,-999.0000,9,  2257.0,2, 2346.44,2,   7.5835,2, -999.00,9,  -999.0,9,  -999.0, -999.00,9,  -999.0,9, -999.00,9,     -999.0,9, 20190417,     1311, -68.1020,  30.3812,      25.00,     0.9627,2,      0.138,1,      0.064,1,      4.635,1
325020190403,       I06S,       8,          1,         25,         25,2,20190417,       1150,    -68.102,    30.3813,       3491,   404.6,   0.9649,  34.6837,2,  34.6866,2,    204.1,2,   204.3,2,    94.8,2,   31.61,2,    0.00,2,    2.16,2,   0.907,2,   0.496,2,   0.3653,2,  2253.0,2, 2347.41,2,   7.5838,2,    0.42,2,  -153.3,2,     1.7,    0.15,2,    39.2,2,   28.71,2,    23.1657,3, 20190417,     1313, -68.1020,  30.3812,      25.03,     0.9631,2,      0.136,1,      0.066,1,      4.641,1
325020190403,       I06S,       8,          1,         26,         26,2,20190417,       1150,    -68.102,    30.3813,       3491,   353.5,   0.9323,  34.6714,2,  34.6778,2,    205.4,2,   205.5,2,    92.9,2,   31.69,2,    0.00,2,    2.17,2,-999.000,9,-999.000,9,-999.0000,9,  -999.0,9, -999.00,9,-999.0000,9,    0.45,2,  -151.4,2,     1.7, -999.00,9,    38.1,2,   30.61,2,     -999.0,9, 20190417,     1315, -68.1020,  30.3812,     -999.0,     0.9311,2,      0.139,1,      0.068,1,      4.637,1
325020190403,       I06S,       8,          1,         27,         27,2,20190417,       1150,    -68.102,    30.3813,       3491,   303.3,   0.8319,  34.6528,2,   34.656,2,    208.8,2,   208.8,2,    90.9,2,   31.84,2,    0.00,2,    2.17,2,   1.282,2,   0.706,2,   0.7459,2,  2253.8,2, 2343.45,2,   7.5768,2, -999.00,9,  -999.0,9,  -999.0,    0.18,6,  -999.0,9, -999.00,9,    23.8346,3, 20190417,     1317, -68.1020,  30.3812,      25.00,     0.8312,2,      0.147,1,      0.066,1,      4.633,1
325020190403,       I06S,       8,          1,         28,         28,2,20190417,       1150,    -68.102,    30.3813,       3491,   253.2,   0.8157,  34.6397,2,  34.6442,2,    213.1,3,   208.0,2,    89.2,2,   32.08,2,    0.00,2,    2.19,2,-999.000,9,-999.000,9,-999.0000,9,  -999.0,9, -999.00,9,-999.0000,9,    0.30,4,  -149.2,2,     2.2, -999.00,9,    41.4,2,   31.66,2,     -999.0,9, 20190417,     1319, -68.1020,  30.3812,     -999.0,     0.8157,2,      0.151,1,      0.069,1,      4.631,1
325020190403,       I06S,       8,          1,         29,         29,2,20190417,       1150,    -68.102,    30.3813,       3491,   202.1,   0.4651,  34.5867,2,  34.5872,2,    225.9,3,   220.5,2,    84.2,2,   31.98,2,    0.01,2,    2.20,2,   2.011,2,   1.083,2,   1.0913,2,  2249.2,2, 2339.69,2,   7.5689,2, -999.00,9,  -999.0,9,  -999.0,    0.07,2,    43.7,2,   32.57,2,    24.2232,3, 20190417,     1321, -68.1020,  30.3812,      25.02,      0.435,2,      0.142,1,      0.076,1,      4.629,1
325020190403,       I06S,       8,          1,         30,         30,2,20190417,       1150,    -68.102,    30.3813,       3491,   151.8,  -0.6887,  34.4546,2,  34.4648,2,    261.6,2,   261.1,2,    73.3,2,   31.43,2,    0.02,2,    2.15,2,-999.000,9,-999.000,9,-999.0000,9,  -999.0,9, -999.00,9,-999.0000,9,    0.60,2,  -135.0,2,     2.8,   -0.04,2,  -999.0,9, -999.00,9,     -999.0,9, 20190417,     1324, -68.1020,  30.3812,     -999.0,    -0.6797,2,      0.150,1,      0.085,1,      4.624,1
325020190403,       I06S,       8,          1,         31,         31,2,20190417,       1150,    -68.102,    30.3813,       3491,   126.3,  -1.2961,  34.3936,2,  34.4001,2,    293.2,3,   286.1,2,    67.2,2,   30.84,2,    0.03,2,    2.11,2,   4.224,2,   2.279,2,   2.7805,2,  2231.4,2, 2327.51,2,   7.5904,2, -999.00,9,  -999.0,9,  -999.0,   -0.07,2,    43.6,2,   32.76,2,     22.014,3, 20190417,     1325, -68.1020,  30.3812,      25.02,     -1.291,2,      0.154,1,      0.095,1,      4.625,1
325020190403,       I06S,       8,          1,         32,         32,2,20190417,       1150,    -68.102,    30.3813,       3491,   101.6,  -1.6134,  34.3598,2,  34.3611,2,    301.9,2,   302.3,2,    62.4,2,   30.49,2,    0.05,2,    2.06,2,-999.000,9,-999.000,9,-999.0000,9,  -999.0,9, -999.00,9,-999.0000,9,    0.72,2,  -125.5,2,     1.7,   -0.15,2,    41.0,2,   32.64,2,     -999.0,9, 20190417,     1327, -68.1020,  30.3812,     -999.0,    -1.6205,2,      0.153,1,      0.110,1,      4.625,1
325020190403,       I06S,       8,          1,         33,         33,2,20190417,       1150,    -68.102,    30.3813,       3491,    76.1,  -1.6466,  34.3005,3,  34.3235,2,    320.9,3,   311.8,2,    59.2,2,   29.75,2,    0.19,2,    2.05,2,   5.000,2,   2.711,2,   3.3489,2,  2226.7,2, 2319.77,2,   7.6048,2, -999.00,9,  -999.0,9,  -999.0,   -0.16,2,  -999.0,9, -999.00,9,    21.0855,3, 20190417,     1328, -68.1020,  30.3812,      24.99,    -1.6473,2,      0.207,1,      0.217,1,      4.574,1
325020190403,       I06S,       8,          1,         34,         34,2,20190417,       1150,    -68.102,    30.3813,       3491,    50.9,  -1.4692,  34.0247,2,   34.035,2,    344.2,2,   346.5,2,    50.6,2,   27.00,2,    0.17,2,    1.78,2,-999.000,9,-999.000,9,-999.0000,9,  2193.1,2, 2306.54,2,   7.6577,2,    1.07,2,  -117.0,2,     1.8,   -0.13,2,    42.5,2,   30.33,2,     -999.0,9, 20190417,     1330, -68.1020,  30.3812,      25.03,    -1.4679,2,      0.242,1,      0.382,1,      4.526,1
325020190403,       I06S,       8,          1,         35,         35,2,20190417,       1150,    -68.102,    30.3813,       3491,    25.6,  -1.4936,  34.0198,2,  34.0256,2,    345.2,2,   347.2,2,    50.1,2,   26.91,2,    0.17,2,    1.76,2,   5.997,2,   3.218,2,   4.2264,2,  2192.5,2, 2303.13,2,   7.6577,2, -999.00,9,  -999.0,9,  -999.0,   -0.06,2,  -999.0,9, -999.00,9,    19.3188,3, 20190417,     1331, -68.1020,  30.3812,      25.03,    -1.4932,2,      0.248,1,      0.379,1,      4.514,1
325020190403,       I06S,       8,          1,         36,         36,2,20190417,       1150,    -68.102,    30.3813,       3491,     5.4,  -1.5202,  34.0174,2,   34.023,2,    345.1,2,   347.7,2,    50.4,2,   26.96,2,    0.18,2,    1.77,2,   5.994,2,   3.227,2,   4.1603,2,  2187.2,6, 2306.42,2,   7.6583,2,    1.12,2,  -117.7,2,     1.7,   -0.18,2,    45.1,2,   30.22,2,    19.2773,3, 20190417,     1333, -68.1020,  30.3812,      25.05,    -1.5103,2,      0.291,1,      0.370,1,      4.518,1