BOTTLE,20210804CCHSIOCBG
EXPOCODE,SECT_ID,STNNBR,CASTNO,SAMPNO,BTLNBR,BTLNBR_FLAG_W,DATE,TIME,LATITUDE,LONGITUDE,DEPTH,CTDPRS,CTDTMP,CTDSAL,CTDSAL_FLAG_W,SALNTY,SALNTY_FLAG_W,CTDOXY,CTDOXY_FLAG_W,OXYGEN,OXYGEN_FLAG_W,SILCAT,SILCAT_FLAG_W,NITRAT,NITRAT_FLAG_W,NITRIT,NITRIT_FLAG_W,PHSPHT,PHSPHT_FLAG_W,CFC-11,CFC-11_FLAG_W,CFC-12,CFC-12_FLAG_W,SF6,SF6_FLAG_W,TCARBN,TCARBN_FLAG_W,ALKALI,ALKALI_FLAG_W,PH_TOT,PH_TOT_FLAG_W,DELC13,DELC13_FLAG_W,DELC14,DELC14_FLAG_W,C14ERR,DELO18,DELO18_FLAG_W,DOC,DOC_FLAG_W,TDN,TDN_FLAG_W,N2O,N2O_FLAG_W,BTL_DATE,BTL_TIME,BTL_LAT,BTL_LON,PH_TMP,REFTMP,REFTMP_FLAG_W,CTDBACKSCATTER,CTDBACKSCATTER_FLAG_W,CTDFLUOR,CTDFLUOR_FLAG_W,CTDXMISS,CTDXMISS_FLAG_W
,,,,,,,,,,,METERS,DBAR,ITS-90,PSS-78,,PSS-78,,UMOL/KG,,UMOL/KG,,UMOL/KG,,UMOL/KG,,UMOL/KG,,UMOL/KG,,PMOL/KG,,PMOL/KG,,FMOL/KG,,UMOL/KG,,UMOL/KG,,,,/MILLE,,/MILLE,,/MILLE,/MILLE,,UMOL/KG,,UMOL/KG,,NMOL/KG,,,,,,DEG C,ITS-90,,VOLTS,,VOLTS,,VOLTS,
325020190403,       I06S,      22,          1,          1,          1,2,20190421,       0423,   -61.5002,    29.9997,       5210,  5314.5,  -0.2712,  34.6489,2,  34.6499,2,    244.1,2,   244.0,2,   134.9,2,   32.40,2,    0.00,2,    2.24,2,   0.774,2,   0.392,2,   0.2711,2,  2253.8,6, 2356.94,2,   7.6017,2,    0.53,2,  -152.8,2,     1.6,   -0.07,2,    38.0,2,   32.25,2,     -999.0,5, 20190421,      423, -61.5002,  29.9997,      25.09,    -0.2714,2,      0.145,1,      0.060,1,      4.617,1
325020190403,       I06S,      22,          1,          2,          2,2,20190421,       0423,   -61.5002,    29.9997,       5210,  5202.9,  -0.2721,  34.6495,2,  34.6493,2,    243.3,2,   243.7,2,   135.8,2,   32.38,2,    0.00,2,    2.25,2,   0.741,2,   0.374,2,   0.2511,2,  -999.0,9, -999.00,9,-999.0000,9,    0.51,2,  -152.0,2,     1.5,   -0.15,6,    38.8,2,   30.86,2,     -999.0,5, 20190421,      427, -61.5002,  29.9997,     -999.0,     -0.272,2,      0.134,1,      0.059,1,      4.623,1
325020190403,       I06S,      22,          1,          3,          3,2,20190421,       0423,   -61.5002,    29.9997,       5210,  5116.4,  -0.2654,  34.6502,2,  34.6503,2,    243.0,2,   243.2,2,   134.6,2,   32.40,2,    0.00,2,    2.25,2,   0.713,2,   0.361,2,   0.2488,2,  -999.0,5, 2350.79,2,   7.6014,2,    0.54,2,  -157.0,2,     1.7,   -0.15,2,  -999.0,9, -999.00,9,     -999.0,5, 20190421,      430, -61.5002,  29.9997,      25.04,    -0.2651,2,      0.127,1,      0.059,1,      4.629,1
325020190403,       I06S,      22,          1,          4,          4,2,20190421,       0423,   -61.5002,    29.9997,       5210,  4701.3,  -0.2496,  34.6525,2,  34.6523,2,    240.9,2,   241.2,2,   133.1,2,   32.41,2,    0.00,2,    2.26,2,-999.000,9,-999.000,9,-999.0000,9,  -999.0,9, -999.00,9,-999.0000,9,    0.58,2,  -156.9,2,     2.3,   -0.08,2,    38.7,2,   33.69,2,     -999.0,9, 20190421,      438, -61.5002,  29.9997,     -999.0,    -0.2495,2,      0.122,1,      0.059,1,      4.633,1
325020190403,       I06S,      22,          1,          5,          5,2,20190421,       0423,   -61.5002,    29.9997,       5210,  4291.4,  -0.2261,  34.6548,2,  34.6544,2,    238.3,2,   239.0,2,   130.6,2,   32.40,2,    0.00,2,    2.25,2,   0.696,6,   0.345,6,   0.2313,6,  2253.4,2, 2352.96,2,   7.5992,2,    0.66,2,  -152.9,2,     1.5, -999.00,9,    38.6,2,   34.43,2,     -999.0,5, 20190421,      445, -61.5002,  29.9997,      25.16,     -0.226,2,      0.122,1,      0.060,1,      4.636,1
325020190403,       I06S,      22,          1,          6,          6,2,20190421,       0423,   -61.5002,    29.9997,       5210,  3879.0,    -0.19,  34.6571,2,   34.657,2,    235.7,2,   236.1,2,   129.2,2,   32.42,2,    0.00,2,    2.26,2,-999.000,9,-999.000,9,-999.0000,9,  -999.0,9, -999.00,9,-999.0000,9,    0.61,2,  -154.7,2,     1.8,   -0.08,2,  -999.0,9, -999.00,9,     -999.0,9, 20190421,      452, -61.5002,  29.9997,     -999.0,      -0.19,2,      0.122,1,      0.060,1,      4.637,1
325020190403,       I06S,      22,          1,          7,          7,2,20190421,       0423,   -61.5002,    29.9997,       5210,  3572.2,  -0.1617,  34.6589,2,  34.6591,2,    233.7,2,   233.6,2,   129.0,2,   32.53,2,    0.00,2,    2.27,2,   0.663,2,   0.325,2,   0.1974,2,  2253.7,2, 2353.30,2,   7.5951,2,    0.60,2,  -152.4,2,     1.6, -999.00,9,    38.5,2,   31.07,2,     -999.0,5, 20190421,      459, -61.5002,  29.9997,      25.07,    -0.1615,2,      0.123,1,      0.059,1,      4.637,1
325020190403,       I06S,      22,          1,          8,          8,2,20190421,       0423,   -61.5002,    29.9997,       5210,  3263.9,  -0.1178,  34.6611,2,  34.6615,2,    230.3,2,   230.7,2,   129.0,2,   32.64,2,    0.00,2,    2.27,2,-999.000,9,-999.000,9,-999.0000,9,  -999.0,9, -999.00,9,-999.0000,9,    0.63,2,  -158.3,2,     1.7,   -0.06,2,    39.1,2,   34.55,2,     -999.0,9, 20190421,      505, -61.5002,  29.9997,     -999.0,    -0.1176,2,      0.122,1,      0.061,1,      4.637,1
325020190403,       I06S,      22,          1,          9,          9,2,20190421,       0423,   -61.5002,    29.9997,       5210,  2970.8,  -0.0667,  34.6637,2,   34.664,2,    226.8,2,   227.3,2,   129.1,2,   32.71,2,    0.00,2,    2.27,2,   0.590,2,   0.288,2,   0.1797,2,  2257.6,2, 2357.15,2,   7.5907,2,    0.56,2,  -158.2,2,     2.2, -999.00,9,  -999.0,9, -999.00,9,     -999.0,5, 20190421,      510, -61.5002,  29.9997,      25.07,    -0.0665,2,      0.122,1,      0.059,1,      4.637,1
325020190403,       I06S,      22,          1,         10,         10,2,20190421,       0423,   -61.5002,    29.9997,       5210,  2714.6,  -0.0074,  34.6664,2,  34.6668,2,    223.4,2,   223.9,2,   129.3,2,   32.75,2,    0.00,2,    2.27,2,-999.000,9,-999.000,9,-999.0000,9,  -999.0,9, -999.00,9,-999.0000,9,    0.58,2,  -158.8,2,     1.6,   -0.01,2,    38.4,2,   33.14,2,     -999.0,9, 20190421,      515, -61.5002,  29.9997,     -999.0,     -0.007,2,      0.122,1,      0.059,1,      4.637,1
325020190403,       I06S,      22,          1,         11,         11,2,20190421,       0423,   -61.5002,    29.9997,       5210,  2462.2,   0.0625,  34.6694,2,  34.6699,2,    219.1,2,   220.1,2,   128.2,2,   32.87,2,    0.00,2,    2.28,2,   0.524,2,   0.258,2,   0.2021,2,  -999.0,9, -999.00,9,-999.0000,9,    0.56,2,  -159.2,2,     1.6, -999.00,9,    38.4,2,   34.98,2,     -999.0,5, 20190421,      520, -61.5002,  29.9997,     -999.0,     0.0627,2,      0.123,1,      0.059,1,      4.637,1
325020190403,       I06S,      22,          1,         12,         12,2,20190421,       0423,   -61.5002,    29.9997,       5210,  2204.8,   0.1388,  34.6728,2,  34.6739,2,    214.7,2,   216.8,2,   128.0,2,   32.85,2,    0.00,2,    2.29,2,-999.000,9,-999.000,9,-999.0000,9,  -999.0,9, -999.00,9,-999.0000,9, -999.00,9,  -999.0,9,  -999.0,    0.01,2,  -999.0,9, -999.00,9,     -999.0,9, 20190421,      525, -61.5002,  29.9997,     -999.0,     0.1391,2,      0.125,1,      0.059,1,      4.637,1
325020190403,       I06S,      22,          1,         13,         13,2,20190421,       0423,   -61.5002,    29.9997,       5210,  1971.6,   0.2178,  34.6761,2,  34.6776,2,    212.8,2,   212.3,2,   126.9,2,   33.02,2,    0.00,2,    2.29,2,   0.471,2,   0.228,2,   0.1141,2,  2263.8,2, 2356.96,2,   7.5793,2,    0.44,2,  -161.6,2,     1.6, -999.00,9,    39.1,2,   32.74,2,     -999.0,5, 20190421,      530, -61.5002,  29.9997,      25.07,     0.2178,2,      0.123,1,      0.061,1,      4.638,1
325020190403,       I06S,      22,          1,         14,         14,2,20190421,       0423,   -61.5002,    29.9997,       5210,  1766.6,   0.2893,  34.6797,2,  34.6797,2,    209.2,2,   209.3,2,   126.2,2,   33.06,2,    0.00,2,    2.29,2,-999.000,9,-999.000,9,-999.0000,9,  -999.0,9, -999.00,9,-999.0000,9,    0.50,2,  -156.6,2,     1.6,    0.02,2,    37.6,2,   32.74,2,     -999.0,9, 20190421,      534, -61.5002,  29.9997,     -999.0,     0.2891,2,      0.124,1,      0.062,1,      4.637,1
325020190403,       I06S,      22,          1,         15,         15,2,20190421,       0423,   -61.5002,    29.9997,       5210,  1563.0,   0.3664,  34.6834,2,  34.6833,2,    207.0,2,   207.9,2,   124.9,2,   32.98,2,    0.00,2,    2.28,2,   0.473,2,   0.232,2,   0.1994,2,  2264.6,2, 2355.72,2,   7.5796,2,    0.45,2,  -158.6,2,     1.8, -999.00,9,  -999.0,9, -999.00,9,     -999.0,5, 20190421,      538, -61.5002,  29.9997,      25.08,     0.3662,2,      0.126,1,      0.061,1,      4.636,1
325020190403,       I06S,      22,          1,         16,         16,2,20190421,       0423,   -61.5002,    29.9997,       5210,  1390.4,   0.4298,  34.6861,2,  34.6862,2,    203.9,2,   205.0,2,   123.1,2,   32.98,2,    0.00,2,    2.29,2,-999.000,9,-999.000,9,-999.0000,9,  -999.0,9, -999.00,9,-999.0000,9,    0.48,2,  -154.0,2,     1.6,    0.08,2,    39.6,2,   34.48,2,     -999.0,9, 20190421,      542, -61.5002,  29.9997,     -999.0,     0.4296,2,      0.126,1,      0.060,1,      4.636,1
325020190403,       I06S,      22,          1,         17,         17,2,20190421,       0423,   -61.5002,    29.9997,       5210,  1289.6,   0.4668,  34.6873,2,  34.6876,2,    202.3,2,   203.2,2,   121.9,2,   32.99,2,    0.00,2,    2.29,2,   0.478,2,   0.232,2,   0.1783,2,  2265.8,2, 2353.32,2,   7.5745,2,    0.53,2,  -156.0,2,     2.0, -999.00,9,    38.5,2,   32.89,2,     -999.0,5, 20190421,      544, -61.5002,  29.9997,      25.11,     0.4662,2,      0.126,1,      0.059,1,      4.636,1
325020190403,       I06S,      22,          1,         18,         18,2,20190421,       0423,   -61.5002,    29.9997,       5210,  1187.9,   0.5116,   34.689,2,  34.6886,2,    201.3,2,   202.5,2,   120.4,2,   32.95,2,    0.00,2,    2.29,2,-999.000,9,-999.000,9,-999.0000,9,  -999.0,9, -999.00,9,-999.0000,9, -999.00,9,  -999.0,9,  -999.0,   -0.01,2,  -999.0,9, -999.00,9,     -999.0,9, 20190421,      547, -61.5002,  29.9997,     -999.0,     0.5116,2,      0.125,1,      0.061,1,      4.636,1
325020190403,       I06S,      22,          1,         19,         19,2,20190421,       0423,   -61.5002,    29.9997,       5210,  1086.0,   0.5613,  34.6906,2,  34.6915,2,    200.3,2,   201.1,2,   118.7,2,   32.86,2,    0.00,2,    2.28,2,   0.499,2,   0.251,2,   0.2178,2,  -999.0,9, -999.00,9,-999.0000,9,    0.41,2,  -158.9,2,     1.8, -999.00,9,    38.6,2,   33.77,2,     -999.0,5, 20190421,      550, -61.5002,  29.9997,     -999.0,     0.5613,2,      0.127,1,      0.060,1,      4.635,1
325020190403,       I06S,      22,          1,         20,         20,2,20190421,       0423,   -61.5002,    29.9997,       5210,   985.4,   0.6356,  34.6938,2,  34.6933,2,    200.1,2,   201.5,2,   116.5,2,   32.66,2,    0.00,2,    2.27,2,-999.000,9,-999.000,9,-999.0000,9,  -999.0,9, -999.00,9,-999.0000,9,    0.43,2,  -162.4,2,     1.8,    0.03,6,    35.8,3,   34.67,2,     -999.0,9, 20190421,      552, -61.5002,  29.9997,     -999.0,     0.6355,2,      0.126,1,      0.059,1,      4.631,1
325020190403,       I06S,      22,          1,         21,         21,2,20190421,       0423,   -61.5002,    29.9997,       5210,   882.9,    0.687,  34.6944,2,  34.6943,2,    199.5,2,   200.0,2,   115.0,2,   32.67,2,    0.00,2,    2.25,2,   0.521,2,   0.264,2,   0.2477,2,  2264.9,2, 2356.31,2,   7.5772,2,    0.45,2,  -157.6,2,     1.9, -999.00,9,  -999.0,9, -999.00,9,     -999.0,5, 20190421,      555, -61.5002,  29.9997,      25.03,      0.687,2,      0.130,1,      0.061,1,      4.629,1
325020190403,       I06S,      22,          1,         22,         22,2,20190421,       0423,   -61.5002,    29.9997,       5210,   781.2,   0.7723,  34.6978,2,  34.6974,2,    198.6,2,   199.6,2,   112.1,2,   32.37,2,    0.00,2,    2.23,2,-999.000,9,-999.000,9,-999.0000,9,  -999.0,9, -999.00,9,-999.0000,9,    0.44,2,  -155.7,2,     1.9,    0.01,2,    39.4,2,   34.16,2,     -999.0,9, 20190421,      558, -61.5002,  29.9997,     -999.0,     0.7724,2,      0.129,1,      0.060,1,      4.633,1
325020190403,       I06S,      22,          1,         23,         23,2,20190421,       0423,   -61.5002,    29.9997,       5210,   679.1,    0.893,  34.7027,2,  34.7027,2,    197.7,2,   199.1,2,   109.0,2,   32.22,2,    0.00,2,    2.20,2,   0.489,2,   0.246,2,   0.2314,2,  2260.6,2, 2353.54,2,   7.5845,2,    0.43,2,  -153.3,2,     1.9, -999.00,9,    38.8,2,   32.93,2,     -999.0,5, 20190421,      600, -61.5002,  29.9997,      25.10,     0.8914,2,      0.130,1,      0.060,1,      4.632,1
325020190403,       I06S,      22,          1,         24,         24,2,20190421,       0423,   -61.5002,    29.9997,       5210,   579.1,   1.0142,  34.7047,2,  34.7054,2,    197.2,2,   197.4,2,   105.4,2,   32.07,2,    0.00,2,    2.21,2,-999.000,9,-999.000,9,-999.0000,9,  -999.0,9, -999.00,9,-999.0000,9, -999.00,9,  -999.0,9,  -999.0,    0.07,2,  -999.0,9, -999.00,9,     -999.0,9, 20190421,      603, -61.5002,  29.9997,     -999.0,     1.0139,2,      0.131,1,      0.061,1,      4.632,1
325020190403,       I06S,      22,          1,         25,         25,2,20190421,       0423,   -61.5002,    29.9997,       5210,   477.9,   1.1121,  34.7005,2,  34.7005,2,    194.3,2,   194.8,2,   102.5,2,   32.15,2,    0.00,2,    2.21,2,   0.544,2,   0.282,2,   0.2687,2,  2258.4,2, 2354.87,2,   7.5795,2,    0.44,2,  -151.3,2,     2.0, -999.00,9,    38.2,2,   31.71,2,     -999.0,5, 20190421,      606, -61.5002,  29.9997,      25.13,     1.1116,2,      0.132,1,      0.062,1,      4.631,1
325020190403,       I06S,      22,          1,         26,         26,2,20190421,       0423,   -61.5002,    29.9997,       5210,   396.9,   1.2131,  34.6959,2,  34.6962,2,    192.4,2,   192.4,2,    99.5,2,   32.26,2,    0.00,2,    2.21,2,-999.000,9,-999.000,9,-999.0000,9,  -999.0,9, -999.00,9,-999.0000,9,    0.40,2,  -158.1,2,     2.4,    0.07,2,    37.7,2,   32.52,2,     -999.0,9, 20190421,      608, -61.5002,  29.9997,     -999.0,     1.2128,2,      0.133,1,      0.061,1,      4.632,1
325020190403,       I06S,      22,          1,         27,         27,2,20190421,       0423,   -61.5002,    29.9997,       5210,   345.9,   1.2856,  34.6915,2,  34.6784,2,    190.5,2,   190.8,2,    97.7,2,   32.35,2,    0.00,2,    2.21,2,   0.609,2,   0.323,2,   0.3106,2,  2259.6,2, 2352.23,2,   7.5743,2,    0.37,2,  -147.0,2,     2.0, -999.00,9,  -999.0,9, -999.00,9,     -999.0,5, 20190421,      610, -61.5002,  29.9997,      25.11,     1.2847,2,      0.133,1,      0.062,1,      4.628,1
325020190403,       I06S,      22,          1,         28,         28,2,20190421,       0423,   -61.5002,    29.9997,       5210,   295.3,    1.313,  34.6746,3,   34.648,3,    189.3,2,   189.3,2,    95.9,2,   32.57,2,    0.00,2,    2.23,2,-999.000,9,-999.000,9,-999.0000,9,  2260.1,6, 2350.36,2,   7.5673,2,    0.33,2,  -153.5,2,     2.2,     0.1,2,    38.0,2,   31.72,2,     -999.0,9, 20190421,      612, -61.5002,  29.9997,      25.10,     1.3121,2,      0.138,1,      0.061,1,      4.625,1
325020190403,       I06S,      22,          1,         29,         29,2,20190421,       0423,   -61.5002,    29.9997,       5210,   244.8,   1.2441,  34.6473,2,  34.6327,2,    189.8,2,   190.0,2,    94.1,2,   33.05,2,    0.00,2,    2.25,2,   0.961,2,   0.511,2,   0.4785,2,  2261.6,2, 2344.14,2,   7.5575,2,    0.33,2,  -153.9,2,     1.9,    0.01,2,    38.1,2,   32.39,2,     -999.0,5, 20190421,      614, -61.5002,  29.9997,      25.04,     1.2496,2,      0.137,1,      0.062,1,      4.623,1
325020190403,       I06S,      22,          1,         30,         30,2,20190421,       0423,   -61.5002,    29.9997,       5210,   194.4,   1.4008,  34.6321,2,  34.6372,2,    191.9,3,   186.1,2,    91.0,2,   33.42,2,    0.00,2,    2.27,2,-999.000,9,-999.000,9,-999.0000,9,  -999.0,9, -999.00,9,-999.0000,9, -999.00,9,  -999.0,9,  -999.0,    0.08,2,  -999.0,9, -999.00,9,     -999.0,9, 20190421,      615, -61.5002,  29.9997,     -999.0,     1.4051,2,      0.140,1,      0.062,1,      4.618,1
325020190403,       I06S,      22,          1,         31,         31,2,20190421,       0423,   -61.5002,    29.9997,       5210,   143.8,   0.8416,  34.4881,2,  34.4962,2,    225.4,3,   211.9,2,    83.3,2,   33.62,2,    0.01,2,    2.29,2,   2.341,2,   1.186,2,   1.2049,2,  2254.6,2, 2338.38,2,   7.5435,2,    0.38,2,  -137.8,2,     2.9,     0.0,2,    40.0,2,   33.88,2,     -999.0,5, 20190421,      617, -61.5002,  29.9997,      25.09,     0.8404,2,      0.141,1,      0.071,1,      4.615,1
325020190403,       I06S,      22,          1,         32,         32,2,20190421,       0423,   -61.5002,    29.9997,       5210,    98.0,  -0.8304,  34.1976,2,  34.1974,2,    309.4,3,   299.3,2,    64.3,2,   29.87,2,    0.28,2,    2.07,2,-999.000,9,-999.000,9,-999.0000,9,  -999.0,9, -999.00,9,-999.0000,9,    0.81,2,  -122.4,2,     2.1,   -0.12,2,    38.9,2,   29.71,2,     -999.0,9, 20190421,      619, -61.5002,  29.9997,     -999.0,    -0.8329,2,      0.152,1,      0.120,1,      4.599,1
325020190403,       I06S,      22,          1,         33,         33,2,20190421,       0423,   -61.5002,    29.9997,       5210,    73.5,   0.1188,  33.8198,2,  33.8077,2,    336.9,2,   336.0,2,    41.9,2,   24.42,2,    0.26,2,    1.71,2,   5.768,2,   3.041,2,   3.9991,2,  2174.3,2, 2297.14,2,   7.6793,2,    1.27,2,  -109.5,2,     1.9,   -0.23,2,  -999.0,9, -999.00,9,     -999.0,5, 20190421,      621, -61.5002,  29.9997,      25.06,     0.1409,3,      0.170,1,      0.160,1,      4.565,1
325020190403,       I06S,      22,          1,         34,         34,2,20190421,       0423,   -61.5002,    29.9997,       5210,    48.2,   0.3077,  33.7837,2,  33.7845,2,    336.3,2,   336.9,2,    40.5,2,   24.08,2,    0.25,2,    1.66,2,-999.000,9,-999.000,9,-999.0000,9,  -999.0,9, -999.00,9,-999.0000,9,    1.32,2,  -112.3,2,     2.4,   -0.28,6,    39.1,2,   26.55,2,     -999.0,9, 20190421,      622, -61.5002,  29.9997,     -999.0,     0.3073,2,      0.177,1,      0.152,1,      4.563,1
325020190403,       I06S,      22,          1,         35,         35,2,20190421,       0423,   -61.5002,    29.9997,       5210,    28.3,   0.3211,  33.7798,2,  33.7802,2,    335.9,2,   336.8,2,    40.4,2,   24.01,2,    0.25,2,    1.63,2,   5.747,2,   3.040,2,   3.9606,2,  2169.8,2, 2296.84,2,   7.6851,2,    1.30,2,  -104.8,2,     2.1,   -0.29,2,  -999.0,9, -999.00,9,     -999.0,5, 20190421,      623, -61.5002,  29.9997,      25.11,     0.3201,2,      0.170,1,      0.147,1,      4.564,1
325020190403,       I06S,      22,          1,         36,         36,2,20190421,       0423,   -61.5002,    29.9997,       5210,    13.0,   0.3199,  33.7665,2,  33.7673,2,    336.0,2,   337.2,2,    40.4,2,   23.95,2,    0.26,2,    1.63,2,   5.816,2,   3.069,2,   4.0475,2,  2167.0,6, 2292.35,2,   7.6878,3,    1.35,2,  -112.0,2,     1.8,   -0.32,2,    40.2,2,   22.52,2,     -999.0,5, 20190421,      625, -61.5002,  29.9997,      24.36,     0.3195,2,      0.163,1,      0.126,1,      4.573,1