BOTTLE,20210804CCHSIOCBG
EXPOCODE,SECT_ID,STNNBR,CASTNO,SAMPNO,BTLNBR,BTLNBR_FLAG_W,DATE,TIME,LATITUDE,LONGITUDE,DEPTH,CTDPRS,CTDTMP,CTDSAL,CTDSAL_FLAG_W,SALNTY,SALNTY_FLAG_W,CTDOXY,CTDOXY_FLAG_W,OXYGEN,OXYGEN_FLAG_W,SILCAT,SILCAT_FLAG_W,NITRAT,NITRAT_FLAG_W,NITRIT,NITRIT_FLAG_W,PHSPHT,PHSPHT_FLAG_W,CFC-11,CFC-11_FLAG_W,CFC-12,CFC-12_FLAG_W,SF6,SF6_FLAG_W,TCARBN,TCARBN_FLAG_W,ALKALI,ALKALI_FLAG_W,PH_TOT,PH_TOT_FLAG_W,DELC13,DELC13_FLAG_W,DELC14,DELC14_FLAG_W,C14ERR,DELO18,DELO18_FLAG_W,DOC,DOC_FLAG_W,TDN,TDN_FLAG_W,N2O,N2O_FLAG_W,BTL_DATE,BTL_TIME,BTL_LAT,BTL_LON,PH_TMP,REFTMP,REFTMP_FLAG_W,CTDBACKSCATTER,CTDBACKSCATTER_FLAG_W,CTDFLUOR,CTDFLUOR_FLAG_W,CTDXMISS,CTDXMISS_FLAG_W
,,,,,,,,,,,METERS,DBAR,ITS-90,PSS-78,,PSS-78,,UMOL/KG,,UMOL/KG,,UMOL/KG,,UMOL/KG,,UMOL/KG,,UMOL/KG,,PMOL/KG,,PMOL/KG,,FMOL/KG,,UMOL/KG,,UMOL/KG,,,,/MILLE,,/MILLE,,/MILLE,/MILLE,,UMOL/KG,,UMOL/KG,,NMOL/KG,,,,,,DEG C,ITS-90,,VOLTS,,VOLTS,,VOLTS,
325020190403,       I06S,      19,          1,          1,          1,2,20190420,       0633,   -63.0004,    29.9997,       5163,  5257.8,   -0.275,  34.6501,2,  34.6487,2,    245.4,2,   243.6,2,   135.9,2,   32.26,2,    0.00,2,    2.23,2,   0.838,2,   0.421,2,   0.2706,2,  2253.3,6, 2360.76,2,   7.6221,2, -999.00,9,  -999.0,9,  -999.0,   -0.03,2,    37.5,2,   29.71,2,    41.6883,3, 20190420,      633, -63.0003,  29.9997,      25.08,    -0.2749,2,      0.142,1,      0.061,1,      4.623,1
325020190403,       I06S,      19,          1,          2,          2,2,20190420,       0633,   -63.0004,    29.9997,       5163,  5113.2,  -0.2748,  34.6509,2,  34.6497,2,    243.8,2,   244.5,2,   133.7,2,   32.16,2,    0.00,2,    2.22,2,   0.806,2,   0.403,2,   0.2320,2,  -999.0,9, -999.00,9,-999.0000,9, -999.00,9,  -999.0,9,  -999.0,    0.03,2,    38.0,2,   30.50,2,    40.8996,3, 20190420,      637, -63.0004,  29.9997,     -999.0,    -0.2745,2,      0.127,1,      0.062,1,      4.633,1
325020190403,       I06S,      19,          1,          3,          3,2,20190420,       0633,   -63.0004,    29.9997,       5163,  4954.5,  -0.2652,  34.6519,2,  34.6507,2,    243.1,2,   242.9,2,   130.7,2,   32.19,2,    0.00,2,    2.22,2,   0.767,2,   0.386,2,   0.1997,2,  2252.1,2, 2360.91,2,   7.6013,2, -999.00,9,  -999.0,9,  -999.0,    0.12,2,  -999.0,9, -999.00,9,    39.3745,3, 20190420,      641, -63.0003,  29.9997,      25.08,    -0.2651,2,      0.123,1,      0.060,1,      4.636,1
325020190403,       I06S,      19,          1,          4,          4,2,20190420,       0633,   -63.0004,    29.9997,       5163,  4335.4,  -0.2373,  34.6553,2,  34.6544,2,    238.7,2,   239.7,2,   130.2,2,   32.33,2,    0.00,2,    2.23,2,   0.712,2,   0.359,2,   0.2343,2,  -999.0,9, -999.00,9,-999.0000,9, -999.00,9,  -999.0,9,  -999.0,    0.12,6,    38.1,2,   32.45,2,    36.1523,3, 20190420,      652, -63.0003,  29.9997,     -999.0,    -0.2374,2,      0.122,1,      0.061,1,      4.640,1
325020190403,       I06S,      19,          1,          5,          5,2,20190420,       0633,   -63.0004,    29.9997,       5163,  3923.9,  -0.1996,  34.6577,2,  34.6566,2,    236.0,2,   236.7,2,   128.9,2,   32.37,2,    0.00,2,    2.23,2,   0.696,2,   0.351,2,   0.2311,2,  2253.2,2, 2360.36,3,   7.5976,2, -999.00,9,  -999.0,9,  -999.0,     0.1,2,    37.9,2,   30.90,2,    34.4258,3, 20190420,      700, -63.0003,  29.9997,      25.08,    -0.1995,2,      0.131,1,      0.060,1,      4.641,1
325020190403,       I06S,      19,          1,          6,          6,2,20190420,       0633,   -63.0004,    29.9997,       5163,  3512.5,  -0.1561,  34.6603,2,  34.6593,2,    233.3,2,   233.2,2,   128.6,2,   32.38,2,    0.00,2,    2.24,2,   0.659,2,   0.334,2,   0.2346,2,  -999.0,9, -999.00,9,-999.0000,9, -999.00,9,  -999.0,9,  -999.0,     0.0,2,  -999.0,9, -999.00,9,    32.5459,3, 20190420,      708, -63.0004,  29.9997,     -999.0,    -0.1557,2,      0.122,1,      0.060,1,      4.641,1
325020190403,       I06S,      19,          1,          7,          7,2,20190420,       0633,   -63.0004,    29.9997,       5163,  3103.4,  -0.0947,  34.6633,2,  34.6623,2,    228.7,3,   232.1,2,   128.2,2,   32.47,2,    0.00,2,    2.24,2,   0.620,2,   0.315,2,   0.2200,2,  2258.2,2, 2357.36,2,   7.5917,2, -999.00,9,  -999.0,9,  -999.0,    0.07,2,    37.8,2,   32.11,2,     -999.0,5, 20190420,      715, -63.0003,  29.9997,      25.09,    -0.0947,2,      0.122,1,      0.061,1,      4.641,1
325020190403,       I06S,      19,          1,          8,          8,2,20190420,       0633,   -63.0004,    29.9997,       5163,  2708.8,  -0.0146,  34.6671,2,   34.666,2,    223.6,2,   224.2,2,   128.6,2,   32.65,2,    0.00,2,    2.25,2,   0.560,2,   0.281,2,   0.1533,2,  -999.0,9, -999.00,9,-999.0000,9, -999.00,9,  -999.0,9,  -999.0,    0.12,2,    38.7,2,   29.99,2,    34.9448,3, 20190420,      723, -63.0004,  29.9997,     -999.0,    -0.0145,2,      0.122,1,      0.060,1,      4.642,1
325020190403,       I06S,      19,          1,          9,          9,2,20190420,       0633,   -63.0004,    29.9997,       5163,  2451.8,   0.0584,  34.6707,2,  34.6707,2,    219.4,2,   220.4,2,   128.2,2,   32.61,2,    0.00,2,    2.25,2,   0.519,2,   0.260,2,   0.1586,2,  2260.9,2, 2358.59,2,   7.5862,2, -999.00,9,  -999.0,9,  -999.0,    0.16,2,  -999.0,9, -999.00,9,     -999.0,5, 20190420,      729, -63.0003,  29.9997,      25.08,     0.0582,2,      0.124,1,      0.061,1,      4.642,1
325020190403,       I06S,      19,          1,         10,         10,2,20190420,       0633,   -63.0004,    29.9997,       5163,  2197.8,   0.1443,  34.6744,2,  34.6733,2,    215.9,2,   216.5,2,   127.8,2,   32.75,2,    0.00,2,    2.26,2,   0.505,2,   0.251,2,   0.1859,2,  2262.0,2, 2360.95,2,   7.5834,2, -999.00,9,  -999.0,9,  -999.0,    0.12,2,    39.1,2,   30.89,2,     -999.0,5, 20190420,      734, -63.0004,  29.9997,      25.08,     0.1446,2,      0.123,1,      0.061,1,      4.642,1
325020190403,       I06S,      19,          1,         11,         11,2,20190420,       0633,   -63.0004,    29.9997,       5163,  1962.5,   0.2218,   34.678,2,   34.677,2,    212.6,2,   213.1,2,   127.3,2,   32.75,2,    0.00,2,    2.27,2,   0.488,2,   0.244,2,   0.1816,2,  2263.8,2, 2359.22,2,   7.5816,2, -999.00,9,  -999.0,9,  -999.0,    0.11,2,    39.4,2,   30.09,2,     -999.0,5, 20190420,      739, -63.0003,  29.9997,      25.08,     0.2218,2,      0.124,1,      0.062,1,      4.643,1
325020190403,       I06S,      19,          1,         12,         12,2,20190420,       0633,   -63.0004,    29.9997,       5163,  1759.7,    0.293,  34.6841,2,  34.6825,3,    208.5,2,   210.0,2,   125.8,2,   32.74,2,    0.00,2,    2.26,2,   0.476,2,   0.238,2,   0.1445,2,  2264.9,2, 2359.91,2,   7.5796,2, -999.00,9,  -999.0,9,  -999.0, -999.00,9,  -999.0,9, -999.00,9,     -999.0,5, 20190420,      743, -63.0003,  29.9997,      25.09,     0.2932,2,      0.124,1,      0.062,1,      4.642,1
325020190403,       I06S,      19,          1,         13,         13,2,20190420,       0633,   -63.0004,    29.9997,       5163,  1556.0,   0.3736,  34.6848,2,  34.6845,2,    206.8,2,   207.1,2,   124.1,2,   32.73,2,    0.00,2,    2.26,2,   0.471,2,   0.235,2,   0.1943,2,  2266.2,2, 2365.41,3,   7.5786,2, -999.00,9,  -999.0,9,  -999.0,     0.2,2,    40.2,2,   34.38,2,     -999.0,5, 20190420,      748, -63.0004,  29.9997,      25.09,     0.3735,2,      0.126,1,      0.060,1,      4.642,1
325020190403,       I06S,      19,          1,         14,         14,2,20190420,       0633,   -63.0004,    29.9997,       5163,  1382.6,   0.4554,  34.6885,2,  34.6874,2,    204.5,2,   205.0,2,   121.9,2,   32.72,2,    0.00,2,    2.25,2,   0.471,2,   0.241,2,   0.1661,2,  2264.3,2, 2361.97,2,   7.5780,2, -999.00,9,  -999.0,9,  -999.0, -999.00,9,    38.2,2,   32.27,2,     -999.0,5, 20190420,      752, -63.0003,  29.9997,      25.07,      0.455,2,      0.125,1,      0.061,1,      4.642,1
325020190403,       I06S,      19,          1,         15,         15,2,20190420,       0633,   -63.0004,    29.9997,       5163,  1281.8,   0.4986,  34.6901,2,  34.6898,2,    203.2,2,   204.7,2,   119.9,2,   32.66,2,    0.00,2,    2.24,2,   0.483,2,   0.242,2,   0.1529,2,  2265.5,2, 2362.53,2,   7.5783,2, -999.00,9,  -999.0,9,  -999.0,    0.08,2,  -999.0,9, -999.00,9,     -999.0,5, 20190420,      754, -63.0004,  29.9997,      25.06,     0.4985,2,      0.126,1,      0.062,1,      4.644,1
325020190403,       I06S,      19,          1,         16,         16,2,20190420,       0633,   -63.0004,    29.9997,       5163,  1178.5,   0.5532,  34.6926,2,  34.6925,2,    202.3,2,   203.4,2,   118.6,2,   32.53,2,    0.00,2,    2.24,2,   0.478,2,   0.243,2,   0.1335,2,  2263.7,6, 2359.62,2,   7.5791,2, -999.00,9,  -999.0,9,  -999.0, -999.00,9,    37.1,2,   30.84,2,     -999.0,5, 20190420,      757, -63.0003,  29.9997,      25.08,     0.5531,2,      0.126,1,      0.062,1,      4.641,1
325020190403,       I06S,      19,          1,         17,         17,2,20190420,       0633,   -63.0004,    29.9997,       5163,  1078.4,   0.6173,  34.6954,2,   34.695,2,    202.1,2,   202.6,2,   116.9,2,   32.39,2,    0.00,2,    2.22,2,   0.482,2,   0.247,2,   0.2128,2,  2263.4,2, 2360.56,2,   7.5816,2, -999.00,9,  -999.0,9,  -999.0,    0.05,6,    40.5,2,   32.66,2,     -999.0,5, 20190420,      800, -63.0003,  29.9997,      25.06,     0.6169,2,      0.127,1,      0.062,1,      4.642,1
325020190403,       I06S,      19,          1,         18,         18,2,20190420,       0633,   -63.0004,    29.9997,       5163,   976.9,   0.6788,  34.6971,2,  34.6964,2,    201.0,2,   201.5,2,   115.2,2,   32.46,2,    0.00,2,    2.20,2,   0.491,2,   0.253,2,   0.1631,2,  2265.3,2, 2363.83,2,   7.5812,2, -999.00,9,  -999.0,9,  -999.0, -999.00,9,  -999.0,9, -999.00,9,     -999.0,5, 20190420,      802, -63.0004,  29.9997,      25.06,     0.6794,2,      0.130,1,      0.061,1,      4.639,1
325020190403,       I06S,      19,          1,         19,         19,2,20190420,       0633,   -63.0004,    29.9997,       5163,   875.8,    0.764,  34.7014,2,  34.7003,2,    200.3,2,   201.7,2,   112.5,2,   32.15,2,    0.00,2,    2.19,2,   0.481,2,   0.250,2,   0.1656,2,  2261.1,2, 2361.40,2,   7.5845,2, -999.00,9,  -999.0,9,  -999.0,    0.12,2,    39.1,2,   30.82,2,     -999.0,5, 20190420,      805, -63.0003,  29.9997,      25.06,     0.7639,2,      0.127,1,      0.062,1,      4.638,1
325020190403,       I06S,      19,          1,         20,         20,2,20190420,       0633,   -63.0004,    29.9997,       5163,   774.4,   0.8448,  34.7032,2,  34.7023,2,    199.6,2,   199.7,2,   110.3,2,   32.20,2,    0.00,2,    2.19,2,   0.483,2,   0.253,2,   0.1953,2,  2262.6,2, 2361.83,2,   7.5841,2, -999.00,9,  -999.0,9,  -999.0, -999.00,9,    37.2,2,   30.16,2,     -999.0,5, 20190420,      808, -63.0003,  29.9997,      25.07,     0.8444,2,      0.132,1,      0.062,1,      4.637,1
325020190403,       I06S,      19,          1,         21,         21,2,20190420,       0633,   -63.0004,    29.9997,       5163,   672.2,   0.9478,  34.7057,2,  34.7031,2,    198.0,2,   198.4,2,   107.0,2,   31.96,2,    0.00,2,    2.17,2,   0.492,2,   0.260,2,   0.2532,2,  2259.9,2, 2358.47,2,   7.5843,2, -999.00,9,  -999.0,9,  -999.0,    0.11,2,  -999.0,9, -999.00,9,     -999.0,5, 20190420,      811, -63.0003,  29.9997,      25.07,     0.9486,2,      0.132,1,      0.062,1,      4.637,1
325020190403,       I06S,      19,          1,         22,         22,2,20190420,       0633,   -63.0004,    29.9997,       5163,   571.1,   1.0899,  34.7099,2,   34.709,2,    196.1,2,   196.3,2,   102.6,2,   31.78,2,    0.00,2,    2.16,2,   0.475,2,   0.248,2,   0.2064,2,  2260.6,2, 2355.85,2,   7.5845,2, -999.00,9,  -999.0,9,  -999.0, -999.00,9,    39.2,2,   32.08,2,     -999.0,5, 20190420,      814, -63.0004,  29.9997,      25.08,     1.0893,2,      0.133,1,      0.062,1,      4.636,1
325020190403,       I06S,      19,          1,         23,         23,2,20190420,       0633,   -63.0004,    29.9997,       5163,   470.1,   1.2277,  34.7104,2,  34.7078,2,    193.7,2,   194.4,2,   100.8,2,   31.78,2,    0.00,2,    2.16,2,   0.494,2,   0.259,2,   0.2834,2,  2258.8,2, 2352.72,2,   7.5825,2, -999.00,9,  -999.0,9,  -999.0,    0.13,2,    37.6,2,   29.65,2,     -999.0,5, 20190420,      816, -63.0004,  29.9997,      25.08,     1.2265,2,      0.133,1,      0.061,1,      4.638,1
325020190403,       I06S,      19,          1,         24,         24,2,20190420,       0633,   -63.0004,    29.9997,       5163,   390.0,   1.3317,  34.7058,2,  34.7045,2,    191.7,2,   190.6,2,    97.9,2,   31.95,2,    0.00,2,    2.16,2,   0.512,2,   0.270,2,   0.1863,2,  2258.6,2, 2353.50,2,   7.5787,2, -999.00,9,  -999.0,9,  -999.0, -999.00,9,  -999.0,9, -999.00,9,     -999.0,5, 20190420,      819, -63.0004,  29.9997,      25.05,     1.3305,2,      0.133,1,      0.062,1,      4.637,1
325020190403,       I06S,      19,          1,         25,         25,2,20190420,       0633,   -63.0004,    29.9997,       5163,   337.6,   1.3811,  34.7001,2,  34.6984,2,    189.3,2,   188.3,2,    96.3,2,   32.25,2,    0.00,2,    2.17,2,   0.549,2,   0.297,2,   0.2280,2,  2259.4,2, 2348.89,2,   7.5734,2, -999.00,9,  -999.0,9,  -999.0,    0.42,6,    37.0,2,   29.25,2,     -999.0,5, 20190420,      821, -63.0003,  29.9997,      25.05,     1.3812,2,      0.138,1,      0.062,1,      4.634,1
325020190403,       I06S,      19,          1,         26,         26,2,20190420,       0633,   -63.0004,    29.9997,       5163,   287.9,   1.3242,  34.6788,2,  34.6788,2,    187.7,2,   188.7,2,    96.0,2,   32.68,2,    0.00,2,    2.19,2,   0.701,2,   0.383,2,   0.3551,2,  2260.3,2, 2355.25,2,   7.5662,2, -999.00,9,  -999.0,9,  -999.0, -999.00,9,    38.2,2,   29.92,2,     -999.0,5, 20190420,      823, -63.0003,  29.9997,      25.06,     1.3233,2,      0.138,1,      0.063,1,      4.627,1
325020190403,       I06S,      19,          1,         27,         27,2,20190420,       0633,   -63.0004,    29.9997,       5163,   237.2,   1.3647,  34.6616,2,  34.6611,2,    184.8,2,   185.5,2,    93.8,2,   32.92,2,    0.00,2,    2.22,2,   0.821,2,   0.453,2,   0.3839,2,  2262.3,2, 2344.49,2,   7.5553,2, -999.00,9,  -999.0,9,  -999.0,     0.2,2,  -999.0,9, -999.00,9,     -999.0,5, 20190420,      824, -63.0003,  29.9997,      25.05,     1.3642,2,      0.149,1,      0.062,1,      4.620,1
325020190403,       I06S,      19,          1,         28,         28,2,20190420,       0633,   -63.0004,    29.9997,       5163,   186.8,   1.2519,  34.6195,2,  34.6197,2,    190.0,2,   188.7,2,    91.2,2,   33.38,2,    0.00,2,    2.25,2,   1.184,2,   0.677,2,-999.0000,5,  2261.4,2, 2346.23,2,   7.5469,2, -999.00,9,  -999.0,9,  -999.0, -999.00,9,    39.6,2,   33.32,2,     -999.0,5, 20190420,      826, -63.0003,  29.9997,      25.05,     1.2536,2,      0.146,1,      0.063,1,      4.621,1
325020190403,       I06S,      19,          1,         29,         29,2,20190420,       0633,   -63.0004,    29.9997,       5163,   135.5,   0.9208,  34.5242,2,  34.5183,2,    212.6,3,   206.7,2,    84.6,2,   33.63,2,    0.00,2,    2.26,2,   2.089,2,   1.088,2,   1.0490,2,  2254.1,2, 2333.91,2,   7.5426,2, -999.00,9,  -999.0,9,  -999.0,    0.36,6,    41.5,2,   34.32,2,     -999.0,5, 20190420,      828, -63.0004,  29.9996,      25.04,     0.9176,2,      0.149,1,      0.070,1,      4.619,1
325020190403,       I06S,      19,          1,         30,         30,2,20190420,       0633,   -63.0004,    29.9997,       5163,    93.2,  -0.5664,  34.2635,2,  34.2606,2,    293.3,3,   284.7,2,    65.3,2,   30.45,2,    0.21,2,    2.07,2,   4.445,2,   2.367,2,   2.6873,2,  2225.4,2, 2318.79,2,   7.5918,2, -999.00,9,  -999.0,9,  -999.0, -999.00,9,  -999.0,9, -999.00,9,     -999.0,5, 20190420,      829, -63.0003,  29.9997,      25.06,    -0.5616,2,      0.179,1,      0.142,1,      4.593,1
325020190403,       I06S,      19,          1,         31,         31,2,20190420,       0633,   -63.0004,    29.9997,       5163,    63.2,  -1.2918,  34.1192,2,  34.1091,2,    333.0,3,   324.5,2,    53.0,2,   27.55,2,    0.25,2,    1.92,2,   5.441,2,   2.901,2,   3.4361,2,  2206.2,2, 2312.26,2,   7.6320,2, -999.00,9,  -999.0,9,  -999.0,    0.05,2,    41.0,2,   34.05,2,     -999.0,5, 20190420,      831, -63.0003,  29.9996,      25.06,    -1.2796,2,      0.177,1,      0.196,1,      4.575,1
325020190403,       I06S,      19,          1,         32,         32,2,20190420,       0633,   -63.0004,    29.9997,       5163,    63.2,  -1.2894,  34.1254,3,-999.0000,9,    331.1,3,  -999.0,9,    53.0,2,   27.55,2,    0.25,2,    1.93,2,-999.000,9,-999.000,9,-999.0000,9,  -999.0,9, -999.00,9,-999.0000,9, -999.00,9,  -999.0,9,  -999.0, -999.00,9,    41.7,2,   24.68,2,     -999.0,9, 20190420,      831, -63.0003,  29.9997,     -999.0,     -999.0,9,      0.194,1,      0.193,1,      4.574,1
325020190403,       I06S,      19,          1,         33,         33,2,20190420,       0633,   -63.0004,    29.9997,       5163,    40.1,   0.0485,  33.8212,2,  33.8232,2,    337.9,2,   337.8,2,    39.0,2,   24.15,2,    0.25,2,    1.65,2,   5.737,2,   3.079,2,   3.9043,2,  2171.2,2, 2299.86,2,   7.6807,2, -999.00,9,  -999.0,9,  -999.0,   -0.26,2,  -999.0,9, -999.00,9,     -999.0,5, 20190420,      834, -63.0004,  29.9997,      25.05,     0.0479,2,      0.174,1,      0.146,1,      4.568,1
325020190403,       I06S,      19,          1,         34,         34,2,20190420,       0633,   -63.0004,    29.9997,       5163,    19.6,   0.0486,  33.8227,2,  33.8232,2,    337.2,2,   337.8,2,    39.1,2,   24.22,2,    0.25,2,    1.65,2,   5.735,2,   3.057,2,   3.8342,2,  2173.8,2, 2298.62,2,   7.6808,2, -999.00,9,  -999.0,9,  -999.0,    -0.1,2,    41.7,2,   25.97,2,     -999.0,5, 20190420,      835, -63.0004,  29.9997,      25.06,     0.0478,2,      0.182,1,      0.144,1,      4.567,1
325020190403,       I06S,      19,          1,         35,         35,2,20190420,       0633,   -63.0004,    29.9997,       5163,     5.4,   0.0477,  33.8213,2,  33.8234,2,    336.4,2,   337.4,2,    39.1,2,   23.87,2,    0.25,2,    1.63,2,   5.734,2,   3.087,2,   3.9373,2,  2172.2,6, 2298.15,2,   7.6817,2, -999.00,9,  -999.0,9,  -999.0,   -0.22,6,    41.0,2,   24.91,2,     -999.0,5, 20190420,      839, -63.0003,  29.9997,      25.05,     0.0473,2,      0.173,1,      0.134,1,      4.555,1
325020190403,       I06S,      19,          1,         36,         36,2,20190420,       0633,   -63.0004,    29.9997,       5163,     5.5,   0.0477,  33.8209,3,-999.0000,9,    336.5,3,  -999.0,9,    39.1,2,   24.01,2,    0.24,2,    1.63,2,-999.000,9,-999.000,9,-999.0000,9,  -999.0,9, -999.00,9,-999.0000,9, -999.00,9,  -999.0,9,  -999.0, -999.00,9,  -999.0,9, -999.00,9,     -999.0,9, 20190420,      839, -63.0003,  29.9997,     -999.0,     -999.0,9,      0.181,1,      0.132,1,      4.566,1