BOTTLE,20210804CCHSIOCBG
EXPOCODE,SECT_ID,STNNBR,CASTNO,SAMPNO,BTLNBR,BTLNBR_FLAG_W,DATE,TIME,LATITUDE,LONGITUDE,DEPTH,CTDPRS,CTDTMP,CTDSAL,CTDSAL_FLAG_W,SALNTY,SALNTY_FLAG_W,CTDOXY,CTDOXY_FLAG_W,OXYGEN,OXYGEN_FLAG_W,SILCAT,SILCAT_FLAG_W,NITRAT,NITRAT_FLAG_W,NITRIT,NITRIT_FLAG_W,PHSPHT,PHSPHT_FLAG_W,CFC-11,CFC-11_FLAG_W,CFC-12,CFC-12_FLAG_W,SF6,SF6_FLAG_W,TCARBN,TCARBN_FLAG_W,ALKALI,ALKALI_FLAG_W,PH_TOT,PH_TOT_FLAG_W,DELC13,DELC13_FLAG_W,DELC14,DELC14_FLAG_W,C14ERR,DELO18,DELO18_FLAG_W,DOC,DOC_FLAG_W,TDN,TDN_FLAG_W,N2O,N2O_FLAG_W,BTL_DATE,BTL_TIME,BTL_LAT,BTL_LON,PH_TMP,REFTMP,REFTMP_FLAG_W,CTDBACKSCATTER,CTDBACKSCATTER_FLAG_W,CTDFLUOR,CTDFLUOR_FLAG_W,CTDXMISS,CTDXMISS_FLAG_W
,,,,,,,,,,,METERS,DBAR,ITS-90,PSS-78,,PSS-78,,UMOL/KG,,UMOL/KG,,UMOL/KG,,UMOL/KG,,UMOL/KG,,UMOL/KG,,PMOL/KG,,PMOL/KG,,FMOL/KG,,UMOL/KG,,UMOL/KG,,,,/MILLE,,/MILLE,,/MILLE,/MILLE,,UMOL/KG,,UMOL/KG,,NMOL/KG,,,,,,DEG C,ITS-90,,VOLTS,,VOLTS,,VOLTS,
325020190403,       I06S,      29,          1,          1,          1,2,20190423,       1120,   -58.0019,    30.0026,       5439,  5549.9,  -0.2391,   34.649,2,  34.6495,2,    245.2,2,   243.8,2,   133.5,2,   32.32,2,    0.00,2,    2.25,2,   0.819,2,   0.404,2,   0.2982,2,  2251.6,6, 2350.49,2,   7.6021,2, -999.00,9,  -999.0,9,  -999.0,    0.02,2,    39.3,2,   34.73,2,    17.2097,3, 20190423,     1120, -58.0020,  30.0025,      25.05,    -0.2391,2,      0.135,1,      0.059,1,      4.617,1
325020190403,       I06S,      29,          1,          2,          2,2,20190423,       1120,   -58.0019,    30.0026,       5439,  5484.3,  -0.2368,  34.6497,2,  34.6493,2,    243.5,2,   244.7,2,   131.3,2,   32.25,2,    0.00,2,    2.26,2,   0.804,2,   0.398,2,   0.2226,2,  2251.0,2, -999.00,9,-999.0000,9, -999.00,9,  -999.0,9,  -999.0,    0.03,2,    39.7,2,   31.61,2,    17.6166,3, 20190423,     1122, -58.0021,  30.0026,     -999.0,    -0.2366,2,      0.131,1,      0.061,1,      4.620,1
325020190403,       I06S,      29,          1,          3,          3,2,20190423,       1120,   -58.0019,    30.0026,       5439,  5426.6,  -0.2359,  34.6498,2,  34.6497,2,    244.1,2,   243.7,2,   132.2,2,   32.44,2,    0.00,2,    2.25,2,   0.797,2,   0.390,2,   0.2218,2,  2250.6,2, 2351.81,2,   7.6013,2, -999.00,9,  -999.0,9,  -999.0,     0.1,2,  -999.0,9, -999.00,9,    17.7755,3, 20190423,     1124, -58.0022,  30.0027,      25.08,    -0.2359,2,      0.129,1,      0.060,1,      4.622,1
325020190403,       I06S,      29,          1,          4,          4,2,20190423,       1120,   -58.0019,    30.0026,       5439,  5010.7,  -0.2206,  34.6524,2,  34.6515,2,    241.2,2,   241.5,2,   132.1,2,   32.45,2,    0.00,2,    2.28,2,   0.722,2,   0.352,2,   0.1973,2,  2251.2,2, -999.00,9,-999.0000,9, -999.00,9,  -999.0,9,  -999.0,   -0.02,6,    38.4,2,   30.72,2,    17.7671,3, 20190423,     1132, -58.0027,  30.0031,     -999.0,    -0.2205,2,      0.125,1,      0.060,1,      4.628,1
325020190403,       I06S,      29,          1,          5,          5,2,20190423,       1120,   -58.0019,    30.0026,       5439,  4597.9,  -0.1962,  34.6548,2,  34.6546,2,    238.1,2,   239.1,2,   130.1,2,   32.51,2,    0.00,2,    2.26,2,   0.704,2,   0.345,2,   0.2506,2,  2251.8,2, 2349.54,3,   7.5994,2, -999.00,9,  -999.0,9,  -999.0,    0.04,2,    38.6,2,   32.88,2,    17.7825,3, 20190423,     1140, -58.0032,  30.0036,      25.07,    -0.1963,2,      0.127,1,      0.059,1,      4.631,1
325020190403,       I06S,      29,          1,          6,          6,2,20190423,       1120,   -58.0019,    30.0026,       5439,  4187.7,  -0.1528,  34.6576,2,  34.6572,2,    234.7,2,   235.7,2,   128.8,2,   32.54,2,    0.00,2,    2.26,2,   0.687,2,   0.341,2,   0.2516,2,  2254.2,2, -999.00,9,-999.0000,9, -999.00,9,  -999.0,9,  -999.0,   -0.02,2,    38.9,2,   31.29,2,    17.9003,3, 20190423,     1147, -58.0036,  30.0039,     -999.0,    -0.1529,2,      0.122,1,      0.059,1,      4.632,1
325020190403,       I06S,      29,          1,          7,          7,4,20190423,       1120,   -58.0019,    30.0026,       5439,  3772.8,  -0.1091,  34.6617,3,-999.0000,9,    228.9,3,  -999.0,9,  -999.0,9, -999.00,9, -999.00,9, -999.00,9,-999.000,9,-999.000,9,-999.0000,9,  -999.0,9, -999.00,9,-999.0000,9, -999.00,9,  -999.0,9,  -999.0, -999.00,9,  -999.0,9, -999.00,9,     -999.0,9, 20190423,     1155, -58.0042,  30.0044,     -999.0,    -0.1087,2,      0.122,1,      0.061,1,      4.632,1
325020190403,       I06S,      29,          1,          8,          8,2,20190423,       1120,   -58.0019,    30.0026,       5439,  3364.4,  -0.0423,  34.6634,2,  34.6635,2,    225.1,3,   227.7,2,   128.5,2,   32.75,2,    0.00,2,    2.28,2,   0.616,2,   0.297,2,   0.2267,2,  2255.3,2, 2352.72,2,   7.5911,2, -999.00,9,  -999.0,9,  -999.0,    0.09,2,    39.2,2,   30.79,2,     18.007,3, 20190423,     1203, -58.0049,  30.0050,      25.06,    -0.0425,2,      0.122,1,      0.059,1,      4.632,1
325020190403,       I06S,      29,          1,          9,          9,2,20190423,       1120,   -58.0019,    30.0026,       5439,  3058.0,   0.0284,  34.6669,2,   34.665,2,    220.6,3,   223.7,2,   128.4,2,   32.87,2,    0.00,2,    2.29,2,   0.569,2,   0.272,2,   0.1955,2,  2257.3,2, -999.00,9,-999.0000,9, -999.00,9,  -999.0,9,  -999.0, -999.00,9,  -999.0,9, -999.00,9,    15.0528,3, 20190423,     1209, -58.0056,  30.0055,     -999.0,     0.0285,2,      0.123,1,      0.060,1,      4.633,1
325020190403,       I06S,      29,          1,         10,         10,2,20190423,       1120,   -58.0019,    30.0026,       5439,  2802.2,   0.1053,  34.6701,2,  34.6684,2,    217.1,3,   219.8,2,   127.2,2,   32.90,2,    0.00,2,    2.28,2,   0.549,2,   0.268,2,   0.2084,2,  2258.4,2, 2352.57,2,   7.5855,2, -999.00,9,  -999.0,9,  -999.0,    0.05,2,    38.9,2,   31.03,2,    17.9784,3, 20190423,     1214, -58.0061,  30.0060,      25.07,     0.1054,2,      0.122,1,      0.060,1,      4.633,1
325020190403,       I06S,      29,          1,         11,         11,2,20190423,       1120,   -58.0019,    30.0026,       5439,  2548.6,   0.1902,  34.6742,2,  34.6729,2,    214.1,2,   216.0,2,   127.2,2,   32.86,2,    0.00,2,    2.29,2,   0.501,2,   0.241,2,   0.1794,2,  2259.1,2, -999.00,9,-999.0000,9, -999.00,9,  -999.0,9,  -999.0, -999.00,9,    39.5,2,   31.71,2,    17.9729,3, 20190423,     1220, -58.0063,  30.0061,     -999.0,       0.19,2,      0.124,1,      0.061,1,      4.633,1
325020190403,       I06S,      29,          1,         12,         12,2,20190423,       1120,   -58.0019,    30.0026,       5439,  2295.2,   0.2706,  34.6782,2,   34.678,2,    209.4,3,   212.7,2,   126.3,2,   32.87,2,    0.00,2,    2.29,2,   0.484,2,   0.229,2,   0.1546,2,  2261.9,2, 2353.90,2,   7.5826,2, -999.00,9,  -999.0,9,  -999.0,    0.14,2,  -999.0,9, -999.00,9,    17.9448,3, 20190423,     1225, -58.0064,  30.0062,      25.07,     0.2712,2,      0.123,1,      0.059,1,      4.633,1
325020190403,       I06S,      29,          1,         13,         13,2,20190423,       1120,   -58.0019,    30.0026,       5439,  2039.3,   0.3685,  34.6825,2,  34.6829,2,    206.1,3,   209.3,2,   124.7,2,   32.88,2,    0.00,2,    2.26,2,   0.481,2,   0.231,2,   0.1891,2,  2263.5,6, -999.00,9,-999.0000,9, -999.00,9,  -999.0,9,  -999.0, -999.00,9,    38.4,2,   32.32,2,    17.9923,3, 20190423,     1230, -58.0064,  30.0062,     -999.0,     0.3683,2,      0.123,1,      0.060,1,      4.633,1
325020190403,       I06S,      29,          1,         14,         14,2,20190423,       1120,   -58.0019,    30.0026,       5439,  1832.8,   0.4485,  34.6858,2,  34.6856,2,    204.5,2,   204.8,2,   123.0,2,   33.05,2,    0.00,2,    2.27,2,   0.481,2,   0.226,2,   0.2273,2,  2261.6,2, 2354.30,2,   7.5762,2, -999.00,9,  -999.0,9,  -999.0,    0.21,2,    40.6,2,   34.04,2,    18.0869,3, 20190423,     1234, -58.0062,  30.0062,      25.08,     0.4494,2,      0.127,1,      0.060,1,      4.632,1
325020190403,       I06S,      29,          1,         15,         15,2,20190423,       1120,   -58.0019,    30.0026,       5439,  1629.8,   0.5392,  34.6898,2,  34.6898,2,    202.2,3,   204.5,2,   120.3,2,   32.78,2,    0.00,2,    2.26,2,   0.477,2,   0.228,2,   0.1969,2,  2263.2,2, -999.00,9,-999.0000,9, -999.00,9,  -999.0,9,  -999.0, -999.00,9,  -999.0,9, -999.00,9,    18.0332,3, 20190423,     1238, -58.0065,  30.0063,     -999.0,     0.5393,2,      0.125,1,      0.061,1,      4.632,1
325020190403,       I06S,      29,          1,         16,         16,2,20190423,       1120,   -58.0019,    30.0026,       5439,  1425.3,   0.6539,  34.6942,2,  34.6939,2,    200.9,2,   202.3,2,   116.6,2,   32.60,2,    0.00,2,    2.22,2,   0.501,2,   0.241,2,   0.2191,2,  2261.8,2, -999.00,9,-999.0000,9, -999.00,9,  -999.0,9,  -999.0,    0.15,2,    38.7,2,   30.75,2,    18.0053,3, 20190423,     1243, -58.0067,  30.0064,     -999.0,     0.6543,2,      0.127,1,      0.060,1,      4.631,1
325020190403,       I06S,      29,          1,         17,         17,2,20190423,       1120,   -58.0019,    30.0026,       5439,  1325.4,   0.7172,  34.6956,2,  34.6949,2,    200.5,2,   200.6,2,   114.5,2,   32.60,2,    0.00,2,    2.22,2,   0.506,2,   0.250,2,   0.2097,2,  2261.5,2, 2352.48,2,   7.5791,2, -999.00,9,  -999.0,9,  -999.0, -999.00,9,    39.8,2,   31.73,2,    18.0677,3, 20190423,     1245, -58.0067,  30.0064,      25.08,     0.7175,2,      0.128,1,      0.061,1,      4.630,1
325020190403,       I06S,      29,          1,         18,         18,2,20190423,       1120,   -58.0019,    30.0026,       5439,  1224.4,   0.8043,  34.6985,2,  34.6984,2,    198.6,2,   200.1,2,   111.9,2,   32.40,2,    0.00,2,    2.21,2,   0.506,2,   0.247,2,   0.2275,2,  2260.0,2, -999.00,9,-999.0000,9, -999.00,9,  -999.0,9,  -999.0,    0.25,2,  -999.0,9, -999.00,9,    18.0386,3, 20190423,     1248, -58.0065,  30.0064,     -999.0,     0.8049,2,      0.127,1,      0.060,1,      4.629,1
325020190403,       I06S,      29,          1,         19,         19,2,20190423,       1120,   -58.0019,    30.0026,       5439,  1122.3,   0.8946,  34.7012,2,  34.7019,2,    198.5,2,   199.5,2,   109.4,2,   32.32,2,    0.00,2,    2.21,2,   0.495,2,   0.247,2,   0.2216,2,  2258.8,2, 2352.47,2,   7.5837,2, -999.00,9,  -999.0,9,  -999.0, -999.00,9,    39.9,2,   29.82,2,    18.0635,3, 20190423,     1250, -58.0066,  30.0064,      25.08,     0.8936,2,      0.131,1,      0.060,1,      4.628,1
325020190403,       I06S,      29,          1,         20,         20,2,20190423,       1120,   -58.0019,    30.0026,       5439,  1019.3,   1.0672,  34.7107,2,  34.7098,2,    197.7,2,   199.1,2,   104.9,2,   32.18,2,    0.00,2,    2.21,2,   0.443,2,   0.209,2,   0.2329,2,  2257.7,2, -999.00,9,-999.0000,9, -999.00,9,  -999.0,9,  -999.0,    0.18,2,    39.4,2,   30.22,2,    18.1083,3, 20190423,     1253, -58.0066,  30.0065,     -999.0,      1.068,2,      0.131,1,      0.061,1,      4.628,1
325020190403,       I06S,      29,          1,         21,         21,2,20190423,       1120,   -58.0019,    30.0026,       5439,   918.9,   1.2187,  34.7156,2,  34.7168,2,    196.8,2,   197.5,2,   101.6,2,   31.86,2,    0.00,2,    2.19,2,   0.433,2,   0.214,2,   0.2382,2,  2254.5,2, 2350.90,2,   7.5914,2, -999.00,9,  -999.0,9,  -999.0, -999.00,9,  -999.0,9, -999.00,9,     17.941,3, 20190423,     1256, -58.0068,  30.0067,      25.08,       1.22,2,      0.129,1,      0.061,1,      4.628,1
325020190403,       I06S,      29,          1,         22,         22,2,20190423,       1120,   -58.0019,    30.0026,       5439,   819.6,   1.3173,  34.7158,2,  34.7145,2,    194.5,2,   195.6,2,    98.7,2,   31.82,2,    0.00,2,    2.21,2,   0.436,2,   0.213,2,   0.2334,2,  2256.6,2, -999.00,9,-999.0000,9, -999.00,9,  -999.0,9,  -999.0,    0.26,6,    38.2,2,   30.39,2,    17.9535,3, 20190423,     1259, -58.0070,  30.0067,     -999.0,     1.3137,2,      0.140,1,      0.061,1,      4.628,1
325020190403,       I06S,      29,          1,         23,         23,2,20190423,       1120,   -58.0019,    30.0026,       5439,   717.8,   1.3753,  34.7076,2,  34.7062,2,    192.0,2,   193.4,2,    97.7,2,   31.98,2,    0.00,2,    2.21,2,   0.479,2,   0.241,2,   0.2837,2,  2255.3,2, 2348.20,2,   7.5851,2, -999.00,9,  -999.0,9,  -999.0, -999.00,9,    38.4,2,   30.36,2,    18.0028,3, 20190423,     1301, -58.0070,  30.0069,      25.09,     1.3766,2,      0.132,1,      0.061,1,      4.626,1
325020190403,       I06S,      29,          1,         24,         24,2,20190423,       1120,   -58.0019,    30.0026,       5439,   611.4,   1.5481,  34.7047,2,  34.7047,2,    188.9,2,   189.3,2,    93.8,2,   32.15,2,    0.00,2,    2.22,2,   0.493,2,   0.249,2,   0.3046,2,  2255.6,2, -999.00,9,-999.0000,9, -999.00,9,  -999.0,9,  -999.0,    0.13,2,  -999.0,9, -999.00,9,    18.0743,3, 20190423,     1304, -58.0073,  30.0071,     -999.0,     1.5467,2,      0.132,1,      0.062,1,      4.626,1
325020190403,       I06S,      29,          1,         25,         25,2,20190423,       1120,   -58.0019,    30.0026,       5439,   516.0,   1.6332,   34.688,2,  34.6874,2,    184.5,2,   183.6,2,    91.3,2,   32.77,2,    0.00,2,    2.26,2,   0.569,2,   0.289,2,   0.2703,2,  2258.9,2, 2344.22,2,   7.5674,2, -999.00,9,  -999.0,9,  -999.0, -999.00,9,    38.5,2,   30.27,2,    18.1272,3, 20190423,     1307, -58.0075,  30.0073,      25.13,      1.634,2,      0.129,1,      0.061,1,      4.630,1
325020190403,       I06S,      29,          1,         26,         26,2,20190423,       1120,   -58.0019,    30.0026,       5439,   413.7,   1.8039,  34.6655,2,  34.6646,2,    179.8,2,   178.2,2,    87.5,2,   33.31,2,    0.00,2,    2.29,2,   0.616,2,   0.319,2,   0.3207,2,  2259.4,2, -999.00,9,-999.0000,9, -999.00,9,  -999.0,9,  -999.0,    0.18,2,    40.1,2,   30.70,2,     18.243,3, 20190423,     1310, -58.0078,  30.0075,     -999.0,     1.8035,2,      0.127,1,      0.061,1,      4.631,1
325020190403,       I06S,      29,          1,         27,         27,2,20190423,       1120,   -58.0019,    30.0026,       5439,   360.7,   1.7879,  34.6381,2,  34.6372,2,    179.0,3,   176.9,2,    86.4,2,   33.89,2,    0.00,2,    2.33,2,   0.767,2,   0.396,2,   0.3185,2,  2259.9,2, 2338.57,2,   7.5474,2, -999.00,9,  -999.0,9,  -999.0, -999.00,9,  -999.0,9, -999.00,9,    18.3409,3, 20190423,     1312, -58.0079,  30.0076,      25.12,     1.7873,2,      0.129,1,      0.060,1,      4.631,1
325020190403,       I06S,      29,          1,         28,         28,2,20190423,       1120,   -58.0019,    30.0026,       5439,   312.3,   1.7634,  34.6094,2,  34.6075,2,    180.1,3,   177.6,2,    84.8,2,   34.26,2,    0.00,2,    2.35,2,   0.964,2,   0.494,2,   0.3952,2,  2260.8,6, 2337.60,2,   7.5385,2, -999.00,9,  -999.0,9,  -999.0,    0.23,2,    40.1,2,   34.40,2,     18.359,3, 20190423,     1314, -58.0079,  30.0077,      25.13,     1.7627,2,      0.130,1,      0.060,1,      4.629,1
325020190403,       I06S,      29,          1,         29,         29,2,20190423,       1120,   -58.0019,    30.0026,       5439,   261.7,   1.4914,  34.5411,2,  34.5426,2,    185.4,3,   189.5,2,    82.6,2,   34.50,2,    0.00,2,    2.37,2,   1.692,2,   0.811,2,   0.6720,2,  2259.9,2, 2332.48,2,   7.5340,2, -999.00,9,  -999.0,9,  -999.0, -999.00,9,    40.1,2,   36.99,3,    18.3008,3, 20190423,     1316, -58.0079,  30.0076,      25.11,       1.49,2,      0.129,1,      0.061,1,      4.631,1
325020190403,       I06S,      29,          1,         30,         30,2,20190423,       1120,   -58.0019,    30.0026,       5439,   210.2,   0.8384,  34.3992,2,  34.3984,2,    239.1,2,   237.6,2,    75.2,2,   33.46,2,    0.00,2,    2.31,2,   3.529,2,   1.655,2,   1.6872,2,  2242.3,2, -999.00,9,-999.0000,9, -999.00,9,  -999.0,9,  -999.0,     0.3,2,  -999.0,9, -999.00,9,    18.1483,3, 20190423,     1318, -58.0078,  30.0076,     -999.0,     0.8374,2,      0.129,1,      0.061,1,      4.630,1
325020190403,       I06S,      29,          1,         31,         31,2,20190423,       1120,   -58.0019,    30.0026,       5439,   160.2,    0.028,  34.2348,2,   34.233,2,    309.5,3,   305.1,2,    66.1,2,   31.12,2,    0.03,2,    2.14,2,   5.577,2,   2.675,2,   3.3039,2,  2218.0,2, -999.00,9,-999.0000,9, -999.00,9,  -999.0,9,  -999.0,    -0.1,2,    40.7,2,   30.71,2,    17.6114,3, 20190423,     1320, -58.0080,  30.0076,     -999.0,     0.0136,2,      0.133,1,      0.081,1,      4.624,1
325020190403,       I06S,      29,          1,         32,         32,2,20190423,       1120,   -58.0019,    30.0026,       5439,   109.7,   0.4199,  33.9803,3,   33.951,2,    337.4,3,   333.1,2,    47.1,2,   26.22,2,    0.39,2,    1.87,2,   6.400,2,   3.008,2,   3.9014,2,  2182.3,2, 2299.04,2,   7.6664,2, -999.00,9,  -999.0,9,  -999.0,    0.01,2,    41.5,2,   28.05,2,      16.42,3, 20190423,     1322, -58.0080,  30.0077,      25.13,     0.6043,3,      0.145,1,      0.131,1,      4.596,1
325020190403,       I06S,      29,          1,         33,         33,2,20190423,       1120,   -58.0019,    30.0026,       5439,    84.2,    0.914,  33.8776,2,  33.8787,2,    335.3,2,   334.5,2,    42.5,2,   25.23,2,    0.34,2,    1.77,2,   6.309,2,   2.985,2,   3.9146,2,  2173.7,2, -999.00,9,-999.0000,9, -999.00,9,  -999.0,9,  -999.0,   -0.13,2,  -999.0,9, -999.00,9,    16.3743,3, 20190423,     1323, -58.0081,  30.0077,     -999.0,      0.914,2,      0.149,1,      0.126,1,      4.586,1
325020190403,       I06S,      29,          1,         34,         34,2,20190423,       1120,   -58.0019,    30.0026,       5439,    58.4,   0.9146,  33.8775,2,  33.8777,2,    334.3,2,   334.9,2,    42.7,2,   25.28,2,    0.33,2,    1.76,2,   6.359,2,   2.975,2,   3.7512,2,  2172.5,2, -999.00,9,-999.0000,9, -999.00,9,  -999.0,9,  -999.0,   -0.04,2,    41.1,2,   25.81,2,    16.2291,3, 20190423,     1325, -58.0081,  30.0078,     -999.0,     0.9164,2,      0.146,1,      0.126,1,      4.586,1
325020190403,       I06S,      29,          1,         35,         35,2,20190423,       1120,   -58.0019,    30.0026,       5439,    32.5,   0.8981,  33.8757,2,  33.8763,2,    333.8,2,   335.1,2,    42.8,2,   25.17,2,    0.33,2,    1.74,2,   6.342,2,   2.970,2,   3.7171,2,  2173.5,2, 2295.63,2,   7.6803,2, -999.00,9,  -999.0,9,  -999.0,   -0.16,2,  -999.0,9, -999.00,9,    16.2453,3, 20190423,     1326, -58.0082,  30.0078,      25.11,     0.8976,2,      0.146,1,      0.125,1,      4.585,1
325020190403,       I06S,      29,          1,         36,         36,2,20190423,       1120,   -58.0019,    30.0026,       5439,    12.3,   0.8974,  33.8755,2,  33.8758,2,    333.1,2,   335.3,2,    42.8,2,   25.22,2,    0.33,2,    1.73,2,   6.411,2,   3.010,2,   3.8656,2,  2174.8,6, 2300.36,2,   7.6808,2, -999.00,9,  -999.0,9,  -999.0,   -0.21,6,    42.4,2,   26.54,2,    16.2327,3, 20190423,     1328, -58.0081,  30.0078,      25.10,     0.8974,2,      0.148,1,      0.119,1,      4.583,1