BOTTLE,20210804CCHSIOCBG
EXPOCODE,SECT_ID,STNNBR,CASTNO,SAMPNO,BTLNBR,BTLNBR_FLAG_W,DATE,TIME,LATITUDE,LONGITUDE,DEPTH,CTDPRS,CTDTMP,CTDSAL,CTDSAL_FLAG_W,SALNTY,SALNTY_FLAG_W,CTDOXY,CTDOXY_FLAG_W,OXYGEN,OXYGEN_FLAG_W,SILCAT,SILCAT_FLAG_W,NITRAT,NITRAT_FLAG_W,NITRIT,NITRIT_FLAG_W,PHSPHT,PHSPHT_FLAG_W,CFC-11,CFC-11_FLAG_W,CFC-12,CFC-12_FLAG_W,SF6,SF6_FLAG_W,TCARBN,TCARBN_FLAG_W,ALKALI,ALKALI_FLAG_W,PH_TOT,PH_TOT_FLAG_W,DELC13,DELC13_FLAG_W,DELC14,DELC14_FLAG_W,C14ERR,DELO18,DELO18_FLAG_W,DOC,DOC_FLAG_W,TDN,TDN_FLAG_W,N2O,N2O_FLAG_W,BTL_DATE,BTL_TIME,BTL_LAT,BTL_LON,PH_TMP,REFTMP,REFTMP_FLAG_W,CTDBACKSCATTER,CTDBACKSCATTER_FLAG_W,CTDFLUOR,CTDFLUOR_FLAG_W,CTDXMISS,CTDXMISS_FLAG_W
,,,,,,,,,,,METERS,DBAR,ITS-90,PSS-78,,PSS-78,,UMOL/KG,,UMOL/KG,,UMOL/KG,,UMOL/KG,,UMOL/KG,,UMOL/KG,,PMOL/KG,,PMOL/KG,,FMOL/KG,,UMOL/KG,,UMOL/KG,,,,/MILLE,,/MILLE,,/MILLE,/MILLE,,UMOL/KG,,UMOL/KG,,NMOL/KG,,,,,,DEG C,ITS-90,,VOLTS,,VOLTS,,VOLTS,
325020190403,       I06S,      21,          1,          1,          1,2,20190420,       2126,   -61.9998,    30.0002,       5178,  5281.9,  -0.2578,  34.6478,3,  34.6503,2,    243.6,2,   241.9,2,   141.5,2,   32.64,2,    0.00,2,    2.24,2,   0.757,2,   0.378,2,   0.1491,2,  2255.5,6, 2354.63,2,   7.5997,2, -999.00,9,  -999.0,9,  -999.0,   -0.06,2,  -999.0,9, -999.00,9,     -999.0,5, 20190420,     2126, -61.9998,  30.0002,      25.03,    -0.2577,2,      0.136,1,      0.060,1,      4.623,1
325020190403,       I06S,      21,          1,          2,          2,2,20190420,       2126,   -61.9998,    30.0002,       5178,  5220.1,  -0.2659,  34.6476,2,  34.6491,2,    242.4,2,   242.1,2,   141.0,2,   32.63,2,    0.00,2,    2.24,2,   0.757,2,   0.380,2,   0.2444,2,  2254.8,2, 2355.63,2,   7.5998,2, -999.00,9,  -999.0,9,  -999.0,   -0.05,2,  -999.0,9, -999.00,9,     -999.0,5, 20190420,     2129, -61.9998,  30.0002,      25.01,    -0.2655,2,      0.131,1,      0.060,1,      4.624,1
325020190403,       I06S,      21,          1,          3,          3,2,20190420,       2126,   -61.9998,    30.0002,       5178,  5154.0,  -0.2609,  34.6484,2,  34.6499,2,    242.3,2,   242.2,2,   138.7,2,   32.56,2,    0.00,2,    2.25,2,   0.720,2,   0.360,2,   0.1563,2,  2254.0,2, 2353.35,2,   7.6004,2, -999.00,9,  -999.0,9,  -999.0,    0.01,2,  -999.0,9, -999.00,9,     -999.0,5, 20190420,     2132, -61.9998,  30.0002,      25.03,    -0.2609,2,      0.126,1,      0.060,1,      4.630,1
325020190403,       I06S,      21,          1,          4,          4,2,20190420,       2126,   -61.9998,    30.0002,       5178,  4739.5,  -0.2372,  34.6508,3,  34.6529,2,    240.5,2,   240.3,2,   133.1,2,   32.49,2,    0.00,2,    2.24,2,   0.673,2,   0.338,2,   0.1772,2,  2254.9,2, 2355.17,3,   7.6005,2, -999.00,9,  -999.0,9,  -999.0,   -0.13,6,  -999.0,9, -999.00,9,     -999.0,5, 20190420,     2140, -61.9998,  30.0002,      25.03,    -0.2368,2,      0.123,1,      0.060,1,      4.637,1
325020190403,       I06S,      21,          1,          5,          5,2,20190420,       2126,   -61.9998,    30.0002,       5178,  4395.8,  -0.2196,  34.6523,3,  34.6546,2,    238.4,2,   239.3,2,   130.8,2,   32.50,2,    0.00,2,    2.23,2,   0.681,2,   0.345,2,   0.2140,2,  2252.9,2, 2354.13,2,   7.5991,2, -999.00,9,  -999.0,9,  -999.0,   -0.13,6,  -999.0,9, -999.00,9,     -999.0,5, 20190420,     2147, -61.9998,  30.0002,      25.00,    -0.2192,2,      0.121,1,      0.059,1,      4.637,1
325020190403,       I06S,      21,          1,          6,          6,2,20190420,       2126,   -61.9998,    30.0002,       5178,  4087.8,   -0.202,  34.6538,2,  34.6554,2,    236.6,2,   237.8,2,   129.1,2,   32.43,2,    0.00,2,    2.23,2,   0.704,2,   0.360,2,   0.2690,2,  2253.8,2, 2354.27,2,   7.5976,2, -999.00,9,  -999.0,9,  -999.0, -999.00,9,  -999.0,9, -999.00,9,     -999.0,5, 20190420,     2153, -61.9998,  30.0002,      25.04,    -0.2019,2,      0.121,1,      0.059,1,      4.637,1
325020190403,       I06S,      21,          1,          7,          7,2,20190420,       2126,   -61.9998,    30.0002,       5178,  3778.7,  -0.1744,  34.6552,3,  34.6576,2,    234.3,2,   235.1,2,   128.5,2,   32.58,2,    0.00,2,    2.24,2,   0.675,2,   0.345,2,   0.2035,2,  2254.9,2, -999.00,5,   7.5963,2, -999.00,9,  -999.0,9,  -999.0,   -0.09,6,  -999.0,9, -999.00,9,     -999.0,5, 20190420,     2159, -61.9998,  30.0002,      25.02,    -0.1744,2,      0.123,1,      0.059,1,      4.638,1
325020190403,       I06S,      21,          1,          8,          8,2,20190420,       2126,   -61.9998,    30.0002,       5178,  3468.5,  -0.1375,  34.6571,3,  34.6591,2,    231.3,2,   232.5,2,   128.1,2,   32.66,2,    0.00,2,    2.25,2,   0.670,2,   0.344,2,   0.3117,2,  2257.3,2, 2353.45,2,   7.5947,2, -999.00,9,  -999.0,9,  -999.0, -999.00,9,  -999.0,9, -999.00,9,     -999.0,5, 20190420,     2205, -61.9998,  30.0002,      25.08,    -0.1374,2,      0.123,1,      0.060,1,      4.639,1
325020190403,       I06S,      21,          1,          9,          9,2,20190420,       2126,   -61.9998,    30.0002,       5178,  3160.2,  -0.0827,  34.6597,3,  34.6619,2,    228.5,2,   229.1,2,   127.9,2,   32.70,2,    0.00,2,    2.26,2,   0.636,2,   0.324,2,   0.2830,2,  2257.0,2, 2354.79,2,   7.5913,2, -999.00,9,  -999.0,9,  -999.0,   -0.09,2,  -999.0,9, -999.00,9,     -999.0,5, 20190420,     2211, -61.9998,  30.0002,      25.11,    -0.0825,2,      0.122,1,      0.060,1,      4.638,1
325020190403,       I06S,      21,          1,         10,         10,2,20190420,       2126,   -61.9998,    30.0002,       5178,  2890.2,  -0.0249,  34.6624,3,  34.6652,2,    225.3,2,   225.3,2,   128.5,2,   32.76,2,    0.00,2,    2.26,2,   0.569,2,   0.288,2,   0.1483,2,  2259.7,2, 2353.72,2,   7.5900,2, -999.00,9,  -999.0,9,  -999.0, -999.00,9,  -999.0,9, -999.00,9,     -999.0,5, 20190420,     2216, -61.9998,  30.0002,      25.09,    -0.0249,2,      0.122,1,      0.060,1,      4.638,1
325020190403,       I06S,      21,          1,         11,         11,2,20190420,       2126,   -61.9998,    30.0002,       5178,  2635.5,   0.0381,  34.6654,3,   34.668,2,    221.4,2,   222.0,2,   128.7,2,   32.93,2,    0.00,2,    2.26,2,   0.527,2,   0.265,2,   0.1874,2,  2261.5,2, 2355.08,2,   7.5872,2, -999.00,9,  -999.0,9,  -999.0,   -0.04,2,  -999.0,9, -999.00,9,     -999.0,5, 20190420,     2221, -61.9998,  30.0002,      25.10,     0.0384,2,      0.122,1,      0.060,1,      4.639,1
325020190403,       I06S,      21,          1,         12,         12,2,20190420,       2126,   -61.9998,    30.0002,       5178,  2379.9,   0.1158,  34.6686,3,  34.6717,2,    217.3,2,   217.8,2,   128.2,2,   33.02,2,    0.01,2,    2.26,2,   0.505,2,   0.253,2,   0.1867,2,  2262.7,6, 2356.79,2,   7.5847,2, -999.00,9,  -999.0,9,  -999.0, -999.00,9,  -999.0,9, -999.00,9,     -999.0,5, 20190420,     2226, -61.9998,  30.0002,      25.10,     0.1158,2,      0.123,1,      0.060,1,      4.638,1
325020190403,       I06S,      21,          1,         13,         13,2,20190420,       2126,   -61.9998,    30.0002,       5178,  2124.7,   0.1943,  34.6722,3,   34.675,2,    213.3,2,   213.8,2,   127.3,2,   33.15,2,    0.00,2,    2.27,2,   0.482,2,   0.241,2,   0.1767,2,  2265.2,2, -999.00,9,-999.0000,9, -999.00,9,  -999.0,9,  -999.0,    0.09,2,  -999.0,9, -999.00,9,     -999.0,5, 20190420,     2231, -61.9998,  30.0002,     -999.0,     0.1947,2,      0.125,1,      0.059,1,      4.638,1
325020190403,       I06S,      21,          1,         14,         14,2,20190420,       2126,   -61.9998,    30.0002,       5178,  1900.0,   0.2785,  34.6759,2,   34.679,2,    210.5,2,   210.5,2,   126.4,2,   33.12,2,    0.00,2,    2.28,2,   0.481,2,   0.241,2,   0.1543,2,  2265.4,2, 2356.84,2,   7.5801,2, -999.00,9,  -999.0,9,  -999.0, -999.00,9,  -999.0,9, -999.00,9,     -999.0,5, 20190420,     2236, -61.9998,  30.0002,      25.11,     0.2787,2,      0.123,1,      0.062,1,      4.638,1
325020190403,       I06S,      21,          1,         15,         15,2,20190420,       2126,   -61.9998,    30.0002,       5178,  1696.6,   0.3501,  34.6793,2,  34.6817,2,    207.4,2,   207.7,2,   125.2,2,   33.16,2,    0.00,2,    2.28,2,   0.470,2,   0.231,2,   0.2009,2,  2265.8,2, -999.00,9,-999.0000,9, -999.00,9,  -999.0,9,  -999.0,    0.03,2,  -999.0,9, -999.00,9,     -999.0,5, 20190420,     2240, -61.9998,  30.0002,     -999.0,     0.3504,2,      0.126,1,      0.061,1,      4.637,1
325020190403,       I06S,      21,          1,         16,         16,2,20190420,       2126,   -61.9998,    30.0002,       5178,  1493.0,   0.4253,  34.6825,2,   34.685,2,    203.8,2,   204.7,2,   123.1,2,   33.16,2,    0.01,2,    2.29,2,   0.466,2,   0.227,2,   0.3109,2,  2265.5,2, 2356.80,2,   7.5766,2, -999.00,9,  -999.0,9,  -999.0, -999.00,9,  -999.0,9, -999.00,9,     -999.0,5, 20190420,     2245, -61.9998,  30.0002,      25.09,     0.4257,2,      0.128,1,      0.061,1,      4.637,1
325020190403,       I06S,      21,          1,         17,         17,2,20190420,       2126,   -61.9998,    30.0002,       5178,  1360.3,   0.4808,  34.6848,2,  34.6878,2,    203.1,2,   204.1,2,   121.6,2,   33.02,2,    0.00,2,    2.27,2,   0.474,2,   0.239,2,   0.2120,2,  2264.6,2, 2359.48,2,   7.5780,2, -999.00,9,  -999.0,9,  -999.0,     0.0,2,  -999.0,9, -999.00,9,     -999.0,5, 20190420,     2248, -61.9998,  30.0002,      25.09,     0.4809,2,      0.127,1,      0.060,1,      4.636,1
325020190403,       I06S,      21,          1,         18,         18,2,20190420,       2126,   -61.9998,    30.0002,       5178,  1258.9,   0.5193,  34.6864,2,   34.689,2,    202.0,2,   202.9,2,   120.1,2,   32.97,2,    0.00,2,    2.26,2,   0.476,2,   0.235,2,   0.2336,2,  2263.4,2, -999.00,9,-999.0000,9, -999.00,9,  -999.0,9,  -999.0, -999.00,9,  -999.0,9, -999.00,9,     -999.0,5, 20190420,     2251, -61.9998,  30.0002,     -999.0,     0.5184,2,      0.128,1,      0.061,1,      4.637,1
325020190403,       I06S,      21,          1,         19,         19,2,20190420,       2126,   -61.9998,    30.0002,       5178,  1158.1,   0.5721,  34.6885,2,  34.6913,2,    201.4,2,   202.4,2,   118.5,2,   32.89,2,    0.00,2,    2.26,2,   0.484,2,   0.241,2,   0.2157,2,  2263.3,2, 2356.71,2,   7.5781,2, -999.00,9,  -999.0,9,  -999.0,   -0.05,2,  -999.0,9, -999.00,9,     -999.0,5, 20190420,     2253, -61.9998,  30.0002,      25.10,     0.5721,2,      0.130,1,      0.061,1,      4.636,1
325020190403,       I06S,      21,          1,         20,         20,2,20190420,       2126,   -61.9998,    30.0002,       5178,  1054.2,   0.6282,  34.6904,2,  34.6931,2,    201.0,2,   201.5,2,   116.4,2,   32.71,2,    0.00,2,    2.25,2,   0.487,2,   0.246,2,   0.2674,2,  2260.8,2, 2355.60,2,   7.5797,2, -999.00,9,  -999.0,9,  -999.0, -999.00,9,  -999.0,9, -999.00,9,     -999.0,5, 20190420,     2256, -61.9998,  30.0002,      25.08,     0.6279,2,      0.128,1,      0.060,1,      4.636,1
325020190403,       I06S,      21,          1,         21,         21,2,20190420,       2126,   -61.9998,    30.0002,       5178,   954.4,    0.698,  34.6932,2,  34.6958,2,    200.3,2,   201.3,2,   114.4,2,   32.59,2,    0.00,2,    2.23,2,   0.488,2,   0.247,2,   0.2411,2,  2262.9,2, 2356.75,2,   7.5814,2, -999.00,9,  -999.0,9,  -999.0,    0.04,2,  -999.0,9, -999.00,9,     -999.0,5, 20190420,     2258, -61.9998,  30.0002,      25.07,     0.6976,2,      0.128,1,      0.062,1,      4.636,1
325020190403,       I06S,      21,          1,         22,         22,2,20190420,       2126,   -61.9998,    30.0002,       5178,   852.5,   0.7771,  34.6966,2,  34.7005,2,    199.5,2,   201.0,2,   112.0,2,   32.42,2,    0.00,2,    2.21,2,   0.478,2,   0.244,2,   0.2045,2,  2259.6,2, -999.00,9,-999.0000,9, -999.00,9,  -999.0,9,  -999.0, -999.00,9,  -999.0,9, -999.00,9,     -999.0,5, 20190420,     2301, -61.9998,  30.0002,     -999.0,      0.777,2,      0.131,1,      0.060,1,      4.635,1
325020190403,       I06S,      21,          1,         23,         23,2,20190420,       2126,   -61.9998,    30.0002,       5178,   751.8,   0.8609,  34.6977,2,  34.7003,2,    198.6,2,   199.1,2,   109.9,2,   32.30,2,    0.00,2,    2.21,2,   0.492,2,   0.252,2,   0.1995,2,  2259.2,2, 2355.71,2,   7.5836,2, -999.00,9,  -999.0,9,  -999.0,    0.06,2,  -999.0,9, -999.00,9,     -999.0,5, 20190420,     2303, -61.9998,  30.0002,      25.09,     0.8626,2,      0.130,1,      0.060,1,      4.634,1
325020190403,       I06S,      21,          1,         24,         24,2,20190420,       2126,   -61.9998,    30.0002,       5178,   650.2,    0.954,  34.6999,2,  34.7029,2,    196.7,2,   197.8,2,   107.1,2,   32.20,2,    0.00,2,    2.20,2,   0.493,2,   0.258,2,   0.2718,2,  2258.3,2, 2355.15,2,   7.5842,2, -999.00,9,  -999.0,9,  -999.0, -999.00,9,  -999.0,9, -999.00,9,     -999.0,5, 20190420,     2306, -61.9998,  30.0002,      25.06,     0.9554,2,      0.130,1,      0.061,1,      4.633,1
325020190403,       I06S,      21,          1,         25,         25,2,20190420,       2126,   -61.9998,    30.0002,       5178,   550.7,   1.0809,  34.7013,2,  34.7039,2,    194.7,2,   195.9,2,   103.9,2,   32.10,2,    0.00,2,    2.19,2,   0.497,2,   0.266,2,   0.2937,2,  2257.3,2, -999.00,9,-999.0000,9, -999.00,9,  -999.0,9,  -999.0,    0.05,2,  -999.0,9, -999.00,9,     -999.0,5, 20190420,     2308, -61.9998,  30.0002,     -999.0,     1.0795,2,      0.136,1,      0.060,1,      4.631,1
325020190403,       I06S,      21,          1,         26,         26,2,20190420,       2126,   -61.9998,    30.0002,       5178,   447.1,   1.2063,  34.6996,2,  34.7021,2,    192.2,2,   193.3,2,   100.2,2,   32.12,2,    0.00,2,    2.22,2,   0.518,2,   0.274,2,   0.2563,2,  2255.7,2, 2354.42,2,   7.5807,2, -999.00,9,  -999.0,9,  -999.0, -999.00,9,  -999.0,9, -999.00,9,     -999.0,5, 20190420,     2311, -61.9998,  30.0002,      25.04,     1.2067,2,      0.133,1,      0.061,1,      4.630,1
325020190403,       I06S,      21,          1,         27,         27,2,20190420,       2126,   -61.9998,    30.0002,       5178,   375.8,   1.2718,  34.6926,2,  34.6954,2,    190.5,2,   191.8,2,    98.5,2,   32.28,2,    0.00,2,    2.20,2,   0.571,2,   0.305,2,   0.3606,2,  2255.4,2, 2355.48,2,   7.5769,2, -999.00,9,  -999.0,9,  -999.0,    0.13,6,  -999.0,9, -999.00,9,     -999.0,5, 20190420,     2313, -61.9998,  30.0002,      25.07,     1.2713,2,      0.135,1,      0.062,1,      4.627,1
325020190403,       I06S,      21,          1,         28,         28,2,20190420,       2126,   -61.9998,    30.0002,       5178,   326.8,   1.3156,  34.6817,2,  34.6854,2,    188.8,2,   189.6,2,    96.6,2,   32.54,2,    0.00,2,    2.22,2,   0.647,2,   0.344,2,   0.3122,2,  2260.2,6, -999.00,9,-999.0000,9, -999.00,9,  -999.0,9,  -999.0, -999.00,9,  -999.0,9, -999.00,9,     -999.0,5, 20190420,     2315, -61.9998,  30.0002,     -999.0,     1.3138,2,      0.143,1,      0.061,1,      4.623,1
325020190403,       I06S,      21,          1,         29,         29,2,20190420,       2126,   -61.9998,    30.0002,       5178,   274.7,   1.3492,  34.6674,2,  34.6697,2,    187.5,2,   188.1,2,    94.8,2,   32.86,2,    0.00,2,    2.24,2,   0.742,2,   0.399,2,   0.4558,2,  2259.3,2, 2346.05,2,   7.5644,2, -999.00,9,  -999.0,9,  -999.0,    0.06,2,  -999.0,9, -999.00,9,     -999.0,5, 20190420,     2317, -61.9998,  30.0002,      25.05,     1.3458,2,      0.141,1,      0.063,1,      4.623,1
325020190403,       I06S,      21,          1,         30,         30,2,20190420,       2126,   -61.9998,    30.0002,       5178,   225.0,   1.2648,  34.6303,2,  34.6332,2,    190.9,2,   190.4,2,    92.5,2,   33.24,2,    0.00,2,    2.24,2,   1.032,2,   0.555,2,   0.6773,2,  2257.7,2, 2353.74,2,   7.5551,2, -999.00,9,  -999.0,9,  -999.0,    0.04,2,  -999.0,9, -999.00,9,     -999.0,5, 20190420,     2318, -61.9998,  30.0002,      25.06,      1.279,2,      0.141,1,      0.061,1,      4.621,1
325020190403,       I06S,      21,          1,         31,         31,2,20190420,       2126,   -61.9998,    30.0002,       5178,   174.4,   1.0942,  34.5555,2,  34.5573,2,    202.0,2,   200.2,2,    87.4,2,   33.86,2,    0.00,2,    2.29,2,   1.693,2,   0.885,2,   1.0197,2,  2254.5,2, -999.00,9,-999.0000,9, -999.00,9,  -999.0,9,  -999.0,    0.01,2,  -999.0,9, -999.00,9,     -999.0,5, 20190420,     2320, -61.9998,  30.0002,     -999.0,     1.0943,2,      0.140,1,      0.064,1,      4.620,1
325020190403,       I06S,      21,          1,         32,         32,2,20190420,       2126,   -61.9998,    30.0002,       5178,   123.8,  -0.1918,  34.2775,2,  34.2851,2,    298.1,3,   283.3,2,    70.8,2,   31.25,2,    0.02,2,    2.13,2,   4.311,2,   2.313,2,   2.8460,2,  2222.4,2, 2307.80,2,   7.5895,2, -999.00,9,  -999.0,9,  -999.0,   -0.16,2,  -999.0,9, -999.00,9,     -999.0,5, 20190420,     2322, -61.9998,  30.0002,      25.04,    -0.2066,2,      0.142,1,      0.081,1,      4.614,1
325020190403,       I06S,      21,          1,         33,         33,2,20190420,       2126,   -61.9998,    30.0002,       5178,    92.9,  -0.7627,  34.1629,2,  34.1604,2,    327.8,3,   321.7,2,    63.1,2,   29.35,2,    0.37,2,    2.03,2,   5.267,2,   2.907,2,   3.7624,2,  2205.9,2, 2313.61,2,   7.6169,2, -999.00,9,  -999.0,9,  -999.0,    -0.2,2,  -999.0,9, -999.00,9,     -999.0,5, 20190420,     2323, -61.9998,  30.0002,      25.12,    -0.7799,2,      0.151,1,      0.114,1,      4.597,1
325020190403,       I06S,      21,          1,         34,         34,2,20190420,       2126,   -61.9998,    30.0002,       5178,    68.4,  -0.3488,   33.898,2,  33.9088,2,    340.9,3,   335.6,2,    45.6,2,   25.65,2,    0.32,2,    1.80,2,   5.437,2,   3.041,2,   3.9613,2,  2181.4,2, -999.00,9,-999.0000,9, -999.00,9,  -999.0,9,  -999.0,   -0.31,2,  -999.0,9, -999.00,9,     -999.0,5, 20190420,     2325, -61.9998,  30.0002,     -999.0,    -0.2506,3,      0.204,1,      0.221,1,      4.538,1
325020190403,       I06S,      21,          1,         35,         35,2,20190420,       2126,   -61.9998,    30.0002,       5178,    43.8,   0.0911,  33.8077,2,  33.8113,2,    338.6,2,   338.3,2,    38.4,2,   24.34,2,    0.27,2,    1.65,2,   5.406,2,   3.031,2,   3.8996,2,  2170.4,2, 2304.33,2,   7.6813,2, -999.00,9,  -999.0,9,  -999.0,    -0.3,2,  -999.0,9, -999.00,9,     -999.0,5, 20190420,     2326, -61.9998,  30.0002,      25.10,     0.0912,2,      0.196,1,      0.204,1,      4.538,1
325020190403,       I06S,      21,          1,         36,         36,2,20190420,       2126,   -61.9998,    30.0002,       5178,    12.8,   0.1333,  33.7914,2,  33.7964,2,    339.1,2,   338.3,2,    38.5,2,   24.10,2,    0.28,2,    1.64,2,   5.411,2,   3.043,2,   3.9391,2,  2170.6,6, 2300.21,2,   7.6827,2, -999.00,9,  -999.0,9,  -999.0,   -0.32,2,  -999.0,9, -999.00,9,     -999.0,5, 20190420,     2328, -61.9998,  30.0002,      25.11,     0.1347,2,      0.184,1,      0.178,1,      4.555,1