BOTTLE,20210804CCHSIOCBG
EXPOCODE,SECT_ID,STNNBR,CASTNO,SAMPNO,BTLNBR,BTLNBR_FLAG_W,DATE,TIME,LATITUDE,LONGITUDE,DEPTH,CTDPRS,CTDTMP,CTDSAL,CTDSAL_FLAG_W,SALNTY,SALNTY_FLAG_W,CTDOXY,CTDOXY_FLAG_W,OXYGEN,OXYGEN_FLAG_W,SILCAT,SILCAT_FLAG_W,NITRAT,NITRAT_FLAG_W,NITRIT,NITRIT_FLAG_W,PHSPHT,PHSPHT_FLAG_W,CFC-11,CFC-11_FLAG_W,CFC-12,CFC-12_FLAG_W,SF6,SF6_FLAG_W,TCARBN,TCARBN_FLAG_W,ALKALI,ALKALI_FLAG_W,PH_TOT,PH_TOT_FLAG_W,DELC13,DELC13_FLAG_W,DELC14,DELC14_FLAG_W,C14ERR,DELO18,DELO18_FLAG_W,DOC,DOC_FLAG_W,TDN,TDN_FLAG_W,N2O,N2O_FLAG_W,BTL_DATE,BTL_TIME,BTL_LAT,BTL_LON,PH_TMP,REFTMP,REFTMP_FLAG_W,CTDBACKSCATTER,CTDBACKSCATTER_FLAG_W,CTDFLUOR,CTDFLUOR_FLAG_W,CTDXMISS,CTDXMISS_FLAG_W
,,,,,,,,,,,METERS,DBAR,ITS-90,PSS-78,,PSS-78,,UMOL/KG,,UMOL/KG,,UMOL/KG,,UMOL/KG,,UMOL/KG,,UMOL/KG,,PMOL/KG,,PMOL/KG,,FMOL/KG,,UMOL/KG,,UMOL/KG,,,,/MILLE,,/MILLE,,/MILLE,/MILLE,,UMOL/KG,,UMOL/KG,,NMOL/KG,,,,,,DEG C,ITS-90,,VOLTS,,VOLTS,,VOLTS,
325020190403,       I06S,      51,          1,          1,          1,2,20190510,       0922,   -35.0005,    30.0002,       4455,  4522.2,   1.1174,  34.7312,2,  34.7306,2,    215.2,2,   214.6,2,   107.7,2,   30.68,2,    0.00,2,    2.11,2,   0.157,6,   0.084,6,   0.0657,6,  2256.1,6, 2366.70,2,   7.6290,2,    0.61,2,  -156.3,2,     1.7,    0.19,6,    39.2,2,   32.79,2,    19.8395,3, 20190510,      922, -35.0005,  30.0002,      25.10,     1.1172,2,      0.162,1,      0.061,1,      4.709,1
325020190403,       I06S,      51,          1,          2,          2,2,20190510,       0922,   -35.0005,    30.0002,       4455,  4450.2,   1.1382,  34.7335,2,  34.7329,2,    216.7,2,   216.3,2,   105.9,2,   30.55,2,    0.00,2,    2.11,2,   0.149,2,   0.076,2,   0.0000,2,  2252.2,2, 2367.22,2,   7.6280,3,    0.47,4,  -178.7,4,     2.3,    0.29,2,    38.4,2,   34.35,3,    19.3666,3, 20190510,      924, -35.0005,  30.0002,      25.12,     1.1378,2,      0.157,1,      0.061,1,      4.714,1
325020190403,       I06S,      51,          1,          3,          3,2,20190510,       0922,   -35.0005,    30.0002,       4455,  4384.6,   1.1829,  34.7375,2,  34.7367,2,    215.9,2,   215.9,2,   104.1,2,   30.36,2,    0.00,2,    2.09,2,   0.135,2,   0.070,2,   0.0000,2,  2251.7,2, 2361.69,2,   7.7833,3,    0.61,2,  -155.5,2,     1.7,    0.47,2,  -999.0,9, -999.00,9,    19.3015,3, 20190510,      926, -35.0005,  30.0002,      25.11,     1.1823,2,      0.148,1,      0.061,1,      4.719,1
325020190403,       I06S,      51,          1,          4,          4,2,20190510,       0922,   -35.0005,    30.0002,       4455,  4075.4,   1.3142,  34.7491,2,   34.748,2,    215.4,2,   216.0,2,    98.8,2,   29.82,2,    0.00,2,    2.04,2,   0.105,2,   0.054,2,   0.0000,2,  2246.8,2, 2362.38,2,   7.6327,3,    0.61,2,  -152.1,2,     1.7,    0.42,2,    40.3,2,   33.39,3,    19.1355,3, 20190510,      933, -35.0005,  30.0002,      25.11,     1.3144,2,      0.139,1,      0.060,1,      4.724,1
325020190403,       I06S,      51,          1,          5,          5,2,20190510,       0922,   -35.0005,    30.0002,       4455,  3769.8,   1.5346,  34.7672,2,  34.7667,2,    215.6,2,   216.3,2,    90.8,2,   29.01,2,    0.00,2,    1.99,2,   0.078,2,   0.045,2,   0.0000,2,  2241.9,2, 2356.60,2,   7.6401,3,    0.55,2,  -149.5,2,     1.7,    0.18,2,    40.2,2,   31.59,2,    18.9324,3, 20190510,      939, -35.0005,  30.0002,      25.10,     1.5339,2,      0.136,1,      0.061,1,      4.728,1
325020190403,       I06S,      51,          1,          6,          6,2,20190510,       0922,   -35.0005,    30.0002,       4455,  3462.5,   1.8891,  34.7948,2,  34.7944,2,    218.3,2,   217.4,2,    78.1,2,   27.82,2,    0.00,2,    1.97,2,   0.048,2,   0.027,2,   0.0000,2,  2230.6,2, 2350.96,2,   7.6527,3,    0.67,2,  -145.1,2,     1.8, -999.00,9,  -999.0,9, -999.00,9,    18.4124,3, 20190510,      946, -35.0005,  30.0002,      25.12,     1.8895,2,      0.131,1,      0.060,1,      4.730,1
325020190403,       I06S,      51,          1,          7,          7,2,20190510,       0922,   -35.0005,    30.0002,       4455,  3154.2,   2.1851,  34.8148,2,  34.8146,2,    217.2,2,   218.0,2,    67.8,2,   26.73,2,    0.00,2,    1.84,2,   0.030,2,   0.017,2,   0.0000,2,  2222.8,2, 2345.63,2,   7.6618,3,    0.68,2,  -138.4,2,     1.8,    0.52,2,    38.7,2,   29.05,2,    18.4956,3, 20190510,     1049, -35.0005,  30.0002,      25.09,      2.184,2,      0.130,1,      0.061,1,      4.730,1
325020190403,       I06S,      51,          1,          8,          8,2,20190510,       0922,   -35.0005,    30.0002,       4455,  2882.5,   2.3652,  34.8182,2,  34.8189,2,    214.4,2,   215.7,2,    63.2,2,   26.64,2,    0.00,2,    1.83,2,   0.029,2,   0.018,2,   0.0000,2,  2220.6,2, 2342.89,2,   7.6603,3,    0.68,2,  -136.8,2,     1.7, -999.00,9,    38.2,2,   30.15,2,    18.3585,3, 20190510,     1054, -35.0005,  30.0002,      25.11,     2.3696,2,      0.129,1,      0.061,1,      4.730,1
325020190403,       I06S,      51,          1,          9,          9,2,20190510,       0922,   -35.0005,    30.0002,       4455,  2625.7,   2.5041,  34.8085,2,  34.8077,2,    208.0,2,   209.5,2,    62.5,2,   27.18,2,    0.00,2,    1.87,2,   0.030,2,   0.017,2,   0.0000,2,  2222.1,2, 2344.70,2,   7.6514,3,    0.61,2,  -136.1,2,     1.7,    0.79,2,  -999.0,9, -999.00,9,    18.9874,3, 20190510,     1059, -35.0005,  30.0002,      25.11,     2.5086,2,      0.131,1,      0.062,1,      4.729,1
325020190403,       I06S,      51,          1,         10,         10,2,20190510,       0922,   -35.0005,    30.0002,       4455,  2370.2,   2.6647,  34.7849,2,  34.7845,2,    199.6,2,   200.5,2,    62.2,2,   28.21,2,    0.00,2,    1.94,2,   0.051,2,   0.029,2,   0.0000,2,  2225.9,2, 2340.41,2,   7.6353,3,    0.58,2,  -136.3,2,     1.7, -999.00,9,    40.2,2,   32.34,2,    20.1907,3, 20190510,     1103, -35.0005,  30.0002,      25.10,     2.6664,2,      0.130,1,      0.062,1,      4.729,1
325020190403,       I06S,      51,          1,         11,         11,2,20190510,       0922,   -35.0005,    30.0002,       4455,  2118.2,   2.8004,  34.7357,2,  34.7345,2,    185.6,2,   185.8,2,    67.4,2,   30.16,2,    0.00,2,    2.09,2,   0.103,2,   0.056,2,   0.0000,2,  2237.6,2, 2342.49,2,   7.6086,3,    0.54,2,  -138.9,2,     1.8,    0.34,2,    40.5,2,   32.89,2,    22.7318,3, 20190510,     1107, -35.0005,  30.0002,      25.08,     2.8034,2,      0.132,1,      0.063,1,      4.729,1
325020190403,       I06S,      51,          1,         12,         12,2,20190510,       0922,   -35.0005,    30.0002,       4455,  1896.0,   3.0233,  34.6759,2,  34.6758,2,    168.7,2,   169.9,2,    72.3,2,   32.22,2,    0.00,2,    2.25,2,   0.215,2,   0.108,2,   0.0000,2,  2249.8,2, 2344.21,2,   7.5823,3, -999.00,9,  -999.0,9,  -999.0, -999.00,9,  -999.0,9, -999.00,9,    24.9189,3, 20190510,     1111, -35.0005,  30.0002,      25.10,     3.0338,2,      0.136,1,      0.062,1,      4.728,1
325020190403,       I06S,      51,          1,         13,         13,2,20190510,       0922,   -35.0005,    30.0002,       4455,  1689.5,   3.3955,  34.6083,2,  34.6081,2,    161.4,2,   161.9,2,    69.0,2,   33.38,2,    0.00,2,    2.35,2,   0.498,2,   0.210,2,   0.1393,2,  2249.0,2, 2339.22,2,   7.5662,3,    0.44,2,  -140.1,2,     1.7,    0.47,2,    38.4,2,   36.78,3,    27.3802,3, 20190510,     1114, -35.0005,  30.0002,      25.12,     3.4753,3,      0.132,1,      0.061,1,      4.728,1
325020190403,       I06S,      51,          1,         14,         14,2,20190510,       0922,   -35.0005,    30.0002,       4455,  1487.3,   4.1829,  34.5562,2,  34.5556,2,    159.7,2,   158.3,2,    59.9,2,   33.26,2,    0.00,2,    2.32,2,   0.939,2,   0.373,2,   0.2042,2,  2241.2,6, 2331.80,2,   7.5667,3,    0.52,2,  -123.4,2,     1.8, -999.00,9,    38.6,2,   37.83,3,    27.7229,3, 20190510,     1117, -35.0005,  30.0002,      25.13,     4.2087,2,      0.132,1,      0.062,1,      4.727,1
325020190403,       I06S,      51,          1,         15,         15,2,20190510,       0922,   -35.0005,    30.0002,       4455,  1355.6,   4.2985,  34.4429,2,  34.4436,2,    178.6,3,   181.1,2,    45.5,2,   32.13,2,    0.00,2,    2.27,2,   1.740,2,   0.817,2,   0.4774,2,  2220.8,2, 2317.23,2,   7.5838,3,    0.61,2,   -94.4,2,     1.9,    0.32,2,  -999.0,9, -999.00,9,    25.2272,3, 20190510,     1120, -35.0005,  30.0002,      25.09,     4.3951,3,      0.130,1,      0.060,1,      4.726,1
325020190403,       I06S,      51,          1,         16,         16,2,20190510,       0922,   -35.0005,    30.0002,       4455,  1254.7,   4.8093,  34.4013,2,  34.4013,2,    194.1,2,   194.4,2,    35.1,2,   30.44,2,    0.00,2,    2.14,2,   2.165,2,   1.114,2,   0.6686,2,  2202.4,2, 2303.50,2,   7.6068,3,    0.73,2,   -72.6,2,     1.9, -999.00,9,    39.3,2,   36.04,2,    22.4948,3, 20190510,     1121, -35.0005,  30.0002,      25.09,     4.8941,3,      0.133,1,      0.060,1,      4.728,1
325020190403,       I06S,      51,          1,         17,         17,2,20190510,       0922,   -35.0005,    30.0002,       4455,  1153.8,   5.8399,   34.449,2,  34.4507,2,    193.6,2,   192.3,2,    28.7,2,   28.56,2,    0.00,2,    1.98,2,   2.311,2,   1.230,2,   0.7338,2,  2190.3,2, 2300.67,2,   7.6267,3,    0.93,2,   -51.0,2,     1.9,    0.41,6,    40.4,2,   33.90,2,    21.7145,3, 20190510,     1123, -35.0005,  30.0002,      25.10,     5.8732,2,      0.133,1,      0.061,1,      4.727,1
325020190403,       I06S,      51,          1,         18,         18,2,20190510,       0922,   -35.0005,    30.0002,       4455,  1050.8,   7.0073,  34.4998,2,  34.5024,2,    200.7,2,   199.3,2,    19.4,2,   25.56,2,    0.00,2,    1.76,2,   2.659,2,   1.501,2,   0.9697,2,  2176.7,2, 2296.58,2,   7.6575,3, -999.00,9,  -999.0,9,  -999.0, -999.00,9,  -999.0,9, -999.00,9,    19.5893,3, 20190510,     1125, -35.0005,  30.0002,      25.11,     7.1196,3,      0.134,1,      0.060,1,      4.726,1
325020190403,       I06S,      51,          1,         19,         19,2,20190510,       0922,   -35.0005,    30.0002,       4455,   950.4,   8.3491,  34.6178,2,  34.6227,2,    203.2,2,   201.7,2,    13.7,2,   22.09,2,    0.00,2,    1.51,2,   2.782,2,   1.589,2,   1.0472,2,  2162.7,2, 2297.83,2,   7.6955,3,    0.92,2,     1.0,2,     2.0,    0.52,2,    41.0,2,   26.87,2,    17.9007,3, 20190510,     1126, -35.0005,  30.0002,      25.11,     8.4297,3,      0.134,1,      0.059,1,      4.724,1
325020190403,       I06S,      51,          1,         20,         20,2,20190510,       0922,   -35.0005,    30.0002,       4455,   848.3,   9.7474,    34.75,2,  34.7506,2,    214.3,2,   212.2,2,     8.1,2,   17.83,2,    0.00,2,    1.23,2,   2.964,2,   1.755,2,   1.4123,2,  2145.5,2, 2300.13,2,   7.7415,3,    0.94,2,    18.8,2,     2.3,     0.7,2,    43.0,2,   21.78,2,    15.6525,3, 20190510,     1128, -35.0005,  30.0002,      25.10,     9.8126,3,      0.135,1,      0.059,1,      4.723,1
325020190403,       I06S,      51,          1,         21,         21,2,20190510,       0922,   -35.0005,    30.0002,       4455,   746.3,  11.0951,  34.9266,2,  34.9305,2,    217.6,2,   216.2,2,     5.5,2,   14.27,2,    0.00,2,    1.01,2,   2.917,2,   1.770,2,   1.4389,2,  2135.4,2, 2304.11,2,   7.7817,3,    0.87,2,    30.0,2,     2.3,    0.94,2,  -999.0,9, -999.00,9,    14.0322,3, 20190510,     1130, -35.0005,  30.0002,      25.07,    11.1966,3,      0.136,1,      0.059,1,      4.720,1
325020190403,       I06S,      51,          1,         22,         22,2,20190510,       0922,   -35.0005,    30.0002,       4455,   647.0,  12.1327,   35.071,2,  35.0688,2,    217.3,2,   217.5,2,     4.6,2,   12.01,2,    0.00,2,    0.86,2,   2.826,2,   1.753,2,   1.5866,2,  2130.3,2, 2309.96,2,   7.8070,3,    0.82,2,    32.9,2,     2.1, -999.00,9,    44.3,2,   16.48,2,    12.9932,3, 20190510,     1131, -35.0005,  30.0002,      25.11,    12.1865,2,      0.137,1,      0.059,1,      4.719,1
325020190403,       I06S,      51,          1,         23,         23,2,20190510,       0922,   -35.0005,    30.0002,       4455,   544.7,  13.1211,  35.1883,2,  35.1897,2,    213.3,2,   213.9,2,     4.3,2,   10.24,2,    0.00,2,    0.74,2,   2.682,2,   1.679,2,   1.8077,2,  2124.6,6, 2316.07,2,   7.8266,3,    0.74,2,    36.4,2,     2.1,    1.15,6,    43.6,2,   12.40,2,    12.6877,3, 20190510,     1133, -35.0005,  30.0002,      25.09,    13.1876,3,      0.138,1,      0.060,1,      4.717,1
325020190403,       I06S,      51,          1,         24,         24,2,20190510,       0922,   -35.0005,    30.0002,       4455,   442.3,  14.3665,  35.3459,2,  35.3473,2,    209.0,2,   208.9,2,     3.8,2,    8.16,2,    0.00,2,    0.60,2,   2.532,2,   1.604,2,   1.7836,2,  2120.8,2, 2321.59,2,   7.8537,3, -999.00,9,  -999.0,9,  -999.0, -999.00,9,  -999.0,9, -999.00,9,    11.8137,3, 20190510,     1135, -35.0005,  30.0002,      25.13,    14.4476,3,      0.138,1,      0.060,1,      4.716,1
325020190403,       I06S,      51,          1,         25,         25,2,20190510,       0922,   -35.0005,    30.0002,       4455,   373.7,  15.4917,  35.4498,2,  35.4508,2,    201.4,2,   202.5,2,     3.9,2,    7.11,2,    0.00,2,    0.54,2,   2.408,2,   1.514,2,   1.8270,2,  2114.2,2, 2325.94,2,   7.8724,3,    0.55,2,    33.3,2,     2.0,    1.03,2,    43.5,2,   10.34,2,    11.3667,3, 20190510,     1136, -35.0005,  30.0002,      25.09,    15.5465,3,      0.137,1,      0.060,1,      4.715,1
325020190403,       I06S,      51,          1,         26,         26,2,20190510,       0922,   -35.0005,    30.0002,       4455,   324.5,  16.2597,  35.5175,2,  35.5196,2,    205.2,2,   204.9,2,     3.6,2,    5.80,2,    0.00,2,    0.45,2,   2.322,2,   1.447,2,   1.8214,2,  2105.2,2, 2328.38,2,   7.8970,3, -999.00,5,    29.0,2,     2.0, -999.00,9,    43.8,2,    8.99,2,    10.8864,3, 20190510,     1137, -35.0005,  30.0002,      25.11,     16.356,2,      0.134,1,      0.060,1,      4.715,1
325020190403,       I06S,      51,          1,         27,         27,2,20190510,       0922,   -35.0005,    30.0002,       4455,   272.8,  16.9329,  35.5904,2,  35.5905,2,    212.2,3,   215.2,2,     2.7,2,    3.97,2,    0.00,2,    0.33,2,   2.261,2,   1.391,2,   1.8743,2,  2090.2,2, 2330.25,2,   7.9275,3,    0.44,2,    27.7,2,     2.4,    0.89,2,  -999.0,9, -999.00,9,      9.562,3, 20190510,     1138, -35.0005,  30.0002,      25.11,     16.979,2,      0.136,1,      0.059,1,      4.714,1
325020190403,       I06S,      51,          1,         28,         28,2,20190510,       0922,   -35.0005,    30.0002,       4455,   222.6,   17.343,  35.5813,2,   35.581,2,    204.8,2,   205.2,2,     3.2,2,    4.44,2,    0.00,2,    0.37,2,   2.219,2,   1.369,2,   1.8287,2,  2093.9,2, 2330.39,2,   7.9230,3, -999.00,9,  -999.0,9,  -999.0, -999.00,9,    49.2,2,    6.51,2,     9.9936,3, 20190510,     1138, -35.0005,  30.0002,      25.10,    17.3948,2,      0.140,1,      0.062,1,      4.710,1
325020190403,       I06S,      51,          1,         29,         29,2,20190510,       0922,   -35.0005,    30.0002,       4455,   173.2,   17.914,  35.5739,2,  35.5737,2,    196.8,3,   199.5,2,     3.2,2,    3.90,2,    0.01,2,    0.33,2,   2.174,2,   1.332,2,   1.7424,2,  2090.2,2, 2330.35,2,   7.9266,3, -999.00,9,  -999.0,9,  -999.0,    0.85,2,    56.8,2,    6.90,2,    10.2423,3, 20190510,     1139, -35.0005,  30.0002,      25.10,    18.1579,3,      0.144,1,      0.062,1,      4.708,1
325020190403,       I06S,      51,          1,         30,         30,2,20190510,       0922,   -35.0005,    30.0002,       4455,   122.5,  19.7077,  35.5583,2,  35.5666,2,    203.6,2,   201.7,2,     2.3,2,    2.13,2,    0.03,2,    0.21,2,   2.042,2,   1.239,2,   1.7808,2,  2066.4,2, 2329.68,2,   7.9708,3, -999.00,9,  -999.0,9,  -999.0,    0.82,2,  -999.0,9, -999.00,9,     9.2737,3, 20190510,     1140, -35.0005,  30.0002,      25.10,    20.1751,3,      0.149,1,      0.075,1,      4.702,1
325020190403,       I06S,      51,          1,         31,         31,2,20190510,       0922,   -35.0005,    30.0002,       4455,    91.2,  20.7249,  35.6103,2,  35.6108,2,    213.9,2,   214.7,2,     1.5,2,    0.27,2,    0.27,2,    0.10,2,   1.980,2,   1.200,2,   1.8424,2,  2048.7,2, 2332.40,2,   8.0077,3, -999.00,9,  -999.0,9,  -999.0,    0.94,2,    60.7,2,    3.72,2,     8.2921,3, 20190510,     1141, -35.0005,  30.0002,      25.11,    20.7828,2,      0.165,1,      0.112,1,      4.683,1
325020190403,       I06S,      51,          1,         32,         32,2,20190510,       0922,   -35.0005,    30.0002,       4455,    67.3,  21.0642,  35.6108,2,  35.6112,2,    218.2,2,   219.3,2,     1.4,2,    0.04,2,    0.03,2,    0.06,2,   1.961,2,   1.190,2,   1.7232,2,  2043.3,2, 2332.02,2,   8.0200,3, -999.00,9,  -999.0,9,  -999.0,    1.09,2,    62.2,2,    4.11,2,     7.7718,3, 20190510,     1141, -35.0005,  30.0002,      25.11,    21.1214,2,      0.171,1,      0.167,1,      4.663,1
325020190403,       I06S,      51,          1,         33,         33,2,20190510,       0922,   -35.0005,    30.0002,       4455,    66.5,  21.0593,  35.6118,2,  35.6114,2,    217.8,3,  -999.0,9,     1.4,2,    0.04,2,    0.03,2,    0.07,2,-999.000,9,-999.000,9,-999.0000,9,  -999.0,9, -999.00,9,-999.0000,9, -999.00,9,  -999.0,9,  -999.0,    1.38,6,  -999.0,9, -999.00,9,     -999.0,9, 20190510,     1141, -35.0005,  30.0002,     -999.0,     -999.0,9,      0.174,1,      0.167,1,      4.664,1
325020190403,       I06S,      51,          1,         34,         34,2,20190510,       0922,   -35.0005,    30.0002,       4455,    41.0,  21.2667,  35.5928,2,  35.5932,2,    220.1,2,   220.7,2,     1.3,2,    0.01,2,    0.00,2,    0.05,2,   1.945,2,   1.166,2,   1.7515,2,  2034.6,2, 2330.88,2,   8.0278,3, -999.00,9,  -999.0,9,  -999.0,     2.0,4,    63.6,2,    4.15,2,     7.5334,3, 20190510,     1142, -35.0005,  30.0002,      25.07,    21.2703,2,      0.188,1,      0.117,1,      4.635,1
325020190403,       I06S,      51,          1,         35,         35,2,20190510,       0922,   -35.0005,    30.0002,       4455,    10.7,  21.2869,  35.5915,2,  35.5909,2,    219.2,2,   220.6,2,     1.4,2,    0.02,2,    0.00,2,    0.06,2,   1.946,2,   1.169,2,   1.7854,2,  2035.5,6, 2330.01,2,   8.0280,2, -999.00,9,  -999.0,9,  -999.0, -999.00,9,  -999.0,9, -999.00,9,     -999.0,5, 20190510,     1143, -35.0005,  30.0002,      25.09,    21.2883,2,      0.185,1,      0.086,1,      4.634,1
325020190403,       I06S,      51,          1,         36,         36,2,20190510,       0922,   -35.0005,    30.0002,       4455,    10.8,  21.2867,  35.5915,2,  35.5917,2,    219.2,3,  -999.0,9,     1.5,2,    0.02,2,    0.00,2,    0.07,2,-999.000,9,-999.000,9,-999.0000,9,  -999.0,9, -999.00,9,-999.0000,9, -999.00,9,  -999.0,9,  -999.0,    0.99,2,    65.3,2,    3.66,2,     7.6139,3, 20190510,     1143, -35.0005,  30.0002,     -999.0,     -999.0,9,      0.188,1,      0.084,1,      4.635,1