BOTTLE,20210804CCHSIOCBG
EXPOCODE,SECT_ID,STNNBR,CASTNO,SAMPNO,BTLNBR,BTLNBR_FLAG_W,DATE,TIME,LATITUDE,LONGITUDE,DEPTH,CTDPRS,CTDTMP,CTDSAL,CTDSAL_FLAG_W,SALNTY,SALNTY_FLAG_W,CTDOXY,CTDOXY_FLAG_W,OXYGEN,OXYGEN_FLAG_W,SILCAT,SILCAT_FLAG_W,NITRAT,NITRAT_FLAG_W,NITRIT,NITRIT_FLAG_W,PHSPHT,PHSPHT_FLAG_W,CFC-11,CFC-11_FLAG_W,CFC-12,CFC-12_FLAG_W,SF6,SF6_FLAG_W,TCARBN,TCARBN_FLAG_W,ALKALI,ALKALI_FLAG_W,PH_TOT,PH_TOT_FLAG_W,DELC13,DELC13_FLAG_W,DELC14,DELC14_FLAG_W,C14ERR,DELO18,DELO18_FLAG_W,DOC,DOC_FLAG_W,TDN,TDN_FLAG_W,N2O,N2O_FLAG_W,BTL_DATE,BTL_TIME,BTL_LAT,BTL_LON,PH_TMP,REFTMP,REFTMP_FLAG_W,CTDBACKSCATTER,CTDBACKSCATTER_FLAG_W,CTDFLUOR,CTDFLUOR_FLAG_W,CTDXMISS,CTDXMISS_FLAG_W
,,,,,,,,,,,METERS,DBAR,ITS-90,PSS-78,,PSS-78,,UMOL/KG,,UMOL/KG,,UMOL/KG,,UMOL/KG,,UMOL/KG,,UMOL/KG,,PMOL/KG,,PMOL/KG,,FMOL/KG,,UMOL/KG,,UMOL/KG,,,,/MILLE,,/MILLE,,/MILLE,/MILLE,,UMOL/KG,,UMOL/KG,,NMOL/KG,,,,,,DEG C,ITS-90,,VOLTS,,VOLTS,,VOLTS,
325020190403,       I06S,      43,          1,          1,          1,2,20190430,       2206,   -51.0003,    30.0005,       5834,  5955.9,   0.0675,  34.6569,2,   34.657,2,    235.6,2,   235.3,2,   133.2,2,   32.90,2,    0.00,2,    2.24,2,   0.775,2,   0.358,2,   0.0000,4,  2256.3,6, 2359.40,2,   7.5964,2, -999.00,9,  -999.0,9,  -999.0,   -0.14,2,    39.6,2,   33.53,2,    14.7766,3, 20190430,     2206, -51.0003,  30.0005,      25.03,     0.0676,2,      1.418,1,      0.064,1,      3.580,1
325020190403,       I06S,      43,          1,          2,          2,2,20190430,       2206,   -51.0003,    30.0005,       5834,  5921.4,   0.0672,  34.6575,2,  34.6582,2,    234.9,2,   235.0,2,   132.5,2,   32.86,2,    0.00,2,    2.23,2,   0.761,2,   0.351,2,   0.0000,4,  2255.1,2, -999.00,9,-999.0000,9, -999.00,9,  -999.0,9,  -999.0,   -0.12,2,    39.8,2,   33.24,2,    14.8202,3, 20190430,     2209, -51.0003,  30.0005,     -999.0,      0.067,2,      0.258,1,      0.060,1,      4.572,1
325020190403,       I06S,      43,          1,          3,          3,2,20190430,       2206,   -51.0003,    30.0005,       5834,  5887.9,   0.0699,  34.6578,2,   34.658,2,    234.9,2,   235.5,2,   132.1,2,   32.88,2,    0.00,2,    2.25,2,-999.000,9,-999.000,9,-999.0000,9,  2256.6,2, 2358.34,2,   7.5962,2, -999.00,9,  -999.0,9,  -999.0,   -0.06,2,  -999.0,9, -999.00,9,     -999.0,9, 20190430,     2211, -51.0003,  30.0005,      25.02,     0.0695,2,      0.198,1,      0.059,1,      4.642,1
325020190403,       I06S,      43,          1,          4,          4,2,20190430,       2206,   -51.0003,    30.0005,       5834,  5474.0,   0.0569,  34.6595,2,  34.6613,2,    233.4,2,   233.7,2,   131.5,2,   32.88,2,    0.00,2,    2.24,2,   0.766,2,   0.336,2,   0.0000,4,  2254.4,2, -999.00,9,-999.0000,9, -999.00,9,  -999.0,9,  -999.0,   -0.03,2,    40.4,2,   33.68,2,    16.4125,3, 20190430,     2220, -51.0003,  30.0005,     -999.0,     0.0568,2,      0.138,1,      0.060,1,      4.711,1
325020190403,       I06S,      43,          1,          5,          5,2,20190430,       2206,   -51.0003,    30.0005,       5834,  5061.1,   0.0626,  34.6617,2,  34.6621,2,    232.0,2,   231.9,2,   131.2,2,   32.89,2,    0.00,2,    2.24,2,-999.000,9,-999.000,9,-999.0000,9,  2255.9,2, 2359.42,2,   7.5952,2, -999.00,9,  -999.0,9,  -999.0,   -0.03,2,    40.5,2,   34.11,2,     -999.0,9, 20190430,     2228, -51.0010,  30.0002,      25.04,     0.0626,2,      0.136,1,      0.059,1,      4.715,1
325020190403,       I06S,      43,          1,          6,          6,2,20190430,       2206,   -51.0003,    30.0005,       5834,  4647.0,   0.1069,  34.6654,2,  34.6658,2,    227.1,2,   229.1,2,   130.6,2,   32.90,2,    0.00,2,    2.24,2,-999.000,9,-999.000,9,-999.0000,9,  2258.1,2, 2352.39,2,   7.5951,2, -999.00,9,  -999.0,9,  -999.0, -999.00,9,  -999.0,9, -999.00,9,     -999.0,9, 20190430,     2236, -51.0020,  30.0000,      25.05,     0.1068,2,      0.128,1,      0.060,1,      4.718,1
325020190403,       I06S,      43,          1,          7,          7,2,20190430,       2206,   -51.0003,    30.0005,       5834,  4236.1,   0.2086,  34.6718,2,  34.6719,2,    224.5,2,   225.3,2,   128.8,2,   32.85,2,    0.00,2,    2.24,2,   0.577,2,   0.281,2,   0.0000,4,  2258.7,2, -999.00,9,-999.0000,9, -999.00,9,  -999.0,9,  -999.0,   -0.05,6,    39.8,2,   36.31,2,    12.8425,3, 20190430,     2244, -51.0029,  29.9998,     -999.0,     0.2089,2,      0.130,1,      0.060,1,      4.720,1
325020190403,       I06S,      43,          1,          8,          8,2,20190430,       2206,   -51.0003,    30.0005,       5834,  3826.3,    0.624,  34.6917,2,  34.6915,2,    213.2,2,   213.3,2,   122.4,2,   32.57,2,    0.00,2,    2.23,2,   0.453,2,   0.209,2,   0.0000,4,  2260.3,2, 2364.93,2,   7.5962,2, -999.00,9,  -999.0,9,  -999.0, -999.00,9,    40.5,2,   36.09,2,     15.297,3, 20190430,     2251, -51.0034,  29.9996,      25.05,     0.6238,2,      0.124,1,      0.061,1,      4.723,1
325020190403,       I06S,      43,          1,          9,          9,2,20190430,       2206,   -51.0003,    30.0005,       5834,  3414.8,   0.8493,  34.7059,2,  34.7058,2,    209.1,2,   210.0,2,   115.8,2,   32.08,2,    0.00,2,    2.21,2,-999.000,9,-999.000,9,-999.0000,9,  2258.2,2, 2363.55,2,   7.6021,2, -999.00,9,  -999.0,9,  -999.0,    0.08,2,  -999.0,9, -999.00,9,     -999.0,9, 20190430,     2259, -51.0037,  29.9995,      24.96,     0.8486,2,      0.126,1,      0.060,1,      4.724,1
325020190403,       I06S,      43,          1,         10,         10,2,20190430,       2206,   -51.0003,    30.0005,       5834,  3004.2,    1.175,  34.7302,2,  34.7308,2,    208.0,2,   208.9,2,   104.1,2,   30.94,2,    0.00,2,    2.13,2,-999.000,9,-999.000,9,-999.0000,9,  2254.5,2, -999.00,9,-999.0000,9, -999.00,9,  -999.0,9,  -999.0, -999.00,9,    40.7,2,   35.00,2,     -999.0,9, 20190430,     2307, -51.0040,  29.9994,     -999.0,     1.1751,2,      0.128,1,      0.062,1,      4.724,1
325020190403,       I06S,      43,          1,         11,         11,2,20190430,       2206,   -51.0003,    30.0005,       5834,  2597.3,   1.5613,   34.759,2,   34.759,2,    209.0,2,   208.8,2,    90.9,2,   29.66,2,    0.00,2,    2.05,2,   0.172,2,   0.084,2,   0.0000,4,  2244.7,2, 2356.60,2,   7.6281,2, -999.00,9,  -999.0,9,  -999.0,    0.17,2,    40.0,2,   32.11,2,    12.9642,3, 20190430,     2314, -51.0045,  29.9993,      25.07,     1.5619,2,      0.128,1,      0.060,1,      4.724,1
325020190403,       I06S,      43,          1,         12,         12,2,20190430,       2206,   -51.0003,    30.0005,       5834,  2202.3,   1.8638,  34.7746,2,  34.7751,2,    207.0,2,   207.2,2,    81.8,2,   28.95,2,    0.00,2,    1.99,2,-999.000,9,-999.000,9,-999.0000,9,  2237.1,2, -999.00,9,-999.0000,9, -999.00,9,  -999.0,9,  -999.0, -999.00,9,  -999.0,9, -999.00,9,     -999.0,9, 20190430,     2322, -51.0050,  29.9991,     -999.0,     1.8641,2,      0.126,1,      0.062,1,      4.724,1
325020190403,       I06S,      43,          1,         13,         13,2,20190430,       2206,   -51.0003,    30.0005,       5834,  1968.4,    2.003,  34.7713,2,  34.7736,3,    202.2,2,   202.5,2,    79.4,2,   29.21,2,    0.00,2,    2.01,2,   0.152,2,   0.077,2,   0.0000,4,  -999.0,9, -999.00,9,-999.0000,9, -999.00,9,  -999.0,9,  -999.0,    0.17,2,    38.0,2,   31.91,2,    12.9374,3, 20190430,     2326, -51.0053,  29.9989,     -999.0,     2.0026,2,      0.126,1,      0.063,1,      4.724,1
325020190403,       I06S,      43,          1,         14,         14,2,20190430,       2206,   -51.0003,    30.0005,       5834,  1764.2,   2.1808,  34.7705,2,   34.771,2,    198.8,2,   199.4,2,    75.5,2,   29.16,2,    0.00,2,    2.02,2,-999.000,9,-999.000,9,-999.0000,9,  -999.0,9, -999.00,9,-999.0000,9, -999.00,9,  -999.0,9,  -999.0, -999.00,9,    39.4,2,   32.83,2,     -999.0,9, 20190430,     2331, -51.0057,  29.9988,     -999.0,     2.1801,2,      0.128,1,      0.062,1,      4.724,1
325020190403,       I06S,      43,          1,         15,         15,2,20190430,       2206,   -51.0003,    30.0005,       5834,  1562.1,   2.3556,  34.7564,2,  34.7579,2,    193.6,2,   193.7,2,    73.0,2,   29.71,2,    0.00,2,    2.06,2,   0.202,2,   0.088,2,   0.0000,4,  2238.1,2, 2346.10,2,   7.6139,2, -999.00,9,  -999.0,9,  -999.0,    0.14,2,  -999.0,9, -999.00,9,     16.645,3, 20190430,     2335, -51.0060,  29.9987,      25.01,      2.356,2,      0.129,1,      0.060,1,      4.724,1
325020190403,       I06S,      43,          1,         16,         16,2,20190430,       2206,   -51.0003,    30.0005,       5834,  1389.6,   2.4218,  34.7397,2,    34.74,2,    187.9,2,   189.1,2,    72.5,2,   30.29,2,    0.00,2,    2.11,2,-999.000,9,-999.000,9,-999.0000,9,  -999.0,9, -999.00,9,-999.0000,9, -999.00,9,  -999.0,9,  -999.0, -999.00,9,    38.1,2,   33.33,2,     -999.0,9, 20190430,     2339, -51.0063,  29.9987,     -999.0,      2.421,2,      0.127,1,      0.060,1,      4.723,1
325020190403,       I06S,      43,          1,         17,         17,2,20190430,       2206,   -51.0003,    30.0005,       5834,  1287.5,   2.3801,  34.6974,2,  34.6982,2,    180.4,2,   180.3,2,    76.4,2,   31.95,2,    0.00,2,    2.23,2,   0.326,2,   0.156,2,   0.0000,4,  2249.5,2, 2342.37,2,   7.5829,2, -999.00,9,  -999.0,9,  -999.0,    0.12,2,    39.1,2,   34.82,2,    16.7865,3, 20190430,     2342, -51.0063,  29.9986,      25.03,     2.3796,2,      0.129,1,      0.062,1,      4.722,1
325020190403,       I06S,      43,          1,         18,         18,2,20190430,       2206,   -51.0003,    30.0005,       5834,  1185.6,   2.4613,  34.6742,2,  34.6744,2,    178.6,2,   177.3,2,    74.6,2,   32.36,2,    0.00,2,    2.26,2,-999.000,9,-999.000,9,-999.0000,9,  -999.0,9, -999.00,9,-999.0000,9, -999.00,9,  -999.0,9,  -999.0, -999.00,9,  -999.0,9, -999.00,9,     -999.0,9, 20190430,     2345, -51.0064,  29.9986,     -999.0,     2.4629,2,      0.130,1,      0.061,1,      4.722,1
325020190403,       I06S,      43,          1,         19,         19,2,20190430,       2206,   -51.0003,    30.0005,       5834,  1084.8,   2.5504,   34.651,2,  34.6529,2,    175.4,2,   175.9,2,    71.9,2,   32.64,2,    0.00,2,    2.28,2,   0.412,2,   0.187,2,   0.0000,4,  2248.5,2, 2342.66,2,   7.5725,2, -999.00,9,  -999.0,9,  -999.0,    0.16,2,    38.3,2,   33.78,2,     19.179,3, 20190430,     2347, -51.0064,  29.9986,      25.03,       2.55,2,      0.130,1,      0.062,1,      4.721,1
325020190403,       I06S,      43,          1,         20,         20,2,20190430,       2206,   -51.0003,    30.0005,       5834,   982.2,   2.5852,  34.6185,2,  34.6191,2,    173.1,2,   174.0,2,    70.7,2,   33.23,2,    0.00,2,    2.32,2,   0.501,2,   0.232,2,   0.0000,4,  2249.7,6, 2338.16,2,   7.5652,2, -999.00,9,  -999.0,9,  -999.0, -999.00,9,    39.2,2,   34.88,2,    20.3745,3, 20190430,     2349, -51.0064,  29.9985,      25.05,     2.5766,2,      0.131,1,      0.062,1,      4.722,1
325020190403,       I06S,      43,          1,         21,         21,2,20190430,       2206,   -51.0003,    30.0005,       5834,   881.6,   2.5715,  34.5677,2,   34.567,2,    172.6,2,   172.6,2,    70.0,2,   34.07,2,    0.00,2,    2.37,2,   0.664,2,   0.326,2,   0.0000,4,  2250.4,2, -999.00,9,-999.0000,9, -999.00,9,  -999.0,9,  -999.0,    0.15,2,  -999.0,9, -999.00,9,    16.5439,3, 20190430,     2351, -51.0064,  29.9985,     -999.0,     2.5601,2,      0.134,1,      0.061,1,      4.721,1
325020190403,       I06S,      43,          1,         22,         22,2,20190430,       2206,   -51.0003,    30.0005,       5834,   778.5,   2.5566,  34.4995,2,  34.5017,2,    176.0,2,   175.7,2,    67.1,2,   34.74,2,    0.00,2,    2.41,2,   1.011,2,   0.511,2,   0.4245,2,  -999.0,9, -999.00,9,-999.0000,9, -999.00,9,  -999.0,9,  -999.0, -999.00,9,    38.0,2,   34.64,2,    16.0949,3, 20190430,     2353, -51.0065,  29.9985,     -999.0,     2.5553,2,      0.134,1,      0.061,1,      4.720,1
325020190403,       I06S,      43,          1,         23,         23,2,20190430,       2206,   -51.0003,    30.0005,       5834,   677.2,   2.6069,  34.4303,2,  34.4315,2,    183.7,2,   182.6,2,    61.2,2,   34.74,2,    0.00,2,    2.41,2,   1.535,2,   0.706,2,   0.3935,2,  2242.2,2, 2326.39,2,   7.5459,2, -999.00,9,  -999.0,9,  -999.0,    0.12,2,    38.6,2,   34.07,2,    18.5571,3, 20190430,     2355, -51.0066,  29.9984,      25.03,     2.6137,2,      0.134,1,      0.060,1,      4.719,1
325020190403,       I06S,      43,          1,         24,         24,2,20190430,       2206,   -51.0003,    30.0005,       5834,   576.9,   2.7594,  34.3648,2,  34.3674,2,    193.7,2,   193.4,2,    53.2,2,   34.17,2,    0.00,2,    2.38,2,   1.927,2,   0.975,2,   0.6029,2,  -999.0,9, -999.00,9,-999.0000,9, -999.00,9,  -999.0,9,  -999.0, -999.00,9,  -999.0,9, -999.00,9,    16.2796,3, 20190430,     2356, -51.0067,  29.9984,     -999.0,     2.7407,2,      0.136,1,      0.061,1,      4.719,1
325020190403,       I06S,      43,          1,         25,         25,2,20190430,       2206,   -51.0003,    30.0005,       5834,   474.0,   2.8359,  34.2838,2,  34.2851,2,    210.9,2,   209.7,2,    44.1,2,   33.20,2,    0.00,2,    2.31,2,   2.942,2,   1.323,2,   1.0211,2,  2216.9,2, 2308.39,2,   7.5691,2, -999.00,9,  -999.0,9,  -999.0,    0.04,2,    41.3,2,   36.52,2,    20.0984,3, 20190430,     2358, -51.0069,  29.9983,      25.04,     2.8444,2,      0.136,1,      0.062,1,      4.719,1
325020190403,       I06S,      43,          1,         26,         26,2,20190430,       2206,   -51.0003,    30.0005,       5834,   395.0,   2.9003,  34.2185,2,  34.2185,2,    225.1,2,   224.4,2,    37.4,2,   32.23,2,    0.00,2,    2.24,2,   3.433,2,   1.637,2,   1.3004,2,  -999.0,9, -999.00,9,-999.0000,9, -999.00,9,  -999.0,9,  -999.0, -999.00,9,    43.3,2,   34.23,2,    15.1402,3, 20190430,     2359, -51.0071,  29.9982,     -999.0,     2.9103,2,      0.141,1,      0.060,1,      4.716,1
325020190403,       I06S,      43,          1,         27,         27,2,20190430,       2206,   -51.0003,    30.0005,       5834,   343.5,   2.9967,  34.1761,2,  34.1766,2,    236.6,2,   236.1,2,    32.4,2,   31.26,2,    0.00,2,    2.17,2,   4.269,2,   1.878,2,   1.7107,2,  2196.4,2, 2292.86,2,   7.5973,2, -999.00,9,  -999.0,9,  -999.0,    0.05,6,  -999.0,9, -999.00,9,    17.3557,3, 20190501,        0, -51.0072,  29.9982,      25.02,      3.001,2,      0.143,1,      0.059,1,      4.714,1
325020190403,       I06S,      43,          1,         28,         28,2,20190430,       2206,   -51.0003,    30.0005,       5834,   294.4,   3.0831,  34.1326,2,  34.1342,2,    250.0,2,   249.0,2,    27.6,2,   30.19,2,    0.00,2,    2.09,2,   4.147,2,   1.968,2,   1.9382,2,  -999.0,9, -999.00,9,-999.0000,9, -999.00,9,  -999.0,9,  -999.0, -999.00,9,    42.5,2,   33.20,2,    11.3547,3, 20190501,        1, -51.0073,  29.9981,     -999.0,     3.0868,2,      0.147,1,      0.061,1,      4.711,1
325020190403,       I06S,      43,          1,         29,         29,2,20190430,       2206,   -51.0003,    30.0005,       5834,   245.5,   3.2741,  34.1013,2,  34.1023,2,    261.3,2,   260.0,2,    22.9,2,   29.03,2,    0.00,2,    2.00,2,   5.143,2,   2.196,2,   2.2709,2,  2177.7,2, 2278.37,2,   7.6269,2, -999.00,9,  -999.0,9,  -999.0,   -0.05,2,    38.9,2,   30.66,2,    15.9026,3, 20190501,        2, -51.0073,  29.9981,      25.03,     3.3189,3,      0.156,1,      0.060,1,      4.711,1
325020190403,       I06S,      43,          1,         30,         30,2,20190430,       2206,   -51.0003,    30.0005,       5834,   194.1,   3.5894,  34.0563,2,   34.061,2,    271.8,2,   271.2,2,    18.2,2,   27.53,2,    0.00,2,    1.91,2,   5.139,2,   2.318,2,   2.6675,2,  -999.0,9, -999.00,9,-999.0000,9, -999.00,9,  -999.0,9,  -999.0,   -0.08,2,  -999.0,9, -999.00,9,    10.8253,3, 20190501,        3, -51.0074,  29.9981,     -999.0,     3.5946,2,      0.157,1,      0.060,1,      4.706,1
325020190403,       I06S,      43,          1,         31,         31,2,20190430,       2206,   -51.0003,    30.0005,       5834,   143.2,   3.6818,  33.9759,2,  33.9794,2,    284.4,2,   284.6,2,    15.1,2,   26.03,2,    0.00,2,    1.81,2,   5.794,2,   2.468,2,   3.0899,2,  2160.0,2, 2273.95,2,   7.6606,2, -999.00,9,  -999.0,9,  -999.0,   -0.04,2,    39.2,2,   24.90,2,    10.7673,3, 20190501,        3, -51.0074,  29.9980,      25.04,     3.7257,3,      0.156,1,      0.059,1,      4.705,1
325020190403,       I06S,      43,          1,         32,         32,2,20190430,       2206,   -51.0003,    30.0005,       5834,    97.0,   4.5238,  33.8104,2,  33.8163,2,    311.8,3,   306.6,2,     4.6,2,   22.64,2,    0.23,2,    1.60,2,   5.688,2,   2.489,2,   2.9185,2,  -999.0,9, -999.00,9,-999.0000,9, -999.00,9,  -999.0,9,  -999.0,   -0.17,2,    41.7,2,   26.11,2,    16.5466,3, 20190501,        5, -51.0075,  29.9981,     -999.0,     4.5575,3,      0.169,1,      0.140,1,      4.668,1
325020190403,       I06S,      43,          1,         33,         33,2,20190430,       2206,   -51.0003,    30.0005,       5834,    73.5,   4.6388,  33.7927,2,  33.7946,2,    310.8,2,   309.3,2,     3.5,2,   22.15,2,    0.26,2,    1.56,2,   5.209,2,   2.483,2,   2.6307,2,  2140.5,2, 2276.71,2,   7.7245,2, -999.00,9,  -999.0,9,  -999.0,   -0.14,2,  -999.0,9, -999.00,9,    15.1006,3, 20190501,        5, -51.0075,  29.9980,      25.01,      4.666,2,      0.179,1,      0.160,1,      4.659,1
325020190403,       I06S,      43,          1,         34,         34,2,20190430,       2206,   -51.0003,    30.0005,       5834,    47.4,   4.7906,  33.7795,2,  33.7812,2,    310.2,2,   309.2,2,     2.8,2,   21.78,2,    0.28,2,    1.54,2,   5.209,2,   2.517,2,   2.9832,2,  -999.0,9, -999.00,9,-999.0000,9, -999.00,9,  -999.0,9,  -999.0,   -0.23,2,    42.3,2,   27.87,2,    14.8571,3, 20190501,        6, -51.0076,  29.9980,     -999.0,     4.7957,2,      0.194,1,      0.191,1,      4.640,1
325020190403,       I06S,      43,          1,         35,         35,2,20190430,       2206,   -51.0003,    30.0005,       5834,    26.9,   4.8042,  33.7795,2,  33.7806,2,    309.2,2,   309.2,2,     2.9,2,   21.55,2,    0.29,2,    1.52,2,   5.147,2,   2.516,2,   3.1276,2,  -999.0,9, -999.00,9,-999.0000,9, -999.00,9,  -999.0,9,  -999.0,    -0.2,2,  -999.0,9, -999.00,9,    14.9312,3, 20190501,        6, -51.0076,  29.9980,     -999.0,     4.8069,2,      0.194,1,      0.188,1,      4.639,1
325020190403,       I06S,      43,          1,         36,         36,2,20190430,       2206,   -51.0003,    30.0005,       5834,    10.8,   4.8201,  33.7789,2,    33.78,2,    308.5,2,   309.1,2,     2.7,2,   21.42,2,    0.29,2,    1.52,2,   5.066,2,   2.481,2,   3.1043,2,  2138.1,6, 2278.10,2,   7.7305,2, -999.00,9,  -999.0,9,  -999.0,   -0.19,2,    42.8,2,   27.65,2,     14.817,3, 20190501,        7, -51.0076,  29.9980,      25.02,      4.819,2,      0.198,1,      0.183,1,      4.639,1