BOTTLE,20210804CCHSIOCBG
EXPOCODE,SECT_ID,STNNBR,CASTNO,SAMPNO,BTLNBR,BTLNBR_FLAG_W,DATE,TIME,LATITUDE,LONGITUDE,DEPTH,CTDPRS,CTDTMP,CTDSAL,CTDSAL_FLAG_W,SALNTY,SALNTY_FLAG_W,CTDOXY,CTDOXY_FLAG_W,OXYGEN,OXYGEN_FLAG_W,SILCAT,SILCAT_FLAG_W,NITRAT,NITRAT_FLAG_W,NITRIT,NITRIT_FLAG_W,PHSPHT,PHSPHT_FLAG_W,CFC-11,CFC-11_FLAG_W,CFC-12,CFC-12_FLAG_W,SF6,SF6_FLAG_W,TCARBN,TCARBN_FLAG_W,ALKALI,ALKALI_FLAG_W,PH_TOT,PH_TOT_FLAG_W,DELC13,DELC13_FLAG_W,DELC14,DELC14_FLAG_W,C14ERR,DELO18,DELO18_FLAG_W,DOC,DOC_FLAG_W,TDN,TDN_FLAG_W,N2O,N2O_FLAG_W,BTL_DATE,BTL_TIME,BTL_LAT,BTL_LON,PH_TMP,REFTMP,REFTMP_FLAG_W,CTDBACKSCATTER,CTDBACKSCATTER_FLAG_W,CTDFLUOR,CTDFLUOR_FLAG_W,CTDXMISS,CTDXMISS_FLAG_W
,,,,,,,,,,,METERS,DBAR,ITS-90,PSS-78,,PSS-78,,UMOL/KG,,UMOL/KG,,UMOL/KG,,UMOL/KG,,UMOL/KG,,UMOL/KG,,PMOL/KG,,PMOL/KG,,FMOL/KG,,UMOL/KG,,UMOL/KG,,,,/MILLE,,/MILLE,,/MILLE,/MILLE,,UMOL/KG,,UMOL/KG,,NMOL/KG,,,,,,DEG C,ITS-90,,VOLTS,,VOLTS,,VOLTS,
325020190403,       I06S,      12,          1,          1,          1,2,20190418,       1050,   -66.4999,    30.0011,       4266,  4342.6,  -0.2866,   34.652,2,  34.6529,2,    241.6,2,   241.2,2,   136.5,2,   32.43,2,    0.00,2,    2.24,2,   0.859,2,   0.441,2,   0.2717,2,  2255.2,2, 2351.74,2,   7.5987,2, -999.00,9,  -999.0,9,  -999.0,    0.09,2,    39.8,2,   29.91,2,    23.4903,3, 20190418,     1050, -66.4999,  30.0011,      25.06,     -0.288,2,      0.135,1,      0.061,1,      4.638,1
325020190403,       I06S,      12,          1,          2,          2,2,20190418,       1050,   -66.4999,    30.0011,       4266,  4251.2,  -0.2612,   34.652,2,  34.6515,2,    242.0,2,   242.4,2,   128.8,2,   32.39,2,    0.00,2,    2.23,2,-999.000,9,-999.000,9,-999.0000,9,  -999.0,9, -999.00,9,-999.0000,9, -999.00,9,  -999.0,9,  -999.0,    0.05,2,    39.1,2,   31.97,2,     -999.0,9, 20190418,     1053, -66.4999,  30.0011,     -999.0,    -0.2597,2,      0.124,1,      0.061,1,      4.643,1
325020190403,       I06S,      12,          1,          3,          3,2,20190418,       1050,   -66.4999,    30.0011,       4266,  4076.2,  -0.2289,   34.653,2,  34.6517,2,    241.3,2,   241.6,2,   124.7,2,   32.26,2,    0.00,2,    2.23,2,   1.209,2,   0.637,2,   0.5099,2,  2253.3,6, 2351.27,2,   7.5969,2, -999.00,9,  -999.0,9,  -999.0,    0.01,2,  -999.0,9, -999.00,9,    23.9549,3, 20190418,     1056, -66.4999,  30.0011,      25.07,    -0.2281,2,      0.124,1,      0.062,1,      4.644,1
325020190403,       I06S,      12,          1,          4,          4,2,20190418,       1050,   -66.4999,    30.0011,       4266,  3767.3,  -0.2028,  34.6543,2,  34.6531,2,    239.5,2,   239.9,2,   122.7,2,   32.30,2,    0.00,2,    2.23,2,-999.000,9,-999.000,9,-999.0000,9,  -999.0,9, -999.00,9,-999.0000,9, -999.00,9,  -999.0,9,  -999.0,    0.24,2,    39.4,2,   33.12,2,     -999.0,9, 20190418,     1101, -66.4999,  30.0011,     -999.0,    -0.2028,2,      0.125,1,      0.061,1,      4.644,1
325020190403,       I06S,      12,          1,          5,          5,2,20190418,       1050,   -66.4999,    30.0011,       4266,  3460.1,   -0.181,  34.6557,2,  34.6556,2,    236.6,2,   237.8,2,   122.4,2,   32.33,2,    0.00,2,    2.23,2,   1.168,2,   0.618,2,   0.4583,2,  2252.6,2, 2351.74,2,   7.5942,2, -999.00,9,  -999.0,9,  -999.0,    0.07,2,    38.8,2,   33.22,2,    23.7676,3, 20190418,     1106, -66.4999,  30.0012,      25.08,     -0.181,2,      0.124,1,      0.059,1,      4.645,1
325020190403,       I06S,      12,          1,          6,          6,2,20190418,       1050,   -66.4999,    30.0011,       4266,  3153.5,  -0.1519,   34.657,2,  34.6564,2,    233.8,2,   235.2,2,   122.5,2,   32.26,2,    0.00,2,    2.24,2,-999.000,9,-999.000,9,-999.0000,9,  -999.0,9, -999.00,9,-999.0000,9, -999.00,9,  -999.0,9,  -999.0, -999.00,9,  -999.0,9, -999.00,9,     -999.0,9, 20190418,     1111, -66.4999,  30.0011,     -999.0,    -0.1516,2,      0.123,1,      0.062,1,      4.645,1
325020190403,       I06S,      12,          1,          7,          7,2,20190418,       1050,   -66.4999,    30.0011,       4266,  2881.2,  -0.1187,  34.6588,2,   34.658,2,    231.8,2,   232.6,2,   122.7,2,   32.40,2,    0.00,2,    2.24,2,   1.084,2,   0.565,2,   0.4441,2,  2256.4,2, 2353.59,2,   7.5923,2, -999.00,9,  -999.0,9,  -999.0,    0.04,2,    38.6,2,   32.18,2,    24.2057,3, 20190418,     1115, -66.4999,  30.0011,      25.09,    -0.1182,2,      0.123,1,      0.062,1,      4.646,1
325020190403,       I06S,      12,          1,          8,          8,2,20190418,       1050,   -66.4999,    30.0011,       4266,  2617.6,  -0.0782,  34.6613,2,  34.6611,2,    228.5,2,   230.1,2,   123.5,2,   32.43,2,    0.00,2,    2.25,2,-999.000,9,-999.000,9,-999.0000,9,  -999.0,9, -999.00,9,-999.0000,9, -999.00,9,  -999.0,9,  -999.0,    0.16,2,    38.3,2,   31.26,2,     -999.0,9, 20190418,     1120, -66.4999,  30.0012,     -999.0,    -0.0795,2,      0.124,1,      0.061,1,      4.646,1
325020190403,       I06S,      12,          1,          9,          9,2,20190418,       1050,   -66.4999,    30.0011,       4266,  2371.3,  -0.0358,  34.6629,2,  34.6629,2,    227.0,2,   228.2,2,   122.8,2,   32.46,2,    0.00,2,    2.24,2,   0.956,2,   0.500,2,   0.4456,2,  2255.0,2, 2351.76,2,   7.5901,2, -999.00,9,  -999.0,9,  -999.0, -999.00,9,  -999.0,9, -999.00,9,    24.4852,3, 20190418,     1124, -66.4999,  30.0012,      25.09,    -0.0351,2,      0.124,1,      0.060,1,      4.646,1
325020190403,       I06S,      12,          1,         10,         10,2,20190418,       1050,   -66.4999,    30.0011,       4266,  2115.3,   0.0239,  34.6662,2,  34.6646,2,    223.5,2,   224.6,2,   123.2,2,   32.57,2,    0.00,2,    2.25,2,-999.000,9,-999.000,9,-999.0000,9,  -999.0,9, -999.00,9,-999.0000,9, -999.00,9,  -999.0,9,  -999.0, -999.00,9,    39.1,2,   31.26,2,     -999.0,9, 20190418,     1128, -66.4999,  30.0011,     -999.0,     0.0255,2,      0.125,1,      0.063,1,      4.646,1
325020190403,       I06S,      12,          1,         11,         11,2,20190418,       1050,   -66.4999,    30.0011,       4266,  1891.8,   0.1002,    34.67,2,   34.669,2,    220.2,2,   221.0,2,   123.2,2,   32.53,2,    0.00,2,    2.25,2,   0.749,2,   0.388,2,   0.3092,2,  2257.9,2, 2354.47,2,   7.5872,2, -999.00,9,  -999.0,9,  -999.0,   -0.03,2,    39.1,2,   32.81,2,    24.4721,3, 20190418,     1132, -66.4999,  30.0011,      25.09,      0.103,2,      0.125,1,      0.062,1,      4.647,1
325020190403,       I06S,      12,          1,         12,         12,2,20190418,       1050,   -66.4999,    30.0011,       4266,  1688.2,   0.1673,  34.6727,2,  34.6717,2,    217.0,2,   218.6,2,   122.5,2,   32.59,2,    0.00,2,    2.25,2,-999.000,9,-999.000,9,-999.0000,9,  -999.0,9, -999.00,9,-999.0000,9, -999.00,9,  -999.0,9,  -999.0, -999.00,9,  -999.0,9, -999.00,9,     -999.0,9, 20190418,     1135, -66.4999,  30.0012,     -999.0,     0.1702,2,      0.126,1,      0.060,1,      4.646,1
325020190403,       I06S,      12,          1,         13,         13,2,20190418,       1050,   -66.4999,    30.0011,       4266,  1554.5,   0.2261,   34.675,2,  34.6739,2,    215.0,2,   216.3,2,   121.2,2,   32.67,2,    0.00,2,    2.25,2,   0.685,2,   0.360,2,   0.3171,2,  2260.1,2, 2353.39,2,   7.5857,2, -999.00,9,  -999.0,9,  -999.0,    0.07,2,    39.2,2,   32.46,2,     24.888,3, 20190418,     1137, -66.4999,  30.0011,      25.09,     0.2297,2,      0.125,1,      0.061,1,      4.647,1
325020190403,       I06S,      12,          1,         14,         14,2,20190418,       1050,   -66.4999,    30.0011,       4266,  1440.1,   0.2766,  34.6774,2,  34.6764,2,    212.9,3,   215.1,2,   120.4,2,   32.58,2,    0.00,2,    2.25,2,-999.000,9,-999.000,9,-999.0000,9,  -999.0,9, -999.00,9,-999.0000,9, -999.00,9,  -999.0,9,  -999.0, -999.00,9,    39.5,2,   32.07,2,     -999.0,9, 20190418,     1139, -66.4999,  30.0011,     -999.0,     0.2778,2,      0.125,1,      0.061,1,      4.646,1
325020190403,       I06S,      12,          1,         15,         15,2,20190418,       1050,   -66.4999,    30.0011,       4266,  1351.6,   0.3149,  34.6786,2,  34.6778,2,    212.5,2,   213.5,2,   119.2,2,   32.60,2,    0.00,2,    2.25,2,   0.672,2,   0.349,2,   0.2752,2,  2260.2,2, 2354.11,2,   7.5848,2, -999.00,9,  -999.0,9,  -999.0,    0.24,6,  -999.0,9, -999.00,9,    24.7938,3, 20190418,     1141, -66.4999,  30.0011,      25.09,     0.3173,2,      0.126,1,      0.062,1,      4.646,1
325020190403,       I06S,      12,          1,         16,         16,2,20190418,       1050,   -66.4999,    30.0011,       4266,  1249.7,   0.3618,  34.6798,2,  34.6797,2,    211.5,2,   212.6,2,   117.7,2,   32.60,2,    0.00,2,    2.25,2,-999.000,9,-999.000,9,-999.0000,9,  -999.0,9, -999.00,9,-999.0000,9, -999.00,9,  -999.0,9,  -999.0, -999.00,9,    40.3,2,   32.90,2,     -999.0,9, 20190418,     1142, -66.4999,  30.0011,     -999.0,     0.3662,2,      0.125,1,      0.062,1,      4.646,1
325020190403,       I06S,      12,          1,         17,         17,2,20190418,       1050,   -66.4999,    30.0011,       4266,  1145.8,   0.4346,  34.6834,2,  34.6829,2,    209.6,2,   210.5,2,   116.3,2,   32.58,2,    0.00,2,    2.25,2,   0.661,2,   0.334,2,   0.2457,2,  2258.2,2, 2355.29,2,   7.5849,2, -999.00,9,  -999.0,9,  -999.0,     0.1,2,    39.8,2,   33.04,2,    25.1596,3, 20190418,     1144, -66.4999,  30.0011,      25.08,      0.435,2,      0.126,1,      0.062,1,      4.646,1
325020190403,       I06S,      12,          1,         18,         18,2,20190418,       1050,   -66.4999,    30.0011,       4266,  1046.6,   0.5004,   34.686,2,   34.685,2,    209.1,2,   209.4,2,   114.6,2,   32.42,2,    0.00,2,    2.24,2,-999.000,9,-999.000,9,-999.0000,9,  -999.0,9, -999.00,9,-999.0000,9, -999.00,9,  -999.0,9,  -999.0, -999.00,9,  -999.0,9, -999.00,9,     -999.0,9, 20190418,     1146, -66.4999,  30.0011,     -999.0,     0.5057,2,      0.127,1,      0.063,1,      4.646,1
325020190403,       I06S,      12,          1,         19,         19,2,20190418,       1050,   -66.4999,    30.0011,       4266,   945.1,   0.5763,  34.6909,2,  34.6935,3,    207.3,2,   208.6,2,   112.1,2,   32.34,2,    0.00,2,    2.23,2,   0.666,2,   0.350,2,   0.3093,2,  2258.0,2, 2356.30,2,   7.5868,2, -999.00,9,  -999.0,9,  -999.0,    0.11,2,    40.2,2,   33.29,2,    25.1755,3, 20190418,     1147, -66.4999,  30.0011,      25.07,     0.5791,2,      0.127,1,      0.060,1,      4.646,1
325020190403,       I06S,      12,          1,         20,         20,2,20190418,       1050,   -66.4999,    30.0011,       4266,   844.5,   0.6449,  34.6905,2,  34.6896,2,    207.4,2,   207.9,2,   109.6,2,   32.19,2,    0.00,2,    2.22,2,-999.000,9,-999.000,9,-999.0000,9,  -999.0,9, -999.00,9,-999.0000,9, -999.00,9,  -999.0,9,  -999.0, -999.00,9,    39.6,2,   32.58,2,     -999.0,9, 20190418,     1149, -66.4999,  30.0011,     -999.0,      0.652,2,      0.128,1,      0.062,1,      4.646,1
325020190403,       I06S,      12,          1,         21,         21,2,20190418,       1050,   -66.4999,    30.0011,       4266,   742.2,    0.734,  34.6944,2,  34.6937,2,    207.2,2,   206.5,2,   107.4,2,   31.99,2,    0.00,2,    2.21,2,   0.673,2,   0.361,2,   0.3000,2,  2255.9,2, 2353.23,2,   7.5883,2, -999.00,9,  -999.0,9,  -999.0,    0.22,2,  -999.0,9, -999.00,9,    25.2369,3, 20190418,     1151, -66.4999,  30.0011,      25.07,     0.7279,2,      0.130,1,      0.062,1,      4.645,1
325020190403,       I06S,      12,          1,         22,         22,2,20190418,       1050,   -66.4999,    30.0011,       4266,   641.1,   0.8321,  34.6964,2,  34.6964,2,    206.0,2,   204.7,2,   104.6,2,   31.96,2,    0.00,2,    2.21,2,-999.000,9,-999.000,9,-999.0000,9,  -999.0,9, -999.00,9,-999.0000,9, -999.00,9,  -999.0,9,  -999.0, -999.00,9,    39.1,2,   32.29,2,     -999.0,9, 20190418,     1152, -66.4999,  30.0011,     -999.0,     0.8376,2,      0.129,1,      0.063,1,      4.644,1
325020190403,       I06S,      12,          1,         23,         23,2,20190418,       1050,   -66.4999,    30.0011,       4266,   539.2,   0.8997,  34.6949,2,  34.6943,2,    204.1,2,   204.1,2,   101.4,2,   31.85,2,    0.00,2,    2.20,2,   0.745,2,   0.400,2,   0.3525,2,  2254.3,2, 2349.99,2,   7.5868,2, -999.00,9,  -999.0,9,  -999.0,    0.15,2,    39.6,2,   32.36,2,    25.3883,3, 20190418,     1154, -66.4999,  30.0012,      25.10,     0.9006,2,      0.132,1,      0.062,1,      4.644,1
325020190403,       I06S,      12,          1,         24,         24,4,20190418,       1050,   -66.4999,    30.0011,       4266,   470.0,   0.9244,  34.6907,2,  34.6841,3,    204.3,2,   204.4,3,    97.4,3,   31.83,3,    0.00,3,    2.19,3,-999.000,9,-999.000,9,-999.0000,9,  -999.0,9, -999.00,9,-999.0000,9, -999.00,9,  -999.0,9,  -999.0, -999.00,9,  -999.0,9, -999.00,9,     -999.0,9, 20190418,     1155, -66.4999,  30.0011,     -999.0,     0.9267,2,      0.132,1,      0.063,1,      4.644,1
325020190403,       I06S,      12,          1,         25,         25,2,20190418,       1050,   -66.4999,    30.0011,       4266,   418.9,   0.9736,  34.6885,2,  34.6862,2,    202.9,2,   202.7,2,    96.6,2,   31.89,2,    0.00,2,    2.19,2,   0.871,2,   0.463,2,   0.4462,2,  2253.7,2, 2346.45,2,   7.5818,2, -999.00,9,  -999.0,9,  -999.0,    0.07,2,    40.4,2,   31.49,2,    25.7438,3, 20190418,     1156, -66.4999,  30.0011,      25.11,      0.975,2,      0.130,1,      0.062,1,      4.643,1
325020190403,       I06S,      12,          1,         26,         26,2,20190418,       1050,   -66.4999,    30.0011,       4266,   367.4,   0.9584,  34.6773,2,  34.6768,2,    204.0,2,   203.3,2,    94.3,2,   31.94,2,    0.00,2,    2.19,2,-999.000,9,-999.000,9,-999.0000,9,  -999.0,9, -999.00,9,-999.0000,9, -999.00,9,  -999.0,9,  -999.0, -999.00,9,    40.4,2,   30.76,2,     -999.0,9, 20190418,     1157, -66.4999,  30.0011,     -999.0,      0.963,2,      0.134,1,      0.063,1,      4.643,1
325020190403,       I06S,      12,          1,         27,         27,2,20190418,       1050,   -66.4999,    30.0011,       4266,   317.4,   0.9689,    34.67,2,   34.669,2,    203.0,2,   202.2,2,    92.8,2,   32.19,2,    0.00,2,    2.19,2,-999.000,5,-999.000,5,-999.0000,5,  2253.2,2, 2345.57,2,   7.5745,2, -999.00,9,  -999.0,9,  -999.0,    0.09,2,  -999.0,9, -999.00,9,    26.3511,3, 20190418,     1158, -66.4999,  30.0011,      25.11,     0.9718,2,      0.134,1,      0.063,1,      4.641,1
325020190403,       I06S,      12,          1,         28,         28,2,20190418,       1050,   -66.4999,    30.0011,       4266,   268.0,   0.9352,  34.6572,2,  34.6548,2,    204.1,2,   203.1,2,    91.4,2,   32.37,2,    0.00,2,    2.21,2,-999.000,9,-999.000,9,-999.0000,9,  -999.0,9, -999.00,9,-999.0000,9, -999.00,9,  -999.0,9,  -999.0, -999.00,9,    41.7,2,   31.08,2,     -999.0,9, 20190418,     1159, -66.4999,  30.0011,     -999.0,     0.8963,2,      0.136,1,      0.064,1,      4.637,1
325020190403,       I06S,      12,          1,         29,         29,2,20190418,       1050,   -66.4999,    30.0011,       4266,   216.3,   0.7153,  34.6192,2,  34.6176,2,    209.4,2,   208.3,2,    88.0,2,   32.21,2,    0.00,2,    2.22,2,   1.646,2,   0.865,2,   0.8736,2,  2251.7,2, 2339.64,2,   7.5641,2, -999.00,9,  -999.0,9,  -999.0,     0.1,2,    39.8,2,   31.49,2,    26.7517,3, 20190418,     1159, -66.4999,  30.0012,      25.09,     0.6788,2,      0.138,1,      0.065,1,      4.636,1
325020190403,       I06S,      12,          1,         30,         30,2,20190418,       1050,   -66.4999,    30.0011,       4266,   165.1,   0.0957,  34.5431,2,  34.5375,2,    233.5,2,   233.9,2,    80.5,2,   31.96,2,    0.01,2,    2.20,2,-999.000,9,-999.000,9,-999.0000,9,  -999.0,9, -999.00,9,-999.0000,9, -999.00,9,  -999.0,9,  -999.0,    0.05,2,  -999.0,9, -999.00,9,     -999.0,9, 20190418,     1200, -66.4999,  30.0012,     -999.0,    -0.0014,3,      0.139,1,      0.068,1,      4.633,1
325020190403,       I06S,      12,          1,         31,         31,2,20190418,       1050,   -66.4999,    30.0011,       4266,   135.5,  -0.4249,  34.4795,2,  34.4719,2,    256.1,2,   256.0,2,    74.3,2,   31.64,2,    0.01,2,    2.16,2,   3.425,2,   1.786,2,   1.9195,2,  2239.2,2, 2329.07,2,   7.5788,2, -999.00,9,  -999.0,9,  -999.0,    0.24,2,    39.4,2,   30.74,2,    25.3597,3, 20190418,     1201, -66.4999,  30.0012,      25.10,    -0.7256,3,      0.140,1,      0.076,1,      4.633,1
325020190403,       I06S,      12,          1,         32,         32,2,20190418,       1050,   -66.4999,    30.0011,       4266,   111.1,  -1.2178,  34.3979,2,   34.386,2,    291.5,2,   292.3,2,    64.9,2,   30.79,2,    0.03,2,    2.08,2,-999.000,9,-999.000,9,-999.0000,9,  -999.0,9, -999.00,9,-999.0000,9, -999.00,9,  -999.0,9,  -999.0,   -0.09,6,    40.0,2,   29.73,2,     -999.0,9, 20190418,     1201, -66.4999,  30.0011,     -999.0,    -1.3397,3,      0.142,1,      0.087,1,      4.629,1
325020190403,       I06S,      12,          1,         33,         33,2,20190418,       1050,   -66.4999,    30.0011,       4266,    83.2,  -1.7228,  34.3478,2,  34.3456,2,    310.8,2,   310.6,2,    59.9,2,   30.06,2,    0.19,2,    2.05,2,   5.104,2,   2.679,2,   3.2103,2,  2223.6,2, 2322.55,2,   7.6054,2, -999.00,9,  -999.0,9,  -999.0,   -0.07,2,  -999.0,9, -999.00,9,    23.5878,3, 20190418,     1202, -66.4999,  30.0011,      25.05,    -1.7268,2,      0.155,1,      0.115,1,      4.616,1
325020190403,       I06S,      12,          1,         34,         34,2,20190418,       1050,   -66.4999,    30.0011,       4266,    58.5,  -1.6629,  34.3279,2,  34.3141,2,    339.4,3,   318.9,2,    57.4,2,   29.14,2,    0.18,2,    2.00,2,-999.000,9,-999.000,9,-999.0000,9,  -999.0,9, -999.00,9,-999.0000,9, -999.00,9,  -999.0,9,  -999.0,   -0.12,2,    39.7,2,   32.50,2,     -999.0,9, 20190418,     1202, -66.4999,  30.0011,     -999.0,    -1.2467,3,      0.190,1,      0.211,1,      4.576,1
325020190403,       I06S,      12,          1,         35,         35,2,20190418,       1050,   -66.4999,    30.0011,       4266,    34.9,  -1.0358,  34.0148,2,  34.0173,2,    341.4,2,   343.8,2,    47.4,2,   26.59,2,    0.21,2,    1.79,2,   6.006,2,   3.160,2,   3.8852,2,  2186.5,2, 2304.96,2,   7.6625,2, -999.00,9,  -999.0,9,  -999.0,   -0.14,2,  -999.0,9, -999.00,9,    21.0501,3, 20190418,     1203, -66.4999,  30.0011,      25.05,    -1.0369,2,      0.217,1,      0.262,1,      4.543,1
325020190403,       I06S,      12,          1,         36,         36,2,20190418,       1050,   -66.4999,    30.0011,       4266,     4.9,  -1.0375,  34.0167,2,   34.017,2,    345.5,2,   344.0,2,    47.6,2,   26.24,2,    0.21,2,    1.79,2,   6.019,2,   3.155,2,   3.9374,2,  2186.6,6, -999.00,9,-999.0000,9, -999.00,9,  -999.0,9,  -999.0,   -0.13,2,    41.2,2,   24.88,2,    20.9932,3, 20190418,     1204, -66.4999,  30.0011,     -999.0,    -1.0373,2,      0.221,1,      0.143,1,      4.543,1