BOTTLE,20210804CCHSIOCBG
EXPOCODE,SECT_ID,STNNBR,CASTNO,SAMPNO,BTLNBR,BTLNBR_FLAG_W,DATE,TIME,LATITUDE,LONGITUDE,DEPTH,CTDPRS,CTDTMP,CTDSAL,CTDSAL_FLAG_W,SALNTY,SALNTY_FLAG_W,CTDOXY,CTDOXY_FLAG_W,OXYGEN,OXYGEN_FLAG_W,SILCAT,SILCAT_FLAG_W,NITRAT,NITRAT_FLAG_W,NITRIT,NITRIT_FLAG_W,PHSPHT,PHSPHT_FLAG_W,CFC-11,CFC-11_FLAG_W,CFC-12,CFC-12_FLAG_W,SF6,SF6_FLAG_W,TCARBN,TCARBN_FLAG_W,ALKALI,ALKALI_FLAG_W,PH_TOT,PH_TOT_FLAG_W,DELC13,DELC13_FLAG_W,DELC14,DELC14_FLAG_W,C14ERR,DELO18,DELO18_FLAG_W,DOC,DOC_FLAG_W,TDN,TDN_FLAG_W,N2O,N2O_FLAG_W,BTL_DATE,BTL_TIME,BTL_LAT,BTL_LON,PH_TMP,REFTMP,REFTMP_FLAG_W,CTDBACKSCATTER,CTDBACKSCATTER_FLAG_W,CTDFLUOR,CTDFLUOR_FLAG_W,CTDXMISS,CTDXMISS_FLAG_W
,,,,,,,,,,,METERS,DBAR,ITS-90,PSS-78,,PSS-78,,UMOL/KG,,UMOL/KG,,UMOL/KG,,UMOL/KG,,UMOL/KG,,UMOL/KG,,PMOL/KG,,PMOL/KG,,FMOL/KG,,UMOL/KG,,UMOL/KG,,,,/MILLE,,/MILLE,,/MILLE,/MILLE,,UMOL/KG,,UMOL/KG,,NMOL/KG,,,,,,DEG C,ITS-90,,VOLTS,,VOLTS,,VOLTS,
325020190403,       I06S,      28,          1,          1,          1,2,20190423,       0423,   -58.5002,    30.0012,       5404,  5513.1,  -0.2353,  34.6493,2,  34.6489,2,    243.8,2,   243.6,2,   135.5,2,   32.37,2,    0.00,2,    2.23,2,   0.776,2,   0.409,2,   0.2974,2,  2253.3,6, 2351.79,2,   7.6019,2, -999.00,9,  -999.0,9,  -999.0,   -0.15,2,  -999.0,9, -999.00,9,     16.426,3, 20190423,      423, -58.5002,  30.0011,      25.05,    -0.2352,2,      0.143,1,      0.060,1,      4.603,1
325020190403,       I06S,      28,          1,          2,          2,2,20190423,       0423,   -58.5002,    30.0012,       5404,  5467.1,  -0.2345,  34.6497,2,  34.6509,2,    242.7,2,   243.4,2,   135.8,2,   32.41,2,    0.00,2,    2.23,2,-999.000,9,-999.000,9,-999.0000,9,  -999.0,9, -999.00,9,-999.0000,9, -999.00,9,  -999.0,9,  -999.0,   -0.15,2,  -999.0,9, -999.00,9,     -999.0,9, 20190423,      426, -58.5002,  30.0011,     -999.0,     -0.234,2,      0.140,1,      0.060,1,      4.604,1
325020190403,       I06S,      28,          1,          3,          3,2,20190423,       0423,   -58.5002,    30.0012,       5404,  5425.2,  -0.2167,  34.6504,2,  34.6499,2,    243.2,2,   243.1,2,   133.5,2,   32.43,2,    0.00,2,    2.23,2,   0.805,2,   0.400,2,   0.2563,2,  -999.0,9, -999.00,9,-999.0000,9, -999.00,9,  -999.0,9,  -999.0,   -0.07,2,  -999.0,9, -999.00,9,     17.774,3, 20190423,      428, -58.5002,  30.0012,     -999.0,    -0.2168,2,      0.143,1,      0.060,1,      4.603,1
325020190403,       I06S,      28,          1,          4,          4,2,20190423,       0423,   -58.5002,    30.0012,       5404,  5012.5,  -0.2049,   34.653,2,  34.6519,2,    240.7,2,   241.0,2,   131.1,2,   32.32,2,    0.00,2,    2.23,2,-999.000,9,-999.000,9,-999.0000,9,  2252.5,2, 2352.19,2,   7.6004,2, -999.00,9,  -999.0,9,  -999.0,   -0.14,2,  -999.0,9, -999.00,9,     -999.0,9, 20190423,      437, -58.5002,  30.0012,      25.04,    -0.2051,2,      0.125,1,      0.059,1,      4.629,1
325020190403,       I06S,      28,          1,          5,          5,2,20190423,       0423,   -58.5002,    30.0012,       5404,  4599.0,  -0.2022,  34.6545,2,  34.6535,2,    238.7,2,   239.2,2,   130.5,2,   32.41,2,    0.00,2,    2.24,2,   0.723,2,   0.362,2,   0.3250,2,  2253.3,2, 2350.49,2,   7.5992,2, -999.00,9,  -999.0,9,  -999.0,   -0.06,2,  -999.0,9, -999.00,9,    17.9672,3, 20190423,      444, -58.5002,  30.0011,      25.08,     -0.202,2,      0.123,1,      0.060,1,      4.628,1
325020190403,       I06S,      28,          1,          6,          6,2,20190423,       0423,   -58.5002,    30.0012,       5404,  4187.9,  -0.1629,  34.6571,2,  34.6562,2,    235.6,2,   236.2,2,   129.3,2,   32.53,2,    0.00,2,    2.24,2,-999.000,9,-999.000,9,-999.0000,9,  -999.0,9, -999.00,9,-999.0000,9, -999.00,9,  -999.0,9,  -999.0,   -0.09,2,  -999.0,9, -999.00,9,     -999.0,9, 20190423,      452, -58.5002,  30.0012,     -999.0,     -0.163,2,      0.122,1,      0.060,1,      4.631,1
325020190403,       I06S,      28,          1,          7,          7,2,20190423,       0423,   -58.5002,    30.0012,       5404,  3774.4,   -0.121,  34.6599,2,  34.6591,2,    231.3,2,   232.6,2,   128.2,2,   32.58,2,    0.00,2,    2.25,2,   0.648,2,   0.325,2,   0.2058,2,  2255.6,2, 2352.05,2,   7.5941,2, -999.00,9,  -999.0,9,  -999.0, -999.00,9,  -999.0,9, -999.00,9,    17.9687,3, 20190423,      459, -58.5002,  30.0011,      25.04,    -0.1205,2,      0.125,1,      0.060,1,      4.633,1
325020190403,       I06S,      28,          1,          8,          8,2,20190423,       0423,   -58.5002,    30.0012,       5404,  3364.9,  -0.0599,  34.6631,2,  34.6629,2,    226.6,2,   228.5,2,   128.5,2,   32.73,2,    0.00,2,    2.24,2,-999.000,9,-999.000,9,-999.0000,9,  -999.0,9, -999.00,9,-999.0000,9, -999.00,9,  -999.0,9,  -999.0,    -0.1,2,  -999.0,9, -999.00,9,     -999.0,9, 20190423,      507, -58.5002,  30.0012,     -999.0,    -0.0594,2,      0.123,1,      0.060,1,      4.632,1
325020190403,       I06S,      28,          1,          9,          9,2,20190423,       0423,   -58.5002,    30.0012,       5404,  2969.5,   0.0459,  34.6688,3,  34.6711,3,    221.1,2,   222.8,2,   128.2,2,   32.83,2,    0.00,2,    2.25,2,   0.557,2,   0.277,2,   0.2086,2,  2259.9,2, 2352.01,2,   7.5877,2, -999.00,9,  -999.0,9,  -999.0, -999.00,9,  -999.0,9, -999.00,9,    18.1322,3, 20190423,      514, -58.5002,  30.0012,      25.05,     0.0458,2,      0.124,1,      0.059,1,      4.632,1
325020190403,       I06S,      28,          1,         10,         10,2,20190423,       0423,   -58.5002,    30.0012,       5404,  2714.9,   0.1249,  34.6714,2,  34.6713,2,    218.1,2,   219.0,2,   127.9,2,   32.90,2,    0.00,2,    2.25,2,-999.000,9,-999.000,9,-999.0000,9,  -999.0,9, -999.00,9,-999.0000,9, -999.00,9,  -999.0,9,  -999.0,   -0.07,6,  -999.0,9, -999.00,9,     -999.0,9, 20190423,      519, -58.5002,  30.0012,     -999.0,      0.125,2,      0.123,1,      0.060,1,      4.634,1
325020190403,       I06S,      28,          1,         11,         11,2,20190423,       0423,   -58.5002,    30.0012,       5404,  2458.3,   0.2005,  34.6747,2,   34.675,2,    213.7,2,   215.1,2,   126.8,2,   32.97,2,    0.00,2,    2.26,2,   0.497,2,   0.250,2,   0.2346,2,  2263.3,2, 2354.61,2,   7.5829,2, -999.00,9,  -999.0,9,  -999.0, -999.00,9,  -999.0,9, -999.00,9,    18.2645,3, 20190423,      524, -58.5002,  30.0012,      25.10,     0.2011,2,      0.122,1,      0.061,1,      4.633,1
325020190403,       I06S,      28,          1,         12,         12,2,20190423,       0423,   -58.5002,    30.0012,       5404,  2204.5,   0.3021,  34.6794,2,  34.6794,2,    211.1,2,   212.0,2,   125.8,2,   32.89,2,    0.00,2,    2.26,2,-999.000,9,-999.000,9,-999.0000,9,  -999.0,9, -999.00,9,-999.0000,9, -999.00,9,  -999.0,9,  -999.0,   -0.04,2,  -999.0,9, -999.00,9,     -999.0,9, 20190423,      529, -58.5002,  30.0012,     -999.0,     0.3024,2,      0.124,1,      0.060,1,      4.633,1
325020190403,       I06S,      28,          1,         13,         13,2,20190423,       0423,   -58.5002,    30.0012,       5404,  1970.7,   0.3862,  34.6835,2,  34.6835,2,    207.8,2,   209.0,2,   124.2,2,   32.96,2,    0.00,2,    2.27,2,   0.470,2,   0.234,2,   0.1527,2,  2268.4,2, 2354.89,2,   7.5821,2, -999.00,9,  -999.0,9,  -999.0, -999.00,9,  -999.0,9, -999.00,9,    18.3095,3, 20190423,      533, -58.5002,  30.0012,      25.06,     0.3864,2,      0.125,1,      0.061,1,      4.633,1
325020190403,       I06S,      28,          1,         14,         14,2,20190423,       0423,   -58.5002,    30.0012,       5404,  1766.1,   0.4751,  34.6877,2,  34.6872,2,    205.9,2,   206.9,2,   122.1,2,   32.81,2,    0.00,2,    2.25,2,-999.000,9,-999.000,9,-999.0000,9,  -999.0,9, -999.00,9,-999.0000,9, -999.00,9,  -999.0,9,  -999.0,   -0.04,2,  -999.0,9, -999.00,9,     -999.0,9, 20190423,      538, -58.5002,  30.0012,     -999.0,     0.4744,2,      0.123,1,      0.060,1,      4.633,1
325020190403,       I06S,      28,          1,         15,         15,2,20190423,       0423,   -58.5002,    30.0012,       5404,  1563.1,   0.5626,  34.6924,2,  34.6915,2,    204.6,2,   205.4,2,   119.4,2,   32.62,2,    0.00,2,    2.24,2,   0.455,2,   0.229,2,   0.1916,2,  2266.7,2, 2357.46,2,   7.5842,2, -999.00,9,  -999.0,9,  -999.0, -999.00,9,  -999.0,9, -999.00,9,     18.316,3, 20190423,      542, -58.5002,  30.0011,      25.06,     0.5626,2,      0.126,1,      0.061,1,      4.633,1
325020190403,       I06S,      28,          1,         16,         16,2,20190423,       0423,   -58.5002,    30.0012,       5404,  1389.9,   0.6466,  34.6948,2,  34.6939,2,    202.1,2,   203.2,2,   116.9,2,   32.62,2,    0.00,2,    2.23,2,-999.000,9,-999.000,9,-999.0000,9,  -999.0,9, -999.00,9,-999.0000,9, -999.00,9,  -999.0,9,  -999.0,   -0.01,2,  -999.0,9, -999.00,9,     -999.0,9, 20190423,      547, -58.5002,  30.0011,     -999.0,     0.6469,2,      0.127,1,      0.061,1,      4.632,1
325020190403,       I06S,      28,          1,         17,         17,2,20190423,       0423,   -58.5002,    30.0012,       5404,  1288.6,   0.7178,  34.6984,2,  34.6978,2,    202.0,2,   202.9,2,   114.3,2,   32.32,2,    0.00,2,    2.23,2,   0.460,2,   0.232,2,   0.2196,2,  2264.1,2, 2353.78,2,   7.5854,2, -999.00,9,  -999.0,9,  -999.0, -999.00,9,  -999.0,9, -999.00,9,    18.2988,3, 20190423,      550, -58.5002,  30.0011,      25.07,     0.7177,2,      0.130,1,      0.061,1,      4.632,1
325020190403,       I06S,      28,          1,         18,         18,2,20190423,       0423,   -58.5002,    30.0012,       5404,  1188.0,   0.7936,  34.7029,2,  34.7023,2,    201.2,2,   203.0,2,   111.9,2,   32.06,2,    0.00,2,    2.21,2,-999.000,9,-999.000,9,-999.0000,9,  -999.0,9, -999.00,9,-999.0000,9, -999.00,9,  -999.0,9,  -999.0,    0.01,2,  -999.0,9, -999.00,9,     -999.0,9, 20190423,      552, -58.5002,  30.0012,     -999.0,     0.7935,2,      0.127,1,      0.060,1,      4.631,1
325020190403,       I06S,      28,          1,         19,         19,2,20190423,       0423,   -58.5002,    30.0012,       5404,  1085.5,   0.8597,  34.7039,2,  34.7031,2,    199.9,2,   201.4,2,   110.0,2,   31.99,2,    0.00,2,    2.21,2,   0.451,2,   0.228,2,   0.1729,2,  2262.8,2, 2353.31,2,   7.5878,2, -999.00,9,  -999.0,9,  -999.0, -999.00,9,  -999.0,9, -999.00,9,    18.3438,3, 20190423,      555, -58.5001,  30.0012,      25.08,      0.859,2,      0.129,1,      0.061,1,      4.630,1
325020190403,       I06S,      28,          1,         20,         20,2,20190423,       0423,   -58.5002,    30.0012,       5404,   984.5,    0.976,  34.7091,2,  34.7094,2,    199.1,2,   200.6,2,   106.9,2,   31.79,2,    0.00,2,    2.17,2,-999.000,9,-999.000,9,-999.0000,9,  -999.0,9, -999.00,9,-999.0000,9, -999.00,9,  -999.0,9,  -999.0,    0.02,2,  -999.0,9, -999.00,9,     -999.0,9, 20190423,      558, -58.5002,  30.0012,     -999.0,     0.9756,2,      0.129,1,      0.060,1,      4.630,1
325020190403,       I06S,      28,          1,         21,         21,2,20190423,       0423,   -58.5002,    30.0012,       5404,   882.0,   1.0971,  34.7122,2,  34.7098,2,    197.4,2,   199.0,2,   103.9,2,   31.58,2,    0.00,2,    2.15,2,   0.426,2,   0.214,2,   0.3216,2,  2258.8,2, 2351.02,2,   7.5920,2, -999.00,9,  -999.0,9,  -999.0, -999.00,9,  -999.0,9, -999.00,9,    18.3667,3, 20190423,      601, -58.5002,  30.0012,      24.69,     1.0966,2,      0.137,1,      0.062,1,      4.629,1
325020190403,       I06S,      28,          1,         22,         22,2,20190423,       0423,   -58.5002,    30.0012,       5404,   781.3,   1.2239,  34.7124,2,   34.716,3,    195.6,2,   196.5,2,   100.8,2,   31.54,2,    0.00,2,    2.15,2,-999.000,9,-999.000,9,-999.0000,9,  -999.0,9, -999.00,9,-999.0000,9, -999.00,9,  -999.0,9,  -999.0,    0.06,2,  -999.0,9, -999.00,9,     -999.0,9, 20190423,      603, -58.5001,  30.0012,     -999.0,     1.2243,2,      0.131,1,      0.061,1,      4.629,1
325020190403,       I06S,      28,          1,         23,         23,2,20190423,       0423,   -58.5002,    30.0012,       5404,   650.6,   1.4336,  34.7162,2,  34.7159,2,    193.0,2,   193.2,2,    96.0,2,   31.43,2,    0.00,2,    2.14,2,   0.412,2,   0.213,2,   0.2390,2,  2257.7,2, 2348.75,3,   7.5888,2, -999.00,9,  -999.0,9,  -999.0, -999.00,9,  -999.0,9, -999.00,9,    18.5063,3, 20190423,      607, -58.5002,  30.0012,      25.09,     1.4297,2,      0.130,1,      0.060,1,      4.628,1
325020190403,       I06S,      28,          1,         24,         24,2,20190423,       0423,   -58.5002,    30.0012,       5404,   578.2,    1.543,  34.7171,2,  34.7168,2,    190.3,2,   190.2,2,    93.6,2,   31.48,2,    0.00,2,    2.14,2,-999.000,9,-999.000,9,-999.0000,9,  -999.0,9, -999.00,9,-999.0000,9, -999.00,9,  -999.0,9,  -999.0,    0.07,2,  -999.0,9, -999.00,9,     -999.0,9, 20190423,      608, -58.5002,  30.0011,     -999.0,      1.543,2,      0.131,1,      0.060,1,      4.629,1
325020190403,       I06S,      28,          1,         25,         25,2,20190423,       0423,   -58.5002,    30.0012,       5404,   477.8,   1.6102,  34.7013,2,  34.7003,2,    186.1,2,   186.1,2,    91.8,2,   31.90,2,    0.00,2,    2.19,2,   0.481,2,   0.252,2,   0.3003,2,  2257.9,2, 2347.13,2,   7.5760,2, -999.00,9,  -999.0,9,  -999.0, -999.00,9,  -999.0,9, -999.00,9,    18.7724,3, 20190423,      611, -58.5002,  30.0011,      25.06,     1.6108,2,      0.131,1,      0.061,1,      4.630,1
325020190403,       I06S,      28,          1,         26,         26,2,20190423,       0423,   -58.5002,    30.0012,       5404,   396.1,   1.6323,  34.6784,2,   34.678,2,    183.7,2,   183.3,2,    90.2,2,   32.42,2,    0.00,2,    2.22,2,   0.595,2,   0.320,2,   0.3604,2,  -999.0,9, -999.00,9,-999.0000,9, -999.00,9,  -999.0,9,  -999.0,     0.1,2,  -999.0,9, -999.00,9,    18.8195,3, 20190423,      613, -58.5002,  30.0012,     -999.0,     1.6323,2,      0.129,1,      0.062,1,      4.631,1
325020190403,       I06S,      28,          1,         27,         27,2,20190423,       0423,   -58.5002,    30.0012,       5404,   346.0,   1.7012,  34.6627,2,  34.6615,2,    183.0,2,   181.8,2,    88.0,2,   32.73,2,    0.00,2,    2.23,2,   0.658,2,   0.364,2,   0.3533,2,  2261.3,2, 2344.20,2,   7.5578,2, -999.00,9,  -999.0,9,  -999.0, -999.00,9,  -999.0,9, -999.00,9,    18.9845,3, 20190423,      615, -58.5002,  30.0011,      25.06,      1.696,2,      0.130,1,      0.062,1,      4.632,1
325020190403,       I06S,      28,          1,         28,         28,2,20190423,       0423,   -58.5002,    30.0012,       5404,   295.1,   1.5413,  34.6156,2,  34.6115,2,    182.5,3,   185.6,2,    87.2,2,   33.39,2,    0.00,2,    2.25,2,   1.053,2,   0.573,2,   0.5593,2,  -999.0,9, -999.00,9,-999.0000,9, -999.00,9,  -999.0,9,  -999.0,    0.08,2,  -999.0,9, -999.00,9,    19.1048,3, 20190423,      617, -58.5002,  30.0012,     -999.0,     1.5343,2,      0.129,1,      0.062,1,      4.632,1
325020190403,       I06S,      28,          1,         29,         29,2,20190423,       0423,   -58.5002,    30.0012,       5404,   245.2,   1.3156,   34.545,2,  34.5464,2,    201.8,3,   197.1,2,    84.0,2,   33.60,2,    0.00,2,    2.25,2,   1.718,2,   0.875,2,   0.8010,2,  2258.4,6, 2334.05,2,   7.5439,2, -999.00,9,  -999.0,9,  -999.0, -999.00,9,  -999.0,9, -999.00,9,    19.1597,3, 20190423,      620, -58.5001,  30.0012,      23.92,     1.3151,2,      0.129,1,      0.061,1,      4.631,1
325020190403,       I06S,      28,          1,         30,         30,2,20190423,       0423,   -58.5002,    30.0012,       5404,   194.3,   0.7843,  34.4178,2,  34.4209,2,    243.5,3,   238.4,2,    77.2,2,   32.82,2,    0.00,2,    2.21,2,   3.240,2,   1.596,2,   1.6679,2,  -999.0,9, -999.00,9,-999.0000,9, -999.00,9,  -999.0,9,  -999.0,    -0.0,6,  -999.0,9, -999.00,9,    18.7922,3, 20190423,      621, -58.5002,  30.0012,     -999.0,     0.7693,2,      0.129,1,      0.061,1,      4.631,1
325020190403,       I06S,      28,          1,         31,         31,2,20190423,       0423,   -58.5002,    30.0012,       5404,   143.0,   -0.151,  34.2197,2,  34.2234,2,    320.6,3,   314.8,2,    65.7,2,   30.04,2,    0.21,2,    2.00,2,   5.405,2,   2.785,2,   3.5593,2,  2219.7,2, 2316.40,2,   7.6110,2, -999.00,9,  -999.0,9,  -999.0,   -0.16,2,  -999.0,9, -999.00,9,     17.731,3, 20190423,      623, -58.5002,  30.0012,      24.60,    -0.1548,2,      0.131,1,      0.078,1,      4.624,1
325020190403,       I06S,      28,          1,         32,         32,2,20190423,       0423,   -58.5002,    30.0012,       5404,    98.9,    0.775,  33.8667,2,  33.8693,2,    336.8,2,   335.5,2,    42.7,2,   24.76,2,    0.33,2,    1.72,2,-999.000,5,-999.000,5,-999.0000,5,  -999.0,9, -999.00,9,-999.0000,9, -999.00,9,  -999.0,9,  -999.0,   -0.27,2,  -999.0,9, -999.00,9,    16.2789,3, 20190423,      625, -58.5001,  30.0011,     -999.0,     0.7711,2,      0.146,1,      0.127,1,      4.588,1
325020190403,       I06S,      28,          1,         33,         33,2,20190423,       0423,   -58.5002,    30.0012,       5404,    73.6,   0.7699,  33.8646,2,  33.8644,2,    338.6,2,   335.7,2,    42.5,2,   24.71,2,    0.33,2,    1.73,2,   5.826,2,   2.980,2,   3.7824,2,  2179.5,2, 2296.61,2,   7.6796,2, -999.00,9,  -999.0,9,  -999.0,   -0.28,2,  -999.0,9, -999.00,9,     16.299,3, 20190423,      627, -58.5002,  30.0012,      25.03,      0.769,2,      0.148,1,      0.128,1,      4.588,1
325020190403,       I06S,      28,          1,         34,         34,2,20190423,       0423,   -58.5002,    30.0012,       5404,    47.2,   0.7584,  33.8612,2,  33.8607,2,    337.4,2,   335.8,2,    42.5,2,   24.71,2,    0.33,2,    1.71,2,   5.867,2,   2.993,2,   3.8544,2,  -999.0,9, -999.00,9,-999.0000,9, -999.00,9,  -999.0,9,  -999.0,    -0.2,2,  -999.0,9, -999.00,9,     16.331,3, 20190423,      628, -58.5002,  30.0012,     -999.0,     0.7579,2,      0.147,1,      0.129,1,      4.588,1
325020190403,       I06S,      28,          1,         35,         35,2,20190423,       0423,   -58.5002,    30.0012,       5404,    27.6,   0.7586,   33.861,2,  33.8611,2,    336.4,2,   336.0,2,    42.4,2,   24.60,2,    0.33,2,    1.69,2,   5.784,2,   2.990,2,   3.8724,2,  2176.2,2, 2293.88,2,   7.6800,2, -999.00,9,  -999.0,9,  -999.0,   -0.28,2,  -999.0,9, -999.00,9,    16.3476,3, 20190423,      630, -58.5002,  30.0012,      25.07,      0.758,2,      0.146,1,      0.124,1,      4.587,1
325020190403,       I06S,      28,          1,         36,         36,2,20190423,       0423,   -58.5002,    30.0012,       5404,    13.3,   0.7564,  33.8598,2,  33.8601,2,    335.8,2,   335.8,2,    42.5,2,   24.44,2,    0.33,2,    1.63,2,   5.939,2,   3.014,2,   3.9161,2,  2174.5,6, -999.00,9,-999.0000,9, -999.00,9,  -999.0,9,  -999.0,   -0.21,2,  -999.0,9, -999.00,9,    16.5059,3, 20190423,      631, -58.5001,  30.0011,     -999.0,     0.7554,2,      0.146,1,      0.123,1,      4.587,1