BOTTLE,20210804CCHSIOCBG
EXPOCODE,SECT_ID,STNNBR,CASTNO,SAMPNO,BTLNBR,BTLNBR_FLAG_W,DATE,TIME,LATITUDE,LONGITUDE,DEPTH,CTDPRS,CTDTMP,CTDSAL,CTDSAL_FLAG_W,SALNTY,SALNTY_FLAG_W,CTDOXY,CTDOXY_FLAG_W,OXYGEN,OXYGEN_FLAG_W,SILCAT,SILCAT_FLAG_W,NITRAT,NITRAT_FLAG_W,NITRIT,NITRIT_FLAG_W,PHSPHT,PHSPHT_FLAG_W,CFC-11,CFC-11_FLAG_W,CFC-12,CFC-12_FLAG_W,SF6,SF6_FLAG_W,TCARBN,TCARBN_FLAG_W,ALKALI,ALKALI_FLAG_W,PH_TOT,PH_TOT_FLAG_W,DELC13,DELC13_FLAG_W,DELC14,DELC14_FLAG_W,C14ERR,DELO18,DELO18_FLAG_W,DOC,DOC_FLAG_W,TDN,TDN_FLAG_W,N2O,N2O_FLAG_W,BTL_DATE,BTL_TIME,BTL_LAT,BTL_LON,PH_TMP,REFTMP,REFTMP_FLAG_W,CTDBACKSCATTER,CTDBACKSCATTER_FLAG_W,CTDFLUOR,CTDFLUOR_FLAG_W,CTDXMISS,CTDXMISS_FLAG_W
,,,,,,,,,,,METERS,DBAR,ITS-90,PSS-78,,PSS-78,,UMOL/KG,,UMOL/KG,,UMOL/KG,,UMOL/KG,,UMOL/KG,,UMOL/KG,,PMOL/KG,,PMOL/KG,,FMOL/KG,,UMOL/KG,,UMOL/KG,,,,/MILLE,,/MILLE,,/MILLE,/MILLE,,UMOL/KG,,UMOL/KG,,NMOL/KG,,,,,,DEG C,ITS-90,,VOLTS,,VOLTS,,VOLTS,
325020190403,       I06S,      44,          2,          1,          1,2,20190502,       0542,   -50.5386,    29.9609,       4372,  4427.6,   0.0598,  34.6637,2,  34.6648,2,    228.9,2,   230.0,2,   130.8,2,   32.83,2,    0.00,2,    2.24,2,   0.830,2,   0.322,2,   0.1662,2,  2255.9,6, 2352.73,2,   7.5956,2, -999.00,9,  -999.0,9,  -999.0,     0.0,2,  -999.0,9, -999.00,9,     22.013,3, 20190502,      542, -50.5389,  29.9607,      25.11,     0.0597,2,      0.142,1,      0.059,1,      4.707,1
325020190403,       I06S,      44,          2,          2,          2,2,20190502,       0542,   -50.5386,    29.9609,       4372,  4363.0,   0.0739,  34.6646,2,  34.6648,2,    230.2,2,   229.5,2,   130.8,2,   32.83,2,    0.00,2,    2.25,2,   0.812,2,   0.307,2,   0.1430,2,  2255.3,2, 2357.35,2,   7.5952,2, -999.00,9,  -999.0,9,  -999.0,   -0.06,6,  -999.0,9, -999.00,9,    21.6654,3, 20190502,      545, -50.5400,  29.9596,      25.10,     0.0735,2,      0.138,1,      0.061,1,      4.709,1
325020190403,       I06S,      44,          2,          3,          3,2,20190502,       0542,   -50.5386,    29.9609,       4372,  4284.5,   0.0736,  34.6651,2,  34.6654,2,    228.1,2,   229.4,2,   130.7,2,   32.84,2,    0.00,2,    2.25,2,   0.788,2,   0.301,2,   0.0899,2,  2253.2,2, 2356.94,3,   7.5951,2, -999.00,9,  -999.0,9,  -999.0,   -0.05,2,  -999.0,9, -999.00,9,    21.1721,3, 20190502,      547, -50.5411,  29.9585,      25.10,     0.0738,2,      0.140,1,      0.061,1,      4.707,1
325020190403,       I06S,      44,          2,          4,          4,2,20190502,       0542,   -50.5386,    29.9609,       4372,  3977.6,   0.5168,   34.686,2,   34.685,2,    217.4,2,   216.9,2,   124.3,2,   32.59,2,    0.00,2,    2.22,2,   0.580,2,   0.220,2,   0.0866,2,  2257.7,2, 2355.39,2,   7.5969,2, -999.00,9,  -999.0,9,  -999.0,    0.11,2,  -999.0,9, -999.00,9,    21.2294,3, 20190502,      553, -50.5436,  29.9561,      25.10,     0.5178,2,      0.128,1,      0.060,1,      4.720,1
325020190403,       I06S,      44,          2,          5,          5,2,20190502,       0542,   -50.5386,    29.9609,       4372,  3672.5,   0.7127,  34.6969,2,  34.6968,2,    212.4,2,   212.4,2,   119.9,2,   32.26,2,    0.00,2,    2.21,2,   0.490,2,   0.184,2,   0.0710,2,  2257.9,2, 2359.70,2,   7.5993,2, -999.00,9,  -999.0,9,  -999.0, -999.00,9,  -999.0,9, -999.00,9,    20.8771,3, 20190502,      559, -50.5463,  29.9535,      25.11,     0.7132,2,      0.125,1,      0.060,1,      4.723,1
325020190403,       I06S,      44,          2,          6,          6,2,20190502,       0542,   -50.5386,    29.9609,       4372,  3362.5,   0.8014,  34.7029,2,  34.7027,2,    211.0,2,   210.9,2,   116.4,2,   32.13,2,    0.00,2,    2.19,2,   0.455,2,   0.175,2,   0.0775,2,  2257.6,2, 2360.06,2,   7.6016,2, -999.00,9,  -999.0,9,  -999.0,    0.01,2,  -999.0,9, -999.00,9,    20.8084,3, 20190502,      605, -50.5489,  29.9509,      25.13,     0.8013,2,      0.125,1,      0.061,1,      4.719,1
325020190403,       I06S,      44,          2,          7,          7,2,20190502,       0542,   -50.5386,    29.9609,       4372,  3054.7,   0.9792,  34.7152,2,  34.7162,2,    208.4,2,   209.7,2,   110.3,2,   31.60,2,    0.00,2,    2.16,2,   0.391,2,   0.148,2,   0.0587,2,  2252.9,2, 2358.04,2,   7.6071,2, -999.00,9,  -999.0,9,  -999.0, -999.00,9,  -999.0,9, -999.00,9,    20.3253,3, 20190502,      611, -50.5519,  29.9481,      25.12,     0.9803,2,      0.130,1,      0.061,1,      4.724,1
325020190403,       I06S,      44,          2,          8,          8,2,20190502,       0542,   -50.5386,    29.9609,       4372,  2798.5,    1.199,  34.7314,2,  34.7316,2,    206.7,2,   208.6,2,   102.9,2,   30.84,2,    0.00,2,    2.11,2,   0.304,2,   0.118,2,   0.0611,2,  2249.9,2, 2357.02,2,   7.6153,2, -999.00,9,  -999.0,9,  -999.0,    0.07,2,  -999.0,9, -999.00,9,    19.8579,3, 20190502,      616, -50.5544,  29.9457,      25.12,     1.1966,2,      0.125,1,      0.060,1,      4.725,1
325020190403,       I06S,      44,          2,          9,          9,2,20190502,       0542,   -50.5386,    29.9609,       4372,  2543.7,   1.4985,  34.7585,2,  34.7584,2,    209.2,2,   210.7,2,    91.5,2,   29.61,2,    0.00,2,    2.02,2,   0.195,2,   0.076,2,   0.0383,2,  2243.7,6, 2354.29,3,   7.6307,2, -999.00,9,  -999.0,9,  -999.0,    0.13,2,  -999.0,9, -999.00,9,    19.1872,3, 20190502,      622, -50.5573,  29.9428,      25.11,     1.4977,2,      0.127,1,      0.062,1,      4.724,1
325020190403,       I06S,      44,          2,         10,         10,2,20190502,       0542,   -50.5386,    29.9609,       4372,  2290.5,   1.7265,  34.7693,2,  34.7679,2,    209.3,2,   208.3,2,    85.1,2,   29.12,2,    0.00,2,    1.98,2,   0.173,2,   0.076,2,   0.0415,2,  2239.3,2, 2350.42,2,   7.6322,2, -999.00,9,  -999.0,9,  -999.0, -999.00,9,  -999.0,9, -999.00,9,    18.6002,3, 20190502,      628, -50.5603,  29.9399,      25.14,     1.7257,2,      0.127,1,      0.061,1,      4.724,1
325020190403,       I06S,      44,          2,         11,         11,2,20190502,       0542,   -50.5386,    29.9609,       4372,  2034.8,   1.8954,  34.7683,2,  34.7683,2,    202.6,2,   203.6,2,    82.6,2,   29.26,2,    0.00,2,    1.98,2,   0.178,2,   0.072,2,   0.0360,2,  2237.9,2, 2350.95,2,   7.6261,2, -999.00,9,  -999.0,9,  -999.0,    0.31,2,  -999.0,9, -999.00,9,     18.943,3, 20190502,      634, -50.5634,  29.9368,      25.12,     1.8952,2,      0.126,1,      0.063,1,      4.724,1
325020190403,       I06S,      44,          2,         12,         12,2,20190502,       0542,   -50.5386,    29.9609,       4372,  1830.0,   2.0806,  34.7749,2,  34.7749,2,    202.1,2,   202.5,2,    77.2,2,   28.89,2,    0.00,2,    1.97,2,   0.172,2,   0.070,2,   0.0206,2,  2236.8,2, 2347.78,2,   7.6285,2, -999.00,9,  -999.0,9,  -999.0,    0.21,2,  -999.0,9, -999.00,9,    19.6779,3, 20190502,      639, -50.5660,  29.9343,      25.12,     2.0807,2,      0.127,1,      0.061,1,      4.724,1
325020190403,       I06S,      44,          2,         13,         13,2,20190502,       0542,   -50.5386,    29.9609,       4372,  1629.6,   2.2274,  34.7667,2,  34.7661,2,    196.5,2,   197.7,2,    75.1,2,   29.25,2,    0.00,2,    1.99,2,   0.204,2,   0.082,2,   0.0572,2,  2239.1,2, 2346.14,2,   7.6206,2, -999.00,9,  -999.0,9,  -999.0,    0.18,2,  -999.0,9, -999.00,9,    20.1362,3, 20190502,      644, -50.5686,  29.9318,      25.12,     2.2264,2,      0.127,1,      0.062,1,      4.724,1
325020190403,       I06S,      44,          2,         14,         14,2,20190502,       0542,   -50.5386,    29.9609,       4372,  1528.1,   2.2749,  34.7602,2,  34.7594,2,    193.1,3,   195.1,2,    75.0,2,   29.54,2,    0.00,2,    2.02,2,   0.215,2,   0.090,2,   0.0420,2,  2239.3,2, 2346.84,2,   7.6160,2, -999.00,9,  -999.0,9,  -999.0, -999.00,9,  -999.0,9, -999.00,9,    20.4786,3, 20190502,      648, -50.5703,  29.9301,      25.11,     2.2724,2,      0.129,1,      0.061,1,      4.724,1
325020190403,       I06S,      44,          2,         15,         15,2,20190502,       0542,   -50.5386,    29.9609,       4372,  1426.5,   2.3406,  34.7559,2,  34.7539,2,    189.1,3,   193.7,2,    73.1,2,   29.67,2,    0.00,2,    2.03,2,   0.220,2,   0.095,2,   0.0480,2,  2237.1,2, 2343.10,2,   7.6136,2, -999.00,9,  -999.0,9,  -999.0, -999.00,9,  -999.0,9, -999.00,9,    19.6953,3, 20190502,      651, -50.5719,  29.9284,      25.12,     2.3409,2,      0.128,1,      0.062,1,      4.723,1
325020190403,       I06S,      44,          2,         16,         16,2,20190502,       0542,   -50.5386,    29.9609,       4372,  1324.9,   2.3936,  34.7329,2,  34.7323,2,    185.1,3,   187.5,2,    74.0,2,   30.52,2,    0.00,2,    2.10,2,   0.268,2,   0.114,2,   0.0863,2,  2242.3,2, 2342.62,2,   7.6010,2, -999.00,9,  -999.0,9,  -999.0,    0.17,2,  -999.0,9, -999.00,9,    20.1555,3, 20190502,      654, -50.5737,  29.9266,      25.12,     2.3935,2,      0.129,1,      0.062,1,      4.723,1
325020190403,       I06S,      44,          2,         17,         17,2,20190502,       0542,   -50.5386,    29.9609,       4372,  1224.2,   2.3653,  34.6966,2,  34.6952,2,    179.5,2,   180.2,2,    77.0,2,   31.79,2,    0.00,2,    2.22,2,   0.365,2,   0.156,2,   0.0954,2,  2250.3,2, 2342.40,2,   7.5816,2, -999.00,9,  -999.0,9,  -999.0, -999.00,9,  -999.0,9, -999.00,9,    20.5696,3, 20190502,      658, -50.5755,  29.9249,      25.13,       2.37,2,      0.131,1,      0.060,1,      4.722,1
325020190403,       I06S,      44,          2,         18,         18,2,20190502,       0542,   -50.5386,    29.9609,       4372,  1119.4,   2.4493,  34.6779,2,  34.6766,2,    176.1,3,   178.0,2,    74.2,2,   32.11,2,    0.00,2,    2.21,2,   0.395,2,   0.174,2,   0.1661,2,  2248.7,2, 2339.81,2,   7.5774,2, -999.00,9,  -999.0,9,  -999.0,    0.14,6,  -999.0,9, -999.00,9,    22.5687,3, 20190502,      701, -50.5773,  29.9232,      25.11,     2.4488,2,      0.130,1,      0.062,1,      4.723,1
325020190403,       I06S,      44,          2,         19,         19,2,20190502,       0542,   -50.5386,    29.9609,       4372,  1019.0,    2.464,  34.6452,2,  34.6454,2,    173.3,2,   174.5,2,    74.3,2,   32.87,2,    0.00,2,    2.26,2,   0.486,2,   0.212,2,   0.1419,2,  2251.9,2, 2337.91,2,   7.5670,2, -999.00,9,  -999.0,9,  -999.0, -999.00,9,  -999.0,9, -999.00,9,    21.9849,3, 20190502,      705, -50.5792,  29.9213,      25.11,     2.4637,2,      0.131,1,      0.062,1,      4.721,1
325020190403,       I06S,      44,          2,         20,         20,2,20190502,       0542,   -50.5386,    29.9609,       4372,   920.1,   2.4623,  34.6021,2,  34.6023,2,    171.0,2,   171.9,2,    74.3,2,   33.70,2,    0.00,2,    2.31,2,   0.649,2,   0.284,2,   0.1789,2,  2252.1,6, 2334.84,2,   7.5544,2, -999.00,9,  -999.0,9,  -999.0,    0.16,2,  -999.0,9, -999.00,9,    22.5996,3, 20190502,      708, -50.5810,  29.9196,      25.13,     2.4616,2,      0.132,1,      0.061,1,      4.720,1
325020190403,       I06S,      44,          2,         21,         21,2,20190502,       0542,   -50.5386,    29.9609,       4372,   816.3,   2.4407,  34.5425,2,   34.542,2,    171.7,2,   171.9,2,    72.1,2,   34.52,2,    0.00,2,    2.37,2,   0.973,2,   0.434,2,   0.2836,2,  2253.7,2, 2332.51,2,   7.5425,2, -999.00,9,  -999.0,9,  -999.0, -999.00,9,  -999.0,9, -999.00,9,    23.1165,3, 20190502,      712, -50.5829,  29.9177,      25.12,       2.44,2,      0.135,1,      0.061,1,      4.719,1
325020190403,       I06S,      44,          2,         22,         22,2,20190502,       0542,   -50.5386,    29.9609,       4372,   714.7,   2.4609,  34.4837,2,  34.4828,2,    175.8,2,   176.0,2,    68.1,2,   34.89,2,    0.00,2,    2.39,2,   1.334,2,   0.612,2,   0.3977,2,  2249.5,2, 2326.61,2,   7.5381,2, -999.00,9,  -999.0,9,  -999.0,    0.09,2,  -999.0,9, -999.00,9,    24.9621,3, 20190502,      715, -50.5846,  29.9160,      25.12,     2.4598,2,      0.137,1,      0.063,1,      4.717,1
325020190403,       I06S,      44,          2,         23,         23,2,20190502,       0542,   -50.5386,    29.9609,       4372,   615.2,   2.5006,  34.4206,2,  34.4191,2,    183.0,2,   183.4,2,    62.1,2,   34.80,2,    0.00,2,    2.38,2,   1.772,2,   0.820,2,   0.5969,2,  2243.2,2, 2322.45,2,   7.5391,2, -999.00,9,  -999.0,9,  -999.0, -999.00,9,  -999.0,9, -999.00,9,    25.2073,3, 20190502,      718, -50.5864,  29.9142,      25.13,     2.4996,2,      0.139,1,      0.061,1,      4.715,1
325020190403,       I06S,      44,          2,         24,         24,2,20190502,       0542,   -50.5386,    29.9609,       4372,   513.9,   2.5294,  34.3284,2,  34.3274,2,    195.8,3,   198.9,2,    53.4,2,   34.26,2,    0.00,2,    2.33,2,   2.488,2,   1.201,2,   0.8560,2,  2231.1,2, 2308.93,2,   7.5482,2, -999.00,9,  -999.0,9,  -999.0,   -0.03,2,  -999.0,9, -999.00,9,    23.8471,3, 20190502,      722, -50.5884,  29.9124,      25.13,     2.5299,2,      0.142,1,      0.062,1,      4.713,1
325020190403,       I06S,      44,          2,         25,         25,2,20190502,       0542,   -50.5386,    29.9609,       4372,   463.4,   2.6011,  34.2984,2,  34.2982,2,    204.0,2,   205.1,2,    49.9,2,   33.84,2,    0.00,2,    2.31,2,   2.872,2,   1.318,2,   1.0406,2,  2223.7,2, 2306.77,2,   7.5557,2, -999.00,9,  -999.0,9,  -999.0, -999.00,9,  -999.0,9, -999.00,9,    21.7681,3, 20190502,      724, -50.5896,  29.9112,      25.12,      2.601,2,      0.142,1,      0.060,1,      4.712,1
325020190403,       I06S,      44,          2,         26,         26,2,20190502,       0542,   -50.5386,    29.9609,       4372,   411.8,   2.6383,  34.2455,2,   34.246,2,    216.6,2,   217.0,2,    44.0,2,   33.11,2,    0.00,2,    2.27,2,   3.681,2,   1.557,2,   1.4852,2,  2214.0,2, 2300.46,2,   7.5664,2, -999.00,9,  -999.0,9,  -999.0,   -0.01,2,  -999.0,9, -999.00,9,    22.3776,3, 20190502,      726, -50.5907,  29.9101,      25.13,     2.6378,2,      0.146,1,      0.062,1,      4.712,1
325020190403,       I06S,      44,          2,         27,         27,2,20190502,       0542,   -50.5386,    29.9609,       4372,   360.6,   2.5972,   34.192,2,  34.1929,2,    227.3,3,   230.1,2,    39.7,2,   32.40,2,    0.00,2,    2.21,2,   4.456,2,   1.786,2,   1.7471,2,  2205.7,2, 2295.12,2,   7.5766,2, -999.00,9,  -999.0,9,  -999.0, -999.00,9,  -999.0,9, -999.00,9,    21.3739,3, 20190502,      728, -50.5921,  29.9094,      25.13,     2.6034,2,      0.149,1,      0.061,1,      4.710,1
325020190403,       I06S,      44,          2,         28,         28,2,20190502,       0542,   -50.5386,    29.9609,       4372,   311.0,   2.7963,  34.1606,2,  34.1598,2,    239.3,2,   239.9,2,    33.3,2,   31.24,2,    0.00,2,    2.13,2,   4.668,2,   1.942,2,   1.7128,2,  2195.4,2, 2289.99,2,   7.5935,2, -999.00,9,  -999.0,9,  -999.0,   -0.07,2,  -999.0,9, -999.00,9,    22.9157,3, 20190502,      730, -50.5934,  29.9092,      25.12,     2.8017,2,      0.152,1,      0.063,1,      4.709,1
325020190403,       I06S,      44,          2,         29,         29,2,20190502,       0542,   -50.5386,    29.9609,       4372,   260.0,   2.9021,  34.1124,2,   34.113,2,    251.5,2,   253.7,2,    28.0,2,   30.03,2,    0.00,2,    2.05,2,   4.922,2,   2.142,2,   1.8608,2,  2185.6,2, 2284.20,2,   7.6099,2, -999.00,9,  -999.0,9,  -999.0, -999.00,9,  -999.0,9, -999.00,9,    21.6069,3, 20190502,      732, -50.5947,  29.9092,      25.15,     2.9071,2,      0.152,1,      0.060,1,      4.704,1
325020190403,       I06S,      44,          2,         30,         30,2,20190502,       0542,   -50.5386,    29.9609,       4372,   208.2,   3.0701,   34.072,2,  34.0715,2,    263.0,2,   265.0,2,    23.7,2,   28.85,2,    0.00,2,    1.97,2,   5.273,2,   2.289,2,   2.2007,2,  2175.4,2, 2281.48,2,   7.6242,2, -999.00,9,  -999.0,9,  -999.0,   -0.03,2,  -999.0,9, -999.00,9,    20.0993,3, 20190502,      734, -50.5959,  29.9091,      25.13,     3.0647,2,      0.159,1,      0.060,1,      4.701,1
325020190403,       I06S,      44,          2,         31,         31,2,20190502,       0542,   -50.5386,    29.9609,       4372,   156.5,   3.1991,  33.9503,2,  33.9559,2,    283.1,3,   287.4,2,    17.7,2,   26.92,2,    0.09,2,    1.87,2,   6.059,2,   2.555,2,   2.6331,2,  2164.9,2, 2278.21,2,   7.6464,2, -999.00,9,  -999.0,9,  -999.0,   -0.14,2,  -999.0,9, -999.00,9,    18.3938,3, 20190502,      736, -50.5973,  29.9091,      25.13,      3.189,2,      0.162,1,      0.072,1,      4.690,1
325020190403,       I06S,      44,          2,         32,         32,2,20190502,       0542,   -50.5386,    29.9609,       4372,   108.8,   4.6374,  33.8184,2,  33.8165,2,    312.4,3,   305.6,2,     4.5,2,   22.38,2,    0.24,2,    1.58,2,   5.494,2,   2.502,2,   2.9486,2,  2138.9,2, 2274.72,2,   7.7164,2, -999.00,9,  -999.0,9,  -999.0, -999.00,9,  -999.0,9, -999.00,9,    15.7207,3, 20190502,      738, -50.5986,  29.9092,      25.13,      4.636,2,      0.172,1,      0.136,1,      4.672,1
325020190403,       I06S,      44,          2,         33,         33,2,20190502,       0542,   -50.5386,    29.9609,       4372,    83.4,    4.571,  33.7787,2,  33.7796,2,    312.0,2,   311.6,2,     2.9,2,   21.98,2,    0.27,2,    1.54,2,   5.551,2,   2.515,2,   2.9649,2,  2137.8,2, 2279.01,2,   7.7269,2, -999.00,9,  -999.0,9,  -999.0,   -0.21,2,  -999.0,9, -999.00,9,    15.5495,3, 20190502,      739, -50.5994,  29.9091,      25.12,     4.5683,2,      0.178,1,      0.180,1,      4.652,1
325020190403,       I06S,      44,          2,         34,         34,2,20190502,       0542,   -50.5386,    29.9609,       4372,    58.6,   4.6589,  33.7797,2,  33.7812,2,    310.3,2,   311.1,2,     2.7,2,   21.82,2,    0.28,2,    1.53,2,   5.368,2,   2.522,2,   3.0674,2,  2136.0,2, 2281.26,2,   7.7277,2, -999.00,9,  -999.0,9,  -999.0,   -0.17,2,  -999.0,9, -999.00,9,    15.4643,3, 20190502,      741, -50.6004,  29.9092,      25.14,      4.664,2,      0.182,1,      0.181,1,      4.653,1
325020190403,       I06S,      44,          2,         35,         35,2,20190502,       0542,   -50.5386,    29.9609,       4372,    33.3,   4.9325,  33.7861,2,  33.7864,2,    308.0,2,   308.1,2,     2.8,2,   21.37,2,    0.29,2,    1.49,2,   5.375,2,   2.461,2,   2.9726,2,  2134.2,2, 2274.45,2,   7.7306,2, -999.00,9,  -999.0,9,  -999.0,   -0.24,2,  -999.0,9, -999.00,9,       15.4,3, 20190502,      742, -50.6014,  29.9096,      25.13,     4.9312,2,      0.194,1,      0.164,1,      4.651,1
325020190403,       I06S,      44,          2,         36,         36,2,20190502,       0542,   -50.5386,    29.9609,       4372,    12.8,   4.9289,  33.7803,2,  33.7815,2,    306.4,2,   308.6,2,     2.8,2,   21.33,2,    0.29,2,    1.49,2,   5.274,2,   2.488,2,   2.9184,2,  2133.8,6, 2274.77,2,   7.7307,2, -999.00,9,  -999.0,9,  -999.0,   -0.25,2,  -999.0,9, -999.00,9,    15.2126,3, 20190502,      744, -50.6023,  29.9099,      25.14,      4.929,2,      0.207,1,      0.165,1,      4.644,1