BOTTLE,20210804CCHSIOCBG
EXPOCODE,SECT_ID,STNNBR,CASTNO,SAMPNO,BTLNBR,BTLNBR_FLAG_W,DATE,TIME,LATITUDE,LONGITUDE,DEPTH,CTDPRS,CTDTMP,CTDSAL,CTDSAL_FLAG_W,SALNTY,SALNTY_FLAG_W,CTDOXY,CTDOXY_FLAG_W,OXYGEN,OXYGEN_FLAG_W,SILCAT,SILCAT_FLAG_W,NITRAT,NITRAT_FLAG_W,NITRIT,NITRIT_FLAG_W,PHSPHT,PHSPHT_FLAG_W,CFC-11,CFC-11_FLAG_W,CFC-12,CFC-12_FLAG_W,SF6,SF6_FLAG_W,TCARBN,TCARBN_FLAG_W,ALKALI,ALKALI_FLAG_W,PH_TOT,PH_TOT_FLAG_W,DELC13,DELC13_FLAG_W,DELC14,DELC14_FLAG_W,C14ERR,DELO18,DELO18_FLAG_W,DOC,DOC_FLAG_W,TDN,TDN_FLAG_W,N2O,N2O_FLAG_W,BTL_DATE,BTL_TIME,BTL_LAT,BTL_LON,PH_TMP,REFTMP,REFTMP_FLAG_W,CTDBACKSCATTER,CTDBACKSCATTER_FLAG_W,CTDFLUOR,CTDFLUOR_FLAG_W,CTDXMISS,CTDXMISS_FLAG_W
,,,,,,,,,,,METERS,DBAR,ITS-90,PSS-78,,PSS-78,,UMOL/KG,,UMOL/KG,,UMOL/KG,,UMOL/KG,,UMOL/KG,,UMOL/KG,,PMOL/KG,,PMOL/KG,,FMOL/KG,,UMOL/KG,,UMOL/KG,,,,/MILLE,,/MILLE,,/MILLE,/MILLE,,UMOL/KG,,UMOL/KG,,NMOL/KG,,,,,,DEG C,ITS-90,,VOLTS,,VOLTS,,VOLTS,
325020190403,       I06S,      17,          1,          1,          1,2,20190419,       1724,      -64.0,     30.001,       5092,  5183.8,  -0.2779,  34.6509,2,  34.6495,2,    242.3,2,   242.4,2,   139.6,2,   32.60,2,    0.00,2,    2.24,2,   0.698,2,   0.352,2,   0.1681,2,  2252.3,6, 2356.08,2,   7.5993,2,    0.69,2,  -148.0,2,     1.7,    0.03,2,  -999.0,9, -999.00,9,     23.658,3, 20190419,     1724, -64.0000,  30.0010,      25.05,    -0.2782,2,      0.136,1,      0.062,1,      4.631,1
325020190403,       I06S,      17,          1,          2,          2,2,20190419,       1724,      -64.0,     30.001,       5092,  5094.1,  -0.2838,  34.6511,2,  34.6501,2,    242.5,2,   242.7,2,   137.4,2,   32.53,2,    0.00,2,    2.24,2,   0.618,2,   0.315,2,   0.1520,2,  2252.4,2, 2350.61,2,   7.5999,2,    0.52,4,  -146.4,2,     1.5,    0.69,4,    38.3,2,   31.87,2,    26.2606,3, 20190419,     1727, -64.0000,  30.0010,      25.06,     -0.284,2,      0.126,1,      0.063,1,      4.638,1
325020190403,       I06S,      17,          1,          3,          3,2,20190419,       1724,      -64.0,     30.001,       5092,  5007.3,  -0.2769,  34.6519,2,  34.6501,2,    242.7,2,   242.6,2,   134.2,2,   32.39,2,    0.00,2,    2.25,2,   0.546,2,   0.278,2,   0.1515,2,  -999.0,9, -999.00,9,-999.0000,9,    0.64,2,  -153.8,2,     1.5,   -0.05,2,  -999.0,9, -999.00,9,     26.862,3, 20190419,     1731, -64.0000,  30.0010,     -999.0,    -0.2772,2,      0.125,1,      0.062,1,      4.641,1
325020190403,       I06S,      17,          1,          4,          4,2,20190419,       1724,      -64.0,     30.001,       5092,  4592.3,  -0.2613,   34.654,2,  34.6529,2,    240.5,2,   241.1,2,   131.1,2,   32.39,2,    0.00,2,    2.24,2,-999.000,5,-999.000,5,-999.0000,5,  2250.2,2, 2354.96,3,   7.6009,2,    0.63,2,  -153.4,2,     1.5,   -0.12,2,    39.1,2,   33.20,2,    24.8058,3, 20190419,     1740, -64.0000,  30.0010,      25.06,    -0.2614,2,      0.121,1,      0.061,1,      4.643,1
325020190403,       I06S,      17,          1,          5,          5,2,20190419,       1724,      -64.0,     30.001,       5092,  4284.7,   -0.243,  34.6557,2,  34.6538,2,    238.0,2,   239.6,2,   130.4,2,   32.37,2,    0.00,2,    2.24,2,-999.000,5,-999.000,5,-999.0000,5,  -999.0,9, -999.00,9,-999.0000,9,    0.66,2,  -153.7,2,     1.5,    0.17,2,    38.7,2,   32.48,2,     -999.0,9, 20190419,     1746, -64.0000,  30.0010,     -999.0,    -0.2432,2,      0.122,1,      0.063,1,      4.644,1
325020190403,       I06S,      17,          1,          6,          6,2,20190419,       1724,      -64.0,     30.001,       5092,  3974.8,  -0.2208,  34.6569,2,  34.6554,2,    236.4,2,   237.8,2,   128.2,2,   32.39,2,    0.00,2,    2.24,2,   0.725,2,   0.366,2,   0.2418,2,  2252.1,2, 2352.14,2,   7.5981,2,    0.68,2,  -157.8,2,     1.5,    0.13,2,  -999.0,9, -999.00,9,     25.788,3, 20190419,     1752, -64.0000,  30.0010,      25.04,    -0.2209,2,      0.123,1,      0.061,1,      4.644,1
325020190403,       I06S,      17,          1,          7,          7,2,20190419,       1724,      -64.0,     30.001,       5092,  3667.1,  -0.1922,  34.6584,2,  34.6578,2,    234.0,2,   235.7,2,   128.2,2,   32.47,2,    0.00,2,    2.24,2,   0.699,2,   0.360,2,   0.2887,2,  -999.0,9, -999.00,9,-999.0000,9,    0.66,2,  -155.3,2,     1.7,   -0.01,2,  -999.0,9, -999.00,9,    29.1658,3, 20190419,     1759, -64.0000,  30.0010,     -999.0,    -0.1925,2,      0.122,1,      0.062,1,      4.644,1
325020190403,       I06S,      17,          1,          8,          8,2,20190419,       1724,      -64.0,     30.001,       5092,  3358.6,  -0.1581,  34.6606,2,  34.6621,2,    231.0,2,   232.9,2,   127.7,2,   32.53,2,    0.00,2,    2.24,2,   0.658,2,   0.335,2,   0.1689,2,  -999.0,9, -999.00,9,-999.0000,9,    0.61,2,  -160.3,2,     1.6,    -0.0,2,  -999.0,9, -999.00,9,     28.186,3, 20190419,     1805, -64.0000,  30.0010,     -999.0,    -0.1582,2,      0.122,1,      0.062,1,      4.645,1
325020190403,       I06S,      17,          1,          9,          9,2,20190419,       1724,      -64.0,     30.001,       5092,  3050.3,  -0.1107,  34.6629,2,  34.6623,2,    227.7,2,   229.7,2,   127.6,2,   32.54,2,    0.00,2,    2.25,2,   0.624,2,   0.323,2,   0.2368,2,  2254.6,2, 2353.88,2,   7.5918,2,    0.81,4,  -158.3,2,     2.0, -999.00,9,  -999.0,9, -999.00,9,    28.3769,3, 20190419,     1811, -64.0000,  30.0010,      25.05,     -0.111,2,      0.122,1,      0.062,1,      4.645,1
325020190403,       I06S,      17,          1,         10,         10,2,20190419,       1724,      -64.0,     30.001,       5092,  2795.9,  -0.0558,  34.6659,2,  34.6664,2,    225.1,2,   226.2,2,   127.4,2,   32.56,2,    0.00,2,    2.26,2,   0.557,2,   0.278,2,   0.0943,2,  -999.0,9, -999.00,9,-999.0000,9,    0.55,2,  -160.8,2,     1.8,    0.07,2,    38.8,2,   31.91,2,    27.9687,3, 20190419,     1817, -64.0000,  30.0010,     -999.0,     -0.056,2,      0.123,1,      0.062,1,      4.646,1
325020190403,       I06S,      17,          1,         11,         11,2,20190419,       1724,      -64.0,     30.001,       5092,  2539.1,   0.0116,  34.6686,2,  34.6684,2,    221.6,2,   222.6,2,   127.8,2,   32.74,2,    0.00,2,    2.26,2,   0.530,2,   0.267,2,   0.1408,2,  -999.0,9, -999.00,9,-999.0000,9,    0.54,2,  -159.2,2,     1.6, -999.00,9,    38.6,2,   32.83,2,    26.8478,3, 20190419,     1822, -64.0000,  30.0010,     -999.0,     0.0112,2,      0.123,1,      0.060,1,      4.645,1
325020190403,       I06S,      17,          1,         12,         12,2,20190419,       1724,      -64.0,     30.001,       5092,  2285.5,   0.0843,  34.6757,3,  34.6788,3,    216.3,3,   218.7,2,   126.1,2,   32.85,2,    0.00,2,    2.27,2,   0.498,2,   0.246,2,   0.1758,2,  2260.9,2, 2355.28,2,   7.5846,2, -999.00,9,  -999.0,9,  -999.0,    0.06,2,  -999.0,9, -999.00,9,    26.0005,3, 20190419,     1828, -64.0000,  30.0010,      25.02,     0.0841,2,      0.124,1,      0.062,1,      4.645,1
325020190403,       I06S,      17,          1,         13,         13,2,20190419,       1724,      -64.0,     30.001,       5092,  2029.9,   0.1744,  34.6761,2,  34.6743,2,    214.3,2,   214.4,2,   125.2,2,   32.90,2,    0.00,2,    2.27,2,-999.000,5,-999.000,5,-999.0000,5,  -999.0,9, -999.00,9,-999.0000,9,    0.53,2,  -159.4,2,     1.7, -999.00,9,    38.6,2,   34.75,2,     -999.0,9, 20190419,     1833, -64.0000,  30.0010,     -999.0,     0.1742,2,      0.128,1,      0.062,1,      4.645,1
325020190403,       I06S,      17,          1,         14,         14,3,20190419,       1724,      -64.0,     30.001,       5092,  1824.6,   0.2485,  34.6791,2,   34.678,2,    211.0,3,   213.5,3,   125.4,3,   32.88,3,    0.00,3,    2.27,3,-999.000,5,-999.000,5,-999.0000,5,  -999.0,9, -999.00,9,-999.0000,9,    0.38,3,  -165.1,2,     1.7,    0.18,2,    38.0,2,   33.54,2,     -999.0,9, 20190419,     1837, -64.0000,  30.0010,     -999.0,     0.2481,2,      0.126,1,      0.063,1,      4.645,1
325020190403,       I06S,      17,          1,         15,         15,2,20190419,       1724,      -64.0,     30.001,       5092,  1622.9,   0.3287,  34.6828,2,   34.685,2,    208.1,2,   207.6,2,   125.1,2,   32.82,2,    0.00,2,    2.30,2,   0.471,2,   0.234,2,   0.1720,2,  2261.8,2, 2354.42,2,   7.5769,2,    0.45,2,  -162.0,2,     1.6, -999.00,9,  -999.0,9, -999.00,9,    24.4521,3, 20190419,     1841, -64.0000,  30.0010,      25.02,     0.3282,2,      0.125,1,      0.061,1,      4.645,1
325020190403,       I06S,      17,          1,         16,         16,2,20190419,       1724,      -64.0,     30.001,       5092,  1419.2,   0.3987,  34.6862,2,  34.6856,2,    204.1,2,   204.8,2,   124.2,2,   32.89,2,    0.00,2,    2.30,2,   0.457,2,   0.227,2,   0.2263,2,  -999.0,9, -999.00,9,-999.0000,9,    0.46,2,  -160.6,2,     1.6,    0.29,6,    38.3,2,   33.81,2,    25.4976,3, 20190419,     1846, -64.0000,  30.0010,     -999.0,     0.3981,2,      0.125,1,      0.062,1,      4.645,1
325020190403,       I06S,      17,          1,         17,         17,2,20190419,       1724,      -64.0,     30.001,       5092,  1316.7,   0.4426,  34.6876,2,  34.6874,2,    202.9,2,   203.6,2,   120.8,2,   33.00,2,    0.00,2,    2.30,2,   0.464,2,   0.229,2,   0.1497,2,  2231.3,4, 2357.54,2,   7.5746,2,    0.46,2,  -158.8,2,     1.7, -999.00,9,    37.6,2,   33.36,2,    26.5925,3, 20190419,     1849, -64.0000,  30.0010,      25.05,     0.4424,2,      0.124,1,      0.062,1,      4.645,1
325020190403,       I06S,      17,          1,         18,         18,2,20190419,       1724,      -64.0,     30.001,       5092,  1214.4,   0.4904,  34.6898,2,  34.6894,2,    201.8,2,   202.5,2,   120.8,2,   32.87,2,    0.00,2,    2.30,2,   0.472,2,   0.240,2,   0.1542,2,  2260.8,2, 2354.31,3,   7.5748,2, -999.00,9,  -999.0,9,  -999.0,     0.1,2,  -999.0,9, -999.00,9,    26.8158,3, 20190419,     1851, -64.0000,  30.0010,      25.06,     0.4899,2,      0.127,1,      0.062,1,      4.644,1
325020190403,       I06S,      17,          1,         19,         19,2,20190419,       1724,      -64.0,     30.001,       5092,  1113.5,   0.5357,  34.6914,2,  34.6898,2,    201.2,2,   201.6,2,   117.7,2,   32.80,2,    0.00,2,    2.29,2,   0.487,2,   0.248,2,   0.3073,2,  -999.0,9, -999.00,9,-999.0000,9,    0.46,2,  -160.8,2,     1.8, -999.00,9,    40.0,2,   34.46,2,    26.3968,3, 20190419,     1854, -64.0000,  30.0010,     -999.0,     0.5352,2,      0.129,1,      0.062,1,      4.644,1
325020190403,       I06S,      17,          1,         20,         20,2,20190419,       1724,      -64.0,     30.001,       5092,  1012.4,   0.5854,  34.6946,2,  34.6974,3,    199.8,2,   200.9,2,   116.3,2,   32.76,2,    0.00,2,    2.28,2,   0.500,2,   0.255,2,   0.2210,2,  2260.8,2, 2355.42,2,   7.5808,2,    0.39,2,  -157.1,2,     1.8,    0.25,2,    38.2,2,   32.68,2,    26.9307,3, 20190419,     1857, -64.0000,  30.0010,      25.09,     0.5857,2,      0.129,1,      0.062,1,      4.643,1
325020190403,       I06S,      17,          1,         21,         21,2,20190419,       1724,      -64.0,     30.001,       5092,   910.4,   0.6442,  34.6945,2,  34.6929,2,    199.8,2,   200.3,2,   114.3,2,   32.72,2,    0.00,2,    2.28,2,   0.517,2,   0.271,2,   0.2160,2,  -999.0,9, -999.00,9,-999.0000,9,    0.37,2,  -154.6,2,     1.8,    0.27,2,  -999.0,9, -999.00,9,    27.0567,3, 20190419,     1859, -64.0000,  30.0011,     -999.0,     0.6435,2,      0.128,1,      0.062,1,      4.643,1
325020190403,       I06S,      17,          1,         22,         22,2,20190419,       1724,      -64.0,     30.001,       5092,   808.4,   0.7403,  34.6993,2,   34.698,2,    200.0,2,   200.4,2,   113.0,2,   32.37,2,    0.00,2,    2.25,2,   0.497,2,   0.257,2,   0.1365,2,  2260.1,2, 2354.81,2,   7.5825,2,    0.40,2,  -156.0,2,     1.7, -999.00,9,    38.8,2,   31.59,2,    26.9755,3, 20190419,     1902, -64.0000,  30.0010,      25.05,     0.7388,2,      0.129,1,      0.063,1,      4.644,1
325020190403,       I06S,      17,          1,         23,         23,2,20190419,       1724,      -64.0,     30.001,       5092,   707.2,   0.8336,  34.7025,2,  34.7009,2,    199.5,2,   199.8,2,   110.1,2,   32.25,2,    0.00,2,    2.24,2,   0.499,2,   0.259,2,   0.2072,2,  -999.0,9, -999.00,9,-999.0000,9,    0.35,2,  -159.1,2,     1.8,    0.29,2,    37.8,2,   33.57,2,    27.0821,3, 20190419,     1905, -64.0000,  30.0011,     -999.0,     0.8327,2,      0.127,1,      0.061,1,      4.643,1
325020190403,       I06S,      17,          1,         24,         24,2,20190419,       1724,      -64.0,     30.001,       5092,   607.4,   0.9361,  34.7056,2,  34.7037,2,    197.3,2,   198.0,2,   107.4,2,   32.04,2,    0.00,2,    2.22,2,   0.498,2,   0.263,2,   0.2699,2,  -999.0,9, -999.00,9,-999.0000,9, -999.00,9,  -999.0,9,  -999.0, -999.00,9,  -999.0,9, -999.00,9,    27.2776,3, 20190419,     1908, -64.0000,  30.0009,     -999.0,     0.9357,2,      0.129,1,      0.062,1,      4.641,1
325020190403,       I06S,      17,          1,         25,         25,2,20190419,       1724,      -64.0,     30.001,       5092,   505.3,   1.0609,  34.7081,2,  34.7056,2,    195.2,2,   196.0,2,   103.5,2,   31.95,2,    0.00,2,    2.21,2,   0.500,2,   0.265,2,   0.2051,2,  2260.1,2, 2363.62,2,   7.5741,2,    0.39,2,  -160.0,2,     1.7,    0.22,2,    38.5,2,   33.04,2,    27.3443,3, 20190419,     1910, -64.0000,  30.0010,      25.03,     1.0606,2,      0.130,1,      0.062,1,      4.640,1
325020190403,       I06S,      17,          1,         26,         26,2,20190419,       1724,      -64.0,     30.001,       5092,   404.2,   1.1512,   34.704,2,  34.7015,2,    192.7,2,   193.8,2,   101.2,2,   32.03,2,    0.00,2,    2.21,2,   0.531,2,   0.286,2,   0.2477,2,  -999.0,9, -999.00,9,-999.0000,9,    0.37,2,  -154.0,2,     1.8, -999.00,9,    38.7,2,   31.53,2,    27.5114,3, 20190419,     1913, -64.0000,  30.0010,     -999.0,     1.1504,2,      0.132,1,      0.063,1,      4.641,1
325020190403,       I06S,      17,          1,         27,         27,2,20190419,       1724,      -64.0,     30.001,       5092,   353.5,    1.222,  34.7016,2,  34.6998,2,    190.7,2,   191.2,2,    99.2,2,   32.12,2,    0.00,2,    2.22,2,   0.559,2,   0.303,2,   0.2478,2,  2260.3,2, 2356.84,2,   7.5628,2,    0.39,2,  -155.8,2,     1.8,    0.18,2,  -999.0,9, -999.00,9,     27.742,3, 20190419,     1915, -64.0000,  30.0011,      25.03,     1.2206,2,      0.134,1,      0.063,1,      4.638,1
325020190403,       I06S,      17,          1,         28,         28,2,20190419,       1724,      -64.0,     30.001,       5092,   303.5,   1.2706,  34.6963,2,  34.6941,2,    188.9,2,   189.5,2,    98.0,2,   32.22,2,    0.00,2,    2.22,2,   0.599,2,   0.321,2,   0.2286,2,  -999.0,9, -999.00,9,-999.0000,9,    0.37,2,  -158.3,2,     1.8, -999.00,9,    38.8,2,   33.14,2,    25.9928,3, 20190419,     1917, -64.0000,  30.0010,     -999.0,     1.2694,2,      0.155,1,      0.063,1,      4.634,1
325020190403,       I06S,      17,          1,         29,         29,2,20190419,       1724,      -64.0,     30.001,       5092,   252.8,   1.3065,  34.6846,2,  34.6845,2,    186.7,2,   187.1,2,    95.6,2,   32.62,2,    0.00,2,    2.25,2,   0.686,2,   0.370,2,   0.3683,2,  2262.6,2, 2348.96,2,   7.5569,2,    0.31,2,  -152.9,2,     1.7,    0.37,2,    42.4,2,   35.18,2,    28.7439,3, 20190419,     1919, -64.0000,  30.0010,      25.03,     1.3054,2,      0.152,1,      0.063,1,      4.627,1
325020190403,       I06S,      17,          1,         30,         30,2,20190419,       1724,      -64.0,     30.001,       5092,   201.9,   1.3291,  34.6688,2,  34.6678,2,    185.5,2,   185.6,2,    94.0,2,   32.93,2,    0.00,2,    2.26,2,   0.779,2,   0.422,2,   0.4469,2,  2262.9,6, 2346.88,2,   7.5585,2, -999.00,9,  -999.0,9,  -999.0, -999.00,9,  -999.0,9, -999.00,9,     29.507,3, 20190419,     1921, -64.0000,  30.0010,      25.04,     1.3278,2,      0.149,1,      0.063,1,      4.623,1
325020190403,       I06S,      17,          1,         31,         31,2,20190419,       1724,      -64.0,     30.001,       5092,   151.3,   1.2773,  34.6348,2,  34.6315,2,    187.1,2,   185.9,2,    91.7,2,   33.43,2,    0.00,2,    2.30,2,   1.049,2,   0.567,2,   0.7390,2,  -999.0,9, -999.00,9,-999.0000,9,    0.26,2,  -148.0,2,     1.7,    0.18,2,    43.4,2,   36.44,2,    29.7146,3, 20190419,     1923, -64.0000,  30.0010,     -999.0,     1.2795,2,      0.154,1,      0.066,1,      4.622,1
325020190403,       I06S,      17,          1,         32,         32,2,20190419,       1724,      -64.0,     30.001,       5092,   100.5,   0.6245,  34.5073,2,   34.505,2,    220.4,3,   212.3,2,    83.8,2,   33.28,2,    0.14,2,    2.30,2,   2.293,2,   1.194,2,   1.2432,2,  -999.0,9, -999.00,9,-999.0000,9,    0.33,2,  -142.2,2,     1.7, -999.00,9,    41.8,2,   36.40,2,    30.2379,3, 20190419,     1925, -64.0000,  30.0010,     -999.0,     0.6246,2,      0.159,1,      0.110,1,      4.608,1
325020190403,       I06S,      17,          1,         33,         33,2,20190419,       1724,      -64.0,     30.001,       5092,    74.9,  -1.2623,  34.2173,2,  34.2367,2,    316.7,3,   297.2,2,    58.6,2,   28.70,2,    0.21,2,    2.02,2,   4.727,2,   2.485,2,   2.9333,2,  2217.6,2, 2320.23,2,   7.6099,2,    0.86,2,  -120.2,2,     1.7,   -0.08,2,  -999.0,9, -999.00,9,    26.4027,3, 20190419,     1926, -64.0000,  30.0010,      25.00,    -1.2545,2,      0.183,1,      0.157,1,      4.577,1
325020190403,       I06S,      17,          1,         34,         34,2,20190419,       1724,      -64.0,     30.001,       5092,    51.0,  -0.3717,  33.8604,2,  33.8625,2,    339.7,2,   338.8,2,    43.7,2,   24.53,2,    0.23,2,    1.72,2,   5.835,2,   3.061,2,   3.8527,2,  -999.0,9, -999.00,9,-999.0000,9,    1.23,2,  -105.8,2,     1.8,   -0.06,6,    42.5,2,   29.95,2,    22.4305,3, 20190419,     1928, -64.0000,  30.0010,     -999.0,     -0.371,2,      0.169,1,      0.158,1,      4.576,1
325020190403,       I06S,      17,          1,         35,         35,2,20190419,       1724,      -64.0,     30.001,       5092,    24.4,  -0.3708,  33.8603,2,  33.8591,2,    338.6,2,   338.9,2,    44.0,2,   24.48,2,    0.24,2,    1.70,2,   5.836,2,   3.040,2,   3.7763,2,  2176.6,2, 2297.86,2,   7.6746,2,    1.25,2,  -107.8,2,     1.8,   -0.28,2,  -999.0,9, -999.00,9,    23.4788,3, 20190419,     1929, -64.0000,  30.0010,      25.05,    -0.3716,2,      0.171,1,      0.159,1,      4.576,1
325020190403,       I06S,      17,          1,         36,         36,2,20190419,       1724,      -64.0,     30.001,       5092,     5.5,  -0.3713,  33.8599,2,  33.8607,2,    337.9,2,   339.0,2,    44.2,2,   24.75,2,    0.25,2,    1.72,2,   5.826,2,   3.021,2,   3.5833,2,  2174.8,2, 2299.18,2,   7.6752,2,    1.26,2,  -103.4,2,     1.8,   -0.07,2,    45.5,2,   28.42,2,    23.1428,3, 20190419,     1930, -64.0000,  30.0010,      25.04,    -0.3727,2,      0.176,1,      0.167,1,      4.576,1