BOTTLE,20210804CCHSIOCBG
EXPOCODE,SECT_ID,STNNBR,CASTNO,SAMPNO,BTLNBR,BTLNBR_FLAG_W,DATE,TIME,LATITUDE,LONGITUDE,DEPTH,CTDPRS,CTDTMP,CTDSAL,CTDSAL_FLAG_W,SALNTY,SALNTY_FLAG_W,CTDOXY,CTDOXY_FLAG_W,OXYGEN,OXYGEN_FLAG_W,SILCAT,SILCAT_FLAG_W,NITRAT,NITRAT_FLAG_W,NITRIT,NITRIT_FLAG_W,PHSPHT,PHSPHT_FLAG_W,CFC-11,CFC-11_FLAG_W,CFC-12,CFC-12_FLAG_W,SF6,SF6_FLAG_W,TCARBN,TCARBN_FLAG_W,ALKALI,ALKALI_FLAG_W,PH_TOT,PH_TOT_FLAG_W,DELC13,DELC13_FLAG_W,DELC14,DELC14_FLAG_W,C14ERR,DELO18,DELO18_FLAG_W,DOC,DOC_FLAG_W,TDN,TDN_FLAG_W,N2O,N2O_FLAG_W,BTL_DATE,BTL_TIME,BTL_LAT,BTL_LON,PH_TMP,REFTMP,REFTMP_FLAG_W,CTDBACKSCATTER,CTDBACKSCATTER_FLAG_W,CTDFLUOR,CTDFLUOR_FLAG_W,CTDXMISS,CTDXMISS_FLAG_W
,,,,,,,,,,,METERS,DBAR,ITS-90,PSS-78,,PSS-78,,UMOL/KG,,UMOL/KG,,UMOL/KG,,UMOL/KG,,UMOL/KG,,UMOL/KG,,PMOL/KG,,PMOL/KG,,FMOL/KG,,UMOL/KG,,UMOL/KG,,,,/MILLE,,/MILLE,,/MILLE,/MILLE,,UMOL/KG,,UMOL/KG,,NMOL/KG,,,,,,DEG C,ITS-90,,VOLTS,,VOLTS,,VOLTS,
325020190403,       I06S,      49,          1,          1,          1,2,20190509,       2033,    -34.136,    29.0353,       3816,  3867.1,   1.1793,  34.7417,2,   34.741,2,    215.4,2,   215.5,2,   102.6,2,   30.08,2,    0.00,2,    2.05,2,   0.162,2,   0.077,2,   0.0605,2,  2250.7,6, 2362.10,2,   7.6311,3, -999.00,9,  -999.0,9,  -999.0,    0.06,2,    39.1,2,   32.68,2,    18.6975,3, 20190509,     2033, -34.1360,  29.0353,      25.11,     1.1788,2,      0.153,1,      0.061,1,      4.717,1
325020190403,       I06S,      49,          1,          2,          2,2,20190509,       2033,    -34.136,    29.0353,       3816,  3715.7,   1.5037,  34.7662,2,  34.7657,2,    216.9,2,   216.7,2,    91.1,2,   28.92,2,    0.00,2,    1.98,2,   0.101,2,   0.045,2,   0.0481,2,  2238.0,2, 2356.59,2,   7.6407,3, -999.00,9,  -999.0,9,  -999.0,    0.16,2,    39.6,2,   29.90,2,     18.453,3, 20190509,     2037, -34.1360,  29.0353,      25.12,     1.5031,2,      0.135,1,      0.061,1,      4.727,1
325020190403,       I06S,      49,          1,          3,          3,2,20190509,       2033,    -34.136,    29.0353,       3816,  3563.9,   1.6599,   34.778,2,  34.7771,2,    216.7,2,   216.7,2,    85.8,2,   28.37,2,    0.00,2,    1.94,2,-999.000,9,-999.000,9,-999.0000,9,  -999.0,9, -999.00,9,-999.0000,9, -999.00,9,  -999.0,9,  -999.0,    0.16,2,  -999.0,9, -999.00,9,     -999.0,9, 20190509,     2040, -34.1360,  29.0353,     -999.0,     1.6602,2,      0.133,1,      0.060,1,      4.728,1
325020190403,       I06S,      49,          1,          4,          4,2,20190509,       2033,    -34.136,    29.0353,       3816,  3254.9,    2.047,  34.8064,2,  34.8052,2,    217.9,2,   217.6,2,    72.4,2,   27.06,2,    0.00,2,    1.85,2,   0.051,2,   0.024,2,   0.0000,2,  2225.3,2, 2348.10,2,   7.6579,3, -999.00,9,  -999.0,9,  -999.0,    0.16,2,    39.7,2,   29.80,2,     17.845,3, 20190509,     2047, -34.1360,  29.0353,      25.11,     2.0468,2,      0.132,1,      0.061,1,      4.729,1
325020190403,       I06S,      49,          1,          5,          5,2,20190509,       2033,    -34.136,    29.0353,       3816,  2964.0,   2.2762,  34.8164,2,  34.8162,2,    216.2,2,   216.8,2,    65.4,2,   26.59,2,    0.00,2,    1.81,2,-999.000,9,-999.000,9,-999.0000,9,  -999.0,9, -999.00,9,-999.0000,9, -999.00,9,  -999.0,9,  -999.0,    0.18,2,    39.5,2,   29.09,2,     -999.0,9, 20190509,     2053, -34.1360,  29.0353,     -999.0,     2.2755,2,      0.134,1,      0.062,1,      4.729,1
325020190403,       I06S,      49,          1,          6,          6,2,20190509,       2033,    -34.136,    29.0353,       3816,  2707.4,   2.4499,  34.8153,2,  34.8148,2,    212.8,2,   213.3,2,    61.6,2,   26.66,2,    0.00,2,    1.81,2,   0.038,2,   0.018,2,   0.0000,2,  2219.1,2, 2341.38,2,   7.6574,3, -999.00,9,  -999.0,9,  -999.0, -999.00,9,  -999.0,9, -999.00,9,    18.2351,3, 20190509,     2059, -34.1360,  29.0353,      25.12,     2.4478,2,      0.132,1,      0.062,1,      4.727,1
325020190403,       I06S,      49,          1,          7,          7,2,20190509,       2033,    -34.136,    29.0353,       3816,  2453.4,   2.5628,  34.7944,2,  34.7938,2,    202.0,2,   203.3,2,    64.6,2,   27.81,2,    0.00,2,    1.87,2,-999.000,9,-999.000,9,-999.0000,9,  -999.0,9, -999.00,9,-999.0000,9, -999.00,9,  -999.0,9,  -999.0,    0.16,2,    38.7,2,   28.17,2,     -999.0,9, 20190509,     2104, -34.1360,  29.0353,     -999.0,     2.5622,2,      0.132,1,      0.061,1,      4.729,1
325020190403,       I06S,      49,          1,          8,          8,2,20190509,       2033,    -34.136,    29.0353,       3816,  2199.3,   2.6879,  34.7639,2,  34.7637,2,    189.2,3,   191.6,2,    67.7,2,   29.32,2,    0.00,2,    1.97,2,   0.075,2,   0.034,2,   0.0000,2,  2235.7,2, 2344.38,2,   7.6217,3, -999.00,9,  -999.0,9,  -999.0, -999.00,9,    39.6,2,   31.94,2,    20.7414,3, 20190509,     2110, -34.1360,  29.0353,      25.10,     2.6882,2,      0.135,1,      0.062,1,      4.726,1
325020190403,       I06S,      49,          1,          9,          9,2,20190509,       2033,    -34.136,    29.0353,       3816,  1966.3,   2.8645,   34.714,2,  34.7133,2,    176.0,2,   176.7,2,    73.0,2,   31.25,2,    0.00,2,    2.20,2,-999.000,9,-999.000,9,-999.0000,9,  -999.0,9, -999.00,9,-999.0000,9, -999.00,9,  -999.0,9,  -999.0,    0.14,2,  -999.0,9, -999.00,9,     -999.0,9, 20190509,     2115, -34.1360,  29.0353,     -999.0,     2.8643,2,      0.135,1,      0.062,1,      4.729,1
325020190403,       I06S,      49,          1,         10,         10,2,20190509,       2033,    -34.136,    29.0353,       3816,  1793.7,   3.1538,  34.6724,2,  34.6717,2,    163.6,2,   164.1,2,    74.9,2,   32.63,2,    0.00,2,    2.30,2,   0.233,2,   0.109,2,   0.0819,2,  2254.0,2, 2346.93,2,   7.5774,3, -999.00,9,  -999.0,9,  -999.0, -999.00,9,    38.1,2,   35.76,2,     24.709,3, 20190509,     2119, -34.1360,  29.0353,      25.12,     3.1534,2,      0.134,1,      0.061,1,      4.728,1
325020190403,       I06S,      49,          1,         11,         11,2,20190509,       2033,    -34.136,    29.0353,       3816,  1690.8,   3.3643,  34.6424,2,  34.6423,2,    160.8,2,   160.0,2,    72.9,2,   33.14,2,    0.00,2,    2.34,2,-999.000,9,-999.000,9,-999.0000,9,  2254.4,2, 2344.48,2,   7.5690,3, -999.00,9,  -999.0,9,  -999.0,     0.1,2,    37.2,2,   35.73,2,     -999.0,9, 20190509,     2122, -34.1360,  29.0353,      25.11,     3.3636,2,      0.135,1,      0.062,1,      4.728,1
325020190403,       I06S,      49,          1,         12,         12,2,20190509,       2033,    -34.136,    29.0353,       3816,  1591.4,   3.6131,  34.6147,2,  34.6132,2,    159.4,3,   157.1,2,    69.9,2,   33.48,2,    0.00,2,    2.35,2,   0.457,2,   0.217,2,   0.1182,2,  2252.3,6, 2339.90,2,   7.5640,3, -999.00,9,  -999.0,9,  -999.0, -999.00,9,  -999.0,9, -999.00,9,    26.2696,3, 20190509,     2125, -34.1360,  29.0353,      25.13,      3.614,2,      0.138,1,      0.063,1,      4.729,1
325020190403,       I06S,      49,          1,         13,         13,2,20190509,       2033,    -34.136,    29.0353,       3816,  1488.1,   3.8789,  34.5696,2,  34.5695,2,    159.8,2,   158.8,2,    63.9,2,   33.39,2,    0.00,2,    2.34,2,-999.000,9,-999.000,9,-999.0000,9,  2245.0,2, 2332.90,2,   7.5653,3, -999.00,9,  -999.0,9,  -999.0,    0.12,6,    38.4,2,   36.04,2,     -999.0,9, 20190509,     2128, -34.1360,  29.0353,      25.11,       3.88,2,      0.132,1,      0.061,1,      4.728,1
325020190403,       I06S,      49,          1,         14,         14,2,20190509,       2033,    -34.136,    29.0353,       3816,  1389.4,   4.0937,  34.5232,2,  34.5238,2,    164.3,2,   164.5,2,    57.3,2,   33.01,2,    0.00,2,    2.33,2,   0.983,2,   0.471,2,   0.2515,2,  2236.3,2, 2325.22,2,   7.5699,3, -999.00,9,  -999.0,9,  -999.0, -999.00,9,    39.5,2,   36.84,2,    25.7587,3, 20190509,     2131, -34.1360,  29.0353,      25.10,     4.1095,2,      0.134,1,      0.062,1,      4.728,1
325020190403,       I06S,      49,          1,         15,         15,2,20190509,       2033,    -34.136,    29.0353,       3816,  1288.2,   4.3417,  34.4558,2,  34.4515,2,    177.8,2,   178.8,2,    46.6,2,   32.12,2,    0.00,2,    2.25,2,-999.000,9,-999.000,9,-999.0000,9,  -999.0,9, -999.00,9,-999.0000,9, -999.00,9,  -999.0,9,  -999.0,     0.1,2,  -999.0,9, -999.00,9,     -999.0,9, 20190509,     2135, -34.1360,  29.0353,     -999.0,     4.3302,2,      0.135,1,      0.063,1,      4.728,1
325020190403,       I06S,      49,          1,         16,         16,2,20190509,       2033,    -34.136,    29.0353,       3816,  1183.3,   5.1286,  34.4534,2,  34.4528,2,    187.4,3,   182.6,2,    38.2,2,   30.54,2,    0.00,2,    2.12,2,   1.881,2,   0.943,2,   0.5584,2,  2208.8,2, 2306.92,2,   7.6029,3, -999.00,9,  -999.0,9,  -999.0, -999.00,9,    39.2,2,   34.41,2,    22.9057,3, 20190509,     2137, -34.1360,  29.0353,      25.11,     5.1257,2,      0.132,1,      0.061,1,      4.728,1
325020190403,       I06S,      49,          1,         17,         17,2,20190509,       2033,    -34.136,    29.0353,       3816,  1084.6,   6.0115,  34.4806,3,  34.4724,2,    188.5,2,   187.2,2,    30.2,2,   28.66,2,    0.00,2,    1.98,2,-999.000,9,-999.000,9,-999.0000,9,  -999.0,9, -999.00,9,-999.0000,9, -999.00,9,  -999.0,9,  -999.0,    0.14,2,    40.2,2,   31.78,2,     -999.0,9, 20190509,     2140, -34.1360,  29.0353,     -999.0,     6.0243,2,      0.138,1,      0.060,1,      4.727,1
325020190403,       I06S,      49,          1,         18,         18,2,20190509,       2033,    -34.136,    29.0353,       3816,   980.2,   7.2846,  34.5481,2,  34.5477,2,    191.6,2,   192.1,2,    21.0,2,   25.41,2,    0.00,2,    1.75,2,   2.546,2,   1.315,2,   0.7420,2,  2178.3,2, 2297.78,2,   7.6612,3, -999.00,9,  -999.0,9,  -999.0, -999.00,9,  -999.0,9, -999.00,9,    19.5057,3, 20190509,     2143, -34.1360,  29.0353,      25.12,     7.2744,2,      0.131,1,      0.059,1,      4.727,1
325020190403,       I06S,      49,          1,         19,         19,2,20190509,       2033,    -34.136,    29.0353,       3816,   880.2,   8.5941,  34.6463,2,  34.6452,2,    206.4,3,   204.2,2,    12.8,2,   21.25,2,    0.00,2,    1.46,2,-999.000,9,-999.000,9,-999.0000,9,  -999.0,9, -999.00,9,-999.0000,9, -999.00,9,  -999.0,9,  -999.0,    0.25,2,    41.1,2,   24.79,2,     -999.0,9, 20190509,     2146, -34.1360,  29.0353,     -999.0,     8.6027,2,      0.131,1,      0.061,1,      4.725,1
325020190403,       I06S,      49,          1,         20,         20,2,20190509,       2033,    -34.136,    29.0353,       3816,   781.3,   9.8391,  34.7732,2,  34.7741,2,    216.3,2,   216.1,2,     7.3,2,   17.20,2,    0.00,2,    1.20,2,   3.196,2,   1.774,2,   1.2475,2,  2141.8,2, 2296.97,2,   7.7533,3, -999.00,9,  -999.0,9,  -999.0, -999.00,9,    42.0,2,   20.31,2,    14.6542,3, 20190509,     2149, -34.1360,  29.0353,      25.13,     9.8548,2,      0.132,1,      0.059,1,      4.724,1
325020190403,       I06S,      49,          1,         21,         21,2,20190509,       2033,    -34.136,    29.0353,       3816,   677.6,  11.0026,   34.925,2,  34.9246,2,    219.3,2,   218.8,2,     5.4,2,   14.27,2,    0.00,2,    1.01,2,-999.000,9,-999.000,9,-999.0000,9,  2133.7,2, 2302.91,2,   7.7836,3, -999.00,9,  -999.0,9,  -999.0,    0.39,2,  -999.0,9, -999.00,9,     -999.0,9, 20190509,     2151, -34.1360,  29.0353,      25.12,    11.0108,2,      0.134,1,      0.059,1,      4.722,1
325020190403,       I06S,      49,          1,         22,         22,2,20190509,       2033,    -34.136,    29.0353,       3816,   577.8,  12.1771,   35.094,2,  35.0945,2,    217.4,2,   216.4,2,     4.6,2,   11.90,2,    0.00,2,    0.87,2,   2.993,2,   1.730,2,   1.5878,2,  2130.8,2, 2309.50,2,   7.8080,3, -999.00,9,  -999.0,9,  -999.0, -999.00,9,    41.9,2,   14.32,2,    12.7514,3, 20190509,     2154, -34.1360,  29.0353,      25.12,    12.1841,2,      0.138,1,      0.059,1,      4.718,1
325020190403,       I06S,      49,          1,         23,         23,2,20190509,       2033,    -34.136,    29.0353,       3816,   495.7,  13.0375,  35.2131,2,  35.2127,2,    214.3,2,   214.2,2,     4.3,2,   10.27,2,    0.00,2,    0.76,2,-999.000,9,-999.000,9,-999.0000,9,  -999.0,9, -999.00,9,-999.0000,9, -999.00,9,  -999.0,9,  -999.0,    0.57,2,    43.3,2,   12.57,2,     -999.0,9, 20190509,     2156, -34.1360,  29.0353,     -999.0,     13.049,2,      0.137,1,      0.059,1,      4.717,1
325020190403,       I06S,      49,          1,         24,         24,2,20190509,       2033,    -34.136,    29.0353,       3816,   447.1,  13.6536,   35.294,2,  35.2957,2,    211.5,3,   214.3,2,     4.0,2,    8.91,2,    0.00,2,    0.67,2,   2.781,2,   1.642,2,   1.8436,2,  2123.0,2, 2318.62,2,   7.8423,3, -999.00,9,  -999.0,9,  -999.0, -999.00,9,  -999.0,9, -999.00,9,    11.7327,3, 20190509,     2158, -34.1360,  29.0353,      25.13,    13.6765,2,      0.145,1,      0.060,1,      4.715,1
325020190403,       I06S,      49,          1,         25,         25,2,20190509,       2033,    -34.136,    29.0353,       3816,   397.8,  14.1842,   35.326,2,  35.3298,2,    206.9,2,   207.0,2,     4.4,2,    8.59,2,    0.00,2,    0.65,2,   2.675,2,   1.582,2,   1.7168,2,  2121.3,2, 2320.95,2,   7.8475,3, -999.00,9,  -999.0,9,  -999.0,    0.61,2,    43.5,2,   11.13,2,     11.992,3, 20190509,     2200, -34.1360,  29.0353,      25.13,    14.2169,2,      0.136,1,      0.059,1,      4.715,1
325020190403,       I06S,      49,          1,         26,         26,2,20190509,       2033,    -34.136,    29.0353,       3816,   345.3,   15.167,  35.4329,2,  35.4343,2,    207.2,2,   206.9,2,     3.9,2,    7.01,2,    0.00,2,    0.55,2,   2.558,2,   1.542,2,   1.7848,2,  2113.2,2, 2325.42,2,   7.8713,3, -999.00,9,  -999.0,9,  -999.0, -999.00,9,    45.7,2,   10.28,2,    11.0573,3, 20190509,     2201, -34.1360,  29.0353,      25.11,    15.1739,2,      0.135,1,      0.059,1,      4.716,1
325020190403,       I06S,      49,          1,         27,         27,2,20190509,       2033,    -34.136,    29.0353,       3816,   294.8,  15.9999,  35.5008,2,  35.4995,2,    205.8,2,   205.5,2,     3.8,2,    6.08,2,    0.00,2,    0.48,2,-999.000,9,-999.000,9,-999.0000,9,  -999.0,9, -999.00,9,-999.0000,9, -999.00,9,  -999.0,9,  -999.0,    1.12,3,  -999.0,9, -999.00,9,     -999.0,9, 20190509,     2203, -34.1360,  29.0353,     -999.0,    16.0151,2,      0.137,1,      0.059,1,      4.714,1
325020190403,       I06S,      49,          1,         28,         28,2,20190509,       2033,    -34.136,    29.0353,       3816,   246.7,  16.7888,   35.558,2,  35.5572,2,    207.3,2,   205.7,2,     3.8,2,    5.18,2,    0.00,2,    0.42,2,   2.340,2,   1.415,2,   1.8391,2,  2100.5,2, 2329.85,2,   7.9109,3, -999.00,9,  -999.0,9,  -999.0, -999.00,9,    49.6,2,    7.25,2,    10.2123,3, 20190509,     2205, -34.1360,  29.0353,      25.11,    16.8087,2,      0.140,1,      0.060,1,      4.712,1
325020190403,       I06S,      49,          1,         29,         29,2,20190509,       2033,    -34.136,    29.0353,       3816,   195.3,  17.4052,  35.5748,2,  35.5735,2,    204.5,3,   202.0,2,     3.4,2,    4.36,2,    0.01,2,    0.37,2,   2.281,2,   1.382,2,   1.8393,2,  2095.0,2, 2330.96,2,   7.9176,3, -999.00,9,  -999.0,9,  -999.0,    0.74,2,    51.5,2,    7.21,2,    10.0003,3, 20190509,     2206, -34.1360,  29.0353,      25.11,    17.4255,2,      0.140,1,      0.062,1,      4.709,1
325020190403,       I06S,      49,          1,         30,         30,2,20190509,       2033,    -34.136,    29.0353,       3816,   151.1,  18.4381,  35.5718,2,  35.5682,2,    193.5,3,   197.5,2,     3.3,2,    3.61,2,    0.02,2,    0.33,2,   2.177,2,   1.336,2,   1.8134,2,  2085.0,2, 2330.09,2,   7.9341,3, -999.00,9,  -999.0,9,  -999.0,    0.72,2,  -999.0,9, -999.00,9,    10.2499,3, 20190509,     2208, -34.1360,  29.0353,      25.12,    18.6273,3,      0.149,1,      0.071,1,      4.703,1
325020190403,       I06S,      49,          1,         31,         31,2,20190509,       2033,    -34.136,    29.0353,       3816,   124.2,  19.6346,  35.5414,2,  35.5414,2,    190.5,2,   192.1,2,     3.2,2,    3.39,2,    0.02,2,    0.31,2,-999.000,9,-999.000,9,-999.0000,9,  -999.0,9, -999.00,9,-999.0000,9, -999.00,9,  -999.0,9,  -999.0,    0.78,6,    55.3,2,    6.09,2,     -999.0,9, 20190509,     2209, -34.1360,  29.0353,     -999.0,    19.7068,3,      0.152,1,      0.077,1,      4.700,1
325020190403,       I06S,      49,          1,         32,         32,2,20190509,       2033,    -34.136,    29.0353,       3816,    97.3,  21.3863,  35.5782,2,  35.5796,2,    208.3,2,   209.0,2,     1.9,2,    0.60,2,    0.13,2,    0.13,2,   1.932,2,   1.200,2,   1.7179,2,  2048.1,2, 2329.19,3,   8.0062,3, -999.00,9,  -999.0,9,  -999.0,    0.79,2,    59.4,2,    4.46,2,     8.3398,3, 20190509,     2211, -34.1360,  29.0353,      25.12,    21.3986,2,      0.172,1,      0.137,1,      4.668,1
325020190403,       I06S,      49,          1,         33,         33,2,20190509,       2033,    -34.136,    29.0353,       3816,    74.8,  22.0423,  35.5495,2,  35.5489,2,    215.3,2,   216.8,2,     1.5,2,    0.02,2,    0.00,2,    0.06,2,   1.837,2,   1.152,2,   1.8882,2,  2029.5,2, 2326.83,2,   8.0340,3, -999.00,9,  -999.0,9,  -999.0,     0.8,2,  -999.0,9, -999.00,9,     6.7247,3, 20190509,     2212, -34.1360,  29.0353,      25.10,    22.0403,2,      0.186,1,      0.127,1,      4.646,1
325020190403,       I06S,      49,          1,         34,         34,2,20190509,       2033,    -34.136,    29.0353,       3816,    47.8,  22.0384,  35.5493,2,  35.5487,2,    214.4,3,   216.9,2,     1.5,2,    0.01,2,    0.00,2,    0.06,2,-999.000,9,-999.000,9,-999.0000,9,  -999.0,9, -999.00,9,-999.0000,9, -999.00,9,  -999.0,9,  -999.0,    0.74,2,    62.0,2,    3.84,2,     -999.0,9, 20190509,     2213, -34.1360,  29.0353,     -999.0,    22.0372,2,      0.187,1,      0.128,1,      4.646,1
325020190403,       I06S,      49,          1,         35,         35,2,20190509,       2033,    -34.136,    29.0353,       3816,    27.8,  22.0359,  35.5489,2,  35.5487,2,    213.7,3,   216.8,2,     1.4,2,    0.02,2,    0.00,2,    0.07,2,   1.878,2,   1.159,2,   1.7858,2,  2029.0,2, 2327.20,2,   8.0339,3, -999.00,9,  -999.0,9,  -999.0,    0.77,2,  -999.0,9, -999.00,9,     7.4135,3, 20190509,     2215, -34.1360,  29.0353,      25.06,    22.0334,2,      0.185,1,      0.129,1,      4.646,1
325020190403,       I06S,      49,          1,         36,         36,2,20190509,       2033,    -34.136,    29.0353,       3816,    10.8,  22.0253,  35.5487,2,  35.5491,2,    213.4,3,   216.7,2,     1.5,2,    0.00,2,    0.00,2,    0.08,2,-999.000,5,-999.000,5,-999.0000,5,  2029.3,6, 2327.09,2,   8.0340,3,    0.67,2,    23.4,2,     2.1,    0.76,2,    63.3,2,    4.75,2,     -999.0,5, 20190509,     2217, -34.1360,  29.0353,      25.06,    22.0227,2,      0.187,1,      0.133,1,      4.646,1