BOTTLE,20210804CCHSIOCBG
EXPOCODE,SECT_ID,STNNBR,CASTNO,SAMPNO,BTLNBR,BTLNBR_FLAG_W,DATE,TIME,LATITUDE,LONGITUDE,DEPTH,CTDPRS,CTDTMP,CTDSAL,CTDSAL_FLAG_W,SALNTY,SALNTY_FLAG_W,CTDOXY,CTDOXY_FLAG_W,OXYGEN,OXYGEN_FLAG_W,SILCAT,SILCAT_FLAG_W,NITRAT,NITRAT_FLAG_W,NITRIT,NITRIT_FLAG_W,PHSPHT,PHSPHT_FLAG_W,CFC-11,CFC-11_FLAG_W,CFC-12,CFC-12_FLAG_W,SF6,SF6_FLAG_W,TCARBN,TCARBN_FLAG_W,ALKALI,ALKALI_FLAG_W,PH_TOT,PH_TOT_FLAG_W,DELC13,DELC13_FLAG_W,DELC14,DELC14_FLAG_W,C14ERR,DELO18,DELO18_FLAG_W,DOC,DOC_FLAG_W,TDN,TDN_FLAG_W,N2O,N2O_FLAG_W,BTL_DATE,BTL_TIME,BTL_LAT,BTL_LON,PH_TMP,REFTMP,REFTMP_FLAG_W,CTDBACKSCATTER,CTDBACKSCATTER_FLAG_W,CTDFLUOR,CTDFLUOR_FLAG_W,CTDXMISS,CTDXMISS_FLAG_W
,,,,,,,,,,,METERS,DBAR,ITS-90,PSS-78,,PSS-78,,UMOL/KG,,UMOL/KG,,UMOL/KG,,UMOL/KG,,UMOL/KG,,UMOL/KG,,PMOL/KG,,PMOL/KG,,FMOL/KG,,UMOL/KG,,UMOL/KG,,,,/MILLE,,/MILLE,,/MILLE,/MILLE,,UMOL/KG,,UMOL/KG,,NMOL/KG,,,,,,DEG C,ITS-90,,VOLTS,,VOLTS,,VOLTS,
325020190403,       I06S,      10,          1,          1,          1,2,20190417,       2316,   -67.4998,    30.0018,       3586,  3642.6,  -0.2694,  34.6521,2,  34.6535,2,    242.4,2,   241.2,2,   124.7,2,   32.57,2,    0.00,2,    2.22,2,   1.193,2,   0.632,2,   0.5255,2,  2256.2,6, 2353.12,2,   7.5965,2,    0.45,2,  -157.8,2,     1.7,   -0.09,2,    38.7,2,   33.63,2,    20.8012,3, 20190417,     2316, -67.4998,  30.0018,      25.08,    -0.2696,2,      0.133,1,      0.061,1,      4.640,1
325020190403,       I06S,      10,          1,          2,          2,2,20190417,       2316,   -67.4998,    30.0018,       3586,  3600.9,  -0.2622,  34.6574,3,  34.6489,3,    240.4,2,   241.5,2,   123.9,2,   32.62,2,    0.00,2,    2.22,2,-999.000,9,-999.000,9,-999.0000,9,  2258.9,2, -999.00,9,-999.0000,9,    0.15,4,  -162.9,3,     1.7,   -0.03,2,    39.3,2,   33.47,2,     -999.0,9, 20190417,     2318, -67.4998,  30.0018,     -999.0,    -0.2613,2,      0.129,1,      0.062,1,      4.642,1
325020190403,       I06S,      10,          1,          3,          3,2,20190417,       2316,   -67.4998,    30.0018,       3586,  3564.3,  -0.2521,  34.6528,2,  34.6511,2,    239.5,2,   241.0,2,   122.7,2,   32.53,2,    0.00,2,    2.22,2,   1.242,2,   0.657,2,   0.5024,2,  2258.3,2, 2350.28,2,   7.5953,2,    0.42,2,  -152.7,2,     1.8,   -0.05,2,  -999.0,9, -999.00,9,    21.8034,3, 20190417,     2319, -67.4998,  30.0018,      25.06,    -0.2521,2,      0.128,1,      0.061,1,      4.643,1
325020190403,       I06S,      10,          1,          4,          4,2,20190417,       2316,   -67.4998,    30.0018,       3586,  3256.6,   -0.185,  34.6551,3,  34.6523,2,    237.2,2,   237.6,2,   120.1,2,   32.58,2,    0.00,2,    2.23,2,-999.000,9,-999.000,9,-999.0000,9,  -999.0,9, -999.00,9,-999.0000,9,    0.08,4,  -161.3,2,     1.7,   -0.06,2,    38.7,2,   33.23,2,     -999.0,9, 20190417,     2325, -67.4998,  30.0018,     -999.0,     -0.185,2,      0.124,1,      0.063,1,      4.646,1
325020190403,       I06S,      10,          1,          5,          5,2,20190417,       2316,   -67.4998,    30.0018,       3586,  2963.6,  -0.1479,  34.6572,3,  34.6548,2,    234.5,2,   234.8,2,   120.4,2,   32.56,2,    0.00,2,    2.23,2,   1.188,2,   0.631,2,   0.5394,2,  2258.7,2, 2349.79,3,   7.5926,2,   -0.06,4,  -166.0,3,     1.7,   -0.02,2,    38.8,2,   33.20,2,    22.1999,3, 20190417,     2331, -67.4998,  30.0018,      25.05,    -0.1477,2,      0.125,1,      0.062,1,      4.645,1
325020190403,       I06S,      10,          1,          6,          6,2,20190417,       2316,   -67.4998,    30.0018,       3586,  2708.5,  -0.1126,  34.6592,3,   34.657,2,    231.5,2,   232.3,2,   121.3,2,   32.66,2,    0.00,2,    2.23,2,-999.000,9,-999.000,9,-999.0000,9,  -999.0,9, -999.00,9,-999.0000,9,    0.50,2,  -155.6,2,     1.8, -999.00,9,  -999.0,9, -999.00,9,     -999.0,9, 20190417,     2336, -67.4998,  30.0018,     -999.0,    -0.1127,2,      0.124,1,      0.061,1,      4.646,1
325020190403,       I06S,      10,          1,          7,          7,2,20190417,       2316,   -67.4998,    30.0018,       3586,  2453.8,  -0.0613,  34.6621,3,  34.6599,2,    227.7,2,   229.2,2,   122.1,2,   32.51,2,    0.00,2,    2.23,2,   0.948,2,   0.501,2,   0.4426,2,  2258.7,2, 2351.80,2,   7.5904,2,    0.41,2,  -157.4,2,     1.7,   -0.03,2,    38.7,2,   33.90,2,    22.4206,3, 20190417,     2341, -67.4998,  30.0018,      25.06,    -0.0615,2,      0.124,1,      0.062,1,      4.647,1
325020190403,       I06S,      10,          1,          8,          8,2,20190417,       2316,   -67.4998,    30.0018,       3586,  2198.4,   0.0006,  34.6651,3,  34.6629,2,    224.6,2,   225.9,2,   121.8,2,   32.82,2,    0.00,2,    2.23,2,-999.000,9,-999.000,9,-999.0000,9,  -999.0,9, -999.00,9,-999.0000,9,    0.44,2,  -154.6,2,     1.8, -999.00,9,    38.8,2,   33.98,2,     -999.0,9, 20190417,     2346, -67.4998,  30.0018,     -999.0,     0.0011,2,      0.125,1,      0.062,1,      4.646,1
325020190403,       I06S,      10,          1,          9,          9,2,20190417,       2316,   -67.4998,    30.0018,       3586,  1963.1,   0.0685,  34.6676,2,  34.6668,2,    222.0,2,   222.9,2,   122.1,2,   32.97,2,    0.00,2,    2.24,2,   0.790,2,   0.425,2,   0.2854,2,  2262.5,2, 2354.68,2,   7.5886,2,    0.52,2,  -157.2,2,     1.7,   -0.08,2,  -999.0,9, -999.00,9,     22.607,3, 20190417,     2351, -67.4998,  30.0018,      25.05,     0.0681,2,      0.124,1,      0.062,1,      4.647,1
325020190403,       I06S,      10,          1,         10,         10,2,20190417,       2316,   -67.4998,    30.0018,       3586,  1790.1,   0.1357,  34.6708,2,  34.6691,2,    219.0,2,   220.0,2,   121.3,2,   32.81,2,    0.00,2,    2.25,2,-999.000,9,-999.000,9,-999.0000,9,  -999.0,9, -999.00,9,-999.0000,9,    0.58,2,  -160.7,2,     1.8, -999.00,9,    38.4,2,   34.17,2,     -999.0,9, 20190417,     2355, -67.4998,  30.0017,     -999.0,     0.1351,2,      0.125,1,      0.062,1,      4.647,1
325020190403,       I06S,      10,          1,         11,         11,2,20190417,       2316,   -67.4998,    30.0018,       3586,  1688.0,   0.1799,  34.6729,2,  34.6709,2,    217.4,2,   217.5,2,   121.3,2,   32.92,2,    0.00,2,    2.25,2,   0.699,2,   0.369,2,   0.2804,2,  2263.0,2, 2356.74,2,   7.5866,2,    0.53,2,  -153.6,2,     2.0,   -0.01,6,    39.4,2,   31.11,2,    22.5111,3, 20190417,     2357, -67.4998,  30.0017,      25.05,     0.1795,2,      0.128,1,      0.062,1,      4.646,1
325020190403,       I06S,      10,          1,         12,         12,2,20190417,       2316,   -67.4998,    30.0018,       3586,  1586.2,   0.2237,  34.6747,2,  34.6735,2,    215.5,2,   216.8,2,   120.5,2,   32.81,2,    0.00,2,    2.25,2,-999.000,9,-999.000,9,-999.0000,9,  2262.9,2, -999.00,9,-999.0000,9, -999.00,9,  -999.0,9,  -999.0, -999.00,9,  -999.0,9, -999.00,9,     -999.0,9, 20190418,        0, -67.4998,  30.0018,     -999.0,     0.2231,2,      0.126,1,      0.063,1,      4.647,1
325020190403,       I06S,      10,          1,         13,         13,2,20190417,       2316,   -67.4998,    30.0018,       3586,  1484.4,   0.2723,  34.6768,2,   34.675,2,    214.2,2,   214.8,2,   119.4,2,   32.92,2,    0.00,2,    2.24,2,   0.642,2,   0.337,2,   0.2828,2,  2262.2,2, 2358.21,2,   7.5858,2,    0.52,2,  -158.4,2,     1.7,    0.01,2,    38.0,2,   33.75,2,    19.9051,3, 20190418,        2, -67.4998,  30.0018,      25.06,     0.2729,2,      0.125,1,      0.061,1,      4.646,1
325020190403,       I06S,      10,          1,         14,         14,2,20190417,       2316,   -67.4998,    30.0018,       3586,  1382.5,   0.3271,  34.6786,2,  34.6762,2,    212.6,2,   213.4,2,   118.6,2,   32.82,2,    0.00,2,    2.23,2,-999.000,9,-999.000,9,-999.0000,9,  -999.0,9, -999.00,9,-999.0000,9,    0.47,2,  -157.3,2,     1.8, -999.00,9,    38.9,2,   32.22,2,     -999.0,9, 20190418,        5, -67.4998,  30.0018,     -999.0,     0.3273,2,      0.126,1,      0.063,1,      4.647,1
325020190403,       I06S,      10,          1,         15,         15,2,20190417,       2316,   -67.4998,    30.0018,       3586,  1280.8,   0.3771,  34.6809,2,  34.6784,2,    211.1,2,   211.9,2,   117.6,2,   32.82,2,    0.00,2,    2.23,2,   0.627,2,   0.332,2,   0.2979,2,  2262.6,2, 2355.68,2,   7.5847,2,    0.52,2,  -157.8,2,     2.1,    0.02,2,  -999.0,9, -999.00,9,    22.4468,3, 20190418,        7, -67.4998,  30.0017,      25.04,     0.3767,2,      0.127,1,      0.061,1,      4.646,1
325020190403,       I06S,      10,          1,         16,         16,2,20190417,       2316,   -67.4998,    30.0018,       3586,  1180.1,   0.4294,  34.6829,2,  34.6811,2,    210.0,2,   210.7,2,   116.4,2,   32.71,2,    0.00,2,    2.23,2,-999.000,9,-999.000,9,-999.0000,9,  -999.0,9, -999.00,9,-999.0000,9,    0.44,2,  -158.2,2,     1.7, -999.00,9,    38.0,2,   33.46,2,     -999.0,9, 20190418,        9, -67.4998,  30.0018,     -999.0,     0.4284,2,      0.127,1,      0.061,1,      4.646,1
325020190403,       I06S,      10,          1,         17,         17,2,20190417,       2316,   -67.4998,    30.0018,       3586,  1078.2,   0.4833,  34.6847,2,  34.6835,2,    209.3,2,   209.8,2,   114.6,2,   32.58,2,    0.00,2,    2.22,2,   0.636,2,   0.334,2,   0.3048,2,  2262.4,2, 2354.49,2,   7.5859,2,    0.52,2,  -155.6,2,     1.8,    0.02,2,    38.7,2,   36.59,2,    23.0917,3, 20190418,       12, -67.4998,  30.0018,      25.05,     0.4835,2,      0.127,1,      0.063,1,      4.646,1
325020190403,       I06S,      10,          1,         18,         18,2,20190417,       2316,   -67.4998,    30.0018,       3586,   977.3,   0.5461,  34.6871,2,  34.6852,2,    208.0,2,   208.9,2,   111.9,2,   32.55,2,    0.00,2,    2.21,2,-999.000,9,-999.000,9,-999.0000,9,  2259.3,2, -999.00,9,-999.0000,9, -999.00,9,  -999.0,9,  -999.0, -999.00,9,  -999.0,9, -999.00,9,     -999.0,9, 20190418,       15, -67.4998,  30.0018,     -999.0,     0.5463,2,      0.127,1,      0.062,1,      4.646,1
325020190403,       I06S,      10,          1,         19,         19,2,20190417,       2316,   -67.4998,    30.0018,       3586,   875.2,   0.6359,  34.6915,2,  34.6903,2,    206.6,2,   207.5,2,   111.0,2,   32.39,2,    0.00,2,    2.19,2,   0.619,2,   0.325,2,   0.2513,2,  2260.9,2, 2355.47,2,   7.5875,2,    0.51,2,  -159.3,2,     1.8,    0.04,2,    39.2,2,   34.16,2,    23.3231,3, 20190418,       17, -67.4998,  30.0018,      25.06,     0.6352,2,      0.128,1,      0.062,1,      4.646,1
325020190403,       I06S,      10,          1,         20,         20,2,20190417,       2316,   -67.4998,    30.0018,       3586,   773.4,   0.6497,  34.6882,2,   34.687,2,    207.7,2,   209.0,2,   106.7,2,   32.23,2,    0.00,2,    2.18,2,-999.000,9,-999.000,9,-999.0000,9,  -999.0,9, -999.00,9,-999.0000,9,    0.46,2,  -157.7,2,     1.7, -999.00,9,    39.7,2,   32.15,2,     -999.0,9, 20190418,       19, -67.4998,  30.0018,     -999.0,     0.6502,2,      0.134,1,      0.063,1,      4.644,1
325020190403,       I06S,      10,          1,         21,         21,2,20190417,       2316,   -67.4998,    30.0018,       3586,   671.5,    0.777,   34.693,2,  34.6929,2,    206.2,2,   206.8,2,   104.6,2,   32.04,2,    0.00,2,    2.17,2,   0.706,2,   0.375,2,   0.3660,2,  2258.7,2, 2351.92,2,   7.5905,2,    0.47,2,  -153.3,2,     1.7,    0.11,2,  -999.0,9, -999.00,9,    23.4737,3, 20190418,       22, -67.4998,  30.0018,      25.05,      0.774,2,      0.132,1,      0.063,1,      4.644,1
325020190403,       I06S,      10,          1,         22,         22,2,20190417,       2316,   -67.4998,    30.0018,       3586,   570.5,   0.8679,  34.6946,2,  34.6943,2,    204.9,2,   205.6,2,   101.5,2,   31.99,2,    0.00,2,    2.17,2,-999.000,9,-999.000,9,-999.0000,9,  -999.0,9, -999.00,9,-999.0000,9,    0.51,2,  -151.5,2,     1.8, -999.00,9,    38.2,2,   33.00,2,     -999.0,9, 20190418,       24, -67.4998,  30.0018,     -999.0,     0.8676,2,      0.133,1,      0.062,1,      4.640,1
325020190403,       I06S,      10,          1,         23,         23,2,20190417,       2316,   -67.4998,    30.0018,       3586,   490.0,   0.9417,  34.6949,2,  34.6954,2,    204.1,2,   204.0,2,    98.8,2,   31.92,2,    0.00,2,    2.16,2,   0.735,2,   0.399,2,   0.3554,2,  2258.4,2, 2349.29,2,   7.5879,2,    0.46,2,  -152.1,2,     1.8,    0.06,2,    38.7,2,   31.68,2,    23.7432,3, 20190418,       26, -67.4998,  30.0018,      25.07,     0.9405,2,      0.140,1,      0.063,1,      4.640,1
325020190403,       I06S,      10,          1,         24,         24,2,20190417,       2316,   -67.4998,    30.0018,       3586,   439.8,   0.9516,  34.6901,2,  34.6947,2,    203.7,2,   204.3,2,    97.3,2,   31.93,2,    0.00,2,    2.16,2,-999.000,9,-999.000,9,-999.0000,9,  -999.0,9, -999.00,9,-999.0000,9, -999.00,9,  -999.0,9,  -999.0, -999.00,9,  -999.0,9, -999.00,9,     -999.0,9, 20190418,       28, -67.4998,  30.0018,     -999.0,     0.9507,2,      0.145,1,      0.063,1,      4.639,1
325020190403,       I06S,      10,          1,         25,         25,2,20190417,       2316,   -67.4998,    30.0018,       3586,   388.8,   0.9713,   34.685,2,  34.6843,2,    203.4,2,   204.2,2,    94.8,2,   31.95,2,    0.00,2,    2.16,2,   0.906,2,   0.489,2,   0.4195,2,  2257.6,2, 2346.48,2,   7.5838,2,    0.46,2,  -151.4,2,     1.7,    0.09,2,    38.2,2,   30.54,2,    24.0043,3, 20190418,       30, -67.4998,  30.0018,      25.05,     0.9688,2,      0.143,1,      0.063,1,      4.639,1
325020190403,       I06S,      10,          1,         26,         26,2,20190417,       2316,   -67.4998,    30.0018,       3586,   338.4,   0.9599,  34.6769,2,   34.675,2,    204.6,2,   204.9,2,    93.5,2,   31.89,2,    0.00,2,    2.16,2,-999.000,9,-999.000,9,-999.0000,9,  -999.0,9, -999.00,9,-999.0000,9,    0.48,2,  -148.5,2,     1.7, -999.00,9,    38.4,2,   32.10,2,     -999.0,9, 20190418,       31, -67.4998,  30.0017,     -999.0,       0.96,2,      0.138,1,      0.065,1,      4.638,1
325020190403,       I06S,      10,          1,         27,         27,2,20190417,       2316,   -67.4998,    30.0018,       3586,   287.8,   0.9696,  34.6696,2,  34.6693,2,    204.9,2,   204.3,2,    91.4,2,   32.20,2,    0.00,2,    2.17,2,   1.076,2,   0.584,2,   0.5457,2,  2256.8,3, 2344.70,2,   7.5771,2,    0.33,4,  -149.7,2,     1.8,    0.09,2,  -999.0,9, -999.00,9,    24.3137,3, 20190418,       33, -67.4998,  30.0018,      25.05,     0.9657,2,      0.146,1,      0.065,1,      4.637,1
325020190403,       I06S,      10,          1,         28,         28,2,20190417,       2316,   -67.4998,    30.0018,       3586,   236.4,   0.7545,  34.6371,2,  34.6385,2,    207.0,3,   210.8,2,    88.1,2,   32.28,2,    0.00,2,    2.18,2,-999.000,9,-999.000,9,-999.0000,9,  2254.0,2, -999.00,9,-999.0000,9,    0.49,2,  -146.6,2,     1.8, -999.00,9,    40.1,2,   36.76,3,     -999.0,9, 20190418,       34, -67.4998,  30.0018,     -999.0,     0.7509,2,      0.152,1,      0.068,1,      4.632,1
325020190403,       I06S,      10,          1,         29,         29,2,20190417,       2316,   -67.4998,    30.0018,       3586,   186.1,   0.6214,  34.6127,2,  34.6142,2,    214.9,2,   214.3,2,    86.3,2,   32.45,2,    0.01,2,    2.19,2,   1.732,2,   0.928,2,   0.9286,2,  2256.0,2, 2342.16,2,   7.5704,2,    0.43,2,  -147.7,2,     1.8,     0.0,2,    40.3,2,   33.20,2,    24.8847,3, 20190418,       36, -67.4998,  30.0018,      25.07,     0.6177,2,      0.148,1,      0.071,1,      4.629,1
325020190403,       I06S,      10,          1,         30,         30,2,20190417,       2316,   -67.4998,    30.0018,       3586,   140.7,   0.0998,  34.5438,2,   34.546,2,    235.2,2,   233.7,2,    80.3,2,   32.24,2,    0.01,2,    2.18,2,-999.000,9,-999.000,9,-999.0000,9,  -999.0,9, -999.00,9,-999.0000,9, -999.00,9,  -999.0,9,  -999.0,    -0.0,6,  -999.0,9, -999.00,9,     -999.0,9, 20190418,       37, -67.4998,  30.0018,     -999.0,     0.0989,2,      0.147,1,      0.081,1,      4.628,1
325020190403,       I06S,      10,          1,         31,         31,2,20190417,       2316,   -67.4998,    30.0018,       3586,   115.3,  -0.3764,  34.4881,2,  34.4946,2,    254.4,3,   250.5,2,    75.8,2,   31.98,2,    0.02,2,    2.15,2,   3.111,2,   1.639,2,   1.8510,2,  2242.3,2, 2334.28,2,   7.5774,2,    0.54,2,  -138.2,2,     2.0,    0.08,2,    38.7,2,   34.35,2,    24.0488,3, 20190418,       39, -67.4998,  30.0018,      25.05,    -0.3686,2,      0.146,1,      0.085,1,      4.628,1
325020190403,       I06S,      10,          1,         32,         32,2,20190417,       2316,   -67.4998,    30.0018,       3586,    89.7,  -1.0683,  34.4053,2,  34.4091,2,    278.7,2,   276.8,2,    69.0,2,   31.27,2,    0.09,2,    2.11,2,-999.000,9,-999.000,9,-999.0000,9,  -999.0,9, -999.00,9,-999.0000,9,    0.69,2,  -128.2,2,     1.8,   -0.15,2,    38.5,2,   32.49,2,     -999.0,9, 20190418,       40, -67.4998,  30.0018,     -999.0,    -1.0759,2,      0.159,1,      0.101,1,      4.615,1
325020190403,       I06S,      10,          1,         33,         33,2,20190417,       2316,   -67.4998,    30.0018,       3586,    65.4,  -1.4323,  34.2885,2,  34.2734,2,    324.9,3,   308.4,2,    60.4,2,   29.60,2,    0.14,2,    2.01,2,   4.849,2,   2.597,2,   3.1031,2,  2218.7,2, 2318.60,2,   7.6129,2,    0.84,2,  -125.5,2,     2.4,   -0.18,2,  -999.0,9, -999.00,9,     25.482,3, 20190418,       41, -67.4998,  30.0018,      25.06,    -1.4017,3,      0.216,1,      0.204,1,      4.572,1
325020190403,       I06S,      10,          1,         34,         34,2,20190417,       2316,   -67.4998,    30.0018,       3586,    40.8,   -1.355,  34.0051,2,  34.0083,2,    345.1,2,   346.6,2,    49.4,2,   27.03,2,    0.17,2,    1.77,2,-999.000,9,-999.000,9,-999.0000,9,  2188.2,2, -999.00,9,-999.0000,9,    1.11,2,  -116.5,2,     1.9,   -0.34,2,    40.2,2,   29.76,2,     -999.0,9, 20190418,       42, -67.4998,  30.0018,     -999.0,      -1.37,2,      0.251,1,      0.344,1,      4.542,1
325020190403,       I06S,      10,          1,         35,         35,2,20190417,       2316,   -67.4998,    30.0018,       3586,    19.9,  -1.3834,  34.0029,2,  34.0062,2,    344.8,2,   347.2,2,    49.4,2,   27.03,2,    0.17,2,    1.76,2,   6.045,2,   3.195,2,   4.0754,2,  2188.6,2, 2301.02,2,   7.6592,2,    1.12,2,  -115.4,2,     1.9,   -0.28,2,  -999.0,9, -999.00,9,    20.1734,3, 20190418,       44, -67.4998,  30.0018,      25.03,    -1.3834,2,      0.227,1,      0.310,1,      4.543,1
325020190403,       I06S,      10,          1,         36,         36,2,20190417,       2316,   -67.4998,    30.0018,       3586,     4.5,   -1.384,  34.0027,2,  34.0072,2,    344.6,2,   347.0,2,    49.6,2,   26.98,2,    0.17,2,    1.77,2,   6.059,2,   3.218,2,   4.1383,2,  2188.4,6, 2316.18,2,   7.6594,2,    1.11,2,  -113.7,2,     1.8,   -0.27,2,    40.8,2,   29.99,2,    20.1092,3, 20190418,       45, -67.4998,  30.0018,      25.03,    -1.3848,2,      0.224,1,      0.310,1,      4.542,1