BOTTLE,20210804CCHSIOCBG
EXPOCODE,SECT_ID,STNNBR,CASTNO,SAMPNO,BTLNBR,BTLNBR_FLAG_W,DATE,TIME,LATITUDE,LONGITUDE,DEPTH,CTDPRS,CTDTMP,CTDSAL,CTDSAL_FLAG_W,SALNTY,SALNTY_FLAG_W,CTDOXY,CTDOXY_FLAG_W,OXYGEN,OXYGEN_FLAG_W,SILCAT,SILCAT_FLAG_W,NITRAT,NITRAT_FLAG_W,NITRIT,NITRIT_FLAG_W,PHSPHT,PHSPHT_FLAG_W,CFC-11,CFC-11_FLAG_W,CFC-12,CFC-12_FLAG_W,SF6,SF6_FLAG_W,TCARBN,TCARBN_FLAG_W,ALKALI,ALKALI_FLAG_W,PH_TOT,PH_TOT_FLAG_W,DELC13,DELC13_FLAG_W,DELC14,DELC14_FLAG_W,C14ERR,DELO18,DELO18_FLAG_W,DOC,DOC_FLAG_W,TDN,TDN_FLAG_W,N2O,N2O_FLAG_W,BTL_DATE,BTL_TIME,BTL_LAT,BTL_LON,PH_TMP,REFTMP,REFTMP_FLAG_W,CTDBACKSCATTER,CTDBACKSCATTER_FLAG_W,CTDFLUOR,CTDFLUOR_FLAG_W,CTDXMISS,CTDXMISS_FLAG_W
,,,,,,,,,,,METERS,DBAR,ITS-90,PSS-78,,PSS-78,,UMOL/KG,,UMOL/KG,,UMOL/KG,,UMOL/KG,,UMOL/KG,,UMOL/KG,,PMOL/KG,,PMOL/KG,,FMOL/KG,,UMOL/KG,,UMOL/KG,,,,/MILLE,,/MILLE,,/MILLE,/MILLE,,UMOL/KG,,UMOL/KG,,NMOL/KG,,,,,,DEG C,ITS-90,,VOLTS,,VOLTS,,VOLTS,
325020190403,       I06S,       3,          1,          1,          1,2,20190416,       1352,   -68.3366,    31.3218,       1041,  1040.6,   0.4199,  34.6771,2,  34.6764,2,    216.3,2,   214.7,2,   110.6,2,   32.23,2,    0.00,2,    2.21,2,   0.850,2,   0.475,2,   0.4398,2,  2257.8,6, 2351.25,2,   7.5877,2, -999.00,9,  -999.0,9,  -999.0,   -0.02,2,  -999.0,9, -999.00,9,     18.971,3, 20190416,     1352, -68.3366,  31.3218,      24.99,     0.4197,2,      0.130,1,      0.062,1,      4.654,1
325020190403,       I06S,       3,          1,          2,          2,2,20190416,       1352,   -68.3366,    31.3218,       1041,   991.7,   0.4104,  34.6768,2,  34.6766,2,    215.0,2,   214.8,2,   110.7,2,   32.23,2,    0.00,2,    2.22,2,-999.000,9,-999.000,9,-999.0000,9,  -999.0,9, -999.00,9,-999.0000,9, -999.00,9,  -999.0,9,  -999.0,    0.09,6,  -999.0,9, -999.00,9,     -999.0,9, 20190416,     1354, -68.3366,  31.3218,     -999.0,     0.4111,2,      0.129,1,      0.062,1,      4.654,1
325020190403,       I06S,       3,          1,          3,          3,2,20190416,       1352,   -68.3366,    31.3218,       1041,   945.4,   0.4076,  34.6753,2,  34.6829,3,    215.4,2,   214.7,2,   110.8,2,   32.26,2,    0.00,2,    2.22,2,   0.866,2,   0.467,2,   0.3674,2,  2256.4,2, 2351.69,2,   7.5880,2, -999.00,9,  -999.0,9,  -999.0,    0.13,2,  -999.0,9, -999.00,9,    21.1147,3, 20190416,     1357, -68.3366,  31.3218,      25.00,     0.4066,2,      0.129,1,      0.063,1,      4.654,1
325020190403,       I06S,       3,          1,          4,          4,2,20190416,       1352,   -68.3366,    31.3218,       1041,   844.8,   0.4804,  34.6743,2,  34.6744,2,    215.2,2,   215.0,2,   105.9,2,   32.07,2,    0.00,2,    2.19,2,-999.000,9,-999.000,9,-999.0000,9,  -999.0,9, -999.00,9,-999.0000,9, -999.00,9,  -999.0,9,  -999.0,    0.08,2,  -999.0,9, -999.00,9,     -999.0,9, 20190416,     1400, -68.3366,  31.3218,     -999.0,     0.4799,2,      0.129,1,      0.062,1,      4.654,1
325020190403,       I06S,       3,          1,          5,          5,2,20190416,       1352,   -68.3366,    31.3218,       1041,   743.4,     0.59,  34.6797,2,  34.6801,2,    210.9,3,   213.2,2,   103.4,2,   31.92,2,    0.00,2,    2.18,2,   0.950,2,   0.512,2,   0.2952,2,  2258.5,2, 2350.89,2,   7.5895,2, -999.00,9,  -999.0,9,  -999.0,    0.02,2,  -999.0,9, -999.00,9,    20.8992,3, 20190416,     1403, -68.3366,  31.3218,      24.97,     0.5868,2,      0.127,1,      0.062,1,      4.653,1
325020190403,       I06S,       3,          1,          6,          6,2,20190416,       1352,   -68.3366,    31.3218,       1041,   641.6,   0.7334,  34.6831,2,  34.6854,2,    211.6,2,   210.0,2,   100.4,2,   31.80,2,    0.00,2,    2.16,2,-999.000,9,-999.000,9,-999.0000,9,  -999.0,9, -999.00,9,-999.0000,9, -999.00,9,  -999.0,9,  -999.0,    0.03,2,  -999.0,9, -999.00,9,     -999.0,9, 20190416,     1405, -68.3366,  31.3218,     -999.0,     0.7327,2,      0.132,1,      0.062,1,      4.653,1
325020190403,       I06S,       3,          1,          7,          7,2,20190416,       1352,   -68.3366,    31.3218,       1041,   540.9,   0.8543,  34.6755,2,  34.6756,2,    206.7,2,   208.3,2,    94.9,2,   31.83,2,    0.00,2,    2.16,2,   1.064,2,   0.576,2,   0.4482,2,  2255.1,2, 2346.37,2,   7.5845,2, -999.00,9,  -999.0,9,  -999.0,    0.18,2,  -999.0,9, -999.00,9,    25.8746,3, 20190416,     1408, -68.3366,  31.3218,      25.00,     0.8549,2,      0.130,1,      0.061,1,      4.652,1
325020190403,       I06S,       3,          1,          8,          8,2,20190416,       1352,   -68.3366,    31.3218,       1041,   439.7,   0.9003,  34.6637,2,   34.658,2,    207.2,2,   207.4,2,    91.5,2,   31.98,2,    0.00,2,    2.19,2,-999.000,9,-999.000,9,-999.0000,9,  -999.0,9, -999.00,9,-999.0000,9, -999.00,9,  -999.0,9,  -999.0,    0.05,2,  -999.0,9, -999.00,9,     -999.0,9, 20190416,     1411, -68.3366,  31.3218,     -999.0,     0.8974,2,      0.135,1,      0.062,1,      4.651,1
325020190403,       I06S,       3,          1,          9,          9,2,20190416,       1352,   -68.3366,    31.3218,       1041,   419.3,   0.8743,  34.6573,2,  34.6542,2,    209.2,2,   207.9,2,    90.7,2,   31.97,2,    0.00,2,    2.19,2,   1.244,2,   0.681,2,   0.6161,2,  2255.0,2, 2344.64,2,   7.5784,2, -999.00,9,  -999.0,9,  -999.0,     0.1,2,  -999.0,9, -999.00,9,    22.6833,3, 20190416,     1413, -68.3366,  31.3218,      24.98,      0.876,2,      0.132,1,      0.063,1,      4.650,1
325020190403,       I06S,       3,          1,         10,         10,2,20190416,       1352,   -68.3366,    31.3218,       1041,   367.7,   0.5592,  34.5992,2,  34.5962,2,    219.8,2,   219.0,2,    85.8,2,   32.10,2,    0.00,2,    2.19,2,-999.000,9,-999.000,9,-999.0000,9,  -999.0,9, -999.00,9,-999.0000,9, -999.00,9,  -999.0,9,  -999.0,    0.03,2,  -999.0,9, -999.00,9,     -999.0,9, 20190416,     1415, -68.3366,  31.3218,     -999.0,     0.5572,2,      0.139,1,      0.064,1,      4.647,1
325020190403,       I06S,       3,          1,         11,         11,2,20190416,       1352,   -68.3366,    31.3218,       1041,   317.5,  -0.0083,  34.5178,2,  34.5142,2,    241.3,2,   241.0,2,    79.4,2,   31.66,2,    0.00,2,    2.16,2,   2.660,2,   1.416,2,   1.4808,2,  2245.6,2, 2332.86,2,   7.5805,2, -999.00,9,  -999.0,9,  -999.0,   -0.08,2,  -999.0,9, -999.00,9,    22.4079,3, 20190416,     1416, -68.3366,  31.3218,      25.02,    -0.0156,2,      0.141,1,      0.064,1,      4.645,1
325020190403,       I06S,       3,          1,         12,         12,2,20190416,       1352,   -68.3366,    31.3218,       1041,   267.3,  -0.6263,  34.4407,2,  34.4436,2,    267.1,3,   262.1,2,    73.7,2,   31.31,2,    0.00,2,    2.12,2,-999.000,9,-999.000,9,-999.0000,9,  -999.0,9, -999.00,9,-999.0000,9, -999.00,9,  -999.0,9,  -999.0,    0.08,6,  -999.0,9, -999.00,9,     -999.0,9, 20190416,     1419, -68.3366,  31.3217,     -999.0,    -0.6248,2,      0.145,1,      0.068,1,      4.644,1
325020190403,       I06S,       3,          1,         13,         13,2,20190416,       1352,   -68.3366,    31.3218,       1041,   235.8,  -1.0929,  34.3636,2,  34.3611,2,    284.8,2,   283.3,2,    67.7,2,   30.79,2,    0.00,2,    2.08,2,   4.097,2,   2.175,2,   2.5289,2,  2229.2,2, 2322.18,2,   7.5958,2, -999.00,9,  -999.0,9,  -999.0,    -0.1,2,  -999.0,9, -999.00,9,    21.0482,3, 20190416,     1420, -68.3366,  31.3218,      25.02,    -1.1009,2,      0.140,1,      0.064,1,      4.645,1
325020190403,       I06S,       3,          1,         14,         14,2,20190416,       1352,   -68.3366,    31.3218,       1041,   211.6,  -1.3408,  34.3177,2,  34.3155,2,    299.1,3,   293.5,2,    65.1,2,   30.51,2,    0.01,2,    2.07,2,-999.000,9,-999.000,9,-999.0000,9,  -999.0,9, -999.00,9,-999.0000,9, -999.00,9,  -999.0,9,  -999.0,   -0.14,2,  -999.0,9, -999.00,9,     -999.0,9, 20190416,     1422, -68.3366,  31.3218,     -999.0,    -1.3581,2,      0.139,1,      0.068,1,      4.646,1
325020190403,       I06S,       3,          1,         15,         15,2,20190416,       1352,   -68.3366,    31.3218,       1041,   185.0,  -1.6256,  34.2488,2,  34.2377,2,    304.4,3,   308.5,2,    61.2,2,   30.26,2,    0.00,2,    2.04,2,   4.882,2,   2.603,2,   3.1071,2,  2218.2,2, 2314.10,2,   7.6057,2, -999.00,9,  -999.0,9,  -999.0,   -0.13,2,  -999.0,9, -999.00,9,    20.3276,3, 20190416,     1423, -68.3366,  31.3218,      25.04,    -1.6273,2,      0.142,1,      0.063,1,      4.647,1
325020190403,       I06S,       3,          1,         16,         16,2,20190416,       1352,   -68.3366,    31.3218,       1041,   160.7,  -1.6807,  34.1908,2,   34.196,2,    317.4,3,   313.6,2,    59.5,2,   30.05,2,    0.03,2,    2.02,2,-999.000,9,-999.000,9,-999.0000,9,  -999.0,9, -999.00,9,-999.0000,9, -999.00,9,  -999.0,9,  -999.0,   -0.23,2,  -999.0,9, -999.00,9,     -999.0,9, 20190416,     1426, -68.3366,  31.3218,     -999.0,    -1.6802,2,      0.144,1,      0.070,1,      4.643,1
325020190403,       I06S,       3,          1,         17,         17,2,20190416,       1352,   -68.3366,    31.3218,       1041,   136.0,  -1.1907,   34.084,2,  34.0874,2,    338.4,3,   330.8,2,    59.1,2,   29.04,2,    0.13,2,    1.98,2,   5.577,2,   2.964,2,   3.7399,2,  2203.0,2, 2305.41,2,   7.6287,2, -999.00,9,  -999.0,9,  -999.0,    -0.2,2,  -999.0,9, -999.00,9,    19.0189,3, 20190416,     1428, -68.3366,  31.3218,      24.99,    -1.1947,2,      0.183,1,      0.169,1,      4.596,1
325020190403,       I06S,       3,          1,         18,         18,2,20190416,       1352,   -68.3366,    31.3218,       1041,   111.0,  -1.0118,  34.0565,2,  34.0582,2,    338.1,2,   339.7,2,    59.1,2,   28.57,2,    0.15,2,    1.94,2,-999.000,9,-999.000,9,-999.0000,9,  -999.0,9, -999.00,9,-999.0000,9, -999.00,9,  -999.0,9,  -999.0,   -0.01,2,  -999.0,9, -999.00,9,     -999.0,9, 20190416,     1430, -68.3366,  31.3218,     -999.0,    -1.0131,2,      0.223,1,      0.298,1,      4.552,1
325020190403,       I06S,       3,          1,         19,         19,2,20190416,       1352,   -68.3366,    31.3218,       1041,    86.0,  -1.2193,  34.0292,2,  34.0269,2,    342.8,2,   344.8,2,    57.8,2,   28.35,2,    0.16,2,    1.92,2,   5.984,2,   3.170,2,   3.9849,2,  2191.0,2, 2303.11,2,   7.6450,2, -999.00,9,  -999.0,9,  -999.0,   -0.03,2,  -999.0,9, -999.00,9,    18.4276,3, 20190416,     1434, -68.3366,  31.3218,      25.00,    -1.2138,2,      0.224,1,      0.302,1,      4.542,1
325020190403,       I06S,       3,          1,         20,         20,2,20190416,       1352,   -68.3366,    31.3218,       1041,    60.6,  -1.2289,   34.018,2,  34.0168,2,    343.1,2,   344.1,2,    57.6,2,   28.36,2,    0.16,2,    1.92,2,-999.000,9,-999.000,9,-999.0000,9,  -999.0,9, -999.00,9,-999.0000,9, -999.00,9,  -999.0,9,  -999.0,   -0.02,2,  -999.0,9, -999.00,9,     -999.0,9, 20190416,     1437, -68.3366,  31.3218,     -999.0,    -1.2292,2,      0.213,1,      0.277,1,      4.551,1
325020190403,       I06S,       3,          1,         21,         21,2,20190416,       1352,   -68.3366,    31.3218,       1041,    34.1,  -1.4968,  33.9637,2,   33.961,2,    345.1,2,   347.9,2,    56.1,2,   28.11,2,    0.16,2,    1.89,2,   6.134,2,   3.229,2,   4.0595,2,  2188.6,2, 2300.31,2,   7.6416,2, -999.00,9,  -999.0,9,  -999.0,   -0.21,2,  -999.0,9, -999.00,9,    18.3596,3, 20190416,     1439, -68.3366,  31.3218,      25.02,    -1.4982,2,      0.206,1,      0.245,1,      4.561,1
325020190403,       I06S,       3,          1,         22,         22,2,20190416,       1352,   -68.3366,    31.3218,       1041,     5.2,  -1.6423,  33.9395,2,  33.9373,2,    344.7,3,   349.9,2,    55.7,2,   28.04,2,    0.16,2,    1.88,2,   6.207,2,   3.236,2,   3.9886,2,  2186.7,6, 2296.44,2,   7.6449,2, -999.00,9,  -999.0,9,  -999.0,   -0.24,6,  -999.0,9, -999.00,9,    18.5518,3, 20190416,     1442, -68.3366,  31.3218,      24.99,    -1.6431,2,      0.199,1,      0.222,1,      4.566,1