BOTTLE,20210804CCHSIOCBG
EXPOCODE,SECT_ID,STNNBR,CASTNO,SAMPNO,BTLNBR,BTLNBR_FLAG_W,DATE,TIME,LATITUDE,LONGITUDE,DEPTH,CTDPRS,CTDTMP,CTDSAL,CTDSAL_FLAG_W,SALNTY,SALNTY_FLAG_W,CTDOXY,CTDOXY_FLAG_W,OXYGEN,OXYGEN_FLAG_W,SILCAT,SILCAT_FLAG_W,NITRAT,NITRAT_FLAG_W,NITRIT,NITRIT_FLAG_W,PHSPHT,PHSPHT_FLAG_W,CFC-11,CFC-11_FLAG_W,CFC-12,CFC-12_FLAG_W,SF6,SF6_FLAG_W,TCARBN,TCARBN_FLAG_W,ALKALI,ALKALI_FLAG_W,PH_TOT,PH_TOT_FLAG_W,DELC13,DELC13_FLAG_W,DELC14,DELC14_FLAG_W,C14ERR,DELO18,DELO18_FLAG_W,DOC,DOC_FLAG_W,TDN,TDN_FLAG_W,N2O,N2O_FLAG_W,BTL_DATE,BTL_TIME,BTL_LAT,BTL_LON,PH_TMP,REFTMP,REFTMP_FLAG_W,CTDBACKSCATTER,CTDBACKSCATTER_FLAG_W,CTDFLUOR,CTDFLUOR_FLAG_W,CTDXMISS,CTDXMISS_FLAG_W
,,,,,,,,,,,METERS,DBAR,ITS-90,PSS-78,,PSS-78,,UMOL/KG,,UMOL/KG,,UMOL/KG,,UMOL/KG,,UMOL/KG,,UMOL/KG,,PMOL/KG,,PMOL/KG,,FMOL/KG,,UMOL/KG,,UMOL/KG,,,,/MILLE,,/MILLE,,/MILLE,/MILLE,,UMOL/KG,,UMOL/KG,,NMOL/KG,,,,,,DEG C,ITS-90,,VOLTS,,VOLTS,,VOLTS,
325020190403,       I06S,       5,          2,          1,          1,2,20190416,       2223,   -68.2795,    31.0967,       2287,  2312.2,   0.0283,   34.666,2,  34.6664,2,    226.2,2,   225.5,2,   121.2,2,   32.61,2,    0.00,2,    2.24,2,   0.905,2,   0.490,2,   0.4055,2,  2258.5,6, 2355.16,2,   7.5890,2, -999.00,9,  -999.0,9,  -999.0,    0.02,2,  -999.0,9, -999.00,9,    18.3789,3, 20190416,     2223, -68.2795,  31.0967,      25.04,     0.0278,2,      0.130,1,      0.061,1,      4.649,1
325020190403,       I06S,       5,          2,          2,          2,2,20190416,       2223,   -68.2795,    31.0967,       2287,  2177.7,   0.0986,  34.6692,2,  34.6684,2,    223.2,2,   222.9,2,   121.4,2,   32.65,2,    0.00,2,    2.23,2,-999.000,9,-999.000,9,-999.0000,9,  -999.0,9, -999.00,9,-999.0000,9, -999.00,9,  -999.0,9,  -999.0,   -0.04,2,  -999.0,9, -999.00,9,     -999.0,9, 20190416,     2227, -68.2795,  31.0967,     -999.0,      0.098,2,      0.127,1,      0.062,1,      4.650,1
325020190403,       I06S,       5,          2,          3,          3,2,20190416,       2223,   -68.2795,    31.0967,       2287,  2029.9,   0.1155,  34.6703,2,  34.6705,2,    222.9,2,   221.8,2,   120.4,2,   32.53,2,    0.00,2,    2.24,2,   0.817,2,   0.428,2,   0.2821,2,  2259.8,2, 2355.90,2,   7.5878,2, -999.00,9,  -999.0,9,  -999.0,     0.0,2,  -999.0,9, -999.00,9,    21.0842,3, 20190416,     2231, -68.2795,  31.0968,      25.03,     0.1153,2,      0.126,1,      0.061,1,      4.650,1
325020190403,       I06S,       5,          2,          4,          4,2,20190416,       2223,   -68.2795,    31.0967,       2287,  1927.8,   0.1282,  34.6714,2,  34.6711,2,    220.9,2,   220.9,2,   121.4,2,   32.62,2,    0.00,2,    2.21,2,-999.000,9,-999.000,9,-999.0000,9,  -999.0,9, -999.00,9,-999.0000,9, -999.00,9,  -999.0,9,  -999.0,    0.11,2,  -999.0,9, -999.00,9,     -999.0,9, 20190416,     2234, -68.2795,  31.0967,     -999.0,     0.1272,2,      0.125,1,      0.061,1,      4.651,1
325020190403,       I06S,       5,          2,          5,          5,2,20190416,       2223,   -68.2795,    31.0967,       2287,  1825.8,   0.1619,  34.6728,2,  34.6737,2,    220.4,2,   219.5,2,   121.4,2,   32.71,2,    0.00,2,    2.20,2,   0.753,2,   0.396,2,   0.2877,2,  2257.2,2, 2354.11,2,   7.5876,2, -999.00,9,  -999.0,9,  -999.0, -999.00,9,  -999.0,9, -999.00,9,     21.636,3, 20190416,     2236, -68.2795,  31.0967,      25.05,     0.1612,2,      0.124,1,      0.063,1,      4.652,1
325020190403,       I06S,       5,          2,          6,          6,2,20190416,       2223,   -68.2795,    31.0967,       2287,  1723.8,   0.1922,  34.6741,2,  34.6744,2,    218.3,2,   218.3,2,   121.0,2,   32.67,2,    0.00,2,    2.20,2,-999.000,9,-999.000,9,-999.0000,9,  -999.0,9, -999.00,9,-999.0000,9, -999.00,9,  -999.0,9,  -999.0,   -0.02,2,  -999.0,9, -999.00,9,     -999.0,9, 20190416,     2239, -68.2795,  31.0967,     -999.0,     0.1916,2,      0.125,1,      0.061,1,      4.651,1
325020190403,       I06S,       5,          2,          7,          7,2,20190416,       2223,   -68.2795,    31.0967,       2287,  1622.5,   0.2448,  34.6773,2,   34.677,2,    216.6,2,   215.9,2,   121.0,2,   32.81,2,    0.00,2,    2.21,2,   0.672,2,   0.350,2,   0.2685,2,  2257.2,2, 2358.94,2,   7.5859,2, -999.00,9,  -999.0,9,  -999.0, -999.00,9,  -999.0,9, -999.00,9,    21.9166,3, 20190416,     2242, -68.2795,  31.0968,      25.05,     0.2441,2,      0.125,1,      0.062,1,      4.652,1
325020190403,       I06S,       5,          2,          8,          8,2,20190416,       2223,   -68.2795,    31.0967,       2287,  1520.1,   0.2865,  34.6788,2,  34.6784,2,    214.5,2,   214.8,2,   119.9,2,   32.66,2,    0.00,2,    2.21,2,-999.000,9,-999.000,9,-999.0000,9,  -999.0,9, -999.00,9,-999.0000,9, -999.00,9,  -999.0,9,  -999.0,    0.01,6,  -999.0,9, -999.00,9,     -999.0,9, 20190416,     2245, -68.2795,  31.0967,     -999.0,     0.2852,2,      0.128,1,      0.061,1,      4.651,1
325020190403,       I06S,       5,          2,          9,          9,2,20190416,       2223,   -68.2795,    31.0967,       2287,  1419.1,    0.336,  34.6806,2,  34.6805,2,    213.5,2,   213.2,2,   118.0,2,   32.64,2,    0.00,2,    2.21,2,   0.673,2,   0.353,2,   0.3462,2,  2260.0,2, 2357.08,2,   7.5862,2, -999.00,9,  -999.0,9,  -999.0, -999.00,9,  -999.0,9, -999.00,9,    22.0746,3, 20190416,     2248, -68.2795,  31.0968,      25.04,     0.3352,2,      0.125,1,      0.063,1,      4.651,1
325020190403,       I06S,       5,          2,         10,         10,2,20190416,       2223,   -68.2795,    31.0967,       2287,  1316.8,     0.39,  34.6831,2,  34.6833,2,    212.3,2,   212.0,2,   117.8,2,   32.59,2,    0.00,2,    2.22,2,-999.000,9,-999.000,9,-999.0000,9,  -999.0,9, -999.00,9,-999.0000,9, -999.00,9,  -999.0,9,  -999.0,   -0.04,2,  -999.0,9, -999.00,9,     -999.0,9, 20190416,     2251, -68.2795,  31.0967,     -999.0,      0.389,2,      0.128,1,      0.062,1,      4.652,1
325020190403,       I06S,       5,          2,         11,         11,2,20190416,       2223,   -68.2795,    31.0967,       2287,  1215.2,    0.437,  34.6846,2,  34.6846,2,    210.7,2,   210.8,2,   116.2,2,   32.69,2,    0.00,2,    2.21,2,   0.652,2,   0.346,2,   0.2842,2,  2260.6,2, 2354.42,2,   7.5853,2, -999.00,9,  -999.0,9,  -999.0, -999.00,9,  -999.0,9, -999.00,9,    22.2356,3, 20190416,     2254, -68.2795,  31.0967,      25.05,     0.4363,2,      0.125,1,      0.063,1,      4.651,1
325020190403,       I06S,       5,          2,         12,         12,2,20190416,       2223,   -68.2795,    31.0967,       2287,  1113.5,   0.4917,  34.6858,2,  34.6858,2,    210.7,2,   210.3,2,   113.7,2,   32.51,2,    0.00,2,    2.21,2,-999.000,9,-999.000,9,-999.0000,9,  -999.0,9, -999.00,9,-999.0000,9, -999.00,9,  -999.0,9,  -999.0,    -0.0,2,  -999.0,9, -999.00,9,     -999.0,9, 20190416,     2256, -68.2795,  31.0967,     -999.0,     0.4909,2,      0.126,1,      0.063,1,      4.651,1
325020190403,       I06S,       5,          2,         13,         13,2,20190416,       2223,   -68.2795,    31.0967,       2287,  1011.8,    0.522,  34.6851,2,   34.687,2,    211.2,2,   210.8,2,   111.3,2,   32.24,2,    0.00,2,    2.18,2,   0.727,2,   0.391,2,   0.3519,2,  2257.9,2, 2353.85,2,   7.5876,2, -999.00,9,  -999.0,9,  -999.0, -999.00,9,  -999.0,9, -999.00,9,    22.3493,3, 20190416,     2259, -68.2795,  31.0967,      25.05,     0.5279,2,      0.128,1,      0.063,1,      4.649,1
325020190403,       I06S,       5,          2,         14,         14,2,20190416,       2223,   -68.2795,    31.0967,       2287,   911.5,   0.5807,  34.6865,2,  34.6868,2,    210.6,2,   210.0,2,   109.0,2,   32.14,2,    0.00,2,    2.18,2,-999.000,9,-999.000,9,-999.0000,9,  -999.0,9, -999.00,9,-999.0000,9, -999.00,9,  -999.0,9,  -999.0,    0.05,2,  -999.0,9, -999.00,9,     -999.0,9, 20190416,     2302, -68.2795,  31.0968,     -999.0,     0.5792,2,      0.129,1,      0.062,1,      4.650,1
325020190403,       I06S,       5,          2,         15,         15,2,20190416,       2223,   -68.2795,    31.0967,       2287,   808.9,   0.7016,  34.6923,2,  34.6937,2,    208.1,2,   207.8,2,   107.4,2,   32.04,2,    0.00,2,    2.16,2,   0.698,2,   0.370,2,   0.2957,2,  2256.4,2, 2355.37,2,   7.5898,2, -999.00,9,  -999.0,9,  -999.0, -999.00,9,  -999.0,9, -999.00,9,    22.3402,3, 20190416,     2304, -68.2795,  31.0968,      25.05,     0.6999,2,      0.128,1,      0.062,1,      4.649,1
325020190403,       I06S,       5,          2,         16,         16,2,20190416,       2223,   -68.2795,    31.0967,       2287,   707.7,   0.7461,  34.6904,2,  34.6921,2,    208.0,2,   208.3,2,   103.9,2,   31.89,2,    0.00,2,    2.16,2,-999.000,9,-999.000,9,-999.0000,9,  -999.0,9, -999.00,9,-999.0000,9, -999.00,9,  -999.0,9,  -999.0,    0.13,2,  -999.0,9, -999.00,9,     -999.0,9, 20190416,     2307, -68.2795,  31.0967,     -999.0,     0.7441,2,      0.137,1,      0.062,1,      4.648,1
325020190403,       I06S,       5,          2,         17,         17,2,20190416,       2223,   -68.2795,    31.0967,       2287,   606.9,   0.8059,  34.6875,2,  34.6899,2,    209.3,2,   208.2,2,   100.2,2,   31.78,2,    0.00,2,    2.16,2,   0.867,2,   0.471,2,   0.4925,2,  2254.7,2, 2352.36,2,   7.5900,2, -999.00,9,  -999.0,9,  -999.0, -999.00,9,  -999.0,9, -999.00,9,     22.254,3, 20190416,     2310, -68.2796,  31.0967,      25.06,     0.8029,2,      0.134,1,      0.063,1,      4.647,1
325020190403,       I06S,       5,          2,         18,         18,2,20190416,       2223,   -68.2795,    31.0967,       2287,   505.4,     0.88,  34.6855,2,  34.6896,2,    206.4,2,   206.9,2,    97.6,2,   31.79,2,    0.00,2,    2.16,2,-999.000,9,-999.000,9,-999.0000,9,  2254.2,6, 2352.50,2,   7.5881,2, -999.00,9,  -999.0,9,  -999.0,    0.04,2,  -999.0,9, -999.00,9,     -999.0,9, 20190416,     2312, -68.2795,  31.0967,      25.06,     0.8781,2,      0.136,1,      0.063,1,      4.645,1
325020190403,       I06S,       5,          2,         19,         19,2,20190416,       2223,   -68.2795,    31.0967,       2287,   454.9,   0.8592,  34.6786,2,  34.6821,2,    207.9,2,   207.9,2,    95.4,2,   31.93,2,    0.00,2,    2.16,2,   1.020,2,   0.557,2,   0.5345,2,  2254.2,2, 2348.51,2,   7.5860,2, -999.00,9,  -999.0,9,  -999.0, -999.00,9,  -999.0,9, -999.00,9,    22.7056,3, 20190416,     2314, -68.2795,  31.0967,      25.05,     0.8579,2,      0.139,1,      0.064,1,      4.645,1
325020190403,       I06S,       5,          2,         20,         20,2,20190416,       2223,   -68.2795,    31.0967,       2287,   403.9,   0.8168,  34.6669,2,  34.6711,2,    210.8,2,   209.8,2,    93.3,2,   31.79,2,    0.00,2,    2.16,2,-999.000,9,-999.000,9,-999.0000,9,  -999.0,9, -999.00,9,-999.0000,9, -999.00,9,  -999.0,9,  -999.0,    0.03,2,  -999.0,9, -999.00,9,     -999.0,9, 20190416,     2316, -68.2795,  31.0968,     -999.0,     0.8155,2,      0.139,1,      0.063,1,      4.644,1
325020190403,       I06S,       5,          2,         21,         21,2,20190416,       2223,   -68.2795,    31.0967,       2287,   353.3,   0.7501,  34.6509,2,  34.6554,2,    213.8,2,   211.8,2,    90.7,2,   31.88,2,    0.00,2,    2.17,2,   1.461,2,   0.797,2,   0.7621,2,  2253.8,2, 2362.70,4,   7.5807,2, -999.00,9,  -999.0,9,  -999.0, -999.00,9,  -999.0,9, -999.00,9,    22.4999,3, 20190416,     2318, -68.2795,  31.0968,      25.07,     0.7488,2,      0.139,1,      0.063,1,      4.642,1
325020190403,       I06S,       5,          2,         22,         22,2,20190416,       2223,   -68.2795,    31.0967,       2287,   303.6,   0.6746,  34.6315,2,  34.6356,2,    217.2,3,   214.4,2,    88.4,2,   32.10,2,    0.00,2,    2.18,2,-999.000,9,-999.000,9,-999.0000,9,  -999.0,9, -999.00,9,-999.0000,9, -999.00,9,  -999.0,9,  -999.0,    0.02,2,  -999.0,9, -999.00,9,     -999.0,9, 20190416,     2320, -68.2795,  31.0968,     -999.0,     0.6728,2,      0.148,1,      0.064,1,      4.638,1
325020190403,       I06S,       5,          2,         23,         23,2,20190416,       2223,   -68.2795,    31.0967,       2287,   252.5,    0.265,  34.5801,2,  34.5842,2,    232.5,3,   229.5,2,    83.2,2,   31.85,2,    0.00,2,    2.18,2,   2.202,2,   1.183,2,   1.2458,2,  2248.2,2, 2341.30,2,   7.5774,2, -999.00,9,  -999.0,9,  -999.0,   -0.03,2,  -999.0,9, -999.00,9,    22.7974,3, 20190416,     2322, -68.2795,  31.0967,      25.06,     0.2659,2,      0.144,1,      0.068,1,      4.636,1
325020190403,       I06S,       5,          2,         24,         24,2,20190416,       2223,   -68.2795,    31.0967,       2287,   227.1,    0.087,  34.5549,2,  34.5619,2,    238.1,3,   235.3,2,    80.9,2,   31.79,2,    0.00,2,    2.16,2,-999.000,9,-999.000,9,-999.0000,9,  -999.0,9, -999.00,9,-999.0000,9, -999.00,9,  -999.0,9,  -999.0,   -0.04,2,  -999.0,9, -999.00,9,     -999.0,9, 20190416,     2323, -68.2795,  31.0967,     -999.0,     0.0836,2,      0.142,1,      0.073,1,      4.636,1
325020190403,       I06S,       5,          2,         25,         25,2,20190416,       2223,   -68.2795,    31.0967,       2287,   202.1,  -0.0683,  34.5334,2,   34.542,2,    244.1,3,   240.0,2,    80.2,2,   31.86,2,    0.01,2,    2.16,2,   2.664,2,   1.432,2,   1.5601,2,  2244.3,2, 2336.21,2,   7.5778,2, -999.00,9,  -999.0,9,  -999.0,   -0.09,6,  -999.0,9, -999.00,9,    22.8148,3, 20190416,     2325, -68.2795,  31.0967,      25.08,    -0.0681,2,      0.146,1,      0.074,1,      4.635,1
325020190403,       I06S,       5,          2,         26,         26,2,20190416,       2223,   -68.2795,    31.0967,       2287,   176.2,  -0.4432,  34.4886,2,  34.4942,2,    256.1,2,   255.0,2,    75.6,2,   31.72,2,    0.01,2,    2.16,2,-999.000,9,-999.000,9,-999.0000,9,  -999.0,9, -999.00,9,-999.0000,9, -999.00,9,  -999.0,9,  -999.0,   -0.12,2,  -999.0,9, -999.00,9,     -999.0,9, 20190416,     2326, -68.2795,  31.0967,     -999.0,    -0.4372,2,      0.145,1,      0.075,1,      4.633,1
325020190403,       I06S,       5,          2,         27,         27,2,20190416,       2223,   -68.2795,    31.0967,       2287,   151.5,  -0.7668,  34.4483,2,  34.4564,2,    271.8,3,   267.3,2,    72.6,2,   31.47,2,    0.02,2,    2.15,2,   3.616,2,   1.926,2,   2.1947,2,  2236.9,2, 2328.30,2,   7.5849,2, -999.00,9,  -999.0,9,  -999.0,   -0.15,2,  -999.0,9, -999.00,9,    22.0206,3, 20190416,     2328, -68.2795,  31.0967,      25.06,    -0.7687,2,      0.146,1,      0.085,1,      4.634,1
325020190403,       I06S,       5,          2,         28,         28,2,20190416,       2223,   -68.2795,    31.0967,       2287,   126.6,  -1.3882,  34.3835,2,   34.389,2,    291.7,2,   290.1,2,    67.1,2,   31.05,2,    0.05,2,    2.10,2,-999.000,9,-999.000,9,-999.0000,9,  -999.0,9, -999.00,9,-999.0000,9, -999.00,9,  -999.0,9,  -999.0,   -0.19,2,  -999.0,9, -999.00,9,     -999.0,9, 20190416,     2329, -68.2795,  31.0968,     -999.0,    -1.3883,2,      0.153,1,      0.099,1,      4.627,1
325020190403,       I06S,       5,          2,         29,         29,2,20190416,       2223,   -68.2795,    31.0967,       2287,   101.5,  -1.4955,  34.3349,2,  34.3357,2,    298.9,2,   298.4,2,    64.5,2,   30.47,2,    0.13,2,    2.08,2,   4.577,2,   2.458,2,   2.9835,2,  2225.1,2, 2322.89,2,   7.5990,2, -999.00,9,  -999.0,9,  -999.0,   -0.22,2,  -999.0,9, -999.00,9,    21.1377,3, 20190416,     2330, -68.2795,  31.0967,      25.07,    -1.4944,2,      0.165,1,      0.120,1,      4.612,1
325020190403,       I06S,       5,          2,         30,         30,2,20190416,       2223,   -68.2795,    31.0967,       2287,    75.5,  -1.1411,  34.1044,2,  34.1218,2,    337.3,2,   334.7,2,    57.2,2,   28.41,2,    0.16,2,    1.91,2,-999.000,9,-999.000,9,-999.0000,9,  -999.0,9, -999.00,9,-999.0000,9, -999.00,9,  -999.0,9,  -999.0,   -0.27,2,  -999.0,9, -999.00,9,     -999.0,9, 20190416,     2332, -68.2795,  31.0967,     -999.0,    -1.1413,2,      0.204,1,      0.258,1,      4.570,1
325020190403,       I06S,       5,          2,         31,         31,2,20190416,       2223,   -68.2795,    31.0967,       2287,    50.6,  -1.2338,  34.0794,2,  34.0868,2,    339.4,2,   342.7,2,    55.2,2,   27.96,2,    0.17,2,    1.89,2,   5.909,2,   3.132,2,   4.0468,2,  2194.7,2, 2309.01,2,   7.6464,2, -999.00,9,  -999.0,9,  -999.0,   -0.23,2,  -999.0,9, -999.00,9,    18.6493,3, 20190416,     2333, -68.2795,  31.0968,      25.04,     -1.234,2,      0.208,1,      0.256,1,      4.565,1
325020190403,       I06S,       5,          2,         32,         32,2,20190416,       2223,   -68.2795,    31.0967,       2287,    25.0,  -1.3945,   34.046,2,  34.0539,2,    341.9,3,   345.4,2,    56.0,2,   28.00,2,    0.17,2,    1.87,2,   5.967,2,   3.178,2,   4.2749,2,  -999.0,9, -999.00,9,-999.0000,9, -999.00,9,  -999.0,9,  -999.0,   -0.26,2,  -999.0,9, -999.00,9,    18.7771,3, 20190416,     2335, -68.2795,  31.0968,     -999.0,    -1.3984,2,      0.230,1,      0.330,1,      4.547,1
325020190403,       I06S,       5,          2,         33,         33,2,20190416,       2223,   -68.2795,    31.0967,       2287,     4.5,  -1.4169,  34.0452,2,  34.0537,2,    340.9,3,   345.7,2,    56.2,2,   28.15,2,    0.17,2,    1.87,2,   6.036,2,   3.208,2,   4.2715,2,  2192.2,6, 2302.73,2,   7.6472,2, -999.00,9,  -999.0,9,  -999.0,   -0.25,2,  -999.0,9, -999.00,9,    18.9983,3, 20190416,     2336, -68.2795,  31.0967,      25.05,    -1.4169,2,      0.230,1,      0.313,1,      4.540,1