BOTTLE,20210709CCHSIOCBG
EXPOCODE,SECT_ID,STNNBR,CASTNO,SAMPNO,BTLNBR,BTLNBR_FLAG_W,DATE,TIME,LATITUDE,LONGITUDE,DEPTH,CTDPRS,CTDTMP,CTDSAL,CTDSAL_FLAG_W,SALNTY,SALNTY_FLAG_W,CTDOXY,CTDOXY_FLAG_W,OXYGEN,OXYGEN_FLAG_W,SILCAT,SILCAT_FLAG_W,NITRAT,NITRAT_FLAG_W,NITRIT,NITRIT_FLAG_W,PHSPHT,PHSPHT_FLAG_W,CFC-11,CFC-11_FLAG_W,CFC-12,CFC-12_FLAG_W,SF6,SF6_FLAG_W,TCARBN,TCARBN_FLAG_W,ALKALI,ALKALI_FLAG_W,PH_TOT,PH_TOT_FLAG_W,PH_TMP,TRITUM,TRITUM_FLAG_W,HELIUM,HELIUM_FLAG_W,DELHE3,DELHE3_FLAG_W,REFTMP,DELC13,DELC13_FLAG_W,DELC14,DELC14_FLAG_W,C14ERR,NEON,NEON_FLAG_W,NEONER,DOC,DOC_FLAG_W,TDN,TDN_FLAG_W,N2O,N2O_FLAG_W,ARGON,ARGON_FLAG_W,TRITER,HELIER,DELHER,ARGONER,KRYPTON,KRYPTON_FLAG_W,KRYPTONER,XENON,XENON_FLAG_W,XENONER,14C-DOC,14C-DOC_FLAG_W,14C-DOCERR,13C-DOC,13C-DOC_FLAG_W,13C-DOCERR,THETA,SALTREF,SALTREF_FLAG_W,SBE35,SBE35_FLAG_W,CHLORA,CHLORA_FLAG_W
,,,,,,,,,,,METERS,DBAR,ITS-90,PSS-78,,PSS-78,,UMOL/KG,,UMOL/KG,,UMOL/KG,,UMOL/KG,,UMOL/KG,,UMOL/KG,,PMOL/KG,,PMOL/KG,,FMOL/KG,,UMOL/KG,,UMOL/KG,,,,DEG C,TU,,NMOL/KG,,PERCNT,,DEG C,/MILLE,,/MILLE,,/MILLE,NMOL/KG,,NMOL/KG,UMOL/KG,,UMOL/KG,,NMOL/KG,,UMOL/KG,,TU,NMOL/KG,PERCNT,UMOL/KG,NMOL/KG,,NMOL/KG,NMOL/KG,,NMOL/KG,/MILLE,,/MILLE,/MILLE,,/MILLE,DEG C,G/KG,,ITS-90,,MG/M3,
33RO20150410,     P16N.1,      35,          1,         24,         24,2,20150420,       1741,    -2.5502,  -151.0000,       4900,    15.4,  28.4750,  35.2750,2,  35.2756,2,    199.0,2,   199.1,2,    2.00,2,    3.70,2,    0.16,2,    0.32,4,-999.000,9,-999.000,9,-999.000,9,  2017.4,6,  2321.0,2,   8.0384,6,    25.02,-999.000,9,-999.0000,9, -999.00,9,  28.4732, -999.00,9,  -999.0,9,  -999.0,-999.000,9,-999.000,  -999.0,9, -999.00,9,     -999.0,9, -999.00,9,-999.000,-999.0000, -999.00,     -999.0,     -999.0,9,     -999.0,     -999.0,9,     -999.0,  -999.0,9,     -999.0,     -999.0,9,     -999.0,  28.4713,    35.4420,2,-999.0000,2,      0.096,2
33RO20150410,     P16N.1,      35,          1,         23,         23,2,20150420,       1741,    -2.5502,  -151.0000,       4900,    33.8,  28.4514,  35.2756,2,  35.2777,2,    199.7,2,   198.0,2,    2.00,2,    3.70,2,    0.16,2,    0.33,4,-999.000,9,-999.000,9,-999.000,9,  -999.0,9,  -999.0,9,-999.0000,9,  -999.00,-999.000,9,-999.0000,9, -999.00,9,  28.4531, -999.00,9,  -999.0,9,  -999.0,-999.000,9,-999.000,  -999.0,9, -999.00,9,     -999.0,9, -999.00,9,-999.000,-999.0000, -999.00,     -999.0,     -999.0,9,     -999.0,     -999.0,9,     -999.0,  -999.0,9,     -999.0,     -999.0,9,     -999.0,  28.4433,    35.4441,2,-999.0000,2,      0.123,2
33RO20150410,     P16N.1,      35,          1,         22,         22,2,20150420,       1741,    -2.5502,  -151.0000,       4900,    59.1,  28.3265,  35.2984,2,  35.3083,2,    199.6,2,   201.6,2,    2.20,2,    3.80,2,    0.16,2,    0.37,4,-999.000,9,-999.000,9,-999.000,9,  -999.0,9,  -999.0,9,-999.0000,9,  -999.00,-999.000,9,-999.0000,9, -999.00,9,  28.3235, -999.00,9,  -999.0,9,  -999.0,-999.000,9,-999.000,  -999.0,9, -999.00,9,     -999.0,9, -999.00,9,-999.000,-999.0000, -999.00,     -999.0,     -999.0,9,     -999.0,     -999.0,9,     -999.0,  -999.0,9,     -999.0,     -999.0,9,     -999.0,  28.3124,    35.4748,2,-999.0000,2,      0.175,2
33RO20150410,     P16N.1,      35,          1,         21,         21,2,20150420,       1741,    -2.5502,  -151.0000,       4900,    83.2,  28.2078,  35.2884,2,  35.2963,2,    198.5,2,   198.4,2,    2.20,2,    4.00,2,    0.14,2,    0.38,4,-999.000,9,-999.000,9,-999.000,9,  -999.0,9,  -999.0,9,-999.0000,9,  -999.00,-999.000,9,-999.0000,9, -999.00,9,  28.2228, -999.00,9,  -999.0,9,  -999.0,-999.000,9,-999.000,  -999.0,9, -999.00,9,     -999.0,9, -999.00,9,-999.000,-999.0000, -999.00,     -999.0,     -999.0,9,     -999.0,     -999.0,9,     -999.0,  -999.0,9,     -999.0,     -999.0,9,     -999.0,  28.1881,    35.4627,2,-999.0000,2,      0.219,2
33RO20150410,     P16N.1,      35,          1,         20,         20,2,20150420,       1741,    -2.5502,  -151.0000,       4900,   116.8,  26.8431,  35.3098,2,  35.3227,2,    193.1,2,   192.2,2,    2.50,2,    5.00,2,    0.14,2,    0.51,4,-999.000,9,-999.000,9,-999.000,9,  -999.0,9,  -999.0,9,-999.0000,9,  -999.00,-999.000,9,-999.0000,9, -999.00,9,  26.8460, -999.00,9,  -999.0,9,  -999.0,-999.000,9,-999.000,  -999.0,9, -999.00,9,     -999.0,9, -999.00,9,-999.000,-999.0000, -999.00,     -999.0,     -999.0,9,     -999.0,     -999.0,9,     -999.0,  -999.0,9,     -999.0,     -999.0,9,     -999.0,  26.8164,    35.4892,2,-999.0000,2,      0.233,2
33RO20150410,     P16N.1,      35,          1,         19,         19,2,20150420,       1741,    -2.5502,  -151.0000,       4900,   175.2,  15.2830,  35.1381,2,  35.1396,2,     48.5,2,    56.6,2,   13.50,2,   24.40,2,    0.03,2,    1.60,4,-999.000,9,-999.000,9,-999.000,9,  -999.0,9,  -999.0,9,-999.0000,9,  -999.00,-999.000,9,-999.0000,9, -999.00,9,  15.2782, -999.00,9,  -999.0,9,  -999.0,-999.000,9,-999.000,  -999.0,9, -999.00,9,     -999.0,9, -999.00,9,-999.000,-999.0000, -999.00,     -999.0,     -999.0,9,     -999.0,     -999.0,9,     -999.0,  -999.0,9,     -999.0,     -999.0,9,     -999.0,  15.2561,    35.3053,2,-999.0000,2,      0.055,2
33RO20150410,     P16N.1,      35,          1,         18,         18,2,20150420,       1741,    -2.5502,  -151.0000,       4900,   249.6,  11.9104,  34.8583,2,  34.8625,2,     47.8,2,    48.3,2,   23.20,2,   29.70,2,    0.02,2,    1.87,4,-999.000,9,-999.000,9,-999.000,9,  -999.0,9,  -999.0,9,-999.0000,9,  -999.00,-999.000,9,-999.0000,9, -999.00,9,  11.9127, -999.00,9,  -999.0,9,  -999.0,-999.000,9,-999.000,  -999.0,9, -999.00,9,     -999.0,9, -999.00,9,-999.000,-999.0000, -999.00,     -999.0,     -999.0,9,     -999.0,     -999.0,9,     -999.0,  -999.0,9,     -999.0,     -999.0,9,     -999.0,  11.8780,    35.0269,2,-999.0000,2,      0.002,2
33RO20150410,     P16N.1,      35,          1,         17,         17,2,20150420,       1741,    -2.5502,  -151.0000,       4900,   359.6,  11.0227,  34.8044,2,  34.8031,2,     50.2,2,    53.6,2,   25.20,2,   30.40,2,    0.01,2,    1.94,4,-999.000,9,-999.000,9,-999.000,9,  -999.0,9,  -999.0,9,-999.0000,9,  -999.00,-999.000,9,-999.0000,9, -999.00,9,  11.0207, -999.00,9,  -999.0,9,  -999.0,-999.000,9,-999.000,  -999.0,9, -999.00,9,     -999.0,9, -999.00,9,-999.000,-999.0000, -999.00,     -999.0,     -999.0,9,     -999.0,     -999.0,9,     -999.0,  -999.0,9,     -999.0,     -999.0,9,     -999.0,  10.9781,    34.9672,2,-999.0000,2,     -999.0,9
33RO20150410,     P16N.1,      35,          1,         16,         16,2,20150420,       1741,    -2.5502,  -151.0000,       4900,   469.6,   8.3055,  34.6413,2,  34.6406,2,     27.2,2,    26.3,2,   39.60,2,   39.20,2,    0.01,2,    2.46,4,-999.000,9,-999.000,9,-999.000,9,  -999.0,9,  -999.0,9,-999.0000,9,  -999.00,-999.000,9,-999.0000,9, -999.00,9,   8.3107, -999.00,9,  -999.0,9,  -999.0,-999.000,9,-999.000,  -999.0,9, -999.00,9,     -999.0,9, -999.00,9,-999.000,-999.0000, -999.00,     -999.0,     -999.0,9,     -999.0,     -999.0,9,     -999.0,  -999.0,9,     -999.0,     -999.0,9,     -999.0,   8.2563,    34.8039,2,-999.0000,2,     -999.0,9
33RO20150410,     P16N.1,      35,          1,         15,         15,2,20150420,       1741,    -2.5502,  -151.0000,       4900,   551.6,   7.2431,  34.5881,2,  34.5881,2,     48.2,2,    47.2,2,   45.40,2,   39.50,2,    0.01,2,    2.49,4,-999.000,9,-999.000,9,-999.000,9,  -999.0,9,  -999.0,9,-999.0000,9,  -999.00,-999.000,9,-999.0000,9, -999.00,9,   7.2544, -999.00,9,  -999.0,9,  -999.0,-999.000,9,-999.000,  -999.0,9, -999.00,9,     -999.0,9, -999.00,9,-999.000,-999.0000, -999.00,     -999.0,     -999.0,9,     -999.0,     -999.0,9,     -999.0,  -999.0,9,     -999.0,     -999.0,9,     -999.0,   7.1894,    34.7512,2,-999.0000,2,     -999.0,9
33RO20150410,     P16N.1,      35,          1,         14,         14,2,20150420,       1741,    -2.5502,  -151.0000,       4900,   701.4,   6.2023,  34.5481,2,  34.5488,2,     79.5,2,    78.2,2,   54.10,2,   38.00,2,    0.02,2,    2.44,4,-999.000,9,-999.000,9,-999.000,9,  -999.0,9,  -999.0,9,-999.0000,9,  -999.00,-999.000,9,-999.0000,9, -999.00,9,   6.2018, -999.00,9,  -999.0,9,  -999.0,-999.000,9,-999.000,  -999.0,9, -999.00,9,     -999.0,9, -999.00,9,-999.000,-999.0000, -999.00,     -999.0,     -999.0,9,     -999.0,     -999.0,9,     -999.0,  -999.0,9,     -999.0,     -999.0,9,     -999.0,   6.1389,    34.7117,2,-999.0000,2,     -999.0,9
33RO20150410,     P16N.1,      35,          1,         13,         13,2,20150420,       1741,    -2.5502,  -151.0000,       4900,   848.5,   5.5317,  34.5466,2,  34.5453,2,     70.7,2,    70.3,2,   65.30,2,   40.00,2,    0.01,2,    2.59,4,-999.000,9,-999.000,9,-999.000,9,  -999.0,9,  -999.0,9,-999.0000,9,  -999.00,-999.000,9,-999.0000,9, -999.00,9,   5.5328, -999.00,9,  -999.0,9,  -999.0,-999.000,9,-999.000,  -999.0,9, -999.00,9,     -999.0,9, -999.00,9,-999.000,-999.0000, -999.00,     -999.0,     -999.0,9,     -999.0,     -999.0,9,     -999.0,  -999.0,9,     -999.0,     -999.0,9,     -999.0,   5.4584,    34.7082,2,-999.0000,2,     -999.0,9
33RO20150410,     P16N.1,      35,          1,         12,         12,2,20150420,       1741,    -2.5502,  -151.0000,       4900,  1000.6,   4.7026,  34.5480,2,  34.5480,2,     82.8,2,    82.3,2,   78.50,2,   39.60,2,    0.01,2,    2.62,4,-999.000,9,-999.000,9,-999.000,9,  -999.0,9,  -999.0,9,-999.0000,9,  -999.00,-999.000,9,-999.0000,9, -999.00,9,   4.6977, -999.00,9,  -999.0,9,  -999.0,-999.000,9,-999.000,  -999.0,9, -999.00,9,     -999.0,9, -999.00,9,-999.000,-999.0000, -999.00,     -999.0,     -999.0,9,     -999.0,     -999.0,9,     -999.0,  -999.0,9,     -999.0,     -999.0,9,     -999.0,   4.6214,    34.7109,6,-999.0000,2,     -999.0,9
33RO20150410,     P16N.1,      35,          1,         11,         11,2,20150420,       1741,    -2.5502,  -151.0000,       4900,  1168.0,   3.9337,  34.5647,2,  34.5677,2,     91.3,2,    91.1,2,   93.90,2,   39.40,2,    0.01,2,    2.65,4,-999.000,9,-999.000,9,-999.000,9,  -999.0,9,  -999.0,9,-999.0000,9,  -999.00,-999.000,9,-999.0000,9, -999.00,9,   3.9337, -999.00,9,  -999.0,9,  -999.0,-999.000,9,-999.000,  -999.0,9, -999.00,9,     -999.0,9, -999.00,9,-999.000,-999.0000, -999.00,     -999.0,     -999.0,9,     -999.0,     -999.0,9,     -999.0,  -999.0,9,     -999.0,     -999.0,9,     -999.0,   3.8443,    34.7307,2,-999.0000,2,     -999.0,9
33RO20150410,     P16N.1,      35,          1,         10,         10,2,20150420,       1741,    -2.5502,  -151.0000,       4900,  1400.8,   3.1574,  34.5942,2,  34.5926,2,     97.9,2,    98.2,2,  112.60,2,   39.20,2,    0.01,2,    2.67,4,-999.000,9,-999.000,9,-999.000,9,  -999.0,9,  -999.0,9,-999.0000,9,  -999.00,-999.000,9,-999.0000,9, -999.00,9,   3.1574, -999.00,9,  -999.0,9,  -999.0,-999.000,9,-999.000,  -999.0,9, -999.00,9,     -999.0,9, -999.00,9,-999.000,-999.0000, -999.00,     -999.0,     -999.0,9,     -999.0,     -999.0,9,     -999.0,  -999.0,9,     -999.0,     -999.0,9,     -999.0,   3.0560,    34.7557,2,-999.0000,2,     -999.0,9
33RO20150410,     P16N.1,      35,          1,          9,          9,2,20150420,       1741,    -2.5502,  -151.0000,       4900,  1733.6,   2.6035,  34.6201,2,  34.6182,2,    106.5,2,   106.8,2,  125.50,2,   38.80,2,    0.01,2,    2.67,4,-999.000,9,-999.000,9,-999.000,9,  -999.0,9,  -999.0,9,-999.0000,9,  -999.00,-999.000,9,-999.0000,9, -999.00,9,   2.6034, -999.00,9,  -999.0,9,  -999.0,-999.000,9,-999.000,  -999.0,9, -999.00,9,     -999.0,9, -999.00,9,-999.000,-999.0000, -999.00,     -999.0,     -999.0,9,     -999.0,     -999.0,9,     -999.0,  -999.0,9,     -999.0,     -999.0,9,     -999.0,   2.4809,    34.7814,2,-999.0000,2,     -999.0,9
33RO20150410,     P16N.1,      35,          1,          8,          8,2,20150420,       1741,    -2.5502,  -151.0000,       4900,  2132.9,   2.1506,  34.6470,2,  34.6448,2,    112.6,2,   113.9,2,  138.20,2,   38.50,2,    0.01,2,    2.66,4,-999.000,9,-999.000,9,-999.000,9,  -999.0,9,  -999.0,9,-999.0000,9,  -999.00,-999.000,9,-999.0000,9, -999.00,9,   2.1496, -999.00,9,  -999.0,9,  -999.0,-999.000,9,-999.000,  -999.0,9, -999.00,9,     -999.0,9, -999.00,9,-999.000,-999.0000, -999.00,     -999.0,     -999.0,9,     -999.0,     -999.0,9,     -999.0,  -999.0,9,     -999.0,     -999.0,9,     -999.0,   2.0004,    34.8082,2,-999.0000,2,     -999.0,9
33RO20150410,     P16N.1,      35,          1,          7,          7,2,20150420,       1741,    -2.5502,  -151.0000,       4900,  2533.1,   1.8542,  34.6632,2,  34.6635,2,    127.9,2,   128.2,2,  140.90,2,   37.60,2,    0.02,2,    2.59,4,-999.000,9,-999.000,9,-999.000,9,  -999.0,9,  -999.0,9,-999.0000,9,  -999.00,-999.000,9,-999.0000,9, -999.00,9,   1.8544, -999.00,9,  -999.0,9,  -999.0,-999.000,9,-999.000,  -999.0,9, -999.00,9,     -999.0,9, -999.00,9,-999.000,-999.0000, -999.00,     -999.0,     -999.0,9,     -999.0,     -999.0,9,     -999.0,  -999.0,9,     -999.0,     -999.0,9,     -999.0,   1.6736,    34.8269,2,-999.0000,2,     -999.0,9
33RO20150410,     P16N.1,      35,          1,          6,          6,2,20150420,       1741,    -2.5502,  -151.0000,       4900,  2933.2,   1.6943,  34.6724,2,  34.6686,2,    138.2,2,   139.7,2,  142.30,2,   36.80,2,    0.01,2,    2.54,4,-999.000,9,-999.000,9,-999.000,9,  -999.0,9,  -999.0,9,-999.0000,9,  -999.00,-999.000,9,-999.0000,9, -999.00,9,   1.6943, -999.00,9,  -999.0,9,  -999.0,-999.000,9,-999.000,  -999.0,9, -999.00,9,     -999.0,9, -999.00,9,-999.000,-999.0000, -999.00,     -999.0,     -999.0,9,     -999.0,     -999.0,9,     -999.0,  -999.0,9,     -999.0,     -999.0,9,     -999.0,   1.4796,    34.8321,3,-999.0000,2,     -999.0,9
33RO20150410,     P16N.1,      35,          1,          5,          5,2,20150420,       1741,    -2.5502,  -151.0000,       4900,  3334.3,   1.5310,  34.6830,2,  34.6808,2,    150.4,2,   150.3,2,  141.80,2,   36.10,2,    0.03,2,    2.48,4,-999.000,9,-999.000,9,-999.000,9,  -999.0,9,  -999.0,9,-999.0000,9,  -999.00,-999.000,9,-999.0000,9, -999.00,9,   1.5311, -999.00,9,  -999.0,9,  -999.0,-999.000,9,-999.000,  -999.0,9, -999.00,9,     -999.0,9, -999.00,9,-999.000,-999.0000, -999.00,     -999.0,     -999.0,9,     -999.0,     -999.0,9,     -999.0,  -999.0,9,     -999.0,     -999.0,9,     -999.0,   1.2808,    34.8443,6,-999.0000,2,     -999.0,9
33RO20150410,     P16N.1,      35,          1,          4,          4,2,20150420,       1741,    -2.5502,  -151.0000,       4900,  3732.7,   1.4260,  34.6910,2,  34.6906,2,    158.2,2,   158.2,2,  143.00,6,   35.70,6,    0.01,6,    2.44,4,-999.000,9,-999.000,9,-999.000,9,  -999.0,9,  -999.0,9,-999.0000,9,  -999.00,-999.000,9,-999.0000,9, -999.00,9,   1.4259, -999.00,9,  -999.0,9,  -999.0,-999.000,9,-999.000,  -999.0,9, -999.00,9,     -999.0,9, -999.00,9,-999.000,-999.0000, -999.00,     -999.0,     -999.0,9,     -999.0,     -999.0,9,     -999.0,  -999.0,9,     -999.0,     -999.0,9,     -999.0,   1.1376,    34.8542,2,-999.0000,2,     -999.0,9
33RO20150410,     P16N.1,      35,          1,          3,          3,2,20150420,       1741,    -2.5502,  -151.0000,       4900,  4133.6,   1.4069,  34.6938,2,  34.6929,2,    164.2,2,    70.3,4,  140.30,6,   35.20,6,    0.01,6,    2.40,4,-999.000,9,-999.000,9,-999.000,9,  -999.0,9,  -999.0,9,-999.0000,9,  -999.00,-999.000,9,-999.0000,9, -999.00,9,   1.4067, -999.00,9,  -999.0,9,  -999.0,-999.000,9,-999.000,  -999.0,9, -999.00,9,     -999.0,9, -999.00,9,-999.000,-999.0000, -999.00,     -999.0,     -999.0,9,     -999.0,     -999.0,9,     -999.0,  -999.0,9,     -999.0,     -999.0,9,     -999.0,   1.0759,    34.8565,2,-999.0000,2,     -999.0,9
33RO20150410,     P16N.1,      35,          1,          2,          2,2,20150420,       1741,    -2.5502,  -151.0000,       4900,  4534.3,   1.3489,  34.6991,2,  34.6982,2,    180.6,2,   180.6,2,  129.60,6,   34.00,6,    0.01,6,    2.30,4,-999.000,9,-999.000,9,-999.000,9,  -999.0,9,  -999.0,9,-999.0000,9,  -999.00,-999.000,9,-999.0000,9, -999.00,9,   1.3485, -999.00,9,  -999.0,9,  -999.0,-999.000,9,-999.000,  -999.0,9, -999.00,9,     -999.0,9, -999.00,9,-999.000,-999.0000, -999.00,     -999.0,     -999.0,9,     -999.0,     -999.0,9,     -999.0,  -999.0,9,     -999.0,     -999.0,9,     -999.0,   0.9745,    34.8619,2,-999.0000,2,     -999.0,9
33RO20150410,     P16N.1,      35,          1,          1,          1,3,20150420,       1741,    -2.5502,  -151.0000,       4900,  4889.5,   1.3551,  34.7004,2,  34.6984,2,    184.0,2,   178.6,4,  133.10,6,   34.40,6,    0.03,6,    2.33,4,-999.000,9,-999.000,9,-999.000,9,  -999.0,9,  -999.0,9,-999.0000,9,  -999.00,-999.000,9,-999.0000,9, -999.00,9,   1.3547, -999.00,9,  -999.0,9,  -999.0,-999.000,9,-999.000,  -999.0,9, -999.00,9,     -999.0,9, -999.00,9,-999.000,-999.0000, -999.00,     -999.0,     -999.0,9,     -999.0,     -999.0,9,     -999.0,  -999.0,9,     -999.0,     -999.0,9,     -999.0,   0.9389,    34.8620,2,-999.0000,2,     -999.0,9