BOTTLE,20210709CCHSIOCBG
EXPOCODE,SECT_ID,STNNBR,CASTNO,SAMPNO,BTLNBR,BTLNBR_FLAG_W,DATE,TIME,LATITUDE,LONGITUDE,DEPTH,CTDPRS,CTDTMP,CTDSAL,CTDSAL_FLAG_W,SALNTY,SALNTY_FLAG_W,CTDOXY,CTDOXY_FLAG_W,OXYGEN,OXYGEN_FLAG_W,SILCAT,SILCAT_FLAG_W,NITRAT,NITRAT_FLAG_W,NITRIT,NITRIT_FLAG_W,PHSPHT,PHSPHT_FLAG_W,CFC-11,CFC-11_FLAG_W,CFC-12,CFC-12_FLAG_W,SF6,SF6_FLAG_W,TCARBN,TCARBN_FLAG_W,ALKALI,ALKALI_FLAG_W,PH_TOT,PH_TOT_FLAG_W,PH_TMP,TRITUM,TRITUM_FLAG_W,HELIUM,HELIUM_FLAG_W,DELHE3,DELHE3_FLAG_W,REFTMP,DELC13,DELC13_FLAG_W,DELC14,DELC14_FLAG_W,C14ERR,NEON,NEON_FLAG_W,NEONER,DOC,DOC_FLAG_W,TDN,TDN_FLAG_W,N2O,N2O_FLAG_W,ARGON,ARGON_FLAG_W,TRITER,HELIER,DELHER,ARGONER,KRYPTON,KRYPTON_FLAG_W,KRYPTONER,XENON,XENON_FLAG_W,XENONER,14C-DOC,14C-DOC_FLAG_W,14C-DOCERR,13C-DOC,13C-DOC_FLAG_W,13C-DOCERR,THETA,SALTREF,SALTREF_FLAG_W,SBE35,SBE35_FLAG_W,CHLORA,CHLORA_FLAG_W
,,,,,,,,,,,METERS,DBAR,ITS-90,PSS-78,,PSS-78,,UMOL/KG,,UMOL/KG,,UMOL/KG,,UMOL/KG,,UMOL/KG,,UMOL/KG,,PMOL/KG,,PMOL/KG,,FMOL/KG,,UMOL/KG,,UMOL/KG,,,,DEG C,TU,,NMOL/KG,,PERCNT,,DEG C,/MILLE,,/MILLE,,/MILLE,NMOL/KG,,NMOL/KG,UMOL/KG,,UMOL/KG,,NMOL/KG,,UMOL/KG,,TU,NMOL/KG,PERCNT,UMOL/KG,NMOL/KG,,NMOL/KG,NMOL/KG,,NMOL/KG,/MILLE,,/MILLE,/MILLE,,/MILLE,DEG C,G/KG,,ITS-90,,MG/M3,
33RO20150410,     P16N.1,       5,          1,         24,         24,2,20150412,       0835,   -14.4992,  -150.5998,       4438,    11.0,  29.0544,  35.7724,2,  35.7680,2,    192.6,2,   192.8,2,    1.00,2,    0.00,2,    0.01,2,    0.09,4,   1.358,3,   0.927,2,    1.39,3,  1999.5,6,  2355.4,2,   8.1206,2,    24.99,-999.000,9,-999.0000,9, -999.00,9,  29.0567,    1.19,2,    38.0,2,     2.9,-999.000,9,-999.000,    78.5,2,    4.90,2,      5.809,3, -999.00,9,-999.000,-999.0000, -999.00,     -999.0,     -999.0,9,     -999.0,     -999.0,9,     -999.0,  -999.0,9,     -999.0,     -999.0,9,     -999.0,  29.0517,    35.9366,2,-999.0000,2,     -999.0,9
33RO20150410,     P16N.1,       5,          1,         23,         23,2,20150412,       0835,   -14.4992,  -150.5998,       4438,    25.1,  29.0650,  35.7719,2,  35.7688,2,    192.7,2,   193.0,2,    1.00,2,    0.00,2,    0.01,2,    0.10,4,   1.350,3,   0.919,6,   1.193,6,  1998.4,2,  2355.7,6,   8.1206,6,    24.99,-999.000,9,-999.0000,9, -999.00,9,  29.0654,    1.22,2,    38.5,2,     2.6,-999.000,9,-999.000,    79.2,2,    5.10,2,      5.830,3, -999.00,9,-999.000,-999.0000, -999.00,     -999.0,     -999.0,9,     -999.0,     -999.0,9,     -999.0,  -231.0,2,        4.0,      -21.4,2,        0.2,  29.0589,    35.9375,2,-999.0000,2,     -999.0,9
33RO20150410,     P16N.1,       5,          1,         22,         22,2,20150412,       0835,   -14.4992,  -150.5998,       4438,    50.6,  28.9907,  35.7809,2,  35.7840,2,    193.9,2,   193.5,2,    1.10,2,    0.00,2,    0.01,2,    0.12,4,   1.351,3,   0.918,2,   1.221,2,  2000.3,2,  2363.6,2,   8.1204,6,    25.00,-999.000,9,-999.0000,9, -999.00,9,  28.9964,    1.20,2,    35.3,2,     2.3,-999.000,9,-999.000,    78.1,2,    5.40,2,      5.891,3, -999.00,9,-999.000,-999.0000, -999.00,     -999.0,     -999.0,9,     -999.0,     -999.0,9,     -999.0,  -999.0,9,     -999.0,     -999.0,9,     -999.0,  28.9784,    35.9528,2,-999.0000,2,     -999.0,9
33RO20150410,     P16N.1,       5,          1,         21,         21,2,20150412,       0835,   -14.4992,  -150.5998,       4438,    75.6,  28.3027,  36.0981,2,  36.0991,2,    201.7,2,   200.2,2,    1.10,2,    0.00,2,    0.01,2,    0.14,4,   1.417,3,   0.970,2,    1.18,2,  2022.8,2,  2378.4,2,   8.1094,2,    24.98,-999.000,9,-999.0000,9, -999.00,9,  28.3080,    1.33,2,    35.5,2,     2.1,-999.000,9,-999.000,    82.3,2,    7.00,3,      6.215,3, -999.00,9,-999.000,-999.0000, -999.00,     -999.0,     -999.0,9,     -999.0,     -999.0,9,     -999.0,  -999.0,9,     -999.0,     -999.0,9,     -999.0,  28.2847,    36.2693,2,-999.0000,2,     -999.0,9
33RO20150410,     P16N.1,       5,          1,         20,         20,2,20150412,       0835,   -14.4992,  -150.5998,       4438,   100.6,  26.5818,  36.3994,2,  36.4009,2,    194.7,2,   193.8,2,    1.30,2,    0.00,2,    0.06,2,    0.16,4,   1.574,3,   1.016,2,   1.298,2,  2059.3,2,  2400.0,2,   8.0784,2,    25.00,-999.000,9,-999.0000,9, -999.00,9,  26.5782,    1.24,2,    35.7,2,     2.2,-999.000,9,-999.000,    71.4,2,    5.50,2,      6.525,3, -999.00,9,-999.000,-999.0000, -999.00,     -999.0,     -999.0,9,     -999.0,     -999.0,9,     -999.0,  -260.0,2,        4.0,     -999.0,5,     -999.0,  26.5589,    36.5726,6,-999.0000,2,     -999.0,9
33RO20150410,     P16N.1,       5,          1,         19,         19,2,20150412,       0835,   -14.4992,  -150.5998,       4438,   125.6,  25.8095,  36.3930,2,  36.3951,2,    183.9,2,   183.0,2,    1.20,2,    0.30,2,    0.50,2,    0.19,4,   1.540,3,   1.030,2,   1.227,2,  2075.2,2,  2398.8,2,   8.0553,6,    24.99,-999.000,9,-999.0000,9, -999.00,9,  25.8093,    1.10,2,    39.6,2,     3.3,-999.000,9,-999.000,    65.9,2,    6.60,2,      6.795,3, -999.00,9,-999.000,-999.0000, -999.00,     -999.0,     -999.0,9,     -999.0,     -999.0,9,     -999.0,  -999.0,9,     -999.0,     -999.0,9,     -999.0,  25.7815,    36.5668,2,-999.0000,2,     -999.0,9
33RO20150410,     P16N.1,       5,          1,         18,         18,2,20150412,       0835,   -14.4992,  -150.5998,       4438,   175.1,  23.5608,  36.2516,2,  36.2451,2,    170.2,2,   170.9,2,    1.20,2,    3.10,2,    0.11,2,    0.26,4,   1.716,3,   1.140,2,    1.37,2,  2099.5,2,  2385.4,2,   7.9969,2,    25.00,-999.000,9,-999.0000,9, -999.00,9,  23.5459,    0.88,2,    49.3,2,     2.1,-999.000,9,-999.000,    58.9,2,    7.80,2,      7.435,3, -999.00,9,-999.000,-999.0000, -999.00,     -999.0,     -999.0,9,     -999.0,     -999.0,9,     -999.0,  -323.0,2,        4.0,      -21.4,2,        0.2,  23.5242,    36.4160,2,-999.0000,2,     -999.0,9
33RO20150410,     P16N.1,       5,          1,         17,         17,2,20150412,       0835,   -14.4992,  -150.5998,       4438,   250.2,  20.0655,  35.7769,2,  35.7865,2,    171.8,2,   172.3,2,    1.40,2,    4.90,2,    0.02,2,    0.32,4,   2.029,3,   1.296,2,   1.282,2,  2112.8,6,  2356.2,2,   7.9267,2,    25.00,-999.000,9,-999.0000,9, -999.00,9,  20.0591,    0.85,2,    56.4,2,     2.1,-999.000,9,-999.000,    53.5,2,    9.00,2,      9.661,3, -999.00,9,-999.000,-999.0000, -999.00,     -999.0,     -999.0,9,     -999.0,     -999.0,9,     -999.0,  -999.0,9,     -999.0,     -999.0,9,     -999.0,  20.0189,    35.9552,2,-999.0000,2,     -999.0,9
33RO20150410,     P16N.1,       5,          1,         16,         16,2,20150412,       0835,   -14.4992,  -150.5998,       4438,   311.9,  16.7853,  35.2732,2,  35.2805,2,    161.6,2,   161.5,2,    1.40,2,    4.90,2,    0.01,2,    0.33,4,   2.224,3,   1.361,2,   1.333,2,  2129.1,2,  2325.6,2,   7.8460,6,    24.99,-999.000,9,-999.0000,9, -999.00,9,  16.7809,    0.81,2,    57.5,2,     2.4,-999.000,9,-999.000,    49.2,2, -999.00,9,     14.696,3, -999.00,9,-999.000,-999.0000, -999.00,     -999.0,     -999.0,9,     -999.0,     -999.0,9,     -999.0,  -366.0,2,        4.0,      -21.8,2,        0.2,  16.7340,    35.4469,2,-999.0000,3,     -999.0,9
33RO20150410,     P16N.1,       5,          1,         15,         15,2,20150412,       0835,   -14.4992,  -150.5998,       4438,   401.0,  11.4646,  34.6800,2,  34.6865,2,    110.5,2,   111.2,2,   12.50,2,   21.70,2,    0.01,2,    1.11,4,   1.706,3,   0.979,2,   0.563,2,  2189.4,2,  2292.0,2,   7.6261,2,    25.00,-999.000,9,-999.0000,9, -999.00,9,  11.4713,    0.55,2,    11.2,2,     2.0,-999.000,9,-999.000,    45.4,2, -999.00,9,     30.847,3, -999.00,9,-999.000,-999.0000, -999.00,     -999.0,     -999.0,9,     -999.0,     -999.0,9,     -999.0,  -999.0,9,     -999.0,     -999.0,9,     -999.0,  11.4135,    34.8501,2,-999.0000,3,     -999.0,9
33RO20150410,     P16N.1,       5,          1,         14,         14,2,20150412,       0835,   -14.4992,  -150.5998,       4438,   500.2,   8.2193,  34.5392,2,  34.5412,2,    122.8,2,   123.1,2,   23.80,2,   28.90,2,    0.01,2,    1.43,4,   0.747,3,   0.423,6,   0.181,6,  2206.8,2,  2294.0,2,   7.5844,2,    24.99,-999.000,9,-999.0000,9, -999.00,9,   8.2340,    0.66,2,   -46.6,2,     2.2,-999.000,9,-999.000,    42.9,2, -999.00,9,     31.354,3, -999.00,9,-999.000,-999.0000, -999.00,     -999.0,     -999.0,9,     -999.0,     -999.0,9,     -999.0,  -458.0,2,        4.0,      -21.9,2,        0.2,   8.1672,    34.7041,2,-999.0000,2,     -999.0,9
33RO20150410,     P16N.1,       5,          1,         13,         13,2,20150412,       0835,   -14.4992,  -150.5998,       4438,   649.7,   6.1707,  34.4644,2,  34.4703,2,    134.0,2,   132.7,2,   35.90,2,   33.00,2,    0.01,2,    1.72,4,   0.400,3,   0.179,2,       0,2,  2224.7,2,  2303.8,2,   7.5600,2,    25.00,-999.000,9,-999.0000,9, -999.00,9,   6.1735,    0.71,2,   -97.6,2,     1.8,-999.000,9,-999.000,    39.4,2, -999.00,9,     29.884,3, -999.00,9,-999.000,-999.0000, -999.00,     -999.0,     -999.0,9,     -999.0,     -999.0,9,     -999.0,  -470.0,2,       10.0,      -22.1,2,        0.2,   6.1124,    34.6328,2,-999.0000,2,     -999.0,9
33RO20150410,     P16N.1,       5,          1,         12,         12,2,20150412,       0835,   -14.4992,  -150.5998,       4438,   800.2,   4.9849,  34.4753,2,  34.4781,2,    138.2,2,   137.7,2,   53.30,2,   34.40,2,    0.00,2,    2.04,4,   0.151,3,   0.068,2,       0,2,  2238.6,2,  2321.6,2,   7.5587,2,    24.99,-999.000,9,-999.0000,9, -999.00,9,   4.9828,    0.64,2,  -132.2,2,     1.8,-999.000,9,-999.000,    39.1,2, -999.00,9,     27.318,3, -999.00,9,-999.000,-999.0000, -999.00,     -999.0,     -999.0,9,     -999.0,     -999.0,9,     -999.0,  -999.0,9,     -999.0,     -999.0,9,     -999.0,   4.9195,    34.6406,2,-999.0000,2,     -999.0,9
33RO20150410,     P16N.1,       5,          1,         11,         11,2,20150412,       0835,   -14.4992,  -150.5998,       4438,   949.9,   4.2457,  34.5042,2,  34.5048,2,    134.4,2,   134.8,2,   68.00,2,   35.50,2,    0.01,2,    2.31,4,   0.048,3,   0.023,2,       0,2,  2256.7,2,  2336.4,2,   7.5488,2,    24.99,-999.000,9,-999.0000,9, -999.00,9,   4.2454,    0.53,2,  -155.7,2,     1.7,-999.000,9,-999.000,    39.7,2, -999.00,9,     26.388,3, -999.00,9,-999.000,-999.0000, -999.00,     -999.0,     -999.0,9,     -999.0,     -999.0,9,     -999.0,  -506.0,2,        4.0,      -21.9,2,        0.2,   4.1724,    34.6676,2,-999.0000,2,     -999.0,9
33RO20150410,     P16N.1,       5,          1,         10,         10,2,20150412,       0835,   -14.4992,  -150.5998,       4438,  1100.2,   3.8091,  34.5289,2,  34.5306,2,    130.0,2,   131.5,2,   79.30,2,   36.30,2,    0.00,2,    2.49,4,   0.015,3,   0.011,2,       0,2,  2271.1,2,  2349.0,2,   7.5408,2,    24.99,-999.000,9,-999.0000,9, -999.00,9,   3.8093,    0.41,2,  -173.1,2,     1.6,-999.000,9,-999.000,    37.5,2, -999.00,9,     25.983,3, -999.00,9,-999.000,-999.0000, -999.00,     -999.0,     -999.0,9,     -999.0,     -999.0,9,     -999.0,  -999.0,9,     -999.0,     -999.0,9,     -999.0,   3.7266,    34.6934,6,-999.0000,2,     -999.0,9
33RO20150410,     P16N.1,       5,          1,          9,          9,2,20150412,       0835,   -14.4992,  -150.5998,       4438,  1300.2,   3.2483,  34.5624,2,  34.5628,2,    128.6,2,   130.0,2,   93.00,2,   36.90,2,    0.00,2,    2.72,4,   0.009,3,   0.002,2,       0,2,  2285.2,2,  2363.8,2,   7.5361,2,    24.99,-999.000,9,-999.0000,9, -999.00,9,   3.2474,    0.32,2,  -188.8,2,     1.9,-999.000,9,-999.000,    37.3,2, -999.00,9,     25.666,3, -999.00,9,-999.000,-999.0000, -999.00,     -999.0,     -999.0,9,     -999.0,     -999.0,9,     -999.0,  -533.0,2,        4.0,      -22.0,2,        0.2,   3.1544,    34.7258,2,-999.0000,2,     -999.0,9
33RO20150410,     P16N.1,       5,          1,          8,          8,2,20150412,       0835,   -14.4992,  -150.5998,       4438,  1600.1,   2.7074,  34.5933,2,  34.5925,2,    135.4,2,   138.6,2,  104.50,2,   36.40,2,    0.01,2,    2.87,4,   0.003,3,   0.001,2,       0,2,  2291.9,2,  2374.6,2,   7.5475,2,    24.99,-999.000,9,-999.0000,9, -999.00,9,   2.7074,    0.22,2,  -204.9,2,     1.6,-999.000,9,-999.000,    37.7,2, -999.00,9,     24.118,3, -999.00,9,-999.000,-999.0000, -999.00,     -999.0,     -999.0,9,     -999.0,     -999.0,9,     -999.0,  -543.2,2,        4.0,      -21.9,2,        0.2,   2.5947,    34.7556,2,-999.0000,3,     -999.0,9
33RO20150410,     P16N.1,       5,          1,          7,          7,2,20150412,       0835,   -14.4992,  -150.5998,       4438,  2000.0,   2.2312,  34.6289,2,  34.6307,2,    144.9,2,   147.0,2,  115.40,2,   35.80,2,    0.01,2,    3.00,4,   0.037,3,   0.006,3,       0,2,  2301.0,2,  2388.4,2,   7.5638,2,    24.98,-999.000,9,-999.0000,9, -999.00,9,   2.2321,    0.28,2,  -214.9,2,     1.7,-999.000,9,-999.000,    37.8,2, -999.00,9,     22.485,3, -999.00,9,-999.000,-999.0000, -999.00,     -999.0,     -999.0,9,     -999.0,     -999.0,9,     -999.0,  -536.1,2,        4.0,      -21.9,2,        0.2,   2.0912,    34.7940,2,-999.0000,3,     -999.0,9
33RO20150410,     P16N.1,       5,          1,          6,          6,2,20150412,       0835,   -14.4992,  -150.5998,       4438,  2400.2,   1.9701,  34.6527,2,  34.6516,2,    148.4,2,   151.0,2,  125.30,2,   35.70,2,    0.01,2,    3.11,4,   0.016,3,   0.005,3,       0,2,  2307.2,2,  2397.3,2,   7.5711,6,    25.00,-999.000,9,-999.0000,9, -999.00,9,   1.9702,    0.23,2,  -222.9,2,     1.5,-999.000,9,-999.000,    34.9,2, -999.00,9,     21.701,3, -999.00,9,-999.000,-999.0000, -999.00,     -999.0,     -999.0,9,     -999.0,     -999.0,9,     -999.0,  -544.6,2,        4.0,     -999.0,5,     -999.0,   1.7994,    34.8150,2,-999.0000,2,     -999.0,9
33RO20150410,     P16N.1,       5,          1,          5,          5,2,20150412,       0835,   -14.4992,  -150.5998,       4438,  2799.6,   1.8092,  34.6681,2,  34.6665,2,    152.4,2,   153.5,2,  129.00,2,   35.40,2,    0.01,2,    3.18,4,   0.007,3,  -0.002,2,       0,2,  2310.9,2,  2403.7,2,   7.5767,2,    25.00,-999.000,9,-999.0000,9, -999.00,9,   1.8090,    0.21,2,  -217.8,2,     2.1,-999.000,9,-999.000,    35.6,2, -999.00,9,     21.216,3, -999.00,9,-999.000,-999.0000, -999.00,     -999.0,     -999.0,9,     -999.0,     -999.0,9,     -999.0,  -541.0,2,        4.0,      -22.0,2,        0.2,   1.6048,    34.8300,2,-999.0000,2,     -999.0,9
33RO20150410,     P16N.1,       5,          1,          4,          4,2,20150412,       0835,   -14.4992,  -150.5998,       4438,  3197.4,   1.6671,  34.6785,2,  34.6780,2,    159.3,2,   159.7,2,  130.10,6,   35.00,6,    0.01,6,    3.18,4,  -0.005,3,  -0.001,2,       0,2,  2306.6,2,  2402.3,2,   7.5842,2,    24.99,-999.000,9,-999.0000,9, -999.00,9,   1.6670,    0.20,2,  -218.4,2,     2.2,-999.000,9,-999.000,    37.9,2, -999.00,9,     20.765,3, -999.00,9,-999.000,-999.0000, -999.00,     -999.0,     -999.0,9,     -999.0,     -999.0,9,     -999.0,  -999.0,9,     -999.0,     -999.0,9,     -999.0,   1.4273,    34.8415,2,-999.0000,2,     -999.0,9
33RO20150410,     P16N.1,       5,          1,          3,          3,2,20150412,       0835,   -14.4992,  -150.5998,       4438,  3598.8,   1.5358,  34.6866,2,  34.6865,2,    172.2,2,   172.0,2,  126.10,6,   34.10,6,    0.01,6,    3.07,4,  -0.003,3,  -0.001,2,       0,2,  2293.8,2,  2392.2,6,   7.5917,2,    24.99,-999.000,9,-999.0000,9, -999.00,9,   1.5362,    0.32,2,  -201.3,2,     2.0,-999.000,9,-999.000,    37.4,2, -999.00,9,     20.157,3, -999.00,9,-999.000,-999.0000, -999.00,     -999.0,     -999.0,9,     -999.0,     -999.0,9,     -999.0,  -532.1,2,        4.0,      -21.9,2,        0.2,   1.2585,    34.8501,2,-999.0000,2,     -999.0,9
33RO20150410,     P16N.1,       5,          1,          2,          2,2,20150412,       0835,   -14.4992,  -150.5998,       4438,  4000.2,   1.4244,  34.6949,2,  34.6950,2,    180.9,2,   181.2,2,  124.80,6,   33.50,6,    0.01,6,    3.03,4,  -0.003,3,   0.000,6,       0,6,  2286.1,2,  2386.5,2,   7.5983,6,    25.00,-999.000,9,-999.0000,9, -999.00,9,   1.4245,    0.33,2,  -194.9,2,     2.5,-999.000,9,-999.000,    42.0,3, -999.00,9,     19.744,3, -999.00,9,-999.000,-999.0000, -999.00,     -999.0,     -999.0,9,     -999.0,     -999.0,9,     -999.0,  -527.0,2,        4.0,      -22.0,2,        0.2,   1.1075,    34.8586,2,-999.0000,2,     -999.0,9
33RO20150410,     P16N.1,       5,          1,          1,          1,2,20150412,       0835,   -14.4992,  -150.5998,       4438,  4427.7,   1.3675,  34.6993,2,  34.6982,2,    186.8,2,   185.9,2,  123.80,6,   33.10,6,    0.01,6,    3.01,4,   0.002,3,   0.000,2,       0,2,  2283.2,6,  2382.9,2,   7.6011,2,    24.98,-999.000,9,-999.0000,9, -999.00,9,   1.3676,    0.35,2,  -185.4,2,     1.7,-999.000,9,-999.000,    37.7,2, -999.00,9,     19.382,3, -999.00,9,-999.000,-999.0000, -999.00,     -999.0,     -999.0,9,     -999.0,     -999.0,9,     -999.0,  -999.0,9,     -999.0,     -999.0,9,     -999.0,   1.0047,    34.8618,2,-999.0000,2,     -999.0,9