BOTTLE,20210709CCHSIOCBG
EXPOCODE,SECT_ID,STNNBR,CASTNO,SAMPNO,BTLNBR,BTLNBR_FLAG_W,DATE,TIME,LATITUDE,LONGITUDE,DEPTH,CTDPRS,CTDTMP,CTDSAL,CTDSAL_FLAG_W,SALNTY,SALNTY_FLAG_W,CTDOXY,CTDOXY_FLAG_W,OXYGEN,OXYGEN_FLAG_W,SILCAT,SILCAT_FLAG_W,NITRAT,NITRAT_FLAG_W,NITRIT,NITRIT_FLAG_W,PHSPHT,PHSPHT_FLAG_W,CFC-11,CFC-11_FLAG_W,CFC-12,CFC-12_FLAG_W,SF6,SF6_FLAG_W,TCARBN,TCARBN_FLAG_W,ALKALI,ALKALI_FLAG_W,PH_TOT,PH_TOT_FLAG_W,PH_TMP,TRITUM,TRITUM_FLAG_W,HELIUM,HELIUM_FLAG_W,DELHE3,DELHE3_FLAG_W,REFTMP,DELC13,DELC13_FLAG_W,DELC14,DELC14_FLAG_W,C14ERR,NEON,NEON_FLAG_W,NEONER,DOC,DOC_FLAG_W,TDN,TDN_FLAG_W,N2O,N2O_FLAG_W,ARGON,ARGON_FLAG_W,TRITER,HELIER,DELHER,ARGONER,KRYPTON,KRYPTON_FLAG_W,KRYPTONER,XENON,XENON_FLAG_W,XENONER,14C-DOC,14C-DOC_FLAG_W,14C-DOCERR,13C-DOC,13C-DOC_FLAG_W,13C-DOCERR,THETA,SALTREF,SALTREF_FLAG_W,SBE35,SBE35_FLAG_W,CHLORA,CHLORA_FLAG_W
,,,,,,,,,,,METERS,DBAR,ITS-90,PSS-78,,PSS-78,,UMOL/KG,,UMOL/KG,,UMOL/KG,,UMOL/KG,,UMOL/KG,,UMOL/KG,,PMOL/KG,,PMOL/KG,,FMOL/KG,,UMOL/KG,,UMOL/KG,,,,DEG C,TU,,NMOL/KG,,PERCNT,,DEG C,/MILLE,,/MILLE,,/MILLE,NMOL/KG,,NMOL/KG,UMOL/KG,,UMOL/KG,,NMOL/KG,,UMOL/KG,,TU,NMOL/KG,PERCNT,UMOL/KG,NMOL/KG,,NMOL/KG,NMOL/KG,,NMOL/KG,/MILLE,,/MILLE,/MILLE,,/MILLE,DEG C,G/KG,,ITS-90,,MG/M3,
33RO20150410,     P16N.1,      47,          1,         24,         24,2,20150423,       2058,    -0.5796,  -150.9996,       4444,     9.8,  28.4534,  35.2671,2,  35.2651,2,    197.1,2,   196.9,2,    2.10,2,    3.30,2,    0.34,2,    0.46,4,-999.000,9,-999.000,9,-999.000,9,  2020.6,6,  2320.2,6,   8.0310,2,    25.00,-999.000,9,-999.0000,9, -999.00,9,-999.0000, -999.00,9,  -999.0,9,  -999.0,-999.000,9,-999.000,  -999.0,9, -999.00,9,     -999.0,9, -999.00,9,-999.000,-999.0000, -999.00,     -999.0,     -999.0,9,     -999.0,     -999.0,9,     -999.0,  -999.0,9,     -999.0,     -999.0,9,     -999.0,  28.4511,    35.4313,2,-999.0000,2,      0.150,2
33RO20150410,     P16N.1,      47,          1,         23,         23,2,20150423,       2058,    -0.5796,  -150.9996,       4444,    25.3,  28.4153,  35.2664,2,  35.2655,2,    196.1,2,   196.3,2,    1.90,2,    3.30,2,    0.35,2,    0.47,4,-999.000,9,-999.000,9,-999.000,9,  -999.0,9,  -999.0,9,-999.0000,9,  -999.00,-999.000,9,-999.0000,9, -999.00,9,-999.0000, -999.00,9,  -999.0,9,  -999.0,-999.000,9,-999.000,  -999.0,9, -999.00,9,     -999.0,9, -999.00,9,-999.000,-999.0000, -999.00,     -999.0,     -999.0,9,     -999.0,     -999.0,9,     -999.0,  -999.0,9,     -999.0,     -999.0,9,     -999.0,  28.4093,    35.4318,2,-999.0000,2,      0.266,2
33RO20150410,     P16N.1,      47,          1,         22,         22,2,20150423,       2058,    -0.5796,  -150.9996,       4444,    50.1,  28.3161,  35.2816,2,  35.2840,2,    194.4,2,   195.3,2,    1.90,2,    3.50,2,    0.33,2,    0.48,4,-999.000,9,-999.000,9,-999.000,9,  -999.0,9,  -999.0,9,-999.0000,9,  -999.00,-999.000,9,-999.0000,9, -999.00,9,-999.0000, -999.00,9,  -999.0,9,  -999.0,-999.000,9,-999.000,  -999.0,9, -999.00,9,     -999.0,9, -999.00,9,-999.000,-999.0000, -999.00,     -999.0,     -999.0,9,     -999.0,     -999.0,9,     -999.0,  -999.0,9,     -999.0,     -999.0,9,     -999.0,  28.3042,    35.4504,2,-999.0000,2,      0.374,2
33RO20150410,     P16N.1,      47,          1,         21,         21,2,20150423,       2058,    -0.5796,  -150.9996,       4444,    75.4,  27.9593,  35.3609,2,  35.3450,2,    191.7,2,   191.2,2,    1.90,2,    3.70,2,    0.19,2,    0.54,4,-999.000,9,-999.000,9,-999.000,9,  -999.0,9,  -999.0,9,-999.0000,9,  -999.00,-999.000,9,-999.0000,9, -999.00,9,-999.0000, -999.00,9,  -999.0,9,  -999.0,-999.000,9,-999.000,  -999.0,9, -999.00,9,     -999.0,9, -999.00,9,-999.000,-999.0000, -999.00,     -999.0,     -999.0,9,     -999.0,     -999.0,9,     -999.0,  -999.0,9,     -999.0,     -999.0,9,     -999.0,  27.9415,    35.5117,2,-999.0000,2,      0.376,2
33RO20150410,     P16N.1,      47,          1,         20,         20,2,20150423,       2058,    -0.5796,  -150.9996,       4444,   100.5,  27.3070,  35.3520,2,  35.3544,2,    187.5,2,   186.8,2,    2.10,2,    4.20,2,    0.52,2,    0.61,4,-999.000,9,-999.000,9,-999.000,9,  -999.0,9,  -999.0,9,-999.0000,9,  -999.00,-999.000,9,-999.0000,9, -999.00,9,-999.0000, -999.00,9,  -999.0,9,  -999.0,-999.000,9,-999.000,  -999.0,9, -999.00,9,     -999.0,9, -999.00,9,-999.000,-999.0000, -999.00,     -999.0,     -999.0,9,     -999.0,     -999.0,9,     -999.0,  -999.0,9,     -999.0,     -999.0,9,     -999.0,  27.2837,    35.5211,2,-999.0000,2,      0.276,2
33RO20150410,     P16N.1,      47,          1,         19,         19,2,20150423,       2058,    -0.5796,  -150.9996,       4444,   125.5,  26.2268,  35.4262,2,  35.4336,2,    171.2,2,   170.0,2,    2.60,2,    6.80,2,    1.70,2,    0.77,4,-999.000,9,-999.000,9,-999.000,9,  -999.0,9,  -999.0,9,-999.0000,9,  -999.00,-999.000,9,-999.0000,9, -999.00,9,-999.0000, -999.00,9,  -999.0,9,  -999.0,-999.000,9,-999.000,  -999.0,9, -999.00,9,     -999.0,9, -999.00,9,-999.000,-999.0000, -999.00,     -999.0,     -999.0,9,     -999.0,     -999.0,9,     -999.0,  -999.0,9,     -999.0,     -999.0,9,     -999.0,  26.1986,    35.6007,2,-999.0000,2,      0.131,2
33RO20150410,     P16N.1,      47,          1,         18,         18,2,20150423,       2058,    -0.5796,  -150.9996,       4444,   174.3,  16.5241,  35.2923,2,  35.2702,2,    111.3,2,   111.9,2,    8.60,2,   17.00,2,    0.02,2,    1.30,4,-999.000,9,-999.000,9,-999.000,9,  -999.0,9,  -999.0,9,-999.0000,9,  -999.00,-999.000,9,-999.0000,9, -999.00,9,-999.0000, -999.00,9,  -999.0,9,  -999.0,-999.000,9,-999.000,  -999.0,9, -999.00,9,     -999.0,9, -999.00,9,-999.000,-999.0000, -999.00,     -999.0,     -999.0,9,     -999.0,     -999.0,9,     -999.0,  -999.0,9,     -999.0,     -999.0,9,     -999.0,  16.4959,    35.4365,2,-999.0000,2,      0.014,2
33RO20150410,     P16N.1,      47,          1,         17,         17,2,20150423,       2058,    -0.5796,  -150.9996,       4444,   249.8,  12.1982,  34.8608,2,  34.8647,2,     96.9,2,    93.0,2,   20.00,2,   24.50,2,    0.01,2,    1.69,4,-999.000,9,-999.000,9,-999.000,9,  -999.0,9,  -999.0,9,-999.0000,9,  -999.00,-999.000,9,-999.0000,9, -999.00,9,-999.0000, -999.00,9,  -999.0,9,  -999.0,-999.000,9,-999.000,  -999.0,9, -999.00,9,     -999.0,9, -999.00,9,-999.000,-999.0000, -999.00,     -999.0,     -999.0,9,     -999.0,     -999.0,9,     -999.0,  -999.0,9,     -999.0,     -999.0,9,     -999.0,  12.1652,    35.0291,2,-999.0000,2,     -999.0,9
33RO20150410,     P16N.1,      47,          1,         16,         16,2,20150423,       2058,    -0.5796,  -150.9996,       4444,   325.3,  10.8489,  34.7789,2,  34.7792,2,     31.0,2,    30.5,2,   28.70,2,   33.10,2,    0.01,2,    2.23,4,-999.000,9,-999.000,9,-999.000,9,  -999.0,9,  -999.0,9,-999.0000,9,  -999.00,-999.000,9,-999.0000,9, -999.00,9,-999.0000, -999.00,9,  -999.0,9,  -999.0,-999.000,9,-999.000,  -999.0,9, -999.00,9,     -999.0,9, -999.00,9,-999.000,-999.0000, -999.00,     -999.0,     -999.0,9,     -999.0,     -999.0,9,     -999.0,  -999.0,9,     -999.0,     -999.0,9,     -999.0,  10.8090,    34.9432,2,-999.0000,2,     -999.0,9
33RO20150410,     P16N.1,      47,          1,         15,         15,2,20150423,       2058,    -0.5796,  -150.9996,       4444,   397.9,   9.5603,  34.7017,2,  34.7008,2,     41.0,2,    42.0,2,   32.20,2,   34.50,2,    0.01,2,    2.31,4,-999.000,9,-999.000,9,-999.000,9,  -999.0,9,  -999.0,9,-999.0000,9,  -999.00,-999.000,9,-999.0000,9, -999.00,9,-999.0000, -999.00,9,  -999.0,9,  -999.0,-999.000,9,-999.000,  -999.0,9, -999.00,9,     -999.0,9, -999.00,9,-999.000,-999.0000, -999.00,     -999.0,     -999.0,9,     -999.0,     -999.0,9,     -999.0,  -999.0,9,     -999.0,     -999.0,9,     -999.0,   9.5151,    34.8644,2,-999.0000,2,     -999.0,9
33RO20150410,     P16N.1,      47,          1,         14,         14,2,20150423,       2058,    -0.5796,  -150.9996,       4444,   500.3,   7.5632,  34.5961,2,  34.5964,2,     52.4,2,    53.3,2,   43.20,2,   37.60,2,    0.01,2,    2.53,4,-999.000,9,-999.000,9,-999.000,9,  -999.0,9,  -999.0,9,-999.0000,9,  -999.00,-999.000,9,-999.0000,9, -999.00,9,-999.0000, -999.00,9,  -999.0,9,  -999.0,-999.000,9,-999.000,  -999.0,9, -999.00,9,     -999.0,9, -999.00,9,-999.000,-999.0000, -999.00,     -999.0,     -999.0,9,     -999.0,     -999.0,9,     -999.0,  -999.0,9,     -999.0,     -999.0,9,     -999.0,   7.5135,    34.7596,2,-999.0000,2,     -999.0,9
33RO20150410,     P16N.1,      47,          1,         13,         13,2,20150423,       2058,    -0.5796,  -150.9996,       4444,   650.3,   6.3792,  34.5571,2,  34.5570,2,     69.1,2,    67.7,2,   53.50,2,   38.40,2,    0.00,2,    2.63,4,-999.000,9,-999.000,9,-999.000,9,  -999.0,9,  -999.0,9,-999.0000,9,  -999.00,-999.000,9,-999.0000,9, -999.00,9,-999.0000, -999.00,9,  -999.0,9,  -999.0,-999.000,9,-999.000,  -999.0,9, -999.00,9,     -999.0,9, -999.00,9,-999.000,-999.0000, -999.00,     -999.0,     -999.0,9,     -999.0,     -999.0,9,     -999.0,  -999.0,9,     -999.0,     -999.0,9,     -999.0,   6.3198,    34.7200,2,-999.0000,2,     -999.0,9
33RO20150410,     P16N.1,      47,          1,         12,         12,2,20150423,       2058,    -0.5796,  -150.9996,       4444,   800.0,   5.2302,  34.5462,2,  34.5462,2,     78.6,2,    77.9,2,   70.20,2,   39.00,2,    0.00,2,    2.71,4,-999.000,9,-999.000,9,-999.000,9,  -999.0,9,  -999.0,9,-999.0000,9,  -999.00,-999.000,9,-999.0000,9, -999.00,9,-999.0000, -999.00,9,  -999.0,9,  -999.0,-999.000,9,-999.000,  -999.0,9, -999.00,9,     -999.0,9, -999.00,9,-999.000,-999.0000, -999.00,     -999.0,     -999.0,9,     -999.0,     -999.0,9,     -999.0,  -999.0,9,     -999.0,     -999.0,9,     -999.0,   5.1632,    34.7091,2,-999.0000,2,     -999.0,9
33RO20150410,     P16N.1,      47,          1,         11,         11,2,20150423,       2058,    -0.5796,  -150.9996,       4444,   950.5,   4.7193,  34.5508,2,  34.5508,2,     82.9,2,    83.2,2,   79.10,2,   39.00,2,    0.00,2,    2.72,4,-999.000,9,-999.000,9,-999.000,9,  -999.0,9,  -999.0,9,-999.0000,9,  -999.00,-999.000,9,-999.0000,9, -999.00,9,-999.0000, -999.00,9,  -999.0,9,  -999.0,-999.000,9,-999.000,  -999.0,9, -999.00,9,     -999.0,9, -999.00,9,-999.000,-999.0000, -999.00,     -999.0,     -999.0,9,     -999.0,     -999.0,9,     -999.0,  -999.0,9,     -999.0,     -999.0,9,     -999.0,   4.6424,    34.7137,2,-999.0000,2,     -999.0,9
33RO20150410,     P16N.1,      47,          1,         10,         10,2,20150423,       2058,    -0.5796,  -150.9996,       4444,  1097.3,   4.2607,  34.5626,2,  34.5632,2,     80.7,2,    80.1,2,   90.10,2,   39.70,2,    0.00,2,    2.80,4,-999.000,9,-999.000,9,-999.000,9,  -999.0,9,  -999.0,9,-999.0000,9,  -999.00,-999.000,9,-999.0000,9, -999.00,9,-999.0000, -999.00,9,  -999.0,9,  -999.0,-999.000,9,-999.000,  -999.0,9, -999.00,9,     -999.0,9, -999.00,9,-999.000,-999.0000, -999.00,     -999.0,     -999.0,9,     -999.0,     -999.0,9,     -999.0,  -999.0,9,     -999.0,     -999.0,9,     -999.0,   4.1746,    34.7261,2,-999.0000,2,     -999.0,9
33RO20150410,     P16N.1,      47,          1,          9,          9,2,20150423,       2058,    -0.5796,  -150.9996,       4444,  1300.2,   3.7716,  34.5767,2,  34.5769,2,     84.9,2,    84.5,2,  101.30,2,   39.40,2,    0.00,2,    2.82,4,-999.000,9,-999.000,9,-999.000,9,  -999.0,9,  -999.0,9,-999.0000,9,  -999.00,-999.000,9,-999.0000,9, -999.00,9,-999.0000, -999.00,9,  -999.0,9,  -999.0,-999.000,9,-999.000,  -999.0,9, -999.00,9,     -999.0,9, -999.00,9,-999.000,-999.0000, -999.00,     -999.0,     -999.0,9,     -999.0,     -999.0,9,     -999.0,  -999.0,9,     -999.0,     -999.0,9,     -999.0,   3.6724,    34.7400,2,-999.0000,3,     -999.0,9
33RO20150410,     P16N.1,      47,          1,          8,          8,2,20150423,       2058,    -0.5796,  -150.9996,       4444,  1599.7,   2.9675,  34.6078,2,  34.6082,2,     92.7,2,    92.4,2,  120.30,2,   39.50,2,    0.00,2,    2.83,4,-999.000,9,-999.000,9,-999.000,9,  -999.0,9,  -999.0,9,-999.0000,9,  -999.00,-999.000,9,-999.0000,9, -999.00,9,-999.0000, -999.00,9,  -999.0,9,  -999.0,-999.000,9,-999.000,  -999.0,9, -999.00,9,     -999.0,9, -999.00,9,-999.000,-999.0000, -999.00,     -999.0,     -999.0,9,     -999.0,     -999.0,9,     -999.0,  -999.0,9,     -999.0,     -999.0,9,     -999.0,   2.8516,    34.7714,2,-999.0000,3,     -999.0,9
33RO20150410,     P16N.1,      47,          1,          7,          7,2,20150423,       2058,    -0.5796,  -150.9996,       4444,  1999.5,   2.3353,  34.6393,2,  34.6392,2,    103.3,2,   103.9,2,  136.10,2,   38.90,2,    0.00,2,    2.79,4,-999.000,9,-999.000,9,-999.000,9,  -999.0,9,  -999.0,9,-999.0000,9,  -999.00,-999.000,9,-999.0000,9, -999.00,9,-999.0000, -999.00,9,  -999.0,9,  -999.0,-999.000,9,-999.000,  -999.0,9, -999.00,9,     -999.0,9, -999.00,9,-999.000,-999.0000, -999.00,     -999.0,     -999.0,9,     -999.0,     -999.0,9,     -999.0,  -999.0,9,     -999.0,     -999.0,9,     -999.0,   2.1938,    34.8025,2,-999.0000,2,     -999.0,9
33RO20150410,     P16N.1,      47,          1,          6,          6,2,20150423,       2058,    -0.5796,  -150.9996,       4444,  2399.7,   1.9083,  34.6614,2,  34.6605,2,    119.6,2,   119.2,2,  143.80,2,   37.90,2,    0.00,2,    2.71,4,-999.000,9,-999.000,9,-999.000,9,  -999.0,9,  -999.0,9,-999.0000,9,  -999.00,-999.000,9,-999.0000,9, -999.00,9,-999.0000, -999.00,9,  -999.0,9,  -999.0,-999.000,9,-999.000,  -999.0,9, -999.00,9,     -999.0,9, -999.00,9,-999.000,-999.0000, -999.00,     -999.0,     -999.0,9,     -999.0,     -999.0,9,     -999.0,  -999.0,9,     -999.0,     -999.0,9,     -999.0,   1.7387,    34.8240,2,-999.0000,2,     -999.0,9
33RO20150410,     P16N.1,      47,          1,          5,          5,2,20150423,       2058,    -0.5796,  -150.9996,       4444,  2800.2,   1.7377,  34.6714,2,  34.6713,2,    130.1,2,   129.7,2,  145.00,2,   37.20,2,    0.00,2,    2.66,4,-999.000,9,-999.000,9,-999.000,9,  -999.0,9,  -999.0,9,-999.0000,9,  -999.00,-999.000,9,-999.0000,9, -999.00,9,-999.0000, -999.00,9,  -999.0,9,  -999.0,-999.000,9,-999.000,  -999.0,9, -999.00,9,     -999.0,9, -999.00,9,-999.000,-999.0000, -999.00,     -999.0,     -999.0,9,     -999.0,     -999.0,9,     -999.0,  -999.0,9,     -999.0,     -999.0,9,     -999.0,   1.5347,    34.8347,2,-999.0000,2,     -999.0,9
33RO20150410,     P16N.1,      47,          1,          4,          4,2,20150423,       2058,    -0.5796,  -150.9996,       4444,  3199.7,   1.6237,  34.6776,2,  34.6770,2,    139.8,2,   140.1,2,  143.00,6,   36.60,6,    0.00,6,    2.59,4,-999.000,9,-999.000,9,-999.000,9,  -999.0,9,  -999.0,9,-999.0000,9,  -999.00,-999.000,9,-999.0000,9, -999.00,9,-999.0000, -999.00,9,  -999.0,9,  -999.0,-999.000,9,-999.000,  -999.0,9, -999.00,9,     -999.0,9, -999.00,9,-999.000,-999.0000, -999.00,     -999.0,     -999.0,9,     -999.0,     -999.0,9,     -999.0,  -999.0,9,     -999.0,     -999.0,9,     -999.0,   1.3847,    34.8405,2,-999.0000,2,     -999.0,9
33RO20150410,     P16N.1,      47,          1,          3,          3,2,20150423,       2058,    -0.5796,  -150.9996,       4444,  3599.5,   1.4758,  34.6885,2,  34.6884,2,    152.3,2,   152.0,2,  143.60,6,   35.80,6,    0.00,6,    2.54,4,-999.000,9,-999.000,9,-999.000,9,  -999.0,9,  -999.0,9,-999.0000,9,  -999.00,-999.000,9,-999.0000,9, -999.00,9,-999.0000, -999.00,9,  -999.0,9,  -999.0,-999.000,9,-999.000,  -999.0,9, -999.00,9,     -999.0,9, -999.00,9,-999.000,-999.0000, -999.00,     -999.0,     -999.0,9,     -999.0,     -999.0,9,     -999.0,  -999.0,9,     -999.0,     -999.0,9,     -999.0,   1.2000,    34.8519,2,-999.0000,2,     -999.0,9
33RO20150410,     P16N.1,      47,          1,          2,          2,2,20150423,       2058,    -0.5796,  -150.9996,       4444,  4000.2,   1.4227,  34.6935,2,  34.6912,2,    159.8,2,   159.1,2,  142.60,6,   35.40,6,    0.00,6,    2.50,4,-999.000,9,-999.000,9,-999.000,9,  -999.0,9,  -999.0,9,-999.0000,9,  -999.00,-999.000,9,-999.0000,9, -999.00,9,-999.0000, -999.00,9,  -999.0,9,  -999.0,-999.000,9,-999.000,  -999.0,9, -999.00,9,     -999.0,9, -999.00,9,-999.000,-999.0000, -999.00,     -999.0,     -999.0,9,     -999.0,     -999.0,9,     -999.0,  -999.0,9,     -999.0,     -999.0,9,     -999.0,   1.1058,    34.8548,6,-999.0000,2,     -999.0,9
33RO20150410,     P16N.1,      47,          1,          1,          1,2,20150423,       2058,    -0.5796,  -150.9996,       4444,  4432.9,   1.3849,  34.6974,2,  34.6978,2,    170.1,2,   169.8,2,  136.50,6,   34.50,6,    0.01,6,    2.47,4,-999.000,9,-999.000,9,-999.000,9,  -999.0,9,  -999.0,9,-999.0000,9,  -999.00,-999.000,9,-999.0000,9, -999.00,9,-999.0000, -999.00,9,  -999.0,9,  -999.0,-999.000,9,-999.000,  -999.0,9, -999.00,9,     -999.0,9, -999.00,9,-999.000,-999.0000, -999.00,     -999.0,     -999.0,9,     -999.0,     -999.0,9,     -999.0,  -999.0,9,     -999.0,     -999.0,9,     -999.0,   1.0210,    34.8614,2,-999.0000,2,     -999.0,9