BOTTLE,20210709CCHSIOCBG
EXPOCODE,SECT_ID,STNNBR,CASTNO,SAMPNO,BTLNBR,BTLNBR_FLAG_W,DATE,TIME,LATITUDE,LONGITUDE,DEPTH,CTDPRS,CTDTMP,CTDSAL,CTDSAL_FLAG_W,SALNTY,SALNTY_FLAG_W,CTDOXY,CTDOXY_FLAG_W,OXYGEN,OXYGEN_FLAG_W,SILCAT,SILCAT_FLAG_W,NITRAT,NITRAT_FLAG_W,NITRIT,NITRIT_FLAG_W,PHSPHT,PHSPHT_FLAG_W,CFC-11,CFC-11_FLAG_W,CFC-12,CFC-12_FLAG_W,SF6,SF6_FLAG_W,TCARBN,TCARBN_FLAG_W,ALKALI,ALKALI_FLAG_W,PH_TOT,PH_TOT_FLAG_W,PH_TMP,TRITUM,TRITUM_FLAG_W,HELIUM,HELIUM_FLAG_W,DELHE3,DELHE3_FLAG_W,REFTMP,DELC13,DELC13_FLAG_W,DELC14,DELC14_FLAG_W,C14ERR,NEON,NEON_FLAG_W,NEONER,DOC,DOC_FLAG_W,TDN,TDN_FLAG_W,N2O,N2O_FLAG_W,ARGON,ARGON_FLAG_W,TRITER,HELIER,DELHER,ARGONER,KRYPTON,KRYPTON_FLAG_W,KRYPTONER,XENON,XENON_FLAG_W,XENONER,14C-DOC,14C-DOC_FLAG_W,14C-DOCERR,13C-DOC,13C-DOC_FLAG_W,13C-DOCERR,THETA,SALTREF,SALTREF_FLAG_W,SBE35,SBE35_FLAG_W,CHLORA,CHLORA_FLAG_W
,,,,,,,,,,,METERS,DBAR,ITS-90,PSS-78,,PSS-78,,UMOL/KG,,UMOL/KG,,UMOL/KG,,UMOL/KG,,UMOL/KG,,UMOL/KG,,PMOL/KG,,PMOL/KG,,FMOL/KG,,UMOL/KG,,UMOL/KG,,,,DEG C,TU,,NMOL/KG,,PERCNT,,DEG C,/MILLE,,/MILLE,,/MILLE,NMOL/KG,,NMOL/KG,UMOL/KG,,UMOL/KG,,NMOL/KG,,UMOL/KG,,TU,NMOL/KG,PERCNT,UMOL/KG,NMOL/KG,,NMOL/KG,NMOL/KG,,NMOL/KG,/MILLE,,/MILLE,/MILLE,,/MILLE,DEG C,G/KG,,ITS-90,,MG/M3,
33RO20150410,     P16N.1,      15,          1,         24,         24,2,20150415,       0831,    -9.5000,  -150.9998,       5004,    15.2,  29.0962,  35.7089,2,  35.7083,2,    192.1,2,   192.9,2,    0.60,2,    0.00,2,    0.00,2,    0.16,4,   1.394,2,   0.921,2,   1.216,2,  1995.8,6,  2352.7,2,   8.1245,2,    25.00,-999.000,9,-999.0000,9, -999.00,9,  29.0982,    1.33,2,    39.3,2,     2.0,-999.000,9,-999.000,    76.7,2,    4.60,2,      5.709,3, -999.00,9,-999.000,-999.0000, -999.00,     -999.0,     -999.0,9,     -999.0,     -999.0,9,     -999.0,  -999.0,9,     -999.0,     -999.0,9,     -999.0,  29.0925,    35.8767,2,-999.0000,2,     -999.0,9
33RO20150410,     P16N.1,      15,          1,         23,         23,2,20150415,       0831,    -9.5000,  -150.9998,       5004,    33.6,  29.1004,  35.7084,2,  35.7081,2,    192.6,2,   192.9,2,    0.60,2,    0.00,2,    0.00,2,    0.16,4,-999.000,9,-999.000,9,-999.000,9,  1994.5,2,  2353.2,2,   8.1248,6,    25.01,-999.000,9,-999.0000,9, -999.00,9,  29.1008,    1.22,2,    26.1,2,     2.3,-999.000,9,-999.000,    76.5,2,    4.90,2,     -999.0,9, -999.00,9,-999.000,-999.0000, -999.00,     -999.0,     -999.0,9,     -999.0,     -999.0,9,     -999.0,  -999.0,9,     -999.0,     -999.0,9,     -999.0,  29.0922,    35.8765,2,-999.0000,2,     -999.0,9
33RO20150410,     P16N.1,      15,          1,         22,         22,2,20150415,       0831,    -9.5000,  -150.9998,       5004,    58.9,  29.1061,  35.7071,2,  35.7093,2,    193.3,2,   192.7,2,    0.90,2,    0.00,2,    0.00,2,    0.20,4,-999.000,9,-999.000,9,-999.000,9,  1995.6,2,  2353.3,6,   8.1251,2,    25.00,-999.000,9,-999.0000,9, -999.00,9,  29.1030,    1.21,2,    36.1,2,     3.4,-999.000,9,-999.000,    73.2,2,    5.40,2,     -999.0,9, -999.00,9,-999.000,-999.0000, -999.00,     -999.0,     -999.0,9,     -999.0,     -999.0,9,     -999.0,  -999.0,9,     -999.0,     -999.0,9,     -999.0,  29.0918,    35.8777,2,-999.0000,2,     -999.0,9
33RO20150410,     P16N.1,      15,          1,         21,         21,2,20150415,       0831,    -9.5000,  -150.9998,       5004,    84.1,  28.7634,  35.8779,2,  35.8851,2,    195.2,2,   194.5,2,    0.70,2,    0.00,2,    0.01,2,    0.22,4,   1.424,2,   0.941,2,   1.229,2,  2009.7,2,  2364.9,2,   8.1164,2,    25.01,-999.000,9,-999.0000,9, -999.00,9,  28.7587,    1.25,2,    35.1,2,     2.1,-999.000,9,-999.000,    70.0,2,    4.60,2,      5.907,3, -999.00,9,-999.000,-999.0000, -999.00,     -999.0,     -999.0,9,     -999.0,     -999.0,9,     -999.0,  -999.0,9,     -999.0,     -999.0,9,     -999.0,  28.7431,    36.0543,2,-999.0000,2,     -999.0,9
33RO20150410,     P16N.1,      15,          1,         20,         20,2,20150415,       0831,    -9.5000,  -150.9998,       5004,   118.0,  26.9910,  36.3166,2,  36.3302,2,    176.4,2,   176.1,2,    1.10,2,    1.10,2,    0.89,2,    0.40,4,-999.000,9,-999.000,9,-999.000,9,  2067.5,2,  2394.9,2,   8.0621,2,    25.01,-999.000,9,-999.0000,9, -999.00,9,  26.9925,    1.00,2,    31.7,2,     2.5,-999.000,9,-999.000,    62.3,2,    6.40,2,     -999.0,9, -999.00,9,-999.000,-999.0000, -999.00,     -999.0,     -999.0,9,     -999.0,     -999.0,9,     -999.0,  -999.0,9,     -999.0,     -999.0,9,     -999.0,  26.9638,    36.5015,2,-999.0000,2,     -999.0,9
33RO20150410,     P16N.1,      15,          1,         19,         19,2,20150415,       0831,    -9.5000,  -150.9998,       5004,   176.0,  22.9251,  36.1146,2,  36.1082,2,    157.6,2,   158.2,2,    1.30,2,    5.80,2,    0.03,2,    0.61,4,   1.849,2,   1.186,2,   1.267,2,  2120.2,2,  2380.0,2,   7.9532,6,    25.00,-999.000,9,-999.0000,9, -999.00,9,  22.9328,    0.75,2,    44.3,2,     3.4,-999.000,9,-999.000,    52.9,2,    9.00,2,      8.092,3, -999.00,9,-999.000,-999.0000, -999.00,     -999.0,     -999.0,9,     -999.0,     -999.0,9,     -999.0,  -999.0,9,     -999.0,     -999.0,9,     -999.0,  22.8890,    36.2785,2,-999.0000,2,     -999.0,9
33RO20150410,     P16N.1,      15,          1,         18,         18,2,20150415,       0831,    -9.5000,  -150.9998,       5004,   250.6,  17.6381,  35.3872,2,  35.4088,3,    143.4,2,   142.3,2,    3.40,2,   10.50,2,    0.01,2,    0.93,4,-999.000,9,-999.000,9,-999.000,9,  2148.3,2,  2335.2,2,   7.8225,2,    25.00,-999.000,9,-999.0000,9, -999.00,9,  17.6446,    0.61,2,    45.5,2,     3.5,-999.000,9,-999.000,    48.9,2,   13.00,2,     -999.0,9, -999.00,9,-999.000,-999.0000, -999.00,     -999.0,     -999.0,9,     -999.0,     -999.0,9,     -999.0,  -999.0,9,     -999.0,     -999.0,9,     -999.0,  17.5955,    35.5758,2,-999.0000,2,     -999.0,9
33RO20150410,     P16N.1,      15,          1,         17,         17,2,20150415,       0831,    -9.5000,  -150.9998,       5004,   334.5,  11.7954,  34.7841,2,  34.7827,2,     75.7,2,    72.2,2,   16.10,2,   24.90,2,    0.00,2,    1.85,4,   1.282,2,   0.738,2,   0.404,2,  2217.7,2,  2299.9,2,   7.5700,6,    25.01,-999.000,9,-999.0000,9, -999.00,9,  11.8216,    0.23,2,    -2.5,2,     2.2,-999.000,9,-999.000,    44.6,2, -999.00,9,     39.805,3, -999.00,9,-999.000,-999.0000, -999.00,     -999.0,     -999.0,9,     -999.0,     -999.0,9,     -999.0,  -999.0,9,     -999.0,     -999.0,9,     -999.0,  11.7521,    34.9468,2,-999.0000,2,     -999.0,9
33RO20150410,     P16N.1,      15,          1,         16,         16,2,20150415,       0831,    -9.5000,  -150.9998,       5004,   433.5,   8.4689,  34.6305,2,  34.6312,2,    116.5,2,   115.1,2,   26.20,2,   29.60,2,    0.00,2,    1.93,4,   0.663,2,   0.371,2,   0.133,2,  2214.7,2,  2302.6,2,   7.5880,2,    25.01,-999.000,9,-999.0000,9, -999.00,9,   8.4931,    0.39,2,   -50.9,2,     1.9,-999.000,9,-999.000,    39.4,2, -999.00,9,     31.810,3, -999.00,9,-999.000,-999.0000, -999.00,     -999.0,     -999.0,9,     -999.0,     -999.0,9,     -999.0,  -999.0,9,     -999.0,     -999.0,9,     -999.0,   8.4231,    34.7945,2,-999.0000,2,     -999.0,9
33RO20150410,     P16N.1,      15,          1,         15,         15,2,20150415,       0831,    -9.5000,  -150.9998,       5004,   550.5,   7.2793,  34.5747,2,  34.5750,2,     89.1,2,    89.8,2,   36.70,2,   34.80,2,    0.00,2,    2.28,4,-999.000,9,-999.000,9,-999.000,9,  2246.8,2,  2308.0,2,   7.5141,2,    25.00,-999.000,9,-999.0000,9, -999.00,9,   7.2749,    0.27,2,   -92.8,2,     1.8,-999.000,9,-999.000,    39.2,2, -999.00,9,     -999.0,9, -999.00,9,-999.000,-999.0000, -999.00,     -999.0,     -999.0,9,     -999.0,     -999.0,9,     -999.0,  -999.0,9,     -999.0,     -999.0,9,     -999.0,   7.2256,    34.7381,6,-999.0000,2,     -999.0,9
33RO20150410,     P16N.1,      15,          1,         14,         14,2,20150415,       0831,    -9.5000,  -150.9998,       5004,   700.6,   6.2972,  34.5411,2,  34.5429,2,     85.6,2,    84.9,2,   46.90,2,   37.40,2,    0.00,2,    2.48,4,   0.142,3,   0.058,2,       0,2,  2262.8,2,  2315.6,2,   7.4868,2,    25.01,-999.000,9,-999.0000,9, -999.00,9,   6.2971,    0.17,2,  -118.5,2,     1.9,-999.000,9,-999.000,    38.0,2, -999.00,9,     36.855,3, -999.00,9,-999.000,-999.0000, -999.00,     -999.0,     -999.0,9,     -999.0,     -999.0,9,     -999.0,  -999.0,9,     -999.0,     -999.0,9,     -999.0,   6.2334,    34.7057,2,-999.0000,2,     -999.0,9
33RO20150410,     P16N.1,      15,          1,         13,         13,2,20150415,       0831,    -9.5000,  -150.9998,       5004,   850.8,   5.4461,  34.5293,2,  34.5289,2,     87.6,2,    87.0,2,   58.40,2,   38.50,2,    0.00,2,    2.58,4,-999.000,9,-999.000,9,-999.000,9,  2276.9,2,  2328.1,2,   7.4790,2,    25.01,-999.000,9,-999.0000,9, -999.00,9,   5.4564,    0.18,2,  -142.4,2,     1.8,-999.000,9,-999.000,    38.4,2, -999.00,9,     -999.0,9, -999.00,9,-999.000,-999.0000, -999.00,     -999.0,     -999.0,9,     -999.0,     -999.0,9,     -999.0,  -999.0,9,     -999.0,     -999.0,9,     -999.0,   5.3732,    34.6917,2,-999.0000,2,     -999.0,9
33RO20150410,     P16N.1,      15,          1,         12,         12,2,20150415,       0831,    -9.5000,  -150.9998,       5004,  1000.0,   4.6260,  34.5331,2,  34.5336,2,     96.8,2,    96.6,2,   72.00,2,   38.60,2,    0.00,2,    2.63,4,-999.000,9,-999.000,9,-999.000,9,  2286.1,2,  2340.8,2,   7.4888,2,    25.00,-999.000,9,-999.0000,9, -999.00,9,   4.6261,    0.12,2,  -168.1,2,     2.1,-999.000,9,-999.000,    36.9,2, -999.00,9,     -999.0,9, -999.00,9,-999.000,-999.0000, -999.00,     -999.0,     -999.0,9,     -999.0,     -999.0,9,     -999.0,  -999.0,9,     -999.0,     -999.0,9,     -999.0,   4.5455,    34.6965,2,-999.0000,2,     -999.0,9
33RO20150410,     P16N.1,      15,          1,         11,         11,2,20150415,       0831,    -9.5000,  -150.9998,       5004,  1166.6,   3.8878,  34.5507,2,  34.5533,2,    108.2,2,   108.7,2,   86.00,2,   38.00,2,    0.00,2,    2.64,4,   0.001,2,   0.000,2,       0,2,  2289.9,2,  2356.5,2,   7.5068,6,    25.01,-999.000,9,-999.0000,9, -999.00,9,   3.8870,    0.29,2,  -181.5,2,     1.9,-999.000,9,-999.000,    35.7,2, -999.00,9,     28.498,3, -999.00,9,-999.000,-999.0000, -999.00,     -999.0,     -999.0,9,     -999.0,     -999.0,9,     -999.0,  -999.0,9,     -999.0,     -999.0,9,     -999.0,   3.7990,    34.7162,2,-999.0000,2,     -999.0,9
33RO20150410,     P16N.1,      15,          1,         10,         10,2,20150415,       0831,    -9.5000,  -150.9998,       5004,  1400.2,   3.2114,  34.5791,2,  34.5806,2,    117.8,2,   116.9,2,  101.10,2,   37.60,2,    0.00,2,    2.66,4,-999.000,9,-999.000,9,-999.000,9,  2303.9,6,  2374.0,2,   7.5188,6,    25.02,-999.000,9,-999.0000,9, -999.00,9,   3.2103,    0.24,2,  -199.9,2,     2.3,-999.000,9,-999.000,    36.6,2, -999.00,9,     -999.0,9, -999.00,9,-999.000,-999.0000, -999.00,     -999.0,     -999.0,9,     -999.0,     -999.0,9,     -999.0,  -999.0,9,     -999.0,     -999.0,9,     -999.0,   3.1095,    34.7437,2,-999.0000,2,     -999.0,9
33RO20150410,     P16N.1,      15,          1,          9,          9,2,20150415,       0831,    -9.5000,  -150.9998,       5004,  1733.4,   2.5174,  34.6163,2,  34.6170,2,    125.2,2,   128.2,2,  115.70,2,   36.90,2,    0.00,2,    2.64,4,-999.000,9,-999.000,9,-999.000,9,  2312.9,2,  2391.2,2,   7.5376,2,    25.01,-999.000,9,-999.0000,9, -999.00,9,   2.5177,    0.19,2,  -212.0,2,     1.7,-999.000,9,-999.000,    37.2,2, -999.00,9,     -999.0,9, -999.00,9,-999.000,-999.0000, -999.00,     -999.0,     -999.0,9,     -999.0,     -999.0,9,     -999.0,  -999.0,9,     -999.0,     -999.0,9,     -999.0,   2.3959,    34.7802,6,-999.0000,2,     -999.0,9
33RO20150410,     P16N.1,      15,          1,          8,          8,2,20150415,       0831,    -9.5000,  -150.9998,       5004,  2133.3,   2.0473,  34.6482,2,  34.6474,2,    138.7,2,   139.0,2,  126.10,2,   36.30,2,    0.00,2,    2.62,4,-999.000,9,-999.000,9,-999.000,9,  2314.9,2,  2403.3,2,   7.5566,2,    25.02,-999.000,9,-999.0000,9, -999.00,9,   2.0470,    0.16,2,  -224.0,2,     1.7,-999.000,9,-999.000,    35.3,2, -999.00,9,     -999.0,9, -999.00,9,-999.000,-999.0000, -999.00,     -999.0,     -999.0,9,     -999.0,     -999.0,9,     -999.0,  -999.0,9,     -999.0,     -999.0,9,     -999.0,   1.8987,    34.8108,2,-999.0000,3,     -999.0,9
33RO20150410,     P16N.1,      15,          1,          7,          7,2,20150415,       0831,    -9.5000,  -150.9998,       5004,  2531.4,   1.8395,  34.6668,2,  34.6674,2,    140.4,2,   140.7,2,  134.10,2,   36.20,2,    0.00,2,    2.64,4,   0.003,2,  -0.001,2,       0,2,  2321.0,2,  2414.1,2,   7.5639,2,    25.01,-999.000,9,-999.0000,9, -999.00,9,   1.8395,    0.16,2,  -228.4,2,     1.8,-999.000,9,-999.000,    35.3,2, -999.00,9,     21.751,3, -999.00,9,-999.000,-999.0000, -999.00,     -999.0,     -999.0,9,     -999.0,     -999.0,9,     -999.0,  -999.0,9,     -999.0,     -999.0,9,     -999.0,   1.6593,    34.8309,2,-999.0000,3,     -999.0,9
33RO20150410,     P16N.1,      15,          1,          6,          6,2,20150415,       0831,    -9.5000,  -150.9998,       5004,  2933.7,   1.7053,  34.6769,2,  34.6777,2,    149.9,2,   149.7,2,  134.40,2,   35.70,2,    0.00,2,    2.59,4,-999.000,9,-999.000,9,-999.000,9,  2316.0,2,  2414.8,2,   7.5774,2,    25.00,-999.000,9,-999.0000,9, -999.00,9,   1.7054,    0.19,2,  -221.2,2,     1.7,-999.000,9,-999.000,    35.2,2, -999.00,9,     -999.0,9, -999.00,9,-999.000,-999.0000, -999.00,     -999.0,     -999.0,9,     -999.0,     -999.0,9,     -999.0,  -999.0,9,     -999.0,     -999.0,9,     -999.0,   1.4903,    34.8412,2,-999.0000,2,     -999.0,9
33RO20150410,     P16N.1,      15,          1,          5,          5,2,20150415,       0831,    -9.5000,  -150.9998,       5004,  3331.7,   1.5958,  34.6837,2,  34.6834,2,    157.4,2,   156.5,2,  134.90,2,   35.30,2,    0.00,2,    2.56,4,-999.000,9,-999.000,9,-999.000,9,  2314.1,2,  2414.0,2,   7.5861,2,    25.00,-999.000,9,-999.0000,9, -999.00,9,   1.5957,    0.19,2,  -213.2,2,     1.9,-999.000,9,-999.000,    35.6,2, -999.00,9,     -999.0,9, -999.00,9,-999.000,-999.0000, -999.00,     -999.0,     -999.0,9,     -999.0,     -999.0,9,     -999.0,  -999.0,9,     -999.0,     -999.0,9,     -999.0,   1.3443,    34.8469,2,-999.0000,2,     -999.0,9
33RO20150410,     P16N.1,      15,          1,          4,          4,2,20150415,       0831,    -9.5000,  -150.9998,       5004,  3731.8,   1.4778,  34.6907,2,  34.6904,2,    167.7,2,   166.4,2,  133.20,6,   34.70,6,    0.00,6,    2.50,4,   0.009,3,  -0.002,2,       0,2,  2303.7,2,  2408.6,2,   7.5944,2,    25.00,-999.000,9,-999.0000,9, -999.00,9,   1.4779,    0.24,2,  -202.5,2,     1.9,-999.000,9,-999.000,    36.1,2, -999.00,9,     19.940,3, -999.00,9,-999.000,-999.0000, -999.00,     -999.0,     -999.0,9,     -999.0,     -999.0,9,     -999.0,  -999.0,9,     -999.0,     -999.0,9,     -999.0,   1.1881,    34.8540,2,-999.0000,2,     -999.0,9
33RO20150410,     P16N.1,      15,          1,          3,          3,2,20150415,       0831,    -9.5000,  -150.9998,       5004,  4166.9,   1.3786,  34.6974,2,  34.6965,2,    178.6,2,   178.2,2,  127.50,6,   33.80,6,    0.00,6,    2.44,4,-999.000,9,-999.000,9,-999.000,9,  2289.4,2,  2395.5,2,   7.6003,6,    25.01,-999.000,9,-999.0000,9, -999.00,9,   1.3789,    0.30,2,  -197.5,2,     1.9,-999.000,9,-999.000,    37.2,2, -999.00,9,     -999.0,9, -999.00,9,-999.000,-999.0000, -999.00,     -999.0,     -999.0,9,     -999.0,     -999.0,9,     -999.0,  -999.0,9,     -999.0,     -999.0,9,     -999.0,   1.0447,    34.8601,2,-999.0000,2,     -999.0,9
33RO20150410,     P16N.1,      15,          1,          2,          2,2,20150415,       0831,    -9.5000,  -150.9998,       5004,  4667.3,   1.3240,  34.7022,2,  34.7018,2,    188.3,2,   188.3,2,  123.30,6,   33.10,6,    0.00,6,    2.38,4,-999.000,9,-999.000,9,-999.000,9,  2277.0,2,  2383.9,6,   7.6038,2,    25.00,-999.000,9,-999.0000,9, -999.00,9,   1.3239,    0.35,2,  -182.9,2,     2.0,-999.000,9,-999.000,    38.0,2, -999.00,9,     -999.0,9, -999.00,9,-999.000,-999.0000, -999.00,     -999.0,     -999.0,9,     -999.0,     -999.0,9,     -999.0,  -999.0,9,     -999.0,     -999.0,9,     -999.0,   0.9350,    34.8655,2,-999.0000,2,     -999.0,9
33RO20150410,     P16N.1,      15,          1,          1,          1,2,20150415,       0831,    -9.5000,  -150.9998,       5004,  4993.9,   1.3454,  34.7030,2,  34.7034,2,    191.5,2,   189.5,2,  122.70,6,   32.90,6,    0.00,6,    2.35,4,   0.003,2,   0.001,6,       0,6,  2277.4,2,  2381.5,2,   7.6048,2,    25.00,-999.000,9,-999.0000,9, -999.00,9,   1.3456,    0.36,2,  -176.7,2,     2.2,-999.000,9,-999.000,    39.2,2, -999.00,9,     18.934,3, -999.00,9,-999.000,-999.0000, -999.00,     -999.0,     -999.0,9,     -999.0,     -999.0,9,     -999.0,  -999.0,9,     -999.0,     -999.0,9,     -999.0,   0.9169,    34.8671,2,-999.0000,2,     -999.0,9