BOTTLE,20210709CCHSIOCBG
EXPOCODE,SECT_ID,STNNBR,CASTNO,SAMPNO,BTLNBR,BTLNBR_FLAG_W,DATE,TIME,LATITUDE,LONGITUDE,DEPTH,CTDPRS,CTDTMP,CTDSAL,CTDSAL_FLAG_W,SALNTY,SALNTY_FLAG_W,CTDOXY,CTDOXY_FLAG_W,OXYGEN,OXYGEN_FLAG_W,SILCAT,SILCAT_FLAG_W,NITRAT,NITRAT_FLAG_W,NITRIT,NITRIT_FLAG_W,PHSPHT,PHSPHT_FLAG_W,CFC-11,CFC-11_FLAG_W,CFC-12,CFC-12_FLAG_W,SF6,SF6_FLAG_W,TCARBN,TCARBN_FLAG_W,ALKALI,ALKALI_FLAG_W,PH_TOT,PH_TOT_FLAG_W,PH_TMP,TRITUM,TRITUM_FLAG_W,HELIUM,HELIUM_FLAG_W,DELHE3,DELHE3_FLAG_W,REFTMP,DELC13,DELC13_FLAG_W,DELC14,DELC14_FLAG_W,C14ERR,NEON,NEON_FLAG_W,NEONER,DOC,DOC_FLAG_W,TDN,TDN_FLAG_W,N2O,N2O_FLAG_W,ARGON,ARGON_FLAG_W,TRITER,HELIER,DELHER,ARGONER,KRYPTON,KRYPTON_FLAG_W,KRYPTONER,XENON,XENON_FLAG_W,XENONER,14C-DOC,14C-DOC_FLAG_W,14C-DOCERR,13C-DOC,13C-DOC_FLAG_W,13C-DOCERR,THETA,SALTREF,SALTREF_FLAG_W,SBE35,SBE35_FLAG_W,CHLORA,CHLORA_FLAG_W
,,,,,,,,,,,METERS,DBAR,ITS-90,PSS-78,,PSS-78,,UMOL/KG,,UMOL/KG,,UMOL/KG,,UMOL/KG,,UMOL/KG,,UMOL/KG,,PMOL/KG,,PMOL/KG,,FMOL/KG,,UMOL/KG,,UMOL/KG,,,,DEG C,TU,,NMOL/KG,,PERCNT,,DEG C,/MILLE,,/MILLE,,/MILLE,NMOL/KG,,NMOL/KG,UMOL/KG,,UMOL/KG,,NMOL/KG,,UMOL/KG,,TU,NMOL/KG,PERCNT,UMOL/KG,NMOL/KG,,NMOL/KG,NMOL/KG,,NMOL/KG,/MILLE,,/MILLE,/MILLE,,/MILLE,DEG C,G/KG,,ITS-90,,MG/M3,
33RO20150410,     P16N.1,      39,          1,         24,         24,2,20150421,       1651,    -1.8900,  -151.0000,       4893,     5.5,  28.5196,  35.3314,2,  35.3299,2,    198.9,2,   199.9,2,    1.80,2,    3.30,2,    0.15,2,    0.41,4,-999.000,9,-999.000,9,-999.000,9,  2018.6,6,  2325.7,2,   8.0416,2,    25.01,-999.000,9,-999.0000,9, -999.00,9,  28.5208, -999.00,9,  -999.0,9,  -999.0,-999.000,9,-999.000,  -999.0,9, -999.00,9,     -999.0,9, -999.00,9,-999.000,-999.0000, -999.00,     -999.0,     -999.0,9,     -999.0,     -999.0,9,     -999.0,  -999.0,9,     -999.0,     -999.0,9,     -999.0,  28.5183,    35.4965,2,-999.0000,2,      0.204,2
33RO20150410,     P16N.1,      39,          1,         23,         23,2,20150421,       1651,    -1.8900,  -151.0000,       4893,    19.9,  28.4959,  35.3294,2,  35.3287,2,    199.3,2,   199.7,2,    1.80,2,    3.30,2,    0.15,2,    0.43,4,-999.000,9,-999.000,9,-999.000,9,  -999.0,9,  -999.0,9,-999.0000,9,  -999.00,-999.000,9,-999.0000,9, -999.00,9,  28.4982, -999.00,9,  -999.0,9,  -999.0,-999.000,9,-999.000,  -999.0,9, -999.00,9,     -999.0,9, -999.00,9,-999.000,-999.0000, -999.00,     -999.0,     -999.0,9,     -999.0,     -999.0,9,     -999.0,  -999.0,9,     -999.0,     -999.0,9,     -999.0,  28.4911,    35.4953,2,-999.0000,2,      0.173,2
33RO20150410,     P16N.1,      39,          1,         22,         22,2,20150421,       1651,    -1.8900,  -151.0000,       4893,    42.6,  28.4149,  35.3202,2,  35.3205,2,    199.6,2,   199.8,2,    1.90,2,    3.40,2,    0.15,2,    0.44,4,-999.000,9,-999.000,9,-999.000,9,  -999.0,9,  -999.0,9,-999.0000,9,  -999.00,-999.000,9,-999.0000,9, -999.00,9,  28.4169, -999.00,9,  -999.0,9,  -999.0,-999.000,9,-999.000,  -999.0,9, -999.00,9,     -999.0,9, -999.00,9,-999.000,-999.0000, -999.00,     -999.0,     -999.0,9,     -999.0,     -999.0,9,     -999.0,  -999.0,9,     -999.0,     -999.0,9,     -999.0,  28.4047,    35.4871,2,-999.0000,2,      0.175,2
33RO20150410,     P16N.1,      39,          1,         21,         21,2,20150421,       1651,    -1.8900,  -151.0000,       4893,    67.0,  28.0062,  35.2880,2,  35.2879,2,    198.2,2,   197.6,2,    2.00,2,    3.90,2,    0.15,2,    0.48,4,-999.000,9,-999.000,9,-999.000,9,  -999.0,9,  -999.0,9,-999.0000,9,  -999.00,-999.000,9,-999.0000,9, -999.00,9,  28.0129, -999.00,9,  -999.0,9,  -999.0,-999.000,9,-999.000,  -999.0,9, -999.00,9,     -999.0,9, -999.00,9,-999.000,-999.0000, -999.00,     -999.0,     -999.0,9,     -999.0,     -999.0,9,     -999.0,  -999.0,9,     -999.0,     -999.0,9,     -999.0,  27.9904,    35.4543,2,-999.0000,2,      0.215,2
33RO20150410,     P16N.1,      39,          1,         20,         20,2,20150421,       1651,    -1.8900,  -151.0000,       4893,    91.7,  27.9347,  35.4319,2,  35.4334,2,    194.2,2,   193.6,2,    2.20,2,    4.20,2,    0.10,2,    0.52,4,-999.000,9,-999.000,9,-999.000,9,  -999.0,9,  -999.0,9,-999.0000,9,  -999.00,-999.000,9,-999.0000,9, -999.00,9,  27.9381, -999.00,9,  -999.0,9,  -999.0,-999.000,9,-999.000,  -999.0,9, -999.00,9,     -999.0,9, -999.00,9,-999.000,-999.0000, -999.00,     -999.0,     -999.0,9,     -999.0,     -999.0,9,     -999.0,  -999.0,9,     -999.0,     -999.0,9,     -999.0,  27.9131,    35.6004,2,-999.0000,2,      0.254,2
33RO20150410,     P16N.1,      39,          1,         19,         19,2,20150421,       1651,    -1.8900,  -151.0000,       4893,   133.5,  25.2742,  35.6024,2,  35.5912,2,    168.1,2,   170.6,2,    2.50,2,    5.10,2,    2.80,2,    0.72,4,-999.000,9,-999.000,9,-999.000,9,  -999.0,9,  -999.0,9,-999.0000,9,  -999.00,-999.000,9,-999.0000,9, -999.00,9,  25.3327, -999.00,9,  -999.0,9,  -999.0,-999.000,9,-999.000,  -999.0,9, -999.00,9,     -999.0,9, -999.00,9,-999.000,-999.0000, -999.00,     -999.0,     -999.0,9,     -999.0,     -999.0,9,     -999.0,  -999.0,9,     -999.0,     -999.0,9,     -999.0,  25.2449,    35.7590,2,-999.0000,3,      0.153,2
33RO20150410,     P16N.1,      39,          1,         18,         18,2,20150421,       1651,    -1.8900,  -151.0000,       4893,   201.6,  13.2410,  34.9448,2,  34.9464,2,     27.9,2,    27.9,2,   20.50,2,   29.80,2,    0.02,2,    1.98,4,-999.000,9,-999.000,9,-999.000,9,  -999.0,9,  -999.0,9,-999.0000,9,  -999.00,-999.000,9,-999.0000,9, -999.00,9,  13.2491, -999.00,9,  -999.0,9,  -999.0,-999.000,9,-999.000,  -999.0,9, -999.00,9,     -999.0,9, -999.00,9,-999.000,-999.0000, -999.00,     -999.0,     -999.0,9,     -999.0,     -999.0,9,     -999.0,  -999.0,9,     -999.0,     -999.0,9,     -999.0,  13.2129,    35.1112,2,-999.0000,3,      0.015,2
33RO20150410,     P16N.1,      39,          1,         17,         17,2,20150421,       1651,    -1.8900,  -151.0000,       4893,   276.1,  11.5661,  34.8224,2,  34.8230,2,     50.0,2,    49.4,2,   25.00,2,   29.80,2,    0.01,2,    1.97,4,-999.000,9,-999.000,9,-999.000,9,  -999.0,9,  -999.0,9,-999.0000,9,  -999.00,-999.000,9,-999.0000,9, -999.00,9,  11.5668, -999.00,9,  -999.0,9,  -999.0,-999.000,9,-999.000,  -999.0,9, -999.00,9,     -999.0,9, -999.00,9,-999.000,-999.0000, -999.00,     -999.0,     -999.0,9,     -999.0,     -999.0,9,     -999.0,  -999.0,9,     -999.0,     -999.0,9,     -999.0,  11.5309,    34.9872,6,-999.0000,2,     -999.0,9
33RO20150410,     P16N.1,      39,          1,         16,         16,2,20150421,       1651,    -1.8900,  -151.0000,       4893,   367.4,  10.7185,  34.7694,2,  34.7704,2,     41.0,2,    36.4,2,   28.80,2,   32.60,2,    0.01,2,    2.14,4,-999.000,9,-999.000,9,-999.000,9,  -999.0,9,  -999.0,9,-999.0000,9,  -999.00,-999.000,9,-999.0000,9, -999.00,9,  10.7194, -999.00,9,  -999.0,9,  -999.0,-999.000,9,-999.000,  -999.0,9, -999.00,9,     -999.0,9, -999.00,9,-999.000,-999.0000, -999.00,     -999.0,     -999.0,9,     -999.0,     -999.0,9,     -999.0,  -999.0,9,     -999.0,     -999.0,9,     -999.0,  10.6737,    34.9344,2,-999.0000,2,     -999.0,9
33RO20150410,     P16N.1,      39,          1,         15,         15,2,20150421,       1651,    -1.8900,  -151.0000,       4893,   466.8,   8.5283,  34.6522,2,  34.6718,4,     36.4,2,    39.4,2,   36.30,2,   36.40,2,    0.02,2,    2.42,4,-999.000,9,-999.000,9,-999.000,9,  -999.0,9,  -999.0,9,-999.0000,9,  -999.00,-999.000,9,-999.0000,9, -999.00,9,   8.5245, -999.00,9,  -999.0,9,  -999.0,-999.000,9,-999.000,  -999.0,9, -999.00,9,     -999.0,9, -999.00,9,-999.000,-999.0000, -999.00,     -999.0,     -999.0,9,     -999.0,     -999.0,9,     -999.0,  -999.0,9,     -999.0,     -999.0,9,     -999.0,   8.4786,    34.8352,2,-999.0000,2,     -999.0,9
33RO20150410,     P16N.1,      39,          1,         14,         14,2,20150421,       1651,    -1.8900,  -151.0000,       4893,   600.0,   6.5107,  34.5602,2,  34.5647,2,     65.4,2,    65.1,2,   52.60,2,   38.40,2,    0.01,2,    2.58,4,-999.000,9,-999.000,9,-999.000,9,  -999.0,9,  -999.0,9,-999.0000,9,  -999.00,-999.000,9,-999.0000,9, -999.00,9,   6.5094, -999.00,9,  -999.0,9,  -999.0,-999.000,9,-999.000,  -999.0,9, -999.00,9,     -999.0,9, -999.00,9,-999.000,-999.0000, -999.00,     -999.0,     -999.0,9,     -999.0,     -999.0,9,     -999.0,  -999.0,9,     -999.0,     -999.0,9,     -999.0,   6.4555,    34.7277,2,-999.0000,2,     -999.0,9
33RO20150410,     P16N.1,      39,          1,         13,         13,2,20150421,       1651,    -1.8900,  -151.0000,       4893,   750.2,   5.8512,  34.5476,2,  34.5553,2,     74.0,2,    73.0,2,   60.70,2,   38.50,2,    0.01,2,    2.63,4,-999.000,9,-999.000,9,-999.000,9,  -999.0,9,  -999.0,9,-999.0000,9,  -999.00,-999.000,9,-999.0000,9, -999.00,9,   5.8510, -999.00,9,  -999.0,9,  -999.0,-999.000,9,-999.000,  -999.0,9, -999.00,9,     -999.0,9, -999.00,9,-999.000,-999.0000, -999.00,     -999.0,     -999.0,9,     -999.0,     -999.0,9,     -999.0,  -999.0,9,     -999.0,     -999.0,9,     -999.0,   5.7851,    34.7182,2,-999.0000,2,     -999.0,9
33RO20150410,     P16N.1,      39,          1,         12,         12,2,20150421,       1651,    -1.8900,  -151.0000,       4893,   901.4,   5.1111,  34.5420,2,  34.5421,2,     87.0,2,    86.9,2,   70.00,2,   38.20,2,    0.01,2,    2.63,4,-999.000,9,-999.000,9,-999.000,9,  -999.0,9,  -999.0,9,-999.0000,9,  -999.00,-999.000,9,-999.0000,9, -999.00,9,   5.1115, -999.00,9,  -999.0,9,  -999.0,-999.000,9,-999.000,  -999.0,9, -999.00,9,     -999.0,9, -999.00,9,-999.000,-999.0000, -999.00,     -999.0,     -999.0,9,     -999.0,     -999.0,9,     -999.0,  -999.0,9,     -999.0,     -999.0,9,     -999.0,   5.0358,    34.7050,2,-999.0000,2,     -999.0,9
33RO20150410,     P16N.1,      39,          1,         11,         11,2,20150421,       1651,    -1.8900,  -151.0000,       4893,  1050.1,   4.3698,  34.5538,2,  34.5539,2,     90.1,2,    89.7,2,   84.30,2,   38.60,2,    0.01,2,    2.70,4,-999.000,9,-999.000,9,-999.000,9,  -999.0,9,  -999.0,9,-999.0000,9,  -999.00,-999.000,9,-999.0000,9, -999.00,9,   4.3701, -999.00,9,  -999.0,9,  -999.0,-999.000,9,-999.000,  -999.0,9, -999.00,9,     -999.0,9, -999.00,9,-999.000,-999.0000, -999.00,     -999.0,     -999.0,9,     -999.0,     -999.0,9,     -999.0,  -999.0,9,     -999.0,     -999.0,9,     -999.0,   4.2869,    34.7168,2,-999.0000,2,     -999.0,9
33RO20150410,     P16N.1,      39,          1,         10,         10,2,20150421,       1651,    -1.8900,  -151.0000,       4893,  1233.0,   3.7673,  34.5712,2,  34.5706,2,     94.2,2,    93.8,2,   97.50,2,   38.80,2,    0.01,2,    2.75,4,-999.000,9,-999.000,9,-999.000,9,  -999.0,9,  -999.0,9,-999.0000,9,  -999.00,-999.000,9,-999.0000,9, -999.00,9,   3.7688, -999.00,9,  -999.0,9,  -999.0,-999.000,9,-999.000,  -999.0,9, -999.00,9,     -999.0,9, -999.00,9,-999.000,-999.0000, -999.00,     -999.0,     -999.0,9,     -999.0,     -999.0,9,     -999.0,  -999.0,9,     -999.0,     -999.0,9,     -999.0,   3.6739,    34.7336,2,-999.0000,2,     -999.0,9
33RO20150410,     P16N.1,      39,          1,          9,          9,2,20150421,       1651,    -1.8900,  -151.0000,       4893,  1501.7,   3.1064,  34.5962,2,  34.5971,2,    102.4,2,   101.6,2,  112.10,2,   38.30,2,    0.01,2,    2.75,4,-999.000,9,-999.000,9,-999.000,9,  -999.0,9,  -999.0,9,-999.0000,9,  -999.00,-999.000,9,-999.0000,9, -999.00,9,   3.1061, -999.00,9,  -999.0,9,  -999.0,-999.000,9,-999.000,  -999.0,9, -999.00,9,     -999.0,9, -999.00,9,-999.000,-999.0000, -999.00,     -999.0,     -999.0,9,     -999.0,     -999.0,9,     -999.0,  -999.0,9,     -999.0,     -999.0,9,     -999.0,   2.9971,    34.7602,2,-999.0000,3,     -999.0,9
33RO20150410,     P16N.1,      39,          1,          8,          8,2,20150421,       1651,    -1.8900,  -151.0000,       4893,  1868.4,   2.4577,  34.6302,2,  34.6290,2,    105.8,2,   106.2,2,  130.70,2,   38.30,2,    0.01,2,    2.79,4,-999.000,9,-999.000,9,-999.000,9,  -999.0,9,  -999.0,9,-999.0000,9,  -999.00,-999.000,9,-999.0000,9, -999.00,9,   2.4576, -999.00,9,  -999.0,9,  -999.0,-999.000,9,-999.000,  -999.0,9, -999.00,9,     -999.0,9, -999.00,9,-999.000,-999.0000, -999.00,     -999.0,     -999.0,9,     -999.0,     -999.0,9,     -999.0,  -999.0,9,     -999.0,     -999.0,9,     -999.0,   2.3256,    34.7923,2,-999.0000,3,     -999.0,9
33RO20150410,     P16N.1,      39,          1,          7,          7,2,20150421,       1651,    -1.8900,  -151.0000,       4893,  2267.4,   2.0445,  34.6530,2,  34.6537,2,    118.6,2,   119.4,2,  138.70,2,   37.60,2,    0.01,2,    2.74,4,-999.000,9,-999.000,9,-999.000,9,  -999.0,9,  -999.0,9,-999.0000,9,  -999.00,-999.000,9,-999.0000,9, -999.00,9,   2.0442, -999.00,9,  -999.0,9,  -999.0,-999.000,9,-999.000,  -999.0,9, -999.00,9,     -999.0,9, -999.00,9,-999.000,-999.0000, -999.00,     -999.0,     -999.0,9,     -999.0,     -999.0,9,     -999.0,  -999.0,9,     -999.0,     -999.0,9,     -999.0,   1.8842,    34.8171,6,-999.0000,2,     -999.0,9
33RO20150410,     P16N.1,      39,          1,          6,          6,2,20150421,       1651,    -1.8900,  -151.0000,       4893,  2668.5,   1.8070,  34.6663,2,  34.6690,2,    131.5,2,   131.2,2,  140.30,2,   36.80,2,    0.01,2,    2.68,4,-999.000,9,-999.000,9,-999.000,9,  -999.0,9,  -999.0,9,-999.0000,9,  -999.00,-999.000,9,-999.0000,9, -999.00,9,   1.8073, -999.00,9,  -999.0,9,  -999.0,-999.000,9,-999.000,  -999.0,9, -999.00,9,     -999.0,9, -999.00,9,-999.000,-999.0000, -999.00,     -999.0,     -999.0,9,     -999.0,     -999.0,9,     -999.0,  -999.0,9,     -999.0,     -999.0,9,     -999.0,   1.6149,    34.8325,2,-999.0000,2,     -999.0,9
33RO20150410,     P16N.1,      39,          1,          5,          5,2,20150421,       1651,    -1.8900,  -151.0000,       4893,  3067.1,   1.6523,  34.6760,2,  34.6759,2,    141.5,2,   141.5,2,  140.50,2,   36.00,2,    0.01,2,    2.63,4,-999.000,9,-999.000,9,-999.000,9,  -999.0,9,  -999.0,9,-999.0000,9,  -999.00,-999.000,9,-999.0000,9, -999.00,9,   1.6523, -999.00,9,  -999.0,9,  -999.0,-999.000,9,-999.000,  -999.0,9, -999.00,9,     -999.0,9, -999.00,9,-999.000,-999.0000, -999.00,     -999.0,     -999.0,9,     -999.0,     -999.0,9,     -999.0,  -999.0,9,     -999.0,     -999.0,9,     -999.0,   1.4256,    34.8394,2,-999.0000,2,     -999.0,9
33RO20150410,     P16N.1,      39,          1,          4,          4,2,20150421,       1651,    -1.8900,  -151.0000,       4893,  3466.8,   1.5203,  34.6850,2,  34.6840,2,    149.9,2,   150.2,2,  142.40,6,   35.70,6,    0.01,6,    2.58,4,-999.000,9,-999.000,9,-999.000,9,  -999.0,9,  -999.0,9,-999.0000,9,  -999.00,-999.000,9,-999.0000,9, -999.00,9,   1.5206, -999.00,9,  -999.0,9,  -999.0,-999.000,9,-999.000,  -999.0,9, -999.00,9,     -999.0,9, -999.00,9,-999.000,-999.0000, -999.00,     -999.0,     -999.0,9,     -999.0,     -999.0,9,     -999.0,  -999.0,9,     -999.0,     -999.0,9,     -999.0,   1.2570,    34.8476,2,-999.0000,2,     -999.0,9
33RO20150410,     P16N.1,      39,          1,          3,          3,2,20150421,       1651,    -1.8900,  -151.0000,       4893,  3867.6,   1.4191,  34.6927,2,  34.6920,2,    159.8,2,   159.2,2,  142.10,6,   35.10,6,    0.01,6,    2.53,4,-999.000,9,-999.000,9,-999.000,9,  -999.0,9,  -999.0,9,-999.0000,9,  -999.00,-999.000,9,-999.0000,9, -999.00,9,   1.4190, -999.00,9,  -999.0,9,  -999.0,-999.000,9,-999.000,  -999.0,9, -999.00,9,     -999.0,9, -999.00,9,-999.000,-999.0000, -999.00,     -999.0,     -999.0,9,     -999.0,     -999.0,9,     -999.0,  -999.0,9,     -999.0,     -999.0,9,     -999.0,   1.1166,    34.8556,2,-999.0000,2,     -999.0,9
33RO20150410,     P16N.1,      39,          1,          2,          2,2,20150421,       1651,    -1.8900,  -151.0000,       4893,  4334.2,   1.3957,  34.6962,2,  34.6956,2,    168.6,2,   168.3,2,  137.20,6,   34.40,6,    0.01,6,    2.48,4,-999.000,9,-999.000,9,-999.000,9,  -999.0,9,  -999.0,9,-999.0000,9,  -999.00,-999.000,9,-999.0000,9, -999.00,9,   1.3959, -999.00,9,  -999.0,9,  -999.0,-999.000,9,-999.000,  -999.0,9, -999.00,9,     -999.0,9, -999.00,9,-999.000,-999.0000, -999.00,     -999.0,     -999.0,9,     -999.0,     -999.0,9,     -999.0,  -999.0,9,     -999.0,     -999.0,9,     -999.0,   1.0427,    34.8592,2,-999.0000,2,     -999.0,9
33RO20150410,     P16N.1,      39,          1,          1,          1,2,20150421,       1651,    -1.8900,  -151.0000,       4893,  4883.2,   1.3413,  34.7013,2,  34.7010,2,    184.4,2,   183.3,2,  127.80,6,   33.30,6,    0.01,6,    2.38,4,-999.000,9,-999.000,9,-999.000,9,  -999.0,9,  -999.0,9,-999.0000,9,  -999.00,-999.000,9,-999.0000,9, -999.00,9,   1.3414, -999.00,9,  -999.0,9,  -999.0,-999.000,9,-999.000,  -999.0,9, -999.00,9,     -999.0,9, -999.00,9,-999.000,-999.0000, -999.00,     -999.0,     -999.0,9,     -999.0,     -999.0,9,     -999.0,  -999.0,9,     -999.0,     -999.0,9,     -999.0,   0.9263,    34.8647,2,-999.0000,2,     -999.0,9