BOTTLE,20210709CCHSIOCBG
EXPOCODE,SECT_ID,STNNBR,CASTNO,SAMPNO,BTLNBR,BTLNBR_FLAG_W,DATE,TIME,LATITUDE,LONGITUDE,DEPTH,CTDPRS,CTDTMP,CTDSAL,CTDSAL_FLAG_W,SALNTY,SALNTY_FLAG_W,CTDOXY,CTDOXY_FLAG_W,OXYGEN,OXYGEN_FLAG_W,SILCAT,SILCAT_FLAG_W,NITRAT,NITRAT_FLAG_W,NITRIT,NITRIT_FLAG_W,PHSPHT,PHSPHT_FLAG_W,CFC-11,CFC-11_FLAG_W,CFC-12,CFC-12_FLAG_W,SF6,SF6_FLAG_W,TCARBN,TCARBN_FLAG_W,ALKALI,ALKALI_FLAG_W,PH_TOT,PH_TOT_FLAG_W,PH_TMP,TRITUM,TRITUM_FLAG_W,HELIUM,HELIUM_FLAG_W,DELHE3,DELHE3_FLAG_W,REFTMP,DELC13,DELC13_FLAG_W,DELC14,DELC14_FLAG_W,C14ERR,NEON,NEON_FLAG_W,NEONER,DOC,DOC_FLAG_W,TDN,TDN_FLAG_W,N2O,N2O_FLAG_W,ARGON,ARGON_FLAG_W,TRITER,HELIER,DELHER,ARGONER,KRYPTON,KRYPTON_FLAG_W,KRYPTONER,XENON,XENON_FLAG_W,XENONER,14C-DOC,14C-DOC_FLAG_W,14C-DOCERR,13C-DOC,13C-DOC_FLAG_W,13C-DOCERR,THETA,SALTREF,SALTREF_FLAG_W,SBE35,SBE35_FLAG_W,CHLORA,CHLORA_FLAG_W
,,,,,,,,,,,METERS,DBAR,ITS-90,PSS-78,,PSS-78,,UMOL/KG,,UMOL/KG,,UMOL/KG,,UMOL/KG,,UMOL/KG,,UMOL/KG,,PMOL/KG,,PMOL/KG,,FMOL/KG,,UMOL/KG,,UMOL/KG,,,,DEG C,TU,,NMOL/KG,,PERCNT,,DEG C,/MILLE,,/MILLE,,/MILLE,NMOL/KG,,NMOL/KG,UMOL/KG,,UMOL/KG,,NMOL/KG,,UMOL/KG,,TU,NMOL/KG,PERCNT,UMOL/KG,NMOL/KG,,NMOL/KG,NMOL/KG,,NMOL/KG,/MILLE,,/MILLE,/MILLE,,/MILLE,DEG C,G/KG,,ITS-90,,MG/M3,
33RO20150410,     P16N.1,      73,          3,         24,         24,2,20150430,       0128,     4.0000,  -150.9999,       5182,     4.9,  28.9613,  34.9205,2,  34.9210,2,    198.6,2,   199.7,2,    1.60,2,    1.40,2,    0.06,2,    0.38,2,   1.426,2,   0.937,2,   1.247,2,  1981.4,2,  2297.6,2,   8.0675,6,    25.00,-999.000,9,-999.0000,9, -999.00,9,  28.9620, -999.00,9,  -999.0,9,  -999.0,-999.000,9,-999.000,    62.3,2,    6.40,2,      6.109,3, -999.00,9,-999.000,-999.0000, -999.00,     -999.0,     -999.0,9,     -999.0,     -999.0,9,     -999.0,  -999.0,9,     -999.0,     -999.0,9,     -999.0,  28.9601,    35.0856,2,-999.0000,2,      0.292,2
33RO20150410,     P16N.1,      73,          3,         23,         23,2,20150430,       0128,     4.0000,  -150.9999,       5182,    20.5,  28.9712,  34.9198,2,  34.9212,2,    199.3,2,   199.7,2,    1.60,2,    1.40,2,    0.06,2,    0.42,2,-999.000,9,-999.000,9,-999.000,9,  1981.1,6,  2296.4,2,   8.0669,6,    25.00,-999.000,9,-999.0000,9, -999.00,9,  28.9713, -999.00,9,  -999.0,9,  -999.0,-999.000,9,-999.000,    62.7,2,    7.10,2,     -999.0,9, -999.00,9,-999.000,-999.0000, -999.00,     -999.0,     -999.0,9,     -999.0,     -999.0,9,     -999.0,  -999.0,9,     -999.0,     -999.0,9,     -999.0,  28.9662,    35.0859,2,-999.0000,2,      0.321,2
33RO20150410,     P16N.1,      73,          3,         22,         22,2,20150430,       0128,     4.0000,  -150.9999,       5182,    42.2,  28.9686,  34.9296,2,  34.9321,2,    199.5,2,   199.6,2,    1.50,2,    1.50,2,    0.07,2,    0.42,2,   1.433,2,   0.938,2,    1.21,2,  1982.2,2,  2298.3,6,   8.0654,2,    24.99,-999.000,9,-999.0000,9, -999.00,9,  28.9685, -999.00,9,  -999.0,9,  -999.0,-999.000,9,-999.000,    64.1,2,    6.60,2,      6.181,3, -999.00,9,-999.000,-999.0000, -999.00,     -999.0,     -999.0,9,     -999.0,     -999.0,9,     -999.0,  -999.0,9,     -999.0,     -999.0,9,     -999.0,  28.9584,    35.0968,2,-999.0000,2,      0.349,2
33RO20150410,     P16N.1,      73,          3,         21,         21,2,20150430,       0128,     4.0000,  -150.9999,       5182,    68.2,  28.3711,  35.0923,2,  35.0925,2,    200.5,2,   199.9,2,    1.90,2,    2.70,2,    0.18,2,    0.52,2,-999.000,9,-999.000,9,-999.000,9,  2007.0,2,  2306.6,2,   8.0393,2,    24.98,-999.000,9,-999.0000,9, -999.00,9,  28.3711, -999.00,9,  -999.0,9,  -999.0,-999.000,9,-999.000,    64.4,2,    7.50,2,     -999.0,9, -999.00,9,-999.000,-999.0000, -999.00,     -999.0,     -999.0,9,     -999.0,     -999.0,9,     -999.0,  -999.0,9,     -999.0,     -999.0,9,     -999.0,  28.3549,    35.2580,6,-999.0000,2,      0.315,2
33RO20150410,     P16N.1,      73,          3,         20,         20,2,20150430,       0128,     4.0000,  -150.9999,       5182,    92.6,  27.8297,  35.0584,2,  35.0553,2,    191.4,2,   191.4,2,    1.90,2,    3.00,2,    0.26,2,    0.57,2,   1.510,2,   0.975,2,   1.217,2,  2013.8,2,  2305.6,2,   8.0247,2,    24.98,-999.000,9,-999.0000,9, -999.00,9,  27.8307, -999.00,9,  -999.0,9,  -999.0,-999.000,9,-999.000,    60.7,2,    9.20,2,      6.816,3, -999.00,9,-999.000,-999.0000, -999.00,     -999.0,     -999.0,9,     -999.0,     -999.0,9,     -999.0,  -999.0,9,     -999.0,     -999.0,9,     -999.0,  27.8080,    35.2206,2,-999.0000,2,      0.229,2
33RO20150410,     P16N.1,      73,          3,         19,         19,2,20150430,       0128,     4.0000,  -150.9999,       5182,   132.8,  20.9297,  34.8621,2,  34.8639,2,    125.8,2,   126.1,2,    7.20,2,   10.60,2,    0.03,2,    0.96,2,   1.897,2,   1.148,2,    1.12,2,  2090.3,2,  2291.7,2,   7.8561,2,    24.99,-999.000,9,-999.0000,9, -999.00,9,  20.8959, -999.00,9,  -999.0,9,  -999.0,-999.000,9,-999.000,    52.3,2,   15.10,2,     17.407,3, -999.00,9,-999.000,-999.0000, -999.00,     -999.0,     -999.0,9,     -999.0,     -999.0,9,     -999.0,  -999.0,9,     -999.0,     -999.0,9,     -999.0,  20.9044,    35.0283,2,-999.0000,2,      0.060,2
33RO20150410,     P16N.1,      73,          3,         18,         18,2,20150430,       0128,     4.0000,  -150.9999,       5182,   201.3,  11.3072,  34.6343,2,  34.6365,2,     49.1,2,    48.7,2,   28.20,2,   30.10,2,    0.01,2,    2.27,2,   1.062,2,   0.582,2,   0.254,2,  2226.8,2,  2295.2,2,   7.5119,2,    24.98,-999.000,9,-999.0000,9, -999.00,9,  11.3223, -999.00,9,  -999.0,9,  -999.0,-999.000,9,-999.000,    45.1,2,   33.50,2,     59.202,3, -999.00,9,-999.000,-999.0000, -999.00,     -999.0,     -999.0,9,     -999.0,     -999.0,9,     -999.0,  -999.0,9,     -999.0,     -999.0,9,     -999.0,  11.2820,    34.7998,2,-999.0000,2,      0.006,2
33RO20150410,     P16N.1,      73,          3,         17,         17,2,20150430,       0128,     4.0000,  -150.9999,       5182,   276.2,   9.8904,  34.6755,2,  34.6743,2,     84.7,2,    81.0,2,   29.20,2,   29.90,2,    0.00,2,    2.18,2,   0.934,6,   0.504,6,   0.235,6,  2217.0,2,  2302.3,2,   7.5564,6,    25.00,-999.000,9,-999.0000,9, -999.00,9,   9.8890, -999.00,9,  -999.0,9,  -999.0,-999.000,9,-999.000,    44.2,2,   33.10,2,     38.960,3, -999.00,9,-999.000,-999.0000, -999.00,     -999.0,     -999.0,9,     -999.0,     -999.0,9,     -999.0,  -999.0,9,     -999.0,     -999.0,9,     -999.0,   9.8586,    34.8378,2,-999.0000,2,     -999.0,9
33RO20150410,     P16N.1,      73,          3,         16,         16,2,20150430,       0128,     4.0000,  -150.9999,       5182,   367.7,   9.1788,  34.6583,2,  34.6582,2,     57.5,2,    51.0,2,   33.80,2,   34.50,2,    0.01,2,    2.48,2,   0.521,2,   0.279,2,   0.096,2,  2245.7,6,  2304.4,2,   7.4785,2,    24.98,-999.000,9,-999.0000,9, -999.00,9,   9.1739, -999.00,9,  -999.0,9,  -999.0,-999.000,9,-999.000,    43.2,2, -999.00,9,     46.774,3, -999.00,9,-999.000,-999.0000, -999.00,     -999.0,     -999.0,9,     -999.0,     -999.0,9,     -999.0,  -999.0,9,     -999.0,     -999.0,9,     -999.0,   9.1381,    34.8216,2,-999.0000,2,     -999.0,9
33RO20150410,     P16N.1,      73,          3,         15,         15,2,20150430,       0128,     4.0000,  -150.9999,       5182,   467.7,   8.3834,  34.6204,2,  34.6225,2,     42.3,2,    40.4,2,   39.40,2,   37.00,2,    0.01,2,    2.65,2,   0.272,2,   0.145,2,   0.057,2,  2260.4,2,  2308.4,2,   7.4417,2,    24.98,-999.000,9,-999.0000,9, -999.00,9,   8.3888, -999.00,9,  -999.0,9,  -999.0,-999.000,9,-999.000,    41.6,2, -999.00,9,     48.751,3, -999.00,9,-999.000,-999.0000, -999.00,     -999.0,     -999.0,9,     -999.0,     -999.0,9,     -999.0,  -999.0,9,     -999.0,     -999.0,9,     -999.0,   8.3342,    34.7857,2,-999.0000,9,     -999.0,9
33RO20150410,     P16N.1,      73,          3,         14,         14,2,20150430,       0128,     4.0000,  -150.9999,       5182,   601.1,   6.8320,  34.5668,2,  34.5665,2,     55.4,2,    53.5,2,   50.90,2,   39.10,2,    0.01,2,    2.85,2,   0.101,2,   0.056,2,       0,2,  2273.6,2,  2318.9,2,   7.4388,2,    24.98,-999.000,9,-999.0000,9, -999.00,9,   6.8378, -999.00,9,  -999.0,9,  -999.0,-999.000,9,-999.000,    42.1,2, -999.00,9,     43.181,3, -999.00,9,-999.000,-999.0000, -999.00,     -999.0,     -999.0,9,     -999.0,     -999.0,9,     -999.0,  -999.0,9,     -999.0,     -999.0,9,     -999.0,   6.7752,    34.7295,2,-999.0000,9,     -999.0,9
33RO20150410,     P16N.1,      73,          3,         13,         13,2,20150430,       0128,     4.0000,  -150.9999,       5182,   751.0,   5.7204,  34.5463,2,  34.5465,2,     65.4,2,    65.3,2,   64.70,2,   39.90,2,    0.00,2,    2.88,2,   0.041,2,   0.025,2,       0,2,  2282.9,2,  2332.9,2,   7.4475,6,    25.01,-999.000,9,-999.0000,9, -999.00,9,   5.7199, -999.00,9,  -999.0,9,  -999.0,-999.000,9,-999.000,    40.7,2, -999.00,9,     39.195,3, -999.00,9,-999.000,-999.0000, -999.00,     -999.0,     -999.0,9,     -999.0,     -999.0,9,     -999.0,  -999.0,9,     -999.0,     -999.0,9,     -999.0,   5.6550,    34.7094,2,-999.0000,2,     -999.0,9
33RO20150410,     P16N.1,      73,          3,         12,         12,2,20150430,       0128,     4.0000,  -150.9999,       5182,   898.5,   5.0041,  34.5490,2,  34.5491,2,     74.1,2,    74.3,2,   75.50,2,   40.00,2,    0.00,2,    2.88,2,-999.000,9,-999.000,9,-999.000,9,  2292.8,2,  2345.7,2,   7.4579,2,    24.98,-999.000,9,-999.0000,9, -999.00,9,   5.0050, -999.00,9,  -999.0,9,  -999.0,-999.000,9,-999.000,    39.7,2, -999.00,9,     -999.0,9, -999.00,9,-999.000,-999.0000, -999.00,     -999.0,     -999.0,9,     -999.0,     -999.0,9,     -999.0,  -999.0,9,     -999.0,     -999.0,9,     -999.0,   4.9298,    34.7121,2,-999.0000,2,     -999.0,9
33RO20150410,     P16N.1,      73,          3,         11,         11,2,20150430,       0128,     4.0000,  -150.9999,       5182,  1049.7,   4.3997,  34.5606,2,  34.5608,2,     76.7,2,    76.2,2,   87.90,2,   40.30,2,    0.00,2,    2.93,2,-999.000,9,-999.000,9,-999.000,9,  2306.4,2,  2359.3,2,   7.4578,2,    24.98,-999.000,9,-999.0000,9, -999.00,9,   4.4005, -999.00,9,  -999.0,9,  -999.0,-999.000,9,-999.000,    38.6,2, -999.00,9,     -999.0,9, -999.00,9,-999.000,-999.0000, -999.00,     -999.0,     -999.0,9,     -999.0,     -999.0,9,     -999.0,  -999.0,9,     -999.0,     -999.0,9,     -999.0,   4.3166,    34.7237,2,-999.0000,2,     -999.0,9
33RO20150410,     P16N.1,      73,          3,         10,         10,2,20150430,       0128,     4.0000,  -150.9999,       5182,  1232.7,   3.8777,  34.5754,2,  34.5755,2,     77.7,2,    77.4,2,   99.70,2,   40.40,2,    0.00,2,    2.95,2,   0.003,2,   0.001,2,       0,2,  2319.8,2,  2370.1,2,   7.4572,2,    24.98,-999.000,9,-999.0000,9, -999.00,9,   3.8775, -999.00,9,  -999.0,9,  -999.0,-999.000,9,-999.000,    39.3,2, -999.00,9,     33.576,3, -999.00,9,-999.000,-999.0000, -999.00,     -999.0,     -999.0,9,     -999.0,     -999.0,9,     -999.0,  -999.0,9,     -999.0,     -999.0,9,     -999.0,   3.7833,    34.7386,2,-999.0000,2,     -999.0,9
33RO20150410,     P16N.1,      73,          3,          9,          9,2,20150430,       0128,     4.0000,  -150.9999,       5182,  1500.6,   3.1553,  34.6008,2,  34.6009,2,     86.0,2,    85.5,2,  116.30,2,   40.50,2,    0.01,2,    2.91,2,-999.000,9,-999.000,9,-999.000,9,  2333.4,2,  2391.1,2,   7.4690,2,    24.98,-999.000,9,-999.0000,9, -999.00,9,   3.1554, -999.00,9,  -999.0,9,  -999.0,-999.000,9,-999.000,    37.9,2, -999.00,9,     -999.0,9, -999.00,9,-999.000,-999.0000, -999.00,     -999.0,     -999.0,9,     -999.0,     -999.0,9,     -999.0,  -999.0,9,     -999.0,     -999.0,9,     -999.0,   3.0456,    34.7641,2,-999.0000,2,     -999.0,9
33RO20150410,     P16N.1,      73,          3,          8,          8,2,20150430,       0128,     4.0000,  -150.9999,       5182,  1866.1,   2.4450,  34.6334,2,  34.6342,2,     92.7,2,    92.9,2,  135.20,2,   40.20,2,    0.00,2,    2.88,2,-999.000,9,-999.000,9,-999.000,9,  2348.8,2,  2413.6,2,   7.4824,2,    24.98,-999.000,9,-999.0000,9, -999.00,9,   2.4453, -999.00,9,  -999.0,9,  -999.0,-999.000,9,-999.000,    37.5,2, -999.00,9,     -999.0,9, -999.00,9,-999.000,-999.0000, -999.00,     -999.0,     -999.0,9,     -999.0,     -999.0,9,     -999.0,  -999.0,9,     -999.0,     -999.0,9,     -999.0,   2.3133,    34.7975,2,-999.0000,2,     -999.0,9
33RO20150410,     P16N.1,      73,          3,          7,          7,2,20150430,       0128,     4.0000,  -150.9999,       5182,  2266.2,   1.9737,  34.6594,2,  34.6597,2,    110.1,2,   110.3,2,  145.00,2,   38.90,2,    0.00,2,    2.78,2,   0.008,3,   0.002,2,       0,2,  2349.4,2,  2427.5,2,   7.5169,2,    24.99,-999.000,9,-999.0000,9, -999.00,9,   1.9734, -999.00,9,  -999.0,9,  -999.0,-999.000,9,-999.000,    37.9,2, -999.00,9,     24.570,3, -999.00,9,-999.000,-999.0000, -999.00,     -999.0,     -999.0,9,     -999.0,     -999.0,9,     -999.0,  -999.0,9,     -999.0,     -999.0,9,     -999.0,   1.8147,    34.8232,2,-999.0000,2,     -999.0,9
33RO20150410,     P16N.1,      73,          3,          6,          6,2,20150430,       0128,     4.0000,  -150.9999,       5182,  2734.8,   1.7939,  34.6702,2,  34.6700,2,    119.7,2,   120.4,2,  147.70,2,   38.30,2,    0.01,2,    2.70,2,-999.000,9,-999.000,9,-999.000,9,  2347.5,2,  2431.3,2,   7.5340,2,    24.97,-999.000,9,-999.0000,9, -999.00,9,   1.7937, -999.00,9,  -999.0,9,  -999.0,-999.000,9,-999.000,    35.7,2, -999.00,9,     -999.0,9, -999.00,9,-999.000,-999.0000, -999.00,     -999.0,     -999.0,9,     -999.0,     -999.0,9,     -999.0,  -999.0,9,     -999.0,     -999.0,9,     -999.0,   1.5959,    34.8335,2,-999.0000,2,     -999.0,9
33RO20150410,     P16N.1,      73,          3,          5,          5,2,20150430,       0128,     4.0000,  -150.9999,       5182,  3232.2,   1.5801,  34.6814,2,  34.6804,2,    136.7,2,   137.6,2,  146.30,2,   37.20,2,    0.00,2,    2.62,2,-999.000,9,-999.000,9,-999.000,9,  2336.4,6,  2429.6,2,   7.5612,2,    24.98,-999.000,9,-999.0000,9, -999.00,9,   1.5800, -999.00,9,  -999.0,9,  -999.0,-999.000,9,-999.000,    37.5,2, -999.00,9,     -999.0,9, -999.00,9,-999.000,-999.0000, -999.00,     -999.0,     -999.0,9,     -999.0,     -999.0,9,     -999.0,  -999.0,9,     -999.0,     -999.0,9,     -999.0,   1.3389,    34.8440,2,-999.0000,2,     -999.0,9
33RO20150410,     P16N.1,      73,          3,          4,          4,2,20150430,       0128,     4.0000,  -150.9999,       5182,  3732.1,   1.4580,  34.6902,2,  34.6909,2,    152.1,2,   150.6,2,  142.30,6,   36.10,6,    0.00,6,    2.53,6,  -0.001,6,  -0.001,6,       0,6,  2324.2,2,  2426.0,2,   7.5863,6,    25.00,-999.000,9,-999.0000,9, -999.00,9,   1.4580, -999.00,9,  -999.0,9,  -999.0,-999.000,9,-999.000,    37.3,2, -999.00,9,     20.525,3, -999.00,9,-999.000,-999.0000, -999.00,     -999.0,     -999.0,9,     -999.0,     -999.0,9,     -999.0,  -999.0,9,     -999.0,     -999.0,9,     -999.0,   1.1688,    34.8545,2,-999.0000,2,     -999.0,9
33RO20150410,     P16N.1,      73,          3,          3,          3,2,20150430,       0128,     4.0000,  -150.9999,       5182,  4232.4,   1.3863,  34.6959,2,  34.6962,2,    165.0,2,   165.6,2,  136.90,6,   35.20,6,    0.00,6,    2.47,6,-999.000,9,-999.000,9,-999.000,9,  2305.4,3,  2417.5,2,   7.5980,2,    24.99,-999.000,9,-999.0000,9, -999.00,9,   1.3862, -999.00,9,  -999.0,9,  -999.0,-999.000,9,-999.000,    37.4,2, -999.00,9,     -999.0,9, -999.00,9,-999.000,-999.0000, -999.00,     -999.0,     -999.0,9,     -999.0,     -999.0,9,     -999.0,  -999.0,9,     -999.0,     -999.0,9,     -999.0,   1.0450,    34.8598,6,-999.0000,2,     -999.0,9
33RO20150410,     P16N.1,      73,          3,          2,          2,2,20150430,       0128,     4.0000,  -150.9999,       5182,  4731.7,   1.4064,  34.6973,2,  34.6977,2,    169.0,2,   169.7,2,  135.00,6,   34.90,6,    0.00,6,    2.47,6,-999.000,9,-999.000,9,-999.000,9,  2306.7,2,  2414.1,6,   7.6006,2,    25.01,-999.000,9,-999.0000,9, -999.00,9,   1.4064, -999.00,9,  -999.0,9,  -999.0,-999.000,9,-999.000,    37.9,2, -999.00,9,     -999.0,9, -999.00,9,-999.000,-999.0000, -999.00,     -999.0,     -999.0,9,     -999.0,     -999.0,9,     -999.0,  -999.0,9,     -999.0,     -999.0,9,     -999.0,   1.0072,    34.8613,2,-999.0000,2,     -999.0,9
33RO20150410,     P16N.1,      73,          3,          1,          1,2,20150430,       0128,     4.0000,  -150.9999,       5182,  5172.4,   1.4575,  34.6969,2,  34.6973,2,    170.7,2,   170.3,2,  134.50,6,   34.90,6,    0.01,6,    2.45,6,   0.001,2,   0.001,2,       0,2,  2306.7,2,  2412.3,2,   7.5992,6,    25.01,-999.000,9,-999.0000,9, -999.00,9,   1.4573, -999.00,9,  -999.0,9,  -999.0,-999.000,9,-999.000,    37.2,2, -999.00,9,     19.830,3, -999.00,9,-999.000,-999.0000, -999.00,     -999.0,     -999.0,9,     -999.0,     -999.0,9,     -999.0,  -999.0,9,     -999.0,     -999.0,9,     -999.0,   1.0034,    34.8609,2,-999.0000,2,     -999.0,9