BOTTLE,20210709CCHSIOCBG
EXPOCODE,SECT_ID,STNNBR,CASTNO,SAMPNO,BTLNBR,BTLNBR_FLAG_W,DATE,TIME,LATITUDE,LONGITUDE,DEPTH,CTDPRS,CTDTMP,CTDSAL,CTDSAL_FLAG_W,SALNTY,SALNTY_FLAG_W,CTDOXY,CTDOXY_FLAG_W,OXYGEN,OXYGEN_FLAG_W,SILCAT,SILCAT_FLAG_W,NITRAT,NITRAT_FLAG_W,NITRIT,NITRIT_FLAG_W,PHSPHT,PHSPHT_FLAG_W,CFC-11,CFC-11_FLAG_W,CFC-12,CFC-12_FLAG_W,SF6,SF6_FLAG_W,TCARBN,TCARBN_FLAG_W,ALKALI,ALKALI_FLAG_W,PH_TOT,PH_TOT_FLAG_W,PH_TMP,TRITUM,TRITUM_FLAG_W,HELIUM,HELIUM_FLAG_W,DELHE3,DELHE3_FLAG_W,REFTMP,DELC13,DELC13_FLAG_W,DELC14,DELC14_FLAG_W,C14ERR,NEON,NEON_FLAG_W,NEONER,DOC,DOC_FLAG_W,TDN,TDN_FLAG_W,N2O,N2O_FLAG_W,ARGON,ARGON_FLAG_W,TRITER,HELIER,DELHER,ARGONER,KRYPTON,KRYPTON_FLAG_W,KRYPTONER,XENON,XENON_FLAG_W,XENONER,14C-DOC,14C-DOC_FLAG_W,14C-DOCERR,13C-DOC,13C-DOC_FLAG_W,13C-DOCERR,THETA,SALTREF,SALTREF_FLAG_W,SBE35,SBE35_FLAG_W,CHLORA,CHLORA_FLAG_W
,,,,,,,,,,,METERS,DBAR,ITS-90,PSS-78,,PSS-78,,UMOL/KG,,UMOL/KG,,UMOL/KG,,UMOL/KG,,UMOL/KG,,UMOL/KG,,PMOL/KG,,PMOL/KG,,FMOL/KG,,UMOL/KG,,UMOL/KG,,,,DEG C,TU,,NMOL/KG,,PERCNT,,DEG C,/MILLE,,/MILLE,,/MILLE,NMOL/KG,,NMOL/KG,UMOL/KG,,UMOL/KG,,NMOL/KG,,UMOL/KG,,TU,NMOL/KG,PERCNT,UMOL/KG,NMOL/KG,,NMOL/KG,NMOL/KG,,NMOL/KG,/MILLE,,/MILLE,/MILLE,,/MILLE,DEG C,G/KG,,ITS-90,,MG/M3,
33RO20150410,     P16N.1,      55,          1,         24,         24,2,20150425,       2051,     0.5830,  -150.9955,       4026,     5.2,  28.2976,  35.0851,2,  35.0857,2,    194.7,2,   196.1,2,    1.80,2,    3.00,2,    0.36,2,    0.41,4,-999.000,9,-999.000,9,-999.000,9,  2009.5,2,  2309.1,6,   8.0315,2,    25.00,-999.000,9,-999.0000,9, -999.00,9,-999.0000, -999.00,9,  -999.0,9,  -999.0,-999.000,9,-999.000,  -999.0,9, -999.00,9,     -999.0,9, -999.00,9,-999.000,-999.0000, -999.00,     -999.0,     -999.0,9,     -999.0,     -999.0,9,     -999.0,  -999.0,9,     -999.0,     -999.0,9,     -999.0,  28.2964,    35.2512,6,-999.0000,2,      0.195,2
33RO20150410,     P16N.1,      55,          1,         23,         23,2,20150425,       2051,     0.5830,  -150.9955,       4026,    20.2,  28.0800,  35.0822,2,  35.0803,2,    195.4,2,   195.1,2,    1.90,2,    3.00,2,    0.40,2,    0.40,4,-999.000,9,-999.000,9,-999.000,9,  -999.0,9,  -999.0,9,-999.0000,9,  -999.00,-999.000,9,-999.0000,9, -999.00,9,-999.0000, -999.00,9,  -999.0,9,  -999.0,-999.000,9,-999.000,  -999.0,9, -999.00,9,     -999.0,9, -999.00,9,-999.000,-999.0000, -999.00,     -999.0,     -999.0,9,     -999.0,     -999.0,9,     -999.0,  -999.0,9,     -999.0,     -999.0,9,     -999.0,  28.0752,    35.2457,2,-999.0000,2,      0.257,2
33RO20150410,     P16N.1,      55,          1,         22,         22,2,20150425,       2051,     0.5830,  -150.9955,       4026,    42.4,  27.7430,  35.0870,2,  35.0868,2,    188.9,2,   190.8,2,    2.00,2,    3.40,2,    0.61,2,    0.43,4,-999.000,9,-999.000,9,-999.000,9,  -999.0,9,  -999.0,9,-999.0000,9,  -999.00,-999.000,9,-999.0000,9, -999.00,9,-999.0000, -999.00,9,  -999.0,9,  -999.0,-999.000,9,-999.000,  -999.0,9, -999.00,9,     -999.0,9, -999.00,9,-999.000,-999.0000, -999.00,     -999.0,     -999.0,9,     -999.0,     -999.0,9,     -999.0,  -999.0,9,     -999.0,     -999.0,9,     -999.0,  27.7331,    35.2523,2,-999.0000,2,      0.359,2
33RO20150410,     P16N.1,      55,          1,         21,         21,2,20150425,       2051,     0.5830,  -150.9955,       4026,    67.1,  27.4868,  35.2321,2,  35.2309,2,    169.7,2,   168.7,2,    2.10,2,    5.30,2,    1.07,2,    0.55,4,-999.000,9,-999.000,9,-999.000,9,  -999.0,9,  -999.0,9,-999.0000,9,  -999.00,-999.000,9,-999.0000,9, -999.00,9,-999.0000, -999.00,9,  -999.0,9,  -999.0,-999.000,9,-999.000,  -999.0,9, -999.00,9,     -999.0,9, -999.00,9,-999.000,-999.0000, -999.00,     -999.0,     -999.0,9,     -999.0,     -999.0,9,     -999.0,  -999.0,9,     -999.0,     -999.0,9,     -999.0,  27.4712,    35.3970,2,-999.0000,2,      0.398,2
33RO20150410,     P16N.1,      55,          1,         20,         20,2,20150425,       2051,     0.5830,  -150.9955,       4026,    92.1,  26.9858,  35.2286,2,  35.2308,2,    154.4,2,   153.8,2,    2.30,2,    7.00,2,    0.10,2,    0.58,4,-999.000,9,-999.000,9,-999.000,9,  -999.0,9,  -999.0,9,-999.0000,9,  -999.00,-999.000,9,-999.0000,9, -999.00,9,-999.0000, -999.00,9,  -999.0,9,  -999.0,-999.000,9,-999.000,  -999.0,9, -999.00,9,     -999.0,9, -999.00,9,-999.000,-999.0000, -999.00,     -999.0,     -999.0,9,     -999.0,     -999.0,9,     -999.0,  -999.0,9,     -999.0,     -999.0,9,     -999.0,  26.9647,    35.3970,2,-999.0000,2,      0.286,2
33RO20150410,     P16N.1,      55,          1,         19,         19,2,20150425,       2051,     0.5830,  -150.9955,       4026,   115.6,  26.2693,  35.3551,2,  35.3530,2,    152.5,2,   150.6,2,    2.70,2,    8.40,2,    0.07,2,    0.68,4,-999.000,9,-999.000,9,-999.000,9,  -999.0,9,  -999.0,9,-999.0000,9,  -999.00,-999.000,9,-999.0000,9, -999.00,9,-999.0000, -999.00,9,  -999.0,9,  -999.0,-999.000,9,-999.000,  -999.0,9, -999.00,9,     -999.0,9, -999.00,9,-999.000,-999.0000, -999.00,     -999.0,     -999.0,9,     -999.0,     -999.0,9,     -999.0,  -999.0,9,     -999.0,     -999.0,9,     -999.0,  26.2433,    35.5197,2,-999.0000,2,      0.104,2
33RO20150410,     P16N.1,      55,          1,         18,         18,2,20150425,       2051,     0.5830,  -150.9955,       4026,   142.7,  19.0224,  35.1409,2,  35.1357,2,    132.4,2,   117.4,3,    7.70,2,   11.90,2,    0.03,2,    0.86,4,-999.000,9,-999.000,9,-999.000,9,  -999.0,9,  -999.0,9,-999.0000,9,  -999.00,-999.000,9,-999.0000,9, -999.00,9,-999.0000, -999.00,9,  -999.0,9,  -999.0,-999.000,9,-999.000,  -999.0,9, -999.00,9,     -999.0,9, -999.00,9,-999.000,-999.0000, -999.00,     -999.0,     -999.0,9,     -999.0,     -999.0,9,     -999.0,  -999.0,9,     -999.0,     -999.0,9,     -999.0,  18.9969,    35.3014,2,-999.0000,2,      0.027,2
33RO20150410,     P16N.1,      55,          1,         17,         17,2,20150425,       2051,     0.5830,  -150.9955,       4026,   182.4,  15.4637,  35.1315,2,  35.1308,2,    137.4,2,   134.3,2,    9.50,2,   15.50,2,    0.03,2,    1.09,4,-999.000,9,-999.000,9,-999.000,9,  -999.0,9,  -999.0,9,-999.0000,9,  -999.00,-999.000,9,-999.0000,9, -999.00,9,-999.0000, -999.00,9,  -999.0,9,  -999.0,-999.000,9,-999.000,  -999.0,9, -999.00,9,     -999.0,9, -999.00,9,-999.000,-999.0000, -999.00,     -999.0,     -999.0,9,     -999.0,     -999.0,9,     -999.0,  -999.0,9,     -999.0,     -999.0,9,     -999.0,  15.4355,    35.2965,2,-999.0000,2,     -999.0,9
33RO20150410,     P16N.1,      55,          1,         16,         16,2,20150425,       2051,     0.5830,  -150.9955,       4026,   250.0,  12.5009,  34.8696,2,  34.8687,2,    109.6,2,   107.8,2,   18.50,2,   22.80,2,    0.02,2,    1.54,4,-999.000,9,-999.000,9,-999.000,9,  -999.0,9,  -999.0,9,-999.0000,9,  -999.00,-999.000,9,-999.0000,9, -999.00,9,-999.0000, -999.00,9,  -999.0,9,  -999.0,-999.000,9,-999.000,  -999.0,9, -999.00,9,     -999.0,9, -999.00,9,-999.000,-999.0000, -999.00,     -999.0,     -999.0,9,     -999.0,     -999.0,9,     -999.0,  -999.0,9,     -999.0,     -999.0,9,     -999.0,  12.4674,    35.0331,2,-999.0000,2,     -999.0,9
33RO20150410,     P16N.1,      55,          1,         15,         15,2,20150425,       2051,     0.5830,  -150.9955,       4026,   325.4,  10.7243,  34.7621,2,  34.7625,2,     38.9,2,    38.9,2,   28.40,2,   32.50,2,    0.06,2,    2.13,4,-999.000,9,-999.000,9,-999.000,9,  -999.0,9,  -999.0,9,-999.0000,9,  -999.00,-999.000,9,-999.0000,9, -999.00,9,-999.0000, -999.00,9,  -999.0,9,  -999.0,-999.000,9,-999.000,  -999.0,9, -999.00,9,     -999.0,9, -999.00,9,-999.000,-999.0000, -999.00,     -999.0,     -999.0,9,     -999.0,     -999.0,9,     -999.0,  -999.0,9,     -999.0,     -999.0,9,     -999.0,  10.6847,    34.9265,2,-999.0000,2,     -999.0,9
33RO20150410,     P16N.1,      55,          1,         14,         14,2,20150425,       2051,     0.5830,  -150.9955,       4026,   398.2,   9.6488,  34.6995,2,  34.6995,2,     43.0,2,    42.3,2,   32.10,2,   34.60,2,    0.02,2,    2.27,4,-999.000,9,-999.000,9,-999.000,9,  -999.0,9,  -999.0,9,-999.0000,9,  -999.00,-999.000,9,-999.0000,9, -999.00,9,-999.0000, -999.00,9,  -999.0,9,  -999.0,-999.000,9,-999.000,  -999.0,9, -999.00,9,     -999.0,9, -999.00,9,-999.000,-999.0000, -999.00,     -999.0,     -999.0,9,     -999.0,     -999.0,9,     -999.0,  -999.0,9,     -999.0,     -999.0,9,     -999.0,   9.6033,    34.8631,2,-999.0000,2,     -999.0,9
33RO20150410,     P16N.1,      55,          1,         13,         13,2,20150425,       2051,     0.5830,  -150.9955,       4026,   475.5,   8.1161,  34.6217,2,  34.6215,2,     42.0,2,    44.9,2,   39.80,2,   37.60,2,    0.02,2,    2.48,4,-999.000,9,-999.000,9,-999.000,9,  -999.0,9,  -999.0,9,-999.0000,9,  -999.00,-999.000,9,-999.0000,9, -999.00,9,-999.0000, -999.00,9,  -999.0,9,  -999.0,-999.000,9,-999.000,  -999.0,9, -999.00,9,     -999.0,9, -999.00,9,-999.000,-999.0000, -999.00,     -999.0,     -999.0,9,     -999.0,     -999.0,9,     -999.0,  -999.0,9,     -999.0,     -999.0,9,     -999.0,   8.0670,    34.7847,2,-999.0000,2,     -999.0,9
33RO20150410,     P16N.1,      55,          1,         12,         12,2,20150425,       2051,     0.5830,  -150.9955,       4026,   567.3,   7.2937,  34.5857,2,  34.5857,2,     54.0,2,    53.4,2,   46.00,2,   38.10,2,    0.02,2,    2.55,4,-999.000,9,-999.000,9,-999.000,9,  -999.0,9,  -999.0,9,-999.0000,9,  -999.00,-999.000,9,-999.0000,9, -999.00,9,-999.0000, -999.00,9,  -999.0,9,  -999.0,-999.000,9,-999.000,  -999.0,9, -999.00,9,     -999.0,9, -999.00,9,-999.000,-999.0000, -999.00,     -999.0,     -999.0,9,     -999.0,     -999.0,9,     -999.0,  -999.0,9,     -999.0,     -999.0,9,     -999.0,   7.2382,    34.7488,2,-999.0000,2,     -999.0,9
33RO20150410,     P16N.1,      55,          1,         11,         11,2,20150425,       2051,     0.5830,  -150.9955,       4026,   698.8,   6.1823,  34.5547,2,  34.5556,2,     64.7,2,    64.7,2,   56.80,2,   39.40,2,    0.01,2,    2.67,4,-999.000,9,-999.000,9,-999.000,9,  -999.0,9,  -999.0,9,-999.0000,9,  -999.00,-999.000,9,-999.0000,9, -999.00,9,-999.0000, -999.00,9,  -999.0,9,  -999.0,-999.000,9,-999.000,  -999.0,9, -999.00,9,     -999.0,9, -999.00,9,-999.000,-999.0000, -999.00,     -999.0,     -999.0,9,     -999.0,     -999.0,9,     -999.0,  -999.0,9,     -999.0,     -999.0,9,     -999.0,   6.1192,    34.7185,2,-999.0000,2,     -999.0,9
33RO20150410,     P16N.1,      55,          1,         10,         10,2,20150425,       2051,     0.5830,  -150.9955,       4026,   848.1,   5.2613,  34.5463,2,  34.5471,2,     77.0,2,    77.1,2,   69.50,2,   39.50,2,    0.01,2,    2.69,4,-999.000,9,-999.000,9,-999.000,9,  -999.0,9,  -999.0,9,-999.0000,9,  -999.00,-999.000,9,-999.0000,9, -999.00,9,-999.0000, -999.00,9,  -999.0,9,  -999.0,-999.000,9,-999.000,  -999.0,9, -999.00,9,     -999.0,9, -999.00,9,-999.000,-999.0000, -999.00,     -999.0,     -999.0,9,     -999.0,     -999.0,9,     -999.0,  -999.0,9,     -999.0,     -999.0,9,     -999.0,   5.1898,    34.7100,2,-999.0000,2,     -999.0,9
33RO20150410,     P16N.1,      55,          1,          9,          9,2,20150425,       2051,     0.5830,  -150.9955,       4026,  1001.1,   4.5317,  34.5563,2,  34.5654,2,     80.4,2,    80.2,2,   84.00,2,   39.60,2,    0.01,2,    2.74,4,-999.000,9,-999.000,9,-999.000,9,  -999.0,9,  -999.0,9,-999.0000,9,  -999.00,-999.000,9,-999.0000,9, -999.00,9,-999.0000, -999.00,9,  -999.0,9,  -999.0,-999.000,9,-999.000,  -999.0,9, -999.00,9,     -999.0,9, -999.00,9,-999.000,-999.0000, -999.00,     -999.0,     -999.0,9,     -999.0,     -999.0,9,     -999.0,  -999.0,9,     -999.0,     -999.0,9,     -999.0,   4.4518,    34.7283,3,-999.0000,2,     -999.0,9
33RO20150410,     P16N.1,      55,          1,          8,          8,2,20150425,       2051,     0.5830,  -150.9955,       4026,  1149.3,   4.0171,  34.5695,2,  34.5737,2,     81.2,2,    81.3,2,   95.10,2,   40.10,2,    0.02,2,    2.80,4,-999.000,9,-999.000,9,-999.000,9,  -999.0,9,  -999.0,9,-999.0000,9,  -999.00,-999.000,9,-999.0000,9, -999.00,9,-999.0000, -999.00,9,  -999.0,9,  -999.0,-999.000,9,-999.000,  -999.0,9, -999.00,9,     -999.0,9, -999.00,9,-999.000,-999.0000, -999.00,     -999.0,     -999.0,9,     -999.0,     -999.0,9,     -999.0,  -999.0,9,     -999.0,     -999.0,9,     -999.0,   3.9286,    34.7368,3,-999.0000,2,     -999.0,9
33RO20150410,     P16N.1,      55,          1,          7,          7,2,20150425,       2051,     0.5830,  -150.9955,       4026,  1332.9,   3.4321,  34.5893,2,  34.5884,2,     85.4,2,    85.6,2,  109.00,2,   40.00,2,    0.04,2,    2.82,4,-999.000,9,-999.000,9,-999.000,9,  -999.0,9,  -999.0,9,-999.0000,9,  -999.00,-999.000,9,-999.0000,9, -999.00,9,-999.0000, -999.00,9,  -999.0,9,  -999.0,-999.000,9,-999.000,  -999.0,9, -999.00,9,     -999.0,9, -999.00,9,-999.000,-999.0000, -999.00,     -999.0,     -999.0,9,     -999.0,     -999.0,9,     -999.0,  -999.0,9,     -999.0,     -999.0,9,     -999.0,   3.3335,    34.7515,2,-999.0000,2,     -999.0,9
33RO20150410,     P16N.1,      55,          1,          6,          6,2,20150425,       2051,     0.5830,  -150.9955,       4026,  1532.9,   2.9248,  34.6092,2,  34.6086,2,     92.7,2,    92.6,2,  120.20,2,   39.80,2,    0.01,2,    2.81,4,-999.000,9,-999.000,9,-999.000,9,  -999.0,9,  -999.0,9,-999.0000,9,  -999.00,-999.000,9,-999.0000,9, -999.00,9,-999.0000, -999.00,9,  -999.0,9,  -999.0,-999.000,9,-999.000,  -999.0,9, -999.00,9,     -999.0,9, -999.00,9,-999.000,-999.0000, -999.00,     -999.0,     -999.0,9,     -999.0,     -999.0,9,     -999.0,  -999.0,9,     -999.0,     -999.0,9,     -999.0,   2.8150,    34.7718,2,-999.0000,2,     -999.0,9
33RO20150410,     P16N.1,      55,          1,          5,          5,2,20150425,       2051,     0.5830,  -150.9955,       4026,  1867.6,   2.4592,  34.6324,2,  34.6318,2,     99.7,2,   102.5,2,  132.60,6,   39.40,6,    0.02,6,    2.79,4,-999.000,9,-999.000,9,-999.000,9,  -999.0,9,  -999.0,9,-999.0000,9,  -999.00,-999.000,9,-999.0000,9, -999.00,9,-999.0000, -999.00,9,  -999.0,9,  -999.0,-999.000,9,-999.000,  -999.0,9, -999.00,9,     -999.0,9, -999.00,9,-999.000,-999.0000, -999.00,     -999.0,     -999.0,9,     -999.0,     -999.0,9,     -999.0,  -999.0,9,     -999.0,     -999.0,9,     -999.0,   2.3272,    34.7951,2,-999.0000,2,     -999.0,9
33RO20150410,     P16N.1,      55,          1,          4,          4,2,20150425,       2051,     0.5830,  -150.9955,       4026,  2466.8,   1.8942,  34.6625,2,  34.6627,2,    119.1,2,   120.8,2,  143.70,6,   38.10,6,    0.02,6,    2.68,4,-999.000,9,-999.000,9,-999.000,9,  -999.0,9,  -999.0,9,-999.0000,9,  -999.00,-999.000,9,-999.0000,9, -999.00,9,-999.0000, -999.00,9,  -999.0,9,  -999.0,-999.000,9,-999.000,  -999.0,9, -999.00,9,     -999.0,9, -999.00,9,-999.000,-999.0000, -999.00,     -999.0,     -999.0,9,     -999.0,     -999.0,9,     -999.0,  -999.0,9,     -999.0,     -999.0,9,     -999.0,   1.7188,    34.8261,2,-999.0000,2,     -999.0,9
33RO20150410,     P16N.1,      55,          1,          3,          3,2,20150425,       2051,     0.5830,  -150.9955,       4026,  3066.5,   1.6888,  34.6749,2,  34.6748,2,    134.0,2,   137.0,2,  144.70,6,   37.30,6,    0.02,6,    2.62,4,   0.000,6,  -0.001,6,       0,6,  -999.0,9,  -999.0,9,-999.0000,9,  -999.00,-999.000,9,-999.0000,9, -999.00,9,-999.0000, -999.00,9,  -999.0,9,  -999.0,-999.000,9,-999.000,  -999.0,9, -999.00,9,     21.788,3, -999.00,9,-999.000,-999.0000, -999.00,     -999.0,     -999.0,9,     -999.0,     -999.0,9,     -999.0,  -999.0,9,     -999.0,     -999.0,9,     -999.0,   1.4614,    34.8383,6,-999.0000,2,     -999.0,9
33RO20150410,     P16N.1,      55,          1,          2,          2,2,20150425,       2051,     0.5830,  -150.9955,       4026,  3066.6,   1.6887,  34.6749,2,  34.6753,2,    133.8,2,  -999.0,9, -999.00,9, -999.00,9, -999.00,9, -999.00,9,   0.001,6,   0.000,6,       0,6,  -999.0,9,  -999.0,9,-999.0000,9,  -999.00,-999.000,9,-999.0000,9, -999.00,9,-999.0000, -999.00,9,  -999.0,9,  -999.0,-999.000,9,-999.000,  -999.0,9, -999.00,9,     22.080,3, -999.00,9,-999.000,-999.0000, -999.00,     -999.0,     -999.0,9,     -999.0,     -999.0,9,     -999.0,  -999.0,9,     -999.0,     -999.0,9,     -999.0,   1.4613,    34.8388,2,-999.0000,2,     -999.0,9
33RO20150410,     P16N.1,      55,          1,          1,          1,2,20150425,       2051,     0.5830,  -150.9955,       4026,  3356.4,   1.6065,  34.6802,2,  34.6801,2,    140.6,2,   143.5,2,  143.90,6,   36.80,6,    0.03,6,    2.57,4,-999.000,9,-999.000,9,-999.000,9,  -999.0,9,  -999.0,9,-999.0000,9,  -999.00,-999.000,9,-999.0000,9, -999.00,9,-999.0000, -999.00,9,  -999.0,9,  -999.0,-999.000,9,-999.000,  -999.0,9, -999.00,9,     -999.0,9, -999.00,9,-999.000,-999.0000, -999.00,     -999.0,     -999.0,9,     -999.0,     -999.0,9,     -999.0,  -999.0,9,     -999.0,     -999.0,9,     -999.0,   1.3523,    34.8437,2,-999.0000,2,     -999.0,9