BOTTLE,20210709CCHSIOCBG
EXPOCODE,SECT_ID,STNNBR,CASTNO,SAMPNO,BTLNBR,BTLNBR_FLAG_W,DATE,TIME,LATITUDE,LONGITUDE,DEPTH,CTDPRS,CTDTMP,CTDSAL,CTDSAL_FLAG_W,SALNTY,SALNTY_FLAG_W,CTDOXY,CTDOXY_FLAG_W,OXYGEN,OXYGEN_FLAG_W,SILCAT,SILCAT_FLAG_W,NITRAT,NITRAT_FLAG_W,NITRIT,NITRIT_FLAG_W,PHSPHT,PHSPHT_FLAG_W,CFC-11,CFC-11_FLAG_W,CFC-12,CFC-12_FLAG_W,SF6,SF6_FLAG_W,TCARBN,TCARBN_FLAG_W,ALKALI,ALKALI_FLAG_W,PH_TOT,PH_TOT_FLAG_W,PH_TMP,TRITUM,TRITUM_FLAG_W,HELIUM,HELIUM_FLAG_W,DELHE3,DELHE3_FLAG_W,REFTMP,DELC13,DELC13_FLAG_W,DELC14,DELC14_FLAG_W,C14ERR,NEON,NEON_FLAG_W,NEONER,DOC,DOC_FLAG_W,TDN,TDN_FLAG_W,N2O,N2O_FLAG_W,ARGON,ARGON_FLAG_W,TRITER,HELIER,DELHER,ARGONER,KRYPTON,KRYPTON_FLAG_W,KRYPTONER,XENON,XENON_FLAG_W,XENONER,14C-DOC,14C-DOC_FLAG_W,14C-DOCERR,13C-DOC,13C-DOC_FLAG_W,13C-DOCERR,THETA,SALTREF,SALTREF_FLAG_W,SBE35,SBE35_FLAG_W,CHLORA,CHLORA_FLAG_W
,,,,,,,,,,,METERS,DBAR,ITS-90,PSS-78,,PSS-78,,UMOL/KG,,UMOL/KG,,UMOL/KG,,UMOL/KG,,UMOL/KG,,UMOL/KG,,PMOL/KG,,PMOL/KG,,FMOL/KG,,UMOL/KG,,UMOL/KG,,,,DEG C,TU,,NMOL/KG,,PERCNT,,DEG C,/MILLE,,/MILLE,,/MILLE,NMOL/KG,,NMOL/KG,UMOL/KG,,UMOL/KG,,NMOL/KG,,UMOL/KG,,TU,NMOL/KG,PERCNT,UMOL/KG,NMOL/KG,,NMOL/KG,NMOL/KG,,NMOL/KG,/MILLE,,/MILLE,/MILLE,,/MILLE,DEG C,G/KG,,ITS-90,,MG/M3,
33RO20150410,     P16N.1,      98,          1,         24,         24,2,20150507,       1121,    15.5001,  -152.0004,       5762,     9.9,  25.8743,  34.2948,2,  34.3175,2,    202.0,2,   202.2,2,    1.50,2,    0.00,2,    0.00,2,    0.26,2,   1.643,2,   1.031,2,   1.366,2,  1956.0,6,  2262.4,2,   8.0665,6,    25.02,-999.000,9,-999.0000,9, -999.00,9,  25.8738,    0.94,2,    31.4,2,     2.0,-999.000,9,-999.000,  -999.0,9, -999.00,9,      6.491,3, -999.00,9,-999.000,-999.0000, -999.00,     -999.0,     -999.0,9,     -999.0,     -999.0,9,     -999.0,  -999.0,9,     -999.0,     -999.0,9,     -999.0,  25.8721,    34.4794,2,-999.0000,2,     -999.0,9
33RO20150410,     P16N.1,      98,          1,         23,         23,2,20150507,       1121,    15.5001,  -152.0004,       5762,    30.5,  25.8748,  34.2950,2,  34.2954,2,    201.6,2,   202.2,2,    1.50,2,    0.00,2,    0.00,2,    0.25,2,   1.639,2,   1.039,2,   1.364,2,  1956.9,2,  2261.8,2,   8.0674,2,    25.00,-999.000,9,-999.0000,9, -999.00,9,  25.8758, -999.00,9,  -999.0,9,  -999.0,-999.000,9,-999.000,  -999.0,9, -999.00,9,      6.476,3, -999.00,9,-999.000,-999.0000, -999.00,     -999.0,     -999.0,9,     -999.0,     -999.0,9,     -999.0,  -999.0,9,     -999.0,     -999.0,9,     -999.0,  25.8680,    34.4571,2,-999.0000,2,     -999.0,9
33RO20150410,     P16N.1,      98,          1,         22,         22,2,20150507,       1121,    15.5001,  -152.0004,       5762,    59.6,  25.8838,  34.2949,2,  34.2956,2,    202.5,2,   202.1,2,    1.60,2,    0.00,2,    0.00,2,    0.25,2,   1.640,6,   1.029,6,   1.387,6,  1955.7,2,  2262.2,2,   8.0668,6,    25.00,-999.000,9,-999.0000,9, -999.00,9,  25.8821, -999.00,9,  -999.0,9,  -999.0,-999.000,9,-999.000,  -999.0,9, -999.00,9,      6.552,3, -999.00,9,-999.000,-999.0000, -999.00,     -999.0,     -999.0,9,     -999.0,     -999.0,9,     -999.0,  -999.0,9,     -999.0,     -999.0,9,     -999.0,  25.8706,    34.4573,2,-999.0000,2,     -999.0,9
33RO20150410,     P16N.1,      98,          1,         21,         21,2,20150507,       1121,    15.5001,  -152.0004,       5762,    90.0,  25.1731,  34.6966,2,  34.5957,2,    207.8,2,   207.2,2,    1.60,2,    0.00,2,    0.00,2,    0.28,2,   1.710,2,   1.070,2,   1.369,2,  1975.4,2,  2283.5,2,   8.0612,6,    25.02,-999.000,9,-999.0000,9, -999.00,9,  25.1460,    1.04,2,    31.5,2,     2.1,-999.000,9,-999.000,  -999.0,9, -999.00,9,      6.945,3, -999.00,9,-999.000,-999.0000, -999.00,     -999.0,     -999.0,9,     -999.0,     -999.0,9,     -999.0,  -999.0,9,     -999.0,     -999.0,9,     -999.0,  25.1535,    34.7589,2,-999.0000,2,     -999.0,9
33RO20150410,     P16N.1,      98,          1,         20,         20,2,20150507,       1121,    15.5001,  -152.0004,       5762,   150.5,  17.0545,  34.3859,2,  34.4049,2,    161.6,2,   162.2,2,    6.30,2,    6.40,2,    0.35,2,    0.86,2,   2.386,2,   1.415,2,   1.417,2,  2095.6,2,  2277.3,6,   7.8161,6,    25.01,-999.000,9,-999.0000,9, -999.00,9,  17.0618,    0.40,2,    22.2,2,     2.1,-999.000,9,-999.000,  -999.0,9, -999.00,9,     26.547,3, -999.00,9,-999.000,-999.0000, -999.00,     -999.0,     -999.0,9,     -999.0,     -999.0,9,     -999.0,  -999.0,9,     -999.0,     -999.0,9,     -999.0,  17.0297,    34.5671,2,-999.0000,2,     -999.0,9
33RO20150410,     P16N.1,      98,          1,         19,         19,2,20150507,       1121,    15.5001,  -152.0004,       5762,   225.6,  11.1196,  34.3818,2,  34.3849,2,     58.7,2,    61.2,2,   27.50,2,   24.60,2,    0.01,2,    2.24,2,   1.938,2,   1.052,2,    0.62,2,  2220.9,2,  2279.6,2,   7.4905,2,    25.01,-999.000,9,-999.0000,9, -999.00,9,  11.1186,   -0.30,2,    -6.6,2,     2.2,-999.000,9,-999.000,  -999.0,9, -999.00,9,     46.754,3, -999.00,9,-999.000,-999.0000, -999.00,     -999.0,     -999.0,9,     -999.0,     -999.0,9,     -999.0,  -999.0,9,     -999.0,     -999.0,9,     -999.0,  11.0917,    34.5470,2,-999.0000,2,     -999.0,9
33RO20150410,     P16N.1,      98,          1,         18,         18,2,20150507,       1121,    15.5001,  -152.0004,       5762,   300.2,  10.3144,  34.5593,2,  34.5573,2,     14.3,2,    14.2,2,   35.10,2,   30.00,2,    0.00,2,    2.61,2,   0.800,2,   0.424,2,   0.132,2,  2265.1,2,  2296.7,2,   7.3985,2,    25.02,-999.000,9,-999.0000,9, -999.00,9,  10.3186,   -0.34,2,   -46.9,2,     2.5,-999.000,9,-999.000,  -999.0,9, -999.00,9,     43.656,3, -999.00,9,-999.000,-999.0000, -999.00,     -999.0,     -999.0,9,     -999.0,     -999.0,9,     -999.0,  -999.0,9,     -999.0,     -999.0,9,     -999.0,  10.2789,    34.7202,2,-999.0000,2,     -999.0,9
33RO20150410,     P16N.1,      98,          1,         17,         17,2,20150507,       1121,    15.5001,  -152.0004,       5762,   400.9,   8.8055,  34.5357,2,  34.5344,2,     11.1,2,    12.7,2,   43.50,2,   35.00,2,    0.00,2,    2.76,2,   0.286,2,   0.146,2,   0.057,2,  2276.3,6,  2304.3,2,   7.3802,6,    25.03,-999.000,9,-999.0000,9, -999.00,9,   8.8091,   -0.21,2,   -89.9,2,     2.1,-999.000,9,-999.000,  -999.0,9, -999.00,9,     53.541,3, -999.00,9,-999.000,-999.0000, -999.00,     -999.0,     -999.0,9,     -999.0,     -999.0,9,     -999.0,  -999.0,9,     -999.0,     -999.0,9,     -999.0,   8.7623,    34.6972,2,-999.0000,2,     -999.0,9
33RO20150410,     P16N.1,      98,          1,         16,         16,2,20150507,       1121,    15.5001,  -152.0004,       5762,   500.1,   7.7414,  34.4939,2,  34.4888,2,     19.4,2,    20.1,2,   52.30,2,   37.10,2,    0.00,2,    2.85,2,   0.161,6,   0.085,6,       0,6,  2284.6,2,  2311.8,2,   7.3801,2,    25.00,-999.000,9,-999.0000,9, -999.00,9,   7.7442,   -0.15,2,  -113.9,2,     1.9,-999.000,9,-999.000,  -999.0,9, -999.00,9,     53.237,3, -999.00,9,-999.000,-999.0000, -999.00,     -999.0,     -999.0,9,     -999.0,     -999.0,9,     -999.0,  -999.0,9,     -999.0,     -999.0,9,     -999.0,   7.6911,    34.6514,2,-999.0000,2,     -999.0,9
33RO20150410,     P16N.1,      98,          1,         15,         15,2,20150507,       1121,    15.5001,  -152.0004,       5762,   652.1,   6.3634,  34.4838,2,  34.4844,2,     13.4,2,    13.0,2,   69.80,2,   40.00,2,    0.01,2,    3.10,2,   0.023,2,   0.013,2,       0,2,  2310.8,2,  2331.5,2,   7.3515,6,    25.02,-999.000,9,-999.0000,9, -999.00,9,   6.3640,   -0.24,2,  -152.5,2,     1.7,-999.000,9,-999.000,  -999.0,9, -999.00,9,     53.982,3, -999.00,9,-999.000,-999.0000, -999.00,     -999.0,     -999.0,9,     -999.0,     -999.0,9,     -999.0,  -999.0,9,     -999.0,     -999.0,9,     -999.0,   6.3039,    34.6470,2,-999.0000,2,     -999.0,9
33RO20150410,     P16N.1,      98,          1,         14,         14,2,20150507,       1121,    15.5001,  -152.0004,       5762,   801.1,   5.3459,  34.5020,2,  34.5035,2,     17.1,2,    17.0,2,   84.40,2,   42.70,2,    0.00,2,    3.18,2,   0.005,2,   0.004,2,       0,2,  2328.8,2,  2346.8,2,   7.3482,2,    25.00,-999.000,9,-999.0000,9, -999.00,9,   5.3466,   -0.22,2,  -178.5,2,     1.8,-999.000,9,-999.000,  -999.0,9, -999.00,9,     56.056,3, -999.00,9,-999.000,-999.0000, -999.00,     -999.0,     -999.0,9,     -999.0,     -999.0,9,     -999.0,  -999.0,9,     -999.0,     -999.0,9,     -999.0,   5.2782,    34.6662,6,-999.0000,2,     -999.0,9
33RO20150410,     P16N.1,      98,          1,         13,         13,2,20150507,       1121,    15.5001,  -152.0004,       5762,   949.2,   4.7094,  34.5267,2,  34.5240,2,     26.6,2,    26.2,2,   94.20,2,   43.30,2,    0.00,2,    3.19,2,  -0.002,2,   0.002,2,       0,2,  2336.3,2,  2359.5,2,   7.3614,2,    25.01,-999.000,9,-999.0000,9, -999.00,9,   4.7104, -999.00,9,  -999.0,9,  -999.0,-999.000,9,-999.000,  -999.0,9, -999.00,9,     49.122,3, -999.00,9,-999.000,-999.0000, -999.00,     -999.0,     -999.0,9,     -999.0,     -999.0,9,     -999.0,  -999.0,9,     -999.0,     -999.0,9,     -999.0,   4.6327,    34.6868,2,-999.0000,2,     -999.0,9
33RO20150410,     P16N.1,      98,          1,         12,         12,2,20150507,       1121,    15.5001,  -152.0004,       5762,  1099.8,   4.1211,  34.5445,2,  34.5440,2,     36.5,2,    35.8,2,  105.40,2,   43.30,2,    0.00,2,    3.16,2,   0.008,2,   0.002,2,       0,2,  2345.6,2,  2372.3,2,   7.3759,2,    25.00,-999.000,9,-999.0000,9, -999.00,9,   4.1217, -999.00,9,  -999.0,9,  -999.0,-999.000,9,-999.000,  -999.0,9, -999.00,9,     43.797,3, -999.00,9,-999.000,-999.0000, -999.00,     -999.0,     -999.0,9,     -999.0,     -999.0,9,     -999.0,  -999.0,9,     -999.0,     -999.0,9,     -999.0,   4.0360,    34.7069,2,-999.0000,2,     -999.0,9
33RO20150410,     P16N.1,      98,          1,         11,         11,2,20150507,       1121,    15.5001,  -152.0004,       5762,  1300.4,   3.5545,  34.5702,2,  34.5702,2,     47.1,2,    47.2,2,  116.40,2,   42.90,2,    0.00,2,    3.12,2,  -0.001,2,   0.000,2,       0,2,  2351.5,2,  2386.0,2,   7.3953,6,    25.02,-999.000,9,-999.0000,9, -999.00,9,   3.5549, -999.00,9,  -999.0,9,  -999.0,-999.000,9,-999.000,  -999.0,9, -999.00,9,     39.568,3, -999.00,9,-999.000,-999.0000, -999.00,     -999.0,     -999.0,9,     -999.0,     -999.0,9,     -999.0,  -999.0,9,     -999.0,     -999.0,9,     -999.0,   3.4575,    34.7332,2,-999.0000,2,     -999.0,9
33RO20150410,     P16N.1,      98,          1,         10,         10,2,20150507,       1121,    15.5001,  -152.0004,       5762,  1600.3,   2.8581,  34.5976,2,  34.5981,2,     66.6,2,    66.2,2,  131.10,2,   41.70,2,    0.00,2,    3.00,2,-999.000,9,-999.000,9,-999.000,9,  2356.0,2,  2402.0,2,   7.4295,2,    25.01,-999.000,9,-999.0000,9, -999.00,9,   2.8585, -999.00,9,  -999.0,9,  -999.0,-999.000,9,-999.000,  -999.0,9, -999.00,9,     -999.0,9, -999.00,9,-999.000,-999.0000, -999.00,     -999.0,     -999.0,9,     -999.0,     -999.0,9,     -999.0,  -999.0,9,     -999.0,     -999.0,9,     -999.0,   2.7435,    34.7612,2,-999.0000,2,     -999.0,9
33RO20150410,     P16N.1,      98,          1,          9,          9,2,20150507,       1121,    15.5001,  -152.0004,       5762,  2000.5,   2.1860,  34.6294,2,  34.6307,2,     87.5,2,    88.1,2,  145.50,2,   40.10,2,    0.00,2,    2.86,2,-999.000,9,-999.000,9,-999.000,9,  2356.7,2,  2418.1,2,   7.4694,2,    25.01,-999.000,9,-999.0000,9, -999.00,9,   2.1862, -999.00,9,  -999.0,9,  -999.0,-999.000,9,-999.000,  -999.0,9, -999.00,9,     -999.0,9, -999.00,9,-999.000,-999.0000, -999.00,     -999.0,     -999.0,9,     -999.0,     -999.0,9,     -999.0,  -999.0,9,     -999.0,     -999.0,9,     -999.0,   2.0467,    34.7940,2,-999.0000,2,     -999.0,9
33RO20150410,     P16N.1,      98,          1,          8,          8,2,20150507,       1121,    15.5001,  -152.0004,       5762,  2500.9,   1.8124,  34.6573,2,  34.6553,2,    108.8,2,   109.2,2,  151.50,2,   38.60,2,    0.00,2,    2.74,2,-999.000,9,-999.000,9,-999.000,9,  2351.7,2,  2426.7,2,   7.5113,2,    25.00,-999.000,9,-999.0000,9, -999.00,9,   1.8123, -999.00,9,  -999.0,9,  -999.0,-999.000,9,-999.000,  -999.0,9, -999.00,9,     -999.0,9, -999.00,9,-999.000,-999.0000, -999.00,     -999.0,     -999.0,9,     -999.0,     -999.0,9,     -999.0,  -999.0,9,     -999.0,     -999.0,9,     -999.0,   1.6355,    34.8187,3,-999.0000,2,     -999.0,9
33RO20150410,     P16N.1,      98,          1,          7,          7,2,20150507,       1121,    15.5001,  -152.0004,       5762,  3000.6,   1.6433,  34.6713,2,  34.6712,2,    121.3,2,   121.6,2,  154.20,2,   37.80,2,    0.00,2,    2.68,2,-999.000,9,-999.000,9,-999.000,9,  2347.2,2,  2431.2,2,   7.5340,2,    25.01,-999.000,9,-999.0000,9, -999.00,9,   1.6432, -999.00,9,  -999.0,9,  -999.0,-999.000,9,-999.000,  -999.0,9, -999.00,9,     -999.0,9, -999.00,9,-999.000,-999.0000, -999.00,     -999.0,     -999.0,9,     -999.0,     -999.0,9,     -999.0,  -999.0,9,     -999.0,     -999.0,9,     -999.0,   1.4233,    34.8347,2,-999.0000,3,     -999.0,9
33RO20150410,     P16N.1,      98,          1,          6,          6,2,20150507,       1121,    15.5001,  -152.0004,       5762,  3500.3,   1.5474,  34.6793,2,  34.6809,2,    132.6,2,   132.1,2,  155.10,2,   37.10,2,    0.00,2,    2.62,2,-999.000,9,-999.000,9,-999.000,9,  2339.4,2,  2430.6,2,   7.5513,2,    25.01,-999.000,9,-999.0000,9, -999.00,9,   1.5476, -999.00,9,  -999.0,9,  -999.0,-999.000,9,-999.000,  -999.0,9, -999.00,9,     -999.0,9, -999.00,9,-999.000,-999.0000, -999.00,     -999.0,     -999.0,9,     -999.0,     -999.0,9,     -999.0,  -999.0,9,     -999.0,     -999.0,9,     -999.0,   1.2800,    34.8445,2,-999.0000,3,     -999.0,9
33RO20150410,     P16N.1,      98,          1,          5,          5,2,20150507,       1121,    15.5001,  -152.0004,       5762,  4000.0,   1.4599,  34.6876,2,  34.6875,2,    149.3,2,   149.1,2,  146.00,2,   35.80,2,    0.00,2,    2.52,2,-999.000,9,-999.000,9,-999.000,9,  2326.6,2,  2423.3,2,   7.5760,6,    25.01,-999.000,9,-999.0000,9, -999.00,9,   1.4600, -999.00,9,  -999.0,9,  -999.0,-999.000,9,-999.000,  -999.0,9, -999.00,9,     -999.0,9, -999.00,9,-999.000,-999.0000, -999.00,     -999.0,     -999.0,9,     -999.0,     -999.0,9,     -999.0,  -999.0,9,     -999.0,     -999.0,9,     -999.0,   1.1420,    34.8511,2,-999.0000,2,     -999.0,9
33RO20150410,     P16N.1,      98,          1,          4,          4,2,20150507,       1121,    15.5001,  -152.0004,       5762,  4498.9,   1.4288,  34.6931,2,  34.6970,3,    161.9,2,   160.6,2,  139.60,6,   35.00,6,    0.01,6,    2.46,6,-999.000,9,-999.000,9,-999.000,9,  2314.0,2,  2416.1,2,   7.5881,2,    25.02,-999.000,9,-999.0000,9, -999.00,9,   1.4290, -999.00,9,  -999.0,9,  -999.0,-999.000,9,-999.000,  -999.0,9, -999.00,9,     -999.0,9, -999.00,9,-999.000,-999.0000, -999.00,     -999.0,     -999.0,9,     -999.0,     -999.0,9,     -999.0,  -999.0,9,     -999.0,     -999.0,9,     -999.0,   1.0560,    34.8606,3,-999.0000,2,     -999.0,9
33RO20150410,     P16N.1,      98,          1,          3,          3,2,20150507,       1121,    15.5001,  -152.0004,       5762,  4999.8,   1.4217,  34.6970,2,  34.6960,2,    168.7,2,   169.3,2,  134.30,6,   34.30,6,    0.00,6,    2.42,6,-999.000,9,-999.000,9,-999.000,9,  2304.7,2,  2407.8,6,   7.5951,2,    25.02,-999.000,9,-999.0000,9, -999.00,9,   1.4218, -999.00,9,  -999.0,9,  -999.0,-999.000,9,-999.000,  -999.0,9, -999.00,9,     -999.0,9, -999.00,9,-999.000,-999.0000, -999.00,     -999.0,     -999.0,9,     -999.0,     -999.0,9,     -999.0,  -999.0,9,     -999.0,     -999.0,9,     -999.0,   0.9900,    34.8596,2,-999.0000,2,     -999.0,9
33RO20150410,     P16N.1,      98,          1,          2,          2,2,20150507,       1121,    15.5001,  -152.0004,       5762,  5350.4,   1.4394,  34.6987,2,  34.6976,2,    173.3,2,   172.5,2,  132.10,6,   34.00,6,    0.00,6,    2.40,6,-999.000,9,-999.000,9,-999.000,9,  2300.6,2,  2403.8,2,   7.5976,2,    25.02,-999.000,9,-999.0000,9, -999.00,9,   1.4395, -999.00,9,  -999.0,9,  -999.0,-999.000,9,-999.000,  -999.0,9, -999.00,9,     -999.0,9, -999.00,9,-999.000,-999.0000, -999.00,     -999.0,     -999.0,9,     -999.0,     -999.0,9,     -999.0,  -999.0,9,     -999.0,     -999.0,9,     -999.0,   0.9638,    34.8612,6,-999.0000,2,     -999.0,9
33RO20150410,     P16N.1,      98,          1,          1,          1,2,20150507,       1121,    15.5001,  -152.0004,       5762,  5751.2,   1.4839,  34.6992,2,  34.6984,2,    174.5,2,   174.2,2,  131.30,6,   33.90,6,    0.01,6,    2.39,6,-999.000,9,-999.000,9,-999.000,9,  2299.5,6,  2403.0,2,   7.5984,2,    25.02,-999.000,9,-999.0000,9, -999.00,9,   1.4839, -999.00,9,  -999.0,9,  -999.0,-999.000,9,-999.000,  -999.0,9, -999.00,9,     -999.0,9, -999.00,9,-999.000,-999.0000, -999.00,     -999.0,     -999.0,9,     -999.0,     -999.0,9,     -999.0,  -999.0,9,     -999.0,     -999.0,9,     -999.0,   0.9553,    34.8620,2,-999.0000,2,     -999.0,9