BOTTLE,20210709CCHSIOCBG
EXPOCODE,SECT_ID,STNNBR,CASTNO,SAMPNO,BTLNBR,BTLNBR_FLAG_W,DATE,TIME,LATITUDE,LONGITUDE,DEPTH,CTDPRS,CTDTMP,CTDSAL,CTDSAL_FLAG_W,SALNTY,SALNTY_FLAG_W,CTDOXY,CTDOXY_FLAG_W,OXYGEN,OXYGEN_FLAG_W,SILCAT,SILCAT_FLAG_W,NITRAT,NITRAT_FLAG_W,NITRIT,NITRIT_FLAG_W,PHSPHT,PHSPHT_FLAG_W,CFC-11,CFC-11_FLAG_W,CFC-12,CFC-12_FLAG_W,SF6,SF6_FLAG_W,TCARBN,TCARBN_FLAG_W,ALKALI,ALKALI_FLAG_W,PH_TOT,PH_TOT_FLAG_W,PH_TMP,TRITUM,TRITUM_FLAG_W,HELIUM,HELIUM_FLAG_W,DELHE3,DELHE3_FLAG_W,REFTMP,DELC13,DELC13_FLAG_W,DELC14,DELC14_FLAG_W,C14ERR,NEON,NEON_FLAG_W,NEONER,DOC,DOC_FLAG_W,TDN,TDN_FLAG_W,N2O,N2O_FLAG_W,ARGON,ARGON_FLAG_W,TRITER,HELIER,DELHER,ARGONER,KRYPTON,KRYPTON_FLAG_W,KRYPTONER,XENON,XENON_FLAG_W,XENONER,14C-DOC,14C-DOC_FLAG_W,14C-DOCERR,13C-DOC,13C-DOC_FLAG_W,13C-DOCERR,THETA,SALTREF,SALTREF_FLAG_W,SBE35,SBE35_FLAG_W,CHLORA,CHLORA_FLAG_W
,,,,,,,,,,,METERS,DBAR,ITS-90,PSS-78,,PSS-78,,UMOL/KG,,UMOL/KG,,UMOL/KG,,UMOL/KG,,UMOL/KG,,UMOL/KG,,PMOL/KG,,PMOL/KG,,FMOL/KG,,UMOL/KG,,UMOL/KG,,,,DEG C,TU,,NMOL/KG,,PERCNT,,DEG C,/MILLE,,/MILLE,,/MILLE,NMOL/KG,,NMOL/KG,UMOL/KG,,UMOL/KG,,NMOL/KG,,UMOL/KG,,TU,NMOL/KG,PERCNT,UMOL/KG,NMOL/KG,,NMOL/KG,NMOL/KG,,NMOL/KG,/MILLE,,/MILLE,/MILLE,,/MILLE,DEG C,G/KG,,ITS-90,,MG/M3,
33RO20150410,     P16N.1,      40,          1,         24,         24,2,20150421,       2201,    -1.7300,  -151.0001,       4966,    14.5,  28.6344,  35.3202,2,  35.3216,2,    198.9,2,   199.7,2,    2.00,2,    3.50,2,    0.14,2,    0.31,4,   1.490,2,   0.955,2,   1.253,2,  2016.3,6,  2324.7,6,   8.0432,2,    25.01,-999.000,9,-999.0000,9, -999.00,9,  28.6777, -999.00,9,  -999.0,9,  -999.0,-999.000,9,-999.000,    60.5,2,    7.20,2,      6.554,3, -999.00,9,-999.000,-999.0000, -999.00,     -999.0,     -999.0,9,     -999.0,     -999.0,9,     -999.0,  -999.0,9,     -999.0,     -999.0,9,     -999.0,  28.6309,    35.4882,2,-999.0000,2,     -999.0,9
33RO20150410,     P16N.1,      40,          1,         23,         23,2,20150421,       2201,    -1.7300,  -151.0001,       4966,    33.2,  28.4995,  35.3212,2,  35.3219,2,    200.1,2,   200.4,2,    3.00,2,    3.60,2,    0.14,2,    0.33,4,   1.492,6,   0.961,6,   1.227,6,  2019.5,2,  2324.6,2,   8.0422,2,    25.01,-999.000,9,-999.0000,9, -999.00,9,  28.5006, -999.00,9,  -999.0,9,  -999.0,-999.000,9,-999.000,    60.5,2,    7.50,2,      6.538,3, -999.00,9,-999.000,-999.0000, -999.00,     -999.0,     -999.0,9,     -999.0,     -999.0,9,     -999.0,  -999.0,9,     -999.0,     -999.0,9,     -999.0,  28.4916,    35.4884,2,-999.0000,2,     -999.0,9
33RO20150410,     P16N.1,      40,          1,         22,         22,2,20150421,       2201,    -1.7300,  -151.0001,       4966,    57.7,  28.1816,  35.2969,2,  35.3016,2,    199.5,2,   199.0,2,    2.20,2,    3.90,2,    0.15,2,    0.34,4,   1.511,2,   0.967,2,   1.267,2,  2021.9,2,  2323.6,2,   8.0330,6,    25.01,-999.000,9,-999.0000,9, -999.00,9,  28.1763, -999.00,9,  -999.0,9,  -999.0,-999.000,9,-999.000,    60.5,2,    7.70,2,      6.695,3, -999.00,9,-999.000,-999.0000, -999.00,     -999.0,     -999.0,9,     -999.0,     -999.0,9,     -999.0,  -999.0,9,     -999.0,     -999.0,9,     -999.0,  28.1679,    35.4680,2,-999.0000,2,     -999.0,9
33RO20150410,     P16N.1,      40,          1,         21,         21,2,20150421,       2201,    -1.7300,  -151.0001,       4966,    82.5,  27.8643,  35.3876,2,  35.3897,2,    194.1,2,   194.1,2,    2.00,2,    4.50,2,    0.13,2,    0.49,4,   1.515,2,   0.973,2,   1.287,2,  2026.3,2,  2329.5,2,   8.0288,2,    24.98,-999.000,9,-999.0000,9, -999.00,9,  27.8640, -999.00,9,  -999.0,9,  -999.0,-999.000,9,-999.000,    61.3,2,    9.10,2,      6.577,3, -999.00,9,-999.000,-999.0000, -999.00,     -999.0,     -999.0,9,     -999.0,     -999.0,9,     -999.0,  -999.0,9,     -999.0,     -999.0,9,     -999.0,  27.8449,    35.5565,6,-999.0000,2,     -999.0,9
33RO20150410,     P16N.1,      40,          1,         20,         20,2,20150421,       2201,    -1.7300,  -151.0001,       4966,   117.8,  26.3382,  35.4427,2,  35.4414,2,    181.3,2,   180.2,2,    2.40,2,    5.20,2,    1.49,2,    0.67,4,   1.623,2,   1.021,2,   1.276,2,  2054.4,2,  2333.1,2,   7.9886,2,    24.99,-999.000,9,-999.0000,9, -999.00,9,  26.3645, -999.00,9,  -999.0,9,  -999.0,-999.000,9,-999.000,    57.4,2,   10.60,2,      7.327,3, -999.00,9,-999.000,-999.0000, -999.00,     -999.0,     -999.0,9,     -999.0,     -999.0,9,     -999.0,  -999.0,9,     -999.0,     -999.0,9,     -999.0,  26.3116,    35.6086,2,-999.0000,2,     -999.0,9
33RO20150410,     P16N.1,      40,          1,         19,         19,2,20150421,       2201,    -1.7300,  -151.0001,       4966,   175.2,  14.0534,  35.0358,2,  35.0361,2,     42.2,2,    42.6,2,   17.20,2,   27.40,2,    0.02,2,    1.84,4,   1.475,2,   0.843,2,   0.501,2,  2215.8,2,  2307.7,2,   7.5678,6,    25.00,-999.000,9,-999.0000,9, -999.00,9,  14.0411, -999.00,9,  -999.0,9,  -999.0,-999.000,9,-999.000,    47.0,2,   29.40,2,     64.385,3, -999.00,9,-999.000,-999.0000, -999.00,     -999.0,     -999.0,9,     -999.0,     -999.0,9,     -999.0,  -999.0,9,     -999.0,     -999.0,9,     -999.0,  14.0280,    35.2013,2,-999.0000,2,     -999.0,9
33RO20150410,     P16N.1,      40,          1,         18,         18,2,20150421,       2201,    -1.7300,  -151.0001,       4966,   249.9,  12.0628,  34.8562,2,  34.8593,2,     40.6,2,    72.3,2,   21.90,2,   27.00,2,    0.01,2,    1.79,4,   1.249,6,   0.699,6,   0.358,6,  2206.4,2,  2304.9,2,   7.5879,2,    24.99,-999.000,9,-999.0000,9, -999.00,9,  12.0637, -999.00,9,  -999.0,9,  -999.0,-999.000,9,-999.000,    46.1,2,   29.50,2,     45.829,3, -999.00,9,-999.000,-999.0000, -999.00,     -999.0,     -999.0,9,     -999.0,     -999.0,9,     -999.0,  -999.0,9,     -999.0,     -999.0,9,     -999.0,  12.0301,    35.0237,2,-999.0000,2,     -999.0,9
33RO20150410,     P16N.1,      40,          1,         17,         17,2,20150421,       2201,    -1.7300,  -151.0001,       4966,   332.8,  11.2626,  34.8069,2,  34.8068,2,     43.9,2,    46.4,2,   25.70,2,   30.80,2,    0.01,2,    2.02,4,   0.956,2,   0.534,2,   0.289,2,  2229.8,2,  2304.2,2,   7.5157,6,    25.01,-999.000,9,-999.0000,9, -999.00,9,  11.2638, -999.00,9,  -999.0,9,  -999.0,-999.000,9,-999.000,    45.1,2, -999.00,9,     53.880,3, -999.00,9,-999.000,-999.0000, -999.00,     -999.0,     -999.0,9,     -999.0,     -999.0,9,     -999.0,  -999.0,9,     -999.0,     -999.0,9,     -999.0,  11.2208,    34.9709,2,-999.0000,2,     -999.0,9
33RO20150410,     P16N.1,      40,          1,         16,         16,2,20150421,       2201,    -1.7300,  -151.0001,       4966,   433.1,  10.0049,  34.7301,2,  34.7252,2,     58.1,2,    52.6,2,   29.20,2,   32.80,2,    0.01,2,    2.14,4,   0.660,2,   0.367,2,   0.138,2,  2233.5,2,  2304.9,2,   7.4968,2,    24.99,-999.000,9,-999.0000,9, -999.00,9,  10.0258, -999.00,9,  -999.0,9,  -999.0,-999.000,9,-999.000,    41.8,2, -999.00,9,     51.960,3, -999.00,9,-999.000,-999.0000, -999.00,     -999.0,     -999.0,9,     -999.0,     -999.0,9,     -999.0,  -999.0,9,     -999.0,     -999.0,9,     -999.0,   9.9542,    34.8890,2,-999.0000,2,     -999.0,9
33RO20150410,     P16N.1,      40,          1,         15,         15,2,20150421,       2201,    -1.7300,  -151.0001,       4966,   548.2,   6.9257,  34.5718,2,  34.5767,2,     61.5,2,    61.2,2,   48.20,2,   38.00,2,    0.00,2,    2.55,4,   0.140,2,   0.079,2,       0,2,  2266.1,2,  2317.4,2,   7.4550,2,    24.99,-999.000,9,-999.0000,9, -999.00,9,   6.9302, -999.00,9,  -999.0,9,  -999.0,-999.000,9,-999.000,    38.1,2, -999.00,9,     43.126,3, -999.00,9,-999.000,-999.0000, -999.00,     -999.0,     -999.0,9,     -999.0,     -999.0,9,     -999.0,  -999.0,9,     -999.0,     -999.0,9,     -999.0,   6.8737,    34.7397,2,-999.0000,2,     -999.0,9
33RO20150410,     P16N.1,      40,          1,         14,         14,2,20150421,       2201,    -1.7300,  -151.0001,       4966,   700.0,   6.1678,  34.5528,2,  34.5547,2,     68.5,2,    68.0,2,   56.40,2,   38.60,2,    0.00,2,    2.63,4,   0.075,2,   0.044,2,       0,2,  2272.2,2,  2325.8,2,   7.4571,2,    24.99,-999.000,9,-999.0000,9, -999.00,9,   6.1687, -999.00,9,  -999.0,9,  -999.0,-999.000,9,-999.000,    38.4,2, -999.00,9,     40.061,3, -999.00,9,-999.000,-999.0000, -999.00,     -999.0,     -999.0,9,     -999.0,     -999.0,9,     -999.0,  -999.0,9,     -999.0,     -999.0,9,     -999.0,   6.1047,    34.7176,2,-999.0000,2,     -999.0,9
33RO20150410,     P16N.1,      40,          1,         13,         13,2,20150421,       2201,    -1.7300,  -151.0001,       4966,   849.8,   5.4458,  34.5397,2,  34.5411,2,     88.6,2,    87.0,2,   64.20,2,   37.90,2,    0.00,2,    2.58,4,   0.074,2,   0.043,2,       0,2,  2272.4,2,  2335.1,2,   7.4849,3,    25.00,-999.000,9,-999.0000,9, -999.00,9,   5.4483, -999.00,9,  -999.0,9,  -999.0,-999.000,9,-999.000,    38.1,2, -999.00,9,     34.796,3, -999.00,9,-999.000,-999.0000, -999.00,     -999.0,     -999.0,9,     -999.0,     -999.0,9,     -999.0,  -999.0,9,     -999.0,     -999.0,9,     -999.0,   5.3730,    34.7040,2,-999.0000,2,     -999.0,9
33RO20150410,     P16N.1,      40,          1,         12,         12,2,20150421,       2201,    -1.7300,  -151.0001,       4966,  1001.1,   4.5737,  34.5501,2,  34.5514,2,     88.8,2,    88.4,2,   80.60,2,   38.80,2,    0.00,2,    2.68,4,   0.019,2,   0.012,2,       0,2,  2289.0,6,  2351.8,2,   7.4805,2,    24.99,-999.000,9,-999.0000,9, -999.00,9,   4.5745, -999.00,9,  -999.0,9,  -999.0,-999.000,9,-999.000,    39.4,2, -999.00,9,     33.242,3, -999.00,9,-999.000,-999.0000, -999.00,     -999.0,     -999.0,9,     -999.0,     -999.0,9,     -999.0,  -999.0,9,     -999.0,     -999.0,9,     -999.0,   4.4935,    34.7143,2,-999.0000,2,     -999.0,9
33RO20150410,     P16N.1,      40,          1,         11,         11,2,20150421,       2201,    -1.7300,  -151.0001,       4966,  1167.6,   3.8665,  34.5678,2,  34.5692,2,     93.2,2,    93.1,2,   94.90,2,   38.90,2,    0.00,2,    2.73,4,   0.004,2,   0.003,2,       0,2,  2303.8,2,  2369.1,2,   7.4845,6,    25.02,-999.000,9,-999.0000,9, -999.00,9,   3.8671, -999.00,9,  -999.0,9,  -999.0,-999.000,9,-999.000,    37.1,2, -999.00,9,     31.553,3, -999.00,9,-999.000,-999.0000, -999.00,     -999.0,     -999.0,9,     -999.0,     -999.0,9,     -999.0,  -999.0,9,     -999.0,     -999.0,9,     -999.0,   3.7778,    34.7323,2,-999.0000,2,     -999.0,9
33RO20150410,     P16N.1,      40,          1,         10,         10,2,20150421,       2201,    -1.7300,  -151.0001,       4966,  1399.9,   3.2930,  34.5903,2,  34.5924,2,     95.5,2,    96.0,2,  110.00,2,   39.00,2,    0.00,2,    2.78,4,   0.002,2,   0.002,2,       0,2,  2317.1,2,  2385.1,2,   7.4878,2,    24.99,-999.000,9,-999.0000,9, -999.00,9,   3.2900, -999.00,9,  -999.0,9,  -999.0,-999.000,9,-999.000,    38.0,2, -999.00,9,     29.985,3, -999.00,9,-999.000,-999.0000, -999.00,     -999.0,     -999.0,9,     -999.0,     -999.0,9,     -999.0,  -999.0,9,     -999.0,     -999.0,9,     -999.0,   3.1902,    34.7555,2,-999.0000,2,     -999.0,9
33RO20150410,     P16N.1,      40,          1,          9,          9,2,20150421,       2201,    -1.7300,  -151.0001,       4966,  1733.2,   2.5654,  34.6235,2,  35.0361,4,    104.8,2,    42.6,4,  126.90,2,   38.60,2,    0.01,2,    2.76,4,   0.009,3,   0.001,2,       0,2,  2330.0,2,  2405.3,2,   7.5038,6,    25.02,-999.000,9,-999.0000,9, -999.00,9,   2.5654, -999.00,9,  -999.0,9,  -999.0,-999.000,9,-999.000,    39.5,2, -999.00,9,     27.183,3, -999.00,9,-999.000,-999.0000, -999.00,     -999.0,     -999.0,9,     -999.0,     -999.0,9,     -999.0,  -999.0,9,     -999.0,     -999.0,9,     -999.0,   2.4421,    34.7944,3,-999.0000,2,     -999.0,9
33RO20150410,     P16N.1,      40,          1,          8,          8,2,20150421,       2201,    -1.7300,  -151.0001,       4966,  2132.0,   2.1136,  34.6496,2,  34.8593,4,    111.5,2,    72.3,4,  140.40,2,   38.30,2,    0.00,2,    2.78,4,   0.000,2,   0.002,2,       0,2,  2339.3,2,  2419.9,2,   7.5168,2,    24.99,-999.000,9,-999.0000,9, -999.00,9,   2.1135, -999.00,9,  -999.0,9,  -999.0,-999.000,9,-999.000,    36.0,2, -999.00,9,     25.554,3, -999.00,9,-999.000,-999.0000, -999.00,     -999.0,     -999.0,9,     -999.0,     -999.0,9,     -999.0,  -999.0,9,     -999.0,     -999.0,9,     -999.0,   1.9633,    34.8142,2,-999.0000,2,     -999.0,9
33RO20150410,     P16N.1,      40,          1,          7,          7,2,20150421,       2201,    -1.7300,  -151.0001,       4966,  2533.3,   1.9019,  34.6611,2,  34.6617,2,    126.8,2,   126.5,2,  140.10,2,   37.50,2,    0.00,2,    2.71,4,  -0.001,2,   0.000,2,       0,2,  2334.8,2,  2421.0,6,   7.5390,2,    25.00,-999.000,9,-999.0000,9, -999.00,9,   1.9018, -999.00,9,  -999.0,9,  -999.0,-999.000,9,-999.000,    35.1,2, -999.00,9,     23.599,3, -999.00,9,-999.000,-999.0000, -999.00,     -999.0,     -999.0,9,     -999.0,     -999.0,9,     -999.0,  -999.0,9,     -999.0,     -999.0,9,     -999.0,   1.7203,    34.8251,2,-999.0000,2,     -999.0,9
33RO20150410,     P16N.1,      40,          1,          6,          6,2,20150421,       2201,    -1.7300,  -151.0001,       4966,  2934.8,   1.6760,  34.6727,2,  34.6713,2,    135.5,2,   135.8,2,  143.10,2,   36.60,2,    0.00,2,    2.66,4,   0.002,2,   0.000,2,       0,2,  2332.2,2,  2423.3,2,   7.5537,2,    25.01,-999.000,9,-999.0000,9, -999.00,9,   1.6760, -999.00,9,  -999.0,9,  -999.0,-999.000,9,-999.000,    35.6,2, -999.00,9,     22.630,3, -999.00,9,-999.000,-999.0000, -999.00,     -999.0,     -999.0,9,     -999.0,     -999.0,9,     -999.0,  -999.0,9,     -999.0,     -999.0,9,     -999.0,   1.4616,    34.8348,2,-999.0000,2,     -999.0,9
33RO20150410,     P16N.1,      40,          1,          5,          5,2,20150421,       2201,    -1.7300,  -151.0001,       4966,  3333.7,   1.5429,  34.6824,2,  34.6825,2,    147.4,2,   147.9,2,  142.20,2,   36.10,2,    0.00,2,    2.59,4,  -0.001,2,   0.000,2,       0,2,  2326.3,2,  2422.9,2,   7.5728,2,    25.00,-999.000,9,-999.0000,9, -999.00,9,   1.5428, -999.00,9,  -999.0,9,  -999.0,-999.000,9,-999.000,    38.4,2, -999.00,9,     21.338,3, -999.00,9,-999.000,-999.0000, -999.00,     -999.0,     -999.0,9,     -999.0,     -999.0,9,     -999.0,  -999.0,9,     -999.0,     -999.0,9,     -999.0,   1.2925,    34.8460,2,-999.0000,2,     -999.0,9
33RO20150410,     P16N.1,      40,          1,          4,          4,2,20150421,       2201,    -1.7300,  -151.0001,       4966,  3732.8,   1.4231,  34.6919,2,  34.6959,2,    157.3,2,   158.7,2,  143.10,6,   35.50,6,    0.00,6,    2.53,4,   0.002,2,   0.001,2,       0,2,  2320.3,2,  2427.4,6,   7.5933,2,    25.00,-999.000,9,-999.0000,9, -999.00,9,   1.4228, -999.00,9,  -999.0,9,  -999.0,-999.000,9,-999.000,    38.3,2, -999.00,9,     20.456,3, -999.00,9,-999.000,-999.0000, -999.00,     -999.0,     -999.0,9,     -999.0,     -999.0,9,     -999.0,  -999.0,9,     -999.0,     -999.0,9,     -999.0,   1.1347,    34.8595,3,-999.0000,2,     -999.0,9
33RO20150410,     P16N.1,      40,          1,          3,          3,2,20150421,       2201,    -1.7300,  -151.0001,       4966,  4132.4,   1.4110,  34.6945,2,  34.6944,2,    163.3,2,   162.7,2,  140.40,6,   35.00,6,    0.00,6,    2.50,4,  -0.001,6,   0.001,6,       0,6,  2312.7,2,  2422.6,2,   7.5987,2,    25.00,-999.000,9,-999.0000,9, -999.00,9,   1.4110, -999.00,9,  -999.0,9,  -999.0,-999.000,9,-999.000,    37.4,2, -999.00,9,     20.079,3, -999.00,9,-999.000,-999.0000, -999.00,     -999.0,     -999.0,9,     -999.0,     -999.0,9,     -999.0,  -999.0,9,     -999.0,     -999.0,9,     -999.0,   1.0800,    34.8580,6,-999.0000,2,     -999.0,9
33RO20150410,     P16N.1,      40,          1,          2,          2,2,20150421,       2201,    -1.7300,  -151.0001,       4966,  4518.5,   1.3687,  34.6986,2,  34.7077,4,    177.0,2,   176.5,2,  130.70,6,   34.00,6,    0.00,6,    2.42,4,   0.002,2,   0.001,2,   0.044,3,  2294.5,2,  2404.9,2,   7.6033,6,    25.01,-999.000,9,-999.0000,9, -999.00,9,   1.3685, -999.00,9,  -999.0,9,  -999.0,-999.000,9,-999.000,    35.3,2, -999.00,9,     19.602,3, -999.00,9,-999.000,-999.0000, -999.00,     -999.0,     -999.0,9,     -999.0,     -999.0,9,     -999.0,  -999.0,9,     -999.0,     -999.0,9,     -999.0,   0.9955,    34.8713,3,-999.0000,2,     -999.0,9
33RO20150410,     P16N.1,      40,          1,          1,          1,2,20150421,       2201,    -1.7300,  -151.0001,       4966,  4955.4,   1.3470,  34.7014,2,  34.7244,4,    184.5,2,   183.3,2,  127.60,6,   33.50,6,    0.01,6,    2.37,4,   0.007,2,   0.004,2,       0,2,  2288.4,6,  2397.2,2,   7.6059,2,    25.01,-999.000,9,-999.0000,9, -999.00,9,   1.3469, -999.00,9,  -999.0,9,  -999.0,-999.000,9,-999.000,    37.6,2, -999.00,9,     19.443,3, -999.00,9,-999.000,-999.0000, -999.00,     -999.0,     -999.0,9,     -999.0,     -999.0,9,     -999.0,  -999.0,9,     -999.0,     -999.0,9,     -999.0,   0.9230,    34.8881,3,-999.0000,2,     -999.0,9