BOTTLE,20210709CCHSIOCBG
EXPOCODE,SECT_ID,STNNBR,CASTNO,SAMPNO,BTLNBR,BTLNBR_FLAG_W,DATE,TIME,LATITUDE,LONGITUDE,DEPTH,CTDPRS,CTDTMP,CTDSAL,CTDSAL_FLAG_W,SALNTY,SALNTY_FLAG_W,CTDOXY,CTDOXY_FLAG_W,OXYGEN,OXYGEN_FLAG_W,SILCAT,SILCAT_FLAG_W,NITRAT,NITRAT_FLAG_W,NITRIT,NITRIT_FLAG_W,PHSPHT,PHSPHT_FLAG_W,CFC-11,CFC-11_FLAG_W,CFC-12,CFC-12_FLAG_W,SF6,SF6_FLAG_W,TCARBN,TCARBN_FLAG_W,ALKALI,ALKALI_FLAG_W,PH_TOT,PH_TOT_FLAG_W,PH_TMP,TRITUM,TRITUM_FLAG_W,HELIUM,HELIUM_FLAG_W,DELHE3,DELHE3_FLAG_W,REFTMP,DELC13,DELC13_FLAG_W,DELC14,DELC14_FLAG_W,C14ERR,NEON,NEON_FLAG_W,NEONER,DOC,DOC_FLAG_W,TDN,TDN_FLAG_W,N2O,N2O_FLAG_W,ARGON,ARGON_FLAG_W,TRITER,HELIER,DELHER,ARGONER,KRYPTON,KRYPTON_FLAG_W,KRYPTONER,XENON,XENON_FLAG_W,XENONER,14C-DOC,14C-DOC_FLAG_W,14C-DOCERR,13C-DOC,13C-DOC_FLAG_W,13C-DOCERR,THETA,SALTREF,SALTREF_FLAG_W,SBE35,SBE35_FLAG_W,CHLORA,CHLORA_FLAG_W
,,,,,,,,,,,METERS,DBAR,ITS-90,PSS-78,,PSS-78,,UMOL/KG,,UMOL/KG,,UMOL/KG,,UMOL/KG,,UMOL/KG,,UMOL/KG,,PMOL/KG,,PMOL/KG,,FMOL/KG,,UMOL/KG,,UMOL/KG,,,,DEG C,TU,,NMOL/KG,,PERCNT,,DEG C,/MILLE,,/MILLE,,/MILLE,NMOL/KG,,NMOL/KG,UMOL/KG,,UMOL/KG,,NMOL/KG,,UMOL/KG,,TU,NMOL/KG,PERCNT,UMOL/KG,NMOL/KG,,NMOL/KG,NMOL/KG,,NMOL/KG,/MILLE,,/MILLE,/MILLE,,/MILLE,DEG C,G/KG,,ITS-90,,MG/M3,
33RO20150410,     P16N.1,       1,          1,         10,         10,2,20150411,       0550,   -16.5011,  -150.0006,       4283,  1050.1,   3.8845,  34.5160,2,-999.0000,9,    137.7,2,   138.3,2, -999.00,9, -999.00,9, -999.00,9, -999.00,9,   0.025,3,   0.022,2,   0.041,3,  2262.4,2,  2342.0,2,   7.5522,2,    24.99,   0.001,2,-999.0000,9, -999.00,9,   3.8829,    0.29,2,  -161.0,2,     1.7,-999.000,9,-999.000,    41.4,2, -999.00,9,     25.149,3, -999.00,9,   0.001,-999.0000, -999.00,     -999.0,     -999.0,9,     -999.0,     -999.0,9,     -999.0,  -999.0,9,     -999.0,     -999.0,9,     -999.0,-999.0000,     -999.0,9,-999.0000,2,     -999.0,9
33RO20150410,     P16N.1,       1,          1,          9,          9,2,20150411,       0550,   -16.5011,  -150.0006,       4283,  1232.0,   3.3040,  34.5456,2,  34.5468,2,    140.7,2,   140.6,2,   86.50,2,   35.90,2,    0.01,2,    2.60,4,   0.016,3,   0.009,2,   0.087,3,  2273.1,2,  2355.7,2,   7.5531,2,    25.00,  -0.002,2,   1.8947,2,   21.20,2,   3.3036,    0.26,2,  -184.3,2,     1.6,   8.018,2,   0.020,    42.8,2, -999.00,9,     24.212,3, -999.00,9,   0.002,   0.0049,    0.20,     -999.0,     -999.0,9,     -999.0,     -999.0,9,     -999.0,  -999.0,9,     -999.0,     -999.0,9,     -999.0,   3.2151,    34.7097,2,-999.0000,2,     -999.0,9
33RO20150410,     P16N.1,       1,          1,          8,          8,2,20150411,       0550,   -16.5011,  -150.0006,       4283,  1500.5,   2.7630,  34.5794,2,  34.5812,2,    144.6,2,   145.7,2,   98.70,2,   35.70,2,    0.01,2,    2.78,4,   0.011,3,   0.006,2,     0.1,3,  2286.0,2,  2368.9,2,   7.5593,2,    25.00,   0.003,2,-999.0000,9, -999.00,9,   2.7623,    0.24,2,  -193.6,2,     1.7,-999.000,9,-999.000,    41.4,2, -999.00,9,     23.056,3, -999.00,9,   0.001,-999.0000, -999.00,     -999.0,     -999.0,9,     -999.0,     -999.0,9,     -999.0,  -999.0,9,     -999.0,     -999.0,9,     -999.0,   2.6578,    34.7442,2,-999.0000,2,     -999.0,9
33RO20150410,     P16N.1,       1,          1,          7,          7,2,20150411,       0550,   -16.5011,  -150.0006,       4283,  1867.3,   2.2923,  34.6196,2,  34.6219,2,    148.7,2,   146.0,2,  110.80,2,   35.60,2,    0.00,2,    2.96,4,   0.001,3,   0.004,2,   0.084,3,  2293.1,2,  2383.1,2,   7.5661,3,    25.00,   0.002,2,-999.0000,9, -999.00,9,   2.2923,    0.10,2,  -209.0,2,     1.7,-999.000,9,-999.000,    38.4,2, -999.00,9,     22.236,3, -999.00,9,   0.001,-999.0000, -999.00,     -999.0,     -999.0,9,     -999.0,     -999.0,9,     -999.0,  -999.0,9,     -999.0,     -999.0,9,     -999.0,   2.1627,    34.7851,2,-999.0000,2,     -999.0,9
33RO20150410,     P16N.1,       1,          1,          6,          6,2,20150411,       0550,   -16.5011,  -150.0006,       4283,  2267.8,   1.9794,  34.6492,2,  34.6507,2,    151.3,2,   151.4,2,  120.70,2,   35.50,2,    0.00,2,    3.10,4,   0.003,3,   0.001,2,       0,2,  2301.9,2,  2392.1,2,   7.5717,2,    25.01,-999.000,9,-999.0000,9, -999.00,9,   1.9794, -999.00,9,  -999.0,9,  -999.0,-999.000,9,-999.000,    38.0,2, -999.00,9,     21.719,3, -999.00,9,-999.000,-999.0000, -999.00,     -999.0,     -999.0,9,     -999.0,     -999.0,9,     -999.0,  -999.0,9,     -999.0,     -999.0,9,     -999.0,   1.8202,    34.8141,2,-999.0000,2,     -999.0,9
33RO20150410,     P16N.1,       1,          1,          5,          5,2,20150411,       0550,   -16.5011,  -150.0006,       4283,  2667.2,   1.8154,  34.6661,2,  34.6663,2,    153.9,2,   153.4,2,  127.00,2,   35.50,2,    0.00,2,    3.18,4,   0.005,3,   0.000,2,       0,2,  2308.0,2,  2399.8,2,   7.5767,6,    25.01,-999.000,9,-999.0000,9, -999.00,9,   1.8156, -999.00,9,  -999.0,9,  -999.0,-999.000,9,-999.000,    38.5,2, -999.00,9,     21.248,3, -999.00,9,-999.000,-999.0000, -999.00,     -999.0,     -999.0,9,     -999.0,     -999.0,9,     -999.0,  -999.0,9,     -999.0,     -999.0,9,     -999.0,   1.6232,    34.8297,2,-999.0000,2,     -999.0,9
33RO20150410,     P16N.1,       1,          1,          4,          4,2,20150411,       0550,   -16.5011,  -150.0006,       4283,  3067.9,   1.6645,  34.6763,2,  34.6759,2,    163.2,2,   163.1,2,  126.40,6,   34.90,6,    0.00,6,    3.13,4,   0.003,3,   0.000,2,   0.121,3,  2298.1,2,  2394.9,2,   7.5842,2,    24.99,-999.000,9,-999.0000,9, -999.00,9,   1.6643, -999.00,9,  -999.0,9,  -999.0,-999.000,9,-999.000,    37.2,2, -999.00,9,     20.804,3, -999.00,9,-999.000,-999.0000, -999.00,     -999.0,     -999.0,9,     -999.0,     -999.0,9,     -999.0,  -999.0,9,     -999.0,     -999.0,9,     -999.0,   1.4375,    34.8394,2,-999.0000,2,     -999.0,9
33RO20150410,     P16N.1,       1,          1,          3,          3,2,20150411,       0550,   -16.5011,  -150.0006,       4283,  3470.2,   1.4898,  34.6887,2,  34.6884,2,    174.3,2,   174.0,2,  125.00,6,   34.10,6,    0.00,6,    3.08,4,   0.022,3,   0.002,2,   0.085,3,  2289.7,2,  2388.3,2,   7.5926,6,    25.00,-999.000,9,-999.0000,9, -999.00,9,   1.4901, -999.00,9,  -999.0,9,  -999.0,-999.000,9,-999.000,    38.9,2, -999.00,9,     20.034,3, -999.00,9,-999.000,-999.0000, -999.00,     -999.0,     -999.0,9,     -999.0,     -999.0,9,     -999.0,  -999.0,9,     -999.0,     -999.0,9,     -999.0,   1.2269,    34.8519,2,-999.0000,2,     -999.0,9
33RO20150410,     P16N.1,       1,          1,          2,          2,2,20150411,       0550,   -16.5011,  -150.0006,       4283,  3868.4,   1.4671,  34.6925,2,  34.6890,2,    177.4,2,   177.6,2,  124.00,6,   33.90,6,    0.00,6,    3.08,4,  -0.002,3,   0.002,2,   0.046,3,  2286.4,2,  2386.7,6,   7.5958,2,    25.00,-999.000,9,-999.0000,9, -999.00,9,   1.4671, -999.00,9,  -999.0,9,  -999.0,-999.000,9,-999.000,    40.8,2, -999.00,9,     19.801,3, -999.00,9,-999.000,-999.0000, -999.00,     -999.0,     -999.0,9,     -999.0,     -999.0,9,     -999.0,  -999.0,9,     -999.0,     -999.0,9,     -999.0,   1.1632,    34.8525,3,-999.0000,2,     -999.0,9
33RO20150410,     P16N.1,       1,          1,          1,          1,2,20150411,       0550,   -16.5011,  -150.0006,       4283,  4272.4,   1.4433,  34.6959,2,  34.6956,2,    181.4,2,   182.4,2,  124.30,2,   33.50,2,    0.01,2,    3.06,4,  -0.004,3,  -0.001,6,       0,6,  2283.7,6,  2388.0,2,   7.5993,6,    25.01,-999.000,9,-999.0000,9, -999.00,9,   1.4438, -999.00,9,  -999.0,9,  -999.0,-999.000,9,-999.000,    41.6,2, -999.00,9,     19.636,3, -999.00,9,-999.000,-999.0000, -999.00,     -999.0,     -999.0,9,     -999.0,     -999.0,9,     -999.0,  -999.0,9,     -999.0,     -999.0,9,     -999.0,   1.0958,    34.8592,6,-999.0000,2,     -999.0,9