BOTTLE,20210709CCHSIOCBG
EXPOCODE,SECT_ID,STNNBR,CASTNO,SAMPNO,BTLNBR,BTLNBR_FLAG_W,DATE,TIME,LATITUDE,LONGITUDE,DEPTH,CTDPRS,CTDTMP,CTDSAL,CTDSAL_FLAG_W,SALNTY,SALNTY_FLAG_W,CTDOXY,CTDOXY_FLAG_W,OXYGEN,OXYGEN_FLAG_W,SILCAT,SILCAT_FLAG_W,NITRAT,NITRAT_FLAG_W,NITRIT,NITRIT_FLAG_W,PHSPHT,PHSPHT_FLAG_W,CFC-11,CFC-11_FLAG_W,CFC-12,CFC-12_FLAG_W,SF6,SF6_FLAG_W,TCARBN,TCARBN_FLAG_W,ALKALI,ALKALI_FLAG_W,PH_TOT,PH_TOT_FLAG_W,PH_TMP,TRITUM,TRITUM_FLAG_W,HELIUM,HELIUM_FLAG_W,DELHE3,DELHE3_FLAG_W,REFTMP,DELC13,DELC13_FLAG_W,DELC14,DELC14_FLAG_W,C14ERR,NEON,NEON_FLAG_W,NEONER,DOC,DOC_FLAG_W,TDN,TDN_FLAG_W,N2O,N2O_FLAG_W,ARGON,ARGON_FLAG_W,TRITER,HELIER,DELHER,ARGONER,KRYPTON,KRYPTON_FLAG_W,KRYPTONER,XENON,XENON_FLAG_W,XENONER,14C-DOC,14C-DOC_FLAG_W,14C-DOCERR,13C-DOC,13C-DOC_FLAG_W,13C-DOCERR,THETA,SALTREF,SALTREF_FLAG_W,SBE35,SBE35_FLAG_W,CHLORA,CHLORA_FLAG_W
,,,,,,,,,,,METERS,DBAR,ITS-90,PSS-78,,PSS-78,,UMOL/KG,,UMOL/KG,,UMOL/KG,,UMOL/KG,,UMOL/KG,,UMOL/KG,,PMOL/KG,,PMOL/KG,,FMOL/KG,,UMOL/KG,,UMOL/KG,,,,DEG C,TU,,NMOL/KG,,PERCNT,,DEG C,/MILLE,,/MILLE,,/MILLE,NMOL/KG,,NMOL/KG,UMOL/KG,,UMOL/KG,,NMOL/KG,,UMOL/KG,,TU,NMOL/KG,PERCNT,UMOL/KG,NMOL/KG,,NMOL/KG,NMOL/KG,,NMOL/KG,/MILLE,,/MILLE,/MILLE,,/MILLE,DEG C,G/KG,,ITS-90,,MG/M3,
33RO20150410,     P16N.1,      46,          1,         24,         24,2,20150423,       1543,    -0.7399,  -151.0000,       4608,     4.8,  28.4533,  35.2867,2,  35.2869,2,    195.6,2,   196.7,2,    2.00,2,    3.60,2,    0.31,2,    0.44,4,   1.516,3,   0.937,2,   1.245,2,  2021.0,6,  2321.1,2,   8.0320,2,    25.02,-999.000,9,-999.0000,9, -999.00,9,-999.0000,    0.74,2,    44.8,2,     2.4,-999.000,9,-999.000,    63.2,2,    7.50,2,      7.006,3, -999.00,9,-999.000,-999.0000, -999.00,     -999.0,     -999.0,9,     -999.0,     -999.0,9,     -999.0,  -999.0,9,     -999.0,     -999.0,9,     -999.0,  28.4522,    35.4533,2,-999.0000,2,     -999.0,9
33RO20150410,     P16N.1,      46,          1,         23,         23,2,20150423,       1543,    -0.7399,  -151.0000,       4608,    20.7,  28.4582,  35.2857,2,  35.2855,2,    196.0,2,   196.2,2,    2.70,2,    3.60,2,    0.31,2,    0.45,4,   1.502,3,   0.942,2,   1.242,6,  2021.2,2,  2321.9,2,   8.0317,2,    25.02,-999.000,9,-999.0000,9, -999.00,9,-999.0000, -999.00,9,  -999.0,9,  -999.0,-999.000,9,-999.000,    63.3,2,    7.50,2,      6.897,3, -999.00,9,-999.000,-999.0000, -999.00,     -999.0,     -999.0,9,     -999.0,     -999.0,9,     -999.0,  -999.0,9,     -999.0,     -999.0,9,     -999.0,  28.4533,    35.4519,2,-999.0000,2,     -999.0,9
33RO20150410,     P16N.1,      46,          1,         22,         22,2,20150423,       1543,    -0.7399,  -151.0000,       4608,    42.2,  28.4407,  35.2863,2,  35.2881,2,    196.1,2,   196.1,2,    1.90,2,    3.60,2,    0.30,2,    0.46,4,   1.502,3,   0.932,2,    1.23,2,  2021.4,2,  2322.2,2,   8.0318,6,    25.01,-999.000,9,-999.0000,9, -999.00,9,-999.0000, -999.00,9,  -999.0,9,  -999.0,-999.000,9,-999.000,    62.8,2,    7.30,2,      7.136,3, -999.00,9,-999.000,-999.0000, -999.00,     -999.0,     -999.0,9,     -999.0,     -999.0,9,     -999.0,  -999.0,9,     -999.0,     -999.0,9,     -999.0,  28.4306,    35.4545,2,-999.0000,2,     -999.0,9
33RO20150410,     P16N.1,      46,          1,         21,         21,2,20150423,       1543,    -0.7399,  -151.0000,       4608,    67.6,  28.0069,  35.3507,2,  35.3550,2,    193.5,2,   194.0,2,    2.00,2,    4.00,2,    0.15,2,    0.51,4,   1.514,3,   0.942,2,   1.246,2,  2029.5,2,  2328.7,2,   8.0290,2,    25.01,-999.000,9,-999.0000,9, -999.00,9,-999.0000,    0.46,2,    29.4,2,     2.2,-999.000,9,-999.000,    62.0,2,    8.10,2,      6.790,3, -999.00,9,-999.000,-999.0000, -999.00,     -999.0,     -999.0,9,     -999.0,     -999.0,9,     -999.0,  -999.0,9,     -999.0,     -999.0,9,     -999.0,  27.9910,    35.5217,2,-999.0000,2,     -999.0,9
33RO20150410,     P16N.1,      46,          1,         20,         20,2,20150423,       1543,    -0.7399,  -151.0000,       4608,    92.4,  27.2420,  35.3130,2,  35.3200,2,    188.3,2,   188.2,2,    2.20,2,    4.60,2,    0.34,2,    0.62,4,   1.544,3,   0.953,2,   1.244,2,  2039.3,2,  2325.7,6,   8.0050,6,    25.01,-999.000,9,-999.0000,9, -999.00,9,-999.0000,    0.43,2,    24.3,2,     2.4,-999.000,9,-999.000,    60.6,2,    8.90,2,      6.739,3, -999.00,9,-999.000,-999.0000, -999.00,     -999.0,     -999.0,9,     -999.0,     -999.0,9,     -999.0,  -999.0,9,     -999.0,     -999.0,9,     -999.0,  27.2206,    35.4865,6,-999.0000,2,     -999.0,9
33RO20150410,     P16N.1,      46,          1,         19,         19,2,20150423,       1543,    -0.7399,  -151.0000,       4608,   132.7,  24.9531,  35.4857,2,  35.5003,2,    144.5,2,   149.7,2,    2.90,2,    9.70,2,    0.04,2,    0.82,4,   1.686,2,   1.032,2,   1.218,2,  2085.2,2,  2334.9,2,   7.9345,2,    25.01,-999.000,9,-999.0000,9, -999.00,9,-999.0000,    0.60,6,    38.5,6,     5.1,-999.000,9,-999.000,    56.0,2,   12.10,2,     10.197,3, -999.00,9,-999.000,-999.0000, -999.00,     -999.0,     -999.0,9,     -999.0,     -999.0,9,     -999.0,  -999.0,9,     -999.0,     -999.0,9,     -999.0,  24.9243,    35.6677,2,-999.0000,2,     -999.0,9
33RO20150410,     P16N.1,      46,          1,         18,         18,2,20150423,       1543,    -0.7399,  -151.0000,       4608,   200.0,  12.6696,  34.9086,2,  34.9200,2,    105.7,2,   106.7,2,   17.10,2,   22.30,2,    0.01,2,    1.57,4,   1.531,6,   0.838,6,   0.477,6,  2181.3,2,  2309.7,2,   7.6758,6,    25.01,-999.000,9,-999.0000,9, -999.00,9,-999.0000,    0.29,2,     9.6,2,     2.6,-999.000,9,-999.000,    43.9,2,   24.00,2,     31.558,3, -999.00,9,-999.000,-999.0000, -999.00,     -999.0,     -999.0,9,     -999.0,     -999.0,9,     -999.0,  -999.0,9,     -999.0,     -999.0,9,     -999.0,  12.6426,    35.0847,2,-999.0000,2,     -999.0,9
33RO20150410,     P16N.1,      46,          1,         17,         17,2,20150423,       1543,    -0.7399,  -151.0000,       4608,   276.5,  11.8188,  34.8380,2,  34.8415,2,     60.6,2,    63.3,2,   22.70,2,   28.40,2,    0.01,2,    1.92,4,   1.156,2,   0.627,2,   0.291,2,  2217.3,2,  2306.2,2,   7.5646,2,    25.01,-999.000,9,-999.0000,9, -999.00,9,-999.0000,    0.04,2,    -3.1,2,     2.3,-999.000,9,-999.000,    45.6,2, -999.00,9,     49.351,3, -999.00,9,-999.000,-999.0000, -999.00,     -999.0,     -999.0,9,     -999.0,     -999.0,9,     -999.0,  -999.0,9,     -999.0,     -999.0,9,     -999.0,  11.7830,    35.0058,2,-999.0000,2,     -999.0,9
33RO20150410,     P16N.1,      46,          1,         16,         16,2,20150423,       1543,    -0.7399,  -151.0000,       4608,   366.8,  10.0646,  34.7327,2,  34.7236,2,     53.8,2,    51.2,2,   29.00,2,   33.10,2,    0.01,2,    2.23,4,   0.668,2,   0.360,2,   0.153,2,  2239.1,6,  2305.9,2,   7.4944,2,    25.00,-999.000,9,-999.0000,9, -999.00,9,-999.0000,    0.00,2,   -44.1,2,     2.5,-999.000,9,-999.000,    43.6,2, -999.00,9,     52.907,3, -999.00,9,-999.000,-999.0000, -999.00,     -999.0,     -999.0,9,     -999.0,     -999.0,9,     -999.0,  -999.0,9,     -999.0,     -999.0,9,     -999.0,  10.0216,    34.8873,2,-999.0000,2,     -999.0,9
33RO20150410,     P16N.1,      46,          1,         15,         15,2,20150423,       1543,    -0.7399,  -151.0000,       4608,   468.3,   7.7748,  34.6049,2,  34.6067,2,     52.2,2,    55.4,2,   40.70,2,   37.20,2,    0.01,2,    2.50,4,   0.252,2,   0.135,2,   0.047,2,  2258.3,2,  2311.7,2,   7.4593,2,    25.01,-999.000,9,-999.0000,9, -999.00,9,-999.0000,    0.07,2,   -95.3,2,     2.1,-999.000,9,-999.000,    42.9,2, -999.00,9,     47.895,3, -999.00,9,-999.000,-999.0000, -999.00,     -999.0,     -999.0,9,     -999.0,     -999.0,9,     -999.0,  -999.0,9,     -999.0,     -999.0,9,     -999.0,   7.7276,    34.7698,2,-999.0000,2,     -999.0,9
33RO20150410,     P16N.1,      46,          1,         14,         14,2,20150423,       1543,    -0.7399,  -151.0000,       4608,   600.8,   6.7975,  34.5685,2,  34.5727,2,     61.5,2,    61.8,2,   49.20,2,   38.50,2,    0.01,2,    2.61,4,   0.125,3,   0.050,2,       0,2,  2266.6,2,  2320.2,2,   7.4548,2,    25.00,-999.000,9,-999.0000,9, -999.00,9,-999.0000,    0.07,2,  -112.4,2,     2.9,-999.000,9,-999.000,    40.3,2, -999.00,9,     42.339,3, -999.00,9,-999.000,-999.0000, -999.00,     -999.0,     -999.0,9,     -999.0,     -999.0,9,     -999.0,  -999.0,9,     -999.0,     -999.0,9,     -999.0,   6.7409,    34.7357,2,-999.0000,2,     -999.0,9
33RO20150410,     P16N.1,      46,          1,         13,         13,2,20150423,       1543,    -0.7399,  -151.0000,       4608,   750.8,   5.3113,  34.5464,2,  34.5454,2,     76.2,2,    76.7,2,   68.60,2,   39.20,2,    0.01,2,    2.72,4,   0.032,2,   0.019,2,       0,2,  2281.7,2,  2341.0,2,   7.4649,2,    25.01,-999.000,9,-999.0000,9, -999.00,9,-999.0000,    0.08,2,  -148.6,2,     2.1,-999.000,9,-999.000,    39.2,2, -999.00,9,     37.377,3, -999.00,9,-999.000,-999.0000, -999.00,     -999.0,     -999.0,9,     -999.0,     -999.0,9,     -999.0,  -999.0,9,     -999.0,     -999.0,9,     -999.0,   5.2483,    34.7083,2,-999.0000,2,     -999.0,9
33RO20150410,     P16N.1,      46,          1,         12,         12,2,20150423,       1543,    -0.7399,  -151.0000,       4608,   900.7,   4.8996,  34.5486,2,  34.5505,2,     81.3,2,    81.3,2,   75.80,2,   39.30,2,    0.01,2,    2.72,4,   0.022,2,   0.014,2,       0,2,  2290.1,2,  2346.2,2,   7.4707,6,    25.01,-999.000,9,-999.0000,9, -999.00,9,-999.0000, -999.00,9,  -999.0,9,  -999.0,-999.000,9,-999.000,    38.8,2, -999.00,9,     35.947,3, -999.00,9,-999.000,-999.0000, -999.00,     -999.0,     -999.0,9,     -999.0,     -999.0,9,     -999.0,  -999.0,9,     -999.0,     -999.0,9,     -999.0,   4.8258,    34.7134,2,-999.0000,2,     -999.0,9
33RO20150410,     P16N.1,      46,          1,         11,         11,2,20150423,       1543,    -0.7399,  -151.0000,       4608,  1050.2,   4.2246,  34.5637,2,  34.5629,2,     80.2,2,    80.4,2,   91.00,2,   39.80,2,    0.00,2,    2.80,4,   0.026,2,   0.016,2,   0.018,2,  2305.9,2,  2362.2,2,   7.4648,2,    25.01,-999.000,9,-999.0000,9, -999.00,9,-999.0000, -999.00,9,  -999.0,9,  -999.0,-999.000,9,-999.000,    40.1,2, -999.00,9,     34.713,3, -999.00,9,-999.000,-999.0000, -999.00,     -999.0,     -999.0,9,     -999.0,     -999.0,9,     -999.0,  -999.0,9,     -999.0,     -999.0,9,     -999.0,   4.1428,    34.7259,2,-999.0000,2,     -999.0,9
33RO20150410,     P16N.1,      46,          1,         10,         10,2,20150423,       1543,    -0.7399,  -151.0000,       4608,  1232.7,   3.7943,  34.5758,2,  34.5759,2,     84.7,2,    84.6,2,  100.30,2,   39.80,2,    0.01,2,    2.80,4,   0.008,2,   0.004,2,       0,2,  2315.7,2,  2374.9,2,   7.4704,2,    25.00,-999.000,9,-999.0000,9, -999.00,9,-999.0000, -999.00,9,  -999.0,9,  -999.0,-999.000,9,-999.000,    38.6,2, -999.00,9,     33.295,3, -999.00,9,-999.000,-999.0000, -999.00,     -999.0,     -999.0,9,     -999.0,     -999.0,9,     -999.0,  -999.0,9,     -999.0,     -999.0,9,     -999.0,   3.7007,    34.7389,2,-999.0000,2,     -999.0,9
33RO20150410,     P16N.1,      46,          1,          9,          9,2,20150423,       1543,    -0.7399,  -151.0000,       4608,  1499.4,   3.1157,  34.6017,2,  34.6008,2,     89.3,2,    89.9,2,  116.90,2,   39.90,2,    0.00,2,    2.82,4,   0.000,2,   0.001,2,       0,2,  2329.5,2,  2391.2,2,   7.4779,2,    25.01,-999.000,9,-999.0000,9, -999.00,9,-999.0000, -999.00,9,  -999.0,9,  -999.0,-999.000,9,-999.000,    38.1,2, -999.00,9,     30.881,3, -999.00,9,-999.000,-999.0000, -999.00,     -999.0,     -999.0,9,     -999.0,     -999.0,9,     -999.0,  -999.0,9,     -999.0,     -999.0,9,     -999.0,   3.0065,    34.7640,2,-999.0000,2,     -999.0,9
33RO20150410,     P16N.1,      46,          1,          8,          8,2,20150423,       1543,    -0.7399,  -151.0000,       4608,  1866.7,   2.4691,  34.6317,2,  34.6226,4,    102.3,2,   102.7,2,  131.60,2,   39.10,2,    0.02,2,    2.76,4,  -0.001,2,  -0.001,2,       0,2,  2338.4,2,  2408.7,2,   7.5010,2,    25.00,-999.000,9,-999.0000,9, -999.00,9,-999.0000, -999.00,9,  -999.0,9,  -999.0,-999.000,9,-999.000,    36.7,2, -999.00,9,     27.135,3, -999.00,9,-999.000,-999.0000, -999.00,     -999.0,     -999.0,9,     -999.0,     -999.0,9,     -999.0,  -999.0,9,     -999.0,     -999.0,9,     -999.0,   2.3370,    34.7859,3,-999.0000,2,     -999.0,9
33RO20150410,     P16N.1,      46,          1,          7,          7,2,20150423,       1543,    -0.7399,  -151.0000,       4608,  2267.6,   1.9950,  34.6568,2,  34.6562,2,    114.9,2,   115.9,2,  143.50,2,   38.40,2,    0.01,2,    2.70,4,   0.004,2,   0.001,2,       0,2,  2344.9,2,  2422.7,2,   7.5232,2,    25.01,-999.000,9,-999.0000,9, -999.00,9,-999.0000, -999.00,9,  -999.0,9,  -999.0,-999.000,9,-999.000,    39.2,2, -999.00,9,     24.592,3, -999.00,9,-999.000,-999.0000, -999.00,     -999.0,     -999.0,9,     -999.0,     -999.0,9,     -999.0,  -999.0,9,     -999.0,     -999.0,9,     -999.0,   1.8356,    34.8197,2,-999.0000,2,     -999.0,9
33RO20150410,     P16N.1,      46,          1,          6,          6,2,20150423,       1543,    -0.7399,  -151.0000,       4608,  2668.5,   1.7897,  34.6684,2,  34.6661,2,    126.0,2,   126.1,2,  145.50,2,   37.60,2,    0.00,2,    2.64,4,   0.001,2,  -0.001,2,       0,2,  2339.4,2,  2426.2,2,   7.5421,6,    25.02,-999.000,9,-999.0000,9, -999.00,9,-999.0000, -999.00,9,  -999.0,9,  -999.0,-999.000,9,-999.000,    38.8,2, -999.00,9,     23.024,3, -999.00,9,-999.000,-999.0000, -999.00,     -999.0,     -999.0,9,     -999.0,     -999.0,9,     -999.0,  -999.0,9,     -999.0,     -999.0,9,     -999.0,   1.5979,    34.8295,2,-999.0000,2,     -999.0,9
33RO20150410,     P16N.1,      46,          1,          5,          5,2,20150423,       1543,    -0.7399,  -151.0000,       4608,  3067.7,   1.6598,  34.6760,2,  34.6747,2,    136.6,2,   136.2,2,  145.70,2,   36.90,2,    0.00,2,    2.60,4,   0.001,2,   0.000,2,       0,2,  2334.4,2,  2425.5,2,   7.5577,2,    25.00,-999.000,9,-999.0000,9, -999.00,9,-999.0000, -999.00,9,  -999.0,9,  -999.0,-999.000,9,-999.000,    41.0,2, -999.00,9,     22.081,3, -999.00,9,-999.000,-999.0000, -999.00,     -999.0,     -999.0,9,     -999.0,     -999.0,9,     -999.0,  -999.0,9,     -999.0,     -999.0,9,     -999.0,   1.4329,    34.8382,2,-999.0000,2,     -999.0,9
33RO20150410,     P16N.1,      46,          1,          4,          4,2,20150423,       1543,    -0.7399,  -151.0000,       4608,  3466.2,   1.5327,  34.6842,2,  34.6838,2,    147.5,2,   147.7,2,  143.50,6,   36.20,6,    0.01,6,    2.52,4,   0.001,2,  -0.001,2,       0,2,  2326.6,2,  2425.5,2,   7.5756,6,    25.01,-999.000,9,-999.0000,9, -999.00,9,-999.0000, -999.00,9,  -999.0,9,  -999.0,-999.000,9,-999.000,    37.1,2, -999.00,9,     20.970,3, -999.00,9,-999.000,-999.0000, -999.00,     -999.0,     -999.0,9,     -999.0,     -999.0,9,     -999.0,  -999.0,9,     -999.0,     -999.0,9,     -999.0,   1.2691,    34.8473,2,-999.0000,2,     -999.0,9
33RO20150410,     P16N.1,      46,          1,          3,          3,2,20150423,       1543,    -0.7399,  -151.0000,       4608,  3866.9,   1.4249,  34.6930,2,  34.6920,2,    157.5,2,   157.8,2,  143.80,6,   35.60,6,    0.00,6,    2.47,4,  -0.002,6,   0.001,6,       0,2,  2322.1,2,  2429.0,2,   7.5954,2,    25.03,-999.000,9,-999.0000,9, -999.00,9,-999.0000, -999.00,9,  -999.0,9,  -999.0,-999.000,9,-999.000,    37.7,2, -999.00,9,     19.772,3, -999.00,9,-999.000,-999.0000, -999.00,     -999.0,     -999.0,9,     -999.0,     -999.0,9,     -999.0,  -999.0,9,     -999.0,     -999.0,9,     -999.0,   1.1223,    34.8556,2,-999.0000,3,     -999.0,9
33RO20150410,     P16N.1,      46,          1,          2,          2,2,20150423,       1543,    -0.7399,  -151.0000,       4608,  4267.8,   1.4007,  34.6959,2,  34.6957,2,    165.0,2,   164.1,2,  140.40,6,   35.10,6,    0.00,6,    2.42,4,   0.002,2,   0.001,2,       0,2,  2314.2,2,  2424.1,6,   7.6011,2,    25.00,-999.000,9,-999.0000,9, -999.00,9,-999.0000, -999.00,9,  -999.0,9,  -999.0,-999.000,9,-999.000,    40.2,2, -999.00,9,     19.633,3, -999.00,9,-999.000,-999.0000, -999.00,     -999.0,     -999.0,9,     -999.0,     -999.0,9,     -999.0,  -999.0,9,     -999.0,     -999.0,9,     -999.0,   1.0550,    34.8593,6,-999.0000,3,     -999.0,9
33RO20150410,     P16N.1,      46,          1,          1,          1,2,20150423,       1543,    -0.7399,  -151.0000,       4608,  4597.9,   1.3397,  34.7003,2,  34.7021,2,    179.0,2,   178.1,2,  131.70,6,   34.10,6,    0.00,6,    2.35,4,   0.004,2,   0.002,2,       0,2,  2297.8,6,  2406.2,2,   7.6065,2,    25.01,-999.000,9,-999.0000,9, -999.00,9,-999.0000, -999.00,9,  -999.0,9,  -999.0,-999.000,9,-999.000,    37.6,2, -999.00,9,     19.116,3, -999.00,9,-999.000,-999.0000, -999.00,     -999.0,     -999.0,9,     -999.0,     -999.0,9,     -999.0,  -999.0,9,     -999.0,     -999.0,9,     -999.0,   0.9583,    34.8657,2,-999.0000,2,     -999.0,9