BOTTLE,20210709CCHSIOCBG
EXPOCODE,SECT_ID,STNNBR,CASTNO,SAMPNO,BTLNBR,BTLNBR_FLAG_W,DATE,TIME,LATITUDE,LONGITUDE,DEPTH,CTDPRS,CTDTMP,CTDSAL,CTDSAL_FLAG_W,SALNTY,SALNTY_FLAG_W,CTDOXY,CTDOXY_FLAG_W,OXYGEN,OXYGEN_FLAG_W,SILCAT,SILCAT_FLAG_W,NITRAT,NITRAT_FLAG_W,NITRIT,NITRIT_FLAG_W,PHSPHT,PHSPHT_FLAG_W,CFC-11,CFC-11_FLAG_W,CFC-12,CFC-12_FLAG_W,SF6,SF6_FLAG_W,TCARBN,TCARBN_FLAG_W,ALKALI,ALKALI_FLAG_W,PH_TOT,PH_TOT_FLAG_W,PH_TMP,TRITUM,TRITUM_FLAG_W,HELIUM,HELIUM_FLAG_W,DELHE3,DELHE3_FLAG_W,REFTMP,DELC13,DELC13_FLAG_W,DELC14,DELC14_FLAG_W,C14ERR,NEON,NEON_FLAG_W,NEONER,DOC,DOC_FLAG_W,TDN,TDN_FLAG_W,N2O,N2O_FLAG_W,ARGON,ARGON_FLAG_W,TRITER,HELIER,DELHER,ARGONER,KRYPTON,KRYPTON_FLAG_W,KRYPTONER,XENON,XENON_FLAG_W,XENONER,14C-DOC,14C-DOC_FLAG_W,14C-DOCERR,13C-DOC,13C-DOC_FLAG_W,13C-DOCERR,THETA,SALTREF,SALTREF_FLAG_W,SBE35,SBE35_FLAG_W,CHLORA,CHLORA_FLAG_W
,,,,,,,,,,,METERS,DBAR,ITS-90,PSS-78,,PSS-78,,UMOL/KG,,UMOL/KG,,UMOL/KG,,UMOL/KG,,UMOL/KG,,UMOL/KG,,PMOL/KG,,PMOL/KG,,FMOL/KG,,UMOL/KG,,UMOL/KG,,,,DEG C,TU,,NMOL/KG,,PERCNT,,DEG C,/MILLE,,/MILLE,,/MILLE,NMOL/KG,,NMOL/KG,UMOL/KG,,UMOL/KG,,NMOL/KG,,UMOL/KG,,TU,NMOL/KG,PERCNT,UMOL/KG,NMOL/KG,,NMOL/KG,NMOL/KG,,NMOL/KG,/MILLE,,/MILLE,/MILLE,,/MILLE,DEG C,G/KG,,ITS-90,,MG/M3,
33RO20150410,     P16N.1,      75,          1,         24,         24,2,20150430,       1411,     4.6704,  -151.0002,       5179,    15.3,  29.0279,  34.8956,2,  34.8947,2,    198.3,2,   198.0,2,    1.60,2,    1.40,2,    0.06,2,    0.32,2,   1.428,2,   0.936,2,   1.228,2,  1982.7,6,  2296.0,2,   8.0658,2,    25.00,-999.000,9,-999.0000,9, -999.00,9,  29.0289, -999.00,9,  -999.0,9,  -999.0,-999.000,9,-999.000,    63.5,2,    5.80,2,      6.370,3, -999.00,9,-999.000,-999.0000, -999.00,     -999.0,     -999.0,9,     -999.0,     -999.0,9,     -999.0,  -999.0,9,     -999.0,     -999.0,9,     -999.0,  29.0242,    35.0593,2,-999.0000,2,     -999.0,9
33RO20150410,     P16N.1,      75,          1,         23,         23,2,20150430,       1411,     4.6704,  -151.0002,       5179,    33.5,  29.0238,  34.8943,2,  34.8973,2,    199.0,2,   197.9,2,    1.60,2,    1.40,2,    0.07,2,    0.33,2,-999.000,9,-999.000,9,-999.000,9,  1981.6,2,  2294.6,2,   8.0658,2,    25.00,-999.000,9,-999.0000,9, -999.00,9,  29.0241, -999.00,9,  -999.0,9,  -999.0,-999.000,9,-999.000,    64.4,2,    6.00,2,     -999.0,9, -999.00,9,-999.000,-999.0000, -999.00,     -999.0,     -999.0,9,     -999.0,     -999.0,9,     -999.0,  -999.0,9,     -999.0,     -999.0,9,     -999.0,  29.0157,    35.0618,2,-999.0000,2,     -999.0,9
33RO20150410,     P16N.1,      75,          1,         22,         22,2,20150430,       1411,     4.6704,  -151.0002,       5179,    57.7,  28.5257,  34.9966,2,  35.0094,2,    196.6,2,   193.4,2,    1.70,2,    2.00,2,    0.27,2,    0.39,2,   1.464,2,   0.955,2,   1.209,2,  1998.9,2,  2301.3,2,   8.0474,6,    25.02,-999.000,9,-999.0000,9, -999.00,9,  28.5331, -999.00,9,  -999.0,9,  -999.0,-999.000,9,-999.000,    63.0,2,    6.20,2,      6.910,3, -999.00,9,-999.000,-999.0000, -999.00,     -999.0,     -999.0,9,     -999.0,     -999.0,9,     -999.0,  -999.0,9,     -999.0,     -999.0,9,     -999.0,  28.5119,    35.1745,2,-999.0000,2,     -999.0,9
33RO20150410,     P16N.1,      75,          1,         21,         21,2,20150430,       1411,     4.6704,  -151.0002,       5179,    84.1,  27.8798,  35.0166,2,  35.0209,2,    185.3,2,   184.5,2,    2.00,2,    2.70,2,    0.63,2,    0.47,2,-999.000,9,-999.000,9,-999.000,9,  2009.8,2,  2300.7,2,   8.0266,2,    25.00,-999.000,9,-999.0000,9, -999.00,9,  27.8833, -999.00,9,  -999.0,9,  -999.0,-999.000,9,-999.000,    62.7,2,    7.10,2,     -999.0,9, -999.00,9,-999.000,-999.0000, -999.00,     -999.0,     -999.0,9,     -999.0,     -999.0,9,     -999.0,  -999.0,9,     -999.0,     -999.0,9,     -999.0,  27.8600,    35.1860,2,-999.0000,2,     -999.0,9
33RO20150410,     P16N.1,      75,          1,         20,         20,2,20150430,       1411,     4.6704,  -151.0002,       5179,   117.5,  22.9710,  34.9297,2,  34.9353,2,    134.4,2,   133.0,2,    5.40,2,    9.00,2,    0.05,2,    0.77,2,   1.792,2,   1.099,2,   1.094,2,  2071.4,2,  2295.1,6,   7.8999,6,    25.01,-999.000,9,-999.0000,9, -999.00,9,  23.0870, -999.00,9,  -999.0,9,  -999.0,-999.000,9,-999.000,    55.2,2,   11.20,2,     13.841,3, -999.00,9,-999.000,-999.0000, -999.00,     -999.0,     -999.0,9,     -999.0,     -999.0,9,     -999.0,  -999.0,9,     -999.0,     -999.0,9,     -999.0,  22.9470,    35.1000,2,-999.0000,2,     -999.0,9
33RO20150410,     P16N.1,      75,          1,         19,         19,2,20150430,       1411,     4.6704,  -151.0002,       5179,   201.2,  11.5229,  34.6856,2,  34.6834,2,      5.5,2,     9.7,2,   28.20,2,   33.00,2,    0.01,2,    2.47,2,   0.890,2,   0.484,2,   0.212,2,  2253.9,2,  2292.9,2,   7.4295,2,    25.00,-999.000,9,-999.0000,9, -999.00,9,  11.5253, -999.00,9,  -999.0,9,  -999.0,-999.000,9,-999.000,    46.6,2,   35.60,2,     90.862,3, -999.00,9,-999.000,-999.0000, -999.00,     -999.0,     -999.0,9,     -999.0,     -999.0,9,     -999.0,  -999.0,9,     -999.0,     -999.0,9,     -999.0,  11.4974,    34.8469,2,-999.0000,2,     -999.0,9
33RO20150410,     P16N.1,      75,          1,         18,         18,2,20150430,       1411,     4.6704,  -151.0002,       5179,   250.7,  10.1465,  34.6906,2,  34.6915,2,     23.0,2,    24.3,2,   31.80,2,   34.60,2,    0.01,2,    2.46,2,   0.566,2,   0.305,2,   0.126,2,  2256.7,6,  2300.4,2,   7.4402,2,    25.00,-999.000,9,-999.0000,9, -999.00,9,  10.1558, -999.00,9,  -999.0,9,  -999.0,-999.000,9,-999.000,    44.8,2,   36.70,2,     61.239,3, -999.00,9,-999.000,-999.0000, -999.00,     -999.0,     -999.0,9,     -999.0,     -999.0,9,     -999.0,  -999.0,9,     -999.0,     -999.0,9,     -999.0,  10.1172,    34.8551,2,-999.0000,2,     -999.0,9
33RO20150410,     P16N.1,      75,          1,         17,         17,2,20150430,       1411,     4.6704,  -151.0002,       5179,   331.5,   9.2700,  34.6575,2,  34.6579,2,     63.6,2,    63.9,2,   32.20,2,   33.10,2,    0.01,2,    2.31,2,   0.635,6,   0.342,6,   0.124,6,  2238.1,2,  2304.1,2,   7.5076,6,    25.01,-999.000,9,-999.0000,9, -999.00,9,   9.2688, -999.00,9,  -999.0,9,  -999.0,-999.000,9,-999.000,    42.1,2, -999.00,9,     43.848,3, -999.00,9,-999.000,-999.0000, -999.00,     -999.0,     -999.0,9,     -999.0,     -999.0,9,     -999.0,  -999.0,9,     -999.0,     -999.0,9,     -999.0,   9.2332,    34.8213,2,-999.0000,2,     -999.0,9
33RO20150410,     P16N.1,      75,          1,         16,         16,2,20150430,       1411,     4.6704,  -151.0002,       5179,   432.7,   8.4525,  34.6238,2,  34.6225,2,     43.1,2,    42.6,2,   38.80,2,   36.80,2,    0.01,2,    2.58,2,   0.300,2,   0.160,2,    0.06,2,  2263.9,2,  2308.1,2,   7.4482,2,    25.00,-999.000,9,-999.0000,9, -999.00,9,   8.4551, -999.00,9,  -999.0,9,  -999.0,-999.000,9,-999.000,    41.0,2, -999.00,9,     48.678,3, -999.00,9,-999.000,-999.0000, -999.00,     -999.0,     -999.0,9,     -999.0,     -999.0,9,     -999.0,  -999.0,9,     -999.0,     -999.0,9,     -999.0,   8.4068,    34.7858,2,-999.0000,2,     -999.0,9
33RO20150410,     P16N.1,      75,          1,         15,         15,2,20150430,       1411,     4.6704,  -151.0002,       5179,   550.4,   7.4726,  34.5859,2,  34.5846,2,     31.9,2,    30.9,2,   48.20,2,   39.60,2,    0.01,2,    2.83,2,   0.092,2,   0.052,2,   0.015,2,  2282.8,2,  2315.4,2,   7.4080,2,    25.00,-999.000,9,-999.0000,9, -999.00,9,   7.4719, -999.00,9,  -999.0,9,  -999.0,-999.000,9,-999.000,    40.3,2, -999.00,9,     51.430,3, -999.00,9,-999.000,-999.0000, -999.00,     -999.0,     -999.0,9,     -999.0,     -999.0,9,     -999.0,  -999.0,9,     -999.0,     -999.0,9,     -999.0,   7.4181,    34.7477,2,-999.0000,2,     -999.0,9
33RO20150410,     P16N.1,      75,          1,         14,         14,2,20150430,       1411,     4.6704,  -151.0002,       5179,   699.9,   6.2423,  34.5576,2,  34.5599,2,     25.3,2,    25.8,2,   63.00,2,   42.70,2,    0.01,2,    3.04,2,   0.015,2,   0.009,2,       0,2,  2309.5,2,  2329.3,2,   7.3775,2,    24.99,-999.000,9,-999.0000,9, -999.00,9,   6.2412, -999.00,9,  -999.0,9,  -999.0,-999.000,9,-999.000,    41.4,2, -999.00,9,     51.579,3, -999.00,9,-999.000,-999.0000, -999.00,     -999.0,     -999.0,9,     -999.0,     -999.0,9,     -999.0,  -999.0,9,     -999.0,     -999.0,9,     -999.0,   6.1788,    34.7228,2,-999.0000,2,     -999.0,9
33RO20150410,     P16N.1,      75,          1,         13,         13,2,20150430,       1411,     4.6704,  -151.0002,       5179,   849.4,   5.0972,  34.5504,2,  34.5501,2,     39.0,2,    56.6,2,   77.40,2,   41.50,2,    0.01,2,    2.94,2,   0.014,2,   0.010,2,       0,2,  2307.9,2,  2345.5,2,   7.4262,2,    25.00,-999.000,9,-999.0000,9, -999.00,9,   5.0981, -999.00,9,  -999.0,9,  -999.0,-999.000,9,-999.000,    38.3,2, -999.00,9,     39.780,3, -999.00,9,-999.000,-999.0000, -999.00,     -999.0,     -999.0,9,     -999.0,     -999.0,9,     -999.0,  -999.0,9,     -999.0,     -999.0,9,     -999.0,   5.0267,    34.7130,2,-999.0000,2,     -999.0,9
33RO20150410,     P16N.1,      75,          1,         12,         12,2,20150430,       1411,     4.6704,  -151.0002,       5179,   998.9,   4.4855,  34.5639,2,  34.5677,2,     51.7,2,    51.8,2,   90.60,2,   42.70,2,    0.01,2,    3.05,2,-999.000,9,-999.000,9,-999.000,9,  2325.3,2,  2360.4,2,   7.4113,2,    25.00,-999.000,9,-999.0000,9, -999.00,9,   4.4853, -999.00,9,  -999.0,9,  -999.0,-999.000,9,-999.000,    41.5,2, -999.00,9,     -999.0,9, -999.00,9,-999.000,-999.0000, -999.00,     -999.0,     -999.0,9,     -999.0,     -999.0,9,     -999.0,  -999.0,9,     -999.0,     -999.0,9,     -999.0,   4.4061,    34.7307,2,-999.0000,2,     -999.0,9
33RO20150410,     P16N.1,      75,          1,         11,         11,2,20150430,       1411,     4.6704,  -151.0002,       5179,  1166.7,   3.8798,  34.5789,2,  34.5772,2,     63.0,2,    63.3,2,  102.80,2,   42.00,2,    0.01,2,    3.00,2,   0.002,2,   0.003,2,       0,2,  2331.7,2,  2374.7,2,   7.4307,6,    25.01,-999.000,9,-999.0000,9, -999.00,9,   3.8763, -999.00,9,  -999.0,9,  -999.0,-999.000,9,-999.000,    36.6,2, -999.00,9,     36.564,3, -999.00,9,-999.000,-999.0000, -999.00,     -999.0,     -999.0,9,     -999.0,     -999.0,9,     -999.0,  -999.0,9,     -999.0,     -999.0,9,     -999.0,   3.7910,    34.7402,2,-999.0000,2,     -999.0,9
33RO20150410,     P16N.1,      75,          1,         10,         10,2,20150430,       1411,     4.6704,  -151.0002,       5179,  1401.1,   3.3025,  34.5999,2,  34.5986,2,     69.8,2,    69.8,2,  117.10,2,   41.70,2,    0.00,2,    2.96,2,-999.000,9,-999.000,9,-999.000,9,  2345.1,2,  2390.9,2,   7.4411,2,    25.00,-999.000,9,-999.0000,9, -999.00,9,   3.3023, -999.00,9,  -999.0,9,  -999.0,-999.000,9,-999.000,    35.2,2, -999.00,9,     -999.0,9, -999.00,9,-999.000,-999.0000, -999.00,     -999.0,     -999.0,9,     -999.0,     -999.0,9,     -999.0,  -999.0,9,     -999.0,     -999.0,9,     -999.0,   3.1995,    34.7618,2,-999.0000,2,     -999.0,9
33RO20150410,     P16N.1,      75,          1,          9,          9,2,20150430,       1411,     4.6704,  -151.0002,       5179,  1733.0,   2.5834,  34.6271,2,  34.6264,2,     88.4,2,    88.4,2,  132.30,2,   40.60,2,    0.00,2,    2.86,2,-999.000,9,-999.000,9,-999.000,9,  2349.9,2,  2408.7,2,   7.4749,2,    25.01,-999.000,9,-999.0000,9, -999.00,9,   2.5835, -999.00,9,  -999.0,9,  -999.0,-999.000,9,-999.000,    37.1,2, -999.00,9,     -999.0,9, -999.00,9,-999.000,-999.0000, -999.00,     -999.0,     -999.0,9,     -999.0,     -999.0,9,     -999.0,  -999.0,9,     -999.0,     -999.0,9,     -999.0,   2.4611,    34.7897,2,-999.0000,2,     -999.0,9
33RO20150410,     P16N.1,      75,          1,          8,          8,2,20150430,       1411,     4.6704,  -151.0002,       5179,  2133.8,   2.0510,  34.6541,2,  34.6457,4,    104.4,2,   104.8,2,  143.90,2,   39.40,2,    0.01,2,    2.75,2,-999.000,9,-999.000,9,-999.000,9,  2353.6,2,  2423.2,2,   7.5061,2,    25.00,-999.000,9,-999.0000,9, -999.00,9,   2.0507, -999.00,9,  -999.0,9,  -999.0,-999.000,9,-999.000,    36.3,2, -999.00,9,     -999.0,9, -999.00,9,-999.000,-999.0000, -999.00,     -999.0,     -999.0,9,     -999.0,     -999.0,9,     -999.0,  -999.0,9,     -999.0,     -999.0,9,     -999.0,   1.9023,    34.8090,3,-999.0000,2,     -999.0,9
33RO20150410,     P16N.1,      75,          1,          7,          7,2,20150430,       1411,     4.6704,  -151.0002,       5179,  2533.7,   1.8470,  34.6673,2,  34.6657,2,    114.9,2,   115.6,2,  148.10,2,   38.60,2,    0.00,2,    2.67,2,  -0.005,2,   0.000,2,       0,2,  2353.3,2,  2429.9,2,   7.5274,6,    25.01,-999.000,9,-999.0000,9, -999.00,9,   1.8463, -999.00,9,  -999.0,9,  -999.0,-999.000,9,-999.000,    35.3,2, -999.00,9,     24.118,3, -999.00,9,-999.000,-999.0000, -999.00,     -999.0,     -999.0,9,     -999.0,     -999.0,9,     -999.0,  -999.0,9,     -999.0,     -999.0,9,     -999.0,   1.6664,    34.8292,2,-999.0000,2,     -999.0,9
33RO20150410,     P16N.1,      75,          1,          6,          6,2,20150430,       1411,     4.6704,  -151.0002,       5179,  2933.1,   1.7310,  34.6740,2,  34.6811,4,    122.4,2,   122.8,2,  149.40,2,   38.20,2,    0.00,2,    2.64,2,-999.000,9,-999.000,9,-999.000,9,  2349.8,2,  2430.9,2,   7.5388,2,    25.00,-999.000,9,-999.0000,9, -999.00,9,   1.7307, -999.00,9,  -999.0,9,  -999.0,-999.000,9,-999.000,    35.7,2, -999.00,9,     -999.0,9, -999.00,9,-999.000,-999.0000, -999.00,     -999.0,     -999.0,9,     -999.0,     -999.0,9,     -999.0,  -999.0,9,     -999.0,     -999.0,9,     -999.0,   1.5155,    34.8446,4,-999.0000,2,     -999.0,9
33RO20150410,     P16N.1,      75,          1,          5,          5,2,20150430,       1411,     4.6704,  -151.0002,       5179,  3332.7,   1.5360,  34.6841,2,  34.6819,2,    142.0,2,   142.7,2,  144.90,2,   36.90,2,    0.00,2,    2.53,2,-999.000,9,-999.000,9,-999.000,9,  2332.7,2,  2427.0,2,   7.5691,2,    25.00,-999.000,9,-999.0000,9, -999.00,9,   1.5357, -999.00,9,  -999.0,9,  -999.0,-999.000,9,-999.000,    35.9,2, -999.00,9,     -999.0,9, -999.00,9,-999.000,-999.0000, -999.00,     -999.0,     -999.0,9,     -999.0,     -999.0,9,     -999.0,  -999.0,9,     -999.0,     -999.0,9,     -999.0,   1.2858,    34.8454,2,-999.0000,2,     -999.0,9
33RO20150410,     P16N.1,      75,          1,          4,          4,2,20150430,       1411,     4.6704,  -151.0002,       5179,  3733.4,   1.4509,  34.6906,2,  34.6898,2,    153.6,2,   151.0,2,  142.00,6,   36.10,6,    0.01,6,    2.47,6,   0.000,6,   0.000,6,       0,6,  2325.2,2,  2424.8,2,   7.5870,6,    25.00,-999.000,9,-999.0000,9, -999.00,9,   1.4509, -999.00,9,  -999.0,9,  -999.0,-999.000,9,-999.000,    34.7,2, -999.00,9,     20.637,3, -999.00,9,-999.000,-999.0000, -999.00,     -999.0,     -999.0,9,     -999.0,     -999.0,9,     -999.0,  -999.0,9,     -999.0,     -999.0,9,     -999.0,   1.1618,    34.8533,6,-999.0000,2,     -999.0,9
33RO20150410,     P16N.1,      75,          1,          3,          3,2,20150430,       1411,     4.6704,  -151.0002,       5179,  4167.4,   1.3839,  34.6958,2,  34.6962,2,    164.9,2,   164.9,2,  137.00,6,   35.30,6,    0.00,6,    2.41,6,-999.000,9,-999.000,9,-999.000,9,  2313.9,2,  2418.4,2,   7.5989,2,    25.01,-999.000,9,-999.0000,9, -999.00,9,   1.3839, -999.00,9,  -999.0,9,  -999.0,-999.000,9,-999.000,    35.6,2, -999.00,9,     -999.0,9, -999.00,9,-999.000,-999.0000, -999.00,     -999.0,     -999.0,9,     -999.0,     -999.0,9,     -999.0,  -999.0,9,     -999.0,     -999.0,9,     -999.0,   1.0498,    34.8598,2,-999.0000,2,     -999.0,9
33RO20150410,     P16N.1,      75,          1,          2,          2,2,20150430,       1411,     4.6704,  -151.0002,       5179,  4667.8,   1.4037,  34.6973,2,  34.6981,2,    168.9,2,   168.7,2,  135.00,6,   35.00,6,    0.01,6,    2.40,6,-999.000,9,-999.000,9,-999.000,9,  2309.3,2,  2413.8,6,   7.6001,2,    25.00,-999.000,9,-999.0000,9, -999.00,9,   1.4037, -999.00,9,  -999.0,9,  -999.0,-999.000,9,-999.000,    35.2,2, -999.00,9,     -999.0,9, -999.00,9,-999.000,-999.0000, -999.00,     -999.0,     -999.0,9,     -999.0,     -999.0,9,     -999.0,  -999.0,9,     -999.0,     -999.0,9,     -999.0,   1.0121,    34.8617,6,-999.0000,2,     -999.0,9
33RO20150410,     P16N.1,      75,          1,          1,          1,2,20150430,       1411,     4.6704,  -151.0002,       5179,  5169.1,   1.4573,  34.6970,2,  34.6981,2,    170.5,2,   170.1,2,  134.50,6,   34.90,6,    0.01,6,    2.39,6,   0.003,2,   0.002,2,       0,2,  2310.9,6,  2410.8,2,   7.5991,2,    25.00,-999.000,9,-999.0000,9, -999.00,9,   1.4572, -999.00,9,  -999.0,9,  -999.0,-999.000,9,-999.000,    37.4,2, -999.00,9,     19.729,3, -999.00,9,-999.000,-999.0000, -999.00,     -999.0,     -999.0,9,     -999.0,     -999.0,9,     -999.0,  -999.0,9,     -999.0,     -999.0,9,     -999.0,   1.0036,    34.8617,2,-999.0000,2,     -999.0,9