BOTTLE,20210709CCHSIOCBG
EXPOCODE,SECT_ID,STNNBR,CASTNO,SAMPNO,BTLNBR,BTLNBR_FLAG_W,DATE,TIME,LATITUDE,LONGITUDE,DEPTH,CTDPRS,CTDTMP,CTDSAL,CTDSAL_FLAG_W,SALNTY,SALNTY_FLAG_W,CTDOXY,CTDOXY_FLAG_W,OXYGEN,OXYGEN_FLAG_W,SILCAT,SILCAT_FLAG_W,NITRAT,NITRAT_FLAG_W,NITRIT,NITRIT_FLAG_W,PHSPHT,PHSPHT_FLAG_W,CFC-11,CFC-11_FLAG_W,CFC-12,CFC-12_FLAG_W,SF6,SF6_FLAG_W,TCARBN,TCARBN_FLAG_W,ALKALI,ALKALI_FLAG_W,PH_TOT,PH_TOT_FLAG_W,PH_TMP,TRITUM,TRITUM_FLAG_W,HELIUM,HELIUM_FLAG_W,DELHE3,DELHE3_FLAG_W,REFTMP,DELC13,DELC13_FLAG_W,DELC14,DELC14_FLAG_W,C14ERR,NEON,NEON_FLAG_W,NEONER,DOC,DOC_FLAG_W,TDN,TDN_FLAG_W,N2O,N2O_FLAG_W,ARGON,ARGON_FLAG_W,TRITER,HELIER,DELHER,ARGONER,KRYPTON,KRYPTON_FLAG_W,KRYPTONER,XENON,XENON_FLAG_W,XENONER,14C-DOC,14C-DOC_FLAG_W,14C-DOCERR,13C-DOC,13C-DOC_FLAG_W,13C-DOCERR,THETA,SALTREF,SALTREF_FLAG_W,SBE35,SBE35_FLAG_W,CHLORA,CHLORA_FLAG_W
,,,,,,,,,,,METERS,DBAR,ITS-90,PSS-78,,PSS-78,,UMOL/KG,,UMOL/KG,,UMOL/KG,,UMOL/KG,,UMOL/KG,,UMOL/KG,,PMOL/KG,,PMOL/KG,,FMOL/KG,,UMOL/KG,,UMOL/KG,,,,DEG C,TU,,NMOL/KG,,PERCNT,,DEG C,/MILLE,,/MILLE,,/MILLE,NMOL/KG,,NMOL/KG,UMOL/KG,,UMOL/KG,,NMOL/KG,,UMOL/KG,,TU,NMOL/KG,PERCNT,UMOL/KG,NMOL/KG,,NMOL/KG,NMOL/KG,,NMOL/KG,/MILLE,,/MILLE,/MILLE,,/MILLE,DEG C,G/KG,,ITS-90,,MG/M3,
33RO20150410,     P16N.1,      42,          1,         24,         24,2,20150422,       1534,    -1.3998,  -151.0001,       4931,    14.5,  28.5923,  35.3170,2,  35.3155,2,    199.4,2,   199.6,2,    1.70,2,    3.30,2,    0.15,2,    0.40,4,   1.485,6,   0.951,6,    1.25,6,  2016.2,2,  2325.7,2,   8.0431,2,    25.00,-999.000,9,-999.0000,9, -999.00,9,-999.0000,    1.00,2,    40.0,2,     2.1,-999.000,9,-999.000,    65.1,2,    7.90,2,      6.629,3, -999.00,9,-999.000,-999.0000, -999.00,     -999.0,     -999.0,9,     -999.0,     -999.0,9,     -999.0,  -999.0,9,     -999.0,     -999.0,9,     -999.0,  28.5888,    35.4820,6,-999.0000,2,     -999.0,9
33RO20150410,     P16N.1,      42,          1,         23,         23,2,20150422,       1534,    -1.3998,  -151.0001,       4931,    33.5,  28.5001,  35.3102,2,  35.3096,2,    200.4,2,   200.2,2,    1.40,2,    3.40,2,    0.15,2,    0.42,4,   1.491,2,   0.956,2,   1.237,2,  2016.3,6,  2324.8,2,   8.0414,2,    25.01,-999.000,9,-999.0000,9, -999.00,9,-999.0000,    1.01,2,    44.4,2,     2.1,-999.000,9,-999.000,    65.0,2,    8.60,2,      6.627,3, -999.00,9,-999.000,-999.0000, -999.00,     -999.0,     -999.0,9,     -999.0,     -999.0,9,     -999.0,  -999.0,9,     -999.0,     -999.0,9,     -999.0,  28.4921,    35.4761,2,-999.0000,2,     -999.0,9
33RO20150410,     P16N.1,      42,          1,         22,         22,2,20150422,       1534,    -1.3998,  -151.0001,       4931,    58.9,  27.7289,  35.2321,2,  35.2339,2,    198.4,2,   198.0,2,    1.50,2,    4.20,2,    0.23,2,    0.48,4,   1.544,2,   0.981,2,   1.285,2,  2025.8,2,  2319.3,2,   8.0205,6,    25.01,-999.000,9,-999.0000,9, -999.00,9,-999.0000,    0.95,2,    40.0,2,     2.4,-999.000,9,-999.000,    63.8,2,    8.60,2,      7.058,3, -999.00,9,-999.000,-999.0000, -999.00,     -999.0,     -999.0,9,     -999.0,     -999.0,9,     -999.0,  -999.0,9,     -999.0,     -999.0,9,     -999.0,  27.7151,    35.4001,2,-999.0000,2,     -999.0,9
33RO20150410,     P16N.1,      42,          1,         21,         21,2,20150422,       1534,    -1.3998,  -151.0001,       4931,    82.3,  27.2622,  35.2314,2,  35.2293,2,    191.3,2,   191.8,2,    1.60,2,    4.50,2,    0.26,2,    0.54,4,   1.563,2,   0.996,2,   1.249,2,  2033.4,2,  2320.1,2,   8.0068,6,    25.00,-999.000,9,-999.0000,9, -999.00,9,-999.0000,    0.87,2,    37.3,2,     2.3,-999.000,9,-999.000,    59.5,2,   10.30,2,      7.014,3, -999.00,9,-999.000,-999.0000, -999.00,     -999.0,     -999.0,9,     -999.0,     -999.0,9,     -999.0,  -999.0,9,     -999.0,     -999.0,9,     -999.0,  27.2432,    35.3954,2,-999.0000,2,     -999.0,9
33RO20150410,     P16N.1,      42,          1,         20,         20,2,20150422,       1534,    -1.3998,  -151.0001,       4931,   117.0,  27.1047,  35.2858,2,  35.2793,2,    187.8,2,   188.9,2,    1.70,2,    4.70,2,    0.26,2,    0.58,4,   1.563,2,   0.993,2,   1.237,2,  2039.6,2,  2323.6,6,   8.0014,2,    24.99,-999.000,9,-999.0000,9, -999.00,9,-999.0000,    0.86,2,    40.3,2,     2.2,-999.000,9,-999.000,    59.1,2,   10.10,2,      6.952,3, -999.00,9,-999.000,-999.0000, -999.00,     -999.0,     -999.0,9,     -999.0,     -999.0,9,     -999.0,  -999.0,9,     -999.0,     -999.0,9,     -999.0,  27.0778,    35.4456,2,-999.0000,2,     -999.0,9
33RO20150410,     P16N.1,      42,          1,         19,         19,2,20150422,       1534,    -1.3998,  -151.0001,       4931,   176.1,  16.3669,  35.2545,2,  35.2407,2,     81.0,2,    80.6,2,   10.50,2,   20.70,2,    0.02,2,    1.49,4,   1.728,2,   1.016,2,   0.773,2,  2187.1,2,  2322.9,2,   7.6877,2,    24.99,-999.000,9,-999.0000,9, -999.00,9,-999.0000,    0.29,2,    31.4,2,     2.2,-999.000,9,-999.000,    47.5,2,   23.00,2,     45.371,3, -999.00,9,-999.000,-999.0000, -999.00,     -999.0,     -999.0,9,     -999.0,     -999.0,9,     -999.0,  -999.0,9,     -999.0,     -999.0,9,     -999.0,  16.3386,    35.4068,2,-999.0000,2,     -999.0,9
33RO20150410,     P16N.1,      42,          1,         18,         18,2,20150422,       1534,    -1.3998,  -151.0001,       4931,   250.2,  11.9493,  34.8495,2,  34.8474,2,     77.9,2,    72.2,2,   21.70,2,   27.30,2,    0.01,2,    1.81,4,   1.220,6,   0.683,6,   0.334,6,  2208.7,2,  2306.3,2,   7.5846,2,    24.99,-999.000,9,-999.0000,9, -999.00,9,-999.0000,    0.22,2,    -2.1,2,     2.0,-999.000,9,-999.000,    45.8,2,   29.00,2,     45.453,3, -999.00,9,-999.000,-999.0000, -999.00,     -999.0,     -999.0,9,     -999.0,     -999.0,9,     -999.0,  -999.0,9,     -999.0,     -999.0,9,     -999.0,  11.9167,    35.0117,2,-999.0000,2,     -999.0,9
33RO20150410,     P16N.1,      42,          1,         17,         17,2,20150422,       1534,    -1.3998,  -151.0001,       4931,   333.7,  11.0995,  34.7970,2,  34.7949,2,     40.2,2,    38.1,2,   26.50,2,   31.90,2,    0.01,2,    2.10,4,   0.870,2,   0.486,2,   0.189,2,  2240.3,2,  2304.6,2,   7.4936,2,    25.00,-999.000,9,-999.0000,9, -999.00,9,-999.0000,    0.03,2,   -23.0,2,     1.9,-999.000,9,-999.000,    46.9,2, -999.00,9,     56.853,3, -999.00,9,-999.000,-999.0000, -999.00,     -999.0,     -999.0,9,     -999.0,     -999.0,9,     -999.0,  -999.0,9,     -999.0,     -999.0,9,     -999.0,  11.0580,    34.9589,2,-999.0000,2,     -999.0,9
33RO20150410,     P16N.1,      42,          1,         16,         16,2,20150422,       1534,    -1.3998,  -151.0001,       4931,   434.8,   8.5207,  34.6484,2,  34.6455,2,     51.0,2,    52.6,2,   34.70,2,   35.90,2,    0.01,2,    2.34,4,   0.354,2,   0.197,2,   0.066,2,  2250.8,6,  2307.3,2,   7.4660,2,    24.99,-999.000,9,-999.0000,9, -999.00,9,-999.0000,    0.23,2,   -82.0,2,     2.1,-999.000,9,-999.000,    44.6,2, -999.00,9,     51.497,3, -999.00,9,-999.000,-999.0000, -999.00,     -999.0,     -999.0,9,     -999.0,     -999.0,9,     -999.0,  -999.0,9,     -999.0,     -999.0,9,     -999.0,   8.4746,    34.8089,2,-999.0000,2,     -999.0,9
33RO20150410,     P16N.1,      42,          1,         15,         15,2,20150422,       1534,    -1.3998,  -151.0001,       4931,   550.2,   7.1608,  34.5811,2,  34.5793,2,     60.0,2,    59.8,2,   45.50,2,   37.80,2,    0.00,2,    2.52,4,   0.167,2,   0.093,2,       0,2,  2263.4,2,  2316.1,2,   7.4573,2,    24.98,-999.000,9,-999.0000,9, -999.00,9,-999.0000,    0.25,2,  -112.5,2,     2.2,-999.000,9,-999.000,    41.5,2, -999.00,9,     44.039,3, -999.00,9,-999.000,-999.0000, -999.00,     -999.0,     -999.0,9,     -999.0,     -999.0,9,     -999.0,  -999.0,9,     -999.0,     -999.0,9,     -999.0,   7.1076,    34.7424,2,-999.0000,2,     -999.0,9
33RO20150410,     P16N.1,      42,          1,         14,         14,2,20150422,       1534,    -1.3998,  -151.0001,       4931,   699.4,   6.1841,  34.5544,2,  34.5527,2,     66.9,2,    67.5,2,   56.20,2,   38.80,2,    0.01,2,    2.62,4,   0.077,2,   0.041,2,       0,2,  2273.4,2,  2327.5,2,   7.4563,2,    24.97,-999.000,9,-999.0000,9, -999.00,9,-999.0000,    0.24,2,  -135.9,2,     2.0,-999.000,9,-999.000,    39.6,2, -999.00,9,     40.452,3, -999.00,9,-999.000,-999.0000, -999.00,     -999.0,     -999.0,9,     -999.0,     -999.0,9,     -999.0,  -999.0,9,     -999.0,     -999.0,9,     -999.0,   6.1210,    34.7156,6,-999.0000,2,     -999.0,9
33RO20150410,     P16N.1,      42,          1,         13,         13,2,20150422,       1534,    -1.3998,  -151.0001,       4931,   851.5,   5.4483,  34.5456,2,  34.5445,2,     78.5,2,    78.1,2,   66.10,2,   38.70,2,    0.00,2,    2.65,4,   0.042,2,   0.025,2,       0,2,  2279.3,2,  2338.0,2,   7.4687,2,    24.99,-999.000,9,-999.0000,9, -999.00,9,-999.0000,    0.23,2,  -157.4,2,     1.9,-999.000,9,-999.000,    39.7,2, -999.00,9,     36.855,3, -999.00,9,-999.000,-999.0000, -999.00,     -999.0,     -999.0,9,     -999.0,     -999.0,9,     -999.0,  -999.0,9,     -999.0,     -999.0,9,     -999.0,   5.3753,    34.7074,2,-999.0000,2,     -999.0,9
33RO20150410,     P16N.1,      42,          1,         12,         12,2,20150422,       1534,    -1.3998,  -151.0001,       4931,  1000.8,   4.6746,  34.5501,2,  34.5491,2,     88.6,2,    87.0,2,   78.70,2,   38.60,2,    0.00,2,    2.67,4,   0.021,2,   0.014,2,       0,2,  2293.3,2,  2351.8,2,   7.4802,2,    24.98,-999.000,9,-999.0000,9, -999.00,9,-999.0000,    0.25,2,  -173.8,2,     2.2,-999.000,9,-999.000,    38.2,2, -999.00,9,     33.823,3, -999.00,9,-999.000,-999.0000, -999.00,     -999.0,     -999.0,9,     -999.0,     -999.0,9,     -999.0,  -999.0,9,     -999.0,     -999.0,9,     -999.0,   4.5936,    34.7120,2,-999.0000,2,     -999.0,9
33RO20150410,     P16N.1,      42,          1,         11,         11,2,20150422,       1534,    -1.3998,  -151.0001,       4931,  1167.7,   3.9351,  34.5714,2,  34.5703,2,     85.1,2,    84.3,2,   96.70,2,   39.40,2,    0.00,2,    2.79,4,   0.003,2,   0.003,2,       0,2,  2313.7,2,  2372.1,2,   7.4701,2,    24.99,-999.000,9,-999.0000,9, -999.00,9,-999.0000,    0.14,2,  -196.3,2,     2.2,-999.000,9,-999.000,    38.6,2, -999.00,9,     33.273,3, -999.00,9,-999.000,-999.0000, -999.00,     -999.0,     -999.0,9,     -999.0,     -999.0,9,     -999.0,  -999.0,9,     -999.0,     -999.0,9,     -999.0,   3.8457,    34.7333,2,-999.0000,2,     -999.0,9
33RO20150410,     P16N.1,      42,          1,         10,         10,2,20150422,       1534,    -1.3998,  -151.0001,       4931,  1401.0,   3.3413,  34.5920,2,  34.5905,2,     90.2,2,    89.9,2,  110.60,2,   39.60,2,    0.00,2,    2.80,4,   0.000,2,   0.002,2,       0,2,  2325.1,2,  2386.8,2,   7.4779,2,    25.00,-999.000,9,-999.0000,9, -999.00,9,-999.0000,    0.02,2,  -209.4,2,     1.9,-999.000,9,-999.000,    37.2,2, -999.00,9,     31.343,3, -999.00,9,-999.000,-999.0000, -999.00,     -999.0,     -999.0,9,     -999.0,     -999.0,9,     -999.0,  -999.0,9,     -999.0,     -999.0,9,     -999.0,   3.2379,    34.7536,2,-999.0000,2,     -999.0,9
33RO20150410,     P16N.1,      42,          1,          9,          9,2,20150422,       1534,    -1.3998,  -151.0001,       4931,  1735.4,   2.6370,  34.6213,2,  34.6198,2,    103.3,2,   102.9,2,  125.70,2,   38.80,2,    0.01,2,    2.75,4,   0.004,2,   0.005,3,       0,2,  2334.7,2,  2404.0,2,   7.5007,6,    25.00,-999.000,9,-999.0000,9, -999.00,9,-999.0000,    0.03,2,  -227.0,2,     2.0,-999.000,9,-999.000,    36.9,2, -999.00,9,     27.705,3, -999.00,9,-999.000,-999.0000, -999.00,     -999.0,     -999.0,9,     -999.0,     -999.0,9,     -999.0,  -999.0,9,     -999.0,     -999.0,9,     -999.0,   2.5138,    34.7831,2,-999.0000,2,     -999.0,9
33RO20150410,     P16N.1,      42,          1,          8,          8,2,20150422,       1534,    -1.3998,  -151.0001,       4931,  2131.5,   2.0897,  34.6519,2,  34.6520,2,    111.7,2,   111.4,2,  141.20,2,   38.30,2,    0.03,2,    2.77,4,  -0.001,2,   0.001,2,       0,2,  2347.0,2,  2422.1,2,   7.5169,2,    25.00,-999.000,9,-999.0000,9, -999.00,9,-999.0000,    0.02,2,  -232.0,2,     2.4,-999.000,9,-999.000,    35.3,2, -999.00,9,     25.497,3, -999.00,9,-999.000,-999.0000, -999.00,     -999.0,     -999.0,9,     -999.0,     -999.0,9,     -999.0,  -999.0,9,     -999.0,     -999.0,9,     -999.0,   1.9406,    34.8154,2,-999.0000,2,     -999.0,9
33RO20150410,     P16N.1,      42,          1,          7,          7,2,20150422,       1534,    -1.3998,  -151.0001,       4931,  2533.3,   1.8953,  34.6623,2,  34.6612,2,    123.8,2,   123.2,2,  142.20,2,   37.60,2,    0.01,2,    2.71,4,   0.010,3,   0.000,2,       0,2,  2341.3,2,  2424.0,2,   7.5359,6,    25.00,-999.000,9,-999.0000,9, -999.00,9,-999.0000,    0.04,2,  -238.7,2,     2.0,-999.000,9,-999.000,    35.9,2, -999.00,9,     23.977,3, -999.00,9,-999.000,-999.0000, -999.00,     -999.0,     -999.0,9,     -999.0,     -999.0,9,     -999.0,  -999.0,9,     -999.0,     -999.0,9,     -999.0,   1.7139,    34.8246,2,-999.0000,2,     -999.0,9
33RO20150410,     P16N.1,      42,          1,          6,          6,2,20150422,       1534,    -1.3998,  -151.0001,       4931,  2932.6,   1.6885,  34.6739,2,  34.6808,4,    134.3,2,   134.3,2,  144.10,2,   36.90,2,    0.01,2,    2.66,4,  -0.002,2,  -0.001,2,       0,2,  2334.6,2,  2425.2,2,   7.5539,2,    24.99,-999.000,9,-999.0000,9, -999.00,9,-999.0000,    0.08,2,  -229.0,2,     1.9,-999.000,9,-999.000,    37.0,2, -999.00,9,     22.631,3, -999.00,9,-999.000,-999.0000, -999.00,     -999.0,     -999.0,9,     -999.0,     -999.0,9,     -999.0,  -999.0,9,     -999.0,     -999.0,9,     -999.0,   1.4740,    34.8443,3,-999.0000,2,     -999.0,9
33RO20150410,     P16N.1,      42,          1,          5,          5,2,20150422,       1534,    -1.3998,  -151.0001,       4931,  3333.0,   1.5595,  34.6822,2,  34.6825,2,    147.6,2,   147.2,2,  141.70,2,   36.10,2,    0.01,2,    2.58,4,  -0.002,2,   0.000,2,       0,2,  2328.0,2,  2423.2,6,   7.5718,6,    25.00,-999.000,9,-999.0000,9, -999.00,9,-999.0000,    0.14,2,  -228.5,2,     2.5,-999.000,9,-999.000,    37.3,2, -999.00,9,     21.622,3, -999.00,9,-999.000,-999.0000, -999.00,     -999.0,     -999.0,9,     -999.0,     -999.0,9,     -999.0,  -999.0,9,     -999.0,     -999.0,9,     -999.0,   1.3087,    34.8461,2,-999.0000,2,     -999.0,9
33RO20150410,     P16N.1,      42,          1,          4,          4,2,20150422,       1534,    -1.3998,  -151.0001,       4931,  3731.5,   1.4280,  34.6927,2,  34.6918,2,    156.0,2,   156.2,2,  143.70,6,   35.60,6,    0.01,6,    2.52,4,  -0.003,2,   0.001,2,       0,2,  2326.3,2,  2430.2,2,   7.5930,6,    25.03,-999.000,9,-999.0000,9, -999.00,9,-999.0000,    0.18,2,  -218.0,2,     1.7,-999.000,9,-999.000,    36.7,2, -999.00,9,     20.486,3, -999.00,9,-999.000,-999.0000, -999.00,     -999.0,     -999.0,9,     -999.0,     -999.0,9,     -999.0,  -999.0,9,     -999.0,     -999.0,9,     -999.0,   1.1397,    34.8554,2,-999.0000,2,     -999.0,9
33RO20150410,     P16N.1,      42,          1,          3,          3,2,20150422,       1534,    -1.3998,  -151.0001,       4931,  4130.2,   1.4101,  34.6955,2,  34.6948,2,    162.0,2,   161.7,2,  141.40,6,   35.20,6,    0.01,6,    2.51,4,   0.001,2,   0.002,2,       0,2,  2320.6,2,  2427.3,2,   7.5995,2,    24.99,-999.000,9,-999.0000,9, -999.00,9,-999.0000,    0.24,2,  -209.8,2,     1.8,-999.000,9,-999.000,    37.5,2, -999.00,9,     20.164,3, -999.00,9,-999.000,-999.0000, -999.00,     -999.0,     -999.0,9,     -999.0,     -999.0,9,     -999.0,  -999.0,9,     -999.0,     -999.0,9,     -999.0,   1.0794,    34.8584,2,-999.0000,2,     -999.0,9
33RO20150410,     P16N.1,      42,          1,          2,          2,2,20150422,       1534,    -1.3998,  -151.0001,       4931,  4395.6,   1.3827,  34.6980,2,  34.6985,2,    173.4,2,   170.0,2,  135.90,6,   34.60,6,    0.01,6,    2.46,4,   0.001,6,   0.001,6,       0,6,  2311.0,2,  2416.5,2,   7.6030,2,    25.00,-999.000,9,-999.0000,9, -999.00,9,-999.0000,    0.23,2,  -204.9,2,     1.9,-999.000,9,-999.000,    37.2,2, -999.00,9,     19.838,3, -999.00,9,-999.000,-999.0000, -999.00,     -999.0,     -999.0,9,     -999.0,     -999.0,9,     -999.0,  -999.0,9,     -999.0,     -999.0,9,     -999.0,   1.0231,    34.8621,2,-999.0000,2,     -999.0,9
33RO20150410,     P16N.1,      42,          1,          1,          1,2,20150422,       1534,    -1.3998,  -151.0001,       4931,  4921.4,   1.3439,  34.7022,2,  34.7014,2,    184.9,2,   183.5,2,  127.60,6,   33.60,6,    0.03,6,    2.38,4,   0.007,2,   0.004,2,       0,2,  2290.8,6,  2399.3,2,   7.6068,2,    24.99,-999.000,9,-999.0000,9, -999.00,9,-999.0000,    0.35,2,  -188.0,2,     2.3,-999.000,9,-999.000,    39.7,2, -999.00,9,     19.351,3, -999.00,9,-999.000,-999.0000, -999.00,     -999.0,     -999.0,9,     -999.0,     -999.0,9,     -999.0,  -999.0,9,     -999.0,     -999.0,9,     -999.0,   0.9242,    34.8651,2,-999.0000,2,     -999.0,9