BOTTLE,20210709CCHSIOCBG
EXPOCODE,SECT_ID,STNNBR,CASTNO,SAMPNO,BTLNBR,BTLNBR_FLAG_W,DATE,TIME,LATITUDE,LONGITUDE,DEPTH,CTDPRS,CTDTMP,CTDSAL,CTDSAL_FLAG_W,SALNTY,SALNTY_FLAG_W,CTDOXY,CTDOXY_FLAG_W,OXYGEN,OXYGEN_FLAG_W,SILCAT,SILCAT_FLAG_W,NITRAT,NITRAT_FLAG_W,NITRIT,NITRIT_FLAG_W,PHSPHT,PHSPHT_FLAG_W,CFC-11,CFC-11_FLAG_W,CFC-12,CFC-12_FLAG_W,SF6,SF6_FLAG_W,TCARBN,TCARBN_FLAG_W,ALKALI,ALKALI_FLAG_W,PH_TOT,PH_TOT_FLAG_W,PH_TMP,TRITUM,TRITUM_FLAG_W,HELIUM,HELIUM_FLAG_W,DELHE3,DELHE3_FLAG_W,REFTMP,DELC13,DELC13_FLAG_W,DELC14,DELC14_FLAG_W,C14ERR,NEON,NEON_FLAG_W,NEONER,DOC,DOC_FLAG_W,TDN,TDN_FLAG_W,N2O,N2O_FLAG_W,ARGON,ARGON_FLAG_W,TRITER,HELIER,DELHER,ARGONER,KRYPTON,KRYPTON_FLAG_W,KRYPTONER,XENON,XENON_FLAG_W,XENONER,14C-DOC,14C-DOC_FLAG_W,14C-DOCERR,13C-DOC,13C-DOC_FLAG_W,13C-DOCERR,THETA,SALTREF,SALTREF_FLAG_W,SBE35,SBE35_FLAG_W,CHLORA,CHLORA_FLAG_W
,,,,,,,,,,,METERS,DBAR,ITS-90,PSS-78,,PSS-78,,UMOL/KG,,UMOL/KG,,UMOL/KG,,UMOL/KG,,UMOL/KG,,UMOL/KG,,PMOL/KG,,PMOL/KG,,FMOL/KG,,UMOL/KG,,UMOL/KG,,,,DEG C,TU,,NMOL/KG,,PERCNT,,DEG C,/MILLE,,/MILLE,,/MILLE,NMOL/KG,,NMOL/KG,UMOL/KG,,UMOL/KG,,NMOL/KG,,UMOL/KG,,TU,NMOL/KG,PERCNT,UMOL/KG,NMOL/KG,,NMOL/KG,NMOL/KG,,NMOL/KG,/MILLE,,/MILLE,/MILLE,,/MILLE,DEG C,G/KG,,ITS-90,,MG/M3,
33RO20150410,     P16N.1,      38,          1,         24,         24,2,20150421,       1055,    -2.0501,  -151.0002,       4877,    15.1,  28.5736,  35.3243,2,  35.3232,2,    198.9,2,   200.2,2,    1.20,2,    3.50,2,    0.16,2,    0.32,4,   1.477,2,   0.953,2,   1.263,2,  2018.0,2,  2324.9,2,   8.0411,6,    25.01,-999.000,9,-999.0000,9, -999.00,9,  28.5746,    1.00,2,    46.6,2,     2.3,-999.000,9,-999.000,    62.8,2,    7.70,2,      6.828,3, -999.00,9,-999.000,-999.0000, -999.00,     -999.0,     -999.0,9,     -999.0,     -999.0,9,     -999.0,  -999.0,9,     -999.0,     -999.0,9,     -999.0,  28.5700,    35.4897,2,-999.0000,2,     -999.0,9
33RO20150410,     P16N.1,      38,          1,         23,         23,2,20150421,       1055,    -2.0501,  -151.0002,       4877,    33.4,  28.5623,  35.3224,2,  35.3186,2,    199.7,2,   200.3,2,    1.10,2,    3.60,2,    0.16,2,    0.33,4,   1.490,2,   0.955,2,   1.214,2,  2017.8,6,  2324.8,2,   8.0409,2,    24.99,-999.000,9,-999.0000,9, -999.00,9,  28.5600, -999.00,9,  -999.0,9,  -999.0,-999.000,9,-999.000,    62.9,2,    8.60,2,      6.917,3, -999.00,9,-999.000,-999.0000, -999.00,     -999.0,     -999.0,9,     -999.0,     -999.0,9,     -999.0,  -999.0,9,     -999.0,     -999.0,9,     -999.0,  28.5543,    35.4852,2,-999.0000,2,     -999.0,9
33RO20150410,     P16N.1,      38,          1,         22,         22,2,20150421,       1055,    -2.0501,  -151.0002,       4877,    59.1,  28.1039,  35.2873,2,  35.2903,2,    198.9,2,   199.8,2,    1.20,2,    3.90,2,    0.16,2,    0.41,4,   1.505,2,   0.966,2,   1.229,2,  2022.6,2,  2323.0,2,   8.0327,2,    25.00,-999.000,9,-999.0000,9, -999.00,9,  28.1386, -999.00,9,  -999.0,9,  -999.0,-999.000,9,-999.000,    61.4,2,    7.80,2,      6.962,3, -999.00,9,-999.000,-999.0000, -999.00,     -999.0,     -999.0,9,     -999.0,     -999.0,9,     -999.0,  -999.0,9,     -999.0,     -999.0,9,     -999.0,  28.0899,    35.4567,2,-999.0000,2,     -999.0,9
33RO20150410,     P16N.1,      38,          1,         21,         21,2,20150421,       1055,    -2.0501,  -151.0002,       4877,    83.1,  27.8374,  35.4205,2,  35.4180,2,    193.5,2,   194.1,2,    1.40,2,    4.40,2,    0.11,2,    0.50,4,   1.504,2,   0.965,2,   1.254,2,  2030.2,2,  2332.3,2,   8.0303,6,    25.00,-999.000,9,-999.0000,9, -999.00,9,  27.8419,    0.99,2,    44.1,2,     2.5,-999.000,9,-999.000,    62.4,2,    8.20,2,      6.736,3, -999.00,9,-999.000,-999.0000, -999.00,     -999.0,     -999.0,9,     -999.0,     -999.0,9,     -999.0,  -999.0,9,     -999.0,     -999.0,9,     -999.0,  27.8179,    35.5850,2,-999.0000,2,     -999.0,9
33RO20150410,     P16N.1,      38,          1,         20,         20,2,20150421,       1055,    -2.0501,  -151.0002,       4877,   116.9,  26.4866,  35.5477,2,  35.5574,2,    186.1,2,   177.5,2,    1.50,2,    4.80,2,    2.11,2,    0.59,4,   1.581,2,   1.016,2,   1.234,2,  2057.3,2,  2341.2,6,   7.9942,2,    25.00,-999.000,9,-999.0000,9, -999.00,9,  26.4618,    0.84,2,    36.1,2,     2.1,-999.000,9,-999.000,    59.0,2,   10.80,2,      7.746,3, -999.00,9,-999.000,-999.0000, -999.00,     -999.0,     -999.0,9,     -999.0,     -999.0,9,     -999.0,  -999.0,9,     -999.0,     -999.0,9,     -999.0,  26.4601,    35.7250,6,-999.0000,2,     -999.0,9
33RO20150410,     P16N.1,      38,          1,         19,         19,2,20150421,       1055,    -2.0501,  -151.0002,       4877,   175.8,  14.7878,  35.0749,2,  35.0752,2,     45.6,2,    44.1,2,   14.80,2,   26.50,2,    0.02,2,    1.72,4,   1.566,2,   0.909,2,   0.584,2,  2215.5,2,  2310.1,2,   7.5811,2,    24.99,-999.000,9,-999.0000,9, -999.00,9,  14.8230,    0.00,2,    21.8,2,     2.1,-999.000,9,-999.000,    46.8,2,   29.00,2,     64.610,3, -999.00,9,-999.000,-999.0000, -999.00,     -999.0,     -999.0,9,     -999.0,     -999.0,9,     -999.0,  -999.0,9,     -999.0,     -999.0,9,     -999.0,  14.7614,    35.2406,2,-999.0000,2,     -999.0,9
33RO20150410,     P16N.1,      38,          1,         18,         18,2,20150421,       1055,    -2.0501,  -151.0002,       4877,   249.5,  11.8892,  34.8415,2,  34.8402,2,     73.7,2,    69.3,2,   21.70,2,   27.50,2,    0.02,2,    1.73,4,   1.186,2,   0.670,2,   0.327,2,  2211.2,2,  2305.5,2,   7.5795,6,    25.00,-999.000,9,-999.0000,9, -999.00,9,  11.8898,    0.20,2,    -4.1,2,     2.1,-999.000,9,-999.000,    43.1,2,   30.10,2,     45.490,3, -999.00,9,-999.000,-999.0000, -999.00,     -999.0,     -999.0,9,     -999.0,     -999.0,9,     -999.0,  -999.0,9,     -999.0,     -999.0,9,     -999.0,  11.8568,    35.0045,2,-999.0000,2,     -999.0,9
33RO20150410,     P16N.1,      38,          1,         17,         17,2,20150421,       1055,    -2.0501,  -151.0002,       4877,   332.7,  11.3636,  34.8107,2,  34.8104,2,     44.5,2,    44.8,2,   24.90,2,   30.90,2,    0.01,2,    1.94,4,   0.951,6,   0.533,6,   0.232,6,  2233.5,2,  2303.4,2,   7.5129,2,    25.00,-999.000,9,-999.0000,9, -999.00,9,  11.3772,    0.08,2,   -14.8,2,     2.1,-999.000,9,-999.000,    44.7,2, -999.00,9,     55.029,3, -999.00,9,-999.000,-999.0000, -999.00,     -999.0,     -999.0,9,     -999.0,     -999.0,9,     -999.0,  -999.0,9,     -999.0,     -999.0,9,     -999.0,  11.3215,    34.9745,2,-999.0000,2,     -999.0,9
33RO20150410,     P16N.1,      38,          1,         16,         16,2,20150421,       1055,    -2.0501,  -151.0002,       4877,   433.5,   9.4008,  34.7022,2,  34.7038,2,     39.4,2,    40.9,2,   30.80,2,   34.70,2,    0.01,2,    2.21,4,   0.453,2,   0.253,2,   0.116,2,  2249.9,2,  2304.9,2,   7.4596,2,    25.00,-999.000,9,-999.0000,9, -999.00,9,   9.4151,    0.16,2,   -62.9,2,     2.0,-999.000,9,-999.000,    43.9,2, -999.00,9,     59.708,3, -999.00,9,-999.000,-999.0000, -999.00,     -999.0,     -999.0,9,     -999.0,     -999.0,9,     -999.0,  -999.0,9,     -999.0,     -999.0,9,     -999.0,   9.3520,    34.8675,2,-999.0000,2,     -999.0,9
33RO20150410,     P16N.1,      38,          1,         15,         15,2,20150421,       1055,    -2.0501,  -151.0002,       4877,   551.1,   6.6337,  34.5628,2,  34.5620,2,     65.6,2,    65.6,2,   49.70,2,   38.30,2,    0.03,2,    2.47,4,   0.125,2,   0.068,2,   0.036,2,  2269.0,2,  2319.3,2,   7.4586,2,    25.00,-999.000,9,-999.0000,9, -999.00,9,   6.6340,    0.23,2,  -125.9,2,     1.9,-999.000,9,-999.000,    40.5,2, -999.00,9,     41.561,3, -999.00,9,-999.000,-999.0000, -999.00,     -999.0,     -999.0,9,     -999.0,     -999.0,9,     -999.0,  -999.0,9,     -999.0,     -999.0,9,     -999.0,   6.5826,    34.7249,2,-999.0000,2,     -999.0,9
33RO20150410,     P16N.1,      38,          1,         14,         14,2,20150421,       1055,    -2.0501,  -151.0002,       4877,   701.9,   5.8926,  34.5467,2,  34.5460,2,     74.8,2,    75.4,2,   58.20,2,   38.50,2,    0.02,2,    2.52,4,   0.072,2,   0.040,2,       0,2,  2273.7,2,  2328.1,2,   7.4664,6,    25.02,-999.000,9,-999.0000,9, -999.00,9,   5.8967,    0.22,2,  -142.0,2,     1.9,-999.000,9,-999.000,    40.8,2, -999.00,9,     38.087,3, -999.00,9,-999.000,-999.0000, -999.00,     -999.0,     -999.0,9,     -999.0,     -999.0,9,     -999.0,  -999.0,9,     -999.0,     -999.0,9,     -999.0,   5.8308,    34.7089,2,-999.0000,2,     -999.0,9
33RO20150410,     P16N.1,      38,          1,         13,         13,2,20150421,       1055,    -2.0501,  -151.0002,       4877,   851.7,   5.3337,  34.5409,2,  34.5394,2,     84.9,2,    85.4,2,   64.70,2,   38.30,2,    0.03,2,    2.51,4,   0.050,2,   0.030,2,       0,2,  2276.9,2,  2336.4,2,   7.4788,2,    25.00,-999.000,9,-999.0000,9, -999.00,9,   5.3344,    0.27,2,  -151.6,2,     1.9,-999.000,9,-999.000,    41.3,2, -999.00,9,     35.131,3, -999.00,9,-999.000,-999.0000, -999.00,     -999.0,     -999.0,9,     -999.0,     -999.0,9,     -999.0,  -999.0,9,     -999.0,     -999.0,9,     -999.0,   5.2614,    34.7022,2,-999.0000,2,     -999.0,9
33RO20150410,     P16N.1,      38,          1,         12,         12,2,20150421,       1055,    -2.0501,  -151.0002,       4877,  1000.1,   4.5844,  34.5494,2,  34.5486,2,     87.3,2,    87.8,2,   78.50,2,   38.90,2,    0.02,2,    2.60,4,   0.014,2,   0.008,2,       0,2,  2291.1,2,  2350.6,2,   7.4777,2,    25.00,-999.000,9,-999.0000,9, -999.00,9,   4.5845, -999.00,9,  -999.0,9,  -999.0,-999.000,9,-999.000,    39.3,2, -999.00,9,     33.507,3, -999.00,9,-999.000,-999.0000, -999.00,     -999.0,     -999.0,9,     -999.0,     -999.0,9,     -999.0,  -999.0,9,     -999.0,     -999.0,9,     -999.0,   4.5042,    34.7115,2,-999.0000,2,     -999.0,9
33RO20150410,     P16N.1,      38,          1,         11,         11,2,20150421,       1055,    -2.0501,  -151.0002,       4877,  1167.0,   3.9144,  34.5657,2,  34.5653,2,     93.2,2,    93.7,2,   92.30,2,   38.90,2,    0.01,2,    2.64,4,   0.020,3,   0.004,2,       0,2,  2306.6,2,  2367.3,2,   7.4845,6,    25.00,-999.000,9,-999.0000,9, -999.00,9,   3.9133, -999.00,9,  -999.0,9,  -999.0,-999.000,9,-999.000,    39.2,2, -999.00,9,     31.701,3, -999.00,9,-999.000,-999.0000, -999.00,     -999.0,     -999.0,9,     -999.0,     -999.0,9,     -999.0,  -999.0,9,     -999.0,     -999.0,9,     -999.0,   3.8253,    34.7283,2,-999.0000,2,     -999.0,9
33RO20150410,     P16N.1,      38,          1,         10,         10,2,20150421,       1055,    -2.0501,  -151.0002,       4877,  1401.8,   3.2673,  34.5889,2,  34.5887,2,    100.7,2,   100.6,2,  106.60,2,   38.80,2,    0.01,2,    2.67,4,   0.005,2,   0.002,2,       0,2,  2318.6,2,  2383.1,2,   7.4939,2,    25.00,-999.000,9,-999.0000,9, -999.00,9,   3.2670, -999.00,9,  -999.0,9,  -999.0,-999.000,9,-999.000,    39.2,2, -999.00,9,     29.535,3, -999.00,9,-999.000,-999.0000, -999.00,     -999.0,     -999.0,9,     -999.0,     -999.0,9,     -999.0,  -999.0,9,     -999.0,     -999.0,9,     -999.0,   3.1647,    34.7518,2,-999.0000,2,     -999.0,9
33RO20150410,     P16N.1,      38,          1,          9,          9,2,20150421,       1055,    -2.0501,  -151.0002,       4877,  1734.0,   2.6266,  34.6196,2,  34.6203,2,    106.3,2,   106.6,2,  122.90,2,   38.50,2,    0.01,2,    2.68,4,   0.002,2,   0.002,2,       0,2,  2332.7,2,  2401.8,2,   7.5055,2,    25.01,-999.000,9,-999.0000,9, -999.00,9,   2.6265, -999.00,9,  -999.0,9,  -999.0,-999.000,9,-999.000,    38.8,2, -999.00,9,     27.398,3, -999.00,9,-999.000,-999.0000, -999.00,     -999.0,     -999.0,9,     -999.0,     -999.0,9,     -999.0,  -999.0,9,     -999.0,     -999.0,9,     -999.0,   2.5036,    34.7836,2,-999.0000,2,     -999.0,9
33RO20150410,     P16N.1,      38,          1,          8,          8,2,20150421,       1055,    -2.0501,  -151.0002,       4877,  2132.6,   2.1962,  34.6474,2,  34.6472,2,    108.4,2,   108.7,2,  137.90,2,   38.60,2,    0.04,2,    2.70,4,   0.005,2,   0.003,2,       0,2,  2346.4,2,  2418.7,2,   7.5122,2,    25.00,-999.000,9,-999.0000,9, -999.00,9,   2.1959, -999.00,9,  -999.0,9,  -999.0,-999.000,9,-999.000,    38.4,2, -999.00,9,     25.811,3, -999.00,9,-999.000,-999.0000, -999.00,     -999.0,     -999.0,9,     -999.0,     -999.0,9,     -999.0,  -999.0,9,     -999.0,     -999.0,9,     -999.0,   2.0453,    34.8106,2,-999.0000,2,     -999.0,9
33RO20150410,     P16N.1,      38,          1,          7,          7,2,20150421,       1055,    -2.0501,  -151.0002,       4877,  2533.6,   1.9079,  34.6606,2,  34.6612,2,    125.5,2,   126.7,2,  138.20,2,   37.40,2,    0.01,2,    2.62,4,   0.002,2,   0.000,2,       0,2,  2338.3,2,  2421.4,2,   7.5387,2,    25.00,-999.000,9,-999.0000,9, -999.00,9,   1.9088, -999.00,9,  -999.0,9,  -999.0,-999.000,9,-999.000,    37.7,2, -999.00,9,     23.733,3, -999.00,9,-999.000,-999.0000, -999.00,     -999.0,     -999.0,9,     -999.0,     -999.0,9,     -999.0,  -999.0,9,     -999.0,     -999.0,9,     -999.0,   1.7262,    34.8246,2,-999.0000,2,     -999.0,9
33RO20150410,     P16N.1,      38,          1,          6,          6,2,20150421,       1055,    -2.0501,  -151.0002,       4877,  2932.8,   1.7015,  34.6723,2,  34.6726,2,    136.9,2,   137.5,2,  140.00,2,   36.70,2,    0.02,2,    2.56,4,  -0.005,2,   0.001,2,       0,2,  2332.8,6,  2422.3,2,   7.5564,2,    25.00,-999.000,9,-999.0000,9, -999.00,9,   1.7016, -999.00,9,  -999.0,9,  -999.0,-999.000,9,-999.000,    36.6,2, -999.00,9,     22.376,3, -999.00,9,-999.000,-999.0000, -999.00,     -999.0,     -999.0,9,     -999.0,     -999.0,9,     -999.0,  -999.0,9,     -999.0,     -999.0,9,     -999.0,   1.4867,    34.8361,2,-999.0000,2,     -999.0,9
33RO20150410,     P16N.1,      38,          1,          5,          5,2,20150421,       1055,    -2.0501,  -151.0002,       4877,  3332.9,   1.5564,  34.6826,2,  34.6822,2,    149.6,2,   150.4,2,  138.60,2,   35.80,2,    0.05,2,    2.50,4,   0.005,2,   0.004,3,       0,2,  2329.1,2,  2421.1,2,   7.5768,2,    25.00,-999.000,9,-999.0000,9, -999.00,9,   1.5563, -999.00,9,  -999.0,9,  -999.0,-999.000,9,-999.000,    35.9,2, -999.00,9,     21.198,3, -999.00,9,-999.000,-999.0000, -999.00,     -999.0,     -999.0,9,     -999.0,     -999.0,9,     -999.0,  -999.0,9,     -999.0,     -999.0,9,     -999.0,   1.3057,    34.8457,2,-999.0000,2,     -999.0,9
33RO20150410,     P16N.1,      38,          1,          4,          4,2,20150421,       1055,    -2.0501,  -151.0002,       4877,  3732.2,   1.4365,  34.6911,2,  34.6908,2,    157.1,2,   157.7,2,  141.40,6,   35.40,6,    0.01,6,    2.44,4,   0.000,2,   0.000,2,       0,2,  2322.6,2,  2426.3,2,   7.5918,6,    25.00,-999.000,9,-999.0000,9, -999.00,9,   1.4369, -999.00,9,  -999.0,9,  -999.0,-999.000,9,-999.000,    36.9,2, -999.00,9,     20.444,3, -999.00,9,-999.000,-999.0000, -999.00,     -999.0,     -999.0,9,     -999.0,     -999.0,9,     -999.0,  -999.0,9,     -999.0,     -999.0,9,     -999.0,   1.1479,    34.8544,2,-999.0000,2,     -999.0,9
33RO20150410,     P16N.1,      38,          1,          3,          3,2,20150421,       1055,    -2.0501,  -151.0002,       4877,  4134.2,   1.4254,  34.6937,2,  34.6940,2,    161.9,2,   162.6,2,  139.70,6,   35.20,6,    0.01,6,    2.42,4,   0.000,2,   0.001,2,       0,2,  2318.8,2,  2423.8,2,   7.5977,2,    25.00,-999.000,9,-999.0000,9, -999.00,9,   1.4255, -999.00,9,  -999.0,9,  -999.0,-999.000,9,-999.000,    37.0,2, -999.00,9,     19.987,3, -999.00,9,-999.000,-999.0000, -999.00,     -999.0,     -999.0,9,     -999.0,     -999.0,9,     -999.0,  -999.0,9,     -999.0,     -999.0,9,     -999.0,   1.0938,    34.8576,2,-999.0000,2,     -999.0,9
33RO20150410,     P16N.1,      38,          1,          2,          2,2,20150421,       1055,    -2.0501,  -151.0002,       4877,  4534.5,   1.3747,  34.6982,2,  34.6993,2,    176.5,2,   177.0,2,  129.90,6,   34.00,6,    0.01,6,    2.33,4,   0.002,2,   0.002,2,       0,2,  2299.8,6,  2405.2,2,   7.6039,2,    25.00,-999.000,9,-999.0000,9, -999.00,9,   1.3750, -999.00,9,  -999.0,9,  -999.0,-999.000,9,-999.000,    39.1,2, -999.00,9,     19.727,3, -999.00,9,-999.000,-999.0000, -999.00,     -999.0,     -999.0,9,     -999.0,     -999.0,9,     -999.0,  -999.0,9,     -999.0,     -999.0,9,     -999.0,   0.9995,    34.8629,6,-999.0000,2,     -999.0,9
33RO20150410,     P16N.1,      38,          1,          1,          1,2,20150421,       1055,    -2.0501,  -151.0002,       4877,  4866.3,   1.3415,  34.7013,2,  34.7030,2,    184.2,2,   184.3,2,  125.90,6,   33.50,6,    0.02,6,    2.29,4,   0.008,2,   0.004,2,       0,6,  2291.1,2,  2398.0,6,   7.6077,2,    25.00,-999.000,9,-999.0000,9, -999.00,9,   1.3419, -999.00,9,  -999.0,9,  -999.0,-999.000,9,-999.000,    38.8,2, -999.00,9,     19.364,3, -999.00,9,-999.000,-999.0000, -999.00,     -999.0,     -999.0,9,     -999.0,     -999.0,9,     -999.0,  -999.0,9,     -999.0,     -999.0,9,     -999.0,   0.9285,    34.8667,2,-999.0000,2,     -999.0,9