BOTTLE,20210709CCHSIOCBG
EXPOCODE,SECT_ID,STNNBR,CASTNO,SAMPNO,BTLNBR,BTLNBR_FLAG_W,DATE,TIME,LATITUDE,LONGITUDE,DEPTH,CTDPRS,CTDTMP,CTDSAL,CTDSAL_FLAG_W,SALNTY,SALNTY_FLAG_W,CTDOXY,CTDOXY_FLAG_W,OXYGEN,OXYGEN_FLAG_W,SILCAT,SILCAT_FLAG_W,NITRAT,NITRAT_FLAG_W,NITRIT,NITRIT_FLAG_W,PHSPHT,PHSPHT_FLAG_W,CFC-11,CFC-11_FLAG_W,CFC-12,CFC-12_FLAG_W,SF6,SF6_FLAG_W,TCARBN,TCARBN_FLAG_W,ALKALI,ALKALI_FLAG_W,PH_TOT,PH_TOT_FLAG_W,PH_TMP,TRITUM,TRITUM_FLAG_W,HELIUM,HELIUM_FLAG_W,DELHE3,DELHE3_FLAG_W,REFTMP,DELC13,DELC13_FLAG_W,DELC14,DELC14_FLAG_W,C14ERR,NEON,NEON_FLAG_W,NEONER,DOC,DOC_FLAG_W,TDN,TDN_FLAG_W,N2O,N2O_FLAG_W,ARGON,ARGON_FLAG_W,TRITER,HELIER,DELHER,ARGONER,KRYPTON,KRYPTON_FLAG_W,KRYPTONER,XENON,XENON_FLAG_W,XENONER,14C-DOC,14C-DOC_FLAG_W,14C-DOCERR,13C-DOC,13C-DOC_FLAG_W,13C-DOCERR,THETA,SALTREF,SALTREF_FLAG_W,SBE35,SBE35_FLAG_W,CHLORA,CHLORA_FLAG_W
,,,,,,,,,,,METERS,DBAR,ITS-90,PSS-78,,PSS-78,,UMOL/KG,,UMOL/KG,,UMOL/KG,,UMOL/KG,,UMOL/KG,,UMOL/KG,,PMOL/KG,,PMOL/KG,,FMOL/KG,,UMOL/KG,,UMOL/KG,,,,DEG C,TU,,NMOL/KG,,PERCNT,,DEG C,/MILLE,,/MILLE,,/MILLE,NMOL/KG,,NMOL/KG,UMOL/KG,,UMOL/KG,,NMOL/KG,,UMOL/KG,,TU,NMOL/KG,PERCNT,UMOL/KG,NMOL/KG,,NMOL/KG,NMOL/KG,,NMOL/KG,/MILLE,,/MILLE,/MILLE,,/MILLE,DEG C,G/KG,,ITS-90,,MG/M3,
33RO20150410,     P16N.1,      36,          1,         24,         24,2,20150420,       2254,    -2.3803,  -150.9999,       4951,     5.9,  28.8751,  35.2939,2,  35.2929,2,    199.2,2,   199.7,2,    1.90,2,    3.60,2,    0.15,2,    0.43,4,   1.474,6,   0.956,6,   1.263,6,  2019.7,6,  2322.9,2,   8.0396,2,    25.02,-999.000,9,-999.0000,9, -999.00,9,  28.8761, -999.00,9,  -999.0,9,  -999.0,-999.000,9,-999.000,    61.0,2,    8.40,2,      6.424,3, -999.00,9,-999.000,-999.0000, -999.00,     -999.0,     -999.0,9,     -999.0,     -999.0,9,     -999.0,  -999.0,9,     -999.0,     -999.0,9,     -999.0,  28.8737,    35.4594,2,-999.0000,2,     -999.0,9
33RO20150410,     P16N.1,      36,          1,         23,         23,2,20150420,       2254,    -2.3803,  -150.9999,       4951,    20.3,  28.5638,  35.2899,2,  35.2902,2,    199.6,2,   200.0,2,    1.90,2,    3.70,2,    0.15,2,    0.43,4,   1.489,2,   0.957,2,   1.263,2,  2019.4,2,  2323.7,6,   8.0397,6,    25.01,-999.000,9,-999.0000,9, -999.00,9,  28.5644, -999.00,9,  -999.0,9,  -999.0,-999.000,9,-999.000,    61.5,2,    8.80,2,      6.579,3, -999.00,9,-999.000,-999.0000, -999.00,     -999.0,     -999.0,9,     -999.0,     -999.0,9,     -999.0,  -999.0,9,     -999.0,     -999.0,9,     -999.0,  28.5589,    35.4566,2,-999.0000,2,     -999.0,9
33RO20150410,     P16N.1,      36,          1,         22,         22,2,20150420,       2254,    -2.3803,  -150.9999,       4951,    42.4,  28.5017,  35.2962,2,  35.2988,2,    200.1,2,   200.4,2,    1.90,2,    3.70,2,    0.15,2,    0.44,4,   1.482,2,   0.960,2,   1.251,2,  2020.0,2,  2323.5,2,   8.0393,6,    25.01,-999.000,9,-999.0000,9, -999.00,9,  28.5021, -999.00,9,  -999.0,9,  -999.0,-999.000,9,-999.000,    61.5,2,    7.80,2,      6.522,3, -999.00,9,-999.000,-999.0000, -999.00,     -999.0,     -999.0,9,     -999.0,     -999.0,9,     -999.0,  -999.0,9,     -999.0,     -999.0,9,     -999.0,  28.4916,    35.4653,6,-999.0000,2,     -999.0,9
33RO20150410,     P16N.1,      36,          1,         21,         21,2,20150420,       2254,    -2.3803,  -150.9999,       4951,    67.8,  28.2412,  35.2906,2,  35.2951,2,    199.6,2,   199.7,2,    2.10,2,    3.90,2,    0.16,2,    0.46,4,   1.532,2,   0.969,2,   1.251,2,  2023.5,2,  2322.5,2,   8.0339,6,    25.01,-999.000,9,-999.0000,9, -999.00,9,  28.2346, -999.00,9,  -999.0,9,  -999.0,-999.000,9,-999.000,    61.0,2, -999.00,9,      6.593,3, -999.00,9,-999.000,-999.0000, -999.00,     -999.0,     -999.0,9,     -999.0,     -999.0,9,     -999.0,  -999.0,9,     -999.0,     -999.0,9,     -999.0,  28.2251,    35.4616,2,-999.0000,2,     -999.0,9
33RO20150410,     P16N.1,      36,          1,         20,         20,2,20150420,       2254,    -2.3803,  -150.9999,       4951,    90.1,  27.2775,  35.3726,2,  35.3785,2,    194.5,2,   192.4,2,    2.20,2,    4.80,2,    0.12,2,    0.58,4,   1.540,2,   0.993,2,   1.274,2,  2039.5,2,  2329.9,2,   8.0158,2,    24.99,-999.000,9,-999.0000,9, -999.00,9,  27.2724, -999.00,9,  -999.0,9,  -999.0,-999.000,9,-999.000,    59.8,2,   10.30,2,      6.614,3, -999.00,9,-999.000,-999.0000, -999.00,     -999.0,     -999.0,9,     -999.0,     -999.0,9,     -999.0,  -999.0,9,     -999.0,     -999.0,9,     -999.0,  27.2566,    35.5453,2,-999.0000,2,     -999.0,9
33RO20150410,     P16N.1,      36,          1,         19,         19,3,20150420,       2254,    -2.3803,  -150.9999,       4951,   133.8,  24.4790,  35.8555,2,  35.8646,2,    172.0,2,   164.3,2,    2.20,2,    4.40,2,    3.32,2,    0.74,4,-999.000,9,-999.000,9,-999.000,9,  -999.0,9,  -999.0,9,-999.0000,9,  -999.00,-999.000,9,-999.0000,9, -999.00,9,  24.4619, -999.00,9,  -999.0,9,  -999.0,-999.000,9,-999.000,  -999.0,9, -999.00,9,     -999.0,9, -999.00,9,-999.000,-999.0000, -999.00,     -999.0,     -999.0,9,     -999.0,     -999.0,9,     -999.0,  -999.0,9,     -999.0,     -999.0,9,     -999.0,  24.4503,    36.0337,2,-999.0000,2,     -999.0,9
33RO20150410,     P16N.1,      36,          1,         18,         18,2,20150420,       2254,    -2.3803,  -150.9999,       4951,   200.0,  12.9823,  34.9258,2,  34.9260,2,     28.7,2,    27.2,2,   21.70,2,   30.50,2,    0.00,2,    2.01,4,   1.267,6,   0.717,6,   0.357,6,  2234.1,6,  2302.3,2,   7.5125,2,    25.00,-999.000,9,-999.0000,9, -999.00,9,  12.9723, -999.00,9,  -999.0,9,  -999.0,-999.000,9,-999.000,    44.6,2,   31.70,3,     66.468,3, -999.00,9,-999.000,-999.0000, -999.00,     -999.0,     -999.0,9,     -999.0,     -999.0,9,     -999.0,  -999.0,9,     -999.0,     -999.0,9,     -999.0,  12.9548,    35.0907,2,-999.0000,2,     -999.0,9
33RO20150410,     P16N.1,      36,          1,         17,         17,2,20150420,       2254,    -2.3803,  -150.9999,       4951,   274.4,  11.7522,  34.8437,2,  34.8506,2,     59.3,2,    59.6,2,   22.90,2,   28.80,2,    0.00,2,    1.91,4,   1.120,2,   0.626,2,   0.296,2,  2221.6,2,  2305.4,6,   7.5573,2,    24.98,-999.000,9,-999.0000,9, -999.00,9,  11.7525, -999.00,9,  -999.0,9,  -999.0,-999.000,9,-999.000,    41.8,2,   32.00,3,     49.967,3, -999.00,9,-999.000,-999.0000, -999.00,     -999.0,     -999.0,9,     -999.0,     -999.0,9,     -999.0,  -999.0,9,     -999.0,     -999.0,9,     -999.0,  11.7168,    35.0150,2,-999.0000,2,     -999.0,9
33RO20150410,     P16N.1,      36,          1,         16,         16,2,20150420,       2254,    -2.3803,  -150.9999,       4951,   366.7,  11.0961,  34.7979,2,  34.7997,2,     46.8,2,    67.0,2,   24.00,2,   29.20,2,    0.00,2,    1.91,4,   1.046,2,   0.585,2,   0.271,2,  2222.7,2,  2304.3,2,   7.5567,6,    25.02,-999.000,9,-999.0000,9, -999.00,9,  11.0967, -999.00,9,  -999.0,9,  -999.0,-999.000,9,-999.000,    43.8,2,   30.80,3,     45.944,3, -999.00,9,-999.000,-999.0000, -999.00,     -999.0,     -999.0,9,     -999.0,     -999.0,9,     -999.0,  -999.0,9,     -999.0,     -999.0,9,     -999.0,  11.0504,    34.9638,2,-999.0000,2,     -999.0,9
33RO20150410,     P16N.1,      36,          1,         15,         15,2,20150420,       2254,    -2.3803,  -150.9999,       4951,   467.0,   8.3137,  34.6418,2,  34.6439,2,     26.8,2,    28.2,2,   39.30,2,   38.80,2,    0.00,2,    2.55,4,   0.193,2,   0.106,2,   0.037,2,  2272.3,2,  2307.3,2,   7.4101,2,    24.98,-999.000,9,-999.0000,9, -999.00,9,   8.3122, -999.00,9,  -999.0,9,  -999.0,-999.000,9,-999.000,    42.0,2, -999.00,9,     60.041,3, -999.00,9,-999.000,-999.0000, -999.00,     -999.0,     -999.0,9,     -999.0,     -999.0,9,     -999.0,  -999.0,9,     -999.0,     -999.0,9,     -999.0,   8.2648,    34.8073,2,-999.0000,2,     -999.0,9
33RO20150410,     P16N.1,      36,          1,         14,         14,2,20150420,       2254,    -2.3803,  -150.9999,       4951,   597.6,   6.4447,  34.5557,2,  34.5587,2,     72.9,2,    71.1,2,   52.10,2,   38.20,2,    0.00,2,    2.57,4,   0.121,2,   0.066,2,       0,2,  2269.3,2,  2322.3,2,   7.4654,6,    25.02,-999.000,9,-999.0000,9, -999.00,9,   6.4442, -999.00,9,  -999.0,9,  -999.0,-999.000,9,-999.000,    38.6,2, -999.00,9,     40.067,3, -999.00,9,-999.000,-999.0000, -999.00,     -999.0,     -999.0,9,     -999.0,     -999.0,9,     -999.0,  -999.0,9,     -999.0,     -999.0,9,     -999.0,   6.3900,    34.7216,2,-999.0000,2,     -999.0,9
33RO20150410,     P16N.1,      36,          1,         13,         13,2,20150420,       2254,    -2.3803,  -150.9999,       4951,   750.7,   6.0270,  34.5464,2,  34.5516,2,     78.8,2,    77.3,2,   56.80,2,   38.30,2,    0.00,2,    2.60,4,   0.096,2,   0.054,2,       0,2,  2271.1,2,  2327.2,2,   7.4720,2,    25.00,-999.000,9,-999.0000,9, -999.00,9,   6.0271, -999.00,9,  -999.0,9,  -999.0,-999.000,9,-999.000,    39.2,2, -999.00,9,     37.802,3, -999.00,9,-999.000,-999.0000, -999.00,     -999.0,     -999.0,9,     -999.0,     -999.0,9,     -999.0,  -999.0,9,     -999.0,     -999.0,9,     -999.0,   5.9599,    34.7145,2,-999.0000,2,     -999.0,9
33RO20150410,     P16N.1,      36,          1,         12,         12,2,20150420,       2254,    -2.3803,  -150.9999,       4951,   889.6,   5.1452,  34.5429,2,  34.5441,2,     82.3,2,    81.2,2,   69.70,2,   39.20,2,    0.00,2,    2.68,4,   0.033,2,   0.018,2,       0,2,  2285.5,6,  2340.3,2,   7.4692,2,    24.99,-999.000,9,-999.0000,9, -999.00,9,   5.1494, -999.00,9,  -999.0,9,  -999.0,-999.000,9,-999.000,    38.7,2, -999.00,9,     35.207,3, -999.00,9,-999.000,-999.0000, -999.00,     -999.0,     -999.0,9,     -999.0,     -999.0,9,     -999.0,  -999.0,9,     -999.0,     -999.0,9,     -999.0,   5.0707,    34.7070,2,-999.0000,2,     -999.0,9
33RO20150410,     P16N.1,      36,          1,         11,         11,2,20150420,       2254,    -2.3803,  -150.9999,       4951,  1051.2,   4.2804,  34.5548,2,  34.5575,2,     90.4,2,    89.9,2,   85.90,2,   39.10,2,    0.00,2,    2.74,4,   0.032,2,   0.014,2,       0,2,  2298.7,2,  2358.4,2,   7.4793,2,    24.99,-999.000,9,-999.0000,9, -999.00,9,   4.2825, -999.00,9,  -999.0,9,  -999.0,-999.000,9,-999.000,    38.7,2, -999.00,9,     32.615,3, -999.00,9,-999.000,-999.0000, -999.00,     -999.0,     -999.0,9,     -999.0,     -999.0,9,     -999.0,  -999.0,9,     -999.0,     -999.0,9,     -999.0,   4.1981,    34.7205,2,-999.0000,2,     -999.0,9
33RO20150410,     P16N.1,      36,          1,         10,         10,2,20150420,       2254,    -2.3803,  -150.9999,       4951,  1235.6,   3.7112,  34.5721,2,  34.5742,2,     94.8,2,    94.4,2,   98.80,2,   39.10,2,    0.00,2,    2.77,4,   0.005,2,   0.002,2,       0,2,  2310.8,2,  2372.1,2,   7.4844,2,    24.99,-999.000,9,-999.0000,9, -999.00,9,   3.7107, -999.00,9,  -999.0,9,  -999.0,-999.000,9,-999.000,    37.6,2, -999.00,9,     31.152,3, -999.00,9,-999.000,-999.0000, -999.00,     -999.0,     -999.0,9,     -999.0,     -999.0,9,     -999.0,  -999.0,9,     -999.0,     -999.0,9,     -999.0,   3.6181,    34.7373,2,-999.0000,2,     -999.0,9
33RO20150410,     P16N.1,      36,          1,          9,          9,2,20150420,       2254,    -2.3803,  -150.9999,       4951,  1500.3,   3.0139,  34.6007,2,  34.6023,2,    100.6,2,    99.9,2,  115.90,2,   39.10,2,    0.00,2,    2.79,4,   0.001,2,   0.000,2,       0,2,  2326.2,2,  2391.5,2,   7.4934,6,    25.01,-999.000,9,-999.0000,9, -999.00,9,   3.0143, -999.00,9,  -999.0,9,  -999.0,-999.000,9,-999.000,    36.8,2, -999.00,9,     29.035,3, -999.00,9,-999.000,-999.0000, -999.00,     -999.0,     -999.0,9,     -999.0,     -999.0,9,     -999.0,  -999.0,9,     -999.0,     -999.0,9,     -999.0,   2.9058,    34.7655,2,-999.0000,2,     -999.0,9
33RO20150410,     P16N.1,      36,          1,          8,          8,2,20150420,       2254,    -2.3803,  -150.9999,       4951,  1866.5,   2.4232,  34.6330,2,  34.6347,2,    104.9,2,   103.5,2,  133.50,2,   39.00,2,    0.00,2,    2.81,4,  -0.001,2,  -0.001,2,       0,2,  2343.0,2,  2412.4,2,   7.5017,2,    24.98,-999.000,9,-999.0000,9, -999.00,9,   2.4237, -999.00,9,  -999.0,9,  -999.0,-999.000,9,-999.000,    38.5,2, -999.00,9,     27.092,3, -999.00,9,-999.000,-999.0000, -999.00,     -999.0,     -999.0,9,     -999.0,     -999.0,9,     -999.0,  -999.0,9,     -999.0,     -999.0,9,     -999.0,   2.2918,    34.7981,2,-999.0000,2,     -999.0,9
33RO20150410,     P16N.1,      36,          1,          7,          7,2,20150420,       2254,    -2.3803,  -150.9999,       4951,  2268.4,   2.0930,  34.6513,2,  34.6526,2,    114.3,2,   115.0,2,  140.40,2,   38.40,2,    0.00,2,    2.77,4,   0.000,2,  -0.001,2,       0,2,  2343.9,2,  2420.3,2,   7.5198,2,    24.99,-999.000,9,-999.0000,9, -999.00,9,   2.0929, -999.00,9,  -999.0,9,  -999.0,-999.000,9,-999.000,    36.9,2, -999.00,9,     24.958,3, -999.00,9,-999.000,-999.0000, -999.00,     -999.0,     -999.0,9,     -999.0,     -999.0,9,     -999.0,  -999.0,9,     -999.0,     -999.0,9,     -999.0,   1.9318,    34.8160,2,-999.0000,2,     -999.0,9
33RO20150410,     P16N.1,      36,          1,          6,          6,2,20150420,       2254,    -2.3803,  -150.9999,       4951,  2668.1,   1.8243,  34.6653,2,  34.6690,2,    129.6,2,   129.9,2,  141.50,2,   37.40,2,    0.00,2,    2.71,4,  -0.006,2,  -0.001,2,       0,2,  2335.5,2,  2422.5,2,   7.5448,2,    25.01,-999.000,9,-999.0000,9, -999.00,9,   1.8242, -999.00,9,  -999.0,9,  -999.0,-999.000,9,-999.000,    35.5,2, -999.00,9,     23.116,3, -999.00,9,-999.000,-999.0000, -999.00,     -999.0,     -999.0,9,     -999.0,     -999.0,9,     -999.0,  -999.0,9,     -999.0,     -999.0,9,     -999.0,   1.6318,    34.8324,2,-999.0000,2,     -999.0,9
33RO20150410,     P16N.1,      36,          1,          5,          5,2,20150420,       2254,    -2.3803,  -150.9999,       4951,  3062.8,   1.6298,  34.6758,2,  34.6753,2,    142.3,2,   141.5,2,  142.00,2,   36.70,2,    0.00,2,    2.64,4,  -0.001,2,   0.000,2,       0,2,  2330.8,2,  2422.5,2,   7.5625,2,    24.99,-999.000,9,-999.0000,9, -999.00,9,   1.6301, -999.00,9,  -999.0,9,  -999.0,-999.000,9,-999.000,    36.2,2, -999.00,9,     21.808,3, -999.00,9,-999.000,-999.0000, -999.00,     -999.0,     -999.0,9,     -999.0,     -999.0,9,     -999.0,  -999.0,9,     -999.0,     -999.0,9,     -999.0,   1.4041,    34.8388,2,-999.0000,2,     -999.0,9
33RO20150410,     P16N.1,      36,          1,          4,          4,2,20150420,       2254,    -2.3803,  -150.9999,       4951,  3533.2,   1.4852,  34.6869,2,  34.6865,2,    154.2,2,   154.2,2,  142.70,6,   35.90,6,    0.00,6,    2.56,4,  -0.002,2,   0.000,2,       0,2,  2325.6,2,  2425.0,2,   7.5844,6,    25.01,-999.000,9,-999.0000,9, -999.00,9,   1.4854, -999.00,9,  -999.0,9,  -999.0,-999.000,9,-999.000,    36.5,2, -999.00,9,     20.609,3, -999.00,9,-999.000,-999.0000, -999.00,     -999.0,     -999.0,9,     -999.0,     -999.0,9,     -999.0,  -999.0,9,     -999.0,     -999.0,9,     -999.0,   1.2160,    34.8500,6,-999.0000,2,     -999.0,9
33RO20150410,     P16N.1,      36,          1,          3,          3,2,20150420,       2254,    -2.3803,  -150.9999,       4951,  4003.6,   1.4195,  34.6929,2,  34.6941,2,    159.8,2,   160.5,2,  142.20,6,   35.40,6,    0.00,6,    2.53,4,   0.000,2,   0.000,2,       0,2,  2320.2,2,  2426.6,2,   7.5964,6,    25.00,-999.000,9,-999.0000,9, -999.00,9,   1.4197, -999.00,9,  -999.0,9,  -999.0,-999.000,9,-999.000,    37.3,2, -999.00,9,     20.193,3, -999.00,9,-999.000,-999.0000, -999.00,     -999.0,     -999.0,9,     -999.0,     -999.0,9,     -999.0,  -999.0,9,     -999.0,     -999.0,9,     -999.0,   1.1024,    34.8577,2,-999.0000,2,     -999.0,9
33RO20150410,     P16N.1,      36,          1,          2,          2,2,20150420,       2254,    -2.3803,  -150.9999,       4951,  4532.6,   1.3679,  34.6981,2,  34.6997,2,    177.6,2,   176.0,2,  132.00,6,   34.20,6,    0.00,6,    2.43,4,   0.004,2,   0.002,2,       0,2,  2299.5,2,  2406.5,6,   7.6033,2,    25.01,-999.000,9,-999.0000,9, -999.00,9,   1.3680, -999.00,9,  -999.0,9,  -999.0,-999.000,9,-999.000,    37.7,2, -999.00,9,     19.524,3, -999.00,9,-999.000,-999.0000, -999.00,     -999.0,     -999.0,9,     -999.0,     -999.0,9,     -999.0,  -999.0,9,     -999.0,     -999.0,9,     -999.0,   0.9931,    34.8634,2,-999.0000,2,     -999.0,9
33RO20150410,     P16N.1,      36,          1,          1,          1,2,20150420,       2254,    -2.3803,  -150.9999,       4951,  4940.2,   1.3539,  34.7008,2,  34.7022,2,    185.3,2,   186.3,2,  127.90,6,   33.70,6,    0.00,6,    2.38,4,   0.005,6,   0.002,6,       0,6,  2292.9,6,  2398.7,2,   7.6067,2,    25.00,-999.000,9,-999.0000,9, -999.00,9,   1.3543, -999.00,9,  -999.0,9,  -999.0,-999.000,9,-999.000,    38.3,2, -999.00,9,     19.301,3, -999.00,9,-999.000,-999.0000, -999.00,     -999.0,     -999.0,9,     -999.0,     -999.0,9,     -999.0,  -999.0,9,     -999.0,     -999.0,9,     -999.0,   0.9316,    34.8659,2,-999.0000,2,     -999.0,9