BOTTLE,20210709CCHSIOCBG
EXPOCODE,SECT_ID,STNNBR,CASTNO,SAMPNO,BTLNBR,BTLNBR_FLAG_W,DATE,TIME,LATITUDE,LONGITUDE,DEPTH,CTDPRS,CTDTMP,CTDSAL,CTDSAL_FLAG_W,SALNTY,SALNTY_FLAG_W,CTDOXY,CTDOXY_FLAG_W,OXYGEN,OXYGEN_FLAG_W,SILCAT,SILCAT_FLAG_W,NITRAT,NITRAT_FLAG_W,NITRIT,NITRIT_FLAG_W,PHSPHT,PHSPHT_FLAG_W,CFC-11,CFC-11_FLAG_W,CFC-12,CFC-12_FLAG_W,SF6,SF6_FLAG_W,TCARBN,TCARBN_FLAG_W,ALKALI,ALKALI_FLAG_W,PH_TOT,PH_TOT_FLAG_W,PH_TMP,TRITUM,TRITUM_FLAG_W,HELIUM,HELIUM_FLAG_W,DELHE3,DELHE3_FLAG_W,REFTMP,DELC13,DELC13_FLAG_W,DELC14,DELC14_FLAG_W,C14ERR,NEON,NEON_FLAG_W,NEONER,DOC,DOC_FLAG_W,TDN,TDN_FLAG_W,N2O,N2O_FLAG_W,ARGON,ARGON_FLAG_W,TRITER,HELIER,DELHER,ARGONER,KRYPTON,KRYPTON_FLAG_W,KRYPTONER,XENON,XENON_FLAG_W,XENONER,14C-DOC,14C-DOC_FLAG_W,14C-DOCERR,13C-DOC,13C-DOC_FLAG_W,13C-DOCERR,THETA,SALTREF,SALTREF_FLAG_W,SBE35,SBE35_FLAG_W,CHLORA,CHLORA_FLAG_W
,,,,,,,,,,,METERS,DBAR,ITS-90,PSS-78,,PSS-78,,UMOL/KG,,UMOL/KG,,UMOL/KG,,UMOL/KG,,UMOL/KG,,UMOL/KG,,PMOL/KG,,PMOL/KG,,FMOL/KG,,UMOL/KG,,UMOL/KG,,,,DEG C,TU,,NMOL/KG,,PERCNT,,DEG C,/MILLE,,/MILLE,,/MILLE,NMOL/KG,,NMOL/KG,UMOL/KG,,UMOL/KG,,NMOL/KG,,UMOL/KG,,TU,NMOL/KG,PERCNT,UMOL/KG,NMOL/KG,,NMOL/KG,NMOL/KG,,NMOL/KG,/MILLE,,/MILLE,/MILLE,,/MILLE,DEG C,G/KG,,ITS-90,,MG/M3,
33RO20150410,     P16N.1,      82,          1,         24,         24,2,20150502,       1241,     7.5005,  -151.3404,       5415,     5.7,  27.7496,  34.1032,2,  34.1074,2,    196.3,2,   197.1,2,    0.90,2,    0.10,2,    0.01,2,    0.13,2,-999.000,9,-999.000,9,-999.000,9,  1923.3,6,  2242.9,2,   8.0944,2,    25.01,-999.000,9,-999.0000,9, -999.00,9,  27.7482,    0.91,2,    33.2,2,     2.9,-999.000,9,-999.000,  -999.0,9, -999.00,9,     -999.0,9, -999.00,9,-999.000,-999.0000, -999.00,     -999.0,     -999.0,9,     -999.0,     -999.0,9,     -999.0,  -999.0,9,     -999.0,     -999.0,9,     -999.0,  27.7483,    34.2683,2,-999.0000,9,     -999.0,9
33RO20150410,     P16N.1,      82,          1,         23,         23,2,20150502,       1241,     7.5005,  -151.3404,       5415,    19.7,  27.7448,  34.1013,2,  34.1065,2,    196.7,2,   197.0,2,    1.00,2,    0.10,2,    0.01,2,    0.14,2,-999.000,9,-999.000,9,-999.000,9,  1924.3,2,  2242.3,2,   8.0945,6,    25.01,-999.000,9,-999.0000,9, -999.00,9,  27.7433, -999.00,9,  -999.0,9,  -999.0,-999.000,9,-999.000,  -999.0,9, -999.00,9,     -999.0,9, -999.00,9,-999.000,-999.0000, -999.00,     -999.0,     -999.0,9,     -999.0,     -999.0,9,     -999.0,  -999.0,9,     -999.0,     -999.0,9,     -999.0,  27.7402,    34.2673,2,-999.0000,9,     -999.0,9
33RO20150410,     P16N.1,      82,          1,         22,         22,2,20150502,       1241,     7.5005,  -151.3404,       5415,    41.7,  27.7843,  34.1201,2,  34.1227,2,    197.2,2,   196.9,2,    0.90,2,    0.10,2,    0.01,2,    0.14,2,-999.000,9,-999.000,9,-999.000,9,  1924.6,2,  2244.2,2,   8.0940,2,    25.00,-999.000,9,-999.0000,9, -999.00,9,  27.7827, -999.00,9,  -999.0,9,  -999.0,-999.000,9,-999.000,  -999.0,9, -999.00,9,     -999.0,9, -999.00,9,-999.000,-999.0000, -999.00,     -999.0,     -999.0,9,     -999.0,     -999.0,9,     -999.0,  -999.0,9,     -999.0,     -999.0,9,     -999.0,  27.7746,    34.2836,2,-999.0000,9,     -999.0,9
33RO20150410,     P16N.1,      82,          1,         21,         21,2,20150502,       1241,     7.5005,  -151.3404,       5415,    66.2,  21.6901,  34.7008,2,  34.6990,2,    208.9,2,   207.5,2,    2.50,2,    0.60,2,    0.02,2,    0.32,2,-999.000,9,-999.000,9,-999.000,9,  2039.9,2,  2297.1,6,   7.9677,2,    25.00,-999.000,9,-999.0000,9, -999.00,9,  21.5496,    0.55,2,    22.7,2,     2.1,-999.000,9,-999.000,  -999.0,9, -999.00,9,     -999.0,9, -999.00,9,-999.000,-999.0000, -999.00,     -999.0,     -999.0,9,     -999.0,     -999.0,9,     -999.0,  -999.0,9,     -999.0,     -999.0,9,     -999.0,  21.6772,    34.8626,2,-999.0000,9,     -999.0,9
33RO20150410,     P16N.1,      82,          1,         20,         20,2,20150502,       1241,     7.5005,  -151.3404,       5415,    92.3,  15.9799,  34.5635,2,  34.5652,2,    135.4,2,   135.4,2,    9.60,2,   11.90,2,    0.58,2,    1.04,2,-999.000,9,-999.000,9,-999.000,9,  2122.7,2,  2281.8,2,   7.7619,2,    25.00,-999.000,9,-999.0000,9, -999.00,9,  15.9832,    0.04,2,    17.6,2,     2.1,-999.000,9,-999.000,  -999.0,9, -999.00,9,     -999.0,9, -999.00,9,-999.000,-999.0000, -999.00,     -999.0,     -999.0,9,     -999.0,     -999.0,9,     -999.0,  -999.0,9,     -999.0,     -999.0,9,     -999.0,  15.9654,    34.7282,2,-999.0000,9,     -999.0,9
33RO20150410,     P16N.1,      82,          1,         19,         19,2,20150502,       1241,     7.5005,  -151.3404,       5415,   132.6,  11.5982,  34.6721,2,  34.6717,2,     20.6,2,    18.8,2,   27.30,2,   32.00,2,    0.01,2,    2.35,2,-999.000,9,-999.000,9,-999.000,9,  2245.7,2,  2294.8,2,   7.4512,2,    25.01,-999.000,9,-999.0000,9, -999.00,9,  11.5973,   -0.30,2,   -30.2,2,     1.9,-999.000,9,-999.000,  -999.0,9, -999.00,9,     -999.0,9, -999.00,9,-999.000,-999.0000, -999.00,     -999.0,     -999.0,9,     -999.0,     -999.0,9,     -999.0,  -999.0,9,     -999.0,     -999.0,9,     -999.0,  11.5814,    34.8352,2,-999.0000,9,     -999.0,9
33RO20150410,     P16N.1,      82,          1,         18,         18,2,20150502,       1241,     7.5005,  -151.3404,       5415,   200.7,  10.4545,  34.6968,2,  34.6969,2,     31.4,2,    32.3,2,   29.60,2,   33.00,2,    0.01,2,    2.32,2,-999.000,9,-999.000,9,-999.000,9,  2249.5,2,  2301.2,2,   7.4668,6,    25.02,-999.000,9,-999.0000,9, -999.00,9,  10.4561,   -0.20,2,   -51.9,2,     1.9,-999.000,9,-999.000,  -999.0,9, -999.00,9,     -999.0,9, -999.00,9,-999.000,-999.0000, -999.00,     -999.0,     -999.0,9,     -999.0,     -999.0,9,     -999.0,  -999.0,9,     -999.0,     -999.0,9,     -999.0,  10.4306,    34.8605,2,-999.0000,9,     -999.0,9
33RO20150410,     P16N.1,      82,          1,         17,         17,2,20150502,       1241,     7.5005,  -151.3404,       5415,   275.5,   9.7887,  34.6867,2,  34.6863,2,     35.2,2,    34.8,2,   31.80,2,   34.20,2,    0.01,2,    2.38,2,-999.000,9,-999.000,9,-999.000,9,  2254.5,2,  2303.3,2,   7.4582,2,    25.00,-999.000,9,-999.0000,9, -999.00,9,   9.7879,   -0.04,2,   -61.6,2,     1.8,-999.000,9,-999.000,  -999.0,9, -999.00,9,     -999.0,9, -999.00,9,-999.000,-999.0000, -999.00,     -999.0,     -999.0,9,     -999.0,     -999.0,9,     -999.0,  -999.0,9,     -999.0,     -999.0,9,     -999.0,   9.7571,    34.8498,2,-999.0000,9,     -999.0,9
33RO20150410,     P16N.1,      82,          1,         16,         16,2,20150502,       1241,     7.5005,  -151.3404,       5415,   352.3,   9.2991,  34.6604,2,  34.6600,2,     14.1,2,    17.6,2,   36.00,2,   36.40,2,    0.01,2,    2.58,2,-999.000,9,-999.000,9,-999.000,9,  2272.6,2,  2305.3,2,   7.4100,2,    25.01,-999.000,9,-999.0000,9, -999.00,9,   9.3020,   -0.23,2,   -81.6,2,     2.0,-999.000,9,-999.000,  -999.0,9, -999.00,9,     -999.0,9, -999.00,9,-999.000,-999.0000, -999.00,     -999.0,     -999.0,9,     -999.0,     -999.0,9,     -999.0,  -999.0,9,     -999.0,     -999.0,9,     -999.0,   9.2599,    34.8234,2,-999.0000,9,     -999.0,9
33RO20150410,     P16N.1,      82,          1,         15,         15,2,20150502,       1241,     7.5005,  -151.3404,       5415,   468.3,   8.2204,  34.6106,2,  34.6119,2,     14.6,2,    14.0,2,   43.90,2,   38.40,2,    0.01,2,    2.78,2,-999.000,9,-999.000,9,-999.000,9,  2288.2,2,  2313.0,2,   7.3854,6,    25.01,-999.000,9,-999.0000,9, -999.00,9,   8.2232,   -0.19,2,  -114.5,2,     1.7,-999.000,9,-999.000,  -999.0,9, -999.00,9,     -999.0,9, -999.00,9,-999.000,-999.0000, -999.00,     -999.0,     -999.0,9,     -999.0,     -999.0,9,     -999.0,  -999.0,9,     -999.0,     -999.0,9,     -999.0,   8.1717,    34.7751,2,-999.0000,9,     -999.0,9
33RO20150410,     P16N.1,      82,          1,         14,         14,2,20150502,       1241,     7.5005,  -151.3404,       5415,   600.3,   7.1412,  34.5766,2,  34.5759,2,     13.7,2,    12.5,2,   53.80,2,   41.10,2,    0.01,2,    2.98,2,-999.000,9,-999.000,9,-999.000,9,  2303.5,2,  2322.0,2,   7.3623,2,    25.00,-999.000,9,-999.0000,9, -999.00,9,   7.1495,   -0.21,2,  -141.1,2,     1.9,-999.000,9,-999.000,  -999.0,9, -999.00,9,     -999.0,9, -999.00,9,-999.000,-999.0000, -999.00,     -999.0,     -999.0,9,     -999.0,     -999.0,9,     -999.0,  -999.0,9,     -999.0,     -999.0,9,     -999.0,   7.0831,    34.7389,6,-999.0000,9,     -999.0,9
33RO20150410,     P16N.1,      82,          1,         13,         13,2,20150502,       1241,     7.5005,  -151.3404,       5415,   750.4,   6.0350,  34.5531,2,  34.5538,2,     21.3,2,    21.8,2,   66.90,2,   42.90,2,    0.01,2,    3.02,2,-999.000,9,-999.000,9,-999.000,9,  2312.2,6,  2333.7,2,   7.3667,2,    25.00,-999.000,9,-999.0000,9, -999.00,9,   6.0335, -999.00,5,  -999.0,5,-999000.0,-999.000,9,-999.000,  -999.0,9, -999.00,9,     -999.0,9, -999.00,9,-999.000,-999.0000, -999.00,     -999.0,     -999.0,9,     -999.0,     -999.0,9,     -999.0,  -999.0,9,     -999.0,     -999.0,9,     -999.0,   5.9679,    34.7167,2,-999.0000,9,     -999.0,9
33RO20150410,     P16N.1,      82,          1,         12,         12,2,20150502,       1241,     7.5005,  -151.3404,       5415,   900.9,   5.1841,  34.5534,2,  34.5528,2,     35.8,2,    35.6,2,   77.50,2,   43.10,2,    0.02,2,    3.03,2,-999.000,9,-999.000,9,-999.000,9,  2323.1,2,  2347.1,2,   7.3846,6,    25.01,-999.000,9,-999.0000,9, -999.00,9,   5.1855,   -0.10,2,  -178.5,2,     1.8,-999.000,9,-999.000,  -999.0,9, -999.00,9,     -999.0,9, -999.00,9,-999.000,-999.0000, -999.00,     -999.0,     -999.0,9,     -999.0,     -999.0,9,     -999.0,  -999.0,9,     -999.0,     -999.0,9,     -999.0,   5.1083,    34.7157,2,-999.0000,9,     -999.0,9
33RO20150410,     P16N.1,      82,          1,         11,         11,2,20150502,       1241,     7.5005,  -151.3404,       5415,  1049.5,   4.4836,  34.5616,2,  34.5606,2,     45.8,2,    46.1,2,   91.10,2,   42.60,2,    0.03,2,    3.02,2,-999.000,9,-999.000,9,-999.000,9,  2329.4,2,  2363.6,2,   7.4003,2,    25.00,-999.000,9,-999.0000,9, -999.00,9,   4.4832, -999.00,9,  -999.0,9,  -999.0,-999.000,9,-999.000,  -999.0,9, -999.00,9,     -999.0,9, -999.00,9,-999.000,-999.0000, -999.00,     -999.0,     -999.0,9,     -999.0,     -999.0,9,     -999.0,  -999.0,9,     -999.0,     -999.0,9,     -999.0,   4.3998,    34.7236,2,-999.0000,9,     -999.0,9
33RO20150410,     P16N.1,      82,          1,         10,         10,2,20150502,       1241,     7.5005,  -151.3404,       5415,  1234.0,   3.7580,  34.5809,2,  34.5834,2,     56.1,2,    56.2,2,  106.30,2,   42.20,2,    0.00,2,    2.98,2,-999.000,9,-999.000,9,-999.000,9,  2342.7,2,  2380.5,2,   7.4154,2,    25.01,-999.000,9,-999.0000,9, -999.00,9,   3.7578, -999.00,9,  -999.0,9,  -999.0,-999.000,9,-999.000,  -999.0,9, -999.00,9,     -999.0,9, -999.00,9,-999.000,-999.0000, -999.00,     -999.0,     -999.0,9,     -999.0,     -999.0,9,     -999.0,  -999.0,9,     -999.0,     -999.0,9,     -999.0,   3.6646,    34.7465,2,-999.0000,9,     -999.0,9
33RO20150410,     P16N.1,      82,          1,          9,          9,2,20150502,       1241,     7.5005,  -151.3404,       5415,  1497.6,   3.0343,  34.6052,2,  34.6045,2,     72.6,2,    72.8,2,  121.60,2,   41.20,2,    0.00,2,    2.91,2,-999.000,9,-999.000,9,-999.000,9,  2349.9,2,  2398.6,2,   7.4448,2,    25.01,-999.000,9,-999.0000,9, -999.00,9,   3.0348, -999.00,9,  -999.0,9,  -999.0,-999.000,9,-999.000,  -999.0,9, -999.00,9,     -999.0,9, -999.00,9,-999.000,-999.0000, -999.00,     -999.0,     -999.0,9,     -999.0,     -999.0,9,     -999.0,  -999.0,9,     -999.0,     -999.0,9,     -999.0,   2.9262,    34.7676,2,-999.0000,9,     -999.0,9
33RO20150410,     P16N.1,      82,          1,          8,          8,2,20150502,       1241,     7.5005,  -151.3404,       5415,  1866.8,   2.3969,  34.6328,2,  34.6324,2,     90.3,2,    90.5,2,  135.30,2,   40.10,2,    0.01,2,    2.80,2,-999.000,9,-999.000,9,-999.000,9,  2352.7,2,  2414.8,2,   7.4774,2,    25.00,-999.000,9,-999.0000,9, -999.00,9,   2.3968, -999.00,9,  -999.0,9,  -999.0,-999.000,9,-999.000,  -999.0,9, -999.00,9,     -999.0,9, -999.00,9,-999.000,-999.0000, -999.00,     -999.0,     -999.0,9,     -999.0,     -999.0,9,     -999.0,  -999.0,9,     -999.0,     -999.0,9,     -999.0,   2.2658,    34.7957,6,-999.0000,9,     -999.0,9
33RO20150410,     P16N.1,      82,          1,          7,          7,2,20150502,       1241,     7.5005,  -151.3404,       5415,  2333.5,   1.9415,  34.6602,2,  34.6597,2,    106.7,2,   107.0,2,  145.40,2,   38.90,2,    0.00,2,    2.71,2,-999.000,9,-999.000,9,-999.000,9,  2354.9,2,  2429.4,2,   7.5107,2,    25.02,-999.000,9,-999.0000,9, -999.00,9,   1.9414, -999.00,9,  -999.0,9,  -999.0,-999.000,9,-999.000,  -999.0,9, -999.00,9,     -999.0,9, -999.00,9,-999.000,-999.0000, -999.00,     -999.0,     -999.0,9,     -999.0,     -999.0,9,     -999.0,  -999.0,9,     -999.0,     -999.0,9,     -999.0,   1.7772,    34.8231,2,-999.0000,9,     -999.0,9
33RO20150410,     P16N.1,      82,          1,          6,          6,2,20150502,       1241,     7.5005,  -151.3404,       5415,  2832.9,   1.7952,  34.6713,2,  34.6744,2,    115.5,2,   115.2,2,  149.30,2,   38.30,2,    0.01,2,    2.63,2,-999.000,9,-999.000,9,-999.000,9,  2356.5,2,  2434.6,2,   7.5279,6,    25.02,-999.000,9,-999.0000,9, -999.00,9,   1.7951, -999.00,9,  -999.0,9,  -999.0,-999.000,9,-999.000,  -999.0,9, -999.00,9,     -999.0,9, -999.00,9,-999.000,-999.0000, -999.00,     -999.0,     -999.0,9,     -999.0,     -999.0,9,     -999.0,  -999.0,9,     -999.0,     -999.0,9,     -999.0,   1.5879,    34.8379,2,-999.0000,9,     -999.0,9
33RO20150410,     P16N.1,      82,          1,          5,          5,2,20150502,       1241,     7.5005,  -151.3404,       5415,  3332.2,   1.5871,  34.6817,2,  34.6841,2,    134.6,2,   134.6,2,  147.10,2,   37.20,2,    0.00,2,    2.52,2,-999.000,9,-999.000,9,-999.000,9,  2343.5,2,  2432.8,2,   7.5582,6,    24.99,-999.000,9,-999.0000,9, -999.00,9,   1.5869, -999.00,9,  -999.0,9,  -999.0,-999.000,9,-999.000,  -999.0,9, -999.00,9,     -999.0,9, -999.00,9,-999.000,-999.0000, -999.00,     -999.0,     -999.0,9,     -999.0,     -999.0,9,     -999.0,  -999.0,9,     -999.0,     -999.0,9,     -999.0,   1.3357,    34.8476,2,-999.0000,9,     -999.0,9
33RO20150410,     P16N.1,      82,          1,          4,          4,2,20150502,       1241,     7.5005,  -151.3404,       5415,  3834.1,   1.4487,  34.6902,2,  34.6886,2,    154.4,2,   153.9,2,  140.20,6,   35.80,6,    0.00,6,    2.42,6,-999.000,9,-999.000,9,-999.000,9,  2323.8,2,  2424.0,2,   7.5826,2,    25.00,-999.000,9,-999.0000,9, -999.00,9,   1.4485, -999.00,9,  -999.0,9,  -999.0,-999.000,9,-999.000,  -999.0,9, -999.00,9,     -999.0,9, -999.00,9,-999.000,-999.0000, -999.00,     -999.0,     -999.0,9,     -999.0,     -999.0,9,     -999.0,  -999.0,9,     -999.0,     -999.0,9,     -999.0,   1.1490,    34.8522,2,-999.0000,9,     -999.0,9
33RO20150410,     P16N.1,      82,          1,          3,          3,2,20150502,       1241,     7.5005,  -151.3404,       5415,  4330.0,   1.3821,  34.6961,2,  34.6956,2,    166.9,2,   167.0,2,  133.70,6,   34.90,6,    0.00,6,    2.37,6,-999.000,9,-999.000,9,-999.000,9,  2312.4,2,  2415.6,6,   7.5972,2,    25.02,-999.000,9,-999.0000,9, -999.00,9,   1.3821, -999.00,9,  -999.0,9,  -999.0,-999.000,9,-999.000,  -999.0,9, -999.00,9,     -999.0,9, -999.00,9,-999.000,-999.0000, -999.00,     -999.0,     -999.0,9,     -999.0,     -999.0,9,     -999.0,  -999.0,9,     -999.0,     -999.0,9,     -999.0,   1.0300,    34.8592,2,-999.0000,9,     -999.0,9
33RO20150410,     P16N.1,      82,          1,          2,          2,2,20150502,       1241,     7.5005,  -151.3404,       5415,  4833.1,   1.4183,  34.6970,2,  34.6984,2,    169.2,2,   169.5,2,  132.20,6,   34.70,6,    0.01,6,    2.34,6,-999.000,9,-999.000,9,-999.000,9,  2308.7,2,  2413.0,2,   7.5981,2,    25.01,-999.000,9,-999.0000,9, -999.00,9,   1.4184, -999.00,9,  -999.0,9,  -999.0,-999.000,9,-999.000,  -999.0,9, -999.00,9,     -999.0,9, -999.00,9,-999.000,-999.0000, -999.00,     -999.0,     -999.0,9,     -999.0,     -999.0,9,     -999.0,  -999.0,9,     -999.0,     -999.0,9,     -999.0,   1.0067,    34.8621,2,-999.0000,9,     -999.0,9
33RO20150410,     P16N.1,      82,          1,          1,          1,2,20150502,       1241,     7.5005,  -151.3404,       5415,  5405.4,   1.4815,  34.6969,2,  34.6971,2,    171.6,2,   170.7,2,  131.40,6,   34.60,6,    0.01,6,    2.34,6,-999.000,9,-999.000,9,-999.000,9,  2307.4,6,  2411.6,2,   7.5984,2,    25.01,-999.000,9,-999.0000,9, -999.00,9,   1.4815, -999.00,9,  -999.0,9,  -999.0,-999.000,9,-999.000,  -999.0,9, -999.00,9,     -999.0,9, -999.00,9,-999.000,-999.0000, -999.00,     -999.0,     -999.0,9,     -999.0,     -999.0,9,     -999.0,  -999.0,9,     -999.0,     -999.0,9,     -999.0,   0.9975,    34.8607,2,-999.0000,9,     -999.0,9