BOTTLE,20210709CCHSIOCBG
EXPOCODE,SECT_ID,STNNBR,CASTNO,SAMPNO,BTLNBR,BTLNBR_FLAG_W,DATE,TIME,LATITUDE,LONGITUDE,DEPTH,CTDPRS,CTDTMP,CTDSAL,CTDSAL_FLAG_W,SALNTY,SALNTY_FLAG_W,CTDOXY,CTDOXY_FLAG_W,OXYGEN,OXYGEN_FLAG_W,SILCAT,SILCAT_FLAG_W,NITRAT,NITRAT_FLAG_W,NITRIT,NITRIT_FLAG_W,PHSPHT,PHSPHT_FLAG_W,CFC-11,CFC-11_FLAG_W,CFC-12,CFC-12_FLAG_W,SF6,SF6_FLAG_W,TCARBN,TCARBN_FLAG_W,ALKALI,ALKALI_FLAG_W,PH_TOT,PH_TOT_FLAG_W,PH_TMP,TRITUM,TRITUM_FLAG_W,HELIUM,HELIUM_FLAG_W,DELHE3,DELHE3_FLAG_W,REFTMP,DELC13,DELC13_FLAG_W,DELC14,DELC14_FLAG_W,C14ERR,NEON,NEON_FLAG_W,NEONER,DOC,DOC_FLAG_W,TDN,TDN_FLAG_W,N2O,N2O_FLAG_W,ARGON,ARGON_FLAG_W,TRITER,HELIER,DELHER,ARGONER,KRYPTON,KRYPTON_FLAG_W,KRYPTONER,XENON,XENON_FLAG_W,XENONER,14C-DOC,14C-DOC_FLAG_W,14C-DOCERR,13C-DOC,13C-DOC_FLAG_W,13C-DOCERR,THETA,SALTREF,SALTREF_FLAG_W,SBE35,SBE35_FLAG_W,CHLORA,CHLORA_FLAG_W
,,,,,,,,,,,METERS,DBAR,ITS-90,PSS-78,,PSS-78,,UMOL/KG,,UMOL/KG,,UMOL/KG,,UMOL/KG,,UMOL/KG,,UMOL/KG,,PMOL/KG,,PMOL/KG,,FMOL/KG,,UMOL/KG,,UMOL/KG,,,,DEG C,TU,,NMOL/KG,,PERCNT,,DEG C,/MILLE,,/MILLE,,/MILLE,NMOL/KG,,NMOL/KG,UMOL/KG,,UMOL/KG,,NMOL/KG,,UMOL/KG,,TU,NMOL/KG,PERCNT,UMOL/KG,NMOL/KG,,NMOL/KG,NMOL/KG,,NMOL/KG,/MILLE,,/MILLE,/MILLE,,/MILLE,DEG C,G/KG,,ITS-90,,MG/M3,
33RO20150410,     P16N.1,      32,          1,         24,         24,2,20150419,       2345,    -3.0402,  -151.0000,       4756,    15.3,  28.6950,  35.2680,2,  35.2643,2,    199.4,2,   199.8,2,    1.90,2,    3.80,2,    0.15,2,    0.32,4,   1.465,6,   0.958,6,   1.243,6,  2016.5,2,  2320.1,2,   8.0398,2,    24.99,   0.317,2,   1.7009,2,   -0.81,2,-999.0000, -999.00,9,  -999.0,9,  -999.0,   6.637,2,   0.017,    58.4,2,    8.20,2,      6.305,3, -999.00,9,   0.004,   0.0044,    0.20,     -999.0,     -999.0,9,     -999.0,     -999.0,9,     -999.0,  -999.0,9,     -999.0,     -999.0,9,     -999.0,  28.6913,    35.4305,6,-999.0000,2,     -999.0,9
33RO20150410,     P16N.1,      32,          1,         23,         23,2,20150419,       2345,    -3.0402,  -151.0000,       4756,    33.2,  28.3616,  35.2675,2,  35.2671,2,    200.8,2,   201.0,2,    2.00,2,    3.90,2,    0.15,2,    0.32,4,   1.480,2,   0.961,2,   1.224,2,  2019.3,6,  2318.6,2,   8.0363,2,    24.99,   0.304,2,   1.6985,2,   -1.07,2,-999.0000, -999.00,9,  -999.0,9,  -999.0,   6.652,2,   0.017,    60.0,2,    8.10,2,      6.538,3, -999.00,9,   0.002,   0.0044,    0.20,     -999.0,     -999.0,9,     -999.0,     -999.0,9,     -999.0,  -999.0,9,     -999.0,     -999.0,9,     -999.0,  28.3537,    35.4334,2,-999.0000,2,     -999.0,9
33RO20150410,     P16N.1,      32,          1,         22,         22,2,20150419,       2345,    -3.0402,  -151.0000,       4756,    58.4,  28.2435,  35.2601,2,  35.2606,2,    200.7,2,   200.3,2,    2.00,2,    4.00,2,    0.17,2,    0.33,4,   1.490,2,   0.963,2,   1.241,2,  2020.3,2,  2320.0,6,   8.0322,6,    24.99,-999.000,9,-999.0000,9, -999.00,9,-999.0000, -999.00,9,  -999.0,9,  -999.0,-999.000,9,-999.000,    59.9,2,    8.50,2,      6.504,3, -999.00,9,-999.000,-999.0000, -999.00,     -999.0,     -999.0,9,     -999.0,     -999.0,9,     -999.0,  -999.0,9,     -999.0,     -999.0,9,     -999.0,  28.2296,    35.4269,2,-999.0000,2,     -999.0,9
33RO20150410,     P16N.1,      32,          1,         21,         21,2,20150419,       2345,    -3.0402,  -151.0000,       4756,    83.1,  28.0286,  35.2428,2,  35.2459,2,    199.4,2,   199.3,2,    2.10,2,    4.10,2,    0.16,2,    0.35,4,   1.499,2,   0.970,2,   1.237,2,  2022.2,2,  2319.2,2,   8.0288,6,    25.00,   0.307,2,   1.7041,2,   -0.89,2,-999.0000, -999.00,9,  -999.0,9,  -999.0,   6.663,2,   0.017,    59.0,2,    7.90,2,      6.567,3, -999.00,9,   0.004,   0.0044,    0.20,     -999.0,     -999.0,9,     -999.0,     -999.0,9,     -999.0,  -999.0,9,     -999.0,     -999.0,9,     -999.0,  28.0090,    35.4121,2,-999.0000,2,     -999.0,9
33RO20150410,     P16N.1,      32,          1,         20,         20,2,20150419,       2345,    -3.0402,  -151.0000,       4756,   118.6,  26.2720,  35.2097,2,  35.2202,2,    194.5,2,   194.3,2,    2.70,2,    5.60,2,    0.21,2,    0.53,4,   1.643,2,   1.031,2,   1.311,2,  2048.2,2,  2320.9,2,   7.9836,6,    25.01,   0.297,2,   1.7020,2,   -1.13,2,-999.0000, -999.00,9,  -999.0,9,  -999.0,   6.713,2,   0.017,    57.5,2,   10.60,2,      7.118,3, -999.00,9,   0.003,   0.0044,    0.20,     -999.0,     -999.0,9,     -999.0,     -999.0,9,     -999.0,  -999.0,9,     -999.0,     -999.0,9,     -999.0,  26.2453,    35.3863,2,-999.0000,2,     -999.0,9
33RO20150410,     P16N.1,      32,          1,         19,         19,2,20150419,       2345,    -3.0402,  -151.0000,       4756,   175.0,  13.9548,  35.0023,2,  34.9877,4,     40.9,2,    37.0,2,   18.60,2,   28.80,2,    0.02,2,    1.79,4,   1.455,2,   0.832,2,    0.48,2,  2221.7,2,  2303.7,2,   7.5497,2,    25.00,   0.168,6,   1.7813,2,    5.72,2,  14.0666, -999.00,9,  -999.0,9,  -999.0,   7.461,2,   0.019,    45.3,2,   31.30,2,     62.569,3, -999.00,9,   0.002,   0.0046,    0.20,     -999.0,     -999.0,9,     -999.0,     -999.0,9,     -999.0,  -999.0,9,     -999.0,     -999.0,9,     -999.0,  13.9296,    35.1527,2,-999.0000,2,     -999.0,9
33RO20150410,     P16N.1,      32,          1,         18,         18,2,20150419,       2345,    -3.0402,  -151.0000,       4756,   250.0,  12.4387,  34.8909,2,  34.8911,2,     19.2,2,    17.8,2,   24.40,2,   32.20,2,    0.01,2,    2.00,4,   1.035,6,   0.590,6,   0.251,6,  2243.3,2,  2299.1,2,   7.4799,2,    24.99,   0.130,2,-999.0000,9, -999.00,9,  12.4397, -999.00,9,  -999.0,9,  -999.0,-999.000,9,-999.000,    40.7,2,   34.20,2,     73.108,3, -999.00,9,   0.003,-999.0000, -999.00,     -999.0,     -999.0,9,     -999.0,     -999.0,9,     -999.0,  -999.0,9,     -999.0,     -999.0,9,     -999.0,  12.4053,    35.0556,2,-999.0000,2,     -999.0,9
33RO20150410,     P16N.1,      32,          1,         17,         17,2,20150419,       2345,    -3.0402,  -151.0000,       4756,   332.6,  11.7933,  34.8506,2,  34.8542,2,     18.2,2,    18.3,2,   26.40,2,   32.60,2,    0.05,2,    2.06,4,   0.853,2,   0.484,2,   0.189,2,  2249.8,2,  2300.5,2,   7.4642,2,    25.00,   0.116,2,-999.0000,9, -999.00,9,  11.7888, -999.00,9,  -999.0,9,  -999.0,-999.000,9,-999.000,    40.8,2, -999.00,9,     72.042,3, -999.00,9,   0.002,-999.0000, -999.00,     -999.0,     -999.0,9,     -999.0,     -999.0,9,     -999.0,  -999.0,9,     -999.0,     -999.0,9,     -999.0,  11.7502,    35.0186,2,-999.0000,3,     -999.0,9
33RO20150410,     P16N.1,      32,          1,         16,         16,2,20150419,       2345,    -3.0402,  -151.0000,       4756,   433.0,   9.2540,  34.6960,2,  34.6933,2,     14.4,2,    15.1,2,   36.20,2,   38.00,2,    0.01,2,    2.41,4,   0.250,2,   0.140,2,   0.045,2,  2272.2,2,  2303.1,2,   7.3978,6,    25.01,   0.033,2,-999.0000,9, -999.00,9,   9.2543, -999.00,9,  -999.0,9,  -999.0,-999.000,9,-999.000,    41.4,2, -999.00,9,     69.694,3, -999.00,9,   0.002,-999.0000, -999.00,     -999.0,     -999.0,9,     -999.0,     -999.0,9,     -999.0,  -999.0,9,     -999.0,     -999.0,9,     -999.0,   9.2057,    34.8569,2,-999.0000,3,     -999.0,9
33RO20150410,     P16N.1,      32,          1,         15,         15,2,20150419,       2345,    -3.0402,  -151.0000,       4756,   550.6,   7.4684,  34.5977,2,  34.5992,2,     45.0,2,    45.1,2,   44.20,2,   39.60,2,    0.03,2,    2.47,4,   0.140,2,   0.077,2,       0,2,  2268.1,2,  2306.3,2,   7.4292,2,    25.00,   0.023,2,-999.0000,9, -999.00,9,   7.4714, -999.00,9,  -999.0,9,  -999.0,-999.000,9,-999.000,    39.3,2, -999.00,9,     50.058,3, -999.00,9,   0.002,-999.0000, -999.00,     -999.0,     -999.0,9,     -999.0,     -999.0,9,     -999.0,  -999.0,9,     -999.0,     -999.0,9,     -999.0,   7.4139,    34.7623,2,-999.0000,3,     -999.0,9
33RO20150410,     P16N.1,      32,          1,         14,         14,2,20150419,       2345,    -3.0402,  -151.0000,       4756,   700.5,   6.0626,  34.5527,2,  34.5542,2,     65.6,2,    63.5,2,   58.20,2,   40.20,2,    0.01,2,    2.57,4,   0.054,2,   0.028,2,       0,2,  2277.7,2,  2320.7,2,   7.4438,2,    24.99,-999.000,9,-999.0000,9, -999.00,9,   6.0619, -999.00,9,  -999.0,9,  -999.0,-999.000,9,-999.000,    39.6,2, -999.00,9,     40.564,3, -999.00,9,-999.000,-999.0000, -999.00,     -999.0,     -999.0,9,     -999.0,     -999.0,9,     -999.0,  -999.0,9,     -999.0,     -999.0,9,     -999.0,   6.0000,    34.7171,2,-999.0000,3,     -999.0,9
33RO20150410,     P16N.1,      32,          1,         13,         13,2,20150419,       2345,    -3.0402,  -151.0000,       4756,   851.0,   5.2672,  34.5469,2,  34.5485,2,     71.3,2,    70.6,2,   70.50,2,   40.00,2,    0.05,2,    2.63,4,   0.024,2,   0.012,2,   0.026,3,  2289.5,2,  2336.4,2,   7.4489,2,    25.00,  -0.001,2,-999.0000,9, -999.00,9,   5.2721, -999.00,9,  -999.0,9,  -999.0,-999.000,9,-999.000,    38.7,2, -999.00,9,     37.137,3, -999.00,9,   0.001,-999.0000, -999.00,     -999.0,     -999.0,9,     -999.0,     -999.0,9,     -999.0,  -999.0,9,     -999.0,     -999.0,9,     -999.0,   5.1954,    34.7114,2,-999.0000,2,     -999.0,9
33RO20150410,     P16N.1,      32,          1,         12,         12,2,20150419,       2345,    -3.0402,  -151.0000,       4756,  1000.2,   4.4243,  34.5525,2,  34.5536,2,     87.4,2,    87.0,2,   84.80,2,   39.70,2,    0.01,2,    2.63,4,   0.012,2,   0.004,2,       0,2,  2296.6,6,  2352.9,2,   7.4744,2,    24.99,   0.003,2,   1.8785,2,   18.28,2,   4.4281, -999.00,9,  -999.0,9,  -999.0,   7.974,2,   0.020,    37.7,2, -999.00,9,     32.820,3, -999.00,9,   0.002,   0.0049,    0.20,     -999.0,     -999.0,9,     -999.0,     -999.0,9,     -999.0,  -999.0,9,     -999.0,     -999.0,9,     -999.0,   4.3453,    34.7165,2,-999.0000,2,     -999.0,9
33RO20150410,     P16N.1,      32,          1,         11,         11,2,20150419,       2345,    -3.0402,  -151.0000,       4756,  1167.7,   3.8882,  34.5672,2,  34.5681,2,     90.7,2,    90.9,2,   96.70,2,   39.60,2,    0.01,2,    2.66,4,   0.023,3,   0.005,2,       0,2,  2306.5,2,  2367.0,2,   7.4790,2,    24.99,   0.009,2,   1.8788,2,   20.77,2,   3.8893, -999.00,9,  -999.0,9,  -999.0,   7.952,2,   0.020,    38.4,2, -999.00,9,     31.247,3, -999.00,9,   0.002,   0.0049,    0.20,     -999.0,     -999.0,9,     -999.0,     -999.0,9,     -999.0,  -999.0,9,     -999.0,     -999.0,9,     -999.0,   3.7992,    34.7311,2,-999.0000,2,     -999.0,9
33RO20150410,     P16N.1,      32,          1,         10,         10,2,20150419,       2345,    -3.0402,  -151.0000,       4756,  1400.1,   3.2594,  34.5896,2,  34.5903,2,     98.1,2,    95.7,2,  110.70,2,   39.50,2,    0.01,2,    2.68,4,   0.007,2,   0.001,2,       0,2,  2319.8,2,  2382.3,2,   7.4890,2,    24.99,  -0.001,2,   1.9020,2,   23.42,2,   3.2606, -999.00,9,  -999.0,9,  -999.0,   8.017,2,   0.020,    36.1,2, -999.00,9,     29.157,3, -999.00,9,   0.001,   0.0049,    0.20,     -999.0,     -999.0,9,     -999.0,     -999.0,9,     -999.0,  -999.0,9,     -999.0,     -999.0,9,     -999.0,   3.1570,    34.7534,2,-999.0000,2,     -999.0,9
33RO20150410,     P16N.1,      32,          1,          9,          9,2,20150419,       2345,    -3.0402,  -151.0000,       4756,  1727.5,   2.6183,  34.6192,2,  34.6200,2,    107.7,2,   108.2,2,  125.70,2,   39.00,2,    0.01,2,    2.67,4,   0.004,2,   0.001,2,   0.036,3,  2331.1,2,  2399.5,2,   7.5068,6,    25.01,   0.004,2,-999.0000,9, -999.00,9,   2.6199, -999.00,9,  -999.0,9,  -999.0,-999.000,9,-999.000,    37.2,2, -999.00,9,     26.598,3, -999.00,9,   0.002,-999.0000, -999.00,     -999.0,     -999.0,9,     -999.0,     -999.0,9,     -999.0,  -999.0,9,     -999.0,     -999.0,9,     -999.0,   2.4960,    34.7832,2,-999.0000,2,     -999.0,9
33RO20150410,     P16N.1,      32,          1,          8,          8,2,20150419,       2345,    -3.0402,  -151.0000,       4756,  2135.0,   2.1512,  34.6471,2,  34.6396,4,    114.9,2,   115.2,2,  138.70,2,   38.50,2,    0.01,2,    2.65,4,   0.005,3,   0.000,2,   0.036,3,  2338.0,2,  2414.9,2,   7.5217,2,    24.98,   0.005,2,   1.9290,2,   28.02,2,   2.1510, -999.00,9,  -999.0,9,  -999.0,   8.121,2,   0.020,    37.5,2, -999.00,9,     24.604,3, -999.00,9,   0.002,   0.0050,    0.20,     -999.0,     -999.0,9,     -999.0,     -999.0,9,     -999.0,  -999.0,9,     -999.0,     -999.0,9,     -999.0,   2.0008,    34.8030,3,-999.0000,2,     -999.0,9
33RO20150410,     P16N.1,      32,          1,          7,          7,2,20150419,       2345,    -3.0402,  -151.0000,       4756,  2533.4,   1.8626,  34.6630,2,  34.6644,2,    129.1,2,   130.2,2,  141.90,2,   37.60,2,    0.02,2,    2.59,4,   0.002,2,   0.001,2,       0,2,  2337.2,2,  2419.2,2,   7.5440,2,    25.00,-999.000,9,-999.0000,9, -999.00,9,   1.8626, -999.00,9,  -999.0,9,  -999.0,-999.000,9,-999.000,    38.6,2, -999.00,9,     22.681,3, -999.00,9,-999.000,-999.0000, -999.00,     -999.0,     -999.0,9,     -999.0,     -999.0,9,     -999.0,  -999.0,9,     -999.0,     -999.0,9,     -999.0,   1.6818,    34.8279,2,-999.0000,2,     -999.0,9
33RO20150410,     P16N.1,      32,          1,          6,          6,2,20150419,       2345,    -3.0402,  -151.0000,       4756,  2934.4,   1.6919,  34.6724,2,  34.6733,2,    138.6,2,   137.9,2,  144.00,2,   37.10,2,    0.01,2,    2.55,4,  -0.002,2,  -0.001,2,       0,2,  2332.2,2,  2421.2,2,   7.5577,2,    24.98,-999.000,9,-999.0000,9, -999.00,9,   1.6919, -999.00,9,  -999.0,9,  -999.0,-999.000,9,-999.000,    37.5,2, -999.00,9,     21.937,3, -999.00,9,-999.000,-999.0000, -999.00,     -999.0,     -999.0,9,     -999.0,     -999.0,9,     -999.0,  -999.0,9,     -999.0,     -999.0,9,     -999.0,   1.4771,    34.8368,6,-999.0000,2,     -999.0,9
33RO20150410,     P16N.1,      32,          1,          5,          5,2,20150419,       2345,    -3.0402,  -151.0000,       4756,  3332.7,   1.5520,  34.6820,2,  34.6921,2,    150.0,2,   150.7,2,  142.30,2,   36.20,2,    0.01,2,    2.49,4,   0.001,2,   0.000,2,       0,2,  2322.8,2,  2420.6,6,   7.5762,2,    25.00,-999.000,9,-999.0000,9, -999.00,9,   1.5512, -999.00,9,  -999.0,9,  -999.0,-999.000,9,-999.000,    37.9,2, -999.00,9,     20.660,3, -999.00,9,-999.000,-999.0000, -999.00,     -999.0,     -999.0,9,     -999.0,     -999.0,9,     -999.0,  -999.0,9,     -999.0,     -999.0,9,     -999.0,   1.3014,    34.8557,3,-999.0000,2,     -999.0,9
33RO20150410,     P16N.1,      32,          1,          4,          4,2,20150419,       2345,    -3.0402,  -151.0000,       4756,  3733.8,   1.4750,  34.6886,2,  34.6888,2,    159.0,2,   158.8,2,  141.30,6,   35.80,6,    0.00,6,    2.43,4,   0.002,2,   0.000,2,       0,2,  2319.9,2,  2419.0,2,   7.5888,2,    25.00,-999.000,9,-999.0000,9, -999.00,9,   1.4751, -999.00,9,  -999.0,9,  -999.0,-999.000,9,-999.000,    36.9,2, -999.00,9,     20.166,3, -999.00,9,-999.000,-999.0000, -999.00,     -999.0,     -999.0,9,     -999.0,     -999.0,9,     -999.0,  -999.0,9,     -999.0,     -999.0,9,     -999.0,   1.1852,    34.8523,2,-999.0000,2,     -999.0,9
33RO20150410,     P16N.1,      32,          1,          3,          3,2,20150419,       2345,    -3.0402,  -151.0000,       4756,  4133.8,   1.4040,  34.6943,2,  34.6945,2,    165.5,2,   164.6,2,  140.80,6,   35.40,6,    0.01,6,    2.39,4,   0.001,2,  -0.001,2,       0,2,  2314.2,2,  2418.5,2,   7.5985,6,    24.99,-999.000,9,-999.0000,9, -999.00,9,   1.4048, -999.00,9,  -999.0,9,  -999.0,-999.000,9,-999.000,    36.5,2, -999.00,9,     19.612,3, -999.00,9,-999.000,-999.0000, -999.00,     -999.0,     -999.0,9,     -999.0,     -999.0,9,     -999.0,  -999.0,9,     -999.0,     -999.0,9,     -999.0,   1.0731,    34.8581,2,-999.0000,2,     -999.0,9
33RO20150410,     P16N.1,      32,          1,          2,          2,2,20150419,       2345,    -3.0402,  -151.0000,       4756,  4532.6,   1.3488,  34.6991,2,  34.7002,4,    180.9,2,   181.1,2,  130.50,6,   34.10,6,    0.00,6,    2.30,4,   0.007,2,   0.002,2,       0,2,  2294.3,6,  2398.9,2,   7.6053,2,    25.00,-999.000,9,-999.0000,9, -999.00,9,   1.3487, -999.00,9,  -999.0,9,  -999.0,-999.000,9,-999.000,    37.7,2, -999.00,9,     19.094,3, -999.00,9,-999.000,-999.0000, -999.00,     -999.0,     -999.0,9,     -999.0,     -999.0,9,     -999.0,  -999.0,9,     -999.0,     -999.0,9,     -999.0,   0.9746,    34.8638,2,-999.0000,2,     -999.0,9
33RO20150410,     P16N.1,      32,          1,          1,          1,2,20150419,       2345,    -3.0402,  -151.0000,       4756,  4746.4,   1.3634,  34.6995,2,  34.7002,2,    183.8,2,   184.2,2,  130.10,6,   34.10,6,    0.01,6,    2.29,4,   0.004,6,   0.003,6,       0,6,  2291.2,2,  2398.4,2,   7.6061,2,    25.00,-999.000,9,-999.0000,9, -999.00,9,   1.3636, -999.00,9,  -999.0,9,  -999.0,-999.000,9,-999.000,    40.1,2, -999.00,9,     18.988,3, -999.00,9,-999.000,-999.0000, -999.00,     -999.0,     -999.0,9,     -999.0,     -999.0,9,     -999.0,  -999.0,9,     -999.0,     -999.0,9,     -999.0,   0.9639,    34.8638,2,-999.0000,2,     -999.0,9