BOTTLE,20210709CCHSIOCBG
EXPOCODE,SECT_ID,STNNBR,CASTNO,SAMPNO,BTLNBR,BTLNBR_FLAG_W,DATE,TIME,LATITUDE,LONGITUDE,DEPTH,CTDPRS,CTDTMP,CTDSAL,CTDSAL_FLAG_W,SALNTY,SALNTY_FLAG_W,CTDOXY,CTDOXY_FLAG_W,OXYGEN,OXYGEN_FLAG_W,SILCAT,SILCAT_FLAG_W,NITRAT,NITRAT_FLAG_W,NITRIT,NITRIT_FLAG_W,PHSPHT,PHSPHT_FLAG_W,CFC-11,CFC-11_FLAG_W,CFC-12,CFC-12_FLAG_W,SF6,SF6_FLAG_W,TCARBN,TCARBN_FLAG_W,ALKALI,ALKALI_FLAG_W,PH_TOT,PH_TOT_FLAG_W,PH_TMP,TRITUM,TRITUM_FLAG_W,HELIUM,HELIUM_FLAG_W,DELHE3,DELHE3_FLAG_W,REFTMP,DELC13,DELC13_FLAG_W,DELC14,DELC14_FLAG_W,C14ERR,NEON,NEON_FLAG_W,NEONER,DOC,DOC_FLAG_W,TDN,TDN_FLAG_W,N2O,N2O_FLAG_W,ARGON,ARGON_FLAG_W,TRITER,HELIER,DELHER,ARGONER,KRYPTON,KRYPTON_FLAG_W,KRYPTONER,XENON,XENON_FLAG_W,XENONER,14C-DOC,14C-DOC_FLAG_W,14C-DOCERR,13C-DOC,13C-DOC_FLAG_W,13C-DOCERR,THETA,SALTREF,SALTREF_FLAG_W,SBE35,SBE35_FLAG_W,CHLORA,CHLORA_FLAG_W
,,,,,,,,,,,METERS,DBAR,ITS-90,PSS-78,,PSS-78,,UMOL/KG,,UMOL/KG,,UMOL/KG,,UMOL/KG,,UMOL/KG,,UMOL/KG,,PMOL/KG,,PMOL/KG,,FMOL/KG,,UMOL/KG,,UMOL/KG,,,,DEG C,TU,,NMOL/KG,,PERCNT,,DEG C,/MILLE,,/MILLE,,/MILLE,NMOL/KG,,NMOL/KG,UMOL/KG,,UMOL/KG,,NMOL/KG,,UMOL/KG,,TU,NMOL/KG,PERCNT,UMOL/KG,NMOL/KG,,NMOL/KG,NMOL/KG,,NMOL/KG,/MILLE,,/MILLE,/MILLE,,/MILLE,DEG C,G/KG,,ITS-90,,MG/M3,
33RO20150410,     P16N.1,       4,          1,         24,         24,2,20150412,       0204,   -15.0011,  -150.3996,       4486,     4.1,  29.1499,  35.7615,2,  35.7583,2,    192.7,2,   194.0,2,    0.50,2,    0.00,2,    0.01,2,    0.09,4,   1.323,3,   0.929,2,   1.273,2,  1994.8,6,  2356.2,2,   8.1206,2,    24.99,   0.279,6,   1.7066,2,   -1.05,2,  29.1491, -999.00,9,  -999.0,9,  -999.0,   6.633,2,   0.017,  -999.0,9, -999.00,9,      5.780,3, -999.00,9,   0.005,   0.0044,    0.20,     -999.0,     -999.0,9,     -999.0,     -999.0,9,     -999.0,  -999.0,9,     -999.0,     -999.0,9,     -999.0,  29.1489,    35.9270,2,-999.0000,2,     -999.0,9
33RO20150410,     P16N.1,       4,          1,         23,         23,2,20150412,       0204,   -15.0011,  -150.3996,       4486,    20.3,  29.1088,  35.7617,2,  35.7609,2,    193.0,2,   193.7,2,    0.80,2,    0.00,2,    0.01,2,    0.09,4,-999.000,9,-999.000,9,-999.000,9,  1995.4,2,  2355.3,2,   8.1209,2,    24.99,-999.000,9,-999.0000,9, -999.00,9,  29.1090, -999.00,9,  -999.0,9,  -999.0,-999.000,9,-999.000,  -999.0,9, -999.00,9,     -999.0,9, -999.00,9,-999.000,-999.0000, -999.00,     -999.0,     -999.0,9,     -999.0,     -999.0,9,     -999.0,  -999.0,9,     -999.0,     -999.0,9,     -999.0,  29.1039,    35.9295,2,-999.0000,2,     -999.0,9
33RO20150410,     P16N.1,       4,          1,         22,         22,2,20150412,       0204,   -15.0011,  -150.3996,       4486,    42.4,  29.0905,  35.8239,2,  35.8278,2,    192.6,2,   210.2,4,    0.40,2,    0.00,2,    0.01,2,    0.10,4,   1.332,3,   0.920,2,   1.237,2,  1998.8,2,  2360.4,6,   8.1202,2,    25.00,   0.280,2,-999.0000,9, -999.00,9,  29.0861, -999.00,9,  -999.0,9,  -999.0,-999.000,9,-999.000,  -999.0,9, -999.00,9,      5.780,3, -999.00,9,   0.002,-999.0000, -999.00,     -999.0,     -999.0,9,     -999.0,     -999.0,9,     -999.0,  -999.0,9,     -999.0,     -999.0,9,     -999.0,  29.0802,    35.9968,2,-999.0000,2,     -999.0,9
33RO20150410,     P16N.1,       4,          1,         21,         21,2,20150412,       0204,   -15.0011,  -150.3996,       4486,    66.9,  28.5240,  36.0607,2,  36.0480,2,    200.1,2,   199.8,2,    0.30,2,    0.00,2,    0.01,2,    0.10,4,-999.000,9,-999.000,9,-999.000,9,  2017.5,2,  2375.4,2,   8.1125,6,    24.99,-999.000,9,-999.0000,9, -999.00,9,  28.5828, -999.00,9,  -999.0,9,  -999.0,-999.000,9,-999.000,  -999.0,9, -999.00,9,     -999.0,9, -999.00,9,-999.000,-999.0000, -999.00,     -999.0,     -999.0,9,     -999.0,     -999.0,9,     -999.0,  -999.0,9,     -999.0,     -999.0,9,     -999.0,  28.5080,    36.2180,2,-999.0000,2,     -999.0,9
33RO20150410,     P16N.1,       4,          1,         20,         20,2,20150412,       0204,   -15.0011,  -150.3996,       4486,    92.9,  27.4180,  36.3068,2,  36.3139,2,    199.6,2,   199.9,2,    0.50,2,    0.00,2,    0.01,2,    0.13,4,   1.468,3,   1.010,4,   1.686,3,  2044.6,2,  2393.8,2,   8.0929,6,    25.00,   0.274,2,-999.0000,9, -999.00,9,  27.4209, -999.00,9,  -999.0,9,  -999.0,-999.000,9,-999.000,  -999.0,9, -999.00,9,      6.312,4, -999.00,9,   0.003,-999.0000, -999.00,     -999.0,     -999.0,9,     -999.0,     -999.0,9,     -999.0,  -999.0,9,     -999.0,     -999.0,9,     -999.0,  27.3964,    36.4852,2,-999.0000,2,     -999.0,9
33RO20150410,     P16N.1,       4,          1,         19,         19,2,20150412,       0204,   -15.0011,  -150.3996,       4486,   128.2,  26.0865,  36.3585,2,  36.3694,2,    189.3,2,   187.7,2,    0.40,2,    0.00,2,    0.17,2,    0.16,4,-999.000,9,-999.000,9,-999.000,9,  2066.3,2,  2397.7,2,   8.0640,2,    24.99,-999.000,9,   1.7032,2,   -1.29,2,  26.0898, -999.00,9,  -999.0,9,  -999.0,   6.730,2,   0.017,  -999.0,9, -999.00,9,     -999.0,9, -999.00,9,-999.000,   0.0044,    0.20,     -999.0,     -999.0,9,     -999.0,     -999.0,9,     -999.0,  -999.0,9,     -999.0,     -999.0,9,     -999.0,  26.0577,    36.5409,2,-999.0000,2,     -999.0,9
33RO20150410,     P16N.1,       4,          1,         18,         18,2,20150412,       0204,   -15.0011,  -150.3996,       4486,   200.4,  22.9562,  36.1868,2,  36.1928,2,    169.8,2,   170.9,2,    0.40,2,    3.40,2,    0.03,2,    0.25,4,   1.745,3,   1.165,2,   1.335,2,  2102.2,2,  2382.1,2,   7.9847,2,    24.98,   0.239,2,   1.7168,6,   -0.96,6,  22.9596, -999.00,9,  -999.0,9,  -999.0,   6.868,6,   0.012,  -999.0,9, -999.00,9,      7.354,3, -999.00,9,   0.002,   0.0030,    0.14,     -999.0,     -999.0,9,     -999.0,     -999.0,9,     -999.0,  -999.0,9,     -999.0,     -999.0,9,     -999.0,  22.9151,    36.3635,2,-999.0000,2,     -999.0,9
33RO20150410,     P16N.1,       4,          1,         17,         17,2,20150412,       0204,   -15.0011,  -150.3996,       4486,   276.5,  19.0257,  35.6119,2,  35.6061,2,    169.0,2,   169.3,2,    1.10,2,    6.00,2,    0.01,2,    0.35,4,   2.082,3,   1.326,2,   1.207,2,  -999.0,9,  -999.0,9,-999.0000,9,  -999.00,   0.239,2,   1.7413,2,   -0.76,2,  19.0523, -999.00,9,  -999.0,9,  -999.0,   7.065,2,   0.018,  -999.0,9, -999.00,9,     10.648,3, -999.00,9,   0.003,   0.0045,    0.20,     -999.0,     -999.0,9,     -999.0,     -999.0,9,     -999.0,  -999.0,9,     -999.0,     -999.0,9,     -999.0,  18.9761,    35.7740,2,-999.0000,2,     -999.0,9
33RO20150410,     P16N.1,       4,          1,         16,         16,3,20150412,       0204,   -15.0011,  -150.3996,       4486,   367.6,  13.3147,  34.8508,2,  34.8578,2,    133.9,2,  -999.0,9,    6.80,2,   16.00,2,    0.01,2,    0.80,4,-999.000,9,-999.000,9,-999.000,9,  -999.0,9,  -999.0,9,-999.0000,9,  -999.00,-999.000,9,-999.0000,9, -999.00,9,  13.3245, -999.00,9,  -999.0,9,  -999.0,-999.000,9,-999.000,  -999.0,9, -999.00,9,     -999.0,9, -999.00,9,-999.000,-999.0000, -999.00,     -999.0,     -999.0,9,     -999.0,     -999.0,9,     -999.0,  -999.0,9,     -999.0,     -999.0,9,     -999.0,  13.2631,    35.0222,2,-999.0000,2,     -999.0,9
33RO20150410,     P16N.1,       4,          1,         15,         15,2,20150412,       0204,   -15.0011,  -150.3996,       4486,   467.6,   9.2671,  34.5613,2,  34.5623,2,    106.7,2,   106.6,2,   18.90,2,   27.30,2,    0.01,2,    1.33,4,   1.122,3,   0.622,6,   0.233,2,  2207.4,2,  2290.9,2,   7.5699,3,    25.00,   0.087,2,   1.7855,2,    3.58,2,   9.2740, -999.00,9,  -999.0,9,  -999.0,   7.582,2,   0.019,  -999.0,9, -999.00,9,     33.457,3, -999.00,9,   0.002,   0.0046,    0.20,     -999.0,     -999.0,9,     -999.0,     -999.0,9,     -999.0,  -999.0,9,     -999.0,     -999.0,9,     -999.0,   9.2149,    34.7253,6,-999.0000,2,     -999.0,9
33RO20150410,     P16N.1,       4,          1,         14,         14,2,20150412,       0204,   -15.0011,  -150.3996,       4486,   599.7,   7.2234,  34.4793,2,  34.4815,2,    131.1,2,   139.0,3,   26.20,2,   30.40,2,    0.00,2,    1.48,4,   0.665,3,   0.375,2,   0.167,2,  2210.2,2,  2296.0,2,   7.5714,2,    24.98,   0.030,2,   1.8151,6,    6.25,6,   7.2226, -999.00,9,  -999.0,9,  -999.0,   7.728,6,   0.013,  -999.0,9, -999.00,9,     29.828,3, -999.00,9,   0.002,   0.0035,    0.14,     -999.0,     -999.0,9,     -999.0,     -999.0,9,     -999.0,  -999.0,9,     -999.0,     -999.0,9,     -999.0,   7.1651,    34.6441,2,-999.0000,2,     -999.0,9
33RO20150410,     P16N.1,       4,          1,         13,         13,2,20150412,       0204,   -15.0011,  -150.3996,       4486,   751.0,   5.5452,  34.4644,2,  34.4655,2,    137.6,2,   137.4,2,   43.10,2,   33.30,2,    0.00,2,    1.82,4,   0.265,3,   0.132,2,       0,2,  2229.6,2,  2312.2,2,   7.5621,2,    25.00,-999.000,9,-999.0000,9, -999.00,9,   5.5481, -999.00,9,  -999.0,9,  -999.0,-999.000,9,-999.000,  -999.0,9, -999.00,9,     27.638,3, -999.00,9,-999.000,-999.0000, -999.00,     -999.0,     -999.0,9,     -999.0,     -999.0,9,     -999.0,  -999.0,9,     -999.0,     -999.0,9,     -999.0,   5.4809,    34.6280,2,-999.0000,2,     -999.0,9
33RO20150410,     P16N.1,       4,          1,         12,         12,2,20150412,       0204,   -15.0011,  -150.3996,       4486,   901.1,   4.5498,  34.4894,2,  34.4919,2,    138.2,2,   137.3,2,   59.90,2,   34.70,2,    0.00,2,    2.13,4,-999.000,9,-999.000,9,-999.000,9,  2248.5,2,  2329.7,2,   7.5551,2,    25.00,-999.000,9,-999.0000,9, -999.00,9,   4.5489, -999.00,9,  -999.0,9,  -999.0,-999.000,9,-999.000,  -999.0,9, -999.00,9,     -999.0,9, -999.00,9,-999.000,-999.0000, -999.00,     -999.0,     -999.0,9,     -999.0,     -999.0,9,     -999.0,  -999.0,9,     -999.0,     -999.0,9,     -999.0,   4.4785,    34.6545,2,-999.0000,2,     -999.0,9
33RO20150410,     P16N.1,       4,          1,         11,         11,2,20150412,       0204,   -15.0011,  -150.3996,       4486,  1051.2,   3.9487,  34.5165,2,  34.5176,2,    136.3,2,   135.6,2,   72.50,2,   35.50,2,    0.00,2,    2.35,4,   0.034,3,   0.014,2,       0,2,  2262.9,2,  2343.5,2,   7.5486,2,    25.00,-999.000,9,-999.0000,9, -999.00,9,   3.9484, -999.00,9,  -999.0,9,  -999.0,-999.000,9,-999.000,  -999.0,9, -999.00,9,     25.333,3, -999.00,9,-999.000,-999.0000, -999.00,     -999.0,     -999.0,9,     -999.0,     -999.0,9,     -999.0,  -999.0,9,     -999.0,     -999.0,9,     -999.0,   3.8691,    34.6804,2,-999.0000,2,     -999.0,9
33RO20150410,     P16N.1,       4,          1,         10,         10,2,20150412,       0204,   -15.0011,  -150.3996,       4486,  1234.1,   3.4122,  34.5478,2,  34.5486,2,    135.0,2,   134.7,2,   84.70,2,   36.00,2,    0.00,2,    2.53,4,-999.000,9,-999.000,9,-999.000,9,  2278.8,2,  2356.6,2,   7.5448,2,    24.99,-999.000,9,-999.0000,9, -999.00,9,   3.4117, -999.00,9,  -999.0,9,  -999.0,-999.000,9,-999.000,  -999.0,9, -999.00,9,     -999.0,9, -999.00,9,-999.000,-999.0000, -999.00,     -999.0,     -999.0,9,     -999.0,     -999.0,9,     -999.0,  -999.0,9,     -999.0,     -999.0,9,     -999.0,   3.3221,    34.7116,2,-999.0000,2,     -999.0,9
33RO20150410,     P16N.1,       4,          1,          9,          9,2,20150412,       0204,   -15.0011,  -150.3996,       4486,  1501.1,   2.8129,  34.5777,2,  34.5795,2,    143.2,2,   144.2,2,   97.20,2,   35.60,2,    0.01,2,    2.69,4,   0.007,3,   0.000,2,       0,2,  2285.5,2,  2369.9,2,   7.5581,2,    25.00,   0.001,2,-999.0000,9, -999.00,9,   2.8133, -999.00,9,  -999.0,9,  -999.0,-999.000,9,-999.000,  -999.0,9, -999.00,9,     23.192,3, -999.00,9,   0.002,-999.0000, -999.00,     -999.0,     -999.0,9,     -999.0,     -999.0,9,     -999.0,  -999.0,9,     -999.0,     -999.0,9,     -999.0,   2.7071,    34.7425,2,-999.0000,2,     -999.0,9
33RO20150410,     P16N.1,       4,          1,          8,          8,2,20150412,       0204,   -15.0011,  -150.3996,       4486,  1867.4,   2.3221,  34.6207,2,  34.6215,2,    145.4,2,   146.1,2,  110.60,2,   35.70,2,    0.01,2,    2.90,4,-999.000,9,-999.000,9,-999.000,9,  2297.3,2,  2384.8,2,   7.5616,2,    25.00,  -0.002,2,-999.0000,9, -999.00,9,   2.3221, -999.00,9,  -999.0,9,  -999.0,-999.000,9,-999.000,  -999.0,9, -999.00,9,     -999.0,9, -999.00,9,   0.001,-999.0000, -999.00,     -999.0,     -999.0,9,     -999.0,     -999.0,9,     -999.0,  -999.0,9,     -999.0,     -999.0,9,     -999.0,   2.1921,    34.7847,2,-999.0000,2,     -999.0,9
33RO20150410,     P16N.1,       4,          1,          7,          7,2,20150412,       0204,   -15.0011,  -150.3996,       4486,  2266.4,   2.0149,  34.6476,2,  34.6509,2,    149.6,2,   149.3,2,  119.90,2,   35.40,2,    0.01,2,    3.04,4,   0.011,3,   0.001,2,       0,2,  2305.4,2,  2394.9,2,   7.5701,2,    25.00,-999.000,9,-999.0000,9, -999.00,9,   2.0155, -999.00,9,  -999.0,9,  -999.0,-999.000,9,-999.000,  -999.0,9, -999.00,9,     21.586,3, -999.00,9,-999.000,-999.0000, -999.00,     -999.0,     -999.0,9,     -999.0,     -999.0,9,     -999.0,  -999.0,9,     -999.0,     -999.0,9,     -999.0,   1.8552,    34.8143,2,-999.0000,2,     -999.0,9
33RO20150410,     P16N.1,       4,          1,          6,          6,2,20150412,       0204,   -15.0011,  -150.3996,       4486,  2667.2,   1.8137,  34.6638,2,  34.6629,2,    155.8,2,   154.5,2,  123.90,2,   35.10,2,    0.00,2,    3.09,4,-999.000,9,-999.000,9,-999.000,9,  2302.9,2,  2398.7,6,   7.5778,2,    25.00,-999.000,9,-999.0000,9, -999.00,9,   1.8139, -999.00,9,  -999.0,9,  -999.0,-999.000,9,-999.000,  -999.0,9, -999.00,9,     -999.0,9, -999.00,9,-999.000,-999.0000, -999.00,     -999.0,     -999.0,9,     -999.0,     -999.0,9,     -999.0,  -999.0,9,     -999.0,     -999.0,9,     -999.0,   1.6216,    34.8263,2,-999.0000,2,     -999.0,9
33RO20150410,     P16N.1,       4,          1,          5,          5,2,20150412,       0204,   -15.0011,  -150.3996,       4486,  3068.1,   1.6734,  34.6754,2,  34.6762,2,    163.1,2,   159.9,2,  125.20,2,   34.70,2,    0.00,2,    3.10,4,   0.005,3,  -0.001,2,       0,2,  2300.7,2,  2396.8,2,   7.5843,6,    25.00,-999.000,9,-999.0000,9, -999.00,9,   1.6732, -999.00,9,  -999.0,9,  -999.0,-999.000,9,-999.000,  -999.0,9, -999.00,9,     20.747,3, -999.00,9,-999.000,-999.0000, -999.00,     -999.0,     -999.0,9,     -999.0,     -999.0,9,     -999.0,  -531.0,2,        4.0,      -21.8,2,        0.2,   1.4462,    34.8398,2,-999.0000,2,     -999.0,9
33RO20150410,     P16N.1,       4,          1,          4,          4,2,20150412,       0204,   -15.0011,  -150.3996,       4486,  3467.0,   1.5450,  34.6854,2,  34.6863,2,    170.7,2,   177.2,4,  124.60,6,   34.20,6,    0.00,6,    3.07,4,-999.000,9,-999.000,9,-999.000,9,  2296.5,2,  2395.0,2,   7.5906,6,    25.00,-999.000,9,-999.0000,9, -999.00,9,   1.5449, -999.00,9,  -999.0,9,  -999.0,-999.000,9,-999.000,  -999.0,9, -999.00,9,     -999.0,9, -999.00,9,-999.000,-999.0000, -999.00,     -999.0,     -999.0,9,     -999.0,     -999.0,9,     -999.0,  -999.0,9,     -999.0,     -999.0,9,     -999.0,   1.2810,    34.8498,2,-999.0000,2,     -999.0,9
33RO20150410,     P16N.1,       4,          1,          3,          3,2,20150412,       0204,   -15.0011,  -150.3996,       4486,  3868.4,   1.4687,  34.6921,2,  34.6925,2,    177.5,2,   176.4,2,  123.60,6,   33.70,6,    0.00,6,    3.02,4,   0.001,3,  -0.002,6,       0,6,  2289.3,6,  2389.1,2,   7.5943,2,    25.00,-999.000,9,-999.0000,9, -999.00,9,   1.4685, -999.00,9,  -999.0,9,  -999.0,-999.000,9,-999.000,  -999.0,9, -999.00,9,     19.632,3, -999.00,9,-999.000,-999.0000, -999.00,     -999.0,     -999.0,9,     -999.0,     -999.0,9,     -999.0,  -999.0,9,     -999.0,     -999.0,9,     -999.0,   1.1648,    34.8561,6,-999.0000,2,     -999.0,9
33RO20150410,     P16N.1,       4,          1,          2,          2,2,20150412,       0204,   -15.0011,  -150.3996,       4486,  4266.3,   1.4115,  34.6968,2,  34.6973,2,    182.8,2,   182.5,2,  122.60,6,   33.30,6,    0.01,6,    2.99,4,-999.000,9,-999.000,9,-999.000,9,  2285.2,2,  2385.8,2,   7.6003,2,    25.00,-999.000,9,-999.0000,9, -999.00,9,   1.4115, -999.00,9,  -999.0,9,  -999.0,-999.000,9,-999.000,  -999.0,9, -999.00,9,     -999.0,9, -999.00,9,-999.000,-999.0000, -999.00,     -999.0,     -999.0,9,     -999.0,     -999.0,9,     -999.0,  -999.0,9,     -999.0,     -999.0,9,     -999.0,   1.0656,    34.8609,2,-999.0000,2,     -999.0,9
33RO20150410,     P16N.1,       4,          1,          1,          1,2,20150412,       0204,   -15.0011,  -150.3996,       4486,  4475.5,   1.3962,  34.6984,2,  34.6992,2,    185.2,2,   184.1,2,  123.00,6,   33.20,6,    0.01,6,    2.98,4,   0.003,3,  -0.001,2,       0,2,  2282.3,6,  2387.2,2,   7.6010,6,    25.00,-999.000,9,-999.0000,9, -999.00,9,   1.3961, -999.00,9,  -999.0,9,  -999.0,-999.000,9,-999.000,  -999.0,9, -999.00,9,     19.226,3, -999.00,9,-999.000,-999.0000, -999.00,     -999.0,     -999.0,9,     -999.0,     -999.0,9,     -999.0,  -999.0,9,     -999.0,     -999.0,9,     -999.0,   1.0271,    34.8628,2,-999.0000,2,     -999.0,9