BOTTLE,20210709CCHSIOCBG
EXPOCODE,SECT_ID,STNNBR,CASTNO,SAMPNO,BTLNBR,BTLNBR_FLAG_W,DATE,TIME,LATITUDE,LONGITUDE,DEPTH,CTDPRS,CTDTMP,CTDSAL,CTDSAL_FLAG_W,SALNTY,SALNTY_FLAG_W,CTDOXY,CTDOXY_FLAG_W,OXYGEN,OXYGEN_FLAG_W,SILCAT,SILCAT_FLAG_W,NITRAT,NITRAT_FLAG_W,NITRIT,NITRIT_FLAG_W,PHSPHT,PHSPHT_FLAG_W,CFC-11,CFC-11_FLAG_W,CFC-12,CFC-12_FLAG_W,SF6,SF6_FLAG_W,TCARBN,TCARBN_FLAG_W,ALKALI,ALKALI_FLAG_W,PH_TOT,PH_TOT_FLAG_W,PH_TMP,TRITUM,TRITUM_FLAG_W,HELIUM,HELIUM_FLAG_W,DELHE3,DELHE3_FLAG_W,REFTMP,DELC13,DELC13_FLAG_W,DELC14,DELC14_FLAG_W,C14ERR,NEON,NEON_FLAG_W,NEONER,DOC,DOC_FLAG_W,TDN,TDN_FLAG_W,N2O,N2O_FLAG_W,ARGON,ARGON_FLAG_W,TRITER,HELIER,DELHER,ARGONER,KRYPTON,KRYPTON_FLAG_W,KRYPTONER,XENON,XENON_FLAG_W,XENONER,14C-DOC,14C-DOC_FLAG_W,14C-DOCERR,13C-DOC,13C-DOC_FLAG_W,13C-DOCERR,THETA,SALTREF,SALTREF_FLAG_W,SBE35,SBE35_FLAG_W,CHLORA,CHLORA_FLAG_W
,,,,,,,,,,,METERS,DBAR,ITS-90,PSS-78,,PSS-78,,UMOL/KG,,UMOL/KG,,UMOL/KG,,UMOL/KG,,UMOL/KG,,UMOL/KG,,PMOL/KG,,PMOL/KG,,FMOL/KG,,UMOL/KG,,UMOL/KG,,,,DEG C,TU,,NMOL/KG,,PERCNT,,DEG C,/MILLE,,/MILLE,,/MILLE,NMOL/KG,,NMOL/KG,UMOL/KG,,UMOL/KG,,NMOL/KG,,UMOL/KG,,TU,NMOL/KG,PERCNT,UMOL/KG,NMOL/KG,,NMOL/KG,NMOL/KG,,NMOL/KG,/MILLE,,/MILLE,/MILLE,,/MILLE,DEG C,G/KG,,ITS-90,,MG/M3,
33RO20150410,     P16N.1,      45,          1,         24,         24,2,20150423,       1048,    -0.9002,  -150.9997,       4728,    15.1,  28.5159,  35.2881,2,  35.2863,2,    197.6,2,   198.5,2,    0.80,2,    3.50,2,    0.27,2,    0.42,4,-999.000,9,-999.000,9,-999.000,9,  2019.3,6,  2322.0,2,   8.0357,2,    25.00,-999.000,9,-999.0000,9, -999.00,9,-999.0000, -999.00,9,  -999.0,9,  -999.0,-999.000,9,-999.000,  -999.0,9, -999.00,9,     -999.0,9, -999.00,9,-999.000,-999.0000, -999.00,     -999.0,     -999.0,9,     -999.0,     -999.0,9,     -999.0,  -999.0,9,     -999.0,     -999.0,9,     -999.0,  28.5123,    35.4527,2,-999.0000,2,     -999.0,9
33RO20150410,     P16N.1,      45,          1,         23,         23,2,20150423,       1048,    -0.9002,  -150.9997,       4728,    32.7,  28.4911,  35.2894,2,  35.2882,2,    198.3,2,   198.3,2,    0.90,2,    3.50,2,    0.25,2,    0.42,4,-999.000,9,-999.000,9,-999.000,9,  -999.0,9,  -999.0,9,-999.0000,9,  -999.00,-999.000,9,-999.0000,9, -999.00,9,-999.0000, -999.00,9,  -999.0,9,  -999.0,-999.000,9,-999.000,  -999.0,9, -999.00,9,     -999.0,9, -999.00,9,-999.000,-999.0000, -999.00,     -999.0,     -999.0,9,     -999.0,     -999.0,9,     -999.0,  -999.0,9,     -999.0,     -999.0,9,     -999.0,  28.4833,    35.4546,6,-999.0000,2,     -999.0,9
33RO20150410,     P16N.1,      45,          1,         22,         22,2,20150423,       1048,    -0.9002,  -150.9997,       4728,    58.9,  27.9788,  35.3233,2,  35.3238,2,    198.2,2,   197.1,2,    1.10,2,    4.20,2,    0.15,2,    0.48,4,-999.000,9,-999.000,9,-999.000,9,  -999.0,9,  -999.0,9,-999.0000,9,  -999.00,-999.000,9,-999.0000,9, -999.00,9,-999.0000, -999.00,9,  -999.0,9,  -999.0,-999.000,9,-999.000,  -999.0,9, -999.00,9,     -999.0,9, -999.00,9,-999.000,-999.0000, -999.00,     -999.0,     -999.0,9,     -999.0,     -999.0,9,     -999.0,  -999.0,9,     -999.0,     -999.0,9,     -999.0,  27.9649,    35.4904,2,-999.0000,2,     -999.0,9
33RO20150410,     P16N.1,      45,          1,         21,         21,2,20150423,       1048,    -0.9002,  -150.9997,       4728,    83.1,  27.3223,  35.2906,2,  35.2921,2,    190.5,2,   191.3,2,    1.60,2,    4.50,2,    0.34,2,    0.55,4,-999.000,9,-999.000,9,-999.000,9,  -999.0,9,  -999.0,9,-999.0000,9,  -999.00,-999.000,9,-999.0000,9, -999.00,9,-999.0000, -999.00,9,  -999.0,9,  -999.0,-999.000,9,-999.000,  -999.0,9, -999.00,9,     -999.0,9, -999.00,9,-999.000,-999.0000, -999.00,     -999.0,     -999.0,9,     -999.0,     -999.0,9,     -999.0,  -999.0,9,     -999.0,     -999.0,9,     -999.0,  27.3031,    35.4585,2,-999.0000,2,     -999.0,9
33RO20150410,     P16N.1,      45,          1,         20,         20,2,20150423,       1048,    -0.9002,  -150.9997,       4728,   108.1,  26.9327,  35.2861,2,  35.2895,2,    186.0,2,   185.2,2,    1.50,2,    4.90,2,    0.64,2,    0.59,4,-999.000,9,-999.000,9,-999.000,9,  -999.0,9,  -999.0,9,-999.0000,9,  -999.00,-999.000,9,-999.0000,9, -999.00,9,-999.0000, -999.00,9,  -999.0,9,  -999.0,-999.000,9,-999.000,  -999.0,9, -999.00,9,     -999.0,9, -999.00,9,-999.000,-999.0000, -999.00,     -999.0,     -999.0,9,     -999.0,     -999.0,9,     -999.0,  -999.0,9,     -999.0,     -999.0,9,     -999.0,  26.9079,    35.4559,2,-999.0000,2,     -999.0,9
33RO20150410,     P16N.1,      45,          1,         19,         19,2,20150423,       1048,    -0.9002,  -150.9997,       4728,   142.3,  23.9768,  35.6305,2,  35.6123,2,    151.0,2,   153.8,2,    2.10,2,    8.50,2,    0.76,2,    0.78,4,-999.000,9,-999.000,9,-999.000,9,  -999.0,9,  -999.0,9,-999.0000,9,  -999.00,-999.000,9,-999.0000,9, -999.00,9,-999.0000, -999.00,9,  -999.0,9,  -999.0,-999.000,9,-999.000,  -999.0,9, -999.00,9,     -999.0,9, -999.00,9,-999.000,-999.0000, -999.00,     -999.0,     -999.0,9,     -999.0,     -999.0,9,     -999.0,  -999.0,9,     -999.0,     -999.0,9,     -999.0,  23.9468,    35.7803,2,-999.0000,2,     -999.0,9
33RO20150410,     P16N.1,      45,          1,         18,         18,2,20150423,       1048,    -0.9002,  -150.9997,       4728,   200.0,  12.4686,  34.8875,2,  34.8816,2,    102.2,2,   102.2,2,   17.90,2,   23.30,2,    0.01,2,    1.55,4,-999.000,9,-999.000,9,-999.000,9,  -999.0,9,  -999.0,9,-999.0000,9,  -999.00,-999.000,9,-999.0000,9, -999.00,9,-999.0000, -999.00,9,  -999.0,9,  -999.0,-999.000,9,-999.000,  -999.0,9, -999.00,9,     -999.0,9, -999.00,9,-999.000,-999.0000, -999.00,     -999.0,     -999.0,9,     -999.0,     -999.0,9,     -999.0,  -999.0,9,     -999.0,     -999.0,9,     -999.0,  12.4419,    35.0460,2,-999.0000,2,     -999.0,9
33RO20150410,     P16N.1,      45,          1,         17,         17,2,20150423,       1048,    -0.9002,  -150.9997,       4728,   275.1,  11.9281,  34.8446,2,  34.8422,2,     71.8,2,    68.9,2,   21.90,2,   27.40,2,    0.01,2,    1.81,4,-999.000,9,-999.000,9,-999.000,9,  -999.0,9,  -999.0,9,-999.0000,9,  -999.00,-999.000,9,-999.0000,9, -999.00,9,-999.0000, -999.00,9,  -999.0,9,  -999.0,-999.000,9,-999.000,  -999.0,9, -999.00,9,     -999.0,9, -999.00,9,-999.000,-999.0000, -999.00,     -999.0,     -999.0,9,     -999.0,     -999.0,9,     -999.0,  -999.0,9,     -999.0,     -999.0,9,     -999.0,  11.8923,    35.0065,2,-999.0000,2,     -999.0,9
33RO20150410,     P16N.1,      45,          1,         16,         16,2,20150423,       1048,    -0.9002,  -150.9997,       4728,   350.5,  10.5431,  34.7591,2,  34.7569,2,     49.4,2,    40.7,2,   28.10,2,   32.70,2,    0.01,2,    2.14,4,-999.000,9,-999.000,9,-999.000,9,  -999.0,9,  -999.0,9,-999.0000,9,  -999.00,-999.000,9,-999.0000,9, -999.00,9,-999.0000, -999.00,9,  -999.0,9,  -999.0,-999.000,9,-999.000,  -999.0,9, -999.00,9,     -999.0,9, -999.00,9,-999.000,-999.0000, -999.00,     -999.0,     -999.0,9,     -999.0,     -999.0,9,     -999.0,  -999.0,9,     -999.0,     -999.0,9,     -999.0,  10.5008,    34.9208,2,-999.0000,2,     -999.0,9
33RO20150410,     P16N.1,      45,          1,         15,         15,2,20150423,       1048,    -0.9002,  -150.9997,       4728,   433.0,   8.4787,  34.6444,2,  34.6421,2,     51.0,2,    50.7,2,   35.40,2,   36.10,2,    0.01,2,    2.34,4,-999.000,9,-999.000,9,-999.000,9,  -999.0,9,  -999.0,9,-999.0000,9,  -999.00,-999.000,9,-999.0000,9, -999.00,9,-999.0000, -999.00,9,  -999.0,9,  -999.0,-999.000,9,-999.000,  -999.0,9, -999.00,9,     -999.0,9, -999.00,9,-999.000,-999.0000, -999.00,     -999.0,     -999.0,9,     -999.0,     -999.0,9,     -999.0,  -999.0,9,     -999.0,     -999.0,9,     -999.0,   8.4329,    34.8055,2,-999.0000,2,     -999.0,9
33RO20150410,     P16N.1,      45,          1,         14,         14,2,20150423,       1048,    -0.9002,  -150.9997,       4728,   551.1,   7.0695,  34.5782,2,  34.5771,2,     57.0,2,    58.0,2,   46.70,2,   38.20,2,    0.00,2,    2.53,4,-999.000,9,-999.000,9,-999.000,9,  -999.0,9,  -999.0,9,-999.0000,9,  -999.00,-999.000,9,-999.0000,9, -999.00,9,-999.0000, -999.00,9,  -999.0,9,  -999.0,-999.000,9,-999.000,  -999.0,9, -999.00,9,     -999.0,9, -999.00,9,-999.000,-999.0000, -999.00,     -999.0,     -999.0,9,     -999.0,     -999.0,9,     -999.0,  -999.0,9,     -999.0,     -999.0,9,     -999.0,   7.0166,    34.7401,2,-999.0000,2,     -999.0,9
33RO20150410,     P16N.1,      45,          1,         13,         13,2,20150423,       1048,    -0.9002,  -150.9997,       4728,   700.0,   6.0325,  34.5526,2,  34.5510,2,     67.4,2,    67.7,2,   58.10,2,   39.10,2,    0.00,2,    2.63,4,-999.000,9,-999.000,9,-999.000,9,  -999.0,9,  -999.0,9,-999.0000,9,  -999.00,-999.000,9,-999.0000,9, -999.00,9,-999.0000, -999.00,9,  -999.0,9,  -999.0,-999.000,9,-999.000,  -999.0,9, -999.00,9,     -999.0,9, -999.00,9,-999.000,-999.0000, -999.00,     -999.0,     -999.0,9,     -999.0,     -999.0,9,     -999.0,  -999.0,9,     -999.0,     -999.0,9,     -999.0,   5.9701,    34.7139,2,-999.0000,2,     -999.0,9
33RO20150410,     P16N.1,      45,          1,         12,         12,2,20150423,       1048,    -0.9002,  -150.9997,       4728,   850.6,   5.1278,  34.5454,2,  34.5439,2,     82.7,2,    82.6,2,   70.90,2,   38.60,2,    0.00,2,    2.64,4,-999.000,9,-999.000,9,-999.000,9,  -999.0,9,  -999.0,9,-999.0000,9,  -999.00,-999.000,9,-999.0000,9, -999.00,9,-999.0000, -999.00,9,  -999.0,9,  -999.0,-999.000,9,-999.000,  -999.0,9, -999.00,9,     -999.0,9, -999.00,9,-999.000,-999.0000, -999.00,     -999.0,     -999.0,9,     -999.0,     -999.0,9,     -999.0,  -999.0,9,     -999.0,     -999.0,9,     -999.0,   5.0570,    34.7068,2,-999.0000,2,     -999.0,9
33RO20150410,     P16N.1,      45,          1,         11,         11,2,20150423,       1048,    -0.9002,  -150.9997,       4728,  1000.2,   4.4843,  34.5558,2,  34.5548,2,     82.3,2,    83.2,2,   84.40,2,   39.40,2,    0.01,2,    2.73,4,-999.000,9,-999.000,9,-999.000,9,  -999.0,9,  -999.0,9,-999.0000,9,  -999.00,-999.000,9,-999.0000,9, -999.00,9,-999.0000, -999.00,9,  -999.0,9,  -999.0,-999.000,9,-999.000,  -999.0,9, -999.00,9,     -999.0,9, -999.00,9,-999.000,-999.0000, -999.00,     -999.0,     -999.0,9,     -999.0,     -999.0,9,     -999.0,  -999.0,9,     -999.0,     -999.0,9,     -999.0,   4.4048,    34.7177,2,-999.0000,2,     -999.0,9
33RO20150410,     P16N.1,      45,          1,         10,         10,2,20150423,       1048,    -0.9002,  -150.9997,       4728,  1168.2,   4.0193,  34.5690,2,  34.5677,2,     82.9,2,    82.7,2,   95.20,2,   39.70,2,    0.01,2,    2.78,4,-999.000,9,-999.000,9,-999.000,9,  -999.0,9,  -999.0,9,-999.0000,9,  -999.00,-999.000,9,-999.0000,9, -999.00,9,-999.0000, -999.00,9,  -999.0,9,  -999.0,-999.000,9,-999.000,  -999.0,9, -999.00,9,     -999.0,9, -999.00,9,-999.000,-999.0000, -999.00,     -999.0,     -999.0,9,     -999.0,     -999.0,9,     -999.0,  -999.0,9,     -999.0,     -999.0,9,     -999.0,   3.9291,    34.7307,2,-999.0000,2,     -999.0,9
33RO20150410,     P16N.1,      45,          1,          9,          9,2,20150423,       1048,    -0.9002,  -150.9997,       4728,  1401.4,   3.4086,  34.5894,2,  34.5886,2,     87.5,2,    87.9,2,  109.30,2,   39.60,2,    0.00,2,    2.80,4,-999.000,9,-999.000,9,-999.000,9,  -999.0,9,  -999.0,9,-999.0000,9,  -999.00,-999.000,9,-999.0000,9, -999.00,9,-999.0000, -999.00,9,  -999.0,9,  -999.0,-999.000,9,-999.000,  -999.0,9, -999.00,9,     -999.0,9, -999.00,9,-999.000,-999.0000, -999.00,     -999.0,     -999.0,9,     -999.0,     -999.0,9,     -999.0,  -999.0,9,     -999.0,     -999.0,9,     -999.0,   3.3045,    34.7517,2,-999.0000,2,     -999.0,9
33RO20150410,     P16N.1,      45,          1,          8,          8,2,20150423,       1048,    -0.9002,  -150.9997,       4728,  1731.8,   2.6788,  34.6188,2,  34.6172,2,    102.0,2,   102.2,2,  124.60,2,   38.90,2,    0.01,2,    2.78,4,-999.000,9,-999.000,9,-999.000,9,  -999.0,9,  -999.0,9,-999.0000,9,  -999.00,-999.000,9,-999.0000,9, -999.00,9,-999.0000, -999.00,9,  -999.0,9,  -999.0,-999.000,9,-999.000,  -999.0,9, -999.00,9,     -999.0,9, -999.00,9,-999.000,-999.0000, -999.00,     -999.0,     -999.0,9,     -999.0,     -999.0,9,     -999.0,  -999.0,9,     -999.0,     -999.0,9,     -999.0,   2.5553,    34.7805,2,-999.0000,2,     -999.0,9
33RO20150410,     P16N.1,      45,          1,          7,          7,2,20150423,       1048,    -0.9002,  -150.9997,       4728,  2132.5,   2.0910,  34.6517,2,  34.6510,2,    110.6,2,   111.7,2,  141.30,2,   38.40,2,    0.00,2,    2.80,4,-999.000,9,-999.000,9,-999.000,9,  -999.0,9,  -999.0,9,-999.0000,9,  -999.00,-999.000,9,-999.0000,9, -999.00,9,-999.0000, -999.00,9,  -999.0,9,  -999.0,-999.000,9,-999.000,  -999.0,9, -999.00,9,     -999.0,9, -999.00,9,-999.000,-999.0000, -999.00,     -999.0,     -999.0,9,     -999.0,     -999.0,9,     -999.0,  -999.0,9,     -999.0,     -999.0,9,     -999.0,   1.9418,    34.8144,6,-999.0000,2,     -999.0,9
33RO20150410,     P16N.1,      45,          1,          6,          6,2,20150423,       1048,    -0.9002,  -150.9997,       4728,  2533.9,   1.8314,  34.6652,2,  34.6664,2,    124.4,2,   124.6,2,  143.50,2,   37.50,2,    0.00,2,    2.70,4,-999.000,9,-999.000,9,-999.000,9,  -999.0,9,  -999.0,9,-999.0000,9,  -999.00,-999.000,9,-999.0000,9, -999.00,9,-999.0000, -999.00,9,  -999.0,9,  -999.0,-999.000,9,-999.000,  -999.0,9, -999.00,9,     -999.0,9, -999.00,9,-999.000,-999.0000, -999.00,     -999.0,     -999.0,9,     -999.0,     -999.0,9,     -999.0,  -999.0,9,     -999.0,     -999.0,9,     -999.0,   1.6511,    34.8298,2,-999.0000,2,     -999.0,9
33RO20150410,     P16N.1,      45,          1,          5,          5,2,20150423,       1048,    -0.9002,  -150.9997,       4728,  2934.4,   1.6780,  34.6748,2,  34.6723,2,    133.6,2,   134.1,2,  145.20,2,   37.00,2,    0.00,2,    2.66,4,-999.000,9,-999.000,9,-999.000,9,  -999.0,9,  -999.0,9,-999.0000,9,  -999.00,-999.000,9,-999.0000,9, -999.00,9,-999.0000, -999.00,9,  -999.0,9,  -999.0,-999.000,9,-999.000,  -999.0,9, -999.00,9,     -999.0,9, -999.00,9,-999.000,-999.0000, -999.00,     -999.0,     -999.0,9,     -999.0,     -999.0,9,     -999.0,  -999.0,9,     -999.0,     -999.0,9,     -999.0,   1.4635,    34.8358,2,-999.0000,2,     -999.0,9
33RO20150410,     P16N.1,      45,          1,          4,          4,2,20150423,       1048,    -0.9002,  -150.9997,       4728,  3332.9,   1.5672,  34.6811,2,  34.6787,2,    145.2,2,   145.6,2,  141.60,6,   36.10,6,    0.00,6,    2.58,4,-999.000,9,-999.000,9,-999.000,9,  -999.0,9,  -999.0,9,-999.0000,9,  -999.00,-999.000,9,-999.0000,9, -999.00,9,-999.0000, -999.00,9,  -999.0,9,  -999.0,-999.000,9,-999.000,  -999.0,9, -999.00,9,     -999.0,9, -999.00,9,-999.000,-999.0000, -999.00,     -999.0,     -999.0,9,     -999.0,     -999.0,9,     -999.0,  -999.0,9,     -999.0,     -999.0,9,     -999.0,   1.3163,    34.8423,2,-999.0000,2,     -999.0,9
33RO20150410,     P16N.1,      45,          1,          3,          3,2,20150423,       1048,    -0.9002,  -150.9997,       4728,  3732.9,   1.4323,  34.6919,2,  34.6910,2,    155.9,2,   155.8,2,  143.40,6,   35.50,6,    0.00,6,    2.53,4,-999.000,9,-999.000,9,-999.000,9,  -999.0,9,  -999.0,9,-999.0000,9,  -999.00,-999.000,9,-999.0000,9, -999.00,9,-999.0000, -999.00,9,  -999.0,9,  -999.0,-999.000,9,-999.000,  -999.0,9, -999.00,9,     -999.0,9, -999.00,9,-999.000,-999.0000, -999.00,     -999.0,     -999.0,9,     -999.0,     -999.0,9,     -999.0,  -999.0,9,     -999.0,     -999.0,9,     -999.0,   1.1437,    34.8545,2,-999.0000,2,     -999.0,9
33RO20150410,     P16N.1,      45,          1,          2,          2,2,20150423,       1048,    -0.9002,  -150.9997,       4728,  4133.4,   1.4130,  34.6948,2,  34.6935,2,    161.3,2,   161.1,2,  141.60,6,   35.20,6,    0.00,6,    2.51,4,-999.000,9,-999.000,9,-999.000,9,  -999.0,9,  -999.0,9,-999.0000,9,  -999.00,-999.000,9,-999.0000,9, -999.00,9,-999.0000, -999.00,9,  -999.0,9,  -999.0,-999.000,9,-999.000,  -999.0,9, -999.00,9,     -999.0,9, -999.00,9,-999.000,-999.0000, -999.00,     -999.0,     -999.0,9,     -999.0,     -999.0,9,     -999.0,  -999.0,9,     -999.0,     -999.0,9,     -999.0,   1.0819,    34.8571,2,-999.0000,2,     -999.0,9
33RO20150410,     P16N.1,      45,          1,          1,          1,2,20150423,       1048,    -0.9002,  -150.9997,       4728,  4718.8,   1.3307,  34.7013,2,  34.7043,2,    182.2,2,   181.6,2,  128.10,6,   33.60,6,    0.00,6,    2.39,4,-999.000,9,-999.000,9,-999.000,9,  -999.0,9,  -999.0,9,-999.0000,9,  -999.00,-999.000,9,-999.0000,9, -999.00,9,-999.0000, -999.00,9,  -999.0,9,  -999.0,-999.000,9,-999.000,  -999.0,9, -999.00,9,     -999.0,9, -999.00,9,-999.000,-999.0000, -999.00,     -999.0,     -999.0,9,     -999.0,     -999.0,9,     -999.0,  -999.0,9,     -999.0,     -999.0,9,     -999.0,   0.9354,    34.8680,2,-999.0000,2,     -999.0,9