BOTTLE,20210709CCHSIOCBG
EXPOCODE,SECT_ID,STNNBR,CASTNO,SAMPNO,BTLNBR,BTLNBR_FLAG_W,DATE,TIME,LATITUDE,LONGITUDE,DEPTH,CTDPRS,CTDTMP,CTDSAL,CTDSAL_FLAG_W,SALNTY,SALNTY_FLAG_W,CTDOXY,CTDOXY_FLAG_W,OXYGEN,OXYGEN_FLAG_W,SILCAT,SILCAT_FLAG_W,NITRAT,NITRAT_FLAG_W,NITRIT,NITRIT_FLAG_W,PHSPHT,PHSPHT_FLAG_W,CFC-11,CFC-11_FLAG_W,CFC-12,CFC-12_FLAG_W,SF6,SF6_FLAG_W,TCARBN,TCARBN_FLAG_W,ALKALI,ALKALI_FLAG_W,PH_TOT,PH_TOT_FLAG_W,PH_TMP,TRITUM,TRITUM_FLAG_W,HELIUM,HELIUM_FLAG_W,DELHE3,DELHE3_FLAG_W,REFTMP,DELC13,DELC13_FLAG_W,DELC14,DELC14_FLAG_W,C14ERR,NEON,NEON_FLAG_W,NEONER,DOC,DOC_FLAG_W,TDN,TDN_FLAG_W,N2O,N2O_FLAG_W,ARGON,ARGON_FLAG_W,TRITER,HELIER,DELHER,ARGONER,KRYPTON,KRYPTON_FLAG_W,KRYPTONER,XENON,XENON_FLAG_W,XENONER,14C-DOC,14C-DOC_FLAG_W,14C-DOCERR,13C-DOC,13C-DOC_FLAG_W,13C-DOCERR,THETA,SALTREF,SALTREF_FLAG_W,SBE35,SBE35_FLAG_W,CHLORA,CHLORA_FLAG_W
,,,,,,,,,,,METERS,DBAR,ITS-90,PSS-78,,PSS-78,,UMOL/KG,,UMOL/KG,,UMOL/KG,,UMOL/KG,,UMOL/KG,,UMOL/KG,,PMOL/KG,,PMOL/KG,,FMOL/KG,,UMOL/KG,,UMOL/KG,,,,DEG C,TU,,NMOL/KG,,PERCNT,,DEG C,/MILLE,,/MILLE,,/MILLE,NMOL/KG,,NMOL/KG,UMOL/KG,,UMOL/KG,,NMOL/KG,,UMOL/KG,,TU,NMOL/KG,PERCNT,UMOL/KG,NMOL/KG,,NMOL/KG,NMOL/KG,,NMOL/KG,/MILLE,,/MILLE,/MILLE,,/MILLE,DEG C,G/KG,,ITS-90,,MG/M3,
33RO20150410,     P16N.1,     100,          1,         24,         24,2,20150508,       0227,    16.4998,  -152.0002,       5532,     4.3,  25.7690,  34.2677,2,  34.2672,2,    202.8,2,   202.9,2,    0.20,2,    0.00,2,    0.01,2,    0.22,2,   1.684,6,   1.033,6,   1.393,6,  1949.6,6,  2258.7,2,   8.0698,2,    24.99,-999.000,9,-999.0000,9, -999.00,9,  25.7677, -999.00,9,  -999.0,9,  -999.0,-999.000,9,-999.000,  -999.0,9, -999.00,9,      6.372,3, -999.00,9,-999.000,-999.0000, -999.00,     -999.0,     -999.0,9,     -999.0,     -999.0,9,     -999.0,  -999.0,9,     -999.0,     -999.0,9,     -999.0,  25.7681,    34.4288,6,-999.0000,2,     -999.0,9
33RO20150410,     P16N.1,     100,          1,         23,         23,2,20150508,       0227,    16.4998,  -152.0002,       5532,    23.3,  25.7786,  34.2675,2,  34.2690,2,    203.2,2,   203.0,2,    0.90,2,    0.00,2,    0.01,2,    0.22,2,-999.000,9,-999.000,9,-999.000,9,  1951.5,2,  2256.7,2,   8.0698,6,    24.99,-999.000,9,-999.0000,9, -999.00,9,  25.7798, -999.00,9,  -999.0,9,  -999.0,-999.000,9,-999.000,  -999.0,9, -999.00,9,     -999.0,9, -999.00,9,-999.000,-999.0000, -999.00,     -999.0,     -999.0,9,     -999.0,     -999.0,9,     -999.0,  -999.0,9,     -999.0,     -999.0,9,     -999.0,  25.7735,    34.4306,2,-999.0000,2,     -999.0,9
33RO20150410,     P16N.1,     100,          1,         22,         22,2,20150508,       0227,    16.4998,  -152.0002,       5532,    51.1,  25.7457,  34.2754,2,  34.3078,2,    202.9,2,   203.4,2,    0.30,2,    0.00,2,    0.00,2,    0.24,2,   1.761,3,   1.030,2,   1.357,2,  1951.6,2,  2261.1,6,   8.0689,6,    24.97,-999.000,9,-999.0000,9, -999.00,9,  25.7433, -999.00,9,  -999.0,9,  -999.0,-999.000,9,-999.000,  -999.0,9, -999.00,9,      6.429,3, -999.00,9,-999.000,-999.0000, -999.00,     -999.0,     -999.0,9,     -999.0,     -999.0,9,     -999.0,  -999.0,9,     -999.0,     -999.0,9,     -999.0,  25.7344,    34.4696,2,-999.0000,2,     -999.0,9
33RO20150410,     P16N.1,     100,          1,         21,         21,2,20150508,       0227,    16.4998,  -152.0002,       5532,    79.7,  24.3714,  35.1478,2,  35.1534,2,    211.3,2,   211.5,2,    1.00,2,    0.00,2,    0.00,2,    0.19,2,   1.762,2,   1.099,2,   1.425,2,  2003.8,2,  2316.2,2,   8.0625,2,    24.95,-999.000,9,-999.0000,9, -999.00,9,  24.3761, -999.00,9,  -999.0,9,  -999.0,-999.000,9,-999.000,  -999.0,9, -999.00,9,      6.688,3, -999.00,9,-999.000,-999.0000, -999.00,     -999.0,     -999.0,9,     -999.0,     -999.0,9,     -999.0,  -999.0,9,     -999.0,     -999.0,9,     -999.0,  24.3544,    35.3192,2,-999.0000,2,     -999.0,9
33RO20150410,     P16N.1,     100,          1,         20,         20,2,20150508,       0227,    16.4998,  -152.0002,       5532,   130.2,  22.4664,  35.3080,2,  35.3118,2,    202.3,2,   201.7,2,    0.80,2,    0.10,2,    0.02,2,    0.22,2,   2.007,2,   1.175,2,   1.427,2,  2038.1,2,  2326.8,2,   8.0162,2,    24.96,-999.000,9,-999.0000,9, -999.00,9,  22.4731, -999.00,9,  -999.0,9,  -999.0,-999.000,9,-999.000,  -999.0,9, -999.00,9,      7.428,3, -999.00,9,-999.000,-999.0000, -999.00,     -999.0,     -999.0,9,     -999.0,     -999.0,9,     -999.0,  -999.0,9,     -999.0,     -999.0,9,     -999.0,  22.4402,    35.4784,2,-999.0000,2,     -999.0,9
33RO20150410,     P16N.1,     100,          1,         19,         19,2,20150508,       0227,    16.4998,  -152.0002,       5532,   199.8,  16.8932,  34.6249,2,  34.6106,2,    177.5,2,   177.1,2,    4.70,2,    5.60,2,    0.02,2,    0.62,2,   2.630,2,   1.463,2,   1.493,2,  2083.2,2,  2281.8,2,   7.8547,2,    24.96,-999.000,9,-999.0000,9, -999.00,9,  16.8910, -999.00,9,  -999.0,9,  -999.0,-999.000,9,-999.000,  -999.0,9, -999.00,9,     15.759,3, -999.00,9,-999.000,-999.0000, -999.00,     -999.0,     -999.0,9,     -999.0,     -999.0,9,     -999.0,  -999.0,9,     -999.0,     -999.0,9,     -999.0,  16.8605,    34.7738,2,-999.0000,9,     -999.0,9
33RO20150410,     P16N.1,     100,          1,         18,         18,2,20150508,       0227,    16.4998,  -152.0002,       5532,   275.4,  11.2230,  34.2795,2,  34.2827,2,     77.4,2,    93.8,2,   22.00,2,   21.90,2,    0.01,2,    1.96,2,   2.641,3,   1.300,2,   0.823,2,  2190.5,2,  2271.0,2,   7.5515,2,    24.96,-999.000,9,-999.0000,9, -999.00,9,  11.2322, -999.00,9,  -999.0,9,  -999.0,-999.000,9,-999.000,  -999.0,9, -999.00,9,     43.097,3, -999.00,9,-999.000,-999.0000, -999.00,     -999.0,     -999.0,9,     -999.0,     -999.0,9,     -999.0,  -999.0,9,     -999.0,     -999.0,9,     -999.0,  11.1888,    34.4444,2,-999.0000,9,     -999.0,9
33RO20150410,     P16N.1,     100,          1,         17,         17,2,20150508,       0227,    16.4998,  -152.0002,       5532,   366.8,   8.5849,  34.2944,2,  34.2950,2,     51.3,2,    58.2,2,   40.00,2,   30.10,2,    0.01,2,    2.45,2,   1.592,2,   0.733,2,   0.306,2,  2242.6,2,  2288.6,2,   7.4370,6,    25.01,-999.000,9,-999.0000,9, -999.00,9,   8.5789, -999.00,9,  -999.0,9,  -999.0,-999.000,9,-999.000,  -999.0,9, -999.00,9,     36.392,3, -999.00,9,-999.000,-999.0000, -999.00,     -999.0,     -999.0,9,     -999.0,     -999.0,9,     -999.0,  -999.0,9,     -999.0,     -999.0,9,     -999.0,   8.5462,    34.4567,2,-999.0000,9,     -999.0,9
33RO20150410,     P16N.1,     100,          1,         16,         16,2,20150508,       0227,    16.4998,  -152.0002,       5532,   466.2,   7.8669,  34.4194,2,  34.4207,2,     26.8,2,    24.9,2,   50.20,2,   35.40,2,    0.01,2,    2.78,2,   0.454,6,   0.207,6,   0.084,6,  2275.7,2,  2303.3,2,   7.3793,2,    24.97,-999.000,9,-999.0000,9, -999.00,9,   7.8777, -999.00,9,  -999.0,9,  -999.0,-999.000,9,-999.000,  -999.0,9, -999.00,9,     48.307,3, -999.00,9,-999.000,-999.0000, -999.00,     -999.0,     -999.0,9,     -999.0,     -999.0,9,     -999.0,  -999.0,9,     -999.0,     -999.0,9,     -999.0,   7.8198,    34.5830,2,-999.0000,9,     -999.0,9
33RO20150410,     P16N.1,     100,          1,         15,         15,2,20150508,       0227,    16.4998,  -152.0002,       5532,   577.6,   6.9380,  34.4595,2,  34.4584,2,     22.3,2,    22.2,2,   59.80,2,   38.10,2,    0.00,2,    2.94,2,   0.133,2,   0.059,2,       0,2,  2295.9,2,  2319.5,2,   7.3712,2,    24.97,-999.000,9,-999.0000,9, -999.00,9,   6.9410, -999.00,9,  -999.0,9,  -999.0,-999.000,9,-999.000,  -999.0,9, -999.00,9,     50.655,3, -999.00,9,-999.000,-999.0000, -999.00,     -999.0,     -999.0,9,     -999.0,     -999.0,9,     -999.0,  -999.0,9,     -999.0,     -999.0,9,     -999.0,   6.8832,    34.6209,2,-999.0000,9,     -999.0,9
33RO20150410,     P16N.1,     100,          1,         14,         14,2,20150508,       0227,    16.4998,  -152.0002,       5532,   750.7,   5.6568,  34.4838,2,  34.4835,2,     33.8,2,    32.2,2,   76.00,2,   40.40,2,    0.00,2,    3.02,2,   0.046,2,   0.019,2,       0,2,  2311.9,2,  2338.9,2,   7.3815,3,    24.99,-999.000,9,-999.0000,9, -999.00,9,   5.6567, -999.00,9,  -999.0,9,  -999.0,-999.000,9,-999.000,  -999.0,9, -999.00,9,     48.028,3, -999.00,9,-999.000,-999.0000, -999.00,     -999.0,     -999.0,9,     -999.0,     -999.0,9,     -999.0,  -999.0,9,     -999.0,     -999.0,9,     -999.0,   5.5919,    34.6461,2,-999.0000,9,     -999.0,9
33RO20150410,     P16N.1,     100,          1,         13,         13,2,20150508,       0227,    16.4998,  -152.0002,       5532,   901.2,   4.9486,  34.5142,2,  34.5140,2,     33.8,2,    32.5,2,   88.70,2,   41.90,2,    0.01,2,    3.11,2,   0.014,2,   0.005,2,       0,2,  2326.3,2,  2352.8,2,   7.3746,2,    24.99,-999.000,9,-999.0000,9, -999.00,9,   4.9481, -999.00,9,  -999.0,9,  -999.0,-999.000,9,-999.000,  -999.0,9, -999.00,9,     46.882,3, -999.00,9,-999.000,-999.0000, -999.00,     -999.0,     -999.0,9,     -999.0,     -999.0,9,     -999.0,  -999.0,9,     -999.0,     -999.0,9,     -999.0,   4.8745,    34.6767,2,-999.0000,9,     -999.0,9
33RO20150410,     P16N.1,     100,          1,         12,         12,2,20150508,       0227,    16.4998,  -152.0002,       5532,  1050.4,   4.3572,  34.5312,2,  34.5313,2,     42.6,2,    41.8,2,   99.00,2,   41.80,2,    0.01,2,    3.10,2,   0.010,2,   0.003,2,       0,2,  2333.8,6,  2364.9,2,   7.3893,3,    24.99,-999.000,9,-999.0000,9, -999.00,9,   4.3584, -999.00,9,  -999.0,9,  -999.0,-999.000,9,-999.000,  -999.0,9, -999.00,9,     42.422,3, -999.00,9,-999.000,-999.0000, -999.00,     -999.0,     -999.0,9,     -999.0,     -999.0,9,     -999.0,  -999.0,9,     -999.0,     -999.0,9,     -999.0,   4.2744,    34.6941,2,-999.0000,9,     -999.0,9
33RO20150410,     P16N.1,     100,          1,         11,         11,2,20150508,       0227,    16.4998,  -152.0002,       5532,  1233.8,   3.7578,  34.5506,2,  34.5509,2,     42.6,2,    43.5,2,  113.00,2,   42.40,2,    0.01,2,    3.13,2,   0.009,2,   0.001,2,       0,2,  2349.3,2,  2379.3,2,   7.3863,2,    24.98,-999.000,9,-999.0000,9, -999.00,9,   3.7582, -999.00,9,  -999.0,9,  -999.0,-999.000,9,-999.000,  -999.0,9, -999.00,9,     40.675,3, -999.00,9,-999.000,-999.0000, -999.00,     -999.0,     -999.0,9,     -999.0,     -999.0,9,     -999.0,  -999.0,9,     -999.0,     -999.0,9,     -999.0,   3.6645,    34.7138,2,-999.0000,9,     -999.0,9
33RO20150410,     P16N.1,     100,          1,         10,         10,2,20150508,       0227,    16.4998,  -152.0002,       5532,  1501.2,   3.0294,  34.5829,2,  34.5819,2,     60.5,2,    60.4,2,  128.50,2,   41.50,2,    0.01,2,    3.03,2,-999.000,9,-999.000,9,-999.000,9,  2355.0,2,  2397.6,2,   7.4173,6,    25.00,-999.000,9,-999.0000,9, -999.00,9,   3.0299, -999.00,9,  -999.0,9,  -999.0,-999.000,9,-999.000,  -999.0,9, -999.00,9,     -999.0,9, -999.00,9,-999.000,-999.0000, -999.00,     -999.0,     -999.0,9,     -999.0,     -999.0,9,     -999.0,  -999.0,9,     -999.0,     -999.0,9,     -999.0,   2.9211,    34.7450,2,-999.0000,9,     -999.0,9
33RO20150410,     P16N.1,     100,          1,          9,          9,2,20150508,       0227,    16.4998,  -152.0002,       5532,  1867.3,   2.3235,  34.6181,2,  34.6191,2,     83.0,2,    82.7,2,  143.80,2,   39.80,2,    0.01,2,    2.90,2,   0.009,3,   0.000,2,       0,2,  2355.9,2,  2412.6,2,   7.4579,2,    24.99,-999.000,9,-999.0000,9, -999.00,9,   2.3233, -999.00,9,  -999.0,9,  -999.0,-999.000,9,-999.000,  -999.0,9, -999.00,9,     29.699,3, -999.00,9,-999.000,-999.0000, -999.00,     -999.0,     -999.0,9,     -999.0,     -999.0,9,     -999.0,  -999.0,9,     -999.0,     -999.0,9,     -999.0,   2.1935,    34.7823,2,-999.0000,9,     -999.0,9
33RO20150410,     P16N.1,     100,          1,          8,          8,2,20150508,       0227,    16.4998,  -152.0002,       5532,  2333.6,   1.9004,  34.6468,2,  34.6446,2,    101.4,2,   103.7,2,  150.60,2,   38.70,2,    0.01,2,    2.77,2,-999.000,9,-999.000,9,-999.000,9,  2351.2,2,  2412.8,3,   7.4975,2,    25.00,-999.000,9,-999.0000,9, -999.00,9,   1.9003, -999.00,9,  -999.0,9,  -999.0,-999.000,9,-999.000,  -999.0,9, -999.00,9,     -999.0,9, -999.00,9,-999.000,-999.0000, -999.00,     -999.0,     -999.0,9,     -999.0,     -999.0,9,     -999.0,  -999.0,9,     -999.0,     -999.0,9,     -999.0,   1.7368,    34.8080,3,-999.0000,9,     -999.0,9
33RO20150410,     P16N.1,     100,          1,          7,          7,2,20150508,       0227,    16.4998,  -152.0002,       5532,  2834.4,   1.6953,  34.6650,2,  34.6664,2,    115.3,2,   116.5,2,  153.80,2,   37.80,2,    0.01,2,    2.69,2,-999.000,9,-999.000,9,-999.000,9,  2348.6,2,  2429.3,2,   7.5224,2,    25.00,-999.000,9,-999.0000,9, -999.00,9,   1.6958, -999.00,9,  -999.0,9,  -999.0,-999.000,9,-999.000,  -999.0,9, -999.00,9,     -999.0,9, -999.00,9,-999.000,-999.0000, -999.00,     -999.0,     -999.0,9,     -999.0,     -999.0,9,     -999.0,  -999.0,9,     -999.0,     -999.0,9,     -999.0,   1.4900,    34.8299,2,-999.0000,9,     -999.0,9
33RO20150410,     P16N.1,     100,          1,          6,          6,2,20150508,       0227,    16.4998,  -152.0002,       5532,  3333.0,   1.5660,  34.6757,2,  34.6766,2,    126.9,2,   127.8,2,  156.40,2,   37.10,2,    0.00,2,    2.64,2,-999.000,9,-999.000,9,-999.000,9,  2341.9,2,  2431.1,2,   7.5467,2,    24.99,-999.000,9,-999.0000,9, -999.00,9,   1.5662, -999.00,9,  -999.0,9,  -999.0,-999.000,9,-999.000,  -999.0,9, -999.00,9,     -999.0,9, -999.00,9,-999.000,-999.0000, -999.00,     -999.0,     -999.0,9,     -999.0,     -999.0,9,     -999.0,  -999.0,9,     -999.0,     -999.0,9,     -999.0,   1.3151,    34.8401,6,-999.0000,9,     -999.0,9
33RO20150410,     P16N.1,     100,          1,          5,          5,2,20150508,       0227,    16.4998,  -152.0002,       5532,  3833.9,   1.4717,  34.6849,2,  34.6873,2,    143.5,2,   144.1,2,  150.20,2,   36.00,2,    0.01,2,    2.56,2,-999.000,9,-999.000,9,-999.000,9,  2328.8,2,  2425.2,2,   7.5678,2,    25.00,-999.000,9,-999.0000,9, -999.00,9,   1.4717, -999.00,9,  -999.0,9,  -999.0,-999.000,9,-999.000,  -999.0,9, -999.00,9,     -999.0,9, -999.00,9,-999.000,-999.0000, -999.00,     -999.0,     -999.0,9,     -999.0,     -999.0,9,     -999.0,  -999.0,9,     -999.0,     -999.0,9,     -999.0,   1.1714,    34.8508,2,-999.0000,9,     -999.0,9
33RO20150410,     P16N.1,     100,          1,          4,          4,2,20150508,       0227,    16.4998,  -152.0002,       5532,  4582.4,   1.4205,  34.6937,2,  34.6942,2,    161.8,2,   162.3,2,  138.70,6,   34.80,6,    0.01,6,    2.45,6,-999.000,9,-999.000,9,-999.000,9,  2310.4,2,  2412.9,2,   7.5883,2,    25.00,-999.000,9,-999.0000,9, -999.00,9,   1.4208, -999.00,9,  -999.0,9,  -999.0,-999.000,9,-999.000,  -999.0,9, -999.00,9,     -999.0,9, -999.00,9,-999.000,-999.0000, -999.00,     -999.0,     -999.0,9,     -999.0,     -999.0,9,     -999.0,  -999.0,9,     -999.0,     -999.0,9,     -999.0,   1.0384,    34.8578,2,-999.0000,9,     -999.0,9
33RO20150410,     P16N.1,     100,          1,          3,          3,2,20150508,       0227,    16.4998,  -152.0002,       5532,  5205.2,   1.4371,  34.6976,2,  34.6979,2,    171.1,2,   170.9,2,  132.60,6,   34.10,6,    0.01,6,    2.42,6,-999.000,9,-999.000,9,-999.000,9,  2301.3,2,  2405.4,2,   7.5959,6,    24.99,-999.000,9,-999.0000,9, -999.00,9,   1.4366, -999.00,9,  -999.0,9,  -999.0,-999.000,9,-999.000,  -999.0,9, -999.00,9,     -999.0,9, -999.00,9,-999.000,-999.0000, -999.00,     -999.0,     -999.0,9,     -999.0,     -999.0,9,     -999.0,  -999.0,9,     -999.0,     -999.0,9,     -999.0,   0.9797,    34.8615,2,-999.0000,9,     -999.0,9
33RO20150410,     P16N.1,     100,          1,          2,          2,2,20150508,       0227,    16.4998,  -152.0002,       5532,  5334.5,   1.4502,  34.6980,2,  34.6981,2,    171.6,2,   171.2,2,  132.90,6,   34.10,6,    0.01,6,    2.42,6,-999.000,9,-999.000,9,-999.000,9,  2299.2,2,  2404.8,6,   7.5960,2,    25.02,-999.000,9,-999.0000,9, -999.00,9,   1.4502, -999.00,9,  -999.0,9,  -999.0,-999.000,9,-999.000,  -999.0,9, -999.00,9,     -999.0,9, -999.00,9,-999.000,-999.0000, -999.00,     -999.0,     -999.0,9,     -999.0,     -999.0,9,     -999.0,  -999.0,9,     -999.0,     -999.0,9,     -999.0,   0.9762,    34.8617,2,-999.0000,9,     -999.0,9
33RO20150410,     P16N.1,     100,          1,          1,          1,2,20150508,       0227,    16.4998,  -152.0002,       5532,  5521.7,   1.4709,  34.6982,2,  34.6961,2,    172.4,2,   171.9,2,  132.50,6,   34.10,6,    0.01,6,    2.42,6,-999.000,9,-999.000,9,-999.000,9,  2301.2,6,  2405.0,2,   7.5971,6,    25.01,-999.000,9,-999.0000,9, -999.00,9,   1.4710, -999.00,9,  -999.0,9,  -999.0,-999.000,9,-999.000,  -999.0,9, -999.00,9,     -999.0,9, -999.00,9,-999.000,-999.0000, -999.00,     -999.0,     -999.0,9,     -999.0,     -999.0,9,     -999.0,  -999.0,9,     -999.0,     -999.0,9,     -999.0,   0.9725,    34.8597,3,-999.0000,9,     -999.0,9