BOTTLE,20210709CCHSIOCBG
EXPOCODE,SECT_ID,STNNBR,CASTNO,SAMPNO,BTLNBR,BTLNBR_FLAG_W,DATE,TIME,LATITUDE,LONGITUDE,DEPTH,CTDPRS,CTDTMP,CTDSAL,CTDSAL_FLAG_W,SALNTY,SALNTY_FLAG_W,CTDOXY,CTDOXY_FLAG_W,OXYGEN,OXYGEN_FLAG_W,SILCAT,SILCAT_FLAG_W,NITRAT,NITRAT_FLAG_W,NITRIT,NITRIT_FLAG_W,PHSPHT,PHSPHT_FLAG_W,CFC-11,CFC-11_FLAG_W,CFC-12,CFC-12_FLAG_W,SF6,SF6_FLAG_W,TCARBN,TCARBN_FLAG_W,ALKALI,ALKALI_FLAG_W,PH_TOT,PH_TOT_FLAG_W,PH_TMP,TRITUM,TRITUM_FLAG_W,HELIUM,HELIUM_FLAG_W,DELHE3,DELHE3_FLAG_W,REFTMP,DELC13,DELC13_FLAG_W,DELC14,DELC14_FLAG_W,C14ERR,NEON,NEON_FLAG_W,NEONER,DOC,DOC_FLAG_W,TDN,TDN_FLAG_W,N2O,N2O_FLAG_W,ARGON,ARGON_FLAG_W,TRITER,HELIER,DELHER,ARGONER,KRYPTON,KRYPTON_FLAG_W,KRYPTONER,XENON,XENON_FLAG_W,XENONER,14C-DOC,14C-DOC_FLAG_W,14C-DOCERR,13C-DOC,13C-DOC_FLAG_W,13C-DOCERR,THETA,SALTREF,SALTREF_FLAG_W,SBE35,SBE35_FLAG_W,CHLORA,CHLORA_FLAG_W
,,,,,,,,,,,METERS,DBAR,ITS-90,PSS-78,,PSS-78,,UMOL/KG,,UMOL/KG,,UMOL/KG,,UMOL/KG,,UMOL/KG,,UMOL/KG,,PMOL/KG,,PMOL/KG,,FMOL/KG,,UMOL/KG,,UMOL/KG,,,,DEG C,TU,,NMOL/KG,,PERCNT,,DEG C,/MILLE,,/MILLE,,/MILLE,NMOL/KG,,NMOL/KG,UMOL/KG,,UMOL/KG,,NMOL/KG,,UMOL/KG,,TU,NMOL/KG,PERCNT,UMOL/KG,NMOL/KG,,NMOL/KG,NMOL/KG,,NMOL/KG,/MILLE,,/MILLE,/MILLE,,/MILLE,DEG C,G/KG,,ITS-90,,MG/M3,
33RO20150410,     P16N.1,     108,          2,         24,         24,2,20150510,       1239,    20.5004,  -152.0005,       5209,     5.2,  24.6670,  34.8290,2,  34.6075,4,    206.0,2,   206.4,2,    1.20,2,    0.00,2,    0.01,2,    0.19,2,   1.709,2,   1.077,2,   1.436,2,  1985.0,6,  2296.7,2,   8.0627,2,    24.99,-999.000,9,-999.0000,9, -999.00,9,  24.6675, -999.00,9,  -999.0,9,  -999.0,-999.000,9,-999.000,  -999.0,9, -999.00,9,      6.391,3, -999.00,9,-999.000,-999.0000, -999.00,     -999.0,     -999.0,9,     -999.0,     -999.0,9,     -999.0,  -999.0,9,     -999.0,     -999.0,9,     -999.0,  24.6659,    34.7707,3,-999.0000,9,     -999.0,9
33RO20150410,     P16N.1,     108,          2,         23,         23,2,20150510,       1239,    20.5004,  -152.0005,       5209,    20.2,  24.6733,  34.8289,2,  34.8292,2,    206.4,2,   206.5,2,    1.20,2,    0.00,2,    0.00,2,    0.20,2,   1.721,6,   1.075,6,     1.4,6,  1985.1,2,  2296.8,2,   8.0625,6,    25.00,-999.000,9,-999.0000,9, -999.00,9,  24.6754, -999.00,9,  -999.0,9,  -999.0,-999.000,9,-999.000,  -999.0,9, -999.00,9,      6.504,3, -999.00,9,-999.000,-999.0000, -999.00,     -999.0,     -999.0,9,     -999.0,     -999.0,9,     -999.0,  -999.0,9,     -999.0,     -999.0,9,     -999.0,  24.6690,    34.9934,2,-999.0000,9,     -999.0,9
33RO20150410,     P16N.1,     108,          2,         22,         22,2,20150510,       1239,    20.5004,  -152.0005,       5209,    42.4,  24.1764,  35.1590,2,  35.1596,2,    210.2,2,   211.2,2,    1.20,2,    0.00,2,    0.00,2,    0.18,2,   1.779,2,   1.107,2,   1.452,2,  2004.1,2,  2317.4,2,   8.0579,6,    24.99,-999.000,9,-999.0000,9, -999.00,9,  24.1762, -999.00,9,  -999.0,9,  -999.0,-999.000,9,-999.000,  -999.0,9, -999.00,9,      6.525,3, -999.00,9,-999.000,-999.0000, -999.00,     -999.0,     -999.0,9,     -999.0,     -999.0,9,     -999.0,  -999.0,9,     -999.0,     -999.0,9,     -999.0,  24.1674,    35.3254,2,-999.0000,9,     -999.0,9
33RO20150410,     P16N.1,     108,          2,         21,         21,2,20150510,       1239,    20.5004,  -152.0005,       5209,    66.8,  23.7833,  35.2529,2,  35.2599,2,    212.9,2,   212.0,2,    1.10,2,    0.00,2,    0.00,2,    0.16,2,   1.794,2,   1.120,2,   1.457,2,  2013.5,2,  2324.0,2,   8.0542,2,    24.99,-999.000,9,-999.0000,9, -999.00,9,  23.7902, -999.00,9,  -999.0,9,  -999.0,-999.000,9,-999.000,  -999.0,9, -999.00,9,      6.697,3, -999.00,9,-999.000,-999.0000, -999.00,     -999.0,     -999.0,9,     -999.0,     -999.0,9,     -999.0,  -999.0,9,     -999.0,     -999.0,9,     -999.0,  23.7693,    35.4262,2,-999.0000,9,     -999.0,9
33RO20150410,     P16N.1,     108,          2,         20,         20,2,20150510,       1239,    20.5004,  -152.0005,       5209,    91.7,  22.4099,  35.3796,2,  35.3784,2,    214.4,2,   212.6,2,    1.30,2,    0.00,2,    0.00,2,    0.16,2,   1.926,2,   1.179,2,   1.459,2,  2030.2,2,  2331.2,6,   8.0311,2,    24.99,-999.000,9,-999.0000,9, -999.00,9,  22.4119, -999.00,9,  -999.0,9,  -999.0,-999.000,9,-999.000,  -999.0,9, -999.00,9,      7.072,3, -999.00,9,-999.000,-999.0000, -999.00,     -999.0,     -999.0,9,     -999.0,     -999.0,9,     -999.0,  -999.0,9,     -999.0,     -999.0,9,     -999.0,  22.3915,    35.5452,2,-999.0000,9,     -999.0,9
33RO20150410,     P16N.1,     108,          2,         19,         19,2,20150510,       1239,    20.5004,  -152.0005,       5209,   133.1,  20.8355,  35.2522,2,  35.2428,2,    203.4,2,   202.5,2,    1.70,2,    0.30,2,    0.12,2,    0.19,2,   2.053,2,   1.259,2,     1.5,2,  2047.9,2,  2321.8,2,   7.9870,2,    25.00,-999.000,9,-999.0000,9, -999.00,9,  20.8273, -999.00,9,  -999.0,9,  -999.0,-999.000,9,-999.000,  -999.0,9, -999.00,9,      7.892,3, -999.00,9,-999.000,-999.0000, -999.00,     -999.0,     -999.0,9,     -999.0,     -999.0,9,     -999.0,  -999.0,9,     -999.0,     -999.0,9,     -999.0,  20.8102,    35.4090,2,-999.0000,9,     -999.0,9
33RO20150410,     P16N.1,     108,          2,         18,         18,2,20150510,       1239,    20.5004,  -152.0005,       5209,   199.5,  15.8720,  34.5241,2,  34.5299,2,    176.9,2,   188.7,2,    5.10,2,    5.70,2,    0.02,2,    0.57,2,   2.584,2,   1.539,2,   1.531,2,  2073.3,2,  2276.1,2,   7.8623,6,    25.00,-999.000,9,-999.0000,9, -999.00,9,  15.8783, -999.00,9,  -999.0,9,  -999.0,-999.000,9,-999.000,  -999.0,9, -999.00,9,     12.766,3, -999.00,9,-999.000,-999.0000, -999.00,     -999.0,     -999.0,9,     -999.0,     -999.0,9,     -999.0,  -999.0,9,     -999.0,     -999.0,9,     -999.0,  15.8407,    34.6927,2,-999.0000,9,     -999.0,9
33RO20150410,     P16N.1,     108,          2,         17,         17,2,20150510,       1239,    20.5004,  -152.0005,       5209,   275.4,  11.3969,  34.1242,2,  34.1263,2,    155.0,2,   153.1,2,   16.40,2,   16.60,2,    0.01,2,    1.40,2,   2.924,2,   1.644,2,   1.308,2,  2135.7,2,  2258.1,2,   7.6737,6,    25.00,-999.000,9,-999.0000,9, -999.00,9,  11.3803, -999.00,9,  -999.0,9,  -999.0,-999.000,9,-999.000,  -999.0,9, -999.00,9,     27.911,3, -999.00,9,-999.000,-999.0000, -999.00,     -999.0,     -999.0,9,     -999.0,     -999.0,9,     -999.0,  -999.0,9,     -999.0,     -999.0,9,     -999.0,  11.3624,    34.2872,2,-999.0000,9,     -999.0,9
33RO20150410,     P16N.1,     108,          2,         16,         16,2,20150510,       1239,    20.5004,  -152.0005,       5209,   367.7,   8.1961,  34.0526,2,  34.0524,2,    139.2,2,   136.9,2,   34.30,2,   25.10,2,    0.00,2,    1.90,2,   2.894,6,   1.527,6,   0.827,6,  2186.4,2,  2269.6,2,   7.5674,2,    25.00,-999.000,9,-999.0000,9, -999.00,9,   8.1996, -999.00,9,  -999.0,9,  -999.0,-999.000,9,-999.000,  -999.0,9, -999.00,9,     25.574,3, -999.00,9,-999.000,-999.0000, -999.00,     -999.0,     -999.0,9,     -999.0,     -999.0,9,     -999.0,  -999.0,9,     -999.0,     -999.0,9,     -999.0,   8.1585,    34.2130,2,-999.0000,9,     -999.0,9
33RO20150410,     P16N.1,     108,          2,         15,         15,2,20150510,       1239,    20.5004,  -152.0005,       5209,   467.5,   6.3847,  34.0797,2,  34.0800,2,     72.6,2,    73.4,2,   58.60,2,   34.40,2,    0.00,2,    2.55,2,   1.590,2,   0.782,2,   0.285,2,  2256.8,2,  2291.3,2,   7.4097,2,    25.00,-999.000,9,-999.0000,9, -999.00,9,   6.3810, -999.00,9,  -999.0,9,  -999.0,-999.000,9,-999.000,  -999.0,9, -999.00,9,     34.575,3, -999.00,9,-999.000,-999.0000, -999.00,     -999.0,     -999.0,9,     -999.0,     -999.0,9,     -999.0,  -999.0,9,     -999.0,     -999.0,9,     -999.0,   6.3429,    34.2407,2,-999.0000,9,     -999.0,9
33RO20150410,     P16N.1,     108,          2,         14,         14,2,20150510,       1239,    20.5004,  -152.0005,       5209,   600.6,   5.1844,  34.2713,2,  34.2725,2,     27.3,2,    27.0,2,   84.20,2,   40.30,2,    0.00,2,    3.04,2,   0.230,2,   0.119,2,   0.064,2,  2316.8,6,  2327.7,2,   7.3320,6,    25.01,-999.000,9,-999.0000,9, -999.00,9,   5.1857, -999.00,9,  -999.0,9,  -999.0,-999.000,9,-999.000,  -999.0,9, -999.00,9,     46.075,3, -999.00,9,-999.000,-999.0000, -999.00,     -999.0,     -999.0,9,     -999.0,     -999.0,9,     -999.0,  -999.0,9,     -999.0,     -999.0,9,     -999.0,   5.1355,    34.4341,2,-999.0000,9,     -999.0,9
33RO20150410,     P16N.1,     108,          2,         13,         13,2,20150510,       1239,    20.5004,  -152.0005,       5209,   750.3,   4.6360,  34.4299,2,  34.4276,2,     31.8,2,    31.6,2,   95.20,2,   41.50,2,    0.00,2,    3.07,2,   0.052,2,   0.024,2,   0.045,3,  2333.4,2,  2352.1,2,   7.3592,2,    25.00,-999.000,9,-999.0000,9, -999.00,9,   4.6369, -999.00,9,  -999.0,9,  -999.0,-999.000,9,-999.000,  -999.0,9, -999.00,9,     45.516,3, -999.00,9,-999.000,-999.0000, -999.00,     -999.0,     -999.0,9,     -999.0,     -999.0,9,     -999.0,  -999.0,9,     -999.0,     -999.0,9,     -999.0,   4.5770,    34.5900,2,-999.0000,9,     -999.0,9
33RO20150410,     P16N.1,     108,          2,         12,         12,2,20150510,       1239,    20.5004,  -152.0005,       5209,   899.9,   4.1100,  34.4933,2,  34.4918,2,     40.8,2,    40.9,2,  105.10,2,   41.70,2,    0.00,2,    3.06,2,   0.011,2,   0.009,2,   0.041,3,  2340.1,2,  2368.8,2,   7.3807,2,    25.02,-999.000,9,-999.0000,9, -999.00,9,   4.1102, -999.00,9,  -999.0,9,  -999.0,-999.000,9,-999.000,  -999.0,9, -999.00,9,     41.864,3, -999.00,9,-999.000,-999.0000, -999.00,     -999.0,     -999.0,9,     -999.0,     -999.0,9,     -999.0,  -999.0,9,     -999.0,     -999.0,9,     -999.0,   4.0418,    34.6545,2,-999.0000,9,     -999.0,9
33RO20150410,     P16N.1,     108,          2,         11,         11,2,20150510,       1239,    20.5004,  -152.0005,       5209,  1050.2,   3.6842,  34.5275,2,  34.5266,2,     50.5,2,    49.0,2,  113.50,2,   41.50,2,    0.00,2,    3.05,2,   0.005,2,   0.003,2,   0.026,3,  2347.8,2,  2380.5,2,   7.3952,2,    25.01,-999.000,9,-999.0000,9, -999.00,9,   3.6854, -999.00,9,  -999.0,9,  -999.0,-999.000,9,-999.000,  -999.0,9, -999.00,9,     40.450,3, -999.00,9,-999.000,-999.0000, -999.00,     -999.0,     -999.0,9,     -999.0,     -999.0,9,     -999.0,  -999.0,9,     -999.0,     -999.0,9,     -999.0,   3.6069,    34.6894,6,-999.0000,9,     -999.0,9
33RO20150410,     P16N.1,     108,          2,         10,         10,2,20150510,       1239,    20.5004,  -152.0005,       5209,  1232.9,   3.2231,  34.5534,2,  34.5524,2,     56.8,2,    57.6,2,  123.20,2,   41.20,2,    0.00,2,    2.99,2,  -0.004,2,   0.002,2,    0.03,3,  2350.8,2,  2390.7,2,   7.4108,2,    25.01,-999.000,9,-999.0000,9, -999.00,9,   3.2245, -999.00,9,  -999.0,9,  -999.0,-999.000,9,-999.000,  -999.0,9, -999.00,9,     36.137,3, -999.00,9,-999.000,-999.0000, -999.00,     -999.0,     -999.0,9,     -999.0,     -999.0,9,     -999.0,  -999.0,9,     -999.0,     -999.0,9,     -999.0,   3.1349,    34.7153,2,-999.0000,9,     -999.0,9
33RO20150410,     P16N.1,     108,          2,          9,          9,2,20150510,       1239,    20.5004,  -152.0005,       5209,  1501.0,   2.6942,  34.5875,2,  34.5897,2,     70.6,2,    70.6,2,  134.60,2,   40.40,2,    0.00,2,    2.95,2,-999.000,9,-999.000,9,-999.000,9,  2355.7,2,  2403.6,2,   7.4343,2,    25.02,-999.000,9,-999.0000,9, -999.00,9,   2.6942, -999.00,9,  -999.0,9,  -999.0,-999.000,9,-999.000,  -999.0,9, -999.00,9,     -999.0,9, -999.00,9,-999.000,-999.0000, -999.00,     -999.0,     -999.0,9,     -999.0,     -999.0,9,     -999.0,  -999.0,9,     -999.0,     -999.0,9,     -999.0,   2.5897,    34.7529,2,-999.0000,9,     -999.0,9
33RO20150410,     P16N.1,     108,          2,          8,          8,2,20150510,       1239,    20.5004,  -152.0005,       5209,  1867.3,   2.1688,  34.6211,2,  34.6234,2,     85.7,2,    88.0,2,  145.50,2,   39.70,2,    0.00,2,    2.85,2,-999.000,9,-999.000,9,-999.000,9,  2355.2,2,  2414.1,2,   7.4667,2,    25.01,-999.000,9,-999.0000,9, -999.00,9,   2.1688, -999.00,9,  -999.0,9,  -999.0,-999.000,9,-999.000,  -999.0,9, -999.00,9,     -999.0,9, -999.00,9,-999.000,-999.0000, -999.00,     -999.0,     -999.0,9,     -999.0,     -999.0,9,     -999.0,  -999.0,9,     -999.0,     -999.0,9,     -999.0,   2.0409,    34.7867,6,-999.0000,9,     -999.0,9
33RO20150410,     P16N.1,     108,          2,          7,          7,2,20150510,       1239,    20.5004,  -152.0005,       5209,  2266.8,   1.8639,  34.6442,2,  34.6493,4,    100.0,2,   102.3,2,  151.00,2,   38.70,2,    0.01,2,    2.77,2,-999.000,9,-999.000,9,-999.000,9,  2354.4,2,  2421.9,2,   7.4936,2,    25.02,-999.000,9,-999.0000,9, -999.00,9,   1.8640, -999.00,9,  -999.0,9,  -999.0,-999.000,9,-999.000,  -999.0,9, -999.00,9,     -999.0,9, -999.00,9,-999.000,-999.0000, -999.00,     -999.0,     -999.0,9,     -999.0,     -999.0,9,     -999.0,  -999.0,9,     -999.0,     -999.0,9,     -999.0,   1.7068,    34.8127,3,-999.0000,9,     -999.0,9
33RO20150410,     P16N.1,     108,          2,          6,          6,2,20150510,       1239,    20.5004,  -152.0005,       5209,  2666.6,   1.6900,  34.6602,2,  34.6660,4,    112.2,2,   113.7,2,  154.00,2,   38.10,2,    0.00,2,    2.70,2,-999.000,9,-999.000,9,-999.000,9,  2352.0,2,  2425.7,2,   7.5152,2,    25.01,-999.000,9,-999.0000,9, -999.00,9,   1.6900, -999.00,9,  -999.0,9,  -999.0,-999.000,9,-999.000,  -999.0,9, -999.00,9,     -999.0,9, -999.00,9,-999.000,-999.0000, -999.00,     -999.0,     -999.0,9,     -999.0,     -999.0,9,     -999.0,  -999.0,9,     -999.0,     -999.0,9,     -999.0,   1.5004,    34.8295,3,-999.0000,9,     -999.0,9
33RO20150410,     P16N.1,     108,          2,          5,          5,2,20150510,       1239,    20.5004,  -152.0005,       5209,  3132.8,   1.5791,  34.6719,2,  34.6717,2,    123.5,2,   124.3,2,  155.20,2,   37.30,2,    0.00,2,    2.65,2,-999.000,9,-999.000,9,-999.000,9,  2347.7,2,  2428.3,2,   7.5360,6,    25.02,-999.000,9,-999.0000,9, -999.00,9,   1.5792, -999.00,9,  -999.0,9,  -999.0,-999.000,9,-999.000,  -999.0,9, -999.00,9,     -999.0,9, -999.00,9,-999.000,-999.0000, -999.00,     -999.0,     -999.0,9,     -999.0,     -999.0,9,     -999.0,  -999.0,9,     -999.0,     -999.0,9,     -999.0,   1.3477,    34.8352,2,-999.0000,9,     -999.0,9
33RO20150410,     P16N.1,     108,          2,          4,          4,2,20150510,       1239,    20.5004,  -152.0005,       5209,  3634.4,   1.5112,  34.6801,2,  34.6849,4,    136.0,2,   136.0,2,  152.90,6,   36.70,6,    0.00,6,    2.59,6,-999.000,9,-999.000,9,-999.000,9,  2339.0,2,  2427.2,2,   7.5548,2,    25.02,-999.000,9,-999.0000,9, -999.00,9,   1.5109, -999.00,9,  -999.0,9,  -999.0,-999.000,9,-999.000,  -999.0,9, -999.00,9,     -999.0,9, -999.00,9,-999.000,-999.0000, -999.00,     -999.0,     -999.0,9,     -999.0,     -999.0,9,     -999.0,  -999.0,9,     -999.0,     -999.0,9,     -999.0,   1.2308,    34.8485,3,-999.0000,9,     -999.0,9
33RO20150410,     P16N.1,     108,          2,          3,          3,2,20150510,       1239,    20.5004,  -152.0005,       5209,  4132.7,   1.4695,  34.6865,2,  34.6879,2,    147.7,2,   147.4,2,  147.30,6,   35.80,6,    0.00,6,    2.52,6,-999.000,9,-999.000,9,-999.000,9,  2329.3,2,  2422.9,6,   7.5717,2,    25.02,-999.000,9,-999.0000,9, -999.00,9,   1.4696, -999.00,9,  -999.0,9,  -999.0,-999.000,9,-999.000,  -999.0,9, -999.00,9,     -999.0,9, -999.00,9,-999.000,-999.0000, -999.00,     -999.0,     -999.0,9,     -999.0,     -999.0,9,     -999.0,  -999.0,9,     -999.0,     -999.0,9,     -999.0,   1.1368,    34.8514,2,-999.0000,9,     -999.0,9
33RO20150410,     P16N.1,     108,          2,          2,          2,2,20150510,       1239,    20.5004,  -152.0005,       5209,  4632.5,   1.4540,  34.6919,2,  34.6926,2,    158.3,2,   157.9,2,  140.80,6,   35.10,6,    0.00,6,    2.45,6,-999.000,9,-999.000,9,-999.000,9,  2318.7,2,  2416.1,2,   7.5844,2,    25.01,-999.000,9,-999.0000,9, -999.00,9,   1.4540, -999.00,9,  -999.0,9,  -999.0,-999.000,9,-999.000,  -999.0,9, -999.00,9,     -999.0,9, -999.00,9,-999.000,-999.0000, -999.00,     -999.0,     -999.0,9,     -999.0,     -999.0,9,     -999.0,  -999.0,9,     -999.0,     -999.0,9,     -999.0,   1.0650,    34.8562,2,-999.0000,9,     -999.0,9
33RO20150410,     P16N.1,     108,          2,          1,          1,2,20150510,       1239,    20.5004,  -152.0005,       5209,  5154.1,   1.4515,  34.6966,2,  34.7012,4,    168.7,2,   170.8,2,  133.90,6,   34.40,6,    0.00,6,    2.42,6,-999.000,9,-999.000,9,-999.000,9,  2308.2,6,  2407.8,2,   7.5940,2,    25.02,-999.000,9,-999.0000,9, -999.00,9,   1.4518, -999.00,9,  -999.0,9,  -999.0,-999.000,9,-999.000,  -999.0,9, -999.00,9,     -999.0,9, -999.00,9,-999.000,-999.0000, -999.00,     -999.0,     -999.0,9,     -999.0,     -999.0,9,     -999.0,  -999.0,9,     -999.0,     -999.0,9,     -999.0,   0.9999,    34.8649,3,-999.0000,9,     -999.0,9