BOTTLE,20210709CCHSIOCBG
EXPOCODE,SECT_ID,STNNBR,CASTNO,SAMPNO,BTLNBR,BTLNBR_FLAG_W,DATE,TIME,LATITUDE,LONGITUDE,DEPTH,CTDPRS,CTDTMP,CTDSAL,CTDSAL_FLAG_W,SALNTY,SALNTY_FLAG_W,CTDOXY,CTDOXY_FLAG_W,OXYGEN,OXYGEN_FLAG_W,SILCAT,SILCAT_FLAG_W,NITRAT,NITRAT_FLAG_W,NITRIT,NITRIT_FLAG_W,PHSPHT,PHSPHT_FLAG_W,CFC-11,CFC-11_FLAG_W,CFC-12,CFC-12_FLAG_W,SF6,SF6_FLAG_W,TCARBN,TCARBN_FLAG_W,ALKALI,ALKALI_FLAG_W,PH_TOT,PH_TOT_FLAG_W,PH_TMP,TRITUM,TRITUM_FLAG_W,HELIUM,HELIUM_FLAG_W,DELHE3,DELHE3_FLAG_W,REFTMP,DELC13,DELC13_FLAG_W,DELC14,DELC14_FLAG_W,C14ERR,NEON,NEON_FLAG_W,NEONER,DOC,DOC_FLAG_W,TDN,TDN_FLAG_W,N2O,N2O_FLAG_W,ARGON,ARGON_FLAG_W,TRITER,HELIER,DELHER,ARGONER,KRYPTON,KRYPTON_FLAG_W,KRYPTONER,XENON,XENON_FLAG_W,XENONER,14C-DOC,14C-DOC_FLAG_W,14C-DOCERR,13C-DOC,13C-DOC_FLAG_W,13C-DOCERR,THETA,SALTREF,SALTREF_FLAG_W,SBE35,SBE35_FLAG_W,CHLORA,CHLORA_FLAG_W
,,,,,,,,,,,METERS,DBAR,ITS-90,PSS-78,,PSS-78,,UMOL/KG,,UMOL/KG,,UMOL/KG,,UMOL/KG,,UMOL/KG,,UMOL/KG,,PMOL/KG,,PMOL/KG,,FMOL/KG,,UMOL/KG,,UMOL/KG,,,,DEG C,TU,,NMOL/KG,,PERCNT,,DEG C,/MILLE,,/MILLE,,/MILLE,NMOL/KG,,NMOL/KG,UMOL/KG,,UMOL/KG,,NMOL/KG,,UMOL/KG,,TU,NMOL/KG,PERCNT,UMOL/KG,NMOL/KG,,NMOL/KG,NMOL/KG,,NMOL/KG,/MILLE,,/MILLE,/MILLE,,/MILLE,DEG C,G/KG,,ITS-90,,MG/M3,
33RO20150410,     P16N.1,      70,          1,         24,         24,3,20150429,       0622,     3.1203,  -151.0001,       5176,     6.2,  29.0487,  34.8394,2,  34.8036,2,    197.2,2,   198.2,2,    1.80,2,    2.30,2,    0.13,2,    0.38,2,-999.000,9,-999.000,9,-999.000,9,  1983.0,6,  2288.1,6,   8.0530,2,    24.99,-999.000,9,-999.0000,9, -999.00,9,  29.0607, -999.00,9,  -999.0,9,  -999.0,-999.000,9,-999.000,  -999.0,9, -999.00,9,     -999.0,9, -999.00,9,-999.000,-999.0000, -999.00,     -999.0,     -999.0,9,     -999.0,     -999.0,9,     -999.0,  -999.0,9,     -999.0,     -999.0,9,     -999.0,  29.0472,    34.9677,4,-999.0000,2,     -999.0,9
33RO20150410,     P16N.1,      70,          1,         23,         23,2,20150429,       0622,     3.1203,  -151.0001,       5176,    20.1,  28.9182,  35.0452,2,  35.0445,2,    199.1,2,   200.7,2,    1.80,2,    2.50,2,    0.14,2,    0.40,2,-999.000,9,-999.000,9,-999.000,9,  -999.0,9,  -999.0,9,-999.0000,9,  -999.00,-999.000,9,-999.0000,9, -999.00,9,  28.9191, -999.00,9,  -999.0,9,  -999.0,-999.000,9,-999.000,  -999.0,9, -999.00,9,     -999.0,9, -999.00,9,-999.000,-999.0000, -999.00,     -999.0,     -999.0,9,     -999.0,     -999.0,9,     -999.0,  -999.0,9,     -999.0,     -999.0,9,     -999.0,  28.9134,    35.2098,2,-999.0000,2,     -999.0,9
33RO20150410,     P16N.1,      70,          1,         22,         22,2,20150429,       0622,     3.1203,  -151.0001,       5176,    41.1,  28.7385,  35.1031,2,  35.1046,2,    201.3,2,   200.5,2,    1.80,2,    2.70,2,    0.15,2,    0.43,2,-999.000,9,-999.000,9,-999.000,9,  -999.0,9,  -999.0,9,-999.0000,9,  -999.00,-999.000,9,-999.0000,9, -999.00,9,  28.7423, -999.00,9,  -999.0,9,  -999.0,-999.000,9,-999.000,  -999.0,9, -999.00,9,     -999.0,9, -999.00,9,-999.000,-999.0000, -999.00,     -999.0,     -999.0,9,     -999.0,     -999.0,9,     -999.0,  -999.0,9,     -999.0,     -999.0,9,     -999.0,  28.7286,    35.2701,2,-999.0000,2,     -999.0,9
33RO20150410,     P16N.1,      70,          1,         21,         21,2,20150429,       0622,     3.1203,  -151.0001,       5176,    62.4,  28.5803,  35.0605,2,  35.0642,2,    200.8,2,   200.5,2,    1.80,2,    2.60,2,    0.13,2,    0.42,2,-999.000,9,-999.000,9,-999.000,9,  -999.0,9,  -999.0,9,-999.0000,9,  -999.00,-999.000,9,-999.0000,9, -999.00,9,  28.5793, -999.00,9,  -999.0,9,  -999.0,-999.000,9,-999.000,  -999.0,9, -999.00,9,     -999.0,9, -999.00,9,-999.000,-999.0000, -999.00,     -999.0,     -999.0,9,     -999.0,     -999.0,9,     -999.0,  -999.0,9,     -999.0,     -999.0,9,     -999.0,  28.5654,    35.2296,2,-999.0000,2,     -999.0,9
33RO20150410,     P16N.1,      70,          1,         20,         20,2,20150429,       0622,     3.1203,  -151.0001,       5176,    90.5,  27.8681,  35.0216,2,  35.0251,2,    195.8,2,   194.2,2,    3.80,2,    2.80,2,    0.19,2,    0.45,2,-999.000,9,-999.000,9,-999.000,9,  -999.0,9,  -999.0,9,-999.0000,9,  -999.00,-999.000,9,-999.0000,9, -999.00,9,  27.8661, -999.00,9,  -999.0,9,  -999.0,-999.000,9,-999.000,  -999.0,9, -999.00,9,     -999.0,9, -999.00,9,-999.000,-999.0000, -999.00,     -999.0,     -999.0,9,     -999.0,     -999.0,9,     -999.0,  -999.0,9,     -999.0,     -999.0,9,     -999.0,  27.8468,    35.1902,2,-999.0000,2,     -999.0,9
33RO20150410,     P16N.1,      70,          1,         19,         19,2,20150429,       0622,     3.1203,  -151.0001,       5176,   132.7,  26.6790,  35.0549,2,  35.0587,2,    169.4,2,   167.4,2,    2.60,2,    5.30,2,    0.84,2,    0.69,2,-999.000,9,-999.000,9,-999.000,9,  -999.0,9,  -999.0,9,-999.0000,9,  -999.00,-999.000,9,-999.0000,9, -999.00,9,  26.6783, -999.00,9,  -999.0,9,  -999.0,-999.000,9,-999.000,  -999.0,9, -999.00,9,     -999.0,9, -999.00,9,-999.000,-999.0000, -999.00,     -999.0,     -999.0,9,     -999.0,     -999.0,9,     -999.0,  -999.0,9,     -999.0,     -999.0,9,     -999.0,  26.6488,    35.2240,2,-999.0000,2,     -999.0,9
33RO20150410,     P16N.1,      70,          1,         18,         18,2,20150429,       0622,     3.1203,  -151.0001,       5176,   199.7,  11.6704,  34.7095,2,  34.7041,2,     98.9,2,    97.0,2,   23.80,2,   25.30,2,    0.01,2,    1.81,2,-999.000,9,-999.000,9,-999.000,9,  -999.0,9,  -999.0,9,-999.0000,9,  -999.00,-999.000,9,-999.0000,9, -999.00,9,  11.6686, -999.00,9,  -999.0,9,  -999.0,-999.000,9,-999.000,  -999.0,9, -999.00,9,     -999.0,9, -999.00,9,-999.000,-999.0000, -999.00,     -999.0,     -999.0,9,     -999.0,     -999.0,9,     -999.0,  -999.0,9,     -999.0,     -999.0,9,     -999.0,  11.6449,    34.8677,2,-999.0000,2,     -999.0,9
33RO20150410,     P16N.1,      70,          1,         17,         17,2,20150429,       0622,     3.1203,  -151.0001,       5176,   275.5,  11.0415,  34.7777,2,  34.7782,2,     52.0,2,    49.3,2,   26.30,2,   31.60,2,    0.01,2,    2.18,2,-999.000,9,-999.000,9,-999.000,9,  -999.0,9,  -999.0,9,-999.0000,9,  -999.00,-999.000,9,-999.0000,9, -999.00,9,  11.0419, -999.00,9,  -999.0,9,  -999.0,-999.000,9,-999.000,  -999.0,9, -999.00,9,     -999.0,9, -999.00,9,-999.000,-999.0000, -999.00,     -999.0,     -999.0,9,     -999.0,     -999.0,9,     -999.0,  -999.0,9,     -999.0,     -999.0,9,     -999.0,  11.0074,    34.9422,2,-999.0000,2,     -999.0,9
33RO20150410,     P16N.1,      70,          1,         16,         16,2,20150429,       0622,     3.1203,  -151.0001,       5176,   367.0,   9.9344,  34.7030,2,  34.7047,2,     64.9,2,    64.2,2,   29.00,2,   32.20,2,    0.01,2,    2.20,2,-999.000,9,-999.000,9,-999.000,9,  -999.0,9,  -999.0,9,-999.0000,9,  -999.00,-999.000,9,-999.0000,9, -999.00,9,   9.9429, -999.00,9,  -999.0,9,  -999.0,-999.000,9,-999.000,  -999.0,9, -999.00,9,     -999.0,9, -999.00,9,-999.000,-999.0000, -999.00,     -999.0,     -999.0,9,     -999.0,     -999.0,9,     -999.0,  -999.0,9,     -999.0,     -999.0,9,     -999.0,   9.8918,    34.8684,2,-999.0000,2,     -999.0,9
33RO20150410,     P16N.1,      70,          1,         15,         15,2,20150429,       0622,     3.1203,  -151.0001,       5176,   465.9,   8.6151,  34.6316,2,  34.6178,4,     42.5,2,    40.3,2,   38.20,2,   37.00,2,    0.01,2,    2.55,2,-999.000,9,-999.000,9,-999.000,9,  -999.0,9,  -999.0,9,-999.0000,9,  -999.00,-999.000,9,-999.0000,9, -999.00,9,   8.6168, -999.00,9,  -999.0,9,  -999.0,-999.000,9,-999.000,  -999.0,9, -999.00,9,     -999.0,9, -999.00,9,-999.000,-999.0000, -999.00,     -999.0,     -999.0,9,     -999.0,     -999.0,9,     -999.0,  -999.0,9,     -999.0,     -999.0,9,     -999.0,   8.5653,    34.7811,2,-999.0000,2,     -999.0,9
33RO20150410,     P16N.1,      70,          1,         14,         14,2,20150429,       0622,     3.1203,  -151.0001,       5176,   599.9,   6.7317,  34.5677,2,  34.5769,2,     44.3,2,    43.5,2,   53.00,2,   40.90,2,    0.01,2,    2.85,2,-999.000,9,-999.000,9,-999.000,9,  -999.0,9,  -999.0,9,-999.0000,9,  -999.00,-999.000,9,-999.0000,9, -999.00,9,   6.7308, -999.00,9,  -999.0,9,  -999.0,-999.000,9,-999.000,  -999.0,9, -999.00,9,     -999.0,9, -999.00,9,-999.000,-999.0000, -999.00,     -999.0,     -999.0,9,     -999.0,     -999.0,9,     -999.0,  -999.0,9,     -999.0,     -999.0,9,     -999.0,   6.6755,    34.7399,2,-999.0000,2,     -999.0,9
33RO20150410,     P16N.1,      70,          1,         13,         13,2,20150429,       0622,     3.1203,  -151.0001,       5176,   750.1,   5.6117,  34.5500,2,  34.5497,2,     60.2,2,    59.0,2,   66.80,2,   41.20,2,    0.01,2,    2.85,2,-999.000,9,-999.000,9,-999.000,9,  -999.0,9,  -999.0,9,-999.0000,9,  -999.00,-999.000,9,-999.0000,9, -999.00,9,   5.6095, -999.00,9,  -999.0,9,  -999.0,-999.000,9,-999.000,  -999.0,9, -999.00,9,     -999.0,9, -999.00,9,-999.000,-999.0000, -999.00,     -999.0,     -999.0,9,     -999.0,     -999.0,9,     -999.0,  -999.0,9,     -999.0,     -999.0,9,     -999.0,   5.5470,    34.7126,2,-999.0000,2,     -999.0,9
33RO20150410,     P16N.1,      70,          1,         12,         12,2,20150429,       0622,     3.1203,  -151.0001,       5176,   898.8,   4.9421,  34.5491,2,  34.5492,2,     80.6,2,    78.1,2,   76.00,2,   40.00,2,    0.01,2,    2.79,2,-999.000,9,-999.000,9,-999.000,9,  -999.0,9,  -999.0,9,-999.0000,9,  -999.00,-999.000,9,-999.0000,9, -999.00,9,   4.9429, -999.00,9,  -999.0,9,  -999.0,-999.000,9,-999.000,  -999.0,9, -999.00,9,     -999.0,9, -999.00,9,-999.000,-999.0000, -999.00,     -999.0,     -999.0,9,     -999.0,     -999.0,9,     -999.0,  -999.0,9,     -999.0,     -999.0,9,     -999.0,   4.8682,    34.7121,2,-999.0000,2,     -999.0,9
33RO20150410,     P16N.1,      70,          1,         11,         11,2,20150429,       0622,     3.1203,  -151.0001,       5176,  1050.5,   4.2904,  34.5639,2,  34.5652,2,     75.5,2,    75.0,2,   90.80,2,   41.00,2,    0.01,2,    2.86,2,-999.000,9,-999.000,9,-999.000,9,  -999.0,9,  -999.0,9,-999.0000,9,  -999.00,-999.000,9,-999.0000,9, -999.00,9,   4.2902, -999.00,9,  -999.0,9,  -999.0,-999.000,9,-999.000,  -999.0,9, -999.00,9,     -999.0,9, -999.00,9,-999.000,-999.0000, -999.00,     -999.0,     -999.0,9,     -999.0,     -999.0,9,     -999.0,  -999.0,9,     -999.0,     -999.0,9,     -999.0,   4.2081,    34.7282,2,-999.0000,2,     -999.0,9
33RO20150410,     P16N.1,      70,          1,         10,         10,2,20150429,       0622,     3.1203,  -151.0001,       5176,  1231.3,   3.7776,  34.5790,2,  34.5810,2,     77.1,2,    76.1,2,  102.80,2,   41.00,2,    0.01,2,    2.87,2,-999.000,9,-999.000,9,-999.000,9,  -999.0,9,  -999.0,9,-999.0000,9,  -999.00,-999.000,9,-999.0000,9, -999.00,9,   3.7778, -999.00,9,  -999.0,9,  -999.0,-999.000,9,-999.000,  -999.0,9, -999.00,9,     -999.0,9, -999.00,9,-999.000,-999.0000, -999.00,     -999.0,     -999.0,9,     -999.0,     -999.0,9,     -999.0,  -999.0,9,     -999.0,     -999.0,9,     -999.0,   3.6842,    34.7440,2,-999.0000,2,     -999.0,9
33RO20150410,     P16N.1,      70,          1,          9,          9,2,20150429,       0622,     3.1203,  -151.0001,       5176,  1499.9,   2.9574,  34.6088,2,  34.6089,2,     90.0,2,    88.7,2,  120.70,2,   40.30,2,    0.00,2,    2.83,2,-999.000,9,-999.000,9,-999.000,9,  -999.0,9,  -999.0,9,-999.0000,9,  -999.00,-999.000,9,-999.0000,9, -999.00,9,   2.9578, -999.00,9,  -999.0,9,  -999.0,-999.000,9,-999.000,  -999.0,9, -999.00,9,     -999.0,9, -999.00,9,-999.000,-999.0000, -999.00,     -999.0,     -999.0,9,     -999.0,     -999.0,9,     -999.0,  -999.0,9,     -999.0,     -999.0,9,     -999.0,   2.8500,    34.7721,2,-999.0000,3,     -999.0,9
33RO20150410,     P16N.1,      70,          1,          8,          8,2,20150429,       0622,     3.1203,  -151.0001,       5176,  1867.7,   2.4618,  34.6329,2,  34.6334,2,     96.9,2,    97.4,2,  133.50,2,   40.30,2,    0.01,2,    2.75,2,-999.000,9,-999.000,9,-999.000,9,  -999.0,9,  -999.0,9,-999.0000,9,  -999.00,-999.000,9,-999.0000,9, -999.00,9,   2.4614, -999.00,9,  -999.0,9,  -999.0,-999.000,9,-999.000,  -999.0,9, -999.00,9,     -999.0,9, -999.00,9,-999.000,-999.0000, -999.00,     -999.0,     -999.0,9,     -999.0,     -999.0,9,     -999.0,  -999.0,9,     -999.0,     -999.0,9,     -999.0,   2.3297,    34.7967,2,-999.0000,3,     -999.0,9
33RO20150410,     P16N.1,      70,          1,          7,          7,2,20150429,       0622,     3.1203,  -151.0001,       5176,  2333.3,   1.9391,  34.6618,2,  34.6629,2,    113.3,2,   113.3,2,  145.30,2,   39.00,2,    0.00,2,    2.69,2,-999.000,9,-999.000,9,-999.000,9,  -999.0,9,  -999.0,9,-999.0000,9,  -999.00,-999.000,9,-999.0000,9, -999.00,9,   1.9389, -999.00,9,  -999.0,9,  -999.0,-999.000,9,-999.000,  -999.0,9, -999.00,9,     -999.0,9, -999.00,9,-999.000,-999.0000, -999.00,     -999.0,     -999.0,9,     -999.0,     -999.0,9,     -999.0,  -999.0,9,     -999.0,     -999.0,9,     -999.0,   1.7748,    34.8264,2,-999.0000,3,     -999.0,9
33RO20150410,     P16N.1,      70,          1,          6,          6,2,20150429,       0622,     3.1203,  -151.0001,       5176,  2832.0,   1.7642,  34.6716,2,  34.6720,2,    123.4,2,   123.3,2,  147.50,2,   38.50,2,    0.00,2,    2.62,2,-999.000,9,-999.000,9,-999.000,9,  -999.0,9,  -999.0,9,-999.0000,9,  -999.00,-999.000,9,-999.0000,9, -999.00,9,   1.7640, -999.00,9,  -999.0,9,  -999.0,-999.000,9,-999.000,  -999.0,9, -999.00,9,     -999.0,9, -999.00,9,-999.000,-999.0000, -999.00,     -999.0,     -999.0,9,     -999.0,     -999.0,9,     -999.0,  -999.0,9,     -999.0,     -999.0,9,     -999.0,   1.5576,    34.8355,6,-999.0000,3,     -999.0,9
33RO20150410,     P16N.1,      70,          1,          5,          5,2,20150429,       0622,     3.1203,  -151.0001,       5176,  3331.4,   1.5206,  34.6851,2,  34.6910,4,    142.7,2,   143.2,2,  145.90,2,   37.30,2,    0.00,2,    2.53,2,-999.000,9,-999.000,9,-999.000,9,  -999.0,9,  -999.0,9,-999.0000,9,  -999.00,-999.000,9,-999.0000,9, -999.00,9,   1.5202, -999.00,9,  -999.0,9,  -999.0,-999.000,9,-999.000,  -999.0,9, -999.00,9,     -999.0,9, -999.00,9,-999.000,-999.0000, -999.00,     -999.0,     -999.0,9,     -999.0,     -999.0,9,     -999.0,  -999.0,9,     -999.0,     -999.0,9,     -999.0,   1.2709,    34.8546,3,-999.0000,2,     -999.0,9
33RO20150410,     P16N.1,      70,          1,          4,          4,2,20150429,       0622,     3.1203,  -151.0001,       5176,  3817.8,   1.4315,  34.6924,2,  34.6913,2,    155.5,2,   155.8,2,  142.40,6,   36.40,6,    0.00,6,    2.44,6,-999.000,9,-999.000,9,-999.000,9,  -999.0,9,  -999.0,9,-999.0000,9,  -999.00,-999.000,9,-999.0000,9, -999.00,9,   1.4316, -999.00,9,  -999.0,9,  -999.0,-999.000,9,-999.000,  -999.0,9, -999.00,9,     -999.0,9, -999.00,9,-999.000,-999.0000, -999.00,     -999.0,     -999.0,9,     -999.0,     -999.0,9,     -999.0,  -999.0,9,     -999.0,     -999.0,9,     -999.0,   1.1340,    34.8548,2,-999.0000,2,     -999.0,9
33RO20150410,     P16N.1,      70,          1,          3,          3,2,20150429,       0622,     3.1203,  -151.0001,       5176,  4208.0,   1.3768,  34.6963,2,  34.6964,2,    166.4,2,   166.3,2,  136.80,6,   35.70,6,    0.00,6,    2.39,6,-999.000,9,-999.000,9,-999.000,9,  -999.0,9,  -999.0,9,-999.0000,9,  -999.00,-999.000,9,-999.0000,9, -999.00,9,   1.3768, -999.00,9,  -999.0,9,  -999.0,-999.000,9,-999.000,  -999.0,9, -999.00,9,     -999.0,9, -999.00,9,-999.000,-999.0000, -999.00,     -999.0,     -999.0,9,     -999.0,     -999.0,9,     -999.0,  -999.0,9,     -999.0,     -999.0,9,     -999.0,   1.0385,    34.8600,2,-999.0000,2,     -999.0,9
33RO20150410,     P16N.1,      70,          1,          2,          2,2,20150429,       0622,     3.1203,  -151.0001,       5176,  4833.7,   1.4161,  34.6976,2,  34.6980,2,    171.1,2,   169.7,2,  135.10,6,   35.40,6,    0.01,6,    2.37,6,-999.000,9,-999.000,9,-999.000,9,  -999.0,9,  -999.0,9,-999.0000,9,  -999.00,-999.000,9,-999.0000,9, -999.00,9,   1.4161, -999.00,9,  -999.0,9,  -999.0,-999.000,9,-999.000,  -999.0,9, -999.00,9,     -999.0,9, -999.00,9,-999.000,-999.0000, -999.00,     -999.0,     -999.0,9,     -999.0,     -999.0,9,     -999.0,  -999.0,9,     -999.0,     -999.0,9,     -999.0,   1.0045,    34.8616,2,-999.0000,2,     -999.0,9
33RO20150410,     P16N.1,      70,          1,          1,          1,2,20150429,       0622,     3.1203,  -151.0001,       5176,  5166.6,   1.4560,  34.6979,2,  34.7015,2,    171.4,2,   170.3,2,  134.70,6,   35.30,6,    0.01,6,    2.36,6,-999.000,9,-999.000,9,-999.000,9,  -999.0,9,  -999.0,9,-999.0000,9,  -999.00,-999.000,9,-999.0000,9, -999.00,9,   1.4560, -999.00,9,  -999.0,9,  -999.0,-999.000,9,-999.000,  -999.0,9, -999.00,9,     -999.0,9, -999.00,9,-999.000,-999.0000, -999.00,     -999.0,     -999.0,9,     -999.0,     -999.0,9,     -999.0,  -999.0,9,     -999.0,     -999.0,9,     -999.0,   1.0027,    34.8651,3,-999.0000,2,     -999.0,9