BOTTLE,20210709CCHSIOCBG
EXPOCODE,SECT_ID,STNNBR,CASTNO,SAMPNO,BTLNBR,BTLNBR_FLAG_W,DATE,TIME,LATITUDE,LONGITUDE,DEPTH,CTDPRS,CTDTMP,CTDSAL,CTDSAL_FLAG_W,SALNTY,SALNTY_FLAG_W,CTDOXY,CTDOXY_FLAG_W,OXYGEN,OXYGEN_FLAG_W,SILCAT,SILCAT_FLAG_W,NITRAT,NITRAT_FLAG_W,NITRIT,NITRIT_FLAG_W,PHSPHT,PHSPHT_FLAG_W,CFC-11,CFC-11_FLAG_W,CFC-12,CFC-12_FLAG_W,SF6,SF6_FLAG_W,TCARBN,TCARBN_FLAG_W,ALKALI,ALKALI_FLAG_W,PH_TOT,PH_TOT_FLAG_W,PH_TMP,TRITUM,TRITUM_FLAG_W,HELIUM,HELIUM_FLAG_W,DELHE3,DELHE3_FLAG_W,REFTMP,DELC13,DELC13_FLAG_W,DELC14,DELC14_FLAG_W,C14ERR,NEON,NEON_FLAG_W,NEONER,DOC,DOC_FLAG_W,TDN,TDN_FLAG_W,N2O,N2O_FLAG_W,ARGON,ARGON_FLAG_W,TRITER,HELIER,DELHER,ARGONER,KRYPTON,KRYPTON_FLAG_W,KRYPTONER,XENON,XENON_FLAG_W,XENONER,14C-DOC,14C-DOC_FLAG_W,14C-DOCERR,13C-DOC,13C-DOC_FLAG_W,13C-DOCERR,THETA,SALTREF,SALTREF_FLAG_W,SBE35,SBE35_FLAG_W,CHLORA,CHLORA_FLAG_W
,,,,,,,,,,,METERS,DBAR,ITS-90,PSS-78,,PSS-78,,UMOL/KG,,UMOL/KG,,UMOL/KG,,UMOL/KG,,UMOL/KG,,UMOL/KG,,PMOL/KG,,PMOL/KG,,FMOL/KG,,UMOL/KG,,UMOL/KG,,,,DEG C,TU,,NMOL/KG,,PERCNT,,DEG C,/MILLE,,/MILLE,,/MILLE,NMOL/KG,,NMOL/KG,UMOL/KG,,UMOL/KG,,NMOL/KG,,UMOL/KG,,TU,NMOL/KG,PERCNT,UMOL/KG,NMOL/KG,,NMOL/KG,NMOL/KG,,NMOL/KG,/MILLE,,/MILLE,/MILLE,,/MILLE,DEG C,G/KG,,ITS-90,,MG/M3,
33RO20150410,     P16N.1,      25,          1,         24,         24,2,20150418,       0545,    -5.1000,  -151.0016,       5195,    10.6,  28.5978,  35.2730,2,  35.2830,2,    198.6,2,   199.2,2,    1.90,2,    4.20,2,    0.11,2,    0.40,4,-999.000,9,-999.000,9,-999.000,9,  2018.1,6,  2322.2,2,   8.0417,2,    25.01,-999.000,9,-999.0000,9, -999.00,9,  28.5972,    1.01,2,    37.8,2,     2.0,-999.000,9,-999.000,    63.3,2, -999.00,9,     -999.0,9, -999.00,9,-999.000,-999.0000, -999.00,     -999.0,     -999.0,9,     -999.0,     -999.0,9,     -999.0,  -999.0,9,     -999.0,     -999.0,9,     -999.0,  28.5953,    35.4494,2,-999.0000,2,     -999.0,9
33RO20150410,     P16N.1,      25,          1,         23,         23,2,20150418,       0545,    -5.1000,  -151.0016,       5195,    25.3,  28.5284,  35.2671,2,  35.2782,2,    199.3,2,   198.1,2,    1.90,2,    4.20,2,    0.11,2,    0.40,4,-999.000,9,-999.000,9,-999.000,9,  2017.4,2,  2321.7,6,   8.0418,2,    24.99,-999.000,9,-999.0000,9, -999.00,9,  28.5273, -999.00,9,  -999.0,9,  -999.0,-999.000,9,-999.000,    65.5,2,    9.40,2,     -999.0,9, -999.00,9,-999.000,-999.0000, -999.00,     -999.0,     -999.0,9,     -999.0,     -999.0,9,     -999.0,  -999.0,9,     -999.0,     -999.0,9,     -999.0,  28.5224,    35.4446,6,-999.0000,2,     -999.0,9
33RO20150410,     P16N.1,      25,          1,         22,         22,2,20150418,       0545,    -5.1000,  -151.0016,       5195,    50.1,  28.4638,  35.4068,2,  35.4062,2,    198.5,2,   199.3,2,    2.00,2,    4.30,2,    0.09,2,    0.42,4,-999.000,9,-999.000,9,-999.000,9,  2021.6,2,  2325.7,2,   8.0468,6,    25.00,-999.000,9,-999.0000,9, -999.00,9,  28.4673,    1.04,2,    37.1,2,     2.1,-999.000,9,-999.000,    67.0,2,    9.60,2,     -999.0,9, -999.00,9,-999.000,-999.0000, -999.00,     -999.0,     -999.0,9,     -999.0,     -999.0,9,     -999.0,  -999.0,9,     -999.0,     -999.0,9,     -999.0,  28.4518,    35.5731,2,-999.0000,2,     -999.0,9
33RO20150410,     P16N.1,      25,          1,         21,         21,2,20150418,       0545,    -5.1000,  -151.0016,       5195,    74.9,  28.0582,  35.4229,2,  35.4346,2,    196.3,2,   196.1,2,    2.00,2,    4.60,2,    0.11,2,    0.47,4,-999.000,9,-999.000,9,-999.000,9,  2029.3,2,  2331.8,2,   8.0357,2,    24.99,-999.000,9,-999.0000,9, -999.00,9,  28.0608,    0.99,2,    36.0,2,     2.6,-999.000,9,-999.000,    62.4,2,    9.70,2,     -999.0,9, -999.00,9,-999.000,-999.0000, -999.00,     -999.0,     -999.0,9,     -999.0,     -999.0,9,     -999.0,  -999.0,9,     -999.0,     -999.0,9,     -999.0,  28.0405,    35.6017,2,-999.0000,2,     -999.0,9
33RO20150410,     P16N.1,      25,          1,         20,         20,2,20150418,       0545,    -5.1000,  -151.0016,       5195,    99.6,  27.6507,  35.5247,2,  35.5421,2,    187.4,2,   186.2,2,    2.10,2,    4.60,2,    0.65,2,    0.54,4,-999.000,9,-999.000,9,-999.000,9,  2043.6,2,  2339.8,2,   8.0251,6,    25.00,-999.000,9,-999.0000,9, -999.00,9,  27.7109,    0.91,2,    34.0,2,     2.1,-999.000,9,-999.000,    60.7,2,    9.20,2,     -999.0,9, -999.00,9,-999.000,-999.0000, -999.00,     -999.0,     -999.0,9,     -999.0,     -999.0,9,     -999.0,  -999.0,9,     -999.0,     -999.0,9,     -999.0,  27.6274,    35.7097,2,-999.0000,2,     -999.0,9
33RO20150410,     P16N.1,      25,          1,         19,         19,2,20150418,       0545,    -5.1000,  -151.0016,       5195,   149.5,  26.2397,  36.1527,2,  36.1541,2,    164.4,2,   164.4,2,    1.70,2,    4.80,2,    0.94,2,    0.55,4,-999.000,9,-999.000,9,-999.000,9,  2078.5,2,  2383.8,2,   8.0209,2,    24.98,-999.000,9,-999.0000,9, -999.00,9,  26.2392,    0.92,2,    36.2,2,     2.2,-999.000,9,-999.000,    60.4,2,   10.30,2,     -999.0,9, -999.00,9,-999.000,-999.0000, -999.00,     -999.0,     -999.0,9,     -999.0,     -999.0,9,     -999.0,  -999.0,9,     -999.0,     -999.0,9,     -999.0,  26.2060,    36.3246,2,-999.0000,2,     -999.0,9
33RO20150410,     P16N.1,      25,          1,         18,         18,2,20150418,       0545,    -5.1000,  -151.0016,       5195,   225.1,  15.2422,  35.0927,2,  35.0868,2,     80.2,2,    78.0,2,    9.30,2,   20.00,2,    0.01,2,    1.54,4,-999.000,9,-999.000,9,-999.000,9,  2197.7,2,  2312.9,2,   7.6458,2,    24.99,-999.000,9,-999.0000,9, -999.00,9,  15.1920,    0.25,2,    33.5,2,     2.0,-999.000,9,-999.000,    49.3,2,   22.70,2,     -999.0,9, -999.00,9,-999.000,-999.0000, -999.00,     -999.0,     -999.0,9,     -999.0,     -999.0,9,     -999.0,  -999.0,9,     -999.0,     -999.0,9,     -999.0,  15.2077,    35.2522,2,-999.0000,2,     -999.0,9
33RO20150410,     P16N.1,      25,          1,         17,         17,2,20150418,       0545,    -5.1000,  -151.0016,       5195,   300.1,  11.1015,  34.8155,2,  34.8157,2,     21.7,2,    23.9,2,   26.50,2,   34.10,2,    0.01,2,    2.20,4,-999.000,9,-999.000,9,-999.000,9,  2254.1,2,  2303.0,2,   7.4523,2,    25.00,-999.000,9,-999.0000,9, -999.00,9,  11.0975,   -0.02,2,   -35.7,2,     2.0,-999.000,9,-999.000,    43.6,2,   36.10,2,     -999.0,9, -999.00,9,-999.000,-999.0000, -999.00,     -999.0,     -999.0,9,     -999.0,     -999.0,9,     -999.0,  -999.0,9,     -999.0,     -999.0,9,     -999.0,  11.0642,    34.9798,2,-999.0000,2,     -999.0,9
33RO20150410,     P16N.1,      25,          1,         16,         16,2,20150418,       0545,    -5.1000,  -151.0016,       5195,   400.6,   9.4646,  34.7080,2,  34.7079,2,     56.6,2,    52.5,2,   28.90,2,   34.80,2,    0.00,2,    2.16,4,-999.000,9,-999.000,9,-999.000,9,  2244.3,2,  2302.1,2,   7.4863,6,    25.00,-999.000,9,-999.0000,9, -999.00,9,   9.4636,    0.24,2,   -61.2,2,     2.5,-999.000,9,-999.000,    41.9,2, -999.00,9,     -999.0,9, -999.00,9,-999.000,-999.0000, -999.00,     -999.0,     -999.0,9,     -999.0,     -999.0,9,     -999.0,  -999.0,9,     -999.0,     -999.0,9,     -999.0,   9.4194,    34.8716,2,-999.0000,2,     -999.0,9
33RO20150410,     P16N.1,      25,          1,         15,         15,2,20150418,       0545,    -5.1000,  -151.0016,       5195,   499.7,   8.5710,  34.6496,2,  34.6494,2,     66.5,2,    68.1,2,   31.20,2,   35.60,2,    0.01,2,    2.19,4,-999.000,9,-999.000,9,-999.000,9,  2240.1,2,  2303.3,2,   7.4979,6,    25.00,-999.000,9,-999.0000,9, -999.00,9,   8.5729,    0.36,2,   -72.2,2,     1.8,-999.000,9,-999.000,    43.2,2, -999.00,9,     -999.0,9, -999.00,9,-999.000,-999.0000, -999.00,     -999.0,     -999.0,9,     -999.0,     -999.0,9,     -999.0,  -999.0,9,     -999.0,     -999.0,9,     -999.0,   8.5176,    34.8127,2,-999.0000,2,     -999.0,9
33RO20150410,     P16N.1,      25,          1,         14,         14,2,20150418,       0545,    -5.1000,  -151.0016,       5195,   649.9,   6.6298,  34.5636,2,  34.5639,2,     54.6,2,    54.5,2,   48.50,2,   41.60,2,    0.00,2,    2.58,4,-999.000,9,-999.000,9,-999.000,9,  2274.1,2,  2314.9,2,   7.4320,2,    24.98,-999.000,9,-999.0000,9, -999.00,9,   6.6226,    0.22,2,  -123.4,2,     2.0,-999.000,9,-999.000,    43.7,2, -999.00,9,     -999.0,9, -999.00,9,-999.000,-999.0000, -999.00,     -999.0,     -999.0,9,     -999.0,     -999.0,9,     -999.0,  -999.0,9,     -999.0,     -999.0,9,     -999.0,   6.5692,    34.7269,2,-999.0000,2,     -999.0,9
33RO20150410,     P16N.1,      25,          1,         13,         13,2,20150418,       0545,    -5.1000,  -151.0016,       5195,   799.5,   5.4610,  34.5423,2,  34.5425,2,     66.9,2,    65.4,2,   63.90,2,   42.20,2,    0.01,2,    2.68,4,-999.000,9,-999.000,9,-999.000,9,  2285.9,2,  2329.8,2,   7.4382,6,    25.00,-999.000,9,-999.0000,9, -999.00,9,   5.4734,    0.13,2,  -149.8,2,     1.8,-999.000,9,-999.000,    40.2,2, -999.00,9,     -999.0,9, -999.00,9,-999.000,-999.0000, -999.00,     -999.0,     -999.0,9,     -999.0,     -999.0,9,     -999.0,  -999.0,9,     -999.0,     -999.0,9,     -999.0,   5.3927,    34.7054,2,-999.0000,2,     -999.0,9
33RO20150410,     P16N.1,      25,          1,         12,         12,2,20150418,       0545,    -5.1000,  -151.0016,       5195,   949.4,   4.5968,  34.5435,2,  34.5435,2,     88.1,2,    88.0,2,   77.40,2,   40.70,2,    0.00,2,    2.64,4,-999.000,9,-999.000,9,-999.000,9,  2289.8,6,  2346.0,2,   7.4750,2,    24.98,-999.000,9,-999.0000,9, -999.00,9,   4.5975, -999.00,9,  -999.0,9,  -999.0,-999.000,9,-999.000,    37.7,2, -999.00,9,     -999.0,9, -999.00,9,-999.000,-999.0000, -999.00,     -999.0,     -999.0,9,     -999.0,     -999.0,9,     -999.0,  -999.0,9,     -999.0,     -999.0,9,     -999.0,   4.5209,    34.7064,2,-999.0000,2,     -999.0,9
33RO20150410,     P16N.1,      25,          1,         11,         11,2,20150418,       0545,    -5.1000,  -151.0016,       5195,  1100.1,   3.9301,  34.5587,2,  34.5584,2,    103.4,2,   102.8,2,   90.40,2,   39.80,2,    0.01,2,    2.63,4,-999.000,9,-999.000,9,-999.000,9,  2297.8,2,  2361.7,2,   7.4986,2,    25.00,-999.000,9,-999.0000,9, -999.00,9,   3.9277, -999.00,9,  -999.0,9,  -999.0,-999.000,9,-999.000,    38.3,2, -999.00,9,     -999.0,9, -999.00,9,-999.000,-999.0000, -999.00,     -999.0,     -999.0,9,     -999.0,     -999.0,9,     -999.0,  -999.0,9,     -999.0,     -999.0,9,     -999.0,   3.8465,    34.7214,2,-999.0000,2,     -999.0,9
33RO20150410,     P16N.1,      25,          1,         10,         10,2,20150418,       0545,    -5.1000,  -151.0016,       5195,  1300.4,   3.2802,  34.5847,2,  34.5847,2,    106.9,2,   106.9,2,  106.00,2,   39.80,2,    0.00,2,    2.65,4,-999.000,9,-999.000,9,-999.000,9,  2312.3,2,  2378.3,2,   7.5048,2,    24.98,-999.000,9,-999.0000,9, -999.00,9,   3.2796, -999.00,9,  -999.0,9,  -999.0,-999.000,9,-999.000,    37.8,2, -999.00,9,     -999.0,9, -999.00,9,-999.000,-999.0000, -999.00,     -999.0,     -999.0,9,     -999.0,     -999.0,9,     -999.0,  -999.0,9,     -999.0,     -999.0,9,     -999.0,   3.1859,    34.7478,2,-999.0000,2,     -999.0,9
33RO20150410,     P16N.1,      25,          1,          9,          9,2,20150418,       0545,    -5.1000,  -151.0016,       5195,  1599.9,   2.7874,  34.6133,2,  34.6137,2,    100.5,2,   100.5,2,  123.80,2,   40.90,2,    0.01,2,    2.76,4,-999.000,9,-999.000,9,-999.000,9,  2333.5,2,  2393.8,2,   7.4934,2,    24.99,-999.000,9,-999.0000,9, -999.00,9,   2.7871, -999.00,9,  -999.0,9,  -999.0,-999.000,9,-999.000,    39.1,2, -999.00,9,     -999.0,9, -999.00,9,-999.000,-999.0000, -999.00,     -999.0,     -999.0,9,     -999.0,     -999.0,9,     -999.0,  -999.0,9,     -999.0,     -999.0,9,     -999.0,   2.6736,    34.7769,2,-999.0000,2,     -999.0,9
33RO20150410,     P16N.1,      25,          1,          8,          8,2,20150418,       0545,    -5.1000,  -151.0016,       5195,  2000.1,   2.2994,  34.6398,2,  34.6397,2,    112.4,2,   111.9,2,  135.30,2,   40.00,2,    0.01,2,    2.71,4,-999.000,9,-999.000,9,-999.000,9,  2339.3,2,  2411.3,2,   7.5150,2,    24.99,-999.000,9,-999.0000,9, -999.00,9,   2.2989, -999.00,9,  -999.0,9,  -999.0,-999.000,9,-999.000,    36.9,2, -999.00,9,     -999.0,9, -999.00,9,-999.000,-999.0000, -999.00,     -999.0,     -999.0,9,     -999.0,     -999.0,9,     -999.0,  -999.0,9,     -999.0,     -999.0,9,     -999.0,   2.1584,    34.8031,2,-999.0000,2,     -999.0,9
33RO20150410,     P16N.1,      25,          1,          7,          7,2,20150418,       0545,    -5.1000,  -151.0016,       5195,  2399.8,   1.9814,  34.6573,2,  34.6592,2,    126.2,2,   127.1,2,  138.40,2,   38.90,2,    0.01,2,    2.65,4,-999.000,9,-999.000,9,-999.000,9,  2336.6,2,  2415.9,2,   7.5395,2,    24.99,-999.000,9,-999.0000,9, -999.00,9,   1.9815, -999.00,9,  -999.0,9,  -999.0,-999.000,9,-999.000,    38.4,2, -999.00,9,     -999.0,9, -999.00,9,-999.000,-999.0000, -999.00,     -999.0,     -999.0,9,     -999.0,     -999.0,9,     -999.0,  -999.0,9,     -999.0,     -999.0,9,     -999.0,   1.8105,    34.8226,2,-999.0000,2,     -999.0,9
33RO20150410,     P16N.1,      25,          1,          6,          6,2,20150418,       0545,    -5.1000,  -151.0016,       5195,  2800.6,   1.7790,  34.6725,2,  34.6725,2,    137.5,2,   137.4,2,  140.90,2,   38.00,2,    0.01,2,    2.60,4,-999.000,9,-999.000,9,-999.000,9,  2331.0,2,  2421.3,2,   7.5609,2,    24.99,-999.000,9,-999.0000,9, -999.00,9,   1.7788, -999.00,9,  -999.0,9,  -999.0,-999.000,9,-999.000,    36.0,2, -999.00,9,     -999.0,9, -999.00,9,-999.000,-999.0000, -999.00,     -999.0,     -999.0,9,     -999.0,     -999.0,9,     -999.0,  -999.0,9,     -999.0,     -999.0,9,     -999.0,   1.5751,    34.8360,2,-999.0000,2,     -999.0,9
33RO20150410,     P16N.1,      25,          1,          5,          5,2,20150418,       0545,    -5.1000,  -151.0016,       5195,  3199.8,   1.6188,  34.6811,2,  34.6809,2,    149.7,2,   149.2,2,  140.30,2,   37.30,2,    0.02,2,    2.54,4,-999.000,9,-999.000,9,-999.000,9,  2325.4,2,  2419.5,2,   7.5762,2,    24.99,-999.000,9,-999.0000,9, -999.00,9,   1.6189, -999.00,9,  -999.0,9,  -999.0,-999.000,9,-999.000,    36.3,2, -999.00,9,     -999.0,9, -999.00,9,-999.000,-999.0000, -999.00,     -999.0,     -999.0,9,     -999.0,     -999.0,9,     -999.0,  -999.0,9,     -999.0,     -999.0,9,     -999.0,   1.3799,    34.8444,2,-999.0000,2,     -999.0,9
33RO20150410,     P16N.1,      25,          1,          4,          4,2,20150418,       0545,    -5.1000,  -151.0016,       5195,  3699.4,   1.4734,  34.6901,2,  34.6894,2,    162.1,2,   161.6,2,  138.80,6,   36.50,6,    0.00,6,    2.47,4,-999.000,9,-999.000,9,-999.000,9,  2315.8,2,  2415.8,2,   7.5909,2,    25.00,-999.000,9,-999.0000,9, -999.00,9,   1.4731, -999.00,9,  -999.0,9,  -999.0,-999.000,9,-999.000,    37.1,2, -999.00,9,     -999.0,9, -999.00,9,-999.000,-999.0000, -999.00,     -999.0,     -999.0,9,     -999.0,     -999.0,9,     -999.0,  -999.0,9,     -999.0,     -999.0,9,     -999.0,   1.1872,    34.8530,2,-999.0000,2,     -999.0,9
33RO20150410,     P16N.1,      25,          1,          3,          3,2,20150418,       0545,    -5.1000,  -151.0016,       5195,  4200.4,   1.3473,  34.6986,2,  34.6981,2,    177.6,2,   177.2,2,  132.40,6,   35.40,6,    0.01,6,    2.39,4,-999.000,9,-999.000,9,-999.000,9,  2298.3,2,  2402.1,2,   7.6022,6,    24.99,-999.000,9,-999.0000,9, -999.00,9,   1.3472, -999.00,9,  -999.0,9,  -999.0,-999.000,9,-999.000,    38.4,2, -999.00,9,     -999.0,9, -999.00,9,-999.000,-999.0000, -999.00,     -999.0,     -999.0,9,     -999.0,     -999.0,9,     -999.0,  -999.0,9,     -999.0,     -999.0,9,     -999.0,   1.0106,    34.8617,2,-999.0000,2,     -999.0,9
33RO20150410,     P16N.1,      25,          1,          2,          2,2,20150418,       0545,    -5.1000,  -151.0016,       5195,  4698.9,   1.3261,  34.7021,2,  34.7024,2,    186.9,2,   186.0,2,  127.70,6,   34.80,6,    0.00,6,    2.34,4,-999.000,9,-999.000,9,-999.000,9,  2286.7,2,  2391.8,6,   7.6054,2,    25.00,-999.000,9,-999.0000,9, -999.00,9,   1.3262, -999.00,9,  -999.0,9,  -999.0,-999.000,9,-999.000,    39.4,2, -999.00,9,     -999.0,9, -999.00,9,-999.000,-999.0000, -999.00,     -999.0,     -999.0,9,     -999.0,     -999.0,9,     -999.0,  -999.0,9,     -999.0,     -999.0,9,     -999.0,   0.9333,    34.8660,2,-999.0000,2,     -999.0,9
33RO20150410,     P16N.1,      25,          1,          1,          1,2,20150418,       0545,    -5.1000,  -151.0016,       5195,  5185.6,   1.3527,  34.7033,2,  34.7028,2,    191.6,2,   190.3,2,  125.00,6,   34.50,6,    0.01,6,    2.33,4,-999.000,9,-999.000,9,-999.000,9,  2280.4,6,  2384.9,2,   7.6056,2,    25.00,-999.000,9,-999.0000,9, -999.00,9,   1.3523, -999.00,9,  -999.0,9,  -999.0,-999.000,9,-999.000,    40.6,2, -999.00,9,     -999.0,9, -999.00,9,-999.000,-999.0000, -999.00,     -999.0,     -999.0,9,     -999.0,     -999.0,9,     -999.0,  -999.0,9,     -999.0,     -999.0,9,     -999.0,   0.9006,    34.8664,2,-999.0000,2,     -999.0,9