BOTTLE,20210709CCHSIOCBG
EXPOCODE,SECT_ID,STNNBR,CASTNO,SAMPNO,BTLNBR,BTLNBR_FLAG_W,DATE,TIME,LATITUDE,LONGITUDE,DEPTH,CTDPRS,CTDTMP,CTDSAL,CTDSAL_FLAG_W,SALNTY,SALNTY_FLAG_W,CTDOXY,CTDOXY_FLAG_W,OXYGEN,OXYGEN_FLAG_W,SILCAT,SILCAT_FLAG_W,NITRAT,NITRAT_FLAG_W,NITRIT,NITRIT_FLAG_W,PHSPHT,PHSPHT_FLAG_W,CFC-11,CFC-11_FLAG_W,CFC-12,CFC-12_FLAG_W,SF6,SF6_FLAG_W,TCARBN,TCARBN_FLAG_W,ALKALI,ALKALI_FLAG_W,PH_TOT,PH_TOT_FLAG_W,PH_TMP,TRITUM,TRITUM_FLAG_W,HELIUM,HELIUM_FLAG_W,DELHE3,DELHE3_FLAG_W,REFTMP,DELC13,DELC13_FLAG_W,DELC14,DELC14_FLAG_W,C14ERR,NEON,NEON_FLAG_W,NEONER,DOC,DOC_FLAG_W,TDN,TDN_FLAG_W,N2O,N2O_FLAG_W,ARGON,ARGON_FLAG_W,TRITER,HELIER,DELHER,ARGONER,KRYPTON,KRYPTON_FLAG_W,KRYPTONER,XENON,XENON_FLAG_W,XENONER,14C-DOC,14C-DOC_FLAG_W,14C-DOCERR,13C-DOC,13C-DOC_FLAG_W,13C-DOCERR,THETA,SALTREF,SALTREF_FLAG_W,SBE35,SBE35_FLAG_W,CHLORA,CHLORA_FLAG_W
,,,,,,,,,,,METERS,DBAR,ITS-90,PSS-78,,PSS-78,,UMOL/KG,,UMOL/KG,,UMOL/KG,,UMOL/KG,,UMOL/KG,,UMOL/KG,,PMOL/KG,,PMOL/KG,,FMOL/KG,,UMOL/KG,,UMOL/KG,,,,DEG C,TU,,NMOL/KG,,PERCNT,,DEG C,/MILLE,,/MILLE,,/MILLE,NMOL/KG,,NMOL/KG,UMOL/KG,,UMOL/KG,,NMOL/KG,,UMOL/KG,,TU,NMOL/KG,PERCNT,UMOL/KG,NMOL/KG,,NMOL/KG,NMOL/KG,,NMOL/KG,/MILLE,,/MILLE,/MILLE,,/MILLE,DEG C,G/KG,,ITS-90,,MG/M3,
33RO20150410,     P16N.1,      43,          1,         24,         24,2,20150422,       2122,    -1.2297,  -150.9998,       4979,     5.5,  28.7147,  35.3180,2,  35.3173,2,    199.1,2,   200.4,2,    2.20,2,    3.40,2,    0.15,2,    0.42,4,-999.000,9,-999.000,9,-999.000,9,  2016.5,2,  2323.9,6,   8.0423,2,    24.99,-999.000,9,-999.0000,9, -999.00,9,-999.0000, -999.00,9,  -999.0,9,  -999.0,-999.000,9,-999.000,  -999.0,9, -999.00,9,     -999.0,9, -999.00,9,-999.000,-999.0000, -999.00,     -999.0,     -999.0,9,     -999.0,     -999.0,9,     -999.0,  -999.0,9,     -999.0,     -999.0,9,     -999.0,  28.7134,    35.4838,2,-999.0000,2,      0.126,2
33RO20150410,     P16N.1,      43,          1,         23,         23,2,20150422,       2122,    -1.2297,  -150.9998,       4979,    20.0,  28.5932,  35.3155,2,  35.3149,2,    200.0,2,   200.7,2,    1.70,2,    3.40,2,    0.15,2,    0.42,4,-999.000,9,-999.000,9,-999.000,9,  -999.0,9,  -999.0,9,-999.0000,9,  -999.00,-999.000,9,-999.0000,9, -999.00,9,-999.0000, -999.00,9,  -999.0,9,  -999.0,-999.000,9,-999.000,  -999.0,9, -999.00,9,     -999.0,9, -999.00,9,-999.000,-999.0000, -999.00,     -999.0,     -999.0,9,     -999.0,     -999.0,9,     -999.0,  -999.0,9,     -999.0,     -999.0,9,     -999.0,  28.5884,    35.4815,2,-999.0000,2,      0.155,2
33RO20150410,     P16N.1,      43,          1,         22,         22,2,20150422,       2122,    -1.2297,  -150.9998,       4979,    42.1,  28.0293,  35.3085,2,  35.3628,2,    199.2,2,   200.5,2,    1.90,2,    3.90,2,    0.16,2,    0.47,4,-999.000,9,-999.000,9,-999.000,9,  -999.0,9,  -999.0,9,-999.0000,9,  -999.00,-999.000,9,-999.0000,9, -999.00,9,-999.0000, -999.00,9,  -999.0,9,  -999.0,-999.000,9,-999.000,  -999.0,9, -999.00,9,     -999.0,9, -999.00,9,-999.000,-999.0000, -999.00,     -999.0,     -999.0,9,     -999.0,     -999.0,9,     -999.0,  -999.0,9,     -999.0,     -999.0,9,     -999.0,  28.0194,    35.5295,3,-999.0000,2,      0.232,2
33RO20150410,     P16N.1,      43,          1,         21,         21,2,20150422,       2122,    -1.2297,  -150.9998,       4979,    66.7,  27.3459,  35.2461,2,  35.2533,2,    193.2,2,   194.3,2,    2.20,2,    4.50,2,    0.29,2,    0.53,4,-999.000,9,-999.000,9,-999.000,9,  -999.0,9,  -999.0,9,-999.0000,9,  -999.00,-999.000,9,-999.0000,9, -999.00,9,-999.0000, -999.00,9,  -999.0,9,  -999.0,-999.000,9,-999.000,  -999.0,9, -999.00,9,     -999.0,9, -999.00,9,-999.000,-999.0000, -999.00,     -999.0,     -999.0,9,     -999.0,     -999.0,9,     -999.0,  -999.0,9,     -999.0,     -999.0,9,     -999.0,  27.3304,    35.4195,2,-999.0000,2,      0.359,2
33RO20150410,     P16N.1,      43,          1,         20,         20,2,20150422,       2122,    -1.2297,  -150.9998,       4979,    90.8,  27.1888,  35.2390,2,  35.2418,2,    190.5,2,   191.3,2,    2.10,2,    4.60,2,    0.26,2,    0.58,4,-999.000,9,-999.000,9,-999.000,9,  -999.0,9,  -999.0,9,-999.0000,9,  -999.00,-999.000,9,-999.0000,9, -999.00,9,-999.0000, -999.00,9,  -999.0,9,  -999.0,-999.000,9,-999.000,  -999.0,9, -999.00,9,     -999.0,9, -999.00,9,-999.000,-999.0000, -999.00,     -999.0,     -999.0,9,     -999.0,     -999.0,9,     -999.0,  -999.0,9,     -999.0,     -999.0,9,     -999.0,  27.1678,    35.4080,2,-999.0000,2,      0.242,2
33RO20150410,     P16N.1,      43,          1,         19,         19,2,20150422,       2122,    -1.2297,  -150.9998,       4979,   132.9,  25.0926,  35.5434,2,  35.5486,2,    160.5,2,   161.7,2,    2.50,2,    7.50,2,    1.40,2,    0.77,4,-999.000,9,-999.000,9,-999.000,9,  -999.0,9,  -999.0,9,-999.0000,9,  -999.00,-999.000,9,-999.0000,9, -999.00,9,-999.0000, -999.00,9,  -999.0,9,  -999.0,-999.000,9,-999.000,  -999.0,9, -999.00,9,     -999.0,9, -999.00,9,-999.000,-999.0000, -999.00,     -999.0,     -999.0,9,     -999.0,     -999.0,9,     -999.0,  -999.0,9,     -999.0,     -999.0,9,     -999.0,  25.0636,    35.7163,2,-999.0000,2,      0.113,2
33RO20150410,     P16N.1,      43,          1,         18,         18,2,20150422,       2122,    -1.2297,  -150.9998,       4979,   199.8,  12.4565,  34.9008,2,  34.8993,2,     97.5,2,    98.1,2,   18.00,2,   23.80,2,    0.01,2,    1.61,4,-999.000,9,-999.000,9,-999.000,9,  -999.0,9,  -999.0,9,-999.0000,9,  -999.00,-999.000,9,-999.0000,9, -999.00,9,-999.0000, -999.00,9,  -999.0,9,  -999.0,-999.000,9,-999.000,  -999.0,9, -999.00,9,     -999.0,9, -999.00,9,-999.000,-999.0000, -999.00,     -999.0,     -999.0,9,     -999.0,     -999.0,9,     -999.0,  -999.0,9,     -999.0,     -999.0,9,     -999.0,  12.4298,    35.0639,2,-999.0000,2,      0.005,2
33RO20150410,     P16N.1,      43,          1,         17,         17,2,20150422,       2122,    -1.2297,  -150.9998,       4979,   275.3,  11.6352,  34.8288,2,  34.8252,2,     53.4,2,    51.8,2,   24.30,2,   29.70,2,    0.00,2,    1.97,4,-999.000,9,-999.000,9,-999.000,9,  -999.0,9,  -999.0,9,-999.0000,9,  -999.00,-999.000,9,-999.0000,9, -999.00,9,-999.0000, -999.00,9,  -999.0,9,  -999.0,-999.000,9,-999.000,  -999.0,9, -999.00,9,     -999.0,9, -999.00,9,-999.000,-999.0000, -999.00,     -999.0,     -999.0,9,     -999.0,     -999.0,9,     -999.0,  -999.0,9,     -999.0,     -999.0,9,     -999.0,  11.5999,    34.9894,2,-999.0000,2,     -999.0,9
33RO20150410,     P16N.1,      43,          1,         16,         16,2,20150422,       2122,    -1.2297,  -150.9998,       4979,   367.9,  10.2831,  34.7408,2,  34.7385,2,     48.3,2,    47.3,2,   28.80,2,   32.60,2,    0.00,2,    2.15,4,-999.000,9,-999.000,9,-999.000,9,  -999.0,9,  -999.0,9,-999.0000,9,  -999.00,-999.000,9,-999.0000,9, -999.00,9,-999.0000, -999.00,9,  -999.0,9,  -999.0,-999.000,9,-999.000,  -999.0,9, -999.00,9,     -999.0,9, -999.00,9,-999.000,-999.0000, -999.00,     -999.0,     -999.0,9,     -999.0,     -999.0,9,     -999.0,  -999.0,9,     -999.0,     -999.0,9,     -999.0,  10.2394,    34.9023,2,-999.0000,2,     -999.0,9
33RO20150410,     P16N.1,      43,          1,         15,         15,2,20150422,       2122,    -1.2297,  -150.9998,       4979,   468.7,   7.4449,  34.5915,2,  34.5901,2,     62.9,2,    63.4,2,   42.80,2,   37.20,2,    0.00,2,    2.47,4,-999.000,9,-999.000,9,-999.000,9,  -999.0,9,  -999.0,9,-999.0000,9,  -999.00,-999.000,9,-999.0000,9, -999.00,9,-999.0000, -999.00,9,  -999.0,9,  -999.0,-999.000,9,-999.000,  -999.0,9, -999.00,9,     -999.0,9, -999.00,9,-999.000,-999.0000, -999.00,     -999.0,     -999.0,9,     -999.0,     -999.0,9,     -999.0,  -999.0,9,     -999.0,     -999.0,9,     -999.0,   7.3989,    34.7532,2,-999.0000,2,     -999.0,9
33RO20150410,     P16N.1,      43,          1,         14,         14,2,20150422,       2122,    -1.2297,  -150.9998,       4979,   596.7,   6.5446,  34.5621,2,  34.5601,2,     66.4,2,    65.3,2,   51.60,2,   38.50,2,    0.00,2,    2.60,4,-999.000,9,-999.000,9,-999.000,9,  -999.0,9,  -999.0,9,-999.0000,9,  -999.00,-999.000,9,-999.0000,9, -999.00,9,-999.0000, -999.00,9,  -999.0,9,  -999.0,-999.000,9,-999.000,  -999.0,9, -999.00,9,     -999.0,9, -999.00,9,-999.000,-999.0000, -999.00,     -999.0,     -999.0,9,     -999.0,     -999.0,9,     -999.0,  -999.0,9,     -999.0,     -999.0,9,     -999.0,   6.4895,    34.7230,2,-999.0000,2,     -999.0,9
33RO20150410,     P16N.1,      43,          1,         13,         13,2,20150422,       2122,    -1.2297,  -150.9998,       4979,   750.2,   5.5393,  34.5473,2,  34.5459,2,     75.4,2,    75.0,2,   64.80,2,   39.10,2,    0.00,2,    2.67,4,-999.000,9,-999.000,9,-999.000,9,  -999.0,9,  -999.0,9,-999.0000,9,  -999.00,-999.000,9,-999.0000,9, -999.00,9,-999.0000, -999.00,9,  -999.0,9,  -999.0,-999.000,9,-999.000,  -999.0,9, -999.00,9,     -999.0,9, -999.00,9,-999.000,-999.0000, -999.00,     -999.0,     -999.0,9,     -999.0,     -999.0,9,     -999.0,  -999.0,9,     -999.0,     -999.0,9,     -999.0,   5.4750,    34.7088,2,-999.0000,2,     -999.0,9
33RO20150410,     P16N.1,      43,          1,         12,         12,2,20150422,       2122,    -1.2297,  -150.9998,       4979,   901.0,   5.0248,  34.5475,2,  34.5461,2,     81.6,2,    81.1,2,   73.50,2,   38.90,2,    0.00,2,    2.70,4,-999.000,9,-999.000,9,-999.000,9,  -999.0,9,  -999.0,9,-999.0000,9,  -999.00,-999.000,9,-999.0000,9, -999.00,9,-999.0000, -999.00,9,  -999.0,9,  -999.0,-999.000,9,-999.000,  -999.0,9, -999.00,9,     -999.0,9, -999.00,9,-999.000,-999.0000, -999.00,     -999.0,     -999.0,9,     -999.0,     -999.0,9,     -999.0,  -999.0,9,     -999.0,     -999.0,9,     -999.0,   4.9501,    34.7090,2,-999.0000,2,     -999.0,9
33RO20150410,     P16N.1,      43,          1,         11,         11,2,20150422,       2122,    -1.2297,  -150.9998,       4979,  1045.9,   4.3356,  34.5582,2,  34.5567,2,     87.8,2,    88.0,2,   85.70,2,   39.00,2,    0.00,2,    2.72,4,-999.000,9,-999.000,9,-999.000,9,  -999.0,9,  -999.0,9,-999.0000,9,  -999.00,-999.000,9,-999.0000,9, -999.00,9,-999.0000, -999.00,9,  -999.0,9,  -999.0,-999.000,9,-999.000,  -999.0,9, -999.00,9,     -999.0,9, -999.00,9,-999.000,-999.0000, -999.00,     -999.0,     -999.0,9,     -999.0,     -999.0,9,     -999.0,  -999.0,9,     -999.0,     -999.0,9,     -999.0,   4.2533,    34.7197,2,-999.0000,2,     -999.0,9
33RO20150410,     P16N.1,      43,          1,         10,         10,2,20150422,       2122,    -1.2297,  -150.9998,       4979,  1232.3,   3.8163,  34.5733,2,  34.5723,2,     91.2,2,    89.4,2,   97.80,2,   39.30,2,    0.00,2,    2.77,4,-999.000,9,-999.000,9,-999.000,9,  -999.0,9,  -999.0,9,-999.0000,9,  -999.00,-999.000,9,-999.0000,9, -999.00,9,-999.0000, -999.00,9,  -999.0,9,  -999.0,-999.000,9,-999.000,  -999.0,9, -999.00,9,     -999.0,9, -999.00,9,-999.000,-999.0000, -999.00,     -999.0,     -999.0,9,     -999.0,     -999.0,9,     -999.0,  -999.0,9,     -999.0,     -999.0,9,     -999.0,   3.7225,    34.7353,2,-999.0000,2,     -999.0,9
33RO20150410,     P16N.1,      43,          1,          9,          9,2,20150422,       2122,    -1.2297,  -150.9998,       4979,  1500.1,   3.1064,  34.6027,2,  34.6011,2,     89.4,2,    89.8,2,  116.60,2,   39.60,2,    0.00,2,    2.84,4,-999.000,9,-999.000,9,-999.000,9,  -999.0,9,  -999.0,9,-999.0000,9,  -999.00,-999.000,9,-999.0000,9, -999.00,9,-999.0000, -999.00,9,  -999.0,9,  -999.0,-999.000,9,-999.000,  -999.0,9, -999.00,9,     -999.0,9, -999.00,9,-999.000,-999.0000, -999.00,     -999.0,     -999.0,9,     -999.0,     -999.0,9,     -999.0,  -999.0,9,     -999.0,     -999.0,9,     -999.0,   2.9973,    34.7643,2,-999.0000,2,     -999.0,9
33RO20150410,     P16N.1,      43,          1,          8,          8,2,20150422,       2122,    -1.2297,  -150.9998,       4979,  1866.7,   2.4499,  34.6344,2,  34.6332,2,    102.6,2,   101.4,2,  132.80,2,   39.10,2,    0.00,2,    2.81,4,-999.000,9,-999.000,9,-999.000,9,  -999.0,9,  -999.0,9,-999.0000,9,  -999.00,-999.000,9,-999.0000,9, -999.00,9,-999.0000, -999.00,9,  -999.0,9,  -999.0,-999.000,9,-999.000,  -999.0,9, -999.00,9,     -999.0,9, -999.00,9,-999.000,-999.0000, -999.00,     -999.0,     -999.0,9,     -999.0,     -999.0,9,     -999.0,  -999.0,9,     -999.0,     -999.0,9,     -999.0,   2.3181,    34.7965,2,-999.0000,2,     -999.0,9
33RO20150410,     P16N.1,      43,          1,          7,          7,2,20150422,       2122,    -1.2297,  -150.9998,       4979,  2267.4,   1.9799,  34.6573,2,  34.6554,2,    113.5,2,   120.8,4,  139.80,2,   37.90,2,    0.00,2,    2.71,4,-999.000,9,-999.000,9,-999.000,9,  -999.0,9,  -999.0,9,-999.0000,9,  -999.00,-999.000,9,-999.0000,9, -999.00,9,-999.0000, -999.00,9,  -999.0,9,  -999.0,-999.000,9,-999.000,  -999.0,9, -999.00,9,     -999.0,9, -999.00,9,-999.000,-999.0000, -999.00,     -999.0,     -999.0,9,     -999.0,     -999.0,9,     -999.0,  -999.0,9,     -999.0,     -999.0,9,     -999.0,   1.8207,    34.8188,2,-999.0000,2,     -999.0,9
33RO20150410,     P16N.1,      43,          1,          6,          6,2,20150422,       2122,    -1.2297,  -150.9998,       4979,  2661.0,   1.7869,  34.6680,2,  34.6672,2,    126.8,2,   128.3,2,  142.50,2,   37.40,2,    0.01,2,    2.68,4,-999.000,9,-999.000,9,-999.000,9,  -999.0,9,  -999.0,9,-999.0000,9,  -999.00,-999.000,9,-999.0000,9, -999.00,9,-999.0000, -999.00,9,  -999.0,9,  -999.0,-999.000,9,-999.000,  -999.0,9, -999.00,9,     -999.0,9, -999.00,9,-999.000,-999.0000, -999.00,     -999.0,     -999.0,9,     -999.0,     -999.0,9,     -999.0,  -999.0,9,     -999.0,     -999.0,9,     -999.0,   1.5958,    34.8307,2,-999.0000,2,     -999.0,9
33RO20150410,     P16N.1,      43,          1,          5,          5,2,20150422,       2122,    -1.2297,  -150.9998,       4979,  3067.6,   1.6467,  34.6761,2,  34.6749,2,    138.0,2,   138.6,2,  142.30,2,   36.70,2,    0.00,2,    2.62,4,-999.000,9,-999.000,9,-999.000,9,  -999.0,9,  -999.0,9,-999.0000,9,  -999.00,-999.000,9,-999.0000,9, -999.00,9,-999.0000, -999.00,9,  -999.0,9,  -999.0,-999.000,9,-999.000,  -999.0,9, -999.00,9,     -999.0,9, -999.00,9,-999.000,-999.0000, -999.00,     -999.0,     -999.0,9,     -999.0,     -999.0,9,     -999.0,  -999.0,9,     -999.0,     -999.0,9,     -999.0,   1.4201,    34.8384,2,-999.0000,2,     -999.0,9
33RO20150410,     P16N.1,      43,          1,          4,          4,2,20150422,       2122,    -1.2297,  -150.9998,       4979,  3467.5,   1.5310,  34.6849,2,  34.6841,2,    148.0,2,   148.9,2,  142.30,6,   36.20,6,    0.01,6,    2.57,4,-999.000,9,-999.000,9,-999.000,9,  -999.0,9,  -999.0,9,-999.0000,9,  -999.00,-999.000,9,-999.0000,9, -999.00,9,-999.0000, -999.00,9,  -999.0,9,  -999.0,-999.000,9,-999.000,  -999.0,9, -999.00,9,     -999.0,9, -999.00,9,-999.000,-999.0000, -999.00,     -999.0,     -999.0,9,     -999.0,     -999.0,9,     -999.0,  -999.0,9,     -999.0,     -999.0,9,     -999.0,   1.2673,    34.8476,2,-999.0000,2,     -999.0,9
33RO20150410,     P16N.1,      43,          1,          3,          3,2,20150422,       2122,    -1.2297,  -150.9998,       4979,  3930.5,   1.4124,  34.6946,2,  34.6934,2,    159.7,2,   159.8,2,  142.10,6,   35.50,6,    0.00,6,    2.51,4,-999.000,9,-999.000,9,-999.000,9,  -999.0,9,  -999.0,9,-999.0000,9,  -999.00,-999.000,9,-999.0000,9, -999.00,9,-999.0000, -999.00,9,  -999.0,9,  -999.0,-999.000,9,-999.000,  -999.0,9, -999.00,9,     -999.0,9, -999.00,9,-999.000,-999.0000, -999.00,     -999.0,     -999.0,9,     -999.0,     -999.0,9,     -999.0,  -999.0,9,     -999.0,     -999.0,9,     -999.0,   1.1033,    34.8570,2,-999.0000,2,     -999.0,9
33RO20150410,     P16N.1,      43,          1,          2,          2,2,20150422,       2122,    -1.2297,  -150.9998,       4979,  4433.1,   1.3811,  34.6986,2,  34.6983,2,    172.1,2,   171.3,2,  134.50,6,   34.60,6,    0.00,6,    2.44,4,-999.000,9,-999.000,9,-999.000,9,  -999.0,9,  -999.0,9,-999.0000,9,  -999.00,-999.000,9,-999.0000,9, -999.00,9,-999.0000, -999.00,9,  -999.0,9,  -999.0,-999.000,9,-999.000,  -999.0,9, -999.00,9,     -999.0,9, -999.00,9,-999.000,-999.0000, -999.00,     -999.0,     -999.0,9,     -999.0,     -999.0,9,     -999.0,  -999.0,9,     -999.0,     -999.0,9,     -999.0,   1.0173,    34.8619,2,-999.0000,2,     -999.0,9
33RO20150410,     P16N.1,      43,          1,          1,          1,2,20150422,       2122,    -1.2297,  -150.9998,       4979,  4968.9,   1.3494,  34.7024,2,  34.7020,2,    184.3,2,   185.0,2,  126.90,6,   33.60,6,    0.01,6,    2.37,4,-999.000,9,-999.000,9,-999.000,9,  -999.0,9,  -999.0,9,-999.0000,9,  -999.00,-999.000,9,-999.0000,9, -999.00,9,-999.0000, -999.00,9,  -999.0,9,  -999.0,-999.000,9,-999.000,  -999.0,9, -999.00,9,     -999.0,9, -999.00,9,-999.000,-999.0000, -999.00,     -999.0,     -999.0,9,     -999.0,     -999.0,9,     -999.0,  -999.0,9,     -999.0,     -999.0,9,     -999.0,   0.9238,    34.8656,2,-999.0000,2,     -999.0,9