BOTTLE,20210709CCHSIOCBG
EXPOCODE,SECT_ID,STNNBR,CASTNO,SAMPNO,BTLNBR,BTLNBR_FLAG_W,DATE,TIME,LATITUDE,LONGITUDE,DEPTH,CTDPRS,CTDTMP,CTDSAL,CTDSAL_FLAG_W,SALNTY,SALNTY_FLAG_W,CTDOXY,CTDOXY_FLAG_W,OXYGEN,OXYGEN_FLAG_W,SILCAT,SILCAT_FLAG_W,NITRAT,NITRAT_FLAG_W,NITRIT,NITRIT_FLAG_W,PHSPHT,PHSPHT_FLAG_W,CFC-11,CFC-11_FLAG_W,CFC-12,CFC-12_FLAG_W,SF6,SF6_FLAG_W,TCARBN,TCARBN_FLAG_W,ALKALI,ALKALI_FLAG_W,PH_TOT,PH_TOT_FLAG_W,PH_TMP,TRITUM,TRITUM_FLAG_W,HELIUM,HELIUM_FLAG_W,DELHE3,DELHE3_FLAG_W,REFTMP,DELC13,DELC13_FLAG_W,DELC14,DELC14_FLAG_W,C14ERR,NEON,NEON_FLAG_W,NEONER,DOC,DOC_FLAG_W,TDN,TDN_FLAG_W,N2O,N2O_FLAG_W,ARGON,ARGON_FLAG_W,TRITER,HELIER,DELHER,ARGONER,KRYPTON,KRYPTON_FLAG_W,KRYPTONER,XENON,XENON_FLAG_W,XENONER,14C-DOC,14C-DOC_FLAG_W,14C-DOCERR,13C-DOC,13C-DOC_FLAG_W,13C-DOCERR,THETA,SALTREF,SALTREF_FLAG_W,SBE35,SBE35_FLAG_W,CHLORA,CHLORA_FLAG_W
,,,,,,,,,,,METERS,DBAR,ITS-90,PSS-78,,PSS-78,,UMOL/KG,,UMOL/KG,,UMOL/KG,,UMOL/KG,,UMOL/KG,,UMOL/KG,,PMOL/KG,,PMOL/KG,,FMOL/KG,,UMOL/KG,,UMOL/KG,,,,DEG C,TU,,NMOL/KG,,PERCNT,,DEG C,/MILLE,,/MILLE,,/MILLE,NMOL/KG,,NMOL/KG,UMOL/KG,,UMOL/KG,,NMOL/KG,,UMOL/KG,,TU,NMOL/KG,PERCNT,UMOL/KG,NMOL/KG,,NMOL/KG,NMOL/KG,,NMOL/KG,/MILLE,,/MILLE,/MILLE,,/MILLE,DEG C,G/KG,,ITS-90,,MG/M3,
33RO20150410,     P16N.1,      62,          1,         24,         24,2,20150427,       0742,     1.7299,  -150.9999,       4521,     9.8,  28.6449,  35.1508,2,  35.1503,2,    198.5,2,   198.3,2,    1.70,2,    3.00,2,    0.21,2,    0.52,2,   1.542,3,   0.950,2,   1.219,2,  2010.6,6,  2310.8,2,   8.0399,2,    25.01,-999.000,9,-999.0000,9, -999.00,9,  28.6453,    0.96,2,    34.8,2,     2.2,-999.000,9,-999.000,    61.5,2,    7.10,2,      6.683,3, -999.00,9,-999.000,-999.0000, -999.00,     -999.0,     -999.0,9,     -999.0,     -999.0,9,     -999.0,  -999.0,9,     -999.0,     -999.0,9,     -999.0,  28.6426,    35.3161,2,-999.0000,2,     -999.0,9
33RO20150410,     P16N.1,      62,          1,         23,         23,2,20150427,       0742,     1.7299,  -150.9999,       4521,    24.5,  28.5865,  35.1415,2,  35.1458,2,    198.7,2,   198.5,2,    1.70,2,    2.90,2,    0.22,2,    0.51,2,-999.000,9,-999.000,9,-999.000,9,  2011.4,2,  2311.0,2,   8.0398,6,    25.01,-999.000,9,-999.0000,9, -999.00,9,  28.5821, -999.00,9,  -999.0,9,  -999.0,-999.000,9,-999.000,    62.4,2, -999.00,9,     -999.0,9, -999.00,9,-999.000,-999.0000, -999.00,     -999.0,     -999.0,9,     -999.0,     -999.0,9,     -999.0,  -999.0,9,     -999.0,     -999.0,9,     -999.0,  28.5806,    35.3115,2,-999.0000,2,     -999.0,9
33RO20150410,     P16N.1,      62,          1,         22,         22,2,20150427,       0742,     1.7299,  -150.9999,       4521,    49.5,  28.4036,  35.1200,2,  35.1271,2,    196.7,2,   196.5,2,    1.80,2,    2.90,2,    0.29,2,    0.51,2,   1.549,3,   0.961,6,   1.244,6,  2009.6,2,  2309.2,6,   8.0366,6,    25.01,-999.000,9,-999.0000,9, -999.00,9,  28.4018,    0.92,2,    38.0,2,     2.2,-999.000,9,-999.000,    62.0,2,    6.80,2,      6.948,3, -999.00,9,-999.000,-999.0000, -999.00,     -999.0,     -999.0,9,     -999.0,     -999.0,9,     -999.0,  -999.0,9,     -999.0,     -999.0,9,     -999.0,  28.3918,    35.2927,2,-999.0000,2,     -999.0,9
33RO20150410,     P16N.1,      62,          1,         21,         21,2,20150427,       0742,     1.7299,  -150.9999,       4521,    74.4,  27.8077,  35.0551,2,  35.0619,2,    189.0,2,   184.6,2,    1.90,2,    3.20,2,    0.58,2,    0.57,2,-999.000,9,-999.000,9,-999.000,9,  2013.9,2,  2304.1,2,   8.0232,2,    25.00,-999.000,9,-999.0000,9, -999.00,9,  27.7985,    0.87,2,    36.6,2,     2.1,-999.000,9,-999.000,    61.0,2,    7.50,2,     -999.0,9, -999.00,9,-999.000,-999.0000, -999.00,     -999.0,     -999.0,9,     -999.0,     -999.0,9,     -999.0,  -999.0,9,     -999.0,     -999.0,9,     -999.0,  27.7903,    35.2272,2,-999.0000,2,     -999.0,9
33RO20150410,     P16N.1,      62,          1,         20,         20,2,20150427,       0742,     1.7299,  -150.9999,       4521,   100.1,  26.5472,  35.0003,2,  35.0125,2,    153.8,2,   158.5,2,    2.40,2,    5.10,2,    0.34,2,    0.64,2,   1.644,3,   1.012,2,   1.158,2,  2029.0,2,  2298.4,2,   7.9888,2,    25.00,-999.000,9,-999.0000,9, -999.00,9,  26.5669,    0.66,2,    41.6,2,     2.2,-999.000,9,-999.000,    55.9,2,    8.30,2,      8.422,3, -999.00,9,-999.000,-999.0000, -999.00,     -999.0,     -999.0,9,     -999.0,     -999.0,9,     -999.0,  -999.0,9,     -999.0,     -999.0,9,     -999.0,  26.5245,    35.1776,2,-999.0000,2,     -999.0,9
33RO20150410,     P16N.1,      62,          1,         19,         19,2,20150427,       0742,     1.7299,  -150.9999,       4521,   124.5,  24.4228,  34.9912,2,-999.0000,9,    142.5,2,  -999.0,9, -999.00,9, -999.00,9, -999.00,9, -999.00,9,-999.000,9,-999.000,9,-999.000,9,  -999.0,9,  -999.0,9,-999.0000,9,  -999.00,-999.000,9,-999.0000,9, -999.00,9,  24.4419, -999.00,9,  -999.0,9,  -999.0,-999.000,9,-999.000,  -999.0,9, -999.00,9,     -999.0,9, -999.00,9,-999.000,-999.0000, -999.00,     -999.0,     -999.0,9,     -999.0,     -999.0,9,     -999.0,  -999.0,9,     -999.0,     -999.0,9,     -999.0,-999.0000,     -999.0,5,-999.0000,9,     -999.0,9
33RO20150410,     P16N.1,      62,          1,         18,         18,2,20150427,       0742,     1.7299,  -150.9999,       4521,   175.3,  12.2526,  34.7636,2,  34.7686,2,    101.9,2,    99.2,2,   21.10,2,   24.00,2,    0.01,2,    1.82,2,   1.541,2,   0.827,2,   0.484,2,  2188.5,2,  2300.6,2,   7.6474,2,    25.01,-999.000,9,-999.0000,9, -999.00,9,  12.2691,    0.20,2,    -7.2,2,     2.0,-999.000,9,-999.000,    43.3,2,   26.40,2,     34.170,3, -999.00,9,-999.000,-999.0000, -999.00,     -999.0,     -999.0,9,     -999.0,     -999.0,9,     -999.0,  -999.0,9,     -999.0,     -999.0,9,     -999.0,  12.2295,    34.9325,2,-999.0000,9,     -999.0,9
33RO20150410,     P16N.1,      62,          1,         17,         17,2,20150427,       0742,     1.7299,  -150.9999,       4521,   250.3,  11.5190,  34.8170,2,  34.8165,2,     52.8,2,    51.7,2,   24.70,2,   30.10,2,    0.01,2,    2.19,2,   1.058,2,   0.576,2,   0.281,2,  2230.5,2,  2302.7,2,   7.5338,2,    25.00,-999.000,9,-999.0000,9, -999.00,9,  11.5183,    0.07,2,   -14.5,2,     2.0,-999.000,9,-999.000,    44.3,2,   32.20,2,     51.616,3, -999.00,9,-999.000,-999.0000, -999.00,     -999.0,     -999.0,9,     -999.0,     -999.0,9,     -999.0,  -999.0,9,     -999.0,     -999.0,9,     -999.0,  11.4872,    34.9806,6,-999.0000,9,     -999.0,9
33RO20150410,     P16N.1,      62,          1,         16,         16,2,20150427,       0742,     1.7299,  -150.9999,       4521,   324.4,  10.9720,  34.7847,2,  34.7824,2,     46.0,2,    45.2,2,   26.50,2,   31.60,2,    0.01,2,    2.29,2,   0.910,2,   0.491,2,   0.215,2,  2237.6,2,  2302.3,2,   7.5072,6,    25.01,-999.000,9,-999.0000,9, -999.00,9,  10.9715,    0.08,2,   -22.8,2,     2.0,-999.000,9,-999.000,    44.8,2, -999.00,9,     54.203,3, -999.00,9,-999.000,-999.0000, -999.00,     -999.0,     -999.0,9,     -999.0,     -999.0,9,     -999.0,  -999.0,9,     -999.0,     -999.0,9,     -999.0,  10.9319,    34.9464,2,-999.0000,9,     -999.0,9
33RO20150410,     P16N.1,      62,          1,         15,         15,2,20150427,       0742,     1.7299,  -150.9999,       4521,   398.2,   9.6923,  34.6879,2,  34.6880,2,     47.2,2,    47.1,2,   31.80,2,   34.00,2,    0.01,2,    2.43,2,   0.617,2,   0.337,2,   0.143,2,  2246.0,2,  2303.6,2,   7.4820,2,    25.01,-999.000,9,-999.0000,9, -999.00,9,   9.7477,    0.09,2,   -56.4,2,     1.9,-999.000,9,-999.000,    42.1,2, -999.00,9,     49.599,3, -999.00,9,-999.000,-999.0000, -999.00,     -999.0,     -999.0,9,     -999.0,     -999.0,9,     -999.0,  -999.0,9,     -999.0,     -999.0,9,     -999.0,   9.6467,    34.8516,2,-999.0000,9,     -999.0,9
33RO20150410,     P16N.1,      62,          1,         14,         14,2,20150427,       0742,     1.7299,  -150.9999,       4521,   499.9,   7.6924,  34.5988,2,  34.5999,2,     52.0,2,    48.8,2,   43.10,2,   38.20,2,    0.01,2,    2.74,2,   0.197,2,   0.109,2,       0,2,  2267.5,6,  2312.2,2,   7.4454,2,    25.01,-999.000,9,-999.0000,9, -999.00,9,   7.6908,    0.16,2,  -104.9,2,     1.9,-999.000,9,-999.000,    41.5,2, -999.00,9,     46.296,3, -999.00,9,-999.000,-999.0000, -999.00,     -999.0,     -999.0,9,     -999.0,     -999.0,9,     -999.0,  -999.0,9,     -999.0,     -999.0,9,     -999.0,   7.6423,    34.7630,2,-999.0000,9,     -999.0,9
33RO20150410,     P16N.1,      62,          1,         13,         13,2,20150427,       0742,     1.7299,  -150.9999,       4521,   650.2,   6.1733,  34.5526,2,  34.5515,2,     68.2,2,    68.6,2,   55.80,2,   39.00,2,    0.01,2,    2.82,2,   0.084,2,   0.045,2,       0,2,  2273.5,2,  2323.0,2,   7.4588,2,    25.00,-999.000,9,-999.0000,9, -999.00,9,   6.1774,    0.23,2,  -130.9,2,     1.8,-999.000,9,-999.000,    40.2,2, -999.00,9,     39.001,3, -999.00,9,-999.000,-999.0000, -999.00,     -999.0,     -999.0,9,     -999.0,     -999.0,9,     -999.0,  -999.0,9,     -999.0,     -999.0,9,     -999.0,   6.1149,    34.7144,2,-999.0000,9,     -999.0,9
33RO20150410,     P16N.1,      62,          1,         12,         12,2,20150427,       0742,     1.7299,  -150.9999,       4521,   800.2,   5.5686,  34.5445,2,  34.5491,2,     76.0,2,    76.1,2,   64.70,2,   39.10,2,    0.00,2,    2.83,2,   0.058,2,   0.031,2,       0,2,  2280.3,2,  2333.4,2,   7.4678,6,    25.01,-999.000,9,-999.0000,9, -999.00,9,   5.5655,    0.20,2,  -150.9,2,     1.7,-999.000,9,-999.000,    40.5,2, -999.00,9,     36.502,3, -999.00,9,-999.000,-999.0000, -999.00,     -999.0,     -999.0,9,     -999.0,     -999.0,9,     -999.0,  -999.0,9,     -999.0,     -999.0,9,     -999.0,   5.4996,    34.7120,2,-999.0000,9,     -999.0,9
33RO20150410,     P16N.1,      62,          1,         11,         11,2,20150427,       0742,     1.7299,  -150.9999,       4521,   949.7,   4.7237,  34.5504,2,  34.5504,2,     84.4,2,    83.8,2,   79.30,2,   39.10,2,    0.00,2,    2.86,2,   0.027,2,   0.016,2,   0.029,3,  2294.2,2,  2350.7,2,   7.4749,2,    25.00,-999.000,9,-999.0000,9, -999.00,9,   4.7227, -999.00,9,  -999.0,9,  -999.0,-999.000,9,-999.000,    38.9,2, -999.00,9,     33.647,3, -999.00,9,-999.000,-999.0000, -999.00,     -999.0,     -999.0,9,     -999.0,     -999.0,9,     -999.0,  -999.0,9,     -999.0,     -999.0,9,     -999.0,   4.6468,    34.7133,6,-999.0000,9,     -999.0,9
33RO20150410,     P16N.1,      62,          1,         10,         10,2,20150427,       0742,     1.7299,  -150.9999,       4521,  1100.1,   4.1389,  34.5658,2,  34.5660,2,     80.4,2,    80.4,2,   91.90,2,   40.10,2,    0.00,2,    2.92,2,-999.000,9,-999.000,9,-999.000,9,  2311.1,2,  2364.8,2,   7.4645,6,    25.02,-999.000,9,-999.0000,9, -999.00,9,   4.1389, -999.00,9,  -999.0,9,  -999.0,-999.000,9,-999.000,    38.8,2, -999.00,9,     -999.0,9, -999.00,9,-999.000,-999.0000, -999.00,     -999.0,     -999.0,9,     -999.0,     -999.0,9,     -999.0,  -999.0,9,     -999.0,     -999.0,9,     -999.0,   4.0535,    34.7290,2,-999.0000,9,     -999.0,9
33RO20150410,     P16N.1,      62,          1,          9,          9,2,20150427,       0742,     1.7299,  -150.9999,       4521,  1293.5,   3.6383,  34.5821,2,  34.5831,2,     82.7,2,    82.5,2,  104.40,2,   40.20,2,    0.00,2,    2.92,2,   0.004,6,   0.002,6,       0,6,  2325.2,2,  2378.7,2,   7.4661,2,    25.01,-999.000,9,-999.0000,9, -999.00,9,   3.6375, -999.00,9,  -999.0,9,  -999.0,-999.000,9,-999.000,    37.4,2, -999.00,9,     32.489,3, -999.00,9,-999.000,-999.0000, -999.00,     -999.0,     -999.0,9,     -999.0,     -999.0,9,     -999.0,  -999.0,9,     -999.0,     -999.0,9,     -999.0,   3.5410,    34.7462,2,-999.0000,3,     -999.0,9
33RO20150410,     P16N.1,      62,          1,          8,          8,2,20150427,       0742,     1.7299,  -150.9999,       4521,  1600.7,   2.8665,  34.6157,2,  34.6155,2,     85.5,2,    85.9,2,  125.00,2,   40.50,2,    0.00,2,    2.93,2,-999.000,9,-999.000,9,-999.000,9,  2342.1,2,  2401.8,2,   7.4705,2,    25.01,-999.000,9,-999.0000,9, -999.00,9,   2.8663, -999.00,9,  -999.0,9,  -999.0,-999.000,9,-999.000,    38.8,2, -999.00,9,     -999.0,9, -999.00,9,-999.000,-999.0000, -999.00,     -999.0,     -999.0,9,     -999.0,     -999.0,9,     -999.0,  -999.0,9,     -999.0,     -999.0,9,     -999.0,   2.7517,    34.7787,2,-999.0000,3,     -999.0,9
33RO20150410,     P16N.1,      62,          1,          7,          7,2,20150427,       0742,     1.7299,  -150.9999,       4521,  1998.6,   2.3182,  34.6397,2,  34.6395,2,    102.7,2,   103.1,2,  135.30,2,   39.40,2,    0.00,2,    2.83,2,   0.001,6,   0.000,6,       0,6,  2347.4,2,  2414.4,2,   7.5022,2,    25.00,-999.000,9,-999.0000,9, -999.00,9,   2.3176, -999.00,9,  -999.0,9,  -999.0,-999.000,9,-999.000,    36.8,2, -999.00,9,     26.462,3, -999.00,9,-999.000,-999.0000, -999.00,     -999.0,     -999.0,9,     -999.0,     -999.0,9,     -999.0,  -999.0,9,     -999.0,     -999.0,9,     -999.0,   2.1770,    34.8028,2,-999.0000,2,     -999.0,9
33RO20150410,     P16N.1,      62,          1,          6,          6,2,20150427,       0742,     1.7299,  -150.9999,       4521,  2400.5,   1.8971,  34.6630,2,  34.6646,2,    114.9,2,   115.4,2,  145.60,2,   38.40,2,    0.00,2,    2.74,2,-999.000,9,-999.000,9,-999.000,9,  2350.7,2,  2427.3,2,   7.5259,2,    25.00,-999.000,9,-999.0000,9, -999.00,9,   1.8963, -999.00,9,  -999.0,9,  -999.0,-999.000,9,-999.000,    36.2,2, -999.00,9,     -999.0,9, -999.00,9,-999.000,-999.0000, -999.00,     -999.0,     -999.0,9,     -999.0,     -999.0,9,     -999.0,  -999.0,9,     -999.0,     -999.0,9,     -999.0,   1.7276,    34.8281,2,-999.0000,2,     -999.0,9
33RO20150410,     P16N.1,      62,          1,          5,          5,2,20150427,       0742,     1.7299,  -150.9999,       4521,  2800.5,   1.7516,  34.6710,2,  34.6707,2,    126.9,2,   127.0,2,  145.30,2,   37.70,2,    0.00,2,    2.69,2,  -0.002,6,   0.001,6,       0,6,  2342.5,2,  2425.9,2,   7.5443,2,    25.01,-999.000,9,-999.0000,9, -999.00,9,   1.7510, -999.00,9,  -999.0,9,  -999.0,-999.000,9,-999.000,    36.8,2, -999.00,9,     22.510,3, -999.00,9,-999.000,-999.0000, -999.00,     -999.0,     -999.0,9,     -999.0,     -999.0,9,     -999.0,  -999.0,9,     -999.0,     -999.0,9,     -999.0,   1.5483,    34.8342,2,-999.0000,2,     -999.0,9
33RO20150410,     P16N.1,      62,          1,          4,          4,2,20150427,       0742,     1.7299,  -150.9999,       4521,  3200.2,   1.6464,  34.6775,2,  34.6776,2,    135.6,2,   136.0,2,  144.20,6,   37.10,6,    0.00,6,    2.62,6,-999.000,9,-999.000,9,-999.000,9,  2337.1,2,  2425.6,6,   7.5580,2,    25.01,-999.000,9,-999.0000,9, -999.00,9,   1.6460, -999.00,9,  -999.0,9,  -999.0,-999.000,9,-999.000,    35.9,2, -999.00,9,     -999.0,9, -999.00,9,-999.000,-999.0000, -999.00,     -999.0,     -999.0,9,     -999.0,     -999.0,9,     -999.0,  -999.0,9,     -999.0,     -999.0,9,     -999.0,   1.4068,    34.8411,2,-999.0000,2,     -999.0,9
33RO20150410,     P16N.1,      62,          1,          3,          3,2,20150427,       0742,     1.7299,  -150.9999,       4521,  3599.6,   1.4630,  34.6893,2,  34.6890,2,    150.9,2,   151.2,2,  143.80,6,   36.20,6,    0.00,6,    2.55,6,   0.000,6,   0.001,6,       0,6,  2331.6,2,  2428.5,2,   7.5862,2,    25.00,-999.000,9,-999.0000,9, -999.00,9,   1.4624, -999.00,9,  -999.0,9,  -999.0,-999.000,9,-999.000,    35.4,2, -999.00,9,     20.132,3, -999.00,9,-999.000,-999.0000, -999.00,     -999.0,     -999.0,9,     -999.0,     -999.0,9,     -999.0,  -999.0,9,     -999.0,     -999.0,9,     -999.0,   1.1875,    34.8526,2,-999.0000,2,     -999.0,9
33RO20150410,     P16N.1,      62,          1,          2,          2,2,20150427,       0742,     1.7299,  -150.9999,       4521,  4039.9,   1.4142,  34.6941,2,  34.6945,2,    159.6,2,   159.3,2,  141.60,6,   35.70,6,    0.00,6,    2.50,6,-999.000,9,-999.000,9,-999.000,9,  2324.7,2,  2426.5,2,   7.5976,6,    25.02,-999.000,9,-999.0000,9, -999.00,9,   1.4138, -999.00,9,  -999.0,9,  -999.0,-999.000,9,-999.000,    36.3,2, -999.00,9,     -999.0,9, -999.00,9,-999.000,-999.0000, -999.00,     -999.0,     -999.0,9,     -999.0,     -999.0,9,     -999.0,  -999.0,9,     -999.0,     -999.0,9,     -999.0,   1.0933,    34.8581,2,-999.0000,2,     -999.0,9
33RO20150410,     P16N.1,      62,          1,          1,          1,2,20150427,       0742,     1.7299,  -150.9999,       4521,  4262.9,   1.4081,  34.6954,2,  34.6953,2,    163.4,2,   162.3,2,  139.60,6,   35.40,6,    0.00,6,    2.49,6,  -0.001,2,   0.001,2,       0,2,  2319.6,6,  2424.6,2,   7.5992,2,    25.02,-999.000,9,-999.0000,9, -999.00,9,   1.4080, -999.00,9,  -999.0,9,  -999.0,-999.000,9,-999.000,    37.5,2, -999.00,9,     19.289,3, -999.00,9,-999.000,-999.0000, -999.00,     -999.0,     -999.0,9,     -999.0,     -999.0,9,     -999.0,  -999.0,9,     -999.0,     -999.0,9,     -999.0,   1.0627,    34.8589,2,-999.0000,2,     -999.0,9