BOTTLE,20210709CCHSIOCBG
EXPOCODE,SECT_ID,STNNBR,CASTNO,SAMPNO,BTLNBR,BTLNBR_FLAG_W,DATE,TIME,LATITUDE,LONGITUDE,DEPTH,CTDPRS,CTDTMP,CTDSAL,CTDSAL_FLAG_W,SALNTY,SALNTY_FLAG_W,CTDOXY,CTDOXY_FLAG_W,OXYGEN,OXYGEN_FLAG_W,SILCAT,SILCAT_FLAG_W,NITRAT,NITRAT_FLAG_W,NITRIT,NITRIT_FLAG_W,PHSPHT,PHSPHT_FLAG_W,CFC-11,CFC-11_FLAG_W,CFC-12,CFC-12_FLAG_W,SF6,SF6_FLAG_W,TCARBN,TCARBN_FLAG_W,ALKALI,ALKALI_FLAG_W,PH_TOT,PH_TOT_FLAG_W,PH_TMP,TRITUM,TRITUM_FLAG_W,HELIUM,HELIUM_FLAG_W,DELHE3,DELHE3_FLAG_W,REFTMP,DELC13,DELC13_FLAG_W,DELC14,DELC14_FLAG_W,C14ERR,NEON,NEON_FLAG_W,NEONER,DOC,DOC_FLAG_W,TDN,TDN_FLAG_W,N2O,N2O_FLAG_W,ARGON,ARGON_FLAG_W,TRITER,HELIER,DELHER,ARGONER,KRYPTON,KRYPTON_FLAG_W,KRYPTONER,XENON,XENON_FLAG_W,XENONER,14C-DOC,14C-DOC_FLAG_W,14C-DOCERR,13C-DOC,13C-DOC_FLAG_W,13C-DOCERR,THETA,SALTREF,SALTREF_FLAG_W,SBE35,SBE35_FLAG_W,CHLORA,CHLORA_FLAG_W
,,,,,,,,,,,METERS,DBAR,ITS-90,PSS-78,,PSS-78,,UMOL/KG,,UMOL/KG,,UMOL/KG,,UMOL/KG,,UMOL/KG,,UMOL/KG,,PMOL/KG,,PMOL/KG,,FMOL/KG,,UMOL/KG,,UMOL/KG,,,,DEG C,TU,,NMOL/KG,,PERCNT,,DEG C,/MILLE,,/MILLE,,/MILLE,NMOL/KG,,NMOL/KG,UMOL/KG,,UMOL/KG,,NMOL/KG,,UMOL/KG,,TU,NMOL/KG,PERCNT,UMOL/KG,NMOL/KG,,NMOL/KG,NMOL/KG,,NMOL/KG,/MILLE,,/MILLE,/MILLE,,/MILLE,DEG C,G/KG,,ITS-90,,MG/M3,
33RO20150410,     P16N.1,      22,          1,         24,         24,2,20150417,       1058,    -5.9991,  -151.0013,       5166,    10.3,  28.7063,  35.4534,2,  35.4508,2,    197.5,2,   197.6,2,    1.70,2,    3.90,2,    0.09,2,    0.41,4,   1.430,6,   0.945,6,    1.23,6,  2016.8,2,  2333.4,2,   8.0552,2,    25.00,   0.285,2,   1.6880,2,   -1.02,2,  28.7045, -999.00,9,  -999.0,9,  -999.0,   6.588,2,   0.016,  -999.0,9, -999.00,9,      6.487,3, -999.00,9,   0.002,   0.0044,    0.20,     -999.0,     -999.0,9,     -999.0,     -999.0,9,     -999.0,  -999.0,9,     -999.0,     -999.0,9,     -999.0,  28.7038,    35.6180,2,-999.0000,2,     -999.0,9
33RO20150410,     P16N.1,      22,          1,         23,         23,2,20150417,       1058,    -5.9991,  -151.0013,       5166,    25.3,  28.7001,  35.4528,2,  35.4506,2,    197.8,2,   197.5,2,    1.70,2,    3.90,2,    0.09,2,    0.41,4,   1.425,2,   0.942,2,   1.244,2,  2018.7,2,  2333.2,2,   8.0550,2,    25.00,-999.000,9,-999.0000,9, -999.00,9,  28.6991, -999.00,9,  -999.0,9,  -999.0,-999.000,9,-999.000,  -999.0,9, -999.00,9,      6.206,3, -999.00,9,-999.000,-999.0000, -999.00,     -999.0,     -999.0,9,     -999.0,     -999.0,9,     -999.0,  -999.0,9,     -999.0,     -999.0,9,     -999.0,  28.6940,    35.6178,2,-999.0000,3,     -999.0,9
33RO20150410,     P16N.1,      22,          1,         22,         22,2,20150417,       1058,    -5.9991,  -151.0013,       5166,    50.2,  28.6971,  35.4544,2,  35.4560,2,    198.4,2,   197.5,2,    1.70,2,    3.90,2,    0.09,2,    0.42,4,   1.433,2,   0.926,2,    1.22,2,  2016.3,2,  2333.4,2,   8.0558,6,    24.99,   0.288,2,   1.6891,2,   -1.31,2,  28.6994, -999.00,9,  -999.0,9,  -999.0,   6.594,2,   0.016,  -999.0,9, -999.00,9,      6.826,3, -999.00,9,   0.002,   0.0044,    0.20,     -999.0,     -999.0,9,     -999.0,     -999.0,9,     -999.0,  -999.0,9,     -999.0,     -999.0,9,     -999.0,  28.6850,    35.6232,2,-999.0000,3,     -999.0,9
33RO20150410,     P16N.1,      22,          1,         21,         21,2,20150417,       1058,    -5.9991,  -151.0013,       5166,    75.6,  28.6029,  35.5334,2,  35.5390,2,    196.5,2,   196.5,2,    1.60,2,    3.60,2,    0.08,2,    0.41,4,   1.434,2,   0.934,2,   1.215,2,  2023.4,2,  2339.4,2,   8.0595,2,    25.00,   0.284,2,-999.0000,9, -999.00,9,  28.6040, -999.00,9,  -999.0,9,  -999.0,-999.000,9,-999.000,  -999.0,9, -999.00,9,      6.777,3, -999.00,9,   0.004,-999.0000, -999.00,     -999.0,     -999.0,9,     -999.0,     -999.0,9,     -999.0,  -999.0,9,     -999.0,     -999.0,9,     -999.0,  28.5848,    35.7066,2,-999.0000,2,     -999.0,9
33RO20150410,     P16N.1,      22,          1,         20,         20,2,20150417,       1058,    -5.9991,  -151.0013,       5166,   100.0,  28.7467,  35.8144,2,  35.8213,2,    191.6,2,   190.3,2,    1.10,2,    1.50,2,    0.05,2,    0.34,4,   1.414,2,   0.931,2,   1.265,2,  2017.6,2,  2360.6,6,   8.0908,2,    24.99,   0.273,2,   1.6824,2,   -0.76,2,  28.7398, -999.00,9,  -999.0,9,  -999.0,   6.579,2,   0.016,  -999.0,9, -999.00,9,      6.520,3, -999.00,9,   0.003,   0.0044,    0.20,     -999.0,     -999.0,9,     -999.0,     -999.0,9,     -999.0,  -999.0,9,     -999.0,     -999.0,9,     -999.0,  28.7226,    35.9902,2,-999.0000,2,     -999.0,9
33RO20150410,     P16N.1,      22,          1,         19,         19,2,20150417,       1058,    -5.9991,  -151.0013,       5166,   150.5,  25.3653,  36.2592,2,  36.2520,2,    160.6,2,   161.0,2,    1.40,2,    5.10,2,    0.18,2,    0.57,4,   1.642,2,   1.076,2,    1.51,2,  2095.3,2,  2387.3,2,   8.0006,6,    25.01,   0.266,2,-999.0000,9, -999.00,9,  25.3677, -999.00,9,  -999.0,9,  -999.0,-999.000,9,-999.000,  -999.0,9, -999.00,9,      7.731,3, -999.00,9,   0.003,-999.0000, -999.00,     -999.0,     -999.0,9,     -999.0,     -999.0,9,     -999.0,  -999.0,9,     -999.0,     -999.0,9,     -999.0,  25.3321,    36.4229,2,-999.0000,2,     -999.0,9
33RO20150410,     P16N.1,      22,          1,         18,         18,2,20150417,       1058,    -5.9991,  -151.0013,       5166,   225.2,  14.7193,  35.0515,2,  35.0387,2,     58.5,2,    60.9,2,   11.40,2,   21.40,2,    0.01,2,    1.72,4,   1.770,2,   1.058,2,    0.75,2,  2209.2,2,  2309.2,2,   7.6002,2,    24.99,   0.178,2,-999.0000,9, -999.00,9,  14.7185, -999.00,9,  -999.0,9,  -999.0,-999.000,9,-999.000,  -999.0,9, -999.00,9,     62.284,3, -999.00,9,   0.003,-999.0000, -999.00,     -999.0,     -999.0,9,     -999.0,     -999.0,9,     -999.0,  -999.0,9,     -999.0,     -999.0,9,     -999.0,  14.6856,    35.2039,2,-999.0000,2,     -999.0,9
33RO20150410,     P16N.1,      22,          1,         17,         17,2,20150417,       1058,    -5.9991,  -151.0013,       5166,   301.1,  11.0788,  34.8138,2,  34.8130,2,     18.5,2,    20.9,2,   26.60,2,   32.40,2,    0.00,2,    2.22,4,   0.585,2,   0.328,2,   0.431,3,  2254.4,2,  2302.4,2,   7.4525,3,    25.00,   0.081,2,   1.7877,2,    5.03,2,  11.0792, -999.00,9,  -999.0,9,  -999.0,   7.487,2,   0.019,  -999.0,9, -999.00,9,     73.801,3, -999.00,9,   0.002,   0.0046,    0.20,     -999.0,     -999.0,9,     -999.0,     -999.0,9,     -999.0,  -999.0,9,     -999.0,     -999.0,9,     -999.0,  11.0414,    34.9772,2,-999.0000,2,     -999.0,9
33RO20150410,     P16N.1,      22,          1,         16,         16,2,20150417,       1058,    -5.9991,  -151.0013,       5166,   400.9,   9.3999,  34.7045,2,  34.7021,2,     36.9,2,    37.8,2,   31.10,2,   34.70,2,    0.01,2,    2.31,4,   0.321,2,   0.174,2,   0.062,2,  2252.4,6,  2302.5,2,   7.4519,3,    25.01,   0.046,2,   1.7935,2,    5.55,2,   9.4015, -999.00,9,  -999.0,9,  -999.0,   7.580,2,   0.019,  -999.0,9, -999.00,9,     59.353,3, -999.00,9,   0.002,   0.0047,    0.20,     -999.0,     -999.0,9,     -999.0,     -999.0,9,     -999.0,  -999.0,9,     -999.0,     -999.0,9,     -999.0,   9.3548,    34.8658,2,-999.0000,2,     -999.0,9
33RO20150410,     P16N.1,      22,          1,         15,         15,2,20150417,       1058,    -5.9991,  -151.0013,       5166,   501.4,   7.9545,  34.6150,2,  34.6133,2,     64.1,2,    65.5,2,   35.10,2,   35.70,2,    0.00,2,    2.32,4,   0.231,2,   0.121,2,       0,2,  2248.2,2,  2304.5,2,   7.4778,2,    24.99,   0.017,2,-999.0000,9, -999.00,9,   7.9556, -999.00,9,  -999.0,9,  -999.0,-999.000,9,-999.000,  -999.0,9, -999.00,9,     45.644,3, -999.00,9,   0.002,-999.0000, -999.00,     -999.0,     -999.0,9,     -999.0,     -999.0,9,     -999.0,  -999.0,9,     -999.0,     -999.0,9,     -999.0,   7.9032,    34.7765,6,-999.0000,2,     -999.0,9
33RO20150410,     P16N.1,      22,          1,         14,         14,2,20150417,       1058,    -5.9991,  -151.0013,       5166,   650.4,   6.3537,  34.5487,2,  34.5485,2,     73.4,2,    74.0,2,   48.50,2,   38.30,2,    0.00,2,    2.53,4,   0.067,6,   0.036,6,       0,2,  2263.8,2,  2316.8,2,   7.4653,2,    25.00,   0.011,2,   1.8368,2,   10.02,2,   6.3545, -999.00,9,  -999.0,9,  -999.0,   7.801,2,   0.020,  -999.0,9, -999.00,9,     39.134,3, -999.00,9,   0.001,   0.0048,    0.20,     -999.0,     -999.0,9,     -999.0,     -999.0,9,     -999.0,  -999.0,9,     -999.0,     -999.0,9,     -999.0,   6.2944,    34.7114,2,-999.0000,2,     -999.0,9
33RO20150410,     P16N.1,      22,          1,         13,         13,2,20150417,       1058,    -5.9991,  -151.0013,       5166,   799.8,   5.4623,  34.5427,2,  34.5422,2,     65.8,2,    65.8,2,   64.50,2,   40.50,2,    0.00,2,    2.72,4,   0.000,2,   0.002,2,       0,2,  2286.9,2,  2330.0,2,   7.4383,6,    25.01,   0.010,2,-999.0000,9, -999.00,9,   5.4620, -999.00,9,  -999.0,9,  -999.0,-999.000,9,-999.000,  -999.0,9, -999.00,9,     37.830,3, -999.00,9,   0.002,-999.0000, -999.00,     -999.0,     -999.0,9,     -999.0,     -999.0,9,     -999.0,  -999.0,9,     -999.0,     -999.0,9,     -999.0,   5.3939,    34.7051,2,-999.0000,2,     -999.0,9
33RO20150410,     P16N.1,      22,          1,         12,         12,2,20150417,       1058,    -5.9991,  -151.0013,       5166,   951.0,   4.6688,  34.5422,2,  34.5420,2,     86.7,2,    87.1,2,   76.50,2,   39.20,2,    0.01,2,    2.68,4,   0.004,2,   0.001,2,       0,2,  2290.2,2,  2344.3,2,   7.4728,2,    25.00,   0.009,2,   1.8642,2,   16.66,2,   4.6674, -999.00,9,  -999.0,9,  -999.0,   7.903,2,   0.020,  -999.0,9, -999.00,9,     32.643,3, -999.00,9,   0.001,   0.0048,    0.20,     -999.0,     -999.0,9,     -999.0,     -999.0,9,     -999.0,  -999.0,9,     -999.0,     -999.0,9,     -999.0,   4.5922,    34.7049,2,-999.0000,2,     -999.0,9
33RO20150410,     P16N.1,      22,          1,         11,         11,2,20150417,       1058,    -5.9991,  -151.0013,       5166,  1100.3,   4.0175,  34.5557,2,  34.5540,2,     97.9,2,    98.3,2,   88.30,2,   38.50,2,    0.00,2,    2.67,4,  -0.003,2,   0.000,2,       0,2,  2297.4,2,  2358.8,2,   7.4904,6,    25.01,  -0.003,2,   1.8807,2,   19.85,2,   4.0169, -999.00,9,  -999.0,9,  -999.0,   7.982,2,   0.020,  -999.0,9, -999.00,9,     30.361,3, -999.00,9,   0.002,   0.0049,    0.20,     -999.0,     -999.0,9,     -999.0,     -999.0,9,     -999.0,  -999.0,9,     -999.0,     -999.0,9,     -999.0,   3.9332,    34.7169,2,-999.0000,2,     -999.0,9
33RO20150410,     P16N.1,      22,          1,         10,         10,2,20150417,       1058,    -5.9991,  -151.0013,       5166,  1299.5,   3.5489,  34.5731,2,  34.5720,2,    101.7,2,   101.8,2,   99.70,2,   38.40,2,    0.00,2,    2.69,4,   0.000,2,   0.001,2,   0.108,3,  2307.6,2,  2370.8,2,   7.4941,2,    25.01,  -0.001,2,-999.0000,9, -999.00,9,   3.5544, -999.00,9,  -999.0,9,  -999.0,-999.000,9,-999.000,  -999.0,9, -999.00,9,     29.262,3, -999.00,9,   0.001,-999.0000, -999.00,     -999.0,     -999.0,9,     -999.0,     -999.0,9,     -999.0,  -999.0,9,     -999.0,     -999.0,9,     -999.0,   3.4520,    34.7351,2,-999.0000,2,     -999.0,9
33RO20150410,     P16N.1,      22,          1,          9,          9,2,20150417,       1058,    -5.9991,  -151.0013,       5166,  1601.3,   2.8305,  34.6048,2,  34.6046,2,    111.8,2,   112.6,2,  115.80,2,   37.90,2,    0.00,2,    2.70,4,   0.037,3,   0.021,3,   0.024,2,  2316.7,2,  2388.7,2,   7.5118,2,    25.01,   0.008,2,-999.0000,9, -999.00,9,   2.8306, -999.00,9,  -999.0,9,  -999.0,-999.000,9,-999.000,  -999.0,9, -999.00,9,     26.201,3, -999.00,9,   0.002,-999.0000, -999.00,     -999.0,     -999.0,9,     -999.0,     -999.0,9,     -999.0,  -999.0,9,     -999.0,     -999.0,9,     -999.0,   2.7161,    34.7678,2,-999.0000,2,     -999.0,9
33RO20150410,     P16N.1,      22,          1,          8,          8,2,20150417,       1058,    -5.9991,  -151.0013,       5166,  1999.8,   2.2785,  34.6375,2,  34.6382,2,    120.2,2,   120.9,2,  130.10,2,   37.50,2,    0.01,2,    2.70,4,  -0.005,2,  -0.002,2,       0,2,  2329.6,2,  2405.8,2,   7.5270,2,    25.01,   0.010,2,   1.9294,2,   28.18,2,   2.2784, -999.00,9,  -999.0,9,  -999.0,   8.118,2,   0.020,  -999.0,9, -999.00,9,     24.612,3, -999.00,9,   0.001,   0.0050,    0.20,     -999.0,     -999.0,9,     -999.0,     -999.0,9,     -999.0,  -999.0,9,     -999.0,     -999.0,9,     -999.0,   2.1378,    34.8016,2,-999.0000,2,     -999.0,9
33RO20150410,     P16N.1,      22,          1,          7,          7,2,20150417,       1058,    -5.9991,  -151.0013,       5166,  2400.6,   1.9482,  34.6597,2,  34.6614,2,    128.9,2,   129.3,2,  137.40,2,   36.90,2,    0.00,2,    2.67,4,   0.000,2,  -0.001,2,       0,2,  2334.2,2,  2416.3,2,   7.5442,2,    25.00,-999.000,9,-999.0000,9, -999.00,9,   1.9482, -999.00,9,  -999.0,9,  -999.0,-999.000,9,-999.000,  -999.0,9, -999.00,9,     22.913,3, -999.00,9,-999.000,-999.0000, -999.00,     -999.0,     -999.0,9,     -999.0,     -999.0,9,     -999.0,  -999.0,9,     -999.0,     -999.0,9,     -999.0,   1.7778,    34.8249,6,-999.0000,2,     -999.0,9
33RO20150410,     P16N.1,      22,          1,          6,          6,2,20150417,       1058,    -5.9991,  -151.0013,       5166,  2799.8,   1.7564,  34.6730,2,  34.6724,2,    139.0,2,   138.9,2,  141.90,2,   36.30,2,    0.00,2,    2.63,4,  -0.004,2,  -0.002,2,       0,2,  2327.5,2,  2421.0,2,   7.5618,2,    25.00,-999.000,9,-999.0000,9, -999.00,9,   1.7568, -999.00,9,  -999.0,9,  -999.0,-999.000,9,-999.000,  -999.0,9, -999.00,9,     21.696,3, -999.00,9,-999.000,-999.0000, -999.00,     -999.0,     -999.0,9,     -999.0,     -999.0,9,     -999.0,  -999.0,9,     -999.0,     -999.0,9,     -999.0,   1.5530,    34.8359,2,-999.0000,2,     -999.0,9
33RO20150410,     P16N.1,      22,          1,          5,          5,2,20150417,       1058,    -5.9991,  -151.0013,       5166,  3200.7,   1.5929,  34.6817,2,  34.6805,2,    150.8,2,   150.9,2,  140.50,2,   35.50,2,    0.00,2,    2.56,4,  -0.002,2,  -0.002,2,       0,2,  2321.4,2,  2419.4,2,   7.5789,2,    25.01,-999.000,9,-999.0000,9, -999.00,9,   1.5930, -999.00,9,  -999.0,9,  -999.0,-999.000,9,-999.000,  -999.0,9, -999.00,9,     20.902,3, -999.00,9,-999.000,-999.0000, -999.00,     -999.0,     -999.0,9,     -999.0,     -999.0,9,     -999.0,  -999.0,9,     -999.0,     -999.0,9,     -999.0,   1.3545,    34.8440,2,-999.0000,2,     -999.0,9
33RO20150410,     P16N.1,      22,          1,          4,          4,2,20150417,       1058,    -5.9991,  -151.0013,       5166,  3600.5,   1.5050,  34.6882,2,  34.6873,2,    160.6,2,   160.3,2,  138.00,6,   35.00,6,    0.01,6,    2.51,4,   0.002,2,   0.000,2,       0,2,  2315.8,2,  2416.6,2,   7.5913,6,    24.99,-999.000,9,-999.0000,9, -999.00,9,   1.5051, -999.00,9,  -999.0,9,  -999.0,-999.000,9,-999.000,  -999.0,9, -999.00,9,     20.239,3, -999.00,9,-999.000,-999.0000, -999.00,     -999.0,     -999.0,9,     -999.0,     -999.0,9,     -999.0,  -999.0,9,     -999.0,     -999.0,9,     -999.0,   1.2283,    34.8508,2,-999.0000,2,     -999.0,9
33RO20150410,     P16N.1,      22,          1,          3,          3,2,20150417,       1058,    -5.9991,  -151.0013,       5166,  4100.9,   1.4157,  34.6947,2,  34.6930,2,    170.6,2,   170.7,2,  134.90,6,   34.40,6,    0.00,6,    2.45,4,   0.074,3,   0.093,4,   3.995,4,  2304.2,2,  2408.4,2,   7.5987,2,    25.01,-999.000,9,-999.0000,9, -999.00,9,   1.4159, -999.00,9,  -999.0,9,  -999.0,-999.000,9,-999.000,  -999.0,9, -999.00,9,     19.744,4, -999.00,9,-999.000,-999.0000, -999.00,     -999.0,     -999.0,9,     -999.0,     -999.0,9,     -999.0,  -999.0,9,     -999.0,     -999.0,9,     -999.0,   1.0881,    34.8566,2,-999.0000,2,     -999.0,9
33RO20150410,     P16N.1,      22,          1,          2,          2,2,20150417,       1058,    -5.9991,  -151.0013,       5166,  4600.5,   1.3442,  34.7006,2,  34.6990,2,    183.3,2,   183.7,2,  128.40,6,   33.40,6,    0.01,6,    2.38,4,  -0.002,2,   0.000,2,       0,2,  2289.5,2,  2393.7,6,   7.6029,2,    25.00,-999.000,9,-999.0000,9, -999.00,9,   1.3443, -999.00,9,  -999.0,9,  -999.0,-999.000,9,-999.000,  -999.0,9, -999.00,9,     19.205,3, -999.00,9,-999.000,-999.0000, -999.00,     -999.0,     -999.0,9,     -999.0,     -999.0,9,     -999.0,  -999.0,9,     -999.0,     -999.0,9,     -999.0,   0.9623,    34.8626,2,-999.0000,2,     -999.0,9
33RO20150410,     P16N.1,      22,          1,          1,          1,2,20150417,       1058,    -5.9991,  -151.0013,       5166,  5156.9,   1.3680,  34.7021,2,  34.7104,4,    189.8,2,   188.4,2,  125.60,6,   33.10,6,    0.01,6,    2.34,4,   0.010,2,   0.004,6,       0,6,  2284.2,6,  2388.7,2,   7.6065,2,    25.01,-999.000,9,-999.0000,9, -999.00,9,   1.3676, -999.00,9,  -999.0,9,  -999.0,-999.000,9,-999.000,  -999.0,9, -999.00,9,     18.807,3, -999.00,9,-999.000,-999.0000, -999.00,     -999.0,     -999.0,9,     -999.0,     -999.0,9,     -999.0,  -999.0,9,     -999.0,     -999.0,9,     -999.0,   0.9188,    34.8741,3,-999.0000,2,     -999.0,9