BOTTLE,20210709CCHSIOCBG
EXPOCODE,SECT_ID,STNNBR,CASTNO,SAMPNO,BTLNBR,BTLNBR_FLAG_W,DATE,TIME,LATITUDE,LONGITUDE,DEPTH,CTDPRS,CTDTMP,CTDSAL,CTDSAL_FLAG_W,SALNTY,SALNTY_FLAG_W,CTDOXY,CTDOXY_FLAG_W,OXYGEN,OXYGEN_FLAG_W,SILCAT,SILCAT_FLAG_W,NITRAT,NITRAT_FLAG_W,NITRIT,NITRIT_FLAG_W,PHSPHT,PHSPHT_FLAG_W,CFC-11,CFC-11_FLAG_W,CFC-12,CFC-12_FLAG_W,SF6,SF6_FLAG_W,TCARBN,TCARBN_FLAG_W,ALKALI,ALKALI_FLAG_W,PH_TOT,PH_TOT_FLAG_W,PH_TMP,TRITUM,TRITUM_FLAG_W,HELIUM,HELIUM_FLAG_W,DELHE3,DELHE3_FLAG_W,REFTMP,DELC13,DELC13_FLAG_W,DELC14,DELC14_FLAG_W,C14ERR,NEON,NEON_FLAG_W,NEONER,DOC,DOC_FLAG_W,TDN,TDN_FLAG_W,N2O,N2O_FLAG_W,ARGON,ARGON_FLAG_W,TRITER,HELIER,DELHER,ARGONER,KRYPTON,KRYPTON_FLAG_W,KRYPTONER,XENON,XENON_FLAG_W,XENONER,14C-DOC,14C-DOC_FLAG_W,14C-DOCERR,13C-DOC,13C-DOC_FLAG_W,13C-DOCERR,THETA,SALTREF,SALTREF_FLAG_W,SBE35,SBE35_FLAG_W,CHLORA,CHLORA_FLAG_W
,,,,,,,,,,,METERS,DBAR,ITS-90,PSS-78,,PSS-78,,UMOL/KG,,UMOL/KG,,UMOL/KG,,UMOL/KG,,UMOL/KG,,UMOL/KG,,PMOL/KG,,PMOL/KG,,FMOL/KG,,UMOL/KG,,UMOL/KG,,,,DEG C,TU,,NMOL/KG,,PERCNT,,DEG C,/MILLE,,/MILLE,,/MILLE,NMOL/KG,,NMOL/KG,UMOL/KG,,UMOL/KG,,NMOL/KG,,UMOL/KG,,TU,NMOL/KG,PERCNT,UMOL/KG,NMOL/KG,,NMOL/KG,NMOL/KG,,NMOL/KG,/MILLE,,/MILLE,/MILLE,,/MILLE,DEG C,G/KG,,ITS-90,,MG/M3,
33RO20150410,     P16N.1,      94,          1,         24,         24,2,20150506,       0403,    13.5002,  -152.0004,       5826,     4.0,  26.3822,  34.2589,2,  34.2583,2,    198.5,2,   200.5,2,    0.90,2,    0.00,2,    0.00,2,    0.20,2,   1.588,2,   1.014,2,   1.364,2,  1942.1,2,  2256.8,2,   8.0762,6,    25.00,-999.000,9,-999.0000,9, -999.00,9,  26.3811,    0.94,2,    33.0,2,     2.2,-999.000,9,-999.000,  -999.0,9, -999.00,9,      6.224,3, -999.00,9,-999.000,-999.0000, -999.00,     -999.0,     -999.0,9,     -999.0,     -999.0,9,     -999.0,  -999.0,9,     -999.0,     -999.0,9,     -999.0,  26.3813,    34.4199,2,-999.0000,9,     -999.0,9
33RO20150410,     P16N.1,      94,          1,         23,         23,2,20150506,       0403,    13.5002,  -152.0004,       5826,    24.1,  26.3942,  34.2558,2,  34.2627,2,    199.7,2,   200.8,2,    0.90,2,    0.00,2,    0.00,2,    0.20,2,-999.000,9,-999.000,9,-999.000,9,  1943.9,2,  2256.8,6,   8.0764,2,    24.99,-999.000,9,-999.0000,9, -999.00,9,  26.3944, -999.00,9,  -999.0,9,  -999.0,-999.000,9,-999.000,  -999.0,9, -999.00,9,     -999.0,9, -999.00,9,-999.000,-999.0000, -999.00,     -999.0,     -999.0,9,     -999.0,     -999.0,9,     -999.0,  -999.0,9,     -999.0,     -999.0,9,     -999.0,  26.3888,    34.4242,2,-999.0000,9,     -999.0,9
33RO20150410,     P16N.1,      94,          1,         22,         22,2,20150506,       0403,    13.5002,  -152.0004,       5826,    50.0,  26.3912,  34.2559,2,  34.2582,2,    199.4,2,   200.2,2,    0.90,2,    0.10,2,    0.00,2,    0.21,2,-999.000,9,-999.000,9,-999.000,9,  1943.2,2,  2256.7,2,   8.0764,2,    24.98,-999.000,9,-999.0000,9, -999.00,9,  26.3902, -999.00,9,  -999.0,9,  -999.0,-999.000,9,-999.000,  -999.0,9, -999.00,9,     -999.0,9, -999.00,9,-999.000,-999.0000, -999.00,     -999.0,     -999.0,9,     -999.0,     -999.0,9,     -999.0,  -999.0,9,     -999.0,     -999.0,9,     -999.0,  26.3800,    34.4197,2,-999.0000,9,     -999.0,9
33RO20150410,     P16N.1,      94,          1,         21,         21,2,20150506,       0403,    13.5002,  -152.0004,       5826,    80.3,  25.2626,  35.0159,2,  35.0217,2,    209.7,2,   210.1,2,    0.90,2,    0.10,2,    0.00,2,    0.24,2,   1.718,2,   1.082,2,   1.394,2,  1997.2,3,  2310.4,2,   8.0639,2,    24.99,-999.000,9,-999.0000,9, -999.00,9,  25.2603,    1.00,2,    27.3,2,     2.0,-999.000,9,-999.000,  -999.0,9, -999.00,9,      6.622,3, -999.00,9,-999.000,-999.0000, -999.00,     -999.0,     -999.0,9,     -999.0,     -999.0,9,     -999.0,  -999.0,9,     -999.0,     -999.0,9,     -999.0,  25.2451,    35.1868,2,-999.0000,9,     -999.0,9
33RO20150410,     P16N.1,      94,          1,         20,         20,2,20150506,       0403,    13.5002,  -152.0004,       5826,   130.2,  18.9759,  34.6986,2,  34.6915,2,    188.2,2,   188.2,2,    3.00,2,    2.20,2,    0.34,2,    0.52,2,   2.280,6,   1.372,6,    1.51,6,  2070.6,2,  2295.0,2,   7.9012,2,    25.00,-999.000,9,-999.0000,9, -999.00,9,  19.0025,    0.65,2,    33.3,2,     2.2,-999.000,9,-999.000,  -999.0,9, -999.00,9,     15.218,3, -999.00,9,-999.000,-999.0000, -999.00,     -999.0,     -999.0,9,     -999.0,     -999.0,9,     -999.0,  -999.0,9,     -999.0,     -999.0,9,     -999.0,  18.9528,    34.8551,2,-999.0000,9,     -999.0,9
33RO20150410,     P16N.1,      94,          1,         19,         19,2,20150506,       0403,    13.5002,  -152.0004,       5826,   199.5,  10.9388,  34.2903,2,  34.2784,2,    104.7,2,   100.1,2,   23.10,2,   22.60,2,    0.00,2,    1.90,2,   2.394,2,   1.308,2,   0.769,2,  2187.5,2,  2271.3,2,   7.5649,6,    25.01,-999.000,9,-999.0000,9, -999.00,9,  10.9376,   -0.21,2,     7.9,2,     2.0,-999.000,9,-999.000,  -999.0,9, -999.00,9,     42.415,3, -999.00,9,-999.000,-999.0000, -999.00,     -999.0,     -999.0,9,     -999.0,     -999.0,9,     -999.0,  -999.0,9,     -999.0,     -999.0,9,     -999.0,  10.9145,    34.4401,2,-999.0000,9,     -999.0,9
33RO20150410,     P16N.1,      94,          1,         18,         18,2,20150506,       0403,    13.5002,  -152.0004,       5826,   274.3,  10.1520,  34.5591,2,  34.5586,2,     17.8,2,    15.3,2,   33.60,2,   31.60,2,    0.01,2,    2.60,2,   0.723,2,   0.383,2,   0.162,2,  2262.1,2,  2295.5,2,   7.4022,3,    24.99,-999.000,9,-999.0000,9, -999.00,9,  10.1543,   -0.31,2,   -47.3,2,     2.0,-999.000,9,-999.000,  -999.0,9, -999.00,9,     51.732,3, -999.00,9,-999.000,-999.0000, -999.00,     -999.0,     -999.0,9,     -999.0,     -999.0,9,     -999.0,  -999.0,9,     -999.0,     -999.0,9,     -999.0,  10.1199,    34.7215,6,-999.0000,9,     -999.0,9
33RO20150410,     P16N.1,      94,          1,         17,         17,2,20150506,       0403,    13.5002,  -152.0004,       5826,   367.7,   8.9891,  34.5673,2,  34.5701,2,     20.0,2,    19.5,2,   39.10,2,   35.20,2,    0.00,2,    2.66,2,   0.316,2,   0.165,2,   0.045,2,  2266.6,6,  2303.2,2,   7.4028,2,    25.02,-999.000,9,-999.0000,9, -999.00,9,   8.9877,   -0.14,2,   -90.1,2,     2.0,-999.000,9,-999.000,  -999.0,9, -999.00,9,     54.569,3, -999.00,9,-999.000,-999.0000, -999.00,     -999.0,     -999.0,9,     -999.0,     -999.0,9,     -999.0,  -999.0,9,     -999.0,     -999.0,9,     -999.0,   8.9490,    34.7331,2,-999.0000,9,     -999.0,9
33RO20150410,     P16N.1,      94,          1,         16,         16,2,20150506,       0403,    13.5002,  -152.0004,       5826,   467.0,   8.0141,  34.5424,2,  34.5407,2,     22.2,2,    21.1,2,   46.90,2,   36.90,2,    0.00,2,    2.80,2,   0.139,2,   0.072,2,       0,2,  2281.1,2,  2311.4,2,   7.3932,6,    25.00,-999.000,9,-999.0000,9, -999.00,9,   8.0171,   -0.09,2,  -112.8,2,     1.8,-999.000,9,-999.000,  -999.0,9, -999.00,9,     55.700,3, -999.00,9,-999.000,-999.0000, -999.00,     -999.0,     -999.0,9,     -999.0,     -999.0,9,     -999.0,  -999.0,9,     -999.0,     -999.0,9,     -999.0,   7.9663,    34.7036,2,-999.0000,9,     -999.0,9
33RO20150410,     P16N.1,      94,          1,         15,         15,2,20150506,       0403,    13.5002,  -152.0004,       5826,   601.1,   6.9308,  34.5212,2,  34.5205,2,     24.0,2,    23.8,2,   58.00,2,   39.10,2,    0.00,2,    2.94,2,   0.047,2,   0.026,2,       0,2,  2297.3,2,  2323.1,2,   7.3848,2,    24.98,-999.000,9,-999.0000,9, -999.00,9,   6.9299,   -0.19,2,  -134.4,2,     1.7,-999.000,9,-999.000,  -999.0,9, -999.00,9,     50.955,3, -999.00,9,-999.000,-999.0000, -999.00,     -999.0,     -999.0,9,     -999.0,     -999.0,9,     -999.0,  -999.0,9,     -999.0,     -999.0,9,     -999.0,   6.8736,    34.6833,2,-999.0000,9,     -999.0,9
33RO20150410,     P16N.1,      94,          1,         14,         14,2,20150506,       0403,    13.5002,  -152.0004,       5826,   751.3,   5.6705,  34.5113,2,  34.5107,2,     24.2,2,    24.5,2,   74.50,2,   41.10,2,    0.00,2,    3.09,2,   0.011,2,   0.006,2,       0,2,  2317.7,2,  2340.7,2,   7.3690,2,    25.00,-999.000,9,-999.0000,9, -999.00,9,   5.6679,   -0.24,2,  -170.1,2,     1.8,-999.000,9,-999.000,  -999.0,9, -999.00,9,     50.431,3, -999.00,9,-999.000,-999.0000, -999.00,     -999.0,     -999.0,9,     -999.0,     -999.0,9,     -999.0,  -999.0,9,     -999.0,     -999.0,9,     -999.0,   5.6054,    34.6734,2,-999.0000,9,     -999.0,9
33RO20150410,     P16N.1,      94,          1,         13,         13,2,20150506,       0403,    13.5002,  -152.0004,       5826,   899.7,   4.8970,  34.5256,2,  34.5250,2,     26.3,2,    43.3,4,   87.20,2,   43.00,2,    0.00,2,    3.15,2,   0.008,2,   0.002,2,       0,2,  2332.7,3,  2354.0,2,   7.3637,6,    25.00,-999.000,9,-999.0000,9, -999.00,9,   4.9001, -999.00,9,  -999.0,9,  -999.0,-999.000,9,-999.000,  -999.0,9, -999.00,9,     49.117,3, -999.00,9,-999.000,-999.0000, -999.00,     -999.0,     -999.0,9,     -999.0,     -999.0,9,     -999.0,  -999.0,9,     -999.0,     -999.0,9,     -999.0,   4.8234,    34.6878,2,-999.0000,9,     -999.0,9
33RO20150410,     P16N.1,      94,          1,         12,         12,2,20150506,       0403,    13.5002,  -152.0004,       5826,  1050.9,   4.4089,  34.5464,2,  34.5456,2,     42.9,2,    26.2,4,   94.00,2,   42.20,2,    0.00,2,    3.09,2,-999.000,9,-999.000,9,-999.000,9,  2333.1,2,  2363.8,2,   7.3937,2,    25.00,-999.000,9,-999.0000,9, -999.00,9,   4.4108, -999.00,9,  -999.0,9,  -999.0,-999.000,9,-999.000,  -999.0,9, -999.00,9,     -999.0,9, -999.00,9,-999.000,-999.0000, -999.00,     -999.0,     -999.0,9,     -999.0,     -999.0,9,     -999.0,  -999.0,9,     -999.0,     -999.0,9,     -999.0,   4.3256,    34.7085,6,-999.0000,9,     -999.0,9
33RO20150410,     P16N.1,      94,          1,         11,         11,2,20150506,       0403,    13.5002,  -152.0004,       5826,  1229.6,   3.7877,  34.5682,2,  34.5665,2,     54.5,2,    54.8,2,  105.80,2,   41.70,2,    0.00,2,    3.04,2,   0.005,2,   0.000,2,       0,2,  2341.5,2,  2378.6,2,   7.4125,2,    24.99,-999.000,9,-999.0000,9, -999.00,9,   3.7876, -999.00,9,  -999.0,9,  -999.0,-999.000,9,-999.000,  -999.0,9, -999.00,9,     38.297,3, -999.00,9,-999.000,-999.0000, -999.00,     -999.0,     -999.0,9,     -999.0,     -999.0,9,     -999.0,  -999.0,9,     -999.0,     -999.0,9,     -999.0,   3.6944,    34.7295,2,-999.0000,9,     -999.0,9
33RO20150410,     P16N.1,      94,          1,         10,         10,2,20150506,       0403,    13.5002,  -152.0004,       5826,  1499.5,   3.1140,  34.5951,2,  34.5946,2,     67.7,2,    68.7,2,  119.50,2,   41.10,2,    0.00,2,    2.98,2,-999.000,9,-999.000,9,-999.000,9,  2348.1,2,  2395.9,2,   7.4370,2,    24.99,-999.000,9,-999.0000,9, -999.00,9,   3.1126, -999.00,9,  -999.0,9,  -999.0,-999.000,9,-999.000,  -999.0,9, -999.00,9,     -999.0,9, -999.00,9,-999.000,-999.0000, -999.00,     -999.0,     -999.0,9,     -999.0,     -999.0,9,     -999.0,  -999.0,9,     -999.0,     -999.0,9,     -999.0,   3.0048,    34.7577,2,-999.0000,9,     -999.0,9
33RO20150410,     P16N.1,      94,          1,          9,          9,3,20150506,       0403,    13.5002,  -152.0004,       5826,  1866.4,   2.3987,  34.6231,2,-999.0000,9,     86.6,2,  -999.0,9,   93.40,3,   32.80,3,    0.01,3,    2.44,3,-999.000,9,-999.000,9,-999.000,9,  -999.0,9,  -999.0,9,-999.0000,9,  -999.00,-999.000,9,-999.0000,9, -999.00,9,   2.3990, -999.00,9,  -999.0,9,  -999.0,-999.000,9,-999.000,  -999.0,9, -999.00,9,     -999.0,9, -999.00,9,-999.000,-999.0000, -999.00,     -999.0,     -999.0,9,     -999.0,     -999.0,9,     -999.0,  -999.0,9,     -999.0,     -999.0,9,     -999.0,-999.0000,     -999.0,9,-999.0000,9,     -999.0,9
33RO20150410,     P16N.1,      94,          1,          8,          8,2,20150506,       0403,    13.5002,  -152.0004,       5826,  2334.9,   1.9359,  34.6515,2,  34.6465,2,    105.1,2,   105.3,2,  143.50,2,   38.40,2,    0.00,2,    2.74,2,-999.000,9,-999.000,9,-999.000,9,  2353.0,2,  2422.7,2,   7.5040,2,    25.00,-999.000,9,-999.0000,9, -999.00,9,   1.9361, -999.00,9,  -999.0,9,  -999.0,-999.000,9,-999.000,  -999.0,9, -999.00,9,     -999.0,9, -999.00,9,-999.000,-999.0000, -999.00,     -999.0,     -999.0,9,     -999.0,     -999.0,9,     -999.0,  -999.0,9,     -999.0,     -999.0,9,     -999.0,   1.7716,    34.8099,3,-999.0000,9,     -999.0,9
33RO20150410,     P16N.1,      94,          1,          7,          7,2,20150506,       0403,    13.5002,  -152.0004,       5826,  2832.8,   1.7450,  34.6697,2,  34.6685,2,    113.7,2,   114.5,2,  148.90,2,   38.00,2,    0.00,2,    2.71,2,-999.000,9,-999.000,9,-999.000,9,  2351.1,2,  2431.8,2,   7.5232,6,    25.00,-999.000,9,-999.0000,9, -999.00,9,   1.7451, -999.00,9,  -999.0,9,  -999.0,-999.000,9,-999.000,  -999.0,9, -999.00,9,     -999.0,9, -999.00,9,-999.000,-999.0000, -999.00,     -999.0,     -999.0,9,     -999.0,     -999.0,9,     -999.0,  -999.0,9,     -999.0,     -999.0,9,     -999.0,   1.5388,    34.8320,2,-999.0000,9,     -999.0,9
33RO20150410,     P16N.1,      94,          1,          6,          6,2,20150506,       0403,    13.5002,  -152.0004,       5826,  3332.5,   1.6087,  34.6783,2,  34.6760,2,    125.5,2,   126.0,2,  150.60,2,   37.20,2,    0.00,2,    2.64,2,-999.000,9,-999.000,9,-999.000,9,  2345.3,2,  2432.9,2,   7.5440,2,    25.00,-999.000,9,-999.0000,9, -999.00,9,   1.6087, -999.00,9,  -999.0,9,  -999.0,-999.000,9,-999.000,  -999.0,9, -999.00,9,     -999.0,9, -999.00,9,-999.000,-999.0000, -999.00,     -999.0,     -999.0,9,     -999.0,     -999.0,9,     -999.0,  -999.0,9,     -999.0,     -999.0,9,     -999.0,   1.3568,    34.8395,2,-999.0000,9,     -999.0,9
33RO20150410,     P16N.1,      94,          1,          5,          5,2,20150506,       0403,    13.5002,  -152.0004,       5826,  3806.4,   1.5196,  34.6845,2,  34.6843,2,    139.3,2,   139.5,2,  146.80,2,   36.30,2,    0.00,2,    2.57,2,-999.000,9,-999.000,9,-999.000,9,  2337.7,2,  2428.7,2,   7.5630,2,    25.00,-999.000,9,-999.0000,9, -999.00,9,   1.5196, -999.00,9,  -999.0,9,  -999.0,-999.000,9,-999.000,  -999.0,9, -999.00,9,     -999.0,9, -999.00,9,-999.000,-999.0000, -999.00,     -999.0,     -999.0,9,     -999.0,     -999.0,9,     -999.0,  -999.0,9,     -999.0,     -999.0,9,     -999.0,   1.2209,    34.8478,2,-999.0000,9,     -999.0,9
33RO20150410,     P16N.1,      94,          1,          4,          4,2,20150506,       0403,    13.5002,  -152.0004,       5826,  4332.0,   1.4303,  34.6927,2,  34.6914,2,    157.8,2,   158.1,2,  136.40,6,   35.10,6,    0.00,6,    2.47,6,-999.000,9,-999.000,9,-999.000,9,  2317.2,2,  2418.0,2,   7.5857,6,    25.00,-999.000,9,-999.0000,9, -999.00,9,   1.4304, -999.00,9,  -999.0,9,  -999.0,-999.000,9,-999.000,  -999.0,9, -999.00,9,     -999.0,9, -999.00,9,-999.000,-999.0000, -999.00,     -999.0,     -999.0,9,     -999.0,     -999.0,9,     -999.0,  -999.0,9,     -999.0,     -999.0,9,     -999.0,   1.0765,    34.8549,2,-999.0000,9,     -999.0,9
33RO20150410,     P16N.1,      94,          1,          3,          3,2,20150506,       0403,    13.5002,  -152.0004,       5826,  4833.1,   1.3943,  34.6977,2,  34.6969,2,    170.0,2,   170.1,2,  129.40,6,   34.10,6,    0.00,6,    2.40,6,-999.000,9,-999.000,9,-999.000,9,  2302.5,2,  2406.4,6,   7.5950,2,    24.98,-999.000,9,-999.0000,9, -999.00,9,   1.3944, -999.00,9,  -999.0,9,  -999.0,-999.000,9,-999.000,  -999.0,9, -999.00,9,     -999.0,9, -999.00,9,-999.000,-999.0000, -999.00,     -999.0,     -999.0,9,     -999.0,     -999.0,9,     -999.0,  -999.0,9,     -999.0,     -999.0,9,     -999.0,   0.9835,    34.8605,2,-999.0000,9,     -999.0,9
33RO20150410,     P16N.1,      94,          1,          2,          2,2,20150506,       0403,    13.5002,  -152.0004,       5826,  5334.3,   1.4256,  34.6993,2,  34.6988,2,    172.5,2,   174.1,2,  126.90,6,   33.90,6,    0.00,6,    2.39,6,-999.000,9,-999.000,9,-999.000,9,  2296.8,2,  2402.8,2,   7.5987,2,    24.99,-999.000,9,-999.0000,9, -999.00,9,   1.4257, -999.00,9,  -999.0,9,  -999.0,-999.000,9,-999.000,  -999.0,9, -999.00,9,     -999.0,9, -999.00,9,-999.000,-999.0000, -999.00,     -999.0,     -999.0,9,     -999.0,     -999.0,9,     -999.0,  -999.0,9,     -999.0,     -999.0,9,     -999.0,   0.9525,    34.8625,2,-999.0000,9,     -999.0,9
33RO20150410,     P16N.1,      94,          1,          1,          1,2,20150506,       0403,    13.5002,  -152.0004,       5826,  5815.6,   1.4871,  34.6990,2,  34.6987,2,    174.9,2,   174.2,2,  127.50,6,   33.80,6,    0.00,6,    2.38,6,-999.000,9,-999.000,9,-999.000,9,  2297.4,6,  2400.8,2,   7.5990,2,    25.00,-999.000,9,-999.0000,9, -999.00,9,   1.4873, -999.00,9,  -999.0,9,  -999.0,-999.000,9,-999.000,  -999.0,9, -999.00,9,     -999.0,9, -999.00,9,-999.000,-999.0000, -999.00,     -999.0,     -999.0,9,     -999.0,     -999.0,9,     -999.0,  -999.0,9,     -999.0,     -999.0,9,     -999.0,   0.9500,    34.8623,2,-999.0000,9,     -999.0,9