BOTTLE,20210709CCHSIOCBG
EXPOCODE,SECT_ID,STNNBR,CASTNO,SAMPNO,BTLNBR,BTLNBR_FLAG_W,DATE,TIME,LATITUDE,LONGITUDE,DEPTH,CTDPRS,CTDTMP,CTDSAL,CTDSAL_FLAG_W,SALNTY,SALNTY_FLAG_W,CTDOXY,CTDOXY_FLAG_W,OXYGEN,OXYGEN_FLAG_W,SILCAT,SILCAT_FLAG_W,NITRAT,NITRAT_FLAG_W,NITRIT,NITRIT_FLAG_W,PHSPHT,PHSPHT_FLAG_W,CFC-11,CFC-11_FLAG_W,CFC-12,CFC-12_FLAG_W,SF6,SF6_FLAG_W,TCARBN,TCARBN_FLAG_W,ALKALI,ALKALI_FLAG_W,PH_TOT,PH_TOT_FLAG_W,PH_TMP,TRITUM,TRITUM_FLAG_W,HELIUM,HELIUM_FLAG_W,DELHE3,DELHE3_FLAG_W,REFTMP,DELC13,DELC13_FLAG_W,DELC14,DELC14_FLAG_W,C14ERR,NEON,NEON_FLAG_W,NEONER,DOC,DOC_FLAG_W,TDN,TDN_FLAG_W,N2O,N2O_FLAG_W,ARGON,ARGON_FLAG_W,TRITER,HELIER,DELHER,ARGONER,KRYPTON,KRYPTON_FLAG_W,KRYPTONER,XENON,XENON_FLAG_W,XENONER,14C-DOC,14C-DOC_FLAG_W,14C-DOCERR,13C-DOC,13C-DOC_FLAG_W,13C-DOCERR,THETA,SALTREF,SALTREF_FLAG_W,SBE35,SBE35_FLAG_W,CHLORA,CHLORA_FLAG_W
,,,,,,,,,,,METERS,DBAR,ITS-90,PSS-78,,PSS-78,,UMOL/KG,,UMOL/KG,,UMOL/KG,,UMOL/KG,,UMOL/KG,,UMOL/KG,,PMOL/KG,,PMOL/KG,,FMOL/KG,,UMOL/KG,,UMOL/KG,,,,DEG C,TU,,NMOL/KG,,PERCNT,,DEG C,/MILLE,,/MILLE,,/MILLE,NMOL/KG,,NMOL/KG,UMOL/KG,,UMOL/KG,,NMOL/KG,,UMOL/KG,,TU,NMOL/KG,PERCNT,UMOL/KG,NMOL/KG,,NMOL/KG,NMOL/KG,,NMOL/KG,/MILLE,,/MILLE,/MILLE,,/MILLE,DEG C,G/KG,,ITS-90,,MG/M3,
33RO20150410,     P16N.1,      34,          1,         24,         24,2,20150420,       1155,    -2.7102,  -151.0006,       4889,    10.1,  28.4714,  35.2398,2,  35.2403,2,    199.4,2,   199.4,2,    1.90,2,    3.70,2,    0.16,2,    0.34,4,   1.464,2,   0.955,2,   1.235,2,  2016.4,6,  2319.4,2,   8.0404,2,    25.00,-999.000,9,-999.0000,9, -999.00,9,  28.4692,    0.99,2,    37.9,2,     2.0,-999.000,9,-999.000,    61.7,2,    8.10,2,      6.600,3, -999.00,9,-999.000,-999.0000, -999.00,     -999.0,     -999.0,9,     -999.0,     -999.0,9,     -999.0,  -999.0,9,     -999.0,     -999.0,9,     -999.0,  28.4690,    35.4065,2,-999.0000,2,     -999.0,9
33RO20150410,     P16N.1,      34,          1,         23,         23,2,20150420,       1155,    -2.7102,  -151.0006,       4889,    25.8,  28.4783,  35.2394,2,  35.2437,2,    199.8,2,   198.4,2,    1.90,2,    3.70,2,    0.16,2,    0.34,4,-999.000,9,-999.000,9,-999.000,9,  2017.0,2,  2319.8,2,   8.0402,2,    25.01,-999.000,9,-999.0000,9, -999.00,9,  28.4769, -999.00,9,  -999.0,9,  -999.0,-999.000,9,-999.000,    60.1,2,    8.60,2,     -999.0,9, -999.00,9,-999.000,-999.0000, -999.00,     -999.0,     -999.0,9,     -999.0,     -999.0,9,     -999.0,  -999.0,9,     -999.0,     -999.0,9,     -999.0,  28.4721,    35.4098,2,-999.0000,2,     -999.0,9
33RO20150410,     P16N.1,      34,          1,         22,         22,2,20150420,       1155,    -2.7102,  -151.0006,       4889,    50.3,  28.3812,  35.3023,2,  35.3043,2,    200.3,2,   200.3,2,    1.90,2,    3.70,2,    0.16,2,    0.36,4,-999.000,9,-999.000,9,-999.000,9,  2021.0,2,  2323.3,2,   8.0388,6,    25.01,-999.000,9,-999.0000,9, -999.00,9,  28.3820,    0.98,2,    46.0,2,     2.6,-999.000,9,-999.000,    61.2,2,    7.90,2,     -999.0,9, -999.00,9,-999.000,-999.0000, -999.00,     -999.0,     -999.0,9,     -999.0,     -999.0,9,     -999.0,  -999.0,9,     -999.0,     -999.0,9,     -999.0,  28.3692,    35.4708,2,-999.0000,2,     -999.0,9
33RO20150410,     P16N.1,      34,          1,         21,         21,2,20150420,       1155,    -2.7102,  -151.0006,       4889,    75.3,  28.3106,  35.2918,2,  35.2933,2,    200.0,2,   199.6,2,    2.00,2,    3.80,2,    0.15,2,    0.36,4,   1.472,2,   0.959,2,   1.242,2,  2022.3,2,  2323.1,2,   8.0363,6,    25.01,-999.000,9,-999.0000,9, -999.00,9,  28.3176,    0.99,2,    38.7,2,     2.1,-999.000,9,-999.000,    60.8,2,    7.60,2,      6.659,3, -999.00,9,-999.000,-999.0000, -999.00,     -999.0,     -999.0,9,     -999.0,     -999.0,9,     -999.0,  -999.0,9,     -999.0,     -999.0,9,     -999.0,  28.2927,    35.4597,2,-999.0000,2,     -999.0,9
33RO20150410,     P16N.1,      34,          1,         20,         20,2,20150420,       1155,    -2.7102,  -151.0006,       4889,   101.0,  27.3522,  35.3328,2,  35.3331,2,    198.0,2,   197.2,2,    2.20,2,    4.80,2,    0.11,2,    0.46,4,   1.528,6,   0.993,6,   1.274,6,  2035.6,2,  2326.1,6,   8.0179,2,    25.00,-999.000,9,-999.0000,9, -999.00,9,  27.3590,    0.94,2,    49.4,2,     2.0,-999.000,9,-999.000,    61.3,2,    9.70,2,      6.872,3, -999.00,9,-999.000,-999.0000, -999.00,     -999.0,     -999.0,9,     -999.0,     -999.0,9,     -999.0,  -999.0,9,     -999.0,     -999.0,9,     -999.0,  27.3288,    35.4997,2,-999.0000,2,     -999.0,9
33RO20150410,     P16N.1,      34,          1,         19,         19,3,20150420,       1155,    -2.7102,  -151.0006,       4889,   151.7,  20.8842,  35.6311,2,  35.6133,3,    148.2,2,  -999.0,9,    3.50,2,    9.40,2,    1.50,2,    0.86,4,-999.000,9,-999.000,9,-999.000,9,  -999.0,9,  -999.0,9,-999.0000,9,  -999.00,-999.000,9,-999.0000,9, -999.00,9,  21.0642, -999.00,9,  -999.0,9,  -999.0,-999.000,9,-999.000,    54.6,2,   13.80,2,     -999.0,9, -999.00,9,-999.000,-999.0000, -999.00,     -999.0,     -999.0,9,     -999.0,     -999.0,9,     -999.0,  -999.0,9,     -999.0,     -999.0,9,     -999.0,  20.8552,    35.7812,2,-999.0000,3,     -999.0,9
33RO20150410,     P16N.1,      34,          1,         18,         18,2,20150420,       1155,    -2.7102,  -151.0006,       4889,   225.7,  12.4601,  34.8913,2,  34.8926,2,     21.9,2,    21.5,2,   23.90,2,   31.40,2,    0.01,2,    1.98,4,   1.081,2,   0.616,2,   0.263,2,  2240.1,2,  2301.0,2,   7.4882,6,    25.01,-999.000,9,-999.0000,9, -999.00,9,  12.4754,   -0.16,2,     3.9,2,     2.0,-999.000,9,-999.000,    45.4,2,   34.30,2,     69.645,3, -999.00,9,-999.000,-999.0000, -999.00,     -999.0,     -999.0,9,     -999.0,     -999.0,9,     -999.0,  -999.0,9,     -999.0,     -999.0,9,     -999.0,  12.4299,    35.0571,2,-999.0000,3,     -999.0,9
33RO20150410,     P16N.1,      34,          1,         17,         17,2,20150420,       1155,    -2.7102,  -151.0006,       4889,   300.9,  11.5597,  34.8385,2,  34.8379,2,     54.4,2,    54.4,2,   23.60,2,   29.30,2,    0.01,2,    1.87,4,   1.018,2,   0.567,2,   0.266,2,  2227.6,2,  2304.0,2,   7.5392,6,    25.00,-999.000,9,-999.0000,9, -999.00,9,  11.5555,    0.12,2,    -8.3,2,     1.9,-999.000,9,-999.000,    43.4,2,   31.10,2,     54.887,3, -999.00,9,-999.000,-999.0000, -999.00,     -999.0,     -999.0,9,     -999.0,     -999.0,9,     -999.0,  -999.0,9,     -999.0,     -999.0,9,     -999.0,  11.5213,    35.0022,2,-999.0000,2,     -999.0,9
33RO20150410,     P16N.1,      34,          1,         16,         16,2,20150420,       1155,    -2.7102,  -151.0006,       4889,   400.9,  10.1201,  34.7474,2,  34.7465,2,     43.2,2,    37.7,2,   29.90,2,   33.60,2,    0.01,2,    2.15,4,   0.559,2,   0.319,2,    0.13,2,  2249.6,2,  2303.5,2,   7.4663,2,    24.99,-999.000,9,-999.0000,9, -999.00,9,  10.1194,    0.11,2,   -42.6,2,     2.0,-999.000,9,-999.000,    43.2,2, -999.00,9,     61.730,3, -999.00,9,-999.000,-999.0000, -999.00,     -999.0,     -999.0,9,     -999.0,     -999.0,9,     -999.0,  -999.0,9,     -999.0,     -999.0,9,     -999.0,  10.0729,    34.9103,2,-999.0000,2,     -999.0,9
33RO20150410,     P16N.1,      34,          1,         15,         15,2,20150420,       1155,    -2.7102,  -151.0006,       4889,   500.8,   8.1541,  34.6334,2,  34.6316,2,     27.6,2,    28.3,2,   40.80,2,   39.40,2,    0.00,2,    2.47,4,   0.173,6,   0.101,6,   0.049,6,  2273.6,2,  2307.0,2,   7.4059,6,    25.01,-999.000,9,-999.0000,9, -999.00,9,   8.1551,    0.06,2,   -86.5,2,     2.1,-999.000,9,-999.000,    42.5,2, -999.00,9,     58.203,3, -999.00,9,-999.000,-999.0000, -999.00,     -999.0,     -999.0,9,     -999.0,     -999.0,9,     -999.0,  -999.0,9,     -999.0,     -999.0,9,     -999.0,   8.1021,    34.7949,2,-999.0000,3,     -999.0,9
33RO20150410,     P16N.1,      34,          1,         14,         14,2,20150420,       1155,    -2.7102,  -151.0006,       4889,   649.3,   6.6768,  34.5662,2,  34.5663,2,     59.5,2,    59.7,2,   49.90,2,   39.10,2,    0.00,2,    2.51,4,   0.093,2,   0.054,2,       0,2,  2272.4,2,  2317.5,2,   7.4443,2,    24.99,-999.000,9,-999.0000,9, -999.00,9,   6.6766,    0.22,2,  -119.7,2,     1.7,-999.000,9,-999.000,    38.7,2, -999.00,9,     43.462,3, -999.00,9,-999.000,-999.0000, -999.00,     -999.0,     -999.0,9,     -999.0,     -999.0,9,     -999.0,  -999.0,9,     -999.0,     -999.0,9,     -999.0,   6.6160,    34.7293,2,-999.0000,3,     -999.0,9
33RO20150410,     P16N.1,      34,          1,         13,         13,2,20150420,       1155,    -2.7102,  -151.0006,       4889,   799.4,   5.7926,  34.5482,2,  34.5478,2,     69.5,2,    69.2,2,   60.90,2,   39.80,2,    0.01,2,    2.58,4,   0.040,2,   0.023,2,       0,2,  2278.9,2,  2328.0,2,   7.4515,6,    25.01,-999.000,9,-999.0000,9, -999.00,9,   5.7920,    0.20,6,  -139.3,6,     1.2,-999.000,9,-999.000,    40.1,2, -999.00,9,     38.660,3, -999.00,9,-999.000,-999.0000, -999.00,     -999.0,     -999.0,9,     -999.0,     -999.0,9,     -999.0,  -999.0,9,     -999.0,     -999.0,9,     -999.0,   5.7223,    34.7107,2,-999.0000,2,     -999.0,9
33RO20150410,     P16N.1,      34,          1,         12,         12,2,20150420,       1155,    -2.7102,  -151.0006,       4889,   950.0,   4.9090,  34.5470,2,  34.5490,2,     78.1,2,    77.6,2,   75.10,2,   40.00,2,    0.00,2,    2.63,4,-999.000,9,-999.000,9,-999.000,9,  2291.7,2,  2343.3,2,   7.4593,2,    25.00,-999.000,9,-999.0000,9, -999.00,9,   4.9092, -999.00,9,  -999.0,9,  -999.0,-999.000,9,-999.000,    37.8,2, -999.00,9,     -999.0,9, -999.00,9,-999.000,-999.0000, -999.00,     -999.0,     -999.0,9,     -999.0,     -999.0,9,     -999.0,  -999.0,9,     -999.0,     -999.0,9,     -999.0,   4.8308,    34.7119,2,-999.0000,2,     -999.0,9
33RO20150410,     P16N.1,      34,          1,         11,         11,2,20150420,       1155,    -2.7102,  -151.0006,       4889,  1100.8,   4.1778,  34.5575,2,  34.5578,2,     89.7,2,    90.0,2,   88.30,2,   39.30,2,    0.00,2,    2.64,4,   0.008,2,   0.006,2,       0,2,  2301.0,6,  2358.8,2,   7.4771,6,    25.02,-999.000,9,-999.0000,9, -999.00,9,   4.1756, -999.00,9,  -999.0,9,  -999.0,-999.000,9,-999.000,    36.5,2, -999.00,9,     32.206,3, -999.00,9,-999.000,-999.0000, -999.00,     -999.0,     -999.0,9,     -999.0,     -999.0,9,     -999.0,  -999.0,9,     -999.0,     -999.0,9,     -999.0,   4.0921,    34.7208,2,-999.0000,2,     -999.0,9
33RO20150410,     P16N.1,      34,          1,         10,         10,2,20150420,       1155,    -2.7102,  -151.0006,       4889,  1301.6,   3.4758,  34.5818,2,  34.5865,2,     94.5,2,    94.6,2,  104.90,2,   39.40,2,    0.00,2,    2.67,4,-999.000,9,-999.000,9,-999.000,9,  2316.2,2,  2378.9,2,   7.4840,2,    25.00,-999.000,9,-999.0000,9, -999.00,9,   3.4750, -999.00,9,  -999.0,9,  -999.0,-999.000,9,-999.000,    37.4,2, -999.00,9,     -999.0,9, -999.00,9,-999.000,-999.0000, -999.00,     -999.0,     -999.0,9,     -999.0,     -999.0,9,     -999.0,  -999.0,9,     -999.0,     -999.0,9,     -999.0,   3.3794,    34.7496,2,-999.0000,2,     -999.0,9
33RO20150410,     P16N.1,      34,          1,          9,          9,2,20150420,       1155,    -2.7102,  -151.0006,       4889,  1601.3,   2.8235,  34.6093,2,  34.6112,2,    103.1,2,   103.4,2,  120.40,2,   39.00,2,    0.01,2,    2.67,4,   0.001,2,   0.003,2,       0,2,  2328.3,2,  2395.7,2,   7.4984,2,    25.00,-999.000,9,-999.0000,9, -999.00,9,   2.8229, -999.00,9,  -999.0,9,  -999.0,-999.000,9,-999.000,    36.2,2, -999.00,9,     27.675,3, -999.00,9,-999.000,-999.0000, -999.00,     -999.0,     -999.0,9,     -999.0,     -999.0,9,     -999.0,  -999.0,9,     -999.0,     -999.0,9,     -999.0,   2.7092,    34.7744,2,-999.0000,2,     -999.0,9
33RO20150410,     P16N.1,      34,          1,          8,          8,2,20150420,       1155,    -2.7102,  -151.0006,       4889,  1999.1,   2.2461,  34.6419,2,  34.6431,2,    111.9,2,   111.3,2,  136.00,2,   38.60,2,    0.01,2,    2.68,4,-999.000,9,-999.000,9,-999.000,9,  2340.9,2,  2413.9,2,   7.5144,2,    25.00,-999.000,9,-999.0000,9, -999.00,9,   2.2461, -999.00,9,  -999.0,9,  -999.0,-999.000,9,-999.000,    37.9,2, -999.00,9,     -999.0,9, -999.00,9,-999.000,-999.0000, -999.00,     -999.0,     -999.0,9,     -999.0,     -999.0,9,     -999.0,  -999.0,9,     -999.0,     -999.0,9,     -999.0,   2.1059,    34.8065,6,-999.0000,2,     -999.0,9
33RO20150410,     P16N.1,      34,          1,          7,          7,2,20150420,       1155,    -2.7102,  -151.0006,       4889,  2400.5,   1.9378,  34.6583,2,  34.6594,2,    124.5,2,   125.2,2,  139.50,2,   37.70,2,    0.00,2,    2.61,4,   0.001,2,   0.001,2,       0,2,  2337.8,2,  2419.0,2,   7.5371,2,    24.99,-999.000,9,-999.0000,9, -999.00,9,   1.9382, -999.00,9,  -999.0,9,  -999.0,-999.000,9,-999.000,    37.7,2, -999.00,9,     23.251,3, -999.00,9,-999.000,-999.0000, -999.00,     -999.0,     -999.0,9,     -999.0,     -999.0,9,     -999.0,  -999.0,9,     -999.0,     -999.0,9,     -999.0,   1.7676,    34.8228,2,-999.0000,2,     -999.0,9
33RO20150410,     P16N.1,      34,          1,          6,          6,2,20150420,       1155,    -2.7102,  -151.0006,       4889,  2800.7,   1.7555,  34.6690,2,  34.6696,2,    133.1,2,   135.1,2,  142.00,2,   37.20,2,    0.01,2,    2.56,4,-999.000,9,-999.000,9,-999.000,9,  2335.2,2,  2421.8,2,   7.5517,2,    25.01,-999.000,9,-999.0000,9, -999.00,9,   1.7553, -999.00,9,  -999.0,9,  -999.0,-999.000,9,-999.000,    37.5,2, -999.00,9,     -999.0,9, -999.00,9,-999.000,-999.0000, -999.00,     -999.0,     -999.0,9,     -999.0,     -999.0,9,     -999.0,  -999.0,9,     -999.0,     -999.0,9,     -999.0,   1.5521,    34.8331,2,-999.0000,2,     -999.0,9
33RO20150410,     P16N.1,      34,          1,          5,          5,2,20150420,       1155,    -2.7102,  -151.0006,       4889,  3199.8,   1.5847,  34.6787,2,  34.6792,2,    144.6,2,   145.6,2,  142.20,2,   36.40,2,    0.01,2,    2.52,4,  -0.001,2,   0.002,2,   0.022,3,  2330.5,2,  2422.1,2,   7.5685,2,    25.02,-999.000,9,-999.0000,9, -999.00,9,   1.5845, -999.00,9,  -999.0,9,  -999.0,-999.000,9,-999.000,    37.6,2, -999.00,9,     21.161,3, -999.00,9,-999.000,-999.0000, -999.00,     -999.0,     -999.0,9,     -999.0,     -999.0,9,     -999.0,  -999.0,9,     -999.0,     -999.0,9,     -999.0,   1.3466,    34.8427,2,-999.0000,2,     -999.0,9
33RO20150410,     P16N.1,      34,          1,          4,          4,2,20150420,       1155,    -2.7102,  -151.0006,       4889,  3600.3,   1.4587,  34.6888,2,  34.6886,2,    155.2,2,   155.4,2,  143.30,6,   35.80,6,    0.01,6,    2.46,4,-999.000,9,-999.000,9,-999.000,9,  2325.5,2,  2426.2,2,   7.5883,6,    25.00,-999.000,9,-999.0000,9, -999.00,9,   1.4589, -999.00,9,  -999.0,9,  -999.0,-999.000,9,-999.000,    38.0,2, -999.00,9,     -999.0,9, -999.00,9,-999.000,-999.0000, -999.00,     -999.0,     -999.0,9,     -999.0,     -999.0,9,     -999.0,  -999.0,9,     -999.0,     -999.0,9,     -999.0,   1.1832,    34.8522,2,-999.0000,2,     -999.0,9
33RO20150410,     P16N.1,      34,          1,          3,          3,2,20150420,       1155,    -2.7102,  -151.0006,       4889,  4002.3,   1.4203,  34.6928,2,  34.6941,2,    161.0,2,   161.7,2,  141.80,6,   35.40,6,    0.01,6,    2.42,4,  -0.002,2,   0.000,2,       0,2,  2321.2,2,  2423.4,2,   7.5962,2,    25.01,-999.000,9,-999.0000,9, -999.00,9,   1.4200, -999.00,9,  -999.0,9,  -999.0,-999.000,9,-999.000,    37.1,2, -999.00,9,     19.786,3, -999.00,9,-999.000,-999.0000, -999.00,     -999.0,     -999.0,9,     -999.0,     -999.0,9,     -999.0,  -999.0,9,     -999.0,     -999.0,9,     -999.0,   1.1033,    34.8576,6,-999.0000,2,     -999.0,9
33RO20150410,     P16N.1,      34,          1,          2,          2,2,20150420,       1155,    -2.7102,  -151.0006,       4889,  4499.9,   1.3523,  34.6988,2,  34.6988,2,    180.3,2,   179.9,2,  129.70,6,   34.00,6,    0.01,6,    2.31,4,-999.000,9,-999.000,9,-999.000,9,  2297.7,2,  2400.9,6,   7.6044,2,    25.00,-999.000,9,-999.0000,9, -999.00,9,   1.3523, -999.00,9,  -999.0,9,  -999.0,-999.000,9,-999.000,    36.0,2, -999.00,9,     -999.0,9, -999.00,9,-999.000,-999.0000, -999.00,     -999.0,     -999.0,9,     -999.0,     -999.0,9,     -999.0,  -999.0,9,     -999.0,     -999.0,9,     -999.0,   0.9818,    34.8625,2,-999.0000,2,     -999.0,9
33RO20150410,     P16N.1,      34,          1,          1,          1,2,20150420,       1155,    -2.7102,  -151.0006,       4889,  4878.8,   1.3605,  34.7003,2,  34.7083,4,    184.1,2,   183.3,2,  128.20,6,   33.80,6,    0.01,6,    2.29,4,   0.001,2,   0.002,2,       0,2,  2294.3,6,  2397.9,2,   7.6070,2,    25.01,-999.000,9,-999.0000,9, -999.00,9,   1.3605, -999.00,9,  -999.0,9,  -999.0,-999.000,9,-999.000,    37.9,2, -999.00,9,     18.953,3, -999.00,9,-999.000,-999.0000, -999.00,     -999.0,     -999.0,9,     -999.0,     -999.0,9,     -999.0,  -999.0,9,     -999.0,     -999.0,9,     -999.0,   0.9453,    34.8719,3,-999.0000,2,     -999.0,9