BOTTLE,20210709CCHSIOCBG
EXPOCODE,SECT_ID,STNNBR,CASTNO,SAMPNO,BTLNBR,BTLNBR_FLAG_W,DATE,TIME,LATITUDE,LONGITUDE,DEPTH,CTDPRS,CTDTMP,CTDSAL,CTDSAL_FLAG_W,SALNTY,SALNTY_FLAG_W,CTDOXY,CTDOXY_FLAG_W,OXYGEN,OXYGEN_FLAG_W,SILCAT,SILCAT_FLAG_W,NITRAT,NITRAT_FLAG_W,NITRIT,NITRIT_FLAG_W,PHSPHT,PHSPHT_FLAG_W,CFC-11,CFC-11_FLAG_W,CFC-12,CFC-12_FLAG_W,SF6,SF6_FLAG_W,TCARBN,TCARBN_FLAG_W,ALKALI,ALKALI_FLAG_W,PH_TOT,PH_TOT_FLAG_W,PH_TMP,TRITUM,TRITUM_FLAG_W,HELIUM,HELIUM_FLAG_W,DELHE3,DELHE3_FLAG_W,REFTMP,DELC13,DELC13_FLAG_W,DELC14,DELC14_FLAG_W,C14ERR,NEON,NEON_FLAG_W,NEONER,DOC,DOC_FLAG_W,TDN,TDN_FLAG_W,N2O,N2O_FLAG_W,ARGON,ARGON_FLAG_W,TRITER,HELIER,DELHER,ARGONER,KRYPTON,KRYPTON_FLAG_W,KRYPTONER,XENON,XENON_FLAG_W,XENONER,14C-DOC,14C-DOC_FLAG_W,14C-DOCERR,13C-DOC,13C-DOC_FLAG_W,13C-DOCERR,THETA,SALTREF,SALTREF_FLAG_W,SBE35,SBE35_FLAG_W,CHLORA,CHLORA_FLAG_W
,,,,,,,,,,,METERS,DBAR,ITS-90,PSS-78,,PSS-78,,UMOL/KG,,UMOL/KG,,UMOL/KG,,UMOL/KG,,UMOL/KG,,UMOL/KG,,PMOL/KG,,PMOL/KG,,FMOL/KG,,UMOL/KG,,UMOL/KG,,,,DEG C,TU,,NMOL/KG,,PERCNT,,DEG C,/MILLE,,/MILLE,,/MILLE,NMOL/KG,,NMOL/KG,UMOL/KG,,UMOL/KG,,NMOL/KG,,UMOL/KG,,TU,NMOL/KG,PERCNT,UMOL/KG,NMOL/KG,,NMOL/KG,NMOL/KG,,NMOL/KG,/MILLE,,/MILLE,/MILLE,,/MILLE,DEG C,G/KG,,ITS-90,,MG/M3,
33RO20150410,     P16N.1,      92,          1,         24,         24,2,20150505,       1219,    12.5000,  -152.0002,       5529,     9.9,  26.8281,  34.3087,2,  34.3096,2,    197.9,2,   198.1,2,    1.00,2,    0.10,2,    0.01,2,    0.20,2,   1.578,2,   1.009,2,   1.339,2,  1945.4,6,  2259.0,2,   8.0787,2,    25.00,-999.000,9,-999.0000,9, -999.00,9,  26.8262, -999.00,9,  -999.0,9,  -999.0,-999.000,9,-999.000,  -999.0,9, -999.00,9,      6.512,3, -999.00,9,-999.000,-999.0000, -999.00,     -999.0,     -999.0,9,     -999.0,     -999.0,9,     -999.0,  -999.0,9,     -999.0,     -999.0,9,     -999.0,  26.8258,    34.4714,2,-999.0000,9,     -999.0,9
33RO20150410,     P16N.1,      92,          1,         23,         23,2,20150505,       1219,    12.5000,  -152.0002,       5529,    25.5,  26.8258,  34.3079,2,  34.3092,2,    197.5,2,   198.2,2,    1.00,2,    0.10,2,    0.00,2,    0.22,2,   1.576,2,   1.002,2,   1.339,2,  1943.8,2,  2258.8,2,   8.0786,2,    25.00,-999.000,9,-999.0000,9, -999.00,9,  26.8234, -999.00,9,  -999.0,9,  -999.0,-999.000,9,-999.000,  -999.0,9, -999.00,9,      6.451,3, -999.00,9,-999.000,-999.0000, -999.00,     -999.0,     -999.0,9,     -999.0,     -999.0,9,     -999.0,  -999.0,9,     -999.0,     -999.0,9,     -999.0,  26.8200,    34.4710,2,-999.0000,9,     -999.0,9
33RO20150410,     P16N.1,      92,          1,         22,         22,2,20150505,       1219,    12.5000,  -152.0002,       5529,    50.8,  26.8342,  34.3075,2,  34.3092,2,    198.9,2,   198.0,2,    1.10,2,    0.10,2,    0.00,2,    0.22,2,   1.576,2,   1.000,2,   1.298,2,  1942.3,2,  2258.1,2,   8.0788,6,    24.99,-999.000,9,-999.0000,9, -999.00,9,  26.8332, -999.00,9,  -999.0,9,  -999.0,-999.000,9,-999.000,  -999.0,9, -999.00,9,      6.442,3, -999.00,9,-999.000,-999.0000, -999.00,     -999.0,     -999.0,9,     -999.0,     -999.0,9,     -999.0,  -999.0,9,     -999.0,     -999.0,9,     -999.0,  26.8226,    34.4710,2,-999.0000,9,     -999.0,9
33RO20150410,     P16N.1,      92,          1,         21,         21,2,20150505,       1219,    12.5000,  -152.0002,       5529,    74.2,  26.8068,  34.3064,2,  34.3103,2,    197.8,2,   198.2,2,    1.00,2,    0.10,2,    0.00,2,    0.22,2,   1.569,2,   1.000,2,   1.296,2,  1946.6,2,  2259.3,2,   8.0785,2,    24.98,-999.000,9,-999.0000,9, -999.00,9,  26.8109, -999.00,9,  -999.0,9,  -999.0,-999.000,9,-999.000,  -999.0,9, -999.00,9,      6.541,3, -999.00,9,-999.000,-999.0000, -999.00,     -999.0,     -999.0,9,     -999.0,     -999.0,9,     -999.0,  -999.0,9,     -999.0,     -999.0,9,     -999.0,  26.7899,    34.4721,2,-999.0000,9,     -999.0,9
33RO20150410,     P16N.1,      92,          1,         20,         20,2,20150505,       1219,    12.5000,  -152.0002,       5529,    99.5,  18.6311,  34.4451,2,  34.4519,2,    175.2,2,   174.8,2,    4.90,2,    5.20,2,    0.10,2,    0.82,2,   2.304,2,   1.362,6,   1.318,6,  2083.7,2,  2282.7,6,   7.8511,6,    25.00,-999.000,9,-999.0000,9, -999.00,9,  18.6204, -999.00,9,  -999.0,9,  -999.0,-999.000,9,-999.000,  -999.0,9, -999.00,9,     38.322,3, -999.00,9,-999.000,-999.0000, -999.00,     -999.0,     -999.0,9,     -999.0,     -999.0,9,     -999.0,  -999.0,9,     -999.0,     -999.0,9,     -999.0,  18.6137,    34.6144,2,-999.0000,9,     -999.0,9
33RO20150410,     P16N.1,      92,          1,         19,         19,2,20150505,       1219,    12.5000,  -152.0002,       5529,   150.3,  12.0898,  34.2467,2,  34.2767,2,    116.6,2,   105.0,2,   18.20,2,   20.20,2,    0.01,2,    1.74,2,   2.449,2,   1.361,2,   0.994,2,  2168.7,2,  2267.5,6,   7.6026,2,    24.98,-999.000,9,-999.0000,9, -999.00,9,  12.0878, -999.00,9,  -999.0,9,  -999.0,-999.000,9,-999.000,  -999.0,9, -999.00,9,     52.184,3, -999.00,9,-999.000,-999.0000, -999.00,     -999.0,     -999.0,9,     -999.0,     -999.0,9,     -999.0,  -999.0,9,     -999.0,     -999.0,9,     -999.0,  12.0703,    34.4384,2,-999.0000,9,     -999.0,9
33RO20150410,     P16N.1,      92,          1,         18,         18,2,20150505,       1219,    12.5000,  -152.0002,       5529,   224.3,  11.0303,  34.7267,2,  34.7255,2,      5.4,2,     5.5,2,   29.20,2,   34.00,2,    0.00,2,    2.56,2,   0.680,2,   0.368,2,   0.123,2,  2262.1,2,  2298.3,2,   7.4170,2,    24.99,-999.000,9,-999.0000,9, -999.00,9,  11.0320, -999.00,9,  -999.0,9,  -999.0,-999.000,9,-999.000,  -999.0,9, -999.00,9,     76.886,3, -999.00,9,-999.000,-999.0000, -999.00,     -999.0,     -999.0,9,     -999.0,     -999.0,9,     -999.0,  -999.0,9,     -999.0,     -999.0,9,     -999.0,  11.0026,    34.8893,2,-999.0000,9,     -999.0,9
33RO20150410,     P16N.1,      92,          1,         17,         17,2,20150505,       1219,    12.5000,  -152.0002,       5529,   300.4,  10.2416,  34.6952,2,  34.6950,2,      5.1,2,     4.7,2,   32.20,2,   34.90,2,    0.01,2,    2.61,2,   0.427,2,   0.232,2,   0.059,2,  2270.7,2,  2300.8,2,   7.3984,6,    24.99,-999.000,9,-999.0000,9, -999.00,9,  10.2394, -999.00,9,  -999.0,9,  -999.0,-999.000,9,-999.000,  -999.0,9, -999.00,9,     69.186,3, -999.00,9,-999.000,-999.0000, -999.00,     -999.0,     -999.0,9,     -999.0,     -999.0,9,     -999.0,  -999.0,9,     -999.0,     -999.0,9,     -999.0,  10.2062,    34.8586,2,-999.0000,9,     -999.0,9
33RO20150410,     P16N.1,      92,          1,         16,         16,2,20150505,       1219,    12.5000,  -152.0002,       5529,   400.5,   9.1714,  34.6343,2,  34.6301,2,      5.0,2,     5.1,2,   39.50,2,   35.70,2,    0.01,2,    2.79,2,   0.147,2,   0.078,2,       0,2,  2282.7,2,  2306.8,2,   7.3782,2,    24.98,-999.000,9,-999.0000,9, -999.00,9,   9.1801, -999.00,9,  -999.0,9,  -999.0,-999.000,9,-999.000,  -999.0,9, -999.00,9,     72.295,3, -999.00,9,-999.000,-999.0000, -999.00,     -999.0,     -999.0,9,     -999.0,     -999.0,9,     -999.0,  -999.0,9,     -999.0,     -999.0,9,     -999.0,   9.1271,    34.7934,2,-999.0000,9,     -999.0,9
33RO20150410,     P16N.1,      92,          1,         15,         15,2,20150505,       1219,    12.5000,  -152.0002,       5529,   501.5,   8.0802,  34.5724,2,  34.5712,2,     18.8,2,    19.4,2,   46.20,2,   37.20,2,    0.00,2,    2.84,2,   0.100,2,   0.056,2,       0,2,  2282.6,2,  2312.2,2,   7.3940,2,    24.98,-999.000,9,-999.0000,9, -999.00,9,   8.0799, -999.00,9,  -999.0,9,  -999.0,-999.000,9,-999.000,  -999.0,9, -999.00,9,     58.897,3, -999.00,9,-999.000,-999.0000, -999.00,     -999.0,     -999.0,9,     -999.0,     -999.0,9,     -999.0,  -999.0,9,     -999.0,     -999.0,9,     -999.0,   8.0285,    34.7342,2,-999.0000,9,     -999.0,9
33RO20150410,     P16N.1,      92,          1,         14,         14,2,20150505,       1219,    12.5000,  -152.0002,       5529,   649.2,   6.7381,  34.5326,2,  34.5380,2,     11.2,2,    11.4,2,   61.30,2,   40.10,2,    0.00,2,    3.09,2,   0.014,2,   0.008,2,       0,2,  2308.4,2,  2328.7,2,   7.3565,6,    24.99,-999.000,9,-999.0000,9, -999.00,9,   6.7381, -999.00,9,  -999.0,9,  -999.0,-999.000,9,-999.000,  -999.0,9, -999.00,9,     58.379,3, -999.00,9,-999.000,-999.0000, -999.00,     -999.0,     -999.0,9,     -999.0,     -999.0,9,     -999.0,  -999.0,9,     -999.0,     -999.0,9,     -999.0,   6.6770,    34.7009,6,-999.0000,9,     -999.0,9
33RO20150410,     P16N.1,      92,          1,         13,         13,2,20150505,       1219,    12.5000,  -152.0002,       5529,   801.2,   5.6354,  34.5291,2,  34.5274,2,     20.9,2,    21.2,2,   74.50,2,   42.30,2,    0.00,2,    3.15,2,   0.011,2,   0.003,2,       0,2,  2320.0,6,  2342.5,2,   7.3618,2,    24.98,-999.000,9,-999.0000,9, -999.00,9,   5.6356, -999.00,9,  -999.0,9,  -999.0,-999.000,9,-999.000,  -999.0,9, -999.00,9,     53.373,3, -999.00,9,-999.000,-999.0000, -999.00,     -999.0,     -999.0,9,     -999.0,     -999.0,9,     -999.0,  -999.0,9,     -999.0,     -999.0,9,     -999.0,   5.5659,    34.6903,2,-999.0000,9,     -999.0,9
33RO20150410,     P16N.1,      92,          1,         12,         12,2,20150505,       1219,    12.5000,  -152.0002,       5529,   950.1,   4.9115,  34.5423,2,  34.5427,2,     27.3,2,    26.7,2,   85.40,2,   43.10,2,    0.02,2,    3.20,2,   0.000,2,   0.000,2,       0,2,  2329.9,2,  2352.9,2,   7.3662,2,    24.98,-999.000,9,-999.0000,9, -999.00,9,   4.9118, -999.00,9,  -999.0,9,  -999.0,-999.000,9,-999.000,  -999.0,9, -999.00,9,     48.982,3, -999.00,9,-999.000,-999.0000, -999.00,     -999.0,     -999.0,9,     -999.0,     -999.0,9,     -999.0,  -999.0,9,     -999.0,     -999.0,9,     -999.0,   4.8333,    34.7055,2,-999.0000,9,     -999.0,9
33RO20150410,     P16N.1,      92,          1,         11,         11,2,20150505,       1219,    12.5000,  -152.0002,       5529,  1099.3,   4.3644,  34.5563,2,  34.5618,2,     39.2,2,    40.9,2,   94.60,2,   42.70,2,    0.01,2,    3.16,2,   0.007,2,   0.000,2,       0,2,  2334.0,2,  2366.7,2,   7.3873,2,    24.97,-999.000,9,-999.0000,9, -999.00,9,   4.3643, -999.00,9,  -999.0,9,  -999.0,-999.000,9,-999.000,  -999.0,9, -999.00,9,     42.709,3, -999.00,9,-999.000,-999.0000, -999.00,     -999.0,     -999.0,9,     -999.0,     -999.0,9,     -999.0,  -999.0,9,     -999.0,     -999.0,9,     -999.0,   4.2772,    34.7248,2,-999.0000,9,     -999.0,9
33RO20150410,     P16N.1,      92,          1,         10,         10,2,20150505,       1219,    12.5000,  -152.0002,       5529,  1300.0,   3.7220,  34.5745,2,  34.5747,2,     53.8,2,    54.2,2,  107.30,2,   42.00,2,    0.01,2,    3.09,2,-999.000,5,-999.000,5,-999.000,5,  2339.9,2,  2381.0,2,   7.4125,2,    24.98,-999.000,9,-999.0000,9, -999.00,9,   3.7223, -999.00,9,  -999.0,9,  -999.0,-999.000,9,-999.000,  -999.0,9, -999.00,9,     -999.0,5, -999.00,9,-999.000,-999.0000, -999.00,     -999.0,     -999.0,9,     -999.0,     -999.0,9,     -999.0,  -999.0,9,     -999.0,     -999.0,9,     -999.0,   3.6233,    34.7377,2,-999.0000,9,     -999.0,9
33RO20150410,     P16N.1,      92,          1,          9,          9,2,20150505,       1219,    12.5000,  -152.0002,       5529,  1600.9,   3.0070,  34.5974,2,  34.5967,2,     69.4,2,    69.8,2,  122.20,2,   40.90,2,    0.00,2,    2.99,2,-999.000,9,-999.000,9,-999.000,9,  2348.7,2,  2397.4,2,   7.4388,2,    24.98,-999.000,9,-999.0000,9, -999.00,9,   3.0094, -999.00,9,  -999.0,9,  -999.0,-999.000,9,-999.000,  -999.0,9, -999.00,9,     -999.0,9, -999.00,9,-999.000,-999.0000, -999.00,     -999.0,     -999.0,9,     -999.0,     -999.0,9,     -999.0,  -999.0,9,     -999.0,     -999.0,9,     -999.0,   2.8905,    34.7598,2,-999.0000,9,     -999.0,9
33RO20150410,     P16N.1,      92,          1,          8,          8,2,20150505,       1219,    12.5000,  -152.0002,       5529,  1999.0,   2.2486,  34.6342,2,  34.6332,2,     88.8,2,    88.6,2,  138.80,2,   40.00,2,    0.01,2,    2.86,2,-999.000,9,-999.000,9,-999.000,9,  2355.2,2,  2416.4,2,   7.4737,6,    24.99,-999.000,9,-999.0000,9, -999.00,9,   2.2493, -999.00,9,  -999.0,9,  -999.0,-999.000,9,-999.000,  -999.0,9, -999.00,9,     -999.0,9, -999.00,9,-999.000,-999.0000, -999.00,     -999.0,     -999.0,9,     -999.0,     -999.0,9,     -999.0,  -999.0,9,     -999.0,     -999.0,9,     -999.0,   2.1084,    34.7965,2,-999.0000,9,     -999.0,9
33RO20150410,     P16N.1,      92,          1,          7,          7,2,20150505,       1219,    12.5000,  -152.0002,       5529,  2500.5,   1.8648,  34.6593,2,  34.6596,2,    107.0,2,   107.4,2,  145.80,2,   38.50,2,    0.01,2,    2.77,2,-999.000,9,-999.000,9,-999.000,9,  2353.2,2,  2427.1,2,   7.5101,2,    24.97,-999.000,9,-999.0000,9, -999.00,9,   1.8646, -999.00,9,  -999.0,9,  -999.0,-999.000,9,-999.000,  -999.0,9, -999.00,9,     -999.0,9, -999.00,9,-999.000,-999.0000, -999.00,     -999.0,     -999.0,9,     -999.0,     -999.0,9,     -999.0,  -999.0,9,     -999.0,     -999.0,9,     -999.0,   1.6869,    34.8230,2,-999.0000,9,     -999.0,9
33RO20150410,     P16N.1,      92,          1,          6,          6,2,20150505,       1219,    12.5000,  -152.0002,       5529,  3000.2,   1.7005,  34.6730,2,  34.6745,2,    116.8,2,   117.6,2,  149.80,2,   37.80,2,    0.01,2,    2.71,2,-999.000,9,-999.000,9,-999.000,9,  2350.1,2,  2432.1,2,   7.5290,2,    24.99,-999.000,9,-999.0000,9, -999.00,9,   1.7008, -999.00,9,  -999.0,9,  -999.0,-999.000,9,-999.000,  -999.0,9, -999.00,9,     -999.0,9, -999.00,9,-999.000,-999.0000, -999.00,     -999.0,     -999.0,9,     -999.0,     -999.0,9,     -999.0,  -999.0,9,     -999.0,     -999.0,9,     -999.0,   1.4792,    34.8380,2,-999.0000,9,     -999.0,9
33RO20150410,     P16N.1,      92,          1,          5,          5,2,20150505,       1219,    12.5000,  -152.0002,       5529,  3499.4,   1.5792,  34.6798,2,  34.6808,2,    128.5,2,   129.1,2,  151.40,2,   37.00,2,    0.01,2,    2.62,2,-999.000,9,-999.000,9,-999.000,9,  2343.1,2,  2432.0,2,   7.5479,6,    24.99,-999.000,9,-999.0000,9, -999.00,9,   1.5794, -999.00,9,  -999.0,9,  -999.0,-999.000,9,-999.000,  -999.0,9, -999.00,9,     -999.0,9, -999.00,9,-999.000,-999.0000, -999.00,     -999.0,     -999.0,9,     -999.0,     -999.0,9,     -999.0,  -999.0,9,     -999.0,     -999.0,9,     -999.0,   1.3111,    34.8444,2,-999.0000,9,     -999.0,9
33RO20150410,     P16N.1,      92,          1,          4,          4,2,20150505,       1219,    12.5000,  -152.0002,       5529,  4000.1,   1.4637,  34.6890,2,  34.6885,2,    148.7,2,   149.4,2,  141.50,6,   35.70,6,    0.00,6,    2.53,6,-999.000,9,-999.000,9,-999.000,9,  2325.9,2,  2423.0,2,   7.5766,2,    24.98,-999.000,9,-999.0000,9, -999.00,9,   1.4636, -999.00,9,  -999.0,9,  -999.0,-999.000,9,-999.000,  -999.0,9, -999.00,9,     -999.0,9, -999.00,9,-999.000,-999.0000, -999.00,     -999.0,     -999.0,9,     -999.0,     -999.0,9,     -999.0,  -999.0,9,     -999.0,     -999.0,9,     -999.0,   1.1457,    34.8521,2,-999.0000,9,     -999.0,9
33RO20150410,     P16N.1,      92,          1,          3,          3,2,20150505,       1219,    12.5000,  -152.0002,       5529,  4500.7,   1.4020,  34.6953,2,  34.6964,2,    163.7,2,   164.0,2,  132.70,6,   34.60,6,    0.00,6,    2.44,6,-999.000,9,-999.000,9,-999.000,9,  2307.9,2,  2411.6,6,   7.5905,2,    25.01,-999.000,9,-999.0000,9, -999.00,9,   1.4023, -999.00,9,  -999.0,9,  -999.0,-999.000,9,-999.000,  -999.0,9, -999.00,9,     -999.0,9, -999.00,9,-999.000,-999.0000, -999.00,     -999.0,     -999.0,9,     -999.0,     -999.0,9,     -999.0,  -999.0,9,     -999.0,     -999.0,9,     -999.0,   1.0298,    34.8600,2,-999.0000,9,     -999.0,9
33RO20150410,     P16N.1,      92,          1,          2,          2,2,20150505,       1219,    12.5000,  -152.0002,       5529,  5000.3,   1.3940,  34.6989,2,  34.6987,2,    173.2,2,   172.5,2,  127.60,6,   33.90,6,    0.01,6,    2.40,6,-999.000,9,-999.000,9,-999.000,9,  2298.2,2,  2403.4,2,   7.5976,2,    24.99,-999.000,9,-999.0000,9, -999.00,9,   1.3941, -999.00,9,  -999.0,9,  -999.0,-999.000,9,-999.000,  -999.0,9, -999.00,9,     -999.0,9, -999.00,9,-999.000,-999.0000, -999.00,     -999.0,     -999.0,9,     -999.0,     -999.0,9,     -999.0,  -999.0,9,     -999.0,     -999.0,9,     -999.0,   0.9631,    34.8623,2,-999.0000,9,     -999.0,9
33RO20150410,     P16N.1,      92,          1,          1,          1,2,20150505,       1219,    12.5000,  -152.0002,       5529,  5519.1,   1.4495,  34.6992,2,  34.6994,2,    174.6,2,   174.2,2,  126.60,6,   33.80,6,    0.01,6,    2.38,6,-999.000,9,-999.000,9,-999.000,9,  2297.5,6,  2402.8,2,   7.5985,2,    24.99,-999.000,9,-999.0000,9, -999.00,9,   1.4496, -999.00,9,  -999.0,9,  -999.0,-999.000,9,-999.000,  -999.0,9, -999.00,9,     -999.0,9, -999.00,9,-999.000,-999.0000, -999.00,     -999.0,     -999.0,9,     -999.0,     -999.0,9,     -999.0,  -999.0,9,     -999.0,     -999.0,9,     -999.0,   0.9522,    34.8631,6,-999.0000,9,     -999.0,9