BOTTLE,20210709CCHSIOCBG
EXPOCODE,SECT_ID,STNNBR,CASTNO,SAMPNO,BTLNBR,BTLNBR_FLAG_W,DATE,TIME,LATITUDE,LONGITUDE,DEPTH,CTDPRS,CTDTMP,CTDSAL,CTDSAL_FLAG_W,SALNTY,SALNTY_FLAG_W,CTDOXY,CTDOXY_FLAG_W,OXYGEN,OXYGEN_FLAG_W,SILCAT,SILCAT_FLAG_W,NITRAT,NITRAT_FLAG_W,NITRIT,NITRIT_FLAG_W,PHSPHT,PHSPHT_FLAG_W,CFC-11,CFC-11_FLAG_W,CFC-12,CFC-12_FLAG_W,SF6,SF6_FLAG_W,TCARBN,TCARBN_FLAG_W,ALKALI,ALKALI_FLAG_W,PH_TOT,PH_TOT_FLAG_W,PH_TMP,TRITUM,TRITUM_FLAG_W,HELIUM,HELIUM_FLAG_W,DELHE3,DELHE3_FLAG_W,REFTMP,DELC13,DELC13_FLAG_W,DELC14,DELC14_FLAG_W,C14ERR,NEON,NEON_FLAG_W,NEONER,DOC,DOC_FLAG_W,TDN,TDN_FLAG_W,N2O,N2O_FLAG_W,ARGON,ARGON_FLAG_W,TRITER,HELIER,DELHER,ARGONER,KRYPTON,KRYPTON_FLAG_W,KRYPTONER,XENON,XENON_FLAG_W,XENONER,14C-DOC,14C-DOC_FLAG_W,14C-DOCERR,13C-DOC,13C-DOC_FLAG_W,13C-DOCERR,THETA,SALTREF,SALTREF_FLAG_W,SBE35,SBE35_FLAG_W,CHLORA,CHLORA_FLAG_W
,,,,,,,,,,,METERS,DBAR,ITS-90,PSS-78,,PSS-78,,UMOL/KG,,UMOL/KG,,UMOL/KG,,UMOL/KG,,UMOL/KG,,UMOL/KG,,PMOL/KG,,PMOL/KG,,FMOL/KG,,UMOL/KG,,UMOL/KG,,,,DEG C,TU,,NMOL/KG,,PERCNT,,DEG C,/MILLE,,/MILLE,,/MILLE,NMOL/KG,,NMOL/KG,UMOL/KG,,UMOL/KG,,NMOL/KG,,UMOL/KG,,TU,NMOL/KG,PERCNT,UMOL/KG,NMOL/KG,,NMOL/KG,NMOL/KG,,NMOL/KG,/MILLE,,/MILLE,/MILLE,,/MILLE,DEG C,G/KG,,ITS-90,,MG/M3,
33RO20150410,     P16N.1,      11,          1,         24,         24,2,20150414,       0358,   -11.4996,  -150.9991,       5098,    10.2,  29.2130,  35.8443,2,  35.8411,2,    192.9,2,   193.4,2,    0.80,2,    0.00,2,    0.00,2,    0.10,4,   1.376,6,   0.919,6,   1.235,6,  1997.8,2,  2360.6,2,   8.1235,2,    25.01,-999.000,9,-999.0000,9, -999.00,9,  29.2152, -999.00,9,  -999.0,9,  -999.0,-999.000,9,-999.000,    77.3,2,    5.80,2,      5.753,3, -999.00,9,-999.000,-999.0000, -999.00,     -999.0,     -999.0,9,     -999.0,     -999.0,9,     -999.0,  -999.0,9,     -999.0,     -999.0,9,     -999.0,  29.2105,    36.0101,2,-999.0000,2,     -999.0,9
33RO20150410,     P16N.1,      11,          1,         23,         23,2,20150414,       0358,   -11.4996,  -150.9991,       5098,    26.1,  29.1492,  35.8374,2,  35.8356,2,    193.1,2,   192.9,2,    0.70,2,    0.00,2,    0.00,2,    0.09,4,-999.000,9,-999.000,9,-999.000,9,  1996.6,2,  2360.0,6,   8.1238,2,    24.99,-999.000,9,-999.0000,9, -999.00,9,  29.1481, -999.00,9,  -999.0,9,  -999.0,-999.000,9,-999.000,    75.6,2,    5.00,2,     -999.0,9, -999.00,9,-999.000,-999.0000, -999.00,     -999.0,     -999.0,9,     -999.0,     -999.0,9,     -999.0,  -999.0,9,     -999.0,     -999.0,9,     -999.0,  29.1429,    36.0046,2,-999.0000,2,     -999.0,9
33RO20150410,     P16N.1,      11,          1,         22,         22,2,20150414,       0358,   -11.4996,  -150.9991,       5098,    49.6,  29.1343,  35.8365,2,  35.8348,2,    192.7,2,   194.8,2,    0.60,2,    0.00,2,    0.00,2,    0.10,4,   1.365,2,   0.915,2,   1.209,2,  1997.4,2,  2360.4,2,   8.1236,6,    25.01,-999.000,9,-999.0000,9, -999.00,9,  29.1304, -999.00,9,  -999.0,9,  -999.0,-999.000,9,-999.000,    76.4,2,    5.30,2,      5.743,3, -999.00,9,-999.000,-999.0000, -999.00,     -999.0,     -999.0,9,     -999.0,     -999.0,9,     -999.0,  -999.0,9,     -999.0,     -999.0,9,     -999.0,  29.1222,    36.0038,2,-999.0000,2,     -999.0,9
33RO20150410,     P16N.1,      11,          1,         21,         21,2,20150414,       0358,   -11.4996,  -150.9991,       5098,    75.6,  29.1116,  35.8380,2,  35.8462,2,    192.8,2,   198.9,4,    0.60,2,    0.00,2,    0.01,2,    0.15,4,-999.000,9,-999.000,9,-999.000,9,  1999.9,2,  2359.8,2,   8.1229,2,    25.01,-999.000,9,-999.0000,9, -999.00,9,  29.0978, -999.00,9,  -999.0,9,  -999.0,-999.000,9,-999.000,    76.3,2,    5.60,2,     -999.0,9, -999.00,9,-999.000,-999.0000, -999.00,     -999.0,     -999.0,9,     -999.0,     -999.0,9,     -999.0,  -999.0,9,     -999.0,     -999.0,9,     -999.0,  29.0932,    36.0152,6,-999.0000,2,     -999.0,9
33RO20150410,     P16N.1,      11,          1,         20,         20,2,20150414,       0358,   -11.4996,  -150.9991,       5098,   100.4,  28.0879,  36.0681,2,  36.1683,2,    197.9,2,   205.6,4,    0.90,2,    0.10,2,    0.03,2,    0.14,4,   1.477,2,   0.968,2,   1.219,2,  2030.9,6,  2383.3,2,   8.0996,6,    25.00,-999.000,9,-999.0000,9, -999.00,9,  28.0787, -999.00,9,  -999.0,9,  -999.0,-999.000,9,-999.000,    71.8,2,    4.80,2,      6.217,3, -999.00,9,-999.000,-999.0000, -999.00,     -999.0,     -999.0,9,     -999.0,     -999.0,9,     -999.0,  -999.0,9,     -999.0,     -999.0,9,     -999.0,  28.0641,    36.3388,2,-999.0000,2,     -999.0,9
33RO20150410,     P16N.1,      11,          1,         19,         19,2,20150414,       0358,   -11.4996,  -150.9991,       5098,   149.8,  25.9586,  36.3956,2,  36.3970,2,    166.7,2,   168.6,2,    1.10,2,    2.10,2,    1.17,2,    0.25,4,-999.000,9,-999.000,9,-999.000,9,  2082.6,2,  2397.4,2,   8.0372,2,    24.99,-999.000,9,-999.0000,9, -999.00,9,  25.9626, -999.00,9,  -999.0,9,  -999.0,-999.000,9,-999.000,    63.9,2,    7.60,2,     -999.0,9, -999.00,9,-999.000,-999.0000, -999.00,     -999.0,     -999.0,9,     -999.0,     -999.0,9,     -999.0,  -999.0,9,     -999.0,     -999.0,9,     -999.0,  25.9250,    36.5686,2,-999.0000,2,     -999.0,9
33RO20150410,     P16N.1,      11,          1,         18,         18,2,20150414,       0358,   -11.4996,  -150.9991,       5098,   224.3,  21.9917,  36.0684,2,  36.0648,2,    165.9,2,   166.1,2,    1.10,2,    4.80,2,    0.02,2,    0.32,4,   1.903,2,   1.228,2,   1.304,2,  2113.5,2,  2374.0,2,   7.9517,2,    25.00,-999.000,9,-999.0000,9, -999.00,9,  21.9953, -999.00,9,  -999.0,9,  -999.0,-999.000,9,-999.000,    56.2,2,    9.00,2,      7.980,3, -999.00,9,-999.000,-999.0000, -999.00,     -999.0,     -999.0,9,     -999.0,     -999.0,9,     -999.0,  -999.0,9,     -999.0,     -999.0,9,     -999.0,  21.9471,    36.2349,2,-999.0000,2,     -999.0,9
33RO20150410,     P16N.1,      11,          1,         17,         17,2,20150414,       0358,   -11.4996,  -150.9991,       5098,   300.0,  15.9594,  35.1620,2,  35.1634,2,    138.2,2,   139.4,2,    4.60,2,   12.10,2,    0.01,2,    0.66,4,   2.221,2,   1.328,2,   1.109,2,  2146.5,2,  2317.7,2,   7.7884,2,    25.00,-999.000,9,-999.0000,9, -999.00,9,  16.0317, -999.00,9,  -999.0,9,  -999.0,-999.000,9,-999.000,    48.6,2,   14.90,2,     20.189,3, -999.00,9,-999.000,-999.0000, -999.00,     -999.0,     -999.0,9,     -999.0,     -999.0,9,     -999.0,  -999.0,9,     -999.0,     -999.0,9,     -999.0,  15.9118,    35.3292,2,-999.0000,2,     -999.0,9
33RO20150410,     P16N.1,      11,          1,         16,         16,2,20150414,       0358,   -11.4996,  -150.9991,       5098,   400.9,  10.2896,  34.6699,2,  34.6716,2,     91.4,2,    91.6,2,   18.20,2,   26.60,2,    0.01,2,    1.31,4,   1.066,2,   0.599,2,   0.282,2,  2209.5,2,  2295.1,2,   7.5766,3,    24.99,-999.000,9,-999.0000,9, -999.00,9,  10.2852, -999.00,9,  -999.0,9,  -999.0,-999.000,9,-999.000,    42.2,2, -999.00,9,     35.917,3, -999.00,9,-999.000,-999.0000, -999.00,     -999.0,     -999.0,9,     -999.0,     -999.0,9,     -999.0,  -999.0,9,     -999.0,     -999.0,9,     -999.0,  10.2419,    34.8351,2,-999.0000,2,     -999.0,9
33RO20150410,     P16N.1,      11,          1,         15,         15,2,20150414,       0358,   -11.4996,  -150.9991,       5098,   499.7,   7.9865,  34.5786,2,  34.5803,2,    123.4,2,   121.1,2,   27.30,2,   29.90,2,    0.01,2,    1.49,4,-999.000,9,-999.000,9,-999.000,9,  2208.5,2,  2300.6,2,   7.5864,2,    25.00,-999.000,9,-999.0000,9, -999.00,9,   7.9880, -999.00,9,  -999.0,9,  -999.0,-999.000,9,-999.000,    43.1,2, -999.00,9,     -999.0,9, -999.00,9,-999.000,-999.0000, -999.00,     -999.0,     -999.0,9,     -999.0,     -999.0,9,     -999.0,  -999.0,9,     -999.0,     -999.0,9,     -999.0,   7.9353,    34.7433,2,-999.0000,2,     -999.0,9
33RO20150410,     P16N.1,      11,          1,         14,         14,2,20150414,       0358,   -11.4996,  -150.9991,       5098,   650.3,   6.2041,  34.5098,2,  34.5110,2,    127.5,2,   126.8,2,   40.90,2,   33.20,2,    0.00,2,    1.78,4,   0.262,2,   0.147,2,    0.07,2,  2227.9,2,  2310.6,2,   7.5617,2,    24.99,-999.000,9,-999.0000,9, -999.00,9,   6.2050, -999.00,9,  -999.0,9,  -999.0,-999.000,9,-999.000,    39.4,2, -999.00,9,     29.058,3, -999.00,9,-999.000,-999.0000, -999.00,     -999.0,     -999.0,9,     -999.0,     -999.0,9,     -999.0,  -999.0,9,     -999.0,     -999.0,9,     -999.0,   6.1456,    34.6737,2,-999.0000,2,     -999.0,9
33RO20150410,     P16N.1,      11,          1,         13,         13,2,20150414,       0358,   -11.4996,  -150.9991,       5098,   781.1,   5.3989,  34.5087,2,  34.5094,2,    112.8,2,   110.1,2,   53.30,2,   36.50,2,    0.00,2,    2.08,4,   0.092,2,   0.051,2,   0.034,2,  2252.7,2,  2321.2,2,   7.5197,6,    25.00,-999.000,9,-999.0000,9, -999.00,9,   5.3994, -999.00,9,  -999.0,9,  -999.0,-999.000,9,-999.000,    38.7,2, -999.00,9,     31.090,3, -999.00,9,-999.000,-999.0000, -999.00,     -999.0,     -999.0,9,     -999.0,     -999.0,9,     -999.0,  -999.0,9,     -999.0,     -999.0,9,     -999.0,   5.3327,    34.6721,2,-999.0000,2,     -999.0,9
33RO20150410,     P16N.1,      11,          1,         12,         12,2,20150414,       0358,   -11.4996,  -150.9991,       5098,   849.8,   5.0068,  34.5041,2,  34.5071,2,    119.8,2,   118.5,2,   58.00,2,   36.10,2,    0.00,2,    2.14,4,-999.000,9,-999.000,9,-999.000,9,  2254.7,2,  2326.3,2,   7.5302,3,    24.99,-999.000,9,-999.0000,9, -999.00,9,   5.0063, -999.00,9,  -999.0,9,  -999.0,-999.000,9,-999.000,    38.1,2, -999.00,9,     -999.0,9, -999.00,9,-999.000,-999.0000, -999.00,     -999.0,     -999.0,9,     -999.0,     -999.0,9,     -999.0,  -999.0,9,     -999.0,     -999.0,9,     -999.0,   4.9369,    34.6698,2,-999.0000,3,     -999.0,9
33RO20150410,     P16N.1,      11,          1,         11,         11,2,20150414,       0358,   -11.4996,  -150.9991,       5098,   949.8,   4.6214,  34.5206,2,  34.5208,2,    106.7,2,   105.8,2,   67.80,2,   37.80,2,    0.00,2,    2.34,4,-999.000,9,-999.000,9,-999.000,9,  2272.4,2,  2335.0,2,   7.5051,2,    24.98,-999.000,9,-999.0000,9, -999.00,9,   4.6199, -999.00,9,  -999.0,9,  -999.0,-999.000,9,-999.000,    37.8,2, -999.00,9,     -999.0,9, -999.00,9,-999.000,-999.0000, -999.00,     -999.0,     -999.0,9,     -999.0,     -999.0,9,     -999.0,  -999.0,9,     -999.0,     -999.0,9,     -999.0,   4.5453,    34.6836,2,-999.0000,3,     -999.0,9
33RO20150410,     P16N.1,      11,          1,         10,         10,2,20150414,       0358,   -11.4996,  -150.9991,       5098,  1251.4,   3.4098,  34.5588,2,  34.5603,2,    120.8,2,   121.6,2,   90.30,2,   37.30,2,    0.00,2,    2.65,4,-999.000,9,-999.000,9,-999.000,9,  2287.5,2,  2360.5,2,   7.5239,2,    24.98,-999.000,9,-999.0000,9, -999.00,9,   3.4104, -999.00,9,  -999.0,9,  -999.0,-999.000,9,-999.000,    37.5,2, -999.00,9,     -999.0,9, -999.00,9,-999.000,-999.0000, -999.00,     -999.0,     -999.0,9,     -999.0,     -999.0,9,     -999.0,  -999.0,9,     -999.0,     -999.0,9,     -999.0,   3.3183,    34.7233,2,-999.0000,2,     -999.0,9
33RO20150410,     P16N.1,      11,          1,          9,          9,2,20150414,       0358,   -11.4996,  -150.9991,       5098,  1600.0,   2.6465,  34.6035,2,  34.6058,2,    132.3,2,   132.3,2,  108.50,2,   36.60,2,    0.00,2,    2.88,4,-999.000,9,-999.000,9,-999.000,9,  2299.6,2,  2378.4,2,   7.5427,2,    24.99,-999.000,9,-999.0000,9, -999.00,9,   2.6464, -999.00,9,  -999.0,9,  -999.0,-999.000,9,-999.000,    38.8,2, -999.00,9,     -999.0,9, -999.00,9,-999.000,-999.0000, -999.00,     -999.0,     -999.0,9,     -999.0,     -999.0,9,     -999.0,  -999.0,9,     -999.0,     -999.0,9,     -999.0,   2.5345,    34.7690,2,-999.0000,2,     -999.0,9
33RO20150410,     P16N.1,      11,          1,          8,          8,2,20150414,       0358,   -11.4996,  -150.9991,       5098,  2000.5,   2.1506,  34.6381,2,  34.6386,2,    140.9,2,   142.0,2,  119.80,2,   36.10,2,    0.00,2,    3.02,4,-999.000,9,-999.000,9,-999.000,9,  2306.3,2,  2393.1,2,   7.5587,2,    24.99,-999.000,9,-999.0000,9, -999.00,9,   2.1503, -999.00,9,  -999.0,9,  -999.0,-999.000,9,-999.000,    36.8,2, -999.00,9,     -999.0,9, -999.00,9,-999.000,-999.0000, -999.00,     -999.0,     -999.0,9,     -999.0,     -999.0,9,     -999.0,  -999.0,9,     -999.0,     -999.0,9,     -999.0,   2.0118,    34.8019,2,-999.0000,2,     -999.0,9
33RO20150410,     P16N.1,      11,          1,          7,          7,2,20150414,       0358,   -11.4996,  -150.9991,       5098,  2399.7,   1.9007,  34.6610,2,  34.6623,2,    146.1,2,   146.5,2,  127.40,2,   35.90,2,    0.00,2,    3.12,4,-999.000,9,-999.000,9,-999.000,9,  2313.1,2,  2404.3,2,   7.5681,2,    25.01,-999.000,9,-999.0000,9, -999.00,9,   1.9009, -999.00,9,  -999.0,9,  -999.0,-999.000,9,-999.000,    37.1,2, -999.00,9,     -999.0,9, -999.00,9,-999.000,-999.0000, -999.00,     -999.0,     -999.0,9,     -999.0,     -999.0,9,     -999.0,  -999.0,9,     -999.0,     -999.0,9,     -999.0,   1.7312,    34.8257,2,-999.0000,2,     -999.0,9
33RO20150410,     P16N.1,      11,          1,          6,          6,2,20150414,       0358,   -11.4996,  -150.9991,       5098,  2800.5,   1.7620,  34.6737,2,  34.6739,2,    149.0,2,   147.8,2,  132.90,2,   35.80,2,    0.00,2,    3.20,4,-999.000,9,-999.000,9,-999.000,9,  2319.7,6,  2411.5,2,   7.5744,2,    24.99,-999.000,9,-999.0000,9, -999.00,9,   1.7623, -999.00,9,  -999.0,9,  -999.0,-999.000,9,-999.000,    36.5,2, -999.00,9,     -999.0,9, -999.00,9,-999.000,-999.0000, -999.00,     -999.0,     -999.0,9,     -999.0,     -999.0,9,     -999.0,  -999.0,9,     -999.0,     -999.0,9,     -999.0,   1.5584,    34.8374,2,-999.0000,2,     -999.0,9
33RO20150410,     P16N.1,      11,          1,          5,          5,2,20150414,       0358,   -11.4996,  -150.9991,       5098,  3200.0,   1.6477,  34.6813,2,  34.6818,2,    154.5,2,   153.7,2,  133.70,2,   35.40,2,    0.00,2,    3.20,4,-999.000,9,-999.000,9,-999.000,9,  2314.4,2,  2412.5,2,   7.5833,6,    24.99,-999.000,9,-999.0000,9, -999.00,9,   1.6477, -999.00,9,  -999.0,9,  -999.0,-999.000,9,-999.000,    36.8,2, -999.00,9,     -999.0,9, -999.00,9,-999.000,-999.0000, -999.00,     -999.0,     -999.0,9,     -999.0,     -999.0,9,     -999.0,  -999.0,9,     -999.0,     -999.0,9,     -999.0,   1.4081,    34.8453,2,-999.0000,2,     -999.0,9
33RO20150410,     P16N.1,      11,          1,          4,          4,2,20150414,       0358,   -11.4996,  -150.9991,       5098,  3599.9,   1.5319,  34.6880,2,  34.6883,2,    167.0,2,   166.5,2,  129.80,6,   34.60,6,    0.00,6,    3.10,4,-999.000,9,-999.000,9,-999.000,9,  2300.6,2,  2400.3,2,   7.5917,6,    25.00,-999.000,9,-999.0000,9, -999.00,9,   1.5316, -999.00,9,  -999.0,9,  -999.0,-999.000,9,-999.000,    37.2,2, -999.00,9,     -999.0,9, -999.00,9,-999.000,-999.0000, -999.00,     -999.0,     -999.0,9,     -999.0,     -999.0,9,     -999.0,  -999.0,9,     -999.0,     -999.0,9,     -999.0,   1.2546,    34.8518,2,-999.0000,2,     -999.0,9
33RO20150410,     P16N.1,      11,          1,          3,          3,2,20150414,       0358,   -11.4996,  -150.9991,       5098,  4096.3,   1.4064,  34.6962,2,  34.6957,2,    178.6,2,   179.0,2,  125.50,6,   33.70,6,    0.00,6,    3.02,4,-999.000,9,-999.000,9,-999.000,9,  2288.3,2,  2388.4,2,   7.5986,2,    25.00,-999.000,9,-999.0000,9, -999.00,9,   1.4065, -999.00,9,  -999.0,9,  -999.0,-999.000,9,-999.000,    36.6,2, -999.00,9,     -999.0,9, -999.00,9,-999.000,-999.0000, -999.00,     -999.0,     -999.0,9,     -999.0,     -999.0,9,     -999.0,  -999.0,9,     -999.0,     -999.0,9,     -999.0,   1.0795,    34.8593,6,-999.0000,2,     -999.0,9
33RO20150410,     P16N.1,      11,          1,          2,          2,2,20150414,       0358,   -11.4996,  -150.9991,       5098,  4601.0,   1.3157,  34.7027,2,  34.7028,2,    189.5,2,   189.0,2,  122.50,6,   33.00,6,    0.00,6,    2.94,4,-999.000,9,-999.000,9,-999.000,9,  2277.5,2,  2380.0,6,   7.6039,6,    24.99,-999.000,9,-999.0000,9, -999.00,9,   1.3158, -999.00,9,  -999.0,9,  -999.0,-999.000,9,-999.000,    38.2,2, -999.00,9,     -999.0,9, -999.00,9,-999.000,-999.0000, -999.00,     -999.0,     -999.0,9,     -999.0,     -999.0,9,     -999.0,  -999.0,9,     -999.0,     -999.0,9,     -999.0,   0.9347,    34.8665,2,-999.0000,2,     -999.0,9
33RO20150410,     P16N.1,      11,          1,          1,          1,2,20150414,       0358,   -11.4996,  -150.9991,       5098,  5089.2,   1.3209,  34.7048,2,  34.7074,2,    194.7,2,   192.3,2,  121.50,6,   32.80,6,    0.00,6,    2.91,4,-999.000,9,-999.000,9,-999.000,9,  2274.3,6,  2378.3,2,   7.6044,2,    25.01,-999.000,9,-999.0000,9, -999.00,9,   1.3208, -999.00,9,  -999.0,9,  -999.0,-999.000,9,-999.000,    40.2,2, -999.00,9,     -999.0,9, -999.00,9,-999.000,-999.0000, -999.00,     -999.0,     -999.0,9,     -999.0,     -999.0,9,     -999.0,  -999.0,9,     -999.0,     -999.0,9,     -999.0,   0.8817,    34.8710,2,-999.0000,2,     -999.0,9