BOTTLE,20210709CCHSIOCBG
EXPOCODE,SECT_ID,STNNBR,CASTNO,SAMPNO,BTLNBR,BTLNBR_FLAG_W,DATE,TIME,LATITUDE,LONGITUDE,DEPTH,CTDPRS,CTDTMP,CTDSAL,CTDSAL_FLAG_W,SALNTY,SALNTY_FLAG_W,CTDOXY,CTDOXY_FLAG_W,OXYGEN,OXYGEN_FLAG_W,SILCAT,SILCAT_FLAG_W,NITRAT,NITRAT_FLAG_W,NITRIT,NITRIT_FLAG_W,PHSPHT,PHSPHT_FLAG_W,CFC-11,CFC-11_FLAG_W,CFC-12,CFC-12_FLAG_W,SF6,SF6_FLAG_W,TCARBN,TCARBN_FLAG_W,ALKALI,ALKALI_FLAG_W,PH_TOT,PH_TOT_FLAG_W,PH_TMP,TRITUM,TRITUM_FLAG_W,HELIUM,HELIUM_FLAG_W,DELHE3,DELHE3_FLAG_W,REFTMP,DELC13,DELC13_FLAG_W,DELC14,DELC14_FLAG_W,C14ERR,NEON,NEON_FLAG_W,NEONER,DOC,DOC_FLAG_W,TDN,TDN_FLAG_W,N2O,N2O_FLAG_W,ARGON,ARGON_FLAG_W,TRITER,HELIER,DELHER,ARGONER,KRYPTON,KRYPTON_FLAG_W,KRYPTONER,XENON,XENON_FLAG_W,XENONER,14C-DOC,14C-DOC_FLAG_W,14C-DOCERR,13C-DOC,13C-DOC_FLAG_W,13C-DOCERR,THETA,SALTREF,SALTREF_FLAG_W,SBE35,SBE35_FLAG_W,CHLORA,CHLORA_FLAG_W
,,,,,,,,,,,METERS,DBAR,ITS-90,PSS-78,,PSS-78,,UMOL/KG,,UMOL/KG,,UMOL/KG,,UMOL/KG,,UMOL/KG,,UMOL/KG,,PMOL/KG,,PMOL/KG,,FMOL/KG,,UMOL/KG,,UMOL/KG,,,,DEG C,TU,,NMOL/KG,,PERCNT,,DEG C,/MILLE,,/MILLE,,/MILLE,NMOL/KG,,NMOL/KG,UMOL/KG,,UMOL/KG,,NMOL/KG,,UMOL/KG,,TU,NMOL/KG,PERCNT,UMOL/KG,NMOL/KG,,NMOL/KG,NMOL/KG,,NMOL/KG,/MILLE,,/MILLE,/MILLE,,/MILLE,DEG C,G/KG,,ITS-90,,MG/M3,
33RO20150410,     P16N.1,       8,          1,         24,         24,2,20150413,       0630,   -12.9995,  -150.9994,       4742,    10.4,  29.1864,  35.4039,2,  35.4035,2,    193.2,2,   193.0,2,    0.40,2,    0.00,2,    0.01,2,    0.09,4,   1.362,3,   0.921,6,   1.231,6,  1972.9,6,  2333.4,2,   8.1254,2,    25.02,-999.000,9,-999.0000,9, -999.00,9,  29.1836, -999.00,9,  -999.0,9,  -999.0,-999.000,9,-999.000,  -999.0,9, -999.00,9,      5.865,3, -999.00,9,-999.000,-999.0000, -999.00,     -999.0,     -999.0,9,     -999.0,     -999.0,9,     -999.0,  -999.0,9,     -999.0,     -999.0,9,     -999.0,  29.1839,    35.5705,2,-999.0000,2,     -999.0,9
33RO20150410,     P16N.1,       8,          1,         23,         23,2,20150413,       0630,   -12.9995,  -150.9994,       4742,    25.9,  29.2198,  35.5396,2,  35.5537,2,    193.7,2,   192.7,2,    0.50,2,    0.00,2,    0.01,2,    0.08,4,-999.000,9,-999.000,9,-999.000,9,  1981.4,2,  2343.1,2,   8.1242,6,    25.00,-999.000,9,-999.0000,9, -999.00,9,  29.2161, -999.00,9,  -999.0,9,  -999.0,-999.000,9,-999.000,  -999.0,9, -999.00,9,     -999.0,9, -999.00,9,-999.000,-999.0000, -999.00,     -999.0,     -999.0,9,     -999.0,     -999.0,9,     -999.0,  -999.0,9,     -999.0,     -999.0,9,     -999.0,  29.2135,    35.7214,2,-999.0000,2,     -999.0,9
33RO20150410,     P16N.1,       8,          1,         22,         22,2,20150413,       0630,   -12.9995,  -150.9994,       4742,    50.1,  29.1767,  35.8958,2,  35.8916,2,    193.0,2,   193.0,2,    0.40,2,    0.00,2,    0.01,2,    0.10,4,-999.000,9,-999.000,9,-999.000,9,  2001.5,2,  2366.6,6,   8.1223,2,    24.99,-999.000,9,-999.0000,9, -999.00,9,  29.1809, -999.00,9,  -999.0,9,  -999.0,-999.000,9,-999.000,  -999.0,9, -999.00,9,     -999.0,9, -999.00,9,-999.000,-999.0000, -999.00,     -999.0,     -999.0,9,     -999.0,     -999.0,9,     -999.0,  -999.0,9,     -999.0,     -999.0,9,     -999.0,  29.1645,    36.0608,2,-999.0000,2,     -999.0,9
33RO20150410,     P16N.1,       8,          1,         21,         21,2,20150413,       0630,   -12.9995,  -150.9994,       4742,    76.1,  28.9364,  35.9493,2,  35.9759,2,    193.5,2,   194.2,2,    0.50,2,    0.00,2,    0.04,2,    0.11,4,-999.000,9,-999.000,9,-999.000,9,  2009.8,2,  2372.4,2,   8.1150,2,    25.03,-999.000,9,-999.0000,9, -999.00,9,  28.9385, -999.00,9,  -999.0,9,  -999.0,-999.000,9,-999.000,  -999.0,9, -999.00,9,     -999.0,9, -999.00,9,-999.000,-999.0000, -999.00,     -999.0,     -999.0,9,     -999.0,     -999.0,9,     -999.0,  -999.0,9,     -999.0,     -999.0,9,     -999.0,  28.9180,    36.1455,2,-999.0000,2,     -999.0,9
33RO20150410,     P16N.1,       8,          1,         20,         20,2,20150413,       0630,   -12.9995,  -150.9994,       4742,   100.5,  27.3841,  36.2256,2,  36.2246,2,    182.4,2,   182.3,2,    0.70,2,    0.60,2,    0.42,2,    0.20,4,   1.468,3,   0.990,2,   1.245,2,  2047.7,2,  2387.8,2,   8.0743,2,    24.99,-999.000,9,-999.0000,9, -999.00,9,  27.3980, -999.00,9,  -999.0,9,  -999.0,-999.000,9,-999.000,  -999.0,9, -999.00,9,      6.512,3, -999.00,9,-999.000,-999.0000, -999.00,     -999.0,     -999.0,9,     -999.0,     -999.0,9,     -999.0,  -999.0,9,     -999.0,     -999.0,9,     -999.0,  27.3607,    36.3955,2,-999.0000,2,     -999.0,9
33RO20150410,     P16N.1,       8,          1,         19,         19,2,20150413,       0630,   -12.9995,  -150.9994,       4742,   150.6,  24.3426,  36.2965,2,  36.2985,2,    164.0,2,   164.9,2,    0.80,2,    3.40,2,    0.35,2,    0.26,4,-999.000,9,-999.000,9,-999.000,9,  2095.7,2,  2391.0,2,   8.0026,6,    24.97,-999.000,9,-999.0000,9, -999.00,9,  24.3966, -999.00,9,  -999.0,9,  -999.0,-999.000,9,-999.000,  -999.0,9, -999.00,9,     -999.0,9, -999.00,9,-999.000,-999.0000, -999.00,     -999.0,     -999.0,9,     -999.0,     -999.0,9,     -999.0,  -999.0,9,     -999.0,     -999.0,9,     -999.0,  24.3104,    36.4696,2,-999.0000,2,     -999.0,9
33RO20150410,     P16N.1,       8,          1,         18,         18,2,20150413,       0630,   -12.9995,  -150.9994,       4742,   224.8,  21.3568,  35.9750,2,  35.9747,2,    169.9,2,   170.3,2,    0.80,2,    4.40,2,    0.01,2,    0.30,4,-999.000,9,-999.000,9,-999.000,9,  2107.0,2,  2369.5,2,   7.9492,6,    24.99,-999.000,9,-999.0000,9, -999.00,9,  21.3555, -999.00,9,  -999.0,9,  -999.0,-999.000,9,-999.000,  -999.0,9, -999.00,9,     -999.0,9, -999.00,9,-999.000,-999.0000, -999.00,     -999.0,     -999.0,9,     -999.0,     -999.0,9,     -999.0,  -999.0,9,     -999.0,     -999.0,9,     -999.0,  21.3130,    36.1444,6,-999.0000,2,     -999.0,9
33RO20150410,     P16N.1,       8,          1,         17,         17,2,20150413,       0630,   -12.9995,  -150.9994,       4742,   300.4,  17.0872,  35.3155,2,  35.3134,2,    158.4,2,   157.0,2,    2.90,2,    9.40,2,    0.02,2,    0.52,4,   2.208,3,   1.357,2,   1.206,2,  2128.6,2,  2328.0,2,   7.8406,2,    25.02,-999.000,9,-999.0000,9, -999.00,9,  17.0844, -999.00,9,  -999.0,9,  -999.0,-999.000,9,-999.000,  -999.0,9, -999.00,9,     15.593,3, -999.00,9,-999.000,-999.0000, -999.00,     -999.0,     -999.0,9,     -999.0,     -999.0,9,     -999.0,  -999.0,9,     -999.0,     -999.0,9,     -999.0,  17.0372,    35.4799,2,-999.0000,2,     -999.0,9
33RO20150410,     P16N.1,       8,          1,         16,         16,2,20150413,       0630,   -12.9995,  -150.9994,       4742,   399.8,  11.0608,  34.6849,2,  34.6850,2,    106.0,2,   104.8,2,   14.30,2,   23.50,2,    0.00,2,    1.17,4,   1.460,3,   0.832,2,   0.469,2,  2192.5,2,  2294.9,2,   7.6143,2,    25.00,-999.000,9,-999.0000,9, -999.00,9,  11.0555, -999.00,9,  -999.0,9,  -999.0,-999.000,9,-999.000,  -999.0,9, -999.00,9,     33.728,3, -999.00,9,-999.000,-999.0000, -999.00,     -999.0,     -999.0,9,     -999.0,     -999.0,9,     -999.0,  -999.0,9,     -999.0,     -999.0,9,     -999.0,  11.0110,    34.8486,2,-999.0000,2,     -999.0,9
33RO20150410,     P16N.1,       8,          1,         15,         15,2,20150413,       0630,   -12.9995,  -150.9994,       4742,   498.9,   8.4606,  34.5813,2,  34.5829,2,    119.0,2,   116.6,2,   23.90,2,   29.00,2,    0.04,2,    1.42,4,-999.000,9,-999.000,9,-999.000,9,  2207.1,2,  2298.9,2,   7.5854,2,    25.00,-999.000,9,-999.0000,9, -999.00,9,   8.4608, -999.00,9,  -999.0,9,  -999.0,-999.000,9,-999.000,  -999.0,9, -999.00,9,     -999.0,9, -999.00,9,-999.000,-999.0000, -999.00,     -999.0,     -999.0,9,     -999.0,     -999.0,9,     -999.0,  -999.0,9,     -999.0,     -999.0,9,     -999.0,   8.4077,    34.7460,2,-999.0000,2,     -999.0,9
33RO20150410,     P16N.1,       8,          1,         14,         14,2,20150413,       0630,   -12.9995,  -150.9994,       4742,   649.9,   6.1998,  34.4904,2,  34.4918,2,    138.0,2,   137.0,2,   37.80,2,   32.20,2,    0.01,2,    1.72,4,   0.307,3,   0.167,2,   0.038,2,  2218.0,6,  2308.5,2,   7.5772,2,    25.01,-999.000,9,-999.0000,9, -999.00,9,   6.1882, -999.00,9,  -999.0,9,  -999.0,-999.000,9,-999.000,  -999.0,9, -999.00,9,     28.636,3, -999.00,9,-999.000,-999.0000, -999.00,     -999.0,     -999.0,9,     -999.0,     -999.0,9,     -999.0,  -999.0,9,     -999.0,     -999.0,9,     -999.0,   6.1414,    34.6544,2,-999.0000,2,     -999.0,9
33RO20150410,     P16N.1,       8,          1,         13,         13,2,20150413,       0630,   -12.9995,  -150.9994,       4742,   798.8,   5.2071,  34.4881,2,  34.4899,2,    131.0,2,  -999.0,9,   51.10,2,   34.60,2,    0.00,2,    2.00,4,-999.000,9,-999.000,9,-999.000,9,  2238.6,2,  2321.7,2,   7.5518,2,    25.01,-999.000,9,-999.0000,9, -999.00,9,   5.2076, -999.00,9,  -999.0,9,  -999.0,-999.000,9,-999.000,  -999.0,9, -999.00,9,     -999.0,9, -999.00,9,-999.000,-999.0000, -999.00,     -999.0,     -999.0,9,     -999.0,     -999.0,9,     -999.0,  -999.0,9,     -999.0,     -999.0,9,     -999.0,   5.1405,    34.6525,2,-999.0000,2,     -999.0,9
33RO20150410,     P16N.1,       8,          1,         12,         12,2,20150413,       0630,   -12.9995,  -150.9994,       4742,   950.2,   4.4417,  34.5074,2,  34.5097,2,    125.8,2,   125.1,2,   66.20,2,   36.10,2,    0.00,2,    2.28,4,-999.000,9,-999.000,9,-999.000,9,  2259.0,2,  2336.0,2,   7.5361,2,    25.00,-999.000,9,-999.0000,9, -999.00,9,   4.4441, -999.00,9,  -999.0,9,  -999.0,-999.000,9,-999.000,  -999.0,9, -999.00,9,     -999.0,9, -999.00,9,-999.000,-999.0000, -999.00,     -999.0,     -999.0,9,     -999.0,     -999.0,9,     -999.0,  -999.0,9,     -999.0,     -999.0,9,     -999.0,   4.3669,    34.6724,2,-999.0000,2,     -999.0,9
33RO20150410,     P16N.1,       8,          1,         11,         11,2,20150413,       0630,   -12.9995,  -150.9994,       4742,  1100.2,   3.9451,  34.5283,2,  34.5293,2,    124.6,2,   124.8,2,   76.50,2,   36.70,2,    0.01,2,    2.45,4,   0.044,3,   0.012,2,       0,2,  2270.8,2,  2347.1,2,   7.5320,6,    25.00,-999.000,9,-999.0000,9, -999.00,9,   3.9447, -999.00,9,  -999.0,9,  -999.0,-999.000,9,-999.000,  -999.0,9, -999.00,9,     27.736,3, -999.00,9,-999.000,-999.0000, -999.00,     -999.0,     -999.0,9,     -999.0,     -999.0,9,     -999.0,  -999.0,9,     -999.0,     -999.0,9,     -999.0,   3.8614,    34.6922,2,-999.0000,2,     -999.0,9
33RO20150410,     P16N.1,       8,          1,         10,         10,2,20150413,       0630,   -12.9995,  -150.9994,       4742,  1298.7,   3.3906,  34.5571,2,  34.5575,2,    124.0,2,   125.0,2,   89.70,2,   37.00,2,    0.01,2,    2.65,4,-999.000,9,-999.000,9,-999.000,9,  2285.5,2,  2361.0,2,   7.5296,2,    24.98,-999.000,9,-999.0000,9, -999.00,9,   3.3904, -999.00,9,  -999.0,9,  -999.0,-999.000,9,-999.000,  -999.0,9, -999.00,9,     -999.0,9, -999.00,9,-999.000,-999.0000, -999.00,     -999.0,     -999.0,9,     -999.0,     -999.0,9,     -999.0,  -999.0,9,     -999.0,     -999.0,9,     -999.0,   3.2954,    34.7205,2,-999.0000,2,     -999.0,9
33RO20150410,     P16N.1,       8,          1,          9,          9,2,20150413,       0630,   -12.9995,  -150.9994,       4742,  1599.9,   2.7352,  34.5925,2,  34.5889,2,    136.8,2,   136.3,2,  102.60,2,   36.40,2,    0.01,2,    2.82,4,-999.000,9,-999.000,9,-999.000,9,  2293.0,2,  2376.6,2,   7.5469,2,    25.00,-999.000,9,-999.0000,9, -999.00,9,   2.7347, -999.00,9,  -999.0,9,  -999.0,-999.000,9,-999.000,  -999.0,9, -999.00,9,     -999.0,9, -999.00,9,-999.000,-999.0000, -999.00,     -999.0,     -999.0,9,     -999.0,     -999.0,9,     -999.0,  -999.0,9,     -999.0,     -999.0,9,     -999.0,   2.6221,    34.7520,3,-999.0000,2,     -999.0,9
33RO20150410,     P16N.1,       8,          1,          8,          8,2,20150413,       0630,   -12.9995,  -150.9994,       4742,  1999.6,   2.2117,  34.6320,2,  34.6344,2,    143.4,2,   143.9,2,  117.00,2,   35.90,2,    0.01,2,    3.00,4,-999.000,9,-999.000,9,-999.000,9,  2305.1,2,  2390.9,2,   7.5606,6,    24.99,-999.000,9,-999.0000,9, -999.00,9,   2.2115, -999.00,9,  -999.0,9,  -999.0,-999.000,9,-999.000,  -999.0,9, -999.00,9,     -999.0,9, -999.00,9,-999.000,-999.0000, -999.00,     -999.0,     -999.0,9,     -999.0,     -999.0,9,     -999.0,  -999.0,9,     -999.0,     -999.0,9,     -999.0,   2.0720,    34.7978,2,-999.0000,2,     -999.0,9
33RO20150410,     P16N.1,       8,          1,          7,          7,2,20150413,       0630,   -12.9995,  -150.9994,       4742,  2399.3,   1.9006,  34.6607,2,  34.6623,2,    147.6,2,   148.1,2,  126.50,2,   35.70,2,    0.02,2,    3.13,4,   0.007,3,   0.000,2,       0,2,  2315.8,2,  2405.0,2,   7.5692,2,    24.98,-999.000,9,-999.0000,9, -999.00,9,   1.9008, -999.00,9,  -999.0,9,  -999.0,-999.000,9,-999.000,  -999.0,9, -999.00,9,     21.737,3, -999.00,9,-999.000,-999.0000, -999.00,     -999.0,     -999.0,9,     -999.0,     -999.0,9,     -999.0,  -999.0,9,     -999.0,     -999.0,9,     -999.0,   1.7311,    34.8258,2,-999.0000,2,     -999.0,9
33RO20150410,     P16N.1,       8,          1,          6,          6,2,20150413,       0630,   -12.9995,  -150.9994,       4742,  2798.3,   1.7607,  34.6737,2,  34.6735,2,    152.4,2,   149.8,2,  131.20,2,   35.60,2,    0.02,2,    3.20,4,-999.000,9,-999.000,9,-999.000,9,  2315.1,6,  2409.8,2,   7.5780,2,    24.99,-999.000,9,-999.0000,9, -999.00,9,   1.7608, -999.00,9,  -999.0,9,  -999.0,-999.000,9,-999.000,  -999.0,9, -999.00,9,     -999.0,9, -999.00,9,-999.000,-999.0000, -999.00,     -999.0,     -999.0,9,     -999.0,     -999.0,9,     -999.0,  -999.0,9,     -999.0,     -999.0,9,     -999.0,   1.5574,    34.8370,2,-999.0000,2,     -999.0,9
33RO20150410,     P16N.1,       8,          1,          5,          5,2,20150413,       0630,   -12.9995,  -150.9994,       4742,  3199.8,   1.6334,  34.6819,2,  34.6822,2,    158.2,2,   157.3,2,  133.30,2,   35.10,2,    0.01,2,    3.20,4,-999.000,9,-999.000,9,-999.000,9,  2311.3,2,  2409.4,2,   7.5853,2,    25.00,-999.000,9,-999.0000,9, -999.00,9,   1.6335, -999.00,9,  -999.0,9,  -999.0,-999.000,9,-999.000,  -999.0,9, -999.00,9,     -999.0,9, -999.00,9,-999.000,-999.0000, -999.00,     -999.0,     -999.0,9,     -999.0,     -999.0,9,     -999.0,  -999.0,9,     -999.0,     -999.0,9,     -999.0,   1.3941,    34.8457,2,-999.0000,2,     -999.0,9
33RO20150410,     P16N.1,       8,          1,          4,          4,2,20150413,       0630,   -12.9995,  -150.9994,       4742,  3600.6,   1.5220,  34.6884,2,  34.6880,2,    167.6,2,   167.2,2,  129.70,6,   34.50,6,    0.00,6,    3.13,4,  -0.002,3,  -0.001,2,       0,2,  2300.0,2,  2401.8,2,   7.5923,2,    25.00,-999.000,9,-999.0000,9, -999.00,9,   1.5219, -999.00,9,  -999.0,9,  -999.0,-999.000,9,-999.000,  -999.0,9, -999.00,9,     20.106,3, -999.00,9,-999.000,-999.0000, -999.00,     -999.0,     -999.0,9,     -999.0,     -999.0,9,     -999.0,  -999.0,9,     -999.0,     -999.0,9,     -999.0,   1.2449,    34.8516,2,-999.0000,2,     -999.0,9
33RO20150410,     P16N.1,       8,          1,          3,          3,2,20150413,       0630,   -12.9995,  -150.9994,       4742,  3999.0,   1.4412,  34.6942,2,  34.6948,2,    177.1,2,   175.9,2,  126.80,6,   33.90,6,    0.00,6,    3.06,4,-999.000,9,-999.000,9,-999.000,9,  2291.6,2,  2392.8,6,   7.5964,2,    25.00,-999.000,9,-999.0000,9, -999.00,9,   1.4409, -999.00,9,  -999.0,9,  -999.0,-999.000,9,-999.000,  -999.0,9, -999.00,9,     -999.0,9, -999.00,9,-999.000,-999.0000, -999.00,     -999.0,     -999.0,9,     -999.0,     -999.0,9,     -999.0,  -999.0,9,     -999.0,     -999.0,9,     -999.0,   1.1239,    34.8584,2,-999.0000,2,     -999.0,9
33RO20150410,     P16N.1,       8,          1,          2,          2,2,20150413,       0630,   -12.9995,  -150.9994,       4742,  4376.6,   1.3532,  34.7000,2,  34.6997,2,    185.2,2,   184.7,2,  123.80,6,   33.30,6,    0.00,6,    3.00,4,-999.000,9,-999.000,9,-999.000,9,  2282.0,2,  2384.7,2,   7.6022,6,    24.98,-999.000,9,-999.0000,9, -999.00,9,   1.3532, -999.00,9,  -999.0,9,  -999.0,-999.000,9,-999.000,  -999.0,9, -999.00,9,     -999.0,9, -999.00,9,-999.000,-999.0000, -999.00,     -999.0,     -999.0,9,     -999.0,     -999.0,9,     -999.0,  -999.0,9,     -999.0,     -999.0,9,     -999.0,   0.9967,    34.8633,2,-999.0000,2,     -999.0,9
33RO20150410,     P16N.1,       8,          1,          1,          1,2,20150413,       0630,   -12.9995,  -150.9994,       4742,  4731.0,   1.3365,  34.7025,2,  34.7017,2,    191.2,2,   189.0,2,  122.50,6,   33.00,6,    0.01,6,    2.96,4,   0.005,3,   0.001,2,       0,2,  2280.1,6,  2381.0,2,   7.6035,2,    25.00,-999.000,9,-999.0000,9, -999.00,9,   1.3365, -999.00,9,  -999.0,9,  -999.0,-999.000,9,-999.000,  -999.0,9, -999.00,9,     19.005,3, -999.00,9,-999.000,-999.0000, -999.00,     -999.0,     -999.0,9,     -999.0,     -999.0,9,     -999.0,  -999.0,9,     -999.0,     -999.0,9,     -999.0,   0.9396,    34.8653,2,-999.0000,2,     -999.0,9