BOTTLE,20210709CCHSIOCBG
EXPOCODE,SECT_ID,STNNBR,CASTNO,SAMPNO,BTLNBR,BTLNBR_FLAG_W,DATE,TIME,LATITUDE,LONGITUDE,DEPTH,CTDPRS,CTDTMP,CTDSAL,CTDSAL_FLAG_W,SALNTY,SALNTY_FLAG_W,CTDOXY,CTDOXY_FLAG_W,OXYGEN,OXYGEN_FLAG_W,SILCAT,SILCAT_FLAG_W,NITRAT,NITRAT_FLAG_W,NITRIT,NITRIT_FLAG_W,PHSPHT,PHSPHT_FLAG_W,CFC-11,CFC-11_FLAG_W,CFC-12,CFC-12_FLAG_W,SF6,SF6_FLAG_W,TCARBN,TCARBN_FLAG_W,ALKALI,ALKALI_FLAG_W,PH_TOT,PH_TOT_FLAG_W,PH_TMP,TRITUM,TRITUM_FLAG_W,HELIUM,HELIUM_FLAG_W,DELHE3,DELHE3_FLAG_W,REFTMP,DELC13,DELC13_FLAG_W,DELC14,DELC14_FLAG_W,C14ERR,NEON,NEON_FLAG_W,NEONER,DOC,DOC_FLAG_W,TDN,TDN_FLAG_W,N2O,N2O_FLAG_W,ARGON,ARGON_FLAG_W,TRITER,HELIER,DELHER,ARGONER,KRYPTON,KRYPTON_FLAG_W,KRYPTONER,XENON,XENON_FLAG_W,XENONER,14C-DOC,14C-DOC_FLAG_W,14C-DOCERR,13C-DOC,13C-DOC_FLAG_W,13C-DOCERR,THETA,SALTREF,SALTREF_FLAG_W,SBE35,SBE35_FLAG_W,CHLORA,CHLORA_FLAG_W
,,,,,,,,,,,METERS,DBAR,ITS-90,PSS-78,,PSS-78,,UMOL/KG,,UMOL/KG,,UMOL/KG,,UMOL/KG,,UMOL/KG,,UMOL/KG,,PMOL/KG,,PMOL/KG,,FMOL/KG,,UMOL/KG,,UMOL/KG,,,,DEG C,TU,,NMOL/KG,,PERCNT,,DEG C,/MILLE,,/MILLE,,/MILLE,NMOL/KG,,NMOL/KG,UMOL/KG,,UMOL/KG,,NMOL/KG,,UMOL/KG,,TU,NMOL/KG,PERCNT,UMOL/KG,NMOL/KG,,NMOL/KG,NMOL/KG,,NMOL/KG,/MILLE,,/MILLE,/MILLE,,/MILLE,DEG C,G/KG,,ITS-90,,MG/M3,
33RO20150410,     P16N.1,     104,          1,         24,         24,2,20150509,       0802,    18.4996,  -152.0000,       5205,    10.8,  25.3139,  34.4191,2,  34.4191,2,    203.0,2,   204.4,2,    1.10,2,    0.00,2,    0.01,2,    0.23,2,-999.000,9,-999.000,9,-999.000,9,  1958.1,2,  2268.0,2,   8.0666,2,    24.99,-999.000,9,-999.0000,9, -999.00,9,  25.3138, -999.00,9,  -999.0,9,  -999.0,-999.000,9,-999.000,  -999.0,9, -999.00,9,     -999.0,9, -999.00,9,-999.000,-999.0000, -999.00,     -999.0,     -999.0,9,     -999.0,     -999.0,9,     -999.0,  -999.0,9,     -999.0,     -999.0,9,     -999.0,  25.3115,    34.5814,2,-999.0000,9,     -999.0,9
33RO20150410,     P16N.1,     104,          1,         23,         23,2,20150509,       0802,    18.4996,  -152.0000,       5205,    24.6,  25.3175,  34.4197,2,  34.4220,2,    203.3,2,   204.6,2,    1.00,2,    0.00,2,    0.01,2,    0.24,2,-999.000,9,-999.000,9,-999.000,9,  1959.0,6,  2267.5,2,   8.0667,2,    25.01,-999.000,9,-999.0000,9, -999.00,9,  25.3168, -999.00,9,  -999.0,9,  -999.0,-999.000,9,-999.000,  -999.0,9, -999.00,9,     -999.0,9, -999.00,9,-999.000,-999.0000, -999.00,     -999.0,     -999.0,9,     -999.0,     -999.0,9,     -999.0,  -999.0,9,     -999.0,     -999.0,9,     -999.0,  25.3121,    34.5844,2,-999.0000,9,     -999.0,9
33RO20150410,     P16N.1,     104,          1,         22,         22,2,20150509,       0802,    18.4996,  -152.0000,       5205,    49.9,  25.3175,  34.4209,2,  34.4246,2,    203.8,2,   204.4,2,    1.10,2,    0.00,2,    0.01,2,    0.23,2,-999.000,9,-999.000,9,-999.000,9,  1958.6,2,  2267.4,2,   8.0665,6,    25.00,-999.000,9,-999.0000,9, -999.00,9,  25.3183, -999.00,9,  -999.0,9,  -999.0,-999.000,9,-999.000,  -999.0,9, -999.00,9,     -999.0,9, -999.00,9,-999.000,-999.0000, -999.00,     -999.0,     -999.0,9,     -999.0,     -999.0,9,     -999.0,  -999.0,9,     -999.0,     -999.0,9,     -999.0,  25.3066,    34.5869,2,-999.0000,9,     -999.0,9
33RO20150410,     P16N.1,     104,          1,         21,         21,2,20150509,       0802,    18.4996,  -152.0000,       5205,    75.9,  24.5814,  35.0287,2,  35.0255,2,    210.7,2,   210.1,2,    1.10,2,    0.00,2,    0.01,2,    0.19,2,-999.000,9,-999.000,9,-999.000,9,  1995.0,2,  2307.9,6,   8.0629,2,    24.99,-999.000,9,-999.0000,9, -999.00,9,  24.5864, -999.00,9,  -999.0,9,  -999.0,-999.000,9,-999.000,  -999.0,9, -999.00,9,     -999.0,9, -999.00,9,-999.000,-999.0000, -999.00,     -999.0,     -999.0,9,     -999.0,     -999.0,9,     -999.0,  -999.0,9,     -999.0,     -999.0,9,     -999.0,  24.5651,    35.1906,2,-999.0000,9,     -999.0,9
33RO20150410,     P16N.1,     104,          1,         20,         20,2,20150509,       0802,    18.4996,  -152.0000,       5205,   100.6,  23.4899,  35.2371,2,  35.2384,2,    209.9,2,   210.3,2,    1.20,2,    0.00,2,    0.01,2,    0.20,2,-999.000,9,-999.000,9,-999.000,9,  2015.2,2,  2322.0,2,   8.0440,2,    25.01,-999.000,9,-999.0000,9, -999.00,9,  23.4949, -999.00,9,  -999.0,9,  -999.0,-999.000,9,-999.000,  -999.0,9, -999.00,9,     -999.0,9, -999.00,9,-999.000,-999.0000, -999.00,     -999.0,     -999.0,9,     -999.0,     -999.0,9,     -999.0,  -999.0,9,     -999.0,     -999.0,9,     -999.0,  23.4690,    35.4045,2,-999.0000,9,     -999.0,9
33RO20150410,     P16N.1,     104,          1,         19,         19,2,20150509,       0802,    18.4996,  -152.0000,       5205,   150.5,  21.7811,  35.2846,2,  35.2981,2,    203.3,2,   203.3,2,    1.50,2,    0.20,2,    0.08,2,    0.20,2,-999.000,9,-999.000,9,-999.000,9,  2041.0,2,  2323.9,2,   8.0069,2,    25.00,-999.000,9,-999.0000,9, -999.00,9,  21.8667, -999.00,9,  -999.0,9,  -999.0,-999.000,9,-999.000,  -999.0,9, -999.00,9,     -999.0,9, -999.00,9,-999.000,-999.0000, -999.00,     -999.0,     -999.0,9,     -999.0,     -999.0,9,     -999.0,  -999.0,9,     -999.0,     -999.0,9,     -999.0,  21.7515,    35.4645,2,-999.0000,9,     -999.0,9
33RO20150410,     P16N.1,     104,          1,         18,         18,2,20150509,       0802,    18.4996,  -152.0000,       5205,   224.5,  16.5546,  34.5828,2,  34.5871,2,    186.3,2,   185.0,2,    4.60,2,    5.20,2,    0.01,2,    0.59,2,-999.000,9,-999.000,9,-999.000,9,  2074.2,2,  2278.9,3,   7.8652,6,    25.00,-999.000,9,-999.0000,9, -999.00,9,  16.5570, -999.00,9,  -999.0,9,  -999.0,-999.000,9,-999.000,  -999.0,9, -999.00,9,     -999.0,9, -999.00,9,-999.000,-999.0000, -999.00,     -999.0,     -999.0,9,     -999.0,     -999.0,9,     -999.0,  -999.0,9,     -999.0,     -999.0,9,     -999.0,  16.5183,    34.7502,2,-999.0000,9,     -999.0,9
33RO20150410,     P16N.1,     104,          1,         17,         17,2,20150509,       0802,    18.4996,  -152.0000,       5205,   300.3,  10.7788,  34.1411,2,  34.1381,2,    166.8,2,   168.6,2,   17.50,2,   16.90,2,    0.01,2,    1.37,2,-999.000,9,-999.000,9,-999.000,9,  2129.9,2,  2258.3,3,   7.6911,2,    25.00,-999.000,9,-999.0000,9, -999.00,9,  10.7759, -999.00,9,  -999.0,9,  -999.0,-999.000,9,-999.000,  -999.0,9, -999.00,9,     -999.0,9, -999.00,9,-999.000,-999.0000, -999.00,     -999.0,     -999.0,9,     -999.0,     -999.0,9,     -999.0,  -999.0,9,     -999.0,     -999.0,9,     -999.0,  10.7424,    34.2990,2,-999.0000,9,     -999.0,9
33RO20150410,     P16N.1,     104,          1,         16,         16,2,20150509,       0802,    18.4996,  -152.0000,       5205,   400.3,   8.4344,  34.3127,2,  34.3137,2,     47.1,2,    50.1,2,   42.60,2,   31.80,2,    0.01,2,    2.51,2,-999.000,9,-999.000,9,-999.000,9,  2250.7,2,  2288.9,2,   7.4223,6,    25.02,-999.000,9,-999.0000,9, -999.00,9,   8.4280, -999.00,9,  -999.0,9,  -999.0,-999.000,9,-999.000,  -999.0,9, -999.00,9,     -999.0,9, -999.00,9,-999.000,-999.0000, -999.00,     -999.0,     -999.0,9,     -999.0,     -999.0,9,     -999.0,  -999.0,9,     -999.0,     -999.0,9,     -999.0,   8.3925,    34.4755,2,-999.0000,9,     -999.0,9
33RO20150410,     P16N.1,     104,          1,         15,         15,2,20150509,       0802,    18.4996,  -152.0000,       5205,   501.2,   7.2135,  34.3761,2,  34.3798,2,     25.8,2,    24.4,2,   56.40,2,   37.10,2,    0.01,2,    2.83,2,-999.000,9,-999.000,9,-999.000,9,  2284.6,2,  2308.2,2,   7.3648,2,    25.00,-999.000,9,-999.0000,9, -999.00,9,   7.2135, -999.00,9,  -999.0,9,  -999.0,-999.000,9,-999.000,  -999.0,9, -999.00,9,     -999.0,9, -999.00,9,-999.000,-999.0000, -999.00,     -999.0,     -999.0,9,     -999.0,     -999.0,9,     -999.0,  -999.0,9,     -999.0,     -999.0,9,     -999.0,   7.1652,    34.5419,2,-999.0000,9,     -999.0,9
33RO20150410,     P16N.1,     104,          1,         14,         14,2,20150509,       0802,    18.4996,  -152.0000,       5205,   650.4,   6.0953,  34.4467,2,  34.4471,2,     25.2,2,    24.8,2,   70.70,2,   40.20,2,    0.01,2,    3.00,2,-999.000,9,-999.000,9,-999.000,9,  2307.0,2,  2327.3,2,   7.3672,2,    25.00,-999.000,9,-999.0000,9, -999.00,9,   6.0961, -999.00,9,  -999.0,9,  -999.0,-999.000,9,-999.000,  -999.0,9, -999.00,9,     -999.0,9, -999.00,9,-999.000,-999.0000, -999.00,     -999.0,     -999.0,9,     -999.0,     -999.0,9,     -999.0,  -999.0,9,     -999.0,     -999.0,9,     -999.0,   6.0374,    34.6096,2,-999.0000,9,     -999.0,9
33RO20150410,     P16N.1,     104,          1,         13,         13,2,20150509,       0802,    18.4996,  -152.0000,       5205,   801.1,   5.2086,  34.4722,2,  34.4731,2,     30.5,2,    31.8,2,   84.10,2,   41.70,2,    0.01,2,    3.04,2,-999.000,9,-999.000,9,-999.000,9,  2320.1,2,  2344.7,2,   7.3736,2,    25.00,-999.000,9,-999.0000,9, -999.00,9,   5.2086, -999.00,9,  -999.0,9,  -999.0,-999.000,9,-999.000,  -999.0,9, -999.00,9,     -999.0,9, -999.00,9,-999.000,-999.0000, -999.00,     -999.0,     -999.0,9,     -999.0,     -999.0,9,     -999.0,  -999.0,9,     -999.0,     -999.0,9,     -999.0,   5.1418,    34.6356,2,-999.0000,9,     -999.0,9
33RO20150410,     P16N.1,     104,          1,         12,         12,2,20150509,       0802,    18.4996,  -152.0000,       5205,   951.1,   4.6133,  34.4960,2,  34.4964,2,     35.6,2,    35.4,2,   95.00,2,   42.40,2,    0.01,2,    3.07,2,-999.000,9,-999.000,9,-999.000,9,  2330.2,6,  2356.6,2,   7.3758,2,    25.01,-999.000,9,-999.0000,9, -999.00,9,   4.6135, -999.00,9,  -999.0,9,  -999.0,-999.000,9,-999.000,  -999.0,9, -999.00,9,     -999.0,9, -999.00,9,-999.000,-999.0000, -999.00,     -999.0,     -999.0,9,     -999.0,     -999.0,9,     -999.0,  -999.0,9,     -999.0,     -999.0,9,     -999.0,   4.5372,    34.6590,6,-999.0000,9,     -999.0,9
33RO20150410,     P16N.1,     104,          1,         11,         11,2,20150509,       0802,    18.4996,  -152.0000,       5205,  1100.5,   4.0431,  34.5245,2,  34.5247,2,     41.8,2,    42.3,2,  105.90,2,   42.70,2,    0.01,2,    3.09,2,-999.000,9,-999.000,9,-999.000,9,  2339.8,2,  2370.0,2,   7.3856,2,    25.01,-999.000,9,-999.0000,9, -999.00,9,   4.0439, -999.00,9,  -999.0,9,  -999.0,-999.000,9,-999.000,  -999.0,9, -999.00,9,     -999.0,9, -999.00,9,-999.000,-999.0000, -999.00,     -999.0,     -999.0,9,     -999.0,     -999.0,9,     -999.0,  -999.0,9,     -999.0,     -999.0,9,     -999.0,   3.9586,    34.6875,2,-999.0000,9,     -999.0,9
33RO20150410,     P16N.1,     104,          1,         10,         10,2,20150509,       0802,    18.4996,  -152.0000,       5205,  1299.8,   3.4624,  34.5619,2,  34.5642,2,     53.8,2,    53.8,2,  117.50,2,   42.10,2,    0.01,2,    3.04,2,-999.000,9,-999.000,9,-999.000,9,  2346.1,2,  2384.9,2,   7.4073,6,    25.03,-999.000,9,-999.0000,9, -999.00,9,   3.4624, -999.00,9,  -999.0,9,  -999.0,-999.000,9,-999.000,  -999.0,9, -999.00,9,     -999.0,9, -999.00,9,-999.000,-999.0000, -999.00,     -999.0,     -999.0,9,     -999.0,     -999.0,9,     -999.0,  -999.0,9,     -999.0,     -999.0,9,     -999.0,   3.3663,    34.7272,2,-999.0000,9,     -999.0,9
33RO20150410,     P16N.1,     104,          1,          9,          9,2,20150509,       0802,    18.4996,  -152.0000,       5205,  1602.1,   2.7262,  34.5939,2,  34.5996,2,     69.3,2,    68.5,2,  133.90,2,   41.40,2,    0.01,2,    2.96,2,-999.000,9,-999.000,9,-999.000,9,  2355.7,2,  2403.0,2,   7.4310,2,    25.01,-999.000,9,-999.0000,9, -999.00,9,   2.7267, -999.00,9,  -999.0,9,  -999.0,-999.000,9,-999.000,  -999.0,9, -999.00,9,     -999.0,9, -999.00,9,-999.000,-999.0000, -999.00,     -999.0,     -999.0,9,     -999.0,     -999.0,9,     -999.0,  -999.0,9,     -999.0,     -999.0,9,     -999.0,   2.6130,    34.7627,3,-999.0000,9,     -999.0,9
33RO20150410,     P16N.1,     104,          1,          8,          8,2,20150509,       0802,    18.4996,  -152.0000,       5205,  1999.1,   2.1223,  34.6273,2,  34.6279,2,     90.8,2,    91.1,2,  146.00,2,   40.10,2,    0.01,2,    2.85,2,-999.000,9,-999.000,9,-999.000,9,  2351.3,2,  2416.8,2,   7.4726,2,    25.02,-999.000,9,-999.0000,9, -999.00,9,   2.1225, -999.00,9,  -999.0,9,  -999.0,-999.000,9,-999.000,  -999.0,9, -999.00,9,     -999.0,9, -999.00,9,-999.000,-999.0000, -999.00,     -999.0,     -999.0,9,     -999.0,     -999.0,9,     -999.0,  -548.0,2,        4.0,      -21.7,2,        0.2,   1.9841,    34.7912,2,-999.0000,9,     -999.0,9
33RO20150410,     P16N.1,     104,          1,          7,          7,2,20150509,       0802,    18.4996,  -152.0000,       5205,  2400.5,   1.8223,  34.6529,2,  34.6534,2,    107.7,2,   108.7,2,  150.30,2,   38.90,2,    0.01,2,    2.74,2,-999.000,9,-999.000,9,-999.000,9,  2349.7,2,  2423.2,2,   7.5063,2,    25.02,-999.000,9,-999.0000,9, -999.00,9,   1.8229, -999.00,9,  -999.0,9,  -999.0,-999.000,9,-999.000,  -999.0,9, -999.00,9,     -999.0,9, -999.00,9,-999.000,-999.0000, -999.00,     -999.0,     -999.0,9,     -999.0,     -999.0,9,     -999.0,  -999.0,9,     -999.0,     -999.0,9,     -999.0,   1.6542,    34.8168,2,-999.0000,9,     -999.0,9
33RO20150410,     P16N.1,     104,          1,          6,          6,2,20150509,       0802,    18.4996,  -152.0000,       5205,  2799.0,   1.6921,  34.6648,2,  34.6662,2,    116.3,2,   117.4,2,  152.50,2,   38.10,2,    0.00,2,    2.69,2,-999.000,9,-999.000,9,-999.000,9,  2347.0,2,  2427.5,2,   7.5233,2,    25.04,-999.000,9,-999.0000,9, -999.00,9,   1.6920, -999.00,9,  -999.0,9,  -999.0,-999.000,9,-999.000,  -999.0,9, -999.00,9,     -999.0,9, -999.00,9,-999.000,-999.0000, -999.00,     -999.0,     -999.0,9,     -999.0,     -999.0,9,     -999.0,  -999.0,9,     -999.0,     -999.0,9,     -999.0,   1.4902,    34.8297,2,-999.0000,9,     -999.0,9
33RO20150410,     P16N.1,     104,          1,          5,          5,2,20150509,       0802,    18.4996,  -152.0000,       5205,  3288.5,   1.5711,  34.6751,2,  34.6764,2,    127.6,2,   127.5,2,  154.80,2,   37.60,2,    0.01,2,    2.63,2,-999.000,9,-999.000,9,-999.000,9,  2341.9,2,  2428.1,2,   7.5420,6,    25.00,-999.000,9,-999.0000,9, -999.00,9,   1.5709, -999.00,9,  -999.0,9,  -999.0,-999.000,9,-999.000,  -999.0,9, -999.00,9,     -999.0,9, -999.00,9,-999.000,-999.0000, -999.00,     -999.0,     -999.0,9,     -999.0,     -999.0,9,     -999.0,  -999.0,9,     -999.0,     -999.0,9,     -999.0,   1.3245,    34.8400,2,-999.0000,9,     -999.0,9
33RO20150410,     P16N.1,     104,          1,          4,          4,2,20150509,       0802,    18.4996,  -152.0000,       5205,  3800.1,   1.4745,  34.6839,2,  34.6857,2,    142.8,2,   143.5,2,  149.90,6,   36.40,6,    0.01,6,    2.54,6,-999.000,9,-999.000,9,-999.000,9,  2330.6,2,  2424.7,2,   7.5650,2,    25.00,-999.000,9,-999.0000,9, -999.00,9,   1.4745, -999.00,9,  -999.0,9,  -999.0,-999.000,9,-999.000,  -999.0,9, -999.00,9,     -999.0,9, -999.00,9,-999.000,-999.0000, -999.00,     -999.0,     -999.0,9,     -999.0,     -999.0,9,     -999.0,  -999.0,9,     -999.0,     -999.0,9,     -999.0,   1.1777,    34.8493,2,-999.0000,9,     -999.0,9
33RO20150410,     P16N.1,     104,          1,          3,          3,2,20150509,       0802,    18.4996,  -152.0000,       5205,  4300.5,   1.4452,  34.6895,2,  34.6914,2,    153.7,2,   153.5,2,  144.10,6,   35.70,6,    0.01,6,    2.49,6,-999.000,9,-999.000,9,-999.000,9,  2320.8,2,  2418.7,6,   7.5794,6,    25.03,-999.000,9,-999.0000,9, -999.00,9,   1.4452, -999.00,9,  -999.0,9,  -999.0,-999.000,9,-999.000,  -999.0,9, -999.00,9,     -999.0,9, -999.00,9,-999.000,-999.0000, -999.00,     -999.0,     -999.0,9,     -999.0,     -999.0,9,     -999.0,  -999.0,9,     -999.0,     -999.0,9,     -999.0,   1.0945,    34.8550,2,-999.0000,9,     -999.0,9
33RO20150410,     P16N.1,     104,          1,          2,          2,2,20150509,       0802,    18.4996,  -152.0000,       5205,  4799.7,   1.4366,  34.6946,2,  34.6951,2,    163.5,2,   163.9,2,  136.80,6,   35.00,6,    0.01,6,    2.44,6,-999.000,9,-999.000,9,-999.000,9,  2308.7,6,  2409.2,2,   7.5895,2,    25.02,-999.000,9,-999.0000,9, -999.00,9,   1.4367, -999.00,9,  -999.0,9,  -999.0,-999.000,9,-999.000,  -999.0,9, -999.00,9,     -999.0,9, -999.00,9,-999.000,-999.0000, -999.00,     -999.0,     -999.0,9,     -999.0,     -999.0,9,     -999.0,  -999.0,9,     -999.0,     -999.0,9,     -999.0,   1.0284,    34.8587,2,-999.0000,9,     -999.0,9
33RO20150410,     P16N.1,     104,          1,          1,          1,2,20150509,       0802,    18.4996,  -152.0000,       5205,  5195.3,   1.4340,  34.6977,2,  34.7040,4,    171.2,2,   171.5,2,  132.00,6,   34.40,6,    0.01,6,    2.40,6,-999.000,9,-999.000,9,-999.000,9,  2302.2,2,  2404.4,2,   7.5962,2,    25.01,-999.000,9,-999.0000,9, -999.00,9,   1.4337, -999.00,9,  -999.0,9,  -999.0,-999.000,9,-999.000,  -999.0,9, -999.00,9,     -999.0,9, -999.00,9,-999.000,-999.0000, -999.00,     -999.0,     -999.0,9,     -999.0,     -999.0,9,     -999.0,  -999.0,9,     -999.0,     -999.0,9,     -999.0,   0.9779,    34.8676,3,-999.0000,9,     -999.0,9