BOTTLE,20210709CCHSIOCBG
EXPOCODE,SECT_ID,STNNBR,CASTNO,SAMPNO,BTLNBR,BTLNBR_FLAG_W,DATE,TIME,LATITUDE,LONGITUDE,DEPTH,CTDPRS,CTDTMP,CTDSAL,CTDSAL_FLAG_W,SALNTY,SALNTY_FLAG_W,CTDOXY,CTDOXY_FLAG_W,OXYGEN,OXYGEN_FLAG_W,SILCAT,SILCAT_FLAG_W,NITRAT,NITRAT_FLAG_W,NITRIT,NITRIT_FLAG_W,PHSPHT,PHSPHT_FLAG_W,CFC-11,CFC-11_FLAG_W,CFC-12,CFC-12_FLAG_W,SF6,SF6_FLAG_W,TCARBN,TCARBN_FLAG_W,ALKALI,ALKALI_FLAG_W,PH_TOT,PH_TOT_FLAG_W,PH_TMP,TRITUM,TRITUM_FLAG_W,HELIUM,HELIUM_FLAG_W,DELHE3,DELHE3_FLAG_W,REFTMP,DELC13,DELC13_FLAG_W,DELC14,DELC14_FLAG_W,C14ERR,NEON,NEON_FLAG_W,NEONER,DOC,DOC_FLAG_W,TDN,TDN_FLAG_W,N2O,N2O_FLAG_W,ARGON,ARGON_FLAG_W,TRITER,HELIER,DELHER,ARGONER,KRYPTON,KRYPTON_FLAG_W,KRYPTONER,XENON,XENON_FLAG_W,XENONER,14C-DOC,14C-DOC_FLAG_W,14C-DOCERR,13C-DOC,13C-DOC_FLAG_W,13C-DOCERR,THETA,SALTREF,SALTREF_FLAG_W,SBE35,SBE35_FLAG_W,CHLORA,CHLORA_FLAG_W
,,,,,,,,,,,METERS,DBAR,ITS-90,PSS-78,,PSS-78,,UMOL/KG,,UMOL/KG,,UMOL/KG,,UMOL/KG,,UMOL/KG,,UMOL/KG,,PMOL/KG,,PMOL/KG,,FMOL/KG,,UMOL/KG,,UMOL/KG,,,,DEG C,TU,,NMOL/KG,,PERCNT,,DEG C,/MILLE,,/MILLE,,/MILLE,NMOL/KG,,NMOL/KG,UMOL/KG,,UMOL/KG,,NMOL/KG,,UMOL/KG,,TU,NMOL/KG,PERCNT,UMOL/KG,NMOL/KG,,NMOL/KG,NMOL/KG,,NMOL/KG,/MILLE,,/MILLE,/MILLE,,/MILLE,DEG C,G/KG,,ITS-90,,MG/M3,
33RO20150410,     P16N.1,      84,          1,         24,         24,2,20150503,       0258,     8.4993,  -151.5798,       5266,    15.1,  27.7407,  34.1407,2,  34.1426,2,    197.9,2,   198.2,2,    1.00,2,    0.10,2,    0.00,2,    0.24,2,   1.506,2,   0.974,2,   1.255,2,  1925.7,6,  2245.8,2,   8.0931,2,    25.00,-999.000,9,-999.0000,9, -999.00,9,  27.7398, -999.00,9,  -999.0,9,  -999.0,-999.000,9,-999.000,  -999.0,9, -999.00,9,      6.306,3, -999.00,9,-999.000,-999.0000, -999.00,     -999.0,     -999.0,9,     -999.0,     -999.0,9,     -999.0,  -999.0,9,     -999.0,     -999.0,9,     -999.0,  27.7372,    34.3036,2,-999.0000,9,     -999.0,9
33RO20150410,     P16N.1,      84,          1,         23,         23,2,20150503,       0258,     8.4993,  -151.5798,       5266,    33.1,  27.7482,  34.1426,2,  34.1449,2,    198.7,2,   198.2,2,    0.90,2,    0.10,2,    0.01,2,    0.23,2,-999.000,9,-999.000,9,-999.000,9,  1925.1,2,  2245.8,2,   8.0934,6,    24.99,-999.000,9,-999.0000,9, -999.00,9,  27.7439, -999.00,9,  -999.0,9,  -999.0,-999.000,9,-999.000,  -999.0,9, -999.00,9,     -999.0,9, -999.00,9,-999.000,-999.0000, -999.00,     -999.0,     -999.0,9,     -999.0,     -999.0,9,     -999.0,  -999.0,9,     -999.0,     -999.0,9,     -999.0,  27.7405,    34.3059,2,-999.0000,9,     -999.0,9
33RO20150410,     P16N.1,      84,          1,         22,         22,2,20150503,       0258,     8.4993,  -151.5798,       5266,    58.2,  27.6890,  34.1784,2,  34.1912,2,    198.4,2,   198.3,2,    1.00,2,    0.20,2,    0.01,2,    0.24,2,   1.506,2,   0.974,2,   1.249,2,  1927.7,2,  2247.4,6,   8.0919,2,    25.00,-999.000,9,-999.0000,9, -999.00,9,  27.6781, -999.00,9,  -999.0,9,  -999.0,-999.000,9,-999.000,  -999.0,9, -999.00,9,      6.365,3, -999.00,9,-999.000,-999.0000, -999.00,     -999.0,     -999.0,9,     -999.0,     -999.0,9,     -999.0,  -999.0,9,     -999.0,     -999.0,9,     -999.0,  27.6754,    34.3524,2,-999.0000,9,     -999.0,9
33RO20150410,     P16N.1,      84,          1,         21,         21,2,20150503,       0258,     8.4993,  -151.5798,       5266,    82.4,  19.9453,  34.6055,2,  34.6008,2,    204.4,2,   192.9,2,    3.80,2,    2.50,2,    0.07,2,    0.61,2,   2.234,2,   1.350,2,   1.349,2,  2068.8,2,  2291.5,2,   7.9030,2,    25.00,-999.000,9,-999.0000,9, -999.00,9,  20.0532, -999.00,9,  -999.0,9,  -999.0,-999.000,9,-999.000,  -999.0,9, -999.00,9,     25.036,3, -999.00,9,-999.000,-999.0000, -999.00,     -999.0,     -999.0,9,     -999.0,     -999.0,9,     -999.0,  -999.0,9,     -999.0,     -999.0,9,     -999.0,  19.9302,    34.7640,2,-999.0000,9,     -999.0,9
33RO20150410,     P16N.1,      84,          1,         20,         20,2,20150503,       0258,     8.4993,  -151.5798,       5266,   111.6,  12.7166,  34.5111,2,  34.5169,2,     34.4,2,    34.1,2,   22.20,2,   27.60,2,    0.13,2,    2.28,2,   1.633,6,   0.922,6,   0.546,6,  2222.5,2,  2280.8,2,   7.4766,2,    24.99,-999.000,9,-999.0000,9, -999.00,9,  12.9702, -999.00,9,  -999.0,9,  -999.0,-999.000,9,-999.000,  -999.0,9, -999.00,9,     99.719,3, -999.00,9,-999.000,-999.0000, -999.00,     -999.0,     -999.0,9,     -999.0,     -999.0,9,     -999.0,  -999.0,9,     -999.0,     -999.0,9,     -999.0,  12.7016,    34.6797,6,-999.0000,9,     -999.0,9
33RO20150410,     P16N.1,      84,          1,         19,         19,2,20150503,       0258,     8.4993,  -151.5798,       5266,   175.5,  10.8084,  34.7046,2,  34.7054,2,      7.8,2,     8.7,2,   30.00,2,   34.50,2,    0.01,2,    2.57,2,   0.614,2,   0.331,2,    0.11,2,  2263.3,2,  2299.7,2,   7.4188,3,    25.00,-999.000,9,-999.0000,9, -999.00,9,  10.8101, -999.00,9,  -999.0,9,  -999.0,-999.000,9,-999.000,  -999.0,9, -999.00,9,     75.068,3, -999.00,9,-999.000,-999.0000, -999.00,     -999.0,     -999.0,9,     -999.0,     -999.0,9,     -999.0,  -999.0,9,     -999.0,     -999.0,9,     -999.0,  10.7871,    34.8690,2,-999.0000,9,     -999.0,9
33RO20150410,     P16N.1,      84,          1,         18,         18,2,20150503,       0258,     8.4993,  -151.5798,       5266,   250.4,  10.0282,  34.6841,2,  34.6839,2,     14.3,2,    15.2,2,   32.70,2,   34.80,2,    0.01,2,    2.60,2,   0.442,2,   0.238,2,   0.087,2,  2264.1,2,  2303.2,2,   7.4181,6,    25.00,-999.000,9,-999.0000,9, -999.00,9,  10.0268, -999.00,9,  -999.0,9,  -999.0,-999.000,9,-999.000,  -999.0,9, -999.00,9,     63.891,3, -999.00,9,-999.000,-999.0000, -999.00,     -999.0,     -999.0,9,     -999.0,     -999.0,9,     -999.0,  -999.0,9,     -999.0,     -999.0,9,     -999.0,   9.9991,    34.8475,2,-999.0000,9,     -999.0,9
33RO20150410,     P16N.1,      84,          1,         17,         17,2,20150503,       0258,     8.4993,  -151.5798,       5266,   332.6,   9.3883,  34.6567,2,  34.6566,2,     24.5,2,    27.3,2,   34.80,2,   35.50,2,    0.01,2,    2.60,2,   0.363,2,   0.196,2,   0.078,2,  2262.5,2,  2303.9,2,   7.4325,2,    24.99,-999.000,9,-999.0000,9, -999.00,9,   9.3870, -999.00,9,  -999.0,9,  -999.0,-999.000,9,-999.000,  -999.0,9, -999.00,9,     56.133,3, -999.00,9,-999.000,-999.0000, -999.00,     -999.0,     -999.0,9,     -999.0,     -999.0,9,     -999.0,  -999.0,9,     -999.0,     -999.0,9,     -999.0,   9.3511,    34.8201,2,-999.0000,9,     -999.0,9
33RO20150410,     P16N.1,      84,          1,         16,         16,2,20150503,       0258,     8.4993,  -151.5798,       5266,   433.4,   8.7050,  34.6244,2,  34.6236,2,     23.5,2,    19.3,2,   39.90,2,   37.20,2,    0.01,2,    2.76,2,   0.172,2,   0.090,2,   0.046,2,  2275.6,2,  2305.4,2,   7.4009,2,    24.99,-999.000,9,-999.0000,9, -999.00,9,   8.7084, -999.00,9,  -999.0,9,  -999.0,-999.000,9,-999.000,  -999.0,9, -999.00,9,     60.024,3, -999.00,9,-999.000,-999.0000, -999.00,     -999.0,     -999.0,9,     -999.0,     -999.0,9,     -999.0,  -999.0,9,     -999.0,     -999.0,9,     -999.0,   8.6584,    34.7869,2,-999.0000,9,     -999.0,9
33RO20150410,     P16N.1,      84,          1,         15,         15,2,20150503,       0258,     8.4993,  -151.5798,       5266,   550.3,   7.5059,  34.5663,2,  34.5653,2,     25.8,2,    25.9,2,   49.90,2,   38.70,2,    0.01,2,    2.90,2,   0.079,2,   0.042,2,       0,2,  2285.6,2,  2315.4,2,   7.3989,6,    25.01,-999.000,9,-999.0000,9, -999.00,9,   7.5105, -999.00,9,  -999.0,9,  -999.0,-999.000,9,-999.000,  -999.0,9, -999.00,9,     52.450,3, -999.00,9,-999.000,-999.0000, -999.00,     -999.0,     -999.0,9,     -999.0,     -999.0,9,     -999.0,  -999.0,9,     -999.0,     -999.0,9,     -999.0,   7.4513,    34.7283,2,-999.0000,9,     -999.0,9
33RO20150410,     P16N.1,      84,          1,         14,         14,2,20150503,       0258,     8.4993,  -151.5798,       5266,   698.7,   6.0321,  34.5425,2,  34.5417,2,     37.5,2,    37.5,2,   65.30,2,   41.00,2,    0.02,2,    3.01,2,   0.024,2,   0.013,2,       0,2,  2303.5,2,  2332.6,2,   7.3997,2,    24.99,-999.000,9,-999.0000,9, -999.00,9,   6.0313, -999.00,9,  -999.0,9,  -999.0,-999.000,9,-999.000,  -999.0,9, -999.00,9,     46.079,3, -999.00,9,-999.000,-999.0000, -999.00,     -999.0,     -999.0,9,     -999.0,     -999.0,9,     -999.0,  -999.0,9,     -999.0,     -999.0,9,     -999.0,   5.9699,    34.7046,2,-999.0000,9,     -999.0,9
33RO20150410,     P16N.1,      84,          1,         13,         13,2,20150503,       0258,     8.4993,  -151.5798,       5266,   850.4,   5.1183,  34.5520,2,  34.5514,2,     40.1,2,    39.0,2,   78.50,2,   42.80,2,    0.01,2,    3.12,2,   0.011,3,   0.003,2,       0,2,  2318.5,2,  2345.6,2,   7.3910,2,    25.00,-999.000,9,-999.0000,9, -999.00,9,   5.1180, -999.00,9,  -999.0,9,  -999.0,-999.000,9,-999.000,  -999.0,9, -999.00,9,     43.732,3, -999.00,9,-999.000,-999.0000, -999.00,     -999.0,     -999.0,9,     -999.0,     -999.0,9,     -999.0,  -999.0,9,     -999.0,     -999.0,9,     -999.0,   5.0475,    34.7143,2,-999.0000,9,     -999.0,9
33RO20150410,     P16N.1,      84,          1,         12,         12,2,20150503,       0258,     8.4993,  -151.5798,       5266,  1000.9,   4.4486,  34.5610,2,  34.5602,2,     52.7,2,    52.6,2,   90.80,2,   42.00,2,    0.01,2,    3.06,2,-999.000,9,-999.000,9,-999.000,9,  2324.7,6,  2360.4,2,   7.4134,3,    25.02,-999.000,9,-999.0000,9, -999.00,9,   4.4482, -999.00,9,  -999.0,9,  -999.0,-999.000,9,-999.000,  -999.0,9, -999.00,9,     -999.0,9, -999.00,9,-999.000,-999.0000, -999.00,     -999.0,     -999.0,9,     -999.0,     -999.0,9,     -999.0,  -999.0,9,     -999.0,     -999.0,9,     -999.0,   4.3693,    34.7232,2,-999.0000,9,     -999.0,9
33RO20150410,     P16N.1,      84,          1,         11,         11,2,20150503,       0258,     8.4993,  -151.5798,       5266,  1166.3,   3.8993,  34.5773,2,  34.5766,2,     52.3,2,    52.5,2,  103.20,2,   42.50,2,    0.00,2,    3.11,2,-999.000,9,-999.000,9,-999.000,9,  2339.5,2,  2374.5,2,   7.4079,2,    24.98,-999.000,9,-999.0000,9, -999.00,9,   3.8983, -999.00,9,  -999.0,9,  -999.0,-999.000,9,-999.000,  -999.0,9, -999.00,9,     -999.0,9, -999.00,9,-999.000,-999.0000, -999.00,     -999.0,     -999.0,9,     -999.0,     -999.0,9,     -999.0,  -999.0,9,     -999.0,     -999.0,9,     -999.0,   3.8104,    34.7396,2,-999.0000,9,     -999.0,9
33RO20150410,     P16N.1,      84,          1,         10,         10,2,20150503,       0258,     8.4993,  -151.5798,       5266,  1398.5,   3.2310,  34.5984,2,  34.5978,2,     67.6,2,    67.4,2,  117.10,2,   41.60,2,    0.00,2,    3.02,2,   0.004,2,   0.001,2,       0,2,  2344.6,2,  2391.4,2,   7.4349,2,    25.00,-999.000,9,-999.0000,9, -999.00,9,   3.2309, -999.00,9,  -999.0,9,  -999.0,-999.000,9,-999.000,  -999.0,9, -999.00,9,     33.566,3, -999.00,9,-999.000,-999.0000, -999.00,     -999.0,     -999.0,9,     -999.0,     -999.0,9,     -999.0,  -999.0,9,     -999.0,     -999.0,9,     -999.0,   3.1290,    34.7609,2,-999.0000,9,     -999.0,9
33RO20150410,     P16N.1,      84,          1,          9,          9,2,20150503,       0258,     8.4993,  -151.5798,       5266,  1731.7,   2.5963,  34.6234,2,  34.6227,2,     84.1,2,    84.3,2,  130.50,2,   40.30,2,    0.00,2,    2.93,2,-999.000,9,-999.000,9,-999.000,9,  2351.5,2,  2406.8,2,   7.4659,2,    25.00,-999.000,9,-999.0000,9, -999.00,9,   2.5986, -999.00,9,  -999.0,9,  -999.0,-999.000,9,-999.000,  -999.0,9, -999.00,9,     -999.0,9, -999.00,9,-999.000,-999.0000, -999.00,     -999.0,     -999.0,9,     -999.0,     -999.0,9,     -999.0,  -999.0,9,     -999.0,     -999.0,9,     -999.0,   2.4739,    34.7860,2,-999.0000,9,     -999.0,9
33RO20150410,     P16N.1,      84,          1,          8,          8,2,20150503,       0258,     8.4993,  -151.5798,       5266,  2133.2,   2.0790,  34.6490,2,  34.6485,2,    100.7,2,   101.5,2,  141.50,2,   39.40,2,    0.00,2,    2.84,2,-999.000,9,-999.000,9,-999.000,9,  2353.0,2,  2420.2,2,   7.4969,2,    24.99,-999.000,9,-999.0000,9, -999.00,9,   2.0789, -999.00,9,  -999.0,9,  -999.0,-999.000,9,-999.000,  -999.0,9, -999.00,9,     -999.0,9, -999.00,9,-999.000,-999.0000, -999.00,     -999.0,     -999.0,9,     -999.0,     -999.0,9,     -999.0,  -999.0,9,     -999.0,     -999.0,9,     -999.0,   1.9299,    34.8119,2,-999.0000,9,     -999.0,9
33RO20150410,     P16N.1,      84,          1,          7,          7,2,20150503,       0258,     8.4993,  -151.5798,       5266,  2532.8,   1.8495,  34.6661,2,  34.6656,2,    110.5,2,   111.7,2,  146.60,2,   38.40,2,    0.01,2,    2.76,2,   0.003,2,   0.002,2,    0.02,3,  2354.6,2,  2429.0,2,   7.5192,2,    25.00,-999.000,9,-999.0000,9, -999.00,9,   1.8497, -999.00,9,  -999.0,9,  -999.0,-999.000,9,-999.000,  -999.0,9, -999.00,9,     23.493,3, -999.00,9,-999.000,-999.0000, -999.00,     -999.0,     -999.0,9,     -999.0,     -999.0,9,     -999.0,  -999.0,9,     -999.0,     -999.0,9,     -999.0,   1.6690,    34.8291,2,-999.0000,9,     -999.0,9
33RO20150410,     P16N.1,      84,          1,          6,          6,2,20150503,       0258,     8.4993,  -151.5798,       5266,  2933.2,   1.7147,  34.6740,2,  34.6725,2,    120.1,2,   121.9,2,  148.00,2,   37.90,2,    0.01,2,    2.71,2,-999.000,9,-999.000,9,-999.000,9,  2351.3,2,  2430.4,2,   7.5366,6,    25.02,-999.000,9,-999.0000,9, -999.00,9,   1.7150, -999.00,9,  -999.0,9,  -999.0,-999.000,9,-999.000,  -999.0,9, -999.00,9,     -999.0,9, -999.00,9,-999.000,-999.0000, -999.00,     -999.0,     -999.0,9,     -999.0,     -999.0,9,     -999.0,  -999.0,9,     -999.0,     -999.0,9,     -999.0,   1.4996,    34.8360,2,-999.0000,9,     -999.0,9
33RO20150410,     P16N.1,      84,          1,          5,          5,2,20150503,       0258,     8.4993,  -151.5798,       5266,  3367.1,   1.5854,  34.6814,2,  34.6799,2,    132.6,2,   134.3,2,  146.90,2,   37.20,2,    0.01,2,    2.63,2,-999.000,9,-999.000,9,-999.000,9,  2340.1,2,  2429.2,2,   7.5558,2,    25.00,-999.000,9,-999.0000,9, -999.00,9,   1.5853, -999.00,9,  -999.0,9,  -999.0,-999.000,9,-999.000,  -999.0,9, -999.00,9,     -999.0,9, -999.00,9,-999.000,-999.0000, -999.00,     -999.0,     -999.0,9,     -999.0,     -999.0,9,     -999.0,  -999.0,9,     -999.0,     -999.0,9,     -999.0,   1.3306,    34.8435,2,-999.0000,9,     -999.0,9
33RO20150410,     P16N.1,      84,          1,          4,          4,2,20150503,       0258,     8.4993,  -151.5798,       5266,  3867.1,   1.4303,  34.6913,2,  34.6908,2,    154.3,2,   155.4,2,  139.20,6,   35.70,6,    0.00,6,    2.53,6,   0.002,6,   0.001,6,       0,6,  2323.6,2,  2420.9,2,   7.5848,2,    25.00,-999.000,9,-999.0000,9, -999.00,9,   1.4302, -999.00,9,  -999.0,9,  -999.0,-999.000,9,-999.000,  -999.0,9, -999.00,9,     20.052,3, -999.00,9,-999.000,-999.0000, -999.00,     -999.0,     -999.0,9,     -999.0,     -999.0,9,     -999.0,  -999.0,9,     -999.0,     -999.0,9,     -999.0,   1.1276,    34.8543,2,-999.0000,9,     -999.0,9
33RO20150410,     P16N.1,      84,          1,          3,          3,2,20150503,       0258,     8.4993,  -151.5798,       5266,  4367.9,   1.3782,  34.6966,2,  34.6958,2,    167.1,2,   167.7,2,  132.90,6,   34.90,6,    0.00,6,    2.46,6,-999.000,9,-999.000,9,-999.000,9,  2311.4,2,  2412.5,2,   7.5974,6,    25.01,-999.000,9,-999.0000,9, -999.00,9,   1.3783, -999.00,9,  -999.0,9,  -999.0,-999.000,9,-999.000,  -999.0,9, -999.00,9,     -999.0,9, -999.00,9,-999.000,-999.0000, -999.00,     -999.0,     -999.0,9,     -999.0,     -999.0,9,     -999.0,  -999.0,9,     -999.0,     -999.0,9,     -999.0,   1.0219,    34.8594,6,-999.0000,9,     -999.0,9
33RO20150410,     P16N.1,      84,          1,          2,          2,2,20150503,       0258,     8.4993,  -151.5798,       5266,  4866.7,   1.4139,  34.6973,2,  34.6965,2,    170.9,2,   170.3,2,  132.10,6,   34.70,6,    0.00,6,    2.46,6,-999.000,9,-999.000,9,-999.000,9,  2306.5,2,  2409.3,6,   7.5966,2,    25.01,-999.000,9,-999.0000,9, -999.00,9,   1.4139, -999.00,9,  -999.0,9,  -999.0,-999.000,9,-999.000,  -999.0,9, -999.00,9,     -999.0,9, -999.00,9,-999.000,-999.0000, -999.00,     -999.0,     -999.0,9,     -999.0,     -999.0,9,     -999.0,  -999.0,9,     -999.0,     -999.0,9,     -999.0,   0.9985,    34.8601,2,-999.0000,9,     -999.0,9
33RO20150410,     P16N.1,      84,          1,          1,          1,2,20150503,       0258,     8.4993,  -151.5798,       5266,  5255.0,   1.4571,  34.6972,2,  34.6969,2,    171.3,2,   171.0,2,  131.00,6,   34.60,6,    0.01,6,    2.45,6,   0.001,2,   0.002,2,       0,2,  2305.0,6,  2407.0,2,   7.5971,2,    25.01,-999.000,9,-999.0000,9, -999.00,9,   1.4570, -999.00,9,  -999.0,9,  -999.0,-999.000,9,-999.000,  -999.0,9, -999.00,9,     19.473,3, -999.00,9,-999.000,-999.0000, -999.00,     -999.0,     -999.0,9,     -999.0,     -999.0,9,     -999.0,  -999.0,9,     -999.0,     -999.0,9,     -999.0,   0.9928,    34.8605,2,-999.0000,9,     -999.0,9