BOTTLE,20210709CCHSIOCBG
EXPOCODE,SECT_ID,STNNBR,CASTNO,SAMPNO,BTLNBR,BTLNBR_FLAG_W,DATE,TIME,LATITUDE,LONGITUDE,DEPTH,CTDPRS,CTDTMP,CTDSAL,CTDSAL_FLAG_W,SALNTY,SALNTY_FLAG_W,CTDOXY,CTDOXY_FLAG_W,OXYGEN,OXYGEN_FLAG_W,SILCAT,SILCAT_FLAG_W,NITRAT,NITRAT_FLAG_W,NITRIT,NITRIT_FLAG_W,PHSPHT,PHSPHT_FLAG_W,CFC-11,CFC-11_FLAG_W,CFC-12,CFC-12_FLAG_W,SF6,SF6_FLAG_W,TCARBN,TCARBN_FLAG_W,ALKALI,ALKALI_FLAG_W,PH_TOT,PH_TOT_FLAG_W,PH_TMP,TRITUM,TRITUM_FLAG_W,HELIUM,HELIUM_FLAG_W,DELHE3,DELHE3_FLAG_W,REFTMP,DELC13,DELC13_FLAG_W,DELC14,DELC14_FLAG_W,C14ERR,NEON,NEON_FLAG_W,NEONER,DOC,DOC_FLAG_W,TDN,TDN_FLAG_W,N2O,N2O_FLAG_W,ARGON,ARGON_FLAG_W,TRITER,HELIER,DELHER,ARGONER,KRYPTON,KRYPTON_FLAG_W,KRYPTONER,XENON,XENON_FLAG_W,XENONER,14C-DOC,14C-DOC_FLAG_W,14C-DOCERR,13C-DOC,13C-DOC_FLAG_W,13C-DOCERR,THETA,SALTREF,SALTREF_FLAG_W,SBE35,SBE35_FLAG_W,CHLORA,CHLORA_FLAG_W
,,,,,,,,,,,METERS,DBAR,ITS-90,PSS-78,,PSS-78,,UMOL/KG,,UMOL/KG,,UMOL/KG,,UMOL/KG,,UMOL/KG,,UMOL/KG,,PMOL/KG,,PMOL/KG,,FMOL/KG,,UMOL/KG,,UMOL/KG,,,,DEG C,TU,,NMOL/KG,,PERCNT,,DEG C,/MILLE,,/MILLE,,/MILLE,NMOL/KG,,NMOL/KG,UMOL/KG,,UMOL/KG,,NMOL/KG,,UMOL/KG,,TU,NMOL/KG,PERCNT,UMOL/KG,NMOL/KG,,NMOL/KG,NMOL/KG,,NMOL/KG,/MILLE,,/MILLE,/MILLE,,/MILLE,DEG C,G/KG,,ITS-90,,MG/M3,
33RO20150410,     P16N.1,      83,          1,         24,         24,2,20150502,       1946,     8.0005,  -151.4606,       5196,    10.3,  27.7845,  34.0520,2,  34.0670,2,    197.3,2,   197.6,2,    0.90,2,    0.10,2,    0.00,2,    0.25,2,   1.493,2,   0.969,2,   1.281,2,  1918.9,6,  2237.7,2,   8.0961,2,    25.00,-999.000,9,-999.0000,9, -999.00,9,  27.7841, -999.00,9,  -999.0,9,  -999.0,-999.000,9,-999.000,    67.5,2,    4.10,2,      6.199,3, -999.00,9,-999.000,-999.0000, -999.00,     -999.0,     -999.0,9,     -999.0,     -999.0,9,     -999.0,  -999.0,9,     -999.0,     -999.0,9,     -999.0,  27.7821,    34.2277,2,-999.0000,9,      0.173,2
33RO20150410,     P16N.1,      83,          1,         23,         23,2,20150502,       1946,     8.0005,  -151.4606,       5196,    24.7,  27.7385,  34.0614,2,  34.0664,2,    197.7,2,   197.8,2,    1.00,2,    0.10,2,    0.00,2,    0.25,2,   1.495,2,   0.964,2,   1.266,2,  1918.3,2,  2238.8,2,   8.0960,6,    25.01,-999.000,9,-999.0000,9, -999.00,9,  27.7389, -999.00,9,  -999.0,9,  -999.0,-999.000,9,-999.000,    65.8,2,    4.00,2,      6.164,3, -999.00,9,-999.000,-999.0000, -999.00,     -999.0,     -999.0,9,     -999.0,     -999.0,9,     -999.0,  -999.0,9,     -999.0,     -999.0,9,     -999.0,  27.7327,    34.2271,2,-999.0000,9,      0.172,2
33RO20150410,     P16N.1,      83,          1,         22,         22,2,20150502,       1946,     8.0005,  -151.4606,       5196,    50.4,  27.7163,  34.2846,2,  34.2915,2,    196.7,2,   197.1,2,    1.20,2,    0.10,2,    0.00,2,    0.27,2,   1.505,6,   0.970,6,   1.273,6,  1933.6,2,  2253.9,2,   8.0909,6,    25.01,-999.000,9,-999.0000,9, -999.00,9,  27.7681, -999.00,9,  -999.0,9,  -999.0,-999.000,9,-999.000,    66.3,2,    4.00,2,      6.477,3, -999.00,9,-999.000,-999.0000, -999.00,     -999.0,     -999.0,9,     -999.0,     -999.0,9,     -999.0,  -999.0,9,     -999.0,     -999.0,9,     -999.0,  27.7045,    34.4532,2,-999.0000,9,      0.250,2
33RO20150410,     P16N.1,      83,          1,         21,         21,2,20150502,       1946,     8.0005,  -151.4606,       5196,    72.2,  18.4167,  34.6695,2,  34.6709,2,    175.8,2,   169.2,2,    5.50,2,    5.90,2,    0.20,2,    0.76,2,   1.904,6,   1.175,6,   1.272,6,  2088.7,2,  2290.2,6,   7.8582,2,    24.99,-999.000,9,-999.0000,9, -999.00,9,  18.4238, -999.00,9,  -999.0,9,  -999.0,-999.000,9,-999.000,    60.2,2,    9.40,2,     15.695,3, -999.00,9,-999.000,-999.0000, -999.00,     -999.0,     -999.0,9,     -999.0,     -999.0,9,     -999.0,  -999.0,9,     -999.0,     -999.0,9,     -999.0,  18.4042,    34.8343,2,-999.0000,9,      0.275,2
33RO20150410,     P16N.1,      83,          1,         20,         20,2,20150502,       1946,     8.0005,  -151.4606,       5196,   100.4,  13.8391,  34.4589,2,  34.4629,2,    100.9,2,    99.2,2,   15.50,2,   18.90,2,    0.27,2,    1.61,2,-999.000,5,-999.000,5,-999.000,5,  2160.4,2,  2275.7,2,   7.6454,2,    25.00,-999.000,9,-999.0000,9, -999.00,9,  13.8883, -999.00,9,  -999.0,9,  -999.0,-999.000,9,-999.000,    51.9,2,   20.60,3,     -999.0,5, -999.00,9,-999.000,-999.0000, -999.00,     -999.0,     -999.0,9,     -999.0,     -999.0,9,     -999.0,  -999.0,9,     -999.0,     -999.0,9,     -999.0,  13.8248,    34.6254,2,-999.0000,9,      0.178,2
33RO20150410,     P16N.1,      83,          1,         19,         19,2,20150502,       1946,     8.0005,  -151.4606,       5196,   149.9,  11.0966,  34.7061,2,  34.7051,2,      8.1,2,     8.9,2,   29.00,2,   33.90,2,    0.00,2,    2.55,2,   0.716,6,   0.393,6,   0.134,6,  2257.5,2,  2296.4,2,   7.4243,2,    25.00,-999.000,9,-999.0000,9, -999.00,9,  11.0948, -999.00,9,  -999.0,9,  -999.0,-999.000,9,-999.000,    49.1,2,   36.00,2,     80.784,3, -999.00,9,-999.000,-999.0000, -999.00,     -999.0,     -999.0,9,     -999.0,     -999.0,9,     -999.0,  -999.0,9,     -999.0,     -999.0,9,     -999.0,  11.0781,    34.8687,2,-999.0000,9,      0.009,2
33RO20150410,     P16N.1,      83,          1,         18,         18,2,20150502,       1946,     8.0005,  -151.4606,       5196,   225.2,  10.1106,  34.6877,2,  34.6910,2,     26.8,2,    26.2,2,   31.40,2,   34.10,2,    0.01,2,    2.51,2,   0.566,2,   0.309,2,   0.103,2,  2255.2,2,  2301.4,2,   7.4432,2,    25.00,-999.000,9,-999.0000,9, -999.00,9,  10.1107, -999.00,9,  -999.0,9,  -999.0,-999.000,9,-999.000,    46.0,2,   36.30,2,     60.579,3, -999.00,9,-999.000,-999.0000, -999.00,     -999.0,     -999.0,9,     -999.0,     -999.0,9,     -999.0,  -999.0,9,     -999.0,     -999.0,9,     -999.0,  10.0843,    34.8546,2,-999.0000,9,     -999.0,5
33RO20150410,     P16N.1,      83,          1,         17,         17,2,20150502,       1946,     8.0005,  -151.4606,       5196,   299.3,   9.6707,  34.6769,2,  34.6804,2,     30.5,2,    32.8,2,   32.40,2,   34.50,2,    0.00,2,    2.51,2,   0.501,2,   0.272,2,   0.093,2,  2254.7,2,  2302.8,2,   7.4502,6,    25.01,-999.000,9,-999.0000,9, -999.00,9,   9.6696, -999.00,9,  -999.0,9,  -999.0,-999.000,9,-999.000,    43.1,2,   36.90,2,     54.016,3, -999.00,9,-999.000,-999.0000, -999.00,     -999.0,     -999.0,9,     -999.0,     -999.0,9,     -999.0,  -999.0,9,     -999.0,     -999.0,9,     -999.0,   9.6366,    34.8439,2,-999.0000,9,     -999.0,9
33RO20150410,     P16N.1,      83,          1,         16,         16,2,20150502,       1946,     8.0005,  -151.4606,       5196,   400.4,   9.0071,  34.6440,2,  34.6461,2,     17.1,2,    17.9,2,   37.70,2,   36.70,2,    0.00,2,    2.74,2,   0.227,2,   0.119,2,   0.054,2,  2274.2,2,  2307.1,2,   7.4046,2,    25.00,-999.000,9,-999.0000,9, -999.00,9,   9.0056, -999.00,9,  -999.0,9,  -999.0,-999.000,9,-999.000,    45.6,2, -999.00,9,     61.056,3, -999.00,9,-999.000,-999.0000, -999.00,     -999.0,     -999.0,9,     -999.0,     -999.0,9,     -999.0,  -999.0,9,     -999.0,     -999.0,9,     -999.0,   8.9633,    34.8095,6,-999.0000,9,     -999.0,9
33RO20150410,     P16N.1,      83,          1,         15,         15,2,20150502,       1946,     8.0005,  -151.4606,       5196,   501.4,   8.0499,  34.5956,2,  34.5953,2,     20.2,2,    15.9,2,   45.60,2,   38.50,2,    0.00,2,    2.88,2,   0.082,2,   0.043,2,       0,2,  2285.4,6,  2313.0,2,   7.3856,2,    25.00,-999.000,9,-999.0000,9, -999.00,9,   8.0481, -999.00,9,  -999.0,9,  -999.0,-999.000,9,-999.000,    43.9,2, -999.00,9,     60.022,3, -999.00,9,-999.000,-999.0000, -999.00,     -999.0,     -999.0,9,     -999.0,     -999.0,9,     -999.0,  -999.0,9,     -999.0,     -999.0,9,     -999.0,   7.9983,    34.7585,2,-999.0000,9,     -999.0,9
33RO20150410,     P16N.1,      83,          1,         14,         14,2,20150502,       1946,     8.0005,  -151.4606,       5196,   650.3,   6.7148,  34.5504,2,  34.5500,2,     21.4,2,    25.7,2,   58.10,2,   40.50,2,    0.00,2,    3.00,2,   0.031,2,   0.017,2,       0,2,  2297.5,2,  2325.2,2,   7.3862,2,    25.00,-999.000,9,-999.0000,9, -999.00,9,   6.7115, -999.00,9,  -999.0,9,  -999.0,-999.000,9,-999.000,    43.7,2, -999.00,9,     51.539,3, -999.00,9,-999.000,-999.0000, -999.00,     -999.0,     -999.0,9,     -999.0,     -999.0,9,     -999.0,  -999.0,9,     -999.0,     -999.0,9,     -999.0,   6.6537,    34.7129,2,-999.0000,9,     -999.0,9
33RO20150410,     P16N.1,      83,          1,         13,         13,2,20150502,       1946,     8.0005,  -151.4606,       5196,   801.1,   5.6217,  34.5484,2,  34.5477,2,     30.6,2,    30.3,2,   71.40,2,   42.70,2,    0.00,2,    3.12,2,   0.004,2,   0.002,2,       0,2,  2314.6,2,  2339.5,2,   7.3783,2,    25.01,-999.000,9,-999.0000,9, -999.00,9,   5.6218, -999.00,9,  -999.0,9,  -999.0,-999.000,9,-999.000,    42.6,2, -999.00,9,     48.110,3, -999.00,9,-999.000,-999.0000, -999.00,     -999.0,     -999.0,9,     -999.0,     -999.0,9,     -999.0,  -999.0,9,     -999.0,     -999.0,9,     -999.0,   5.5522,    34.7106,2,-999.0000,9,     -999.0,9
33RO20150410,     P16N.1,      83,          1,         12,         12,2,20150502,       1946,     8.0005,  -151.4606,       5196,   951.0,   4.9262,  34.5524,2,  34.5514,2,     44.0,2,    43.6,2,   82.20,2,   42.40,2,    0.00,2,    3.09,2,   0.004,2,  -0.001,2,       0,2,  2319.5,2,  2351.7,2,   7.3990,2,    25.01,-999.000,9,-999.0000,9, -999.00,9,   4.9255, -999.00,9,  -999.0,9,  -999.0,-999.000,9,-999.000,    41.3,2, -999.00,9,     42.472,3, -999.00,9,-999.000,-999.0000, -999.00,     -999.0,     -999.0,9,     -999.0,     -999.0,9,     -999.0,  -999.0,9,     -999.0,     -999.0,9,     -999.0,   4.8478,    34.7143,2,-999.0000,9,     -999.0,9
33RO20150410,     P16N.1,      83,          1,         11,         11,2,20150502,       1946,     8.0005,  -151.4606,       5196,  1100.9,   4.2966,  34.5648,2,  34.5652,2,     51.4,2,    50.6,2,   94.50,2,   42.30,2,    0.00,2,    3.10,2,   0.002,2,   0.001,2,       0,2,  2331.7,2,  2366.7,2,   7.4086,2,    25.03,-999.000,9,-999.0000,9, -999.00,9,   4.2994, -999.00,9,  -999.0,9,  -999.0,-999.000,9,-999.000,    41.2,2, -999.00,9,     39.430,3, -999.00,9,-999.000,-999.0000, -999.00,     -999.0,     -999.0,9,     -999.0,     -999.0,9,     -999.0,  -999.0,9,     -999.0,     -999.0,9,     -999.0,   4.2099,    34.7281,2,-999.0000,9,     -999.0,9
33RO20150410,     P16N.1,      83,          1,         10,         10,2,20150502,       1946,     8.0005,  -151.4606,       5196,  1300.3,   3.5799,  34.5850,2,  34.5881,2,     61.9,2,    61.9,2,  109.70,2,   41.80,2,    0.00,2,    3.05,2,   0.002,2,  -0.001,2,       0,2,  2340.7,2,  2383.8,2,   7.4264,2,    24.98,-999.000,9,-999.0000,9, -999.00,9,   3.5798, -999.00,9,  -999.0,9,  -999.0,-999.000,9,-999.000,    41.3,2, -999.00,9,     35.356,3, -999.00,9,-999.000,-999.0000, -999.00,     -999.0,     -999.0,9,     -999.0,     -999.0,9,     -999.0,  -999.0,9,     -999.0,     -999.0,9,     -999.0,   3.4826,    34.7512,6,-999.0000,9,     -999.0,9
33RO20150410,     P16N.1,      83,          1,          9,          9,2,20150502,       1946,     8.0005,  -151.4606,       5196,  1600.6,   2.8618,  34.6122,2,  34.6137,2,     77.0,2,    77.0,2,  125.20,2,   40.90,2,    0.00,2,    2.96,2,  -0.001,2,  -0.001,2,       0,2,  2348.9,2,  2402.6,2,   7.4514,2,    25.00,-999.000,9,-999.0000,9, -999.00,9,   2.8617, -999.00,9,  -999.0,9,  -999.0,-999.000,9,-999.000,    40.1,2, -999.00,9,     30.686,3, -999.00,9,-999.000,-999.0000, -999.00,     -999.0,     -999.0,9,     -999.0,     -999.0,9,     -999.0,  -999.0,9,     -999.0,     -999.0,9,     -999.0,   2.7471,    34.7770,2,-999.0000,9,     -999.0,9
33RO20150410,     P16N.1,      83,          1,          8,          8,2,20150502,       1946,     8.0005,  -151.4606,       5196,  1995.5,   2.2105,  34.6425,2,  34.6419,2,     96.7,2,    97.3,2,  138.80,2,   39.50,2,    0.00,2,    2.84,2,   0.000,2,   0.001,2,   0.023,3,  2352.1,2,  2418.0,2,   7.4900,2,    25.00,-999.000,9,-999.0000,9, -999.00,9,   2.2112, -999.00,9,  -999.0,9,  -999.0,-999.000,9,-999.000,    36.8,2, -999.00,9,     26.717,3, -999.00,9,-999.000,-999.0000, -999.00,     -999.0,     -999.0,9,     -999.0,     -999.0,9,     -999.0,  -999.0,9,     -999.0,     -999.0,9,     -999.0,   2.0712,    34.8052,2,-999.0000,9,     -999.0,9
33RO20150410,     P16N.1,      83,          1,          7,          7,2,20150502,       1946,     8.0005,  -151.4606,       5196,  2399.3,   1.9025,  34.6626,2,  34.6637,2,    109.3,2,   109.9,2,  145.60,2,   38.70,2,    0.00,2,    2.77,2,   0.000,2,  -0.001,2,       0,2,  2353.0,2,  2428.9,2,   7.5157,2,    25.02,-999.000,9,-999.0000,9, -999.00,9,   1.9024, -999.00,9,  -999.0,9,  -999.0,-999.000,9,-999.000,    38.1,2, -999.00,9,     23.917,3, -999.00,9,-999.000,-999.0000, -999.00,     -999.0,     -999.0,9,     -999.0,     -999.0,9,     -999.0,  -999.0,9,     -999.0,     -999.0,9,     -999.0,   1.7330,    34.8271,2,-999.0000,9,     -999.0,9
33RO20150410,     P16N.1,      83,          1,          6,          6,2,20150502,       1946,     8.0005,  -151.4606,       5196,  2800.1,   1.7964,  34.6709,2,  34.6710,2,    114.7,2,   115.1,2,  148.50,2,   38.20,2,    0.00,2,    2.74,2,   0.001,2,   0.001,2,       0,2,  2353.7,2,  2433.3,2,   7.5276,2,    24.99,-999.000,9,-999.0000,9, -999.00,9,   1.7962, -999.00,9,  -999.0,9,  -999.0,-999.000,9,-999.000,    38.4,2, -999.00,9,     22.975,3, -999.00,9,-999.000,-999.0000, -999.00,     -999.0,     -999.0,9,     -999.0,     -999.0,9,     -999.0,  -999.0,9,     -999.0,     -999.0,9,     -999.0,   1.5922,    34.8344,2,-999.0000,9,     -999.0,9
33RO20150410,     P16N.1,      83,          1,          5,          5,2,20150502,       1946,     8.0005,  -151.4606,       5196,  3199.8,   1.6624,  34.6782,2,  34.6782,2,    127.4,2,   127.5,2,  147.90,2,   37.50,2,    0.00,2,    2.67,2,  -0.002,2,   0.001,2,       0,2,  2346.6,2,  2433.0,2,   7.5475,6,    25.01,-999.000,9,-999.0000,9, -999.00,9,   1.6624, -999.00,9,  -999.0,9,  -999.0,-999.000,9,-999.000,    37.8,2, -999.00,9,     21.890,3, -999.00,9,-999.000,-999.0000, -999.00,     -999.0,     -999.0,9,     -999.0,     -999.0,9,     -999.0,  -999.0,9,     -999.0,     -999.0,9,     -999.0,   1.4225,    34.8418,2,-999.0000,9,     -999.0,9
33RO20150410,     P16N.1,      83,          1,          4,          4,2,20150502,       1946,     8.0005,  -151.4606,       5196,  3700.2,   1.4890,  34.6875,2,  34.6865,2,    147.2,2,   147.9,2,  142.70,6,   36.20,6,    0.00,6,    2.54,6,   0.000,2,   0.000,2,       0,2,  2329.8,2,  2426.1,2,   7.5754,6,    25.01,-999.000,9,-999.0000,9, -999.00,9,   1.4890, -999.00,9,  -999.0,9,  -999.0,-999.000,9,-999.000,    38.4,2, -999.00,9,     20.826,3, -999.00,9,-999.000,-999.0000, -999.00,     -999.0,     -999.0,9,     -999.0,     -999.0,9,     -999.0,  -999.0,9,     -999.0,     -999.0,9,     -999.0,   1.2024,    34.8501,2,-999.0000,9,     -999.0,9
33RO20150410,     P16N.1,      83,          1,          3,          3,2,20150502,       1946,     8.0005,  -151.4606,       5196,  4199.8,   1.3930,  34.6951,2,  34.6957,2,    163.9,2,   164.1,2,  135.20,6,   35.00,6,    0.00,6,    2.47,6,   0.002,2,   0.000,2,       0,2,  2313.0,2,  2417.4,6,   7.5953,2,    25.01,-999.000,9,-999.0000,9, -999.00,9,   1.3932, -999.00,9,  -999.0,9,  -999.0,-999.000,9,-999.000,    38.8,2, -999.00,9,     19.796,3, -999.00,9,-999.000,-999.0000, -999.00,     -999.0,     -999.0,9,     -999.0,     -999.0,9,     -999.0,  -999.0,9,     -999.0,     -999.0,9,     -999.0,   1.0551,    34.8593,2,-999.0000,9,     -999.0,9
33RO20150410,     P16N.1,      83,          1,          2,          2,2,20150502,       1946,     8.0005,  -151.4606,       5196,  4699.9,   1.4037,  34.6969,2,  34.6961,2,    168.6,2,   169.4,2,  132.40,6,   34.60,6,    0.00,6,    2.45,6,   0.002,2,   0.001,2,       0,2,  2307.7,2,  2411.5,2,   7.5982,6,    25.02,-999.000,9,-999.0000,9, -999.00,9,   1.4038, -999.00,9,  -999.0,9,  -999.0,-999.000,9,-999.000,    37.7,2, -999.00,9,     19.749,3, -999.00,9,-999.000,-999.0000, -999.00,     -999.0,     -999.0,9,     -999.0,     -999.0,9,     -999.0,  -999.0,9,     -999.0,     -999.0,9,     -999.0,   1.0084,    34.8597,2,-999.0000,9,     -999.0,9
33RO20150410,     P16N.1,      83,          1,          1,          1,2,20150502,       1946,     8.0005,  -151.4606,       5196,  5185.5,   1.4554,  34.6969,2,  34.7146,4,    170.3,2,   170.0,2,  131.80,6,   34.50,6,    0.00,6,    2.44,6,   0.003,6,   0.002,6,       0,6,  2307.9,6,  2410.9,2,   7.5975,2,    25.00,-999.000,9,-999.0000,9, -999.00,9,   1.4557, -999.00,9,  -999.0,9,  -999.0,-999.000,9,-999.000,    36.4,2, -999.00,9,     19.592,3, -999.00,9,-999.000,-999.0000, -999.00,     -999.0,     -999.0,9,     -999.0,     -999.0,9,     -999.0,  -999.0,9,     -999.0,     -999.0,9,     -999.0,   0.9996,    34.8783,3,-999.0000,9,     -999.0,9