BOTTLE,20210709CCHSIOCBG
EXPOCODE,SECT_ID,STNNBR,CASTNO,SAMPNO,BTLNBR,BTLNBR_FLAG_W,DATE,TIME,LATITUDE,LONGITUDE,DEPTH,CTDPRS,CTDTMP,CTDSAL,CTDSAL_FLAG_W,SALNTY,SALNTY_FLAG_W,CTDOXY,CTDOXY_FLAG_W,OXYGEN,OXYGEN_FLAG_W,SILCAT,SILCAT_FLAG_W,NITRAT,NITRAT_FLAG_W,NITRIT,NITRIT_FLAG_W,PHSPHT,PHSPHT_FLAG_W,CFC-11,CFC-11_FLAG_W,CFC-12,CFC-12_FLAG_W,SF6,SF6_FLAG_W,TCARBN,TCARBN_FLAG_W,ALKALI,ALKALI_FLAG_W,PH_TOT,PH_TOT_FLAG_W,PH_TMP,TRITUM,TRITUM_FLAG_W,HELIUM,HELIUM_FLAG_W,DELHE3,DELHE3_FLAG_W,REFTMP,DELC13,DELC13_FLAG_W,DELC14,DELC14_FLAG_W,C14ERR,NEON,NEON_FLAG_W,NEONER,DOC,DOC_FLAG_W,TDN,TDN_FLAG_W,N2O,N2O_FLAG_W,ARGON,ARGON_FLAG_W,TRITER,HELIER,DELHER,ARGONER,KRYPTON,KRYPTON_FLAG_W,KRYPTONER,XENON,XENON_FLAG_W,XENONER,14C-DOC,14C-DOC_FLAG_W,14C-DOCERR,13C-DOC,13C-DOC_FLAG_W,13C-DOCERR,THETA,SALTREF,SALTREF_FLAG_W,SBE35,SBE35_FLAG_W,CHLORA,CHLORA_FLAG_W
,,,,,,,,,,,METERS,DBAR,ITS-90,PSS-78,,PSS-78,,UMOL/KG,,UMOL/KG,,UMOL/KG,,UMOL/KG,,UMOL/KG,,UMOL/KG,,PMOL/KG,,PMOL/KG,,FMOL/KG,,UMOL/KG,,UMOL/KG,,,,DEG C,TU,,NMOL/KG,,PERCNT,,DEG C,/MILLE,,/MILLE,,/MILLE,NMOL/KG,,NMOL/KG,UMOL/KG,,UMOL/KG,,NMOL/KG,,UMOL/KG,,TU,NMOL/KG,PERCNT,UMOL/KG,NMOL/KG,,NMOL/KG,NMOL/KG,,NMOL/KG,/MILLE,,/MILLE,/MILLE,,/MILLE,DEG C,G/KG,,ITS-90,,MG/M3,
33RO20150410,     P16N.1,      68,          1,         24,         24,2,20150428,       1704,     2.7101,  -151.0000,       4998,    10.6,  28.7293,  35.0523,2,  35.0513,2,    198.4,2,   200.1,2,    1.70,2,    2.40,2,    0.11,2,    0.48,2,   1.436,2,   0.952,2,   1.212,2,  1998.1,2,  2306.2,2,   8.0479,2,    25.02,-999.000,9,-999.0000,9, -999.00,9,  28.7302, -999.00,9,  -999.0,9,  -999.0,-999.000,9,-999.000,    61.3,2,    7.50,2,      6.724,3, -999.00,9,-999.000,-999.0000, -999.00,     -999.0,     -999.0,9,     -999.0,     -999.0,9,     -999.0,  -259.0,2,        4.0,      -20.8,2,        0.2,  28.7268,    35.2166,2,-999.0000,2,     -999.0,9
33RO20150410,     P16N.1,      68,          1,         23,         23,2,20150428,       1704,     2.7101,  -151.0000,       4998,    25.8,  28.6918,  35.0964,2,  35.0964,2,    201.2,2,   201.0,2,    1.70,2,    2.50,2,    0.12,2,    0.49,2,-999.000,9,-999.000,9,-999.000,9,  2001.9,6,  2308.3,2,   8.0467,2,    25.02,-999.000,9,-999.0000,9, -999.00,9,  28.6933, -999.00,9,  -999.0,9,  -999.0,-999.000,9,-999.000,    62.3,2,    7.30,2,     -999.0,9, -999.00,9,-999.000,-999.0000, -999.00,     -999.0,     -999.0,9,     -999.0,     -999.0,9,     -999.0,  -999.0,9,     -999.0,     -999.0,9,     -999.0,  28.6856,    35.2619,2,-999.0000,2,     -999.0,9
33RO20150410,     P16N.1,      68,          1,         22,         22,2,20150428,       1704,     2.7101,  -151.0000,       4998,    50.1,  28.6435,  35.0938,2,  35.0958,2,    201.1,2,   200.4,2,    1.80,2,    2.50,2,    0.13,2,    0.49,2,   1.423,2,   0.954,2,   1.225,2,  2002.9,2,  2308.0,2,   8.0449,6,    25.01,-999.000,9,-999.0000,9, -999.00,9,  28.6435, -999.00,9,  -999.0,9,  -999.0,-999.000,9,-999.000,    62.8,2,    7.30,2,      6.590,3, -999.00,9,-999.000,-999.0000, -999.00,     -999.0,     -999.0,9,     -999.0,     -999.0,9,     -999.0,  -999.0,9,     -999.0,     -999.0,9,     -999.0,  28.6315,    35.2613,2,-999.0000,2,     -999.0,9
33RO20150410,     P16N.1,      68,          1,         21,         21,2,20150428,       1704,     2.7101,  -151.0000,       4998,    75.2,  28.4979,  35.0840,2,  35.0910,2,    200.7,2,   200.2,2,    1.80,2,    2.60,2,    0.15,2,    0.51,2,   1.473,2,   0.963,2,   1.231,2,  2004.4,2,  2308.4,2,   8.0413,2,    25.01,-999.000,9,-999.0000,9, -999.00,9,  28.4913, -999.00,9,  -999.0,9,  -999.0,-999.000,9,-999.000,    59.9,2,    7.00,2,      6.716,3, -999.00,9,-999.000,-999.0000, -999.00,     -999.0,     -999.0,9,     -999.0,     -999.0,9,     -999.0,  -999.0,9,     -999.0,     -999.0,9,     -999.0,  28.4799,    35.2565,2,-999.0000,2,     -999.0,9
33RO20150410,     P16N.1,      68,          1,         20,         20,2,20150428,       1704,     2.7101,  -151.0000,       4998,   100.8,  27.9123,  35.0012,2,  35.0007,2,    194.7,2,   193.1,2,    1.80,2,    2.60,2,    0.21,2,    0.55,2,   1.492,2,   0.972,2,   1.211,2,  2006.1,2,  2302.7,6,   8.0325,2,    25.01,-999.000,9,-999.0000,9, -999.00,9,  27.9040, -999.00,9,  -999.0,9,  -999.0,-999.000,9,-999.000,    60.8,2,    7.60,2,      6.978,3, -999.00,9,-999.000,-999.0000, -999.00,     -999.0,     -999.0,9,     -999.0,     -999.0,9,     -999.0,  -999.0,9,     -999.0,     -999.0,9,     -999.0,  27.8886,    35.1658,2,-999.0000,2,     -999.0,9
33RO20150410,     P16N.1,      68,          1,         19,         19,2,20150428,       1704,     2.7101,  -151.0000,       4998,   149.4,  16.4485,  34.7109,2,  34.7105,2,    107.1,2,   107.9,2,   14.80,2,   17.20,2,    0.02,2,    1.42,2,   1.833,2,   1.066,2,   0.837,2,  2137.8,2,  2290.7,2,   7.7375,2,    25.01,-999.000,9,-999.0000,9, -999.00,9,  16.4605, -999.00,9,  -999.0,9,  -999.0,-999.000,9,-999.000,    48.9,2,   21.20,2,     28.398,3, -999.00,9,-999.000,-999.0000, -999.00,     -999.0,     -999.0,9,     -999.0,     -999.0,9,     -999.0,  -999.0,9,     -999.0,     -999.0,9,     -999.0,  16.4245,    34.8741,2,-999.0000,2,     -999.0,9
33RO20150410,     P16N.1,      68,          1,         18,         18,2,20150428,       1704,     2.7101,  -151.0000,       4998,   225.0,  11.5540,  34.8111,2,  34.8102,2,     48.2,2,    46.7,2,   24.90,2,   30.30,2,    0.01,2,    2.23,2,   1.055,2,   0.574,2,   0.274,2,  2228.7,2,  2302.8,2,   7.5236,6,    25.03,-999.000,9,-999.0000,9, -999.00,9,  11.5534, -999.00,9,  -999.0,9,  -999.0,-999.000,9,-999.000,    44.5,2,   34.20,2,     53.550,3, -999.00,9,-999.000,-999.0000, -999.00,     -999.0,     -999.0,9,     -999.0,     -999.0,9,     -999.0,  -999.0,9,     -999.0,     -999.0,9,     -999.0,  11.5254,    34.9744,2,-999.0000,2,     -999.0,9
33RO20150410,     P16N.1,      68,          1,         17,         17,2,20150428,       1704,     2.7101,  -151.0000,       4998,   300.2,  10.9881,  34.7772,2,  34.7761,2,     45.0,2,    43.6,2,   26.80,2,   31.60,2,    0.00,2,    2.29,2,   0.913,6,   0.495,6,   0.201,6,  2235.0,2,  2302.7,2,   7.5032,2,    25.00,-999.000,9,-999.0000,9, -999.00,9,  10.9885, -999.00,9,  -999.0,9,  -999.0,-999.000,9,-999.000,    43.9,2,   34.50,2,     53.142,3, -999.00,9,-999.000,-999.0000, -999.00,     -999.0,     -999.0,9,     -999.0,     -999.0,9,     -999.0,  -999.0,9,     -999.0,     -999.0,9,     -999.0,  10.9510,    34.9401,2,-999.0000,2,     -999.0,9
33RO20150410,     P16N.1,      68,          1,         16,         16,2,20150428,       1704,     2.7101,  -151.0000,       4998,   399.2,   9.9706,  34.7035,2,  34.7024,2,     50.5,2,    56.4,2,   29.70,2,   31.90,2,    0.01,2,    2.33,2,   0.771,2,   0.413,2,    0.18,2,  2234.7,6,  2302.8,2,   7.5080,2,    24.98,-999.000,9,-999.0000,9, -999.00,9,   9.9719, -999.00,9,  -999.0,9,  -999.0,-999.000,9,-999.000,    42.7,2, -999.00,9,     46.891,3, -999.00,9,-999.000,-999.0000, -999.00,     -999.0,     -999.0,9,     -999.0,     -999.0,9,     -999.0,  -999.0,9,     -999.0,     -999.0,9,     -999.0,   9.9241,    34.8660,2,-999.0000,2,     -999.0,9
33RO20150410,     P16N.1,      68,          1,         15,         15,2,20150428,       1704,     2.7101,  -151.0000,       4998,   499.6,   8.5548,  34.6294,2,  34.6283,2,     31.6,2,    29.4,2,   39.80,2,   37.10,2,    0.01,2,    2.73,2,-999.000,9,-999.000,9,-999.000,9,  2268.1,2,  2309.8,2,   7.4234,2,    24.98,-999.000,9,-999.0000,9, -999.00,9,   8.5567, -999.00,9,  -999.0,9,  -999.0,-999.000,9,-999.000,    42.9,2, -999.00,9,     -999.0,9, -999.00,9,-999.000,-999.0000, -999.00,     -999.0,     -999.0,9,     -999.0,     -999.0,9,     -999.0,  -999.0,9,     -999.0,     -999.0,9,     -999.0,   8.5015,    34.7916,2,-999.0000,2,     -999.0,9
33RO20150410,     P16N.1,      68,          1,         14,         14,2,20150428,       1704,     2.7101,  -151.0000,       4998,   649.8,   6.4055,  34.5568,2,  34.5556,2,     56.5,2,    54.7,2,   55.40,2,   39.50,2,    0.00,2,    2.87,2,   0.068,2,   0.037,2,       0,2,  2278.1,2,  2324.9,2,   7.4359,2,    24.99,-999.000,9,-999.0000,9, -999.00,9,   6.4060, -999.00,9,  -999.0,9,  -999.0,-999.000,9,-999.000,    38.6,2, -999.00,9,     42.481,3, -999.00,9,-999.000,-999.0000, -999.00,     -999.0,     -999.0,9,     -999.0,     -999.0,9,     -999.0,  -999.0,9,     -999.0,     -999.0,9,     -999.0,   6.3460,    34.7186,6,-999.0000,2,     -999.0,9
33RO20150410,     P16N.1,      68,          1,         13,         13,2,20150428,       1704,     2.7101,  -151.0000,       4998,   800.1,   5.5898,  34.5462,2,  34.5445,2,     74.7,2,    70.7,2,   65.00,2,   39.30,2,    0.00,2,    2.85,2,-999.000,9,-999.000,9,-999.000,9,  2281.9,2,  2335.0,2,   7.4566,2,    25.01,-999.000,9,-999.0000,9, -999.00,9,   5.5890, -999.00,9,  -999.0,9,  -999.0,-999.000,9,-999.000,    40.5,2, -999.00,9,     -999.0,9, -999.00,9,-999.000,-999.0000, -999.00,     -999.0,     -999.0,9,     -999.0,     -999.0,9,     -999.0,  -999.0,9,     -999.0,     -999.0,9,     -999.0,   5.5206,    34.7073,2,-999.0000,2,     -999.0,9
33RO20150410,     P16N.1,      68,          1,         12,         12,2,20150428,       1704,     2.7101,  -151.0000,       4998,   950.0,   4.7365,  34.5544,2,  34.5598,2,     72.0,2,    72.2,2,   81.30,2,   40.00,2,    0.00,2,    2.94,2,-999.000,9,-999.000,9,-999.000,9,  2300.6,2,  2353.3,2,   7.4532,2,    25.00,-999.000,9,-999.0000,9, -999.00,9,   4.7355, -999.00,9,  -999.0,9,  -999.0,-999.000,9,-999.000,    38.0,2, -999.00,9,     -999.0,9, -999.00,9,-999.000,-999.0000, -999.00,     -999.0,     -999.0,9,     -999.0,     -999.0,9,     -999.0,  -999.0,9,     -999.0,     -999.0,9,     -999.0,   4.6595,    34.7227,2,-999.0000,2,     -999.0,9
33RO20150410,     P16N.1,      68,          1,         11,         11,2,20150428,       1704,     2.7101,  -151.0000,       4998,  1200.4,   3.8027,  34.5777,2,  34.5765,2,     78.5,2,    78.0,2,  101.40,2,   40.20,2,    0.00,2,    2.94,2,   0.005,2,   0.004,2,       0,2,  2320.6,2,  2375.5,2,   7.4585,2,    25.00,-999.000,9,-999.0000,9, -999.00,9,   3.8023, -999.00,9,  -999.0,9,  -999.0,-999.000,9,-999.000,    38.3,2, -999.00,9,     33.253,3, -999.00,9,-999.000,-999.0000, -999.00,     -999.0,     -999.0,9,     -999.0,     -999.0,9,     -999.0,  -999.0,9,     -999.0,     -999.0,9,     -999.0,   3.7117,    34.7395,2,-999.0000,2,     -999.0,9
33RO20150410,     P16N.1,      68,          1,         10,         10,2,20150428,       1704,     2.7101,  -151.0000,       4998,  1299.5,   3.5419,  34.5857,2,  34.5843,2,     82.6,2,    82.5,2,  106.50,2,   39.90,2,    0.00,2,    2.92,2,-999.000,9,-999.000,9,-999.000,9,  2323.5,2,  2381.8,2,   7.4656,2,    24.99,-999.000,9,-999.0000,9, -999.00,9,   3.5412, -999.00,9,  -999.0,9,  -999.0,-999.000,9,-999.000,    39.1,2, -999.00,9,     -999.0,9, -999.00,9,-999.000,-999.0000, -999.00,     -999.0,     -999.0,9,     -999.0,     -999.0,9,     -999.0,  -999.0,9,     -999.0,     -999.0,9,     -999.0,   3.4450,    34.7474,2,-999.0000,2,     -999.0,9
33RO20150410,     P16N.1,      68,          1,          9,          9,2,20150428,       1704,     2.7101,  -151.0000,       4998,  1599.4,   2.7908,  34.6162,2,  34.6156,2,     90.6,2,    90.9,2,  124.70,2,   39.70,2,    0.00,2,    2.90,2,-999.000,9,-999.000,9,-999.000,9,  2339.6,2,  2403.2,2,   7.4779,2,    25.00,-999.000,9,-999.0000,9, -999.00,9,   2.7905, -999.00,9,  -999.0,9,  -999.0,-999.000,9,-999.000,    37.7,2, -999.00,9,     -999.0,9, -999.00,9,-999.000,-999.0000, -999.00,     -999.0,     -999.0,9,     -999.0,     -999.0,9,     -999.0,  -999.0,9,     -999.0,     -999.0,9,     -999.0,   2.6770,    34.7788,2,-999.0000,2,     -999.0,9
33RO20150410,     P16N.1,      68,          1,          8,          8,2,20150428,       1704,     2.7101,  -151.0000,       4998,  2000.5,   2.2820,  34.6430,2,  34.6471,3,    101.3,2,   101.2,2,  137.60,2,   38.80,2,    0.00,2,    2.83,2,-999.000,9,-999.000,9,-999.000,9,  2346.6,2,  2418.0,2,   7.4999,6,    25.01,-999.000,9,-999.0000,9, -999.00,9,   2.2816, -999.00,9,  -999.0,9,  -999.0,-999.000,9,-999.000,    37.9,2, -999.00,9,     -999.0,9, -999.00,9,-999.000,-999.0000, -999.00,     -999.0,     -999.0,9,     -999.0,     -999.0,9,     -999.0,  -999.0,9,     -999.0,     -999.0,9,     -999.0,   2.1412,    34.8105,3,-999.0000,2,     -999.0,9
33RO20150410,     P16N.1,      68,          1,          7,          7,2,20150428,       1704,     2.7101,  -151.0000,       4998,  2400.7,   1.8873,  34.6646,2,  34.6637,2,    115.4,2,   115.9,2,  145.70,2,   38.10,2,    0.00,2,    2.74,2,-999.000,9,-999.000,9,-999.000,9,  2345.8,2,  2429.7,2,   7.5286,2,    25.00,-999.000,9,-999.0000,9, -999.00,9,   1.8869, -999.00,9,  -999.0,9,  -999.0,-999.000,9,-999.000,    37.9,2, -999.00,9,     -999.0,9, -999.00,9,-999.000,-999.0000, -999.00,     -999.0,     -999.0,9,     -999.0,     -999.0,9,     -999.0,  -999.0,5,     -999.0,     -999.0,5,     -999.0,   1.7180,    34.8272,2,-999.0000,2,     -999.0,9
33RO20150410,     P16N.1,      68,          1,          6,          6,2,20150428,       1704,     2.7101,  -151.0000,       4998,  2800.2,   1.7662,  34.6713,2,  34.6729,2,    123.1,2,   123.1,2,  147.10,2,   37.60,2,    0.00,2,    2.71,2,-999.000,9,-999.000,9,-999.000,9,  2346.9,2,  2430.6,2,   7.5388,2,    24.99,-999.000,9,-999.0000,9, -999.00,9,   1.7661, -999.00,9,  -999.0,9,  -999.0,-999.000,9,-999.000,    37.4,2, -999.00,9,     -999.0,9, -999.00,9,-999.000,-999.0000, -999.00,     -999.0,     -999.0,9,     -999.0,     -999.0,9,     -999.0,  -999.0,9,     -999.0,     -999.0,9,     -999.0,   1.5626,    34.8364,2,-999.0000,2,     -999.0,9
33RO20150410,     P16N.1,      68,          1,          5,          5,2,20150428,       1704,     2.7101,  -151.0000,       4998,  3199.8,   1.5882,  34.6808,2,  34.6946,4,    137.9,2,   137.8,2,  145.40,2,   36.60,2,    0.00,2,    2.62,2,-999.000,9,-999.000,9,-999.000,9,  2336.2,2,  2428.7,2,   7.5616,2,    25.00,-999.000,9,-999.0000,9, -999.00,9,   1.5881, -999.00,9,  -999.0,9,  -999.0,-999.000,9,-999.000,    37.2,2, -999.00,9,     -999.0,9, -999.00,9,-999.000,-999.0000, -999.00,     -999.0,     -999.0,9,     -999.0,     -999.0,9,     -999.0,  -999.0,9,     -999.0,     -999.0,9,     -999.0,   1.3499,    34.8582,3,-999.0000,2,     -999.0,9
33RO20150410,     P16N.1,      68,          1,          4,          4,2,20150428,       1704,     2.7101,  -151.0000,       4998,  3599.1,   1.4533,  34.6903,2,  34.6885,2,    151.7,2,   151.6,2,  144.10,6,   35.80,6,    0.00,6,    2.54,6,-999.000,9,-999.000,9,-999.000,9,  2328.8,2,  2429.2,2,   7.5869,6,    25.00,-999.000,9,-999.0000,9, -999.00,9,   1.4531, -999.00,9,  -999.0,9,  -999.0,-999.000,9,-999.000,    36.8,2, -999.00,9,     -999.0,9, -999.00,9,-999.000,-999.0000, -999.00,     -999.0,     -999.0,9,     -999.0,     -999.0,9,     -999.0,  -999.0,9,     -999.0,     -999.0,9,     -999.0,   1.1781,    34.8520,2,-999.0000,2,     -999.0,9
33RO20150410,     P16N.1,      68,          1,          3,          3,2,20150428,       1704,     2.7101,  -151.0000,       4998,  3999.7,   1.4140,  34.6938,2,  34.6926,2,    160.1,2,   160.0,2,  139.90,6,   35.40,6,    0.00,6,    2.50,6,-999.000,9,-999.000,9,-999.000,9,  2319.8,2,  2424.5,2,   7.5951,6,    25.01,-999.000,9,-999.0000,9, -999.00,9,   1.4137, -999.00,9,  -999.0,9,  -999.0,-999.000,9,-999.000,    37.7,2, -999.00,9,     -999.0,9, -999.00,9,-999.000,-999.0000, -999.00,     -999.0,     -999.0,9,     -999.0,     -999.0,9,     -999.0,  -999.0,9,     -999.0,     -999.0,9,     -999.0,   1.0974,    34.8562,2,-999.0000,2,     -999.0,9
33RO20150410,     P16N.1,      68,          1,          2,          2,2,20150428,       1704,     2.7101,  -151.0000,       4998,  4292.0,   1.3807,  34.6966,2,  34.6959,2,    167.1,2,   167.1,2,  136.60,6,   34.90,6,    0.00,6,    2.46,6,-999.000,9,-999.000,9,-999.000,9,  2312.0,2,  2418.6,6,   7.6002,2,    25.02,-999.000,9,-999.0000,9, -999.00,9,   1.3804, -999.00,9,  -999.0,9,  -999.0,-999.000,9,-999.000,    36.7,2, -999.00,9,     -999.0,9, -999.00,9,-999.000,-999.0000, -999.00,     -999.0,     -999.0,9,     -999.0,     -999.0,9,     -999.0,  -999.0,9,     -999.0,     -999.0,9,     -999.0,   1.0329,    34.8596,2,-999.0000,2,     -999.0,9
33RO20150410,     P16N.1,      68,          1,          1,          1,2,20150428,       1704,     2.7101,  -151.0000,       4998,  4587.0,   1.3905,  34.6976,2,  34.6965,2,    170.2,2,   169.7,2,  135.10,6,   34.60,6,    0.00,6,    2.44,6,-999.000,9,-999.000,9,-999.000,9,  2308.8,6,  2415.5,2,   7.6022,2,    24.94,-999.000,9,-999.0000,9, -999.00,9,   1.3896, -999.00,9,  -999.0,9,  -999.0,-999.000,9,-999.000,    37.8,2, -999.00,9,     -999.0,9, -999.00,9,-999.000,-999.0000, -999.00,     -999.0,     -999.0,9,     -999.0,     -999.0,9,     -999.0,  -999.0,9,     -999.0,     -999.0,9,     -999.0,   1.0088,    34.8601,2,-999.0000,2,     -999.0,9