BOTTLE,20210709CCHSIOCBG
EXPOCODE,SECT_ID,STNNBR,CASTNO,SAMPNO,BTLNBR,BTLNBR_FLAG_W,DATE,TIME,LATITUDE,LONGITUDE,DEPTH,CTDPRS,CTDTMP,CTDSAL,CTDSAL_FLAG_W,SALNTY,SALNTY_FLAG_W,CTDOXY,CTDOXY_FLAG_W,OXYGEN,OXYGEN_FLAG_W,SILCAT,SILCAT_FLAG_W,NITRAT,NITRAT_FLAG_W,NITRIT,NITRIT_FLAG_W,PHSPHT,PHSPHT_FLAG_W,CFC-11,CFC-11_FLAG_W,CFC-12,CFC-12_FLAG_W,SF6,SF6_FLAG_W,TCARBN,TCARBN_FLAG_W,ALKALI,ALKALI_FLAG_W,PH_TOT,PH_TOT_FLAG_W,PH_TMP,TRITUM,TRITUM_FLAG_W,HELIUM,HELIUM_FLAG_W,DELHE3,DELHE3_FLAG_W,REFTMP,DELC13,DELC13_FLAG_W,DELC14,DELC14_FLAG_W,C14ERR,NEON,NEON_FLAG_W,NEONER,DOC,DOC_FLAG_W,TDN,TDN_FLAG_W,N2O,N2O_FLAG_W,ARGON,ARGON_FLAG_W,TRITER,HELIER,DELHER,ARGONER,KRYPTON,KRYPTON_FLAG_W,KRYPTONER,XENON,XENON_FLAG_W,XENONER,14C-DOC,14C-DOC_FLAG_W,14C-DOCERR,13C-DOC,13C-DOC_FLAG_W,13C-DOCERR,THETA,SALTREF,SALTREF_FLAG_W,SBE35,SBE35_FLAG_W,CHLORA,CHLORA_FLAG_W
,,,,,,,,,,,METERS,DBAR,ITS-90,PSS-78,,PSS-78,,UMOL/KG,,UMOL/KG,,UMOL/KG,,UMOL/KG,,UMOL/KG,,UMOL/KG,,PMOL/KG,,PMOL/KG,,FMOL/KG,,UMOL/KG,,UMOL/KG,,,,DEG C,TU,,NMOL/KG,,PERCNT,,DEG C,/MILLE,,/MILLE,,/MILLE,NMOL/KG,,NMOL/KG,UMOL/KG,,UMOL/KG,,NMOL/KG,,UMOL/KG,,TU,NMOL/KG,PERCNT,UMOL/KG,NMOL/KG,,NMOL/KG,NMOL/KG,,NMOL/KG,/MILLE,,/MILLE,/MILLE,,/MILLE,DEG C,G/KG,,ITS-90,,MG/M3,
33RO20150410,     P16N.1,      29,          1,         24,         24,2,20150419,       0634,    -3.8996,  -151.0001,       4751,    15.1,  28.5770,  35.2265,2,  35.2306,2,    200.3,2,   200.4,2,    1.90,2,    3.90,2,    0.12,2,    0.31,4,   1.461,2,   0.997,2,   1.295,2,  2016.5,6,  2316.8,2,   8.0398,2,    24.99,-999.000,9,-999.0000,9, -999.00,9,  28.5742, -999.00,9,  -999.0,9,  -999.0,-999.000,9,-999.000,    60.5,2, -999.00,9,      6.606,3, -999.00,9,-999.000,-999.0000, -999.00,     -999.0,     -999.0,9,     -999.0,     -999.0,9,     -999.0,  -999.0,9,     -999.0,     -999.0,9,     -999.0,  28.5734,    35.3968,2,-999.0000,2,     -999.0,9
33RO20150410,     P16N.1,      29,          1,         23,         23,2,20150419,       0634,    -3.8996,  -151.0001,       4751,    32.9,  28.4111,  35.2490,2,  35.2466,2,    201.1,2,   200.6,2,    2.00,2,    4.00,2,    0.11,2,    0.32,4,-999.000,9,-999.000,9,-999.000,9,  2018.7,2,  2318.9,6,   8.0382,2,    25.00,-999.000,9,-999.0000,9, -999.00,9,  28.4143, -999.00,9,  -999.0,9,  -999.0,-999.000,9,-999.000,    62.6,2,    8.80,2,     -999.0,9, -999.00,9,-999.000,-999.0000, -999.00,     -999.0,     -999.0,9,     -999.0,     -999.0,9,     -999.0,  -999.0,9,     -999.0,     -999.0,9,     -999.0,  28.4033,    35.4128,2,-999.0000,2,     -999.0,9
33RO20150410,     P16N.1,      29,          1,         22,         22,2,20150419,       0634,    -3.8996,  -151.0001,       4751,    57.8,  27.9981,  35.2641,2,  35.2639,2,    201.6,2,   201.0,2,    2.10,2,    4.60,2,    0.11,2,    0.40,4,-999.000,9,-999.000,9,-999.000,9,  2023.9,2,  2320.8,2,   8.0304,6,    24.99,-999.000,9,-999.0000,9, -999.00,9,  27.9992, -999.00,9,  -999.0,9,  -999.0,-999.000,9,-999.000,    62.2,2,   10.00,2,     -999.0,9, -999.00,9,-999.000,-999.0000, -999.00,     -999.0,     -999.0,9,     -999.0,     -999.0,9,     -999.0,  -999.0,9,     -999.0,     -999.0,9,     -999.0,  27.9845,    35.4302,2,-999.0000,2,     -999.0,9
33RO20150410,     P16N.1,      29,          1,         21,         21,2,20150419,       0634,    -3.8996,  -151.0001,       4751,    82.9,  27.5297,  35.2639,2,  35.2655,2,    198.4,2,   198.4,2,    2.20,2,    5.00,2,    0.15,2,    0.44,4,   1.521,2,   0.976,2,   1.297,2,  2033.1,2,  2320.0,2,   8.0134,2,    24.99,-999.000,9,-999.0000,9, -999.00,9,  27.5339, -999.00,9,  -999.0,9,  -999.0,-999.000,9,-999.000,    63.1,2,    9.40,2,      7.212,3, -999.00,9,-999.000,-999.0000, -999.00,     -999.0,     -999.0,9,     -999.0,     -999.0,9,     -999.0,  -999.0,9,     -999.0,     -999.0,9,     -999.0,  27.5104,    35.4318,2,-999.0000,2,     -999.0,9
33RO20150410,     P16N.1,      29,          1,         20,         20,2,20150419,       0634,    -3.8996,  -151.0001,       4751,   108.6,  26.6279,  35.2500,2,  35.2537,2,    196.2,2,   195.5,2,    2.50,2,    5.50,2,    0.22,2,    0.51,4,   1.573,2,   1.022,2,   1.305,2,  2043.7,2,  2320.1,2,   7.9922,2,    25.00,-999.000,9,-999.0000,9, -999.00,9,  26.6286, -999.00,9,  -999.0,9,  -999.0,-999.000,9,-999.000,    61.9,2,   11.10,2,      7.466,3, -999.00,9,-999.000,-999.0000, -999.00,     -999.0,     -999.0,9,     -999.0,     -999.0,9,     -999.0,  -999.0,9,     -999.0,     -999.0,9,     -999.0,  26.6032,    35.4199,2,-999.0000,2,     -999.0,9
33RO20150410,     P16N.1,      29,          1,         19,         19,2,20150419,       0634,    -3.8996,  -151.0001,       4751,   132.6,  26.6907,  35.7628,2,  35.7573,2,    185.3,2,   172.6,2,    2.20,2,    5.20,2,    1.59,2,    0.54,4,   1.553,2,   1.037,2,   1.271,2,  2060.3,2,  2352.9,2,   8.0091,6,    25.00,-999.000,9,-999.0000,9, -999.00,9,  26.6810, -999.00,9,  -999.0,9,  -999.0,-999.000,9,-999.000,    59.8,2,   10.20,2,      7.547,3, -999.00,9,-999.000,-999.0000, -999.00,     -999.0,     -999.0,9,     -999.0,     -999.0,9,     -999.0,  -999.0,9,     -999.0,     -999.0,9,     -999.0,  26.6605,    35.9259,6,-999.0000,2,     -999.0,9
33RO20150410,     P16N.1,      29,          1,         18,         18,2,20150419,       0634,    -3.8996,  -151.0001,       4751,   166.7,  22.6442,  35.8253,2,  35.8161,2,    153.5,2,   156.0,2,    2.50,2,    6.20,2,    2.50,2,    0.70,4,   1.838,2,   1.167,2,   1.327,2,  2115.9,2,  2359.1,2,   7.9228,2,    24.99,-999.000,9,-999.0000,9, -999.00,9,  22.6273, -999.00,9,  -999.0,9,  -999.0,-999.000,9,-999.000,    54.7,2,   11.90,2,     12.358,3, -999.00,9,-999.000,-999.0000, -999.00,     -999.0,     -999.0,9,     -999.0,     -999.0,9,     -999.0,  -999.0,9,     -999.0,     -999.0,9,     -999.0,  22.6104,    35.9850,2,-999.0000,2,     -999.0,9
33RO20150410,     P16N.1,      29,          1,         17,         17,2,20150419,       0634,    -3.8996,  -151.0001,       4751,   225.5,  12.8041,  34.9150,2,  34.9139,2,     14.8,2,    13.3,2,   23.20,2,   32.20,2,    0.01,2,    2.00,4,   1.130,6,   0.631,6,   0.265,6,  2242.9,2,  2299.7,2,   7.4776,6,    25.00,-999.000,9,-999.0000,9, -999.00,9,  12.8083, -999.00,9,  -999.0,9,  -999.0,-999.000,9,-999.000,    44.1,2,   34.60,2,     78.141,3, -999.00,9,-999.000,-999.0000, -999.00,     -999.0,     -999.0,9,     -999.0,     -999.0,9,     -999.0,  -999.0,9,     -999.0,     -999.0,9,     -999.0,  12.7734,    35.0785,2,-999.0000,2,     -999.0,9
33RO20150410,     P16N.1,      29,          1,         16,         16,2,20150419,       0634,    -3.8996,  -151.0001,       4751,   300.4,  11.7627,  34.8544,2,  34.8545,2,     53.1,2,    62.3,2,   22.50,2,   28.50,2,    0.01,2,    1.79,4,   1.097,2,   0.615,2,   0.273,2,  2218.7,2,  2303.1,2,   7.5602,2,    25.00,-999.000,9,-999.0000,9, -999.00,9,  11.7634, -999.00,9,  -999.0,9,  -999.0,-999.000,9,-999.000,    44.5,2, -999.00,9,     52.033,3, -999.00,9,-999.000,-999.0000, -999.00,     -999.0,     -999.0,9,     -999.0,     -999.0,9,     -999.0,  -999.0,9,     -999.0,     -999.0,9,     -999.0,  11.7239,    35.0188,2,-999.0000,2,     -999.0,9
33RO20150410,     P16N.1,      29,          1,         15,         15,2,20150419,       0634,    -3.8996,  -151.0001,       4751,   374.8,   9.9912,  34.7398,2,  34.7381,2,     58.9,2,    57.7,2,   27.40,2,   32.30,2,    0.01,2,    2.02,4,   0.638,2,   0.356,2,   0.109,2,  2237.8,2,  2301.8,2,   7.5094,2,    24.99,-999.000,9,-999.0000,9, -999.00,9,   9.9994, -999.00,9,  -999.0,9,  -999.0,-999.000,9,-999.000,    43.0,2, -999.00,9,     51.809,3, -999.00,9,-999.000,-999.0000, -999.00,     -999.0,     -999.0,9,     -999.0,     -999.0,9,     -999.0,  -999.0,9,     -999.0,     -999.0,9,     -999.0,   9.9475,    34.9019,2,-999.0000,2,     -999.0,9
33RO20150410,     P16N.1,      29,          1,         14,         14,2,20150419,       0634,    -3.8996,  -151.0001,       4751,   450.1,   8.5710,  34.6503,2,  34.6494,2,     54.0,2,    55.5,2,   34.00,2,   35.80,2,    0.01,2,    2.22,4,   0.364,2,   0.187,2,   0.038,2,  2252.2,2,  2304.2,2,   7.4703,2,    24.99,-999.000,9,-999.0000,9, -999.00,9,   8.5664, -999.00,9,  -999.0,9,  -999.0,-999.000,9,-999.000,    43.3,2, -999.00,9,     52.543,3, -999.00,9,-999.000,-999.0000, -999.00,     -999.0,     -999.0,9,     -999.0,     -999.0,9,     -999.0,  -999.0,9,     -999.0,     -999.0,9,     -999.0,   8.5230,    34.8128,2,-999.0000,2,     -999.0,9
33RO20150410,     P16N.1,      29,          1,         13,         13,2,20150419,       0634,    -3.8996,  -151.0001,       4751,   549.4,   7.4982,  34.5843,2,  34.5832,2,    100.9,2,    92.7,2,   35.90,2,   34.40,2,    0.00,2,    2.15,4,   0.370,2,   0.197,2,   0.044,2,  2237.1,2,  2306.2,2,   7.5216,2,    24.99,-999.000,9,-999.0000,9, -999.00,9,   7.4897, -999.00,9,  -999.0,9,  -999.0,-999.000,9,-999.000,    43.2,2, -999.00,9,     38.496,3, -999.00,9,-999.000,-999.0000, -999.00,     -999.0,     -999.0,9,     -999.0,     -999.0,9,     -999.0,  -999.0,9,     -999.0,     -999.0,9,     -999.0,   7.4437,    34.7463,2,-999.0000,2,     -999.0,9
33RO20150410,     P16N.1,      29,          1,         12,         12,2,20150419,       0634,    -3.8996,  -151.0001,       4751,   699.4,   6.1168,  34.5404,2,  34.5406,2,     88.0,2,    88.7,2,   51.00,2,   37.30,2,    0.00,2,    2.38,4,   0.118,2,   0.065,2,   0.012,2,  2258.4,6,  2319.1,2,   7.4917,2,    25.00,-999.000,9,-999.0000,9, -999.00,9,   6.1170, -999.00,9,  -999.0,9,  -999.0,-999.000,9,-999.000,    39.9,2, -999.00,9,     36.229,3, -999.00,9,-999.000,-999.0000, -999.00,     -999.0,     -999.0,9,     -999.0,     -999.0,9,     -999.0,  -999.0,9,     -999.0,     -999.0,9,     -999.0,   6.0540,    34.7035,2,-999.0000,2,     -999.0,9
33RO20150410,     P16N.1,      29,          1,         11,         11,2,20150419,       0634,    -3.8996,  -151.0001,       4751,   849.5,   5.2336,  34.5423,2,  34.5418,2,     79.6,2,    81.4,2,   68.00,2,   39.50,2,    0.00,2,    2.58,4,   0.029,2,   0.015,2,       0,2,  2284.2,2,  2335.2,2,   7.4689,2,    25.00,-999.000,9,-999.0000,9, -999.00,9,   5.2322, -999.00,9,  -999.0,9,  -999.0,-999.000,9,-999.000,    37.1,2, -999.00,9,     35.606,3, -999.00,9,-999.000,-999.0000, -999.00,     -999.0,     -999.0,9,     -999.0,     -999.0,9,     -999.0,  -999.0,9,     -999.0,     -999.0,9,     -999.0,   5.1622,    34.7047,2,-999.0000,2,     -999.0,9
33RO20150410,     P16N.1,      29,          1,         10,         10,2,20150419,       0634,    -3.8996,  -151.0001,       4751,  1000.2,   4.4590,  34.5519,2,  34.5526,2,     87.7,2,    87.4,2,   83.30,2,   39.40,2,    0.01,2,    2.63,4,   0.008,2,   0.004,2,       0,2,  2297.5,2,  2352.0,2,   7.4761,6,    25.00,-999.000,9,-999.0000,9, -999.00,9,   4.4605, -999.00,9,  -999.0,9,  -999.0,-999.000,9,-999.000,    37.7,2, -999.00,9,     33.109,3, -999.00,9,-999.000,-999.0000, -999.00,     -999.0,     -999.0,9,     -999.0,     -999.0,9,     -999.0,  -999.0,9,     -999.0,     -999.0,9,     -999.0,   4.3797,    34.7155,2,-999.0000,2,     -999.0,9
33RO20150410,     P16N.1,      29,          1,          9,          9,2,20150419,       0634,    -3.8996,  -151.0001,       4751,  1165.7,   3.8589,  34.5687,2,  34.5685,2,     92.0,2,    91.1,2,   96.80,2,   39.60,2,    0.01,2,    2.68,4,-999.000,9,-999.000,9,-999.000,9,  2311.7,2,  2367.1,2,   7.4801,2,    24.98,-999.000,9,-999.0000,9, -999.00,9,   3.8587, -999.00,9,  -999.0,9,  -999.0,-999.000,9,-999.000,    38.4,2, -999.00,9,     -999.0,9, -999.00,9,-999.000,-999.0000, -999.00,     -999.0,     -999.0,9,     -999.0,     -999.0,9,     -999.0,  -999.0,9,     -999.0,     -999.0,9,     -999.0,   3.7704,    34.7315,2,-999.0000,2,     -999.0,9
33RO20150410,     P16N.1,      29,          1,          8,          8,2,20150419,       0634,    -3.8996,  -151.0001,       4751,  1400.8,   3.2032,  34.5921,2,  34.5917,2,    100.4,2,    99.8,2,  111.20,2,   39.20,2,    0.01,2,    2.68,4,-999.000,9,-999.000,9,-999.000,9,  2322.9,2,  2383.6,2,   7.4924,2,    25.00,-999.000,9,-999.0000,9, -999.00,9,   3.2030, -999.00,9,  -999.0,9,  -999.0,-999.000,9,-999.000,    36.8,2, -999.00,9,     -999.0,9, -999.00,9,-999.000,-999.0000, -999.00,     -999.0,     -999.0,9,     -999.0,     -999.0,9,     -999.0,  -999.0,9,     -999.0,     -999.0,9,     -999.0,   3.1013,    34.7548,2,-999.0000,2,     -999.0,9
33RO20150410,     P16N.1,      29,          1,          7,          7,2,20150419,       0634,    -3.8996,  -151.0001,       4751,  1734.5,   2.6418,  34.6204,2,  34.6206,2,    104.1,2,   104.1,2,  126.30,2,   39.00,2,    0.00,2,    2.71,4,-999.000,9,-999.000,9,-999.000,9,  2337.3,2,  2400.5,2,   7.4983,2,    24.99,-999.000,9,-999.0000,9, -999.00,9,   2.6403, -999.00,9,  -999.0,9,  -999.0,-999.000,9,-999.000,    36.1,2, -999.00,9,     -999.0,9, -999.00,9,-999.000,-999.0000, -999.00,     -999.0,     -999.0,9,     -999.0,     -999.0,9,     -999.0,  -999.0,9,     -999.0,     -999.0,9,     -999.0,   2.5186,    34.7838,6,-999.0000,2,     -999.0,9
33RO20150410,     P16N.1,      29,          1,          6,          6,2,20150419,       0634,    -3.8996,  -151.0001,       4751,  2132.8,   2.1734,  34.6465,2,  34.6467,2,    115.5,2,   115.9,2,  137.10,2,   38.50,2,    0.01,2,    2.67,4,-999.000,9,-999.000,9,-999.000,9,  2340.6,2,  2413.4,2,   7.5212,2,    24.99,-999.000,9,-999.0000,9, -999.00,9,   2.1732, -999.00,9,  -999.0,9,  -999.0,-999.000,9,-999.000,    35.9,2, -999.00,9,     -999.0,9, -999.00,9,-999.000,-999.0000, -999.00,     -999.0,     -999.0,9,     -999.0,     -999.0,9,     -999.0,  -999.0,9,     -999.0,     -999.0,9,     -999.0,   2.0228,    34.8100,2,-999.0000,2,     -999.0,9
33RO20150410,     P16N.1,      29,          1,          5,          5,2,20150419,       0634,    -3.8996,  -151.0001,       4751,  2532.5,   1.8798,  34.6629,2,  34.6626,2,    130.9,2,   131.4,2,  139.00,2,   37.40,2,    0.01,2,    2.59,4,-999.000,9,-999.000,9,-999.000,9,  2334.5,2,  2416.7,2,   7.5473,2,    24.99,-999.000,9,-999.0000,9, -999.00,9,   1.8795, -999.00,9,  -999.0,9,  -999.0,-999.000,9,-999.000,    35.6,2, -999.00,9,     -999.0,9, -999.00,9,-999.000,-999.0000, -999.00,     -999.0,     -999.0,9,     -999.0,     -999.0,9,     -999.0,  -999.0,9,     -999.0,     -999.0,9,     -999.0,   1.6987,    34.8260,2,-999.0000,2,     -999.0,9
33RO20150410,     P16N.1,      29,          1,          4,          4,2,20150419,       0634,    -3.8996,  -151.0001,       4751,  2933.3,   1.6998,  34.6743,2,  34.6738,2,    141.4,2,   142.4,2,  140.50,6,   36.70,6,    0.00,6,    2.52,4,-999.000,9,-999.000,9,-999.000,9,  2328.5,2,  2419.0,2,   7.5641,2,    24.99,-999.000,9,-999.0000,9, -999.00,9,   1.7006, -999.00,9,  -999.0,9,  -999.0,-999.000,9,-999.000,    35.8,2, -999.00,9,     -999.0,9, -999.00,9,-999.000,-999.0000, -999.00,     -999.0,     -999.0,9,     -999.0,     -999.0,9,     -999.0,  -999.0,9,     -999.0,     -999.0,9,     -999.0,   1.4850,    34.8373,2,-999.0000,2,     -999.0,9
33RO20150410,     P16N.1,      29,          1,          3,          3,2,20150419,       0634,    -3.8996,  -151.0001,       4751,  3333.9,   1.5494,  34.6834,2,  34.6829,2,    152.5,2,   153.1,2,  139.70,6,   36.00,6,    0.01,6,    2.47,4,-999.000,9,-999.000,9,-999.000,9,  2322.3,2,  2417.6,2,   7.5798,6,    24.98,-999.000,9,-999.0000,9, -999.00,9,   1.5496, -999.00,9,  -999.0,9,  -999.0,-999.000,9,-999.000,    37.5,2, -999.00,9,     -999.0,9, -999.00,9,-999.000,-999.0000, -999.00,     -999.0,     -999.0,9,     -999.0,     -999.0,9,     -999.0,  -999.0,9,     -999.0,     -999.0,9,     -999.0,   1.2988,    34.8465,2,-999.0000,2,     -999.0,9
33RO20150410,     P16N.1,      29,          1,          2,          2,2,20150419,       0634,    -3.8996,  -151.0001,       4751,  3732.3,   1.4676,  34.6895,2,  34.6893,2,    159.4,2,   159.2,2,  140.60,6,   35.50,6,    0.01,6,    2.44,4,-999.000,9,-999.000,9,-999.000,9,  2318.6,2,  2419.1,6,   7.5901,6,    25.00,-999.000,9,-999.0000,9, -999.00,9,   1.4676, -999.00,9,  -999.0,9,  -999.0,-999.000,9,-999.000,    36.7,2, -999.00,9,     -999.0,9, -999.00,9,-999.000,-999.0000, -999.00,     -999.0,     -999.0,9,     -999.0,     -999.0,9,     -999.0,  -999.0,9,     -999.0,     -999.0,9,     -999.0,   1.1781,    34.8529,2,-999.0000,2,     -999.0,9
33RO20150410,     P16N.1,      29,          1,          1,          1,2,20150419,       0634,    -3.8996,  -151.0001,       4751,  4699.5,   1.3571,  34.7001,2,  34.6997,2,    184.1,2,   183.6,2,  128.60,6,   33.90,6,    0.01,6,    2.30,4,-999.000,9,-999.000,9,-999.000,9,  2292.3,6,  2396.8,2,   7.6053,2,    24.99,-999.000,9,-999.0000,9, -999.00,9,   1.3570, -999.00,9,  -999.0,9,  -999.0,-999.000,9,-999.000,    39.0,2, -999.00,9,     -999.0,9, -999.00,9,-999.000,-999.0000, -999.00,     -999.0,     -999.0,9,     -999.0,     -999.0,9,     -999.0,  -999.0,9,     -999.0,     -999.0,9,     -999.0,   0.9633,    34.8634,2,-999.0000,2,     -999.0,9