BOTTLE,20210709CCHSIOCBG
EXPOCODE,SECT_ID,STNNBR,CASTNO,SAMPNO,BTLNBR,BTLNBR_FLAG_W,DATE,TIME,LATITUDE,LONGITUDE,DEPTH,CTDPRS,CTDTMP,CTDSAL,CTDSAL_FLAG_W,SALNTY,SALNTY_FLAG_W,CTDOXY,CTDOXY_FLAG_W,OXYGEN,OXYGEN_FLAG_W,SILCAT,SILCAT_FLAG_W,NITRAT,NITRAT_FLAG_W,NITRIT,NITRIT_FLAG_W,PHSPHT,PHSPHT_FLAG_W,CFC-11,CFC-11_FLAG_W,CFC-12,CFC-12_FLAG_W,SF6,SF6_FLAG_W,TCARBN,TCARBN_FLAG_W,ALKALI,ALKALI_FLAG_W,PH_TOT,PH_TOT_FLAG_W,PH_TMP,TRITUM,TRITUM_FLAG_W,HELIUM,HELIUM_FLAG_W,DELHE3,DELHE3_FLAG_W,REFTMP,DELC13,DELC13_FLAG_W,DELC14,DELC14_FLAG_W,C14ERR,NEON,NEON_FLAG_W,NEONER,DOC,DOC_FLAG_W,TDN,TDN_FLAG_W,N2O,N2O_FLAG_W,ARGON,ARGON_FLAG_W,TRITER,HELIER,DELHER,ARGONER,KRYPTON,KRYPTON_FLAG_W,KRYPTONER,XENON,XENON_FLAG_W,XENONER,14C-DOC,14C-DOC_FLAG_W,14C-DOCERR,13C-DOC,13C-DOC_FLAG_W,13C-DOCERR,THETA,SALTREF,SALTREF_FLAG_W,SBE35,SBE35_FLAG_W,CHLORA,CHLORA_FLAG_W
,,,,,,,,,,,METERS,DBAR,ITS-90,PSS-78,,PSS-78,,UMOL/KG,,UMOL/KG,,UMOL/KG,,UMOL/KG,,UMOL/KG,,UMOL/KG,,PMOL/KG,,PMOL/KG,,FMOL/KG,,UMOL/KG,,UMOL/KG,,,,DEG C,TU,,NMOL/KG,,PERCNT,,DEG C,/MILLE,,/MILLE,,/MILLE,NMOL/KG,,NMOL/KG,UMOL/KG,,UMOL/KG,,NMOL/KG,,UMOL/KG,,TU,NMOL/KG,PERCNT,UMOL/KG,NMOL/KG,,NMOL/KG,NMOL/KG,,NMOL/KG,/MILLE,,/MILLE,/MILLE,,/MILLE,DEG C,G/KG,,ITS-90,,MG/M3,
33RO20150410,     P16N.1,      95,          2,         24,         24,2,20150506,       1226,    14.0000,  -152.0000,       5802,    10.2,  26.0235,  34.2574,2,  34.2605,2,    198.8,2,   201.5,2,    1.00,2,    0.00,2,    0.00,2,    0.23,2,   1.626,2,   1.021,2,   1.366,2,  1948.5,6,  2257.1,2,   8.0689,2,    24.99,-999.000,9,-999.0000,9, -999.00,9,  26.0232, -999.00,9,  -999.0,9,  -999.0,-999.000,9,-999.000,  -999.0,9, -999.00,9,      6.447,3, -999.00,9,-999.000,-999.0000, -999.00,     -999.0,     -999.0,9,     -999.0,     -999.0,9,     -999.0,  -999.0,9,     -999.0,     -999.0,9,     -999.0,  26.0212,    34.4221,2,-999.0000,9,     -999.0,9
33RO20150410,     P16N.1,      95,          2,         23,         23,2,20150506,       1226,    14.0000,  -152.0000,       5802,    30.1,  26.0244,  34.2606,2,  34.2600,2,    198.7,2,   201.4,2,    1.00,2,    0.00,2,    0.00,2,    0.24,2,   1.603,2,   1.029,2,   1.359,2,  1949.6,2,  2258.5,2,   8.0688,2,    24.99,-999.000,9,-999.0000,9, -999.00,9,  26.0232, -999.00,9,  -999.0,9,  -999.0,-999.000,9,-999.000,  -999.0,9, -999.00,9,      6.510,3, -999.00,9,-999.000,-999.0000, -999.00,     -999.0,     -999.0,9,     -999.0,     -999.0,9,     -999.0,  -999.0,9,     -999.0,     -999.0,9,     -999.0,  26.0177,    34.4215,2,-999.0000,9,     -999.0,9
33RO20150410,     P16N.1,      95,          2,         22,         22,2,20150506,       1226,    14.0000,  -152.0000,       5802,    61.4,  26.0159,  34.2745,2,  34.2755,2,    197.7,2,   201.6,2,    1.10,2,    0.10,2,    0.00,2,    0.26,2,   1.622,6,   1.030,6,   1.364,6,  1951.8,2,  2260.4,2,   8.0680,6,    24.99,-999.000,9,-999.0000,9, -999.00,9,  26.0153, -999.00,9,  -999.0,9,  -999.0,-999.000,9,-999.000,  -999.0,9, -999.00,9,      6.534,3, -999.00,9,-999.000,-999.0000, -999.00,     -999.0,     -999.0,9,     -999.0,     -999.0,9,     -999.0,  -999.0,9,     -999.0,     -999.0,9,     -999.0,  26.0022,    34.4371,2,-999.0000,9,     -999.0,9
33RO20150410,     P16N.1,      95,          2,         21,         21,2,20150506,       1226,    14.0000,  -152.0000,       5802,    90.1,  23.9878,  34.7167,2,  34.6997,2,    209.2,2,   212.0,2,    1.30,2,    0.00,2,    0.01,2,    0.32,2,   1.834,2,   1.149,2,   1.423,2,  2004.5,2,  2295.6,2,   8.0291,2,    24.99,-999.000,9,-999.0000,9, -999.00,9,  23.9365, -999.00,9,  -999.0,9,  -999.0,-999.000,9,-999.000,  -999.0,9, -999.00,9,      9.253,3, -999.00,9,-999.000,-999.0000, -999.00,     -999.0,     -999.0,9,     -999.0,     -999.0,9,     -999.0,  -999.0,9,     -999.0,     -999.0,9,     -999.0,  23.9689,    34.8634,6,-999.0000,9,     -999.0,9
33RO20150410,     P16N.1,      95,          2,         20,         20,2,20150506,       1226,    14.0000,  -152.0000,       5802,   150.1,  16.1045,  34.4235,2,  34.4181,2,    159.2,2,   159.6,2,    6.40,2,    7.80,2,    0.03,2,    0.87,2,   2.445,2,   1.455,2,   1.416,2,  2098.9,2,  2274.8,6,   7.8029,2,    24.99,-999.000,9,-999.0000,9, -999.00,9,  16.0964, -999.00,9,  -999.0,9,  -999.0,-999.000,9,-999.000,  -999.0,9, -999.00,9,     24.246,3, -999.00,9,-999.000,-999.0000, -999.00,     -999.0,     -999.0,9,     -999.0,     -999.0,9,     -999.0,  -999.0,9,     -999.0,     -999.0,9,     -999.0,  16.0808,    34.5804,2,-999.0000,9,     -999.0,9
33RO20150410,     P16N.1,      95,          2,         19,         19,2,20150506,       1226,    14.0000,  -152.0000,       5802,   224.1,  10.4999,  34.3460,2,  34.3554,2,     91.9,2,    71.3,2,   28.10,2,   24.80,2,    0.01,2,    2.20,2,   1.969,2,   1.052,2,    0.59,2,  2214.5,2,  2281.5,2,   7.4996,6,    25.01,-999.000,9,-999.0000,9, -999.00,9,  10.4871, -999.00,9,  -999.0,9,  -999.0,-999.000,9,-999.000,  -999.0,9, -999.00,9,     39.442,3, -999.00,9,-999.000,-999.0000, -999.00,     -999.0,     -999.0,9,     -999.0,     -999.0,9,     -999.0,  -999.0,9,     -999.0,     -999.0,9,     -999.0,  10.4732,    34.5174,2,-999.0000,9,     -999.0,9
33RO20150410,     P16N.1,      95,          2,         18,         18,2,20150506,       1226,    14.0000,  -152.0000,       5802,   301.3,   9.8003,  34.5632,2,  34.5611,2,     11.9,2,    13.3,2,   35.10,2,   32.20,2,    0.00,2,    2.63,2,   0.562,6,   0.297,6,   0.092,6,  2265.8,2,  2298.4,2,   7.3963,2,    25.00,-999.000,9,-999.0000,9, -999.00,9,   9.8009, -999.00,9,  -999.0,9,  -999.0,-999.000,9,-999.000,  -999.0,9, -999.00,9,     50.117,3, -999.00,9,-999.000,-999.0000, -999.00,     -999.0,     -999.0,9,     -999.0,     -999.0,9,     -999.0,  -999.0,9,     -999.0,     -999.0,9,     -999.0,   9.7658,    34.7241,2,-999.0000,9,     -999.0,9
33RO20150410,     P16N.1,      95,          2,         17,         17,2,20150506,       1226,    14.0000,  -152.0000,       5802,   399.4,   8.7076,  34.5495,2,  34.5486,2,     13.8,2,    14.0,2,   41.70,2,   35.30,2,    0.01,2,    2.75,2,   0.233,2,   0.117,2,       0,2,  2275.6,6,  2306.2,2,   7.3861,2,    25.00,-999.000,9,-999.0000,9, -999.00,9,   8.7040, -999.00,9,  -999.0,9,  -999.0,-999.000,9,-999.000,  -999.0,9, -999.00,9,     55.604,3, -999.00,9,-999.000,-999.0000, -999.00,     -999.0,     -999.0,9,     -999.0,     -999.0,9,     -999.0,  -999.0,9,     -999.0,     -999.0,9,     -999.0,   8.6648,    34.7115,2,-999.0000,9,     -999.0,9
33RO20150410,     P16N.1,      95,          2,         16,         16,2,20150506,       1226,    14.0000,  -152.0000,       5802,   500.5,   7.4632,  34.5117,2,  34.5103,2,     16.0,2,    15.6,2,   53.20,2,   37.60,2,    0.00,2,    2.92,2,   0.071,2,   0.038,2,       0,2,  2291.7,2,  2315.4,2,   7.3718,6,    25.02,-999.000,9,-999.0000,9, -999.00,9,   7.4657, -999.00,9,  -999.0,9,  -999.0,-999.000,9,-999.000,  -999.0,9, -999.00,9,     54.158,3, -999.00,9,-999.000,-999.0000, -999.00,     -999.0,     -999.0,9,     -999.0,     -999.0,9,     -999.0,  -999.0,9,     -999.0,     -999.0,9,     -999.0,   7.4139,    34.6730,2,-999.0000,9,     -999.0,9
33RO20150410,     P16N.1,      95,          2,         15,         15,2,20150506,       1226,    14.0000,  -152.0000,       5802,   649.9,   6.0526,  34.4946,2,  34.4928,2,     25.2,2,    24.7,2,   69.30,2,   40.20,2,    0.00,2,    3.02,2,   0.022,2,   0.013,2,       0,2,  2308.3,2,  2332.6,2,   7.3732,2,    24.99,-999.000,9,-999.0000,9, -999.00,9,   6.0549, -999.00,9,  -999.0,9,  -999.0,-999.000,9,-999.000,  -999.0,9, -999.00,9,     50.621,3, -999.00,9,-999.000,-999.0000, -999.00,     -999.0,     -999.0,9,     -999.0,     -999.0,9,     -999.0,  -999.0,9,     -999.0,     -999.0,9,     -999.0,   5.9949,    34.6555,2,-999.0000,9,     -999.0,9
33RO20150410,     P16N.1,      95,          2,         14,         14,2,20150506,       1226,    14.0000,  -152.0000,       5802,   799.9,   5.2648,  34.5202,2,  34.5182,2,     25.6,2,    25.2,2,   80.50,2,   42.00,2,    0.00,2,    3.12,2,   0.003,2,   0.002,2,       0,2,  2326.6,2,  2347.1,2,   7.3657,2,    25.00,-999.000,9,-999.0000,9, -999.00,9,   5.2649, -999.00,9,  -999.0,9,  -999.0,-999.000,9,-999.000,  -999.0,9, -999.00,9,     50.694,3, -999.00,9,-999.000,-999.0000, -999.00,     -999.0,     -999.0,9,     -999.0,     -999.0,9,     -999.0,  -999.0,9,     -999.0,     -999.0,9,     -999.0,   5.1977,    34.6809,2,-999.0000,9,     -999.0,9
33RO20150410,     P16N.1,      95,          2,         13,         13,2,20150506,       1226,    14.0000,  -152.0000,       5802,   950.3,   4.5511,  34.5293,2,  34.5272,2,     37.4,2,    37.7,2,   92.80,2,   42.00,2,    0.01,2,    3.10,2,   0.002,2,   0.002,2,       0,2,  2330.2,2,  2360.7,2,   7.3850,2,    25.00,-999.000,9,-999.0000,9, -999.00,9,   4.5521, -999.00,9,  -999.0,9,  -999.0,-999.000,9,-999.000,  -999.0,9, -999.00,9,     44.300,3, -999.00,9,-999.000,-999.0000, -999.00,     -999.0,     -999.0,9,     -999.0,     -999.0,9,     -999.0,  -999.0,9,     -999.0,     -999.0,9,     -999.0,   4.4755,    34.6900,2,-999.0000,9,     -999.0,9
33RO20150410,     P16N.1,      95,          2,         12,         12,2,20150506,       1226,    14.0000,  -152.0000,       5802,  1100.4,   4.0270,  34.5481,2,  34.5490,2,     45.2,2,    44.1,2,  102.40,2,   42.20,2,    0.00,2,    3.09,2,  -0.002,2,   0.000,2,       0,2,  2341.1,2,  2373.1,2,   7.3934,2,    25.01,-999.000,9,-999.0000,9, -999.00,9,   4.0269, -999.00,9,  -999.0,9,  -999.0,-999.000,9,-999.000,  -999.0,9, -999.00,9,     41.235,3, -999.00,9,-999.000,-999.0000, -999.00,     -999.0,     -999.0,9,     -999.0,     -999.0,9,     -999.0,  -999.0,9,     -999.0,     -999.0,9,     -999.0,   3.9426,    34.7119,2,-999.0000,9,     -999.0,9
33RO20150410,     P16N.1,      95,          2,         11,         11,2,20150506,       1226,    14.0000,  -152.0000,       5802,  1300.5,   3.4130,  34.5688,2,  34.5683,2,     56.6,2,    56.7,2,  114.90,2,   41.20,2,    0.01,2,    3.03,2,   0.001,2,   0.002,2,       0,2,  2346.0,2,  2385.0,2,   7.4148,2,    25.00,-999.000,9,-999.0000,9, -999.00,9,   3.4126, -999.00,9,  -999.0,9,  -999.0,-999.000,9,-999.000,  -999.0,9, -999.00,9,     36.843,3, -999.00,9,-999.000,-999.0000, -999.00,     -999.0,     -999.0,9,     -999.0,     -999.0,9,     -999.0,  -999.0,9,     -999.0,     -999.0,9,     -999.0,   3.3174,    34.7313,2,-999.0000,9,     -999.0,9
33RO20150410,     P16N.1,      95,          2,         10,         10,2,20150506,       1226,    14.0000,  -152.0000,       5802,  1600.0,   2.7791,  34.6010,2,  34.6023,2,     73.9,2,    72.9,2,  127.10,2,   40.40,2,    0.01,2,    2.94,2,  -0.002,2,   0.000,2,       0,2,  2351.2,2,  2401.4,2,   7.4448,2,    24.99,-999.000,9,-999.0000,9, -999.00,9,   2.7794, -999.00,9,  -999.0,9,  -999.0,-999.000,9,-999.000,  -999.0,9, -999.00,9,     32.260,3, -999.00,9,-999.000,-999.0000, -999.00,     -999.0,     -999.0,9,     -999.0,     -999.0,9,     -999.0,  -999.0,9,     -999.0,     -999.0,9,     -999.0,   2.6655,    34.7654,2,-999.0000,9,     -999.0,9
33RO20150410,     P16N.1,      95,          2,          9,          9,2,20150506,       1226,    14.0000,  -152.0000,       5802,  1999.9,   2.1297,  34.6325,2,  34.6324,2,     94.4,2,    93.6,2,  140.60,2,   39.10,2,    0.00,2,    2.82,2,   0.005,2,   0.003,2,       0,2,  2353.0,2,  2416.8,2,   7.4800,2,    25.00,-999.000,9,-999.0000,9, -999.00,9,   2.1285, -999.00,9,  -999.0,9,  -999.0,-999.000,9,-999.000,  -999.0,9, -999.00,9,     27.636,3, -999.00,9,-999.000,-999.0000, -999.00,     -999.0,     -999.0,9,     -999.0,     -999.0,9,     -999.0,  -999.0,9,     -999.0,     -999.0,9,     -999.0,   1.9913,    34.7957,2,-999.0000,9,     -999.0,9
33RO20150410,     P16N.1,      95,          2,          8,          8,2,20150506,       1226,    14.0000,  -152.0000,       5802,  2530.7,   1.7976,  34.6604,2,  34.6613,2,    111.4,2,   110.2,2,  145.70,2,   37.90,2,    0.00,2,    2.72,2,  -0.002,2,   0.000,2,       0,2,  2348.3,2,  2425.0,2,   7.5170,2,    25.00,-999.000,9,-999.0000,9, -999.00,9,   1.7975, -999.00,9,  -999.0,9,  -999.0,-999.000,9,-999.000,  -999.0,9, -999.00,9,     24.403,3, -999.00,9,-999.000,-999.0000, -999.00,     -999.0,     -999.0,9,     -999.0,     -999.0,9,     -999.0,  -999.0,9,     -999.0,     -999.0,9,     -999.0,   1.6183,    34.8248,6,-999.0000,9,     -999.0,9
33RO20150410,     P16N.1,      95,          2,          7,          7,2,20150506,       1226,    14.0000,  -152.0000,       5802,  3000.9,   1.6626,  34.6725,2,  34.6723,2,    120.3,2,   119.1,2,  148.30,2,   37.30,2,    0.00,2,    2.68,2,   0.001,2,   0.000,2,       0,2,  2346.4,2,  2430.9,2,   7.5350,2,    25.00,-999.000,9,-999.0000,9, -999.00,9,   1.6627, -999.00,9,  -999.0,9,  -999.0,-999.000,9,-999.000,  -999.0,9, -999.00,9,     22.874,3, -999.00,9,-999.000,-999.0000, -999.00,     -999.0,     -999.0,9,     -999.0,     -999.0,9,     -999.0,  -999.0,9,     -999.0,     -999.0,9,     -999.0,   1.4421,    34.8358,2,-999.0000,9,     -999.0,9
33RO20150410,     P16N.1,      95,          2,          6,          6,2,20150506,       1226,    14.0000,  -152.0000,       5802,  3500.7,   1.5523,  34.6796,2,  34.6803,2,    131.7,2,   130.6,2,  149.60,2,   36.60,2,    0.00,2,    2.61,2,  -0.002,2,   0.000,2,       0,2,  2340.4,2,  2430.3,2,   7.5530,6,    25.00,-999.000,9,-999.0000,9, -999.00,9,   1.5524, -999.00,9,  -999.0,9,  -999.0,-999.000,9,-999.000,  -999.0,9, -999.00,9,     21.889,3, -999.00,9,-999.000,-999.0000, -999.00,     -999.0,     -999.0,9,     -999.0,     -999.0,9,     -999.0,  -999.0,9,     -999.0,     -999.0,9,     -999.0,   1.2847,    34.8439,2,-999.0000,9,     -999.0,9
33RO20150410,     P16N.1,      95,          2,          5,          5,2,20150506,       1226,    14.0000,  -152.0000,       5802,  4001.8,   1.4531,  34.6883,2,  34.6890,2,    150.5,2,   148.9,2,  140.20,2,   35.20,2,    0.01,2,    2.50,2,   0.000,2,   0.001,2,       0,2,  2322.3,2,  2421.6,2,   7.5783,6,    24.98,-999.000,9,-999.0000,9, -999.00,9,   1.4533, -999.00,9,  -999.0,9,  -999.0,-999.000,9,-999.000,  -999.0,9, -999.00,9,     20.731,3, -999.00,9,-999.000,-999.0000, -999.00,     -999.0,     -999.0,9,     -999.0,     -999.0,9,     -999.0,  -999.0,9,     -999.0,     -999.0,9,     -999.0,   1.1352,    34.8526,2,-999.0000,9,     -999.0,9
33RO20150410,     P16N.1,      95,          2,          4,          4,2,20150506,       1226,    14.0000,  -152.0000,       5802,  4499.8,   1.4098,  34.6937,2,  34.6939,2,    161.9,2,   161.5,2,  132.80,6,   34.30,6,    0.00,6,    2.45,6,   0.000,2,   0.000,2,       0,2,  2309.8,2,  2411.3,2,   7.5901,2,    24.99,-999.000,9,-999.0000,9, -999.00,9,   1.4098, -999.00,9,  -999.0,9,  -999.0,-999.000,9,-999.000,  -999.0,9, -999.00,9,     20.291,3, -999.00,9,-999.000,-999.0000, -999.00,     -999.0,     -999.0,9,     -999.0,     -999.0,9,     -999.0,  -999.0,9,     -999.0,     -999.0,9,     -999.0,   1.0375,    34.8575,2,-999.0000,9,     -999.0,9
33RO20150410,     P16N.1,      95,          2,          3,          3,2,20150506,       1226,    14.0000,  -152.0000,       5802,  5000.3,   1.3974,  34.6981,2,  34.6975,2,    171.9,2,   170.8,2,  127.40,6,   33.80,6,    0.00,6,    2.40,6,   0.004,2,   0.002,2,       0,2,  2302.2,2,  2403.6,6,   7.5971,2,    25.00,-999.000,9,-999.0000,9, -999.00,9,   1.3974, -999.00,9,  -999.0,9,  -999.0,-999.000,9,-999.000,  -999.0,9, -999.00,9,     19.781,3, -999.00,9,-999.000,-999.0000, -999.00,     -999.0,     -999.0,9,     -999.0,     -999.0,9,     -999.0,  -999.0,9,     -999.0,     -999.0,9,     -999.0,   0.9664,    34.8611,2,-999.0000,9,     -999.0,9
33RO20150410,     P16N.1,      95,          2,          2,          2,2,20150506,       1226,    14.0000,  -152.0000,       5802,  5400.4,   1.4393,  34.6989,2,  34.6985,2,    173.5,2,   171.0,3,  126.60,6,   33.70,6,    0.00,6,    2.39,6,   0.000,6,   0.002,6,       0,6,  2423.2,4,  2399.8,2,   7.5985,6,    25.01,-999.000,9,-999.0000,9, -999.00,9,   1.4395, -999.00,9,  -999.0,9,  -999.0,-999.000,9,-999.000,  -999.0,9, -999.00,9,     19.692,3, -999.00,9,-999.000,-999.0000, -999.00,     -999.0,     -999.0,9,     -999.0,     -999.0,9,     -999.0,  -999.0,9,     -999.0,     -999.0,9,     -999.0,   0.9574,    34.8621,2,-999.0000,9,     -999.0,9
33RO20150410,     P16N.1,      95,          2,          1,          1,2,20150506,       1226,    14.0000,  -152.0000,       5802,  5792.3,   1.4880,  34.6990,2,  34.6989,2,    173.8,2,   171.7,3,  126.40,6,   33.60,6,    0.01,6,    2.39,6,   0.035,3,   0.013,2,       0,2,  2296.9,6,  2400.0,2,   7.5988,2,    25.00,-999.000,9,-999.0000,9, -999.00,9,   1.4877, -999.00,9,  -999.0,9,  -999.0,-999.000,9,-999.000,  -999.0,9, -999.00,9,     19.561,3, -999.00,9,-999.000,-999.0000, -999.00,     -999.0,     -999.0,9,     -999.0,     -999.0,9,     -999.0,  -999.0,9,     -999.0,     -999.0,9,     -999.0,   0.9539,    34.8625,2,-999.0000,9,     -999.0,9