BOTTLE,20210709CCHSIOCBG
EXPOCODE,SECT_ID,STNNBR,CASTNO,SAMPNO,BTLNBR,BTLNBR_FLAG_W,DATE,TIME,LATITUDE,LONGITUDE,DEPTH,CTDPRS,CTDTMP,CTDSAL,CTDSAL_FLAG_W,SALNTY,SALNTY_FLAG_W,CTDOXY,CTDOXY_FLAG_W,OXYGEN,OXYGEN_FLAG_W,SILCAT,SILCAT_FLAG_W,NITRAT,NITRAT_FLAG_W,NITRIT,NITRIT_FLAG_W,PHSPHT,PHSPHT_FLAG_W,CFC-11,CFC-11_FLAG_W,CFC-12,CFC-12_FLAG_W,SF6,SF6_FLAG_W,TCARBN,TCARBN_FLAG_W,ALKALI,ALKALI_FLAG_W,PH_TOT,PH_TOT_FLAG_W,PH_TMP,TRITUM,TRITUM_FLAG_W,HELIUM,HELIUM_FLAG_W,DELHE3,DELHE3_FLAG_W,REFTMP,DELC13,DELC13_FLAG_W,DELC14,DELC14_FLAG_W,C14ERR,NEON,NEON_FLAG_W,NEONER,DOC,DOC_FLAG_W,TDN,TDN_FLAG_W,N2O,N2O_FLAG_W,ARGON,ARGON_FLAG_W,TRITER,HELIER,DELHER,ARGONER,KRYPTON,KRYPTON_FLAG_W,KRYPTONER,XENON,XENON_FLAG_W,XENONER,14C-DOC,14C-DOC_FLAG_W,14C-DOCERR,13C-DOC,13C-DOC_FLAG_W,13C-DOCERR,THETA,SALTREF,SALTREF_FLAG_W,SBE35,SBE35_FLAG_W,CHLORA,CHLORA_FLAG_W
,,,,,,,,,,,METERS,DBAR,ITS-90,PSS-78,,PSS-78,,UMOL/KG,,UMOL/KG,,UMOL/KG,,UMOL/KG,,UMOL/KG,,UMOL/KG,,PMOL/KG,,PMOL/KG,,FMOL/KG,,UMOL/KG,,UMOL/KG,,,,DEG C,TU,,NMOL/KG,,PERCNT,,DEG C,/MILLE,,/MILLE,,/MILLE,NMOL/KG,,NMOL/KG,UMOL/KG,,UMOL/KG,,NMOL/KG,,UMOL/KG,,TU,NMOL/KG,PERCNT,UMOL/KG,NMOL/KG,,NMOL/KG,NMOL/KG,,NMOL/KG,/MILLE,,/MILLE,/MILLE,,/MILLE,DEG C,G/KG,,ITS-90,,MG/M3,
33RO20150410,     P16N.1,     109,          1,         24,         24,2,20150510,       1940,    21.0010,  -152.0003,       5247,     9.1,  24.2455,  34.9098,2,  34.9095,2,    208.9,2,   208.5,2,    1.00,2,    0.00,2,    0.00,2,    0.19,2,   1.763,6,   1.103,6,   1.437,6,  1991.3,2,  2302.6,2,   8.0578,6,    25.01,   0.448,2,-999.0000,9, -999.00,9,  24.2441, -999.00,9,  -999.0,9,  -999.0,-999.000,9,-999.000,    73.6,2,    4.50,2,      6.697,3, -999.00,9,   0.004,-999.0000, -999.00,     -999.0,     -999.0,9,     -999.0,     -999.0,9,     -999.0,  -999.0,9,     -999.0,     -999.0,9,     -999.0,  24.2436,    35.0741,2,-999.0000,9,      0.092,2
33RO20150410,     P16N.1,     109,          1,         23,         23,2,20150510,       1940,    21.0010,  -152.0003,       5247,    23.9,  24.2123,  34.9092,2,  34.9113,2,    209.3,2,   208.5,2,    1.00,2,    0.00,2,    0.00,2,    0.20,2,   1.775,2,   1.101,2,   1.408,2,  1991.9,6,  2302.4,2,   8.0581,2,    25.01,-999.000,9,-999.0000,9, -999.00,9,  24.2126, -999.00,9,  -999.0,9,  -999.0,-999.000,9,-999.000,    72.8,2,    4.60,2,      6.573,3, -999.00,9,-999.000,-999.0000, -999.00,     -999.0,     -999.0,9,     -999.0,     -999.0,9,     -999.0,  -999.0,9,     -999.0,     -999.0,9,     -999.0,  24.2072,    35.0759,2,-999.0000,9,      0.080,2
33RO20150410,     P16N.1,     109,          1,         22,         22,2,20150510,       1940,    21.0010,  -152.0003,       5247,    50.6,  23.3252,  35.0752,2,  35.0810,2,    215.1,2,   215.2,2,    1.30,2,    0.00,2,    0.01,2,    0.22,2,   1.917,2,   1.190,2,   1.448,2,  2022.9,2,  2318.7,2,   8.0276,6,    25.01,   0.459,2,   1.7132,2,   -1.42,2,  23.3307, -999.00,9,  -999.0,9,  -999.0,   6.840,2,   0.017,    72.1,2,    4.00,2,      8.113,3,   10.85,2,   0.004,   0.0045,    0.20,       0.02,       2.39,2,       0.01,       0.32,2,       0.00,  -999.0,9,     -999.0,     -999.0,9,     -999.0,  23.3148,    35.2464,2,-999.0000,9,      0.102,2
33RO20150410,     P16N.1,     109,          1,         21,         21,2,20150510,       1940,    21.0010,  -152.0003,       5247,    75.0,  22.1723,  35.2583,2,  35.2581,2,    205.8,2,   204.3,2,    1.30,2,    0.00,2,    0.00,2,    0.19,2,   1.980,2,   1.209,2,   1.436,2,  2040.1,2,  2326.2,2,   8.0095,2,    24.99,   0.449,2,   1.7313,2,   -1.66,2,  22.1840, -999.00,9,  -999.0,9,  -999.0,   6.909,2,   0.017,    64.9,2,    3.80,2,      7.643,3,   10.94,2,   0.004,   0.0045,    0.20,       0.02,       2.38,2,       0.01,       0.32,2,       0.00,  -999.0,9,     -999.0,     -999.0,9,     -999.0,  22.1574,    35.4244,2,-999.0000,9,      0.180,2
33RO20150410,     P16N.1,     109,          1,         20,         20,2,20150510,       1940,    21.0010,  -152.0003,       5247,    98.5,  21.0277,  35.0628,2,  35.0674,2,    200.1,2,   200.7,2,    1.90,2,    0.10,2,    0.06,2,    0.28,2,   2.106,2,   1.274,2,    1.55,2,  2052.6,2,  2329.6,6,   7.9727,2,    25.00,   0.513,2,   1.7252,2,   -1.16,2,  21.0252, -999.00,9,  -999.0,9,  -999.0,   6.922,2,   0.017,    62.8,2,    4.20,2,      9.724,3,   11.18,2,   0.004,   0.0045,    0.20,       0.02,       2.48,2,       0.01,       0.34,2,       0.00,  -999.0,9,     -999.0,     -999.0,9,     -999.0,  21.0088,    35.2328,2,-999.0000,9,      0.353,2
33RO20150410,     P16N.1,     109,          1,         19,         19,2,20150510,       1940,    21.0010,  -152.0003,       5247,   150.0,  19.1998,  34.9753,2,  34.9773,2,    197.0,2,   197.3,2,    2.50,2,    1.60,2,    0.03,2,    0.28,2,   2.223,2,   1.361,2,   1.561,2,  2057.8,2,  2302.8,2,   7.9417,2,    25.00,   0.517,2,   1.7342,2,   -1.23,2,  19.2234, -999.00,9,  -999.0,9,  -999.0,   7.001,2,   0.018,    55.5,2,    4.90,2,      8.664,3,   11.50,2,   0.003,   0.0045,    0.20,       0.02,       2.56,2,       0.01,       0.35,2,       0.00,  -999.0,9,     -999.0,     -999.0,9,     -999.0,  19.1729,    35.1422,2,-999.0000,9,      0.106,2
33RO20150410,     P16N.1,     109,          1,         18,         18,2,20150510,       1940,    21.0010,  -152.0003,       5247,   224.5,  14.6484,  34.3423,2,  34.3448,2,    197.5,2,   197.0,2,    5.90,2,    6.00,2,    0.01,2,    0.62,2,   2.774,6,   1.631,6,   1.618,6,  2069.6,2,  2263.9,2,   7.8463,2,    25.00,   0.482,2,   1.7599,2,   -0.73,2,  14.6432, -999.00,9,  -999.0,9,  -999.0,   7.239,2,   0.018,    52.3,2, -999.00,9,     12.028,3,   12.54,2,   0.002,   0.0046,    0.20,       0.02,       2.86,2,       0.01,       0.40,2,       0.00,  -999.0,9,     -999.0,     -999.0,9,     -999.0,  14.6151,    34.5067,2,-999.0000,9,      0.004,2
33RO20150410,     P16N.1,     109,          1,         17,         17,2,20150510,       1940,    21.0010,  -152.0003,       5247,   296.7,  10.2354,  34.0598,2,  34.0555,2,    184.4,2,   181.5,2,   18.50,2,   16.80,2,    0.00,2,    1.32,2,   3.323,2,   1.826,2,   1.362,2,  2126.7,2,  2256.0,2,   7.6938,2,    25.00,   0.490,2,   1.7834,6,    1.61,6,  10.2389, -999.00,9,  -999.0,9,  -999.0,   7.501,6,   0.014,    46.9,2, -999.00,9,     19.963,3,   13.74,6,   0.004,   0.0035,    0.14,       0.02,       3.20,6,       0.01,       0.46,6,       0.00,  -999.0,9,     -999.0,     -999.0,9,     -999.0,  10.2007,    34.2161,2,-999.0000,9,     -999.0,9
33RO20150410,     P16N.1,     109,          1,         16,         16,2,20150510,       1940,    21.0010,  -152.0003,       5247,   400.5,   7.6957,  34.1361,2,  34.1398,2,     89.1,2,    89.0,2,   43.90,2,   29.80,2,    0.00,2,    2.28,2,   1.990,2,   1.025,2,   0.435,2,  2227.4,2,  2282.3,2,   7.4706,2,    25.00,   0.341,2,   1.8179,2,   11.02,2,   7.6904, -999.00,9,  -999.0,9,  -999.0,   7.684,2,   0.019,    44.0,2, -999.00,9,     31.355,3,   14.52,2,   0.004,   0.0047,    0.20,       0.03,       3.42,2,       0.01,       0.50,2,       0.00,  -999.0,9,     -999.0,     -999.0,9,     -999.0,   7.6561,    34.3008,2,-999.0000,9,     -999.0,9
33RO20150410,     P16N.1,     109,          1,         15,         15,2,20150510,       1940,    21.0010,  -152.0003,       5247,   501.9,   6.0106,  34.1187,2,  34.1197,2,     58.1,2,    57.6,2,   65.90,2,   36.40,2,    0.00,2,    2.70,2,   1.089,2,   0.539,2,   0.166,2,  2275.5,2,  2335.1,3,   7.3752,6,    25.01,   0.267,2,   1.8317,2,   15.12,2,   6.0116, -999.00,9,  -999.0,9,  -999.0,   7.804,2,   0.020,    42.9,2, -999.00,9,     38.151,3,   15.13,2,   0.003,   0.0048,    0.20,       0.03,       3.58,2,       0.01,       0.53,2,       0.00,  -999.0,9,     -999.0,     -999.0,9,     -999.0,   5.9670,    34.2806,6,-999.0000,9,     -999.0,9
33RO20150410,     P16N.1,     109,          1,         14,         14,2,20150510,       1940,    21.0010,  -152.0003,       5247,   650.7,   5.0669,  34.3152,2,  34.3158,2,     26.3,2,    25.3,2,   86.90,2,   40.90,2,    0.00,2,    3.02,2,   0.139,2,   0.071,2,   0.066,3,  2322.2,2,  2333.4,2,   7.3333,2,    25.00,   0.058,2,   1.8530,2,   14.60,2,   5.0671, -999.00,9,  -999.0,9,  -999.0,   7.862,2,   0.020,    39.7,2, -999.00,9,     47.716,3,   15.43,2,   0.002,   0.0048,    0.20,       0.03,       3.67,2,       0.01,       0.55,2,       0.00,  -999.0,9,     -999.0,     -999.0,9,     -999.0,   5.0142,    34.4776,2,-999.0000,9,     -999.0,9
33RO20150410,     P16N.1,     109,          1,         13,         13,2,20150510,       1940,    21.0010,  -152.0003,       5247,   800.4,   4.6560,  34.4487,2,  34.4514,2,     30.7,2,    31.0,2,   94.90,2,   41.70,2,    0.00,2,    3.05,2,   0.030,2,   0.016,2,       0,2,  2332.8,6,  2353.5,2,   7.3606,2,    25.00,   0.010,2,   1.8711,2,   17.12,2,   4.6574, -999.00,9,  -999.0,9,  -999.0,   7.877,2,   0.020,    38.8,2, -999.00,9,     46.709,3,   15.52,2,   0.002,   0.0049,    0.20,       0.03,       3.73,2,       0.01,       0.56,2,       0.00,  -999.0,9,     -999.0,     -999.0,9,     -999.0,   4.5926,    34.6139,2,-999.0000,9,     -999.0,9
33RO20150410,     P16N.1,     109,          1,         12,         12,2,20150510,       1940,    21.0010,  -152.0003,       5247,   949.7,   4.1176,  34.4951,2,  34.5168,4,     41.0,2,    41.0,2,  105.00,2,   41.60,2,    0.00,2,    3.04,2,   0.014,2,   0.007,2,       0,2,  2338.2,2,  2367.8,2,   7.3807,6,    25.01,   0.007,2,   1.8860,2,   22.76,2,   4.1170, -999.00,9,  -999.0,9,  -999.0,   7.918,2,   0.020,    37.8,2, -999.00,9,     41.735,3,   15.68,2,   0.001,   0.0049,    0.20,       0.03,       3.76,2,       0.01,       0.56,2,       0.00,  -999.0,9,     -999.0,     -999.0,9,     -999.0,   4.0452,    34.6796,3,-999.0000,9,     -999.0,9
33RO20150410,     P16N.1,     109,          1,         11,         11,2,20150510,       1940,    21.0010,  -152.0003,       5247,  1100.4,   3.6555,  34.5284,2,  34.5284,2,     47.8,2,    45.6,2,  114.20,2,   41.60,2,    0.00,2,    3.02,2,   0.005,2,   0.002,2,   0.056,3,  2346.0,2,  2380.1,2,   7.3932,2,    24.99,   0.005,2,   1.8968,2,   26.36,2,   3.6554, -999.00,9,  -999.0,9,  -999.0,   7.947,2,   0.020,    37.6,2, -999.00,9,     39.197,3,   15.80,2,   0.001,   0.0049,    0.20,       0.03,       3.78,2,       0.01,       0.57,2,       0.00,  -999.0,9,     -999.0,     -999.0,9,     -999.0,   3.5743,    34.6912,2,-999.0000,9,     -999.0,9
33RO20150410,     P16N.1,     109,          1,         10,         10,2,20150510,       1940,    21.0010,  -152.0003,       5247,  1301.3,   3.1532,  34.5584,2,  34.5585,2,     56.8,2,    56.6,2,  125.30,2,   41.40,2,    0.00,2,    2.99,2,  -0.002,2,   0.000,2,   0.031,3,  2353.7,2,  2393.0,2,   7.4087,2,    24.99,   0.003,2,   1.9028,2,   23.65,2,   3.1537, -999.00,9,  -999.0,9,  -999.0,   7.994,2,   0.020,    36.0,2, -999.00,9,     35.958,3,   15.94,2,   0.001,   0.0049,    0.20,       0.03,       3.84,2,       0.01,       0.58,2,       0.00,  -999.0,9,     -999.0,     -999.0,9,     -999.0,   3.0601,    34.7214,2,-999.0000,9,     -999.0,9
33RO20150410,     P16N.1,     109,          1,          9,          9,2,20150510,       1940,    21.0010,  -152.0003,       5247,  1601.7,   2.5775,  34.5951,2,  34.5988,2,     74.5,2,    73.8,2,  137.00,2,   40.50,2,    0.00,2,    2.91,2,  -0.001,2,   0.000,2,       0,2,  2356.7,2,  2406.2,2,   7.4403,2,    24.98,  -0.005,2,   1.9249,2,   22.45,2,   2.5779, -999.00,9,  -999.0,9,  -999.0,   8.084,2,   0.020,    35.0,2, -999.00,9,     31.660,3,   16.24,2,   0.001,   0.0050,    0.20,       0.03,       3.92,2,       0.01,       0.59,2,       0.00,  -999.0,9,     -999.0,     -999.0,9,     -999.0,   2.4662,    34.7620,3,-999.0000,9,     -999.0,9
33RO20150410,     P16N.1,     109,          1,          8,          8,2,20150510,       1940,    21.0010,  -152.0003,       5247,  1998.3,   2.1105,  34.6268,2,  34.6271,2,     90.2,2,    90.9,2,  146.40,2,   39.50,2,    0.00,2,    2.81,2,   0.001,2,   0.001,2,       0,2,  2357.2,2,  2418.1,2,   7.4720,2,    24.99,   0.002,2,   1.9096,2,   23.07,2,   2.1105, -999.00,9,  -999.0,9,  -999.0,   8.057,2,   0.020,    34.9,2, -999.00,9,     27.734,3,   16.36,2,   0.002,   0.0050,    0.20,       0.03,       3.94,2,       0.01,       0.60,2,       0.00,  -999.0,9,     -999.0,     -999.0,9,     -999.0,   1.9725,    34.7903,2,-999.0000,9,     -999.0,9
33RO20150410,     P16N.1,     109,          1,          7,          7,2,20150510,       1940,    21.0010,  -152.0003,       5247,  2394.3,   1.8298,  34.6468,2,  34.6469,2,    104.4,2,   104.9,2,  151.80,2,   38.60,2,    0.00,2,    2.73,2,   0.000,2,   0.000,2,       0,2,  2352.8,2,  2423.8,2,   7.4978,2,    25.00,-999.000,9,-999.0000,9, -999.00,9,   1.8298, -999.00,9,  -999.0,9,  -999.0,-999.000,9,-999.000,    36.3,2, -999.00,9,     25.184,3, -999.00,9,-999.000,-999.0000, -999.00,     -999.0,     -999.0,9,     -999.0,     -999.0,9,     -999.0,  -999.0,9,     -999.0,     -999.0,9,     -999.0,   1.6621,    34.8103,2,-999.0000,9,     -999.0,9
33RO20150410,     P16N.1,     109,          1,          6,          6,2,20150510,       1940,    21.0010,  -152.0003,       5247,  2798.8,   1.6670,  34.6621,2,  34.6668,4,    114.8,2,   115.4,2,  154.80,2,   37.90,2,    0.00,2,    2.69,2,  -0.001,2,   0.000,2,       0,2,  2349.7,2,  2428.7,2,   7.5178,2,    25.02,-999.000,9,-999.0000,9, -999.00,9,   1.6670, -999.00,9,  -999.0,9,  -999.0,-999.000,9,-999.000,    35.5,2, -999.00,9,     23.385,3, -999.00,9,-999.000,-999.0000, -999.00,     -999.0,     -999.0,9,     -999.0,     -999.0,9,     -999.0,  -999.0,9,     -999.0,     -999.0,9,     -999.0,   1.4656,    34.8303,3,-999.0000,9,     -999.0,9
33RO20150410,     P16N.1,     109,          1,          5,          5,2,20150510,       1940,    21.0010,  -152.0003,       5247,  3199.6,   1.5506,  34.6714,2,  34.6737,2,    126.8,2,   126.8,2,  154.70,2,   37.10,2,    0.00,2,    2.62,2,  -0.001,2,   0.000,2,       0,2,  2343.9,2,  2427.8,2,   7.5373,6,    24.99,-999.000,9,-999.0000,9, -999.00,9,   1.5508, -999.00,9,  -999.0,9,  -999.0,-999.000,9,-999.000,    38.2,2, -999.00,9,     22.175,3, -999.00,9,-999.000,-999.0000, -999.00,     -999.0,     -999.0,9,     -999.0,     -999.0,9,     -999.0,  -999.0,9,     -999.0,     -999.0,9,     -999.0,   1.3133,    34.8372,2,-999.0000,9,     -999.0,9
33RO20150410,     P16N.1,     109,          1,          4,          4,2,20150510,       1940,    21.0010,  -152.0003,       5247,  3600.7,   1.4962,  34.6799,2,  34.6802,2,    136.3,2,   136.6,2,  153.40,6,   36.60,6,    0.00,6,    2.56,6,   0.000,2,   0.000,2,       0,2,  2337.3,2,  2427.1,2,   7.5544,2,    24.99,-999.000,9,-999.0000,9, -999.00,9,   1.4962, -999.00,9,  -999.0,9,  -999.0,-999.000,9,-999.000,    36.2,2, -999.00,9,     21.086,3, -999.00,9,-999.000,-999.0000, -999.00,     -999.0,     -999.0,9,     -999.0,     -999.0,9,     -999.0,  -999.0,9,     -999.0,     -999.0,9,     -999.0,   1.2198,    34.8437,2,-999.0000,9,     -999.0,9
33RO20150410,     P16N.1,     109,          1,          3,          3,2,20150510,       1940,    21.0010,  -152.0003,       5247,  4100.1,   1.4681,  34.6860,2,  34.6860,2,    147.1,2,   146.8,2,  148.20,6,   35.90,6,    0.00,6,    2.51,6,  -0.001,2,   0.002,2,       0,2,  2328.4,2,  2423.9,6,   7.5710,2,    25.04,-999.000,9,-999.0000,9, -999.00,9,   1.4682, -999.00,9,  -999.0,9,  -999.0,-999.000,9,-999.000,    36.5,2, -999.00,9,     20.417,3, -999.00,9,-999.000,-999.0000, -999.00,     -999.0,     -999.0,9,     -999.0,     -999.0,9,     -999.0,  -999.0,9,     -999.0,     -999.0,9,     -999.0,   1.1391,    34.8496,2,-999.0000,9,     -999.0,9
33RO20150410,     P16N.1,     109,          1,          2,          2,2,20150510,       1940,    21.0010,  -152.0003,       5247,  4649.7,   1.4654,  34.6911,2,  34.6941,2,    156.8,2,   158.1,2,  142.30,6,   35.20,6,    0.00,6,    2.46,6,   0.004,2,   0.002,2,       0,2,  2318.0,6,  2418.4,2,   7.5825,2,    24.84,-999.000,9,-999.0000,9, -999.00,9,   1.4654, -999.00,9,  -999.0,9,  -999.0,-999.000,9,-999.000,    36.9,2, -999.00,9,     19.853,3, -999.00,9,-999.000,-999.0000, -999.00,     -999.0,     -999.0,9,     -999.0,     -999.0,9,     -999.0,  -999.0,9,     -999.0,     -999.0,9,     -999.0,   1.0740,    34.8577,2,-999.0000,9,     -999.0,9
33RO20150410,     P16N.1,     109,          1,          1,          1,2,20150510,       1940,    21.0010,  -152.0003,       5247,  5219.2,   1.5036,  34.6938,2,  34.7051,4,    162.0,2,   162.4,2,  138.10,6,   34.80,6,    0.00,6,    2.43,6,  -0.002,6,   0.002,6,       0,6,  2315.5,2,  2414.3,2,   7.5883,6,    25.01,-999.000,9,-999.0000,9, -999.00,9,   1.5037, -999.00,9,  -999.0,9,  -999.0,-999.000,9,-999.000,    36.4,2, -999.00,9,     19.618,3, -999.00,9,-999.000,-999.0000, -999.00,     -999.0,     -999.0,9,     -999.0,     -999.0,9,     -999.0,  -999.0,9,     -999.0,     -999.0,9,     -999.0,   1.0421,    34.8688,3,-999.0000,9,     -999.0,9