BOTTLE,20210709CCHSIOCBG
EXPOCODE,SECT_ID,STNNBR,CASTNO,SAMPNO,BTLNBR,BTLNBR_FLAG_W,DATE,TIME,LATITUDE,LONGITUDE,DEPTH,CTDPRS,CTDTMP,CTDSAL,CTDSAL_FLAG_W,SALNTY,SALNTY_FLAG_W,CTDOXY,CTDOXY_FLAG_W,OXYGEN,OXYGEN_FLAG_W,SILCAT,SILCAT_FLAG_W,NITRAT,NITRAT_FLAG_W,NITRIT,NITRIT_FLAG_W,PHSPHT,PHSPHT_FLAG_W,CFC-11,CFC-11_FLAG_W,CFC-12,CFC-12_FLAG_W,SF6,SF6_FLAG_W,TCARBN,TCARBN_FLAG_W,ALKALI,ALKALI_FLAG_W,PH_TOT,PH_TOT_FLAG_W,PH_TMP,TRITUM,TRITUM_FLAG_W,HELIUM,HELIUM_FLAG_W,DELHE3,DELHE3_FLAG_W,REFTMP,DELC13,DELC13_FLAG_W,DELC14,DELC14_FLAG_W,C14ERR,NEON,NEON_FLAG_W,NEONER,DOC,DOC_FLAG_W,TDN,TDN_FLAG_W,N2O,N2O_FLAG_W,ARGON,ARGON_FLAG_W,TRITER,HELIER,DELHER,ARGONER,KRYPTON,KRYPTON_FLAG_W,KRYPTONER,XENON,XENON_FLAG_W,XENONER,14C-DOC,14C-DOC_FLAG_W,14C-DOCERR,13C-DOC,13C-DOC_FLAG_W,13C-DOCERR,THETA,SALTREF,SALTREF_FLAG_W,SBE35,SBE35_FLAG_W,CHLORA,CHLORA_FLAG_W
,,,,,,,,,,,METERS,DBAR,ITS-90,PSS-78,,PSS-78,,UMOL/KG,,UMOL/KG,,UMOL/KG,,UMOL/KG,,UMOL/KG,,UMOL/KG,,PMOL/KG,,PMOL/KG,,FMOL/KG,,UMOL/KG,,UMOL/KG,,,,DEG C,TU,,NMOL/KG,,PERCNT,,DEG C,/MILLE,,/MILLE,,/MILLE,NMOL/KG,,NMOL/KG,UMOL/KG,,UMOL/KG,,NMOL/KG,,UMOL/KG,,TU,NMOL/KG,PERCNT,UMOL/KG,NMOL/KG,,NMOL/KG,NMOL/KG,,NMOL/KG,/MILLE,,/MILLE,/MILLE,,/MILLE,DEG C,G/KG,,ITS-90,,MG/M3,
33RO20150410,     P16N.1,      80,          2,         24,         24,2,20150501,       2236,     6.4989,  -151.1000,       5184,    10.4,  28.2311,  34.1217,2,  34.1270,2,    195.4,2,   197.0,2,    0.50,2,    0.00,2,    0.00,2,    0.25,2,   1.470,2,   0.948,2,   1.252,2,  1920.2,6,  2243.2,2,   8.0990,6,    24.99,-999.000,9,-999.0000,9, -999.00,9,  28.2281, -999.00,9,  -999.0,9,  -999.0,-999.000,9,-999.000,  -999.0,9, -999.00,9,      6.103,3, -999.00,9,-999.000,-999.0000, -999.00,     -999.0,     -999.0,9,     -999.0,     -999.0,9,     -999.0,  -999.0,9,     -999.0,     -999.0,9,     -999.0,  28.2286,    34.2879,2,-999.0000,2,      0.187,2
33RO20150410,     P16N.1,      80,          2,         23,         23,2,20150501,       2236,     6.4989,  -151.1000,       5184,    26.1,  28.3809,  34.3314,2,  34.3412,2,    195.7,2,   196.7,2,    0.80,2,    0.10,2,    0.00,2,    0.26,2,-999.000,9,-999.000,9,-999.000,9,  1931.3,2,  2256.8,6,   8.0965,2,    24.99,-999.000,9,-999.0000,9, -999.00,9,  28.3808, -999.00,9,  -999.0,9,  -999.0,-999.000,9,-999.000,  -999.0,9, -999.00,9,     -999.0,9, -999.00,9,-999.000,-999.0000, -999.00,     -999.0,     -999.0,9,     -999.0,     -999.0,9,     -999.0,  -999.0,9,     -999.0,     -999.0,9,     -999.0,  28.3747,    34.5032,2,-999.0000,2,      0.264,2
33RO20150410,     P16N.1,      80,          2,         22,         22,2,20150501,       2236,     6.4989,  -151.1000,       5184,    52.2,  28.3112,  34.3324,2,  34.3590,2,    196.3,2,   196.5,2,    0.50,2,    0.10,2,    0.00,2,    0.29,2,   1.473,2,   0.953,2,   1.251,2,  1935.3,2,  2258.1,2,   8.0922,6,    24.99,-999.000,9,-999.0000,9, -999.00,9,  28.3141, -999.00,9,  -999.0,9,  -999.0,-999.000,9,-999.000,  -999.0,9, -999.00,9,      6.440,3, -999.00,9,-999.000,-999.0000, -999.00,     -999.0,     -999.0,9,     -999.0,     -999.0,9,     -999.0,  -999.0,9,     -999.0,     -999.0,9,     -999.0,  28.2988,    34.5210,2,-999.0000,2,      0.278,2
33RO20150410,     P16N.1,      80,          2,         21,         21,2,20150501,       2236,     6.4989,  -151.1000,       5184,    74.8,  21.0813,  34.8401,2,  34.8190,2,    165.2,2,   164.7,2,    5.90,2,    4.80,2,    0.32,2,    0.70,2,   2.054,2,   1.253,2,   1.256,2,  2074.3,2,  2296.8,2,   7.8999,2,    24.99,-999.000,9,-999.0000,9, -999.00,9,  21.2799, -999.00,9,  -999.0,9,  -999.0,-999.000,9,-999.000,  -999.0,9, -999.00,9,     17.576,3, -999.00,9,-999.000,-999.0000, -999.00,     -999.0,     -999.0,9,     -999.0,     -999.0,9,     -999.0,  -999.0,9,     -999.0,     -999.0,9,     -999.0,  21.0670,    34.9831,2,-999.0000,2,      0.319,2
33RO20150410,     P16N.1,      80,          2,         20,         20,2,20150501,       2236,     6.4989,  -151.1000,       5184,   100.8,  15.1578,  34.5895,2,  34.6033,2,    101.7,2,   103.7,2,   14.90,2,   17.30,2,    0.04,2,    1.46,2,   2.029,2,   1.182,2,   0.935,2,  2149.8,2,  2282.5,2,   7.6986,2,    24.99,-999.000,9,-999.0000,9, -999.00,9,  15.1568, -999.00,9,  -999.0,9,  -999.0,-999.000,9,-999.000,  -999.0,9, -999.00,9,     40.743,3, -999.00,9,-999.000,-999.0000, -999.00,     -999.0,     -999.0,9,     -999.0,     -999.0,9,     -999.0,  -999.0,9,     -999.0,     -999.0,9,     -999.0,  15.1425,    34.7664,2,-999.0000,2,      0.145,2
33RO20150410,     P16N.1,      80,          2,         19,         19,2,20150501,       2236,     6.4989,  -151.1000,       5184,   157.2,  11.3358,  34.7168,2,  34.7161,2,     11.2,2,    10.4,2,   28.50,2,   33.50,2,    0.01,2,    2.57,2,   0.792,2,   0.438,2,   0.144,2,  2253.4,2,  2296.3,2,   7.4308,2,    24.99,-999.000,9,-999.0000,9, -999.00,9,  11.3454, -999.00,9,  -999.0,9,  -999.0,-999.000,9,-999.000,  -999.0,9, -999.00,9,     89.055,3, -999.00,9,-999.000,-999.0000, -999.00,     -999.0,     -999.0,9,     -999.0,     -999.0,9,     -999.0,  -999.0,9,     -999.0,     -999.0,9,     -999.0,  11.3161,    34.8798,2,-999.0000,9,      0.002,2
33RO20150410,     P16N.1,      80,          2,         18,         18,2,20150501,       2236,     6.4989,  -151.1000,       5184,   225.8,  10.2153,  34.6989,2,  34.6986,2,     36.1,2,    36.8,2,   42.10,3,   33.20,2,    0.00,2,    2.42,2,   0.679,2,   0.369,6,   0.132,6,  2247.9,2,  2301.9,2,   7.4692,2,    25.00,-999.000,9,-999.0000,9, -999.00,9,  10.2140, -999.00,9,  -999.0,9,  -999.0,-999.000,9,-999.000,  -999.0,9, -999.00,9,     54.199,3, -999.00,9,-999.000,-999.0000, -999.00,     -999.0,     -999.0,9,     -999.0,     -999.0,9,     -999.0,  -999.0,9,     -999.0,     -999.0,9,     -999.0,  10.1888,    34.8622,2,-999.0000,9,      0.002,3
33RO20150410,     P16N.1,      80,          2,         17,         17,2,20150501,       2236,     6.4989,  -151.1000,       5184,   296.4,   9.7231,  34.6835,2,  34.6825,2,     30.6,2,    36.4,2,   32.20,2,   34.30,2,    0.01,2,    2.52,2,   0.546,2,   0.297,2,   0.092,2,  2254.2,2,  2303.6,2,   7.4576,2,    25.00,-999.000,9,-999.0000,9, -999.00,9,   9.7240, -999.00,9,  -999.0,9,  -999.0,-999.000,9,-999.000,  -999.0,9, -999.00,9,     52.096,3, -999.00,9,-999.000,-999.0000, -999.00,     -999.0,     -999.0,9,     -999.0,     -999.0,9,     -999.0,  -999.0,9,     -999.0,     -999.0,9,     -999.0,   9.6893,    34.8460,2,-999.0000,9,     -999.0,9
33RO20150410,     P16N.1,      80,          2,         16,         16,2,20150501,       2236,     6.4989,  -151.1000,       5184,   400.3,   9.0458,  34.6505,2,  34.6505,2,     25.5,2,    21.7,2,   37.30,2,   36.60,2,    0.00,2,    2.74,2,   0.275,2,   0.146,6,   0.029,6,  2270.4,2,  2306.8,2,   7.4135,6,    25.01,-999.000,9,-999.0000,9, -999.00,9,   9.0405, -999.00,9,  -999.0,9,  -999.0,-999.000,9,-999.000,  -999.0,9, -999.00,9,     57.371,3, -999.00,9,-999.000,-999.0000, -999.00,     -999.0,     -999.0,9,     -999.0,     -999.0,9,     -999.0,  -999.0,9,     -999.0,     -999.0,9,     -999.0,   9.0019,    34.8139,2,-999.0000,9,     -999.0,9
33RO20150410,     P16N.1,      80,          2,         15,         15,2,20150501,       2236,     6.4989,  -151.1000,       5184,   500.5,   8.0519,  34.6002,2,  34.6009,2,      9.6,2,    10.0,2,   46.40,2,   38.80,2,    0.01,2,    2.99,2,   0.062,2,   0.033,2,   0.023,2,  2292.7,2,  2314.0,2,   7.3724,2,    24.98,-999.000,9,-999.0000,9, -999.00,9,   8.0549, -999.00,9,  -999.0,9,  -999.0,-999.000,9,-999.000,  -999.0,9, -999.00,9,     65.289,3, -999.00,9,-999.000,-999.0000, -999.00,     -999.0,     -999.0,9,     -999.0,     -999.0,9,     -999.0,  -999.0,9,     -999.0,     -999.0,9,     -999.0,   8.0004,    34.7641,2,-999.0000,9,     -999.0,9
33RO20150410,     P16N.1,      80,          2,         14,         14,2,20150501,       2236,     6.4989,  -151.1000,       5184,   650.9,   6.6024,  34.5669,2,  34.5664,2,     14.1,2,    14.3,2,   58.80,2,   42.30,2,    0.00,2,    3.17,2,   0.015,2,   0.006,2,       0,2,  2309.2,2,  2326.8,2,   7.3570,6,    25.00,-999.000,9,-999.0000,9, -999.00,9,   6.6032, -999.00,9,  -999.0,9,  -999.0,-999.000,9,-999.000,  -999.0,9, -999.00,9,     57.424,3, -999.00,9,-999.000,-999.0000, -999.00,     -999.0,     -999.0,9,     -999.0,     -999.0,9,     -999.0,  -999.0,9,     -999.0,     -999.0,9,     -999.0,   6.5418,    34.7294,2,-999.0000,9,     -999.0,9
33RO20150410,     P16N.1,      80,          2,         13,         13,2,20150501,       2236,     6.4989,  -151.1000,       5184,   799.2,   5.7554,  34.5576,2,  34.5567,2,     23.9,2,    23.3,2,   69.70,2,   43.10,2,    0.00,2,    3.21,2,   0.001,2,   0.002,2,       0,2,  2310.6,2,  2337.7,2,   7.3640,2,    24.98,-999.000,9,-999.0000,9, -999.00,9,   5.7537, -999.00,9,  -999.0,9,  -999.0,-999.000,9,-999.000,  -999.0,9, -999.00,9,     51.077,3, -999.00,9,-999.000,-999.0000, -999.00,     -999.0,     -999.0,9,     -999.0,     -999.0,9,     -999.0,  -999.0,9,     -999.0,     -999.0,9,     -999.0,   5.6853,    34.7197,6,-999.0000,9,     -999.0,9
33RO20150410,     P16N.1,      80,          2,         12,         12,2,20150501,       2236,     6.4989,  -151.1000,       5184,   949.7,   4.9916,  34.5554,2,  34.5574,2,     41.4,2,    41.3,2,   81.20,2,   42.70,2,    0.00,2,    3.17,2,-999.000,9,-999.000,9,-999.000,9,  2320.8,2,  2351.5,2,   7.3931,6,    25.01,-999.000,9,-999.0000,9, -999.00,9,   4.9928, -999.00,9,  -999.0,9,  -999.0,-999.000,9,-999.000,  -999.0,9, -999.00,9,     -999.0,9, -999.00,9,-999.000,-999.0000, -999.00,     -999.0,     -999.0,9,     -999.0,     -999.0,9,     -999.0,  -999.0,9,     -999.0,     -999.0,9,     -999.0,   4.9128,    34.7203,2,-999.0000,9,     -999.0,9
33RO20150410,     P16N.1,      80,          2,         11,         11,2,20150501,       2236,     6.4989,  -151.1000,       5184,  1097.4,   4.3299,  34.5667,2,  34.5656,2,     47.5,2,    47.0,2,   94.90,2,   42.60,2,    0.00,2,    3.16,2,   0.003,2,   0.001,2,       0,2,  2333.8,2,  2366.4,2,   7.3986,2,    24.98,-999.000,9,-999.0000,9, -999.00,9,   4.3307, -999.00,9,  -999.0,9,  -999.0,-999.000,9,-999.000,  -999.0,9, -999.00,9,     40.247,3, -999.00,9,-999.000,-999.0000, -999.00,     -999.0,     -999.0,9,     -999.0,     -999.0,9,     -999.0,  -999.0,9,     -999.0,     -999.0,9,     -999.0,   4.2432,    34.7286,2,-999.0000,9,     -999.0,9
33RO20150410,     P16N.1,      80,          2,         10,         10,2,20150501,       2236,     6.4989,  -151.1000,       5184,  1300.8,   3.5009,  34.5897,2,  34.5891,2,     60.1,2,    60.4,2,  112.70,2,   41.90,2,    0.00,2,    3.10,2,-999.000,9,-999.000,9,-999.000,9,  2346.4,2,  2387.7,2,   7.4221,2,    24.98,-999.000,9,-999.0000,9, -999.00,9,   3.5022, -999.00,9,  -999.0,9,  -999.0,-999.000,9,-999.000,  -999.0,9, -999.00,9,     -999.0,9, -999.00,9,-999.000,-999.0000, -999.00,     -999.0,     -999.0,9,     -999.0,     -999.0,9,     -999.0,  -999.0,9,     -999.0,     -999.0,9,     -999.0,   3.4043,    34.7522,2,-999.0000,9,     -999.0,9
33RO20150410,     P16N.1,      80,          2,          9,          9,2,20150501,       2236,     6.4989,  -151.1000,       5184,  1600.1,   2.7244,  34.6189,2,  34.6175,2,     79.4,2,    80.4,2,  128.90,2,   40.60,2,    0.00,2,    2.99,2,  -0.003,2,  -0.001,2,       0,2,  2350.5,2,  2405.4,2,   7.4582,2,    24.98,-999.000,9,-999.0000,9, -999.00,9,   2.7272, -999.00,9,  -999.0,9,  -999.0,-999.000,9,-999.000,  -999.0,9, -999.00,9,     31.133,3, -999.00,9,-999.000,-999.0000, -999.00,     -999.0,     -999.0,9,     -999.0,     -999.0,9,     -999.0,  -999.0,9,     -999.0,     -999.0,9,     -999.0,   2.6114,    34.7807,2,-999.0000,9,     -999.0,9
33RO20150410,     P16N.1,      80,          2,          8,          8,2,20150501,       2236,     6.4989,  -151.1000,       5184,  1997.2,   2.1177,  34.6486,2,  34.6475,2,    100.6,2,   102.0,2,  152.10,3,   39.00,2,    0.00,2,    2.84,2,-999.000,9,-999.000,9,-999.000,9,  2352.8,2,  2421.4,2,   7.5005,2,    24.98,-999.000,9,-999.0000,9, -999.00,9,   2.1174, -999.00,9,  -999.0,9,  -999.0,-999.000,9,-999.000,  -999.0,9, -999.00,9,     -999.0,9, -999.00,9,-999.000,-999.0000, -999.00,     -999.0,     -999.0,9,     -999.0,     -999.0,9,     -999.0,  -999.0,9,     -999.0,     -999.0,9,     -999.0,   1.9796,    34.8109,2,-999.0000,9,     -999.0,9
33RO20150410,     P16N.1,      80,          2,          7,          7,2,20150501,       2236,     6.4989,  -151.1000,       5184,  2399.9,   1.8845,  34.6644,2,  34.6643,2,    111.4,2,   112.2,2,  146.00,2,   38.40,2,    0.00,2,    2.80,2,  -0.003,2,  -0.001,2,       0,2,  2354.0,2,  2429.5,2,   7.5207,2,    24.99,-999.000,9,-999.0000,9, -999.00,9,   1.8845, -999.00,9,  -999.0,9,  -999.0,-999.000,9,-999.000,  -999.0,9, -999.00,9,     23.732,3, -999.00,9,-999.000,-999.0000, -999.00,     -999.0,     -999.0,9,     -999.0,     -999.0,9,     -999.0,  -999.0,9,     -999.0,     -999.0,9,     -999.0,   1.7153,    34.8277,6,-999.0000,9,     -999.0,9
33RO20150410,     P16N.1,      80,          2,          6,          6,2,20150501,       2236,     6.4989,  -151.1000,       5184,  2800.8,   1.7794,  34.6716,2,  34.6735,2,    117.1,2,   118.0,2,  148.70,2,   38.00,2,    0.00,2,    2.74,2,-999.000,9,-999.000,9,-999.000,9,  2352.8,2,  2432.9,2,   7.5309,2,    25.01,-999.000,9,-999.0000,9, -999.00,9,   1.7796, -999.00,9,  -999.0,9,  -999.0,-999.000,9,-999.000,  -999.0,9, -999.00,9,     -999.0,9, -999.00,9,-999.000,-999.0000, -999.00,     -999.0,     -999.0,9,     -999.0,     -999.0,9,     -999.0,  -999.0,9,     -999.0,     -999.0,9,     -999.0,   1.5755,    34.8370,2,-999.0000,9,     -999.0,9
33RO20150410,     P16N.1,      80,          2,          5,          5,2,20150501,       2236,     6.4989,  -151.1000,       5184,  3301.8,   1.5680,  34.6825,2,  34.6808,2,    135.2,2,   135.4,2,  147.90,2,   37.00,2,    0.00,2,    2.65,2,  -0.002,2,  -0.001,2,       0,2,  2342.4,2,  2432.3,2,   7.5588,2,    24.99,-999.000,9,-999.0000,9, -999.00,9,   1.5680, -999.00,9,  -999.0,9,  -999.0,-999.000,9,-999.000,  -999.0,9, -999.00,9,     21.297,3, -999.00,9,-999.000,-999.0000, -999.00,     -999.0,     -999.0,9,     -999.0,     -999.0,9,     -999.0,  -999.0,9,     -999.0,     -999.0,9,     -999.0,   1.3202,    34.8443,2,-999.0000,9,     -999.0,9
33RO20150410,     P16N.1,      80,          2,          4,          4,2,20150501,       2236,     6.4989,  -151.1000,       5184,  3801.3,   1.4384,  34.6914,2,  34.6918,2,    154.8,2,   152.9,2,  140.20,6,   35.60,6,    0.00,6,    2.55,6,-999.000,9,-999.000,9,-999.000,9,  2324.5,2,  2424.7,6,   7.5877,2,    25.00,-999.000,9,-999.0000,9, -999.00,9,   1.4379, -999.00,9,  -999.0,9,  -999.0,-999.000,9,-999.000,  -999.0,9, -999.00,9,     -999.0,9, -999.00,9,-999.000,-999.0000, -999.00,     -999.0,     -999.0,9,     -999.0,     -999.0,9,     -999.0,  -999.0,9,     -999.0,     -999.0,9,     -999.0,   1.1424,    34.8554,2,-999.0000,9,     -999.0,9
33RO20150410,     P16N.1,      80,          2,          3,          3,2,20150501,       2236,     6.4989,  -151.1000,       5184,  4300.3,   1.3869,  34.6964,2,  34.6965,2,    165.6,2,   166.1,2,  135.50,6,   34.90,6,    0.00,6,    2.49,6,  -0.004,2,   0.000,6,       0,6,  2314.8,2,  2417.9,2,   7.5981,2,    25.00,-999.000,9,-999.0000,9, -999.00,9,   1.3871, -999.00,9,  -999.0,9,  -999.0,-999.000,9,-999.000,  -999.0,9, -999.00,9,     19.757,3, -999.00,9,-999.000,-999.0000, -999.00,     -999.0,     -999.0,9,     -999.0,     -999.0,9,     -999.0,  -999.0,9,     -999.0,     -999.0,9,     -999.0,   1.0380,    34.8601,2,-999.0000,9,     -999.0,9
33RO20150410,     P16N.1,      80,          2,          2,          2,2,20150501,       2236,     6.4989,  -151.1000,       5184,  4801.5,   1.4102,  34.6974,2,  34.6961,2,    170.7,2,   170.2,2,  133.30,6,   34.60,6,    0.00,6,    2.47,6,-999.000,9,-999.000,9,-999.000,9,  2310.1,2,  2411.5,2,   7.5983,6,    25.02,-999.000,9,-999.0000,9, -999.00,9,   1.4102, -999.00,9,  -999.0,9,  -999.0,-999.000,9,-999.000,  -999.0,9, -999.00,9,     -999.0,9, -999.00,9,-999.000,-999.0000, -999.00,     -999.0,     -999.0,9,     -999.0,     -999.0,9,     -999.0,  -999.0,9,     -999.0,     -999.0,9,     -999.0,   1.0027,    34.8597,2,-999.0000,9,     -999.0,9
33RO20150410,     P16N.1,      80,          2,          1,          1,2,20150501,       2236,     6.4989,  -151.1000,       5184,  5172.9,   1.4527,  34.6973,2,  34.6971,2,    171.0,2,   170.0,2,  131.70,6,   34.60,6,    0.00,6,    2.46,6,  -0.002,4,   0.003,2,       0,2,  2306.8,6,  2411.2,2,   7.5982,2,    24.85,-999.000,9,-999.0000,9, -999.00,9,   1.4526, -999.00,9,  -999.0,9,  -999.0,-999.000,9,-999.000,  -999.0,9, -999.00,9,     19.371,3, -999.00,9,-999.000,-999.0000, -999.00,     -999.0,     -999.0,9,     -999.0,     -999.0,9,     -999.0,  -999.0,9,     -999.0,     -999.0,9,     -999.0,   0.9987,    34.8607,2,-999.0000,9,     -999.0,9