BOTTLE,20210709CCHSIOCBG
EXPOCODE,SECT_ID,STNNBR,CASTNO,SAMPNO,BTLNBR,BTLNBR_FLAG_W,DATE,TIME,LATITUDE,LONGITUDE,DEPTH,CTDPRS,CTDTMP,CTDSAL,CTDSAL_FLAG_W,SALNTY,SALNTY_FLAG_W,CTDOXY,CTDOXY_FLAG_W,OXYGEN,OXYGEN_FLAG_W,SILCAT,SILCAT_FLAG_W,NITRAT,NITRAT_FLAG_W,NITRIT,NITRIT_FLAG_W,PHSPHT,PHSPHT_FLAG_W,CFC-11,CFC-11_FLAG_W,CFC-12,CFC-12_FLAG_W,SF6,SF6_FLAG_W,TCARBN,TCARBN_FLAG_W,ALKALI,ALKALI_FLAG_W,PH_TOT,PH_TOT_FLAG_W,PH_TMP,TRITUM,TRITUM_FLAG_W,HELIUM,HELIUM_FLAG_W,DELHE3,DELHE3_FLAG_W,REFTMP,DELC13,DELC13_FLAG_W,DELC14,DELC14_FLAG_W,C14ERR,NEON,NEON_FLAG_W,NEONER,DOC,DOC_FLAG_W,TDN,TDN_FLAG_W,N2O,N2O_FLAG_W,ARGON,ARGON_FLAG_W,TRITER,HELIER,DELHER,ARGONER,KRYPTON,KRYPTON_FLAG_W,KRYPTONER,XENON,XENON_FLAG_W,XENONER,14C-DOC,14C-DOC_FLAG_W,14C-DOCERR,13C-DOC,13C-DOC_FLAG_W,13C-DOCERR,THETA,SALTREF,SALTREF_FLAG_W,SBE35,SBE35_FLAG_W,CHLORA,CHLORA_FLAG_W
,,,,,,,,,,,METERS,DBAR,ITS-90,PSS-78,,PSS-78,,UMOL/KG,,UMOL/KG,,UMOL/KG,,UMOL/KG,,UMOL/KG,,UMOL/KG,,PMOL/KG,,PMOL/KG,,FMOL/KG,,UMOL/KG,,UMOL/KG,,,,DEG C,TU,,NMOL/KG,,PERCNT,,DEG C,/MILLE,,/MILLE,,/MILLE,NMOL/KG,,NMOL/KG,UMOL/KG,,UMOL/KG,,NMOL/KG,,UMOL/KG,,TU,NMOL/KG,PERCNT,UMOL/KG,NMOL/KG,,NMOL/KG,NMOL/KG,,NMOL/KG,/MILLE,,/MILLE,/MILLE,,/MILLE,DEG C,G/KG,,ITS-90,,MG/M3,
33RO20150410,     P16N.1,     102,          1,         24,         24,3,20150508,       1704,    17.4998,  -152.0000,       5222,    15.3,  25.0796,  34.5271,2,  34.5277,2,    205.6,2,  -999.0,9,    1.10,2,    0.00,2,    0.01,2,    0.22,2,-999.000,9,-999.000,9,-999.000,9,  -999.0,9,  -999.0,9,-999.0000,9,  -999.00,-999.000,9,-999.0000,9, -999.00,9,  25.0786, -999.00,9,  -999.0,9,  -999.0,-999.000,9,-999.000,  -999.0,9, -999.00,9,     -999.0,9, -999.00,9,-999.000,-999.0000, -999.00,     -999.0,     -999.0,9,     -999.0,     -999.0,9,     -999.0,  -999.0,9,     -999.0,     -999.0,9,     -999.0,  25.0763,    34.6905,2,-999.0000,9,     -999.0,9
33RO20150410,     P16N.1,     102,          1,         23,         23,2,20150508,       1704,    17.4998,  -152.0000,       5222,    33.3,  25.0737,  34.5265,2,  34.5288,2,    206.1,2,   205.3,2,    1.10,2,    0.00,2,    0.01,2,    0.22,2,-999.000,9,-999.000,9,-999.000,9,  1968.9,6,  2278.0,2,   8.0606,6,    25.01,-999.000,9,-999.0000,9, -999.00,9,  25.0740, -999.00,9,  -999.0,9,  -999.0,-999.000,9,-999.000,  -999.0,9, -999.00,9,     -999.0,9, -999.00,9,-999.000,-999.0000, -999.00,     -999.0,     -999.0,9,     -999.0,     -999.0,9,     -999.0,  -999.0,9,     -999.0,     -999.0,9,     -999.0,  25.0665,    34.6916,6,-999.0000,9,     -999.0,9
33RO20150410,     P16N.1,     102,          1,         22,         22,2,20150508,       1704,    17.4998,  -152.0000,       5222,    58.0,  25.0752,  34.5266,2,  34.5277,2,    205.3,2,   205.0,2,    1.10,2,    0.00,2,    0.01,2,    0.23,2,-999.000,9,-999.000,9,-999.000,9,  1969.1,2,  2275.8,2,   8.0607,6,    25.00,-999.000,9,-999.0000,9, -999.00,9,  25.0745, -999.00,9,  -999.0,9,  -999.0,-999.000,9,-999.000,  -999.0,9, -999.00,9,     -999.0,9, -999.00,9,-999.000,-999.0000, -999.00,     -999.0,     -999.0,9,     -999.0,     -999.0,9,     -999.0,  -999.0,9,     -999.0,     -999.0,9,     -999.0,  25.0626,    34.6905,2,-999.0000,9,     -999.0,9
33RO20150410,     P16N.1,     102,          1,         21,         21,2,20150508,       1704,    17.4998,  -152.0000,       5222,    82.6,  23.9670,  34.7133,2,  34.7071,2,    212.0,2,   212.6,2,    1.50,2,    0.00,2,    0.01,2,    0.30,2,-999.000,9,-999.000,9,-999.000,9,  2003.3,2,  2294.3,2,   8.0257,2,    24.98,-999.000,9,-999.0000,9, -999.00,9,  23.9361, -999.00,9,  -999.0,9,  -999.0,-999.000,9,-999.000,  -999.0,9, -999.00,9,     -999.0,9, -999.00,9,-999.000,-999.0000, -999.00,     -999.0,     -999.0,9,     -999.0,     -999.0,9,     -999.0,  -999.0,9,     -999.0,     -999.0,9,     -999.0,  23.9497,    34.8707,2,-999.0000,9,     -999.0,9
33RO20150410,     P16N.1,     102,          1,         20,         20,2,20150508,       1704,    17.4998,  -152.0000,       5222,   117.7,  18.7279,  34.5840,2,  34.5849,2,    178.1,2,   180.0,2,    4.10,2,    3.40,2,    0.46,2,    0.63,2,-999.000,9,-999.000,9,-999.000,9,  2079.9,2,  2290.4,6,   7.8733,2,    25.00,-999.000,9,-999.0000,9, -999.00,9,  18.7277, -999.00,9,  -999.0,9,  -999.0,-999.000,9,-999.000,  -999.0,9, -999.00,9,     -999.0,9, -999.00,9,-999.000,-999.0000, -999.00,     -999.0,     -999.0,9,     -999.0,     -999.0,9,     -999.0,  -999.0,9,     -999.0,     -999.0,9,     -999.0,  18.7072,    34.7479,2,-999.0000,9,     -999.0,9
33RO20150410,     P16N.1,     102,          1,         19,         19,2,20150508,       1704,    17.4998,  -152.0000,       5222,   174.5,  14.8727,  34.3496,2,  34.3518,2,    162.0,2,   163.1,2,    7.80,2,    9.70,2,    0.02,2,    0.90,2,-999.000,9,-999.000,9,-999.000,9,  2098.5,2,  2267.9,2,   7.7869,6,    25.01,-999.000,9,-999.0000,9, -999.00,9,  14.8773, -999.00,9,  -999.0,9,  -999.0,-999.000,9,-999.000,  -999.0,9, -999.00,9,     -999.0,9, -999.00,9,-999.000,-999.0000, -999.00,     -999.0,     -999.0,9,     -999.0,     -999.0,9,     -999.0,  -999.0,9,     -999.0,     -999.0,9,     -999.0,  14.8466,    34.5138,6,-999.0000,9,     -999.0,9
33RO20150410,     P16N.1,     102,          1,         18,         18,2,20150508,       1704,    17.4998,  -152.0000,       5222,   249.3,  11.0205,  34.1791,2,  34.4407,4,    155.5,2,   154.9,2,   18.50,2,   17.80,2,    0.01,2,    1.44,2,-999.000,9,-999.000,9,-999.000,9,  2136.1,2,  2262.7,2,   7.6739,2,    25.00,-999.000,9,-999.0000,9, -999.00,9,  11.0187, -999.00,9,  -999.0,9,  -999.0,-999.000,9,-999.000,  -999.0,9, -999.00,9,     -999.0,9, -999.00,9,-999.000,-999.0000, -999.00,     -999.0,     -999.0,9,     -999.0,     -999.0,9,     -999.0,  -999.0,9,     -999.0,     -999.0,9,     -999.0,  10.9898,    34.6032,3,-999.0000,9,     -999.0,9
33RO20150410,     P16N.1,     102,          1,         17,         17,2,20150508,       1704,    17.4998,  -152.0000,       5222,   332.7,  10.0712,  34.4078,2,  34.4114,2,     66.6,2,    47.8,2,   32.80,2,   28.70,2,    0.01,2,    2.40,2,-999.000,9,-999.000,9,-999.000,9,  2236.0,2,  2285.8,2,   7.4511,2,    25.00,-999.000,9,-999.0000,9, -999.00,9,  10.0785, -999.00,9,  -999.0,9,  -999.0,-999.000,9,-999.000,  -999.0,9, -999.00,9,     -999.0,9, -999.00,9,-999.000,-999.0000, -999.00,     -999.0,     -999.0,9,     -999.0,     -999.0,9,     -999.0,  -999.0,9,     -999.0,     -999.0,9,     -999.0,  10.0324,    34.5736,2,-999.0000,9,     -999.0,9
33RO20150410,     P16N.1,     102,          1,         16,         16,2,20150508,       1704,    17.4998,  -152.0000,       5222,   433.9,   7.8384,  34.3563,2,  34.3560,2,     32.2,2,    32.1,2,   49.90,2,   34.90,2,    0.01,2,    2.72,2,-999.000,9,-999.000,9,-999.000,9,  2269.3,2,  2300.3,2,   7.3849,2,    25.00,-999.000,9,-999.0000,9, -999.00,9,   7.8390, -999.00,9,  -999.0,9,  -999.0,-999.000,9,-999.000,  -999.0,9, -999.00,9,     -999.0,9, -999.00,9,-999.000,-999.0000, -999.00,     -999.0,     -999.0,9,     -999.0,     -999.0,9,     -999.0,  -999.0,9,     -999.0,     -999.0,9,     -999.0,   7.7948,    34.5180,2,-999.0000,9,     -999.0,9
33RO20150410,     P16N.1,     102,          1,         15,         15,2,20150508,       1704,    17.4998,  -152.0000,       5222,   550.4,   6.5391,  34.4187,2,  34.4179,2,     21.0,2,    20.9,2,   65.60,2,   39.20,2,    0.01,2,    2.98,2,-999.000,9,-999.000,9,-999.000,9,  2297.9,2,  2320.8,2,   7.3601,6,    25.02,-999.000,9,-999.0000,9, -999.00,9,   6.5383, -999.00,9,  -999.0,9,  -999.0,-999.000,9,-999.000,  -999.0,9, -999.00,9,     -999.0,9, -999.00,9,-999.000,-999.0000, -999.00,     -999.0,     -999.0,9,     -999.0,     -999.0,9,     -999.0,  -999.0,9,     -999.0,     -999.0,9,     -999.0,   6.4886,    34.5802,2,-999.0000,9,     -999.0,9
33RO20150410,     P16N.1,     102,          1,         14,         14,2,20150508,       1704,    17.4998,  -152.0000,       5222,   700.0,   5.6657,  34.4514,2,  34.4601,2,     27.9,2,    27.4,2,   77.60,2,   40.80,2,    0.01,2,    3.05,2,-999.000,9,-999.000,9,-999.000,9,  2312.9,2,  2335.8,2,   7.3693,2,    25.00,-999.000,9,-999.0000,9, -999.00,9,   5.6642, -999.00,9,  -999.0,9,  -999.0,-999.000,9,-999.000,  -999.0,9, -999.00,9,     -999.0,9, -999.00,9,-999.000,-999.0000, -999.00,     -999.0,     -999.0,9,     -999.0,     -999.0,9,     -999.0,  -999.0,9,     -999.0,     -999.0,9,     -999.0,   5.6054,    34.6226,2,-999.0000,9,     -999.0,9
33RO20150410,     P16N.1,     102,          1,         13,         13,2,20150508,       1704,    17.4998,  -152.0000,       5222,   849.7,   4.9887,  34.4904,2,  34.4897,2,     34.6,2,    34.2,2,   88.40,2,   41.90,2,    0.01,2,    3.07,2,-999.000,9,-999.000,9,-999.000,9,  2322.4,6,  2349.3,2,   7.3784,2,    25.00,-999.000,9,-999.0000,9, -999.00,9,   4.9896, -999.00,9,  -999.0,9,  -999.0,-999.000,9,-999.000,  -999.0,9, -999.00,9,     -999.0,9, -999.00,9,-999.000,-999.0000, -999.00,     -999.0,     -999.0,9,     -999.0,     -999.0,9,     -999.0,  -999.0,9,     -999.0,     -999.0,9,     -999.0,   4.9189,    34.6524,2,-999.0000,9,     -999.0,9
33RO20150410,     P16N.1,     102,          1,         12,         12,2,20150508,       1704,    17.4998,  -152.0000,       5222,   999.0,   4.4491,  34.5187,2,  34.5182,2,     40.3,2,    39.8,2,   98.00,2,   42.20,2,    0.00,2,    3.09,2,-999.000,9,-999.000,9,-999.000,9,  2330.8,2,  2361.9,2,   7.3862,2,    25.00,-999.000,9,-999.0000,9, -999.00,9,   4.4505, -999.00,9,  -999.0,9,  -999.0,-999.000,9,-999.000,  -999.0,9, -999.00,9,     -999.0,9, -999.00,9,-999.000,-999.0000, -999.00,     -999.0,     -999.0,9,     -999.0,     -999.0,9,     -999.0,  -999.0,9,     -999.0,     -999.0,9,     -999.0,   4.3700,    34.6810,2,-999.0000,9,     -999.0,9
33RO20150410,     P16N.1,     102,          1,         11,         11,2,20150508,       1704,    17.4998,  -152.0000,       5222,  1168.1,   3.9735,  34.5409,2,  34.5400,2,     46.8,2,    47.0,2,  107.20,2,   42.30,2,    0.01,2,    3.08,2,-999.000,9,-999.000,9,-999.000,9,  2338.2,2,  2373.7,2,   7.3971,2,    25.00,-999.000,9,-999.0000,9, -999.00,9,   3.9737, -999.00,9,  -999.0,9,  -999.0,-999.000,9,-999.000,  -999.0,9, -999.00,9,     -999.0,9, -999.00,9,-999.000,-999.0000, -999.00,     -999.0,     -999.0,9,     -999.0,     -999.0,9,     -999.0,  -999.0,9,     -999.0,     -999.0,9,     -999.0,   3.8838,    34.7029,2,-999.0000,9,     -999.0,9
33RO20150410,     P16N.1,     102,          1,         10,         10,2,20150508,       1704,    17.4998,  -152.0000,       5222,  1401.0,   3.3485,  34.5651,2,  34.5647,2,     55.0,2,    54.0,2,  121.20,2,   42.20,2,    0.01,2,    3.05,2,-999.000,9,-999.000,9,-999.000,9,  2348.9,2,  2388.9,2,   7.4069,2,    24.99,-999.000,9,-999.0000,9, -999.00,9,   3.3482, -999.00,9,  -999.0,9,  -999.0,-999.000,9,-999.000,  -999.0,9, -999.00,9,     -999.0,9, -999.00,9,-999.000,-999.0000, -999.00,     -999.0,     -999.0,9,     -999.0,     -999.0,9,     -999.0,  -999.0,9,     -999.0,     -999.0,9,     -999.0,   3.2451,    34.7277,2,-999.0000,9,     -999.0,9
33RO20150410,     P16N.1,     102,          1,          9,          9,2,20150508,       1704,    17.4998,  -152.0000,       5222,  1713.6,   2.6230,  34.5994,2,  34.5986,2,     74.4,2,    71.3,3,  137.60,2,   41.20,2,    0.01,2,    2.96,2,-999.000,9,-999.000,9,-999.000,9,  2354.4,2,  2406.2,2,   7.4369,6,    25.01,-999.000,9,-999.0000,9, -999.00,9,   2.6235, -999.00,9,  -999.0,9,  -999.0,-999.000,9,-999.000,  -999.0,9, -999.00,9,     -999.0,9, -999.00,9,-999.000,-999.0000, -999.00,     -999.0,     -999.0,9,     -999.0,     -999.0,9,     -999.0,  -999.0,9,     -999.0,     -999.0,9,     -999.0,   2.5018,    34.7617,2,-999.0000,9,     -999.0,9
33RO20150410,     P16N.1,     102,          1,          8,          8,2,20150508,       1704,    17.4998,  -152.0000,       5222,  2134.2,   2.0445,  34.6359,2,  34.6331,2,     95.6,2,    95.4,2,  147.80,2,   39.70,2,    0.01,2,    2.81,2,-999.000,9,-999.000,9,-999.000,9,  2351.0,2,  2418.5,2,   7.4827,2,    25.01,-999.000,9,-999.0000,9, -999.00,9,   2.0444, -999.00,9,  -999.0,9,  -999.0,-999.000,9,-999.000,  -999.0,9, -999.00,9,     -999.0,9, -999.00,9,-999.000,-999.0000, -999.00,     -999.0,     -999.0,9,     -999.0,     -999.0,9,     -999.0,  -999.0,9,     -999.0,     -999.0,9,     -999.0,   1.8959,    34.7964,3,-999.0000,9,     -999.0,9
33RO20150410,     P16N.1,     102,          1,          7,          7,2,20150508,       1704,    17.4998,  -152.0000,       5222,  2532.7,   1.7966,  34.6556,2,  34.6567,2,    110.1,2,   109.8,2,  151.90,2,   38.70,2,    0.01,2,    2.74,2,-999.000,9,-999.000,9,-999.000,9,  2347.1,2,  2424.9,2,   7.5106,2,    25.00,-999.000,9,-999.0000,9, -999.00,9,   1.7965, -999.00,9,  -999.0,9,  -999.0,-999.000,9,-999.000,  -999.0,9, -999.00,9,     -999.0,9, -999.00,9,-999.000,-999.0000, -999.00,     -999.0,     -999.0,9,     -999.0,     -999.0,9,     -999.0,  -999.0,9,     -999.0,     -999.0,9,     -999.0,   1.6171,    34.8201,2,-999.0000,9,     -999.0,9
33RO20150410,     P16N.1,     102,          1,          6,          6,2,20150508,       1704,    17.4998,  -152.0000,       5222,  2933.1,   1.6567,  34.6682,2,  34.6728,4,    119.8,2,   119.9,2,  154.20,2,   38.10,2,    0.00,2,    2.69,2,-999.000,9,-999.000,9,-999.000,9,  2345.9,2,  2428.9,2,   7.5294,2,    25.03,-999.000,9,-999.0000,9, -999.00,9,   1.6568, -999.00,9,  -999.0,9,  -999.0,-999.000,9,-999.000,  -999.0,9, -999.00,9,     -999.0,9, -999.00,9,-999.000,-999.0000, -999.00,     -999.0,     -999.0,9,     -999.0,     -999.0,9,     -999.0,  -999.0,9,     -999.0,     -999.0,9,     -999.0,   1.4428,    34.8363,3,-999.0000,9,     -999.0,9
33RO20150410,     P16N.1,     102,          1,          5,          5,2,20150508,       1704,    17.4998,  -152.0000,       5222,  3333.7,   1.5654,  34.6759,2,  34.6818,4,    128.0,2,   128.3,2,  155.30,2,   37.60,2,    0.00,2,    2.63,2,-999.000,9,-999.000,9,-999.000,9,  2340.1,2,  2430.3,2,   7.5442,6,    25.00,-999.000,9,-999.0000,9, -999.00,9,   1.5652, -999.00,9,  -999.0,9,  -999.0,-999.000,9,-999.000,  -999.0,9, -999.00,9,     -999.0,9, -999.00,9,-999.000,-999.0000, -999.00,     -999.0,     -999.0,9,     -999.0,     -999.0,9,     -999.0,  -999.0,9,     -999.0,     -999.0,9,     -999.0,   1.3144,    34.8454,3,-999.0000,9,     -999.0,9
33RO20150410,     P16N.1,     102,          1,          4,          4,2,20150508,       1704,    17.4998,  -152.0000,       5222,  3733.0,   1.4941,  34.6817,2,  34.6813,2,    139.1,2,   142.8,3,  152.70,6,   36.80,6,    0.00,6,    2.58,6,-999.000,9,-999.000,9,-999.000,9,  2332.3,2,  2426.0,2,   7.5598,2,    25.00,-999.000,9,-999.0000,9, -999.00,9,   1.4941, -999.00,9,  -999.0,9,  -999.0,-999.000,9,-999.000,  -999.0,9, -999.00,9,     -999.0,9, -999.00,9,-999.000,-999.0000, -999.00,     -999.0,     -999.0,9,     -999.0,     -999.0,9,     -999.0,  -999.0,9,     -999.0,     -999.0,9,     -999.0,   1.2039,    34.8448,2,-999.0000,9,     -999.0,9
33RO20150410,     P16N.1,     102,          1,          3,          3,2,20150508,       1704,    17.4998,  -152.0000,       5222,  4167.2,   1.4549,  34.6884,2,  34.6887,2,    150.9,2,   150.7,2,  146.20,6,   35.90,6,    0.01,6,    2.52,6,-999.000,9,-999.000,9,-999.000,9,  2323.7,2,  2420.7,6,   7.5760,2,    25.00,-999.000,9,-999.0000,9, -999.00,9,   1.4550, -999.00,9,  -999.0,9,  -999.0,-999.000,9,-999.000,  -999.0,9, -999.00,9,     -999.0,9, -999.00,9,-999.000,-999.0000, -999.00,     -999.0,     -999.0,9,     -999.0,     -999.0,9,     -999.0,  -999.0,9,     -999.0,     -999.0,9,     -999.0,   1.1188,    34.8523,2,-999.0000,9,     -999.0,9
33RO20150410,     P16N.1,     102,          1,          2,          2,2,20150508,       1704,    17.4998,  -152.0000,       5222,  4667.3,   1.4363,  34.6936,2,  34.6933,2,    162.0,2,   161.8,2,  139.10,6,   35.10,6,    0.01,6,    2.46,6,-999.000,9,-999.000,9,-999.000,9,  2310.4,2,  2414.2,2,   7.5880,2,    24.88,-999.000,9,-999.0000,9, -999.00,9,   1.4363, -999.00,9,  -999.0,9,  -999.0,-999.000,9,-999.000,  -999.0,9, -999.00,9,     -999.0,9, -999.00,9,-999.000,-999.0000, -999.00,     -999.0,     -999.0,9,     -999.0,     -999.0,9,     -999.0,  -999.0,9,     -999.0,     -999.0,9,     -999.0,   1.0438,    34.8569,2,-999.0000,9,     -999.0,9
33RO20150410,     P16N.1,     102,          1,          1,          1,2,20150508,       1704,    17.4998,  -152.0000,       5222,  5213.2,   1.4339,  34.6980,2,  34.7039,4,    171.9,2,   171.4,2,  132.70,6,   34.50,6,    0.01,6,    2.40,6,-999.000,9,-999.000,9,-999.000,9,  2299.4,6,  2404.4,2,   7.5958,2,    25.03,-999.000,9,-999.0000,9, -999.00,9,   1.4338, -999.00,9,  -999.0,9,  -999.0,-999.000,9,-999.000,  -999.0,9, -999.00,9,     -999.0,9, -999.00,9,-999.000,-999.0000, -999.00,     -999.0,     -999.0,9,     -999.0,     -999.0,9,     -999.0,  -999.0,9,     -999.0,     -999.0,9,     -999.0,   0.9756,    34.8675,3,-999.0000,9,     -999.0,9