BOTTLE,20210709CCHSIOCBG
EXPOCODE,SECT_ID,STNNBR,CASTNO,SAMPNO,BTLNBR,BTLNBR_FLAG_W,DATE,TIME,LATITUDE,LONGITUDE,DEPTH,CTDPRS,CTDTMP,CTDSAL,CTDSAL_FLAG_W,SALNTY,SALNTY_FLAG_W,CTDOXY,CTDOXY_FLAG_W,OXYGEN,OXYGEN_FLAG_W,SILCAT,SILCAT_FLAG_W,NITRAT,NITRAT_FLAG_W,NITRIT,NITRIT_FLAG_W,PHSPHT,PHSPHT_FLAG_W,CFC-11,CFC-11_FLAG_W,CFC-12,CFC-12_FLAG_W,SF6,SF6_FLAG_W,TCARBN,TCARBN_FLAG_W,ALKALI,ALKALI_FLAG_W,PH_TOT,PH_TOT_FLAG_W,PH_TMP,TRITUM,TRITUM_FLAG_W,HELIUM,HELIUM_FLAG_W,DELHE3,DELHE3_FLAG_W,REFTMP,DELC13,DELC13_FLAG_W,DELC14,DELC14_FLAG_W,C14ERR,NEON,NEON_FLAG_W,NEONER,DOC,DOC_FLAG_W,TDN,TDN_FLAG_W,N2O,N2O_FLAG_W,ARGON,ARGON_FLAG_W,TRITER,HELIER,DELHER,ARGONER,KRYPTON,KRYPTON_FLAG_W,KRYPTONER,XENON,XENON_FLAG_W,XENONER,14C-DOC,14C-DOC_FLAG_W,14C-DOCERR,13C-DOC,13C-DOC_FLAG_W,13C-DOCERR,THETA,SALTREF,SALTREF_FLAG_W,SBE35,SBE35_FLAG_W,CHLORA,CHLORA_FLAG_W
,,,,,,,,,,,METERS,DBAR,ITS-90,PSS-78,,PSS-78,,UMOL/KG,,UMOL/KG,,UMOL/KG,,UMOL/KG,,UMOL/KG,,UMOL/KG,,PMOL/KG,,PMOL/KG,,FMOL/KG,,UMOL/KG,,UMOL/KG,,,,DEG C,TU,,NMOL/KG,,PERCNT,,DEG C,/MILLE,,/MILLE,,/MILLE,NMOL/KG,,NMOL/KG,UMOL/KG,,UMOL/KG,,NMOL/KG,,UMOL/KG,,TU,NMOL/KG,PERCNT,UMOL/KG,NMOL/KG,,NMOL/KG,NMOL/KG,,NMOL/KG,/MILLE,,/MILLE,/MILLE,,/MILLE,DEG C,G/KG,,ITS-90,,MG/M3,
33RO20150410,     P16N.1,      81,          1,         24,         24,2,20150502,       0533,     6.9991,  -151.2198,       5289,    15.5,  28.0854,  34.2301,2,  34.2338,2,    196.6,2,   197.0,2,    1.00,2,    0.10,2,    0.01,2,    0.26,2,   1.478,2,   0.952,2,   1.231,2,  1931.7,6,  2251.7,2,   8.0940,6,    25.01,-999.000,9,-999.0000,9, -999.00,9,  28.0843, -999.00,9,  -999.0,9,  -999.0,-999.000,9,-999.000,    63.6,2,    4.10,2,      6.047,3, -999.00,9,-999.000,-999.0000, -999.00,     -999.0,     -999.0,9,     -999.0,     -999.0,9,     -999.0,  -999.0,9,     -999.0,     -999.0,9,     -999.0,  28.0817,    34.3952,6,-999.0000,9,     -999.0,9
33RO20150410,     P16N.1,      81,          1,         23,         23,2,20150502,       0533,     6.9991,  -151.2198,       5289,    33.1,  28.1872,  34.3267,2,  34.3282,2,    196.9,2,   196.6,2,    1.10,2,    0.10,2,    0.00,2,    0.26,2,   1.478,2,   0.950,2,   1.248,2,  1936.9,2,  2258.2,6,   8.0944,2,    25.00,-999.000,9,-999.0000,9, -999.00,9,  28.1865, -999.00,9,  -999.0,9,  -999.0,-999.000,9,-999.000,    61.7,2,    4.80,2,      6.164,3, -999.00,9,-999.000,-999.0000, -999.00,     -999.0,     -999.0,9,     -999.0,     -999.0,9,     -999.0,  -999.0,9,     -999.0,     -999.0,9,     -999.0,  28.1794,    34.4901,2,-999.0000,9,     -999.0,9
33RO20150410,     P16N.1,      81,          1,         22,         22,2,20150502,       0533,     6.9991,  -151.2198,       5289,    56.1,  28.2686,  34.4002,2,  34.4051,2,    196.4,2,   204.7,4,    1.00,2,    0.10,2,    0.00,2,    0.30,2,   1.474,6,   0.949,6,   1.219,6,  1943.1,2,  2263.4,2,   8.0922,2,    24.98,-999.000,9,-999.0000,9, -999.00,9,  28.2679, -999.00,9,  -999.0,9,  -999.0,-999.000,9,-999.000,    64.4,2,    3.80,2,      6.247,3, -999.00,9,-999.000,-999.0000, -999.00,     -999.0,     -999.0,9,     -999.0,     -999.0,9,     -999.0,  -999.0,9,     -999.0,     -999.0,9,     -999.0,  28.2553,    34.5674,2,-999.0000,9,     -999.0,9
33RO20150410,     P16N.1,      81,          1,         21,         21,2,20150502,       0533,     6.9991,  -151.2198,       5289,    71.1,  22.0415,  34.7315,2,  34.7353,2,    208.1,2,   204.8,2,    2.60,2,    0.60,2,    0.03,2,    0.44,2,   2.067,2,   1.270,2,   1.391,2,  2042.4,2,  2299.1,2,   7.9697,6,    24.98,-999.000,9,-999.0000,9, -999.00,9,  22.0466, -999.00,9,  -999.0,9,  -999.0,-999.000,9,-999.000,    63.7,2,    4.40,2,     13.401,3, -999.00,9,-999.000,-999.0000, -999.00,     -999.0,     -999.0,9,     -999.0,     -999.0,9,     -999.0,  -999.0,9,     -999.0,     -999.0,9,     -999.0,  22.0275,    34.8991,2,-999.0000,9,     -999.0,9
33RO20150410,     P16N.1,      81,          1,         20,         20,2,20150502,       0533,     6.9991,  -151.2198,       5289,   117.4,  12.5809,  34.5714,2,  34.5713,2,     48.9,2,    50.4,2,   22.60,2,   26.80,2,    0.02,2,    2.13,2,   1.467,2,   0.830,2,   0.494,2,  2214.7,2,  2286.8,2,   7.5295,2,    24.98,-999.000,9,-999.0000,9, -999.00,9,  12.5886, -999.00,9,  -999.0,9,  -999.0,-999.000,9,-999.000,    46.1,2,   30.00,2,     70.094,3, -999.00,9,-999.000,-999.0000, -999.00,     -999.0,     -999.0,9,     -999.0,     -999.0,9,     -999.0,  -999.0,9,     -999.0,     -999.0,9,     -999.0,  12.5652,    34.7344,2,-999.0000,9,     -999.0,9
33RO20150410,     P16N.1,      81,          1,         19,         19,2,20150502,       0533,     6.9991,  -151.2198,       5289,   175.7,  10.8637,  34.7060,2,  34.7043,2,     23.4,2,    25.6,2,   29.00,2,   33.20,2,    0.00,2,    2.47,2,   0.792,2,   0.429,2,   0.156,2,  2251.2,2,  2300.1,2,   7.4563,2,    24.99,-999.000,9,-999.0000,9, -999.00,9,  10.8729, -999.00,9,  -999.0,9,  -999.0,-999.000,9,-999.000,    42.2,2,   35.50,2,     67.645,3, -999.00,9,-999.000,-999.0000, -999.00,     -999.0,     -999.0,9,     -999.0,     -999.0,9,     -999.0,  -999.0,9,     -999.0,     -999.0,9,     -999.0,  10.8423,    34.8679,2,-999.0000,9,     -999.0,9
33RO20150410,     P16N.1,      81,          1,         18,         18,2,20150502,       0533,     6.9991,  -151.2198,       5289,   250.8,  10.1249,  34.6984,2,  34.6982,2,     34.1,2,    33.8,2,   30.70,2,   33.70,2,    0.01,2,    2.46,2,   0.641,2,   0.347,2,   0.129,2,  2252.9,2,  2303.7,2,   7.4617,2,    24.98,-999.000,9,-999.0000,9, -999.00,9,  10.1159, -999.00,9,  -999.0,9,  -999.0,-999.000,9,-999.000,    42.8,2,   35.80,2,     55.065,3, -999.00,9,-999.000,-999.0000, -999.00,     -999.0,     -999.0,9,     -999.0,     -999.0,9,     -999.0,  -999.0,9,     -999.0,     -999.0,9,     -999.0,  10.0956,    34.8618,2,-999.0000,9,     -999.0,9
33RO20150410,     P16N.1,      81,          1,         17,         17,2,20150502,       0533,     6.9991,  -151.2198,       5289,   328.5,   9.5250,  34.6706,2,  34.6695,2,     18.0,2,    22.2,2,   34.20,2,   35.70,2,    0.01,2,    2.61,2,   0.386,2,   0.209,2,   0.087,2,  2267.8,2,  2304.6,2,   7.4240,2,    24.99,-999.000,9,-999.0000,9, -999.00,9,   9.5244, -999.00,9,  -999.0,9,  -999.0,-999.000,9,-999.000,    43.2,2, -999.00,9,     57.810,3, -999.00,9,-999.000,-999.0000, -999.00,     -999.0,     -999.0,9,     -999.0,     -999.0,9,     -999.0,  -999.0,9,     -999.0,     -999.0,9,     -999.0,   9.4879,    34.8330,2,-999.0000,9,     -999.0,9
33RO20150410,     P16N.1,      81,          1,         16,         16,2,20150502,       0533,     6.9991,  -151.2198,       5289,   432.7,   8.6467,  34.6267,2,  34.6261,2,     17.1,2,    16.8,2,   40.60,2,   37.60,2,    0.01,2,    2.81,2,   0.157,2,   0.084,2,       0,2,  2280.4,6,  2309.8,2,   7.3959,6,    25.01,-999.000,9,-999.0000,9, -999.00,9,   8.6452, -999.00,9,  -999.0,9,  -999.0,-999.000,9,-999.000,    40.3,2, -999.00,9,     61.254,3, -999.00,9,-999.000,-999.0000, -999.00,     -999.0,     -999.0,9,     -999.0,     -999.0,9,     -999.0,  -999.0,9,     -999.0,     -999.0,9,     -999.0,   8.6004,    34.7894,2,-999.0000,9,     -999.0,9
33RO20150410,     P16N.1,      81,          1,         15,         15,2,20150502,       0533,     6.9991,  -151.2198,       5289,   548.8,   7.5136,  34.5901,2,  34.5891,2,     11.1,2,    11.5,2,   50.40,2,   40.40,2,    0.01,2,    3.08,2,   0.037,2,   0.021,2,       0,2,  2299.2,2,  2319.1,2,   7.3658,2,    24.97,-999.000,9,-999.0000,9, -999.00,9,   7.5142, -999.00,9,  -999.0,9,  -999.0,-999.000,9,-999.000,    40.8,2, -999.00,9,     62.302,3, -999.00,9,-999.000,-999.0000, -999.00,     -999.0,     -999.0,9,     -999.0,     -999.0,9,     -999.0,  -999.0,9,     -999.0,     -999.0,9,     -999.0,   7.4591,    34.7523,2,-999.0000,9,     -999.0,9
33RO20150410,     P16N.1,      81,          1,         14,         14,2,20150502,       0533,     6.9991,  -151.2198,       5289,   699.5,   6.2761,  34.5620,2,  34.5609,2,     15.8,2,    16.2,2,   63.20,2,   43.10,2,    0.01,2,    3.18,2,   0.017,2,   0.005,2,       0,2,  2314.6,2,  2332.0,2,   7.3563,6,    25.01,-999.000,9,-999.0000,9, -999.00,9,   6.2758, -999.00,9,  -999.0,9,  -999.0,-999.000,9,-999.000,    39.6,2, -999.00,9,     55.979,3, -999.00,9,-999.000,-999.0000, -999.00,     -999.0,     -999.0,9,     -999.0,     -999.0,9,     -999.0,  -999.0,9,     -999.0,     -999.0,9,     -999.0,   6.2125,    34.7238,2,-999.0000,9,     -999.0,9
33RO20150410,     P16N.1,      81,          1,         13,         13,2,20150502,       0533,     6.9991,  -151.2198,       5289,   851.3,   5.3520,  34.5541,2,  34.5532,2,     33.3,2,    34.6,2,   74.60,2,   43.10,2,    0.00,2,    3.14,2,   0.003,2,   0.002,2,       0,2,  2318.8,2,  2344.1,2,   7.3827,2,    24.98,-999.000,9,-999.0000,9, -999.00,9,   5.3510, -999.00,9,  -999.0,9,  -999.0,-999.000,9,-999.000,    39.2,2, -999.00,9,     46.046,3, -999.00,9,-999.000,-999.0000, -999.00,     -999.0,     -999.0,9,     -999.0,     -999.0,9,     -999.0,  -999.0,9,     -999.0,     -999.0,9,     -999.0,   5.2796,    34.7162,2,-999.0000,9,     -999.0,9
33RO20150410,     P16N.1,      81,          1,         12,         12,2,20150502,       0533,     6.9991,  -151.2198,       5289,   991.0,   4.7666,  34.5583,2,  34.5566,2,     40.3,2,    39.3,2,   85.80,2,   42.90,2,    0.00,2,    3.16,2,   0.005,2,   0.001,2,       0,2,  2329.9,2,  2357.1,2,   7.3872,6,    25.00,-999.000,9,-999.0000,9, -999.00,9,   4.7673, -999.00,9,  -999.0,9,  -999.0,-999.000,9,-999.000,    37.2,2, -999.00,9,     43.159,3, -999.00,9,-999.000,-999.0000, -999.00,     -999.0,     -999.0,9,     -999.0,     -999.0,9,     -999.0,  -999.0,9,     -999.0,     -999.0,9,     -999.0,   4.6858,    34.7195,2,-999.0000,9,     -999.0,9
33RO20150410,     P16N.1,      81,          1,         11,         11,2,20150502,       0533,     6.9991,  -151.2198,       5289,  1166.9,   4.0452,  34.5738,2,  34.5727,2,     49.8,2,    50.0,2,  100.90,2,   42.70,2,    0.00,2,    3.14,2,   0.004,2,   0.001,2,       0,2,  2339.8,2,  2372.2,2,   7.4034,2,    24.99,-999.000,9,-999.0000,9, -999.00,9,   4.0427, -999.00,9,  -999.0,9,  -999.0,-999.000,9,-999.000,    37.8,2, -999.00,9,     39.246,3, -999.00,9,-999.000,-999.0000, -999.00,     -999.0,     -999.0,9,     -999.0,     -999.0,9,     -999.0,  -999.0,9,     -999.0,     -999.0,9,     -999.0,   3.9549,    34.7357,2,-999.0000,9,     -999.0,9
33RO20150410,     P16N.1,      81,          1,         10,         10,2,20150502,       0533,     6.9991,  -151.2198,       5289,  1391.8,   3.3260,  34.5963,2,  34.5951,2,     64.5,2,    64.5,2,  115.80,2,   41.80,2,    0.00,2,    3.07,2,   0.003,2,  -0.001,2,       0,2,  2348.9,2,  2391.4,2,   7.4301,2,    24.99,-999.000,9,-999.0000,9, -999.00,9,   3.3257, -999.00,9,  -999.0,9,  -999.0,-999.000,9,-999.000,    36.6,2, -999.00,9,     34.381,3, -999.00,9,-999.000,-999.0000, -999.00,     -999.0,     -999.0,9,     -999.0,     -999.0,9,     -999.0,  -999.0,9,     -999.0,     -999.0,9,     -999.0,   3.2236,    34.7582,2,-999.0000,9,     -999.0,9
33RO20150410,     P16N.1,      81,          1,          9,          9,2,20150502,       0533,     6.9991,  -151.2198,       5289,  1722.6,   2.5432,  34.6263,2,  34.6257,2,     85.5,2,    86.2,2,  132.60,2,   40.50,2,    0.00,2,    2.94,2,   0.002,2,   0.000,2,       0,2,  2354.4,2,  2411.2,2,   7.4680,2,    25.00,-999.000,9,-999.0000,9, -999.00,9,   2.5426, -999.00,9,  -999.0,9,  -999.0,-999.000,9,-999.000,    36.6,2, -999.00,9,     29.272,3, -999.00,9,-999.000,-999.0000, -999.00,     -999.0,     -999.0,9,     -999.0,     -999.0,9,     -999.0,  -999.0,9,     -999.0,     -999.0,9,     -999.0,   2.4223,    34.7890,2,-999.0000,9,     -999.0,9
33RO20150410,     P16N.1,      81,          1,          8,          8,2,20150502,       0533,     6.9991,  -151.2198,       5289,  2133.6,   2.0006,  34.6551,2,  34.6538,2,    102.9,2,   103.8,2,  144.10,2,   39.30,2,    0.00,2,    2.81,2,   0.000,2,   0.000,2,       0,2,  2357.5,2,  2426.1,2,   7.5024,2,    24.99,-999.000,9,-999.0000,9, -999.00,9,   2.0011, -999.00,9,  -999.0,9,  -999.0,-999.000,9,-999.000,    36.9,2, -999.00,9,     25.242,3, -999.00,9,-999.000,-999.0000, -999.00,     -999.0,     -999.0,9,     -999.0,     -999.0,9,     -999.0,  -999.0,9,     -999.0,     -999.0,9,     -999.0,   1.8527,    34.8172,2,-999.0000,9,     -999.0,9
33RO20150410,     P16N.1,      81,          1,          7,          7,2,20150502,       0533,     6.9991,  -151.2198,       5289,  2533.7,   1.8389,  34.6678,2,  34.6672,2,    112.0,2,   112.7,2,  147.70,2,   38.50,2,    0.00,2,    2.78,2,   0.002,2,   0.000,2,    0.02,3,  2357.7,2,  2432.4,2,   7.5214,2,    24.99,-999.000,9,-999.0000,9, -999.00,9,   1.8386, -999.00,9,  -999.0,9,  -999.0,-999.000,9,-999.000,    36.4,2, -999.00,9,     23.424,3, -999.00,9,-999.000,-999.0000, -999.00,     -999.0,     -999.0,9,     -999.0,     -999.0,9,     -999.0,  -999.0,9,     -999.0,     -999.0,9,     -999.0,   1.6585,    34.8307,2,-999.0000,9,     -999.0,9
33RO20150410,     P16N.1,      81,          1,          6,          6,2,20150502,       0533,     6.9991,  -151.2198,       5289,  2932.2,   1.7160,  34.6750,2,  34.6736,2,    122.5,2,   122.9,2,  147.70,2,   37.90,2,    0.00,2,    2.70,2,   0.002,2,   0.001,2,       0,2,  2352.0,2,  2432.5,2,   7.5389,2,    24.99,-999.000,9,-999.0000,9, -999.00,9,   1.7160, -999.00,9,  -999.0,9,  -999.0,-999.000,9,-999.000,    35.7,2, -999.00,9,     22.396,3, -999.00,9,-999.000,-999.0000, -999.00,     -999.0,     -999.0,9,     -999.0,     -999.0,9,     -999.0,  -999.0,9,     -999.0,     -999.0,9,     -999.0,   1.5009,    34.8371,6,-999.0000,9,     -999.0,9
33RO20150410,     P16N.1,      81,          1,          5,          5,2,20150502,       0533,     6.9991,  -151.2198,       5289,  3367.0,   1.5497,  34.6838,2,  34.6827,2,    137.9,2,   138.3,2,  146.00,2,   36.90,2,    0.00,2,    2.64,2,  -0.002,2,  -0.001,2,       0,2,  2341.8,2,  2430.6,2,   7.5631,2,    25.00,-999.000,9,-999.0000,9, -999.00,9,   1.5500, -999.00,9,  -999.0,9,  -999.0,-999.000,9,-999.000,    36.3,2, -999.00,9,     21.253,3, -999.00,9,-999.000,-999.0000, -999.00,     -999.0,     -999.0,9,     -999.0,     -999.0,9,     -999.0,  -999.0,9,     -999.0,     -999.0,9,     -999.0,   1.2958,    34.8463,2,-999.0000,9,     -999.0,9
33RO20150410,     P16N.1,      81,          1,          4,          4,2,20150502,       0533,     6.9991,  -151.2198,       5289,  3860.0,   1.4267,  34.6923,2,  34.6905,2,    157.8,2,   156.8,2,  138.80,6,   35.60,6,    0.00,6,    2.52,6,  -0.002,2,  -0.001,2,       0,2,  2324.2,2,  2423.5,2,   7.5892,6,    24.99,-999.000,9,-999.0000,9, -999.00,9,   1.4269, -999.00,9,  -999.0,9,  -999.0,-999.000,9,-999.000,    36.3,2, -999.00,9,     20.316,3, -999.00,9,-999.000,-999.0000, -999.00,     -999.0,     -999.0,9,     -999.0,     -999.0,9,     -999.0,  -999.0,9,     -999.0,     -999.0,9,     -999.0,   1.1248,    34.8541,2,-999.0000,9,     -999.0,9
33RO20150410,     P16N.1,      81,          1,          3,          3,2,20150502,       0533,     6.9991,  -151.2198,       5289,  4364.1,   1.3822,  34.6968,2,  34.6957,2,    166.9,2,   167.5,2,  133.90,6,   34.90,6,    0.00,6,    2.46,6,   0.001,6,   0.000,6,       0,6,  2312.1,2,  2415.0,2,   7.5994,2,    25.02,-999.000,9,-999.0000,9, -999.00,9,   1.3823, -999.00,9,  -999.0,9,  -999.0,-999.000,9,-999.000,    36.7,2, -999.00,9,     19.889,3, -999.00,9,-999.000,-999.0000, -999.00,     -999.0,     -999.0,9,     -999.0,     -999.0,9,     -999.0,  -999.0,9,     -999.0,     -999.0,9,     -999.0,   1.0262,    34.8593,2,-999.0000,9,     -999.0,9
33RO20150410,     P16N.1,      81,          1,          2,          2,2,20150502,       0533,     6.9991,  -151.2198,       5289,  4866.2,   1.4224,  34.6971,2,  34.6955,2,    169.9,2,   169.8,2,  132.70,6,   34.70,6,    0.00,6,    2.46,6,   0.000,2,   0.001,2,       0,2,  2309.9,2,  2412.7,6,   7.5977,2,    25.01,-999.000,9,-999.0000,9, -999.00,9,   1.4224, -999.00,9,  -999.0,9,  -999.0,-999.000,9,-999.000,    41.2,3, -999.00,9,     19.710,3, -999.00,9,-999.000,-999.0000, -999.00,     -999.0,     -999.0,9,     -999.0,     -999.0,9,     -999.0,  -999.0,9,     -999.0,     -999.0,9,     -999.0,   1.0068,    34.8591,2,-999.0000,9,     -999.0,9
33RO20150410,     P16N.1,      81,          1,          1,          1,2,20150502,       0533,     6.9991,  -151.2198,       5289,  5280.1,   1.4656,  34.6971,2,  34.6975,2,    171.3,2,   169.6,2,  132.80,6,   34.70,6,    0.01,6,    2.44,6,   0.001,2,   0.001,2,       0,2,  2310.6,6,  2411.8,2,   7.5980,2,    25.02,-999.000,9,-999.0000,9, -999.00,9,   1.4653, -999.00,9,  -999.0,9,  -999.0,-999.000,9,-999.000,    37.6,2, -999.00,9,     19.868,3, -999.00,9,-999.000,-999.0000, -999.00,     -999.0,     -999.0,9,     -999.0,     -999.0,9,     -999.0,  -999.0,9,     -999.0,     -999.0,9,     -999.0,   0.9979,    34.8611,2,-999.0000,9,     -999.0,9