BOTTLE,20210709CCHSIOCBG
EXPOCODE,SECT_ID,STNNBR,CASTNO,SAMPNO,BTLNBR,BTLNBR_FLAG_W,DATE,TIME,LATITUDE,LONGITUDE,DEPTH,CTDPRS,CTDTMP,CTDSAL,CTDSAL_FLAG_W,SALNTY,SALNTY_FLAG_W,CTDOXY,CTDOXY_FLAG_W,OXYGEN,OXYGEN_FLAG_W,SILCAT,SILCAT_FLAG_W,NITRAT,NITRAT_FLAG_W,NITRIT,NITRIT_FLAG_W,PHSPHT,PHSPHT_FLAG_W,CFC-11,CFC-11_FLAG_W,CFC-12,CFC-12_FLAG_W,SF6,SF6_FLAG_W,TCARBN,TCARBN_FLAG_W,ALKALI,ALKALI_FLAG_W,PH_TOT,PH_TOT_FLAG_W,PH_TMP,TRITUM,TRITUM_FLAG_W,HELIUM,HELIUM_FLAG_W,DELHE3,DELHE3_FLAG_W,REFTMP,DELC13,DELC13_FLAG_W,DELC14,DELC14_FLAG_W,C14ERR,NEON,NEON_FLAG_W,NEONER,DOC,DOC_FLAG_W,TDN,TDN_FLAG_W,N2O,N2O_FLAG_W,ARGON,ARGON_FLAG_W,TRITER,HELIER,DELHER,ARGONER,KRYPTON,KRYPTON_FLAG_W,KRYPTONER,XENON,XENON_FLAG_W,XENONER,14C-DOC,14C-DOC_FLAG_W,14C-DOCERR,13C-DOC,13C-DOC_FLAG_W,13C-DOCERR,THETA,SALTREF,SALTREF_FLAG_W,SBE35,SBE35_FLAG_W,CHLORA,CHLORA_FLAG_W
,,,,,,,,,,,METERS,DBAR,ITS-90,PSS-78,,PSS-78,,UMOL/KG,,UMOL/KG,,UMOL/KG,,UMOL/KG,,UMOL/KG,,UMOL/KG,,PMOL/KG,,PMOL/KG,,FMOL/KG,,UMOL/KG,,UMOL/KG,,,,DEG C,TU,,NMOL/KG,,PERCNT,,DEG C,/MILLE,,/MILLE,,/MILLE,NMOL/KG,,NMOL/KG,UMOL/KG,,UMOL/KG,,NMOL/KG,,UMOL/KG,,TU,NMOL/KG,PERCNT,UMOL/KG,NMOL/KG,,NMOL/KG,NMOL/KG,,NMOL/KG,/MILLE,,/MILLE,/MILLE,,/MILLE,DEG C,G/KG,,ITS-90,,MG/M3,
33RO20150410,     P16N.1,      27,          1,         24,         24,2,20150418,       1913,    -4.4995,  -151.0011,       4916,     5.5,  28.5914,  35.2481,2,  35.2464,2,    199.9,2,   199.5,2,    1.60,2,    4.20,2,    0.11,2,    0.40,4,   1.442,6,   0.952,6,    1.28,6,  2016.9,6,  2320.0,2,   8.0393,6,    25.01,-999.000,9,-999.0000,9, -999.00,9,  28.6170, -999.00,9,  -999.0,9,  -999.0,-999.000,9,-999.000,    63.0,2,    8.90,2,      6.161,3, -999.00,9,-999.000,-999.0000, -999.00,     -999.0,     -999.0,9,     -999.0,     -999.0,9,     -999.0,  -999.0,9,     -999.0,     -999.0,9,     -999.0,  28.5901,    35.4126,2,-999.0000,2,      0.087,2
33RO20150410,     P16N.1,      27,          1,         23,         23,2,20150418,       1913,    -4.4995,  -151.0011,       4916,    20.1,  28.4502,  35.2595,2,  35.2582,2,    199.6,2,   200.2,2,    1.50,2,    4.00,2,    0.10,2,    0.40,4,   1.435,2,   0.921,2,   1.317,2,  2015.3,2,  2320.5,2,   8.0397,2,    25.01,-999.000,9,-999.0000,9, -999.00,9,  28.4521, -999.00,9,  -999.0,9,  -999.0,-999.000,9,-999.000,    63.9,2,    8.80,2,      6.264,3, -999.00,9,-999.000,-999.0000, -999.00,     -999.0,     -999.0,9,     -999.0,     -999.0,9,     -999.0,  -999.0,9,     -999.0,     -999.0,9,     -999.0,  28.4454,    35.4244,2,-999.0000,2,      0.117,2
33RO20150410,     P16N.1,      27,          1,         22,         22,2,20150418,       1913,    -4.4995,  -151.0011,       4916,    42.1,  28.4101,  35.2580,2,  35.2578,2,    199.9,2,   200.2,2,    1.80,2,    4.00,2,    0.10,2,    0.38,4,   1.446,2,   0.985,2,   1.308,2,  2016.6,2,  2319.8,2,   8.0389,6,    25.01,-999.000,9,-999.0000,9, -999.00,9,  28.4124, -999.00,9,  -999.0,9,  -999.0,-999.000,9,-999.000,    62.2,2,    9.00,2,      6.279,3, -999.00,9,-999.000,-999.0000, -999.00,     -999.0,     -999.0,9,     -999.0,     -999.0,9,     -999.0,  -999.0,9,     -999.0,     -999.0,9,     -999.0,  28.4001,    35.4240,2,-999.0000,2,      0.112,2
33RO20150410,     P16N.1,      27,          1,         21,         21,2,20150418,       1913,    -4.4995,  -151.0011,       4916,    68.1,  28.3273,  35.2821,2,  35.2878,2,    199.8,2,   200.7,2,    2.50,2,    4.20,2,    0.10,2,    0.40,4,   1.447,2,   0.970,2,   1.277,2,  2018.0,2,  2322.3,2,   8.0381,2,    25.00,-999.000,9,-999.0000,9, -999.00,9,  28.3265, -999.00,9,  -999.0,9,  -999.0,-999.000,9,-999.000,    66.0,2,    9.30,2,      6.280,3, -999.00,9,-999.000,-999.0000, -999.00,     -999.0,     -999.0,9,     -999.0,     -999.0,9,     -999.0,  -999.0,9,     -999.0,     -999.0,9,     -999.0,  28.3111,    35.4542,2,-999.0000,2,      0.169,2
33RO20150410,     P16N.1,      27,          1,         20,         20,2,20150418,       1913,    -4.4995,  -151.0011,       4916,    92.1,  28.2174,  35.3881,2,  35.4084,2,    198.9,2,   197.3,2,    3.60,2,    4.50,2,    0.11,2,    0.45,4,   1.447,2,   0.968,2,   1.287,2,  2027.7,2,  2331.0,6,   8.0366,2,    25.00,-999.000,9,-999.0000,9, -999.00,9,  28.2176, -999.00,9,  -999.0,9,  -999.0,-999.000,9,-999.000,    65.6,2,    9.60,2,      6.416,3, -999.00,9,-999.000,-999.0000, -999.00,     -999.0,     -999.0,9,     -999.0,     -999.0,9,     -999.0,  -999.0,9,     -999.0,     -999.0,9,     -999.0,  28.1955,    35.5754,2,-999.0000,2,      0.213,2
33RO20150410,     P16N.1,      27,          1,         19,         19,3,20150418,       1913,    -4.4995,  -151.0011,       4916,   132.8,  27.1358,  35.7668,2,  35.7397,2,    174.2,2,  -999.0,9,    2.20,2,    3.90,2,    1.69,2,    0.55,4,-999.000,9,-999.000,9,-999.000,9,  -999.0,9,  -999.0,9,-999.0000,9,  -999.00,-999.000,9,-999.0000,9, -999.00,9,  27.1604, -999.00,9,  -999.0,9,  -999.0,-999.000,9,-999.000,    62.6,2,   10.00,2,     -999.0,9, -999.00,9,-999.000,-999.0000, -999.00,     -999.0,     -999.0,9,     -999.0,     -999.0,9,     -999.0,  -999.0,9,     -999.0,     -999.0,9,     -999.0,  27.1051,    35.9082,2,-999.0000,2,      0.218,2
33RO20150410,     P16N.1,      27,          1,         18,         18,2,20150418,       1913,    -4.4995,  -151.0011,       4916,   199.5,  16.7057,  35.2688,2,  35.2523,4,    108.6,2,   105.7,2,    8.40,2,   16.10,2,    0.01,2,    1.26,4,   1.969,2,   1.204,2,   1.028,2,  2174.4,2,  2332.4,2,   7.7324,2,    24.99,-999.000,9,-999.0000,9, -999.00,9,  16.6972, -999.00,9,  -999.0,9,  -999.0,-999.000,9,-999.000,    46.1,2,   19.30,2,     33.855,3, -999.00,9,-999.000,-999.0000, -999.00,     -999.0,     -999.0,9,     -999.0,     -999.0,9,     -999.0,  -999.0,9,     -999.0,     -999.0,9,     -999.0,  16.6731,    35.4185,2,-999.0000,2,      0.020,2
33RO20150410,     P16N.1,      27,          1,         17,         17,2,20150418,       1913,    -4.4995,  -151.0011,       4916,   276.2,  11.6188,  34.8441,2,  34.8425,2,     29.1,2,    30.4,2,   22.80,2,   30.80,2,    0.00,2,    2.09,4,   0.790,6,   0.470,6,   0.249,6,  2245.0,2,  2299.4,2,   7.4844,6,    25.01,-999.000,9,-999.0000,9, -999.00,9,  11.6244, -999.00,9,  -999.0,9,  -999.0,-999.000,9,-999.000,    42.5,2,   34.10,2,     67.423,3, -999.00,9,-999.000,-999.0000, -999.00,     -999.0,     -999.0,9,     -999.0,     -999.0,9,     -999.0,  -999.0,9,     -999.0,     -999.0,9,     -999.0,  11.5835,    35.0068,2,-999.0000,2,     -999.0,9
33RO20150410,     P16N.1,      27,          1,         16,         16,2,20150418,       1913,    -4.4995,  -151.0011,       4916,   367.0,   9.8240,  34.7312,2,  34.7306,2,     56.2,2,    57.4,2,   26.80,2,   32.60,2,    0.00,2,    2.09,4,   0.558,2,   0.304,2,   0.095,2,  2238.3,6,  2303.7,2,   7.5035,2,    24.98,-999.000,9,-999.0000,9, -999.00,9,   9.8309, -999.00,9,  -999.0,9,  -999.0,-999.000,9,-999.000,    43.5,2, -999.00,9,     52.528,3, -999.00,9,-999.000,-999.0000, -999.00,     -999.0,     -999.0,9,     -999.0,     -999.0,9,     -999.0,  -999.0,9,     -999.0,     -999.0,9,     -999.0,   9.7817,    34.8944,6,-999.0000,2,     -999.0,9
33RO20150410,     P16N.1,      27,          1,         15,         15,2,20150418,       1913,    -4.4995,  -151.0011,       4916,   466.0,   8.4838,  34.6427,2,  34.6433,2,     69.6,2,    68.0,2,   32.40,2,   34.80,2,    0.00,2,    2.21,4,   0.413,2,   0.225,2,   0.079,2,  2243.5,2,  2304.4,2,   7.4943,2,    24.98,-999.000,9,-999.0000,9, -999.00,9,   8.4854, -999.00,9,  -999.0,9,  -999.0,-999.000,9,-999.000,    40.1,2, -999.00,9,     48.182,3, -999.00,9,-999.000,-999.0000, -999.00,     -999.0,     -999.0,9,     -999.0,     -999.0,9,     -999.0,  -999.0,9,     -999.0,     -999.0,9,     -999.0,   8.4344,    34.8066,2,-999.0000,2,     -999.0,9
33RO20150410,     P16N.1,      27,          1,         14,         14,2,20150418,       1913,    -4.4995,  -151.0011,       4916,   599.9,   7.1395,  34.5665,2,  34.5664,2,     99.9,2,    99.0,2,   37.60,2,   34.60,2,    0.00,2,    2.20,4,   0.308,2,   0.166,2,   0.026,2,  2237.7,2,  2309.5,2,   7.5269,6,    25.01,-999.000,9,-999.0000,9, -999.00,9,   7.1388, -999.00,9,  -999.0,9,  -999.0,-999.000,9,-999.000,    38.9,2, -999.00,9,     35.876,3, -999.00,9,-999.000,-999.0000, -999.00,     -999.0,     -999.0,9,     -999.0,     -999.0,9,     -999.0,  -999.0,9,     -999.0,     -999.0,9,     -999.0,   7.0814,    34.7294,2,-999.0000,2,     -999.0,9
33RO20150410,     P16N.1,      27,          1,         13,         13,2,20150418,       1913,    -4.4995,  -151.0011,       4916,   749.8,   5.7787,  34.5443,2,  34.5443,2,     64.9,2,    63.9,2,   58.00,2,   40.90,2,    0.00,2,    2.66,4,   0.015,2,   0.009,2,       0,2,  2280.5,2,  2326.0,2,   7.4384,2,    24.99,-999.000,9,-999.0000,9, -999.00,9,   5.7806, -999.00,9,  -999.0,9,  -999.0,-999.000,9,-999.000,    39.7,2, -999.00,9,     40.242,3, -999.00,9,-999.000,-999.0000, -999.00,     -999.0,     -999.0,9,     -999.0,     -999.0,9,     -999.0,  -999.0,9,     -999.0,     -999.0,9,     -999.0,   5.7131,    34.7071,2,-999.0000,2,     -999.0,9
33RO20150410,     P16N.1,      27,          1,         12,         12,2,20150418,       1913,    -4.4995,  -151.0011,       4916,   901.0,   4.9712,  34.5368,2,  34.5378,2,     92.8,2,    90.8,2,   68.80,2,   38.90,2,    0.00,2,    2.58,4,   0.025,2,   0.014,2,       0,2,  2278.8,2,  2338.8,2,   7.4831,2,    25.00,-999.000,9,-999.0000,9, -999.00,9,   4.9711, -999.00,9,  -999.0,9,  -999.0,-999.000,9,-999.000,    39.3,2, -999.00,9,     33.324,3, -999.00,9,-999.000,-999.0000, -999.00,     -999.0,     -999.0,9,     -999.0,     -999.0,9,     -999.0,  -999.0,9,     -999.0,     -999.0,9,     -999.0,   4.8969,    34.7006,2,-999.0000,2,     -999.0,9
33RO20150410,     P16N.1,      27,          1,         11,         11,2,20150418,       1913,    -4.4995,  -151.0011,       4916,  1050.5,   4.1330,  34.5518,2,  34.5528,2,    101.3,2,   101.4,2,   84.80,2,   38.60,2,    0.00,2,    2.61,4,   0.015,2,   0.009,2,       0,2,  2292.5,2,  2356.9,2,   7.4980,2,    24.99,-999.000,9,-999.0000,9, -999.00,9,   4.1345, -999.00,9,  -999.0,9,  -999.0,-999.000,9,-999.000,    39.3,2, -999.00,9,     30.329,3, -999.00,9,-999.000,-999.0000, -999.00,     -999.0,     -999.0,9,     -999.0,     -999.0,9,     -999.0,  -999.0,9,     -999.0,     -999.0,9,     -999.0,   4.0520,    34.7157,2,-999.0000,2,     -999.0,9
33RO20150410,     P16N.1,      27,          1,         10,         10,2,20150418,       1913,    -4.4995,  -151.0011,       4916,  1231.1,   3.5782,  34.5724,2,  34.5734,2,    102.7,2,   103.8,2,   98.20,2,   38.70,2,    0.00,2,    2.64,4,-999.000,9,-999.000,9,-999.000,9,  2304.8,2,  2371.1,2,   7.5001,6,    25.02,-999.000,9,-999.0000,9, -999.00,9,   3.5784, -999.00,9,  -999.0,9,  -999.0,-999.000,9,-999.000,    39.8,2, -999.00,9,     -999.0,9, -999.00,9,-999.000,-999.0000, -999.00,     -999.0,     -999.0,9,     -999.0,     -999.0,9,     -999.0,  -999.0,9,     -999.0,     -999.0,9,     -999.0,   3.4867,    34.7364,2,-999.0000,2,     -999.0,9
33RO20150410,     P16N.1,      27,          1,          9,          9,2,20150418,       1913,    -4.4995,  -151.0011,       4916,  1500.7,   2.9593,  34.6029,2,  34.6037,2,    101.1,2,   102.2,2,  116.50,2,   39.20,2,    0.00,2,    2.73,4,-999.000,9,-999.000,9,-999.000,9,  2323.4,2,  2389.5,2,   7.4964,2,    24.99,-999.000,9,-999.0000,9, -999.00,9,   2.9614, -999.00,9,  -999.0,9,  -999.0,-999.000,9,-999.000,    37.6,2, -999.00,9,     -999.0,9, -999.00,9,-999.000,-999.0000, -999.00,     -999.0,     -999.0,9,     -999.0,     -999.0,9,     -999.0,  -999.0,9,     -999.0,     -999.0,9,     -999.0,   2.8518,    34.7668,2,-999.0000,2,     -999.0,9
33RO20150410,     P16N.1,      27,          1,          8,          8,2,20150418,       1913,    -4.4995,  -151.0011,       4916,  1867.0,   2.4165,  34.6328,2,  34.6329,2,    108.3,2,   108.3,2,  131.70,2,   38.90,2,    0.00,2,    2.73,4,-999.000,9,-999.000,9,-999.000,9,  2337.8,2,  2408.8,2,   7.5078,2,    25.00,-999.000,9,-999.0000,9, -999.00,9,   2.4164, -999.00,9,  -999.0,9,  -999.0,-999.000,9,-999.000,    37.3,2, -999.00,9,     -999.0,9, -999.00,9,-999.000,-999.0000, -999.00,     -999.0,     -999.0,9,     -999.0,     -999.0,9,     -999.0,  -999.0,9,     -999.0,     -999.0,9,     -999.0,   2.2851,    34.7962,2,-999.0000,2,     -999.0,9
33RO20150410,     P16N.1,      27,          1,          7,          7,2,20150418,       1913,    -4.4995,  -151.0011,       4916,  2266.0,   2.0612,  34.6521,2,  34.6526,2,    122.2,2,   123.5,2,  136.80,2,   38.00,2,    0.00,2,    2.67,4,-999.000,9,-999.000,9,-999.000,9,  2336.7,2,  2415.3,2,   7.5321,2,    25.01,-999.000,9,-999.0000,9, -999.00,9,   2.0611, -999.00,9,  -999.0,9,  -999.0,-999.000,9,-999.000,    37.5,2, -999.00,9,     -999.0,9, -999.00,9,-999.000,-999.0000, -999.00,     -999.0,     -999.0,9,     -999.0,     -999.0,9,     -999.0,  -999.0,9,     -999.0,     -999.0,9,     -999.0,   1.9008,    34.8160,2,-999.0000,2,     -999.0,9
33RO20150410,     P16N.1,      27,          1,          6,          6,2,20150418,       1913,    -4.4995,  -151.0011,       4916,  2668.5,   1.8671,  34.6645,2,  34.6642,2,    133.0,2,   132.7,2,  138.80,2,   37.30,2,    0.00,2,    2.61,4,-999.000,9,-999.000,9,-999.000,9,  2330.6,2,  2417.9,2,   7.5492,2,    25.00,-999.000,9,-999.0000,9, -999.00,9,   1.8670, -999.00,9,  -999.0,9,  -999.0,-999.000,9,-999.000,    37.6,2, -999.00,9,     -999.0,9, -999.00,9,-999.000,-999.0000, -999.00,     -999.0,     -999.0,9,     -999.0,     -999.0,9,     -999.0,  -999.0,9,     -999.0,     -999.0,9,     -999.0,   1.6738,    34.8277,2,-999.0000,2,     -999.0,9
33RO20150410,     P16N.1,      27,          1,          5,          5,2,20150418,       1913,    -4.4995,  -151.0011,       4916,  3067.4,   1.6768,  34.6760,2,  34.6766,2,    144.2,2,   144.2,2,  140.30,2,   36.50,2,    0.00,2,    2.57,4,-999.000,9,-999.000,9,-999.000,9,  2326.3,2,  2420.0,2,   7.5667,2,    25.02,-999.000,9,-999.0000,9, -999.00,9,   1.6769, -999.00,9,  -999.0,9,  -999.0,-999.000,9,-999.000,    38.5,2, -999.00,9,     -999.0,9, -999.00,9,-999.000,-999.0000, -999.00,     -999.0,     -999.0,9,     -999.0,     -999.0,9,     -999.0,  -999.0,9,     -999.0,     -999.0,9,     -999.0,   1.4495,    34.8401,2,-999.0000,2,     -999.0,9
33RO20150410,     P16N.1,      27,          1,          4,          4,2,20150418,       1913,    -4.4995,  -151.0011,       4916,  3467.2,   1.5410,  34.6847,2,  34.6860,2,    154.5,2,   154.8,2,  139.80,6,   35.80,6,    0.00,6,    2.49,4,-999.000,9,-999.000,9,-999.000,9,  2321.6,2,  2418.7,2,   7.5818,6,    25.00,-999.000,9,-999.0000,9, -999.00,9,   1.5412, -999.00,9,  -999.0,9,  -999.0,-999.000,9,-999.000,    38.7,2, -999.00,9,     -999.0,9, -999.00,9,-999.000,-999.0000, -999.00,     -999.0,     -999.0,9,     -999.0,     -999.0,9,     -999.0,  -999.0,9,     -999.0,     -999.0,9,     -999.0,   1.2771,    34.8496,2,-999.0000,2,     -999.0,9
33RO20150410,     P16N.1,      27,          1,          3,          3,2,20150418,       1913,    -4.4995,  -151.0011,       4916,  3867.7,   1.4114,  34.6934,2,  34.6941,2,    167.3,2,   167.2,2,  136.90,6,   35.00,6,    0.00,6,    2.43,4,-999.000,9,-999.000,9,-999.000,9,  2311.2,2,  2414.4,2,   7.5956,2,    25.02,-999.000,9,-999.0000,9, -999.00,9,   1.4120, -999.00,9,  -999.0,9,  -999.0,-999.000,9,-999.000,    37.2,2, -999.00,9,     -999.0,9, -999.00,9,-999.000,-999.0000, -999.00,     -999.0,     -999.0,9,     -999.0,     -999.0,9,     -999.0,  -999.0,9,     -999.0,     -999.0,9,     -999.0,   1.1091,    34.8577,2,-999.0000,2,     -999.0,9
33RO20150410,     P16N.1,      27,          1,          2,          2,2,20150418,       1913,    -4.4995,  -151.0011,       4916,  4267.7,   1.3420,  34.6988,2,  34.6992,2,    179.5,2,   200.9,4,  130.50,6,   34.20,6,    0.00,6,    2.35,4,-999.000,9,-999.000,9,-999.000,9,  2297.3,2,  2400.3,6,   7.6016,2,    25.02,-999.000,9,-999.0000,9, -999.00,9,   1.3419, -999.00,9,  -999.0,9,  -999.0,-999.000,9,-999.000,    36.5,2, -999.00,9,     -999.0,9, -999.00,9,-999.000,-999.0000, -999.00,     -999.0,     -999.0,9,     -999.0,     -999.0,9,     -999.0,  -999.0,9,     -999.0,     -999.0,9,     -999.0,   0.9980,    34.8629,6,-999.0000,2,     -999.0,9
33RO20150410,     P16N.1,      27,          1,          1,          1,2,20150418,       1913,    -4.4995,  -151.0011,       4916,  4729.2,   1.3335,  34.7014,2,  34.7027,2,    186.6,2,   180.3,4,  126.70,6,   33.60,6,    0.00,6,    2.30,4,-999.000,9,-999.000,9,-999.000,9,  2286.5,6,  2393.4,2,   7.6055,2,    25.01,-999.000,9,-999.0000,9, -999.00,9,   1.3333, -999.00,9,  -999.0,9,  -999.0,-999.000,9,-999.000,    36.8,2, -999.00,9,     -999.0,9, -999.00,9,-999.000,-999.0000, -999.00,     -999.0,     -999.0,9,     -999.0,     -999.0,9,     -999.0,  -999.0,9,     -999.0,     -999.0,9,     -999.0,   0.9369,    34.8664,2,-999.0000,2,     -999.0,9