BOTTLE,20210709CCHSIOCBG
EXPOCODE,SECT_ID,STNNBR,CASTNO,SAMPNO,BTLNBR,BTLNBR_FLAG_W,DATE,TIME,LATITUDE,LONGITUDE,DEPTH,CTDPRS,CTDTMP,CTDSAL,CTDSAL_FLAG_W,SALNTY,SALNTY_FLAG_W,CTDOXY,CTDOXY_FLAG_W,OXYGEN,OXYGEN_FLAG_W,SILCAT,SILCAT_FLAG_W,NITRAT,NITRAT_FLAG_W,NITRIT,NITRIT_FLAG_W,PHSPHT,PHSPHT_FLAG_W,CFC-11,CFC-11_FLAG_W,CFC-12,CFC-12_FLAG_W,SF6,SF6_FLAG_W,TCARBN,TCARBN_FLAG_W,ALKALI,ALKALI_FLAG_W,PH_TOT,PH_TOT_FLAG_W,PH_TMP,TRITUM,TRITUM_FLAG_W,HELIUM,HELIUM_FLAG_W,DELHE3,DELHE3_FLAG_W,REFTMP,DELC13,DELC13_FLAG_W,DELC14,DELC14_FLAG_W,C14ERR,NEON,NEON_FLAG_W,NEONER,DOC,DOC_FLAG_W,TDN,TDN_FLAG_W,N2O,N2O_FLAG_W,ARGON,ARGON_FLAG_W,TRITER,HELIER,DELHER,ARGONER,KRYPTON,KRYPTON_FLAG_W,KRYPTONER,XENON,XENON_FLAG_W,XENONER,14C-DOC,14C-DOC_FLAG_W,14C-DOCERR,13C-DOC,13C-DOC_FLAG_W,13C-DOCERR,THETA,SALTREF,SALTREF_FLAG_W,SBE35,SBE35_FLAG_W,CHLORA,CHLORA_FLAG_W
,,,,,,,,,,,METERS,DBAR,ITS-90,PSS-78,,PSS-78,,UMOL/KG,,UMOL/KG,,UMOL/KG,,UMOL/KG,,UMOL/KG,,UMOL/KG,,PMOL/KG,,PMOL/KG,,FMOL/KG,,UMOL/KG,,UMOL/KG,,,,DEG C,TU,,NMOL/KG,,PERCNT,,DEG C,/MILLE,,/MILLE,,/MILLE,NMOL/KG,,NMOL/KG,UMOL/KG,,UMOL/KG,,NMOL/KG,,UMOL/KG,,TU,NMOL/KG,PERCNT,UMOL/KG,NMOL/KG,,NMOL/KG,NMOL/KG,,NMOL/KG,/MILLE,,/MILLE,/MILLE,,/MILLE,DEG C,G/KG,,ITS-90,,MG/M3,
33RO20150410,     P16N.1,      91,          1,         24,         24,2,20150505,       0455,    11.9996,  -152.0002,       5380,     5.6,  27.1592,  34.3641,2,  34.3643,2,    196.6,2,   197.3,2,    1.00,2,    0.00,2,    0.01,2,    0.20,2,   1.546,2,   0.988,2,   1.316,2,  1944.6,2,  2261.6,6,   8.0840,2,    25.00,   0.345,2,-999.0000,9, -999.00,9,  27.1575, -999.00,9,  -999.0,9,  -999.0,-999.000,9,-999.000,    67.5,2,    5.20,2,      6.307,3, -999.00,9,   0.003,-999.0000, -999.00,     -999.0,     -999.0,9,     -999.0,     -999.0,9,     -999.0,  -999.0,9,     -999.0,     -999.0,9,     -999.0,  27.1579,    34.5263,2,-999.0000,9,     -999.0,9
33RO20150410,     P16N.1,      91,          1,         23,         23,2,20150505,       0455,    11.9996,  -152.0002,       5380,    19.9,  27.1654,  34.3627,2,  34.3762,2,    197.6,2,   197.3,2,    1.00,2,    0.00,2,    0.00,2,    0.20,2,   1.569,2,   0.991,2,   1.349,2,  1944.5,6,  2261.4,2,   8.0839,6,    25.00,-999.000,9,-999.0000,9, -999.00,9,  27.1665, -999.00,9,  -999.0,9,  -999.0,-999.000,9,-999.000,    65.9,2,    4.40,2,      6.360,3, -999.00,9,-999.000,-999.0000, -999.00,     -999.0,     -999.0,9,     -999.0,     -999.0,9,     -999.0,  -999.0,9,     -999.0,     -999.0,9,     -999.0,  27.1608,    34.5383,2,-999.0000,9,     -999.0,9
33RO20150410,     P16N.1,      91,          1,         22,         22,2,20150505,       0455,    11.9996,  -152.0002,       5380,    41.9,  27.1708,  34.3621,2,  34.3647,2,    198.2,2,   197.2,2,    1.00,2,    0.10,2,    0.01,2,    0.22,2,   1.591,2,   1.143,3,   1.442,2,  1944.4,2,  2261.1,2,   8.0840,6,    24.99,   0.355,2,-999.0000,9, -999.00,9,  27.1695, -999.00,9,  -999.0,9,  -999.0,-999.000,9,-999.000,    67.9,2,    3.90,2,      6.473,3, -999.00,9,   0.002,-999.0000, -999.00,     -999.0,     -999.0,9,     -999.0,     -999.0,9,     -999.0,  -999.0,9,     -999.0,     -999.0,9,     -999.0,  27.1612,    34.5267,2,-999.0000,9,     -999.0,9
33RO20150410,     P16N.1,      91,          1,         21,         21,2,20150505,       0455,    11.9996,  -152.0002,       5380,    66.3,  27.1660,  34.3609,2,  34.3637,2,    196.6,2,   197.5,2,    1.00,2,    0.10,2,    0.00,2,    0.22,2,  -0.008,4,   1.027,2,   1.346,2,  1943.7,2,  2262.7,2,   8.0839,2,    24.97,   0.340,2,-999.0000,9, -999.00,9,  27.1523, -999.00,9,  -999.0,9,  -999.0,-999.000,9,-999.000,    68.2,2,    4.30,2,      6.422,3, -999.00,9,   0.002,-999.0000, -999.00,     -999.0,     -999.0,9,     -999.0,     -999.0,9,     -999.0,  -999.0,9,     -999.0,     -999.0,9,     -999.0,  27.1508,    34.5258,6,-999.0000,9,     -999.0,9
33RO20150410,     P16N.1,      91,          1,         20,         20,2,20150505,       0455,    11.9996,  -152.0002,       5380,    91.9,  20.0487,  34.5319,2,  34.5337,2,    195.8,2,   197.2,2,    3.10,2,    1.40,2,    0.05,2,    0.57,2,   2.174,2,   1.320,2,   1.442,2,  2059.4,2,  2294.4,6,   7.9181,2,    24.98,   0.453,2,   1.7805,3,   -0.22,3,  20.0541, -999.00,9,  -999.0,9,  -999.0,   7.217,3,   0.018,    65.1,2,    6.20,2,     22.613,3, -999.00,9,   0.003,   0.0046,    0.20,     -999.0,     -999.0,9,     -999.0,     -999.0,9,     -999.0,  -999.0,9,     -999.0,     -999.0,9,     -999.0,  20.0318,    34.6965,2,-999.0000,9,     -999.0,9
33RO20150410,     P16N.1,      91,          1,         19,         19,2,20150505,       0455,    11.9996,  -152.0002,       5380,   116.6,  14.0235,  34.3476,2,  34.3633,2,     90.9,2,    85.4,2,   15.30,2,   19.20,2,    0.71,2,    1.77,2,   2.223,4,   1.296,2,   0.972,2,  2175.8,2,  2272.6,2,   7.5994,2,    24.99,   0.367,2,-999.0000,9, -999.00,9,  14.0373, -999.00,9,  -999.0,9,  -999.0,-999.000,9,-999.000,    49.9,2,   21.90,2,     72.130,3, -999.00,9,   0.002,-999.0000, -999.00,     -999.0,     -999.0,9,     -999.0,     -999.0,9,     -999.0,  -999.0,9,     -999.0,     -999.0,9,     -999.0,  14.0068,    34.5253,2,-999.0000,9,     -999.0,9
33RO20150410,     P16N.1,      91,          1,         18,         18,2,20150505,       0455,    11.9996,  -152.0002,       5380,   143.1,  12.0302,  34.6128,2,  34.6136,2,     17.5,2,    12.8,2,   26.30,2,   30.50,2,    0.02,2,    2.52,2,   1.222,2,   0.678,6,   0.321,6,  2246.2,2,  2288.2,2,   7.4281,6,    24.99,   0.217,2,   1.7856,2,    7.31,2,  12.0285, -999.00,9,  -999.0,9,  -999.0,   7.432,2,   0.019,    46.6,2,   33.60,2,    113.195,3,   13.43,2,   0.003,   0.0046,    0.20,       0.03,       3.10,2,       0.01,       0.45,2,       0.00,  -999.0,9,     -999.0,     -999.0,9,     -999.0,  12.0116,    34.7769,2,-999.0000,9,     -999.0,9
33RO20150410,     P16N.1,      91,          1,         17,         17,2,20150505,       0455,    11.9996,  -152.0002,       5380,   201.3,  11.1465,  34.7098,2,  34.7080,2,      4.9,2,     7.0,2,   29.20,2,   33.50,2,    0.01,2,    2.59,2,   1.275,4,   0.398,2,   0.165,2,  2256.7,2,  2294.0,2,   7.4141,2,    24.97,   0.149,2,   1.7949,2,    7.83,2,  11.1479, -999.00,9,  -999.0,9,  -999.0,   7.513,2,   0.019,    45.8,2,   37.00,2,     81.193,3, -999.00,9,   0.003,   0.0047,    0.20,     -999.0,     -999.0,9,     -999.0,     -999.0,9,     -999.0,  -999.0,9,     -999.0,     -999.0,9,     -999.0,  11.1215,    34.8716,2,-999.0000,9,     -999.0,9
33RO20150410,     P16N.1,      91,          1,         16,         16,2,20150505,       0455,    11.9996,  -152.0002,       5380,   269.4,  10.4978,  34.7016,2,  34.7013,2,      7.0,2,     7.0,2,   31.10,2,   34.60,2,    0.01,2,    2.59,2,   0.500,2,   0.275,2,   0.072,2,  2262.9,2,  2302.8,2,   7.4090,2,    24.98,   0.109,2,   1.8055,2,    7.34,2,  10.5025, -999.00,9,  -999.0,9,  -999.0,   7.571,2,   0.019,    45.8,2,   36.90,2,     67.196,3, -999.00,9,   0.002,   0.0047,    0.20,     -999.0,     -999.0,9,     -999.0,     -999.0,9,     -999.0,  -999.0,9,     -999.0,     -999.0,9,     -999.0,  10.4656,    34.8649,2,-999.0000,9,     -999.0,9
33RO20150410,     P16N.1,      91,          1,         15,         15,2,20150505,       0455,    11.9996,  -152.0002,       5380,   467.2,   8.8167,  34.6131,2,  34.6133,2,      7.0,2,     6.3,2,   41.80,2,   36.10,2,    0.01,2,    2.88,2,   0.108,2,   0.060,2,       0,2,  2282.7,2,  2309.4,2,   7.3760,2,    24.98,   0.033,2,   1.8116,2,    7.39,2,   8.8248, -999.00,9,  -999.0,9,  -999.0,   7.628,2,   0.019,    42.1,2, -999.00,9,     68.787,3, -999.00,9,   0.002,   0.0047,    0.20,     -999.0,     -999.0,9,     -999.0,     -999.0,9,     -999.0,  -999.0,9,     -999.0,     -999.0,9,     -999.0,   8.7660,    34.7765,2,-999.0000,9,     -999.0,9
33RO20150410,     P16N.1,      91,          1,         14,         14,2,20150505,       0455,    11.9996,  -152.0002,       5380,   600.0,   7.4749,  34.5511,2,  34.5494,2,     10.2,2,    10.5,2,   53.60,2,   38.60,2,    0.01,2,    3.06,2,   0.041,2,   0.020,2,       0,2,  2297.0,2,  2319.3,2,   7.3638,2,    24.98,   0.016,2,   1.8331,2,    9.10,2,   7.4738, -999.00,9,  -999.0,9,  -999.0,   7.738,2,   0.019,    42.8,2, -999.00,9,     60.518,3, -999.00,9,   0.002,   0.0048,    0.20,     -999.0,     -999.0,9,     -999.0,     -999.0,9,     -999.0,  -999.0,9,     -999.0,     -999.0,9,     -999.0,   7.4153,    34.7123,2,-999.0000,9,     -999.0,9
33RO20150410,     P16N.1,      91,          1,         13,         13,2,20150505,       0455,    11.9996,  -152.0002,       5380,   750.4,   6.1671,  34.5280,2,  34.5272,2,     14.1,2,    13.7,2,   68.40,2,   41.70,2,    0.01,2,    3.18,2,   0.010,2,   0.004,2,       0,2,  2313.3,2,  2333.9,2,   7.3521,2,    24.98,   0.004,2,   1.8588,2,   12.14,2,   6.1671, -999.00,9,  -999.0,9,  -999.0,   7.848,2,   0.020,    43.6,2, -999.00,9,     56.337,3, -999.00,9,   0.001,   0.0048,    0.20,     -999.0,     -999.0,9,     -999.0,     -999.0,9,     -999.0,  -999.0,9,     -999.0,     -999.0,9,     -999.0,   6.0992,    34.6901,2,-999.0000,9,     -999.0,9
33RO20150410,     P16N.1,      91,          1,         12,         12,2,20150505,       0455,    11.9996,  -152.0002,       5380,   900.0,   5.2180,  34.5355,2,  34.5343,2,     27.3,2,    27.9,2,   80.40,2,   42.80,2,    0.00,2,    3.17,2,   0.004,3,   0.003,2,       0,2,  2322.6,2,  2348.2,2,   7.3699,2,    24.97,   0.001,2,   1.8774,2,   15.65,2,   5.2194, -999.00,9,  -999.0,9,  -999.0,   7.921,2,   0.020,    39.6,2, -999.00,9,     49.329,3, -999.00,9,   0.002,   0.0049,    0.20,     -999.0,     -999.0,9,     -999.0,     -999.0,9,     -999.0,  -999.0,9,     -999.0,     -999.0,9,     -999.0,   5.1421,    34.6972,2,-999.0000,9,     -999.0,9
33RO20150410,     P16N.1,      91,          1,         11,         11,2,20150505,       0455,    11.9996,  -152.0002,       5380,  1049.6,   4.5282,  34.5497,2,  34.5490,2,     40.2,2,    40.7,2,   91.70,2,   42.60,2,    0.00,2,    3.15,2,   0.001,2,   0.000,2,       0,2,  2329.6,2,  2361.1,2,   7.3906,6,    24.98,   0.001,2,-999.0000,9, -999.00,9,   4.5275, -999.00,9,  -999.0,9,  -999.0,-999.000,9,-999.000,    38.3,2, -999.00,9,     42.826,3, -999.00,9,   0.003,-999.0000, -999.00,     -999.0,     -999.0,9,     -999.0,     -999.0,9,     -999.0,  -999.0,9,     -999.0,     -999.0,9,     -999.0,   4.4441,    34.7120,2,-999.0000,9,     -999.0,9
33RO20150410,     P16N.1,      91,          1,         10,         10,2,20150505,       0455,    11.9996,  -152.0002,       5380,  1232.2,   3.9148,  34.5706,2,  34.5703,2,     50.6,2,    50.2,2,  103.20,2,   42.30,2,    0.00,2,    3.11,2,   0.001,2,   0.001,2,       0,2,  2337.3,2,  2376.7,2,   7.4057,2,    24.97,  -0.002,2,   1.9054,6,   20.73,2,   3.9157, -999.00,9,  -999.0,9,  -999.0,   8.025,6,   0.014,    36.5,2, -999.00,9,     39.064,3, -999.00,9,   0.001,   0.0035,    0.20,     -999.0,     -999.0,9,     -999.0,     -999.0,9,     -999.0,  -999.0,9,     -999.0,     -999.0,9,     -999.0,   3.8201,    34.7333,2,-999.0000,9,     -999.0,9
33RO20150410,     P16N.1,      91,          1,          9,          9,2,20150505,       0455,    11.9996,  -152.0002,       5380,  1499.4,   3.1497,  34.5954,2,  34.6054,2,     66.2,2,    66.6,2,  118.90,2,   41.30,2,    0.01,2,    3.03,2,   0.003,2,  -0.001,2,       0,2,  2347.9,2,  2394.4,2,   7.4330,2,    25.00,   0.003,2,-999.0000,9, -999.00,9,   3.1496, -999.00,9,  -999.0,9,  -999.0,-999.000,9,-999.000,    36.1,2, -999.00,9,     33.946,3, -999.00,9,   0.001,-999.0000, -999.00,     -999.0,     -999.0,9,     -999.0,     -999.0,9,     -999.0,  -999.0,9,     -999.0,     -999.0,9,     -999.0,   3.0401,    34.7686,2,-999.0000,9,     -999.0,9
33RO20150410,     P16N.1,      91,          1,          8,          8,2,20150505,       0455,    11.9996,  -152.0002,       5380,  1866.6,   2.4833,  34.6233,2,  34.6227,2,     82.7,2,    82.7,2,  133.60,2,   40.30,2,    0.00,2,    2.94,2,  -0.002,2,   0.000,2,       0,2,  2353.2,2,  2410.9,2,   7.4617,2,    24.98,  -0.001,2,   1.9331,2,   25.21,2,   2.4833, -999.00,9,  -999.0,9,  -999.0,   8.122,2,   0.020,    38.3,2, -999.00,9,     30.001,3, -999.00,9,   0.001,   0.0050,    0.20,     -999.0,     -999.0,9,     -999.0,     -999.0,9,     -999.0,  -999.0,9,     -999.0,     -999.0,9,     -999.0,   2.3510,    34.7860,2,-999.0000,9,     -999.0,9
33RO20150410,     P16N.1,      91,          1,          7,          7,2,20150505,       0455,    11.9996,  -152.0002,       5380,  2333.0,   1.9732,  34.6516,2,  34.6511,2,    102.0,2,   102.4,2,  143.90,2,   38.80,2,    0.03,2,    2.82,2,  -0.002,2,   0.000,2,       0,2,  2352.7,2,  2423.7,2,   7.4994,2,    24.98,-999.000,9,-999.0000,9, -999.00,9,   1.9732, -999.00,9,  -999.0,9,  -999.0,-999.000,9,-999.000,    36.5,2, -999.00,9,     25.810,3, -999.00,9,-999.000,-999.0000, -999.00,     -999.0,     -999.0,9,     -999.0,     -999.0,9,     -999.0,  -999.0,9,     -999.0,     -999.0,9,     -999.0,   1.8084,    34.8145,2,-999.0000,9,     -999.0,9
33RO20150410,     P16N.1,      91,          1,          6,          6,2,20150505,       0455,    11.9996,  -152.0002,       5380,  2832.2,   1.7423,  34.6700,2,  34.6687,2,    114.1,2,   114.4,2,  148.90,2,   38.10,2,    0.01,2,    2.75,2,  -0.002,2,   0.001,2,       0,2,  2352.0,6,  2429.4,2,   7.5236,2,    24.98,-999.000,9,-999.0000,9, -999.00,9,   1.7425, -999.00,9,  -999.0,9,  -999.0,-999.000,9,-999.000,    38.6,2, -999.00,9,     23.346,3, -999.00,9,-999.000,-999.0000, -999.00,     -999.0,     -999.0,9,     -999.0,     -999.0,9,     -999.0,  -999.0,9,     -999.0,     -999.0,9,     -999.0,   1.5362,    34.8322,2,-999.0000,9,     -999.0,9
33RO20150410,     P16N.1,      91,          1,          5,          5,2,20150505,       0455,    11.9996,  -152.0002,       5380,  3333.8,   1.6122,  34.6784,2,  34.6766,2,    126.4,2,   126.1,2,  150.30,2,   37.30,2,    0.01,2,    2.69,2,  -0.002,2,   0.001,2,       0,2,  2345.2,2,  2432.1,2,   7.5436,6,    25.00,-999.000,9,-999.0000,9, -999.00,9,   1.6122, -999.00,9,  -999.0,9,  -999.0,-999.000,9,-999.000,    37.1,2, -999.00,9,     22.115,3, -999.00,9,-999.000,-999.0000, -999.00,     -999.0,     -999.0,9,     -999.0,     -999.0,9,     -999.0,  -999.0,9,     -999.0,     -999.0,9,     -999.0,   1.3601,    34.8401,2,-999.0000,9,     -999.0,9
33RO20150410,     P16N.1,      91,          1,          4,          4,2,20150505,       0455,    11.9996,  -152.0002,       5380,  3832.5,   1.4743,  34.6871,2,  34.6862,2,    144.9,2,   144.9,2,  144.40,6,   36.00,6,    0.01,6,    2.58,6,   0.001,6,   0.002,6,       0,2,  2330.8,2,  2424.7,2,   7.5707,2,    24.98,-999.000,9,-999.0000,9, -999.00,9,   1.4742, -999.00,9,  -999.0,9,  -999.0,-999.000,9,-999.000,    39.1,2, -999.00,9,     20.897,3, -999.00,9,-999.000,-999.0000, -999.00,     -999.0,     -999.0,9,     -999.0,     -999.0,9,     -999.0,  -999.0,9,     -999.0,     -999.0,9,     -999.0,   1.1741,    34.8498,2,-999.0000,9,     -999.0,9
33RO20150410,     P16N.1,      91,          1,          3,          3,2,20150505,       0455,    11.9996,  -152.0002,       5380,  4333.2,   1.3914,  34.6947,2,  34.6943,2,    162.5,2,   162.8,2,  134.00,6,   34.70,6,    0.01,6,    2.49,6,   0.000,2,   0.001,2,       0,2,  2310.5,2,  2412.3,6,   7.5897,2,    24.98,-999.000,9,-999.0000,9, -999.00,9,   1.3912, -999.00,9,  -999.0,9,  -999.0,-999.000,9,-999.000,    38.6,2, -999.00,9,     20.037,3, -999.00,9,-999.000,-999.0000, -999.00,     -999.0,     -999.0,9,     -999.0,     -999.0,9,     -999.0,  -999.0,9,     -999.0,     -999.0,9,     -999.0,   1.0386,    34.8579,2,-999.0000,9,     -999.0,9
33RO20150410,     P16N.1,      91,          1,          2,          2,2,20150505,       0455,    11.9996,  -152.0002,       5380,  4813.8,   1.3869,  34.6981,2,  34.6974,2,    170.6,2,   170.8,2,  129.50,6,   34.20,6,    0.01,6,    2.44,6,  -0.001,2,   0.001,2,       0,2,  2299.3,2,  2402.4,2,   7.5959,6,    25.02,-999.000,9,-999.0000,9, -999.00,9,   1.3870, -999.00,9,  -999.0,9,  -999.0,-999.000,9,-999.000,    37.4,2, -999.00,9,     19.893,3, -999.00,9,-999.000,-999.0000, -999.00,     -999.0,     -999.0,9,     -999.0,     -999.0,9,     -999.0,  -999.0,9,     -999.0,     -999.0,9,     -999.0,   0.9787,    34.8610,6,-999.0000,9,     -999.0,9
33RO20150410,     P16N.1,      91,          1,          1,          1,2,20150505,       0455,    11.9996,  -152.0002,       5380,  5369.8,   1.4354,  34.6989,2,  34.6988,2,    174.2,2,   173.7,2,  127.50,6,   34.00,6,    0.01,6,    2.42,6,  -0.001,2,   0.002,2,       0,2,  2298.9,6,  2402.0,2,   7.5982,2,    25.00,-999.000,9,-999.0000,9, -999.00,9,   1.4354, -999.00,9,  -999.0,9,  -999.0,-999.000,9,-999.000,    37.5,2, -999.00,9,     19.614,3, -999.00,9,-999.000,-999.0000, -999.00,     -999.0,     -999.0,9,     -999.0,     -999.0,9,     -999.0,  -999.0,9,     -999.0,     -999.0,9,     -999.0,   0.9575,    34.8624,2,-999.0000,9,     -999.0,9