BOTTLE,20210709CCHSIOCBG
EXPOCODE,SECT_ID,STNNBR,CASTNO,SAMPNO,BTLNBR,BTLNBR_FLAG_W,DATE,TIME,LATITUDE,LONGITUDE,DEPTH,CTDPRS,CTDTMP,CTDSAL,CTDSAL_FLAG_W,SALNTY,SALNTY_FLAG_W,CTDOXY,CTDOXY_FLAG_W,OXYGEN,OXYGEN_FLAG_W,SILCAT,SILCAT_FLAG_W,NITRAT,NITRAT_FLAG_W,NITRIT,NITRIT_FLAG_W,PHSPHT,PHSPHT_FLAG_W,CFC-11,CFC-11_FLAG_W,CFC-12,CFC-12_FLAG_W,SF6,SF6_FLAG_W,TCARBN,TCARBN_FLAG_W,ALKALI,ALKALI_FLAG_W,PH_TOT,PH_TOT_FLAG_W,PH_TMP,TRITUM,TRITUM_FLAG_W,HELIUM,HELIUM_FLAG_W,DELHE3,DELHE3_FLAG_W,REFTMP,DELC13,DELC13_FLAG_W,DELC14,DELC14_FLAG_W,C14ERR,NEON,NEON_FLAG_W,NEONER,DOC,DOC_FLAG_W,TDN,TDN_FLAG_W,N2O,N2O_FLAG_W,ARGON,ARGON_FLAG_W,TRITER,HELIER,DELHER,ARGONER,KRYPTON,KRYPTON_FLAG_W,KRYPTONER,XENON,XENON_FLAG_W,XENONER,14C-DOC,14C-DOC_FLAG_W,14C-DOCERR,13C-DOC,13C-DOC_FLAG_W,13C-DOCERR,THETA,SALTREF,SALTREF_FLAG_W,SBE35,SBE35_FLAG_W,CHLORA,CHLORA_FLAG_W
,,,,,,,,,,,METERS,DBAR,ITS-90,PSS-78,,PSS-78,,UMOL/KG,,UMOL/KG,,UMOL/KG,,UMOL/KG,,UMOL/KG,,UMOL/KG,,PMOL/KG,,PMOL/KG,,FMOL/KG,,UMOL/KG,,UMOL/KG,,,,DEG C,TU,,NMOL/KG,,PERCNT,,DEG C,/MILLE,,/MILLE,,/MILLE,NMOL/KG,,NMOL/KG,UMOL/KG,,UMOL/KG,,NMOL/KG,,UMOL/KG,,TU,NMOL/KG,PERCNT,UMOL/KG,NMOL/KG,,NMOL/KG,NMOL/KG,,NMOL/KG,/MILLE,,/MILLE,/MILLE,,/MILLE,DEG C,G/KG,,ITS-90,,MG/M3,
33RO20150410,     P16N.1,      18,          1,         13,         13,2,20150416,       0457,    -8.0005,  -151.0002,       5033,    15.3,  28.9389,  35.6186,2,  35.6164,2,    196.1,2,   197.3,2,    1.20,2,    2.60,2,    0.07,2,    0.39,4,   1.411,2,   0.931,2,   1.237,2,  2011.6,2,  2345.9,3,   8.0805,6,    24.99,-999.000,9,-999.0000,9, -999.00,9,  28.9384, -999.00,9,  -999.0,9,  -999.0,-999.000,9,-999.000,  -999.0,9, -999.00,9,      5.919,3, -999.00,9,-999.000,-999.0000, -999.00,     -999.0,     -999.0,9,     -999.0,     -999.0,9,     -999.0,  -999.0,9,     -999.0,     -999.0,9,     -999.0,  28.9352,    35.7843,2,-999.0000,2,     -999.0,9
33RO20150410,     P16N.1,      18,          1,         12,         12,2,20150416,       0457,    -8.0005,  -151.0002,       5033,    32.8,  28.9416,  35.6176,2,  35.6170,2,    196.3,2,   197.3,2,    1.40,2,    2.60,2,    0.06,2,    0.35,4,   1.380,2,   0.924,2,   1.209,2,  2011.9,6,  2345.4,2,   8.0806,2,    24.98,-999.000,9,-999.0000,9, -999.00,9,  28.9408, -999.00,9,  -999.0,9,  -999.0,-999.000,9,-999.000,  -999.0,9, -999.00,9,      6.059,3, -999.00,9,-999.000,-999.0000, -999.00,     -999.0,     -999.0,9,     -999.0,     -999.0,9,     -999.0,  -999.0,9,     -999.0,     -999.0,9,     -999.0,  28.9337,    35.7849,2,-999.0000,2,     -999.0,9
33RO20150410,     P16N.1,      18,          1,         11,         11,2,20150416,       0457,    -8.0005,  -151.0002,       5033,  1166.2,   3.9365,  34.5530,2,  34.5531,2,    107.0,2,   106.3,2,   85.50,2,   37.70,2,    0.01,2,    2.66,4,   0.004,2,   0.002,2,       0,2,  2289.4,2,  2355.0,2,   7.5044,2,    25.00,-999.000,9,-999.0000,9, -999.00,9,   3.9360, -999.00,9,  -999.0,9,  -999.0,-999.000,9,-999.000,  -999.0,9, -999.00,9,     29.569,3, -999.00,9,-999.000,-999.0000, -999.00,     -999.0,     -999.0,9,     -999.0,     -999.0,9,     -999.0,  -999.0,9,     -999.0,     -999.0,9,     -999.0,   3.8473,    34.7160,2,-999.0000,2,     -999.0,9
33RO20150410,     P16N.1,      18,          1,         10,         10,2,20150416,       0457,    -8.0005,  -151.0002,       5033,  1400.1,   3.2895,  34.5785,2,  34.5803,2,    113.7,2,   112.7,2,   99.80,2,   37.60,2,    0.00,2,    2.68,4,   0.045,3,   0.001,2,       0,2,  2301.7,2,  2371.7,6,   7.5117,6,    25.02,-999.000,9,-999.0000,9, -999.00,9,   3.2892, -999.00,9,  -999.0,9,  -999.0,-999.000,9,-999.000,  -999.0,9, -999.00,9,     27.773,3, -999.00,9,-999.000,-999.0000, -999.00,     -999.0,     -999.0,9,     -999.0,     -999.0,9,     -999.0,  -999.0,9,     -999.0,     -999.0,9,     -999.0,   3.1868,    34.7433,6,-999.0000,2,     -999.0,9
33RO20150410,     P16N.1,      18,          1,          9,          9,2,20150416,       0457,    -8.0005,  -151.0002,       5033,  1731.5,   2.4653,  34.6200,2,  34.6199,2,    128.1,2,   130.2,2,  116.00,2,   36.60,2,    0.01,2,    2.64,4,   0.003,2,   0.001,2,       0,2,  2309.5,2,  2389.5,2,   7.5392,2,    25.00,-999.000,9,-999.0000,9, -999.00,9,   2.4651, -999.00,9,  -999.0,9,  -999.0,-999.000,9,-999.000,  -999.0,9, -999.00,9,     24.287,3, -999.00,9,-999.000,-999.0000, -999.00,     -999.0,     -999.0,9,     -999.0,     -999.0,9,     -999.0,  -999.0,9,     -999.0,     -999.0,9,     -999.0,   2.3447,    34.7831,2,-999.0000,2,     -999.0,9
33RO20150410,     P16N.1,      18,          1,          8,          8,2,20150416,       0457,    -8.0005,  -151.0002,       5033,  2131.2,   2.1193,  34.6463,2,  34.6474,2,    131.6,2,   131.8,2,  127.50,2,   36.50,2,    0.00,2,    2.73,4,  -0.002,2,  -0.001,2,       0,2,  2320.6,2,  2403.2,2,   7.5447,2,    24.99,-999.000,9,-999.0000,9, -999.00,9,   2.1198, -999.00,9,  -999.0,9,  -999.0,-999.000,9,-999.000,  -999.0,9, -999.00,9,     23.563,3, -999.00,9,-999.000,-999.0000, -999.00,     -999.0,     -999.0,9,     -999.0,     -999.0,9,     -999.0,  -999.0,9,     -999.0,     -999.0,9,     -999.0,   1.9697,    34.8107,2,-999.0000,2,     -999.0,9
33RO20150410,     P16N.1,      18,          1,          7,          7,2,20150416,       0457,    -8.0005,  -151.0002,       5033,  2532.2,   1.8503,  34.6673,2,  34.6699,2,    140.8,2,   141.5,2,  132.50,2,   35.80,2,    0.02,2,    2.63,4,   0.001,2,   0.000,2,       0,2,  2323.3,2,  2411.1,2,   7.5635,6,    25.01,-999.000,9,-999.0000,9, -999.00,9,   1.8506, -999.00,9,  -999.0,9,  -999.0,-999.000,9,-999.000,  -999.0,9, -999.00,9,     22.062,3, -999.00,9,-999.000,-999.0000, -999.00,     -999.0,     -999.0,9,     -999.0,     -999.0,9,     -999.0,  -999.0,9,     -999.0,     -999.0,9,     -999.0,   1.6698,    34.8334,2,-999.0000,2,     -999.0,9
33RO20150410,     P16N.1,      18,          1,          6,          6,2,20150416,       0457,    -8.0005,  -151.0002,       5033,  2933.3,   1.7138,  34.6780,2,  34.6774,2,    146.1,2,   147.4,2,  136.40,2,   35.50,2,    0.01,2,    2.60,4,   0.001,2,  -0.001,2,       0,2,  2324.0,2,  2415.8,2,   7.5757,6,    25.01,-999.000,9,-999.0000,9, -999.00,9,   1.7140, -999.00,9,  -999.0,9,  -999.0,-999.000,9,-999.000,  -999.0,9, -999.00,9,     21.195,3, -999.00,9,-999.000,-999.0000, -999.00,     -999.0,     -999.0,9,     -999.0,     -999.0,9,     -999.0,  -999.0,9,     -999.0,     -999.0,9,     -999.0,   1.4987,    34.8410,2,-999.0000,2,     -999.0,9
33RO20150410,     P16N.1,      18,          1,          5,          5,2,20150416,       0457,    -8.0005,  -151.0002,       5033,  3334.2,   1.5654,  34.6863,2,  34.6867,2,    157.6,2,   158.6,2,  135.50,2,   34.80,2,    0.01,2,    2.56,4,   0.007,3,   0.000,2,       0,2,  2318.1,6,  2416.3,2,   7.5917,2,    24.98,-999.000,9,-999.0000,9, -999.00,9,   1.5659, -999.00,9,  -999.0,9,  -999.0,-999.000,9,-999.000,  -999.0,9, -999.00,9,     20.397,3, -999.00,9,-999.000,-999.0000, -999.00,     -999.0,     -999.0,9,     -999.0,     -999.0,9,     -999.0,  -999.0,9,     -999.0,     -999.0,9,     -999.0,   1.3143,    34.8503,2,-999.0000,2,     -999.0,9
33RO20150410,     P16N.1,      18,          1,          4,          4,2,20150416,       0457,    -8.0005,  -151.0002,       5033,  3744.5,   1.4929,  34.6908,2,  34.6915,2,    164.6,2,   164.6,2,  135.20,6,   34.50,6,    0.01,6,    2.53,4,   0.007,3,  -0.001,2,       0,2,  2311.3,2,  2413.3,2,   7.5970,2,    25.00,-999.000,9,-999.0000,9, -999.00,9,   1.4930, -999.00,9,  -999.0,9,  -999.0,-999.000,9,-999.000,  -999.0,9, -999.00,9,     20.083,3, -999.00,9,-999.000,-999.0000, -999.00,     -999.0,     -999.0,9,     -999.0,     -999.0,9,     -999.0,  -999.0,9,     -999.0,     -999.0,9,     -999.0,   1.2015,    34.8551,6,-999.0000,2,     -999.0,9
33RO20150410,     P16N.1,      18,          1,          3,          3,2,20150416,       0457,    -8.0005,  -151.0002,       5033,  4266.7,   1.3669,  34.6989,2,  34.6988,2,    181.5,2,   181.6,2,  127.40,6,   33.30,6,    0.01,6,    2.43,4,   0.009,3,   0.002,2,       0,2,  2290.0,2,  2393.3,2,   7.6024,6,    25.00,-999.000,9,-999.0000,9, -999.00,9,   1.3672, -999.00,9,  -999.0,9,  -999.0,-999.000,9,-999.000,  -999.0,9, -999.00,9,     19.450,3, -999.00,9,-999.000,-999.0000, -999.00,     -999.0,     -999.0,9,     -999.0,     -999.0,9,     -999.0,  -999.0,9,     -999.0,     -999.0,9,     -999.0,   1.0223,    34.8624,2,-999.0000,2,     -999.0,9
33RO20150410,     P16N.1,      18,          1,          2,          2,2,20150416,       0457,    -8.0005,  -151.0002,       5033,  4767.2,   1.3697,  34.7013,2,  34.7026,2,    186.0,2,   186.3,2,  125.30,6,   32.90,6,    0.00,6,    2.39,4,   0.002,2,   0.000,2,       0,2,  2285.5,2,  2387.3,6,   7.6036,2,    25.04,-999.000,9,-999.0000,9, -999.00,9,   1.3699, -999.00,9,  -999.0,9,  -999.0,-999.000,9,-999.000,  -999.0,9, -999.00,9,     19.377,3, -999.00,9,-999.000,-999.0000, -999.00,     -999.0,     -999.0,9,     -999.0,     -999.0,9,     -999.0,  -999.0,9,     -999.0,     -999.0,9,     -999.0,   0.9675,    34.8663,2,-999.0000,2,     -999.0,9
33RO20150410,     P16N.1,      18,          1,          1,          1,2,20150416,       0457,    -8.0005,  -151.0002,       5033,  5023.6,   1.3831,  34.7018,2,  34.7030,2,    188.3,2,   187.5,2,  124.00,6,   32.80,6,    0.01,6,    2.38,4,   0.001,2,   0.000,6,       0,6,  2285.2,2,  2387.0,2,   7.6043,2,    25.02,-999.000,9,-999.0000,9, -999.00,9,   1.3831, -999.00,9,  -999.0,9,  -999.0,-999.000,9,-999.000,  -999.0,9, -999.00,9,     19.197,3, -999.00,9,-999.000,-999.0000, -999.00,     -999.0,     -999.0,9,     -999.0,     -999.0,9,     -999.0,  -999.0,9,     -999.0,     -999.0,9,     -999.0,   0.9498,    34.8667,2,-999.0000,2,     -999.0,9