BOTTLE,20210709CCHSIOCBG
EXPOCODE,SECT_ID,STNNBR,CASTNO,SAMPNO,BTLNBR,BTLNBR_FLAG_W,DATE,TIME,LATITUDE,LONGITUDE,DEPTH,CTDPRS,CTDTMP,CTDSAL,CTDSAL_FLAG_W,SALNTY,SALNTY_FLAG_W,CTDOXY,CTDOXY_FLAG_W,OXYGEN,OXYGEN_FLAG_W,SILCAT,SILCAT_FLAG_W,NITRAT,NITRAT_FLAG_W,NITRIT,NITRIT_FLAG_W,PHSPHT,PHSPHT_FLAG_W,CFC-11,CFC-11_FLAG_W,CFC-12,CFC-12_FLAG_W,SF6,SF6_FLAG_W,TCARBN,TCARBN_FLAG_W,ALKALI,ALKALI_FLAG_W,PH_TOT,PH_TOT_FLAG_W,PH_TMP,TRITUM,TRITUM_FLAG_W,HELIUM,HELIUM_FLAG_W,DELHE3,DELHE3_FLAG_W,REFTMP,DELC13,DELC13_FLAG_W,DELC14,DELC14_FLAG_W,C14ERR,NEON,NEON_FLAG_W,NEONER,DOC,DOC_FLAG_W,TDN,TDN_FLAG_W,N2O,N2O_FLAG_W,ARGON,ARGON_FLAG_W,TRITER,HELIER,DELHER,ARGONER,KRYPTON,KRYPTON_FLAG_W,KRYPTONER,XENON,XENON_FLAG_W,XENONER,14C-DOC,14C-DOC_FLAG_W,14C-DOCERR,13C-DOC,13C-DOC_FLAG_W,13C-DOCERR,THETA,SALTREF,SALTREF_FLAG_W,SBE35,SBE35_FLAG_W,CHLORA,CHLORA_FLAG_W
,,,,,,,,,,,METERS,DBAR,ITS-90,PSS-78,,PSS-78,,UMOL/KG,,UMOL/KG,,UMOL/KG,,UMOL/KG,,UMOL/KG,,UMOL/KG,,PMOL/KG,,PMOL/KG,,FMOL/KG,,UMOL/KG,,UMOL/KG,,,,DEG C,TU,,NMOL/KG,,PERCNT,,DEG C,/MILLE,,/MILLE,,/MILLE,NMOL/KG,,NMOL/KG,UMOL/KG,,UMOL/KG,,NMOL/KG,,UMOL/KG,,TU,NMOL/KG,PERCNT,UMOL/KG,NMOL/KG,,NMOL/KG,NMOL/KG,,NMOL/KG,/MILLE,,/MILLE,/MILLE,,/MILLE,DEG C,G/KG,,ITS-90,,MG/M3,
33RO20150410,     P16N.1,      50,          1,         24,         24,2,20150424,       1723,    -0.0800,  -150.9999,       4403,     9.6,  28.2084,  35.1762,2,  35.1751,2,    195.6,2,   196.9,2,    1.90,2,    3.10,2,    0.33,2,    0.42,4,-999.000,9,-999.000,9,-999.000,9,  2010.4,2,  2315.2,2,   8.0331,2,    25.00,-999.000,9,-999.0000,9, -999.00,9,  28.2073, -999.00,9,  -999.0,9,  -999.0,-999.000,9,-999.000,    61.2,2,    7.60,2,     -999.0,9, -999.00,9,-999.000,-999.0000, -999.00,     -999.0,     -999.0,9,     -999.0,     -999.0,9,     -999.0,  -999.0,9,     -999.0,     -999.0,9,     -999.0,  28.2061,    35.3409,2,-999.0000,2,     -999.0,9
33RO20150410,     P16N.1,      50,          1,         23,         23,2,20150424,       1723,    -0.0800,  -150.9999,       4403,    25.1,  28.1959,  35.1755,2,  35.1755,2,    195.1,2,   196.6,2,    1.90,2,    3.10,2,    0.33,2,    0.41,4,-999.000,9,-999.000,9,-999.000,9,  2012.0,6,  2314.2,2,   8.0328,2,    25.00,-999.000,9,-999.0000,9, -999.00,9,  28.1985, -999.00,9,  -999.0,9,  -999.0,-999.000,9,-999.000,    60.2,2,    7.80,2,     -999.0,9, -999.00,9,-999.000,-999.0000, -999.00,     -999.0,     -999.0,9,     -999.0,     -999.0,9,     -999.0,  -999.0,9,     -999.0,     -999.0,9,     -999.0,  28.1900,    35.3413,2,-999.0000,2,     -999.0,9
33RO20150410,     P16N.1,      50,          1,         22,         22,2,20150424,       1723,    -0.0800,  -150.9999,       4403,    49.3,  28.0559,  35.1861,2,  35.1867,2,    192.6,2,   192.7,2,    2.10,2,    3.50,2,    0.44,2,    0.48,4,-999.000,9,-999.000,9,-999.000,9,  2015.8,2,  2315.3,2,   8.0262,6,    25.00,-999.000,9,-999.0000,9, -999.00,9,  28.0574, -999.00,9,  -999.0,9,  -999.0,-999.000,9,-999.000,    60.5,2,    9.00,2,     -999.0,9, -999.00,9,-999.000,-999.0000, -999.00,     -999.0,     -999.0,9,     -999.0,     -999.0,9,     -999.0,  -999.0,9,     -999.0,     -999.0,9,     -999.0,  28.0443,    35.3526,2,-999.0000,2,     -999.0,9
33RO20150410,     P16N.1,      50,          1,         21,         21,2,20150424,       1723,    -0.0800,  -150.9999,       4403,    73.8,  27.7324,  35.3450,2,  35.3455,2,    175.6,2,   174.1,2,    2.00,4,    5.50,4,    0.78,4,    0.59,4,-999.000,9,-999.000,9,-999.000,9,  2037.9,2,  2323.8,2,   8.0017,6,    25.01,-999.000,9,-999.0000,9, -999.00,9,  27.7376, -999.00,9,  -999.0,9,  -999.0,-999.000,9,-999.000,    56.9,2,   10.10,2,     -999.0,9, -999.00,9,-999.000,-999.0000, -999.00,     -999.0,     -999.0,9,     -999.0,     -999.0,9,     -999.0,  -999.0,9,     -999.0,     -999.0,9,     -999.0,  27.7151,    35.5122,2,-999.0000,2,     -999.0,9
33RO20150410,     P16N.1,      50,          1,         20,         20,2,20150424,       1723,    -0.0800,  -150.9999,       4403,   101.3,  27.0063,  35.3830,2,  35.3848,2,    167.4,2,   165.4,2,    2.30,2,    7.50,2,    0.40,2,    0.68,4,-999.000,9,-999.000,9,-999.000,9,  2053.2,2,  2327.2,6,   7.9790,2,    24.99,-999.000,9,-999.0000,9, -999.00,9,  27.0042, -999.00,9,  -999.0,9,  -999.0,-999.000,9,-999.000,    55.8,2,   11.20,2,     -999.0,9, -999.00,9,-999.000,-999.0000, -999.00,     -999.0,     -999.0,9,     -999.0,     -999.0,9,     -999.0,  -999.0,9,     -999.0,     -999.0,9,     -999.0,  26.9830,    35.5516,2,-999.0000,2,     -999.0,9
33RO20150410,     P16N.1,      50,          1,         19,         19,2,20150424,       1723,    -0.0800,  -150.9999,       4403,   125.6,  24.2683,  35.2055,2,  35.2127,2,    134.5,2,   134.2,2,    3.90,2,    9.10,2,    0.03,2,    0.73,4,-999.000,9,-999.000,9,-999.000,9,  2069.4,2,  2313.4,6,   7.9271,2,    25.00,-999.000,9,-999.0000,9, -999.00,9,  24.2587, -999.00,9,  -999.0,9,  -999.0,-999.000,9,-999.000,    52.2,2,   11.90,2,     -999.0,9, -999.00,9,-999.000,-999.0000, -999.00,     -999.0,     -999.0,9,     -999.0,     -999.0,9,     -999.0,  -999.0,9,     -999.0,     -999.0,9,     -999.0,  24.2416,    35.3788,2,-999.0000,2,     -999.0,9
33RO20150410,     P16N.1,      50,          1,         18,         18,2,20150424,       1723,    -0.0800,  -150.9999,       4403,   175.4,  17.3721,  35.3456,2,  35.3351,2,    119.9,2,   124.1,2,    6.80,2,   14.60,2,    0.02,2,    1.11,4,-999.000,9,-999.000,9,-999.000,9,  2143.7,2,  2329.1,6,   7.8009,2,    25.00,-999.000,9,-999.0000,9, -999.00,9,  17.3959, -999.00,9,  -999.0,9,  -999.0,-999.000,9,-999.000,    46.8,2,   17.50,2,     -999.0,9, -999.00,9,-999.000,-999.0000, -999.00,     -999.0,     -999.0,9,     -999.0,     -999.0,9,     -999.0,  -999.0,9,     -999.0,     -999.0,9,     -999.0,  17.3427,    35.5017,2,-999.0000,2,     -999.0,9
33RO20150410,     P16N.1,      50,          1,         17,         17,2,20150424,       1723,    -0.0800,  -150.9999,       4403,   250.4,  12.3807,  34.8716,2,  34.8724,2,    106.0,2,   103.4,2,   18.70,2,   23.30,2,    0.01,2,    1.60,4,-999.000,9,-999.000,9,-999.000,9,  2182.5,2,  2307.6,2,   7.6613,6,    25.00,-999.000,9,-999.0000,9, -999.00,9,  12.3786, -999.00,9,  -999.0,9,  -999.0,-999.000,9,-999.000,    43.2,2,   25.20,2,     -999.0,9, -999.00,9,-999.000,-999.0000, -999.00,     -999.0,     -999.0,9,     -999.0,     -999.0,9,     -999.0,  -999.0,9,     -999.0,     -999.0,9,     -999.0,  12.3473,    35.0368,2,-999.0000,2,     -999.0,9
33RO20150410,     P16N.1,      50,          1,         16,         16,2,20150424,       1723,    -0.0800,  -150.9999,       4403,   325.4,  10.9045,  34.7807,2,  34.7806,2,     33.7,2,    32.2,2,   28.30,2,   32.90,2,    0.01,2,    2.20,4,-999.000,9,-999.000,9,-999.000,9,  2242.7,2,  2305.3,2,   7.4764,2,    24.98,-999.000,9,-999.0000,9, -999.00,9,  10.9045, -999.00,9,  -999.0,9,  -999.0,-999.000,9,-999.000,    41.4,2, -999.00,9,     -999.0,9, -999.00,9,-999.000,-999.0000, -999.00,     -999.0,     -999.0,9,     -999.0,     -999.0,9,     -999.0,  -999.0,9,     -999.0,     -999.0,9,     -999.0,  10.8645,    34.9446,2,-999.0000,2,     -999.0,9
33RO20150410,     P16N.1,      50,          1,         15,         15,2,20150424,       1723,    -0.0800,  -150.9999,       4403,   400.2,   9.4605,  34.6934,2,  34.6937,2,     41.0,2,    39.6,2,   32.90,2,   35.00,2,    0.01,2,    2.34,4,-999.000,9,-999.000,9,-999.000,9,  2252.1,2,  2306.1,2,   7.4601,2,    25.01,-999.000,9,-999.0000,9, -999.00,9,   9.4614, -999.00,9,  -999.0,9,  -999.0,-999.000,9,-999.000,    42.0,2, -999.00,9,     -999.0,9, -999.00,9,-999.000,-999.0000, -999.00,     -999.0,     -999.0,9,     -999.0,     -999.0,9,     -999.0,  -999.0,9,     -999.0,     -999.0,9,     -999.0,   9.4153,    34.8573,2,-999.0000,2,     -999.0,9
33RO20150410,     P16N.1,      50,          1,         14,         14,2,20150424,       1723,    -0.0800,  -150.9999,       4403,   500.0,   7.7787,  34.6040,2,  34.6043,2,     55.8,2,    54.5,2,   41.00,2,   37.20,2,    0.01,2,    2.49,4,-999.000,9,-999.000,9,-999.000,9,  -999.0,9,  -999.0,9,-999.0000,9,  -999.00,-999.000,9,-999.0000,9, -999.00,9,   7.7785, -999.00,9,  -999.0,9,  -999.0,-999.000,9,-999.000,    41.9,2, -999.00,9,     -999.0,9, -999.00,9,-999.000,-999.0000, -999.00,     -999.0,     -999.0,9,     -999.0,     -999.0,9,     -999.0,  -999.0,9,     -999.0,     -999.0,9,     -999.0,   7.7282,    34.7675,2,-999.0000,2,     -999.0,9
33RO20150410,     P16N.1,      50,          1,         13,         13,2,20150424,       1723,    -0.0800,  -150.9999,       4403,   650.2,   6.8641,  34.5702,2,  34.5711,2,     59.6,2,    59.6,2,   49.10,2,   38.50,2,    0.01,2,    2.62,4,-999.000,9,-999.000,9,-999.000,9,  2266.0,2,  2320.5,2,   7.4512,2,    24.99,-999.000,9,-999.0000,9, -999.00,9,   6.8611, -999.00,9,  -999.0,9,  -999.0,-999.000,9,-999.000,    38.9,2, -999.00,9,     -999.0,9, -999.00,9,-999.000,-999.0000, -999.00,     -999.0,     -999.0,9,     -999.0,     -999.0,9,     -999.0,  -999.0,9,     -999.0,     -999.0,9,     -999.0,   6.8023,    34.7341,2,-999.0000,2,     -999.0,9
33RO20150410,     P16N.1,      50,          1,         12,         12,2,20150424,       1723,    -0.0800,  -150.9999,       4403,   798.8,   5.2572,  34.5453,2,  34.5461,2,     76.6,2,    77.4,2,   69.70,2,   39.20,2,    0.01,2,    2.72,4,-999.000,9,-999.000,9,-999.000,9,  -999.0,9,  -999.0,9,-999.0000,9,  -999.00,-999.000,9,-999.0000,9, -999.00,9,   5.2582, -999.00,9,  -999.0,9,  -999.0,-999.000,9,-999.000,    39.7,2, -999.00,9,     -999.0,9, -999.00,9,-999.000,-999.0000, -999.00,     -999.0,     -999.0,9,     -999.0,     -999.0,9,     -999.0,  -999.0,9,     -999.0,     -999.0,9,     -999.0,   5.1902,    34.7090,2,-999.0000,2,     -999.0,9
33RO20150410,     P16N.1,      50,          1,         11,         11,2,20150424,       1723,    -0.0800,  -150.9999,       4403,   949.9,   5.0198,  34.5472,2,  34.5478,2,     78.6,2,    79.2,2,   74.60,2,   39.20,2,    0.01,2,    2.75,4,-999.000,9,-999.000,9,-999.000,9,  2287.6,2,  2346.4,2,   7.4675,2,    25.00,-999.000,9,-999.0000,9, -999.00,9,   5.0158, -999.00,9,  -999.0,9,  -999.0,-999.000,9,-999.000,    38.4,2, -999.00,9,     -999.0,9, -999.00,9,-999.000,-999.0000, -999.00,     -999.0,     -999.0,9,     -999.0,     -999.0,9,     -999.0,  -999.0,9,     -999.0,     -999.0,9,     -999.0,   4.9408,    34.7108,2,-999.0000,2,     -999.0,9
33RO20150410,     P16N.1,      50,          1,         10,         10,2,20150424,       1723,    -0.0800,  -150.9999,       4403,  1099.5,   4.4136,  34.5584,2,  34.5587,2,     79.2,2,    79.6,2,   86.80,2,   39.80,2,    0.00,2,    2.80,4,-999.000,9,-999.000,9,-999.000,9,  -999.0,9,  -999.0,9,-999.0000,9,  -999.00,-999.000,9,-999.0000,9, -999.00,9,   4.4136, -999.00,9,  -999.0,9,  -999.0,-999.000,9,-999.000,    38.4,2, -999.00,9,     -999.0,9, -999.00,9,-999.000,-999.0000, -999.00,     -999.0,     -999.0,9,     -999.0,     -999.0,9,     -999.0,  -999.0,9,     -999.0,     -999.0,9,     -999.0,   4.3260,    34.7217,2,-999.0000,2,     -999.0,9
33RO20150410,     P16N.1,      50,          1,          9,          9,2,20150424,       1723,    -0.0800,  -150.9999,       4403,  1297.6,   3.5005,  34.5860,2,  34.5890,2,     84.0,2,    84.6,2,  107.80,2,   40.00,2,    0.00,2,    2.86,4,-999.000,9,-999.000,9,-999.000,9,  2321.6,2,  2383.9,2,   7.4696,2,    24.99,-999.000,9,-999.0000,9, -999.00,9,   3.5004, -999.00,9,  -999.0,9,  -999.0,-999.000,9,-999.000,    38.2,2, -999.00,9,     -999.0,9, -999.00,9,-999.000,-999.0000, -999.00,     -999.0,     -999.0,9,     -999.0,     -999.0,9,     -999.0,  -999.0,9,     -999.0,     -999.0,9,     -999.0,   3.4042,    34.7521,3,-999.0000,2,     -999.0,9
33RO20150410,     P16N.1,      50,          1,          8,          8,2,20150424,       1723,    -0.0800,  -150.9999,       4403,  1599.2,   2.8453,  34.6113,2,  34.6130,2,     95.4,2,    95.9,2,  122.30,2,   39.50,2,    0.00,2,    2.84,4,-999.000,9,-999.000,9,-999.000,9,  -999.0,9,  -999.0,9,-999.0000,9,  -999.00,-999.000,9,-999.0000,9, -999.00,9,   2.8455, -999.00,9,  -999.0,9,  -999.0,-999.000,9,-999.000,    37.8,2, -999.00,9,     -999.0,9, -999.00,9,-999.000,-999.0000, -999.00,     -999.0,     -999.0,9,     -999.0,     -999.0,9,     -999.0,  -999.0,9,     -999.0,     -999.0,9,     -999.0,   2.7309,    34.7762,2,-999.0000,2,     -999.0,9
33RO20150410,     P16N.1,      50,          1,          7,          7,2,20150424,       1723,    -0.0800,  -150.9999,       4403,  1999.3,   2.2779,  34.6411,2,  34.6411,2,    104.2,2,   105.6,2,  136.70,2,   38.70,2,    0.00,2,    2.80,4,-999.000,9,-999.000,9,-999.000,9,  2343.8,2,  2417.2,2,   7.5068,6,    24.99,-999.000,9,-999.0000,9, -999.00,9,   2.2807, -999.00,9,  -999.0,9,  -999.0,-999.000,9,-999.000,    36.2,2, -999.00,9,     -999.0,9, -999.00,9,-999.000,-999.0000, -999.00,     -999.0,     -999.0,9,     -999.0,     -999.0,9,     -999.0,  -999.0,9,     -999.0,     -999.0,9,     -999.0,   2.1372,    34.8044,2,-999.0000,2,     -999.0,9
33RO20150410,     P16N.1,      50,          1,          6,          6,2,20150424,       1723,    -0.0800,  -150.9999,       4403,  2400.0,   1.9295,  34.6596,2,  34.6621,2,    117.5,2,   117.9,2,  143.80,2,   38.10,2,    0.01,2,    2.76,4,-999.000,9,-999.000,9,-999.000,9,  -999.0,9,  -999.0,9,-999.0000,9,  -999.00,-999.000,9,-999.0000,9, -999.00,9,   1.9294, -999.00,9,  -999.0,9,  -999.0,-999.000,9,-999.000,    36.4,2, -999.00,9,     -999.0,9, -999.00,9,-999.000,-999.0000, -999.00,     -999.0,     -999.0,9,     -999.0,     -999.0,9,     -999.0,  -999.0,9,     -999.0,     -999.0,9,     -999.0,   1.7595,    34.8256,2,-999.0000,2,     -999.0,9
33RO20150410,     P16N.1,      50,          1,          5,          5,2,20150424,       1723,    -0.0800,  -150.9999,       4403,  2799.6,   1.7572,  34.6695,2,  34.6729,2,    127.3,2,   128.3,2,  144.80,2,   37.40,2,    0.00,2,    2.69,4,-999.000,9,-999.000,9,-999.000,9,  2338.8,2,  2426.8,2,   7.5465,6,    24.99,-999.000,9,-999.0000,9, -999.00,9,   1.7572, -999.00,9,  -999.0,9,  -999.0,-999.000,9,-999.000,    36.7,2, -999.00,9,     -999.0,9, -999.00,9,-999.000,-999.0000, -999.00,     -999.0,     -999.0,9,     -999.0,     -999.0,9,     -999.0,  -999.0,9,     -999.0,     -999.0,9,     -999.0,   1.5538,    34.8364,2,-999.0000,2,     -999.0,9
33RO20150410,     P16N.1,      50,          1,          4,          4,2,20150424,       1723,    -0.0800,  -150.9999,       4403,  3199.2,   1.6049,  34.6782,2,  34.6780,2,    139.4,2,   140.3,2,  143.80,6,   36.60,6,    0.00,6,    2.60,4,-999.000,9,-999.000,9,-999.000,9,  -999.0,9,  -999.0,9,-999.0000,9,  -999.00,-999.000,9,-999.0000,9, -999.00,9,   1.6051, -999.00,9,  -999.0,9,  -999.0,-999.000,9,-999.000,    36.2,2, -999.00,9,     -999.0,9, -999.00,9,-999.000,-999.0000, -999.00,     -999.0,     -999.0,9,     -999.0,     -999.0,9,     -999.0,  -999.0,9,     -999.0,     -999.0,9,     -999.0,   1.3664,    34.8416,2,-999.0000,2,     -999.0,9
33RO20150410,     P16N.1,      50,          1,          3,          3,2,20150424,       1723,    -0.0800,  -150.9999,       4403,  3601.4,   1.4954,  34.6866,2,  34.6879,2,    149.6,2,   152.5,2,  143.80,6,   36.00,6,    0.00,6,    2.55,4,-999.000,9,-999.000,9,-999.000,9,  2327.3,6,  2428.4,2,   7.5824,6,    25.01,-999.000,9,-999.0000,9, -999.00,9,   1.4954, -999.00,9,  -999.0,9,  -999.0,-999.000,9,-999.000,    35.6,2, -999.00,9,     -999.0,9, -999.00,9,-999.000,-999.0000, -999.00,     -999.0,     -999.0,9,     -999.0,     -999.0,9,     -999.0,  -999.0,9,     -999.0,     -999.0,9,     -999.0,   1.2189,    34.8514,2,-999.0000,9,     -999.0,9
33RO20150410,     P16N.1,      50,          1,          2,          2,2,20150424,       1723,    -0.0800,  -150.9999,       4403,  4000.3,   1.4254,  34.6926,2,  34.6946,2,    158.3,2,   158.6,2,  142.50,6,   35.50,6,    0.00,6,    2.51,4,-999.000,9,-999.000,9,-999.000,9,  -999.0,9,  -999.0,9,-999.0000,9,  -999.00,-999.000,9,-999.0000,9, -999.00,9,   1.4256, -999.00,9,  -999.0,9,  -999.0,-999.000,9,-999.000,    35.9,2, -999.00,9,     -999.0,9, -999.00,9,-999.000,-999.0000, -999.00,     -999.0,     -999.0,9,     -999.0,     -999.0,9,     -999.0,  -999.0,9,     -999.0,     -999.0,9,     -999.0,   1.1084,    34.8582,2,-999.0000,9,     -999.0,9
33RO20150410,     P16N.1,      50,          1,          1,          1,2,20150424,       1723,    -0.0800,  -150.9999,       4403,  4392.4,   1.3911,  34.6962,2,  34.6962,2,    167.5,2,   146.1,4,  137.80,6,   34.90,6,    0.01,6,    2.45,4,-999.000,9,-999.000,9,-999.000,9,  2312.4,2,  2420.8,6,   7.6030,2,    25.00,-999.000,9,-999.0000,9, -999.00,9,   1.3913, -999.00,9,  -999.0,9,  -999.0,-999.000,9,-999.000,    37.3,2, -999.00,9,     -999.0,9, -999.00,9,-999.000,-999.0000, -999.00,     -999.0,     -999.0,9,     -999.0,     -999.0,9,     -999.0,  -999.0,9,     -999.0,     -999.0,9,     -999.0,   1.0316,    34.8598,2,-999.0000,2,     -999.0,9