BOTTLE,20210709CCHSIOCBG
EXPOCODE,SECT_ID,STNNBR,CASTNO,SAMPNO,BTLNBR,BTLNBR_FLAG_W,DATE,TIME,LATITUDE,LONGITUDE,DEPTH,CTDPRS,CTDTMP,CTDSAL,CTDSAL_FLAG_W,SALNTY,SALNTY_FLAG_W,CTDOXY,CTDOXY_FLAG_W,OXYGEN,OXYGEN_FLAG_W,SILCAT,SILCAT_FLAG_W,NITRAT,NITRAT_FLAG_W,NITRIT,NITRIT_FLAG_W,PHSPHT,PHSPHT_FLAG_W,CFC-11,CFC-11_FLAG_W,CFC-12,CFC-12_FLAG_W,SF6,SF6_FLAG_W,TCARBN,TCARBN_FLAG_W,ALKALI,ALKALI_FLAG_W,PH_TOT,PH_TOT_FLAG_W,PH_TMP,TRITUM,TRITUM_FLAG_W,HELIUM,HELIUM_FLAG_W,DELHE3,DELHE3_FLAG_W,REFTMP,DELC13,DELC13_FLAG_W,DELC14,DELC14_FLAG_W,C14ERR,NEON,NEON_FLAG_W,NEONER,DOC,DOC_FLAG_W,TDN,TDN_FLAG_W,N2O,N2O_FLAG_W,ARGON,ARGON_FLAG_W,TRITER,HELIER,DELHER,ARGONER,KRYPTON,KRYPTON_FLAG_W,KRYPTONER,XENON,XENON_FLAG_W,XENONER,14C-DOC,14C-DOC_FLAG_W,14C-DOCERR,13C-DOC,13C-DOC_FLAG_W,13C-DOCERR,THETA,SALTREF,SALTREF_FLAG_W,SBE35,SBE35_FLAG_W,CHLORA,CHLORA_FLAG_W
,,,,,,,,,,,METERS,DBAR,ITS-90,PSS-78,,PSS-78,,UMOL/KG,,UMOL/KG,,UMOL/KG,,UMOL/KG,,UMOL/KG,,UMOL/KG,,PMOL/KG,,PMOL/KG,,FMOL/KG,,UMOL/KG,,UMOL/KG,,,,DEG C,TU,,NMOL/KG,,PERCNT,,DEG C,/MILLE,,/MILLE,,/MILLE,NMOL/KG,,NMOL/KG,UMOL/KG,,UMOL/KG,,NMOL/KG,,UMOL/KG,,TU,NMOL/KG,PERCNT,UMOL/KG,NMOL/KG,,NMOL/KG,NMOL/KG,,NMOL/KG,/MILLE,,/MILLE,/MILLE,,/MILLE,DEG C,G/KG,,ITS-90,,MG/M3,
33RO20150410,     P16N.1,      60,          1,         24,         24,2,20150426,       2134,     1.4010,  -150.9997,       4108,    15.1,  28.4861,  35.1493,2,  35.1489,2,    196.1,2,   197.0,2,    1.80,2,    3.10,2,    0.31,2,    0.50,2,-999.000,9,-999.000,9,-999.000,9,  2012.6,6,  2311.1,2,   8.0345,2,    25.00,-999.000,9,-999.0000,9, -999.00,9,-999.0000, -999.00,9,  -999.0,9,  -999.0,-999.000,9,-999.000,    59.6,2,    7.60,2,     -999.0,9, -999.00,9,-999.000,-999.0000, -999.00,     -999.0,     -999.0,9,     -999.0,     -999.0,9,     -999.0,  -999.0,9,     -999.0,     -999.0,9,     -999.0,  28.4825,    35.3147,2,-999.0000,2,      0.178,2
33RO20150410,     P16N.1,      60,          1,         23,         23,2,20150426,       2134,     1.4010,  -150.9997,       4108,    33.3,  28.4357,  35.1512,2,  35.1499,2,    197.0,2,   197.0,2,    1.80,2,    3.10,2,    0.31,2,    0.51,2,-999.000,9,-999.000,9,-999.000,9,  2009.8,2,  2311.2,6,   8.0344,2,    25.01,-999.000,9,-999.0000,9, -999.00,9,-999.0000, -999.00,9,  -999.0,9,  -999.0,-999.000,9,-999.000,    59.4,2,    7.60,2,     -999.0,9, -999.00,9,-999.000,-999.0000, -999.00,     -999.0,     -999.0,9,     -999.0,     -999.0,9,     -999.0,  -999.0,9,     -999.0,     -999.0,9,     -999.0,  28.4278,    35.3157,2,-999.0000,2,      0.215,2
33RO20150410,     P16N.1,      60,          1,         22,         22,2,20150426,       2134,     1.4010,  -150.9997,       4108,    57.5,  28.3077,  35.1329,2,  35.1316,2,    195.1,2,   195.2,2,    1.80,2,    3.10,2,    0.38,2,    0.52,2,-999.000,9,-999.000,9,-999.000,9,  2010.6,2,  2309.8,2,   8.0311,6,    25.00,-999.000,9,-999.0000,9, -999.00,9,-999.0000, -999.00,9,  -999.0,9,  -999.0,-999.000,9,-999.000,    59.1,2,    7.50,2,     -999.0,9, -999.00,9,-999.000,-999.0000, -999.00,     -999.0,     -999.0,9,     -999.0,     -999.0,9,     -999.0,  -999.0,9,     -999.0,     -999.0,9,     -999.0,  28.2940,    35.2973,2,-999.0000,2,      0.315,2
33RO20150410,     P16N.1,      60,          1,         21,         21,2,20150426,       2134,     1.4010,  -150.9997,       4108,    82.7,  27.7232,  35.0776,2,  35.0779,2,    182.1,2,   181.2,2,    1.90,2,    3.60,2,    0.68,2,    0.56,2,-999.000,9,-999.000,9,-999.000,9,  2016.8,2,  2305.4,2,   8.0153,2,    24.98,-999.000,9,-999.0000,9, -999.00,9,-999.0000, -999.00,9,  -999.0,9,  -999.0,-999.000,9,-999.000,    58.3,2,    7.50,2,     -999.0,9, -999.00,9,-999.000,-999.0000, -999.00,     -999.0,     -999.0,9,     -999.0,     -999.0,9,     -999.0,  -999.0,9,     -999.0,     -999.0,9,     -999.0,  27.7039,    35.2433,2,-999.0000,2,      0.342,2
33RO20150410,     P16N.1,      60,          1,         20,         20,2,20150426,       2134,     1.4010,  -150.9997,       4108,   106.8,  26.1793,  35.0719,2,  35.0704,2,    156.6,2,   155.6,2,    2.90,2,    6.90,2,    0.13,2,    0.72,2,-999.000,9,-999.000,9,-999.000,9,  2040.6,2,  2302.1,2,   7.9651,2,    24.98,-999.000,9,-999.0000,9, -999.00,9,-999.0000, -999.00,9,  -999.0,9,  -999.0,-999.000,9,-999.000,    53.9,2,   10.30,2,     -999.0,9, -999.00,9,-999.000,-999.0000, -999.00,     -999.0,     -999.0,9,     -999.0,     -999.0,9,     -999.0,  -999.0,9,     -999.0,     -999.0,9,     -999.0,  26.1553,    35.2357,6,-999.0000,2,      0.184,2
33RO20150410,     P16N.1,      60,          1,         19,         19,2,20150426,       2134,     1.4010,  -150.9997,       4108,   133.4,  21.9605,  34.9442,2,  34.9369,2,    127.6,2,   127.4,2,    7.20,2,   10.60,2,    0.04,2,    0.90,2,-999.000,9,-999.000,9,-999.000,9,  2083.9,2,  2296.5,2,   7.8739,2,    24.98,-999.000,9,-999.0000,9, -999.00,9,-999.0000, -999.00,9,  -999.0,9,  -999.0,-999.000,9,-999.000,    49.5,2,   13.00,2,     -999.0,9, -999.00,9,-999.000,-999.0000, -999.00,     -999.0,     -999.0,9,     -999.0,     -999.0,9,     -999.0,  -999.0,9,     -999.0,     -999.0,9,     -999.0,  21.9342,    35.1017,2,-999.0000,2,      0.050,2
33RO20150410,     P16N.1,      60,          1,         18,         18,2,20150426,       2134,     1.4010,  -150.9997,       4108,   165.8,  14.8933,  34.7034,2,  34.7043,2,    117.9,2,   116.6,2,   17.10,2,   18.30,2,    0.01,2,    1.43,2,-999.000,9,-999.000,9,-999.000,9,  2145.7,2,  2293.6,2,   7.7265,2,    24.99,-999.000,9,-999.0000,9, -999.00,9,-999.0000, -999.00,9,  -999.0,9,  -999.0,-999.000,9,-999.000,    46.3,2,   20.40,2,     -999.0,9, -999.00,9,-999.000,-999.0000, -999.00,     -999.0,     -999.0,9,     -999.0,     -999.0,9,     -999.0,  -999.0,9,     -999.0,     -999.0,9,     -999.0,  14.8684,    34.8680,2,-999.0000,2,      0.014,2
33RO20150410,     P16N.1,      60,          1,         17,         17,2,20150426,       2134,     1.4010,  -150.9997,       4108,   225.6,  11.8910,  34.8331,2,  34.8313,2,     79.1,2,    75.4,2,   21.80,2,   27.10,2,    0.01,2,    1.98,2,-999.000,9,-999.000,9,-999.000,9,  2207.5,2,  2303.7,2,   7.5923,6,    25.00,-999.000,9,-999.0000,9, -999.00,9,-999.0000, -999.00,9,  -999.0,9,  -999.0,-999.000,9,-999.000,    43.0,2,   29.70,2,     -999.0,9, -999.00,9,-999.000,-999.0000, -999.00,     -999.0,     -999.0,9,     -999.0,     -999.0,9,     -999.0,  -999.0,9,     -999.0,     -999.0,9,     -999.0,  11.8618,    34.9956,2,-999.0000,2,     -999.0,9
33RO20150410,     P16N.1,      60,          1,         16,         16,2,20150426,       2134,     1.4010,  -150.9997,       4108,   300.3,  11.1066,  34.7926,2,  34.7914,2,     40.2,2,    41.6,2,   26.30,2,   31.90,2,    0.01,2,    2.29,2,-999.000,9,-999.000,9,-999.000,9,  2235.9,6,  2303.2,2,   7.5021,2,    24.97,-999.000,9,-999.0000,9, -999.00,9,-999.0000, -999.00,9,  -999.0,9,  -999.0,-999.000,9,-999.000,    42.5,2,   34.70,2,     -999.0,9, -999.00,9,-999.000,-999.0000, -999.00,     -999.0,     -999.0,9,     -999.0,     -999.0,9,     -999.0,  -999.0,9,     -999.0,     -999.0,9,     -999.0,  11.0693,    34.9554,2,-999.0000,2,     -999.0,9
33RO20150410,     P16N.1,      60,          1,         15,         15,2,20150426,       2134,     1.4010,  -150.9997,       4108,   369.9,  10.2264,  34.7257,2,  34.7244,2,     54.4,2,    49.8,2,   29.00,2,   32.70,2,    0.01,2,    2.31,2,-999.000,9,-999.000,9,-999.000,9,  2236.8,2,  2302.9,2,   7.4996,6,    25.02,-999.000,9,-999.0000,9, -999.00,9,-999.0000, -999.00,9,  -999.0,9,  -999.0,-999.000,9,-999.000,    41.6,2, -999.00,9,     -999.0,9, -999.00,9,-999.000,-999.0000, -999.00,     -999.0,     -999.0,9,     -999.0,     -999.0,9,     -999.0,  -999.0,9,     -999.0,     -999.0,9,     -999.0,  10.1826,    34.8881,2,-999.0000,2,     -999.0,9
33RO20150410,     P16N.1,      60,          1,         14,         14,2,20150426,       2134,     1.4010,  -150.9997,       4108,   449.5,   8.3452,  34.6353,2,  34.6342,2,     33.2,2,    33.8,2,   39.30,2,   38.20,2,    0.01,2,    2.72,2,-999.000,9,-999.000,9,-999.000,9,  2266.6,2,  2307.5,2,   7.4241,2,    24.99,-999.000,9,-999.0000,9, -999.00,9,-999.0000, -999.00,9,  -999.0,9,  -999.0,-999.000,9,-999.000,    40.8,2, -999.00,9,     -999.0,9, -999.00,9,-999.000,-999.0000, -999.00,     -999.0,     -999.0,9,     -999.0,     -999.0,9,     -999.0,  -999.0,9,     -999.0,     -999.0,9,     -999.0,   8.2981,    34.7975,2,-999.0000,2,     -999.0,9
33RO20150410,     P16N.1,      60,          1,         13,         13,2,20150426,       2134,     1.4010,  -150.9997,       4108,   549.7,   7.2572,  34.5846,2,  34.5833,2,     55.1,2,    55.4,2,   45.40,2,   38.40,2,    0.01,2,    2.74,2,-999.000,9,-999.000,9,-999.000,9,  2264.7,2,  2314.0,2,   7.4489,2,    25.00,-999.000,9,-999.0000,9, -999.00,9,-999.0000, -999.00,9,  -999.0,9,  -999.0,-999.000,9,-999.000,    39.2,2, -999.00,9,     -999.0,9, -999.00,9,-999.000,-999.0000, -999.00,     -999.0,     -999.0,9,     -999.0,     -999.0,9,     -999.0,  -999.0,9,     -999.0,     -999.0,9,     -999.0,   7.2037,    34.7463,2,-999.0000,3,     -999.0,9
33RO20150410,     P16N.1,      60,          1,         12,         12,2,20150426,       2134,     1.4010,  -150.9997,       4108,   700.7,   5.9459,  34.5525,2,  34.5514,2,     65.3,2,    66.2,2,   59.70,2,   39.60,2,    0.01,2,    2.84,2,-999.000,9,-999.000,9,-999.000,9,  2277.0,2,  2328.2,2,   7.4514,6,    25.01,-999.000,9,-999.0000,9, -999.00,9,-999.0000, -999.00,9,  -999.0,9,  -999.0,-999.000,9,-999.000,    39.5,2, -999.00,9,     -999.0,9, -999.00,9,-999.000,-999.0000, -999.00,     -999.0,     -999.0,9,     -999.0,     -999.0,9,     -999.0,  -999.0,9,     -999.0,     -999.0,9,     -999.0,   5.8839,    34.7144,2,-999.0000,3,     -999.0,9
33RO20150410,     P16N.1,      60,          1,         11,         11,2,20150426,       2134,     1.4010,  -150.9997,       4108,   849.3,   5.2473,  34.5466,2,  34.5458,2,     78.1,2,    77.9,2,   69.00,2,   39.40,2,    0.00,2,    2.83,2,-999.000,9,-999.000,9,-999.000,9,  2284.1,2,  2338.8,2,   7.4672,6,    25.01,-999.000,9,-999.0000,9, -999.00,9,-999.0000, -999.00,9,  -999.0,9,  -999.0,-999.000,9,-999.000,    37.1,2, -999.00,9,     -999.0,9, -999.00,9,-999.000,-999.0000, -999.00,     -999.0,     -999.0,9,     -999.0,     -999.0,9,     -999.0,  -999.0,9,     -999.0,     -999.0,9,     -999.0,   5.1758,    34.7086,2,-999.0000,2,     -999.0,9
33RO20150410,     P16N.1,      60,          1,         10,         10,2,20150426,       2134,     1.4010,  -150.9997,       4108,  1000.0,   4.6826,  34.5527,2,  34.5520,2,     83.9,2,    82.7,2,   80.30,2,   39.20,2,    0.01,2,    2.84,2,-999.000,9,-999.000,9,-999.000,9,  2293.5,2,  2351.9,2,   7.4718,2,    24.98,-999.000,9,-999.0000,9, -999.00,9,-999.0000, -999.00,9,  -999.0,9,  -999.0,-999.000,9,-999.000,    37.9,2, -999.00,9,     -999.0,9, -999.00,9,-999.000,-999.0000, -999.00,     -999.0,     -999.0,9,     -999.0,     -999.0,9,     -999.0,  -999.0,9,     -999.0,     -999.0,9,     -999.0,   4.6016,    34.7150,2,-999.0000,2,     -999.0,9
33RO20150410,     P16N.1,      60,          1,          9,          9,2,20150426,       2134,     1.4010,  -150.9997,       4108,  1167.0,   4.0455,  34.5692,2,  34.5689,2,     82.3,2,    80.1,2,   94.10,2,   40.20,2,    0.01,2,    2.91,2,-999.000,9,-999.000,9,-999.000,9,  2310.6,2,  2367.1,2,   7.4652,2,    24.99,-999.000,9,-999.0000,9, -999.00,9,-999.0000, -999.00,9,  -999.0,9,  -999.0,-999.000,9,-999.000,    37.4,2, -999.00,9,     -999.0,9, -999.00,9,-999.000,-999.0000, -999.00,     -999.0,     -999.0,9,     -999.0,     -999.0,9,     -999.0,  -999.0,9,     -999.0,     -999.0,9,     -999.0,   3.9552,    34.7319,2,-999.0000,3,     -999.0,9
33RO20150410,     P16N.1,      60,          1,          8,          8,2,20150426,       2134,     1.4010,  -150.9997,       4108,  1400.7,   3.3859,  34.5929,2,  34.5931,2,     81.8,2,    80.4,2,  110.90,2,   40.50,2,    0.00,2,    2.92,2,-999.000,9,-999.000,9,-999.000,9,  2329.7,2,  2385.8,2,   7.4637,2,    25.00,-999.000,9,-999.0000,9, -999.00,9,-999.0000, -999.00,9,  -999.0,9,  -999.0,-999.000,9,-999.000,    36.9,2, -999.00,9,     -999.0,9, -999.00,9,-999.000,-999.0000, -999.00,     -999.0,     -999.0,9,     -999.0,     -999.0,9,     -999.0,  -999.0,9,     -999.0,     -999.0,9,     -999.0,   3.2821,    34.7562,2,-999.0000,3,     -999.0,9
33RO20150410,     P16N.1,      60,          1,          7,          7,2,20150426,       2134,     1.4010,  -150.9997,       4108,  1733.0,   2.4703,  34.6319,2,  34.6310,2,     99.1,2,    99.2,2,  131.20,2,   39.50,2,    0.00,2,    2.85,2,-999.000,9,-999.000,9,-999.000,9,  2342.3,2,  2409.5,2,   7.4949,2,    25.00,-999.000,9,-999.0000,9, -999.00,9,-999.0000, -999.00,9,  -999.0,9,  -999.0,-999.000,9,-999.000,    36.2,2, -999.00,9,     -999.0,9, -999.00,9,-999.000,-999.0000, -999.00,     -999.0,     -999.0,9,     -999.0,     -999.0,9,     -999.0,  -999.0,9,     -999.0,     -999.0,9,     -999.0,   2.3494,    34.7943,2,-999.0000,3,     -999.0,9
33RO20150410,     P16N.1,      60,          1,          6,          6,2,20150426,       2134,     1.4010,  -150.9997,       4108,  2132.8,   2.0843,  34.6522,2,  34.6508,2,    110.7,2,   109.3,2,  139.60,2,   38.90,2,    0.00,2,    2.77,2,-999.000,9,-999.000,9,-999.000,9,  2342.2,2,  2419.7,2,   7.5153,2,    25.00,-999.000,9,-999.0000,9, -999.00,9,-999.0000, -999.00,9,  -999.0,9,  -999.0,-999.000,9,-999.000,    35.9,2, -999.00,9,     -999.0,9, -999.00,9,-999.000,-999.0000, -999.00,     -999.0,     -999.0,9,     -999.0,     -999.0,9,     -999.0,  -999.0,9,     -999.0,     -999.0,9,     -999.0,   1.9351,    34.8142,2,-999.0000,3,     -999.0,9
33RO20150410,     P16N.1,      60,          1,          5,          5,2,20150426,       2134,     1.4010,  -150.9997,       4108,  2532.6,   1.8597,  34.6653,2,  34.6643,2,    119.2,2,   120.6,2,  143.40,2,   38.20,2,    0.01,2,    2.70,2,-999.000,9,-999.000,9,-999.000,9,  2344.4,2,  2425.6,2,   7.5330,2,    24.99,-999.000,9,-999.0000,9, -999.00,9,-999.0000, -999.00,9,  -999.0,9,  -999.0,-999.000,9,-999.000,    35.7,2, -999.00,9,     -999.0,9, -999.00,9,-999.000,-999.0000, -999.00,     -999.0,     -999.0,9,     -999.0,     -999.0,9,     -999.0,  -999.0,9,     -999.0,     -999.0,9,     -999.0,   1.6790,    34.8278,2,-999.0000,2,     -999.0,9
33RO20150410,     P16N.1,      60,          1,          4,          4,2,20150426,       2134,     1.4010,  -150.9997,       4108,  2933.7,   1.6946,  34.6747,2,  34.6736,2,    132.9,2,   131.1,2,  144.10,6,   37.30,6,    0.00,6,    2.63,6,-999.000,9,-999.000,9,-999.000,9,  2337.1,2,  2426.2,2,   7.5520,2,    25.01,-999.000,9,-999.0000,9, -999.00,9,-999.0000, -999.00,9,  -999.0,9,  -999.0,-999.000,9,-999.000,    35.8,2, -999.00,9,     -999.0,9, -999.00,9,-999.000,-999.0000, -999.00,     -999.0,     -999.0,9,     -999.0,     -999.0,9,     -999.0,  -999.0,9,     -999.0,     -999.0,9,     -999.0,   1.4798,    34.8371,2,-999.0000,2,     -999.0,9
33RO20150410,     P16N.1,      60,          1,          3,          3,2,20150426,       2134,     1.4010,  -150.9997,       4108,  3332.9,   1.5743,  34.6822,2,  34.6811,2,    141.8,2,   141.2,2,  143.30,6,   36.70,6,    0.00,6,    2.57,6,-999.000,9,-999.000,9,-999.000,9,  2330.3,2,  2425.4,6,   7.5675,6,    25.00,-999.000,9,-999.0000,9, -999.00,9,-999.0000, -999.00,9,  -999.0,9,  -999.0,-999.000,9,-999.000,    36.2,2, -999.00,9,     -999.0,9, -999.00,9,-999.000,-999.0000, -999.00,     -999.0,     -999.0,9,     -999.0,     -999.0,9,     -999.0,  -999.0,9,     -999.0,     -999.0,9,     -999.0,   1.3232,    34.8446,2,-999.0000,2,     -999.0,9
33RO20150410,     P16N.1,      60,          1,          2,          2,2,20150426,       2134,     1.4010,  -150.9997,       4108,  3732.6,   1.4214,  34.6929,2,  34.6924,2,    155.1,2,   154.4,2,  143.20,6,   35.90,6,    0.00,6,    2.50,6,-999.000,9,-999.000,9,-999.000,9,  2327.0,2,  2428.8,6,   7.5934,2,    25.01,-999.000,9,-999.0000,9, -999.00,9,-999.0000, -999.00,9,  -999.0,9,  -999.0,-999.000,9,-999.000,    36.0,2, -999.00,9,     -999.0,9, -999.00,9,-999.000,-999.0000, -999.00,     -999.0,     -999.0,9,     -999.0,     -999.0,9,     -999.0,  -999.0,9,     -999.0,     -999.0,9,     -999.0,   1.1331,    34.8560,6,-999.0000,2,     -999.0,9
33RO20150410,     P16N.1,      60,          1,          1,          1,2,20150426,       2134,     1.4010,  -150.9997,       4108,  4035.7,   1.4068,  34.6948,2,  34.6943,2,    159.9,2,   161.0,2,  140.70,6,   35.50,6,    0.01,6,    2.47,6,-999.000,9,-999.000,9,-999.000,9,  2322.1,6,  2425.9,2,   7.5980,2,    25.02,-999.000,9,-999.0000,9, -999.00,9,-999.0000, -999.00,9,  -999.0,9,  -999.0,-999.000,9,-999.000,    37.5,2, -999.00,9,     -999.0,9, -999.00,9,-999.000,-999.0000, -999.00,     -999.0,     -999.0,9,     -999.0,     -999.0,9,     -999.0,  -999.0,9,     -999.0,     -999.0,9,     -999.0,   1.0865,    34.8579,2,-999.0000,2,     -999.0,9