BOTTLE,20210709CCHSIOCBG
EXPOCODE,SECT_ID,STNNBR,CASTNO,SAMPNO,BTLNBR,BTLNBR_FLAG_W,DATE,TIME,LATITUDE,LONGITUDE,DEPTH,CTDPRS,CTDTMP,CTDSAL,CTDSAL_FLAG_W,SALNTY,SALNTY_FLAG_W,CTDOXY,CTDOXY_FLAG_W,OXYGEN,OXYGEN_FLAG_W,SILCAT,SILCAT_FLAG_W,NITRAT,NITRAT_FLAG_W,NITRIT,NITRIT_FLAG_W,PHSPHT,PHSPHT_FLAG_W,CFC-11,CFC-11_FLAG_W,CFC-12,CFC-12_FLAG_W,SF6,SF6_FLAG_W,TCARBN,TCARBN_FLAG_W,ALKALI,ALKALI_FLAG_W,PH_TOT,PH_TOT_FLAG_W,PH_TMP,TRITUM,TRITUM_FLAG_W,HELIUM,HELIUM_FLAG_W,DELHE3,DELHE3_FLAG_W,REFTMP,DELC13,DELC13_FLAG_W,DELC14,DELC14_FLAG_W,C14ERR,NEON,NEON_FLAG_W,NEONER,DOC,DOC_FLAG_W,TDN,TDN_FLAG_W,N2O,N2O_FLAG_W,ARGON,ARGON_FLAG_W,TRITER,HELIER,DELHER,ARGONER,KRYPTON,KRYPTON_FLAG_W,KRYPTONER,XENON,XENON_FLAG_W,XENONER,14C-DOC,14C-DOC_FLAG_W,14C-DOCERR,13C-DOC,13C-DOC_FLAG_W,13C-DOCERR,THETA,SALTREF,SALTREF_FLAG_W,SBE35,SBE35_FLAG_W,CHLORA,CHLORA_FLAG_W
,,,,,,,,,,,METERS,DBAR,ITS-90,PSS-78,,PSS-78,,UMOL/KG,,UMOL/KG,,UMOL/KG,,UMOL/KG,,UMOL/KG,,UMOL/KG,,PMOL/KG,,PMOL/KG,,FMOL/KG,,UMOL/KG,,UMOL/KG,,,,DEG C,TU,,NMOL/KG,,PERCNT,,DEG C,/MILLE,,/MILLE,,/MILLE,NMOL/KG,,NMOL/KG,UMOL/KG,,UMOL/KG,,NMOL/KG,,UMOL/KG,,TU,NMOL/KG,PERCNT,UMOL/KG,NMOL/KG,,NMOL/KG,NMOL/KG,,NMOL/KG,/MILLE,,/MILLE,/MILLE,,/MILLE,DEG C,G/KG,,ITS-90,,MG/M3,
33RO20150410,     P16N.1,      14,          1,         24,         24,2,20150415,       0137,   -10.0001,  -151.0003,       4998,     9.9,  29.1636,  35.7590,2,  35.7565,2,    193.0,2,   191.3,2,    0.70,2,    0.00,2,    0.00,2,    0.14,4,   1.375,2,   0.916,2,   1.203,2,  1992.9,6,  2356.9,2,   8.1235,2,    25.01,-999.000,9,-999.0000,9, -999.00,9,  29.1668, -999.00,9,  -999.0,9,  -999.0,-999.000,9,-999.000,  -999.0,9, -999.00,9,      5.785,3, -999.00,9,-999.000,-999.0000, -999.00,     -999.0,     -999.0,9,     -999.0,     -999.0,9,     -999.0,  -999.0,9,     -999.0,     -999.0,9,     -999.0,  29.1612,    35.9251,2,-999.0000,2,     -999.0,9
33RO20150410,     P16N.1,      14,          1,         23,         23,2,20150415,       0137,   -10.0001,  -151.0003,       4998,    25.1,  29.1035,  35.7563,2,  35.7539,2,    193.6,2,   194.3,2,    0.70,2,    0.00,2,    0.00,2,    0.14,4,   1.379,2,   0.908,2,   1.162,2,  1993.7,2,  2357.0,2,   8.1241,6,    25.00,-999.000,9,-999.0000,9, -999.00,9,  29.1073, -999.00,9,  -999.0,9,  -999.0,-999.000,9,-999.000,  -999.0,9, -999.00,9,      5.782,3, -999.00,9,-999.000,-999.0000, -999.00,     -999.0,     -999.0,9,     -999.0,     -999.0,9,     -999.0,  -999.0,9,     -999.0,     -999.0,9,     -999.0,  29.0974,    35.9225,2,-999.0000,2,     -999.0,9
33RO20150410,     P16N.1,      14,          1,         22,         22,2,20150415,       0137,   -10.0001,  -151.0003,       4998,    49.4,  29.0853,  35.7567,2,  35.7569,2,    193.7,2,   193.0,2,    0.80,2,    0.00,2,    0.00,2,    0.16,4,   1.373,6,   0.916,6,     1.2,6,  1996.1,2,  2359.1,6,   8.1240,2,    24.99,-999.000,9,-999.0000,9, -999.00,9,  29.0848, -999.00,9,  -999.0,9,  -999.0,-999.000,9,-999.000,  -999.0,9, -999.00,9,      5.827,3, -999.00,9,-999.000,-999.0000, -999.00,     -999.0,     -999.0,9,     -999.0,     -999.0,9,     -999.0,  -999.0,9,     -999.0,     -999.0,9,     -999.0,  29.0733,    35.9255,2,-999.0000,3,     -999.0,9
33RO20150410,     P16N.1,      14,          1,         21,         21,2,20150415,       0137,   -10.0001,  -151.0003,       4998,    74.6,  28.5361,  36.0264,2,  36.0063,2,    196.0,2,   195.9,2,    0.80,2,    0.00,2,    0.01,2,    0.19,4,   1.412,2,   0.933,2,   1.199,2,  2014.9,2,  2373.6,2,   8.1104,2,    24.99,-999.000,9,-999.0000,9, -999.00,9,  28.5401, -999.00,9,  -999.0,9,  -999.0,-999.000,9,-999.000,  -999.0,9, -999.00,9,      6.034,3, -999.00,9,-999.000,-999.0000, -999.00,     -999.0,     -999.0,9,     -999.0,     -999.0,9,     -999.0,  -999.0,9,     -999.0,     -999.0,9,     -999.0,  28.5182,    36.1761,6,-999.0000,3,     -999.0,9
33RO20150410,     P16N.1,      14,          1,         20,         20,2,20150415,       0137,   -10.0001,  -151.0003,       4998,    99.8,  27.3802,  36.2698,2,  36.2789,2,    186.8,2,   183.1,2,    1.10,2,    0.70,2,    0.42,2,    0.32,4,   1.492,2,   0.986,2,   1.209,2,  2055.5,2,  2391.8,2,   8.0753,2,    24.98,-999.000,9,-999.0000,9, -999.00,9,  27.3869, -999.00,9,  -999.0,9,  -999.0,-999.000,9,-999.000,  -999.0,9, -999.00,9,      6.304,3, -999.00,9,-999.000,-999.0000, -999.00,     -999.0,     -999.0,9,     -999.0,     -999.0,9,     -999.0,  -999.0,9,     -999.0,     -999.0,9,     -999.0,  27.3570,    36.4499,2,-999.0000,2,     -999.0,9
33RO20150410,     P16N.1,      14,          1,         19,         19,3,20150415,       0137,   -10.0001,  -151.0003,       4998,   150.7,  25.1958,  36.3533,2,  36.3479,2,    161.6,2,  -999.0,9,    1.10,2,    4.10,2,    0.23,2,    0.48,4,-999.000,9,-999.000,9,-999.000,9,  -999.0,9,  -999.0,9,-999.0000,9,  -999.00,-999.000,9,-999.0000,9, -999.00,9,  25.2016, -999.00,9,  -999.0,9,  -999.0,-999.000,9,-999.000,  -999.0,9, -999.00,9,     -999.0,9, -999.00,9,-999.000,-999.0000, -999.00,     -999.0,     -999.0,9,     -999.0,     -999.0,9,     -999.0,  -999.0,9,     -999.0,     -999.0,9,     -999.0,  25.1628,    36.5193,2,-999.0000,2,     -999.0,9
33RO20150410,     P16N.1,      14,          1,         18,         18,2,20150415,       0137,   -10.0001,  -151.0003,       4998,   211.8,  20.7459,  35.8625,2,  35.8120,4,    162.2,2,   160.1,2,    1.50,2,    6.60,2,    0.01,2,    0.62,4,   2.047,2,   1.292,2,   1.294,2,  2126.4,2,  2362.9,2,   7.9068,6,    25.00,-999.000,9,-999.0000,9, -999.00,9,  20.8292, -999.00,9,  -999.0,9,  -999.0,-999.000,9,-999.000,  -999.0,9, -999.00,9,     10.437,3, -999.00,9,-999.000,-999.0000, -999.00,     -999.0,     -999.0,9,     -999.0,     -999.0,9,     -999.0,  -999.0,9,     -999.0,     -999.0,9,     -999.0,  20.7055,    35.9809,2,-999.0000,2,     -999.0,9
33RO20150410,     P16N.1,      14,          1,         17,         17,2,20150415,       0137,   -10.0001,  -151.0003,       4998,   297.6,  14.0091,  34.9666,2,  34.9645,2,     89.3,2,    87.1,2,   10.20,2,   19.50,2,    0.01,2,    1.53,4,   1.832,2,   1.081,2,   0.784,2,  2191.3,2,  2309.7,2,   7.6461,2,    24.98,-999.000,9,-999.0000,9, -999.00,9,  14.0195, -999.00,9,  -999.0,9,  -999.0,-999.000,9,-999.000,  -999.0,9, -999.00,9,     36.375,3, -999.00,9,-999.000,-999.0000, -999.00,     -999.0,     -999.0,9,     -999.0,     -999.0,9,     -999.0,  -999.0,9,     -999.0,     -999.0,9,     -999.0,  13.9659,    35.1293,2,-999.0000,2,     -999.0,9
33RO20150410,     P16N.1,      14,          1,         16,         16,4,20150415,       0137,   -10.0001,  -151.0003,       4998,   400.5,   9.8376,  34.6719,2,  34.6668,2,     74.2,2,   114.5,4,  101.10,4,   33.50,4,    0.00,4,    2.37,4,   0.350,3,   0.196,3,   0.106,4,  2258.9,4,  2348.6,4,   7.5574,2,    24.99,-999.000,9,-999.0000,9, -999.00,9,   9.8486, -999.00,9,  -999.0,9,  -999.0,-999.000,9,-999.000,  -999.0,9, -999.00,9,     33.107,3, -999.00,9,-999.000,-999.0000, -999.00,     -999.0,     -999.0,9,     -999.0,     -999.0,9,     -999.0,  -999.0,9,     -999.0,     -999.0,9,     -999.0,   9.7913,    34.8302,4,-999.0000,2,     -999.0,9
33RO20150410,     P16N.1,      14,          1,         15,         15,2,20150415,       0137,   -10.0001,  -151.0003,       4998,   499.8,   8.0053,  34.6037,2,  34.6053,2,     97.7,2,    96.3,2,   30.30,2,   32.60,2,    0.00,2,    2.10,4,   0.372,2,   0.205,2,   0.076,2,  2226.4,2,  2305.7,2,   7.5384,2,    25.00,-999.000,9,-999.0000,9, -999.00,9,   8.0094, -999.00,9,  -999.0,9,  -999.0,-999.000,9,-999.000,  -999.0,9, -999.00,9,     37.620,3, -999.00,9,-999.000,-999.0000, -999.00,     -999.0,     -999.0,9,     -999.0,     -999.0,9,     -999.0,  -999.0,9,     -999.0,     -999.0,9,     -999.0,   7.9540,    34.7684,2,-999.0000,2,     -999.0,9
33RO20150410,     P16N.1,      14,          1,         14,         14,2,20150415,       0137,   -10.0001,  -151.0003,       4998,   650.4,   6.6389,  34.5430,2,  34.5512,2,     97.6,2,    96.7,2,   41.00,2,   35.40,2,    0.00,2,    2.29,4,   0.175,2,   0.096,2,       0,2,  2244.1,2,  2313.0,2,   7.5150,2,    25.00,-999.000,9,-999.0000,9, -999.00,9,   6.6373, -999.00,9,  -999.0,9,  -999.0,-999.000,9,-999.000,  -999.0,9, -999.00,9,     35.595,3, -999.00,9,-999.000,-999.0000, -999.00,     -999.0,     -999.0,9,     -999.0,     -999.0,9,     -999.0,  -999.0,9,     -999.0,     -999.0,9,     -999.0,   6.5782,    34.7142,2,-999.0000,2,     -999.0,9
33RO20150410,     P16N.1,      14,          1,         13,         13,2,20150415,       0137,   -10.0001,  -151.0003,       4998,   800.5,   5.5768,  34.5209,2,  34.5226,2,     98.8,2,    98.5,2,   53.60,2,   37.10,2,    0.00,2,    2.44,4,   0.069,2,   0.029,2,       0,2,  2259.7,2,  2324.9,2,   7.5016,2,    25.00,-999.000,9,-999.0000,9, -999.00,9,   5.5764, -999.00,9,  -999.0,9,  -999.0,-999.000,9,-999.000,  -999.0,9, -999.00,9,     33.463,3, -999.00,9,-999.000,-999.0000, -999.00,     -999.0,     -999.0,9,     -999.0,     -999.0,9,     -999.0,  -999.0,9,     -999.0,     -999.0,9,     -999.0,   5.5077,    34.6854,2,-999.0000,2,     -999.0,9
33RO20150410,     P16N.1,      14,          1,         12,         12,2,20150415,       0137,   -10.0001,  -151.0003,       4998,   955.7,   4.7230,  34.5213,2,  34.5242,2,    104.3,2,   103.3,2,   66.40,2,   37.70,2,    0.00,2,    2.52,4,   0.013,2,   0.006,2,       0,2,  2270.0,2,  2344.7,2,   7.5017,6,    25.01,-999.000,9,-999.0000,9, -999.00,9,   4.7243, -999.00,9,  -999.0,9,  -999.0,-999.000,9,-999.000,  -999.0,9, -999.00,9,     31.486,3, -999.00,9,-999.000,-999.0000, -999.00,     -999.0,     -999.0,9,     -999.0,     -999.0,9,     -999.0,  -999.0,9,     -999.0,     -999.0,9,     -999.0,   4.6457,    34.6869,2,-999.0000,2,     -999.0,9
33RO20150410,     P16N.1,      14,          1,         11,         11,2,20150415,       0137,   -10.0001,  -151.0003,       4998,  1100.7,   4.2048,  34.5324,2,  34.5332,2,    110.5,2,   110.4,2,   76.40,2,   37.60,2,    0.00,2,    2.55,4,   0.004,2,   0.001,2,       0,2,  2278.9,2,  2347.2,2,   7.5107,2,    25.00,-999.000,9,-999.0000,9, -999.00,9,   4.2037, -999.00,9,  -999.0,9,  -999.0,-999.000,9,-999.000,  -999.0,9, -999.00,9,     29.956,3, -999.00,9,-999.000,-999.0000, -999.00,     -999.0,     -999.0,9,     -999.0,     -999.0,9,     -999.0,  -999.0,9,     -999.0,     -999.0,9,     -999.0,   4.1189,    34.6960,2,-999.0000,2,     -999.0,9
33RO20150410,     P16N.1,      14,          1,         10,         10,2,20150415,       0137,   -10.0001,  -151.0003,       4998,  1299.0,   3.5125,  34.5591,2,  34.5595,2,    117.3,2,   116.5,2,   91.00,2,   37.60,2,    0.00,2,    2.58,4,   0.001,2,   0.000,2,       0,2,  2291.0,2,  2362.5,2,   7.5173,2,    25.02,-999.000,9,-999.0000,9, -999.00,9,   3.5142, -999.00,9,  -999.0,9,  -999.0,-999.000,9,-999.000,  -999.0,9, -999.00,9,     28.226,3, -999.00,9,-999.000,-999.0000, -999.00,     -999.0,     -999.0,9,     -999.0,     -999.0,9,     -999.0,  -999.0,9,     -999.0,     -999.0,9,     -999.0,   3.4160,    34.7225,2,-999.0000,2,     -999.0,9
33RO20150410,     P16N.1,      14,          1,          9,          9,2,20150415,       0137,   -10.0001,  -151.0003,       4998,  1599.9,   2.6661,  34.6055,2,  34.6065,2,    128.2,2,   127.8,2,  110.20,2,   37.00,2,    0.00,2,    2.60,4,   0.004,2,  -0.001,2,       0,2,  2304.2,2,  2387.2,2,   7.5365,2,    25.00,-999.000,9,-999.0000,9, -999.00,9,   2.6659, -999.00,9,  -999.0,9,  -999.0,-999.000,9,-999.000,  -999.0,9, -999.00,9,     25.473,3, -999.00,9,-999.000,-999.0000, -999.00,     -999.0,     -999.0,9,     -999.0,     -999.0,9,     -999.0,  -999.0,9,     -999.0,     -999.0,9,     -999.0,   2.5538,    34.7696,2,-999.0000,2,     -999.0,9
33RO20150410,     P16N.1,      14,          1,          8,          8,2,20150415,       0137,   -10.0001,  -151.0003,       4998,  1999.9,   2.1475,  34.6399,2,  34.6399,2,    138.2,2,   138.4,2,  121.50,2,   36.30,2,    0.00,2,    2.57,4,   0.001,3,   0.001,2,       0,2,  2311.2,6,  2399.4,2,   7.5549,2,    25.01,-999.000,9,-999.0000,9, -999.00,9,   2.1473, -999.00,9,  -999.0,9,  -999.0,-999.000,9,-999.000,  -999.0,9, -999.00,9,     23.414,3, -999.00,9,-999.000,-999.0000, -999.00,     -999.0,     -999.0,9,     -999.0,     -999.0,9,     -999.0,  -999.0,9,     -999.0,     -999.0,9,     -999.0,   2.0088,    34.8032,2,-999.0000,2,     -999.0,9
33RO20150410,     P16N.1,      14,          1,          7,          7,2,20150415,       0137,   -10.0001,  -151.0003,       4998,  2384.5,   1.8573,  34.6643,2,  34.6662,2,    143.2,2,   143.9,2,  131.20,2,   35.90,2,    0.00,2,    2.57,4,   0.047,3,   0.001,2,       0,2,  2317.6,2,  2411.6,2,   7.5660,6,    25.02,-999.000,9,-999.0000,9, -999.00,9,   1.8573, -999.00,9,  -999.0,9,  -999.0,-999.000,9,-999.000,  -999.0,9, -999.00,9,     22.114,3, -999.00,9,-999.000,-999.0000, -999.00,     -999.0,     -999.0,9,     -999.0,     -999.0,9,     -999.0,  -999.0,9,     -999.0,     -999.0,9,     -999.0,   1.6899,    34.8297,2,-999.0000,2,     -999.0,9
33RO20150410,     P16N.1,      14,          1,          6,          6,2,20150415,       0137,   -10.0001,  -151.0003,       4998,  2799.4,   1.7456,  34.6741,2,  34.6743,2,    147.1,2,   147.7,2,  134.10,2,   35.60,2,    0.00,2,    2.56,4,   0.013,3,   0.002,2,       0,2,  2319.5,2,  2415.4,2,   7.5749,2,    24.99,-999.000,9,-999.0000,9, -999.00,9,   1.7452, -999.00,9,  -999.0,9,  -999.0,-999.000,9,-999.000,  -999.0,9, -999.00,9,     21.730,3, -999.00,9,-999.000,-999.0000, -999.00,     -999.0,     -999.0,9,     -999.0,     -999.0,9,     -999.0,  -999.0,9,     -999.0,     -999.0,9,     -999.0,   1.5425,    34.8378,2,-999.0000,2,     -999.0,9
33RO20150410,     P16N.1,      14,          1,          5,          5,2,20150415,       0137,   -10.0001,  -151.0003,       4998,  3200.7,   1.6253,  34.6817,2,  34.6837,2,    154.5,2,   154.7,2,  135.50,2,   35.20,2,    0.00,2,    2.55,4,   0.008,3,  -0.001,2,       0,2,  2316.8,2,  2415.5,2,   7.5837,6,    25.00,-999.000,9,-999.0000,9, -999.00,9,   1.6254, -999.00,9,  -999.0,9,  -999.0,-999.000,9,-999.000,  -999.0,9, -999.00,9,     20.893,3, -999.00,9,-999.000,-999.0000, -999.00,     -999.0,     -999.0,9,     -999.0,     -999.0,9,     -999.0,  -999.0,9,     -999.0,     -999.0,9,     -999.0,   1.3861,    34.8472,2,-999.0000,2,     -999.0,9
33RO20150410,     P16N.1,      14,          1,          4,          4,2,20150415,       0137,   -10.0001,  -151.0003,       4998,  3600.2,   1.5335,  34.6874,2,  34.6876,2,    163.6,2,   162.5,2,  133.00,6,   34.80,6,    0.00,6,    2.48,4,   0.003,2,  -0.001,2,       0,2,  2307.5,2,  2409.1,2,   7.5905,2,    24.98,-999.000,9,-999.0000,9, -999.00,9,   1.5336, -999.00,9,  -999.0,9,  -999.0,-999.000,9,-999.000,  -999.0,9, -999.00,9,     20.494,3, -999.00,9,-999.000,-999.0000, -999.00,     -999.0,     -999.0,9,     -999.0,     -999.0,9,     -999.0,  -999.0,9,     -999.0,     -999.0,9,     -999.0,   1.2561,    34.8512,2,-999.0000,2,     -999.0,9
33RO20150410,     P16N.1,      14,          1,          3,          3,2,20150415,       0137,   -10.0001,  -151.0003,       4998,  4000.1,   1.4337,  34.6937,2,  34.6935,2,    173.4,2,   172.3,2,  130.00,6,   34.10,6,    0.00,6,    2.43,4,  -0.006,2,   0.000,2,       0,2,  2298.0,2,  2402.3,6,   7.5967,2,    24.99,-999.000,9,-999.0000,9, -999.00,9,   1.4346, -999.00,9,  -999.0,9,  -999.0,-999.000,9,-999.000,  -999.0,9, -999.00,9,     19.920,3, -999.00,9,-999.000,-999.0000, -999.00,     -999.0,     -999.0,9,     -999.0,     -999.0,9,     -999.0,  -999.0,9,     -999.0,     -999.0,9,     -999.0,   1.1165,    34.8571,6,-999.0000,2,     -999.0,9
33RO20150410,     P16N.1,      14,          1,          2,          2,2,20150415,       0137,   -10.0001,  -151.0003,       4998,  4400.8,   1.3389,  34.7000,2,  34.7006,2,    185.9,2,   183.9,2,  125.30,6,   33.30,6,    0.00,6,    2.36,4,  -0.001,2,   0.000,2,       0,2,  2284.5,2,  2389.6,2,   7.6018,6,    25.01,-999.000,9,-999.0000,9, -999.00,9,   1.3388, -999.00,9,  -999.0,9,  -999.0,-999.000,9,-999.000,  -999.0,9, -999.00,9,     19.610,3, -999.00,9,-999.000,-999.0000, -999.00,     -999.0,     -999.0,9,     -999.0,     -999.0,9,     -999.0,  -999.0,9,     -999.0,     -999.0,9,     -999.0,   0.9801,    34.8642,2,-999.0000,2,     -999.0,9
33RO20150410,     P16N.1,      14,          1,          1,          1,2,20150415,       0137,   -10.0001,  -151.0003,       4998,  4754.0,   1.3233,  34.7023,2,  34.7042,2,    190.4,2,   190.6,2,  123.20,6,   33.00,6,    0.00,6,    2.32,4,   0.003,6,   0.002,6,       0,6,  2278.3,6,  2383.0,2,   7.6044,2,    25.01,-999.000,9,-999.0000,9, -999.00,9,   1.3230, -999.00,9,  -999.0,9,  -999.0,-999.000,9,-999.000,  -999.0,9, -999.00,9,     19.337,3, -999.00,9,-999.000,-999.0000, -999.00,     -999.0,     -999.0,9,     -999.0,     -999.0,9,     -999.0,  -999.0,9,     -999.0,     -999.0,9,     -999.0,   0.9242,    34.8679,2,-999.0000,2,     -999.0,9