BOTTLE,20210709CCHSIOCBG
EXPOCODE,SECT_ID,STNNBR,CASTNO,SAMPNO,BTLNBR,BTLNBR_FLAG_W,DATE,TIME,LATITUDE,LONGITUDE,DEPTH,CTDPRS,CTDTMP,CTDSAL,CTDSAL_FLAG_W,SALNTY,SALNTY_FLAG_W,CTDOXY,CTDOXY_FLAG_W,OXYGEN,OXYGEN_FLAG_W,SILCAT,SILCAT_FLAG_W,NITRAT,NITRAT_FLAG_W,NITRIT,NITRIT_FLAG_W,PHSPHT,PHSPHT_FLAG_W,CFC-11,CFC-11_FLAG_W,CFC-12,CFC-12_FLAG_W,SF6,SF6_FLAG_W,TCARBN,TCARBN_FLAG_W,ALKALI,ALKALI_FLAG_W,PH_TOT,PH_TOT_FLAG_W,PH_TMP,TRITUM,TRITUM_FLAG_W,HELIUM,HELIUM_FLAG_W,DELHE3,DELHE3_FLAG_W,REFTMP,DELC13,DELC13_FLAG_W,DELC14,DELC14_FLAG_W,C14ERR,NEON,NEON_FLAG_W,NEONER,DOC,DOC_FLAG_W,TDN,TDN_FLAG_W,N2O,N2O_FLAG_W,ARGON,ARGON_FLAG_W,TRITER,HELIER,DELHER,ARGONER,KRYPTON,KRYPTON_FLAG_W,KRYPTONER,XENON,XENON_FLAG_W,XENONER,14C-DOC,14C-DOC_FLAG_W,14C-DOCERR,13C-DOC,13C-DOC_FLAG_W,13C-DOCERR,THETA,SALTREF,SALTREF_FLAG_W,SBE35,SBE35_FLAG_W,CHLORA,CHLORA_FLAG_W
,,,,,,,,,,,METERS,DBAR,ITS-90,PSS-78,,PSS-78,,UMOL/KG,,UMOL/KG,,UMOL/KG,,UMOL/KG,,UMOL/KG,,UMOL/KG,,PMOL/KG,,PMOL/KG,,FMOL/KG,,UMOL/KG,,UMOL/KG,,,,DEG C,TU,,NMOL/KG,,PERCNT,,DEG C,/MILLE,,/MILLE,,/MILLE,NMOL/KG,,NMOL/KG,UMOL/KG,,UMOL/KG,,NMOL/KG,,UMOL/KG,,TU,NMOL/KG,PERCNT,UMOL/KG,NMOL/KG,,NMOL/KG,NMOL/KG,,NMOL/KG,/MILLE,,/MILLE,/MILLE,,/MILLE,DEG C,G/KG,,ITS-90,,MG/M3,
33RO20150410,     P16N.1,       6,          1,         24,         24,2,20150412,       1545,   -14.0002,  -150.8000,       4353,    15.8,  29.1404,  35.4806,2,  35.4781,2,    192.7,2,   193.0,2,    0.30,2,    0.00,2,    0.00,2,    0.09,4,   1.359,3,   0.912,2,   1.301,3,  1977.4,6,  2337.4,2,   8.1236,2,    24.99,-999.000,9,-999.0000,9, -999.00,9,  29.1397, -999.00,9,  -999.0,9,  -999.0,-999.000,9,-999.000,  -999.0,9, -999.00,9,      5.724,3, -999.00,9,-999.000,-999.0000, -999.00,     -999.0,     -999.0,9,     -999.0,     -999.0,9,     -999.0,  -999.0,9,     -999.0,     -999.0,9,     -999.0,  29.1366,    35.6454,2,-999.0000,2,     -999.0,9
33RO20150410,     P16N.1,       6,          1,         23,         23,2,20150412,       1545,   -14.0002,  -150.8000,       4353,    33.3,  29.1683,  35.6327,2,  35.6586,2,    192.8,2,   192.4,2,    0.30,2,    0.00,2,    0.01,2,    0.10,4,-999.000,9,-999.000,9,-999.000,9,  1984.9,2,  2350.3,2,   8.1227,2,    24.99,-999.000,9,-999.0000,9, -999.00,9,  29.1654, -999.00,9,  -999.0,9,  -999.0,-999.000,9,-999.000,  -999.0,9, -999.00,9,     -999.0,9, -999.00,9,-999.000,-999.0000, -999.00,     -999.0,     -999.0,9,     -999.0,     -999.0,9,     -999.0,  -999.0,9,     -999.0,     -999.0,9,     -999.0,  29.1602,    35.8268,2,-999.0000,2,     -999.0,9
33RO20150410,     P16N.1,       6,          1,         22,         22,2,20150412,       1545,   -14.0002,  -150.8000,       4353,    58.2,  29.0942,  35.7388,2,  35.7742,2,    193.5,2,   194.8,2,    0.30,2,    0.00,2,    0.01,2,    0.11,4,   1.353,3,   0.920,2,   1.208,2,  1993.1,2,  2373.3,2,   8.1208,2,    24.98,-999.000,9,-999.0000,9, -999.00,9,  29.0717, -999.00,9,  -999.0,9,  -999.0,-999.000,9,-999.000,  -999.0,9, -999.00,9,      5.807,3, -999.00,9,-999.000,-999.0000, -999.00,     -999.0,     -999.0,9,     -999.0,     -999.0,9,     -999.0,  -999.0,9,     -999.0,     -999.0,9,     -999.0,  29.0801,    35.9429,6,-999.0000,2,     -999.0,9
33RO20150410,     P16N.1,       6,          1,         21,         21,2,20150412,       1545,   -14.0002,  -150.8000,       4353,    83.3,  28.4102,  36.0410,2,  36.0845,2,    198.9,2,   199.5,2,    0.30,2,    0.00,2,    0.01,2,    0.16,4,-999.000,9,-999.000,9,-999.000,9,  2018.2,2,  2379.4,2,   8.1076,6,    24.98,-999.000,9,-999.0000,9, -999.00,9,  28.4093, -999.00,9,  -999.0,9,  -999.0,-999.000,9,-999.000,  -999.0,9, -999.00,9,     -999.0,9, -999.00,9,-999.000,-999.0000, -999.00,     -999.0,     -999.0,9,     -999.0,     -999.0,9,     -999.0,  -999.0,9,     -999.0,     -999.0,9,     -999.0,  28.3903,    36.2546,2,-999.0000,2,     -999.0,9
33RO20150410,     P16N.1,       6,          1,         20,         20,2,20150412,       1545,   -14.0002,  -150.8000,       4353,   109.2,  26.6828,  36.3141,2,  36.3164,2,    194.2,2,   193.6,2,    0.40,2,    0.00,2,    0.10,2,    0.20,4,   1.508,3,   1.016,2,   1.303,2,  2051.3,2,  2395.5,2,   8.0780,2,    24.98,-999.000,9,-999.0000,9, -999.00,9,  26.6741, -999.00,9,  -999.0,9,  -999.0,-999.000,9,-999.000,  -999.0,9, -999.00,9,      6.432,3, -999.00,9,-999.000,-999.0000, -999.00,     -999.0,     -999.0,9,     -999.0,     -999.0,9,     -999.0,  -999.0,9,     -999.0,     -999.0,9,     -999.0,  26.6579,    36.4876,2,-999.0000,2,     -999.0,9
33RO20150410,     P16N.1,       6,          1,         19,         19,2,20150412,       1545,   -14.0002,  -150.8000,       4353,   134.0,  24.7984,  36.3126,2,  36.3132,2,    174.8,2,   171.5,2,    0.60,2,    1.90,2,    0.61,2,    0.27,4,-999.000,9,-999.000,9,-999.000,9,  2084.6,2,  2392.2,2,   8.0218,3,    24.98,-999.000,9,-999.0000,9, -999.00,9,  24.8125, -999.00,9,  -999.0,9,  -999.0,-999.000,9,-999.000,  -999.0,9, -999.00,9,     -999.0,9, -999.00,9,-999.000,-999.0000, -999.00,     -999.0,     -999.0,9,     -999.0,     -999.0,9,     -999.0,  -999.0,9,     -999.0,     -999.0,9,     -999.0,  24.7694,    36.4845,2,-999.0000,2,     -999.0,9
33RO20150410,     P16N.1,       6,          1,         18,         18,2,20150412,       1545,   -14.0002,  -150.8000,       4353,   167.9,  22.9129,  36.1884,2,  36.1965,2,    170.4,2,   170.2,2,    0.50,2,    3.60,2,    0.04,2,    0.30,4,   1.785,3,   1.173,2,   1.315,2,  2102.1,2,  2383.4,2,   7.9849,2,    24.98,-999.000,9,-999.0000,9, -999.00,9,  22.9652, -999.00,9,  -999.0,9,  -999.0,-999.000,9,-999.000,  -999.0,9, -999.00,9,      7.264,3, -999.00,9,-999.000,-999.0000, -999.00,     -999.0,     -999.0,9,     -999.0,     -999.0,9,     -999.0,  -999.0,9,     -999.0,     -999.0,9,     -999.0,  22.8785,    36.3672,2,-999.0000,2,     -999.0,9
33RO20150410,     P16N.1,       6,          1,         17,         17,2,20150412,       1545,   -14.0002,  -150.8000,       4353,   225.3,  21.2476,  35.9683,2,  35.9608,2,    172.8,2,   173.9,2,    0.50,2,    4.20,2,    0.02,2,    0.31,4,-999.000,9,-999.000,9,-999.000,9,  2108.4,2,  2369.3,6,   7.9500,2,    25.01,-999.000,9,-999.0000,9, -999.00,9,  21.2524, -999.00,9,  -999.0,9,  -999.0,-999.000,9,-999.000,  -999.0,9, -999.00,9,     -999.0,9, -999.00,9,-999.000,-999.0000, -999.00,     -999.0,     -999.0,9,     -999.0,     -999.0,9,     -999.0,  -999.0,9,     -999.0,     -999.0,9,     -999.0,  21.2039,    36.1304,2,-999.0000,2,     -999.0,9
33RO20150410,     P16N.1,       6,          1,         16,         16,2,20150412,       1545,   -14.0002,  -150.8000,       4353,   299.9,  17.0285,  35.2999,2,  35.2855,4,    158.2,2,   157.9,2,    2.70,2,    9.50,2,    0.01,2,    0.54,4,   2.217,3,   1.360,6,   1.173,6,  2128.0,2,  2329.3,2,   7.8372,6,    25.01,-999.000,9,-999.0000,9, -999.00,9,  17.0321, -999.00,9,  -999.0,9,  -999.0,-999.000,9,-999.000,  -999.0,9, -999.00,9,     15.295,3, -999.00,9,-999.000,-999.0000, -999.00,     -999.0,     -999.0,9,     -999.0,     -999.0,9,     -999.0,  -999.0,9,     -999.0,     -999.0,9,     -999.0,  16.9787,    35.4519,2,-999.0000,2,     -999.0,9
33RO20150410,     P16N.1,       6,          1,         15,         15,2,20150412,       1545,   -14.0002,  -150.8000,       4353,   376.0,  12.5059,  34.7785,2,  34.7681,3,    116.5,2,   116.0,2,   10.00,2,   19.70,2,    0.02,2,    1.03,4,-999.000,9,-999.000,9,-999.000,9,  2175.0,6,  2299.6,2,   7.6623,2,    24.99,-999.000,9,-999.0000,9, -999.00,9,  12.5067, -999.00,9,  -999.0,9,  -999.0,-999.000,9,-999.000,  -999.0,9, -999.00,9,     -999.0,9, -999.00,9,-999.000,-999.0000, -999.00,     -999.0,     -999.0,9,     -999.0,     -999.0,9,     -999.0,  -999.0,9,     -999.0,     -999.0,9,     -999.0,  12.4553,    34.9320,2,-999.0000,2,     -999.0,9
33RO20150410,     P16N.1,       6,          1,         14,         14,2,20150412,       1545,   -14.0002,  -150.8000,       4353,   450.9,   9.4784,  34.5871,2,  34.5957,2,    109.5,2,   108.2,2,   19.00,2,   26.80,2,    0.01,2,    1.35,4,   1.101,3,   0.612,2,   0.299,2,  2200.2,2,  2303.3,2,   7.5830,2,    25.00,-999.000,9,-999.0000,9, -999.00,9,   9.4846, -999.00,9,  -999.0,9,  -999.0,-999.000,9,-999.000,  -999.0,9, -999.00,9,     32.714,3, -999.00,9,-999.000,-999.0000, -999.00,     -999.0,     -999.0,9,     -999.0,     -999.0,9,     -999.0,  -999.0,9,     -999.0,     -999.0,9,     -999.0,   9.4274,    34.7589,2,-999.0000,2,     -999.0,9
33RO20150410,     P16N.1,       6,          1,         13,         13,2,20150412,       1545,   -14.0002,  -150.8000,       4353,   549.2,   6.7642,  34.4721,2,  34.4740,2,    132.1,2,   132.8,2,   29.40,2,   31.60,2,    0.01,2,    1.61,4,-999.000,9,-999.000,9,-999.000,9,  2210.6,2,  2300.9,2,   7.5689,2,    25.00,-999.000,9,-999.0000,9, -999.00,9,   6.7625, -999.00,9,  -999.0,9,  -999.0,-999.000,9,-999.000,  -999.0,9, -999.00,9,     -999.0,9, -999.00,9,-999.000,-999.0000, -999.00,     -999.0,     -999.0,9,     -999.0,     -999.0,9,     -999.0,  -999.0,9,     -999.0,     -999.0,9,     -999.0,   6.7129,    34.6366,2,-999.0000,2,     -999.0,9
33RO20150410,     P16N.1,       6,          1,         12,         12,2,20150412,       1545,   -14.0002,  -150.8000,       4353,   700.6,   5.4518,  34.4893,2,  34.4907,2,    127.4,2,   128.4,2,   47.90,2,   34.60,2,    0.01,2,    1.98,4,   0.141,3,   0.077,6,       0,6,  2237.9,2,  2317.1,2,   7.5490,6,    24.99,-999.000,9,-999.0000,9, -999.00,9,   5.4506, -999.00,9,  -999.0,9,  -999.0,-999.000,9,-999.000,  -999.0,9, -999.00,9,     28.528,3, -999.00,9,-999.000,-999.0000, -999.00,     -999.0,     -999.0,9,     -999.0,     -999.0,9,     -999.0,  -999.0,9,     -999.0,     -999.0,9,     -999.0,   5.3925,    34.6534,2,-999.0000,2,     -999.0,9
33RO20150410,     P16N.1,       6,          1,         11,         11,2,20150412,       1545,   -14.0002,  -150.8000,       4353,   849.4,   4.6748,  34.5007,2,  34.5009,2,    125.7,2,   125.6,2,   61.80,2,   36.00,2,    0.01,2,    2.24,4,-999.000,9,-999.000,9,-999.000,9,  2252.8,2,  2331.1,2,   7.5376,6,    25.00,-999.000,9,-999.0000,9, -999.00,9,   4.6772, -999.00,9,  -999.0,9,  -999.0,-999.000,9,-999.000,  -999.0,9, -999.00,9,     -999.0,9, -999.00,9,-999.000,-999.0000, -999.00,     -999.0,     -999.0,9,     -999.0,     -999.0,9,     -999.0,  -999.0,9,     -999.0,     -999.0,9,     -999.0,   4.6071,    34.6635,2,-999.0000,2,     -999.0,9
33RO20150410,     P16N.1,       6,          1,         10,         10,2,20150412,       1545,   -14.0002,  -150.8000,       4353,  1000.6,   4.1335,  34.5213,2,  34.5209,2,    123.3,2,   123.9,2,   73.50,2,   36.80,2,    0.01,2,    2.42,4,-999.000,9,-999.000,9,-999.000,9,  2267.4,2,  2342.9,2,   7.5297,2,    24.99,-999.000,9,-999.0000,9, -999.00,9,   4.1342, -999.00,9,  -999.0,9,  -999.0,-999.000,9,-999.000,  -999.0,9, -999.00,9,     -999.0,9, -999.00,9,-999.000,-999.0000, -999.00,     -999.0,     -999.0,9,     -999.0,     -999.0,9,     -999.0,  -999.0,9,     -999.0,     -999.0,9,     -999.0,   4.0567,    34.6837,2,-999.0000,2,     -999.0,9
33RO20150410,     P16N.1,       6,          1,          9,          9,2,20150412,       1545,   -14.0002,  -150.8000,       4353,  1168.1,   3.6352,  34.5416,2,  34.5422,2,    128.1,2,   128.0,2,   83.00,2,   36.70,2,    0.00,2,    2.58,4,-999.000,9,-999.000,9,-999.000,9,  2276.0,2,  2353.4,2,   7.5349,2,    25.00,-999.000,9,-999.0000,9, -999.00,9,   3.6341, -999.00,9,  -999.0,9,  -999.0,-999.000,9,-999.000,  -999.0,9, -999.00,9,     -999.0,9, -999.00,9,-999.000,-999.0000, -999.00,     -999.0,     -999.0,9,     -999.0,     -999.0,9,     -999.0,  -999.0,9,     -999.0,     -999.0,9,     -999.0,   3.5485,    34.7051,2,-999.0000,2,     -999.0,9
33RO20150410,     P16N.1,       6,          1,          8,          8,2,20150412,       1545,   -14.0002,  -150.8000,       4353,  1399.7,   3.0526,  34.5722,2,  34.5736,2,    132.6,2,   133.4,2,   95.50,2,   36.50,2,    0.01,2,    2.75,4,-999.000,9,-999.000,9,-999.000,9,  2286.2,2,  2366.8,2,   7.5416,2,    25.00,-999.000,9,-999.0000,9, -999.00,9,   3.0538, -999.00,9,  -999.0,9,  -999.0,-999.000,9,-999.000,  -999.0,9, -999.00,9,     -999.0,9, -999.00,9,-999.000,-999.0000, -999.00,     -999.0,     -999.0,9,     -999.0,     -999.0,9,     -999.0,  -999.0,9,     -999.0,     -999.0,9,     -999.0,   2.9525,    34.7366,6,-999.0000,2,     -999.0,9
33RO20150410,     P16N.1,       6,          1,          7,          7,2,20150412,       1545,   -14.0002,  -150.8000,       4353,  1732.6,   2.5397,  34.6052,2,  34.6092,2,    140.2,2,   141.6,2,  107.60,2,   36.20,2,    0.01,2,    2.90,4,-999.000,9,-999.000,9,-999.000,9,  2293.2,2,  2379.9,2,   7.5540,6,    25.01,-999.000,9,-999.0000,9, -999.00,9,   2.5409, -999.00,9,  -999.0,9,  -999.0,-999.000,9,-999.000,  -999.0,9, -999.00,9,     -999.0,9, -999.00,9,-999.000,-999.0000, -999.00,     -999.0,     -999.0,9,     -999.0,     -999.0,9,     -999.0,  -999.0,9,     -999.0,     -999.0,9,     -999.0,   2.4180,    34.7724,2,-999.0000,2,     -999.0,9
33RO20150410,     P16N.1,       6,          1,          6,          6,2,20150412,       1545,   -14.0002,  -150.8000,       4353,  2133.2,   2.0926,  34.6406,2,  34.6423,2,    147.7,2,   149.2,2,  118.10,2,   35.80,2,    0.02,2,    3.06,4,-999.000,9,-999.000,9,-999.000,9,  2303.6,6,  2392.4,2,   7.5663,2,    25.00,-999.000,9,-999.0000,9, -999.00,9,   2.0922, -999.00,9,  -999.0,9,  -999.0,-999.000,9,-999.000,  -999.0,9, -999.00,9,     -999.0,9, -999.00,9,-999.000,-999.0000, -999.00,     -999.0,     -999.0,9,     -999.0,     -999.0,9,     -999.0,  -999.0,9,     -999.0,     -999.0,9,     -999.0,   1.9433,    34.8056,2,-999.0000,2,     -999.0,9
33RO20150410,     P16N.1,       6,          1,          5,          5,2,20150412,       1545,   -14.0002,  -150.8000,       4353,  2533.0,   1.9070,  34.6609,2,  34.6631,2,    147.2,2,   147.6,2,  127.10,2,   35.80,2,    0.01,2,    3.16,4,-999.000,9,-999.000,9,-999.000,9,  2309.3,2,  2403.9,2,   7.5702,2,    25.01,-999.000,9,-999.0000,9, -999.00,9,   1.9073, -999.00,9,  -999.0,9,  -999.0,-999.000,9,-999.000,  -999.0,9, -999.00,9,     -999.0,9, -999.00,9,-999.000,-999.0000, -999.00,     -999.0,     -999.0,9,     -999.0,     -999.0,9,     -999.0,  -999.0,9,     -999.0,     -999.0,9,     -999.0,   1.7254,    34.8266,2,-999.0000,2,     -999.0,9
33RO20150410,     P16N.1,       6,          1,          4,          4,2,20150412,       1545,   -14.0002,  -150.8000,       4353,  2933.0,   1.7642,  34.6737,2,  34.6736,2,    151.4,2,   152.2,2,  132.30,6,   35.70,6,    0.01,6,    3.21,4,-999.000,9,-999.000,9,-999.000,9,  2313.4,2,  2409.4,2,   7.5779,2,    24.99,-999.000,9,-999.0000,9, -999.00,9,   1.7648, -999.00,9,  -999.0,9,  -999.0,-999.000,9,-999.000,  -999.0,9, -999.00,9,     -999.0,9, -999.00,9,-999.000,-999.0000, -999.00,     -999.0,     -999.0,9,     -999.0,     -999.0,9,     -999.0,  -999.0,9,     -999.0,     -999.0,9,     -999.0,   1.5480,    34.8371,2,-999.0000,2,     -999.0,9
33RO20150410,     P16N.1,       6,          1,          3,          3,2,20150412,       1545,   -14.0002,  -150.8000,       4353,  3332.6,   1.6244,  34.6811,2,  34.6807,2,    163.0,2,   163.5,2,  128.30,6,   34.90,6,    0.01,6,    3.13,4,-999.000,9,-999.000,9,-999.000,9,  2302.2,2,  2401.3,6,   7.5869,2,    25.00,-999.000,9,-999.0000,9, -999.00,9,   1.6240, -999.00,9,  -999.0,9,  -999.0,-999.000,9,-999.000,  -999.0,9, -999.00,9,     -999.0,9, -999.00,9,-999.000,-999.0000, -999.00,     -999.0,     -999.0,9,     -999.0,     -999.0,9,     -999.0,  -999.0,9,     -999.0,     -999.0,9,     -999.0,   1.3721,    34.8442,2,-999.0000,2,     -999.0,9
33RO20150410,     P16N.1,       6,          1,          2,          2,2,20150412,       1545,   -14.0002,  -150.8000,       4353,  3734.9,   1.5066,  34.6891,2,  34.6889,2,    173.8,2,   173.6,2,  125.30,6,   34.10,6,    0.00,6,    3.04,4,-999.000,9,-999.000,9,-999.000,9,  2292.3,2,  2392.1,2,   7.5935,6,    25.02,-999.000,9,-999.0000,9, -999.00,9,   1.5066, -999.00,9,  -999.0,9,  -999.0,-999.000,9,-999.000,  -999.0,9, -999.00,9,     -999.0,9, -999.00,9,-999.000,-999.0000, -999.00,     -999.0,     -999.0,9,     -999.0,     -999.0,9,     -999.0,  -999.0,9,     -999.0,     -999.0,9,     -999.0,   1.2158,    34.8525,2,-999.0000,2,     -999.0,9
33RO20150410,     P16N.1,       6,          1,          1,          1,2,20150412,       1545,   -14.0002,  -150.8000,       4353,  4119.4,   1.4050,  34.6962,2,  34.6964,2,    181.7,2,   182.4,2,  124.20,6,   33.60,6,    0.01,6,    3.01,4,-999.000,9,-999.000,9,-999.000,9,  2285.0,6,  2388.3,2,   7.5997,2,    25.01,-999.000,9,-999.0000,9, -999.00,9,   1.4046, -999.00,9,  -999.0,9,  -999.0,-999.000,9,-999.000,  -999.0,9, -999.00,9,     -999.0,9, -999.00,9,-999.000,-999.0000, -999.00,     -999.0,     -999.0,9,     -999.0,     -999.0,9,     -999.0,  -999.0,9,     -999.0,     -999.0,9,     -999.0,   1.0756,    34.8600,2,-999.0000,2,     -999.0,9