BOTTLE,20210709CCHSIOCBG
EXPOCODE,SECT_ID,STNNBR,CASTNO,SAMPNO,BTLNBR,BTLNBR_FLAG_W,DATE,TIME,LATITUDE,LONGITUDE,DEPTH,CTDPRS,CTDTMP,CTDSAL,CTDSAL_FLAG_W,SALNTY,SALNTY_FLAG_W,CTDOXY,CTDOXY_FLAG_W,OXYGEN,OXYGEN_FLAG_W,SILCAT,SILCAT_FLAG_W,NITRAT,NITRAT_FLAG_W,NITRIT,NITRIT_FLAG_W,PHSPHT,PHSPHT_FLAG_W,CFC-11,CFC-11_FLAG_W,CFC-12,CFC-12_FLAG_W,SF6,SF6_FLAG_W,TCARBN,TCARBN_FLAG_W,ALKALI,ALKALI_FLAG_W,PH_TOT,PH_TOT_FLAG_W,PH_TMP,TRITUM,TRITUM_FLAG_W,HELIUM,HELIUM_FLAG_W,DELHE3,DELHE3_FLAG_W,REFTMP,DELC13,DELC13_FLAG_W,DELC14,DELC14_FLAG_W,C14ERR,NEON,NEON_FLAG_W,NEONER,DOC,DOC_FLAG_W,TDN,TDN_FLAG_W,N2O,N2O_FLAG_W,ARGON,ARGON_FLAG_W,TRITER,HELIER,DELHER,ARGONER,KRYPTON,KRYPTON_FLAG_W,KRYPTONER,XENON,XENON_FLAG_W,XENONER,14C-DOC,14C-DOC_FLAG_W,14C-DOCERR,13C-DOC,13C-DOC_FLAG_W,13C-DOCERR,THETA,SALTREF,SALTREF_FLAG_W,SBE35,SBE35_FLAG_W,CHLORA,CHLORA_FLAG_W
,,,,,,,,,,,METERS,DBAR,ITS-90,PSS-78,,PSS-78,,UMOL/KG,,UMOL/KG,,UMOL/KG,,UMOL/KG,,UMOL/KG,,UMOL/KG,,PMOL/KG,,PMOL/KG,,FMOL/KG,,UMOL/KG,,UMOL/KG,,,,DEG C,TU,,NMOL/KG,,PERCNT,,DEG C,/MILLE,,/MILLE,,/MILLE,NMOL/KG,,NMOL/KG,UMOL/KG,,UMOL/KG,,NMOL/KG,,UMOL/KG,,TU,NMOL/KG,PERCNT,UMOL/KG,NMOL/KG,,NMOL/KG,NMOL/KG,,NMOL/KG,/MILLE,,/MILLE,/MILLE,,/MILLE,DEG C,G/KG,,ITS-90,,MG/M3,
33RO20150410,     P16N.1,      79,          1,         24,         24,3,20150501,       1511,     6.0006,  -150.9998,       5227,     4.7,  28.3940,  34.2558,2,  34.1407,2,    196.7,2,  -999.0,9,    2.70,2,    0.10,2,    0.03,2,    0.29,2,-999.000,9,-999.000,9,-999.000,9,  -999.0,9,  -999.0,9,-999.0000,9,  -999.00,-999.000,9,-999.0000,9, -999.00,9,  28.3971, -999.00,9,  -999.0,9,  -999.0,-999.000,9,-999.000,    63.5,2,    4.40,2,     -999.0,9, -999.00,9,-999.000,-999.0000, -999.00,     -999.0,     -999.0,9,     -999.0,     -999.0,9,     -999.0,  -999.0,9,     -999.0,     -999.0,9,     -999.0,  28.3929,    34.3017,3,-999.0000,2,     -999.0,9
33RO20150410,     P16N.1,      79,          1,         23,         23,2,20150501,       1511,     6.0006,  -150.9998,       5227,    20.6,  28.5124,  34.5014,2,  34.5050,2,    197.0,2,   196.8,2,    2.80,2,    0.10,2,    0.01,2,    0.28,2,   1.434,6,   0.939,6,   1.251,6,  1941.6,2,  2268.7,2,   8.0932,6,    24.99,   0.322,2,   1.7005,2,   -1.33,2,  28.5125, -999.00,9,  -999.0,9,  -999.0,   6.621,2,   0.017,    64.4,2,    5.00,2,      6.141,3, -999.00,9,   0.004,   0.0044,    0.20,     -999.0,     -999.0,9,     -999.0,     -999.0,9,     -999.0,  -999.0,9,     -999.0,     -999.0,9,     -999.0,  28.5075,    34.6678,2,-999.0000,2,     -999.0,9
33RO20150410,     P16N.1,      79,          1,         22,         22,2,20150501,       1511,     6.0006,  -150.9998,       5227,    42.0,  28.5040,  34.6743,2,  34.6706,2,    193.1,2,   193.5,2,    3.30,2,    0.30,2,    0.06,2,    0.34,2,   1.446,2,   0.938,2,   1.252,2,  1956.3,2,  2279.7,2,   8.0840,2,    24.99,   0.330,2,   1.7138,2,   -1.03,2,  28.5033, -999.00,9,  -999.0,9,  -999.0,   6.678,2,   0.017,    62.2,2,    5.20,2,      6.422,3, -999.00,9,   0.005,   0.0045,    0.20,     -999.0,     -999.0,9,     -999.0,     -999.0,9,     -999.0,  -999.0,9,     -999.0,     -999.0,9,     -999.0,  28.4940,    34.8341,2,-999.0000,2,     -999.0,9
33RO20150410,     P16N.1,      79,          1,         21,         21,2,20150501,       1511,     6.0006,  -150.9998,       5227,    67.2,  26.3847,  34.5860,2,  34.6145,2,    190.2,2,   193.9,2,    3.20,2,    0.40,2,    0.08,2,    0.36,2,   1.601,2,   1.028,2,   1.291,2,  1977.5,2,  2279.1,6,   8.0529,2,    24.99,-999.000,9,   1.7251,2,   -0.91,2,  26.2475, -999.00,9,  -999.0,9,  -999.0,   6.791,2,   0.017,    62.5,2,    5.20,2,      9.037,3, -999.00,9,-999.000,   0.0045,    0.20,     -999.0,     -999.0,9,     -999.0,     -999.0,9,     -999.0,  -999.0,9,     -999.0,     -999.0,9,     -999.0,  26.3696,    34.7777,2,-999.0000,2,     -999.0,9
33RO20150410,     P16N.1,      79,          1,         20,         20,2,20150501,       1511,     6.0006,  -150.9998,       5227,    91.4,  18.8060,  34.7600,2,  34.7690,2,    145.4,2,   143.3,2,    9.00,2,    8.70,2,    0.23,2,    0.90,2,   2.136,2,   1.274,2,   1.149,2,  2096.9,2,  2293.1,2,   7.8389,2,    25.00,   0.460,2,   1.7588,2,    0.90,2,  18.8969, -999.00,9,  -999.0,9,  -999.0,   7.158,2,   0.018,    54.0,2,   12.60,2,     21.045,3, -999.00,9,   0.004,   0.0046,    0.20,     -999.0,     -999.0,9,     -999.0,     -999.0,9,     -999.0,  -999.0,9,     -999.0,     -999.0,9,     -999.0,  18.7899,    34.9330,2,-999.0000,2,     -999.0,9
33RO20150410,     P16N.1,      79,          1,         19,         19,2,20150501,       1511,     6.0006,  -150.9998,       5227,   133.3,  12.9056,  34.6088,2,  34.6084,2,     58.6,2,    57.2,2,   22.70,2,   26.20,2,    0.01,2,    2.05,2,   1.447,2,   0.817,2,   0.506,2,  2204.3,2,  2289.2,2,   7.5568,2,    24.99,   0.277,2,   1.7789,2,    5.63,2,  12.8846, -999.00,9,  -999.0,9,  -999.0,   7.404,2,   0.018,    45.4,2,   29.00,2,     63.416,3, -999.00,9,   0.003,   0.0046,    0.20,     -999.0,     -999.0,9,     -999.0,     -999.0,9,     -999.0,  -999.0,9,     -999.0,     -999.0,9,     -999.0,  12.8875,    34.7716,2,-999.0000,2,     -999.0,9
33RO20150410,     P16N.1,      79,          1,         18,         18,2,20150501,       1511,     6.0006,  -150.9998,       5227,   170.0,  11.4537,  34.7368,2,  34.7349,2,      2.9,2,     2.9,2,   29.40,2,   33.70,2,    0.01,2,    2.58,2,   0.782,2,   0.423,2,   0.132,2,  2259.5,2,  2297.8,2,   7.4181,3,    24.99,   0.163,2,   1.8112,2,    7.49,2,  11.4543, -999.00,9,  -999.0,9,  -999.0,   7.567,2,   0.019,    45.4,2,   37.00,2,     88.953,3, -999.00,9,   0.003,   0.0047,    0.20,     -999.0,     -999.0,9,     -999.0,     -999.0,9,     -999.0,  -999.0,9,     -999.0,     -999.0,9,     -999.0,  11.4323,    34.8987,2,-999.0000,2,     -999.0,9
33RO20150410,     P16N.1,      79,          1,         17,         17,2,20150501,       1511,     6.0006,  -150.9998,       5227,   275.1,   9.9195,  34.6927,2,  34.6920,2,     34.0,2,    34.6,2,   30.30,2,   34.00,2,    0.01,2,    2.46,2,   0.621,2,   0.351,2,    0.44,4,  2250.7,6,  2304.4,2,   7.4594,2,    24.98,   0.098,2,   1.8048,2,    6.89,2,   9.9197, -999.00,9,  -999.0,9,  -999.0,   7.583,2,   0.019,    43.1,2,   36.20,2,     53.163,3, -999.00,9,   0.002,   0.0047,    0.20,     -999.0,     -999.0,9,     -999.0,     -999.0,9,     -999.0,  -999.0,9,     -999.0,     -999.0,9,     -999.0,   9.8877,    34.8556,2,-999.0000,2,     -999.0,9
33RO20150410,     P16N.1,      79,          1,         16,         16,2,20150501,       1511,     6.0006,  -150.9998,       5227,   367.2,   9.2127,  34.6593,2,  34.6594,2,     29.2,2,    29.8,2,   35.00,2,   35.60,2,    0.01,2,    2.61,2,   0.373,6,   0.200,6,   0.032,6,  2259.8,2,  2306.5,2,   7.4351,6,    25.00,   0.059,2,   1.8152,2,    7.22,2,   9.2131, -999.00,9,  -999.0,9,  -999.0,   7.642,2,   0.019,    43.6,2, -999.00,9,     53.681,3, -999.00,9,   0.002,   0.0047,    0.20,     -999.0,     -999.0,9,     -999.0,     -999.0,9,     -999.0,  -999.0,9,     -999.0,     -999.0,9,     -999.0,   9.1720,    34.8228,2,-999.0000,2,     -999.0,9
33RO20150410,     P16N.1,      79,          1,         15,         15,2,20150501,       1511,     6.0006,  -150.9998,       5227,   467.8,   8.3826,  34.6248,2,  34.6250,2,     10.7,2,    11.6,2,   42.90,2,   38.20,2,    0.01,2,    2.90,2,   0.103,2,   0.060,2,       0,2,  2286.1,2,  2313.4,2,   7.3796,2,    24.98,   0.030,2,   1.8302,2,    7.71,2,   8.3894, -999.00,9,  -999.0,9,  -999.0,   7.706,2,   0.019,    43.0,2, -999.00,9,     62.960,3, -999.00,9,   0.002,   0.0048,    0.20,     -999.0,     -999.0,9,     -999.0,     -999.0,9,     -999.0,  -999.0,9,     -999.0,     -999.0,9,     -999.0,   8.3334,    34.7883,2,-999.0000,2,     -999.0,9
33RO20150410,     P16N.1,      79,          1,         14,         14,2,20150501,       1511,     6.0006,  -150.9998,       5227,   601.0,   7.1128,  34.5763,2,  34.5828,2,     11.2,2,    11.4,2,   56.60,2,   41.00,2,    0.03,2,    3.09,2,   0.017,2,   0.011,2,       0,2,  2301.4,2,  2323.2,2,   7.3615,2,    24.99,-999.000,9,-999.0000,9, -999.00,9,   7.1142, -999.00,9,  -999.0,9,  -999.0,-999.000,9,-999.000,    40.9,2, -999.00,9,     60.473,3, -999.00,9,-999.000,-999.0000, -999.00,     -999.0,     -999.0,9,     -999.0,     -999.0,9,     -999.0,  -999.0,9,     -999.0,     -999.0,9,     -999.0,   7.0547,    34.7459,2,-999.0000,2,     -999.0,9
33RO20150410,     P16N.1,      79,          1,         13,         13,2,20150501,       1511,     6.0006,  -150.9998,       5227,   750.3,   5.9101,  34.5588,2,  34.5581,2,     17.2,2,    18.3,2,   70.10,2,   43.40,2,    0.01,2,    3.20,2,   0.003,2,   0.003,2,       0,2,  2316.8,2,  2336.8,2,   7.3554,2,    24.98,  -0.003,2,   1.9012,2,   12.86,2,   5.9180, -999.00,9,  -999.0,9,  -999.0,   7.998,2,   0.020,    40.5,2, -999.00,9,     54.242,3, -999.00,9,   0.001,   0.0049,    0.20,     -999.0,     -999.0,9,     -999.0,     -999.0,9,     -999.0,  -999.0,9,     -999.0,     -999.0,9,     -999.0,   5.8437,    34.7210,2,-999.0000,2,     -999.0,9
33RO20150410,     P16N.1,      79,          1,         12,         12,2,20150501,       1511,     6.0006,  -150.9998,       5227,   899.1,   4.9685,  34.5554,2,  34.5540,2,     38.6,2,    38.3,2,   81.20,2,   42.90,2,    0.00,2,    3.15,2,  -0.001,2,   0.001,2,       0,2,  2321.6,2,  2352.1,2,   7.3871,2,    25.00,   0.002,2,   1.8768,2,   16.46,2,   4.9720, -999.00,9,  -999.0,9,  -999.0,   7.908,2,   0.020,    40.3,2, -999.00,9,     44.804,3, -999.00,9,   0.001,   0.0049,    0.20,     -999.0,     -999.0,9,     -999.0,     -999.0,9,     -999.0,  -999.0,9,     -999.0,     -999.0,9,     -999.0,   4.8944,    34.7169,2,-999.0000,2,     -999.0,9
33RO20150410,     P16N.1,      79,          1,         11,         11,2,20150501,       1511,     6.0006,  -150.9998,       5227,  1050.7,   4.3051,  34.5670,2,  34.5654,2,     51.2,2,    51.1,2,   93.40,2,   42.30,2,    0.00,2,    3.11,2,   0.002,2,   0.003,2,       0,2,  2329.1,2,  2366.6,2,   7.4075,2,    24.97,   0.006,2,   1.9733,3,   18.62,3,   4.3067, -999.00,9,  -999.0,9,  -999.0,   8.261,3,   0.021,    38.9,2, -999.00,9,     40.238,3, -999.00,9,   0.002,   0.0051,    0.20,     -999.0,     -999.0,9,     -999.0,     -999.0,9,     -999.0,  -999.0,9,     -999.0,     -999.0,9,     -999.0,   4.2226,    34.7284,2,-999.0000,2,     -999.0,9
33RO20150410,     P16N.1,      79,          1,         10,         10,2,20150501,       1511,     6.0006,  -150.9998,       5227,  1232.9,   3.6904,  34.5836,2,  34.5881,2,     63.3,2,    63.0,2,  106.70,2,   41.60,2,    0.00,2,    3.05,2,   0.001,2,   0.003,2,       0,2,  2335.7,2,  2382.1,2,   7.4301,6,    25.00,   0.002,2,   1.9297,2,   21.72,2,   3.6907, -999.00,9,  -999.0,9,  -999.0,   8.105,2,   0.020,    38.9,2, -999.00,9,     35.553,3, -999.00,9,   0.002,   0.0050,    0.20,     -999.0,     -999.0,9,     -999.0,     -999.0,9,     -999.0,  -999.0,9,     -999.0,     -999.0,9,     -999.0,   3.5977,    34.7512,3,-999.0000,2,     -999.0,9
33RO20150410,     P16N.1,      79,          1,          9,          9,2,20150501,       1511,     6.0006,  -150.9998,       5227,  1501.2,   3.0149,  34.6073,2,  34.6120,2,     79.4,2,    78.9,2,  122.10,2,   40.60,2,    0.00,2,    2.96,2,  -0.001,2,  -0.001,2,       0,2,  2343.6,2,  2399.4,2,   7.4573,2,    24.98,-999.000,9,   1.9303,2,   24.16,2,   3.0149, -999.00,9,  -999.0,9,  -999.0,   8.106,2,   0.020,    35.7,2, -999.00,9,     32.496,3, -999.00,9,-999.000,   0.0050,    0.20,     -999.0,     -999.0,9,     -999.0,     -999.0,9,     -999.0,  -999.0,9,     -999.0,     -999.0,9,     -999.0,   2.9067,    34.7752,3,-999.0000,2,     -999.0,9
33RO20150410,     P16N.1,      79,          1,          8,          8,2,20150501,       1511,     6.0006,  -150.9998,       5227,  1866.8,   2.3574,  34.6360,2,  34.6336,2,     95.9,2,    96.7,2,  137.20,2,   39.40,2,    0.01,2,    2.85,2,   0.000,2,   0.002,2,       0,2,  2346.9,2,  2414.3,2,   7.4899,2,    24.98,   0.000,2,   1.9319,2,   26.93,2,   2.3573, -999.00,9,  -999.0,9,  -999.0,   8.099,2,   0.020,    36.0,2, -999.00,9,     27.448,3, -999.00,9,   0.002,   0.0050,    0.20,     -999.0,     -999.0,9,     -999.0,     -999.0,9,     -999.0,  -999.0,9,     -999.0,     -999.0,9,     -999.0,   2.2269,    34.7969,2,-999.0000,2,     -999.0,9
33RO20150410,     P16N.1,      79,          1,          7,          7,2,20150501,       1511,     6.0006,  -150.9998,       5227,  2266.5,   1.9706,  34.6594,2,  34.6584,2,    106.6,2,   107.7,2,  147.00,2,   38.80,2,    0.01,2,    2.79,2,  -0.002,2,   0.000,2,       0,2,  2351.8,2,  2428.6,2,   7.5113,2,    24.98,-999.000,9,-999.0000,9, -999.00,9,   1.9707, -999.00,9,  -999.0,9,  -999.0,-999.000,9,-999.000,    39.7,2, -999.00,9,     24.804,3, -999.00,9,-999.000,-999.0000, -999.00,     -999.0,     -999.0,9,     -999.0,     -999.0,9,     -999.0,  -999.0,9,     -999.0,     -999.0,9,     -999.0,   1.8117,    34.8218,2,-999.0000,2,     -999.0,9
33RO20150410,     P16N.1,      79,          1,          6,          6,2,20150501,       1511,     6.0006,  -150.9998,       5227,  2732.5,   1.8206,  34.6698,2,  34.6686,2,    114.6,2,   115.3,2,  150.20,2,   38.20,2,    0.00,2,    2.73,2,   0.001,2,  -0.001,2,       0,2,  2351.1,2,  2432.9,2,   7.5274,2,    24.98,-999.000,9,-999.0000,9, -999.00,9,   1.8211, -999.00,9,  -999.0,9,  -999.0,-999.000,9,-999.000,    38.2,2, -999.00,9,     23.669,3, -999.00,9,-999.000,-999.0000, -999.00,     -999.0,     -999.0,9,     -999.0,     -999.0,9,     -999.0,  -999.0,9,     -999.0,     -999.0,9,     -999.0,   1.6222,    34.8321,2,-999.0000,2,     -999.0,9
33RO20150410,     P16N.1,      79,          1,          5,          5,2,20150501,       1511,     6.0006,  -150.9998,       5227,  3233.7,   1.6072,  34.6810,2,  34.6816,2,    133.0,2,   132.8,2,  149.40,2,   37.10,2,    0.00,2,    2.65,2,   0.000,2,   0.001,2,       0,2,  2340.2,2,  2432.8,2,   7.5557,6,    24.99,-999.000,9,-999.0000,9, -999.00,9,   1.6070, -999.00,9,  -999.0,9,  -999.0,-999.000,9,-999.000,    39.0,2, -999.00,9,     22.341,3, -999.00,9,-999.000,-999.0000, -999.00,     -999.0,     -999.0,9,     -999.0,     -999.0,9,     -999.0,  -999.0,9,     -999.0,     -999.0,9,     -999.0,   1.3652,    34.8451,2,-999.0000,2,     -999.0,9
33RO20150410,     P16N.1,      79,          1,          4,          4,2,20150501,       1511,     6.0006,  -150.9998,       5227,  3717.2,   1.4821,  34.6888,2,  34.6867,2,    150.8,2,   150.2,2,  140.80,6,   36.00,6,    0.00,6,    2.55,6,  -0.004,2,   0.000,2,       0,2,  2328.5,2,  2428.9,2,   7.5810,6,    25.00,-999.000,9,-999.0000,9, -999.00,9,   1.4823, -999.00,9,  -999.0,9,  -999.0,-999.000,9,-999.000,    38.8,2, -999.00,9,     20.704,3, -999.00,9,-999.000,-999.0000, -999.00,     -999.0,     -999.0,9,     -999.0,     -999.0,9,     -999.0,  -999.0,9,     -999.0,     -999.0,9,     -999.0,   1.1938,    34.8503,2,-999.0000,2,     -999.0,9
33RO20150410,     P16N.1,      79,          1,          3,          3,2,20150501,       1511,     6.0006,  -150.9998,       5227,  4233.7,   1.3876,  34.6961,2,  34.6948,2,    165.1,2,   165.2,2,  136.30,6,   35.00,6,    0.00,6,    2.48,6,   0.001,2,   0.002,2,       0,2,  2313.0,2,  2418.8,6,   7.5977,2,    24.99,-999.000,9,-999.0000,9, -999.00,9,   1.3876, -999.00,9,  -999.0,9,  -999.0,-999.000,9,-999.000,    38.4,2, -999.00,9,     19.780,3, -999.00,9,-999.000,-999.0000, -999.00,     -999.0,     -999.0,9,     -999.0,     -999.0,9,     -999.0,  -999.0,9,     -999.0,     -999.0,9,     -999.0,   1.0461,    34.8584,2,-999.0000,2,     -999.0,9
33RO20150410,     P16N.1,      79,          1,          2,          2,2,20150501,       1511,     6.0006,  -150.9998,       5227,  4733.9,   1.4061,  34.6974,2,  34.6989,2,    169.7,2,   169.4,2,  134.20,6,   34.70,6,    0.01,6,    2.45,6,   0.001,6,   0.002,6,       0,6,  2307.2,2,  2413.5,2,   7.5992,2,    25.01,-999.000,9,-999.0000,9, -999.00,9,   1.4061, -999.00,9,  -999.0,9,  -999.0,-999.000,9,-999.000,    39.7,2, -999.00,9,     19.662,3, -999.00,9,-999.000,-999.0000, -999.00,     -999.0,     -999.0,9,     -999.0,     -999.0,9,     -999.0,  -999.0,9,     -999.0,     -999.0,9,     -999.0,   1.0067,    34.8625,2,-999.0000,2,     -999.0,9
33RO20150410,     P16N.1,      79,          1,          1,          1,2,20150501,       1511,     6.0006,  -150.9998,       5227,  5217.1,   1.4530,  34.6976,2,  34.6970,2,    171.8,2,   171.0,2,  132.60,6,   34.40,6,    0.01,6,    2.44,6,  -0.003,2,   0.000,2,       0,2,  2304.9,6,  2410.5,2,   7.5983,2,    25.00,-999.000,9,-999.0000,9, -999.00,9,   1.4530, -999.00,9,  -999.0,9,  -999.0,-999.000,9,-999.000,    39.5,2, -999.00,9,     19.873,3, -999.00,9,-999.000,-999.0000, -999.00,     -999.0,     -999.0,9,     -999.0,     -999.0,9,     -999.0,  -999.0,9,     -999.0,     -999.0,9,     -999.0,   0.9936,    34.8606,2,-999.0000,2,     -999.0,9