BOTTLE,20210709CCHSIOCBG
EXPOCODE,SECT_ID,STNNBR,CASTNO,SAMPNO,BTLNBR,BTLNBR_FLAG_W,DATE,TIME,LATITUDE,LONGITUDE,DEPTH,CTDPRS,CTDTMP,CTDSAL,CTDSAL_FLAG_W,SALNTY,SALNTY_FLAG_W,CTDOXY,CTDOXY_FLAG_W,OXYGEN,OXYGEN_FLAG_W,SILCAT,SILCAT_FLAG_W,NITRAT,NITRAT_FLAG_W,NITRIT,NITRIT_FLAG_W,PHSPHT,PHSPHT_FLAG_W,CFC-11,CFC-11_FLAG_W,CFC-12,CFC-12_FLAG_W,SF6,SF6_FLAG_W,TCARBN,TCARBN_FLAG_W,ALKALI,ALKALI_FLAG_W,PH_TOT,PH_TOT_FLAG_W,PH_TMP,TRITUM,TRITUM_FLAG_W,HELIUM,HELIUM_FLAG_W,DELHE3,DELHE3_FLAG_W,REFTMP,DELC13,DELC13_FLAG_W,DELC14,DELC14_FLAG_W,C14ERR,NEON,NEON_FLAG_W,NEONER,DOC,DOC_FLAG_W,TDN,TDN_FLAG_W,N2O,N2O_FLAG_W,ARGON,ARGON_FLAG_W,TRITER,HELIER,DELHER,ARGONER,KRYPTON,KRYPTON_FLAG_W,KRYPTONER,XENON,XENON_FLAG_W,XENONER,14C-DOC,14C-DOC_FLAG_W,14C-DOCERR,13C-DOC,13C-DOC_FLAG_W,13C-DOCERR,THETA,SALTREF,SALTREF_FLAG_W,SBE35,SBE35_FLAG_W,CHLORA,CHLORA_FLAG_W
,,,,,,,,,,,METERS,DBAR,ITS-90,PSS-78,,PSS-78,,UMOL/KG,,UMOL/KG,,UMOL/KG,,UMOL/KG,,UMOL/KG,,UMOL/KG,,PMOL/KG,,PMOL/KG,,FMOL/KG,,UMOL/KG,,UMOL/KG,,,,DEG C,TU,,NMOL/KG,,PERCNT,,DEG C,/MILLE,,/MILLE,,/MILLE,NMOL/KG,,NMOL/KG,UMOL/KG,,UMOL/KG,,NMOL/KG,,UMOL/KG,,TU,NMOL/KG,PERCNT,UMOL/KG,NMOL/KG,,NMOL/KG,NMOL/KG,,NMOL/KG,/MILLE,,/MILLE,/MILLE,,/MILLE,DEG C,G/KG,,ITS-90,,MG/M3,
33RO20150410,     P16N.1,      88,          1,         24,         24,2,20150504,       0728,    10.5014,  -152.0009,       5253,     6.1,  27.5360,  34.3463,2,  34.3565,2,    194.9,2,   196.0,2,    0.30,2,    0.00,2,    0.00,2,    0.21,2,   1.517,2,   0.970,2,   1.251,2,  1939.3,6,  2259.5,2,   8.0875,2,    24.99,-999.000,9,-999.0000,9, -999.00,9,  27.5343, -999.00,9,  -999.0,9,  -999.0,-999.000,9,-999.000,  -999.0,9, -999.00,9,      6.608,3, -999.00,9,-999.000,-999.0000, -999.00,     -999.0,     -999.0,9,     -999.0,     -999.0,9,     -999.0,  -999.0,9,     -999.0,     -999.0,9,     -999.0,  27.5346,    34.5185,2,-999.0000,9,     -999.0,9
33RO20150410,     P16N.1,      88,          1,         23,         23,2,20150504,       0728,    10.5014,  -152.0009,       5253,    20.3,  27.5385,  34.3453,2,  34.3514,2,    196.2,2,   196.0,2,    0.30,2,    0.00,2,    0.01,2,    0.20,2,-999.000,9,-999.000,9,-999.000,9,  1939.4,2,  2258.7,2,   8.0875,6,    25.00,-999.000,9,-999.0000,9, -999.00,9,  27.5375, -999.00,9,  -999.0,9,  -999.0,-999.000,9,-999.000,  -999.0,9, -999.00,9,     -999.0,9, -999.00,9,-999.000,-999.0000, -999.00,     -999.0,     -999.0,9,     -999.0,     -999.0,9,     -999.0,  -999.0,9,     -999.0,     -999.0,9,     -999.0,  27.5338,    34.5133,2,-999.0000,9,     -999.0,9
33RO20150410,     P16N.1,      88,          1,         22,         22,2,20150504,       0728,    10.5014,  -152.0009,       5253,    40.2,  27.5408,  34.3450,2,  34.3490,2,    196.1,2,   195.9,2,    0.40,2,    0.00,2,    0.01,2,    0.23,2,-999.000,9,-999.000,9,-999.000,9,  1940.1,2,  2259.1,6,   8.0874,6,    25.00,-999.000,9,-999.0000,9, -999.00,9,  27.5386, -999.00,9,  -999.0,9,  -999.0,-999.000,9,-999.000,  -999.0,9, -999.00,9,     -999.0,9, -999.00,9,-999.000,-999.0000, -999.00,     -999.0,     -999.0,9,     -999.0,     -999.0,9,     -999.0,  -999.0,9,     -999.0,     -999.0,9,     -999.0,  27.5315,    34.5110,2,-999.0000,9,     -999.0,9
33RO20150410,     P16N.1,      88,          1,         21,         21,2,20150504,       0728,    10.5014,  -152.0009,       5253,    67.5,  27.5398,  34.3423,2,  34.3543,2,    196.8,2,   195.7,2,    0.40,2,    0.10,2,    0.01,2,    0.22,2,   1.528,6,   0.969,6,   1.272,6,  1937.7,2,  2259.5,2,   8.0872,2,    24.99,-999.000,9,-999.0000,9, -999.00,9,  27.5359, -999.00,9,  -999.0,9,  -999.0,-999.000,9,-999.000,  -999.0,9, -999.00,9,      6.529,3, -999.00,9,-999.000,-999.0000, -999.00,     -999.0,     -999.0,9,     -999.0,     -999.0,9,     -999.0,  -999.0,9,     -999.0,     -999.0,9,     -999.0,  27.5241,    34.5163,2,-999.0000,9,     -999.0,9
33RO20150410,     P16N.1,      88,          1,         20,         20,2,20150504,       0728,    10.5014,  -152.0009,       5253,    91.8,  16.6566,  34.3806,2,  34.3981,2,    159.0,2,   154.0,2,    6.40,2,    8.60,2,    0.38,2,    1.00,2,-999.000,9,-999.000,9,-999.000,9,  2106.0,2,  2276.5,2,   7.7924,6,    25.00,-999.000,9,-999.0000,9, -999.00,9,  16.6876, -999.00,9,  -999.0,9,  -999.0,-999.000,9,-999.000,  -999.0,9, -999.00,9,     -999.0,9, -999.00,9,-999.000,-999.0000, -999.00,     -999.0,     -999.0,9,     -999.0,     -999.0,9,     -999.0,  -999.0,9,     -999.0,     -999.0,9,     -999.0,  16.6418,    34.5603,2,-999.0000,9,     -999.0,9
33RO20150410,     P16N.1,      88,          1,         19,         19,2,20150504,       0728,    10.5014,  -152.0009,       5253,   134.0,  12.3692,  34.6217,2,  34.6198,2,      5.4,2,     8.3,2,   25.50,2,   30.30,2,    0.07,2,    2.61,2,   1.274,2,   0.704,2,   0.336,2,  2248.9,2,  2289.1,2,   7.4199,3,    24.98,-999.000,9,-999.0000,9, -999.00,9,  12.3718, -999.00,9,  -999.0,9,  -999.0,-999.000,9,-999.000,  -999.0,9, -999.00,9,     67.634,3, -999.00,9,-999.000,-999.0000, -999.00,     -999.0,     -999.0,9,     -999.0,     -999.0,9,     -999.0,  -999.0,9,     -999.0,     -999.0,9,     -999.0,  12.3515,    34.7830,2,-999.0000,9,     -999.0,9
33RO20150410,     P16N.1,      88,          1,         18,         18,2,20150504,       0728,    10.5014,  -152.0009,       5253,   200.0,  11.3963,  34.7392,2,  34.7391,2,      3.7,2,     5.0,2,   28.10,2,   33.50,2,    0.01,2,    2.56,2,   0.771,2,   0.426,2,   0.181,2,  2258.2,2,  2298.5,2,   7.4199,2,    24.99,-999.000,9,-999.0000,9, -999.00,9,  11.3981, -999.00,9,  -999.0,9,  -999.0,-999.000,9,-999.000,  -999.0,9, -999.00,9,     80.649,3, -999.00,9,-999.000,-999.0000, -999.00,     -999.0,     -999.0,9,     -999.0,     -999.0,9,     -999.0,  -999.0,9,     -999.0,     -999.0,9,     -999.0,  11.3711,    34.9029,2,-999.0000,9,     -999.0,9
33RO20150410,     P16N.1,      88,          1,         17,         17,2,20150504,       0728,    10.5014,  -152.0009,       5253,   274.8,  10.6275,  34.7143,2,  34.7155,2,      5.7,2,     5.3,2,   30.50,2,   34.50,2,    0.01,2,    2.61,2,-999.000,5,-999.000,5,-999.000,5,  2266.8,2,  2300.2,2,   7.4085,2,    24.99,-999.000,9,-999.0000,9, -999.00,9,  10.6262, -999.00,9,  -999.0,9,  -999.0,-999.000,9,-999.000,  -999.0,9, -999.00,9,     -999.0,5, -999.00,9,-999.000,-999.0000, -999.00,     -999.0,     -999.0,9,     -999.0,     -999.0,9,     -999.0,  -999.0,9,     -999.0,     -999.0,9,     -999.0,  10.5943,    34.8792,2,-999.0000,9,     -999.0,9
33RO20150410,     P16N.1,      88,          1,         16,         16,2,20150504,       0728,    10.5014,  -152.0009,       5253,   366.9,   9.7628,  34.6684,2,  34.6656,2,      4.5,2,     5.3,2,   35.20,2,   35.50,2,    0.01,2,    2.73,2,   0.271,2,   0.146,2,   0.049,2,  2274.2,6,  2304.1,2,   7.3877,2,    24.99,-999.000,9,-999.0000,9, -999.00,9,   9.7611, -999.00,9,  -999.0,9,  -999.0,-999.000,9,-999.000,  -999.0,9, -999.00,9,     70.453,3, -999.00,9,-999.000,-999.0000, -999.00,     -999.0,     -999.0,9,     -999.0,     -999.0,9,     -999.0,  -999.0,9,     -999.0,     -999.0,9,     -999.0,   9.7207,    34.8290,2,-999.0000,9,     -999.0,9
33RO20150410,     P16N.1,      88,          1,         15,         15,2,20150504,       0728,    10.5014,  -152.0009,       5253,   467.2,   8.8602,  34.6231,2,  34.6239,2,      3.8,2,     5.3,2,   42.20,2,   36.00,2,    0.00,2,    2.92,2,-999.000,9,-999.000,9,-999.000,9,  2288.6,2,  2309.8,2,   7.3678,2,    24.99,-999.000,9,-999.0000,9, -999.00,9,   8.8619, -999.00,9,  -999.0,9,  -999.0,-999.000,9,-999.000,  -999.0,9, -999.00,9,     -999.0,9, -999.00,9,-999.000,-999.0000, -999.00,     -999.0,     -999.0,9,     -999.0,     -999.0,9,     -999.0,  -999.0,9,     -999.0,     -999.0,9,     -999.0,   8.8094,    34.7872,2,-999.0000,9,     -999.0,9
33RO20150410,     P16N.1,      88,          1,         14,         14,2,20150504,       0728,    10.5014,  -152.0009,       5253,   599.9,   7.4177,  34.5519,2,  34.5511,2,      5.8,2,     5.3,2,   55.20,2,   38.80,2,    0.00,2,    3.10,2,   0.021,2,   0.012,2,       0,2,  2302.1,2,  2321.4,2,   7.3539,2,    24.99,-999.000,9,-999.0000,9, -999.00,9,   7.4211, -999.00,9,  -999.0,9,  -999.0,-999.000,9,-999.000,  -999.0,9, -999.00,9,     64.451,3, -999.00,9,-999.000,-999.0000, -999.00,     -999.0,     -999.0,9,     -999.0,     -999.0,9,     -999.0,  -999.0,9,     -999.0,     -999.0,9,     -999.0,   7.3584,    34.7140,2,-999.0000,9,     -999.0,9
33RO20150410,     P16N.1,      88,          1,         13,         13,2,20150504,       0728,    10.5014,  -152.0009,       5253,   749.2,   5.9298,  34.5305,2,  34.5273,2,      9.7,2,     9.8,2,   72.00,2,   42.50,2,    0.01,2,    3.23,2,-999.000,9,-999.000,9,-999.000,9,  2324.3,2,  2338.6,2,   7.3420,6,    25.00,-999.000,9,-999.0000,9, -999.00,9,   5.9340, -999.00,9,  -999.0,9,  -999.0,-999.000,9,-999.000,  -999.0,9, -999.00,9,     -999.0,9, -999.00,9,-999.000,-999.0000, -999.00,     -999.0,     -999.0,9,     -999.0,     -999.0,9,     -999.0,  -999.0,9,     -999.0,     -999.0,9,     -999.0,   5.8634,    34.6901,2,-999.0000,9,     -999.0,9
33RO20150410,     P16N.1,      88,          1,         12,         12,2,20150504,       0728,    10.5014,  -152.0009,       5253,   900.1,   5.0015,  34.5422,2,  34.5409,2,     24.1,2,    24.0,2,   84.30,2,   43.50,2,    0.00,2,    3.24,2,   0.002,2,   0.002,2,       0,2,  2329.7,2,  2352.8,2,   7.3609,2,    24.99,-999.000,9,-999.0000,9, -999.00,9,   5.0057, -999.00,9,  -999.0,9,  -999.0,-999.000,9,-999.000,  -999.0,9, -999.00,9,     49.796,3, -999.00,9,-999.000,-999.0000, -999.00,     -999.0,     -999.0,9,     -999.0,     -999.0,9,     -999.0,  -999.0,9,     -999.0,     -999.0,9,     -999.0,   4.9271,    34.7037,2,-999.0000,9,     -999.0,9
33RO20150410,     P16N.1,      88,          1,         11,         11,2,20150504,       0728,    10.5014,  -152.0009,       5253,  1050.0,   4.3470,  34.5573,2,  34.5581,2,     38.7,2,    39.4,2,   95.20,2,   42.90,2,    0.00,2,    3.18,2,-999.000,9,-999.000,9,-999.000,9,  2335.5,2,  2368.1,2,   7.3867,2,    24.99,-999.000,9,-999.0000,9, -999.00,9,   4.3449, -999.00,9,  -999.0,9,  -999.0,-999.000,9,-999.000,  -999.0,9, -999.00,9,     -999.0,9, -999.00,9,-999.000,-999.0000, -999.00,     -999.0,     -999.0,9,     -999.0,     -999.0,9,     -999.0,  -999.0,9,     -999.0,     -999.0,9,     -999.0,   4.2643,    34.7211,2,-999.0000,9,     -999.0,9
33RO20150410,     P16N.1,      88,          1,         10,         10,2,20150504,       0728,    10.5014,  -152.0009,       5253,  1234.4,   3.7374,  34.5756,2,  34.5763,2,     52.5,2,    52.1,2,  107.20,2,   42.20,2,    0.00,2,    3.13,2,-999.000,9,-999.000,9,-999.000,9,  2342.2,2,  2381.4,2,   7.4082,2,    24.98,-999.000,9,-999.0000,9, -999.00,9,   3.7389, -999.00,9,  -999.0,9,  -999.0,-999.000,9,-999.000,  -999.0,9, -999.00,9,     -999.0,9, -999.00,9,-999.000,-999.0000, -999.00,     -999.0,     -999.0,9,     -999.0,     -999.0,9,     -999.0,  -999.0,9,     -999.0,     -999.0,9,     -999.0,   3.6442,    34.7393,6,-999.0000,9,     -999.0,9
33RO20150410,     P16N.1,      88,          1,          9,          9,2,20150504,       0728,    10.5014,  -152.0009,       5253,  1498.8,   3.1010,  34.5983,2,  34.5982,2,     66.5,2,    66.2,2,  120.30,2,   41.30,2,    0.00,2,    3.07,2,-999.000,9,-999.000,9,-999.000,9,  2349.0,2,  2396.5,2,   7.4333,2,    24.98,-999.000,9,-999.0000,9, -999.00,9,   3.1014, -999.00,9,  -999.0,9,  -999.0,-999.000,9,-999.000,  -999.0,9, -999.00,9,     -999.0,9, -999.00,9,-999.000,-999.0000, -999.00,     -999.0,     -999.0,9,     -999.0,     -999.0,9,     -999.0,  -999.0,9,     -999.0,     -999.0,9,     -999.0,   2.9920,    34.7614,2,-999.0000,9,     -999.0,9
33RO20150410,     P16N.1,      88,          1,          8,          8,2,20150504,       0728,    10.5014,  -152.0009,       5253,  1866.4,   2.3552,  34.6321,2,  34.6330,2,     87.0,2,    87.3,2,  136.50,2,   40.10,2,    0.00,2,    2.92,2,-999.000,9,-999.000,9,-999.000,9,  2353.3,2,  2416.3,2,   7.4721,6,    25.00,-999.000,9,-999.0000,9, -999.00,9,   2.3557, -999.00,9,  -999.0,9,  -999.0,-999.000,9,-999.000,  -999.0,9, -999.00,9,     -999.0,9, -999.00,9,-999.000,-999.0000, -999.00,     -999.0,     -999.0,9,     -999.0,     -999.0,9,     -999.0,  -999.0,9,     -999.0,     -999.0,9,     -999.0,   2.2247,    34.7963,2,-999.0000,9,     -999.0,9
33RO20150410,     P16N.1,      88,          1,          7,          7,2,20150504,       0728,    10.5014,  -152.0009,       5253,  2267.0,   1.9550,  34.6572,2,  34.6566,2,    101.5,2,   102.1,2,  145.20,2,   39.00,2,    0.00,2,    2.82,2,-999.000,9,-999.000,9,-999.000,9,  2357.0,2,  2427.1,2,   7.5018,2,    24.99,-999.000,9,-999.0000,9, -999.00,9,   1.9550, -999.00,9,  -999.0,9,  -999.0,-999.000,9,-999.000,  -999.0,9, -999.00,9,     -999.0,9, -999.00,9,-999.000,-999.0000, -999.00,     -999.0,     -999.0,9,     -999.0,     -999.0,9,     -999.0,  -999.0,9,     -999.0,     -999.0,9,     -999.0,   1.7963,    34.8201,6,-999.0000,9,     -999.0,9
33RO20150410,     P16N.1,      88,          1,          6,          6,2,20150504,       0728,    10.5014,  -152.0009,       5253,  2732.4,   1.7840,  34.6698,2,  34.6707,2,    111.6,2,   112.5,2,  148.60,2,   38.10,2,    0.00,2,    2.76,2,-999.000,9,-999.000,9,-999.000,9,  2354.8,2,  2433.3,2,   7.5231,2,    24.98,-999.000,9,-999.0000,9, -999.00,9,   1.7840, -999.00,9,  -999.0,9,  -999.0,-999.000,9,-999.000,  -999.0,9, -999.00,9,     -999.0,9, -999.00,9,-999.000,-999.0000, -999.00,     -999.0,     -999.0,9,     -999.0,     -999.0,9,     -999.0,  -999.0,9,     -999.0,     -999.0,9,     -999.0,   1.5864,    34.8342,2,-999.0000,9,     -999.0,9
33RO20150410,     P16N.1,      88,          1,          5,          5,2,20150504,       0728,    10.5014,  -152.0009,       5253,  3232.9,   1.6435,  34.6780,2,  34.6766,2,    124.2,2,   124.6,2,  149.50,2,   37.50,2,    0.00,2,    2.71,2,-999.000,9,-999.000,9,-999.000,9,  2345.4,2,  2433.3,2,   7.5436,2,    24.99,-999.000,9,-999.0000,9, -999.00,9,   1.6433, -999.00,9,  -999.0,9,  -999.0,-999.000,9,-999.000,  -999.0,9, -999.00,9,     -999.0,9, -999.00,9,-999.000,-999.0000, -999.00,     -999.0,     -999.0,9,     -999.0,     -999.0,9,     -999.0,  -999.0,9,     -999.0,     -999.0,9,     -999.0,   1.4007,    34.8401,2,-999.0000,9,     -999.0,9
33RO20150410,     P16N.1,      88,          1,          4,          4,2,20150504,       0728,    10.5014,  -152.0009,       5253,  3732.1,   1.4924,  34.6862,2,  34.6866,2,    142.3,2,   143.2,2,  144.90,6,   36.20,6,    0.00,6,    2.59,6,-999.000,9,-999.000,9,-999.000,9,  2331.2,2,  2428.0,2,   7.5694,2,    24.99,-999.000,9,-999.0000,9, -999.00,9,   1.4924, -999.00,9,  -999.0,9,  -999.0,-999.000,9,-999.000,  -999.0,9, -999.00,9,     -999.0,9, -999.00,9,-999.000,-999.0000, -999.00,     -999.0,     -999.0,9,     -999.0,     -999.0,9,     -999.0,  -999.0,9,     -999.0,     -999.0,9,     -999.0,   1.2023,    34.8502,2,-999.0000,9,     -999.0,9
33RO20150410,     P16N.1,      88,          1,          3,          3,2,20150504,       0728,    10.5014,  -152.0009,       5253,  4232.4,   1.3889,  34.6949,2,  34.6933,2,    162.1,2,   162.0,2,  134.40,6,   34.80,6,    0.00,6,    2.49,6,-999.000,9,-999.000,9,-999.000,9,  2312.0,2,  2414.7,2,   7.5920,6,    24.99,-999.000,9,-999.0000,9, -999.00,9,   1.3892, -999.00,9,  -999.0,9,  -999.0,-999.000,9,-999.000,  -999.0,9, -999.00,9,     -999.0,9, -999.00,9,-999.000,-999.0000, -999.00,     -999.0,     -999.0,9,     -999.0,     -999.0,9,     -999.0,  -999.0,9,     -999.0,     -999.0,9,     -999.0,   1.0475,    34.8569,2,-999.0000,9,     -999.0,9
33RO20150410,     P16N.1,      88,          1,          2,          2,2,20150504,       0728,    10.5014,  -152.0009,       5253,  4733.1,   1.3778,  34.6982,2,  34.6969,2,    171.0,2,   167.5,4,  129.40,6,   34.20,6,    0.00,6,    2.44,6,-999.000,9,-999.000,9,-999.000,9,  2302.7,2,  2405.4,6,   7.5980,2,    24.99,-999.000,9,-999.0000,9, -999.00,9,   1.3778, -999.00,9,  -999.0,9,  -999.0,-999.000,9,-999.000,  -999.0,9, -999.00,9,     -999.0,9, -999.00,9,-999.000,-999.0000, -999.00,     -999.0,     -999.0,9,     -999.0,     -999.0,9,     -999.0,  -999.0,9,     -999.0,     -999.0,9,     -999.0,   0.9794,    34.8605,2,-999.0000,9,     -999.0,9
33RO20150410,     P16N.1,      88,          1,          1,          1,2,20150504,       0728,    10.5014,  -152.0009,       5253,  5243.4,   1.4289,  34.6984,2,  34.6980,2,    172.4,2,   171.9,2,  128.50,6,   34.10,6,    0.00,6,    2.44,6,-999.000,9,-999.000,9,-999.000,9,  2299.9,6,  2404.6,2,   7.5978,2,    24.99,-999.000,9,-999.0000,9, -999.00,9,   1.4289, -999.00,9,  -999.0,9,  -999.0,-999.000,9,-999.000,  -999.0,9, -999.00,9,     -999.0,9, -999.00,9,-999.000,-999.0000, -999.00,     -999.0,     -999.0,9,     -999.0,     -999.0,9,     -999.0,  -999.0,9,     -999.0,     -999.0,9,     -999.0,   0.9670,    34.8617,2,-999.0000,9,     -999.0,9