BOTTLE,20210709CCHSIOCBG
EXPOCODE,SECT_ID,STNNBR,CASTNO,SAMPNO,BTLNBR,BTLNBR_FLAG_W,DATE,TIME,LATITUDE,LONGITUDE,DEPTH,CTDPRS,CTDTMP,CTDSAL,CTDSAL_FLAG_W,SALNTY,SALNTY_FLAG_W,CTDOXY,CTDOXY_FLAG_W,OXYGEN,OXYGEN_FLAG_W,SILCAT,SILCAT_FLAG_W,NITRAT,NITRAT_FLAG_W,NITRIT,NITRIT_FLAG_W,PHSPHT,PHSPHT_FLAG_W,CFC-11,CFC-11_FLAG_W,CFC-12,CFC-12_FLAG_W,SF6,SF6_FLAG_W,TCARBN,TCARBN_FLAG_W,ALKALI,ALKALI_FLAG_W,PH_TOT,PH_TOT_FLAG_W,PH_TMP,TRITUM,TRITUM_FLAG_W,HELIUM,HELIUM_FLAG_W,DELHE3,DELHE3_FLAG_W,REFTMP,DELC13,DELC13_FLAG_W,DELC14,DELC14_FLAG_W,C14ERR,NEON,NEON_FLAG_W,NEONER,DOC,DOC_FLAG_W,TDN,TDN_FLAG_W,N2O,N2O_FLAG_W,ARGON,ARGON_FLAG_W,TRITER,HELIER,DELHER,ARGONER,KRYPTON,KRYPTON_FLAG_W,KRYPTONER,XENON,XENON_FLAG_W,XENONER,14C-DOC,14C-DOC_FLAG_W,14C-DOCERR,13C-DOC,13C-DOC_FLAG_W,13C-DOCERR,THETA,SALTREF,SALTREF_FLAG_W,SBE35,SBE35_FLAG_W,CHLORA,CHLORA_FLAG_W
,,,,,,,,,,,METERS,DBAR,ITS-90,PSS-78,,PSS-78,,UMOL/KG,,UMOL/KG,,UMOL/KG,,UMOL/KG,,UMOL/KG,,UMOL/KG,,PMOL/KG,,PMOL/KG,,FMOL/KG,,UMOL/KG,,UMOL/KG,,,,DEG C,TU,,NMOL/KG,,PERCNT,,DEG C,/MILLE,,/MILLE,,/MILLE,NMOL/KG,,NMOL/KG,UMOL/KG,,UMOL/KG,,NMOL/KG,,UMOL/KG,,TU,NMOL/KG,PERCNT,UMOL/KG,NMOL/KG,,NMOL/KG,NMOL/KG,,NMOL/KG,/MILLE,,/MILLE,/MILLE,,/MILLE,DEG C,G/KG,,ITS-90,,MG/M3,
33RO20150410,     P16N.1,      10,          1,         24,         24,2,20150413,       2034,   -12.0018,  -150.9987,       4969,     5.5,  29.3475,  35.9331,2,  35.9300,2,    193.5,2,   192.8,2,    0.30,2,    0.00,2,    0.01,2,    0.09,4,   1.371,2,   0.921,2,   1.212,2,  2005.0,2,  2368.4,2,   8.1218,6,    24.98,   0.273,2,-999.0000,9, -999.00,9,  29.3411, -999.00,9,  -999.0,9,  -999.0,-999.000,9,-999.000,  -999.0,9, -999.00,9,      5.757,3, -999.00,9,   0.004,-999.0000, -999.00,     -999.0,     -999.0,9,     -999.0,     -999.0,9,     -999.0,  -999.0,9,     -999.0,     -999.0,9,     -999.0,  29.3462,    36.0994,2,-999.0000,2,      0.072,2
33RO20150410,     P16N.1,      10,          1,         23,         23,2,20150413,       2034,   -12.0018,  -150.9987,       4969,    20.7,  29.1151,  35.9251,2,  35.9228,2,    193.7,2,   193.4,2,    0.20,2,    0.00,2,    0.00,2,    0.09,4,   1.409,2,   0.924,2,   1.236,2,  2003.0,2,  2367.8,6,   8.1227,6,    24.99,-999.000,9,-999.0000,9, -999.00,9,  29.1161, -999.00,9,  -999.0,9,  -999.0,-999.000,9,-999.000,  -999.0,9, -999.00,9,      5.761,3, -999.00,9,-999.000,-999.0000, -999.00,     -999.0,     -999.0,9,     -999.0,     -999.0,9,     -999.0,  -999.0,9,     -999.0,     -999.0,9,     -999.0,  29.1101,    36.0922,6,-999.0000,2,      0.102,2
33RO20150410,     P16N.1,      10,          1,         22,         22,2,20150413,       2034,   -12.0018,  -150.9987,       4969,    42.6,  29.1116,  35.9250,2,  35.9225,2,    193.6,2,   193.4,2,    0.30,2,    0.00,2,    0.00,2,    0.09,4,   1.435,2,   0.917,2,   1.198,2,  2003.0,2,  2368.1,2,   8.1226,2,    25.00,   0.261,2,   1.6792,2,   -1.46,2,  29.1129, -999.00,9,  -999.0,9,  -999.0,   6.502,2,   0.016,  -999.0,9, -999.00,9,      5.748,3,    9.54,2,   0.002,   0.0044,    0.20,       0.02,       2.02,2,       0.01,       0.26,2,       0.00,  -999.0,9,     -999.0,     -999.0,9,     -999.0,  29.1012,    36.0919,2,-999.0000,2,      0.079,2
33RO20150410,     P16N.1,      10,          1,         21,         21,2,20150413,       2034,   -12.0018,  -150.9987,       4969,    67.6,  29.1034,  35.9231,2,  35.9225,2,    193.5,2,   193.6,2,    0.10,2,    0.00,2,    0.00,2,    0.09,4,   1.395,6,   0.925,6,   1.217,6,  2004.6,2,  2374.4,2,   8.1226,2,    25.00,   0.278,2,-999.0000,9, -999.00,9,  29.1050, -999.00,9,  -999.0,9,  -999.0,-999.000,9,-999.000,  -999.0,9, -999.00,9,      5.788,3, -999.00,9,   0.002,-999.0000, -999.00,     -999.0,     -999.0,9,     -999.0,     -999.0,9,     -999.0,  -999.0,9,     -999.0,     -999.0,9,     -999.0,  29.0870,    36.0919,2,-999.0000,2,      0.109,2
33RO20150410,     P16N.1,      10,          1,         20,         20,2,20150413,       2034,   -12.0018,  -150.9987,       4969,    91.8,  27.7876,  36.1190,2,  36.1289,2,    190.4,2,   191.2,2,    0.70,2,    1.00,2,    0.19,2,    0.21,4,   1.473,2,   0.982,2,   1.195,2,  2039.8,2,  2381.1,2,   8.0841,6,    25.00,-999.000,9,-999.0000,9, -999.00,9,  27.7940, -999.00,9,  -999.0,9,  -999.0,-999.000,9,-999.000,  -999.0,9, -999.00,9,      6.357,3, -999.00,9,-999.000,-999.0000, -999.00,     -999.0,     -999.0,9,     -999.0,     -999.0,9,     -999.0,  -999.0,9,     -999.0,     -999.0,9,     -999.0,  27.7660,    36.2993,2,-999.0000,2,      0.318,2
33RO20150410,     P16N.1,      10,          1,         19,         19,2,20150413,       2034,   -12.0018,  -150.9987,       4969,   131.8,  26.1337,  36.4595,2,  36.4585,2,    176.0,2,   177.7,2,    0.50,2,    0.90,2,    0.84,2,    0.23,4,   1.555,2,   1.030,2,   1.331,2,  2078.3,2,  2403.4,2,   8.0547,2,    25.00,   0.296,2,-999.0000,9, -999.00,9,  26.1334, -999.00,9,  -999.0,9,  -999.0,-999.000,9,-999.000,  -999.0,9, -999.00,9,      6.374,3, -999.00,9,   0.004,-999.0000, -999.00,     -999.0,     -999.0,9,     -999.0,     -999.0,9,     -999.0,  -999.0,9,     -999.0,     -999.0,9,     -999.0,  26.1040,    36.6305,2,-999.0000,2,      0.221,2
33RO20150410,     P16N.1,      10,          1,         18,         18,2,20150413,       2034,   -12.0018,  -150.9987,       4969,   200.8,  22.4015,  36.1424,2,  36.1377,2,    168.6,2,   167.8,2,    0.50,2,    4.20,2,    0.02,2,    0.28,4,   1.867,2,   1.203,2,   1.276,2,  2111.9,2,  2379.8,2,   7.9650,2,    24.99,   0.292,2,   1.7200,2,   -1.15,2,  22.3962, -999.00,9,  -999.0,9,  -999.0,   6.841,2,   0.017,  -999.0,9, -999.00,9,      7.527,3,   10.83,2,   0.003,   0.0045,    0.20,       0.02,       2.37,2,       0.01,       0.32,2,       0.00,  -999.0,9,     -999.0,     -999.0,9,     -999.0,  22.3610,    36.3081,2,-999.0000,2,      0.038,2
33RO20150410,     P16N.1,      10,          1,         17,         17,2,20150413,       2034,   -12.0018,  -150.9987,       4969,   275.4,  18.3341,  35.4881,2,  35.4874,2,    169.1,2,   169.2,2,    1.40,2,    6.90,2,    0.01,2,    0.38,4,   2.224,2,   1.368,2,   1.273,2,  2118.4,2,  2339.8,2,   7.8843,2,    24.98,   0.231,2,   1.7364,2,   -1.23,2,  18.3350, -999.00,9,  -999.0,9,  -999.0,   7.024,2,   0.018,  -999.0,9, -999.00,9,     11.668,3,   11.64,2,   0.002,   0.0045,    0.20,       0.02,       2.61,2,       0.01,       0.36,2,       0.00,  -999.0,9,     -999.0,     -999.0,9,     -999.0,  18.2860,    35.6547,2,-999.0000,2,     -999.0,9
33RO20150410,     P16N.1,      10,          1,         16,         16,4,20150413,       2034,   -12.0018,  -150.9987,       4969,   366.9,  12.9248,  34.8393,2,  34.6991,4,     93.3,2,   140.6,4,   82.70,4,   30.20,4,    0.00,4,    2.36,4,   0.734,4,   0.426,4,   0.284,2,  2239.3,4,  2348.4,4,   7.5997,4,    24.98,   0.041,2,-999.0000,9, -999.00,9,  12.9272, -999.00,9,  -999.0,9,  -999.0,-999.000,9,-999.000,  -999.0,9, -999.00,9,     28.590,3, -999.00,9,   0.002,-999.0000, -999.00,     -999.0,     -999.0,9,     -999.0,     -999.0,9,     -999.0,  -999.0,9,     -999.0,     -999.0,9,     -999.0,  12.8744,    34.8627,4,-999.0000,2,     -999.0,9
33RO20150410,     P16N.1,      10,          1,         15,         15,2,20150413,       2034,   -12.0018,  -150.9987,       4969,   467.9,   8.8518,  34.6257,2,  34.6251,2,    103.9,2,   104.6,2,   23.70,2,   29.30,2,    0.00,2,    1.43,4,   0.643,6,   0.359,6,   0.152,6,  2212.6,2,  2305.8,2,   7.5748,3,    25.00,   0.051,2,   1.7911,2,    4.50,2,   8.8440, -999.00,9,  -999.0,9,  -999.0,   7.532,2,   0.019,  -999.0,9, -999.00,9,     34.519,3,   14.11,2,   0.002,   0.0047,    0.20,       0.03,       3.29,2,       0.01,       0.48,2,       0.00,  -999.0,9,     -999.0,     -999.0,9,     -999.0,   8.8009,    34.7884,2,-999.0000,2,     -999.0,9
33RO20150410,     P16N.1,      10,          1,         14,         14,2,20150413,       2034,   -12.0018,  -150.9987,       4969,   601.0,   6.4732,  34.5004,2,  34.5025,2,    136.6,2,   137.0,2,   34.90,2,   31.50,2,    0.00,2,    1.64,4,   0.388,2,   0.207,2,   0.058,2,  2216.4,2,  2306.7,2,   7.5828,2,    24.99,   0.035,2,   1.8234,2,    9.57,2,   6.4848, -999.00,9,  -999.0,9,  -999.0,   7.722,2,   0.019,  -999.0,9, -999.00,9,     27.959,3,   14.87,2,   0.002,   0.0047,    0.20,       0.03,       3.51,2,       0.01,       0.52,2,       0.00,  -999.0,9,     -999.0,     -999.0,9,     -999.0,   6.4181,    34.6652,2,-999.0000,2,     -999.0,9
33RO20150410,     P16N.1,      10,          1,         13,         13,2,20150413,       2034,   -12.0018,  -150.9987,       4969,   750.2,   5.5819,  34.4990,2,  34.5007,2,    122.8,2,   123.5,2,   47.80,2,   34.60,2,    0.00,2,    1.94,4,   0.145,2,   0.078,2,   0.043,2,  2240.8,2,  2317.7,2,   7.5432,2,    25.00,   0.010,2,   1.8387,2,   12.22,2,   5.5810, -999.00,9,  -999.0,9,  -999.0,   7.748,2,   0.019,  -999.0,9, -999.00,9,     29.398,3,   15.13,2,   0.002,   0.0048,    0.20,       0.03,       3.59,2,       0.01,       0.53,2,       0.00,  -999.0,9,     -999.0,     -999.0,9,     -999.0,   5.5174,    34.6634,2,-999.0000,2,     -999.0,9
33RO20150410,     P16N.1,      10,          1,         12,         12,2,20150413,       2034,   -12.0018,  -150.9987,       4969,   900.0,   4.9877,  34.5052,2,  34.5066,2,    116.3,2,   117.5,2,   57.90,2,   36.00,2,    0.00,2,    2.14,4,   0.059,2,   0.031,2,       0,2,  2254.2,2,  2328.1,2,   7.5280,2,    24.98,   0.010,2,   1.8429,2,   14.33,2,   4.9890, -999.00,9,  -999.0,9,  -999.0,   7.785,2,   0.020,  -999.0,9, -999.00,9,     29.429,3,   15.30,2,   0.002,   0.0048,    0.20,       0.03,       3.65,2,       0.01,       0.54,2,       0.00,  -999.0,9,     -999.0,     -999.0,9,     -999.0,   4.9134,    34.6693,2,-999.0000,2,     -999.0,9
33RO20150410,     P16N.1,      10,          1,         11,         11,2,20150413,       2034,   -12.0018,  -150.9987,       4969,  1050.3,   4.3501,  34.5191,2,  34.5210,2,    119.5,2,   116.9,2,   69.90,2,   36.80,2,    0.01,2,    2.36,4,   0.023,2,   0.008,2,       0,2,  2268.9,2,  2340.0,2,   7.5214,2,    24.98,   0.003,2,   1.8617,2,   16.73,2,   4.3483, -999.00,9,  -999.0,9,  -999.0,   7.862,2,   0.020,  -999.0,9, -999.00,9,     28.468,3,   15.58,2,   0.002,   0.0048,    0.20,       0.03,       3.71,2,       0.01,       0.56,2,       0.00,  -999.0,9,     -999.0,     -999.0,9,     -999.0,   4.2674,    34.6837,2,-999.0000,2,     -999.0,9
33RO20150410,     P16N.1,      10,          1,         10,         10,2,20150413,       2034,   -12.0018,  -150.9987,       4969,  1231.7,   3.6117,  34.5446,2,  34.5461,2,    126.6,2,   126.0,2,   83.70,2,   36.50,2,    0.01,2,    2.54,4,   0.017,2,   0.005,2,       0,2,  2277.2,2,  2354.7,2,   7.5318,2,    25.00,   0.009,2,   1.8810,2,   19.59,2,   3.6112, -999.00,9,  -999.0,9,  -999.0,   7.900,2,   0.020,  -999.0,9, -999.00,9,     26.421,3,   15.79,2,   0.002,   0.0049,    0.20,       0.03,       3.80,2,       0.01,       0.57,2,       0.00,  -999.0,9,     -999.0,     -999.0,9,     -999.0,   3.5199,    34.7090,2,-999.0000,2,     -999.0,9
33RO20150410,     P16N.1,      10,          1,          9,          9,2,20150413,       2034,   -12.0018,  -150.9987,       4969,  1500.2,   2.8464,  34.5854,2,  34.5870,2,    135.5,2,   135.0,2,   99.80,2,   36.20,2,    0.00,2,    2.76,4,   0.013,2,   0.004,2,       0,2,  2290.8,2,  2372.5,2,   7.5449,6,    24.98,   0.001,2,   1.9014,2,   24.71,2,   2.8457, -999.00,9,  -999.0,9,  -999.0,   7.994,2,   0.020,  -999.0,9, -999.00,9,     24.500,3,   16.10,2,   0.001,   0.0049,    0.20,       0.03,       3.88,2,       0.01,       0.58,2,       0.00,  -999.0,9,     -999.0,     -999.0,9,     -999.0,   2.7403,    34.7501,2,-999.0000,2,     -999.0,9
33RO20150410,     P16N.1,      10,          1,          8,          8,2,20150413,       2034,   -12.0018,  -150.9987,       4969,  1867.4,   2.2436,  34.6284,2,  34.6312,2,    144.6,2,   143.8,2,  114.00,2,   35.70,2,    0.01,2,    2.95,4,   0.014,3,   0.004,2,   0.118,3,  2301.0,2,  2388.1,2,   7.5600,2,    24.98,   0.007,2,   1.9377,6,   27.87,6,   2.2432, -999.00,9,  -999.0,9,  -999.0,   8.075,6,   0.014,  -999.0,9, -999.00,9,     22.652,3,   16.32,6,   0.002,   0.0035,    0.14,       0.02,       3.93,6,       0.01,       0.59,6,       0.00,  -999.0,9,     -999.0,     -999.0,9,     -999.0,   2.1147,    34.7945,2,-999.0000,2,     -999.0,9
33RO20150410,     P16N.1,      10,          1,          7,          7,2,20150413,       2034,   -12.0018,  -150.9987,       4969,  2269.3,   1.9416,  34.6562,2,  34.6594,2,    147.8,2,   147.1,2,  123.70,2,   35.50,2,    0.01,2,    3.07,4,  -0.007,2,   0.001,2,       0,2,  2310.8,6,  2407.4,2,   7.5695,6,    24.99,-999.000,9,-999.0000,9, -999.00,9,   1.9409, -999.00,9,  -999.0,9,  -999.0,-999.000,9,-999.000,  -999.0,9, -999.00,9,     21.714,3, -999.00,9,-999.000,-999.0000, -999.00,     -999.0,     -999.0,9,     -999.0,     -999.0,9,     -999.0,  -999.0,9,     -999.0,     -999.0,9,     -999.0,   1.7829,    34.8228,2,-999.0000,2,     -999.0,9
33RO20150410,     P16N.1,      10,          1,          6,          6,2,20150413,       2034,   -12.0018,  -150.9987,       4969,  2666.4,   1.7893,  34.6723,2,  34.6739,2,    149.0,2,   148.9,2,  130.50,2,   35.60,2,    0.00,2,    3.17,4,   0.003,2,   0.001,2,       0,2,  2316.6,6,  2409.6,2,   7.5754,2,    24.99,-999.000,9,-999.0000,9, -999.00,9,   1.7891, -999.00,9,  -999.0,9,  -999.0,-999.000,9,-999.000,  -999.0,9, -999.00,9,     21.321,3, -999.00,9,-999.000,-999.0000, -999.00,     -999.0,     -999.0,9,     -999.0,     -999.0,9,     -999.0,  -999.0,9,     -999.0,     -999.0,9,     -999.0,   1.5977,    34.8375,2,-999.0000,2,     -999.0,9
33RO20150410,     P16N.1,      10,          1,          5,          5,2,20150413,       2034,   -12.0018,  -150.9987,       4969,  3066.2,   1.6708,  34.6800,2,  34.6798,2,    156.0,2,   154.2,2,  131.70,2,   35.20,2,    0.00,2,    3.19,4,  -0.001,2,   0.000,2,       0,2,  2312.4,6,  2410.9,2,   7.5820,2,    24.97,-999.000,9,-999.0000,9, -999.00,9,   1.6709, -999.00,9,  -999.0,9,  -999.0,-999.000,9,-999.000,  -999.0,9, -999.00,9,     20.827,3, -999.00,9,-999.000,-999.0000, -999.00,     -999.0,     -999.0,9,     -999.0,     -999.0,9,     -999.0,  -999.0,9,     -999.0,     -999.0,9,     -999.0,   1.4438,    34.8434,6,-999.0000,2,     -999.0,9
33RO20150410,     P16N.1,      10,          1,          4,          4,2,20150413,       2034,   -12.0018,  -150.9987,       4969,  3466.3,   1.5607,  34.6864,2,  34.6866,2,    161.8,2,   161.5,2,  132.20,6,   34.90,6,    0.00,6,    3.16,4,   0.002,2,   0.001,2,       0,2,  2309.3,2,  2406.8,2,   7.5892,6,    25.00,-999.000,9,-999.0000,9, -999.00,9,   1.5607, -999.00,9,  -999.0,9,  -999.0,-999.000,9,-999.000,  -999.0,9, -999.00,9,     20.488,3, -999.00,9,-999.000,-999.0000, -999.00,     -999.0,     -999.0,9,     -999.0,     -999.0,9,     -999.0,  -999.0,9,     -999.0,     -999.0,9,     -999.0,   1.2964,    34.8502,2,-999.0000,2,     -999.0,9
33RO20150410,     P16N.1,      10,          1,          3,          3,2,20150413,       2034,   -12.0018,  -150.9987,       4969,  3933.2,   1.4331,  34.6943,2,  34.6949,2,    176.3,2,   175.0,2,  126.50,6,   33.90,6,    0.00,6,    3.04,4,   0.054,3,   0.002,2,       0,2,  2293.0,2,  2400.5,6,   7.5962,2,    24.97,-999.000,9,-999.0000,9, -999.00,9,   1.4328, -999.00,9,  -999.0,9,  -999.0,-999.000,9,-999.000,  -999.0,9, -999.00,9,     19.746,3, -999.00,9,-999.000,-999.0000, -999.00,     -999.0,     -999.0,9,     -999.0,     -999.0,9,     -999.0,  -999.0,9,     -999.0,     -999.0,9,     -999.0,   1.1232,    34.8585,2,-999.0000,2,     -999.0,9
33RO20150410,     P16N.1,      10,          1,          2,          2,2,20150413,       2034,   -12.0018,  -150.9987,       4969,  4433.6,   1.3271,  34.7015,2,  34.7020,2,    187.7,2,   186.5,2,  123.10,6,   33.10,6,    0.00,6,    2.96,4,   0.015,3,   0.001,2,       0,2,  2282.1,2,  2393.4,2,   7.6027,2,    24.98,-999.000,9,-999.0000,9, -999.00,9,   1.3271, -999.00,9,  -999.0,9,  -999.0,-999.000,9,-999.000,  -999.0,9, -999.00,9,     19.282,3, -999.00,9,-999.000,-999.0000, -999.00,     -999.0,     -999.0,9,     -999.0,     -999.0,9,     -999.0,  -999.0,9,     -999.0,     -999.0,9,     -999.0,   0.9649,    34.8656,2,-999.0000,2,     -999.0,9
33RO20150410,     P16N.1,      10,          1,          1,          1,2,20150413,       2034,   -12.0018,  -150.9987,       4969,  4959.1,   1.3061,  34.7051,2,  34.7071,2,    194.6,2,   193.8,2,  121.30,6,   32.70,6,    0.00,6,    2.91,4,   0.007,6,   0.002,6,       0,6,  2273.6,6,  2386.8,2,   7.6051,2,    24.98,-999.000,9,-999.0000,9, -999.00,9,   1.3058, -999.00,9,  -999.0,9,  -999.0,-999.000,9,-999.000,  -999.0,9, -999.00,9,     18.930,3, -999.00,9,-999.000,-999.0000, -999.00,     -999.0,     -999.0,9,     -999.0,     -999.0,9,     -999.0,  -999.0,9,     -999.0,     -999.0,9,     -999.0,   0.8831,    34.8708,2,-999.0000,2,     -999.0,9