BOTTLE,20210709CCHSIOCBG
EXPOCODE,SECT_ID,STNNBR,CASTNO,SAMPNO,BTLNBR,BTLNBR_FLAG_W,DATE,TIME,LATITUDE,LONGITUDE,DEPTH,CTDPRS,CTDTMP,CTDSAL,CTDSAL_FLAG_W,SALNTY,SALNTY_FLAG_W,CTDOXY,CTDOXY_FLAG_W,OXYGEN,OXYGEN_FLAG_W,SILCAT,SILCAT_FLAG_W,NITRAT,NITRAT_FLAG_W,NITRIT,NITRIT_FLAG_W,PHSPHT,PHSPHT_FLAG_W,CFC-11,CFC-11_FLAG_W,CFC-12,CFC-12_FLAG_W,SF6,SF6_FLAG_W,TCARBN,TCARBN_FLAG_W,ALKALI,ALKALI_FLAG_W,PH_TOT,PH_TOT_FLAG_W,PH_TMP,TRITUM,TRITUM_FLAG_W,HELIUM,HELIUM_FLAG_W,DELHE3,DELHE3_FLAG_W,REFTMP,DELC13,DELC13_FLAG_W,DELC14,DELC14_FLAG_W,C14ERR,NEON,NEON_FLAG_W,NEONER,DOC,DOC_FLAG_W,TDN,TDN_FLAG_W,N2O,N2O_FLAG_W,ARGON,ARGON_FLAG_W,TRITER,HELIER,DELHER,ARGONER,KRYPTON,KRYPTON_FLAG_W,KRYPTONER,XENON,XENON_FLAG_W,XENONER,14C-DOC,14C-DOC_FLAG_W,14C-DOCERR,13C-DOC,13C-DOC_FLAG_W,13C-DOCERR,THETA,SALTREF,SALTREF_FLAG_W,SBE35,SBE35_FLAG_W,CHLORA,CHLORA_FLAG_W
,,,,,,,,,,,METERS,DBAR,ITS-90,PSS-78,,PSS-78,,UMOL/KG,,UMOL/KG,,UMOL/KG,,UMOL/KG,,UMOL/KG,,UMOL/KG,,PMOL/KG,,PMOL/KG,,FMOL/KG,,UMOL/KG,,UMOL/KG,,,,DEG C,TU,,NMOL/KG,,PERCNT,,DEG C,/MILLE,,/MILLE,,/MILLE,NMOL/KG,,NMOL/KG,UMOL/KG,,UMOL/KG,,NMOL/KG,,UMOL/KG,,TU,NMOL/KG,PERCNT,UMOL/KG,NMOL/KG,,NMOL/KG,NMOL/KG,,NMOL/KG,/MILLE,,/MILLE,/MILLE,,/MILLE,DEG C,G/KG,,ITS-90,,MG/M3,
33RO20150410,     P16N.1,      66,          1,         24,         24,2,20150428,       0451,     2.3804,  -150.9989,       4902,    15.0,  28.7020,  35.0844,2,  35.1042,2,    201.2,2,   202.1,2,    1.80,2,    2.40,2,    0.11,2,    0.48,2,   1.531,3,   0.949,2,   1.264,2,  2003.3,6,  2308.4,2,   8.0476,2,    25.01,-999.000,9,-999.0000,9, -999.00,9,  28.7017, -999.00,9,  -999.0,9,  -999.0,-999.000,9,-999.000,    63.8,2,   34.20,4,      6.687,3, -999.00,9,-999.000,-999.0000, -999.00,     -999.0,     -999.0,9,     -999.0,     -999.0,9,     -999.0,  -999.0,9,     -999.0,     -999.0,9,     -999.0,  28.6984,    35.2697,3,-999.0000,9,     -999.0,9
33RO20150410,     P16N.1,      66,          1,         23,         23,2,20150428,       0451,     2.3804,  -150.9989,       4902,    32.4,  28.6046,  35.0833,2,  35.0847,2,    201.7,2,   201.6,2,    1.80,2,    2.40,2,    0.13,2,    0.48,2,   1.556,3,   0.952,6,   1.223,6,  2001.7,2,  2308.6,2,   8.0470,2,    25.02,-999.000,9,-999.0000,9, -999.00,9,  28.6041, -999.00,9,  -999.0,9,  -999.0,-999.000,9,-999.000,    62.2,2,    6.50,2,      6.582,3, -999.00,9,-999.000,-999.0000, -999.00,     -999.0,     -999.0,9,     -999.0,     -999.0,9,     -999.0,  -999.0,9,     -999.0,     -999.0,9,     -999.0,  28.5968,    35.2501,2,-999.0000,2,     -999.0,9
33RO20150410,     P16N.1,      66,          1,         22,         22,2,20150428,       0451,     2.3804,  -150.9989,       4902,    57.9,  28.5475,  35.0872,2,  35.1406,2,    201.4,2,   204.2,2,    1.90,2,    2.60,2,    0.15,2,    0.51,2,   1.512,3,   0.960,2,   1.234,2,  2008.2,2,  2308.5,6,   8.0421,2,    25.01,-999.000,9,-999.0000,9, -999.00,9,  28.5491, -999.00,9,  -999.0,9,  -999.0,-999.000,9,-999.000,    59.9,2,    7.00,2,      6.714,3, -999.00,9,-999.000,-999.0000, -999.00,     -999.0,     -999.0,9,     -999.0,     -999.0,9,     -999.0,  -999.0,9,     -999.0,     -999.0,9,     -999.0,  28.5337,    35.3063,3,-999.0000,2,     -999.0,9
33RO20150410,     P16N.1,      66,          1,         21,         21,2,20150428,       0451,     2.3804,  -150.9989,       4902,    82.9,  27.8523,  35.0046,2,  35.0099,2,    193.6,2,   192.7,2,    1.90,2,    2.60,2,    0.22,2,    0.54,2,   1.518,3,   0.977,2,   1.251,2,  2008.6,2,  2303.0,2,   8.0326,6,    24.98,-999.000,9,-999.0000,9, -999.00,9,  27.8505, -999.00,9,  -999.0,9,  -999.0,-999.000,9,-999.000,    60.0,2,    6.40,2,      6.956,3, -999.00,9,-999.000,-999.0000, -999.00,     -999.0,     -999.0,9,     -999.0,     -999.0,9,     -999.0,  -999.0,9,     -999.0,     -999.0,9,     -999.0,  27.8328,    35.1750,2,-999.0000,2,     -999.0,9
33RO20150410,     P16N.1,      66,          1,         20,         20,2,20150428,       0451,     2.3804,  -150.9989,       4902,   118.0,  26.2210,  35.0330,2,  35.0372,2,    152.1,2,   153.4,2,    2.90,2,    5.90,2,    0.19,2,    0.69,2,   1.625,2,   1.024,2,   1.164,2,  2037.5,2,  2299.9,2,   7.9744,2,    24.99,-999.000,9,-999.0000,9, -999.00,9,  26.2260, -999.00,9,  -999.0,9,  -999.0,-999.000,9,-999.000,    55.7,2,    8.40,2,      8.956,3, -999.00,9,-999.000,-999.0000, -999.00,     -999.0,     -999.0,9,     -999.0,     -999.0,9,     -999.0,  -999.0,9,     -999.0,     -999.0,9,     -999.0,  26.1945,    35.2025,2,-999.0000,2,     -999.0,9
33RO20150410,     P16N.1,      66,          1,         19,         19,2,20150428,       0451,     2.3804,  -150.9989,       4902,   173.9,  13.3120,  34.6562,2,  34.6738,2,    107.2,2,   106.1,2,   21.30,2,   22.00,2,    0.01,2,    1.69,2,   1.683,2,   0.916,2,   0.578,2,  2171.5,2,  2295.5,2,   7.6694,6,    25.01,-999.000,9,-999.0000,9, -999.00,9,  13.4049, -999.00,9,  -999.0,9,  -999.0,-999.000,9,-999.000,    45.8,2,   24.20,2,     30.212,3, -999.00,9,-999.000,-999.0000, -999.00,     -999.0,     -999.0,9,     -999.0,     -999.0,9,     -999.0,  -999.0,9,     -999.0,     -999.0,9,     -999.0,  13.2878,    34.8373,2,-999.0000,2,     -999.0,9
33RO20150410,     P16N.1,      66,          1,         18,         18,2,20150428,       0451,     2.3804,  -150.9989,       4902,   250.1,  11.4138,  34.8003,2,  34.8004,2,     44.9,2,    44.7,2,   25.50,2,   30.90,2,    0.01,2,    2.25,2,   1.024,2,   0.552,2,   0.276,2,  2232.9,2,  2302.3,2,   7.5159,2,    24.99,-999.000,9,-999.0000,9, -999.00,9,  11.4132, -999.00,9,  -999.0,9,  -999.0,-999.000,9,-999.000,    44.1,2,   33.90,2,     52.450,3, -999.00,9,-999.000,-999.0000, -999.00,     -999.0,     -999.0,9,     -999.0,     -999.0,9,     -999.0,  -999.0,9,     -999.0,     -999.0,9,     -999.0,  11.3822,    34.9645,2,-999.0000,2,     -999.0,9
33RO20150410,     P16N.1,      66,          1,         17,         17,2,20150428,       0451,     2.3804,  -150.9989,       4902,   332.7,  10.8024,  34.7594,2,  34.7583,2,     49.8,2,    49.4,2,   27.20,2,   31.60,2,    0.00,2,    2.28,2,   0.915,2,   0.487,2,    0.22,2,  2236.6,2,  2303.4,2,   7.5099,2,    24.99,-999.000,9,-999.0000,9, -999.00,9,  10.8011, -999.00,9,  -999.0,9,  -999.0,-999.000,9,-999.000,    42.5,2, -999.00,9,     50.513,3, -999.00,9,-999.000,-999.0000, -999.00,     -999.0,     -999.0,9,     -999.0,     -999.0,9,     -999.0,  -999.0,9,     -999.0,     -999.0,9,     -999.0,  10.7617,    34.9222,2,-999.0000,2,     -999.0,9
33RO20150410,     P16N.1,      66,          1,         16,         16,2,20150428,       0451,     2.3804,  -150.9989,       4902,   433.2,   9.6984,  34.6889,2,  34.6874,2,     59.5,2,    58.7,2,   30.70,2,   32.70,2,    0.00,2,    2.35,2,   0.720,6,   0.374,6,   0.162,6,  2237.9,6,  2304.7,2,   7.5058,2,    24.99,-999.000,9,-999.0000,9, -999.00,9,   9.6879, -999.00,9,  -999.0,9,  -999.0,-999.000,9,-999.000,    42.9,2, -999.00,9,     45.175,3, -999.00,9,-999.000,-999.0000, -999.00,     -999.0,     -999.0,9,     -999.0,     -999.0,9,     -999.0,  -999.0,9,     -999.0,     -999.0,9,     -999.0,   9.6487,    34.8509,2,-999.0000,2,     -999.0,9
33RO20150410,     P16N.1,      66,          1,         15,         15,2,20150428,       0451,     2.3804,  -150.9989,       4902,   549.8,   7.4570,  34.5892,2,  34.5929,2,     28.2,2,    28.8,2,   48.10,2,   39.80,2,    0.01,2,    2.91,2,   0.091,2,   0.047,2,       0,2,  2283.4,2,  2316.2,2,   7.4006,2,    25.00,-999.000,9,-999.0000,9, -999.00,9,   7.4566, -999.00,9,  -999.0,9,  -999.0,-999.000,9,-999.000,    40.9,2, -999.00,9,     52.064,3, -999.00,9,-999.000,-999.0000, -999.00,     -999.0,     -999.0,9,     -999.0,     -999.0,9,     -999.0,  -999.0,9,     -999.0,     -999.0,9,     -999.0,   7.4026,    34.7560,2,-999.0000,2,     -999.0,9
33RO20150410,     P16N.1,      66,          1,         14,         14,2,20150428,       0451,     2.3804,  -150.9989,       4902,   699.7,   6.0126,  34.5474,2,  34.5516,2,     73.3,2,    72.1,2,   58.20,2,   38.60,2,    0.01,2,    2.81,2,   0.088,2,   0.047,2,       0,2,  2275.9,2,  2328.2,2,   7.4638,2,    24.98,-999.000,9,-999.0000,9, -999.00,9,   6.0132, -999.00,9,  -999.0,9,  -999.0,-999.000,9,-999.000,    40.1,2, -999.00,9,     37.826,3, -999.00,9,-999.000,-999.0000, -999.00,     -999.0,     -999.0,9,     -999.0,     -999.0,9,     -999.0,  -999.0,9,     -999.0,     -999.0,9,     -999.0,   5.9504,    34.7145,2,-999.0000,2,     -999.0,9
33RO20150410,     P16N.1,      66,          1,         13,         13,2,20150428,       0451,     2.3804,  -150.9989,       4902,   849.4,   5.4098,  34.5454,2,  34.5498,2,     74.8,2,    73.9,2,   68.00,2,   39.30,2,    0.00,2,    2.88,2,   0.047,2,   0.024,2,   0.017,2,  2285.5,2,  2338.1,2,   7.4602,6,    25.02,-999.000,9,-999.0000,9, -999.00,9,   5.4091, -999.00,9,  -999.0,9,  -999.0,-999.000,9,-999.000,    39.3,2, -999.00,9,     36.644,3, -999.00,9,-999.000,-999.0000, -999.00,     -999.0,     -999.0,9,     -999.0,     -999.0,9,     -999.0,  -999.0,9,     -999.0,     -999.0,9,     -999.0,   5.3372,    34.7128,2,-999.0000,2,     -999.0,9
33RO20150410,     P16N.1,      66,          1,         12,         12,2,20150428,       0451,     2.3804,  -150.9989,       4902,   969.4,   4.8397,  34.5505,2,  34.5514,2,     77.9,2,    77.9,2,   78.50,2,   39.40,2,    0.01,2,    2.87,2,   0.030,2,   0.014,2,       0,2,  2294.4,2,  2349.4,2,   7.4644,2,    24.99,-999.000,9,-999.0000,9, -999.00,9,   4.8404, -999.00,9,  -999.0,9,  -999.0,-999.000,9,-999.000,    40.7,2, -999.00,9,     35.080,3, -999.00,9,-999.000,-999.0000, -999.00,     -999.0,     -999.0,9,     -999.0,     -999.0,9,     -999.0,  -999.0,9,     -999.0,     -999.0,9,     -999.0,   4.7602,    34.7143,2,-999.0000,2,     -999.0,9
33RO20150410,     P16N.1,      66,          1,         11,         11,2,20150428,       0451,     2.3804,  -150.9989,       4902,  1166.5,   4.0862,  34.5689,2,  34.5697,2,     77.9,2,    77.4,2,   94.90,2,   40.20,2,    0.01,2,    2.94,2,   0.009,3,   0.003,2,       0,2,  2314.1,2,  2368.2,2,   7.4587,2,    25.00,-999.000,9,-999.0000,9, -999.00,9,   4.0847, -999.00,9,  -999.0,9,  -999.0,-999.000,9,-999.000,    39.6,2, -999.00,9,     34.076,3, -999.00,9,-999.000,-999.0000, -999.00,     -999.0,     -999.0,9,     -999.0,     -999.0,9,     -999.0,  -999.0,9,     -999.0,     -999.0,9,     -999.0,   3.9956,    34.7327,2,-999.0000,2,     -999.0,9
33RO20150410,     P16N.1,      66,          1,         10,         10,2,20150428,       0451,     2.3804,  -150.9989,       4902,  1399.2,   3.3774,  34.5918,2,  34.5921,2,     83.6,2,    83.0,2,  110.80,2,   40.20,2,    0.00,2,    2.92,2,   0.009,3,   0.003,2,       0,2,  2330.2,2,  2385.6,2,   7.4663,6,    25.01,-999.000,9,-999.0000,9, -999.00,9,   3.3786, -999.00,9,  -999.0,9,  -999.0,-999.000,9,-999.000,    39.2,2, -999.00,9,     31.991,3, -999.00,9,-999.000,-999.0000, -999.00,     -999.0,     -999.0,9,     -999.0,     -999.0,9,     -999.0,  -999.0,9,     -999.0,     -999.0,9,     -999.0,   3.2738,    34.7552,2,-999.0000,2,     -999.0,9
33RO20150410,     P16N.1,      66,          1,          9,          9,2,20150428,       0451,     2.3804,  -150.9989,       4902,  1732.8,   2.6918,  34.6212,2,  34.6241,2,     92.6,2,    92.3,2,  127.80,2,   39.60,2,    0.01,2,    2.88,2,   0.003,2,   0.001,2,       0,2,  2344.0,2,  2405.8,2,   7.4820,2,    25.00,-999.000,9,-999.0000,9, -999.00,9,   2.6912, -999.00,9,  -999.0,9,  -999.0,-999.000,9,-999.000,    37.0,2, -999.00,9,     29.143,3, -999.00,9,-999.000,-999.0000, -999.00,     -999.0,     -999.0,9,     -999.0,     -999.0,9,     -999.0,  -999.0,9,     -999.0,     -999.0,9,     -999.0,   2.5681,    34.7874,2,-999.0000,3,     -999.0,9
33RO20150410,     P16N.1,      66,          1,          8,          8,2,20150428,       0451,     2.3804,  -150.9989,       4902,  2133.7,   2.2143,  34.6457,2,  34.6508,4,    103.8,2,   103.7,2,  138.90,2,   39.10,2,    0.01,2,    2.80,2,   0.003,2,   0.002,2,       0,2,  2349.1,2,  2418.9,2,   7.5040,2,    25.00,-999.000,9,-999.0000,9, -999.00,9,   2.2141, -999.00,9,  -999.0,9,  -999.0,-999.000,9,-999.000,    39.6,2, -999.00,9,     26.525,3, -999.00,9,-999.000,-999.0000, -999.00,     -999.0,     -999.0,9,     -999.0,     -999.0,9,     -999.0,  -999.0,9,     -999.0,     -999.0,9,     -999.0,   2.0630,    34.8142,3,-999.0000,3,     -999.0,9
33RO20150410,     P16N.1,      66,          1,          7,          7,2,20150428,       0451,     2.3804,  -150.9989,       4902,  2532.7,   1.8301,  34.6680,2,  34.6700,2,    117.2,2,   116.9,2,  148.10,2,   38.00,2,    0.00,2,    2.73,2,   0.002,2,   0.000,2,       0,2,  2352.6,2,  2427.6,2,   7.5298,2,    25.00,-999.000,9,-999.0000,9, -999.00,9,   1.8299, -999.00,9,  -999.0,9,  -999.0,-999.000,9,-999.000,    37.4,2, -999.00,9,     23.618,3, -999.00,9,-999.000,-999.0000, -999.00,     -999.0,     -999.0,9,     -999.0,     -999.0,9,     -999.0,  -999.0,9,     -999.0,     -999.0,9,     -999.0,   1.6499,    34.8335,2,-999.0000,3,     -999.0,9
33RO20150410,     P16N.1,      66,          1,          6,          6,2,20150428,       0451,     2.3804,  -150.9989,       4902,  2933.2,   1.7243,  34.6731,2,  34.6775,4,    127.5,2,   128.0,2,  146.20,2,   37.50,2,    0.00,2,    2.68,2,   0.000,2,   0.000,2,       0,2,  2342.5,2,  2428.3,2,   7.5445,2,    24.99,-999.000,9,-999.0000,9, -999.00,9,   1.7238, -999.00,9,  -999.0,9,  -999.0,-999.000,9,-999.000,    38.6,2, -999.00,9,     22.757,3, -999.00,9,-999.000,-999.0000, -999.00,     -999.0,     -999.0,9,     -999.0,     -999.0,9,     -999.0,  -999.0,9,     -999.0,     -999.0,9,     -999.0,   1.5089,    34.8411,3,-999.0000,3,     -999.0,9
33RO20150410,     P16N.1,      66,          1,          5,          5,2,20150428,       0451,     2.3804,  -150.9989,       4902,  3333.0,   1.5459,  34.6832,2,  34.6838,2,    143.8,2,   143.9,2,  143.90,2,   36.50,2,    0.01,2,    2.59,2,  -0.001,2,   0.000,2,       0,2,  2333.0,2,  2427.2,2,   7.5711,2,    24.99,-999.000,9,-999.0000,9, -999.00,9,   1.5457, -999.00,9,  -999.0,9,  -999.0,-999.000,9,-999.000,    37.6,2, -999.00,9,     21.607,3, -999.00,9,-999.000,-999.0000, -999.00,     -999.0,     -999.0,9,     -999.0,     -999.0,9,     -999.0,  -999.0,9,     -999.0,     -999.0,9,     -999.0,   1.2954,    34.8474,2,-999.0000,2,     -999.0,9
33RO20150410,     P16N.1,      66,          1,          4,          4,2,20150428,       0451,     2.3804,  -150.9989,       4902,  3724.8,   1.4270,  34.6921,2,  34.6926,2,    155.6,2,   157.3,2,  143.30,6,   36.00,6,    0.00,6,    2.54,6,  -0.001,2,   0.002,2,   0.024,3,  2327.5,2,  2430.9,2,   7.5930,6,    24.99,-999.000,9,-999.0000,9, -999.00,9,   1.4267, -999.00,9,  -999.0,9,  -999.0,-999.000,9,-999.000,    39.3,2, -999.00,9,     20.334,3, -999.00,9,-999.000,-999.0000, -999.00,     -999.0,     -999.0,9,     -999.0,     -999.0,9,     -999.0,  -999.0,9,     -999.0,     -999.0,9,     -999.0,   1.1394,    34.8562,6,-999.0000,2,     -999.0,9
33RO20150410,     P16N.1,      66,          1,          3,          3,2,20150428,       0451,     2.3804,  -150.9989,       4902,  4132.8,   1.4139,  34.6946,2,  34.6956,2,    160.8,2,   160.5,2,  140.50,6,   35.40,6,    0.00,6,    2.49,6,   0.001,2,   0.000,2,       0,2,  2321.7,2,  2425.1,6,   7.5985,6,    25.01,-999.000,9,-999.0000,9, -999.00,9,   1.4138, -999.00,9,  -999.0,9,  -999.0,-999.000,9,-999.000,    39.4,2, -999.00,9,     20.292,3, -999.00,9,-999.000,-999.0000, -999.00,     -999.0,     -999.0,9,     -999.0,     -999.0,9,     -999.0,  -999.0,9,     -999.0,     -999.0,9,     -999.0,   1.0828,    34.8592,2,-999.0000,2,     -999.0,9
33RO20150410,     P16N.1,      66,          1,          2,          2,2,20150428,       0451,     2.3804,  -150.9989,       4902,  4533.6,   1.3987,  34.6969,2,  34.6978,2,    168.2,2,   167.8,2,  136.00,6,   34.90,6,    0.01,6,    2.46,6,   0.000,6,   0.002,6,       0,6,  2313.4,2,  2416.8,2,   7.6025,2,    25.00,-999.000,9,-999.0000,9, -999.00,9,   1.3986, -999.00,9,  -999.0,9,  -999.0,-999.000,9,-999.000,    38.3,2, -999.00,9,     19.916,3, -999.00,9,-999.000,-999.0000, -999.00,     -999.0,     -999.0,9,     -999.0,     -999.0,9,     -999.0,  -999.0,9,     -999.0,     -999.0,9,     -999.0,   1.0229,    34.8614,2,-999.0000,2,     -999.0,9
33RO20150410,     P16N.1,      66,          1,          1,          1,2,20150428,       0451,     2.3804,  -150.9989,       4902,  4802.3,   1.4175,  34.6973,2,  34.6972,2,    170.0,2,   169.6,2,  135.00,6,   34.70,6,    0.01,6,    2.44,6,   0.000,2,   0.001,2,       0,2,  2312.4,6,  2415.6,2,   7.6029,2,    25.00,-999.000,9,-999.0000,9, -999.00,9,   1.4171, -999.00,9,  -999.0,9,  -999.0,-999.000,9,-999.000,    37.4,2, -999.00,9,     19.917,3, -999.00,9,-999.000,-999.0000, -999.00,     -999.0,     -999.0,9,     -999.0,     -999.0,9,     -999.0,  -999.0,9,     -999.0,     -999.0,9,     -999.0,   1.0096,    34.8608,2,-999.0000,2,     -999.0,9