BOTTLE,20210709CCHSIOCBG
EXPOCODE,SECT_ID,STNNBR,CASTNO,SAMPNO,BTLNBR,BTLNBR_FLAG_W,DATE,TIME,LATITUDE,LONGITUDE,DEPTH,CTDPRS,CTDTMP,CTDSAL,CTDSAL_FLAG_W,SALNTY,SALNTY_FLAG_W,CTDOXY,CTDOXY_FLAG_W,OXYGEN,OXYGEN_FLAG_W,SILCAT,SILCAT_FLAG_W,NITRAT,NITRAT_FLAG_W,NITRIT,NITRIT_FLAG_W,PHSPHT,PHSPHT_FLAG_W,CFC-11,CFC-11_FLAG_W,CFC-12,CFC-12_FLAG_W,SF6,SF6_FLAG_W,TCARBN,TCARBN_FLAG_W,ALKALI,ALKALI_FLAG_W,PH_TOT,PH_TOT_FLAG_W,PH_TMP,TRITUM,TRITUM_FLAG_W,HELIUM,HELIUM_FLAG_W,DELHE3,DELHE3_FLAG_W,REFTMP,DELC13,DELC13_FLAG_W,DELC14,DELC14_FLAG_W,C14ERR,NEON,NEON_FLAG_W,NEONER,DOC,DOC_FLAG_W,TDN,TDN_FLAG_W,N2O,N2O_FLAG_W,ARGON,ARGON_FLAG_W,TRITER,HELIER,DELHER,ARGONER,KRYPTON,KRYPTON_FLAG_W,KRYPTONER,XENON,XENON_FLAG_W,XENONER,14C-DOC,14C-DOC_FLAG_W,14C-DOCERR,13C-DOC,13C-DOC_FLAG_W,13C-DOCERR,THETA,SALTREF,SALTREF_FLAG_W,SBE35,SBE35_FLAG_W,CHLORA,CHLORA_FLAG_W
,,,,,,,,,,,METERS,DBAR,ITS-90,PSS-78,,PSS-78,,UMOL/KG,,UMOL/KG,,UMOL/KG,,UMOL/KG,,UMOL/KG,,UMOL/KG,,PMOL/KG,,PMOL/KG,,FMOL/KG,,UMOL/KG,,UMOL/KG,,,,DEG C,TU,,NMOL/KG,,PERCNT,,DEG C,/MILLE,,/MILLE,,/MILLE,NMOL/KG,,NMOL/KG,UMOL/KG,,UMOL/KG,,NMOL/KG,,UMOL/KG,,TU,NMOL/KG,PERCNT,UMOL/KG,NMOL/KG,,NMOL/KG,NMOL/KG,,NMOL/KG,/MILLE,,/MILLE,/MILLE,,/MILLE,DEG C,G/KG,,ITS-90,,MG/M3,
33RO20150410,     P16N.1,      20,          1,         24,         24,2,20150416,       2018,    -7.0019,  -150.9987,       5240,    14.8,  28.7171,  35.4707,2,  35.4684,2,    196.6,2,   198.5,2,    1.30,2,    3.90,2,    0.09,2,    0.39,4,   1.434,2,   0.938,2,   1.234,2,  2017.3,2,  2333.0,2,   8.0558,6,    25.00,-999.000,9,-999.0000,9, -999.00,9,  28.7169, -999.00,9,  -999.0,9,  -999.0,-999.000,9,-999.000,  -999.0,9, -999.00,9,      6.145,3, -999.00,9,-999.000,-999.0000, -999.00,     -999.0,     -999.0,9,     -999.0,     -999.0,9,     -999.0,  -999.0,9,     -999.0,     -999.0,9,     -999.0,  28.7135,    35.6357,2,-999.0000,2,      0.172,2
33RO20150410,     P16N.1,      20,          1,         23,         23,2,20150416,       2018,    -7.0019,  -150.9987,       5240,    33.0,  28.6697,  35.4690,2,  35.4678,2,    197.9,2,   198.2,2,    1.40,2,    3.90,2,    0.09,2,    0.41,4,   1.576,4,   0.935,2,   1.257,2,  2017.9,2,  2328.9,2,   8.0560,6,    25.00,-999.000,9,-999.0000,9, -999.00,9,  28.6698, -999.00,9,  -999.0,9,  -999.0,-999.000,9,-999.000,  -999.0,9, -999.00,9,      6.254,3, -999.00,9,-999.000,-999.0000, -999.00,     -999.0,     -999.0,9,     -999.0,     -999.0,9,     -999.0,  -999.0,9,     -999.0,     -999.0,9,     -999.0,  28.6618,    35.6351,2,-999.0000,2,      0.168,2
33RO20150410,     P16N.1,      20,          1,         22,         22,2,20150416,       2018,    -7.0019,  -150.9987,       5240,    58.6,  28.6636,  35.4692,2,  35.4710,2,    196.8,2,   198.5,2,    1.30,2,    3.90,2,    0.09,2,    0.41,4,   1.559,4,   0.948,2,   1.246,2,  2018.6,2,  2337.8,6,   8.0556,2,    25.00,-999.000,9,-999.0000,9, -999.00,9,  28.6639, -999.00,9,  -999.0,9,  -999.0,-999.000,9,-999.000,  -999.0,9, -999.00,9,      6.287,3, -999.00,9,-999.000,-999.0000, -999.00,     -999.0,     -999.0,9,     -999.0,     -999.0,9,     -999.0,  -999.0,9,     -999.0,     -999.0,9,     -999.0,  28.6495,    35.6383,2,-999.0000,2,      0.194,2
33RO20150410,     P16N.1,      20,          1,         21,         21,2,20150416,       2018,    -7.0019,  -150.9987,       5240,    82.9,  28.6632,  35.6820,2,  35.6797,2,    193.1,2,   193.1,2,    0.80,2,    2.40,2,    0.06,2,    0.37,4,   1.421,2,   0.929,2,   1.232,2,  2017.4,2,  2351.9,2,   8.0771,2,    24.99,-999.000,9,-999.0000,9, -999.00,9,  28.6602, -999.00,9,  -999.0,9,  -999.0,-999.000,9,-999.000,  -999.0,9, -999.00,9,      6.247,3, -999.00,9,-999.000,-999.0000, -999.00,     -999.0,     -999.0,9,     -999.0,     -999.0,9,     -999.0,  -999.0,9,     -999.0,     -999.0,9,     -999.0,  28.6433,    35.8479,6,-999.0000,2,      0.281,2
33RO20150410,     P16N.1,      20,          1,         20,         20,2,20150416,       2018,    -7.0019,  -150.9987,       5240,   117.9,  27.4343,  36.1551,2,  36.1515,2,    177.1,2,   176.6,2,    0.80,2,    1.50,2,    0.59,2,    0.43,4,   1.524,2,   0.980,2,   1.213,2,  2051.3,2,  2384.3,2,   8.0619,2,    25.00,-999.000,9,-999.0000,9, -999.00,9,  27.4402, -999.00,9,  -999.0,9,  -999.0,-999.000,9,-999.000,  -999.0,9, -999.00,9,      6.470,3, -999.00,9,-999.000,-999.0000, -999.00,     -999.0,     -999.0,9,     -999.0,     -999.0,9,     -999.0,  -999.0,9,     -999.0,     -999.0,9,     -999.0,  27.4068,    36.3220,2,-999.0000,2,      0.218,2
33RO20150410,     P16N.1,      20,          1,         19,         19,2,20150416,       2018,    -7.0019,  -150.9987,       5240,   176.1,  21.8128,  35.9808,2,  35.9674,3,    158.8,2,   159.2,2,    1.00,2,    6.50,2,    0.03,2,    0.65,4,   1.989,2,   1.243,2,   1.322,2,  2123.1,2,  2372.1,2,   7.9269,2,    24.99,-999.000,9,-999.0000,9, -999.00,9,  21.8275, -999.00,9,  -999.0,9,  -999.0,-999.000,9,-999.000,  -999.0,9, -999.00,9,      9.412,3, -999.00,9,-999.000,-999.0000, -999.00,     -999.0,     -999.0,9,     -999.0,     -999.0,9,     -999.0,  -999.0,9,     -999.0,     -999.0,9,     -999.0,  21.7780,    36.1370,2,-999.0000,2,      0.027,2
33RO20150410,     P16N.1,      20,          1,         18,         18,2,20150416,       2018,    -7.0019,  -150.9987,       5240,   250.1,  13.1129,  34.9144,2,  34.9122,2,     62.5,2,    57.5,2,   14.30,2,   24.10,2,    0.01,2,    1.79,4,   1.645,4,   0.864,2,   0.542,2,  2215.7,6,  2300.4,2,   7.5690,2,    25.00,-999.000,9,-999.0000,9, -999.00,9,  13.1164, -999.00,9,  -999.0,9,  -999.0,-999.000,9,-999.000,  -999.0,9, -999.00,9,     53.542,3, -999.00,9,-999.000,-999.0000, -999.00,     -999.0,     -999.0,9,     -999.0,     -999.0,9,     -999.0,  -999.0,9,     -999.0,     -999.0,9,     -999.0,  13.0783,    35.0769,2,-999.0000,2,      0.004,2
33RO20150410,     P16N.1,      20,          1,         17,         17,2,20150416,       2018,    -7.0019,  -150.9987,       5240,   332.8,  10.5208,  34.7788,2,  34.7787,2,     74.2,2,    73.0,2,   22.40,2,   29.20,2,    0.01,2,    1.90,4,   0.894,2,   0.470,2,   0.179,2,  2218.9,2,  2309.7,2,   7.5535,6,    25.01,-999.000,9,-999.0000,9, -999.00,9,  10.5203, -999.00,9,  -999.0,9,  -999.0,-999.000,9,-999.000,  -999.0,9, -999.00,9,     46.759,3, -999.00,9,-999.000,-999.0000, -999.00,     -999.0,     -999.0,9,     -999.0,     -999.0,9,     -999.0,  -999.0,9,     -999.0,     -999.0,9,     -999.0,  10.4808,    34.9427,2,-999.0000,2,     -999.0,9
33RO20150410,     P16N.1,      20,          1,         16,         16,2,20150416,       2018,    -7.0019,  -150.9987,       5240,   433.8,   8.8604,  34.6645,2,  34.6645,2,     82.9,2,    83.5,2,   27.60,2,   31.80,2,    0.00,2,    2.03,4,   0.579,2,   0.300,6,   0.157,6,  2225.1,2,  2300.5,2,   7.5354,2,    25.00,-999.000,9,-999.0000,9, -999.00,9,   8.8592, -999.00,9,  -999.0,9,  -999.0,-999.000,9,-999.000,  -999.0,9, -999.00,9,     42.815,3, -999.00,9,-999.000,-999.0000, -999.00,     -999.0,     -999.0,9,     -999.0,     -999.0,9,     -999.0,  -999.0,9,     -999.0,     -999.0,9,     -999.0,   8.8133,    34.8280,2,-999.0000,2,     -999.0,9
33RO20150410,     P16N.1,      20,          1,         15,         15,2,20150416,       2018,    -7.0019,  -150.9987,       5240,   550.3,   7.8569,  34.6043,2,  34.6032,2,     89.4,2,    89.2,2,   32.40,2,   33.60,2,    0.01,2,    2.14,4,   0.359,2,   0.182,2,   0.097,2,  2231.7,2,  2311.9,2,   7.5231,2,    25.00,-999.000,9,-999.0000,9, -999.00,9,   7.8688, -999.00,9,  -999.0,9,  -999.0,-999.000,9,-999.000,  -999.0,9, -999.00,9,     39.429,3, -999.00,9,-999.000,-999.0000, -999.00,     -999.0,     -999.0,9,     -999.0,     -999.0,9,     -999.0,  -999.0,9,     -999.0,     -999.0,9,     -999.0,   7.8008,    34.7664,2,-999.0000,2,     -999.0,9
33RO20150410,     P16N.1,      20,          1,         14,         14,2,20150416,       2018,    -7.0019,  -150.9987,       5240,   700.9,   6.1877,  34.5436,2,  34.5446,2,     78.6,2,    77.8,2,   49.10,2,   38.10,2,    0.01,2,    2.48,4,   0.065,2,   0.032,2,       0,2,  2260.9,2,  2317.3,2,   7.4726,2,    25.00,-999.000,9,-999.0000,9, -999.00,9,   6.1894, -999.00,9,  -999.0,9,  -999.0,-999.000,9,-999.000,  -999.0,9, -999.00,9,     38.629,3, -999.00,9,-999.000,-999.0000, -999.00,     -999.0,     -999.0,9,     -999.0,     -999.0,9,     -999.0,  -999.0,9,     -999.0,     -999.0,9,     -999.0,   6.1244,    34.7075,2,-999.0000,2,     -999.0,9
33RO20150410,     P16N.1,      20,          1,         13,         13,2,20150416,       2018,    -7.0019,  -150.9987,       5240,   850.2,   5.1630,  34.5360,2,  34.5365,2,     83.1,2,    83.7,2,   65.40,2,   38.90,2,    0.00,2,    2.58,4,   0.030,3,   0.009,2,       0,2,  2277.7,2,  2332.2,2,   7.4712,2,    25.00,-999.000,9,-999.0000,9, -999.00,9,   5.1644, -999.00,9,  -999.0,9,  -999.0,-999.000,9,-999.000,  -999.0,9, -999.00,9,     34.828,3, -999.00,9,-999.000,-999.0000, -999.00,     -999.0,     -999.0,9,     -999.0,     -999.0,9,     -999.0,  -999.0,9,     -999.0,     -999.0,9,     -999.0,   5.0920,    34.6993,2,-999.0000,2,     -999.0,9
33RO20150410,     P16N.1,      20,          1,         12,         12,2,20150416,       2018,    -7.0019,  -150.9987,       5240,  1000.7,   4.5212,  34.5427,2,  34.5436,2,     93.8,2,    93.8,2,   77.10,2,   38.60,2,    0.00,2,    2.59,4,   0.002,2,   0.005,2,       0,2,  2285.2,2,  2347.0,2,   7.4846,2,    25.00,-999.000,9,-999.0000,9, -999.00,9,   4.5208, -999.00,9,  -999.0,9,  -999.0,-999.000,9,-999.000,  -999.0,9, -999.00,9,     31.233,3, -999.00,9,-999.000,-999.0000, -999.00,     -999.0,     -999.0,9,     -999.0,     -999.0,9,     -999.0,  -999.0,9,     -999.0,     -999.0,9,     -999.0,   4.4414,    34.7065,2,-999.0000,2,     -999.0,9
33RO20150410,     P16N.1,      20,          1,         11,         11,2,20150416,       2018,    -7.0019,  -150.9987,       5240,  1165.6,   3.9259,  34.5566,2,  34.5571,2,    103.3,2,   103.5,2,   88.50,2,   38.00,2,    0.00,2,    2.60,4,   0.004,2,   0.004,2,       0,2,  2293.7,2,  2360.4,2,   7.4994,2,    25.00,-999.000,9,-999.0000,9, -999.00,9,   3.9246, -999.00,9,  -999.0,9,  -999.0,-999.000,9,-999.000,  -999.0,9, -999.00,9,     28.937,3, -999.00,9,-999.000,-999.0000, -999.00,     -999.0,     -999.0,9,     -999.0,     -999.0,9,     -999.0,  -999.0,9,     -999.0,     -999.0,9,     -999.0,   3.8368,    34.7200,2,-999.0000,2,     -999.0,9
33RO20150410,     P16N.1,      20,          1,         10,         10,2,20150416,       2018,    -7.0019,  -150.9987,       5240,  1400.9,   3.2175,  34.5826,2,  34.5833,2,    115.0,2,   114.6,2,  102.70,2,   37.50,2,    0.01,2,    2.60,4,   0.038,3,   0.004,2,       0,2,  2303.3,2,  2376.7,2,   7.5158,2,    25.00,-999.000,9,-999.0000,9, -999.00,9,   3.2170, -999.00,9,  -999.0,9,  -999.0,-999.000,9,-999.000,  -999.0,9, -999.00,9,     26.411,3, -999.00,9,-999.000,-999.0000, -999.00,     -999.0,     -999.0,9,     -999.0,     -999.0,9,     -999.0,  -999.0,9,     -999.0,     -999.0,9,     -999.0,   3.1155,    34.7464,2,-999.0000,2,     -999.0,9
33RO20150410,     P16N.1,      20,          1,          9,          9,2,20150416,       2018,    -7.0019,  -150.9987,       5240,  1733.9,   2.5366,  34.6171,2,  34.6173,2,    125.4,2,   126.3,2,  117.10,2,   37.00,2,    0.00,2,    2.59,4,   0.000,2,   0.001,2,       0,2,  2309.9,2,  2399.2,2,   7.5334,2,    24.99,-999.000,9,-999.0000,9, -999.00,9,   2.5364, -999.00,9,  -999.0,9,  -999.0,-999.000,9,-999.000,  -999.0,9, -999.00,9,     24.013,3, -999.00,9,-999.000,-999.0000, -999.00,     -999.0,     -999.0,9,     -999.0,     -999.0,9,     -999.0,  -999.0,9,     -999.0,     -999.0,9,     -999.0,   2.4148,    34.7805,2,-999.0000,2,     -999.0,9
33RO20150410,     P16N.1,      20,          1,          8,          8,2,20150416,       2018,    -7.0019,  -150.9987,       5240,  2132.2,   2.1224,  34.6461,2,  34.6462,2,    130.1,2,   130.2,2,  129.30,2,   36.80,2,    0.01,2,    2.60,4,  -0.001,2,   0.001,2,   0.064,3,  2322.6,2,  2405.2,2,   7.5426,2,    25.01,-999.000,9,-999.0000,9, -999.00,9,   2.1218, -999.00,9,  -999.0,9,  -999.0,-999.000,9,-999.000,  -999.0,9, -999.00,9,     22.845,3, -999.00,9,-999.000,-999.0000, -999.00,     -999.0,     -999.0,9,     -999.0,     -999.0,9,     -999.0,  -999.0,9,     -999.0,     -999.0,9,     -999.0,   1.9727,    34.8096,2,-999.0000,2,     -999.0,9
33RO20150410,     P16N.1,      20,          1,          7,          7,2,20150416,       2018,    -7.0019,  -150.9987,       5240,  2534.0,   1.8657,  34.6655,2,  34.6666,2,    139.2,2,   139.1,2,  134.40,2,   36.10,2,    0.00,2,    2.57,4,   0.001,2,   0.001,2,       0,2,  2324.4,2,  2413.6,2,   7.5595,2,    24.99,-999.000,9,-999.0000,9, -999.00,9,   1.8655, -999.00,9,  -999.0,9,  -999.0,-999.000,9,-999.000,  -999.0,9, -999.00,9,     21.359,3, -999.00,9,-999.000,-999.0000, -999.00,     -999.0,     -999.0,9,     -999.0,     -999.0,9,     -999.0,  -999.0,9,     -999.0,     -999.0,9,     -999.0,   1.6847,    34.8301,2,-999.0000,2,     -999.0,9
33RO20150410,     P16N.1,      20,          1,          6,          6,2,20150416,       2018,    -7.0019,  -150.9987,       5240,  2932.2,   1.7349,  34.6758,2,  34.6759,2,    144.7,2,   145.1,2,  137.70,2,   36.00,2,    0.00,2,    2.54,4,   0.001,2,   0.000,2,       0,2,  2325.4,6,  2421.0,2,   7.5713,6,    25.01,-999.000,9,-999.0000,9, -999.00,9,   1.7350, -999.00,9,  -999.0,9,  -999.0,-999.000,9,-999.000,  -999.0,9, -999.00,9,     20.837,3, -999.00,9,-999.000,-999.0000, -999.00,     -999.0,     -999.0,9,     -999.0,     -999.0,9,     -999.0,  -999.0,9,     -999.0,     -999.0,9,     -999.0,   1.5194,    34.8394,2,-999.0000,2,     -999.0,9
33RO20150410,     P16N.1,      20,          1,          5,          5,2,20150416,       2018,    -7.0019,  -150.9987,       5240,  3333.1,   1.5858,  34.6850,2,  34.6847,2,    157.2,2,   157.8,2,  136.70,2,   35.10,2,    0.00,2,    2.49,4,  -0.002,2,  -0.001,2,       0,2,  2316.0,2,  2423.2,2,   7.5900,2,    25.00,-999.000,9,-999.0000,9, -999.00,9,   1.5858, -999.00,9,  -999.0,9,  -999.0,-999.000,9,-999.000,  -999.0,9, -999.00,9,     20.070,3, -999.00,9,-999.000,-999.0000, -999.00,     -999.0,     -999.0,9,     -999.0,     -999.0,9,     -999.0,  -999.0,9,     -999.0,     -999.0,9,     -999.0,   1.3344,    34.8483,2,-999.0000,2,     -999.0,9
33RO20150410,     P16N.1,      20,          1,          4,          4,2,20150416,       2018,    -7.0019,  -150.9987,       5240,  3731.8,   1.4877,  34.6902,2,  34.6897,2,    163.4,2,   163.7,2,  136.30,6,   34.80,6,    0.00,6,    2.47,4,   0.004,3,   0.001,2,       0,2,  2311.9,2,  2417.1,2,   7.5943,6,    25.01,-999.000,9,-999.0000,9, -999.00,9,   1.4878, -999.00,9,  -999.0,9,  -999.0,-999.000,9,-999.000,  -999.0,9, -999.00,9,     19.587,3, -999.00,9,-999.000,-999.0000, -999.00,     -999.0,     -999.0,9,     -999.0,     -999.0,9,     -999.0,  -999.0,9,     -999.0,     -999.0,9,     -999.0,   1.1977,    34.8533,2,-999.0000,2,     -999.0,9
33RO20150410,     P16N.1,      20,          1,          3,          3,2,20150416,       2018,    -7.0019,  -150.9987,       5240,  4167.1,   1.3817,  34.6971,2,  34.6973,2,    176.3,2,   176.6,2,  130.90,6,   33.90,6,    0.00,6,    2.38,4,   0.000,2,   0.001,2,       0,2,  2300.1,2,  2403.4,2,   7.6018,6,    25.00,-999.000,9,-999.0000,9, -999.00,9,   1.3820, -999.00,9,  -999.0,9,  -999.0,-999.000,9,-999.000,  -999.0,9, -999.00,9,     19.015,3, -999.00,9,-999.000,-999.0000, -999.00,     -999.0,     -999.0,9,     -999.0,     -999.0,9,     -999.0,  -999.0,9,     -999.0,     -999.0,9,     -999.0,   1.0477,    34.8609,6,-999.0000,2,     -999.0,9
33RO20150410,     P16N.1,      20,          1,          2,          2,2,20150416,       2018,    -7.0019,  -150.9987,       5240,  4667.0,   1.3441,  34.7013,2,  34.7011,2,    184.6,2,   185.4,2,  127.30,6,   33.30,6,    0.00,6,    2.33,4,   0.008,3,   0.002,2,       0,2,  2287.3,2,  2390.4,6,   7.6045,2,    24.97,-999.000,9,-999.0000,9, -999.00,9,   1.3442, -999.00,9,  -999.0,9,  -999.0,-999.000,9,-999.000,  -999.0,9, -999.00,9,     18.715,3, -999.00,9,-999.000,-999.0000, -999.00,     -999.0,     -999.0,9,     -999.0,     -999.0,9,     -999.0,  -999.0,9,     -999.0,     -999.0,9,     -999.0,   0.9545,    34.8647,2,-999.0000,2,     -999.0,9
33RO20150410,     P16N.1,      20,          1,          1,          1,2,20150416,       2018,    -7.0019,  -150.9987,       5240,  5230.5,   1.3726,  34.7024,2,  34.7035,2,    190.6,2,   192.1,2,  124.90,6,   33.10,6,    0.00,6,    2.32,4,   0.008,6,   0.003,6,       0,6,  2281.4,6,  2388.4,2,   7.6049,2,    25.07,-999.000,9,-999.0000,9, -999.00,9,   1.3728, -999.00,9,  -999.0,9,  -999.0,-999.000,9,-999.000,  -999.0,9, -999.00,9,     18.534,3, -999.00,9,-999.000,-999.0000, -999.00,     -999.0,     -999.0,9,     -999.0,     -999.0,9,     -999.0,  -999.0,9,     -999.0,     -999.0,9,     -999.0,   0.9143,    34.8671,2,-999.0000,2,     -999.0,9