BOTTLE,20210709CCHSIOCBG
EXPOCODE,SECT_ID,STNNBR,CASTNO,SAMPNO,BTLNBR,BTLNBR_FLAG_W,DATE,TIME,LATITUDE,LONGITUDE,DEPTH,CTDPRS,CTDTMP,CTDSAL,CTDSAL_FLAG_W,SALNTY,SALNTY_FLAG_W,CTDOXY,CTDOXY_FLAG_W,OXYGEN,OXYGEN_FLAG_W,SILCAT,SILCAT_FLAG_W,NITRAT,NITRAT_FLAG_W,NITRIT,NITRIT_FLAG_W,PHSPHT,PHSPHT_FLAG_W,CFC-11,CFC-11_FLAG_W,CFC-12,CFC-12_FLAG_W,SF6,SF6_FLAG_W,TCARBN,TCARBN_FLAG_W,ALKALI,ALKALI_FLAG_W,PH_TOT,PH_TOT_FLAG_W,PH_TMP,TRITUM,TRITUM_FLAG_W,HELIUM,HELIUM_FLAG_W,DELHE3,DELHE3_FLAG_W,REFTMP,DELC13,DELC13_FLAG_W,DELC14,DELC14_FLAG_W,C14ERR,NEON,NEON_FLAG_W,NEONER,DOC,DOC_FLAG_W,TDN,TDN_FLAG_W,N2O,N2O_FLAG_W,ARGON,ARGON_FLAG_W,TRITER,HELIER,DELHER,ARGONER,KRYPTON,KRYPTON_FLAG_W,KRYPTONER,XENON,XENON_FLAG_W,XENONER,14C-DOC,14C-DOC_FLAG_W,14C-DOCERR,13C-DOC,13C-DOC_FLAG_W,13C-DOCERR,THETA,SALTREF,SALTREF_FLAG_W,SBE35,SBE35_FLAG_W,CHLORA,CHLORA_FLAG_W
,,,,,,,,,,,METERS,DBAR,ITS-90,PSS-78,,PSS-78,,UMOL/KG,,UMOL/KG,,UMOL/KG,,UMOL/KG,,UMOL/KG,,UMOL/KG,,PMOL/KG,,PMOL/KG,,FMOL/KG,,UMOL/KG,,UMOL/KG,,,,DEG C,TU,,NMOL/KG,,PERCNT,,DEG C,/MILLE,,/MILLE,,/MILLE,NMOL/KG,,NMOL/KG,UMOL/KG,,UMOL/KG,,NMOL/KG,,UMOL/KG,,TU,NMOL/KG,PERCNT,UMOL/KG,NMOL/KG,,NMOL/KG,NMOL/KG,,NMOL/KG,/MILLE,,/MILLE,/MILLE,,/MILLE,DEG C,G/KG,,ITS-90,,MG/M3,
33RO20150410,     P16N.1,      21,          1,         24,         24,2,20150417,       0346,    -6.4997,  -151.0011,       5108,     5.9,  28.7335,  35.4453,2,  35.4417,2,    197.4,2,   198.6,2,    1.50,2,    4.00,2,    0.09,2,    0.41,4,   1.429,6,   0.952,6,    1.24,6,  2019.8,6,  2333.0,2,   8.0543,2,    25.01,-999.000,9,-999.0000,9, -999.00,9,  28.7337, -999.00,9,  -999.0,9,  -999.0,-999.000,9,-999.000,    67.7,2,    8.30,2,      6.066,3, -999.00,9,-999.000,-999.0000, -999.00,     -999.0,     -999.0,9,     -999.0,     -999.0,9,     -999.0,  -999.0,9,     -999.0,     -999.0,9,     -999.0,  28.7321,    35.6088,2,-999.0000,2,     -999.0,9
33RO20150410,     P16N.1,      21,          1,         23,         23,2,20150417,       0346,    -6.4997,  -151.0011,       5108,    20.2,  28.7397,  35.4428,2,  35.4408,2,    197.8,2,   198.3,2,    1.50,2,    4.00,2,    0.10,2,    0.41,4,-999.000,9,-999.000,9,-999.000,9,  2019.6,2,  2333.0,2,   8.0543,6,    25.01,-999.000,9,-999.0000,9, -999.00,9,  28.7408, -999.00,9,  -999.0,9,  -999.0,-999.000,9,-999.000,    65.7,2,    7.50,2,     -999.0,9, -999.00,9,-999.000,-999.0000, -999.00,     -999.0,     -999.0,9,     -999.0,     -999.0,9,     -999.0,  -999.0,9,     -999.0,     -999.0,9,     -999.0,  28.7348,    35.6079,6,-999.0000,2,     -999.0,9
33RO20150410,     P16N.1,      21,          1,         22,         22,2,20150417,       0346,    -6.4997,  -151.0011,       5108,    42.2,  28.6722,  35.4357,2,  35.4340,2,    198.5,2,   198.2,2,    1.40,2,    4.00,2,    0.10,2,    0.41,4,-999.000,9,-999.000,9,-999.000,9,  2017.9,2,  2332.4,2,   8.0538,6,    25.00,-999.000,9,-999.0000,9, -999.00,9,  28.6719, -999.00,9,  -999.0,9,  -999.0,-999.000,9,-999.000,    64.5,2, -999.00,9,     -999.0,9, -999.00,9,-999.000,-999.0000, -999.00,     -999.0,     -999.0,9,     -999.0,     -999.0,9,     -999.0,  -999.0,9,     -999.0,     -999.0,9,     -999.0,  28.6621,    35.6011,2,-999.0000,2,     -999.0,9
33RO20150410,     P16N.1,      21,          1,         21,         21,2,20150417,       0346,    -6.4997,  -151.0011,       5108,    67.6,  28.6677,  35.4541,2,  35.4514,2,    198.3,2,   198.1,2,    1.40,2,    3.90,2,    0.09,2,    0.41,4,   1.433,2,   0.957,2,   1.238,2,  2020.2,2,  2334.8,6,   8.0547,2,    25.00,-999.000,9,-999.0000,9, -999.00,9,  28.6657, -999.00,9,  -999.0,9,  -999.0,-999.000,9,-999.000,    66.2,2, -999.00,9,      6.166,3, -999.00,9,-999.000,-999.0000, -999.00,     -999.0,     -999.0,9,     -999.0,     -999.0,9,     -999.0,  -999.0,9,     -999.0,     -999.0,9,     -999.0,  28.6515,    35.6186,2,-999.0000,2,     -999.0,9
33RO20150410,     P16N.1,      21,          1,         20,         20,2,20150417,       0346,    -6.4997,  -151.0011,       5108,    92.0,  28.8332,  35.8026,2,  35.7992,2,    194.0,2,   193.3,2,    1.00,2,    1.40,2,    0.02,2,    0.31,4,-999.000,9,-999.000,9,-999.000,9,  2014.3,2,  2359.0,2,   8.0960,2,    24.99,-999.000,9,-999.0000,9, -999.00,9,  28.8366, -999.00,9,  -999.0,9,  -999.0,-999.000,9,-999.000,    70.6,3, -999.00,9,     -999.0,9, -999.00,9,-999.000,-999.0000, -999.00,     -999.0,     -999.0,9,     -999.0,     -999.0,9,     -999.0,  -999.0,9,     -999.0,     -999.0,9,     -999.0,  28.8110,    35.9680,2,-999.0000,2,     -999.0,9
33RO20150410,     P16N.1,      21,          1,         19,         19,2,20150417,       0346,    -6.4997,  -151.0011,       5108,   132.3,  27.1464,  36.2014,2,  36.2053,2,    171.2,2,   172.5,2,    1.30,2,    1.70,2,    0.93,2,    0.46,4,   1.506,2,   1.000,2,   1.216,2,  2063.6,2,  2385.9,2,   8.0530,2,    24.99,-999.000,9,-999.0000,9, -999.00,9,  27.1434, -999.00,9,  -999.0,9,  -999.0,-999.000,9,-999.000,    45.1,3, -999.00,9,      6.545,3, -999.00,9,-999.000,-999.0000, -999.00,     -999.0,     -999.0,9,     -999.0,     -999.0,9,     -999.0,  -999.0,9,     -999.0,     -999.0,9,     -999.0,  27.1158,    36.3760,2,-999.0000,2,     -999.0,9
33RO20150410,     P16N.1,      21,          1,         18,         18,2,20150417,       0346,    -6.4997,  -151.0011,       5108,   199.6,  20.0389,  35.7308,2,  35.7229,2,    157.9,2,   156.3,2,    1.50,2,    7.70,2,    0.02,2,    0.72,4,   2.073,2,   1.312,2,   1.331,2,  2132.3,2,  2355.5,2,   7.8872,2,    24.98,-999.000,9,-999.0000,9, -999.00,9,  20.0390, -999.00,9,  -999.0,9,  -999.0,-999.000,9,-999.000,    53.2,2,   10.60,2,     12.335,3, -999.00,9,-999.000,-999.0000, -999.00,     -999.0,     -999.0,9,     -999.0,     -999.0,9,     -999.0,  -999.0,9,     -999.0,     -999.0,9,     -999.0,  20.0018,    35.8913,2,-999.0000,2,     -999.0,9
33RO20150410,     P16N.1,      21,          1,         17,         17,2,20150417,       0346,    -6.4997,  -151.0011,       5108,   275.8,  12.2834,  34.8707,2,  34.8693,2,     37.5,2,    34.3,2,   19.40,2,   28.00,2,    0.00,2,    2.04,4,   1.079,2,   0.624,2,   0.306,2,  2237.0,2,  2302.8,2,   7.5053,3,    25.00,-999.000,9,-999.0000,9, -999.00,9,  12.2774, -999.00,9,  -999.0,9,  -999.0,-999.000,9,-999.000,    48.1,2,   30.80,2,     65.857,3, -999.00,9,-999.000,-999.0000, -999.00,     -999.0,     -999.0,9,     -999.0,     -999.0,9,     -999.0,  -999.0,9,     -999.0,     -999.0,9,     -999.0,  12.2468,    35.0337,2,-999.0000,2,     -999.0,9
33RO20150410,     P16N.1,      21,          1,         16,         16,2,20150417,       0346,    -6.4997,  -151.0011,       5108,   366.8,  10.2472,  34.7596,2,  34.7594,2,     63.7,2,    73.3,2,   23.60,2,   29.70,2,    0.00,2,    1.96,4,   0.795,2,   0.438,2,   0.216,2,  2225.3,2,  2302.6,2,   7.5477,2,    24.98,-999.000,9,-999.0000,9, -999.00,9,  10.2236, -999.00,9,  -999.0,9,  -999.0,-999.000,9,-999.000,    42.9,2, -999.00,9,     46.156,3, -999.00,9,-999.000,-999.0000, -999.00,     -999.0,     -999.0,9,     -999.0,     -999.0,9,     -999.0,  -999.0,9,     -999.0,     -999.0,9,     -999.0,  10.2037,    34.9233,2,-999.0000,2,     -999.0,9
33RO20150410,     P16N.1,      21,          1,         15,         15,2,20150417,       0346,    -6.4997,  -151.0011,       5108,   466.8,   8.8409,  34.6619,2,  34.6629,2,     86.0,2,    87.6,2,   27.20,2,   31.50,2,    0.00,2,    2.03,4,   0.597,2,   0.311,2,   0.137,2,  2227.5,2,  2302.9,2,   7.5431,3,    24.99,-999.000,9,-999.0000,9, -999.00,9,   8.8324, -999.00,9,  -999.0,9,  -999.0,-999.000,9,-999.000,    43.0,2, -999.00,9,     40.840,3, -999.00,9,-999.000,-999.0000, -999.00,     -999.0,     -999.0,9,     -999.0,     -999.0,9,     -999.0,  -999.0,9,     -999.0,     -999.0,9,     -999.0,   8.7902,    34.8263,2,-999.0000,2,     -999.0,9
33RO20150410,     P16N.1,      21,          1,         14,         14,2,20150417,       0346,    -6.4997,  -151.0011,       5108,   600.2,   7.1067,  34.5728,2,  34.5741,2,     68.0,2,    68.2,2,   40.00,2,   37.30,2,    0.00,2,    2.42,4,   0.147,2,   0.073,2,       0,2,  2257.3,2,  2309.9,2,   7.4681,2,    24.99,-999.000,9,-999.0000,9, -999.00,9,   7.1241, -999.00,9,  -999.0,9,  -999.0,-999.000,9,-999.000,    40.5,2, -999.00,9,     43.839,3, -999.00,9,-999.000,-999.0000, -999.00,     -999.0,     -999.0,9,     -999.0,     -999.0,9,     -999.0,  -999.0,9,     -999.0,     -999.0,9,     -999.0,   7.0487,    34.7371,2,-999.0000,2,     -999.0,9
33RO20150410,     P16N.1,      21,          1,         13,         13,2,20150417,       0346,    -6.4997,  -151.0011,       5108,   749.6,   5.8940,  34.5485,2,  34.5488,2,     56.5,2,    54.1,2,   58.30,2,   41.10,2,    0.00,2,    2.73,4,-999.000,9,-999.000,9,-999.000,9,  2287.5,2,  2323.6,2,   7.4209,2,    24.99,-999.000,9,-999.0000,9, -999.00,9,   5.8955, -999.00,9,  -999.0,9,  -999.0,-999.000,9,-999.000,    40.7,2, -999.00,9,     -999.0,9, -999.00,9,-999.000,-999.0000, -999.00,     -999.0,     -999.0,9,     -999.0,     -999.0,9,     -999.0,  -999.0,9,     -999.0,     -999.0,9,     -999.0,   5.8277,    34.7117,2,-999.0000,2,     -999.0,9
33RO20150410,     P16N.1,      21,          1,         12,         12,2,20150417,       0346,    -6.4997,  -151.0011,       5108,   899.8,   5.0924,  34.5395,2,  34.5403,2,     76.8,2,    76.4,2,   67.30,2,   39.80,2,    0.00,2,    2.69,4,   0.003,2,   0.003,2,    0.06,3,  2287.7,6,  2337.2,2,   7.4563,2,    25.00,-999.000,9,-999.0000,9, -999.00,9,   5.0890, -999.00,9,  -999.0,9,  -999.0,-999.000,9,-999.000,    39.6,2, -999.00,9,     35.873,3, -999.00,9,-999.000,-999.0000, -999.00,     -999.0,     -999.0,9,     -999.0,     -999.0,9,     -999.0,  -999.0,9,     -999.0,     -999.0,9,     -999.0,   5.0174,    34.7032,2,-999.0000,2,     -999.0,9
33RO20150410,     P16N.1,      21,          1,         11,         11,2,20150417,       0346,    -6.4997,  -151.0011,       5108,  1050.1,   4.4266,  34.5461,2,  34.5466,2,     91.9,2,    91.9,2,   79.50,2,   38.80,2,    0.00,2,    2.69,4,-999.000,9,-999.000,9,-999.000,9,  2295.5,2,  2350.9,2,   7.4801,2,    25.00,-999.000,9,-999.0000,9, -999.00,9,   4.4243, -999.00,9,  -999.0,9,  -999.0,-999.000,9,-999.000,    38.3,2, -999.00,9,     -999.0,9, -999.00,9,-999.000,-999.0000, -999.00,     -999.0,     -999.0,9,     -999.0,     -999.0,9,     -999.0,  -999.0,9,     -999.0,     -999.0,9,     -999.0,   4.3432,    34.7095,2,-999.0000,2,     -999.0,9
33RO20150410,     P16N.1,      21,          1,         10,         10,2,20150417,       0346,    -6.4997,  -151.0011,       5108,  1232.4,   3.7803,  34.5647,2,  34.5649,2,     98.8,2,    98.7,2,   92.00,2,   38.50,2,    0.00,2,    2.70,4,   0.008,2,   0.001,2,       0,2,  2307.6,3,  2369.9,2,   7.4900,2,    24.98,-999.000,9,-999.0000,9, -999.00,9,   3.7814, -999.00,9,  -999.0,9,  -999.0,-999.000,9,-999.000,    37.6,2, -999.00,9,     30.241,3, -999.00,9,-999.000,-999.0000, -999.00,     -999.0,     -999.0,9,     -999.0,     -999.0,9,     -999.0,  -999.0,9,     -999.0,     -999.0,9,     -999.0,   3.6868,    34.7279,2,-999.0000,2,     -999.0,9
33RO20150410,     P16N.1,      21,          1,          9,          9,2,20150417,       0346,    -6.4997,  -151.0011,       5108,  1500.7,   3.0166,  34.5942,2,  34.5944,2,    111.6,2,   111.7,2,  109.00,2,   37.90,2,    0.00,2,    2.69,4,-999.000,9,-999.000,9,-999.000,9,  2312.8,2,  2386.3,2,   7.5105,2,    24.99,-999.000,9,-999.0000,9, -999.00,9,   3.0167, -999.00,9,  -999.0,9,  -999.0,-999.000,9,-999.000,    37.7,2, -999.00,9,     -999.0,9, -999.00,9,-999.000,-999.0000, -999.00,     -999.0,     -999.0,9,     -999.0,     -999.0,9,     -999.0,  -999.0,9,     -999.0,     -999.0,9,     -999.0,   2.9085,    34.7575,2,-999.0000,2,     -999.0,9
33RO20150410,     P16N.1,      21,          1,          8,          8,2,20150417,       0346,    -6.4997,  -151.0011,       5108,  1867.6,   2.4277,  34.6280,2,  34.6307,2,    117.6,2,   118.2,2,  126.00,2,   37.50,2,    0.00,2,    2.70,4,-999.000,9,-999.000,9,-999.000,9,  2324.6,2,  2403.1,2,   7.5226,6,    25.01,-999.000,9,-999.0000,9, -999.00,9,   2.4274, -999.00,9,  -999.0,9,  -999.0,-999.000,9,-999.000,    37.6,2, -999.00,9,     -999.0,9, -999.00,9,-999.000,-999.0000, -999.00,     -999.0,     -999.0,9,     -999.0,     -999.0,9,     -999.0,  -999.0,9,     -999.0,     -999.0,9,     -999.0,   2.2961,    34.7940,2,-999.0000,2,     -999.0,9
33RO20150410,     P16N.1,      21,          1,          7,          7,2,20150417,       0346,    -6.4997,  -151.0011,       5108,  2265.4,   2.0316,  34.6537,2,  34.6557,2,    126.8,2,   128.5,2,  133.60,2,   36.90,2,    0.01,2,    2.67,4,  -0.002,2,   0.003,2,   0.153,3,  2331.1,2,  2414.9,2,   7.5402,2,    24.99,-999.000,9,-999.0000,9, -999.00,9,   2.0315, -999.00,9,  -999.0,9,  -999.0,-999.000,9,-999.000,  -999.0,9, -999.00,9,     23.545,3, -999.00,9,-999.000,-999.0000, -999.00,     -999.0,     -999.0,9,     -999.0,     -999.0,9,     -999.0,  -999.0,9,     -999.0,     -999.0,9,     -999.0,   1.8717,    34.8191,2,-999.0000,2,     -999.0,9
33RO20150410,     P16N.1,      21,          1,          6,          6,2,20150417,       0346,    -6.4997,  -151.0011,       5108,  2666.3,   1.8046,  34.6694,2,  34.6691,2,    135.0,2,   136.0,2,  140.70,2,   36.40,2,    0.00,2,    2.64,4,-999.000,9,-999.000,9,-999.000,9,  2330.9,2,  2425.0,3,   7.5564,2,    24.99,-999.000,9,-999.0000,9, -999.00,9,   1.8046, -999.00,9,  -999.0,9,  -999.0,-999.000,9,-999.000,    36.3,2, -999.00,9,     -999.0,9, -999.00,9,-999.000,-999.0000, -999.00,     -999.0,     -999.0,9,     -999.0,     -999.0,9,     -999.0,  -999.0,9,     -999.0,     -999.0,9,     -999.0,   1.6127,    34.8325,2,-999.0000,2,     -999.0,9
33RO20150410,     P16N.1,      21,          1,          5,          5,2,20150417,       0346,    -6.4997,  -151.0011,       5108,  3131.9,   1.6156,  34.6806,2,  34.6803,2,    148.1,2,   149.4,2,  138.70,2,   35.70,2,    0.00,2,    2.58,4,-999.000,9,-999.000,9,-999.000,9,  2324.4,2,  2420.0,2,   7.5763,2,    25.00,-999.000,9,-999.0000,9, -999.00,9,   1.6154, -999.00,9,  -999.0,9,  -999.0,-999.000,9,-999.000,  -999.0,9, -999.00,9,     -999.0,9, -999.00,9,-999.000,-999.0000, -999.00,     -999.0,     -999.0,9,     -999.0,     -999.0,9,     -999.0,  -999.0,9,     -999.0,     -999.0,9,     -999.0,   1.3834,    34.8438,6,-999.0000,3,     -999.0,9
33RO20150410,     P16N.1,      21,          1,          4,          4,2,20150417,       0346,    -6.4997,  -151.0011,       5108,  3632.4,   1.5097,  34.6879,2,  34.6876,2,    159.0,2,   159.1,2,  137.50,6,   35.20,6,    0.00,6,    2.52,4,   0.033,3,  -0.001,2,       0,2,  2315.5,2,  2417.7,2,   7.5883,2,    24.99,-999.000,9,-999.0000,9, -999.00,9,   1.5099, -999.00,9,  -999.0,9,  -999.0,-999.000,9,-999.000,    35.8,2, -999.00,9,     20.500,3, -999.00,9,-999.000,-999.0000, -999.00,     -999.0,     -999.0,9,     -999.0,     -999.0,9,     -999.0,  -999.0,9,     -999.0,     -999.0,9,     -999.0,   1.2296,    34.8511,2,-999.0000,3,     -999.0,9
33RO20150410,     P16N.1,      21,          1,          3,          3,2,20150417,       0346,    -6.4997,  -151.0011,       5108,  4132.5,   1.4094,  34.6952,2,  34.6950,2,    170.9,2,   171.7,2,  134.70,6,   34.30,6,    0.00,6,    2.45,4,-999.000,9,-999.000,9,-999.000,9,  2303.5,2,  2407.8,6,   7.5991,6,    25.00,-999.000,9,-999.0000,9, -999.00,9,   1.4097, -999.00,9,  -999.0,9,  -999.0,-999.000,9,-999.000,    35.9,2, -999.00,9,     -999.0,9, -999.00,9,-999.000,-999.0000, -999.00,     -999.0,     -999.0,9,     -999.0,     -999.0,9,     -999.0,  -999.0,9,     -999.0,     -999.0,9,     -999.0,   1.0784,    34.8586,2,-999.0000,2,     -999.0,9
33RO20150410,     P16N.1,      21,          1,          2,          2,2,20150417,       0346,    -6.4997,  -151.0011,       5108,  4632.6,   1.3353,  34.7011,2,  34.7015,2,    185.3,2,   185.4,2,  126.30,6,   33.30,6,    0.00,6,    2.37,4,-999.000,9,-999.000,9,-999.000,9,  2285.9,2,  2391.4,2,   7.6056,6,    24.99,-999.000,9,-999.0000,9, -999.00,9,   1.3353, -999.00,9,  -999.0,9,  -999.0,-999.000,9,-999.000,    38.2,2, -999.00,9,     -999.0,9, -999.00,9,-999.000,-999.0000, -999.00,     -999.0,     -999.0,9,     -999.0,     -999.0,9,     -999.0,  -999.0,9,     -999.0,     -999.0,9,     -999.0,   0.9500,    34.8652,2,-999.0000,2,     -999.0,9
33RO20150410,     P16N.1,      21,          1,          1,          1,2,20150417,       0346,    -6.4997,  -151.0011,       5108,  5098.5,   1.3518,  34.7027,2,  34.7032,2,    190.3,2,   192.3,2,  124.10,6,   33.00,6,    0.00,6,    2.35,4,   0.004,6,   0.002,6,       0,6,  2280.7,2,  2387.3,2,   7.6051,2,    25.00,-999.000,9,-999.0000,9, -999.00,9,   1.3518, -999.00,9,  -999.0,9,  -999.0,-999.000,9,-999.000,    40.7,2, -999.00,9,     18.906,3, -999.00,9,-999.000,-999.0000, -999.00,     -999.0,     -999.0,9,     -999.0,     -999.0,9,     -999.0,  -999.0,9,     -999.0,     -999.0,9,     -999.0,   0.9104,    34.8669,2,-999.0000,2,     -999.0,9