BOTTLE,20210709CCHSIOCBG
EXPOCODE,SECT_ID,STNNBR,CASTNO,SAMPNO,BTLNBR,BTLNBR_FLAG_W,DATE,TIME,LATITUDE,LONGITUDE,DEPTH,CTDPRS,CTDTMP,CTDSAL,CTDSAL_FLAG_W,SALNTY,SALNTY_FLAG_W,CTDOXY,CTDOXY_FLAG_W,OXYGEN,OXYGEN_FLAG_W,SILCAT,SILCAT_FLAG_W,NITRAT,NITRAT_FLAG_W,NITRIT,NITRIT_FLAG_W,PHSPHT,PHSPHT_FLAG_W,CFC-11,CFC-11_FLAG_W,CFC-12,CFC-12_FLAG_W,SF6,SF6_FLAG_W,TCARBN,TCARBN_FLAG_W,ALKALI,ALKALI_FLAG_W,PH_TOT,PH_TOT_FLAG_W,PH_TMP,TRITUM,TRITUM_FLAG_W,HELIUM,HELIUM_FLAG_W,DELHE3,DELHE3_FLAG_W,REFTMP,DELC13,DELC13_FLAG_W,DELC14,DELC14_FLAG_W,C14ERR,NEON,NEON_FLAG_W,NEONER,DOC,DOC_FLAG_W,TDN,TDN_FLAG_W,N2O,N2O_FLAG_W,ARGON,ARGON_FLAG_W,TRITER,HELIER,DELHER,ARGONER,KRYPTON,KRYPTON_FLAG_W,KRYPTONER,XENON,XENON_FLAG_W,XENONER,14C-DOC,14C-DOC_FLAG_W,14C-DOCERR,13C-DOC,13C-DOC_FLAG_W,13C-DOCERR,THETA,SALTREF,SALTREF_FLAG_W,SBE35,SBE35_FLAG_W,CHLORA,CHLORA_FLAG_W
,,,,,,,,,,,METERS,DBAR,ITS-90,PSS-78,,PSS-78,,UMOL/KG,,UMOL/KG,,UMOL/KG,,UMOL/KG,,UMOL/KG,,UMOL/KG,,PMOL/KG,,PMOL/KG,,FMOL/KG,,UMOL/KG,,UMOL/KG,,,,DEG C,TU,,NMOL/KG,,PERCNT,,DEG C,/MILLE,,/MILLE,,/MILLE,NMOL/KG,,NMOL/KG,UMOL/KG,,UMOL/KG,,NMOL/KG,,UMOL/KG,,TU,NMOL/KG,PERCNT,UMOL/KG,NMOL/KG,,NMOL/KG,NMOL/KG,,NMOL/KG,/MILLE,,/MILLE,/MILLE,,/MILLE,DEG C,G/KG,,ITS-90,,MG/M3,
33RO20150410,     P16N.1,      26,          1,         16,         16,9,20150418,       1148,    -4.7998,  -151.0011,       5010,   433.5,   8.9902,  34.6776,2,-999.0000,9,     70.8,2,  -999.0,9, -999.00,9, -999.00,9, -999.00,9, -999.00,9,-999.000,9,-999.000,9,-999.000,9,  -999.0,9,  -999.0,9,-999.0000,9,  -999.00,-999.000,9,-999.0000,9, -999.00,9,-999.0000, -999.00,9,  -999.0,9,  -999.0,-999.000,9,-999.000,  -999.0,9, -999.00,9,     -999.0,9, -999.00,9,-999.000,-999.0000, -999.00,     -999.0,     -999.0,9,     -999.0,     -999.0,9,     -999.0,  -999.0,9,     -999.0,     -999.0,9,     -999.0,-999.0000,     -999.0,9,-999.0000,2,     -999.0,9
33RO20150410,     P16N.1,      26,          1,         15,         15,2,20150418,       1148,    -4.7998,  -151.0011,       5010,   551.2,   7.5687,  34.5864,2,  34.5882,2,     93.2,2,    91.3,2,   34.70,2,   35.50,2,    0.01,2,    2.19,4,   0.389,6,   0.199,6,   0.075,6,  2236.2,2,  2306.6,2,   7.5218,6,    25.01,-999.000,9,-999.0000,9, -999.00,9,   7.5614, -999.00,9,  -999.0,9,  -999.0,-999.000,9,-999.000,  -999.0,9, -999.00,9,     38.810,3, -999.00,9,-999.000,-999.0000, -999.00,     -999.0,     -999.0,9,     -999.0,     -999.0,9,     -999.0,  -999.0,9,     -999.0,     -999.0,9,     -999.0,   7.5137,    34.7513,6,-999.0000,3,     -999.0,9
33RO20150410,     P16N.1,      26,          1,         14,         14,2,20150418,       1148,    -4.7998,  -151.0011,       5010,   750.8,   5.7299,  34.5452,2,  34.5456,2,     57.8,2,    58.0,2,   60.20,2,   42.80,2,    0.00,2,    2.71,4,   0.006,2,   0.004,2,       0,2,  2287.0,2,  2326.1,2,   7.4269,6,    25.01,-999.000,9,-999.0000,9, -999.00,9,   5.7307, -999.00,9,  -999.0,9,  -999.0,-999.000,9,-999.000,  -999.0,9, -999.00,9,     41.246,3, -999.00,9,-999.000,-999.0000, -999.00,     -999.0,     -999.0,9,     -999.0,     -999.0,9,     -999.0,  -999.0,9,     -999.0,     -999.0,9,     -999.0,   5.6645,    34.7085,2,-999.0000,3,     -999.0,9
33RO20150410,     P16N.1,      26,          1,         13,         13,2,20150418,       1148,    -4.7998,  -151.0011,       5010,   850.6,   5.0584,  34.5388,2,  34.5403,2,     76.6,2,    76.7,2,   69.30,2,   41.70,2,    0.01,2,    2.68,4,   0.013,2,   0.003,2,       0,2,  2288.3,2,  2336.8,2,   7.4559,2,    25.00,-999.000,9,-999.0000,9, -999.00,9,   5.0582, -999.00,9,  -999.0,9,  -999.0,-999.000,9,-999.000,  -999.0,9, -999.00,9,     35.892,3, -999.00,9,-999.000,-999.0000, -999.00,     -999.0,     -999.0,9,     -999.0,     -999.0,9,     -999.0,  -999.0,9,     -999.0,     -999.0,9,     -999.0,   4.9880,    34.7032,2,-999.0000,3,     -999.0,9
33RO20150410,     P16N.1,      26,          1,         12,         12,2,20150418,       1148,    -4.7998,  -151.0011,       5010,  1001.3,   4.4279,  34.5452,2,  34.5468,2,     95.0,2,    94.5,2,   79.70,2,   40.30,2,    0.01,2,    2.63,4,   0.010,2,   0.007,2,   0.027,3,  2288.1,2,  2349.2,2,   7.4869,6,    25.01,-999.000,9,-999.0000,9, -999.00,9,   4.4282, -999.00,9,  -999.0,9,  -999.0,-999.000,9,-999.000,  -999.0,9, -999.00,9,     31.905,3, -999.00,9,-999.000,-999.0000, -999.00,     -999.0,     -999.0,9,     -999.0,     -999.0,9,     -999.0,  -999.0,9,     -999.0,     -999.0,9,     -999.0,   4.3488,    34.7097,2,-999.0000,3,     -999.0,9
33RO20150410,     P16N.1,      26,          1,         11,         11,2,20150418,       1148,    -4.7998,  -151.0011,       5010,  1168.7,   3.7366,  34.5646,2,  34.5656,2,    100.7,2,   101.5,2,   94.40,2,   40.20,2,    0.00,2,    2.67,4,   0.026,3,   0.001,2,       0,2,  2303.0,2,  2365.4,2,   7.4953,2,    25.00,-999.000,9,-999.0000,9, -999.00,9,   3.7376, -999.00,9,  -999.0,9,  -999.0,-999.000,9,-999.000,  -999.0,9, -999.00,9,     29.651,3, -999.00,9,-999.000,-999.0000, -999.00,     -999.0,     -999.0,9,     -999.0,     -999.0,9,     -999.0,  -999.0,9,     -999.0,     -999.0,9,     -999.0,   3.6489,    34.7286,2,-999.0000,2,     -999.0,9
33RO20150410,     P16N.1,      26,          1,         10,         10,2,20150418,       1148,    -4.7998,  -151.0011,       5010,  1399.3,   3.0567,  34.5937,2,  34.5947,2,    108.7,2,   109.1,2,  110.80,2,   39.80,2,    0.00,2,    2.67,4,  -0.001,2,   0.000,2,       0,2,  2313.2,2,  2385.2,2,   7.5082,2,    24.99,-999.000,9,-999.0000,9, -999.00,9,   3.0559, -999.00,9,  -999.0,9,  -999.0,-999.000,9,-999.000,  -999.0,9, -999.00,9,     27.625,3, -999.00,9,-999.000,-999.0000, -999.00,     -999.0,     -999.0,9,     -999.0,     -999.0,9,     -999.0,  -999.0,9,     -999.0,     -999.0,9,     -999.0,   2.9565,    34.7579,2,-999.0000,2,     -999.0,9
33RO20150410,     P16N.1,      26,          1,          9,          9,2,20150418,       1148,    -4.7998,  -151.0011,       5010,  1734.1,   2.5554,  34.6244,2,  34.6254,2,    104.3,2,   107.9,3,  129.40,2,   40.70,2,    0.00,2,    2.76,4,   0.000,2,   0.001,2,       0,2,  2336.7,2,  2403.7,2,   7.5015,2,    25.00,-999.000,9,-999.0000,9, -999.00,9,   2.5547, -999.00,9,  -999.0,9,  -999.0,-999.000,9,-999.000,  -999.0,9, -999.00,9,     27.098,3, -999.00,9,-999.000,-999.0000, -999.00,     -999.0,     -999.0,9,     -999.0,     -999.0,9,     -999.0,  -999.0,9,     -999.0,     -999.0,9,     -999.0,   2.4333,    34.7886,2,-999.0000,2,     -999.0,9
33RO20150410,     P16N.1,      26,          1,          8,          8,2,20150418,       1148,    -4.7998,  -151.0011,       5010,  2133.2,   2.1637,  34.6455,2,  34.6458,2,    117.7,2,   117.9,2,  136.50,2,   39.70,2,    0.00,2,    2.69,4,  -0.001,2,   0.000,2,       0,2,  2335.6,2,  2412.7,2,   7.5250,2,    24.99,-999.000,9,-999.0000,9, -999.00,9,   2.1634, -999.00,9,  -999.0,9,  -999.0,-999.000,9,-999.000,  -999.0,9, -999.00,9,     24.493,3, -999.00,9,-999.000,-999.0000, -999.00,     -999.0,     -999.0,9,     -999.0,     -999.0,9,     -999.0,  -999.0,9,     -999.0,     -999.0,9,     -999.0,   2.0132,    34.8092,2,-999.0000,2,     -999.0,9
33RO20150410,     P16N.1,      26,          1,          7,          7,2,20150418,       1148,    -4.7998,  -151.0011,       5010,  2533.1,   1.9140,  34.6604,2,  34.6615,2,    129.1,2,   129.1,2,  139.70,2,   38.70,2,    0.00,2,    2.64,4,  -0.002,2,   0.001,2,       0,2,  2334.1,6,  2417.6,2,   7.5439,2,    25.00,-999.000,9,-999.0000,9, -999.00,9,   1.9151, -999.00,9,  -999.0,9,  -999.0,-999.000,9,-999.000,  -999.0,9, -999.00,9,     23.059,3, -999.00,9,-999.000,-999.0000, -999.00,     -999.0,     -999.0,9,     -999.0,     -999.0,9,     -999.0,  -999.0,9,     -999.0,     -999.0,9,     -999.0,   1.7322,    34.8250,2,-999.0000,2,     -999.0,9
33RO20150410,     P16N.1,      26,          1,          6,          6,2,20150418,       1148,    -4.7998,  -151.0011,       5010,  2928.2,   1.7219,  34.6741,2,  34.6749,2,    141.3,2,   141.7,2,  141.20,2,   37.80,2,    0.00,2,    2.58,4,  -0.004,2,   0.000,2,       0,2,  2329.1,2,  2420.8,2,   7.5663,2,    25.00,-999.000,9,-999.0000,9, -999.00,9,   1.7210, -999.00,9,  -999.0,9,  -999.0,-999.000,9,-999.000,  -999.0,9, -999.00,9,     21.636,3, -999.00,9,-999.000,-999.0000, -999.00,     -999.0,     -999.0,9,     -999.0,     -999.0,9,     -999.0,  -999.0,9,     -999.0,     -999.0,9,     -999.0,   1.5071,    34.8384,2,-999.0000,2,     -999.0,9
33RO20150410,     P16N.1,      26,          1,          5,          5,2,20150418,       1148,    -4.7998,  -151.0011,       5010,  3334.0,   1.5672,  34.6826,2,  34.6826,2,    153.5,2,   153.3,2,  139.70,2,   37.00,2,    0.01,2,    2.52,4,   0.001,2,   0.000,2,       0,2,  2322.2,2,  2418.5,2,   7.5823,6,    25.00,-999.000,9,-999.0000,9, -999.00,9,   1.5667, -999.00,9,  -999.0,9,  -999.0,-999.000,9,-999.000,  -999.0,9, -999.00,9,     20.825,3, -999.00,9,-999.000,-999.0000, -999.00,     -999.0,     -999.0,9,     -999.0,     -999.0,9,     -999.0,  -999.0,9,     -999.0,     -999.0,9,     -999.0,   1.3161,    34.8461,2,-999.0000,2,     -999.0,9
33RO20150410,     P16N.1,      26,          1,          4,          4,2,20150418,       1148,    -4.7998,  -151.0011,       5010,  3732.5,   1.4623,  34.6895,2,  34.6891,2,    163.5,2,   163.3,2,  137.80,2,   36.50,2,    0.00,2,    2.47,4,  -0.001,3,   0.000,2,       0,2,  2314.7,2,  2414.9,2,   7.5929,6,    24.99,-999.000,9,-999.0000,9, -999.00,9,   1.4615, -999.00,9,  -999.0,9,  -999.0,-999.000,9,-999.000,  -999.0,9, -999.00,9,     20.310,3, -999.00,9,-999.000,-999.0000, -999.00,     -999.0,     -999.0,9,     -999.0,     -999.0,9,     -999.0,  -999.0,9,     -999.0,     -999.0,9,     -999.0,   1.1730,    34.8526,2,-999.0000,2,     -999.0,9
33RO20150410,     P16N.1,      26,          1,          3,          3,2,20150418,       1148,    -4.7998,  -151.0011,       5010,  4165.8,   1.3619,  34.6963,2,  34.6971,2,    175.8,2,   175.2,2,  133.60,2,   35.60,2,    0.01,2,    2.40,4,  -0.002,2,   0.001,2,       0,2,  2301.5,2,  2405.1,2,   7.6015,2,    25.01,-999.000,9,-999.0000,9, -999.00,9,   1.3614, -999.00,9,  -999.0,9,  -999.0,-999.000,9,-999.000,  -999.0,9, -999.00,9,     19.644,3, -999.00,9,-999.000,-999.0000, -999.00,     -999.0,     -999.0,9,     -999.0,     -999.0,9,     -999.0,  -999.0,9,     -999.0,     -999.0,9,     -999.0,   1.0286,    34.8607,6,-999.0000,2,     -999.0,9
33RO20150410,     P16N.1,      26,          1,          2,          2,2,20150418,       1148,    -4.7998,  -151.0011,       5010,  4430.6,   1.3335,  34.6992,2,  34.6995,2,    184.6,2,   183.4,2,  128.30,2,   35.10,2,    0.00,2,    2.35,4,   0.004,6,   0.001,6,       0,6,  2291.8,2,  2394.6,6,   7.6046,2,    25.01,-999.000,9,-999.0000,9, -999.00,9,   1.3332, -999.00,9,  -999.0,9,  -999.0,-999.000,9,-999.000,  -999.0,9, -999.00,9,     19.239,3, -999.00,9,-999.000,-999.0000, -999.00,     -999.0,     -999.0,9,     -999.0,     -999.0,9,     -999.0,  -999.0,9,     -999.0,     -999.0,9,     -999.0,   0.9715,    34.8631,2,-999.0000,2,     -999.0,9
33RO20150410,     P16N.1,      26,          1,          1,          1,2,20150418,       1148,    -4.7998,  -151.0011,       5010,  4999.7,   1.3540,  34.7009,2,  34.7046,2,    188.9,2,   191.5,2,  126.10,2,   34.70,2,    0.01,2,    2.33,4,   0.007,3,   0.003,2,       0,2,  2285.0,6,  2389.6,2,   7.6054,2,    25.01,-999.000,9,-999.0000,9, -999.00,9,   1.3533, -999.00,9,  -999.0,9,  -999.0,-999.000,9,-999.000,  -999.0,9, -999.00,9,     19.149,3, -999.00,9,-999.000,-999.0000, -999.00,     -999.0,     -999.0,9,     -999.0,     -999.0,9,     -999.0,  -999.0,9,     -999.0,     -999.0,9,     -999.0,   0.9245,    34.8682,3,-999.0000,2,     -999.0,9