BOTTLE,20210709CCHSIOCBG
EXPOCODE,SECT_ID,STNNBR,CASTNO,SAMPNO,BTLNBR,BTLNBR_FLAG_W,DATE,TIME,LATITUDE,LONGITUDE,DEPTH,CTDPRS,CTDTMP,CTDSAL,CTDSAL_FLAG_W,SALNTY,SALNTY_FLAG_W,CTDOXY,CTDOXY_FLAG_W,OXYGEN,OXYGEN_FLAG_W,SILCAT,SILCAT_FLAG_W,NITRAT,NITRAT_FLAG_W,NITRIT,NITRIT_FLAG_W,PHSPHT,PHSPHT_FLAG_W,CFC-11,CFC-11_FLAG_W,CFC-12,CFC-12_FLAG_W,SF6,SF6_FLAG_W,TCARBN,TCARBN_FLAG_W,ALKALI,ALKALI_FLAG_W,PH_TOT,PH_TOT_FLAG_W,PH_TMP,TRITUM,TRITUM_FLAG_W,HELIUM,HELIUM_FLAG_W,DELHE3,DELHE3_FLAG_W,REFTMP,DELC13,DELC13_FLAG_W,DELC14,DELC14_FLAG_W,C14ERR,NEON,NEON_FLAG_W,NEONER,DOC,DOC_FLAG_W,TDN,TDN_FLAG_W,N2O,N2O_FLAG_W,ARGON,ARGON_FLAG_W,TRITER,HELIER,DELHER,ARGONER,KRYPTON,KRYPTON_FLAG_W,KRYPTONER,XENON,XENON_FLAG_W,XENONER,14C-DOC,14C-DOC_FLAG_W,14C-DOCERR,13C-DOC,13C-DOC_FLAG_W,13C-DOCERR,THETA,SALTREF,SALTREF_FLAG_W,SBE35,SBE35_FLAG_W,CHLORA,CHLORA_FLAG_W
,,,,,,,,,,,METERS,DBAR,ITS-90,PSS-78,,PSS-78,,UMOL/KG,,UMOL/KG,,UMOL/KG,,UMOL/KG,,UMOL/KG,,UMOL/KG,,PMOL/KG,,PMOL/KG,,FMOL/KG,,UMOL/KG,,UMOL/KG,,,,DEG C,TU,,NMOL/KG,,PERCNT,,DEG C,/MILLE,,/MILLE,,/MILLE,NMOL/KG,,NMOL/KG,UMOL/KG,,UMOL/KG,,NMOL/KG,,UMOL/KG,,TU,NMOL/KG,PERCNT,UMOL/KG,NMOL/KG,,NMOL/KG,NMOL/KG,,NMOL/KG,/MILLE,,/MILLE,/MILLE,,/MILLE,DEG C,G/KG,,ITS-90,,MG/M3,
33RO20150410,     P16N.1,      90,          1,         24,         24,2,20150504,       2125,    11.5004,  -152.0009,       5356,    14.1,  27.2855,  34.3842,2,  34.3862,2,    191.3,2,   196.9,2,    1.00,2,    0.00,2,    0.00,2,    0.21,2,   1.530,2,   0.976,2,   1.298,2,  1946.0,6,  2261.5,2,   8.0835,2,    25.00,-999.000,9,-999.0000,9, -999.00,9,  27.2843,    0.98,2,    37.6,2,     2.3,-999.000,9,-999.000,  -999.0,9, -999.00,9,      6.478,3, -999.00,9,-999.000,-999.0000, -999.00,     -999.0,     -999.0,9,     -999.0,     -999.0,9,     -999.0,  -999.0,9,     -999.0,     -999.0,9,     -999.0,  27.2822,    34.5483,2,-999.0000,9,      0.144,2
33RO20150410,     P16N.1,      90,          1,         23,         23,2,20150504,       2125,    11.5004,  -152.0009,       5356,    33.8,  27.2864,  34.3831,2,  34.3852,2,    191.9,2,   196.9,2,    1.00,2,    0.00,2,    0.00,2,    0.21,2,-999.000,9,-999.000,9,-999.000,9,  1943.3,2,  2261.7,6,   8.0835,2,    25.00,-999.000,9,-999.0000,9, -999.00,9,  27.2865,    1.00,2,    40.6,2,     2.4,-999.000,9,-999.000,  -999.0,9, -999.00,9,     -999.0,9, -999.00,9,-999.000,-999.0000, -999.00,     -999.0,     -999.0,9,     -999.0,     -999.0,9,     -999.0,  -999.0,9,     -999.0,     -999.0,9,     -999.0,  27.2786,    34.5473,2,-999.0000,9,      0.147,2
33RO20150410,     P16N.1,      90,          1,         22,         22,2,20150504,       2125,    11.5004,  -152.0009,       5356,    53.6,  27.2825,  34.3821,2,  34.3838,2,    196.6,2,   196.8,2,    1.00,2,    0.00,2,    0.01,2,    0.24,2,   1.529,2,   0.970,2,   1.233,2,  1944.6,2,  2261.3,2,   8.0834,6,    24.98,-999.000,9,-999.0000,9, -999.00,9,  27.2824,    1.02,2,    42.5,2,     2.4,-999.000,9,-999.000,  -999.0,9, -999.00,9,      6.493,3, -999.00,9,-999.000,-999.0000, -999.00,     -999.0,     -999.0,9,     -999.0,     -999.0,9,     -999.0,  -999.0,9,     -999.0,     -999.0,9,     -999.0,  27.2701,    34.5460,2,-999.0000,9,      0.155,2
33RO20150410,     P16N.1,      90,          1,         21,         21,2,20150504,       2125,    11.5004,  -152.0009,       5356,    83.2,  26.9910,  34.3880,2,  34.3982,2,    196.3,2,   208.5,2,    1.20,2,    0.10,2,    0.01,2,    0.26,2,   1.573,2,   1.002,2,   1.301,2,  1955.0,2,  2264.9,2,   8.0709,6,    25.00,-999.000,9,-999.0000,9, -999.00,9,  26.9706,    0.99,2,    32.3,2,     2.2,-999.000,9,-999.000,  -999.0,9, -999.00,9,      7.756,3, -999.00,9,-999.000,-999.0000, -999.00,     -999.0,     -999.0,9,     -999.0,     -999.0,9,     -999.0,  -999.0,9,     -999.0,     -999.0,9,     -999.0,  26.9720,    34.5604,2,-999.0000,9,      0.232,2
33RO20150410,     P16N.1,      90,          1,         20,         20,2,20150504,       2125,    11.5004,  -152.0009,       5356,   117.5,  14.5376,  34.3259,2,  34.3296,2,    103.6,2,   100.6,2,   12.70,2,   16.50,2,    0.88,2,    1.56,2,   2.330,2,   1.338,2,   1.129,2,  2159.7,2,  2268.4,2,   7.6412,6,    25.01,-999.000,9,-999.0000,9, -999.00,9,  14.5385,   -0.09,2,    15.3,2,     3.2,-999.000,9,-999.000,  -999.0,9, -999.00,9,     64.402,3, -999.00,9,-999.000,-999.0000, -999.00,     -999.0,     -999.0,9,     -999.0,     -999.0,9,     -999.0,  -999.0,9,     -999.0,     -999.0,9,     -999.0,  14.5203,    34.4915,2,-999.0000,9,      0.263,2
33RO20150410,     P16N.1,      90,          1,         19,         19,2,20150504,       2125,    11.5004,  -152.0009,       5356,   176.0,  11.5706,  34.7311,2,  34.7311,2,      3.8,2,     4.3,2,   28.00,2,   33.20,2,    0.00,2,    2.55,2,   0.845,2,   0.460,2,    0.16,2,  2261.1,2,  2296.5,2,   7.4204,2,    24.98,-999.000,9,-999.0000,9, -999.00,9,  11.5727,   -0.26,2,   -22.0,2,     2.3,-999.000,9,-999.000,  -999.0,9, -999.00,9,     95.667,3, -999.00,9,-999.000,-999.0000, -999.00,     -999.0,     -999.0,9,     -999.0,     -999.0,9,     -999.0,  -999.0,9,     -999.0,     -999.0,9,     -999.0,  11.5483,    34.8948,2,-999.0000,9,      0.003,2
33RO20150410,     P16N.1,      90,          1,         18,         18,2,20150504,       2125,    11.5004,  -152.0009,       5356,   252.1,  10.6417,  34.7100,2,  34.7093,2,      5.5,2,     5.1,2,   30.70,2,   34.30,2,    0.00,2,    2.57,2,   0.566,2,   0.304,2,   0.103,2,  2267.8,2,  -999.0,5,   7.4075,2,    25.00,-999.000,9,-999.0000,9, -999.00,9,  10.6467,   -0.19,2,   -41.0,2,     2.1,-999.000,9,-999.000,  -999.0,9, -999.00,9,     71.035,3, -999.00,9,-999.000,-999.0000, -999.00,     -999.0,     -999.0,9,     -999.0,     -999.0,9,     -999.0,  -999.0,9,     -999.0,     -999.0,9,     -999.0,  10.6113,    34.8729,2,-999.0000,9,     -999.0,5
33RO20150410,     P16N.1,      90,          1,         17,         17,2,20150504,       2125,    11.5004,  -152.0009,       5356,   330.2,  10.0507,  34.6891,2,  34.6876,2,      3.7,2,     5.2,2,   33.30,6,   35.40,6,    0.01,6,    2.62,6,   0.373,2,   0.202,2,    0.08,2,  2272.8,2,  2300.6,2,   7.3935,2,    24.99,-999.000,9,-999.0000,9, -999.00,9,  10.0512,   -0.17,2,   -60.8,2,     2.2,-999.000,9,-999.000,  -999.0,9, -999.00,9,     68.003,3, -999.00,9,-999.000,-999.0000, -999.00,     -999.0,     -999.0,9,     -999.0,     -999.0,9,     -999.0,  -999.0,9,     -999.0,     -999.0,9,     -999.0,  10.0121,    34.8511,2,-999.0000,9,     -999.0,9
33RO20150410,     P16N.1,      90,          1,         16,         16,2,20150504,       2125,    11.5004,  -152.0009,       5356,   434.1,   9.0152,  34.6267,2,  34.6260,2,      7.5,2,     7.3,2,   40.00,2,   36.10,2,    0.00,2,    2.79,2,   0.140,6,   0.075,6,   0.023,6,  2283.2,6,  2306.9,2,   7.3816,2,    24.98,-999.000,9,-999.0000,9, -999.00,9,   9.0135,   -0.20,2,   -96.0,2,     1.9,-999.000,9,-999.000,  -999.0,9, -999.00,9,     70.364,3, -999.00,9,-999.000,-999.0000, -999.00,     -999.0,     -999.0,9,     -999.0,     -999.0,9,     -999.0,  -999.0,9,     -999.0,     -999.0,9,     -999.0,   8.9676,    34.7892,2,-999.0000,9,     -999.0,9
33RO20150410,     P16N.1,      90,          1,         15,         15,2,20150504,       2125,    11.5004,  -152.0009,       5356,   549.0,   7.9518,  34.5726,2,  34.5768,2,     10.5,2,     9.4,2,   40.20,3,   36.20,2,    0.01,2,    2.81,2,   0.054,2,   0.030,2,       0,2,  2294.8,2,  2314.6,2,   7.3700,2,    24.98,-999.000,9,-999.0000,9, -999.00,9,   7.9545,   -0.23,2,  -119.2,2,     2.1,-999.000,9,-999.000,  -999.0,9, -999.00,9,     64.966,3, -999.00,9,-999.000,-999.0000, -999.00,     -999.0,     -999.0,9,     -999.0,     -999.0,9,     -999.0,  -999.0,9,     -999.0,     -999.0,9,     -999.0,   7.8955,    34.7398,6,-999.0000,9,     -999.0,9
33RO20150410,     P16N.1,      90,          1,         14,         14,2,20150504,       2125,    11.5004,  -152.0009,       5356,   697.9,   6.4417,  34.5308,2,  34.5301,2,     18.1,2,    18.6,2,   64.00,2,   40.70,2,    0.00,2,    3.08,2,   0.016,2,   0.009,2,       0,2,  2306.8,2,  2329.3,2,   7.3664,2,    24.99,-999.000,9,-999.0000,9, -999.00,9,   6.4417,   -0.14,2,  -149.0,2,     1.8,-999.000,9,-999.000,  -999.0,9, -999.00,9,     54.571,3, -999.00,9,-999.000,-999.0000, -999.00,     -999.0,     -999.0,9,     -999.0,     -999.0,9,     -999.0,  -999.0,9,     -999.0,     -999.0,9,     -999.0,   6.3774,    34.6929,2,-999.0000,9,     -999.0,9
33RO20150410,     P16N.1,      90,          1,         13,         13,2,20150504,       2125,    11.5004,  -152.0009,       5356,   850.1,   5.4271,  34.5287,2,  34.5282,2,     23.3,2,    24.0,2,   78.40,2,   42.60,2,    0.00,2,    3.15,2,   0.004,2,   0.002,2,       0,2,  2323.2,2,  2344.5,2,   7.3638,6,    25.01,-999.000,9,-999.0000,9, -999.00,9,   5.4278,   -0.36,2,  -178.0,2,     2.0,-999.000,9,-999.000,  -999.0,9, -999.00,9,     51.042,3, -999.00,9,-999.000,-999.0000, -999.00,     -999.0,     -999.0,9,     -999.0,     -999.0,9,     -999.0,  -999.0,9,     -999.0,     -999.0,9,     -999.0,   5.3544,    34.6910,2,-999.0000,9,     -999.0,9
33RO20150410,     P16N.1,      90,          1,         12,         12,2,20150504,       2125,    11.5004,  -152.0009,       5356,  1000.8,   4.6175,  34.5478,2,  34.5472,2,     38.8,2,    38.1,2,   90.10,2,   42.60,2,    0.00,2,    3.14,2,   0.002,2,   0.001,2,       0,2,  2330.4,2,  2359.6,2,   7.3857,2,    24.98,-999.000,9,-999.0000,9, -999.00,9,   4.6179,   -0.18,2,  -188.9,2,     1.7,-999.000,9,-999.000,  -999.0,9, -999.00,9,     43.867,3, -999.00,9,-999.000,-999.0000, -999.00,     -999.0,     -999.0,9,     -999.0,     -999.0,9,     -999.0,  -999.0,9,     -999.0,     -999.0,9,     -999.0,   4.5370,    34.7101,2,-999.0000,9,     -999.0,9
33RO20150410,     P16N.1,      90,          1,         11,         11,2,20150504,       2125,    11.5004,  -152.0009,       5356,  1167.7,   4.0214,  34.5669,2,  34.5665,2,     46.0,2,    45.9,2,  101.50,2,   42.80,2,    0.00,2,    3.14,2,-999.000,9,-999.000,9,-999.000,9,  2341.5,2,  2373.7,2,   7.3961,2,    24.98,-999.000,9,-999.0000,9, -999.00,9,   4.0206,   -0.30,2,  -214.0,2,     1.8,-999.000,9,-999.000,  -999.0,9, -999.00,9,     -999.0,9, -999.00,9,-999.000,-999.0000, -999.00,     -999.0,     -999.0,9,     -999.0,     -999.0,9,     -999.0,  -999.0,9,     -999.0,     -999.0,9,     -999.0,   3.9313,    34.7295,2,-999.0000,9,     -999.0,9
33RO20150410,     P16N.1,      90,          1,         10,         10,2,20150504,       2125,    11.5004,  -152.0009,       5356,  1400.9,   3.3661,  34.5874,2,  34.5869,2,     60.8,2,    60.5,2,  114.70,2,   41.80,2,    0.01,2,    3.06,2,   0.003,2,   0.000,2,       0,2,  2346.5,2,  2388.8,2,   7.4221,2,    24.97,-999.000,9,-999.0000,9, -999.00,9,   3.3670,   -0.36,2,  -226.2,2,     1.8,-999.000,9,-999.000,  -999.0,9, -999.00,9,     35.607,3, -999.00,9,-999.000,-999.0000, -999.00,     -999.0,     -999.0,9,     -999.0,     -999.0,9,     -999.0,  -999.0,9,     -999.0,     -999.0,9,     -999.0,   3.2625,    34.7500,2,-999.0000,9,     -999.0,9
33RO20150410,     P16N.1,      90,          1,          9,          9,2,20150504,       2125,    11.5004,  -152.0009,       5356,  1732.8,   2.6534,  34.6166,2,  34.6160,2,     77.6,2,    76.9,2,  130.10,2,   40.90,2,    0.00,2,    2.94,2,-999.000,9,-999.000,9,-999.000,9,  2354.5,2,  2408.0,2,   7.4514,2,    24.99,-999.000,9,-999.0000,9, -999.00,9,   2.6534,   -0.17,2,  -234.2,6,     2.5,-999.000,9,-999.000,  -999.0,9, -999.00,9,     -999.0,9, -999.00,9,-999.000,-999.0000, -999.00,     -999.0,     -999.0,9,     -999.0,     -999.0,9,     -999.0,  -999.0,9,     -999.0,     -999.0,9,     -999.0,   2.5302,    34.7792,6,-999.0000,9,     -999.0,9
33RO20150410,     P16N.1,      90,          1,          8,          8,2,20150504,       2125,    11.5004,  -152.0009,       5356,  2133.9,   2.1286,  34.6442,2,  34.6433,2,     95.4,2,    95.6,2,  140.90,2,   39.50,2,    0.01,2,    2.84,2,-999.000,9,-999.000,9,-999.000,9,  2356.0,2,  2420.8,2,   7.4870,6,    25.01,-999.000,9,-999.0000,9, -999.00,9,   2.1284,   -0.20,2,  -241.9,6,     1.8,-999.000,9,-999.000,  -999.0,9, -999.00,9,     -999.0,9, -999.00,9,-999.000,-999.0000, -999.00,     -999.0,     -999.0,9,     -999.0,     -999.0,9,     -999.0,  -999.0,9,     -999.0,     -999.0,9,     -999.0,   1.9787,    34.8067,2,-999.0000,9,     -999.0,9
33RO20150410,     P16N.1,      90,          1,          7,          7,2,20150504,       2125,    11.5004,  -152.0009,       5356,  2533.2,   1.8725,  34.6612,2,  34.6610,2,    109.2,2,   109.1,2,  145.20,2,   38.40,2,    0.01,2,    2.75,2,-999.000,9,-999.000,9,-999.000,9,  2352.2,2,  2426.7,2,   7.5139,2,    24.98,-999.000,9,-999.0000,9, -999.00,9,   1.8726,   -0.13,2,  -242.0,6,     3.8,-999.000,9,-999.000,  -999.0,9, -999.00,9,     -999.0,9, -999.00,9,-999.000,-999.0000, -999.00,     -999.0,     -999.0,9,     -999.0,     -999.0,9,     -999.0,  -999.0,9,     -999.0,     -999.0,9,     -999.0,   1.6915,    34.8244,2,-999.0000,9,     -999.0,9
33RO20150410,     P16N.1,      90,          1,          6,          6,2,20150504,       2125,    11.5004,  -152.0009,       5356,  2933.4,   1.7352,  34.6713,2,  34.6739,2,    116.3,2,   116.6,2,  148.50,2,   38.00,2,    0.00,2,    2.71,2,-999.000,9,-999.000,9,-999.000,9,  2350.9,2,  2431.2,2,   7.5281,2,    24.99,-999.000,9,-999.0000,9, -999.00,9,   1.7352,   -0.07,2,  -239.7,6,     1.2,-999.000,9,-999.000,  -999.0,9, -999.00,9,     -999.0,9, -999.00,9,-999.000,-999.0000, -999.00,     -999.0,     -999.0,9,     -999.0,     -999.0,9,     -999.0,  -999.0,9,     -999.0,     -999.0,9,     -999.0,   1.5196,    34.8374,2,-999.0000,9,     -999.0,9
33RO20150410,     P16N.1,      90,          1,          5,          5,2,20150504,       2125,    11.5004,  -152.0009,       5356,  3329.7,   1.6046,  34.6785,2,  34.6773,2,    126.1,2,   125.9,2,  151.50,2,   37.40,2,    0.01,2,    2.69,2,-999.000,9,-999.000,9,-999.000,9,  2345.2,2,  2432.5,2,   7.5434,2,    24.99,-999.000,9,-999.0000,9, -999.00,9,   1.6045,   -0.06,2,  -234.8,6,     1.7,-999.000,9,-999.000,  -999.0,9, -999.00,9,     -999.0,9, -999.00,9,-999.000,-999.0000, -999.00,     -999.0,     -999.0,9,     -999.0,     -999.0,9,     -999.0,  -999.0,9,     -999.0,     -999.0,9,     -999.0,   1.3531,    34.8408,2,-999.0000,9,     -999.0,9
33RO20150410,     P16N.1,      90,          1,          4,          4,2,20150504,       2125,    11.5004,  -152.0009,       5356,  3767.4,   1.4935,  34.6857,2,  34.6842,2,    141.3,2,   142.1,2,  146.20,6,   36.20,6,    0.02,6,    2.60,6,-999.000,9,-999.000,9,-999.000,9,  2333.8,2,  2426.7,2,   7.5661,2,    24.98,-999.000,9,-999.0000,9, -999.00,9,   1.4938,    0.02,2,  -227.9,6,     4.0,-999.000,9,-999.000,  -999.0,9, -999.00,9,     -999.0,9, -999.00,9,-999.000,-999.0000, -999.00,     -999.0,     -999.0,9,     -999.0,     -999.0,9,     -999.0,  -999.0,9,     -999.0,     -999.0,9,     -999.0,   1.1997,    34.8477,2,-999.0000,9,     -999.0,9
33RO20150410,     P16N.1,      90,          1,          3,          3,2,20150504,       2125,    11.5004,  -152.0009,       5356,  4266.7,   1.3949,  34.6943,2,  34.6944,2,    160.7,2,   161.7,2,  134.90,6,   34.80,6,    0.01,6,    2.48,6,-999.000,9,-999.000,9,-999.000,9,  2314.2,2,  2414.0,2,   7.5887,6,    24.99,-999.000,9,-999.0000,9, -999.00,9,   1.3948,    0.14,2,  -208.9,6,     1.8,-999.000,9,-999.000,  -999.0,9, -999.00,9,     -999.0,9, -999.00,9,-999.000,-999.0000, -999.00,     -999.0,     -999.0,9,     -999.0,     -999.0,9,     -999.0,  -999.0,9,     -999.0,     -999.0,9,     -999.0,   1.0495,    34.8580,2,-999.0000,9,     -999.0,9
33RO20150410,     P16N.1,      90,          1,          2,          2,2,20150504,       2125,    11.5004,  -152.0009,       5356,  4767.4,   1.3722,  34.6986,2,  34.6983,2,    171.3,2,   171.5,2,  129.00,6,   34.10,6,    0.00,6,    2.43,6,-999.000,9,-999.000,9,-999.000,9,  2301.8,2,  2403.4,6,   7.5968,2,    25.01,-999.000,9,-999.0000,9, -999.00,9,   1.3723,    0.15,2,  -199.7,6,     2.4,-999.000,9,-999.000,  -999.0,9, -999.00,9,     -999.0,9, -999.00,9,-999.000,-999.0000, -999.00,     -999.0,     -999.0,9,     -999.0,     -999.0,9,     -999.0,  -999.0,9,     -999.0,     -999.0,9,     -999.0,   0.9699,    34.8619,2,-999.0000,9,     -999.0,9
33RO20150410,     P16N.1,      90,          1,          1,          1,2,20150504,       2125,    11.5004,  -152.0009,       5356,  5345.8,   1.4328,  34.6990,2,  34.6987,2,    174.5,2,   173.4,2,  128.00,6,   33.90,6,    0.01,6,    2.41,6,-999.000,9,-999.000,9,-999.000,9,  2299.3,6,  2403.0,2,   7.5976,2,    24.99,-999.000,9,-999.0000,9, -999.00,9,   1.4331,    0.22,2,  -195.3,6,     2.0,-999.000,9,-999.000,  -999.0,9, -999.00,9,     -999.0,9, -999.00,9,-999.000,-999.0000, -999.00,     -999.0,     -999.0,9,     -999.0,     -999.0,9,     -999.0,  -999.0,9,     -999.0,     -999.0,9,     -999.0,   0.9580,    34.8623,2,-999.0000,9,     -999.0,9