BOTTLE,20210709CCHSIOCBG
EXPOCODE,SECT_ID,STNNBR,CASTNO,SAMPNO,BTLNBR,BTLNBR_FLAG_W,DATE,TIME,LATITUDE,LONGITUDE,DEPTH,CTDPRS,CTDTMP,CTDSAL,CTDSAL_FLAG_W,SALNTY,SALNTY_FLAG_W,CTDOXY,CTDOXY_FLAG_W,OXYGEN,OXYGEN_FLAG_W,SILCAT,SILCAT_FLAG_W,NITRAT,NITRAT_FLAG_W,NITRIT,NITRIT_FLAG_W,PHSPHT,PHSPHT_FLAG_W,CFC-11,CFC-11_FLAG_W,CFC-12,CFC-12_FLAG_W,SF6,SF6_FLAG_W,TCARBN,TCARBN_FLAG_W,ALKALI,ALKALI_FLAG_W,PH_TOT,PH_TOT_FLAG_W,PH_TMP,TRITUM,TRITUM_FLAG_W,HELIUM,HELIUM_FLAG_W,DELHE3,DELHE3_FLAG_W,REFTMP,DELC13,DELC13_FLAG_W,DELC14,DELC14_FLAG_W,C14ERR,NEON,NEON_FLAG_W,NEONER,DOC,DOC_FLAG_W,TDN,TDN_FLAG_W,N2O,N2O_FLAG_W,ARGON,ARGON_FLAG_W,TRITER,HELIER,DELHER,ARGONER,KRYPTON,KRYPTON_FLAG_W,KRYPTONER,XENON,XENON_FLAG_W,XENONER,14C-DOC,14C-DOC_FLAG_W,14C-DOCERR,13C-DOC,13C-DOC_FLAG_W,13C-DOCERR,THETA,SALTREF,SALTREF_FLAG_W,SBE35,SBE35_FLAG_W,CHLORA,CHLORA_FLAG_W
,,,,,,,,,,,METERS,DBAR,ITS-90,PSS-78,,PSS-78,,UMOL/KG,,UMOL/KG,,UMOL/KG,,UMOL/KG,,UMOL/KG,,UMOL/KG,,PMOL/KG,,PMOL/KG,,FMOL/KG,,UMOL/KG,,UMOL/KG,,,,DEG C,TU,,NMOL/KG,,PERCNT,,DEG C,/MILLE,,/MILLE,,/MILLE,NMOL/KG,,NMOL/KG,UMOL/KG,,UMOL/KG,,NMOL/KG,,UMOL/KG,,TU,NMOL/KG,PERCNT,UMOL/KG,NMOL/KG,,NMOL/KG,NMOL/KG,,NMOL/KG,/MILLE,,/MILLE,/MILLE,,/MILLE,DEG C,G/KG,,ITS-90,,MG/M3,
33RO20150410,     P16N.1,      85,          1,         24,         24,2,20150503,       0953,     9.0003,  -151.7002,       5283,     5.2,  27.6552,  34.2016,2,  34.2217,2,    198.1,2,   198.0,2,    1.10,2,    0.00,2,    0.01,2,    0.24,2,   1.515,2,   0.968,2,    1.31,2,  1931.4,6,  2247.8,2,   8.0890,2,    25.02,   0.341,2,-999.0000,9, -999.00,9,  27.6530, -999.00,9,  -999.0,9,  -999.0,-999.000,9,-999.000,    66.2,2,    4.30,2,      6.356,3, -999.00,9,   0.004,-999.0000, -999.00,     -999.0,     -999.0,9,     -999.0,     -999.0,9,     -999.0,  -999.0,9,     -999.0,     -999.0,9,     -999.0,  27.6540,    34.3830,2,-999.0000,9,     -999.0,9
33RO20150410,     P16N.1,      85,          1,         23,         23,2,20150503,       0953,     9.0003,  -151.7002,       5283,    20.5,  27.6582,  34.2007,2,  34.2015,2,    196.9,2,   198.0,2,    1.10,2,    0.00,2,    0.02,2,    0.21,2,   1.516,2,   0.967,2,   1.271,2,  1932.3,2,  2247.9,2,   8.0892,6,    25.01,-999.000,9,-999.0000,9, -999.00,9,  27.6597, -999.00,9,  -999.0,9,  -999.0,-999.000,9,-999.000,    66.7,2,    4.10,2,      6.352,3, -999.00,9,-999.000,-999.0000, -999.00,     -999.0,     -999.0,9,     -999.0,     -999.0,9,     -999.0,  -999.0,9,     -999.0,     -999.0,9,     -999.0,  27.6534,    34.3628,2,-999.0000,9,     -999.0,9
33RO20150410,     P16N.1,      85,          1,         22,         22,2,20150503,       0953,     9.0003,  -151.7002,       5283,    42.2,  27.6633,  34.1998,2,  34.2013,2,    197.7,2,   197.9,2,    1.10,2,    0.00,2,    0.01,2,    0.23,2,   1.518,2,   0.971,2,   1.253,2,  1933.7,2,  2248.1,3,   8.0893,2,    25.02,   0.368,2,   1.7004,2,   -1.06,2,  27.6636, -999.00,9,  -999.0,9,  -999.0,   6.631,2,   0.017,    66.3,2,    3.90,2,      6.451,3,    9.86,2,   0.003,   0.0044,    0.20,       0.02,       2.10,2,       0.01,       0.28,2,       0.00,  -999.0,9,     -999.0,     -999.0,9,     -999.0,  27.6535,    34.3626,2,-999.0000,9,     -999.0,9
33RO20150410,     P16N.1,      85,          1,         21,         21,2,20150503,       0953,     9.0003,  -151.7002,       5283,    67.3,  27.5242,  34.2053,2,  34.2486,2,    197.7,2,   198.9,2,    1.40,2,    0.10,2,    0.01,2,    0.27,2,   1.603,2,   1.014,2,   1.308,2,  1947.1,2,  2253.7,2,   8.0707,6,    25.01,   0.352,2,   1.7046,2,   -1.57,2,  27.5725, -999.00,9,  -999.0,9,  -999.0,   6.663,2,   0.017,    67.7,2,    4.30,2,      8.516,3,   10.10,2,   0.003,   0.0044,    0.20,       0.02,       2.18,2,       0.01,       0.29,2,       0.00,  -999.0,9,     -999.0,     -999.0,9,     -999.0,  27.5086,    34.4101,2,-999.0000,9,     -999.0,9
33RO20150410,     P16N.1,      85,          1,         20,         20,2,20150503,       0953,     9.0003,  -151.7002,       5283,    92.8,  14.6772,  34.4451,2,  34.4362,2,    123.4,2,   125.6,2,   11.60,2,   14.00,2,    0.40,2,    1.32,2,   2.323,2,   1.343,2,   1.066,2,  2138.6,2,  2273.9,2,   7.7116,2,    24.99,   0.399,2,   1.7639,2,    1.70,2,  14.8236, -999.00,9,  -999.0,9,  -999.0,   7.264,2,   0.018,    53.8,2,   18.10,2,     44.324,3,   12.64,2,   0.003,   0.0046,    0.20,       0.02,       2.89,2,       0.01,       0.41,2,       0.00,  -999.0,9,     -999.0,     -999.0,9,     -999.0,  14.6635,    34.5985,2,-999.0000,9,     -999.0,9
33RO20150410,     P16N.1,      85,          1,         19,         19,2,20150503,       0953,     9.0003,  -151.7002,       5283,   133.7,  12.1481,  34.5181,2,  34.5278,2,     42.0,2,    41.9,2,   23.90,2,   27.80,2,    0.03,2,    2.25,2,   1.506,6,   0.838,6,   0.476,6,  2221.2,2,  2281.6,2,   7.4910,2,    25.01,   0.277,2,   1.7777,6,    6.48,6,  12.1374, -999.00,9,  -999.0,9,  -999.0,   7.409,6,   0.014,    49.2,2,   29.80,2,     80.900,3,   13.35,6,   0.003,   0.0350,    0.14,       0.01,       3.08,6,       0.01,       0.44,6,       0.00,  -999.0,9,     -999.0,     -999.0,9,     -999.0,  12.1306,    34.6907,2,-999.0000,9,     -999.0,9
33RO20150410,     P16N.1,      85,          1,         18,         18,2,20150503,       0953,     9.0003,  -151.7002,       5283,   199.7,  10.8376,  34.7033,2,  34.7013,2,      6.8,2,     7.3,2,   30.00,2,   34.40,2,    0.01,2,    2.56,2,   0.613,2,   0.335,2,   0.149,2,  2258.9,2,  2297.8,2,   7.4165,2,    25.01,   0.124,2,   1.7868,2,    7.29,2,  10.8310, -999.00,9,  -999.0,9,  -999.0,   7.457,2,   0.019,    46.2,2,   36.80,2,     74.058,3,   13.63,2,   0.002,   0.0046,    0.20,       0.03,       3.17,2,       0.01,       0.46,2,       0.00,  -999.0,9,     -999.0,     -999.0,9,     -999.0,  10.8133,    34.8650,2,-999.0000,9,     -999.0,9
33RO20150410,     P16N.1,      85,          1,         17,         17,2,20150503,       0953,     9.0003,  -151.7002,       5283,   275.9,  10.0563,  34.6850,2,  34.6831,2,      9.5,2,    10.0,2,   32.80,2,   35.20,2,    0.01,2,    2.61,2,   0.405,2,   0.219,2,   0.098,2,  2265.4,2,  2300.3,2,   7.4079,6,    25.02,   0.085,2,-999.0000,9, -999.00,9,  10.0605, -999.00,9,  -999.0,9,  -999.0,-999.000,9,-999.000,    45.7,2,   38.20,2,     65.866,3, -999.00,9,   0.002,-999.0000, -999.00,     -999.0,     -999.0,9,     -999.0,     -999.0,9,     -999.0,  -999.0,9,     -999.0,     -999.0,9,     -999.0,  10.0242,    34.8466,2,-999.0000,9,     -999.0,9
33RO20150410,     P16N.1,      85,          1,         16,         16,2,20150503,       0953,     9.0003,  -151.7002,       5283,   367.0,   9.1936,  34.6357,2,  34.6347,2,     12.1,2,    12.5,2,   37.90,2,   36.30,2,    0.01,2,    2.72,2,   0.206,2,   0.109,2,   0.025,2,  2272.6,2,  2304.8,2,   7.3973,2,    25.01,   0.054,6,   1.8182,2,    7.61,2,   9.1926, -999.00,9,  -999.0,9,  -999.0,   7.629,2,   0.019,    45.0,2, -999.00,9,     63.477,3,   14.13,2,   0.003,   0.0047,    0.20,       0.03,       3.28,2,       0.01,       0.48,2,       0.00,  -999.0,9,     -999.0,     -999.0,9,     -999.0,   9.1530,    34.7980,2,-999.0000,9,     -999.0,9
33RO20150410,     P16N.1,      85,          1,         15,         15,2,20150503,       0953,     9.0003,  -151.7002,       5283,   468.0,   8.1699,  34.5817,2,  34.5812,2,     10.2,2,    10.6,2,   46.70,2,   37.50,2,    0.00,2,    2.90,2,   0.072,6,   0.039,6,       0,6,  2286.3,2,  2312.8,2,   7.3767,2,    25.01,   0.024,2,   1.8233,2,    8.93,2,   8.1635, -999.00,9,  -999.0,9,  -999.0,   7.668,2,   0.019,    43.9,2, -999.00,9,     63.589,3,   14.42,2,   0.002,   0.0047,    0.20,       0.03,       3.38,2,       0.01,       0.50,2,       0.00,  -999.0,9,     -999.0,     -999.0,9,     -999.0,   8.1214,    34.7443,6,-999.0000,9,     -999.0,9
33RO20150410,     P16N.1,      85,          1,         14,         14,2,20150503,       0953,     9.0003,  -151.7002,       5283,   600.3,   6.6324,  34.5348,2,  34.5340,2,     19.9,2,    20.4,2,   61.60,2,   40.60,2,    0.00,2,    3.02,2,   0.023,2,   0.011,2,       0,2,  2303.3,2,  2326.6,2,   7.3730,2,    25.01,   0.014,2,   1.8337,2,   11.41,2,   6.6353, -999.00,9,  -999.0,9,  -999.0,   7.724,2,   0.019,    43.4,2, -999.00,9,     52.772,3,   14.85,2,   0.001,   0.0048,    0.20,       0.03,       3.50,2,       0.01,       0.52,2,       0.00,  -999.0,9,     -999.0,     -999.0,9,     -999.0,   6.5766,    34.6968,2,-999.0000,9,     -999.0,9
33RO20150410,     P16N.1,      85,          1,         13,         13,2,20150503,       0953,     9.0003,  -151.7002,       5283,   751.5,   5.6223,  34.5400,2,  34.5393,2,     41.4,2,    41.7,2,   71.50,2,   41.30,2,    0.00,2,    3.00,2,   0.014,2,   0.008,2,       0,2,  2306.4,6,  2338.8,2,   7.4056,2,    25.01,   0.008,2,   1.8481,2,   14.36,2,   5.6221, -999.00,9,  -999.0,9,  -999.0,   7.786,2,   0.020,    41.2,2, -999.00,9,     44.044,3,   15.19,2,   0.002,   0.0048,    0.20,       0.03,       3.60,2,       0.01,       0.54,2,       0.00,  -999.0,9,     -999.0,     -999.0,9,     -999.0,   5.5574,    34.7022,2,-999.0000,9,     -999.0,9
33RO20150410,     P16N.1,      85,          1,         12,         12,2,20150503,       0953,     9.0003,  -151.7002,       5283,   900.6,   4.8412,  34.5534,2,  34.5526,2,     46.7,2,    47.1,2,   83.60,2,   42.20,2,    0.00,2,    3.06,2,   0.004,2,   0.002,2,       0,2,  2319.3,2,  2353.1,2,   7.4066,2,    25.01,   0.003,2,   1.8799,2,   17.17,2,   4.8414, -999.00,9,  -999.0,9,  -999.0,   7.912,2,   0.020,    39.8,2, -999.00,9,     41.339,3,   15.47,2,   0.001,   0.0049,    0.20,       0.03,       3.66,2,       0.01,       0.55,2,       0.00,  -999.0,9,     -999.0,     -999.0,9,     -999.0,   4.7678,    34.7156,2,-999.0000,9,     -999.0,9
33RO20150410,     P16N.1,      85,          1,         11,         11,2,20150503,       0953,     9.0003,  -151.7002,       5283,  1150.3,   3.9662,  34.5747,2,  34.5741,2,     55.3,2,    55.2,2,  101.80,2,   42.30,2,    0.01,2,    3.09,2,  -0.001,2,  -0.001,2,       0,2,  2335.6,2,  2374.6,2,   7.4151,2,    25.01,   0.001,2,   1.8901,6,   20.64,6,   3.9655, -999.00,9,  -999.0,9,  -999.0,   7.920,6,   0.014,    39.5,2, -999.00,9,     37.542,3,   15.71,6,   0.002,   0.0035,    0.14,       0.01,       3.75,6,       0.01,       0.56,6,       0.00,  -999.0,9,     -999.0,     -999.0,9,     -999.0,   3.8780,    34.7371,2,-999.0000,9,     -999.0,9
33RO20150410,     P16N.1,      85,          1,         10,         10,2,20150503,       0953,     9.0003,  -151.7002,       5283,  1401.8,   3.2963,  34.5932,2,  34.5927,2,     68.2,2,    70.6,2,  115.50,2,   41.30,2,    0.01,2,    2.98,2,   0.004,2,   0.000,2,       0,2,  2341.1,2,  2389.7,2,   7.4421,2,    25.01,   0.006,2,   1.8968,2,   23.73,2,   3.2954, -999.00,9,  -999.0,9,  -999.0,   7.936,2,   0.020,    39.5,2, -999.00,9,     33.412,3,   15.93,2,   0.002,   0.0049,    0.20,       0.03,       3.82,2,       0.01,       0.58,2,       0.00,  -999.0,9,     -999.0,     -999.0,9,     -999.0,   3.1933,    34.7559,2,-999.0000,9,     -999.0,9
33RO20150410,     P16N.1,      85,          1,          8,          9,2,20150503,       0953,     9.0003,  -151.7002,       5283,  1868.5,   2.4287,  34.6293,2,  34.6203,2,     89.7,2,    90.6,2,  134.10,2,   40.00,2,    0.01,2,    2.86,2,-999.000,9,-999.000,9,-999.000,9,  2350.2,2,  2412.4,2,   7.4771,2,    25.02,   0.000,2,   1.9216,2,   26.63,2,   2.4298, -999.00,9,  -999.0,9,  -999.0,   8.056,2,   0.020,    37.7,2, -999.00,9,     28.380,3,   16.27,2,   0.001,   0.0050,    0.20,       0.03,       3.93,2,       0.01,       0.59,2,       0.00,  -999.0,9,     -999.0,     -999.0,9,     -999.0,   2.2971,    34.7835,3,-999.0000,9,     -999.0,9
33RO20150410,     P16N.1,      85,          1,          9,          8,2,20150503,       0953,     9.0003,  -151.7002,       5283,  1868.3,   2.4298,  34.6291,2,  34.6277,4,     89.7,2,    90.6,2,  133.90,2,   40.10,2,    0.01,2,    2.85,2,   0.000,2,  -0.001,2,       0,2,  2350.7,2,  2411.2,2,   7.4772,6,    25.02,-999.000,9,-999.0000,9, -999.00,9,   2.4301, -999.00,9,  -999.0,9,  -999.0,-999.000,9,-999.000,    37.6,2, -999.00,9,     -999.0,9, -999.00,9,-999.000,-999.0000, -999.00,     -999.0,     -999.0,9,     -999.0,     -999.0,9,     -999.0,  -999.0,9,     -999.0,     -999.0,9,     -999.0,   2.2981,    34.7910,2,-999.0000,9,     -999.0,9
33RO20150410,     P16N.1,      85,          1,          7,          7,2,20150503,       0953,     9.0003,  -151.7002,       5283,  2267.1,   1.9872,  34.6548,2,  34.6533,2,    103.9,2,   104.9,2,  143.60,2,   39.00,2,    0.01,2,    2.78,2,  -0.003,2,  -0.002,2,       0,2,  2352.9,2,  2424.4,2,   7.5050,2,    25.01,-999.000,9,-999.0000,9, -999.00,9,   1.9868, -999.00,9,  -999.0,9,  -999.0,-999.000,9,-999.000,    38.3,2, -999.00,9,     25.055,3, -999.00,9,-999.000,-999.0000, -999.00,     -999.0,     -999.0,9,     -999.0,     -999.0,9,     -999.0,  -999.0,9,     -999.0,     -999.0,9,     -999.0,   1.8279,    34.8167,2,-999.0000,9,     -999.0,9
33RO20150410,     P16N.1,      85,          1,          6,          6,2,20150503,       0953,     9.0003,  -151.7002,       5283,  2733.8,   1.7761,  34.6699,2,  34.6683,2,    115.5,2,   116.6,2,  147.60,2,   38.20,2,    0.01,2,    2.71,2,   0.005,3,   0.001,2,       0,2,  2352.2,2,  2430.8,2,   7.5275,2,    25.01,-999.000,9,-999.0000,9, -999.00,9,   1.7759, -999.00,9,  -999.0,9,  -999.0,-999.000,9,-999.000,    37.2,2, -999.00,9,     22.990,3, -999.00,9,-999.000,-999.0000, -999.00,     -999.0,     -999.0,9,     -999.0,     -999.0,9,     -999.0,  -999.0,9,     -999.0,     -999.0,9,     -999.0,   1.5785,    34.8318,2,-999.0000,9,     -999.0,9
33RO20150410,     P16N.1,      85,          1,          5,          5,2,20150503,       0953,     9.0003,  -151.7002,       5283,  3233.1,   1.5906,  34.6805,2,  34.6787,2,    130.6,2,   132.1,2,  148.40,2,   37.30,2,    0.00,2,    2.63,2,   0.000,2,   0.000,2,       0,2,  2343.6,2,  2431.5,2,   7.5531,6,    25.02,-999.000,9,-999.0000,9, -999.00,9,   1.5904, -999.00,9,  -999.0,9,  -999.0,-999.000,9,-999.000,    38.6,2, -999.00,9,     21.541,3, -999.00,9,-999.000,-999.0000, -999.00,     -999.0,     -999.0,9,     -999.0,     -999.0,9,     -999.0,  -999.0,9,     -999.0,     -999.0,9,     -999.0,   1.3491,    34.8423,2,-999.0000,9,     -999.0,9
33RO20150410,     P16N.1,      85,          1,          4,          4,2,20150503,       0953,     9.0003,  -151.7002,       5283,  3732.5,   1.4530,  34.6893,2,  34.6886,2,    151.2,2,   151.5,2,  140.90,6,   35.90,6,    0.01,6,    2.53,6,  -0.002,2,  -0.001,2,       0,2,  2326.0,2,  2423.0,2,   7.5797,2,    25.00,-999.000,9,-999.0000,9, -999.00,9,   1.4530, -999.00,9,  -999.0,9,  -999.0,-999.000,9,-999.000,    39.6,2, -999.00,9,     20.458,3, -999.00,9,-999.000,-999.0000, -999.00,     -999.0,     -999.0,9,     -999.0,     -999.0,9,     -999.0,  -999.0,9,     -999.0,     -999.0,9,     -999.0,   1.1639,    34.8521,2,-999.0000,9,     -999.0,9
33RO20150410,     P16N.1,      85,          1,          3,          3,2,20150503,       0953,     9.0003,  -151.7002,       5283,  4233.7,   1.3780,  34.6959,2,  34.6946,2,    165.5,2,   165.9,2,  134.10,6,   34.80,6,    0.01,6,    2.46,6,  -0.001,6,  -0.001,6,       0,6,  2312.1,2,  2413.9,6,   7.5956,2,    25.03,-999.000,9,-999.0000,9, -999.00,9,   1.3780, -999.00,9,  -999.0,9,  -999.0,-999.000,9,-999.000,    38.6,2, -999.00,9,     19.727,3, -999.00,9,-999.000,-999.0000, -999.00,     -999.0,     -999.0,9,     -999.0,     -999.0,9,     -999.0,  -999.0,9,     -999.0,     -999.0,9,     -999.0,   1.0368,    34.8582,2,-999.0000,9,     -999.0,9
33RO20150410,     P16N.1,      85,          1,          2,          2,2,20150503,       0953,     9.0003,  -151.7002,       5283,  4732.8,   1.3988,  34.6973,2,  34.6942,2,    170.5,2,   170.1,2,  131.90,6,   34.50,6,    0.01,6,    2.43,6,   0.001,2,   0.001,2,       0,2,  2307.5,2,  2410.3,2,   7.5970,2,    25.02,-999.000,9,-999.0000,9, -999.00,9,   1.3986, -999.00,9,  -999.0,9,  -999.0,-999.000,9,-999.000,    38.7,2, -999.00,9,     19.557,3, -999.00,9,-999.000,-999.0000, -999.00,     -999.0,     -999.0,9,     -999.0,     -999.0,9,     -999.0,  -999.0,9,     -999.0,     -999.0,9,     -999.0,   0.9998,    34.8578,3,-999.0000,9,     -999.0,9
33RO20150410,     P16N.1,      85,          1,          1,          1,2,20150503,       0953,     9.0003,  -151.7002,       5283,  5273.1,   1.4548,  34.6974,2,  34.6962,2,    171.9,2,   172.0,2,  131.00,6,   34.40,6,    0.02,6,    2.43,6,  -0.001,2,   0.001,2,       0,2,  2305.2,6,  2407.2,2,   7.5973,6,    25.02,-999.000,9,-999.0000,9, -999.00,9,   1.4545, -999.00,9,  -999.0,9,  -999.0,-999.000,9,-999.000,    37.8,2, -999.00,9,     19.466,3, -999.00,9,-999.000,-999.0000, -999.00,     -999.0,     -999.0,9,     -999.0,     -999.0,9,     -999.0,  -999.0,9,     -999.0,     -999.0,9,     -999.0,   0.9883,    34.8599,2,-999.0000,9,     -999.0,9