BOTTLE,20210709CCHSIOCBG
EXPOCODE,SECT_ID,STNNBR,CASTNO,SAMPNO,BTLNBR,BTLNBR_FLAG_W,DATE,TIME,LATITUDE,LONGITUDE,DEPTH,CTDPRS,CTDTMP,CTDSAL,CTDSAL_FLAG_W,SALNTY,SALNTY_FLAG_W,CTDOXY,CTDOXY_FLAG_W,OXYGEN,OXYGEN_FLAG_W,SILCAT,SILCAT_FLAG_W,NITRAT,NITRAT_FLAG_W,NITRIT,NITRIT_FLAG_W,PHSPHT,PHSPHT_FLAG_W,CFC-11,CFC-11_FLAG_W,CFC-12,CFC-12_FLAG_W,SF6,SF6_FLAG_W,TCARBN,TCARBN_FLAG_W,ALKALI,ALKALI_FLAG_W,PH_TOT,PH_TOT_FLAG_W,PH_TMP,TRITUM,TRITUM_FLAG_W,HELIUM,HELIUM_FLAG_W,DELHE3,DELHE3_FLAG_W,REFTMP,DELC13,DELC13_FLAG_W,DELC14,DELC14_FLAG_W,C14ERR,NEON,NEON_FLAG_W,NEONER,DOC,DOC_FLAG_W,TDN,TDN_FLAG_W,N2O,N2O_FLAG_W,ARGON,ARGON_FLAG_W,TRITER,HELIER,DELHER,ARGONER,KRYPTON,KRYPTON_FLAG_W,KRYPTONER,XENON,XENON_FLAG_W,XENONER,14C-DOC,14C-DOC_FLAG_W,14C-DOCERR,13C-DOC,13C-DOC_FLAG_W,13C-DOCERR,THETA,SALTREF,SALTREF_FLAG_W,SBE35,SBE35_FLAG_W,CHLORA,CHLORA_FLAG_W
,,,,,,,,,,,METERS,DBAR,ITS-90,PSS-78,,PSS-78,,UMOL/KG,,UMOL/KG,,UMOL/KG,,UMOL/KG,,UMOL/KG,,UMOL/KG,,PMOL/KG,,PMOL/KG,,FMOL/KG,,UMOL/KG,,UMOL/KG,,,,DEG C,TU,,NMOL/KG,,PERCNT,,DEG C,/MILLE,,/MILLE,,/MILLE,NMOL/KG,,NMOL/KG,UMOL/KG,,UMOL/KG,,NMOL/KG,,UMOL/KG,,TU,NMOL/KG,PERCNT,UMOL/KG,NMOL/KG,,NMOL/KG,NMOL/KG,,NMOL/KG,/MILLE,,/MILLE,/MILLE,,/MILLE,DEG C,G/KG,,ITS-90,,MG/M3,
33RO20150410,     P16N.1,       3,          1,         24,         24,2,20150411,       1918,   -15.4970,  -150.1972,       4375,    15.4,  29.1751,  35.8393,2,  35.8356,2,    193.0,2,   193.7,2,    0.70,2,    0.00,2,    0.01,2,    0.09,4,   1.326,3,   0.915,2,   1.182,2,  1999.3,6,  2361.4,2,   8.1191,6,    25.00,-999.000,9,-999.0000,9, -999.00,9,  29.1732, -999.00,9,  -999.0,9,  -999.0,-999.000,9,-999.000,    78.2,2,    5.00,2,      5.801,3, -999.00,9,-999.000,-999.0000, -999.00,     -999.0,     -999.0,9,     -999.0,     -999.0,9,     -999.0,  -999.0,9,     -999.0,     -999.0,9,     -999.0,  29.1714,    36.0045,2,-999.0000,2,      0.065,2
33RO20150410,     P16N.1,       3,          1,         23,         23,2,20150411,       1918,   -15.4970,  -150.1972,       4375,    33.4,  29.1078,  35.8409,2,  35.8383,2,    193.0,2,   193.1,2,    0.60,2,    0.00,2,    0.00,2,    0.09,4,   1.347,3,   0.923,6,   1.264,6,  1998.3,2,  2360.8,2,   8.1184,6,    25.02,-999.000,9,-999.0000,9, -999.00,9,  29.1068, -999.00,9,  -999.0,9,  -999.0,-999.000,9,-999.000,    76.5,2,    5.20,2,      5.740,3, -999.00,9,-999.000,-999.0000, -999.00,     -999.0,     -999.0,9,     -999.0,     -999.0,9,     -999.0,  -999.0,9,     -999.0,     -999.0,9,     -999.0,  29.0997,    36.0073,2,-999.0000,2,      0.054,2
33RO20150410,     P16N.1,       3,          1,         22,         22,2,20150411,       1918,   -15.4970,  -150.1972,       4375,    58.7,  28.6853,  35.9562,2,  35.9618,2,    198.1,2,   200.2,2,    0.60,2,    0.00,2,    0.01,2,    0.10,4,   1.390,3,   0.948,2,   1.389,2,  2008.4,2,  2370.0,6,   8.1140,2,    25.01,-999.000,9,-999.0000,9, -999.00,9,  28.6735, -999.00,9,  -999.0,9,  -999.0,-999.000,9,-999.000,    75.7,2,    5.20,2,      5.966,3, -999.00,9,-999.000,-999.0000, -999.00,     -999.0,     -999.0,9,     -999.0,     -999.0,9,     -999.0,  -999.0,9,     -999.0,     -999.0,9,     -999.0,  28.6712,    36.1314,2,-999.0000,2,      0.083,2
33RO20150410,     P16N.1,       3,          1,         21,         21,2,20150411,       1918,   -15.4970,  -150.1972,       4375,    84.0,  26.9585,  36.2040,2,  36.1982,2,    201.9,2,   202.7,2,    0.60,2,    0.00,2,    0.01,2,    0.11,4,   1.592,3,   1.019,2,   1.291,2,  2034.0,2,  2385.5,2,   8.0915,2,    25.01,-999.000,9,-999.0000,9, -999.00,9,  26.9538, -999.00,9,  -999.0,9,  -999.0,-999.000,9,-999.000,    76.2,2,    5.40,2,      6.297,3, -999.00,9,-999.000,-999.0000, -999.00,     -999.0,     -999.0,9,     -999.0,     -999.0,9,     -999.0,  -999.0,9,     -999.0,     -999.0,9,     -999.0,  26.9392,    36.3689,2,-999.0000,2,      0.149,2
33RO20150410,     P16N.1,       3,          1,         20,         20,2,20150411,       1918,   -15.4970,  -150.1972,       4375,   108.0,  25.8082,  36.2507,2,  36.2496,2,    193.5,2,   193.9,2,    0.60,2,    0.00,2,    0.02,2,    0.13,4,   1.541,3,   1.059,2,   1.389,2,  2052.1,2,  2389.5,2,   8.0686,6,    25.00,-999.000,9,-999.0000,9, -999.00,9,  25.7961, -999.00,9,  -999.0,9,  -999.0,-999.000,9,-999.000,    69.5,2,    4.30,2,      6.399,3, -999.00,9,-999.000,-999.0000, -999.00,     -999.0,     -999.0,9,     -999.0,     -999.0,9,     -999.0,  -999.0,9,     -999.0,     -999.0,9,     -999.0,  25.7841,    36.4206,2,-999.0000,2,      0.209,2
33RO20150410,     P16N.1,       3,          1,         19,         19,2,20150411,       1918,   -15.4970,  -150.1972,       4375,   133.5,  25.1058,  36.2929,2,  36.2904,2,    180.9,2,   181.5,2,    0.70,2,    0.70,2,    0.56,2,    0.18,4,   1.586,3,   1.082,2,   1.262,2,  2073.0,2,  2391.2,2,   8.0406,2,    25.01,-999.000,9,-999.0000,9, -999.00,9,  25.0963, -999.00,9,  -999.0,9,  -999.0,-999.000,9,-999.000,    68.1,2,    6.20,2,      6.694,3, -999.00,9,-999.000,-999.0000, -999.00,     -999.0,     -999.0,9,     -999.0,     -999.0,9,     -999.0,  -999.0,9,     -999.0,     -999.0,9,     -999.0,  25.0766,    36.4615,2,-999.0000,2,      0.230,2
33RO20150410,     P16N.1,       3,          1,         18,         18,2,20150411,       1918,   -15.4970,  -150.1972,       4375,   168.3,  23.6212,  36.2286,2,  36.2273,2,    170.5,2,   172.5,2,    0.70,2,    3.10,2,    0.06,2,    0.23,4,   1.701,3,   1.145,2,   1.549,3,  2093.2,2,  2385.3,2,   8.0008,6,    25.01,-999.000,9,-999.0000,9, -999.00,9,  23.5826, -999.00,9,  -999.0,9,  -999.0,-999.000,9,-999.000,    64.4,2,    7.80,2,      6.991,3, -999.00,9,-999.000,-999.0000, -999.00,     -999.0,     -999.0,9,     -999.0,     -999.0,9,     -999.0,  -999.0,9,     -999.0,     -999.0,9,     -999.0,  23.5860,    36.3981,2,-999.0000,3,      0.110,2
33RO20150410,     P16N.1,       3,          1,         17,         17,3,20150411,       1918,   -15.4970,  -150.1972,       4375,   225.6,  21.4832,  35.9818,2,  35.9759,2,    172.2,2,   173.0,2,    0.70,2,    4.10,2,    0.01,2,    0.26,4,   1.878,3,   1.234,2,   1.189,2,  -999.0,9,  -999.0,9,-999.0000,9,  -999.00,-999.000,9,-999.0000,9, -999.00,9,  21.4830, -999.00,9,  -999.0,9,  -999.0,-999.000,9,-999.000,    52.4,2,    7.20,2,      8.058,3, -999.00,9,-999.000,-999.0000, -999.00,     -999.0,     -999.0,9,     -999.0,     -999.0,9,     -999.0,  -999.0,9,     -999.0,     -999.0,9,     -999.0,  21.4391,    36.1455,2,-999.0000,3,      0.020,2
33RO20150410,     P16N.1,       3,          1,         16,         16,2,20150411,       1918,   -15.4970,  -150.1972,       4375,   300.0,  17.4955,  35.3788,2,  35.3807,2,    166.4,2,   166.3,2,    2.10,2,    8.10,2,    0.01,2,    0.42,4,   2.168,3,   1.368,2,   1.138,2,  2115.5,6,  2332.4,2,   7.8682,2,    25.00,-999.000,9,-999.0000,9, -999.00,9,  17.4947, -999.00,9,  -999.0,9,  -999.0,-999.000,9,-999.000,    50.8,2,   10.30,2,     12.779,3, -999.00,9,-999.000,-999.0000, -999.00,     -999.0,     -999.0,9,     -999.0,     -999.0,9,     -999.0,  -999.0,9,     -999.0,     -999.0,9,     -999.0,  17.4447,    35.5475,2,-999.0000,2,     -999.0,9
33RO20150410,     P16N.1,       3,          1,         15,         15,2,20150411,       1918,   -15.4970,  -150.1972,       4375,   375.1,  13.3515,  34.8513,2,  34.8497,2,    135.1,2,   133.5,2,    7.10,2,   16.30,2,    0.01,2,    0.83,4,   2.097,3,   1.235,2,   0.851,2,  2154.8,2,  2300.9,2,   7.7202,2,    25.01,-999.000,9,-999.0000,9, -999.00,9,  13.3437, -999.00,9,  -999.0,9,  -999.0,-999.000,9,-999.000,    50.7,2, -999.00,9,     23.349,3, -999.00,9,-999.000,-999.0000, -999.00,     -999.0,     -999.0,9,     -999.0,     -999.0,9,     -999.0,  -999.0,9,     -999.0,     -999.0,9,     -999.0,  13.2987,    35.0140,2,-999.0000,2,     -999.0,9
33RO20150410,     P16N.1,       3,          1,         14,         14,2,20150411,       1918,   -15.4970,  -150.1972,       4375,   449.6,   9.7946,  34.5797,2,  34.5826,2,    104.2,2,   103.8,2,   17.00,2,   26.40,2,    0.01,2,    1.29,4,   1.258,3,   0.720,2,   0.309,2,  2200.3,2,  2291.9,2,   7.5732,6,    25.01,-999.000,9,-999.0000,9, -999.00,9,   9.7905, -999.00,9,  -999.0,9,  -999.0,-999.000,9,-999.000,    45.0,2, -999.00,9,     33.771,3, -999.00,9,-999.000,-999.0000, -999.00,     -999.0,     -999.0,9,     -999.0,     -999.0,9,     -999.0,  -999.0,9,     -999.0,     -999.0,9,     -999.0,   9.7427,    34.7457,6,-999.0000,3,     -999.0,9
33RO20150410,     P16N.1,       3,          1,         13,         13,2,20150411,       1918,   -15.4970,  -150.1972,       4375,   550.6,   7.7400,  34.5058,2,  34.5070,2,    122.8,2,   122.9,2,   24.80,2,   30.10,2,    0.00,2,    1.46,4,   0.684,3,   0.393,2,   0.149,2,  2208.1,2,  2296.1,2,   7.5684,2,    25.01,-999.000,9,-999.0000,9, -999.00,9,   7.7375, -999.00,9,  -999.0,9,  -999.0,-999.000,9,-999.000,    42.8,2, -999.00,9,     31.487,3, -999.00,9,-999.000,-999.0000, -999.00,     -999.0,     -999.0,9,     -999.0,     -999.0,9,     -999.0,  -999.0,9,     -999.0,     -999.0,9,     -999.0,   7.6845,    34.6698,2,-999.0000,3,     -999.0,9
33RO20150410,     P16N.1,       3,          1,         12,         12,2,20150411,       1918,   -15.4970,  -150.1972,       4375,   700.8,   5.7422,  34.4646,2,  34.4663,2,    136.9,2,   136.8,2,   40.90,2,   33.40,2,    0.01,2,    1.80,4,   0.273,3,   0.145,2,   0.022,2,  2225.1,2,  2311.0,2,   7.5625,2,    25.01,-999.000,9,-999.0000,9, -999.00,9,   5.7404, -999.00,9,  -999.0,9,  -999.0,-999.000,9,-999.000,    40.3,2, -999.00,9,     27.904,3, -999.00,9,-999.000,-999.0000, -999.00,     -999.0,     -999.0,9,     -999.0,     -999.0,9,     -999.0,  -999.0,9,     -999.0,     -999.0,9,     -999.0,   5.6814,    34.6289,2,-999.0000,2,     -999.0,9
33RO20150410,     P16N.1,       3,          1,         11,         11,2,20150411,       1918,   -15.4970,  -150.1972,       4375,   849.4,   4.7454,  34.4889,2,  34.4917,2,    133.2,2,   132.8,2,   58.20,2,   35.20,2,    0.00,2,    2.12,4,   0.115,3,   0.053,2,       0,2,  2245.7,2,  2328.3,2,   7.5472,2,    25.02,-999.000,9,-999.0000,9, -999.00,9,   4.7452, -999.00,9,  -999.0,9,  -999.0,-999.000,9,-999.000,    41.5,2, -999.00,9,     27.238,3, -999.00,9,-999.000,-999.0000, -999.00,     -999.0,     -999.0,9,     -999.0,     -999.0,9,     -999.0,  -999.0,9,     -999.0,     -999.0,9,     -999.0,   4.6772,    34.6543,2,-999.0000,2,     -999.0,9
33RO20150410,     P16N.1,       3,          1,         10,         10,2,20150411,       1918,   -15.4970,  -150.1972,       4375,  1000.2,   4.1859,  34.5057,2,  34.5060,2,    135.9,2,   136.8,2,   68.10,2,   35.40,2,    0.00,2,    2.27,4,   0.046,3,   0.030,2,       0,2,  2254.8,2,  2338.6,2,   7.5523,3,    25.00,-999.000,9,-999.0000,9, -999.00,9,   4.1856, -999.00,9,  -999.0,9,  -999.0,-999.000,9,-999.000,    40.2,2, -999.00,9,     25.801,3, -999.00,9,-999.000,-999.0000, -999.00,     -999.0,     -999.0,9,     -999.0,     -999.0,9,     -999.0,  -999.0,9,     -999.0,     -999.0,9,     -999.0,   4.1088,    34.6687,2,-999.0000,3,     -999.0,9
33RO20150410,     P16N.1,       3,          1,          9,          9,2,20150411,       1918,   -15.4970,  -150.1972,       4375,  1166.5,   3.6105,  34.5329,2,  34.5335,2,    137.5,2,   138.3,2,   80.10,2,   36.00,2,    0.01,2,    2.46,4,   0.023,3,   0.012,2,       0,2,  2267.5,2,  2351.5,2,   7.5507,2,    25.00,-999.000,9,-999.0000,9, -999.00,9,   3.6118, -999.00,9,  -999.0,9,  -999.0,-999.000,9,-999.000,    39.4,2, -999.00,9,     24.918,3, -999.00,9,-999.000,-999.0000, -999.00,     -999.0,     -999.0,9,     -999.0,     -999.0,9,     -999.0,  -999.0,9,     -999.0,     -999.0,9,     -999.0,   3.5242,    34.6963,2,-999.0000,3,     -999.0,9
33RO20150410,     P16N.1,       3,          1,          8,          8,2,20150411,       1918,   -15.4970,  -150.1972,       4375,  1400.0,   3.0985,  34.5601,2,  34.5598,2,    141.4,2,   141.7,2,   91.10,2,   35.80,2,    0.01,2,    2.62,4,   0.010,3,   0.009,2,   0.117,3,  2276.1,2,  2363.3,2,   7.5538,2,    25.01,-999.000,9,-999.0000,9, -999.00,9,   3.0996, -999.00,9,  -999.0,9,  -999.0,-999.000,9,-999.000,    38.3,2, -999.00,9,     24.009,3, -999.00,9,-999.000,-999.0000, -999.00,     -999.0,     -999.0,9,     -999.0,     -999.0,9,     -999.0,  -999.0,9,     -999.0,     -999.0,9,     -999.0,   2.9979,    34.7228,2,-999.0000,3,     -999.0,9
33RO20150410,     P16N.1,       3,          1,          7,          7,2,20150411,       1918,   -15.4970,  -150.1972,       4375,  1732.7,   2.5346,  34.6019,2,  34.6050,2,    144.3,2,   147.3,2,  105.20,2,   35.80,2,    0.01,2,    2.86,4,   0.008,3,   0.004,2,       0,2,  2288.7,2,  2378.5,2,   7.5609,2,    25.01,-999.000,9,-999.0000,9, -999.00,9,   2.5351, -999.00,9,  -999.0,9,  -999.0,-999.000,9,-999.000,    41.6,3, -999.00,9,     22.915,3, -999.00,9,-999.000,-999.0000, -999.00,     -999.0,     -999.0,9,     -999.0,     -999.0,9,     -999.0,  -999.0,9,     -999.0,     -999.0,9,     -999.0,   2.4130,    34.7682,2,-999.0000,3,     -999.0,9
33RO20150410,     P16N.1,       3,          1,          6,          6,2,20150411,       1918,   -15.4970,  -150.1972,       4375,  2133.7,   2.0804,  34.6400,2,  34.6412,2,    150.0,2,   151.2,2,  117.50,2,   35.50,2,    0.00,2,    3.02,4,   0.002,3,   0.001,2,       0,2,  2298.6,2,  2391.9,2,   7.5699,2,    25.01,-999.000,9,-999.0000,9, -999.00,9,   2.0803, -999.00,9,  -999.0,9,  -999.0,-999.000,9,-999.000,    39.0,2, -999.00,9,     21.828,3, -999.00,9,-999.000,-999.0000, -999.00,     -999.0,     -999.0,9,     -999.0,     -999.0,9,     -999.0,  -999.0,9,     -999.0,     -999.0,9,     -999.0,   1.9313,    34.8045,2,-999.0000,2,     -999.0,9
33RO20150410,     P16N.1,       3,          1,          5,          5,2,20150411,       1918,   -15.4970,  -150.1972,       4375,  2532.7,   1.8609,  34.6591,2,  34.6607,2,    155.8,2,   156.1,2,  122.90,2,   35.40,2,    0.00,2,    3.09,4,   0.008,3,   0.002,2,       0,2,  2301.4,2,  2396.3,2,   7.5761,2,    25.00,-999.000,9,-999.0000,9, -999.00,9,   1.8609, -999.00,9,  -999.0,9,  -999.0,-999.000,9,-999.000,    38.6,2, -999.00,9,     21.234,3, -999.00,9,-999.000,-999.0000, -999.00,     -999.0,     -999.0,9,     -999.0,     -999.0,9,     -999.0,  -999.0,9,     -999.0,     -999.0,9,     -999.0,   1.6802,    34.8242,2,-999.0000,2,     -999.0,9
33RO20150410,     P16N.1,       3,          1,          4,          4,2,20150411,       1918,   -15.4970,  -150.1972,       4375,  2933.3,   1.7211,  34.6728,2,  34.6736,2,    159.1,2,   158.9,2,  126.40,6,   35.20,6,    0.00,6,    3.12,4,   0.000,3,   0.002,2,       0,2,  2302.2,2,  2399.8,2,   7.5817,2,    25.01,-999.000,9,-999.0000,9, -999.00,9,   1.7211, -999.00,9,  -999.0,9,  -999.0,-999.000,9,-999.000,    35.6,2, -999.00,9,     20.780,3, -999.00,9,-999.000,-999.0000, -999.00,     -999.0,     -999.0,9,     -999.0,     -999.0,9,     -999.0,  -542.8,2,        4.0,      -22.1,2,        0.2,   1.5058,    34.8371,2,-999.0000,2,     -999.0,9
33RO20150410,     P16N.1,       3,          1,          3,          3,2,20150411,       1918,   -15.4970,  -150.1972,       4375,  3333.2,   1.5509,  34.6844,2,  34.6844,2,    170.3,2,   170.3,2,  125.40,6,   34.40,6,    0.01,6,    3.07,4,  -0.005,3,   0.000,2,       0,2,  2294.1,2,  2393.9,6,   7.5887,2,    25.01,-999.000,9,-999.0000,9, -999.00,9,   1.5511, -999.00,9,  -999.0,9,  -999.0,-999.000,9,-999.000,    37.5,2, -999.00,9,     20.123,3, -999.00,9,-999.000,-999.0000, -999.00,     -999.0,     -999.0,9,     -999.0,     -999.0,9,     -999.0,  -999.0,9,     -999.0,     -999.0,9,     -999.0,   1.3003,    34.8480,2,-999.0000,2,     -999.0,9
33RO20150410,     P16N.1,       3,          1,          2,          2,2,20150411,       1918,   -15.4970,  -150.1972,       4375,  3733.2,   1.4661,  34.6918,2,  34.6924,2,    177.3,2,   177.6,2,  124.00,6,   33.90,6,    0.00,6,    3.04,4,   0.000,3,   0.000,2,       0,2,  2287.3,2,  2390.1,2,   7.5951,6,    25.02,-999.000,9,-999.0000,9, -999.00,9,   1.4659, -999.00,9,  -999.0,9,  -999.0,-999.000,9,-999.000,    39.0,2, -999.00,9,     19.828,3, -999.00,9,-999.000,-999.0000, -999.00,     -999.0,     -999.0,9,     -999.0,     -999.0,9,     -999.0,  -999.0,9,     -999.0,     -999.0,9,     -999.0,   1.1766,    34.8560,6,-999.0000,2,     -999.0,9
33RO20150410,     P16N.1,       3,          1,          1,          1,2,20150411,       1918,   -15.4970,  -150.1972,       4375,  4365.9,   1.4061,  34.6979,2,  34.6978,2,    184.3,2,   185.1,2,  123.40,6,   33.50,6,    0.03,6,    3.02,4,  -0.003,3,   0.005,3,   0.173,3,  2281.7,6,  2385.4,2,   7.6005,2,    25.01,-999.000,9,-999.0000,9, -999.00,9,   1.4058, -999.00,9,  -999.0,9,  -999.0,-999.000,9,-999.000,    43.7,3, -999.00,9,     19.311,3, -999.00,9,-999.000,-999.0000, -999.00,     -999.0,     -999.0,9,     -999.0,     -999.0,9,     -999.0,  -999.0,9,     -999.0,     -999.0,9,     -999.0,   1.0492,    34.8614,2,-999.0000,2,     -999.0,9