BOTTLE,20210709CCHSIOCBG
EXPOCODE,SECT_ID,STNNBR,CASTNO,SAMPNO,BTLNBR,BTLNBR_FLAG_W,DATE,TIME,LATITUDE,LONGITUDE,DEPTH,CTDPRS,CTDTMP,CTDSAL,CTDSAL_FLAG_W,SALNTY,SALNTY_FLAG_W,CTDOXY,CTDOXY_FLAG_W,OXYGEN,OXYGEN_FLAG_W,SILCAT,SILCAT_FLAG_W,NITRAT,NITRAT_FLAG_W,NITRIT,NITRIT_FLAG_W,PHSPHT,PHSPHT_FLAG_W,CFC-11,CFC-11_FLAG_W,CFC-12,CFC-12_FLAG_W,SF6,SF6_FLAG_W,TCARBN,TCARBN_FLAG_W,ALKALI,ALKALI_FLAG_W,PH_TOT,PH_TOT_FLAG_W,PH_TMP,TRITUM,TRITUM_FLAG_W,HELIUM,HELIUM_FLAG_W,DELHE3,DELHE3_FLAG_W,REFTMP,DELC13,DELC13_FLAG_W,DELC14,DELC14_FLAG_W,C14ERR,NEON,NEON_FLAG_W,NEONER,DOC,DOC_FLAG_W,TDN,TDN_FLAG_W,N2O,N2O_FLAG_W,ARGON,ARGON_FLAG_W,TRITER,HELIER,DELHER,ARGONER,KRYPTON,KRYPTON_FLAG_W,KRYPTONER,XENON,XENON_FLAG_W,XENONER,14C-DOC,14C-DOC_FLAG_W,14C-DOCERR,13C-DOC,13C-DOC_FLAG_W,13C-DOCERR,THETA,SALTREF,SALTREF_FLAG_W,SBE35,SBE35_FLAG_W,CHLORA,CHLORA_FLAG_W
,,,,,,,,,,,METERS,DBAR,ITS-90,PSS-78,,PSS-78,,UMOL/KG,,UMOL/KG,,UMOL/KG,,UMOL/KG,,UMOL/KG,,UMOL/KG,,PMOL/KG,,PMOL/KG,,FMOL/KG,,UMOL/KG,,UMOL/KG,,,,DEG C,TU,,NMOL/KG,,PERCNT,,DEG C,/MILLE,,/MILLE,,/MILLE,NMOL/KG,,NMOL/KG,UMOL/KG,,UMOL/KG,,NMOL/KG,,UMOL/KG,,TU,NMOL/KG,PERCNT,UMOL/KG,NMOL/KG,,NMOL/KG,NMOL/KG,,NMOL/KG,/MILLE,,/MILLE,/MILLE,,/MILLE,DEG C,G/KG,,ITS-90,,MG/M3,
33RO20150410,     P16N.1,      97,          1,         24,         24,2,20150507,       0400,    15.0005,  -152.0000,       5765,     3.5,  26.0000,  34.2744,2,  34.2737,2,    201.3,2,   202.7,2,    1.00,2,    0.00,2,    0.00,2,    0.24,2,   1.627,2,   1.030,2,   1.429,2,  1950.6,2,  2258.8,6,   8.0695,6,    25.00,   0.381,2,   1.7048,2,   -1.26,2,  25.9999, -999.00,9,  -999.0,9,  -999.0,   6.672,2,   0.017,    72.1,2,    4.70,2,      6.441,3,   10.10,2,   0.002,   0.0044,    0.20,       0.02,       2.17,2,       0.01,       0.29,2,       0.00,  -999.0,9,     -999.0,     -999.0,9,     -999.0,  25.9992,    34.4353,2,-999.0000,2,     -999.0,9
33RO20150410,     P16N.1,      97,          1,         23,         23,2,20150507,       0400,    15.0005,  -152.0000,       5765,    24.0,  26.0008,  34.2745,2,  34.2819,2,    201.8,2,   202.9,2,    1.10,2,    0.10,2,    0.00,2,    0.23,2,   1.620,6,   1.036,6,   1.353,6,  1950.0,2,  2259.1,2,   8.0699,6,    24.99,   0.370,2,-999.0000,9, -999.00,9,  26.0020, -999.00,9,  -999.0,9,  -999.0,-999.000,9,-999.000,    70.8,2,    3.80,2,      6.437,3, -999.00,9,   0.002,-999.0000, -999.00,     -999.0,     -999.0,9,     -999.0,     -999.0,9,     -999.0,  -999.0,9,     -999.0,     -999.0,9,     -999.0,  25.9955,    34.4436,2,-999.0000,2,     -999.0,9
33RO20150410,     P16N.1,      97,          1,         22,         22,2,20150507,       0400,    15.0005,  -152.0000,       5765,    50.8,  26.0028,  34.2749,2,  34.2743,2,    202.4,2,   201.9,2,    1.10,2,    0.00,2,    0.00,2,    0.24,2,   1.612,2,   1.030,2,   1.366,2,  1950.4,2,  2259.5,2,   8.0695,6,    25.00,   0.353,2,-999.0000,9, -999.00,9,  26.0058, -999.00,9,  -999.0,9,  -999.0,-999.000,9,-999.000,    72.8,2,    4.60,2,      6.531,3, -999.00,9,   0.003,-999.0000, -999.00,     -999.0,     -999.0,9,     -999.0,     -999.0,9,     -999.0,  -999.0,9,     -999.0,     -999.0,9,     -999.0,  25.9915,    34.4359,2,-999.0000,2,     -999.0,9
33RO20150410,     P16N.1,      97,          1,         21,         21,2,20150507,       0400,    15.0005,  -152.0000,       5765,    80.3,  25.9577,  34.2803,2,  34.2853,2,    202.6,2,   202.2,2,    1.10,2,    0.00,2,    0.00,2,    0.24,2,   1.622,2,   1.032,2,   1.343,2,  1953.4,2,  2261.0,2,   8.0668,2,    24.97,   0.370,2,   1.7155,2,   -1.01,2,  25.9533, -999.00,9,  -999.0,9,  -999.0,   6.705,2,   0.017,    71.5,2,    4.50,2,      6.554,3,   10.22,2,   0.003,   0.0045,    0.20,       0.02,       2.19,2,       0.01,       0.29,2,       0.00,  -999.0,9,     -999.0,     -999.0,9,     -999.0,  25.9399,    34.4470,2,-999.0000,2,     -999.0,9
33RO20150410,     P16N.1,      97,          1,         20,         20,2,20150507,       0400,    15.0005,  -152.0000,       5765,   130.6,  18.6896,  34.4865,2,  34.4859,2,    185.4,2,   183.1,2,    4.00,2,    2.90,2,    0.30,2,    0.64,2,   2.276,2,   1.372,2,    1.42,2,  2074.2,2,  2287.0,2,   7.8782,2,    24.97,   0.514,2,   1.7423,2,   -0.20,2,  18.7049, -999.00,9,  -999.0,9,  -999.0,   7.056,2,   0.018,    59.4,2,    6.90,2,     20.555,3,   11.82,2,   0.004,   0.0045,    0.20,       0.02,       2.64,2,       0.01,       0.37,2,       0.00,  -999.0,9,     -999.0,     -999.0,9,     -999.0,  18.6667,    34.6485,2,-999.0000,2,     -999.0,9
33RO20150410,     P16N.1,      97,          1,         19,         19,2,20150507,       0400,    15.0005,  -152.0000,       5765,   198.5,  12.1495,  34.2059,2,  34.2126,2,    130.8,2,   106.3,2,   18.50,2,   19.10,2,    0.01,2,    1.73,2,   2.514,2,   1.423,2,   1.041,2,  2169.5,2,  2264.6,2,   7.5955,6,    25.02,   0.396,2,   1.7744,2,    4.10,2,  12.1524, -999.00,9,  -999.0,9,  -999.0,   7.410,2,   0.018,    46.5,2,   22.10,2,     45.174,3,   13.32,2,   0.003,   0.0046,    0.20,       0.02,       3.07,2,       0.01,       0.44,2,       0.00,  -999.0,9,     -999.0,     -999.0,9,     -999.0,  12.1236,    34.3739,2,-999.0000,2,     -999.0,9
33RO20150410,     P16N.1,      97,          1,         18,         18,2,20150507,       0400,    15.0005,  -152.0000,       5765,   269.4,  10.3493,  34.4855,2,  34.4853,2,     35.1,2,    29.9,2,   33.80,2,   27.50,2,    0.01,2,    2.52,2,   1.205,2,   0.640,2,   0.254,2,  2252.6,2,  2292.6,2,   7.4209,6,    25.00,   0.235,2,   1.7903,2,    8.73,2,  10.3468, -999.00,9,  -999.0,9,  -999.0,   7.507,2,   0.019,    45.0,2,   30.40,2,     37.995,3,   13.82,2,   0.002,   0.0047,    0.20,       0.03,       3.20,2,       0.01,       0.46,2,       0.00,  -999.0,9,     -999.0,     -999.0,9,     -999.0,  10.3174,    34.6480,2,-999.0000,2,     -999.0,9
33RO20150410,     P16N.1,      97,          1,         17,         17,2,20150507,       0400,    15.0005,  -152.0000,       5765,   361.0,   8.8452,  34.4889,2,  34.4879,2,     13.1,2,    12.8,2,   43.50,2,   33.00,2,    0.00,2,    2.77,2,   0.426,6,   0.221,6,   0.083,6,  2276.5,2,  2300.8,2,   7.3692,2,    24.97,   0.133,2,   1.8056,2,    9.65,2,   8.8447, -999.00,9,  -999.0,9,  -999.0,   7.570,2,   0.019,    44.2,2, -999.00,9,     43.784,3,   14.20,2,   0.002,   0.0047,    0.20,       0.03,       3.32,2,       0.01,       0.48,2,       0.00,  -999.0,9,     -999.0,     -999.0,9,     -999.0,   8.8063,    34.6505,2,-999.0000,2,     -999.0,9
33RO20150410,     P16N.1,      97,          1,         16,         16,2,20150507,       0400,    15.0005,  -152.0000,       5765,   468.5,   7.5979,  34.4763,2,  34.4764,2,     12.5,2,    11.7,2,   54.30,2,   36.70,2,    0.00,2,    2.93,2,   0.121,2,   0.064,2,       0,2,  2293.2,2,  2313.0,2,   7.3552,2,    24.99,   0.057,2,   1.8170,2,   10.22,2,   7.5975, -999.00,9,  -999.0,9,  -999.0,   7.655,2,   0.019,    42.7,2, -999.00,9,     53.862,3,   14.54,2,   0.003,   0.0047,    0.20,       0.03,       3.41,2,       0.01,       0.50,2,       0.00,  -999.0,9,     -999.0,     -999.0,9,     -999.0,   7.5514,    34.6389,2,-999.0000,2,     -999.0,9
33RO20150410,     P16N.1,      97,          1,         15,         15,2,20150507,       0400,    15.0005,  -152.0000,       5765,   601.6,   6.4090,  34.4762,2,  34.4756,2,     14.0,2,    13.5,2,   68.60,2,   39.40,2,    0.00,2,    3.09,2,   0.031,2,   0.016,2,       0,2,  2310.3,2,  2328.6,2,   7.3494,2,    24.99,   0.022,2,   1.8298,6,   11.64,6,   6.4091, -999.00,9,  -999.0,9,  -999.0,   7.708,6,   0.014,    41.3,2, -999.00,9,     51.733,3,   14.90,6,   0.002,   0.0035,    0.14,       0.02,       3.53,6,       0.01,       0.52,6,       0.00,  -999.0,9,     -999.0,     -999.0,9,     -999.0,   6.3542,    34.6382,2,-999.0000,2,     -999.0,9
33RO20150410,     P16N.1,      97,          1,         14,         14,2,20150507,       0400,    15.0005,  -152.0000,       5765,   749.5,   5.4832,  34.4984,2,  34.5021,2,     17.2,2,    19.0,2,   81.50,2,   41.80,2,    0.00,2,    3.14,2,   0.009,2,   0.005,2,       0,2,  2324.4,2,  2343.3,2,   7.3512,6,    25.02,  -0.001,2,   1.8556,2,   14.41,2,   5.4794, -999.00,9,  -999.0,9,  -999.0,   7.826,2,   0.020,    39.0,2, -999.00,9,     52.855,3,   15.27,2,   0.001,   0.0048,    0.20,       0.03,       3.61,2,       0.01,       0.54,2,       0.00,  -999.0,9,     -999.0,     -999.0,9,     -999.0,   5.4193,    34.6648,2,-999.0000,2,     -999.0,9
33RO20150410,     P16N.1,      97,          1,         13,         13,2,20150507,       0400,    15.0005,  -152.0000,       5765,   900.3,   4.7950,  34.5180,2,  34.5186,2,     23.1,2,    24.0,2,   92.90,2,   42.90,2,    0.00,2,    3.22,2,   0.004,2,   0.002,2,       0,2,  2336.9,2,  2355.9,2,   7.3542,2,    24.98,  -0.001,2,-999.0000,9, -999.00,9,   4.7952, -999.00,9,  -999.0,9,  -999.0,-999.000,9,-999.000,    39.3,2, -999.00,9,     48.910,3, -999.00,9,   0.002,-999.0000, -999.00,     -999.0,     -999.0,9,     -999.0,     -999.0,9,     -999.0,  -999.0,9,     -999.0,     -999.0,9,     -999.0,   4.7220,    34.6813,6,-999.0000,2,     -999.0,9
33RO20150410,     P16N.1,      97,          1,         12,         12,2,20150507,       0400,    15.0005,  -152.0000,       5765,  1050.5,   4.2035,  34.5402,2,  34.5405,2,     35.3,2,    37.8,2,  103.40,2,   42.70,2,    0.00,2,    3.15,2,   0.003,2,   0.002,2,       0,2,  2341.5,2,  2367.8,2,   7.3752,2,    24.99,  -0.003,2,   1.8990,2,   23.15,2,   4.2045, -999.00,9,  -999.0,9,  -999.0,   7.928,2,   0.020,    37.2,2, -999.00,9,     43.278,3,   15.72,2,   0.002,   0.0049,    0.20,       0.03,       3.73,2,       0.01,       0.56,2,       0.00,  -999.0,9,     -999.0,     -999.0,9,     -999.0,   4.1219,    34.7033,2,-999.0000,2,     -999.0,9
33RO20150410,     P16N.1,      97,          1,         11,         11,2,20150507,       0400,    15.0005,  -152.0000,       5765,  1233.1,   3.6597,  34.5643,2,  34.5646,2,     45.3,2,    45.8,2,  114.10,2,   42.40,2,    0.00,2,    3.14,2,   0.001,2,   0.001,2,       0,2,  2347.9,2,  2381.4,2,   7.3923,6,    25.02,  -0.006,2,   1.9003,2,   23.59,2,   3.6603, -999.00,9,  -999.0,9,  -999.0,   7.946,2,   0.020,    37.3,2, -999.00,9,     39.214,3,   15.86,2,   0.002,   0.0049,    0.20,       0.03,       3.80,2,       0.01,       0.57,2,       0.00,  -999.0,9,     -999.0,     -999.0,9,     -999.0,   3.5673,    34.7276,2,-999.0000,3,     -999.0,9
33RO20150410,     P16N.1,      97,          1,         10,         10,2,20150507,       0400,    15.0005,  -152.0000,       5765,  1500.1,   3.0603,  34.5884,2,  34.5896,2,     61.5,2,    61.9,2,  126.40,2,   41.40,2,    0.00,2,    3.03,2,   0.001,2,   0.000,2,       0,2,  2350.7,2,  2394.9,2,   7.4214,2,    24.99,   0.006,2,   1.9047,2,   22.77,2,   3.0600, -999.00,9,  -999.0,9,  -999.0,   7.982,2,   0.020,    35.4,2, -999.00,9,     34.545,3,   16.05,2,   0.003,   0.0050,    0.20,       0.03,       3.86,2,       0.01,       0.58,2,       0.00,  -999.0,9,     -999.0,     -999.0,9,     -999.0,   2.9517,    34.7527,2,-999.0000,3,     -999.0,9
33RO20150410,     P16N.1,      97,          1,          9,          9,2,20150507,       0400,    15.0005,  -152.0000,       5765,  1866.3,   2.3803,  34.6197,2,  34.6270,2,     79.5,2,    80.1,2,  141.60,2,   40.10,2,    0.00,2,    2.93,2,  -0.001,2,  -0.001,2,       0,2,  2356.9,2,  2412.6,2,   7.4536,2,    25.00,   0.002,2,   1.9140,2,   24.71,2,   2.3806, -999.00,9,  -999.0,9,  -999.0,   8.026,2,   0.020,    37.0,2, -999.00,9,     29.685,3,   16.24,2,   0.002,   0.0050,    0.20,       0.03,       3.91,2,       0.01,       0.59,2,       0.00,  -999.0,9,     -999.0,     -999.0,9,     -999.0,   2.2495,    34.7902,3,-999.0000,2,     -999.0,9
33RO20150410,     P16N.1,      97,          1,          8,          8,2,20150507,       0400,    15.0005,  -152.0000,       5765,  2600.0,   1.7612,  34.6614,2,  34.6576,2,    112.8,2,   112.8,2,  152.20,2,   37.90,2,    0.00,2,    2.71,2,   0.001,2,   0.001,2,       0,2,  2348.7,2,  2426.1,2,   7.5179,2,    24.99,-999.000,9,-999.0000,9, -999.00,9,   1.7611, -999.00,9,  -999.0,9,  -999.0,-999.000,9,-999.000,    35.9,2, -999.00,9,     24.148,3, -999.00,9,-999.000,-999.0000, -999.00,     -999.0,     -999.0,9,     -999.0,     -999.0,9,     -999.0,  -999.0,9,     -999.0,     -999.0,9,     -999.0,   1.5763,    34.8211,3,-999.0000,2,     -999.0,9
33RO20150410,     P16N.1,      97,          1,          7,          7,2,20150507,       0400,    15.0005,  -152.0000,       5765,  3332.6,   1.5718,  34.6781,2,-999.0000,9,    130.0,2,  -999.0,9, -999.00,9, -999.00,9, -999.00,9, -999.00,9,  -0.003,6,  -0.001,6,       0,6,  -999.0,9,  -999.0,9,-999.0000,9,  -999.00,-999.000,9,-999.0000,9, -999.00,9,   1.5720, -999.00,9,  -999.0,9,  -999.0,-999.000,9,-999.000,  -999.0,9, -999.00,9,     21.929,3, -999.00,9,-999.000,-999.0000, -999.00,     -999.0,     -999.0,9,     -999.0,     -999.0,9,     -999.0,  -999.0,9,     -999.0,     -999.0,9,     -999.0,-999.0000,     -999.0,9,-999.0000,2,     -999.0,9
33RO20150410,     P16N.1,      97,          1,          6,          6,2,20150507,       0400,    15.0005,  -152.0000,       5765,  3332.5,   1.5715,  34.6781,2,  34.6933,4,    130.0,2,   129.4,2,  154.50,2,   36.70,2,    0.00,2,    2.64,2,  -0.002,6,  -0.002,6,       0,6,  2342.7,6,  2430.0,2,   7.5482,2,    24.98,-999.000,9,-999.0000,9, -999.00,9,   1.5716, -999.00,9,  -999.0,9,  -999.0,-999.000,9,-999.000,    36.7,2, -999.00,9,     21.759,3, -999.00,9,-999.000,-999.0000, -999.00,     -999.0,     -999.0,9,     -999.0,     -999.0,9,     -999.0,  -999.0,9,     -999.0,     -999.0,9,     -999.0,   1.3204,    34.8569,3,-999.0000,2,     -999.0,9
33RO20150410,     P16N.1,      97,          1,          5,          5,2,20150507,       0400,    15.0005,  -152.0000,       5765,  3832.5,   1.4711,  34.6859,2,  34.6868,2,    146.0,2,   145.7,2,  148.20,2,   35.60,2,    0.00,2,    2.55,2,   0.001,2,   0.000,2,       0,2,  2327.5,2,  2424.5,2,   7.5711,2,    25.00,-999.000,9,-999.0000,9, -999.00,9,   1.4711, -999.00,9,  -999.0,9,  -999.0,-999.000,9,-999.000,    37.1,2, -999.00,9,     20.941,3, -999.00,9,-999.000,-999.0000, -999.00,     -999.0,     -999.0,9,     -999.0,     -999.0,9,     -999.0,  -999.0,9,     -999.0,     -999.0,9,     -999.0,   1.1710,    34.8503,2,-999.0000,2,     -999.0,9
33RO20150410,     P16N.1,      97,          1,          4,          4,2,20150507,       0400,    15.0005,  -152.0000,       5765,  4332.6,   1.4249,  34.6921,2,  34.6935,2,    159.7,2,   158.7,2,  140.60,6,   34.90,6,    0.00,6,    2.47,6,  -0.008,2,  -0.001,2,       0,2,  2313.6,2,  2416.5,2,   7.5865,2,    24.98,-999.000,9,-999.0000,9, -999.00,9,   1.4252, -999.00,9,  -999.0,9,  -999.0,-999.000,9,-999.000,    37.2,2, -999.00,9,     20.088,3, -999.00,9,-999.000,-999.0000, -999.00,     -999.0,     -999.0,9,     -999.0,     -999.0,9,     -999.0,  -999.0,9,     -999.0,     -999.0,9,     -999.0,   1.0712,    34.8571,2,-999.0000,2,     -999.0,9
33RO20150410,     P16N.1,      97,          1,          3,          3,2,20150507,       0400,    15.0005,  -152.0000,       5765,  4832.9,   1.4057,  34.6966,2,  34.6970,2,    169.1,2,   168.8,2,  133.90,6,   34.20,6,    0.00,6,    2.42,6,  -0.003,2,  -0.001,2,       0,2,  2301.5,2,  2405.8,2,   7.5947,6,    24.99,-999.000,9,-999.0000,9, -999.00,9,   1.4060, -999.00,9,  -999.0,9,  -999.0,-999.000,9,-999.000,    38.1,2, -999.00,9,     19.667,3, -999.00,9,-999.000,-999.0000, -999.00,     -999.0,     -999.0,9,     -999.0,     -999.0,9,     -999.0,  -999.0,9,     -999.0,     -999.0,9,     -999.0,   0.9946,    34.8606,2,-999.0000,2,     -999.0,9
33RO20150410,     P16N.1,      97,          1,          2,          2,2,20150507,       0400,    15.0005,  -152.0000,       5765,  5332.1,   1.4315,  34.6990,2,  34.6990,2,    173.8,2,   173.5,2,  131.30,6,   33.90,6,    0.00,6,    2.41,6,  -0.007,2,   0.001,2,       0,2,  2295.7,2,  2402.0,2,   7.5980,6,    25.01,-999.000,9,-999.0000,9, -999.00,9,   1.4318, -999.00,9,  -999.0,9,  -999.0,-999.000,9,-999.000,    38.8,2, -999.00,9,     19.355,3, -999.00,9,-999.000,-999.0000, -999.00,     -999.0,     -999.0,9,     -999.0,     -999.0,9,     -999.0,  -999.0,9,     -999.0,     -999.0,9,     -999.0,   0.9585,    34.8626,2,-999.0000,2,     -999.0,9
33RO20150410,     P16N.1,      97,          1,          1,          1,2,20150507,       0400,    15.0005,  -152.0000,       5765,  5755.1,   1.4844,  34.6991,2,  34.7016,4,    174.6,2,   189.4,4,  130.90,6,   33.80,6,    0.00,6,    2.40,6,  -0.001,2,   0.000,2,       0,2,  2297.1,6,  2402.6,6,   7.5987,2,    25.01,-999.000,9,-999.0000,9, -999.00,9,   1.4843, -999.00,9,  -999.0,9,  -999.0,-999.000,9,-999.000,    39.9,2, -999.00,9,     19.553,3, -999.00,9,-999.000,-999.0000, -999.00,     -999.0,     -999.0,9,     -999.0,     -999.0,9,     -999.0,  -999.0,9,     -999.0,     -999.0,9,     -999.0,   0.9553,    34.8652,3,-999.0000,2,     -999.0,9