BOTTLE,20210709CCHSIOCBG
EXPOCODE,SECT_ID,STNNBR,CASTNO,SAMPNO,BTLNBR,BTLNBR_FLAG_W,DATE,TIME,LATITUDE,LONGITUDE,DEPTH,CTDPRS,CTDTMP,CTDSAL,CTDSAL_FLAG_W,SALNTY,SALNTY_FLAG_W,CTDOXY,CTDOXY_FLAG_W,OXYGEN,OXYGEN_FLAG_W,SILCAT,SILCAT_FLAG_W,NITRAT,NITRAT_FLAG_W,NITRIT,NITRIT_FLAG_W,PHSPHT,PHSPHT_FLAG_W,CFC-11,CFC-11_FLAG_W,CFC-12,CFC-12_FLAG_W,SF6,SF6_FLAG_W,TCARBN,TCARBN_FLAG_W,ALKALI,ALKALI_FLAG_W,PH_TOT,PH_TOT_FLAG_W,PH_TMP,TRITUM,TRITUM_FLAG_W,HELIUM,HELIUM_FLAG_W,DELHE3,DELHE3_FLAG_W,REFTMP,DELC13,DELC13_FLAG_W,DELC14,DELC14_FLAG_W,C14ERR,NEON,NEON_FLAG_W,NEONER,DOC,DOC_FLAG_W,TDN,TDN_FLAG_W,N2O,N2O_FLAG_W,ARGON,ARGON_FLAG_W,TRITER,HELIER,DELHER,ARGONER,KRYPTON,KRYPTON_FLAG_W,KRYPTONER,XENON,XENON_FLAG_W,XENONER,14C-DOC,14C-DOC_FLAG_W,14C-DOCERR,13C-DOC,13C-DOC_FLAG_W,13C-DOCERR,THETA,SALTREF,SALTREF_FLAG_W,SBE35,SBE35_FLAG_W,CHLORA,CHLORA_FLAG_W
,,,,,,,,,,,METERS,DBAR,ITS-90,PSS-78,,PSS-78,,UMOL/KG,,UMOL/KG,,UMOL/KG,,UMOL/KG,,UMOL/KG,,UMOL/KG,,PMOL/KG,,PMOL/KG,,FMOL/KG,,UMOL/KG,,UMOL/KG,,,,DEG C,TU,,NMOL/KG,,PERCNT,,DEG C,/MILLE,,/MILLE,,/MILLE,NMOL/KG,,NMOL/KG,UMOL/KG,,UMOL/KG,,NMOL/KG,,UMOL/KG,,TU,NMOL/KG,PERCNT,UMOL/KG,NMOL/KG,,NMOL/KG,NMOL/KG,,NMOL/KG,/MILLE,,/MILLE,/MILLE,,/MILLE,DEG C,G/KG,,ITS-90,,MG/M3,
33RO20150410,     P16N.1,     111,          2,         24,         24,2,20150511,       1140,    21.9996,  -152.0004,       5272,     5.9,  24.3728,  34.9258,2,  34.9244,2,    208.3,2,   208.2,2,    1.00,2,    0.00,2,    0.00,2,    0.19,2,   1.759,2,   1.100,2,   1.466,2,  1991.9,6,  2303.7,2,   8.0590,6,    25.01,-999.000,9,-999.0000,9, -999.00,9,  24.3721, -999.00,9,  -999.0,9,  -999.0,-999.000,9,-999.000,    76.2,2,    4.10,2,      6.484,3, -999.00,9,-999.000,-999.0000, -999.00,     -999.0,     -999.0,9,     -999.0,     -999.0,9,     -999.0,  -999.0,9,     -999.0,     -999.0,9,     -999.0,  24.3715,    35.0890,2,-999.0000,9,     -999.0,9
33RO20150410,     P16N.1,     111,          2,         23,         23,2,20150511,       1140,    21.9996,  -152.0004,       5272,    20.5,  24.3840,  34.9250,2,  34.9244,2,    208.7,2,   208.1,2,    1.10,2,    0.00,2,    0.00,2,    0.21,2,   1.765,2,   1.093,2,   1.448,2,  1992.0,2,  2303.4,2,   8.0588,2,    25.00,-999.000,9,-999.0000,9, -999.00,9,  24.3848, -999.00,9,  -999.0,9,  -999.0,-999.000,9,-999.000,    77.9,2,    5.00,2,      6.583,3, -999.00,9,-999.000,-999.0000, -999.00,     -999.0,     -999.0,9,     -999.0,     -999.0,9,     -999.0,  -999.0,9,     -999.0,     -999.0,9,     -999.0,  24.3796,    35.0891,2,-999.0000,9,     -999.0,9
33RO20150410,     P16N.1,     111,          2,         22,         22,2,20150511,       1140,    21.9996,  -152.0004,       5272,    41.7,  24.3903,  34.9246,2,  34.9244,2,    209.3,2,   208.1,2,    1.10,2,    0.00,2,    0.00,2,    0.20,2,   1.755,6,   1.093,6,   1.457,6,  1992.3,2,  2302.9,2,   8.0592,6,    24.99,-999.000,9,-999.0000,9, -999.00,9,  24.3907, -999.00,9,  -999.0,9,  -999.0,-999.000,9,-999.000,    76.0,2,    4.00,2,      6.559,3, -999.00,9,-999.000,-999.0000, -999.00,     -999.0,     -999.0,9,     -999.0,     -999.0,9,     -999.0,  -999.0,9,     -999.0,     -999.0,9,     -999.0,  24.3814,    35.0891,2,-999.0000,9,     -999.0,9
33RO20150410,     P16N.1,     111,          2,         21,         21,2,20150511,       1140,    21.9996,  -152.0004,       5272,    67.3,  24.3845,  34.9278,2,  34.9271,2,    208.6,2,   208.3,2,    1.10,2,    0.00,2,    0.00,2,    0.21,2,   1.757,2,   1.095,2,   1.457,2,  1992.6,2,  2303.9,2,   8.0587,2,    24.99,-999.000,9,-999.0000,9, -999.00,9,  24.3844, -999.00,9,  -999.0,9,  -999.0,-999.000,9,-999.000,    75.0,2,    4.50,2,      6.479,3, -999.00,9,-999.000,-999.0000, -999.00,     -999.0,     -999.0,9,     -999.0,     -999.0,9,     -999.0,  -999.0,9,     -999.0,     -999.0,9,     -999.0,  24.3702,    35.0918,6,-999.0000,9,     -999.0,9
33RO20150410,     P16N.1,     111,          2,         20,         20,2,20150511,       1140,    21.9996,  -152.0004,       5272,    91.1,  23.1371,  35.0161,2,  35.0212,2,    215.4,2,   215.0,2,    1.50,2,    0.00,2,    0.00,2,    0.25,2,   1.964,2,   1.206,2,   1.468,2,  2024.5,2,  2315.4,6,   8.0198,2,    24.99,-999.000,9,-999.0000,9, -999.00,9,  23.1279, -999.00,9,  -999.0,9,  -999.0,-999.000,9,-999.000,    72.3,2,    4.20,2,      8.603,3, -999.00,9,-999.000,-999.0000, -999.00,     -999.0,     -999.0,9,     -999.0,     -999.0,9,     -999.0,  -999.0,9,     -999.0,     -999.0,9,     -999.0,  23.1184,    35.1864,2,-999.0000,9,     -999.0,9
33RO20150410,     P16N.1,     111,          2,         19,         19,2,20150511,       1140,    21.9996,  -152.0004,       5272,   133.5,  19.1751,  34.7797,2,  34.7728,2,    186.1,2,   185.7,2,    3.10,2,    2.60,2,    0.17,2,    0.48,2,   2.244,2,   1.359,2,   1.527,2,  2072.0,2,  2298.7,2,   7.9053,2,    24.99,-999.000,9,-999.0000,9, -999.00,9,  19.1743, -999.00,9,  -999.0,9,  -999.0,-999.000,9,-999.000,    58.2,2,    6.00,2,     13.831,3, -999.00,9,-999.000,-999.0000, -999.00,     -999.0,     -999.0,9,     -999.0,     -999.0,9,     -999.0,  -999.0,9,     -999.0,     -999.0,9,     -999.0,  19.1512,    34.9368,2,-999.0000,9,     -999.0,9
33RO20150410,     P16N.1,     111,          2,         18,         18,2,20150511,       1140,    21.9996,  -152.0004,       5272,   200.0,  15.2343,  34.3821,2,  34.3798,2,    182.8,2,   173.5,2,    6.60,2,    7.90,2,    0.01,2,    0.77,2,   2.625,2,   1.546,2,   1.488,2,  2090.6,2,  2269.8,2,   7.8141,2,    24.98,-999.000,9,-999.0000,9, -999.00,9,  15.2345, -999.00,9,  -999.0,9,  -999.0,-999.000,9,-999.000,    51.2,2,   11.50,2,     18.947,3, -999.00,9,-999.000,-999.0000, -999.00,     -999.0,     -999.0,9,     -999.0,     -999.0,9,     -999.0,  -999.0,9,     -999.0,     -999.0,9,     -999.0,  15.2038,    34.5419,2,-999.0000,9,     -999.0,9
33RO20150410,     P16N.1,     111,          2,         17,         17,2,20150511,       1140,    21.9996,  -152.0004,       5272,   274.8,  11.1260,  34.1535,2,  34.1521,2,    156.4,2,   149.7,2,   17.90,2,   17.70,2,    0.01,2,    1.45,2,   2.927,2,   1.632,2,   1.197,2,  2141.7,2,  2259.5,2,   7.6619,6,    25.00,-999.000,9,-999.0000,9, -999.00,9,  11.1263, -999.00,9,  -999.0,9,  -999.0,-999.000,9,-999.000,    42.2,2,   19.90,2,     27.950,3, -999.00,9,-999.000,-999.0000, -999.00,     -999.0,     -999.0,9,     -999.0,     -999.0,9,     -999.0,  -999.0,9,     -999.0,     -999.0,9,     -999.0,  11.0921,    34.3131,2,-999.0000,9,     -999.0,9
33RO20150410,     P16N.1,     111,          2,         16,         16,2,20150511,       1140,    21.9996,  -152.0004,       5272,   367.6,   8.1020,  34.0430,2,  34.0417,2,    153.1,2,   140.8,2,   34.60,2,   25.20,2,    0.00,2,    1.85,2,   2.965,2,   1.555,2,    0.89,2,  2181.8,2,  2269.7,2,   7.5715,2,    24.99,-999.000,9,-999.0000,9, -999.00,9,   8.1081, -999.00,9,  -999.0,9,  -999.0,-999.000,9,-999.000,    46.4,2, -999.00,9,     25.087,3, -999.00,9,-999.000,-999.0000, -999.00,     -999.0,     -999.0,9,     -999.0,     -999.0,9,     -999.0,  -999.0,9,     -999.0,     -999.0,9,     -999.0,   8.0646,    34.2023,2,-999.0000,9,     -999.0,9
33RO20150410,     P16N.1,     111,          2,         15,         15,2,20150511,       1140,    21.9996,  -152.0004,       5272,   467.0,   6.3509,  34.0557,2,  34.0602,2,     78.3,2,    78.9,2,   57.60,2,   34.10,2,    0.00,2,    2.49,2,   1.782,6,   0.882,6,   0.358,6,  2251.4,2,  2288.7,2,   7.4158,2,    24.98,-999.000,9,-999.0000,9, -999.00,9,   6.3528, -999.00,9,  -999.0,9,  -999.0,-999.000,9,-999.000,    41.9,2, -999.00,9,     33.378,3, -999.00,9,-999.000,-999.0000, -999.00,     -999.0,     -999.0,9,     -999.0,     -999.0,9,     -999.0,  -999.0,9,     -999.0,     -999.0,9,     -999.0,   6.3093,    34.2208,2,-999.0000,9,     -999.0,9
33RO20150410,     P16N.1,     111,          2,         14,         14,2,20150511,       1140,    21.9996,  -152.0004,       5272,   600.0,   5.2842,  34.2333,2,  34.2372,2,     29.3,2,    28.0,2,   81.80,2,   40.20,2,    0.00,2,    2.96,2,   0.308,2,   0.150,2,   0.059,2,  2312.1,2,  2322.9,2,   7.3283,2,    24.99,-999.000,9,-999.0000,9, -999.00,9,   5.2863, -999.00,9,  -999.0,9,  -999.0,-999.000,9,-999.000,    39.1,2, -999.00,9,     44.386,3, -999.00,9,-999.000,-999.0000, -999.00,     -999.0,     -999.0,9,     -999.0,     -999.0,9,     -999.0,  -999.0,9,     -999.0,     -999.0,9,     -999.0,   5.2349,    34.3986,2,-999.0000,9,     -999.0,9
33RO20150410,     P16N.1,     111,          2,         13,         13,2,20150511,       1140,    21.9996,  -152.0004,       5272,   749.6,   4.7362,  34.4185,2,  34.4161,2,     30.7,2,    30.2,2,   93.10,2,   41.40,2,    0.00,2,    3.04,2,   0.055,2,   0.028,2,   0.065,3,  2327.6,2,  2349.0,2,   7.3568,2,    25.00,-999.000,9,-999.0000,9, -999.00,9,   4.7363, -999.00,9,  -999.0,9,  -999.0,-999.000,9,-999.000,    37.0,2, -999.00,9,     45.069,3, -999.00,9,-999.000,-999.0000, -999.00,     -999.0,     -999.0,9,     -999.0,     -999.0,9,     -999.0,  -999.0,9,     -999.0,     -999.0,9,     -999.0,   4.6767,    34.5784,2,-999.0000,9,     -999.0,9
33RO20150410,     P16N.1,     111,          2,         12,         12,2,20150511,       1140,    21.9996,  -152.0004,       5272,   900.3,   4.3000,  34.4833,2,  34.4817,2,     38.2,2,    38.2,2,  100.70,2,   41.80,2,    0.00,2,    3.04,2,   0.022,2,   0.010,2,   0.046,3,  2335.2,2,  2362.8,2,   7.3757,2,    24.99,-999.000,9,-999.0000,9, -999.00,9,   4.3012, -999.00,9,  -999.0,9,  -999.0,-999.000,9,-999.000,    39.2,2, -999.00,9,     41.665,3, -999.00,9,-999.000,-999.0000, -999.00,     -999.0,     -999.0,9,     -999.0,     -999.0,9,     -999.0,  -999.0,9,     -999.0,     -999.0,9,     -999.0,   4.2305,    34.6443,2,-999.0000,9,     -999.0,9
33RO20150410,     P16N.1,     111,          2,         11,         11,2,20150511,       1140,    21.9996,  -152.0004,       5272,  1051.9,   3.8609,  34.5173,2,  34.5162,2,     44.3,2,    44.9,2,  109.80,2,   41.90,2,    0.00,2,    3.03,2,   0.006,2,   0.004,2,    0.05,3,  2343.1,2,  2374.4,2,   7.3874,2,    25.00,-999.000,9,-999.0000,9, -999.00,9,   3.8614, -999.00,9,  -999.0,9,  -999.0,-999.000,9,-999.000,    40.8,2, -999.00,9,     40.188,3, -999.00,9,-999.000,-999.0000, -999.00,     -999.0,     -999.0,9,     -999.0,     -999.0,9,     -999.0,  -999.0,9,     -999.0,     -999.0,9,     -999.0,   3.7820,    34.6790,2,-999.0000,9,     -999.0,9
33RO20150410,     P16N.1,     111,          2,         10,         10,2,20150511,       1140,    21.9996,  -152.0004,       5272,  1222.1,   3.3771,  34.5469,2,  34.5452,2,     52.1,2,    52.0,2,  120.00,2,   41.70,2,    0.00,2,    3.01,2,   0.000,2,   0.001,2,    0.03,3,  2349.1,2,  2387.9,2,   7.4006,2,    24.99,-999.000,9,-999.0000,9, -999.00,9,   3.3774, -999.00,9,  -999.0,9,  -999.0,-999.000,9,-999.000,    36.4,2, -999.00,9,     36.897,3, -999.00,9,-999.000,-999.0000, -999.00,     -999.0,     -999.0,9,     -999.0,     -999.0,9,     -999.0,  -999.0,9,     -999.0,     -999.0,9,     -999.0,   3.2883,    34.7081,2,-999.0000,9,     -999.0,9
33RO20150410,     P16N.1,     111,          2,          9,          9,2,20150511,       1140,    21.9996,  -152.0004,       5272,  1500.8,   2.7683,  34.5812,2,  34.5801,2,     66.7,2,    66.6,2,  133.10,2,   41.00,2,    0.00,2,    2.95,2,   0.004,2,   0.003,2,       0,2,  2357.0,2,  2401.2,2,   7.4271,6,    25.00,-999.000,9,-999.0000,9, -999.00,9,   2.7681, -999.00,9,  -999.0,9,  -999.0,-999.000,9,-999.000,    36.7,2, -999.00,9,     33.351,3, -999.00,9,-999.000,-999.0000, -999.00,     -999.0,     -999.0,9,     -999.0,     -999.0,9,     -999.0,  -999.0,9,     -999.0,     -999.0,9,     -999.0,   2.6630,    34.7432,2,-999.0000,9,     -999.0,9
33RO20150410,     P16N.1,     111,          2,          8,          8,2,20150511,       1140,    21.9996,  -152.0004,       5272,  1866.7,   2.2643,  34.6140,2,  34.6138,2,     83.4,2,    83.9,2,  143.30,2,   40.00,2,    0.01,2,    2.83,2,   0.001,2,   0.002,2,       0,2,  2355.9,2,  2411.9,2,   7.4590,2,    24.99,-999.000,9,-999.0000,9, -999.00,9,   2.2642, -999.00,9,  -999.0,9,  -999.0,-999.000,9,-999.000,    39.6,2, -999.00,9,     28.897,3, -999.00,9,-999.000,-999.0000, -999.00,     -999.0,     -999.0,9,     -999.0,     -999.0,9,     -999.0,  -999.0,9,     -999.0,     -999.0,9,     -999.0,   2.1352,    34.7770,2,-999.0000,9,     -999.0,9
33RO20150410,     P16N.1,     111,          2,          7,          7,2,20150511,       1140,    21.9996,  -152.0004,       5272,  2264.5,   1.9158,  34.6385,2,  34.6479,4,     99.0,2,    99.1,2,  150.30,2,   39.10,2,    0.01,2,    2.76,2,   0.001,2,   0.002,2,   0.038,3,  2354.9,2,  2421.5,2,   7.4875,6,    25.00,-999.000,9,-999.0000,9, -999.00,9,   1.9158, -999.00,9,  -999.0,9,  -999.0,-999.000,9,-999.000,    36.5,2, -999.00,9,     25.927,3, -999.00,9,-999.000,-999.0000, -999.00,     -999.0,     -999.0,9,     -999.0,     -999.0,9,     -999.0,  -999.0,9,     -999.0,     -999.0,9,     -999.0,   1.7580,    34.8112,3,-999.0000,9,     -999.0,9
33RO20150410,     P16N.1,     111,          2,          6,          6,2,20150511,       1140,    21.9996,  -152.0004,       5272,  2733.9,   1.6723,  34.6580,2,  34.6585,2,    113.2,2,   113.4,2,  154.80,2,   38.10,2,    0.01,2,    2.69,2,  -0.001,2,  -0.001,2,       0,2,  2349.3,2,  2424.6,2,   7.5136,2,    25.00,-999.000,9,-999.0000,9, -999.00,9,   1.6722, -999.00,9,  -999.0,9,  -999.0,-999.000,9,-999.000,    37.6,2, -999.00,9,     23.597,3, -999.00,9,-999.000,-999.0000, -999.00,     -999.0,     -999.0,9,     -999.0,     -999.0,9,     -999.0,  -999.0,9,     -999.0,     -999.0,9,     -999.0,   1.4769,    34.8219,2,-999.0000,9,     -999.0,9
33RO20150410,     P16N.1,     111,          2,          5,          5,2,20150511,       1140,    21.9996,  -152.0004,       5272,  3232.5,   1.5357,  34.6729,2,  34.6734,2,    127.3,2,   127.3,2,  155.10,2,   37.30,2,    0.01,2,    2.60,2,  -0.002,2,   0.000,2,       0,2,  2343.2,2,  2426.9,2,   7.5391,6,    25.01,-999.000,9,-999.0000,9, -999.00,9,   1.5358, -999.00,9,  -999.0,9,  -999.0,-999.000,9,-999.000,    38.2,2, -999.00,9,     22.026,3, -999.00,9,-999.000,-999.0000, -999.00,     -999.0,     -999.0,9,     -999.0,     -999.0,9,     -999.0,  -999.0,9,     -999.0,     -999.0,9,     -999.0,   1.2955,    34.8369,2,-999.0000,9,     -999.0,9
33RO20150410,     P16N.1,     111,          2,          4,          4,2,20150511,       1140,    21.9996,  -152.0004,       5272,  3733.1,   1.4747,  34.6819,2,  34.6823,2,    139.5,2,   140.0,2,  151.40,6,   36.40,6,    0.00,6,    2.54,6,   0.002,2,   0.002,2,       0,2,  2333.3,6,  2425.0,2,   7.5600,2,    25.00,-999.000,9,-999.0000,9, -999.00,9,   1.4749, -999.00,9,  -999.0,9,  -999.0,-999.000,9,-999.000,    36.8,2, -999.00,9,     20.685,3, -999.00,9,-999.000,-999.0000, -999.00,     -999.0,     -999.0,9,     -999.0,     -999.0,9,     -999.0,  -999.0,9,     -999.0,     -999.0,9,     -999.0,   1.1850,    34.8458,6,-999.0000,9,     -999.0,9
33RO20150410,     P16N.1,     111,          2,          3,          3,2,20150511,       1140,    21.9996,  -152.0004,       5272,  4233.7,   1.4654,  34.6871,2,  34.6870,2,    149.2,2,   148.9,2,  146.70,6,   35.80,6,    0.00,6,    2.50,6,  -0.001,2,   0.004,2,       0,2,  2325.3,2,  2422.8,6,   7.5735,2,    25.02,-999.000,9,-999.0000,9, -999.00,9,   1.4652, -999.00,9,  -999.0,9,  -999.0,-999.000,9,-999.000,    38.4,2, -999.00,9,     20.247,3, -999.00,9,-999.000,-999.0000, -999.00,     -999.0,     -999.0,9,     -999.0,     -999.0,9,     -999.0,  -999.0,9,     -999.0,     -999.0,9,     -999.0,   1.1216,    34.8506,2,-999.0000,9,     -999.0,9
33RO20150410,     P16N.1,     111,          2,          2,          2,2,20150511,       1140,    21.9996,  -152.0004,       5272,  4734.3,   1.4741,  34.6915,2,  34.6912,2,    156.3,2,   157.2,2,  141.30,6,   35.30,6,    0.00,6,    2.44,6,   0.007,6,   0.004,6,       0,6,  2315.8,2,  2417.6,2,   7.5831,2,    25.02,-999.000,9,-999.0000,9, -999.00,9,   1.4742, -999.00,9,  -999.0,9,  -999.0,-999.000,9,-999.000,    35.4,2, -999.00,9,     19.805,3, -999.00,9,-999.000,-999.0000, -999.00,     -999.0,     -999.0,9,     -999.0,     -999.0,9,     -999.0,  -999.0,9,     -999.0,     -999.0,9,     -999.0,   1.0725,    34.8547,2,-999.0000,9,     -999.0,9
33RO20150410,     P16N.1,     111,          2,          1,          1,2,20150511,       1140,    21.9996,  -152.0004,       5272,  5262.1,   1.5143,  34.6936,2,  34.6935,2,    160.6,2,   163.4,2,  138.00,6,   34.90,6,    0.00,6,    2.43,6,   0.006,2,   0.006,2,       0,2,  2313.2,6,  2413.2,2,   7.5880,2,    25.01,-999.000,9,-999.0000,9, -999.00,9,   1.5143, -999.00,9,  -999.0,9,  -999.0,-999.000,9,-999.000,    36.4,2, -999.00,9,     19.565,3, -999.00,9,-999.000,-999.0000, -999.00,     -999.0,     -999.0,9,     -999.0,     -999.0,9,     -999.0,  -999.0,9,     -999.0,     -999.0,9,     -999.0,   1.0471,    34.8571,2,-999.0000,9,     -999.0,9