BOTTLE,20210709CCHSIOCBG
EXPOCODE,SECT_ID,STNNBR,CASTNO,SAMPNO,BTLNBR,BTLNBR_FLAG_W,DATE,TIME,LATITUDE,LONGITUDE,DEPTH,CTDPRS,CTDTMP,CTDSAL,CTDSAL_FLAG_W,SALNTY,SALNTY_FLAG_W,CTDOXY,CTDOXY_FLAG_W,OXYGEN,OXYGEN_FLAG_W,SILCAT,SILCAT_FLAG_W,NITRAT,NITRAT_FLAG_W,NITRIT,NITRIT_FLAG_W,PHSPHT,PHSPHT_FLAG_W,CFC-11,CFC-11_FLAG_W,CFC-12,CFC-12_FLAG_W,SF6,SF6_FLAG_W,TCARBN,TCARBN_FLAG_W,ALKALI,ALKALI_FLAG_W,PH_TOT,PH_TOT_FLAG_W,PH_TMP,TRITUM,TRITUM_FLAG_W,HELIUM,HELIUM_FLAG_W,DELHE3,DELHE3_FLAG_W,REFTMP,DELC13,DELC13_FLAG_W,DELC14,DELC14_FLAG_W,C14ERR,NEON,NEON_FLAG_W,NEONER,DOC,DOC_FLAG_W,TDN,TDN_FLAG_W,N2O,N2O_FLAG_W,ARGON,ARGON_FLAG_W,TRITER,HELIER,DELHER,ARGONER,KRYPTON,KRYPTON_FLAG_W,KRYPTONER,XENON,XENON_FLAG_W,XENONER,14C-DOC,14C-DOC_FLAG_W,14C-DOCERR,13C-DOC,13C-DOC_FLAG_W,13C-DOCERR,THETA,SALTREF,SALTREF_FLAG_W,SBE35,SBE35_FLAG_W,CHLORA,CHLORA_FLAG_W
,,,,,,,,,,,METERS,DBAR,ITS-90,PSS-78,,PSS-78,,UMOL/KG,,UMOL/KG,,UMOL/KG,,UMOL/KG,,UMOL/KG,,UMOL/KG,,PMOL/KG,,PMOL/KG,,FMOL/KG,,UMOL/KG,,UMOL/KG,,,,DEG C,TU,,NMOL/KG,,PERCNT,,DEG C,/MILLE,,/MILLE,,/MILLE,NMOL/KG,,NMOL/KG,UMOL/KG,,UMOL/KG,,NMOL/KG,,UMOL/KG,,TU,NMOL/KG,PERCNT,UMOL/KG,NMOL/KG,,NMOL/KG,NMOL/KG,,NMOL/KG,/MILLE,,/MILLE,/MILLE,,/MILLE,DEG C,G/KG,,ITS-90,,MG/M3,
33RO20150410,     P16N.1,      76,          1,         24,         24,2,20150430,       2018,     5.0007,  -150.9995,       5192,     5.2,  28.9313,  34.6051,2,  34.5959,2,    196.4,2,   198.6,2,    1.40,2,    1.10,2,    0.05,2,    0.29,2,   1.422,2,   0.935,2,   1.211,2,  1961.0,6,  2275.5,2,   8.0752,2,    25.00,-999.000,9,-999.0000,9, -999.00,9,  28.9311, -999.00,9,  -999.0,9,  -999.0,-999.000,9,-999.000,  -999.0,9, -999.00,9,      6.181,3, -999.00,9,-999.000,-999.0000, -999.00,     -999.0,     -999.0,9,     -999.0,     -999.0,9,     -999.0,  -999.0,9,     -999.0,     -999.0,9,     -999.0,  28.9300,    34.7590,2,-999.0000,2,      0.249,2
33RO20150410,     P16N.1,      76,          1,         23,         23,2,20150430,       2018,     5.0007,  -150.9995,       5192,    21.6,  28.9619,  34.7817,2,  34.7847,2,    197.6,2,   199.3,2,    1.40,2,    1.30,2,    0.06,2,    0.32,2,   1.425,6,   0.938,6,   1.222,6,  1972.3,2,  2287.4,2,   8.0693,2,    25.00,-999.000,9,-999.0000,9, -999.00,9,  28.9606, -999.00,9,  -999.0,9,  -999.0,-999.000,9,-999.000,  -999.0,9, -999.00,9,      6.118,3, -999.00,9,-999.000,-999.0000, -999.00,     -999.0,     -999.0,9,     -999.0,     -999.0,9,     -999.0,  -999.0,9,     -999.0,     -999.0,9,     -999.0,  28.9567,    34.9488,2,-999.0000,2,      0.357,2
33RO20150410,     P16N.1,      76,          1,         22,         22,2,20150430,       2018,     5.0007,  -150.9995,       5192,    43.4,  28.8636,  34.9406,2,  34.9462,2,    198.5,2,   199.4,2,    1.50,2,    1.50,2,    0.10,2,    0.34,2,   1.444,2,   0.949,2,   1.197,2,  1984.7,2,  2298.4,6,   8.0618,2,    24.99,-999.000,9,-999.0000,9, -999.00,9,  28.8644, -999.00,9,  -999.0,9,  -999.0,-999.000,9,-999.000,  -999.0,9, -999.00,9,      6.498,3, -999.00,9,-999.000,-999.0000, -999.00,     -999.0,     -999.0,9,     -999.0,     -999.0,9,     -999.0,  -999.0,9,     -999.0,     -999.0,9,     -999.0,  28.8531,    35.1110,2,-999.0000,2,      0.404,2
33RO20150410,     P16N.1,      76,          1,         21,         21,2,20150430,       2018,     5.0007,  -150.9995,       5192,    64.2,  28.2585,  34.9803,2,  34.9811,2,    194.1,2,   191.1,2,    1.60,2,    2.00,2,    0.37,2,    0.39,2,   1.469,2,   0.968,2,   1.222,2,  1996.8,2,  2299.8,2,   8.0441,6,    25.00,-999.000,9,-999.0000,9, -999.00,9,  28.2593, -999.00,9,  -999.0,9,  -999.0,-999.000,9,-999.000,  -999.0,9, -999.00,9,      6.803,3, -999.00,9,-999.000,-999.0000, -999.00,     -999.0,     -999.0,9,     -999.0,     -999.0,9,     -999.0,  -999.0,9,     -999.0,     -999.0,9,     -999.0,  28.2433,    35.1460,2,-999.0000,2,      0.392,2
33RO20150410,     P16N.1,      76,          1,         20,         20,2,20150430,       2018,     5.0007,  -150.9995,       5192,    92.7,  24.2121,  34.9329,2,  34.9350,2,    145.9,2,   146.4,2,    3.60,2,    5.90,2,    0.07,2,    0.59,2,   1.756,2,   1.095,2,   1.163,2,  2046.6,2,  2294.4,2,   7.9492,2,    25.00,-999.000,9,-999.0000,9, -999.00,9,  24.2408, -999.00,9,  -999.0,9,  -999.0,-999.000,9,-999.000,  -999.0,9, -999.00,9,     10.892,3, -999.00,9,-999.000,-999.0000, -999.00,     -999.0,     -999.0,9,     -999.0,     -999.0,9,     -999.0,  -999.0,9,     -999.0,     -999.0,9,     -999.0,  24.1925,    35.0997,2,-999.0000,2,      0.179,2
33RO20150410,     P16N.1,      76,          1,         19,         19,2,20150430,       2018,     5.0007,  -150.9995,       5192,   132.7,  19.0607,  34.7905,2,  34.7907,2,    122.8,2,   121.6,2,    8.80,2,   12.10,2,    0.03,2,    0.98,2,   1.973,2,   1.185,2,   1.042,2,  2107.5,2,  2289.9,2,   7.8150,6,    25.01,-999.000,9,-999.0000,9, -999.00,9,  19.0523, -999.00,9,  -999.0,9,  -999.0,-999.000,9,-999.000,  -999.0,9, -999.00,9,     21.257,3, -999.00,9,-999.000,-999.0000, -999.00,     -999.0,     -999.0,9,     -999.0,     -999.0,9,     -999.0,  -999.0,9,     -999.0,     -999.0,9,     -999.0,  19.0370,    34.9547,2,-999.0000,2,      0.044,2
33RO20150410,     P16N.1,      76,          1,         18,         18,2,20150430,       2018,     5.0007,  -150.9995,       5192,   200.5,  10.9366,  34.6414,2,  34.6594,2,     49.7,2,    48.0,2,   29.30,2,   31.20,2,    0.01,2,    2.25,2,   0.967,6,   0.526,6,   0.244,6,  2230.1,2,  2297.4,2,   7.5029,2,    25.00,-999.000,9,-999.0000,9, -999.00,9,  10.9222, -999.00,9,  -999.0,9,  -999.0,-999.000,9,-999.000,  -999.0,9, -999.00,9,     59.326,3, -999.00,9,-999.000,-999.0000, -999.00,     -999.0,     -999.0,9,     -999.0,     -999.0,9,     -999.0,  -999.0,9,     -999.0,     -999.0,9,     -999.0,  10.9121,    34.8228,2,-999.0000,2,      0.000,2
33RO20150410,     P16N.1,      76,          1,         17,         17,2,20150430,       2018,     5.0007,  -150.9995,       5192,   275.0,   9.6405,  34.6727,2,  34.6737,2,     28.0,2,    33.0,2,   33.00,2,   34.60,2,    0.01,2,    2.45,2,   0.505,2,   0.268,2,   0.071,2,  2253.5,2,  2302.9,2,   7.4507,2,    25.00,-999.000,9,-999.0000,9, -999.00,9,   9.6466, -999.00,9,  -999.0,9,  -999.0,-999.000,9,-999.000,  -999.0,9, -999.00,9,     55.472,3, -999.00,9,-999.000,-999.0000, -999.00,     -999.0,     -999.0,9,     -999.0,     -999.0,9,     -999.0,  -999.0,9,     -999.0,     -999.0,9,     -999.0,   9.6093,    34.8372,2,-999.0000,2,     -999.0,9
33RO20150410,     P16N.1,      76,          1,         16,         16,2,20150430,       2018,     5.0007,  -150.9995,       5192,   366.0,   8.8995,  34.6409,2,  34.6401,2,     55.7,2,    58.6,2,   34.30,2,   34.50,2,    0.00,2,    2.41,2,   0.502,2,   0.267,2,   0.105,2,  2243.5,2,  2304.5,2,   7.4891,6,    25.01,-999.000,9,-999.0000,9, -999.00,9,   8.8983, -999.00,9,  -999.0,9,  -999.0,-999.000,9,-999.000,  -999.0,9, -999.00,9,     44.238,3, -999.00,9,-999.000,-999.0000, -999.00,     -999.0,     -999.0,9,     -999.0,     -999.0,9,     -999.0,  -999.0,9,     -999.0,     -999.0,9,     -999.0,   8.8598,    34.8035,2,-999.0000,2,     -999.0,9
33RO20150410,     P16N.1,      76,          1,         15,         15,2,20150430,       2018,     5.0007,  -150.9995,       5192,   467.7,   8.2344,  34.6141,2,  34.6136,2,     41.8,2,    37.7,2,   40.70,2,   37.70,2,    0.01,2,    2.65,2,   0.228,2,   0.120,2,       0,2,  2268.7,2,  2309.8,2,   7.4337,2,    24.98,-999.000,9,-999.0000,9, -999.00,9,   8.2338, -999.00,9,  -999.0,9,  -999.0,-999.000,9,-999.000,  -999.0,9, -999.00,9,     49.591,3, -999.00,9,-999.000,-999.0000, -999.00,     -999.0,     -999.0,9,     -999.0,     -999.0,9,     -999.0,  -999.0,9,     -999.0,     -999.0,9,     -999.0,   8.1857,    34.7768,2,-999.0000,2,     -999.0,9
33RO20150410,     P16N.1,      76,          1,         14,         14,2,20150430,       2018,     5.0007,  -150.9995,       5192,   600.9,   7.0762,  34.5730,2,  34.5721,2,     28.8,2,    25.7,2,   53.10,2,   40.90,2,    0.01,2,    2.94,2,   0.041,2,   0.026,2,   0.017,2,  2292.3,6,  2319.9,2,   7.3894,2,    24.99,-999.000,9,-999.0000,9, -999.00,9,   7.0771, -999.00,9,  -999.0,9,  -999.0,-999.000,9,-999.000,  -999.0,9, -999.00,9,     52.881,3, -999.00,9,-999.000,-999.0000, -999.00,     -999.0,     -999.0,9,     -999.0,     -999.0,9,     -999.0,  -999.0,9,     -999.0,     -999.0,9,     -999.0,   7.0183,    34.7352,2,-999.0000,2,     -999.0,9
33RO20150410,     P16N.1,      76,          1,         13,         13,2,20150430,       2018,     5.0007,  -150.9995,       5192,   710.3,   6.0960,  34.5550,2,  34.5554,2,     27.7,2,    27.2,2,   64.70,2,   42.80,2,    0.01,2,    3.04,2,   0.014,2,   0.008,2,       0,2,  2306.9,2,  2330.5,2,   7.3785,6,    25.01,-999.000,9,-999.0000,9, -999.00,9,   6.0959, -999.00,9,  -999.0,9,  -999.0,-999.000,9,-999.000,  -999.0,9, -999.00,9,     50.367,3, -999.00,9,-999.000,-999.0000, -999.00,     -999.0,     -999.0,9,     -999.0,     -999.0,9,     -999.0,  -999.0,9,     -999.0,     -999.0,9,     -999.0,   6.0323,    34.7183,6,-999.0000,2,     -999.0,9
33RO20150410,     P16N.1,      76,          1,         12,         12,2,20150430,       2018,     5.0007,  -150.9995,       5192,   899.6,   4.9354,  34.5576,2,  34.5571,2,     39.9,2,    39.6,2,   82.70,2,   43.60,2,    0.01,2,    3.09,2,   0.002,2,   0.003,2,       0,2,  2324.9,2,  2350.7,2,   7.3886,2,    24.99,-999.000,9,-999.0000,9, -999.00,9,   4.9348, -999.00,9,  -999.0,9,  -999.0,-999.000,9,-999.000,  -999.0,9, -999.00,9,     43.230,3, -999.00,9,-999.000,-999.0000, -999.00,     -999.0,     -999.0,9,     -999.0,     -999.0,9,     -999.0,  -999.0,9,     -999.0,     -999.0,9,     -999.0,   4.8615,    34.7201,2,-999.0000,2,     -999.0,9
33RO20150410,     P16N.1,      76,          1,         11,         11,2,20150430,       2018,     5.0007,  -150.9995,       5192,  1001.5,   4.4495,  34.5633,2,  34.5631,2,     59.6,2,    58.5,2,   90.30,2,   42.00,2,    0.00,2,    2.99,2,   0.002,2,   0.001,2,       0,2,  2324.1,2,  2359.9,2,   7.4238,2,    24.99,-999.000,9,-999.0000,9, -999.00,9,   4.4572, -999.00,9,  -999.0,9,  -999.0,-999.000,9,-999.000,  -999.0,9, -999.00,9,     38.071,3, -999.00,9,-999.000,-999.0000, -999.00,     -999.0,     -999.0,9,     -999.0,     -999.0,9,     -999.0,  -999.0,9,     -999.0,     -999.0,9,     -999.0,   4.3701,    34.7261,2,-999.0000,2,     -999.0,9
33RO20150410,     P16N.1,      76,          1,         10,         10,2,20150430,       2018,     5.0007,  -150.9995,       5192,  1234.7,   3.6711,  34.5854,2,  34.5930,2,     65.7,2,    65.3,2,  107.70,2,   42.10,2,    0.00,2,    2.98,2,   0.003,2,   0.002,2,       0,2,  2340.8,2,  2380.3,2,   7.4336,2,    24.99,-999.000,9,-999.0000,9, -999.00,9,   3.6715, -999.00,9,  -999.0,9,  -999.0,-999.000,9,-999.000,  -999.0,9, -999.00,9,     35.169,3, -999.00,9,-999.000,-999.0000, -999.00,     -999.0,     -999.0,9,     -999.0,     -999.0,9,     -999.0,  -999.0,9,     -999.0,     -999.0,9,     -999.0,   3.5784,    34.7561,3,-999.0000,2,     -999.0,9
33RO20150410,     P16N.1,      76,          1,          9,          9,2,20150430,       2018,     5.0007,  -150.9995,       5192,  1500.6,   2.9881,  34.6117,2,  34.6115,2,     76.2,2,    76.8,2,  123.80,2,   41.30,2,    0.00,2,    2.93,2,   0.003,2,   0.000,2,       0,2,  2348.9,2,  2398.7,2,   7.4535,6,    25.01,-999.000,9,-999.0000,9, -999.00,9,   2.9876, -999.00,9,  -999.0,9,  -999.0,-999.000,9,-999.000,  -999.0,9, -999.00,9,     32.341,3, -999.00,9,-999.000,-999.0000, -999.00,     -999.0,     -999.0,9,     -999.0,     -999.0,9,     -999.0,  -999.0,9,     -999.0,     -999.0,9,     -999.0,   2.8802,    34.7747,2,-999.0000,2,     -999.0,9
33RO20150410,     P16N.1,      76,          1,          8,          8,2,20150430,       2018,     5.0007,  -150.9995,       5192,  1867.4,   2.3628,  34.6377,2,  34.6372,2,     92.2,2,    94.7,2,  136.80,2,   40.20,2,    0.00,2,    2.82,2,   0.004,2,   0.002,2,       0,2,  2353.5,2,  2414.6,2,   7.4865,2,    25.01,-999.000,9,-999.0000,9, -999.00,9,   2.3625, -999.00,9,  -999.0,9,  -999.0,-999.000,9,-999.000,  -999.0,9, -999.00,9,     27.716,3, -999.00,9,-999.000,-999.0000, -999.00,     -999.0,     -999.0,9,     -999.0,     -999.0,9,     -999.0,  -999.0,9,     -999.0,     -999.0,9,     -999.0,   2.2321,    34.8005,2,-999.0000,2,     -999.0,9
33RO20150410,     P16N.1,      76,          1,          7,          7,2,20150430,       2018,     5.0007,  -150.9995,       5192,  2266.8,   1.9447,  34.6609,2,  34.6606,2,    108.7,2,   109.6,2,  145.80,2,   39.10,2,    0.01,2,    2.72,2,   0.005,2,   0.003,2,       0,2,  2353.5,2,  2427.4,2,   7.5162,2,    25.01,-999.000,9,-999.0000,9, -999.00,9,   1.9448, -999.00,9,  -999.0,9,  -999.0,-999.000,9,-999.000,  -999.0,9, -999.00,9,     24.620,3, -999.00,9,-999.000,-999.0000, -999.00,     -999.0,     -999.0,9,     -999.0,     -999.0,9,     -999.0,  -999.0,9,     -999.0,     -999.0,9,     -999.0,   1.7862,    34.8240,6,-999.0000,3,     -999.0,9
33RO20150410,     P16N.1,      76,          1,          6,          6,2,20150430,       2018,     5.0007,  -150.9995,       5192,  2666.7,   1.8084,  34.6694,2,  34.6681,2,    116.4,2,   117.6,2,  148.20,2,   38.60,2,    0.00,2,    2.68,2,   0.001,2,   0.000,2,       0,2,  2354.3,2,  2430.2,2,   7.5296,2,    25.01,-999.000,9,-999.0000,9, -999.00,9,   1.8083, -999.00,9,  -999.0,9,  -999.0,-999.000,9,-999.000,  -999.0,9, -999.00,9,     23.431,3, -999.00,9,-999.000,-999.0000, -999.00,     -999.0,     -999.0,9,     -999.0,     -999.0,9,     -999.0,  -999.0,9,     -999.0,     -999.0,9,     -999.0,   1.6164,    34.8315,2,-999.0000,3,     -999.0,9
33RO20150410,     P16N.1,      76,          1,          5,          5,2,20150430,       2018,     5.0007,  -150.9995,       5192,  3133.5,   1.6063,  34.6804,2,  34.6793,2,    131.0,2,   132.6,2,  148.90,2,   37.70,2,    0.00,2,    2.58,2,   0.001,2,  -0.001,2,       0,2,  2343.4,2,  2431.2,2,   7.5547,2,    24.99,-999.000,9,-999.0000,9, -999.00,9,   1.6060, -999.00,9,  -999.0,9,  -999.0,-999.000,9,-999.000,  -999.0,9, -999.00,9,     21.798,3, -999.00,9,-999.000,-999.0000, -999.00,     -999.0,     -999.0,9,     -999.0,     -999.0,9,     -999.0,  -999.0,9,     -999.0,     -999.0,9,     -999.0,   1.3742,    34.8428,2,-999.0000,2,     -999.0,9
33RO20150410,     P16N.1,      76,          1,          4,          4,2,20150430,       2018,     5.0007,  -150.9995,       5192,  3613.5,   1.4666,  34.6892,2,  34.6883,2,    150.3,2,   151.2,2,  142.60,6,   36.20,6,    0.01,6,    2.48,6,  -0.001,2,   0.001,2,       0,2,  2328.3,2,  2425.9,2,   7.5828,2,    25.00,-999.000,9,-999.0000,9, -999.00,9,   1.4668, -999.00,9,  -999.0,9,  -999.0,-999.000,9,-999.000,  -999.0,9, -999.00,9,     20.920,3, -999.00,9,-999.000,-999.0000, -999.00,     -999.0,     -999.0,9,     -999.0,     -999.0,9,     -999.0,  -999.0,9,     -999.0,     -999.0,9,     -999.0,   1.1896,    34.8519,2,-999.0000,2,     -999.0,9
33RO20150410,     P16N.1,      76,          1,          3,          3,2,20150430,       2018,     5.0007,  -150.9995,       5192,  4133.1,   1.3837,  34.6957,2,  34.6950,2,    163.8,2,   164.6,2,  137.00,6,   35.40,6,    0.00,6,    2.42,6,  -0.001,2,   0.001,2,       0,2,  2315.1,2,  2418.5,2,   7.5978,6,    24.99,-999.000,9,-999.0000,9, -999.00,9,   1.3840, -999.00,9,  -999.0,9,  -999.0,-999.000,9,-999.000,  -999.0,9, -999.00,9,     19.974,3, -999.00,9,-999.000,-999.0000, -999.00,     -999.0,     -999.0,9,     -999.0,     -999.0,9,     -999.0,  -999.0,9,     -999.0,     -999.0,9,     -999.0,   1.0534,    34.8586,2,-999.0000,2,     -999.0,9
33RO20150410,     P16N.1,      76,          1,          2,          2,2,20150430,       2018,     5.0007,  -150.9995,       5192,  4632.0,   1.3929,  34.6973,2,  34.6973,2,    169.4,2,   169.9,2,  134.30,6,   35.00,6,    0.01,6,    2.40,6,   0.000,2,   0.001,2,       0,2,  2309.0,2,  2410.9,6,   7.5996,2,    25.00,-999.000,9,-999.0000,9, -999.00,9,   1.3929, -999.00,9,  -999.0,9,  -999.0,-999.000,9,-999.000,  -999.0,9, -999.00,9,     20.119,3, -999.00,9,-999.000,-999.0000, -999.00,     -999.0,     -999.0,9,     -999.0,     -999.0,9,     -999.0,  -999.0,9,     -999.0,     -999.0,9,     -999.0,   1.0058,    34.8610,2,-999.0000,2,     -999.0,9
33RO20150410,     P16N.1,      76,          1,          1,          1,2,20150430,       2018,     5.0007,  -150.9995,       5192,  5155.5,   1.4522,  34.6971,2,  34.7023,4,    170.9,2,   170.7,2,  133.90,6,   34.90,6,    0.00,6,    2.38,6,   0.000,6,   0.002,6,       0,6,  2309.4,6,  2410.9,2,   7.5991,2,    25.01,-999.000,9,-999.0000,9, -999.00,9,   1.4521, -999.00,9,  -999.0,9,  -999.0,-999.000,9,-999.000,  -999.0,9, -999.00,9,     20.143,3, -999.00,9,-999.000,-999.0000, -999.00,     -999.0,     -999.0,9,     -999.0,     -999.0,9,     -999.0,  -999.0,9,     -999.0,     -999.0,9,     -999.0,   1.0004,    34.8659,3,-999.0000,2,     -999.0,9