BOTTLE,20210709CCHSIOCBG
EXPOCODE,SECT_ID,STNNBR,CASTNO,SAMPNO,BTLNBR,BTLNBR_FLAG_W,DATE,TIME,LATITUDE,LONGITUDE,DEPTH,CTDPRS,CTDTMP,CTDSAL,CTDSAL_FLAG_W,SALNTY,SALNTY_FLAG_W,CTDOXY,CTDOXY_FLAG_W,OXYGEN,OXYGEN_FLAG_W,SILCAT,SILCAT_FLAG_W,NITRAT,NITRAT_FLAG_W,NITRIT,NITRIT_FLAG_W,PHSPHT,PHSPHT_FLAG_W,CFC-11,CFC-11_FLAG_W,CFC-12,CFC-12_FLAG_W,SF6,SF6_FLAG_W,TCARBN,TCARBN_FLAG_W,ALKALI,ALKALI_FLAG_W,PH_TOT,PH_TOT_FLAG_W,PH_TMP,TRITUM,TRITUM_FLAG_W,HELIUM,HELIUM_FLAG_W,DELHE3,DELHE3_FLAG_W,REFTMP,DELC13,DELC13_FLAG_W,DELC14,DELC14_FLAG_W,C14ERR,NEON,NEON_FLAG_W,NEONER,DOC,DOC_FLAG_W,TDN,TDN_FLAG_W,N2O,N2O_FLAG_W,ARGON,ARGON_FLAG_W,TRITER,HELIER,DELHER,ARGONER,KRYPTON,KRYPTON_FLAG_W,KRYPTONER,XENON,XENON_FLAG_W,XENONER,14C-DOC,14C-DOC_FLAG_W,14C-DOCERR,13C-DOC,13C-DOC_FLAG_W,13C-DOCERR,THETA,SALTREF,SALTREF_FLAG_W,SBE35,SBE35_FLAG_W,CHLORA,CHLORA_FLAG_W
,,,,,,,,,,,METERS,DBAR,ITS-90,PSS-78,,PSS-78,,UMOL/KG,,UMOL/KG,,UMOL/KG,,UMOL/KG,,UMOL/KG,,UMOL/KG,,PMOL/KG,,PMOL/KG,,FMOL/KG,,UMOL/KG,,UMOL/KG,,,,DEG C,TU,,NMOL/KG,,PERCNT,,DEG C,/MILLE,,/MILLE,,/MILLE,NMOL/KG,,NMOL/KG,UMOL/KG,,UMOL/KG,,NMOL/KG,,UMOL/KG,,TU,NMOL/KG,PERCNT,UMOL/KG,NMOL/KG,,NMOL/KG,NMOL/KG,,NMOL/KG,/MILLE,,/MILLE,/MILLE,,/MILLE,DEG C,G/KG,,ITS-90,,MG/M3,
33RO20150410,     P16N.1,      41,          4,         24,         24,2,20150422,       1032,    -1.5588,  -151.0006,       4939,    10.8,  28.5659,  35.3116,2,  35.3092,2,    199.5,2,   200.1,2,    1.80,2,    3.30,2,    0.15,2,    0.40,4,-999.000,9,-999.000,9,-999.000,9,  2018.1,6,  2324.6,2,   8.0424,2,    25.00,-999.000,9,-999.0000,9, -999.00,9,-999.0000, -999.00,9,  -999.0,9,  -999.0,-999.000,9,-999.000,  -999.0,9, -999.00,9,     -999.0,9, -999.00,9,-999.000,-999.0000, -999.00,     -999.0,     -999.0,9,     -999.0,     -999.0,9,     -999.0,  -999.0,9,     -999.0,     -999.0,9,     -999.0,  28.5633,    35.4757,2,-999.0000,2,     -999.0,9
33RO20150410,     P16N.1,      41,          4,         23,         23,2,20150422,       1032,    -1.5588,  -151.0006,       4939,    19.9,  28.5677,  35.3106,2,  35.3090,2,    199.8,2,   199.6,2,    1.80,2,    3.30,2,    0.15,2,    0.39,4,-999.000,9,-999.000,9,-999.000,9,  -999.0,9,  -999.0,9,-999.0000,9,  -999.00,-999.000,9,-999.0000,9, -999.00,9,-999.0000, -999.00,9,  -999.0,9,  -999.0,-999.000,9,-999.000,  -999.0,9, -999.00,9,     -999.0,9, -999.00,9,-999.000,-999.0000, -999.00,     -999.0,     -999.0,9,     -999.0,     -999.0,9,     -999.0,  -999.0,9,     -999.0,     -999.0,9,     -999.0,  28.5629,    35.4755,2,-999.0000,2,     -999.0,9
33RO20150410,     P16N.1,      41,          4,         22,         22,2,20150422,       1032,    -1.5588,  -151.0006,       4939,    41.7,  28.3560,  35.2988,2,  35.3021,2,    200.3,2,   200.2,2,    1.90,2,    3.50,2,    0.15,2,    0.42,4,-999.000,9,-999.000,9,-999.000,9,  -999.0,9,  -999.0,9,-999.0000,9,  -999.00,-999.000,9,-999.0000,9, -999.00,9,-999.0000, -999.00,9,  -999.0,9,  -999.0,-999.000,9,-999.000,  -999.0,9, -999.00,9,     -999.0,9, -999.00,9,-999.000,-999.0000, -999.00,     -999.0,     -999.0,9,     -999.0,     -999.0,9,     -999.0,  -999.0,9,     -999.0,     -999.0,9,     -999.0,  28.3461,    35.4686,2,-999.0000,2,     -999.0,9
33RO20150410,     P16N.1,      41,          4,         21,         21,2,20150422,       1032,    -1.5588,  -151.0006,       4939,    67.5,  27.7395,  35.2348,2,  35.2369,2,    197.8,2,   197.6,2,    2.00,2,    4.20,2,    0.24,2,    0.48,4,-999.000,9,-999.000,9,-999.000,9,  -999.0,9,  -999.0,9,-999.0000,9,  -999.00,-999.000,9,-999.0000,9, -999.00,9,-999.0000, -999.00,9,  -999.0,9,  -999.0,-999.000,9,-999.000,  -999.0,9, -999.00,9,     -999.0,9, -999.00,9,-999.000,-999.0000, -999.00,     -999.0,     -999.0,9,     -999.0,     -999.0,9,     -999.0,  -999.0,9,     -999.0,     -999.0,9,     -999.0,  27.7237,    35.4031,2,-999.0000,2,     -999.0,9
33RO20150410,     P16N.1,      41,          4,         20,         20,2,20150422,       1032,    -1.5588,  -151.0006,       4939,    91.8,  27.2965,  35.2382,2,  35.2387,2,    192.3,2,   192.2,2,    2.20,2,    4.50,2,    0.25,2,    0.54,4,-999.000,9,-999.000,9,-999.000,9,  -999.0,9,  -999.0,9,-999.0000,9,  -999.00,-999.000,9,-999.0000,9, -999.00,9,-999.0000, -999.00,9,  -999.0,9,  -999.0,-999.000,9,-999.000,  -999.0,9, -999.00,9,     -999.0,9, -999.00,9,-999.000,-999.0000, -999.00,     -999.0,     -999.0,9,     -999.0,     -999.0,9,     -999.0,  -999.0,9,     -999.0,     -999.0,9,     -999.0,  27.2753,    35.4049,2,-999.0000,2,     -999.0,9
33RO20150410,     P16N.1,      41,          4,         19,         19,2,20150422,       1032,    -1.5588,  -151.0006,       4939,   131.3,  25.5898,  35.4832,2,  35.4845,2,    169.3,2,   168.5,2,    2.50,2,    6.40,2,    1.88,2,    0.72,4,-999.000,9,-999.000,9,-999.000,9,  -999.0,9,  -999.0,9,-999.0000,9,  -999.00,-999.000,9,-999.0000,9, -999.00,9,-999.0000, -999.00,9,  -999.0,9,  -999.0,-999.000,9,-999.000,  -999.0,9, -999.00,9,     -999.0,9, -999.00,9,-999.000,-999.0000, -999.00,     -999.0,     -999.0,9,     -999.0,     -999.0,9,     -999.0,  -999.0,9,     -999.0,     -999.0,9,     -999.0,  25.5608,    35.6519,2,-999.0000,2,     -999.0,9
33RO20150410,     P16N.1,      41,          4,         18,         18,2,20150422,       1032,    -1.5588,  -151.0006,       4939,   200.3,  12.6141,  34.9129,2,  34.9133,2,     47.2,2,    41.3,2,   21.50,2,   29.20,2,    0.01,2,    1.93,4,-999.000,9,-999.000,9,-999.000,9,  -999.0,9,  -999.0,9,-999.0000,9,  -999.00,-999.000,9,-999.0000,9, -999.00,9,-999.0000, -999.00,9,  -999.0,9,  -999.0,-999.000,9,-999.000,  -999.0,9, -999.00,9,     -999.0,9, -999.00,9,-999.000,-999.0000, -999.00,     -999.0,     -999.0,9,     -999.0,     -999.0,9,     -999.0,  -999.0,9,     -999.0,     -999.0,9,     -999.0,  12.5871,    35.0779,2,-999.0000,2,     -999.0,9
33RO20150410,     P16N.1,      41,          4,         17,         17,2,20150422,       1032,    -1.5588,  -151.0006,       4939,   275.4,  11.6529,  34.8291,2,  34.8287,2,     50.1,2,    53.1,2,   24.40,2,   29.40,2,    0.01,2,    1.94,4,-999.000,9,-999.000,9,-999.000,9,  -999.0,9,  -999.0,9,-999.0000,9,  -999.00,-999.000,9,-999.0000,9, -999.00,9,-999.0000, -999.00,9,  -999.0,9,  -999.0,-999.000,9,-999.000,  -999.0,9, -999.00,9,     -999.0,9, -999.00,9,-999.000,-999.0000, -999.00,     -999.0,     -999.0,9,     -999.0,     -999.0,9,     -999.0,  -999.0,9,     -999.0,     -999.0,9,     -999.0,  11.6176,    34.9930,2,-999.0000,2,     -999.0,9
33RO20150410,     P16N.1,      41,          4,         16,         16,2,20150422,       1032,    -1.5588,  -151.0006,       4939,   367.4,  10.5496,  34.7578,2,  34.7511,2,     35.6,2,    38.8,2,   29.20,2,   33.00,2,    0.01,2,    2.15,4,-999.000,9,-999.000,9,-999.000,9,  -999.0,9,  -999.0,9,-999.0000,9,  -999.00,-999.000,9,-999.0000,9, -999.00,9,-999.0000, -999.00,9,  -999.0,9,  -999.0,-999.000,9,-999.000,  -999.0,9, -999.00,9,     -999.0,9, -999.00,9,-999.000,-999.0000, -999.00,     -999.0,     -999.0,9,     -999.0,     -999.0,9,     -999.0,  -999.0,9,     -999.0,     -999.0,9,     -999.0,  10.5053,    34.9149,2,-999.0000,2,     -999.0,9
33RO20150410,     P16N.1,      41,          4,         15,         15,2,20150422,       1032,    -1.5588,  -151.0006,       4939,   465.4,   7.4308,  34.5909,2,  34.5914,2,     61.9,2,    63.3,2,   42.70,2,   36.80,2,    0.00,2,    2.43,4,-999.000,9,-999.000,9,-999.000,9,  -999.0,9,  -999.0,9,-999.0000,9,  -999.00,-999.000,9,-999.0000,9, -999.00,9,-999.0000, -999.00,9,  -999.0,9,  -999.0,-999.000,9,-999.000,  -999.0,9, -999.00,9,     -999.0,9, -999.00,9,-999.000,-999.0000, -999.00,     -999.0,     -999.0,9,     -999.0,     -999.0,9,     -999.0,  -999.0,9,     -999.0,     -999.0,9,     -999.0,   7.3851,    34.7545,2,-999.0000,2,     -999.0,9
33RO20150410,     P16N.1,      41,          4,         14,         14,2,20150422,       1032,    -1.5588,  -151.0006,       4939,   600.4,   6.6350,  34.5638,2,  34.5628,2,     65.4,2,    65.7,2,   50.70,2,   38.30,2,    0.01,2,    2.55,4,-999.000,9,-999.000,9,-999.000,9,  -999.0,9,  -999.0,9,-999.0000,9,  -999.00,-999.000,9,-999.0000,9, -999.00,9,-999.0000, -999.00,9,  -999.0,9,  -999.0,-999.000,9,-999.000,  -999.0,9, -999.00,9,     -999.0,9, -999.00,9,-999.000,-999.0000, -999.00,     -999.0,     -999.0,9,     -999.0,     -999.0,9,     -999.0,  -999.0,9,     -999.0,     -999.0,9,     -999.0,   6.5792,    34.7257,2,-999.0000,2,     -999.0,9
33RO20150410,     P16N.1,      41,          4,         13,         13,2,20150422,       1032,    -1.5588,  -151.0006,       4939,   750.7,   5.7975,  34.5488,2,  34.5476,2,     72.8,2,    72.7,2,   61.40,2,   38.70,2,    0.01,2,    2.64,4,-999.000,9,-999.000,9,-999.000,9,  -999.0,9,  -999.0,9,-999.0000,9,  -999.00,-999.000,9,-999.0000,9, -999.00,9,-999.0000, -999.00,9,  -999.0,9,  -999.0,-999.000,9,-999.000,  -999.0,9, -999.00,9,     -999.0,9, -999.00,9,-999.000,-999.0000, -999.00,     -999.0,     -999.0,9,     -999.0,     -999.0,9,     -999.0,  -999.0,9,     -999.0,     -999.0,9,     -999.0,   5.7317,    34.7106,6,-999.0000,2,     -999.0,9
33RO20150410,     P16N.1,      41,          4,         12,         12,2,20150422,       1032,    -1.5588,  -151.0006,       4939,   901.9,   5.0107,  34.5462,2,  34.5439,2,     84.2,2,    84.5,2,   73.10,2,   38.60,2,    0.00,2,    2.65,4,-999.000,9,-999.000,9,-999.000,9,  -999.0,9,  -999.0,9,-999.0000,9,  -999.00,-999.000,9,-999.0000,9, -999.00,9,-999.0000, -999.00,9,  -999.0,9,  -999.0,-999.000,9,-999.000,  -999.0,9, -999.00,9,     -999.0,9, -999.00,9,-999.000,-999.0000, -999.00,     -999.0,     -999.0,9,     -999.0,     -999.0,9,     -999.0,  -999.0,9,     -999.0,     -999.0,9,     -999.0,   4.9361,    34.7068,2,-999.0000,2,     -999.0,9
33RO20150410,     P16N.1,      41,          4,         11,         11,2,20150422,       1032,    -1.5588,  -151.0006,       4939,  1049.6,   4.1964,  34.5610,2,  34.5591,2,     89.7,2,    89.2,2,   88.90,2,   38.90,2,    0.00,2,    2.73,4,-999.000,9,-999.000,9,-999.000,9,  -999.0,9,  -999.0,9,-999.0000,9,  -999.00,-999.000,9,-999.0000,9, -999.00,9,-999.0000, -999.00,9,  -999.0,9,  -999.0,-999.000,9,-999.000,  -999.0,9, -999.00,9,     -999.0,9, -999.00,9,-999.000,-999.0000, -999.00,     -999.0,     -999.0,9,     -999.0,     -999.0,9,     -999.0,  -999.0,9,     -999.0,     -999.0,9,     -999.0,   4.1149,    34.7221,6,-999.0000,3,     -999.0,9
33RO20150410,     P16N.1,      41,          4,         10,         10,9,20150422,       1032,    -1.5588,  -151.0006,       4939,  1233.1,   3.6141,  34.5816,2,-999.0000,9,     87.0,2,  -999.0,9, -999.00,9, -999.00,9, -999.00,9, -999.00,9,-999.000,9,-999.000,9,-999.000,9,  -999.0,9,  -999.0,9,-999.0000,9,  -999.00,-999.000,9,-999.0000,9, -999.00,9,-999.0000, -999.00,9,  -999.0,9,  -999.0,-999.000,9,-999.000,  -999.0,9, -999.00,9,     -999.0,9, -999.00,9,-999.000,-999.0000, -999.00,     -999.0,     -999.0,9,     -999.0,     -999.0,9,     -999.0,  -999.0,9,     -999.0,     -999.0,9,     -999.0,-999.0000,     -999.0,9,-999.0000,3,     -999.0,9
33RO20150410,     P16N.1,      41,          4,          9,          9,2,20150422,       1032,    -1.5588,  -151.0006,       4939,  1500.3,   3.0067,  34.6027,2,  34.6003,2,    100.1,2,   100.2,2,  115.40,2,   38.90,2,    0.00,2,    2.77,4,-999.000,9,-999.000,9,-999.000,9,  -999.0,9,  -999.0,9,-999.0000,9,  -999.00,-999.000,9,-999.0000,9, -999.00,9,-999.0000, -999.00,9,  -999.0,9,  -999.0,-999.000,9,-999.000,  -999.0,9, -999.00,9,     -999.0,9, -999.00,9,-999.000,-999.0000, -999.00,     -999.0,     -999.0,9,     -999.0,     -999.0,9,     -999.0,  -999.0,9,     -999.0,     -999.0,9,     -999.0,   2.8987,    34.7635,2,-999.0000,2,     -999.0,9
33RO20150410,     P16N.1,      41,          4,          8,          8,2,20150422,       1032,    -1.5588,  -151.0006,       4939,  1868.1,   2.3655,  34.6398,2,  34.6328,4,    101.1,2,   101.7,2,  136.00,2,   39.00,2,    0.01,2,    2.82,4,-999.000,9,-999.000,9,-999.000,9,  -999.0,9,  -999.0,9,-999.0000,9,  -999.00,-999.000,9,-999.0000,9, -999.00,9,-999.0000, -999.00,9,  -999.0,9,  -999.0,-999.000,9,-999.000,  -999.0,9, -999.00,9,     -999.0,9, -999.00,9,-999.000,-999.0000, -999.00,     -999.0,     -999.0,9,     -999.0,     -999.0,9,     -999.0,  -999.0,9,     -999.0,     -999.0,9,     -999.0,   2.2348,    34.7961,3,-999.0000,2,     -999.0,9
33RO20150410,     P16N.1,      41,          4,          7,          7,2,20150422,       1032,    -1.5588,  -151.0006,       4939,  2268.3,   2.0424,  34.6551,2,  34.6524,2,    112.7,2,   113.7,2,  141.80,2,   38.30,2,    0.00,2,    2.78,4,-999.000,9,-999.000,9,-999.000,9,  -999.0,9,  -999.0,9,-999.0000,9,  -999.00,-999.000,9,-999.0000,9, -999.00,9,-999.0000, -999.00,9,  -999.0,9,  -999.0,-999.000,9,-999.000,  -999.0,9, -999.00,9,     -999.0,9, -999.00,9,-999.000,-999.0000, -999.00,     -999.0,     -999.0,9,     -999.0,     -999.0,9,     -999.0,  -999.0,9,     -999.0,     -999.0,9,     -999.0,   1.8821,    34.8158,2,-999.0000,3,     -999.0,9
33RO20150410,     P16N.1,      41,          4,          6,          6,2,20150422,       1032,    -1.5588,  -151.0006,       4939,  2668.1,   1.7592,  34.6682,2,  34.6658,2,    132.3,2,   132.2,2,  140.50,2,   37.10,2,    0.01,2,    2.69,4,-999.000,9,-999.000,9,-999.000,9,  -999.0,9,  -999.0,9,-999.0000,9,  -999.00,-999.000,9,-999.0000,9, -999.00,9,-999.0000, -999.00,9,  -999.0,9,  -999.0,-999.000,9,-999.000,  -999.0,9, -999.00,9,     -999.0,9, -999.00,9,-999.000,-999.0000, -999.00,     -999.0,     -999.0,9,     -999.0,     -999.0,9,     -999.0,  -999.0,9,     -999.0,     -999.0,9,     -999.0,   1.5680,    34.8292,2,-999.0000,3,     -999.0,9
33RO20150410,     P16N.1,      41,          4,          5,          5,2,20150422,       1032,    -1.5588,  -151.0006,       4939,  3067.4,   1.6299,  34.6758,2,  34.6738,2,    140.6,2,   140.3,2,  141.20,2,   36.50,2,    0.01,2,    2.66,4,-999.000,9,-999.000,9,-999.000,9,  -999.0,9,  -999.0,9,-999.0000,9,  -999.00,-999.000,9,-999.0000,9, -999.00,9,-999.0000, -999.00,9,  -999.0,9,  -999.0,-999.000,9,-999.000,  -999.0,9, -999.00,9,     -999.0,9, -999.00,9,-999.000,-999.0000, -999.00,     -999.0,     -999.0,9,     -999.0,     -999.0,9,     -999.0,  -999.0,9,     -999.0,     -999.0,9,     -999.0,   1.4037,    34.8373,2,-999.0000,2,     -999.0,9
33RO20150410,     P16N.1,      41,          4,          4,          4,2,20150422,       1032,    -1.5588,  -151.0006,       4939,  3467.8,   1.4953,  34.6872,2,  34.6848,2,    151.6,2,   151.5,2,  142.20,6,   35.80,6,    0.00,6,    2.60,4,-999.000,9,-999.000,9,-999.000,9,  -999.0,9,  -999.0,9,-999.0000,9,  -999.00,-999.000,9,-999.0000,9, -999.00,9,-999.0000, -999.00,9,  -999.0,9,  -999.0,-999.000,9,-999.000,  -999.0,9, -999.00,9,     -999.0,9, -999.00,9,-999.000,-999.0000, -999.00,     -999.0,     -999.0,9,     -999.0,     -999.0,9,     -999.0,  -999.0,9,     -999.0,     -999.0,9,     -999.0,   1.2325,    34.8484,2,-999.0000,2,     -999.0,9
33RO20150410,     P16N.1,      41,          4,          3,          3,2,20150422,       1032,    -1.5588,  -151.0006,       4939,  3933.5,   1.4108,  34.6945,2,  34.6915,2,    160.5,2,   159.9,2,  141.60,6,   35.30,6,    0.01,6,    2.55,4,-999.000,9,-999.000,9,-999.000,9,  -999.0,9,  -999.0,9,-999.0000,9,  -999.00,-999.000,9,-999.0000,9, -999.00,9,-999.0000, -999.00,9,  -999.0,9,  -999.0,-999.000,9,-999.000,  -999.0,9, -999.00,9,     -999.0,9, -999.00,9,-999.000,-999.0000, -999.00,     -999.0,     -999.0,9,     -999.0,     -999.0,9,     -999.0,  -999.0,9,     -999.0,     -999.0,9,     -999.0,   1.1015,    34.8551,2,-999.0000,2,     -999.0,9
33RO20150410,     P16N.1,      41,          4,          2,          2,2,20150422,       1032,    -1.5588,  -151.0006,       4939,  4434.4,   1.3731,  34.6988,2,  34.6972,2,    174.4,2,   174.3,2,  132.20,6,   34.10,6,    0.01,6,    2.45,4,-999.000,9,-999.000,9,-999.000,9,  -999.0,9,  -999.0,9,-999.0000,9,  -999.00,-999.000,9,-999.0000,9, -999.00,9,-999.0000, -999.00,9,  -999.0,9,  -999.0,-999.000,9,-999.000,  -999.0,9, -999.00,9,     -999.0,9, -999.00,9,-999.000,-999.0000, -999.00,     -999.0,     -999.0,9,     -999.0,     -999.0,9,     -999.0,  -999.0,9,     -999.0,     -999.0,9,     -999.0,   1.0094,    34.8608,2,-999.0000,2,     -999.0,9
33RO20150410,     P16N.1,      41,          4,          1,          1,2,20150422,       1032,    -1.5588,  -151.0006,       4939,  4929.7,   1.3433,  34.7022,2,  34.7015,2,    184.9,2,   183.3,2,  127.40,6,   33.40,6,    0.00,6,    2.40,4,-999.000,9,-999.000,9,-999.000,9,  -999.0,9,  -999.0,9,-999.0000,9,  -999.00,-999.000,9,-999.0000,9, -999.00,9,-999.0000, -999.00,9,  -999.0,9,  -999.0,-999.000,9,-999.000,  -999.0,9, -999.00,9,     -999.0,9, -999.00,9,-999.000,-999.0000, -999.00,     -999.0,     -999.0,9,     -999.0,     -999.0,9,     -999.0,  -999.0,9,     -999.0,     -999.0,9,     -999.0,   0.9226,    34.8651,2,-999.0000,2,     -999.0,9