BOTTLE,20210709CCHSIOCBG
EXPOCODE,SECT_ID,STNNBR,CASTNO,SAMPNO,BTLNBR,BTLNBR_FLAG_W,DATE,TIME,LATITUDE,LONGITUDE,DEPTH,CTDPRS,CTDTMP,CTDSAL,CTDSAL_FLAG_W,SALNTY,SALNTY_FLAG_W,CTDOXY,CTDOXY_FLAG_W,OXYGEN,OXYGEN_FLAG_W,SILCAT,SILCAT_FLAG_W,NITRAT,NITRAT_FLAG_W,NITRIT,NITRIT_FLAG_W,PHSPHT,PHSPHT_FLAG_W,CFC-11,CFC-11_FLAG_W,CFC-12,CFC-12_FLAG_W,SF6,SF6_FLAG_W,TCARBN,TCARBN_FLAG_W,ALKALI,ALKALI_FLAG_W,PH_TOT,PH_TOT_FLAG_W,PH_TMP,TRITUM,TRITUM_FLAG_W,HELIUM,HELIUM_FLAG_W,DELHE3,DELHE3_FLAG_W,REFTMP,DELC13,DELC13_FLAG_W,DELC14,DELC14_FLAG_W,C14ERR,NEON,NEON_FLAG_W,NEONER,DOC,DOC_FLAG_W,TDN,TDN_FLAG_W,N2O,N2O_FLAG_W,ARGON,ARGON_FLAG_W,TRITER,HELIER,DELHER,ARGONER,KRYPTON,KRYPTON_FLAG_W,KRYPTONER,XENON,XENON_FLAG_W,XENONER,14C-DOC,14C-DOC_FLAG_W,14C-DOCERR,13C-DOC,13C-DOC_FLAG_W,13C-DOCERR,THETA,SALTREF,SALTREF_FLAG_W,SBE35,SBE35_FLAG_W,CHLORA,CHLORA_FLAG_W
,,,,,,,,,,,METERS,DBAR,ITS-90,PSS-78,,PSS-78,,UMOL/KG,,UMOL/KG,,UMOL/KG,,UMOL/KG,,UMOL/KG,,UMOL/KG,,PMOL/KG,,PMOL/KG,,FMOL/KG,,UMOL/KG,,UMOL/KG,,,,DEG C,TU,,NMOL/KG,,PERCNT,,DEG C,/MILLE,,/MILLE,,/MILLE,NMOL/KG,,NMOL/KG,UMOL/KG,,UMOL/KG,,NMOL/KG,,UMOL/KG,,TU,NMOL/KG,PERCNT,UMOL/KG,NMOL/KG,,NMOL/KG,NMOL/KG,,NMOL/KG,/MILLE,,/MILLE,/MILLE,,/MILLE,DEG C,G/KG,,ITS-90,,MG/M3,
33RO20150410,     P16N.1,      63,          1,         24,         24,2,20150427,       1300,     1.8911,  -150.9999,       4521,    14.8,  28.5588,  35.1338,2,  35.1355,2,    199.3,2,   199.9,2,    0.80,2,    2.70,2,    0.18,2,    0.48,2,-999.000,9,-999.000,9,-999.000,9,  2007.7,2,  2310.5,2,   8.0411,2,    25.01,-999.000,9,-999.0000,9, -999.00,9,  28.5598, -999.00,9,  -999.0,9,  -999.0,-999.000,9,-999.000,  -999.0,9, -999.00,9,     -999.0,9, -999.00,9,-999.000,-999.0000, -999.00,     -999.0,     -999.0,9,     -999.0,     -999.0,9,     -999.0,  -999.0,9,     -999.0,     -999.0,9,     -999.0,  28.5553,    35.3012,2,-999.0000,2,     -999.0,9
33RO20150410,     P16N.1,      63,          1,         23,         23,2,20150427,       1300,     1.8911,  -150.9999,       4521,    33.5,  28.5572,  35.1315,2,  35.1323,2,    199.8,2,   199.3,2,    0.90,2,    2.70,2,    0.18,2,    0.49,2,-999.000,9,-999.000,9,-999.000,9,  -999.0,9,  -999.0,9,-999.0000,9,  -999.00,-999.000,9,-999.0000,9, -999.00,9,  28.5577, -999.00,9,  -999.0,9,  -999.0,-999.000,9,-999.000,  -999.0,9, -999.00,9,     -999.0,9, -999.00,9,-999.000,-999.0000, -999.00,     -999.0,     -999.0,9,     -999.0,     -999.0,9,     -999.0,  -999.0,9,     -999.0,     -999.0,9,     -999.0,  28.5492,    35.2980,2,-999.0000,2,     -999.0,9
33RO20150410,     P16N.1,      63,          1,         22,         22,2,20150427,       1300,     1.8911,  -150.9999,       4521,    57.8,  28.5000,  35.1255,2,  35.1274,2,    200.0,2,   199.3,2,    0.90,2,    2.80,2,    0.19,2,    0.54,2,-999.000,9,-999.000,9,-999.000,9,  -999.0,9,  -999.0,9,-999.0000,9,  -999.00,-999.000,9,-999.0000,9, -999.00,9,  28.4807, -999.00,9,  -999.0,9,  -999.0,-999.000,9,-999.000,  -999.0,9, -999.00,9,     -999.0,9, -999.00,9,-999.000,-999.0000, -999.00,     -999.0,     -999.0,9,     -999.0,     -999.0,9,     -999.0,  -999.0,9,     -999.0,     -999.0,9,     -999.0,  28.4862,    35.2930,2,-999.0000,2,     -999.0,9
33RO20150410,     P16N.1,      63,          1,         21,         21,2,20150427,       1300,     1.8911,  -150.9999,       4521,    83.1,  28.1001,  35.1140,2,  35.1312,2,    198.2,2,   195.5,2,    1.10,2,    3.10,2,    0.31,2,    0.54,2,-999.000,9,-999.000,9,-999.000,9,  -999.0,9,  -999.0,9,-999.0000,9,  -999.00,-999.000,9,-999.0000,9, -999.00,9,  28.0987, -999.00,9,  -999.0,9,  -999.0,-999.000,9,-999.000,  -999.0,9, -999.00,9,     -999.0,9, -999.00,9,-999.000,-999.0000, -999.00,     -999.0,     -999.0,9,     -999.0,     -999.0,9,     -999.0,  -999.0,9,     -999.0,     -999.0,9,     -999.0,  28.0805,    35.2968,2,-999.0000,2,     -999.0,9
33RO20150410,     P16N.1,      63,          1,         20,         20,2,20150427,       1300,     1.8911,  -150.9999,       4521,   105.5,  27.2732,  35.0552,2,  35.0591,2,    173.9,2,   174.7,2,    1.40,2,    3.80,2,    0.87,2,    0.70,2,-999.000,9,-999.000,9,-999.000,9,  -999.0,9,  -999.0,9,-999.0000,9,  -999.00,-999.000,9,-999.0000,9, -999.00,9,  27.2732, -999.00,9,  -999.0,9,  -999.0,-999.000,9,-999.000,  -999.0,9, -999.00,9,     -999.0,9, -999.00,9,-999.000,-999.0000, -999.00,     -999.0,     -999.0,9,     -999.0,     -999.0,9,     -999.0,  -999.0,9,     -999.0,     -999.0,9,     -999.0,  27.2488,    35.2244,2,-999.0000,2,     -999.0,9
33RO20150410,     P16N.1,      63,          1,         19,         19,3,20150427,       1300,     1.8911,  -150.9999,       4521,   129.7,  24.4695,  34.9932,2,-999.0000,9,    143.3,2,  -999.0,9, -999.00,9, -999.00,9, -999.00,9, -999.00,9,-999.000,9,-999.000,9,-999.000,9,  -999.0,9,  -999.0,9,-999.0000,9,  -999.00,-999.000,9,-999.0000,9, -999.00,9,  24.4684, -999.00,9,  -999.0,9,  -999.0,-999.000,9,-999.000,  -999.0,9, -999.00,9,     -999.0,9, -999.00,9,-999.000,-999.0000, -999.00,     -999.0,     -999.0,9,     -999.0,     -999.0,9,     -999.0,  -999.0,9,     -999.0,     -999.0,9,     -999.0,-999.0000,     -999.0,9,-999.0000,2,     -999.0,9
33RO20150410,     P16N.1,      63,          1,         18,         18,2,20150427,       1300,     1.8911,  -150.9999,       4521,   166.4,  17.5882,  34.7589,2,  34.7542,2,    117.5,2,   116.2,2,   12.60,2,   15.60,2,    0.02,2,    1.26,2,-999.000,9,-999.000,9,-999.000,9,  -999.0,9,  -999.0,9,-999.0000,9,  -999.00,-999.000,9,-999.0000,9, -999.00,9,  17.5877, -999.00,9,  -999.0,9,  -999.0,-999.000,9,-999.000,  -999.0,9, -999.00,9,     -999.0,9, -999.00,9,-999.000,-999.0000, -999.00,     -999.0,     -999.0,9,     -999.0,     -999.0,9,     -999.0,  -999.0,9,     -999.0,     -999.0,9,     -999.0,  17.5601,    34.9181,2,-999.0000,2,     -999.0,9
33RO20150410,     P16N.1,      63,          1,         17,         17,2,20150427,       1300,     1.8911,  -150.9999,       4521,   225.3,  11.7029,  34.8248,2,  34.8264,2,     68.3,2,    64.1,2,   22.60,2,   28.50,2,    0.01,2,    2.08,2,-999.000,9,-999.000,9,-999.000,9,  -999.0,9,  -999.0,9,-999.0000,9,  -999.00,-999.000,9,-999.0000,9, -999.00,9,  11.7015, -999.00,9,  -999.0,9,  -999.0,-999.000,9,-999.000,  -999.0,9, -999.00,9,     -999.0,9, -999.00,9,-999.000,-999.0000, -999.00,     -999.0,     -999.0,9,     -999.0,     -999.0,9,     -999.0,  -999.0,9,     -999.0,     -999.0,9,     -999.0,  11.6740,    34.9906,2,-999.0000,2,     -999.0,9
33RO20150410,     P16N.1,      63,          1,         16,         16,2,20150427,       1300,     1.8911,  -150.9999,       4521,   301.0,  11.3604,  34.8075,2,  34.8181,2,     47.6,2,    45.7,2,   25.00,2,   31.10,2,    0.01,2,    2.25,2,-999.000,9,-999.000,9,-999.000,9,  -999.0,9,  -999.0,9,-999.0000,9,  -999.00,-999.000,9,-999.0000,9, -999.00,9,  11.3544, -999.00,9,  -999.0,9,  -999.0,-999.000,9,-999.000,  -999.0,9, -999.00,9,     -999.0,9, -999.00,9,-999.000,-999.0000, -999.00,     -999.0,     -999.0,9,     -999.0,     -999.0,9,     -999.0,  -999.0,9,     -999.0,     -999.0,9,     -999.0,  11.3224,    34.9823,2,-999.0000,2,     -999.0,9
33RO20150410,     P16N.1,      63,          1,         15,         15,2,20150427,       1300,     1.8911,  -150.9999,       4521,   374.7,  10.5494,  34.7490,2,  34.7511,2,     53.2,2,    52.6,2,   27.00,2,   32.00,2,    0.01,2,    2.28,2,-999.000,9,-999.000,9,-999.000,9,  -999.0,9,  -999.0,9,-999.0000,9,  -999.00,-999.000,9,-999.0000,9, -999.00,9,  10.5485, -999.00,9,  -999.0,9,  -999.0,-999.000,9,-999.000,  -999.0,9, -999.00,9,     -999.0,9, -999.00,9,-999.000,-999.0000, -999.00,     -999.0,     -999.0,9,     -999.0,     -999.0,9,     -999.0,  -999.0,9,     -999.0,     -999.0,9,     -999.0,  10.5042,    34.9149,2,-999.0000,2,     -999.0,9
33RO20150410,     P16N.1,      63,          1,         14,         14,2,20150427,       1300,     1.8911,  -150.9999,       4521,   450.4,   9.0453,  34.6558,2,  34.6562,2,     35.1,2,    35.4,2,   35.90,2,   36.40,2,    0.01,2,    2.60,2,-999.000,9,-999.000,9,-999.000,9,  -999.0,9,  -999.0,9,-999.0000,9,  -999.00,-999.000,9,-999.0000,9, -999.00,9,   9.0542, -999.00,9,  -999.0,9,  -999.0,-999.000,9,-999.000,  -999.0,9, -999.00,9,     -999.0,9, -999.00,9,-999.000,-999.0000, -999.00,     -999.0,     -999.0,9,     -999.0,     -999.0,9,     -999.0,  -999.0,9,     -999.0,     -999.0,9,     -999.0,   8.9957,    34.8196,6,-999.0000,2,     -999.0,9
33RO20150410,     P16N.1,      63,          1,         13,         13,2,20150427,       1300,     1.8911,  -150.9999,       4521,   549.6,   7.1767,  34.5781,2,  34.5774,2,     51.2,2,    52.2,2,   47.00,2,   38.80,2,    0.01,2,    2.77,2,-999.000,9,-999.000,9,-999.000,9,  -999.0,9,  -999.0,9,-999.0000,9,  -999.00,-999.000,9,-999.0000,9, -999.00,9,   7.1762, -999.00,9,  -999.0,9,  -999.0,-999.000,9,-999.000,  -999.0,9, -999.00,9,     -999.0,9, -999.00,9,-999.000,-999.0000, -999.00,     -999.0,     -999.0,9,     -999.0,     -999.0,9,     -999.0,  -999.0,9,     -999.0,     -999.0,9,     -999.0,   7.1235,    34.7404,2,-999.0000,2,     -999.0,9
33RO20150410,     P16N.1,      63,          1,         12,         12,2,20150427,       1300,     1.8911,  -150.9999,       4521,   700.2,   6.0602,  34.5506,2,  34.5508,2,     69.7,2,    70.2,2,   57.40,2,   38.90,2,    0.01,2,    2.81,2,-999.000,9,-999.000,9,-999.000,9,  -999.0,9,  -999.0,9,-999.0000,9,  -999.00,-999.000,9,-999.0000,9, -999.00,9,   6.0598, -999.00,9,  -999.0,9,  -999.0,-999.000,9,-999.000,  -999.0,9, -999.00,9,     -999.0,9, -999.00,9,-999.000,-999.0000, -999.00,     -999.0,     -999.0,9,     -999.0,     -999.0,9,     -999.0,  -999.0,9,     -999.0,     -999.0,9,     -999.0,   5.9977,    34.7138,2,-999.0000,2,     -999.0,9
33RO20150410,     P16N.1,      63,          1,         11,         11,2,20150427,       1300,     1.8911,  -150.9999,       4521,   849.8,   5.3806,  34.5451,2,  34.5451,2,     74.9,2,    75.9,2,   67.80,2,   39.40,2,    0.00,2,    2.83,2,-999.000,9,-999.000,9,-999.000,9,  -999.0,9,  -999.0,9,-999.0000,9,  -999.00,-999.000,9,-999.0000,9, -999.00,9,   5.3801, -999.00,9,  -999.0,9,  -999.0,-999.000,9,-999.000,  -999.0,9, -999.00,9,     -999.0,9, -999.00,9,-999.000,-999.0000, -999.00,     -999.0,     -999.0,9,     -999.0,     -999.0,9,     -999.0,  -999.0,9,     -999.0,     -999.0,9,     -999.0,   5.3082,    34.7080,2,-999.0000,2,     -999.0,9
33RO20150410,     P16N.1,      63,          1,         10,         10,2,20150427,       1300,     1.8911,  -150.9999,       4521,  1000.0,   4.7045,  34.5526,2,  34.5518,2,     78.4,2,    78.4,2,   80.70,2,   39.80,2,    0.01,2,    2.87,2,-999.000,9,-999.000,9,-999.000,9,  -999.0,9,  -999.0,9,-999.0000,9,  -999.00,-999.000,9,-999.0000,9, -999.00,9,   4.7117, -999.00,9,  -999.0,9,  -999.0,-999.000,9,-999.000,  -999.0,9, -999.00,9,     -999.0,9, -999.00,9,-999.000,-999.0000, -999.00,     -999.0,     -999.0,9,     -999.0,     -999.0,9,     -999.0,  -999.0,9,     -999.0,     -999.0,9,     -999.0,   4.6233,    34.7148,2,-999.0000,2,     -999.0,9
33RO20150410,     P16N.1,      63,          1,          9,          9,2,20150427,       1300,     1.8911,  -150.9999,       4521,  1166.4,   4.0185,  34.5699,2,  34.5699,2,     80.8,2,    80.3,2,   95.70,2,   40.20,2,    0.01,2,    2.92,2,-999.000,9,-999.000,9,-999.000,9,  -999.0,9,  -999.0,9,-999.0000,9,  -999.00,-999.000,9,-999.0000,9, -999.00,9,   4.0206, -999.00,9,  -999.0,9,  -999.0,-999.000,9,-999.000,  -999.0,9, -999.00,9,     -999.0,9, -999.00,9,-999.000,-999.0000, -999.00,     -999.0,     -999.0,9,     -999.0,     -999.0,9,     -999.0,  -999.0,9,     -999.0,     -999.0,9,     -999.0,   3.9285,    34.7329,2,-999.0000,2,     -999.0,9
33RO20150410,     P16N.1,      63,          1,          8,          8,2,20150427,       1300,     1.8911,  -150.9999,       4521,  1399.5,   3.3393,  34.5941,2,  34.5947,2,     81.4,2,    81.4,2,  112.70,2,   40.70,2,    0.02,2,    2.95,2,-999.000,9,-999.000,9,-999.000,9,  -999.0,9,  -999.0,9,-999.0000,9,  -999.00,-999.000,9,-999.0000,9, -999.00,9,   3.3398, -999.00,9,  -999.0,9,  -999.0,-999.000,9,-999.000,  -999.0,9, -999.00,9,     -999.0,9, -999.00,9,-999.000,-999.0000, -999.00,     -999.0,     -999.0,9,     -999.0,     -999.0,9,     -999.0,  -999.0,9,     -999.0,     -999.0,9,     -999.0,   3.2361,    34.7578,2,-999.0000,2,     -999.0,9
33RO20150410,     P16N.1,      63,          1,          7,          7,2,20150427,       1300,     1.8911,  -150.9999,       4521,  1732.7,   2.5767,  34.6282,2,  34.6286,2,     94.3,2,    94.1,2,  131.50,2,   40.00,2,    0.01,2,    2.86,2,-999.000,9,-999.000,9,-999.000,9,  -999.0,9,  -999.0,9,-999.0000,9,  -999.00,-999.000,9,-999.0000,9, -999.00,9,   2.5764, -999.00,9,  -999.0,9,  -999.0,-999.000,9,-999.000,  -999.0,9, -999.00,9,     -999.0,9, -999.00,9,-999.000,-999.0000, -999.00,     -999.0,     -999.0,9,     -999.0,     -999.0,9,     -999.0,  -999.0,9,     -999.0,     -999.0,9,     -999.0,   2.4545,    34.7919,2,-999.0000,2,     -999.0,9
33RO20150410,     P16N.1,      63,          1,          6,          6,2,20150427,       1300,     1.8911,  -150.9999,       4521,  2133.8,   2.1321,  34.6496,2,  34.6483,2,    105.7,2,   106.2,2,  141.10,2,   39.20,2,    0.01,2,    2.79,2,-999.000,9,-999.000,9,-999.000,9,  -999.0,9,  -999.0,9,-999.0000,9,  -999.00,-999.000,9,-999.0000,9, -999.00,9,   2.1309, -999.00,9,  -999.0,9,  -999.0,-999.000,9,-999.000,  -999.0,9, -999.00,9,     -999.0,9, -999.00,9,-999.000,-999.0000, -999.00,     -999.0,     -999.0,9,     -999.0,     -999.0,9,     -999.0,  -999.0,9,     -999.0,     -999.0,9,     -999.0,   1.9821,    34.8117,2,-999.0000,2,     -999.0,9
33RO20150410,     P16N.1,      63,          1,          5,          5,2,20150427,       1300,     1.8911,  -150.9999,       4521,  2532.5,   1.8229,  34.6671,2,  34.6676,2,    119.9,2,   120.5,2,  146.00,2,   37.90,2,    0.04,2,    2.71,2,-999.000,9,-999.000,9,-999.000,9,  -999.0,9,  -999.0,9,-999.0000,9,  -999.00,-999.000,9,-999.0000,9, -999.00,9,   1.8225, -999.00,9,  -999.0,9,  -999.0,-999.000,9,-999.000,  -999.0,9, -999.00,9,     -999.0,9, -999.00,9,-999.000,-999.0000, -999.00,     -999.0,     -999.0,9,     -999.0,     -999.0,9,     -999.0,  -999.0,9,     -999.0,     -999.0,9,     -999.0,   1.6429,    34.8310,2,-999.0000,2,     -999.0,9
33RO20150410,     P16N.1,      63,          1,          4,          4,2,20150427,       1300,     1.8911,  -150.9999,       4521,  2932.5,   1.7352,  34.6724,2,  34.6717,2,    128.5,2,   128.6,2,  144.90,6,   37.60,6,    0.00,6,    2.66,6,-999.000,9,-999.000,9,-999.000,9,  -999.0,9,  -999.0,9,-999.0000,9,  -999.00,-999.000,9,-999.0000,9, -999.00,9,   1.7349, -999.00,9,  -999.0,9,  -999.0,-999.000,9,-999.000,  -999.0,9, -999.00,9,     -999.0,9, -999.00,9,-999.000,-999.0000, -999.00,     -999.0,     -999.0,9,     -999.0,     -999.0,9,     -999.0,  -999.0,9,     -999.0,     -999.0,9,     -999.0,   1.5197,    34.8352,2,-999.0000,2,     -999.0,9
33RO20150410,     P16N.1,      63,          1,          3,          3,2,20150427,       1300,     1.8911,  -150.9999,       4521,  3333.3,   1.5591,  34.6826,2,  34.6813,2,    142.1,2,   141.8,2,  144.40,6,   36.70,6,    0.00,6,    2.60,6,-999.000,9,-999.000,9,-999.000,9,  -999.0,9,  -999.0,9,-999.0000,9,  -999.00,-999.000,9,-999.0000,9, -999.00,9,   1.5601, -999.00,9,  -999.0,9,  -999.0,-999.000,9,-999.000,  -999.0,9, -999.00,9,     -999.0,9, -999.00,9,-999.000,-999.0000, -999.00,     -999.0,     -999.0,9,     -999.0,     -999.0,9,     -999.0,  -999.0,9,     -999.0,     -999.0,9,     -999.0,   1.3083,    34.8448,2,-999.0000,2,     -999.0,9
33RO20150410,     P16N.1,      63,          1,          2,          2,2,20150427,       1300,     1.8911,  -150.9999,       4521,  3733.7,   1.4237,  34.6924,2,  34.6935,2,    154.6,2,   154.8,2,  143.70,6,   35.90,6,    0.01,6,    2.52,6,-999.000,9,-999.000,9,-999.000,9,  -999.0,9,  -999.0,9,-999.0000,9,  -999.00,-999.000,9,-999.0000,9, -999.00,9,   1.4240, -999.00,9,  -999.0,9,  -999.0,-999.000,9,-999.000,  -999.0,9, -999.00,9,     -999.0,9, -999.00,9,-999.000,-999.0000, -999.00,     -999.0,     -999.0,9,     -999.0,     -999.0,9,     -999.0,  -999.0,9,     -999.0,     -999.0,9,     -999.0,   1.1352,    34.8571,2,-999.0000,2,     -999.0,9
33RO20150410,     P16N.1,      63,          1,          1,          1,2,20150427,       1300,     1.8911,  -150.9999,       4521,  4184.0,   1.4135,  34.6949,2,  34.6954,2,    161.2,2,   161.0,2,  140.60,6,   35.40,6,    0.01,6,    2.49,6,-999.000,9,-999.000,9,-999.000,9,  -999.0,9,  -999.0,9,-999.0000,9,  -999.00,-999.000,9,-999.0000,9, -999.00,9,   1.4134, -999.00,9,  -999.0,9,  -999.0,-999.000,9,-999.000,  -999.0,9, -999.00,9,     -999.0,9, -999.00,9,-999.000,-999.0000, -999.00,     -999.0,     -999.0,9,     -999.0,     -999.0,9,     -999.0,  -999.0,9,     -999.0,     -999.0,9,     -999.0,   1.0767,    34.8590,6,-999.0000,2,     -999.0,9