BOTTLE,20210709CCHSIOCBG
EXPOCODE,SECT_ID,STNNBR,CASTNO,SAMPNO,BTLNBR,BTLNBR_FLAG_W,DATE,TIME,LATITUDE,LONGITUDE,DEPTH,CTDPRS,CTDTMP,CTDSAL,CTDSAL_FLAG_W,SALNTY,SALNTY_FLAG_W,CTDOXY,CTDOXY_FLAG_W,OXYGEN,OXYGEN_FLAG_W,SILCAT,SILCAT_FLAG_W,NITRAT,NITRAT_FLAG_W,NITRIT,NITRIT_FLAG_W,PHSPHT,PHSPHT_FLAG_W,CFC-11,CFC-11_FLAG_W,CFC-12,CFC-12_FLAG_W,SF6,SF6_FLAG_W,TCARBN,TCARBN_FLAG_W,ALKALI,ALKALI_FLAG_W,PH_TOT,PH_TOT_FLAG_W,PH_TMP,TRITUM,TRITUM_FLAG_W,HELIUM,HELIUM_FLAG_W,DELHE3,DELHE3_FLAG_W,REFTMP,DELC13,DELC13_FLAG_W,DELC14,DELC14_FLAG_W,C14ERR,NEON,NEON_FLAG_W,NEONER,DOC,DOC_FLAG_W,TDN,TDN_FLAG_W,N2O,N2O_FLAG_W,ARGON,ARGON_FLAG_W,TRITER,HELIER,DELHER,ARGONER,KRYPTON,KRYPTON_FLAG_W,KRYPTONER,XENON,XENON_FLAG_W,XENONER,14C-DOC,14C-DOC_FLAG_W,14C-DOCERR,13C-DOC,13C-DOC_FLAG_W,13C-DOCERR,THETA,SALTREF,SALTREF_FLAG_W,SBE35,SBE35_FLAG_W,CHLORA,CHLORA_FLAG_W
,,,,,,,,,,,METERS,DBAR,ITS-90,PSS-78,,PSS-78,,UMOL/KG,,UMOL/KG,,UMOL/KG,,UMOL/KG,,UMOL/KG,,UMOL/KG,,PMOL/KG,,PMOL/KG,,FMOL/KG,,UMOL/KG,,UMOL/KG,,,,DEG C,TU,,NMOL/KG,,PERCNT,,DEG C,/MILLE,,/MILLE,,/MILLE,NMOL/KG,,NMOL/KG,UMOL/KG,,UMOL/KG,,NMOL/KG,,UMOL/KG,,TU,NMOL/KG,PERCNT,UMOL/KG,NMOL/KG,,NMOL/KG,NMOL/KG,,NMOL/KG,/MILLE,,/MILLE,/MILLE,,/MILLE,DEG C,G/KG,,ITS-90,,MG/M3,
33RO20150410,     P16N.1,      54,          1,         24,         24,2,20150425,       1510,     0.4099,  -151.0001,       4424,    15.3,  28.0408,  35.0908,2,  35.0908,2,    192.3,2,   193.8,2,    2.40,2,    3.10,2,    0.40,2,    0.45,4,   1.531,3,   0.968,2,   1.207,2,  2010.8,6,  2309.0,2,   8.0290,6,    25.00,-999.000,9,-999.0000,9, -999.00,9,-999.0000,    0.91,2,    45.4,2,     3.1,-999.000,9,-999.000,    60.4,2,    7.30,2,      7.082,3, -999.00,9,-999.000,-999.0000, -999.00,     -999.0,     -999.0,9,     -999.0,     -999.0,9,     -999.0,  -999.0,9,     -999.0,     -999.0,9,     -999.0,  28.0372,    35.2563,2,-999.0000,2,     -999.0,9
33RO20150410,     P16N.1,      54,          1,         23,         23,2,20150425,       1510,     0.4099,  -151.0001,       4424,    33.5,  27.9254,  35.1032,2,  35.1097,2,    190.1,2,   190.0,2,    2.40,2,    3.40,2,    0.51,2,    0.48,4,-999.000,9,-999.000,9,-999.000,9,  2014.3,2,  2309.6,2,   8.0231,2,    25.01,-999.000,9,-999.0000,9, -999.00,9,-999.0000, -999.00,9,  -999.0,9,  -999.0,-999.000,9,-999.000,    58.2,2,    8.40,2,     -999.0,9, -999.00,9,-999.000,-999.0000, -999.00,     -999.0,     -999.0,9,     -999.0,     -999.0,9,     -999.0,  -999.0,9,     -999.0,     -999.0,9,     -999.0,  27.9175,    35.2753,2,-999.0000,2,     -999.0,9
33RO20150410,     P16N.1,      54,          1,         22,         22,2,20150425,       1510,     0.4099,  -151.0001,       4424,    58.6,  27.6933,  35.1662,2,  35.1692,2,    179.7,2,   180.1,2,    2.40,2,    4.20,2,    0.79,2,    0.54,4,   1.530,3,   0.978,2,   1.278,2,  2026.8,2,  2313.0,2,   8.0100,6,    25.00,-999.000,9,-999.0000,9, -999.00,9,-999.0000,    0.80,2,    34.6,2,     4.1,-999.000,9,-999.000,    58.1,2,    8.70,2,      7.336,3, -999.00,9,-999.000,-999.0000, -999.00,     -999.0,     -999.0,9,     -999.0,     -999.0,9,     -999.0,  -999.0,9,     -999.0,     -999.0,9,     -999.0,  27.6796,    35.3350,2,-999.0000,2,     -999.0,9
33RO20150410,     P16N.1,      54,          1,         21,         21,2,20150425,       1510,     0.4099,  -151.0001,       4424,    84.5,  27.5385,  35.3009,2,  35.3036,2,    166.6,2,   166.7,2,    2.50,2,    6.10,2,    0.59,2,    0.61,4,   1.553,3,   0.982,2,   1.214,2,  2041.4,2,  2320.4,2,   7.9936,2,    24.99,-999.000,9,-999.0000,9, -999.00,9,-999.0000,    0.77,2,    41.6,2,     2.5,-999.000,9,-999.000,    55.6,2,   10.40,2,      7.498,3, -999.00,9,-999.000,-999.0000, -999.00,     -999.0,     -999.0,9,     -999.0,     -999.0,9,     -999.0,  -999.0,9,     -999.0,     -999.0,9,     -999.0,  27.5188,    35.4701,2,-999.0000,2,     -999.0,9
33RO20150410,     P16N.1,      54,          1,         20,         20,2,20150425,       1510,     0.4099,  -151.0001,       4424,   108.9,  26.7473,  35.3018,2,  35.3176,2,    160.2,2,   155.9,2,    2.80,2,    7.60,2,    0.07,2,    0.69,4,   1.581,3,   1.005,2,   1.215,2,  2050.0,2,  2320.2,6,   7.9747,2,    24.99,-999.000,9,-999.0000,9, -999.00,9,-999.0000,    0.64,2,    42.8,2,     3.0,-999.000,9,-999.000,    55.0,2,   10.90,2,      7.851,3, -999.00,9,-999.000,-999.0000, -999.00,     -999.0,     -999.0,9,     -999.0,     -999.0,9,     -999.0,  -999.0,9,     -999.0,     -999.0,9,     -999.0,  26.7225,    35.4841,2,-999.0000,2,     -999.0,9
33RO20150410,     P16N.1,      54,          1,         19,         19,2,20150425,       1510,     0.4099,  -151.0001,       4424,   133.2,  20.8267,  35.0171,2,  35.0541,2,    130.1,2,   129.0,2,    6.80,2,   10.40,2,    0.03,2,    0.84,4,   1.896,2,   1.142,2,   1.068,2,  2088.6,2,  2306.9,6,   7.8750,2,    24.99,-999.000,9,-999.0000,9, -999.00,9,-999.0000,    0.39,2,    62.0,2,     2.6,-999.000,9,-999.000,    48.4,2,   13.50,2,     14.141,3, -999.00,9,-999.000,-999.0000, -999.00,     -999.0,     -999.0,9,     -999.0,     -999.0,9,     -999.0,  -999.0,9,     -999.0,     -999.0,9,     -999.0,  20.8014,    35.2194,2,-999.0000,2,     -999.0,9
33RO20150410,     P16N.1,      54,          1,         18,         18,2,20150425,       1510,     0.4099,  -151.0001,       4424,   163.3,  18.0230,  35.3044,2,  35.3058,2,    133.5,2,   133.6,2,    6.80,2,   12.70,2,    0.02,2,    1.00,4,   2.000,2,   1.162,2,   0.889,2,  2126.6,2,  2325.5,2,   7.8345,2,    24.99,-999.000,9,-999.0000,9, -999.00,9,-999.0000,    0.51,2,    51.5,2,     2.4,-999.000,9,-999.000,    46.5,2,   15.90,2,     16.256,3, -999.00,9,-999.000,-999.0000, -999.00,     -999.0,     -999.0,9,     -999.0,     -999.0,9,     -999.0,  -999.0,9,     -999.0,     -999.0,9,     -999.0,  17.9949,    35.4723,2,-999.0000,2,     -999.0,9
33RO20150410,     P16N.1,      54,          1,         17,         17,2,20150425,       1510,     0.4099,  -151.0001,       4424,   224.6,  13.0928,  34.9176,2,  34.9181,2,    122.5,2,   122.9,2,   16.20,2,   20.20,2,    0.01,2,    1.44,4,   1.703,6,   0.941,6,   0.577,6,  2168.1,2,  2310.4,2,   7.7133,2,    25.00,-999.000,9,-999.0000,9, -999.00,9,-999.0000,    0.45,2,    12.3,2,     2.4,-999.000,9,-999.000,    42.3,2,   22.30,2,     25.549,3, -999.00,9,-999.000,-999.0000, -999.00,     -999.0,     -999.0,9,     -999.0,     -999.0,9,     -999.0,  -999.0,9,     -999.0,     -999.0,9,     -999.0,  13.0618,    35.0828,2,-999.0000,2,     -999.0,9
33RO20150410,     P16N.1,      54,          1,         16,         16,2,20150425,       1510,     0.4099,  -151.0001,       4424,   299.8,  11.2649,  34.8038,2,  34.8031,2,     28.3,2,    36.3,2,   27.00,2,   31.90,2,    0.01,2,    2.17,4,   0.904,2,   0.501,2,   0.226,2,  2239.9,2,  2303.8,2,   7.4941,2,    25.00,-999.000,9,-999.0000,9, -999.00,9,-999.0000,    0.05,2,   -14.0,2,     3.0,-999.000,9,-999.000,    43.3,2,   36.20,3,     57.312,3, -999.00,9,-999.000,-999.0000, -999.00,     -999.0,     -999.0,9,     -999.0,     -999.0,9,     -999.0,  -999.0,9,     -999.0,     -999.0,9,     -999.0,  11.2273,    34.9672,2,-999.0000,2,     -999.0,9
33RO20150410,     P16N.1,      54,          1,         15,         15,2,20150425,       1510,     0.4099,  -151.0001,       4424,   372.8,   9.8103,  34.7139,2,  34.7127,2,     48.0,2,    46.4,2,   30.90,2,   33.70,2,    0.00,2,    2.27,4,   0.624,2,   0.340,2,   0.128,2,  2245.1,2,  2305.6,2,   7.4817,6,    25.01,-999.000,9,-999.0000,9, -999.00,9,-999.0000,    0.09,2,   -52.0,2,     2.4,-999.000,9,-999.000,    43.2,2, -999.00,9,     52.594,3, -999.00,9,-999.000,-999.0000, -999.00,     -999.0,     -999.0,9,     -999.0,     -999.0,9,     -999.0,  -999.0,9,     -999.0,     -999.0,9,     -999.0,   9.7673,    34.8764,2,-999.0000,2,     -999.0,9
33RO20150410,     P16N.1,      54,          1,         14,         14,2,20150425,       1510,     0.4099,  -151.0001,       4424,   449.6,   8.2188,  34.6279,2,  34.6280,2,     38.4,2,    39.6,2,   39.90,2,   37.80,2,    0.00,2,    2.55,4,   0.252,2,   0.137,2,   0.063,2,  2264.4,2,  2310.6,2,   7.4351,2,    25.00,-999.000,9,-999.0000,9, -999.00,9,-999.0000,    0.07,2,   -81.4,2,     2.4,-999.000,9,-999.000,    40.5,2, -999.00,9,     51.492,3, -999.00,9,-999.000,-999.0000, -999.00,     -999.0,     -999.0,9,     -999.0,     -999.0,9,     -999.0,  -999.0,9,     -999.0,     -999.0,9,     -999.0,   8.1721,    34.7913,6,-999.0000,2,     -999.0,9
33RO20150410,     P16N.1,      54,          1,         13,         13,2,20150425,       1510,     0.4099,  -151.0001,       4424,   550.7,   7.3324,  34.5867,2,  34.5873,2,     55.7,2,    55.5,2,   44.90,2,   38.00,2,    0.00,2,    2.59,4,   0.176,2,   0.095,2,   0.023,2,  2264.9,2,  2315.8,2,   7.4514,2,    25.00,-999.000,9,-999.0000,9, -999.00,9,-999.0000,    0.17,2,  -101.0,2,     2.5,-999.000,9,-999.000,    39.5,2, -999.00,9,     45.220,3, -999.00,9,-999.000,-999.0000, -999.00,     -999.0,     -999.0,9,     -999.0,     -999.0,9,     -999.0,  -999.0,9,     -999.0,     -999.0,9,     -999.0,   7.2785,    34.7504,2,-999.0000,2,     -999.0,9
33RO20150410,     P16N.1,      54,          1,         12,         12,2,20150425,       1510,     0.4099,  -151.0001,       4424,   700.3,   6.2016,  34.5549,2,  34.5618,2,     64.6,2,    64.5,2,   56.50,2,   39.30,2,    0.00,2,    2.72,4,-999.000,9,-999.000,9,-999.000,9,  2273.9,6,  2326.8,2,   7.4536,6,    25.00,-999.000,9,-999.0000,9, -999.00,9,-999.0000,    0.19,2,  -128.6,2,     2.0,-999.000,9,-999.000,    39.7,2, -999.00,9,     -999.0,9, -999.00,9,-999.000,-999.0000, -999.00,     -999.0,     -999.0,9,     -999.0,     -999.0,9,     -999.0,  -999.0,9,     -999.0,     -999.0,9,     -999.0,   6.1383,    34.7248,2,-999.0000,2,     -999.0,9
33RO20150410,     P16N.1,      54,          1,         11,         11,2,20150425,       1510,     0.4099,  -151.0001,       4424,   850.0,   5.2871,  34.5463,2,  34.5471,2,     76.4,2,    76.8,2,   69.10,2,   39.20,2,    0.00,2,    2.75,4,   0.028,2,   0.020,2,       0,2,  2284.1,2,  2340.5,2,   7.4647,2,    24.99,-999.000,9,-999.0000,9, -999.00,9,-999.0000,    0.17,2,  -148.3,2,     2.9,-999.000,9,-999.000,    38.4,2, -999.00,9,     36.784,3, -999.00,9,-999.000,-999.0000, -999.00,     -999.0,     -999.0,9,     -999.0,     -999.0,9,     -999.0,  -999.0,9,     -999.0,     -999.0,9,     -999.0,   5.2153,    34.7100,2,-999.0000,2,     -999.0,9
33RO20150410,     P16N.1,      54,          1,         10,         10,2,20150425,       1510,     0.4099,  -151.0001,       4424,  1000.9,   4.5454,  34.5559,2,  34.5720,4,     80.8,2,    80.7,2,   83.60,2,   39.60,2,    0.00,2,    2.80,4,-999.000,9,-999.000,9,-999.000,9,  2298.2,2,  2356.8,2,   7.4676,2,    25.00,-999.000,9,-999.0000,9, -999.00,9,-999.0000, -999.00,9,  -999.0,9,  -999.0,-999.000,9,-999.000,    37.7,2, -999.00,9,     -999.0,9, -999.00,9,-999.000,-999.0000, -999.00,     -999.0,     -999.0,9,     -999.0,     -999.0,9,     -999.0,  -999.0,9,     -999.0,     -999.0,9,     -999.0,   4.4654,    34.7350,4,-999.0000,2,     -999.0,9
33RO20150410,     P16N.1,      54,          1,          9,          9,2,20150425,       1510,     0.4099,  -151.0001,       4424,  1166.7,   3.9304,  34.5716,2,  34.5719,2,     83.2,2,    83.2,2,   97.20,2,   39.80,2,    0.01,2,    2.86,4,-999.000,9,-999.000,9,-999.000,9,  2313.3,2,  2371.7,2,   7.4679,2,    24.99,-999.000,9,-999.0000,9, -999.00,9,-999.0000, -999.00,9,  -999.0,9,  -999.0,-999.000,9,-999.000,    36.4,2, -999.00,9,     -999.0,9, -999.00,9,-999.000,-999.0000, -999.00,     -999.0,     -999.0,9,     -999.0,     -999.0,9,     -999.0,  -999.0,9,     -999.0,     -999.0,9,     -999.0,   3.8411,    34.7349,2,-999.0000,3,     -999.0,9
33RO20150410,     P16N.1,      54,          1,          8,          8,2,20150425,       1510,     0.4099,  -151.0001,       4424,  1399.6,   3.3813,  34.5914,2,  34.5921,2,     86.2,2,    86.0,2,  110.60,2,   39.80,2,    0.01,2,    2.86,4,   0.001,2,   0.002,2,       0,2,  2325.5,2,  2386.5,2,   7.4722,6,    25.01,-999.000,9,-999.0000,9, -999.00,9,-999.0000, -999.00,9,  -999.0,9,  -999.0,-999.000,9,-999.000,    36.1,2, -999.00,9,     32.024,3, -999.00,9,-999.000,-999.0000, -999.00,     -999.0,     -999.0,9,     -999.0,     -999.0,9,     -999.0,  -999.0,9,     -999.0,     -999.0,9,     -999.0,   3.2776,    34.7552,6,-999.0000,3,     -999.0,9
33RO20150410,     P16N.1,      54,          1,          7,          7,2,20150425,       1510,     0.4099,  -151.0001,       4424,  1733.8,   2.6122,  34.6240,2,  34.6260,2,     98.3,2,    98.5,2,  128.20,2,   39.40,2,    0.00,2,    2.85,4,-999.000,9,-999.000,9,-999.000,9,  2339.3,2,  2407.2,2,   7.4924,2,    25.01,-999.000,9,-999.0000,9, -999.00,9,-999.0000, -999.00,9,  -999.0,9,  -999.0,-999.000,9,-999.000,    36.7,2, -999.00,9,     -999.0,9, -999.00,9,-999.000,-999.0000, -999.00,     -999.0,     -999.0,9,     -999.0,     -999.0,9,     -999.0,  -999.0,9,     -999.0,     -999.0,9,     -999.0,   2.4894,    34.7892,2,-999.0000,2,     -999.0,9
33RO20150410,     P16N.1,      54,          1,          6,          6,2,20150425,       1510,     0.4099,  -151.0001,       4424,  2133.0,   2.1154,  34.6503,2,  34.6533,2,    110.2,2,   109.5,2,  140.10,2,   38.60,2,    0.01,2,    2.77,4,-999.000,9,-999.000,9,-999.000,9,  2346.1,2,  2421.6,2,   7.5139,2,    25.00,-999.000,9,-999.0000,9, -999.00,9,-999.0000, -999.00,9,  -999.0,9,  -999.0,-999.000,9,-999.000,    37.0,2, -999.00,9,     -999.0,9, -999.00,9,-999.000,-999.0000, -999.00,     -999.0,     -999.0,9,     -999.0,     -999.0,9,     -999.0,  -999.0,9,     -999.0,     -999.0,9,     -999.0,   1.9657,    34.8167,2,-999.0000,2,     -999.0,9
33RO20150410,     P16N.1,      54,          1,          5,          5,2,20150425,       1510,     0.4099,  -151.0001,       4424,  2532.4,   1.8922,  34.6630,2,  34.6639,2,    119.5,2,   119.8,2,  144.30,2,   38.00,2,    0.01,2,    2.73,4,  -0.003,2,   0.000,2,       0,2,  2346.3,2,  2427.1,2,   7.5317,2,    25.00,-999.000,9,-999.0000,9, -999.00,9,-999.0000, -999.00,9,  -999.0,9,  -999.0,-999.000,9,-999.000,    39.0,2, -999.00,9,     24.122,3, -999.00,9,-999.000,-999.0000, -999.00,     -999.0,     -999.0,9,     -999.0,     -999.0,9,     -999.0,  -999.0,9,     -999.0,     -999.0,9,     -999.0,   1.7109,    34.8274,2,-999.0000,2,     -999.0,9
33RO20150410,     P16N.1,      54,          1,          4,          4,2,20150425,       1510,     0.4099,  -151.0001,       4424,  2933.8,   1.6999,  34.6739,2,  34.6763,2,    132.3,2,   132.1,2,  145.10,6,   37.10,6,    0.01,6,    2.67,4,-999.000,9,-999.000,9,-999.000,9,  2338.2,2,  2428.2,2,   7.5526,6,    25.00,-999.000,9,-999.0000,9, -999.00,9,-999.0000, -999.00,9,  -999.0,9,  -999.0,-999.000,9,-999.000,    38.8,2, -999.00,9,     -999.0,9, -999.00,9,-999.000,-999.0000, -999.00,     -999.0,     -999.0,9,     -999.0,     -999.0,9,     -999.0,  -999.0,9,     -999.0,     -999.0,9,     -999.0,   1.4850,    34.8398,2,-999.0000,2,     -999.0,9
33RO20150410,     P16N.1,      54,          1,          3,          3,2,20150425,       1510,     0.4099,  -151.0001,       4424,  3334.1,   1.5885,  34.6808,2,  34.6818,2,    142.0,2,   142.3,2,  143.90,6,   36.50,6,    0.00,6,    2.61,4,-999.000,9,-999.000,9,-999.000,9,  2330.7,2,  2428.2,2,   7.5671,2,    25.02,-999.000,9,-999.0000,9, -999.00,9,-999.0000, -999.00,9,  -999.0,9,  -999.0,-999.000,9,-999.000,    37.9,2, -999.00,9,     -999.0,9, -999.00,9,-999.000,-999.0000, -999.00,     -999.0,     -999.0,9,     -999.0,     -999.0,9,     -999.0,  -999.0,9,     -999.0,     -999.0,9,     -999.0,   1.3369,    34.8454,2,-999.0000,2,     -999.0,9
33RO20150410,     P16N.1,      54,          1,          2,          2,2,20150425,       1510,     0.4099,  -151.0001,       4424,  3727.4,   1.4527,  34.6906,2,  34.6911,2,    154.0,2,   130.2,4,  144.30,6,   35.90,6,    0.01,6,    2.54,4,   0.000,2,   0.001,2,       0,2,  2323.5,2,  2430.4,6,   7.5894,2,    25.02,-999.000,9,-999.0000,9, -999.00,9,-999.0000, -999.00,9,  -999.0,9,  -999.0,-999.000,9,-999.000,    38.3,2, -999.00,9,     20.597,3, -999.00,9,-999.000,-999.0000, -999.00,     -999.0,     -999.0,9,     -999.0,     -999.0,9,     -999.0,  -999.0,9,     -999.0,     -999.0,9,     -999.0,   1.1641,    34.8547,2,-999.0000,2,     -999.0,9
33RO20150410,     P16N.1,      54,          1,          1,          1,2,20150425,       1510,     0.4099,  -151.0001,       4424,  4413.5,   1.4024,  34.6962,2,  34.6976,2,    165.1,2,   164.9,2,  139.30,6,   35.00,6,    0.01,6,    2.49,4,   0.004,6,   0.001,6,       0,6,  2317.0,6,  2424.1,2,   7.6016,2,    25.01,-999.000,9,-999.0000,9, -999.00,9,-999.0000, -999.00,9,  -999.0,9,  -999.0,-999.000,9,-999.000,    37.8,2, -999.00,9,     20.452,3, -999.00,9,-999.000,-999.0000, -999.00,     -999.0,     -999.0,9,     -999.0,     -999.0,9,     -999.0,  -999.0,9,     -999.0,     -999.0,9,     -999.0,   1.0402,    34.8612,2,-999.0000,2,     -999.0,9