BOTTLE,20210709CCHSIOCBG
EXPOCODE,SECT_ID,STNNBR,CASTNO,SAMPNO,BTLNBR,BTLNBR_FLAG_W,DATE,TIME,LATITUDE,LONGITUDE,DEPTH,CTDPRS,CTDTMP,CTDSAL,CTDSAL_FLAG_W,SALNTY,SALNTY_FLAG_W,CTDOXY,CTDOXY_FLAG_W,OXYGEN,OXYGEN_FLAG_W,SILCAT,SILCAT_FLAG_W,NITRAT,NITRAT_FLAG_W,NITRIT,NITRIT_FLAG_W,PHSPHT,PHSPHT_FLAG_W,CFC-11,CFC-11_FLAG_W,CFC-12,CFC-12_FLAG_W,SF6,SF6_FLAG_W,TCARBN,TCARBN_FLAG_W,ALKALI,ALKALI_FLAG_W,PH_TOT,PH_TOT_FLAG_W,PH_TMP,TRITUM,TRITUM_FLAG_W,HELIUM,HELIUM_FLAG_W,DELHE3,DELHE3_FLAG_W,REFTMP,DELC13,DELC13_FLAG_W,DELC14,DELC14_FLAG_W,C14ERR,NEON,NEON_FLAG_W,NEONER,DOC,DOC_FLAG_W,TDN,TDN_FLAG_W,N2O,N2O_FLAG_W,ARGON,ARGON_FLAG_W,TRITER,HELIER,DELHER,ARGONER,KRYPTON,KRYPTON_FLAG_W,KRYPTONER,XENON,XENON_FLAG_W,XENONER,14C-DOC,14C-DOC_FLAG_W,14C-DOCERR,13C-DOC,13C-DOC_FLAG_W,13C-DOCERR,THETA,SALTREF,SALTREF_FLAG_W,SBE35,SBE35_FLAG_W,CHLORA,CHLORA_FLAG_W
,,,,,,,,,,,METERS,DBAR,ITS-90,PSS-78,,PSS-78,,UMOL/KG,,UMOL/KG,,UMOL/KG,,UMOL/KG,,UMOL/KG,,UMOL/KG,,PMOL/KG,,PMOL/KG,,FMOL/KG,,UMOL/KG,,UMOL/KG,,,,DEG C,TU,,NMOL/KG,,PERCNT,,DEG C,/MILLE,,/MILLE,,/MILLE,NMOL/KG,,NMOL/KG,UMOL/KG,,UMOL/KG,,NMOL/KG,,UMOL/KG,,TU,NMOL/KG,PERCNT,UMOL/KG,NMOL/KG,,NMOL/KG,NMOL/KG,,NMOL/KG,/MILLE,,/MILLE,/MILLE,,/MILLE,DEG C,G/KG,,ITS-90,,MG/M3,
33RO20150410,     P16N.1,     112,          1,         24,         24,2,20150511,       1856,    22.5003,  -152.0005,       5441,     9.8,  24.4224,  34.8615,2,  34.8612,2,    207.5,2,   208.6,2,    1.10,2,    0.00,2,    0.03,2,    0.19,2,   1.792,2,   1.094,2,   1.447,2,  1989.5,6,  2298.3,2,   8.0597,2,    25.03,-999.000,9,-999.0000,9, -999.00,9,  24.4216, -999.00,9,  -999.0,9,  -999.0,-999.000,9,-999.000,  -999.0,9, -999.00,9,      6.566,3, -999.00,9,-999.000,-999.0000, -999.00,     -999.0,     -999.0,9,     -999.0,     -999.0,9,     -999.0,  -999.0,9,     -999.0,     -999.0,9,     -999.0,  24.4203,    35.0256,2,-999.0000,9,      0.080,2
33RO20150410,     P16N.1,     112,          1,         23,         23,2,20150511,       1856,    22.5003,  -152.0005,       5441,    24.9,  24.4024,  34.8607,2,  34.8636,2,    207.7,2,   208.5,2,    1.10,2,    0.10,2,    0.00,2,    0.21,2,   1.798,2,   1.097,2,   1.406,2,  1989.2,2,  2298.5,2,   8.0599,6,    25.01,-999.000,9,-999.0000,9, -999.00,9,  24.4020, -999.00,9,  -999.0,9,  -999.0,-999.000,9,-999.000,  -999.0,9, -999.00,9,      6.629,3, -999.00,9,-999.000,-999.0000, -999.00,     -999.0,     -999.0,9,     -999.0,     -999.0,9,     -999.0,  -999.0,9,     -999.0,     -999.0,9,     -999.0,  24.3971,    35.0280,2,-999.0000,9,      0.091,2
33RO20150410,     P16N.1,     112,          1,         22,         22,2,20150511,       1856,    22.5003,  -152.0005,       5441,    49.0,  24.3619,  34.9790,2,  34.9765,2,    208.8,2,   209.7,2,    1.10,2,    0.10,2,    0.00,2,    0.20,2,   1.791,6,   1.103,6,   1.477,6,  1995.0,2,  2306.4,2,   8.0594,6,    25.03,-999.000,9,-999.0000,9, -999.00,9,  24.3497, -999.00,9,  -999.0,9,  -999.0,-999.000,9,-999.000,  -999.0,9, -999.00,9,      6.644,3, -999.00,9,-999.000,-999.0000, -999.00,     -999.0,     -999.0,9,     -999.0,     -999.0,9,     -999.0,  -999.0,9,     -999.0,     -999.0,9,     -999.0,  24.3515,    35.1414,2,-999.0000,9,      0.106,2
33RO20150410,     P16N.1,     112,          1,         21,         21,2,20150511,       1856,    22.5003,  -152.0005,       5441,    74.7,  23.4308,  35.3035,2,  35.3021,2,    213.4,2,   213.6,2,    1.10,2,    0.10,2,    0.00,2,    0.16,2,   1.868,2,   1.144,2,   1.453,2,  2016.8,2,  2326.6,2,   8.0495,2,    25.00,-999.000,9,-999.0000,9, -999.00,9,  23.4279, -999.00,9,  -999.0,9,  -999.0,-999.000,9,-999.000,  -999.0,9, -999.00,9,      6.861,3, -999.00,9,-999.000,-999.0000, -999.00,     -999.0,     -999.0,9,     -999.0,     -999.0,9,     -999.0,  -999.0,9,     -999.0,     -999.0,9,     -999.0,  23.4153,    35.4685,2,-999.0000,9,      0.101,2
33RO20150410,     P16N.1,     112,          1,         20,         20,3,20150511,       1856,    22.5003,  -152.0005,       5441,   100.3,  22.7959,  35.3242,2,  35.3015,2,    214.0,2,  -999.0,9,    1.20,2,    0.10,2,    0.00,2,    0.16,2,-999.000,9,-999.000,9,-999.000,9,  -999.0,9,  -999.0,9,-999.0000,9,  -999.00,-999.000,9,-999.0000,9, -999.00,9,  22.7913, -999.00,9,  -999.0,9,  -999.0,-999.000,9,-999.000,  -999.0,9, -999.00,9,     -999.0,9, -999.00,9,-999.000,-999.0000, -999.00,     -999.0,     -999.0,9,     -999.0,     -999.0,9,     -999.0,  -999.0,9,     -999.0,     -999.0,9,     -999.0,  22.7755,    35.4680,2,-999.0000,9,      0.108,4
33RO20150410,     P16N.1,     112,          1,         19,         19,2,20150511,       1856,    22.5003,  -152.0005,       5441,   151.0,  20.3583,  35.0880,2,  35.0847,2,    203.0,2,   201.5,2,    1.90,2,    0.60,2,    0.16,2,    0.22,2,   2.153,2,   1.312,2,   1.497,2,  2054.4,2,  2312.2,6,   7.9647,6,    25.01,-999.000,9,-999.0000,9, -999.00,9,  20.3290, -999.00,9,  -999.0,9,  -999.0,-999.000,9,-999.000,  -999.0,9, -999.00,9,      8.168,3, -999.00,9,-999.000,-999.0000, -999.00,     -999.0,     -999.0,9,     -999.0,     -999.0,9,     -999.0,  -999.0,9,     -999.0,     -999.0,9,     -999.0,  20.3300,    35.2501,2,-999.0000,9,      0.144,2
33RO20150410,     P16N.1,     112,          1,         18,         18,2,20150511,       1856,    22.5003,  -152.0005,       5441,   225.1,  15.3881,  34.4400,2,  34.4424,2,    192.1,2,   192.7,2,    5.20,2,    5.80,2,    0.01,2,    0.57,2,-999.000,5,-999.000,5,-999.000,5,  2074.2,2,  2270.0,2,   7.8561,2,    25.00,-999.000,9,-999.0000,9, -999.00,9,  15.3895, -999.00,9,  -999.0,9,  -999.0,-999.000,9,-999.000,  -999.0,9, -999.00,9,     -999.0,5, -999.00,9,-999.000,-999.0000, -999.00,     -999.0,     -999.0,9,     -999.0,     -999.0,9,     -999.0,  -999.0,9,     -999.0,     -999.0,9,     -999.0,  15.3535,    34.6049,2,-999.0000,9,      0.002,2
33RO20150410,     P16N.1,     112,          1,         17,         17,2,20150511,       1856,    22.5003,  -152.0005,       5441,   299.8,  10.7480,  34.0712,2,  34.0724,2,    193.6,2,   192.9,2,   14.70,2,   14.60,2,    0.01,2,    1.13,2,   3.338,6,   1.857,6,   1.525,6,  2108.6,2,  2252.7,2,   7.7325,2,    25.02,-999.000,9,-999.0000,9, -999.00,9,  10.7497, -999.00,9,  -999.0,9,  -999.0,-999.000,9,-999.000,  -999.0,9, -999.00,9,     17.852,3, -999.00,9,-999.000,-999.0000, -999.00,     -999.0,     -999.0,9,     -999.0,     -999.0,9,     -999.0,  -999.0,9,     -999.0,     -999.0,9,     -999.0,  10.7118,    34.2330,2,-999.0000,9,     -999.0,9
33RO20150410,     P16N.1,     112,          1,         16,         16,2,20150511,       1856,    22.5003,  -152.0005,       5441,   399.9,   8.3379,  34.0296,2,  34.0299,2,    151.3,2,   150.4,2,   31.10,2,   23.80,2,    0.01,2,    1.75,2,   3.272,2,   1.682,2,   1.069,2,  2172.4,2,  2265.1,2,   7.5915,2,    25.01,-999.000,9,-999.0000,9, -999.00,9,   8.3364, -999.00,9,  -999.0,9,  -999.0,-999.000,9,-999.000,  -999.0,9, -999.00,9,     24.873,3, -999.00,9,-999.000,-999.0000, -999.00,     -999.0,     -999.0,9,     -999.0,     -999.0,9,     -999.0,  -999.0,9,     -999.0,     -999.0,9,     -999.0,   8.2965,    34.1904,6,-999.0000,9,     -999.0,9
33RO20150410,     P16N.1,     112,          1,         15,         15,2,20150511,       1856,    22.5003,  -152.0005,       5441,   499.5,   6.3526,  34.0548,2,  34.0540,2,     76.9,2,    76.0,2,   57.20,2,   34.30,2,    0.01,2,    2.50,2,   1.895,2,   0.922,2,   0.431,2,  2255.2,2,  2286.9,2,   7.4061,2,    25.03,-999.000,9,-999.0000,9, -999.00,9,   6.3531, -999.00,9,  -999.0,9,  -999.0,-999.000,9,-999.000,  -999.0,9, -999.00,9,     34.358,3, -999.00,9,-999.000,-999.0000, -999.00,     -999.0,     -999.0,9,     -999.0,     -999.0,9,     -999.0,  -999.0,9,     -999.0,     -999.0,9,     -999.0,   6.3080,    34.2146,2,-999.0000,9,     -999.0,9
33RO20150410,     P16N.1,     112,          1,         14,         14,2,20150511,       1856,    22.5003,  -152.0005,       5441,   649.7,   4.7817,  34.1862,2,  34.1859,2,     26.3,2,    26.6,2,   88.50,2,   41.10,2,    0.01,2,    2.98,2,   0.353,2,   0.172,2,   0.063,2,  2320.7,6,  2323.1,2,   7.3083,2,    25.02,-999.000,9,-999.0000,9, -999.00,9,   4.7812, -999.00,9,  -999.0,9,  -999.0,-999.000,9,-999.000,  -999.0,9, -999.00,9,     45.018,3, -999.00,9,-999.000,-999.0000, -999.00,     -999.0,     -999.0,9,     -999.0,     -999.0,9,     -999.0,  -999.0,9,     -999.0,     -999.0,9,     -999.0,   4.7307,    34.3471,2,-999.0000,9,     -999.0,9
33RO20150410,     P16N.1,     112,          1,         13,         13,2,20150511,       1856,    22.5003,  -152.0005,       5441,   801.1,   4.6009,  34.4031,2,  34.4049,2,     27.4,2,    28.7,2,   95.50,2,   41.80,2,    0.01,2,    3.04,2,   0.064,2,   0.029,2,   0.062,3,  2335.5,2,  2349.0,2,   7.3495,2,    25.03,-999.000,9,-999.0000,9, -999.00,9,   4.6003, -999.00,9,  -999.0,9,  -999.0,-999.000,9,-999.000,  -999.0,9, -999.00,9,     45.649,3, -999.00,9,-999.000,-999.0000, -999.00,     -999.0,     -999.0,9,     -999.0,     -999.0,9,     -999.0,  -999.0,9,     -999.0,     -999.0,9,     -999.0,   4.5379,    34.5671,2,-999.0000,9,     -999.0,9
33RO20150410,     P16N.1,     112,          1,         12,         12,2,20150511,       1856,    22.5003,  -152.0005,       5441,   950.7,   4.1496,  34.4835,2,  34.4839,2,     37.6,2,    37.5,2,  103.90,2,   42.00,2,    0.00,2,    3.03,2,   0.034,3,   0.010,2,   0.028,3,  2340.0,2,  2366.3,2,   7.3725,2,    25.01,-999.000,9,-999.0000,9, -999.00,9,   4.1497, -999.00,9,  -999.0,9,  -999.0,-999.000,9,-999.000,  -999.0,9, -999.00,9,     42.660,3, -999.00,9,-999.000,-999.0000, -999.00,     -999.0,     -999.0,9,     -999.0,     -999.0,9,     -999.0,  -999.0,9,     -999.0,     -999.0,9,     -999.0,   4.0769,    34.6465,2,-999.0000,9,     -999.0,9
33RO20150410,     P16N.1,     112,          1,         11,         11,2,20150511,       1856,    22.5003,  -152.0005,       5441,  1100.3,   3.7249,  34.5203,2,  34.5218,2,     45.2,2,    45.5,2,  112.70,2,   42.00,2,    0.00,2,    3.01,2,   0.004,2,   0.002,2,       0,2,  2348.4,2,  2378.7,2,   7.3872,2,    25.02,-999.000,9,-999.0000,9, -999.00,9,   3.7251, -999.00,9,  -999.0,9,  -999.0,-999.000,9,-999.000,  -999.0,9, -999.00,9,     40.099,3, -999.00,9,-999.000,-999.0000, -999.00,     -999.0,     -999.0,9,     -999.0,     -999.0,9,     -999.0,  -999.0,9,     -999.0,     -999.0,9,     -999.0,   3.6431,    34.6846,2,-999.0000,9,     -999.0,9
33RO20150410,     P16N.1,     112,          1,         10,         10,2,20150511,       1856,    22.5003,  -152.0005,       5441,  1299.4,   3.2060,  34.5539,2,  34.5552,2,     54.9,2,    54.7,2,  124.50,2,   41.70,2,    0.01,2,    2.98,2,  -0.001,2,  -0.001,2,       0,2,  2353.4,2,  2389.8,2,   7.4043,2,    25.01,-999.000,9,-999.0000,9, -999.00,9,   3.2069, -999.00,9,  -999.0,9,  -999.0,-999.000,9,-999.000,  -999.0,9, -999.00,9,     36.427,3, -999.00,9,-999.000,-999.0000, -999.00,     -999.0,     -999.0,9,     -999.0,     -999.0,9,     -999.0,  -999.0,9,     -999.0,     -999.0,9,     -999.0,   3.1126,    34.7182,2,-999.0000,9,     -999.0,9
33RO20150410,     P16N.1,     112,          1,          9,          9,2,20150511,       1856,    22.5003,  -152.0005,       5441,  1600.0,   2.6563,  34.5875,2,  34.5892,2,     69.8,2,    69.8,2,  135.10,2,   40.90,2,    0.01,2,    2.92,2,   0.001,2,   0.000,2,       0,2,  2359.0,2,  2416.1,3,   7.4318,2,    25.02,-999.000,9,-999.0000,9, -999.00,9,   2.6575, -999.00,9,  -999.0,9,  -999.0,-999.000,9,-999.000,  -999.0,9, -999.00,9,     32.588,3, -999.00,9,-999.000,-999.0000, -999.00,     -999.0,     -999.0,9,     -999.0,     -999.0,9,     -999.0,  -999.0,9,     -999.0,     -999.0,9,     -999.0,   2.5442,    34.7523,2,-999.0000,9,     -999.0,9
33RO20150410,     P16N.1,     112,          1,          8,          8,2,20150511,       1856,    22.5003,  -152.0005,       5441,  1999.9,   2.1152,  34.6234,2,  34.6243,2,     89.0,2,    89.8,2,  146.70,2,   39.70,2,    0.01,2,    2.79,2,   0.002,2,   0.001,2,       0,2,  2359.6,2,  2422.1,3,   7.4694,6,    25.01,-999.000,9,-999.0000,9, -999.00,9,   2.1152, -999.00,9,  -999.0,9,  -999.0,-999.000,9,-999.000,  -999.0,9, -999.00,9,     28.143,3, -999.00,9,-999.000,-999.0000, -999.00,     -999.0,     -999.0,9,     -999.0,     -999.0,9,     -999.0,  -999.0,9,     -999.0,     -999.0,9,     -999.0,   1.9770,    34.7876,2,-999.0000,9,     -999.0,9
33RO20150410,     P16N.1,     112,          1,          7,          7,2,20150511,       1856,    22.5003,  -152.0005,       5441,  2399.1,   1.8067,  34.6444,2,  34.6457,2,    102.1,2,   102.7,2,  154.80,2,   38.90,2,    0.01,2,    2.73,2,   0.000,2,   0.000,2,       0,2,  2357.1,2,  2422.2,3,   7.4930,2,    25.02,-999.000,9,-999.0000,9, -999.00,9,   1.8066, -999.00,9,  -999.0,9,  -999.0,-999.000,9,-999.000,  -999.0,9, -999.00,9,     25.395,3, -999.00,9,-999.000,-999.0000, -999.00,     -999.0,     -999.0,9,     -999.0,     -999.0,9,     -999.0,  -999.0,9,     -999.0,     -999.0,9,     -999.0,   1.6390,    34.8090,2,-999.0000,9,     -999.0,9
33RO20150410,     P16N.1,     112,          1,          6,          6,2,20150511,       1856,    22.5003,  -152.0005,       5441,  2899.8,   1.5992,  34.6627,2,  34.6636,2,    117.0,2,   117.8,2,  156.50,2,   37.90,2,    0.01,2,    2.63,2,  -0.005,2,  -0.001,2,       0,2,  2349.8,2,  2426.4,2,   7.5203,2,    25.01,-999.000,9,-999.0000,9, -999.00,9,   1.5993, -999.00,9,  -999.0,9,  -999.0,-999.000,9,-999.000,  -999.0,9, -999.00,9,     23.399,3, -999.00,9,-999.000,-999.0000, -999.00,     -999.0,     -999.0,9,     -999.0,     -999.0,9,     -999.0,  -999.0,9,     -999.0,     -999.0,9,     -999.0,   1.3898,    34.8271,2,-999.0000,9,     -999.0,9
33RO20150410,     P16N.1,     112,          1,          5,          5,2,20150511,       1856,    22.5003,  -152.0005,       5441,  3399.8,   1.5099,  34.6766,2,  34.6777,2,    131.5,2,   131.5,2,  154.50,2,   37.00,2,    0.01,2,    2.57,2,  -0.001,2,   0.000,2,       0,2,  2344.2,2,  2427.8,2,   7.5467,6,    25.02,-999.000,9,-999.0000,9, -999.00,9,   1.5098, -999.00,9,  -999.0,9,  -999.0,-999.000,9,-999.000,  -999.0,9, -999.00,9,     21.503,3, -999.00,9,-999.000,-999.0000, -999.00,     -999.0,     -999.0,9,     -999.0,     -999.0,9,     -999.0,  -999.0,9,     -999.0,     -999.0,9,     -999.0,   1.2536,    34.8412,6,-999.0000,9,     -999.0,9
33RO20150410,     P16N.1,     112,          1,          4,          4,2,20150511,       1856,    22.5003,  -152.0005,       5441,  3901.1,   1.4732,  34.6839,2,  34.6843,2,    142.9,2,   142.7,2,  150.50,6,   36.30,6,    0.00,6,    2.52,6,  -0.001,2,   0.001,2,       0,2,  2334.1,2,  2425.8,2,   7.5646,2,    25.03,-999.000,9,-999.0000,9, -999.00,9,   1.4732, -999.00,9,  -999.0,9,  -999.0,-999.000,9,-999.000,  -999.0,9, -999.00,9,     20.575,3, -999.00,9,-999.000,-999.0000, -999.00,     -999.0,     -999.0,9,     -999.0,     -999.0,9,     -999.0,  -999.0,9,     -999.0,     -999.0,9,     -999.0,   1.1657,    34.8478,2,-999.0000,9,     -999.0,9
33RO20150410,     P16N.1,     112,          1,          3,          3,2,20150511,       1856,    22.5003,  -152.0005,       5441,  4400.7,   1.4673,  34.6890,2,  34.6937,3,    152.1,2,   151.8,2,  144.40,6,   35.50,6,    0.00,6,    2.46,6,   0.003,2,   0.004,2,       0,2,  2326.8,2,  2421.2,6,   7.5776,6,    25.00,-999.000,9,-999.0000,9, -999.00,9,   1.4677, -999.00,9,  -999.0,9,  -999.0,-999.000,9,-999.000,  -999.0,9, -999.00,9,     20.184,3, -999.00,9,-999.000,-999.0000, -999.00,     -999.0,     -999.0,9,     -999.0,     -999.0,9,     -999.0,  -999.0,9,     -999.0,     -999.0,9,     -999.0,   1.1046,    34.8573,3,-999.0000,9,     -999.0,9
33RO20150410,     P16N.1,     112,          1,          2,          2,2,20150511,       1856,    22.5003,  -152.0005,       5441,  4900.1,   1.4697,  34.6934,2,  34.6940,2,    161.3,2,   161.0,2,  137.70,6,   34.90,6,    0.00,6,    2.41,6,  -0.001,2,   0.003,2,       0,2,  2314.3,2,  2415.6,2,   7.5876,2,    25.02,-999.000,9,-999.0000,9, -999.00,9,   1.4699, -999.00,9,  -999.0,9,  -999.0,-999.000,9,-999.000,  -999.0,9, -999.00,9,     19.666,3, -999.00,9,-999.000,-999.0000, -999.00,     -999.0,     -999.0,9,     -999.0,     -999.0,9,     -999.0,  -999.0,9,     -999.0,     -999.0,9,     -999.0,   1.0484,    34.8576,2,-999.0000,9,     -999.0,9
33RO20150410,     P16N.1,     112,          1,          1,          1,2,20150511,       1856,    22.5003,  -152.0005,       5441,  5431.7,   1.5249,  34.6945,2,  34.6979,3,    163.3,2,   163.3,2,  136.20,6,   34.70,6,    0.00,6,    2.40,6,   0.001,2,   0.003,2,       0,2,  2311.7,6,  2413.3,2,   7.5897,2,    25.02,-999.000,9,-999.0000,9, -999.00,9,   1.5249, -999.00,9,  -999.0,9,  -999.0,-999.000,9,-999.000,  -999.0,9, -999.00,9,     19.896,3, -999.00,9,-999.000,-999.0000, -999.00,     -999.0,     -999.0,9,     -999.0,     -999.0,9,     -999.0,  -999.0,9,     -999.0,     -999.0,9,     -999.0,   1.0360,    34.8615,3,-999.0000,9,     -999.0,9