BOTTLE,20210709CCHSIOCBG
EXPOCODE,SECT_ID,STNNBR,CASTNO,SAMPNO,BTLNBR,BTLNBR_FLAG_W,DATE,TIME,LATITUDE,LONGITUDE,DEPTH,CTDPRS,CTDTMP,CTDSAL,CTDSAL_FLAG_W,SALNTY,SALNTY_FLAG_W,CTDOXY,CTDOXY_FLAG_W,OXYGEN,OXYGEN_FLAG_W,SILCAT,SILCAT_FLAG_W,NITRAT,NITRAT_FLAG_W,NITRIT,NITRIT_FLAG_W,PHSPHT,PHSPHT_FLAG_W,CFC-11,CFC-11_FLAG_W,CFC-12,CFC-12_FLAG_W,SF6,SF6_FLAG_W,TCARBN,TCARBN_FLAG_W,ALKALI,ALKALI_FLAG_W,PH_TOT,PH_TOT_FLAG_W,PH_TMP,TRITUM,TRITUM_FLAG_W,HELIUM,HELIUM_FLAG_W,DELHE3,DELHE3_FLAG_W,REFTMP,DELC13,DELC13_FLAG_W,DELC14,DELC14_FLAG_W,C14ERR,NEON,NEON_FLAG_W,NEONER,DOC,DOC_FLAG_W,TDN,TDN_FLAG_W,N2O,N2O_FLAG_W,ARGON,ARGON_FLAG_W,TRITER,HELIER,DELHER,ARGONER,KRYPTON,KRYPTON_FLAG_W,KRYPTONER,XENON,XENON_FLAG_W,XENONER,14C-DOC,14C-DOC_FLAG_W,14C-DOCERR,13C-DOC,13C-DOC_FLAG_W,13C-DOCERR,THETA,SALTREF,SALTREF_FLAG_W,SBE35,SBE35_FLAG_W,CHLORA,CHLORA_FLAG_W
,,,,,,,,,,,METERS,DBAR,ITS-90,PSS-78,,PSS-78,,UMOL/KG,,UMOL/KG,,UMOL/KG,,UMOL/KG,,UMOL/KG,,UMOL/KG,,PMOL/KG,,PMOL/KG,,FMOL/KG,,UMOL/KG,,UMOL/KG,,,,DEG C,TU,,NMOL/KG,,PERCNT,,DEG C,/MILLE,,/MILLE,,/MILLE,NMOL/KG,,NMOL/KG,UMOL/KG,,UMOL/KG,,NMOL/KG,,UMOL/KG,,TU,NMOL/KG,PERCNT,UMOL/KG,NMOL/KG,,NMOL/KG,NMOL/KG,,NMOL/KG,/MILLE,,/MILLE,/MILLE,,/MILLE,DEG C,G/KG,,ITS-90,,MG/M3,
33RO20150410,     P16N.1,      57,          1,         24,         24,2,20150426,       0654,     0.9004,  -150.9999,       4366,    14.6,  28.2365,  35.1106,2,  35.1036,2,    197.2,2,   197.0,2,    1.90,2,    3.00,2,    0.34,2,    0.43,4,-999.000,9,-999.000,9,-999.000,9,  2011.8,6,  2309.0,6,   8.0328,2,    25.01,-999.000,9,-999.0000,9, -999.00,9,-999.0000, -999.00,9,  -999.0,9,  -999.0,-999.000,9,-999.000,  -999.0,9, -999.00,9,     -999.0,9, -999.00,9,-999.000,-999.0000, -999.00,     -999.0,     -999.0,9,     -999.0,     -999.0,9,     -999.0,  -999.0,9,     -999.0,     -999.0,9,     -999.0,  28.2330,    35.2691,2,-999.0000,2,     -999.0,9
33RO20150410,     P16N.1,      57,          1,         23,         23,2,20150426,       0654,     0.9004,  -150.9999,       4366,    33.1,  28.0062,  35.0866,2,  35.0847,2,    194.8,2,   193.9,2,    1.90,2,    3.10,2,    0.44,2,    0.41,4,-999.000,9,-999.000,9,-999.000,9,  -999.0,9,  -999.0,9,-999.0000,9,  -999.00,-999.000,9,-999.0000,9, -999.00,9,-999.0000, -999.00,9,  -999.0,9,  -999.0,-999.000,9,-999.000,  -999.0,9, -999.00,9,     -999.0,9, -999.00,9,-999.000,-999.0000, -999.00,     -999.0,     -999.0,9,     -999.0,     -999.0,9,     -999.0,  -999.0,9,     -999.0,     -999.0,9,     -999.0,  27.9984,    35.2501,2,-999.0000,2,     -999.0,9
33RO20150410,     P16N.1,      57,          1,         22,         22,2,20150426,       0654,     0.9004,  -150.9999,       4366,    56.9,  27.5900,  35.0994,2,  35.0989,2,    186.8,2,   185.5,2,    2.10,2,    3.60,2,    1.01,2,    0.50,4,-999.000,9,-999.000,9,-999.000,9,  -999.0,9,  -999.0,9,-999.0000,9,  -999.00,-999.000,9,-999.0000,9, -999.00,9,-999.0000, -999.00,9,  -999.0,9,  -999.0,-999.000,9,-999.000,  -999.0,9, -999.00,9,     -999.0,9, -999.00,9,-999.000,-999.0000, -999.00,     -999.0,     -999.0,9,     -999.0,     -999.0,9,     -999.0,  -999.0,9,     -999.0,     -999.0,9,     -999.0,  27.5767,    35.2644,2,-999.0000,2,     -999.0,9
33RO20150410,     P16N.1,      57,          1,         21,         21,2,20150426,       0654,     0.9004,  -150.9999,       4366,    84.3,  27.1390,  35.1455,2,  35.1505,2,    173.7,2,   173.0,2,    2.30,2,    4.90,2,    1.27,2,    0.56,4,-999.000,9,-999.000,9,-999.000,9,  -999.0,9,  -999.0,9,-999.0000,9,  -999.00,-999.000,9,-999.0000,9, -999.00,9,-999.0000, -999.00,9,  -999.0,9,  -999.0,-999.000,9,-999.000,  -999.0,9, -999.00,9,     -999.0,9, -999.00,9,-999.000,-999.0000, -999.00,     -999.0,     -999.0,9,     -999.0,     -999.0,9,     -999.0,  -999.0,9,     -999.0,     -999.0,9,     -999.0,  27.1196,    35.3162,2,-999.0000,2,     -999.0,9
33RO20150410,     P16N.1,      57,          1,         20,         20,2,20150426,       0654,     0.9004,  -150.9999,       4366,   109.5,  26.7932,  35.1716,2,  35.1763,2,    158.7,2,   159.4,2,    2.60,2,    6.90,2,    0.16,2,    0.60,4,-999.000,9,-999.000,9,-999.000,9,  -999.0,9,  -999.0,9,-999.0000,9,  -999.00,-999.000,9,-999.0000,9, -999.00,9,-999.0000, -999.00,9,  -999.0,9,  -999.0,-999.000,9,-999.000,  -999.0,9, -999.00,9,     -999.0,9, -999.00,9,-999.000,-999.0000, -999.00,     -999.0,     -999.0,9,     -999.0,     -999.0,9,     -999.0,  -999.0,9,     -999.0,     -999.0,9,     -999.0,  26.7682,    35.3421,2,-999.0000,2,     -999.0,9
33RO20150410,     P16N.1,      57,          1,         19,         19,2,20150426,       0654,     0.9004,  -150.9999,       4366,   142.2,  19.5737,  34.8285,2,  34.8301,2,    119.4,2,   118.3,2,    9.70,2,   12.70,2,    0.02,2,    0.96,4,-999.000,9,-999.000,9,-999.000,9,  -999.0,9,  -999.0,9,-999.0000,9,  -999.00,-999.000,9,-999.0000,9, -999.00,9,-999.0000, -999.00,9,  -999.0,9,  -999.0,-999.000,9,-999.000,  -999.0,9, -999.00,9,     -999.0,9, -999.00,9,-999.000,-999.0000, -999.00,     -999.0,     -999.0,9,     -999.0,     -999.0,9,     -999.0,  -999.0,9,     -999.0,     -999.0,9,     -999.0,  19.5478,    34.9943,6,-999.0000,2,     -999.0,9
33RO20150410,     P16N.1,      57,          1,         18,         18,2,20150426,       0654,     0.9004,  -150.9999,       4366,   199.7,  13.6942,  34.9059,2,  34.9048,2,    130.9,2,   128.9,2,   15.40,2,   18.60,2,    0.01,2,    1.31,4,-999.000,9,-999.000,9,-999.000,9,  -999.0,9,  -999.0,9,-999.0000,9,  -999.00,-999.000,9,-999.0000,9, -999.00,9,-999.0000, -999.00,9,  -999.0,9,  -999.0,-999.000,9,-999.000,  -999.0,9, -999.00,9,     -999.0,9, -999.00,9,-999.000,-999.0000, -999.00,     -999.0,     -999.0,9,     -999.0,     -999.0,9,     -999.0,  -999.0,9,     -999.0,     -999.0,9,     -999.0,  13.6658,    35.0694,2,-999.0000,2,     -999.0,9
33RO20150410,     P16N.1,      57,          1,         17,         17,2,20150426,       0654,     0.9004,  -150.9999,       4366,   256.7,  11.9996,  34.8390,2,  34.8390,2,     90.3,2,    83.5,2,   21.40,2,   25.90,2,    0.01,2,    1.78,4,-999.000,9,-999.000,9,-999.000,9,  -999.0,9,  -999.0,9,-999.0000,9,  -999.00,-999.000,9,-999.0000,9, -999.00,9,-999.0000, -999.00,9,  -999.0,9,  -999.0,-999.000,9,-999.000,  -999.0,9, -999.00,9,     -999.0,9, -999.00,9,-999.000,-999.0000, -999.00,     -999.0,     -999.0,9,     -999.0,     -999.0,9,     -999.0,  -999.0,9,     -999.0,     -999.0,9,     -999.0,  11.9661,    35.0032,2,-999.0000,2,     -999.0,9
33RO20150410,     P16N.1,      57,          1,         16,         16,2,20150426,       0654,     0.9004,  -150.9999,       4366,   349.7,  10.3355,  34.7388,2,  34.7387,2,     38.5,2,    39.2,2,   29.80,2,   33.30,2,    0.01,2,    2.22,4,-999.000,9,-999.000,9,-999.000,9,  -999.0,9,  -999.0,9,-999.0000,9,  -999.00,-999.000,9,-999.0000,9, -999.00,9,-999.0000, -999.00,9,  -999.0,9,  -999.0,-999.000,9,-999.000,  -999.0,9, -999.00,9,     -999.0,9, -999.00,9,-999.000,-999.0000, -999.00,     -999.0,     -999.0,9,     -999.0,     -999.0,9,     -999.0,  -999.0,9,     -999.0,     -999.0,9,     -999.0,  10.2939,    34.9025,2,-999.0000,2,     -999.0,9
33RO20150410,     P16N.1,      57,          1,         15,         15,2,20150426,       0654,     0.9004,  -150.9999,       4366,   432.5,   8.5367,  34.6418,2,  34.6442,2,     31.5,2,    33.0,2,   38.90,2,   37.50,2,    0.01,2,    2.52,4,-999.000,9,-999.000,9,-999.000,9,  -999.0,9,  -999.0,9,-999.0000,9,  -999.00,-999.000,9,-999.0000,9, -999.00,9,-999.0000, -999.00,9,  -999.0,9,  -999.0,-999.000,9,-999.000,  -999.0,9, -999.00,9,     -999.0,9, -999.00,9,-999.000,-999.0000, -999.00,     -999.0,     -999.0,9,     -999.0,     -999.0,9,     -999.0,  -999.0,9,     -999.0,     -999.0,9,     -999.0,   8.4908,    34.8075,2,-999.0000,2,     -999.0,9
33RO20150410,     P16N.1,      57,          1,         14,         14,2,20150426,       0654,     0.9004,  -150.9999,       4366,   550.0,   7.4884,  34.5926,2,  34.5945,2,     53.2,2,    53.0,2,   44.00,2,   37.90,2,    0.00,2,    2.55,4,-999.000,9,-999.000,9,-999.000,9,  -999.0,9,  -999.0,9,-999.0000,9,  -999.00,-999.000,9,-999.0000,9, -999.00,9,-999.0000, -999.00,9,  -999.0,9,  -999.0,-999.000,9,-999.000,  -999.0,9, -999.00,9,     -999.0,9, -999.00,9,-999.000,-999.0000, -999.00,     -999.0,     -999.0,9,     -999.0,     -999.0,9,     -999.0,  -999.0,9,     -999.0,     -999.0,9,     -999.0,   7.4339,    34.7576,2,-999.0000,2,     -999.0,9
33RO20150410,     P16N.1,      57,          1,         13,         13,2,20150426,       0654,     0.9004,  -150.9999,       4366,   699.5,   6.1156,  34.5543,2,  34.5536,2,     65.1,2,    64.4,2,   57.50,2,   39.30,2,    0.01,2,    2.69,4,-999.000,9,-999.000,9,-999.000,9,  -999.0,9,  -999.0,9,-999.0000,9,  -999.00,-999.000,9,-999.0000,9, -999.00,9,-999.0000, -999.00,9,  -999.0,9,  -999.0,-999.000,9,-999.000,  -999.0,9, -999.00,9,     -999.0,9, -999.00,9,-999.000,-999.0000, -999.00,     -999.0,     -999.0,9,     -999.0,     -999.0,9,     -999.0,  -999.0,9,     -999.0,     -999.0,9,     -999.0,   6.0528,    34.7166,2,-999.0000,2,     -999.0,9
33RO20150410,     P16N.1,      57,          1,         12,         12,2,20150426,       0654,     0.9004,  -150.9999,       4366,   848.9,   5.3067,  34.5464,2,  34.5461,2,     77.1,2,    52.8,4,   68.40,6,   39.20,6,    0.01,6,    2.71,4,-999.000,9,-999.000,9,-999.000,9,  -999.0,9,  -999.0,9,-999.0000,9,  -999.00,-999.000,9,-999.0000,9, -999.00,9,-999.0000, -999.00,9,  -999.0,9,  -999.0,-999.000,9,-999.000,  -999.0,9, -999.00,9,     -999.0,9, -999.00,9,-999.000,-999.0000, -999.00,     -999.0,     -999.0,9,     -999.0,     -999.0,9,     -999.0,  -999.0,9,     -999.0,     -999.0,9,     -999.0,   5.2349,    34.7090,2,-999.0000,2,     -999.0,9
33RO20150410,     P16N.1,      57,          1,         11,         11,2,20150426,       0654,     0.9004,  -150.9999,       4366,   999.0,   4.7067,  34.5521,2,  34.5514,2,     82.4,2,    80.5,2,   79.30,6,   39.30,6,    0.01,6,    2.74,4,-999.000,9,-999.000,9,-999.000,9,  -999.0,9,  -999.0,9,-999.0000,9,  -999.00,-999.000,9,-999.0000,9, -999.00,9,-999.0000, -999.00,9,  -999.0,9,  -999.0,-999.000,9,-999.000,  -999.0,9, -999.00,9,     -999.0,9, -999.00,9,-999.000,-999.0000, -999.00,     -999.0,     -999.0,9,     -999.0,     -999.0,9,     -999.0,  -999.0,9,     -999.0,     -999.0,9,     -999.0,   4.6256,    34.7143,2,-999.0000,2,     -999.0,9
33RO20150410,     P16N.1,      57,          1,         10,         10,2,20150426,       0654,     0.9004,  -150.9999,       4366,  1166.3,   3.9823,  34.5708,2,  34.5704,2,     82.1,2,    81.6,2,   95.80,6,   39.90,6,    0.01,6,    2.81,4,-999.000,9,-999.000,9,-999.000,9,  -999.0,9,  -999.0,9,-999.0000,9,  -999.00,-999.000,9,-999.0000,9, -999.00,9,-999.0000, -999.00,9,  -999.0,9,  -999.0,-999.000,9,-999.000,  -999.0,9, -999.00,9,     -999.0,9, -999.00,9,-999.000,-999.0000, -999.00,     -999.0,     -999.0,9,     -999.0,     -999.0,9,     -999.0,  -999.0,9,     -999.0,     -999.0,9,     -999.0,   3.8926,    34.7334,2,-999.0000,2,     -999.0,9
33RO20150410,     P16N.1,      57,          1,          9,          9,2,20150426,       0654,     0.9004,  -150.9999,       4366,  1397.3,   3.4124,  34.5907,2,  34.5907,2,     85.4,2,    85.4,2, -999.00,5, -999.00,5, -999.00,5, -999.00,5,-999.000,9,-999.000,9,-999.000,9,  -999.0,9,  -999.0,9,-999.0000,9,  -999.00,-999.000,9,-999.0000,9, -999.00,9,-999.0000, -999.00,9,  -999.0,9,  -999.0,-999.000,9,-999.000,  -999.0,9, -999.00,9,     -999.0,9, -999.00,9,-999.000,-999.0000, -999.00,     -999.0,     -999.0,9,     -999.0,     -999.0,9,     -999.0,  -999.0,9,     -999.0,     -999.0,9,     -999.0,   3.3086,    34.7538,2,-999.0000,2,     -999.0,9
33RO20150410,     P16N.1,      57,          1,          8,          8,2,20150426,       0654,     0.9004,  -150.9999,       4366,  1732.8,   2.5389,  34.6284,2,  34.6282,2,     98.1,2,    98.6,2, -999.00,5, -999.00,5, -999.00,5, -999.00,5,-999.000,9,-999.000,9,-999.000,9,  -999.0,9,  -999.0,9,-999.0000,9,  -999.00,-999.000,9,-999.0000,9, -999.00,9,-999.0000, -999.00,9,  -999.0,9,  -999.0,-999.000,9,-999.000,  -999.0,9, -999.00,9,     -999.0,9, -999.00,9,-999.000,-999.0000, -999.00,     -999.0,     -999.0,9,     -999.0,     -999.0,9,     -999.0,  -999.0,9,     -999.0,     -999.0,9,     -999.0,   2.4172,    34.7915,2,-999.0000,2,     -999.0,9
33RO20150410,     P16N.1,      57,          1,          7,          7,2,20150426,       0654,     0.9004,  -150.9999,       4366,  2133.1,   2.0717,  34.6528,2,  34.6532,2,    110.8,2,   111.3,2, -999.00,5, -999.00,5, -999.00,5, -999.00,5,-999.000,9,-999.000,9,-999.000,9,  -999.0,9,  -999.0,9,-999.0000,9,  -999.00,-999.000,9,-999.0000,9, -999.00,9,-999.0000, -999.00,9,  -999.0,9,  -999.0,-999.000,9,-999.000,  -999.0,9, -999.00,9,     -999.0,9, -999.00,9,-999.000,-999.0000, -999.00,     -999.0,     -999.0,9,     -999.0,     -999.0,9,     -999.0,  -999.0,9,     -999.0,     -999.0,9,     -999.0,   1.9227,    34.8166,2,-999.0000,2,     -999.0,9
33RO20150410,     P16N.1,      57,          1,          6,          6,2,20150426,       0654,     0.9004,  -150.9999,       4366,  2533.3,   1.8959,  34.6631,2,  34.6653,2,    119.0,2,   119.5,2, -999.00,5, -999.00,5, -999.00,5, -999.00,5,-999.000,9,-999.000,9,-999.000,9,  -999.0,9,  -999.0,9,-999.0000,9,  -999.00,-999.000,9,-999.0000,9, -999.00,9,-999.0000, -999.00,9,  -999.0,9,  -999.0,-999.000,9,-999.000,  -999.0,9, -999.00,9,     -999.0,9, -999.00,9,-999.000,-999.0000, -999.00,     -999.0,     -999.0,9,     -999.0,     -999.0,9,     -999.0,  -999.0,9,     -999.0,     -999.0,9,     -999.0,   1.7144,    34.8288,2,-999.0000,2,     -999.0,9
33RO20150410,     P16N.1,      57,          1,          5,          5,2,20150426,       0654,     0.9004,  -150.9999,       4366,  2929.2,   1.7008,  34.6745,2,  34.6741,2,    131.6,2,   131.5,2, -999.00,5, -999.00,5, -999.00,5, -999.00,5,-999.000,9,-999.000,9,-999.000,9,  -999.0,9,  -999.0,9,-999.0000,9,  -999.00,-999.000,9,-999.0000,9, -999.00,9,-999.0000, -999.00,9,  -999.0,9,  -999.0,-999.000,9,-999.000,  -999.0,9, -999.00,9,     -999.0,9, -999.00,9,-999.000,-999.0000, -999.00,     -999.0,     -999.0,9,     -999.0,     -999.0,9,     -999.0,  -999.0,9,     -999.0,     -999.0,9,     -999.0,   1.4863,    34.8376,2,-999.0000,2,     -999.0,9
33RO20150410,     P16N.1,      57,          1,          4,          4,2,20150426,       0654,     0.9004,  -150.9999,       4366,  3333.5,   1.5739,  34.6822,2,-999.0000,9,    141.4,2,  -999.0,9,  144.20,6,   36.60,6,    0.01,6,    2.58,4,   0.002,6,   0.000,6,       0,6,  -999.0,9,  -999.0,9,-999.0000,9,  -999.00,-999.000,9,-999.0000,9, -999.00,9,-999.0000, -999.00,9,  -999.0,9,  -999.0,-999.000,9,-999.000,  -999.0,9, -999.00,9,     21.582,3, -999.00,9,-999.000,-999.0000, -999.00,     -999.0,     -999.0,9,     -999.0,     -999.0,9,     -999.0,  -999.0,9,     -999.0,     -999.0,9,     -999.0,-999.0000,     -999.0,5,-999.0000,2,     -999.0,9
33RO20150410,     P16N.1,      57,          1,          3,          3,2,20150426,       0654,     0.9004,  -150.9999,       4366,  3334.3,   1.5736,  34.6821,2,  34.6817,2,    141.4,2,   142.5,2, -999.00,5, -999.00,5, -999.00,5, -999.00,5,   0.004,6,   0.001,6,       0,6,  -999.0,9,  -999.0,9,-999.0000,9,  -999.00,-999.000,9,-999.0000,9, -999.00,9,-999.0000, -999.00,9,  -999.0,9,  -999.0,-999.000,9,-999.000,  -999.0,9, -999.00,9,     21.580,3, -999.00,9,-999.000,-999.0000, -999.00,     -999.0,     -999.0,9,     -999.0,     -999.0,9,     -999.0,  -999.0,9,     -999.0,     -999.0,9,     -999.0,   1.3224,    34.8452,2,-999.0000,2,     -999.0,9
33RO20150410,     P16N.1,      57,          1,          2,          2,2,20150426,       0654,     0.9004,  -150.9999,       4366,  3729.9,   1.4364,  34.6918,2,  34.6901,2,    155.1,2,   135.0,4, -999.00,5, -999.00,5, -999.00,5, -999.00,5,-999.000,9,-999.000,9,-999.000,9,  -999.0,9,  -999.0,9,-999.0000,9,  -999.00,-999.000,9,-999.0000,9, -999.00,9,-999.0000, -999.00,9,  -999.0,9,  -999.0,-999.000,9,-999.000,  -999.0,9, -999.00,9,     -999.0,9, -999.00,9,-999.000,-999.0000, -999.00,     -999.0,     -999.0,9,     -999.0,     -999.0,9,     -999.0,  -999.0,9,     -999.0,     -999.0,9,     -999.0,   1.1480,    34.8537,2,-999.0000,2,     -999.0,9
33RO20150410,     P16N.1,      57,          1,          1,          1,2,20150426,       0654,     0.9004,  -150.9999,       4366,  4355.5,   1.3975,  34.6964,2,  34.6961,2,    165.2,2,   164.2,2, -999.00,5, -999.00,5, -999.00,5, -999.00,5,-999.000,9,-999.000,9,-999.000,9,  -999.0,9,  -999.0,9,-999.0000,9,  -999.00,-999.000,9,-999.0000,9, -999.00,9,-999.0000, -999.00,9,  -999.0,9,  -999.0,-999.000,9,-999.000,  -999.0,9, -999.00,9,     -999.0,9, -999.00,9,-999.000,-999.0000, -999.00,     -999.0,     -999.0,9,     -999.0,     -999.0,9,     -999.0,  -999.0,9,     -999.0,     -999.0,9,     -999.0,   1.0420,    34.8597,6,-999.0000,2,     -999.0,9