BOTTLE,20210709CCHSIOCBG
EXPOCODE,SECT_ID,STNNBR,CASTNO,SAMPNO,BTLNBR,BTLNBR_FLAG_W,DATE,TIME,LATITUDE,LONGITUDE,DEPTH,CTDPRS,CTDTMP,CTDSAL,CTDSAL_FLAG_W,SALNTY,SALNTY_FLAG_W,CTDOXY,CTDOXY_FLAG_W,OXYGEN,OXYGEN_FLAG_W,SILCAT,SILCAT_FLAG_W,NITRAT,NITRAT_FLAG_W,NITRIT,NITRIT_FLAG_W,PHSPHT,PHSPHT_FLAG_W,CFC-11,CFC-11_FLAG_W,CFC-12,CFC-12_FLAG_W,SF6,SF6_FLAG_W,TCARBN,TCARBN_FLAG_W,ALKALI,ALKALI_FLAG_W,PH_TOT,PH_TOT_FLAG_W,PH_TMP,TRITUM,TRITUM_FLAG_W,HELIUM,HELIUM_FLAG_W,DELHE3,DELHE3_FLAG_W,REFTMP,DELC13,DELC13_FLAG_W,DELC14,DELC14_FLAG_W,C14ERR,NEON,NEON_FLAG_W,NEONER,DOC,DOC_FLAG_W,TDN,TDN_FLAG_W,N2O,N2O_FLAG_W,ARGON,ARGON_FLAG_W,TRITER,HELIER,DELHER,ARGONER,KRYPTON,KRYPTON_FLAG_W,KRYPTONER,XENON,XENON_FLAG_W,XENONER,14C-DOC,14C-DOC_FLAG_W,14C-DOCERR,13C-DOC,13C-DOC_FLAG_W,13C-DOCERR,THETA,SALTREF,SALTREF_FLAG_W,SBE35,SBE35_FLAG_W,CHLORA,CHLORA_FLAG_W
,,,,,,,,,,,METERS,DBAR,ITS-90,PSS-78,,PSS-78,,UMOL/KG,,UMOL/KG,,UMOL/KG,,UMOL/KG,,UMOL/KG,,UMOL/KG,,PMOL/KG,,PMOL/KG,,FMOL/KG,,UMOL/KG,,UMOL/KG,,,,DEG C,TU,,NMOL/KG,,PERCNT,,DEG C,/MILLE,,/MILLE,,/MILLE,NMOL/KG,,NMOL/KG,UMOL/KG,,UMOL/KG,,NMOL/KG,,UMOL/KG,,TU,NMOL/KG,PERCNT,UMOL/KG,NMOL/KG,,NMOL/KG,NMOL/KG,,NMOL/KG,/MILLE,,/MILLE,/MILLE,,/MILLE,DEG C,G/KG,,ITS-90,,MG/M3,
33RO20150410,     P16N.1,      86,          1,         24,         24,2,20150503,       1654,     9.4996,  -151.8199,       5298,    10.1,  27.7039,  34.2653,2,  34.2664,2,    195.6,2,   205.9,4,    1.10,2,    0.00,2,    0.00,2,    0.18,2,   1.505,2,   0.966,2,   1.277,2,  1933.5,2,  2252.9,2,   8.0898,2,    25.01,-999.000,9,-999.0000,9, -999.00,9,  27.7038,    0.91,2,    37.5,2,     2.2,-999.000,9,-999.000,  -999.0,9, -999.00,9,      6.109,3, -999.00,9,-999.000,-999.0000, -999.00,     -999.0,     -999.0,9,     -999.0,     -999.0,9,     -999.0,  -999.0,9,     -999.0,     -999.0,9,     -999.0,  27.7015,    34.4280,2,-999.0000,9,     -999.0,9
33RO20150410,     P16N.1,      86,          1,         23,         23,2,20150503,       1654,     9.4996,  -151.8199,       5298,    25.1,  27.7030,  34.2643,2,  34.2671,2,    196.0,2,   195.3,2,    1.00,2,    0.00,2,    0.00,2,    0.20,2,-999.000,9,-999.000,9,-999.000,9,  1933.5,2,  2253.3,2,   8.0900,6,    25.01,-999.000,9,-999.0000,9, -999.00,9,  27.7038, -999.00,9,  -999.0,9,  -999.0,-999.000,9,-999.000,  -999.0,9, -999.00,9,     -999.0,9, -999.00,9,-999.000,-999.0000, -999.00,     -999.0,     -999.0,9,     -999.0,     -999.0,9,     -999.0,  -999.0,9,     -999.0,     -999.0,9,     -999.0,  27.6971,    34.4287,2,-999.0000,9,     -999.0,9
33RO20150410,     P16N.1,      86,          1,         22,         22,2,20150503,       1654,     9.4996,  -151.8199,       5298,    49.7,  27.7057,  34.2632,2,  34.2665,2,    196.7,2,   195.3,2,    1.10,2,    0.00,2,    0.00,2,    0.21,2,   1.508,2,   0.970,2,   1.253,2,  1934.2,2,  2252.9,6,   8.0896,6,    25.02,-999.000,9,-999.0000,9, -999.00,9,  27.6958, -999.00,9,  -999.0,9,  -999.0,-999.000,9,-999.000,  -999.0,9, -999.00,9,      6.189,3, -999.00,9,-999.000,-999.0000, -999.00,     -999.0,     -999.0,9,     -999.0,     -999.0,9,     -999.0,  -999.0,9,     -999.0,     -999.0,9,     -999.0,  27.6941,    34.4281,2,-999.0000,9,     -999.0,9
33RO20150410,     P16N.1,      86,          1,         21,         21,2,20150503,       1654,     9.4996,  -151.8199,       5298,    75.4,  21.9806,  34.4876,2,  34.4879,2,    204.6,2,   203.2,2,    2.70,2,    0.50,2,    0.03,2,    0.42,2,   2.079,2,   1.282,2,   1.413,2,  2032.6,2,  2282.5,2,   7.9609,6,    25.01,-999.000,9,-999.0000,9, -999.00,9,  22.0970,    0.88,2,    34.6,2,     2.2,-999.000,9,-999.000,  -999.0,9, -999.00,9,     18.482,3, -999.00,9,-999.000,-999.0000, -999.00,     -999.0,     -999.0,9,     -999.0,     -999.0,9,     -999.0,  -999.0,9,     -999.0,     -999.0,9,     -999.0,  21.9657,    34.6505,2,-999.0000,9,     -999.0,9
33RO20150410,     P16N.1,      86,          1,         20,         20,2,20150503,       1654,     9.4996,  -151.8199,       5298,    99.8,  13.8626,  34.4296,2,  34.4347,2,     39.2,2,    44.3,2,   18.60,2,   24.20,2,    0.69,2,    2.12,2,   1.907,2,   1.090,2,   0.751,2,  2209.2,2,  2275.4,2,   7.5045,2,    25.00,-999.000,9,-999.0000,9, -999.00,9,  13.8651,   -0.47,2,     8.6,2,     2.0,-999.000,9,-999.000,  -999.0,9, -999.00,9,    102.878,3, -999.00,9,-999.000,-999.0000, -999.00,     -999.0,     -999.0,9,     -999.0,     -999.0,9,     -999.0,  -999.0,9,     -999.0,     -999.0,9,     -999.0,  13.8484,    34.5971,2,-999.0000,9,     -999.0,9
33RO20150410,     P16N.1,      86,          1,         19,         19,2,20150503,       1654,     9.4996,  -151.8199,       5298,   150.1,  11.6045,  34.7342,2,  34.7386,2,      2.0,2,     6.8,2,   27.80,2,   33.20,2,    0.01,2,    2.54,2,   0.842,6,   0.470,6,   0.256,6,  2257.9,2,  2295.9,2,   7.4188,2,    25.00,-999.000,9,-999.0000,9, -999.00,9,  11.6046,   -0.28,2,   -13.7,2,     2.1,-999.000,9,-999.000,  -999.0,9, -999.00,9,    101.660,3, -999.00,9,-999.000,-999.0000, -999.00,     -999.0,     -999.0,9,     -999.0,     -999.0,9,     -999.0,  -999.0,9,     -999.0,     -999.0,9,     -999.0,  11.5854,    34.9024,2,-999.0000,9,     -999.0,9
33RO20150410,     P16N.1,      86,          1,         18,         18,2,20150503,       1654,     9.4996,  -151.8199,       5298,   224.9,  10.6755,  34.7109,2,  34.7097,2,      6.8,2,     6.7,2,   30.10,2,   34.60,2,    0.01,2,    2.54,2,   0.579,2,   0.311,2,   0.087,2,  2263.4,6,  2299.5,2,   7.4136,2,    25.00,-999.000,9,-999.0000,9, -999.00,9,  10.6748,   -0.24,2,   -45.1,2,     1.9,-999.000,9,-999.000,  -999.0,9, -999.00,9,     70.317,3, -999.00,9,-999.000,-999.0000, -999.00,     -999.0,     -999.0,9,     -999.0,     -999.0,9,     -999.0,  -999.0,9,     -999.0,     -999.0,9,     -999.0,  10.6484,    34.8734,2,-999.0000,9,     -999.0,9
33RO20150410,     P16N.1,      86,          1,         17,         17,2,20150503,       1654,     9.4996,  -151.8199,       5298,   300.5,   9.9354,  34.6864,2,  34.6846,2,      4.6,2,     4.4,2,   33.60,2,   35.60,2,    0.01,2,    2.64,2,   0.354,2,   0.190,2,   0.036,2,  2274.9,2,  2303.2,2,   7.3907,2,    25.01,-999.000,9,-999.0000,9, -999.00,9,   9.9357,   -0.19,6,   -63.3,6,     1.7,-999.000,9,-999.000,  -999.0,9, -999.00,9,     66.221,3, -999.00,9,-999.000,-999.0000, -999.00,     -999.0,     -999.0,9,     -999.0,     -999.0,9,     -999.0,  -999.0,9,     -999.0,     -999.0,9,     -999.0,   9.9006,    34.8481,2,-999.0000,9,     -999.0,9
33RO20150410,     P16N.1,      86,          1,         16,         16,2,20150503,       1654,     9.4996,  -151.8199,       5298,   399.4,   9.0059,  34.6235,2,  34.6223,2,      5.2,2,     5.2,2,   40.30,2,   36.20,2,    0.00,2,    2.77,2,   0.123,2,   0.072,2,       0,2,  2282.9,2,  2308.6,2,   7.3760,2,    25.01,-999.000,9,-999.0000,9, -999.00,9,   9.0111,   -0.22,2,   -96.6,2,     2.0,-999.000,9,-999.000,  -999.0,9, -999.00,9,     69.257,3, -999.00,9,-999.000,-999.0000, -999.00,     -999.0,     -999.0,9,     -999.0,     -999.0,9,     -999.0,  -999.0,9,     -999.0,     -999.0,9,     -999.0,   8.9622,    34.7856,2,-999.0000,9,     -999.0,9
33RO20150410,     P16N.1,      86,          1,         15,         15,2,20150503,       1654,     9.4996,  -151.8199,       5298,   500.3,   7.8875,  34.5667,2,  34.5665,2,      7.2,2,     7.3,2,   49.80,2,   38.00,2,    0.00,2,    2.96,2,   0.047,2,   0.026,2,       0,2,  2295.2,2,  2316.2,2,   7.3632,2,    25.01,-999.000,9,-999.0000,9, -999.00,9,   7.8873,   -0.22,2,  -122.7,2,     1.8,-999.000,9,-999.000,  -999.0,9, -999.00,9,     64.036,3, -999.00,9,-999.000,-999.0000, -999.00,     -999.0,     -999.0,9,     -999.0,     -999.0,9,     -999.0,  -999.0,9,     -999.0,     -999.0,9,     -999.0,   7.8366,    34.7295,2,-999.0000,9,     -999.0,9
33RO20150410,     P16N.1,      86,          1,         14,         14,2,20150503,       1654,     9.4996,  -151.8199,       5298,   649.6,   6.3024,  34.5287,2,  34.5418,3,     11.0,2,    10.9,2,   67.10,2,   41.80,2,    0.00,2,    3.12,2,   0.010,3,   0.003,2,       0,2,  2316.9,2,  2334.4,2,   7.3504,6,    25.03,-999.000,9,-999.0000,9, -999.00,9,   6.3028,   -0.28,2,  -155.5,2,     1.8,-999.000,9,-999.000,  -999.0,9, -999.00,9,     57.072,3, -999.00,9,-999.000,-999.0000, -999.00,     -999.0,     -999.0,9,     -999.0,     -999.0,9,     -999.0,  -999.0,9,     -999.0,     -999.0,9,     -999.0,   6.2434,    34.7047,2,-999.0000,9,     -999.0,9
33RO20150410,     P16N.1,      86,          1,         13,         13,2,20150503,       1654,     9.4996,  -151.8199,       5298,   800.0,   5.3036,  34.5393,2,  34.5403,2,     31.8,2,    31.7,2,   77.60,2,   42.80,2,    0.01,2,    3.09,2,   0.009,2,   0.005,2,   0.031,3,  2318.7,2,  2346.6,2,   7.3793,2,    25.02,-999.000,9,-999.0000,9, -999.00,9,   5.3023,   -0.21,2,  -176.9,2,     1.7,-999.000,9,-999.000,  -999.0,9, -999.00,9,     46.223,3, -999.00,9,-999.000,-999.0000, -999.00,     -999.0,     -999.0,9,     -999.0,     -999.0,9,     -999.0,  -999.0,9,     -999.0,     -999.0,9,     -999.0,   5.2362,    34.7031,2,-999.0000,9,     -999.0,9
33RO20150410,     P16N.1,      86,          1,         12,         12,2,20150503,       1654,     9.4996,  -151.8199,       5298,   949.8,   4.7089,  34.5508,2,  34.5491,2,     45.3,2,    45.4,2,   86.90,2,   42.30,2,    0.00,2,    3.04,2,-999.000,9,-999.000,9,-999.000,9,  2324.5,2,  2356.6,2,   7.4024,2,    25.00,-999.000,9,-999.0000,9, -999.00,9,   4.7086, -999.00,9,  -999.0,9,  -999.0,-999.000,9,-999.000,  -999.0,9, -999.00,9,     -999.0,9, -999.00,9,-999.000,-999.0000, -999.00,     -999.0,     -999.0,9,     -999.0,     -999.0,9,     -999.0,  -999.0,9,     -999.0,     -999.0,9,     -999.0,   4.6321,    34.7120,2,-999.0000,9,     -999.0,9
33RO20150410,     P16N.1,      86,          1,         11,         11,2,20150503,       1654,     9.4996,  -151.8199,       5298,  1099.7,   4.1083,  34.5673,2,  34.5660,2,     54.7,2,    55.1,2,   98.20,2,   42.10,2,    0.00,2,    3.03,2,-999.000,9,-999.000,9,-999.000,9,  2329.5,2,  2371.9,2,   7.4174,2,    24.99,-999.000,9,-999.0000,9, -999.00,9,   4.1087, -999.00,9,  -999.0,9,  -999.0,-999.000,9,-999.000,  -999.0,9, -999.00,9,     -999.0,9, -999.00,9,-999.000,-999.0000, -999.00,     -999.0,     -999.0,9,     -999.0,     -999.0,9,     -999.0,  -999.0,9,     -999.0,     -999.0,9,     -999.0,   4.0232,    34.7290,2,-999.0000,9,     -999.0,9
33RO20150410,     P16N.1,      86,          1,         10,         10,2,20150503,       1654,     9.4996,  -151.8199,       5298,  1300.0,   3.5646,  34.5832,2,  34.5815,2,     65.3,2,    65.9,2,  109.00,2,   41.50,2,    0.01,2,    3.00,2,-999.000,9,-999.000,9,-999.000,9,  2337.7,2,  2384.3,2,   7.4355,6,    25.01,-999.000,9,-999.0000,9, -999.00,9,   3.5658, -999.00,9,  -999.0,9,  -999.0,-999.000,9,-999.000,  -999.0,9, -999.00,9,     -999.0,9, -999.00,9,-999.000,-999.0000, -999.00,     -999.0,     -999.0,9,     -999.0,     -999.0,9,     -999.0,  -999.0,9,     -999.0,     -999.0,9,     -999.0,   3.4675,    34.7446,2,-999.0000,9,     -999.0,9
33RO20150410,     P16N.1,      86,          1,          9,          9,2,20150503,       1654,     9.4996,  -151.8199,       5298,  1600.7,   2.8374,  34.6096,2,  34.6081,2,     77.4,2,    77.1,2,  125.10,2,   41.00,2,    0.01,2,    2.91,2,-999.000,9,-999.000,9,-999.000,9,  2348.5,2,  2403.2,2,   7.4544,2,    25.00,-999.000,9,-999.0000,9, -999.00,9,   2.8369, -999.00,9,  -999.0,9,  -999.0,-999.000,9,-999.000,  -999.0,9, -999.00,9,     -999.0,9, -999.00,9,-999.000,-999.0000, -999.00,     -999.0,     -999.0,9,     -999.0,     -999.0,9,     -999.0,  -999.0,9,     -999.0,     -999.0,9,     -999.0,   2.7230,    34.7713,2,-999.0000,9,     -999.0,9
33RO20150410,     P16N.1,      86,          1,          8,          8,2,20150503,       1654,     9.4996,  -151.8199,       5298,  1999.9,   2.2027,  34.6407,2,  34.6417,2,     94.9,2,    95.4,2,  138.70,2,   39.70,2,    0.01,2,    2.80,2,-999.000,9,-999.000,9,-999.000,9,  2351.7,2,  2419.0,2,   7.4877,2,    25.01,-999.000,9,-999.0000,9, -999.00,9,   2.2030, -999.00,9,  -999.0,9,  -999.0,-999.000,9,-999.000,  -999.0,9, -999.00,9,     -999.0,9, -999.00,9,-999.000,-999.0000, -999.00,     -999.0,     -999.0,9,     -999.0,     -999.0,9,     -999.0,  -999.0,9,     -999.0,     -999.0,9,     -999.0,   2.0631,    34.8051,6,-999.0000,9,     -999.0,9
33RO20150410,     P16N.1,      86,          1,          7,          7,2,20150503,       1654,     9.4996,  -151.8199,       5298,  2400.0,   1.8944,  34.6617,2,  34.6702,4,    108.0,2,   107.9,2,  144.90,2,   38.80,2,    0.01,2,    2.73,2,-999.000,9,-999.000,9,-999.000,9,  2353.6,2,  2430.0,2,   7.5137,2,    25.01,-999.000,9,-999.0000,9, -999.00,9,   1.8947, -999.00,9,  -999.0,9,  -999.0,-999.000,9,-999.000,  -999.0,9, -999.00,9,     -999.0,9, -999.00,9,-999.000,-999.0000, -999.00,     -999.0,     -999.0,9,     -999.0,     -999.0,9,     -999.0,  -999.0,9,     -999.0,     -999.0,9,     -999.0,   1.7250,    34.8337,4,-999.0000,9,     -999.0,9
33RO20150410,     P16N.1,      86,          1,          6,          6,2,20150503,       1654,     9.4996,  -151.8199,       5298,  2799.2,   1.7760,  34.6708,2,  34.6712,2,    115.0,2,   114.2,2,  148.10,2,   38.40,2,    0.00,2,    2.70,2,-999.000,9,-999.000,9,-999.000,9,  2353.8,2,  2433.6,2,   7.5266,2,    25.01,-999.000,9,-999.0000,9, -999.00,9,   1.7763, -999.00,9,  -999.0,9,  -999.0,-999.000,9,-999.000,  -999.0,9, -999.00,9,     -999.0,9, -999.00,9,-999.000,-999.0000, -999.00,     -999.0,     -999.0,9,     -999.0,     -999.0,9,     -999.0,  -999.0,9,     -999.0,     -999.0,9,     -999.0,   1.5723,    34.8347,2,-999.0000,9,     -999.0,9
33RO20150410,     P16N.1,      86,          1,          5,          5,2,20150503,       1654,     9.4996,  -151.8199,       5298,  3200.2,   1.6254,  34.6789,2,  34.6779,2,    126.7,2,   128.9,2,  149.10,2,   37.50,2,    0.00,2,    2.63,2,-999.000,9,-999.000,9,-999.000,9,  2347.7,2,  2433.5,2,   7.5465,6,    25.01,-999.000,9,-999.0000,9, -999.00,9,   1.6253, -999.00,9,  -999.0,9,  -999.0,-999.000,9,-999.000,  -999.0,9, -999.00,9,     -999.0,9, -999.00,9,-999.000,-999.0000, -999.00,     -999.0,     -999.0,9,     -999.0,     -999.0,9,     -999.0,  -999.0,9,     -999.0,     -999.0,9,     -999.0,   1.3863,    34.8414,2,-999.0000,9,     -999.0,9
33RO20150410,     P16N.1,      86,          1,          4,          4,2,20150503,       1654,     9.4996,  -151.8199,       5298,  3700.9,   1.4880,  34.6872,2,  34.6861,2,    145.6,2,   145.3,2,  142.50,6,   36.20,6,    0.00,6,    2.53,6,-999.000,9,-999.000,9,-999.000,9,  2330.0,2,  2426.6,2,   7.5738,2,    25.00,-999.000,9,-999.0000,9, -999.00,9,   1.4880, -999.00,9,  -999.0,9,  -999.0,-999.000,9,-999.000,  -999.0,9, -999.00,9,     -999.0,9, -999.00,9,-999.000,-999.0000, -999.00,     -999.0,     -999.0,9,     -999.0,     -999.0,9,     -999.0,  -999.0,9,     -999.0,     -999.0,9,     -999.0,   1.2013,    34.8497,2,-999.0000,9,     -999.0,9
33RO20150410,     P16N.1,      86,          1,          3,          3,2,20150503,       1654,     9.4996,  -151.8199,       5298,  4199.8,   1.3895,  34.6950,2,  34.6943,2,    162.2,2,   162.7,2,  134.50,6,   35.00,6,    0.00,6,    2.44,6,-999.000,9,-999.000,9,-999.000,9,  2315.4,2,  2415.1,6,   7.5929,2,    25.02,-999.000,9,-999.0000,9, -999.00,9,   1.3896, -999.00,9,  -999.0,9,  -999.0,-999.000,9,-999.000,  -999.0,9, -999.00,9,     -999.0,9, -999.00,9,-999.000,-999.0000, -999.00,     -999.0,     -999.0,9,     -999.0,     -999.0,9,     -999.0,  -999.0,9,     -999.0,     -999.0,9,     -999.0,   1.0517,    34.8579,2,-999.0000,9,     -999.0,9
33RO20150410,     P16N.1,      86,          1,          2,          2,2,20150503,       1654,     9.4996,  -151.8199,       5298,  4699.7,   1.3891,  34.6974,2,  34.6966,2,    169.2,2,   168.7,2,  131.00,6,   34.50,6,    0.00,6,    2.40,6,-999.000,9,-999.000,9,-999.000,9,  2306.7,2,  2407.4,2,   7.5968,2,    25.01,-999.000,9,-999.0000,9, -999.00,9,   1.3890, -999.00,9,  -999.0,9,  -999.0,-999.000,9,-999.000,  -999.0,9, -999.00,9,     -999.0,9, -999.00,9,-999.000,-999.0000, -999.00,     -999.0,     -999.0,9,     -999.0,     -999.0,9,     -999.0,  -999.0,9,     -999.0,     -999.0,9,     -999.0,   0.9943,    34.8602,2,-999.0000,9,     -999.0,9
33RO20150410,     P16N.1,      86,          1,          1,          1,2,20150503,       1654,     9.4996,  -151.8199,       5298,  5287.7,   1.4483,  34.6976,2,  34.6972,2,    170.9,2,   171.4,2,  129.80,6,   34.30,6,    0.01,6,    2.38,6,-999.000,9,-999.000,9,-999.000,9,  2303.8,6,  2404.8,2,   7.5975,2,    25.02,-999.000,9,-999.0000,9, -999.00,9,   1.4483, -999.00,9,  -999.0,9,  -999.0,-999.000,9,-999.000,  -999.0,9, -999.00,9,     -999.0,9, -999.00,9,-999.000,-999.0000, -999.00,     -999.0,     -999.0,9,     -999.0,     -999.0,9,     -999.0,  -999.0,9,     -999.0,     -999.0,9,     -999.0,   0.9802,    34.8608,2,-999.0000,9,     -999.0,9