BOTTLE,20210709CCHSIOCBG
EXPOCODE,SECT_ID,STNNBR,CASTNO,SAMPNO,BTLNBR,BTLNBR_FLAG_W,DATE,TIME,LATITUDE,LONGITUDE,DEPTH,CTDPRS,CTDTMP,CTDSAL,CTDSAL_FLAG_W,SALNTY,SALNTY_FLAG_W,CTDOXY,CTDOXY_FLAG_W,OXYGEN,OXYGEN_FLAG_W,SILCAT,SILCAT_FLAG_W,NITRAT,NITRAT_FLAG_W,NITRIT,NITRIT_FLAG_W,PHSPHT,PHSPHT_FLAG_W,CFC-11,CFC-11_FLAG_W,CFC-12,CFC-12_FLAG_W,SF6,SF6_FLAG_W,TCARBN,TCARBN_FLAG_W,ALKALI,ALKALI_FLAG_W,PH_TOT,PH_TOT_FLAG_W,PH_TMP,TRITUM,TRITUM_FLAG_W,HELIUM,HELIUM_FLAG_W,DELHE3,DELHE3_FLAG_W,REFTMP,DELC13,DELC13_FLAG_W,DELC14,DELC14_FLAG_W,C14ERR,NEON,NEON_FLAG_W,NEONER,DOC,DOC_FLAG_W,TDN,TDN_FLAG_W,N2O,N2O_FLAG_W,ARGON,ARGON_FLAG_W,TRITER,HELIER,DELHER,ARGONER,KRYPTON,KRYPTON_FLAG_W,KRYPTONER,XENON,XENON_FLAG_W,XENONER,14C-DOC,14C-DOC_FLAG_W,14C-DOCERR,13C-DOC,13C-DOC_FLAG_W,13C-DOCERR,THETA,SALTREF,SALTREF_FLAG_W,SBE35,SBE35_FLAG_W,CHLORA,CHLORA_FLAG_W
,,,,,,,,,,,METERS,DBAR,ITS-90,PSS-78,,PSS-78,,UMOL/KG,,UMOL/KG,,UMOL/KG,,UMOL/KG,,UMOL/KG,,UMOL/KG,,PMOL/KG,,PMOL/KG,,FMOL/KG,,UMOL/KG,,UMOL/KG,,,,DEG C,TU,,NMOL/KG,,PERCNT,,DEG C,/MILLE,,/MILLE,,/MILLE,NMOL/KG,,NMOL/KG,UMOL/KG,,UMOL/KG,,NMOL/KG,,UMOL/KG,,TU,NMOL/KG,PERCNT,UMOL/KG,NMOL/KG,,NMOL/KG,NMOL/KG,,NMOL/KG,/MILLE,,/MILLE,/MILLE,,/MILLE,DEG C,G/KG,,ITS-90,,MG/M3,
33RO20150410,     P16N.1,      71,          1,         24,         24,3,20150429,       1210,     3.3299,  -151.0002,       4982,    10.8,  29.0273,  34.7755,2,  34.8427,2,    197.1,2,   198.2,2,    2.50,2,    2.40,2,    0.13,2,    0.43,2,   1.425,2,   0.939,2,   1.194,2,  1983.3,6,  2291.3,2,   8.0519,2,    24.96,-999.000,9,-999.0000,9, -999.00,9,  29.0260, -999.00,9,  -999.0,9,  -999.0,-999.000,9,-999.000,    62.0,2,    7.30,2,      7.599,3, -999.00,9,-999.000,-999.0000, -999.00,     -999.0,     -999.0,9,     -999.0,     -999.0,9,     -999.0,  -999.0,9,     -999.0,     -999.0,9,     -999.0,  29.0247,    35.0070,4,-999.0000,2,     -999.0,9
33RO20150410,     P16N.1,      71,          1,         23,         23,2,20150429,       1210,     3.3299,  -151.0002,       4982,    25.4,  29.0635,  35.0564,2,  35.0567,2,    198.0,2,   199.1,2,    1.80,2,    2.50,2,    0.14,2,    0.39,2,   1.443,2,   0.948,2,   1.233,2,  1995.1,2,  2304.5,2,   8.0482,2,    24.99,-999.000,9,-999.0000,9, -999.00,9,  29.0668, -999.00,9,  -999.0,9,  -999.0,-999.000,9,-999.000,    61.7,2,    7.00,2,      7.690,3, -999.00,9,-999.000,-999.0000, -999.00,     -999.0,     -999.0,9,     -999.0,     -999.0,9,     -999.0,  -999.0,9,     -999.0,     -999.0,9,     -999.0,  29.0573,    35.2221,2,-999.0000,2,     -999.0,9
33RO20150410,     P16N.1,      71,          1,         22,         22,2,20150429,       1210,     3.3299,  -151.0002,       4982,    49.5,  28.6989,  35.0809,2,  35.0847,2,    201.2,2,   200.6,2,    1.80,2,    2.60,2,    0.15,2,    0.41,2,   1.467,6,   0.959,6,   1.187,6,  1999.3,2,  2306.9,2,   8.0446,6,    25.00,-999.000,9,-999.0000,9, -999.00,9,  28.6975, -999.00,9,  -999.0,9,  -999.0,-999.000,9,-999.000,    62.4,2,    6.80,2,      7.772,3, -999.00,9,-999.000,-999.0000, -999.00,     -999.0,     -999.0,9,     -999.0,     -999.0,9,     -999.0,  -999.0,9,     -999.0,     -999.0,9,     -999.0,  28.6870,    35.2502,2,-999.0000,2,     -999.0,9
33RO20150410,     P16N.1,      71,          1,         21,         21,2,20150429,       1210,     3.3299,  -151.0002,       4982,    74.2,  28.0767,  35.0086,2,  35.0089,2,    196.3,2,   194.5,2,    1.70,2,    2.40,2,    0.24,2,    0.42,2,   1.464,2,   0.970,2,   1.211,2,  1998.6,2,  2301.6,2,   8.0398,2,    24.98,-999.000,9,-999.0000,9, -999.00,9,  28.0885, -999.00,9,  -999.0,9,  -999.0,-999.000,9,-999.000,    60.3,2,    6.70,2,      8.033,3, -999.00,9,-999.000,-999.0000, -999.00,     -999.0,     -999.0,9,     -999.0,     -999.0,9,     -999.0,  -999.0,9,     -999.0,     -999.0,9,     -999.0,  28.0592,    35.1740,2,-999.0000,2,     -999.0,9
33RO20150410,     P16N.1,      71,          1,         20,         20,2,20150429,       1210,     3.3299,  -151.0002,       4982,   100.1,  27.3543,  35.0168,2,  35.0264,2,    186.4,2,   183.9,2,    2.80,2,    3.30,2,    0.48,2,    0.53,2,   1.536,2,   0.989,2,   1.219,2,  2015.9,2,  2302.4,6,   8.0119,2,    24.99,-999.000,9,-999.0000,9, -999.00,9,  27.3451, -999.00,9,  -999.0,9,  -999.0,-999.000,9,-999.000,    59.8,2,    8.70,2,      8.898,3, -999.00,9,-999.000,-999.0000, -999.00,     -999.0,     -999.0,9,     -999.0,     -999.0,9,     -999.0,  -999.0,9,     -999.0,     -999.0,9,     -999.0,  27.3311,    35.1915,2,-999.0000,2,     -999.0,9
33RO20150410,     P16N.1,      71,          1,         19,         19,2,20150429,       1210,     3.3299,  -151.0002,       4982,   150.6,  17.6896,  34.7400,2,  34.7428,2,    116.5,2,   112.4,2,   11.60,2,   14.80,2,    0.03,2,    1.16,2,   1.933,2,   1.137,2,   0.923,2,  2123.0,2,  2289.1,2,   7.7707,6,    25.00,-999.000,9,-999.0000,9, -999.00,9,  17.6987, -999.00,9,  -999.0,9,  -999.0,-999.000,9,-999.000,    50.5,2,   16.50,2,     28.084,3, -999.00,9,-999.000,-999.0000, -999.00,     -999.0,     -999.0,9,     -999.0,     -999.0,9,     -999.0,  -999.0,9,     -999.0,     -999.0,9,     -999.0,  17.6641,    34.9066,2,-999.0000,2,     -999.0,9
33RO20150410,     P16N.1,      71,          1,         18,         18,2,20150429,       1210,     3.3299,  -151.0002,       4982,   223.4,  11.2662,  34.7917,2,  34.7923,2,     52.8,2,    54.8,2,   25.10,2,   30.00,2,    0.01,2,    2.10,2,   1.031,2,   0.567,2,   0.251,2,  2224.5,2,  2302.1,2,   7.5350,2,    24.98,-999.000,9,-999.0000,9, -999.00,9,  11.2653, -999.00,9,  -999.0,9,  -999.0,-999.000,9,-999.000,    43.4,2,   32.30,2,     49.273,3, -999.00,9,-999.000,-999.0000, -999.00,     -999.0,     -999.0,9,     -999.0,     -999.0,9,     -999.0,  -999.0,9,     -999.0,     -999.0,9,     -999.0,  11.2383,    34.9564,6,-999.0000,2,     -999.0,9
33RO20150410,     P16N.1,      71,          1,         17,         17,2,20150429,       1210,     3.3299,  -151.0002,       4982,   301.3,  10.7283,  34.7533,2,  34.7528,2,     66.8,2,    65.6,2,   26.10,2,   30.00,2,    0.01,2,    2.09,2,   0.990,6,   0.539,6,   0.227,6,  2221.0,2,  2302.4,2,   7.5440,2,    24.99,-999.000,9,-999.0000,9, -999.00,9,  10.7267, -999.00,9,  -999.0,9,  -999.0,-999.000,9,-999.000,    43.7,2,   31.80,2,     46.093,3, -999.00,9,-999.000,-999.0000, -999.00,     -999.0,     -999.0,9,     -999.0,     -999.0,9,     -999.0,  -999.0,9,     -999.0,     -999.0,9,     -999.0,  10.6917,    34.9167,2,-999.0000,2,     -999.0,9
33RO20150410,     P16N.1,      71,          1,         16,         16,2,20150429,       1210,     3.3299,  -151.0002,       4982,   398.8,   9.3389,  34.6651,2,  34.6648,2,     68.0,2,    65.3,2,   31.60,2,   32.60,2,    0.01,2,    2.26,2,   0.665,2,   0.353,2,   0.153,2,  2232.8,6,  2303.7,2,   7.5129,6,    25.00,-999.000,9,-999.0000,9, -999.00,9,   9.3427, -999.00,9,  -999.0,9,  -999.0,-999.000,9,-999.000,    42.8,2, -999.00,9,     44.428,3, -999.00,9,-999.000,-999.0000, -999.00,     -999.0,     -999.0,9,     -999.0,     -999.0,9,     -999.0,  -999.0,9,     -999.0,     -999.0,9,     -999.0,   9.2943,    34.8283,2,-999.0000,2,     -999.0,9
33RO20150410,     P16N.1,      71,          1,         15,         15,2,20150429,       1210,     3.3299,  -151.0002,       4982,   500.2,   8.2030,  34.6183,2,  34.6179,2,     24.5,2,    24.8,2,   42.80,2,   38.40,2,    0.01,2,    2.73,2,   0.168,2,   0.091,2,       0,2,  2274.2,2,  2310.8,2,   7.4059,2,    24.98,-999.000,9,-999.0000,9, -999.00,9,   8.1917, -999.00,9,  -999.0,9,  -999.0,-999.000,9,-999.000,    42.0,2, -999.00,9,     56.732,3, -999.00,9,-999.000,-999.0000, -999.00,     -999.0,     -999.0,9,     -999.0,     -999.0,9,     -999.0,  -999.0,9,     -999.0,     -999.0,9,     -999.0,   8.1509,    34.7811,2,-999.0000,2,     -999.0,9
33RO20150410,     P16N.1,      71,          1,         14,         14,2,20150429,       1210,     3.3299,  -151.0002,       4982,   650.8,   6.3418,  34.5599,2,  34.5603,2,     48.2,2,    48.4,2,   57.20,2,   40.50,2,    0.01,2,    2.85,2,   0.039,2,   0.022,2,       0,2,  2282.8,2,  2323.9,2,   7.4220,2,    24.99,-999.000,9,-999.0000,9, -999.00,9,   6.3427, -999.00,9,  -999.0,9,  -999.0,-999.000,9,-999.000,    41.6,2, -999.00,9,     45.261,3, -999.00,9,-999.000,-999.0000, -999.00,     -999.0,     -999.0,9,     -999.0,     -999.0,9,     -999.0,  -999.0,9,     -999.0,     -999.0,9,     -999.0,   6.2825,    34.7233,2,-999.0000,2,     -999.0,9
33RO20150410,     P16N.1,      71,          1,         13,         13,2,20150429,       1210,     3.3299,  -151.0002,       4982,   800.7,   5.3782,  34.5473,2,  34.5474,2,     68.0,2,    68.6,2,   68.90,2,   39.80,2,    0.01,2,    2.79,2,   0.026,2,   0.015,2,       0,2,  2285.9,2,  2338.5,2,   7.4508,6,    25.00,-999.000,9,-999.0000,9, -999.00,9,   5.3794, -999.00,9,  -999.0,9,  -999.0,-999.000,9,-999.000,    40.1,2, -999.00,9,     39.358,3, -999.00,9,-999.000,-999.0000, -999.00,     -999.0,     -999.0,9,     -999.0,     -999.0,9,     -999.0,  -999.0,9,     -999.0,     -999.0,9,     -999.0,   5.3103,    34.7103,2,-999.0000,2,     -999.0,9
33RO20150410,     P16N.1,      71,          1,         12,         12,2,20150429,       1210,     3.3299,  -151.0002,       4982,   950.0,   4.7101,  34.5545,2,  34.5551,2,     74.3,2,    73.4,2,   81.30,2,   40.00,2,    0.00,2,    2.82,2,   0.010,2,   0.007,2,       0,2,  2296.9,2,  2352.9,2,   7.4553,2,    24.98,-999.000,9,-999.0000,9, -999.00,9,   4.7097, -999.00,9,  -999.0,9,  -999.0,-999.000,9,-999.000,    41.8,2, -999.00,9,     36.240,3, -999.00,9,-999.000,-999.0000, -999.00,     -999.0,     -999.0,9,     -999.0,     -999.0,9,     -999.0,  -999.0,9,     -999.0,     -999.0,9,     -999.0,   4.6333,    34.7180,2,-999.0000,2,     -999.0,9
33RO20150410,     P16N.1,      71,          1,         11,         11,2,20150429,       1210,     3.3299,  -151.0002,       4982,  1099.8,   4.2136,  34.5660,2,  34.5663,2,     75.1,2,    75.1,2,   92.10,2,   40.20,2,    0.01,2,    2.85,2,   0.003,2,   0.003,2,       0,2,  2308.8,2,  2364.5,2,   7.4554,2,    24.98,-999.000,9,-999.0000,9, -999.00,9,   4.2123, -999.00,9,  -999.0,9,  -999.0,-999.000,9,-999.000,    40.0,2, -999.00,9,     35.233,3, -999.00,9,-999.000,-999.0000, -999.00,     -999.0,     -999.0,9,     -999.0,     -999.0,9,     -999.0,  -999.0,9,     -999.0,     -999.0,9,     -999.0,   4.1276,    34.7293,2,-999.0000,2,     -999.0,9
33RO20150410,     P16N.1,      71,          1,         10,         10,2,20150429,       1210,     3.3299,  -151.0002,       4982,  1300.1,   3.6218,  34.5841,2,  34.5840,2,     78.0,2,    77.9,2,  105.60,2,   40.40,2,    0.01,2,    2.87,2,-999.000,9,-999.000,9,-999.000,9,  2326.1,2,  2380.0,2,   7.4576,6,    25.00,-999.000,9,-999.0000,9, -999.00,9,   3.6201, -999.00,9,  -999.0,9,  -999.0,-999.000,9,-999.000,    37.5,2, -999.00,9,     -999.0,9, -999.00,9,-999.000,-999.0000, -999.00,     -999.0,     -999.0,9,     -999.0,     -999.0,9,     -999.0,  -999.0,9,     -999.0,     -999.0,9,     -999.0,   3.5241,    34.7470,2,-999.0000,2,     -999.0,9
33RO20150410,     P16N.1,      71,          1,          9,          9,2,20150429,       1210,     3.3299,  -151.0002,       4982,  1600.6,   2.8281,  34.6153,2,  34.6156,2,     90.5,2,    89.4,2,  124.00,2,   40.00,2,    0.01,2,    2.80,2,-999.000,9,-999.000,9,-999.000,9,  2338.4,2,  2400.2,2,   7.4760,2,    24.98,-999.000,9,-999.0000,9, -999.00,9,   2.8281, -999.00,9,  -999.0,9,  -999.0,-999.000,9,-999.000,    36.6,2, -999.00,9,     -999.0,9, -999.00,9,-999.000,-999.0000, -999.00,     -999.0,     -999.0,9,     -999.0,     -999.0,9,     -999.0,  -999.0,9,     -999.0,     -999.0,9,     -999.0,   2.7138,    34.7788,2,-999.0000,2,     -999.0,9
33RO20150410,     P16N.1,      71,          1,          8,          8,2,20150429,       1210,     3.3299,  -151.0002,       4982,  2000.1,   2.3028,  34.6401,2,  34.6417,2,     99.8,2,    99.6,2,  136.80,2,   39.30,2,    0.00,2,    2.76,2,-999.000,9,-999.000,9,-999.000,9,  2347.1,2,  2415.4,2,   7.4959,2,    24.99,-999.000,9,-999.0000,9, -999.00,9,   2.3024, -999.00,9,  -999.0,9,  -999.0,-999.000,9,-999.000,    36.3,2, -999.00,9,     -999.0,9, -999.00,9,-999.000,-999.0000, -999.00,     -999.0,     -999.0,9,     -999.0,     -999.0,9,     -999.0,  -999.0,9,     -999.0,     -999.0,9,     -999.0,   2.1617,    34.8051,2,-999.0000,2,     -999.0,9
33RO20150410,     P16N.1,      71,          1,          7,          7,2,20150429,       1210,     3.3299,  -151.0002,       4982,  2399.3,   1.8997,  34.6640,2,  34.6664,2,    112.9,2,   113.9,2,  145.90,2,   38.30,2,    0.01,2,    2.65,2,-999.000,9,-999.000,9,-999.000,9,  2349.0,2,  2427.3,2,   7.5242,2,    24.99,-999.000,9,-999.0000,9, -999.00,9,   1.8995, -999.00,9,  -999.0,9,  -999.0,-999.000,9,-999.000,    37.6,2, -999.00,9,     -999.0,9, -999.00,9,-999.000,-999.0000, -999.00,     -999.0,     -999.0,9,     -999.0,     -999.0,9,     -999.0,  -999.0,9,     -999.0,     -999.0,9,     -999.0,   1.7302,    34.8299,6,-999.0000,2,     -999.0,9
33RO20150410,     P16N.1,      71,          1,          6,          6,2,20150429,       1210,     3.3299,  -151.0002,       4982,  2801.5,   1.7507,  34.6721,2,  34.6711,2,    122.6,2,   124.2,2,  146.40,2,   37.70,2,    0.01,2,    2.59,2,-999.000,9,-999.000,9,-999.000,9,  2343.2,2,  2428.7,2,   7.5416,2,    24.99,-999.000,9,-999.0000,9, -999.00,9,   1.7507, -999.00,9,  -999.0,9,  -999.0,-999.000,9,-999.000,    37.8,2, -999.00,9,     -999.0,9, -999.00,9,-999.000,-999.0000, -999.00,     -999.0,     -999.0,9,     -999.0,     -999.0,9,     -999.0,  -999.0,9,     -999.0,     -999.0,9,     -999.0,   1.5473,    34.8346,2,-999.0000,2,     -999.0,9
33RO20150410,     P16N.1,      71,          1,          5,          5,2,20150429,       1210,     3.3299,  -151.0002,       4982,  3199.5,   1.5866,  34.6810,2,  34.6895,4,    135.5,2,   137.8,2,  145.30,2,   36.90,2,    0.01,2,    2.52,2,-999.000,9,-999.000,9,-999.000,9,  2335.2,2,  2427.2,2,   7.5616,2,    24.98,-999.000,9,-999.0000,9, -999.00,9,   1.5871, -999.00,9,  -999.0,9,  -999.0,-999.000,9,-999.000,    38.5,2, -999.00,9,     -999.0,9, -999.00,9,-999.000,-999.0000, -999.00,     -999.0,     -999.0,9,     -999.0,     -999.0,9,     -999.0,  -999.0,9,     -999.0,     -999.0,9,     -999.0,   1.3484,    34.8531,4,-999.0000,2,     -999.0,9
33RO20150410,     P16N.1,      71,          1,          4,          4,2,20150429,       1210,     3.3299,  -151.0002,       4982,  3601.1,   1.4523,  34.6901,2,  34.6894,2,    151.1,2,   151.2,2,  142.70,6,   35.90,6,    0.01,6,    2.45,6,-999.000,9,-999.000,9,-999.000,9,  2324.8,2,  2426.6,2,   7.5858,6,    24.99,-999.000,9,-999.0000,9, -999.00,9,   1.4523, -999.00,9,  -999.0,9,  -999.0,-999.000,9,-999.000,    37.4,2, -999.00,9,     -999.0,9, -999.00,9,-999.000,-999.0000, -999.00,     -999.0,     -999.0,9,     -999.0,     -999.0,9,     -999.0,  -999.0,9,     -999.0,     -999.0,9,     -999.0,   1.1769,    34.8529,2,-999.0000,2,     -999.0,9
33RO20150410,     P16N.1,      71,          1,          3,          3,2,20150429,       1210,     3.3299,  -151.0002,       4982,  4000.6,   1.4051,  34.6942,2,  34.6953,2,    161.4,2,   161.0,2,  138.50,6,   35.20,6,    0.00,6,    2.40,6,-999.000,9,-999.000,9,-999.000,9,  2317.3,2,  2421.1,2,   7.5949,2,    24.99,-999.000,9,-999.0000,9, -999.00,9,   1.4052, -999.00,9,  -999.0,9,  -999.0,-999.000,9,-999.000,    38.9,2, -999.00,9,     -999.0,9, -999.00,9,-999.000,-999.0000, -999.00,     -999.0,     -999.0,9,     -999.0,     -999.0,9,     -999.0,  -999.0,9,     -999.0,     -999.0,9,     -999.0,   1.0887,    34.8589,2,-999.0000,2,     -999.0,9
33RO20150410,     P16N.1,      71,          1,          2,          2,2,20150429,       1210,     3.3299,  -151.0002,       4982,  4500.0,   1.3842,  34.6974,2,  34.6976,2,    168.7,2,   169.3,2,  134.90,6,   34.70,6,    0.01,6,    2.36,6,-999.000,9,-999.000,9,-999.000,9,  2309.1,2,  2414.1,6,   7.6014,2,    25.00,-999.000,9,-999.0000,9, -999.00,9,   1.3842, -999.00,9,  -999.0,9,  -999.0,-999.000,9,-999.000,    37.6,2, -999.00,9,     -999.0,9, -999.00,9,-999.000,-999.0000, -999.00,     -999.0,     -999.0,9,     -999.0,     -999.0,9,     -999.0,  -999.0,9,     -999.0,     -999.0,9,     -999.0,   1.0127,    34.8612,2,-999.0000,2,     -999.0,9
33RO20150410,     P16N.1,      71,          1,          1,          1,2,20150429,       1210,     3.3299,  -151.0002,       4982,  4954.3,   1.4308,  34.6975,2,  34.7002,2,    170.7,2,   170.2,2,  133.90,6,   34.60,6,    0.01,6,    2.34,6,-999.000,9,-999.000,9,-999.000,9,  2307.8,6,  2413.6,2,   7.6023,2,    25.01,-999.000,9,-999.0000,9, -999.00,9,   1.4307, -999.00,9,  -999.0,9,  -999.0,-999.000,9,-999.000,    38.2,2, -999.00,9,     -999.0,9, -999.00,9,-999.000,-999.0000, -999.00,     -999.0,     -999.0,9,     -999.0,     -999.0,9,     -999.0,  -999.0,9,     -999.0,     -999.0,9,     -999.0,   1.0043,    34.8638,2,-999.0000,2,     -999.0,9