BOTTLE,20210709CCHSIOCBG
EXPOCODE,SECT_ID,STNNBR,CASTNO,SAMPNO,BTLNBR,BTLNBR_FLAG_W,DATE,TIME,LATITUDE,LONGITUDE,DEPTH,CTDPRS,CTDTMP,CTDSAL,CTDSAL_FLAG_W,SALNTY,SALNTY_FLAG_W,CTDOXY,CTDOXY_FLAG_W,OXYGEN,OXYGEN_FLAG_W,SILCAT,SILCAT_FLAG_W,NITRAT,NITRAT_FLAG_W,NITRIT,NITRIT_FLAG_W,PHSPHT,PHSPHT_FLAG_W,CFC-11,CFC-11_FLAG_W,CFC-12,CFC-12_FLAG_W,SF6,SF6_FLAG_W,TCARBN,TCARBN_FLAG_W,ALKALI,ALKALI_FLAG_W,PH_TOT,PH_TOT_FLAG_W,PH_TMP,TRITUM,TRITUM_FLAG_W,HELIUM,HELIUM_FLAG_W,DELHE3,DELHE3_FLAG_W,REFTMP,DELC13,DELC13_FLAG_W,DELC14,DELC14_FLAG_W,C14ERR,NEON,NEON_FLAG_W,NEONER,DOC,DOC_FLAG_W,TDN,TDN_FLAG_W,N2O,N2O_FLAG_W,ARGON,ARGON_FLAG_W,TRITER,HELIER,DELHER,ARGONER,KRYPTON,KRYPTON_FLAG_W,KRYPTONER,XENON,XENON_FLAG_W,XENONER,14C-DOC,14C-DOC_FLAG_W,14C-DOCERR,13C-DOC,13C-DOC_FLAG_W,13C-DOCERR,THETA,SALTREF,SALTREF_FLAG_W,SBE35,SBE35_FLAG_W,CHLORA,CHLORA_FLAG_W
,,,,,,,,,,,METERS,DBAR,ITS-90,PSS-78,,PSS-78,,UMOL/KG,,UMOL/KG,,UMOL/KG,,UMOL/KG,,UMOL/KG,,UMOL/KG,,PMOL/KG,,PMOL/KG,,FMOL/KG,,UMOL/KG,,UMOL/KG,,,,DEG C,TU,,NMOL/KG,,PERCNT,,DEG C,/MILLE,,/MILLE,,/MILLE,NMOL/KG,,NMOL/KG,UMOL/KG,,UMOL/KG,,NMOL/KG,,UMOL/KG,,TU,NMOL/KG,PERCNT,UMOL/KG,NMOL/KG,,NMOL/KG,NMOL/KG,,NMOL/KG,/MILLE,,/MILLE,/MILLE,,/MILLE,DEG C,G/KG,,ITS-90,,MG/M3,
33RO20150410,     P16N.1,      49,          2,         24,         24,2,20150424,       1229,    -0.2499,  -150.9999,       4134,     5.2,  28.3064,  35.2196,2,  35.2288,2,    195.1,2,   196.6,2,    1.60,2,    3.40,2,    0.34,2,    0.42,4,-999.000,9,-999.000,9,-999.000,9,  2014.9,6,  2318.1,2,   8.0318,2,    25.00,-999.000,9,-999.0000,9, -999.00,9,  28.3071, -999.00,9,  -999.0,9,  -999.0,-999.000,9,-999.000,  -999.0,9, -999.00,9,     -999.0,9, -999.00,9,-999.000,-999.0000, -999.00,     -999.0,     -999.0,9,     -999.0,     -999.0,9,     -999.0,  -999.0,9,     -999.0,     -999.0,9,     -999.0,  28.3052,    35.3949,2,-999.0000,2,     -999.0,9
33RO20150410,     P16N.1,      49,          2,         23,         23,2,20150424,       1229,    -0.2499,  -150.9999,       4134,    20.0,  28.3093,  35.2189,2,  35.2186,2,    195.5,2,   195.9,2,    1.60,2,    3.40,2,    0.35,2,    0.45,4,-999.000,9,-999.000,9,-999.000,9,  -999.0,9,  -999.0,9,-999.0000,9,  -999.00,-999.000,9,-999.0000,9, -999.00,9,  28.3110, -999.00,9,  -999.0,9,  -999.0,-999.000,9,-999.000,  -999.0,9, -999.00,9,     -999.0,9, -999.00,9,-999.000,-999.0000, -999.00,     -999.0,     -999.0,9,     -999.0,     -999.0,9,     -999.0,  -999.0,9,     -999.0,     -999.0,9,     -999.0,  28.3045,    35.3846,2,-999.0000,2,     -999.0,9
33RO20150410,     P16N.1,      49,          2,         22,         22,2,20150424,       1229,    -0.2499,  -150.9999,       4134,    42.7,  28.2350,  35.2288,2,  35.2290,2,    193.7,2,   193.1,2,    1.80,2,    3.60,2,    0.44,2,    0.45,4,-999.000,9,-999.000,9,-999.000,9,  -999.0,9,  -999.0,9,-999.0000,9,  -999.00,-999.000,9,-999.0000,9, -999.00,9,  28.2352, -999.00,9,  -999.0,9,  -999.0,-999.000,9,-999.000,  -999.0,9, -999.00,9,     -999.0,9, -999.00,9,-999.000,-999.0000, -999.00,     -999.0,     -999.0,9,     -999.0,     -999.0,9,     -999.0,  -999.0,9,     -999.0,     -999.0,9,     -999.0,  28.2249,    35.3951,2,-999.0000,2,     -999.0,9
33RO20150410,     P16N.1,      49,          2,         21,         21,2,20150424,       1229,    -0.2499,  -150.9999,       4134,    67.0,  27.8134,  35.2456,2,  35.2523,2,    181.9,2,   182.1,2,    2.00,2,    4.40,2,    0.81,2,    0.52,4,-999.000,9,-999.000,9,-999.000,9,  -999.0,9,  -999.0,9,-999.0000,9,  -999.00,-999.000,9,-999.0000,9, -999.00,9,  27.8112, -999.00,9,  -999.0,9,  -999.0,-999.000,9,-999.000,  -999.0,9, -999.00,9,     -999.0,9, -999.00,9,-999.000,-999.0000, -999.00,     -999.0,     -999.0,9,     -999.0,     -999.0,9,     -999.0,  -999.0,9,     -999.0,     -999.0,9,     -999.0,  27.7977,    35.4185,2,-999.0000,2,     -999.0,9
33RO20150410,     P16N.1,      49,          2,         20,         20,2,20150424,       1229,    -0.2499,  -150.9999,       4134,    93.5,  27.5391,  35.3667,2,  35.3709,2,    173.4,2,   175.2,2,    1.90,2,    5.40,2,    1.23,2,    0.61,4,-999.000,9,-999.000,9,-999.000,9,  -999.0,9,  -999.0,9,-999.0000,9,  -999.00,-999.000,9,-999.0000,9, -999.00,9,  27.5437, -999.00,9,  -999.0,9,  -999.0,-999.000,9,-999.000,  -999.0,9, -999.00,9,     -999.0,9, -999.00,9,-999.000,-999.0000, -999.00,     -999.0,     -999.0,9,     -999.0,     -999.0,9,     -999.0,  -999.0,9,     -999.0,     -999.0,9,     -999.0,  27.5173,    35.5377,2,-999.0000,2,     -999.0,9
33RO20150410,     P16N.1,      49,          2,         19,         19,2,20150424,       1229,    -0.2499,  -150.9999,       4134,   117.8,  26.7058,  35.3730,2,  35.3774,2,    162.0,2,   162.5,2,    2.30,2,    8.10,2,    0.09,2,    0.69,4,-999.000,9,-999.000,9,-999.000,9,  -999.0,9,  -999.0,9,-999.0000,9,  -999.00,-999.000,9,-999.0000,9, -999.00,9,  26.7050, -999.00,9,  -999.0,9,  -999.0,-999.000,9,-999.000,  -999.0,9, -999.00,9,     -999.0,9, -999.00,9,-999.000,-999.0000, -999.00,     -999.0,     -999.0,9,     -999.0,     -999.0,9,     -999.0,  -999.0,9,     -999.0,     -999.0,9,     -999.0,  26.6790,    35.5442,2,-999.0000,3,     -999.0,9
33RO20150410,     P16N.1,      49,          2,         18,         18,2,20150424,       1229,    -0.2499,  -150.9999,       4134,   157.3,  21.4753,  35.5571,2,  35.5606,2,    123.8,2,   124.8,2,    4.30,2,   12.00,2,    0.03,2,    0.97,4,-999.000,9,-999.000,9,-999.000,9,  -999.0,9,  -999.0,9,-999.0000,9,  -999.00,-999.000,9,-999.0000,9, -999.00,9,  21.4871, -999.00,9,  -999.0,9,  -999.0,-999.000,9,-999.000,  -999.0,9, -999.00,9,     -999.0,9, -999.00,9,-999.000,-999.0000, -999.00,     -999.0,     -999.0,9,     -999.0,     -999.0,9,     -999.0,  -999.0,9,     -999.0,     -999.0,9,     -999.0,  21.4446,    35.7283,2,-999.0000,3,     -999.0,9
33RO20150410,     P16N.1,      49,          2,         17,         17,2,20150424,       1229,    -0.2499,  -150.9999,       4134,   225.1,  12.9380,  34.9248,2,  34.9225,2,    114.8,2,   114.8,2,   16.20,2,   21.30,2,    0.01,2,    1.47,4,-999.000,9,-999.000,9,-999.000,9,  -999.0,9,  -999.0,9,-999.0000,9,  -999.00,-999.000,9,-999.0000,9, -999.00,9,  12.9387, -999.00,9,  -999.0,9,  -999.0,-999.000,9,-999.000,  -999.0,9, -999.00,9,     -999.0,9, -999.00,9,-999.000,-999.0000, -999.00,     -999.0,     -999.0,9,     -999.0,     -999.0,9,     -999.0,  -999.0,9,     -999.0,     -999.0,9,     -999.0,  12.9071,    35.0872,2,-999.0000,2,     -999.0,9
33RO20150410,     P16N.1,      49,          2,         16,         16,2,20150424,       1229,    -0.2499,  -150.9999,       4134,   300.2,  11.4605,  34.8163,2,  34.8179,2,     42.9,2,    44.1,2,   25.40,2,   30.80,2,    0.01,2,    2.07,4,-999.000,9,-999.000,9,-999.000,9,  -999.0,9,  -999.0,9,-999.0000,9,  -999.00,-999.000,9,-999.0000,9, -999.00,9,  11.4604, -999.00,9,  -999.0,9,  -999.0,-999.000,9,-999.000,  -999.0,9, -999.00,9,     -999.0,9, -999.00,9,-999.000,-999.0000, -999.00,     -999.0,     -999.0,9,     -999.0,     -999.0,9,     -999.0,  -999.0,9,     -999.0,     -999.0,9,     -999.0,  11.4224,    34.9821,2,-999.0000,2,     -999.0,9
33RO20150410,     P16N.1,      49,          2,         15,         15,2,20150424,       1229,    -0.2499,  -150.9999,       4134,   375.5,  10.2356,  34.7379,2,  34.7364,2,     48.1,2,    48.5,2,   28.80,2,   32.70,2,    0.01,2,    2.18,4,-999.000,9,-999.000,9,-999.000,9,  -999.0,9,  -999.0,9,-999.0000,9,  -999.00,-999.000,9,-999.0000,9, -999.00,9,  10.2355, -999.00,9,  -999.0,9,  -999.0,-999.000,9,-999.000,  -999.0,9, -999.00,9,     -999.0,9, -999.00,9,-999.000,-999.0000, -999.00,     -999.0,     -999.0,9,     -999.0,     -999.0,9,     -999.0,  -999.0,9,     -999.0,     -999.0,9,     -999.0,  10.1911,    34.9002,2,-999.0000,3,     -999.0,9
33RO20150410,     P16N.1,      49,          2,         14,         14,2,20150424,       1229,    -0.2499,  -150.9999,       4134,   467.8,   8.5739,  34.6457,2,  34.6457,2,     41.2,2,    40.2,2,   37.40,2,   37.00,2,    0.01,2,    2.46,4,-999.000,9,-999.000,9,-999.000,9,  -999.0,9,  -999.0,9,-999.0000,9,  -999.00,-999.000,9,-999.0000,9, -999.00,9,   8.5739, -999.00,9,  -999.0,9,  -999.0,-999.000,9,-999.000,  -999.0,9, -999.00,9,     -999.0,9, -999.00,9,-999.000,-999.0000, -999.00,     -999.0,     -999.0,9,     -999.0,     -999.0,9,     -999.0,  -999.0,9,     -999.0,     -999.0,9,     -999.0,   8.5240,    34.8091,2,-999.0000,3,     -999.0,9
33RO20150410,     P16N.1,      49,          2,         13,         13,2,20150424,       1229,    -0.2499,  -150.9999,       4134,   600.0,   6.8708,  34.5710,2,  34.5702,2,     59.0,2,    58.9,2,   49.10,2,   38.60,2,    0.01,2,    2.62,4,-999.000,9,-999.000,9,-999.000,9,  -999.0,9,  -999.0,9,-999.0000,9,  -999.00,-999.000,9,-999.0000,9, -999.00,9,   6.8709, -999.00,9,  -999.0,9,  -999.0,-999.000,9,-999.000,  -999.0,9, -999.00,9,     -999.0,9, -999.00,9,-999.000,-999.0000, -999.00,     -999.0,     -999.0,9,     -999.0,     -999.0,9,     -999.0,  -999.0,9,     -999.0,     -999.0,9,     -999.0,   6.8139,    34.7332,6,-999.0000,2,     -999.0,9
33RO20150410,     P16N.1,      49,          2,         12,         12,2,20150424,       1229,    -0.2499,  -150.9999,       4134,   750.2,   5.6992,  34.5477,2,  34.5493,2,     70.0,2,    71.0,2,   63.30,2,   39.40,2,    0.00,2,    2.71,4,-999.000,9,-999.000,9,-999.000,9,  -999.0,9,  -999.0,9,-999.0000,9,  -999.00,-999.000,9,-999.0000,9, -999.00,9,   5.7003, -999.00,9,  -999.0,9,  -999.0,-999.000,9,-999.000,  -999.0,9, -999.00,9,     -999.0,9, -999.00,9,-999.000,-999.0000, -999.00,     -999.0,     -999.0,9,     -999.0,     -999.0,9,     -999.0,  -999.0,9,     -999.0,     -999.0,9,     -999.0,   5.6340,    34.7122,6,-999.0000,2,     -999.0,9
33RO20150410,     P16N.1,      49,          2,         11,         11,2,20150424,       1229,    -0.2499,  -150.9999,       4134,   900.3,   5.0743,  34.5466,2,  34.5451,2,     78.4,2,    79.0,2,   73.10,2,   39.10,2,    0.01,2,    2.72,4,-999.000,9,-999.000,9,-999.000,9,  -999.0,9,  -999.0,9,-999.0000,9,  -999.00,-999.000,9,-999.0000,9, -999.00,9,   5.0751, -999.00,9,  -999.0,9,  -999.0,-999.000,9,-999.000,  -999.0,9, -999.00,9,     -999.0,9, -999.00,9,-999.000,-999.0000, -999.00,     -999.0,     -999.0,9,     -999.0,     -999.0,9,     -999.0,  -999.0,9,     -999.0,     -999.0,9,     -999.0,   4.9994,    34.7080,2,-999.0000,2,     -999.0,9
33RO20150410,     P16N.1,      49,          2,         10,         10,2,20150424,       1229,    -0.2499,  -150.9999,       4134,  1050.0,   4.4064,  34.5585,2,  34.5581,2,     79.2,2,    79.5,2,   86.90,2,   39.60,2,    0.01,2,    2.79,4,-999.000,9,-999.000,9,-999.000,9,  -999.0,9,  -999.0,9,-999.0000,9,  -999.00,-999.000,9,-999.0000,9, -999.00,9,   4.4094, -999.00,9,  -999.0,9,  -999.0,-999.000,9,-999.000,  -999.0,9, -999.00,9,     -999.0,9, -999.00,9,-999.000,-999.0000, -999.00,     -999.0,     -999.0,9,     -999.0,     -999.0,9,     -999.0,  -999.0,9,     -999.0,     -999.0,9,     -999.0,   4.3232,    34.7210,2,-999.0000,2,     -999.0,9
33RO20150410,     P16N.1,      49,          2,          9,          9,2,20150424,       1229,    -0.2499,  -150.9999,       4134,  1233.2,   3.7776,  34.5755,2,  34.5752,2,     84.2,2,    84.7,2,  100.70,2,   39.80,2,    0.01,2,    2.82,4,-999.000,9,-999.000,9,-999.000,9,  -999.0,9,  -999.0,9,-999.0000,9,  -999.00,-999.000,9,-999.0000,9, -999.00,9,   3.7784, -999.00,9,  -999.0,9,  -999.0,-999.000,9,-999.000,  -999.0,9, -999.00,9,     -999.0,9, -999.00,9,-999.000,-999.0000, -999.00,     -999.0,     -999.0,9,     -999.0,     -999.0,9,     -999.0,  -999.0,9,     -999.0,     -999.0,9,     -999.0,   3.6841,    34.7382,2,-999.0000,2,     -999.0,9
33RO20150410,     P16N.1,      49,          2,          8,          8,2,20150424,       1229,    -0.2499,  -150.9999,       4134,  1500.1,   3.0285,  34.6034,2,  34.6084,2,     92.5,2,    93.1,2,  119.00,2,   39.50,2,    0.01,2,    2.84,4,-999.000,9,-999.000,9,-999.000,9,  -999.0,9,  -999.0,9,-999.0000,9,  -999.00,-999.000,9,-999.0000,9, -999.00,9,   3.0288, -999.00,9,  -999.0,9,  -999.0,-999.000,9,-999.000,  -999.0,9, -999.00,9,     -999.0,9, -999.00,9,-999.000,-999.0000, -999.00,     -999.0,     -999.0,9,     -999.0,     -999.0,9,     -999.0,  -999.0,9,     -999.0,     -999.0,9,     -999.0,   2.9202,    34.7716,3,-999.0000,2,     -999.0,9
33RO20150410,     P16N.1,      49,          2,          7,          7,2,20150424,       1229,    -0.2499,  -150.9999,       4134,  1867.7,   2.4704,  34.6311,2,  34.6315,2,    100.5,2,   101.4,2,  132.70,2,   39.10,2,    0.01,2,    2.80,4,-999.000,9,-999.000,9,-999.000,9,  -999.0,9,  -999.0,9,-999.0000,9,  -999.00,-999.000,9,-999.0000,9, -999.00,9,   2.4703, -999.00,9,  -999.0,9,  -999.0,-999.000,9,-999.000,  -999.0,9, -999.00,9,     -999.0,9, -999.00,9,-999.000,-999.0000, -999.00,     -999.0,     -999.0,9,     -999.0,     -999.0,9,     -999.0,  -999.0,9,     -999.0,     -999.0,9,     -999.0,   2.3382,    34.7949,2,-999.0000,2,     -999.0,9
33RO20150410,     P16N.1,      49,          2,          6,          6,2,20150424,       1229,    -0.2499,  -150.9999,       4134,  2267.8,   1.9755,  34.6568,2,  34.6585,2,    114.5,2,   115.6,2,  143.20,2,   38.30,2,    0.01,2,    2.74,4,-999.000,9,-999.000,9,-999.000,9,  -999.0,9,  -999.0,9,-999.0000,9,  -999.00,-999.000,9,-999.0000,9, -999.00,9,   1.9758, -999.00,9,  -999.0,9,  -999.0,-999.000,9,-999.000,  -999.0,9, -999.00,9,     -999.0,9, -999.00,9,-999.000,-999.0000, -999.00,     -999.0,     -999.0,9,     -999.0,     -999.0,9,     -999.0,  -999.0,9,     -999.0,     -999.0,9,     -999.0,   1.8164,    34.8219,2,-999.0000,2,     -999.0,9
33RO20150410,     P16N.1,      49,          2,          5,          5,2,20150424,       1229,    -0.2499,  -150.9999,       4134,  2666.6,   1.8058,  34.6670,2,  34.6663,2,    124.2,2,   125.2,2,  145.20,2,   37.70,2,    0.01,2,    2.68,4,-999.000,9,-999.000,9,-999.000,9,  -999.0,9,  -999.0,9,-999.0000,9,  -999.00,-999.000,9,-999.0000,9, -999.00,9,   1.8061, -999.00,9,  -999.0,9,  -999.0,-999.000,9,-999.000,  -999.0,9, -999.00,9,     -999.0,9, -999.00,9,-999.000,-999.0000, -999.00,     -999.0,     -999.0,9,     -999.0,     -999.0,9,     -999.0,  -999.0,9,     -999.0,     -999.0,9,     -999.0,   1.6139,    34.8298,2,-999.0000,2,     -999.0,9
33RO20150410,     P16N.1,      49,          2,          4,          4,2,20150424,       1229,    -0.2499,  -150.9999,       4134,  3067.6,   1.6529,  34.6757,2,  34.6769,2,    136.0,2,   136.0,2,  144.70,6,   36.80,6,    0.01,6,    2.61,4,-999.000,9,-999.000,9,-999.000,9,  -999.0,9,  -999.0,9,-999.0000,9,  -999.00,-999.000,9,-999.0000,9, -999.00,9,   1.6535, -999.00,9,  -999.0,9,  -999.0,-999.000,9,-999.000,  -999.0,9, -999.00,9,     -999.0,9, -999.00,9,-999.000,-999.0000, -999.00,     -999.0,     -999.0,9,     -999.0,     -999.0,9,     -999.0,  -999.0,9,     -999.0,     -999.0,9,     -999.0,   1.4262,    34.8405,2,-999.0000,2,     -999.0,9
33RO20150410,     P16N.1,      49,          2,          3,          3,2,20150424,       1229,    -0.2499,  -150.9999,       4134,  3466.6,   1.5163,  34.6847,2,  34.6844,2,    147.0,2,   148.2,2,  143.70,6,   36.20,6,    0.00,6,    2.56,4,-999.000,9,-999.000,9,-999.000,9,  -999.0,9,  -999.0,9,-999.0000,9,  -999.00,-999.000,9,-999.0000,9, -999.00,9,   1.5163, -999.00,9,  -999.0,9,  -999.0,-999.000,9,-999.000,  -999.0,9, -999.00,9,     -999.0,9, -999.00,9,-999.000,-999.0000, -999.00,     -999.0,     -999.0,9,     -999.0,     -999.0,9,     -999.0,  -999.0,9,     -999.0,     -999.0,9,     -999.0,   1.2531,    34.8480,2,-999.0000,2,     -999.0,9
33RO20150410,     P16N.1,      49,          2,          2,          2,2,20150424,       1229,    -0.2499,  -150.9999,       4134,  3867.5,   1.4259,  34.6920,2,  34.6905,2,    157.2,2,   157.2,2,  143.10,6,   35.50,6,    0.00,6,    2.51,4,-999.000,9,-999.000,9,-999.000,9,  -999.0,9,  -999.0,9,-999.0000,9,  -999.00,-999.000,9,-999.0000,9, -999.00,9,   1.4263, -999.00,9,  -999.0,9,  -999.0,-999.000,9,-999.000,  -999.0,9, -999.00,9,     -999.0,9, -999.00,9,-999.000,-999.0000, -999.00,     -999.0,     -999.0,9,     -999.0,     -999.0,9,     -999.0,  -999.0,9,     -999.0,     -999.0,9,     -999.0,   1.1232,    34.8541,2,-999.0000,2,     -999.0,9
33RO20150410,     P16N.1,      49,          2,          1,          1,2,20150424,       1229,    -0.2499,  -150.9999,       4134,  4123.8,   1.3956,  34.6948,2,  34.6964,2,    163.3,2,   163.0,2,  140.10,6,   35.10,6,    0.01,6,    2.48,4,-999.000,9,-999.000,9,-999.000,9,  -999.0,9,  -999.0,9,-999.0000,9,  -999.00,-999.000,9,-999.0000,9, -999.00,9,   1.3957, -999.00,9,  -999.0,9,  -999.0,-999.000,9,-999.000,  -999.0,9, -999.00,9,     -999.0,9, -999.00,9,-999.000,-999.0000, -999.00,     -999.0,     -999.0,9,     -999.0,     -999.0,9,     -999.0,  -999.0,9,     -999.0,     -999.0,9,     -999.0,   1.0660,    34.8600,2,-999.0000,2,     -999.0,9