BOTTLE,20210709CCHSIOCBG
EXPOCODE,SECT_ID,STNNBR,CASTNO,SAMPNO,BTLNBR,BTLNBR_FLAG_W,DATE,TIME,LATITUDE,LONGITUDE,DEPTH,CTDPRS,CTDTMP,CTDSAL,CTDSAL_FLAG_W,SALNTY,SALNTY_FLAG_W,CTDOXY,CTDOXY_FLAG_W,OXYGEN,OXYGEN_FLAG_W,SILCAT,SILCAT_FLAG_W,NITRAT,NITRAT_FLAG_W,NITRIT,NITRIT_FLAG_W,PHSPHT,PHSPHT_FLAG_W,CFC-11,CFC-11_FLAG_W,CFC-12,CFC-12_FLAG_W,SF6,SF6_FLAG_W,TCARBN,TCARBN_FLAG_W,ALKALI,ALKALI_FLAG_W,PH_TOT,PH_TOT_FLAG_W,PH_TMP,TRITUM,TRITUM_FLAG_W,HELIUM,HELIUM_FLAG_W,DELHE3,DELHE3_FLAG_W,REFTMP,DELC13,DELC13_FLAG_W,DELC14,DELC14_FLAG_W,C14ERR,NEON,NEON_FLAG_W,NEONER,DOC,DOC_FLAG_W,TDN,TDN_FLAG_W,N2O,N2O_FLAG_W,ARGON,ARGON_FLAG_W,TRITER,HELIER,DELHER,ARGONER,KRYPTON,KRYPTON_FLAG_W,KRYPTONER,XENON,XENON_FLAG_W,XENONER,14C-DOC,14C-DOC_FLAG_W,14C-DOCERR,13C-DOC,13C-DOC_FLAG_W,13C-DOCERR,THETA,SALTREF,SALTREF_FLAG_W,SBE35,SBE35_FLAG_W,CHLORA,CHLORA_FLAG_W
,,,,,,,,,,,METERS,DBAR,ITS-90,PSS-78,,PSS-78,,UMOL/KG,,UMOL/KG,,UMOL/KG,,UMOL/KG,,UMOL/KG,,UMOL/KG,,PMOL/KG,,PMOL/KG,,FMOL/KG,,UMOL/KG,,UMOL/KG,,,,DEG C,TU,,NMOL/KG,,PERCNT,,DEG C,/MILLE,,/MILLE,,/MILLE,NMOL/KG,,NMOL/KG,UMOL/KG,,UMOL/KG,,NMOL/KG,,UMOL/KG,,TU,NMOL/KG,PERCNT,UMOL/KG,NMOL/KG,,NMOL/KG,NMOL/KG,,NMOL/KG,/MILLE,,/MILLE,/MILLE,,/MILLE,DEG C,G/KG,,ITS-90,,MG/M3,
33RO20150410,     P16N.1,      28,          1,         24,         24,2,20150419,       0104,    -4.1997,  -151.0010,       4916,    10.0,  28.7177,  35.2161,2,  35.2158,2,    198.5,2,   200.2,2,    1.90,2,    4.00,2,    0.12,2,    0.31,4,   1.469,6,   0.984,6,   1.263,6,  2011.1,6,  2316.8,2,   8.0407,2,    25.01,-999.000,9,-999.0000,9, -999.00,9,  28.7273, -999.00,9,  -999.0,9,  -999.0,-999.000,9,-999.000,  -999.0,9, -999.00,9,      6.278,3, -999.00,9,-999.000,-999.0000, -999.00,     -999.0,     -999.0,9,     -999.0,     -999.0,9,     -999.0,  -999.0,9,     -999.0,     -999.0,9,     -999.0,  28.7153,    35.3819,2,-999.0000,2,     -999.0,9
33RO20150410,     P16N.1,      28,          1,         23,         23,2,20150419,       0104,    -4.1997,  -151.0010,       4916,    25.5,  28.5081,  35.2826,2,  35.2816,2,    200.0,2,   200.6,2,    1.80,2,    4.10,2,    0.10,2,    0.31,4,   1.462,2,   0.981,2,   1.269,2,  2014.6,2,  2322.8,6,   8.0408,2,    25.01,-999.000,9,-999.0000,9, -999.00,9,  28.5072, -999.00,9,  -999.0,9,  -999.0,-999.000,9,-999.000,  -999.0,9, -999.00,9,      6.351,3, -999.00,9,-999.000,-999.0000, -999.00,     -999.0,     -999.0,9,     -999.0,     -999.0,9,     -999.0,  -999.0,9,     -999.0,     -999.0,9,     -999.0,  28.5020,    35.4480,2,-999.0000,2,     -999.0,9
33RO20150410,     P16N.1,      28,          1,         22,         22,2,20150419,       0104,    -4.1997,  -151.0010,       4916,    49.2,  28.4289,  35.2890,2,  35.2879,2,    199.4,2,   200.5,2,    1.80,2,    4.10,2,    0.10,2,    0.37,4,   1.495,2,   0.980,2,   1.274,2,  2015.1,2,  2323.5,2,   8.0398,6,    25.02,-999.000,9,-999.0000,9, -999.00,9,  28.4309, -999.00,9,  -999.0,9,  -999.0,-999.000,9,-999.000,  -999.0,9, -999.00,9,      6.331,3, -999.00,9,-999.000,-999.0000, -999.00,     -999.0,     -999.0,9,     -999.0,     -999.0,9,     -999.0,  -999.0,9,     -999.0,     -999.0,9,     -999.0,  28.4172,    35.4543,2,-999.0000,2,     -999.0,9
33RO20150410,     P16N.1,      28,          1,         21,         21,2,20150419,       0104,    -4.1997,  -151.0010,       4916,    75.2,  28.0656,  35.2728,2,  35.2753,2,    200.1,2,   200.3,2,    1.80,2,    4.10,2,    0.10,2,    0.34,4,   1.482,2,   0.981,2,   1.273,2,  2017.2,2,  2320.5,2,   8.0350,6,    25.01,-999.000,9,-999.0000,9, -999.00,9,  28.0664, -999.00,9,  -999.0,9,  -999.0,-999.000,9,-999.000,  -999.0,9, -999.00,9,      6.455,3, -999.00,9,-999.000,-999.0000, -999.00,     -999.0,     -999.0,9,     -999.0,     -999.0,9,     -999.0,  -999.0,9,     -999.0,     -999.0,9,     -999.0,  28.0478,    35.4417,6,-999.0000,2,     -999.0,9
33RO20150410,     P16N.1,      28,          1,         20,         20,2,20150419,       0104,    -4.1997,  -151.0010,       4916,   101.1,  27.8228,  35.4371,2,  35.4771,2,    195.0,2,   195.0,2,    1.90,2,    4.40,2,    0.15,2,    0.41,4,   1.485,2,   0.997,2,   1.252,2,  2028.6,2,  2334.6,2,   8.0343,2,    24.99,-999.000,9,-999.0000,9, -999.00,9,  27.8194, -999.00,9,  -999.0,9,  -999.0,-999.000,9,-999.000,  -999.0,9, -999.00,9,      6.567,3, -999.00,9,-999.000,-999.0000, -999.00,     -999.0,     -999.0,9,     -999.0,     -999.0,9,     -999.0,  -999.0,9,     -999.0,     -999.0,9,     -999.0,  27.7991,    35.6444,2,-999.0000,2,     -999.0,9
33RO20150410,     P16N.1,      28,          1,         19,         19,2,20150419,       0104,    -4.1997,  -151.0010,       4916,   124.4,  26.9801,  35.7185,2,  35.7580,2,    174.0,2,   173.4,2,    1.90,2,    4.70,2,    1.76,2,    0.51,4,   1.453,3,   1.034,2,   1.259,2,  2052.4,2,  2352.9,2,   8.0149,6,    25.01,-999.000,9,-999.0000,9, -999.00,9,  26.9923, -999.00,9,  -999.0,9,  -999.0,-999.000,9,-999.000,  -999.0,9, -999.00,9,      7.021,3, -999.00,9,-999.000,-999.0000, -999.00,     -999.0,     -999.0,9,     -999.0,     -999.0,9,     -999.0,  -999.0,9,     -999.0,     -999.0,9,     -999.0,  26.9515,    35.9266,2,-999.0000,2,     -999.0,9
33RO20150410,     P16N.1,      28,          1,         18,         18,2,20150419,       0104,    -4.1997,  -151.0010,       4916,   150.6,  25.0247,  36.0878,2,  36.0825,2,    165.2,2,   165.3,2,    1.60,2,    3.80,2,    2.36,2,    0.53,4,   1.689,6,   1.108,6,   1.306,6,  2091.4,2,  2375.7,2,   7.9866,2,    25.00,-999.000,9,-999.0000,9, -999.00,9,  25.0182, -999.00,9,  -999.0,9,  -999.0,-999.000,9,-999.000,  -999.0,9, -999.00,9,      7.826,3, -999.00,9,-999.000,-999.0000, -999.00,     -999.0,     -999.0,9,     -999.0,     -999.0,9,     -999.0,  -999.0,9,     -999.0,     -999.0,9,     -999.0,  24.9919,    36.2527,2,-999.0000,2,     -999.0,9
33RO20150410,     P16N.1,      28,          1,         17,         17,2,20150419,       0104,    -4.1997,  -151.0010,       4916,   201.2,  14.9182,  35.1165,2,  35.1097,2,     74.9,2,    72.8,2,   12.90,2,   22.50,2,    0.02,2,    1.53,4,   1.623,2,   0.982,2,   0.697,2,  2195.4,6,  2312.7,2,   7.6425,6,    25.01,-999.000,9,-999.0000,9, -999.00,9,  14.9147, -999.00,9,  -999.0,9,  -999.0,-999.000,9,-999.000,  -999.0,9, -999.00,9,     49.377,3, -999.00,9,-999.000,-999.0000, -999.00,     -999.0,     -999.0,9,     -999.0,     -999.0,9,     -999.0,  -999.0,9,     -999.0,     -999.0,9,     -999.0,  14.8878,    35.2752,2,-999.0000,3,     -999.0,9
33RO20150410,     P16N.1,      28,          1,         16,         16,2,20150419,       0104,    -4.1997,  -151.0010,       4916,   274.8,  11.8163,  34.8609,2,  34.8603,2,     81.5,2,    79.1,2,   20.50,2,   26.80,2,    0.01,2,    1.69,4,   1.214,2,   0.702,2,   0.322,2,  2205.6,2,  2303.4,2,   7.5964,2,    25.00,-999.000,9,-999.0000,9, -999.00,9,  11.8163, -999.00,9,  -999.0,9,  -999.0,-999.000,9,-999.000,  -999.0,9, -999.00,9,     43.555,3, -999.00,9,-999.000,-999.0000, -999.00,     -999.0,     -999.0,9,     -999.0,     -999.0,9,     -999.0,  -999.0,9,     -999.0,     -999.0,9,     -999.0,  11.7807,    35.0247,2,-999.0000,3,     -999.0,9
33RO20150410,     P16N.1,      28,          1,         15,         15,2,20150419,       0104,    -4.1997,  -151.0010,       4916,   349.8,  10.5804,  34.7765,2,  34.7777,2,     75.5,2,    71.1,2,   24.10,2,   29.60,2,    0.02,2,    1.92,4,   0.889,2,   0.487,2,   0.225,2,  2217.8,2,  2302.2,2,   7.5514,6,    25.01,-999.000,9,-999.0000,9, -999.00,9,  10.5812, -999.00,9,  -999.0,9,  -999.0,-999.000,9,-999.000,  -999.0,9, -999.00,9,     46.225,3, -999.00,9,-999.000,-999.0000, -999.00,     -999.0,     -999.0,9,     -999.0,     -999.0,9,     -999.0,  -999.0,9,     -999.0,     -999.0,9,     -999.0,  10.5381,    34.9417,2,-999.0000,2,     -999.0,9
33RO20150410,     P16N.1,      28,          1,         14,         14,2,20150419,       0104,    -4.1997,  -151.0010,       4916,   425.3,   9.4603,  34.7053,2,  34.7052,2,     59.0,2,    55.5,2,   29.40,2,   33.40,2,    0.01,2,    2.10,4,   0.534,2,   0.271,2,   0.086,2,  2239.7,2,  2302.3,2,   7.4913,2,    25.00,-999.000,9,-999.0000,9, -999.00,9,   9.4610, -999.00,9,  -999.0,9,  -999.0,-999.000,9,-999.000,  -999.0,9, -999.00,9,     53.616,3, -999.00,9,-999.000,-999.0000, -999.00,     -999.0,     -999.0,9,     -999.0,     -999.0,9,     -999.0,  -999.0,9,     -999.0,     -999.0,9,     -999.0,   9.4122,    34.8689,2,-999.0000,2,     -999.0,9
33RO20150410,     P16N.1,      28,          1,         13,         13,2,20150419,       0104,    -4.1997,  -151.0010,       4916,   499.6,   8.5394,  34.6458,2,  34.6457,2,     71.8,2,    70.2,2,   32.00,2,   34.30,2,    0.06,2,    2.13,4,   0.434,2,   0.228,2,   0.064,2,  2239.4,2,  2302.3,2,   7.4992,2,    25.00,-999.000,9,-999.0000,9, -999.00,9,   8.5351, -999.00,9,  -999.0,9,  -999.0,-999.000,9,-999.000,  -999.0,9, -999.00,9,     47.656,3, -999.00,9,-999.000,-999.0000, -999.00,     -999.0,     -999.0,9,     -999.0,     -999.0,9,     -999.0,  -999.0,9,     -999.0,     -999.0,9,     -999.0,   8.4861,    34.8090,2,-999.0000,2,     -999.0,9
33RO20150410,     P16N.1,      28,          1,         12,         12,2,20150419,       0104,    -4.1997,  -151.0010,       4916,   650.6,   6.6686,  34.5505,2,  34.5510,2,     97.3,2,    95.1,2,   42.70,2,   35.70,2,    0.01,2,    2.25,4,   0.222,2,   0.107,2,       0,2,  2242.9,2,  2311.8,2,   7.5119,2,    24.99,-999.000,9,-999.0000,9, -999.00,9,   6.6711, -999.00,9,  -999.0,9,  -999.0,-999.000,9,-999.000,  -999.0,9, -999.00,9,     36.125,3, -999.00,9,-999.000,-999.0000, -999.00,     -999.0,     -999.0,9,     -999.0,     -999.0,9,     -999.0,  -999.0,9,     -999.0,     -999.0,9,     -999.0,   6.6077,    34.7139,2,-999.0000,2,     -999.0,9
33RO20150410,     P16N.1,      28,          1,         11,         11,2,20150419,       0104,    -4.1997,  -151.0010,       4916,   801.8,   5.3674,  34.5343,2,  34.5347,2,     92.1,2,    91.1,2,   61.60,2,   38.20,2,    0.04,2,    2.47,4,   0.053,2,   0.029,2,       0,2,  2268.6,2,  2329.7,2,   7.4879,2,    24.99,-999.000,9,-999.0000,9, -999.00,9,   5.3694, -999.00,9,  -999.0,9,  -999.0,-999.000,9,-999.000,  -999.0,9, -999.00,9,     34.048,3, -999.00,9,-999.000,-999.0000, -999.00,     -999.0,     -999.0,9,     -999.0,     -999.0,9,     -999.0,  -999.0,9,     -999.0,     -999.0,9,     -999.0,   5.2995,    34.6975,2,-999.0000,2,     -999.0,9
33RO20150410,     P16N.1,      28,          1,         10,         10,2,20150419,       0104,    -4.1997,  -151.0010,       4916,   950.2,   4.5995,  34.5431,2,  34.5435,2,     94.6,2,    94.4,2,   76.40,2,   38.70,2,    0.01,2,    2.55,4,   0.019,2,   0.011,2,       0,2,  2284.1,2,  2346.1,2,   7.4878,2,    24.99,-999.000,9,-999.0000,9, -999.00,9,   4.5996, -999.00,9,  -999.0,9,  -999.0,-999.000,9,-999.000,  -999.0,9, -999.00,9,     32.082,3, -999.00,9,-999.000,-999.0000, -999.00,     -999.0,     -999.0,9,     -999.0,     -999.0,9,     -999.0,  -999.0,9,     -999.0,     -999.0,9,     -999.0,   4.5235,    34.7064,2,-999.0000,2,     -999.0,9
33RO20150410,     P16N.1,      28,          1,          9,          9,2,20150419,       0104,    -4.1997,  -151.0010,       4916,  1101.2,   4.0253,  34.5622,2,  34.5626,2,     92.1,2,    91.9,2,   91.60,2,   39.30,2,    0.01,2,    2.63,4,   0.009,2,   0.004,2,       0,2,  2303.3,2,  2362.1,2,   7.4812,2,    25.00,-999.000,9,-999.0000,9, -999.00,9,   4.0256, -999.00,9,  -999.0,9,  -999.0,-999.000,9,-999.000,  -999.0,9, -999.00,9,     31.895,3, -999.00,9,-999.000,-999.0000, -999.00,     -999.0,     -999.0,9,     -999.0,     -999.0,9,     -999.0,  -999.0,9,     -999.0,     -999.0,9,     -999.0,   3.9408,    34.7255,2,-999.0000,2,     -999.0,9
33RO20150410,     P16N.1,      28,          1,          8,          8,2,20150419,       0104,    -4.1997,  -151.0010,       4916,  1300.5,   3.3840,  34.5844,2,  34.5846,2,     97.5,2,    98.1,2,  105.90,2,   39.20,2,    0.01,2,    2.65,4,  -0.002,2,   0.000,2,       0,2,  2315.7,2,  2378.4,2,   7.4899,2,    24.99,-999.000,9,-999.0000,9, -999.00,9,   3.3839, -999.00,9,  -999.0,9,  -999.0,-999.000,9,-999.000,  -999.0,9, -999.00,9,     29.761,3, -999.00,9,-999.000,-999.0000, -999.00,     -999.0,     -999.0,9,     -999.0,     -999.0,9,     -999.0,  -999.0,9,     -999.0,     -999.0,9,     -999.0,   3.2886,    34.7476,2,-999.0000,2,     -999.0,9
33RO20150410,     P16N.1,      28,          1,          7,          7,2,20150419,       0104,    -4.1997,  -151.0010,       4916,  1599.4,   2.7953,  34.6114,2,  34.6117,2,    103.4,2,   103.0,2,  121.00,2,   38.80,2,    0.01,2,    2.68,4,  -0.002,2,   0.000,2,       0,2,  2328.0,2,  2395.2,2,   7.4975,2,    25.01,-999.000,9,-999.0000,9, -999.00,9,   2.7954, -999.00,9,  -999.0,9,  -999.0,-999.000,9,-999.000,  -999.0,9, -999.00,9,     27.714,3, -999.00,9,-999.000,-999.0000, -999.00,     -999.0,     -999.0,9,     -999.0,     -999.0,9,     -999.0,  -999.0,9,     -999.0,     -999.0,9,     -999.0,   2.6815,    34.7749,2,-999.0000,2,     -999.0,9
33RO20150410,     P16N.1,      28,          1,          6,          6,2,20150419,       0104,    -4.1997,  -151.0010,       4916,  2000.2,   2.2716,  34.6406,2,  34.6405,2,    112.8,2,   112.9,2,  134.00,2,   38.40,2,    0.01,2,    2.66,4,   0.000,2,   0.000,2,   0.034,3,  2335.9,6,  2411.6,2,   7.5162,2,    25.01,-999.000,9,-999.0000,9, -999.00,9,   2.2721, -999.00,9,  -999.0,9,  -999.0,-999.000,9,-999.000,  -999.0,9, -999.00,9,     25.437,3, -999.00,9,-999.000,-999.0000, -999.00,     -999.0,     -999.0,9,     -999.0,     -999.0,9,     -999.0,  -999.0,9,     -999.0,     -999.0,9,     -999.0,   2.1310,    34.8039,2,-999.0000,2,     -999.0,9
33RO20150410,     P16N.1,      28,          1,          5,          5,3,20150419,       0104,    -4.1997,  -151.0010,       4916,  2401.0,   1.9703,  34.6573,2,  34.6574,2,    125.4,2,   125.7,2,  137.90,2,   37.60,2,    0.01,2,    2.59,4,  -0.004,2,   0.001,2,       0,2,  2332.3,2,  2416.0,2,   7.5385,2,    25.01,-999.000,9,-999.0000,9, -999.00,9,   1.9700, -999.00,9,  -999.0,9,  -999.0,-999.000,9,-999.000,  -999.0,9, -999.00,9,     23.489,3, -999.00,9,-999.000,-999.0000, -999.00,     -999.0,     -999.0,9,     -999.0,     -999.0,9,     -999.0,  -999.0,9,     -999.0,     -999.0,9,     -999.0,   1.7995,    34.8209,2,-999.0000,2,     -999.0,9
33RO20150410,     P16N.1,      28,          1,          4,          4,2,20150419,       0104,    -4.1997,  -151.0010,       4916,  2799.7,   1.7608,  34.6708,2,  34.6704,2,    138.9,2,   138.0,2,  139.40,6,   36.80,6,    0.01,6,    2.54,4,  -0.005,2,  -0.001,2,       0,2,  2328.2,2,  2418.7,2,   7.5587,2,    25.00,-999.000,9,-999.0000,9, -999.00,9,   1.7608, -999.00,9,  -999.0,9,  -999.0,-999.000,9,-999.000,  -999.0,9, -999.00,9,     22.148,3, -999.00,9,-999.000,-999.0000, -999.00,     -999.0,     -999.0,9,     -999.0,     -999.0,9,     -999.0,  -999.0,9,     -999.0,     -999.0,9,     -999.0,   1.5574,    34.8339,2,-999.0000,2,     -999.0,9
33RO20150410,     P16N.1,      28,          1,          3,          3,2,20150419,       0104,    -4.1997,  -151.0010,       4916,  3200.5,   1.6172,  34.6791,2,  34.6792,2,    147.4,2,   148.0,2,  139.80,6,   36.10,6,    0.01,6,    2.49,4,  -0.003,2,   0.001,2,       0,2,  2323.4,2,  2419.0,2,   7.5725,6,    25.01,-999.000,9,-999.0000,9, -999.00,9,   1.6171, -999.00,9,  -999.0,9,  -999.0,-999.000,9,-999.000,  -999.0,9, -999.00,9,     21.289,3, -999.00,9,-999.000,-999.0000, -999.00,     -999.0,     -999.0,9,     -999.0,     -999.0,9,     -999.0,  -999.0,9,     -999.0,     -999.0,9,     -999.0,   1.3783,    34.8427,6,-999.0000,2,     -999.0,9
33RO20150410,     P16N.1,      28,          1,          2,          2,2,20150419,       0104,    -4.1997,  -151.0010,       4916,  3601.4,   1.5045,  34.6873,2,  34.6871,2,    159.4,2,   159.2,2,  137.80,6,   35.40,6,    0.02,6,    2.43,4,  -0.004,2,   0.000,2,       0,2,  2314.1,2,  2417.3,6,   7.5882,2,    25.01,-999.000,9,-999.0000,9, -999.00,9,   1.5022, -999.00,9,  -999.0,9,  -999.0,-999.000,9,-999.000,  -999.0,9, -999.00,9,     20.399,3, -999.00,9,-999.000,-999.0000, -999.00,     -999.0,     -999.0,9,     -999.0,     -999.0,9,     -999.0,  -999.0,9,     -999.0,     -999.0,9,     -999.0,   1.2277,    34.8507,2,-999.0000,2,     -999.0,9
33RO20150410,     P16N.1,      28,          1,          1,          1,2,20150419,       0104,    -4.1997,  -151.0010,       4916,  4074.2,   1.3398,  34.6976,2,  34.6983,2,    175.6,2,   177.9,2,  132.00,6,   34.10,6,    0.01,6,    2.33,4,   0.002,6,   0.002,6,       0,6,  2299.3,6,  2403.8,2,   7.6023,2,    25.02,-999.000,9,-999.0000,9, -999.00,9,   1.3392, -999.00,9,  -999.0,9,  -999.0,-999.000,9,-999.000,  -999.0,9, -999.00,9,     19.510,3, -999.00,9,-999.000,-999.0000, -999.00,     -999.0,     -999.0,9,     -999.0,     -999.0,9,     -999.0,  -999.0,9,     -999.0,     -999.0,9,     -999.0,   1.0172,    34.8619,2,-999.0000,2,     -999.0,9