BOTTLE,20210709CCHSIOCBG
EXPOCODE,SECT_ID,STNNBR,CASTNO,SAMPNO,BTLNBR,BTLNBR_FLAG_W,DATE,TIME,LATITUDE,LONGITUDE,DEPTH,CTDPRS,CTDTMP,CTDSAL,CTDSAL_FLAG_W,SALNTY,SALNTY_FLAG_W,CTDOXY,CTDOXY_FLAG_W,OXYGEN,OXYGEN_FLAG_W,SILCAT,SILCAT_FLAG_W,NITRAT,NITRAT_FLAG_W,NITRIT,NITRIT_FLAG_W,PHSPHT,PHSPHT_FLAG_W,CFC-11,CFC-11_FLAG_W,CFC-12,CFC-12_FLAG_W,SF6,SF6_FLAG_W,TCARBN,TCARBN_FLAG_W,ALKALI,ALKALI_FLAG_W,PH_TOT,PH_TOT_FLAG_W,PH_TMP,TRITUM,TRITUM_FLAG_W,HELIUM,HELIUM_FLAG_W,DELHE3,DELHE3_FLAG_W,REFTMP,DELC13,DELC13_FLAG_W,DELC14,DELC14_FLAG_W,C14ERR,NEON,NEON_FLAG_W,NEONER,DOC,DOC_FLAG_W,TDN,TDN_FLAG_W,N2O,N2O_FLAG_W,ARGON,ARGON_FLAG_W,TRITER,HELIER,DELHER,ARGONER,KRYPTON,KRYPTON_FLAG_W,KRYPTONER,XENON,XENON_FLAG_W,XENONER,14C-DOC,14C-DOC_FLAG_W,14C-DOCERR,13C-DOC,13C-DOC_FLAG_W,13C-DOCERR,THETA,SALTREF,SALTREF_FLAG_W,SBE35,SBE35_FLAG_W,CHLORA,CHLORA_FLAG_W
,,,,,,,,,,,METERS,DBAR,ITS-90,PSS-78,,PSS-78,,UMOL/KG,,UMOL/KG,,UMOL/KG,,UMOL/KG,,UMOL/KG,,UMOL/KG,,PMOL/KG,,PMOL/KG,,FMOL/KG,,UMOL/KG,,UMOL/KG,,,,DEG C,TU,,NMOL/KG,,PERCNT,,DEG C,/MILLE,,/MILLE,,/MILLE,NMOL/KG,,NMOL/KG,UMOL/KG,,UMOL/KG,,NMOL/KG,,UMOL/KG,,TU,NMOL/KG,PERCNT,UMOL/KG,NMOL/KG,,NMOL/KG,NMOL/KG,,NMOL/KG,/MILLE,,/MILLE,/MILLE,,/MILLE,DEG C,G/KG,,ITS-90,,MG/M3,
33RO20150410,     P16N.1,     106,          1,         24,         24,2,20150509,       2150,    19.5003,  -152.0000,       5369,     9.4,  24.7244,  34.8875,2,  34.8877,2,    206.0,2,   206.8,2,    1.20,2,    0.00,2,    0.01,2,    0.19,2,   1.730,6,   1.082,6,   1.409,6,  1988.1,2,  2299.0,2,   8.0623,2,    25.01,-999.000,9,-999.0000,9, -999.00,9,  24.7236,    0.91,2,    34.7,2,     2.2,-999.000,9,-999.000,  -999.0,9, -999.00,9,      6.459,3, -999.00,9,-999.000,-999.0000, -999.00,     -999.0,     -999.0,9,     -999.0,     -999.0,9,     -999.0,  -999.0,9,     -999.0,     -999.0,9,     -999.0,  24.7224,    35.0523,2,-999.0000,9,      0.088,2
33RO20150410,     P16N.1,     106,          1,         23,         23,2,20150509,       2150,    19.5003,  -152.0000,       5369,    25.8,  24.7164,  34.8885,2,  34.8880,2,    206.5,2,   206.8,2,    1.20,2,    0.00,2,    0.01,2,    0.20,2,-999.000,9,-999.000,9,-999.000,9,  1987.0,2,  2298.5,2,   8.0620,6,    25.01,-999.000,9,-999.0000,9, -999.00,9,  24.7132,    0.88,2,    31.9,2,     3.1,-999.000,9,-999.000,  -999.0,9, -999.00,9,     -999.0,9, -999.00,9,-999.000,-999.0000, -999.00,     -999.0,     -999.0,9,     -999.0,     -999.0,9,     -999.0,  -213.0,2,        4.0,      -20.3,2,        0.2,  24.7109,    35.0525,2,-999.0000,9,      0.093,2
33RO20150410,     P16N.1,     106,          1,         22,         22,2,20150509,       2150,    19.5003,  -152.0000,       5369,    47.5,  24.1957,  35.1219,2,  35.1167,2,    209.6,2,   211.7,2,    1.10,2,    0.00,2,    0.01,2,    0.19,2,   1.783,2,   1.113,2,   1.451,2,  2001.3,2,  2314.4,6,   8.0599,2,    25.01,-999.000,9,-999.0000,9, -999.00,9,  24.1972,    0.96,2,    32.9,2,     2.2,-999.000,9,-999.000,  -999.0,9, -999.00,9,      6.626,3, -999.00,9,-999.000,-999.0000, -999.00,     -999.0,     -999.0,9,     -999.0,     -999.0,9,     -999.0,  -999.0,9,     -999.0,     -999.0,9,     -999.0,  24.1856,    35.2823,6,-999.0000,9,      0.114,2
33RO20150410,     P16N.1,     106,          1,         21,         21,2,20150509,       2150,    19.5003,  -152.0000,       5369,    75.1,  23.2118,  35.2751,2,  35.2878,2,    212.8,2,   218.7,4,    1.20,2,    0.00,2,    0.00,2,    0.19,2,   1.863,2,   1.155,2,   1.449,2,  2024.9,2,  2326.1,2,   8.0372,2,    25.01,-999.000,9,-999.0000,9, -999.00,9,  23.2203,    0.87,2,    33.1,2,     2.4,-999.000,9,-999.000,  -999.0,9, -999.00,9,      6.982,3, -999.00,9,-999.000,-999.0000, -999.00,     -999.0,     -999.0,9,     -999.0,     -999.0,9,     -999.0,  -232.0,2,        4.0,      -20.3,2,        0.2,  23.1964,    35.4542,2,-999.0000,9,      0.173,2
33RO20150410,     P16N.1,     106,          1,         20,         20,2,20150509,       2150,    19.5003,  -152.0000,       5369,   100.3,  22.1502,  35.3475,2,  35.3460,2,    208.8,2,   206.5,2,    1.40,2,    0.00,2,    0.01,2,    0.19,2,   1.931,2,   1.195,2,   1.453,2,  2034.7,2,  2329.0,2,   8.0196,2,    24.99,-999.000,9,-999.0000,9, -999.00,9,  22.1516,    0.79,2,    40.5,2,     2.3,-999.000,9,-999.000,  -999.0,9, -999.00,9,      7.331,3, -999.00,9,-999.000,-999.0000, -999.00,     -999.0,     -999.0,9,     -999.0,     -999.0,9,     -999.0,  -999.0,9,     -999.0,     -999.0,9,     -999.0,  22.1302,    35.5127,2,-999.0000,9,      0.304,2
33RO20150410,     P16N.1,     106,          1,         19,         19,2,20150509,       2150,    19.5003,  -152.0000,       5369,   150.6,  20.3870,  35.3261,2,  35.3249,2,    215.1,2,   212.9,2,    1.60,2,    0.10,2,    0.20,2,    0.15,2,   2.074,2,   1.260,2,   1.577,2,  2038.7,2,  2323.0,2,   8.0054,2,    25.01,-999.000,9,-999.0000,9, -999.00,9,  20.3842,    0.66,2,    42.0,2,     2.3,-999.000,9,-999.000,  -999.0,9, -999.00,9,      7.415,3, -999.00,9,-999.000,-999.0000, -999.00,     -999.0,     -999.0,9,     -999.0,     -999.0,9,     -999.0,  -240.0,2,        4.0,      -21.0,2,        0.2,  20.3587,    35.4915,2,-999.0000,9,      0.166,2
33RO20150410,     P16N.1,     106,          1,         18,         18,2,20150509,       2150,    19.5003,  -152.0000,       5369,   224.8,  15.6412,  34.5335,2,  34.5344,2,    200.8,2,   200.2,2,    5.10,2,    5.00,2,    0.01,2,    0.50,2,   2.608,2,   1.557,2,   1.597,2,  2063.3,2,  2271.9,2,   7.8792,2,    25.02,-999.000,9,-999.0000,9, -999.00,9,  15.6402,    0.34,2,    44.0,2,     3.1,-999.000,9,-999.000,  -999.0,9, -999.00,9,     11.005,3, -999.00,9,-999.000,-999.0000, -999.00,     -999.0,     -999.0,9,     -999.0,     -999.0,9,     -999.0,  -999.0,9,     -999.0,     -999.0,9,     -999.0,  15.6063,    34.6973,2,-999.0000,9,      0.003,2
33RO20150410,     P16N.1,     106,          1,         17,         17,2,20150509,       2150,    19.5003,  -152.0000,       5369,   300.4,  10.9985,  34.1535,2,  34.1550,2,    201.0,2,   198.8,2,   14.70,2,   14.00,2,    0.01,2,    1.08,2,   3.247,6,   1.829,6,   1.477,6,  2104.0,6,  2257.7,2,   7.7550,6,    25.03,-999.000,9,-999.0000,9, -999.00,9,  11.0083,    0.13,2,    35.7,2,     2.7,-999.000,9,-999.000,  -999.0,9, -999.00,9,     16.928,3, -999.00,9,-999.000,-999.0000, -999.00,     -999.0,     -999.0,9,     -999.0,     -999.0,9,     -999.0,  -331.0,2,        4.0,      -22.0,2,        0.2,  10.9616,    34.3160,2,-999.0000,9,     -999.0,9
33RO20150410,     P16N.1,     106,          1,         16,         16,2,20150509,       2150,    19.5003,  -152.0000,       5369,   400.3,   8.0177,  34.0775,2,  34.0776,2,    121.9,2,   121.2,2,   37.80,2,   27.00,2,    0.00,2,    2.03,2,   2.666,2,   1.364,2,   0.675,2,  2198.4,2,  2272.0,2,   7.5337,6,    25.02,-999.000,9,-999.0000,9, -999.00,9,   8.0158,   -0.31,2,   -19.1,2,     2.4,-999.000,9,-999.000,  -999.0,9, -999.00,9,     27.330,3, -999.00,9,-999.000,-999.0000, -999.00,     -999.0,     -999.0,9,     -999.0,     -999.0,9,     -999.0,  -999.0,9,     -999.0,     -999.0,9,     -999.0,   7.9772,    34.2383,2,-999.0000,9,     -999.0,9
33RO20150410,     P16N.1,     106,          1,         15,         15,2,20150509,       2150,    19.5003,  -152.0000,       5369,   500.0,   6.2710,  34.1435,2,  34.1434,2,     60.5,2,    59.8,2,   62.70,2,   35.60,2,    0.00,2,    2.66,2,   1.154,2,   0.573,2,    0.21,2,  2269.6,2,  2298.6,2,   7.3896,2,    25.00,-999.000,9,-999.0000,9, -999.00,9,   6.2722,   -0.38,2,   -86.4,2,     2.1,-999.000,9,-999.000,  -999.0,9, -999.00,9,     37.549,3, -999.00,9,-999.000,-999.0000, -999.00,     -999.0,     -999.0,9,     -999.0,     -999.0,9,     -999.0,  -432.0,2,        4.0,     -999.0,5,     -999.0,   6.2266,    34.3044,2,-999.0000,9,     -999.0,9
33RO20150410,     P16N.1,     106,          1,         14,         14,2,20150509,       2150,    19.5003,  -152.0000,       5369,   632.1,   5.2563,  34.2985,2,  34.2986,2,     26.6,2,    26.9,2,   83.30,2,   40.50,2,    0.00,2,    3.02,2,   0.205,2,   0.102,2,       0,2,  2311.9,2,  2328.1,2,   7.3359,2,    25.00,-999.000,9,-999.0000,9, -999.00,9,   5.2545,   -0.43,2,  -152.7,2,     1.8,-999.000,9,-999.000,  -999.0,9, -999.00,9,     47.105,3, -999.00,9,-999.000,-999.0000, -999.00,     -999.0,     -999.0,9,     -999.0,     -999.0,9,     -999.0,  -999.0,9,     -999.0,     -999.0,9,     -999.0,   5.2043,    34.4603,2,-999.0000,9,     -999.0,9
33RO20150410,     P16N.1,     106,          1,         13,         13,2,20150509,       2150,    19.5003,  -152.0000,       5369,   800.3,   4.7314,  34.4739,2,  34.4736,2,     37.4,2,    35.3,2,   92.40,2,   41.50,2,    0.01,2,    3.08,2,   0.028,2,   0.015,2,   0.061,3,  2328.7,2,  2353.4,2,   7.3745,2,    24.99,-999.000,9,-999.0000,9, -999.00,9,   4.7317,   -0.21,2,  -182.5,2,     1.7,-999.000,9,-999.000,  -999.0,9, -999.00,9,     46.095,3, -999.00,9,-999.000,-999.0000, -999.00,     -999.0,     -999.0,9,     -999.0,     -999.0,9,     -999.0,  -504.0,2,        4.0,      -21.5,2,        0.2,   4.6676,    34.6362,2,-999.0000,9,     -999.0,9
33RO20150410,     P16N.1,     106,          1,         12,         12,2,20150509,       2150,    19.5003,  -152.0000,       5369,   947.0,   4.2008,  34.5024,2,  34.5023,2,     43.5,2,    43.3,2,  102.40,2,   41.60,2,    0.00,2,    3.04,2,   0.014,2,   0.009,2,    0.08,3,  2337.0,2,  2365.3,2,   7.3871,2,    24.99,-999.000,9,-999.0000,9, -999.00,9,   4.2016,   -0.30,2,  -200.6,2,     1.7,-999.000,9,-999.000,  -999.0,9, -999.00,9,     41.340,3, -999.00,9,-999.000,-999.0000, -999.00,     -999.0,     -999.0,9,     -999.0,     -999.0,9,     -999.0,  -999.0,9,     -999.0,     -999.0,9,     -999.0,   4.1281,    34.6650,2,-999.0000,9,     -999.0,9
33RO20150410,     P16N.1,     106,          1,         11,         11,2,20150509,       2150,    19.5003,  -152.0000,       5369,  1095.9,   3.7384,  34.5301,2,  34.5296,2,     48.1,2,    46.6,2,  112.10,2,   41.90,2,    0.00,2,    3.05,2,-999.000,9,-999.000,9,-999.000,9,  2346.9,2,  2378.6,2,   7.3923,2,    24.98,-999.000,9,-999.0000,9, -999.00,9,   3.7383,   -0.32,2,  -215.0,2,     1.8,-999.000,9,-999.000,  -999.0,9, -999.00,9,     -999.0,9, -999.00,9,-999.000,-999.0000, -999.00,     -999.0,     -999.0,9,     -999.0,     -999.0,9,     -999.0,  -513.0,2,        4.0,      -21.5,2,        0.2,   3.6568,    34.6924,2,-999.0000,9,     -999.0,9
33RO20150410,     P16N.1,     106,          1,         10,         10,2,20150509,       2150,    19.5003,  -152.0000,       5369,  1300.1,   3.2232,  34.5598,2,  34.5599,2,     57.7,2,    55.9,2,  123.20,2,   41.70,2,    0.00,2,    3.02,2,   0.002,2,   0.001,2,   0.066,3,  2354.4,2,  2390.4,2,   7.4081,6,    25.01,-999.000,9,-999.0000,9, -999.00,9,   3.2227,   -0.29,2,  -227.8,2,     2.4,-999.000,9,-999.000,  -999.0,9, -999.00,9,     35.998,3, -999.00,9,-999.000,-999.0000, -999.00,     -999.0,     -999.0,9,     -999.0,     -999.0,9,     -999.0,  -525.0,2,        4.0,      -21.2,2,        0.2,   3.1295,    34.7228,2,-999.0000,9,     -999.0,9
33RO20150410,     P16N.1,     106,          1,          9,          9,2,20150509,       2150,    19.5003,  -152.0000,       5369,  1596.0,   2.6268,  34.5972,2,  34.5980,2,     72.5,2,    72.2,2,  135.50,2,   40.80,2,    0.00,2,    2.93,2,-999.000,9,-999.000,9,-999.000,9,  2358.5,2,  2405.0,2,   7.4382,6,    25.03,-999.000,9,-999.0000,9, -999.00,9,   2.6265,   -0.31,2,  -242.0,2,     1.7,-999.000,9,-999.000,  -999.0,9, -999.00,9,     -999.0,9, -999.00,9,-999.000,-999.0000, -999.00,     -999.0,     -999.0,9,     -999.0,     -999.0,9,     -999.0,  -539.0,2,        4.0,      -21.3,2,        0.2,   2.5154,    34.7611,2,-999.0000,9,     -999.0,9
33RO20150410,     P16N.1,     106,          1,          8,          8,2,20150509,       2150,    19.5003,  -152.0000,       5369,  2000.9,   2.0874,  34.6274,2,  34.6281,2,     90.8,2,    90.3,2,  147.40,2,   39.80,2,    0.00,2,    2.82,2,-999.000,9,-999.000,9,-999.000,9,  2359.0,6,  2417.1,2,   7.4709,2,    24.98,-999.000,9,-999.0000,9, -999.00,9,   2.0875,   -0.25,2,  -250.0,2,     1.8,-999.000,9,-999.000,  -999.0,9, -999.00,9,     -999.0,9, -999.00,9,-999.000,-999.0000, -999.00,     -999.0,     -999.0,9,     -999.0,     -999.0,9,     -999.0,  -999.0,9,     -999.0,     -999.0,9,     -999.0,   1.9495,    34.7913,2,-999.0000,9,     -999.0,9
33RO20150410,     P16N.1,     106,          1,          7,          7,2,20150509,       2150,    19.5003,  -152.0000,       5369,  2400.5,   1.8130,  34.6482,2,  34.6493,2,    106.3,2,   105.7,2,  151.40,2,   38.70,2,    0.00,2,    2.74,2,-999.000,9,-999.000,9,-999.000,9,  2354.8,2,  2423.5,2,   7.5014,2,    24.98,-999.000,9,-999.0000,9, -999.00,9,   1.8130,   -0.16,2,  -249.7,2,     1.9,-999.000,9,-999.000,  -999.0,9, -999.00,9,     -999.0,9, -999.00,9,-999.000,-999.0000, -999.00,     -999.0,     -999.0,9,     -999.0,     -999.0,9,     -999.0,  -551.0,2,        4.0,      -21.8,2,        0.2,   1.6451,    34.8127,2,-999.0000,9,     -999.0,9
33RO20150410,     P16N.1,     106,          1,          6,          6,2,20150509,       2150,    19.5003,  -152.0000,       5369,  2900.0,   1.6368,  34.6679,2,  34.6691,2,    119.3,2,   119.9,2,  153.50,2,   37.90,2,    0.00,2,    2.65,2,-999.000,9,-999.000,9,-999.000,9,  2348.7,2,  2429.2,2,   7.5277,2,    24.98,-999.000,9,-999.0000,9, -999.00,9,   1.6365,   -0.09,2,  -248.3,2,     1.7,-999.000,9,-999.000,  -999.0,9, -999.00,9,     -999.0,9, -999.00,9,-999.000,-999.0000, -999.00,     -999.0,     -999.0,9,     -999.0,     -999.0,9,     -999.0,  -999.0,9,     -999.0,     -999.0,9,     -999.0,   1.4265,    34.8326,2,-999.0000,9,     -999.0,9
33RO20150410,     P16N.1,     106,          1,          5,          5,2,20150509,       2150,    19.5003,  -152.0000,       5369,  3399.9,   1.5427,  34.6769,2,  34.6780,2,    129.4,2,   130.2,2,  154.40,2,   37.00,2,    0.00,2,    2.61,2,-999.000,9,-999.000,9,-999.000,9,  2344.9,2,  2429.9,2,   7.5456,2,    24.98,-999.000,9,-999.0000,9, -999.00,9,   1.5428,   -0.08,2,  -239.0,2,     2.0,-999.000,9,-999.000,  -999.0,9, -999.00,9,     -999.0,9, -999.00,9,-999.000,-999.0000, -999.00,     -999.0,     -999.0,9,     -999.0,     -999.0,9,     -999.0,  -570.0,2,        4.0,      -22.3,2,        0.2,   1.2856,    34.8415,2,-999.0000,9,     -999.0,9
33RO20150410,     P16N.1,     106,          1,          4,          4,2,20150509,       2150,    19.5003,  -152.0000,       5369,  3901.5,   1.4796,  34.6841,2,  34.6848,2,    142.7,2,   143.2,2,  149.30,6,   36.10,6,    0.00,6,    2.54,6,-999.000,9,-999.000,9,-999.000,9,  2331.9,2,  2424.4,6,   7.5653,2,    24.98,-999.000,9,-999.0000,9, -999.00,9,   1.4796,   -0.09,2,  -236.1,2,     1.9,-999.000,9,-999.000,  -999.0,9, -999.00,9,     -999.0,9, -999.00,9,-999.000,-999.0000, -999.00,     -999.0,     -999.0,9,     -999.0,     -999.0,9,     -999.0,  -999.0,9,     -999.0,     -999.0,9,     -999.0,   1.1719,    34.8483,6,-999.0000,9,     -999.0,9
33RO20150410,     P16N.1,     106,          1,          3,          3,2,20150509,       2150,    19.5003,  -152.0000,       5369,  4399.3,   1.4540,  34.6899,2,  34.6908,2,    153.8,2,   154.3,2,  142.90,6,   35.40,6,    0.00,6,    2.48,6,-999.000,9,-999.000,9,-999.000,9,  2321.1,2,  2420.4,2,   7.5800,6,    24.99,-999.000,9,-999.0000,9, -999.00,9,   1.4540,    0.04,2,  -218.5,2,     1.9,-999.000,9,-999.000,  -999.0,9, -999.00,9,     -999.0,9, -999.00,9,-999.000,-999.0000, -999.00,     -999.0,     -999.0,9,     -999.0,     -999.0,9,     -999.0,  -526.0,2,        4.0,      -22.0,2,        0.2,   1.0919,    34.8544,2,-999.0000,9,     -999.0,9
33RO20150410,     P16N.1,     106,          1,          2,          2,2,20150509,       2150,    19.5003,  -152.0000,       5369,  4900.1,   1.4566,  34.6939,2,  34.6945,2,    162.5,2,   163.0,2,  137.00,6,   34.90,6,    0.00,6,    2.43,6,-999.000,9,-999.000,9,-999.000,9,  2311.9,2,  2413.0,2,   7.5886,2,    25.04,-999.000,9,-999.0000,9, -999.00,9,   1.4565,    0.14,2,  -211.8,2,     1.8,-999.000,9,-999.000,  -999.0,9, -999.00,9,     -999.0,9, -999.00,9,-999.000,-999.0000, -999.00,     -999.0,     -999.0,9,     -999.0,     -999.0,9,     -999.0,  -519.0,2,        4.0,      -21.2,2,        0.2,   1.0358,    34.8581,2,-999.0000,9,     -999.0,9
33RO20150410,     P16N.1,     106,          1,          1,          1,2,20150509,       2150,    19.5003,  -152.0000,       5369,  5359.5,   1.4737,  34.6967,2,  34.6973,2,    169.3,2,   168.6,2,  133.20,6,   34.40,6,    0.00,6,    2.41,6,-999.000,9,-999.000,9,-999.000,9,  2306.4,6,  2408.0,2,   7.5938,2,    24.99,-999.000,9,-999.0000,9, -999.00,9,   1.4734,    0.13,2,  -200.7,2,     1.8,-999.000,9,-999.000,  -999.0,9, -999.00,9,     -999.0,9, -999.00,9,-999.000,-999.0000, -999.00,     -999.0,     -999.0,9,     -999.0,     -999.0,9,     -999.0,  -999.0,9,     -999.0,     -999.0,9,     -999.0,   0.9957,    34.8609,2,-999.0000,9,     -999.0,9