BOTTLE,20210709CCHSIOCBG
EXPOCODE,SECT_ID,STNNBR,CASTNO,SAMPNO,BTLNBR,BTLNBR_FLAG_W,DATE,TIME,LATITUDE,LONGITUDE,DEPTH,CTDPRS,CTDTMP,CTDSAL,CTDSAL_FLAG_W,SALNTY,SALNTY_FLAG_W,CTDOXY,CTDOXY_FLAG_W,OXYGEN,OXYGEN_FLAG_W,SILCAT,SILCAT_FLAG_W,NITRAT,NITRAT_FLAG_W,NITRIT,NITRIT_FLAG_W,PHSPHT,PHSPHT_FLAG_W,CFC-11,CFC-11_FLAG_W,CFC-12,CFC-12_FLAG_W,SF6,SF6_FLAG_W,TCARBN,TCARBN_FLAG_W,ALKALI,ALKALI_FLAG_W,PH_TOT,PH_TOT_FLAG_W,PH_TMP,TRITUM,TRITUM_FLAG_W,HELIUM,HELIUM_FLAG_W,DELHE3,DELHE3_FLAG_W,REFTMP,DELC13,DELC13_FLAG_W,DELC14,DELC14_FLAG_W,C14ERR,NEON,NEON_FLAG_W,NEONER,DOC,DOC_FLAG_W,TDN,TDN_FLAG_W,N2O,N2O_FLAG_W,ARGON,ARGON_FLAG_W,TRITER,HELIER,DELHER,ARGONER,KRYPTON,KRYPTON_FLAG_W,KRYPTONER,XENON,XENON_FLAG_W,XENONER,14C-DOC,14C-DOC_FLAG_W,14C-DOCERR,13C-DOC,13C-DOC_FLAG_W,13C-DOCERR,THETA,SALTREF,SALTREF_FLAG_W,SBE35,SBE35_FLAG_W,CHLORA,CHLORA_FLAG_W
,,,,,,,,,,,METERS,DBAR,ITS-90,PSS-78,,PSS-78,,UMOL/KG,,UMOL/KG,,UMOL/KG,,UMOL/KG,,UMOL/KG,,UMOL/KG,,PMOL/KG,,PMOL/KG,,FMOL/KG,,UMOL/KG,,UMOL/KG,,,,DEG C,TU,,NMOL/KG,,PERCNT,,DEG C,/MILLE,,/MILLE,,/MILLE,NMOL/KG,,NMOL/KG,UMOL/KG,,UMOL/KG,,NMOL/KG,,UMOL/KG,,TU,NMOL/KG,PERCNT,UMOL/KG,NMOL/KG,,NMOL/KG,NMOL/KG,,NMOL/KG,/MILLE,,/MILLE,/MILLE,,/MILLE,DEG C,G/KG,,ITS-90,,MG/M3,
33RO20150410,     P16N.1,      67,          1,         24,         24,2,20150428,       1208,     2.5504,  -151.0005,       4998,     4.9,  28.6398,  34.9359,2,  34.9410,2,    200.4,2,   200.5,2,    1.80,2,    2.30,2,    0.11,2,    0.48,2,-999.000,9,-999.000,9,-999.000,9,  1993.4,6,  2298.9,2,   8.0494,2,    25.02,-999.000,9,-999.0000,9, -999.00,9,  28.6367, -999.00,9,  -999.0,9,  -999.0,-999.000,9,-999.000,  -999.0,9, -999.00,9,     -999.0,9, -999.00,9,-999.000,-999.0000, -999.00,     -999.0,     -999.0,9,     -999.0,     -999.0,9,     -999.0,  -999.0,9,     -999.0,     -999.0,9,     -999.0,  28.6386,    35.1057,2,-999.0000,2,     -999.0,9
33RO20150410,     P16N.1,      67,          1,         23,         23,2,20150428,       1208,     2.5504,  -151.0005,       4998,    20.0,  28.6616,  35.0864,2,  35.0892,2,    201.2,2,   201.0,2,    1.70,2,    2.30,2,    0.12,2,    0.48,2,-999.000,9,-999.000,9,-999.000,9,  -999.0,9,  -999.0,9,-999.0000,9,  -999.00,-999.000,9,-999.0000,9, -999.00,9,  28.6617, -999.00,9,  -999.0,9,  -999.0,-999.000,9,-999.000,  -999.0,9, -999.00,9,     -999.0,9, -999.00,9,-999.000,-999.0000, -999.00,     -999.0,     -999.0,9,     -999.0,     -999.0,9,     -999.0,  -999.0,9,     -999.0,     -999.0,9,     -999.0,  28.6568,    35.2546,2,-999.0000,2,     -999.0,9
33RO20150410,     P16N.1,      67,          1,         22,         22,2,20150428,       1208,     2.5504,  -151.0005,       4998,    41.6,  28.6110,  35.0882,2,  35.0904,2,    201.8,2,   200.4,2,    3.70,2,    2.30,2,    0.12,2,    0.48,2,-999.000,9,-999.000,9,-999.000,9,  -999.0,9,  -999.0,9,-999.0000,9,  -999.00,-999.000,9,-999.0000,9, -999.00,9,  28.6111, -999.00,9,  -999.0,9,  -999.0,-999.000,9,-999.000,  -999.0,9, -999.00,9,     -999.0,9, -999.00,9,-999.000,-999.0000, -999.00,     -999.0,     -999.0,9,     -999.0,     -999.0,9,     -999.0,  -999.0,9,     -999.0,     -999.0,9,     -999.0,  28.6010,    35.2558,2,-999.0000,2,     -999.0,9
33RO20150410,     P16N.1,      67,          1,         21,         21,2,20150428,       1208,     2.5504,  -151.0005,       4998,    67.3,  28.4912,  35.0986,2,  35.1022,2,    201.2,2,   199.9,2,    1.80,2,    2.60,2,    0.16,2,    0.52,2,-999.000,9,-999.000,9,-999.000,9,  -999.0,9,  -999.0,9,-999.0000,9,  -999.00,-999.000,9,-999.0000,9, -999.00,9,  28.4857, -999.00,9,  -999.0,9,  -999.0,-999.000,9,-999.000,  -999.0,9, -999.00,9,     -999.0,9, -999.00,9,-999.000,-999.0000, -999.00,     -999.0,     -999.0,9,     -999.0,     -999.0,9,     -999.0,  -999.0,9,     -999.0,     -999.0,9,     -999.0,  28.4751,    35.2677,2,-999.0000,2,     -999.0,9
33RO20150410,     P16N.1,      67,          1,         20,         20,2,20150428,       1208,     2.5504,  -151.0005,       4998,    90.1,  27.9088,  35.0125,2,  35.0146,2,    195.1,2,   194.3,2,    1.80,2,    2.40,2,    0.19,2,    0.54,2,-999.000,9,-999.000,9,-999.000,9,  -999.0,9,  -999.0,9,-999.0000,9,  -999.00,-999.000,9,-999.0000,9, -999.00,9,  27.8985, -999.00,9,  -999.0,9,  -999.0,-999.000,9,-999.000,  -999.0,9, -999.00,9,     -999.0,9, -999.00,9,-999.000,-999.0000, -999.00,     -999.0,     -999.0,9,     -999.0,     -999.0,9,     -999.0,  -999.0,9,     -999.0,     -999.0,9,     -999.0,  27.8876,    35.1797,2,-999.0000,2,     -999.0,9
33RO20150410,     P16N.1,      67,          1,         19,         19,2,20150428,       1208,     2.5504,  -151.0005,       4998,   133.3,  23.8661,  34.9620,2,  34.9637,2,    136.8,2,   136.0,2,    4.80,2,    8.30,2,    0.05,2,    0.84,2,-999.000,9,-999.000,9,-999.000,9,  -999.0,9,  -999.0,9,-999.0000,9,  -999.00,-999.000,9,-999.0000,9, -999.00,9,  23.9008, -999.00,9,  -999.0,9,  -999.0,-999.000,9,-999.000,  -999.0,9, -999.00,9,     -999.0,9, -999.00,9,-999.000,-999.0000, -999.00,     -999.0,     -999.0,9,     -999.0,     -999.0,9,     -999.0,  -999.0,9,     -999.0,     -999.0,9,     -999.0,  23.8382,    35.1286,6,-999.0000,2,     -999.0,9
33RO20150410,     P16N.1,      67,          1,         18,         18,2,20150428,       1208,     2.5504,  -151.0005,       4998,   200.1,  11.7642,  34.7724,2,  34.7710,2,     89.2,2,    82.6,2,   23.00,2,   26.20,2,    0.01,2,    1.96,2,-999.000,9,-999.000,9,-999.000,9,  -999.0,9,  -999.0,9,-999.0000,9,  -999.00,-999.000,9,-999.0000,9, -999.00,9,  11.7649, -999.00,9,  -999.0,9,  -999.0,-999.000,9,-999.000,  -999.0,9, -999.00,9,     -999.0,9, -999.00,9,-999.000,-999.0000, -999.00,     -999.0,     -999.0,9,     -999.0,     -999.0,9,     -999.0,  -999.0,9,     -999.0,     -999.0,9,     -999.0,  11.7385,    34.9350,2,-999.0000,2,     -999.0,9
33RO20150410,     P16N.1,      67,          1,         17,         17,2,20150428,       1208,     2.5504,  -151.0005,       4998,   274.4,  11.3021,  34.7945,2,  34.7923,2,     44.7,2,    45.3,2,   25.80,2,   30.70,2,    0.01,2,    2.25,2,-999.000,9,-999.000,9,-999.000,9,  -999.0,9,  -999.0,9,-999.0000,9,  -999.00,-999.000,9,-999.0000,9, -999.00,9,  11.2982, -999.00,9,  -999.0,9,  -999.0,-999.000,9,-999.000,  -999.0,9, -999.00,9,     -999.0,9, -999.00,9,-999.000,-999.0000, -999.00,     -999.0,     -999.0,9,     -999.0,     -999.0,9,     -999.0,  -999.0,9,     -999.0,     -999.0,9,     -999.0,  11.2676,    34.9563,2,-999.0000,3,     -999.0,9
33RO20150410,     P16N.1,      67,          1,         16,         16,2,20150428,       1208,     2.5504,  -151.0005,       4998,   366.9,  10.2519,  34.7224,2,  34.7221,2,     54.0,2,    58.0,2,   28.60,2,   31.60,2,    0.00,2,    2.30,2,-999.000,9,-999.000,9,-999.000,9,  -999.0,9,  -999.0,9,-999.0000,9,  -999.00,-999.000,9,-999.0000,9, -999.00,9,  10.2509, -999.00,9,  -999.0,9,  -999.0,-999.000,9,-999.000,  -999.0,9, -999.00,9,     -999.0,9, -999.00,9,-999.000,-999.0000, -999.00,     -999.0,     -999.0,9,     -999.0,     -999.0,9,     -999.0,  -999.0,9,     -999.0,     -999.0,9,     -999.0,  10.2084,    34.8858,2,-999.0000,3,     -999.0,9
33RO20150410,     P16N.1,      67,          1,         15,         15,2,20150428,       1208,     2.5504,  -151.0005,       4998,   467.4,   8.7764,  34.6401,2,  34.6407,2,     25.9,2,    28.0,2,   38.90,2,   36.60,2,    0.00,2,    2.71,2,-999.000,9,-999.000,9,-999.000,9,  -999.0,9,  -999.0,9,-999.0000,9,  -999.00,-999.000,9,-999.0000,9, -999.00,9,   8.7759, -999.00,9,  -999.0,9,  -999.0,-999.000,9,-999.000,  -999.0,9, -999.00,9,     -999.0,9, -999.00,9,-999.000,-999.0000, -999.00,     -999.0,     -999.0,9,     -999.0,     -999.0,9,     -999.0,  -999.0,9,     -999.0,     -999.0,9,     -999.0,   8.7258,    34.8041,2,-999.0000,2,     -999.0,9
33RO20150410,     P16N.1,      67,          1,         14,         14,2,20150428,       1208,     2.5504,  -151.0005,       4998,   599.6,   6.7095,  34.5639,2,  34.5632,2,     49.9,2,    49.6,2,   52.50,2,   39.30,2,    0.00,2,    2.88,2,-999.000,9,-999.000,9,-999.000,9,  -999.0,9,  -999.0,9,-999.0000,9,  -999.00,-999.000,9,-999.0000,9, -999.00,9,   6.6989, -999.00,9,  -999.0,9,  -999.0,-999.000,9,-999.000,  -999.0,9, -999.00,9,     -999.0,9, -999.00,9,-999.000,-999.0000, -999.00,     -999.0,     -999.0,9,     -999.0,     -999.0,9,     -999.0,  -999.0,9,     -999.0,     -999.0,9,     -999.0,   6.6534,    34.7261,2,-999.0000,2,     -999.0,9
33RO20150410,     P16N.1,      67,          1,         13,         13,2,20150428,       1208,     2.5504,  -151.0005,       4998,   750.2,   5.6629,  34.5434,2,  34.5433,2,     78.7,2,    77.9,2,   62.70,2,   38.30,2,    0.00,2,    2.80,2,-999.000,9,-999.000,9,-999.000,9,  -999.0,9,  -999.0,9,-999.0000,9,  -999.00,-999.000,9,-999.0000,9, -999.00,9,   5.6637, -999.00,9,  -999.0,9,  -999.0,-999.000,9,-999.000,  -999.0,9, -999.00,9,     -999.0,9, -999.00,9,-999.000,-999.0000, -999.00,     -999.0,     -999.0,9,     -999.0,     -999.0,9,     -999.0,  -999.0,9,     -999.0,     -999.0,9,     -999.0,   5.5979,    34.7062,6,-999.0000,2,     -999.0,9
33RO20150410,     P16N.1,      67,          1,         12,         12,2,20150428,       1208,     2.5504,  -151.0005,       4998,   900.2,   4.9559,  34.5488,2,  34.5479,2,     78.2,2,    77.6,2,   75.70,2,   39.20,2,    0.00,2,    2.87,2,-999.000,9,-999.000,9,-999.000,9,  -999.0,9,  -999.0,9,-999.0000,9,  -999.00,-999.000,9,-999.0000,9, -999.00,9,   4.9555, -999.00,9,  -999.0,9,  -999.0,-999.000,9,-999.000,  -999.0,9, -999.00,9,     -999.0,9, -999.00,9,-999.000,-999.0000, -999.00,     -999.0,     -999.0,9,     -999.0,     -999.0,9,     -999.0,  -999.0,9,     -999.0,     -999.0,9,     -999.0,   4.8818,    34.7108,2,-999.0000,2,     -999.0,9
33RO20150410,     P16N.1,      67,          1,         11,         11,2,20150428,       1208,     2.5504,  -151.0005,       4998,  1050.7,   4.3439,  34.5619,2,  34.5612,2,     77.8,2,    77.3,2,   88.90,2,   39.80,2,    0.00,2,    2.93,2,-999.000,9,-999.000,9,-999.000,9,  -999.0,9,  -999.0,9,-999.0000,9,  -999.00,-999.000,9,-999.0000,9, -999.00,9,   4.3442, -999.00,9,  -999.0,9,  -999.0,-999.000,9,-999.000,  -999.0,9, -999.00,9,     -999.0,9, -999.00,9,-999.000,-999.0000, -999.00,     -999.0,     -999.0,9,     -999.0,     -999.0,9,     -999.0,  -999.0,9,     -999.0,     -999.0,9,     -999.0,   4.2611,    34.7242,2,-999.0000,2,     -999.0,9
33RO20150410,     P16N.1,      67,          1,         10,         10,2,20150428,       1208,     2.5504,  -151.0005,       4998,  1233.7,   3.7392,  34.5795,2,  34.5789,2,     79.5,2,    80.7,2,  102.50,2,   40.10,2,    0.00,2,    2.94,2,-999.000,9,-999.000,9,-999.000,9,  -999.0,9,  -999.0,9,-999.0000,9,  -999.00,-999.000,9,-999.0000,9, -999.00,9,   3.7396, -999.00,9,  -999.0,9,  -999.0,-999.000,9,-999.000,  -999.0,9, -999.00,9,     -999.0,9, -999.00,9,-999.000,-999.0000, -999.00,     -999.0,     -999.0,9,     -999.0,     -999.0,9,     -999.0,  -999.0,9,     -999.0,     -999.0,9,     -999.0,   3.6460,    34.7419,2,-999.0000,2,     -999.0,9
33RO20150410,     P16N.1,      67,          1,          9,          9,2,20150428,       1208,     2.5504,  -151.0005,       4998,  1500.4,   3.0280,  34.6053,2,  34.6048,2,     88.4,2,    88.6,2,  118.70,2,   39.70,2,    0.00,2,    2.91,2,-999.000,9,-999.000,9,-999.000,9,  -999.0,9,  -999.0,9,-999.0000,9,  -999.00,-999.000,9,-999.0000,9, -999.00,9,   3.0284, -999.00,9,  -999.0,9,  -999.0,-999.000,9,-999.000,  -999.0,9, -999.00,9,     -999.0,9, -999.00,9,-999.000,-999.0000, -999.00,     -999.0,     -999.0,9,     -999.0,     -999.0,9,     -999.0,  -999.0,9,     -999.0,     -999.0,9,     -999.0,   2.9197,    34.7680,2,-999.0000,2,     -999.0,9
33RO20150410,     P16N.1,      67,          1,          8,          8,2,20150428,       1208,     2.5504,  -151.0005,       4998,  1867.0,   2.4668,  34.6340,2,  34.6311,2,     95.4,2,    95.8,2,  134.20,2,   39.30,2,    0.00,2,    2.87,2,-999.000,9,-999.000,9,-999.000,9,  -999.0,9,  -999.0,9,-999.0000,9,  -999.00,-999.000,9,-999.0000,9, -999.00,9,   2.4659, -999.00,9,  -999.0,9,  -999.0,-999.000,9,-999.000,  -999.0,9, -999.00,9,     -999.0,9, -999.00,9,-999.000,-999.0000, -999.00,     -999.0,     -999.0,9,     -999.0,     -999.0,9,     -999.0,  -999.0,9,     -999.0,     -999.0,9,     -999.0,   2.3347,    34.7944,2,-999.0000,2,     -999.0,9
33RO20150410,     P16N.1,      67,          1,          7,          7,2,20150428,       1208,     2.5504,  -151.0005,       4998,  2266.8,   1.9944,  34.6580,2,  34.6577,2,    111.8,2,   111.7,2,  143.30,2,   38.20,2,    0.00,2,    2.76,2,-999.000,9,-999.000,9,-999.000,9,  -999.0,9,  -999.0,9,-999.0000,9,  -999.00,-999.000,9,-999.0000,9, -999.00,9,   1.9943, -999.00,9,  -999.0,9,  -999.0,-999.000,9,-999.000,  -999.0,9, -999.00,9,     -999.0,9, -999.00,9,-999.000,-999.0000, -999.00,     -999.0,     -999.0,9,     -999.0,     -999.0,9,     -999.0,  -999.0,9,     -999.0,     -999.0,9,     -999.0,   1.8350,    34.8211,2,-999.0000,2,     -999.0,9
33RO20150410,     P16N.1,      67,          1,          6,          6,2,20150428,       1208,     2.5504,  -151.0005,       4998,  2667.2,   1.8027,  34.6692,2,  34.6693,2,    120.4,2,   120.2,2,  146.80,2,   37.80,2,    0.00,2,    2.69,2,-999.000,9,-999.000,9,-999.000,9,  -999.0,9,  -999.0,9,-999.0000,9,  -999.00,-999.000,9,-999.0000,9, -999.00,9,   1.8026, -999.00,9,  -999.0,9,  -999.0,-999.000,9,-999.000,  -999.0,9, -999.00,9,     -999.0,9, -999.00,9,-999.000,-999.0000, -999.00,     -999.0,     -999.0,9,     -999.0,     -999.0,9,     -999.0,  -999.0,9,     -999.0,     -999.0,9,     -999.0,   1.6108,    34.8327,2,-999.0000,2,     -999.0,9
33RO20150410,     P16N.1,      67,          1,          5,          5,2,20150428,       1208,     2.5504,  -151.0005,       4998,  3066.7,   1.6618,  34.6767,2,  34.6748,2,    132.1,2,   131.7,2,  145.70,2,   36.80,2,    0.00,2,    2.66,2,-999.000,9,-999.000,9,-999.000,9,  -999.0,9,  -999.0,9,-999.0000,9,  -999.00,-999.000,9,-999.0000,9, -999.00,9,   1.6618, -999.00,9,  -999.0,9,  -999.0,-999.000,9,-999.000,  -999.0,9, -999.00,9,     -999.0,9, -999.00,9,-999.000,-999.0000, -999.00,     -999.0,     -999.0,9,     -999.0,     -999.0,9,     -999.0,  -999.0,9,     -999.0,     -999.0,9,     -999.0,   1.4350,    34.8383,2,-999.0000,2,     -999.0,9
33RO20150410,     P16N.1,      67,          1,          4,          4,2,20150428,       1208,     2.5504,  -151.0005,       4998,  3466.7,   1.4573,  34.6892,2,  34.6885,2,    149.9,2,   150.4,2,  144.30,6,   35.90,6,    0.00,6,    2.55,6,-999.000,9,-999.000,9,-999.000,9,  -999.0,9,  -999.0,9,-999.0000,9,  -999.00,-999.000,9,-999.0000,9, -999.00,9,   1.4569, -999.00,9,  -999.0,9,  -999.0,-999.000,9,-999.000,  -999.0,9, -999.00,9,     -999.0,9, -999.00,9,-999.000,-999.0000, -999.00,     -999.0,     -999.0,9,     -999.0,     -999.0,9,     -999.0,  -999.0,9,     -999.0,     -999.0,9,     -999.0,   1.1955,    34.8521,2,-999.0000,2,     -999.0,9
33RO20150410,     P16N.1,      67,          1,          3,          3,2,20150428,       1208,     2.5504,  -151.0005,       4998,  3867.1,   1.4159,  34.6934,2,  34.6923,2,    157.4,2,   157.7,2,  142.10,6,   35.40,6,    0.00,6,    2.51,6,-999.000,9,-999.000,9,-999.000,9,  -999.0,9,  -999.0,9,-999.0000,9,  -999.00,-999.000,9,-999.0000,9, -999.00,9,   1.4156, -999.00,9,  -999.0,9,  -999.0,-999.000,9,-999.000,  -999.0,9, -999.00,9,     -999.0,9, -999.00,9,-999.000,-999.0000, -999.00,     -999.0,     -999.0,9,     -999.0,     -999.0,9,     -999.0,  -999.0,9,     -999.0,     -999.0,9,     -999.0,   1.1135,    34.8558,2,-999.0000,2,     -999.0,9
33RO20150410,     P16N.1,      67,          1,          2,          2,2,20150428,       1208,     2.5504,  -151.0005,       4998,  4322.6,   1.3913,  34.6962,2,  34.6952,2,    166.2,2,   166.3,2,  137.00,6,   34.70,6,    0.00,6,    2.48,6,-999.000,9,-999.000,9,-999.000,9,  -999.0,9,  -999.0,9,-999.0000,9,  -999.00,-999.000,9,-999.0000,9, -999.00,9,   1.3911, -999.00,9,  -999.0,9,  -999.0,-999.000,9,-999.000,  -999.0,9, -999.00,9,     -999.0,9, -999.00,9,-999.000,-999.0000, -999.00,     -999.0,     -999.0,9,     -999.0,     -999.0,9,     -999.0,  -999.0,9,     -999.0,     -999.0,9,     -999.0,   1.0397,    34.8588,2,-999.0000,2,     -999.0,9
33RO20150410,     P16N.1,      67,          1,          1,          1,2,20150428,       1208,     2.5504,  -151.0005,       4998,  4778.6,   1.4169,  34.6973,2,  34.6972,2,    170.7,2,   169.5,2,  135.30,6,   34.60,6,    0.00,6,    2.44,6,-999.000,9,-999.000,9,-999.000,9,  -999.0,9,  -999.0,9,-999.0000,9,  -999.00,-999.000,9,-999.0000,9, -999.00,9,   1.4163, -999.00,9,  -999.0,9,  -999.0,-999.000,9,-999.000,  -999.0,9, -999.00,9,     -999.0,9, -999.00,9,-999.000,-999.0000, -999.00,     -999.0,     -999.0,9,     -999.0,     -999.0,9,     -999.0,  -999.0,9,     -999.0,     -999.0,9,     -999.0,   1.0119,    34.8608,2,-999.0000,2,     -999.0,9