BOTTLE,20210709CCHSIOCBG
EXPOCODE,SECT_ID,STNNBR,CASTNO,SAMPNO,BTLNBR,BTLNBR_FLAG_W,DATE,TIME,LATITUDE,LONGITUDE,DEPTH,CTDPRS,CTDTMP,CTDSAL,CTDSAL_FLAG_W,SALNTY,SALNTY_FLAG_W,CTDOXY,CTDOXY_FLAG_W,OXYGEN,OXYGEN_FLAG_W,SILCAT,SILCAT_FLAG_W,NITRAT,NITRAT_FLAG_W,NITRIT,NITRIT_FLAG_W,PHSPHT,PHSPHT_FLAG_W,CFC-11,CFC-11_FLAG_W,CFC-12,CFC-12_FLAG_W,SF6,SF6_FLAG_W,TCARBN,TCARBN_FLAG_W,ALKALI,ALKALI_FLAG_W,PH_TOT,PH_TOT_FLAG_W,PH_TMP,TRITUM,TRITUM_FLAG_W,HELIUM,HELIUM_FLAG_W,DELHE3,DELHE3_FLAG_W,REFTMP,DELC13,DELC13_FLAG_W,DELC14,DELC14_FLAG_W,C14ERR,NEON,NEON_FLAG_W,NEONER,DOC,DOC_FLAG_W,TDN,TDN_FLAG_W,N2O,N2O_FLAG_W,ARGON,ARGON_FLAG_W,TRITER,HELIER,DELHER,ARGONER,KRYPTON,KRYPTON_FLAG_W,KRYPTONER,XENON,XENON_FLAG_W,XENONER,14C-DOC,14C-DOC_FLAG_W,14C-DOCERR,13C-DOC,13C-DOC_FLAG_W,13C-DOCERR,THETA,SALTREF,SALTREF_FLAG_W,SBE35,SBE35_FLAG_W,CHLORA,CHLORA_FLAG_W
,,,,,,,,,,,METERS,DBAR,ITS-90,PSS-78,,PSS-78,,UMOL/KG,,UMOL/KG,,UMOL/KG,,UMOL/KG,,UMOL/KG,,UMOL/KG,,PMOL/KG,,PMOL/KG,,FMOL/KG,,UMOL/KG,,UMOL/KG,,,,DEG C,TU,,NMOL/KG,,PERCNT,,DEG C,/MILLE,,/MILLE,,/MILLE,NMOL/KG,,NMOL/KG,UMOL/KG,,UMOL/KG,,NMOL/KG,,UMOL/KG,,TU,NMOL/KG,PERCNT,UMOL/KG,NMOL/KG,,NMOL/KG,NMOL/KG,,NMOL/KG,/MILLE,,/MILLE,/MILLE,,/MILLE,DEG C,G/KG,,ITS-90,,MG/M3,
33RO20150410,     P16N.1,      87,          2,         24,         24,2,20150504,       0020,     9.9991,  -151.9394,       5305,    15.0,  27.5242,  34.2032,2,  34.2054,2,    196.5,2,   196.8,2,    1.00,2,    0.00,2,    0.00,2,    0.18,2,   1.504,2,   0.973,2,   1.267,2,  1931.5,2,  2251.0,6,   8.0873,2,    25.01,-999.000,9,-999.0000,9, -999.00,9,  27.5223, -999.00,9,  -999.0,9,  -999.0,-999.000,9,-999.000,    68.3,2, -999.00,9,      6.433,3, -999.00,9,-999.000,-999.0000, -999.00,     -999.0,     -999.0,9,     -999.0,     -999.0,9,     -999.0,  -999.0,9,     -999.0,     -999.0,9,     -999.0,  27.5207,    34.3667,2,-999.0000,9,      0.105,2
33RO20150410,     P16N.1,      87,          2,         23,         23,2,20150504,       0020,     9.9991,  -151.9394,       5305,    32.4,  27.5239,  34.2028,2,  34.2125,2,    197.0,2,   196.7,2,    1.00,2,    0.10,2,    0.00,2,    0.19,2,   1.528,2,   0.976,2,   1.277,2,  1931.6,6,  2250.5,2,   8.0876,2,    25.01,-999.000,9,-999.0000,9, -999.00,9,  27.5221, -999.00,9,  -999.0,9,  -999.0,-999.000,9,-999.000,    66.4,2,    4.40,2,      6.464,3, -999.00,9,-999.000,-999.0000, -999.00,     -999.0,     -999.0,9,     -999.0,     -999.0,9,     -999.0,  -999.0,9,     -999.0,     -999.0,9,     -999.0,  27.5164,    34.3738,2,-999.0000,9,      0.104,2
33RO20150410,     P16N.1,      87,          2,         22,         22,2,20150504,       0020,     9.9991,  -151.9394,       5305,    58.1,  27.5067,  34.2001,2,  34.2035,2,    197.2,2,   196.5,2,    1.00,2,    0.10,2,    0.00,2,    0.20,2,   1.532,2,   0.978,2,   1.288,2,  1933.5,2,  2250.0,2,   8.0875,6,    25.00,-999.000,9,-999.0000,9, -999.00,9,  27.5032, -999.00,9,  -999.0,9,  -999.0,-999.000,9,-999.000,    67.9,2,    3.70,2,      6.504,3, -999.00,9,-999.000,-999.0000, -999.00,     -999.0,     -999.0,9,     -999.0,     -999.0,9,     -999.0,  -999.0,9,     -999.0,     -999.0,9,     -999.0,  27.4932,    34.3648,2,-999.0000,9,      0.126,2
33RO20150410,     P16N.1,      87,          2,         21,         21,2,20150504,       0020,     9.9991,  -151.9394,       5305,    83.3,  20.8026,  34.5203,2,  34.5245,2,    207.7,2,   206.6,2,    2.70,2,    0.40,2,    0.02,2,    0.49,2,   2.216,2,   1.324,2,   1.375,2,  2050.1,2,  2291.1,2,   7.9389,2,    25.01,-999.000,9,-999.0000,9, -999.00,9,  20.7940, -999.00,9,  -999.0,9,  -999.0,-999.000,9,-999.000,    69.3,2,    4.10,2,     21.053,3, -999.00,9,-999.000,-999.0000, -999.00,     -999.0,     -999.0,9,     -999.0,     -999.0,9,     -999.0,  -999.0,9,     -999.0,     -999.0,9,     -999.0,  20.7868,    34.6873,2,-999.0000,9,      0.364,2
33RO20150410,     P16N.1,      87,          2,         20,         20,2,20150504,       0020,     9.9991,  -151.9394,       5305,   118.1,  12.8139,  34.5592,2,  34.5774,2,      9.4,2,    15.7,2,   24.30,2,   29.40,2,    0.14,2,    2.51,2,   1.459,6,   0.805,6,   0.435,6,  2244.9,2,  2285.5,2,   7.4234,2,    25.00,-999.000,9,-999.0000,9, -999.00,9,  12.8044, -999.00,9,  -999.0,9,  -999.0,-999.000,9,-999.000,    49.0,2,   31.70,2,     67.685,3, -999.00,9,-999.000,-999.0000, -999.00,     -999.0,     -999.0,9,     -999.0,     -999.0,9,     -999.0,  -999.0,9,     -999.0,     -999.0,9,     -999.0,  12.7979,    34.7404,2,-999.0000,9,      0.192,2
33RO20150410,     P16N.1,      87,          2,         19,         19,2,20150504,       0020,     9.9991,  -151.9394,       5305,   174.9,  11.5510,  34.7337,2,  34.7334,2,      1.8,2,     4.9,2,   28.10,2,   33.40,2,    0.01,2,    2.57,2,   0.803,2,   0.444,2,   0.144,2,  2259.0,2,  2296.9,2,   7.4150,2,    25.00,-999.000,9,-999.0000,9, -999.00,9,  11.5512, -999.00,9,  -999.0,9,  -999.0,-999.000,9,-999.000,    46.5,2,   35.70,2,     99.863,3, -999.00,9,-999.000,-999.0000, -999.00,     -999.0,     -999.0,9,     -999.0,     -999.0,9,     -999.0,  -999.0,9,     -999.0,     -999.0,9,     -999.0,  11.5288,    34.8972,2,-999.0000,9,      0.005,2
33RO20150410,     P16N.1,      87,          2,         18,         18,2,20150504,       0020,     9.9991,  -151.9394,       5305,   250.0,  10.6941,  34.7169,2,  34.7191,2,      5.9,2,     5.2,2,   30.60,2,   34.60,2,    0.00,2,    2.58,2,   0.568,2,   0.311,2,   0.111,2,  2264.3,2,  2300.3,2,   7.4083,2,    25.00,-999.000,9,-999.0000,9, -999.00,9,  10.6888, -999.00,9,  -999.0,9,  -999.0,-999.000,9,-999.000,    43.4,2,   37.00,2,     71.858,3, -999.00,9,-999.000,-999.0000, -999.00,     -999.0,     -999.0,9,     -999.0,     -999.0,9,     -999.0,  -999.0,9,     -999.0,     -999.0,9,     -999.0,  10.6638,    34.8828,2,-999.0000,9,      0.001,2
33RO20150410,     P16N.1,      87,          2,         17,         17,2,20150504,       0020,     9.9991,  -151.9394,       5305,   333.2,   9.9882,  34.6821,2,  34.6804,2,      4.9,2,     5.2,2,   33.80,2,   35.50,2,    0.00,2,    2.68,2,   0.350,2,   0.188,2,   0.074,2,  2272.4,2,  2303.1,2,   7.3927,2,    25.00,-999.000,9,-999.0000,9, -999.00,9,   9.9915, -999.00,9,  -999.0,9,  -999.0,-999.000,9,-999.000,    43.5,2, -999.00,9,     68.940,3, -999.00,9,-999.000,-999.0000, -999.00,     -999.0,     -999.0,9,     -999.0,     -999.0,9,     -999.0,  -999.0,9,     -999.0,     -999.0,9,     -999.0,   9.9494,    34.8439,2,-999.0000,9,     -999.0,9
33RO20150410,     P16N.1,      87,          2,         16,         16,2,20150504,       0020,     9.9991,  -151.9394,       5305,   432.7,   8.9652,  34.6163,2,  34.6165,2,      8.5,2,     9.4,2,   40.50,2,   36.20,2,    0.01,2,    2.79,2,   0.152,2,   0.084,2,   0.045,2,  2279.6,2,  2307.6,2,   7.3835,6,    25.02,-999.000,9,-999.0000,9, -999.00,9,   8.9636, -999.00,9,  -999.0,9,  -999.0,-999.000,9,-999.000,    41.2,2, -999.00,9,     66.652,3, -999.00,9,-999.000,-999.0000, -999.00,     -999.0,     -999.0,9,     -999.0,     -999.0,9,     -999.0,  -999.0,9,     -999.0,     -999.0,9,     -999.0,   8.9179,    34.7797,2,-999.0000,9,     -999.0,9
33RO20150410,     P16N.1,      87,          2,         15,         15,2,20150504,       0020,     9.9991,  -151.9394,       5305,   549.1,   7.5968,  34.5512,2,  34.5505,2,     13.2,2,    13.4,2,   52.10,2,   38.20,2,    0.00,2,    2.98,2,   0.056,6,   0.029,6,       0,6,  2292.8,2,  2318.5,2,   7.3731,2,    24.99,-999.000,9,-999.0000,9, -999.00,9,   7.6035, -999.00,9,  -999.0,9,  -999.0,-999.000,9,-999.000,    43.0,2, -999.00,9,     59.287,3, -999.00,9,-999.000,-999.0000, -999.00,     -999.0,     -999.0,9,     -999.0,     -999.0,9,     -999.0,  -999.0,9,     -999.0,     -999.0,9,     -999.0,   7.5420,    34.7134,6,-999.0000,9,     -999.0,9
33RO20150410,     P16N.1,      87,          2,         14,         14,2,20150504,       0020,     9.9991,  -151.9394,       5305,   700.4,   6.0190,  34.5181,2,  34.5234,2,     18.2,2,    17.5,2,   70.90,2,   41.70,2,    0.00,2,    3.14,2,   0.011,2,   0.006,2,       0,2,  2316.7,2,  2337.0,2,   7.3591,2,    25.01,-999.000,9,-999.0000,9, -999.00,9,   6.0241, -999.00,9,  -999.0,9,  -999.0,-999.000,9,-999.000,    40.4,2, -999.00,9,     53.402,3, -999.00,9,-999.000,-999.0000, -999.00,     -999.0,     -999.0,9,     -999.0,     -999.0,9,     -999.0,  -999.0,9,     -999.0,     -999.0,9,     -999.0,   5.9567,    34.6862,2,-999.0000,9,     -999.0,9
33RO20150410,     P16N.1,      87,          2,         13,         13,2,20150504,       0020,     9.9991,  -151.9394,       5305,   850.0,   5.2116,  34.5377,2,  34.5368,2,     24.4,2,    23.3,2,   81.10,2,   43.30,2,    0.00,2,    3.20,2,   0.004,2,   0.001,2,       0,2,  2328.0,2,  2349.2,2,   7.3600,2,    25.01,-999.000,9,-999.0000,9, -999.00,9,   5.2128, -999.00,9,  -999.0,9,  -999.0,-999.000,9,-999.000,    39.7,2, -999.00,9,     50.059,3, -999.00,9,-999.000,-999.0000, -999.00,     -999.0,     -999.0,9,     -999.0,     -999.0,9,     -999.0,  -999.0,9,     -999.0,     -999.0,9,     -999.0,   5.1403,    34.6997,2,-999.0000,9,     -999.0,9
33RO20150410,     P16N.1,      87,          2,         12,         12,2,20150504,       0020,     9.9991,  -151.9394,       5305,  1000.3,   4.5220,  34.5536,2,  34.5535,2,     43.3,2,    43.4,2,   91.30,2,   42.50,2,    0.00,2,    3.13,2,   0.002,2,   0.001,2,       0,2,  2329.7,6,  2363.4,2,   7.3959,6,    25.01,-999.000,9,-999.0000,9, -999.00,9,   4.5235, -999.00,9,  -999.0,9,  -999.0,-999.000,9,-999.000,    40.6,2, -999.00,9,     41.612,3, -999.00,9,-999.000,-999.0000, -999.00,     -999.0,     -999.0,9,     -999.0,     -999.0,9,     -999.0,  -999.0,9,     -999.0,     -999.0,9,     -999.0,   4.4422,    34.7165,2,-999.0000,9,     -999.0,9
33RO20150410,     P16N.1,      87,          2,         11,         11,2,20150504,       0020,     9.9991,  -151.9394,       5305,  1167.4,   3.9236,  34.5718,2,  34.5712,2,     54.9,2,    55.4,2,  102.40,2,   41.90,2,    0.00,2,    3.08,2,   0.002,2,   0.001,2,       0,2,  2335.6,2,  2376.2,2,   7.4162,2,    24.99,-999.000,9,-999.0000,9, -999.00,9,   3.9236, -999.00,9,  -999.0,9,  -999.0,-999.000,9,-999.000,    39.9,2, -999.00,9,     37.519,3, -999.00,9,-999.000,-999.0000, -999.00,     -999.0,     -999.0,9,     -999.0,     -999.0,9,     -999.0,  -999.0,9,     -999.0,     -999.0,9,     -999.0,   3.8344,    34.7342,2,-999.0000,9,     -999.0,9
33RO20150410,     P16N.1,      87,          2,         10,         10,2,20150504,       0020,     9.9991,  -151.9394,       5305,  1402.2,   3.2955,  34.5919,2,  34.5928,2,     66.8,2,    65.9,2,  115.70,2,   41.50,2,    0.00,2,    3.04,2,   0.006,2,   0.002,2,       0,2,  2344.7,2,  2391.9,2,   7.4328,6,    25.02,-999.000,9,-999.0000,9, -999.00,9,   3.2958, -999.00,9,  -999.0,9,  -999.0,-999.000,9,-999.000,    37.3,2, -999.00,9,     34.079,3, -999.00,9,-999.000,-999.0000, -999.00,     -999.0,     -999.0,9,     -999.0,     -999.0,9,     -999.0,  -999.0,9,     -999.0,     -999.0,9,     -999.0,   3.1925,    34.7559,2,-999.0000,9,     -999.0,9
33RO20150410,     P16N.1,      87,          2,          9,          9,2,20150504,       0020,     9.9991,  -151.9394,       5305,  1731.4,   2.5945,  34.6197,2,  34.6194,2,     79.8,2,    79.9,2,  131.50,2,   40.60,2,    0.00,2,    2.94,2,   0.001,2,  -0.001,2,       0,2,  2354.0,2,  2409.3,2,   7.4576,2,    25.00,-999.000,9,-999.0000,9, -999.00,9,   2.5941, -999.00,9,  -999.0,9,  -999.0,-999.000,9,-999.000,    38.4,2, -999.00,9,     30.080,3, -999.00,9,-999.000,-999.0000, -999.00,     -999.0,     -999.0,9,     -999.0,     -999.0,9,     -999.0,  -999.0,9,     -999.0,     -999.0,9,     -999.0,   2.4722,    34.7826,6,-999.0000,9,     -999.0,9
33RO20150410,     P16N.1,      87,          2,          8,          8,2,20150504,       0020,     9.9991,  -151.9394,       5305,  2132.1,   2.0922,  34.6478,2,  34.6467,2,     95.9,2,    96.0,2,  142.60,2,   39.40,2,    0.00,2,    2.85,2,   0.004,2,   0.000,2,       0,2,  2356.3,2,  2423.5,2,   7.4892,2,    25.00,-999.000,9,-999.0000,9, -999.00,9,   2.0920, -999.00,9,  -999.0,9,  -999.0,-999.000,9,-999.000,    36.4,2, -999.00,9,     26.510,3, -999.00,9,-999.000,-999.0000, -999.00,     -999.0,     -999.0,9,     -999.0,     -999.0,9,     -999.0,  -999.0,9,     -999.0,     -999.0,9,     -999.0,   1.9430,    34.8101,2,-999.0000,9,     -999.0,9
33RO20150410,     P16N.1,      87,          2,          7,          7,2,20150504,       0020,     9.9991,  -151.9394,       5305,  2533.7,   1.8712,  34.6644,2,  34.6634,2,    107.3,2,   107.3,2,  147.30,2,   38.60,2,    0.00,2,    2.76,2,  -0.003,2,  -0.001,2,       0,2,  2356.7,2,  2431.5,2,   7.5125,6,    25.03,-999.000,9,-999.0000,9, -999.00,9,   1.8710, -999.00,9,  -999.0,9,  -999.0,-999.000,9,-999.000,    40.2,2, -999.00,9,     23.920,3, -999.00,9,-999.000,-999.0000, -999.00,     -999.0,     -999.0,9,     -999.0,     -999.0,9,     -999.0,  -999.0,9,     -999.0,     -999.0,9,     -999.0,   1.6902,    34.8269,2,-999.0000,9,     -999.0,9
33RO20150410,     P16N.1,      87,          2,          6,          6,2,20150504,       0020,     9.9991,  -151.9394,       5305,  2968.0,   1.7210,  34.6738,2,  34.6758,2,    118.0,2,   118.0,2,  149.30,2,   38.00,2,    0.00,2,    2.71,2,   0.004,2,   0.000,2,   0.022,3,  2354.7,2,  2434.3,2,   7.5323,2,    25.02,-999.000,9,-999.0000,9, -999.00,9,   1.7215, -999.00,9,  -999.0,9,  -999.0,-999.000,9,-999.000,    37.5,2, -999.00,9,     22.587,3, -999.00,9,-999.000,-999.0000, -999.00,     -999.0,     -999.0,9,     -999.0,     -999.0,9,     -999.0,  -999.0,9,     -999.0,     -999.0,9,     -999.0,   1.5024,    34.8393,2,-999.0000,9,     -999.0,9
33RO20150410,     P16N.1,      87,          2,          5,          5,2,20150504,       0020,     9.9991,  -151.9394,       5305,  3467.7,   1.5346,  34.6839,2,  34.6821,2,    138.1,2,   137.6,2,  146.00,2,   36.70,2,    0.00,2,    2.60,2,   0.003,2,   0.000,2,       0,2,  2341.1,2,  2429.6,2,   7.5626,2,    25.00,-999.000,9,-999.0000,9, -999.00,9,   1.5346, -999.00,9,  -999.0,9,  -999.0,-999.000,9,-999.000,    39.1,2, -999.00,9,     21.315,3, -999.00,9,-999.000,-999.0000, -999.00,     -999.0,     -999.0,9,     -999.0,     -999.0,9,     -999.0,  -999.0,9,     -999.0,     -999.0,9,     -999.0,   1.2708,    34.8457,2,-999.0000,9,     -999.0,9
33RO20150410,     P16N.1,      87,          2,          4,          4,2,20150504,       0020,     9.9991,  -151.9394,       5305,  3897.7,   1.4380,  34.6908,2,  34.6906,2,    152.7,2,   152.9,2,  138.90,6,   35.60,6,    0.00,6,    2.52,6,   0.002,2,  -0.001,2,       0,2,  2351.7,4,  2422.5,2,   7.5835,2,    25.00,-999.000,9,-999.0000,9, -999.00,9,   1.4381, -999.00,9,  -999.0,9,  -999.0,-999.000,9,-999.000,    41.3,2, -999.00,9,     20.305,3, -999.00,9,-999.000,-999.0000, -999.00,     -999.0,     -999.0,9,     -999.0,     -999.0,9,     -999.0,  -999.0,9,     -999.0,     -999.0,9,     -999.0,   1.1318,    34.8542,2,-999.0000,9,     -999.0,9
33RO20150410,     P16N.1,      87,          2,          3,          3,2,20150504,       0020,     9.9991,  -151.9394,       5305,  4466.9,   1.3678,  34.6973,2,  34.6985,2,    166.8,2,   168.3,2,  131.30,6,   34.50,6,    0.00,6,    2.44,6,   0.000,6,   0.001,6,       0,6,  2306.8,3,  2410.4,2,   7.5961,6,    25.01,-999.000,9,-999.0000,9, -999.00,9,   1.3680, -999.00,9,  -999.0,9,  -999.0,-999.000,9,-999.000,    40.3,2, -999.00,9,     19.680,3, -999.00,9,-999.000,-999.0000, -999.00,     -999.0,     -999.0,9,     -999.0,     -999.0,9,     -999.0,  -999.0,9,     -999.0,     -999.0,9,     -999.0,   1.0006,    34.8621,2,-999.0000,9,     -999.0,9
33RO20150410,     P16N.1,      87,          2,          2,          2,2,20150504,       0020,     9.9991,  -151.9394,       5305,  4967.1,   1.4101,  34.6979,2,  34.6975,2,    170.0,2,   170.3,2,  130.00,6,   34.40,6,    0.00,6,    2.42,6,   0.000,2,   0.002,2,       0,2,  2302.8,2,  2407.6,6,   7.5970,2,    24.68,-999.000,9,-999.0000,9, -999.00,9,   1.4103, -999.00,9,  -999.0,9,  -999.0,-999.000,9,-999.000,    40.7,2, -999.00,9,     19.573,3, -999.00,9,-999.000,-999.0000, -999.00,     -999.0,     -999.0,9,     -999.0,     -999.0,9,     -999.0,  -999.0,9,     -999.0,     -999.0,9,     -999.0,   0.9827,    34.8611,2,-999.0000,9,     -999.0,9
33RO20150410,     P16N.1,      87,          2,          1,          1,2,20150504,       0020,     9.9991,  -151.9394,       5305,  5295.6,   1.4458,  34.6979,2,  34.6974,2,    171.4,2,   171.0,2,  129.60,6,   34.30,6,    0.00,6,    2.44,6,   0.001,2,   0.001,2,       0,2,  2302.3,6,  2406.4,2,   7.5972,2,    25.05,-999.000,9,-999.0000,9, -999.00,9,   1.4457, -999.00,9,  -999.0,9,  -999.0,-999.000,9,-999.000,    38.5,2, -999.00,9,     19.635,3, -999.00,9,-999.000,-999.0000, -999.00,     -999.0,     -999.0,9,     -999.0,     -999.0,9,     -999.0,  -999.0,9,     -999.0,     -999.0,9,     -999.0,   0.9768,    34.8610,2,-999.0000,9,     -999.0,9