BOTTLE,20210709CCHSIOCBG
EXPOCODE,SECT_ID,STNNBR,CASTNO,SAMPNO,BTLNBR,BTLNBR_FLAG_W,DATE,TIME,LATITUDE,LONGITUDE,DEPTH,CTDPRS,CTDTMP,CTDSAL,CTDSAL_FLAG_W,SALNTY,SALNTY_FLAG_W,CTDOXY,CTDOXY_FLAG_W,OXYGEN,OXYGEN_FLAG_W,SILCAT,SILCAT_FLAG_W,NITRAT,NITRAT_FLAG_W,NITRIT,NITRIT_FLAG_W,PHSPHT,PHSPHT_FLAG_W,CFC-11,CFC-11_FLAG_W,CFC-12,CFC-12_FLAG_W,SF6,SF6_FLAG_W,TCARBN,TCARBN_FLAG_W,ALKALI,ALKALI_FLAG_W,PH_TOT,PH_TOT_FLAG_W,PH_TMP,TRITUM,TRITUM_FLAG_W,HELIUM,HELIUM_FLAG_W,DELHE3,DELHE3_FLAG_W,REFTMP,DELC13,DELC13_FLAG_W,DELC14,DELC14_FLAG_W,C14ERR,NEON,NEON_FLAG_W,NEONER,DOC,DOC_FLAG_W,TDN,TDN_FLAG_W,N2O,N2O_FLAG_W,ARGON,ARGON_FLAG_W,TRITER,HELIER,DELHER,ARGONER,KRYPTON,KRYPTON_FLAG_W,KRYPTONER,XENON,XENON_FLAG_W,XENONER,14C-DOC,14C-DOC_FLAG_W,14C-DOCERR,13C-DOC,13C-DOC_FLAG_W,13C-DOCERR,THETA,SALTREF,SALTREF_FLAG_W,SBE35,SBE35_FLAG_W,CHLORA,CHLORA_FLAG_W
,,,,,,,,,,,METERS,DBAR,ITS-90,PSS-78,,PSS-78,,UMOL/KG,,UMOL/KG,,UMOL/KG,,UMOL/KG,,UMOL/KG,,UMOL/KG,,PMOL/KG,,PMOL/KG,,FMOL/KG,,UMOL/KG,,UMOL/KG,,,,DEG C,TU,,NMOL/KG,,PERCNT,,DEG C,/MILLE,,/MILLE,,/MILLE,NMOL/KG,,NMOL/KG,UMOL/KG,,UMOL/KG,,NMOL/KG,,UMOL/KG,,TU,NMOL/KG,PERCNT,UMOL/KG,NMOL/KG,,NMOL/KG,NMOL/KG,,NMOL/KG,/MILLE,,/MILLE,/MILLE,,/MILLE,DEG C,G/KG,,ITS-90,,MG/M3,
33RO20150410,     P16N.1,      23,          1,         24,         24,2,20150417,       1704,    -5.7001,  -151.0010,       5063,    14.9,  28.6638,  35.3903,2,  35.3916,2,    197.0,2,   197.4,2,    1.80,2,    4.00,2,    0.09,2,    0.39,4,-999.000,9,-999.000,9,-999.000,9,  2016.9,6,  2328.7,2,   8.0514,6,    25.01,-999.000,9,-999.0000,9, -999.00,9,  28.6626, -999.00,9,  -999.0,9,  -999.0,-999.000,9,-999.000,    67.3,2,    8.70,2,     -999.0,9, -999.00,9,-999.000,-999.0000, -999.00,     -999.0,     -999.0,9,     -999.0,     -999.0,9,     -999.0,  -999.0,9,     -999.0,     -999.0,9,     -999.0,  28.6602,    35.5585,2,-999.0000,2,      0.117,2
33RO20150410,     P16N.1,      23,          1,         23,         23,2,20150417,       1704,    -5.7001,  -151.0010,       5063,    33.7,  28.7060,  35.4532,2,  35.4519,2,    197.6,2,   196.5,2,    1.70,2,    3.90,2,    0.09,2,    0.39,4,-999.000,9,-999.000,9,-999.000,9,  2017.2,2,  2332.4,2,   8.0534,2,    25.00,-999.000,9,-999.0000,9, -999.00,9,  28.7044, -999.00,9,  -999.0,9,  -999.0,-999.000,9,-999.000,    65.2,2,    9.40,2,     -999.0,9, -999.00,9,-999.000,-999.0000, -999.00,     -999.0,     -999.0,9,     -999.0,     -999.0,9,     -999.0,  -999.0,9,     -999.0,     -999.0,9,     -999.0,  28.6979,    35.6191,2,-999.0000,2,      0.128,2
33RO20150410,     P16N.1,      23,          1,         22,         22,2,20150417,       1704,    -5.7001,  -151.0010,       5063,    58.4,  28.6461,  35.4634,2,  35.4656,2,    197.3,2,   197.5,2,    1.70,2,    3.80,2,    0.09,2,    0.40,4,-999.000,9,-999.000,9,-999.000,9,  2017.1,2,  2334.0,2,   8.0546,6,    25.01,-999.000,9,-999.0000,9, -999.00,9,  28.6447, -999.00,9,  -999.0,9,  -999.0,-999.000,9,-999.000,    67.3,2,    8.80,2,     -999.0,9, -999.00,9,-999.000,-999.0000, -999.00,     -999.0,     -999.0,9,     -999.0,     -999.0,9,     -999.0,  -999.0,9,     -999.0,     -999.0,9,     -999.0,  28.6321,    35.6329,2,-999.0000,2,      0.158,2
33RO20150410,     P16N.1,      23,          1,         21,         21,2,20150417,       1704,    -5.7001,  -151.0010,       5063,    82.5,  28.6842,  35.6395,2,  35.6836,2,    194.7,2,   193.3,2,    1.50,2,    2.30,2,    0.08,2,    0.34,4,-999.000,9,-999.000,9,-999.000,9,  2017.3,2,  2349.6,2,   8.0787,2,    24.99,-999.000,9,-999.0000,9, -999.00,9,  28.6855, -999.00,9,  -999.0,9,  -999.0,-999.000,9,-999.000,    66.5,2,    7.30,2,     -999.0,9, -999.00,9,-999.000,-999.0000, -999.00,     -999.0,     -999.0,9,     -999.0,     -999.0,9,     -999.0,  -999.0,9,     -999.0,     -999.0,9,     -999.0,  28.6644,    35.8518,2,-999.0000,2,      0.224,2
33RO20150410,     P16N.1,      23,          1,         20,         20,2,20150417,       1704,    -5.7001,  -151.0010,       5063,   117.7,  26.5501,  35.7741,2,  35.8373,2,    171.9,2,   171.2,2,    2.00,2,    4.90,2,    1.73,2,    0.59,4,-999.000,9,-999.000,9,-999.000,9,  2063.4,2,  2358.3,6,   8.0115,2,    25.00,-999.000,9,-999.0000,9, -999.00,9,  26.5523, -999.00,9,  -999.0,9,  -999.0,-999.000,9,-999.000,    60.3,2,   10.40,2,     -999.0,9, -999.00,9,-999.000,-999.0000, -999.00,     -999.0,     -999.0,9,     -999.0,     -999.0,9,     -999.0,  -999.0,9,     -999.0,     -999.0,9,     -999.0,  26.5233,    36.0063,2,-999.0000,2,      0.193,2
33RO20150410,     P16N.1,      23,          1,         19,         19,2,20150417,       1704,    -5.7001,  -151.0010,       5063,   175.6,  21.1614,  35.9060,2,  35.9038,2,    163.0,2,   163.1,2,    1.40,2,    6.20,2,    0.05,2,    0.61,4,-999.000,9,-999.000,9,-999.000,9,  2122.2,2,  2367.1,2,   7.9200,2,    25.00,-999.000,9,-999.0000,9, -999.00,9,  21.1551, -999.00,9,  -999.0,9,  -999.0,-999.000,9,-999.000,    57.1,2,    9.50,2,     -999.0,9, -999.00,9,-999.000,-999.0000, -999.00,     -999.0,     -999.0,9,     -999.0,     -999.0,9,     -999.0,  -999.0,9,     -999.0,     -999.0,9,     -999.0,  21.1274,    36.0731,2,-999.0000,2,      0.029,2
33RO20150410,     P16N.1,      23,          1,         18,         18,2,20150417,       1704,    -5.7001,  -151.0010,       5063,   250.2,  12.9784,  34.9051,2,  34.9007,2,     19.5,2,    19.6,2,   18.60,2,   27.00,2,    0.01,2,    2.09,4,-999.000,9,-999.000,9,-999.000,9,  2244.0,2,  2301.3,2,   7.4788,2,    25.00,-999.000,9,-999.0000,9, -999.00,9,  12.9847, -999.00,9,  -999.0,9,  -999.0,-999.000,9,-999.000,    48.8,2,   30.50,2,     -999.0,9, -999.00,9,-999.000,-999.0000, -999.00,     -999.0,     -999.0,9,     -999.0,     -999.0,9,     -999.0,  -999.0,9,     -999.0,     -999.0,9,     -999.0,  12.9440,    35.0653,2,-999.0000,2,      0.004,2
33RO20150410,     P16N.1,      23,          1,         17,         17,2,20150417,       1704,    -5.7001,  -151.0010,       5063,   333.2,  10.8872,  34.8024,2,  34.8009,2,     16.5,2,    18.3,2,   27.50,2,   32.60,2,    0.01,2,    2.23,4,-999.000,9,-999.000,9,-999.000,9,  2257.7,2,  2302.3,2,   7.4448,3,    25.00,-999.000,9,-999.0000,9, -999.00,9,  10.8880, -999.00,9,  -999.0,9,  -999.0,-999.000,9,-999.000,    42.6,2, -999.00,9,     -999.0,9, -999.00,9,-999.000,-999.0000, -999.00,     -999.0,     -999.0,9,     -999.0,     -999.0,9,     -999.0,  -999.0,9,     -999.0,     -999.0,9,     -999.0,  10.8462,    34.9650,2,-999.0000,2,     -999.0,9
33RO20150410,     P16N.1,      23,          1,         16,         16,2,20150417,       1704,    -5.7001,  -151.0010,       5063,   431.5,   9.2186,  34.6924,2,  34.6883,2,     40.6,2,    43.0,2,   31.10,2,   34.50,2,    0.01,2,    2.26,4,-999.000,9,-999.000,9,-999.000,9,  2251.9,6,  2302.7,2,   7.4583,2,    24.99,-999.000,9,-999.0000,9, -999.00,9,   9.2169, -999.00,9,  -999.0,9,  -999.0,-999.000,9,-999.000,    44.9,2, -999.00,9,     -999.0,9, -999.00,9,-999.000,-999.0000, -999.00,     -999.0,     -999.0,9,     -999.0,     -999.0,9,     -999.0,  -999.0,9,     -999.0,     -999.0,9,     -999.0,   9.1706,    34.8518,2,-999.0000,2,     -999.0,9
33RO20150410,     P16N.1,      23,          1,         15,         15,2,20150417,       1704,    -5.7001,  -151.0010,       5063,   550.4,   7.5273,  34.5950,2,  34.5934,2,     56.0,2,    58.8,2,   38.90,2,   37.00,2,    0.01,2,    2.39,4,-999.000,9,-999.000,9,-999.000,9,  2257.9,2,  2307.8,2,   7.4568,6,    25.02,-999.000,9,-999.0000,9, -999.00,9,   7.5378, -999.00,9,  -999.0,9,  -999.0,-999.000,9,-999.000,    42.9,2, -999.00,9,     -999.0,9, -999.00,9,-999.000,-999.0000, -999.00,     -999.0,     -999.0,9,     -999.0,     -999.0,9,     -999.0,  -999.0,9,     -999.0,     -999.0,9,     -999.0,   7.4726,    34.7565,2,-999.0000,2,     -999.0,9
33RO20150410,     P16N.1,      23,          1,         14,         14,2,20150417,       1704,    -5.7001,  -151.0010,       5063,   744.6,   5.7540,  34.5467,2,  34.5464,2,     57.1,2,    56.4,2,   60.30,2,   40.70,2,    0.01,2,    2.70,4,-999.000,9,-999.000,9,-999.000,9,  2285.2,2,  2325.7,2,   7.4253,2,    25.00,-999.000,9,-999.0000,9, -999.00,9,   5.7550, -999.00,9,  -999.0,9,  -999.0,-999.000,9,-999.000,    41.0,2, -999.00,9,     -999.0,9, -999.00,9,-999.000,-999.0000, -999.00,     -999.0,     -999.0,9,     -999.0,     -999.0,9,     -999.0,  -999.0,9,     -999.0,     -999.0,9,     -999.0,   5.6890,    34.7093,2,-999.0000,2,     -999.0,9
33RO20150410,     P16N.1,      23,          1,         13,         13,2,20150417,       1704,    -5.7001,  -151.0010,       5063,   849.5,   5.0918,  34.5396,2,  34.5395,2,     75.5,2,    74.0,2,   69.00,2,   39.50,2,    0.04,2,    2.67,4,-999.000,9,-999.000,9,-999.000,9,  2286.6,2,  2336.6,2,   7.4550,2,    25.02,-999.000,9,-999.0000,9, -999.00,9,   5.0941, -999.00,9,  -999.0,9,  -999.0,-999.000,9,-999.000,    41.3,2, -999.00,9,     -999.0,9, -999.00,9,-999.000,-999.0000, -999.00,     -999.0,     -999.0,9,     -999.0,     -999.0,9,     -999.0,  -999.0,9,     -999.0,     -999.0,9,     -999.0,   5.0213,    34.7024,2,-999.0000,2,     -999.0,9
33RO20150410,     P16N.1,      23,          1,         12,         12,2,20150417,       1704,    -5.7001,  -151.0010,       5063,  1000.5,   4.3881,  34.5459,2,  34.5456,2,     92.2,2,    92.1,2,   80.40,2,   38.60,2,    0.01,2,    2.64,4,-999.000,9,-999.000,9,-999.000,9,  2290.6,2,  2349.6,2,   7.4801,2,    25.01,-999.000,9,-999.0000,9, -999.00,9,   4.3885, -999.00,9,  -999.0,9,  -999.0,-999.000,9,-999.000,    38.4,2, -999.00,9,     -999.0,9, -999.00,9,-999.000,-999.0000, -999.00,     -999.0,     -999.0,9,     -999.0,     -999.0,9,     -999.0,  -999.0,9,     -999.0,     -999.0,9,     -999.0,   4.3093,    34.7085,6,-999.0000,2,     -999.0,9
33RO20150410,     P16N.1,      23,          1,         11,         11,2,20150417,       1704,    -5.7001,  -151.0010,       5063,  1166.9,   3.7313,  34.5659,2,  34.5658,2,    100.0,2,   100.7,2,   95.50,2,   38.10,2,    0.01,2,    2.66,4,-999.000,9,-999.000,9,-999.000,9,  2303.3,2,  2366.0,2,   7.4937,2,    25.01,-999.000,9,-999.0000,9, -999.00,9,   3.7315, -999.00,9,  -999.0,9,  -999.0,-999.000,9,-999.000,    37.8,2, -999.00,9,     -999.0,9, -999.00,9,-999.000,-999.0000, -999.00,     -999.0,     -999.0,9,     -999.0,     -999.0,9,     -999.0,  -999.0,9,     -999.0,     -999.0,9,     -999.0,   3.6438,    34.7288,2,-999.0000,2,     -999.0,9
33RO20150410,     P16N.1,      23,          1,         10,         10,2,20150417,       1704,    -5.7001,  -151.0010,       5063,  1400.0,   3.1092,  34.5910,2,  34.5908,2,    108.4,2,   108.9,2,  109.10,2,   37.80,2,    0.00,2,    2.67,4,-999.000,9,-999.000,9,-999.000,9,  2314.2,2,  2381.4,2,   7.5059,2,    25.01,-999.000,9,-999.0000,9, -999.00,9,   3.1084, -999.00,9,  -999.0,9,  -999.0,-999.000,9,-999.000,    37.7,2, -999.00,9,     -999.0,9, -999.00,9,-999.000,-999.0000, -999.00,     -999.0,     -999.0,9,     -999.0,     -999.0,9,     -999.0,  -999.0,9,     -999.0,     -999.0,9,     -999.0,   3.0084,    34.7539,2,-999.0000,2,     -999.0,9
33RO20150410,     P16N.1,      23,          1,          9,          9,2,20150417,       1704,    -5.7001,  -151.0010,       5063,  1732.3,   2.5619,  34.6201,2,  34.6187,2,    115.0,2,   116.3,2,  122.70,2,   37.40,2,    0.01,2,    2.66,4,-999.000,9,-999.000,9,-999.000,9,  2323.7,2,  2397.2,2,   7.5189,2,    25.02,-999.000,9,-999.0000,9, -999.00,9,   2.5628, -999.00,9,  -999.0,9,  -999.0,-999.000,9,-999.000,    36.1,2, -999.00,9,     -999.0,9, -999.00,9,-999.000,-999.0000, -999.00,     -999.0,     -999.0,9,     -999.0,     -999.0,9,     -999.0,  -999.0,9,     -999.0,     -999.0,9,     -999.0,   2.4399,    34.7819,2,-999.0000,2,     -999.0,9
33RO20150410,     P16N.1,      23,          1,          8,          8,2,20150417,       1704,    -5.7001,  -151.0010,       5063,  2132.3,   2.1474,  34.6462,2,  34.6462,2,    123.5,2,   124.0,2,  132.90,2,   36.90,2,    0.01,2,    2.65,4,-999.000,9,-999.000,9,-999.000,9,  2329.6,2,  2410.5,2,   7.5340,2,    25.00,-999.000,9,-999.0000,9, -999.00,9,   2.1473, -999.00,9,  -999.0,9,  -999.0,-999.000,9,-999.000,    36.4,2, -999.00,9,     -999.0,9, -999.00,9,-999.000,-999.0000, -999.00,     -999.0,     -999.0,9,     -999.0,     -999.0,9,     -999.0,  -999.0,9,     -999.0,     -999.0,9,     -999.0,   1.9973,    34.8096,6,-999.0000,2,     -999.0,9
33RO20150410,     P16N.1,      23,          1,          7,          7,2,20150417,       1704,    -5.7001,  -151.0010,       5063,  2534.0,   1.8662,  34.6652,2,  34.6651,2,    133.6,2,   135.6,2,  138.40,2,   36.40,2,    0.02,2,    2.61,4,-999.000,9,-999.000,9,-999.000,9,  2330.5,2,  2418.3,2,   7.5527,6,    25.01,-999.000,9,-999.0000,9, -999.00,9,   1.8660, -999.00,9,  -999.0,9,  -999.0,-999.000,9,-999.000,    37.9,2, -999.00,9,     -999.0,9, -999.00,9,-999.000,-999.0000, -999.00,     -999.0,     -999.0,9,     -999.0,     -999.0,9,     -999.0,  -999.0,9,     -999.0,     -999.0,9,     -999.0,   1.6852,    34.8286,2,-999.0000,2,     -999.0,9
33RO20150410,     P16N.1,      23,          1,          6,          6,2,20150417,       1704,    -5.7001,  -151.0010,       5063,  2932.5,   1.7049,  34.6764,2,  34.6749,2,    142.7,2,   143.3,2,  140.70,2,   35.90,2,    0.01,2,    2.58,4,-999.000,9,-999.000,9,-999.000,9,  2328.3,2,  2420.1,2,   7.5684,2,    25.01,-999.000,9,-999.0000,9, -999.00,9,   1.7048, -999.00,9,  -999.0,9,  -999.0,-999.000,9,-999.000,    39.9,2, -999.00,9,     -999.0,9, -999.00,9,-999.000,-999.0000, -999.00,     -999.0,     -999.0,9,     -999.0,     -999.0,9,     -999.0,  -999.0,9,     -999.0,     -999.0,9,     -999.0,   1.4900,    34.8384,2,-999.0000,2,     -999.0,9
33RO20150410,     P16N.1,      23,          1,          5,          5,2,20150417,       1704,    -5.7001,  -151.0010,       5063,  3333.6,   1.5700,  34.6836,2,  34.6821,2,    153.0,2,   152.6,2,  139.60,2,   35.20,2,    0.02,2,    2.52,4,-999.000,9,-999.000,9,-999.000,9,  2320.0,2,  2417.6,2,   7.5814,2,    25.00,-999.000,9,-999.0000,9, -999.00,9,   1.5701, -999.00,9,  -999.0,9,  -999.0,-999.000,9,-999.000,    38.2,2, -999.00,9,     -999.0,9, -999.00,9,-999.000,-999.0000, -999.00,     -999.0,     -999.0,9,     -999.0,     -999.0,9,     -999.0,  -999.0,9,     -999.0,     -999.0,9,     -999.0,   1.3189,    34.8457,2,-999.0000,2,     -999.0,9
33RO20150410,     P16N.1,      23,          1,          4,          4,2,20150417,       1704,    -5.7001,  -151.0010,       5063,  3734.1,   1.4809,  34.6896,2,  34.6890,2,    160.7,2,   161.1,2,  138.80,2,   34.70,2,    0.00,2,    2.49,4,-999.000,9,-999.000,9,-999.000,9,  2314.9,2,  2418.4,2,   7.5904,6,    25.01,-999.000,9,-999.0000,9, -999.00,9,   1.4813, -999.00,9,  -999.0,9,  -999.0,-999.000,9,-999.000,    38.8,2, -999.00,9,     -999.0,9, -999.00,9,-999.000,-999.0000, -999.00,     -999.0,     -999.0,9,     -999.0,     -999.0,9,     -999.0,  -999.0,9,     -999.0,     -999.0,9,     -999.0,   1.1909,    34.8526,2,-999.0000,2,     -999.0,9
33RO20150410,     P16N.1,      23,          1,          3,          3,2,20150417,       1704,    -5.7001,  -151.0010,       5063,  4167.6,   1.3793,  34.6969,2,  34.6955,2,    173.8,2,   174.8,2,  133.20,2,   33.80,2,    0.00,2,    2.41,4,-999.000,9,-999.000,9,-999.000,9,  2299.8,2,  2407.5,2,   7.6015,6,    25.01,-999.000,9,-999.0000,9, -999.00,9,   1.3793, -999.00,9,  -999.0,9,  -999.0,-999.000,9,-999.000,    39.4,2, -999.00,9,     -999.0,9, -999.00,9,-999.000,-999.0000, -999.00,     -999.0,     -999.0,9,     -999.0,     -999.0,9,     -999.0,  -999.0,9,     -999.0,     -999.0,9,     -999.0,   1.0454,    34.8591,2,-999.0000,3,     -999.0,9
33RO20150410,     P16N.1,      23,          1,          2,          2,2,20150417,       1704,    -5.7001,  -151.0010,       5063,  4666.7,   1.3415,  34.7013,2,  34.6998,2,    186.5,2,   185.9,2,  126.50,2,   33.00,2,    0.00,2,    2.34,4,-999.000,9,-999.000,9,-999.000,9,  2285.6,2,  2389.9,6,   7.6039,2,    25.02,-999.000,9,-999.0000,9, -999.00,9,   1.3417, -999.00,9,  -999.0,9,  -999.0,-999.000,9,-999.000,    40.0,2, -999.00,9,     -999.0,9, -999.00,9,-999.000,-999.0000, -999.00,     -999.0,     -999.0,9,     -999.0,     -999.0,9,     -999.0,  -999.0,9,     -999.0,     -999.0,9,     -999.0,   0.9520,    34.8634,2,-999.0000,3,     -999.0,9
33RO20150410,     P16N.1,      23,          1,          1,          1,2,20150417,       1704,    -5.7001,  -151.0010,       5063,  5053.4,   1.3309,  34.7033,2,  34.7041,2,    191.6,2,   193.3,2,  124.40,2,   32.60,2,    0.01,2,    2.31,4,-999.000,9,-999.000,9,-999.000,9,  2279.9,6,  2384.4,2,   7.6061,2,    25.01,-999.000,9,-999.0000,9, -999.00,9,   1.3306, -999.00,9,  -999.0,9,  -999.0,-999.000,9,-999.000,    38.3,2, -999.00,9,     -999.0,9, -999.00,9,-999.000,-999.0000, -999.00,     -999.0,     -999.0,9,     -999.0,     -999.0,9,     -999.0,  -999.0,9,     -999.0,     -999.0,9,     -999.0,   0.8957,    34.8678,2,-999.0000,2,     -999.0,9