BOTTLE,20210709CCHSIOCBG
EXPOCODE,SECT_ID,STNNBR,CASTNO,SAMPNO,BTLNBR,BTLNBR_FLAG_W,DATE,TIME,LATITUDE,LONGITUDE,DEPTH,CTDPRS,CTDTMP,CTDSAL,CTDSAL_FLAG_W,SALNTY,SALNTY_FLAG_W,CTDOXY,CTDOXY_FLAG_W,OXYGEN,OXYGEN_FLAG_W,SILCAT,SILCAT_FLAG_W,NITRAT,NITRAT_FLAG_W,NITRIT,NITRIT_FLAG_W,PHSPHT,PHSPHT_FLAG_W,CFC-11,CFC-11_FLAG_W,CFC-12,CFC-12_FLAG_W,SF6,SF6_FLAG_W,TCARBN,TCARBN_FLAG_W,ALKALI,ALKALI_FLAG_W,PH_TOT,PH_TOT_FLAG_W,PH_TMP,TRITUM,TRITUM_FLAG_W,HELIUM,HELIUM_FLAG_W,DELHE3,DELHE3_FLAG_W,REFTMP,DELC13,DELC13_FLAG_W,DELC14,DELC14_FLAG_W,C14ERR,NEON,NEON_FLAG_W,NEONER,DOC,DOC_FLAG_W,TDN,TDN_FLAG_W,N2O,N2O_FLAG_W,ARGON,ARGON_FLAG_W,TRITER,HELIER,DELHER,ARGONER,KRYPTON,KRYPTON_FLAG_W,KRYPTONER,XENON,XENON_FLAG_W,XENONER,14C-DOC,14C-DOC_FLAG_W,14C-DOCERR,13C-DOC,13C-DOC_FLAG_W,13C-DOCERR,THETA,SALTREF,SALTREF_FLAG_W,SBE35,SBE35_FLAG_W,CHLORA,CHLORA_FLAG_W
,,,,,,,,,,,METERS,DBAR,ITS-90,PSS-78,,PSS-78,,UMOL/KG,,UMOL/KG,,UMOL/KG,,UMOL/KG,,UMOL/KG,,UMOL/KG,,PMOL/KG,,PMOL/KG,,FMOL/KG,,UMOL/KG,,UMOL/KG,,,,DEG C,TU,,NMOL/KG,,PERCNT,,DEG C,/MILLE,,/MILLE,,/MILLE,NMOL/KG,,NMOL/KG,UMOL/KG,,UMOL/KG,,NMOL/KG,,UMOL/KG,,TU,NMOL/KG,PERCNT,UMOL/KG,NMOL/KG,,NMOL/KG,NMOL/KG,,NMOL/KG,/MILLE,,/MILLE,/MILLE,,/MILLE,DEG C,G/KG,,ITS-90,,MG/M3,
33RO20150410,     P16N.1,     110,          1,         24,         24,2,20150511,       0321,    21.5001,  -152.0001,       5581,    14.4,  24.2322,  34.9442,2,  34.9434,2,    207.5,2,   208.9,2,    1.10,2,    0.00,2,    0.00,2,    0.18,2,   1.759,6,   1.101,6,   1.384,6,  1990.4,2,  2304.6,6,   8.0581,2,    24.99,-999.000,9,-999.0000,9, -999.00,9,  24.2309,    0.91,2,    40.3,2,     2.2,-999.000,9,-999.000,  -999.0,9, -999.00,9,      6.602,3, -999.00,9,-999.000,-999.0000, -999.00,     -999.0,     -999.0,9,     -999.0,     -999.0,9,     -999.0,  -999.0,9,     -999.0,     -999.0,9,     -999.0,  24.2292,    35.1082,2,-999.0000,9,     -999.0,9
33RO20150410,     P16N.1,     110,          1,         23,         23,2,20150511,       0321,    21.5001,  -152.0001,       5581,    33.2,  24.2295,  34.9423,2,  34.9415,2,    208.2,2,   209.1,2,    1.20,2,    0.00,2,    0.00,2,    0.17,2,-999.000,9,-999.000,9,-999.000,9,  1991.9,2,  2304.0,2,   8.0584,6,    25.00,-999.000,9,-999.0000,9, -999.00,9,  24.2307,    0.89,2,    47.6,2,     2.3,-999.000,9,-999.000,  -999.0,9, -999.00,9,     -999.0,9, -999.00,9,-999.000,-999.0000, -999.00,     -999.0,     -999.0,9,     -999.0,     -999.0,9,     -999.0,  -999.0,9,     -999.0,     -999.0,9,     -999.0,  24.2225,    35.1063,2,-999.0000,9,     -999.0,9
33RO20150410,     P16N.1,     110,          1,         22,         22,2,20150511,       0321,    21.5001,  -152.0001,       5581,    55.4,  24.2253,  34.9406,2,  34.9429,2,    208.8,2,   209.0,2,    1.10,2,    0.00,2,    0.01,2,    0.19,2,   1.748,2,   1.100,2,   1.413,2,  1991.5,2,  2304.7,2,   8.0583,2,    24.98,-999.000,9,-999.0000,9, -999.00,9,  24.2267,    0.91,2,    46.9,2,     2.4,-999.000,9,-999.000,  -999.0,9, -999.00,9,      6.649,3, -999.00,9,-999.000,-999.0000, -999.00,     -999.0,     -999.0,9,     -999.0,     -999.0,9,     -999.0,  -999.0,9,     -999.0,     -999.0,9,     -999.0,  24.2136,    35.1077,2,-999.0000,9,     -999.0,9
33RO20150410,     P16N.1,     110,          1,         21,         21,2,20150511,       0321,    21.5001,  -152.0001,       5581,    81.7,  22.3898,  35.0207,2,  35.0256,2,    213.8,2,   213.6,2,    1.60,2,    0.00,2,    0.01,2,    0.23,2,   1.984,2,   1.227,2,   1.449,2,  2030.1,2,  2316.8,2,   8.0083,6,    25.02,-999.000,9,-999.0000,9, -999.00,9,  22.3991,    0.91,2,    33.7,2,     3.4,-999.000,9,-999.000,  -999.0,9, -999.00,9,      9.033,3, -999.00,9,-999.000,-999.0000, -999.00,     -999.0,     -999.0,9,     -999.0,     -999.0,9,     -999.0,  -999.0,9,     -999.0,     -999.0,9,     -999.0,  22.3734,    35.1908,2,-999.0000,9,     -999.0,9
33RO20150410,     P16N.1,     110,          1,         20,         20,2,20150511,       0321,    21.5001,  -152.0001,       5581,   117.0,  19.8702,  34.8453,2,  34.8448,2,    194.6,2,   191.9,2,    2.70,2,    1.10,2,    0.18,2,    0.40,2,   2.196,2,   1.330,2,   1.483,2,  2063.5,2,  2305.6,2,   7.9275,2,    24.97,-999.000,9,-999.0000,9, -999.00,9,  19.8732,    0.65,2,    35.9,2,     2.4,-999.000,9,-999.000,  -999.0,9, -999.00,9,     13.255,3, -999.00,9,-999.000,-999.0000, -999.00,     -999.0,     -999.0,9,     -999.0,     -999.0,9,     -999.0,  -999.0,9,     -999.0,     -999.0,9,     -999.0,  19.8487,    35.0091,2,-999.0000,9,     -999.0,9
33RO20150410,     P16N.1,     110,          1,         19,         19,2,20150511,       0321,    21.5001,  -152.0001,       5581,   174.9,  16.7432,  34.5633,2,  34.5624,2,    177.6,2,   176.7,2,    5.00,2,    5.80,2,    0.02,2,    0.62,2,   2.426,2,   1.477,2,   1.451,2,  2083.0,2,  2281.7,2,   7.8499,2,    24.97,-999.000,9,-999.0000,9, -999.00,9,  16.7445,    0.40,2,    40.7,2,     2.1,-999.000,9,-999.000,  -999.0,9, -999.00,9,     16.489,3, -999.00,9,-999.000,-999.0000, -999.00,     -999.0,     -999.0,9,     -999.0,     -999.0,9,     -999.0,  -999.0,9,     -999.0,     -999.0,9,     -999.0,  16.7147,    34.7254,2,-999.0000,9,     -999.0,9
33RO20150410,     P16N.1,     110,          1,         18,         18,2,20150511,       0321,    21.5001,  -152.0001,       5581,   245.3,  12.0066,  34.0952,2,  34.0949,2,    194.8,2,   191.1,2,   11.00,2,   11.50,2,    0.01,2,    0.95,2,   3.083,2,   1.786,2,   1.521,2,  2089.6,2,  2250.9,2,   7.7655,2,    25.00,-999.000,9,-999.0000,9, -999.00,9,  12.0134,    0.18,2,    36.1,2,     2.1,-999.000,9,-999.000,  -999.0,9, -999.00,9,     16.725,3, -999.00,9,-999.000,-999.0000, -999.00,     -999.0,     -999.0,9,     -999.0,     -999.0,9,     -999.0,  -999.0,9,     -999.0,     -999.0,9,     -999.0,  11.9748,    34.2556,2,-999.0000,9,     -999.0,9
33RO20150410,     P16N.1,     110,          1,         17,         17,2,20150511,       0321,    21.5001,  -152.0001,       5581,   327.0,   9.2274,  34.0456,2,  34.0455,2,    169.0,2,   170.4,2,   24.20,2,   20.10,2,    0.00,2,    1.50,2,   3.295,2,   1.797,2,   1.231,2,  2142.9,2,  2260.7,2,   7.6504,2,    24.96,-999.000,9,-999.0000,9, -999.00,9,   9.2220,   -0.06,2,    18.8,2,     3.1,-999.000,9,-999.000,  -999.0,9, -999.00,9,     22.377,3, -999.00,9,-999.000,-999.0000, -999.00,     -999.0,     -999.0,9,     -999.0,     -999.0,9,     -999.0,  -999.0,9,     -999.0,     -999.0,9,     -999.0,   9.1915,    34.2060,2,-999.0000,9,     -999.0,9
33RO20150410,     P16N.1,     110,          1,         16,         16,2,20150511,       0321,    21.5001,  -152.0001,       5581,   432.1,   6.8084,  34.0359,2,  34.0359,2,     98.6,2,    97.5,2,   42.40,2,   31.80,2,    0.00,2,    2.31,2,   2.237,2,   1.125,2,   0.506,2,  2228.5,2,  2281.7,2,   7.4570,2,    24.97,-999.000,9,-999.0000,9, -999.00,9,   6.8091,   -0.49,2,   -40.0,2,     2.0,-999.000,9,-999.000,  -999.0,9, -999.00,9,     31.091,3, -999.00,9,-999.000,-999.0000, -999.00,     -999.0,     -999.0,9,     -999.0,     -999.0,9,     -999.0,  -999.0,9,     -999.0,     -999.0,9,     -999.0,   6.7685,    34.1964,2,-999.0000,9,     -999.0,9
33RO20150410,     P16N.1,     110,          1,         15,         15,2,20150511,       0321,    21.5001,  -152.0001,       5581,   549.3,   5.2872,  34.1941,2,  34.1951,2,     31.4,2,    31.5,2,   80.70,2,   39.90,2,    0.00,2,    2.95,2,   0.400,2,   0.201,2,   0.075,2,  2302.7,2,  2317.6,2,   7.3264,2,    24.97,-999.000,9,-999.0000,9, -999.00,9,   5.2894,   -0.58,2,  -129.2,2,     2.5,-999.000,9,-999.000,  -999.0,9, -999.00,9,     44.454,3, -999.00,9,-999.000,-999.0000, -999.00,     -999.0,     -999.0,9,     -999.0,     -999.0,9,     -999.0,  -999.0,9,     -999.0,     -999.0,9,     -999.0,   5.2423,    34.3563,2,-999.0000,9,     -999.0,9
33RO20150410,     P16N.1,     110,          1,         14,         14,2,20150511,       0321,    21.5001,  -152.0001,       5581,   700.0,   4.8097,  34.3941,2,  34.3950,2,     28.9,2,    28.5,2,   92.50,2,   41.50,2,    0.00,2,    3.05,2,   0.081,6,   0.036,6,   0.042,3,  2324.6,2,  2345.4,2,   7.3500,6,    25.00,-999.000,9,-999.0000,9, -999.00,9,   4.8126,   -0.52,2,  -178.8,2,     2.2,-999.000,9,-999.000,  -999.0,9, -999.00,9,     46.215,3, -999.00,9,-999.000,-999.0000, -999.00,     -999.0,     -999.0,9,     -999.0,     -999.0,9,     -999.0,  -999.0,9,     -999.0,     -999.0,9,     -999.0,   4.7540,    34.5572,2,-999.0000,9,     -999.0,9
33RO20150410,     P16N.1,     110,          1,         13,         13,2,20150511,       0321,    21.5001,  -152.0001,       5581,   845.6,   4.3170,  34.4756,2,  34.4765,2,     37.2,2,    37.0,2,  101.50,2,   41.80,2,    0.00,2,    3.05,2,   0.020,2,   0.012,2,   0.036,3,  2333.5,2,  2363.0,2,   7.3715,2,    24.96,-999.000,9,-999.0000,9, -999.00,9,   4.3167,   -0.42,2,  -195.7,2,     1.7,-999.000,9,-999.000,  -999.0,9, -999.00,9,     43.989,3, -999.00,9,-999.000,-999.0000, -999.00,     -999.0,     -999.0,9,     -999.0,     -999.0,9,     -999.0,  -999.0,9,     -999.0,     -999.0,9,     -999.0,   4.2520,    34.6391,6,-999.0000,9,     -999.0,9
33RO20150410,     P16N.1,     110,          1,         12,         12,2,20150511,       0321,    21.5001,  -152.0001,       5581,   999.2,   3.9250,  34.5137,2,  34.5135,2,     41.4,2,    44.0,2,  109.80,2,   42.10,2,    0.00,2,    3.06,2,   0.008,2,   0.005,2,   0.045,3,  2340.3,2,  2373.6,2,   7.3811,2,    24.96,-999.000,9,-999.0000,9, -999.00,9,   3.9254,   -0.38,2,  -206.0,2,     2.4,-999.000,9,-999.000,  -999.0,9, -999.00,9,     41.958,3, -999.00,9,-999.000,-999.0000, -999.00,     -999.0,     -999.0,9,     -999.0,     -999.0,9,     -999.0,  -999.0,9,     -999.0,     -999.0,9,     -999.0,   3.8500,    34.6762,2,-999.0000,9,     -999.0,9
33RO20150410,     P16N.1,     110,          1,         11,         11,2,20150511,       0321,    21.5001,  -152.0001,       5581,  1168.0,   3.4950,  34.5406,2,  34.5396,2,     49.6,2,    49.0,2,  118.10,2,   41.90,2,    0.00,2,    3.03,2,-999.000,9,-999.000,9,-999.000,9,  2346.6,2,  2385.1,2,   7.3945,2,    24.97,-999.000,9,-999.0000,9, -999.00,9,   3.4956,   -0.39,2,  -220.2,2,     1.6,-999.000,9,-999.000,  -999.0,9, -999.00,9,     -999.0,9, -999.00,9,-999.000,-999.0000, -999.00,     -999.0,     -999.0,9,     -999.0,     -999.0,9,     -999.0,  -999.0,9,     -999.0,     -999.0,9,     -999.0,   3.4096,    34.7025,2,-999.0000,9,     -999.0,9
33RO20150410,     P16N.1,     110,          1,         10,         10,2,20150511,       0321,    21.5001,  -152.0001,       5581,  1399.9,   3.0266,  34.5676,2,  34.5679,2,     59.5,2,    59.8,2,  128.50,2,   41.30,2,    0.00,2,    2.98,2,   0.001,2,   0.004,2,       0,2,  2355.0,2,  2395.7,2,   7.4130,2,    25.00,-999.000,9,-999.0000,9, -999.00,9,   3.0274,   -0.35,2,  -231.6,2,     1.9,-999.000,9,-999.000,  -999.0,9, -999.00,9,     36.308,3, -999.00,9,-999.000,-999.0000, -999.00,     -999.0,     -999.0,9,     -999.0,     -999.0,9,     -999.0,  -999.0,9,     -999.0,     -999.0,9,     -999.0,   2.9268,    34.7309,2,-999.0000,9,     -999.0,9
33RO20150410,     P16N.1,     110,          1,          9,          9,2,20150511,       0321,    21.5001,  -152.0001,       5581,  1733.2,   2.4024,  34.6050,2,  34.6054,2,     77.1,2,    77.5,2,  141.70,2,   40.40,2,    0.00,2,    2.88,2,-999.000,9,-999.000,9,-999.000,9,  2354.8,6,  2410.5,2,   7.4471,6,    25.03,-999.000,9,-999.0000,9, -999.00,9,   2.4037,   -0.33,2,  -246.4,2,     1.5,-999.000,9,-999.000,  -999.0,9, -999.00,9,     -999.0,9, -999.00,9,-999.000,-999.0000, -999.00,     -999.0,     -999.0,9,     -999.0,     -999.0,9,     -999.0,  -999.0,9,     -999.0,     -999.0,9,     -999.0,   2.2825,    34.7686,2,-999.0000,9,     -999.0,9
33RO20150410,     P16N.1,     110,          1,          8,          8,2,20150511,       0321,    21.5001,  -152.0001,       5581,  2160.6,   1.9480,  34.6366,2,  34.6367,2,     96.4,2,    97.1,2,  150.70,2,   39.20,2,    0.00,2,    2.76,2,-999.000,9,-999.000,9,-999.000,9,  2353.1,6,  2420.8,2,   7.4839,2,    24.99,-999.000,9,-999.0000,9, -999.00,9,   1.9475,   -0.28,2,  -251.3,2,     1.5,-999.000,9,-999.000,  -999.0,9, -999.00,9,     -999.0,9, -999.00,9,-999.000,-999.0000, -999.00,     -999.0,     -999.0,9,     -999.0,     -999.0,9,     -999.0,  -999.0,9,     -999.0,     -999.0,9,     -999.0,   1.7987,    34.8000,2,-999.0000,9,     -999.0,9
33RO20150410,     P16N.1,     110,          1,          7,          7,2,20150511,       0321,    21.5001,  -152.0001,       5581,  2666.9,   1.6969,  34.6585,2,  34.6590,2,    111.6,2,   113.4,2,  153.80,2,   38.10,2,    0.00,2,    2.67,2,-999.000,9,-999.000,9,-999.000,9,  2345.8,2,  2426.3,2,   7.5149,6,    25.02,-999.000,9,-999.0000,9, -999.00,9,   1.6970,   -0.25,2,  -248.2,2,     1.7,-999.000,9,-999.000,  -999.0,9, -999.00,9,     -999.0,9, -999.00,9,-999.000,-999.0000, -999.00,     -999.0,     -999.0,9,     -999.0,     -999.0,9,     -999.0,  -999.0,9,     -999.0,     -999.0,9,     -999.0,   1.5071,    34.8225,6,-999.0000,9,     -999.0,9
33RO20150410,     P16N.1,     110,          1,          6,          6,2,20150511,       0321,    21.5001,  -152.0001,       5581,  3167.9,   1.5510,  34.6713,2,  34.6731,2,    125.0,2,   138.5,4,  156.20,2,   37.60,2,    0.00,2,    2.58,2,-999.000,9,-999.000,9,-999.000,9,  2342.1,2,  2428.8,2,   7.5359,2,    25.02,-999.000,9,-999.0000,9, -999.00,9,   1.5509,   -0.04,2,  -239.0,2,     1.6,-999.000,9,-999.000,  -999.0,9, -999.00,9,     -999.0,9, -999.00,9,-999.000,-999.0000, -999.00,     -999.0,     -999.0,9,     -999.0,     -999.0,9,     -999.0,  -999.0,9,     -999.0,     -999.0,9,     -999.0,   1.3168,    34.8366,2,-999.0000,9,     -999.0,9
33RO20150410,     P16N.1,     110,          1,          5,          5,2,20150511,       0321,    21.5001,  -152.0001,       5581,  3667.2,   1.4816,  34.6810,2,  34.6815,2,    137.4,2,   125.7,4,  154.00,2,   36.60,2,    0.00,2,    2.51,2,-999.000,9,-999.000,9,-999.000,9,  2331.0,2,  2427.3,2,   7.5573,2,    25.02,-999.000,9,-999.0000,9, -999.00,9,   1.4816,    0.02,2,  -230.9,2,     1.7,-999.000,9,-999.000,  -999.0,9, -999.00,9,     -999.0,9, -999.00,9,-999.000,-999.0000, -999.00,     -999.0,     -999.0,9,     -999.0,     -999.0,9,     -999.0,  -999.0,9,     -999.0,     -999.0,9,     -999.0,   1.1986,    34.8451,2,-999.0000,9,     -999.0,9
33RO20150410,     P16N.1,     110,          1,          4,          4,2,20150511,       0321,    21.5001,  -152.0001,       5581,  4167.4,   1.4613,  34.6870,2,  34.6865,2,    147.9,2,  -999.0,9,  147.90,6,   35.80,6,    0.00,6,    2.48,6,-999.000,9,-999.000,9,-999.000,9,  2322.5,2,  2422.2,2,   7.5722,2,    25.04,-999.000,9,-999.0000,9, -999.00,9,   1.4614,    0.11,2,  -222.1,2,     1.8,-999.000,9,-999.000,  -999.0,9, -999.00,9,     -999.0,9, -999.00,9,-999.000,-999.0000, -999.00,     -999.0,     -999.0,9,     -999.0,     -999.0,9,     -999.0,  -999.0,9,     -999.0,     -999.0,9,     -999.0,   1.1250,    34.8501,2,-999.0000,9,     -999.0,9
33RO20150410,     P16N.1,     110,          1,          3,          3,2,20150511,       0321,    21.5001,  -152.0001,       5581,  4667.7,   1.4642,  34.6916,2,  34.6908,2,    157.3,2,   151.8,4,  141.60,6,   35.20,6,    0.00,6,    2.45,6,-999.000,9,-999.000,9,-999.000,9,  2314.5,2,  2418.5,2,   7.5834,6,    25.03,-999.000,9,-999.0000,9, -999.00,9,   1.4644,    0.14,2,  -216.0,2,     1.6,-999.000,9,-999.000,  -999.0,9, -999.00,9,     -999.0,9, -999.00,9,-999.000,-999.0000, -999.00,     -999.0,     -999.0,9,     -999.0,     -999.0,9,     -999.0,  -999.0,9,     -999.0,     -999.0,9,     -999.0,   1.0707,    34.8544,2,-999.0000,9,     -999.0,9
33RO20150410,     P16N.1,     110,          1,          2,          2,2,20150511,       0321,    21.5001,  -152.0001,       5581,  5166.5,   1.4932,  34.6942,2,  34.6941,2,    162.7,2,   162.5,2,  138.50,6,   35.00,6,    0.00,6,    2.41,6,-999.000,9,-999.000,9,-999.000,9,  2308.1,2,  2413.9,6,   7.5883,2,    25.04,-999.000,9,-999.0000,9, -999.00,9,   1.4935,    0.20,2,  -209.2,2,     1.7,-999.000,9,-999.000,  -999.0,9, -999.00,9,     -999.0,9, -999.00,9,-999.000,-999.0000, -999.00,     -999.0,     -999.0,9,     -999.0,     -999.0,9,     -999.0,  -999.0,9,     -999.0,     -999.0,9,     -999.0,   1.0386,    34.8577,2,-999.0000,9,     -999.0,9
33RO20150410,     P16N.1,     110,          1,          1,          1,2,20150511,       0321,    21.5001,  -152.0001,       5581,  5570.8,   1.5352,  34.6950,2,  34.6952,2,    165.3,2,   162.9,2,  137.10,6,   34.80,6,    0.00,6,    2.40,6,-999.000,9,-999.000,9,-999.000,9,  2307.9,6,  2411.2,2,   7.5900,2,    25.03,-999.000,9,-999.0000,9, -999.00,9,   1.5354,    0.17,2,  -206.9,2,     2.3,-999.000,9,-999.000,  -999.0,9, -999.00,9,     -999.0,9, -999.00,9,-999.000,-999.0000, -999.00,     -999.0,     -999.0,9,     -999.0,     -999.0,9,     -999.0,  -999.0,9,     -999.0,     -999.0,9,     -999.0,   1.0281,    34.8588,2,-999.0000,9,     -999.0,9