BOTTLE,20210709CCHSIOCBG
EXPOCODE,SECT_ID,STNNBR,CASTNO,SAMPNO,BTLNBR,BTLNBR_FLAG_W,DATE,TIME,LATITUDE,LONGITUDE,DEPTH,CTDPRS,CTDTMP,CTDSAL,CTDSAL_FLAG_W,SALNTY,SALNTY_FLAG_W,CTDOXY,CTDOXY_FLAG_W,OXYGEN,OXYGEN_FLAG_W,SILCAT,SILCAT_FLAG_W,NITRAT,NITRAT_FLAG_W,NITRIT,NITRIT_FLAG_W,PHSPHT,PHSPHT_FLAG_W,CFC-11,CFC-11_FLAG_W,CFC-12,CFC-12_FLAG_W,SF6,SF6_FLAG_W,TCARBN,TCARBN_FLAG_W,ALKALI,ALKALI_FLAG_W,PH_TOT,PH_TOT_FLAG_W,PH_TMP,TRITUM,TRITUM_FLAG_W,HELIUM,HELIUM_FLAG_W,DELHE3,DELHE3_FLAG_W,REFTMP,DELC13,DELC13_FLAG_W,DELC14,DELC14_FLAG_W,C14ERR,NEON,NEON_FLAG_W,NEONER,DOC,DOC_FLAG_W,TDN,TDN_FLAG_W,N2O,N2O_FLAG_W,ARGON,ARGON_FLAG_W,TRITER,HELIER,DELHER,ARGONER,KRYPTON,KRYPTON_FLAG_W,KRYPTONER,XENON,XENON_FLAG_W,XENONER,14C-DOC,14C-DOC_FLAG_W,14C-DOCERR,13C-DOC,13C-DOC_FLAG_W,13C-DOCERR,THETA,SALTREF,SALTREF_FLAG_W,SBE35,SBE35_FLAG_W,CHLORA,CHLORA_FLAG_W
,,,,,,,,,,,METERS,DBAR,ITS-90,PSS-78,,PSS-78,,UMOL/KG,,UMOL/KG,,UMOL/KG,,UMOL/KG,,UMOL/KG,,UMOL/KG,,PMOL/KG,,PMOL/KG,,FMOL/KG,,UMOL/KG,,UMOL/KG,,,,DEG C,TU,,NMOL/KG,,PERCNT,,DEG C,/MILLE,,/MILLE,,/MILLE,NMOL/KG,,NMOL/KG,UMOL/KG,,UMOL/KG,,NMOL/KG,,UMOL/KG,,TU,NMOL/KG,PERCNT,UMOL/KG,NMOL/KG,,NMOL/KG,NMOL/KG,,NMOL/KG,/MILLE,,/MILLE,/MILLE,,/MILLE,DEG C,G/KG,,ITS-90,,MG/M3,
33RO20150410,     P16N.1,      61,          1,         24,         24,2,20150427,       0309,     1.5616,  -151.0003,       4473,     5.3,  28.7003,  35.1741,2,  35.1807,2,    195.9,2,   197.4,2,    2.00,2,    3.10,2,    0.26,2,    0.50,2,-999.000,9,-999.000,9,-999.000,9,  2010.1,6,  2312.6,6,   8.0363,2,    25.00,-999.000,9,-999.0000,9, -999.00,9,  28.7004, -999.00,9,  -999.0,9,  -999.0,-999.000,9,-999.000,  -999.0,9, -999.00,9,     -999.0,9, -999.00,9,-999.000,-999.0000, -999.00,     -999.0,     -999.0,9,     -999.0,     -999.0,9,     -999.0,  -999.0,9,     -999.0,     -999.0,9,     -999.0,  28.6990,    35.3466,2,-999.0000,2,     -999.0,9
33RO20150410,     P16N.1,      61,          1,         23,         23,2,20150427,       0309,     1.5616,  -151.0003,       4473,    20.2,  28.5646,  35.1644,2,  35.1630,2,    196.8,2,   197.2,2,    2.00,2,    3.10,2,    0.26,2,    0.49,2,-999.000,9,-999.000,9,-999.000,9,  -999.0,9,  -999.0,9,-999.0000,9,  -999.00,-999.000,9,-999.0000,9, -999.00,9,  28.5645, -999.00,9,  -999.0,9,  -999.0,-999.000,9,-999.000,  -999.0,9, -999.00,9,     -999.0,9, -999.00,9,-999.000,-999.0000, -999.00,     -999.0,     -999.0,9,     -999.0,     -999.0,9,     -999.0,  -999.0,9,     -999.0,     -999.0,9,     -999.0,  28.5598,    35.3288,2,-999.0000,2,     -999.0,9
33RO20150410,     P16N.1,      61,          1,         22,         22,2,20150427,       0309,     1.5616,  -151.0003,       4473,    41.5,  28.4167,  35.1398,2,  35.1390,2,    196.5,2,   196.1,2,    2.00,2,    3.10,2,    0.32,2,    0.48,2,-999.000,9,-999.000,9,-999.000,9,  -999.0,9,  -999.0,9,-999.0000,9,  -999.00,-999.000,9,-999.0000,9, -999.00,9,  28.4145, -999.00,9,  -999.0,9,  -999.0,-999.000,9,-999.000,  -999.0,9, -999.00,9,     -999.0,9, -999.00,9,-999.000,-999.0000, -999.00,     -999.0,     -999.0,9,     -999.0,     -999.0,9,     -999.0,  -999.0,9,     -999.0,     -999.0,9,     -999.0,  28.4068,    35.3046,6,-999.0000,2,     -999.0,9
33RO20150410,     P16N.1,      61,          1,         21,         21,2,20150427,       0309,     1.5616,  -151.0003,       4473,    67.1,  28.0553,  35.0681,2,  35.0665,2,    189.8,2,   187.4,2,    2.10,2,    3.00,2,    0.58,2,    0.50,2,-999.000,9,-999.000,9,-999.000,9,  -999.0,9,  -999.0,9,-999.0000,9,  -999.00,-999.000,9,-999.0000,9, -999.00,9,  28.0589, -999.00,9,  -999.0,9,  -999.0,-999.000,9,-999.000,  -999.0,9, -999.00,9,     -999.0,9, -999.00,9,-999.000,-999.0000, -999.00,     -999.0,     -999.0,9,     -999.0,     -999.0,9,     -999.0,  -999.0,9,     -999.0,     -999.0,9,     -999.0,  28.0395,    35.2319,2,-999.0000,2,     -999.0,9
33RO20150410,     P16N.1,      61,          1,         20,         20,2,20150427,       0309,     1.5616,  -151.0003,       4473,    91.7,  26.9819,  35.0076,2,  35.0130,2,    161.7,2,   161.9,2,    2.60,2,    4.50,2,    0.44,2,    0.55,2,-999.000,9,-999.000,9,-999.000,9,  -999.0,9,  -999.0,9,-999.0000,9,  -999.00,-999.000,9,-999.0000,9, -999.00,9,  26.9870, -999.00,9,  -999.0,9,  -999.0,-999.000,9,-999.000,  -999.0,9, -999.00,9,     -999.0,9, -999.00,9,-999.000,-999.0000, -999.00,     -999.0,     -999.0,9,     -999.0,     -999.0,9,     -999.0,  -999.0,9,     -999.0,     -999.0,9,     -999.0,  26.9609,    35.1781,2,-999.0000,2,     -999.0,9
33RO20150410,     P16N.1,      61,          1,         19,         19,2,20150427,       0309,     1.5616,  -151.0003,       4473,   117.7,  24.3068,  34.9917,2,  35.0010,2,    139.5,2,   141.2,2,    4.40,2,    8.30,2,    0.05,2,    0.77,2,-999.000,9,-999.000,9,-999.000,9,  -999.0,9,  -999.0,9,-999.0000,9,  -999.00,-999.000,9,-999.0000,9, -999.00,9,  24.3078, -999.00,9,  -999.0,9,  -999.0,-999.000,9,-999.000,  -999.0,9, -999.00,9,     -999.0,9, -999.00,9,-999.000,-999.0000, -999.00,     -999.0,     -999.0,9,     -999.0,     -999.0,9,     -999.0,  -999.0,9,     -999.0,     -999.0,9,     -999.0,  24.2818,    35.1660,2,-999.0000,2,     -999.0,9
33RO20150410,     P16N.1,      61,          1,         18,         18,2,20150427,       0309,     1.5616,  -151.0003,       4473,   157.9,  13.9351,  34.6721,2,  34.6729,2,    113.6,2,   113.9,2,   18.90,2,   19.50,2,    0.01,2,    1.48,2,-999.000,9,-999.000,9,-999.000,9,  -999.0,9,  -999.0,9,-999.0000,9,  -999.00,-999.000,9,-999.0000,9, -999.00,9,  13.9268, -999.00,9,  -999.0,9,  -999.0,-999.000,9,-999.000,  -999.0,9, -999.00,9,     -999.0,9, -999.00,9,-999.000,-999.0000, -999.00,     -999.0,     -999.0,9,     -999.0,     -999.0,9,     -999.0,  -999.0,9,     -999.0,     -999.0,9,     -999.0,  13.9124,    34.8364,2,-999.0000,2,     -999.0,9
33RO20150410,     P16N.1,      61,          1,         17,         17,2,20150427,       0309,     1.5616,  -151.0003,       4473,   225.0,  11.7731,  34.8291,2,  34.8298,2,     69.5,2,    65.2,2,   23.10,2,   28.20,2,    0.00,2,    2.04,2,-999.000,9,-999.000,9,-999.000,9,  -999.0,9,  -999.0,9,-999.0000,9,  -999.00,-999.000,9,-999.0000,9, -999.00,9,  11.7720, -999.00,9,  -999.0,9,  -999.0,-999.000,9,-999.000,  -999.0,9, -999.00,9,     -999.0,9, -999.00,9,-999.000,-999.0000, -999.00,     -999.0,     -999.0,9,     -999.0,     -999.0,9,     -999.0,  -999.0,9,     -999.0,     -999.0,9,     -999.0,  11.7441,    34.9940,2,-999.0000,2,     -999.0,9
33RO20150410,     P16N.1,      61,          1,         16,         16,2,20150427,       0309,     1.5616,  -151.0003,       4473,   300.0,  11.1657,  34.7952,2,  34.7948,2,     40.9,2,    40.4,2,   26.50,2,   31.60,2,    0.01,2,    2.25,2,-999.000,9,-999.000,9,-999.000,9,  -999.0,9,  -999.0,9,-999.0000,9,  -999.00,-999.000,9,-999.0000,9, -999.00,9,  11.1652, -999.00,9,  -999.0,9,  -999.0,-999.000,9,-999.000,  -999.0,9, -999.00,9,     -999.0,9, -999.00,9,-999.000,-999.0000, -999.00,     -999.0,     -999.0,9,     -999.0,     -999.0,9,     -999.0,  -999.0,9,     -999.0,     -999.0,9,     -999.0,  11.1283,    34.9589,2,-999.0000,2,     -999.0,9
33RO20150410,     P16N.1,      61,          1,         15,         15,2,20150427,       0309,     1.5616,  -151.0003,       4473,   373.0,  10.1094,  34.7136,2,  34.7138,2,     64.2,2,    60.5,2,   28.80,2,   31.80,2,    0.01,2,    2.24,2,-999.000,9,-999.000,9,-999.000,9,  -999.0,9,  -999.0,9,-999.0000,9,  -999.00,-999.000,9,-999.0000,9, -999.00,9,  10.1190, -999.00,9,  -999.0,9,  -999.0,-999.000,9,-999.000,  -999.0,9, -999.00,9,     -999.0,9, -999.00,9,-999.000,-999.0000, -999.00,     -999.0,     -999.0,9,     -999.0,     -999.0,9,     -999.0,  -999.0,9,     -999.0,     -999.0,9,     -999.0,  10.0656,    34.8775,2,-999.0000,2,     -999.0,9
33RO20150410,     P16N.1,      61,          1,         14,         14,2,20150427,       0309,     1.5616,  -151.0003,       4473,   467.3,   8.0409,  34.6182,2,  34.6175,2,     38.6,2,    39.9,2,   41.00,2,   38.10,2,    0.01,2,    2.69,2,-999.000,9,-999.000,9,-999.000,9,  -999.0,9,  -999.0,9,-999.0000,9,  -999.00,-999.000,9,-999.0000,9, -999.00,9,   8.0442, -999.00,9,  -999.0,9,  -999.0,-999.000,9,-999.000,  -999.0,9, -999.00,9,     -999.0,9, -999.00,9,-999.000,-999.0000, -999.00,     -999.0,     -999.0,9,     -999.0,     -999.0,9,     -999.0,  -999.0,9,     -999.0,     -999.0,9,     -999.0,   7.9929,    34.7808,2,-999.0000,2,     -999.0,9
33RO20150410,     P16N.1,      61,          1,         13,         13,2,20150427,       0309,     1.5616,  -151.0003,       4473,   599.5,   6.3878,  34.5562,2,  34.5562,2,     65.2,2,    66.7,2,   53.50,2,   38.70,2,    0.00,2,    2.76,2,-999.000,9,-999.000,9,-999.000,9,  -999.0,9,  -999.0,9,-999.0000,9,  -999.00,-999.000,9,-999.0000,9, -999.00,9,   6.3796, -999.00,9,  -999.0,9,  -999.0,-999.000,9,-999.000,  -999.0,9, -999.00,9,     -999.0,9, -999.00,9,-999.000,-999.0000, -999.00,     -999.0,     -999.0,9,     -999.0,     -999.0,9,     -999.0,  -999.0,9,     -999.0,     -999.0,9,     -999.0,   6.3332,    34.7192,2,-999.0000,2,     -999.0,9
33RO20150410,     P16N.1,      61,          1,         12,         12,2,20150427,       0309,     1.5616,  -151.0003,       4473,   749.4,   5.6894,  34.5453,2,  34.5454,2,     74.9,2,    74.8,2,   62.30,2,   38.70,2,    0.00,2,    2.79,2,-999.000,9,-999.000,9,-999.000,9,  -999.0,9,  -999.0,9,-999.0000,9,  -999.00,-999.000,9,-999.0000,9, -999.00,9,   5.6926, -999.00,9,  -999.0,9,  -999.0,-999.000,9,-999.000,  -999.0,9, -999.00,9,     -999.0,9, -999.00,9,-999.000,-999.0000, -999.00,     -999.0,     -999.0,9,     -999.0,     -999.0,9,     -999.0,  -999.0,9,     -999.0,     -999.0,9,     -999.0,   5.6243,    34.7083,2,-999.0000,2,     -999.0,9
33RO20150410,     P16N.1,      61,          1,         11,         11,2,20150427,       0309,     1.5616,  -151.0003,       4473,   900.2,   4.9491,  34.5479,2,  34.5483,2,     79.7,2,    79.8,2,   75.50,2,   39.30,2,    0.00,2,    2.80,2,-999.000,9,-999.000,9,-999.000,9,  -999.0,9,  -999.0,9,-999.0000,9,  -999.00,-999.000,9,-999.0000,9, -999.00,9,   4.9503, -999.00,9,  -999.0,9,  -999.0,-999.000,9,-999.000,  -999.0,9, -999.00,9,     -999.0,9, -999.00,9,-999.000,-999.0000, -999.00,     -999.0,     -999.0,9,     -999.0,     -999.0,9,     -999.0,  -999.0,9,     -999.0,     -999.0,9,     -999.0,   4.8750,    34.7112,2,-999.0000,2,     -999.0,9
33RO20150410,     P16N.1,      61,          1,         10,         10,2,20150427,       0309,     1.5616,  -151.0003,       4473,  1049.9,   4.2423,  34.5626,2,  34.5631,2,     80.5,2,    80.6,2,   89.80,2,   40.00,2,    0.00,2,    2.85,2,-999.000,9,-999.000,9,-999.000,9,  -999.0,9,  -999.0,9,-999.0000,9,  -999.00,-999.000,9,-999.0000,9, -999.00,9,   4.2417, -999.00,9,  -999.0,9,  -999.0,-999.000,9,-999.000,  -999.0,9, -999.00,9,     -999.0,9, -999.00,9,-999.000,-999.0000, -999.00,     -999.0,     -999.0,9,     -999.0,     -999.0,9,     -999.0,  -999.0,9,     -999.0,     -999.0,9,     -999.0,   4.1604,    34.7261,2,-999.0000,2,     -999.0,9
33RO20150410,     P16N.1,      61,          1,          9,          9,2,20150427,       0309,     1.5616,  -151.0003,       4473,  1233.6,   3.9142,  34.5724,2,  34.5723,2,     81.8,2,    81.5,2,   97.70,2,   39.90,2,    0.00,2,    2.88,2,-999.000,9,-999.000,9,-999.000,9,  -999.0,9,  -999.0,9,-999.0000,9,  -999.00,-999.000,9,-999.0000,9, -999.00,9,   3.9160, -999.00,9,  -999.0,9,  -999.0,-999.000,9,-999.000,  -999.0,9, -999.00,9,     -999.0,9, -999.00,9,-999.000,-999.0000, -999.00,     -999.0,     -999.0,9,     -999.0,     -999.0,9,     -999.0,  -999.0,9,     -999.0,     -999.0,9,     -999.0,   3.8194,    34.7354,2,-999.0000,2,     -999.0,9
33RO20150410,     P16N.1,      61,          1,          8,          8,2,20150427,       0309,     1.5616,  -151.0003,       4473,  1499.8,   3.1033,  34.6045,2,  34.6055,2,     82.6,2,    82.1,2,  118.80,2,   40.50,2,    0.01,2,    2.89,2,-999.000,9,-999.000,9,-999.000,9,  -999.0,9,  -999.0,9,-999.0000,9,  -999.00,-999.000,9,-999.0000,9, -999.00,9,   3.1020, -999.00,9,  -999.0,9,  -999.0,-999.000,9,-999.000,  -999.0,9, -999.00,9,     -999.0,9, -999.00,9,-999.000,-999.0000, -999.00,     -999.0,     -999.0,9,     -999.0,     -999.0,9,     -999.0,  -999.0,9,     -999.0,     -999.0,9,     -999.0,   2.9942,    34.7687,2,-999.0000,2,     -999.0,9
33RO20150410,     P16N.1,      61,          1,          7,          7,2,20150427,       0309,     1.5616,  -151.0003,       4473,  1867.1,   2.4073,  34.6350,2,  34.6356,2,    100.5,2,   100.5,2,  133.40,2,   39.30,2,    0.01,2,    2.78,2,-999.000,9,-999.000,9,-999.000,9,  -999.0,9,  -999.0,9,-999.0000,9,  -999.00,-999.000,9,-999.0000,9, -999.00,9,   2.4067, -999.00,9,  -999.0,9,  -999.0,-999.000,9,-999.000,  -999.0,9, -999.00,9,     -999.0,9, -999.00,9,-999.000,-999.0000, -999.00,     -999.0,     -999.0,9,     -999.0,     -999.0,9,     -999.0,  -999.0,9,     -999.0,     -999.0,9,     -999.0,   2.2760,    34.7989,2,-999.0000,2,     -999.0,9
33RO20150410,     P16N.1,      61,          1,          6,          6,2,20150427,       0309,     1.5616,  -151.0003,       4473,  2264.2,   2.0825,  34.6521,2,  34.6519,2,    110.4,2,   110.7,2,  140.40,2,   38.70,2,    0.01,2,    2.73,2,-999.000,9,-999.000,9,-999.000,9,  -999.0,9,  -999.0,9,-999.0000,9,  -999.00,-999.000,9,-999.0000,9, -999.00,9,   2.0820, -999.00,9,  -999.0,9,  -999.0,-999.000,9,-999.000,  -999.0,9, -999.00,9,     -999.0,9, -999.00,9,-999.000,-999.0000, -999.00,     -999.0,     -999.0,9,     -999.0,     -999.0,9,     -999.0,  -999.0,9,     -999.0,     -999.0,9,     -999.0,   1.9219,    34.8153,2,-999.0000,2,     -999.0,9
33RO20150410,     P16N.1,      61,          1,          5,          5,2,20150427,       0309,     1.5616,  -151.0003,       4473,  2666.3,   1.7931,  34.6685,2,  34.6682,2,    124.6,2,   124.4,2,  144.40,2,   37.90,2,    0.00,2,    2.65,2,-999.000,9,-999.000,9,-999.000,9,  -999.0,9,  -999.0,9,-999.0000,9,  -999.00,-999.000,9,-999.0000,9, -999.00,9,   1.7926, -999.00,9,  -999.0,9,  -999.0,-999.000,9,-999.000,  -999.0,9, -999.00,9,     -999.0,9, -999.00,9,-999.000,-999.0000, -999.00,     -999.0,     -999.0,9,     -999.0,     -999.0,9,     -999.0,  -999.0,9,     -999.0,     -999.0,9,     -999.0,   1.6014,    34.8317,2,-999.0000,2,     -999.0,9
33RO20150410,     P16N.1,      61,          1,          4,          4,2,20150427,       0309,     1.5616,  -151.0003,       4473,  3067.6,   1.6748,  34.6752,2,  34.6751,2,    134.7,2,   133.6,2,  144.10,6,   37.10,6,    0.00,6,    2.61,6,-999.000,9,-999.000,9,-999.000,9,  -999.0,9,  -999.0,9,-999.0000,9,  -999.00,-999.000,9,-999.0000,9, -999.00,9,   1.6744, -999.00,9,  -999.0,9,  -999.0,-999.000,9,-999.000,  -999.0,9, -999.00,9,     -999.0,9, -999.00,9,-999.000,-999.0000, -999.00,     -999.0,     -999.0,9,     -999.0,     -999.0,9,     -999.0,  -999.0,9,     -999.0,     -999.0,9,     -999.0,   1.4476,    34.8386,6,-999.0000,2,     -999.0,9
33RO20150410,     P16N.1,      61,          1,          3,          3,2,20150427,       0309,     1.5616,  -151.0003,       4473,  3437.1,   1.5422,  34.6838,2,  34.6833,2,    144.9,2,   143.2,2,  143.70,6,   36.30,6,    0.00,6,    2.54,6,-999.000,9,-999.000,9,-999.000,9,  -999.0,9,  -999.0,9,-999.0000,9,  -999.00,-999.000,9,-999.0000,9, -999.00,9,   1.5416, -999.00,9,  -999.0,9,  -999.0,-999.000,9,-999.000,  -999.0,9, -999.00,9,     -999.0,9, -999.00,9,-999.000,-999.0000, -999.00,     -999.0,     -999.0,9,     -999.0,     -999.0,9,     -999.0,  -999.0,9,     -999.0,     -999.0,9,     -999.0,   1.2813,    34.8469,2,-999.0000,2,     -999.0,9
33RO20150410,     P16N.1,      61,          1,          2,          2,2,20150427,       0309,     1.5616,  -151.0003,       4473,  3867.0,   1.4204,  34.6931,2,  34.6928,2,    156.7,2,   156.9,2,  142.90,6,   35.70,6,    0.00,6,    2.46,6,-999.000,9,-999.000,9,-999.000,9,  -999.0,9,  -999.0,9,-999.0000,9,  -999.00,-999.000,9,-999.0000,9, -999.00,9,   1.4203, -999.00,9,  -999.0,9,  -999.0,-999.000,9,-999.000,  -999.0,9, -999.00,9,     -999.0,9, -999.00,9,-999.000,-999.0000, -999.00,     -999.0,     -999.0,9,     -999.0,     -999.0,9,     -999.0,  -999.0,9,     -999.0,     -999.0,9,     -999.0,   1.1179,    34.8563,2,-999.0000,2,     -999.0,9
33RO20150410,     P16N.1,      61,          1,          1,          1,2,20150427,       0309,     1.5616,  -151.0003,       4473,  4211.7,   1.3943,  34.6955,2,  34.6945,2,    163.2,2,   166.0,2,  139.30,6,   35.30,6,    0.01,6,    2.43,6,-999.000,9,-999.000,9,-999.000,9,  -999.0,9,  -999.0,9,-999.0000,9,  -999.00,-999.000,9,-999.0000,9, -999.00,9,   1.3937, -999.00,9,  -999.0,9,  -999.0,-999.000,9,-999.000,  -999.0,9, -999.00,9,     -999.0,9, -999.00,9,-999.000,-999.0000, -999.00,     -999.0,     -999.0,9,     -999.0,     -999.0,9,     -999.0,  -999.0,9,     -999.0,     -999.0,9,     -999.0,   1.0550,    34.8581,2,-999.0000,2,     -999.0,9