BOTTLE,20210709CCHSIOCBG
EXPOCODE,SECT_ID,STNNBR,CASTNO,SAMPNO,BTLNBR,BTLNBR_FLAG_W,DATE,TIME,LATITUDE,LONGITUDE,DEPTH,CTDPRS,CTDTMP,CTDSAL,CTDSAL_FLAG_W,SALNTY,SALNTY_FLAG_W,CTDOXY,CTDOXY_FLAG_W,OXYGEN,OXYGEN_FLAG_W,SILCAT,SILCAT_FLAG_W,NITRAT,NITRAT_FLAG_W,NITRIT,NITRIT_FLAG_W,PHSPHT,PHSPHT_FLAG_W,CFC-11,CFC-11_FLAG_W,CFC-12,CFC-12_FLAG_W,SF6,SF6_FLAG_W,TCARBN,TCARBN_FLAG_W,ALKALI,ALKALI_FLAG_W,PH_TOT,PH_TOT_FLAG_W,PH_TMP,TRITUM,TRITUM_FLAG_W,HELIUM,HELIUM_FLAG_W,DELHE3,DELHE3_FLAG_W,REFTMP,DELC13,DELC13_FLAG_W,DELC14,DELC14_FLAG_W,C14ERR,NEON,NEON_FLAG_W,NEONER,DOC,DOC_FLAG_W,TDN,TDN_FLAG_W,N2O,N2O_FLAG_W,ARGON,ARGON_FLAG_W,TRITER,HELIER,DELHER,ARGONER,KRYPTON,KRYPTON_FLAG_W,KRYPTONER,XENON,XENON_FLAG_W,XENONER,14C-DOC,14C-DOC_FLAG_W,14C-DOCERR,13C-DOC,13C-DOC_FLAG_W,13C-DOCERR,THETA,SALTREF,SALTREF_FLAG_W,SBE35,SBE35_FLAG_W,CHLORA,CHLORA_FLAG_W
,,,,,,,,,,,METERS,DBAR,ITS-90,PSS-78,,PSS-78,,UMOL/KG,,UMOL/KG,,UMOL/KG,,UMOL/KG,,UMOL/KG,,UMOL/KG,,PMOL/KG,,PMOL/KG,,FMOL/KG,,UMOL/KG,,UMOL/KG,,,,DEG C,TU,,NMOL/KG,,PERCNT,,DEG C,/MILLE,,/MILLE,,/MILLE,NMOL/KG,,NMOL/KG,UMOL/KG,,UMOL/KG,,NMOL/KG,,UMOL/KG,,TU,NMOL/KG,PERCNT,UMOL/KG,NMOL/KG,,NMOL/KG,NMOL/KG,,NMOL/KG,/MILLE,,/MILLE,/MILLE,,/MILLE,DEG C,G/KG,,ITS-90,,MG/M3,
33RO20150410,     P16N.1,      78,          1,         24,         24,2,20150501,       0851,     5.6696,  -150.9991,       5334,    15.1,  28.5870,  34.6394,2,  34.6405,2,    197.7,2,   197.5,2,    1.40,2,    0.60,2,    0.05,2,    0.25,2,   1.442,2,   0.935,2,    1.22,2,  1957.4,6,  2278.2,2,   8.0806,2,    24.99,-999.000,9,-999.0000,9, -999.00,9,  28.5880,    1.03,2,    45.0,2,     2.2,-999.000,9,-999.000,  -999.0,9, -999.00,9,      6.237,3, -999.00,9,-999.000,-999.0000, -999.00,     -999.0,     -999.0,9,     -999.0,     -999.0,9,     -999.0,  -999.0,9,     -999.0,     -999.0,9,     -999.0,  28.5834,    34.8038,2,-999.0000,2,     -999.0,9
33RO20150410,     P16N.1,      78,          1,         23,         23,2,20150501,       0851,     5.6696,  -150.9991,       5334,    33.0,  28.6011,  34.6752,2,  34.6758,2,    197.2,2,   197.0,2,    1.20,2,    0.60,2,    0.05,2,    0.26,2,-999.000,9,-999.000,9,-999.000,9,  1959.5,2,  2281.1,2,   8.0811,2,    25.00,-999.000,9,-999.0000,9, -999.00,9,  28.6007, -999.00,9,  -999.0,9,  -999.0,-999.000,9,-999.000,  -999.0,9, -999.00,9,     -999.0,9, -999.00,9,-999.000,-999.0000, -999.00,     -999.0,     -999.0,9,     -999.0,     -999.0,9,     -999.0,  -999.0,9,     -999.0,     -999.0,9,     -999.0,  28.5932,    34.8393,2,-999.0000,2,     -999.0,9
33RO20150410,     P16N.1,      78,          1,         22,         22,2,20150501,       0851,     5.6696,  -150.9991,       5334,    60.2,  28.6251,  34.7704,2,  34.7698,2,    195.6,2,   195.4,2,    1.30,2,    0.80,2,    0.07,2,    0.28,2,-999.000,9,-999.000,9,-999.000,9,  1970.4,2,  2286.4,2,   8.0754,6,    25.00,-999.000,9,-999.0000,9, -999.00,9,  28.6236,    1.04,2,    46.2,2,     2.2,-999.000,9,-999.000,  -999.0,9, -999.00,9,     -999.0,9, -999.00,9,-999.000,-999.0000, -999.00,     -999.0,     -999.0,9,     -999.0,     -999.0,9,     -999.0,  -999.0,9,     -999.0,     -999.0,9,     -999.0,  28.6107,    34.9337,2,-999.0000,2,     -999.0,9
33RO20150410,     P16N.1,      78,          1,         21,         21,2,20150501,       0851,     5.6696,  -150.9991,       5334,    81.9,  26.9814,  34.8731,2,  34.8794,2,    170.5,2,   171.0,2,    2.20,2,    2.10,2,    0.85,2,    0.41,2,   1.580,2,   1.003,2,   1.153,2,  2005.3,2,  2292.7,2,   8.0181,2,    25.01,-999.000,9,-999.0000,9, -999.00,9,  26.9938,    0.74,2,    44.4,2,     2.0,-999.000,9,-999.000,  -999.0,9, -999.00,9,      8.502,3, -999.00,9,-999.000,-999.0000, -999.00,     -999.0,     -999.0,9,     -999.0,     -999.0,9,     -999.0,  -999.0,9,     -999.0,     -999.0,9,     -999.0,  26.9626,    35.0439,2,-999.0000,2,     -999.0,9
33RO20150410,     P16N.1,      78,          1,         20,         20,2,20150501,       0851,     5.6696,  -150.9991,       5334,   117.2,  17.5443,  34.7011,2,  34.7091,2,    130.1,2,   129.5,2,    9.10,2,   12.20,2,    0.04,2,    0.99,2,   2.142,2,   1.265,2,   1.098,2,  2113.0,2,  2288.5,6,   7.7956,2,    24.99,-999.000,9,-999.0000,9, -999.00,9,  17.4955,    0.19,2,    32.2,2,     2.1,-999.000,9,-999.000,  -999.0,9, -999.00,9,     25.964,3, -999.00,9,-999.000,-999.0000, -999.00,     -999.0,     -999.0,9,     -999.0,     -999.0,9,     -999.0,  -999.0,9,     -999.0,     -999.0,9,     -999.0,  17.5246,    34.8727,2,-999.0000,2,     -999.0,9
33RO20150410,     P16N.1,      78,          1,         19,         19,2,20150501,       0851,     5.6696,  -150.9991,       5334,   174.0,  11.2828,  34.7314,2,  34.7278,2,      3.1,2,     4.8,2,   28.60,2,   33.80,2,    0.01,2,    2.49,2,   0.760,2,   0.411,2,   0.142,2,  2256.6,2,  2297.4,2,   7.4204,3,    24.99,-999.000,9,-999.0000,9, -999.00,9,  11.2940,   -0.24,6,   -25.1,6,     3.4,-999.000,9,-999.000,  -999.0,9, -999.00,9,     89.926,3, -999.00,9,-999.000,-999.0000, -999.00,     -999.0,     -999.0,9,     -999.0,     -999.0,9,     -999.0,  -999.0,9,     -999.0,     -999.0,9,     -999.0,  11.2611,    34.8915,2,-999.0000,2,     -999.0,9
33RO20150410,     P16N.1,      78,          1,         18,         18,2,20150501,       0851,     5.6696,  -150.9991,       5334,   250.9,   9.9582,  34.6876,2,  34.6867,2,     34.8,2,    31.1,2,   31.60,2,   34.10,2,    0.01,2,    2.40,2,   0.584,2,   0.310,2,   0.102,2,  2252.8,2,  2303.1,2,   7.4524,2,    25.00,-999.000,9,-999.0000,9, -999.00,9,   9.9661,   -0.05,2,   -46.3,2,     2.3,-999.000,9,-999.000,  -999.0,9, -999.00,9,     56.968,3, -999.00,9,-999.000,-999.0000, -999.00,     -999.0,     -999.0,9,     -999.0,     -999.0,9,     -999.0,  -999.0,9,     -999.0,     -999.0,9,     -999.0,   9.9292,    34.8503,2,-999.0000,2,     -999.0,9
33RO20150410,     P16N.1,      78,          1,         17,         17,2,20150501,       0851,     5.6696,  -150.9991,       5334,   333.1,   9.2931,  34.6610,2,  34.6612,2,     41.2,2,    39.3,2,   33.80,2,   34.80,2,    0.01,2,    2.45,2,   0.456,2,   0.245,2,   0.068,2,  2253.6,2,  2305.3,2,   7.4573,6,    25.00,-999.000,9,-999.0000,9, -999.00,9,   9.2943,    0.08,2,   -58.7,2,     1.9,-999.000,9,-999.000,  -999.0,9, -999.00,9,     51.434,3, -999.00,9,-999.000,-999.0000, -999.00,     -999.0,     -999.0,9,     -999.0,     -999.0,9,     -999.0,  -999.0,9,     -999.0,     -999.0,9,     -999.0,   9.2561,    34.8246,2,-999.0000,2,     -999.0,9
33RO20150410,     P16N.1,      78,          1,         16,         16,2,20150501,       0851,     5.6696,  -150.9991,       5334,   432.9,   8.5559,  34.6264,2,  34.6258,2,     26.8,2,    27.1,2,   33.80,2,   34.90,2,    0.01,2,    2.46,2,   0.221,2,   0.116,2,    0.03,2,  2269.0,6,  2309.8,2,   7.4170,2,    24.99,-999.000,9,-999.0000,9, -999.00,9,   8.5655,    0.00,2,   -89.6,2,     2.1,-999.000,9,-999.000,  -999.0,9, -999.00,9,     56.412,3, -999.00,9,-999.000,-999.0000, -999.00,     -999.0,     -999.0,9,     -999.0,     -999.0,9,     -999.0,  -999.0,9,     -999.0,     -999.0,9,     -999.0,   8.5099,    34.7891,2,-999.0000,2,     -999.0,9
33RO20150410,     P16N.1,      78,          1,         15,         15,2,20150501,       0851,     5.6696,  -150.9991,       5334,   549.9,   7.4192,  34.5870,2,  34.5857,2,      9.3,2,    10.3,2,   51.60,2,   40.70,2,    0.01,2,    2.98,2,   0.030,2,   0.018,2,       0,2,  2295.9,2,  2320.2,2,   7.3623,2,    24.98,-999.000,9,-999.0000,9, -999.00,9,   7.4159,   -0.05,2,  -122.3,2,     2.0,-999.000,9,-999.000,  -999.0,9, -999.00,9,     62.719,3, -999.00,9,-999.000,-999.0000, -999.00,     -999.0,     -999.0,9,     -999.0,     -999.0,9,     -999.0,  -999.0,9,     -999.0,     -999.0,9,     -999.0,   7.3650,    34.7488,6,-999.0000,2,     -999.0,9
33RO20150410,     P16N.1,      78,          1,         14,         14,2,20150501,       0851,     5.6696,  -150.9991,       5334,   701.2,   6.1945,  34.5616,2,  34.5611,2,     11.9,2,    13.5,2,   64.80,2,   43.40,2,    0.01,2,    3.11,2,   0.003,2,   0.003,2,       0,2,  2313.9,2,  2332.7,2,   7.3501,6,    25.01,-999.000,9,-999.0000,9, -999.00,9,   6.1941,   -0.23,2,  -145.1,2,     2.0,-999.000,9,-999.000,  -999.0,9, -999.00,9,     56.835,3, -999.00,9,-999.000,-999.0000, -999.00,     -999.0,     -999.0,9,     -999.0,     -999.0,9,     -999.0,  -999.0,9,     -999.0,     -999.0,9,     -999.0,   6.1311,    34.7240,2,-999.0000,2,     -999.0,9
33RO20150410,     P16N.1,      78,          1,         13,         13,2,20150501,       0851,     5.6696,  -150.9991,       5334,   850.5,   5.2726,  34.5531,2,  34.5533,2,     30.2,2,    32.3,2,   76.90,2,   43.40,2,    0.01,2,    3.09,2,-999.000,9,-999.000,9,-999.000,9,  2318.5,2,  2346.2,2,   7.3771,2,    24.99,-999.000,9,-999.0000,9, -999.00,9,   5.2723,   -0.22,2,  -168.5,2,     1.6,-999.000,9,-999.000,  -999.0,9, -999.00,9,     -999.0,9, -999.00,9,-999.000,-999.0000, -999.00,     -999.0,     -999.0,9,     -999.0,     -999.0,9,     -999.0,  -999.0,9,     -999.0,     -999.0,9,     -999.0,   5.2008,    34.7162,2,-999.0000,2,     -999.0,9
33RO20150410,     P16N.1,      78,          1,         12,         12,2,20150501,       0851,     5.6696,  -150.9991,       5334,   996.2,   4.5814,  34.5621,2,  34.5619,2,     51.0,2,    49.3,2,   87.90,2,   42.50,2,    0.01,2,    3.04,2,-999.000,9,-999.000,9,-999.000,9,  2322.2,2,  2359.8,2,   7.4066,2,    24.99,-999.000,9,-999.0000,9, -999.00,9,   4.5809, -999.00,9,  -999.0,9,  -999.0,-999.000,9,-999.000,  -999.0,9, -999.00,9,     -999.0,9, -999.00,9,-999.000,-999.0000, -999.00,     -999.0,     -999.0,9,     -999.0,     -999.0,9,     -999.0,  -999.0,9,     -999.0,     -999.0,9,     -999.0,   4.5015,    34.7248,2,-999.0000,2,     -999.0,9
33RO20150410,     P16N.1,      78,          1,         11,         11,2,20150501,       0851,     5.6696,  -150.9991,       5334,  1166.6,   3.9506,  34.5762,2,  34.5750,2,     64.9,2,    63.0,2,  100.30,2,   41.60,2,    0.01,2,    2.96,2,-999.000,9,-999.000,9,-999.000,9,  2327.7,2,  2373.8,2,   7.4297,6,    25.00,-999.000,9,-999.0000,9, -999.00,9,   3.9502, -999.00,9,  -999.0,9,  -999.0,-999.000,9,-999.000,  -999.0,9, -999.00,9,     -999.0,9, -999.00,9,-999.000,-999.0000, -999.00,     -999.0,     -999.0,9,     -999.0,     -999.0,9,     -999.0,  -999.0,9,     -999.0,     -999.0,9,     -999.0,   3.8612,    34.7381,2,-999.0000,2,     -999.0,9
33RO20150410,     P16N.1,      78,          1,         10,         10,2,20150501,       0851,     5.6696,  -150.9991,       5334,  1398.8,   3.2881,  34.5978,2,  34.5750,4,     73.7,2,    73.2,2,  115.00,2,   41.20,2,    0.01,2,    2.94,2,-999.000,9,-999.000,9,-999.000,9,  2339.9,2,  2391.3,2,   7.4462,2,    24.99,-999.000,9,-999.0000,9, -999.00,9,   3.2889, -999.00,9,  -999.0,9,  -999.0,-999.000,9,-999.000,  -999.0,9, -999.00,9,     -999.0,9, -999.00,9,-999.000,-999.0000, -999.00,     -999.0,     -999.0,9,     -999.0,     -999.0,9,     -999.0,  -999.0,9,     -999.0,     -999.0,9,     -999.0,   3.1855,    34.7381,4,-999.0000,2,     -999.0,9
33RO20150410,     P16N.1,      78,          1,          9,          9,2,20150501,       0851,     5.6696,  -150.9991,       5334,  1734.7,   2.5783,  34.6239,2,  34.6285,3,     89.9,2,    90.4,2,  130.10,2,   40.10,2,    0.01,2,    2.82,2,-999.000,9,-999.000,9,-999.000,9,  2345.6,2,  2408.4,2,   7.4769,2,    25.00,-999.000,9,-999.0000,9, -999.00,9,   2.5790, -999.00,9,  -999.0,9,  -999.0,-999.000,9,-999.000,  -999.0,9, -999.00,9,     -999.0,9, -999.00,9,-999.000,-999.0000, -999.00,     -999.0,     -999.0,9,     -999.0,     -999.0,9,     -999.0,  -999.0,9,     -999.0,     -999.0,9,     -999.0,   2.4559,    34.7918,3,-999.0000,3,     -999.0,9
33RO20150410,     P16N.1,      78,          1,          8,          8,2,20150501,       0851,     5.6696,  -150.9991,       5334,  2133.5,   2.0852,  34.6519,2,  34.6509,2,    102.7,2,   103.1,2,  141.90,2,   39.20,2,    0.01,2,    2.75,2,-999.000,9,-999.000,9,-999.000,9,  2352.2,2,  2424.2,2,   7.5026,6,    25.00,-999.000,9,-999.0000,9, -999.00,9,   2.0850, -999.00,9,  -999.0,9,  -999.0,-999.000,9,-999.000,  -999.0,9, -999.00,9,     -999.0,9, -999.00,9,-999.000,-999.0000, -999.00,     -999.0,     -999.0,9,     -999.0,     -999.0,9,     -999.0,  -999.0,9,     -999.0,     -999.0,9,     -999.0,   1.9360,    34.8143,2,-999.0000,3,     -999.0,9
33RO20150410,     P16N.1,      78,          1,          7,          7,2,20150501,       0851,     5.6696,  -150.9991,       5334,  2533.4,   1.8534,  34.6671,2,  34.6648,2,    113.1,2,   113.5,2,  147.20,2,   38.40,2,    0.01,2,    2.68,2,-999.000,9,-999.000,9,-999.000,9,  2353.4,2,  2430.7,2,   7.5237,2,    25.00,-999.000,9,-999.0000,9, -999.00,9,   1.8531, -999.00,9,  -999.0,9,  -999.0,-999.000,9,-999.000,  -999.0,9, -999.00,9,     -999.0,9, -999.00,9,-999.000,-999.0000, -999.00,     -999.0,     -999.0,9,     -999.0,     -999.0,9,     -999.0,  -999.0,9,     -999.0,     -999.0,9,     -999.0,   1.6727,    34.8283,2,-999.0000,2,     -999.0,9
33RO20150410,     P16N.1,      78,          1,          6,          6,2,20150501,       0851,     5.6696,  -150.9991,       5334,  2933.3,   1.7465,  34.6737,2,  34.6721,2,    120.8,2,   121.0,2,  148.00,2,   37.90,2,    0.01,2,    2.61,2,-999.000,9,-999.000,9,-999.000,9,  2349.7,2,  2432.9,2,   7.5363,2,    25.00,-999.000,9,-999.0000,9, -999.00,9,   1.7464, -999.00,9,  -999.0,9,  -999.0,-999.000,9,-999.000,  -999.0,9, -999.00,9,     -999.0,9, -999.00,9,-999.000,-999.0000, -999.00,     -999.0,     -999.0,9,     -999.0,     -999.0,9,     -999.0,  -999.0,9,     -999.0,     -999.0,9,     -999.0,   1.5307,    34.8356,2,-999.0000,2,     -999.0,9
33RO20150410,     P16N.1,      78,          1,          5,          5,2,20150501,       0851,     5.6696,  -150.9991,       5334,  3366.7,   1.5419,  34.6841,2,  34.6823,2,    139.8,2,   139.3,2,  145.70,2,   36.80,2,    0.01,2,    2.54,2,-999.000,9,-999.000,9,-999.000,9,  2336.7,2,  2431.5,2,   7.5658,2,    24.99,-999.000,9,-999.0000,9, -999.00,9,   1.5417, -999.00,9,  -999.0,9,  -999.0,-999.000,9,-999.000,  -999.0,9, -999.00,9,     -999.0,9, -999.00,9,-999.000,-999.0000, -999.00,     -999.0,     -999.0,9,     -999.0,     -999.0,9,     -999.0,  -999.0,9,     -999.0,     -999.0,9,     -999.0,   1.2882,    34.8459,2,-999.0000,2,     -999.0,9
33RO20150410,     P16N.1,      78,          1,          4,          4,2,20150501,       0851,     5.6696,  -150.9991,       5334,  3866.5,   1.4156,  34.6930,2,  34.6914,2,    158.2,2,   158.5,2,  138.70,6,   35.50,6,    0.01,6,    2.42,6,-999.000,9,-999.000,9,-999.000,9,  2319.4,2,  2423.8,2,   7.5912,6,    24.99,-999.000,9,-999.0000,9, -999.00,9,   1.4155, -999.00,9,  -999.0,9,  -999.0,-999.000,9,-999.000,  -999.0,9, -999.00,9,     -999.0,9, -999.00,9,-999.000,-999.0000, -999.00,     -999.0,     -999.0,9,     -999.0,     -999.0,9,     -999.0,  -999.0,9,     -999.0,     -999.0,9,     -999.0,   1.1133,    34.8550,2,-999.0000,2,     -999.0,9
33RO20150410,     P16N.1,      78,          1,          3,          3,2,20150501,       0851,     5.6696,  -150.9991,       5334,  4366.2,   1.3782,  34.6969,2,  34.6977,2,    166.9,2,   167.8,2,  134.20,6,   34.80,6,    0.01,6,    2.37,6,-999.000,9,-999.000,9,-999.000,9,  2311.6,2,  2416.2,2,   7.5994,2,    24.99,-999.000,9,-999.0000,9, -999.00,9,   1.3780, -999.00,9,  -999.0,9,  -999.0,-999.000,9,-999.000,  -999.0,9, -999.00,9,     -999.0,9, -999.00,9,-999.000,-999.0000, -999.00,     -999.0,     -999.0,9,     -999.0,     -999.0,9,     -999.0,  -999.0,9,     -999.0,     -999.0,9,     -999.0,   1.0221,    34.8613,2,-999.0000,2,     -999.0,9
33RO20150410,     P16N.1,      78,          1,          2,          2,2,20150501,       0851,     5.6696,  -150.9991,       5334,  4865.2,   1.4189,  34.6975,2,  34.6948,2,    169.2,2,   169.9,2,  133.00,6,   34.60,6,    0.01,6,    2.37,6,-999.000,9,-999.000,9,-999.000,9,  2307.3,6,  2413.4,6,   7.5988,2,    25.00,-999.000,9,-999.0000,9, -999.00,9,   1.4192, -999.00,9,  -999.0,9,  -999.0,-999.000,9,-999.000,  -999.0,9, -999.00,9,     -999.0,9, -999.00,9,-999.000,-999.0000, -999.00,     -999.0,     -999.0,9,     -999.0,     -999.0,9,     -999.0,  -999.0,9,     -999.0,     -999.0,9,     -999.0,   1.0035,    34.8584,2,-999.0000,2,     -999.0,9
33RO20150410,     P16N.1,      78,          1,          1,          1,2,20150501,       0851,     5.6696,  -150.9991,       5334,  5323.7,   1.4712,  34.6971,2,  34.6959,2,    171.3,2,   170.7,2,  133.00,6,   34.60,6,    0.01,6,    2.36,6,-999.000,9,-999.000,9,-999.000,9,  2307.1,2,  2411.5,2,   7.5992,2,    25.00,-999.000,9,-999.0000,9, -999.00,9,   1.4710, -999.00,9,  -999.0,9,  -999.0,-999.000,9,-999.000,  -999.0,9, -999.00,9,     -999.0,9, -999.00,9,-999.000,-999.0000, -999.00,     -999.0,     -999.0,9,     -999.0,     -999.0,9,     -999.0,  -999.0,9,     -999.0,     -999.0,9,     -999.0,   0.9978,    34.8596,2,-999.0000,2,     -999.0,9