BOTTLE,20210709CCHSIOCBG
EXPOCODE,SECT_ID,STNNBR,CASTNO,SAMPNO,BTLNBR,BTLNBR_FLAG_W,DATE,TIME,LATITUDE,LONGITUDE,DEPTH,CTDPRS,CTDTMP,CTDSAL,CTDSAL_FLAG_W,SALNTY,SALNTY_FLAG_W,CTDOXY,CTDOXY_FLAG_W,OXYGEN,OXYGEN_FLAG_W,SILCAT,SILCAT_FLAG_W,NITRAT,NITRAT_FLAG_W,NITRIT,NITRIT_FLAG_W,PHSPHT,PHSPHT_FLAG_W,CFC-11,CFC-11_FLAG_W,CFC-12,CFC-12_FLAG_W,SF6,SF6_FLAG_W,TCARBN,TCARBN_FLAG_W,ALKALI,ALKALI_FLAG_W,PH_TOT,PH_TOT_FLAG_W,PH_TMP,TRITUM,TRITUM_FLAG_W,HELIUM,HELIUM_FLAG_W,DELHE3,DELHE3_FLAG_W,REFTMP,DELC13,DELC13_FLAG_W,DELC14,DELC14_FLAG_W,C14ERR,NEON,NEON_FLAG_W,NEONER,DOC,DOC_FLAG_W,TDN,TDN_FLAG_W,N2O,N2O_FLAG_W,ARGON,ARGON_FLAG_W,TRITER,HELIER,DELHER,ARGONER,KRYPTON,KRYPTON_FLAG_W,KRYPTONER,XENON,XENON_FLAG_W,XENONER,14C-DOC,14C-DOC_FLAG_W,14C-DOCERR,13C-DOC,13C-DOC_FLAG_W,13C-DOCERR,THETA,SALTREF,SALTREF_FLAG_W,SBE35,SBE35_FLAG_W,CHLORA,CHLORA_FLAG_W
,,,,,,,,,,,METERS,DBAR,ITS-90,PSS-78,,PSS-78,,UMOL/KG,,UMOL/KG,,UMOL/KG,,UMOL/KG,,UMOL/KG,,UMOL/KG,,PMOL/KG,,PMOL/KG,,FMOL/KG,,UMOL/KG,,UMOL/KG,,,,DEG C,TU,,NMOL/KG,,PERCNT,,DEG C,/MILLE,,/MILLE,,/MILLE,NMOL/KG,,NMOL/KG,UMOL/KG,,UMOL/KG,,NMOL/KG,,UMOL/KG,,TU,NMOL/KG,PERCNT,UMOL/KG,NMOL/KG,,NMOL/KG,NMOL/KG,,NMOL/KG,/MILLE,,/MILLE,/MILLE,,/MILLE,DEG C,G/KG,,ITS-90,,MG/M3,
33RO20150410,     P16N.1,      12,          1,         24,         24,2,20150414,       1114,   -11.0000,  -150.9994,       5155,    15.3,  29.1040,  35.8035,2,  35.8003,2,    192.0,2,   193.0,2,    0.70,2,    0.00,2,    0.02,2,    0.14,4,   1.359,2,   0.905,2,   1.195,2,  1994.7,6,  2359.6,2,   8.1240,2,    25.00,-999.000,9,-999.0000,9, -999.00,9,  29.1018,    1.37,2,    30.6,2,     2.0,-999.000,9,-999.000,  -999.0,9, -999.00,9,      5.746,3, -999.00,9,-999.000,-999.0000, -999.00,     -999.0,     -999.0,9,     -999.0,     -999.0,9,     -999.0,  -999.0,9,     -999.0,     -999.0,9,     -999.0,  29.1003,    35.9691,2,-999.0000,2,     -999.0,9
33RO20150410,     P16N.1,      12,          1,         23,         23,2,20150414,       1114,   -11.0000,  -150.9994,       5155,    33.4,  29.1041,  35.8041,2,  35.8018,2,    192.6,2,   193.1,2,    0.80,2,    0.00,2,    0.01,2,    0.15,4,   1.359,2,   0.916,2,    1.23,2,  1994.8,2,  2359.5,2,   8.1241,6,    25.00,-999.000,9,-999.0000,9, -999.00,9,  29.1071, -999.00,9,  -999.0,9,  -999.0,-999.000,9,-999.000,  -999.0,9, -999.00,9,      5.752,3, -999.00,9,-999.000,-999.0000, -999.00,     -999.0,     -999.0,9,     -999.0,     -999.0,9,     -999.0,  -999.0,9,     -999.0,     -999.0,9,     -999.0,  29.0960,    35.9707,2,-999.0000,2,     -999.0,9
33RO20150410,     P16N.1,      12,          1,         22,         22,2,20150414,       1114,   -11.0000,  -150.9994,       5155,    58.5,  29.1103,  35.8066,2,  35.8056,2,    193.3,2,   192.8,2,    0.70,2,    0.00,2,    0.01,2,    0.15,4,   1.372,6,   0.909,6,   1.245,6,  1994.6,2,  2360.4,6,   8.1242,2,    24.99,-999.000,9,-999.0000,9, -999.00,9,  29.1080, -999.00,9,  -999.0,9,  -999.0,-999.000,9,-999.000,  -999.0,9, -999.00,9,      5.754,3, -999.00,9,-999.000,-999.0000, -999.00,     -999.0,     -999.0,9,     -999.0,     -999.0,9,     -999.0,  -999.0,9,     -999.0,     -999.0,9,     -999.0,  29.0961,    35.9744,2,-999.0000,2,     -999.0,9
33RO20150410,     P16N.1,      12,          1,         21,         21,2,20150414,       1114,   -11.0000,  -150.9994,       5155,    83.6,  29.0678,  35.8609,2,  35.8668,2,    193.8,2,   193.2,2,    0.80,2,    0.00,2,    0.02,2,    0.15,4,   1.375,2,   0.918,2,    1.22,2,  2000.0,2,  2363.9,2,   8.1229,2,    25.00,-999.000,9,-999.0000,9, -999.00,9,  29.0664,    1.36,2,    35.8,2,     2.2,-999.000,9,-999.000,  -999.0,9, -999.00,9,      5.801,3, -999.00,9,-999.000,-999.0000, -999.00,     -999.0,     -999.0,9,     -999.0,     -999.0,9,     -999.0,  -999.0,9,     -999.0,     -999.0,9,     -999.0,  29.0475,    36.0360,2,-999.0000,2,     -999.0,9
33RO20150410,     P16N.1,      12,          1,         20,         20,2,20150414,       1114,   -11.0000,  -150.9994,       5155,   117.8,  27.2468,  36.2813,2,  36.2819,2,    182.0,2,   181.2,2,    1.10,2,    0.90,2,    0.56,2,    0.33,4,   1.496,2,   0.996,2,   1.221,2,  2053.8,2,  2392.2,2,   8.0715,6,    25.01,-999.000,9,-999.0000,9, -999.00,9,  27.2459,    1.17,2,    36.0,2,     2.1,-999.000,9,-999.000,  -999.0,9, -999.00,9,      6.350,3, -999.00,9,-999.000,-999.0000, -999.00,     -999.0,     -999.0,9,     -999.0,     -999.0,9,     -999.0,  -999.0,9,     -999.0,     -999.0,9,     -999.0,  27.2195,    36.4529,2,-999.0000,2,     -999.0,9
33RO20150410,     P16N.1,      12,          1,         19,         19,3,20150414,       1114,   -11.0000,  -150.9994,       5155,   175.8,  23.5991,  36.2685,2,  36.2664,2,    163.2,2,  -999.0,9,    1.00,2,    4.20,2,    0.06,2,    0.46,4,-999.000,9,-999.000,9,-999.000,9,  -999.0,9,  -999.0,9,-999.0000,9,  -999.00,-999.000,9,-999.0000,9, -999.00,9,  23.5797,    0.93,2,    43.3,2,     2.2,-999.000,9,-999.000,  -999.0,9, -999.00,9,     -999.0,9, -999.00,9,-999.000,-999.0000, -999.00,     -999.0,     -999.0,9,     -999.0,     -999.0,9,     -999.0,  -999.0,9,     -999.0,     -999.0,9,     -999.0,  23.5623,    36.4374,2,-999.0000,2,     -999.0,9
33RO20150410,     P16N.1,      12,          1,         18,         18,2,20150414,       1114,   -11.0000,  -150.9994,       5155,   250.5,  19.3356,  35.6468,2,  35.6485,2,    167.7,2,   168.4,2,    1.50,2,    6.20,2,    0.02,2,    0.58,4,   2.129,2,   1.321,2,   1.258,2,  2117.9,2,  2349.9,2,   7.9008,2,    25.00,-999.000,9,-999.0000,9, -999.00,9,  19.3386,    0.86,2,    51.6,2,     2.1,-999.000,9,-999.000,  -999.0,9, -999.00,9,     10.617,3, -999.00,9,-999.000,-999.0000, -999.00,     -999.0,     -999.0,9,     -999.0,     -999.0,9,     -999.0,  -999.0,9,     -999.0,     -999.0,9,     -999.0,  19.2901,    35.8166,2,-999.0000,2,     -999.0,9
33RO20150410,     P16N.1,      12,          1,         17,         17,2,20150414,       1114,   -11.0000,  -150.9994,       5155,   358.0,  11.7062,  34.7782,2,  34.7756,2,     70.9,2,    71.0,2,   16.70,2,   25.30,2,    0.02,2,    1.86,4,   1.254,2,   0.724,2,   0.415,2,  2214.2,2,  2300.1,2,   7.5627,3,    25.00,-999.000,9,-999.0000,9, -999.00,9,  11.7099,    0.32,2,    -2.6,2,     1.9,-999.000,9,-999.000,  -999.0,9, -999.00,9,     41.118,3, -999.00,9,-999.000,-999.0000, -999.00,     -999.0,     -999.0,9,     -999.0,     -999.0,9,     -999.0,  -999.0,9,     -999.0,     -999.0,9,     -999.0,  11.6600,    34.9396,6,-999.0000,2,     -999.0,9
33RO20150410,     P16N.1,      12,          1,         16,         16,2,20150414,       1114,   -11.0000,  -150.9994,       5155,   434.1,   9.5185,  34.6535,2,  34.6530,2,     92.5,2,    92.1,2,   22.30,2,   28.90,2,    0.01,2,    1.93,4,   0.731,6,   0.412,6,   0.151,6,  2215.8,2,  2299.6,2,   7.5603,6,    25.01,-999.000,9,-999.0000,9, -999.00,9,   9.5282,    0.55,2,   -34.7,2,     2.1,-999.000,9,-999.000,  -999.0,9, -999.00,9,     36.834,3, -999.00,9,-999.000,-999.0000, -999.00,     -999.0,     -999.0,9,     -999.0,     -999.0,9,     -999.0,  -999.0,9,     -999.0,     -999.0,9,     -999.0,   9.4693,    34.8164,2,-999.0000,2,     -999.0,9
33RO20150410,     P16N.1,      12,          1,         15,         15,2,20150414,       1114,   -11.0000,  -150.9994,       5155,   550.1,   7.6087,  34.5710,2,  34.5717,2,    115.9,2,   112.2,2,   30.80,2,   31.80,2,    0.02,2,    2.04,4,   0.419,2,   0.235,2,   0.068,2,  2219.2,6,  2304.8,2,   7.5615,3,    25.00,-999.000,9,-999.0000,9, -999.00,9,   7.6043,    0.59,2,   -75.9,2,     1.8,-999.000,9,-999.000,  -999.0,9, -999.00,9,     32.852,3, -999.00,9,-999.000,-999.0000, -999.00,     -999.0,     -999.0,9,     -999.0,     -999.0,9,     -999.0,  -999.0,9,     -999.0,     -999.0,9,     -999.0,   7.5537,    34.7347,2,-999.0000,2,     -999.0,9
33RO20150410,     P16N.1,      12,          1,         14,         14,2,20150414,       1114,   -11.0000,  -150.9994,       5155,   626.7,   6.7235,  34.5418,2,  34.5399,2,    102.4,2,   101.0,2,   39.50,2,   34.90,2,    0.02,2,    2.25,4,   0.208,2,   0.113,2,   0.037,2,  2235.6,2,  2311.0,2,   7.5238,2,    24.99,-999.000,9,-999.0000,9, -999.00,9,   6.7230,    0.54,2,  -107.7,2,     1.8,-999.000,9,-999.000,  -999.0,9, -999.00,9,     34.489,3, -999.00,9,-999.000,-999.0000, -999.00,     -999.0,     -999.0,9,     -999.0,     -999.0,9,     -999.0,  -999.0,9,     -999.0,     -999.0,9,     -999.0,   6.6647,    34.7027,2,-999.0000,2,     -999.0,9
33RO20150410,     P16N.1,      12,          1,         13,         13,2,20150414,       1114,   -11.0000,  -150.9994,       5155,   811.0,   5.4368,  34.5080,2,  34.5074,2,    110.2,2,   111.5,2,   52.70,2,   36.30,2,    0.01,2,    2.40,4,   0.098,2,   0.049,2,       0,2,  2249.1,2,  2322.4,2,   7.5177,6,    25.00,-999.000,9,-999.0000,9, -999.00,9,   5.4365,    0.48,2,  -140.5,2,     1.9,-999.000,9,-999.000,  -999.0,9, -999.00,9,     30.977,3, -999.00,9,-999.000,-999.0000, -999.00,     -999.0,     -999.0,9,     -999.0,     -999.0,9,     -999.0,  -999.0,9,     -999.0,     -999.0,9,     -999.0,   5.3676,    34.6701,6,-999.0000,2,     -999.0,9
33RO20150410,     P16N.1,      12,          1,         12,         12,2,20150414,       1114,   -11.0000,  -150.9994,       5155,  1000.8,   4.4920,  34.5212,2,  34.5192,2,    107.4,2,   107.7,2,   69.60,2,   37.80,2,    0.01,2,    2.53,4,   0.018,3,   0.003,2,       0,2,  2272.1,2,  2339.4,2,   7.5049,2,    25.00,-999.000,9,-999.0000,9, -999.00,9,   4.4912,    0.40,2,  -160.9,2,     1.8,-999.000,9,-999.000,  -999.0,9, -999.00,9,     29.756,3, -999.00,9,-999.000,-999.0000, -999.00,     -999.0,     -999.0,9,     -999.0,     -999.0,9,     -999.0,  -999.0,9,     -999.0,     -999.0,9,     -999.0,   4.4125,    34.6820,2,-999.0000,2,     -999.0,9
33RO20150410,     P16N.1,      12,          1,         11,         11,2,20150414,       1114,   -11.0000,  -150.9994,       5155,  1168.5,   3.7543,  34.5443,2,  34.5442,2,    115.6,2,   116.4,2,   83.90,2,   37.60,2,    0.01,2,    2.57,4,   0.012,3,   0.002,2,       0,2,  2282.6,2,  2354.8,2,   7.5160,2,    25.00,-999.000,9,-999.0000,9, -999.00,9,   3.7532,    0.34,2,  -177.6,2,     1.8,-999.000,9,-999.000,  -999.0,9, -999.00,9,     27.620,3, -999.00,9,-999.000,-999.0000, -999.00,     -999.0,     -999.0,9,     -999.0,     -999.0,9,     -999.0,  -999.0,9,     -999.0,     -999.0,9,     -999.0,   3.6665,    34.7071,2,-999.0000,2,     -999.0,9
33RO20150410,     P16N.1,      12,          1,         10,         10,2,20150414,       1114,   -11.0000,  -150.9994,       5155,  1399.9,   3.0876,  34.5797,2,  34.5788,2,    122.9,2,   123.4,2,  100.10,2,   37.20,2,    0.01,2,    2.59,4,   0.005,2,   0.000,2,       0,2,  2294.9,2,  2373.0,2,   7.5279,2,    25.00,-999.000,9,-999.0000,9, -999.00,9,   3.0879,    0.28,2,  -198.4,2,     1.7,-999.000,9,-999.000,  -999.0,9, -999.00,9,     25.718,3, -999.00,9,-999.000,-999.0000, -999.00,     -999.0,     -999.0,9,     -999.0,     -999.0,9,     -999.0,  -999.0,9,     -999.0,     -999.0,9,     -999.0,   2.9871,    34.7419,2,-999.0000,2,     -999.0,9
33RO20150410,     P16N.1,      12,          1,          9,          9,2,20150414,       1114,   -11.0000,  -150.9994,       5155,  1733.6,   2.4849,  34.6132,2,  34.6130,2,    136.6,2,   137.9,2,  111.40,2,   36.50,2,    0.01,2,    2.56,4,   0.014,3,   0.002,2,       0,2,  2301.3,2,  2385.7,2,   7.5487,2,    24.99,-999.000,9,-999.0000,9, -999.00,9,   2.4849,    0.25,2,  -209.5,2,     1.8,-999.000,9,-999.000,  -999.0,9, -999.00,9,     23.402,3, -999.00,9,-999.000,-999.0000, -999.00,     -999.0,     -999.0,9,     -999.0,     -999.0,9,     -999.0,  -999.0,9,     -999.0,     -999.0,9,     -999.0,   2.3639,    34.7762,2,-999.0000,2,     -999.0,9
33RO20150410,     P16N.1,      12,          1,          8,          8,2,20150414,       1114,   -11.0000,  -150.9994,       5155,  2132.4,   2.0409,  34.6476,2,  34.6464,2,    141.8,2,   142.9,2,  123.00,2,   36.00,2,    0.01,2,    2.57,4,   0.001,2,  -0.001,2,       0,2,  2309.4,2,  2400.9,2,   7.5611,2,    25.00,-999.000,9,-999.0000,9, -999.00,9,   2.0407, -999.00,9,  -999.0,9,  -999.0,-999.000,9,-999.000,  -999.0,9, -999.00,9,     22.116,3, -999.00,9,-999.000,-999.0000, -999.00,     -999.0,     -999.0,9,     -999.0,     -999.0,9,     -999.0,  -999.0,9,     -999.0,     -999.0,9,     -999.0,   1.8925,    34.8098,2,-999.0000,2,     -999.0,9
33RO20150410,     P16N.1,      12,          1,          7,          7,2,20150414,       1114,   -11.0000,  -150.9994,       5155,  2533.1,   1.8350,  34.6666,2,  34.6680,2,    145.6,2,   147.5,2,  129.80,2,   35.80,2,    0.01,2,    2.59,4,   0.009,3,   0.000,2,       0,2,  2315.8,2,  2410.1,2,   7.5711,2,    24.98,-999.000,9,-999.0000,9, -999.00,9,   1.8350, -999.00,9,  -999.0,9,  -999.0,-999.000,9,-999.000,  -999.0,9, -999.00,9,     21.328,3, -999.00,9,-999.000,-999.0000, -999.00,     -999.0,     -999.0,9,     -999.0,     -999.0,9,     -999.0,  -999.0,9,     -999.0,     -999.0,9,     -999.0,   1.6547,    34.8315,2,-999.0000,2,     -999.0,9
33RO20150410,     P16N.1,      12,          1,          6,          6,2,20150414,       1114,   -11.0000,  -150.9994,       5155,  2932.0,   1.6976,  34.6774,2,  34.6761,2,    150.9,2,   151.8,2,  133.20,2,   35.50,2,    0.01,2,    2.55,4,   0.007,3,   0.000,2,       0,2,  2315.8,2,  2413.4,2,   7.5797,2,    25.01,-999.000,9,-999.0000,9, -999.00,9,   1.6977, -999.00,9,  -999.0,9,  -999.0,-999.000,9,-999.000,  -999.0,9, -999.00,9,     20.678,3, -999.00,9,-999.000,-999.0000, -999.00,     -999.0,     -999.0,9,     -999.0,     -999.0,9,     -999.0,  -999.0,9,     -999.0,     -999.0,9,     -999.0,   1.4829,    34.8396,2,-999.0000,2,     -999.0,9
33RO20150410,     P16N.1,      12,          1,          5,          5,2,20150414,       1114,   -11.0000,  -150.9994,       5155,  3333.4,   1.5795,  34.6843,2,  34.6824,2,    160.3,2,   160.9,2,  131.60,2,   34.90,2,    0.01,2,    2.50,4,   0.000,2,   0.000,2,       0,2,  2308.2,2,  2408.3,2,   7.5884,6,    25.00,-999.000,9,-999.0000,9, -999.00,9,   1.5792, -999.00,9,  -999.0,9,  -999.0,-999.000,9,-999.000,  -999.0,9, -999.00,9,     20.278,3, -999.00,9,-999.000,-999.0000, -999.00,     -999.0,     -999.0,9,     -999.0,     -999.0,9,     -999.0,  -999.0,9,     -999.0,     -999.0,9,     -999.0,   1.3282,    34.8459,2,-999.0000,2,     -999.0,9
33RO20150410,     P16N.1,      12,          1,          4,          4,2,20150414,       1114,   -11.0000,  -150.9994,       5155,  3733.2,   1.4536,  34.6919,2,  34.6899,2,    170.9,2,   171.5,2,  129.30,2,   34.30,6,    0.01,6,    2.46,4,  -0.002,2,  -0.001,2,       0,2,  2298.8,2,  2400.1,2,   7.5952,2,    25.01,-999.000,9,-999.0000,9, -999.00,9,   1.4537, -999.00,9,  -999.0,9,  -999.0,-999.000,9,-999.000,  -999.0,9, -999.00,9,     19.809,3, -999.00,9,-999.000,-999.0000, -999.00,     -999.0,     -999.0,9,     -999.0,     -999.0,9,     -999.0,  -999.0,9,     -999.0,     -999.0,9,     -999.0,   1.1644,    34.8535,2,-999.0000,2,     -999.0,9
33RO20150410,     P16N.1,      12,          1,          3,          3,2,20150414,       1114,   -11.0000,  -150.9994,       5155,  4167.2,   1.3672,  34.6980,2,  34.6955,2,    182.4,2,   182.0,2,  125.00,2,   33.50,6,    0.01,6,    2.38,4,  -0.001,6,  -0.001,6,       0,6,  2284.1,2,  2388.4,2,   7.6001,6,    25.00,-999.000,9,-999.0000,9, -999.00,9,   1.3672, -999.00,9,  -999.0,9,  -999.0,-999.000,9,-999.000,  -999.0,9, -999.00,9,     19.306,3, -999.00,9,-999.000,-999.0000, -999.00,     -999.0,     -999.0,9,     -999.0,     -999.0,9,     -999.0,  -999.0,9,     -999.0,     -999.0,9,     -999.0,   1.0337,    34.8592,3,-999.0000,2,     -999.0,9
33RO20150410,     P16N.1,      12,          1,          2,          2,2,20150414,       1114,   -11.0000,  -150.9994,       5155,  4667.7,   1.3055,  34.7032,2,  34.7028,2,    191.7,2,   190.3,2,  122.00,2,   32.90,6,    0.01,6,    2.34,4,   0.060,3,   0.003,2,       0,2,  2275.3,2,  2380.7,6,   7.6035,2,    25.02,-999.000,9,-999.0000,9, -999.00,9,   1.3056, -999.00,9,  -999.0,9,  -999.0,-999.000,9,-999.000,  -999.0,9, -999.00,9,     18.968,3, -999.00,9,-999.000,-999.0000, -999.00,     -999.0,     -999.0,9,     -999.0,     -999.0,9,     -999.0,  -999.0,9,     -999.0,     -999.0,9,     -999.0,   0.9170,    34.8665,2,-999.0000,2,     -999.0,9
33RO20150410,     P16N.1,      12,          1,          1,          1,2,20150414,       1114,   -11.0000,  -150.9994,       5155,  5145.6,   1.3306,  34.7043,2,  34.7042,2,    194.1,2,  -999.0,9,  121.50,2,   32.70,6,    0.01,6,    2.32,4,   0.020,3,   0.002,2,       0,2,  2272.4,6,  2378.8,2,   7.6047,2,    25.02,-999.000,9,-999.0000,9, -999.00,9,   1.3302, -999.00,9,  -999.0,9,  -999.0,-999.000,9,-999.000,  -999.0,9, -999.00,9,     18.920,3, -999.00,9,-999.000,-999.0000, -999.00,     -999.0,     -999.0,9,     -999.0,     -999.0,9,     -999.0,  -999.0,9,     -999.0,     -999.0,9,     -999.0,   0.8842,    34.8679,2,-999.0000,2,     -999.0,9