BOTTLE,20210709CCHSIOCBG
EXPOCODE,SECT_ID,STNNBR,CASTNO,SAMPNO,BTLNBR,BTLNBR_FLAG_W,DATE,TIME,LATITUDE,LONGITUDE,DEPTH,CTDPRS,CTDTMP,CTDSAL,CTDSAL_FLAG_W,SALNTY,SALNTY_FLAG_W,CTDOXY,CTDOXY_FLAG_W,OXYGEN,OXYGEN_FLAG_W,SILCAT,SILCAT_FLAG_W,NITRAT,NITRAT_FLAG_W,NITRIT,NITRIT_FLAG_W,PHSPHT,PHSPHT_FLAG_W,CFC-11,CFC-11_FLAG_W,CFC-12,CFC-12_FLAG_W,SF6,SF6_FLAG_W,TCARBN,TCARBN_FLAG_W,ALKALI,ALKALI_FLAG_W,PH_TOT,PH_TOT_FLAG_W,PH_TMP,TRITUM,TRITUM_FLAG_W,HELIUM,HELIUM_FLAG_W,DELHE3,DELHE3_FLAG_W,REFTMP,DELC13,DELC13_FLAG_W,DELC14,DELC14_FLAG_W,C14ERR,NEON,NEON_FLAG_W,NEONER,DOC,DOC_FLAG_W,TDN,TDN_FLAG_W,N2O,N2O_FLAG_W,ARGON,ARGON_FLAG_W,TRITER,HELIER,DELHER,ARGONER,KRYPTON,KRYPTON_FLAG_W,KRYPTONER,XENON,XENON_FLAG_W,XENONER,14C-DOC,14C-DOC_FLAG_W,14C-DOCERR,13C-DOC,13C-DOC_FLAG_W,13C-DOCERR,THETA,SALTREF,SALTREF_FLAG_W,SBE35,SBE35_FLAG_W,CHLORA,CHLORA_FLAG_W
,,,,,,,,,,,METERS,DBAR,ITS-90,PSS-78,,PSS-78,,UMOL/KG,,UMOL/KG,,UMOL/KG,,UMOL/KG,,UMOL/KG,,UMOL/KG,,PMOL/KG,,PMOL/KG,,FMOL/KG,,UMOL/KG,,UMOL/KG,,,,DEG C,TU,,NMOL/KG,,PERCNT,,DEG C,/MILLE,,/MILLE,,/MILLE,NMOL/KG,,NMOL/KG,UMOL/KG,,UMOL/KG,,NMOL/KG,,UMOL/KG,,TU,NMOL/KG,PERCNT,UMOL/KG,NMOL/KG,,NMOL/KG,NMOL/KG,,NMOL/KG,/MILLE,,/MILLE,/MILLE,,/MILLE,DEG C,G/KG,,ITS-90,,MG/M3,
33RO20150410,     P16N.1,      13,          1,         24,         24,2,20150414,       1817,   -10.4984,  -150.9993,       5030,     5.3,  29.1468,  35.7836,2,  35.7802,2,    192.0,2,   192.5,2,    0.60,2,    0.00,2,    0.00,2,    0.14,4,   1.366,6,   0.916,6,   1.209,6,  1993.4,6,  2369.9,2,   8.1231,2,    25.01,-999.000,9,-999.0000,9, -999.00,9,  29.1492, -999.00,9,  -999.0,9,  -999.0,-999.000,9,-999.000,    77.4,2,    4.80,2,      5.756,3, -999.00,9,-999.000,-999.0000, -999.00,     -999.0,     -999.0,9,     -999.0,     -999.0,9,     -999.0,  -999.0,9,     -999.0,     -999.0,9,     -999.0,  29.1455,    35.9489,2,-999.0000,2,      0.075,2
33RO20150410,     P16N.1,      13,          1,         23,         23,2,20150414,       1817,   -10.4984,  -150.9993,       5030,    20.7,  29.1120,  35.7804,2,  35.7778,2,    192.4,2,   192.6,2,    0.60,2,    0.00,2,    0.00,2,    0.14,4,-999.000,9,-999.000,9,-999.000,9,  1994.6,2,  2358.7,2,   8.1240,6,    25.02,-999.000,9,-999.0000,9, -999.00,9,  29.1135, -999.00,9,  -999.0,9,  -999.0,-999.000,9,-999.000,    75.4,2,    3.90,2,     -999.0,9, -999.00,9,-999.000,-999.0000, -999.00,     -999.0,     -999.0,9,     -999.0,     -999.0,9,     -999.0,  -999.0,9,     -999.0,     -999.0,9,     -999.0,  29.1070,    35.9465,2,-999.0000,2,      0.085,2
33RO20150410,     P16N.1,      13,          1,         22,         22,2,20150414,       1817,   -10.4984,  -150.9993,       5030,    42.1,  29.1138,  35.7805,2,  35.7954,2,    193.0,2,   192.7,2,    0.60,2,    0.00,2,    0.00,2,    0.14,4,   1.357,2,   0.916,2,   1.178,2,  1995.8,2,  2361.5,6,   8.1237,6,    25.02,-999.000,9,-999.0000,9, -999.00,9,  29.1136, -999.00,9,  -999.0,9,  -999.0,-999.000,9,-999.000,    75.2,2,    4.70,2,      5.772,3, -999.00,9,-999.000,-999.0000, -999.00,     -999.0,     -999.0,9,     -999.0,     -999.0,9,     -999.0,  -999.0,9,     -999.0,     -999.0,9,     -999.0,  29.1036,    35.9642,2,-999.0000,2,      0.109,2
33RO20150410,     P16N.1,      13,          1,         21,         21,2,20150414,       1817,   -10.4984,  -150.9993,       5030,    65.4,  29.0914,  35.7939,2,  35.7970,2,    193.7,2,   193.9,2,    0.60,2,    0.00,2,    0.00,2,    0.13,4,-999.000,9,-999.000,9,-999.000,9,  1995.0,2,  2359.0,2,   8.1232,2,    25.02,-999.000,9,-999.0000,9, -999.00,9,  29.0955, -999.00,9,  -999.0,9,  -999.0,-999.000,9,-999.000,    76.6,2,    5.40,2,     -999.0,9, -999.00,9,-999.000,-999.0000, -999.00,     -999.0,     -999.0,9,     -999.0,     -999.0,9,     -999.0,  -999.0,9,     -999.0,     -999.0,9,     -999.0,  29.0755,    35.9658,6,-999.0000,2,      0.105,2
33RO20150410,     P16N.1,      13,          1,         20,         20,2,20150414,       1817,   -10.4984,  -150.9993,       5030,    91.8,  27.8132,  36.1681,2,  36.1728,2,    191.2,2,   187.6,2,    1.00,2,    0.60,2,    0.23,2,    0.28,4,   1.466,2,   0.979,2,   1.208,2,  2040.9,2,  2386.8,2,   8.0849,2,    25.01,-999.000,9,-999.0000,9, -999.00,9,  27.8365, -999.00,9,  -999.0,9,  -999.0,-999.000,9,-999.000,    69.7,2,    5.10,2,      6.256,3, -999.00,9,-999.000,-999.0000, -999.00,     -999.0,     -999.0,9,     -999.0,     -999.0,9,     -999.0,  -999.0,9,     -999.0,     -999.0,9,     -999.0,  27.7916,    36.3434,2,-999.0000,2,      0.163,2
33RO20150410,     P16N.1,      13,          1,         19,         19,2,20150414,       1817,   -10.4984,  -150.9993,       5030,   132.4,  26.3122,  36.3850,2,  36.3863,2,    178.4,2,   174.1,2,    0.90,2,    1.60,2,    1.12,2,    0.37,4,-999.000,9,-999.000,9,-999.000,9,  2070.7,2,  2407.7,2,   8.0509,2,    25.01,-999.000,9,-999.0000,9, -999.00,9,  26.3140, -999.00,9,  -999.0,9,  -999.0,-999.000,9,-999.000,    64.8,2,    6.90,2,     -999.0,9, -999.00,9,-999.000,-999.0000, -999.00,     -999.0,     -999.0,9,     -999.0,     -999.0,9,     -999.0,  -999.0,9,     -999.0,     -999.0,9,     -999.0,  26.2822,    36.5579,2,-999.0000,2,      0.200,2
33RO20150410,     P16N.1,      13,          1,         18,         18,2,20150414,       1817,   -10.4984,  -150.9993,       5030,   200.0,  22.9958,  36.2050,2,  36.2061,2,    166.5,2,   165.8,2,    0.80,2,    4.10,2,    0.03,2,    0.44,4,   1.787,2,   1.171,2,   1.289,2,  2107.6,2,  2387.6,2,   7.9758,2,    24.99,-999.000,9,-999.0000,9, -999.00,9,  22.9852, -999.00,9,  -999.0,9,  -999.0,-999.000,9,-999.000,    56.0,2,    7.80,2,      7.293,3, -999.00,9,-999.000,-999.0000, -999.00,     -999.0,     -999.0,9,     -999.0,     -999.0,9,     -999.0,  -999.0,9,     -999.0,     -999.0,9,     -999.0,  22.9547,    36.3768,2,-999.0000,2,      0.050,2
33RO20150410,     P16N.1,      13,          1,         17,         17,2,20150414,       1817,   -10.4984,  -150.9993,       5030,   275.0,  16.3969,  35.2325,2,  35.2281,2,    136.9,2,   132.1,2,    4.80,2,   12.30,2,    0.00,2,    1.02,4,   2.127,2,   1.297,2,   1.054,2,  2150.8,2,  2324.7,2,   7.7818,2,    24.98,-999.000,9,-999.0000,9, -999.00,9,  16.4175, -999.00,9,  -999.0,9,  -999.0,-999.000,9,-999.000,    48.7,2,   15.30,2,     21.717,3, -999.00,9,-999.000,-999.0000, -999.00,     -999.0,     -999.0,9,     -999.0,     -999.0,9,     -999.0,  -999.0,9,     -999.0,     -999.0,9,     -999.0,  16.3525,    35.3942,2,-999.0000,2,     -999.0,9
33RO20150410,     P16N.1,      13,          1,         16,         16,2,20150414,       1817,   -10.4984,  -150.9993,       5030,   368.5,  10.3387,  34.7001,2,  34.7003,2,     73.8,2,    74.2,2,   20.50,2,   28.00,2,    0.00,2,    1.95,4,   0.887,2,   0.496,2,   0.214,2,  2220.3,6,  2300.1,2,   7.5417,2,    24.99,-999.000,9,-999.0000,9, -999.00,9,  10.3424, -999.00,9,  -999.0,9,  -999.0,-999.000,9,-999.000,    41.6,2, -999.00,9,     40.996,3, -999.00,9,-999.000,-999.0000, -999.00,     -999.0,     -999.0,9,     -999.0,     -999.0,9,     -999.0,  -999.0,9,     -999.0,     -999.0,9,     -999.0,  10.2948,    34.8639,6,-999.0000,2,     -999.0,9
33RO20150410,     P16N.1,      13,          1,         15,         15,2,20150414,       1817,   -10.4984,  -150.9993,       5030,   466.3,   8.3747,  34.6216,2,  34.6234,2,     91.5,2,    90.9,2,   28.60,2,   31.80,2,    0.00,2,    2.04,4,   0.414,6,   0.235,6,   0.089,6,  2224.9,2,  2306.6,2,   7.5401,2,    24.99,-999.000,9,-999.0000,9, -999.00,9,   8.3702, -999.00,9,  -999.0,9,  -999.0,-999.000,9,-999.000,    40.9,2, -999.00,9,     38.089,3, -999.00,9,-999.000,-999.0000, -999.00,     -999.0,     -999.0,9,     -999.0,     -999.0,9,     -999.0,  -999.0,9,     -999.0,     -999.0,9,     -999.0,   8.3256,    34.7866,2,-999.0000,2,     -999.0,9
33RO20150410,     P16N.1,      13,          1,         14,         14,2,20150414,       1817,   -10.4984,  -150.9993,       5030,   600.7,   6.9438,  34.5538,2,  34.5545,2,     96.5,2,    98.6,2,   38.20,2,   34.60,2,    0.00,2,    2.22,4,   0.211,2,   0.121,2,   0.138,4,  2238.1,2,  2310.9,2,   7.5193,2,    24.99,-999.000,9,-999.0000,9, -999.00,9,   6.9352, -999.00,9,  -999.0,9,  -999.0,-999.000,9,-999.000,    40.3,2, -999.00,9,     35.817,3, -999.00,9,-999.000,-999.0000, -999.00,     -999.0,     -999.0,9,     -999.0,     -999.0,9,     -999.0,  -999.0,9,     -999.0,     -999.0,9,     -999.0,   6.8866,    34.7175,2,-999.0000,2,     -999.0,9
33RO20150410,     P16N.1,      13,          1,         13,         13,2,20150414,       1817,   -10.4984,  -150.9993,       5030,   749.4,   5.7871,  34.5215,2,  34.5215,2,     98.1,2,    98.0,2,   50.90,2,   36.70,2,    0.00,2,    2.40,4,   0.097,2,   0.045,2,       0,2,  2253.9,2,  2321.3,2,   7.5024,6,    25.00,-999.000,9,-999.0000,9, -999.00,9,   5.7854, -999.00,9,  -999.0,9,  -999.0,-999.000,9,-999.000,    39.7,2, -999.00,9,     33.458,3, -999.00,9,-999.000,-999.0000, -999.00,     -999.0,     -999.0,9,     -999.0,     -999.0,9,     -999.0,  -999.0,9,     -999.0,     -999.0,9,     -999.0,   5.7215,    34.6842,2,-999.0000,2,     -999.0,9
33RO20150410,     P16N.1,      13,          1,         12,         12,2,20150414,       1817,   -10.4984,  -150.9993,       5030,   879.7,   5.0127,  34.5157,2,  34.5154,2,    102.8,2,   103.1,2,   61.30,2,   37.30,2,    0.00,2,    2.48,4,-999.000,9,-999.000,9,-999.000,9,  2264.7,2,  2333.0,2,   7.5025,2,    24.99,-999.000,9,-999.0000,9, -999.00,9,   5.0146, -999.00,9,  -999.0,9,  -999.0,-999.000,9,-999.000,    38.3,2, -999.00,9,     -999.0,9, -999.00,9,-999.000,-999.0000, -999.00,     -999.0,     -999.0,9,     -999.0,     -999.0,9,     -999.0,  -999.0,9,     -999.0,     -999.0,9,     -999.0,   4.9401,    34.6781,2,-999.0000,3,     -999.0,9
33RO20150410,     P16N.1,      13,          1,         11,         11,2,20150414,       1817,   -10.4984,  -150.9993,       5030,  1025.1,   4.4620,  34.5260,2,  34.5263,2,    107.2,2,   107.2,2,   71.50,2,   37.50,2,    0.00,2,    2.53,4,   0.033,3,   0.006,2,       0,2,  2271.4,2,  2341.1,2,   7.5058,2,    24.98,-999.000,9,-999.0000,9, -999.00,9,   4.4635, -999.00,9,  -999.0,9,  -999.0,-999.000,9,-999.000,    37.4,2, -999.00,9,     29.634,3, -999.00,9,-999.000,-999.0000, -999.00,     -999.0,     -999.0,9,     -999.0,     -999.0,9,     -999.0,  -999.0,9,     -999.0,     -999.0,9,     -999.0,   4.3806,    34.6891,2,-999.0000,3,     -999.0,9
33RO20150410,     P16N.1,      13,          1,         10,         10,2,20150414,       1817,   -10.4984,  -150.9993,       5030,  1233.6,   3.6709,  34.5522,2,  34.5517,2,    115.6,2,   116.3,2,   87.80,2,   37.20,2,    0.00,2,    2.54,4,-999.000,9,-999.000,9,-999.000,9,  2283.7,2,  2359.3,2,   7.5175,2,    25.00,-999.000,9,-999.0000,9, -999.00,9,   3.6694, -999.00,9,  -999.0,9,  -999.0,-999.000,9,-999.000,    38.0,2, -999.00,9,     -999.0,9, -999.00,9,-999.000,-999.0000, -999.00,     -999.0,     -999.0,9,     -999.0,     -999.0,9,     -999.0,  -999.0,9,     -999.0,     -999.0,9,     -999.0,   3.5784,    34.7146,2,-999.0000,2,     -999.0,9
33RO20150410,     P16N.1,      13,          1,          9,          9,2,20150414,       1817,   -10.4984,  -150.9993,       5030,  1500.4,   2.9375,  34.5912,2,  34.5922,2,    121.5,2,   123.3,2,  106.30,2,   37.00,2,    0.00,2,    2.59,4,   0.036,3,   0.001,2,       0,2,  2299.1,2,  2382.3,2,   7.5284,6,    25.02,-999.000,9,-999.0000,9, -999.00,9,   2.9368, -999.00,9,  -999.0,9,  -999.0,-999.000,9,-999.000,    36.2,2, -999.00,9,     25.739,3, -999.00,9,-999.000,-999.0000, -999.00,     -999.0,     -999.0,9,     -999.0,     -999.0,9,     -999.0,  -999.0,9,     -999.0,     -999.0,9,     -999.0,   2.8303,    34.7553,2,-999.0000,2,     -999.0,9
33RO20150410,     P16N.1,      13,          1,          8,          8,2,20150414,       1817,   -10.4984,  -150.9993,       5030,  1863.0,   2.3444,  34.6258,2,  34.6256,2,    134.2,2,   135.3,2,  118.30,2,   36.30,2,    0.00,2,    2.56,4,-999.000,9,-999.000,9,-999.000,9,  2306.7,2,  2403.7,2,   7.5479,2,    25.00,-999.000,9,-999.0000,9, -999.00,9,   2.3444, -999.00,9,  -999.0,9,  -999.0,-999.000,9,-999.000,    35.2,2, -999.00,9,     -999.0,9, -999.00,9,-999.000,-999.0000, -999.00,     -999.0,     -999.0,9,     -999.0,     -999.0,9,     -999.0,  -999.0,9,     -999.0,     -999.0,9,     -999.0,   2.2144,    34.7888,2,-999.0000,3,     -999.0,9
33RO20150410,     P16N.1,      13,          1,          7,          7,2,20150414,       1817,   -10.4984,  -150.9993,       5030,  2267.0,   1.9537,  34.6564,2,  34.6590,2,    140.1,2,   141.6,2,  128.40,2,   35.90,2,    0.00,2,    2.54,4,  -0.001,2,  -0.001,2,       0,2,  2315.0,2,  2410.6,2,   7.5621,2,    25.02,-999.000,9,-999.0000,9, -999.00,9,   1.9536, -999.00,9,  -999.0,9,  -999.0,-999.000,9,-999.000,    37.3,2, -999.00,9,     22.033,3, -999.00,9,-999.000,-999.0000, -999.00,     -999.0,     -999.0,9,     -999.0,     -999.0,9,     -999.0,  -999.0,9,     -999.0,     -999.0,9,     -999.0,   1.7950,    34.8224,2,-999.0000,3,     -999.0,9
33RO20150410,     P16N.1,      13,          1,          6,          6,2,20150414,       1817,   -10.4984,  -150.9993,       5030,  2666.5,   1.7880,  34.6708,2,  34.6716,2,    146.5,2,   147.1,2,  133.30,2,   35.60,2,    0.00,2,    2.54,4,-999.000,9,-999.000,9,-999.000,9,  2316.0,2,  2414.9,2,   7.5726,2,    25.00,-999.000,9,-999.0000,9, -999.00,9,   1.7878, -999.00,9,  -999.0,9,  -999.0,-999.000,9,-999.000,    35.5,2, -999.00,9,     -999.0,9, -999.00,9,-999.000,-999.0000, -999.00,     -999.0,     -999.0,9,     -999.0,     -999.0,9,     -999.0,  -999.0,9,     -999.0,     -999.0,9,     -999.0,   1.5964,    34.8351,2,-999.0000,2,     -999.0,9
33RO20150410,     P16N.1,      13,          1,          5,          5,2,20150414,       1817,   -10.4984,  -150.9993,       5030,  3067.7,   1.6497,  34.6802,2,  34.6814,2,    152.0,2,   153.3,2,  135.30,2,   35.20,2,    0.00,2,    2.51,4,  -0.004,2,  -0.002,2,       0,2,  2316.1,2,  2417.8,2,   7.5821,2,    25.00,-999.000,9,-999.0000,9, -999.00,9,   1.6497, -999.00,9,  -999.0,9,  -999.0,-999.000,9,-999.000,    35.4,2, -999.00,9,     20.813,3, -999.00,9,-999.000,-999.0000, -999.00,     -999.0,     -999.0,9,     -999.0,     -999.0,9,     -999.0,  -999.0,9,     -999.0,     -999.0,9,     -999.0,   1.4230,    34.8449,2,-999.0000,2,     -999.0,9
33RO20150410,     P16N.1,      13,          1,          4,          4,2,20150414,       1817,   -10.4984,  -150.9993,       5030,  3532.6,   1.5337,  34.6873,2,  34.6877,2,    161.5,2,   161.5,2,  134.90,6,   34.80,6,    0.00,6,    2.48,4,-999.000,9,-999.000,9,-999.000,9,  2308.8,2,  2413.9,2,   7.5910,2,    25.00,-999.000,9,-999.0000,9, -999.00,9,   1.5336, -999.00,9,  -999.0,9,  -999.0,-999.000,9,-999.000,    39.2,2, -999.00,9,     -999.0,9, -999.00,9,-999.000,-999.0000, -999.00,     -999.0,     -999.0,9,     -999.0,     -999.0,9,     -999.0,  -999.0,9,     -999.0,     -999.0,9,     -999.0,   1.2633,    34.8513,2,-999.0000,2,     -999.0,9
33RO20150410,     P16N.1,      13,          1,          3,          3,2,20150414,       1817,   -10.4984,  -150.9993,       5030,  4032.0,   1.4270,  34.6941,2,  34.6942,2,    175.8,2,   175.1,2,  128.10,6,   33.70,6,    0.00,6,    2.40,4,   0.000,2,  -0.001,2,       0,2,  2292.0,2,  2399.1,2,   7.5970,6,    25.01,-999.000,9,-999.0000,9, -999.00,9,   1.4265, -999.00,9,  -999.0,9,  -999.0,-999.000,9,-999.000,    36.5,2, -999.00,9,     19.797,3, -999.00,9,-999.000,-999.0000, -999.00,     -999.0,     -999.0,9,     -999.0,     -999.0,9,     -999.0,  -999.0,9,     -999.0,     -999.0,9,     -999.0,   1.1066,    34.8578,2,-999.0000,2,     -999.0,9
33RO20150410,     P16N.1,      13,          1,          2,          2,2,20150414,       1817,   -10.4984,  -150.9993,       5030,  4526.9,   1.3296,  34.7011,2,  34.7013,2,    187.9,2,   186.5,2,  123.80,6,   33.00,6,    0.00,6,    2.33,4,-999.000,9,-999.000,9,-999.000,9,  2279.4,2,  2386.0,6,   7.6024,2,    25.04,-999.000,9,-999.0000,9, -999.00,9,   1.3295, -999.00,9,  -999.0,9,  -999.0,-999.000,9,-999.000,    39.6,2, -999.00,9,     -999.0,9, -999.00,9,-999.000,-999.0000, -999.00,     -999.0,     -999.0,9,     -999.0,     -999.0,9,     -999.0,  -999.0,9,     -999.0,     -999.0,9,     -999.0,   0.9567,    34.8649,2,-999.0000,2,     -999.0,9
33RO20150410,     P16N.1,      13,          1,          1,          1,2,20150414,       1817,   -10.4984,  -150.9993,       5030,  5019.8,   1.3240,  34.7038,2,  34.7042,2,    193.1,2,   192.5,2,  121.70,6,   32.50,6,    0.00,6,    2.30,4,   0.005,6,   0.001,6,       0,6,  2274.6,6,  2380.5,2,   7.6039,6,    25.02,-999.000,9,-999.0000,9, -999.00,9,   1.3241, -999.00,9,  -999.0,9,  -999.0,-999.000,9,-999.000,    38.0,2, -999.00,9,     18.899,3, -999.00,9,-999.000,-999.0000, -999.00,     -999.0,     -999.0,9,     -999.0,     -999.0,9,     -999.0,  -999.0,9,     -999.0,     -999.0,9,     -999.0,   0.8931,    34.8679,2,-999.0000,2,     -999.0,9