BOTTLE,20210709CCHSIOCBG
EXPOCODE,SECT_ID,STNNBR,CASTNO,SAMPNO,BTLNBR,BTLNBR_FLAG_W,DATE,TIME,LATITUDE,LONGITUDE,DEPTH,CTDPRS,CTDTMP,CTDSAL,CTDSAL_FLAG_W,SALNTY,SALNTY_FLAG_W,CTDOXY,CTDOXY_FLAG_W,OXYGEN,OXYGEN_FLAG_W,SILCAT,SILCAT_FLAG_W,NITRAT,NITRAT_FLAG_W,NITRIT,NITRIT_FLAG_W,PHSPHT,PHSPHT_FLAG_W,CFC-11,CFC-11_FLAG_W,CFC-12,CFC-12_FLAG_W,SF6,SF6_FLAG_W,TCARBN,TCARBN_FLAG_W,ALKALI,ALKALI_FLAG_W,PH_TOT,PH_TOT_FLAG_W,PH_TMP,TRITUM,TRITUM_FLAG_W,HELIUM,HELIUM_FLAG_W,DELHE3,DELHE3_FLAG_W,REFTMP,DELC13,DELC13_FLAG_W,DELC14,DELC14_FLAG_W,C14ERR,NEON,NEON_FLAG_W,NEONER,DOC,DOC_FLAG_W,TDN,TDN_FLAG_W,N2O,N2O_FLAG_W,ARGON,ARGON_FLAG_W,TRITER,HELIER,DELHER,ARGONER,KRYPTON,KRYPTON_FLAG_W,KRYPTONER,XENON,XENON_FLAG_W,XENONER,14C-DOC,14C-DOC_FLAG_W,14C-DOCERR,13C-DOC,13C-DOC_FLAG_W,13C-DOCERR,THETA,SALTREF,SALTREF_FLAG_W,SBE35,SBE35_FLAG_W,CHLORA,CHLORA_FLAG_W
,,,,,,,,,,,METERS,DBAR,ITS-90,PSS-78,,PSS-78,,UMOL/KG,,UMOL/KG,,UMOL/KG,,UMOL/KG,,UMOL/KG,,UMOL/KG,,PMOL/KG,,PMOL/KG,,FMOL/KG,,UMOL/KG,,UMOL/KG,,,,DEG C,TU,,NMOL/KG,,PERCNT,,DEG C,/MILLE,,/MILLE,,/MILLE,NMOL/KG,,NMOL/KG,UMOL/KG,,UMOL/KG,,NMOL/KG,,UMOL/KG,,TU,NMOL/KG,PERCNT,UMOL/KG,NMOL/KG,,NMOL/KG,NMOL/KG,,NMOL/KG,/MILLE,,/MILLE,/MILLE,,/MILLE,DEG C,G/KG,,ITS-90,,MG/M3,
33RO20150410,     P16N.1,       9,          1,         24,         24,2,20150413,       1321,   -12.5006,  -150.9997,       4892,    15.6,  29.1644,  35.9043,2,  35.9008,2,    192.6,2,   192.3,2,    0.60,2,    0.00,2,    0.00,2,    0.12,4,   1.334,3,   0.907,2,   1.188,2,  2002.9,6,  2368.1,2,   8.1226,2,    24.99,-999.000,9,-999.0000,9, -999.00,9,  29.1633, -999.00,9,  -999.0,9,  -999.0,-999.000,9,-999.000,    77.6,2,    4.90,2,      5.811,3, -999.00,9,-999.000,-999.0000, -999.00,     -999.0,     -999.0,9,     -999.0,     -999.0,9,     -999.0,  -999.0,9,     -999.0,     -999.0,9,     -999.0,  29.1606,    36.0701,2,-999.0000,2,     -999.0,9
33RO20150410,     P16N.1,       9,          1,         23,         23,2,20150413,       1321,   -12.5006,  -150.9997,       4892,    34.1,  29.1667,  35.9044,2,  35.9030,2,    193.1,2,   192.6,2,    0.70,2,    0.00,2,    0.00,2,    0.10,4,   1.362,3,   0.913,6,   1.218,2,  2002.5,2,  2367.5,2,   8.1224,6,    25.00,-999.000,9,-999.0000,9, -999.00,9,  29.1655, -999.00,9,  -999.0,9,  -999.0,-999.000,9,-999.000,    79.6,2,    5.70,2,      5.803,3, -999.00,9,-999.000,-999.0000, -999.00,     -999.0,     -999.0,9,     -999.0,     -999.0,9,     -999.0,  -999.0,9,     -999.0,     -999.0,9,     -999.0,  29.1584,    36.0723,2,-999.0000,2,     -999.0,9
33RO20150410,     P16N.1,       9,          1,         22,         22,2,20150413,       1321,   -12.5006,  -150.9997,       4892,    58.4,  29.1452,  35.9102,2,  35.9092,2,    193.3,2,   192.6,2,    0.60,2,    0.00,2,    0.01,2,    0.26,4,   1.395,3,   0.915,2,    1.21,2,  2003.3,2,  2367.5,6,   8.1229,2,    24.98,-999.000,9,-999.0000,9, -999.00,9,  29.1410, -999.00,9,  -999.0,9,  -999.0,-999.000,9,-999.000,    76.5,2,    5.40,2,      5.824,3, -999.00,9,-999.000,-999.0000, -999.00,     -999.0,     -999.0,9,     -999.0,     -999.0,9,     -999.0,  -999.0,9,     -999.0,     -999.0,9,     -999.0,  29.1310,    36.0785,2,-999.0000,2,     -999.0,9
33RO20150410,     P16N.1,       9,          1,         21,         21,2,20150413,       1321,   -12.5006,  -150.9997,       4892,    83.7,  28.6843,  36.0458,2,  36.0519,2,    196.2,2,   195.3,2,    0.70,2,    0.00,2,    0.00,2,    0.16,4,   1.392,3,   0.931,2,   1.221,2,  2017.4,2,  2377.0,2,   8.1139,6,    25.00,-999.000,9,-999.0000,9, -999.00,9,  28.6809, -999.00,9,  -999.0,9,  -999.0,-999.000,9,-999.000,    75.3,2,    5.40,2,      6.010,3, -999.00,9,-999.000,-999.0000, -999.00,     -999.0,     -999.0,9,     -999.0,     -999.0,9,     -999.0,  -999.0,9,     -999.0,     -999.0,9,     -999.0,  28.6642,    36.2219,2,-999.0000,2,     -999.0,9
33RO20150410,     P16N.1,       9,          1,         20,         20,2,20150413,       1321,   -12.5006,  -150.9997,       4892,   118.0,  26.8520,  36.3736,2,  36.3739,2,    184.4,2,   184.0,2,    0.90,2,    0.70,2,    0.42,2,    0.28,4,   1.488,3,   0.998,2,   1.222,2,  2061.9,2,  2398.3,2,   8.0698,2,    24.99,-999.000,9,-999.0000,9, -999.00,9,  26.8486, -999.00,9,  -999.0,9,  -999.0,-999.000,9,-999.000,    67.8,2,    5.80,2,      6.381,3, -999.00,9,-999.000,-999.0000, -999.00,     -999.0,     -999.0,9,     -999.0,     -999.0,9,     -999.0,  -999.0,9,     -999.0,     -999.0,9,     -999.0,  26.8249,    36.5454,2,-999.0000,2,     -999.0,9
33RO20150410,     P16N.1,       9,          1,         19,         19,2,20150413,       1321,   -12.5006,  -150.9997,       4892,   176.0,  24.6251,  36.3358,2,  36.3358,2,    164.8,2,   164.9,2,    0.90,2,    3.40,2,    0.51,2,    0.25,4,   1.652,3,   1.100,2,   1.276,2,  2096.7,2,  2394.2,2,   8.0070,2,    24.99,-999.000,9,-999.0000,9, -999.00,9,  24.6164, -999.00,9,  -999.0,9,  -999.0,-999.000,9,-999.000,    59.8,2,    7.70,2,      6.819,3, -999.00,9,-999.000,-999.0000, -999.00,     -999.0,     -999.0,9,     -999.0,     -999.0,9,     -999.0,  -999.0,9,     -999.0,     -999.0,9,     -999.0,  24.5871,    36.5072,2,-999.0000,2,     -999.0,9
33RO20150410,     P16N.1,       9,          1,         18,         18,2,20150413,       1321,   -12.5006,  -150.9997,       4892,   249.6,  19.7180,  35.7152,2,  35.7166,2,    173.5,2,  -999.0,9,    1.00,2,    5.20,2,    0.01,2,    0.29,4,   2.095,3,   1.323,2,   1.332,2,  2111.8,2,  2353.1,2,   7.9185,2,    24.98,-999.000,9,-999.0000,9, -999.00,9,  19.6519, -999.00,9,  -999.0,9,  -999.0,-999.000,9,-999.000,    52.5,2,    8.10,2,      9.492,3, -999.00,9,-999.000,-999.0000, -999.00,     -999.0,     -999.0,9,     -999.0,     -999.0,9,     -999.0,  -999.0,9,     -999.0,     -999.0,9,     -999.0,  19.6721,    35.8850,2,-999.0000,2,     -999.0,9
33RO20150410,     P16N.1,       9,          1,         17,         17,2,20150413,       1321,   -12.5006,  -150.9997,       4892,   334.5,  13.8487,  34.9255,2,  34.9286,2,    106.7,2,   110.2,2,    8.20,2,   17.50,2,    0.00,2,    0.90,4,   1.970,3,   1.173,2,   0.805,2,  2175.1,2,  2305.4,2,   7.6882,2,    25.00,-999.000,9,-999.0000,9, -999.00,9,  13.8463, -999.00,9,  -999.0,9,  -999.0,-999.000,9,-999.000,    48.4,2, -999.00,9,     28.763,3, -999.00,9,-999.000,-999.0000, -999.00,     -999.0,     -999.0,9,     -999.0,     -999.0,9,     -999.0,  -999.0,9,     -999.0,     -999.0,9,     -999.0,  13.8005,    35.0933,2,-999.0000,2,     -999.0,9
33RO20150410,     P16N.1,       9,          1,         16,         16,2,20150413,       1321,   -12.5006,  -150.9997,       4892,   431.9,  10.2239,  34.6771,2,  34.6768,2,     86.6,2,    86.7,2,   19.40,2,   27.30,2,    0.01,2,    1.34,4,   0.940,3,   0.538,2,   0.274,2,  2213.0,6,  2297.1,2,   7.5664,3,    25.00,-999.000,9,-999.0000,9, -999.00,9,  10.2227, -999.00,9,  -999.0,9,  -999.0,-999.000,9,-999.000,    43.2,2, -999.00,9,     37.402,3, -999.00,9,-999.000,-999.0000, -999.00,     -999.0,     -999.0,9,     -999.0,     -999.0,9,     -999.0,  -999.0,9,     -999.0,     -999.0,9,     -999.0,  10.1727,    34.8404,2,-999.0000,2,     -999.0,9
33RO20150410,     P16N.1,       9,          1,         15,         15,2,20150413,       1321,   -12.5006,  -150.9997,       4892,   550.7,   7.4868,  34.5422,2,  34.5422,2,    130.9,2,   129.1,2,   28.50,2,   30.20,2,    0.01,2,    1.52,4,   0.546,3,   0.297,6,   0.091,6,  2208.9,2,  2301.9,2,   7.5886,2,    24.99,-999.000,9,-999.0000,9, -999.00,9,   7.4862, -999.00,9,  -999.0,9,  -999.0,-999.000,9,-999.000,    40.8,2, -999.00,9,     29.528,3, -999.00,9,-999.000,-999.0000, -999.00,     -999.0,     -999.0,9,     -999.0,     -999.0,9,     -999.0,  -999.0,9,     -999.0,     -999.0,9,     -999.0,   7.4323,    34.7051,2,-999.0000,2,     -999.0,9
33RO20150410,     P16N.1,       9,          1,         14,         14,2,20150413,       1321,   -12.5006,  -150.9997,       4892,   700.6,   6.0013,  34.4949,2,  34.4972,2,    135.1,2,   133.4,2,   41.00,2,   33.00,2,    0.00,2,    1.76,4,   0.273,3,   0.144,2,   0.053,2,  2226.7,2,  2313.1,2,   7.5675,2,    25.00,-999.000,9,-999.0000,9, -999.00,9,   5.9945, -999.00,9,  -999.0,9,  -999.0,-999.000,9,-999.000,    38.9,2, -999.00,9,     27.859,3, -999.00,9,-999.000,-999.0000, -999.00,     -999.0,     -999.0,9,     -999.0,     -999.0,9,     -999.0,  -999.0,9,     -999.0,     -999.0,9,     -999.0,   5.9391,    34.6599,2,-999.0000,2,     -999.0,9
33RO20150410,     P16N.1,       9,          1,         13,         13,2,20150413,       1321,   -12.5006,  -150.9997,       4892,   850.5,   5.1170,  34.4987,2,  34.4974,2,    122.6,2,   122.2,2,   55.50,2,   35.70,2,    0.02,2,    2.11,4,   0.067,3,   0.039,2,       0,2,  2251.0,2,  2325.5,2,   7.5364,6,    25.01,-999.000,9,-999.0000,9, -999.00,9,   5.1163, -999.00,9,  -999.0,9,  -999.0,-999.000,9,-999.000,    39.5,2, -999.00,9,     28.753,3, -999.00,9,-999.000,-999.0000, -999.00,     -999.0,     -999.0,9,     -999.0,     -999.0,9,     -999.0,  -999.0,9,     -999.0,     -999.0,9,     -999.0,   5.0463,    34.6601,2,-999.0000,2,     -999.0,9
33RO20150410,     P16N.1,       9,          1,         12,         12,2,20150413,       1321,   -12.5006,  -150.9997,       4892,  1000.6,   4.4990,  34.5098,2,  34.5104,2,    119.1,2,   122.2,2,   66.10,2,   36.40,2,    0.01,2,    2.29,4,   0.036,3,   0.017,2,       0,2,  2260.0,2,  2337.0,2,   7.5312,2,    25.00,-999.000,9,-999.0000,9, -999.00,9,   4.4974, -999.00,9,  -999.0,9,  -999.0,-999.000,9,-999.000,    38.3,2, -999.00,9,     27.915,3, -999.00,9,-999.000,-999.0000, -999.00,     -999.0,     -999.0,9,     -999.0,     -999.0,9,     -999.0,  -999.0,9,     -999.0,     -999.0,9,     -999.0,   4.4194,    34.6732,2,-999.0000,2,     -999.0,9
33RO20150410,     P16N.1,       9,          1,         11,         11,2,20150413,       1321,   -12.5006,  -150.9997,       4892,  1167.5,   3.7660,  34.5375,2,  34.5362,2,    124.6,2,   125.0,2,   80.70,2,   36.80,2,    0.01,2,    2.52,4,   0.012,3,   0.005,2,       0,2,  2275.0,2,  2351.8,2,   7.5297,2,    25.00,-999.000,9,-999.0000,9, -999.00,9,   3.7670, -999.00,9,  -999.0,9,  -999.0,-999.000,9,-999.000,    36.4,2, -999.00,9,     26.856,3, -999.00,9,-999.000,-999.0000, -999.00,     -999.0,     -999.0,9,     -999.0,     -999.0,9,     -999.0,  -999.0,9,     -999.0,     -999.0,9,     -999.0,   3.6782,    34.6990,2,-999.0000,2,     -999.0,9
33RO20150410,     P16N.1,       9,          1,         10,         10,2,20150413,       1321,   -12.5006,  -150.9997,       4892,  1400.8,   3.1743,  34.5640,2,  34.5643,2,    133.8,2,   133.2,2,   92.00,2,   36.50,2,    0.01,2,    2.67,4,-999.000,9,-999.000,9,-999.000,9,  2283.1,2,  2363.4,2,   7.5408,2,    24.99,-999.000,9,-999.0000,9, -999.00,9,   3.1740, -999.00,9,  -999.0,9,  -999.0,-999.000,9,-999.000,    36.8,2, -999.00,9,     -999.0,9, -999.00,9,-999.000,-999.0000, -999.00,     -999.0,     -999.0,9,     -999.0,     -999.0,9,     -999.0,  -999.0,9,     -999.0,     -999.0,9,     -999.0,   3.0728,    34.7273,2,-999.0000,2,     -999.0,9
33RO20150410,     P16N.1,       9,          1,          9,          9,2,20150413,       1321,   -12.5006,  -150.9997,       4892,  1733.5,   2.4429,  34.6114,2,  34.6111,2,    142.9,2,   142.2,2,  109.20,2,   36.00,2,    0.00,2,    2.89,4,   0.004,3,  -0.001,2,       0,2,  2293.9,2,  2380.8,2,   7.5554,6,    25.01,-999.000,9,-999.0000,9, -999.00,9,   2.4429, -999.00,9,  -999.0,9,  -999.0,-999.000,9,-999.000,    39.7,2, -999.00,9,     23.115,3, -999.00,9,-999.000,-999.0000, -999.00,     -999.0,     -999.0,9,     -999.0,     -999.0,9,     -999.0,  -999.0,9,     -999.0,     -999.0,9,     -999.0,   2.3224,    34.7743,6,-999.0000,2,     -999.0,9
33RO20150410,     P16N.1,       9,          1,          8,          8,2,20150413,       1321,   -12.5006,  -150.9997,       4892,  2132.3,   2.0188,  34.6483,2,  34.6481,2,    147.1,2,   147.2,2,  120.60,2,   35.70,2,    0.01,2,    3.05,4,-999.000,9,-999.000,9,-999.000,9,  2304.1,2,  2396.9,2,   7.5673,2,    25.00,-999.000,9,-999.0000,9, -999.00,9,   2.0186, -999.00,9,  -999.0,9,  -999.0,-999.000,9,-999.000,    40.5,2, -999.00,9,     -999.0,9, -999.00,9,-999.000,-999.0000, -999.00,     -999.0,     -999.0,9,     -999.0,     -999.0,9,     -999.0,  -999.0,9,     -999.0,     -999.0,9,     -999.0,   1.8708,    34.8115,2,-999.0000,2,     -999.0,9
33RO20150410,     P16N.1,       9,          1,          7,          7,2,20150413,       1321,   -12.5006,  -150.9997,       4892,  2532.2,   1.8447,  34.6680,2,  34.6702,2,    147.4,2,   147.1,2,  129.70,2,   35.70,2,    0.02,2,    3.17,4,   0.056,3,   0.000,2,       0,2,  2313.8,2,  2407.8,2,   7.5720,2,    25.01,-999.000,9,-999.0000,9, -999.00,9,   1.8445, -999.00,9,  -999.0,9,  -999.0,-999.000,9,-999.000,    36.9,2, -999.00,9,     21.388,3, -999.00,9,-999.000,-999.0000, -999.00,     -999.0,     -999.0,9,     -999.0,     -999.0,9,     -999.0,  -999.0,9,     -999.0,     -999.0,9,     -999.0,   1.6643,    34.8336,2,-999.0000,2,     -999.0,9
33RO20150410,     P16N.1,       9,          1,          6,          6,2,20150413,       1321,   -12.5006,  -150.9997,       4892,  2934.2,   1.7176,  34.6777,2,  34.6757,2,    153.5,2,   152.3,2,  132.30,2,   35.40,2,    0.01,2,    3.19,4,-999.000,9,-999.000,9,-999.000,9,  2314.8,6,  2412.1,2,   7.5816,6,    25.02,-999.000,9,-999.0000,9, -999.00,9,   1.7176, -999.00,9,  -999.0,9,  -999.0,-999.000,9,-999.000,    36.7,2, -999.00,9,     -999.0,9, -999.00,9,-999.000,-999.0000, -999.00,     -999.0,     -999.0,9,     -999.0,     -999.0,9,     -999.0,  -999.0,9,     -999.0,     -999.0,9,     -999.0,   1.5023,    34.8392,2,-999.0000,2,     -999.0,9
33RO20150410,     P16N.1,       9,          1,          5,          5,2,20150413,       1321,   -12.5006,  -150.9997,       4892,  3333.2,   1.6152,  34.6838,2,  34.6843,2,    160.7,2,   159.7,2,  132.00,2,   35.00,2,    0.01,2,    3.18,4,   0.011,3,  -0.001,2,       0,2,  2308.1,2,  2407.6,2,   7.5869,2,    24.99,-999.000,9,-999.0000,9, -999.00,9,   1.6153, -999.00,9,  -999.0,9,  -999.0,-999.000,9,-999.000,    36.5,2, -999.00,9,     20.486,3, -999.00,9,-999.000,-999.0000, -999.00,     -999.0,     -999.0,9,     -999.0,     -999.0,9,     -999.0,  -999.0,9,     -999.0,     -999.0,9,     -999.0,   1.3631,    34.8479,2,-999.0000,2,     -999.0,9
33RO20150410,     P16N.1,       9,          1,          4,          4,2,20150413,       1321,   -12.5006,  -150.9997,       4892,  3733.3,   1.4765,  34.6914,2,  34.6905,2,    172.0,2,   170.8,2,  129.20,2,   34.30,2,    0.01,2,    3.12,4,-999.000,9,-999.000,9,-999.000,9,  2296.4,2,  2400.2,2,   7.5944,2,    25.00,-999.000,9,-999.0000,9, -999.00,9,   1.4766, -999.00,9,  -999.0,9,  -999.0,-999.000,9,-999.000,    36.4,2, -999.00,9,     -999.0,9, -999.00,9,-999.000,-999.0000, -999.00,     -999.0,     -999.0,9,     -999.0,     -999.0,9,     -999.0,  -999.0,9,     -999.0,     -999.0,9,     -999.0,   1.1867,    34.8541,6,-999.0000,3,     -999.0,9
33RO20150410,     P16N.1,       9,          1,          3,          3,2,20150413,       1321,   -12.5006,  -150.9997,       4892,  4133.1,   1.4050,  34.6968,2,  34.6995,2,    180.9,2,   179.1,2,  126.00,2,   33.70,2,    0.00,2,    3.04,4,  -0.004,3,  -0.001,2,       0,2,  2288.1,2,  2388.9,2,   7.5991,6,    25.00,-999.000,9,-999.0000,9, -999.00,9,   1.4051, -999.00,9,  -999.0,9,  -999.0,-999.000,9,-999.000,    38.1,2, -999.00,9,     19.467,3, -999.00,9,-999.000,-999.0000, -999.00,     -999.0,     -999.0,9,     -999.0,     -999.0,9,     -999.0,  -999.0,9,     -999.0,     -999.0,9,     -999.0,   1.0741,    34.8631,2,-999.0000,3,     -999.0,9
33RO20150410,     P16N.1,       9,          1,          2,          2,2,20150413,       1321,   -12.5006,  -150.9997,       4892,  4520.8,   1.3357,  34.7017,2,  34.7030,2,    188.4,2,   187.1,2,  123.20,2,   33.10,2,    0.01,2,    2.99,4,   0.002,3,   0.000,2,       0,2,  2278.8,2,  2383.0,3,   7.6029,2,    25.01,-999.000,9,-999.0000,9, -999.00,9,   1.3359, -999.00,9,  -999.0,9,  -999.0,-999.000,9,-999.000,    38.4,2, -999.00,9,     19.024,3, -999.00,9,-999.000,-999.0000, -999.00,     -999.0,     -999.0,9,     -999.0,     -999.0,9,     -999.0,  -999.0,9,     -999.0,     -999.0,9,     -999.0,   0.9633,    34.8666,2,-999.0000,2,     -999.0,9
33RO20150410,     P16N.1,       9,          1,          1,          1,2,20150413,       1321,   -12.5006,  -150.9997,       4892,  4881.8,   1.3107,  34.7045,2,  34.7046,2,    193.5,2,   194.4,2,  122.00,2,   32.70,2,    0.01,2,    2.96,4,-999.000,9,-999.000,9,-999.000,9,  2274.0,6,  2378.2,2,   7.6046,2,    25.01,-999.000,9,-999.0000,9, -999.00,9,   1.3110, -999.00,9,  -999.0,9,  -999.0,-999.000,9,-999.000,    38.4,2, -999.00,9,     -999.0,9, -999.00,9,-999.000,-999.0000, -999.00,     -999.0,     -999.0,9,     -999.0,     -999.0,9,     -999.0,  -999.0,9,     -999.0,     -999.0,9,     -999.0,   0.8968,    34.8682,2,-999.0000,2,     -999.0,9