BOTTLE,20210709CCHSIOCBG
EXPOCODE,SECT_ID,STNNBR,CASTNO,SAMPNO,BTLNBR,BTLNBR_FLAG_W,DATE,TIME,LATITUDE,LONGITUDE,DEPTH,CTDPRS,CTDTMP,CTDSAL,CTDSAL_FLAG_W,SALNTY,SALNTY_FLAG_W,CTDOXY,CTDOXY_FLAG_W,OXYGEN,OXYGEN_FLAG_W,SILCAT,SILCAT_FLAG_W,NITRAT,NITRAT_FLAG_W,NITRIT,NITRIT_FLAG_W,PHSPHT,PHSPHT_FLAG_W,CFC-11,CFC-11_FLAG_W,CFC-12,CFC-12_FLAG_W,SF6,SF6_FLAG_W,TCARBN,TCARBN_FLAG_W,ALKALI,ALKALI_FLAG_W,PH_TOT,PH_TOT_FLAG_W,PH_TMP,TRITUM,TRITUM_FLAG_W,HELIUM,HELIUM_FLAG_W,DELHE3,DELHE3_FLAG_W,REFTMP,DELC13,DELC13_FLAG_W,DELC14,DELC14_FLAG_W,C14ERR,NEON,NEON_FLAG_W,NEONER,DOC,DOC_FLAG_W,TDN,TDN_FLAG_W,N2O,N2O_FLAG_W,ARGON,ARGON_FLAG_W,TRITER,HELIER,DELHER,ARGONER,KRYPTON,KRYPTON_FLAG_W,KRYPTONER,XENON,XENON_FLAG_W,XENONER,14C-DOC,14C-DOC_FLAG_W,14C-DOCERR,13C-DOC,13C-DOC_FLAG_W,13C-DOCERR,THETA,SALTREF,SALTREF_FLAG_W,SBE35,SBE35_FLAG_W,CHLORA,CHLORA_FLAG_W
,,,,,,,,,,,METERS,DBAR,ITS-90,PSS-78,,PSS-78,,UMOL/KG,,UMOL/KG,,UMOL/KG,,UMOL/KG,,UMOL/KG,,UMOL/KG,,PMOL/KG,,PMOL/KG,,FMOL/KG,,UMOL/KG,,UMOL/KG,,,,DEG C,TU,,NMOL/KG,,PERCNT,,DEG C,/MILLE,,/MILLE,,/MILLE,NMOL/KG,,NMOL/KG,UMOL/KG,,UMOL/KG,,NMOL/KG,,UMOL/KG,,TU,NMOL/KG,PERCNT,UMOL/KG,NMOL/KG,,NMOL/KG,NMOL/KG,,NMOL/KG,/MILLE,,/MILLE,/MILLE,,/MILLE,DEG C,G/KG,,ITS-90,,MG/M3,
33RO20150410,     P16N.1,      56,          1,         24,         24,2,20150426,       0145,     0.7413,  -150.9996,       4276,     9.8,  28.3576,  35.0968,2,  35.0950,2,    196.5,2,   196.8,2,    1.30,2,    3.00,2,    0.34,2,    0.42,4,   1.555,3,   0.969,2,   1.252,2,  2013.1,2,  2309.6,6,   8.0335,6,    25.00,-999.000,9,-999.0000,9, -999.00,9,-999.0000, -999.00,9,  -999.0,9,  -999.0,-999.000,9,-999.000,    59.6,2,    8.40,2,      7.115,3, -999.00,9,-999.000,-999.0000, -999.00,     -999.0,     -999.0,9,     -999.0,     -999.0,9,     -999.0,  -999.0,9,     -999.0,     -999.0,9,     -999.0,  28.3553,    35.2605,2,-999.0000,2,     -999.0,9
33RO20150410,     P16N.1,      56,          1,         23,         23,2,20150426,       0145,     0.7413,  -150.9996,       4276,    25.4,  28.0432,  35.0795,2,  35.0793,2,    195.8,2,   195.2,2,    1.30,2,    3.00,2,    0.38,2,    0.43,4,-999.000,9,-999.000,9,-999.000,9,  2012.7,6,  2307.7,2,   8.0304,2,    25.01,-999.000,9,-999.0000,9, -999.00,9,-999.0000, -999.00,9,  -999.0,9,  -999.0,-999.000,9,-999.000,    60.1,2,    7.70,2,     -999.0,9, -999.00,9,-999.000,-999.0000, -999.00,     -999.0,     -999.0,9,     -999.0,     -999.0,9,     -999.0,  -999.0,9,     -999.0,     -999.0,9,     -999.0,  28.0372,    35.2447,6,-999.0000,3,     -999.0,9
33RO20150410,     P16N.1,      56,          1,         22,         22,2,20150426,       0145,     0.7413,  -150.9996,       4276,    51.2,  27.5544,  35.0683,2,  35.0718,2,    191.1,2,   190.5,2,    1.50,2,    3.50,2,    0.55,2,    0.47,4,   1.567,3,   0.986,2,   1.224,2,  2021.7,2,  2307.2,2,   8.0166,6,    25.01,-999.000,9,-999.0000,9, -999.00,9,-999.0000, -999.00,9,  -999.0,9,  -999.0,-999.000,9,-999.000,    60.7,2,    8.90,2,      7.272,3, -999.00,9,-999.000,-999.0000, -999.00,     -999.0,     -999.0,9,     -999.0,     -999.0,9,     -999.0,  -999.0,9,     -999.0,     -999.0,9,     -999.0,  27.5425,    35.2372,2,-999.0000,3,     -999.0,9
33RO20150410,     P16N.1,      56,          1,         21,         21,2,20150426,       0145,     0.7413,  -150.9996,       4276,    74.8,  27.3124,  35.2000,2,  35.1984,2,    172.1,2,   170.4,2,    1.70,2,    5.30,2,    1.22,2,    0.59,4,   1.553,3,   1.000,2,   1.239,2,  2038.4,2,  2311.9,2,   7.9899,2,    25.00,-999.000,9,-999.0000,9, -999.00,9,-999.0000, -999.00,9,  -999.0,9,  -999.0,-999.000,9,-999.000,    57.1,2,    9.90,2,      7.626,3, -999.00,9,-999.000,-999.0000, -999.00,     -999.0,     -999.0,9,     -999.0,     -999.0,9,     -999.0,  -999.0,9,     -999.0,     -999.0,9,     -999.0,  27.2951,    35.3644,2,-999.0000,2,     -999.0,9
33RO20150410,     P16N.1,      56,          1,         20,         20,2,20150426,       0145,     0.7413,  -150.9996,       4276,   100.0,  27.0475,  35.2130,2,  35.2166,2,    158.5,2,   159.2,2,    2.20,2,    6.80,2,    0.17,2,    0.61,4,   1.585,3,   0.993,2,     1.2,2,  2042.9,2,  2311.7,2,   7.9819,2,    24.99,-999.000,9,-999.0000,9, -999.00,9,-999.0000, -999.00,9,  -999.0,9,  -999.0,-999.000,9,-999.000,    56.3,2,   10.80,2,      7.895,3, -999.00,9,-999.000,-999.0000, -999.00,     -999.0,     -999.0,9,     -999.0,     -999.0,9,     -999.0,  -999.0,9,     -999.0,     -999.0,9,     -999.0,  27.0245,    35.3826,2,-999.0000,2,     -999.0,9
33RO20150410,     P16N.1,      56,          1,         19,         19,2,20150426,       0145,     0.7413,  -150.9996,       4276,   124.9,  25.9862,  35.2673,2,  35.2520,2,    146.9,2,   145.1,2,    2.70,2,    8.40,2,    0.06,2,    0.70,4,-999.000,5,-999.000,5,-999.000,5,  2060.1,2,  2314.2,2,   7.9518,2,    25.00,-999.000,9,-999.0000,9, -999.00,9,-999.0000, -999.00,9,  -999.0,9,  -999.0,-999.000,9,-999.000,    53.1,2,   12.30,2,     -999.0,5, -999.00,9,-999.000,-999.0000, -999.00,     -999.0,     -999.0,9,     -999.0,     -999.0,9,     -999.0,  -999.0,9,     -999.0,     -999.0,9,     -999.0,  25.9583,    35.4183,2,-999.0000,2,     -999.0,9
33RO20150410,     P16N.1,      56,          1,         18,         18,2,20150426,       0145,     0.7413,  -150.9996,       4276,   173.6,  16.2659,  35.0817,2,  35.0990,2,    137.4,2,   136.1,2,    9.40,2,   14.40,2,    0.02,2,    1.05,4,   2.014,6,   1.136,6,   0.831,6,  2133.8,2,  2313.4,2,   7.8041,2,    25.00,-999.000,9,-999.0000,9, -999.00,9,-999.0000, -999.00,9,  -999.0,9,  -999.0,-999.000,9,-999.000,    47.1,2,   17.30,2,     17.622,3, -999.00,9,-999.000,-999.0000, -999.00,     -999.0,     -999.0,9,     -999.0,     -999.0,9,     -999.0,  -999.0,9,     -999.0,     -999.0,9,     -999.0,  16.2381,    35.2645,2,-999.0000,2,     -999.0,9
33RO20150410,     P16N.1,      56,          1,         17,         17,2,20150426,       0145,     0.7413,  -150.9996,       4276,   250.2,  12.3844,  34.8522,2,  34.8538,2,    104.7,2,   104.2,2,   18.80,2,   23.30,2,    0.01,2,    1.60,4,   1.520,2,   0.824,2,   0.492,2,  2184.5,2,  2305.6,2,   7.6626,2,    24.99,-999.000,9,-999.0000,9, -999.00,9,-999.0000, -999.00,9,  -999.0,9,  -999.0,-999.000,9,-999.000,    44.4,2,   28.20,3,     31.366,3, -999.00,9,-999.000,-999.0000, -999.00,     -999.0,     -999.0,9,     -999.0,     -999.0,9,     -999.0,  -999.0,9,     -999.0,     -999.0,9,     -999.0,  12.3511,    35.0182,2,-999.0000,2,     -999.0,9
33RO20150410,     P16N.1,      56,          1,         16,         16,2,20150426,       0145,     0.7413,  -150.9996,       4276,   324.0,  11.0600,  34.7853,2,  34.7852,2,     39.1,2,    39.9,2,   26.70,2,   31.90,2,    0.01,2,    2.13,4,   0.908,2,   0.494,2,   0.213,2,  2241.0,6,  2302.3,2,   7.4967,2,    25.00,-999.000,9,-999.0000,9, -999.00,9,-999.0000, -999.00,9,  -999.0,9,  -999.0,-999.000,9,-999.000,    44.4,2, -999.00,9,     56.266,3, -999.00,9,-999.000,-999.0000, -999.00,     -999.0,     -999.0,9,     -999.0,     -999.0,9,     -999.0,  -999.0,9,     -999.0,     -999.0,9,     -999.0,  11.0198,    34.9492,2,-999.0000,2,     -999.0,9
33RO20150410,     P16N.1,      56,          1,         15,         15,2,20150426,       0145,     0.7413,  -150.9996,       4276,   399.8,   9.6833,  34.7020,2,  34.7011,2,     42.6,2,    41.3,2,   31.40,2,   34.20,2,    0.01,2,    2.28,4,   0.591,2,   0.322,2,    0.12,2,  2249.9,2,  2304.6,2,   7.4719,6,    25.02,-999.000,9,-999.0000,9, -999.00,9,-999.0000, -999.00,9,  -999.0,9,  -999.0,-999.000,9,-999.000,    42.3,2, -999.00,9,     51.560,3, -999.00,9,-999.000,-999.0000, -999.00,     -999.0,     -999.0,9,     -999.0,     -999.0,9,     -999.0,  -999.0,9,     -999.0,     -999.0,9,     -999.0,   9.6375,    34.8647,2,-999.0000,2,     -999.0,9
33RO20150410,     P16N.1,      56,          1,         14,         14,2,20150426,       0145,     0.7413,  -150.9996,       4276,   500.4,   7.7958,  34.6064,2,  34.6064,2,     52.6,2,    49.9,2,   41.00,2,   37.50,2,    0.01,2,    2.52,4,   0.232,2,   0.125,2,   0.044,2,  2264.3,2,  2311.2,2,   7.4481,2,    24.98,-999.000,9,-999.0000,9, -999.00,9,-999.0000, -999.00,9,  -999.0,9,  -999.0,-999.000,9,-999.000,    41.3,2, -999.00,9,     46.211,3, -999.00,9,-999.000,-999.0000, -999.00,     -999.0,     -999.0,9,     -999.0,     -999.0,9,     -999.0,  -999.0,9,     -999.0,     -999.0,9,     -999.0,   7.7452,    34.7695,2,-999.0000,2,     -999.0,9
33RO20150410,     P16N.1,      56,          1,         13,         13,2,20150426,       0145,     0.7413,  -150.9996,       4276,   650.5,   6.6363,  34.5637,2,  34.5639,2,     63.4,2,    52.4,4,   50.70,2,   38.60,2,    0.01,2,    2.62,4,   0.111,2,   0.060,2,       0,2,  2271.5,2,  2320.2,2,   7.4537,2,    25.00,-999.000,9,-999.0000,9, -999.00,9,-999.0000, -999.00,9,  -999.0,9,  -999.0,-999.000,9,-999.000,    39.2,2, -999.00,9,     41.679,3, -999.00,9,-999.000,-999.0000, -999.00,     -999.0,     -999.0,9,     -999.0,     -999.0,9,     -999.0,  -999.0,9,     -999.0,     -999.0,9,     -999.0,   6.5756,    34.7269,2,-999.0000,2,     -999.0,9
33RO20150410,     P16N.1,      56,          1,         12,         12,2,20150426,       0145,     0.7413,  -150.9996,       4276,   800.2,   5.3568,  34.5461,2,  34.5465,2,     77.0,2,    76.0,2,   67.40,2,   39.10,2,    0.00,2,    2.70,4,   0.041,2,   0.020,2,       0,2,  2284.4,2,  2338.2,2,   7.4625,6,    25.01,-999.000,9,-999.0000,9, -999.00,9,-999.0000, -999.00,9,  -999.0,9,  -999.0,-999.000,9,-999.000,    38.1,2, -999.00,9,     35.716,3, -999.00,9,-999.000,-999.0000, -999.00,     -999.0,     -999.0,9,     -999.0,     -999.0,9,     -999.0,  -999.0,9,     -999.0,     -999.0,9,     -999.0,   5.2890,    34.7094,2,-999.0000,2,     -999.0,9
33RO20150410,     P16N.1,      56,          1,         11,         11,2,20150426,       0145,     0.7413,  -150.9996,       4276,   950.6,   4.7442,  34.5516,2,  34.5518,2,     80.9,2,    78.4,2,   78.60,2,   39.40,2,    0.00,2,    2.74,4,-999.000,9,-999.000,9,-999.000,9,  2294.3,2,  2350.0,2,   7.4686,2,    24.98,-999.000,9,-999.0000,9, -999.00,9,-999.0000, -999.00,9,  -999.0,9,  -999.0,-999.000,9,-999.000,    37.2,2, -999.00,9,     -999.0,9, -999.00,9,-999.000,-999.0000, -999.00,     -999.0,     -999.0,9,     -999.0,     -999.0,9,     -999.0,  -999.0,9,     -999.0,     -999.0,9,     -999.0,   4.6671,    34.7147,2,-999.0000,2,     -999.0,9
33RO20150410,     P16N.1,      56,          1,         10,         10,2,20150426,       0145,     0.7413,  -150.9996,       4276,  1100.3,   4.1698,  34.5655,2,  34.5645,2,     80.5,2,    76.3,4,   91.50,2,   39.90,2,    0.00,2,    2.81,4,-999.000,9,-999.000,9,-999.000,9,  2309.7,2,  2364.8,2,   7.4634,2,    24.99,-999.000,9,-999.0000,9, -999.00,9,-999.0000, -999.00,9,  -999.0,9,  -999.0,-999.000,9,-999.000,    37.2,2, -999.00,9,     -999.0,9, -999.00,9,-999.000,-999.0000, -999.00,     -999.0,     -999.0,9,     -999.0,     -999.0,9,     -999.0,  -999.0,9,     -999.0,     -999.0,9,     -999.0,   4.0842,    34.7275,2,-999.0000,2,     -999.0,9
33RO20150410,     P16N.1,      56,          1,          9,          9,2,20150426,       0145,     0.7413,  -150.9996,       4276,  1300.0,   3.6077,  34.5829,2,  34.5826,2,     83.7,2,    83.8,2,  104.50,2,   39.90,2,    0.01,2,    2.83,4,  -0.002,2,   0.000,2,       0,2,  2323.2,2,  2379.4,2,   7.4677,2,    25.01,-999.000,9,-999.0000,9, -999.00,9,-999.0000, -999.00,9,  -999.0,9,  -999.0,-999.000,9,-999.000,    37.0,2, -999.00,9,     31.296,3, -999.00,9,-999.000,-999.0000, -999.00,     -999.0,     -999.0,9,     -999.0,     -999.0,9,     -999.0,  -999.0,9,     -999.0,     -999.0,9,     -999.0,   3.5101,    34.7457,2,-999.0000,2,     -999.0,9
33RO20150410,     P16N.1,      56,          1,          8,          8,2,20150426,       0145,     0.7413,  -150.9996,       4276,  1599.7,   2.8991,  34.6104,2,  34.6103,2,     93.9,2,    94.3,2,  120.50,2,   39.50,2,    0.01,2,    2.80,4,-999.000,9,-999.000,9,-999.000,9,  2335.3,2,  2397.2,2,   7.4850,6,    25.01,-999.000,9,-999.0000,9, -999.00,9,-999.0000, -999.00,9,  -999.0,9,  -999.0,-999.000,9,-999.000,    37.4,2, -999.00,9,     -999.0,9, -999.00,9,-999.000,-999.0000, -999.00,     -999.0,     -999.0,9,     -999.0,     -999.0,9,     -999.0,  -999.0,9,     -999.0,     -999.0,9,     -999.0,   2.7840,    34.7735,2,-999.0000,2,     -999.0,9
33RO20150410,     P16N.1,      56,          1,          7,          7,2,20150426,       0145,     0.7413,  -150.9996,       4276,  2000.2,   2.3191,  34.6401,2,  34.6400,2,    103.4,2,   100.4,2,  135.50,2,   39.00,2,    0.00,2,    2.79,4,-999.000,9,-999.000,9,-999.000,9,  2345.0,2,  2415.9,2,   7.5021,2,    24.99,-999.000,9,-999.0000,9, -999.00,9,-999.0000, -999.00,9,  -999.0,9,  -999.0,-999.000,9,-999.000,    36.8,2, -999.00,9,     -999.0,9, -999.00,9,-999.000,-999.0000, -999.00,     -999.0,     -999.0,9,     -999.0,     -999.0,9,     -999.0,  -999.0,9,     -999.0,     -999.0,9,     -999.0,   2.1777,    34.8033,2,-999.0000,3,     -999.0,9
33RO20150410,     P16N.1,      56,          1,          6,          6,2,20150426,       0145,     0.7413,  -150.9996,       4276,  2399.3,   1.9169,  34.6613,2,  34.6608,2,    116.6,2,   118.5,2,  142.80,2,   38.10,2,    0.00,2,    2.71,4,-999.000,9,-999.000,9,-999.000,9,  2346.4,2,  2424.1,2,   7.5286,2,    24.99,-999.000,9,-999.0000,9, -999.00,9,-999.0000, -999.00,9,  -999.0,9,  -999.0,-999.000,9,-999.000,    35.8,2, -999.00,9,     -999.0,9, -999.00,9,-999.000,-999.0000, -999.00,     -999.0,     -999.0,9,     -999.0,     -999.0,9,     -999.0,  -999.0,9,     -999.0,     -999.0,9,     -999.0,   1.7472,    34.8242,2,-999.0000,3,     -999.0,9
33RO20150410,     P16N.1,      56,          1,          5,          5,2,20150426,       0145,     0.7413,  -150.9996,       4276,  2799.7,   1.7377,  34.6721,2,  34.6722,2,    127.3,2,   128.2,2,  145.10,2,   37.50,2,    0.00,2,    2.67,4,  -0.002,2,   0.004,2,       0,2,  2344.0,2,  2427.7,2,   7.5464,2,    24.99,-999.000,9,-999.0000,9, -999.00,9,-999.0000, -999.00,9,  -999.0,9,  -999.0,-999.000,9,-999.000,    36.5,2, -999.00,9,     22.050,3, -999.00,9,-999.000,-999.0000, -999.00,     -999.0,     -999.0,9,     -999.0,     -999.0,9,     -999.0,  -999.0,9,     -999.0,     -999.0,9,     -999.0,   1.5347,    34.8357,6,-999.0000,2,     -999.0,9
33RO20150410,     P16N.1,      56,          1,          4,          4,2,20150426,       0145,     0.7413,  -150.9996,       4276,  3197.7,   1.6318,  34.6782,2,  34.6787,2,    137.8,2,   138.2,2,  143.30,6,   36.70,6,    0.01,6,    2.60,4,-999.000,9,-999.000,9,-999.000,9,  2336.1,2,  2426.2,2,   7.5604,6,    25.00,-999.000,9,-999.0000,9, -999.00,9,-999.0000, -999.00,9,  -999.0,9,  -999.0,-999.000,9,-999.000,    36.4,2, -999.00,9,     -999.0,9, -999.00,9,-999.000,-999.0000, -999.00,     -999.0,     -999.0,9,     -999.0,     -999.0,9,     -999.0,  -999.0,9,     -999.0,     -999.0,9,     -999.0,   1.3928,    34.8422,2,-999.0000,2,     -999.0,9
33RO20150410,     P16N.1,      56,          1,          3,          3,2,20150426,       0145,     0.7413,  -150.9996,       4276,  3599.7,   1.4827,  34.6882,2,  34.6883,2,    150.3,2,   150.6,2,  142.90,6,   35.90,6,    0.00,6,    2.54,4,  -0.002,6,  -0.001,6,       0,6,  2328.5,2,  2427.5,2,   7.5832,2,    25.03,-999.000,9,-999.0000,9, -999.00,9,-999.0000, -999.00,9,  -999.0,9,  -999.0,-999.000,9,-999.000,    37.6,2, -999.00,9,     20.167,3, -999.00,9,-999.000,-999.0000, -999.00,     -999.0,     -999.0,9,     -999.0,     -999.0,9,     -999.0,  -999.0,9,     -999.0,     -999.0,9,     -999.0,   1.2067,    34.8519,2,-999.0000,2,     -999.0,9
33RO20150410,     P16N.1,      56,          1,          2,          2,2,20150426,       0145,     0.7413,  -150.9996,       4276,  4000.1,   1.4050,  34.6945,2,  34.6950,2,    159.6,2,   159.5,2,  141.60,6,   35.50,6,    0.00,6,    2.49,4,-999.000,9,-999.000,9,-999.000,9,  2325.1,2,  2427.6,6,   7.5980,2,    25.02,-999.000,9,-999.0000,9, -999.00,9,-999.0000, -999.00,9,  -999.0,9,  -999.0,-999.000,9,-999.000,    37.7,2, -999.00,9,     -999.0,9, -999.00,9,-999.000,-999.0000, -999.00,     -999.0,     -999.0,9,     -999.0,     -999.0,9,     -999.0,  -999.0,9,     -999.0,     -999.0,9,     -999.0,   1.0886,    34.8586,2,-999.0000,2,     -999.0,9
33RO20150410,     P16N.1,      56,          1,          1,          1,2,20150426,       0145,     0.7413,  -150.9996,       4276,  4265.0,   1.3998,  34.6959,2,  34.6968,2,    163.5,2,   166.1,2,  139.50,6,   35.20,6,    0.01,6,    2.46,4,   0.003,2,   0.001,2,       0,2,  2320.4,6,  2424.5,2,   7.6007,2,    25.03,-999.000,9,-999.0000,9, -999.00,9,-999.0000, -999.00,9,  -999.0,9,  -999.0,-999.000,9,-999.000,    39.0,2, -999.00,9,     19.354,3, -999.00,9,-999.000,-999.0000, -999.00,     -999.0,     -999.0,9,     -999.0,     -999.0,9,     -999.0,  -999.0,9,     -999.0,     -999.0,9,     -999.0,   1.0544,    34.8604,2,-999.0000,2,     -999.0,9