BOTTLE,20210709CCHSIOCBG
EXPOCODE,SECT_ID,STNNBR,CASTNO,SAMPNO,BTLNBR,BTLNBR_FLAG_W,DATE,TIME,LATITUDE,LONGITUDE,DEPTH,CTDPRS,CTDTMP,CTDSAL,CTDSAL_FLAG_W,SALNTY,SALNTY_FLAG_W,CTDOXY,CTDOXY_FLAG_W,OXYGEN,OXYGEN_FLAG_W,SILCAT,SILCAT_FLAG_W,NITRAT,NITRAT_FLAG_W,NITRIT,NITRIT_FLAG_W,PHSPHT,PHSPHT_FLAG_W,CFC-11,CFC-11_FLAG_W,CFC-12,CFC-12_FLAG_W,SF6,SF6_FLAG_W,TCARBN,TCARBN_FLAG_W,ALKALI,ALKALI_FLAG_W,PH_TOT,PH_TOT_FLAG_W,PH_TMP,TRITUM,TRITUM_FLAG_W,HELIUM,HELIUM_FLAG_W,DELHE3,DELHE3_FLAG_W,REFTMP,DELC13,DELC13_FLAG_W,DELC14,DELC14_FLAG_W,C14ERR,NEON,NEON_FLAG_W,NEONER,DOC,DOC_FLAG_W,TDN,TDN_FLAG_W,N2O,N2O_FLAG_W,ARGON,ARGON_FLAG_W,TRITER,HELIER,DELHER,ARGONER,KRYPTON,KRYPTON_FLAG_W,KRYPTONER,XENON,XENON_FLAG_W,XENONER,14C-DOC,14C-DOC_FLAG_W,14C-DOCERR,13C-DOC,13C-DOC_FLAG_W,13C-DOCERR,THETA,SALTREF,SALTREF_FLAG_W,SBE35,SBE35_FLAG_W,CHLORA,CHLORA_FLAG_W
,,,,,,,,,,,METERS,DBAR,ITS-90,PSS-78,,PSS-78,,UMOL/KG,,UMOL/KG,,UMOL/KG,,UMOL/KG,,UMOL/KG,,UMOL/KG,,PMOL/KG,,PMOL/KG,,FMOL/KG,,UMOL/KG,,UMOL/KG,,,,DEG C,TU,,NMOL/KG,,PERCNT,,DEG C,/MILLE,,/MILLE,,/MILLE,NMOL/KG,,NMOL/KG,UMOL/KG,,UMOL/KG,,NMOL/KG,,UMOL/KG,,TU,NMOL/KG,PERCNT,UMOL/KG,NMOL/KG,,NMOL/KG,NMOL/KG,,NMOL/KG,/MILLE,,/MILLE,/MILLE,,/MILLE,DEG C,G/KG,,ITS-90,,MG/M3,
33RO20150410,     P16N.1,      58,          1,         24,         24,2,20150426,       1123,     1.0706,  -151.0001,       4095,     5.1,  28.3647,  35.1274,2,  35.1261,2,    195.9,2,   196.0,2,    2.00,2,    3.10,2,    0.34,2,    0.44,4,   1.546,3,   0.966,2,    1.23,2,  2011.1,2,  2312.6,2,   8.0328,2,    25.02,   0.310,2,-999.0000,9, -999.00,9,-999.0000,    0.96,2,    38.4,2,     2.2,-999.000,9,-999.000,    60.2,2,    7.80,2,      7.125,3, -999.00,9,   0.005,-999.0000, -999.00,     -999.0,     -999.0,9,     -999.0,     -999.0,9,     -999.0,  -999.0,9,     -999.0,     -999.0,9,     -999.0,  28.3635,    35.2917,2,-999.0000,2,     -999.0,9
33RO20150410,     P16N.1,      58,          1,         23,         23,2,20150426,       1123,     1.0706,  -151.0001,       4095,    20.2,  28.3396,  35.1241,2,  35.1221,2,    196.7,2,   195.8,2,    2.00,2,    3.10,2,    0.35,2,    0.46,4,   1.550,3,   0.969,2,   1.245,2,  2011.5,6,  2310.7,2,   8.0328,2,    25.00,-999.000,9,-999.0000,9, -999.00,9,-999.0000,    0.98,2,    41.2,2,     2.1,-999.000,9,-999.000,    59.1,2,    6.90,2,      7.064,3, -999.00,9,-999.000,-999.0000, -999.00,     -999.0,     -999.0,9,     -999.0,     -999.0,9,     -999.0,  -999.0,9,     -999.0,     -999.0,9,     -999.0,  28.3348,    35.2877,2,-999.0000,2,     -999.0,9
33RO20150410,     P16N.1,      58,          1,         22,         22,2,20150426,       1123,     1.0706,  -151.0001,       4095,    42.1,  27.9887,  35.0985,2,  35.0957,2,    192.3,2,   191.3,2,    2.00,2,    3.20,2,    0.58,2,    0.54,4,   1.557,3,   0.976,2,   1.225,2,  2016.2,2,  2309.7,2,   8.0241,6,    25.02,   0.311,2,   1.6980,2,   -0.85,2,-999.0000,    0.91,2,    39.7,2,     2.9,   6.660,2,   0.017,    60.0,2,    7.60,2,      7.362,3, -999.00,9,   0.004,   0.0044,    0.20,     -999.0,     -999.0,9,     -999.0,     -999.0,9,     -999.0,  -999.0,9,     -999.0,     -999.0,9,     -999.0,  27.9788,    35.2612,2,-999.0000,2,     -999.0,9
33RO20150410,     P16N.1,      58,          1,         21,         21,2,20150426,       1123,     1.0706,  -151.0001,       4095,    67.3,  27.4800,  35.0836,2,  35.0875,2,    183.1,2,   181.9,2,    2.20,2,    3.80,2,    1.16,2,    0.55,4,   1.579,3,   0.994,2,    1.25,2,  2020.7,2,  2308.0,2,   8.0071,2,    25.00,-999.000,9,-999.0000,9, -999.00,9,-999.0000,    0.77,2,    39.8,2,     2.2,-999.000,9,-999.000,    58.2,2,    8.30,2,      7.640,3, -999.00,9,-999.000,-999.0000, -999.00,     -999.0,     -999.0,9,     -999.0,     -999.0,9,     -999.0,  -999.0,9,     -999.0,     -999.0,9,     -999.0,  27.4644,    35.2530,6,-999.0000,2,     -999.0,9
33RO20150410,     P16N.1,      58,          1,         20,         20,2,20150426,       1123,     1.0706,  -151.0001,       4095,    92.4,  26.9524,  35.1144,2,  35.1164,2,    169.8,2,   169.9,2,    2.60,2,    5.60,2,    0.74,2,    0.61,4,   1.584,3,   1.009,2,   1.226,2,  2034.7,2,  2307.5,6,   7.9852,2,    25.01,-999.000,9,-999.0000,9, -999.00,9,-999.0000,    0.70,2,    49.0,2,     2.4,-999.000,9,-999.000,    54.4,2,    9.40,2,      7.982,3, -999.00,9,-999.000,-999.0000, -999.00,     -999.0,     -999.0,9,     -999.0,     -999.0,9,     -999.0,  -999.0,9,     -999.0,     -999.0,9,     -999.0,  26.9312,    35.2820,2,-999.0000,2,     -999.0,9
33RO20150410,     P16N.1,      58,          1,         19,         19,2,20150426,       1123,     1.0706,  -151.0001,       4095,   117.8,  24.9192,  35.1206,2,  35.0900,2,    135.2,2,   134.8,2,    4.20,2,    8.60,2,    0.05,2,    0.72,4,   1.767,2,   1.067,2,   1.145,2,  2061.6,2,  2305.0,2,   7.9300,2,    24.99,-999.000,9,-999.0000,9, -999.00,9,-999.0000,    0.45,2,    43.1,2,     2.5,-999.000,9,-999.000,    52.7,2,   11.70,2,     10.808,3, -999.00,9,-999.000,-999.0000, -999.00,     -999.0,     -999.0,9,     -999.0,     -999.0,9,     -999.0,  -999.0,9,     -999.0,     -999.0,9,     -999.0,  24.8937,    35.2555,2,-999.0000,2,     -999.0,9
33RO20150410,     P16N.1,      58,          1,         18,         18,2,20150426,       1123,     1.0706,  -151.0001,       4095,   143.2,  18.3730,  34.7993,2,  34.8124,2,    119.1,2,   120.0,2,   11.00,2,   13.70,2,    0.02,2,    1.05,4,   1.934,2,   1.129,2,   0.994,2,  2115.1,2,  2294.6,2,   7.8054,2,    25.00,   0.337,2,   1.7419,2,    2.56,2,-999.0000,    0.17,2,    25.9,2,     2.6,   7.114,2,   0.018,    49.9,2,   16.40,2,     20.908,3, -999.00,9,   0.003,   0.0045,    0.20,     -999.0,     -999.0,9,     -999.0,     -999.0,9,     -999.0,  -999.0,9,     -999.0,     -999.0,9,     -999.0,  18.3481,    34.9765,2,-999.0000,2,     -999.0,9
33RO20150410,     P16N.1,      58,          1,         17,         17,2,20150426,       1123,     1.0706,  -151.0001,       4095,   182.4,  14.0697,  34.8581,2,  34.8590,2,    130.2,2,   128.8,2,   16.00,2,   17.90,2,    0.02,2,    1.32,4,   1.872,2,   1.055,2,   0.749,2,  2149.7,2,  2305.5,2,   7.7453,6,    25.00,   0.292,2,   1.7599,2,    3.81,2,-999.0000,    0.17,2,    18.6,2,     2.1,   7.316,2,   0.018,    45.5,2,   20.30,2,     22.519,3, -999.00,9,   0.004,   0.0046,    0.20,     -999.0,     -999.0,9,     -999.0,     -999.0,9,     -999.0,  -999.0,9,     -999.0,     -999.0,9,     -999.0,  14.0433,    35.0233,2,-999.0000,2,     -999.0,9
33RO20150410,     P16N.1,      58,          1,         16,         16,2,20150426,       1123,     1.0706,  -151.0001,       4095,   250.8,  11.9094,  34.8387,2,  34.8359,2,     76.7,2,    74.3,2,   22.30,2,   27.10,2,    0.01,2,    1.88,4,   1.257,6,   0.690,6,   0.376,6,  2205.7,2,  2306.3,2,   7.5901,6,    25.01,   0.157,2,   1.7712,2,    4.96,2,-999.0000,    0.12,2,    -3.6,2,     2.2,   7.415,2,   0.018,    42.3,2,   29.70,2,     43.376,3, -999.00,9,   0.003,   0.0046,    0.20,     -999.0,     -999.0,9,     -999.0,     -999.0,9,     -999.0,  -999.0,9,     -999.0,     -999.0,9,     -999.0,  11.8768,    35.0001,2,-999.0000,2,     -999.0,9
33RO20150410,     P16N.1,      58,          1,         15,         15,2,20150426,       1123,     1.0706,  -151.0001,       4095,   325.5,  10.7816,  34.7634,2,  34.7638,2,     43.5,2,    43.0,2,   27.90,2,   32.00,2,    0.01,2,    2.17,4,   0.854,2,   0.471,2,   0.215,2,  2238.5,2,  2303.5,2,   7.4980,2,    25.00,   0.107,2,-999.0000,9, -999.00,9,-999.0000,    0.00,2,   -25.2,2,     2.3,-999.000,9,-999.000,    42.5,2, -999.00,9,     53.502,3, -999.00,9,   0.003,-999.0000, -999.00,     -999.0,     -999.0,9,     -999.0,     -999.0,9,     -999.0,  -999.0,9,     -999.0,     -999.0,9,     -999.0,  10.7418,    34.9277,2,-999.0000,2,     -999.0,9
33RO20150410,     P16N.1,      58,          1,         14,         14,2,20150426,       1123,     1.0706,  -151.0001,       4095,   400.7,   9.5005,  34.6865,2,  34.6918,2,     46.2,2,    47.1,2,   32.60,2,   34.10,2,    0.01,2,    2.31,4,   0.579,2,   0.318,2,   0.122,2,  2246.3,2,  2305.6,2,   7.4777,2,    25.01,   0.071,2,   1.7882,2,    6.82,2,-999.0000,    0.13,2,   -56.9,2,     3.8,   7.542,2,   0.019,    41.7,2, -999.00,9,     50.853,3, -999.00,9,   0.003,   0.0046,    0.20,     -999.0,     -999.0,9,     -999.0,     -999.0,9,     -999.0,  -999.0,9,     -999.0,     -999.0,9,     -999.0,   9.4552,    34.8554,2,-999.0000,2,     -999.0,9
33RO20150410,     P16N.1,      58,          1,         13,         13,2,20150426,       1123,     1.0706,  -151.0001,       4095,   474.9,   7.9300,  34.6134,2,  34.6162,2,     48.2,2,    47.1,2,   41.20,2,   37.70,2,    0.01,2,    2.55,4,   0.226,2,   0.128,2,   0.047,2,  2258.7,2,  2310.6,2,   7.4429,2,    25.01,   0.025,2,   1.8070,2,    8.05,2,-999.0000,    0.17,2,   -89.7,2,     2.3,   7.650,2,   0.019,    41.6,2, -999.00,9,     48.603,3, -999.00,9,   0.002,   0.0047,    0.20,     -999.0,     -999.0,9,     -999.0,     -999.0,9,     -999.0,  -999.0,9,     -999.0,     -999.0,9,     -999.0,   7.8816,    34.7794,2,-999.0000,2,     -999.0,9
33RO20150410,     P16N.1,      58,          1,         12,         12,2,20150426,       1123,     1.0706,  -151.0001,       4095,   567.2,   7.0543,  34.5771,2,  34.5757,2,     57.7,2,    58.1,2,   47.40,2,   38.30,2,    0.01,2,    2.64,4,   0.155,2,   0.080,2,   0.029,2,  2266.5,2,  2315.4,2,   7.4513,2,    25.01,   0.024,2,   1.8141,2,    9.76,2,-999.0000,    0.15,2,  -114.2,2,     2.2,   7.708,2,   0.019,    42.2,2, -999.00,9,     43.966,3, -999.00,9,   0.002,   0.0047,    0.20,     -999.0,     -999.0,9,     -999.0,     -999.0,9,     -999.0,  -999.0,9,     -999.0,     -999.0,9,     -999.0,   6.9999,    34.7387,2,-999.0000,2,     -999.0,9
33RO20150410,     P16N.1,      58,          1,         11,         11,2,20150426,       1123,     1.0706,  -151.0001,       4095,   700.0,   6.0180,  34.5533,2,  34.5519,2,     65.8,2,    66.1,2,   58.90,2,   39.40,2,    0.01,2,    2.73,4,-999.000,9,-999.000,9,-999.000,9,  2275.3,2,  2327.3,2,   7.4510,6,    25.02,   0.015,2,-999.0000,9, -999.00,9,-999.0000,    0.20,2,  -138.5,2,     2.3,-999.000,9,-999.000,    41.8,2, -999.00,9,     -999.0,9, -999.00,9,   0.001,-999.0000, -999.00,     -999.0,     -999.0,9,     -999.0,     -999.0,9,     -999.0,  -999.0,9,     -999.0,     -999.0,9,     -999.0,   5.9557,    34.7149,2,-999.0000,2,     -999.0,9
33RO20150410,     P16N.1,      58,          1,         10,         10,2,20150426,       1123,     1.0706,  -151.0001,       4095,   849.6,   5.2591,  34.5467,2,  34.5460,2,     77.1,2,    77.5,2,   70.00,2,   39.20,2,    0.01,2,    2.74,4,-999.000,9,-999.000,9,-999.000,9,  2284.1,2,  2339.2,2,   7.4655,2,    25.00,   0.011,2,   1.8482,2,   15.16,2,-999.0000,    0.21,2,  -155.0,2,     2.3,   7.859,2,   0.020,    40.4,2, -999.00,9,     -999.0,9, -999.00,9,   0.001,   0.0048,    0.20,     -999.0,     -999.0,9,     -999.0,     -999.0,9,     -999.0,  -999.0,9,     -999.0,     -999.0,9,     -999.0,   5.1875,    34.7089,2,-999.0000,2,     -999.0,9
33RO20150410,     P16N.1,      58,          1,          9,          9,2,20150426,       1123,     1.0706,  -151.0001,       4095,  1000.0,   4.6256,  34.5546,2,  34.5542,2,     80.5,2,    80.7,2,   82.60,2,   39.50,2,    0.01,2,    2.79,4,   0.020,2,   0.012,2,       0,2,  2298.5,2,  2352.8,2,   7.4679,2,    25.00,   0.017,2,   1.8669,2,   17.44,2,-999.0000,    0.14,2,  -176.0,2,     2.0,   7.908,2,   0.020,    40.4,2, -999.00,9,     34.729,3, -999.00,9,   0.003,   0.0049,    0.20,     -999.0,     -999.0,9,     -999.0,     -999.0,9,     -999.0,  -999.0,9,     -999.0,     -999.0,9,     -999.0,   4.5450,    34.7172,6,-999.0000,2,     -999.0,9
33RO20150410,     P16N.1,      58,          1,          8,          8,2,20150426,       1123,     1.0706,  -151.0001,       4095,  1150.8,   4.0840,  34.5680,2,  34.5663,2,     81.2,2,    81.3,2,   94.20,2,   39.90,2,    0.01,2,    2.84,4,-999.000,9,-999.000,9,-999.000,9,  2312.0,2,  2365.9,2,   7.4654,2,    25.01,   0.004,2,   1.8811,2,   19.75,2,-999.0000,    0.10,2,  -190.2,2,     2.3,   7.942,2,   0.020,    41.3,2, -999.00,9,     -999.0,9, -999.00,9,   0.001,   0.0049,    0.20,     -999.0,     -999.0,9,     -999.0,     -999.0,9,     -999.0,  -999.0,9,     -999.0,     -999.0,9,     -999.0,   3.9948,    34.7293,2,-999.0000,2,     -999.0,9
33RO20150410,     P16N.1,      58,          1,          7,          7,2,20150426,       1123,     1.0706,  -151.0001,       4095,  1332.6,   3.5374,  34.5858,2,  34.5851,2,     84.7,2,    85.3,2,  106.40,2,   40.00,2,    0.01,2,    2.87,4,   0.000,2,   0.000,2,       0,2,  2322.3,2,  2381.6,2,   7.4700,2,    25.01,-999.000,9,-999.0000,9, -999.00,9,-999.0000,   -0.05,2,  -210.2,2,     2.0,-999.000,9,-999.000,    40.6,2, -999.00,9,     32.339,3, -999.00,9,-999.000,-999.0000, -999.00,     -999.0,     -999.0,9,     -999.0,     -999.0,9,     -999.0,  -999.0,9,     -999.0,     -999.0,9,     -999.0,   3.4378,    34.7482,2,-999.0000,2,     -999.0,9
33RO20150410,     P16N.1,      58,          1,          6,          6,2,20150426,       1123,     1.0706,  -151.0001,       4095,  1533.0,   2.9753,  34.6074,2,  34.6574,4,     91.4,2,    92.7,2,  119.50,2,   39.50,2,    0.01,2,    2.85,4,-999.000,9,-999.000,9,-999.000,9,  2333.4,2,  2395.6,2,   7.4814,2,    25.02,  -0.003,2,   1.9013,2,   24.85,2,-999.0000,   -0.10,2,  -223.4,2,     2.2,   8.018,2,   0.020,    41.1,2, -999.00,9,     -999.0,9, -999.00,9,   0.001,   0.0049,    0.20,     -999.0,     -999.0,9,     -999.0,     -999.0,9,     -999.0,  -999.0,9,     -999.0,     -999.0,9,     -999.0,   2.8648,    34.8208,3,-999.0000,2,     -999.0,9
33RO20150410,     P16N.1,      58,          1,          5,          5,2,20150426,       1123,     1.0706,  -151.0001,       4095,  1868.2,   2.3719,  34.6372,2,  34.6352,2,    100.7,2,   101.7,2,  135.20,2,   39.00,2,    0.01,2,    2.83,4,  -0.004,2,   0.000,2,       0,2,  2343.7,2,  2414.5,2,   7.4997,2,    25.01,  -0.002,2,-999.0000,9, -999.00,9,-999.0000,   -0.03,2,  -233.7,2,     2.2,-999.000,9,-999.000,    38.7,2, -999.00,9,     27.345,3, -999.00,9,   0.001,-999.0000, -999.00,     -999.0,     -999.0,9,     -999.0,     -999.0,9,     -999.0,  -999.0,9,     -999.0,     -999.0,9,     -999.0,   2.2410,    34.7985,2,-999.0000,2,     -999.0,9
33RO20150410,     P16N.1,      58,          1,          4,          4,2,20150426,       1123,     1.0706,  -151.0001,       4095,  2266.7,   2.0256,  34.6555,2,  34.6538,2,    113.2,2,   113.3,2,  141.70,6,   38.50,6,    0.01,6,    2.76,4,-999.000,9,-999.000,9,-999.000,9,  2344.0,2,  2422.1,2,   7.5207,6,    25.01,-999.000,9,-999.0000,9, -999.00,9,-999.0000,    0.02,2,  -222.9,2,     1.9,-999.000,9,-999.000,    39.3,2, -999.00,9,     -999.0,9, -999.00,9,-999.000,-999.0000, -999.00,     -999.0,     -999.0,9,     -999.0,     -999.0,9,     -999.0,  -999.0,9,     -999.0,     -999.0,9,     -999.0,   1.8657,    34.8172,2,-999.0000,2,     -999.0,9
33RO20150410,     P16N.1,      58,          1,          3,          3,2,20150426,       1123,     1.0706,  -151.0001,       4095,  2666.3,   1.8012,  34.6687,2,  34.6664,2,    123.4,2,   123.5,2,  145.60,6,   37.80,6,    0.01,6,    2.70,4,   0.001,6,   0.003,6,       0,6,  2345.7,2,  2427.6,2,   7.5392,2,    25.01,-999.000,9,-999.0000,9, -999.00,9,-999.0000,    0.02,2,  -225.3,2,     2.0,-999.000,9,-999.000,    38.1,2, -999.00,9,     23.225,3, -999.00,9,-999.000,-999.0000, -999.00,     -999.0,     -999.0,9,     -999.0,     -999.0,9,     -999.0,  -999.0,9,     -999.0,     -999.0,9,     -999.0,   1.6094,    34.8299,2,-999.0000,2,     -999.0,9
33RO20150410,     P16N.1,      58,          1,          2,          2,2,20150426,       1123,     1.0706,  -151.0001,       4095,  3066.7,   1.6691,  34.6761,2,  34.6744,2,    134.2,2,   134.6,2,  144.90,6,   37.00,6,    0.01,6,    2.65,4,-999.000,9,-999.000,9,-999.000,9,  2335.7,2,  2426.9,6,   7.5566,2,    25.00,-999.000,9,-999.0000,9, -999.00,9,-999.0000,    0.08,2,  -224.5,2,     2.0,-999.000,9,-999.000,    36.7,2, -999.00,9,     -999.0,9, -999.00,9,-999.000,-999.0000, -999.00,     -999.0,     -999.0,9,     -999.0,     -999.0,9,     -999.0,  -999.0,9,     -999.0,     -999.0,9,     -999.0,   1.4421,    34.8380,2,-999.0000,2,     -999.0,9
33RO20150410,     P16N.1,      58,          1,          1,          1,2,20150426,       1123,     1.0706,  -151.0001,       4095,  3432.9,   1.5461,  34.6842,2,  34.6805,2,    144.4,2,   144.9,2,  144.30,6,   36.50,6,    0.01,6,    2.58,4,   0.008,2,   0.004,2,       0,2,  2332.2,6,  2427.7,2,   7.5734,6,    25.00,-999.000,9,-999.0000,9, -999.00,9,-999.0000,    0.12,2,  -215.4,2,     1.9,-999.000,9,-999.000,    36.5,2, -999.00,9,     21.353,3, -999.00,9,-999.000,-999.0000, -999.00,     -999.0,     -999.0,9,     -999.0,     -999.0,9,     -999.0,  -999.0,9,     -999.0,     -999.0,9,     -999.0,   1.2856,    34.8441,3,-999.0000,2,     -999.0,9