BOTTLE,20210709CCHSIOCBG
EXPOCODE,SECT_ID,STNNBR,CASTNO,SAMPNO,BTLNBR,BTLNBR_FLAG_W,DATE,TIME,LATITUDE,LONGITUDE,DEPTH,CTDPRS,CTDTMP,CTDSAL,CTDSAL_FLAG_W,SALNTY,SALNTY_FLAG_W,CTDOXY,CTDOXY_FLAG_W,OXYGEN,OXYGEN_FLAG_W,SILCAT,SILCAT_FLAG_W,NITRAT,NITRAT_FLAG_W,NITRIT,NITRIT_FLAG_W,PHSPHT,PHSPHT_FLAG_W,CFC-11,CFC-11_FLAG_W,CFC-12,CFC-12_FLAG_W,SF6,SF6_FLAG_W,TCARBN,TCARBN_FLAG_W,ALKALI,ALKALI_FLAG_W,PH_TOT,PH_TOT_FLAG_W,PH_TMP,TRITUM,TRITUM_FLAG_W,HELIUM,HELIUM_FLAG_W,DELHE3,DELHE3_FLAG_W,REFTMP,DELC13,DELC13_FLAG_W,DELC14,DELC14_FLAG_W,C14ERR,NEON,NEON_FLAG_W,NEONER,DOC,DOC_FLAG_W,TDN,TDN_FLAG_W,N2O,N2O_FLAG_W,ARGON,ARGON_FLAG_W,TRITER,HELIER,DELHER,ARGONER,KRYPTON,KRYPTON_FLAG_W,KRYPTONER,XENON,XENON_FLAG_W,XENONER,14C-DOC,14C-DOC_FLAG_W,14C-DOCERR,13C-DOC,13C-DOC_FLAG_W,13C-DOCERR,THETA,SALTREF,SALTREF_FLAG_W,SBE35,SBE35_FLAG_W,CHLORA,CHLORA_FLAG_W
,,,,,,,,,,,METERS,DBAR,ITS-90,PSS-78,,PSS-78,,UMOL/KG,,UMOL/KG,,UMOL/KG,,UMOL/KG,,UMOL/KG,,UMOL/KG,,PMOL/KG,,PMOL/KG,,FMOL/KG,,UMOL/KG,,UMOL/KG,,,,DEG C,TU,,NMOL/KG,,PERCNT,,DEG C,/MILLE,,/MILLE,,/MILLE,NMOL/KG,,NMOL/KG,UMOL/KG,,UMOL/KG,,NMOL/KG,,UMOL/KG,,TU,NMOL/KG,PERCNT,UMOL/KG,NMOL/KG,,NMOL/KG,NMOL/KG,,NMOL/KG,/MILLE,,/MILLE,/MILLE,,/MILLE,DEG C,G/KG,,ITS-90,,MG/M3,
33RO20150410,     P16N.1,     105,          1,         24,         24,2,20150509,       1459,    19.0000,  -152.0001,       5250,    15.5,  24.9368,  34.5504,2,  34.5515,2,    204.6,2,   205.3,2,    1.10,2,    0.00,2,    0.00,2,    0.23,2,   1.688,2,   1.064,2,   1.412,2,  1969.4,6,  2279.2,2,   8.0634,2,    25.00,-999.000,9,-999.0000,9, -999.00,9,  24.9370, -999.00,9,  -999.0,9,  -999.0,-999.000,9,-999.000,    72.9,2,    4.80,2,      6.418,3, -999.00,9,-999.000,-999.0000, -999.00,     -999.0,     -999.0,9,     -999.0,     -999.0,9,     -999.0,  -999.0,9,     -999.0,     -999.0,9,     -999.0,  24.9335,    34.7144,6,-999.0000,9,     -999.0,9
33RO20150410,     P16N.1,     105,          1,         23,         23,2,20150509,       1459,    19.0000,  -152.0001,       5250,    33.6,  24.9385,  34.5626,2,  34.5762,2,    204.9,2,   205.0,2,    1.00,2,    0.00,2,    0.01,2,    0.23,2,-999.000,9,-999.000,9,-999.000,9,  1969.1,2,  2280.4,2,   8.0632,6,    25.01,-999.000,9,-999.0000,9, -999.00,9,  24.9414, -999.00,9,  -999.0,9,  -999.0,-999.000,9,-999.000,    74.6,2,    4.80,2,     -999.0,9, -999.00,9,-999.000,-999.0000, -999.00,     -999.0,     -999.0,9,     -999.0,     -999.0,9,     -999.0,  -999.0,9,     -999.0,     -999.0,9,     -999.0,  24.9312,    34.7392,2,-999.0000,9,     -999.0,9
33RO20150410,     P16N.1,     105,          1,         22,         22,2,20150509,       1459,    19.0000,  -152.0001,       5250,    58.7,  24.4883,  35.0323,2,  35.0254,2,    209.1,2,   209.0,2,    1.10,2,    0.00,2,    0.00,2,    0.20,2,   1.751,2,   1.095,2,    1.42,2,  1995.3,2,  2309.4,2,   8.0592,6,    25.01,-999.000,9,-999.0000,9, -999.00,9,  24.4871, -999.00,9,  -999.0,9,  -999.0,-999.000,9,-999.000,    72.7,2,    4.30,2,      6.600,3, -999.00,9,-999.000,-999.0000, -999.00,     -999.0,     -999.0,9,     -999.0,     -999.0,9,     -999.0,  -999.0,9,     -999.0,     -999.0,9,     -999.0,  24.4758,    35.1906,2,-999.0000,9,     -999.0,9
33RO20150410,     P16N.1,     105,          1,         21,         21,2,20150509,       1459,    19.0000,  -152.0001,       5250,    84.1,  23.2058,  35.2955,2,  35.2943,2,    209.9,2,   210.5,2,    1.20,2,    0.00,2,    0.01,2,    0.18,2,   1.843,2,   1.160,2,   1.448,2,  2024.3,2,  2328.4,2,   8.0382,2,    25.00,-999.000,9,-999.0000,9, -999.00,9,  23.2177, -999.00,9,  -999.0,9,  -999.0,-999.000,9,-999.000,    69.6,2,    4.80,2,      7.040,3, -999.00,9,-999.000,-999.0000, -999.00,     -999.0,     -999.0,9,     -999.0,     -999.0,9,     -999.0,  -999.0,9,     -999.0,     -999.0,9,     -999.0,  23.1885,    35.4607,2,-999.0000,9,     -999.0,9
33RO20150410,     P16N.1,     105,          1,         20,         20,2,20150509,       1459,    19.0000,  -152.0001,       5250,   112.8,  22.2469,  35.3457,2,  35.3489,2,    206.5,2,   207.7,2,    1.30,2,    0.00,2,    0.01,2,    0.18,2,   1.941,2,   1.194,2,   1.475,2,  2033.8,2,  2329.2,6,   8.0223,2,    24.99,-999.000,9,-999.0000,9, -999.00,9,  22.2481, -999.00,9,  -999.0,9,  -999.0,-999.000,9,-999.000,    65.9,2,    4.00,2,      7.242,3, -999.00,9,-999.000,-999.0000, -999.00,     -999.0,     -999.0,9,     -999.0,     -999.0,9,     -999.0,  -999.0,9,     -999.0,     -999.0,9,     -999.0,  22.2244,    35.5156,2,-999.0000,9,     -999.0,9
33RO20150410,     P16N.1,     105,          1,         19,         19,2,20150509,       1459,    19.0000,  -152.0001,       5250,   175.1,  19.4951,  34.9865,2,  34.9936,2,    189.0,2,   188.4,2,    2.50,2,    2.40,2,    0.03,2,    0.36,2,   2.188,2,   1.349,2,    1.42,2,  2068.6,2,  2307.3,2,   7.9274,2,    25.00,-999.000,9,-999.0000,9, -999.00,9,  19.4917, -999.00,9,  -999.0,9,  -999.0,-999.000,9,-999.000,    55.0,2,    5.80,2,      9.645,3, -999.00,9,-999.000,-999.0000, -999.00,     -999.0,     -999.0,9,     -999.0,     -999.0,9,     -999.0,  -999.0,9,     -999.0,     -999.0,9,     -999.0,  19.4633,    35.1586,2,-999.0000,9,     -999.0,9
33RO20150410,     P16N.1,     105,          1,         18,         18,2,20150509,       1459,    19.0000,  -152.0001,       5250,   250.4,  13.2803,  34.2125,2,  34.2082,2,    181.0,2,   181.1,2,    9.00,2,   10.00,2,    0.01,2,    0.90,2,   2.844,2,   1.674,2,   1.468,2,  2092.1,2,  2258.7,2,   7.7850,2,    25.01,-999.000,9,-999.0000,9, -999.00,9,  13.2756, -999.00,9,  -999.0,9,  -999.0,-999.000,9,-999.000,    48.3,2,   12.60,2,     17.882,3, -999.00,9,-999.000,-999.0000, -999.00,     -999.0,     -999.0,9,     -999.0,     -999.0,9,     -999.0,  -999.0,9,     -999.0,     -999.0,9,     -999.0,  13.2456,    34.3695,2,-999.0000,9,     -999.0,9
33RO20150410,     P16N.1,     105,          1,         17,         17,2,20150509,       1459,    19.0000,  -152.0001,       5250,   332.5,   9.6127,  34.1403,2,  34.1423,2,    149.0,2,   147.1,2,   25.40,2,   21.40,2,    0.00,2,    1.67,2,   2.884,6,   1.574,6,   1.014,6,  2161.7,2,  2267.7,2,   7.6228,2,    25.00,-999.000,9,-999.0000,9, -999.00,9,   9.6427, -999.00,9,  -999.0,9,  -999.0,-999.000,9,-999.000,    45.3,2, -999.00,9,     26.504,3, -999.00,9,-999.000,-999.0000, -999.00,     -999.0,     -999.0,9,     -999.0,     -999.0,9,     -999.0,  -999.0,9,     -999.0,     -999.0,9,     -999.0,   9.5752,    34.3032,2,-999.0000,9,     -999.0,9
33RO20150410,     P16N.1,     105,          1,         16,         16,2,20150509,       1459,    19.0000,  -152.0001,       5250,   434.5,   6.9067,  34.0643,2,  34.0627,2,     94.5,2,    95.1,2,   51.00,2,   31.80,2,    0.01,2,    2.34,2,   2.060,2,   1.038,2,   0.464,2,  2232.1,2,  2284.3,2,   7.4610,2,    25.00,-999.000,9,-999.0000,9, -999.00,9,   6.9106, -999.00,9,  -999.0,9,  -999.0,-999.000,9,-999.000,    46.2,2, -999.00,9,     31.066,3, -999.00,9,-999.000,-999.0000, -999.00,     -999.0,     -999.0,9,     -999.0,     -999.0,9,     -999.0,  -999.0,9,     -999.0,     -999.0,9,     -999.0,   6.8662,    34.2233,2,-999.0000,9,     -999.0,9
33RO20150410,     P16N.1,     105,          1,         15,         15,2,20150509,       1459,    19.0000,  -152.0001,       5250,   551.6,   6.3912,  34.3189,2,  34.3174,2,     31.1,2,    31.6,2,   65.90,2,   38.00,2,    0.00,2,    2.89,2,   0.386,2,   0.197,2,   0.141,3,  2291.9,6,  2316.8,2,   7.3633,6,    25.01,-999.000,9,-999.0000,9, -999.00,9,   6.4020, -999.00,9,  -999.0,9,  -999.0,-999.000,9,-999.000,    40.2,2, -999.00,9,     45.089,3, -999.00,9,-999.000,-999.0000, -999.00,     -999.0,     -999.0,9,     -999.0,     -999.0,9,     -999.0,  -999.0,9,     -999.0,     -999.0,9,     -999.0,   6.3413,    34.4792,2,-999.0000,9,     -999.0,9
33RO20150410,     P16N.1,     105,          1,         14,         14,2,20150509,       1459,    19.0000,  -152.0001,       5250,   700.5,   5.0337,  34.3933,2,  34.3961,2,     39.8,2,    35.5,2,   87.40,2,   40.80,2,    0.01,2,    3.01,2,   0.110,2,   0.057,2,   0.245,3,  2319.0,2,  2342.3,2,   7.3670,2,    24.99,-999.000,9,-999.0000,9, -999.00,9,   5.0321, -999.00,9,  -999.0,9,  -999.0,-999.000,9,-999.000,    39.4,2, -999.00,9,     44.334,3, -999.00,9,-999.000,-999.0000, -999.00,     -999.0,     -999.0,9,     -999.0,     -999.0,9,     -999.0,  -999.0,9,     -999.0,     -999.0,9,     -999.0,   4.9768,    34.5583,2,-999.0000,9,     -999.0,9
33RO20150410,     P16N.1,     105,          1,         13,         13,2,20150509,       1459,    19.0000,  -152.0001,       5250,   850.2,   4.5786,  34.4659,2,  34.4666,2,     38.5,2,    40.8,2,   95.40,2,   41.30,2,    0.00,2,    3.03,2,   0.042,2,   0.020,2,   0.106,3,  2328.8,2,  2356.8,2,   7.3841,2,    24.99,-999.000,9,-999.0000,9, -999.00,9,   4.5811, -999.00,9,  -999.0,9,  -999.0,-999.000,9,-999.000,    38.4,2, -999.00,9,     42.923,3, -999.00,9,-999.000,-999.0000, -999.00,     -999.0,     -999.0,9,     -999.0,     -999.0,9,     -999.0,  -999.0,9,     -999.0,     -999.0,9,     -999.0,   4.5115,    34.6291,2,-999.0000,9,     -999.0,9
33RO20150410,     P16N.1,     105,          1,         12,         12,2,20150509,       1459,    19.0000,  -152.0001,       5250,   998.8,   4.1718,  34.5188,2,  34.5188,2,     44.1,2,    45.2,2,  102.80,2,   41.80,2,    0.01,2,    3.06,2,   0.004,2,   0.003,2,       0,2,  2334.9,2,  2368.8,2,   7.3939,6,    25.02,-999.000,9,-999.0000,9, -999.00,9,   4.1731, -999.00,9,  -999.0,9,  -999.0,-999.000,9,-999.000,    38.0,2, -999.00,9,     41.387,3, -999.00,9,-999.000,-999.0000, -999.00,     -999.0,     -999.0,9,     -999.0,     -999.0,9,     -999.0,  -999.0,9,     -999.0,     -999.0,9,     -999.0,   4.0949,    34.6816,2,-999.0000,9,     -999.0,9
33RO20150410,     P16N.1,     105,          1,         11,         11,2,20150509,       1459,    19.0000,  -152.0001,       5250,  1166.5,   3.6189,  34.5367,2,  34.5364,2,     53.6,2,    52.6,2,  114.50,2,   41.60,2,    0.00,2,    3.03,2,-999.000,9,-999.000,9,-999.000,9,  2346.3,2,  2378.1,2,   7.4035,2,    24.99,-999.000,9,-999.0000,9, -999.00,9,   3.6190, -999.00,9,  -999.0,9,  -999.0,-999.000,9,-999.000,    38.5,2, -999.00,9,     -999.0,9, -999.00,9,-999.000,-999.0000, -999.00,     -999.0,     -999.0,9,     -999.0,     -999.0,9,     -999.0,  -999.0,9,     -999.0,     -999.0,9,     -999.0,   3.5325,    34.6993,2,-999.0000,9,     -999.0,9
33RO20150410,     P16N.1,     105,          1,         10,         10,2,20150509,       1459,    19.0000,  -152.0001,       5250,  1399.8,   3.0390,  34.5687,2,  34.5695,2,     62.2,2,    62.5,2,  127.00,2,   41.30,2,    0.01,2,    2.99,2,  -0.001,2,   0.000,2,       0,2,  2352.7,2,  2395.3,2,   7.4205,2,    25.00,-999.000,9,-999.0000,9, -999.00,9,   3.0384, -999.00,9,  -999.0,9,  -999.0,-999.000,9,-999.000,    37.0,2, -999.00,9,     35.387,3, -999.00,9,-999.000,-999.0000, -999.00,     -999.0,     -999.0,9,     -999.0,     -999.0,9,     -999.0,  -999.0,9,     -999.0,     -999.0,9,     -999.0,   2.9390,    34.7325,2,-999.0000,9,     -999.0,9
33RO20150410,     P16N.1,     105,          1,          9,          9,2,20150509,       1459,    19.0000,  -152.0001,       5250,  1725.5,   2.4677,  34.6064,2,  34.6060,2,     76.6,2,    76.8,2,  139.60,2,   40.60,2,    0.01,2,    2.92,2,-999.000,9,-999.000,9,-999.000,9,  2357.1,2,  2409.0,2,   7.4466,2,    25.00,-999.000,9,-999.0000,9, -999.00,9,   2.4677, -999.00,9,  -999.0,9,  -999.0,-999.000,9,-999.000,    37.5,2, -999.00,9,     -999.0,9, -999.00,9,-999.000,-999.0000, -999.00,     -999.0,     -999.0,9,     -999.0,     -999.0,9,     -999.0,  -999.0,9,     -999.0,     -999.0,9,     -999.0,   2.3476,    34.7692,2,-999.0000,9,     -999.0,9
33RO20150410,     P16N.1,     105,          1,          8,          8,2,20150509,       1459,    19.0000,  -152.0001,       5250,  2133.1,   1.9350,  34.6362,2,  34.6357,2,     97.7,2,    98.7,2,  150.30,2,   39.20,2,    0.00,2,    2.79,2,  -0.002,2,   0.000,2,       0,2,  2353.6,2,  2420.0,2,   7.4855,2,    25.00,-999.000,9,-999.0000,9, -999.00,9,   1.9353, -999.00,9,  -999.0,9,  -999.0,-999.000,9,-999.000,    37.5,2, -999.00,9,     26.864,3, -999.00,9,-999.000,-999.0000, -999.00,     -999.0,     -999.0,9,     -999.0,     -999.0,9,     -999.0,  -999.0,9,     -999.0,     -999.0,9,     -999.0,   1.7883,    34.7990,2,-999.0000,9,     -999.0,9
33RO20150410,     P16N.1,     105,          1,          7,          7,2,20150509,       1459,    19.0000,  -152.0001,       5250,  2532.2,   1.7199,  34.6580,2,  34.6573,2,    112.1,2,   113.1,2,  152.70,2,   38.30,2,    0.00,2,    2.72,2,-999.000,9,-999.000,9,-999.000,9,  2349.7,2,  2424.7,2,   7.5146,2,    25.00,-999.000,9,-999.0000,9, -999.00,9,   1.7197, -999.00,9,  -999.0,9,  -999.0,-999.000,9,-999.000,    36.3,2, -999.00,9,     -999.0,9, -999.00,9,-999.000,-999.0000, -999.00,     -999.0,     -999.0,9,     -999.0,     -999.0,9,     -999.0,  -999.0,9,     -999.0,     -999.0,9,     -999.0,   1.5419,    34.8207,6,-999.0000,9,     -999.0,9
33RO20150410,     P16N.1,     105,          1,          6,          6,2,20150509,       1459,    19.0000,  -152.0001,       5250,  2932.7,   1.6051,  34.6686,2,  34.6687,2,    121.6,2,   122.1,2,  154.30,2,   37.70,2,    0.01,2,    2.66,2,   0.004,2,   0.001,2,       0,2,  2346.3,2,  2428.2,2,   7.5309,2,    25.01,-999.000,9,-999.0000,9, -999.00,9,   1.6050, -999.00,9,  -999.0,9,  -999.0,-999.000,9,-999.000,    37.8,2, -999.00,9,     22.966,3, -999.00,9,-999.000,-999.0000, -999.00,     -999.0,     -999.0,9,     -999.0,     -999.0,9,     -999.0,  -999.0,9,     -999.0,     -999.0,9,     -999.0,   1.3924,    34.8322,2,-999.0000,9,     -999.0,9
33RO20150410,     P16N.1,     105,          1,          5,          5,2,20150509,       1459,    19.0000,  -152.0001,       5250,  3333.3,   1.5216,  34.6751,2,  34.6750,2,    130.4,2,   130.9,2,  154.30,2,   37.10,2,    0.00,2,    2.63,2,-999.000,9,-999.000,9,-999.000,9,  2340.1,2,  2426.9,2,   7.5448,6,    25.01,-999.000,9,-999.0000,9, -999.00,9,   1.5216, -999.00,9,  -999.0,9,  -999.0,-999.000,9,-999.000,    36.1,2, -999.00,9,     -999.0,9, -999.00,9,-999.000,-999.0000, -999.00,     -999.0,     -999.0,9,     -999.0,     -999.0,9,     -999.0,  -999.0,9,     -999.0,     -999.0,9,     -999.0,   1.2718,    34.8385,2,-999.0000,9,     -999.0,9
33RO20150410,     P16N.1,     105,          1,          4,          4,2,20150509,       1459,    19.0000,  -152.0001,       5250,  3766.8,   1.4651,  34.6832,2,  34.6824,2,    142.2,2,   142.7,2,  150.60,6,   36.30,6,    0.00,6,    2.55,6,  -0.002,2,   0.002,6,       0,6,  2331.5,2,  2424.4,2,   7.5639,6,    25.02,-999.000,9,-999.0000,9, -999.00,9,   1.4653, -999.00,9,  -999.0,9,  -999.0,-999.000,9,-999.000,    37.4,2, -999.00,9,     21.080,3, -999.00,9,-999.000,-999.0000, -999.00,     -999.0,     -999.0,9,     -999.0,     -999.0,9,     -999.0,  -999.0,9,     -999.0,     -999.0,9,     -999.0,   1.1721,    34.8459,2,-999.0000,9,     -999.0,9
33RO20150410,     P16N.1,     105,          1,          3,          3,2,20150509,       1459,    19.0000,  -152.0001,       5250,  4267.0,   1.4504,  34.6891,2,  34.6886,2,    152.8,2,   152.2,2,  144.60,6,   35.60,6,    0.00,6,    2.50,6,-999.000,9,-999.000,9,-999.000,9,  2322.5,2,  2421.7,6,   7.5775,2,    25.02,-999.000,9,-999.0000,9, -999.00,9,   1.4506, -999.00,9,  -999.0,9,  -999.0,-999.000,9,-999.000,    37.3,2, -999.00,9,     -999.0,9, -999.00,9,-999.000,-999.0000, -999.00,     -999.0,     -999.0,9,     -999.0,     -999.0,9,     -999.0,  -999.0,9,     -999.0,     -999.0,9,     -999.0,   1.1033,    34.8522,2,-999.0000,9,     -999.0,9
33RO20150410,     P16N.1,     105,          1,          2,          2,2,20150509,       1459,    19.0000,  -152.0001,       5250,  4767.1,   1.4463,  34.6938,2,  34.6927,2,    161.4,2,   161.7,2,  138.00,6,   35.00,6,    0.00,6,    2.46,6,   0.002,2,   0.003,2,       0,2,  2311.2,2,  2413.8,2,   7.5884,2,    25.01,-999.000,9,-999.0000,9, -999.00,9,   1.4463, -999.00,9,  -999.0,9,  -999.0,-999.000,9,-999.000,    38.2,2, -999.00,9,     20.000,3, -999.00,9,-999.000,-999.0000, -999.00,     -999.0,     -999.0,9,     -999.0,     -999.0,9,     -999.0,  -999.0,9,     -999.0,     -999.0,9,     -999.0,   1.0417,    34.8563,2,-999.0000,9,     -999.0,9
33RO20150410,     P16N.1,     105,          1,          1,          1,2,20150509,       1459,    19.0000,  -152.0001,       5250,  5240.4,   1.4565,  34.6970,2,  34.6971,2,    169.1,2,   169.3,2,  133.10,6,   34.30,6,    0.01,6,    2.41,6,   0.001,2,   0.001,2,       0,2,  2304.0,6,  2405.8,2,   7.5944,2,    25.01,-999.000,9,-999.0000,9, -999.00,9,   1.4564, -999.00,9,  -999.0,9,  -999.0,-999.000,9,-999.000,    38.3,2, -999.00,9,     19.677,3, -999.00,9,-999.000,-999.0000, -999.00,     -999.0,     -999.0,9,     -999.0,     -999.0,9,     -999.0,  -999.0,9,     -999.0,     -999.0,9,     -999.0,   0.9940,    34.8607,2,-999.0000,9,     -999.0,9