BOTTLE,20210709CCHSIOCBG
EXPOCODE,SECT_ID,STNNBR,CASTNO,SAMPNO,BTLNBR,BTLNBR_FLAG_W,DATE,TIME,LATITUDE,LONGITUDE,DEPTH,CTDPRS,CTDTMP,CTDSAL,CTDSAL_FLAG_W,SALNTY,SALNTY_FLAG_W,CTDOXY,CTDOXY_FLAG_W,OXYGEN,OXYGEN_FLAG_W,SILCAT,SILCAT_FLAG_W,NITRAT,NITRAT_FLAG_W,NITRIT,NITRIT_FLAG_W,PHSPHT,PHSPHT_FLAG_W,CFC-11,CFC-11_FLAG_W,CFC-12,CFC-12_FLAG_W,SF6,SF6_FLAG_W,TCARBN,TCARBN_FLAG_W,ALKALI,ALKALI_FLAG_W,PH_TOT,PH_TOT_FLAG_W,PH_TMP,TRITUM,TRITUM_FLAG_W,HELIUM,HELIUM_FLAG_W,DELHE3,DELHE3_FLAG_W,REFTMP,DELC13,DELC13_FLAG_W,DELC14,DELC14_FLAG_W,C14ERR,NEON,NEON_FLAG_W,NEONER,DOC,DOC_FLAG_W,TDN,TDN_FLAG_W,N2O,N2O_FLAG_W,ARGON,ARGON_FLAG_W,TRITER,HELIER,DELHER,ARGONER,KRYPTON,KRYPTON_FLAG_W,KRYPTONER,XENON,XENON_FLAG_W,XENONER,14C-DOC,14C-DOC_FLAG_W,14C-DOCERR,13C-DOC,13C-DOC_FLAG_W,13C-DOCERR,THETA,SALTREF,SALTREF_FLAG_W,SBE35,SBE35_FLAG_W,CHLORA,CHLORA_FLAG_W
,,,,,,,,,,,METERS,DBAR,ITS-90,PSS-78,,PSS-78,,UMOL/KG,,UMOL/KG,,UMOL/KG,,UMOL/KG,,UMOL/KG,,UMOL/KG,,PMOL/KG,,PMOL/KG,,FMOL/KG,,UMOL/KG,,UMOL/KG,,,,DEG C,TU,,NMOL/KG,,PERCNT,,DEG C,/MILLE,,/MILLE,,/MILLE,NMOL/KG,,NMOL/KG,UMOL/KG,,UMOL/KG,,NMOL/KG,,UMOL/KG,,TU,NMOL/KG,PERCNT,UMOL/KG,NMOL/KG,,NMOL/KG,NMOL/KG,,NMOL/KG,/MILLE,,/MILLE,/MILLE,,/MILLE,DEG C,G/KG,,ITS-90,,MG/M3,
33RO20150410,     P16N.1,      59,          1,         24,         24,2,20150426,       1651,     1.2300,  -150.9999,       4330,     9.7,  28.3503,  35.1349,2,  35.1341,2,    195.2,2,   201.7,4,    1.90,2,    3.10,2,    0.33,2,    0.40,4,-999.000,9,-999.000,9,-999.000,9,  2011.4,6,  2311.8,2,   8.0333,2,    24.99,-999.000,9,-999.0000,9, -999.00,9,-999.0000, -999.00,9,  -999.0,9,  -999.0,-999.000,9,-999.000,  -999.0,9, -999.00,9,     -999.0,9, -999.00,9,-999.000,-999.0000, -999.00,     -999.0,     -999.0,9,     -999.0,     -999.0,9,     -999.0,  -999.0,9,     -999.0,     -999.0,9,     -999.0,  28.3480,    35.2998,2,-999.0000,2,     -999.0,9
33RO20150410,     P16N.1,      59,          1,         23,         23,2,20150426,       1651,     1.2300,  -150.9999,       4330,    25.6,  28.3362,  35.1338,2,  35.1323,2,    195.3,2,   194.9,2,    1.90,2,    3.10,2,    0.33,2,    0.41,4,-999.000,9,-999.000,9,-999.000,9,  -999.0,9,  -999.0,9,-999.0000,9,  -999.00,-999.000,9,-999.0000,9, -999.00,9,-999.0000, -999.00,9,  -999.0,9,  -999.0,-999.000,9,-999.000,  -999.0,9, -999.00,9,     -999.0,9, -999.00,9,-999.000,-999.0000, -999.00,     -999.0,     -999.0,9,     -999.0,     -999.0,9,     -999.0,  -999.0,9,     -999.0,     -999.0,9,     -999.0,  28.3301,    35.2980,2,-999.0000,2,     -999.0,9
33RO20150410,     P16N.1,      59,          1,         22,         22,2,20150426,       1651,     1.2300,  -150.9999,       4330,    49.5,  28.0935,  35.1091,2,  35.1211,2,    192.6,2,   191.6,2,    1.90,2,    3.20,2,    0.46,2,    0.44,4,-999.000,9,-999.000,9,-999.000,9,  -999.0,9,  -999.0,9,-999.0000,9,  -999.00,-999.000,9,-999.0000,9, -999.00,9,-999.0000, -999.00,9,  -999.0,9,  -999.0,-999.000,9,-999.000,  -999.0,9, -999.00,9,     -999.0,9, -999.00,9,-999.000,-999.0000, -999.00,     -999.0,     -999.0,9,     -999.0,     -999.0,9,     -999.0,  -999.0,9,     -999.0,     -999.0,9,     -999.0,  28.0818,    35.2867,2,-999.0000,2,     -999.0,9
33RO20150410,     P16N.1,      59,          1,         21,         21,2,20150426,       1651,     1.2300,  -150.9999,       4330,    75.0,  27.3935,  35.0772,2,  35.1362,4,    179.5,2,   179.4,2,    2.30,2,    4.00,2,    1.13,2,    0.54,4,-999.000,9,-999.000,9,-999.000,9,  -999.0,9,  -999.0,9,-999.0000,9,  -999.00,-999.000,9,-999.0000,9, -999.00,9,-999.0000, -999.00,9,  -999.0,9,  -999.0,-999.000,9,-999.000,  -999.0,9, -999.00,9,     -999.0,9, -999.00,9,-999.000,-999.0000, -999.00,     -999.0,     -999.0,9,     -999.0,     -999.0,9,     -999.0,  -999.0,9,     -999.0,     -999.0,9,     -999.0,  27.3761,    35.3019,3,-999.0000,2,     -999.0,9
33RO20150410,     P16N.1,      59,          1,         20,         20,2,20150426,       1651,     1.2300,  -150.9999,       4330,    99.8,  26.1654,  35.1055,2,  35.1072,2,    152.1,2,   150.3,2,    2.90,2,    7.30,2,    0.07,2,    0.64,4,-999.000,9,-999.000,9,-999.000,9,  -999.0,9,  -999.0,9,-999.0000,9,  -999.00,-999.000,9,-999.0000,9, -999.00,9,-999.0000, -999.00,9,  -999.0,9,  -999.0,-999.000,9,-999.000,  -999.0,9, -999.00,9,     -999.0,9, -999.00,9,-999.000,-999.0000, -999.00,     -999.0,     -999.0,9,     -999.0,     -999.0,9,     -999.0,  -999.0,9,     -999.0,     -999.0,9,     -999.0,  26.1430,    35.2728,2,-999.0000,2,     -999.0,9
33RO20150410,     P16N.1,      59,          1,         19,         19,2,20150426,       1651,     1.2300,  -150.9999,       4330,   125.6,  23.2736,  34.9767,2,  34.9730,2,    132.6,2,   132.1,2,    5.30,2,    9.20,2,    0.04,2,    0.74,4,-999.000,9,-999.000,9,-999.000,9,  -999.0,9,  -999.0,9,-999.0000,9,  -999.00,-999.000,9,-999.0000,9, -999.00,9,-999.0000, -999.00,9,  -999.0,9,  -999.0,-999.000,9,-999.000,  -999.0,9, -999.00,9,     -999.0,9, -999.00,9,-999.000,-999.0000, -999.00,     -999.0,     -999.0,9,     -999.0,     -999.0,9,     -999.0,  -999.0,9,     -999.0,     -999.0,9,     -999.0,  23.2477,    35.1379,2,-999.0000,2,     -999.0,9
33RO20150410,     P16N.1,      59,          1,         18,         18,2,20150426,       1651,     1.2300,  -150.9999,       4330,   174.2,  14.9717,  34.7492,2,  34.7458,2,    123.1,2,   120.0,2,   16.50,2,   17.50,2,    0.01,2,    1.25,4,-999.000,9,-999.000,9,-999.000,9,  -999.0,9,  -999.0,9,-999.0000,9,  -999.00,-999.000,9,-999.0000,9, -999.00,9,-999.0000, -999.00,9,  -999.0,9,  -999.0,-999.000,9,-999.000,  -999.0,9, -999.00,9,     -999.0,9, -999.00,9,-999.000,-999.0000, -999.00,     -999.0,     -999.0,9,     -999.0,     -999.0,9,     -999.0,  -999.0,9,     -999.0,     -999.0,9,     -999.0,  14.9454,    34.9096,2,-999.0000,2,     -999.0,9
33RO20150410,     P16N.1,      59,          1,         17,         17,2,20150426,       1651,     1.2300,  -150.9999,       4330,   249.5,  11.8736,  34.8351,2,  34.8337,2,     75.8,2,    71.8,2,   22.40,2,   27.40,2,    0.01,2,    1.87,4,-999.000,9,-999.000,9,-999.000,9,  -999.0,9,  -999.0,9,-999.0000,9,  -999.00,-999.000,9,-999.0000,9, -999.00,9,-999.0000, -999.00,9,  -999.0,9,  -999.0,-999.000,9,-999.000,  -999.0,9, -999.00,9,     -999.0,9, -999.00,9,-999.000,-999.0000, -999.00,     -999.0,     -999.0,9,     -999.0,     -999.0,9,     -999.0,  -999.0,9,     -999.0,     -999.0,9,     -999.0,  11.8413,    34.9979,2,-999.0000,2,     -999.0,9
33RO20150410,     P16N.1,      59,          1,         16,         16,2,20150426,       1651,     1.2300,  -150.9999,       4330,   325.2,  11.0241,  34.7855,2,  34.7835,2,     40.0,2,    41.4,2,   27.00,2,   31.90,2,    0.01,2,    2.16,4,-999.000,9,-999.000,9,-999.000,9,  -999.0,9,  -999.0,9,-999.0000,9,  -999.00,-999.000,9,-999.0000,9, -999.00,9,-999.0000, -999.00,9,  -999.0,9,  -999.0,-999.000,9,-999.000,  -999.0,9, -999.00,9,     -999.0,9, -999.00,9,-999.000,-999.0000, -999.00,     -999.0,     -999.0,9,     -999.0,     -999.0,9,     -999.0,  -999.0,9,     -999.0,     -999.0,9,     -999.0,  10.9838,    34.9476,2,-999.0000,2,     -999.0,9
33RO20150410,     P16N.1,      59,          1,         15,         15,2,20150426,       1651,     1.2300,  -150.9999,       4330,   399.4,   9.6394,  34.6908,2,  34.6929,2,     49.2,2,    47.1,2,   31.80,2,   33.70,2,    0.01,2,    2.27,4,-999.000,9,-999.000,9,-999.000,9,  -999.0,9,  -999.0,9,-999.0000,9,  -999.00,-999.000,9,-999.0000,9, -999.00,9,-999.0000, -999.00,9,  -999.0,9,  -999.0,-999.000,9,-999.000,  -999.0,9, -999.00,9,     -999.0,9, -999.00,9,-999.000,-999.0000, -999.00,     -999.0,     -999.0,9,     -999.0,     -999.0,9,     -999.0,  -999.0,9,     -999.0,     -999.0,9,     -999.0,   9.5938,    34.8565,2,-999.0000,2,     -999.0,9
33RO20150410,     P16N.1,      59,          1,         14,         14,2,20150426,       1651,     1.2300,  -150.9999,       4330,   498.8,   7.8397,  34.6088,2,  34.6060,2,     48.0,2,    47.5,2,   41.70,2,   37.90,2,    0.01,2,    2.56,4,-999.000,9,-999.000,9,-999.000,9,  -999.0,9,  -999.0,9,-999.0000,9,  -999.00,-999.000,9,-999.0000,9, -999.00,9,-999.0000, -999.00,9,  -999.0,9,  -999.0,-999.000,9,-999.000,  -999.0,9, -999.00,9,     -999.0,9, -999.00,9,-999.000,-999.0000, -999.00,     -999.0,     -999.0,9,     -999.0,     -999.0,9,     -999.0,  -999.0,9,     -999.0,     -999.0,9,     -999.0,   7.7891,    34.7692,2,-999.0000,2,     -999.0,9
33RO20150410,     P16N.1,      59,          1,         13,         13,2,20150426,       1651,     1.2300,  -150.9999,       4330,   648.5,   6.2649,  34.5565,2,  34.5552,2,     64.3,2,    63.3,2,   55.40,2,   39.20,2,    0.00,2,    2.71,4,-999.000,9,-999.000,9,-999.000,9,  -999.0,9,  -999.0,9,-999.0000,9,  -999.00,-999.000,9,-999.0000,9, -999.00,9,-999.0000, -999.00,9,  -999.0,9,  -999.0,-999.000,9,-999.000,  -999.0,9, -999.00,9,     -999.0,9, -999.00,9,-999.000,-999.0000, -999.00,     -999.0,     -999.0,9,     -999.0,     -999.0,9,     -999.0,  -999.0,9,     -999.0,     -999.0,9,     -999.0,   6.2062,    34.7181,2,-999.0000,2,     -999.0,9
33RO20150410,     P16N.1,      59,          1,         12,         12,2,20150426,       1651,     1.2300,  -150.9999,       4330,   799.4,   5.4523,  34.5466,2,  34.5743,4,     75.1,2,    74.5,2,   66.20,2,   39.20,2,    0.00,2,    2.73,4,-999.000,9,-999.000,9,-999.000,9,  -999.0,9,  -999.0,9,-999.0000,9,  -999.00,-999.000,9,-999.0000,9, -999.00,9,-999.0000, -999.00,9,  -999.0,9,  -999.0,-999.000,9,-999.000,  -999.0,9, -999.00,9,     -999.0,9, -999.00,9,-999.000,-999.0000, -999.00,     -999.0,     -999.0,9,     -999.0,     -999.0,9,     -999.0,  -999.0,9,     -999.0,     -999.0,9,     -999.0,   5.3840,    34.7373,3,-999.0000,2,     -999.0,9
33RO20150410,     P16N.1,      59,          1,         11,         11,2,20150426,       1651,     1.2300,  -150.9999,       4330,   950.4,   4.8853,  34.5498,2,  34.5489,2,     80.3,2,    79.8,2,   76.30,2,   39.40,2,    0.00,2,    2.77,4,-999.000,9,-999.000,9,-999.000,9,  -999.0,9,  -999.0,9,-999.0000,9,  -999.00,-999.000,9,-999.0000,9, -999.00,9,-999.0000, -999.00,9,  -999.0,9,  -999.0,-999.000,9,-999.000,  -999.0,9, -999.00,9,     -999.0,9, -999.00,9,-999.000,-999.0000, -999.00,     -999.0,     -999.0,9,     -999.0,     -999.0,9,     -999.0,  -999.0,9,     -999.0,     -999.0,9,     -999.0,   4.8072,    34.7118,2,-999.0000,2,     -999.0,9
33RO20150410,     P16N.1,      59,          1,         10,         10,2,20150426,       1651,     1.2300,  -150.9999,       4330,  1099.6,   4.1514,  34.5663,2,  34.5646,2,     80.6,2,    79.8,2,   92.30,2,   39.80,2,    0.00,2,    2.84,4,-999.000,9,-999.000,9,-999.000,9,  -999.0,9,  -999.0,9,-999.0000,9,  -999.00,-999.000,9,-999.0000,9, -999.00,9,-999.0000, -999.00,9,  -999.0,9,  -999.0,-999.000,9,-999.000,  -999.0,9, -999.00,9,     -999.0,9, -999.00,9,-999.000,-999.0000, -999.00,     -999.0,     -999.0,9,     -999.0,     -999.0,9,     -999.0,  -999.0,9,     -999.0,     -999.0,9,     -999.0,   4.0660,    34.7275,2,-999.0000,2,     -999.0,9
33RO20150410,     P16N.1,      59,          1,          9,          9,2,20150426,       1651,     1.2300,  -150.9999,       4330,  1296.9,   3.6022,  34.5837,2,  34.5816,2,     84.1,2,    83.3,2,  105.10,2,   39.80,2,    0.00,2,    2.88,4,-999.000,9,-999.000,9,-999.000,9,  -999.0,9,  -999.0,9,-999.0000,9,  -999.00,-999.000,9,-999.0000,9, -999.00,9,-999.0000, -999.00,9,  -999.0,9,  -999.0,-999.000,9,-999.000,  -999.0,9, -999.00,9,     -999.0,9, -999.00,9,-999.000,-999.0000, -999.00,     -999.0,     -999.0,9,     -999.0,     -999.0,9,     -999.0,  -999.0,9,     -999.0,     -999.0,9,     -999.0,   3.5050,    34.7447,2,-999.0000,2,     -999.0,9
33RO20150410,     P16N.1,      59,          1,          8,          8,2,20150426,       1651,     1.2300,  -150.9999,       4330,  1600.1,   2.8057,  34.6169,2,  34.6155,2,     92.8,2,    90.1,2,  125.20,2,   39.90,2,    0.00,2,    2.86,4,-999.000,9,-999.000,9,-999.000,9,  -999.0,9,  -999.0,9,-999.0000,9,  -999.00,-999.000,9,-999.0000,9, -999.00,9,-999.0000, -999.00,9,  -999.0,9,  -999.0,-999.000,9,-999.000,  -999.0,9, -999.00,9,     -999.0,9, -999.00,9,-999.000,-999.0000, -999.00,     -999.0,     -999.0,9,     -999.0,     -999.0,9,     -999.0,  -999.0,9,     -999.0,     -999.0,9,     -999.0,   2.6917,    34.7787,2,-999.0000,2,     -999.0,9
33RO20150410,     P16N.1,      59,          1,          7,          7,2,20150426,       1651,     1.2300,  -150.9999,       4330,  1999.8,   2.2737,  34.6425,2,  34.6406,2,    104.0,2,   104.0,2,  136.80,2,   39.00,2,    0.00,2,    2.80,4,-999.000,9,-999.000,9,-999.000,9,  -999.0,9,  -999.0,9,-999.0000,9,  -999.00,-999.000,9,-999.0000,9, -999.00,9,-999.0000, -999.00,9,  -999.0,9,  -999.0,-999.000,9,-999.000,  -999.0,9, -999.00,9,     -999.0,9, -999.00,9,-999.000,-999.0000, -999.00,     -999.0,     -999.0,9,     -999.0,     -999.0,9,     -999.0,  -999.0,9,     -999.0,     -999.0,9,     -999.0,   2.1331,    34.8039,6,-999.0000,2,     -999.0,9
33RO20150410,     P16N.1,      59,          1,          6,          6,2,20150426,       1651,     1.2300,  -150.9999,       4330,  2399.3,   1.9046,  34.6624,2,  34.6665,2,    118.0,2,   117.4,2,  143.50,2,   38.10,2,    0.00,2,    2.72,4,-999.000,9,-999.000,9,-999.000,9,  -999.0,9,  -999.0,9,-999.0000,9,  -999.00,-999.000,9,-999.0000,9, -999.00,9,-999.0000, -999.00,9,  -999.0,9,  -999.0,-999.000,9,-999.000,  -999.0,9, -999.00,9,     -999.0,9, -999.00,9,-999.000,-999.0000, -999.00,     -999.0,     -999.0,9,     -999.0,     -999.0,9,     -999.0,  -999.0,9,     -999.0,     -999.0,9,     -999.0,   1.7351,    34.8300,3,-999.0000,2,     -999.0,9
33RO20150410,     P16N.1,      59,          1,          5,          5,2,20150426,       1651,     1.2300,  -150.9999,       4330,  2800.5,   1.7329,  34.6727,2,  34.6726,2,    127.7,2,   127.4,2,  145.30,2,   37.40,2,    0.00,2,    2.68,4,-999.000,9,-999.000,9,-999.000,9,  -999.0,9,  -999.0,9,-999.0000,9,  -999.00,-999.000,9,-999.0000,9, -999.00,9,-999.0000, -999.00,9,  -999.0,9,  -999.0,-999.000,9,-999.000,  -999.0,9, -999.00,9,     -999.0,9, -999.00,9,-999.000,-999.0000, -999.00,     -999.0,     -999.0,9,     -999.0,     -999.0,9,     -999.0,  -999.0,9,     -999.0,     -999.0,9,     -999.0,   1.5299,    34.8361,2,-999.0000,2,     -999.0,9
33RO20150410,     P16N.1,      59,          1,          4,          4,2,20150426,       1651,     1.2300,  -150.9999,       4330,  3200.4,   1.6445,  34.6781,2,  34.6745,2,    137.4,2,   135.9,2,  144.10,6,   36.90,6,    0.01,6,    2.63,4,-999.000,9,-999.000,9,-999.000,9,  -999.0,9,  -999.0,9,-999.0000,9,  -999.00,-999.000,9,-999.0000,9, -999.00,9,-999.0000, -999.00,9,  -999.0,9,  -999.0,-999.000,9,-999.000,  -999.0,9, -999.00,9,     -999.0,9, -999.00,9,-999.000,-999.0000, -999.00,     -999.0,     -999.0,9,     -999.0,     -999.0,9,     -999.0,  -999.0,9,     -999.0,     -999.0,9,     -999.0,   1.4050,    34.8380,3,-999.0000,2,     -999.0,9
33RO20150410,     P16N.1,      59,          1,          3,          3,2,20150426,       1651,     1.2300,  -150.9999,       4330,  3599.9,   1.4558,  34.6903,2,  34.6910,2,    152.2,2,   152.3,2,  143.20,6,   35.90,6,    0.00,6,    2.55,4,-999.000,9,-999.000,9,-999.000,9,  -999.0,9,  -999.0,9,-999.0000,9,  -999.00,-999.000,9,-999.0000,9, -999.00,9,-999.0000, -999.00,9,  -999.0,9,  -999.0,-999.000,9,-999.000,  -999.0,9, -999.00,9,     -999.0,9, -999.00,9,-999.000,-999.0000, -999.00,     -999.0,     -999.0,9,     -999.0,     -999.0,9,     -999.0,  -999.0,9,     -999.0,     -999.0,9,     -999.0,   1.1804,    34.8546,2,-999.0000,2,     -999.0,9
33RO20150410,     P16N.1,      59,          1,          2,          2,2,20150426,       1651,     1.2300,  -150.9999,       4330,  4000.8,   1.4194,  34.6943,2,  34.6966,2,    158.1,2,   158.4,2,  142.50,6,   35.60,6,    0.00,6,    2.53,4,-999.000,9,-999.000,9,-999.000,9,  -999.0,9,  -999.0,9,-999.0000,9,  -999.00,-999.000,9,-999.0000,9, -999.00,9,-999.0000, -999.00,9,  -999.0,9,  -999.0,-999.000,9,-999.000,  -999.0,9, -999.00,9,     -999.0,9, -999.00,9,-999.000,-999.0000, -999.00,     -999.0,     -999.0,9,     -999.0,     -999.0,9,     -999.0,  -999.0,9,     -999.0,     -999.0,9,     -999.0,   1.1025,    34.8602,2,-999.0000,2,     -999.0,9
33RO20150410,     P16N.1,      59,          1,          1,          1,2,20150426,       1651,     1.2300,  -150.9999,       4330,  4320.5,   1.4011,  34.6965,2,  34.6926,2,    164.2,2,   163.6,2,  139.30,6,   35.10,6,    0.01,6,    2.48,4,-999.000,9,-999.000,9,-999.000,9,  -999.0,9,  -999.0,9,-999.0000,9,  -999.00,-999.000,9,-999.0000,9, -999.00,9,-999.0000, -999.00,9,  -999.0,9,  -999.0,-999.000,9,-999.000,  -999.0,9, -999.00,9,     -999.0,9, -999.00,9,-999.000,-999.0000, -999.00,     -999.0,     -999.0,9,     -999.0,     -999.0,9,     -999.0,  -999.0,9,     -999.0,     -999.0,9,     -999.0,   1.0495,    34.8562,3,-999.0000,2,     -999.0,9