BOTTLE,20210709CCHSIOCBG
EXPOCODE,SECT_ID,STNNBR,CASTNO,SAMPNO,BTLNBR,BTLNBR_FLAG_W,DATE,TIME,LATITUDE,LONGITUDE,DEPTH,CTDPRS,CTDTMP,CTDSAL,CTDSAL_FLAG_W,SALNTY,SALNTY_FLAG_W,CTDOXY,CTDOXY_FLAG_W,OXYGEN,OXYGEN_FLAG_W,SILCAT,SILCAT_FLAG_W,NITRAT,NITRAT_FLAG_W,NITRIT,NITRIT_FLAG_W,PHSPHT,PHSPHT_FLAG_W,CFC-11,CFC-11_FLAG_W,CFC-12,CFC-12_FLAG_W,SF6,SF6_FLAG_W,TCARBN,TCARBN_FLAG_W,ALKALI,ALKALI_FLAG_W,PH_TOT,PH_TOT_FLAG_W,PH_TMP,TRITUM,TRITUM_FLAG_W,HELIUM,HELIUM_FLAG_W,DELHE3,DELHE3_FLAG_W,REFTMP,DELC13,DELC13_FLAG_W,DELC14,DELC14_FLAG_W,C14ERR,NEON,NEON_FLAG_W,NEONER,DOC,DOC_FLAG_W,TDN,TDN_FLAG_W,N2O,N2O_FLAG_W,ARGON,ARGON_FLAG_W,TRITER,HELIER,DELHER,ARGONER,KRYPTON,KRYPTON_FLAG_W,KRYPTONER,XENON,XENON_FLAG_W,XENONER,14C-DOC,14C-DOC_FLAG_W,14C-DOCERR,13C-DOC,13C-DOC_FLAG_W,13C-DOCERR,THETA,SALTREF,SALTREF_FLAG_W,SBE35,SBE35_FLAG_W,CHLORA,CHLORA_FLAG_W
,,,,,,,,,,,METERS,DBAR,ITS-90,PSS-78,,PSS-78,,UMOL/KG,,UMOL/KG,,UMOL/KG,,UMOL/KG,,UMOL/KG,,UMOL/KG,,PMOL/KG,,PMOL/KG,,FMOL/KG,,UMOL/KG,,UMOL/KG,,,,DEG C,TU,,NMOL/KG,,PERCNT,,DEG C,/MILLE,,/MILLE,,/MILLE,NMOL/KG,,NMOL/KG,UMOL/KG,,UMOL/KG,,NMOL/KG,,UMOL/KG,,TU,NMOL/KG,PERCNT,UMOL/KG,NMOL/KG,,NMOL/KG,NMOL/KG,,NMOL/KG,/MILLE,,/MILLE,/MILLE,,/MILLE,DEG C,G/KG,,ITS-90,,MG/M3,
33RO20150410,     P16N.1,      99,          1,         24,         24,2,20150507,       1845,    16.0005,  -152.0006,       5609,    14.6,  25.7647,  34.2774,2,  34.2769,2,    202.2,2,   202.7,2,    2.60,2,    0.00,2,    0.01,2,    0.23,2,   1.639,6,   1.036,6,    1.34,6,  1950.4,6,  2258.1,2,   8.0695,2,    25.02,-999.000,9,-999.0000,9, -999.00,9,  25.7647, -999.00,9,  -999.0,9,  -999.0,-999.000,9,-999.000,    71.1,2,    4.90,2,      6.401,3, -999.00,9,-999.000,-999.0000, -999.00,     -999.0,     -999.0,9,     -999.0,     -999.0,9,     -999.0,  -999.0,9,     -999.0,     -999.0,9,     -999.0,  25.7615,    34.4385,2,-999.0000,2,      0.067,2
33RO20150410,     P16N.1,      99,          1,         23,         23,2,20150507,       1845,    16.0005,  -152.0006,       5609,    32.8,  25.7404,  34.2770,2,  34.2804,2,    202.7,2,   205.4,2,    3.50,2,    0.00,2,    0.01,2,    0.23,2,   1.599,2,   1.029,2,   1.362,2,  1950.0,2,  2257.4,2,   8.0694,2,    25.01,-999.000,9,-999.0000,9, -999.00,9,  25.7410, -999.00,9,  -999.0,9,  -999.0,-999.000,9,-999.000,    71.0,2,    4.90,2,      6.420,3, -999.00,9,-999.000,-999.0000, -999.00,     -999.0,     -999.0,9,     -999.0,     -999.0,9,     -999.0,  -999.0,9,     -999.0,     -999.0,9,     -999.0,  25.7332,    34.4421,2,-999.0000,2,      0.064,2
33RO20150410,     P16N.1,      99,          1,         22,         22,2,20150507,       1845,    16.0005,  -152.0006,       5609,    58.8,  25.7074,  34.2877,2,  34.2894,2,    202.7,2,   210.1,2,    3.40,2,    0.00,2,    0.01,2,    0.23,2,   1.652,2,   1.033,2,   1.402,2,  1952.0,2,  2257.9,2,   8.0691,6,    25.02,-999.000,9,-999.0000,9, -999.00,9,  25.7081, -999.00,9,  -999.0,9,  -999.0,-999.000,9,-999.000,    69.6,2,    4.70,2,      6.447,3, -999.00,9,-999.000,-999.0000, -999.00,     -999.0,     -999.0,9,     -999.0,     -999.0,9,     -999.0,  -999.0,9,     -999.0,     -999.0,9,     -999.0,  25.6944,    34.4511,6,-999.0000,2,      0.084,2
33RO20150410,     P16N.1,      99,          1,         21,         21,2,20150507,       1845,    16.0005,  -152.0006,       5609,    83.5,  25.4407,  34.6167,2,  34.5620,2,    205.8,2,   206.4,2,    2.50,2,    0.00,2,    0.01,2,    0.25,2,   1.663,2,   1.053,2,   1.393,2,  1970.3,2,  2277.8,2,   8.0643,2,    25.01,-999.000,9,-999.0000,9, -999.00,9,  25.4304, -999.00,9,  -999.0,9,  -999.0,-999.000,9,-999.000,    70.1,2,    4.30,2,      6.646,3, -999.00,9,-999.000,-999.0000, -999.00,     -999.0,     -999.0,9,     -999.0,     -999.0,9,     -999.0,  -999.0,9,     -999.0,     -999.0,9,     -999.0,  25.4224,    34.7250,2,-999.0000,2,      0.154,3
33RO20150410,     P16N.1,      99,          1,         20,         20,2,20150507,       1845,    16.0005,  -152.0006,       5609,   117.3,  22.7344,  35.0364,2,  35.0408,2,    215.7,2,   214.9,2,    3.80,2,    0.00,2,    0.01,2,    0.25,2,   1.948,2,   1.218,2,   1.443,2,  2028.0,2,  2316.4,6,   8.0144,2,    25.02,-999.000,9,-999.0000,9, -999.00,9,  22.7653, -999.00,9,  -999.0,9,  -999.0,-999.000,9,-999.000,    67.4,2,    4.40,2,      7.975,3, -999.00,9,-999.000,-999.0000, -999.00,     -999.0,     -999.0,9,     -999.0,     -999.0,9,     -999.0,  -999.0,9,     -999.0,     -999.0,9,     -999.0,  22.7107,    35.2060,2,-999.0000,2,      0.199,2
33RO20150410,     P16N.1,      99,          1,         19,         19,2,20150507,       1845,    16.0005,  -152.0006,       5609,   175.6,  16.0270,  34.4134,2,  34.4338,2,    154.2,2,   162.8,2,    8.90,2,    7.50,2,    0.03,2,    0.85,2,   2.518,2,   1.448,2,   1.409,2,  2098.4,2,  2277.1,2,   7.8089,6,    25.02,-999.000,9,-999.0000,9, -999.00,9,  16.0985, -999.00,9,  -999.0,9,  -999.0,-999.000,9,-999.000,    53.0,2,   11.30,2,     24.133,3, -999.00,9,-999.000,-999.0000, -999.00,     -999.0,     -999.0,9,     -999.0,     -999.0,9,     -999.0,  -999.0,9,     -999.0,     -999.0,9,     -999.0,  15.9993,    34.5962,2,-999.0000,2,      0.101,2
33RO20150410,     P16N.1,      99,          1,         18,         18,2,20150507,       1845,    16.0005,  -152.0006,       5609,   250.1,  10.9743,  34.3754,2,  34.3693,2,     79.5,2,    65.7,2,   29.70,2,   24.60,2,    0.01,2,    2.21,2,   1.974,2,   1.072,2,    0.52,2,  2216.3,2,  2278.5,2,   7.4970,2,    25.00,-999.000,9,-999.0000,9, -999.00,9,  10.9729, -999.00,9,  -999.0,9,  -999.0,-999.000,9,-999.000,    43.3,2,   28.20,2,     45.553,3, -999.00,9,-999.000,-999.0000, -999.00,     -999.0,     -999.0,9,     -999.0,     -999.0,9,     -999.0,  -999.0,9,     -999.0,     -999.0,9,     -999.0,  10.9437,    34.5313,2,-999.0000,2,      0.000,2
33RO20150410,     P16N.1,      99,          1,         17,         17,2,20150507,       1845,    16.0005,  -152.0006,       5609,   333.5,   9.3642,  34.4248,2,  34.4219,2,     44.6,2,    38.3,2,   40.00,2,   30.60,2,    0.01,2,    2.52,2,   1.081,6,   0.563,6,   0.227,6,  2252.3,2,  2289.7,2,   7.4253,2,    25.01,-999.000,9,-999.0000,9, -999.00,9,   9.3658, -999.00,9,  -999.0,9,  -999.0,-999.000,9,-999.000,    42.1,2, -999.00,9,     43.587,3, -999.00,9,-999.000,-999.0000, -999.00,     -999.0,     -999.0,9,     -999.0,     -999.0,9,     -999.0,  -999.0,9,     -999.0,     -999.0,9,     -999.0,   9.3271,    34.5842,2,-999.0000,3,     -999.0,9
33RO20150410,     P16N.1,      99,          1,         16,         16,2,20150507,       1845,    16.0005,  -152.0006,       5609,   433.0,   8.3468,  34.4659,2,  34.4684,2,     23.6,2,    23.4,2,   48.60,2,   35.00,2,    0.01,2,    2.75,2,   0.409,2,   0.211,2,   0.087,2,  2273.9,2,  2301.9,2,   7.3896,6,    25.03,-999.000,9,-999.0000,9, -999.00,9,   8.3486, -999.00,9,  -999.0,9,  -999.0,-999.000,9,-999.000,    40.0,2, -999.00,9,     50.061,3, -999.00,9,-999.000,-999.0000, -999.00,     -999.0,     -999.0,9,     -999.0,     -999.0,9,     -999.0,  -999.0,9,     -999.0,     -999.0,9,     -999.0,   8.3015,    34.6310,2,-999.0000,3,     -999.0,9
33RO20150410,     P16N.1,      99,          1,         15,         15,2,20150507,       1845,    16.0005,  -152.0006,       5609,   550.2,   7.1622,  34.4875,2,  34.4881,2,     15.9,2,    16.8,2,   61.30,2,   38.00,2,    0.00,2,    2.98,2,   0.080,2,   0.042,2,       0,2,  2295.2,6,  2317.4,2,   7.3671,2,    24.98,-999.000,9,-999.0000,9, -999.00,9,   7.1641, -999.00,9,  -999.0,9,  -999.0,-999.000,9,-999.000,    40.9,2, -999.00,9,     52.857,3, -999.00,9,-999.000,-999.0000, -999.00,     -999.0,     -999.0,9,     -999.0,     -999.0,9,     -999.0,  -999.0,9,     -999.0,     -999.0,9,     -999.0,   7.1091,    34.6507,2,-999.0000,2,     -999.0,9
33RO20150410,     P16N.1,      99,          1,         14,         14,2,20150507,       1845,    16.0005,  -152.0006,       5609,   700.2,   6.0698,  34.4891,2,  34.4887,2,     22.5,2,    23.5,2,   74.40,2,   40.40,2,    0.01,2,    3.06,2,   0.029,2,   0.016,2,       0,2,  2310.5,2,  2332.7,2,   7.3700,2,    25.00,-999.000,9,-999.0000,9, -999.00,9,   6.0703, -999.00,9,  -999.0,9,  -999.0,-999.000,9,-999.000,    40.7,2, -999.00,9,     51.466,3, -999.00,9,-999.000,-999.0000, -999.00,     -999.0,     -999.0,9,     -999.0,     -999.0,9,     -999.0,  -999.0,9,     -999.0,     -999.0,9,     -999.0,   6.0073,    34.6513,2,-999.0000,2,     -999.0,9
33RO20150410,     P16N.1,      99,          1,         13,         13,2,20150507,       1845,    16.0005,  -152.0006,       5609,   849.9,   5.1770,  34.5056,2,  34.5068,2,     27.4,2,    26.8,2,   88.30,2,   42.10,2,    0.01,2,    3.13,2,   0.011,2,   0.005,2,       0,2,  2327.0,2,  2347.9,2,   7.3672,2,    25.00,-999.000,9,-999.0000,9, -999.00,9,   5.1771, -999.00,9,  -999.0,9,  -999.0,-999.000,9,-999.000,    38.6,2, -999.00,9,     50.170,3, -999.00,9,-999.000,-999.0000, -999.00,     -999.0,     -999.0,9,     -999.0,     -999.0,9,     -999.0,  -999.0,9,     -999.0,     -999.0,9,     -999.0,   5.1060,    34.6695,2,-999.0000,2,     -999.0,9
33RO20150410,     P16N.1,      99,          1,         12,         12,2,20150507,       1845,    16.0005,  -152.0006,       5609,   999.4,   4.5782,  34.5304,2,  34.5303,2,     33.1,2,    32.5,2,   98.60,2,   42.70,2,    0.01,2,    3.16,2,   0.004,2,   0.002,2,       0,2,  2336.6,2,  2360.8,2,   7.3737,2,    25.00,-999.000,9,-999.0000,9, -999.00,9,   4.5785, -999.00,9,  -999.0,9,  -999.0,-999.000,9,-999.000,    37.1,2, -999.00,9,     46.445,3, -999.00,9,-999.000,-999.0000, -999.00,     -999.0,     -999.0,9,     -999.0,     -999.0,9,     -999.0,  -999.0,9,     -999.0,     -999.0,9,     -999.0,   4.4981,    34.6932,2,-999.0000,2,     -999.0,9
33RO20150410,     P16N.1,      99,          1,         11,         11,2,20150507,       1845,    16.0005,  -152.0006,       5609,  1168.2,   4.0205,  34.5501,2,  34.5500,2,     42.3,2,    43.1,2,  109.20,2,   42.40,2,    0.01,2,    3.13,2,   0.003,2,   0.001,2,       0,2,  2342.5,2,  2372.9,2,   7.3907,6,    25.01,-999.000,9,-999.0000,9, -999.00,9,   4.0207, -999.00,9,  -999.0,9,  -999.0,-999.000,9,-999.000,    39.0,2, -999.00,9,     41.862,3, -999.00,9,-999.000,-999.0000, -999.00,     -999.0,     -999.0,9,     -999.0,     -999.0,9,     -999.0,  -999.0,9,     -999.0,     -999.0,9,     -999.0,   3.9304,    34.7129,2,-999.0000,2,     -999.0,9
33RO20150410,     P16N.1,      99,          1,         10,         10,2,20150507,       1845,    16.0005,  -152.0006,       5609,  1399.8,   3.3259,  34.5766,2,  34.5787,2,     58.3,2,    60.0,2,  123.20,2,   41.90,2,    0.01,2,    3.06,2,   0.000,2,   0.000,2,   0.049,3,  2349.3,2,  2389.3,2,   7.4159,2,    24.98,-999.000,9,-999.0000,9, -999.00,9,   3.3263, -999.00,9,  -999.0,9,  -999.0,-999.000,9,-999.000,    37.2,2, -999.00,9,     36.639,3, -999.00,9,-999.000,-999.0000, -999.00,     -999.0,     -999.0,9,     -999.0,     -999.0,9,     -999.0,  -999.0,9,     -999.0,     -999.0,9,     -999.0,   3.2228,    34.7418,2,-999.0000,2,     -999.0,9
33RO20150410,     P16N.1,      99,          1,          9,          9,2,20150507,       1845,    16.0005,  -152.0006,       5609,  1733.5,   2.5715,  34.6071,2,  34.6120,2,     74.9,2,    74.5,2,  140.90,2,   40.60,2,    0.01,2,    2.96,2,   0.000,2,   0.000,2,       0,2,  2357.5,2,  2408.4,2,   7.4448,2,    25.00,-999.000,9,-999.0000,9, -999.00,9,   2.5713, -999.00,9,  -999.0,9,  -999.0,-999.000,9,-999.000,    36.1,2, -999.00,9,     31.745,3, -999.00,9,-999.000,-999.0000, -999.00,     -999.0,     -999.0,9,     -999.0,     -999.0,9,     -999.0,  -999.0,9,     -999.0,     -999.0,9,     -999.0,   2.4493,    34.7752,3,-999.0000,2,     -999.0,9
33RO20150410,     P16N.1,      99,          1,          8,          8,2,20150507,       1845,    16.0005,  -152.0006,       5609,  2133.2,   2.0284,  34.6381,2,  34.6390,2,     95.8,2,    96.3,2,  146.10,2,   39.20,2,    0.01,2,    2.82,2,  -0.004,2,   0.001,2,       0,2,  2354.4,2,  2419.4,2,   7.4854,2,    25.00,-999.000,9,-999.0000,9, -999.00,9,   2.0283, -999.00,9,  -999.0,9,  -999.0,-999.000,9,-999.000,    37.3,2, -999.00,9,     27.168,3, -999.00,9,-999.000,-999.0000, -999.00,     -999.0,     -999.0,9,     -999.0,     -999.0,9,     -999.0,  -999.0,9,     -999.0,     -999.0,9,     -999.0,   1.8802,    34.8023,2,-999.0000,2,     -999.0,9
33RO20150410,     P16N.1,      99,          1,          7,          7,2,20150507,       1845,    16.0005,  -152.0006,       5609,  2566.0,   1.7870,  34.6588,2,  34.6595,2,    110.4,2,   111.3,2,  149.70,2,   38.30,2,    0.01,2,    2.75,2,   0.000,2,   0.002,2,       0,2,  2350.1,2,  2426.6,2,   7.5141,2,    25.01,-999.000,9,-999.0000,9, -999.00,9,   1.7872, -999.00,9,  -999.0,9,  -999.0,-999.000,9,-999.000,    37.1,2, -999.00,9,     24.364,3, -999.00,9,-999.000,-999.0000, -999.00,     -999.0,     -999.0,9,     -999.0,     -999.0,9,     -999.0,  -999.0,9,     -999.0,     -999.0,9,     -999.0,   1.6047,    34.8230,2,-999.0000,2,     -999.0,9
33RO20150410,     P16N.1,      99,          1,          6,          6,2,20150507,       1845,    16.0005,  -152.0006,       5609,  3067.5,   1.6316,  34.6707,2,  34.6701,2,    121.9,2,   121.7,2,  153.10,2,   37.60,2,    0.01,2,    2.69,2,  -0.005,2,   0.000,2,       0,2,  2346.4,2,  2428.6,2,   7.5332,6,    25.01,-999.000,9,-999.0000,9, -999.00,9,   1.6317, -999.00,9,  -999.0,9,  -999.0,-999.000,9,-999.000,    37.2,2, -999.00,9,     22.930,3, -999.00,9,-999.000,-999.0000, -999.00,     -999.0,     -999.0,9,     -999.0,     -999.0,9,     -999.0,  -999.0,9,     -999.0,     -999.0,9,     -999.0,   1.4054,    34.8336,2,-999.0000,2,     -999.0,9
33RO20150410,     P16N.1,      99,          1,          5,          5,2,20150507,       1845,    16.0005,  -152.0006,       5609,  3566.7,   1.5198,  34.6798,2,  34.6800,2,    134.9,2,   134.5,2,  152.70,2,   36.80,2,    0.01,2,    2.63,2,  -0.002,2,  -0.001,2,       0,2,  2339.0,2,  2428.7,2,   7.5539,6,    25.00,-999.000,9,-999.0000,9, -999.00,9,   1.5196, -999.00,9,  -999.0,9,  -999.0,-999.000,9,-999.000,    38.6,2, -999.00,9,     21.631,3, -999.00,9,-999.000,-999.0000, -999.00,     -999.0,     -999.0,9,     -999.0,     -999.0,9,     -999.0,  -999.0,9,     -999.0,     -999.0,9,     -999.0,   1.2463,    34.8435,2,-999.0000,2,     -999.0,9
33RO20150410,     P16N.1,      99,          1,          4,          4,2,20150507,       1845,    16.0005,  -152.0006,       5609,  4067.0,   1.4336,  34.6894,2,  34.6898,2,    153.2,2,   151.7,2,  144.20,6,   35.50,6,    0.01,6,    2.51,6,   0.004,2,   0.004,2,   0.034,3,  2320.6,2,  2420.8,2,   7.5792,2,    25.00,-999.000,9,-999.0000,9, -999.00,9,   1.4335, -999.00,9,  -999.0,9,  -999.0,-999.000,9,-999.000,    38.1,2, -999.00,9,     20.508,3, -999.00,9,-999.000,-999.0000, -999.00,     -999.0,     -999.0,9,     -999.0,     -999.0,9,     -999.0,  -999.0,9,     -999.0,     -999.0,9,     -999.0,   1.1092,    34.8534,6,-999.0000,2,     -999.0,9
33RO20150410,     P16N.1,      99,          1,          3,          3,2,20150507,       1845,    16.0005,  -152.0006,       5609,  4567.2,   1.4071,  34.6948,2,  34.6951,2,    164.4,2,   164.3,2,  138.30,6,   34.70,6,    0.01,6,    2.46,6,  -0.004,2,   0.001,2,       0,2,  2309.4,2,  2411.8,6,   7.5907,2,    25.02,-999.000,9,-999.0000,9, -999.00,9,   1.4073, -999.00,9,  -999.0,9,  -999.0,-999.000,9,-999.000,    38.7,2, -999.00,9,     19.955,3, -999.00,9,-999.000,-999.0000, -999.00,     -999.0,     -999.0,9,     -999.0,     -999.0,9,     -999.0,  -999.0,9,     -999.0,     -999.0,9,     -999.0,   1.0271,    34.8587,2,-999.0000,2,     -999.0,9
33RO20150410,     P16N.1,      99,          1,          2,          2,2,20150507,       1845,    16.0005,  -152.0006,       5609,  5067.0,   1.4349,  34.6971,2,  34.6995,2,    169.2,2,   168.9,2,  133.40,6,   34.30,6,    0.00,6,    2.43,6,  -0.004,2,   0.001,2,       0,2,  2305.8,2,  2407.8,2,   7.5946,2,    25.02,-999.000,9,-999.0000,9, -999.00,9,   1.4352, -999.00,9,  -999.0,9,  -999.0,-999.000,9,-999.000,    37.4,2, -999.00,9,     19.830,3, -999.00,9,-999.000,-999.0000, -999.00,     -999.0,     -999.0,9,     -999.0,     -999.0,9,     -999.0,  -999.0,9,     -999.0,     -999.0,9,     -999.0,   0.9945,    34.8631,2,-999.0000,2,     -999.0,9
33RO20150410,     P16N.1,      99,          1,          1,          1,2,20150507,       1845,    16.0005,  -152.0006,       5609,  5599.3,   1.4642,  34.6992,2,  34.6993,2,    174.5,2,   173.8,2,  131.20,6,   33.90,6,    0.01,6,    2.41,6,  -0.003,6,   0.001,6,       0,2,  2298.5,6,  2402.2,2,   7.5984,2,    25.00,-999.000,9,-999.0000,9, -999.00,9,   1.4642, -999.00,9,  -999.0,9,  -999.0,-999.000,9,-999.000,    38.1,2, -999.00,9,     19.646,3, -999.00,9,-999.000,-999.0000, -999.00,     -999.0,     -999.0,9,     -999.0,     -999.0,9,     -999.0,  -999.0,9,     -999.0,     -999.0,9,     -999.0,   0.9560,    34.8629,2,-999.0000,2,     -999.0,9