BOTTLE,20210709CCHSIOCBG
EXPOCODE,SECT_ID,STNNBR,CASTNO,SAMPNO,BTLNBR,BTLNBR_FLAG_W,DATE,TIME,LATITUDE,LONGITUDE,DEPTH,CTDPRS,CTDTMP,CTDSAL,CTDSAL_FLAG_W,SALNTY,SALNTY_FLAG_W,CTDOXY,CTDOXY_FLAG_W,OXYGEN,OXYGEN_FLAG_W,SILCAT,SILCAT_FLAG_W,NITRAT,NITRAT_FLAG_W,NITRIT,NITRIT_FLAG_W,PHSPHT,PHSPHT_FLAG_W,CFC-11,CFC-11_FLAG_W,CFC-12,CFC-12_FLAG_W,SF6,SF6_FLAG_W,TCARBN,TCARBN_FLAG_W,ALKALI,ALKALI_FLAG_W,PH_TOT,PH_TOT_FLAG_W,PH_TMP,TRITUM,TRITUM_FLAG_W,HELIUM,HELIUM_FLAG_W,DELHE3,DELHE3_FLAG_W,REFTMP,DELC13,DELC13_FLAG_W,DELC14,DELC14_FLAG_W,C14ERR,NEON,NEON_FLAG_W,NEONER,DOC,DOC_FLAG_W,TDN,TDN_FLAG_W,N2O,N2O_FLAG_W,ARGON,ARGON_FLAG_W,TRITER,HELIER,DELHER,ARGONER,KRYPTON,KRYPTON_FLAG_W,KRYPTONER,XENON,XENON_FLAG_W,XENONER,14C-DOC,14C-DOC_FLAG_W,14C-DOCERR,13C-DOC,13C-DOC_FLAG_W,13C-DOCERR,THETA,SALTREF,SALTREF_FLAG_W,SBE35,SBE35_FLAG_W,CHLORA,CHLORA_FLAG_W
,,,,,,,,,,,METERS,DBAR,ITS-90,PSS-78,,PSS-78,,UMOL/KG,,UMOL/KG,,UMOL/KG,,UMOL/KG,,UMOL/KG,,UMOL/KG,,PMOL/KG,,PMOL/KG,,FMOL/KG,,UMOL/KG,,UMOL/KG,,,,DEG C,TU,,NMOL/KG,,PERCNT,,DEG C,/MILLE,,/MILLE,,/MILLE,NMOL/KG,,NMOL/KG,UMOL/KG,,UMOL/KG,,NMOL/KG,,UMOL/KG,,TU,NMOL/KG,PERCNT,UMOL/KG,NMOL/KG,,NMOL/KG,NMOL/KG,,NMOL/KG,/MILLE,,/MILLE,/MILLE,,/MILLE,DEG C,G/KG,,ITS-90,,MG/M3,
33RO20150410,     P16N.1,      52,          1,         24,         24,2,20150425,       0457,     0.0802,  -150.9995,       4119,     5.8,  28.2001,  35.1278,2,  35.1277,2,    197.3,2,   197.7,2,    1.80,2,    2.90,2,    0.30,2,    0.42,4,-999.000,9,-999.000,9,-999.000,9,  2011.0,2,  2314.3,2,   8.0355,6,    25.00,-999.000,9,-999.0000,9, -999.00,9,-999.0000, -999.00,9,  -999.0,9,  -999.0,-999.000,9,-999.000,    60.4,2,    7.20,2,     -999.0,9, -999.00,9,-999.000,-999.0000, -999.00,     -999.0,     -999.0,9,     -999.0,     -999.0,9,     -999.0,  -999.0,9,     -999.0,     -999.0,9,     -999.0,  28.1987,    35.2933,2,-999.0000,2,     -999.0,9
33RO20150410,     P16N.1,      52,          1,         23,         23,2,20150425,       0457,     0.0802,  -150.9995,       4119,    19.3,  28.1165,  35.1210,2,  35.1212,2,    197.0,2,   197.9,2,    1.80,2,    3.00,2,    0.33,2,    0.42,4,-999.000,9,-999.000,9,-999.000,9,  2010.5,2,  2311.5,6,   8.0333,2,    24.99,-999.000,9,-999.0000,9, -999.00,9,-999.0000, -999.00,9,  -999.0,9,  -999.0,-999.000,9,-999.000,    60.8,2,    7.70,2,     -999.0,9, -999.00,9,-999.000,-999.0000, -999.00,     -999.0,     -999.0,9,     -999.0,     -999.0,9,     -999.0,  -999.0,9,     -999.0,     -999.0,9,     -999.0,  28.1119,    35.2868,2,-999.0000,2,     -999.0,9
33RO20150410,     P16N.1,      52,          1,         22,         22,9,20150425,       0457,     0.0802,  -150.9995,       4119,    41.9,  27.9620,  35.1325,2,-999.0000,9,    192.3,2,  -999.0,9, -999.00,9, -999.00,9, -999.00,9, -999.00,9,-999.000,9,-999.000,9,-999.000,9,  -999.0,9,  -999.0,9,-999.0000,9,  -999.00,-999.000,9,-999.0000,9, -999.00,9,-999.0000, -999.00,9,  -999.0,9,  -999.0,-999.000,9,-999.000,  -999.0,9, -999.00,9,     -999.0,9, -999.00,9,-999.000,-999.0000, -999.00,     -999.0,     -999.0,9,     -999.0,     -999.0,9,     -999.0,  -999.0,9,     -999.0,     -999.0,9,     -999.0,-999.0000,     -999.0,9,-999.0000,2,     -999.0,9
33RO20150410,     P16N.1,      52,          1,         21,         21,2,20150425,       0457,     0.0802,  -150.9995,       4119,    64.9,  27.7809,  35.2420,2,  35.2447,2,    181.4,2,   181.6,2,    2.00,2,    4.40,2,    0.65,2,    0.54,4,-999.000,9,-999.000,9,-999.000,9,  2030.4,2,  2317.8,2,   8.0113,2,    24.98,-999.000,9,-999.0000,9, -999.00,9,-999.0000, -999.00,9,  -999.0,9,  -999.0,-999.000,9,-999.000,    60.2,2,    9.50,2,     -999.0,9, -999.00,9,-999.000,-999.0000, -999.00,     -999.0,     -999.0,9,     -999.0,     -999.0,9,     -999.0,  -999.0,9,     -999.0,     -999.0,9,     -999.0,  27.7657,    35.4109,2,-999.0000,2,     -999.0,9
33RO20150410,     P16N.1,      52,          1,         20,         20,2,20150425,       0457,     0.0802,  -150.9995,       4119,    91.3,  27.4887,  35.3718,2,  35.3748,2,    170.2,2,   173.0,2,    2.10,2,    5.90,2,    1.16,2,    0.64,4,-999.000,9,-999.000,9,-999.000,9,  2045.2,2,  2326.9,2,   7.9937,2,    24.98,-999.000,9,-999.0000,9, -999.00,9,-999.0000, -999.00,9,  -999.0,9,  -999.0,-999.000,9,-999.000,    56.5,2,   11.60,2,     -999.0,9, -999.00,9,-999.000,-999.0000, -999.00,     -999.0,     -999.0,9,     -999.0,     -999.0,9,     -999.0,  -999.0,9,     -999.0,     -999.0,9,     -999.0,  27.4675,    35.5417,6,-999.0000,2,     -999.0,9
33RO20150410,     P16N.1,      52,          1,         19,         19,2,20150425,       0457,     0.0802,  -150.9995,       4119,   113.1,  26.6946,  35.3480,2,  35.3539,2,    156.2,2,   157.3,2,    2.40,2,    8.00,2,    0.06,2,    0.69,4,-999.000,9,-999.000,9,-999.000,9,  2055.6,2,  2323.5,2,   7.9725,6,    25.00,-999.000,9,-999.0000,9, -999.00,9,-999.0000, -999.00,9,  -999.0,9,  -999.0,-999.000,9,-999.000,    54.2,2,   12.00,2,     -999.0,9, -999.00,9,-999.000,-999.0000, -999.00,     -999.0,     -999.0,9,     -999.0,     -999.0,9,     -999.0,  -999.0,9,     -999.0,     -999.0,9,     -999.0,  26.6688,    35.5206,2,-999.0000,2,     -999.0,9
33RO20150410,     P16N.1,      52,          1,         18,         18,2,20150425,       0457,     0.0802,  -150.9995,       4119,   157.0,  19.6075,  35.3305,2,  35.3324,2,    131.4,2,   132.4,2,    5.70,2,   11.40,2,    0.02,2,    0.90,4,-999.000,9,-999.000,9,-999.000,9,  2115.1,2,  2325.2,2,   7.8608,2,    24.98,-999.000,9,-999.0000,9, -999.00,9,-999.0000, -999.00,9,  -999.0,9,  -999.0,-999.000,9,-999.000,    45.8,2,   14.50,2,     -999.0,9, -999.00,9,-999.000,-999.0000, -999.00,     -999.0,     -999.0,9,     -999.0,     -999.0,9,     -999.0,  -999.0,9,     -999.0,     -999.0,9,     -999.0,  19.5788,    35.4990,2,-999.0000,2,     -999.0,9
33RO20150410,     P16N.1,      52,          1,         17,         17,2,20150425,       0457,     0.0802,  -150.9995,       4119,   225.2,  13.1029,  34.9357,2,  34.9470,2,    122.6,2,   122.2,2,   15.40,2,   20.30,2,    0.01,2,    1.43,4,-999.000,9,-999.000,9,-999.000,9,  2165.3,2,  2305.8,2,   7.7124,2,    24.97,-999.000,9,-999.0000,9, -999.00,9,-999.0000, -999.00,9,  -999.0,9,  -999.0,-999.000,9,-999.000,    43.8,2,   23.90,2,     -999.0,9, -999.00,9,-999.000,-999.0000, -999.00,     -999.0,     -999.0,9,     -999.0,     -999.0,9,     -999.0,  -999.0,9,     -999.0,     -999.0,9,     -999.0,  13.0717,    35.1118,2,-999.0000,2,     -999.0,9
33RO20150410,     P16N.1,      52,          1,         16,         16,2,20150425,       0457,     0.0802,  -150.9995,       4119,   300.7,  11.8412,  34.8373,2,  34.8355,2,     66.8,2,    62.0,2,   23.30,2,   28.30,2,    0.01,2,    1.94,4,-999.000,9,-999.000,9,-999.000,9,  2218.2,2,  2305.2,2,   7.5627,2,    24.98,-999.000,9,-999.0000,9, -999.00,9,-999.0000, -999.00,9,  -999.0,9,  -999.0,-999.000,9,-999.000,    42.6,2, -999.00,9,     -999.0,9, -999.00,9,-999.000,-999.0000, -999.00,     -999.0,     -999.0,9,     -999.0,     -999.0,9,     -999.0,  -999.0,9,     -999.0,     -999.0,9,     -999.0,  11.8022,    34.9997,2,-999.0000,2,     -999.0,9
33RO20150410,     P16N.1,      52,          1,         15,         15,2,20150425,       0457,     0.0802,  -150.9995,       4119,   374.4,  10.3033,  34.7434,2,  34.7497,2,     53.9,2,    48.0,2,   28.50,2,   32.50,2,    0.01,2,    2.18,4,-999.000,9,-999.000,9,-999.000,9,  2240.1,2,  2304.7,2,   7.4967,6,    25.00,-999.000,9,-999.0000,9, -999.00,9,-999.0000, -999.00,9,  -999.0,9,  -999.0,-999.000,9,-999.000,    42.6,2, -999.00,9,     -999.0,9, -999.00,9,-999.000,-999.0000, -999.00,     -999.0,     -999.0,9,     -999.0,     -999.0,9,     -999.0,  -999.0,9,     -999.0,     -999.0,9,     -999.0,  10.2588,    34.9136,2,-999.0000,2,     -999.0,9
33RO20150410,     P16N.1,      52,          1,         14,         14,2,20150425,       0457,     0.0802,  -150.9995,       4119,   466.2,   8.2437,  34.6280,2,  34.6330,2,     40.9,2,    41.8,2,   39.50,2,   37.60,2,    0.01,2,    2.52,4,-999.000,9,-999.000,9,-999.000,9,  2263.1,2,  2310.7,2,   7.4398,2,    24.98,-999.000,9,-999.0000,9, -999.00,9,-999.0000, -999.00,9,  -999.0,9,  -999.0,-999.000,9,-999.000,    40.2,2, -999.00,9,     -999.0,9, -999.00,9,-999.000,-999.0000, -999.00,     -999.0,     -999.0,9,     -999.0,     -999.0,9,     -999.0,  -999.0,9,     -999.0,     -999.0,9,     -999.0,   8.1951,    34.7963,2,-999.0000,2,     -999.0,9
33RO20150410,     P16N.1,      52,          1,         13,         13,2,20150425,       0457,     0.0802,  -150.9995,       4119,   598.4,   7.1355,  34.5798,2,  34.5807,2,     55.5,2,    55.3,2,   46.90,2,   38.30,2,    0.01,2,    2.61,4,-999.000,9,-999.000,9,-999.000,9,  2266.9,6,  2316.5,2,   7.4480,2,    24.97,-999.000,9,-999.0000,9, -999.00,9,-999.0000, -999.00,9,  -999.0,9,  -999.0,-999.000,9,-999.000,    39.8,2, -999.00,9,     -999.0,9, -999.00,9,-999.000,-999.0000, -999.00,     -999.0,     -999.0,9,     -999.0,     -999.0,9,     -999.0,  -999.0,9,     -999.0,     -999.0,9,     -999.0,   7.0776,    34.7438,2,-999.0000,2,     -999.0,9
33RO20150410,     P16N.1,      52,          1,         12,         12,2,20150425,       0457,     0.0802,  -150.9995,       4119,   747.9,   5.3756,  34.5464,2,  34.5468,2,     74.6,2,    74.8,2,   67.70,2,   39.40,2,    0.01,2,    2.74,4,-999.000,9,-999.000,9,-999.000,9,  -999.0,9,  -999.0,9,-999.0000,9,  -999.00,-999.000,9,-999.0000,9, -999.00,9,-999.0000, -999.00,9,  -999.0,9,  -999.0,-999.000,9,-999.000,    39.3,2, -999.00,9,     -999.0,9, -999.00,9,-999.000,-999.0000, -999.00,     -999.0,     -999.0,9,     -999.0,     -999.0,9,     -999.0,  -999.0,9,     -999.0,     -999.0,9,     -999.0,   5.3124,    34.7097,2,-999.0000,2,     -999.0,9
33RO20150410,     P16N.1,      52,          1,         11,         11,2,20150425,       0457,     0.0802,  -150.9995,       4119,   899.0,   5.1071,  34.5467,2,  34.5472,2,     79.4,2,    78.8,2,   72.20,2,   39.30,2,    0.00,2,    2.74,4,-999.000,9,-999.000,9,-999.000,9,  2287.5,2,  2344.5,2,   7.4673,6,    25.00,-999.000,9,-999.0000,9, -999.00,9,-999.0000, -999.00,9,  -999.0,9,  -999.0,-999.000,9,-999.000,    38.1,2, -999.00,9,     -999.0,9, -999.00,9,-999.000,-999.0000, -999.00,     -999.0,     -999.0,9,     -999.0,     -999.0,9,     -999.0,  -999.0,9,     -999.0,     -999.0,9,     -999.0,   5.0321,    34.7101,2,-999.0000,2,     -999.0,9
33RO20150410,     P16N.1,      52,          1,         10,         10,2,20150425,       0457,     0.0802,  -150.9995,       4119,  1049.5,   4.4222,  34.5586,2,  34.5642,2,     79.8,2,    79.8,2,   86.60,2,   40.00,2,    0.00,2,    2.82,4,-999.000,9,-999.000,9,-999.000,9,  -999.0,9,  -999.0,9,-999.0000,9,  -999.00,-999.000,9,-999.0000,9, -999.00,9,-999.0000, -999.00,9,  -999.0,9,  -999.0,-999.000,9,-999.000,    37.0,2, -999.00,9,     -999.0,9, -999.00,9,-999.000,-999.0000, -999.00,     -999.0,     -999.0,9,     -999.0,     -999.0,9,     -999.0,  -999.0,9,     -999.0,     -999.0,9,     -999.0,   4.3389,    34.7272,3,-999.0000,2,     -999.0,9
33RO20150410,     P16N.1,      52,          1,          9,     -999.0,9,20150425,       0457,     0.0802,  -150.9995,       4119,  1232.7,   3.7927,  34.5760,2,-999.0000,9,     83.5,2,  -999.0,9, -999.00,9, -999.00,9, -999.00,9, -999.00,9,-999.000,9,-999.000,9,-999.000,9,  -999.0,9,  -999.0,9,-999.0000,9,  -999.00,-999.000,9,-999.0000,9, -999.00,9,-999.0000, -999.00,9,  -999.0,9,  -999.0,-999.000,9,-999.000,  -999.0,9, -999.00,9,     -999.0,9, -999.00,9,-999.000,-999.0000, -999.00,     -999.0,     -999.0,9,     -999.0,     -999.0,9,     -999.0,  -999.0,9,     -999.0,     -999.0,9,     -999.0,-999.0000,     -999.0,9,-999.0000,3,     -999.0,9
33RO20150410,     P16N.1,      52,          1,          8,          8,2,20150425,       0457,     0.0802,  -150.9995,       4119,  1499.8,   2.9545,  34.6075,2,  34.6080,2,     92.5,2,    92.2,2,  120.10,2,   39.70,2,    0.00,2,    2.85,4,-999.000,9,-999.000,9,-999.000,9,  2334.6,2,  2396.9,2,   7.4814,2,    24.98,-999.000,9,-999.0000,9, -999.00,9,-999.0000, -999.00,9,  -999.0,9,  -999.0,-999.000,9,-999.000,    35.9,2, -999.00,9,     -999.0,9, -999.00,9,-999.000,-999.0000, -999.00,     -999.0,     -999.0,9,     -999.0,     -999.0,9,     -999.0,  -999.0,9,     -999.0,     -999.0,9,     -999.0,   2.8471,    34.7711,2,-999.0000,3,     -999.0,9
33RO20150410,     P16N.1,      52,          1,          7,          7,2,20150425,       0457,     0.0802,  -150.9995,       4119,  1867.1,   2.4898,  34.6305,2,  34.6316,2,    101.0,2,   101.1,2,  132.00,2,   39.20,2,    0.00,2,    2.81,4,-999.000,9,-999.000,9,-999.000,9,  -999.0,9,  -999.0,9,-999.0000,9,  -999.00,-999.000,9,-999.0000,9, -999.00,9,-999.0000, -999.00,9,  -999.0,9,  -999.0,-999.000,9,-999.000,    36.6,2, -999.00,9,     -999.0,9, -999.00,9,-999.000,-999.0000, -999.00,     -999.0,     -999.0,9,     -999.0,     -999.0,9,     -999.0,  -999.0,9,     -999.0,     -999.0,9,     -999.0,   2.3574,    34.7949,2,-999.0000,3,     -999.0,9
33RO20150410,     P16N.1,      52,          1,          6,          6,2,20150425,       0457,     0.0802,  -150.9995,       4119,  2267.2,   2.0026,  34.6560,2,  34.6570,2,    114.9,2,   114.8,2,  142.50,2,   38.40,2,    0.00,2,    2.74,4,-999.000,9,-999.000,9,-999.000,9,  2345.9,2,  2423.9,6,   7.5226,6,    25.00,-999.000,9,-999.0000,9, -999.00,9,-999.0000, -999.00,9,  -999.0,9,  -999.0,-999.000,9,-999.000,    36.2,2, -999.00,9,     -999.0,9, -999.00,9,-999.000,-999.0000, -999.00,     -999.0,     -999.0,9,     -999.0,     -999.0,9,     -999.0,  -999.0,9,     -999.0,     -999.0,9,     -999.0,   1.8431,    34.8204,2,-999.0000,3,     -999.0,9
33RO20150410,     P16N.1,      52,          1,          5,          5,2,20150425,       0457,     0.0802,  -150.9995,       4119,  2667.6,   1.7996,  34.6679,2,  34.6717,2,    125.5,2,   125.1,2,  145.30,2,   37.90,2,    0.00,2,    2.71,4,-999.000,9,-999.000,9,-999.000,9,  2342.2,2,  2427.4,2,   7.5399,6,    25.01,-999.000,9,-999.0000,9, -999.00,9,-999.0000, -999.00,9,  -999.0,9,  -999.0,-999.000,9,-999.000,    35.3,2, -999.00,9,     -999.0,9, -999.00,9,-999.000,-999.0000, -999.00,     -999.0,     -999.0,9,     -999.0,     -999.0,9,     -999.0,  -999.0,9,     -999.0,     -999.0,9,     -999.0,   1.6077,    34.8352,3,-999.0000,2,     -999.0,9
33RO20150410,     P16N.1,      52,          1,          4,          4,2,20150425,       0457,     0.0802,  -150.9995,       4119,  3067.6,   1.6666,  34.6756,2,  34.6753,2,    135.2,2,   135.5,2,  144.90,6,   37.10,6,    0.00,6,    2.64,4,-999.000,9,-999.000,9,-999.000,9,  -999.0,9,  -999.0,9,-999.0000,9,  -999.00,-999.000,9,-999.0000,9, -999.00,9,-999.0000, -999.00,9,  -999.0,9,  -999.0,-999.000,9,-999.000,    36.0,2, -999.00,9,     -999.0,9, -999.00,9,-999.000,-999.0000, -999.00,     -999.0,     -999.0,9,     -999.0,     -999.0,9,     -999.0,  -999.0,9,     -999.0,     -999.0,9,     -999.0,   1.4396,    34.8388,2,-999.0000,2,     -999.0,9
33RO20150410,     P16N.1,      52,          1,          3,          3,2,20150425,       0457,     0.0802,  -150.9995,       4119,  3466.3,   1.5617,  34.6825,2,  34.6831,2,    144.9,2,   145.3,2,  143.60,6,   36.30,6,    0.00,6,    2.59,4,-999.000,9,-999.000,9,-999.000,9,  -999.0,9,  -999.0,9,-999.0000,9,  -999.00,-999.000,9,-999.0000,9, -999.00,9,-999.0000, -999.00,9,  -999.0,9,  -999.0,-999.000,9,-999.000,    36.2,2, -999.00,9,     -999.0,9, -999.00,9,-999.000,-999.0000, -999.00,     -999.0,     -999.0,9,     -999.0,     -999.0,9,     -999.0,  -999.0,9,     -999.0,     -999.0,9,     -999.0,   1.2974,    34.8467,2,-999.0000,2,     -999.0,9
33RO20150410,     P16N.1,      52,          1,          2,          2,2,20150425,       0457,     0.0802,  -150.9995,       4119,  3866.5,   1.4383,  34.6917,2,  34.6925,2,    156.4,2,   156.8,2,  142.90,6,   35.70,6,    0.00,6,    2.52,4,-999.000,9,-999.000,9,-999.000,9,  -999.0,9,  -999.0,9,-999.0000,9,  -999.00,-999.000,9,-999.0000,9, -999.00,9,-999.0000, -999.00,9,  -999.0,9,  -999.0,-999.000,9,-999.000,    36.4,2, -999.00,9,     -999.0,9, -999.00,9,-999.000,-999.0000, -999.00,     -999.0,     -999.0,9,     -999.0,     -999.0,9,     -999.0,  -999.0,9,     -999.0,     -999.0,9,     -999.0,   1.1354,    34.8561,6,-999.0000,2,     -999.0,9
33RO20150410,     P16N.1,      52,          1,          1,          1,2,20150425,       0457,     0.0802,  -150.9995,       4119,  4063.1,   1.4298,  34.6934,2,  34.6951,2,    159.1,2,   160.2,2,  142.60,6,   35.50,6,    0.00,6,    2.51,4,-999.000,9,-999.000,9,-999.000,9,  2323.7,6,  2428.4,2,   7.5959,2,    24.99,-999.000,9,-999.0000,9, -999.00,9,-999.0000, -999.00,9,  -999.0,9,  -999.0,-999.000,9,-999.000,    36.0,2, -999.00,9,     -999.0,9, -999.00,9,-999.000,-999.0000, -999.00,     -999.0,     -999.0,9,     -999.0,     -999.0,9,     -999.0,  -999.0,9,     -999.0,     -999.0,9,     -999.0,   1.1059,    34.8587,2,-999.0000,2,     -999.0,9