BOTTLE,20210709CCHSIOCBG
EXPOCODE,SECT_ID,STNNBR,CASTNO,SAMPNO,BTLNBR,BTLNBR_FLAG_W,DATE,TIME,LATITUDE,LONGITUDE,DEPTH,CTDPRS,CTDTMP,CTDSAL,CTDSAL_FLAG_W,SALNTY,SALNTY_FLAG_W,CTDOXY,CTDOXY_FLAG_W,OXYGEN,OXYGEN_FLAG_W,SILCAT,SILCAT_FLAG_W,NITRAT,NITRAT_FLAG_W,NITRIT,NITRIT_FLAG_W,PHSPHT,PHSPHT_FLAG_W,CFC-11,CFC-11_FLAG_W,CFC-12,CFC-12_FLAG_W,SF6,SF6_FLAG_W,TCARBN,TCARBN_FLAG_W,ALKALI,ALKALI_FLAG_W,PH_TOT,PH_TOT_FLAG_W,PH_TMP,TRITUM,TRITUM_FLAG_W,HELIUM,HELIUM_FLAG_W,DELHE3,DELHE3_FLAG_W,REFTMP,DELC13,DELC13_FLAG_W,DELC14,DELC14_FLAG_W,C14ERR,NEON,NEON_FLAG_W,NEONER,DOC,DOC_FLAG_W,TDN,TDN_FLAG_W,N2O,N2O_FLAG_W,ARGON,ARGON_FLAG_W,TRITER,HELIER,DELHER,ARGONER,KRYPTON,KRYPTON_FLAG_W,KRYPTONER,XENON,XENON_FLAG_W,XENONER,14C-DOC,14C-DOC_FLAG_W,14C-DOCERR,13C-DOC,13C-DOC_FLAG_W,13C-DOCERR,THETA,SALTREF,SALTREF_FLAG_W,SBE35,SBE35_FLAG_W,CHLORA,CHLORA_FLAG_W
,,,,,,,,,,,METERS,DBAR,ITS-90,PSS-78,,PSS-78,,UMOL/KG,,UMOL/KG,,UMOL/KG,,UMOL/KG,,UMOL/KG,,UMOL/KG,,PMOL/KG,,PMOL/KG,,FMOL/KG,,UMOL/KG,,UMOL/KG,,,,DEG C,TU,,NMOL/KG,,PERCNT,,DEG C,/MILLE,,/MILLE,,/MILLE,NMOL/KG,,NMOL/KG,UMOL/KG,,UMOL/KG,,NMOL/KG,,UMOL/KG,,TU,NMOL/KG,PERCNT,UMOL/KG,NMOL/KG,,NMOL/KG,NMOL/KG,,NMOL/KG,/MILLE,,/MILLE,/MILLE,,/MILLE,DEG C,G/KG,,ITS-90,,MG/M3,
33RO20150410,     P16N.1,      48,          1,         24,         24,2,20150424,       0214,    -0.4104,  -151.0008,       4475,    15.6,  28.4920,  35.2351,2,  35.2359,2,    197.8,2,   197.9,2,    1.80,2,    3.40,2,    0.33,2,    0.40,4,-999.000,9,-999.000,5,-999.000,5,  2018.3,2,  2319.1,6,   8.0346,2,    25.00,-999.000,9,-999.0000,9, -999.00,9,-999.0000, -999.00,9,  -999.0,9,  -999.0,-999.000,9,-999.000,    60.5,2,    7.80,2,     -999.0,5, -999.00,9,-999.000,-999.0000, -999.00,     -999.0,     -999.0,9,     -999.0,     -999.0,9,     -999.0,  -999.0,9,     -999.0,     -999.0,9,     -999.0,  28.4883,    35.4020,6,-999.0000,2,     -999.0,9
33RO20150410,     P16N.1,      48,          1,         23,         23,2,20150424,       0214,    -0.4104,  -151.0008,       4475,    33.1,  28.3425,  35.2476,2,  35.2479,2,    196.3,2,   196.2,2,    1.80,2,    3.50,2,    0.37,2,    0.42,4,-999.000,9,-999.000,5,-999.000,5,  2021.1,6,  2319.1,2,   8.0311,2,    25.01,-999.000,9,-999.0000,9, -999.00,9,-999.0000, -999.00,9,  -999.0,9,  -999.0,-999.000,9,-999.000,    58.4,2,    8.10,2,     -999.0,5, -999.00,9,-999.000,-999.0000, -999.00,     -999.0,     -999.0,9,     -999.0,     -999.0,9,     -999.0,  -999.0,9,     -999.0,     -999.0,9,     -999.0,  28.3346,    35.4141,2,-999.0000,2,     -999.0,9
33RO20150410,     P16N.1,      48,          1,         22,         22,2,20150424,       0214,    -0.4104,  -151.0008,       4475,    59.0,  28.1604,  35.2849,2,  35.2862,2,    189.5,2,   189.5,2,    1.80,2,    4.10,2,    0.49,2,    0.56,4,-999.000,9,-999.000,5,-999.000,5,  2026.7,2,  2321.4,2,   8.0219,6,    25.00,-999.000,9,-999.0000,9, -999.00,9,-999.0000, -999.00,9,  -999.0,9,  -999.0,-999.000,9,-999.000,    58.6,2, -999.00,9,     -999.0,5, -999.00,9,-999.000,-999.0000, -999.00,     -999.0,     -999.0,9,     -999.0,     -999.0,9,     -999.0,  -999.0,9,     -999.0,     -999.0,9,     -999.0,  28.1464,    35.4526,2,-999.0000,2,     -999.0,9
33RO20150410,     P16N.1,      48,          1,         21,         21,2,20150424,       0214,    -0.4104,  -151.0008,       4475,    83.4,  27.6258,  35.3035,2,  35.3043,2,    182.7,2,   186.2,2,    2.00,2,    4.20,2,    0.69,2,    0.54,4,-999.000,9,-999.000,5,-999.000,5,  2036.6,2,  2324.5,2,   8.0094,2,    24.97,-999.000,9,-999.0000,9, -999.00,9,-999.0000, -999.00,9,  -999.0,9,  -999.0,-999.000,9,-999.000,    57.4,2,    9.90,2,     -999.0,5, -999.00,9,-999.000,-999.0000, -999.00,     -999.0,     -999.0,9,     -999.0,     -999.0,9,     -999.0,  -999.0,9,     -999.0,     -999.0,9,     -999.0,  27.6063,    35.4708,2,-999.0000,2,     -999.0,9
33RO20150410,     P16N.1,      48,          1,         20,         20,2,20150424,       0214,    -0.4104,  -151.0008,       4475,   108.4,  27.3578,  35.3674,2,  35.3678,2,    180.4,2,   180.6,2,    2.20,2,    4.60,2,    2.00,2,    0.63,4,-999.000,9,-999.000,5,-999.000,5,  2045.3,2,  2326.9,2,   7.9996,2,    24.99,-999.000,9,-999.0000,9, -999.00,9,-999.0000, -999.00,9,  -999.0,9,  -999.0,-999.000,9,-999.000,    56.7,2,   10.30,2,     -999.0,5, -999.00,9,-999.000,-999.0000, -999.00,     -999.0,     -999.0,9,     -999.0,     -999.0,9,     -999.0,  -999.0,9,     -999.0,     -999.0,9,     -999.0,  27.3327,    35.5346,2,-999.0000,2,     -999.0,9
33RO20150410,     P16N.1,      48,          1,         19,         19,3,20150424,       0214,    -0.4104,  -151.0008,       4475,   141.3,  24.7081,  35.3980,2,-999.0000,9,    129.9,2,  -999.0,9,    3.20,2,    8.30,2,    0.20,2,    0.70,4,-999.000,9,-999.000,9,-999.000,9,  -999.0,9,  -999.0,9,-999.0000,9,  -999.00,-999.000,9,-999.0000,9, -999.00,9,-999.0000, -999.00,9,  -999.0,9,  -999.0,-999.000,9,-999.000,  -999.0,9, -999.00,9,     -999.0,9, -999.00,9,-999.000,-999.0000, -999.00,     -999.0,     -999.0,9,     -999.0,     -999.0,9,     -999.0,  -999.0,9,     -999.0,     -999.0,9,     -999.0,-999.0000,     -999.0,9,-999.0000,2,     -999.0,9
33RO20150410,     P16N.1,      48,          1,         18,         18,2,20150424,       0214,    -0.4104,  -151.0008,       4475,   200.1,  13.0697,  34.9509,2,  34.9513,2,    114.9,2,   114.5,2,   15.50,2,   21.00,2,    0.01,2,    1.46,4,-999.000,5,-999.000,5,-999.000,5,  2174.0,2,  2310.4,2,   7.6981,2,    24.98,-999.000,9,-999.0000,9, -999.00,9,-999.0000, -999.00,9,  -999.0,9,  -999.0,-999.000,9,-999.000,    44.3,2,   23.10,2,     -999.0,5, -999.00,9,-999.000,-999.0000, -999.00,     -999.0,     -999.0,9,     -999.0,     -999.0,9,     -999.0,  -999.0,9,     -999.0,     -999.0,9,     -999.0,  13.0421,    35.1161,2,-999.0000,2,     -999.0,9
33RO20150410,     P16N.1,      48,          1,         17,         17,2,20150424,       0214,    -0.4104,  -151.0008,       4475,   275.3,  12.0447,  34.8514,2,  34.8510,2,     85.7,2,    81.3,2,   21.20,2,   26.00,2,    0.01,2,    1.75,4,-999.000,5,-999.000,5,-999.000,5,  2203.4,2,  2306.6,2,   7.6088,2,    24.99,-999.000,9,-999.0000,9, -999.00,9,-999.0000, -999.00,9,  -999.0,9,  -999.0,-999.000,9,-999.000,    42.5,2,   28.60,2,     -999.0,5, -999.00,9,-999.000,-999.0000, -999.00,     -999.0,     -999.0,9,     -999.0,     -999.0,9,     -999.0,  -999.0,9,     -999.0,     -999.0,9,     -999.0,  12.0086,    35.0153,2,-999.0000,2,     -999.0,9
33RO20150410,     P16N.1,      48,          1,         16,         16,2,20150424,       0214,    -0.4104,  -151.0008,       4475,   349.9,  10.4524,  34.7529,2,  34.7522,2,     48.5,2,    41.8,2,   28.90,2,   32.90,2,    0.00,2,    2.17,4,-999.000,5,-999.000,5,-999.000,5,  2245.1,2,  2305.2,2,   7.4854,6,    24.99,-999.000,9,-999.0000,9, -999.00,9,-999.0000, -999.00,9,  -999.0,9,  -999.0,-999.000,9,-999.000,    42.3,2, -999.00,9,     -999.0,5, -999.00,9,-999.000,-999.0000, -999.00,     -999.0,     -999.0,9,     -999.0,     -999.0,9,     -999.0,  -999.0,9,     -999.0,     -999.0,9,     -999.0,  10.4105,    34.9161,2,-999.0000,2,     -999.0,9
33RO20150410,     P16N.1,      48,          1,         15,         15,2,20150424,       0214,    -0.4104,  -151.0008,       4475,   433.2,   8.5641,  34.6463,2,  34.6450,2,     42.8,2,    39.8,2,   37.50,2,   37.10,2,    0.00,2,    2.43,4,-999.000,5,-999.000,5,-999.000,5,  2263.0,2,  2309.0,2,   7.4410,2,    24.97,-999.000,9,-999.0000,9, -999.00,9,-999.0000, -999.00,9,  -999.0,9,  -999.0,-999.000,9,-999.000,    42.9,2, -999.00,9,     -999.0,5, -999.00,9,-999.000,-999.0000, -999.00,     -999.0,     -999.0,9,     -999.0,     -999.0,9,     -999.0,  -999.0,9,     -999.0,     -999.0,9,     -999.0,   8.5180,    34.8083,2,-999.0000,2,     -999.0,9
33RO20150410,     P16N.1,      48,          1,         14,         14,2,20150424,       0214,    -0.4104,  -151.0008,       4475,   550.6,   7.0033,  34.5761,2,  34.5831,2,     57.2,2,    57.8,2,   47.80,2,   38.30,2,    0.00,2,    2.59,4,-999.000,5,-999.000,5,-999.000,5,  2269.0,2,  2318.4,2,   7.4494,6,    25.00,-999.000,9,-999.0000,9, -999.00,9,-999.0000, -999.00,9,  -999.0,9,  -999.0,-999.000,9,-999.000,    41.5,2, -999.00,9,     -999.0,5, -999.00,9,-999.000,-999.0000, -999.00,     -999.0,     -999.0,9,     -999.0,     -999.0,9,     -999.0,  -999.0,9,     -999.0,     -999.0,9,     -999.0,   6.9507,    34.7462,2,-999.0000,2,     -999.0,9
33RO20150410,     P16N.1,      48,          1,         13,         13,2,20150424,       0214,    -0.4104,  -151.0008,       4475,   699.4,   6.1782,  34.5544,2,  34.5568,2,     66.8,2,    66.6,2,   56.50,2,   38.70,2,    0.00,2,    2.64,4,-999.000,5,-999.000,5,-999.000,5,  2276.6,2,  2326.6,2,   7.4540,6,    25.00,-999.000,9,-999.0000,9, -999.00,9,-999.0000, -999.00,9,  -999.0,9,  -999.0,-999.000,9,-999.000,    38.4,2, -999.00,9,     -999.0,5, -999.00,9,-999.000,-999.0000, -999.00,     -999.0,     -999.0,9,     -999.0,     -999.0,9,     -999.0,  -999.0,9,     -999.0,     -999.0,9,     -999.0,   6.1151,    34.7197,2,-999.0000,2,     -999.0,9
33RO20150410,     P16N.1,      48,          1,         12,         12,2,20150424,       0214,    -0.4104,  -151.0008,       4475,   849.8,   5.1285,  34.5462,2,  34.5464,2,     80.5,2,    80.0,2,   71.50,2,   38.90,2,    0.00,2,    2.68,4,-999.000,5,-999.000,5,-999.000,5,  2287.8,2,  2343.8,2,   7.4695,2,    24.98,-999.000,9,-999.0000,9, -999.00,9,-999.0000, -999.00,9,  -999.0,9,  -999.0,-999.000,9,-999.000,    38.3,2, -999.00,9,     -999.0,5, -999.00,9,-999.000,-999.0000, -999.00,     -999.0,     -999.0,9,     -999.0,     -999.0,9,     -999.0,  -999.0,9,     -999.0,     -999.0,9,     -999.0,   5.0577,    34.7093,2,-999.0000,2,     -999.0,9
33RO20150410,     P16N.1,      48,          1,         11,         11,2,20150424,       0214,    -0.4104,  -151.0008,       4475,  1000.0,   4.5305,  34.5549,2,  34.5605,2,     82.7,2,    83.3,2,   83.20,2,   39.30,2,    0.00,2,    2.73,4,-999.000,5,-999.000,5,-999.000,5,  2298.5,6,  2355.9,2,   7.4706,2,    24.99,-999.000,9,-999.0000,9, -999.00,9,-999.0000, -999.00,9,  -999.0,9,  -999.0,-999.000,9,-999.000,    39.1,2, -999.00,9,     -999.0,5, -999.00,9,-999.000,-999.0000, -999.00,     -999.0,     -999.0,9,     -999.0,     -999.0,9,     -999.0,  -999.0,9,     -999.0,     -999.0,9,     -999.0,   4.4507,    34.7235,3,-999.0000,2,     -999.0,9
33RO20150410,     P16N.1,      48,          1,         10,         10,2,20150424,       0214,    -0.4104,  -151.0008,       4475,  1166.8,   3.9423,  34.5713,2,  34.5805,2,     82.5,2,    82.8,2,   96.80,2,   39.80,2,    0.00,2,    2.81,4,-999.000,5,-999.000,5,-999.000,5,  2314.0,2,  2372.1,2,   7.4664,2,    24.98,-999.000,9,-999.0000,9, -999.00,9,-999.0000, -999.00,9,  -999.0,9,  -999.0,-999.000,9,-999.000,    38.8,2, -999.00,9,     -999.0,5, -999.00,9,-999.000,-999.0000, -999.00,     -999.0,     -999.0,9,     -999.0,     -999.0,9,     -999.0,  -999.0,9,     -999.0,     -999.0,9,     -999.0,   3.8529,    34.7436,3,-999.0000,2,     -999.0,9
33RO20150410,     P16N.1,      48,          1,          9,          9,2,20150424,       0214,    -0.4104,  -151.0008,       4475,  1399.7,   3.3084,  34.5923,2,  34.6002,2,     91.7,2,    90.6,2,  110.60,2,   39.60,2,    0.00,2,    2.79,4,-999.000,5,-999.000,5,-999.000,5,  2325.5,2,  2387.1,2,   7.4790,2,    24.99,-999.000,9,-999.0000,9, -999.00,9,-999.0000, -999.00,9,  -999.0,9,  -999.0,-999.000,9,-999.000,    38.1,2, -999.00,9,     -999.0,5, -999.00,9,-999.000,-999.0000, -999.00,     -999.0,     -999.0,9,     -999.0,     -999.0,9,     -999.0,  -999.0,9,     -999.0,     -999.0,9,     -999.0,   3.2055,    34.7633,3,-999.0000,2,     -999.0,9
33RO20150410,     P16N.1,      48,          1,          8,          8,2,20150424,       0214,    -0.4104,  -151.0008,       4475,  1733.3,   2.6717,  34.6203,2,  34.6161,2,     99.1,2,    99.2,2,  126.00,2,   39.10,2,    0.00,2,    2.78,4,-999.000,5,-999.000,5,-999.000,5,  2337.6,2,  2405.4,2,   7.4929,2,    24.99,-999.000,9,-999.0000,9, -999.00,9,-999.0000, -999.00,9,  -999.0,9,  -999.0,-999.000,9,-999.000,    37.5,2, -999.00,9,     -999.0,5, -999.00,9,-999.000,-999.0000, -999.00,     -999.0,     -999.0,9,     -999.0,     -999.0,9,     -999.0,  -999.0,9,     -999.0,     -999.0,9,     -999.0,   2.5482,    34.7793,3,-999.0000,2,     -999.0,9
33RO20150410,     P16N.1,      48,          1,          7,          7,2,20150424,       0214,    -0.4104,  -151.0008,       4475,  2132.3,   2.0634,  34.6530,2,  34.6528,2,    111.7,2,   112.3,2,  141.80,2,   38.50,2,    0.00,2,    2.73,4,-999.000,5,-999.000,5,-999.000,5,  2347.9,2,  2423.0,2,   7.5172,2,    25.00,-999.000,9,-999.0000,9, -999.00,9,-999.0000, -999.00,9,  -999.0,9,  -999.0,-999.000,9,-999.000,    38.1,2, -999.00,9,     -999.0,5, -999.00,9,-999.000,-999.0000, -999.00,     -999.0,     -999.0,9,     -999.0,     -999.0,9,     -999.0,  -999.0,9,     -999.0,     -999.0,9,     -999.0,   1.9146,    34.8162,2,-999.0000,2,     -999.0,9
33RO20150410,     P16N.1,      48,          1,          6,          6,2,20150424,       0214,    -0.4104,  -151.0008,       4475,  2533.5,   1.8711,  34.6640,2,  34.6628,2,    121.1,2,   121.6,2,  144.10,2,   37.80,2,    0.00,2,    2.68,4,-999.000,5,-999.000,5,-999.000,5,  2344.7,2,  2426.5,2,   7.5337,2,    25.01,-999.000,9,-999.0000,9, -999.00,9,-999.0000, -999.00,9,  -999.0,9,  -999.0,-999.000,9,-999.000,    39.1,2, -999.00,9,     -999.0,5, -999.00,9,-999.000,-999.0000, -999.00,     -999.0,     -999.0,9,     -999.0,     -999.0,9,     -999.0,  -999.0,9,     -999.0,     -999.0,9,     -999.0,   1.6901,    34.8263,6,-999.0000,2,     -999.0,9
33RO20150410,     P16N.1,      48,          1,          5,          5,2,20150424,       0214,    -0.4104,  -151.0008,       4475,  2930.5,   1.7212,  34.6731,2,  34.6742,2,    131.0,2,   131.2,2,  144.70,2,   37.10,2,    0.01,2,    2.64,4,-999.000,5,-999.000,5,-999.000,5,  2339.6,2,  2427.2,2,   7.5512,2,    24.99,-999.000,9,-999.0000,9, -999.00,9,-999.0000, -999.00,9,  -999.0,9,  -999.0,-999.000,9,-999.000,    37.2,2, -999.00,9,     -999.0,5, -999.00,9,-999.000,-999.0000, -999.00,     -999.0,     -999.0,9,     -999.0,     -999.0,9,     -999.0,  -999.0,9,     -999.0,     -999.0,9,     -999.0,   1.5062,    34.8377,2,-999.0000,2,     -999.0,9
33RO20150410,     P16N.1,      48,          1,          4,          4,2,20150424,       0214,    -0.4104,  -151.0008,       4475,  3333.0,   1.5601,  34.6822,2,  34.6819,2,    143.5,2,   145.0,2,  143.20,6,   36.30,6,    0.00,6,    2.55,4,-999.000,5,-999.000,5,-999.000,5,  2332.0,2,  2426.7,2,   7.5704,6,    24.99,-999.000,9,-999.0000,9, -999.00,9,-999.0000, -999.00,9,  -999.0,9,  -999.0,-999.000,9,-999.000,    36.9,2, -999.00,9,     -999.0,5, -999.00,9,-999.000,-999.0000, -999.00,     -999.0,     -999.0,9,     -999.0,     -999.0,9,     -999.0,  -999.0,9,     -999.0,     -999.0,9,     -999.0,   1.3093,    34.8455,2,-999.0000,2,     -999.0,9
33RO20150410,     P16N.1,      48,          1,          3,          3,2,20150424,       0214,    -0.4104,  -151.0008,       4475,  3732.2,   1.4480,  34.6909,2,  34.6910,2,    154.4,2,   154.8,2,  143.00,6,   35.70,6,    0.00,6,    2.51,4,-999.000,5,-999.000,5,-999.000,5,  2325.5,2,  2429.2,2,   7.5906,6,    25.00,-999.000,9,-999.0000,9, -999.00,9,-999.0000, -999.00,9,  -999.0,9,  -999.0,-999.000,9,-999.000,    36.7,2, -999.00,9,     -999.0,5, -999.00,9,-999.000,-999.0000, -999.00,     -999.0,     -999.0,9,     -999.0,     -999.0,9,     -999.0,  -999.0,9,     -999.0,     -999.0,9,     -999.0,   1.1591,    34.8546,2,-999.0000,2,     -999.0,9
33RO20150410,     P16N.1,      48,          1,          2,          2,2,20150424,       0214,    -0.4104,  -151.0008,       4475,  4132.4,   1.4007,  34.6953,2,  34.6965,2,    163.4,2,   162.5,2,  141.10,6,   35.10,6,    0.00,6,    2.46,4,-999.000,5,-999.000,5,-999.000,5,  2319.1,6,  2426.2,2,   7.6000,2,    24.98,-999.000,9,-999.0000,9, -999.00,9,-999.0000, -999.00,9,  -999.0,9,  -999.0,-999.000,9,-999.000,    37.2,2, -999.00,9,     -999.0,5, -999.00,9,-999.000,-999.0000, -999.00,     -999.0,     -999.0,9,     -999.0,     -999.0,9,     -999.0,  -999.0,9,     -999.0,     -999.0,9,     -999.0,   1.0700,    34.8601,2,-999.0000,2,     -999.0,9
33RO20150410,     P16N.1,      48,          1,          1,          1,2,20150424,       0214,    -0.4104,  -151.0008,       4475,  4465.2,   1.3611,  34.6988,2,  34.7374,4,    173.6,2,   176.1,2,  134.00,6,   34.40,6,    0.00,6,    2.42,4,-999.000,5,-999.000,5,-999.000,5,  2307.4,2,  2414.8,6,   7.6056,2,    24.99,-999.000,9,-999.0000,9, -999.00,9,-999.0000, -999.00,9,  -999.0,9,  -999.0,-999.000,9,-999.000,    38.6,2, -999.00,9,     -999.0,5, -999.00,9,-999.000,-999.0000, -999.00,     -999.0,     -999.0,9,     -999.0,     -999.0,9,     -999.0,  -999.0,9,     -999.0,     -999.0,9,     -999.0,   0.9940,    34.9012,3,-999.0000,2,     -999.0,9