BOTTLE,20210709CCHSIOCBG
EXPOCODE,SECT_ID,STNNBR,CASTNO,SAMPNO,BTLNBR,BTLNBR_FLAG_W,DATE,TIME,LATITUDE,LONGITUDE,DEPTH,CTDPRS,CTDTMP,CTDSAL,CTDSAL_FLAG_W,SALNTY,SALNTY_FLAG_W,CTDOXY,CTDOXY_FLAG_W,OXYGEN,OXYGEN_FLAG_W,SILCAT,SILCAT_FLAG_W,NITRAT,NITRAT_FLAG_W,NITRIT,NITRIT_FLAG_W,PHSPHT,PHSPHT_FLAG_W,CFC-11,CFC-11_FLAG_W,CFC-12,CFC-12_FLAG_W,SF6,SF6_FLAG_W,TCARBN,TCARBN_FLAG_W,ALKALI,ALKALI_FLAG_W,PH_TOT,PH_TOT_FLAG_W,PH_TMP,TRITUM,TRITUM_FLAG_W,HELIUM,HELIUM_FLAG_W,DELHE3,DELHE3_FLAG_W,REFTMP,DELC13,DELC13_FLAG_W,DELC14,DELC14_FLAG_W,C14ERR,NEON,NEON_FLAG_W,NEONER,DOC,DOC_FLAG_W,TDN,TDN_FLAG_W,N2O,N2O_FLAG_W,ARGON,ARGON_FLAG_W,TRITER,HELIER,DELHER,ARGONER,KRYPTON,KRYPTON_FLAG_W,KRYPTONER,XENON,XENON_FLAG_W,XENONER,14C-DOC,14C-DOC_FLAG_W,14C-DOCERR,13C-DOC,13C-DOC_FLAG_W,13C-DOCERR,THETA,SALTREF,SALTREF_FLAG_W,SBE35,SBE35_FLAG_W,CHLORA,CHLORA_FLAG_W
,,,,,,,,,,,METERS,DBAR,ITS-90,PSS-78,,PSS-78,,UMOL/KG,,UMOL/KG,,UMOL/KG,,UMOL/KG,,UMOL/KG,,UMOL/KG,,PMOL/KG,,PMOL/KG,,FMOL/KG,,UMOL/KG,,UMOL/KG,,,,DEG C,TU,,NMOL/KG,,PERCNT,,DEG C,/MILLE,,/MILLE,,/MILLE,NMOL/KG,,NMOL/KG,UMOL/KG,,UMOL/KG,,NMOL/KG,,UMOL/KG,,TU,NMOL/KG,PERCNT,UMOL/KG,NMOL/KG,,NMOL/KG,NMOL/KG,,NMOL/KG,/MILLE,,/MILLE,/MILLE,,/MILLE,DEG C,G/KG,,ITS-90,,MG/M3,
33RO20150410,     P16N.1,      77,          1,         24,         24,2,20150501,       0243,     5.3297,  -150.9997,       5192,     5.9,  28.8223,  34.3624,2,  34.3973,2,    194.5,2,   198.6,2,    1.30,2,    0.90,2,    0.04,2,    0.27,2,   1.438,2,   0.933,2,   1.213,2,  1947.2,6,  2262.3,2,   8.0802,2,    25.01,-999.000,9,-999.0000,9, -999.00,9,  28.8242, -999.00,9,  -999.0,9,  -999.0,-999.000,9,-999.000,    61.5,2,    5.30,2,      6.256,3, -999.00,9,-999.000,-999.0000, -999.00,     -999.0,     -999.0,9,     -999.0,     -999.0,9,     -999.0,  -999.0,9,     -999.0,     -999.0,9,     -999.0,  28.8209,    34.5594,2,-999.0000,2,     -999.0,9
33RO20150410,     P16N.1,      77,          1,         23,         23,2,20150501,       0243,     5.3297,  -150.9997,       5192,     9.4,  28.8227,  34.4177,2,  34.4762,2,    194.5,2,   198.8,2,    1.90,2,    0.90,2,    0.04,2,    0.28,2,-999.000,9,-999.000,9,-999.000,9,  1951.4,2,  2267.5,6,   8.0793,2,    25.02,-999.000,9,-999.0000,9, -999.00,9,  28.8118, -999.00,9,  -999.0,9,  -999.0,-999.000,9,-999.000,    62.7,2,    5.20,2,     -999.0,9, -999.00,9,-999.000,-999.0000, -999.00,     -999.0,     -999.0,9,     -999.0,     -999.0,9,     -999.0,  -999.0,9,     -999.0,     -999.0,9,     -999.0,  28.8204,    34.6388,6,-999.0000,2,     -999.0,9
33RO20150410,     P16N.1,      77,          1,         22,         22,2,20150501,       0243,     5.3297,  -150.9997,       5192,    50.1,  28.5814,  34.8424,2,  34.8354,2,    195.1,2,   195.9,2,    1.40,2,    1.20,2,    0.11,2,    0.31,2,-999.000,9,-999.000,9,-999.000,9,  1978.3,2,  2290.2,2,   8.0669,6,    25.00,-999.000,9,-999.0000,9, -999.00,9,  28.5773, -999.00,9,  -999.0,9,  -999.0,-999.000,9,-999.000,    60.2,2,    5.60,2,     -999.0,9, -999.00,9,-999.000,-999.0000, -999.00,     -999.0,     -999.0,9,     -999.0,     -999.0,9,     -999.0,  -999.0,9,     -999.0,     -999.0,9,     -999.0,  28.5694,    34.9996,2,-999.0000,2,     -999.0,9
33RO20150410,     P16N.1,      77,          1,         21,         21,2,20150501,       0243,     5.3297,  -150.9997,       5192,    75.1,  28.1361,  34.9722,2,  34.9737,2,    185.9,2,   185.6,2,    1.70,2,    2.40,2,    0.85,2,    0.44,2,   1.475,2,   0.959,2,   1.181,2,  2004.0,2,  2297.1,2,   8.0338,2,    24.98,-999.000,9,-999.0000,9, -999.00,9,  28.1292, -999.00,9,  -999.0,9,  -999.0,-999.000,9,-999.000,    59.2,2,    7.20,2,      6.845,3, -999.00,9,-999.000,-999.0000, -999.00,     -999.0,     -999.0,9,     -999.0,     -999.0,9,     -999.0,  -999.0,9,     -999.0,     -999.0,9,     -999.0,  28.1183,    35.1386,2,-999.0000,2,     -999.0,9
33RO20150410,     P16N.1,      77,          1,         20,         20,2,20150501,       0243,     5.3297,  -150.9997,       5192,   100.4,  24.1990,  34.8585,2,  34.8641,2,    163.1,2,   163.8,2,    2.90,2,    2.30,2,    0.89,2,    0.47,2,-999.000,9,-999.000,9,-999.000,9,  2036.8,2,  2292.1,2,   7.9680,6,    25.01,-999.000,9,-999.0000,9, -999.00,9,  24.2544, -999.00,9,  -999.0,9,  -999.0,-999.000,9,-999.000,    59.5,2,    6.60,2,     -999.0,9, -999.00,9,-999.000,-999.0000, -999.00,     -999.0,     -999.0,9,     -999.0,     -999.0,9,     -999.0,  -999.0,9,     -999.0,     -999.0,9,     -999.0,  24.1778,    35.0285,2,-999.0000,2,     -999.0,9
33RO20150410,     P16N.1,      77,          1,         19,         19,2,20150501,       0243,     5.3297,  -150.9997,       5192,   149.6,  13.9825,  34.5959,2,  34.5979,2,     79.5,2,    75.9,2,   18.50,2,   22.60,2,    0.01,2,    1.73,2,   1.698,2,   0.975,2,   0.632,2,  2182.9,2,  2283.7,2,   7.6159,2,    24.99,-999.000,9,-999.0000,9, -999.00,9,  13.9700, -999.00,9,  -999.0,9,  -999.0,-999.000,9,-999.000,    44.8,2,   24.30,2,     52.857,3, -999.00,9,-999.000,-999.0000, -999.00,     -999.0,     -999.0,9,     -999.0,     -999.0,9,     -999.0,  -999.0,9,     -999.0,     -999.0,9,     -999.0,  13.9610,    34.7611,2,-999.0000,2,     -999.0,9
33RO20150410,     P16N.1,      77,          1,         18,         18,2,20150501,       0243,     5.3297,  -150.9997,       5192,   225.2,  10.1444,  34.6475,2,  34.6475,2,     96.0,2,    90.2,2,   28.80,2,   28.40,2,    0.01,2,    2.04,2,   1.080,6,   0.588,6,   0.283,6,  2213.6,2,  2300.4,2,   7.5782,2,    24.99,-999.000,9,-999.0000,9, -999.00,9,  10.1447, -999.00,9,  -999.0,9,  -999.0,-999.000,9,-999.000,    41.5,2,   30.80,2,     38.193,3, -999.00,9,-999.000,-999.0000, -999.00,     -999.0,     -999.0,9,     -999.0,     -999.0,9,     -999.0,  -999.0,9,     -999.0,     -999.0,9,     -999.0,  10.1181,    34.8108,2,-999.0000,2,     -999.0,9
33RO20150410,     P16N.1,      77,          1,         17,         17,2,20150501,       0243,     5.3297,  -150.9997,       5192,   300.7,   9.6431,  34.6742,2,  34.6734,2,     39.2,2,    46.0,2,   31.70,2,   33.80,2,    0.01,2,    2.37,2,   0.598,2,   0.319,2,   0.129,2,  2248.0,2,  2302.9,2,   7.4785,6,    25.05,-999.000,9,-999.0000,9, -999.00,9,   9.6416, -999.00,9,  -999.0,9,  -999.0,-999.000,9,-999.000,    41.3,2,   35.80,2,     49.825,3, -999.00,9,-999.000,-999.0000, -999.00,     -999.0,     -999.0,9,     -999.0,     -999.0,9,     -999.0,  -999.0,9,     -999.0,     -999.0,9,     -999.0,   9.6089,    34.8369,2,-999.0000,2,     -999.0,9
33RO20150410,     P16N.1,      77,          1,         16,         16,2,20150501,       0243,     5.3297,  -150.9997,       5192,   399.3,   8.9434,  34.6443,2,  34.6429,2,     53.4,2,    53.3,2,   34.50,2,   34.70,2,    0.01,2,    2.43,2,   0.473,2,   0.252,2,   0.087,2,  2249.0,2,  2303.8,2,   7.4792,2,    24.99,-999.000,9,-999.0000,9, -999.00,9,   8.9439, -999.00,9,  -999.0,9,  -999.0,-999.000,9,-999.000,    41.7,2, -999.00,9,     46.309,3, -999.00,9,-999.000,-999.0000, -999.00,     -999.0,     -999.0,9,     -999.0,     -999.0,9,     -999.0,  -999.0,9,     -999.0,     -999.0,9,     -999.0,   8.8999,    34.8063,2,-999.0000,2,     -999.0,9
33RO20150410,     P16N.1,      77,          1,         15,         15,2,20150501,       0243,     5.3297,  -150.9997,       5192,   498.7,   8.0886,  34.6085,2,  34.6078,2,     25.6,2,    28.0,2,   43.00,2,   38.50,2,    0.01,2,    2.75,2,   0.154,2,   0.090,2,   0.049,2,  2275.5,2,  2311.0,2,   7.4113,2,    24.99,-999.000,9,-999.0000,9, -999.00,9,   8.0863, -999.00,9,  -999.0,9,  -999.0,-999.000,9,-999.000,    41.0,2, -999.00,9,     53.545,3, -999.00,9,-999.000,-999.0000, -999.00,     -999.0,     -999.0,9,     -999.0,     -999.0,9,     -999.0,  -999.0,9,     -999.0,     -999.0,9,     -999.0,   8.0371,    34.7710,2,-999.0000,2,     -999.0,9
33RO20150410,     P16N.1,      77,          1,         14,         14,2,20150501,       0243,     5.3297,  -150.9997,       5192,   650.8,   6.5195,  34.5667,2,  34.5667,2,     15.3,2,    14.1,2,   61.00,2,   42.90,2,    0.01,2,    3.09,2,-999.000,9,-999.000,9,-999.000,9,  2310.9,6,  2327.0,2,   7.3554,2,    24.98,-999.000,9,-999.0000,9, -999.00,9,   6.5216, -999.00,9,  -999.0,9,  -999.0,-999.000,9,-999.000,    38.6,2, -999.00,9,     -999.0,9, -999.00,9,-999.000,-999.0000, -999.00,     -999.0,     -999.0,9,     -999.0,     -999.0,9,     -999.0,  -999.0,9,     -999.0,     -999.0,9,     -999.0,   6.4593,    34.7297,2,-999.0000,2,     -999.0,9
33RO20150410,     P16N.1,      77,          1,         13,         13,2,20150501,       0243,     5.3297,  -150.9997,       5192,   800.3,   5.3878,  34.5531,2,  34.5522,2,     37.1,2,    36.7,2,   74.40,2,   43.30,2,    0.01,2,    3.05,2,   0.011,2,   0.005,2,       0,2,  2314.2,2,  2341.4,2,   7.3864,2,    24.99,-999.000,9,-999.0000,9, -999.00,9,   5.3885, -999.00,9,  -999.0,9,  -999.0,-999.000,9,-999.000,    39.9,2, -999.00,9,     45.763,3, -999.00,9,-999.000,-999.0000, -999.00,     -999.0,     -999.0,9,     -999.0,     -999.0,9,     -999.0,  -999.0,9,     -999.0,     -999.0,9,     -999.0,   5.3198,    34.7151,2,-999.0000,2,     -999.0,9
33RO20150410,     P16N.1,      77,          1,         12,         12,2,20150501,       0243,     5.3297,  -150.9997,       5192,   951.0,   4.6172,  34.5605,2,  34.5597,2,     55.6,2,    53.2,2,   87.10,2,   42.40,2,    0.01,2,    3.00,2,-999.000,9,-999.000,9,-999.000,9,  2320.5,2,  2357.0,2,   7.4149,2,    24.99,-999.000,9,-999.0000,9, -999.00,9,   4.6191, -999.00,9,  -999.0,9,  -999.0,-999.000,9,-999.000,    38.9,2, -999.00,9,     -999.0,9, -999.00,9,-999.000,-999.0000, -999.00,     -999.0,     -999.0,9,     -999.0,     -999.0,9,     -999.0,  -999.0,9,     -999.0,     -999.0,9,     -999.0,   4.5410,    34.7226,2,-999.0000,2,     -999.0,9
33RO20150410,     P16N.1,      77,          1,         11,         11,2,20150501,       0243,     5.3297,  -150.9997,       5192,  1100.5,   4.0777,  34.5726,2,  34.5718,2,     62.2,2,    62.1,2,   98.00,2,   42.00,2,    0.01,2,    3.00,2,-999.000,9,-999.000,9,-999.000,9,  2328.0,2,  2369.0,2,   7.4287,6,    25.01,-999.000,9,-999.0000,9, -999.00,9,   4.0799, -999.00,9,  -999.0,9,  -999.0,-999.000,9,-999.000,    37.9,2, -999.00,9,     -999.0,9, -999.00,9,-999.000,-999.0000, -999.00,     -999.0,     -999.0,9,     -999.0,     -999.0,9,     -999.0,  -999.0,9,     -999.0,     -999.0,9,     -999.0,   3.9928,    34.7349,2,-999.0000,2,     -999.0,9
33RO20150410,     P16N.1,      77,          1,         10,         10,2,20150501,       0243,     5.3297,  -150.9997,       5192,  1299.6,   3.4851,  34.5924,2,  34.5834,2,     67.7,2,    67.6,2,  112.20,2,   41.80,2,    0.00,2,    2.98,2,-999.000,9,-999.000,9,-999.000,9,  2340.1,2,  2385.2,2,   7.4366,2,    24.97,-999.000,9,-999.0000,9, -999.00,9,   3.4833, -999.00,9,  -999.0,9,  -999.0,-999.000,9,-999.000,    40.0,2, -999.00,9,     -999.0,9, -999.00,9,-999.000,-999.0000, -999.00,     -999.0,     -999.0,9,     -999.0,     -999.0,9,     -999.0,  -999.0,9,     -999.0,     -999.0,9,     -999.0,   3.3888,    34.7465,2,-999.0000,2,     -999.0,9
33RO20150410,     P16N.1,      77,          1,          9,          9,2,20150501,       0243,     5.3297,  -150.9997,       5192,  1600.5,   2.8616,  34.6140,2,  34.6131,2,     82.1,2,    82.0,2,  125.70,2,   40.90,2,    0.00,2,    2.90,2,-999.000,9,-999.000,9,-999.000,9,  2347.8,2,  2400.2,2,   7.4623,2,    24.99,-999.000,9,-999.0000,9, -999.00,9,   2.8618, -999.00,9,  -999.0,9,  -999.0,-999.000,9,-999.000,    38.0,2, -999.00,9,     -999.0,9, -999.00,9,-999.000,-999.0000, -999.00,     -999.0,     -999.0,9,     -999.0,     -999.0,9,     -999.0,  -999.0,9,     -999.0,     -999.0,9,     -999.0,   2.7469,    34.7763,2,-999.0000,2,     -999.0,9
33RO20150410,     P16N.1,      77,          1,          8,          8,2,20150501,       0243,     5.3297,  -150.9997,       5192,  2000.7,   2.2159,  34.6457,2,  34.6445,2,     98.3,2,    98.4,2,  140.60,2,   39.90,2,    0.01,2,    2.78,2,-999.000,9,-999.000,9,-999.000,9,  2354.9,2,  2418.8,2,   7.4932,2,    25.00,-999.000,9,-999.0000,9, -999.00,9,   2.2158, -999.00,9,  -999.0,9,  -999.0,-999.000,9,-999.000,    38.5,2, -999.00,9,     -999.0,9, -999.00,9,-999.000,-999.0000, -999.00,     -999.0,     -999.0,9,     -999.0,     -999.0,9,     -999.0,  -999.0,9,     -999.0,     -999.0,9,     -999.0,   2.0761,    34.8079,2,-999.0000,2,     -999.0,9
33RO20150410,     P16N.1,      77,          1,          7,          7,2,20150501,       0243,     5.3297,  -150.9997,       5192,  2399.7,   1.8975,  34.6640,2,  34.6628,2,    111.9,2,   112.0,2,  146.80,2,   38.80,2,    0.01,2,    2.70,2,-999.000,9,-999.000,9,-999.000,9,  2352.8,2,  2429.0,2,   7.5202,6,    25.02,-999.000,9,-999.0000,9, -999.00,9,   1.8974, -999.00,9,  -999.0,9,  -999.0,-999.000,9,-999.000,    36.7,2, -999.00,9,     -999.0,9, -999.00,9,-999.000,-999.0000, -999.00,     -999.0,     -999.0,9,     -999.0,     -999.0,9,     -999.0,  -999.0,9,     -999.0,     -999.0,9,     -999.0,   1.7281,    34.8263,2,-999.0000,2,     -999.0,9
33RO20150410,     P16N.1,      77,          1,          6,          6,2,20150501,       0243,     5.3297,  -150.9997,       5192,  2801.3,   1.7990,  34.6709,2,  34.6685,2,    116.9,2,   117.3,2,  148.90,2,   38.40,2,    0.01,2,    2.66,2,-999.000,9,-999.000,9,-999.000,9,  2353.1,2,  2431.2,2,   7.5301,2,    24.99,-999.000,9,-999.0000,9, -999.00,9,   1.7992, -999.00,9,  -999.0,9,  -999.0,-999.000,9,-999.000,    36.6,2, -999.00,9,     -999.0,9, -999.00,9,-999.000,-999.0000, -999.00,     -999.0,     -999.0,9,     -999.0,     -999.0,9,     -999.0,  -999.0,9,     -999.0,     -999.0,9,     -999.0,   1.5946,    34.8320,2,-999.0000,2,     -999.0,9
33RO20150410,     P16N.1,      77,          1,          5,          5,2,20150501,       0243,     5.3297,  -150.9997,       5192,  3198.3,   1.6199,  34.6801,2,  34.6789,2,    130.8,2,   131.0,2,  148.80,2,   37.60,2,    0.01,2,    2.59,2,-999.000,9,-999.000,9,-999.000,9,  2345.3,2,  2431.3,2,   7.5526,2,    24.98,-999.000,9,-999.0000,9, -999.00,9,   1.6197, -999.00,9,  -999.0,9,  -999.0,-999.000,9,-999.000,    36.3,2, -999.00,9,     -999.0,9, -999.00,9,-999.000,-999.0000, -999.00,     -999.0,     -999.0,9,     -999.0,     -999.0,9,     -999.0,  -999.0,9,     -999.0,     -999.0,9,     -999.0,   1.3811,    34.8425,2,-999.0000,2,     -999.0,9
33RO20150410,     P16N.1,      77,          1,          4,          4,2,20150501,       0243,     5.3297,  -150.9997,       5192,  3697.5,   1.4625,  34.6896,2,  34.6882,2,    151.7,2,   152.1,2,  142.10,6,   36.30,6,    0.01,6,    2.47,6,-999.000,9,-999.000,9,-999.000,9,  2328.4,2,  2425.4,2,   7.5836,6,    24.99,-999.000,9,-999.0000,9, -999.00,9,   1.4623, -999.00,9,  -999.0,9,  -999.0,-999.000,9,-999.000,    37.3,2, -999.00,9,     -999.0,9, -999.00,9,-999.000,-999.0000, -999.00,     -999.0,     -999.0,9,     -999.0,     -999.0,9,     -999.0,  -999.0,9,     -999.0,     -999.0,9,     -999.0,   1.1768,    34.8517,2,-999.0000,2,     -999.0,9
33RO20150410,     P16N.1,      77,          1,          3,          3,2,20150501,       0243,     5.3297,  -150.9997,       5192,  4201.2,   1.3853,  34.6958,2,  34.6948,2,    164.6,2,   165.2,2,  136.80,6,   35.30,6,    0.00,6,    2.40,6,-999.000,9,-999.000,9,-999.000,9,  2315.5,6,  2417.5,2,   7.5979,2,    25.02,-999.000,9,-999.0000,9, -999.00,9,   1.3852, -999.00,9,  -999.0,9,  -999.0,-999.000,9,-999.000,    38.1,2, -999.00,9,     -999.0,9, -999.00,9,-999.000,-999.0000, -999.00,     -999.0,     -999.0,9,     -999.0,     -999.0,9,     -999.0,  -999.0,9,     -999.0,     -999.0,9,     -999.0,   1.0475,    34.8584,6,-999.0000,2,     -999.0,9
33RO20150410,     P16N.1,      77,          1,          2,          2,2,20150501,       0243,     5.3297,  -150.9997,       5192,  4700.7,   1.3993,  34.6973,2,  34.6960,2,    169.8,2,   170.0,2,  134.00,6,   35.00,6,    0.01,6,    2.38,6,-999.000,9,-999.000,9,-999.000,9,  2307.9,2,  2410.3,2,   7.5989,2,    25.02,-999.000,9,-999.0000,9, -999.00,9,   1.3992, -999.00,9,  -999.0,9,  -999.0,-999.000,9,-999.000,    36.6,2, -999.00,9,     -999.0,9, -999.00,9,-999.000,-999.0000, -999.00,     -999.0,     -999.0,9,     -999.0,     -999.0,9,     -999.0,  -999.0,9,     -999.0,     -999.0,9,     -999.0,   1.0040,    34.8597,2,-999.0000,2,     -999.0,9
33RO20150410,     P16N.1,      77,          1,          1,          1,2,20150501,       0243,     5.3297,  -150.9997,       5192,  5078.7,   1.4380,  34.6973,2,  34.6966,2,    171.9,2,   170.7,2,  133.20,6,   34.80,6,    0.01,6,    2.37,6,-999.000,9,-999.000,9,-999.000,9,  2309.0,2,  2409.7,6,   7.5978,2,    24.99,-999.000,9,-999.0000,9, -999.00,9,   1.4376, -999.00,9,  -999.0,9,  -999.0,-999.000,9,-999.000,    38.7,2, -999.00,9,     -999.0,9, -999.00,9,-999.000,-999.0000, -999.00,     -999.0,     -999.0,9,     -999.0,     -999.0,9,     -999.0,  -999.0,9,     -999.0,     -999.0,9,     -999.0,   0.9961,    34.8602,2,-999.0000,2,     -999.0,9