BOTTLE,20210709CCHSIOCBG
EXPOCODE,SECT_ID,STNNBR,CASTNO,SAMPNO,BTLNBR,BTLNBR_FLAG_W,DATE,TIME,LATITUDE,LONGITUDE,DEPTH,CTDPRS,CTDTMP,CTDSAL,CTDSAL_FLAG_W,SALNTY,SALNTY_FLAG_W,CTDOXY,CTDOXY_FLAG_W,OXYGEN,OXYGEN_FLAG_W,SILCAT,SILCAT_FLAG_W,NITRAT,NITRAT_FLAG_W,NITRIT,NITRIT_FLAG_W,PHSPHT,PHSPHT_FLAG_W,CFC-11,CFC-11_FLAG_W,CFC-12,CFC-12_FLAG_W,SF6,SF6_FLAG_W,TCARBN,TCARBN_FLAG_W,ALKALI,ALKALI_FLAG_W,PH_TOT,PH_TOT_FLAG_W,PH_TMP,TRITUM,TRITUM_FLAG_W,HELIUM,HELIUM_FLAG_W,DELHE3,DELHE3_FLAG_W,REFTMP,DELC13,DELC13_FLAG_W,DELC14,DELC14_FLAG_W,C14ERR,NEON,NEON_FLAG_W,NEONER,DOC,DOC_FLAG_W,TDN,TDN_FLAG_W,N2O,N2O_FLAG_W,ARGON,ARGON_FLAG_W,TRITER,HELIER,DELHER,ARGONER,KRYPTON,KRYPTON_FLAG_W,KRYPTONER,XENON,XENON_FLAG_W,XENONER,14C-DOC,14C-DOC_FLAG_W,14C-DOCERR,13C-DOC,13C-DOC_FLAG_W,13C-DOCERR,THETA,SALTREF,SALTREF_FLAG_W,SBE35,SBE35_FLAG_W,CHLORA,CHLORA_FLAG_W
,,,,,,,,,,,METERS,DBAR,ITS-90,PSS-78,,PSS-78,,UMOL/KG,,UMOL/KG,,UMOL/KG,,UMOL/KG,,UMOL/KG,,UMOL/KG,,PMOL/KG,,PMOL/KG,,FMOL/KG,,UMOL/KG,,UMOL/KG,,,,DEG C,TU,,NMOL/KG,,PERCNT,,DEG C,/MILLE,,/MILLE,,/MILLE,NMOL/KG,,NMOL/KG,UMOL/KG,,UMOL/KG,,NMOL/KG,,UMOL/KG,,TU,NMOL/KG,PERCNT,UMOL/KG,NMOL/KG,,NMOL/KG,NMOL/KG,,NMOL/KG,/MILLE,,/MILLE,/MILLE,,/MILLE,DEG C,G/KG,,ITS-90,,MG/M3,
33RO20150410,     P16N.1,      69,          2,         24,         24,2,20150429,       0016,     2.9957,  -151.0005,       5195,    15.9,  28.8074,  34.9926,2,  34.9904,2,    197.6,2,   200.9,2,    1.80,2,    2.20,2,    0.14,2,    0.50,2,   1.442,2,   0.951,2,    1.21,2,  1997.1,2,  2301.0,6,   8.0473,6,    24.99,   0.300,2,-999.0000,9, -999.00,9,  28.8029,    0.85,2,    40.8,2,     3.4,-999.000,9,-999.000,    62.4,2,    7.10,2,      7.659,3, -999.00,9,   0.004,-999.0000, -999.00,     -999.0,     -999.0,9,     -999.0,     -999.0,9,     -999.0,  -999.0,9,     -999.0,     -999.0,9,     -999.0,  28.8036,    35.1554,2,-999.0000,2,      0.166,2
33RO20150410,     P16N.1,      69,          2,         23,         23,2,20150429,       0016,     2.9957,  -151.0005,       5195,    32.9,  28.8200,  35.1004,2,  35.1040,2,    199.6,2,   201.3,2,    1.70,2,    2.20,2,    0.14,2,    0.51,2,   1.456,6,   0.957,6,   1.222,6,  2003.8,6,  2308.3,2,   8.0459,2,    24.99,-999.000,9,-999.0000,9, -999.00,9,  28.8201, -999.00,9,  -999.0,9,  -999.0,-999.000,9,-999.000,    62.9,2,    6.40,2,      7.231,3, -999.00,9,-999.000,-999.0000, -999.00,     -999.0,     -999.0,9,     -999.0,     -999.0,9,     -999.0,  -999.0,9,     -999.0,     -999.0,9,     -999.0,  28.8121,    35.2695,2,-999.0000,2,      0.243,2
33RO20150410,     P16N.1,      69,          2,         22,         22,2,20150429,       0016,     2.9957,  -151.0005,       5195,    58.3,  28.6002,  35.0744,2,  35.0768,2,    199.8,2,   200.5,2,    1.70,2,    2.20,2,    0.14,2,    0.52,2,   1.475,2,   0.960,2,   1.237,2,  2004.3,2,  2306.4,2,   8.0439,6,    25.00,   0.332,2,-999.0000,9, -999.00,9,  28.6028, -999.00,9,  -999.0,9,  -999.0,-999.000,9,-999.000,    63.3,2,    6.50,2,      7.309,3, -999.00,9,   0.004,-999.0000, -999.00,     -999.0,     -999.0,9,     -999.0,     -999.0,9,     -999.0,  -999.0,9,     -999.0,     -999.0,9,     -999.0,  28.5862,    35.2422,2,-999.0000,2,      0.296,2
33RO20150410,     P16N.1,      69,          2,         21,         21,2,20150429,       0016,     2.9957,  -151.0005,       5195,    83.1,  27.8495,  35.0020,2,  35.0046,2,    195.1,2,   193.7,2,    1.80,2,    2.30,2,    0.18,2,    0.56,2,   1.482,2,   0.979,2,   1.252,2,  2006.0,2,  2302.4,2,   8.0314,2,    24.99,-999.000,9,-999.0000,9, -999.00,9,  27.8521,    0.80,2,    42.4,2,     2.2,-999.000,9,-999.000,    62.3,2,    7.30,2,      7.752,3, -999.00,9,-999.000,-999.0000, -999.00,     -999.0,     -999.0,9,     -999.0,     -999.0,9,     -999.0,  -999.0,9,     -999.0,     -999.0,9,     -999.0,  27.8300,    35.1697,2,-999.0000,2,      0.249,2
33RO20150410,     P16N.1,      69,          2,         20,         20,2,20150429,       0016,     2.9957,  -151.0005,       5195,   118.1,  25.6616,  35.0284,2,  35.0341,2,    157.4,2,   155.3,2,    3.20,2,    6.40,2,    0.15,2,    0.77,2,   1.678,2,   1.039,2,   1.159,2,  2046.0,2,  2299.4,2,   7.9564,6,    25.01,   0.338,2,   1.7375,2,   -0.35,2,  25.6940,    0.47,2,    44.1,2,     2.0,   6.883,2,   0.017,    50.1,2,   11.00,2,     10.464,3, -999.00,9,   0.003,   0.0045,    0.20,     -999.0,     -999.0,9,     -999.0,     -999.0,9,     -999.0,  -999.0,9,     -999.0,     -999.0,9,     -999.0,  25.6355,    35.1993,2,-999.0000,2,      0.143,2
33RO20150410,     P16N.1,      69,          2,         19,         19,2,20150429,       0016,     2.9957,  -151.0005,       5195,   175.4,  12.2726,  34.6582,2,  34.6544,2,    104.9,2,   105.1,2,   23.00,2,   22.80,2,    0.01,2,    1.78,2,   1.584,2,   0.871,2,   0.545,2,  2176.1,2,  2295.9,2,   7.6535,2,    24.98,-999.000,9,-999.0000,9, -999.00,9,  12.3026,    0.09,2,    -8.3,2,     1.9,-999.000,9,-999.000,    45.7,2,   25.90,2,     32.299,3, -999.00,9,-999.000,-999.0000, -999.00,     -999.0,     -999.0,9,     -999.0,     -999.0,9,     -999.0,  -999.0,9,     -999.0,     -999.0,9,     -999.0,  12.2495,    34.8178,2,-999.0000,3,      0.008,2
33RO20150410,     P16N.1,      69,          2,         18,         18,2,20150429,       0016,     2.9957,  -151.0005,       5195,   249.9,  11.1847,  34.7891,2,  34.7898,2,     55.7,2,    46.3,2,   26.00,2,   30.90,2,    0.00,2,    2.28,2,   0.955,2,   0.524,2,   0.234,2,  2235.1,2,  2301.6,2,   7.5133,2,    24.98,   0.115,2,   1.8568,3,    5.82,3,  11.1817,   -0.15,2,   -23.2,2,     1.9,   7.739,3,   0.019,    43.6,2,   33.80,2,     53.832,3, -999.00,9,   0.002,   0.0048,    0.20,     -999.0,     -999.0,9,     -999.0,     -999.0,9,     -999.0,  -999.0,9,     -999.0,     -999.0,9,     -999.0,  11.1536,    34.9539,2,-999.0000,3,      0.000,2
33RO20150410,     P16N.1,      69,          2,         17,         17,2,20150429,       0016,     2.9957,  -151.0005,       5195,   331.0,  10.1220,  34.7157,2,  34.7145,2,     68.1,2,    66.9,2,   28.00,2,   31.00,2,    0.00,2,    2.28,2,   0.852,2,   0.455,2,   0.184,2,  2228.9,2,  2302.1,2,   7.5302,2,    24.99,   0.098,2,   1.7764,2,    6.29,2,  10.1229,    0.07,2,   -21.6,2,     2.1,   7.497,2,   0.019,    42.5,2, -999.00,9,     44.470,3, -999.00,9,   0.003,   0.0046,    0.20,     -999.0,     -999.0,9,     -999.0,     -999.0,9,     -999.0,  -999.0,9,     -999.0,     -999.0,9,     -999.0,  10.0832,    34.8782,2,-999.0000,2,     -999.0,9
33RO20150410,     P16N.1,      69,          2,         16,         16,2,20150429,       0016,     2.9957,  -151.0005,       5195,   433.0,   9.0035,  34.6478,2,  34.6477,2,     54.7,2,    54.4,2,   34.50,2,   34.40,2,    0.01,2,    2.51,2,   0.486,6,   0.256,6,   0.091,6,  2248.0,2,  2304.9,2,   7.4758,2,    24.99,   0.062,2,   1.7910,2,    7.29,2,   9.0023,   -0.12,2,   -75.4,2,     1.9,   7.588,2,   0.019,    39.7,2, -999.00,9,     47.627,3, -999.00,9,   0.002,   0.0047,    0.20,     -999.0,     -999.0,9,     -999.0,     -999.0,9,     -999.0,  -999.0,9,     -999.0,     -999.0,9,     -999.0,   8.9560,    34.8111,2,-999.0000,2,     -999.0,9
33RO20150410,     P16N.1,      69,          2,         15,         15,2,20150429,       0016,     2.9957,  -151.0005,       5195,   550.1,   7.2676,  34.5834,2,  34.5831,2,     34.8,2,    35.4,2,   49.20,2,   39.60,2,    0.00,2,    2.93,2,   0.073,2,   0.044,2,       0,2,  2283.0,2,  2316.4,2,   7.4066,6,    25.01,   0.009,2,   1.8072,2,    9.26,2,   7.2678,   -0.05,2,  -127.5,2,     1.7,   7.674,2,   0.019,    38.9,2, -999.00,9,     50.751,3, -999.00,9,   0.001,   0.0047,    0.20,     -999.0,     -999.0,9,     -999.0,     -999.0,9,     -999.0,  -999.0,9,     -999.0,     -999.0,9,     -999.0,   7.2140,    34.7461,6,-999.0000,2,     -999.0,9
33RO20150410,     P16N.1,      69,          2,         14,         14,2,20150429,       0016,     2.9957,  -151.0005,       5195,   699.2,   6.1863,  34.5567,2,  34.5603,2,     51.4,2,    50.4,2,   58.70,2,   40.30,2,    0.02,2,    2.95,2,   0.039,2,   0.022,2,       0,2,  2285.3,2,  2326.7,2,   7.4241,2,    24.99,   0.006,2,   1.8282,2,   11.92,2,   6.1900,    0.06,2,  -143.9,2,     1.8,   7.764,2,   0.019,    39.7,2, -999.00,9,     44.582,3, -999.00,9,   0.002,   0.0048,    0.20,     -999.0,     -999.0,9,     -999.0,     -999.0,9,     -999.0,  -999.0,9,     -999.0,     -999.0,9,     -999.0,   6.1232,    34.7233,2,-999.0000,2,     -999.0,9
33RO20150410,     P16N.1,      69,          2,         13,         13,2,20150429,       0016,     2.9957,  -151.0005,       5195,   850.2,   5.2577,  34.5477,2,  34.5479,2,     69.8,2,    70.2,2,   70.90,2,   39.70,2,    0.01,2,    2.91,2,   0.022,2,   0.014,2,       0,2,  2292.1,2,  2340.0,2,   7.4526,2,    25.00,   0.001,2,   1.8444,2,   15.00,2,   5.2584,    0.11,2,  -163.5,2,     2.6,   7.848,2,   0.020,    36.9,2, -999.00,9,     37.673,3, -999.00,9,   0.001,   0.0048,    0.20,     -999.0,     -999.0,9,     -999.0,     -999.0,9,     -999.0,  -999.0,9,     -999.0,     -999.0,9,     -999.0,   5.1860,    34.7108,2,-999.0000,2,     -999.0,9
33RO20150410,     P16N.1,      69,          2,         12,         12,2,20150429,       0016,     2.9957,  -151.0005,       5195,   938.7,   4.8802,  34.5516,2,  34.5525,2,     73.3,2,    73.1,2,   77.80,2,   39.80,2,    0.00,2,    2.92,2,   0.016,2,   0.012,2,       0,2,  2298.1,2,  2348.6,2,   7.4554,6,    25.01,   0.001,2,-999.0000,9, -999.00,9,   4.8803, -999.00,9,  -999.0,9,  -999.0,-999.000,9,-999.000,    37.6,2, -999.00,9,     36.506,3, -999.00,9,   0.002,-999.0000, -999.00,     -999.0,     -999.0,9,     -999.0,     -999.0,9,     -999.0,  -999.0,9,     -999.0,     -999.0,9,     -999.0,   4.8032,    34.7154,2,-999.0000,2,     -999.0,9
33RO20150410,     P16N.1,      69,          2,         11,         11,2,20150429,       0016,     2.9957,  -151.0005,       5195,  1159.4,   3.9776,  34.5724,2,  34.5717,2,     77.8,2,    77.3,2,   97.00,2,   40.10,2,    0.00,2,    2.96,2,   0.004,2,   0.002,2,       0,2,  2317.1,2,  2369.8,2,   7.4584,2,    24.98,   0.002,2,   1.8796,2,   20.27,2,   3.9776, -999.00,9,  -999.0,9,  -999.0,   7.935,2,   0.020,    36.3,2, -999.00,9,     34.842,3, -999.00,9,   0.002,   0.0049,    0.20,     -999.0,     -999.0,9,     -999.0,     -999.0,9,     -999.0,  -999.0,9,     -999.0,     -999.0,9,     -999.0,   3.8886,    34.7347,2,-999.0000,2,     -999.0,9
33RO20150410,     P16N.1,      69,          2,         10,         10,2,20150429,       0016,     2.9957,  -151.0005,       5195,  1397.2,   3.3222,  34.5941,2,  34.5939,2,     84.0,2,    83.3,2,  112.00,2,   40.00,2,    0.00,2,    2.94,2,   0.013,3,   0.001,2,       0,2,  2332.5,2,  2386.1,2,   7.4659,2,    24.98,   0.001,2,   1.8943,2,   23.43,2,   3.3232, -999.00,9,  -999.0,9,  -999.0,   8.007,2,   0.020,    36.7,2, -999.00,9,     31.930,3, -999.00,9,   0.002,   0.0049,    0.20,     -999.0,     -999.0,9,     -999.0,     -999.0,9,     -999.0,  -999.0,9,     -999.0,     -999.0,9,     -999.0,   3.2193,    34.7570,2,-999.0000,2,     -999.0,9
33RO20150410,     P16N.1,      69,          2,          9,          9,2,20150429,       0016,     2.9957,  -151.0005,       5195,  1732.8,   2.6436,  34.6243,2,  34.6252,2,     94.2,2,    94.1,2,  128.20,2,   39.60,2,    0.00,2,    2.90,2,   0.000,2,   0.000,2,   0.011,3,  2342.2,2,  2405.4,2,   7.4847,2,    24.99,   0.000,2,   1.9157,2,   26.90,2,   2.6438, -999.00,9,  -999.0,9,  -999.0,   8.046,2,   0.020,    37.5,2, -999.00,9,     28.995,3, -999.00,9,   0.002,   0.0050,    0.20,     -999.0,     -999.0,9,     -999.0,     -999.0,9,     -999.0,  -999.0,9,     -999.0,     -999.0,9,     -999.0,   2.5205,    34.7884,6,-999.0000,2,     -999.0,9
33RO20150410,     P16N.1,      69,          2,          8,          8,2,20150429,       0016,     2.9957,  -151.0005,       5195,  2134.0,   2.1614,  34.6495,2,  34.6485,2,    104.8,2,   104.9,2,  140.10,2,   38.90,2,    0.01,2,    2.83,2,  -0.001,2,   0.000,2,       0,2,  2342.4,3,  2420.1,2,   7.5065,2,    24.98,  -0.002,6,   1.9304,2,   29.55,2,   2.1614, -999.00,9,  -999.0,9,  -999.0,   8.104,2,   0.020,    37.5,2, -999.00,9,     25.826,3, -999.00,9,   0.002,   0.0050,    0.20,     -999.0,     -999.0,9,     -999.0,     -999.0,9,     -999.0,  -999.0,9,     -999.0,     -999.0,9,     -999.0,   2.0109,    34.8119,2,-999.0000,2,     -999.0,9
33RO20150410,     P16N.1,      69,          2,          7,          7,2,20150429,       0016,     2.9957,  -151.0005,       5195,  2533.1,   1.8609,  34.6666,2,  34.6658,2,    117.3,2,   126.0,4,  146.00,2,   38.00,2,    0.02,2,    2.74,2,  -0.006,2,  -0.002,2,       0,2,  2349.4,2,  2429.2,2,   7.5301,2,    24.99,-999.000,9,-999.0000,9, -999.00,9,   1.8606, -999.00,9,  -999.0,9,  -999.0,-999.000,9,-999.000,    35.3,2, -999.00,9,     23.766,3, -999.00,9,-999.000,-999.0000, -999.00,     -999.0,     -999.0,9,     -999.0,     -999.0,9,     -999.0,  -999.0,9,     -999.0,     -999.0,9,     -999.0,   1.6801,    34.8293,2,-999.0000,2,     -999.0,9
33RO20150410,     P16N.1,      69,          2,          6,          6,2,20150429,       0016,     2.9957,  -151.0005,       5195,  2933.1,   1.7406,  34.6727,2,  34.6792,4,    126.0,2,   143.9,4,  145.80,2,   37.40,2,    0.00,2,    2.70,2,  -0.004,2,  -0.001,2,       0,2,  2345.6,6,  2427.8,2,   7.5422,2,    24.98,-999.000,9,-999.0000,9, -999.00,9,   1.7405, -999.00,9,  -999.0,9,  -999.0,-999.000,9,-999.000,    36.2,2, -999.00,9,     22.692,3, -999.00,9,-999.000,-999.0000, -999.00,     -999.0,     -999.0,9,     -999.0,     -999.0,9,     -999.0,  -999.0,9,     -999.0,     -999.0,9,     -999.0,   1.5249,    34.8427,3,-999.0000,2,     -999.0,9
33RO20150410,     P16N.1,      69,          2,          5,          5,2,20150429,       0016,     2.9957,  -151.0005,       5195,  3368.0,   1.5227,  34.6850,2,  34.6855,2,    143.2,2,   143.8,2,  144.80,2,   36.30,2,    0.00,2,    2.61,2,  -0.006,2,  -0.002,2,       0,2,  2334.3,2,  2428.5,2,   7.5711,2,    25.01,-999.000,9,-999.0000,9, -999.00,9,   1.5225, -999.00,9,  -999.0,9,  -999.0,-999.000,9,-999.000,    36.0,2, -999.00,9,     21.553,3, -999.00,9,-999.000,-999.0000, -999.00,     -999.0,     -999.0,9,     -999.0,     -999.0,9,     -999.0,  -999.0,9,     -999.0,     -999.0,9,     -999.0,   1.2693,    34.8490,2,-999.0000,2,     -999.0,9
33RO20150410,     P16N.1,      69,          2,          4,          4,2,20150429,       0016,     2.9957,  -151.0005,       5195,  3867.8,   1.4410,  34.6921,2,  34.6924,2,    156.0,2,   155.8,2,  141.50,6,   35.60,6,    0.00,6,    2.53,6,   0.000,2,  -0.001,2,       0,2,  2325.0,2,  2426.9,2,   7.5914,6,    24.98,-999.000,9,-999.0000,9, -999.00,9,   1.4410, -999.00,9,  -999.0,9,  -999.0,-999.000,9,-999.000,    34.7,2, -999.00,9,     20.404,3, -999.00,9,-999.000,-999.0000, -999.00,     -999.0,     -999.0,9,     -999.0,     -999.0,9,     -999.0,  -999.0,9,     -999.0,     -999.0,9,     -999.0,   1.1379,    34.8559,2,-999.0000,2,     -999.0,9
33RO20150410,     P16N.1,      69,          2,          3,          3,2,20150429,       0016,     2.9957,  -151.0005,       5195,  4367.0,   1.3777,  34.6972,2,  34.6975,2,    168.6,2,   168.2,2,  135.00,6,   34.60,6,    0.00,6,    2.47,6,  -0.001,2,   0.001,2,       0,2,  2312.1,2,  2416.1,2,   7.6005,2,    25.00,-999.000,9,-999.0000,9, -999.00,9,   1.3778, -999.00,9,  -999.0,9,  -999.0,-999.000,9,-999.000,    36.0,2, -999.00,9,     20.190,3, -999.00,9,-999.000,-999.0000, -999.00,     -999.0,     -999.0,9,     -999.0,     -999.0,9,     -999.0,  -999.0,9,     -999.0,     -999.0,9,     -999.0,   1.0215,    34.8611,2,-999.0000,2,     -999.0,9
33RO20150410,     P16N.1,      69,          2,          2,          2,2,20150429,       0016,     2.9957,  -151.0005,       5195,  4864.5,   1.4201,  34.6977,2,  34.6977,2,    171.8,2,   170.7,2,  134.10,6,   34.50,6,    0.00,6,    2.45,6,   0.000,2,   0.002,2,       0,2,  2309.2,2,  2414.2,6,   7.6015,2,    25.00,-999.000,9,-999.0000,9, -999.00,9,   1.4202, -999.00,9,  -999.0,9,  -999.0,-999.000,9,-999.000,    37.1,2, -999.00,9,     19.766,3, -999.00,9,-999.000,-999.0000, -999.00,     -999.0,     -999.0,9,     -999.0,     -999.0,9,     -999.0,  -999.0,9,     -999.0,     -999.0,9,     -999.0,   1.0047,    34.8613,2,-999.0000,2,     -999.0,9
33RO20150410,     P16N.1,      69,          2,          1,          1,2,20150429,       0016,     2.9957,  -151.0005,       5195,  5183.9,   1.4586,  34.6978,2,  34.6996,2,    172.2,2,   170.7,2,  134.00,6,   34.40,6,    0.02,6,    2.46,6,   0.003,6,   0.001,6,       0,2,  2309.2,6,  2415.3,2,   7.6039,2,    25.00,-999.000,9,-999.0000,9, -999.00,9,   1.4585, -999.00,9,  -999.0,9,  -999.0,-999.000,9,-999.000,    37.1,2, -999.00,9,     19.764,3, -999.00,9,-999.000,-999.0000, -999.00,     -999.0,     -999.0,9,     -999.0,     -999.0,9,     -999.0,  -999.0,9,     -999.0,     -999.0,9,     -999.0,   1.0031,    34.8633,2,-999.0000,2,     -999.0,9