BOTTLE,20210709CCHSIOCBG
EXPOCODE,SECT_ID,STNNBR,CASTNO,SAMPNO,BTLNBR,BTLNBR_FLAG_W,DATE,TIME,LATITUDE,LONGITUDE,DEPTH,CTDPRS,CTDTMP,CTDSAL,CTDSAL_FLAG_W,SALNTY,SALNTY_FLAG_W,CTDOXY,CTDOXY_FLAG_W,OXYGEN,OXYGEN_FLAG_W,SILCAT,SILCAT_FLAG_W,NITRAT,NITRAT_FLAG_W,NITRIT,NITRIT_FLAG_W,PHSPHT,PHSPHT_FLAG_W,CFC-11,CFC-11_FLAG_W,CFC-12,CFC-12_FLAG_W,SF6,SF6_FLAG_W,TCARBN,TCARBN_FLAG_W,ALKALI,ALKALI_FLAG_W,PH_TOT,PH_TOT_FLAG_W,PH_TMP,TRITUM,TRITUM_FLAG_W,HELIUM,HELIUM_FLAG_W,DELHE3,DELHE3_FLAG_W,REFTMP,DELC13,DELC13_FLAG_W,DELC14,DELC14_FLAG_W,C14ERR,NEON,NEON_FLAG_W,NEONER,DOC,DOC_FLAG_W,TDN,TDN_FLAG_W,N2O,N2O_FLAG_W,ARGON,ARGON_FLAG_W,TRITER,HELIER,DELHER,ARGONER,KRYPTON,KRYPTON_FLAG_W,KRYPTONER,XENON,XENON_FLAG_W,XENONER,14C-DOC,14C-DOC_FLAG_W,14C-DOCERR,13C-DOC,13C-DOC_FLAG_W,13C-DOCERR,THETA,SALTREF,SALTREF_FLAG_W,SBE35,SBE35_FLAG_W,CHLORA,CHLORA_FLAG_W
,,,,,,,,,,,METERS,DBAR,ITS-90,PSS-78,,PSS-78,,UMOL/KG,,UMOL/KG,,UMOL/KG,,UMOL/KG,,UMOL/KG,,UMOL/KG,,PMOL/KG,,PMOL/KG,,FMOL/KG,,UMOL/KG,,UMOL/KG,,,,DEG C,TU,,NMOL/KG,,PERCNT,,DEG C,/MILLE,,/MILLE,,/MILLE,NMOL/KG,,NMOL/KG,UMOL/KG,,UMOL/KG,,NMOL/KG,,UMOL/KG,,TU,NMOL/KG,PERCNT,UMOL/KG,NMOL/KG,,NMOL/KG,NMOL/KG,,NMOL/KG,/MILLE,,/MILLE,/MILLE,,/MILLE,DEG C,G/KG,,ITS-90,,MG/M3,
33RO20150410,     P16N.1,       2,          1,         24,         24,2,20150411,       1239,   -15.9986,  -149.9996,       4333,     2.5,  29.1043,  35.8353,2,  35.8324,2,    192.7,2,   193.2,2,    1.20,2,    0.00,2,    0.00,2,    0.13,4,   1.324,3,   0.917,6,   1.235,6,  2001.5,2,  2357.6,6,   8.1181,2,    25.01,-999.000,9,-999.0000,9, -999.00,9,  29.1055, -999.00,9,  -999.0,9,  -999.0,-999.000,9,-999.000,  -999.0,9, -999.00,9,      5.758,3, -999.00,9,-999.000,-999.0000, -999.00,     -999.0,     -999.0,9,     -999.0,     -999.0,9,     -999.0,  -999.0,9,     -999.0,     -999.0,9,     -999.0,  29.1037,    36.0014,2,-999.0000,2,     -999.0,9
33RO20150410,     P16N.1,       2,          1,         23,         23,2,20150411,       1239,   -15.9986,  -149.9996,       4333,    25.1,  29.0955,  35.8323,2,  35.8314,2,    193.4,2,   193.6,2,    0.80,2,    0.00,2,    0.00,2,    0.12,4,-999.000,9,-999.000,9,-999.000,9,  2002.6,2,  2358.3,2,   8.1184,2,    25.00,-999.000,9,-999.0000,9, -999.00,9,  29.0944, -999.00,9,  -999.0,9,  -999.0,-999.000,9,-999.000,  -999.0,9, -999.00,9,     -999.0,9, -999.00,9,-999.000,-999.0000, -999.00,     -999.0,     -999.0,9,     -999.0,     -999.0,9,     -999.0,  -999.0,9,     -999.0,     -999.0,9,     -999.0,  29.0894,    36.0004,2,-999.0000,2,     -999.0,9
33RO20150410,     P16N.1,       2,          1,         22,         22,2,20150411,       1239,   -15.9986,  -149.9996,       4333,    50.6,  28.6431,  35.9456,2,  36.0006,2,    199.3,2,   200.0,2,    0.70,2,    0.00,2,    0.00,2,    0.17,4,   1.387,3,   0.959,2,   1.281,2,  2014.0,3,  2368.5,2,   8.1110,6,    25.01,-999.000,9,-999.0000,9, -999.00,9,  28.6392, -999.00,9,  -999.0,9,  -999.0,-999.000,9,-999.000,  -999.0,9, -999.00,9,      6.017,3, -999.00,9,-999.000,-999.0000, -999.00,     -999.0,     -999.0,9,     -999.0,     -999.0,9,     -999.0,  -999.0,9,     -999.0,     -999.0,9,     -999.0,  28.6309,    36.1703,2,-999.0000,2,     -999.0,9
33RO20150410,     P16N.1,       2,          1,         21,         21,2,20150411,       1239,   -15.9986,  -149.9996,       4333,    75.6,  26.5136,  36.2647,2,  36.2633,2,    195.4,2,   195.5,2,    1.00,2,    0.00,2,    0.01,2,    0.16,4,-999.000,9,-999.000,9,-999.000,9,  2049.9,3,  2387.1,2,   8.0786,6,    25.00,-999.000,9,-999.0000,9, -999.00,9,  26.5539, -999.00,9,  -999.0,9,  -999.0,-999.000,9,-999.000,  -999.0,9, -999.00,9,     -999.0,9, -999.00,9,-999.000,-999.0000, -999.00,     -999.0,     -999.0,9,     -999.0,     -999.0,9,     -999.0,  -999.0,9,     -999.0,     -999.0,9,     -999.0,  26.4964,    36.4343,2,-999.0000,2,     -999.0,9
33RO20150410,     P16N.1,       2,          1,         20,         20,2,20150411,       1239,   -15.9986,  -149.9996,       4333,   100.2,  25.2258,  36.2649,2,  36.2629,2,    184.4,2,   185.1,2,    0.70,2,    0.40,2,    0.33,2,    0.21,4,   1.571,3,   1.072,2,    1.31,2,  2086.4,3,  2387.1,2,   8.0464,6,    25.00,-999.000,9,-999.0000,9, -999.00,9,  25.2269, -999.00,9,  -999.0,9,  -999.0,-999.000,9,-999.000,  -999.0,9, -999.00,9,      6.651,3, -999.00,9,-999.000,-999.0000, -999.00,     -999.0,     -999.0,9,     -999.0,     -999.0,9,     -999.0,  -999.0,9,     -999.0,     -999.0,9,     -999.0,  25.2038,    36.4339,2,-999.0000,2,     -999.0,9
33RO20150410,     P16N.1,       2,          1,         19,         19,2,20150411,       1239,   -15.9986,  -149.9996,       4333,   126.1,  24.1184,  36.2329,2,  36.2370,2,    174.9,2,   174.6,2,    0.80,2,    2.00,2,    0.32,2,    0.27,4,-999.000,9,-999.000,9,-999.000,9,  2086.3,3,  2382.7,2,   8.0164,2,    25.00,-999.000,9,-999.0000,9, -999.00,9,  24.1323, -999.00,9,  -999.0,9,  -999.0,-999.000,9,-999.000,  -999.0,9, -999.00,9,     -999.0,9, -999.00,9,-999.000,-999.0000, -999.00,     -999.0,     -999.0,9,     -999.0,     -999.0,9,     -999.0,  -999.0,9,     -999.0,     -999.0,9,     -999.0,  24.0916,    36.4078,6,-999.0000,2,     -999.0,9
33RO20150410,     P16N.1,       2,          1,         18,         18,4,20150411,       1239,   -15.9986,  -149.9996,       4333,   174.6,  22.2352,  36.0766,2,  35.0977,4,    170.9,2,   146.8,4,   46.40,4,   19.90,4,    0.01,4,    1.50,4,   1.140,3,   0.714,4,   0.578,4,  2188.9,4,  2344.6,4,   7.7403,4,    25.00,-999.000,9,-999.0000,9, -999.00,9,  22.2302, -999.00,9,  -999.0,9,  -999.0,-999.000,9,-999.000,  -999.0,9, -999.00,9,     19.476,4, -999.00,9,-999.000,-999.0000, -999.00,     -999.0,     -999.0,9,     -999.0,     -999.0,9,     -999.0,  -999.0,9,     -999.0,     -999.0,9,     -999.0,  22.2004,    35.2632,4,-999.0000,2,     -999.0,9
33RO20150410,     P16N.1,       2,          1,         17,         17,2,20150411,       1239,   -15.9986,  -149.9996,       4333,   250.6,  18.8840,  35.5911,2,  35.5892,2,    170.2,2,   170.0,2,    1.70,2,    6.10,2,    0.01,2,    0.36,4,   2.070,3,   1.339,2,   1.227,2,  2112.2,2,  2341.4,2,   7.9015,2,    25.00,-999.000,9,-999.0000,9, -999.00,9,  18.8522, -999.00,9,  -999.0,9,  -999.0,-999.000,9,-999.000,  -999.0,9, -999.00,9,     10.717,3, -999.00,9,-999.000,-999.0000, -999.00,     -999.0,     -999.0,9,     -999.0,     -999.0,9,     -999.0,  -999.0,9,     -999.0,     -999.0,9,     -999.0,  18.8393,    35.7570,2,-999.0000,2,     -999.0,9
33RO20150410,     P16N.1,       2,          1,         16,         16,3,20150411,       1239,   -15.9986,  -149.9996,       4333,   324.6,  15.2956,  35.0797,2,  35.0793,2,    154.0,2,   154.4,2,    4.10,2,   11.60,2,    0.01,2,    0.62,4,-999.000,9,-999.000,9,-999.000,9,  -999.0,9,  -999.0,9,-999.0000,9,  -999.00,-999.000,9,-999.0000,9, -999.00,9,  15.2649, -999.00,9,  -999.0,9,  -999.0,-999.000,9,-999.000,  -999.0,9, -999.00,9,     -999.0,9, -999.00,9,-999.000,-999.0000, -999.00,     -999.0,     -999.0,9,     -999.0,     -999.0,9,     -999.0,  -999.0,9,     -999.0,     -999.0,9,     -999.0,  15.2456,    35.2447,6,-999.0000,2,     -999.0,9
33RO20150410,     P16N.1,       2,          1,         15,         15,2,20150411,       1239,   -15.9986,  -149.9996,       4333,   400.4,  11.0817,  34.6481,2,  34.6519,2,    123.5,2,   122.2,2,   11.90,2,   21.60,2,    0.01,2,    1.07,4,-999.000,9,-999.000,9,-999.000,9,  2180.8,2,  2290.1,2,   7.6399,2,    25.01,-999.000,9,-999.0000,9, -999.00,9,  11.0857, -999.00,9,  -999.0,9,  -999.0,-999.000,9,-999.000,  -999.0,9, -999.00,9,     -999.0,9, -999.00,9,-999.000,-999.0000, -999.00,     -999.0,     -999.0,9,     -999.0,     -999.0,9,     -999.0,  -999.0,9,     -999.0,     -999.0,9,     -999.0,  11.0318,    34.8153,2,-999.0000,2,     -999.0,9
33RO20150410,     P16N.1,       2,          1,         14,         14,2,20150411,       1239,   -15.9986,  -149.9996,       4333,   500.4,   8.5528,  34.5103,2,  34.5115,2,    120.9,2,   119.5,2,   19.70,2,   28.00,2,    0.01,2,    1.36,4,   1.113,3,   0.616,2,   0.319,2,  2205.3,2,  2287.3,2,   7.5727,2,    25.00,-999.000,9,-999.0000,9, -999.00,9,   8.5604, -999.00,9,  -999.0,9,  -999.0,-999.000,9,-999.000,  -999.0,9, -999.00,9,     32.388,3, -999.00,9,-999.000,-999.0000, -999.00,     -999.0,     -999.0,9,     -999.0,     -999.0,9,     -999.0,  -999.0,9,     -999.0,     -999.0,9,     -999.0,   8.4995,    34.6742,2,-999.0000,2,     -999.0,9
33RO20150410,     P16N.1,       2,          1,         13,         13,2,20150411,       1239,   -15.9986,  -149.9996,       4333,   649.3,   6.1506,  34.4618,2,  34.4616,2,    133.0,2,   133.7,2,   35.80,2,   32.80,2,    0.01,2,    1.73,4,-999.000,9,-999.000,9,-999.000,9,  2222.2,2,  2301.5,2,   7.5606,2,    25.00,-999.000,9,-999.0000,9, -999.00,9,   6.1449, -999.00,9,  -999.0,9,  -999.0,-999.000,9,-999.000,  -999.0,9, -999.00,9,     -999.0,9, -999.00,9,-999.000,-999.0000, -999.00,     -999.0,     -999.0,9,     -999.0,     -999.0,9,     -999.0,  -999.0,9,     -999.0,     -999.0,9,     -999.0,   6.0925,    34.6241,2,-999.0000,2,     -999.0,9
33RO20150410,     P16N.1,       2,          1,         12,         12,2,20150411,       1239,   -15.9986,  -149.9996,       4333,   799.8,   5.1314,  34.4700,2,  34.4711,2,    138.5,2,   139.2,2,   49.70,2,   34.10,2,    0.01,2,    1.97,4,   0.172,3,   0.100,2,       0,2,  2240.0,2,  2316.1,2,   7.5587,6,    25.00,-999.000,9,-999.0000,9, -999.00,9,   5.1328, -999.00,9,  -999.0,9,  -999.0,-999.000,9,-999.000,  -999.0,9, -999.00,9,     27.085,3, -999.00,9,-999.000,-999.0000, -999.00,     -999.0,     -999.0,9,     -999.0,     -999.0,9,     -999.0,  -999.0,9,     -999.0,     -999.0,9,     -999.0,   5.0652,    34.6336,2,-999.0000,2,     -999.0,9
33RO20150410,     P16N.1,       2,          1,         11,         11,2,20150411,       1239,   -15.9986,  -149.9996,       4333,   950.5,   4.3526,  34.4928,2,  34.4940,2,    139.4,2,   140.1,2,   63.70,2,   34.80,2,    0.01,2,    2.22,4,-999.000,9,-999.000,9,-999.000,9,  2260.6,3,  2331.9,2,   7.5569,2,    25.00,-999.000,9,-999.0000,9, -999.00,9,   4.3505, -999.00,9,  -999.0,9,  -999.0,-999.000,9,-999.000,  -999.0,9, -999.00,9,     -999.0,9, -999.00,9,-999.000,-999.0000, -999.00,     -999.0,     -999.0,9,     -999.0,     -999.0,9,     -999.0,  -999.0,9,     -999.0,     -999.0,9,     -999.0,   4.2785,    34.6567,2,-999.0000,2,     -999.0,9
33RO20150410,     P16N.1,       2,          1,         10,         10,2,20150411,       1239,   -15.9986,  -149.9996,       4333,  1099.6,   3.8671,  34.5188,2,  34.5175,2,    136.8,2,   137.5,2,   74.30,2,   35.40,2,    0.00,2,    2.40,4,   0.030,3,   0.016,2,       0,2,  2269.3,3,  2342.2,2,   7.5509,2,    25.00,-999.000,9,-999.0000,9, -999.00,9,   3.8665, -999.00,9,  -999.0,9,  -999.0,-999.000,9,-999.000,  -999.0,9, -999.00,9,     25.267,3, -999.00,9,-999.000,-999.0000, -999.00,     -999.0,     -999.0,9,     -999.0,     -999.0,9,     -999.0,  -999.0,9,     -999.0,     -999.0,9,     -999.0,   3.7842,    34.6803,2,-999.0000,2,     -999.0,9
33RO20150410,     P16N.1,       2,          1,          9,          9,2,20150411,       1239,   -15.9986,  -149.9996,       4333,  1300.7,   3.2362,  34.5489,2,  34.5494,2,    139.8,2,   141.3,2,   87.40,2,   35.70,2,    0.01,2,    2.60,4,-999.000,9,-999.000,9,-999.000,9,  2281.5,2,  2355.5,2,   7.5543,6,    25.01,-999.000,9,-999.0000,9, -999.00,9,   3.2383, -999.00,9,  -999.0,9,  -999.0,-999.000,9,-999.000,  -999.0,9, -999.00,9,     -999.0,9, -999.00,9,-999.000,-999.0000, -999.00,     -999.0,     -999.0,9,     -999.0,     -999.0,9,     -999.0,  -999.0,9,     -999.0,     -999.0,9,     -999.0,   3.1424,    34.7123,2,-999.0000,2,     -999.0,9
33RO20150410,     P16N.1,       2,          1,          8,          8,2,20150411,       1239,   -15.9986,  -149.9996,       4333,  1600.4,   2.6586,  34.5926,2,  34.5883,2,    143.1,2,   144.3,2,  102.00,2,   35.70,2,    0.01,2,    2.84,4,   0.001,3,   0.002,2,       0,2,  2290.9,2,  2372.4,2,   7.5583,2,    25.00,-999.000,9,-999.0000,9, -999.00,9,   2.6582, -999.00,9,  -999.0,9,  -999.0,-999.000,9,-999.000,  -999.0,9, -999.00,9,     23.025,3, -999.00,9,-999.000,-999.0000, -999.00,     -999.0,     -999.0,9,     -999.0,     -999.0,9,     -999.0,  -999.0,9,     -999.0,     -999.0,9,     -999.0,   2.5464,    34.7514,3,-999.0000,2,     -999.0,9
33RO20150410,     P16N.1,       2,          1,          7,          7,2,20150411,       1239,   -15.9986,  -149.9996,       4333,  2000.3,   2.1765,  34.6329,2,  34.6329,2,    148.2,2,   148.7,2,  115.70,2,   35.50,2,    0.00,2,    3.02,4,-999.000,9,-999.000,9,-999.000,9,  2303.3,2,  2387.4,2,   7.5666,2,    25.00,-999.000,9,-999.0000,9, -999.00,9,   2.1770, -999.00,9,  -999.0,9,  -999.0,-999.000,9,-999.000,  -999.0,9, -999.00,9,     -999.0,9, -999.00,9,-999.000,-999.0000, -999.00,     -999.0,     -999.0,9,     -999.0,     -999.0,9,     -999.0,  -999.0,9,     -999.0,     -999.0,9,     -999.0,   2.0373,    34.7962,2,-999.0000,2,     -999.0,9
33RO20150410,     P16N.1,       2,          1,          6,          6,2,20150411,       1239,   -15.9986,  -149.9996,       4333,  2399.8,   1.9164,  34.6566,2,  34.6561,2,    150.2,2,   151.0,2,  123.60,2,   35.50,2,    0.01,2,    3.15,4,-999.000,9,-999.000,9,-999.000,9,  2310.7,2,  2396.9,2,   7.5728,2,    25.00,-999.000,9,-999.0000,9, -999.00,9,   1.9161, -999.00,9,  -999.0,9,  -999.0,-999.000,9,-999.000,  -999.0,9, -999.00,9,     -999.0,9, -999.00,9,-999.000,-999.0000, -999.00,     -999.0,     -999.0,9,     -999.0,     -999.0,9,     -999.0,  -999.0,9,     -999.0,     -999.0,9,     -999.0,   1.7466,    34.8195,2,-999.0000,2,     -999.0,9
33RO20150410,     P16N.1,       2,          1,          5,          5,2,20150411,       1239,   -15.9986,  -149.9996,       4333,  2800.6,   1.7671,  34.6706,2,  34.6681,2,    155.4,2,   154.9,2,  127.60,2,   35.30,2,    0.00,2,    3.19,4,-999.000,9,-999.000,9,-999.000,9,  2313.9,2,  2400.6,2,   7.5790,2,    25.00,-999.000,9,-999.0000,9, -999.00,9,   1.7671, -999.00,9,  -999.0,9,  -999.0,-999.000,9,-999.000,  -999.0,9, -999.00,9,     -999.0,9, -999.00,9,-999.000,-999.0000, -999.00,     -999.0,     -999.0,9,     -999.0,     -999.0,9,     -999.0,  -999.0,9,     -999.0,     -999.0,9,     -999.0,   1.5635,    34.8316,2,-999.0000,2,     -999.0,9
33RO20150410,     P16N.1,       2,          1,          4,          4,2,20150411,       1239,   -15.9986,  -149.9996,       4333,  3200.9,   1.6102,  34.6801,2,  34.6787,2,    166.1,2,   166.4,2,  125.00,6,   34.50,6,    0.00,6,    3.11,4,-999.000,9,-999.000,9,-999.000,9,  2301.0,2,  2392.8,2,   7.5881,2,    25.01,-999.000,9,-999.0000,9, -999.00,9,   1.6103, -999.00,9,  -999.0,9,  -999.0,-999.000,9,-999.000,  -999.0,9, -999.00,9,     -999.0,9, -999.00,9,-999.000,-999.0000, -999.00,     -999.0,     -999.0,9,     -999.0,     -999.0,9,     -999.0,  -999.0,9,     -999.0,     -999.0,9,     -999.0,   1.3714,    34.8422,2,-999.0000,2,     -999.0,9
33RO20150410,     P16N.1,       2,          1,          3,          3,2,20150411,       1239,   -15.9986,  -149.9996,       4333,  3603.0,   1.4907,  34.6895,2,  34.6891,2,    174.9,2,   173.9,2,  124.10,6,   34.00,6,    0.00,6,    3.07,4,-999.000,9,-999.000,9,-999.000,9,  2294.8,2,  2388.3,6,   7.5924,2,    25.01,-999.000,9,-999.0000,9, -999.00,9,   1.4907, -999.00,9,  -999.0,9,  -999.0,-999.000,9,-999.000,  -999.0,9, -999.00,9,     -999.0,9, -999.00,9,-999.000,-999.0000, -999.00,     -999.0,     -999.0,9,     -999.0,     -999.0,9,     -999.0,  -999.0,9,     -999.0,     -999.0,9,     -999.0,   1.2141,    34.8527,2,-999.0000,2,     -999.0,9
33RO20150410,     P16N.1,       2,          1,          2,          2,2,20150411,       1239,   -15.9986,  -149.9996,       4333,  4001.7,   1.4644,  34.6937,2,  34.6923,2,    178.9,2,   178.3,2,  124.00,6,   33.70,6,    0.01,6,    3.06,4,-999.000,9,-999.000,9,-999.000,9,  2286.4,2,  2385.6,2,   7.5985,6,    25.01,-999.000,9,-999.0000,9, -999.00,9,   1.4643, -999.00,9,  -999.0,9,  -999.0,-999.000,9,-999.000,  -999.0,9, -999.00,9,     -999.0,9, -999.00,9,-999.000,-999.0000, -999.00,     -999.0,     -999.0,9,     -999.0,     -999.0,9,     -999.0,  -999.0,9,     -999.0,     -999.0,9,     -999.0,   1.1462,    34.8559,2,-999.0000,2,     -999.0,9
33RO20150410,     P16N.1,       2,          1,          1,          1,2,20150411,       1239,   -15.9986,  -149.9996,       4333,  4323.5,   1.4496,  34.6959,2,  34.6964,2,    182.0,2,   183.8,2,  123.60,6,   33.40,6,    0.01,6,    3.06,4,-999.000,9,-999.000,9,-999.000,9,  2285.8,2,  2385.1,2,   7.5975,2,    25.01,-999.000,9,-999.0000,9, -999.00,9,   1.4497, -999.00,9,  -999.0,9,  -999.0,-999.000,9,-999.000,  -999.0,9, -999.00,9,     -999.0,9, -999.00,9,-999.000,-999.0000, -999.00,     -999.0,     -999.0,9,     -999.0,     -999.0,9,     -999.0,  -999.0,9,     -999.0,     -999.0,9,     -999.0,   1.0962,    34.8600,2,-999.0000,2,     -999.0,9