BOTTLE,20210709CCHSIOCBG
EXPOCODE,SECT_ID,STNNBR,CASTNO,SAMPNO,BTLNBR,BTLNBR_FLAG_W,DATE,TIME,LATITUDE,LONGITUDE,DEPTH,CTDPRS,CTDTMP,CTDSAL,CTDSAL_FLAG_W,SALNTY,SALNTY_FLAG_W,CTDOXY,CTDOXY_FLAG_W,OXYGEN,OXYGEN_FLAG_W,SILCAT,SILCAT_FLAG_W,NITRAT,NITRAT_FLAG_W,NITRIT,NITRIT_FLAG_W,PHSPHT,PHSPHT_FLAG_W,CFC-11,CFC-11_FLAG_W,CFC-12,CFC-12_FLAG_W,SF6,SF6_FLAG_W,TCARBN,TCARBN_FLAG_W,ALKALI,ALKALI_FLAG_W,PH_TOT,PH_TOT_FLAG_W,PH_TMP,TRITUM,TRITUM_FLAG_W,HELIUM,HELIUM_FLAG_W,DELHE3,DELHE3_FLAG_W,REFTMP,DELC13,DELC13_FLAG_W,DELC14,DELC14_FLAG_W,C14ERR,NEON,NEON_FLAG_W,NEONER,DOC,DOC_FLAG_W,TDN,TDN_FLAG_W,N2O,N2O_FLAG_W,ARGON,ARGON_FLAG_W,TRITER,HELIER,DELHER,ARGONER,KRYPTON,KRYPTON_FLAG_W,KRYPTONER,XENON,XENON_FLAG_W,XENONER,14C-DOC,14C-DOC_FLAG_W,14C-DOCERR,13C-DOC,13C-DOC_FLAG_W,13C-DOCERR,THETA,SALTREF,SALTREF_FLAG_W,SBE35,SBE35_FLAG_W,CHLORA,CHLORA_FLAG_W
,,,,,,,,,,,METERS,DBAR,ITS-90,PSS-78,,PSS-78,,UMOL/KG,,UMOL/KG,,UMOL/KG,,UMOL/KG,,UMOL/KG,,UMOL/KG,,PMOL/KG,,PMOL/KG,,FMOL/KG,,UMOL/KG,,UMOL/KG,,,,DEG C,TU,,NMOL/KG,,PERCNT,,DEG C,/MILLE,,/MILLE,,/MILLE,NMOL/KG,,NMOL/KG,UMOL/KG,,UMOL/KG,,NMOL/KG,,UMOL/KG,,TU,NMOL/KG,PERCNT,UMOL/KG,NMOL/KG,,NMOL/KG,NMOL/KG,,NMOL/KG,/MILLE,,/MILLE,/MILLE,,/MILLE,DEG C,G/KG,,ITS-90,,MG/M3,
33RO20150410,     P16N.1,      96,          1,         24,         24,2,20150506,       2006,    14.5002,  -152.0014,       5694,    15.6,  26.0305,  34.2378,2,  34.2378,2,    199.2,2,   201.8,2,    1.10,2,    0.00,2,    0.00,2,    0.22,2,   1.595,6,   1.027,6,   1.372,6,  1950.1,6,  2255.6,2,   8.0694,2,    25.00,-999.000,9,-999.0000,9, -999.00,9,  26.0295, -999.00,9,  -999.0,9,  -999.0,-999.000,9,-999.000,  -999.0,9, -999.00,9,      6.224,3, -999.00,9,-999.000,-999.0000, -999.00,     -999.0,     -999.0,9,     -999.0,     -999.0,9,     -999.0,  -999.0,9,     -999.0,     -999.0,9,     -999.0,  26.0270,    34.3992,2,-999.0000,9,      0.089,2
33RO20150410,     P16N.1,      96,          1,         23,         23,2,20150506,       2006,    14.5002,  -152.0014,       5694,    33.9,  26.0273,  34.2386,2,  34.2394,2,    199.7,2,   203.2,2,    1.10,2,    0.00,2,    0.00,2,    0.23,2,   1.625,2,   1.026,2,   1.368,2,  1948.6,2,  2257.1,2,   8.0693,2,    25.00,-999.000,9,-999.0000,9, -999.00,9,  26.0258, -999.00,9,  -999.0,9,  -999.0,-999.000,9,-999.000,  -999.0,9, -999.00,9,      6.488,3, -999.00,9,-999.000,-999.0000, -999.00,     -999.0,     -999.0,9,     -999.0,     -999.0,9,     -999.0,  -999.0,9,     -999.0,     -999.0,9,     -999.0,  26.0198,    34.4008,2,-999.0000,9,      0.080,2
33RO20150410,     P16N.1,      96,          1,         22,         22,2,20150506,       2006,    14.5002,  -152.0014,       5694,    56.0,  26.0171,  34.2425,2,  34.2429,2,    202.6,2,   219.3,4,    1.10,2,    0.00,2,    0.00,2,    0.24,2,   1.617,2,   1.026,2,   1.385,2,  1949.5,2,  2256.9,2,   8.0692,6,    25.00,-999.000,9,-999.0000,9, -999.00,9,  26.0178, -999.00,9,  -999.0,9,  -999.0,-999.000,9,-999.000,  -999.0,9, -999.00,9,      6.440,3, -999.00,9,-999.000,-999.0000, -999.00,     -999.0,     -999.0,9,     -999.0,     -999.0,9,     -999.0,  -999.0,9,     -999.0,     -999.0,9,     -999.0,  26.0046,    34.4044,2,-999.0000,9,      0.084,2
33RO20150410,     P16N.1,      96,          1,         21,         21,2,20150506,       2006,    14.5002,  -152.0014,       5694,    83.4,  26.0127,  34.2481,2,  34.2502,2,    203.0,2,   209.8,2,    1.00,2,    0.00,2,    0.01,2,    0.24,2,   1.620,2,   1.027,2,    1.34,2,  1949.9,2,  2257.7,2,   8.0692,2,    24.98,-999.000,9,-999.0000,9, -999.00,9,  26.0138, -999.00,9,  -999.0,9,  -999.0,-999.000,9,-999.000,  -999.0,9, -999.00,9,      6.673,3, -999.00,9,-999.000,-999.0000, -999.00,     -999.0,     -999.0,9,     -999.0,     -999.0,9,     -999.0,  -999.0,9,     -999.0,     -999.0,9,     -999.0,  25.9941,    34.4117,2,-999.0000,9,      0.110,2
33RO20150410,     P16N.1,      96,          1,         20,         20,2,20150506,       2006,    14.5002,  -152.0014,       5694,   116.4,  22.5187,  34.9125,2,  34.9059,2,    216.4,2,   215.1,2,    1.50,2,    0.00,2,    0.01,2,    0.30,2,   1.993,2,   1.231,2,   1.497,2,  2032.8,2,  2310.0,6,   8.0014,2,    24.99,-999.000,9,-999.0000,9, -999.00,9,  22.5311, -999.00,9,  -999.0,9,  -999.0,-999.000,9,-999.000,  -999.0,9, -999.00,9,      9.319,3, -999.00,9,-999.000,-999.0000, -999.00,     -999.0,     -999.0,9,     -999.0,     -999.0,9,     -999.0,  -999.0,9,     -999.0,     -999.0,9,     -999.0,  22.4953,    35.0705,6,-999.0000,9,      0.299,2
33RO20150410,     P16N.1,      96,          1,         19,         19,2,20150506,       2006,    14.5002,  -152.0014,       5694,   175.5,  13.2362,  34.1852,2,  34.1828,2,    132.5,2,   132.7,2,   12.70,2,   14.80,2,    0.01,2,    1.37,2,   2.645,2,   1.515,2,   1.217,2,  2138.0,2,  2261.7,2,   7.6785,2,    24.98,-999.000,9,-999.0000,9, -999.00,9,  13.2158, -999.00,9,  -999.0,9,  -999.0,-999.000,9,-999.000,  -999.0,9, -999.00,9,     38.135,3, -999.00,9,-999.000,-999.0000, -999.00,     -999.0,     -999.0,9,     -999.0,     -999.0,9,     -999.0,  -999.0,9,     -999.0,     -999.0,9,     -999.0,  13.2120,    34.3440,2,-999.0000,2,      0.049,2
33RO20150410,     P16N.1,      96,          1,         18,         18,2,20150506,       2006,    14.5002,  -152.0014,       5694,   251.3,  10.3911,  34.4355,2,  34.4349,2,     43.5,2,    43.3,2,   30.90,2,   26.50,2,    0.00,2,    2.41,2,   1.486,2,   0.802,2,   0.382,2,  2240.2,2,  2286.8,2,   7.4458,2,    24.99,-999.000,9,-999.0000,9, -999.00,9,  10.3945, -999.00,9,  -999.0,9,  -999.0,-999.000,9,-999.000,  -999.0,9, -999.00,9,     38.580,3, -999.00,9,-999.000,-999.0000, -999.00,     -999.0,     -999.0,9,     -999.0,     -999.0,9,     -999.0,  -999.0,9,     -999.0,     -999.0,9,     -999.0,  10.3613,    34.5973,2,-999.0000,2,     -999.0,5
33RO20150410,     P16N.1,      96,          1,         17,         17,2,20150506,       2006,    14.5002,  -152.0014,       5694,   332.8,   9.0538,  34.4574,2,  34.4581,2,     21.0,2,    20.1,2,   40.30,2,   31.50,2,    0.00,2,    2.70,2,   0.663,6,   0.341,6,   0.109,6,  2271.2,2,  2297.8,2,   7.3825,6,    25.01,-999.000,9,-999.0000,9, -999.00,9,   9.0510, -999.00,9,  -999.0,9,  -999.0,-999.000,9,-999.000,  -999.0,9, -999.00,9,     40.817,3, -999.00,9,-999.000,-999.0000, -999.00,     -999.0,     -999.0,9,     -999.0,     -999.0,9,     -999.0,  -999.0,9,     -999.0,     -999.0,9,     -999.0,   9.0175,    34.6206,2,-999.0000,2,     -999.0,9
33RO20150410,     P16N.1,      96,          1,         16,         16,2,20150506,       2006,    14.5002,  -152.0014,       5694,   434.0,   8.0193,  34.4882,2,  34.4870,2,     10.4,2,    10.8,2,   48.90,2,   35.60,2,    0.00,2,    2.88,2,   0.187,2,   0.090,2,   0.021,2,  2289.2,6,  2307.6,2,   7.3605,2,    24.97,-999.000,9,-999.0000,9, -999.00,9,   8.0196, -999.00,9,  -999.0,9,  -999.0,-999.000,9,-999.000,  -999.0,9, -999.00,9,     53.633,3, -999.00,9,-999.000,-999.0000, -999.00,     -999.0,     -999.0,9,     -999.0,     -999.0,9,     -999.0,  -999.0,9,     -999.0,     -999.0,9,     -999.0,   7.9750,    34.6496,2,-999.0000,2,     -999.0,9
33RO20150410,     P16N.1,      96,          1,         15,         15,2,20150506,       2006,    14.5002,  -152.0014,       5694,   550.0,   6.8365,  34.4743,2,  34.4744,2,     16.2,2,    14.0,2,   61.00,2,   38.30,2,    0.00,2,    3.03,2,   0.053,2,   0.027,2,       0,2,  2304.1,2,  2321.8,2,   7.3557,2,    24.98,-999.000,9,-999.0000,9, -999.00,9,   6.8371, -999.00,9,  -999.0,9,  -999.0,-999.000,9,-999.000,  -999.0,9, -999.00,9,     53.201,3, -999.00,9,-999.000,-999.0000, -999.00,     -999.0,     -999.0,9,     -999.0,     -999.0,9,     -999.0,  -999.0,9,     -999.0,     -999.0,9,     -999.0,   6.7848,    34.6370,2,-999.0000,2,     -999.0,9
33RO20150410,     P16N.1,      96,          1,         14,         14,2,20150506,       2006,    14.5002,  -152.0014,       5694,   701.0,   5.8651,  34.4957,2,  34.4958,2,     22.8,2,    22.0,2,   72.20,2,   40.50,2,    0.00,2,    3.08,2,   0.015,2,   0.008,2,       0,2,  2317.3,2,  2336.7,2,   7.3641,6,    25.02,-999.000,9,-999.0000,9, -999.00,9,   5.8658, -999.00,9,  -999.0,9,  -999.0,-999.000,9,-999.000,  -999.0,9, -999.00,9,     52.779,3, -999.00,9,-999.000,-999.0000, -999.00,     -999.0,     -999.0,9,     -999.0,     -999.0,9,     -999.0,  -999.0,9,     -999.0,     -999.0,9,     -999.0,   5.8036,    34.6585,2,-999.0000,2,     -999.0,9
33RO20150410,     P16N.1,      96,          1,         13,         13,2,20150506,       2006,    14.5002,  -152.0014,       5694,   851.1,   5.1015,  34.5155,2,  34.5156,2,     24.6,2,    24.8,2,   83.70,2,   42.00,2,    0.00,2,    3.15,2,   0.006,2,   0.002,2,       0,2,  2330.2,2,  2350.9,2,   7.3625,2,    24.99,-999.000,9,-999.0000,9, -999.00,9,   5.1010, -999.00,9,  -999.0,9,  -999.0,-999.000,9,-999.000,  -999.0,9, -999.00,9,     50.713,3, -999.00,9,-999.000,-999.0000, -999.00,     -999.0,     -999.0,9,     -999.0,     -999.0,9,     -999.0,  -999.0,9,     -999.0,     -999.0,9,     -999.0,   5.0308,    34.6783,2,-999.0000,2,     -999.0,9
33RO20150410,     P16N.1,      96,          1,         12,         12,2,20150506,       2006,    14.5002,  -152.0014,       5694,   997.0,   4.4926,  34.5312,2,  34.5293,2,     38.1,2,    35.6,2,   93.70,2,   42.10,2,    0.00,2,    3.12,2,-999.000,9,-999.000,9,-999.000,9,  2336.9,2,  2362.6,2,   7.3794,2,    24.99,-999.000,9,-999.0000,9, -999.00,9,   4.4933, -999.00,9,  -999.0,9,  -999.0,-999.000,9,-999.000,  -999.0,9, -999.00,9,     -999.0,9, -999.00,9,-999.000,-999.0000, -999.00,     -999.0,     -999.0,9,     -999.0,     -999.0,9,     -999.0,  -999.0,9,     -999.0,     -999.0,9,     -999.0,   4.4134,    34.6921,2,-999.0000,2,     -999.0,9
33RO20150410,     P16N.1,      96,          1,         11,         11,2,20150506,       2006,    14.5002,  -152.0014,       5694,  1164.0,   3.8893,  34.5521,2,  34.5531,2,     49.2,2,    48.4,2,  105.00,2,   41.50,2,    0.00,2,    3.09,2,   0.001,2,  -0.002,2,       0,2,  2342.5,2,  2376.7,2,   7.4001,2,    24.98,-999.000,9,-999.0000,9, -999.00,9,   3.8903, -999.00,9,  -999.0,9,  -999.0,-999.000,9,-999.000,  -999.0,9, -999.00,9,     40.325,3, -999.00,9,-999.000,-999.0000, -999.00,     -999.0,     -999.0,9,     -999.0,     -999.0,9,     -999.0,  -999.0,9,     -999.0,     -999.0,9,     -999.0,   3.8007,    34.7161,2,-999.0000,2,     -999.0,9
33RO20150410,     P16N.1,      96,          1,         10,         10,2,20150506,       2006,    14.5002,  -152.0014,       5694,  1401.2,   3.2207,  34.5783,2,  34.5799,2,     60.1,2,    60.9,2,  118.70,2,   41.10,2,    0.00,2,    3.01,2,-999.000,9,-999.000,9,-999.000,9,  2351.4,2,  2391.5,2,   7.4191,2,    24.98,-999.000,9,-999.0000,9, -999.00,9,   3.2207, -999.00,9,  -999.0,9,  -999.0,-999.000,9,-999.000,  -999.0,9, -999.00,9,     -999.0,9, -999.00,9,-999.000,-999.0000, -999.00,     -999.0,     -999.0,9,     -999.0,     -999.0,9,     -999.0,  -999.0,9,     -999.0,     -999.0,9,     -999.0,   3.1186,    34.7429,2,-999.0000,2,     -999.0,9
33RO20150410,     P16N.1,      96,          1,          9,          9,2,20150506,       2006,    14.5002,  -152.0014,       5694,  1733.7,   2.4711,  34.6115,2,  34.6133,2,     78.2,2,   115.1,4,  135.00,2,   40.10,2,    0.00,2,    2.92,2,-999.000,9,-999.000,9,-999.000,9,  2357.1,2,  2409.9,2,   7.4507,2,    24.99,-999.000,9,-999.0000,9, -999.00,9,   2.4706, -999.00,9,  -999.0,9,  -999.0,-999.000,9,-999.000,  -999.0,9, -999.00,9,     -999.0,9, -999.00,9,-999.000,-999.0000, -999.00,     -999.0,     -999.0,9,     -999.0,     -999.0,9,     -999.0,  -999.0,9,     -999.0,     -999.0,9,     -999.0,   2.3502,    34.7765,2,-999.0000,2,     -999.0,9
33RO20150410,     P16N.1,      96,          1,          8,          8,2,20150506,       2006,    14.5002,  -152.0014,       5694,  2168.1,   1.9621,  34.6456,2,  34.6469,2,    101.5,2,   101.6,2,  143.10,2,   38.60,2,    0.00,2,    2.78,2,-999.000,9,-999.000,9,-999.000,9,  2354.1,2,  2422.9,2,   7.4960,6,    25.01,-999.000,9,-999.0000,9, -999.00,9,   1.9621, -999.00,9,  -999.0,9,  -999.0,-999.000,9,-999.000,  -999.0,9, -999.00,9,     -999.0,9, -999.00,9,-999.000,-999.0000, -999.00,     -999.0,     -999.0,9,     -999.0,     -999.0,9,     -999.0,  -999.0,9,     -999.0,     -999.0,9,     -999.0,   1.8119,    34.8103,2,-999.0000,2,     -999.0,9
33RO20150410,     P16N.1,      96,          1,          7,          7,2,20150506,       2006,    14.5002,  -152.0014,       5694,  2666.6,   1.7555,  34.6660,2,  34.6754,4,    114.5,2,   114.9,2,  146.10,2,   37.70,2,    0.00,2,    2.70,2,-999.000,9,-999.000,9,-999.000,9,  2353.0,2,  2429.3,2,   7.5238,2,    24.98,-999.000,9,-999.0000,9, -999.00,9,   1.7555, -999.00,9,  -999.0,9,  -999.0,-999.000,9,-999.000,  -999.0,9, -999.00,9,     -999.0,9, -999.00,9,-999.000,-999.0000, -999.00,     -999.0,     -999.0,9,     -999.0,     -999.0,9,     -999.0,  -999.0,9,     -999.0,     -999.0,9,     -999.0,   1.5645,    34.8389,3,-999.0000,2,     -999.0,9
33RO20150410,     P16N.1,      96,          1,          6,          6,2,20150506,       2006,    14.5002,  -152.0014,       5694,  3167.4,   1.6096,  34.6758,2,  34.6804,4,    124.5,2,   124.9,2,  149.80,2,   37.00,2,    0.00,2,    2.64,2,-999.000,9,-999.000,9,-999.000,9,  2348.5,2,  2431.5,2,   7.5414,2,    25.00,-999.000,9,-999.0000,9, -999.00,9,   1.6098, -999.00,9,  -999.0,9,  -999.0,-999.000,9,-999.000,  -999.0,9, -999.00,9,     -999.0,9, -999.00,9,-999.000,-999.0000, -999.00,     -999.0,     -999.0,9,     -999.0,     -999.0,9,     -999.0,  -999.0,9,     -999.0,     -999.0,9,     -999.0,   1.3741,    34.8439,3,-999.0000,2,     -999.0,9
33RO20150410,     P16N.1,      96,          1,          5,          5,2,20150506,       2006,    14.5002,  -152.0014,       5694,  3666.6,   1.5181,  34.6829,2,  34.6888,4,    138.1,2,   138.3,2,  147.00,2,   36.10,2,    0.00,2,    2.58,2,-999.000,9,-999.000,9,-999.000,9,  2339.5,2,  2429.5,2,   7.5621,6,    24.99,-999.000,9,-999.0000,9, -999.00,9,   1.5183, -999.00,9,  -999.0,9,  -999.0,-999.000,9,-999.000,  -999.0,9, -999.00,9,     -999.0,9, -999.00,9,-999.000,-999.0000, -999.00,     -999.0,     -999.0,9,     -999.0,     -999.0,9,     -999.0,  -999.0,9,     -999.0,     -999.0,9,     -999.0,   1.2342,    34.8524,3,-999.0000,2,     -999.0,9
33RO20150410,     P16N.1,      96,          1,          4,          4,2,20150506,       2006,    14.5002,  -152.0014,       5694,  4167.3,   1.4348,  34.6905,2,  34.6918,2,    155.4,2,   155.3,2,  137.20,6,   35.10,6,    0.00,6,    2.50,6,-999.000,9,-999.000,9,-999.000,9,  2322.6,2,  2420.3,2,   7.5838,6,    25.00,-999.000,9,-999.0000,9, -999.00,9,   1.4349, -999.00,9,  -999.0,9,  -999.0,-999.000,9,-999.000,  -999.0,9, -999.00,9,     -999.0,9, -999.00,9,-999.000,-999.0000, -999.00,     -999.0,     -999.0,9,     -999.0,     -999.0,9,     -999.0,  -999.0,9,     -999.0,     -999.0,9,     -999.0,   1.0993,    34.8554,2,-999.0000,2,     -999.0,9
33RO20150410,     P16N.1,      96,          1,          3,          3,2,20150506,       2006,    14.5002,  -152.0014,       5694,  4667.2,   1.4036,  34.6955,2,  34.6963,2,    166.2,2,   166.5,2,  131.10,6,   34.20,6,    0.00,6,    2.45,6,-999.000,9,-999.000,9,-999.000,9,  2308.8,2,  2410.1,6,   7.5938,2,    24.57,-999.000,9,-999.0000,9, -999.00,9,   1.4036, -999.00,9,  -999.0,9,  -999.0,-999.000,9,-999.000,  -999.0,9, -999.00,9,     -999.0,9, -999.00,9,-999.000,-999.0000, -999.00,     -999.0,     -999.0,9,     -999.0,     -999.0,9,     -999.0,  -999.0,9,     -999.0,     -999.0,9,     -999.0,   1.0121,    34.8600,6,-999.0000,2,     -999.0,9
33RO20150410,     P16N.1,      96,          1,          2,          2,2,20150506,       2006,    14.5002,  -152.0014,       5694,  5167.9,   1.4124,  34.6986,2,  34.6995,2,    173.3,2,   173.2,2,  127.40,2,   33.60,6,    0.00,6,    2.40,6,-999.000,9,-999.000,9,-999.000,9,  2301.1,2,  2403.8,2,-999.0000,5,   -10.00,-999.000,9,-999.0000,9, -999.00,9,   1.4126, -999.00,9,  -999.0,9,  -999.0,-999.000,9,-999.000,  -999.0,9, -999.00,9,     -999.0,9, -999.00,9,-999.000,-999.0000, -999.00,     -999.0,     -999.0,9,     -999.0,     -999.0,9,     -999.0,  -999.0,9,     -999.0,     -999.0,9,     -999.0,   0.9604,    34.8631,2,-999.0000,2,     -999.0,9
33RO20150410,     P16N.1,      96,          1,          1,          1,2,20150506,       2006,    14.5002,  -152.0014,       5694,  5683.6,   1.4755,  34.6989,2,  34.7003,2,    175.2,2,   173.7,2,  126.50,6,   33.70,6,    0.01,6,    2.40,6,-999.000,9,-999.000,9,-999.000,9,  2303.8,2,  2402.4,2,   7.5993,2,    24.76,-999.000,9,-999.0000,9, -999.00,9,   1.4753, -999.00,9,  -999.0,9,  -999.0,-999.000,9,-999.000,  -999.0,9, -999.00,9,     -999.0,9, -999.00,9,-999.000,-999.0000, -999.00,     -999.0,     -999.0,9,     -999.0,     -999.0,9,     -999.0,  -999.0,9,     -999.0,     -999.0,9,     -999.0,   0.9560,    34.8639,2,-999.0000,2,     -999.0,9