BOTTLE,20210709CCHSIOCBG
EXPOCODE,SECT_ID,STNNBR,CASTNO,SAMPNO,BTLNBR,BTLNBR_FLAG_W,DATE,TIME,LATITUDE,LONGITUDE,DEPTH,CTDPRS,CTDTMP,CTDSAL,CTDSAL_FLAG_W,SALNTY,SALNTY_FLAG_W,CTDOXY,CTDOXY_FLAG_W,OXYGEN,OXYGEN_FLAG_W,SILCAT,SILCAT_FLAG_W,NITRAT,NITRAT_FLAG_W,NITRIT,NITRIT_FLAG_W,PHSPHT,PHSPHT_FLAG_W,CFC-11,CFC-11_FLAG_W,CFC-12,CFC-12_FLAG_W,SF6,SF6_FLAG_W,TCARBN,TCARBN_FLAG_W,ALKALI,ALKALI_FLAG_W,PH_TOT,PH_TOT_FLAG_W,PH_TMP,TRITUM,TRITUM_FLAG_W,HELIUM,HELIUM_FLAG_W,DELHE3,DELHE3_FLAG_W,REFTMP,DELC13,DELC13_FLAG_W,DELC14,DELC14_FLAG_W,C14ERR,NEON,NEON_FLAG_W,NEONER,DOC,DOC_FLAG_W,TDN,TDN_FLAG_W,N2O,N2O_FLAG_W,ARGON,ARGON_FLAG_W,TRITER,HELIER,DELHER,ARGONER,KRYPTON,KRYPTON_FLAG_W,KRYPTONER,XENON,XENON_FLAG_W,XENONER,14C-DOC,14C-DOC_FLAG_W,14C-DOCERR,13C-DOC,13C-DOC_FLAG_W,13C-DOCERR,THETA,SALTREF,SALTREF_FLAG_W,SBE35,SBE35_FLAG_W,CHLORA,CHLORA_FLAG_W
,,,,,,,,,,,METERS,DBAR,ITS-90,PSS-78,,PSS-78,,UMOL/KG,,UMOL/KG,,UMOL/KG,,UMOL/KG,,UMOL/KG,,UMOL/KG,,PMOL/KG,,PMOL/KG,,FMOL/KG,,UMOL/KG,,UMOL/KG,,,,DEG C,TU,,NMOL/KG,,PERCNT,,DEG C,/MILLE,,/MILLE,,/MILLE,NMOL/KG,,NMOL/KG,UMOL/KG,,UMOL/KG,,NMOL/KG,,UMOL/KG,,TU,NMOL/KG,PERCNT,UMOL/KG,NMOL/KG,,NMOL/KG,NMOL/KG,,NMOL/KG,/MILLE,,/MILLE,/MILLE,,/MILLE,DEG C,G/KG,,ITS-90,,MG/M3,
33RO20150410,     P16N.1,      31,          1,         24,         24,2,20150419,       1809,    -3.2992,  -150.9998,       4815,    10.7,  28.5177,  35.2473,2,  35.2466,2,    199.4,2,   204.6,2,    1.90,2,    3.80,2,    0.16,2,    0.32,4,-999.000,9,-999.000,9,-999.000,9,  2016.4,6,  2317.4,2,   8.0364,2,    24.98,-999.000,9,-999.0000,9, -999.00,9,  28.5189, -999.00,9,  -999.0,9,  -999.0,-999.000,9,-999.000,  -999.0,9, -999.00,9,     -999.0,9, -999.00,9,-999.000,-999.0000, -999.00,     -999.0,     -999.0,9,     -999.0,     -999.0,9,     -999.0,  -272.0,2,        4.0,      -21.3,2,        0.2,  28.5151,    35.4128,2,-999.0000,2,      0.117,2
33RO20150410,     P16N.1,      31,          1,         23,         23,2,20150419,       1809,    -3.2992,  -150.9998,       4815,    25.5,  28.4760,  35.2528,2,  35.2615,2,    199.5,2,   200.1,2,    2.00,2,    3.90,2,    0.16,2,    0.34,4,-999.000,9,-999.000,9,-999.000,9,  -999.0,9,  -999.0,9,-999.0000,9,  -999.00,-999.000,9,-999.0000,9, -999.00,9,  28.4751, -999.00,9,  -999.0,9,  -999.0,-999.000,9,-999.000,  -999.0,9, -999.00,9,     -999.0,9, -999.00,9,-999.000,-999.0000, -999.00,     -999.0,     -999.0,9,     -999.0,     -999.0,9,     -999.0,  -999.0,9,     -999.0,     -999.0,9,     -999.0,  28.4699,    35.4278,2,-999.0000,2,      0.128,2
33RO20150410,     P16N.1,      31,          1,         22,         22,2,20150419,       1809,    -3.2992,  -150.9998,       4815,    50.6,  28.2490,  35.2412,2,  35.2452,2,    200.5,2,   200.7,2,    2.00,2,    3.90,2,    0.16,2,    0.30,4,-999.000,9,-999.000,9,-999.000,9,  -999.0,9,  -999.0,9,-999.0000,9,  -999.00,-999.000,9,-999.0000,9, -999.00,9,  28.2507, -999.00,9,  -999.0,9,  -999.0,-999.000,9,-999.000,  -999.0,9, -999.00,9,     -999.0,9, -999.00,9,-999.000,-999.0000, -999.00,     -999.0,     -999.0,9,     -999.0,     -999.0,9,     -999.0,  -999.0,9,     -999.0,     -999.0,9,     -999.0,  28.2370,    35.4114,2,-999.0000,2,      0.202,2
33RO20150410,     P16N.1,      31,          1,         21,         21,2,20150419,       1809,    -3.2992,  -150.9998,       4815,    74.7,  27.7017,  35.2564,2,  35.2627,2,    198.7,2,   199.2,2,    2.20,2,    4.70,2,    0.13,2,    0.37,4,-999.000,9,-999.000,9,-999.000,9,  -999.0,9,  -999.0,9,-999.0000,9,  -999.00,-999.000,9,-999.0000,9, -999.00,9,  27.6731, -999.00,9,  -999.0,9,  -999.0,-999.000,9,-999.000,  -999.0,9, -999.00,9,     -999.0,9, -999.00,9,-999.000,-999.0000, -999.00,     -999.0,     -999.0,9,     -999.0,     -999.0,9,     -999.0,  -999.0,9,     -999.0,     -999.0,9,     -999.0,  27.6842,    35.4290,2,-999.0000,2,      0.244,2
33RO20150410,     P16N.1,      31,          1,         20,         20,2,20150419,       1809,    -3.2992,  -150.9998,       4815,    99.7,  26.7070,  35.2120,2,  35.2125,2,    196.8,2,   197.3,2,    2.60,2,    5.40,2,    0.18,2,    0.47,4,-999.000,9,-999.000,9,-999.000,9,  -999.0,9,  -999.0,9,-999.0000,9,  -999.00,-999.000,9,-999.0000,9, -999.00,9,  26.7028, -999.00,9,  -999.0,9,  -999.0,-999.000,9,-999.000,  -999.0,9, -999.00,9,     -999.0,9, -999.00,9,-999.000,-999.0000, -999.00,     -999.0,     -999.0,9,     -999.0,     -999.0,9,     -999.0,  -999.0,9,     -999.0,     -999.0,9,     -999.0,  26.6843,    35.3785,2,-999.0000,2,      0.221,2
33RO20150410,     P16N.1,      31,          1,         19,         19,2,20150419,       1809,    -3.2992,  -150.9998,       4815,   150.1,  21.4518,  35.7477,2,  35.6315,4,    152.7,2,   133.4,2,    4.70,2,   11.50,2,    0.79,2,    0.88,4,-999.000,9,-999.000,9,-999.000,9,  -999.0,9,  -999.0,9,-999.0000,9,  -999.00,-999.000,9,-999.0000,9, -999.00,9,  21.4898, -999.00,9,  -999.0,9,  -999.0,-999.000,9,-999.000,  -999.0,9, -999.00,9,     -999.0,9, -999.00,9,-999.000,-999.0000, -999.00,     -999.0,     -999.0,9,     -999.0,     -999.0,9,     -999.0,  -999.0,9,     -999.0,     -999.0,9,     -999.0,  21.4225,    35.7995,2,-999.0000,2,      0.081,2
33RO20150410,     P16N.1,      31,          1,         18,         18,2,20150419,       1809,    -3.2992,  -150.9998,       4815,   216.8,  13.0062,  34.9239,2,  34.9270,2,     25.0,2,    23.9,2,   21.90,2,   30.90,2,    0.01,2,    1.89,4,-999.000,9,-999.000,9,-999.000,9,  -999.0,9,  -999.0,9,-999.0000,9,  -999.00,-999.000,9,-999.0000,9, -999.00,9,  13.0031, -999.00,9,  -999.0,9,  -999.0,-999.000,9,-999.000,  -999.0,9, -999.00,9,     -999.0,9, -999.00,9,-999.000,-999.0000, -999.00,     -999.0,     -999.0,9,     -999.0,     -999.0,9,     -999.0,  -999.0,9,     -999.0,     -999.0,9,     -999.0,  12.9764,    35.0917,2,-999.0000,2,      0.010,2
33RO20150410,     P16N.1,      31,          1,         17,         17,2,20150419,       1809,    -3.2992,  -150.9998,       4815,   300.0,  12.1285,  34.8694,2,  34.8698,2,     26.8,2,    26.7,2,   24.70,2,   31.50,2,    0.01,2,    1.92,4,-999.000,9,-999.000,9,-999.000,9,  -999.0,9,  -999.0,9,-999.0000,9,  -999.00,-999.000,9,-999.0000,9, -999.00,9,  12.1290, -999.00,9,  -999.0,9,  -999.0,-999.000,9,-999.000,  -999.0,9, -999.00,9,     -999.0,9, -999.00,9,-999.000,-999.0000, -999.00,     -999.0,     -999.0,9,     -999.0,     -999.0,9,     -999.0,  -999.0,9,     -999.0,     -999.0,9,     -999.0,  12.0890,    35.0342,2,-999.0000,2,     -999.0,9
33RO20150410,     P16N.1,      31,          1,         16,         16,2,20150419,       1809,    -3.2992,  -150.9998,       4815,   400.3,   9.9961,  34.7412,2,  34.7390,2,      6.0,2,     6.3,2,   34.50,2,   36.50,2,    0.01,2,    2.34,4,-999.000,9,-999.000,9,-999.000,9,  -999.0,9,  -999.0,9,-999.0000,9,  -999.00,-999.000,9,-999.0000,9, -999.00,9,  10.0015, -999.00,9,  -999.0,9,  -999.0,-999.000,9,-999.000,  -999.0,9, -999.00,9,     -999.0,9, -999.00,9,-999.000,-999.0000, -999.00,     -999.0,     -999.0,9,     -999.0,     -999.0,9,     -999.0,  -999.0,9,     -999.0,     -999.0,9,     -999.0,   9.9493,    34.9028,6,-999.0000,2,     -999.0,9
33RO20150410,     P16N.1,      31,          1,         15,         15,2,20150419,       1809,    -3.2992,  -150.9998,       4815,   500.9,   8.2503,  34.6361,2,  34.6352,2,     36.7,2,    37.7,2,   38.40,2,   38.30,2,    0.01,2,    2.35,4,-999.000,9,-999.000,9,-999.000,9,  -999.0,9,  -999.0,9,-999.0000,9,  -999.00,-999.000,9,-999.0000,9, -999.00,9,   8.2503, -999.00,9,  -999.0,9,  -999.0,-999.000,9,-999.000,  -999.0,9, -999.00,9,     -999.0,9, -999.00,9,-999.000,-999.0000, -999.00,     -999.0,     -999.0,9,     -999.0,     -999.0,9,     -999.0,  -999.0,9,     -999.0,     -999.0,9,     -999.0,   8.1979,    34.7986,2,-999.0000,2,     -999.0,9
33RO20150410,     P16N.1,      31,          1,         14,         14,2,20150419,       1809,    -3.2992,  -150.9998,       4815,   649.3,   6.6355,  34.5676,2,  34.5716,2,     52.8,2,    53.7,2,   51.70,2,   40.20,2,    0.01,2,    2.52,4,-999.000,9,-999.000,9,-999.000,9,  -999.0,9,  -999.0,9,-999.0000,9,  -999.00,-999.000,9,-999.0000,9, -999.00,9,   6.6374, -999.00,9,  -999.0,9,  -999.0,-999.000,9,-999.000,  -999.0,9, -999.00,9,     -999.0,9, -999.00,9,-999.000,-999.0000, -999.00,     -999.0,     -999.0,9,     -999.0,     -999.0,9,     -999.0,  -999.0,9,     -999.0,     -999.0,9,     -999.0,   6.5749,    34.7346,2,-999.0000,2,     -999.0,9
33RO20150410,     P16N.1,      31,          1,         13,         13,2,20150419,       1809,    -3.2992,  -150.9998,       4815,   800.1,   5.4034,  34.5459,2,  34.5454,2,     73.5,2,    72.8,2,   67.20,2,   40.00,2,    0.00,2,    2.59,4,-999.000,9,-999.000,9,-999.000,9,  -999.0,9,  -999.0,9,-999.0000,9,  -999.00,-999.000,9,-999.0000,9, -999.00,9,   5.4042, -999.00,9,  -999.0,9,  -999.0,-999.000,9,-999.000,  -999.0,9, -999.00,9,     -999.0,9, -999.00,9,-999.000,-999.0000, -999.00,     -999.0,     -999.0,9,     -999.0,     -999.0,9,     -999.0,  -999.0,9,     -999.0,     -999.0,9,     -999.0,   5.3354,    34.7083,2,-999.0000,2,     -999.0,9
33RO20150410,     P16N.1,      31,          1,         12,         12,2,20150419,       1809,    -3.2992,  -150.9998,       4815,   950.2,   4.6998,  34.5494,2,  34.5499,2,     81.2,2,    81.4,2,   79.40,2,   39.80,2,    0.01,2,    2.61,4,-999.000,9,-999.000,9,-999.000,9,  -999.0,9,  -999.0,9,-999.0000,9,  -999.00,-999.000,9,-999.0000,9, -999.00,9,   4.7052, -999.00,9,  -999.0,9,  -999.0,-999.000,9,-999.000,  -999.0,9, -999.00,9,     -999.0,9, -999.00,9,-999.000,-999.0000, -999.00,     -999.0,     -999.0,9,     -999.0,     -999.0,9,     -999.0,  -999.0,9,     -999.0,     -999.0,9,     -999.0,   4.6231,    34.7128,2,-999.0000,2,     -999.0,9
33RO20150410,     P16N.1,      31,          1,         11,         11,2,20150419,       1809,    -3.2992,  -150.9998,       4815,  1101.2,   4.0781,  34.5614,2,  34.5616,2,     90.0,2,    90.3,2,   91.90,2,   39.40,2,    0.00,2,    2.63,4,-999.000,9,-999.000,9,-999.000,9,  -999.0,9,  -999.0,9,-999.0000,9,  -999.00,-999.000,9,-999.0000,9, -999.00,9,   4.0758, -999.00,9,  -999.0,9,  -999.0,-999.000,9,-999.000,  -999.0,9, -999.00,9,     -999.0,9, -999.00,9,-999.000,-999.0000, -999.00,     -999.0,     -999.0,9,     -999.0,     -999.0,9,     -999.0,  -999.0,9,     -999.0,     -999.0,9,     -999.0,   3.9932,    34.7245,2,-999.0000,2,     -999.0,9
33RO20150410,     P16N.1,      31,          1,         10,         10,2,20150419,       1809,    -3.2992,  -150.9998,       4815,  1300.5,   3.5893,  34.5776,2,  34.5782,2,     93.1,2,    93.1,2,  103.00,2,   39.50,2,    0.00,2,    2.65,4,-999.000,9,-999.000,9,-999.000,9,  -999.0,9,  -999.0,9,-999.0000,9,  -999.00,-999.000,9,-999.0000,9, -999.00,9,   3.5888, -999.00,9,  -999.0,9,  -999.0,-999.000,9,-999.000,  -999.0,9, -999.00,9,     -999.0,9, -999.00,9,-999.000,-999.0000, -999.00,     -999.0,     -999.0,9,     -999.0,     -999.0,9,     -999.0,  -999.0,9,     -999.0,     -999.0,9,     -999.0,   3.4919,    34.7413,2,-999.0000,2,     -999.0,9
33RO20150410,     P16N.1,      31,          1,          9,          9,2,20150419,       1809,    -3.2992,  -150.9998,       4815,  1601.7,   2.9230,  34.6057,2,  34.6052,2,    100.0,2,    99.7,2,  118.90,2,   39.30,2,    0.01,2,    2.68,4,-999.000,9,-999.000,9,-999.000,9,  -999.0,9,  -999.0,9,-999.0000,9,  -999.00,-999.000,9,-999.0000,9, -999.00,9,   2.9238, -999.00,9,  -999.0,9,  -999.0,-999.000,9,-999.000,  -999.0,9, -999.00,9,     -999.0,9, -999.00,9,-999.000,-999.0000, -999.00,     -999.0,     -999.0,9,     -999.0,     -999.0,9,     -999.0,  -999.0,9,     -999.0,     -999.0,9,     -999.0,   2.8075,    34.7683,2,-999.0000,2,     -999.0,9
33RO20150410,     P16N.1,      31,          1,          8,          8,2,20150419,       1809,    -3.2992,  -150.9998,       4815,  2000.4,   2.2768,  34.6398,2,  34.6374,2,    113.6,2,   113.3,2,  134.60,2,   38.50,2,    0.01,2,    2.64,4,-999.000,9,-999.000,9,-999.000,9,  -999.0,9,  -999.0,9,-999.0000,9,  -999.00,-999.000,9,-999.0000,9, -999.00,9,   2.2759, -999.00,9,  -999.0,9,  -999.0,-999.000,9,-999.000,  -999.0,9, -999.00,9,     -999.0,9, -999.00,9,-999.000,-999.0000, -999.00,     -999.0,     -999.0,9,     -999.0,     -999.0,9,     -999.0,  -999.0,9,     -999.0,     -999.0,9,     -999.0,   2.1361,    34.8007,2,-999.0000,2,     -999.0,9
33RO20150410,     P16N.1,      31,          1,          7,          7,2,20150419,       1809,    -3.2992,  -150.9998,       4815,  2400.0,   1.9480,  34.6584,2,  34.6588,2,    123.9,2,   125.5,2,  140.50,2,   37.80,2,    0.01,2,    2.60,4,-999.000,9,-999.000,9,-999.000,9,  -999.0,9,  -999.0,9,-999.0000,9,  -999.00,-999.000,9,-999.0000,9, -999.00,9,   1.9478, -999.00,9,  -999.0,9,  -999.0,-999.000,9,-999.000,  -999.0,9, -999.00,9,     -999.0,9, -999.00,9,-999.000,-999.0000, -999.00,     -999.0,     -999.0,9,     -999.0,     -999.0,9,     -999.0,  -999.0,9,     -999.0,     -999.0,9,     -999.0,   1.7776,    34.8222,2,-999.0000,2,     -999.0,9
33RO20150410,     P16N.1,      31,          1,          6,          6,2,20150419,       1809,    -3.2992,  -150.9998,       4815,  2800.1,   1.7315,  34.6707,2,  34.6802,2,    136.2,2,   136.6,2,  142.10,2,   37.00,2,    0.01,2,    2.54,4,-999.000,9,-999.000,9,-999.000,9,  -999.0,9,  -999.0,9,-999.0000,9,  -999.00,-999.000,9,-999.0000,9, -999.00,9,   1.7312, -999.00,9,  -999.0,9,  -999.0,-999.000,9,-999.000,  -999.0,9, -999.00,9,     -999.0,9, -999.00,9,-999.000,-999.0000, -999.00,     -999.0,     -999.0,9,     -999.0,     -999.0,9,     -999.0,  -999.0,9,     -999.0,     -999.0,9,     -999.0,   1.5286,    34.8437,3,-999.0000,2,     -999.0,9
33RO20150410,     P16N.1,      31,          1,          5,          5,2,20150419,       1809,    -3.2992,  -150.9998,       4815,  3200.0,   1.6005,  34.6784,2,  34.6780,2,    141.3,2,   145.2,2,  142.70,2,   36.50,2,    0.01,2,    2.51,4,-999.000,9,-999.000,9,-999.000,9,  -999.0,9,  -999.0,9,-999.0000,9,  -999.00,-999.000,9,-999.0000,9, -999.00,9,   1.6007, -999.00,9,  -999.0,9,  -999.0,-999.000,9,-999.000,  -999.0,9, -999.00,9,     -999.0,9, -999.00,9,-999.000,-999.0000, -999.00,     -999.0,     -999.0,9,     -999.0,     -999.0,9,     -999.0,  -999.0,9,     -999.0,     -999.0,9,     -999.0,   1.3620,    34.8416,2,-999.0000,2,     -999.0,9
33RO20150410,     P16N.1,      31,          1,          4,          4,2,20150419,       1809,    -3.2992,  -150.9998,       4815,  3600.4,   1.5147,  34.6857,2,  34.6908,4,    152.4,2,   153.0,2,  143.10,6,   36.00,6,    0.01,6,    2.45,4,-999.000,9,-999.000,9,-999.000,9,  -999.0,9,  -999.0,9,-999.0000,9,  -999.00,-999.000,9,-999.0000,9, -999.00,9,   1.5145, -999.00,9,  -999.0,9,  -999.0,-999.000,9,-999.000,  -999.0,9, -999.00,9,     -999.0,9, -999.00,9,-999.000,-999.0000, -999.00,     -999.0,     -999.0,9,     -999.0,     -999.0,9,     -999.0,  -999.0,9,     -999.0,     -999.0,9,     -999.0,   1.2378,    34.8544,3,-999.0000,2,     -999.0,9
33RO20150410,     P16N.1,      31,          1,          3,          3,2,20150419,       1809,    -3.2992,  -150.9998,       4815,  3999.7,   1.4056,  34.6938,2,  34.6932,2,    166.3,2,   166.8,2,  138.20,6,   35.00,6,    0.00,6,    2.37,4,-999.000,9,-999.000,9,-999.000,9,  -999.0,9,  -999.0,9,-999.0000,9,  -999.00,-999.000,9,-999.0000,9, -999.00,9,   1.4058, -999.00,9,  -999.0,9,  -999.0,-999.000,9,-999.000,  -999.0,9, -999.00,9,     -999.0,9, -999.00,9,-999.000,-999.0000, -999.00,     -999.0,     -999.0,9,     -999.0,     -999.0,9,     -999.0,  -999.0,9,     -999.0,     -999.0,9,     -999.0,   1.0893,    34.8567,2,-999.0000,2,     -999.0,9
33RO20150410,     P16N.1,      31,          1,          2,          2,2,20150419,       1809,    -3.2992,  -150.9998,       4815,  4399.7,   1.3367,  34.6992,2,  34.7000,2,    181.6,2,   181.4,2,  129.20,6,   33.90,6,    0.01,6,    2.30,4,-999.000,9,-999.000,9,-999.000,9,  -999.0,9,  -999.0,9,-999.0000,9,  -999.00,-999.000,9,-999.0000,9, -999.00,9,   1.3365, -999.00,9,  -999.0,9,  -999.0,-999.000,9,-999.000,  -999.0,9, -999.00,9,     -999.0,9, -999.00,9,-999.000,-999.0000, -999.00,     -999.0,     -999.0,9,     -999.0,     -999.0,9,     -999.0,  -999.0,9,     -999.0,     -999.0,9,     -999.0,   0.9781,    34.8637,2,-999.0000,2,     -999.0,9
33RO20150410,     P16N.1,      31,          1,          1,          1,2,20150419,       1809,    -3.2992,  -150.9998,       4815,  4805.0,   1.3679,  34.6998,2,  34.7008,4,    184.1,2,   182.6,2,  128.90,6,   33.80,6,    0.01,6,    2.29,4,-999.000,9,-999.000,9,-999.000,9,  -999.0,9,  -999.0,9,-999.0000,9,  -999.00,-999.000,9,-999.0000,9, -999.00,9,   1.3679, -999.00,9,  -999.0,9,  -999.0,-999.000,9,-999.000,  -999.0,9, -999.00,9,     -999.0,9, -999.00,9,-999.000,-999.0000, -999.00,     -999.0,     -999.0,9,     -999.0,     -999.0,9,     -999.0,  -999.0,9,     -999.0,     -999.0,9,     -999.0,   0.9613,    34.8644,2,-999.0000,2,     -999.0,9