BOTTLE,20210709CCHSIOCBG
EXPOCODE,SECT_ID,STNNBR,CASTNO,SAMPNO,BTLNBR,BTLNBR_FLAG_W,DATE,TIME,LATITUDE,LONGITUDE,DEPTH,CTDPRS,CTDTMP,CTDSAL,CTDSAL_FLAG_W,SALNTY,SALNTY_FLAG_W,CTDOXY,CTDOXY_FLAG_W,OXYGEN,OXYGEN_FLAG_W,SILCAT,SILCAT_FLAG_W,NITRAT,NITRAT_FLAG_W,NITRIT,NITRIT_FLAG_W,PHSPHT,PHSPHT_FLAG_W,CFC-11,CFC-11_FLAG_W,CFC-12,CFC-12_FLAG_W,SF6,SF6_FLAG_W,TCARBN,TCARBN_FLAG_W,ALKALI,ALKALI_FLAG_W,PH_TOT,PH_TOT_FLAG_W,PH_TMP,TRITUM,TRITUM_FLAG_W,HELIUM,HELIUM_FLAG_W,DELHE3,DELHE3_FLAG_W,REFTMP,DELC13,DELC13_FLAG_W,DELC14,DELC14_FLAG_W,C14ERR,NEON,NEON_FLAG_W,NEONER,DOC,DOC_FLAG_W,TDN,TDN_FLAG_W,N2O,N2O_FLAG_W,ARGON,ARGON_FLAG_W,TRITER,HELIER,DELHER,ARGONER,KRYPTON,KRYPTON_FLAG_W,KRYPTONER,XENON,XENON_FLAG_W,XENONER,14C-DOC,14C-DOC_FLAG_W,14C-DOCERR,13C-DOC,13C-DOC_FLAG_W,13C-DOCERR,THETA,SALTREF,SALTREF_FLAG_W,SBE35,SBE35_FLAG_W,CHLORA,CHLORA_FLAG_W
,,,,,,,,,,,METERS,DBAR,ITS-90,PSS-78,,PSS-78,,UMOL/KG,,UMOL/KG,,UMOL/KG,,UMOL/KG,,UMOL/KG,,UMOL/KG,,PMOL/KG,,PMOL/KG,,FMOL/KG,,UMOL/KG,,UMOL/KG,,,,DEG C,TU,,NMOL/KG,,PERCNT,,DEG C,/MILLE,,/MILLE,,/MILLE,NMOL/KG,,NMOL/KG,UMOL/KG,,UMOL/KG,,NMOL/KG,,UMOL/KG,,TU,NMOL/KG,PERCNT,UMOL/KG,NMOL/KG,,NMOL/KG,NMOL/KG,,NMOL/KG,/MILLE,,/MILLE,/MILLE,,/MILLE,DEG C,G/KG,,ITS-90,,MG/M3,
33RO20150410,     P16N.1,     103,          2,         24,         24,2,20150509,       0051,    18.0002,  -152.0005,       5218,     5.7,  25.4291,  34.4563,2,  34.4589,2,    204.2,2,   204.6,2,    1.00,2,    0.00,2,    0.00,2,    0.23,2,   1.709,2,   1.052,2,   1.375,2,  1961.8,6,  2271.4,2,   8.0646,2,    25.01,   0.394,2,   1.7104,2,   -0.68,2,  25.4300, -999.00,9,  -999.0,9,  -999.0,   6.719,2,   0.017,    73.4,2,    4.10,2,      6.400,3,   10.25,2,   0.003,   0.0044,    0.20,       0.02,       2.22,2,       0.01,     -999.0,9,     -999.0,  -999.0,9,     -999.0,     -999.0,9,     -999.0,  25.4279,    34.6214,2,-999.0000,9,      0.065,2
33RO20150410,     P16N.1,     103,          2,         23,         23,2,20150509,       0051,    18.0002,  -152.0005,       5218,    19.8,  25.4364,  34.4559,2,  34.4564,2,    204.6,2,   204.4,2,    1.00,2,    0.00,2,    0.01,2,    0.23,2,   1.706,2,   1.053,2,   1.434,2,  1961.2,2,  2271.6,2,   8.0648,6,    24.99,-999.000,9,-999.0000,9, -999.00,9,  25.4347, -999.00,9,  -999.0,9,  -999.0,-999.000,9,-999.000,    73.2,2,    4.60,2,      6.429,3, -999.00,9,-999.000,-999.0000, -999.00,     -999.0,     -999.0,9,     -999.0,     -999.0,9,     -999.0,  -999.0,9,     -999.0,     -999.0,9,     -999.0,  25.4321,    34.6189,2,-999.0000,9,      0.065,2
33RO20150410,     P16N.1,     103,          2,         22,         22,2,20150509,       0051,    18.0002,  -152.0005,       5218,    42.8,  25.3316,  34.4585,2,  34.4619,2,    204.3,2,   204.1,2,    1.00,2,    0.00,2,    0.01,2,    0.24,2,   1.699,2,   1.050,2,   1.409,2,  1961.2,2,  2271.2,2,   8.0650,6,    25.00,   0.389,2,   1.7125,6,   -1.23,6,  25.3328, -999.00,9,  -999.0,9,  -999.0,   6.720,6,   0.014,    73.1,2,    4.30,2,      6.371,3,   10.26,6,   0.002,   0.0350,    0.14,       0.14,       2.21,6,       0.00,       0.29,6,       0.00,  -999.0,9,     -999.0,     -999.0,9,     -999.0,  25.3223,    34.6244,2,-999.0000,9,      0.076,2
33RO20150410,     P16N.1,     103,          2,         21,         21,2,20150509,       0051,    18.0002,  -152.0005,       5218,    67.1,  24.6320,  35.1033,2,  35.1113,2,    210.6,2,   210.2,2,    1.10,2,    0.00,2,    0.00,2,    0.19,2,   1.781,2,   1.091,2,   1.454,2,  1994.5,2,  2315.0,6,   8.0640,6,    25.00,-999.000,9,-999.0000,9, -999.00,9,  24.6327, -999.00,9,  -999.0,9,  -999.0,-999.000,9,-999.000,    74.7,2, -999.00,9,      6.737,3, -999.00,9,-999.000,-999.0000, -999.00,     -999.0,     -999.0,9,     -999.0,     -999.0,9,     -999.0,  -999.0,9,     -999.0,     -999.0,9,     -999.0,  24.6176,    35.2769,2,-999.0000,9,      0.101,2
33RO20150410,     P16N.1,     103,          2,         20,         20,2,20150509,       0051,    18.0002,  -152.0005,       5218,    92.3,  23.9277,  35.2093,2,  35.2167,2,    211.9,2,   212.4,2,    1.10,2,    0.00,2,    0.00,2,    0.18,2,   1.830,2,   1.121,2,   1.423,2,  2005.2,2,  2320.5,2,   8.0560,2,    24.97,   0.422,2,   1.7078,2,   -0.94,2,  23.9265, -999.00,9,  -999.0,9,  -999.0,   6.758,2,   0.017,    76.2,3, -999.00,9,      6.787,3,   10.54,2,   0.005,   0.0044,    0.20,       0.02,       2.29,2,       0.01,       0.31,2,       0.00,  -999.0,9,     -999.0,     -999.0,9,     -999.0,  23.9083,    35.3827,2,-999.0000,9,      0.202,2
33RO20150410,     P16N.1,     103,          2,         19,         19,2,20150509,       0051,    18.0002,  -152.0005,       5218,   132.7,  22.3760,  35.3156,2,  35.3134,2,    204.0,2,   202.8,2,    1.30,2,    0.00,2,    0.02,2,    0.19,2,   1.969,2,   1.187,2,   1.503,2,  2035.3,2,  2327.6,2,   8.0156,2,    24.99,   0.435,2,   1.7269,2,   -1.24,2,  22.3731, -999.00,9,  -999.0,9,  -999.0,   6.858,2,   0.017,    67.1,2,    3.70,2,      7.421,3,   10.83,2,   0.003,   0.0045,    0.20,       0.02,       2.36,2,       0.01,       0.32,2,       0.00,  -999.0,9,     -999.0,     -999.0,9,     -999.0,  22.3494,    35.4800,2,-999.0000,9,      0.302,2
33RO20150410,     P16N.1,     103,          2,         18,         18,2,20150509,       0051,    18.0002,  -152.0005,       5218,   199.6,  17.0693,  34.6670,2,  34.6711,2,    186.6,2,   185.4,2,    4.20,2,    4.80,2,    0.02,2,    0.51,2,   2.495,6,   1.475,6,   1.532,6,  2071.9,2,  2284.4,2,   7.8773,2,    24.98,   0.476,2,   1.7502,2,   -0.06,2,  17.0693, -999.00,9,  -999.0,9,  -999.0,   7.138,2,   0.018,    54.4,2,    8.20,2,     12.264,3,   12.02,2,   0.003,   0.0046,    0.20,       0.02,       2.70,2,       0.01,       0.37,2,       0.00,  -999.0,9,     -999.0,     -999.0,9,     -999.0,  17.0363,    34.8346,2,-999.0000,9,      0.006,2
33RO20150410,     P16N.1,     103,          2,         17,         17,2,20150509,       0051,    18.0002,  -152.0005,       5218,   273.0,  10.8062,  34.1904,2,  34.1887,2,    146.5,2,   139.5,2,   20.20,2,   19.60,2,    0.01,2,    1.60,2,   2.855,2,   1.560,2,   1.087,2,  2153.2,2,  2262.0,2,   7.6366,6,    25.00,   0.393,2,   1.7960,2,    3.07,2,  10.8032, -999.00,9,  -999.0,9,  -999.0,   7.524,2,   0.019,    46.2,2,   22.10,2,     30.824,3,   13.64,2,   0.003,   0.0047,    0.20,       0.03,       3.14,2,       0.01,       0.45,2,       0.00,  -999.0,9,     -999.0,     -999.0,9,     -999.0,  10.7731,    34.3499,2,-999.0000,9,     -999.0,9
33RO20150410,     P16N.1,     103,          2,         16,         16,2,20150509,       0051,    18.0002,  -152.0005,       5218,   367.9,   8.0920,  34.1549,2,  34.1522,2,     99.3,2,    98.5,2,   41.10,2,   28.90,2,    0.01,2,    2.20,2,   2.134,2,   1.089,2,   0.549,2,  2212.3,2,  2278.3,2,   7.5009,2,    24.98,   0.316,2,   1.8307,6,   11.11,6,   8.0979, -999.00,9,  -999.0,9,  -999.0,   7.734,6,   0.014,    44.3,2, -999.00,9,     31.298,3,   14.48,6,   0.006,   0.0350,    0.14,       0.02,       3.40,6,       0.01,       0.50,6,       0.00,  -999.0,9,     -999.0,     -999.0,9,     -999.0,   8.0546,    34.3133,6,-999.0000,9,     -999.0,9
33RO20150410,     P16N.1,     103,          2,         15,         15,2,20150509,       0051,    18.0002,  -152.0005,       5218,   466.0,   7.4819,  34.3788,2,  34.3792,2,     24.9,2,    25.5,2,   53.80,2,   36.30,2,    0.01,2,    2.82,2,   0.418,2,   0.210,2,   0.053,2,  2280.0,2,  2303.8,2,   7.3688,2,    24.98,   0.138,6,   1.8198,2,   12.35,2,   7.4850, -999.00,9,  -999.0,9,  -999.0,   7.683,2,   0.019,    41.0,2, -999.00,9,     47.510,3,   14.62,2,   0.004,   0.0047,    0.20,       0.03,       3.45,2,       0.01,       0.51,2,       0.00,  -999.0,9,     -999.0,     -999.0,9,     -999.0,   7.4362,    34.5413,2,-999.0000,9,     -999.0,9
33RO20150410,     P16N.1,     103,          2,         14,         14,2,20150509,       0051,    18.0002,  -152.0005,       5218,   597.9,   6.3963,  34.4149,2,  34.4152,2,     24.5,2,    24.3,2,   66.80,2,   39.30,2,    0.00,2,    2.97,2,   0.139,2,   0.067,2,       0,2,  2299.1,2,  2320.8,2,   7.3628,2,    24.98,   0.063,2,   1.8367,2,   11.88,2,   6.3962, -999.00,9,  -999.0,9,  -999.0,   7.743,2,   0.019,    39.8,2, -999.00,9,     49.955,3,   14.92,2,   0.003,   0.0048,    0.20,       0.03,       3.57,2,       0.01,     -999.0,9,     -999.0,  -999.0,9,     -999.0,     -999.0,9,     -999.0,   6.3419,    34.5774,2,-999.0000,9,     -999.0,9
33RO20150410,     P16N.1,     103,          2,         13,         13,2,20150509,       0051,    18.0002,  -152.0005,       5218,   740.6,   5.4874,  34.4485,2,  34.4478,2,     31.7,2,    30.7,2,   79.90,2,   41.00,2,    0.01,2,    3.02,2,   0.052,2,   0.027,2,   0.032,3,  2312.9,2,  2338.5,2,   7.3731,2,    24.99,   0.031,2,   1.8726,2,   13.28,2,   5.4857, -999.00,9,  -999.0,9,  -999.0,   7.864,2,   0.020,    40.7,2, -999.00,9,     48.979,3,   15.21,2,   0.002,   0.0049,    0.20,       0.03,       3.61,2,       0.01,       0.54,2,       0.00,  -999.0,9,     -999.0,     -999.0,9,     -999.0,   5.4244,    34.6102,2,-999.0000,9,     -999.0,9
33RO20150410,     P16N.1,     103,          2,         12,         12,2,20150509,       0051,    18.0002,  -152.0005,       5218,   900.0,   4.8374,  34.4926,2,  34.4923,2,     33.4,2,    33.1,2,   91.10,2,   42.30,2,    0.01,2,    3.10,2,   0.024,3,   0.009,2,       0,2,  2871.6,4,  2353.1,2,   7.3735,6,    25.01,   0.004,2,   1.8716,2,   16.74,2,   4.8370, -999.00,9,  -999.0,9,  -999.0,   7.863,2,   0.020,    37.8,2, -999.00,9,     46.356,3,   15.44,2,   0.002,   0.0049,    0.20,       0.03,       3.66,2,       0.01,     -999.0,9,     -999.0,  -999.0,9,     -999.0,     -999.0,9,     -999.0,   4.7642,    34.6550,2,-999.0000,9,     -999.0,9
33RO20150410,     P16N.1,     103,          2,         11,         11,2,20150509,       0051,    18.0002,  -152.0005,       5218,  1047.0,   4.3434,  34.5184,2,  34.5188,2,     38.5,2,    38.7,2,  100.30,2,   42.60,2,    0.01,2,    3.11,2,   0.004,2,   0.004,2,       0,2,  2336.7,2,  2363.3,2,   7.3800,2,    24.97,  -0.001,2,   1.9098,2,   21.71,2,   4.3444, -999.00,9,  -999.0,9,  -999.0,   7.929,2,   0.020,    44.9,3, -999.00,9,     44.331,3,   15.60,2,   0.001,   0.0050,    0.20,       0.03,       3.70,2,       0.01,       0.55,2,       0.00,  -999.0,9,     -999.0,     -999.0,9,     -999.0,   4.2610,    34.6816,6,-999.0000,9,     -999.0,9
33RO20150410,     P16N.1,     103,          2,         10,         10,2,20150509,       0051,    18.0002,  -152.0005,       5218,  1231.8,   3.6903,  34.5466,2,  34.5473,2,     46.4,2,    46.2,2,  113.80,2,   42.50,2,    0.01,2,    3.09,2,  -0.001,2,   0.001,2,       0,2,  2349.0,2,  2380.3,2,   7.3913,2,    24.98,  -0.004,2,   1.8995,2,   27.71,2,   3.6918, -999.00,9,  -999.0,9,  -999.0,   7.960,2,   0.020,    35.6,2, -999.00,9,     41.704,3,   15.80,2,   0.002,   0.0049,    0.20,       0.03,       3.80,2,       0.01,       0.57,2,       0.00,  -999.0,9,     -999.0,     -999.0,9,     -999.0,   3.5978,    34.7102,2,-999.0000,9,     -999.0,9
33RO20150410,     P16N.1,     103,          2,          9,          9,2,20150509,       0051,    18.0002,  -152.0005,       5218,  1500.1,   2.9306,  34.5843,2,  34.5853,2,     63.4,2,    63.7,2,  130.00,2,   41.70,2,    0.01,2,    3.00,2,  -0.002,2,   0.000,2,       0,2,  2355.2,2,  2397.1,2,   7.4217,2,    25.04,  -0.002,2,   1.9125,2,   23.15,2,   2.9312, -999.00,9,  -999.0,9,  -999.0,   7.988,2,   0.020,    34.7,2, -999.00,9,     34.589,3,   16.06,2,   0.002,   0.0050,    0.20,       0.03,       3.85,2,       0.01,       0.58,2,       0.00,  -999.0,9,     -999.0,     -999.0,9,     -999.0,   2.8235,    34.7484,2,-999.0000,9,     -999.0,9
33RO20150410,     P16N.1,     103,          2,          8,          8,2,20150509,       0051,    18.0002,  -152.0005,       5218,  1867.6,   2.3032,  34.6181,2,  34.6292,4,     83.3,2,    83.0,2,  143.70,2,   40.50,2,    0.00,2,    2.88,2,  -0.003,2,   0.000,2,       0,2,  2357.9,2,  2412.1,2,   7.4569,2,    25.02,   0.009,2,   1.9222,2,   23.68,2,   2.3033, -999.00,9,  -999.0,9,  -999.0,   8.066,2,   0.020,    35.7,2, -999.00,9,     29.992,3,   16.30,2,   0.002,   0.0050,    0.20,       0.03,       3.93,2,       0.01,       0.59,2,       0.00,  -999.0,9,     -999.0,     -999.0,9,     -999.0,   2.1734,    34.7925,3,-999.0000,9,     -999.0,9
33RO20150410,     P16N.1,     103,          2,          7,          7,2,20150509,       0051,    18.0002,  -152.0005,       5218,  2233.5,   1.9382,  34.6438,2,  34.6437,2,    101.0,2,   101.2,2,  149.40,2,   39.10,2,    0.01,2,    2.79,2,  -0.005,2,   0.000,2,   0.059,3,  2353.5,2,  2420.7,2,   7.4921,2,    25.01,-999.000,9,-999.0000,9, -999.00,9,   1.9383, -999.00,9,  -999.0,9,  -999.0,-999.000,9,-999.000,    36.8,2, -999.00,9,     26.091,3, -999.00,9,-999.000,-999.0000, -999.00,     -999.0,     -999.0,9,     -999.0,     -999.0,9,     -999.0,  -999.0,9,     -999.0,     -999.0,9,     -999.0,   1.7827,    34.8071,2,-999.0000,9,     -999.0,9
33RO20150410,     P16N.1,     103,          2,          6,          6,2,20150509,       0051,    18.0002,  -152.0005,       5218,  2730.6,   1.7292,  34.6622,2,  34.6634,2,    114.5,2,   114.9,2,  152.50,2,   38.50,2,    0.00,2,    2.69,2,-999.000,9,-999.000,9,-999.000,9,  2348.1,2,  2425.9,2,   7.5196,2,    24.99,-999.000,9,-999.0000,9, -999.00,9,   1.7293, -999.00,9,  -999.0,9,  -999.0,-999.000,9,-999.000,    38.0,2, -999.00,9,     -999.0,9, -999.00,9,-999.000,-999.0000, -999.00,     -999.0,     -999.0,9,     -999.0,     -999.0,9,     -999.0,  -999.0,9,     -999.0,     -999.0,9,     -999.0,   1.5329,    34.8269,2,-999.0000,9,     -999.0,9
33RO20150410,     P16N.1,     103,          2,          5,          5,2,20150509,       0051,    18.0002,  -152.0005,       5218,  3233.1,   1.5895,  34.6738,2,  34.6745,2,    125.6,2,   125.8,2,  154.70,2,   37.80,2,    0.01,2,    2.65,2,   0.000,2,   0.000,2,       0,2,  2344.5,2,  2428.5,2,   7.5394,2,    25.00,-999.000,9,-999.0000,9, -999.00,9,   1.5896, -999.00,9,  -999.0,9,  -999.0,-999.000,9,-999.000,    35.9,2, -999.00,9,     22.196,3, -999.00,9,-999.000,-999.0000, -999.00,     -999.0,     -999.0,9,     -999.0,     -999.0,9,     -999.0,  -999.0,9,     -999.0,     -999.0,9,     -999.0,   1.3480,    34.8380,2,-999.0000,9,     -999.0,9
33RO20150410,     P16N.1,     103,          2,          4,          4,2,20150509,       0051,    18.0002,  -152.0005,       5218,  3731.6,   1.4986,  34.6816,2,  34.6901,4,    138.7,2,   138.9,2,  152.40,6,   36.90,6,    0.01,6,    2.58,6,-999.000,9,-999.000,9,-999.000,9,  2334.6,2,  2425.6,6,   7.5586,2,    24.99,-999.000,9,-999.0000,9, -999.00,9,   1.4988, -999.00,9,  -999.0,9,  -999.0,-999.000,9,-999.000,    36.4,2, -999.00,9,     -999.0,9, -999.00,9,-999.000,-999.0000, -999.00,     -999.0,     -999.0,9,     -999.0,     -999.0,9,     -999.0,  -999.0,9,     -999.0,     -999.0,9,     -999.0,   1.2084,    34.8537,3,-999.0000,9,     -999.0,9
33RO20150410,     P16N.1,     103,          2,          3,          3,2,20150509,       0051,    18.0002,  -152.0005,       5218,  4235.0,   1.4475,  34.6892,2,  34.6898,2,    152.7,2,   152.6,2,  145.10,6,   35.90,6,    0.01,6,    2.51,6,  -0.003,2,   0.002,2,       0,2,  2321.8,2,  2420.5,2,   7.5778,6,    25.00,-999.000,9,-999.0000,9, -999.00,9,   1.4478, -999.00,9,  -999.0,9,  -999.0,-999.000,9,-999.000,    36.7,2, -999.00,9,     20.240,3, -999.00,9,-999.000,-999.0000, -999.00,     -999.0,     -999.0,9,     -999.0,     -999.0,9,     -999.0,  -999.0,9,     -999.0,     -999.0,9,     -999.0,   1.1041,    34.8534,2,-999.0000,9,     -999.0,9
33RO20150410,     P16N.1,     103,          2,          2,          2,2,20150509,       0051,    18.0002,  -152.0005,       5218,  4724.1,   1.4285,  34.6945,2,  34.6941,2,    163.5,2,   163.6,2,  137.40,6,   35.10,6,    0.01,6,    2.45,6,-999.000,9,-999.000,9,-999.000,9,  2308.9,2,  2411.2,2,   7.5892,2,    24.99,-999.000,9,-999.0000,9, -999.00,9,   1.4287, -999.00,9,  -999.0,9,  -999.0,-999.000,9,-999.000,    39.6,2, -999.00,9,     -999.0,9, -999.00,9,-999.000,-999.0000, -999.00,     -999.0,     -999.0,9,     -999.0,     -999.0,9,     -999.0,  -999.0,9,     -999.0,     -999.0,9,     -999.0,   1.0295,    34.8577,2,-999.0000,9,     -999.0,9
33RO20150410,     P16N.1,     103,          2,          1,          1,2,20150509,       0051,    18.0002,  -152.0005,       5218,  5207.4,   1.4341,  34.6979,2,  34.6995,2,    171.6,2,   171.1,2,  132.40,6,   34.50,6,    0.01,6,    2.41,6,   0.001,2,   0.001,2,       0,2,  2300.3,6,  2404.8,2,   7.5957,2,    24.99,-999.000,9,-999.0000,9, -999.00,9,   1.4340, -999.00,9,  -999.0,9,  -999.0,-999.000,9,-999.000,    39.9,2, -999.00,9,     19.546,3, -999.00,9,-999.000,-999.0000, -999.00,     -999.0,     -999.0,9,     -999.0,     -999.0,9,     -999.0,  -999.0,9,     -999.0,     -999.0,9,     -999.0,   0.9765,    34.8631,2,-999.0000,9,     -999.0,9