BOTTLE,20210709CCHSIOCBG
EXPOCODE,SECT_ID,STNNBR,CASTNO,SAMPNO,BTLNBR,BTLNBR_FLAG_W,DATE,TIME,LATITUDE,LONGITUDE,DEPTH,CTDPRS,CTDTMP,CTDSAL,CTDSAL_FLAG_W,SALNTY,SALNTY_FLAG_W,CTDOXY,CTDOXY_FLAG_W,OXYGEN,OXYGEN_FLAG_W,SILCAT,SILCAT_FLAG_W,NITRAT,NITRAT_FLAG_W,NITRIT,NITRIT_FLAG_W,PHSPHT,PHSPHT_FLAG_W,CFC-11,CFC-11_FLAG_W,CFC-12,CFC-12_FLAG_W,SF6,SF6_FLAG_W,TCARBN,TCARBN_FLAG_W,ALKALI,ALKALI_FLAG_W,PH_TOT,PH_TOT_FLAG_W,PH_TMP,TRITUM,TRITUM_FLAG_W,HELIUM,HELIUM_FLAG_W,DELHE3,DELHE3_FLAG_W,REFTMP,DELC13,DELC13_FLAG_W,DELC14,DELC14_FLAG_W,C14ERR,NEON,NEON_FLAG_W,NEONER,DOC,DOC_FLAG_W,TDN,TDN_FLAG_W,N2O,N2O_FLAG_W,ARGON,ARGON_FLAG_W,TRITER,HELIER,DELHER,ARGONER,KRYPTON,KRYPTON_FLAG_W,KRYPTONER,XENON,XENON_FLAG_W,XENONER,14C-DOC,14C-DOC_FLAG_W,14C-DOCERR,13C-DOC,13C-DOC_FLAG_W,13C-DOCERR,THETA,SALTREF,SALTREF_FLAG_W,SBE35,SBE35_FLAG_W,CHLORA,CHLORA_FLAG_W
,,,,,,,,,,,METERS,DBAR,ITS-90,PSS-78,,PSS-78,,UMOL/KG,,UMOL/KG,,UMOL/KG,,UMOL/KG,,UMOL/KG,,UMOL/KG,,PMOL/KG,,PMOL/KG,,FMOL/KG,,UMOL/KG,,UMOL/KG,,,,DEG C,TU,,NMOL/KG,,PERCNT,,DEG C,/MILLE,,/MILLE,,/MILLE,NMOL/KG,,NMOL/KG,UMOL/KG,,UMOL/KG,,NMOL/KG,,UMOL/KG,,TU,NMOL/KG,PERCNT,UMOL/KG,NMOL/KG,,NMOL/KG,NMOL/KG,,NMOL/KG,/MILLE,,/MILLE,/MILLE,,/MILLE,DEG C,G/KG,,ITS-90,,MG/M3,
33RO20150410,     P16N.1,      37,          1,         24,         24,2,20150421,       0442,    -2.2198,  -151.0001,       4954,    10.5,  28.7264,  35.3014,2,  35.3037,2,    199.6,2,   200.3,2,    1.70,2,    3.60,2,    0.15,2,    0.31,4,-999.000,9,-999.000,9,-999.000,9,  2020.3,6,  2323.2,6,   8.0412,2,    25.00,-999.000,9,-999.0000,9, -999.00,9,  28.7270, -999.00,9,  -999.0,9,  -999.0,-999.000,9,-999.000,  -999.0,9, -999.00,9,     -999.0,9, -999.00,9,-999.000,-999.0000, -999.00,     -999.0,     -999.0,9,     -999.0,     -999.0,9,     -999.0,  -999.0,9,     -999.0,     -999.0,9,     -999.0,  28.7239,    35.4702,2,-999.0000,2,     -999.0,9
33RO20150410,     P16N.1,      37,          1,         23,         23,2,20150421,       0442,    -2.2198,  -151.0001,       4954,    25.0,  28.5655,  35.3011,2,  35.3029,2,    200.4,2,   201.1,2,    1.60,2,    3.70,2,    0.15,2,    0.31,4,-999.000,9,-999.000,9,-999.000,9,  -999.0,9,  -999.0,9,-999.0000,9,  -999.00,-999.000,9,-999.0000,9, -999.00,9,  28.5633, -999.00,9,  -999.0,9,  -999.0,-999.000,9,-999.000,  -999.0,9, -999.00,9,     -999.0,9, -999.00,9,-999.000,-999.0000, -999.00,     -999.0,     -999.0,9,     -999.0,     -999.0,9,     -999.0,  -999.0,9,     -999.0,     -999.0,9,     -999.0,  28.5595,    35.4694,2,-999.0000,2,     -999.0,9
33RO20150410,     P16N.1,      37,          1,         22,         22,2,20150421,       0442,    -2.2198,  -151.0001,       4954,    51.1,  28.2321,  35.2869,2,  35.2884,2,    199.7,2,   200.6,2,    1.70,2,    3.90,2,    0.15,2,    0.32,4,-999.000,9,-999.000,9,-999.000,9,  -999.0,9,  -999.0,9,-999.0000,9,  -999.00,-999.000,9,-999.0000,9, -999.00,9,  28.2307, -999.00,9,  -999.0,9,  -999.0,-999.000,9,-999.000,  -999.0,9, -999.00,9,     -999.0,9, -999.00,9,-999.000,-999.0000, -999.00,     -999.0,     -999.0,9,     -999.0,     -999.0,9,     -999.0,  -999.0,9,     -999.0,     -999.0,9,     -999.0,  28.2200,    35.4548,2,-999.0000,2,     -999.0,9
33RO20150410,     P16N.1,      37,          1,         21,         21,2,20150421,       0442,    -2.2198,  -151.0001,       4954,    75.3,  27.5613,  35.3737,2,  35.3763,2,    195.8,2,   192.7,2,    1.90,2,    4.60,2,    0.10,2,    0.41,4,-999.000,9,-999.000,9,-999.000,9,  -999.0,9,  -999.0,9,-999.0000,9,  -999.00,-999.000,9,-999.0000,9, -999.00,9,  27.5629, -999.00,9,  -999.0,9,  -999.0,-999.000,9,-999.000,  -999.0,9, -999.00,9,     -999.0,9, -999.00,9,-999.000,-999.0000, -999.00,     -999.0,     -999.0,9,     -999.0,     -999.0,9,     -999.0,  -999.0,9,     -999.0,     -999.0,9,     -999.0,  27.5437,    35.5431,2,-999.0000,2,     -999.0,9
33RO20150410,     P16N.1,      37,          1,         20,         20,2,20150421,       0442,    -2.2198,  -151.0001,       4954,   101.7,  27.4040,  35.3515,2,  35.3562,2,    194.2,2,   194.0,2,    2.10,2,    4.70,2,    0.11,2,    0.44,4,-999.000,9,-999.000,9,-999.000,9,  -999.0,9,  -999.0,9,-999.0000,9,  -999.00,-999.000,9,-999.0000,9, -999.00,9,  27.3999, -999.00,9,  -999.0,9,  -999.0,-999.000,9,-999.000,  -999.0,9, -999.00,9,     -999.0,9, -999.00,9,-999.000,-999.0000, -999.00,     -999.0,     -999.0,9,     -999.0,     -999.0,9,     -999.0,  -999.0,9,     -999.0,     -999.0,9,     -999.0,  27.3804,    35.5229,2,-999.0000,2,     -999.0,9
33RO20150410,     P16N.1,      37,          1,         19,         19,2,20150421,       0442,    -2.2198,  -151.0001,       4954,   150.0,  19.7052,  35.5247,2,  35.4991,2,    120.7,2,   115.0,2,    5.90,2,   14.60,2,    0.36,2,    1.05,4,-999.000,9,-999.000,9,-999.000,9,  -999.0,9,  -999.0,9,-999.0000,9,  -999.00,-999.000,9,-999.0000,9, -999.00,9,  19.7088, -999.00,9,  -999.0,9,  -999.0,-999.000,9,-999.000,  -999.0,9, -999.00,9,     -999.0,9, -999.00,9,-999.000,-999.0000, -999.00,     -999.0,     -999.0,9,     -999.0,     -999.0,9,     -999.0,  -999.0,9,     -999.0,     -999.0,9,     -999.0,  19.6777,    35.6665,6,-999.0000,2,     -999.0,9
33RO20150410,     P16N.1,      37,          1,         18,         18,2,20150421,       0442,    -2.2198,  -151.0001,       4954,   226.1,  12.4092,  34.8904,2,  34.8903,2,     22.1,2,    23.5,2,   23.20,2,   31.20,2,    0.01,2,    1.93,4,-999.000,9,-999.000,9,-999.000,9,  -999.0,9,  -999.0,9,-999.0000,9,  -999.00,-999.000,9,-999.0000,9, -999.00,9,  12.4091, -999.00,9,  -999.0,9,  -999.0,-999.000,9,-999.000,  -999.0,9, -999.00,9,     -999.0,9, -999.00,9,-999.000,-999.0000, -999.00,     -999.0,     -999.0,9,     -999.0,     -999.0,9,     -999.0,  -999.0,9,     -999.0,     -999.0,9,     -999.0,  12.3790,    35.0549,2,-999.0000,2,     -999.0,9
33RO20150410,     P16N.1,      37,          1,         17,         17,2,20150421,       0442,    -2.2198,  -151.0001,       4954,   294.5,  11.4503,  34.8147,2,  34.8146,2,     50.7,2,    48.3,2,   25.10,2,   30.30,2,    0.00,2,    1.86,4,-999.000,9,-999.000,9,-999.000,9,  -999.0,9,  -999.0,9,-999.0000,9,  -999.00,-999.000,9,-999.0000,9, -999.00,9,  11.4496, -999.00,9,  -999.0,9,  -999.0,-999.000,9,-999.000,  -999.0,9, -999.00,9,     -999.0,9, -999.00,9,-999.000,-999.0000, -999.00,     -999.0,     -999.0,9,     -999.0,     -999.0,9,     -999.0,  -999.0,9,     -999.0,     -999.0,9,     -999.0,  11.4129,    34.9788,2,-999.0000,2,     -999.0,9
33RO20150410,     P16N.1,      37,          1,         16,         16,2,20150421,       0442,    -2.2198,  -151.0001,       4954,   398.9,  10.7505,  34.7780,2,  34.7755,2,     67.9,2,    68.3,2,   24.70,2,   29.70,2,    0.00,2,    1.83,4,-999.000,9,-999.000,9,-999.000,9,  -999.0,9,  -999.0,9,-999.0000,9,  -999.00,-999.000,9,-999.0000,9, -999.00,9,  10.7606, -999.00,9,  -999.0,9,  -999.0,-999.000,9,-999.000,  -999.0,9, -999.00,9,     -999.0,9, -999.00,9,-999.000,-999.0000, -999.00,     -999.0,     -999.0,9,     -999.0,     -999.0,9,     -999.0,  -999.0,9,     -999.0,     -999.0,9,     -999.0,  10.7017,    34.9395,2,-999.0000,2,     -999.0,9
33RO20150410,     P16N.1,      37,          1,         15,         15,2,20150421,       0442,    -2.2198,  -151.0001,       4954,   498.4,   7.9384,  34.6203,2,  34.6205,2,     46.1,2,    41.7,2,   39.80,2,   38.20,2,    0.00,2,    2.39,4,-999.000,9,-999.000,9,-999.000,9,  -999.0,9,  -999.0,9,-999.0000,9,  -999.00,-999.000,9,-999.0000,9, -999.00,9,   7.9378, -999.00,9,  -999.0,9,  -999.0,-999.000,9,-999.000,  -999.0,9, -999.00,9,     -999.0,9, -999.00,9,-999.000,-999.0000, -999.00,     -999.0,     -999.0,9,     -999.0,     -999.0,9,     -999.0,  -999.0,9,     -999.0,     -999.0,9,     -999.0,   7.8875,    34.7838,2,-999.0000,2,     -999.0,9
33RO20150410,     P16N.1,      37,          1,         14,         14,2,20150421,       0442,    -2.2198,  -151.0001,       4954,   649.2,   6.2286,  34.5531,2,  34.5631,2,     68.4,2,    68.3,2,   55.30,2,   38.60,2,    0.00,2,    2.48,4,-999.000,9,-999.000,9,-999.000,9,  -999.0,9,  -999.0,9,-999.0000,9,  -999.00,-999.000,9,-999.0000,9, -999.00,9,   6.2289, -999.00,9,  -999.0,9,  -999.0,-999.000,9,-999.000,  -999.0,9, -999.00,9,     -999.0,9, -999.00,9,-999.000,-999.0000, -999.00,     -999.0,     -999.0,9,     -999.0,     -999.0,9,     -999.0,  -999.0,9,     -999.0,     -999.0,9,     -999.0,   6.1700,    34.7261,2,-999.0000,2,     -999.0,9
33RO20150410,     P16N.1,      37,          1,         13,         13,2,20150421,       0442,    -2.2198,  -151.0001,       4954,   801.2,   5.7350,  34.5431,2,  34.5440,2,     80.7,2,    79.1,2,   59.70,2,   38.10,2,    0.00,2,    2.47,4,-999.000,9,-999.000,9,-999.000,9,  -999.0,9,  -999.0,9,-999.0000,9,  -999.00,-999.000,9,-999.0000,9, -999.00,9,   5.7410, -999.00,9,  -999.0,9,  -999.0,-999.000,9,-999.000,  -999.0,9, -999.00,9,     -999.0,9, -999.00,9,-999.000,-999.0000, -999.00,     -999.0,     -999.0,9,     -999.0,     -999.0,9,     -999.0,  -999.0,9,     -999.0,     -999.0,9,     -999.0,   5.6649,    34.7068,2,-999.0000,2,     -999.0,9
33RO20150410,     P16N.1,      37,          1,         12,         12,2,20150421,       0442,    -2.2198,  -151.0001,       4954,   947.5,   4.9333,  34.5440,2,  34.5444,2,     86.9,2,    86.0,2,   72.80,2,   38.80,2,    0.00,2,    2.54,4,-999.000,9,-999.000,9,-999.000,9,  -999.0,9,  -999.0,9,-999.0000,9,  -999.00,-999.000,9,-999.0000,9, -999.00,9,   4.9325, -999.00,9,  -999.0,9,  -999.0,-999.000,9,-999.000,  -999.0,9, -999.00,9,     -999.0,9, -999.00,9,-999.000,-999.0000, -999.00,     -999.0,     -999.0,9,     -999.0,     -999.0,9,     -999.0,  -999.0,9,     -999.0,     -999.0,9,     -999.0,   4.8551,    34.7072,2,-999.0000,2,     -999.0,9
33RO20150410,     P16N.1,      37,          1,         11,         11,2,20150421,       0442,    -2.2198,  -151.0001,       4954,  1101.8,   4.2109,  34.5570,2,  34.5574,2,     91.3,2,    90.5,2,   86.90,2,   39.00,2,    0.00,2,    2.59,4,-999.000,9,-999.000,9,-999.000,9,  -999.0,9,  -999.0,9,-999.0000,9,  -999.00,-999.000,9,-999.0000,9, -999.00,9,   4.2114, -999.00,9,  -999.0,9,  -999.0,-999.000,9,-999.000,  -999.0,9, -999.00,9,     -999.0,9, -999.00,9,-999.000,-999.0000, -999.00,     -999.0,     -999.0,9,     -999.0,     -999.0,9,     -999.0,  -999.0,9,     -999.0,     -999.0,9,     -999.0,   4.1248,    34.7203,2,-999.0000,2,     -999.0,9
33RO20150410,     P16N.1,      37,          1,         10,         10,2,20150421,       0442,    -2.2198,  -151.0001,       4954,  1301.0,   3.5758,  34.5775,2,  34.5782,2,     94.6,2,    95.9,2,  101.20,2,   38.90,2,    0.00,2,    2.62,4,-999.000,9,-999.000,9,-999.000,9,  -999.0,9,  -999.0,9,-999.0000,9,  -999.00,-999.000,9,-999.0000,9, -999.00,9,-999.0000, -999.00,9,  -999.0,9,  -999.0,-999.000,9,-999.000,  -999.0,9, -999.00,9,     -999.0,9, -999.00,9,-999.000,-999.0000, -999.00,     -999.0,     -999.0,9,     -999.0,     -999.0,9,     -999.0,  -999.0,9,     -999.0,     -999.0,9,     -999.0,   3.4785,    34.7413,2,-999.0000,2,     -999.0,9
33RO20150410,     P16N.1,      37,          1,          9,          9,2,20150421,       0442,    -2.2198,  -151.0001,       4954,  1599.9,   2.8177,  34.6106,2,  34.6128,2,    101.9,2,   101.6,2,  120.70,2,   38.90,2,    0.00,2,    2.65,4,-999.000,9,-999.000,9,-999.000,9,  -999.0,9,  -999.0,9,-999.0000,9,  -999.00,-999.000,9,-999.0000,9, -999.00,9,   2.8176, -999.00,9,  -999.0,9,  -999.0,-999.000,9,-999.000,  -999.0,9, -999.00,9,     -999.0,9, -999.00,9,-999.000,-999.0000, -999.00,     -999.0,     -999.0,9,     -999.0,     -999.0,9,     -999.0,  -999.0,9,     -999.0,     -999.0,9,     -999.0,   2.7036,    34.7760,2,-999.0000,2,     -999.0,9
33RO20150410,     P16N.1,      37,          1,          8,          8,2,20150421,       0442,    -2.2198,  -151.0001,       4954,  1998.8,   2.3243,  34.6396,2,  34.6413,2,    106.8,2,   105.7,2,  135.60,2,   38.70,2,    0.00,2,    2.67,4,-999.000,9,-999.000,9,-999.000,9,  -999.0,9,  -999.0,9,-999.0000,9,  -999.00,-999.000,9,-999.0000,9, -999.00,9,   2.3243, -999.00,9,  -999.0,9,  -999.0,-999.000,9,-999.000,  -999.0,9, -999.00,9,     -999.0,9, -999.00,9,-999.000,-999.0000, -999.00,     -999.0,     -999.0,9,     -999.0,     -999.0,9,     -999.0,  -999.0,9,     -999.0,     -999.0,9,     -999.0,   2.1830,    34.8046,2,-999.0000,2,     -999.0,9
33RO20150410,     P16N.1,      37,          1,          7,          7,2,20150421,       0442,    -2.2198,  -151.0001,       4954,  2398.4,   2.0232,  34.6557,2,  34.6648,4,    117.6,2,   118.2,2,  140.80,2,   38.00,2,    0.00,2,    2.60,4,-999.000,9,-999.000,9,-999.000,9,  -999.0,9,  -999.0,9,-999.0000,9,  -999.00,-999.000,9,-999.0000,9, -999.00,9,   2.0227, -999.00,9,  -999.0,9,  -999.0,-999.000,9,-999.000,  -999.0,9, -999.00,9,     -999.0,9, -999.00,9,-999.000,-999.0000, -999.00,     -999.0,     -999.0,9,     -999.0,     -999.0,9,     -999.0,  -999.0,9,     -999.0,     -999.0,9,     -999.0,   1.8516,    34.8282,3,-999.0000,2,     -999.0,9
33RO20150410,     P16N.1,      37,          1,          6,          6,2,20150421,       0442,    -2.2198,  -151.0001,       4954,  2800.2,   1.7449,  34.6700,2,  34.6708,2,    133.1,2,   133.4,2,  141.90,2,   37.00,2,    0.00,2,    2.53,4,-999.000,9,-999.000,9,-999.000,9,  -999.0,9,  -999.0,9,-999.0000,9,  -999.00,-999.000,9,-999.0000,9, -999.00,9,   1.7450, -999.00,9,  -999.0,9,  -999.0,-999.000,9,-999.000,  -999.0,9, -999.00,9,     -999.0,9, -999.00,9,-999.000,-999.0000, -999.00,     -999.0,     -999.0,9,     -999.0,     -999.0,9,     -999.0,  -999.0,9,     -999.0,     -999.0,9,     -999.0,   1.5417,    34.8343,2,-999.0000,2,     -999.0,9
33RO20150410,     P16N.1,      37,          1,          5,          5,2,20150421,       0442,    -2.2198,  -151.0001,       4954,  3198.5,   1.5772,  34.6799,2,  34.6812,2,    145.4,2,   145.2,2,  141.10,6,   36.00,6,    0.00,6,    2.47,4,-999.000,9,-999.000,9,-999.000,9,  -999.0,9,  -999.0,9,-999.0000,9,  -999.00,-999.000,9,-999.0000,9, -999.00,9,   1.5771, -999.00,9,  -999.0,9,  -999.0,-999.000,9,-999.000,  -999.0,9, -999.00,9,     -999.0,9, -999.00,9,-999.000,-999.0000, -999.00,     -999.0,     -999.0,9,     -999.0,     -999.0,9,     -999.0,  -999.0,9,     -999.0,     -999.0,9,     -999.0,   1.3394,    34.8447,2,-999.0000,2,     -999.0,9
33RO20150410,     P16N.1,      37,          1,          4,          4,2,20150421,       0442,    -2.2198,  -151.0001,       4954,  3599.5,   1.4519,  34.6895,2,  34.6914,2,    155.6,2,   155.5,2,  141.70,6,   35.50,6,    0.00,6,    2.41,4,-999.000,9,-999.000,9,-999.000,9,  -999.0,9,  -999.0,9,-999.0000,9,  -999.00,-999.000,9,-999.0000,9, -999.00,9,   1.4522, -999.00,9,  -999.0,9,  -999.0,-999.000,9,-999.000,  -999.0,9, -999.00,9,     -999.0,9, -999.00,9,-999.000,-999.0000, -999.00,     -999.0,     -999.0,9,     -999.0,     -999.0,9,     -999.0,  -999.0,9,     -999.0,     -999.0,9,     -999.0,   1.1767,    34.8550,2,-999.0000,2,     -999.0,9
33RO20150410,     P16N.1,      37,          1,          3,          3,2,20150421,       0442,    -2.2198,  -151.0001,       4954,  4000.5,   1.4130,  34.6936,2,  34.6952,2,    161.4,2,   161.6,2, -999.00,5, -999.00,5, -999.00,5, -999.00,5,-999.000,9,-999.000,9,-999.000,9,  -999.0,9,  -999.0,9,-999.0000,9,  -999.00,-999.000,9,-999.0000,9, -999.00,9,   1.4130, -999.00,9,  -999.0,9,  -999.0,-999.000,9,-999.000,  -999.0,9, -999.00,9,     -999.0,9, -999.00,9,-999.000,-999.0000, -999.00,     -999.0,     -999.0,9,     -999.0,     -999.0,9,     -999.0,  -999.0,9,     -999.0,     -999.0,9,     -999.0,   1.0964,    34.8588,2,-999.0000,2,     -999.0,9
33RO20150410,     P16N.1,      37,          1,          2,          2,2,20150421,       0442,    -2.2198,  -151.0001,       4954,  4501.7,   1.3700,  34.6983,2,  34.6995,2,    176.1,2,   175.7,2,  131.70,6,   34.10,6,    0.00,6,    2.31,4,-999.000,9,-999.000,9,-999.000,9,  -999.0,9,  -999.0,9,-999.0000,9,  -999.00,-999.000,9,-999.0000,9, -999.00,9,   1.3704, -999.00,9,  -999.0,9,  -999.0,-999.000,9,-999.000,  -999.0,9, -999.00,9,     -999.0,9, -999.00,9,-999.000,-999.0000, -999.00,     -999.0,     -999.0,9,     -999.0,     -999.0,9,     -999.0,  -999.0,9,     -999.0,     -999.0,9,     -999.0,   0.9987,    34.8631,2,-999.0000,2,     -999.0,9
33RO20150410,     P16N.1,      37,          1,          1,          1,2,20150421,       0442,    -2.2198,  -151.0001,       4954,  4944.1,   1.3501,  34.7013,2,  34.7027,2,    185.1,2,   184.6,2,  127.10,6,   33.50,6,    0.00,6,    2.26,4,-999.000,9,-999.000,9,-999.000,9,  -999.0,9,  -999.0,9,-999.0000,9,  -999.00,-999.000,9,-999.0000,9, -999.00,9,   1.3502, -999.00,9,  -999.0,9,  -999.0,-999.000,9,-999.000,  -999.0,9, -999.00,9,     -999.0,9, -999.00,9,-999.000,-999.0000, -999.00,     -999.0,     -999.0,9,     -999.0,     -999.0,9,     -999.0,  -999.0,9,     -999.0,     -999.0,9,     -999.0,   0.9275,    34.8663,6,-999.0000,2,     -999.0,9