BOTTLE,20210709CCHSIOCBG
EXPOCODE,SECT_ID,STNNBR,CASTNO,SAMPNO,BTLNBR,BTLNBR_FLAG_W,DATE,TIME,LATITUDE,LONGITUDE,DEPTH,CTDPRS,CTDTMP,CTDSAL,CTDSAL_FLAG_W,SALNTY,SALNTY_FLAG_W,CTDOXY,CTDOXY_FLAG_W,OXYGEN,OXYGEN_FLAG_W,SILCAT,SILCAT_FLAG_W,NITRAT,NITRAT_FLAG_W,NITRIT,NITRIT_FLAG_W,PHSPHT,PHSPHT_FLAG_W,CFC-11,CFC-11_FLAG_W,CFC-12,CFC-12_FLAG_W,SF6,SF6_FLAG_W,TCARBN,TCARBN_FLAG_W,ALKALI,ALKALI_FLAG_W,PH_TOT,PH_TOT_FLAG_W,PH_TMP,TRITUM,TRITUM_FLAG_W,HELIUM,HELIUM_FLAG_W,DELHE3,DELHE3_FLAG_W,REFTMP,DELC13,DELC13_FLAG_W,DELC14,DELC14_FLAG_W,C14ERR,NEON,NEON_FLAG_W,NEONER,DOC,DOC_FLAG_W,TDN,TDN_FLAG_W,N2O,N2O_FLAG_W,ARGON,ARGON_FLAG_W,TRITER,HELIER,DELHER,ARGONER,KRYPTON,KRYPTON_FLAG_W,KRYPTONER,XENON,XENON_FLAG_W,XENONER,14C-DOC,14C-DOC_FLAG_W,14C-DOCERR,13C-DOC,13C-DOC_FLAG_W,13C-DOCERR,THETA,SALTREF,SALTREF_FLAG_W,SBE35,SBE35_FLAG_W,CHLORA,CHLORA_FLAG_W
,,,,,,,,,,,METERS,DBAR,ITS-90,PSS-78,,PSS-78,,UMOL/KG,,UMOL/KG,,UMOL/KG,,UMOL/KG,,UMOL/KG,,UMOL/KG,,PMOL/KG,,PMOL/KG,,FMOL/KG,,UMOL/KG,,UMOL/KG,,,,DEG C,TU,,NMOL/KG,,PERCNT,,DEG C,/MILLE,,/MILLE,,/MILLE,NMOL/KG,,NMOL/KG,UMOL/KG,,UMOL/KG,,NMOL/KG,,UMOL/KG,,TU,NMOL/KG,PERCNT,UMOL/KG,NMOL/KG,,NMOL/KG,NMOL/KG,,NMOL/KG,/MILLE,,/MILLE,/MILLE,,/MILLE,DEG C,G/KG,,ITS-90,,MG/M3,
33RO20150410,     P16N.1,      16,          1,         24,         24,2,20150415,       1515,    -9.0000,  -151.0000,       5008,     5.7,  29.0792,  35.7139,2,-999.0000,9,    193.9,2,   192.9,2, -999.00,9, -999.00,9, -999.00,9, -999.00,9,   1.380,2,   0.919,2,   1.214,2,  1991.8,6,  2353.6,2,   8.1217,2,    25.01,-999.000,9,   1.6843,2,   -1.21,2,  29.0798, -999.00,9,  -999.0,9,  -999.0,   6.555,2,   0.016,  -999.0,9, -999.00,9,      5.880,3, -999.00,9,-999.000,   0.0044,    0.20,     -999.0,     -999.0,9,     -999.0,     -999.0,9,     -999.0,  -999.0,9,     -999.0,     -999.0,9,     -999.0,-999.0000,     -999.0,9,-999.0000,2,     -999.0,9
33RO20150410,     P16N.1,      16,          1,         23,         23,2,20150415,       1515,    -9.0000,  -151.0000,       5008,    21.3,  29.0850,  35.7138,2,  35.7118,2,    193.2,2,   193.1,2,    0.50,2,    0.00,2,    0.03,2,    0.15,4,   1.371,6,   0.918,6,   1.193,6,  1991.5,2,  2353.3,2,   8.1222,6,    25.02,-999.000,9,-999.0000,9, -999.00,9,  29.0832, -999.00,9,  -999.0,9,  -999.0,-999.000,9,-999.000,  -999.0,9, -999.00,9,      5.887,3, -999.00,9,-999.000,-999.0000, -999.00,     -999.0,     -999.0,9,     -999.0,     -999.0,9,     -999.0,  -999.0,9,     -999.0,     -999.0,9,     -999.0,  29.0798,    35.8802,2,-999.0000,2,     -999.0,9
33RO20150410,     P16N.1,      16,          1,         22,         22,2,20150415,       1515,    -9.0000,  -151.0000,       5008,    42.8,  29.0888,  35.7127,2,  35.7110,2,    193.8,2,   192.8,2,    0.70,2,    0.00,2,    0.03,2,    0.18,4,   1.370,2,   0.914,2,    1.23,2,  1991.9,2,  2353.5,6,   8.1225,2,    25.01,-999.000,9,-999.0000,9, -999.00,9,  29.0862, -999.00,9,  -999.0,9,  -999.0,-999.000,9,-999.000,  -999.0,9, -999.00,9,      5.828,3, -999.00,9,-999.000,-999.0000, -999.00,     -999.0,     -999.0,9,     -999.0,     -999.0,9,     -999.0,  -999.0,9,     -999.0,     -999.0,9,     -999.0,  29.0784,    35.8794,2,-999.0000,2,     -999.0,9
33RO20150410,     P16N.1,      16,          1,         21,         21,2,20150415,       1515,    -9.0000,  -151.0000,       5008,    66.5,  29.0847,  35.7127,2,  35.7130,2,    194.2,2,   187.5,4,    0.60,2,    0.00,2,    0.03,2,    0.16,4,   1.376,2,   0.916,2,    1.23,2,  1990.8,2,  2353.5,2,   8.1225,2,    25.01,-999.000,9,-999.0000,9, -999.00,9,  29.0908, -999.00,9,  -999.0,9,  -999.0,-999.000,9,-999.000,  -999.0,9, -999.00,9,      5.983,3, -999.00,9,-999.000,-999.0000, -999.00,     -999.0,     -999.0,9,     -999.0,     -999.0,9,     -999.0,  -999.0,9,     -999.0,     -999.0,9,     -999.0,  29.0686,    35.8814,2,-999.0000,2,     -999.0,9
33RO20150410,     P16N.1,      16,          1,         20,         20,2,20150415,       1515,    -9.0000,  -151.0000,       5008,    90.9,  28.4369,  36.0076,2,  36.0107,2,    195.2,2,   175.6,4,    0.80,2,    0.00,2,    0.08,2,    0.26,4,   1.434,2,   0.953,2,   1.223,2,  2018.6,2,  2374.1,2,   8.1049,2,    25.00,   0.280,2,-999.0000,9, -999.00,9,  28.4350, -999.00,9,  -999.0,9,  -999.0,-999.000,9,-999.000,  -999.0,9, -999.00,9,      6.137,3, -999.00,9,   0.003,-999.0000, -999.00,     -999.0,     -999.0,9,     -999.0,     -999.0,9,     -999.0,  -999.0,9,     -999.0,     -999.0,9,     -999.0,  28.4152,    36.1805,2,-999.0000,2,     -999.0,9
33RO20150410,     P16N.1,      16,          1,         19,         19,2,20150415,       1515,    -9.0000,  -151.0000,       5008,   116.8,  26.9571,  36.3471,2,  36.3830,2,    176.6,2,   174.7,2,    1.00,2,    0.90,2,    1.43,2,    0.38,4,   1.509,2,   1.002,2,   1.314,2,  2070.0,2,  2398.6,2,   8.0605,6,    25.01,   0.310,2,   1.7060,2,   -1.14,2,  26.9450, -999.00,9,  -999.0,9,  -999.0,   6.687,2,   0.017,  -999.0,9, -999.00,9,      6.481,3, -999.00,9,   0.004,   0.0044,    0.20,     -999.0,     -999.0,9,     -999.0,     -999.0,9,     -999.0,  -999.0,9,     -999.0,     -999.0,9,     -999.0,  26.9302,    36.5545,2,-999.0000,2,     -999.0,9
33RO20150410,     P16N.1,      16,          1,         18,         18,2,20150415,       1515,    -9.0000,  -151.0000,       5008,   158.7,  25.0032,  36.3744,2,  36.3527,2,    164.0,2,   161.5,2,    0.90,2,    4.00,2,    0.23,2,    0.50,4,   1.640,2,   1.079,2,   1.232,2,  2097.7,2,  2394.8,2,   8.0067,2,    25.00,   0.248,2,   1.7043,2,   -0.80,2,  25.0547, -999.00,9,  -999.0,9,  -999.0,   6.756,2,   0.017,  -999.0,9, -999.00,9,      6.878,3, -999.00,9,   0.003,   0.0044,    0.20,     -999.0,     -999.0,9,     -999.0,     -999.0,9,     -999.0,  -999.0,9,     -999.0,     -999.0,9,     -999.0,  24.9686,    36.5242,6,-999.0000,2,     -999.0,9
33RO20150410,     P16N.1,      16,          1,         17,         17,2,20150415,       1515,    -9.0000,  -151.0000,       5008,   225.2,  19.4080,  35.6137,2,  35.6202,2,    152.4,2,   150.9,2,    2.00,2,    8.60,2,    0.03,2,    0.80,4,   2.090,2,   1.309,2,   1.318,2,  2136.3,2,  2349.8,2,   7.8674,2,    25.01,   0.222,2,   1.7371,6,   -0.58,6,  19.3245, -999.00,9,  -999.0,9,  -999.0,   7.038,6,   0.012,  -999.0,9, -999.00,9,     13.705,3, -999.00,9,   0.002,   0.0032,    0.14,     -999.0,     -999.0,9,     -999.0,     -999.0,9,     -999.0,  -999.0,9,     -999.0,     -999.0,9,     -999.0,  19.3670,    35.7882,2,-999.0000,2,     -999.0,9
33RO20150410,     P16N.1,      16,          1,         16,         16,2,20150415,       1515,    -9.0000,  -151.0000,       5008,   301.1,  12.8396,  34.8594,2,  34.8550,2,     56.2,2,    57.2,2,   14.50,2,   23.90,2,    0.02,2,    1.88,4,   1.492,2,   0.869,2,   0.553,2,  2221.2,6,  2302.3,2,   7.5559,2,    25.00,   0.124,2,-999.0000,9, -999.00,9,  12.8440, -999.00,9,  -999.0,9,  -999.0,-999.000,9,-999.000,  -999.0,9, -999.00,9,     48.656,3, -999.00,9,   0.002,-999.0000, -999.00,     -999.0,     -999.0,9,     -999.0,     -999.0,9,     -999.0,  -999.0,9,     -999.0,     -999.0,9,     -999.0,  12.7984,    35.0194,2,-999.0000,2,     -999.0,9
33RO20150410,     P16N.1,      16,          1,         15,         15,2,20150415,       1515,    -9.0000,  -151.0000,       5008,   374.6,   9.8809,  34.7255,2,  34.7343,2,     77.6,2,    73.0,2,   23.00,2,   30.00,2,    0.02,2,    2.01,4,   0.749,6,   0.412,6,   0.245,6,  2223.7,2,  2302.4,2,   7.5424,6,    25.01,-999.000,9,-999.0000,9, -999.00,9,   9.8715, -999.00,9,  -999.0,9,  -999.0,-999.000,9,-999.000,  -999.0,9, -999.00,9,     44.635,3, -999.00,9,-999.000,-999.0000, -999.00,     -999.0,     -999.0,9,     -999.0,     -999.0,9,     -999.0,  -999.0,9,     -999.0,     -999.0,9,     -999.0,   9.8375,    34.8981,2,-999.0000,2,     -999.0,9
33RO20150410,     P16N.1,      16,          1,         14,         14,2,20150415,       1515,    -9.0000,  -151.0000,       5008,   467.8,   8.3707,  34.6361,2,-999.0000,9,     72.9,2,    74.8,2, -999.00,9, -999.00,9, -999.00,9, -999.00,9,   0.363,2,   0.197,2,   0.074,2,  2236.5,2,  2303.9,2,   7.5089,2,    25.00,-999.000,9,-999.0000,9, -999.00,9,   8.3775, -999.00,9,  -999.0,9,  -999.0,-999.000,9,-999.000,  -999.0,9, -999.00,9,     45.642,3, -999.00,9,-999.000,-999.0000, -999.00,     -999.0,     -999.0,9,     -999.0,     -999.0,9,     -999.0,  -999.0,9,     -999.0,     -999.0,9,     -999.0,-999.0000,     -999.0,9,-999.0000,2,     -999.0,9
33RO20150410,     P16N.1,      16,          1,         13,         13,2,20150415,       1515,    -9.0000,  -151.0000,       5008,   600.2,   7.2135,  34.5760,2,  34.5756,2,     80.0,2,    77.6,2,   38.20,2,   36.20,2,    0.03,2,    2.36,4,   0.184,2,   0.103,2,       0,2,  2245.3,2,  2309.3,2,   7.4888,2,    25.01,   0.019,2,   1.8519,2,    7.77,2,   7.2133, -999.00,9,  -999.0,9,  -999.0,   7.811,2,   0.020,  -999.0,9, -999.00,9,     42.707,3, -999.00,9,   0.001,   0.0048,    0.20,     -999.0,     -999.0,9,     -999.0,     -999.0,9,     -999.0,  -999.0,9,     -999.0,     -999.0,9,     -999.0,   7.1551,    34.7386,2,-999.0000,2,     -999.0,9
33RO20150410,     P16N.1,      16,          1,         12,         12,2,20150415,       1515,    -9.0000,  -151.0000,       5008,   750.6,   5.9822,  34.5422,2,  34.5418,2,     67.2,2,    66.8,2,   52.70,2,   40.00,2,    0.03,2,    2.65,4,   0.028,2,   0.015,2,       0,2,  2274.1,2,  2320.7,2,   7.4458,2,    25.01,  -0.001,6,   1.8337,2,   11.00,2,   5.9808, -999.00,9,  -999.0,9,  -999.0,   7.794,2,   0.020,  -999.0,9, -999.00,9,     41.688,3, -999.00,9,   0.001,   0.0048,    0.20,     -999.0,     -999.0,9,     -999.0,     -999.0,9,     -999.0,  -999.0,9,     -999.0,     -999.0,9,     -999.0,   5.9153,    34.7047,2,-999.0000,2,     -999.0,9
33RO20150410,     P16N.1,      16,          1,         11,         11,2,20150415,       1515,    -9.0000,  -151.0000,       5008,   901.0,   4.8730,  34.5311,2,  34.5314,2,     92.6,2,    92.5,2,   67.10,2,   38.70,2,    0.03,2,    2.63,4,   0.016,2,   0.006,2,       0,2,  2276.7,2,  2336.4,2,   7.4833,2,    25.01,  -0.004,2,   1.8644,2,   15.01,2,   4.8723, -999.00,9,  -999.0,9,  -999.0,   7.908,2,   0.020,  -999.0,9, -999.00,9,     33.828,3, -999.00,9,   0.001,   0.0048,    0.20,     -999.0,     -999.0,9,     -999.0,     -999.0,9,     -999.0,  -999.0,9,     -999.0,     -999.0,9,     -999.0,   4.7994,    34.6942,2,-999.0000,2,     -999.0,9
33RO20150410,     P16N.1,      16,          1,         10,         10,2,20150415,       1515,    -9.0000,  -151.0000,       5008,  1050.6,   4.3092,  34.5401,2,  34.5408,2,    101.1,2,   100.9,2,   77.10,2,   38.40,2,    0.03,2,    2.64,4,   0.008,2,   0.001,2,       0,2,  2283.6,2,  2348.1,2,   7.4955,2,    25.00,   0.004,2,   1.8777,2,   18.05,2,   4.3127, -999.00,9,  -999.0,9,  -999.0,   7.934,2,   0.020,  -999.0,9, -999.00,9,     31.501,3, -999.00,9,   0.002,   0.0049,    0.20,     -999.0,     -999.0,9,     -999.0,     -999.0,9,     -999.0,  -999.0,9,     -999.0,     -999.0,9,     -999.0,   4.2267,    34.7037,2,-999.0000,2,     -999.0,9
33RO20150410,     P16N.1,      16,          1,          9,          9,2,20150415,       1515,    -9.0000,  -151.0000,       5008,  1233.8,   3.6861,  34.5595,2,  34.5603,2,    110.6,2,   110.0,2,   89.90,2,   37.90,2,    0.04,2,    2.65,4,   0.004,2,   0.001,2,       0,2,  2294.6,2,  2362.1,2,   7.5096,2,    25.00,  -0.003,2,   1.8845,2,   21.08,2,   3.6861, -999.00,9,  -999.0,9,  -999.0,   7.961,2,   0.020,  -999.0,9, -999.00,9,     29.137,3, -999.00,9,   0.002,   0.0049,    0.20,     -999.0,     -999.0,9,     -999.0,     -999.0,9,     -999.0,  -999.0,9,     -999.0,     -999.0,9,     -999.0,   3.5934,    34.7233,2,-999.0000,2,     -999.0,9
33RO20150410,     P16N.1,      16,          1,          8,          8,2,20150415,       1515,    -9.0000,  -151.0000,       5008,  1499.5,   3.0325,  34.5880,2,  34.5894,2,    120.5,2,   120.5,2,  103.60,2,   37.30,2,    0.04,2,    2.64,4,   0.023,3,   0.000,2,       0,2,  2299.0,2,  2377.2,2,   7.5255,6,    25.02,  -0.004,2,   1.9115,2,   24.72,2,   3.0328, -999.00,9,  -999.0,9,  -999.0,   8.031,2,   0.020,  -999.0,9, -999.00,9,     26.973,3, -999.00,9,   0.002,   0.0050,    0.20,     -999.0,     -999.0,9,     -999.0,     -999.0,9,     -999.0,  -999.0,9,     -999.0,     -999.0,9,     -999.0,   2.9243,    34.7525,2,-999.0000,2,     -999.0,9
33RO20150410,     P16N.1,      16,          1,          7,          7,2,20150415,       1515,    -9.0000,  -151.0000,       5008,  1866.7,   2.4116,  34.6254,2,  34.6271,2,    126.6,2,   127.1,2,  119.50,2,   37.00,2,    0.03,2,    2.66,4,   0.004,2,   0.000,2,       0,2,  2316.1,2,  2395.2,2,   7.5378,2,    25.00,   0.013,2,   1.9637,2,   27.24,2,   2.4128, -999.00,9,  -999.0,9,  -999.0,   8.236,2,   0.021,  -999.0,9, -999.00,9,     25.143,3, -999.00,9,   0.002,   0.0051,    0.20,     -999.0,     -999.0,9,     -999.0,     -999.0,9,     -999.0,  -999.0,9,     -999.0,     -999.0,9,     -999.0,   2.2803,    34.7904,6,-999.0000,2,     -999.0,9
33RO20150410,     P16N.1,      16,          1,          6,          6,2,20150415,       1515,    -9.0000,  -151.0000,       5008,  2266.7,   1.9998,  34.6542,2,  34.6546,2,    134.7,2,   136.1,2,  129.40,2,   36.40,2,    0.03,2,    2.64,4,  -0.002,2,  -0.002,2,       0,2,  2321.2,2,  2406.7,2,   7.5535,6,    25.02,-999.000,9,-999.0000,9, -999.00,9,   1.9998, -999.00,9,  -999.0,9,  -999.0,-999.000,9,-999.000,  -999.0,9, -999.00,9,     23.457,3, -999.00,9,-999.000,-999.0000, -999.00,     -999.0,     -999.0,9,     -999.0,     -999.0,9,     -999.0,  -999.0,9,     -999.0,     -999.0,9,     -999.0,   1.8404,    34.8180,2,-999.0000,2,     -999.0,9
33RO20150410,     P16N.1,      16,          1,          5,          5,2,20150415,       1515,    -9.0000,  -151.0000,       5008,  2667.6,   1.7739,  34.6719,2,  34.6711,2,    142.7,2,   144.0,2,  134.30,2,   36.00,2,    0.01,2,    2.65,4,   0.010,3,  -0.001,2,       0,2,  2321.3,2,  2414.8,2,   7.5682,2,    25.00,-999.000,9,-999.0000,9, -999.00,9,   1.7739, -999.00,9,  -999.0,9,  -999.0,-999.000,9,-999.000,  -999.0,9, -999.00,9,     22.237,3, -999.00,9,-999.000,-999.0000, -999.00,     -999.0,     -999.0,9,     -999.0,     -999.0,9,     -999.0,  -999.0,9,     -999.0,     -999.0,9,     -999.0,   1.5825,    34.8346,2,-999.0000,2,     -999.0,9
33RO20150410,     P16N.1,      16,          1,          4,          4,2,20150415,       1515,    -9.0000,  -151.0000,       5008,  3067.5,   1.6688,  34.6799,2,  34.6800,2,    150.2,2,   150.5,2,  135.70,2,   35.60,2,    0.02,2,    2.58,4,   0.013,3,  -0.001,2,       0,2,  2319.7,2,  2416.1,2,   7.5800,2,    25.00,-999.000,9,-999.0000,9, -999.00,9,   1.6690, -999.00,9,  -999.0,9,  -999.0,-999.000,9,-999.000,  -999.0,9, -999.00,9,     21.624,3, -999.00,9,-999.000,-999.0000, -999.00,     -999.0,     -999.0,9,     -999.0,     -999.0,9,     -999.0,  -999.0,9,     -999.0,     -999.0,9,     -999.0,   1.4417,    34.8435,2,-999.0000,2,     -999.0,9
33RO20150410,     P16N.1,      16,          1,          3,          3,2,20150415,       1515,    -9.0000,  -151.0000,       5008,  3467.0,   1.5567,  34.6867,2,  34.6865,2,    159.1,2,   158.8,2,  135.40,2,   35.20,2,    0.03,2,    2.55,4,  -0.004,2,  -0.001,2,       0,2,  2315.5,2,  2415.5,2,   7.5914,6,    25.00,-999.000,9,-999.0000,9, -999.00,9,   1.5573, -999.00,9,  -999.0,9,  -999.0,-999.000,9,-999.000,  -999.0,9, -999.00,9,     21.113,3, -999.00,9,-999.000,-999.0000, -999.00,     -999.0,     -999.0,9,     -999.0,     -999.0,9,     -999.0,  -999.0,9,     -999.0,     -999.0,9,     -999.0,   1.2924,    34.8500,2,-999.0000,2,     -999.0,9
33RO20150410,     P16N.1,      16,          1,          2,          2,2,20150415,       1515,    -9.0000,  -151.0000,       5008,  3867.5,   1.4520,  34.6927,2,  34.6921,2,    169.6,2,   169.1,2,  132.00,2,   34.50,2,    0.01,2,    2.49,4,   0.001,6,   0.000,6,       0,6,  2305.2,2,  2405.5,6,   7.5960,2,    25.02,-999.000,9,-999.0000,9, -999.00,9,   1.4516, -999.00,9,  -999.0,9,  -999.0,-999.000,9,-999.000,  -999.0,9, -999.00,9,     20.620,3, -999.00,9,-999.000,-999.0000, -999.00,     -999.0,     -999.0,9,     -999.0,     -999.0,9,     -999.0,  -999.0,9,     -999.0,     -999.0,9,     -999.0,   1.1486,    34.8557,2,-999.0000,2,     -999.0,9
33RO20150410,     P16N.1,      16,          1,          1,          1,2,20150415,       1515,    -9.0000,  -151.0000,       5008,  4315.5,   1.3656,  34.6987,2,  34.6989,2,    181.9,2,   180.3,2,  126.50,2,   33.60,2,    0.03,2,    2.41,4,   0.001,2,   0.001,2,       0,2,  2289.5,6,  2393.5,2,   7.6014,2,    25.01,-999.000,9,-999.0000,9, -999.00,9,   1.3660, -999.00,9,  -999.0,9,  -999.0,-999.000,9,-999.000,  -999.0,9, -999.00,9,     20.017,3, -999.00,9,-999.000,-999.0000, -999.00,     -999.0,     -999.0,9,     -999.0,     -999.0,9,     -999.0,  -999.0,9,     -999.0,     -999.0,9,     -999.0,   1.0156,    34.8625,2,-999.0000,2,     -999.0,9