BOTTLE,20210709CCHSIOCBG
EXPOCODE,SECT_ID,STNNBR,CASTNO,SAMPNO,BTLNBR,BTLNBR_FLAG_W,DATE,TIME,LATITUDE,LONGITUDE,DEPTH,CTDPRS,CTDTMP,CTDSAL,CTDSAL_FLAG_W,SALNTY,SALNTY_FLAG_W,CTDOXY,CTDOXY_FLAG_W,OXYGEN,OXYGEN_FLAG_W,SILCAT,SILCAT_FLAG_W,NITRAT,NITRAT_FLAG_W,NITRIT,NITRIT_FLAG_W,PHSPHT,PHSPHT_FLAG_W,CFC-11,CFC-11_FLAG_W,CFC-12,CFC-12_FLAG_W,SF6,SF6_FLAG_W,TCARBN,TCARBN_FLAG_W,ALKALI,ALKALI_FLAG_W,PH_TOT,PH_TOT_FLAG_W,PH_TMP,TRITUM,TRITUM_FLAG_W,HELIUM,HELIUM_FLAG_W,DELHE3,DELHE3_FLAG_W,REFTMP,DELC13,DELC13_FLAG_W,DELC14,DELC14_FLAG_W,C14ERR,NEON,NEON_FLAG_W,NEONER,DOC,DOC_FLAG_W,TDN,TDN_FLAG_W,N2O,N2O_FLAG_W,ARGON,ARGON_FLAG_W,TRITER,HELIER,DELHER,ARGONER,KRYPTON,KRYPTON_FLAG_W,KRYPTONER,XENON,XENON_FLAG_W,XENONER,14C-DOC,14C-DOC_FLAG_W,14C-DOCERR,13C-DOC,13C-DOC_FLAG_W,13C-DOCERR,THETA,SALTREF,SALTREF_FLAG_W,SBE35,SBE35_FLAG_W,CHLORA,CHLORA_FLAG_W
,,,,,,,,,,,METERS,DBAR,ITS-90,PSS-78,,PSS-78,,UMOL/KG,,UMOL/KG,,UMOL/KG,,UMOL/KG,,UMOL/KG,,UMOL/KG,,PMOL/KG,,PMOL/KG,,FMOL/KG,,UMOL/KG,,UMOL/KG,,,,DEG C,TU,,NMOL/KG,,PERCNT,,DEG C,/MILLE,,/MILLE,,/MILLE,NMOL/KG,,NMOL/KG,UMOL/KG,,UMOL/KG,,NMOL/KG,,UMOL/KG,,TU,NMOL/KG,PERCNT,UMOL/KG,NMOL/KG,,NMOL/KG,NMOL/KG,,NMOL/KG,/MILLE,,/MILLE,/MILLE,,/MILLE,DEG C,G/KG,,ITS-90,,MG/M3,
33RO20150410,     P16N.1,      65,          1,         24,         24,2,20150427,       2321,     2.2199,  -150.9998,       4902,    10.7,  28.6704,  35.0694,2,  35.0690,2,    199.6,2,   201.8,2,    1.70,2,    2.30,2,    0.12,2,    0.49,2,-999.000,9,-999.000,9,-999.000,9,  2000.5,6,  2305.7,6,   8.0473,2,    25.01,-999.000,9,-999.0000,9, -999.00,9,  28.6710, -999.00,9,  -999.0,9,  -999.0,-999.000,9,-999.000,  -999.0,9, -999.00,9,     -999.0,9, -999.00,9,-999.000,-999.0000, -999.00,     -999.0,     -999.0,9,     -999.0,     -999.0,9,     -999.0,  -999.0,9,     -999.0,     -999.0,9,     -999.0,  28.6678,    35.2343,6,-999.0000,2,      0.260,2
33RO20150410,     P16N.1,      65,          1,         23,         23,2,20150427,       2321,     2.2199,  -150.9998,       4902,    24.6,  28.6402,  35.0876,2,  35.0876,2,    199.9,2,   202.3,2,    1.70,2,    2.30,2,    0.12,2,    0.48,2,-999.000,9,-999.000,9,-999.000,9,  -999.0,9,  -999.0,9,-999.0000,9,  -999.00,-999.000,9,-999.0000,9, -999.00,9,  28.6402, -999.00,9,  -999.0,9,  -999.0,-999.000,9,-999.000,  -999.0,9, -999.00,9,     -999.0,9, -999.00,9,-999.000,-999.0000, -999.00,     -999.0,     -999.0,9,     -999.0,     -999.0,9,     -999.0,  -999.0,9,     -999.0,     -999.0,9,     -999.0,  28.6343,    35.2531,2,-999.0000,2,      0.283,2
33RO20150410,     P16N.1,      65,          1,         22,         22,2,20150427,       2321,     2.2199,  -150.9998,       4902,    50.5,  28.4949,  35.0726,2,  35.0875,2,    198.9,2,   201.0,2,    1.80,2,    2.40,2,    0.14,2,    0.51,2,-999.000,9,-999.000,9,-999.000,9,  -999.0,9,  -999.0,9,-999.0000,9,  -999.00,-999.000,9,-999.0000,9, -999.00,9,  28.4942, -999.00,9,  -999.0,9,  -999.0,-999.000,9,-999.000,  -999.0,9, -999.00,9,     -999.0,9, -999.00,9,-999.000,-999.0000, -999.00,     -999.0,     -999.0,9,     -999.0,     -999.0,9,     -999.0,  -999.0,9,     -999.0,     -999.0,9,     -999.0,  28.4828,    35.2529,2,-999.0000,2,      0.340,2
33RO20150410,     P16N.1,      65,          1,         21,         21,2,20150427,       2321,     2.2199,  -150.9998,       4902,    76.3,  27.7788,  35.0317,2,  35.0347,2,    193.5,2,   194.4,2,    1.90,2,    2.80,2,    0.25,2,    0.55,2,-999.000,9,-999.000,9,-999.000,9,  -999.0,9,  -999.0,9,-999.0000,9,  -999.00,-999.000,9,-999.0000,9, -999.00,9,  27.7762, -999.00,9,  -999.0,9,  -999.0,-999.000,9,-999.000,  -999.0,9, -999.00,9,     -999.0,9, -999.00,9,-999.000,-999.0000, -999.00,     -999.0,     -999.0,9,     -999.0,     -999.0,9,     -999.0,  -999.0,9,     -999.0,     -999.0,9,     -999.0,  27.7609,    35.1999,2,-999.0000,2,      0.307,2
33RO20150410,     P16N.1,      65,          1,         20,         20,2,20150427,       2321,     2.2199,  -150.9998,       4902,   101.0,  26.5184,  35.0119,2,  35.0247,2,    155.9,2,   160.2,2,    2.70,2,    4.80,2,    0.50,2,    0.67,2,-999.000,9,-999.000,9,-999.000,9,  -999.0,9,  -999.0,9,-999.0000,9,  -999.00,-999.000,9,-999.0000,9, -999.00,9,  26.5127, -999.00,9,  -999.0,9,  -999.0,-999.000,9,-999.000,  -999.0,9, -999.00,9,     -999.0,9, -999.00,9,-999.000,-999.0000, -999.00,     -999.0,     -999.0,9,     -999.0,     -999.0,9,     -999.0,  -999.0,9,     -999.0,     -999.0,9,     -999.0,  26.4955,    35.1898,2,-999.0000,2,      0.216,2
33RO20150410,     P16N.1,      65,          1,         19,         19,2,20150427,       2321,     2.2199,  -150.9998,       4902,   150.0,  17.2096,  34.7275,2,  34.7348,2,    113.8,2,   113.4,2,   13.70,2,   15.90,2,    0.02,2,    1.31,2,-999.000,9,-999.000,9,-999.000,9,  -999.0,9,  -999.0,9,-999.0000,9,  -999.00,-999.000,9,-999.0000,9, -999.00,9,  17.1469, -999.00,9,  -999.0,9,  -999.0,-999.000,9,-999.000,  -999.0,9, -999.00,9,     -999.0,9, -999.00,9,-999.000,-999.0000, -999.00,     -999.0,     -999.0,9,     -999.0,     -999.0,9,     -999.0,  -999.0,9,     -999.0,     -999.0,9,     -999.0,  17.1847,    34.8985,2,-999.0000,2,      0.028,2
33RO20150410,     P16N.1,      65,          1,         18,         18,2,20150427,       2321,     2.2199,  -150.9998,       4902,   224.7,  11.5401,  34.8084,2,  34.8097,2,     59.0,2,    59.3,2,   24.10,2,   29.20,2,    0.01,2,    2.17,2,-999.000,9,-999.000,9,-999.000,9,  -999.0,9,  -999.0,9,-999.0000,9,  -999.00,-999.000,9,-999.0000,9, -999.00,9,  11.5383, -999.00,9,  -999.0,9,  -999.0,-999.000,9,-999.000,  -999.0,9, -999.00,9,     -999.0,9, -999.00,9,-999.000,-999.0000, -999.00,     -999.0,     -999.0,9,     -999.0,     -999.0,9,     -999.0,  -999.0,9,     -999.0,     -999.0,9,     -999.0,  11.5115,    34.9738,2,-999.0000,2,      0.003,2
33RO20150410,     P16N.1,      65,          1,         17,         17,2,20150427,       2321,     2.2199,  -150.9998,       4902,   300.7,  11.0022,  34.7821,2,  34.7812,2,     45.9,2,    45.8,2,   26.40,2,   31.50,2,    0.01,2,    2.31,2,-999.000,9,-999.000,9,-999.000,9,  -999.0,9,  -999.0,9,-999.0000,9,  -999.00,-999.000,9,-999.0000,9, -999.00,9,  11.0072, -999.00,9,  -999.0,9,  -999.0,-999.000,9,-999.000,  -999.0,9, -999.00,9,     -999.0,9, -999.00,9,-999.000,-999.0000, -999.00,     -999.0,     -999.0,9,     -999.0,     -999.0,9,     -999.0,  -999.0,9,     -999.0,     -999.0,9,     -999.0,  10.9650,    34.9452,2,-999.0000,2,     -999.0,9
33RO20150410,     P16N.1,      65,          1,         16,         16,2,20150427,       2321,     2.2199,  -150.9998,       4902,   400.2,   9.7596,  34.6932,2,  34.6933,2,     60.0,2,    59.6,2,   30.20,2,   32.70,2,    0.00,2,    2.36,2,-999.000,9,-999.000,9,-999.000,9,  -999.0,9,  -999.0,9,-999.0000,9,  -999.00,-999.000,9,-999.0000,9, -999.00,9,   9.7624, -999.00,9,  -999.0,9,  -999.0,-999.000,9,-999.000,  -999.0,9, -999.00,9,     -999.0,9, -999.00,9,-999.000,-999.0000, -999.00,     -999.0,     -999.0,9,     -999.0,     -999.0,9,     -999.0,  -999.0,9,     -999.0,     -999.0,9,     -999.0,   9.7136,    34.8569,2,-999.0000,2,     -999.0,9
33RO20150410,     P16N.1,      65,          1,         15,         15,2,20150427,       2321,     2.2199,  -150.9998,       4902,   500.9,   8.0916,  34.6129,2,  34.6118,2,     20.8,2,    24.2,2,   44.40,2,   39.00,2,    0.00,2,    2.88,2,-999.000,9,-999.000,9,-999.000,9,  -999.0,9,  -999.0,9,-999.0000,9,  -999.00,-999.000,9,-999.0000,9, -999.00,9,   8.0938, -999.00,9,  -999.0,9,  -999.0,-999.000,9,-999.000,  -999.0,9, -999.00,9,     -999.0,9, -999.00,9,-999.000,-999.0000, -999.00,     -999.0,     -999.0,9,     -999.0,     -999.0,9,     -999.0,  -999.0,9,     -999.0,     -999.0,9,     -999.0,   8.0399,    34.7750,2,-999.0000,2,     -999.0,9
33RO20150410,     P16N.1,      65,          1,         14,         14,2,20150427,       2321,     2.2199,  -150.9998,       4902,   650.5,   6.1786,  34.5503,2,  34.5566,2,     65.8,2,    66.8,2,   56.90,2,   39.00,2,    0.00,2,    2.84,2,-999.000,9,-999.000,9,-999.000,9,  -999.0,9,  -999.0,9,-999.0000,9,  -999.00,-999.000,9,-999.0000,9, -999.00,9,   6.1706, -999.00,9,  -999.0,9,  -999.0,-999.000,9,-999.000,  -999.0,9, -999.00,9,     -999.0,9, -999.00,9,-999.000,-999.0000, -999.00,     -999.0,     -999.0,9,     -999.0,     -999.0,9,     -999.0,  -999.0,9,     -999.0,     -999.0,9,     -999.0,   6.1201,    34.7195,2,-999.0000,2,     -999.0,9
33RO20150410,     P16N.1,      65,          1,         13,         13,2,20150427,       2321,     2.2199,  -150.9998,       4902,   801.5,   5.5225,  34.5441,2,  34.5434,2,     77.3,2,    77.8,2,   64.90,2,   38.90,2,    0.00,2,    2.84,2,-999.000,9,-999.000,9,-999.000,9,  -999.0,9,  -999.0,9,-999.0000,9,  -999.00,-999.000,9,-999.0000,9, -999.00,9,   5.5249, -999.00,9,  -999.0,9,  -999.0,-999.000,9,-999.000,  -999.0,9, -999.00,9,     -999.0,9, -999.00,9,-999.000,-999.0000, -999.00,     -999.0,     -999.0,9,     -999.0,     -999.0,9,     -999.0,  -999.0,9,     -999.0,     -999.0,9,     -999.0,   5.4536,    34.7063,2,-999.0000,2,     -999.0,9
33RO20150410,     P16N.1,      65,          1,         12,         12,2,20150427,       2321,     2.2199,  -150.9998,       4902,   946.7,   4.7890,  34.5520,2,  34.5517,2,     73.4,2,    74.4,2,   80.00,2,   40.10,2,    0.00,2,    2.91,2,-999.000,9,-999.000,9,-999.000,9,  -999.0,9,  -999.0,9,-999.0000,9,  -999.00,-999.000,9,-999.0000,9, -999.00,9,   4.7890, -999.00,9,  -999.0,9,  -999.0,-999.000,9,-999.000,  -999.0,9, -999.00,9,     -999.0,9, -999.00,9,-999.000,-999.0000, -999.00,     -999.0,     -999.0,9,     -999.0,     -999.0,9,     -999.0,  -999.0,9,     -999.0,     -999.0,9,     -999.0,   4.7119,    34.7146,2,-999.0000,2,     -999.0,9
33RO20150410,     P16N.1,      65,          1,         11,         11,2,20150427,       2321,     2.2199,  -150.9998,       4902,  1099.5,   4.2550,  34.5637,2,  34.5635,2,     77.5,2,    78.5,2,   90.90,2,   40.10,2,    0.00,2,    2.93,2,-999.000,9,-999.000,9,-999.000,9,  -999.0,9,  -999.0,9,-999.0000,9,  -999.00,-999.000,9,-999.0000,9, -999.00,9,   4.2540, -999.00,9,  -999.0,9,  -999.0,-999.000,9,-999.000,  -999.0,9, -999.00,9,     -999.0,9, -999.00,9,-999.000,-999.0000, -999.00,     -999.0,     -999.0,9,     -999.0,     -999.0,9,     -999.0,  -999.0,9,     -999.0,     -999.0,9,     -999.0,   4.1687,    34.7265,2,-999.0000,2,     -999.0,9
33RO20150410,     P16N.1,      65,          1,         10,         10,2,20150427,       2321,     2.2199,  -150.9998,       4902,  1302.5,   3.5534,  34.5845,2,  34.5832,2,     82.3,2,    83.2,2,  106.30,2,   40.00,2,    0.00,2,    2.94,2,-999.000,9,-999.000,9,-999.000,9,  -999.0,9,  -999.0,9,-999.0000,9,  -999.00,-999.000,9,-999.0000,9, -999.00,9,   3.5526, -999.00,9,  -999.0,9,  -999.0,-999.000,9,-999.000,  -999.0,9, -999.00,9,     -999.0,9, -999.00,9,-999.000,-999.0000, -999.00,     -999.0,     -999.0,9,     -999.0,     -999.0,9,     -999.0,  -999.0,9,     -999.0,     -999.0,9,     -999.0,   3.4562,    34.7462,2,-999.0000,2,     -999.0,9
33RO20150410,     P16N.1,      65,          1,          9,          9,2,20150427,       2321,     2.2199,  -150.9998,       4902,  1600.2,   2.9451,  34.6105,2,  34.6105,2,     86.6,2,    86.9,2,  122.00,2,   40.30,2,    0.00,2,    2.93,2,-999.000,9,-999.000,9,-999.000,9,  -999.0,9,  -999.0,9,-999.0000,9,  -999.00,-999.000,9,-999.0000,9, -999.00,9,   2.9466, -999.00,9,  -999.0,9,  -999.0,-999.000,9,-999.000,  -999.0,9, -999.00,9,     -999.0,9, -999.00,9,-999.000,-999.0000, -999.00,     -999.0,     -999.0,9,     -999.0,     -999.0,9,     -999.0,  -999.0,9,     -999.0,     -999.0,9,     -999.0,   2.8294,    34.7737,2,-999.0000,2,     -999.0,9
33RO20150410,     P16N.1,      65,          1,          8,          8,2,20150427,       2321,     2.2199,  -150.9998,       4902,  1994.4,   2.3393,  34.6390,2,  34.6390,2,    100.2,2,   100.5,2,  136.00,2,   39.40,2,    0.00,2,    2.85,2,-999.000,9,-999.000,9,-999.000,9,  -999.0,9,  -999.0,9,-999.0000,9,  -999.00,-999.000,9,-999.0000,9, -999.00,9,   2.3395, -999.00,9,  -999.0,9,  -999.0,-999.000,9,-999.000,  -999.0,9, -999.00,9,     -999.0,9, -999.00,9,-999.000,-999.0000, -999.00,     -999.0,     -999.0,9,     -999.0,     -999.0,9,     -999.0,  -999.0,9,     -999.0,     -999.0,9,     -999.0,   2.1981,    34.8023,2,-999.0000,2,     -999.0,9
33RO20150410,     P16N.1,      65,          1,          7,          7,2,20150427,       2321,     2.2199,  -150.9998,       4902,  2400.5,   1.8917,  34.6635,2,  34.6643,2,    114.6,2,   115.6,2,  145.30,2,   38.50,2,    0.00,2,    2.77,2,-999.000,9,-999.000,9,-999.000,9,  -999.0,9,  -999.0,9,-999.0000,9,  -999.00,-999.000,9,-999.0000,9, -999.00,9,   1.8912, -999.00,9,  -999.0,9,  -999.0,-999.000,9,-999.000,  -999.0,9, -999.00,9,     -999.0,9, -999.00,9,-999.000,-999.0000, -999.00,     -999.0,     -999.0,9,     -999.0,     -999.0,9,     -999.0,  -999.0,9,     -999.0,     -999.0,9,     -999.0,   1.7223,    34.8278,2,-999.0000,2,     -999.0,9
33RO20150410,     P16N.1,      65,          1,          6,          6,2,20150427,       2321,     2.2199,  -150.9998,       4902,  2797.5,   1.7480,  34.6709,2,  34.6716,2,    127.1,2,   127.1,2,  144.50,2,   37.60,2,    0.00,2,    2.69,2,-999.000,9,-999.000,9,-999.000,9,  -999.0,9,  -999.0,9,-999.0000,9,  -999.00,-999.000,9,-999.0000,9, -999.00,9,   1.7476, -999.00,9,  -999.0,9,  -999.0,-999.000,9,-999.000,  -999.0,9, -999.00,9,     -999.0,9, -999.00,9,-999.000,-999.0000, -999.00,     -999.0,     -999.0,9,     -999.0,     -999.0,9,     -999.0,  -999.0,9,     -999.0,     -999.0,9,     -999.0,   1.5450,    34.8351,6,-999.0000,2,     -999.0,9
33RO20150410,     P16N.1,      65,          1,          5,          5,2,20150427,       2321,     2.2199,  -150.9998,       4902,  3199.6,   1.6173,  34.6790,2,  34.6801,2,    135.8,2,   136.6,2,  145.10,2,   37.00,2,    0.00,2,    2.65,2,-999.000,9,-999.000,9,-999.000,9,  -999.0,9,  -999.0,9,-999.0000,9,  -999.00,-999.000,9,-999.0000,9, -999.00,9,   1.6165, -999.00,9,  -999.0,9,  -999.0,-999.000,9,-999.000,  -999.0,9, -999.00,9,     -999.0,9, -999.00,9,-999.000,-999.0000, -999.00,     -999.0,     -999.0,9,     -999.0,     -999.0,9,     -999.0,  -999.0,9,     -999.0,     -999.0,9,     -999.0,   1.3784,    34.8436,2,-999.0000,2,     -999.0,9
33RO20150410,     P16N.1,      65,          1,          4,          4,2,20150427,       2321,     2.2199,  -150.9998,       4902,  3599.9,   1.4354,  34.6909,2,  34.6901,2,    153.1,2,   153.4,2,  143.70,6,   35.90,6,    0.00,6,    2.56,6,-999.000,9,-999.000,9,-999.000,9,  -999.0,9,  -999.0,9,-999.0000,9,  -999.00,-999.000,9,-999.0000,9, -999.00,9,   1.4350, -999.00,9,  -999.0,9,  -999.0,-999.000,9,-999.000,  -999.0,9, -999.00,9,     -999.0,9, -999.00,9,-999.000,-999.0000, -999.00,     -999.0,     -999.0,9,     -999.0,     -999.0,9,     -999.0,  -999.0,9,     -999.0,     -999.0,9,     -999.0,   1.1606,    34.8537,2,-999.0000,2,     -999.0,9
33RO20150410,     P16N.1,      65,          1,          3,          3,2,20150427,       2321,     2.2199,  -150.9998,       4902,  4000.5,   1.4229,  34.6935,2,  34.6937,2,    158.1,2,   158.3,2,  141.60,6,   35.60,6,    0.00,6,    2.52,6,-999.000,9,-999.000,9,-999.000,9,  -999.0,9,  -999.0,9,-999.0000,9,  -999.00,-999.000,9,-999.0000,9, -999.00,9,   1.4227, -999.00,9,  -999.0,9,  -999.0,-999.000,9,-999.000,  -999.0,9, -999.00,9,     -999.0,9, -999.00,9,-999.000,-999.0000, -999.00,     -999.0,     -999.0,9,     -999.0,     -999.0,9,     -999.0,  -999.0,9,     -999.0,     -999.0,9,     -999.0,   1.1060,    34.8573,2,-999.0000,2,     -999.0,9
33RO20150410,     P16N.1,      65,          1,          2,          2,2,20150427,       2321,     2.2199,  -150.9998,       4902,  4399.8,   1.3877,  34.6965,2,  34.6962,2,    166.7,2,   167.0,2,  136.70,6,   35.00,6,    0.00,6,    2.49,6,-999.000,9,-999.000,9,-999.000,9,  -999.0,9,  -999.0,9,-999.0000,9,  -999.00,-999.000,9,-999.0000,9, -999.00,9,   1.3873, -999.00,9,  -999.0,9,  -999.0,-999.000,9,-999.000,  -999.0,9, -999.00,9,     -999.0,9, -999.00,9,-999.000,-999.0000, -999.00,     -999.0,     -999.0,9,     -999.0,     -999.0,9,     -999.0,  -999.0,9,     -999.0,     -999.0,9,     -999.0,   1.0275,    34.8598,2,-999.0000,2,     -999.0,9
33RO20150410,     P16N.1,      65,          1,          1,          1,2,20150427,       2321,     2.2199,  -150.9998,       4902,  4713.9,   1.3995,  34.6979,2,  34.6976,2,    169.9,2,   171.3,2,  134.50,6,   34.70,6,    0.00,6,    2.46,6,-999.000,9,-999.000,9,-999.000,9,  -999.0,9,  -999.0,9,-999.0000,9,  -999.00,-999.000,9,-999.0000,9, -999.00,9,   1.3993, -999.00,9,  -999.0,9,  -999.0,-999.000,9,-999.000,  -999.0,9, -999.00,9,     -999.0,9, -999.00,9,-999.000,-999.0000, -999.00,     -999.0,     -999.0,9,     -999.0,     -999.0,9,     -999.0,  -999.0,9,     -999.0,     -999.0,9,     -999.0,   1.0026,    34.8612,2,-999.0000,9,     -999.0,9