BOTTLE,20210709CCHSIOCBG
EXPOCODE,SECT_ID,STNNBR,CASTNO,SAMPNO,BTLNBR,BTLNBR_FLAG_W,DATE,TIME,LATITUDE,LONGITUDE,DEPTH,CTDPRS,CTDTMP,CTDSAL,CTDSAL_FLAG_W,SALNTY,SALNTY_FLAG_W,CTDOXY,CTDOXY_FLAG_W,OXYGEN,OXYGEN_FLAG_W,SILCAT,SILCAT_FLAG_W,NITRAT,NITRAT_FLAG_W,NITRIT,NITRIT_FLAG_W,PHSPHT,PHSPHT_FLAG_W,CFC-11,CFC-11_FLAG_W,CFC-12,CFC-12_FLAG_W,SF6,SF6_FLAG_W,TCARBN,TCARBN_FLAG_W,ALKALI,ALKALI_FLAG_W,PH_TOT,PH_TOT_FLAG_W,PH_TMP,TRITUM,TRITUM_FLAG_W,HELIUM,HELIUM_FLAG_W,DELHE3,DELHE3_FLAG_W,REFTMP,DELC13,DELC13_FLAG_W,DELC14,DELC14_FLAG_W,C14ERR,NEON,NEON_FLAG_W,NEONER,DOC,DOC_FLAG_W,TDN,TDN_FLAG_W,N2O,N2O_FLAG_W,ARGON,ARGON_FLAG_W,TRITER,HELIER,DELHER,ARGONER,KRYPTON,KRYPTON_FLAG_W,KRYPTONER,XENON,XENON_FLAG_W,XENONER,14C-DOC,14C-DOC_FLAG_W,14C-DOCERR,13C-DOC,13C-DOC_FLAG_W,13C-DOCERR,THETA,SALTREF,SALTREF_FLAG_W,SBE35,SBE35_FLAG_W,CHLORA,CHLORA_FLAG_W
,,,,,,,,,,,METERS,DBAR,ITS-90,PSS-78,,PSS-78,,UMOL/KG,,UMOL/KG,,UMOL/KG,,UMOL/KG,,UMOL/KG,,UMOL/KG,,PMOL/KG,,PMOL/KG,,FMOL/KG,,UMOL/KG,,UMOL/KG,,,,DEG C,TU,,NMOL/KG,,PERCNT,,DEG C,/MILLE,,/MILLE,,/MILLE,NMOL/KG,,NMOL/KG,UMOL/KG,,UMOL/KG,,NMOL/KG,,UMOL/KG,,TU,NMOL/KG,PERCNT,UMOL/KG,NMOL/KG,,NMOL/KG,NMOL/KG,,NMOL/KG,/MILLE,,/MILLE,/MILLE,,/MILLE,DEG C,G/KG,,ITS-90,,MG/M3,
33RO20150410,     P16N.1,      51,          1,         24,         24,2,20150424,       2324,    -0.0030,  -151.0000,       4409,    15.0,  28.1921,  35.1494,2,  35.1481,2,    196.0,2,   198.7,2,    1.80,2,    3.00,2,    0.29,2,    0.43,4,   1.524,3,   0.958,2,   1.202,2,  2010.9,2,  2312.4,2,   8.0349,2,    25.01,   0.293,2,-999.0000,9, -999.00,9,-999.0000, -999.00,9,  -999.0,9,  -999.0,-999.000,9,-999.000,  -999.0,9, -999.00,9,      7.122,3, -999.00,9,   0.002,-999.0000, -999.00,     -999.0,     -999.0,9,     -999.0,     -999.0,9,     -999.0,  -275.0,2,        4.0,     -999.0,5,     -999.0,  28.1885,    35.3139,2,-999.0000,2,      0.261,2
33RO20150410,     P16N.1,      51,          1,         23,         23,2,20150424,       2324,    -0.0030,  -151.0000,       4409,    33.8,  28.1217,  35.1438,2,  35.1447,2,    196.4,2,   186.5,4,    1.80,2,    3.10,2,    0.33,2,    0.44,4,   1.532,3,   0.955,6,   1.242,6,  2015.9,2,  2313.6,6,   8.0329,6,    24.99,   0.301,2,   1.6838,2,   -1.64,2,-999.0000, -999.00,9,  -999.0,9,  -999.0,   6.567,2,   0.016,  -999.0,9, -999.00,9,      7.196,3,    9.82,2,   0.004,   0.0044,    0.20,       0.02,       2.11,2,       0.01,       0.28,2,       0.00,  -999.0,9,     -999.0,     -999.0,9,     -999.0,  28.1137,    35.3105,6,-999.0000,2,      0.346,2
33RO20150410,     P16N.1,      51,          1,         22,         22,9,20150424,       2324,    -0.0030,  -151.0000,       4409,    58.2,  27.9124,  35.1579,2,-999.0000,9,    190.9,2,  -999.0,9, -999.00,9, -999.00,9, -999.00,9, -999.00,9,-999.000,9,-999.000,9,-999.000,9,  -999.0,9,  -999.0,9,-999.0000,9,  -999.00,-999.000,9,-999.0000,9, -999.00,9,-999.0000, -999.00,9,  -999.0,9,  -999.0,-999.000,9,-999.000,  -999.0,9, -999.00,9,     -999.0,9, -999.00,9,-999.000,-999.0000, -999.00,     -999.0,     -999.0,9,     -999.0,     -999.0,9,     -999.0,  -999.0,9,     -999.0,     -999.0,9,     -999.0,-999.0000,     -999.0,9,-999.0000,2,     -999.0,9
33RO20150410,     P16N.1,      51,          1,         21,         21,2,20150424,       2324,    -0.0030,  -151.0000,       4409,    84.8,  27.8277,  35.3293,2,  35.3302,2,    178.8,2,   178.2,2,    2.00,2,    5.00,2,    0.73,2,    0.58,4,   1.557,3,   0.975,2,   1.222,2,  2034.8,2,  2322.8,2,   8.0073,6,    25.00,   0.293,2,   1.6887,2,   -1.33,2,-999.0000, -999.00,9,  -999.0,9,  -999.0,   6.569,2,   0.016,  -999.0,9, -999.00,9,      7.436,3,    9.84,2,   0.004,   0.0044,    0.20,       0.02,       2.12,2,       0.01,       0.28,2,       0.00,  -999.0,9,     -999.0,     -999.0,9,     -999.0,  27.8078,    35.4968,2,-999.0000,2,      0.438,2
33RO20150410,     P16N.1,      51,          1,         20,         20,2,20150424,       2324,    -0.0030,  -151.0000,       4409,   108.3,  27.1203,  35.3782,2,  35.3810,2,    166.7,2,   166.3,2,    2.30,2,    7.50,2,    0.17,2,    0.70,4,   1.582,3,   1.003,2,   1.218,2,  2051.9,2,  2325.2,2,   7.9812,2,    24.99,   0.282,2,   1.6901,2,   -1.15,2,-999.0000, -999.00,9,  -999.0,9,  -999.0,   6.598,2,   0.016,  -999.0,9, -999.00,9,      7.484,3,    9.95,2,   0.003,   0.0044,    0.20,       0.02,       2.14,2,       0.01,       0.28,2,       0.00,  -999.0,9,     -999.0,     -999.0,9,     -999.0,  27.0953,    35.5479,2,-999.0000,2,      0.219,2
33RO20150410,     P16N.1,      51,          1,         19,         19,2,20150424,       2324,    -0.0030,  -151.0000,       4409,   141.9,  21.9040,  35.1560,2,  35.1702,2,    128.5,2,   129.0,2,    5.50,2,   10.20,2,    0.04,2,    0.80,4,   1.864,2,   1.135,2,   1.077,2,  2090.2,2,  2312.2,2,   7.8899,2,    24.98,   0.312,2,-999.0000,9, -999.00,9,-999.0000, -999.00,9,  -999.0,9,  -999.0,-999.000,9,-999.000,  -999.0,9, -999.00,9,     12.774,3, -999.00,9,   0.002,-999.0000, -999.00,     -999.0,     -999.0,9,     -999.0,     -999.0,9,     -999.0,  -999.0,9,     -999.0,     -999.0,9,     -999.0,  21.8760,    35.3361,2,-999.0000,2,      0.045,2
33RO20150410,     P16N.1,      51,          1,         18,         18,2,20150424,       2324,    -0.0030,  -151.0000,       4409,   200.8,  14.2368,  35.0515,2,  35.0536,2,    126.7,2,   127.2,2,   11.90,2,   18.10,2,    0.01,2,    1.31,4,   1.814,2,   1.020,2,   0.669,2,  2155.7,2,  2313.9,2,   7.7466,2,    25.00,   0.197,2,   1.7516,2,    2.00,2,-999.0000, -999.00,9,  -999.0,9,  -999.0,   7.224,2,   0.018,  -999.0,9, -999.00,9,     21.972,3,   12.70,2,   0.003,   0.0046,    0.20,       0.02,       2.92,2,       0.01,       0.41,2,       0.00,  -999.0,9,     -999.0,     -999.0,9,     -999.0,  14.2074,    35.2189,2,-999.0000,2,      0.007,2
33RO20150410,     P16N.1,      51,          1,         17,         17,2,20150424,       2324,    -0.0030,  -151.0000,       4409,   261.1,  12.5206,  34.8829,2,  34.8815,2,    110.7,2,   108.3,2,   18.10,2,   22.60,2,    0.01,2,    1.57,4,   1.556,2,   0.859,2,   0.496,2,  2180.6,2,  2308.9,2,   7.6733,2,    25.00,   0.164,2,   1.7853,2,    3.34,2,-999.0000, -999.00,9,  -999.0,9,  -999.0,   7.394,2,   0.018,  -999.0,9, -999.00,9,     29.332,3,   13.21,2,   0.004,   0.0046,    0.20,       0.02,       3.04,2,       0.01,       0.43,2,       0.00,  -999.0,9,     -999.0,     -999.0,9,     -999.0,  12.4855,    35.0460,2,-999.0000,2,      0.002,2
33RO20150410,     P16N.1,      51,          1,         16,         16,2,20150424,       2324,    -0.0030,  -151.0000,       4409,   349.5,  10.8021,  34.7754,2,  34.7743,2,     32.3,2,    32.0,2,   28.60,2,   33.10,2,    0.01,2,    2.25,4,   0.780,2,   0.433,2,   0.199,2,  2247.9,2,  2304.1,2,   7.4722,2,    24.98,   0.100,2,   1.7807,6,    5.55,6,-999.0000, -999.00,9,  -999.0,9,  -999.0,   7.436,6,   0.014,  -999.0,9, -999.00,9,     56.445,3,   13.62,6,   0.002,   0.0035,    0.20,       0.02,       3.16,6,       0.01,       0.46,6,       0.00,  -999.0,9,     -999.0,     -999.0,9,     -999.0,  10.7593,    34.9383,2,-999.0000,2,     -999.0,9
33RO20150410,     P16N.1,      51,          1,         15,         15,2,20150424,       2324,    -0.0030,  -151.0000,       4409,   433.7,   8.5432,  34.6448,2,  34.6440,2,     36.2,2,    35.5,2,   38.40,2,   37.50,2,    0.02,2,    2.51,4,   0.291,2,   0.158,2,   0.041,2,  2265.0,2,  2308.9,2,   7.4323,2,    24.99,   0.040,2,   1.7960,2,    7.05,2,-999.0000, -999.00,9,  -999.0,9,  -999.0,   7.563,2,   0.019,  -999.0,9, -999.00,9,     52.053,3,   14.20,2,   0.002,   0.0047,    0.14,       0.03,       3.35,2,       0.01,       0.49,2,       0.00,  -999.0,9,     -999.0,     -999.0,9,     -999.0,   8.4971,    34.8074,2,-999.0000,2,     -999.0,9
33RO20150410,     P16N.1,      51,          1,         14,         14,2,20150424,       2324,    -0.0030,  -151.0000,       4409,   551.0,   7.1809,  34.5816,2,  34.5823,2,     55.6,2,    55.3,2,   46.40,2,   38.30,2,    0.02,2,    2.60,4,   0.153,2,   0.082,2,       0,2,  2266.0,2,  2316.3,2,   7.4488,6,    25.00,   0.014,2,   1.8120,2,    8.66,2,-999.0000, -999.00,9,  -999.0,9,  -999.0,   7.635,2,   0.019,  -999.0,9, -999.00,9,     44.165,3,   14.64,2,   0.001,   0.0047,    0.20,       0.03,       3.46,2,       0.01,       0.51,2,       0.00,  -999.0,9,     -999.0,     -999.0,9,     -999.0,   7.1276,    34.7454,2,-999.0000,2,     -999.0,9
33RO20150410,     P16N.1,      51,          1,         13,         13,2,20150424,       2324,    -0.0030,  -151.0000,       4409,   699.9,   5.7697,  34.5496,2,  34.5499,2,     67.6,2,    67.9,2,   62.50,2,   39.50,2,    0.02,2,    2.72,4,   0.040,2,   0.023,2,       0,2,  2280.7,2,  2331.9,2,   7.4530,2,    24.98,   0.019,2,   1.8344,2,   12.92,2,-999.0000, -999.00,9,  -999.0,9,  -999.0,   7.747,2,   0.019,  -999.0,9, -999.00,9,     38.443,3,   15.07,2,   0.002,   0.0048,    0.20,       0.03,       3.58,2,       0.01,       0.53,2,       0.00,  -999.0,9,     -999.0,     -999.0,9,     -999.0,   5.7087,    34.7128,2,-999.0000,2,     -999.0,9
33RO20150410,     P16N.1,      51,          1,         12,         12,2,20150424,       2324,    -0.0030,  -151.0000,       4409,   850.0,   5.1446,  34.5463,2,  34.5464,2,     79.0,2,    78.6,2,   71.50,2,   39.00,2,    0.03,2,    2.73,4,   0.036,2,   0.016,2,   0.024,3,  2287.0,2,  2342.6,2,   7.4676,2,    24.99,   0.006,2,   1.8493,2,   14.22,2,-999.0000, -999.00,9,  -999.0,9,  -999.0,   7.805,2,   0.020,  -999.0,9, -999.00,9,     35.380,3,   15.30,2,   0.001,   0.0048,    0.20,       0.03,       3.65,2,       0.01,       0.54,2,       0.00,  -999.0,9,     -999.0,     -999.0,9,     -999.0,   5.0737,    34.7093,2,-999.0000,2,     -999.0,9
33RO20150410,     P16N.1,      51,          1,         11,         11,2,20150424,       2324,    -0.0030,  -151.0000,       4409,   999.5,   4.5380,  34.5554,2,  34.5560,2,     80.8,2,    79.9,2,   83.50,2,   39.60,2,    0.01,2,    2.78,4,   0.013,2,   0.009,2,   0.058,3,  2297.7,2,  2356.0,2,   7.4671,2,    24.98,   0.000,6,   1.8838,6,   17.68,6,-999.0000, -999.00,9,  -999.0,9,  -999.0,   7.908,6,   0.012,  -999.0,9, -999.00,9,     34.741,3,   15.57,6,   0.002,   0.0035,    0.14,       0.01,       3.72,6,       0.01,       0.56,6,       0.00,  -999.0,9,     -999.0,     -999.0,9,     -999.0,   4.4582,    34.7190,2,-999.0000,2,     -999.0,9
33RO20150410,     P16N.1,      51,          1,         10,         10,2,20150424,       2324,    -0.0030,  -151.0000,       4409,  1167.3,   3.8774,  34.5730,2,  34.5733,2,     83.2,2,    83.3,2,   98.40,2,   39.60,2,    0.01,2,    2.83,4,   0.005,2,   0.003,2,   0.021,3,  2313.6,2,  2373.4,2,   7.4685,6,    25.00,  -0.001,2,   1.9203,2,   20.00,2,-999.0000, -999.00,9,  -999.0,9,  -999.0,   8.030,2,   0.020,  -999.0,9, -999.00,9,     32.913,3,   15.77,2,   0.001,   0.0050,    0.20,       0.03,       3.78,2,       0.01,       0.57,2,       0.00,  -999.0,9,     -999.0,     -999.0,9,     -999.0,   3.7886,    34.7363,2,-999.0000,2,     -999.0,9
33RO20150410,     P16N.1,      51,          1,          9,     -999.0,9,20150424,       2324,    -0.0030,  -151.0000,       4409,  1399.3,   3.2311,  34.5960,2,-999.0000,9,     88.9,2,  -999.0,9, -999.00,9, -999.00,9, -999.00,9, -999.00,9,-999.000,9,-999.000,9,-999.000,9,  -999.0,9,  -999.0,9,-999.0000,9,  -999.00,-999.000,9,-999.0000,9, -999.00,9,-999.0000, -999.00,9,  -999.0,9,  -999.0,-999.000,9,-999.000,  -999.0,9, -999.00,9,     -999.0,9, -999.00,9,-999.000,-999.0000, -999.00,     -999.0,     -999.0,9,     -999.0,     -999.0,9,     -999.0,  -999.0,9,     -999.0,     -999.0,9,     -999.0,-999.0000,     -999.0,9,-999.0000,2,     -999.0,9
33RO20150410,     P16N.1,      51,          1,          8,          8,2,20150424,       2324,    -0.0030,  -151.0000,       4409,  1732.6,   2.6292,  34.6228,2,  34.6244,2,     97.7,2,    98.7,2,  128.30,2,   39.30,2,    0.02,2,    2.81,4,   0.003,6,   0.003,6,       0,6,  2337.9,2,  2406.4,2,   7.4925,2,    24.99,  -0.001,2,   1.9116,2,   25.05,2,-999.0000, -999.00,9,  -999.0,9,  -999.0,   7.990,2,   0.020,  -999.0,9, -999.00,9,     27.731,3,   16.12,2,   0.001,   0.0050,    0.20,       0.03,       3.89,2,       0.01,       0.59,2,       0.00,  -999.0,9,     -999.0,     -999.0,9,     -999.0,   2.5063,    34.7877,2,-999.0000,2,     -999.0,9
33RO20150410,     P16N.1,      51,          1,          7,          7,2,20150424,       2324,    -0.0030,  -151.0000,       4409,  2134.1,   2.0697,  34.6524,2,  34.6545,2,    111.4,2,   111.9,2,  141.50,2,   38.50,2,    0.01,2,    2.76,4,  -0.005,2,   0.000,2,       0,2,  2344.5,2,  2422.6,2,   7.5164,2,    25.00,-999.000,9,-999.0000,9, -999.00,9,-999.0000, -999.00,9,  -999.0,9,  -999.0,-999.000,9,-999.000,  -999.0,9, -999.00,9,     25.156,3, -999.00,9,-999.000,-999.0000, -999.00,     -999.0,     -999.0,9,     -999.0,     -999.0,9,     -999.0,  -999.0,9,     -999.0,     -999.0,9,     -999.0,   1.9207,    34.8179,2,-999.0000,2,     -999.0,9
33RO20150410,     P16N.1,      51,          1,          6,          6,2,20150424,       2324,    -0.0030,  -151.0000,       4409,  2533.4,   1.8595,  34.6644,2,  34.6655,2,    120.5,2,   121.3,2,  144.90,2,   37.80,2,    0.01,2,    2.71,4,   0.003,6,   0.001,6,       0,6,  2343.7,6,  2426.2,2,   7.5340,2,    24.99,-999.000,9,-999.0000,9, -999.00,9,-999.0000, -999.00,9,  -999.0,9,  -999.0,-999.000,9,-999.000,  -999.0,9, -999.00,9,     23.500,3, -999.00,9,-999.000,-999.0000, -999.00,     -999.0,     -999.0,9,     -999.0,     -999.0,9,     -999.0,  -999.0,9,     -999.0,     -999.0,9,     -999.0,   1.6787,    34.8289,2,-999.0000,2,     -999.0,9
33RO20150410,     P16N.1,      51,          1,          5,          5,2,20150424,       2324,    -0.0030,  -151.0000,       4409,  2931.6,   1.7316,  34.6722,2,  34.6738,2,    129.8,2,   130.3,2,  145.40,2,   37.30,2,    0.01,2,    2.66,4,   0.001,2,  -0.001,2,       0,2,  2340.4,2,  2428.8,2,   7.5491,2,    24.99,-999.000,9,-999.0000,9, -999.00,9,-999.0000, -999.00,9,  -999.0,9,  -999.0,-999.000,9,-999.000,  -999.0,9, -999.00,9,     22.504,3, -999.00,9,-999.000,-999.0000, -999.00,     -999.0,     -999.0,9,     -999.0,     -999.0,9,     -999.0,  -999.0,9,     -999.0,     -999.0,9,     -999.0,   1.5163,    34.8373,6,-999.0000,2,     -999.0,9
33RO20150410,     P16N.1,      51,          1,          4,          4,2,20150424,       2324,    -0.0030,  -151.0000,       4409,  3331.9,   1.5842,  34.6806,2,  34.6808,2,    142.2,2,   141.5,2,  143.70,6,   36.60,6,    0.01,6,    2.60,4,  -0.001,2,   0.000,2,       0,2,  2332.6,2,  2426.2,6,   7.5670,6,    24.99,-999.000,9,-999.0000,9, -999.00,9,-999.0000, -999.00,9,  -999.0,9,  -999.0,-999.000,9,-999.000,  -999.0,9, -999.00,9,     21.040,3, -999.00,9,-999.000,-999.0000, -999.00,     -999.0,     -999.0,9,     -999.0,     -999.0,9,     -999.0,  -999.0,9,     -999.0,     -999.0,9,     -999.0,   1.3330,    34.8443,2,-999.0000,2,     -999.0,9
33RO20150410,     P16N.1,      51,          1,          3,          3,2,20150424,       2324,    -0.0030,  -151.0000,       4409,  3733.1,   1.4369,  34.6910,2,  34.6918,2,    155.4,2,   155.4,2,  143.20,6,   35.70,6,    0.01,6,    2.53,4,  -0.002,2,   0.000,2,   0.031,3,  2325.1,2,  2428.2,2,   7.5906,2,    25.02,-999.000,9,-999.0000,9, -999.00,9,-999.0000, -999.00,9,  -999.0,9,  -999.0,-999.000,9,-999.000,  -999.0,9, -999.00,9,     20.904,3, -999.00,9,-999.000,-999.0000, -999.00,     -999.0,     -999.0,9,     -999.0,     -999.0,9,     -999.0,  -999.0,9,     -999.0,     -999.0,9,     -999.0,   1.1482,    34.8554,2,-999.0000,2,     -999.0,9
33RO20150410,     P16N.1,      51,          1,          2,          2,2,20150424,       2324,    -0.0030,  -151.0000,       4409,  4132.4,   1.4122,  34.6944,2,  34.6948,2,    161.7,2,   161.3,2,  141.30,6,   35.20,6,    0.01,6,    2.50,4,   0.004,2,  -0.001,2,       0,2,  2321.3,6,  2426.6,2,   7.5982,6,    25.01,-999.000,9,-999.0000,9, -999.00,9,-999.0000, -999.00,9,  -999.0,9,  -999.0,-999.000,9,-999.000,  -999.0,9, -999.00,9,     20.170,3, -999.00,9,-999.000,-999.0000, -999.00,     -999.0,     -999.0,9,     -999.0,     -999.0,9,     -999.0,  -999.0,9,     -999.0,     -999.0,9,     -999.0,   1.0812,    34.8584,2,-999.0000,2,     -999.0,9
33RO20150410,     P16N.1,      51,          1,          1,          1,2,20150424,       2324,    -0.0030,  -151.0000,       4409,  4398.9,   1.3889,  34.6969,2,  34.6958,2,    167.3,2,   170.5,3,  137.60,6,   34.80,6,    0.01,6,    2.46,4,  -0.001,6,   0.001,6,       0,6,  2314.1,2,  2420.4,6,   7.6027,2,    25.00,-999.000,9,-999.0000,9, -999.00,9,-999.0000, -999.00,9,  -999.0,9,  -999.0,-999.000,9,-999.000,  -999.0,9, -999.00,9,     19.927,3, -999.00,9,-999.000,-999.0000, -999.00,     -999.0,     -999.0,9,     -999.0,     -999.0,9,     -999.0,  -999.0,9,     -999.0,     -999.0,9,     -999.0,   1.0288,    34.8594,2,-999.0000,2,     -999.0,9