BOTTLE,20210709CCHSIOCBG
EXPOCODE,SECT_ID,STNNBR,CASTNO,SAMPNO,BTLNBR,BTLNBR_FLAG_W,DATE,TIME,LATITUDE,LONGITUDE,DEPTH,CTDPRS,CTDTMP,CTDSAL,CTDSAL_FLAG_W,SALNTY,SALNTY_FLAG_W,CTDOXY,CTDOXY_FLAG_W,OXYGEN,OXYGEN_FLAG_W,SILCAT,SILCAT_FLAG_W,NITRAT,NITRAT_FLAG_W,NITRIT,NITRIT_FLAG_W,PHSPHT,PHSPHT_FLAG_W,CFC-11,CFC-11_FLAG_W,CFC-12,CFC-12_FLAG_W,SF6,SF6_FLAG_W,TCARBN,TCARBN_FLAG_W,ALKALI,ALKALI_FLAG_W,PH_TOT,PH_TOT_FLAG_W,PH_TMP,TRITUM,TRITUM_FLAG_W,HELIUM,HELIUM_FLAG_W,DELHE3,DELHE3_FLAG_W,REFTMP,DELC13,DELC13_FLAG_W,DELC14,DELC14_FLAG_W,C14ERR,NEON,NEON_FLAG_W,NEONER,DOC,DOC_FLAG_W,TDN,TDN_FLAG_W,N2O,N2O_FLAG_W,ARGON,ARGON_FLAG_W,TRITER,HELIER,DELHER,ARGONER,KRYPTON,KRYPTON_FLAG_W,KRYPTONER,XENON,XENON_FLAG_W,XENONER,14C-DOC,14C-DOC_FLAG_W,14C-DOCERR,13C-DOC,13C-DOC_FLAG_W,13C-DOCERR,THETA,SALTREF,SALTREF_FLAG_W,SBE35,SBE35_FLAG_W,CHLORA,CHLORA_FLAG_W
,,,,,,,,,,,METERS,DBAR,ITS-90,PSS-78,,PSS-78,,UMOL/KG,,UMOL/KG,,UMOL/KG,,UMOL/KG,,UMOL/KG,,UMOL/KG,,PMOL/KG,,PMOL/KG,,FMOL/KG,,UMOL/KG,,UMOL/KG,,,,DEG C,TU,,NMOL/KG,,PERCNT,,DEG C,/MILLE,,/MILLE,,/MILLE,NMOL/KG,,NMOL/KG,UMOL/KG,,UMOL/KG,,NMOL/KG,,UMOL/KG,,TU,NMOL/KG,PERCNT,UMOL/KG,NMOL/KG,,NMOL/KG,NMOL/KG,,NMOL/KG,/MILLE,,/MILLE,/MILLE,,/MILLE,DEG C,G/KG,,ITS-90,,MG/M3,
33RO20150410,     P16N.1,      33,          1,         24,         24,2,20150420,       0558,    -2.8800,  -151.0001,       4836,     6.0,  28.5221,  35.2642,2,  35.2633,2,    199.4,2,   200.4,2,    1.80,2,    3.70,2,    0.10,2,    0.26,4,-999.000,9,-999.000,9,-999.000,9,  2016.2,6,  2320.8,6,   8.0398,2,    25.00,-999.000,9,-999.0000,9, -999.00,9,  28.5222, -999.00,9,  -999.0,9,  -999.0,-999.000,9,-999.000,  -999.0,9, -999.00,9,     -999.0,9, -999.00,9,-999.000,-999.0000, -999.00,     -999.0,     -999.0,9,     -999.0,     -999.0,9,     -999.0,  -266.0,2,        4.0,      -21.2,2,        0.2,  28.5207,    35.4296,2,-999.0000,2,     -999.0,9
33RO20150410,     P16N.1,      33,          1,         23,         23,2,20150420,       0558,    -2.8800,  -151.0001,       4836,    20.9,  28.5295,  35.2636,2,  35.2642,2,    199.8,2,   200.3,2,    1.80,2,    3.70,2,    0.09,2,    0.26,4,-999.000,9,-999.000,9,-999.000,9,  -999.0,9,  -999.0,9,-999.0000,9,  -999.00,-999.000,9,-999.0000,9, -999.00,9,  28.5298, -999.00,9,  -999.0,9,  -999.0,-999.000,9,-999.000,  -999.0,9, -999.00,9,     -999.0,9, -999.00,9,-999.000,-999.0000, -999.00,     -999.0,     -999.0,9,     -999.0,     -999.0,9,     -999.0,  -999.0,9,     -999.0,     -999.0,9,     -999.0,  28.5245,    35.4304,2,-999.0000,2,     -999.0,9
33RO20150410,     P16N.1,      33,          1,         22,         22,2,20150420,       0558,    -2.8800,  -151.0001,       4836,    42.6,  28.4469,  35.2651,2,  35.2696,2,    200.9,2,   200.5,2,    1.80,2,    3.70,2,    0.09,2,    0.27,4,-999.000,9,-999.000,9,-999.000,9,  -999.0,9,  -999.0,9,-999.0000,9,  -999.00,-999.000,9,-999.0000,9, -999.00,9,  28.4435, -999.00,9,  -999.0,9,  -999.0,-999.000,9,-999.000,  -999.0,9, -999.00,9,     -999.0,9, -999.00,9,-999.000,-999.0000, -999.00,     -999.0,     -999.0,9,     -999.0,     -999.0,9,     -999.0,  -999.0,9,     -999.0,     -999.0,9,     -999.0,  28.4367,    35.4359,2,-999.0000,2,     -999.0,9
33RO20150410,     P16N.1,      33,          1,         21,         21,2,20150420,       0558,    -2.8800,  -151.0001,       4836,    67.5,  28.2758,  35.2662,2,  35.2676,2,    199.7,2,   200.2,2,    1.90,2,    3.90,2,    0.10,2,    0.28,4,-999.000,9,-999.000,9,-999.000,9,  -999.0,9,  -999.0,9,-999.0000,9,  -999.00,-999.000,9,-999.0000,9, -999.00,9,  28.2768, -999.00,9,  -999.0,9,  -999.0,-999.000,9,-999.000,  -999.0,9, -999.00,9,     -999.0,9, -999.00,9,-999.000,-999.0000, -999.00,     -999.0,     -999.0,9,     -999.0,     -999.0,9,     -999.0,  -999.0,9,     -999.0,     -999.0,9,     -999.0,  28.2598,    35.4339,6,-999.0000,2,     -999.0,9
33RO20150410,     P16N.1,      33,          1,         20,         20,2,20150420,       0558,    -2.8800,  -151.0001,       4836,    92.3,  27.7932,  35.3233,2,  35.3348,2,    198.2,2,   198.1,2,    2.10,2,    4.50,2,    0.08,2,    0.36,4,-999.000,9,-999.000,9,-999.000,9,  -999.0,9,  -999.0,9,-999.0000,9,  -999.00,-999.000,9,-999.0000,9, -999.00,9,  27.8090, -999.00,9,  -999.0,9,  -999.0,-999.000,9,-999.000,  -999.0,9, -999.00,9,     -999.0,9, -999.00,9,-999.000,-999.0000, -999.00,     -999.0,     -999.0,9,     -999.0,     -999.0,9,     -999.0,  -999.0,9,     -999.0,     -999.0,9,     -999.0,  27.7715,    35.5014,2,-999.0000,2,     -999.0,9
33RO20150410,     P16N.1,      33,          1,         19,         19,2,20150420,       0558,    -2.8800,  -151.0001,       4836,   132.7,  25.5633,  35.3248,2,  35.3259,2,    187.4,2,   187.7,2,    2.60,2,    5.90,2,    0.37,2,    0.56,4,-999.000,9,-999.000,9,-999.000,9,  -999.0,9,  -999.0,9,-999.0000,9,  -999.00,-999.000,9,-999.0000,9, -999.00,9,  25.6148, -999.00,9,  -999.0,9,  -999.0,-999.000,9,-999.000,  -999.0,9, -999.00,9,     -999.0,9, -999.00,9,-999.000,-999.0000, -999.00,     -999.0,     -999.0,9,     -999.0,     -999.0,9,     -999.0,  -999.0,9,     -999.0,     -999.0,9,     -999.0,  25.5340,    35.4925,2,-999.0000,2,     -999.0,9
33RO20150410,     P16N.1,      33,          1,         18,         18,2,20150420,       0558,    -2.8800,  -151.0001,       4836,   201.3,  12.9103,  34.9195,2,  34.9199,2,     22.8,2,    27.6,2,   21.80,2,   29.70,2,    0.01,2,    1.83,4,-999.000,9,-999.000,9,-999.000,9,  -999.0,9,  -999.0,9,-999.0000,9,  -999.00,-999.000,9,-999.0000,9, -999.00,9,  12.9104, -999.00,9,  -999.0,9,  -999.0,-999.000,9,-999.000,  -999.0,9, -999.00,9,     -999.0,9, -999.00,9,-999.000,-999.0000, -999.00,     -999.0,     -999.0,9,     -999.0,     -999.0,9,     -999.0,  -999.0,9,     -999.0,     -999.0,9,     -999.0,  12.8828,    35.0846,2,-999.0000,2,     -999.0,9
33RO20150410,     P16N.1,      33,          1,         17,         17,2,20150420,       0558,    -2.8800,  -151.0001,       4836,   273.0,  12.2301,  34.8775,2,  34.8788,2,     24.3,2,    25.1,2,   24.10,2,   30.50,2,    0.00,2,    1.90,4,-999.000,9,-999.000,9,-999.000,9,  -999.0,9,  -999.0,9,-999.0000,9,  -999.00,-999.000,9,-999.0000,9, -999.00,9,  12.2213, -999.00,9,  -999.0,9,  -999.0,-999.000,9,-999.000,  -999.0,9, -999.00,9,     -999.0,9, -999.00,9,-999.000,-999.0000, -999.00,     -999.0,     -999.0,9,     -999.0,     -999.0,9,     -999.0,  -999.0,9,     -999.0,     -999.0,9,     -999.0,  12.1940,    35.0433,2,-999.0000,2,     -999.0,9
33RO20150410,     P16N.1,      33,          1,         16,         16,2,20150420,       0558,    -2.8800,  -151.0001,       4836,   366.7,  10.8339,  34.7907,2,  34.7901,2,     56.4,2,    43.3,2,   26.70,2,   30.70,2,    0.00,2,    1.95,4,-999.000,9,-999.000,9,-999.000,9,  -999.0,9,  -999.0,9,-999.0000,9,  -999.00,-999.000,9,-999.0000,9, -999.00,9,  10.8314, -999.00,9,  -999.0,9,  -999.0,-999.000,9,-999.000,  -999.0,9, -999.00,9,     -999.0,9, -999.00,9,-999.000,-999.0000, -999.00,     -999.0,     -999.0,9,     -999.0,     -999.0,9,     -999.0,  -999.0,9,     -999.0,     -999.0,9,     -999.0,  10.7889,    34.9541,2,-999.0000,2,     -999.0,9
33RO20150410,     P16N.1,      33,          1,         15,         15,2,20150420,       0558,    -2.8800,  -151.0001,       4836,   466.8,   8.4999,  34.6520,2,  34.6518,2,     22.5,2,    23.4,2,   38.90,2,   37.50,2,    0.01,2,    2.38,4,-999.000,9,-999.000,9,-999.000,9,  -999.0,9,  -999.0,9,-999.0000,9,  -999.00,-999.000,9,-999.0000,9, -999.00,9,   8.5020, -999.00,9,  -999.0,9,  -999.0,-999.000,9,-999.000,  -999.0,9, -999.00,9,     -999.0,9, -999.00,9,-999.000,-999.0000, -999.00,     -999.0,     -999.0,9,     -999.0,     -999.0,9,     -999.0,  -999.0,9,     -999.0,     -999.0,9,     -999.0,   8.4503,    34.8152,6,-999.0000,2,     -999.0,9
33RO20150410,     P16N.1,      33,          1,         14,         14,2,20150420,       0558,    -2.8800,  -151.0001,       4836,   601.0,   6.9667,  34.5787,2,  34.5804,2,     47.3,2,    48.4,2,   48.50,2,   38.70,2,    0.01,2,    2.46,4,-999.000,9,-999.000,9,-999.000,9,  -999.0,9,  -999.0,9,-999.0000,9,  -999.00,-999.000,9,-999.0000,9, -999.00,9,   6.9669, -999.00,9,  -999.0,9,  -999.0,-999.000,9,-999.000,  -999.0,9, -999.00,9,     -999.0,9, -999.00,9,-999.000,-999.0000, -999.00,     -999.0,     -999.0,9,     -999.0,     -999.0,9,     -999.0,  -999.0,9,     -999.0,     -999.0,9,     -999.0,   6.9093,    34.7435,2,-999.0000,2,     -999.0,9
33RO20150410,     P16N.1,      33,          1,         13,         13,2,20150420,       0558,    -2.8800,  -151.0001,       4836,   749.2,   5.8403,  34.5475,2,  34.5482,2,     70.7,2,    70.5,2,   59.40,2,   38.40,2,    0.00,2,    2.48,4,-999.000,9,-999.000,9,-999.000,9,  -999.0,9,  -999.0,9,-999.0000,9,  -999.00,-999.000,9,-999.0000,9, -999.00,9,   5.8419, -999.00,9,  -999.0,9,  -999.0,-999.000,9,-999.000,  -999.0,9, -999.00,9,     -999.0,9, -999.00,9,-999.000,-999.0000, -999.00,     -999.0,     -999.0,9,     -999.0,     -999.0,9,     -999.0,  -999.0,9,     -999.0,     -999.0,9,     -999.0,   5.7744,    34.7111,2,-999.0000,2,     -999.0,9
33RO20150410,     P16N.1,      33,          1,         12,         12,2,20150420,       0558,    -2.8800,  -151.0001,       4836,   899.5,   4.9629,  34.5465,2,  34.5474,2,     76.6,2,    76.3,2,   73.90,2,   38.90,2,    0.00,2,    2.56,4,-999.000,9,-999.000,9,-999.000,9,  -999.0,9,  -999.0,9,-999.0000,9,  -999.00,-999.000,9,-999.0000,9, -999.00,9,   4.9608, -999.00,9,  -999.0,9,  -999.0,-999.000,9,-999.000,  -999.0,9, -999.00,9,     -999.0,9, -999.00,9,-999.000,-999.0000, -999.00,     -999.0,     -999.0,9,     -999.0,     -999.0,9,     -999.0,  -999.0,9,     -999.0,     -999.0,9,     -999.0,   4.8888,    34.7103,2,-999.0000,2,     -999.0,9
33RO20150410,     P16N.1,      33,          1,         11,         11,2,20150420,       0558,    -2.8800,  -151.0001,       4836,  1049.5,   4.3543,  34.5542,2,  34.5541,2,     87.4,2,    87.0,2,   84.60,2,   38.40,2,    0.00,2,    2.56,4,-999.000,9,-999.000,9,-999.000,9,  -999.0,9,  -999.0,9,-999.0000,9,  -999.00,-999.000,9,-999.0000,9, -999.00,9,   4.3519, -999.00,9,  -999.0,9,  -999.0,-999.000,9,-999.000,  -999.0,9, -999.00,9,     -999.0,9, -999.00,9,-999.000,-999.0000, -999.00,     -999.0,     -999.0,9,     -999.0,     -999.0,9,     -999.0,  -999.0,9,     -999.0,     -999.0,9,     -999.0,   4.2716,    34.7170,2,-999.0000,2,     -999.0,9
33RO20150410,     P16N.1,      33,          1,         10,         10,2,20150420,       0558,    -2.8800,  -151.0001,       4836,  1234.4,   3.7721,  34.5708,2,  34.5716,2,     92.6,2,    92.4,2,   97.90,2,   38.30,2,    0.00,2,    2.58,4,-999.000,9,-999.000,9,-999.000,9,  -999.0,9,  -999.0,9,-999.0000,9,  -999.00,-999.000,9,-999.0000,9, -999.00,9,   3.7717, -999.00,9,  -999.0,9,  -999.0,-999.000,9,-999.000,  -999.0,9, -999.00,9,     -999.0,9, -999.00,9,-999.000,-999.0000, -999.00,     -999.0,     -999.0,9,     -999.0,     -999.0,9,     -999.0,  -999.0,9,     -999.0,     -999.0,9,     -999.0,   3.6785,    34.7346,2,-999.0000,2,     -999.0,9
33RO20150410,     P16N.1,      33,          1,          9,          9,2,20150420,       0558,    -2.8800,  -151.0001,       4836,  1500.3,   3.0577,  34.5987,2,  34.5992,2,     99.5,2,    99.5,2,  114.60,2,   38.10,2,    0.01,2,    2.62,4,-999.000,9,-999.000,9,-999.000,9,  -999.0,9,  -999.0,9,-999.0000,9,  -999.00,-999.000,9,-999.0000,9, -999.00,9,   3.0571, -999.00,9,  -999.0,9,  -999.0,-999.000,9,-999.000,  -999.0,9, -999.00,9,     -999.0,9, -999.00,9,-999.000,-999.0000, -999.00,     -999.0,     -999.0,9,     -999.0,     -999.0,9,     -999.0,  -999.0,9,     -999.0,     -999.0,9,     -999.0,   2.9491,    34.7624,2,-999.0000,2,     -999.0,9
33RO20150410,     P16N.1,      33,          1,          8,          8,2,20150420,       0558,    -2.8800,  -151.0001,       4836,  1868.1,   2.4351,  34.6303,2,  34.6299,2,    109.4,2,   109.3,2,  129.60,2,   37.60,2,    0.01,2,    2.59,4,-999.000,9,-999.000,9,-999.000,9,  -999.0,9,  -999.0,9,-999.0000,9,  -999.00,-999.000,9,-999.0000,9, -999.00,9,   2.4350, -999.00,9,  -999.0,9,  -999.0,-999.000,9,-999.000,  -999.0,9, -999.00,9,     -999.0,9, -999.00,9,-999.000,-999.0000, -999.00,     -999.0,     -999.0,9,     -999.0,     -999.0,9,     -999.0,  -999.0,9,     -999.0,     -999.0,9,     -999.0,   2.3034,    34.7932,2,-999.0000,2,     -999.0,9
33RO20150410,     P16N.1,      33,          1,          4,          7,2,20150420,       0558,    -2.8800,  -151.0001,       4836,  2333.4,   2.0170,  34.6544,2,  34.6554,2,    121.7,2,   122.1,2,  137.60,2,   36.80,2,    0.01,2,    2.55,4,-999.000,9,-999.000,9,-999.000,9,  -999.0,9,  -999.0,9,-999.0000,9,  -999.00,-999.000,9,-999.0000,9, -999.00,9,   2.0180, -999.00,9,  -999.0,9,  -999.0,-999.000,9,-999.000,  -999.0,9, -999.00,9,     -999.0,9, -999.00,9,-999.000,-999.0000, -999.00,     -999.0,     -999.0,9,     -999.0,     -999.0,9,     -999.0,  -514.0,2,        4.0,      -21.4,2,        0.2,   1.8514,    34.8188,2,-999.0000,2,     -999.0,9
33RO20150410,     P16N.1,      33,          1,          7,          6,2,20150420,       0558,    -2.8800,  -151.0001,       4836,  2333.7,   2.0136,  34.6543,2,  34.6556,2,    121.6,2,   122.8,2,  141.70,2,   36.00,2,    0.00,2,    2.50,4,-999.000,9,-999.000,9,-999.000,9,  -999.0,9,  -999.0,9,-999.0000,9,  -999.00,-999.000,9,-999.0000,9, -999.00,9,   2.0157, -999.00,9,  -999.0,9,  -999.0,-999.000,9,-999.000,  -999.0,9, -999.00,9,     -999.0,9, -999.00,9,-999.000,-999.0000, -999.00,     -999.0,     -999.0,9,     -999.0,     -999.0,9,     -999.0,  -999.0,9,     -999.0,     -999.0,9,     -999.0,   1.8480,    34.8190,2,-999.0000,2,     -999.0,9
33RO20150410,     P16N.1,      33,          1,          6,          5,2,20150420,       0558,    -2.8800,  -151.0001,       4836,  2832.9,   1.7471,  34.6696,2,  34.6692,2,    134.7,2,   134.7,2,  141.30,6,   35.20,6,    0.00,6,    2.41,4,-999.000,9,-999.000,9,-999.000,9,  -999.0,9,  -999.0,9,-999.0000,9,  -999.00,-999.000,9,-999.0000,9, -999.00,9,   1.7470, -999.00,9,  -999.0,9,  -999.0,-999.000,9,-999.000,  -999.0,9, -999.00,9,     -999.0,9, -999.00,9,-999.000,-999.0000, -999.00,     -999.0,     -999.0,9,     -999.0,     -999.0,9,     -999.0,  -999.0,9,     -999.0,     -999.0,9,     -999.0,   1.5408,    34.8327,2,-999.0000,2,     -999.0,9
33RO20150410,     P16N.1,      33,          1,          5,          4,2,20150420,       0558,    -2.8800,  -151.0001,       4836,  3332.4,   1.5710,  34.6809,2,  34.6814,2,    148.4,2,   148.4,2,  138.10,6,   36.80,6,    0.00,6,    2.54,4,-999.000,9,-999.000,9,-999.000,9,  -999.0,9,  -999.0,9,-999.0000,9,  -999.00,-999.000,9,-999.0000,9, -999.00,9,   1.5706, -999.00,9,  -999.0,9,  -999.0,-999.000,9,-999.000,  -999.0,9, -999.00,9,     -999.0,9, -999.00,9,-999.000,-999.0000, -999.00,     -999.0,     -999.0,9,     -999.0,     -999.0,9,     -999.0,  -999.0,9,     -999.0,     -999.0,9,     -999.0,   1.3200,    34.8449,2,-999.0000,2,     -999.0,9
33RO20150410,     P16N.1,      33,          1,          3,          3,2,20150420,       0558,    -2.8800,  -151.0001,       4836,  4331.6,   1.3775,  34.6965,2,-999.0000,9,    172.7,2,  -999.0,9, -999.00,9, -999.00,9, -999.00,9, -999.00,9,  -0.004,2,   0.004,6,       0,6,  -999.0,9,  -999.0,9,-999.0000,9,  -999.00,-999.000,9,-999.0000,9, -999.00,9,-999.0000, -999.00,9,  -999.0,9,  -999.0,-999.000,9,-999.000,  -999.0,9, -999.00,9,     19.473,3, -999.00,9,-999.000,-999.0000, -999.00,     -999.0,     -999.0,9,     -999.0,     -999.0,9,     -999.0,  -999.0,9,     -999.0,     -999.0,9,     -999.0,-999.0000,     -999.0,9,-999.0000,2,     -999.0,9
33RO20150410,     P16N.1,      33,          1,          2,          2,2,20150420,       0558,    -2.8800,  -151.0001,       4836,  4331.9,   1.3766,  34.6965,2,  34.6973,2,    172.6,2,   172.7,2,  134.70,6,   33.50,6,    0.00,6,    2.28,4,   0.003,6,   0.001,6,       0,6,  -999.0,9,  -999.0,9,-999.0000,9,  -999.00,-999.000,9,-999.0000,9, -999.00,9,   1.3760, -999.00,9,  -999.0,9,  -999.0,-999.000,9,-999.000,  -999.0,9, -999.00,9,     19.425,3, -999.00,9,-999.000,-999.0000, -999.00,     -999.0,     -999.0,9,     -999.0,     -999.0,9,     -999.0,  -999.0,9,     -999.0,     -999.0,9,     -999.0,   1.0244,    34.8609,2,-999.0000,2,     -999.0,9
33RO20150410,     P16N.1,      33,          1,          1,          1,2,20150420,       0558,    -2.8800,  -151.0001,       4836,  4825.8,   1.3571,  34.7001,2,  34.7010,2,    183.9,2,   183.2,2,  128.00,6,   32.70,6,    0.00,6,    2.22,4,-999.000,9,-999.000,9,-999.000,9,  -999.0,9,  -999.0,9,-999.0000,9,  -999.00,-999.000,9,-999.0000,9, -999.00,9,   1.3569, -999.00,9,  -999.0,9,  -999.0,-999.000,9,-999.000,  -999.0,9, -999.00,9,     -999.0,9, -999.00,9,-999.000,-999.0000, -999.00,     -999.0,     -999.0,9,     -999.0,     -999.0,9,     -999.0,  -999.0,9,     -999.0,     -999.0,9,     -999.0,   0.9484,    34.8646,2,-999.0000,2,     -999.0,9