BOTTLE,20210709CCHSIOCBG
EXPOCODE,SECT_ID,STNNBR,CASTNO,SAMPNO,BTLNBR,BTLNBR_FLAG_W,DATE,TIME,LATITUDE,LONGITUDE,DEPTH,CTDPRS,CTDTMP,CTDSAL,CTDSAL_FLAG_W,SALNTY,SALNTY_FLAG_W,CTDOXY,CTDOXY_FLAG_W,OXYGEN,OXYGEN_FLAG_W,SILCAT,SILCAT_FLAG_W,NITRAT,NITRAT_FLAG_W,NITRIT,NITRIT_FLAG_W,PHSPHT,PHSPHT_FLAG_W,CFC-11,CFC-11_FLAG_W,CFC-12,CFC-12_FLAG_W,SF6,SF6_FLAG_W,TCARBN,TCARBN_FLAG_W,ALKALI,ALKALI_FLAG_W,PH_TOT,PH_TOT_FLAG_W,PH_TMP,TRITUM,TRITUM_FLAG_W,HELIUM,HELIUM_FLAG_W,DELHE3,DELHE3_FLAG_W,REFTMP,DELC13,DELC13_FLAG_W,DELC14,DELC14_FLAG_W,C14ERR,NEON,NEON_FLAG_W,NEONER,DOC,DOC_FLAG_W,TDN,TDN_FLAG_W,N2O,N2O_FLAG_W,ARGON,ARGON_FLAG_W,TRITER,HELIER,DELHER,ARGONER,KRYPTON,KRYPTON_FLAG_W,KRYPTONER,XENON,XENON_FLAG_W,XENONER,14C-DOC,14C-DOC_FLAG_W,14C-DOCERR,13C-DOC,13C-DOC_FLAG_W,13C-DOCERR,THETA,SALTREF,SALTREF_FLAG_W,SBE35,SBE35_FLAG_W,CHLORA,CHLORA_FLAG_W
,,,,,,,,,,,METERS,DBAR,ITS-90,PSS-78,,PSS-78,,UMOL/KG,,UMOL/KG,,UMOL/KG,,UMOL/KG,,UMOL/KG,,UMOL/KG,,PMOL/KG,,PMOL/KG,,FMOL/KG,,UMOL/KG,,UMOL/KG,,,,DEG C,TU,,NMOL/KG,,PERCNT,,DEG C,/MILLE,,/MILLE,,/MILLE,NMOL/KG,,NMOL/KG,UMOL/KG,,UMOL/KG,,NMOL/KG,,UMOL/KG,,TU,NMOL/KG,PERCNT,UMOL/KG,NMOL/KG,,NMOL/KG,NMOL/KG,,NMOL/KG,/MILLE,,/MILLE,/MILLE,,/MILLE,DEG C,G/KG,,ITS-90,,MG/M3,
33RO20150410,     P16N.1,      72,          1,         24,         24,2,20150429,       1826,     3.6695,  -151.0022,       5015,    15.5,  28.9951,  34.9063,2,  34.9081,2,    198.3,2,   199.6,2,    1.60,2,    1.80,2,    0.07,2,    0.43,2,   1.435,2,   0.941,2,   1.224,2,  1983.3,6,  2296.6,2,   8.0615,2,    25.00,-999.000,9,-999.0000,9, -999.00,9,  28.9971, -999.00,9,  -999.0,9,  -999.0,-999.000,9,-999.000,  -999.0,9, -999.00,9,      6.331,3, -999.00,9,-999.000,-999.0000, -999.00,     -999.0,     -999.0,9,     -999.0,     -999.0,9,     -999.0,  -999.0,9,     -999.0,     -999.0,9,     -999.0,  28.9914,    35.0727,2,-999.0000,2,     -999.0,9
33RO20150410,     P16N.1,      72,          1,         23,         23,2,20150429,       1826,     3.6695,  -151.0022,       5015,    33.1,  28.8895,  35.0003,2,  35.0117,2,    200.0,2,   199.8,2,    1.70,2,    2.30,2,    0.11,2,    0.46,2,   1.448,6,   0.949,6,   1.243,6,  1993.6,2,  2304.7,2,   8.0516,2,    25.00,-999.000,9,-999.0000,9, -999.00,9,  28.8871, -999.00,9,  -999.0,9,  -999.0,-999.000,9,-999.000,  -999.0,9, -999.00,9,      6.364,3, -999.00,9,-999.000,-999.0000, -999.00,     -999.0,     -999.0,9,     -999.0,     -999.0,9,     -999.0,  -999.0,9,     -999.0,     -999.0,9,     -999.0,  28.8815,    35.1768,6,-999.0000,2,     -999.0,9
33RO20150410,     P16N.1,      72,          1,         22,         22,2,20150429,       1826,     3.6695,  -151.0022,       5015,    57.4,  28.3185,  35.0208,2,  35.0311,2,    200.8,2,   200.8,2,    1.70,2,    2.40,2,    0.12,2,    0.48,2,   1.470,2,   0.978,2,   1.381,2,  1997.6,2,  2304.3,2,   8.0459,6,    25.00,-999.000,9,-999.0000,9, -999.00,9,  28.3300, -999.00,9,  -999.0,9,  -999.0,-999.000,9,-999.000,  -999.0,9, -999.00,9,      6.503,3, -999.00,9,-999.000,-999.0000, -999.00,     -999.0,     -999.0,9,     -999.0,     -999.0,9,     -999.0,  -999.0,9,     -999.0,     -999.0,9,     -999.0,  28.3049,    35.1963,2,-999.0000,2,     -999.0,9
33RO20150410,     P16N.1,      72,          1,         21,         21,2,20150429,       1826,     3.6695,  -151.0022,       5015,    84.2,  27.8396,  35.0126,2,  35.0162,2,    190.5,2,   191.0,2,    2.00,2,    2.80,2,    0.29,2,    0.54,2,   1.498,2,   0.974,2,   1.262,2,  2008.6,2,  2303.6,2,   8.0291,6,    25.00,-999.000,9,-999.0000,9, -999.00,9,  27.8392, -999.00,9,  -999.0,9,  -999.0,-999.000,9,-999.000,  -999.0,9, -999.00,9,      6.755,3, -999.00,9,-999.000,-999.0000, -999.00,     -999.0,     -999.0,9,     -999.0,     -999.0,9,     -999.0,  -999.0,9,     -999.0,     -999.0,9,     -999.0,  27.8198,    35.1813,2,-999.0000,2,     -999.0,9
33RO20150410,     P16N.1,      72,          1,         20,         20,2,20150429,       1826,     3.6695,  -151.0022,       5015,   114.4,  25.9928,  35.0201,2,  35.0302,2,    153.4,2,   155.9,2,    3.00,2,    6.00,2,    0.39,2,    0.72,2,   1.635,2,   1.032,2,    1.17,2,  2037.5,2,  2299.4,6,   7.9685,2,    24.99,-999.000,9,-999.0000,9, -999.00,9,  25.9210, -999.00,9,  -999.0,9,  -999.0,-999.000,9,-999.000,  -999.0,9, -999.00,9,      9.058,3, -999.00,9,-999.000,-999.0000, -999.00,     -999.0,     -999.0,9,     -999.0,     -999.0,9,     -999.0,  -999.0,9,     -999.0,     -999.0,9,     -999.0,  25.9673,    35.1954,2,-999.0000,2,     -999.0,9
33RO20150410,     P16N.1,      72,          1,         19,         19,2,20150429,       1826,     3.6695,  -151.0022,       5015,   176.3,  12.4125,  34.6535,2,  34.6556,2,    100.4,2,    99.4,2,   22.90,2,   23.50,2,    0.01,2,    1.79,2,   1.546,2,   0.862,2,   0.523,2,  2180.1,2,  2293.7,2,   7.6442,2,    24.98,-999.000,9,-999.0000,9, -999.00,9,  12.4565, -999.00,9,  -999.0,9,  -999.0,-999.000,9,-999.000,  -999.0,9, -999.00,9,     32.708,3, -999.00,9,-999.000,-999.0000, -999.00,     -999.0,     -999.0,9,     -999.0,     -999.0,9,     -999.0,  -999.0,9,     -999.0,     -999.0,9,     -999.0,  12.3891,    34.8190,2,-999.0000,2,     -999.0,9
33RO20150410,     P16N.1,      72,          1,         18,         18,2,20150429,       1826,     3.6695,  -151.0022,       5015,   250.6,  10.8751,  34.7656,2,  34.7671,2,     58.2,2,    55.3,2,   26.50,2,   30.80,2,    0.00,2,    2.24,2,   0.949,2,   0.522,2,    0.25,2,  2226.7,2,  2302.1,2,   7.5258,6,    25.00,-999.000,9,-999.0000,9, -999.00,9,  10.8772, -999.00,9,  -999.0,9,  -999.0,-999.000,9,-999.000,  -999.0,9, -999.00,9,     47.255,3, -999.00,9,-999.000,-999.0000, -999.00,     -999.0,     -999.0,9,     -999.0,     -999.0,9,     -999.0,  -999.0,9,     -999.0,     -999.0,9,     -999.0,  10.8444,    34.9310,2,-999.0000,2,     -999.0,9
33RO20150410,     P16N.1,      72,          1,         17,         17,2,20150429,       1826,     3.6695,  -151.0022,       5015,   332.8,   9.7786,  34.6913,2,  34.6893,2,     73.9,2,    71.7,2,   29.30,2,   31.30,2,    0.00,2,    2.27,2,   0.818,2,   0.442,2,   0.197,2,  2224.8,2,  2302.9,2,   7.5335,2,    25.00,-999.000,9,-999.0000,9, -999.00,9,   9.7905, -999.00,9,  -999.0,9,  -999.0,-999.000,9,-999.000,  -999.0,9, -999.00,9,     41.341,3, -999.00,9,-999.000,-999.0000, -999.00,     -999.0,     -999.0,9,     -999.0,     -999.0,9,     -999.0,  -999.0,9,     -999.0,     -999.0,9,     -999.0,   9.7404,    34.8529,2,-999.0000,2,     -999.0,9
33RO20150410,     P16N.1,      72,          1,         16,         16,2,20150429,       1826,     3.6695,  -151.0022,       5015,   422.9,   9.0676,  34.6531,2,  34.6536,2,     42.3,2,    47.2,2,   34.90,2,   34.90,2,    0.00,2,    2.53,2,   0.468,6,   0.249,6,   0.101,6,  2248.1,2,  2305.0,2,   7.4680,2,    24.98,-999.000,9,-999.0000,9, -999.00,9,   9.0661, -999.00,9,  -999.0,9,  -999.0,-999.000,9,-999.000,  -999.0,9, -999.00,9,     48.306,3, -999.00,9,-999.000,-999.0000, -999.00,     -999.0,     -999.0,9,     -999.0,     -999.0,9,     -999.0,  -999.0,9,     -999.0,     -999.0,9,     -999.0,   9.0210,    34.8170,2,-999.0000,2,     -999.0,9
33RO20150410,     P16N.1,      72,          1,         15,         15,2,20150429,       1826,     3.6695,  -151.0022,       5015,   549.8,   7.4323,  34.5901,2,  34.5892,2,     30.6,2,    31.1,2,   48.10,2,   39.90,2,    0.00,2,    2.92,2,   0.085,2,   0.049,2,       0,2,  2278.9,6,  2315.4,2,   7.4045,2,    24.99,-999.000,9,-999.0000,9, -999.00,9,   7.4355, -999.00,9,  -999.0,9,  -999.0,-999.000,9,-999.000,  -999.0,9, -999.00,9,     51.555,3, -999.00,9,-999.000,-999.0000, -999.00,     -999.0,     -999.0,9,     -999.0,     -999.0,9,     -999.0,  -999.0,9,     -999.0,     -999.0,9,     -999.0,   7.3780,    34.7523,2,-999.0000,2,     -999.0,9
33RO20150410,     P16N.1,      72,          1,         14,         14,2,20150429,       1826,     3.6695,  -151.0022,       5015,   700.4,   6.0299,  34.5535,2,  34.5527,2,     54.1,2,    55.3,2,   61.00,2,   40.30,2,    0.00,2,    2.95,2,   0.037,2,   0.022,2,       0,2,  2284.3,2,  2329.1,2,   7.4320,2,    24.99,-999.000,9,-999.0000,9, -999.00,9,   6.0321, -999.00,9,  -999.0,9,  -999.0,-999.000,9,-999.000,  -999.0,9, -999.00,9,     41.616,3, -999.00,9,-999.000,-999.0000, -999.00,     -999.0,     -999.0,9,     -999.0,     -999.0,9,     -999.0,  -999.0,9,     -999.0,     -999.0,9,     -999.0,   5.9675,    34.7156,2,-999.0000,2,     -999.0,9
33RO20150410,     P16N.1,      72,          1,         13,         13,2,20150429,       1826,     3.6695,  -151.0022,       5015,   849.8,   5.2235,  34.5481,2,  34.5484,2,     70.1,2,    70.8,2,   72.00,2,   40.00,2,    0.00,2,    2.91,2,   0.025,2,   0.013,2,       0,2,  2288.9,2,  2341.4,2,   7.4509,2,    24.99,-999.000,9,-999.0000,9, -999.00,9,   5.2268, -999.00,9,  -999.0,9,  -999.0,-999.000,9,-999.000,  -999.0,9, -999.00,9,     37.067,3, -999.00,9,-999.000,-999.0000, -999.00,     -999.0,     -999.0,9,     -999.0,     -999.0,9,     -999.0,  -999.0,9,     -999.0,     -999.0,9,     -999.0,   5.1521,    34.7114,2,-999.0000,2,     -999.0,9
33RO20150410,     P16N.1,      72,          1,         12,         12,2,20150429,       1826,     3.6695,  -151.0022,       5015,  1000.8,   4.5660,  34.5582,2,  34.5593,2,     70.5,2,    70.3,2,   85.40,2,   40.60,2,    0.00,2,    2.97,2,   0.010,2,   0.005,2,       0,2,  2305.8,2,  2356.4,2,   7.4478,2,    24.98,-999.000,9,-999.0000,9, -999.00,9,   4.5679, -999.00,9,  -999.0,9,  -999.0,-999.000,9,-999.000,  -999.0,9, -999.00,9,     36.069,3, -999.00,9,-999.000,-999.0000, -999.00,     -999.0,     -999.0,9,     -999.0,     -999.0,9,     -999.0,  -999.0,9,     -999.0,     -999.0,9,     -999.0,   4.4858,    34.7222,2,-999.0000,2,     -999.0,9
33RO20150410,     P16N.1,      72,          1,         11,         11,2,20150429,       1826,     3.6695,  -151.0022,       5015,  1167.0,   4.0158,  34.5715,2,  34.5726,2,     75.9,2,    76.0,2,   96.70,2,   40.50,2,    0.00,2,    2.96,2,   0.005,2,   0.001,2,       0,2,  2316.7,2,  2369.5,2,   7.4551,2,    24.99,-999.000,9,-999.0000,9, -999.00,9,   4.0156, -999.00,9,  -999.0,9,  -999.0,-999.000,9,-999.000,  -999.0,9, -999.00,9,     33.773,3, -999.00,9,-999.000,-999.0000, -999.00,     -999.0,     -999.0,9,     -999.0,     -999.0,9,     -999.0,  -999.0,9,     -999.0,     -999.0,9,     -999.0,   3.9258,    34.7356,2,-999.0000,2,     -999.0,9
33RO20150410,     P16N.1,      72,          1,         10,         10,2,20150429,       1826,     3.6695,  -151.0022,       5015,  1399.5,   3.3866,  34.5934,2,  34.5945,2,     77.6,2,    77.6,2,  112.50,2,   40.70,2,    0.00,2,    2.96,2,   0.022,3,   0.015,3,   0.051,3,  2331.7,2,  2387.0,2,   7.4555,2,    24.98,-999.000,9,-999.0000,9, -999.00,9,   3.3864, -999.00,9,  -999.0,9,  -999.0,-999.000,9,-999.000,  -999.0,9, -999.00,9,     32.532,3, -999.00,9,-999.000,-999.0000, -999.00,     -999.0,     -999.0,9,     -999.0,     -999.0,9,     -999.0,  -999.0,9,     -999.0,     -999.0,9,     -999.0,   3.2829,    34.7577,2,-999.0000,2,     -999.0,9
33RO20150410,     P16N.1,      72,          1,          9,          9,2,20150429,       1826,     3.6695,  -151.0022,       5015,  1734.0,   2.6033,  34.6257,2,  34.6270,2,     94.8,2,    94.2,2,  129.20,2,   39.80,2,    0.00,2,    2.88,2,   0.003,2,   0.001,2,       0,2,  2341.8,2,  2407.6,2,   7.4850,2,    24.98,-999.000,9,-999.0000,9, -999.00,9,   2.6030, -999.00,9,  -999.0,9,  -999.0,-999.000,9,-999.000,  -999.0,9, -999.00,9,     28.400,3, -999.00,9,-999.000,-999.0000, -999.00,     -999.0,     -999.0,9,     -999.0,     -999.0,9,     -999.0,  -999.0,9,     -999.0,     -999.0,9,     -999.0,   2.4806,    34.7903,2,-999.0000,2,     -999.0,9
33RO20150410,     P16N.1,      72,          1,          8,          8,2,20150429,       1826,     3.6695,  -151.0022,       5015,  2134.5,   2.0827,  34.6529,2,  34.6553,2,    105.3,2,   105.6,2,  142.80,2,   39.10,2,    0.00,2,    2.80,2,   0.000,2,   0.000,2,       0,2,  2350.9,2,  2423.4,2,   7.5078,2,    24.99,-999.000,9,-999.0000,9, -999.00,9,   2.0839, -999.00,9,  -999.0,9,  -999.0,-999.000,9,-999.000,  -999.0,9, -999.00,9,     25.351,3, -999.00,9,-999.000,-999.0000, -999.00,     -999.0,     -999.0,9,     -999.0,     -999.0,9,     -999.0,  -999.0,9,     -999.0,     -999.0,9,     -999.0,   1.9334,    34.8187,2,-999.0000,2,     -999.0,9
33RO20150410,     P16N.1,      72,          1,          7,          7,2,20150429,       1826,     3.6695,  -151.0022,       5015,  2533.1,   1.8398,  34.6676,2,  34.6683,2,    116.5,2,   116.7,2,  147.80,2,   38.30,2,    0.00,2,    2.75,2,   0.001,2,   0.000,2,       0,2,  2348.6,2,  2429.9,2,   7.5290,6,    25.01,-999.000,9,-999.0000,9, -999.00,9,   1.8396, -999.00,9,  -999.0,9,  -999.0,-999.000,9,-999.000,  -999.0,9, -999.00,9,     23.392,3, -999.00,9,-999.000,-999.0000, -999.00,     -999.0,     -999.0,9,     -999.0,     -999.0,9,     -999.0,  -999.0,9,     -999.0,     -999.0,9,     -999.0,   1.6594,    34.8318,2,-999.0000,2,     -999.0,9
33RO20150410,     P16N.1,      72,          1,          6,          6,2,20150429,       1826,     3.6695,  -151.0022,       5015,  2932.4,   1.7359,  34.6733,2,  34.6744,2,    124.4,2,   125.0,2,  147.70,2,   37.90,2,    0.00,2,    2.70,2,  -0.004,2,  -0.001,2,       0,2,  2344.5,2,  2430.1,2,   7.5414,2,    24.98,-999.000,9,-999.0000,9, -999.00,9,   1.7356, -999.00,9,  -999.0,9,  -999.0,-999.000,9,-999.000,  -999.0,9, -999.00,9,     22.634,3, -999.00,9,-999.000,-999.0000, -999.00,     -999.0,     -999.0,9,     -999.0,     -999.0,9,     -999.0,  -999.0,9,     -999.0,     -999.0,9,     -999.0,   1.5204,    34.8380,2,-999.0000,2,     -999.0,9
33RO20150410,     P16N.1,      72,          1,          5,          5,2,20150429,       1826,     3.6695,  -151.0022,       5015,  3332.0,   1.5343,  34.6842,2,  34.6839,2,    141.7,2,   142.2,2,  145.40,2,   36.60,2,    0.00,2,    2.62,2,   0.001,2,   0.000,2,       0,2,  2333.8,2,  2428.9,2,   7.5692,6,    25.00,-999.000,9,-999.0000,9, -999.00,9,   1.5342, -999.00,9,  -999.0,9,  -999.0,-999.000,9,-999.000,  -999.0,9, -999.00,9,     21.221,3, -999.00,9,-999.000,-999.0000, -999.00,     -999.0,     -999.0,9,     -999.0,     -999.0,9,     -999.0,  -999.0,9,     -999.0,     -999.0,9,     -999.0,   1.2842,    34.8475,2,-999.0000,2,     -999.0,9
33RO20150410,     P16N.1,      72,          1,          4,          4,2,20150429,       1826,     3.6695,  -151.0022,       5015,  3732.6,   1.4627,  34.6900,2,  34.6904,2,    152.5,2,   152.8,2,  142.80,6,   36.00,6,    0.00,6,    2.54,6,  -0.003,2,  -0.001,2,       0,2,  2324.6,2,  2427.6,2,   7.5858,6,    24.98,-999.000,9,-999.0000,9, -999.00,9,   1.4625, -999.00,9,  -999.0,9,  -999.0,-999.000,9,-999.000,  -999.0,9, -999.00,9,     20.545,3, -999.00,9,-999.000,-999.0000, -999.00,     -999.0,     -999.0,9,     -999.0,     -999.0,9,     -999.0,  -999.0,9,     -999.0,     -999.0,9,     -999.0,   1.1733,    34.8540,2,-999.0000,2,     -999.0,9
33RO20150410,     P16N.1,      72,          1,          3,          3,2,20150429,       1826,     3.6695,  -151.0022,       5015,  4133.6,   1.4120,  34.6944,2,  34.6952,2,    161.7,2,   162.0,2,  138.60,6,   35.30,6,    0.00,6,    2.50,6,   0.001,2,   0.000,2,       0,2,  2316.6,2,  2421.3,2,   7.5955,2,    25.01,-999.000,9,-999.0000,9, -999.00,9,   1.4118, -999.00,9,  -999.0,9,  -999.0,-999.000,9,-999.000,  -999.0,9, -999.00,9,     20.037,3, -999.00,9,-999.000,-999.0000, -999.00,     -999.0,     -999.0,9,     -999.0,     -999.0,9,     -999.0,  -999.0,9,     -999.0,     -999.0,9,     -999.0,   1.0809,    34.8588,2,-999.0000,2,     -999.0,9
33RO20150410,     P16N.1,      72,          1,          2,          2,2,20150429,       1826,     3.6695,  -151.0022,       5015,  4533.5,   1.3888,  34.6973,2,  34.6978,2,    168.2,2,   168.9,2,  135.30,6,   34.90,6,    0.00,6,    2.47,6,   0.000,6,   0.000,6,       0,6,  2309.5,2,  2415.9,6,   7.6011,2,    25.01,-999.000,9,-999.0000,9, -999.00,9,   1.3887, -999.00,9,  -999.0,9,  -999.0,-999.000,9,-999.000,  -999.0,9, -999.00,9,     19.718,3, -999.00,9,-999.000,-999.0000, -999.00,     -999.0,     -999.0,9,     -999.0,     -999.0,9,     -999.0,  -999.0,9,     -999.0,     -999.0,9,     -999.0,   1.0133,    34.8614,2,-999.0000,2,     -999.0,9
33RO20150410,     P16N.1,      72,          1,          1,          1,2,20150429,       1826,     3.6695,  -151.0022,       5015,  5005.2,   1.4390,  34.6973,2,  34.6978,2,    170.3,2,   169.9,2,  134.70,6,   34.80,6,    0.00,6,    2.45,6,  -0.001,2,   0.001,2,       0,2,  2308.5,6,  2414.8,2,   7.6010,2,    25.01,-999.000,9,-999.0000,9, -999.00,9,   1.4388, -999.00,9,  -999.0,9,  -999.0,-999.000,9,-999.000,  -999.0,9, -999.00,9,     19.702,3, -999.00,9,-999.000,-999.0000, -999.00,     -999.0,     -999.0,9,     -999.0,     -999.0,9,     -999.0,  -999.0,9,     -999.0,     -999.0,9,     -999.0,   1.0060,    34.8614,6,-999.0000,2,     -999.0,9