BOTTLE,20210709CCHSIOCBG
EXPOCODE,SECT_ID,STNNBR,CASTNO,SAMPNO,BTLNBR,BTLNBR_FLAG_W,DATE,TIME,LATITUDE,LONGITUDE,DEPTH,CTDPRS,CTDTMP,CTDSAL,CTDSAL_FLAG_W,SALNTY,SALNTY_FLAG_W,CTDOXY,CTDOXY_FLAG_W,OXYGEN,OXYGEN_FLAG_W,SILCAT,SILCAT_FLAG_W,NITRAT,NITRAT_FLAG_W,NITRIT,NITRIT_FLAG_W,PHSPHT,PHSPHT_FLAG_W,CFC-11,CFC-11_FLAG_W,CFC-12,CFC-12_FLAG_W,SF6,SF6_FLAG_W,TCARBN,TCARBN_FLAG_W,ALKALI,ALKALI_FLAG_W,PH_TOT,PH_TOT_FLAG_W,PH_TMP,TRITUM,TRITUM_FLAG_W,HELIUM,HELIUM_FLAG_W,DELHE3,DELHE3_FLAG_W,REFTMP,DELC13,DELC13_FLAG_W,DELC14,DELC14_FLAG_W,C14ERR,NEON,NEON_FLAG_W,NEONER,DOC,DOC_FLAG_W,TDN,TDN_FLAG_W,N2O,N2O_FLAG_W,ARGON,ARGON_FLAG_W,TRITER,HELIER,DELHER,ARGONER,KRYPTON,KRYPTON_FLAG_W,KRYPTONER,XENON,XENON_FLAG_W,XENONER,14C-DOC,14C-DOC_FLAG_W,14C-DOCERR,13C-DOC,13C-DOC_FLAG_W,13C-DOCERR,THETA,SALTREF,SALTREF_FLAG_W,SBE35,SBE35_FLAG_W,CHLORA,CHLORA_FLAG_W
,,,,,,,,,,,METERS,DBAR,ITS-90,PSS-78,,PSS-78,,UMOL/KG,,UMOL/KG,,UMOL/KG,,UMOL/KG,,UMOL/KG,,UMOL/KG,,PMOL/KG,,PMOL/KG,,FMOL/KG,,UMOL/KG,,UMOL/KG,,,,DEG C,TU,,NMOL/KG,,PERCNT,,DEG C,/MILLE,,/MILLE,,/MILLE,NMOL/KG,,NMOL/KG,UMOL/KG,,UMOL/KG,,NMOL/KG,,UMOL/KG,,TU,NMOL/KG,PERCNT,UMOL/KG,NMOL/KG,,NMOL/KG,NMOL/KG,,NMOL/KG,/MILLE,,/MILLE,/MILLE,,/MILLE,DEG C,G/KG,,ITS-90,,MG/M3,
33RO20150410,     P16N.1,      64,          1,         24,         24,2,20150427,       1733,     2.0506,  -150.9966,       4902,     5.0,  28.6154,  35.1000,2,  35.0996,2,    198.7,2,   201.5,2,    2.00,2,    2.60,2,    0.14,2,    0.48,2,   1.559,3,   0.957,2,   1.238,2,  2004.9,6,  2307.8,2,   8.0449,2,    25.00,-999.000,9,-999.0000,9, -999.00,9,  28.6179,    0.88,2,    40.3,2,     2.3,-999.000,9,-999.000,    64.8,2,    6.60,2,      6.504,3, -999.00,9,-999.000,-999.0000, -999.00,     -999.0,     -999.0,9,     -999.0,     -999.0,9,     -999.0,  -999.0,9,     -999.0,     -999.0,9,     -999.0,  28.6142,    35.2651,2,-999.0000,2,     -999.0,9
33RO20150410,     P16N.1,      64,          1,         23,         23,2,20150427,       1733,     2.0506,  -150.9966,       4902,    18.5,  28.6011,  35.0996,2,  35.1018,2,    198.5,2,   177.4,4,    2.00,2,    2.60,2,    0.14,2,    0.48,2,-999.000,9,-999.000,9,-999.000,9,  2002.4,2,  2307.7,2,   8.0444,2,    25.00,-999.000,9,-999.0000,9, -999.00,9,  28.6007, -999.00,9,  -999.0,9,  -999.0,-999.000,9,-999.000,    63.2,2, -999.00,9,     -999.0,9, -999.00,9,-999.000,-999.0000, -999.00,     -999.0,     -999.0,9,     -999.0,     -999.0,9,     -999.0,  -999.0,9,     -999.0,     -999.0,9,     -999.0,  28.5967,    35.2673,2,-999.0000,2,     -999.0,9
33RO20150410,     P16N.1,      64,          1,         22,         22,9,20150427,       1733,     2.0506,  -150.9966,       4902,    42.3,  28.5451,  35.0900,2,-999.0000,9,    199.0,2,  -999.0,9, -999.00,9, -999.00,9, -999.00,9, -999.00,9,-999.000,9,-999.000,9,-999.000,9,  -999.0,9,  -999.0,9,-999.0000,9,  -999.00,-999.000,9,-999.0000,9, -999.00,9,-999.0000,    0.87,2,    42.7,2,     2.2,-999.000,9,-999.000,  -999.0,9, -999.00,9,     -999.0,9, -999.00,9,-999.000,-999.0000, -999.00,     -999.0,     -999.0,9,     -999.0,     -999.0,9,     -999.0,  -999.0,9,     -999.0,     -999.0,9,     -999.0,-999.0000,     -999.0,9,-999.0000,2,     -999.0,9
33RO20150410,     P16N.1,      64,          1,         21,         21,2,20150427,       1733,     2.0506,  -150.9966,       4902,    66.7,  28.3343,  35.1430,2,  35.1439,2,    201.1,2,   198.4,2,    2.00,2,    3.00,2,    0.23,2,    0.53,2,   1.578,3,   0.969,2,   1.264,2,  2012.5,2,  2310.4,2,   8.0329,2,    25.01,-999.000,9,-999.0000,9, -999.00,9,  28.3558,    0.80,2,    40.7,2,     2.1,-999.000,9,-999.000,    63.2,2,    8.00,2,      6.939,3, -999.00,9,-999.000,-999.0000, -999.00,     -999.0,     -999.0,9,     -999.0,     -999.0,9,     -999.0,  -999.0,9,     -999.0,     -999.0,9,     -999.0,  28.3184,    35.3096,2,-999.0000,2,     -999.0,9
33RO20150410,     P16N.1,      64,          1,         20,         20,2,20150427,       1733,     2.0506,  -150.9966,       4902,    91.9,  27.8361,  35.1024,2,  35.1053,2,    191.3,2,   191.5,2,    2.20,2,    3.20,2,    0.38,2,    0.58,2,   1.594,3,   0.967,2,   1.194,2,  2016.7,2,  2308.1,6,   8.0224,2,    25.00,-999.000,9,-999.0000,9, -999.00,9,  27.8315,    0.52,2,    37.5,2,     2.2,-999.000,9,-999.000,    61.8,2,    8.10,2,      7.200,3, -999.00,9,-999.000,-999.0000, -999.00,     -999.0,     -999.0,9,     -999.0,     -999.0,9,     -999.0,  -999.0,9,     -999.0,     -999.0,9,     -999.0,  27.8145,    35.2709,2,-999.0000,2,     -999.0,9
33RO20150410,     P16N.1,      64,          1,         19,         19,2,20150427,       1733,     2.0506,  -150.9966,       4902,   117.5,  26.9404,  35.0382,2,  35.0413,2,    163.7,2,   165.4,2,    2.60,2,    4.60,2,    0.70,2,    0.64,2,   1.655,2,   1.004,2,   1.208,2,  2029.2,2,  2300.6,2,   7.9906,6,    25.01,-999.000,9,-999.0000,9, -999.00,9,  26.9259,    0.07,2,     0.8,2,     3.2,-999.000,9,-999.000,    56.8,2,    9.20,2,      8.045,3, -999.00,9,-999.000,-999.0000, -999.00,     -999.0,     -999.0,9,     -999.0,     -999.0,9,     -999.0,  -999.0,9,     -999.0,     -999.0,9,     -999.0,  26.9135,    35.2066,2,-999.0000,2,     -999.0,9
33RO20150410,     P16N.1,      64,          1,         18,         18,2,20150427,       1733,     2.0506,  -150.9966,       4902,   158.2,  17.0246,  34.7471,2,  34.7561,2,    116.6,2,   115.4,2,   15.40,2,   15.50,2,    0.02,2,    1.28,2,   1.946,2,   1.095,2,    0.88,2,  2127.8,2,  2291.3,3,   7.7731,2,    25.01,-999.000,9,-999.0000,9, -999.00,9,  17.2260,   -0.05,2,   -14.7,2,     2.1,-999.000,9,-999.000,    49.2,2,   17.80,2,     23.338,3, -999.00,9,-999.000,-999.0000, -999.00,     -999.0,     -999.0,9,     -999.0,     -999.0,9,     -999.0,  -999.0,9,     -999.0,     -999.0,9,     -999.0,  16.9985,    34.9200,2,-999.0000,2,     -999.0,9
33RO20150410,     P16N.1,      64,          1,         17,         17,2,20150427,       1733,     2.0506,  -150.9966,       4902,   224.9,  11.5382,  34.8156,2,  34.8246,2,     57.8,2,    55.9,2,   24.70,2,   29.60,2,    0.04,2,    2.18,2,   1.097,2,   0.592,2,   0.279,2,  2222.7,2,  2302.3,2,   7.5437,2,    25.01,-999.000,9,-999.0000,9, -999.00,9,  11.5376,   -0.16,2,   -26.1,2,     2.0,-999.000,9,-999.000,    45.3,2, -999.00,9,     49.285,3, -999.00,9,-999.000,-999.0000, -999.00,     -999.0,     -999.0,9,     -999.0,     -999.0,9,     -999.0,  -999.0,9,     -999.0,     -999.0,9,     -999.0,  11.5096,    34.9888,2,-999.0000,2,     -999.0,9
33RO20150410,     P16N.1,      64,          1,         16,         16,2,20150427,       1733,     2.0506,  -150.9966,       4902,   299.3,  11.0792,  34.7878,2,  34.7867,2,     44.0,2,    45.1,2,   26.80,2,   31.50,2,    0.01,2,    2.29,2,   0.944,6,   0.502,6,   0.189,6,  2234.6,2,  2303.0,2,   7.5085,2,    25.00,-999.000,9,-999.0000,9, -999.00,9,  11.0781,    0.13,2,   -53.4,2,     2.0,-999.000,9,-999.000,    42.9,2,   34.30,2,     53.343,3, -999.00,9,-999.000,-999.0000, -999.00,     -999.0,     -999.0,9,     -999.0,     -999.0,9,     -999.0,  -999.0,9,     -999.0,     -999.0,9,     -999.0,  11.0420,    34.9507,2,-999.0000,2,     -999.0,9
33RO20150410,     P16N.1,      64,          1,         15,         15,2,20150427,       1733,     2.0506,  -150.9966,       4902,   375.0,  10.3018,  34.7314,2,  34.7300,2,     50.2,2,    50.1,2,   29.20,2,   32.40,2,    0.03,2,    2.32,2,   0.796,2,   0.425,2,   0.167,2,  2237.6,2,  2302.2,2,   7.5014,6,    25.01,-999.000,9,-999.0000,9, -999.00,9,  10.2998,    0.02,2,  -119.3,2,     2.1,-999.000,9,-999.000,    44.9,2, -999.00,9,     50.182,3, -999.00,9,-999.000,-999.0000, -999.00,     -999.0,     -999.0,9,     -999.0,     -999.0,9,     -999.0,  -999.0,9,     -999.0,     -999.0,9,     -999.0,  10.2572,    34.8938,6,-999.0000,2,     -999.0,9
33RO20150410,     P16N.1,      64,          1,         14,         14,2,20150427,       1733,     2.0506,  -150.9966,       4902,   466.9,   8.6592,  34.6361,2,  34.6331,2,     30.5,2,    29.6,2,   40.10,2,   37.20,2,    0.01,2,    2.73,2,-999.000,9,-999.000,9,-999.000,9,  2267.6,2,  2308.0,2,   7.4238,2,    25.00,-999.000,9,-999.0000,9, -999.00,9,   8.6741,    0.19,2,  -140.2,2,     2.1,-999.000,9,-999.000,    42.6,2, -999.00,9,     -999.0,9, -999.00,9,-999.000,-999.0000, -999.00,     -999.0,     -999.0,9,     -999.0,     -999.0,9,     -999.0,  -999.0,9,     -999.0,     -999.0,9,     -999.0,   8.6091,    34.7964,2,-999.0000,2,     -999.0,9
33RO20150410,     P16N.1,      64,          1,         13,         13,2,20150427,       1733,     2.0506,  -150.9966,       4902,   600.0,   6.5133,  34.5578,2,  34.5562,2,     68.0,2,    72.6,2,   52.90,2,   38.50,2,    0.01,2,    2.80,2,   0.115,2,   0.063,2,       0,2,  2268.9,6,  2320.7,2,   7.4625,2,    24.99,-999.000,9,-999.0000,9, -999.00,9,   6.5165,    0.14,2,  -155.4,2,     1.8,-999.000,9,-999.000,    39.8,2, -999.00,9,     40.307,3, -999.00,9,-999.000,-999.0000, -999.00,     -999.0,     -999.0,9,     -999.0,     -999.0,9,     -999.0,  -999.0,9,     -999.0,     -999.0,9,     -999.0,   6.4581,    34.7192,2,-999.0000,2,     -999.0,9
33RO20150410,     P16N.1,      64,          1,         12,         12,2,20150427,       1733,     2.0506,  -150.9966,       4902,   751.0,   5.8521,  34.5475,2,  34.5494,2,     72.2,2,    72.9,2,   60.80,2,   39.00,2,    0.01,2,    2.85,2,-999.000,9,-999.000,9,-999.000,9,  2277.6,2,  2328.7,2,   7.4624,2,    25.00,-999.000,9,-999.0000,9, -999.00,9,   5.8528, -999.00,9,  -999.0,9,  -999.0,-999.000,9,-999.000,    40.0,2, -999.00,9,     -999.0,9, -999.00,9,-999.000,-999.0000, -999.00,     -999.0,     -999.0,9,     -999.0,     -999.0,9,     -999.0,  -999.0,9,     -999.0,     -999.0,9,     -999.0,   5.7859,    34.7123,2,-999.0000,2,     -999.0,9
33RO20150410,     P16N.1,      64,          1,         11,         11,2,20150427,       1733,     2.0506,  -150.9966,       4902,   900.1,   5.0661,  34.5479,2,  34.5475,2,     75.2,2,    75.0,2,   74.80,2,   39.70,2,    0.00,2,    2.90,2,-999.000,9,-999.000,9,-999.000,9,  2292.3,2,  2344.0,2,   7.4611,6,    25.02,-999.000,9,-999.0000,9, -999.00,9,   5.0659, -999.00,9,  -999.0,9,  -999.0,-999.000,9,-999.000,    39.7,2, -999.00,9,     -999.0,9, -999.00,9,-999.000,-999.0000, -999.00,     -999.0,     -999.0,9,     -999.0,     -999.0,9,     -999.0,  -999.0,9,     -999.0,     -999.0,9,     -999.0,   4.9912,    34.7104,2,-999.0000,2,     -999.0,9
33RO20150410,     P16N.1,      64,          1,         10,         10,2,20150427,       1733,     2.0506,  -150.9966,       4902,  1050.2,   4.5238,  34.5575,2,  34.5562,2,     76.2,2,    77.4,2,   85.20,2,   39.90,2,    0.02,2,    2.93,2,   0.031,2,   0.020,2,    0.03,3,  2303.2,2,  2356.3,2,   7.4617,2,    24.99,-999.000,9,-999.0000,9, -999.00,9,   4.5232, -999.00,9,  -999.0,9,  -999.0,-999.000,9,-999.000,    38.4,2, -999.00,9,     34.665,3, -999.00,9,-999.000,-999.0000, -999.00,     -999.0,     -999.0,9,     -999.0,     -999.0,9,     -999.0,  -999.0,9,     -999.0,     -999.0,9,     -999.0,   4.4396,    34.7191,2,-999.0000,2,     -999.0,9
33RO20150410,     P16N.1,      64,          1,          9,          9,2,20150427,       1733,     2.0506,  -150.9966,       4902,  1233.0,   3.8227,  34.5760,2,  34.5779,2,     81.1,2,    80.9,2,  101.10,2,   40.40,2,    0.01,2,    2.93,2,-999.000,9,-999.000,9,-999.000,9,  2319.0,2,  2373.8,2,   7.4647,2,    25.00,-999.000,9,-999.0000,9, -999.00,9,   3.8218, -999.00,9,  -999.0,9,  -999.0,-999.000,9,-999.000,    37.6,2, -999.00,9,     -999.0,9, -999.00,9,-999.000,-999.0000, -999.00,     -999.0,     -999.0,9,     -999.0,     -999.0,9,     -999.0,  -999.0,9,     -999.0,     -999.0,9,     -999.0,   3.7288,    34.7409,6,-999.0000,3,     -999.0,9
33RO20150410,     P16N.1,      64,          1,          8,          8,2,20150427,       1733,     2.0506,  -150.9966,       4902,  1501.0,   3.0822,  34.6043,2,  34.6028,2,     84.5,2,    86.1,2,  119.30,2,   40.20,2,    0.02,2,    2.94,2,-999.000,9,-999.000,9,-999.000,9,  2335.5,2,  2393.4,2,   7.4715,6,    25.01,-999.000,9,-999.0000,9, -999.00,9,   3.0823, -999.00,9,  -999.0,9,  -999.0,-999.000,9,-999.000,    37.9,2, -999.00,9,     -999.0,9, -999.00,9,-999.000,-999.0000, -999.00,     -999.0,     -999.0,9,     -999.0,     -999.0,9,     -999.0,  -999.0,9,     -999.0,     -999.0,9,     -999.0,   2.9733,    34.7659,2,-999.0000,3,     -999.0,9
33RO20150410,     P16N.1,      64,          1,          7,          7,2,20150427,       1733,     2.0506,  -150.9966,       4902,  1867.4,   2.4657,  34.6335,2,  34.6327,2,     96.3,2,    97.4,2,  134.70,2,   39.70,2,    0.01,2,    2.87,2,-999.000,9,-999.000,9,-999.000,9,  2346.7,2,  2411.7,2,   7.4920,2,    25.01,-999.000,9,-999.0000,9, -999.00,9,   2.4653, -999.00,9,  -999.0,9,  -999.0,-999.000,9,-999.000,    37.0,2, -999.00,9,     -999.0,9, -999.00,9,-999.000,-999.0000, -999.00,     -999.0,     -999.0,9,     -999.0,     -999.0,9,     -999.0,  -999.0,9,     -999.0,     -999.0,9,     -999.0,   2.3336,    34.7960,2,-999.0000,2,     -999.0,9
33RO20150410,     P16N.1,      64,          1,          6,          6,2,20150427,       1733,     2.0506,  -150.9966,       4902,  2266.9,   2.0109,  34.6566,2,  34.6556,2,    109.2,2,   110.3,2,  144.70,2,   38.70,2,    0.00,2,    2.78,2,-999.000,9,-999.000,9,-999.000,9,  2348.7,2,  2423.9,2,   7.5171,6,    25.00,-999.000,9,-999.0000,9, -999.00,9,   2.0104, -999.00,9,  -999.0,9,  -999.0,-999.000,9,-999.000,    36.7,2, -999.00,9,     -999.0,9, -999.00,9,-999.000,-999.0000, -999.00,     -999.0,     -999.0,9,     -999.0,     -999.0,9,     -999.0,  -999.0,9,     -999.0,     -999.0,9,     -999.0,   1.8513,    34.8190,2,-999.0000,2,     -999.0,9
33RO20150410,     P16N.1,      64,          1,          5,          5,2,20150427,       1733,     2.0506,  -150.9966,       4902,  2667.9,   1.7842,  34.6695,2,  34.6682,2,    121.4,2,   122.4,2,  147.20,2,   37.90,2,    0.01,2,    2.71,2,-999.000,9,-999.000,9,-999.000,9,  2347.5,2,  2428.1,2,   7.5373,2,    25.01,-999.000,9,-999.0000,9, -999.00,9,   1.7837, -999.00,9,  -999.0,9,  -999.0,-999.000,9,-999.000,    36.1,2, -999.00,9,     -999.0,9, -999.00,9,-999.000,-999.0000, -999.00,     -999.0,     -999.0,9,     -999.0,     -999.0,9,     -999.0,  -999.0,9,     -999.0,     -999.0,9,     -999.0,   1.5926,    34.8317,2,-999.0000,2,     -999.0,9
33RO20150410,     P16N.1,      64,          1,          4,          4,2,20150427,       1733,     2.0506,  -150.9966,       4902,  3066.3,   1.6694,  34.6756,2,  34.6749,2,    133.3,2,   133.9,2,  144.90,6,   37.20,6,    0.01,6,    2.65,6,-999.000,9,-999.000,9,-999.000,9,  2335.5,2,  2425.7,2,   7.5550,6,    25.01,-999.000,9,-999.0000,9, -999.00,9,   1.6688, -999.00,9,  -999.0,9,  -999.0,-999.000,9,-999.000,    37.4,2, -999.00,9,     -999.0,9, -999.00,9,-999.000,-999.0000, -999.00,     -999.0,     -999.0,9,     -999.0,     -999.0,9,     -999.0,  -999.0,9,     -999.0,     -999.0,9,     -999.0,   1.4424,    34.8384,2,-999.0000,2,     -999.0,9
33RO20150410,     P16N.1,      64,          1,          3,          3,2,20150427,       1733,     2.0506,  -150.9966,       4902,  3467.5,   1.4897,  34.6872,2,  34.6857,2,    147.3,2,   148.4,2,  145.00,6,   36.30,6,    0.01,6,    2.58,6,-999.000,9,-999.000,9,-999.000,9,  2330.1,2,  2428.2,2,   7.5805,2,    25.02,-999.000,9,-999.0000,9, -999.00,9,   1.4893, -999.00,9,  -999.0,9,  -999.0,-999.000,9,-999.000,    37.7,2, -999.00,9,     -999.0,9, -999.00,9,-999.000,-999.0000, -999.00,     -999.0,     -999.0,9,     -999.0,     -999.0,9,     -999.0,  -999.0,9,     -999.0,     -999.0,9,     -999.0,   1.2271,    34.8493,2,-999.0000,2,     -999.0,9
33RO20150410,     P16N.1,      64,          1,          2,          2,2,20150427,       1733,     2.0506,  -150.9966,       4902,  3866.6,   1.4211,  34.6932,2,  34.6926,2,    156.6,2,   156.3,2,  143.90,6,   35.80,6,    0.01,6,    2.52,6,-999.000,9,-999.000,9,-999.000,9,  2326.6,2,  2427.8,6,   7.5959,2,    25.01,-999.000,9,-999.0000,9, -999.00,9,   1.4206, -999.00,9,  -999.0,9,  -999.0,-999.000,9,-999.000,    37.1,2, -999.00,9,     -999.0,9, -999.00,9,-999.000,-999.0000, -999.00,     -999.0,     -999.0,9,     -999.0,     -999.0,9,     -999.0,  -999.0,9,     -999.0,     -999.0,9,     -999.0,   1.1187,    34.8562,2,-999.0000,2,     -999.0,9
33RO20150410,     P16N.1,      64,          1,          1,          1,2,20150427,       1733,     2.0506,  -150.9966,       4902,  4421.9,   1.3994,  34.6965,2,  34.6978,2,    165.7,2,   164.7,2,  139.00,6,   35.00,6,    0.01,6,    2.48,6,-999.000,9,-999.000,9,-999.000,9,  2314.6,6,  2420.1,2,   7.6010,2,    25.02,-999.000,9,-999.0000,9, -999.00,9,   1.3991, -999.00,9,  -999.0,9,  -999.0,-999.000,9,-999.000,    37.3,2, -999.00,9,     -999.0,9, -999.00,9,-999.000,-999.0000, -999.00,     -999.0,     -999.0,9,     -999.0,     -999.0,9,     -999.0,  -999.0,9,     -999.0,     -999.0,9,     -999.0,   1.0363,    34.8614,2,-999.0000,2,     -999.0,9