BOTTLE,20210709CCHSIOCBG
EXPOCODE,SECT_ID,STNNBR,CASTNO,SAMPNO,BTLNBR,BTLNBR_FLAG_W,DATE,TIME,LATITUDE,LONGITUDE,DEPTH,CTDPRS,CTDTMP,CTDSAL,CTDSAL_FLAG_W,SALNTY,SALNTY_FLAG_W,CTDOXY,CTDOXY_FLAG_W,OXYGEN,OXYGEN_FLAG_W,SILCAT,SILCAT_FLAG_W,NITRAT,NITRAT_FLAG_W,NITRIT,NITRIT_FLAG_W,PHSPHT,PHSPHT_FLAG_W,CFC-11,CFC-11_FLAG_W,CFC-12,CFC-12_FLAG_W,SF6,SF6_FLAG_W,TCARBN,TCARBN_FLAG_W,ALKALI,ALKALI_FLAG_W,PH_TOT,PH_TOT_FLAG_W,PH_TMP,TRITUM,TRITUM_FLAG_W,HELIUM,HELIUM_FLAG_W,DELHE3,DELHE3_FLAG_W,REFTMP,DELC13,DELC13_FLAG_W,DELC14,DELC14_FLAG_W,C14ERR,NEON,NEON_FLAG_W,NEONER,DOC,DOC_FLAG_W,TDN,TDN_FLAG_W,N2O,N2O_FLAG_W,ARGON,ARGON_FLAG_W,TRITER,HELIER,DELHER,ARGONER,KRYPTON,KRYPTON_FLAG_W,KRYPTONER,XENON,XENON_FLAG_W,XENONER,14C-DOC,14C-DOC_FLAG_W,14C-DOCERR,13C-DOC,13C-DOC_FLAG_W,13C-DOCERR,THETA,SALTREF,SALTREF_FLAG_W,SBE35,SBE35_FLAG_W,CHLORA,CHLORA_FLAG_W
,,,,,,,,,,,METERS,DBAR,ITS-90,PSS-78,,PSS-78,,UMOL/KG,,UMOL/KG,,UMOL/KG,,UMOL/KG,,UMOL/KG,,UMOL/KG,,PMOL/KG,,PMOL/KG,,FMOL/KG,,UMOL/KG,,UMOL/KG,,,,DEG C,TU,,NMOL/KG,,PERCNT,,DEG C,/MILLE,,/MILLE,,/MILLE,NMOL/KG,,NMOL/KG,UMOL/KG,,UMOL/KG,,NMOL/KG,,UMOL/KG,,TU,NMOL/KG,PERCNT,UMOL/KG,NMOL/KG,,NMOL/KG,NMOL/KG,,NMOL/KG,/MILLE,,/MILLE,/MILLE,,/MILLE,DEG C,G/KG,,ITS-90,,MG/M3,
33RO20150410,     P16N.1,      44,          1,         24,         24,2,20150423,       0335,    -1.0700,  -151.0000,       4833,    10.7,  28.6653,  35.3135,2,  35.3077,2,    200.9,2,   200.2,2,    1.80,4,    3.40,4,    0.20,4,    0.44,4,   1.491,2,   0.957,2,   1.185,2,  2019.9,6,  2324.6,2,   8.0415,2,    25.01,   0.306,2,   1.6942,2,   -0.95,2,-999.0000, -999.00,9,  -999.0,9,  -999.0,   6.622,2,   0.017,    62.1,2,    8.70,2,      6.748,3, -999.00,9,   0.003,   0.0044,    0.20,     -999.0,     -999.0,9,     -999.0,     -999.0,9,     -999.0,  -999.0,9,     -999.0,     -999.0,9,     -999.0,  28.6627,    35.4742,2,-999.0000,2,     -999.0,9
33RO20150410,     P16N.1,      44,          1,         23,         23,2,20150423,       0335,    -1.0700,  -151.0000,       4833,    24.5,  28.6021,  35.3159,2,  35.3088,2,    199.9,2,   200.6,2,    1.80,2,    3.40,2,    0.18,2,    0.44,4,   1.491,2,   0.957,2,   1.233,2,  2020.2,2,  2324.4,6,   8.0415,2,    25.02,-999.000,9,-999.0000,9, -999.00,9,-999.0000, -999.00,9,  -999.0,9,  -999.0,-999.000,9,-999.000,    63.9,2,    8.40,2,      6.701,3, -999.00,9,-999.000,-999.0000, -999.00,     -999.0,     -999.0,9,     -999.0,     -999.0,9,     -999.0,  -999.0,9,     -999.0,     -999.0,9,     -999.0,  28.5962,    35.4753,2,-999.0000,3,     -999.0,9
33RO20150410,     P16N.1,      44,          1,         22,         22,2,20150423,       0335,    -1.0700,  -151.0000,       4833,    49.5,  28.2052,  35.3606,2,  35.3604,2,    200.2,2,   200.4,2,    1.90,2,    3.90,2,    0.12,2,    0.47,4,   1.497,2,   0.966,2,   1.231,2,  2023.9,2,  2328.4,2,   8.0390,6,    25.01,   0.286,2,   1.6898,2,   -1.00,2,-999.0000, -999.00,9,  -999.0,9,  -999.0,   6.616,2,   0.016,    63.1,2,    9.30,2,      6.583,3, -999.00,9,   0.002,   0.0044,    0.20,     -999.0,     -999.0,9,     -999.0,     -999.0,9,     -999.0,  -999.0,9,     -999.0,     -999.0,9,     -999.0,  28.1935,    35.5271,2,-999.0000,3,     -999.0,9
33RO20150410,     P16N.1,      44,          1,         21,         21,2,20150423,       0335,    -1.0700,  -151.0000,       4833,    74.8,  27.1865,  35.2438,2,  35.2426,2,    191.9,2,   191.8,2,    2.20,2,    4.60,2,    0.34,2,    0.59,4,   1.557,2,   1.002,2,    1.22,2,  2037.6,2,  2320.7,2,   8.0047,6,    25.00,   0.313,2,   1.7079,2,   -1.17,2,-999.0000, -999.00,9,  -999.0,9,  -999.0,   6.712,2,   0.017,    59.3,2,    9.60,2,      6.943,3, -999.00,9,   0.004,   0.0044,    0.20,     -999.0,     -999.0,9,     -999.0,     -999.0,9,     -999.0,  -999.0,9,     -999.0,     -999.0,9,     -999.0,  27.1692,    35.4087,2,-999.0000,2,     -999.0,9
33RO20150410,     P16N.1,      44,          1,         20,         20,2,20150423,       0335,    -1.0700,  -151.0000,       4833,    97.7,  27.0786,  35.2453,2,  35.2459,2,    188.7,2,   189.2,2,    2.30,2,    4.80,2,    0.38,2,    0.60,4,   1.566,2,   1.005,2,   1.238,2,  2041.3,2,  2320.8,2,   7.9991,2,    24.99,   0.291,2,   1.7096,2,   -1.05,2,-999.0000, -999.00,9,  -999.0,9,  -999.0,   6.729,2,   0.017,    61.9,2,   10.00,2,      7.097,3, -999.00,9,   0.003,   0.0044,    0.20,     -999.0,     -999.0,9,     -999.0,     -999.0,9,     -999.0,  -999.0,9,     -999.0,     -999.0,9,     -999.0,  27.0561,    35.4121,2,-999.0000,2,     -999.0,9
33RO20150410,     P16N.1,      44,          1,         19,         19,2,20150423,       0335,    -1.0700,  -151.0000,       4833,   149.9,  22.8713,  35.6464,2,  35.6471,6,    141.1,2,   142.9,2,    3.50,2,   10.50,2,    0.25,2,    0.94,4,   1.770,2,   1.113,2,   1.194,2,  2113.2,2,  2347.8,2,   7.9050,2,    25.00,   0.233,2,-999.0000,9, -999.00,9,-999.0000, -999.00,9,  -999.0,9,  -999.0,-999.000,9,-999.000,    52.5,2,   12.90,2,     13.388,3, -999.00,9,   0.002,-999.0000, -999.00,     -999.0,     -999.0,9,     -999.0,     -999.0,9,     -999.0,  -999.0,9,     -999.0,     -999.0,9,     -999.0,  22.8407,    35.8151,6,-999.0000,2,     -999.0,9
33RO20150410,     P16N.1,      44,          1,         18,         18,2,20150423,       0335,    -1.0700,  -151.0000,       4833,   274.3,  11.8473,  34.8440,2,  34.8396,2,     68.3,2,    67.2,2,   22.90,2,   27.90,2,    0.01,2,    1.89,4,   1.174,6,   0.658,6,   0.326,6,  2217.5,2,  2306.5,2,   7.5743,2,    25.00,   0.145,2,-999.0000,9, -999.00,9,-999.0000, -999.00,9,  -999.0,9,  -999.0,-999.000,9,-999.000,    43.1,2,   29.30,2,     45.613,3, -999.00,9,   0.002,-999.0000, -999.00,     -999.0,     -999.0,9,     -999.0,     -999.0,9,     -999.0,  -999.0,9,     -999.0,     -999.0,9,     -999.0,  11.8118,    35.0039,2,-999.0000,2,     -999.0,9
33RO20150410,     P16N.1,      44,          1,         17,         17,2,20150423,       0335,    -1.0700,  -151.0000,       4833,   300.7,  11.6536,  34.8322,2,  34.8286,2,     53.7,2,    53.9,2,   24.20,2,   29.50,2,    0.01,2,    1.99,4,   1.079,2,   0.602,2,   0.278,2,  2226.8,2,  2305.6,2,   7.5417,2,    25.00,   0.127,2,   1.7927,2,    5.48,2,-999.0000, -999.00,9,  -999.0,9,  -999.0,   7.515,2,   0.019,    42.1,2,   31.50,2,     49.710,3, -999.00,9,   0.002,   0.0047,    0.20,     -999.0,     -999.0,9,     -999.0,     -999.0,9,     -999.0,  -999.0,9,     -999.0,     -999.0,9,     -999.0,  11.6150,    34.9929,2,-999.0000,2,     -999.0,9
33RO20150410,     P16N.1,      44,          1,         16,         16,2,20150423,       0335,    -1.0700,  -151.0000,       4833,   399.5,   9.6988,  34.7143,2,  34.7116,2,     47.6,2,    47.9,2,   30.60,2,   33.80,2,    0.01,2,    2.27,4,   0.593,2,   0.332,2,   0.116,2,  2246.8,2,  2306.0,2,   7.4827,2,    25.00,   0.070,2,   1.8041,2,    6.20,2,-999.0000, -999.00,9,  -999.0,9,  -999.0,   7.598,2,   0.019,    41.2,2, -999.00,9,     50.042,3, -999.00,9,   0.002,   0.0047,    0.20,     -999.0,     -999.0,9,     -999.0,     -999.0,9,     -999.0,  -999.0,9,     -999.0,     -999.0,9,     -999.0,   9.6530,    34.8752,2,-999.0000,2,     -999.0,9
33RO20150410,     P16N.1,      44,          1,         15,         15,2,20150423,       0335,    -1.0700,  -151.0000,       4833,   500.0,   7.3335,  34.5879,2,  34.5863,2,     61.0,2,    60.4,2,   44.00,2,   37.40,2,    0.02,2,    2.55,4,   0.198,2,   0.110,2,       0,2,  2263.9,2,  2315.0,2,   7.4601,2,    25.00,   0.027,2,   1.8281,2,    8.83,2,-999.0000, -999.00,9,  -999.0,9,  -999.0,   7.730,2,   0.019,    40.0,2, -999.00,9,     42.965,3, -999.00,9,   0.003,   0.0048,    0.20,     -999.0,     -999.0,9,     -999.0,     -999.0,9,     -999.0,  -999.0,9,     -999.0,     -999.0,9,     -999.0,   7.2847,    34.7494,2,-999.0000,2,     -999.0,9
33RO20150410,     P16N.1,      44,          1,         14,         14,2,20150423,       0335,    -1.0700,  -151.0000,       4833,   649.7,   6.1313,  34.5545,2,  34.5549,2,     67.6,2,    66.9,2,   56.90,2,   39.10,2,    0.01,2,    2.68,4,   0.076,2,   0.040,2,       0,2,  2278.3,2,  2327.1,2,   7.4557,2,    25.00,   0.011,2,   1.8330,2,   11.84,2,-999.0000, -999.00,9,  -999.0,9,  -999.0,   7.786,2,   0.020,    41.2,2, -999.00,9,     39.756,3, -999.00,9,   0.001,   0.0048,    0.20,     -999.0,     -999.0,9,     -999.0,     -999.0,9,     -999.0,  -999.0,9,     -999.0,     -999.0,9,     -999.0,   6.0731,    34.7178,2,-999.0000,2,     -999.0,9
33RO20150410,     P16N.1,      44,          1,         13,         13,2,20150423,       0335,    -1.0700,  -151.0000,       4833,   800.3,   5.3461,  34.5467,2,  34.5445,2,     76.8,2,    76.0,2,   68.20,2,   39.20,2,    0.01,2,    2.72,4,   0.033,2,   0.020,2,       0,2,  2286.9,2,  2338.3,2,   7.4642,2,    24.99,   0.009,2,   1.8470,2,   14.57,2,-999.0000, -999.00,9,  -999.0,9,  -999.0,   7.845,2,   0.020,    39.1,2, -999.00,9,     35.680,3, -999.00,9,   0.001,   0.0048,    0.20,     -999.0,     -999.0,9,     -999.0,     -999.0,9,     -999.0,  -999.0,9,     -999.0,     -999.0,9,     -999.0,   5.2784,    34.7074,2,-999.0000,2,     -999.0,9
33RO20150410,     P16N.1,      44,          1,         12,         12,2,20150423,       0335,    -1.0700,  -151.0000,       4833,   951.3,   4.8989,  34.5492,2,  34.5490,2,     81.8,2,    81.1,2,   75.80,2,   39.10,2,    0.00,2,    2.75,4,   0.023,2,   0.014,2,   0.021,3,  2291.0,6,  2345.2,2,   7.4701,2,    25.01,   0.008,2,   1.8631,2,   16.34,2,-999.0000, -999.00,9,  -999.0,9,  -999.0,   7.892,2,   0.020,    37.2,2, -999.00,9,     33.631,3, -999.00,9,   0.001,   0.0048,    0.20,     -999.0,     -999.0,9,     -999.0,     -999.0,9,     -999.0,  -999.0,9,     -999.0,     -999.0,9,     -999.0,   4.8206,    34.7119,2,-999.0000,2,     -999.0,9
33RO20150410,     P16N.1,      44,          1,         11,         11,2,20150423,       0335,    -1.0700,  -151.0000,       4833,  1098.9,   4.1768,  34.5635,2,  34.5639,2,     85.8,2,    84.8,2,   90.70,2,   39.50,2,    0.01,2,    2.79,4,   0.012,2,   0.006,2,       0,2,  2308.3,2,  2362.1,2,   7.4728,2,    25.00,  -0.001,2,   1.8809,2,   19.54,2,-999.0000, -999.00,9,  -999.0,9,  -999.0,   7.967,2,   0.020,    37.0,2, -999.00,9,     32.237,3, -999.00,9,   0.001,   0.0049,    0.20,     -999.0,     -999.0,9,     -999.0,     -999.0,9,     -999.0,  -999.0,9,     -999.0,     -999.0,9,     -999.0,   4.0912,    34.7269,2,-999.0000,2,     -999.0,9
33RO20150410,     P16N.1,      44,          1,         10,         10,2,20150423,       0335,    -1.0700,  -151.0000,       4833,  1300.5,   3.6404,  34.5804,2,  34.5826,2,     86.5,2,    85.8,2,  104.10,2,   39.90,2,    0.00,2,    2.84,4,  -0.002,2,   0.001,2,       0,2,  2321.2,2,  2377.0,2,   7.4715,2,    24.99,   0.002,2,   1.8854,2,   22.10,2,-999.0000, -999.00,9,  -999.0,9,  -999.0,   7.984,2,   0.020,    36.6,2, -999.00,9,     31.370,3, -999.00,9,   0.001,   0.0049,    0.20,     -999.0,     -999.0,9,     -999.0,     -999.0,9,     -999.0,  -999.0,9,     -999.0,     -999.0,9,     -999.0,   3.5425,    34.7456,2,-999.0000,2,     -999.0,9
33RO20150410,     P16N.1,      44,          1,          9,          9,2,20150423,       0335,    -1.0700,  -151.0000,       4833,  1518.8,   3.1126,  34.6018,2,  34.6026,2,     90.4,2,    89.8,2,  116.60,2,   40.00,2,    0.01,2,    2.84,4,   0.013,3,   0.002,2,       0,2,  2333.7,2,  2392.1,2,   7.4769,6,    25.02,   0.004,2,-999.0000,9, -999.00,9,-999.0000, -999.00,9,  -999.0,9,  -999.0,-999.000,9,-999.000,    36.6,2, -999.00,9,     29.850,3, -999.00,9,   0.001,-999.0000, -999.00,     -999.0,     -999.0,9,     -999.0,     -999.0,9,     -999.0,  -999.0,9,     -999.0,     -999.0,9,     -999.0,   3.0018,    34.7658,2,-999.0000,2,     -999.0,9
33RO20150410,     P16N.1,      44,          1,          8,          8,2,20150423,       0335,    -1.0700,  -151.0000,       4833,  1999.9,   2.2770,  34.6412,2,  34.6472,4,    107.6,2,   107.5,2,  135.40,2,   38.80,2,    0.01,2,    2.78,4,   0.000,2,   0.001,2,       0,2,  2344.3,2,  2414.5,2,   7.5090,2,    25.00,   0.003,2,   1.9272,2,   27.51,2,-999.0000, -999.00,9,  -999.0,9,  -999.0,   8.120,2,   0.020,    37.4,2, -999.00,9,     25.601,3, -999.00,9,   0.002,   0.0050,    0.20,     -999.0,     -999.0,9,     -999.0,     -999.0,9,     -999.0,  -999.0,9,     -999.0,     -999.0,9,     -999.0,   2.1363,    34.8106,3,-999.0000,2,     -999.0,9
33RO20150410,     P16N.1,      44,          1,          7,          7,2,20150423,       0335,    -1.0700,  -151.0000,       4833,  2401.1,   1.9456,  34.6586,2,  34.6661,4,    119.9,2,   121.2,2,  141.10,2,   37.90,2,    0.01,2,    2.74,4,  -0.008,2,   0.000,2,       0,2,  2343.5,2,  2421.5,2,   7.5305,6,    25.00,-999.000,9,-999.0000,9, -999.00,9,-999.0000, -999.00,9,  -999.0,9,  -999.0,-999.000,9,-999.000,    34.7,2, -999.00,9,     23.723,3, -999.00,9,-999.000,-999.0000, -999.00,     -999.0,     -999.0,9,     -999.0,     -999.0,9,     -999.0,  -999.0,9,     -999.0,     -999.0,9,     -999.0,   1.7752,    34.8295,3,-999.0000,2,     -999.0,9
33RO20150410,     P16N.1,      44,          1,          6,          6,2,20150423,       0335,    -1.0700,  -151.0000,       4833,  2801.5,   1.7416,  34.6702,2,  34.6733,2,    130.8,2,   131.0,2,  143.40,2,   37.30,2,    0.00,2,    2.66,4,  -0.003,6,  -0.001,6,       0,6,  2339.2,2,  2423.9,2,   7.5479,2,    25.00,-999.000,9,-999.0000,9, -999.00,9,-999.0000, -999.00,9,  -999.0,9,  -999.0,-999.000,9,-999.000,    36.6,2, -999.00,9,     22.627,3, -999.00,9,-999.000,-999.0000, -999.00,     -999.0,     -999.0,9,     -999.0,     -999.0,9,     -999.0,  -999.0,9,     -999.0,     -999.0,9,     -999.0,   1.5384,    34.8368,2,-999.0000,2,     -999.0,9
33RO20150410,     P16N.1,      44,          1,          5,          5,2,20150423,       0335,    -1.0700,  -151.0000,       4833,  3201.3,   1.6463,  34.6763,2,  34.6785,2,    139.3,2,   139.5,2,  142.50,2,   36.60,2,    0.01,2,    2.61,4,  -0.004,2,   0.000,2,       0,2,  2333.5,2,  2422.7,2,   7.5600,6,    25.00,-999.000,9,-999.0000,9, -999.00,9,-999.0000, -999.00,9,  -999.0,9,  -999.0,-999.000,9,-999.000,    35.2,2, -999.00,9,     22.034,3, -999.00,9,-999.000,-999.0000, -999.00,     -999.0,     -999.0,9,     -999.0,     -999.0,9,     -999.0,  -999.0,9,     -999.0,     -999.0,9,     -999.0,   1.4066,    34.8420,2,-999.0000,2,     -999.0,9
33RO20150410,     P16N.1,      44,          1,          4,          4,2,20150423,       0335,    -1.0700,  -151.0000,       4833,  3600.4,   1.5025,  34.6869,2,  34.6863,2,    152.6,2,   152.8,2,  141.20,6,   35.90,6,    0.00,6,    2.53,4,  -0.007,2,  -0.001,2,       0,2,  2326.3,2,  2423.5,2,   7.5822,6,    24.99,-999.000,9,-999.0000,9, -999.00,9,-999.0000, -999.00,9,  -999.0,9,  -999.0,-999.000,9,-999.000,    35.9,2, -999.00,9,     20.858,3, -999.00,9,-999.000,-999.0000, -999.00,     -999.0,     -999.0,9,     -999.0,     -999.0,9,     -999.0,  -999.0,9,     -999.0,     -999.0,9,     -999.0,   1.2259,    34.8499,2,-999.0000,2,     -999.0,9
33RO20150410,     P16N.1,      44,          1,          3,          3,2,20150423,       0335,    -1.0700,  -151.0000,       4833,  4000.1,   1.4175,  34.6939,2,  34.6942,2,    161.0,2,   160.2,2,  141.70,6,   35.40,6,    0.00,6,    2.49,4,   0.001,6,  -0.001,2,       0,6,  2322.8,2,  2426.7,2,   7.5974,2,    25.01,-999.000,9,-999.0000,9, -999.00,9,-999.0000, -999.00,9,  -999.0,9,  -999.0,-999.000,9,-999.000,    36.5,2, -999.00,9,     19.953,3, -999.00,9,-999.000,-999.0000, -999.00,     -999.0,     -999.0,9,     -999.0,     -999.0,9,     -999.0,  -999.0,9,     -999.0,     -999.0,9,     -999.0,   1.1008,    34.8578,2,-999.0000,2,     -999.0,9
33RO20150410,     P16N.1,      44,          1,          2,          2,2,20150423,       0335,    -1.0700,  -151.0000,       4833,  4304.0,   1.4091,  34.6958,2,  34.6963,2,    164.3,2,   164.6,2,  139.60,6,   35.10,6,    0.00,6,    2.48,4,  -0.003,2,   0.000,2,       0,2,  2318.3,2,  2423.8,6,   7.6011,2,    24.99,-999.000,9,-999.0000,9, -999.00,9,-999.0000, -999.00,9,  -999.0,9,  -999.0,-999.000,9,-999.000,    41.3,3, -999.00,9,     20.101,3, -999.00,9,-999.000,-999.0000, -999.00,     -999.0,     -999.0,9,     -999.0,     -999.0,9,     -999.0,  -999.0,9,     -999.0,     -999.0,9,     -999.0,   1.0591,    34.8600,2,-999.0000,2,     -999.0,9
33RO20150410,     P16N.1,      44,          1,          1,          1,2,20150423,       0335,    -1.0700,  -151.0000,       4833,  4822.8,   1.3330,  34.7021,2,  34.6998,2,    181.6,2,   187.2,4,  127.50,6,   33.70,6,    0.02,6,    2.36,4,   0.002,2,   0.003,6,       0,6,  2293.2,6,  2398.1,2,   7.6067,2,    24.99,-999.000,9,-999.0000,9, -999.00,9,-999.0000, -999.00,9,  -999.0,9,  -999.0,-999.000,9,-999.000,    38.5,2, -999.00,9,     19.019,3, -999.00,9,-999.000,-999.0000, -999.00,     -999.0,     -999.0,9,     -999.0,     -999.0,9,     -999.0,  -999.0,9,     -999.0,     -999.0,9,     -999.0,   0.9254,    34.8635,3,-999.0000,2,     -999.0,9