BOTTLE,20210709CCHSIOCBG
EXPOCODE,SECT_ID,STNNBR,CASTNO,SAMPNO,BTLNBR,BTLNBR_FLAG_W,DATE,TIME,LATITUDE,LONGITUDE,DEPTH,CTDPRS,CTDTMP,CTDSAL,CTDSAL_FLAG_W,SALNTY,SALNTY_FLAG_W,CTDOXY,CTDOXY_FLAG_W,OXYGEN,OXYGEN_FLAG_W,SILCAT,SILCAT_FLAG_W,NITRAT,NITRAT_FLAG_W,NITRIT,NITRIT_FLAG_W,PHSPHT,PHSPHT_FLAG_W,CFC-11,CFC-11_FLAG_W,CFC-12,CFC-12_FLAG_W,SF6,SF6_FLAG_W,TCARBN,TCARBN_FLAG_W,ALKALI,ALKALI_FLAG_W,PH_TOT,PH_TOT_FLAG_W,PH_TMP,TRITUM,TRITUM_FLAG_W,HELIUM,HELIUM_FLAG_W,DELHE3,DELHE3_FLAG_W,REFTMP,DELC13,DELC13_FLAG_W,DELC14,DELC14_FLAG_W,C14ERR,NEON,NEON_FLAG_W,NEONER,DOC,DOC_FLAG_W,TDN,TDN_FLAG_W,N2O,N2O_FLAG_W,ARGON,ARGON_FLAG_W,TRITER,HELIER,DELHER,ARGONER,KRYPTON,KRYPTON_FLAG_W,KRYPTONER,XENON,XENON_FLAG_W,XENONER,14C-DOC,14C-DOC_FLAG_W,14C-DOCERR,13C-DOC,13C-DOC_FLAG_W,13C-DOCERR,THETA,SALTREF,SALTREF_FLAG_W,SBE35,SBE35_FLAG_W,CHLORA,CHLORA_FLAG_W
,,,,,,,,,,,METERS,DBAR,ITS-90,PSS-78,,PSS-78,,UMOL/KG,,UMOL/KG,,UMOL/KG,,UMOL/KG,,UMOL/KG,,UMOL/KG,,PMOL/KG,,PMOL/KG,,FMOL/KG,,UMOL/KG,,UMOL/KG,,,,DEG C,TU,,NMOL/KG,,PERCNT,,DEG C,/MILLE,,/MILLE,,/MILLE,NMOL/KG,,NMOL/KG,UMOL/KG,,UMOL/KG,,NMOL/KG,,UMOL/KG,,TU,NMOL/KG,PERCNT,UMOL/KG,NMOL/KG,,NMOL/KG,NMOL/KG,,NMOL/KG,/MILLE,,/MILLE,/MILLE,,/MILLE,DEG C,G/KG,,ITS-90,,MG/M3,
33RO20150410,     P16N.1,      53,          1,         24,         24,2,20150425,       1021,     0.2513,  -150.9990,       4431,    10.4,  28.0970,  35.0926,2,  35.0920,2,    195.5,2,   196.5,2,    1.90,2,    2.90,2,    0.34,2,    0.41,4,-999.000,9,-999.000,9,-999.000,9,  2010.1,6,  2310.1,2,   8.0326,2,    25.00,-999.000,9,-999.0000,9, -999.00,9,-999.0000, -999.00,9,  -999.0,9,  -999.0,-999.000,9,-999.000,  -999.0,9, -999.00,9,     -999.0,9, -999.00,9,-999.000,-999.0000, -999.00,     -999.0,     -999.0,9,     -999.0,     -999.0,9,     -999.0,  -999.0,9,     -999.0,     -999.0,9,     -999.0,  28.0945,    35.2575,2,-999.0000,2,     -999.0,9
33RO20150410,     P16N.1,      53,          1,         23,         23,2,20150425,       1021,     0.2513,  -150.9990,       4431,    25.2,  28.0644,  35.0922,2,  35.0922,2,    194.9,2,   194.8,2,    1.90,2,    3.00,2,    0.38,2,    0.43,4,-999.000,9,-999.000,9,-999.000,9,  -999.0,9,  -999.0,9,-999.0000,9,  -999.00,-999.000,9,-999.0000,9, -999.00,9,-999.0000, -999.00,9,  -999.0,9,  -999.0,-999.000,9,-999.000,  -999.0,9, -999.00,9,     -999.0,9, -999.00,9,-999.000,-999.0000, -999.00,     -999.0,     -999.0,9,     -999.0,     -999.0,9,     -999.0,  -999.0,9,     -999.0,     -999.0,9,     -999.0,  28.0585,    35.2577,2,-999.0000,2,     -999.0,9
33RO20150410,     P16N.1,      53,          1,         22,         22,9,20150425,       1021,     0.2513,  -150.9990,       4431,    37.4,  27.9042,  35.1009,2,-999.0000,9,    190.3,2,  -999.0,9, -999.00,9, -999.00,9, -999.00,9, -999.00,9,-999.000,9,-999.000,9,-999.000,9,  -999.0,9,  -999.0,9,-999.0000,9,  -999.00,-999.000,9,-999.0000,9, -999.00,9,-999.0000, -999.00,9,  -999.0,9,  -999.0,-999.000,9,-999.000,  -999.0,9, -999.00,9,     -999.0,9, -999.00,9,-999.000,-999.0000, -999.00,     -999.0,     -999.0,9,     -999.0,     -999.0,9,     -999.0,  -999.0,9,     -999.0,     -999.0,9,     -999.0,-999.0000,     -999.0,9,-999.0000,2,     -999.0,9
33RO20150410,     P16N.1,      53,          1,         21,         21,2,20150425,       1021,     0.2513,  -150.9990,       4431,    50.6,  27.6866,  35.1322,2,  35.1347,2,    185.5,2,   185.7,2,    2.00,2,    3.80,2,    0.64,2,    0.49,4,-999.000,9,-999.000,9,-999.000,9,  -999.0,9,  -999.0,9,-999.0000,9,  -999.00,-999.000,9,-999.0000,9, -999.00,9,-999.0000, -999.00,9,  -999.0,9,  -999.0,-999.000,9,-999.000,  -999.0,9, -999.00,9,     -999.0,9, -999.00,9,-999.000,-999.0000, -999.00,     -999.0,     -999.0,9,     -999.0,     -999.0,9,     -999.0,  -999.0,9,     -999.0,     -999.0,9,     -999.0,  27.6748,    35.3004,2,-999.0000,2,     -999.0,9
33RO20150410,     P16N.1,      53,          1,         20,         20,2,20150425,       1021,     0.2513,  -150.9990,       4431,    75.0,  27.6917,  35.3270,2,  35.3276,2,    171.2,2,   171.4,2,    2.10,2,    5.60,2,    0.79,2,    0.61,4,-999.000,9,-999.000,9,-999.000,9,  -999.0,9,  -999.0,9,-999.0000,9,  -999.00,-999.000,9,-999.0000,9, -999.00,9,-999.0000, -999.00,9,  -999.0,9,  -999.0,-999.000,9,-999.000,  -999.0,9, -999.00,9,     -999.0,9, -999.00,9,-999.000,-999.0000, -999.00,     -999.0,     -999.0,9,     -999.0,     -999.0,9,     -999.0,  -999.0,9,     -999.0,     -999.0,9,     -999.0,  27.6742,    35.4942,2,-999.0000,2,     -999.0,9
33RO20150410,     P16N.1,      53,          1,         19,         19,2,20150425,       1021,     0.2513,  -150.9990,       4431,    99.7,  27.0395,  35.3270,2,  35.3369,2,    162.5,2,   162.2,2,    2.30,2,    7.40,2,    0.07,2,    0.67,4,-999.000,9,-999.000,9,-999.000,9,  -999.0,9,  -999.0,9,-999.0000,9,  -999.00,-999.000,9,-999.0000,9, -999.00,9,-999.0000, -999.00,9,  -999.0,9,  -999.0,-999.000,9,-999.000,  -999.0,9, -999.00,9,     -999.0,9, -999.00,9,-999.000,-999.0000, -999.00,     -999.0,     -999.0,9,     -999.0,     -999.0,9,     -999.0,  -999.0,9,     -999.0,     -999.0,9,     -999.0,  27.0166,    35.5035,2,-999.0000,2,     -999.0,9
33RO20150410,     P16N.1,      53,          1,         18,         18,2,20150425,       1021,     0.2513,  -150.9990,       4431,   150.3,  18.9550,  35.3430,2,  35.3186,2,    133.8,2,   134.4,2,    6.00,2,   11.70,2,    0.02,2,    0.92,4,-999.000,9,-999.000,9,-999.000,9,  -999.0,9,  -999.0,9,-999.0000,9,  -999.00,-999.000,9,-999.0000,9, -999.00,9,-999.0000, -999.00,9,  -999.0,9,  -999.0,-999.000,9,-999.000,  -999.0,9, -999.00,9,     -999.0,9, -999.00,9,-999.000,-999.0000, -999.00,     -999.0,     -999.0,9,     -999.0,     -999.0,9,     -999.0,  -999.0,9,     -999.0,     -999.0,9,     -999.0,  18.9282,    35.4852,6,-999.0000,2,     -999.0,9
33RO20150410,     P16N.1,      53,          1,         17,         17,2,20150425,       1021,     0.2513,  -150.9990,       4431,   225.5,  13.1043,  34.9279,2,  34.9281,2,    121.9,2,   122.7,2,   15.60,2,   20.10,2,    0.01,2,    1.44,4,-999.000,9,-999.000,9,-999.000,9,  -999.0,9,  -999.0,9,-999.0000,9,  -999.00,-999.000,9,-999.0000,9, -999.00,9,-999.0000, -999.00,9,  -999.0,9,  -999.0,-999.000,9,-999.000,  -999.0,9, -999.00,9,     -999.0,9, -999.00,9,-999.000,-999.0000, -999.00,     -999.0,     -999.0,9,     -999.0,     -999.0,9,     -999.0,  -999.0,9,     -999.0,     -999.0,9,     -999.0,  13.0731,    35.0928,2,-999.0000,2,     -999.0,9
33RO20150410,     P16N.1,      53,          1,         16,         16,2,20150425,       1021,     0.2513,  -150.9990,       4431,   299.7,  11.9473,  34.8425,2,  34.8415,2,     75.8,2,    74.4,2,   22.00,2,   26.90,2,    0.01,2,    1.85,4,-999.000,9,-999.000,9,-999.000,9,  -999.0,9,  -999.0,9,-999.0000,9,  -999.00,-999.000,9,-999.0000,9, -999.00,9,-999.0000, -999.00,9,  -999.0,9,  -999.0,-999.000,9,-999.000,  -999.0,9, -999.00,9,     -999.0,9, -999.00,9,-999.000,-999.0000, -999.00,     -999.0,     -999.0,9,     -999.0,     -999.0,9,     -999.0,  -999.0,9,     -999.0,     -999.0,9,     -999.0,  11.9082,    35.0058,2,-999.0000,2,     -999.0,9
33RO20150410,     P16N.1,      53,          1,         15,         15,2,20150425,       1021,     0.2513,  -150.9990,       4431,   400.1,   9.3379,  34.6832,2,  34.6833,2,     40.9,2,    39.2,2,   34.00,2,   35.30,2,    0.01,2,    2.38,4,-999.000,9,-999.000,9,-999.000,9,  -999.0,9,  -999.0,9,-999.0000,9,  -999.00,-999.000,9,-999.0000,9, -999.00,9,-999.0000, -999.00,9,  -999.0,9,  -999.0,-999.000,9,-999.000,  -999.0,9, -999.00,9,     -999.0,9, -999.00,9,-999.000,-999.0000, -999.00,     -999.0,     -999.0,9,     -999.0,     -999.0,9,     -999.0,  -999.0,9,     -999.0,     -999.0,9,     -999.0,   9.2931,    34.8468,2,-999.0000,2,     -999.0,9
33RO20150410,     P16N.1,      53,          1,         14,         14,2,20150425,       1021,     0.2513,  -150.9990,       4431,   500.6,   7.4762,  34.5921,2,  34.5919,2,     59.7,2,    58.0,2,   43.10,2,   37.30,2,    0.01,2,    2.54,4,-999.000,9,-999.000,9,-999.000,9,  -999.0,9,  -999.0,9,-999.0000,9,  -999.00,-999.000,9,-999.0000,9, -999.00,9,-999.0000, -999.00,9,  -999.0,9,  -999.0,-999.000,9,-999.000,  -999.0,9, -999.00,9,     -999.0,9, -999.00,9,-999.000,-999.0000, -999.00,     -999.0,     -999.0,9,     -999.0,     -999.0,9,     -999.0,  -999.0,9,     -999.0,     -999.0,9,     -999.0,   7.4268,    34.7550,2,-999.0000,2,     -999.0,9
33RO20150410,     P16N.1,      53,          1,         13,         13,2,20150425,       1021,     0.2513,  -150.9990,       4431,   650.2,   6.6275,  34.5641,2,  34.5626,2,     61.2,2,    61.5,2,   51.20,2,   38.70,2,    0.03,2,    2.64,4,-999.000,9,-999.000,9,-999.000,9,  -999.0,9,  -999.0,9,-999.0000,9,  -999.00,-999.000,9,-999.0000,9, -999.00,9,-999.0000, -999.00,9,  -999.0,9,  -999.0,-999.000,9,-999.000,  -999.0,9, -999.00,9,     -999.0,9, -999.00,9,-999.000,-999.0000, -999.00,     -999.0,     -999.0,9,     -999.0,     -999.0,9,     -999.0,  -999.0,9,     -999.0,     -999.0,9,     -999.0,   6.5669,    34.7256,2,-999.0000,2,     -999.0,9
33RO20150410,     P16N.1,      53,          1,         12,         12,2,20150425,       1021,     0.2513,  -150.9990,       4431,   801.2,   5.3132,  34.5463,2,  34.5463,2,     76.1,2,    75.8,2,   68.60,2,   39.00,2,    0.01,2,    2.71,4,-999.000,9,-999.000,9,-999.000,9,  -999.0,9,  -999.0,9,-999.0000,9,  -999.00,-999.000,9,-999.0000,9, -999.00,9,-999.0000, -999.00,9,  -999.0,9,  -999.0,-999.000,9,-999.000,  -999.0,9, -999.00,9,     -999.0,9, -999.00,9,-999.000,-999.0000, -999.00,     -999.0,     -999.0,9,     -999.0,     -999.0,9,     -999.0,  -999.0,9,     -999.0,     -999.0,9,     -999.0,   5.2456,    34.7092,2,-999.0000,2,     -999.0,9
33RO20150410,     P16N.1,      53,          1,         11,         11,2,20150425,       1021,     0.2513,  -150.9990,       4431,   939.9,   4.7769,  34.5504,2,  34.5493,2,     81.8,2,    81.7,2,   78.00,2,   38.80,2,    0.00,2,    2.74,4,-999.000,9,-999.000,9,-999.000,9,  -999.0,9,  -999.0,9,-999.0000,9,  -999.00,-999.000,9,-999.0000,9, -999.00,9,-999.0000, -999.00,9,  -999.0,9,  -999.0,-999.000,9,-999.000,  -999.0,9, -999.00,9,     -999.0,9, -999.00,9,-999.000,-999.0000, -999.00,     -999.0,     -999.0,9,     -999.0,     -999.0,9,     -999.0,  -999.0,9,     -999.0,     -999.0,9,     -999.0,   4.7005,    34.7122,2,-999.0000,2,     -999.0,9
33RO20150410,     P16N.1,      53,          1,         10,         10,2,20150425,       1021,     0.2513,  -150.9990,       4431,  1100.5,   4.3521,  34.5607,2,  34.5579,2,     79.7,2,    79.6,2,   88.00,2,   39.80,2,    0.00,2,    2.81,4,-999.000,9,-999.000,9,-999.000,9,  -999.0,9,  -999.0,9,-999.0000,9,  -999.00,-999.000,9,-999.0000,9, -999.00,9,-999.0000, -999.00,9,  -999.0,9,  -999.0,-999.000,9,-999.000,  -999.0,9, -999.00,9,     -999.0,9, -999.00,9,-999.000,-999.0000, -999.00,     -999.0,     -999.0,9,     -999.0,     -999.0,9,     -999.0,  -999.0,9,     -999.0,     -999.0,9,     -999.0,   4.2649,    34.7209,2,-999.0000,2,     -999.0,9
33RO20150410,     P16N.1,      53,          1,          9,     -999.0,9,20150425,       1021,     0.2513,  -150.9990,       4431,  1300.3,   3.6339,  34.5815,2,-999.0000,9,     84.6,2,  -999.0,9, -999.00,9, -999.00,9, -999.00,9, -999.00,9,-999.000,9,-999.000,9,-999.000,9,  -999.0,9,  -999.0,9,-999.0000,9,  -999.00,-999.000,9,-999.0000,9, -999.00,9,-999.0000, -999.00,9,  -999.0,9,  -999.0,-999.000,9,-999.000,  -999.0,9, -999.00,9,     -999.0,9, -999.00,9,-999.000,-999.0000, -999.00,     -999.0,     -999.0,9,     -999.0,     -999.0,9,     -999.0,  -999.0,9,     -999.0,     -999.0,9,     -999.0,-999.0000,     -999.0,9,-999.0000,2,     -999.0,9
33RO20150410,     P16N.1,      53,          1,          8,          8,2,20150425,       1021,     0.2513,  -150.9990,       4431,  1600.0,   2.8490,  34.6119,2,  34.6106,2,     96.8,2,    95.5,2,  121.70,2,   39.30,2,    0.01,2,    2.82,4,-999.000,9,-999.000,9,-999.000,9,  -999.0,9,  -999.0,9,-999.0000,9,  -999.00,-999.000,9,-999.0000,9, -999.00,9,-999.0000, -999.00,9,  -999.0,9,  -999.0,-999.000,9,-999.000,  -999.0,9, -999.00,9,     -999.0,9, -999.00,9,-999.000,-999.0000, -999.00,     -999.0,     -999.0,9,     -999.0,     -999.0,9,     -999.0,  -999.0,9,     -999.0,     -999.0,9,     -999.0,   2.7345,    34.7738,2,-999.0000,2,     -999.0,9
33RO20150410,     P16N.1,      53,          1,          7,          7,2,20150425,       1021,     0.2513,  -150.9990,       4431,  2000.2,   2.3061,  34.6404,2,  34.6395,2,    103.3,2,   104.3,2,  136.60,2,   39.00,2,    0.00,2,    2.79,4,-999.000,9,-999.000,9,-999.000,9,  -999.0,9,  -999.0,9,-999.0000,9,  -999.00,-999.000,9,-999.0000,9, -999.00,9,-999.0000, -999.00,9,  -999.0,9,  -999.0,-999.000,9,-999.000,  -999.0,9, -999.00,9,     -999.0,9, -999.00,9,-999.000,-999.0000, -999.00,     -999.0,     -999.0,9,     -999.0,     -999.0,9,     -999.0,  -999.0,9,     -999.0,     -999.0,9,     -999.0,   2.1649,    34.8029,6,-999.0000,2,     -999.0,9
33RO20150410,     P16N.1,      53,          1,          6,          6,2,20150425,       1021,     0.2513,  -150.9990,       4431,  2400.2,   1.9166,  34.6609,2,  34.6601,2,    117.6,2,   118.4,2,  143.60,2,   38.00,2,    0.01,2,    2.73,4,-999.000,9,-999.000,9,-999.000,9,  -999.0,9,  -999.0,9,-999.0000,9,  -999.00,-999.000,9,-999.0000,9, -999.00,9,-999.0000, -999.00,9,  -999.0,9,  -999.0,-999.000,9,-999.000,  -999.0,9, -999.00,9,     -999.0,9, -999.00,9,-999.000,-999.0000, -999.00,     -999.0,     -999.0,9,     -999.0,     -999.0,9,     -999.0,  -999.0,9,     -999.0,     -999.0,9,     -999.0,   1.7468,    34.8235,2,-999.0000,2,     -999.0,9
33RO20150410,     P16N.1,      53,          1,          5,          5,2,20150425,       1021,     0.2513,  -150.9990,       4431,  2801.4,   1.7477,  34.6709,2,  34.6705,2,    127.8,2,   128.7,2,  144.90,2,   37.30,2,    0.00,2,    2.66,4,-999.000,9,-999.000,9,-999.000,9,  -999.0,9,  -999.0,9,-999.0000,9,  -999.00,-999.000,9,-999.0000,9, -999.00,9,-999.0000, -999.00,9,  -999.0,9,  -999.0,-999.000,9,-999.000,  -999.0,9, -999.00,9,     -999.0,9, -999.00,9,-999.000,-999.0000, -999.00,     -999.0,     -999.0,9,     -999.0,     -999.0,9,     -999.0,  -999.0,9,     -999.0,     -999.0,9,     -999.0,   1.5444,    34.8340,2,-999.0000,2,     -999.0,9
33RO20150410,     P16N.1,      53,          1,          4,          4,2,20150425,       1021,     0.2513,  -150.9990,       4431,  3200.5,   1.6394,  34.6774,2,  34.6774,2,    137.3,2,   138.0,2,  143.80,6,   36.60,6,    0.01,6,    2.61,4,-999.000,9,-999.000,9,-999.000,9,  -999.0,9,  -999.0,9,-999.0000,9,  -999.00,-999.000,9,-999.0000,9, -999.00,9,-999.0000, -999.00,9,  -999.0,9,  -999.0,-999.000,9,-999.000,  -999.0,9, -999.00,9,     -999.0,9, -999.00,9,-999.000,-999.0000, -999.00,     -999.0,     -999.0,9,     -999.0,     -999.0,9,     -999.0,  -999.0,9,     -999.0,     -999.0,9,     -999.0,   1.3999,    34.8409,2,-999.0000,2,     -999.0,9
33RO20150410,     P16N.1,      53,          1,          3,          3,2,20150425,       1021,     0.2513,  -150.9990,       4431,  3600.1,   1.4886,  34.6876,2,  34.6873,2,    150.2,2,   150.5,2,  143.30,6,   35.80,6,    0.00,6,    2.54,4,-999.000,9,-999.000,9,-999.000,9,  -999.0,9,  -999.0,9,-999.0000,9,  -999.00,-999.000,9,-999.0000,9, -999.00,9,-999.0000, -999.00,9,  -999.0,9,  -999.0,-999.000,9,-999.000,  -999.0,9, -999.00,9,     -999.0,9, -999.00,9,-999.000,-999.0000, -999.00,     -999.0,     -999.0,9,     -999.0,     -999.0,9,     -999.0,  -999.0,9,     -999.0,     -999.0,9,     -999.0,   1.2124,    34.8509,2,-999.0000,2,     -999.0,9
33RO20150410,     P16N.1,      53,          1,          2,          2,2,20150425,       1021,     0.2513,  -150.9990,       4431,  4000.3,   1.4102,  34.6942,2,  34.6937,2,    159.3,2,   159.7,2,  141.90,6,   35.40,6,    0.01,6,    2.49,4,-999.000,9,-999.000,9,-999.000,9,  -999.0,9,  -999.0,9,-999.0000,9,  -999.00,-999.000,9,-999.0000,9, -999.00,9,-999.0000, -999.00,9,  -999.0,9,  -999.0,-999.000,9,-999.000,  -999.0,9, -999.00,9,     -999.0,9, -999.00,9,-999.000,-999.0000, -999.00,     -999.0,     -999.0,9,     -999.0,     -999.0,9,     -999.0,  -999.0,9,     -999.0,     -999.0,9,     -999.0,   1.0937,    34.8573,2,-999.0000,2,     -999.0,9
33RO20150410,     P16N.1,      53,          1,          1,          1,2,20150425,       1021,     0.2513,  -150.9990,       4431,  4420.2,   1.3985,  34.6963,2,  34.6959,2,    165.6,2,   165.4,2,  138.80,6,   34.90,6,    0.01,6,    2.46,4,-999.000,9,-999.000,9,-999.000,9,  -999.0,9,  -999.0,9,-999.0000,9,  -999.00,-999.000,9,-999.0000,9, -999.00,9,-999.0000, -999.00,9,  -999.0,9,  -999.0,-999.000,9,-999.000,  -999.0,9, -999.00,9,     -999.0,9, -999.00,9,-999.000,-999.0000, -999.00,     -999.0,     -999.0,9,     -999.0,     -999.0,9,     -999.0,  -999.0,9,     -999.0,     -999.0,9,     -999.0,   1.0357,    34.8595,2,-999.0000,2,     -999.0,9