BOTTLE,20210709CCHSIOCBG
EXPOCODE,SECT_ID,STNNBR,CASTNO,SAMPNO,BTLNBR,BTLNBR_FLAG_W,DATE,TIME,LATITUDE,LONGITUDE,DEPTH,CTDPRS,CTDTMP,CTDSAL,CTDSAL_FLAG_W,SALNTY,SALNTY_FLAG_W,CTDOXY,CTDOXY_FLAG_W,OXYGEN,OXYGEN_FLAG_W,SILCAT,SILCAT_FLAG_W,NITRAT,NITRAT_FLAG_W,NITRIT,NITRIT_FLAG_W,PHSPHT,PHSPHT_FLAG_W,CFC-11,CFC-11_FLAG_W,CFC-12,CFC-12_FLAG_W,SF6,SF6_FLAG_W,TCARBN,TCARBN_FLAG_W,ALKALI,ALKALI_FLAG_W,PH_TOT,PH_TOT_FLAG_W,PH_TMP,TRITUM,TRITUM_FLAG_W,HELIUM,HELIUM_FLAG_W,DELHE3,DELHE3_FLAG_W,REFTMP,DELC13,DELC13_FLAG_W,DELC14,DELC14_FLAG_W,C14ERR,NEON,NEON_FLAG_W,NEONER,DOC,DOC_FLAG_W,TDN,TDN_FLAG_W,N2O,N2O_FLAG_W,ARGON,ARGON_FLAG_W,TRITER,HELIER,DELHER,ARGONER,KRYPTON,KRYPTON_FLAG_W,KRYPTONER,XENON,XENON_FLAG_W,XENONER,14C-DOC,14C-DOC_FLAG_W,14C-DOCERR,13C-DOC,13C-DOC_FLAG_W,13C-DOCERR,THETA,SALTREF,SALTREF_FLAG_W,SBE35,SBE35_FLAG_W,CHLORA,CHLORA_FLAG_W
,,,,,,,,,,,METERS,DBAR,ITS-90,PSS-78,,PSS-78,,UMOL/KG,,UMOL/KG,,UMOL/KG,,UMOL/KG,,UMOL/KG,,UMOL/KG,,PMOL/KG,,PMOL/KG,,FMOL/KG,,UMOL/KG,,UMOL/KG,,,,DEG C,TU,,NMOL/KG,,PERCNT,,DEG C,/MILLE,,/MILLE,,/MILLE,NMOL/KG,,NMOL/KG,UMOL/KG,,UMOL/KG,,NMOL/KG,,UMOL/KG,,TU,NMOL/KG,PERCNT,UMOL/KG,NMOL/KG,,NMOL/KG,NMOL/KG,,NMOL/KG,/MILLE,,/MILLE,/MILLE,,/MILLE,DEG C,G/KG,,ITS-90,,MG/M3,
33RO20150410,     P16N.1,      93,          1,         24,         24,2,20150505,       1950,    12.9998,  -152.0008,       5734,    15.5,  26.7817,  34.3169,2,  34.3194,2,    198.4,2,   198.9,2,    0.90,2,    0.00,2,    0.01,2,    0.21,2,   1.584,2,   1.002,2,   1.308,2,  1946.7,6,  2259.4,2,   8.0784,2,    24.99,-999.000,9,-999.0000,9, -999.00,9,  26.7833, -999.00,9,  -999.0,9,  -999.0,-999.000,9,-999.000,    68.7,2,    4.90,2,      6.397,3, -999.00,9,-999.000,-999.0000, -999.00,     -999.0,     -999.0,9,     -999.0,     -999.0,9,     -999.0,  -999.0,9,     -999.0,     -999.0,9,     -999.0,  26.7782,    34.4812,2,-999.0000,9,      0.153,2
33RO20150410,     P16N.1,      93,          1,         23,         23,2,20150505,       1950,    12.9998,  -152.0008,       5734,    33.3,  26.7879,  34.3152,2,  34.3161,2,    198.8,2,   198.9,2,    0.90,2,    0.00,2,    0.01,2,    0.20,2,   1.579,2,   1.000,2,   1.319,2,  1947.2,2,  2259.6,6,   8.0783,2,    24.99,-999.000,9,-999.0000,9, -999.00,9,  26.7866, -999.00,9,  -999.0,9,  -999.0,-999.000,9,-999.000,    68.9,2,    3.60,2,      6.475,3, -999.00,9,-999.000,-999.0000, -999.00,     -999.0,     -999.0,9,     -999.0,     -999.0,9,     -999.0,  -999.0,9,     -999.0,     -999.0,9,     -999.0,  26.7803,    34.4779,2,-999.0000,9,      0.154,2
33RO20150410,     P16N.1,      93,          1,         22,         22,2,20150505,       1950,    12.9998,  -152.0008,       5734,    55.4,  26.7892,  34.3142,2,  34.3155,2,    198.3,2,   198.8,2,    1.00,2,    0.00,2,    0.01,2,    0.21,2,   1.574,2,   0.998,2,   1.327,2,  1946.9,2,  2260.3,2,   8.0782,6,    24.99,-999.000,9,-999.0000,9, -999.00,9,  26.7893, -999.00,9,  -999.0,9,  -999.0,-999.000,9,-999.000,    70.7,2,    4.00,2,      6.460,3, -999.00,9,-999.000,-999.0000, -999.00,     -999.0,     -999.0,9,     -999.0,     -999.0,9,     -999.0,  -999.0,9,     -999.0,     -999.0,9,     -999.0,  26.7766,    34.4773,2,-999.0000,9,      0.155,2
33RO20150410,     P16N.1,      93,          1,         21,         21,2,20150505,       1950,    12.9998,  -152.0008,       5734,    83.1,  26.7780,  34.3113,2,  34.3223,2,    199.5,2,   197.4,2,    1.00,2,    0.00,2,    0.01,2,    0.20,2,   1.580,2,   1.002,2,   1.322,2,  1947.6,2,  2258.6,2,   8.0780,2,    24.98,-999.000,9,-999.0000,9, -999.00,9,  26.7756, -999.00,9,  -999.0,9,  -999.0,-999.000,9,-999.000,    66.9,2,    4.40,2,      6.444,3, -999.00,9,-999.000,-999.0000, -999.00,     -999.0,     -999.0,9,     -999.0,     -999.0,9,     -999.0,  -999.0,9,     -999.0,     -999.0,9,     -999.0,  26.7591,    34.4842,2,-999.0000,9,      0.184,2
33RO20150410,     P16N.1,      93,          1,         20,         20,2,20150505,       1950,    12.9998,  -152.0008,       5734,   117.6,  17.4902,  34.4362,2,  34.4427,2,    155.9,2,   158.5,2,    6.30,2,    7.60,2,    0.16,2,    0.94,2,   2.356,2,   1.375,2,   1.309,2,  2097.4,2,  2280.9,2,   7.8065,2,    24.98,-999.000,9,-999.0000,9, -999.00,9,  17.4668, -999.00,9,  -999.0,9,  -999.0,-999.000,9,-999.000,    56.8,2,   12.10,2,     41.963,3, -999.00,9,-999.000,-999.0000, -999.00,     -999.0,     -999.0,9,     -999.0,     -999.0,9,     -999.0,  -999.0,9,     -999.0,     -999.0,9,     -999.0,  17.4705,    34.6051,2,-999.0000,9,      0.313,2
33RO20150410,     P16N.1,      93,          1,         19,         19,2,20150505,       1950,    12.9998,  -152.0008,       5734,   174.2,  11.6501,  34.2130,2,  34.2190,2,    124.6,2,   122.6,2,   18.00,2,   19.00,2,    0.01,2,    1.62,2,   2.667,2,   1.474,2,   1.066,2,  2160.9,2,  2263.5,2,   7.6240,6,    25.00,-999.000,9,-999.0000,9, -999.00,9,  11.6699, -999.00,9,  -999.0,9,  -999.0,-999.000,9,-999.000,    44.5,2,   21.60,2,     39.723,3, -999.00,9,-999.000,-999.0000, -999.00,     -999.0,     -999.0,9,     -999.0,     -999.0,9,     -999.0,  -999.0,9,     -999.0,     -999.0,9,     -999.0,  11.6280,    34.3804,2,-999.0000,9,      0.038,2
33RO20150410,     P16N.1,      93,          1,         18,         18,2,20150505,       1950,    12.9998,  -152.0008,       5734,   249.2,   9.9410,  34.4866,2,  34.4875,2,     33.4,2,    18.2,2,   33.20,2,   30.40,2,    0.01,2,    2.50,2,   1.020,6,   0.534,6,   0.199,6,  2251.6,2,  2292.4,2,   7.4278,2,    24.98,-999.000,9,-999.0000,9, -999.00,9,   9.9407, -999.00,9,  -999.0,9,  -999.0,-999.000,9,-999.000,    43.1,2,   33.20,2,     48.973,3, -999.00,9,-999.000,-999.0000, -999.00,     -999.0,     -999.0,9,     -999.0,     -999.0,9,     -999.0,  -999.0,9,     -999.0,     -999.0,9,     -999.0,   9.9123,    34.6502,2,-999.0000,9,     -999.0,5
33RO20150410,     P16N.1,      93,          1,         17,         17,2,20150505,       1950,    12.9998,  -152.0008,       5734,   332.7,   9.0777,  34.5536,2,  34.5601,2,     16.6,2,    18.9,2,   39.00,2,   34.40,2,    0.00,2,    2.66,2,   0.354,2,   0.181,2,   0.079,2,  2271.9,2,  2302.8,2,   7.3975,2,    24.98,-999.000,9,-999.0000,9, -999.00,9,   9.0788, -999.00,9,  -999.0,9,  -999.0,-999.000,9,-999.000,    41.8,2, -999.00,9,     52.201,3, -999.00,9,-999.000,-999.0000, -999.00,     -999.0,     -999.0,9,     -999.0,     -999.0,9,     -999.0,  -999.0,9,     -999.0,     -999.0,9,     -999.0,   9.0413,    34.7230,6,-999.0000,9,     -999.0,9
33RO20150410,     P16N.1,      93,          1,         16,         16,2,20150505,       1950,    12.9998,  -152.0008,       5734,   433.1,   7.8580,  34.5242,2,  34.5238,2,     21.2,2,    21.0,2,   48.30,2,   36.70,2,    0.00,2,    2.81,2,   0.146,2,   0.070,2,       0,2,  2284.9,6,  2312.0,2,   7.3895,6,    25.00,-999.000,9,-999.0000,9, -999.00,9,   7.8582, -999.00,9,  -999.0,9,  -999.0,-999.000,9,-999.000,    39.8,2, -999.00,9,     53.550,3, -999.00,9,-999.000,-999.0000, -999.00,     -999.0,     -999.0,9,     -999.0,     -999.0,9,     -999.0,  -999.0,9,     -999.0,     -999.0,9,     -999.0,   7.8143,    34.6866,2,-999.0000,9,     -999.0,9
33RO20150410,     P16N.1,      93,          1,         15,         15,2,20150505,       1950,    12.9998,  -152.0008,       5734,   550.4,   6.9292,  34.5078,2,  34.5112,2,     24.0,2,    24.6,2,   57.80,2,   38.30,2,    0.00,2,    2.92,2,   0.063,2,   0.031,2,       0,2,  2295.1,2,  2323.4,2,   7.3839,2,    24.97,-999.000,9,-999.0000,9, -999.00,9,   6.9270, -999.00,9,  -999.0,9,  -999.0,-999.000,9,-999.000,    39.8,2, -999.00,9,     50.045,3, -999.00,9,-999.000,-999.0000, -999.00,     -999.0,     -999.0,9,     -999.0,     -999.0,9,     -999.0,  -999.0,9,     -999.0,     -999.0,9,     -999.0,   6.8770,    34.6740,2,-999.0000,9,     -999.0,9
33RO20150410,     P16N.1,      93,          1,         14,         14,2,20150505,       1950,    12.9998,  -152.0008,       5734,   695.3,   6.0853,  34.5229,2,  34.5222,2,     30.7,2,    31.0,2,   67.10,2,   40.10,2,    0.01,2,    2.99,2,   0.029,2,   0.012,2,       0,2,  2307.5,2,  2334.2,2,   7.3882,2,    24.99,-999.000,9,-999.0000,9, -999.00,9,   6.0871, -999.00,9,  -999.0,9,  -999.0,-999.000,9,-999.000,    38.9,2, -999.00,9,     49.447,3, -999.00,9,-999.000,-999.0000, -999.00,     -999.0,     -999.0,9,     -999.0,     -999.0,9,     -999.0,  -999.0,9,     -999.0,     -999.0,9,     -999.0,   6.0231,    34.6850,2,-999.0000,9,     -999.0,9
33RO20150410,     P16N.1,      93,          1,         13,         13,2,20150505,       1950,    12.9998,  -152.0008,       5734,   851.5,   5.2841,  34.5306,2,  34.5303,2,     36.6,2,    37.2,2,   78.00,2,   41.10,2,    0.01,2,    3.03,2,   0.015,2,   0.005,2,       0,2,  2316.5,2,  2347.9,2,   7.3914,2,    24.99,-999.000,9,-999.0000,9, -999.00,9,   5.2849, -999.00,9,  -999.0,9,  -999.0,-999.000,9,-999.000,    39.2,2, -999.00,9,     45.536,3, -999.00,9,-999.000,-999.0000, -999.00,     -999.0,     -999.0,9,     -999.0,     -999.0,9,     -999.0,  -999.0,9,     -999.0,     -999.0,9,     -999.0,   5.2122,    34.6931,2,-999.0000,9,     -999.0,9
33RO20150410,     P16N.1,      93,          1,         12,         12,2,20150505,       1950,    12.9998,  -152.0008,       5734,  1002.2,   4.5766,  34.5423,2,  34.5409,2,     41.5,2,    39.9,2,   90.90,2,   41.80,2,    0.01,2,    3.11,2,   0.001,2,   0.000,2,    0.04,2,  2333.0,3,  2361.4,2,   7.3882,3,    24.98,-999.000,9,-999.0000,9, -999.00,9,   4.5770, -999.00,9,  -999.0,9,  -999.0,-999.000,9,-999.000,    36.6,2, -999.00,9,     44.383,3, -999.00,9,-999.000,-999.0000, -999.00,     -999.0,     -999.0,9,     -999.0,     -999.0,9,     -999.0,  -999.0,9,     -999.0,     -999.0,9,     -999.0,   4.4963,    34.7038,2,-999.0000,9,     -999.0,9
33RO20150410,     P16N.1,      93,          1,         11,         11,2,20150505,       1950,    12.9998,  -152.0008,       5734,  1167.3,   4.0600,  34.5663,2,  34.5657,2,     54.6,2,    54.1,2,   99.30,2,   41.20,2,    0.00,2,    3.04,2,   0.002,2,   0.001,2,       0,2,  2333.8,2,  2372.4,2,   7.4145,2,    24.98,-999.000,9,-999.0000,9, -999.00,9,   4.0607, -999.00,9,  -999.0,9,  -999.0,-999.000,9,-999.000,    36.6,2, -999.00,9,     39.039,3, -999.00,9,-999.000,-999.0000, -999.00,     -999.0,     -999.0,9,     -999.0,     -999.0,9,     -999.0,  -999.0,9,     -999.0,     -999.0,9,     -999.0,   3.9696,    34.7287,2,-999.0000,9,     -999.0,9
33RO20150410,     P16N.1,      93,          1,         10,         10,2,20150505,       1950,    12.9998,  -152.0008,       5734,  1402.0,   3.4165,  34.5853,2,  34.5879,2,     63.8,2,    63.2,2,  112.60,2,   41.00,2,    0.00,2,    3.00,2,-999.000,9,-999.000,9,-999.000,9,  2343.8,2,  2388.1,2,   7.4284,2,    24.99,-999.000,9,-999.0000,9, -999.00,9,   3.4164, -999.00,9,  -999.0,9,  -999.0,-999.000,9,-999.000,    36.8,2, -999.00,9,     -999.0,9, -999.00,9,-999.000,-999.0000, -999.00,     -999.0,     -999.0,9,     -999.0,     -999.0,9,     -999.0,  -999.0,9,     -999.0,     -999.0,9,     -999.0,   3.3122,    34.7510,6,-999.0000,9,     -999.0,9
33RO20150410,     P16N.1,      93,          1,          9,          9,2,20150505,       1950,    12.9998,  -152.0008,       5734,  1733.6,   2.6758,  34.6134,2,  34.6191,2,     77.0,2,    77.1,2,  128.80,2,   40.30,2,    0.01,2,    2.92,2,  -0.002,2,  -0.002,2,       0,2,  2353.7,2,  2407.0,2,   7.4511,2,    24.98,-999.000,9,-999.0000,9, -999.00,9,   2.6759, -999.00,9,  -999.0,9,  -999.0,-999.000,9,-999.000,    35.5,2, -999.00,9,     31.280,3, -999.00,9,-999.000,-999.0000, -999.00,     -999.0,     -999.0,9,     -999.0,     -999.0,9,     -999.0,  -999.0,9,     -999.0,     -999.0,9,     -999.0,   2.5522,    34.7824,3,-999.0000,9,     -999.0,9
33RO20150410,     P16N.1,      93,          1,          8,          8,2,20150505,       1950,    12.9998,  -152.0008,       5734,  2166.3,   2.0971,  34.6426,2,  34.6466,2,     95.2,2,    95.9,2,  141.20,2,   39.00,2,    0.01,2,    2.79,2,-999.000,9,-999.000,9,-999.000,9,  2354.9,2,  2420.9,2,   7.4867,2,    24.99,-999.000,9,-999.0000,9, -999.00,9,   2.0974, -999.00,9,  -999.0,9,  -999.0,-999.000,9,-999.000,    36.7,2, -999.00,9,     -999.0,9, -999.00,9,-999.000,-999.0000, -999.00,     -999.0,     -999.0,9,     -999.0,     -999.0,9,     -999.0,  -999.0,9,     -999.0,     -999.0,9,     -999.0,   1.9448,    34.8100,3,-999.0000,9,     -999.0,9
33RO20150410,     P16N.1,      93,          1,          7,          7,2,20150505,       1950,    12.9998,  -152.0008,       5734,  2667.0,   1.8154,  34.6640,2,  34.6780,4,    109.4,2,   109.8,2,  147.30,2,   38.00,2,    0.00,2,    2.73,2,   0.002,2,  -0.001,2,       0,2,  2354.2,2,  2430.3,2,   7.5149,2,    24.99,-999.000,9,-999.0000,9, -999.00,9,   1.8154, -999.00,9,  -999.0,9,  -999.0,-999.000,9,-999.000,    36.4,2, -999.00,9,     24.110,3, -999.00,9,-999.000,-999.0000, -999.00,     -999.0,     -999.0,9,     -999.0,     -999.0,9,     -999.0,  -999.0,9,     -999.0,     -999.0,9,     -999.0,   1.6232,    34.8415,3,-999.0000,9,     -999.0,9
33RO20150410,     P16N.1,      93,          1,          6,          6,2,20150505,       1950,    12.9998,  -152.0008,       5734,  3167.0,   1.6603,  34.6752,2,  34.6766,2,    120.2,2,   120.8,2,  150.60,2,   37.30,2,    0.00,2,    2.65,2,-999.000,9,-999.000,9,-999.000,9,  2350.2,2,  2433.3,2,   7.5347,6,    25.00,-999.000,9,-999.0000,9, -999.00,9,   1.6604, -999.00,9,  -999.0,9,  -999.0,-999.000,9,-999.000,    37.1,2, -999.00,9,     -999.0,9, -999.00,9,-999.000,-999.0000, -999.00,     -999.0,     -999.0,9,     -999.0,     -999.0,9,     -999.0,  -999.0,9,     -999.0,     -999.0,9,     -999.0,   1.4237,    34.8402,2,-999.0000,9,     -999.0,9
33RO20150410,     P16N.1,      93,          1,          5,          5,2,20150505,       1950,    12.9998,  -152.0008,       5734,  3667.7,   1.5423,  34.6820,2,  34.6810,2,    133.7,2,   134.0,2,  150.00,2,   36.50,2,    0.00,2,    2.58,2,   0.002,2,  -0.001,2,       0,2,  2340.7,2,  2431.5,2,   7.5550,6,    25.00,-999.000,9,-999.0000,9, -999.00,9,   1.5422, -999.00,9,  -999.0,9,  -999.0,-999.000,9,-999.000,    37.3,2, -999.00,9,     21.511,3, -999.00,9,-999.000,-999.0000, -999.00,     -999.0,     -999.0,9,     -999.0,     -999.0,9,     -999.0,  -999.0,9,     -999.0,     -999.0,9,     -999.0,   1.2577,    34.8445,2,-999.0000,9,     -999.0,9
33RO20150410,     P16N.1,      93,          1,          4,          4,2,20150505,       1950,    12.9998,  -152.0008,       5734,  4167.2,   1.4491,  34.6908,2,  34.7009,4,    153.2,2,   153.2,2,  138.80,6,   35.10,6,    0.00,6,    2.49,6,-999.000,9,-999.000,9,-999.000,9,  2323.0,2,  2420.8,2,   7.5811,2,    24.98,-999.000,9,-999.0000,9, -999.00,9,   1.4493, -999.00,9,  -999.0,9,  -999.0,-999.000,9,-999.000,    37.3,2, -999.00,9,     -999.0,9, -999.00,9,-999.000,-999.0000, -999.00,     -999.0,     -999.0,9,     -999.0,     -999.0,9,     -999.0,  -999.0,9,     -999.0,     -999.0,9,     -999.0,   1.1131,    34.8645,3,-999.0000,9,     -999.0,9
33RO20150410,     P16N.1,      93,          1,          3,          3,2,20150505,       1950,    12.9998,  -152.0008,       5734,  4666.8,   1.3990,  34.6963,2,  34.6953,2,    166.5,2,   166.9,2,  130.70,6,   34.20,6,    0.00,6,    2.43,6,   0.002,2,   0.000,2,       0,2,  2307.5,2,  2409.0,6,   7.5937,2,    24.98,-999.000,9,-999.0000,9, -999.00,9,   1.3989, -999.00,9,  -999.0,9,  -999.0,-999.000,9,-999.000,    37.6,2, -999.00,9,     19.985,3, -999.00,9,-999.000,-999.0000, -999.00,     -999.0,     -999.0,9,     -999.0,     -999.0,9,     -999.0,  -999.0,9,     -999.0,     -999.0,9,     -999.0,   1.0077,    34.8589,2,-999.0000,9,     -999.0,9
33RO20150410,     P16N.1,      93,          1,          2,          2,2,20150505,       1950,    12.9998,  -152.0008,       5734,  5167.1,   1.4101,  34.6991,2,  34.6976,2,    173.4,2,   173.0,2,  126.70,6,   33.80,6,    0.01,6,    2.39,6,  -0.001,2,  -0.001,2,       0,2,  2297.8,2,  2403.6,2,   7.5978,6,    25.01,-999.000,9,-999.0000,9, -999.00,9,   1.4104, -999.00,9,  -999.0,9,  -999.0,-999.000,9,-999.000,    37.5,2, -999.00,9,     19.650,3, -999.00,9,-999.000,-999.0000, -999.00,     -999.0,     -999.0,9,     -999.0,     -999.0,9,     -999.0,  -999.0,9,     -999.0,     -999.0,9,     -999.0,   0.9583,    34.8612,2,-999.0000,9,     -999.0,9
33RO20150410,     P16N.1,      93,          1,          1,          1,2,20150505,       1950,    12.9998,  -152.0008,       5734,  5723.6,   1.4733,  34.6990,2,  34.7033,4,    174.5,2,   174.3,2,  126.20,6,   33.70,6,    0.00,6,    2.38,6,   0.000,6,   0.000,6,       0,6,  2298.8,6,  2402.0,2,   7.5979,2,    25.00,-999.000,9,-999.0000,9, -999.00,9,   1.4734, -999.00,9,  -999.0,9,  -999.0,-999.000,9,-999.000,    38.7,2, -999.00,9,     19.651,3, -999.00,9,-999.000,-999.0000, -999.00,     -999.0,     -999.0,9,     -999.0,     -999.0,9,     -999.0,  -999.0,9,     -999.0,     -999.0,9,     -999.0,   0.9487,    34.8669,3,-999.0000,9,     -999.0,9