BOTTLE,20210709CCHSIOCBG
EXPOCODE,SECT_ID,STNNBR,CASTNO,SAMPNO,BTLNBR,BTLNBR_FLAG_W,DATE,TIME,LATITUDE,LONGITUDE,DEPTH,CTDPRS,CTDTMP,CTDSAL,CTDSAL_FLAG_W,SALNTY,SALNTY_FLAG_W,CTDOXY,CTDOXY_FLAG_W,OXYGEN,OXYGEN_FLAG_W,SILCAT,SILCAT_FLAG_W,NITRAT,NITRAT_FLAG_W,NITRIT,NITRIT_FLAG_W,PHSPHT,PHSPHT_FLAG_W,CFC-11,CFC-11_FLAG_W,CFC-12,CFC-12_FLAG_W,SF6,SF6_FLAG_W,TCARBN,TCARBN_FLAG_W,ALKALI,ALKALI_FLAG_W,PH_TOT,PH_TOT_FLAG_W,PH_TMP,TRITUM,TRITUM_FLAG_W,HELIUM,HELIUM_FLAG_W,DELHE3,DELHE3_FLAG_W,REFTMP,DELC13,DELC13_FLAG_W,DELC14,DELC14_FLAG_W,C14ERR,NEON,NEON_FLAG_W,NEONER,DOC,DOC_FLAG_W,TDN,TDN_FLAG_W,N2O,N2O_FLAG_W,ARGON,ARGON_FLAG_W,TRITER,HELIER,DELHER,ARGONER,KRYPTON,KRYPTON_FLAG_W,KRYPTONER,XENON,XENON_FLAG_W,XENONER,14C-DOC,14C-DOC_FLAG_W,14C-DOCERR,13C-DOC,13C-DOC_FLAG_W,13C-DOCERR,THETA,SALTREF,SALTREF_FLAG_W,SBE35,SBE35_FLAG_W,CHLORA,CHLORA_FLAG_W
,,,,,,,,,,,METERS,DBAR,ITS-90,PSS-78,,PSS-78,,UMOL/KG,,UMOL/KG,,UMOL/KG,,UMOL/KG,,UMOL/KG,,UMOL/KG,,PMOL/KG,,PMOL/KG,,FMOL/KG,,UMOL/KG,,UMOL/KG,,,,DEG C,TU,,NMOL/KG,,PERCNT,,DEG C,/MILLE,,/MILLE,,/MILLE,NMOL/KG,,NMOL/KG,UMOL/KG,,UMOL/KG,,NMOL/KG,,UMOL/KG,,TU,NMOL/KG,PERCNT,UMOL/KG,NMOL/KG,,NMOL/KG,NMOL/KG,,NMOL/KG,/MILLE,,/MILLE,/MILLE,,/MILLE,DEG C,G/KG,,ITS-90,,MG/M3,
33RO20150410,     P16N.1,       7,          1,         24,         24,2,20150412,       2226,   -13.5007,  -150.9983,       4708,     5.2,  29.3963,  35.4049,2,  35.4015,2,    192.3,2,   192.7,2,    0.60,2,    0.00,2,    0.01,2,    0.12,4,   1.349,3,   0.920,2,    1.37,4,  1973.0,6,  2334.2,2,   8.1249,2,    25.02,-999.000,9,-999.0000,9, -999.00,9,  29.3993, -999.00,9,  -999.0,9,  -999.0,-999.000,9,-999.000,    72.4,2, -999.00,9,      5.762,3, -999.00,9,-999.000,-999.0000, -999.00,     -999.0,     -999.0,9,     -999.0,     -999.0,9,     -999.0,  -999.0,9,     -999.0,     -999.0,9,     -999.0,  29.3950,    35.5685,2,-999.0000,2,      0.048,2
33RO20150410,     P16N.1,       7,          1,         23,         23,2,20150412,       2226,   -13.5007,  -150.9983,       4708,    20.6,  29.2619,  35.3998,2,  35.3976,2,    192.6,2,   192.8,2,    0.40,2,    0.00,2,    0.00,2,    0.11,4,   1.348,3,   0.917,2,   1.203,2,  1973.8,2,  2332.4,2,   8.1257,6,    25.00,-999.000,9,-999.0000,9, -999.00,9,  29.2627, -999.00,9,  -999.0,9,  -999.0,-999.000,9,-999.000,    72.7,2, -999.00,9,      5.752,3, -999.00,9,-999.000,-999.0000, -999.00,     -999.0,     -999.0,9,     -999.0,     -999.0,9,     -999.0,  -999.0,9,     -999.0,     -999.0,9,     -999.0,  29.2569,    35.5645,2,-999.0000,2,      0.051,2
33RO20150410,     P16N.1,       7,          1,         22,         22,2,20150412,       2226,   -13.5007,  -150.9983,       4708,    41.9,  29.2478,  35.4158,2,  35.4146,2,    192.9,2,   197.6,3,    0.50,2,    0.00,2,    0.01,2,    0.13,4,   1.401,3,   0.919,6,   1.251,6,  1975.4,2,  2334.2,6,   8.1250,2,    24.98,-999.000,9,-999.0000,9, -999.00,9,  29.2462, -999.00,9,  -999.0,9,  -999.0,-999.000,9,-999.000,    74.0,2,    4.20,2,      5.757,3, -999.00,9,-999.000,-999.0000, -999.00,     -999.0,     -999.0,9,     -999.0,     -999.0,9,     -999.0,  -999.0,9,     -999.0,     -999.0,9,     -999.0,  29.2376,    35.5816,2,-999.0000,2,      0.061,2
33RO20150410,     P16N.1,       7,          1,         21,         21,2,20150412,       2226,   -13.5007,  -150.9983,       4708,    66.1,  29.1003,  35.7238,2,  35.7352,2,    196.5,2,   196.8,2,    0.60,2,    0.00,2,    0.01,2,    0.12,4,   1.378,3,   0.938,2,   1.237,2,  1993.2,2,  2353.2,2,   8.1214,6,    25.00,-999.000,9,-999.0000,9, -999.00,9,  29.1008, -999.00,9,  -999.0,9,  -999.0,-999.000,9,-999.000,    73.1,2,    5.10,2,      5.864,3, -999.00,9,-999.000,-999.0000, -999.00,     -999.0,     -999.0,9,     -999.0,     -999.0,9,     -999.0,  -999.0,9,     -999.0,     -999.0,9,     -999.0,  29.0842,    35.9038,2,-999.0000,2,      0.084,3
33RO20150410,     P16N.1,       7,          1,         20,         20,2,20150412,       2226,   -13.5007,  -150.9983,       4708,    93.1,  27.8094,  36.1802,2,  36.1824,2,    200.3,2,   200.1,2,    0.70,2,    0.00,2,    0.01,2,    0.15,4,   1.509,3,   0.999,2,   1.292,2,  2031.4,2,  2390.4,2,   8.0975,6,    25.00,-999.000,9,-999.0000,9, -999.00,9,  27.7913, -999.00,9,  -999.0,9,  -999.0,-999.000,9,-999.000,    67.2,2,    4.60,2,      6.235,3, -999.00,9,-999.000,-999.0000, -999.00,     -999.0,     -999.0,9,     -999.0,     -999.0,9,     -999.0,  -999.0,9,     -999.0,     -999.0,9,     -999.0,  27.7875,    36.3530,2,-999.0000,2,      0.166,2
33RO20150410,     P16N.1,       7,          1,         19,         19,2,20150412,       2226,   -13.5007,  -150.9983,       4708,   133.3,  25.9200,  36.2893,2,  36.2932,2,    178.2,2,   177.0,2,    0.80,4,    1.20,4,    0.53,4,    0.23,4,   1.558,3,   1.053,2,   1.348,2,  2069.8,2,  2394.1,2,   8.0474,2,    24.97,-999.000,9,-999.0000,9, -999.00,9,  25.9178, -999.00,9,  -999.0,9,  -999.0,-999.000,9,-999.000,    64.1,2,    6.50,2,      6.560,3, -999.00,9,-999.000,-999.0000, -999.00,     -999.0,     -999.0,9,     -999.0,     -999.0,9,     -999.0,  -999.0,9,     -999.0,     -999.0,9,     -999.0,  25.8902,    36.4644,2,-999.0000,2,      0.330,2
33RO20150410,     P16N.1,       7,          1,         18,         18,4,20150412,       2226,   -13.5007,  -150.9983,       4708,   200.7,  21.8358,  36.0408,2,  35.0535,4,    167.8,2,   150.7,4,    0.90,4,    1.20,4,    0.53,4,    0.23,4,   1.134,3,   0.724,4,   0.654,4,  2183.6,4,  2354.4,4,   7.7460,4,    25.00,-999.000,9,-999.0000,9, -999.00,9,  21.7903, -999.00,9,  -999.0,9,  -999.0,-999.000,9,-999.000,    42.6,3, -999.00,9,     18.983,4, -999.00,9,-999.000,-999.0000, -999.00,     -999.0,     -999.0,9,     -999.0,     -999.0,9,     -999.0,  -999.0,9,     -999.0,     -999.0,9,     -999.0,  21.7963,    35.2188,4,-999.0000,3,      0.008,4
33RO20150410,     P16N.1,       7,          1,         17,         17,2,20150412,       2226,   -13.5007,  -150.9983,       4708,   275.0,  18.3344,  35.5033,2,  35.4957,2,    159.3,2,   157.2,2,    2.00,2,    8.10,2,    0.01,2,    0.47,4,   2.120,3,   1.343,2,    1.25,2,  2127.7,2,  2340.9,2,   7.8644,2,    25.00,-999.000,9,-999.0000,9, -999.00,9,  18.3487, -999.00,9,  -999.0,9,  -999.0,-999.000,9,-999.000,    50.3,3, -999.00,9,     13.673,3, -999.00,9,-999.000,-999.0000, -999.00,     -999.0,     -999.0,9,     -999.0,     -999.0,9,     -999.0,  -999.0,9,     -999.0,     -999.0,9,     -999.0,  18.2863,    35.6631,2,-999.0000,3,     -999.0,9
33RO20150410,     P16N.1,       7,          1,         16,         16,2,20150412,       2226,   -13.5007,  -150.9983,       4708,   368.3,  12.3133,  34.7701,2,  34.7644,2,    109.0,2,   105.5,4,   11.20,2,   20.90,2,    0.01,2,    1.07,4,   1.713,3,   1.002,2,   0.639,2,  2184.8,2,  2298.6,2,   7.6416,6,    25.00,-999.000,9,-999.0000,9, -999.00,9,  12.3615, -999.00,9,  -999.0,9,  -999.0,-999.000,9,-999.000,    44.3,2, -999.00,9,     30.557,3, -999.00,9,-999.000,-999.0000, -999.00,     -999.0,     -999.0,9,     -999.0,     -999.0,9,     -999.0,  -999.0,9,     -999.0,     -999.0,9,     -999.0,  12.2642,    34.9283,2,-999.0000,3,     -999.0,9
33RO20150410,     P16N.1,       7,          1,         15,         15,2,20150412,       2226,   -13.5007,  -150.9983,       4708,   467.3,   8.4899,  34.5683,2,  34.5705,2,    118.2,2,   115.7,2,   23.00,2,   28.80,2,    0.01,2,    1.42,4,   0.728,3,   0.415,2,   0.132,2,  2206.6,2,  2300.0,2,   7.5825,2,    24.99,-999.000,9,-999.0000,9, -999.00,9,   8.4758, -999.00,9,  -999.0,9,  -999.0,-999.000,9,-999.000,    42.1,2, -999.00,9,     31.907,3, -999.00,9,-999.000,-999.0000, -999.00,     -999.0,     -999.0,9,     -999.0,     -999.0,9,     -999.0,  -999.0,9,     -999.0,     -999.0,9,     -999.0,   8.4404,    34.7335,2,-999.0000,3,     -999.0,9
33RO20150410,     P16N.1,       7,          1,         14,         14,2,20150412,       2226,   -13.5007,  -150.9983,       4708,   600.7,   6.5236,  34.5020,2,  34.5024,2,    135.0,2,   132.2,2,   35.40,2,   32.00,2,    0.01,2,    1.67,4,   0.347,3,   0.192,6,   0.065,6,  2218.4,2,  2308.3,2,   7.5759,2,    25.01,-999.000,9,-999.0000,9, -999.00,9,   6.5228, -999.00,9,  -999.0,9,  -999.0,-999.000,9,-999.000,    38.7,2, -999.00,9,     28.447,3, -999.00,9,-999.000,-999.0000, -999.00,     -999.0,     -999.0,9,     -999.0,     -999.0,9,     -999.0,  -999.0,9,     -999.0,     -999.0,9,     -999.0,   6.4683,    34.6651,2,-999.0000,2,     -999.0,9
33RO20150410,     P16N.1,       7,          1,         13,         13,2,20150412,       2226,   -13.5007,  -150.9983,       4708,   749.6,   5.5461,  34.4965,2,  34.4963,2,    123.1,2,   121.7,2,   48.40,2,   35.10,2,    0.01,2,    1.98,4,   0.191,3,   0.069,2,       0,2,  2240.2,2,  2320.0,2,   7.5410,2,    24.98,-999.000,9,-999.0000,9, -999.00,9,   5.5456, -999.00,9,  -999.0,9,  -999.0,-999.000,9,-999.000,    39.4,2, -999.00,9,     29.340,3, -999.00,9,-999.000,-999.0000, -999.00,     -999.0,     -999.0,9,     -999.0,     -999.0,9,     -999.0,  -999.0,9,     -999.0,     -999.0,9,     -999.0,   5.4819,    34.6590,2,-999.0000,2,     -999.0,9
33RO20150410,     P16N.1,       7,          1,         12,         12,2,20150412,       2226,   -13.5007,  -150.9983,       4708,   900.0,   4.8494,  34.5044,2,  34.5052,2,    117.4,2,   115.9,2,   60.50,2,   36.70,2,    0.00,2,    2.21,4,   0.065,3,   0.027,2,       0,2,  2257.5,6,  2330.1,2,   7.5238,2,    24.99,-999.000,9,-999.0000,9, -999.00,9,   4.8487, -999.00,9,  -999.0,9,  -999.0,-999.000,9,-999.000,    40.4,2, -999.00,9,     29.338,3, -999.00,9,-999.000,-999.0000, -999.00,     -999.0,     -999.0,9,     -999.0,     -999.0,9,     -999.0,  -999.0,9,     -999.0,     -999.0,9,     -999.0,   4.7761,    34.6679,6,-999.0000,2,     -999.0,9
33RO20150410,     P16N.1,       7,          1,         11,         11,2,20150412,       2226,   -13.5007,  -150.9983,       4708,  1050.1,   4.2682,  34.5212,2,  34.5228,2,    116.9,2,   115.8,2,   72.10,2,   37.30,2,    0.00,2,    2.41,4,   0.020,3,   0.010,2,       0,2,  2270.7,2,  2344.3,2,   7.5185,2,    24.99,-999.000,9,-999.0000,9, -999.00,9,   4.2639, -999.00,9,  -999.0,9,  -999.0,-999.000,9,-999.000,    38.7,2, -999.00,9,     28.521,3, -999.00,9,-999.000,-999.0000, -999.00,     -999.0,     -999.0,9,     -999.0,     -999.0,9,     -999.0,  -999.0,9,     -999.0,     -999.0,9,     -999.0,   4.1861,    34.6856,2,-999.0000,2,     -999.0,9
33RO20150410,     P16N.1,       7,          1,         10,         10,2,20150412,       2226,   -13.5007,  -150.9983,       4708,  1233.8,   3.7215,  34.5395,2,  34.5405,2,    125.0,2,   124.2,2,   81.70,2,   37.00,2,    0.01,2,    2.54,4,   0.003,3,   0.006,2,       0,2,  2278.1,2,  2362.5,2,   7.5291,2,    24.99,-999.000,9,-999.0000,9, -999.00,9,   3.7201, -999.00,9,  -999.0,9,  -999.0,-999.000,9,-999.000,    36.3,2, -999.00,9,     26.848,3, -999.00,9,-999.000,-999.0000, -999.00,     -999.0,     -999.0,9,     -999.0,     -999.0,9,     -999.0,  -999.0,9,     -999.0,     -999.0,9,     -999.0,   3.6285,    34.7034,2,-999.0000,3,     -999.0,9
33RO20150410,     P16N.1,       7,          1,          9,          9,2,20150412,       2226,   -13.5007,  -150.9983,       4708,  1499.9,   2.9234,  34.5798,2,  34.5816,2,    134.4,2,   134.6,2,   97.60,2,   36.50,2,    0.00,2,    2.75,4,   0.004,3,   0.003,2,       0,2,  2288.2,2,  2380.9,2,   7.5439,2,    24.99,-999.000,9,-999.0000,9, -999.00,9,   2.9261, -999.00,9,  -999.0,9,  -999.0,-999.000,9,-999.000,    36.8,2, -999.00,9,     24.726,3, -999.00,9,-999.000,-999.0000, -999.00,     -999.0,     -999.0,9,     -999.0,     -999.0,9,     -999.0,  -999.0,9,     -999.0,     -999.0,9,     -999.0,   2.8164,    34.7447,2,-999.0000,3,     -999.0,9
33RO20150410,     P16N.1,       7,          1,          8,          8,2,20150412,       2226,   -13.5007,  -150.9983,       4708,  1866.8,   2.3009,  34.6216,2,  34.6225,2,    145.3,2,   145.4,2,  112.20,2,   35.90,2,    0.01,2,    2.92,4,   0.008,3,   0.003,2,       0,2,  2296.7,2,  2387.5,2,   7.5608,2,    24.99,-999.000,9,-999.0000,9, -999.00,9,   2.3002, -999.00,9,  -999.0,9,  -999.0,-999.000,9,-999.000,    39.4,2, -999.00,9,     22.733,3, -999.00,9,-999.000,-999.0000, -999.00,     -999.0,     -999.0,9,     -999.0,     -999.0,9,     -999.0,  -999.0,9,     -999.0,     -999.0,9,     -999.0,   2.1712,    34.7858,2,-999.0000,3,     -999.0,9
33RO20150410,     P16N.1,       7,          1,          7,          7,2,20150412,       2226,   -13.5007,  -150.9983,       4708,  2267.7,   1.9996,  34.6500,2,  34.6522,2,    148.2,2,   147.7,2,  121.40,2,   35.70,2,    0.00,2,    3.07,4,  -0.005,3,  -0.001,2,       0,2,  2305.6,2,  2400.3,2,   7.5687,2,    24.99,-999.000,9,-999.0000,9, -999.00,9,   1.9993, -999.00,9,  -999.0,9,  -999.0,-999.000,9,-999.000,    37.7,2, -999.00,9,     21.993,3, -999.00,9,-999.000,-999.0000, -999.00,     -999.0,     -999.0,9,     -999.0,     -999.0,9,     -999.0,  -999.0,9,     -999.0,     -999.0,9,     -999.0,   1.8401,    34.8156,2,-999.0000,3,     -999.0,9
33RO20150410,     P16N.1,       7,          1,          6,          6,2,20150412,       2226,   -13.5007,  -150.9983,       4708,  2666.8,   1.8472,  34.6660,2,  34.6657,2,    149.7,2,   149.2,2,  128.10,2,   35.70,2,    0.01,2,    3.15,4,   0.004,3,   0.001,2,       0,2,  2312.6,6,  2407.5,2,   7.5736,2,    25.00,-999.000,9,-999.0000,9, -999.00,9,   1.8469, -999.00,9,  -999.0,9,  -999.0,-999.000,9,-999.000,    38.8,2, -999.00,9,     21.458,3, -999.00,9,-999.000,-999.0000, -999.00,     -999.0,     -999.0,9,     -999.0,     -999.0,9,     -999.0,  -999.0,9,     -999.0,     -999.0,9,     -999.0,   1.6544,    34.8292,6,-999.0000,2,     -999.0,9
33RO20150410,     P16N.1,       7,          1,          5,          5,2,20150412,       2226,   -13.5007,  -150.9983,       4708,  3067.3,   1.7278,  34.6756,2,  34.6754,2,    155.6,2,   154.2,2,  130.50,2,   35.40,2,    0.01,2,    3.17,4,  -0.003,3,   0.000,6,       0,6,  2310.8,2,  2408.4,2,   7.5806,2,    24.96,-999.000,9,-999.0000,9, -999.00,9,   1.7274, -999.00,9,  -999.0,9,  -999.0,-999.000,9,-999.000,    38.2,2, -999.00,9,     21.000,3, -999.00,9,-999.000,-999.0000, -999.00,     -999.0,     -999.0,9,     -999.0,     -999.0,9,     -999.0,  -999.0,9,     -999.0,     -999.0,9,     -999.0,   1.4994,    34.8389,2,-999.0000,2,     -999.0,9
33RO20150410,     P16N.1,       7,          1,          4,          4,2,20150412,       2226,   -13.5007,  -150.9983,       4708,  3467.3,   1.5897,  34.6843,2,  34.6853,2,    164.2,2,   162.5,2,  130.60,6,   34.80,6,    0.01,6,    3.15,4,   0.038,3,   0.005,2,   0.084,3,  2302.8,2,  2406.1,2,   7.5898,2,    25.00,-999.000,9,-999.0000,9, -999.00,9,   1.5892, -999.00,9,  -999.0,9,  -999.0,-999.000,9,-999.000,    39.5,2, -999.00,9,     20.499,3, -999.00,9,-999.000,-999.0000, -999.00,     -999.0,     -999.0,9,     -999.0,     -999.0,9,     -999.0,  -999.0,9,     -999.0,     -999.0,9,     -999.0,   1.3246,    34.8488,2,-999.0000,2,     -999.0,9
33RO20150410,     P16N.1,       7,          1,          3,          3,2,20150412,       2226,   -13.5007,  -150.9983,       4708,  3868.6,   1.4785,  34.6914,2,  34.6920,2,    176.6,2,   175.9,2,  124.10,6,   33.90,6,    0.00,6,    3.03,4,  -0.001,3,   0.001,2,   0.074,3,  2289.9,2,  2392.1,2,   7.5954,6,    25.00,-999.000,9,-999.0000,9, -999.00,9,   1.4782, -999.00,9,  -999.0,9,  -999.0,-999.000,9,-999.000,    38.7,2, -999.00,9,     19.868,3, -999.00,9,-999.000,-999.0000, -999.00,     -999.0,     -999.0,9,     -999.0,     -999.0,9,     -999.0,  -999.0,9,     -999.0,     -999.0,9,     -999.0,   1.1743,    34.8556,2,-999.0000,2,     -999.0,9
33RO20150410,     P16N.1,       7,          1,          2,          2,2,20150412,       2226,   -13.5007,  -150.9983,       4708,  4266.5,   1.3832,  34.6978,2,  34.6989,2,    183.2,2,   183.0,2,  124.20,6,   33.60,6,    0.01,6,    3.01,4,   0.000,3,   0.002,2,   0.085,3,  2284.4,2,  2388.2,6,   7.6001,2,    25.01,-999.000,9,-999.0000,9, -999.00,9,   1.3829, -999.00,9,  -999.0,9,  -999.0,-999.000,9,-999.000,    40.9,2, -999.00,9,     19.553,3, -999.00,9,-999.000,-999.0000, -999.00,     -999.0,     -999.0,9,     -999.0,     -999.0,9,     -999.0,  -999.0,9,     -999.0,     -999.0,9,     -999.0,   1.0381,    34.8625,2,-999.0000,2,     -999.0,9
33RO20150410,     P16N.1,       7,          1,          1,          1,2,20150412,       2226,   -13.5007,  -150.9983,       4708,  4697.8,   1.3139,  34.7030,2,  34.7037,2,    192.2,2,   192.7,2,  121.70,6,   32.80,6,    0.00,6,    2.94,4,   0.008,3,   0.001,2,       0,2,  2275.9,6,  2380.3,2,   7.6041,2,    25.00,-999.000,9,-999.0000,9, -999.00,9,   1.3135, -999.00,9,  -999.0,9,  -999.0,-999.000,9,-999.000,    41.7,2, -999.00,9,     19.063,3, -999.00,9,-999.000,-999.0000, -999.00,     -999.0,     -999.0,9,     -999.0,     -999.0,9,     -999.0,  -999.0,9,     -999.0,     -999.0,9,     -999.0,   0.9217,    34.8673,2,-999.0000,2,     -999.0,9