BOTTLE,20210709CCHSIOCBG
EXPOCODE,SECT_ID,STNNBR,CASTNO,SAMPNO,BTLNBR,BTLNBR_FLAG_W,DATE,TIME,LATITUDE,LONGITUDE,DEPTH,CTDPRS,CTDTMP,CTDSAL,CTDSAL_FLAG_W,SALNTY,SALNTY_FLAG_W,CTDOXY,CTDOXY_FLAG_W,OXYGEN,OXYGEN_FLAG_W,SILCAT,SILCAT_FLAG_W,NITRAT,NITRAT_FLAG_W,NITRIT,NITRIT_FLAG_W,PHSPHT,PHSPHT_FLAG_W,CFC-11,CFC-11_FLAG_W,CFC-12,CFC-12_FLAG_W,SF6,SF6_FLAG_W,TCARBN,TCARBN_FLAG_W,ALKALI,ALKALI_FLAG_W,PH_TOT,PH_TOT_FLAG_W,PH_TMP,TRITUM,TRITUM_FLAG_W,HELIUM,HELIUM_FLAG_W,DELHE3,DELHE3_FLAG_W,REFTMP,DELC13,DELC13_FLAG_W,DELC14,DELC14_FLAG_W,C14ERR,NEON,NEON_FLAG_W,NEONER,DOC,DOC_FLAG_W,TDN,TDN_FLAG_W,N2O,N2O_FLAG_W,ARGON,ARGON_FLAG_W,TRITER,HELIER,DELHER,ARGONER,KRYPTON,KRYPTON_FLAG_W,KRYPTONER,XENON,XENON_FLAG_W,XENONER,14C-DOC,14C-DOC_FLAG_W,14C-DOCERR,13C-DOC,13C-DOC_FLAG_W,13C-DOCERR,THETA,SALTREF,SALTREF_FLAG_W,SBE35,SBE35_FLAG_W,CHLORA,CHLORA_FLAG_W
,,,,,,,,,,,METERS,DBAR,ITS-90,PSS-78,,PSS-78,,UMOL/KG,,UMOL/KG,,UMOL/KG,,UMOL/KG,,UMOL/KG,,UMOL/KG,,PMOL/KG,,PMOL/KG,,FMOL/KG,,UMOL/KG,,UMOL/KG,,,,DEG C,TU,,NMOL/KG,,PERCNT,,DEG C,/MILLE,,/MILLE,,/MILLE,NMOL/KG,,NMOL/KG,UMOL/KG,,UMOL/KG,,NMOL/KG,,UMOL/KG,,TU,NMOL/KG,PERCNT,UMOL/KG,NMOL/KG,,NMOL/KG,NMOL/KG,,NMOL/KG,/MILLE,,/MILLE,/MILLE,,/MILLE,DEG C,G/KG,,ITS-90,,MG/M3,
33RO20150410,     P16N.1,      30,          1,         24,         24,2,20150419,       1221,    -3.5992,  -151.0004,       4830,     5.5,  28.5613,  35.2251,2,  35.2234,2,    198.8,2,   199.0,2,    1.90,2,    3.80,2,    0.13,2,    0.36,4,   1.445,6,   0.964,6,   1.255,6,  2015.1,2,  2316.4,2,   8.0386,2,    25.00,-999.000,9,-999.0000,9, -999.00,9,  28.5600,    1.07,2,    35.6,2,     2.1,-999.000,9,-999.000,  -999.0,9, -999.00,9,      6.946,3, -999.00,9,-999.000,-999.0000, -999.00,     -999.0,     -999.0,9,     -999.0,     -999.0,9,     -999.0,  -999.0,9,     -999.0,     -999.0,9,     -999.0,  28.5600,    35.3895,2,-999.0000,2,     -999.0,9
33RO20150410,     P16N.1,      30,          1,         23,         23,2,20150419,       1221,    -3.5992,  -151.0004,       4830,    20.6,  28.5635,  35.2236,2,  35.2230,2,    199.2,2,   199.1,2,    1.90,2,    3.80,2,    0.13,2,    0.37,4,   1.457,2,   0.957,2,   1.237,2,  2013.2,6,  2316.8,2,   8.0388,2,    24.99,-999.000,9,-999.0000,9, -999.00,9,  28.5636,    0.97,2,    42.8,2,     3.1,-999.000,9,-999.000,  -999.0,9, -999.00,9,      7.086,3, -999.00,9,-999.000,-999.0000, -999.00,     -999.0,     -999.0,9,     -999.0,     -999.0,9,     -999.0,  -999.0,9,     -999.0,     -999.0,9,     -999.0,  28.5586,    35.3891,2,-999.0000,2,     -999.0,9
33RO20150410,     P16N.1,      30,          1,         22,         22,2,20150419,       1221,    -3.5992,  -151.0004,       4830,    42.3,  28.3689,  35.2286,2,  35.2295,2,    201.1,2,   200.6,2,    2.10,2,    3.80,2,    0.14,2,    0.38,4,   1.480,2,   0.966,2,   1.255,2,  2013.8,2,  2316.5,2,   8.0361,6,    25.00,-999.000,9,-999.0000,9, -999.00,9,  28.3684,    0.98,2,    36.1,2,     2.3,-999.000,9,-999.000,  -999.0,9, -999.00,9,      7.403,3, -999.00,9,-999.000,-999.0000, -999.00,     -999.0,     -999.0,9,     -999.0,     -999.0,9,     -999.0,  -999.0,9,     -999.0,     -999.0,9,     -999.0,  28.3588,    35.3956,2,-999.0000,2,     -999.0,9
33RO20150410,     P16N.1,      30,          1,         21,         21,2,20150419,       1221,    -3.5992,  -151.0004,       4830,    67.9,  27.9673,  35.2604,2,  35.2630,2,    199.9,2,   199.9,2,    2.10,2,    4.60,2,    0.11,2,    0.43,4,   1.482,2,   0.959,2,   1.291,2,  2023.1,2,  2319.7,2,   8.0281,6,    25.00,-999.000,9,-999.0000,9, -999.00,9,  27.9596,    0.99,2,    42.4,2,     2.4,-999.000,9,-999.000,  -999.0,9, -999.00,9,      7.462,3, -999.00,9,-999.000,-999.0000, -999.00,     -999.0,     -999.0,9,     -999.0,     -999.0,9,     -999.0,  -999.0,9,     -999.0,     -999.0,9,     -999.0,  27.9513,    35.4293,2,-999.0000,2,     -999.0,9
33RO20150410,     P16N.1,      30,          1,         20,         20,2,20150419,       1221,    -3.5992,  -151.0004,       4830,    92.3,  26.5660,  35.2825,2,  35.2817,2,    195.6,2,   195.0,2,    2.60,2,    5.50,2,    0.17,2,    0.57,4,   1.585,2,   1.036,2,   1.326,2,  2044.3,2,  2321.6,6,   7.9931,2,    24.98,-999.000,9,-999.0000,9, -999.00,9,  26.5579,    0.83,2,    34.5,2,     2.3,-999.000,9,-999.000,  -999.0,9, -999.00,9,      7.560,3, -999.00,9,-999.000,-999.0000, -999.00,     -999.0,     -999.0,9,     -999.0,     -999.0,9,     -999.0,  -999.0,9,     -999.0,     -999.0,9,     -999.0,  26.5451,    35.4481,2,-999.0000,2,     -999.0,9
33RO20150410,     P16N.1,      30,          1,         19,         19,2,20150419,       1221,    -3.5992,  -151.0004,       4830,   133.3,  24.9094,  35.4342,2,  35.4362,2,    180.2,2,   180.7,2,    2.60,2,    6.30,2,    1.90,2,    0.72,4,   1.681,2,   1.103,2,   1.339,2,  2072.5,2,  2333.0,2,   7.9548,2,    25.00,-999.000,9,-999.0000,9, -999.00,9,  24.9065,    0.79,2,    33.8,2,     2.0,-999.000,9,-999.000,  -999.0,9, -999.00,9,      9.695,3, -999.00,9,-999.000,-999.0000, -999.00,     -999.0,     -999.0,9,     -999.0,     -999.0,9,     -999.0,  -999.0,9,     -999.0,     -999.0,9,     -999.0,  24.8805,    35.6033,2,-999.0000,2,     -999.0,9
33RO20150410,     P16N.1,      30,          1,         18,         18,2,20150419,       1221,    -3.5992,  -151.0004,       4830,   200.2,  13.1551,  34.9356,2,  34.9334,2,     29.5,2,    28.7,2,   21.30,2,   30.40,2,    0.01,2,    1.93,4,   1.298,6,   0.743,6,   0.347,6,  2227.9,2,  2300.3,2,   7.5171,2,    24.99,-999.000,9,-999.0000,9, -999.00,9,  13.1785,   -0.12,2,    10.4,2,     2.0,-999.000,9,-999.000,  -999.0,9, -999.00,9,     66.938,3, -999.00,9,-999.000,-999.0000, -999.00,     -999.0,     -999.0,9,     -999.0,     -999.0,9,     -999.0,  -999.0,9,     -999.0,     -999.0,9,     -999.0,  13.1274,    35.0981,2,-999.0000,2,     -999.0,9
33RO20150410,     P16N.1,      30,          1,         17,         17,2,20150419,       1221,    -3.5992,  -151.0004,       4830,   275.5,  12.3297,  34.8814,2,  34.8886,2,     33.9,2,    33.2,2,   23.70,2,   30.80,2,    0.01,2,    1.94,4,   1.104,2,   0.640,2,    0.24,2,  2232.5,2,  2301.4,2,   7.5113,6,    25.00,-999.000,9,-999.0000,9, -999.00,9,  12.3335,    0.01,2,    -6.7,2,     2.6,-999.000,9,-999.000,  -999.0,9, -999.00,9,     63.003,3, -999.00,9,-999.000,-999.0000, -999.00,     -999.0,     -999.0,9,     -999.0,     -999.0,9,     -999.0,  -999.0,9,     -999.0,     -999.0,9,     -999.0,  12.2930,    35.0531,2,-999.0000,3,     -999.0,9
33RO20150410,     P16N.1,      30,          1,         16,         16,2,20150419,       1221,    -3.5992,  -151.0004,       4830,   367.9,  10.9222,  34.7994,2,  34.7967,2,      8.9,2,     9.3,2,   30.60,2,   34.40,2,    0.01,2,    2.28,4,   0.548,2,   0.313,2,    0.13,2,  2259.1,2,  2301.4,2,   7.4184,2,    24.99,-999.000,9,-999.0000,9, -999.00,9,  10.9176,   -0.02,2,   -35.8,2,     2.4,-999.000,9,-999.000,  -999.0,9, -999.00,9,     78.420,3, -999.00,9,-999.000,-999.0000, -999.00,     -999.0,     -999.0,9,     -999.0,     -999.0,9,     -999.0,  -999.0,9,     -999.0,     -999.0,9,     -999.0,  10.8768,    34.9608,2,-999.0000,3,     -999.0,9
33RO20150410,     P16N.1,      30,          1,         15,         15,2,20150419,       1221,    -3.5992,  -151.0004,       4830,   467.0,   8.7200,  34.6639,2,  34.6603,2,     18.2,2,    22.6,2,   38.20,2,   38.90,3,    0.00,2,    2.48,4,   0.198,2,   0.110,2,   0.021,2,  2270.9,6,  2305.1,2,   7.4039,2,    24.99,-999.000,9,-999.0000,9, -999.00,9,   8.7122,    0.04,6,   -86.6,6,     1.6,-999.000,9,-999.000,  -999.0,9, -999.00,9,     64.609,3, -999.00,9,-999.000,-999.0000, -999.00,     -999.0,     -999.0,9,     -999.0,     -999.0,9,     -999.0,  -999.0,9,     -999.0,     -999.0,9,     -999.0,   8.6697,    34.8237,2,-999.0000,3,     -999.0,9
33RO20150410,     P16N.1,      30,          1,         14,         14,2,20150419,       1221,    -3.5992,  -151.0004,       4830,   600.1,   6.9144,  34.5588,2,  34.5586,2,     95.3,2,    96.2,2,   40.30,2,   35.40,2,    0.00,2,    2.25,4,   0.257,2,   0.139,2,    0.04,2,  2238.7,2,  2309.8,2,   7.5187,2,    24.98,-999.000,9,-999.0000,9, -999.00,9,   6.9134,    0.42,2,   -89.2,2,     2.0,-999.000,9,-999.000,  -999.0,9, -999.00,9,     36.697,3, -999.00,9,-999.000,-999.0000, -999.00,     -999.0,     -999.0,9,     -999.0,     -999.0,9,     -999.0,  -999.0,9,     -999.0,     -999.0,9,     -999.0,   6.8573,    34.7215,6,-999.0000,3,     -999.0,9
33RO20150410,     P16N.1,      30,          1,         13,         13,2,20150419,       1221,    -3.5992,  -151.0004,       4830,   751.5,   5.6924,  34.5390,2,  34.5402,2,     86.1,2,    83.5,2,   58.50,2,   38.70,2,    0.00,2,    2.54,4,   0.089,3,   0.032,2,       0,2,  2268.2,2,  2326.2,2,   7.4775,2,    24.99,-999.000,9,-999.0000,9, -999.00,9,   5.6971,    0.36,2,  -140.2,2,     1.8,-999.000,9,-999.000,  -999.0,9, -999.00,9,     36.755,3, -999.00,9,-999.000,-999.0000, -999.00,     -999.0,     -999.0,9,     -999.0,     -999.0,9,     -999.0,  -999.0,9,     -999.0,     -999.0,9,     -999.0,   5.6271,    34.7031,2,-999.0000,2,     -999.0,9
33RO20150410,     P16N.1,      30,          1,         12,         12,2,20150419,       1221,    -3.5992,  -151.0004,       4830,   901.4,   4.8889,  34.5488,2,  34.5487,2,     77.4,2,    77.6,2,   76.50,2,   40.10,2,    0.00,2,    2.68,4,   0.012,2,   0.005,2,       0,2,  2291.8,2,  2343.5,2,   7.4603,6,    25.01,-999.000,9,-999.0000,9, -999.00,9,   4.8911,    0.24,2,  -163.8,2,     2.2,-999.000,9,-999.000,  -999.0,9, -999.00,9,     36.023,3, -999.00,9,-999.000,-999.0000, -999.00,     -999.0,     -999.0,9,     -999.0,     -999.0,9,     -999.0,  -999.0,9,     -999.0,     -999.0,9,     -999.0,   4.8151,    34.7116,2,-999.0000,2,     -999.0,9
33RO20150410,     P16N.1,      30,          1,         11,         11,2,20150419,       1221,    -3.5992,  -151.0004,       4830,  1051.8,   4.3512,  34.5541,2,  34.5536,2,     88.9,2,    89.1,2,   85.10,2,   39.60,2,    0.00,2,    2.67,4,   0.012,2,   0.002,2,       0,2,  2296.0,2,  2355.0,2,   7.4781,2,    24.99,-999.000,9,-999.0000,9, -999.00,9,   4.3492,    0.21,2,  -182.1,2,     1.6,-999.000,9,-999.000,  -999.0,9, -999.00,9,     33.366,3, -999.00,9,-999.000,-999.0000, -999.00,     -999.0,     -999.0,9,     -999.0,     -999.0,9,     -999.0,  -999.0,9,     -999.0,     -999.0,9,     -999.0,   4.2683,    34.7166,6,-999.0000,2,     -999.0,9
33RO20150410,     P16N.1,      30,          1,         10,         10,2,20150419,       1221,    -3.5992,  -151.0004,       4830,  1233.2,   3.7477,  34.5728,2,  34.5792,4,     91.9,2,    91.6,2,   99.50,2,   39.70,2,    0.00,2,    2.71,4,   0.004,2,   0.001,2,       0,2,  2309.2,2,  2370.3,2,   7.4809,2,    24.99,-999.000,9,-999.0000,9, -999.00,9,   3.7446,    0.12,2,  -193.4,2,     2.1,-999.000,9,-999.000,  -999.0,9, -999.00,9,     31.883,3, -999.00,9,-999.000,-999.0000, -999.00,     -999.0,     -999.0,9,     -999.0,     -999.0,9,     -999.0,  -999.0,9,     -999.0,     -999.0,9,     -999.0,   3.6545,    34.7422,3,-999.0000,2,     -999.0,9
33RO20150410,     P16N.1,      30,          1,          9,          9,2,20150419,       1221,    -3.5992,  -151.0004,       4830,  1500.5,   3.0866,  34.5981,2,  34.5992,2,     98.4,2,    98.7,2,  114.80,2,   39.50,2,    0.00,2,    2.74,4,   0.025,3,   0.012,3,       0,3,  2323.9,2,  2386.9,2,   7.4903,2,    24.99,-999.000,9,-999.0000,9, -999.00,9,   3.0857,    0.07,2,  -211.8,2,     1.9,-999.000,9,-999.000,  -999.0,9, -999.00,9,     29.277,3, -999.00,9,-999.000,-999.0000, -999.00,     -999.0,     -999.0,9,     -999.0,     -999.0,9,     -999.0,  -999.0,9,     -999.0,     -999.0,9,     -999.0,   2.9777,    34.7623,2,-999.0000,2,     -999.0,9
33RO20150410,     P16N.1,      30,          1,          8,          8,2,20150419,       1221,    -3.5992,  -151.0004,       4830,  1868.2,   2.4664,  34.6301,2,  34.6291,2,    107.1,2,   107.3,2,  130.60,2,   39.10,2,    0.01,2,    2.73,4,   0.004,2,   0.000,2,       0,2,  2335.4,2,  2405.4,2,   7.5065,2,    24.99,-999.000,9,-999.0000,9, -999.00,9,   2.4663,    0.05,2,  -225.9,2,     1.5,-999.000,9,-999.000,  -999.0,9, -999.00,9,     26.068,3, -999.00,9,-999.000,-999.0000, -999.00,     -999.0,     -999.0,9,     -999.0,     -999.0,9,     -999.0,  -999.0,9,     -999.0,     -999.0,9,     -999.0,   2.3342,    34.7923,2,-999.0000,2,     -999.0,9
33RO20150410,     P16N.1,      30,          1,          7,          7,2,20150419,       1221,    -3.5992,  -151.0004,       4830,  2267.7,   2.0558,  34.6521,2,  34.6532,2,    123.7,2,   122.8,2,  137.70,2,   38.00,2,    0.01,2,    2.66,4,   0.005,2,   0.000,2,       0,2,  2332.0,2,  2414.6,2,   7.5337,6,    25.01,-999.000,9,-999.0000,9, -999.00,9,   2.0557,    0.11,2,  -233.2,2,     1.6,-999.000,9,-999.000,  -999.0,9, -999.00,9,     23.985,3, -999.00,9,-999.000,-999.0000, -999.00,     -999.0,     -999.0,9,     -999.0,     -999.0,9,     -999.0,  -999.0,9,     -999.0,     -999.0,9,     -999.0,   1.8953,    34.8166,2,-999.0000,2,     -999.0,9
33RO20150410,     P16N.1,      30,          1,          6,          6,2,20150419,       1221,    -3.5992,  -151.0004,       4830,  2668.0,   1.8091,  34.6677,2,  34.6680,2,    135.8,2,   135.8,2,  138.90,2,   37.20,2,    0.00,2,    2.60,4,   0.003,2,  -0.001,2,       0,2,  2329.1,2,  2417.9,2,   7.5546,2,    24.99,-999.000,9,-999.0000,9, -999.00,9,   1.8092,    0.08,2,  -232.7,2,     1.7,-999.000,9,-999.000,  -999.0,9, -999.00,9,     22.428,3, -999.00,9,-999.000,-999.0000, -999.00,     -999.0,     -999.0,9,     -999.0,     -999.0,9,     -999.0,  -999.0,9,     -999.0,     -999.0,9,     -999.0,   1.6170,    34.8314,2,-999.0000,2,     -999.0,9
33RO20150410,     P16N.1,      30,          1,          5,          5,2,20150419,       1221,    -3.5992,  -151.0004,       4830,  3068.1,   1.6304,  34.6764,2,  34.6770,2,    143.1,2,   142.8,2,  142.50,2,   36.80,2,    0.00,2,    2.57,4,   0.001,2,  -0.001,2,       0,2,  2328.1,2,  2419.8,2,   7.5644,2,    24.98,-999.000,9,-999.0000,9, -999.00,9,   1.6302,    0.03,2,  -229.1,2,     1.7,-999.000,9,-999.000,  -999.0,9, -999.00,9,     21.723,3, -999.00,9,-999.000,-999.0000, -999.00,     -999.0,     -999.0,9,     -999.0,     -999.0,9,     -999.0,  -999.0,9,     -999.0,     -999.0,9,     -999.0,   1.4041,    34.8405,2,-999.0000,2,     -999.0,9
33RO20150410,     P16N.1,      30,          1,          4,          4,2,20150419,       1221,    -3.5992,  -151.0004,       4830,  3467.1,   1.5318,  34.6845,2,  34.6847,2,    152.2,2,   151.4,2,  142.70,6,   36.20,6,    0.01,6,    2.52,4,  -0.001,2,   0.000,2,       0,2,  2321.5,2,  2421.8,2,   7.5799,6,    24.99,-999.000,9,-999.0000,9, -999.00,9,   1.5316,    0.09,2,  -224.3,2,     1.7,-999.000,9,-999.000,  -999.0,9, -999.00,9,     20.811,3, -999.00,9,-999.000,-999.0000, -999.00,     -999.0,     -999.0,9,     -999.0,     -999.0,9,     -999.0,  -999.0,9,     -999.0,     -999.0,9,     -999.0,   1.2681,    34.8482,2,-999.0000,2,     -999.0,9
33RO20150410,     P16N.1,      30,          1,          3,          3,2,20150419,       1221,    -3.5992,  -151.0004,       4830,  3867.0,   1.4486,  34.6912,2,  34.6918,2,    161.9,2,   160.7,2,  140.20,6,   35.60,6,    0.00,6,    2.47,4,   0.002,2,   0.003,2,       0,2,  2314.1,2,  2418.2,2,   7.5923,2,    24.98,-999.000,9,-999.0000,9, -999.00,9,   1.4484,    0.14,2,  -214.0,2,     1.7,-999.000,9,-999.000,  -999.0,9, -999.00,9,     20.138,3, -999.00,9,-999.000,-999.0000, -999.00,     -999.0,     -999.0,9,     -999.0,     -999.0,9,     -999.0,  -999.0,9,     -999.0,     -999.0,9,     -999.0,   1.1454,    34.8554,2,-999.0000,2,     -999.0,9
33RO20150410,     P16N.1,      30,          1,          2,          2,2,20150419,       1221,    -3.5992,  -151.0004,       4830,  4334.4,   1.3488,  34.6985,2,  34.6998,2,    178.7,2,   178.7,2,  130.70,6,   34.30,6,    0.00,6,    2.37,4,   0.001,6,   0.002,6,       0,6,  2294.1,2,  2400.9,6,   7.6034,2,    24.99,-999.000,9,-999.0000,9, -999.00,9,   1.3485,    0.18,2,  -195.9,2,     1.9,-999.000,9,-999.000,  -999.0,9, -999.00,9,     19.372,3, -999.00,9,-999.000,-999.0000, -999.00,     -999.0,     -999.0,9,     -999.0,     -999.0,9,     -999.0,  -999.0,9,     -999.0,     -999.0,9,     -999.0,   0.9972,    34.8634,2,-999.0000,2,     -999.0,9
33RO20150410,     P16N.1,      30,          1,          1,          1,2,20150419,       1221,    -3.5992,  -151.0004,       4830,  4820.2,   1.3672,  34.7003,2,  34.7004,2,    184.5,2,   183.9,2,  128.40,6,   33.80,6,    0.00,6,    2.33,4,   0.004,2,   0.002,2,       0,2,  2290.3,6,  2395.0,2,   7.6061,2,    24.98,-999.000,9,-999.0000,9, -999.00,9,   1.3672,    0.30,2,  -191.5,2,     1.8,-999.000,9,-999.000,  -999.0,9, -999.00,9,     19.015,3, -999.00,9,-999.000,-999.0000, -999.00,     -999.0,     -999.0,9,     -999.0,     -999.0,9,     -999.0,  -999.0,9,     -999.0,     -999.0,9,     -999.0,   0.9588,    34.8640,2,-999.0000,2,     -999.0,9