BOTTLE,20210709CCHSIOCBG
EXPOCODE,SECT_ID,STNNBR,CASTNO,SAMPNO,BTLNBR,BTLNBR_FLAG_W,DATE,TIME,LATITUDE,LONGITUDE,DEPTH,CTDPRS,CTDTMP,CTDSAL,CTDSAL_FLAG_W,SALNTY,SALNTY_FLAG_W,CTDOXY,CTDOXY_FLAG_W,OXYGEN,OXYGEN_FLAG_W,SILCAT,SILCAT_FLAG_W,NITRAT,NITRAT_FLAG_W,NITRIT,NITRIT_FLAG_W,PHSPHT,PHSPHT_FLAG_W,CFC-11,CFC-11_FLAG_W,CFC-12,CFC-12_FLAG_W,SF6,SF6_FLAG_W,TCARBN,TCARBN_FLAG_W,ALKALI,ALKALI_FLAG_W,PH_TOT,PH_TOT_FLAG_W,PH_TMP,TRITUM,TRITUM_FLAG_W,HELIUM,HELIUM_FLAG_W,DELHE3,DELHE3_FLAG_W,REFTMP,DELC13,DELC13_FLAG_W,DELC14,DELC14_FLAG_W,C14ERR,NEON,NEON_FLAG_W,NEONER,DOC,DOC_FLAG_W,TDN,TDN_FLAG_W,N2O,N2O_FLAG_W,ARGON,ARGON_FLAG_W,TRITER,HELIER,DELHER,ARGONER,KRYPTON,KRYPTON_FLAG_W,KRYPTONER,XENON,XENON_FLAG_W,XENONER,14C-DOC,14C-DOC_FLAG_W,14C-DOCERR,13C-DOC,13C-DOC_FLAG_W,13C-DOCERR,THETA,SALTREF,SALTREF_FLAG_W,SBE35,SBE35_FLAG_W,CHLORA,CHLORA_FLAG_W
,,,,,,,,,,,METERS,DBAR,ITS-90,PSS-78,,PSS-78,,UMOL/KG,,UMOL/KG,,UMOL/KG,,UMOL/KG,,UMOL/KG,,UMOL/KG,,PMOL/KG,,PMOL/KG,,FMOL/KG,,UMOL/KG,,UMOL/KG,,,,DEG C,TU,,NMOL/KG,,PERCNT,,DEG C,/MILLE,,/MILLE,,/MILLE,NMOL/KG,,NMOL/KG,UMOL/KG,,UMOL/KG,,NMOL/KG,,UMOL/KG,,TU,NMOL/KG,PERCNT,UMOL/KG,NMOL/KG,,NMOL/KG,NMOL/KG,,NMOL/KG,/MILLE,,/MILLE,/MILLE,,/MILLE,DEG C,G/KG,,ITS-90,,MG/M3,
33RO20150410,     P16N.1,      74,          1,         24,         24,2,20150430,       0755,     4.3296,  -150.9995,       5331,    10.3,  29.0424,  34.9205,2,  34.9194,2,    198.6,2,   198.7,2,    1.50,2,    1.50,2,    0.07,2,    0.42,2,   1.437,2,   0.941,2,   1.199,2,  1980.3,6,  2297.8,2,   8.0640,2,    25.00,-999.000,9,-999.0000,9, -999.00,9,  29.0374,    1.04,2,    34.1,2,     2.0,-999.000,9,-999.000,  -999.0,9, -999.00,9,      6.290,3, -999.00,9,-999.000,-999.0000, -999.00,     -999.0,     -999.0,9,     -999.0,     -999.0,9,     -999.0,  -999.0,9,     -999.0,     -999.0,9,     -999.0,  29.0399,    35.0841,2,-999.0000,2,     -999.0,9
33RO20150410,     P16N.1,      74,          1,         23,         23,2,20150430,       0755,     4.3296,  -150.9995,       5331,    25.4,  29.0556,  34.9265,2,  34.9254,2,    199.0,2,   198.9,2,    1.50,2,    1.50,2,    0.08,2,    0.42,2,-999.000,9,-999.000,9,-999.000,9,  1979.9,2,  2296.9,2,   8.0636,6,    25.01,-999.000,9,-999.0000,9, -999.00,9,  29.0555,    1.03,2,    44.7,2,     2.3,-999.000,9,-999.000,  -999.0,9, -999.00,9,     -999.0,9, -999.00,9,-999.000,-999.0000, -999.00,     -999.0,     -999.0,9,     -999.0,     -999.0,9,     -999.0,  -258.0,2,        4.0,      -20.4,2,        0.2,  29.0495,    35.0901,2,-999.0000,2,     -999.0,9
33RO20150410,     P16N.1,      74,          1,         22,         22,2,20150430,       0755,     4.3296,  -150.9995,       5331,    50.0,  29.0138,  34.9615,2,  34.9624,2,    199.6,2,   199.0,2,    1.50,2,    1.60,2,    0.08,2,    0.44,2,   1.440,6,   0.941,6,   1.178,6,  1983.0,2,  2299.6,2,   8.0614,2,    25.01,-999.000,9,-999.0000,9, -999.00,9,  29.0138,    1.03,2,    37.8,2,     2.1,-999.000,9,-999.000,  -999.0,9, -999.00,9,      6.448,3, -999.00,9,-999.000,-999.0000, -999.00,     -999.0,     -999.0,9,     -999.0,     -999.0,9,     -999.0,  -999.0,9,     -999.0,     -999.0,9,     -999.0,  29.0017,    35.1273,2,-999.0000,2,     -999.0,9
33RO20150410,     P16N.1,      74,          1,         21,         21,2,20150430,       0755,     4.3296,  -150.9995,       5331,    76.3,  28.3276,  35.0387,2,  35.0388,2,    197.3,2,   197.0,2,    1.70,2,    2.30,2,    0.15,2,    0.50,2,-999.000,9,-999.000,9,-999.000,9,  1997.9,2,  2304.2,2,   8.0435,2,    25.00,-999.000,9,-999.0000,9, -999.00,9,  28.3286,    0.94,2,    41.8,2,     2.2,-999.000,9,-999.000,  -999.0,9, -999.00,9,     -999.0,9, -999.00,9,-999.000,-999.0000, -999.00,     -999.0,     -999.0,9,     -999.0,     -999.0,9,     -999.0,  -999.0,9,     -999.0,     -999.0,9,     -999.0,  28.3095,    35.2040,2,-999.0000,2,     -999.0,9
33RO20150410,     P16N.1,      74,          1,         20,         20,2,20150430,       0755,     4.3296,  -150.9995,       5331,   100.1,  27.2143,  35.0306,2,  35.0339,2,    170.0,2,   170.3,2,    2.30,2,    3.90,2,    0.76,2,    0.63,2,   1.548,2,   0.988,2,   1.114,2,  2015.9,2,  2301.0,6,   8.0027,2,    25.02,-999.000,9,-999.0000,9, -999.00,9,  27.2138,    0.76,2,    41.6,2,     2.3,-999.000,9,-999.000,  -999.0,9, -999.00,9,      7.960,3, -999.00,9,-999.000,-999.0000, -999.00,     -999.0,     -999.0,9,     -999.0,     -999.0,9,     -999.0,  -296.0,2,        4.0,      -21.4,2,        0.2,  27.1912,    35.1991,2,-999.0000,2,     -999.0,9
33RO20150410,     P16N.1,      74,          1,         19,         19,2,20150430,       0755,     4.3296,  -150.9995,       5331,   150.1,  18.0021,  34.7302,2,  34.7451,4,    120.8,2,   121.6,2,    9.30,2,   12.50,2,    0.02,2,    1.12,2,   2.042,2,   1.208,2,   1.024,2,  2106.9,2,  2287.7,2,   7.7971,6,    25.01,-999.000,9,-999.0000,9, -999.00,9,  18.0148,    0.19,2,    31.4,2,     2.2,-999.000,9,-999.000,  -999.0,9, -999.00,9,     23.792,3, -999.00,9,-999.000,-999.0000, -999.00,     -999.0,     -999.0,9,     -999.0,     -999.0,9,     -999.0,  -999.0,9,     -999.0,     -999.0,9,     -999.0,  17.9764,    34.9090,2,-999.0000,2,     -999.0,9
33RO20150410,     P16N.1,      74,          1,         18,         18,2,20150430,       0755,     4.3296,  -150.9995,       5331,   225.3,  10.1866,  34.6629,2,  34.6632,2,     84.0,2,    87.0,2,   28.30,2,   28.60,2,    0.01,2,    2.11,2,   1.060,2,   0.576,2,    0.26,2,  2207.0,2,  2301.7,2,   7.5737,2,    25.00,-999.000,9,-999.0000,9, -999.00,9,  10.1879,    0.25,2,   -35.5,2,     2.8,-999.000,9,-999.000,  -999.0,9, -999.00,9,     39.294,3, -999.00,9,-999.000,-999.0000, -999.00,     -999.0,     -999.0,9,     -999.0,     -999.0,9,     -999.0,  -433.0,2,        4.0,      -19.3,2,        0.2,  10.1602,    34.8266,2,-999.0000,2,     -999.0,9
33RO20150410,     P16N.1,      74,          1,         17,         17,2,20150430,       0755,     4.3296,  -150.9995,       5331,   298.9,   9.5090,  34.6676,2,  34.6676,2,     86.8,2,    81.3,2,   29.60,2,   30.70,2,    0.00,2,    2.24,2,   0.841,2,   0.449,2,   0.203,2,  2218.5,2,  2303.4,2,   7.5496,2,    25.01,-999.000,9,-999.0000,9, -999.00,9,   9.5083,    0.27,2,   -48.6,2,     2.2,-999.000,9,-999.000,  -999.0,9, -999.00,9,     39.997,3, -999.00,9,-999.000,-999.0000, -999.00,     -999.0,     -999.0,9,     -999.0,     -999.0,9,     -999.0,  -999.0,9,     -999.0,     -999.0,9,     -999.0,   9.4753,    34.8311,2,-999.0000,2,     -999.0,9
33RO20150410,     P16N.1,      74,          1,         16,         16,2,20150430,       0755,     4.3296,  -150.9995,       5331,   400.6,   8.8332,  34.6390,2,  34.7050,4,     52.2,2,    52.5,2,   35.20,2,   34.80,2,    0.00,2,    2.51,2,   0.446,6,   0.237,6,   0.102,6,  2245.0,2,  2304.9,2,   7.4762,6,    25.02,-999.000,9,-999.0000,9, -999.00,9,   8.8336,    0.13,2,   -75.2,2,     2.1,-999.000,9,-999.000,  -999.0,9, -999.00,9,     46.743,3, -999.00,9,-999.000,-999.0000, -999.00,     -999.0,     -999.0,9,     -999.0,     -999.0,9,     -999.0,  -443.0,2,        4.0,      -21.9,2,        0.2,   8.7898,    34.8686,3,-999.0000,2,     -999.0,9
33RO20150410,     P16N.1,      74,          1,         15,         15,2,20150430,       0755,     4.3296,  -150.9995,       5331,   502.3,   7.9309,  34.6030,2,  34.6032,2,     35.8,2,    34.1,2,   43.40,2,   38.20,2,    0.04,2,    2.79,2,   0.168,2,   0.089,2,       0,2,  2268.6,6,  2311.8,2,   7.4217,2,    25.01,-999.000,9,-999.0000,9, -999.00,9,   7.9317,    0.09,2,  -108.4,2,     2.0,-999.000,9,-999.000,  -999.0,9, -999.00,9,     50.819,3, -999.00,9,-999.000,-999.0000, -999.00,     -999.0,     -999.0,9,     -999.0,     -999.0,9,     -999.0,  -999.0,9,     -999.0,     -999.0,9,     -999.0,   7.8796,    34.7664,2,-999.0000,3,     -999.0,9
33RO20150410,     P16N.1,      74,          1,         14,         14,2,20150430,       0755,     4.3296,  -150.9995,       5331,   650.4,   6.3067,  34.5565,2,  34.5570,2,     30.8,2,    29.1,2,   61.60,2,   41.70,2,    0.00,2,    3.07,2,   0.024,2,   0.013,2,       0,2,  2296.4,2,  2328.5,2,   7.3849,2,    25.00,-999.000,9,-999.0000,9, -999.00,9,   6.3062,    0.03,2,  -146.7,2,     1.9,-999.000,9,-999.000,  -999.0,9, -999.00,9,     50.534,3, -999.00,9,-999.000,-999.0000, -999.00,     -999.0,     -999.0,9,     -999.0,     -999.0,9,     -999.0,  -478.4,2,        4.0,      -21.9,2,        0.2,   6.2476,    34.7200,6,-999.0000,3,     -999.0,9
33RO20150410,     P16N.1,      74,          1,         13,         13,2,20150430,       0755,     4.3296,  -150.9995,       5331,   800.8,   5.2739,  34.5472,2,  34.5475,2,     68.1,2,    68.5,2,   71.30,2,   39.90,2,    0.00,2,    2.89,2,-999.000,9,-999.000,9,-999.000,9,  2287.9,2,  2340.8,2,   7.4510,6,    25.02,-999.000,9,-999.0000,9, -999.00,9,   5.2770,    0.06,2,  -162.6,2,     1.7,-999.000,9,-999.000,  -999.0,9, -999.00,9,     -999.0,9, -999.00,9,-999.000,-999.0000, -999.00,     -999.0,     -999.0,9,     -999.0,     -999.0,9,     -999.0,  -493.0,2,        4.0,      -21.9,2,        0.2,   5.2066,    34.7104,2,-999.0000,2,     -999.0,9
33RO20150410,     P16N.1,      74,          1,         12,         12,2,20150430,       0755,     4.3296,  -150.9995,       5331,   950.1,   4.6426,  34.5565,2,  34.5583,2,     68.7,2,    70.7,2,   83.90,2,   40.30,2,    0.00,2,    2.93,2,   0.019,2,   0.011,2,       0,2,  2304.6,2,  2354.9,2,   7.4496,2,    25.02,-999.000,9,-999.0000,9, -999.00,9,   4.6429,   -0.02,2,  -175.9,2,     2.2,-999.000,9,-999.000,  -999.0,9, -999.00,9,     36.242,3, -999.00,9,-999.000,-999.0000, -999.00,     -999.0,     -999.0,9,     -999.0,     -999.0,9,     -999.0,  -526.6,2,        4.0,      -22.2,2,        0.2,   4.5663,    34.7212,2,-999.0000,2,     -999.0,9
33RO20150410,     P16N.1,      74,          1,         11,         11,2,20150430,       0755,     4.3296,  -150.9995,       5331,  1101.6,   4.1603,  34.5681,2,  34.5683,2,     73.3,2,    73.4,2,   93.40,2,   40.50,2,    0.00,2,    2.96,2,-999.000,9,-999.000,9,-999.000,9,  2313.9,2,  2365.5,2,   7.4514,2,    25.01,-999.000,9,-999.0000,9, -999.00,9,   4.1593,    0.02,2,  -194.8,2,     2.4,-999.000,9,-999.000,  -999.0,9, -999.00,9,     -999.0,9, -999.00,9,-999.000,-999.0000, -999.00,     -999.0,     -999.0,9,     -999.0,     -999.0,9,     -999.0,  -518.4,2,        4.0,      -21.9,2,        0.2,   4.0746,    34.7313,2,-999.0000,3,     -999.0,9
33RO20150410,     P16N.1,      74,          1,         10,         10,2,20150430,       0755,     4.3296,  -150.9995,       5331,  1300.0,   3.6907,  34.5821,2,  34.5825,2,     77.2,2,    76.3,2,  104.20,2,   40.70,2,    0.00,2,    2.96,2,-999.000,9,-999.000,9,-999.000,9,  2325.0,2,  2377.3,2,   7.4550,2,    25.01,-999.000,9,-999.0000,9, -999.00,9,   3.6916,   -0.07,2,  -205.1,2,     1.8,-999.000,9,-999.000,  -999.0,9, -999.00,9,     -999.0,9, -999.00,9,-999.000,-999.0000, -999.00,     -999.0,     -999.0,9,     -999.0,     -999.0,9,     -999.0,  -519.7,2,        4.0,      -21.7,2,        0.2,   3.5923,    34.7455,2,-999.0000,3,     -999.0,9
33RO20150410,     P16N.1,      74,          1,          9,          9,2,20150430,       0755,     4.3296,  -150.9995,       5331,  1601.7,   2.8813,  34.6152,2,  34.6155,2,     80.2,2,    80.5,2,  125.80,2,   40.90,2,    0.00,2,    2.96,2,   0.000,2,  -0.001,2,       0,2,  2345.7,2,  2401.0,2,   7.4591,6,    25.02,-999.000,9,-999.0000,9, -999.00,9,   2.8810,   -0.17,2,  -228.3,2,     1.7,-999.000,9,-999.000,  -999.0,9, -999.00,9,     31.336,3, -999.00,9,-999.000,-999.0000, -999.00,     -999.0,     -999.0,9,     -999.0,     -999.0,9,     -999.0,  -999.0,9,     -999.0,     -999.0,9,     -999.0,   2.7662,    34.7787,2,-999.0000,3,     -999.0,9
33RO20150410,     P16N.1,      74,          1,          8,          8,2,20150430,       0755,     4.3296,  -150.9995,       5331,  1999.5,   2.2481,  34.6441,2,  34.6445,2,     97.2,2,    97.7,2,  139.50,2,   39.50,2,    0.01,2,    2.85,2,-999.000,9,-999.000,9,-999.000,9,  2349.9,2,  2419.0,2,   7.4928,2,    25.01,-999.000,9,-999.0000,9, -999.00,9,   2.2482,   -0.13,2,  -237.8,2,     1.9,-999.000,9,-999.000,  -999.0,9, -999.00,9,     -999.0,9, -999.00,9,-999.000,-999.0000, -999.00,     -999.0,     -999.0,9,     -999.0,     -999.0,9,     -999.0,  -540.0,2,        4.0,      -21.8,2,        0.2,   2.1079,    34.8079,6,-999.0000,3,     -999.0,9
33RO20150410,     P16N.1,      74,          1,          7,          7,2,20150430,       0755,     4.3296,  -150.9995,       5331,  2399.4,   1.8910,  34.6644,2,  34.6637,2,    114.0,2,   114.1,2,  146.20,2,   38.40,2,    0.00,2,    2.75,2,-999.000,9,-999.000,9,-999.000,9,  2347.7,2,  2428.7,2,   7.5245,2,    25.01,-999.000,9,-999.0000,9, -999.00,9,   1.8911,   -0.13,2,  -240.2,2,     1.9,-999.000,9,-999.000,  -999.0,9, -999.00,9,     -999.0,9, -999.00,9,-999.000,-999.0000, -999.00,     -999.0,     -999.0,9,     -999.0,     -999.0,9,     -999.0,  -999.0,9,     -999.0,     -999.0,9,     -999.0,   1.7217,    34.8271,2,-999.0000,2,     -999.0,9
33RO20150410,     P16N.1,      74,          1,          6,          6,2,20150430,       0755,     4.3296,  -150.9995,       5331,  2898.9,   1.7136,  34.6741,2,  34.6766,2,    125.5,2,   126.1,2,  146.90,2,   37.70,2,    0.00,2,    2.66,2,   0.002,2,  -0.001,2,       0,2,  2345.2,2,  2429.6,2,   7.5430,2,    25.02,-999.000,9,-999.0000,9, -999.00,9,   1.7135,   -0.05,2,  -230.2,2,     1.6,-999.000,9,-999.000,  -999.0,9, -999.00,9,     22.942,3, -999.00,9,-999.000,-999.0000, -999.00,     -999.0,     -999.0,9,     -999.0,     -999.0,9,     -999.0,  -538.0,2,        4.0,      -21.4,2,        0.2,   1.5017,    34.8401,2,-999.0000,2,     -999.0,9
33RO20150410,     P16N.1,      74,          1,          5,          5,2,20150430,       0755,     4.3296,  -150.9995,       5331,  3400.0,   1.5242,  34.6850,2,  34.6965,4,    144.0,2,   144.8,2,  143.80,2,   36.50,2,    0.00,2,    2.58,2,-999.000,9,-999.000,9,-999.000,9,  2328.4,2,  2426.8,2,   7.5726,2,    25.00,-999.000,9,-999.0000,9, -999.00,9,   1.5241,    0.10,2,  -221.7,2,     1.8,-999.000,9,-999.000,  -999.0,9, -999.00,9,     -999.0,9, -999.00,9,-999.000,-999.0000, -999.00,     -999.0,     -999.0,9,     -999.0,     -999.0,9,     -999.0,  -534.7,2,        4.0,      -21.7,2,        0.2,   1.2675,    34.8601,3,-999.0000,2,     -999.0,9
33RO20150410,     P16N.1,      74,          1,          4,          4,2,20150430,       0755,     4.3296,  -150.9995,       5331,  3900.0,   1.4253,  34.6929,2,  34.6926,2,    157.6,2,   157.8,2,  140.00,6,   35.50,6,    0.00,6,    2.50,6,-999.000,9,-999.000,9,-999.000,9,  2319.8,2,  2424.3,2,   7.5926,6,    25.01,-999.000,9,-999.0000,9, -999.00,9,   1.4251,    0.08,2,  -211.8,2,     1.6,-999.000,9,-999.000,  -999.0,9, -999.00,9,     -999.0,9, -999.00,9,-999.000,-999.0000, -999.00,     -999.0,     -999.0,9,     -999.0,     -999.0,9,     -999.0,  -522.4,2,        4.0,      -22.0,2,        0.2,   1.1192,    34.8562,2,-999.0000,2,     -999.0,9
33RO20150410,     P16N.1,      74,          1,          3,          3,2,20150430,       0755,     4.3296,  -150.9995,       5331,  4401.9,   1.3786,  34.6972,2,  34.7004,2,    167.9,2,   168.2,2,  135.10,6,   34.80,6,    0.00,6,    2.46,6,  -0.001,2,   0.000,2,       0,2,  2308.8,2,  2415.8,2,   7.6002,2,    25.01,-999.000,9,-999.0000,9, -999.00,9,   1.3786,    0.13,2,  -201.4,2,     1.8,-999.000,9,-999.000,  -999.0,9, -999.00,9,     20.457,3, -999.00,9,-999.000,-999.0000, -999.00,     -999.0,     -999.0,9,     -999.0,     -999.0,9,     -999.0,  -999.0,9,     -999.0,     -999.0,9,     -999.0,   1.0184,    34.8641,3,-999.0000,2,     -999.0,9
33RO20150410,     P16N.1,      74,          1,          2,          2,2,20150430,       0755,     4.3296,  -150.9995,       5331,  4896.3,   1.4264,  34.6972,2,  34.7036,4,    169.5,2,   169.2,2,  134.30,6,   34.70,6,    0.00,6,    2.44,6,-999.000,9,-999.000,9,-999.000,9,  2309.1,2,  2413.1,6,   7.5996,2,    25.00,-999.000,9,-999.0000,9, -999.00,9,   1.4262,    0.14,2,  -197.0,2,     1.8,-999.000,9,-999.000,  -999.0,9, -999.00,9,     -999.0,9, -999.00,9,-999.000,-999.0000, -999.00,     -999.0,     -999.0,9,     -999.0,     -999.0,9,     -999.0,  -521.0,2,        4.0,      -21.7,2,        0.2,   1.0070,    34.8672,3,-999.0000,2,     -999.0,9
33RO20150410,     P16N.1,      74,          1,          1,          1,2,20150430,       0755,     4.3296,  -150.9995,       5331,  5320.8,   1.4787,  34.6969,2,  34.6981,2,    169.7,2,   172.8,2,  134.20,6,   34.60,6,    0.01,6,    2.45,6,  -0.001,2,   0.001,2,   0.037,3,  2308.0,6,  2414.9,2,   7.5999,2,    25.01,-999.000,9,-999.0000,9, -999.00,9,   1.4785,    0.11,2,  -204.1,2,     2.0,-999.000,9,-999.000,  -999.0,9, -999.00,9,     19.906,3, -999.00,9,-999.000,-999.0000, -999.00,     -999.0,     -999.0,9,     -999.0,     -999.0,9,     -999.0,  -999.0,9,     -999.0,     -999.0,9,     -999.0,   1.0054,    34.8617,2,-999.0000,2,     -999.0,9