BOTTLE,20210709CCHSIOCBG
EXPOCODE,SECT_ID,STNNBR,CASTNO,SAMPNO,BTLNBR,BTLNBR_FLAG_W,DATE,TIME,LATITUDE,LONGITUDE,DEPTH,CTDPRS,CTDTMP,CTDSAL,CTDSAL_FLAG_W,SALNTY,SALNTY_FLAG_W,CTDOXY,CTDOXY_FLAG_W,OXYGEN,OXYGEN_FLAG_W,SILCAT,SILCAT_FLAG_W,NITRAT,NITRAT_FLAG_W,NITRIT,NITRIT_FLAG_W,PHSPHT,PHSPHT_FLAG_W,CFC-11,CFC-11_FLAG_W,CFC-12,CFC-12_FLAG_W,SF6,SF6_FLAG_W,TCARBN,TCARBN_FLAG_W,ALKALI,ALKALI_FLAG_W,PH_TOT,PH_TOT_FLAG_W,PH_TMP,TRITUM,TRITUM_FLAG_W,HELIUM,HELIUM_FLAG_W,DELHE3,DELHE3_FLAG_W,REFTMP,DELC13,DELC13_FLAG_W,DELC14,DELC14_FLAG_W,C14ERR,NEON,NEON_FLAG_W,NEONER,DOC,DOC_FLAG_W,TDN,TDN_FLAG_W,N2O,N2O_FLAG_W,ARGON,ARGON_FLAG_W,TRITER,HELIER,DELHER,ARGONER,KRYPTON,KRYPTON_FLAG_W,KRYPTONER,XENON,XENON_FLAG_W,XENONER,14C-DOC,14C-DOC_FLAG_W,14C-DOCERR,13C-DOC,13C-DOC_FLAG_W,13C-DOCERR,THETA,SALTREF,SALTREF_FLAG_W,SBE35,SBE35_FLAG_W,CHLORA,CHLORA_FLAG_W
,,,,,,,,,,,METERS,DBAR,ITS-90,PSS-78,,PSS-78,,UMOL/KG,,UMOL/KG,,UMOL/KG,,UMOL/KG,,UMOL/KG,,UMOL/KG,,PMOL/KG,,PMOL/KG,,FMOL/KG,,UMOL/KG,,UMOL/KG,,,,DEG C,TU,,NMOL/KG,,PERCNT,,DEG C,/MILLE,,/MILLE,,/MILLE,NMOL/KG,,NMOL/KG,UMOL/KG,,UMOL/KG,,NMOL/KG,,UMOL/KG,,TU,NMOL/KG,PERCNT,UMOL/KG,NMOL/KG,,NMOL/KG,NMOL/KG,,NMOL/KG,/MILLE,,/MILLE,/MILLE,,/MILLE,DEG C,G/KG,,ITS-90,,MG/M3,
33RO20150410,     P16N.1,      89,          1,         24,         24,2,20150504,       1423,    10.9999,  -152.0000,       5478,    10.6,  27.3293,  34.4154,2,  34.4162,2,    196.5,2,   196.2,2,    1.00,2,    0.00,2,    0.00,2,    0.22,2,   1.533,2,   0.984,2,   1.359,2,  1947.2,6,  2264.4,2,   8.0823,6,    25.00,-999.000,9,-999.0000,9, -999.00,9,  27.3304, -999.00,9,  -999.0,9,  -999.0,-999.000,9,-999.000,    68.5,2,    4.10,2,      6.678,3, -999.00,9,-999.000,-999.0000, -999.00,     -999.0,     -999.0,9,     -999.0,     -999.0,9,     -999.0,  -999.0,9,     -999.0,     -999.0,9,     -999.0,  27.3269,    34.5785,2,-999.0000,9,     -999.0,9
33RO20150410,     P16N.1,      89,          1,         23,         23,2,20150504,       1423,    10.9999,  -152.0000,       5478,    25.8,  27.3351,  34.4152,2,  34.4198,2,    196.9,2,   196.2,2,    1.00,2,    0.00,2,    0.00,2,    0.23,2,   1.530,2,   0.980,2,   1.251,2,  1949.0,2,  2264.9,2,   8.0827,2,    25.00,-999.000,9,-999.0000,9, -999.00,9,  27.3338, -999.00,9,  -999.0,9,  -999.0,-999.000,9,-999.000,    70.1,2,    4.10,2,      6.579,3, -999.00,9,-999.000,-999.0000, -999.00,     -999.0,     -999.0,9,     -999.0,     -999.0,9,     -999.0,  -999.0,9,     -999.0,     -999.0,9,     -999.0,  27.3291,    34.5821,2,-999.0000,9,     -999.0,9
33RO20150410,     P16N.1,      89,          1,         22,         22,2,20150504,       1423,    10.9999,  -152.0000,       5478,    50.0,  27.3327,  34.4148,2,  34.4172,2,    197.4,2,   196.1,2,    1.10,2,    0.00,2,    0.00,2,    0.23,2,   1.526,2,   0.974,2,   1.285,2,  1947.9,2,  2264.0,2,   8.0826,6,    24.99,-999.000,9,-999.0000,9, -999.00,9,  27.3386, -999.00,9,  -999.0,9,  -999.0,-999.000,9,-999.000,    66.3,2,    4.00,2,      6.592,3, -999.00,9,-999.000,-999.0000, -999.00,     -999.0,     -999.0,9,     -999.0,     -999.0,9,     -999.0,  -999.0,9,     -999.0,     -999.0,9,     -999.0,  27.3212,    34.5795,6,-999.0000,9,     -999.0,9
33RO20150410,     P16N.1,      89,          1,         21,         21,2,20150504,       1423,    10.9999,  -152.0000,       5478,    75.3,  27.3144,  34.4115,2,  34.4183,2,    195.3,2,   194.8,2,    1.20,2,    0.30,2,    0.01,2,    0.27,2,   1.562,6,   0.999,6,   1.319,6,  1956.1,2,  2267.6,2,   8.0709,2,    24.98,-999.000,9,-999.0000,9, -999.00,9,  27.3226, -999.00,9,  -999.0,9,  -999.0,-999.000,9,-999.000,    67.7,2,    4.30,2,      8.464,3, -999.00,9,-999.000,-999.0000, -999.00,     -999.0,     -999.0,9,     -999.0,     -999.0,9,     -999.0,  -999.0,9,     -999.0,     -999.0,9,     -999.0,  27.2970,    34.5806,2,-999.0000,9,     -999.0,9
33RO20150410,     P16N.1,      89,          1,         20,         20,2,20150504,       1423,    10.9999,  -152.0000,       5478,   100.4,  15.7433,  34.3522,2,  34.3532,2,    137.3,2,   129.1,2,    9.30,2,   12.00,2,    0.60,2,    1.25,2,   2.363,2,   1.372,2,   1.164,2,  2127.7,2,  2272.1,6,   7.7249,2,    24.98,-999.000,9,-999.0000,9, -999.00,9,  15.7568, -999.00,9,  -999.0,9,  -999.0,-999.000,9,-999.000,    53.5,2,   15.20,2,     47.927,3, -999.00,9,-999.000,-999.0000, -999.00,     -999.0,     -999.0,9,     -999.0,     -999.0,9,     -999.0,  -999.0,9,     -999.0,     -999.0,9,     -999.0,  15.7277,    34.5152,2,-999.0000,9,     -999.0,9
33RO20150410,     P16N.1,      89,          1,         19,         19,2,20150504,       1423,    10.9999,  -152.0000,       5478,   150.3,  12.1773,  34.6502,2,  34.6522,2,      3.0,2,     4.2,2,   26.90,2,   30.90,2,    0.03,2,    2.60,2,   1.151,2,   0.637,2,   0.246,2,  2255.4,2,  2291.3,2,   7.4111,3,    24.98,-999.000,9,-999.0000,9, -999.00,9,  12.1848, -999.00,9,  -999.0,9,  -999.0,-999.000,9,-999.000,    46.5,2,   32.50,3,     65.316,4, -999.00,9,-999.000,-999.0000, -999.00,     -999.0,     -999.0,9,     -999.0,     -999.0,9,     -999.0,  -999.0,9,     -999.0,     -999.0,9,     -999.0,  12.1576,    34.8156,2,-999.0000,9,     -999.0,9
33RO20150410,     P16N.1,      89,          1,         18,         18,2,20150504,       1423,    10.9999,  -152.0000,       5478,   224.1,  11.0024,  34.7257,2,  34.7234,2,      5.6,2,     6.0,2,   29.50,2,   33.70,2,    0.01,2,    2.56,2,   0.683,2,   0.370,2,   0.135,2,  2262.1,2,  2299.6,2,   7.4170,6,    25.01,-999.000,9,-999.0000,9, -999.00,9,  11.0022, -999.00,9,  -999.0,9,  -999.0,-999.000,9,-999.000,    44.7,2,   35.00,3,     72.033,3, -999.00,9,-999.000,-999.0000, -999.00,     -999.0,     -999.0,9,     -999.0,     -999.0,9,     -999.0,  -999.0,9,     -999.0,     -999.0,9,     -999.0,  10.9748,    34.8871,2,-999.0000,9,     -999.0,9
33RO20150410,     P16N.1,      89,          1,         17,         17,2,20150504,       1423,    10.9999,  -152.0000,       5478,   299.9,  10.3558,  34.7005,2,  34.6990,2,      3.9,2,     4.3,2,   32.10,2,   34.50,2,    0.01,2,    2.64,2,   0.465,2,   0.251,2,   0.081,2,  2269.8,2,  2300.9,2,   7.3968,2,    24.98,-999.000,9,-999.0000,9, -999.00,9,  10.3551, -999.00,9,  -999.0,9,  -999.0,-999.000,9,-999.000,    43.1,2,   36.70,2,     56.790,3, -999.00,9,-999.000,-999.0000, -999.00,     -999.0,     -999.0,9,     -999.0,     -999.0,9,     -999.0,  -999.0,9,     -999.0,     -999.0,9,     -999.0,  10.3202,    34.8626,2,-999.0000,9,     -999.0,9
33RO20150410,     P16N.1,      89,          1,         16,         16,2,20150504,       1423,    10.9999,  -152.0000,       5478,   400.8,   9.5799,  34.6573,2,  34.6546,2,      2.3,2,    10.0,4,   37.40,2,   34.80,2,    0.01,2,    2.77,2,   0.191,2,   0.106,2,       0,2,  2279.8,6,  2305.4,2,   7.3782,2,    24.99,-999.000,9,-999.0000,9, -999.00,9,   9.5825, -999.00,9,  -999.0,9,  -999.0,-999.000,9,-999.000,    43.6,2, -999.00,9,     69.682,3, -999.00,9,-999.000,-999.0000, -999.00,     -999.0,     -999.0,9,     -999.0,     -999.0,9,     -999.0,  -999.0,9,     -999.0,     -999.0,9,     -999.0,   9.5343,    34.8180,6,-999.0000,9,     -999.0,9
33RO20150410,     P16N.1,      89,          1,         15,         15,2,20150504,       1423,    10.9999,  -152.0000,       5478,   500.6,   8.3989,  34.5957,2,  34.5955,2,      3.4,2,     9.9,4,   46.20,2,   36.60,2,    0.00,2,    2.97,2,   0.056,6,   0.030,6,       0,6,  2292.7,2,  2314.0,2,   7.3624,2,    24.98,-999.000,9,-999.0000,9, -999.00,9,   8.3995, -999.00,9,  -999.0,9,  -999.0,-999.000,9,-999.000,    42.3,2, -999.00,9,     67.644,3, -999.00,9,-999.000,-999.0000, -999.00,     -999.0,     -999.0,9,     -999.0,     -999.0,9,     -999.0,  -999.0,9,     -999.0,     -999.0,9,     -999.0,   8.3461,    34.7586,2,-999.0000,9,     -999.0,9
33RO20150410,     P16N.1,      89,          1,         14,         14,2,20150504,       1423,    10.9999,  -152.0000,       5478,   649.6,   6.8091,  34.5253,2,  34.5244,2,     10.0,2,    10.0,2,   61.30,2,   39.80,2,    0.01,2,    3.12,2,   0.021,2,   0.011,2,       0,2,  2307.2,2,  2327.1,2,   7.3545,2,    24.99,-999.000,9,-999.0000,9, -999.00,9,   6.8101, -999.00,9,  -999.0,9,  -999.0,-999.000,9,-999.000,    42.5,2, -999.00,9,     57.780,3, -999.00,9,-999.000,-999.0000, -999.00,     -999.0,     -999.0,9,     -999.0,     -999.0,9,     -999.0,  -999.0,9,     -999.0,     -999.0,9,     -999.0,   6.7477,    34.6872,2,-999.0000,9,     -999.0,9
33RO20150410,     P16N.1,      89,          1,         13,         13,2,20150504,       1423,    10.9999,  -152.0000,       5478,   799.7,   5.5534,  34.5220,2,  34.5201,2,     13.2,2,    12.8,2,   77.90,2,   42.80,2,    0.01,2,    3.25,2,   0.003,2,   0.001,2,       0,2,  2331.0,2,  2344.7,2,   7.3425,2,    24.99,-999.000,9,-999.0000,9, -999.00,9,   5.5535, -999.00,9,  -999.0,9,  -999.0,-999.000,9,-999.000,    41.7,2, -999.00,9,     56.765,3, -999.00,9,-999.000,-999.0000, -999.00,     -999.0,     -999.0,9,     -999.0,     -999.0,9,     -999.0,  -999.0,9,     -999.0,     -999.0,9,     -999.0,   5.4845,    34.6829,2,-999.0000,9,     -999.0,9
33RO20150410,     P16N.1,      89,          1,         12,         12,2,20150504,       1423,    10.9999,  -152.0000,       5478,   950.1,   4.7994,  34.5378,2,  34.5368,2,     30.6,2,    30.1,2,   88.30,2,   43.00,2,    0.01,2,    3.20,2,   0.011,2,   0.004,2,       0,2,  2333.4,2,  2357.8,2,   7.3705,6,    25.01,-999.000,9,-999.0000,9, -999.00,9,   4.8020, -999.00,9,  -999.0,9,  -999.0,-999.000,9,-999.000,    38.6,2, -999.00,9,     47.030,3, -999.00,9,-999.000,-999.0000, -999.00,     -999.0,     -999.0,9,     -999.0,     -999.0,9,     -999.0,  -999.0,9,     -999.0,     -999.0,9,     -999.0,   4.7220,    34.6996,2,-999.0000,9,     -999.0,9
33RO20150410,     P16N.1,      89,          1,         11,         11,2,20150504,       1423,    10.9999,  -152.0000,       5478,  1099.7,   4.1654,  34.5574,2,  34.5560,2,     42.7,2,    42.5,2,   99.40,2,   42.70,2,    0.01,2,    3.16,2,   0.004,2,   0.002,2,       0,2,  2339.9,2,  2370.7,2,   7.3908,2,    24.98,-999.000,9,-999.0000,9, -999.00,9,   4.1650, -999.00,9,  -999.0,9,  -999.0,-999.000,9,-999.000,    38.9,2, -999.00,9,     41.913,3, -999.00,9,-999.000,-999.0000, -999.00,     -999.0,     -999.0,9,     -999.0,     -999.0,9,     -999.0,  -999.0,9,     -999.0,     -999.0,9,     -999.0,   4.0799,    34.7190,2,-999.0000,9,     -999.0,9
33RO20150410,     P16N.1,      89,          1,         10,         10,2,20150504,       1423,    10.9999,  -152.0000,       5478,  1300.8,   3.5986,  34.5802,2,  34.5796,2,     53.7,2,    53.9,2,  110.00,2,   42.30,2,    0.00,2,    3.11,2,   0.001,2,   0.000,2,       0,2,  2344.3,2,  2384.4,2,   7.4115,2,    24.99,-999.000,9,-999.0000,9, -999.00,9,   3.5983, -999.00,9,  -999.0,9,  -999.0,-999.000,9,-999.000,    37.9,2, -999.00,9,     37.723,3, -999.00,9,-999.000,-999.0000, -999.00,     -999.0,     -999.0,9,     -999.0,     -999.0,9,     -999.0,  -999.0,9,     -999.0,     -999.0,9,     -999.0,   3.5011,    34.7426,2,-999.0000,9,     -999.0,9
33RO20150410,     P16N.1,      89,          1,          9,          9,2,20150504,       1423,    10.9999,  -152.0000,       5478,  1599.8,   2.8865,  34.6058,2,  34.6055,2,     71.5,2,    71.6,2,  124.90,2,   41.10,2,    0.00,2,    2.99,2,   0.000,2,   0.000,2,       0,2,  2352.1,2,  2402.6,2,   7.4419,2,    24.98,-999.000,9,-999.0000,9, -999.00,9,   2.8863, -999.00,9,  -999.0,9,  -999.0,-999.000,9,-999.000,    38.9,2, -999.00,9,     32.733,3, -999.00,9,-999.000,-999.0000, -999.00,     -999.0,     -999.0,9,     -999.0,     -999.0,9,     -999.0,  -999.0,9,     -999.0,     -999.0,9,     -999.0,   2.7716,    34.7687,2,-999.0000,9,     -999.0,9
33RO20150410,     P16N.1,      89,          1,          8,          8,2,20150504,       1423,    10.9999,  -152.0000,       5478,  1998.4,   2.2256,  34.6399,2,  34.6383,2,     91.6,2,    91.1,2,  139.20,2,   39.80,2,    0.01,2,    2.88,2,  -0.001,2,   0.001,2,       0,2,  2355.8,2,  2419.8,2,   7.4794,2,    24.99,-999.000,9,-999.0000,9, -999.00,9,   2.2252, -999.00,9,  -999.0,9,  -999.0,-999.000,9,-999.000,    37.8,2, -999.00,9,     27.569,3, -999.00,9,-999.000,-999.0000, -999.00,     -999.0,     -999.0,9,     -999.0,     -999.0,9,     -999.0,  -999.0,9,     -999.0,     -999.0,9,     -999.0,   2.0858,    34.8017,2,-999.0000,9,     -999.0,9
33RO20150410,     P16N.1,      89,          1,          7,          7,2,20150504,       1423,    10.9999,  -152.0000,       5478,  2399.3,   1.9220,  34.6602,2,  34.6578,2,    105.1,2,   104.4,2,  145.40,2,   38.70,2,    0.01,2,    2.79,2,   0.002,2,   0.003,2,       0,2,  2356.3,2,  2427.7,2,   7.5066,2,    25.00,-999.000,9,-999.0000,9, -999.00,9,   1.9222, -999.00,9,  -999.0,9,  -999.0,-999.000,9,-999.000,    40.0,2, -999.00,9,     24.690,3, -999.00,9,-999.000,-999.0000, -999.00,     -999.0,     -999.0,9,     -999.0,     -999.0,9,     -999.0,  -999.0,9,     -999.0,     -999.0,9,     -999.0,   1.7522,    34.8213,2,-999.0000,9,     -999.0,9
33RO20150410,     P16N.1,      89,          1,          6,          6,2,20150504,       1423,    10.9999,  -152.0000,       5478,  2900.9,   1.7515,  34.6714,2,  34.6696,2,    116.1,2,   115.8,2,  148.30,2,   38.00,2,    0.01,2,    2.72,2,   0.000,2,   0.000,2,       0,2,  2351.6,2,  2433.3,2,   7.5282,2,    24.98,-999.000,9,-999.0000,9, -999.00,9,   1.7517, -999.00,9,  -999.0,9,  -999.0,-999.000,9,-999.000,    38.4,2, -999.00,9,     22.969,3, -999.00,9,-999.000,-999.0000, -999.00,     -999.0,     -999.0,9,     -999.0,     -999.0,9,     -999.0,  -999.0,9,     -999.0,     -999.0,9,     -999.0,   1.5387,    34.8331,2,-999.0000,9,     -999.0,9
33RO20150410,     P16N.1,      89,          1,          5,          5,2,20150504,       1423,    10.9999,  -152.0000,       5478,  3399.8,   1.5880,  34.6805,2,  34.6787,2,    129.5,2,   129.8,2,  149.30,2,   37.20,2,    0.01,2,    2.65,2,   0.003,2,   0.001,2,       0,2,  2343.4,2,  2432.6,2,   7.5510,6,    24.99,-999.000,9,-999.0000,9, -999.00,9,   1.5880, -999.00,9,  -999.0,9,  -999.0,-999.000,9,-999.000,    40.3,2, -999.00,9,     21.690,3, -999.00,9,-999.000,-999.0000, -999.00,     -999.0,     -999.0,9,     -999.0,     -999.0,9,     -999.0,  -999.0,9,     -999.0,     -999.0,9,     -999.0,   1.3298,    34.8422,2,-999.0000,9,     -999.0,9
33RO20150410,     P16N.1,      89,          1,          4,          4,2,20150504,       1423,    10.9999,  -152.0000,       5478,  3900.4,   1.4396,  34.6899,2,  34.6889,2,    151.0,2,   150.9,2,  140.80,6,   35.60,6,    0.00,6,    2.54,6,   0.000,2,   0.000,2,       0,2,  2323.5,2,  2423.5,2,   7.5790,2,    25.00,-999.000,9,-999.0000,9, -999.00,9,   1.4397, -999.00,9,  -999.0,9,  -999.0,-999.000,9,-999.000,    40.3,2, -999.00,9,     20.484,3, -999.00,9,-999.000,-999.0000, -999.00,     -999.0,     -999.0,9,     -999.0,     -999.0,9,     -999.0,  -999.0,9,     -999.0,     -999.0,9,     -999.0,   1.1331,    34.8525,2,-999.0000,9,     -999.0,9
33RO20150410,     P16N.1,      89,          1,          3,          3,2,20150504,       1423,    10.9999,  -152.0000,       5478,  4399.8,   1.3771,  34.6962,2,  34.6952,2,    165.7,2,   165.5,2,  132.60,6,   34.60,6,    0.00,6,    2.46,6,  -0.002,2,   0.002,6,       0,2,  2307.6,2,  2412.1,6,   7.5933,6,    25.01,-999.000,9,-999.0000,9, -999.00,9,   1.3772, -999.00,9,  -999.0,9,  -999.0,-999.000,9,-999.000,    38.2,2, -999.00,9,     19.812,3, -999.00,9,-999.000,-999.0000, -999.00,     -999.0,     -999.0,9,     -999.0,     -999.0,9,     -999.0,  -999.0,9,     -999.0,     -999.0,9,     -999.0,   1.0172,    34.8588,2,-999.0000,9,     -999.0,9
33RO20150410,     P16N.1,      89,          1,          2,          2,2,20150504,       1423,    10.9999,  -152.0000,       5478,  4900.0,   1.3878,  34.6985,2,  34.6981,2,    172.0,2,   171.8,2,  128.50,6,   34.10,6,    0.00,6,    2.42,6,   0.000,2,   0.002,2,       0,2,  2300.7,2,  2404.6,2,   7.5972,2,    25.00,-999.000,9,-999.0000,9, -999.00,9,   1.3878, -999.00,9,  -999.0,9,  -999.0,-999.000,9,-999.000,    39.5,2, -999.00,9,     19.604,3, -999.00,9,-999.000,-999.0000, -999.00,     -999.0,     -999.0,9,     -999.0,     -999.0,9,     -999.0,  -999.0,9,     -999.0,     -999.0,9,     -999.0,   0.9692,    34.8617,2,-999.0000,9,     -999.0,9
33RO20150410,     P16N.1,      89,          1,          1,          1,2,20150504,       1423,    10.9999,  -152.0000,       5478,  5467.7,   1.4513,  34.6986,2,  34.6979,2,    173.6,2,   173.1,2,  127.60,6,   34.00,6,    0.00,6,    2.42,6,   0.013,4,   0.005,2,       0,2,  2299.2,6,  2402.2,2,   7.5974,2,    25.01,-999.000,9,-999.0000,9, -999.00,9,   1.4513, -999.00,9,  -999.0,9,  -999.0,-999.000,9,-999.000,    41.8,2, -999.00,9,     19.443,3, -999.00,9,-999.000,-999.0000, -999.00,     -999.0,     -999.0,9,     -999.0,     -999.0,9,     -999.0,  -999.0,9,     -999.0,     -999.0,9,     -999.0,   0.9604,    34.8615,2,-999.0000,9,     -999.0,9