BOTTLE,20210709CCHSIOCBG
EXPOCODE,SECT_ID,STNNBR,CASTNO,SAMPNO,BTLNBR,BTLNBR_FLAG_W,DATE,TIME,LATITUDE,LONGITUDE,DEPTH,CTDPRS,CTDTMP,CTDSAL,CTDSAL_FLAG_W,SALNTY,SALNTY_FLAG_W,CTDOXY,CTDOXY_FLAG_W,OXYGEN,OXYGEN_FLAG_W,SILCAT,SILCAT_FLAG_W,NITRAT,NITRAT_FLAG_W,NITRIT,NITRIT_FLAG_W,PHSPHT,PHSPHT_FLAG_W,CFC-11,CFC-11_FLAG_W,CFC-12,CFC-12_FLAG_W,SF6,SF6_FLAG_W,TCARBN,TCARBN_FLAG_W,ALKALI,ALKALI_FLAG_W,PH_TOT,PH_TOT_FLAG_W,PH_TMP,TRITUM,TRITUM_FLAG_W,HELIUM,HELIUM_FLAG_W,DELHE3,DELHE3_FLAG_W,REFTMP,DELC13,DELC13_FLAG_W,DELC14,DELC14_FLAG_W,C14ERR,NEON,NEON_FLAG_W,NEONER,DOC,DOC_FLAG_W,TDN,TDN_FLAG_W,N2O,N2O_FLAG_W,ARGON,ARGON_FLAG_W,TRITER,HELIER,DELHER,ARGONER,KRYPTON,KRYPTON_FLAG_W,KRYPTONER,XENON,XENON_FLAG_W,XENONER,14C-DOC,14C-DOC_FLAG_W,14C-DOCERR,13C-DOC,13C-DOC_FLAG_W,13C-DOCERR,THETA,SALTREF,SALTREF_FLAG_W,SBE35,SBE35_FLAG_W,CHLORA,CHLORA_FLAG_W
,,,,,,,,,,,METERS,DBAR,ITS-90,PSS-78,,PSS-78,,UMOL/KG,,UMOL/KG,,UMOL/KG,,UMOL/KG,,UMOL/KG,,UMOL/KG,,PMOL/KG,,PMOL/KG,,FMOL/KG,,UMOL/KG,,UMOL/KG,,,,DEG C,TU,,NMOL/KG,,PERCNT,,DEG C,/MILLE,,/MILLE,,/MILLE,NMOL/KG,,NMOL/KG,UMOL/KG,,UMOL/KG,,NMOL/KG,,UMOL/KG,,TU,NMOL/KG,PERCNT,UMOL/KG,NMOL/KG,,NMOL/KG,NMOL/KG,,NMOL/KG,/MILLE,,/MILLE,/MILLE,,/MILLE,DEG C,G/KG,,ITS-90,,MG/M3,
33RO20150410,     P16N.1,      24,          1,         24,         24,2,20150417,       2317,    -5.4000,  -151.0011,       5295,     5.8,  28.8119,  35.3182,2,  35.3163,2,    197.7,2,   198.6,2,    2.00,2,    4.00,2,    0.11,2,    0.39,4,   1.428,6,   0.928,6,   1.243,6,  2013.4,6,  2324.9,2,   8.0470,2,    25.02,-999.000,9,-999.0000,9, -999.00,9,  28.8358, -999.00,9,  -999.0,9,  -999.0,-999.000,9,-999.000,  -999.0,9, -999.00,9,      6.146,3, -999.00,9,-999.000,-999.0000, -999.00,     -999.0,     -999.0,9,     -999.0,     -999.0,9,     -999.0,  -999.0,9,     -999.0,     -999.0,9,     -999.0,  28.8105,    35.4828,2,-999.0000,2,     -999.0,9
33RO20150410,     P16N.1,      24,          1,         23,         23,2,20150417,       2317,    -5.4000,  -151.0011,       5295,    21.0,  28.5982,  35.3222,2,  35.3226,2,    197.9,2,   198.8,2,    2.00,2,    4.00,2,    0.11,2,    0.41,4,   1.464,2,   0.927,2,   1.239,2,  2014.3,2,  2325.1,2,   8.0474,6,    25.01,-999.000,9,-999.0000,9, -999.00,9,  28.5950, -999.00,9,  -999.0,9,  -999.0,-999.000,9,-999.000,  -999.0,9, -999.00,9,      6.188,3, -999.00,9,-999.000,-999.0000, -999.00,     -999.0,     -999.0,9,     -999.0,     -999.0,9,     -999.0,  -999.0,9,     -999.0,     -999.0,9,     -999.0,  28.5932,    35.4891,2,-999.0000,2,     -999.0,9
33RO20150410,     P16N.1,      24,          1,         22,         22,2,20150417,       2317,    -5.4000,  -151.0011,       5295,    42.2,  28.6034,  35.4126,2,  35.4113,2,    198.4,2,   199.0,2,    2.00,2,    4.10,2,    0.09,2,    0.42,4,   1.429,2,   0.930,2,   1.249,2,  2019.2,2,  2330.6,6,   8.0496,2,    25.00,-999.000,9,-999.0000,9, -999.00,9,  28.6043, -999.00,9,  -999.0,9,  -999.0,-999.000,9,-999.000,  -999.0,9, -999.00,9,      6.259,3, -999.00,9,-999.000,-999.0000, -999.00,     -999.0,     -999.0,9,     -999.0,     -999.0,9,     -999.0,  -999.0,9,     -999.0,     -999.0,9,     -999.0,  28.5933,    35.5782,6,-999.0000,2,     -999.0,9
33RO20150410,     P16N.1,      24,          1,         21,         21,2,20150417,       2317,    -5.4000,  -151.0011,       5295,    67.0,  28.5247,  35.4637,2,  35.4690,2,    196.7,2,   197.1,2,    2.00,2,    4.00,2,    0.09,2,    0.44,4,   1.414,2,   0.910,2,   1.223,2,  2020.7,2,  2335.2,2,   8.0503,2,    25.00,-999.000,9,-999.0000,9, -999.00,9,  28.5272, -999.00,9,  -999.0,9,  -999.0,-999.000,9,-999.000,  -999.0,9, -999.00,9,      6.301,3, -999.00,9,-999.000,-999.0000, -999.00,     -999.0,     -999.0,9,     -999.0,     -999.0,9,     -999.0,  -999.0,9,     -999.0,     -999.0,9,     -999.0,  28.5087,    35.6363,2,-999.0000,2,     -999.0,9
33RO20150410,     P16N.1,      24,          1,         20,         20,2,20150417,       2317,    -5.4000,  -151.0011,       5295,    91.9,  28.5039,  35.6551,2,  35.6642,2,    191.0,2,   189.9,2,    2.00,2,    2.90,2,    0.16,2,    0.43,4,   1.426,2,   0.948,2,    1.27,2,  2024.1,2,  2349.1,2,   8.0619,6,    25.02,-999.000,9,-999.0000,9, -999.00,9,  28.5074, -999.00,9,  -999.0,9,  -999.0,-999.000,9,-999.000,  -999.0,9, -999.00,9,      6.256,3, -999.00,9,-999.000,-999.0000, -999.00,     -999.0,     -999.0,9,     -999.0,     -999.0,9,     -999.0,  -999.0,9,     -999.0,     -999.0,9,     -999.0,  28.4819,    35.8324,2,-999.0000,2,     -999.0,9
33RO20150410,     P16N.1,      24,          1,         19,         19,2,20150417,       2317,    -5.4000,  -151.0011,       5295,   133.0,  25.8543,  36.1990,2,  36.2138,2,    162.7,2,   166.9,2,    1.70,2,    5.00,2,    0.54,2,    0.56,4,   1.576,2,   1.039,2,   1.316,2,  2083.7,2,  2383.8,2,   8.0143,2,    25.00,-999.000,9,-999.0000,9, -999.00,9,  25.8558, -999.00,9,  -999.0,9,  -999.0,-999.000,9,-999.000,  -999.0,9, -999.00,9,      6.880,3, -999.00,9,-999.000,-999.0000, -999.00,     -999.0,     -999.0,9,     -999.0,     -999.0,9,     -999.0,  -999.0,9,     -999.0,     -999.0,9,     -999.0,  25.8246,    36.3846,2,-999.0000,2,     -999.0,9
33RO20150410,     P16N.1,      24,          1,         18,         18,2,20150417,       2317,    -5.4000,  -151.0011,       5295,   200.8,  18.9375,  35.5741,2,  35.5367,3,    154.3,2,   146.5,2,    3.10,2,   10.00,2,    0.02,2,    0.87,4,   2.099,6,   1.296,6,   1.267,6,  2140.9,2,  2342.1,2,   7.8448,2,    25.00,-999.000,9,-999.0000,9, -999.00,9,  18.9371, -999.00,9,  -999.0,9,  -999.0,-999.000,9,-999.000,  -999.0,9, -999.00,9,     17.668,3, -999.00,9,-999.000,-999.0000, -999.00,     -999.0,     -999.0,9,     -999.0,     -999.0,9,     -999.0,  -999.0,9,     -999.0,     -999.0,9,     -999.0,  18.9016,    35.7043,2,-999.0000,2,     -999.0,9
33RO20150410,     P16N.1,      24,          1,         17,         17,2,20150417,       2317,    -5.4000,  -151.0011,       5295,   275.3,  11.8868,  34.8596,2,  34.8591,2,     12.2,2,    10.7,2,   24.20,2,   31.70,2,    0.00,2,    2.22,4,   0.766,2,   0.427,2,   0.159,2,  2253.5,2,  2300.6,2,   7.4466,3,    24.99,-999.000,9,-999.0000,9, -999.00,9,  11.8925, -999.00,9,  -999.0,9,  -999.0,-999.000,9,-999.000,  -999.0,9, -999.00,9,     77.876,3, -999.00,9,-999.000,-999.0000, -999.00,     -999.0,     -999.0,9,     -999.0,     -999.0,9,     -999.0,  -999.0,9,     -999.0,     -999.0,9,     -999.0,  11.8510,    35.0235,2,-999.0000,2,     -999.0,9
33RO20150410,     P16N.1,      24,          1,         16,         16,2,20150417,       2317,    -5.4000,  -151.0011,       5295,   366.3,  10.2219,  34.7572,2,  34.7535,2,     24.8,2,    25.0,2,   29.60,2,   34.60,2,    0.00,2,    2.28,4,   0.401,2,   0.218,2,   0.083,2,  2256.8,2,  2301.6,2,   7.4421,3,    25.00,-999.000,9,-999.0000,9, -999.00,9,  10.2208, -999.00,9,  -999.0,9,  -999.0,-999.000,9,-999.000,  -999.0,9, -999.00,9,     67.435,3, -999.00,9,-999.000,-999.0000, -999.00,     -999.0,     -999.0,9,     -999.0,     -999.0,9,     -999.0,  -999.0,9,     -999.0,     -999.0,9,     -999.0,  10.1786,    34.9174,2,-999.0000,2,     -999.0,9
33RO20150410,     P16N.1,      24,          1,         15,         15,2,20150417,       2317,    -5.4000,  -151.0011,       5295,   466.7,   8.5424,  34.6497,2,  34.6476,2,     58.9,2,    58.3,2,   32.70,2,   35.70,2,    0.01,2,    2.26,4,   0.292,2,   0.155,2,   0.051,2,  2247.8,2,  2304.1,2,   7.4771,6,    25.02,-999.000,9,-999.0000,9, -999.00,9,   8.5704, -999.00,9,  -999.0,9,  -999.0,-999.000,9,-999.000,  -999.0,9, -999.00,9,     50.265,3, -999.00,9,-999.000,-999.0000, -999.00,     -999.0,     -999.0,9,     -999.0,     -999.0,9,     -999.0,  -999.0,9,     -999.0,     -999.0,9,     -999.0,   8.4927,    34.8109,2,-999.0000,2,     -999.0,9
33RO20150410,     P16N.1,      24,          1,         14,         14,2,20150417,       2317,    -5.4000,  -151.0011,       5295,   600.3,   6.7995,  34.5638,2,  34.5631,2,     69.1,2,    70.0,2,   44.10,2,   38.30,2,    0.00,2,    2.45,4,   0.099,2,   0.048,2,       0,2,  2257.5,2,  2311.0,2,   7.4663,6,    25.02,-999.000,9,-999.0000,9, -999.00,9,   6.8027, -999.00,9,  -999.0,9,  -999.0,-999.000,9,-999.000,  -999.0,9, -999.00,9,     41.506,3, -999.00,9,-999.000,-999.0000, -999.00,     -999.0,     -999.0,9,     -999.0,     -999.0,9,     -999.0,  -999.0,9,     -999.0,     -999.0,9,     -999.0,   6.7429,    34.7261,2,-999.0000,2,     -999.0,9
33RO20150410,     P16N.1,      24,          1,         13,         13,2,20150417,       2317,    -5.4000,  -151.0011,       5295,   750.2,   5.7586,  34.5470,2,  34.5476,2,     56.2,2,    55.8,2,   60.60,2,   41.70,2,    0.01,2,    2.72,4,   0.008,2,   0.004,2,       0,2,  2285.4,2,  2324.7,2,   7.4222,2,    25.00,-999.000,9,-999.0000,9, -999.00,9,   5.7567, -999.00,9,  -999.0,9,  -999.0,-999.000,9,-999.000,  -999.0,9, -999.00,9,     41.416,3, -999.00,9,-999.000,-999.0000, -999.00,     -999.0,     -999.0,9,     -999.0,     -999.0,9,     -999.0,  -999.0,9,     -999.0,     -999.0,9,     -999.0,   5.6931,    34.7105,2,-999.0000,2,     -999.0,9
33RO20150410,     P16N.1,      24,          1,         12,         12,2,20150417,       2317,    -5.4000,  -151.0011,       5295,   900.0,   4.8473,  34.5398,2,  34.5360,2,     83.1,2,    82.9,2,   72.50,2,   40.00,2,    0.00,2,    2.66,4,   0.000,2,   0.002,2,       0,2,  2285.0,2,  2338.4,2,   7.4656,2,    25.00,-999.000,9,-999.0000,9, -999.00,9,   4.8478, -999.00,9,  -999.0,9,  -999.0,-999.000,9,-999.000,  -999.0,9, -999.00,9,     33.866,3, -999.00,9,-999.000,-999.0000, -999.00,     -999.0,     -999.0,9,     -999.0,     -999.0,9,     -999.0,  -999.0,9,     -999.0,     -999.0,9,     -999.0,   4.7740,    34.6988,2,-999.0000,2,     -999.0,9
33RO20150410,     P16N.1,      24,          1,         11,         11,2,20150417,       2317,    -5.4000,  -151.0011,       5295,  1051.8,   4.1883,  34.5514,2,  34.5521,2,     95.7,2,    95.8,2,   85.10,2,   39.20,2,    0.00,2,    2.66,4,   0.003,2,   0.002,2,       0,2,  2285.3,2,  2353.7,2,   7.4861,2,    25.00,-999.000,9,-999.0000,9, -999.00,9,   4.1878, -999.00,9,  -999.0,9,  -999.0,-999.000,9,-999.000,  -999.0,9, -999.00,9,     30.958,3, -999.00,9,-999.000,-999.0000, -999.00,     -999.0,     -999.0,9,     -999.0,     -999.0,9,     -999.0,  -999.0,9,     -999.0,     -999.0,9,     -999.0,   4.1067,    34.7150,2,-999.0000,2,     -999.0,9
33RO20150410,     P16N.1,      24,          1,         10,         10,2,20150417,       2317,    -5.4000,  -151.0011,       5295,  1233.6,   3.5673,  34.5721,2,  34.5729,2,    102.5,2,   102.5,2,   98.90,2,   39.10,2,    0.00,2,    2.67,4,  -0.002,2,   0.002,2,       0,2,  2304.5,2,  2369.8,2,   7.4966,6,    25.02,-999.000,9,-999.0000,9, -999.00,9,   3.5669, -999.00,9,  -999.0,9,  -999.0,-999.000,9,-999.000,  -999.0,9, -999.00,9,     28.942,3, -999.00,9,-999.000,-999.0000, -999.00,     -999.0,     -999.0,9,     -999.0,     -999.0,9,     -999.0,  -999.0,9,     -999.0,     -999.0,9,     -999.0,   3.4757,    34.7359,2,-999.0000,2,     -999.0,9
33RO20150410,     P16N.1,      24,          1,          9,          9,2,20150417,       2317,    -5.4000,  -151.0011,       5295,  1500.5,   2.9583,  34.6030,2,  34.6036,2,    102.3,2,   102.8,2,  117.20,2,   39.40,2,    0.01,2,    2.74,4,  -0.004,2,   0.001,2,       0,2,  2324.5,6,  2389.6,2,   7.4972,2,    25.00,-999.000,9,-999.0000,9, -999.00,9,   2.9577, -999.00,9,  -999.0,9,  -999.0,-999.000,9,-999.000,  -999.0,9, -999.00,9,     27.896,3, -999.00,9,-999.000,-999.0000, -999.00,     -999.0,     -999.0,9,     -999.0,     -999.0,9,     -999.0,  -999.0,9,     -999.0,     -999.0,9,     -999.0,   2.8508,    34.7667,2,-999.0000,2,     -999.0,9
33RO20150410,     P16N.1,      24,          1,          8,          8,2,20150417,       2317,    -5.4000,  -151.0011,       5295,  1867.5,   2.4510,  34.6316,2,  34.6328,2,    107.0,2,   106.8,2,  131.90,2,   39.20,2,    0.01,2,    2.75,4,   0.000,2,   0.001,2,       0,2,  2335.9,2,  2406.8,2,   7.5061,2,    25.01,-999.000,9,-999.0000,9, -999.00,9,   2.4507, -999.00,9,  -999.0,9,  -999.0,-999.000,9,-999.000,  -999.0,9, -999.00,9,     26.390,3, -999.00,9,-999.000,-999.0000, -999.00,     -999.0,     -999.0,9,     -999.0,     -999.0,9,     -999.0,  -999.0,9,     -999.0,     -999.0,9,     -999.0,   2.3191,    34.7961,2,-999.0000,2,     -999.0,9
33RO20150410,     P16N.1,      24,          1,          7,          7,3,20150417,       2317,    -5.4000,  -151.0011,       5295,  2332.9,   2.0035,  34.6555,2,  34.6570,2,    129.1,2,   129.9,2,  135.50,2,   37.50,2,    0.00,2,    2.65,4,  -0.001,2,   0.001,2,       0,2,  2328.4,3,  2413.3,2,   7.5427,2,    25.00,-999.000,9,-999.0000,9, -999.00,9,   2.0035, -999.00,9,  -999.0,9,  -999.0,-999.000,9,-999.000,  -999.0,9, -999.00,9,     23.064,3, -999.00,9,-999.000,-999.0000, -999.00,     -999.0,     -999.0,9,     -999.0,     -999.0,9,     -999.0,  -999.0,9,     -999.0,     -999.0,9,     -999.0,   1.8381,    34.8204,2,-999.0000,2,     -999.0,9
33RO20150410,     P16N.1,      24,          1,          6,          6,2,20150417,       2317,    -5.4000,  -151.0011,       5295,  2833.0,   1.7403,  34.6743,2,  34.6737,2,    139.9,2,   139.8,2,  141.10,2,   36.80,2,    0.01,2,    2.60,4,   0.012,3,   0.001,2,       0,2,  2330.3,2,  2420.3,2,   7.5639,2,    25.00,-999.000,9,-999.0000,9, -999.00,9,   1.7404, -999.00,9,  -999.0,9,  -999.0,-999.000,9,-999.000,  -999.0,9, -999.00,9,     21.042,3, -999.00,9,-999.000,-999.0000, -999.00,     -999.0,     -999.0,9,     -999.0,     -999.0,9,     -999.0,  -999.0,9,     -999.0,     -999.0,9,     -999.0,   1.5341,    34.8372,2,-999.0000,2,     -999.0,9
33RO20150410,     P16N.1,      24,          1,          5,          5,2,20150417,       2317,    -5.4000,  -151.0011,       5295,  3333.0,   1.5751,  34.6834,2,  34.6831,2,    153.4,2,   153.3,2,  139.30,2,   36.00,2,    0.01,2,    2.53,4,   0.002,3,   0.000,2,       0,2,  2321.1,2,  2418.0,2,   7.5820,2,    24.99,-999.000,9,-999.0000,9, -999.00,9,   1.5748, -999.00,9,  -999.0,9,  -999.0,-999.000,9,-999.000,  -999.0,9, -999.00,9,     20.606,3, -999.00,9,-999.000,-999.0000, -999.00,     -999.0,     -999.0,9,     -999.0,     -999.0,9,     -999.0,  -999.0,9,     -999.0,     -999.0,9,     -999.0,   1.3239,    34.8467,2,-999.0000,2,     -999.0,9
33RO20150410,     P16N.1,      24,          1,          4,          4,2,20150417,       2317,    -5.4000,  -151.0011,       5295,  3832.2,   1.4566,  34.6915,2,  34.6914,2,    163.6,2,   164.0,2,  137.30,6,   35.20,6,    0.00,6,    2.48,4,   0.008,3,   0.001,2,       0,2,  2312.0,2,  2413.5,6,   7.5937,2,    25.01,-999.000,9,-999.0000,9, -999.00,9,   1.4564, -999.00,9,  -999.0,9,  -999.0,-999.000,9,-999.000,  -999.0,9, -999.00,9,     19.462,3, -999.00,9,-999.000,-999.0000, -999.00,     -999.0,     -999.0,9,     -999.0,     -999.0,9,     -999.0,  -999.0,9,     -999.0,     -999.0,9,     -999.0,   1.1569,    34.8550,6,-999.0000,2,     -999.0,9
33RO20150410,     P16N.1,      24,          1,          3,          3,2,20150417,       2317,    -5.4000,  -151.0011,       5295,  4334.0,   1.3602,  34.6989,2,  34.6986,2,    182.2,2,   181.2,2,  128.50,6,   34.10,6,    0.00,6,    2.37,4,  -0.001,2,   0.002,6,       0,6,  2289.4,2,  2394.9,2,   7.6026,2,    25.00,-999.000,9,-999.0000,9, -999.00,9,   1.3603, -999.00,9,  -999.0,9,  -999.0,-999.000,9,-999.000,  -999.0,9, -999.00,9,     19.130,3, -999.00,9,-999.000,-999.0000, -999.00,     -999.0,     -999.0,9,     -999.0,     -999.0,9,     -999.0,  -999.0,9,     -999.0,     -999.0,9,     -999.0,   1.0083,    34.8623,2,-999.0000,2,     -999.0,9
33RO20150410,     P16N.1,      24,          1,          2,          2,2,20150417,       2317,    -5.4000,  -151.0011,       5295,  4833.4,   1.3359,  34.7021,2,  34.7016,2,    187.6,2,   186.6,2,  126.80,6,   33.80,6,    0.00,6,    2.34,4,   0.003,2,   0.003,2,       0,2,  2285.0,2,  2390.4,2,   7.6054,6,    25.02,-999.000,9,-999.0000,9, -999.00,9,   1.3361, -999.00,9,  -999.0,9,  -999.0,-999.000,9,-999.000,  -999.0,9, -999.00,9,     18.877,3, -999.00,9,-999.000,-999.0000, -999.00,     -999.0,     -999.0,9,     -999.0,     -999.0,9,     -999.0,  -999.0,9,     -999.0,     -999.0,9,     -999.0,   0.9270,    34.8652,2,-999.0000,2,     -999.0,9
33RO20150410,     P16N.1,      24,          1,          1,          1,2,20150417,       2317,    -5.4000,  -151.0011,       5295,  5284.5,   1.3635,  34.7031,2,  34.7030,2,    191.6,2,   193.8,2,  124.50,6,   33.40,6,    0.01,6,    2.32,4,   0.025,3,   0.007,2,       0,2,  2279.3,6,  2383.8,2,   7.6055,2,    25.01,-999.000,9,-999.0000,9, -999.00,9,   1.3636, -999.00,9,  -999.0,9,  -999.0,-999.000,9,-999.000,  -999.0,9, -999.00,9,     18.830,3, -999.00,9,-999.000,-999.0000, -999.00,     -999.0,     -999.0,9,     -999.0,     -999.0,9,     -999.0,  -999.0,9,     -999.0,     -999.0,9,     -999.0,   0.8988,    34.8666,2,-999.0000,2,     -999.0,9