BOTTLE,20210709CCHSIOCBG
EXPOCODE,SECT_ID,STNNBR,CASTNO,SAMPNO,BTLNBR,BTLNBR_FLAG_W,DATE,TIME,LATITUDE,LONGITUDE,DEPTH,CTDPRS,CTDTMP,CTDSAL,CTDSAL_FLAG_W,SALNTY,SALNTY_FLAG_W,CTDOXY,CTDOXY_FLAG_W,OXYGEN,OXYGEN_FLAG_W,SILCAT,SILCAT_FLAG_W,NITRAT,NITRAT_FLAG_W,NITRIT,NITRIT_FLAG_W,PHSPHT,PHSPHT_FLAG_W,CFC-11,CFC-11_FLAG_W,CFC-12,CFC-12_FLAG_W,SF6,SF6_FLAG_W,TCARBN,TCARBN_FLAG_W,ALKALI,ALKALI_FLAG_W,PH_TOT,PH_TOT_FLAG_W,PH_TMP,TRITUM,TRITUM_FLAG_W,HELIUM,HELIUM_FLAG_W,DELHE3,DELHE3_FLAG_W,REFTMP,DELC13,DELC13_FLAG_W,DELC14,DELC14_FLAG_W,C14ERR,NEON,NEON_FLAG_W,NEONER,DOC,DOC_FLAG_W,TDN,TDN_FLAG_W,N2O,N2O_FLAG_W,ARGON,ARGON_FLAG_W,TRITER,HELIER,DELHER,ARGONER,KRYPTON,KRYPTON_FLAG_W,KRYPTONER,XENON,XENON_FLAG_W,XENONER,14C-DOC,14C-DOC_FLAG_W,14C-DOCERR,13C-DOC,13C-DOC_FLAG_W,13C-DOCERR,THETA,SALTREF,SALTREF_FLAG_W,SBE35,SBE35_FLAG_W,CHLORA,CHLORA_FLAG_W
,,,,,,,,,,,METERS,DBAR,ITS-90,PSS-78,,PSS-78,,UMOL/KG,,UMOL/KG,,UMOL/KG,,UMOL/KG,,UMOL/KG,,UMOL/KG,,PMOL/KG,,PMOL/KG,,FMOL/KG,,UMOL/KG,,UMOL/KG,,,,DEG C,TU,,NMOL/KG,,PERCNT,,DEG C,/MILLE,,/MILLE,,/MILLE,NMOL/KG,,NMOL/KG,UMOL/KG,,UMOL/KG,,NMOL/KG,,UMOL/KG,,TU,NMOL/KG,PERCNT,UMOL/KG,NMOL/KG,,NMOL/KG,NMOL/KG,,NMOL/KG,/MILLE,,/MILLE,/MILLE,,/MILLE,DEG C,G/KG,,ITS-90,,MG/M3,
33RO20150410,     P16N.1,     107,          1,         24,         24,2,20150510,       0529,    20.0009,  -152.0008,       5236,    14.7,  24.7537,  34.8645,2,  34.8635,2,    205.4,2,   206.7,2,    1.10,2,    0.00,2,    0.00,2,    0.20,2,   1.735,2,   1.085,2,     1.4,2,  1985.8,2,  2297.4,6,   8.0632,2,    24.98,-999.000,9,-999.0000,9, -999.00,9,  24.7519, -999.00,9,  -999.0,9,  -999.0,-999.000,9,-999.000,    75.0,2,    4.30,2,      6.587,3, -999.00,9,-999.000,-999.0000, -999.00,     -999.0,     -999.0,9,     -999.0,     -999.0,9,     -999.0,  -999.0,9,     -999.0,     -999.0,9,     -999.0,  24.7505,    35.0279,2,-999.0000,9,     -999.0,9
33RO20150410,     P16N.1,     107,          1,         23,         23,2,20150510,       0529,    20.0009,  -152.0008,       5236,    32.8,  24.7025,  34.9128,2,  34.9397,2,    206.4,2,   207.3,2,    1.10,2,    0.00,2,    0.00,2,    0.19,2,   1.708,2,   1.081,2,   1.378,2,  1991.4,2,  2302.9,2,   8.0616,6,    24.98,-999.000,9,-999.0000,9, -999.00,9,  24.6988, -999.00,9,  -999.0,9,  -999.0,-999.000,9,-999.000,    74.5,2,    3.80,2,      6.440,3, -999.00,9,-999.000,-999.0000, -999.00,     -999.0,     -999.0,9,     -999.0,     -999.0,9,     -999.0,  -999.0,9,     -999.0,     -999.0,9,     -999.0,  24.6955,    35.1044,2,-999.0000,9,     -999.0,9
33RO20150410,     P16N.1,     107,          1,         22,         22,2,20150510,       0529,    20.0009,  -152.0008,       5236,    58.0,  23.1933,  35.3214,2,  35.3268,2,    214.1,2,   213.3,2,    1.10,2,    0.00,2,    0.00,2,    0.14,2,   1.870,6,   1.159,6,   1.404,6,  2021.2,2,  2327.9,2,   8.0453,2,    24.97,-999.000,9,-999.0000,9, -999.00,9,  23.2163, -999.00,9,  -999.0,9,  -999.0,-999.000,9,-999.000,    75.7,2,    3.90,2,      6.967,3, -999.00,9,-999.000,-999.0000, -999.00,     -999.0,     -999.0,9,     -999.0,     -999.0,9,     -999.0,  -999.0,9,     -999.0,     -999.0,9,     -999.0,  23.1814,    35.4934,2,-999.0000,9,     -999.0,9
33RO20150410,     P16N.1,     107,          1,         21,         21,2,20150510,       0529,    20.0009,  -152.0008,       5236,    82.4,  21.7794,  35.2644,2,  35.2780,2,    202.8,2,   206.9,2,    1.50,2,    0.00,2,    0.00,2,    0.17,2,   1.962,2,   1.221,2,   1.429,2,  2038.0,2,  2324.3,2,   8.0099,2,    24.98,-999.000,9,-999.0000,9, -999.00,9,  21.8026, -999.00,9,  -999.0,9,  -999.0,-999.000,9,-999.000,    66.5,2,    3.30,2,      7.699,3, -999.00,9,-999.000,-999.0000, -999.00,     -999.0,     -999.0,9,     -999.0,     -999.0,9,     -999.0,  -999.0,9,     -999.0,     -999.0,9,     -999.0,  21.7632,    35.4443,2,-999.0000,9,     -999.0,9
33RO20150410,     P16N.1,     107,          1,         20,         20,2,20150510,       0529,    20.0009,  -152.0008,       5236,   116.4,  20.6016,  35.2078,2,  35.2058,2,    198.3,2,   198.5,2,    1.90,2,    0.70,2,    0.17,2,    0.23,2,   2.092,2,   1.281,2,   1.484,2,  2052.2,2,  2317.8,2,   7.9763,6,    25.00,-999.000,9,-999.0000,9, -999.00,9,  20.6080, -999.00,9,  -999.0,9,  -999.0,-999.000,9,-999.000,    61.1,2,    5.00,2,      8.000,3, -999.00,9,-999.000,-999.0000, -999.00,     -999.0,     -999.0,9,     -999.0,     -999.0,9,     -999.0,  -999.0,9,     -999.0,     -999.0,9,     -999.0,  20.5796,    35.3718,6,-999.0000,9,     -999.0,9
33RO20150410,     P16N.1,     107,          1,         19,         19,2,20150510,       0529,    20.0009,  -152.0008,       5236,   170.0,  17.2374,  34.7041,2,  34.7049,2,    188.3,2,   188.8,2,    3.90,2,    4.20,2,    0.02,2,    0.48,2,   2.431,2,   1.477,2,   1.551,2,  2069.3,2,  2285.4,2,   7.8888,2,    24.97,-999.000,9,-999.0000,9, -999.00,9,  17.2434, -999.00,9,  -999.0,9,  -999.0,-999.000,9,-999.000,    52.1,2,    7.40,2,     11.382,3, -999.00,9,-999.000,-999.0000, -999.00,     -999.0,     -999.0,9,     -999.0,     -999.0,9,     -999.0,  -999.0,9,     -999.0,     -999.0,9,     -999.0,  17.2091,    34.8686,2,-999.0000,9,     -999.0,9
33RO20150410,     P16N.1,     107,          1,         18,         18,2,20150510,       0529,    20.0009,  -152.0008,       5236,   249.0,  12.2995,  34.1657,2,  34.1647,2,    190.3,2,   188.9,2,   10.70,2,   11.20,2,    0.01,2,    0.95,2,   3.053,6,   1.755,6,   1.434,6,  2094.5,2,  2255.7,2,   7.7730,2,    24.97,-999.000,9,-999.0000,9, -999.00,9,  12.2981, -999.00,9,  -999.0,9,  -999.0,-999.000,9,-999.000,    48.7,2,   13.30,2,     16.667,3, -999.00,9,-999.000,-999.0000, -999.00,     -999.0,     -999.0,9,     -999.0,     -999.0,9,     -999.0,  -999.0,9,     -999.0,     -999.0,9,     -999.0,  12.2667,    34.3258,2,-999.0000,9,     -999.0,9
33RO20150410,     P16N.1,     107,          1,         17,         17,2,20150510,       0529,    20.0009,  -152.0008,       5236,   333.5,   9.8512,  34.1311,2,  34.1311,2,    153.6,2,   163.7,2,   22.50,2,   19.30,2,    0.00,2,    1.51,2,   3.073,2,   1.694,2,   1.151,2,  2146.5,6,  2263.8,2,   7.6607,2,    24.97,-999.000,9,-999.0000,9, -999.00,9,   9.8529, -999.00,9,  -999.0,9,  -999.0,-999.000,9,-999.000,    43.7,2, -999.00,9,     24.288,3, -999.00,9,-999.000,-999.0000, -999.00,     -999.0,     -999.0,9,     -999.0,     -999.0,9,     -999.0,  -999.0,9,     -999.0,     -999.0,9,     -999.0,   9.8130,    34.2921,2,-999.0000,9,     -999.0,9
33RO20150410,     P16N.1,     107,          1,         16,         16,2,20150510,       0529,    20.0009,  -152.0008,       5236,   431.3,   6.9565,  34.0617,2,  34.0632,2,     93.9,2,    90.5,2,   50.40,2,   31.80,2,    0.00,2,    2.37,2,   2.060,2,   1.025,2,   0.404,2,  2234.9,2,  2283.6,2,   7.4490,2,    24.97,-999.000,9,-999.0000,9, -999.00,9,   6.9561, -999.00,9,  -999.0,9,  -999.0,-999.000,9,-999.000,    45.2,2, -999.00,9,     31.374,3, -999.00,9,-999.000,-999.0000, -999.00,     -999.0,     -999.0,9,     -999.0,     -999.0,9,     -999.0,  -999.0,9,     -999.0,     -999.0,9,     -999.0,   6.9162,    34.2239,2,-999.0000,9,     -999.0,9
33RO20150410,     P16N.1,     107,          1,         15,         15,2,20150510,       0529,    20.0009,  -152.0008,       5236,   548.3,   5.5453,  34.1842,2,  34.1832,2,     37.0,2,    36.7,2,   75.30,2,   38.80,2,    0.00,2,    2.90,2,   0.536,2,   0.269,2,   0.082,2,  2298.6,2,  2312.0,2,   7.3382,2,    24.98,-999.000,9,-999.0000,9, -999.00,9,   5.5450, -999.00,9,  -999.0,9,  -999.0,-999.000,9,-999.000,    42.3,2, -999.00,9,     42.380,3, -999.00,9,-999.000,-999.0000, -999.00,     -999.0,     -999.0,9,     -999.0,     -999.0,9,     -999.0,  -999.0,9,     -999.0,     -999.0,9,     -999.0,   5.4994,    34.3444,2,-999.0000,9,     -999.0,9
33RO20150410,     P16N.1,     107,          1,         14,         14,2,20150510,       0529,    20.0009,  -152.0008,       5236,   700.6,   4.8713,  34.3817,2,  34.3850,2,     27.3,2,    29.1,2,   90.60,2,   41.20,2,    0.00,2,    3.05,2,   0.101,2,   0.048,2,   0.082,3,  2325.7,2,  2344.3,2,   7.3494,6,    25.03,-999.000,9,-999.0000,9, -999.00,9,   4.8724, -999.00,9,  -999.0,9,  -999.0,-999.000,9,-999.000,    40.4,2, -999.00,9,     45.926,3, -999.00,9,-999.000,-999.0000, -999.00,     -999.0,     -999.0,9,     -999.0,     -999.0,9,     -999.0,  -999.0,9,     -999.0,     -999.0,9,     -999.0,   4.8153,    34.5471,2,-999.0000,9,     -999.0,9
33RO20150410,     P16N.1,     107,          1,         13,         13,2,20150510,       0529,    20.0009,  -152.0008,       5236,   849.0,   4.3364,  34.4668,2,  34.4655,2,     39.6,2,    39.3,2,  100.60,2,   41.40,2,    0.00,2,    3.04,2,   0.029,2,   0.018,2,   0.028,3,  2334.0,2,  2361.3,2,   7.3763,2,    24.99,-999.000,9,-999.0000,9, -999.00,9,   4.3347, -999.00,9,  -999.0,9,  -999.0,-999.000,9,-999.000,    39.5,2, -999.00,9,     42.545,3, -999.00,9,-999.000,-999.0000, -999.00,     -999.0,     -999.0,9,     -999.0,     -999.0,9,     -999.0,  -999.0,9,     -999.0,     -999.0,9,     -999.0,   4.2710,    34.6281,2,-999.0000,9,     -999.0,9
33RO20150410,     P16N.1,     107,          1,         12,         12,2,20150510,       0529,    20.0009,  -152.0008,       5236,   999.6,   3.9502,  34.5195,2,  34.5181,2,     44.5,2,    44.6,2,  107.70,2,   41.70,2,    0.00,2,    3.05,2,   0.007,2,   0.004,2,   0.036,3,  2341.1,2,  2373.4,2,   7.3883,6,    25.02,-999.000,9,-999.0000,9, -999.00,9,   3.9506, -999.00,9,  -999.0,9,  -999.0,-999.000,9,-999.000,    37.7,2, -999.00,9,     39.793,3, -999.00,9,-999.000,-999.0000, -999.00,     -999.0,     -999.0,9,     -999.0,     -999.0,9,     -999.0,  -999.0,9,     -999.0,     -999.0,9,     -999.0,   3.8749,    34.6808,2,-999.0000,9,     -999.0,9
33RO20150410,     P16N.1,     107,          1,         11,         11,2,20150510,       0529,    20.0009,  -152.0008,       5236,  1160.2,   3.5137,  34.5433,2,  34.5431,2,     51.3,2,    51.0,2,  117.20,2,   41.70,2,    0.00,2,    3.03,2,  -0.002,2,   0.003,2,   0.047,3,  2349.0,2,  2384.9,2,   7.3989,2,    24.97,-999.000,9,-999.0000,9, -999.00,9,   3.5136, -999.00,9,  -999.0,9,  -999.0,-999.000,9,-999.000,    38.9,2, -999.00,9,     38.348,3, -999.00,9,-999.000,-999.0000, -999.00,     -999.0,     -999.0,9,     -999.0,     -999.0,9,     -999.0,  -999.0,9,     -999.0,     -999.0,9,     -999.0,   3.4288,    34.7060,2,-999.0000,9,     -999.0,9
33RO20150410,     P16N.1,     107,          1,         10,         10,2,20150510,       0529,    20.0009,  -152.0008,       5236,  1401.1,   2.9509,  34.5748,2,  34.5744,2,     60.3,2,    60.6,2,  129.60,2,   41.50,2,    0.00,2,    3.00,2,  -0.003,2,   0.001,2,       0,2,  2357.4,2,  2398.6,2,   7.4151,2,    24.99,-999.000,9,-999.0000,9, -999.00,9,   2.9511, -999.00,9,  -999.0,9,  -999.0,-999.000,9,-999.000,    37.1,2, -999.00,9,     33.833,3, -999.00,9,-999.000,-999.0000, -999.00,     -999.0,     -999.0,9,     -999.0,     -999.0,9,     -999.0,  -999.0,9,     -999.0,     -999.0,9,     -999.0,   2.8518,    34.7374,2,-999.0000,9,     -999.0,9
33RO20150410,     P16N.1,     107,          1,          9,          9,2,20150510,       0529,    20.0009,  -152.0008,       5236,  1729.4,   2.3835,  34.6078,2,  34.6070,2,     78.0,2,    77.9,2,  141.50,2,   40.40,2,    0.00,2,    2.91,2,  -0.006,2,  -0.002,2,       0,2,  2356.9,2,  2412.5,2,   7.4471,2,    24.98,-999.000,9,-999.0000,9, -999.00,9,   2.3838, -999.00,9,  -999.0,9,  -999.0,-999.000,9,-999.000,    36.3,2, -999.00,9,     31.096,3, -999.00,9,-999.000,-999.0000, -999.00,     -999.0,     -999.0,9,     -999.0,     -999.0,9,     -999.0,  -999.0,9,     -999.0,     -999.0,9,     -999.0,   2.2642,    34.7702,2,-999.0000,9,     -999.0,9
33RO20150410,     P16N.1,     107,          1,          8,          8,2,20150510,       0529,    20.0009,  -152.0008,       5236,  2127.8,   1.9686,  34.6372,2,  34.6333,2,     98.2,2,    99.1,2,  148.70,2,   39.00,2,    0.00,2,    2.78,2,   0.006,3,   0.002,2,       0,2,  2353.5,2,  2420.8,2,   7.4863,2,    24.99,-999.000,9,-999.0000,9, -999.00,9,   1.9686, -999.00,9,  -999.0,9,  -999.0,-999.000,9,-999.000,    38.5,2, -999.00,9,     26.631,3, -999.00,9,-999.000,-999.0000, -999.00,     -999.0,     -999.0,9,     -999.0,     -999.0,9,     -999.0,  -999.0,9,     -999.0,     -999.0,9,     -999.0,   1.8218,    34.7966,3,-999.0000,9,     -999.0,9
33RO20150410,     P16N.1,     107,          1,          7,          7,2,20150510,       0529,    20.0009,  -152.0008,       5236,  2517.7,   1.7626,  34.6542,2,  34.6593,4,    109.2,2,   109.8,2,  152.20,2,   38.30,2,    0.00,2,    2.71,2,   0.002,2,  -0.001,2,       0,2,  2350.4,2,  2426.3,2,   7.5080,2,    24.99,-999.000,9,-999.0000,9, -999.00,9,   1.7624, -999.00,9,  -999.0,9,  -999.0,-999.000,9,-999.000,    39.4,2, -999.00,9,     24.629,3, -999.00,9,-999.000,-999.0000, -999.00,     -999.0,     -999.0,9,     -999.0,     -999.0,9,     -999.0,  -999.0,9,     -999.0,     -999.0,9,     -999.0,   1.5851,    34.8227,3,-999.0000,9,     -999.0,9
33RO20150410,     P16N.1,     107,          1,          6,          6,2,20150510,       0529,    20.0009,  -152.0008,       5236,  2932.3,   1.6052,  34.6665,2,  34.6678,2,    121.0,2,   121.5,2,  154.10,2,   37.60,2,    0.00,2,    2.67,2,  -0.003,2,  -0.001,2,       0,2,  2346.2,6,  2426.9,2,   7.5279,2,    25.02,-999.000,9,-999.0000,9, -999.00,9,   1.6051, -999.00,9,  -999.0,9,  -999.0,-999.000,9,-999.000,    38.3,2, -999.00,9,     23.317,3, -999.00,9,-999.000,-999.0000, -999.00,     -999.0,     -999.0,9,     -999.0,     -999.0,9,     -999.0,  -999.0,9,     -999.0,     -999.0,9,     -999.0,   1.3925,    34.8313,2,-999.0000,9,     -999.0,9
33RO20150410,     P16N.1,     107,          1,          5,          5,2,20150510,       0529,    20.0009,  -152.0008,       5236,  3303.2,   1.5357,  34.6759,2,  34.6758,2,    129.5,2,   129.8,2,  154.30,2,   36.90,2,    0.00,2,    2.62,2,  -0.003,2,  -0.001,2,       0,2,  2341.6,2,  2427.9,2,   7.5445,2,    24.99,-999.000,9,-999.0000,9, -999.00,9,   1.5359, -999.00,9,  -999.0,9,  -999.0,-999.000,9,-999.000,    39.7,2, -999.00,9,     21.613,3, -999.00,9,-999.000,-999.0000, -999.00,     -999.0,     -999.0,9,     -999.0,     -999.0,9,     -999.0,  -999.0,9,     -999.0,     -999.0,9,     -999.0,   1.2885,    34.8393,2,-999.0000,9,     -999.0,9
33RO20150410,     P16N.1,     107,          1,          4,          4,2,20150510,       0529,    20.0009,  -152.0008,       5236,  3758.5,   1.4827,  34.6829,2,  34.6831,2,    141.5,2,   141.2,2,  150.50,6,   36.30,6,    0.00,6,    2.56,6,   0.004,2,   0.001,2,       0,2,  2332.8,2,  2425.2,2,   7.5618,2,    24.99,-999.000,9,-999.0000,9, -999.00,9,   1.4827, -999.00,9,  -999.0,9,  -999.0,-999.000,9,-999.000,    38.9,2, -999.00,9,     20.685,3, -999.00,9,-999.000,-999.0000, -999.00,     -999.0,     -999.0,9,     -999.0,     -999.0,9,     -999.0,  -999.0,9,     -999.0,     -999.0,9,     -999.0,   1.1901,    34.8466,2,-999.0000,9,     -999.0,9
33RO20150410,     P16N.1,     107,          1,          3,          3,2,20150510,       0529,    20.0009,  -152.0008,       5236,  4268.2,   1.4505,  34.6890,2,  34.6900,2,    152.2,2,   152.4,2,  144.20,6,   35.30,6,    0.00,6,    2.50,6,  -0.001,6,   0.003,6,       0,6,  2322.4,2,  2419.1,2,   7.5778,6,    24.99,-999.000,9,-999.0000,9, -999.00,9,   1.4507, -999.00,9,  -999.0,9,  -999.0,-999.000,9,-999.000,    37.9,2, -999.00,9,     20.385,3, -999.00,9,-999.000,-999.0000, -999.00,     -999.0,     -999.0,9,     -999.0,     -999.0,9,     -999.0,  -999.0,9,     -999.0,     -999.0,9,     -999.0,   1.1033,    34.8536,2,-999.0000,9,     -999.0,9
33RO20150410,     P16N.1,     107,          1,          2,          2,2,20150510,       0529,    20.0009,  -152.0008,       5236,  4766.0,   1.4455,  34.6937,2,  34.6934,2,    161.8,2,   162.0,2,  137.70,6,   34.70,6,    0.00,6,    2.44,6,  -0.001,2,   0.001,2,       0,2,  2310.7,2,  2413.4,6,   7.5883,6,    25.03,-999.000,9,-999.0000,9, -999.00,9,   1.4456, -999.00,9,  -999.0,9,  -999.0,-999.000,9,-999.000,    36.7,2, -999.00,9,     19.808,3, -999.00,9,-999.000,-999.0000, -999.00,     -999.0,     -999.0,9,     -999.0,     -999.0,9,     -999.0,  -999.0,9,     -999.0,     -999.0,9,     -999.0,   1.0410,    34.8570,6,-999.0000,9,     -999.0,9
33RO20150410,     P16N.1,     107,          1,          1,          1,2,20150510,       0529,    20.0009,  -152.0008,       5236,  5226.4,   1.4529,  34.6971,2,  34.6971,2,    171.1,2,   169.6,2,  132.70,6,   34.20,6,    0.00,6,    2.41,6,   0.001,2,   0.001,2,       0,2,  2303.7,6,  2405.6,2,   7.5943,2,    25.03,-999.000,9,-999.0000,9, -999.00,9,   1.4531, -999.00,9,  -999.0,9,  -999.0,-999.000,9,-999.000,    36.1,2, -999.00,9,     19.350,3, -999.00,9,-999.000,-999.0000, -999.00,     -999.0,     -999.0,9,     -999.0,     -999.0,9,     -999.0,  -999.0,9,     -999.0,     -999.0,9,     -999.0,   0.9923,    34.8607,2,-999.0000,9,     -999.0,9