BOTTLE,20210709CCHSIOCBG
EXPOCODE,SECT_ID,STNNBR,CASTNO,SAMPNO,BTLNBR,BTLNBR_FLAG_W,DATE,TIME,LATITUDE,LONGITUDE,DEPTH,CTDPRS,CTDTMP,CTDSAL,CTDSAL_FLAG_W,SALNTY,SALNTY_FLAG_W,CTDOXY,CTDOXY_FLAG_W,OXYGEN,OXYGEN_FLAG_W,SILCAT,SILCAT_FLAG_W,NITRAT,NITRAT_FLAG_W,NITRIT,NITRIT_FLAG_W,PHSPHT,PHSPHT_FLAG_W,CFC-11,CFC-11_FLAG_W,CFC-12,CFC-12_FLAG_W,SF6,SF6_FLAG_W,TCARBN,TCARBN_FLAG_W,ALKALI,ALKALI_FLAG_W,PH_TOT,PH_TOT_FLAG_W,PH_TMP,TRITUM,TRITUM_FLAG_W,HELIUM,HELIUM_FLAG_W,DELHE3,DELHE3_FLAG_W,REFTMP,DELC13,DELC13_FLAG_W,DELC14,DELC14_FLAG_W,C14ERR,NEON,NEON_FLAG_W,NEONER,DOC,DOC_FLAG_W,TDN,TDN_FLAG_W,N2O,N2O_FLAG_W,ARGON,ARGON_FLAG_W,TRITER,HELIER,DELHER,ARGONER,KRYPTON,KRYPTON_FLAG_W,KRYPTONER,XENON,XENON_FLAG_W,XENONER,14C-DOC,14C-DOC_FLAG_W,14C-DOCERR,13C-DOC,13C-DOC_FLAG_W,13C-DOCERR,THETA,SALTREF,SALTREF_FLAG_W,SBE35,SBE35_FLAG_W,CHLORA,CHLORA_FLAG_W
,,,,,,,,,,,METERS,DBAR,ITS-90,PSS-78,,PSS-78,,UMOL/KG,,UMOL/KG,,UMOL/KG,,UMOL/KG,,UMOL/KG,,UMOL/KG,,PMOL/KG,,PMOL/KG,,FMOL/KG,,UMOL/KG,,UMOL/KG,,,,DEG C,TU,,NMOL/KG,,PERCNT,,DEG C,/MILLE,,/MILLE,,/MILLE,NMOL/KG,,NMOL/KG,UMOL/KG,,UMOL/KG,,NMOL/KG,,UMOL/KG,,TU,NMOL/KG,PERCNT,UMOL/KG,NMOL/KG,,NMOL/KG,NMOL/KG,,NMOL/KG,/MILLE,,/MILLE,/MILLE,,/MILLE,DEG C,G/KG,,ITS-90,,MG/M3,
33RO20150410,     P16N.1,     101,          1,         24,         24,2,20150508,       0946,    16.9995,  -152.0009,       5446,    10.6,  25.4697,  34.4237,2,  34.4241,2,    203.1,2,   203.7,2,    1.10,2,    0.00,2,    0.01,2,    0.23,2,   1.658,2,   1.039,2,   1.403,2,  1958.9,6,  2269.1,2,   8.0669,2,    25.00,-999.000,9,-999.0000,9, -999.00,9,  25.4688,    0.96,2,    31.2,2,     2.2,-999.000,9,-999.000,    70.8,2,    3.90,2,      6.363,3, -999.00,9,-999.000,-999.0000, -999.00,     -999.0,     -999.0,9,     -999.0,     -999.0,9,     -999.0,  -999.0,9,     -999.0,     -999.0,9,     -999.0,  25.4674,    34.5864,2,-999.0000,9,     -999.0,9
33RO20150410,     P16N.1,     101,          1,         23,         23,2,20150508,       0946,    16.9995,  -152.0009,       5446,    25.7,  25.4693,  34.4234,2,  34.4260,2,    203.7,2,   203.5,2,    1.10,2,    0.00,2,    0.01,2,    0.22,2,   1.583,3,   1.055,6,   1.373,6,  1960.3,2,  2269.3,2,   8.0667,2,    25.01,-999.000,9,-999.0000,9, -999.00,9,  25.4680,    0.92,2,    34.0,2,     2.1,-999.000,9,-999.000,    71.2,2,    4.90,2,      6.376,3, -999.00,9,-999.000,-999.0000, -999.00,     -999.0,     -999.0,9,     -999.0,     -999.0,9,     -999.0,  -999.0,9,     -999.0,     -999.0,9,     -999.0,  25.4637,    34.5884,2,-999.0000,9,     -999.0,9
33RO20150410,     P16N.1,     101,          1,         22,         22,2,20150508,       0946,    16.9995,  -152.0009,       5446,    50.7,  24.8189,  35.0214,2,  35.0255,2,    208.3,2,   207.7,2,    1.10,2,    0.00,2,    0.01,2,    0.20,2,   1.718,2,   1.082,2,     1.4,2,  1993.5,2,  2308.2,2,   8.0623,6,    25.01,-999.000,9,-999.0000,9, -999.00,9,  24.8189,    0.99,2,    29.5,2,     2.4,-999.000,9,-999.000,    73.0,2,    4.00,2,      6.502,3, -999.00,9,-999.000,-999.0000, -999.00,     -999.0,     -999.0,9,     -999.0,     -999.0,9,     -999.0,  -999.0,9,     -999.0,     -999.0,9,     -999.0,  24.8080,    35.1907,2,-999.0000,9,     -999.0,9
33RO20150410,     P16N.1,     101,          1,         21,         21,2,20150508,       0946,    16.9995,  -152.0009,       5446,    71.0,  24.4911,  35.1528,2,  35.1425,2,    209.5,2,   209.3,2,    1.20,2,    0.00,2,    0.01,2,    0.18,2,   1.764,2,   1.097,2,   1.455,2,  2004.4,2,  2316.0,2,   8.0596,6,    25.02,-999.000,9,-999.0000,9, -999.00,9,  24.4868,    0.93,2,    26.8,2,     2.3,-999.000,9,-999.000,    73.4,2,    4.40,2,      6.782,3, -999.00,9,-999.000,-999.0000, -999.00,     -999.0,     -999.0,9,     -999.0,     -999.0,9,     -999.0,  -999.0,9,     -999.0,     -999.0,9,     -999.0,  24.4759,    35.3082,2,-999.0000,9,     -999.0,9
33RO20150410,     P16N.1,     101,          1,         20,         20,2,20150508,       0946,    16.9995,  -152.0009,       5446,   100.2,  23.2736,  35.3108,2,  35.3101,2,    212.0,2,   212.0,2,    1.20,2,    0.00,2,    0.01,2,    0.18,2,   1.858,2,   1.149,2,   1.449,2,  2018.7,2,  2326.7,6,   8.0475,2,    25.01,-999.000,9,-999.0000,9, -999.00,9,  23.2747,    0.93,2,    27.7,2,     2.2,-999.000,9,-999.000,    68.8,2,    3.60,2,      7.018,3, -999.00,9,-999.000,-999.0000, -999.00,     -999.0,     -999.0,9,     -999.0,     -999.0,9,     -999.0,  -999.0,9,     -999.0,     -999.0,9,     -999.0,  23.2529,    35.4766,2,-999.0000,9,     -999.0,9
33RO20150410,     P16N.1,     101,          1,         19,         19,2,20150508,       0946,    16.9995,  -152.0009,       5446,   151.0,  20.0639,  35.0747,2,  35.0887,2,    190.0,2,   190.5,2,    2.20,2,    1.00,2,    0.05,2,    0.32,2,   2.166,2,   1.310,2,   1.479,2,  2061.0,2,  2313.0,2,   7.9476,2,    25.01,-999.000,9,-999.0000,9, -999.00,9,  20.0670,    0.60,2,    43.3,2,     2.2,-999.000,9,-999.000,    55.8,2,    4.80,2,      9.045,3, -999.00,9,-999.000,-999.0000, -999.00,     -999.0,     -999.0,9,     -999.0,     -999.0,9,     -999.0,  -999.0,9,     -999.0,     -999.0,9,     -999.0,  20.0359,    35.2542,2,-999.0000,9,     -999.0,9
33RO20150410,     P16N.1,     101,          1,         18,         18,2,20150508,       0946,    16.9995,  -152.0009,       5446,   225.0,  14.0552,  34.3313,2,  34.3379,2,    161.1,2,   165.4,2,    9.40,2,   10.00,2,    0.01,2,    1.00,2,   2.471,2,   1.563,2,   1.388,2,  2104.3,2,  2268.2,2,   7.7714,6,    25.04,-999.000,9,-999.0000,9, -999.00,9,  14.0549,    0.21,2,    29.7,2,     2.4,-999.000,9,-999.000,    48.6,2,   12.50,2,     24.226,3, -999.00,9,-999.000,-999.0000, -999.00,     -999.0,     -999.0,9,     -999.0,     -999.0,9,     -999.0,  -999.0,9,     -999.0,     -999.0,9,     -999.0,  14.0228,    34.4998,2,-999.0000,9,     -999.0,9
33RO20150410,     P16N.1,     101,          1,         17,         17,2,20150508,       0946,    16.9995,  -152.0009,       5446,   300.8,   9.9902,  34.2048,2,  34.2042,2,    130.3,2,   121.1,2,   26.30,2,   22.00,2,    0.01,2,    1.86,2,   2.417,2,   1.453,2,   0.855,2,  2178.3,2,  2269.3,2,   7.5826,2,    25.01,-999.000,9,-999.0000,9, -999.00,9,  10.0054,   -0.15,2,     4.1,2,     2.3,-999.000,9,-999.000,    45.6,2,   24.90,2,     31.425,3, -999.00,9,-999.000,-999.0000, -999.00,     -999.0,     -999.0,9,     -999.0,     -999.0,9,     -999.0,  -999.0,9,     -999.0,     -999.0,9,     -999.0,   9.9555,    34.3655,2,-999.0000,9,     -999.0,9
33RO20150410,     P16N.1,     101,          1,         16,         16,2,20150508,       0946,    16.9995,  -152.0009,       5446,   399.5,   7.7961,  34.2558,2,  34.2530,2,     55.3,2,    57.1,2,   48.00,2,   32.10,2,    0.01,2,    2.56,2,   1.120,2,   0.625,2,   0.262,2,  2251.3,2,  2291.3,2,   7.4217,2,    25.01,-999.000,9,-999.0000,9, -999.00,9,   7.7992,   -0.35,2,   -60.0,2,     2.3,-999.000,9,-999.000,    42.4,2, -999.00,9,     35.580,3, -999.00,9,-999.000,-999.0000, -999.00,     -999.0,     -999.0,9,     -999.0,     -999.0,9,     -999.0,  -999.0,9,     -999.0,     -999.0,9,     -999.0,   7.7562,    34.4145,2,-999.0000,9,     -999.0,9
33RO20150410,     P16N.1,     101,          1,         15,         15,2,20150508,       0946,    16.9995,  -152.0009,       5446,   500.6,   6.6755,  34.2904,2,  34.2877,2,     40.9,2,    39.7,2,   62.00,2,   36.50,2,    0.00,2,    2.81,2,   0.584,6,   0.294,6,   0.082,6,  2281.3,2,  2307.2,2,   7.3787,2,    25.01,-999.000,9,-999.0000,9, -999.00,9,   6.6764,   -0.33,2,  -101.6,2,     2.2,-999.000,9,-999.000,    40.5,2, -999.00,9,     43.532,3, -999.00,9,-999.000,-999.0000, -999.00,     -999.0,     -999.0,9,     -999.0,     -999.0,9,     -999.0,  -999.0,9,     -999.0,     -999.0,9,     -999.0,   6.6294,    34.4494,2,-999.0000,9,     -999.0,9
33RO20150410,     P16N.1,     101,          1,         14,         14,2,20150508,       0946,    16.9995,  -152.0009,       5446,   650.1,   5.8282,  34.4246,2,  34.4231,2,     29.9,2,    29.0,2,   75.00,2,   39.90,2,    0.00,2,    3.02,2,   0.089,2,   0.048,2,       0,2,  2306.3,2,  2331.4,2,   7.3700,2,    25.01,-999.000,9,-999.0000,9, -999.00,9,   5.8280,   -0.28,2,  -154.6,2,     2.0,-999.000,9,-999.000,    39.7,2, -999.00,9,     46.229,3, -999.00,9,-999.000,-999.0000, -999.00,     -999.0,     -999.0,9,     -999.0,     -999.0,9,     -999.0,  -999.0,9,     -999.0,     -999.0,9,     -999.0,   5.7716,    34.5854,2,-999.0000,9,     -999.0,9
33RO20150410,     P16N.1,     101,          1,         13,         13,2,20150508,       0946,    16.9995,  -152.0009,       5446,   796.8,   5.2009,  34.4768,2,  34.4755,2,     30.4,2,    32.1,2,   84.80,2,   41.30,2,    0.01,2,    3.09,2,   0.029,2,   0.013,2,       0,2,  2318.5,6,  2346.4,2,   7.3755,6,    25.03,-999.000,9,-999.0000,9, -999.00,9,   5.2014,   -0.28,2,  -170.7,2,     1.8,-999.000,9,-999.000,    38.8,2, -999.00,9,     48.011,3, -999.00,9,-999.000,-999.0000, -999.00,     -999.0,     -999.0,9,     -999.0,     -999.0,9,     -999.0,  -999.0,9,     -999.0,     -999.0,9,     -999.0,   5.1345,    34.6381,2,-999.0000,9,     -999.0,9
33RO20150410,     P16N.1,     101,          1,         12,         12,2,20150508,       0946,    16.9995,  -152.0009,       5446,   950.2,   4.5690,  34.5066,2,  34.5046,2,     34.6,2,    34.0,2,   96.40,2,   42.50,2,    0.00,2,    3.12,2,   0.006,2,   0.004,2,       0,2,  2332.5,2,  2360.2,2,   7.3745,2,    25.00,-999.000,9,-999.0000,9, -999.00,9,   4.5696,   -0.29,2,  -191.1,2,     1.9,-999.000,9,-999.000,    37.0,2, -999.00,9,     44.367,3, -999.00,9,-999.000,-999.0000, -999.00,     -999.0,     -999.0,9,     -999.0,     -999.0,9,     -999.0,  -999.0,9,     -999.0,     -999.0,9,     -999.0,   4.4933,    34.6673,2,-999.0000,9,     -999.0,9
33RO20150410,     P16N.1,     101,          1,         11,         11,2,20150508,       0946,    16.9995,  -152.0009,       5446,  1100.8,   4.0573,  34.5405,2,  34.5392,2,     45.4,2,    45.2,2,  105.20,2,   42.40,2,    0.00,2,    3.11,2,   0.009,2,   0.005,2,       0,2,  2339.7,2,  2372.9,2,   7.3932,2,    25.00,-999.000,9,-999.0000,9, -999.00,9,   4.0569,   -0.27,2,  -202.0,2,     1.8,-999.000,9,-999.000,    37.6,2, -999.00,9,     39.430,3, -999.00,9,-999.000,-999.0000, -999.00,     -999.0,     -999.0,9,     -999.0,     -999.0,9,     -999.0,  -999.0,9,     -999.0,     -999.0,9,     -999.0,   3.9726,    34.7020,2,-999.0000,9,     -999.0,9
33RO20150410,     P16N.1,     101,          1,         10,         10,2,20150508,       0946,    16.9995,  -152.0009,       5446,  1300.8,   3.5323,  34.5703,2,  34.5694,2,     52.7,2,    52.4,2,  115.70,2,   42.30,2,    0.01,2,    3.10,2,   0.001,2,   0.002,2,       0,2,  2347.0,2,  2385.7,2,   7.4052,2,    25.00,-999.000,9,-999.0000,9, -999.00,9,   3.5357,   -0.23,2,  -217.6,2,     1.8,-999.000,9,-999.000,    37.3,2, -999.00,9,     36.373,3, -999.00,9,-999.000,-999.0000, -999.00,     -999.0,     -999.0,9,     -999.0,     -999.0,9,     -999.0,  -999.0,9,     -999.0,     -999.0,9,     -999.0,   3.4355,    34.7324,2,-999.0000,9,     -999.0,9
33RO20150410,     P16N.1,     101,          1,          9,          9,2,20150508,       0946,    16.9995,  -152.0009,       5446,  1600.5,   2.8770,  34.5934,2,  34.5926,2,     67.2,2,    67.0,2,  130.70,2,   41.50,2,    0.01,2,    3.00,2,   0.001,2,  -0.001,2,       0,2,  2351.6,2,  2400.6,2,   7.4307,2,    25.01,-999.000,9,-999.0000,9, -999.00,9,   2.8773,   -0.21,2,  -237.1,2,     2.0,-999.000,9,-999.000,    36.1,2, -999.00,9,     32.300,3, -999.00,9,-999.000,-999.0000, -999.00,     -999.0,     -999.0,9,     -999.0,     -999.0,9,     -999.0,  -999.0,9,     -999.0,     -999.0,9,     -999.0,   2.7621,    34.7557,2,-999.0000,9,     -999.0,9
33RO20150410,     P16N.1,     101,          1,          8,          8,2,20150508,       0946,    16.9995,  -152.0009,       5446,  2000.3,   2.2414,  34.6235,2,  34.6235,2,     87.2,2,    86.8,2,  144.60,2,   40.20,2,    0.00,2,    2.90,2,   0.003,2,   0.002,2,       0,2,  2354.3,2,  2414.0,2,   7.4661,2,    25.00,-999.000,9,-999.0000,9, -999.00,9,   2.2415,   -0.18,2,  -244.3,2,     1.7,-999.000,9,-999.000,    36.2,2, -999.00,9,     27.506,3, -999.00,9,-999.000,-999.0000, -999.00,     -999.0,     -999.0,9,     -999.0,     -999.0,9,     -999.0,  -999.0,9,     -999.0,     -999.0,9,     -999.0,   2.1013,    34.7868,6,-999.0000,9,     -999.0,9
33RO20150410,     P16N.1,     101,          1,          7,          7,2,20150508,       0946,    16.9995,  -152.0009,       5446,  2502.3,   1.8245,  34.6539,2,  34.6542,2,    108.1,2,   108.6,2,  151.30,2,   38.70,2,    0.00,2,    2.77,2,   0.001,2,   0.000,2,       0,2,  2350.7,2,  2424.3,2,   7.5073,2,    25.01,-999.000,9,-999.0000,9, -999.00,9,   1.8247,   -0.12,2,  -244.0,2,     1.8,-999.000,9,-999.000,    36.8,2, -999.00,9,     23.990,3, -999.00,9,-999.000,-999.0000, -999.00,     -999.0,     -999.0,9,     -999.0,     -999.0,9,     -999.0,  -999.0,9,     -999.0,     -999.0,9,     -999.0,   1.6472,    34.8176,6,-999.0000,9,     -999.0,9
33RO20150410,     P16N.1,     101,          1,          6,          6,2,20150508,       0946,    16.9995,  -152.0009,       5446,  3001.3,   1.6461,  34.6692,2,  34.6688,2,    120.3,2,   120.9,2,  154.40,2,   37.90,2,    0.00,2,    2.70,2,  -0.001,2,   0.000,2,       0,2,  2345.2,2,  2428.0,2,   7.5304,2,    25.00,-999.000,9,-999.0000,9, -999.00,9,   1.6460,   -0.06,2,  -241.4,2,     1.8,-999.000,9,-999.000,    36.3,2, -999.00,9,     22.008,3, -999.00,9,-999.000,-999.0000, -999.00,     -999.0,     -999.0,9,     -999.0,     -999.0,9,     -999.0,  -999.0,9,     -999.0,     -999.0,9,     -999.0,   1.4260,    34.8323,2,-999.0000,9,     -999.0,9
33RO20150410,     P16N.1,     101,          1,          5,          5,2,20150508,       0946,    16.9995,  -152.0009,       5446,  3501.5,   1.5427,  34.6784,2,  34.6783,2,    131.3,2,   131.7,2,  155.30,2,   37.20,2,    0.01,2,    2.64,2,   0.004,2,   0.004,2,       0,2,  2339.0,2,  2428.6,2,   7.5496,6,    25.00,-999.000,9,-999.0000,9, -999.00,9,   1.5428,    0.02,2,  -238.9,2,     2.0,-999.000,9,-999.000,    36.4,2, -999.00,9,     22.163,3, -999.00,9,-999.000,-999.0000, -999.00,     -999.0,     -999.0,9,     -999.0,     -999.0,9,     -999.0,  -999.0,9,     -999.0,     -999.0,9,     -999.0,   1.2753,    34.8418,2,-999.0000,9,     -999.0,9
33RO20150410,     P16N.1,     101,          1,          4,          4,2,20150508,       0946,    16.9995,  -152.0009,       5446,  4000.1,   1.4688,  34.6862,2,  34.6860,2,    147.4,2,   146.6,2,  148.50,6,   36.00,6,    0.00,6,    2.56,6,   0.002,2,   0.003,2,       0,2,  2325.9,2,  2423.8,2,   7.5716,6,    25.02,-999.000,9,-999.0000,9, -999.00,9,   1.4689,    0.10,2,  -222.3,2,     2.0,-999.000,9,-999.000,    37.3,2, -999.00,9,     20.077,3, -999.00,9,-999.000,-999.0000, -999.00,     -999.0,     -999.0,9,     -999.0,     -999.0,9,     -999.0,  -999.0,9,     -999.0,     -999.0,9,     -999.0,   1.1507,    34.8495,2,-999.0000,9,     -999.0,9
33RO20150410,     P16N.1,     101,          1,          3,          3,2,20150508,       0946,    16.9995,  -152.0009,       5446,  4500.5,   1.4300,  34.6927,2,  34.6921,2,    159.7,2,   159.8,2,  140.10,6,   35.00,6,    0.00,6,    2.48,6,  -0.003,2,   0.000,2,       0,2,  2312.3,2,  2415.4,6,   7.5864,2,    25.01,-999.000,9,-999.0000,9, -999.00,9,   1.4300,    0.17,2,  -214.0,2,     1.8,-999.000,9,-999.000,    38.2,2, -999.00,9,     19.622,3, -999.00,9,-999.000,-999.0000, -999.00,     -999.0,     -999.0,9,     -999.0,     -999.0,9,     -999.0,  -999.0,9,     -999.0,     -999.0,9,     -999.0,   1.0570,    34.8556,2,-999.0000,9,     -999.0,9
33RO20150410,     P16N.1,     101,          1,          2,          2,2,20150508,       0946,    16.9995,  -152.0009,       5446,  4999.7,   1.4282,  34.6967,2,  34.6954,2,    168.6,2,   168.3,2,  134.70,6,   34.30,6,    0.00,6,    2.44,6,   0.001,2,   0.002,2,       0,2,  2304.9,2,  2407.0,2,   7.5936,2,    25.01,-999.000,9,-999.0000,9, -999.00,9,   1.4285,    0.19,2,  -205.9,2,     2.0,-999.000,9,-999.000,    37.9,2, -999.00,9,     19.567,3, -999.00,9,-999.000,-999.0000, -999.00,     -999.0,     -999.0,9,     -999.0,     -999.0,9,     -999.0,  -999.0,9,     -999.0,     -999.0,9,     -999.0,   0.9963,    34.8590,2,-999.0000,9,     -999.0,9
33RO20150410,     P16N.1,     101,          1,          1,          1,2,20150508,       0946,    16.9995,  -152.0009,       5446,  5435.6,   1.4591,  34.6981,2,  34.6993,2,    172.3,2,   173.1,2,  132.40,6,   34.20,6,    0.01,6,    2.42,6,   0.005,2,   0.005,2,       0,2,  2299.5,6,  2404.0,2,   7.5968,2,    25.01,-999.000,9,-999.0000,9, -999.00,9,   1.4590,    0.24,2,  -198.8,2,     2.1,-999.000,9,-999.000,    38.1,2, -999.00,9,     19.210,3, -999.00,9,-999.000,-999.0000, -999.00,     -999.0,     -999.0,9,     -999.0,     -999.0,9,     -999.0,  -999.0,9,     -999.0,     -999.0,9,     -999.0,   0.9720,    34.8630,2,-999.0000,9,     -999.0,9