BOTTLE,20210709CCHSIOCBG
# Merged parameters: CHLORA, CHLORA_FLAG_W
# Merged parameters: 14C-DOC, 14C-DOC_FLAG_W, 14C-DOCERR, 13C-DOC, 13C-DOC_FLAG_W, 13C-DOCERR,
#   DELHE3, DELHER, DELHE3_FLAG_W, HELIUM, HELIER, HELIUM_FLAG_W, NEON, NEONER, NEON_FLAG_W,
#   ARGON, ARGONER, ARGON_FLAG_W, KRYPTON, KRYPTONER, KRYPTON_FLAG_W, XENON, XENONER, XENON_FLAG_W,
#   DELC13, DELC13_FLAG_W, DELC14, DELC14_FLAG_W, C14ERR
# Merged parameters: N2O, N2O_FLAG_W
# BOTTLE,20200519PRINUNIVRMK
# BOTTLE,20200519PRINUNIVRMK
# 2/15/16 Initialized README file  
# Data source: CCHDO 
# SHIP: R/V Ron BrownCruise:  
# Region: NE Pacific, Leg 1 of P16N (A.K.A. P16C) 
# EXPOCODE: 33RO20150410 
# DATES: 20150410 - 20150513 
# Chief Scientist: Jessica Cross, Samantha Siedlecki 
# 112 stations with 24 place Rosette 
# Hydro: Who - G.Johnson, M.Baringer; Status - final 
# 	Notes: 	 
# Nutrients: Who - C.Mordy; Status - final 
# 	Notes: Final data from E.Wisgarver via CCHDO Jan 7, 2016 
# 	Phosphate for Sta 1:59 all flagged 3/4. Problem with chemistry 
# O2: Who - C. Langdon; Status - final 
# 	Notes: final data from Langdon via CCHDO Feb 2, 2016 
# TCO2: Who - S.Alin, R. Wanninkhof; Status - final 
# 	Notes: data from D.Greely via CDIAC 11/20/15 
# TA: Who - A.Dickson; Status - final 
# 	Notes: Data rcd 8/30/16 
# PH: Who - A.Dickson; Status - final 
# 	Notes: Data rcd 8/30/16 
# CFC: Who - J.Bullister; Status -final 
# 	Notes: added 3/11/16 
# C14: Who - R.Key,A.McNichol; Status - final 
# 	Notes: added 1/17/19 after QC 
# 	C13 final data still need QC. Not done due to COVID 
# 14C-DOC: Who: - E. Druffel; Status - final 
# 	Notes: extracted from file 33RO20150410_D14C-DOC_D13C-DOC.xlsx 
# 		and merged 7/31/19 with QC check 
# H3/He3: Who - W. Jenkins; Status - final 
# 	Notes: also includes he,neon,argon,krypton and xenon each with error 
# 		H3 from Jenkins 2/2/18; merged 9/20/18 
# 		noble gases rcd 10/2/18; merged 10/3/18 
# DOC/TDN: Who - C.Carlson; Status -final 
# 	Notes: Data rcd from Carlson via NCEI 6/6/17 
# Organics: Who - N.Nelson; Status -being analyzed 
# 	Notes:  
# These data should be cited as: 
# DOI: 10.7942/C2WC7C 
# References that have used data from this cruise: 
#
# If you use these D14-DOC and D13-DOC data, please reference this paper: Druffel, E.R.M., S. Griffin, N.G. Garcia, N. Wang, A.P. McNichol, R. Key and B.W. Walker. Dissolved Organic Radiocarbon in the Central Pacific Ocean, Geophysical Research Letters
# DOI: 10.1029/2019GL083149
#
# DATA CITATION
#|CCHDO Citation Information
#|
#|Please cite data downloaded from CCHDO as: [Data providers of the parameter(s) used]. [Year of file access]. [CTD/Bottle] data from cruise [expocode], [format version used]. Accessed from CCHDO [url of cruise data page]. Access date [date of download]. [Applicable CCHDO cruise DOI if provided].
#|
#|For example: Swift, J. and Becker, S. 2019. CTD data from Cruise 33RR20160321, exchange version. Accessed from CCHDO https://cchdo.ucsd.edu/cruise/33RR20160321. Access date 2019-08-21. CCHDO cruise DOI: 10.7942/C2008W
#|
#|Information on the scientists who provided the different parameters can be found in the cruise report. Additionally, for US GO-SHIP cruises, this information is usually in the comments section in the text headers of the Exchange bottle files.
#|
#|Users are also encouraged to acknowledge the funding program that supported the data collection in their publication. For US GO-SHIP data this is the NSF/NOAA funded U.S Repeat Hydrography Program.
#|
#|For data citation, please use the data providers listed below. 
#|
#|Programs and Principal Investigators
#
#+------------------------------------------------------------------------------------------------------+
#|Analysis                            Institution   Principal Investigator   email                      |
#+------------------------------------------------------------------------------------------------------+
#|Chief Scientist                     PMEL          Jessica Cross            jessica.cross@noaa.gov     |
#|Co-Chief Scientist                  JISAO         Samantha Siedlecki       siedlesa@uw.edu            |
#|                                                                                                      |
#|CTDO                                NOAA/PMEL     Gregory Johnson          Gregory.C.Johnson@noaa.gov |
#|                                    NOAA/AOML     Molly Baringer           Molly.Baringer@noaa.gov    |
#|                                                                                                      |
#|Fluorometer / C-OPS                 UCSB/ERI      Norm Nelson              norm@eri.ucsb.edu          |
#|                                                                                                      |
#|Transmissometer                     TAMU          Wilford Gardner          wgardner@ocean.tamu.edu    |
#|                                                                                                      |
#|Underwater Vision Profiler (UVP)    UAF           Andrew McDonnell         amcdonnell@alaska.edu      |
#|                                                                                                      |
#|Lowered ADCP                        LDEO          Andreas Thurnherr        ant@ldeo.columbia.edu      |
#|                                                                                                      |
#|Chipods                             OSU           Jonathan Nash            nash@coas.oregonstate.edu  |
#|                                                                                                      |
#|Data Management                     SIO/ODF       James Swift              jswift@ucsd.edu            |
#|                                    SIO/ODF       Susan Becker             sbecker@ucsd.edu           |
#|                                                                                                      |
#|Chlorofluorocarbons(CFCs)/SF6/N2O   NOAA/PMEL     John Bullister           John.L.Bullister@noaa.gov  |
#|                                                                                                      |
#|3He / Neon / Tritium                WHOI          William Jenkins          wjenkins@whoi.edu          |
#|                                                                                                      |
#|Dissolved O2                        RSMAS         Chris Langdon            clangdon@rsmas.miami.edu   |
#|                                    NOAA/AOML     Molly Baringer           Molly.Baringer@noaa.gov    |
#|                                                                                                      |
#|Total CO2 (DIC) / UW pCO2           NOAA/PMEL     Simone Alin              Simone.R.Alin@noaa.gov     |
#|                                    NOAA/AOML     Rik Wanninkhof           Rik.Wanninkhof@noaa.gov    |
#|                                                                                                      |
#|Total Alkalinity/pH                 SIO/MPL       Andrew Dickson           adickson@ucsd.edu          |
#|                                                                                                      |
#|13C /14C-DIC                        PU            Robert Key               key@princeton.edu          |
#|                                    WHOI          Ann McNichol             amcnichol@whoi.edu         |
#|                                                                                                      |
#|DOC / TDN                           UCSB/MSI      Craig Carlson            carlson@lifesci.ucsb.edu   |
#|                                                                                                      |
#|DO14C / Black Carbon                UCI/ESS       Ellen Druffel            edruffel@uci.edu           |
#|                                                                                                      |
#|CDOM / POC / Chlorophyll a          UCSB/ERI      Norm Nelson              norm@eri.ucsb.edu          |
#|UW HPLC Pigments / AP                                                                                 |
#|                                                                                                      |
#|Nutrients                           NOAA/PMEL     Calvin Mordy             Calvin.W.Mordy@noaa.gov    |
#|                                                                                                      |
#|Salinity                            NOAA/AOML     Molly Baringer           Molly.Baringer@noaa.gov    |
#|                                    NOAA/PMEL     Gregory Johnson          Gregory.C.Johnson@noaa.gov |
#|                                                                                                      |
#|137Cs /134Cs /90Sr /129I            WHOI          Ken Buesseler            kbuesseler@whoi.edu        |
#|                                                                                                      |
#|                                                                                                      |
#|ARGO Floats                         NOAA/PMEL     Gregory Johnson          Gregory.C.Johnson@noaa.gov |
#|                                                                                                      |
#|Shipboard ADCP                      UH            Eric Firing              efiring@hawaii.edu         |
#|                                    UH            Jules Hummon             hummon@hawaii.edu          |
#+------------------------------------------------------------------------------------------------------+
#
EXPOCODE,SECT_ID,STNNBR,CASTNO,SAMPNO,BTLNBR,BTLNBR_FLAG_W,DATE,TIME,LATITUDE,LONGITUDE,DEPTH,CTDPRS,CTDTMP,CTDSAL,CTDSAL_FLAG_W,SALNTY,SALNTY_FLAG_W,CTDOXY,CTDOXY_FLAG_W,OXYGEN,OXYGEN_FLAG_W,SILCAT,SILCAT_FLAG_W,NITRAT,NITRAT_FLAG_W,NITRIT,NITRIT_FLAG_W,PHSPHT,PHSPHT_FLAG_W,CFC-11,CFC-11_FLAG_W,CFC-12,CFC-12_FLAG_W,SF6,SF6_FLAG_W,TCARBN,TCARBN_FLAG_W,ALKALI,ALKALI_FLAG_W,PH_TOT,PH_TOT_FLAG_W,PH_TMP,TRITUM,TRITUM_FLAG_W,HELIUM,HELIUM_FLAG_W,DELHE3,DELHE3_FLAG_W,REFTMP,DELC13,DELC13_FLAG_W,DELC14,DELC14_FLAG_W,C14ERR,NEON,NEON_FLAG_W,NEONER,DOC,DOC_FLAG_W,TDN,TDN_FLAG_W,N2O,N2O_FLAG_W,ARGON,ARGON_FLAG_W,TRITER,HELIER,DELHER,ARGONER,KRYPTON,KRYPTON_FLAG_W,KRYPTONER,XENON,XENON_FLAG_W,XENONER,14C-DOC,14C-DOC_FLAG_W,14C-DOCERR,13C-DOC,13C-DOC_FLAG_W,13C-DOCERR,THETA,SALTREF,SALTREF_FLAG_W,SBE35,SBE35_FLAG_W,CHLORA,CHLORA_FLAG_W
,,,,,,,,,,,METERS,DBAR,ITS-90,PSS-78,,PSS-78,,UMOL/KG,,UMOL/KG,,UMOL/KG,,UMOL/KG,,UMOL/KG,,UMOL/KG,,PMOL/KG,,PMOL/KG,,FMOL/KG,,UMOL/KG,,UMOL/KG,,,,DEG C,TU,,NMOL/KG,,PERCNT,,DEG C,/MILLE,,/MILLE,,/MILLE,NMOL/KG,,NMOL/KG,UMOL/KG,,UMOL/KG,,NMOL/KG,,UMOL/KG,,TU,NMOL/KG,PERCNT,UMOL/KG,NMOL/KG,,NMOL/KG,NMOL/KG,,NMOL/KG,/MILLE,,/MILLE,/MILLE,,/MILLE,DEG C,G/KG,,ITS-90,,MG/M3,
33RO20150410,     P16N.1,       1,          1,         24,         24,2,20150411,       0550,   -16.5011,  -150.0006,       4283,     3.3,  29.1275,  35.6579,2,  35.6527,2,    193.9,2,   194.0,2,    0.50,2,    0.00,2,    0.00,2,    0.08,4,   1.325,3,   0.922,2,    1.17,2,  1982.6,2,  2346.2,6,   8.1201,2,    25.00,   0.287,2,-999.0000,9, -999.00,9,  29.1260,    1.08,2,    49.7,2,     2.1,-999.000,9,-999.000,    81.8,2,    5.60,2,      5.849,3, -999.00,9,   0.004,-999.0000, -999.00,     -999.0,     -999.0,9,     -999.0,     -999.0,9,     -999.0,  -999.0,9,     -999.0,     -999.0,9,     -999.0,  29.1267,    35.8208,2,-999.0000,2,     -999.0,9
33RO20150410,     P16N.1,       1,          1,         23,         23,2,20150411,       0550,   -16.5011,  -150.0006,       4283,    20.3,  29.1353,  35.6595,2,  35.6570,2,    194.3,2,   194.0,2,    0.50,2,    0.00,2,    0.00,2,    0.06,4,   1.349,3,   0.922,6,   1.265,6,  1981.2,2,  2345.2,2,   8.1199,2,    25.00,-999.000,9,-999.0000,9, -999.00,9,  29.1376, -999.00,9,  -999.0,9,  -999.0,-999.000,9,-999.000,    81.7,2,    5.50,2,      5.768,3, -999.00,9,-999.000,-999.0000, -999.00,     -999.0,     -999.0,9,     -999.0,     -999.0,9,     -999.0,  -999.0,9,     -999.0,     -999.0,9,     -999.0,  29.1304,    35.8252,2,-999.0000,2,     -999.0,9
33RO20150410,     P16N.1,       1,          1,         22,         22,2,20150411,       0550,   -16.5011,  -150.0006,       4283,    41.9,  29.0821,  35.7169,2,  35.7167,2,    194.5,2,   197.0,2,    0.50,2,    0.00,2,    0.00,2,    0.11,4,   1.344,3,   0.919,2,   1.219,2,  1987.1,2,  2349.6,2,   8.1191,6,    25.01,   0.305,2,-999.0000,9, -999.00,9,  29.0836, -999.00,9,  -999.0,9,  -999.0,-999.000,9,-999.000,    80.4,2,    5.60,2,      5.831,3, -999.00,9,   0.003,-999.0000, -999.00,     -999.0,     -999.0,9,     -999.0,     -999.0,9,     -999.0,  -999.0,9,     -999.0,     -999.0,9,     -999.0,  29.0719,    35.8851,2,-999.0000,2,     -999.0,9
33RO20150410,     P16N.1,       1,          1,         21,         21,2,20150411,       0550,   -16.5011,  -150.0006,       4283,    66.6,  27.4952,  35.8440,2,  35.8540,2,    203.4,2,   203.3,2,    0.40,2,    0.00,2,    0.01,2,    0.13,4,   1.484,3,   0.998,2,   1.272,2,  2005.2,2,  2359.3,2,   8.1019,2,    25.00,-999.000,9,-999.0000,9, -999.00,9,  27.5442,    1.05,2,    39.4,2,     2.0,-999.000,9,-999.000,    79.0,2,    5.40,2,      6.257,3, -999.00,9,-999.000,-999.0000, -999.00,     -999.0,     -999.0,9,     -999.0,     -999.0,9,     -999.0,  -999.0,9,     -999.0,     -999.0,9,     -999.0,  27.4797,    36.0231,2,-999.0000,2,     -999.0,9
33RO20150410,     P16N.1,       1,          1,         20,         20,2,20150411,       0550,   -16.5011,  -150.0006,       4283,    91.8,  25.7102,  36.1696,2,  36.1715,2,    195.6,2,   199.6,2,    0.40,2,    0.00,2,    0.01,2,    0.14,4,   1.549,3,   1.053,2,   1.305,2,  2042.3,2,  2380.0,2,   8.0729,2,    25.01,   0.303,2,   1.7066,2,   -1.42,2,  25.7139,    0.98,2,    40.6,2,     2.1,   6.741,2,   0.017,    78.1,2,    4.90,2,      6.512,3, -999.00,9,   0.004,   0.0044,    0.20,     -999.0,     -999.0,9,     -999.0,     -999.0,9,     -999.0,  -999.0,9,     -999.0,     -999.0,9,     -999.0,  25.6898,    36.3421,2,-999.0000,2,     -999.0,9
33RO20150410,     P16N.1,       1,          1,         19,         19,2,20150411,       0550,   -16.5011,  -150.0006,       4283,   117.2,  24.1781,  36.1166,2,  36.1159,2,    186.8,2,   187.7,2,    0.50,2,    0.30,2,    0.21,2,    0.19,4,   1.684,3,   1.117,2,   1.376,2,  2062.4,2,  2375.1,2,   8.0366,2,    25.00,   0.322,2,-999.0000,9, -999.00,9,  24.1977,    0.80,2,    45.9,2,     2.0,-999.000,9,-999.000,    66.6,2,    5.30,2,      6.850,3, -999.00,9,   0.004,-999.0000, -999.00,     -999.0,     -999.0,9,     -999.0,     -999.0,9,     -999.0,  -999.0,9,     -999.0,     -999.0,9,     -999.0,  24.1532,    36.2862,2,-999.0000,2,     -999.0,9
33RO20150410,     P16N.1,       1,          1,         18,         18,2,20150411,       0550,   -16.5011,  -150.0006,       4283,   158.5,  22.4146,  35.9960,2,  35.9876,2,    177.3,2,   177.8,2,    0.50,2,    2.50,2,    0.02,2,    0.21,4,   1.801,3,   1.201,2,   1.533,2,  2080.1,2,  2364.1,2,   7.9912,2,    25.01,   0.286,2,   1.7218,2,   -0.91,2,  22.4303,    0.64,2,    53.9,2,     2.1,   6.884,2,   0.017,    59.6,2,    6.20,2,      7.491,3, -999.00,9,   0.004,   0.0045,    0.20,     -999.0,     -999.0,9,     -999.0,     -999.0,9,     -999.0,  -999.0,9,     -999.0,     -999.0,9,     -999.0,  22.3827,    36.1573,2,-999.0000,3,     -999.0,9
33RO20150410,     P16N.1,       1,          1,         17,         17,2,20150411,       0550,   -16.5011,  -150.0006,       4283,   225.1,  20.1278,  35.7628,2,  35.7616,2,    188.2,2,   189.8,2,    0.50,2,    2.50,2,    0.02,2,    0.19,4,   1.965,3,   1.290,2,   1.411,2,  2079.3,3,  2348.4,2,   7.9687,2,    25.02,   0.322,2,-999.0000,9, -999.00,9,  20.1266,    0.47,2,    70.5,2,     2.6,-999.000,9,-999.000,    56.8,2,    6.30,2,      8.023,3, -999.00,9,   0.004,-999.0000, -999.00,     -999.0,     -999.0,9,     -999.0,     -999.0,9,     -999.0,  -999.0,9,     -999.0,     -999.0,9,     -999.0,  20.0858,    35.9302,2,-999.0000,3,     -999.0,9
33RO20150410,     P16N.1,       1,          1,         16,         16,3,20150411,       0550,   -16.5011,  -150.0006,       4283,   300.6,  18.0647,  35.4748,2,  35.4747,2,    181.1,2,  -999.0,9,    1.20,2,    4.70,2,    0.01,2,    0.29,4,-999.000,9,-999.000,9,-999.000,9,  -999.0,9,  -999.0,9,-999.0000,9,  -999.00,   0.262,2,   1.7393,6,   -0.67,6,  18.0636, -999.00,9,  -999.0,9,  -999.0,   7.087,6,   0.012,  -999.0,9, -999.00,9,     -999.0,9, -999.00,9,   0.003,   0.0030,    0.14,     -999.0,     -999.0,9,     -999.0,     -999.0,9,     -999.0,  -999.0,9,     -999.0,     -999.0,9,     -999.0,  18.0127,    35.6420,2,-999.0000,2,     -999.0,9
33RO20150410,     P16N.1,       1,          1,         15,         15,2,20150411,       0550,   -16.5011,  -150.0006,       4283,   374.7,  15.1363,  35.0778,2,  35.0739,2,    164.0,2,   164.2,2,    3.90,2,   11.00,2,    0.01,2,    0.57,4,   2.224,3,   1.355,6,   1.053,6,  2124.9,3,  2309.1,2,   7.8190,3,    25.00,   0.222,2,-999.0000,9, -999.00,9,  15.1292,    0.57,2,    45.7,2,     2.9,-999.000,9,-999.000,    53.2,2, -999.00,9,     15.914,3, -999.00,9,   0.003,-999.0000, -999.00,     -999.0,     -999.0,9,     -999.0,     -999.0,9,     -999.0,  -999.0,9,     -999.0,     -999.0,9,     -999.0,  15.0789,    35.2392,2,-999.0000,2,     -999.0,9
33RO20150410,     P16N.1,       1,          1,         14,         14,2,20150411,       0550,   -16.5011,  -150.0006,       4283,   466.4,  10.1768,  34.5775,2,  34.5756,2,    147.0,2,   147.9,2,   10.60,2,   21.80,2,    0.01,2,    1.03,4,   1.959,3,   1.095,2,   0.592,2,  2177.3,3,  2283.5,2,   7.6610,6,    25.00,   0.104,2,   1.7823,2,    1.72,2,  10.1737,    0.59,2,    11.5,2,     2.1,   7.529,2,   0.019,    46.3,2, -999.00,9,     25.823,3, -999.00,9,   0.002,   0.0046,    0.20,     -999.0,     -999.0,9,     -999.0,     -999.0,9,     -999.0,  -999.0,9,     -999.0,     -999.0,9,     -999.0,  10.1216,    34.7386,2,-999.0000,2,     -999.0,9
33RO20150410,     P16N.1,       1,          1,         13,         13,2,20150411,       0550,   -16.5011,  -150.0006,       4283,   600.0,   6.7517,  34.4408,2,  34.4415,2,    140.4,2,   140.5,2,   26.60,2,   31.00,2,    0.01,2,    1.53,4,   0.780,3,   0.409,2,   0.221,2,  2201.2,2,  2293.3,2,   7.5739,2,    25.00,   0.031,2,-999.0000,9, -999.00,9,   6.7526,    0.58,2,   -67.4,2,     1.9,-999.000,9,-999.000,    43.1,2, -999.00,9,     29.149,3, -999.00,9,   0.002,-999.0000, -999.00,     -999.0,     -999.0,9,     -999.0,     -999.0,9,     -999.0,  -999.0,9,     -999.0,     -999.0,9,     -999.0,   6.6955,    34.6039,6,-999.0000,2,     -999.0,9
33RO20150410,     P16N.1,       1,          1,         12,         12,2,20150411,       0550,   -16.5011,  -150.0006,       4283,   749.7,   5.5006,  34.4639,2,  34.4651,2,    136.6,2,   138.1,2,   44.20,2,   33.60,2,    0.00,2,    1.89,4,   0.247,3,   0.146,2,   0.199,3,  2233.6,3,  2311.4,2,   7.5601,2,    25.00,   0.009,2,   1.8516,2,   11.98,2,   5.5029,    0.44,2,  -111.2,2,     2.0,   7.873,2,   0.020,    41.4,2, -999.00,9,     28.591,3, -999.00,9,   0.002,   0.0048,    0.20,     -999.0,     -999.0,9,     -999.0,     -999.0,9,     -999.0,  -999.0,9,     -999.0,     -999.0,9,     -999.0,   5.4367,    34.6276,2,-999.0000,3,     -999.0,9
33RO20150410,     P16N.1,       1,          1,         11,         11,2,20150411,       0550,   -16.5011,  -150.0006,       4283,   900.3,   4.5673,  34.4838,2,  34.4824,2,    141.6,2,   140.9,2,   59.00,2,   34.60,2,    0.01,2,    2.14,4,   0.192,3,   0.064,2,   0.092,3,  2245.6,2,  2325.9,2,   7.5594,6,    25.00,   0.009,2,-999.0000,9, -999.00,9,   4.5706,    0.43,2,  -140.9,2,     1.7,-999.000,9,-999.000,    43.6,2, -999.00,9,     25.735,3, -999.00,9,   0.002,-999.0000, -999.00,     -999.0,     -999.0,9,     -999.0,     -999.0,9,     -999.0,  -999.0,9,     -999.0,     -999.0,9,     -999.0,   4.4959,    34.6450,2,-999.0000,3,     -999.0,9