BOTTLE,20210709CCHSIOCBG
EXPOCODE,SECT_ID,STNNBR,CASTNO,SAMPNO,BTLNBR,BTLNBR_FLAG_W,DATE,TIME,LATITUDE,LONGITUDE,DEPTH,CTDPRS,CTDTMP,CTDSAL,CTDSAL_FLAG_W,SALNTY,SALNTY_FLAG_W,CTDOXY,CTDOXY_FLAG_W,OXYGEN,OXYGEN_FLAG_W,SILCAT,SILCAT_FLAG_W,NITRAT,NITRAT_FLAG_W,NITRIT,NITRIT_FLAG_W,PHSPHT,PHSPHT_FLAG_W,CFC-11,CFC-11_FLAG_W,CFC-12,CFC-12_FLAG_W,SF6,SF6_FLAG_W,TCARBN,TCARBN_FLAG_W,ALKALI,ALKALI_FLAG_W,PH_TOT,PH_TOT_FLAG_W,PH_TMP,TRITUM,TRITUM_FLAG_W,HELIUM,HELIUM_FLAG_W,DELHE3,DELHE3_FLAG_W,REFTMP,DELC13,DELC13_FLAG_W,DELC14,DELC14_FLAG_W,C14ERR,NEON,NEON_FLAG_W,NEONER,DOC,DOC_FLAG_W,TDN,TDN_FLAG_W,N2O,N2O_FLAG_W,ARGON,ARGON_FLAG_W,TRITER,HELIER,DELHER,ARGONER,KRYPTON,KRYPTON_FLAG_W,KRYPTONER,XENON,XENON_FLAG_W,XENONER,14C-DOC,14C-DOC_FLAG_W,14C-DOCERR,13C-DOC,13C-DOC_FLAG_W,13C-DOCERR,THETA,SALTREF,SALTREF_FLAG_W,SBE35,SBE35_FLAG_W,CHLORA,CHLORA_FLAG_W
,,,,,,,,,,,METERS,DBAR,ITS-90,PSS-78,,PSS-78,,UMOL/KG,,UMOL/KG,,UMOL/KG,,UMOL/KG,,UMOL/KG,,UMOL/KG,,PMOL/KG,,PMOL/KG,,FMOL/KG,,UMOL/KG,,UMOL/KG,,,,DEG C,TU,,NMOL/KG,,PERCNT,,DEG C,/MILLE,,/MILLE,,/MILLE,NMOL/KG,,NMOL/KG,UMOL/KG,,UMOL/KG,,NMOL/KG,,UMOL/KG,,TU,NMOL/KG,PERCNT,UMOL/KG,NMOL/KG,,NMOL/KG,NMOL/KG,,NMOL/KG,/MILLE,,/MILLE,/MILLE,,/MILLE,DEG C,G/KG,,ITS-90,,MG/M3,
33RO20150410,     P16N.1,      17,          1,         24,         24,2,20150415,       2158,    -8.4990,  -150.9987,       5099,    10.6,  29.1163,  35.7898,2,  35.7871,2,    194.0,2,   194.9,2,    0.80,2,    1.20,2,    0.03,2,    0.25,4,   1.375,2,   0.922,2,   1.229,2,  2006.5,6,  2357.4,2,   8.1027,2,    25.01,-999.000,9,-999.0000,9, -999.00,9,  29.1230, -999.00,9,  -999.0,9,  -999.0,-999.000,9,-999.000,    70.7,2,    6.20,2,      5.918,3, -999.00,9,-999.000,-999.0000, -999.00,     -999.0,     -999.0,9,     -999.0,     -999.0,9,     -999.0,  -999.0,9,     -999.0,     -999.0,9,     -999.0,  29.1137,    35.9558,2,-999.0000,2,      0.157,2
33RO20150410,     P16N.1,      17,          1,         23,         23,2,20150415,       2158,    -8.4990,  -150.9987,       5099,    25.4,  29.0496,  35.7919,2,  35.7891,2,    194.7,2,   193.5,2,    0.80,2,    1.20,2,    0.03,2,    0.26,4,-999.000,9,-999.000,9,-999.000,9,  2007.6,2,  2358.3,6,   8.1041,6,    25.01,-999.000,9,-999.0000,9, -999.00,9,  29.0501, -999.00,9,  -999.0,9,  -999.0,-999.000,9,-999.000,    73.5,2,    6.10,2,     -999.0,9, -999.00,9,-999.000,-999.0000, -999.00,     -999.0,     -999.0,9,     -999.0,     -999.0,9,     -999.0,  -999.0,9,     -999.0,     -999.0,9,     -999.0,  29.0434,    35.9578,2,-999.0000,2,      0.155,2
33RO20150410,     P16N.1,      17,          1,         22,         22,2,20150415,       2158,    -8.4990,  -150.9987,       5099,    50.5,  29.0306,  35.7915,2,  35.7887,2,    195.3,2,   194.6,2,    0.80,2,    1.20,2,    0.03,2,    0.26,4,-999.000,9,-999.000,9,-999.000,9,  2007.7,2,  2357.5,2,   8.1037,6,    25.00,-999.000,9,-999.0000,9, -999.00,9,  29.0292, -999.00,9,  -999.0,9,  -999.0,-999.000,9,-999.000,    72.0,2,    6.10,2,     -999.0,9, -999.00,9,-999.000,-999.0000, -999.00,     -999.0,     -999.0,9,     -999.0,     -999.0,9,     -999.0,  -999.0,9,     -999.0,     -999.0,9,     -999.0,  29.0184,    35.9574,2,-999.0000,2,      0.170,2
33RO20150410,     P16N.1,      17,          1,         21,         21,2,20150415,       2158,    -8.4990,  -150.9987,       5099,    74.9,  29.0323,  35.7908,2,  35.7885,2,    195.5,2,   194.2,2,    0.80,2,    1.20,2,    0.03,2,    0.27,4,-999.000,9,-999.000,9,-999.000,9,  2008.2,2,  2357.2,2,   8.1028,2,    25.00,-999.000,9,-999.0000,9, -999.00,9,  29.0315, -999.00,9,  -999.0,9,  -999.0,-999.000,9,-999.000,    73.4,2,    6.50,2,     -999.0,9, -999.00,9,-999.000,-999.0000, -999.00,     -999.0,     -999.0,9,     -999.0,     -999.0,9,     -999.0,  -999.0,9,     -999.0,     -999.0,9,     -999.0,  29.0141,    35.9572,2,-999.0000,2,      0.207,2
33RO20150410,     P16N.1,      17,          1,         20,         20,2,20150415,       2158,    -8.4990,  -150.9987,       5099,   100.6,  28.9299,  35.8076,2,  35.8729,2,    193.6,2,   191.4,2,    0.90,2,    0.90,2,    0.06,2,    0.28,4,   1.395,2,   0.935,2,   1.224,2,  2015.3,2,  2364.0,2,   8.0972,2,    25.00,-999.000,9,-999.0000,9, -999.00,9,  28.9328, -999.00,9,  -999.0,9,  -999.0,-999.000,9,-999.000,    74.1,2,    6.40,2,      5.983,3, -999.00,9,-999.000,-999.0000, -999.00,     -999.0,     -999.0,9,     -999.0,     -999.0,9,     -999.0,  -999.0,9,     -999.0,     -999.0,9,     -999.0,  28.9056,    36.0421,2,-999.0000,2,      0.211,2
33RO20150410,     P16N.1,      17,          1,         19,         19,2,20150415,       2158,    -8.4990,  -150.9987,       5099,   125.6,  27.6497,  36.1924,2,  36.1815,2,    185.0,2,   194.0,4,    1.00,2,    0.70,2,    0.31,2,    0.34,4,-999.000,9,-999.000,9,-999.000,9,  2044.2,2,  2385.2,2,   8.0791,2,    25.01,-999.000,9,-999.0000,9, -999.00,9,  27.6893, -999.00,9,  -999.0,9,  -999.0,-999.000,9,-999.000,    66.3,2,    6.50,2,     -999.0,9, -999.00,9,-999.000,-999.0000, -999.00,     -999.0,     -999.0,9,     -999.0,     -999.0,9,     -999.0,  -999.0,9,     -999.0,     -999.0,9,     -999.0,  27.6203,    36.3521,2,-999.0000,2,      0.270,2
33RO20150410,     P16N.1,      17,          1,         18,         18,2,20150415,       2158,    -8.4990,  -150.9987,       5099,   150.7,  26.2145,  36.4021,2,  36.4036,2,    172.9,2,   171.3,2,    0.90,2,    1.60,2,    1.38,2,    0.43,4,-999.000,9,-999.000,9,-999.000,9,  2075.9,2,  2398.4,2,   8.0449,2,    24.99,-999.000,9,-999.0000,9, -999.00,9,  26.2107, -999.00,9,  -999.0,9,  -999.0,-999.000,9,-999.000,    61.5,2,    7.30,2,     -999.0,9, -999.00,9,-999.000,-999.0000, -999.00,     -999.0,     -999.0,9,     -999.0,     -999.0,9,     -999.0,  -999.0,9,     -999.0,     -999.0,9,     -999.0,  26.1805,    36.5753,2,-999.0000,2,      0.133,2
33RO20150410,     P16N.1,      17,          1,         17,         17,2,20150415,       2158,    -8.4990,  -150.9987,       5099,   200.0,  21.1040,  35.9106,2,  35.9061,2,    161.8,2,   161.3,2,    1.20,2,    6.00,2,    0.02,2,    0.62,4,-999.000,9,-999.000,9,-999.000,9,  2121.3,2,  2366.0,2,   7.9208,2,    25.01,-999.000,9,-999.0000,9, -999.00,9,  21.1030, -999.00,9,  -999.0,9,  -999.0,-999.000,9,-999.000,    53.6,2,    8.40,2,     -999.0,9, -999.00,9,-999.000,-999.0000, -999.00,     -999.0,     -999.0,9,     -999.0,     -999.0,9,     -999.0,  -999.0,9,     -999.0,     -999.0,9,     -999.0,  21.0654,    36.0754,2,-999.0000,2,     -999.0,9
33RO20150410,     P16N.1,      17,          1,         16,         16,2,20150415,       2158,    -8.4990,  -150.9987,       5099,   274.3,  13.8192,  34.9441,2,  34.9383,2,     77.1,2,    75.6,2,   11.40,2,   20.80,2,    0.01,2,    1.68,4,   1.777,2,   1.043,2,   0.703,2,  2192.9,2,  2305.7,2,   7.6156,2,    25.00,-999.000,9,-999.0000,9, -999.00,9,  13.8183, -999.00,9,  -999.0,9,  -999.0,-999.000,9,-999.000,    46.0,2, -999.00,9,     41.910,3, -999.00,9,-999.000,-999.0000, -999.00,     -999.0,     -999.0,9,     -999.0,     -999.0,9,     -999.0,  -999.0,9,     -999.0,     -999.0,9,     -999.0,  13.7798,    35.1031,2,-999.0000,2,     -999.0,9
33RO20150410,     P16N.1,      17,          1,         15,         15,2,20150415,       2158,    -8.4990,  -150.9987,       5099,   350.4,  10.8893,  34.7588,2,  34.7578,2,     56.3,2,    55.4,2,   21.00,2,   29.00,2,    0.01,2,    2.06,4,   0.857,2,   0.490,2,   0.301,2,  2230.1,2,  2299.8,2,   7.5179,2,    25.00,-999.000,9,-999.0000,9, -999.00,9,  10.8905, -999.00,9,  -999.0,9,  -999.0,-999.000,9,-999.000,    45.6,2, -999.00,9,     48.341,3, -999.00,9,-999.000,-999.0000, -999.00,     -999.0,     -999.0,9,     -999.0,     -999.0,9,     -999.0,  -999.0,9,     -999.0,     -999.0,9,     -999.0,  10.8462,    34.9217,2,-999.0000,2,     -999.0,9
33RO20150410,     P16N.1,      17,          1,         14,         14,2,20150415,       2158,    -8.4990,  -150.9987,       5099,   424.2,   9.0071,  34.6743,2,  34.6741,2,     72.3,2,    72.3,2,   28.10,2,   32.50,2,    0.00,2,    2.13,4,   0.452,2,   0.259,2,   0.111,2,  2231.9,2,  2301.6,2,   7.5170,2,    25.01,-999.000,9,-999.0000,9, -999.00,9,   9.0123, -999.00,9,  -999.0,9,  -999.0,-999.000,9,-999.000,    43.1,2, -999.00,9,     45.299,3, -999.00,9,-999.000,-999.0000, -999.00,     -999.0,     -999.0,9,     -999.0,     -999.0,9,     -999.0,  -999.0,9,     -999.0,     -999.0,9,     -999.0,   8.9606,    34.8376,2,-999.0000,2,     -999.0,9
33RO20150410,     P16N.1,      17,          1,         13,         13,2,20150415,       2158,    -8.4990,  -150.9987,       5099,   500.3,   8.1246,  34.6236,2,  34.6228,2,     67.9,2,    65.9,2,   33.50,2,   35.20,2,    0.00,2,    2.30,4,-999.000,9,-999.000,9,-999.000,9,  2246.9,2,  2303.4,2,   7.4843,2,    25.00,-999.000,9,-999.0000,9, -999.00,9,   8.1268, -999.00,9,  -999.0,9,  -999.0,-999.000,9,-999.000,    44.1,2, -999.00,9,     -999.0,9, -999.00,9,-999.000,-999.0000, -999.00,     -999.0,     -999.0,9,     -999.0,     -999.0,9,     -999.0,  -999.0,9,     -999.0,     -999.0,9,     -999.0,   8.0728,    34.7861,2,-999.0000,2,     -999.0,9
33RO20150410,     P16N.1,      17,          1,         12,         12,2,20150415,       2158,    -8.4990,  -150.9987,       5099,   650.1,   6.6054,  34.5554,2,  34.5546,2,     68.3,2,    67.6,2,   45.40,2,   38.50,2,    0.00,2,    2.54,4,   0.082,2,   0.043,2,       0,2,  2263.5,6,  2312.8,2,   7.4568,6,    25.01,-999.000,9,-999.0000,9, -999.00,9,   6.6072, -999.00,9,  -999.0,9,  -999.0,-999.000,9,-999.000,    44.9,2, -999.00,9,     42.738,3, -999.00,9,-999.000,-999.0000, -999.00,     -999.0,     -999.0,9,     -999.0,     -999.0,9,     -999.0,  -999.0,9,     -999.0,     -999.0,9,     -999.0,   6.5449,    34.7176,2,-999.0000,3,     -999.0,9
33RO20150410,     P16N.1,      17,          1,         11,         11,2,20150415,       2158,    -8.4990,  -150.9987,       5099,   800.4,   5.6444,  34.5382,2,  34.5382,2,     67.6,2,    67.0,2,   58.30,2,   40.40,2,    0.01,2,    2.70,4,-999.000,9,-999.000,9,-999.000,9,  2278.1,2,  2324.7,2,   7.4417,2,    24.99,-999.000,9,-999.0000,9, -999.00,9,   5.6460, -999.00,9,  -999.0,9,  -999.0,-999.000,9,-999.000,    42.9,2, -999.00,9,     -999.0,9, -999.00,9,-999.000,-999.0000, -999.00,     -999.0,     -999.0,9,     -999.0,     -999.0,9,     -999.0,  -999.0,9,     -999.0,     -999.0,9,     -999.0,   5.5749,    34.7010,2,-999.0000,3,     -999.0,9
33RO20150410,     P16N.1,      17,          1,         10,         10,2,20150415,       2158,    -8.4990,  -150.9987,       5099,   950.0,   4.7272,  34.5352,2,  34.5354,2,     91.4,2,    91.1,2,   71.30,2,   39.00,2,    0.00,2,    2.66,4,-999.000,9,-999.000,9,-999.000,9,  2279.9,2,  2340.0,2,   7.4799,2,    24.99,-999.000,9,-999.0000,9, -999.00,9,   4.7268, -999.00,9,  -999.0,9,  -999.0,-999.000,9,-999.000,    43.2,2, -999.00,9,     -999.0,9, -999.00,9,-999.000,-999.0000, -999.00,     -999.0,     -999.0,9,     -999.0,     -999.0,9,     -999.0,  -999.0,9,     -999.0,     -999.0,9,     -999.0,   4.6503,    34.6983,2,-999.0000,2,     -999.0,9
33RO20150410,     P16N.1,      17,          1,          9,          9,2,20150415,       2158,    -8.4990,  -150.9987,       5099,  1100.4,   4.1488,  34.5442,2,  34.5445,2,    103.7,2,   102.8,2,   81.30,2,   38.20,2,    0.00,2,    2.65,4,-999.000,9,-999.000,9,-999.000,9,  2283.9,2,  2350.6,2,   7.4981,2,    25.01,-999.000,9,-999.0000,9, -999.00,9,   4.1474, -999.00,9,  -999.0,9,  -999.0,-999.000,9,-999.000,    37.8,2, -999.00,9,     -999.0,9, -999.00,9,-999.000,-999.0000, -999.00,     -999.0,     -999.0,9,     -999.0,     -999.0,9,     -999.0,  -999.0,9,     -999.0,     -999.0,9,     -999.0,   4.0634,    34.7074,2,-999.0000,2,     -999.0,9
33RO20150410,     P16N.1,      17,          1,          8,          8,2,20150415,       2158,    -8.4990,  -150.9987,       5099,  1300.4,   3.5696,  34.5649,2,  34.5649,2,    110.6,2,   115.8,4,   93.30,2,   37.90,2,    0.00,2,    2.66,4,  -0.004,2,  -0.001,2,       0,2,  2293.9,2,  2364.9,2,   7.5087,6,    25.01,-999.000,9,-999.0000,9, -999.00,9,   3.5693, -999.00,9,  -999.0,9,  -999.0,-999.000,9,-999.000,    38.5,2, -999.00,9,     28.448,3, -999.00,9,-999.000,-999.0000, -999.00,     -999.0,     -999.0,9,     -999.0,     -999.0,9,     -999.0,  -999.0,9,     -999.0,     -999.0,9,     -999.0,   3.4724,    34.7279,2,-999.0000,2,     -999.0,9
33RO20150410,     P16N.1,      17,          1,          7,          7,2,20150415,       2158,    -8.4990,  -150.9987,       5099,  1600.7,   2.7461,  34.6036,2,  34.6048,2,    123.7,2,   123.7,2,  110.30,2,   37.10,2,    0.01,2,    2.64,4,-999.000,9,-999.000,9,-999.000,9,  2305.0,2,  2384.9,2,   7.5311,2,    24.99,-999.000,9,-999.0000,9, -999.00,9,   2.7455, -999.00,9,  -999.0,9,  -999.0,-999.000,9,-999.000,    38.0,2, -999.00,9,     -999.0,9, -999.00,9,-999.000,-999.0000, -999.00,     -999.0,     -999.0,9,     -999.0,     -999.0,9,     -999.0,  -999.0,9,     -999.0,     -999.0,9,     -999.0,   2.6328,    34.7680,2,-999.0000,2,     -999.0,9
33RO20150410,     P16N.1,      17,          1,          6,          6,2,20150415,       2158,    -8.4990,  -150.9987,       5099,  2000.7,   2.2121,  34.6391,2,  34.6390,2,    129.9,2,   136.3,4,  125.60,2,   36.90,2,    0.00,2,    2.66,4,-999.000,9,-999.000,9,-999.000,9,  2318.3,2,  2401.5,2,   7.5416,2,    25.01,-999.000,9,-999.0000,9, -999.00,9,   2.2120, -999.00,9,  -999.0,9,  -999.0,-999.000,9,-999.000,    38.6,2, -999.00,9,     -999.0,9, -999.00,9,-999.000,-999.0000, -999.00,     -999.0,     -999.0,9,     -999.0,     -999.0,9,     -999.0,  -999.0,9,     -999.0,     -999.0,9,     -999.0,   2.0723,    34.8023,2,-999.0000,2,     -999.0,9
33RO20150410,     P16N.1,      17,          1,          5,          5,2,20150415,       2158,    -8.4990,  -150.9987,       5099,  2400.2,   1.9537,  34.6585,2,  34.6579,2,    137.5,2,   142.4,3,  131.00,2,   36.40,2,    0.00,2,    2.62,4,  -0.006,2,  -0.002,2,       0,2,  2320.5,2,  2408.8,2,   7.5565,2,    25.00,-999.000,9,-999.0000,9, -999.00,9,   1.9541, -999.00,9,  -999.0,9,  -999.0,-999.000,9,-999.000,    37.7,2, -999.00,9,     22.462,3, -999.00,9,-999.000,-999.0000, -999.00,     -999.0,     -999.0,9,     -999.0,     -999.0,9,     -999.0,  -999.0,9,     -999.0,     -999.0,9,     -999.0,   1.7832,    34.8214,2,-999.0000,2,     -999.0,9
33RO20150410,     P16N.1,      17,          1,          4,          4,2,20150415,       2158,    -8.4990,  -150.9987,       5099,  2800.3,   1.7963,  34.6731,2,  34.6726,2,    141.1,2,   141.6,2,  136.50,6,   36.30,6,    0.00,6,    2.63,4,-999.000,9,-999.000,9,-999.000,9,  2324.8,2,  2417.2,2,   7.5675,6,    25.00,-999.000,9,-999.0000,9, -999.00,9,   1.7965, -999.00,9,  -999.0,9,  -999.0,-999.000,9,-999.000,    38.0,2, -999.00,9,     -999.0,9, -999.00,9,-999.000,-999.0000, -999.00,     -999.0,     -999.0,9,     -999.0,     -999.0,9,     -999.0,  -999.0,9,     -999.0,     -999.0,9,     -999.0,   1.5921,    34.8361,2,-999.0000,2,     -999.0,9
33RO20150410,     P16N.1,      17,          1,          3,          3,2,20150415,       2158,    -8.4990,  -150.9987,       5099,  3001.3,   1.7337,  34.6777,2,  34.6775,2,    145.5,2,   146.0,2,  136.20,6,   35.90,6,    0.00,6,    2.60,4,-999.000,9,-999.000,9,-999.000,9,  2321.9,2,  2417.8,2,   7.5765,6,    25.00,-999.000,9,-999.0000,9, -999.00,9,   1.7338, -999.00,9,  -999.0,9,  -999.0,-999.000,9,-999.000,    36.9,2, -999.00,9,     -999.0,9, -999.00,9,-999.000,-999.0000, -999.00,     -999.0,     -999.0,9,     -999.0,     -999.0,9,     -999.0,  -999.0,9,     -999.0,     -999.0,9,     -999.0,   1.5116,    34.8410,2,-999.0000,2,     -999.0,9
33RO20150410,     P16N.1,      17,          1,          2,          2,2,20150415,       2158,    -8.4990,  -150.9987,       5099,  3600.7,   1.5088,  34.6893,2,  34.6889,2,    162.8,2,   162.1,2,  134.80,6,   34.90,6,    0.00,6,    2.52,4,  -0.003,2,  -0.002,2,       0,2,  2312.6,2,  2413.3,6,   7.5946,2,    25.01,-999.000,9,-999.0000,9, -999.00,9,   1.5089, -999.00,9,  -999.0,9,  -999.0,-999.000,9,-999.000,    39.5,2, -999.00,9,     20.285,3, -999.00,9,-999.000,-999.0000, -999.00,     -999.0,     -999.0,9,     -999.0,     -999.0,9,     -999.0,  -999.0,9,     -999.0,     -999.0,9,     -999.0,   1.2320,    34.8525,6,-999.0000,2,     -999.0,9
33RO20150410,     P16N.1,      17,          1,          1,          1,2,20150415,       2158,    -8.4990,  -150.9987,       5099,  4116.6,   1.3874,  34.6971,2,  34.6990,2,    178.4,2,   199.4,4,  128.10,6,   33.90,6,    0.00,6,    2.43,4,   0.010,3,   0.004,6,       0,2,  2293.7,6,  2397.6,2,   7.6001,2,    25.01,-999.000,9,-999.0000,9, -999.00,9,   1.3875, -999.00,9,  -999.0,9,  -999.0,-999.000,9,-999.000,    39.7,2, -999.00,9,     19.570,3, -999.00,9,-999.000,-999.0000, -999.00,     -999.0,     -999.0,9,     -999.0,     -999.0,9,     -999.0,  -999.0,9,     -999.0,     -999.0,9,     -999.0,   1.0588,    34.8626,2,-999.0000,2,     -999.0,9