BOTTLE,20210709CCHSIOCBG
EXPOCODE,SECT_ID,STNNBR,CASTNO,SAMPNO,BTLNBR,BTLNBR_FLAG_W,DATE,TIME,LATITUDE,LONGITUDE,DEPTH,CTDPRS,CTDTMP,CTDSAL,CTDSAL_FLAG_W,SALNTY,SALNTY_FLAG_W,CTDOXY,CTDOXY_FLAG_W,OXYGEN,OXYGEN_FLAG_W,SILCAT,SILCAT_FLAG_W,NITRAT,NITRAT_FLAG_W,NITRIT,NITRIT_FLAG_W,PHSPHT,PHSPHT_FLAG_W,CFC-11,CFC-11_FLAG_W,CFC-12,CFC-12_FLAG_W,SF6,SF6_FLAG_W,TCARBN,TCARBN_FLAG_W,ALKALI,ALKALI_FLAG_W,PH_TOT,PH_TOT_FLAG_W,PH_TMP,TRITUM,TRITUM_FLAG_W,HELIUM,HELIUM_FLAG_W,DELHE3,DELHE3_FLAG_W,REFTMP,DELC13,DELC13_FLAG_W,DELC14,DELC14_FLAG_W,C14ERR,NEON,NEON_FLAG_W,NEONER,DOC,DOC_FLAG_W,TDN,TDN_FLAG_W,N2O,N2O_FLAG_W,ARGON,ARGON_FLAG_W,TRITER,HELIER,DELHER,ARGONER,KRYPTON,KRYPTON_FLAG_W,KRYPTONER,XENON,XENON_FLAG_W,XENONER,14C-DOC,14C-DOC_FLAG_W,14C-DOCERR,13C-DOC,13C-DOC_FLAG_W,13C-DOCERR,THETA,SALTREF,SALTREF_FLAG_W,SBE35,SBE35_FLAG_W,CHLORA,CHLORA_FLAG_W
,,,,,,,,,,,METERS,DBAR,ITS-90,PSS-78,,PSS-78,,UMOL/KG,,UMOL/KG,,UMOL/KG,,UMOL/KG,,UMOL/KG,,UMOL/KG,,PMOL/KG,,PMOL/KG,,FMOL/KG,,UMOL/KG,,UMOL/KG,,,,DEG C,TU,,NMOL/KG,,PERCNT,,DEG C,/MILLE,,/MILLE,,/MILLE,NMOL/KG,,NMOL/KG,UMOL/KG,,UMOL/KG,,NMOL/KG,,UMOL/KG,,TU,NMOL/KG,PERCNT,UMOL/KG,NMOL/KG,,NMOL/KG,NMOL/KG,,NMOL/KG,/MILLE,,/MILLE,/MILLE,,/MILLE,DEG C,G/KG,,ITS-90,,MG/M3,
33RO20150410,     P16N.1,      19,          1,         24,         24,2,20150416,       1311,    -7.4995,  -151.0002,       5384,     5.4,  28.7083,  35.4918,2,  35.4894,2,    196.5,2,   197.2,2,    1.50,2,    3.50,2,    0.08,2,    0.44,4,   1.416,6,   0.933,6,   1.267,6,  2015.8,2,  2335.4,2,   8.0619,2,    25.02,-999.000,9,-999.0000,9, -999.00,9,  28.7090,    1.12,2,    36.4,2,     2.3,-999.000,9,-999.000,    65.9,2,    7.90,2,      6.136,3, -999.00,9,-999.000,-999.0000, -999.00,     -999.0,     -999.0,9,     -999.0,     -999.0,9,     -999.0,  -999.0,9,     -999.0,     -999.0,9,     -999.0,  28.7070,    35.6568,2,-999.0000,2,     -999.0,9
33RO20150410,     P16N.1,      19,          1,         23,         23,2,20150416,       1311,    -7.4995,  -151.0002,       5384,    20.0,  28.7050,  35.4907,2,  35.4885,2,    196.7,2,   195.9,2,    1.60,2,    3.50,2,    0.08,2,    0.44,4,-999.000,9,-999.000,9,-999.000,9,  2016.4,6,  2335.6,2,   8.0618,2,    25.01,-999.000,9,-999.0000,9, -999.00,9,  28.7089, -999.00,9,  -999.0,9,  -999.0,-999.000,9,-999.000,    65.0,2,    8.70,2,     -999.0,9, -999.00,9,-999.000,-999.0000, -999.00,     -999.0,     -999.0,9,     -999.0,     -999.0,9,     -999.0,  -999.0,9,     -999.0,     -999.0,9,     -999.0,  28.7002,    35.6558,2,-999.0000,2,     -999.0,9
33RO20150410,     P16N.1,      19,          1,         22,         22,2,20150416,       1311,    -7.4995,  -151.0002,       5384,    42.4,  28.7138,  35.4904,2,  35.6368,2,    196.8,2,   197.6,2,    1.50,2,    3.50,2,    0.08,2,    0.46,4,   1.410,2,   0.934,2,   1.206,2,  2016.5,2,  2335.6,2,   8.0621,6,    25.02,-999.000,9,-999.0000,9, -999.00,9,  28.7159, -999.00,9,  -999.0,9,  -999.0,-999.000,9,-999.000,    68.4,2,    8.40,2,      6.139,3, -999.00,9,-999.000,-999.0000, -999.00,     -999.0,     -999.0,9,     -999.0,     -999.0,9,     -999.0,  -999.0,9,     -999.0,     -999.0,9,     -999.0,  28.7036,    35.8049,4,-999.0000,2,     -999.0,9
33RO20150410,     P16N.1,      19,          1,         21,         21,2,20150416,       1311,    -7.4995,  -151.0002,       5384,    67.4,  28.8090,  35.6177,2,  35.6361,2,    195.2,2,   195.8,2,    1.30,2,    2.50,2,    0.07,2,    0.42,4,-999.000,9,-999.000,9,-999.000,9,  2015.8,2,  2346.7,2,   8.0773,2,    25.03,-999.000,9,-999.0000,9, -999.00,9,  28.8097, -999.00,9,  -999.0,9,  -999.0,-999.000,9,-999.000,    68.8,2,    7.40,2,     -999.0,9, -999.00,9,-999.000,-999.0000, -999.00,     -999.0,     -999.0,9,     -999.0,     -999.0,9,     -999.0,  -999.0,9,     -999.0,     -999.0,9,     -999.0,  28.7928,    35.8041,2,-999.0000,2,     -999.0,9
33RO20150410,     P16N.1,      19,          1,         20,         20,2,20150416,       1311,    -7.4995,  -151.0002,       5384,    93.2,  28.4124,  35.8335,2,  35.8505,2,    186.1,2,   185.6,2,    1.20,2,    1.80,2,    0.38,2,    0.46,4,   1.426,2,   0.945,2,   1.242,2,  2030.7,2,  2362.3,6,   8.0744,6,    25.00,-999.000,9,-999.0000,9, -999.00,9,  28.4098,    1.16,2,    32.3,2,     2.0,-999.000,9,-999.000,    68.0,2,    7.70,2,      6.297,3, -999.00,9,-999.000,-999.0000, -999.00,     -999.0,     -999.0,9,     -999.0,     -999.0,9,     -999.0,  -999.0,9,     -999.0,     -999.0,9,     -999.0,  28.3901,    36.0196,2,-999.0000,2,     -999.0,9
33RO20150410,     P16N.1,      19,          1,         19,         19,2,20150416,       1311,    -7.4995,  -151.0002,       5384,   133.2,  26.5911,  36.3865,2,  36.3777,2,    172.8,2,   173.0,2,    1.10,2,    1.50,2,    1.32,2,    0.48,4,   1.539,2,   1.011,2,   1.255,2,  2073.5,2,  2396.3,2,   8.0489,2,    25.00,-999.000,9,-999.0000,9, -999.00,9,  26.5819,    1.08,2,    37.0,2,     2.1,-999.000,9,-999.000,    63.2,2,    7.30,2,      6.537,3, -999.00,9,-999.000,-999.0000, -999.00,     -999.0,     -999.0,9,     -999.0,     -999.0,9,     -999.0,  -999.0,9,     -999.0,     -999.0,9,     -999.0,  26.5607,    36.5492,2,-999.0000,2,     -999.0,9
33RO20150410,     P16N.1,      19,          1,         18,         18,2,20150416,       1311,    -7.4995,  -151.0002,       5384,   200.8,  19.8026,  35.7135,2,  35.7026,2,    161.3,2,   162.1,2,    1.60,2,    6.90,2,    0.01,2,    0.72,4,   2.103,2,   1.311,2,   1.298,2,  2126.1,2,  2352.6,2,   7.8931,2,    24.99,-999.000,9,-999.0000,9, -999.00,9,  19.8047,    0.81,2,    52.1,2,     2.0,-999.000,9,-999.000,    50.7,2,    9.20,2,     11.022,3, -999.00,9,-999.000,-999.0000, -999.00,     -999.0,     -999.0,9,     -999.0,     -999.0,9,     -999.0,  -999.0,9,     -999.0,     -999.0,9,     -999.0,  19.7656,    35.8709,2,-999.0000,2,     -999.0,9
33RO20150410,     P16N.1,      19,          1,         17,         17,2,20150416,       1311,    -7.4995,  -151.0002,       5384,   275.9,  12.7248,  34.8466,2,  34.8452,2,     58.4,2,    59.0,2,   14.70,2,   23.60,2,    0.01,2,    1.93,4,   1.491,2,   0.866,2,   0.508,2,  2221.2,2,  2300.8,2,   7.5560,2,    25.00,-999.000,9,-999.0000,9, -999.00,9,  12.7252,    0.21,2,     5.3,2,     2.1,-999.000,9,-999.000,    48.0,2,   26.30,2,     46.528,3, -999.00,9,-999.000,-999.0000, -999.00,     -999.0,     -999.0,9,     -999.0,     -999.0,9,     -999.0,  -999.0,9,     -999.0,     -999.0,9,     -999.0,  12.6873,    35.0096,2,-999.0000,2,     -999.0,9
33RO20150410,     P16N.1,      19,          1,         16,         16,2,20150416,       1311,    -7.4995,  -151.0002,       5384,   367.2,   9.9137,  34.7291,2,  34.7292,2,     90.5,2,    90.6,2,   22.80,2,   28.70,2,    0.00,2,    1.97,4,   0.808,2,   0.446,2,    0.19,2,  2212.9,2,  2301.9,2,   7.5736,6,    25.01,-999.000,9,-999.0000,9, -999.00,9,   9.9260,    0.46,6,   -33.6,6,     2.8,-999.000,9,-999.000,    43.5,2, -999.00,9,     38.689,3, -999.00,9,-999.000,-999.0000, -999.00,     -999.0,     -999.0,9,     -999.0,     -999.0,9,     -999.0,  -999.0,9,     -999.0,     -999.0,9,     -999.0,   9.8711,    34.8930,6,-999.0000,2,     -999.0,9
33RO20150410,     P16N.1,      19,          1,         15,         15,2,20150416,       1311,    -7.4995,  -151.0002,       5384,   467.4,   8.1528,  34.6211,2,  34.6198,2,     90.1,2,    87.9,2,   31.20,2,   32.70,2,    0.01,2,    2.20,4,   0.421,2,   0.223,2,   0.131,2,  2229.8,6,  2303.3,2,   7.5314,2,    25.00,-999.000,9,-999.0000,9, -999.00,9,   8.1662,    0.46,2,   -73.4,2,     2.6,-999.000,9,-999.000,    43.2,2, -999.00,9,     39.564,3, -999.00,9,-999.000,-999.0000, -999.00,     -999.0,     -999.0,9,     -999.0,     -999.0,9,     -999.0,  -999.0,9,     -999.0,     -999.0,9,     -999.0,   8.1044,    34.7830,2,-999.0000,2,     -999.0,9
33RO20150410,     P16N.1,      19,          1,         14,         14,2,20150416,       1311,    -7.4995,  -151.0002,       5384,   599.8,   7.1035,  34.5715,2,  34.5713,2,     74.5,2,    78.1,2,   39.90,2,   36.20,2,    0.01,2,    2.44,4,   0.174,2,   0.088,2,    0.06,2,  2251.1,2,  2309.8,2,   7.4876,2,    25.00,-999.000,9,-999.0000,9, -999.00,9,   7.1084,    0.38,2,   -99.0,2,     1.9,-999.000,9,-999.000,    42.7,2, -999.00,9,     40.894,3, -999.00,9,-999.000,-999.0000, -999.00,     -999.0,     -999.0,9,     -999.0,     -999.0,9,     -999.0,  -999.0,9,     -999.0,     -999.0,9,     -999.0,   7.0456,    34.7344,2,-999.0000,2,     -999.0,9
33RO20150410,     P16N.1,      19,          1,         13,         13,2,20150416,       1311,    -7.4995,  -151.0002,       5384,   750.4,   5.9270,  34.5374,2,  34.5376,2,     83.4,2,    83.2,2,   53.30,2,   37.80,2,    0.00,2,    2.61,4,-999.000,9,-999.000,9,-999.000,9,  2265.1,2,  2321.2,2,   7.4791,2,    25.00,-999.000,9,-999.0000,9, -999.00,9,   5.9307,    0.35,2,  -137.2,2,     2.4,-999.000,9,-999.000,    39.5,2, -999.00,9,     -999.0,9, -999.00,9,-999.000,-999.0000, -999.00,     -999.0,     -999.0,9,     -999.0,     -999.0,9,     -999.0,  -999.0,9,     -999.0,     -999.0,9,     -999.0,   5.8605,    34.7004,2,-999.0000,2,     -999.0,9
33RO20150410,     P16N.1,      19,          1,         12,         12,2,20150416,       1311,    -7.4995,  -151.0002,       5384,   900.3,   5.0106,  34.5330,2,  34.5334,2,     93.4,2,    94.4,2,   67.50,2,   37.90,2,    0.01,2,    2.66,4,   0.021,2,   0.011,2,   0.017,2,  2274.9,2,  2335.4,2,   7.4880,6,    25.00,-999.000,9,-999.0000,9, -999.00,9,   5.0086,    0.31,2,  -155.2,2,     1.7,-999.000,9,-999.000,    38.8,2, -999.00,9,     32.649,3, -999.00,9,-999.000,-999.0000, -999.00,     -999.0,     -999.0,9,     -999.0,     -999.0,9,     -999.0,  -999.0,9,     -999.0,     -999.0,9,     -999.0,   4.9361,    34.6963,2,-999.0000,2,     -999.0,9
33RO20150410,     P16N.1,      19,          1,         11,         11,2,20150416,       1311,    -7.4995,  -151.0002,       5384,  1050.1,   4.4161,  34.5398,2,  34.5401,2,    102.6,2,   103.5,2,   77.80,2,   37.60,2,    0.00,2,    2.69,4,-999.000,9,-999.000,9,-999.000,9,  2283.6,2,  2346.4,2,   7.5013,6,    25.00,-999.000,9,-999.0000,9, -999.00,9,   4.4168, -999.00,9,  -999.0,9,  -999.0,-999.000,9,-999.000,    37.2,2, -999.00,9,     -999.0,9, -999.00,9,-999.000,-999.0000, -999.00,     -999.0,     -999.0,9,     -999.0,     -999.0,9,     -999.0,  -999.0,9,     -999.0,     -999.0,9,     -999.0,   4.3328,    34.7030,2,-999.0000,2,     -999.0,9
33RO20150410,     P16N.1,      19,          1,         10,         10,2,20150416,       1311,    -7.4995,  -151.0002,       5384,  1232.1,   3.7831,  34.5582,2,  34.5580,2,    107.2,2,   108.7,2,   90.20,2,   37.80,2,    0.00,2,    2.72,4,-999.000,9,-999.000,9,-999.000,9,  2294.2,2,  2360.7,2,   7.5050,2,    24.99,-999.000,9,-999.0000,9, -999.00,9,   3.7835, -999.00,9,  -999.0,9,  -999.0,-999.000,9,-999.000,    38.1,2, -999.00,9,     -999.0,9, -999.00,9,-999.000,-999.0000, -999.00,     -999.0,     -999.0,9,     -999.0,     -999.0,9,     -999.0,  -999.0,9,     -999.0,     -999.0,9,     -999.0,   3.6897,    34.7210,2,-999.0000,2,     -999.0,9
33RO20150410,     P16N.1,      19,          1,          9,          9,2,20150416,       1311,    -7.4995,  -151.0002,       5384,  1500.0,   2.9684,  34.5928,2,  34.5940,2,    118.9,2,   120.2,2,  108.30,2,   37.20,2,    0.00,2,    2.73,4,   0.000,2,  -0.001,2,       0,2,  2306.0,2,  2380.2,2,   7.5222,2,    25.00,-999.000,9,-999.0000,9, -999.00,9,   2.9701, -999.00,9,  -999.0,9,  -999.0,-999.000,9,-999.000,    37.8,2, -999.00,9,     26.141,3, -999.00,9,-999.000,-999.0000, -999.00,     -999.0,     -999.0,9,     -999.0,     -999.0,9,     -999.0,  -999.0,9,     -999.0,     -999.0,9,     -999.0,   2.8609,    34.7571,2,-999.0000,2,     -999.0,9
33RO20150410,     P16N.1,      19,          1,          8,          8,2,20150416,       1311,    -7.4995,  -151.0002,       5384,  1867.9,   2.3292,  34.6310,2,  34.6340,2,    126.6,2,   128.1,2,  124.10,2,   36.70,2,    0.00,2,    2.74,4,-999.000,9,-999.000,9,-999.000,9,  2317.2,2,  2398.2,2,   7.5379,2,    25.00,-999.000,9,-999.0000,9, -999.00,9,   2.3289, -999.00,9,  -999.0,9,  -999.0,-999.000,9,-999.000,    35.6,2, -999.00,9,     -999.0,9, -999.00,9,-999.000,-999.0000, -999.00,     -999.0,     -999.0,9,     -999.0,     -999.0,9,     -999.0,  -999.0,9,     -999.0,     -999.0,9,     -999.0,   2.1990,    34.7973,6,-999.0000,2,     -999.0,9
33RO20150410,     P16N.1,      19,          1,          7,          7,2,20150416,       1311,    -7.4995,  -151.0002,       5384,  2332.7,   1.9313,  34.6598,2,  34.6618,2,    137.6,2,   137.7,2,  132.50,2,   36.10,2,    0.01,2,    2.70,4,-999.000,9,-999.000,9,-999.000,9,  2323.2,2,  2410.7,2,   7.5563,2,    25.00,-999.000,9,-999.0000,9, -999.00,9,   1.9312, -999.00,9,  -999.0,9,  -999.0,-999.000,9,-999.000,    36.8,2, -999.00,9,     -999.0,9, -999.00,9,-999.000,-999.0000, -999.00,     -999.0,     -999.0,9,     -999.0,     -999.0,9,     -999.0,  -999.0,9,     -999.0,     -999.0,9,     -999.0,   1.7672,    34.8252,2,-999.0000,2,     -999.0,9
33RO20150410,     P16N.1,      19,          1,          6,          6,2,20150416,       1311,    -7.4995,  -151.0002,       5384,  2833.0,   1.7284,  34.6763,2,  34.6762,2,    145.7,2,   146.2,2,  138.50,2,   35.70,2,    0.02,2,    2.68,4,   0.000,2,  -0.002,2,       0,2,  2322.2,2,  2418.4,2,   7.5730,2,    25.00,-999.000,9,-999.0000,9, -999.00,9,   1.7284, -999.00,9,  -999.0,9,  -999.0,-999.000,9,-999.000,    37.2,2, -999.00,9,     21.423,3, -999.00,9,-999.000,-999.0000, -999.00,     -999.0,     -999.0,9,     -999.0,     -999.0,9,     -999.0,  -999.0,9,     -999.0,     -999.0,9,     -999.0,   1.5225,    34.8397,2,-999.0000,2,     -999.0,9
33RO20150410,     P16N.1,      19,          1,          5,          5,2,20150416,       1311,    -7.4995,  -151.0002,       5384,  3332.8,   1.5601,  34.6864,2,  34.6867,2,    158.7,2,   159.5,2,  137.80,2,   34.80,2,    0.00,2,    2.61,4,-999.000,9,-999.000,9,-999.000,9,  2315.6,2,  2417.4,2,   7.5923,2,    24.99,-999.000,9,-999.0000,9, -999.00,9,   1.5604, -999.00,9,  -999.0,9,  -999.0,-999.000,9,-999.000,    37.5,2, -999.00,9,     -999.0,9, -999.00,9,-999.000,-999.0000, -999.00,     -999.0,     -999.0,9,     -999.0,     -999.0,9,     -999.0,  -999.0,9,     -999.0,     -999.0,9,     -999.0,   1.3093,    34.8503,2,-999.0000,2,     -999.0,9
33RO20150410,     P16N.1,      19,          1,          4,          4,2,20150416,       1311,    -7.4995,  -151.0002,       5384,  3833.8,   1.4346,  34.6937,2,  34.6932,2,    169.1,2,   170.8,2,  133.90,2,   34.20,2,    0.00,2,    2.54,4,-999.000,9,-999.000,9,-999.000,9,  2303.2,2,  2408.3,2,   7.5998,2,    25.00,-999.000,9,-999.0000,9, -999.00,9,   1.4344, -999.00,9,  -999.0,9,  -999.0,-999.000,9,-999.000,    37.3,2, -999.00,9,     -999.0,9, -999.00,9,-999.000,-999.0000, -999.00,     -999.0,     -999.0,9,     -999.0,     -999.0,9,     -999.0,  -999.0,9,     -999.0,     -999.0,9,     -999.0,   1.1353,    34.8568,2,-999.0000,2,     -999.0,9
33RO20150410,     P16N.1,      19,          1,          3,          3,2,20150416,       1311,    -7.4995,  -151.0002,       5384,  4332.9,   1.3650,  34.6992,2,  34.6987,2,    181.9,2,   182.7,2,  127.30,2,   33.40,2,    0.00,2,    2.47,4,-999.000,9,-999.000,9,-999.000,9,  2289.1,2,  2393.5,6,   7.6031,2,    25.00,-999.000,9,-999.0000,9, -999.00,9,   1.3652, -999.00,9,  -999.0,9,  -999.0,-999.000,9,-999.000,    37.3,2, -999.00,9,     -999.0,9, -999.00,9,-999.000,-999.0000, -999.00,     -999.0,     -999.0,9,     -999.0,     -999.0,9,     -999.0,  -999.0,9,     -999.0,     -999.0,9,     -999.0,   1.0130,    34.8623,2,-999.0000,2,     -999.0,9
33RO20150410,     P16N.1,      19,          1,          2,          2,2,20150416,       1311,    -7.4995,  -151.0002,       5384,  4833.2,   1.3571,  34.7018,2,  34.7017,2,    187.5,2,   187.6,2,  125.90,2,   33.10,2,    0.02,2,    2.45,4,  -0.001,2,   0.000,2,       0,2,  2285.1,6,  2388.9,2,   7.6056,2,    25.02,-999.000,9,-999.0000,9, -999.00,9,   1.3573, -999.00,9,  -999.0,9,  -999.0,-999.000,9,-999.000,    38.9,2, -999.00,9,     19.203,3, -999.00,9,-999.000,-999.0000, -999.00,     -999.0,     -999.0,9,     -999.0,     -999.0,9,     -999.0,  -999.0,9,     -999.0,     -999.0,9,     -999.0,   0.9475,    34.8653,2,-999.0000,2,     -999.0,9
33RO20150410,     P16N.1,      19,          1,          1,          1,3,20150416,       1311,    -7.4995,  -151.0002,       5384,  5373.2,   1.4040,  34.7021,2,  34.7011,2,    189.4,2,   188.8,2,  126.50,2,   33.00,2,    0.00,2,    2.44,4,   0.006,2,   0.003,6,       0,2,  2281.8,2,  2388.1,2,   7.6052,6,    25.02,-999.000,9,-999.0000,9, -999.00,9,   1.4042, -999.00,9,  -999.0,9,  -999.0,-999.000,9,-999.000,    38.9,2, -999.00,9,     19.153,3, -999.00,9,-999.000,-999.0000, -999.00,     -999.0,     -999.0,9,     -999.0,     -999.0,9,     -999.0,  -999.0,9,     -999.0,     -999.0,9,     -999.0,   0.9268,    34.8647,2,-999.0000,2,     -999.0,9