BOTTLE,20214410JOAExport
EXPOCODE,SECT_ID,STNNBR,CASTNO,SAMPNO,BTLNBR,BTLNBR_FLAG_W,DATE,TIME,LATITUDE,LONGITUDE,DEPTH,CTDPRS,CTDTMP,CTDSAL,CTDSAL_FLAG_W,SALNTY,SALNTY_FLAG_W,CTDOXY,CTDOXY_FLAG_W,OXYGEN,OXYGEN_FLAG_W,SILCAT,SILCAT_FLAG_W,NITRAT,NITRAT_FLAG_W,NITRIT,NITRIT_FLAG_W,PHSPHT,PHSPHT_FLAG_W,CFC-11,CFC-11_FLAG_W,CFC-12,CFC-12_FLAG_W,SF6,SF6_FLAG_W,TCARBN,TCARBN_FLAG_W,ALKALI,ALKALI_FLAG_W
,,,,,,,,,,,,DB,ITS-90,PSS-78,,PSS-78,,UMOL/KG,,UMOL/KG,,UMOL/KG,,UMOL/KG,,UMOL/KG,,UMOL/KG,,PMOL/KG,,PMOL/KG,,PMOL/KG,,UMOL/KG,,UMOL/KG
           NA,    P17N,    141,   2,-999.0,       1,  2,19930620,1859,  56.2165, -139.1667,  3326,    1.400,   12.469,   31.895,2,   31.889,2,  293.400,2,  293.100,2,   12.400,2,    0.140,2,    0.010,2,    0.400,2,    3.983,2,    1.999,2, -999.000,9, 1937.500,2, -999.000,9
           NA,    P17N,    141,   2,-999.0,       2,  2,19930620,1859,  56.2165, -139.1667,  3326,   30.000,    8.261,   32.187,2,   32.163,2,  272.600,2,  270.900,2,   19.450,2,   11.370,2,    0.170,2,    1.140,2,    4.340,2,    2.148,2, -999.000,9, 2015.100,2, -999.000,9
           NA,    P17N,    141,   2,-999.0,       3,  2,19930620,1859,  56.2165, -139.1667,  3326,   55.000,    7.521,   32.353,2,   32.345,2,  263.300,2,  283.700,2,   20.790,2,   11.700,2,    0.170,2,    1.200,2, -999.000,9, -999.000,9, -999.000,9, 2023.400,2, -999.000,9
           NA,    P17N,    141,   2,-999.0,       4,  2,19930620,1859,  56.2165, -139.1667,  3326,   80.300,    7.248,   32.563,2,   32.574,2,  242.200,2,  244.300,2,   26.820,2,   17.040,2,    0.030,2,    1.480,2,    4.340,2,    2.036,2, -999.000,9, 2065.500,2, -999.000,9
           NA,    P17N,    141,   2,-999.0,       5,  2,19930620,1859,  56.2165, -139.1667,  3326,  105.900,    6.668,   32.687,2,   32.706,2,  247.900,2,  230.300,2,   31.420,2,   19.750,2,    0.020,2,    1.650,2, -999.000,9, -999.000,9, -999.000,9, 2087.600,2, -999.000,9
           NA,    P17N,    141,   2,-999.0,       6,  2,19930620,1859,  56.2165, -139.1667,  3326,  131.200,    6.780, -999.000,4,   33.126,2, -999.000,9,  202.800,2,   32.750,2,   22.450,2,    0.030,2,    1.800,2,    3.912,2,    1.867,2, -999.000,9, 2121.100,2, -999.000,9
           NA,    P17N,    141,   2,-999.0,       7,  2,19930620,1859,  56.2165, -139.1667,  3326,  156.100,    6.537, -999.000,4,   33.387,2, -999.000,9,  186.300,2,   36.330,2,   25.040,2,    0.030,2,    1.930,2, -999.000,9, -999.000,9, -999.000,9, 2147.400,2, -999.000,9
           NA,    P17N,    141,   2,-999.0,       8,  2,19930620,1859,  56.2165, -139.1667,  3326,  180.900,    6.212,   33.619,2,   33.635,2,  143.300,2,  153.400,2,   45.610,2,   28.900,2,    0.020,2,    2.160,2,    3.151,2,    1.441,2, -999.000,9, 2192.200,2, -999.000,9
           NA,    P17N,    141,   2,-999.0,       9,  2,19930620,1859,  56.2165, -139.1667,  3326,  206.500,    5.792,   33.743,2,   33.747,2,  155.900,2,  159.000,2,   47.970,2,   29.330,2,    0.020,2,    2.160,2, -999.000,9, -999.000,9, -999.000,9, 2192.500,2, -999.000,9
           NA,    P17N,    141,   2,-999.0,      10,  2,19930620,1859,  56.2165, -139.1667,  3326,  232.200,    5.693,   33.824,2,   33.830,2,  123.600,2,  128.200,2,   54.810,2,   31.890,2,    0.020,2,    2.340,2,    2.468,2,    1.122,2, -999.000,9, 2217.100,2, -999.000,9
           NA,    P17N,    141,   2,-999.0,      11,  2,19930620,1859,  56.2165, -139.1667,  3326,  257.200,    5.342,   33.848,2,   33.850,2,  113.100,2,  112.400,2,   60.840,2,   34.190,2,    0.010,2,    2.480,2, -999.000,9, -999.000,9, -999.000,9, 2236.100,2, -999.000,9
           NA,    P17N,    141,   2,-999.0,      12,  2,19930620,1859,  56.2165, -139.1667,  3326,  282.100,    5.168,   33.868,2,   33.862,2,  109.600,2,  107.500,2,   64.430,2,   35.000,2,    0.010,2,    2.530,2,    2.171,2,    0.968,2, -999.000,9, 2244.100,2, -999.000,9
           NA,    P17N,    141,   2,-999.0,      13,  2,19930620,1859,  56.2165, -139.1667,  3326,  307.900,    4.982,   33.888,2,   33.887,2,   86.900,2,   90.000,2,   69.240,2,   36.640,2,    0.010,2,    2.640,2, -999.000,9, -999.000,9, -999.000,9, 2259.100,2, -999.000,9
           NA,    P17N,    141,   2,-999.0,      14,  2,19930620,1859,  56.2165, -139.1667,  3326,  358.700,    4.549,   33.935,2,   33.936,2,   61.600,2,   59.600,2,   81.410,2,   39.940,2,    0.010,2,    2.880,2,    1.249,2,    0.563,2, -999.000,9, 2289.500,2, -999.000,9
           NA,    P17N,    141,   2,-999.0,      15,  2,19930620,1859,  56.2165, -139.1667,  3326,  409.300,    4.371,   33.970,2,   33.969,2,   48.600,2,   47.700,2,   87.450,2,   41.210,2,    0.010,2,    2.960,2,    0.976,2,    0.557,2, -999.000,9, 2301.700,2, -999.000,9
           NA,    P17N,    141,   2,-999.0,      16,  2,19930620,1859,  56.2165, -139.1667,  3326,  459.800,    4.248,   34.008,2,   34.011,2,   39.100,2,   37.900,2,   93.510,2,   42.040,2,    0.010,2,    3.020,2,    0.771,2,    0.383,2, -999.000,9, 2315.900,2, -999.000,9
           NA,    P17N,    141,   2,-999.0,      17,  2,19930620,1859,  56.2165, -139.1667,  3326,  509.800,    4.125,   34.046,2,   34.047,2,   33.600,2,   32.100,2,   98.950,2,   42.590,2,    0.010,2,    3.060,2,    0.594,2,    0.267,2, -999.000,9, 2322.600,2, -999.000,9
           NA,    P17N,    141,   2,-999.0,      18,  2,19930620,1859,  56.2165, -139.1667,  3326,  560.500,    4.128,   34.108,2,   34.108,2,   27.600,2,   25.700,2,  103.170,2,   42.750,2,    0.010,2,    3.080,2,    0.351,2,    0.168,2, -999.000,9, 2330.800,2, -999.000,9
           NA,    P17N,    141,   2,-999.0,      19,  2,19930620,1859,  56.2165, -139.1667,  3326,  610.400,    4.041,   34.145,2,   34.145,2,   23.300,2,   22.300,2,  108.210,2,   43.030,2,    0.010,2,    3.110,2,    0.251,2,    0.117,2, -999.000,9, 2335.900,2, -999.000,9
           NA,    P17N,    141,   2,-999.0,      20,  2,19930620,1859,  56.2165, -139.1667,  3326,  660.400,    3.887,   34.179,2,   34.180,2,   20.200,2,   19.200,2,  114.090,2,   43.360,2,    0.010,2,    3.130,2,    0.192,2, -999.000,3, -999.000,9, 2346.200,2, -999.000,9
           NA,    P17N,    141,   2,-999.0,      21,  2,19930620,1859,  56.2165, -139.1667,  3326,  762.600,    3.561,   34.236,2,   34.236,2,   17.000,2,   16.900,2,  124.940,2,   43.750,2,    0.010,2,    3.150,2,    0.101,2,    0.054,2, -999.000,9, -999.000,3, -999.000,9
           NA,    P17N,    141,   2,-999.0,      22,  2,19930620,1859,  56.2165, -139.1667,  3326,  863.500,    3.345,   34.296,2,   34.297,2,   14.700,2,   14.700,2,  133.340,2,   43.970,2,    0.010,2,    3.170,2,    0.035,2,    0.023,2, -999.000,9, 2369.200,2, -999.000,9
           NA,    P17N,    141,   2,-999.0,      23,  2,19930620,1859,  56.2165, -139.1667,  3326,  964.900,    3.154,   34.337,2,   34.337,2,   15.100,2,   14.200,2,  139.900,2,   43.960,2,    0.010,2,    3.180,2,    0.024,2,    0.014,2, -999.000,9, -999.000,9, -999.000,9
           NA,    P17N,    141,   2,-999.0,      24,  2,19930620,1859,  56.2165, -139.1667,  3326, 1015.800,    3.055,   34.354,2,   34.354,2,   14.900,2,   14.600,2,  143.340,2,   44.130,2,    0.010,2,    3.180,2,    0.019,2,    0.010,2, -999.000,9, 2379.700,2, -999.000,9
           NA,    P17N,    141,   2,-999.0,      25,  2,19930620,1859,  56.2165, -139.1667,  3326, 1117.000,    2.888,   34.390,2,   34.388,2,   14.400,2,   14.400,2,  148.880,2,   44.240,2,    0.010,2,    3.180,2, -999.000,9, -999.000,9, -999.000,9, -999.000,9, -999.000,9
           NA,    P17N,    141,   2,-999.0,      26,  2,19930620,1859,  56.2165, -139.1667,  3326, 1319.600,    2.612,   34.442,2,   34.442,2,   17.700,2,   17.700,2,  157.800,2,   44.240,2,    0.010,2,    3.160,2,   -0.002,2,    0.004,2, -999.000,9, 2391.600,2, -999.000,9
           NA,    P17N,    141,   2,-999.0,      27,  2,19930620,1859,  56.2165, -139.1667,  3326, 1523.100,    2.367,   34.492,2, -999.000,4,   24.600,2,   25.200,2,  164.870,2,   43.560,2,    0.010,2,    3.120,2, -999.000,9, -999.000,9, -999.000,9, -999.000,9, -999.000,9
           NA,    P17N,    141,   2,-999.0,      28,  2,19930620,1859,  56.2165, -139.1667,  3326, 1725.800,    2.155,   34.537,2,   34.539,2,   36.000,2,   37.900,2,  170.270,2,   43.230,2,    0.010,2,    3.060,2, -999.000,9, -999.000,9, -999.000,9, 2391.600,2, -999.000,9
           NA,    P17N,    141,   2,-999.0,      29,  2,19930620,1859,  56.2165, -139.1667,  3326, 1930.300,    1.977,   34.572,2,   34.573,2,   48.800,2,   51.200,2,  173.770,2,   42.450,2,    0.010,2,    3.000,2, -999.000,9, -999.000,9, -999.000,9, -999.000,9, -999.000,9
           NA,    P17N,    141,   2,-999.0,      30,  2,19930620,1859,  56.2165, -139.1667,  3326, 2134.700,    1.872,   34.595,2,   34.596,2,   61.200,2,   62.700,2,  175.580,2,   41.670,2,    0.010,2,    2.950,2, -999.000,9, -999.000,9, -999.000,9, 2383.900,2, -999.000,9
           NA,    P17N,    141,   2,-999.0,      31,  2,19930620,1859,  56.2165, -139.1667,  3326, 2340.300,    1.774,   34.614,2,   34.615,2,   73.500,2,   74.700,2,  176.550,2,   40.890,2,    0.010,2,    2.900,2, -999.000,9, -999.000,9, -999.000,9, -999.000,9, -999.000,9
           NA,    P17N,    141,   2,-999.0,      32,  2,19930620,1859,  56.2165, -139.1667,  3326, 2545.200,    1.706,   34.630,2,   34.629,2,   83.600,2,   84.500,2,  177.510,2,   40.230,2,    0.010,2,    2.850,2, -999.000,9, -999.000,9, -999.000,9, 2357.100,2, -999.000,9
           NA,    P17N,    141,   2,-999.0,      33,  2,19930620,1859,  56.2165, -139.1667,  3326, 2750.000,    1.649,   34.640,2,   34.641,2,   93.300,2,   93.600,2,  178.260,2,   39.730,2,    0.010,2,    2.800,2, -999.000,9, -999.000,9, -999.000,9, -999.000,9, -999.000,9
           NA,    P17N,    141,   2,-999.0,      34,  2,19930620,1859,  56.2165, -139.1667,  3326, 2955.600,    1.600,   34.650,2,   34.651,2,  103.200,2,  103.300,2,  177.730,2,   39.120,2,    0.010,2,    2.750,2, -999.000,9, -999.000,9, -999.000,9, 2365.200,2, -999.000,9
           NA,    P17N,    141,   2,-999.0,      38,  2,19930620,1859,  56.2165, -139.1667,  3326, 3211.700,    1.541,   34.664,2,   34.664,2,  115.900,2,  116.000,2,  177.410,2,   38.350,2,    0.010,2,    2.690,2, -999.000,9, -999.000,9, -999.000,9, -999.000,9, -999.000,9
           NA,    P17N,    141,   2,-999.0,      36,  2,19930620,1859,  56.2165, -139.1667,  3326, 3345.600,    1.499,   34.672,2,   34.672,2,  124.700,2,  123.600,2,  180.080,2,   37.690,2,    0.010,2,    2.650,2, -999.000,9, -999.000,9, -999.000,9, 2358.900,2, -999.000,9