BOTTLE,20214410JOAExport
EXPOCODE,SECT_ID,STNNBR,CASTNO,SAMPNO,BTLNBR,BTLNBR_FLAG_W,DATE,TIME,LATITUDE,LONGITUDE,DEPTH,CTDPRS,CTDTMP,CTDSAL,CTDSAL_FLAG_W,SALNTY,SALNTY_FLAG_W,CTDOXY,CTDOXY_FLAG_W,OXYGEN,OXYGEN_FLAG_W,SILCAT,SILCAT_FLAG_W,NITRAT,NITRAT_FLAG_W,NITRIT,NITRIT_FLAG_W,PHSPHT,PHSPHT_FLAG_W,CFC-11,CFC-11_FLAG_W,CFC-12,CFC-12_FLAG_W,SF6,SF6_FLAG_W,TCARBN,TCARBN_FLAG_W,ALKALI,ALKALI_FLAG_W
,,,,,,,,,,,,DB,ITS-90,PSS-78,,PSS-78,,UMOL/KG,,UMOL/KG,,UMOL/KG,,UMOL/KG,,UMOL/KG,,UMOL/KG,,PMOL/KG,,PMOL/KG,,PMOL/KG,,UMOL/KG,,UMOL/KG
           NA,    P17N,    135,   1,-999.0,       1,  2,19930619,0339,  55.2902, -144.2523,  3992,    2.000,    9.877,   32.543,2,   32.529,2,  304.600,2,  300.200,2,   23.960,2,   10.550,2,    0.130,2,    1.100,2,    4.263,2,    2.188,2, -999.000,9, -999.000,9, 2192.400,2
           NA,    P17N,    135,   1,-999.0,       2,  2,19930619,0339,  55.2902, -144.2523,  3992,   30.500,    8.304,   32.551,2,   32.550,2,  309.800,2,  312.100,2,   23.460,2,   10.990,2,    0.120,2,    1.130,2,    4.719,2,    2.284,2, -999.000,9, -999.000,9, 2190.300,2
           NA,    P17N,    135,   1,-999.0,       3,  2,19930619,0339,  55.2902, -144.2523,  3992,   55.400,    5.893,   32.539,2,   32.536,2,  300.700,2,  309.800,2,   21.120,2,   11.910,2,    0.170,2,    1.210,2, -999.000,9, -999.000,9, -999.000,9, -999.000,9, 2196.700,2
           NA,    P17N,    135,   1,-999.0,       4,  2,19930619,0339,  55.2902, -144.2523,  3992,   80.300,    5.334,   32.639,2,   32.640,2,  290.100,2,  294.400,2,   23.690,2,   15.060,2,    0.160,2,    1.370,2,    4.993,2,    2.397,2, -999.000,9, -999.000,9, 2198.900,2
           NA,    P17N,    135,   1,-999.0,       5,  2,19930619,0339,  55.2902, -144.2523,  3992,  106.500,    4.561,   32.887,2,   32.883,2,  259.500,2,  272.000,2,   31.800,2,   19.700,2,    0.030,2,    1.640,2,    4.862,2,    2.296,2, -999.000,9, -999.000,9, 2217.700,2
           NA,    P17N,    135,   1,-999.0,       6,  2,19930619,0339,  55.2902, -144.2523,  3992,  131.500,    4.201,   33.250,2,   33.252,2,  203.900,2,  207.800,2,   47.900,2,   27.520,2,    0.010,2,    2.110,2,    3.966,2,    1.882,2, -999.000,9, -999.000,9, -999.000,9
           NA,    P17N,    135,   1,-999.0,       7,  2,19930619,0339,  55.2902, -144.2523,  3992,  156.500,    3.994,   33.548,2,   33.545,2,  148.700,2,  150.400,2,   62.570,2,   33.620,2,    0.010,2,    2.480,2, -999.000,9, -999.000,9, -999.000,9, -999.000,9, 2268.400,2
           NA,    P17N,    135,   1,-999.0,       8,  2,19930619,0339,  55.2902, -144.2523,  3992,  181.600,    3.764,   33.675,2,   33.673,2,  122.400,2,  125.300,2,   71.090,2,   36.360,2,    0.010,2,    2.650,2, -999.000,9, -999.000,9, -999.000,9, -999.000,9, 2275.300,2
           NA,    P17N,    135,   1,-999.0,       9,  2,19930619,0339,  55.2902, -144.2523,  3992,  206.700,    3.665,   33.755,2,   33.756,2,   93.300,2,   95.800,2,   78.800,2,   38.940,2,    0.010,2,    2.820,2,    2.265,2,    1.031,2, -999.000,9, -999.000,9, 2274.100,2
           NA,    P17N,    135,   1,-999.0,      10,  2,19930619,0339,  55.2902, -144.2523,  3992,  257.500,    3.736,   33.867,2,   33.866,2,   55.700,2,   54.600,2,   88.980,2,   42.080,2,    0.010,2,    3.010,2, -999.000,9, -999.000,9, -999.000,9, -999.000,9, 2294.900,2
           NA,    P17N,    135,   1,-999.0,      11,  2,19930619,0339,  55.2902, -144.2523,  3992,  308.200,    3.764,   33.950,2,   33.947,2,   37.300,2,   33.900,2,   97.110,2,   43.520,2,    0.010,2,    3.090,2,    1.080,2,    0.475,2, -999.000,9, -999.000,9, 2308.500,2
           NA,    P17N,    135,   1,-999.0,      12,  2,19930619,0339,  55.2902, -144.2523,  3992,  358.600,    3.750,   34.009,2,   34.009,2,   28.900,2,   25.800,2,  103.400,2,   43.910,2,    0.000,2,    3.130,2, -999.000,9, -999.000,9, -999.000,9, -999.000,9, 2315.600,2
           NA,    P17N,    135,   1,-999.0,      13,  2,19930619,0339,  55.2902, -144.2523,  3992,  408.600,    3.736,   34.063,2,   34.062,2,   26.400,2,   23.000,2,  108.040,2,   43.740,2,    0.000,2,    3.140,2,    0.548,2,    0.245,2, -999.000,9, -999.000,9, 2324.500,2
           NA,    P17N,    135,   1,-999.0,      14,  2,19930619,0339,  55.2902, -144.2523,  3992,  459.400,    3.686,   34.110,2,   34.109,2,   21.600,2,   20.600,2,  112.900,2,   43.790,2,    0.000,2,    3.130,2, -999.000,9, -999.000,9, -999.000,9, -999.000,9, 2330.300,2
           NA,    P17N,    135,   1,-999.0,      15,  2,19930619,0339,  55.2902, -144.2523,  3992,  509.600,    3.608,   34.154,2,   34.154,2,   19.300,2,   18.500,2,  117.960,2,   43.780,2,    0.000,2,    3.130,2,    0.271,2,    0.122,2, -999.000,9, -999.000,9, 2340.100,2
           NA,    P17N,    135,   1,-999.0,      16,  2,19930619,0339,  55.2902, -144.2523,  3992,  559.400,    3.567,   34.187,2,   34.187,2,   17.600,2,   16.700,2,  121.380,2,   43.830,2,    0.000,2,    3.130,2, -999.000,9, -999.000,9, -999.000,9, -999.000,9, 2354.900,2
           NA,    P17N,    135,   1,-999.0,      17,  2,19930619,0339,  55.2902, -144.2523,  3992,  660.000,    3.392,   34.239,2,   34.236,2,   17.700,2,   18.100,2,  128.330,2,   43.660,2,    0.000,2,    3.130,2,    0.120,2,    0.050,2, -999.000,9, -999.000,9, 2351.600,2
           NA,    P17N,    135,   1,-999.0,      18,  2,19930619,0339,  55.2902, -144.2523,  3992,  761.100,    3.213,   34.284,2,   34.284,2,   19.400,2,   19.300,2,  134.670,2,   43.490,2,    0.000,2,    3.130,2,    0.088,2,    0.035,2, -999.000,9, -999.000,9, 2358.800,2
           NA,    P17N,    135,   1,-999.0,      19,  2,19930619,0339,  55.2902, -144.2523,  3992,  862.300,    3.087,   34.322,2,   34.321,2,   19.100,2,   20.500,2,  139.570,2,   43.490,2,    0.000,2,    3.120,2, -999.000,9, -999.000,9, -999.000,9, -999.000,9, 2369.000,2
           NA,    P17N,    135,   1,-999.0,      20,  2,19930619,0339,  55.2902, -144.2523,  3992,  963.600,    2.958,   34.359,2,   34.357,2,   18.000,2,   18.200,2,  144.470,2,   43.760,2,    0.000,2,    3.130,2,    0.010,2,    0.014,2, -999.000,9, -999.000,9, 2381.100,2
           NA,    P17N,    135,   1,-999.0,      21,  2,19930619,0339,  55.2902, -144.2523,  3992, 1066.800,    2.809,   34.397,2,   34.397,2,   15.100,2,   15.900,2,  150.020,2,   44.040,2,    0.000,2,    3.150,2,    0.009,2, -999.000,3, -999.000,9, -999.000,9, 2394.100,2
           NA,    P17N,    135,   1,-999.0,      22,  2,19930619,0339,  55.2902, -144.2523,  3992, 1219.800,    2.638,   34.433,2,   34.430,2,   16.700,2,   17.200,2,  155.580,2,   44.090,2,    0.000,2,    3.150,2,    0.006,2,    0.010,2, -999.000,9, -999.000,9, 2390.900,2
           NA,    P17N,    135,   1,-999.0,      23,  2,19930619,0339,  55.2902, -144.2523,  3992, 1321.100,    2.522,   34.458,2,   34.457,2,   19.000,2,   19.400,2,  159.260,2,   44.030,2,    0.000,2,    3.130,2, -999.000,9, -999.000,9, -999.000,9, -999.000,9, 2399.100,2
           NA,    P17N,    135,   1,-999.0,      24,  2,19930619,0339,  55.2902, -144.2523,  3992, 1522.600,    2.320,   34.501,2,   34.501,2,   27.000,2,   27.400,2,  165.060,2,   43.630,2,    0.000,2,    3.090,2,    0.002,2,    0.004,2, -999.000,9, -999.000,9, -999.000,9
           NA,    P17N,    135,   1,-999.0,      25,  2,19930619,0339,  55.2902, -144.2523,  3992, 1727.500,    2.119,   34.544,2,   34.544,2,   38.800,2,   39.300,2,  169.810,2,   42.960,2,    0.000,2,    3.040,2, -999.000,9, -999.000,9, -999.000,9, -999.000,9, 2414.600,2
           NA,    P17N,    135,   1,-999.0,      26,  2,19930619,0339,  55.2902, -144.2523,  3992, 1931.700,    1.972,   34.575,2,   34.574,2,   51.100,2,   52.500,2,  172.450,2,   42.120,2,    0.000,2,    3.010,2, -999.000,9, -999.000,9, -999.000,9, -999.000,9, -999.000,9
           NA,    P17N,    135,   1,-999.0,      27,  2,19930619,0339,  55.2902, -144.2523,  3992, 2135.000,    1.861,   34.598,2,   34.597,2,   61.800,2,   64.200,2,  173.820,2,   41.450,2,    0.000,2,    2.930,2, -999.000,9, -999.000,9, -999.000,9, -999.000,9, 2422.600,2
           NA,    P17N,    135,   1,-999.0,      28,  2,19930619,0339,  55.2902, -144.2523,  3992, 2340.200,    1.776,   34.615,2,   34.615,2,   73.200,2,   75.100,2,  174.330,2,   40.620,2,    0.000,2,    2.880,2, -999.000,9, -999.000,9, -999.000,9, -999.000,9, -999.000,9
           NA,    P17N,    135,   1,-999.0,      29,  2,19930619,0339,  55.2902, -144.2523,  3992, 2545.500,    1.695,   34.631,2,   34.631,2,   85.800,2,   86.900,2,  174.630,2,   40.010,2,    0.000,2,    2.820,2, -999.000,9, -999.000,9, -999.000,9, -999.000,9, 2421.400,2
           NA,    P17N,    135,   1,-999.0,      30,  2,19930619,0339,  55.2902, -144.2523,  3992, 2749.900,    1.627,   34.643,2,   34.643,2,   96.800,2,   98.100,2,  174.510,2,   39.290,2,    0.000,2,    2.770,2, -999.000,9, -999.000,9, -999.000,9, -999.000,9, -999.000,9
           NA,    P17N,    135,   1,-999.0,      31,  2,19930619,0339,  55.2902, -144.2523,  3992, 2929.900,    1.583,   34.652,2,   34.653,2,  106.400,2,  107.100,2,  174.170,2,   38.730,2,    0.000,2,    2.720,2, -999.000,9, -999.000,9, -999.000,9, -999.000,9, 2431.200,2
           NA,    P17N,    135,   1,-999.0,      32,  2,19930619,0339,  55.2902, -144.2523,  3992, 3185.700,    1.533,   34.662,2,   34.662,2,  118.100,2,  118.200,2,  172.770,2,   38.020,2,    0.000,2,    2.670,2, -999.000,9, -999.000,9, -999.000,9, -999.000,9, -999.000,9
           NA,    P17N,    135,   1,-999.0,      33,  2,19930619,0339,  55.2902, -144.2523,  3992, 3443.900,    1.489,   34.672,2,   34.672,2,  128.500,2,  128.700,2,  170.940,2,   37.350,2,    0.000,2,    2.610,2, -999.000,9, -999.000,9, -999.000,9, -999.000,9, 2428.000,2
           NA,    P17N,    135,   1,-999.0,      34,  2,19930619,0339,  55.2902, -144.2523,  3992, 3699.300,    1.466,   34.678,2,   34.677,2,  136.900,2,  136.900,2,  168.490,2,   36.750,2,    0.000,2,    2.570,2, -999.000,9, -999.000,9, -999.000,9, -999.000,9, -999.000,9
           NA,    P17N,    135,   1,-999.0,      38,  2,19930619,0339,  55.2902, -144.2523,  3992, 3956.400,    1.456,   34.683,2,   34.683,2,  143.400,2,  143.300,2,  167.090,2,   36.360,2,    0.000,2,    2.540,2, -999.000,9, -999.000,9, -999.000,9, -999.000,9, 2431.800,2
           NA,    P17N,    135,   1,-999.0,      36,  2,19930619,0339,  55.2902, -144.2523,  3992, 4027.900,    1.460,   34.683,2,   34.684,2,  144.400,2,  143.700,2,  167.180,2,   36.360,2,    0.000,2,    2.540,2, -999.000,9, -999.000,9, -999.000,9, -999.000,9, -999.000,9