BOTTLE,20214410JOAExport
EXPOCODE,SECT_ID,STNNBR,CASTNO,SAMPNO,BTLNBR,BTLNBR_FLAG_W,DATE,TIME,LATITUDE,LONGITUDE,DEPTH,CTDPRS,CTDTMP,CTDSAL,CTDSAL_FLAG_W,SALNTY,SALNTY_FLAG_W,CTDOXY,CTDOXY_FLAG_W,OXYGEN,OXYGEN_FLAG_W,SILCAT,SILCAT_FLAG_W,NITRAT,NITRAT_FLAG_W,NITRIT,NITRIT_FLAG_W,PHSPHT,PHSPHT_FLAG_W,CFC-11,CFC-11_FLAG_W,CFC-12,CFC-12_FLAG_W,SF6,SF6_FLAG_W,TCARBN,TCARBN_FLAG_W,ALKALI,ALKALI_FLAG_W
,,,,,,,,,,,,DB,ITS-90,PSS-78,,PSS-78,,UMOL/KG,,UMOL/KG,,UMOL/KG,,UMOL/KG,,UMOL/KG,,UMOL/KG,,PMOL/KG,,PMOL/KG,,PMOL/KG,,UMOL/KG,,UMOL/KG
           NA,    P17N,    133,   1,-999.0,       1,  2,19930618,1555,  54.9870, -145.9060,  4126,    1.800,    9.230,   32.537,2,   32.538,2,  310.900,2,  303.200,2,   26.050,2,   11.760,2,    0.160,2,    1.160,2,    4.673,2,    2.259,2, -999.000,9, 2024.800,2, 2192.300,2
           NA,    P17N,    133,   1,-999.0,       2,  2,19930618,1555,  54.9870, -145.9060,  4126,   23.900,    7.795,   32.544,2,   32.558,2,  312.700,2,  312.000,2,   26.600,2,   12.580,2,    0.150,2,    1.210,2,    4.927,2,    2.395,2, -999.000,9, 2031.200,2, 2196.600,2
           NA,    P17N,    133,   1,-999.0,       3,  2,19930618,1555,  54.9870, -145.9060,  4126,   49.000,    4.493,   32.625,2,   32.621,2,  290.600,2,  313.700,2,   27.760,2,   15.570,2,    0.370,2,    1.430,2, -999.000,9, -999.000,9, -999.000,9, -999.000,9, 2195.700,2
           NA,    P17N,    133,   1,-999.0,       4,  2,19930618,1555,  54.9870, -145.9060,  4126,   74.500,    4.026,   32.702,2,   32.710,2,  279.400,2,  294.000,2,   31.180,2,   18.710,2,    0.120,2,    1.600,2,    5.397,2,    2.553,2, -999.000,9, 2084.500,2, 2205.300,2
           NA,    P17N,    133,   1,-999.0,       5,  2,19930618,1555,  54.9870, -145.9060,  4126,   99.600,    4.141,   33.150,2,   33.086,2,  205.800,2,  220.700,2,   44.690,2,   26.100,2,    0.030,2,    2.040,2, -999.000,9, -999.000,9, -999.000,9, 2153.100,2, 2229.200,2
           NA,    P17N,    133,   1,-999.0,       6,  2,19930618,1555,  54.9870, -145.9060,  4126,  124.700,    4.099,   33.628,2,   33.614,2,  136.600,2,  112.900,2,   68.690,2,   36.770,2,    0.010,2,    2.670,2,    2.688,2,    1.222,2, -999.000,9, 2256.100,2, 2273.100,2
           NA,    P17N,    133,   1,-999.0,       7,  2,19930618,1555,  54.9870, -145.9060,  4126,  150.200,    4.017,   33.772,2,   33.771,2,   84.400,2,   80.600,2,   77.880,2,   39.750,2,    0.010,2,    2.870,2,    2.143,2,    1.109,2, -999.000,9, 2289.000,2, 2283.700,2
           NA,    P17N,    133,   1,-999.0,       8,  2,19930618,1555,  54.9870, -145.9060,  4126,  175.000,    3.984,   33.807,2,   33.806,2,   71.000,2,   69.800,2,   81.090,2,   40.740,2,    0.010,2,    2.930,2,    1.931,2,    0.859,2, -999.000,9, 2297.700,2, 2287.700,2
           NA,    P17N,    133,   1,-999.0,       9,  2,19930618,1555,  54.9870, -145.9060,  4126,  200.900,    3.924,   33.873,2,   33.865,2,   50.100,2,   48.800,2,   86.990,2,   42.410,2,    0.010,2,    3.030,2,    1.564,2,    0.709,2, -999.000,9, 2317.400,2, 2291.100,2
           NA,    P17N,    133,   1,-999.0,      10,  2,19930618,1555,  54.9870, -145.9060,  4126,  251.100,    3.843,   33.929,2,   33.929,2,   33.500,2,   33.700,2,   94.340,2,   43.630,2,    0.010,2,    3.100,2,    1.189,2,    0.528,2, -999.000,9, -999.000,9, -999.000,9
           NA,    P17N,    133,   1,-999.0,      11,  2,19930618,1555,  54.9870, -145.9060,  4126,  302.300,    3.804,   33.985,2,   33.984,2,   27.900,2,   28.100,2,  100.450,2,   43.910,2,    0.010,2,    3.130,2,    0.898,2,    0.399,2, -999.000,9, -999.000,9, -999.000,9
           NA,    P17N,    133,   1,-999.0,      12,  2,19930618,1555,  54.9870, -145.9060,  4126,  352.800,    3.783,   34.033,2,   34.035,2,   25.100,2,   23.800,2,  105.320,2,   43.910,2,    0.010,2,    3.140,2,    0.659,2,    0.288,2, -999.000,9, -999.000,9, -999.000,9
           NA,    P17N,    133,   1,-999.0,      13,  2,19930618,1555,  54.9870, -145.9060,  4126,  403.000,    3.742,   34.079,2,   34.079,2,   22.800,2,   21.900,2,  109.790,2,   43.850,2,    0.010,2,    3.130,2,    0.487,2,    0.252,2, -999.000,9, -999.000,9, -999.000,9
           NA,    P17N,    133,   1,-999.0,      14,  2,19930618,1555,  54.9870, -145.9060,  4126,  452.500,    3.675,   34.119,2,   34.118,2,   22.200,2,   20.700,2,  114.050,2,   43.620,2,    0.010,2,    3.130,2,    0.341,2,    0.169,2, -999.000,9, -999.000,9, -999.000,9
           NA,    P17N,    133,   1,-999.0,      15,  2,19930618,1555,  54.9870, -145.9060,  4126,  502.900,    3.595,   34.155,2,   34.156,2,   20.100,2,   20.000,2,  118.520,2,   43.780,2,    0.010,2,    3.130,2,    0.281,2, -999.000,3, -999.000,9, -999.000,9, -999.000,9
           NA,    P17N,    133,   1,-999.0,      16,  2,19930618,1555,  54.9870, -145.9060,  4126,  553.300,    3.508,   34.194,2,   34.195,2,   18.800,2,   18.100,2,  122.580,2,   43.840,2,    0.000,2,    3.130,2,    0.188,2,    0.104,2, -999.000,9, -999.000,9, -999.000,9
           NA,    P17N,    133,   1,-999.0,      17,  2,19930618,1555,  54.9870, -145.9060,  4126,  654.400,    3.376,   34.243,2,   34.243,2,   19.300,2,   18.300,2,  129.150,2,   43.720,2,    0.000,2,    3.140,2,    0.114,2,    0.056,2, -999.000,9, -999.000,9, -999.000,9
           NA,    P17N,    133,   1,-999.0,      18,  2,19930618,1555,  54.9870, -145.9060,  4126,  755.800,    3.210,   34.296,2,   34.297,2,   18.200,2,   17.700,2,  136.150,2,   43.770,2,    0.000,2,    3.140,2,    0.054,2,    0.030,2, -999.000,9, -999.000,9, -999.000,9
           NA,    P17N,    133,   1,-999.0,      19,  2,19930618,1555,  54.9870, -145.9060,  4126,  857.300,    3.039,   34.340,2,   34.341,2,   17.900,2,   17.300,2,  141.900,2,   43.880,2,    0.000,2,    3.150,2,    0.020,2,    0.021,2, -999.000,9, -999.000,9, -999.000,9
           NA,    P17N,    133,   1,-999.0,      20,  2,19930618,1555,  54.9870, -145.9060,  4126,  958.800,    2.903,   34.376,2,   34.376,2,   17.000,2,   16.300,2,  146.630,2,   43.990,2,    0.000,2,    3.150,2, -999.000,9, -999.000,9, -999.000,9, -999.000,9, -999.000,9
           NA,    P17N,    133,   1,-999.0,      21,  2,19930618,1555,  54.9870, -145.9060,  4126, 1060.500,    2.776,   34.406,2,   34.405,2,   16.400,2,   16.300,2,  151.150,2,   44.150,2,    0.000,2,    3.160,2,    0.004,2, -999.000,3, -999.000,9, -999.000,9, -999.000,9
           NA,    P17N,    133,   1,-999.0,      22,  2,19930618,1555,  54.9870, -145.9060,  4126, 1111.300,    2.714,   34.419,2,   34.420,2,   16.700,2,   16.600,2,  153.570,2,   44.210,2,    0.000,2,    3.150,2,    0.005,2, -999.000,4, -999.000,9, -999.000,9, -999.000,9
           NA,    P17N,    133,   1,-999.0,      23,  2,19930618,1555,  54.9870, -145.9060,  4126, 1314.200,    2.463,   34.471,2,   34.471,2,   20.800,2,   22.400,2,  160.850,2,   43.980,2,    0.000,2,    3.130,2,   -0.005,2, -999.000,4, -999.000,9, -999.000,9, -999.000,9
           NA,    P17N,    133,   1,-999.0,      24,  2,19930618,1555,  54.9870, -145.9060,  4126, 1517.900,    2.246,   34.515,2,   34.515,2,   30.000,2,   31.300,2,  166.470,2,   43.470,2,    0.000,2,    3.080,2, -999.000,9, -999.000,9, -999.000,9, -999.000,9, -999.000,9
           NA,    P17N,    133,   1,-999.0,      25,  2,19930618,1555,  54.9870, -145.9060,  4126, 1721.700,    2.095,   34.548,2,   34.548,2,   40.600,2,   42.200,2,  169.110,2,   42.860,2,    0.000,2,    3.030,2, -999.000,9, -999.000,9, -999.000,9, -999.000,9, -999.000,9
           NA,    P17N,    133,   1,-999.0,      26,  2,19930618,1555,  54.9870, -145.9060,  4126, 1924.400,    1.961,   34.576,2,   34.577,2,   52.100,2,   54.100,2,  172.410,2,   42.180,2,    0.000,2,    2.980,2, -999.000,9, -999.000,9, -999.000,9, -999.000,9, -999.000,9
           NA,    P17N,    133,   1,-999.0,      27,  2,19930618,1555,  54.9870, -145.9060,  4126, 2129.800,    1.862,   34.597,2,   34.597,2,   63.700,2,   65.000,2,  172.930,2,   41.400,2,    0.000,2,    2.940,2, -999.000,9, -999.000,9, -999.000,9, -999.000,9, -999.000,9
           NA,    P17N,    133,   1,-999.0,      28,  2,19930618,1555,  54.9870, -145.9060,  4126, 2333.000,    1.771,   34.615,2,   34.615,2,   75.100,2,   76.300,2,  173.660,2,   40.790,2,    0.000,2,    2.870,2, -999.000,9, -999.000,9, -999.000,9, -999.000,9, -999.000,9
           NA,    P17N,    133,   1,-999.0,      29,  2,19930618,1555,  54.9870, -145.9060,  4126, 2537.600,    1.705,   34.628,2,   34.629,2,   85.900,2,   86.000,2,  174.180,2,   40.120,2,    0.000,2,    2.830,2, -999.000,9, -999.000,9, -999.000,9, -999.000,9, -999.000,9
           NA,    P17N,    133,   1,-999.0,      30,  2,19930618,1555,  54.9870, -145.9060,  4126, 2741.900,    1.647,   34.640,2,   34.641,2,   95.700,2,   95.600,2,  174.060,2,   39.510,2,    0.000,2,    2.790,2, -999.000,9, -999.000,9, -999.000,9, -999.000,9, -999.000,9
           NA,    P17N,    133,   1,-999.0,      31,  2,19930618,1555,  54.9870, -145.9060,  4126, 2946.500,    1.597,   34.649,2,   34.652,2,  105.800,2,  105.800,2,  173.300,2,   38.960,2,    0.000,2,    2.740,2, -999.000,9, -999.000,9, -999.000,9, -999.000,9, -999.000,9
           NA,    P17N,    133,   1,-999.0,      32,  2,19930618,1555,  54.9870, -145.9060,  4126, 3201.000,    1.545,   34.660,2,   34.662,2,  117.000,2,  117.100,2,  172.120,2,   38.130,2,    0.000,2,    2.690,2, -999.000,9, -999.000,9, -999.000,9, -999.000,9, -999.000,9
           NA,    P17N,    133,   1,-999.0,      33,  2,19930618,1555,  54.9870, -145.9060,  4126, 3456.600,    1.507,   34.669,2,   34.671,2,  127.800,2,  126.700,2,  170.510,2,   37.520,2,    0.000,2,    2.640,2, -999.000,9, -999.000,9, -999.000,9, -999.000,9, -999.000,9
           NA,    P17N,    133,   1,-999.0,      34,  2,19930618,1555,  54.9870, -145.9060,  4126, 3712.700,    1.482,   34.675,2,   34.678,2,  136.600,2,  135.100,2,  168.480,2,   36.970,2,    0.000,2,    2.590,2, -999.000,9, -999.000,9, -999.000,9, -999.000,9, -999.000,9
           NA,    P17N,    133,   1,-999.0,      38,  2,19930618,1555,  54.9870, -145.9060,  4126, 3968.300,    1.468,   34.681,2,   34.682,2,  143.700,2,  143.000,2,  166.880,2,   36.580,2,    0.000,2,    2.560,2, -999.000,9, -999.000,9, -999.000,9, -999.000,9, -999.000,9
           NA,    P17N,    133,   1,-999.0,      36,  2,19930618,1555,  54.9870, -145.9060,  4126, 4171.300,    1.470,   34.683,2,   34.686,2,  147.600,2,  148.000,2,  166.340,2,   36.300,2,    0.000,2,    2.540,2, -999.000,9, -999.000,9, -999.000,9, -999.000,9, -999.000,9