BOTTLE,20214410JOAExport
EXPOCODE,SECT_ID,STNNBR,CASTNO,SAMPNO,BTLNBR,BTLNBR_FLAG_W,DATE,TIME,LATITUDE,LONGITUDE,DEPTH,CTDPRS,CTDTMP,CTDSAL,CTDSAL_FLAG_W,SALNTY,SALNTY_FLAG_W,CTDOXY,CTDOXY_FLAG_W,OXYGEN,OXYGEN_FLAG_W,SILCAT,SILCAT_FLAG_W,NITRAT,NITRAT_FLAG_W,NITRIT,NITRIT_FLAG_W,PHSPHT,PHSPHT_FLAG_W,CFC-11,CFC-11_FLAG_W,CFC-12,CFC-12_FLAG_W,SF6,SF6_FLAG_W,TCARBN,TCARBN_FLAG_W,ALKALI,ALKALI_FLAG_W
,,,,,,,,,,,,DB,ITS-90,PSS-78,,PSS-78,,UMOL/KG,,UMOL/KG,,UMOL/KG,,UMOL/KG,,UMOL/KG,,UMOL/KG,,PMOL/KG,,PMOL/KG,,PMOL/KG,,UMOL/KG,,UMOL/KG
           NA,    P17N,    131,   1,-999.0,      18,  2,19930617,1825,  54.6730, -147.5502,  3199,    2.200,    8.582,   32.546,2,   32.547,2,  299.500,2,  305.100,2,   28.300,2,   12.660,2,    0.160,2,    1.240,2,    4.916,2,    2.341,2, -999.000,9, -999.000,9, -999.000,9
           NA,    P17N,    131,   1,-999.0,      19,  2,19930617,1825,  54.6730, -147.5502,  3199,   29.600,    7.277,   32.576,2,   32.579,2,  312.500,2,  313.300,2,   29.050,2,   13.500,2,    0.160,2,    1.300,2, -999.000,9, -999.000,9, -999.000,9, -999.000,9, -999.000,9
           NA,    P17N,    131,   1,-999.0,      20,  2,19930617,1825,  54.6730, -147.5502,  3199,   54.900,    4.533,   32.624,2,   32.625,2,  315.500,2,  320.500,2,   30.010,2,   15.490,2,    0.320,2,    1.420,2, -999.000,9, -999.000,9, -999.000,9, -999.000,9, -999.000,9
           NA,    P17N,    131,   1,-999.0,      21,  2,19930617,1825,  54.6730, -147.5502,  3199,   80.200,    3.940,   32.715,2,   32.728,2,  293.000,2,  300.800,2,   32.250,2,   18.560,2,    0.100,2,    1.590,2, -999.000,9, -999.000,9, -999.000,9, -999.000,9, -999.000,9
           NA,    P17N,    131,   1,-999.0,      22,  2,19930617,1825,  54.6730, -147.5502,  3199,  105.100,    3.918,   33.002,2,   33.012,2,  246.100,2,  241.800,2,   42.950,2,   24.410,2,    0.030,2,    1.940,2, -999.000,5, -999.000,5, -999.000,9, -999.000,9, -999.000,9
           NA,    P17N,    131,   1,-999.0,      23,  2,19930617,1825,  54.6730, -147.5502,  3199,  130.800,    4.090,   33.408,2,   33.464,2,  162.200,2,  150.100,2,   61.280,2,   33.070,2,    0.020,2,    2.450,2, -999.000,9, -999.000,9, -999.000,9, -999.000,9, -999.000,9
           NA,    P17N,    131,   1,-999.0,      24,  2,19930617,1825,  54.6730, -147.5502,  3199,  155.800,    4.101,   33.687,2,   33.691,2,  106.600,2,  105.300,2,   72.190,2,   37.320,2,    0.020,2,    2.710,2,    2.594,2,    1.216,2, -999.000,9, -999.000,9, -999.000,9
           NA,    P17N,    131,   1,-999.0,      25,  2,19930617,1825,  54.6730, -147.5502,  3199,  180.900,    4.010,   33.804,2,   33.805,2,   65.900,2,   73.000,2,   80.980,2,   40.210,2,    0.010,2,    2.890,2, -999.000,9, -999.000,9, -999.000,9, -999.000,9, -999.000,9
           NA,    P17N,    131,   1,-999.0,      26,  2,19930617,1825,  54.6730, -147.5502,  3199,  206.200,    3.927,   33.859,2,   33.858,2,   51.600,2,   54.500,2,   86.600,2,   41.820,2,    0.010,2,    2.990,2,    1.627,2,    0.745,2, -999.000,9, -999.000,9, -999.000,9
           NA,    P17N,    131,   1,-999.0,      27,  2,19930617,1825,  54.6730, -147.5502,  3199,  231.500,    3.929,   33.907,2,   33.906,2,   40.300,2,   40.600,2,   90.950,2,   42.790,2,    0.010,2,    3.060,2, -999.000,9, -999.000,9, -999.000,9, -999.000,9, -999.000,9
           NA,    P17N,    131,   1,-999.0,      28,  2,19930617,1825,  54.6730, -147.5502,  3199,  257.100,    3.917,   33.942,2,   33.941,2,   32.900,2,   32.600,2,   94.660,2,   43.390,2,    0.010,2,    3.090,2,    1.103,2,    0.498,2, -999.000,9, -999.000,9, -999.000,9
           NA,    P17N,    131,   1,-999.0,      29,  2,19930617,1825,  54.6730, -147.5502,  3199,  282.300,    3.892,   33.964,2,   33.966,2,   28.700,2,   28.600,2,   97.530,2,   43.710,2,    0.010,2,    3.110,2, -999.000,9, -999.000,9, -999.000,9, -999.000,9, -999.000,9
           NA,    P17N,    131,   1,-999.0,      30,  2,19930617,1825,  54.6730, -147.5502,  3199,  307.100,    3.908,   33.989,2,   33.990,2,   26.100,2,   26.400,2,   99.330,2,   43.710,2,    0.010,2,    3.120,2,    0.843,2,    0.369,2, -999.000,9, -999.000,9, -999.000,9
           NA,    P17N,    131,   1,-999.0,      31,  2,19930617,1825,  54.6730, -147.5502,  3199,  358.100,    3.818,   34.049,2,   34.049,2,   24.200,2,   21.600,2,  106.230,2,   43.920,2,    0.010,2,    3.140,2, -999.000,9, -999.000,9, -999.000,9, -999.000,9, -999.000,9
           NA,    P17N,    131,   1,-999.0,      32,  2,19930617,1825,  54.6730, -147.5502,  3199,  408.400,    3.764,   34.091,2,   34.091,2,   20.900,2,   20.300,2,  110.380,2,   43.760,2,    0.010,2,    3.140,2,    0.415,2,    0.180,2, -999.000,9, -999.000,9, -999.000,9
           NA,    P17N,    131,   1,-999.0,      33,  2,19930617,1825,  54.6730, -147.5502,  3199,  459.000,    3.683,   34.140,2,   34.141,2,   19.500,2,   18.100,2,  116.230,2,   43.650,2,    0.010,2,    3.130,2, -999.000,9, -999.000,9, -999.000,9, -999.000,9, -999.000,9
           NA,    P17N,    131,   1,-999.0,      34,  2,19930617,1825,  54.6730, -147.5502,  3199,  509.700,    3.587,   34.168,2,   34.167,2,   18.800,2,   18.900,2,  119.950,2,   43.530,2,    0.010,2,    3.130,2,    0.240,2,    0.110,2, -999.000,9, -999.000,9, -999.000,9
           NA,    P17N,    131,   1,-999.0,      38,  2,19930617,1825,  54.6730, -147.5502,  3199,  610.400,    3.432,   34.234,2,   34.234,2,   16.900,2,   17.400,2,  127.520,2,   43.690,2,    0.010,2,    3.130,2, -999.000,9, -999.000,9, -999.000,9, -999.000,9, -999.000,9
           NA,    P17N,    131,   1,-999.0,      36,  2,19930617,1825,  54.6730, -147.5502,  3199,  711.500,    3.261,   34.284,2,   34.284,2,   15.500,2,   15.500,2,  134.470,2,   43.910,2,    0.010,2,    3.150,2,    0.066,2,    0.033,2, -999.000,9, -999.000,9, -999.000,9
           NA,    P17N,    131,   1,-999.0,       1,  2,19930617,1825,  54.6730, -147.5502,  3199,  813.000,    3.105,   34.327,2,   34.325,2,   15.300,2,   15.100,2,  140.360,2,   44.070,2,    0.010,2,    3.160,2, -999.000,9, -999.000,9, -999.000,9, -999.000,9, -999.000,9
           NA,    P17N,    131,   1,-999.0,       2,  2,19930617,1825,  54.6730, -147.5502,  3199,  914.900,    2.926,   34.367,2,   34.366,2,   15.700,2,   15.900,2,  146.480,2,   44.120,2,    0.010,2,    3.150,2,    0.020,2,    0.017,2, -999.000,9, -999.000,9, -999.000,9
           NA,    P17N,    131,   1,-999.0,       3,  2,19930617,1825,  54.6730, -147.5502,  3199, 1016.000,    2.782,   34.399,2,   34.398,2,   17.100,2,   17.300,2,  151.100,2,   44.120,2,    0.010,2,    3.150,2, -999.000,9, -999.000,9, -999.000,9, -999.000,9, -999.000,9
           NA,    P17N,    131,   1,-999.0,       4,  2,19930617,1825,  54.6730, -147.5502,  3199, 1117.500,    2.640,   34.429,2,   34.429,2,   18.700,2,   19.100,2,  155.520,2,   43.840,2,    0.010,2,    3.140,2,    0.014,2,    0.019,2, -999.000,9, -999.000,9, -999.000,9
           NA,    P17N,    131,   1,-999.0,       5,  2,19930617,1825,  54.6730, -147.5502,  3199, 1219.300,    2.517,   34.456,2,   34.455,2,   21.300,2,   21.700,2,  159.300,2,   43.790,2,    0.010,2,    3.140,2, -999.000,9, -999.000,9, -999.000,9, -999.000,9, -999.000,9
           NA,    P17N,    131,   1,-999.0,       6,  2,19930617,1825,  54.6730, -147.5502,  3199, 1420.900,    2.322,   34.498,2,   34.498,2,   27.100,2,   27.600,2,  164.610,2,   43.670,2,    0.010,2,    3.100,2,    0.004,2,    0.003,2, -999.000,9, -999.000,9, -999.000,9
           NA,    P17N,    131,   1,-999.0,       7,  2,19930617,1825,  54.6730, -147.5502,  3199, 1623.800,    2.152,   34.537,2,   34.536,2,   37.300,2,   36.500,2,  169.280,2,   43.130,2,    0.010,2,    3.060,2,   -0.002,2,   -0.005,2, -999.000,9, -999.000,9, -999.000,9
           NA,    P17N,    131,   1,-999.0,       8,  2,19930617,1825,  54.6730, -147.5502,  3199, 1824.100,    1.993,   34.570,2,   34.570,2,   49.800,2,   50.200,2,  171.560,2,   42.370,2,    0.010,2,    3.000,2,   -0.001,2,    0.020,2, -999.000,9, -999.000,9, -999.000,9
           NA,    P17N,    131,   1,-999.0,       9,  2,19930617,1825,  54.6730, -147.5502,  3199, 1924.000,    1.929,   34.583,2,   34.582,2,   55.700,2,   56.200,2,  172.980,2,   42.040,2,    0.010,2,    2.970,2,   -0.002,2,   -0.005,2, -999.000,9, -999.000,9, -999.000,9
           NA,    P17N,    131,   1,-999.0,      10,  2,19930617,1825,  54.6730, -147.5502,  3199, 2024.300,    1.877,   34.593,2,   34.592,2,   61.000,2,   61.800,2,  173.730,2,   41.660,2,    0.010,2,    2.940,2,   -0.001,2,    0.015,2, -999.000,9, -999.000,9, -999.000,9
           NA,    P17N,    131,   1,-999.0,      11,  2,19930617,1825,  54.6730, -147.5502,  3199, 2124.500,    1.831,   34.603,2,   34.602,2,   67.000,2,   67.100,2,  173.390,2,   41.390,2,    0.010,2,    2.920,2,   -0.002,2,    0.002,2, -999.000,9, -999.000,9, -999.000,9
           NA,    P17N,    131,   1,-999.0,      12,  2,19930617,1825,  54.6730, -147.5502,  3199, 2330.000,    1.737,   34.622,2,   34.621,2,   78.800,2,   80.300,2,  173.480,2,   40.580,2,    0.010,2,    2.860,2,    0.003,2,    0.000,2, -999.000,9, -999.000,9, -999.000,9
           NA,    P17N,    131,   1,-999.0,      13,  2,19930617,1825,  54.6730, -147.5502,  3199, 2534.000,    1.677,   34.634,2,   34.633,2,   88.300,2,   89.800,2,  173.580,2,   39.930,2,    0.010,2,    2.820,2,   -0.003,2,   -0.004,2, -999.000,9, -999.000,9, -999.000,9
           NA,    P17N,    131,   1,-999.0,      14,  2,19930617,1825,  54.6730, -147.5502,  3199, 2739.900,    1.630,   34.643,2,   34.643,2,   98.100,2,   98.300,2,  173.020,2,   39.400,2,    0.010,2,    2.770,2,   -0.001,2,    0.002,2, -999.000,9, -999.000,9, -999.000,9
           NA,    P17N,    131,   1,-999.0,      15,  2,19930617,1825,  54.6730, -147.5502,  3199, 2945.500,    1.560,   34.656,2,   34.656,2,  109.900,2,  110.700,2,  172.900,2,   38.270,2,    0.010,2,    2.710,2,   -0.004,2,    0.000,2, -999.000,9, -999.000,9, -999.000,9
           NA,    P17N,    131,   1,-999.0,      16,  2,19930617,1825,  54.6730, -147.5502,  3199, 3202.400,    1.523,   34.664,2,   34.664,2,  121.000,2,  120.400,2,  170.810,2,   37.950,2,    0.010,2,    2.660,2,   -0.004,2,    0.006,2, -999.000,9, -999.000,9, -999.000,9
           NA,    P17N,    131,   1,-999.0,      17,  2,19930617,1825,  54.6730, -147.5502,  3199, 3436.000,    1.517,   34.668,2,   34.667,2,  126.200,2,  125.900,2,  169.600,2,   37.630,2,    0.010,2,    2.640,2,   -0.005,2,    0.009,2, -999.000,9, -999.000,9, -999.000,9