BOTTLE,20214410JOAExport
EXPOCODE,SECT_ID,STNNBR,CASTNO,SAMPNO,BTLNBR,BTLNBR_FLAG_W,DATE,TIME,LATITUDE,LONGITUDE,DEPTH,CTDPRS,CTDTMP,CTDSAL,CTDSAL_FLAG_W,SALNTY,SALNTY_FLAG_W,CTDOXY,CTDOXY_FLAG_W,OXYGEN,OXYGEN_FLAG_W,SILCAT,SILCAT_FLAG_W,NITRAT,NITRAT_FLAG_W,NITRIT,NITRIT_FLAG_W,PHSPHT,PHSPHT_FLAG_W,CFC-11,CFC-11_FLAG_W,CFC-12,CFC-12_FLAG_W,SF6,SF6_FLAG_W,TCARBN,TCARBN_FLAG_W,ALKALI,ALKALI_FLAG_W
,,,,,,,,,,,,DB,ITS-90,PSS-78,,PSS-78,,UMOL/KG,,UMOL/KG,,UMOL/KG,,UMOL/KG,,UMOL/KG,,UMOL/KG,,PMOL/KG,,PMOL/KG,,PMOL/KG,,UMOL/KG,,UMOL/KG
           NA,    P17N,    130,   1,-999.0,       1,  2,19930617,1309,  54.5203, -148.3817,  3155,    1.700,    8.501,   32.542,2,   32.541,2,  294.300,2,  306.600,2,   27.750,2,   12.450,2,    0.160,2,    1.230,2, -999.000,5, -999.000,5, -999.000,9, -999.000,9, 2194.000,2
           NA,    P17N,    130,   1,-999.0,       2,  2,19930617,1309,  54.5203, -148.3817,  3155,   28.700,    5.853,   32.586,2,   32.585,2,  313.900,2,  320.200,2,   28.950,2,   14.160,2,    0.190,2,    1.350,2, -999.000,9, -999.000,9, -999.000,9, -999.000,9, 2194.200,2
           NA,    P17N,    130,   1,-999.0,       3,  2,19930617,1309,  54.5203, -148.3817,  3155,   54.200,    4.097,   32.631,2,   32.631,2,  310.700,2,  315.600,2,   30.150,2,   16.360,2,    0.430,2,    1.490,2,    5.652,2,    2.714,2, -999.000,9, -999.000,9, 2196.700,2
           NA,    P17N,    130,   1,-999.0,       4,  2,19930617,1309,  54.5203, -148.3817,  3155,   79.600,    3.766,   32.798,2,   32.775,2,  277.600,2,  284.700,2,   35.180,2,   20.290,2,    0.040,2,    1.700,2, -999.000,9, -999.000,9, -999.000,9, -999.000,9, 2206.600,2
           NA,    P17N,    130,   1,-999.0,       5,  2,19930617,1309,  54.5203, -148.3817,  3155,  104.200,    4.014,   33.167,2,   33.128,2,  209.300,2,  213.400,2,   47.880,2,   27.090,2,    0.020,2,    2.100,2,    4.240,2,    2.013,2, -999.000,9, -999.000,9, 2231.600,2
           NA,    P17N,    130,   1,-999.0,       6,  2,19930617,1309,  54.5203, -148.3817,  3155,  129.700,    4.161,   33.483,2,   33.467,2,  148.400,2,  147.600,2,   61.650,2,   33.420,2,    0.020,2,    2.490,2, -999.000,9, -999.000,9, -999.000,9, -999.000,9, 2253.900,2
           NA,    P17N,    130,   1,-999.0,       7,  2,19930617,1309,  54.5203, -148.3817,  3155,  155.300,    4.173,   33.683,2,   33.669,2,  105.900,2,  108.400,2,   70.720,2,   37.110,2,    0.010,2,    2.710,2,    2.571,2,    1.207,2, -999.000,9, -999.000,9, 2271.600,2
           NA,    P17N,    130,   1,-999.0,       8,  2,19930617,1309,  54.5203, -148.3817,  3155,  180.200,    4.021,   33.803,2,   33.796,2,   73.000,2,   75.800,2,   80.020,2,   40.170,2,    0.020,2,    2.910,2, -999.000,9, -999.000,9, -999.000,9, -999.000,9, 2284.200,2
           NA,    P17N,    130,   1,-999.0,       9,  2,19930617,1309,  54.5203, -148.3817,  3155,  205.700,    3.978,   33.862,2,   33.858,2,   54.300,2,   54.500,2,   86.120,2,   41.910,2,    0.010,2,    3.010,2,    1.583,2,    0.736,2, -999.000,9, -999.000,9, -999.000,9
           NA,    P17N,    130,   1,-999.0,      10,  2,19930617,1309,  54.5203, -148.3817,  3155,  231.300,    3.957,   33.910,2,   33.907,2,   41.900,2,   39.900,2,   90.720,2,   43.040,2,    0.010,2,    3.080,2, -999.000,9, -999.000,9, -999.000,9, -999.000,9, -999.000,9
           NA,    P17N,    130,   1,-999.0,      11,  2,19930617,1309,  54.5203, -148.3817,  3155,  255.700,    3.950,   33.944,2,   33.941,2,   33.800,2,   33.000,2,   94.050,2,   43.580,2,    0.010,2,    3.120,2,    1.086,2,    0.502,2, -999.000,9, -999.000,9, -999.000,9
           NA,    P17N,    130,   1,-999.0,      12,  2,19930617,1309,  54.5203, -148.3817,  3155,  306.900,    3.917,   34.005,2,   34.000,2,   27.100,2,   25.800,2,   99.940,2,   43.910,2,    0.010,2,    3.140,2,    0.783,2,    0.356,2, -999.000,9, -999.000,9, -999.000,9
           NA,    P17N,    130,   1,-999.0,      13,  2,19930617,1309,  54.5203, -148.3817,  3155,  357.200,    3.882,   34.044,2,   34.038,2,   24.100,2,   23.900,2,  103.910,2,   43.850,2,    0.010,2,    3.150,2,    0.590,2,    0.278,2, -999.000,9, -999.000,9, -999.000,9
           NA,    P17N,    130,   1,-999.0,      14,  2,19930617,1309,  54.5203, -148.3817,  3155,  408.200,    3.802,   34.098,2,   34.097,2,   22.700,2,   21.600,2,  110.240,2,   43.680,2,    0.010,2,    3.150,2,    0.392,2,    0.185,2, -999.000,9, -999.000,9, -999.000,9
           NA,    P17N,    130,   1,-999.0,      15,  2,19930617,1309,  54.5203, -148.3817,  3155,  458.000,    3.702,   34.145,2,   34.143,2,   20.700,2,   19.600,2,  115.500,2,   43.730,2,    0.010,2,    3.150,2, -999.000,9, -999.000,9, -999.000,9, -999.000,9, -999.000,9
           NA,    P17N,    130,   1,-999.0,      16,  2,19930617,1309,  54.5203, -148.3817,  3155,  509.200,    3.640,   34.176,2,   34.174,2,   19.300,2,   18.400,2,  119.060,2,   43.780,2,    0.010,2,    3.150,2,    0.203,2,    0.097,2, -999.000,9, -999.000,9, -999.000,9
           NA,    P17N,    130,   1,-999.0,      17,  2,19930617,1309,  54.5203, -148.3817,  3155,  609.800,    3.482,   34.229,2,   34.223,2,   17.200,2,   17.100,2,  125.830,2,   43.890,2,    0.010,2,    3.160,2,    0.116,2,    0.058,2, -999.000,9, -999.000,9, -999.000,9
           NA,    P17N,    130,   1,-999.0,      18,  2,19930617,1309,  54.5203, -148.3817,  3155,  710.600,    3.272,   34.286,2,   34.283,2,   16.600,2,   16.000,2,  133.920,2,   43.990,2,    0.010,2,    3.170,2,    0.054,2,    0.029,2, -999.000,9, -999.000,9, -999.000,9
           NA,    P17N,    130,   1,-999.0,      19,  2,19930617,1309,  54.5203, -148.3817,  3155,  811.900,    3.114,   34.327,2,   34.324,2,   16.400,2,   15.900,2,  140.080,2,   44.040,2,    0.010,2,    3.180,2,    0.033,2,    0.018,2, -999.000,9, -999.000,9, -999.000,9
           NA,    P17N,    130,   1,-999.0,      20,  2,19930617,1309,  54.5203, -148.3817,  3155,  913.600,    2.941,   34.368,2,   34.365,2,   16.800,2,   16.000,2,  146.040,2,   44.090,2,    0.010,2,    3.170,2, -999.000,9, -999.000,9, -999.000,9, -999.000,9, -999.000,9
           NA,    P17N,    130,   1,-999.0,      21,  2,19930617,1309,  54.5203, -148.3817,  3155, 1015.400,    2.774,   34.404,2,   34.402,2,   18.300,2,   17.800,2,  151.360,2,   43.970,2,    0.010,2,    3.170,2,    0.006,2,    0.009,2, -999.000,9, -999.000,9, -999.000,9
           NA,    P17N,    130,   1,-999.0,      22,  2,19930617,1309,  54.5203, -148.3817,  3155, 1116.700,    2.631,   34.434,2,   34.432,2,   20.400,2,   19.700,2,  155.830,2,   43.970,2,    0.010,2,    3.160,2, -999.000,9, -999.000,9, -999.000,9, -999.000,9, -999.000,9
           NA,    P17N,    130,   1,-999.0,      23,  2,19930617,1309,  54.5203, -148.3817,  3155, 1218.300,    2.519,   34.457,2,   34.455,2,   22.400,2,   23.900,2,  159.220,2,   43.960,2,    0.010,2,    3.150,2,    0.004,2,    0.001,2, -999.000,9, -999.000,9, -999.000,9
           NA,    P17N,    130,   1,-999.0,      24,  2,19930617,1309,  54.5203, -148.3817,  3155, 1319.100,    2.385,   34.486,2,   34.484,2,   25.500,2,   27.100,2,  162.830,2,   43.800,2,    0.010,2,    3.120,2,    0.001,2,    0.005,2, -999.000,9, -999.000,9, -999.000,9
           NA,    P17N,    130,   1,-999.0,      25,  2,19930617,1309,  54.5203, -148.3817,  3155, 1421.700,    2.291,   34.506,2,   34.505,2,   30.200,2,   31.800,2,  165.140,2,   43.570,2,    0.010,2,    3.110,2,   -0.001,2,   -0.005,2, -999.000,9, -999.000,9, -999.000,9
           NA,    P17N,    130,   1,-999.0,      26,  2,19930617,1309,  54.5203, -148.3817,  3155, 1523.400,    2.181,   34.530,2,   34.527,2,   36.100,2,   37.200,2,  167.890,2,   43.240,2,    0.010,2,    3.080,2,   -0.004,2,   -0.002,2, -999.000,9, -999.000,9, -999.000,9
           NA,    P17N,    130,   1,-999.0,      27,  2,19930617,1309,  54.5203, -148.3817,  3155, 1625.800,    2.097,   34.549,2,   34.546,2,   42.500,2,   42.000,2,  169.770,2,   42.970,2,    0.010,2,    3.050,2, -999.000,9, -999.000,9, -999.000,9, -999.000,9, -999.000,9
           NA,    P17N,    130,   1,-999.0,      28,  2,19930617,1309,  54.5203, -148.3817,  3155, 1727.400,    2.038,   34.562,2,   34.560,2,   46.900,2,   47.300,2,  171.210,2,   42.690,2,    0.010,2,    3.030,2, -999.000,9, -999.000,9, -999.000,9, -999.000,9, -999.000,9
           NA,    P17N,    130,   1,-999.0,      29,  2,19930617,1309,  54.5203, -148.3817,  3155, 1829.200,    1.977,   34.575,2,   34.573,2,   53.000,2,   52.700,2,  171.550,2,   42.310,2,    0.010,2,    3.000,2, -999.000,9, -999.000,9, -999.000,9, -999.000,9, -999.000,9
           NA,    P17N,    130,   1,-999.0,      30,  2,19930617,1309,  54.5203, -148.3817,  3155, 2032.000,    1.858,   34.599,2,   34.597,2,   64.100,2,   66.100,2,  173.430,2,   41.380,2,    0.010,2,    2.940,2, -999.000,9, -999.000,9, -999.000,9, -999.000,9, -999.000,9
           NA,    P17N,    130,   1,-999.0,      31,  2,19930617,1309,  54.5203, -148.3817,  3155, 2234.900,    1.760,   34.618,2,   34.616,2,   76.200,2,   77.300,2,  173.990,2,   40.730,2,    0.010,2,    2.890,2, -999.000,9, -999.000,9, -999.000,9, -999.000,9, -999.000,9
           NA,    P17N,    130,   1,-999.0,      32,  2,19930617,1309,  54.5203, -148.3817,  3155, 2440.000,    1.687,   34.632,2,   34.630,2,   87.300,2,   87.600,2,  173.890,2,   40.130,2,    0.010,2,    2.840,2, -999.000,9, -999.000,9, -999.000,9, -999.000,9, -999.000,9
           NA,    P17N,    130,   1,-999.0,      33,  2,19930617,1309,  54.5203, -148.3817,  3155, 2643.600,    1.645,   34.641,2,   34.640,2,   96.100,2,   96.000,2,  172.470,2,   39.590,2,    0.010,2,    2.790,2, -999.000,9, -999.000,9, -999.000,9, -999.000,9, -999.000,9
           NA,    P17N,    130,   1,-999.0,      34,  2,19930617,1309,  54.5203, -148.3817,  3155, 2848.900,    1.589,   34.652,2,   34.651,2,  106.900,2,  106.500,2,  171.930,2,   38.990,2,    0.010,2,    2.750,2, -999.000,9, -999.000,9, -999.000,9, -999.000,9, -999.000,9
           NA,    P17N,    130,   1,-999.0,      38,  2,19930617,1309,  54.5203, -148.3817,  3155, 2950.900,    1.564,   34.656,2,   34.655,2,  111.900,2,  111.400,2,  171.610,2,   38.500,2,    0.010,2,    2.720,2, -999.000,9, -999.000,9, -999.000,9, -999.000,9, -999.000,9
           NA,    P17N,    130,   1,-999.0,      36,  2,19930617,1309,  54.5203, -148.3817,  3155, 3169.000,    1.517,   34.666,2,   34.665,2,  122.200,2,  121.900,2,  170.190,2,   37.800,2,    0.010,2,    2.670,2, -999.000,9, -999.000,9, -999.000,9, -999.000,9, -999.000,9