BOTTLE,20214410JOAExport
EXPOCODE,SECT_ID,STNNBR,CASTNO,SAMPNO,BTLNBR,BTLNBR_FLAG_W,DATE,TIME,LATITUDE,LONGITUDE,DEPTH,CTDPRS,CTDTMP,CTDSAL,CTDSAL_FLAG_W,SALNTY,SALNTY_FLAG_W,CTDOXY,CTDOXY_FLAG_W,OXYGEN,OXYGEN_FLAG_W,SILCAT,SILCAT_FLAG_W,NITRAT,NITRAT_FLAG_W,NITRIT,NITRIT_FLAG_W,PHSPHT,PHSPHT_FLAG_W,CFC-11,CFC-11_FLAG_W,CFC-12,CFC-12_FLAG_W,SF6,SF6_FLAG_W,TCARBN,TCARBN_FLAG_W,ALKALI,ALKALI_FLAG_W
,,,,,,,,,,,,DB,ITS-90,PSS-78,,PSS-78,,UMOL/KG,,UMOL/KG,,UMOL/KG,,UMOL/KG,,UMOL/KG,,UMOL/KG,,PMOL/KG,,PMOL/KG,,PMOL/KG,,UMOL/KG,,UMOL/KG
           NA,    P17N,    132,   2,-999.0,       1,  2,19930618,0539,  54.8257, -146.7417,  4179,    2.600,    9.143,   32.551,2,   32.554,2,  316.700,2,  303.100,2,   25.690,2,   11.760,2,    0.140,2,    1.160,2,    4.692,2,    2.251,2, -999.000,9, -999.000,9, 2192.400,2
           NA,    P17N,    132,   2,-999.0,       2,  2,19930618,0539,  54.8257, -146.7417,  4179,   30.700,    7.735,   32.570,2,   32.571,2,  316.000,2,  311.300,2,   25.390,2,   12.310,2,    0.130,2,    1.200,2,    4.950,2,    2.428,2, -999.000,9, -999.000,9, 2192.600,2
           NA,    P17N,    132,   2,-999.0,       3,  2,19930618,0539,  54.8257, -146.7417,  4179,   55.500,    5.001,   32.616,2,   32.618,2,  300.500,2,  316.100,2,   26.570,2,   14.660,2,    0.170,2,    1.370,2,    5.463,2,    2.614,2, -999.000,9, -999.000,9, 2199.800,2
           NA,    P17N,    132,   2,-999.0,       4,  2,19930618,0539,  54.8257, -146.7417,  4179,   81.100,    4.195,   32.680,2,   32.678,2,  280.800,2,  308.400,2,   28.810,2,   17.020,2,    0.270,2,    1.500,2,    5.533,2,    2.643,2, -999.000,9, -999.000,9, 2198.100,2
           NA,    P17N,    132,   2,-999.0,       5,  2,19930618,0539,  54.8257, -146.7417,  4179,  106.400,    4.103,   33.038,2,   33.033,2,  227.800,2,  240.700,2,   41.440,2,   25.120,2,    0.020,2,    2.050,2, -999.000,9, -999.000,9, -999.000,9, -999.000,9, -999.000,9
           NA,    P17N,    132,   2,-999.0,       6,  2,19930618,0539,  54.8257, -146.7417,  4179,  131.200,    4.098,   33.489,2,   33.490,2,  152.100,2,  154.500,2,   60.420,2,   33.060,2,    0.010,2,    2.440,2,    3.352,2,    1.552,2, -999.000,9, -999.000,9, 2256.100,2
           NA,    P17N,    132,   2,-999.0,       7,  2,19930618,0539,  54.8257, -146.7417,  4179,  156.400,    4.051,   33.717,2,   33.718,2,  110.500,2,  101.400,2,   72.840,2,   37.950,2,    0.010,2,    2.740,2, -999.000,9, -999.000,9, -999.000,9, -999.000,9, 2277.400,2
           NA,    P17N,    132,   2,-999.0,       8,  2,19930618,0539,  54.8257, -146.7417,  4179,  181.700,    3.948,   33.802,2,   33.803,2,   84.200,2,   73.500,2,   80.370,2,   40.380,2,    0.010,2,    2.890,2, -999.000,5, -999.000,5, -999.000,9, -999.000,9, 2283.600,2
           NA,    P17N,    132,   2,-999.0,       9,  2,19930618,0539,  54.8257, -146.7417,  4179,  207.500,    3.889,   33.848,2,   33.848,2,   63.100,2,   55.700,2,   85.360,2,   41.760,2,    0.010,2,    2.990,2,    1.712,2,    0.765,2, -999.000,9, -999.000,9, 2290.300,2
           NA,    P17N,    132,   2,-999.0,      10,  2,19930618,0539,  54.8257, -146.7417,  4179,  258.000,    3.782,   33.925,2,   33.924,2,   40.000,2,   34.400,2,   94.820,2,   43.590,2,    0.010,2,    3.090,2, -999.000,9, -999.000,9, -999.000,9, -999.000,9, 2302.800,2
           NA,    P17N,    132,   2,-999.0,      11,  2,19930618,0539,  54.8257, -146.7417,  4179,  308.400,    3.770,   33.978,2,   33.977,2,   35.500,2,   28.800,2,  100.230,2,   43.760,2,    0.010,2,    3.110,2,    0.952,2,    0.410,2, -999.000,9, -999.000,9, 2309.100,2
           NA,    P17N,    132,   2,-999.0,      12,  2,19930618,0539,  54.8257, -146.7417,  4179,  358.900,    3.740,   34.025,2,   34.024,2,   26.200,2,   26.100,2,  104.800,2,   43.750,2,    0.010,2,    3.120,2, -999.000,9, -999.000,9, -999.000,9, -999.000,9, 2319.800,2
           NA,    P17N,    132,   2,-999.0,      13,  2,19930618,0539,  54.8257, -146.7417,  4179,  409.800,    3.705,   34.076,2,   34.074,2,   26.300,2,   23.300,2,  109.580,2,   43.740,2,    0.000,2,    3.120,2,    0.528,2,    0.245,2, -999.000,9, -999.000,9, 2326.800,2
           NA,    P17N,    132,   2,-999.0,      14,  2,19930618,0539,  54.8257, -146.7417,  4179,  460.200,    3.643,   34.124,2,   34.123,2,   23.200,2,   21.600,2,  114.800,2,   43.620,2,    0.010,2,    3.120,2, -999.000,9, -999.000,9, -999.000,9, -999.000,9, 2333.200,2
           NA,    P17N,    132,   2,-999.0,      15,  2,19930618,0539,  54.8257, -146.7417,  4179,  509.800,    3.570,   34.165,2,   34.165,2,   21.100,2,   20.700,2,  119.160,2,   43.610,2,    0.000,2,    3.110,2,    0.253,2,    0.116,2, -999.000,9, -999.000,9, 2340.400,2
           NA,    P17N,    132,   2,-999.0,      16,  2,19930618,0539,  54.8257, -146.7417,  4179,  610.500,    3.395,   34.238,2,   34.236,2,   18.500,2,   18.700,2,  127.800,2,   43.720,2,    0.000,2,    3.120,2,    0.129,2,    0.062,2, -999.000,9, -999.000,9, 2353.200,2
           NA,    P17N,    132,   2,-999.0,      17,  2,19930618,0539,  54.8257, -146.7417,  4179,  710.900,    3.243,   34.282,2,   34.280,2,   18.200,2,   17.600,2,  133.680,2,   43.710,2,    0.000,2,    3.130,2,    0.079,2,    0.043,2, -999.000,9, -999.000,9, 2363.900,2
           NA,    P17N,    132,   2,-999.0,      18,  2,19930618,0539,  54.8257, -146.7417,  4179,  812.100,    3.087,   34.328,2, -999.000,4,   17.600,2,   17.400,2,  139.780,2,   43.810,2,    0.000,2,    3.130,2, -999.000,5, -999.000,5, -999.000,9, -999.000,9, 2369.300,2
           NA,    P17N,    132,   2,-999.0,      19,  2,19930618,0539,  54.8257, -146.7417,  4179,  913.500,    2.933,   34.369,2,   34.366,2,   17.000,2,   17.100,2,  144.810,2,   43.860,2,    0.000,2,    3.130,2,    0.011,2,    0.003,2, -999.000,9, -999.000,9, 2384.400,2
           NA,    P17N,    132,   2,-999.0,      20,  2,19930618,0539,  54.8257, -146.7417,  4179, 1015.500,    2.768,   34.403,2,   34.403,2,   18.400,2,   19.100,2,  150.290,2,   43.910,2,    0.000,2,    3.130,2,    0.004,2,    0.006,2, -999.000,9, -999.000,9, 2383.900,2
           NA,    P17N,    132,   2,-999.0,      21,  2,19930618,0539,  54.8257, -146.7417,  4179, 1117.300,    2.649,   34.426,2,   34.427,2,   19.300,2,   19.600,2,  154.260,2,   43.900,2,    0.000,2,    3.120,2,    0.003,2,    0.013,2, -999.000,9, -999.000,9, 2390.400,2
           NA,    P17N,    132,   2,-999.0,      22,  2,19930618,0539,  54.8257, -146.7417,  4179, 1219.400,    2.511,   34.457,2,   34.459,2,   20.100,2,   20.700,2,  158.890,2,   44.010,2,    0.000,2,    3.120,2,    0.000,2,    0.001,2, -999.000,9, -999.000,9, 2394.600,2
           NA,    P17N,    132,   2,-999.0,      23,  2,19930618,0539,  54.8257, -146.7417,  4179, 1421.400,    2.314,   34.501,2,   34.499,2,   26.100,2,   27.800,2,  164.390,2,   43.610,2,    0.000,2,    3.090,2,    0.000,2,    0.003,2, -999.000,9, -999.000,9, -999.000,9
           NA,    P17N,    132,   2,-999.0,      24,  2,19930618,0539,  54.8257, -146.7417,  4179, 1625.800,    2.159,   34.536,2,   34.534,2,   34.900,2,   36.500,2,  168.380,2,   43.210,2,    0.000,2,    3.040,2, -999.000,9, -999.000,9, -999.000,9, -999.000,9, 2410.700,2
           NA,    P17N,    132,   2,-999.0,      25,  2,19930618,0539,  54.8257, -146.7417,  4179, 1828.400,    2.021,   34.565,2,   34.563,2,   46.800,2,   47.700,2,  171.070,2,   42.480,2,    0.000,2,    2.990,2, -999.000,9, -999.000,9, -999.000,9, -999.000,9, -999.000,9
           NA,    P17N,    132,   2,-999.0,      26,  2,19930618,0539,  54.8257, -146.7417,  4179, 2033.100,    1.899,   34.590,2,   34.587,2,   57.800,2,   58.700,2,  172.230,2,   41.860,2,    0.000,2,    2.940,2, -999.000,9, -999.000,9, -999.000,9, -999.000,9, 2419.700,2
           NA,    P17N,    132,   2,-999.0,      27,  2,19930618,0539,  54.8257, -146.7417,  4179, 2237.300,    1.808,   34.608,2,   34.607,2,   69.400,2,   70.700,2,  173.390,2,   41.130,2,    0.000,2,    2.890,2, -999.000,9, -999.000,9, -999.000,9, -999.000,9, -999.000,9
           NA,    P17N,    132,   2,-999.0,      28,  2,19930618,0539,  54.8257, -146.7417,  4179, 2441.600,    1.730,   34.624,2,   34.625,2,   79.200,2,   82.100,2,  173.680,2,   40.350,2,    0.000,2,    2.830,2, -999.000,9, -999.000,9, -999.000,9, -999.000,9, 2424.400,2
           NA,    P17N,    132,   2,-999.0,      29,  2,19930618,0539,  54.8257, -146.7417,  4179, 2645.400,    1.670,   34.637,2,   34.635,2,   89.400,2,   91.600,2,  173.750,2,   39.790,2,    0.000,2,    2.790,2, -999.000,9, -999.000,9, -999.000,9, -999.000,9, -999.000,9
           NA,    P17N,    132,   2,-999.0,      30,  2,19930618,0539,  54.8257, -146.7417,  4179, 2849.300,    1.617,   34.647,2,   34.646,2,   99.800,2,  101.100,2,  173.820,2,   39.120,2,    0.000,2,    2.740,2, -999.000,9, -999.000,9, -999.000,9, -999.000,9, 2424.600,2
           NA,    P17N,    132,   2,-999.0,      31,  2,19930618,0539,  54.8257, -146.7417,  4179, 3054.700,    1.573,   34.655,2,   34.655,2,  109.900,2,  110.700,2,  171.700,2,   38.510,2,    0.000,2,    2.690,2, -999.000,9, -999.000,9, -999.000,9, -999.000,9, -999.000,9
           NA,    P17N,    132,   2,-999.0,      32,  2,19930618,0539,  54.8257, -146.7417,  4179, 3311.800,    1.527,   34.664,2,   34.665,2,  121.100,2,  121.600,2,  169.810,2,   37.730,2,    0.000,2,    2.650,2, -999.000,9, -999.000,9, -999.000,9, -999.000,9, 2433.000,2
           NA,    P17N,    132,   2,-999.0,      33,  2,19930618,0539,  54.8257, -146.7417,  4179, 3567.900,    1.497,   34.672,2,   34.671,2,  130.400,2,  130.100,2,  168.360,2,   37.230,2,    0.000,2,    2.600,2, -999.000,9, -999.000,9, -999.000,9, -999.000,9, -999.000,9
           NA,    P17N,    132,   2,-999.0,      34,  2,19930618,0539,  54.8257, -146.7417,  4179, 3824.600,    1.486,   34.678,2,   34.676,2,  137.100,2,  136.200,2,  167.120,2,   36.840,2,    0.000,2,    2.560,2, -999.000,9, -999.000,9, -999.000,9, -999.000,9, 2426.800,2
           NA,    P17N,    132,   2,-999.0,      38,  2,19930618,0539,  54.8257, -146.7417,  4179, 4080.700,    1.481,   34.681,2,   34.682,2,  142.200,2,  141.300,2,  166.540,2,   36.500,2,    0.000,2,    2.540,2, -999.000,9, -999.000,9, -999.000,9, -999.000,9, -999.000,9
           NA,    P17N,    132,   2,-999.0,      36,  2,19930618,0539,  54.8257, -146.7417,  4179, 4226.000,    1.474,   34.684,2,   34.683,2,  146.100,2,  145.200,2,  165.310,2,   36.220,2,    0.000,2,    2.520,2, -999.000,9, -999.000,9, -999.000,9, -999.000,9, 2431.300,2