BOTTLE,20214410JOAExport
EXPOCODE,SECT_ID,STNNBR,CASTNO,SAMPNO,BTLNBR,BTLNBR_FLAG_W,DATE,TIME,LATITUDE,LONGITUDE,DEPTH,CTDPRS,CTDTMP,CTDSAL,CTDSAL_FLAG_W,SALNTY,SALNTY_FLAG_W,CTDOXY,CTDOXY_FLAG_W,OXYGEN,OXYGEN_FLAG_W,SILCAT,SILCAT_FLAG_W,NITRAT,NITRAT_FLAG_W,NITRIT,NITRIT_FLAG_W,PHSPHT,PHSPHT_FLAG_W,CFC-11,CFC-11_FLAG_W,CFC-12,CFC-12_FLAG_W,SF6,SF6_FLAG_W,TCARBN,TCARBN_FLAG_W,ALKALI,ALKALI_FLAG_W
,,,,,,,,,,,,DB,ITS-90,PSS-78,,PSS-78,,UMOL/KG,,UMOL/KG,,UMOL/KG,,UMOL/KG,,UMOL/KG,,UMOL/KG,,PMOL/KG,,PMOL/KG,,PMOL/KG,,UMOL/KG,,UMOL/KG
           NA,    P17N,    124,   1,-999.0,       1,  2,19930615,2341,  53.6045, -153.2430,  4665,    2.100,    8.048,   32.521,2,   32.522,2,  316.200,2,  310.100,2,   28.020,2,   12.760,2,    0.160,2,    1.220,2,    4.964,2,    2.427,2, -999.000,9, -999.000,9, 2202.800,2
           NA,    P17N,    124,   1,-999.0,       2,  2,19930615,2341,  53.6045, -153.2430,  4665,   30.700,    6.630,   32.542,2,   32.547,2,  312.700,2,  316.100,2,   26.870,2,   12.970,2,    0.150,2,    1.240,2,    5.223,2,    2.495,2, -999.000,9, -999.000,9, 2196.400,2
           NA,    P17N,    124,   1,-999.0,       3,  2,19930615,2341,  53.6045, -153.2430,  4665,   56.300,    3.931,   32.663,2,   32.642,2,  289.300,2,  309.500,2,   29.950,2,   16.620,2,    0.410,2,    1.500,2,    5.582,2,    2.713,2, -999.000,9, -999.000,9, 2208.500,2
           NA,    P17N,    124,   1,-999.0,       4,  2,19930615,2341,  53.6045, -153.2430,  4665,   81.200,    4.023,   33.139,2,   33.133,2,  223.000,2,  211.400,2,   46.550,2,   26.990,2,    0.030,2,    2.090,2,    4.093,2,    1.928,2, -999.000,9, -999.000,9, 2229.300,2
           NA,    P17N,    124,   1,-999.0,       5,  2,19930615,2341,  53.6045, -153.2430,  4665,  106.600,    4.251, -999.000,4,   33.557,2, -999.000,9,  127.200,2,   63.580,2,   34.860,2,    0.020,2,    2.550,2,    2.936,2,    1.365,2, -999.000,9, -999.000,9, -999.000,3
           NA,    P17N,    124,   1,-999.0,       6,  2,19930615,2341,  53.6045, -153.2430,  4665,  132.000,    4.198,   33.697,2,   33.709,2,   94.400,2,   95.300,2,   71.730,2,   37.910,2,    0.020,2,    2.730,2, -999.000,9, -999.000,9, -999.000,9, -999.000,9, 2277.500,2
           NA,    P17N,    124,   1,-999.0,       7,  2,19930615,2341,  53.6045, -153.2430,  4665,  156.900,    3.978,   33.817,2,   33.812,2,   66.700,2,   67.400,2,   80.960,2,   40.510,2,    0.010,2,    2.900,2,    1.904,2,    0.871,2, -999.000,9, -999.000,9, -999.000,3
           NA,    P17N,    124,   1,-999.0,       8,  2,19930615,2341,  53.6045, -153.2430,  4665,  182.300,    3.866,   33.862,2,   33.860,2,   51.100,2,   51.200,2,   86.810,2,   41.980,2,    0.010,2,    2.980,2,    1.592,2,    0.730,2, -999.000,9, -999.000,9, 2291.300,2
           NA,    P17N,    124,   1,-999.0,       9,  2,19930615,2341,  53.6045, -153.2430,  4665,  207.600,    3.821,   33.896,2,   33.894,2,   42.800,2,   41.300,2,   91.170,2,   42.750,2,    0.010,2,    3.030,2, -999.000,9, -999.000,9, -999.000,9, -999.000,9, 2309.200,2
           NA,    P17N,    124,   1,-999.0,      10,  2,19930615,2341,  53.6045, -153.2430,  4665,  258.300,    3.892,   33.980,2,   33.980,2,   28.300,2,   25.300,2,   97.880,2,   43.460,2,    0.010,2,    3.090,2,    0.884,2,    0.394,2, -999.000,9, -999.000,9, 2311.300,2
           NA,    P17N,    124,   1,-999.0,      11,  2,19930615,2341,  53.6045, -153.2430,  4665,  308.500,    3.847,   34.033,2,   34.033,2,   23.200,2,   22.100,2,  103.530,2,   43.690,2,    0.010,2,    3.100,2, -999.000,9, -999.000,9, -999.000,9, -999.000,9, 2334.200,2
           NA,    P17N,    124,   1,-999.0,      12,  2,19930615,2341,  53.6045, -153.2430,  4665,  359.500,    3.789,   34.078,2,   34.079,2,   21.400,2,   20.600,2,  108.340,2,   43.540,2,    0.010,2,    3.100,2,    0.463,2,    0.219,2, -999.000,9, -999.000,9, 2324.900,2
           NA,    P17N,    124,   1,-999.0,      13,  2,19930615,2341,  53.6045, -153.2430,  4665,  460.200,    3.689,   34.147,2,   34.147,2,   18.600,2,   17.500,2,  115.280,2,   43.340,2,    0.010,2,    3.100,2,    0.272,2,    0.135,2, -999.000,9, -999.000,9, 2341.600,2
           NA,    P17N,    124,   1,-999.0,      14,  2,19930615,2341,  53.6045, -153.2430,  4665,  561.100,    3.534,   34.203,2,   34.203,2,   16.100,2,   16.000,2,  122.450,2,   43.510,2,    0.010,2,    3.100,2,    0.151,2,    0.096,2, -999.000,9, -999.000,9, 2349.500,2
           NA,    P17N,    124,   1,-999.0,      15,  2,19930615,2341,  53.6045, -153.2430,  4665,  661.800,    3.361,   34.262,2,   34.263,2,   14.900,2,   14.600,2,  130.060,2,   43.580,2,    0.010,2,    3.120,2,    0.072,2,    0.037,2, -999.000,9, -999.000,9, 2369.400,2
           NA,    P17N,    124,   1,-999.0,      16,  2,19930615,2341,  53.6045, -153.2430,  4665,  762.900,    3.165,   34.313,2,   34.313,2,   14.000,2,   14.300,2,  137.050,2,   43.700,2,    0.010,2,    3.120,2,    0.039,2,    0.020,2, -999.000,9, -999.000,9, 2370.100,2
           NA,    P17N,    124,   1,-999.0,      17,  2,19930615,2341,  53.6045, -153.2430,  4665,  864.500,    2.965,   34.359,2,   34.358,2,   14.400,2,   14.900,2,  143.860,2,   43.710,2,    0.010,2,    3.130,2,    0.026,2,    0.024,2, -999.000,9, -999.000,9, 2377.700,2
           NA,    P17N,    124,   1,-999.0,      18,  2,19930615,2341,  53.6045, -153.2430,  4665,  966.200,    2.801,   34.394,2,   34.390,2,   15.800,2,   16.400,2,  149.390,2,   43.720,2,    0.010,2,    3.120,2,    0.014,2,    0.010,2, -999.000,9, -999.000,9, 2384.700,2
           NA,    P17N,    124,   1,-999.0,      19,  2,19930615,2341,  53.6045, -153.2430,  4665, 1067.500,    2.644,   34.427,2,   34.428,2,   17.800,2,   18.800,2,  154.070,2,   43.670,2,    0.010,2,    3.110,2,    0.008,2,    0.009,2, -999.000,9, -999.000,9, 2391.300,2
           NA,    P17N,    124,   1,-999.0,      20,  2,19930615,2341,  53.6045, -153.2430,  4665, 1270.100,    2.399,   34.479,2,   34.480,2,   25.700,2,   26.400,2,  160.500,2,   43.350,2,    0.010,2,    3.070,2,    0.004,2, -999.000,3, -999.000,9, -999.000,9, 2401.200,2
           NA,    P17N,    124,   1,-999.0,      21,  2,19930615,2341,  53.6045, -153.2430,  4665, 1474.800,    2.196,   34.524,2,   34.523,2,   34.400,2,   35.800,2,  165.650,2,   42.760,2,    0.010,2,    3.030,2,    0.002,2, -999.000,3, -999.000,9, -999.000,9, 2415.400,2
           NA,    P17N,    124,   1,-999.0,      22,  2,19930615,2341,  53.6045, -153.2430,  4665, 1678.400,    2.065,   34.553,2,   34.553,2,   44.200,2,   45.300,2,  167.760,2,   42.230,2,    0.010,2,    2.990,2, -999.000,9, -999.000,9, -999.000,9, -999.000,9, 2413.800,2
           NA,    P17N,    124,   1,-999.0,      23,  2,19930615,2341,  53.6045, -153.2430,  4665, 1805.300,    1.975,   34.572,2,   34.572,2,   51.300,2,   53.200,2,  169.000,2,   41.750,2,    0.010,2,    2.950,2, -999.000,9, -999.000,9, -999.000,9, -999.000,9, -999.000,9
           NA,    P17N,    124,   1,-999.0,      24,  2,19930615,2341,  53.6045, -153.2430,  4665, 1933.200,    1.906,   34.587,2,   34.587,2,   58.900,2,   59.600,2,  170.020,2,   41.380,2,    0.010,2,    2.920,2, -999.000,9, -999.000,9, -999.000,9, -999.000,9, 2417.900,2
           NA,    P17N,    124,   1,-999.0,      25,  2,19930615,2341,  53.6045, -153.2430,  4665, 2137.200,    1.800,   34.608,2,   34.608,2,   71.300,2,   73.000,2,  170.600,2,   40.630,2,    0.010,2,    2.860,2, -999.000,9, -999.000,9, -999.000,9, -999.000,9, -999.000,9
           NA,    P17N,    124,   1,-999.0,      26,  2,19930615,2341,  53.6045, -153.2430,  4665, 2342.000,    1.720,   34.624,2,   34.624,2,   82.000,2,   83.100,2,  170.750,2,   39.990,2,    0.010,2,    2.810,2, -999.000,9, -999.000,9, -999.000,9, -999.000,9, -999.000,9
           NA,    P17N,    124,   1,-999.0,      27,  2,19930615,2341,  53.6045, -153.2430,  4665, 2545.400,    1.651,   34.637,2,   34.637,2,   92.900,2,   94.200,2,  170.020,2,   39.300,2,    0.010,2,    2.760,2, -999.000,9, -999.000,9, -999.000,9, -999.000,9, -999.000,9
           NA,    P17N,    124,   1,-999.0,      28,  2,19930615,2341,  53.6045, -153.2430,  4665, 2750.800,    1.594,   34.647,2, -999.000,3,  103.000,2,  104.600,2,  169.070,2,   38.660,2,    0.010,2,    2.710,2, -999.000,9, -999.000,9, -999.000,9, -999.000,9, 2427.400,2
           NA,    P17N,    124,   1,-999.0,      29,  2,19930615,2341,  53.6045, -153.2430,  4665, 2955.100,    1.552,   34.655,2,   34.657,2,  113.200,2,  113.400,2,  167.680,2,   38.130,2,    0.010,2,    2.670,2,   -0.001,2,   -0.010,2, -999.000,9, -999.000,9, -999.000,9
           NA,    P17N,    124,   1,-999.0,      30,  2,19930615,2341,  53.6045, -153.2430,  4665, 3184.700,    1.516,   34.664,2,   34.665,2,  122.600,2,  122.200,2,  165.640,2,   37.760,2,    0.010,2,    2.620,2, -999.000,9, -999.000,9, -999.000,9, -999.000,9, 2429.900,2
           NA,    P17N,    124,   1,-999.0,      31,  2,19930615,2341,  53.6045, -153.2430,  4665, 3439.200,    1.485,   34.671,2,   34.673,2,  130.900,2,  130.600,2,  165.130,2,   37.180,2,    0.010,2,    2.580,2, -999.000,9, -999.000,9, -999.000,9, -999.000,9, -999.000,9
           NA,    P17N,    124,   1,-999.0,      32,  2,19930615,2341,  53.6045, -153.2430,  4665, 3694.700,    1.475,   34.675,2, -999.000,3,  136.900,2,  136.500,2,  165.060,2,   36.860,2,    0.010,2,    2.550,2, -999.000,9, -999.000,9, -999.000,9, -999.000,9, 2429.000,2
           NA,    P17N,    124,   1,-999.0,      33,  2,19930615,2341,  53.6045, -153.2430,  4665, 3948.300,    1.473,   34.680,2,   34.681,2,  141.600,2,  141.100,2,  164.120,2,   36.550,2,    0.010,2,    2.520,2, -999.000,9, -999.000,9, -999.000,9, -999.000,9, -999.000,9
           NA,    P17N,    124,   1,-999.0,      34,  2,19930615,2341,  53.6045, -153.2430,  4665, 4205.800,    1.482,   34.682,2,   34.682,2,  144.800,2,  144.200,2,  163.170,2,   36.290,2,    0.010,2,    2.510,2, -999.000,9, -999.000,9, -999.000,9, -999.000,9, 2428.400,2
           NA,    P17N,    124,   1,-999.0,      38,  2,19930615,2341,  53.6045, -153.2430,  4665, 4463.600,    1.497,   34.683,2,   34.685,2,  147.900,2,  147.100,2,  162.440,2,   36.080,2,    0.010,2,    2.490,2, -999.000,9, -999.000,9, -999.000,9, -999.000,9, 2439.800,2
           NA,    P17N,    124,   1,-999.0,      36,  2,19930615,2341,  53.6045, -153.2430,  4665, 4739.400,    1.507,   34.687,2,   34.687,2,  152.100,2,  151.000,2,  159.110,2,   35.870,2,    0.010,2,    2.470,2, -999.000,9, -999.000,9, -999.000,9, -999.000,9, -999.000,9