BOTTLE,20214410JOAExport
EXPOCODE,SECT_ID,STNNBR,CASTNO,SAMPNO,BTLNBR,BTLNBR_FLAG_W,DATE,TIME,LATITUDE,LONGITUDE,DEPTH,CTDPRS,CTDTMP,CTDSAL,CTDSAL_FLAG_W,SALNTY,SALNTY_FLAG_W,CTDOXY,CTDOXY_FLAG_W,OXYGEN,OXYGEN_FLAG_W,SILCAT,SILCAT_FLAG_W,NITRAT,NITRAT_FLAG_W,NITRIT,NITRIT_FLAG_W,PHSPHT,PHSPHT_FLAG_W,CFC-11,CFC-11_FLAG_W,CFC-12,CFC-12_FLAG_W,SF6,SF6_FLAG_W,TCARBN,TCARBN_FLAG_W,ALKALI,ALKALI_FLAG_W
,,,,,,,,,,,,DB,ITS-90,PSS-78,,PSS-78,,UMOL/KG,,UMOL/KG,,UMOL/KG,,UMOL/KG,,UMOL/KG,,UMOL/KG,,PMOL/KG,,PMOL/KG,,PMOL/KG,,UMOL/KG,,UMOL/KG
           NA,    P17N,    143,   1,-999.0,       1,  2,19930621,1023,  56.5237, -137.4587,  2577,    1.900,   12.783,   31.839,2,   31.840,2,  259.000,2,  288.200,2,   18.840,2,    0.100,2,    0.010,2,    0.440,2,    4.072,2,    2.047,2, -999.000,9, -999.000,9, -999.000,9
           NA,    P17N,    143,   1,-999.0,       2,  2,19930621,1023,  56.5237, -137.4587,  2577,   29.300,    7.204,   32.003,2,   32.020,2,  271.600,2,  272.000,2,   25.730,2,   14.220,2,    0.280,2,    1.470,2,    5.429,2,    2.762,2, -999.000,9, -999.000,9, -999.000,9
           NA,    P17N,    143,   1,-999.0,       3,  2,19930621,1023,  56.5237, -137.4587,  2577,   54.300,    6.998,   32.130,2,   32.139,2,  273.900,2,  272.100,2,   26.050,2,   15.600,2,    0.200,2,    1.460,2,    5.801,2,    3.092,2, -999.000,9, -999.000,9, -999.000,9
           NA,    P17N,    143,   1,-999.0,       4,  2,19930621,1023,  56.5237, -137.4587,  2577,   79.500,    7.112,   32.280,2,   32.291,2,  272.100,2,  280.700,2,   21.450,2,   13.420,2,    0.040,2,    1.300,2,    5.432,2,    2.798,2, -999.000,9, -999.000,9, -999.000,9
           NA,    P17N,    143,   1,-999.0,       5,  2,19930621,1023,  56.5237, -137.4587,  2577,  104.800,    6.928,   32.365,2,   32.364,2,  278.500,2,  279.000,2,   20.950,2,   13.490,2,    0.030,2,    1.300,2, -999.000,9, -999.000,9, -999.000,9, -999.000,9, -999.000,9
           NA,    P17N,    143,   1,-999.0,       6,  2,19930621,1023,  56.5237, -137.4587,  2577,  130.200,    6.573,   32.395,2,   32.397,2,  268.300,2,  270.400,2,   23.730,2,   15.330,2,    0.040,2,    1.420,2,    5.695,2,    3.041,2, -999.000,9, -999.000,9, -999.000,9
           NA,    P17N,    143,   1,-999.0,       7,  2,19930621,1023,  56.5237, -137.4587,  2577,  155.600,    6.470,   32.602,2,   32.608,2,  247.500,2,  234.500,2,   31.840,2,   19.790,2,    0.030,2,    1.680,2,    5.282,2,    2.875,2, -999.000,9, -999.000,9, -999.000,9
           NA,    P17N,    143,   1,-999.0,       8,  2,19930621,1023,  56.5237, -137.4587,  2577,  180.300,    6.514, -999.000,4,   32.908,2, -999.000,9,  200.500,2,   37.070,2,   23.310,2,    0.030,2,    1.880,2, -999.000,9, -999.000,9, -999.000,9, -999.000,9, -999.000,9
           NA,    P17N,    143,   1,-999.0,       9,  2,19930621,1023,  56.5237, -137.4587,  2577,  205.800,    6.458, -999.000,4,   33.209,2, -999.000,9,  180.100,2,   39.430,2,   25.530,2,    0.030,2,    2.000,2,    3.992,2,    1.915,2, -999.000,9, -999.000,9, -999.000,9
           NA,    P17N,    143,   1,-999.0,      10,  2,19930621,1023,  56.5237, -137.4587,  2577,  230.900,    6.308, -999.000,4,   33.435,2, -999.000,9,  157.300,2,   44.460,2,   28.080,2,    0.030,2,    2.150,2,    4.141,2,    2.118,2, -999.000,9, -999.000,9, -999.000,9
           NA,    P17N,    143,   1,-999.0,      11,  2,19930621,1023,  56.5237, -137.4587,  2577,  256.200,    6.163,   33.583,2,   33.594,2,  140.800,2,  143.800,2,   47.640,2,   29.770,2,    0.030,2,    2.230,2, -999.000,9, -999.000,9, -999.000,9, -999.000,9, -999.000,9
           NA,    P17N,    143,   1,-999.0,      12,  2,19930621,1023,  56.5237, -137.4587,  2577,  281.300,    5.940,   33.760,2,   33.765,2,  128.300,2,  131.600,2,   51.840,2,   31.340,2,    0.030,2,    2.310,2,    3.097,2,    1.486,2, -999.000,9, -999.000,9, -999.000,9
           NA,    P17N,    143,   1,-999.0,      13,  2,19930621,1023,  56.5237, -137.4587,  2577,  306.600,    5.533,   33.777,2,   33.775,2,  132.900,2,  130.800,2,   55.640,2,   32.370,2,    0.030,2,    2.370,2,    3.057,2,    1.427,2, -999.000,9, -999.000,9, -999.000,9
           NA,    P17N,    143,   1,-999.0,      14,  2,19930621,1023,  56.5237, -137.4587,  2577,  357.100,    5.203,   33.861,2,   33.862,2,  103.200,2,  102.600,2,   64.150,2,   35.280,2,    0.020,2,    2.560,2,    2.670,2,    1.274,2, -999.000,9, -999.000,9, -999.000,9
           NA,    P17N,    143,   1,-999.0,      15,  2,19930621,1023,  56.5237, -137.4587,  2577,  407.700,    4.940,   33.915,2,   33.914,2,   77.500,2,   78.700,2,   72.260,2,   37.630,2,    0.020,2,    2.720,2, -999.000,9, -999.000,9, -999.000,9, -999.000,9, -999.000,9
           NA,    P17N,    143,   1,-999.0,      16,  2,19930621,1023,  56.5237, -137.4587,  2577,  458.300,    4.750,   33.951,2,   33.950,2,   61.300,2,   62.100,2,   78.930,2,   39.340,2,    0.020,2,    2.830,2,    1.510,2,    0.713,2, -999.000,9, -999.000,9, -999.000,9
           NA,    P17N,    143,   1,-999.0,      17,  2,19930621,1023,  56.5237, -137.4587,  2577,  508.600,    4.575,   33.986,2,   33.986,2,   49.500,2,   50.900,2,   84.790,2,   40.440,2,    0.020,2,    2.910,2,    1.136,2,    0.525,2, -999.000,9, -999.000,9, -999.000,9
           NA,    P17N,    143,   1,-999.0,      18,  2,19930621,1023,  56.5237, -137.4587,  2577,  609.100,    4.259,   34.072,2,   34.070,2,   32.700,2,   31.700,2,   97.850,2,   42.150,2,    0.020,2,    3.050,2,    0.525,2,    0.269,2, -999.000,9, -999.000,9, -999.000,9
           NA,    P17N,    143,   1,-999.0,      19,  2,19930621,1023,  56.5237, -137.4587,  2577,  710.700,    4.029,   34.155,2,   34.154,2,   23.400,2,   22.500,2,  108.470,2,   42.930,2,    0.020,2,    3.100,2,    0.276,2,    0.131,2, -999.000,9, -999.000,9, -999.000,9
           NA,    P17N,    143,   1,-999.0,      20,  2,19930621,1023,  56.5237, -137.4587,  2577,  812.400,    3.741,   34.220,2,   34.218,2,   18.400,2,   17.200,2,  119.320,2,   43.430,2,    0.020,2,    3.140,2, -999.000,9, -999.000,9, -999.000,9, -999.000,9, -999.000,9
           NA,    P17N,    143,   1,-999.0,      21,  2,19930621,1023,  56.5237, -137.4587,  2577,  913.700,    3.440,   34.270,2,   34.268,2,   17.100,2,   16.200,2,  128.760,2,   43.700,2,    0.020,2,    3.160,2,    0.095,2,    0.048,2, -999.000,9, -999.000,9, -999.000,9
           NA,    P17N,    143,   1,-999.0,      22,  2,19930621,1023,  56.5237, -137.4587,  2577, 1015.000,    3.271,   34.314,2,   34.314,2,   15.300,2,   15.200,2,  135.320,2,   43.700,2,    0.020,2,    3.170,2,    0.038,2,    0.019,2, -999.000,9, -999.000,9, -999.000,9
           NA,    P17N,    143,   1,-999.0,      23,  2,19930621,1023,  56.5237, -137.4587,  2577, 1116.700,    3.042,   34.356,2,   34.353,2,   15.600,2,   15.800,2,  142.930,2,   43.980,2,    0.020,2,    3.180,2,    0.022,2,    0.010,2, -999.000,9, -999.000,9, -999.000,9
           NA,    P17N,    143,   1,-999.0,      24,  2,19930621,1023,  56.5237, -137.4587,  2577, 1218.200,    2.905,   34.389,2,   34.388,2,   16.100,2,   15.900,2,  147.640,2,   44.030,2,    0.020,2,    3.170,2,    0.009,2,    0.005,2, -999.000,9, -999.000,9, -999.000,9
           NA,    P17N,    143,   1,-999.0,      25,  2,19930621,1023,  56.5237, -137.4587,  2577, 1319.800,    2.761,   34.415,2,   34.414,2,   17.000,2,   18.700,2,  152.770,2,   44.080,2,    0.020,2,    3.160,2,    0.007,2,    0.008,2, -999.000,9, -999.000,9, -999.000,9
           NA,    P17N,    143,   1,-999.0,      26,  2,19930621,1023,  56.5237, -137.4587,  2577, 1421.400,    2.614,   34.445,2,   34.444,2,   19.700,2,   19.300,2,  157.290,2,   44.020,2,    0.020,2,    3.150,2, -999.000,9, -999.000,9, -999.000,9, -999.000,9, -999.000,9
           NA,    P17N,    143,   1,-999.0,      27,  2,19930621,1023,  56.5237, -137.4587,  2577, 1523.700,    2.461,   34.475,2,   34.474,2,   22.600,2,   23.000,2,  161.600,2,   43.850,2,    0.020,2,    3.130,2, -999.000,9, -999.000,9, -999.000,9, -999.000,9, -999.000,9
           NA,    P17N,    143,   1,-999.0,      28,  2,19930621,1023,  56.5237, -137.4587,  2577, 1625.300,    2.338,   34.501,2,   34.501,2,   27.800,2,   28.400,2,  164.870,2,   43.570,2,    0.020,2,    3.100,2, -999.000,9, -999.000,9, -999.000,9, -999.000,9, -999.000,9
           NA,    P17N,    143,   1,-999.0,      29,  2,19930621,1023,  56.5237, -137.4587,  2577, 1727.400,    2.237,   34.523,2,   34.522,2,   33.600,2,   34.000,2,  167.290,2,   43.180,2,    0.020,2,    3.080,2, -999.000,9, -999.000,9, -999.000,9, -999.000,9, -999.000,9
           NA,    P17N,    143,   1,-999.0,      30,  2,19930621,1023,  56.5237, -137.4587,  2577, 1829.000,    2.127,   34.545,2,   34.544,2,   40.600,2,   42.100,2,  169.720,2,   42.840,2,    0.020,2,    3.040,2, -999.000,9, -999.000,9, -999.000,9, -999.000,9, -999.000,9
           NA,    P17N,    143,   1,-999.0,      31,  2,19930621,1023,  56.5237, -137.4587,  2577, 1930.300,    2.036,   34.563,2,   34.563,2,   47.800,2,   47.800,2,  171.720,2,   42.450,2,    0.020,2,    3.010,2, -999.000,9, -999.000,9, -999.000,9, -999.000,9, -999.000,9
           NA,    P17N,    143,   1,-999.0,      32,  2,19930621,1023,  56.5237, -137.4587,  2577, 2031.900,    1.953,   34.580,2,   34.580,2,   55.000,2,   55.400,2,  173.510,2,   41.950,2,    0.020,2,    2.980,2, -999.000,9, -999.000,9, -999.000,9, -999.000,9, -999.000,9
           NA,    P17N,    143,   1,-999.0,      33,  2,19930621,1023,  56.5237, -137.4587,  2577, 2133.300,    1.883,   34.594,2,   34.594,2,   62.500,2,   62.600,2,  174.460,2,   41.560,2,    0.010,2,    2.940,2, -999.000,9, -999.000,9, -999.000,9, -999.000,9, -999.000,9
           NA,    P17N,    143,   1,-999.0,      34,  2,19930621,1023,  56.5237, -137.4587,  2577, 2235.400,    1.822,   34.606,2,   34.605,2,   69.300,2,   69.600,2,  175.400,2,   41.170,2,    0.020,2,    2.920,2, -999.000,9, -999.000,9, -999.000,9, -999.000,9, -999.000,9
           NA,    P17N,    143,   1,-999.0,      38,  2,19930621,1023,  56.5237, -137.4587,  2577, 2439.600,    1.736,   34.623,2,   34.623,2,   81.000,2,   79.900,2,  177.410,2,   40.450,2,    0.010,2,    2.860,2, -999.000,9, -999.000,9, -999.000,9, -999.000,9, -999.000,9
           NA,    P17N,    143,   1,-999.0,      36,  2,19930621,1023,  56.5237, -137.4587,  2577, 2580.800,    1.620,   34.645,2,   34.645,2,   95.200,2,   94.500,2,  183.060,2,   39.450,2,    0.020,2,    2.810,2, -999.000,9, -999.000,9, -999.000,9, -999.000,9, -999.000,9