BOTTLE,20214410JOAExport
EXPOCODE,SECT_ID,STNNBR,CASTNO,SAMPNO,BTLNBR,BTLNBR_FLAG_W,DATE,TIME,LATITUDE,LONGITUDE,DEPTH,CTDPRS,CTDTMP,CTDSAL,CTDSAL_FLAG_W,SALNTY,SALNTY_FLAG_W,CTDOXY,CTDOXY_FLAG_W,OXYGEN,OXYGEN_FLAG_W,SILCAT,SILCAT_FLAG_W,NITRAT,NITRAT_FLAG_W,NITRIT,NITRIT_FLAG_W,PHSPHT,PHSPHT_FLAG_W,CFC-11,CFC-11_FLAG_W,CFC-12,CFC-12_FLAG_W,SF6,SF6_FLAG_W,TCARBN,TCARBN_FLAG_W,ALKALI,ALKALI_FLAG_W
,,,,,,,,,,,,DB,ITS-90,PSS-78,,PSS-78,,UMOL/KG,,UMOL/KG,,UMOL/KG,,UMOL/KG,,UMOL/KG,,UMOL/KG,,PMOL/KG,,PMOL/KG,,PMOL/KG,,UMOL/KG,,UMOL/KG
           NA,    P17N,    139,   1,-999.0,       1,  2,19930620,0254,  55.9120, -140.8758,  3570,    1.400,   11.560,   32.241,2,   32.238,2, -999.000,3,  291.700,2,    6.900,2,    6.510,2,    0.070,2,    0.900,2,    4.149,2,    2.029,2, -999.000,9, -999.000,9, -999.000,9
           NA,    P17N,    139,   1,-999.0,       2,  2,19930620,0254,  55.9120, -140.8758,  3570,   30.100,    7.021,   32.244,2,   32.246,2, -999.000,3,  324.700,2,    8.660,2,    8.740,2,    0.070,2,    1.020,2,    4.879,2,    2.407,2, -999.000,9, -999.000,9, -999.000,9
           NA,    P17N,    139,   1,-999.0,       3,  2,19930620,0254,  55.9120, -140.8758,  3570,   55.400,    6.412, -999.000,4,   32.261,2, -999.000,9,  296.600,2,   12.460,2,   10.490,2,    0.220,2,    1.260,2,    4.694,2,    2.325,2, -999.000,9, -999.000,9, -999.000,9
           NA,    P17N,    139,   1,-999.0,       4,  2,19930620,0254,  55.9120, -140.8758,  3570,   80.700,    6.618,   32.921,2,   32.928,2, -999.000,3,  181.200,2,   39.970,2,   25.480,2,    0.020,2,    2.020,2,    3.568,2,    1.718,2, -999.000,9, -999.000,9, -999.000,9
           NA,    P17N,    139,   1,-999.0,       5,  2,19930620,0254,  55.9120, -140.8758,  3570,  106.100,    6.516,   33.124,2,   33.123,2, -999.000,3,  161.400,2,   45.600,2,   27.720,2,    0.020,2,    2.140,2,    3.216,2,    1.617,2, -999.000,9, -999.000,9, -999.000,9
           NA,    P17N,    139,   1,-999.0,       6,  2,19930620,0254,  55.9120, -140.8758,  3570,  131.200,    6.432,   33.219,2,   33.222,2, -999.000,3,  153.700,2,   47.760,2,   28.590,2,    0.020,2,    2.190,2, -999.000,3, -999.000,3, -999.000,9, -999.000,9, -999.000,9
           NA,    P17N,    139,   1,-999.0,       7,  2,19930620,0254,  55.9120, -140.8758,  3570,  156.300,    6.350,   33.325,2,   33.325,2, -999.000,3,  147.800,2,   48.890,2,   29.140,2,    0.010,2,    2.220,2,    3.048,2,    1.521,2, -999.000,9, -999.000,9, -999.000,9
           NA,    P17N,    139,   1,-999.0,       8,  2,19930620,0254,  55.9120, -140.8758,  3570,  181.600,    6.291,   33.402,2,   33.401,2, -999.000,3,  144.100,2,   49.620,2,   29.520,2,    0.010,2,    2.240,2, -999.000,9, -999.000,9, -999.000,9, -999.000,9, -999.000,9
           NA,    P17N,    139,   1,-999.0,       9,  2,19930620,0254,  55.9120, -140.8758,  3570,  205.700,    6.249,   33.447,2,   33.445,2, -999.000,3,  141.400,2,   50.140,2,   29.890,2,    0.020,2,    2.250,2, -999.000,9, -999.000,9, -999.000,9, -999.000,9, -999.000,9
           NA,    P17N,    139,   1,-999.0,      10,  2,19930620,0254,  55.9120, -140.8758,  3570,  257.100,    6.169,   33.561,2,   33.559,2, -999.000,3,  137.800,2,   50.660,2,   30.270,2,    0.020,2,    2.270,2,    2.832,2,    1.309,2, -999.000,9, -999.000,9, -999.000,9
           NA,    P17N,    139,   1,-999.0,      11,  2,19930620,0254,  55.9120, -140.8758,  3570,  307.700,    6.026,   33.656,2,   33.655,2, -999.000,3,  131.100,2,   52.400,2,   31.100,2,    0.010,2,    2.310,2, -999.000,9, -999.000,9, -999.000,9, -999.000,9, -999.000,9
           NA,    P17N,    139,   1,-999.0,      12,  2,19930620,0254,  55.9120, -140.8758,  3570,  358.600,    5.693,   33.775,2,   33.774,2, -999.000,3,  117.600,2,   57.210,2,   32.960,2,    0.010,2,    2.410,2,    2.245,2,    1.083,2, -999.000,9, -999.000,9, -999.000,9
           NA,    P17N,    139,   1,-999.0,      13,  2,19930620,0254,  55.9120, -140.8758,  3570,  409.100,    5.315,   33.853,2,   33.850,2, -999.000,3,   98.800,2,   64.060,2,   35.320,2,    0.000,2,    2.550,2, -999.000,9, -999.000,9, -999.000,9, -999.000,9, -999.000,9
           NA,    P17N,    139,   1,-999.0,      14,  2,19930620,0254,  55.9120, -140.8758,  3570,  459.300,    5.069,   33.892,2,   33.890,2, -999.000,3,   83.300,2,   70.100,2,   37.080,2,    0.000,2,    2.670,2,    1.645,2,    0.785,2, -999.000,9, -999.000,9, -999.000,9
           NA,    P17N,    139,   1,-999.0,      15,  2,19930620,0254,  55.9120, -140.8758,  3570,  510.200,    4.736,   33.941,2,   33.940,2, -999.000,3,   63.000,2,   78.810,2,   39.280,2,    0.000,2,    2.820,2, -999.000,9, -999.000,9, -999.000,9, -999.000,9, -999.000,9
           NA,    P17N,    139,   1,-999.0,      16,  2,19930620,0254,  55.9120, -140.8758,  3570,  610.800,    4.222,   34.040,2,   34.038,2, -999.000,3,   34.900,2,   95.530,2,   42.220,2,    0.000,2,    3.020,2,    0.626,2,    0.284,2, -999.000,9, -999.000,9, -999.000,9
           NA,    P17N,    139,   1,-999.0,      17,  2,19930620,0254,  55.9120, -140.8758,  3570,  711.300,    3.920,   34.125,2,   34.123,2, -999.000,3,   23.100,2,  108.590,2,   43.220,2,    0.000,2,    3.100,2,    0.297,2,    0.147,2, -999.000,9, -999.000,9, -999.000,9
           NA,    P17N,    139,   1,-999.0,      18,  2,19930620,0254,  55.9120, -140.8758,  3570,  813.700,    3.684,   34.201,2,   34.200,2,   18.400,2,   18.500,2,  119.020,2,   43.560,2,    0.000,2,    3.120,2,    0.141,2,    0.074,2, -999.000,9, -999.000,9, -999.000,9
           NA,    P17N,    139,   1,-999.0,      19,  2,19930620,0254,  55.9120, -140.8758,  3570,  914.800,    3.450,   34.253,2,   34.252,2,   16.800,2,   16.800,2,  127.200,2,   43.720,2,    0.000,2,    3.140,2,    0.059,2,    0.037,2, -999.000,9, -999.000,9, -999.000,9
           NA,    P17N,    139,   1,-999.0,      20,  2,19930620,0254,  55.9120, -140.8758,  3570, 1016.200,    3.227,   34.304,2,   34.303,2,   17.200,2,   16.700,2,  135.400,2,   43.890,2,    0.000,2,    3.140,2,    0.030,2,    0.023,2, -999.000,9, -999.000,9, -999.000,9
           NA,    P17N,    139,   1,-999.0,      21,  2,19930620,0254,  55.9120, -140.8758,  3570, 1118.300,    3.030,   34.350,2,   34.350,2,   16.700,2,   16.300,2,  142.170,2,   44.000,2,    0.000,2,    3.160,2,    0.014,2,    0.010,2, -999.000,9, -999.000,9, -999.000,9
           NA,    P17N,    139,   1,-999.0,      22,  2,19930620,0254,  55.9120, -140.8758,  3570, 1219.700,    2.866,   34.386,2,   34.384,2,   16.400,2,   16.300,2,  147.290,2,   44.170,2,    0.000,2,    3.160,2,   -0.002,2,    0.001,2, -999.000,9, -999.000,9, -999.000,9
           NA,    P17N,    139,   1,-999.0,      23,  2,19930620,0254,  55.9120, -140.8758,  3570, 1321.000,    2.736,   34.415,2,   34.414,2,   16.800,2,   16.800,2,  152.420,2,   44.230,2,    0.000,2,    3.150,2,   -0.005,2, -999.000,4, -999.000,9, -999.000,9, -999.000,9
           NA,    P17N,    139,   1,-999.0,      24,  2,19930620,0254,  55.9120, -140.8758,  3570, 1422.400,    2.608,   34.442,2,   34.441,2,   18.100,2,   18.300,2,  156.520,2,   44.170,2,    0.000,2,    3.140,2,   -0.001,2,    0.002,2, -999.000,9, -999.000,9, -999.000,9
           NA,    P17N,    139,   1,-999.0,      25,  2,19930620,0254,  55.9120, -140.8758,  3570, 1524.700,    2.478,   34.472,2,   34.472,2,   21.000,2,   21.600,2,  160.410,2,   44.060,2,    0.000,2,    3.120,2,   -0.002,2, -999.000,4, -999.000,9, -999.000,9, -999.000,9
           NA,    P17N,    139,   1,-999.0,      26,  2,19930620,0254,  55.9120, -140.8758,  3570, 1626.600,    2.358,   34.497,2,   34.497,2,   25.100,2,   26.400,2,  163.250,2,   43.780,2,    0.000,2,    3.100,2, -999.000,9, -999.000,9, -999.000,9, -999.000,9, -999.000,9
           NA,    P17N,    139,   1,-999.0,      27,  2,19930620,0254,  55.9120, -140.8758,  3570, 1728.600,    2.260,   34.517,2,   34.516,2,   30.300,2,   31.300,2,  166.310,2,   43.330,2,    0.000,2,    3.080,2, -999.000,9, -999.000,9, -999.000,9, -999.000,9, -999.000,9
           NA,    P17N,    139,   1,-999.0,      28,  2,19930620,0254,  55.9120, -140.8758,  3570, 1932.900,    2.058,   34.559,2,   34.560,2,   43.800,2,   46.100,2,  171.070,2,   42.720,2,    0.000,2,    3.020,2, -999.000,9, -999.000,9, -999.000,9, -999.000,9, -999.000,9
           NA,    P17N,    139,   1,-999.0,      29,  2,19930620,0254,  55.9120, -140.8758,  3570, 2135.300,    1.926,   34.586,2,   34.586,2,   56.600,2,   57.600,2,  173.080,2,   41.940,2,    0.000,2,    2.960,2, -999.000,9, -999.000,9, -999.000,9, -999.000,9, -999.000,9
           NA,    P17N,    139,   1,-999.0,      30,  2,19930620,0254,  55.9120, -140.8758,  3570, 2339.800,    1.823,   34.607,2,   34.607,2,   68.100,2,   70.000,2,  174.670,2,   41.220,2,    0.000,2,    2.910,2, -999.000,9, -999.000,9, -999.000,9, -999.000,9, -999.000,9
           NA,    P17N,    139,   1,-999.0,      31,  2,19930620,0254,  55.9120, -140.8758,  3570, 2441.000,    1.776,   34.616,2,   34.616,2,   75.500,2,   75.700,2,  174.980,2,   40.890,2,    0.000,2,    2.880,2, -999.000,9, -999.000,9, -999.000,9, -999.000,9, -999.000,9
           NA,    P17N,    139,   1,-999.0,      32,  2,19930620,0254,  55.9120, -140.8758,  3570, 2645.500,    1.702,   34.631,2,   34.631,2,   86.600,2,   86.500,2,  175.710,2,   40.220,2,    0.000,2,    2.830,2, -999.000,9, -999.000,9, -999.000,9, -999.000,9, -999.000,9
           NA,    P17N,    139,   1,-999.0,      33,  2,19930620,0254,  55.9120, -140.8758,  3570, 2851.000,    1.649,   34.641,2,   34.643,2,   96.200,2,   95.800,2,  176.030,2,   39.620,2,    0.000,2,    2.780,2, -999.000,9, -999.000,9, -999.000,9, -999.000,9, -999.000,9
           NA,    P17N,    139,   1,-999.0,      34,  2,19930620,0254,  55.9120, -140.8758,  3570, 3054.300,    1.606,   34.651,2,   34.652,2,  104.900,2,  104.700,2,  175.480,2,   39.010,2,    0.000,2,    2.740,2, -999.000,9, -999.000,9, -999.000,9, -999.000,9, -999.000,9
           NA,    P17N,    139,   1,-999.0,      38,  2,19930620,0254,  55.9120, -140.8758,  3570, 3310.000,    1.556,   34.662,2,   34.662,2,  116.500,2,  115.800,2,  174.940,2,   38.290,2,    0.000,2,    2.690,2, -999.000,9, -999.000,9, -999.000,9, -999.000,9, -999.000,9
           NA,    P17N,    139,   1,-999.0,      36,  2,19930620,0254,  55.9120, -140.8758,  3570, 3597.000,    1.485,   34.676,2,   34.676,2,  132.500,2,  131.200,2,  173.980,2,   37.300,2,    0.000,2,    2.610,2, -999.000,9, -999.000,9, -999.000,9, -999.000,9, -999.000,9
           NA,    P17N,    140,   1,-999.0,       1,  2,19930620,0830,  56.0658, -140.0280,  3473,    1.400,   12.052,   32.332,2,   32.336,2,  284.300,2,  284.800,2,   11.100,2,    6.240,2,    0.080,2,    0.880,2,    4.061,2,    1.975,2, -999.000,9, -999.000,9, -999.000,9
           NA,    P17N,    140,   1,-999.0,       2,  2,19930620,0830,  56.0658, -140.0280,  3473,   30.000,    7.719,   32.359,2,   32.360,2,  319.600,2,  325.200,2,   14.890,2,    7.820,2,    0.080,2,    0.980,2,    4.872,2,    2.372,2, -999.000,9, -999.000,9, -999.000,9
           NA,    P17N,    140,   1,-999.0,       3,  2,19930620,0830,  56.0658, -140.0280,  3473,   55.400,    6.689,   32.383,2,   32.385,2,  292.100,2,  305.000,2,   16.230,2,   10.280,2,    0.250,2,    1.140,2, -999.000,9, -999.000,9, -999.000,9, -999.000,9, -999.000,9
           NA,    P17N,    140,   1,-999.0,       4,  2,19930620,0830,  56.0658, -140.0280,  3473,   80.200,    5.984,   32.432,2,   32.435,2,  288.100,2,  298.600,2,   17.770,2,   12.400,2,    0.300,2,    1.230,2,    4.755,2,    2.288,2, -999.000,9, -999.000,9, -999.000,9
           NA,    P17N,    140,   1,-999.0,       5,  2,19930620,0830,  56.0658, -140.0280,  3473,  105.500,    5.463,   32.550,2,   32.556,2,  276.200,2,  287.100,2,   22.180,2,   15.240,2,    0.020,2,    1.380,2, -999.000,9, -999.000,9, -999.000,9, -999.000,9, -999.000,9
           NA,    P17N,    140,   1,-999.0,       6,  2,19930620,0830,  56.0658, -140.0280,  3473,  130.000,    6.040, -999.000,4,   32.980,2, -999.000,9,  221.700,2,   32.320,2,   21.790,2,    0.020,2,    1.760,2,    4.151,2,    1.982,2, -999.000,9, -999.000,9, -999.000,9
           NA,    P17N,    140,   1,-999.0,       7,  2,19930620,0830,  56.0658, -140.0280,  3473,  155.700,    6.030,   33.301,2,   33.311,2,  180.000,2,  184.200,2,   40.010,2,   26.160,2,    0.010,2,    2.010,2, -999.000,9, -999.000,9, -999.000,9, -999.000,9, -999.000,9
           NA,    P17N,    140,   1,-999.0,       8,  2,19930620,0830,  56.0658, -140.0280,  3473,  180.300,    5.870,   33.592,2,   33.597,2,  156.100,2,  153.300,2,   47.280,2,   29.710,2,    0.010,2,    2.210,2,    3.071,2,    1.399,2, -999.000,9, -999.000,9, -999.000,9
           NA,    P17N,    140,   1,-999.0,       9,  2,19930620,0830,  56.0658, -140.0280,  3473,  206.300,    5.410,   33.733,2,   33.735,2,  138.700,2,  137.500,2,   53.950,2,   32.110,2,    0.010,2,    2.350,2, -999.000,9, -999.000,9, -999.000,9, -999.000,9, -999.000,9
           NA,    P17N,    140,   1,-999.0,      10,  2,19930620,0830,  56.0658, -140.0280,  3473,  230.900,    5.115,   33.792,2,   33.794,2,  123.100,2,  122.600,2,   60.000,2,   33.970,2,    0.010,2,    2.470,2,    2.562,2,    1.161,2, -999.000,9, -999.000,9, -999.000,9
           NA,    P17N,    140,   1,-999.0,      11,  2,19930620,0830,  56.0658, -140.0280,  3473,  255.900,    4.964,   33.838,2,   33.839,2,  106.300,2,  104.300,2,   65.240,2,   35.510,2,    0.010,2,    2.580,2,    2.222,2,    0.980,2, -999.000,9, -999.000,9, -999.000,9
           NA,    P17N,    140,   1,-999.0,      12,  2,19930620,0830,  56.0658, -140.0280,  3473,  306.300,    4.463,   33.864,2,   33.864,2,   86.800,2,   82.100,2,   75.010,2,   38.380,2,    0.010,2,    2.770,2,    1.799,2,    0.804,2, -999.000,9, -999.000,9, -999.000,9
           NA,    P17N,    140,   1,-999.0,      13,  2,19930620,0830,  56.0658, -140.0280,  3473,  356.500,    4.354,   33.918,2,   33.917,2,   64.900,2,   61.100,2,   82.520,2,   40.200,2,    0.010,2,    2.900,2,    1.341,2,    0.654,2, -999.000,9, -999.000,9, -999.000,9
           NA,    P17N,    140,   1,-999.0,      14,  2,19930620,0830,  56.0658, -140.0280,  3473,  406.700,    4.317,   33.979,2,   33.981,2,   47.700,2,   46.200,2,   89.020,2,   41.360,2,    0.010,2,    2.990,2,    0.921,2,    0.430,2, -999.000,9, -999.000,9, -999.000,9
           NA,    P17N,    140,   1,-999.0,      15,  2,19930620,0830,  56.0658, -140.0280,  3473,  456.400,    4.209,   34.030,2,   34.034,2,   38.400,2,   36.100,2,   95.930,2,   42.080,2,    0.010,2,    3.050,2,    0.639,2,    0.290,2, -999.000,9, -999.000,9, -999.000,9
           NA,    P17N,    140,   1,-999.0,      16,  2,19930620,0830,  56.0658, -140.0280,  3473,  506.300,    4.092,   34.068,2,   34.068,2,   31.900,2,   30.300,2,  101.000,2,   42.630,2,    0.010,2,    3.090,2,    0.504,2,    0.227,2, -999.000,9, -999.000,9, -999.000,9
           NA,    P17N,    140,   1,-999.0,      17,  2,19930620,0830,  56.0658, -140.0280,  3473,  557.200,    3.938,   34.102,2,   34.102,2,   27.300,2,   25.600,2,  106.690,2,   43.080,2,    0.000,2,    3.110,2,    0.385,2,    0.198,2, -999.000,9, -999.000,9, -999.000,9
           NA,    P17N,    140,   1,-999.0,      18,  2,19930620,0830,  56.0658, -140.0280,  3473,  606.600,    3.860,   34.131,2,   34.130,2,   23.800,2,   23.000,2,  111.160,2,   43.240,2,    0.000,2,    3.120,2,    0.298,2,    0.136,2, -999.000,9, -999.000,9, -999.000,9
           NA,    P17N,    140,   1,-999.0,      19,  2,19930620,0830,  56.0658, -140.0280,  3473,  706.900,    3.744,   34.199,2,   34.198,2,   19.400,2,   18.700,2,  117.490,2,   43.400,2,    0.000,2,    3.150,2,    0.147,2,    0.067,2, -999.000,9, -999.000,9, -999.000,9
           NA,    P17N,    140,   1,-999.0,      20,  2,19930620,0830,  56.0658, -140.0280,  3473,  809.000,    3.465,   34.256,2,   34.256,2,   17.500,2,   16.800,2,  127.390,2,   43.680,2,    0.000,2,    3.160,2,    0.074,2,    0.042,2, -999.000,9, -999.000,9, -999.000,9
           NA,    P17N,    140,   1,-999.0,      21,  2,19930620,0830,  56.0658, -140.0280,  3473,  908.900,    3.283,   34.299,2,   34.299,2,   16.600,2,   16.100,2,  133.970,2,   43.780,2,    0.000,2,    3.180,2, -999.000,9, -999.000,9, -999.000,9, -999.000,9, -999.000,9
           NA,    P17N,    140,   1,-999.0,      22,  2,19930620,0830,  56.0658, -140.0280,  3473, 1010.100,    3.101,   34.335,2,   34.334,2,   17.300,2,   17.000,2,  139.950,2,   43.830,2,    0.000,2,    3.180,2,    0.030,2,    0.046,2, -999.000,9, -999.000,9, -999.000,9
           NA,    P17N,    140,   1,-999.0,      23,  2,19930620,0830,  56.0658, -140.0280,  3473, 1111.900,    2.934,   34.371,2,   34.370,2,   17.600,2,   16.800,2,  145.740,2,   43.940,2,    0.000,2,    3.180,2, -999.000,9, -999.000,9, -999.000,9, -999.000,9, -999.000,9
           NA,    P17N,    140,   1,-999.0,      24,  2,19930620,0830,  56.0658, -140.0280,  3473, 1214.200,    2.790,   34.401,2,   34.402,2,   17.500,2,   17.800,2,  150.910,2,   44.050,2,    0.000,2,    3.180,2,    0.010,2,    0.005,2, -999.000,9, -999.000,9, -999.000,9
           NA,    P17N,    140,   1,-999.0,      25,  2,19930620,0830,  56.0658, -140.0280,  3473, 1418.700,    2.524,   34.459,2,   34.458,2,   20.400,2,   21.400,2,  159.480,2,   43.990,2,    0.000,2,    3.160,2,    0.002,2,    0.002,2, -999.000,9, -999.000,9, -999.000,9
           NA,    P17N,    140,   1,-999.0,      26,  2,19930620,0830,  56.0658, -140.0280,  3473, 1624.500,    2.312,   34.504,2,   34.504,2,   28.000,2,   29.000,2,  165.540,2,   43.480,2,    0.000,2,    3.120,2,   -0.003,2,   -0.007,2, -999.000,9, -999.000,9, -999.000,9
           NA,    P17N,    140,   1,-999.0,      28,  2,19930620,0830,  56.0658, -140.0280,  3473, 2033.600,    1.983,   34.574,2,   34.575,2,   51.800,2,   52.400,2,  172.490,2,   42.190,2,    0.000,2,    3.010,2, -999.000,9, -999.000,9, -999.000,9, -999.000,9, -999.000,9
           NA,    P17N,    140,   1,-999.0,      29,  2,19930620,0830,  56.0658, -140.0280,  3473, 2238.900,    1.848,   34.600,2,   34.603,2,   65.400,2,   66.000,2,  174.320,2,   41.400,2,    0.000,2,    2.950,2, -999.000,9, -999.000,9, -999.000,9, -999.000,9, -999.000,9
           NA,    P17N,    140,   1,-999.0,      30,  2,19930620,0830,  56.0658, -140.0280,  3473, 2442.700,    1.759,   34.618,2,   34.619,2,   76.800,2,   78.900,2,  175.720,2,   40.620,2,    0.000,2,    2.890,2, -999.000,9, -999.000,9, -999.000,9, -999.000,9, -999.000,9
           NA,    P17N,    140,   1,-999.0,      31,  2,19930620,0830,  56.0658, -140.0280,  3473, 2648.000,    1.693,   34.631,2,   34.633,2,   87.000,2,   89.400,2,  176.270,2,   40.010,2,    0.000,2,    2.840,2, -999.000,9, -999.000,9, -999.000,9, -999.000,9, -999.000,9
           NA,    P17N,    140,   1,-999.0,      32,  2,19930620,0830,  56.0658, -140.0280,  3473, 2852.300,    1.625,   34.645,2,   34.646,2,   97.800,2,   98.900,2,  176.390,2,   39.340,2,    0.000,2,    2.780,2, -999.000,9, -999.000,9, -999.000,9, -999.000,9, -999.000,9
           NA,    P17N,    140,   1,-999.0,      33,  2,19930620,0830,  56.0658, -140.0280,  3473, 3057.400,    1.577,   34.655,2,   34.656,2,  108.600,2,  109.200,2,  176.080,2,   38.670,2,    0.000,2,    2.740,2, -999.000,9, -999.000,9, -999.000,9, -999.000,9, -999.000,9
           NA,    P17N,    140,   1,-999.0,      34,  2,19930620,0830,  56.0658, -140.0280,  3473, 3313.600,    1.533,   34.665,2,   34.666,2,  119.400,2,  119.200,2,  175.770,2,   38.010,2,    0.000,2,    2.680,2, -999.000,9, -999.000,9, -999.000,9, -999.000,9, -999.000,9
           NA,    P17N,    140,   1,-999.0,      38,  2,19930620,0830,  56.0658, -140.0280,  3473, 3415.900,    1.502,   34.671,2,   34.672,2,  125.300,2,  125.500,2,  176.110,2,   37.620,2,    0.000,2,    2.650,2, -999.000,9, -999.000,9, -999.000,9, -999.000,9, -999.000,9
           NA,    P17N,    140,   1,-999.0,      36,  2,19930620,0830,  56.0658, -140.0280,  3473, 3496.800,    1.478,   34.675,2,   34.676,2,  131.400,2,  130.900,2,  175.590,2,   37.220,2,    0.010,2,    2.630,2, -999.000,9, -999.000,9, -999.000,9, -999.000,9, -999.000,9