BOTTLE,20214410JOAExport
EXPOCODE,SECT_ID,STNNBR,CASTNO,SAMPNO,BTLNBR,BTLNBR_FLAG_W,DATE,TIME,LATITUDE,LONGITUDE,DEPTH,CTDPRS,CTDTMP,CTDSAL,CTDSAL_FLAG_W,SALNTY,SALNTY_FLAG_W,CTDOXY,CTDOXY_FLAG_W,OXYGEN,OXYGEN_FLAG_W,SILCAT,SILCAT_FLAG_W,NITRAT,NITRAT_FLAG_W,NITRIT,NITRIT_FLAG_W,PHSPHT,PHSPHT_FLAG_W,CFC-11,CFC-11_FLAG_W,CFC-12,CFC-12_FLAG_W,SF6,SF6_FLAG_W,TCARBN,TCARBN_FLAG_W,ALKALI,ALKALI_FLAG_W
,,,,,,,,,,,,DB,ITS-90,PSS-78,,PSS-78,,UMOL/KG,,UMOL/KG,,UMOL/KG,,UMOL/KG,,UMOL/KG,,UMOL/KG,,PMOL/KG,,PMOL/KG,,PMOL/KG,,UMOL/KG,,UMOL/KG
           NA,    P17N,    129,   1,-999.0,       1,  2,19930617,0729,  54.3655, -149.2000,  3501,    2.600,    8.248,   32.532,2,   32.531,2,  309.100,2,  307.600,2,   28.110,2,   12.670,2,    0.160,2,    1.230,2,    4.909,2,    2.427,2, -999.000,9, 2031.600,2, 2192.400,2
           NA,    P17N,    129,   1,-999.0,       2,  2,19930617,0729,  54.3655, -149.2000,  3501,   29.400,    7.055,   32.561,2,   32.562,2,  311.100,2,  313.600,2,   28.860,2,   13.410,2,    0.160,2,    1.280,2,    5.092,2,    2.515,2, -999.000,9, 2035.300,2, 2197.500,2
           NA,    P17N,    129,   1,-999.0,       3,  2,19930617,0729,  54.3655, -149.2000,  3501,   55.000,    4.812,   32.619,2,   32.619,2,  313.100,2,  319.900,2,   29.610,2,   15.280,2,    0.320,2,    1.420,2, -999.000,9, -999.000,9, -999.000,9, 2056.900,2, 2197.700,2
           NA,    P17N,    129,   1,-999.0,       4,  2,19930617,0729,  54.3655, -149.2000,  3501,   80.000,    3.815,   32.675,2,   32.676,2,  304.400,2,  306.700,2,   30.990,2,   17.970,2,    0.110,2,    1.560,2,    5.251,2,    2.795,2, -999.000,9, 2076.500,2, 2198.600,2
           NA,    P17N,    129,   1,-999.0,       5,  2,19930617,0729,  54.3655, -149.2000,  3501,  104.400,    3.876,   32.984,2,   32.988,2,  257.600,2,  242.700,2,   42.140,2,   24.260,2,    0.030,2,    1.940,2, -999.000,9, -999.000,9, -999.000,9, 2136.000,2, 2220.000,2
           NA,    P17N,    129,   1,-999.0,       6,  2,19930617,0729,  54.3655, -149.2000,  3501,  130.100,    4.134,   33.451,2,   33.438,2,  160.300,2,  152.600,2,   59.870,2,   32.830,2,    0.020,2,    2.460,2,    3.300,2,    1.549,2, -999.000,9, 2217.400,2, 2255.000,2
           NA,    P17N,    129,   1,-999.0,       7,  2,19930617,0729,  54.3655, -149.2000,  3501,  155.000,    4.144,   33.700,2,   33.693,2,  107.900,2,  101.600,2,   71.860,2,   37.700,2,    0.020,2,    2.750,2, -999.000,9, -999.000,9, -999.000,9, 2265.000,2, 2273.400,2
           NA,    P17N,    129,   1,-999.0,       8,  2,19930617,0729,  54.3655, -149.2000,  3501,  180.800,    4.080,   33.776,2,   33.773,2,   77.500,2,   81.700,2,   77.490,2,   39.530,2,    0.020,2,    2.870,2,    2.116,2,    0.963,2, -999.000,9, 2285.100,2, 2281.200,2
           NA,    P17N,    129,   1,-999.0,       9,  2,19930617,0729,  54.3655, -149.2000,  3501,  206.700,    4.010,   33.833,2,   33.830,2,   53.200,2,   63.200,2,   82.690,2,   41.150,2,    0.010,2,    2.960,2, -999.000,9, -999.000,9, -999.000,9, 2302.000,2, 2287.000,2
           NA,    P17N,    129,   1,-999.0,      10,  2,19930617,0729,  54.3655, -149.2000,  3501,  256.300,    3.928,   33.934,2,   33.927,2,   33.300,2,   35.700,2,   92.360,2,   43.380,2,    0.010,2,    3.100,2,    1.177,2,    0.550,2, -999.000,9, -999.000,9, -999.000,9
           NA,    P17N,    129,   1,-999.0,      11,  2,19930617,0729,  54.3655, -149.2000,  3501,  307.400,    3.894,   33.995,2,   33.990,2,   26.100,2,   25.100,2,   99.270,2,   43.980,2,    0.010,2,    3.150,2, -999.000,9, -999.000,9, -999.000,9, -999.000,9, -999.000,9
           NA,    P17N,    129,   1,-999.0,      12,  2,19930617,0729,  54.3655, -149.2000,  3501,  358.000,    3.844,   34.055,2,   34.055,2,   23.300,2,   22.800,2,  105.770,2,   43.980,2,    0.010,2,    3.160,2,    0.544,2,    0.251,2, -999.000,9, -999.000,9, -999.000,9
           NA,    P17N,    129,   1,-999.0,      13,  2,19930617,0729,  54.3655, -149.2000,  3501,  407.900,    3.767,   34.103,2,   34.101,2,   22.100,2,   20.700,2,  110.350,2,   43.860,2,    0.010,2,    3.150,2, -999.000,9, -999.000,9, -999.000,9, -999.000,9, -999.000,9
           NA,    P17N,    129,   1,-999.0,      14,  2,19930617,0729,  54.3655, -149.2000,  3501,  458.600,    3.693,   34.143,2,   34.141,2,   20.500,2,   19.100,2,  115.360,2,   43.860,2,    0.010,2,    3.150,2,    0.285,2,    0.184,2, -999.000,9, -999.000,9, -999.000,9
           NA,    P17N,    129,   1,-999.0,      15,  2,19930617,0729,  54.3655, -149.2000,  3501,  560.200,    3.478,   34.223,2,   34.218,2,   17.500,2,   17.400,2,  125.290,2,   43.910,2,    0.010,2,    3.160,2, -999.000,9, -999.000,9, -999.000,9, -999.000,9, -999.000,9
           NA,    P17N,    129,   1,-999.0,      16,  2,19930617,0729,  54.3655, -149.2000,  3501,  660.700,    3.287,   34.277,2,   34.277,2,   16.300,2,   15.600,2,  132.900,2,   43.960,2,    0.010,2,    3.170,2,    0.071,2,    0.040,2, -999.000,9, -999.000,9, -999.000,9
           NA,    P17N,    129,   1,-999.0,      17,  2,19930617,0729,  54.3655, -149.2000,  3501,  761.900,    3.143,   34.314,2,   34.313,2,   15.800,2,   16.000,2,  138.150,2,   43.960,2,    0.010,2,    3.170,2, -999.000,9, -999.000,9, -999.000,9, -999.000,9, -999.000,9
           NA,    P17N,    129,   1,-999.0,      18,  2,19930617,0729,  54.3655, -149.2000,  3501,  863.200,    2.997,   34.349,2,   34.348,2,   16.200,2,   16.400,2,  143.420,2,   44.010,2,    0.010,2,    3.180,2,    0.028,2,    0.014,2, -999.000,9, -999.000,9, -999.000,9
           NA,    P17N,    129,   1,-999.0,      19,  2,19930617,0729,  54.3655, -149.2000,  3501,  965.200,    2.855,   34.382,2,   34.380,2,   17.100,2,   17.800,2,  148.270,2,   44.060,2,    0.010,2,    3.170,2, -999.000,9, -999.000,9, -999.000,9, -999.000,9, -999.000,9
           NA,    P17N,    129,   1,-999.0,      20,  2,19930617,0729,  54.3655, -149.2000,  3501, 1067.100,    2.721,   34.412,2,   34.410,2,   18.600,2,   19.000,2,  152.690,2,   44.060,2,    0.010,2,    3.160,2,    0.011,2,    0.006,2, -999.000,9, -999.000,9, -999.000,9
           NA,    P17N,    129,   1,-999.0,      21,  2,19930617,0729,  54.3655, -149.2000,  3501, 1167.900,    2.599,   34.438,2,   34.437,2,   21.100,2,   21.300,2,  156.260,2,   44.000,2,    0.010,2,    3.150,2, -999.000,9, -999.000,9, -999.000,9, -999.000,9, -999.000,9
           NA,    P17N,    129,   1,-999.0,      22,  2,19930617,0729,  54.3655, -149.2000,  3501, 1269.800,    2.462,   34.468,2,   34.466,2,   23.700,2,   24.000,2,  160.270,2,   43.890,2,    0.010,2,    3.140,2,    0.007,2,    0.014,2, -999.000,9, -999.000,9, -999.000,9
           NA,    P17N,    129,   1,-999.0,      23,  2,19930617,0729,  54.3655, -149.2000,  3501, 1371.900,    2.368,   34.488,2,   34.488,2,   27.100,2,   26.800,2,  163.200,2,   43.780,2,    0.010,2,    3.120,2, -999.000,9, -999.000,9, -999.000,9, -999.000,9, -999.000,9
           NA,    P17N,    129,   1,-999.0,      24,  2,19930617,0729,  54.3655, -149.2000,  3501, 1472.600,    2.252,   34.514,2,   34.512,2,   32.100,2,   32.600,2,  166.140,2,   43.440,2,    0.010,2,    3.100,2,    0.000,2,   -0.007,2, -999.000,9, -999.000,9, -999.000,9
           NA,    P17N,    129,   1,-999.0,      25,  2,19930617,0729,  54.3655, -149.2000,  3501, 1574.900,    2.160,   34.534,2,   34.532,2,   37.500,2,   38.000,2,  168.420,2,   43.110,2,    0.010,2,    3.070,2, -999.000,9, -999.000,9, -999.000,9, -999.000,9, -999.000,9
           NA,    P17N,    129,   1,-999.0,      26,  2,19930617,0729,  54.3655, -149.2000,  3501, 1677.200,    2.073,   34.552,2,   34.550,2,   43.400,2,   44.800,2,  170.050,2,   42.790,2,    0.010,2,    3.040,2, -999.000,9, -999.000,9, -999.000,9, -999.000,9, -999.000,9
           NA,    P17N,    129,   1,-999.0,      27,  2,19930617,0729,  54.3655, -149.2000,  3501, 1728.400,    2.045,   34.558,2,   34.557,2,   46.700,2,   46.200,2,  170.370,2,   42.730,2,    0.010,2,    3.040,2, -999.000,9, -999.000,9, -999.000,9, -999.000,9, -999.000,9
           NA,    P17N,    129,   1,-999.0,      28,  2,19930617,0729,  54.3655, -149.2000,  3501, 1932.200,    1.929,   34.583,2,   34.582,2,   57.200,2,   56.500,2,  172.000,2,   42.020,2,    0.010,2,    2.980,2, -999.000,9, -999.000,9, -999.000,9, -999.000,9, -999.000,9
           NA,    P17N,    129,   1,-999.0,      29,  2,19930617,0729,  54.3655, -149.2000,  3501, 2136.000,    1.833,   34.602,2,   34.602,2,   67.400,2,   67.900,2,  173.640,2,   41.360,2,    0.010,2,    2.930,2, -999.000,9, -999.000,9, -999.000,9, -999.000,9, -999.000,9
           NA,    P17N,    129,   1,-999.0,      30,  2,19930617,0729,  54.3655, -149.2000,  3501, 2339.800,    1.744,   34.620,2,   34.619,2,   79.100,2,   79.800,2,  173.730,2,   40.770,2,    0.010,2,    2.880,2, -999.000,9, -999.000,9, -999.000,9, -999.000,9, -999.000,9
           NA,    P17N,    129,   1,-999.0,      31,  2,19930617,0729,  54.3655, -149.2000,  3501, 2543.800,    1.674,   34.633,2,   34.633,2,   91.300,2,   91.100,2,  173.390,2,   39.900,2,    0.010,2,    2.830,2, -999.000,9, -999.000,9, -999.000,9, -999.000,9, -999.000,9
           NA,    P17N,    129,   1,-999.0,      32,  2,19930617,0729,  54.3655, -149.2000,  3501, 2748.500,    1.621,   34.644,2,   34.643,2,  101.100,2,  100.800,2,  171.960,2,   39.300,2,    0.010,2,    2.790,2, -999.000,9, -999.000,9, -999.000,9, -999.000,9, -999.000,9
           NA,    P17N,    129,   1,-999.0,      33,  2,19930617,0729,  54.3655, -149.2000,  3501, 2954.100,    1.581,   34.652,2,   34.652,2,  109.600,2,  109.200,2,  171.400,2,   38.760,2,    0.010,2,    2.740,2, -999.000,9, -999.000,9, -999.000,9, -999.000,9, -999.000,9
           NA,    P17N,    129,   1,-999.0,      34,  2,19930617,0729,  54.3655, -149.2000,  3501, 3182.900,    1.539,   34.662,2,   34.661,2,  118.700,2,  118.600,2,  170.400,2,   38.110,2,    0.010,2,    2.680,2, -999.000,9, -999.000,9, -999.000,9, -999.000,9, -999.000,9
           NA,    P17N,    129,   1,-999.0,      38,  2,19930617,0729,  54.3655, -149.2000,  3501, 3438.300,    1.501,   34.671,2,   34.670,2,  128.300,2,  127.800,2,  169.620,2,   37.520,2,    0.010,2,    2.640,2, -999.000,9, -999.000,9, -999.000,9, -999.000,9, -999.000,9
           NA,    P17N,    129,   1,-999.0,      36,  2,19930617,0729,  54.3655, -149.2000,  3501, 3530.000,    1.508,   34.671,2,   34.671,2,  128.900,2,  128.200,2,  169.510,2,   37.460,2,    0.010,2,    2.650,2, -999.000,9, -999.000,9, -999.000,9, -999.000,9, -999.000,9