BOTTLE,20214410JOAExport
EXPOCODE,SECT_ID,STNNBR,CASTNO,SAMPNO,BTLNBR,BTLNBR_FLAG_W,DATE,TIME,LATITUDE,LONGITUDE,DEPTH,CTDPRS,CTDTMP,CTDSAL,CTDSAL_FLAG_W,SALNTY,SALNTY_FLAG_W,CTDOXY,CTDOXY_FLAG_W,OXYGEN,OXYGEN_FLAG_W,SILCAT,SILCAT_FLAG_W,NITRAT,NITRAT_FLAG_W,NITRIT,NITRIT_FLAG_W,PHSPHT,PHSPHT_FLAG_W,CFC-11,CFC-11_FLAG_W,CFC-12,CFC-12_FLAG_W,SF6,SF6_FLAG_W,TCARBN,TCARBN_FLAG_W,ALKALI,ALKALI_FLAG_W
,,,,,,,,,,,,DB,ITS-90,PSS-78,,PSS-78,,UMOL/KG,,UMOL/KG,,UMOL/KG,,UMOL/KG,,UMOL/KG,,UMOL/KG,,PMOL/KG,,PMOL/KG,,PMOL/KG,,UMOL/KG,,UMOL/KG
           NA,    P17N,    136,   1,-999.0,       1,  2,19930619,0933,  55.4483, -143.4203,  3855,    1.900,   11.013,   32.406,2,   32.407,2,  274.600,2,  288.400,2,   15.270,2,    7.380,2,    0.090,2,    0.930,2,    4.074,2,    2.126,2, -999.000,9, 1995.800,2, 2180.800,2
           NA,    P17N,    136,   1,-999.0,       2,  2,19930619,0933,  55.4483, -143.4203,  3855,   31.200,    7.293,   32.403,2,   32.385,2,  299.600,2,  314.000,2,   15.600,2,    8.840,2,    0.100,2,    1.020,2, -999.000,9, -999.000,9, -999.000,9, 2010.400,2, 2177.200,2
           NA,    P17N,    136,   1,-999.0,       3,  2,19930619,0933,  55.4483, -143.4203,  3855,   57.000,    6.237,   32.448,2,   32.425,2,  294.800,2,  307.500,2,   16.970,2,   10.590,2,    0.260,2,    1.130,2,    4.849,2,    2.513,2, -999.000,9, 2030.900,2, 2186.500,2
           NA,    P17N,    136,   1,-999.0,       4,  2,19930619,0933,  55.4483, -143.4203,  3855,   82.500,    5.593,   32.512,2,   32.519,2,  292.700,2,  295.900,2,   20.390,2,   13.660,2,    0.140,2,    1.300,2, -999.000,9, -999.000,9, -999.000,9, 2053.200,2, 2198.800,2
           NA,    P17N,    136,   1,-999.0,       5,  2,19930619,0933,  55.4483, -143.4203,  3855,  107.300,    5.771,   32.940,2,   32.940,2,  242.800,2,  240.100,2,   30.600,2,   20.590,2,    0.010,2,    1.680,2,    4.218,2,    2.023,2, -999.000,9, 2114.200,2, 2214.200,2
           NA,    P17N,    136,   1,-999.0,       6,  2,19930619,0933,  55.4483, -143.4203,  3855,  132.600,    5.781,   33.483,2,   33.482,2,  173.600,2,  175.800,2,   43.680,2,   27.900,2,    0.010,2,    2.090,2, -999.000,9, -999.000,9, -999.000,9, 2184.700,2, 2253.600,2
           NA,    P17N,    136,   1,-999.0,       7,  2,19930619,0933,  55.4483, -143.4203,  3855,  157.200,    5.749,   33.715,2,   33.706,2,  152.900,2,  150.400,2,   48.950,2,   30.200,2,    0.010,2,    2.220,2,    2.942,2,    1.450,2, -999.000,9, 2217.800,2, 2259.500,2
           NA,    P17N,    136,   1,-999.0,       8,  2,19930619,0933,  55.4483, -143.4203,  3855,  182.600,    5.575,   33.780,2,   33.780,2,  137.900,2,  136.500,2,   53.180,2,   31.730,2,    0.010,2,    2.310,2, -999.000,9, -999.000,9, -999.000,9, -999.000,9, -999.000,9
           NA,    P17N,    136,   1,-999.0,       9,  2,19930619,0933,  55.4483, -143.4203,  3855,  207.500,    5.408,   33.834,2,   33.835,2,  115.000,2,  114.500,2,   58.860,2,   33.980,2,    0.010,2,    2.450,2,    2.225,2,    1.105,2, -999.000,9, 2243.000,2, 2281.800,2
           NA,    P17N,    136,   1,-999.0,      10,  2,19930619,0933,  55.4483, -143.4203,  3855,  232.600,    5.218,   33.857,2,   33.857,2,  103.600,2,  102.800,2,   62.690,2,   35.350,2,    0.010,2,    2.540,2,    1.977,2,    0.962,2, -999.000,9, -999.000,9, -999.000,9
           NA,    P17N,    136,   1,-999.0,      11,  2,19930619,0933,  55.4483, -143.4203,  3855,  257.600,    5.027,   33.878,2,   33.876,2,   92.100,2,   91.200,2,   67.340,2,   36.620,2,    0.010,2,    2.630,2,    1.760,2,    0.817,2, -999.000,9, -999.000,9, -999.000,9
           NA,    P17N,    136,   1,-999.0,      12,  2,19930619,0933,  55.4483, -143.4203,  3855,  307.700,    4.672,   33.910,2,   33.912,2,   76.900,2,   71.800,2,   76.320,2,   38.710,2,    0.020,2,    2.780,2,    1.381,2,    0.648,2, -999.000,9, -999.000,9, -999.000,9
           NA,    P17N,    136,   1,-999.0,      13,  2,19930619,0933,  55.4483, -143.4203,  3855,  359.000,    4.440,   33.956,2,   33.957,2,   57.800,2,   54.400,2,   84.490,2,   40.490,2,    0.000,2,    2.900,2,    1.055,2,    0.534,2, -999.000,9, -999.000,9, -999.000,9
           NA,    P17N,    136,   1,-999.0,      14,  2,19930619,0933,  55.4483, -143.4203,  3855,  408.900,    4.318,   34.015,2,   34.015,2,   44.600,2,   39.900,2,   92.040,2,   41.660,2,    0.000,2,    2.990,2,    0.696,2,    0.343,2, -999.000,9, -999.000,9, -999.000,9
           NA,    P17N,    136,   1,-999.0,      15,  2,19930619,0933,  55.4483, -143.4203,  3855,  459.700,    4.146,   34.046,2,   34.047,2,   37.600,2,   33.500,2,   97.740,2,   42.380,2,    0.000,2,    3.040,2,    0.559,2,    0.277,2, -999.000,9, -999.000,9, -999.000,9
           NA,    P17N,    136,   1,-999.0,      16,  2,19930619,0933,  55.4483, -143.4203,  3855,  510.000,    3.947,   34.067,2,   34.067,2,   31.500,2,   29.900,2,  103.650,2,   42.720,2,    0.000,2,    3.070,2,    0.491,2,    0.259,2, -999.000,9, -999.000,9, -999.000,9
           NA,    P17N,    136,   1,-999.0,      17,  2,19930619,0933,  55.4483, -143.4203,  3855,  559.700,    3.873,   34.113,2,   34.114,2,   27.100,2,   26.100,2,  108.740,2,   43.050,2,    0.000,2,    3.090,2,    0.337,2,    0.173,2, -999.000,9, -999.000,9, -999.000,9
           NA,    P17N,    136,   1,-999.0,      18,  2,19930619,0933,  55.4483, -143.4203,  3855,  610.100,    3.774,   34.148,2,   34.151,2,   23.400,2,   22.800,2,  113.410,2,   43.280,2,    0.000,2,    3.110,2,    0.239,2,    0.168,2, -999.000,9, -999.000,9, -999.000,9
           NA,    P17N,    136,   1,-999.0,      19,  2,19930619,0933,  55.4483, -143.4203,  3855,  660.200,    3.737,   34.190,2,   34.191,2,   21.600,2,   19.000,2,  117.060,2,   43.450,2,    0.000,2,    3.130,2,    0.147,2,    0.069,2, -999.000,9, -999.000,9, -999.000,9
           NA,    P17N,    136,   1,-999.0,      20,  2,19930619,0933,  55.4483, -143.4203,  3855,  710.400,    3.570,   34.221,2,   34.221,2,   19.900,2,   18.900,2,  123.000,2,   43.560,2,    0.000,2,    3.130,2,    0.117,2,    0.065,2, -999.000,9, -999.000,9, -999.000,9
           NA,    P17N,    136,   1,-999.0,      21,  2,19930619,0933,  55.4483, -143.4203,  3855,  811.200,    3.340,   34.276,2,   34.277,2,   18.600,2,   19.300,2,  131.030,2,   43.560,2,    0.000,2,    3.140,2, -999.000,9, -999.000,9, -999.000,9, -999.000,9, -999.000,9
           NA,    P17N,    136,   1,-999.0,      22,  2,19930619,0933,  55.4483, -143.4203,  3855,  912.000,    3.159,   34.319,2, -999.000,3,   17.800,2,   16.900,2,  137.420,2,   43.830,2,    0.000,2,    3.150,2,    0.028,2,    0.014,2, -999.000,9, -999.000,9, -999.000,9
           NA,    P17N,    136,   1,-999.0,      23,  2,19930619,0933,  55.4483, -143.4203,  3855, 1113.200,    2.848,   34.388,2,   34.389,2,   17.700,2,   17.600,2,  148.450,2,   44.000,2,    0.000,2,    3.150,2,    0.007,2,    0.004,2, -999.000,9, -999.000,9, -999.000,9
           NA,    P17N,    136,   1,-999.0,      24,  2,19930619,0933,  55.4483, -143.4203,  3855, 1316.400,    2.590,   34.443,2,   34.444,2,   19.900,2,   21.000,2,  156.790,2,   44.000,2,    0.000,2,    3.150,2, -999.000,9, -999.000,9, -999.000,9, -999.000,9, -999.000,9
           NA,    P17N,    136,   1,-999.0,      25,  2,19930619,0933,  55.4483, -143.4203,  3855, 1518.500,    2.380,   34.488,2,   34.489,2,   25.700,2,   26.400,2,  162.840,2,   43.720,2,    0.000,2,    3.110,2,   -0.001,2,    0.005,2, -999.000,9, -999.000,9, -999.000,9
           NA,    P17N,    136,   1,-999.0,      26,  2,19930619,0933,  55.4483, -143.4203,  3855, 1722.900,    2.180,   34.531,2,   34.532,2,   36.300,2,   36.500,2,  167.830,2,   43.100,2,    0.000,2,    3.060,2,   -0.004,2,    0.011,2, -999.000,9, -999.000,9, -999.000,9
           NA,    P17N,    136,   1,-999.0,      27,  2,19930619,0933,  55.4483, -143.4203,  3855, 1925.800,    2.036,   34.562,2,   34.563,2,   45.400,2,   48.600,2,  170.920,2,   42.540,2,    0.000,2,    3.010,2, -999.000,9, -999.000,9, -999.000,9, -999.000,9, -999.000,9
           NA,    P17N,    136,   1,-999.0,      28,  2,19930619,0933,  55.4483, -143.4203,  3855, 2128.600,    1.908,   34.588,2,   34.589,2,   57.300,2,   60.300,2,  173.160,2,   41.760,2,    0.000,2,    2.960,2, -999.000,9, -999.000,9, -999.000,9, -999.000,9, -999.000,9
           NA,    P17N,    136,   1,-999.0,      29,  2,19930619,0933,  55.4483, -143.4203,  3855, 2331.800,    1.818,   34.607,2,   34.608,2,   68.500,2,   71.200,2,  173.900,2,   41.100,2,    0.000,2,    2.910,2, -999.000,9, -999.000,9, -999.000,9, -999.000,9, -999.000,9
           NA,    P17N,    136,   1,-999.0,      30,  2,19930619,0933,  55.4483, -143.4203,  3855, 2535.500,    1.750,   34.620,2,   34.622,2,   79.000,2,   81.500,2,  174.000,2,   40.430,2,    0.000,2,    2.870,2, -999.000,9, -999.000,9, -999.000,9, -999.000,9, -999.000,9
           NA,    P17N,    136,   1,-999.0,      31,  2,19930619,0933,  55.4483, -143.4203,  3855, 2740.300,    1.679,   34.635,2,   34.637,2,   90.300,2,   91.700,2,  175.180,2,   39.820,2,    0.000,2,    2.820,2, -999.000,9, -999.000,9, -999.000,9, -999.000,9, -999.000,9
           NA,    P17N,    136,   1,-999.0,      32,  2,19930619,0933,  55.4483, -143.4203,  3855, 2945.600,    1.626,   34.646,2,   34.647,2,  100.100,2,  100.600,2,  174.640,2,   39.040,2,    0.000,2,    2.770,2, -999.000,9, -999.000,9, -999.000,9, -999.000,9, -999.000,9
           NA,    P17N,    136,   1,-999.0,      33,  2,19930619,0933,  55.4483, -143.4203,  3855, 3202.600,    1.567,   34.657,2,   34.660,2,  112.600,2,  113.200,2,  173.670,2,   38.380,2,    0.000,2,    2.710,2, -999.000,9, -999.000,9, -999.000,9, -999.000,9, -999.000,9
           NA,    P17N,    136,   1,-999.0,      34,  2,19930619,0933,  55.4483, -143.4203,  3855, 3458.600,    1.517,   34.668,2,   34.670,2,  124.200,2,  124.800,2,  172.270,2,   37.660,2,    0.000,2,    2.650,2, -999.000,9, -999.000,9, -999.000,9, -999.000,9, -999.000,9
           NA,    P17N,    136,   1,-999.0,      38,  2,19930619,0933,  55.4483, -143.4203,  3855, 3716.400,    1.489,   34.675,2,   34.677,2,  133.700,2,  133.300,2,  170.460,2,   37.000,2,    0.000,2,    2.610,2, -999.000,9, -999.000,9, -999.000,9, -999.000,9, -999.000,9
           NA,    P17N,    136,   1,-999.0,      36,  2,19930619,0933,  55.4483, -143.4203,  3855, 3894.900,    1.461,   34.681,2,   34.683,2,  142.500,2,  141.000,2,  168.430,2,   36.560,2,    0.000,2,    2.580,2, -999.000,9, -999.000,9, -999.000,9, -999.000,9, -999.000,9