BOTTLE,20214410JOAExport
EXPOCODE,SECT_ID,STNNBR,CASTNO,SAMPNO,BTLNBR,BTLNBR_FLAG_W,DATE,TIME,LATITUDE,LONGITUDE,DEPTH,CTDPRS,CTDTMP,CTDSAL,CTDSAL_FLAG_W,SALNTY,SALNTY_FLAG_W,CTDOXY,CTDOXY_FLAG_W,OXYGEN,OXYGEN_FLAG_W,SILCAT,SILCAT_FLAG_W,NITRAT,NITRAT_FLAG_W,NITRIT,NITRIT_FLAG_W,PHSPHT,PHSPHT_FLAG_W,CFC-11,CFC-11_FLAG_W,CFC-12,CFC-12_FLAG_W,SF6,SF6_FLAG_W,TCARBN,TCARBN_FLAG_W,ALKALI,ALKALI_FLAG_W
,,,,,,,,,,,,DB,ITS-90,PSS-78,,PSS-78,,UMOL/KG,,UMOL/KG,,UMOL/KG,,UMOL/KG,,UMOL/KG,,UMOL/KG,,PMOL/KG,,PMOL/KG,,PMOL/KG,,UMOL/KG,,UMOL/KG
           NA,    P17N,    137,   1,-999.0,       1,  4,19930619,1517,  55.6000, -142.5652,  3681,    1.800,   11.146,   32.412,2, -999.000,2,  293.900,2, -999.000,2, -999.000,2, -999.000,2, -999.000,2, -999.000,2, -999.000,9, -999.000,9, -999.000,9, -999.000,9, -999.000,9
           NA,    P17N,    137,   1,-999.0,       2,  4,19930619,1517,  55.6000, -142.5652,  3681,    2.200,   11.146,   32.412,2, -999.000,2,  294.700,2, -999.000,2, -999.000,2, -999.000,2, -999.000,2, -999.000,2, -999.000,9, -999.000,9, -999.000,9, -999.000,9, -999.000,9
           NA,    P17N,    137,   1,-999.0,       3,  4,19930619,1517,  55.6000, -142.5652,  3681,   29.400,    8.286,   32.403,2, -999.000,2,  311.600,2, -999.000,2, -999.000,2, -999.000,2, -999.000,2, -999.000,2, -999.000,9, -999.000,9, -999.000,9, -999.000,9, -999.000,9
           NA,    P17N,    137,   1,-999.0,       4,  4,19930619,1517,  55.6000, -142.5652,  3681,   54.000,    6.452,   32.424,2, -999.000,2,  292.300,2, -999.000,2, -999.000,2, -999.000,2, -999.000,2, -999.000,2, -999.000,9, -999.000,9, -999.000,9, -999.000,9, -999.000,9
           NA,    P17N,    137,   1,-999.0,       5,  4,19930619,1517,  55.6000, -142.5652,  3681,   80.000,    5.568,   32.531,2, -999.000,2,  285.200,2, -999.000,2, -999.000,2, -999.000,2, -999.000,2, -999.000,2, -999.000,9, -999.000,9, -999.000,9, -999.000,9, -999.000,9
           NA,    P17N,    137,   1,-999.0,       6,  4,19930619,1517,  55.6000, -142.5652,  3681,  105.600,    5.063,   32.780,2, -999.000,2,  263.300,2, -999.000,2, -999.000,2, -999.000,2, -999.000,2, -999.000,2, -999.000,9, -999.000,9, -999.000,9, -999.000,9, -999.000,9
           NA,    P17N,    137,   1,-999.0,       7,  4,19930619,1517,  55.6000, -142.5652,  3681,  130.800,    5.398, -999.000,4, -999.000,2, -999.000,9, -999.000,2, -999.000,2, -999.000,2, -999.000,2, -999.000,2, -999.000,9, -999.000,9, -999.000,9, -999.000,9, -999.000,9
           NA,    P17N,    137,   1,-999.0,       8,  4,19930619,1517,  55.6000, -142.5652,  3681,  155.700,    5.309, -999.000,4, -999.000,2, -999.000,9, -999.000,2, -999.000,2, -999.000,2, -999.000,2, -999.000,2, -999.000,9, -999.000,9, -999.000,9, -999.000,9, -999.000,9
           NA,    P17N,    137,   1,-999.0,       9,  4,19930619,1517,  55.6000, -142.5652,  3681,  181.100,    5.165,   33.722,2, -999.000,2,  146.100,2, -999.000,2, -999.000,2, -999.000,2, -999.000,2, -999.000,2, -999.000,9, -999.000,9, -999.000,9, -999.000,9, -999.000,9
           NA,    P17N,    137,   1,-999.0,      10,  4,19930619,1517,  55.6000, -142.5652,  3681,  206.600,    4.879,   33.796,2, -999.000,2,  123.400,2, -999.000,2, -999.000,2, -999.000,2, -999.000,2, -999.000,2, -999.000,9, -999.000,9, -999.000,9, -999.000,9, -999.000,9
           NA,    P17N,    137,   1,-999.0,      11,  4,19930619,1517,  55.6000, -142.5652,  3681,  231.400,    4.717,   33.835,2, -999.000,2,  109.200,2, -999.000,2, -999.000,2, -999.000,2, -999.000,2, -999.000,2, -999.000,9, -999.000,9, -999.000,9, -999.000,9, -999.000,9
           NA,    P17N,    137,   1,-999.0,      12,  4,19930619,1517,  55.6000, -142.5652,  3681,  257.000,    4.577,   33.853,2, -999.000,2,   94.400,2, -999.000,2, -999.000,2, -999.000,2, -999.000,2, -999.000,2, -999.000,9, -999.000,9, -999.000,9, -999.000,9, -999.000,9
           NA,    P17N,    137,   1,-999.0,      13,  4,19930619,1517,  55.6000, -142.5652,  3681,  282.300,    4.542,   33.878,2, -999.000,2,   83.700,2, -999.000,2, -999.000,2, -999.000,2, -999.000,2, -999.000,2, -999.000,9, -999.000,9, -999.000,9, -999.000,9, -999.000,9
           NA,    P17N,    137,   1,-999.0,      14,  4,19930619,1517,  55.6000, -142.5652,  3681,  307.700,    4.510,   33.905,2, -999.000,2,   71.200,2, -999.000,2, -999.000,2, -999.000,2, -999.000,2, -999.000,2, -999.000,9, -999.000,9, -999.000,9, -999.000,9, -999.000,9
           NA,    P17N,    137,   1,-999.0,      15,  4,19930619,1517,  55.6000, -142.5652,  3681,  357.700,    4.272,   33.922,2, -999.000,2,   60.200,2, -999.000,2, -999.000,2, -999.000,2, -999.000,2, -999.000,2, -999.000,9, -999.000,9, -999.000,9, -999.000,9, -999.000,9
           NA,    P17N,    137,   1,-999.0,      16,  4,19930619,1517,  55.6000, -142.5652,  3681,  408.700,    4.200,   33.975,2, -999.000,2,   46.000,2, -999.000,2, -999.000,2, -999.000,2, -999.000,2, -999.000,2, -999.000,9, -999.000,9, -999.000,9, -999.000,9, -999.000,9
           NA,    P17N,    137,   1,-999.0,      17,  4,19930619,1517,  55.6000, -142.5652,  3681,  459.500,    4.141,   34.041,2, -999.000,2,   36.700,2, -999.000,2, -999.000,2, -999.000,2, -999.000,2, -999.000,2, -999.000,9, -999.000,9, -999.000,9, -999.000,9, -999.000,9
           NA,    P17N,    137,   1,-999.0,      18,  4,19930619,1517,  55.6000, -142.5652,  3681,  510.200,    4.102,   34.081,2, -999.000,2,   30.100,2, -999.000,2, -999.000,2, -999.000,2, -999.000,2, -999.000,2, -999.000,9, -999.000,9, -999.000,9, -999.000,9, -999.000,9
           NA,    P17N,    137,   1,-999.0,      19,  2,19930619,1517,  55.6000, -142.5652,  3681,  711.500,    3.558,   34.215,2,   34.215,2,   20.800,2,   20.900,2,  122.780,2,   43.520,2,    0.000,2,    3.130,2, -999.000,9, -999.000,9, -999.000,9, -999.000,9, -999.000,9
           NA,    P17N,    137,   1,-999.0,      20,  2,19930619,1517,  55.6000, -142.5652,  3681,  813.100,    3.387,   34.263,2,   34.263,2,   19.400,2,   19.400,2,  129.580,2,   43.570,2,    0.000,2,    3.130,2, -999.000,9, -999.000,9, -999.000,9, -999.000,9, -999.000,9
           NA,    P17N,    137,   1,-999.0,      21,  2,19930619,1517,  55.6000, -142.5652,  3681,  914.200,    3.210,   34.311,2,   34.310,2,   18.300,2,   18.400,2,  135.970,2,   43.790,2,    0.000,2,    3.160,2, -999.000,9, -999.000,9, -999.000,9, -999.000,9, -999.000,9
           NA,    P17N,    137,   1,-999.0,      22,  2,19930619,1517,  55.6000, -142.5652,  3681, 1015.500,    3.031,   34.349,2,   34.349,2,   17.600,2,   16.500,2,  141.950,2,   43.890,2,    0.000,2,    3.160,2, -999.000,9, -999.000,9, -999.000,9, -999.000,9, -999.000,9
           NA,    P17N,    137,   1,-999.0,      23,  2,19930619,1517,  55.6000, -142.5652,  3681, 1218.400,    2.741,   34.412,2,   34.412,2,   17.800,2,   17.100,2,  152.190,2,   44.110,2,    0.000,2,    3.160,2, -999.000,9, -999.000,9, -999.000,9, -999.000,9, -999.000,9
           NA,    P17N,    137,   1,-999.0,      24,  2,19930619,1517,  55.6000, -142.5652,  3681, 1421.300,    2.511,   34.462,2,   34.462,2,   21.500,2,   21.000,2,  159.490,2,   43.990,2,    0.000,2,    3.140,2, -999.000,9, -999.000,9, -999.000,9, -999.000,9, -999.000,9
           NA,    P17N,    137,   1,-999.0,      25,  2,19930619,1517,  55.6000, -142.5652,  3681, 1626.300,    2.294,   34.507,2,   34.508,2,   29.100,2,   30.000,2,  165.740,2,   43.540,2,    0.000,2,    3.100,2, -999.000,9, -999.000,9, -999.000,9, -999.000,9, -999.000,9
           NA,    P17N,    137,   1,-999.0,      26,  2,19930619,1517,  55.6000, -142.5652,  3681, 1829.500,    2.128,   34.543,2,   34.543,2,   38.500,2,   40.600,2,  169.660,2,   42.980,2,    0.000,2,    3.050,2, -999.000,9, -999.000,9, -999.000,9, -999.000,9, -999.000,9
           NA,    P17N,    137,   1,-999.0,      27,  2,19930619,1517,  55.6000, -142.5652,  3681, 1932.700,    2.048,   34.560,2,   34.560,2,   45.900,2,   46.700,2,  171.230,2,   42.590,2,    0.000,2,    3.030,2, -999.000,9, -999.000,9, -999.000,9, -999.000,9, -999.000,9
           NA,    P17N,    137,   1,-999.0,      28,  2,19930619,1517,  55.6000, -142.5652,  3681, 2034.700,    1.976,   34.574,2,   34.575,2,   52.400,2,   54.300,2,  172.360,2,   42.020,2,    0.000,2,    2.990,2, -999.000,9, -999.000,9, -999.000,9, -999.000,9, -999.000,9
           NA,    P17N,    137,   1,-999.0,      29,  2,19930619,1517,  55.6000, -142.5652,  3681, 2137.300,    1.913,   34.587,2,   34.588,2,   58.700,2,   59.700,2,  173.070,2,   41.740,2,    0.000,2,    2.960,2, -999.000,9, -999.000,9, -999.000,9, -999.000,9, -999.000,9
           NA,    P17N,    137,   1,-999.0,      30,  2,19930619,1517,  55.6000, -142.5652,  3681, 2239.200,    1.868,   34.596,2,   34.597,2,   63.200,2,   64.200,2,  174.630,2,   41.460,2,    0.000,2,    2.940,2, -999.000,9, -999.000,9, -999.000,9, -999.000,9, -999.000,9
           NA,    P17N,    137,   1,-999.0,      31,  2,19930619,1517,  55.6000, -142.5652,  3681, 2494.600,    1.788,   34.613,2,   34.615,2,   74.100,2,   75.900,2,  175.130,2,   40.790,2,    0.000,2,    2.890,2, -999.000,9, -999.000,9, -999.000,9, -999.000,9, -999.000,9
           NA,    P17N,    137,   1,-999.0,      32,  2,19930619,1517,  55.6000, -142.5652,  3681, 2751.000,    1.686,   34.634,2,   34.635,2,   88.800,2,   90.500,2,  174.540,2,   39.900,2,    0.000,2,    2.830,2, -999.000,9, -999.000,9, -999.000,9, -999.000,9, -999.000,9
           NA,    P17N,    137,   1,-999.0,      33,  2,19930619,1517,  55.6000, -142.5652,  3681, 3007.100,    1.616,   34.648,2,   34.648,2,  102.100,2,  102.800,2,  174.820,2,   39.070,2,    0.000,2,    2.760,2, -999.000,9, -999.000,9, -999.000,9, -999.000,9, -999.000,9
           NA,    P17N,    137,   1,-999.0,      34,  2,19930619,1517,  55.6000, -142.5652,  3681, 3263.000,    1.566,   34.658,2,   34.660,2,  113.900,2,  113.900,2,  174.450,2,   38.400,2,    0.000,2,    2.710,2, -999.000,9, -999.000,9, -999.000,9, -999.000,9, -999.000,9
           NA,    P17N,    137,   1,-999.0,      38,  2,19930619,1517,  55.6000, -142.5652,  3681, 3519.100,    1.528,   34.668,2,   34.669,2,  124.200,2,  123.400,2,  174.720,2,   37.740,2,    0.000,2,    2.660,2, -999.000,9, -999.000,9, -999.000,9, -999.000,9, -999.000,9
           NA,    P17N,    137,   1,-999.0,      36,  2,19930619,1517,  55.6000, -142.5652,  3681, 3711.800,    1.495,   34.675,2,   34.677,2,  133.600,2,  132.400,2,  174.140,2,   37.130,2,    0.000,2,    2.630,2, -999.000,9, -999.000,9, -999.000,9, -999.000,9, -999.000,9