BOTTLE,20214410JOAExport
EXPOCODE,SECT_ID,STNNBR,CASTNO,SAMPNO,BTLNBR,BTLNBR_FLAG_W,DATE,TIME,LATITUDE,LONGITUDE,DEPTH,CTDPRS,CTDTMP,CTDSAL,CTDSAL_FLAG_W,SALNTY,SALNTY_FLAG_W,CTDOXY,CTDOXY_FLAG_W,OXYGEN,OXYGEN_FLAG_W,SILCAT,SILCAT_FLAG_W,NITRAT,NITRAT_FLAG_W,NITRIT,NITRIT_FLAG_W,PHSPHT,PHSPHT_FLAG_W,CFC-11,CFC-11_FLAG_W,CFC-12,CFC-12_FLAG_W,SF6,SF6_FLAG_W,TCARBN,TCARBN_FLAG_W,ALKALI,ALKALI_FLAG_W
,,,,,,,,,,,,DB,ITS-90,PSS-78,,PSS-78,,UMOL/KG,,UMOL/KG,,UMOL/KG,,UMOL/KG,,UMOL/KG,,UMOL/KG,,PMOL/KG,,PMOL/KG,,PMOL/KG,,UMOL/KG,,UMOL/KG
           NA,    P17N,    134,   1,-999.0,       1,  2,19930618,2156,  55.1392, -145.0563,  4050,    2.800,    9.456,   32.530,2,   32.530,2,  303.700,2,  305.000,2,   25.420,2,   11.220,2,    0.150,2,    1.130,2,    4.603,2,    2.226,2, -999.000,9, -999.000,9, -999.000,9
           NA,    P17N,    134,   1,-999.0,       2,  2,19930618,2156,  55.1392, -145.0563,  4050,   31.200,    7.387,   32.540,2,   32.542,2,  312.300,2,  315.800,2,   25.550,2,   12.370,2,    0.140,2,    1.210,2,    5.269,2,    2.572,2, -999.000,9, -999.000,9, -999.000,9
           NA,    P17N,    134,   1,-999.0,       3,  2,19930618,2156,  55.1392, -145.0563,  4050,   56.800,    4.932,   32.619,2,   32.622,2,  313.400,2,  316.600,2,   27.320,2,   14.960,2,    0.200,2,    1.390,2,    5.394,2,    2.565,2, -999.000,9, -999.000,9, -999.000,9
           NA,    P17N,    134,   1,-999.0,       4,  2,19930618,2156,  55.1392, -145.0563,  4050,   82.200,    4.151,   32.728,2,   32.745,2,  298.600,2,  293.800,2,   31.740,2,   18.960,2,    0.110,2,    1.610,2,    5.291,2,    2.603,2, -999.000,9, -999.000,9, -999.000,9
           NA,    P17N,    134,   1,-999.0,       5,  2,19930618,2156,  55.1392, -145.0563,  4050,  107.600,    4.175,   33.157,2,   33.148,2,  227.600,2,  217.300,2,   45.980,2,   26.690,2,    0.020,2,    2.060,2,    4.191,2,    1.987,2, -999.000,9, -999.000,9, -999.000,9
           NA,    P17N,    134,   1,-999.0,       6,  2,19930618,2156,  55.1392, -145.0563,  4050,  132.600,    4.145,   33.480,2,   33.508,2,  143.100,2,  135.400,2,   63.090,2,   34.640,2,    0.010,2,    2.540,2,    3.005,2,    1.391,2, -999.000,9, -999.000,9, -999.000,9
           NA,    P17N,    134,   1,-999.0,       7,  2,19930618,2156,  55.1392, -145.0563,  4050,  157.800,    4.044,   33.728,2,   33.706,2,   87.400,2,   93.700,2,   73.250,2,   38.640,2,    0.010,2,    2.770,2, -999.000,9, -999.000,9, -999.000,9, -999.000,9, -999.000,9
           NA,    P17N,    134,   1,-999.0,       8,  2,19930618,2156,  55.1392, -145.0563,  4050,  182.900,    3.970,   33.811,2,   33.809,2,   58.800,2,   65.400,2,   81.570,2,   41.120,2,    0.010,2,    2.930,2,    1.832,2,    0.824,2, -999.000,9, -999.000,9, -999.000,9
           NA,    P17N,    134,   1,-999.0,       9,  2,19930618,2156,  55.1392, -145.0563,  4050,  208.400,    3.964,   33.874,2,   33.873,2,   43.800,2,   46.500,2,   87.040,2,   42.610,2,    0.000,2,    3.020,2, -999.000,9, -999.000,9, -999.000,9, -999.000,9, -999.000,9
           NA,    P17N,    134,   1,-999.0,      10,  2,19930618,2156,  55.1392, -145.0563,  4050,  258.800,    3.930,   33.939,2,   33.938,2,   27.700,2,   30.100,2,   93.530,2,   43.780,2,    0.000,2,    3.100,2,    1.092,2,    0.519,2, -999.000,9, -999.000,9, -999.000,9
           NA,    P17N,    134,   1,-999.0,      11,  2,19930618,2156,  55.1392, -145.0563,  4050,  309.400,    3.901,   34.002,2,   34.000,2,   23.800,2,   22.900,2,   99.830,2,   44.110,2,    0.010,2,    3.120,2, -999.000,9, -999.000,9, -999.000,9, -999.000,9, -999.000,9
           NA,    P17N,    134,   1,-999.0,      12,  2,19930618,2156,  55.1392, -145.0563,  4050,  360.100,    3.861,   34.057,2,   34.055,2,   22.900,2,   21.700,2,  105.310,2,   43.940,2,    0.000,2,    3.120,2,    0.444,2,    0.250,2, -999.000,9, -999.000,9, -999.000,9
           NA,    P17N,    134,   1,-999.0,      13,  2,19930618,2156,  55.1392, -145.0563,  4050,  410.400,    3.797,   34.099,2,   34.098,2,   20.700,2,   20.000,2,  109.970,2,   43.820,2,    0.000,2,    3.120,2, -999.000,9, -999.000,9, -999.000,9, -999.000,9, -999.000,9
           NA,    P17N,    134,   1,-999.0,      14,  2,19930618,2156,  55.1392, -145.0563,  4050,  460.100,    3.718,   34.141,2,   34.140,2,   18.500,2,   18.400,2,  114.640,2,   43.820,2,    0.000,2,    3.120,2,    0.255,2,    0.117,2, -999.000,9, -999.000,9, -999.000,9
           NA,    P17N,    134,   1,-999.0,      15,  2,19930618,2156,  55.1392, -145.0563,  4050,  510.500,    3.629,   34.178,2,   34.177,2,   17.500,2,   17.100,2,  119.110,2,   43.820,2,    0.000,2,    3.120,2, -999.000,9, -999.000,9, -999.000,9, -999.000,9, -999.000,9
           NA,    P17N,    134,   1,-999.0,      16,  2,19930618,2156,  55.1392, -145.0563,  4050,  560.500,    3.557,   34.202,2,   34.201,2,   16.600,2,   16.300,2,  121.920,2,   43.810,2,    0.000,2,    3.130,2,    0.152,2,    0.068,2, -999.000,9, -999.000,9, -999.000,9
           NA,    P17N,    134,   1,-999.0,      17,  2,19930618,2156,  55.1392, -145.0563,  4050,  610.400,    3.466,   34.231,2,   34.229,2,   16.100,2,   15.500,2,  126.190,2,   43.920,2,    0.000,2,    3.130,2, -999.000,9, -999.000,9, -999.000,9, -999.000,9, -999.000,9
           NA,    P17N,    134,   1,-999.0,      18,  2,19930618,2156,  55.1392, -145.0563,  4050,  711.600,    3.281,   34.283,2,   34.282,2,   14.700,2,   14.900,2,  133.590,2,   43.970,2,    0.000,2,    3.140,2,    0.052,2,    0.028,2, -999.000,9, -999.000,9, -999.000,9
           NA,    P17N,    134,   1,-999.0,      19,  2,19930618,2156,  55.1392, -145.0563,  4050,  812.600,    3.084,   34.332,2,   34.331,2,   15.300,2,   14.900,2,  140.590,2,   44.020,2,    0.000,2,    3.150,2,    0.034,2, -999.000,3, -999.000,9, -999.000,9, -999.000,9
           NA,    P17N,    134,   1,-999.0,      20,  2,19930618,2156,  55.1392, -145.0563,  4050,  914.300,    2.917,   34.370,2,   34.368,2,   15.700,2,   15.600,2,  146.360,2,   44.080,2,    0.000,2,    3.150,2,    0.025,2, -999.000,3, -999.000,9, -999.000,9, -999.000,9
           NA,    P17N,    134,   1,-999.0,      21,  2,19930618,2156,  55.1392, -145.0563,  4050, 1016.000,    2.758,   34.403,2,   34.403,2,   15.900,2,   18.000,2,  151.520,2,   44.020,2,    0.000,2,    3.130,2,    0.014,2, -999.000,3, -999.000,9, -999.000,9, -999.000,9
           NA,    P17N,    134,   1,-999.0,      22,  2,19930618,2156,  55.1392, -145.0563,  4050, 1117.400,    2.630,   34.433,2,   34.433,2,   18.900,2,   18.900,2,  155.850,2,   44.070,2,    0.000,2,    3.130,2,    0.004,2,    0.002,2, -999.000,9, -999.000,9, -999.000,9
           NA,    P17N,    134,   1,-999.0,      23,  2,19930618,2156,  55.1392, -145.0563,  4050, 1217.900,    2.516,   34.458,2,   34.458,2,   20.000,2,   20.700,2,  159.340,2,   44.180,2,    0.000,2,    3.120,2,    0.004,2,    0.003,2, -999.000,9, -999.000,9, -999.000,9
           NA,    P17N,    134,   1,-999.0,      24,  2,19930618,2156,  55.1392, -145.0563,  4050, 1418.800,    2.303,   34.503,2,   34.503,2,   26.700,2,   27.900,2,  165.380,2,   43.730,2,    0.000,2,    3.080,2,   -0.002,2,    0.001,2, -999.000,9, -999.000,9, -999.000,9
           NA,    P17N,    134,   1,-999.0,      25,  2,19930618,2156,  55.1392, -145.0563,  4050, 1623.300,    2.131,   34.541,2,   34.540,2,   36.600,2,   38.200,2,  169.110,2,   43.110,2,    0.000,2,    3.040,2, -999.000,9, -999.000,9, -999.000,9, -999.000,9, -999.000,9
           NA,    P17N,    134,   1,-999.0,      26,  2,19930618,2156,  55.1392, -145.0563,  4050, 1827.400,    1.992,   34.570,2,   34.570,2,   49.400,2,   50.100,2,  171.560,2,   42.390,2,    0.000,2,    2.990,2, -999.000,9, -999.000,9, -999.000,9, -999.000,9, -999.000,9
           NA,    P17N,    134,   1,-999.0,      27,  2,19930618,2156,  55.1392, -145.0563,  4050, 2032.700,    1.870,   34.595,2,   34.595,2,   61.700,2,   62.100,2,  173.170,2,   41.500,2,    0.000,2,    2.930,2, -999.000,9, -999.000,9, -999.000,9, -999.000,9, -999.000,9
           NA,    P17N,    134,   1,-999.0,      28,  2,19930618,2156,  55.1392, -145.0563,  4050, 2237.100,    1.781,   34.612,2,   34.613,2,   74.100,2,   73.800,2,  173.720,2,   40.940,2,    0.000,2,    2.890,2,   -0.001,2,   -0.008,2, -999.000,9, -999.000,9, -999.000,9
           NA,    P17N,    134,   1,-999.0,      29,  2,19930618,2156,  55.1392, -145.0563,  4050, 2441.400,    1.708,   34.627,2,   34.627,2,   85.100,2,   84.200,2,  173.840,2,   40.270,2,    0.000,2,    2.840,2, -999.000,9, -999.000,9, -999.000,9, -999.000,9, -999.000,9
           NA,    P17N,    134,   1,-999.0,      30,  2,19930618,2156,  55.1392, -145.0563,  4050, 2645.400,    1.640,   34.640,2,   34.640,2,   96.600,2,   95.400,2,  173.750,2,   39.550,2,    0.000,2,    2.790,2, -999.000,9, -999.000,9, -999.000,9, -999.000,9, -999.000,9
           NA,    P17N,    134,   1,-999.0,      31,  2,19930618,2156,  55.1392, -145.0563,  4050, 2850.800,    1.593,   34.649,2,   34.650,2,  105.500,2,  104.900,2,  173.010,2,   38.950,2,    0.000,2,    2.730,2, -999.000,9, -999.000,9, -999.000,9, -999.000,9, -999.000,9
           NA,    P17N,    134,   1,-999.0,      32,  2,19930618,2156,  55.1392, -145.0563,  4050, 3055.800,    1.548,   34.659,2,   34.659,2,  114.800,2,  114.300,2,  172.280,2,   38.280,2,    0.000,2,    2.690,2, -999.000,9, -999.000,9, -999.000,9, -999.000,9, -999.000,9
           NA,    P17N,    134,   1,-999.0,      33,  2,19930618,2156,  55.1392, -145.0563,  4050, 3311.100,    1.504,   34.668,2,   34.668,2,  125.400,2,  124.800,2,  169.850,2,   37.620,2,    0.000,2,    2.630,2, -999.000,9, -999.000,9, -999.000,9, -999.000,9, -999.000,9
           NA,    P17N,    134,   1,-999.0,      34,  2,19930618,2156,  55.1392, -145.0563,  4050, 3567.400,    1.476,   34.675,2,   34.675,2,  133.400,2,  133.300,2,  168.490,2,   37.070,2,    0.000,2,    2.590,2, -999.000,9, -999.000,9, -999.000,9, -999.000,9, -999.000,9
           NA,    P17N,    134,   1,-999.0,      38,  2,19930618,2156,  55.1392, -145.0563,  4050, 3822.500,    1.472,   34.679,2,   34.680,2,  138.500,2,  138.500,2,  167.120,2,   36.740,2,    0.000,2,    2.560,2, -999.000,9, -999.000,9, -999.000,9, -999.000,9, -999.000,9
           NA,    P17N,    134,   1,-999.0,      36,  2,19930618,2156,  55.1392, -145.0563,  4050, 4088.400,    1.470,   34.683,2,   34.683,2,  142.500,2,  143.100,2,  166.610,2,   36.350,2,    0.000,2,    2.540,2, -999.000,9, -999.000,9, -999.000,9, -999.000,9, -999.000,9