BOTTLE,20214410JOAExport
EXPOCODE,SECT_ID,STNNBR,CASTNO,SAMPNO,BTLNBR,BTLNBR_FLAG_W,DATE,TIME,LATITUDE,LONGITUDE,DEPTH,CTDPRS,CTDTMP,CTDSAL,CTDSAL_FLAG_W,SALNTY,SALNTY_FLAG_W,CTDOXY,CTDOXY_FLAG_W,OXYGEN,OXYGEN_FLAG_W,SILCAT,SILCAT_FLAG_W,NITRAT,NITRAT_FLAG_W,NITRIT,NITRIT_FLAG_W,PHSPHT,PHSPHT_FLAG_W,CFC-11,CFC-11_FLAG_W,CFC-12,CFC-12_FLAG_W,SF6,SF6_FLAG_W,TCARBN,TCARBN_FLAG_W,ALKALI,ALKALI_FLAG_W
,,,,,,,,,,,,DB,ITS-90,PSS-78,,PSS-78,,UMOL/KG,,UMOL/KG,,UMOL/KG,,UMOL/KG,,UMOL/KG,,UMOL/KG,,PMOL/KG,,PMOL/KG,,PMOL/KG,,UMOL/KG,,UMOL/KG
           NA,    P17N,    125,   1,-999.0,       1,  2,19930616,0603,  53.7473, -152.4477,  4718,    2.700,    8.797,   32.300,2,   32.301,2, -999.000,3,  355.100,2,   13.800,2,    1.110,2,    0.060,2,    0.550,2,    4.659,2,    2.277,2, -999.000,9, -999.000,9, 2174.900,2
           NA,    P17N,    125,   1,-999.0,       2,  2,19930616,0603,  53.7473, -152.4477,  4718,   32.100,    5.840,   32.511,2,   32.510,2,  304.100,2,  304.600,2,   23.130,2,   12.940,2,    0.230,2,    1.290,2,    4.987,2,    2.397,2, -999.000,9, 2037.600,2, 2192.300,2
           NA,    P17N,    125,   1,-999.0,       3,  2,19930616,0603,  53.7473, -152.4477,  4718,   57.300,    4.806,   32.679,2,   32.680,2,  290.300,2,  290.100,2,   29.030,2,   17.450,2,    0.150,2,    1.520,2,    5.189,2,    2.462,2, -999.000,9, 2066.900,2, 2199.500,2
           NA,    P17N,    125,   1,-999.0,       4,  2,19930616,0603,  53.7473, -152.4477,  4718,   82.500,    4.356,   32.918,2,   32.923,2,  246.700,2,  248.900,2,   37.730,2,   22.750,2,    0.030,2,    1.830,2,    4.339,2,    2.251,2, -999.000,9, 2110.300,2, 2211.400,2
           NA,    P17N,    125,   1,-999.0,       5,  2,19930616,0603,  53.7473, -152.4477,  4718,  108.000,    5.033,   33.368,2,   33.361,2,  176.400,2,  175.900,2,   49.410,2,   29.010,2,    0.020,2,    2.190,2,    3.564,2,    1.641,2, -999.000,9, 2172.900,2, 2237.800,2
           NA,    P17N,    125,   1,-999.0,       6,  2,19930616,0603,  53.7473, -152.4477,  4718,  132.700,    5.053,   33.667,2,   33.671,2,  122.300,2,  128.800,2,   59.810,2,   33.460,2,    0.030,2,    2.440,2,    2.720,2,    1.224,2, -999.000,9, 2223.400,2, 2261.100,2
           NA,    P17N,    125,   1,-999.0,       7,  2,19930616,0603,  53.7473, -152.4477,  4718,  157.400,    4.868,   33.825,2,   33.822,2,   95.700,2,   97.100,2,   68.730,2,   36.440,2,    0.020,2,    2.630,2, -999.000,9, -999.000,9, -999.000,9, 2256.000,2, 2278.600,2
           NA,    P17N,    125,   1,-999.0,       8,  2,19930616,0603,  53.7473, -152.4477,  4718,  182.800,    4.624,   33.860,2,   33.860,2,   80.600,2,   82.100,2,   74.870,2,   38.290,2,    0.020,2,    2.750,2, -999.000,9, -999.000,9, -999.000,9, 2276.000,2, 2283.800,2
           NA,    P17N,    125,   1,-999.0,       9,  2,19930616,0603,  53.7473, -152.4477,  4718,  207.800,    4.352,   33.885,2,   33.884,2,   66.000,2,   67.500,2,   81.440,2,   39.990,2,    0.020,2,    2.870,2,    1.567,2,    0.713,2, -999.000,9, 2290.100,2, 2289.200,2
           NA,    P17N,    125,   1,-999.0,      10,  2,19930616,0603,  53.7473, -152.4477,  4718,  258.700,    4.195,   33.962,2,   33.962,2,   48.100,2,   44.200,2,   91.240,2,   42.080,2,    0.010,2,    3.010,2, -999.000,9, -999.000,9, -999.000,9, -999.000,9, -999.000,9
           NA,    P17N,    125,   1,-999.0,      11,  2,19930616,0603,  53.7473, -152.4477,  4718,  309.300,    3.915,   33.987,2,   33.985,2,   30.200,2,   28.700,2,   98.900,2,   43.910,2,    0.010,2,    3.130,2,    0.870,2,    0.372,2, -999.000,9, -999.000,9, -999.000,9
           NA,    P17N,    125,   1,-999.0,      12,  2,19930616,0603,  53.7473, -152.4477,  4718,  360.200,    3.984,   34.061,2,   34.060,2,   29.400,2,   29.800,2,  103.770,2,   43.210,2,    0.010,2,    3.090,2, -999.000,9, -999.000,9, -999.000,9, -999.000,9, -999.000,9
           NA,    P17N,    125,   1,-999.0,      13,  2,19930616,0603,  53.7473, -152.4477,  4718,  410.400,    3.898,   34.093,2,   34.093,2,   26.700,2,   27.000,2,  108.010,2,   43.440,2,    0.010,2,    3.110,2,    0.432,2,    0.202,2, -999.000,9, -999.000,9, -999.000,9
           NA,    P17N,    125,   1,-999.0,      14,  2,19930616,0603,  53.7473, -152.4477,  4718,  511.200,    3.700,   34.171,2,   34.171,2,   20.400,2,   20.700,2,  118.070,2,   43.780,2,    0.010,2,    3.150,2,    0.203,2,    0.094,2, -999.000,9, -999.000,9, -999.000,9
           NA,    P17N,    125,   1,-999.0,      15,  2,19930616,0603,  53.7473, -152.4477,  4718,  611.600,    3.506,   34.235,2,   34.238,2,   17.200,2,   19.500,2,  126.430,2,   43.960,2,    0.010,2,    3.160,2,    0.102,2,    0.054,2, -999.000,9, -999.000,9, -999.000,9
           NA,    P17N,    125,   1,-999.0,      16,  2,19930616,0603,  53.7473, -152.4477,  4718,  712.400,    3.298,   34.285,2,   34.285,2,   15.300,2,   14.900,2,  134.170,2,   44.250,2,    0.010,2,    3.170,2,    0.052,2,    0.021,2, -999.000,9, -999.000,9, -999.000,9
           NA,    P17N,    125,   1,-999.0,      17,  2,19930616,0603,  53.7473, -152.4477,  4718,  813.500,    3.125,   34.325,2,   34.325,2,   15.500,2,   15.000,2,  140.410,2,   44.210,2,    0.010,2,    3.180,2,    0.033,2,    0.017,2, -999.000,9, -999.000,9, -999.000,9
           NA,    P17N,    125,   1,-999.0,      18,  2,19930616,0603,  53.7473, -152.4477,  4718,  914.500,    2.918,   34.365,2,   34.365,2,   17.900,2,   17.800,2,  147.320,2,   44.220,2,    0.010,2,    3.170,2,    0.027,2,    0.012,2, -999.000,9, -999.000,9, -999.000,9
           NA,    P17N,    125,   1,-999.0,      19,  2,19930616,0603,  53.7473, -152.4477,  4718, 1015.100,    2.767,   34.398,2,   34.398,2,   19.100,2,   18.800,2,  152.500,2,   44.230,2,    0.010,2,    3.160,2,    0.018,2,    0.003,2, -999.000,9, -999.000,9, -999.000,9
           NA,    P17N,    125,   1,-999.0,      20,  2,19930616,0603,  53.7473, -152.4477,  4718, 1218.000,    2.509,   34.456,2,   34.457,2,   23.600,2,   23.200,2,  159.680,2,   44.070,2,    0.010,2,    3.140,2,    0.005,2,    0.006,2, -999.000,9, -999.000,9, -999.000,9
           NA,    P17N,    125,   1,-999.0,      21,  2,19930616,0603,  53.7473, -152.4477,  4718, 1422.200,    2.272,   34.507,2,   34.508,2,   31.700,2,   33.000,2,  166.230,2,   43.750,2,    0.010,2,    3.100,2,    0.000,2,   -0.006,2, -999.000,9, -999.000,9, -999.000,9
           NA,    P17N,    125,   1,-999.0,      22,  2,19930616,0603,  53.7473, -152.4477,  4718, 1626.300,    2.109,   34.544,2,   34.545,2,   41.500,2,   41.600,2,  170.140,2,   43.210,2,    0.010,2,    3.060,2, -999.000,9, -999.000,9, -999.000,9, -999.000,9, -999.000,9
           NA,    P17N,    125,   1,-999.0,      23,  2,19930616,0603,  53.7473, -152.4477,  4718, 1831.000,    1.973,   34.573,2,   34.574,2,   53.000,2,   53.200,2,  172.740,2,   42.510,2,    0.010,2,    3.000,2, -999.000,9, -999.000,9, -999.000,9, -999.000,9, -999.000,9
           NA,    P17N,    125,   1,-999.0,      24,  2,19930616,0603,  53.7473, -152.4477,  4718, 2035.300,    1.872,   34.595,2,   34.596,2,   64.200,2,   63.500,2,  173.560,2,   41.920,2,    0.010,2,    2.950,2, -999.000,9, -999.000,9, -999.000,9, -999.000,9, -999.000,9
           NA,    P17N,    125,   1,-999.0,      25,  2,19930616,0603,  53.7473, -152.4477,  4718, 2240.000,    1.778,   34.613,2,   34.614,2,   75.400,2,   75.800,2,  173.940,2,   41.270,2,    0.010,2,    2.900,2, -999.000,9, -999.000,9, -999.000,9, -999.000,9, -999.000,9
           NA,    P17N,    125,   1,-999.0,      26,  2,19930616,0603,  53.7473, -152.4477,  4718, 2444.500,    1.698,   34.628,2,   34.629,2,   87.100,2,   86.900,2,  173.870,2,   40.460,2,    0.010,2,    2.840,2, -999.000,9, -999.000,9, -999.000,9, -999.000,9, -999.000,9
           NA,    P17N,    125,   1,-999.0,      27,  2,19930616,0603,  53.7473, -152.4477,  4718, 2648.900,    1.639,   34.639,2,   34.641,2,   96.900,2,   96.700,2,  173.580,2,   39.810,2,    0.010,2,    2.800,2, -999.000,9, -999.000,9, -999.000,9, -999.000,9, -999.000,9
           NA,    P17N,    125,   1,-999.0,      28,  2,19930616,0603,  53.7473, -152.4477,  4718, 2852.600,    1.589,   34.650,2,   34.650,2,  106.900,2,  106.400,2,  172.630,2,   39.280,2,    0.010,2,    2.750,2, -999.000,9, -999.000,9, -999.000,9, -999.000,9, -999.000,9
           NA,    P17N,    125,   1,-999.0,      29,  2,19930616,0603,  53.7473, -152.4477,  4718, 3057.200,    1.549,   34.657,2,   34.659,2,  115.500,2,  115.400,2,  170.340,2,   38.640,2,    0.010,2,    2.700,2, -999.000,9, -999.000,9, -999.000,9, -999.000,9, -999.000,9
           NA,    P17N,    125,   1,-999.0,      30,  2,19930616,0603,  53.7473, -152.4477,  4718, 3311.200,    1.507,   34.667,2,   34.668,2,  125.500,2,  125.600,2,  168.720,2,   37.940,2,    0.010,2,    2.650,2, -999.000,9, -999.000,9, -999.000,9, -999.000,9, -999.000,9
           NA,    P17N,    125,   1,-999.0,      31,  2,19930616,0603,  53.7473, -152.4477,  4718, 3566.700,    1.488,   34.672,2,   34.674,2,  132.700,2,  132.000,2,  167.540,2,   37.460,2,    0.010,2,    2.610,2, -999.000,9, -999.000,9, -999.000,9, -999.000,9, -999.000,9
           NA,    P17N,    125,   1,-999.0,      32,  2,19930616,0603,  53.7473, -152.4477,  4718, 3824.800,    1.483,   34.676,2,   34.678,2,  137.600,2,  137.800,2,  166.810,2,   37.090,2,    0.010,2,    2.590,2, -999.000,9, -999.000,9, -999.000,9, -999.000,9, -999.000,9
           NA,    P17N,    125,   1,-999.0,      33,  2,19930616,0603,  53.7473, -152.4477,  4718, 4082.900,    1.488,   34.680,2,   34.681,2,  141.000,2,  141.100,2,  165.860,2,   36.880,2,    0.010,2,    2.560,2, -999.000,9, -999.000,9, -999.000,9, -999.000,9, -999.000,9
           NA,    P17N,    125,   1,-999.0,      34,  2,19930616,0603,  53.7473, -152.4477,  4718, 4341.700,    1.498,   34.682,2,   34.683,2,  144.200,2,  144.000,2,  165.350,2,   36.680,2,    0.010,2,    2.540,2, -999.000,9, -999.000,9, -999.000,9, -999.000,9, -999.000,9
           NA,    P17N,    125,   1,-999.0,      38,  2,19930616,0603,  53.7473, -152.4477,  4718, 4597.200,    1.512,   34.684,2,   34.685,2,  146.600,2,  146.900,2,  164.840,2,   36.470,2,    0.010,2,    2.530,2, -999.000,9, -999.000,9, -999.000,9, -999.000,9, -999.000,9
           NA,    P17N,    125,   1,-999.0,      36,  2,19930616,0603,  53.7473, -152.4477,  4718, 4797.600,    1.515,   34.686,2,   34.687,2,  150.400,2,  150.900,2,  161.900,2,   36.100,2,    0.010,2,    2.540,2, -999.000,9, -999.000,9, -999.000,9, -999.000,9, -999.000,9