BOTTLE,20214410JOAExport
EXPOCODE,SECT_ID,STNNBR,CASTNO,SAMPNO,BTLNBR,BTLNBR_FLAG_W,DATE,TIME,LATITUDE,LONGITUDE,DEPTH,CTDPRS,CTDTMP,CTDSAL,CTDSAL_FLAG_W,SALNTY,SALNTY_FLAG_W,CTDOXY,CTDOXY_FLAG_W,OXYGEN,OXYGEN_FLAG_W,SILCAT,SILCAT_FLAG_W,NITRAT,NITRAT_FLAG_W,NITRIT,NITRIT_FLAG_W,PHSPHT,PHSPHT_FLAG_W,CFC-11,CFC-11_FLAG_W,CFC-12,CFC-12_FLAG_W,SF6,SF6_FLAG_W,TCARBN,TCARBN_FLAG_W,ALKALI,ALKALI_FLAG_W
,,,,,,,,,,,,DB,ITS-90,PSS-78,,PSS-78,,UMOL/KG,,UMOL/KG,,UMOL/KG,,UMOL/KG,,UMOL/KG,,UMOL/KG,,PMOL/KG,,PMOL/KG,,PMOL/KG,,UMOL/KG,,UMOL/KG
           NA,    P17N,    128,   1,-999.0,       1,  2,19930617,0153,  54.2107, -150.0173,  3290,    2.000,    8.192,   32.547,2,   32.546,2,  306.000,2,  308.200,2,   27.740,2,   12.880,2,    0.170,2,    1.240,2,    4.885,2,    2.338,2, -999.000,9, -999.000,9, -999.000,9
           NA,    P17N,    128,   1,-999.0,       2,  2,19930617,0153,  54.2107, -150.0173,  3290,   35.400,    6.411,   32.582,2,   32.580,2,  305.600,2,  313.200,2,   27.860,2,   13.810,2,    0.190,2,    1.310,2,    5.131,2,    2.467,2, -999.000,9, -999.000,9, -999.000,9
           NA,    P17N,    128,   1,-999.0,       3,  2,19930617,0153,  54.2107, -150.0173,  3290,   60.100,    4.160,   32.675,2,   32.672,2,  298.600,2,  310.800,2,   29.260,2,   16.730,2,    0.330,2,    1.500,2,    5.572,2,    2.667,2, -999.000,9, -999.000,9, -999.000,9
           NA,    P17N,    128,   1,-999.0,       4,  2,19930617,0153,  54.2107, -150.0173,  3290,   85.900,    3.933,   32.900,2,   32.927,2,  259.200,2,  261.500,2,   38.280,2,   22.320,2,    0.030,2,    1.810,2,    4.706,2,    2.318,2, -999.000,9, -999.000,9, -999.000,9
           NA,    P17N,    128,   1,-999.0,       5,  2,19930617,0153,  54.2107, -150.0173,  3290,  111.200,    4.006,   33.140,2,   33.150,2,  209.200,2,  213.100,2,   47.500,2,   27.030,2,    0.020,2,    2.100,2,    4.189,2,    1.961,2, -999.000,9, -999.000,9, -999.000,9
           NA,    P17N,    128,   1,-999.0,       6,  2,19930617,0153,  54.2107, -150.0173,  3290,  136.300,    4.168,   33.654,2,   33.647,2,  115.900,2,  110.400,2,   69.210,2,   36.760,2,    0.020,2,    2.680,2,    2.614,2,    1.215,2, -999.000,9, -999.000,9, -999.000,9
           NA,    P17N,    128,   1,-999.0,       7,  2,19930617,0153,  54.2107, -150.0173,  3290,  161.300,    4.007,   33.781,2,   33.776,2,   91.500,2,   83.500,2,   77.800,2,   39.390,2,    0.010,2,    2.850,2, -999.000,9, -999.000,9, -999.000,9, -999.000,9, -999.000,9
           NA,    P17N,    128,   1,-999.0,       8,  2,19930617,0153,  54.2107, -150.0173,  3290,  186.200,    3.981,   33.860,2,   33.856,2,   69.000,2,   57.600,2,   84.700,2,   41.550,2,    0.010,2,    2.970,2,    1.665,2,    0.773,2, -999.000,9, -999.000,9, -999.000,9
           NA,    P17N,    128,   1,-999.0,       9,  2,19930617,0153,  54.2107, -150.0173,  3290,  211.800,    3.960,   33.894,2,   33.890,2,   53.200,2,   45.700,2,   88.840,2,   42.420,2,    0.010,2,    3.030,2, -999.000,9, -999.000,9, -999.000,9, -999.000,9, -999.000,9
           NA,    P17N,    128,   1,-999.0,      10,  2,19930617,0153,  54.2107, -150.0173,  3290,  263.100,    3.917,   33.946,2,   33.943,2,   37.200,2,   33.100,2,   94.480,2,   43.290,2,    0.010,2,    3.100,2,    1.089,2,    0.505,2, -999.000,9, -999.000,9, -999.000,9
           NA,    P17N,    128,   1,-999.0,      11,  2,19930617,0153,  54.2107, -150.0173,  3290,  313.700,    3.893,   34.011,2,   34.008,2,   28.400,2,   25.100,2,  100.320,2,   43.720,2,    0.010,2,    3.130,2, -999.000,9, -999.000,9, -999.000,9, -999.000,9, -999.000,9
           NA,    P17N,    128,   1,-999.0,      12,  2,19930617,0153,  54.2107, -150.0173,  3290,  364.400,    3.829,   34.065,2,   34.061,2,   24.600,2,   21.800,2,  105.960,2,   43.610,2,    0.010,2,    3.140,2,    0.533,2,    0.236,2, -999.000,9, -999.000,9, -999.000,9
           NA,    P17N,    128,   1,-999.0,      13,  2,19930617,0153,  54.2107, -150.0173,  3290,  414.700,    3.733,   34.104,2,   34.100,2,   23.500,2,   20.700,2,  111.180,2,   43.770,2,    0.010,2,    3.140,2, -999.000,9, -999.000,9, -999.000,9, -999.000,9, -999.000,9
           NA,    P17N,    128,   1,-999.0,      14,  2,19930617,0153,  54.2107, -150.0173,  3290,  465.000,    3.671,   34.144,2,   34.141,2,   21.200,2,   19.000,2,  115.770,2,   43.770,2,    0.010,2,    3.140,2,    0.289,2,    0.130,2, -999.000,9, -999.000,9, -999.000,9
           NA,    P17N,    128,   1,-999.0,      15,  2,19930617,0153,  54.2107, -150.0173,  3290,  514.600,    3.611,   34.173,2,   34.170,2,   19.100,2,   17.600,2,  119.080,2,   43.770,2,    0.010,2,    3.140,2, -999.000,9, -999.000,9, -999.000,9, -999.000,9, -999.000,9
           NA,    P17N,    128,   1,-999.0,      16,  2,19930617,0153,  54.2107, -150.0173,  3290,  565.000,    3.516,   34.207,2,   34.202,2,   18.400,2,   16.600,2,  123.250,2,   43.830,2,    0.010,2,    3.140,2,    0.167,2,    0.077,2, -999.000,9, -999.000,9, -999.000,9
           NA,    P17N,    128,   1,-999.0,      17,  2,19930617,0153,  54.2107, -150.0173,  3290,  614.900,    3.433,   34.235,2,   34.232,2,   17.400,2,   15.900,2,  126.780,2,   43.830,2,    0.010,2,    3.150,2, -999.000,9, -999.000,9, -999.000,9, -999.000,9, -999.000,9
           NA,    P17N,    128,   1,-999.0,      18,  2,19930617,0153,  54.2107, -150.0173,  3290,  716.800,    3.265,   34.286,2,   34.283,2,   16.200,2,   15.300,2,  133.740,2,   43.880,2,    0.010,2,    3.150,2,    0.060,2,    0.032,2, -999.000,9, -999.000,9, -999.000,9
           NA,    P17N,    128,   1,-999.0,      19,  2,19930617,0153,  54.2107, -150.0173,  3290,  818.700,    3.104,   34.328,2,   34.326,2,   15.700,2,   15.100,2,  139.850,2,   43.990,2,    0.010,2,    3.160,2,    0.037,2,    0.035,2, -999.000,9, -999.000,9, -999.000,9
           NA,    P17N,    128,   1,-999.0,      20,  2,19930617,0153,  54.2107, -150.0173,  3290,  920.200,    2.924,   34.371,2,   34.368,2,   15.300,2,   15.300,2,  145.770,2,   44.040,2,    0.010,2,    3.150,2, -999.000,9, -999.000,9, -999.000,9, -999.000,9, -999.000,9
           NA,    P17N,    128,   1,-999.0,      21,  2,19930617,0153,  54.2107, -150.0173,  3290, 1022.400,    2.781,   34.401,2,   34.397,2,   17.100,2,   17.400,2,  150.190,2,   44.040,2,    0.010,2,    3.160,2,    0.014,2,    0.006,2, -999.000,9, -999.000,9, -999.000,9
           NA,    P17N,    128,   1,-999.0,      22,  2,19930617,0153,  54.2107, -150.0173,  3290, 1123.800,    2.659,   34.426,2,   34.424,2,   19.000,2,   19.400,2,  154.410,2,   43.930,2,    0.010,2,    3.140,2,    0.008,2,    0.003,2, -999.000,9, -999.000,9, -999.000,9
           NA,    P17N,    128,   1,-999.0,      23,  2,19930617,0153,  54.2107, -150.0173,  3290, 1223.300,    2.542,   34.452,2,   34.451,2,   20.500,2,   21.300,2,  157.770,2,   44.040,2,    0.010,2,    3.130,2,    0.008,2,   -0.001,2, -999.000,9, -999.000,9, -999.000,9
           NA,    P17N,    128,   1,-999.0,      24,  2,19930617,0153,  54.2107, -150.0173,  3290, 1322.700,    2.431,   34.477,2,   34.474,2,   24.400,2,   24.700,2,  161.140,2,   43.760,2,    0.010,2,    3.120,2, -999.000,9, -999.000,9, -999.000,9, -999.000,9, -999.000,9
           NA,    P17N,    128,   1,-999.0,      25,  2,19930617,0153,  54.2107, -150.0173,  3290, 1421.500,    2.314,   34.502,2,   34.499,2,   28.600,2,   29.600,2,  163.640,2,   43.540,2,    0.010,2,    3.090,2, -999.000,9, -999.000,9, -999.000,9, -999.000,9, -999.000,9
           NA,    P17N,    128,   1,-999.0,      26,  2,19930617,0153,  54.2107, -150.0173,  3290, 1524.000,    2.210,   34.524,2,   34.522,2,   33.400,2,   34.600,2,  166.370,2,   43.270,2,    0.010,2,    3.070,2, -999.000,9, -999.000,9, -999.000,9, -999.000,9, -999.000,9
           NA,    P17N,    128,   1,-999.0,      27,  2,19930617,0153,  54.2107, -150.0173,  3290, 1627.700,    2.135,   34.541,2,   34.539,2,   37.700,2,   39.700,2,  168.440,2,   43.000,2,    0.010,2,    3.040,2, -999.000,9, -999.000,9, -999.000,9, -999.000,9, -999.000,9
           NA,    P17N,    128,   1,-999.0,      28,  2,19930617,0153,  54.2107, -150.0173,  3290, 1732.500,    2.048,   34.560,2,   34.557,2,   43.000,2,   45.900,2,  170.090,2,   42.670,2,    0.010,2,    3.030,2, -999.000,9, -999.000,9, -999.000,9, -999.000,9, -999.000,9
           NA,    P17N,    128,   1,-999.0,      29,  2,19930617,0153,  54.2107, -150.0173,  3290, 1836.300,    1.970,   34.576,2,   34.574,2,   49.000,2,   52.500,2,  171.290,2,   42.290,2,    0.010,2,    2.990,2, -999.000,9, -999.000,9, -999.000,9, -999.000,9, -999.000,9
           NA,    P17N,    128,   1,-999.0,      30,  2,19930617,0153,  54.2107, -150.0173,  3290, 2038.400,    1.881,   34.595,2,   34.593,2,   60.000,2,   61.500,2,  172.060,2,   41.750,2,    0.010,2,    2.940,2, -999.000,9, -999.000,9, -999.000,9, -999.000,9, -999.000,9
           NA,    P17N,    128,   1,-999.0,      31,  2,19930617,0153,  54.2107, -150.0173,  3290, 2237.700,    1.778,   34.615,2,   34.613,2,   72.400,2,   74.500,2,  172.830,2,   40.940,2,    0.010,2,    2.890,2, -999.000,9, -999.000,9, -999.000,9, -999.000,9, -999.000,9
           NA,    P17N,    128,   1,-999.0,      32,  2,19930617,0153,  54.2107, -150.0173,  3290, 2440.100,    1.714,   34.628,2,   34.626,2,   82.700,2,   83.600,2,  172.730,2,   40.340,2,    0.010,2,    2.840,2, -999.000,9, -999.000,9, -999.000,9, -999.000,9, -999.000,9
           NA,    P17N,    128,   1,-999.0,      33,  2,19930617,0153,  54.2107, -150.0173,  3290, 2647.600,    1.636,   34.643,2,   34.641,2,   95.700,2,   96.500,2,  171.970,2,   39.530,2,    0.010,2,    2.780,2, -999.000,9, -999.000,9, -999.000,9, -999.000,9, -999.000,9
           NA,    P17N,    128,   1,-999.0,      34,  2,19930617,0153,  54.2107, -150.0173,  3290, 2854.800,    1.593,   34.652,2,   34.648,2,  104.800,2,  105.300,2,  171.650,2,   38.990,2,    0.010,2,    2.730,2, -999.000,9, -999.000,9, -999.000,9, -999.000,9, -999.000,9
           NA,    P17N,    128,   1,-999.0,      38,  2,19930617,0153,  54.2107, -150.0173,  3290, 3062.000,    1.542,   34.662,2,   34.660,2,  116.100,2,  115.700,2,  170.450,2,   38.240,2,    0.010,2,    2.690,2, -999.000,9, -999.000,9, -999.000,9, -999.000,9, -999.000,9
           NA,    P17N,    128,   1,-999.0,      36,  2,19930617,0153,  54.2107, -150.0173,  3290, 3308.800,    1.506,   34.670,2,   34.668,2,  126.000,2,  125.000,2,  169.260,2,   37.700,2,    0.010,2,    2.640,2, -999.000,9, -999.000,9, -999.000,9, -999.000,9, -999.000,9