BOTTLE,20214410JOAExport
EXPOCODE,SECT_ID,STNNBR,CASTNO,SAMPNO,BTLNBR,BTLNBR_FLAG_W,DATE,TIME,LATITUDE,LONGITUDE,DEPTH,CTDPRS,CTDTMP,CTDSAL,CTDSAL_FLAG_W,SALNTY,SALNTY_FLAG_W,CTDOXY,CTDOXY_FLAG_W,OXYGEN,OXYGEN_FLAG_W,SILCAT,SILCAT_FLAG_W,NITRAT,NITRAT_FLAG_W,NITRIT,NITRIT_FLAG_W,PHSPHT,PHSPHT_FLAG_W,CFC-11,CFC-11_FLAG_W,CFC-12,CFC-12_FLAG_W,SF6,SF6_FLAG_W,TCARBN,TCARBN_FLAG_W,ALKALI,ALKALI_FLAG_W
,,,,,,,,,,,,DB,ITS-90,PSS-78,,PSS-78,,UMOL/KG,,UMOL/KG,,UMOL/KG,,UMOL/KG,,UMOL/KG,,UMOL/KG,,PMOL/KG,,PMOL/KG,,PMOL/KG,,UMOL/KG,,UMOL/KG
           NA,    P17N,    127,   1,-999.0,       1,  2,19930616,1756,  54.0598, -150.8178,  4444,    2.300,    7.807,   32.510,2,   32.509,2,  325.400,2,  310.600,2,   28.340,2,   13.080,2,    0.160,2,    1.250,2,    4.952,2,    2.382,2, -999.000,9, -999.000,9, 2196.100,2
           NA,    P17N,    127,   1,-999.0,       2,  2,19930616,1756,  54.0598, -150.8178,  4444,   35.300,    6.598,   32.542,2,   32.542,2,  314.200,2,  313.600,2,   27.820,2,   13.560,2,    0.160,2,    1.290,2, -999.000,9, -999.000,9, -999.000,9, -999.000,9, 2201.300,2
           NA,    P17N,    127,   1,-999.0,       3,  2,19930616,1756,  54.0598, -150.8178,  4444,   60.700,    4.626,   32.693,2,   32.692,2,  305.200,2,  312.600,2,   28.350,2,   15.940,2,    0.470,2,    1.460,2,    5.556,2,    2.641,2, -999.000,9, -999.000,9, 2207.800,2
           NA,    P17N,    127,   1,-999.0,       4,  2,19930616,1756,  54.0598, -150.8178,  4444,   85.100,    4.038,   32.970,2,   32.954,2,  264.500,2,  263.800,2,   37.940,2,   22.560,2,    0.030,2,    1.820,2,    4.943,2,    2.331,2, -999.000,9, -999.000,9, 2222.600,2
           NA,    P17N,    127,   1,-999.0,       5,  2,19930616,1756,  54.0598, -150.8178,  4444,  110.700,    4.258,   33.499,2,   33.498,2,  145.700,2,  144.800,2,   60.160,2,   33.680,2,    0.020,2,    2.480,2, -999.000,9, -999.000,9, -999.000,9, -999.000,9, 2259.700,2
           NA,    P17N,    127,   1,-999.0,       6,  2,19930616,1756,  54.0598, -150.8178,  4444,  135.800,    4.178,   33.674,2,   33.673,2,  102.600,2,  108.800,2,   69.320,2,   37.100,2,    0.010,2,    2.690,2,    2.639,2,    1.204,2, -999.000,9, -999.000,9, 2278.500,2
           NA,    P17N,    127,   1,-999.0,       7,  2,19930616,1756,  54.0598, -150.8178,  4444,  160.200,    3.973,   33.801,2,   33.796,2,   78.800,2,   74.800,2,   79.330,2,   40.200,2,    0.010,2,    2.890,2, -999.000,9, -999.000,9, -999.000,9, -999.000,9, 2284.600,2
           NA,    P17N,    127,   1,-999.0,       8,  2,19930616,1756,  54.0598, -150.8178,  4444,  186.300,    3.934,   33.849,2,   33.846,2,   62.000,2,   58.000,2,   84.500,2,   41.660,2,    0.010,2,    2.970,2,    1.686,2,    0.774,2, -999.000,9, -999.000,9, 2292.100,2
           NA,    P17N,    127,   1,-999.0,       9,  2,19930616,1756,  54.0598, -150.8178,  4444,  211.900,    3.920,   33.890,2,   33.886,2,   54.300,2,   45.200,2,   87.770,2,   42.410,2,    0.010,2,    3.000,2,    1.418,2,    0.675,2, -999.000,9, -999.000,9, 2294.700,2
           NA,    P17N,    127,   1,-999.0,      10,  2,19930616,1756,  54.0598, -150.8178,  4444,  262.900,    3.892,   33.962,2,   33.960,2,   32.000,2,   30.400,2,   96.110,2,   43.600,2,    0.010,2,    3.100,2, -999.000,9, -999.000,9, -999.000,9, -999.000,9, 2309.600,2
           NA,    P17N,    127,   1,-999.0,      11,  2,19930616,1756,  54.0598, -150.8178,  4444,  313.200,    3.779,   34.008,2,   34.005,2,   27.700,2,   27.900,2,  102.340,2,   43.540,2,    0.010,2,    3.120,2,    0.832,2,    0.360,2, -999.000,9, -999.000,9, 2315.700,2
           NA,    P17N,    127,   1,-999.0,      12,  2,19930616,1756,  54.0598, -150.8178,  4444,  363.500,    3.640,   34.033,2,   34.032,2, -999.000,3,   32.300,2,  106.890,2,   43.260,2,    0.010,2,    3.100,2, -999.000,9, -999.000,9, -999.000,9, -999.000,9, 2325.400,2
           NA,    P17N,    127,   1,-999.0,      13,  2,19930616,1756,  54.0598, -150.8178,  4444,  412.500,    3.641,   34.096,2,   34.093,2,   21.500,2,   22.900,2,  112.490,2,   43.690,2,    0.010,2,    3.130,2,    0.494,2,    0.233,2, -999.000,9, -999.000,9, 2329.900,2
           NA,    P17N,    127,   1,-999.0,      14,  2,19930616,1756,  54.0598, -150.8178,  4444,  514.400,    3.519,   34.182,2,   34.181,2,   18.600,2,   17.100,2,  121.500,2,   43.900,2,    0.010,2,    3.120,2,    0.223,2,    0.094,2, -999.000,9, -999.000,9, 2349.200,2
           NA,    P17N,    127,   1,-999.0,      15,  2,19930616,1756,  54.0598, -150.8178,  4444,  616.400,    3.354,   34.244,2,   34.241,2,   17.100,2,   16.800,2,  128.820,2,   43.840,2,    0.010,2,    3.130,2,    0.136,2,    0.059,2, -999.000,9, -999.000,9, -999.000,9
           NA,    P17N,    127,   1,-999.0,      16,  2,19930616,1756,  54.0598, -150.8178,  4444,  714.300,    3.212,   34.289,2,   34.285,2,   17.000,2,   16.600,2,  134.680,2,   43.780,2,    0.010,2,    3.140,2,    0.083,2,    0.038,2, -999.000,9, -999.000,9, 2366.300,2
           NA,    P17N,    127,   1,-999.0,      17,  2,19930616,1756,  54.0598, -150.8178,  4444,  813.600,    3.012,   34.329,2,   34.328,2,   20.000,2,   20.200,2,  141.180,2,   43.670,2,    0.010,2,    3.120,2,    0.075,2,    0.031,2, -999.000,9, -999.000,9, 2373.700,2
           NA,    P17N,    127,   1,-999.0,      18,  2,19930616,1756,  54.0598, -150.8178,  4444,  917.200,    2.852,   34.379,2,   34.378,2,   18.700,2,   18.100,2,  147.280,2,   43.880,2,    0.010,2,    3.140,2,    0.026,2,    0.017,2, -999.000,9, -999.000,9, 2385.200,2
           NA,    P17N,    127,   1,-999.0,      19,  2,19930616,1756,  54.0598, -150.8178,  4444, 1021.000,    2.701,   34.410,2,   34.409,2,   21.100,2,   22.900,2,  151.890,2,   43.650,2,    0.010,2,    3.110,2,    0.028,2,    0.019,2, -999.000,9, -999.000,9, 2386.900,2
           NA,    P17N,    127,   1,-999.0,      20,  2,19930616,1756,  54.0598, -150.8178,  4444, 1122.300,    2.595,   34.436,2,   34.434,2,   24.400,2,   24.600,2,  155.010,2,   43.600,2,    0.010,2,    3.100,2,    0.017,2,    0.013,2, -999.000,9, -999.000,9, 2394.300,2
           NA,    P17N,    127,   1,-999.0,      21,  2,19930616,1756,  54.0598, -150.8178,  4444, 1324.700,    2.371,   34.487,2,   34.485,2,   29.600,2,   29.800,2,  161.800,2,   43.430,2,    0.010,2,    3.090,2,    0.005,2,    0.004,2, -999.000,9, -999.000,9, 2401.100,2
           NA,    P17N,    127,   1,-999.0,      22,  2,19930616,1756,  54.0598, -150.8178,  4444, 1526.700,    2.210,   34.524,2,   34.522,2,   36.300,2,   36.600,2,  165.800,2,   43.090,2,    0.010,2,    3.050,2,    0.005,2, -999.000,4, -999.000,9, -999.000,9, 2411.800,2
           NA,    P17N,    127,   1,-999.0,      23,  2,19930616,1756,  54.0598, -150.8178,  4444, 1727.900,    2.064,   34.557,2,   34.556,2,   43.900,2,   44.000,2,  169.150,2,   42.760,2,    0.010,2,    3.020,2, -999.000,9, -999.000,9, -999.000,9, -999.000,9, 2415.400,2
           NA,    P17N,    127,   1,-999.0,      24,  2,19930616,1756,  54.0598, -150.8178,  4444, 1930.700,    1.951,   34.582,2,   34.580,2,   54.200,2,   53.800,2,  170.560,2,   42.160,2,    0.010,2,    2.970,2, -999.000,9, -999.000,9, -999.000,9, -999.000,9, -999.000,9
           NA,    P17N,    127,   1,-999.0,      25,  2,19930616,1756,  54.0598, -150.8178,  4444, 2032.500,    1.880,   34.595,2,   34.594,2,   62.500,2,   62.200,2,  171.530,2,   41.620,2,    0.010,2,    2.930,2, -999.000,9, -999.000,9, -999.000,9, -999.000,9, 2417.300,2
           NA,    P17N,    127,   1,-999.0,      26,  2,19930616,1756,  54.0598, -150.8178,  4444, 2133.900,    1.835,   34.604,2,   34.603,2,   66.300,2,   67.000,2,  171.860,2,   41.340,2,    0.010,2,    2.910,2,    0.002,2,    0.000,2, -999.000,9, -999.000,9, -999.000,9
           NA,    P17N,    127,   1,-999.0,      27,  2,19930616,1756,  54.0598, -150.8178,  4444, 2337.300,    1.736,   34.622,2,   34.621,2,   79.000,2,   80.200,2,  172.180,2,   40.530,2,    0.010,2,    2.850,2, -999.000,9, -999.000,9, -999.000,9, -999.000,9, 2426.900,2
           NA,    P17N,    127,   1,-999.0,      28,  2,19930616,1756,  54.0598, -150.8178,  4444, 2540.500,    1.669,   34.636,2,   34.634,2,   90.500,2,   90.700,2,  171.840,2,   39.820,2,    0.010,2,    2.800,2, -999.000,9, -999.000,9, -999.000,9, -999.000,9, -999.000,9
           NA,    P17N,    127,   1,-999.0,      29,  2,19930616,1756,  54.0598, -150.8178,  4444, 2744.600,    1.617,   34.645,2,   34.645,2,   99.700,2,  100.700,2,  170.860,2,   39.280,2,    0.010,2,    2.750,2,   -0.002,2,    0.004,2, -999.000,9, -999.000,9, 2424.500,2
           NA,    P17N,    127,   1,-999.0,      30,  2,19930616,1756,  54.0598, -150.8178,  4444, 2946.400,    1.576,   34.654,2,   34.653,2,  108.200,2,  108.700,2,  170.960,2,   38.740,2,    0.010,2,    2.710,2, -999.000,9, -999.000,9, -999.000,9, -999.000,9, -999.000,9
           NA,    P17N,    127,   1,-999.0,      31,  2,19930616,1756,  54.0598, -150.8178,  4444, 3144.600,    1.550,   34.660,2,   34.660,2,  115.500,2,  115.400,2,  169.320,2,   38.250,2,    0.010,2,    2.680,2, -999.000,9, -999.000,9, -999.000,9, -999.000,9, 2430.400,2
           NA,    P17N,    127,   1,-999.0,      32,  2,19930616,1756,  54.0598, -150.8178,  4444, 3354.100,    1.520,   34.666,2,   34.666,2,  123.000,2,  123.300,2,  167.910,2,   37.770,2,    0.010,2,    2.640,2, -999.000,9, -999.000,9, -999.000,9, -999.000,9, -999.000,9
           NA,    P17N,    127,   1,-999.0,      33,  2,19930616,1756,  54.0598, -150.8178,  4444, 3615.600,    1.493,   34.675,2,   34.674,2,  131.900,2,  131.600,2,  167.570,2,   37.170,2,    0.010,2,    2.600,2, -999.000,9, -999.000,9, -999.000,9, -999.000,9, 2433.900,2
           NA,    P17N,    127,   1,-999.0,      34,  2,19930616,1756,  54.0598, -150.8178,  4444, 3875.200,    1.487,   34.679,2,   34.678,2,  136.800,2,  137.000,2,  166.810,2,   36.850,2,    0.010,2,    2.570,2, -999.000,9, -999.000,9, -999.000,9, -999.000,9, -999.000,9
           NA,    P17N,    127,   1,-999.0,      38,  2,19930616,1756,  54.0598, -150.8178,  4444, 4133.800,    1.496,   34.682,2,   34.681,2,  140.800,2,  140.300,2,  166.480,2,   36.580,2,    0.010,2,    2.550,2, -999.000,9, -999.000,9, -999.000,9, -999.000,9, 2433.500,2
           NA,    P17N,    127,   1,-999.0,      36,  2,19930616,1756,  54.0598, -150.8178,  4444, 4362.700,    1.516,   34.682,2,   34.682,2,  141.700,2,  141.300,2,  166.800,2,   36.570,2,    0.010,2,    2.550,2, -999.000,9, -999.000,9, -999.000,9, -999.000,9, -999.000,9