BOTTLE,20214410JOAExport
EXPOCODE,SECT_ID,STNNBR,CASTNO,SAMPNO,BTLNBR,BTLNBR_FLAG_W,DATE,TIME,LATITUDE,LONGITUDE,DEPTH,CTDPRS,CTDTMP,CTDSAL,CTDSAL_FLAG_W,SALNTY,SALNTY_FLAG_W,CTDOXY,CTDOXY_FLAG_W,OXYGEN,OXYGEN_FLAG_W,SILCAT,SILCAT_FLAG_W,NITRAT,NITRAT_FLAG_W,NITRIT,NITRIT_FLAG_W,PHSPHT,PHSPHT_FLAG_W,CFC-11,CFC-11_FLAG_W,CFC-12,CFC-12_FLAG_W,SF6,SF6_FLAG_W,TCARBN,TCARBN_FLAG_W,ALKALI,ALKALI_FLAG_W
,,,,,,,,,,,,DB,ITS-90,PSS-78,,PSS-78,,UMOL/KG,,UMOL/KG,,UMOL/KG,,UMOL/KG,,UMOL/KG,,UMOL/KG,,PMOL/KG,,PMOL/KG,,PMOL/KG,,UMOL/KG,,UMOL/KG
           NA,    P17N,    144,   1,-999.0,       1,  2,19930621,1555,  56.6767, -136.5933,  2090,    1.800,   13.109,   31.969,2,   31.976,2,  260.200,2,  285.500,2,   17.020,2,    0.130,2,    0.020,2,    0.490,2,    4.807,2,    2.673,2, -999.000,9, -999.000,9, -999.000,9
           NA,    P17N,    144,   1,-999.0,       2,  2,19930621,1555,  56.6767, -136.5933,  2090,   29.400,    7.720, -999.000,4,   32.222,2, -999.000,9,  284.900,2,   21.410,2,   11.950,2,    0.150,2,    1.200,2, -999.000,9, -999.000,9, -999.000,9, -999.000,9, -999.000,9
           NA,    P17N,    144,   1,-999.0,       3,  2,19930621,1555,  56.6767, -136.5933,  2090,   54.100,    7.597,   32.328,2,   32.325,2,  285.400,2,  283.100,2,   19.280,2,   11.480,2,    0.130,2,    1.170,2,    5.386,2,    2.900,2, -999.000,9, -999.000,9, -999.000,9
           NA,    P17N,    144,   1,-999.0,       4,  2,19930621,1555,  56.6767, -136.5933,  2090,   79.600,    6.777,   32.368,2,   32.367,2,  283.000,2,  292.300,2,   18.170,2,   11.530,2,    0.340,2,    1.210,2, -999.000,9, -999.000,9, -999.000,9, -999.000,9, -999.000,9
           NA,    P17N,    144,   1,-999.0,       5,  2,19930621,1555,  56.6767, -136.5933,  2090,  105.900,    6.397, -999.000,4,   32.456,2, -999.000,9,  281.100,2,   21.130,2,   14.220,2,    0.050,2,    1.340,2,    5.877,2,    3.184,2, -999.000,9, -999.000,9, -999.000,9
           NA,    P17N,    144,   1,-999.0,       6,  2,19930621,1555,  56.6767, -136.5933,  2090,  130.100,    6.560, -999.000,4,   32.705,2, -999.000,9,  226.700,2,   32.840,2,   20.280,2,    0.030,2,    1.700,2, -999.000,9, -999.000,9, -999.000,9, -999.000,9, -999.000,9
           NA,    P17N,    144,   1,-999.0,       7,  2,19930621,1555,  56.6767, -136.5933,  2090,  157.600,    6.615, -999.000,4,   33.041,2, -999.000,9,  193.100,2,   37.830,2,   23.720,2,    0.020,2,    1.890,2,    4.699,2,    2.536,2, -999.000,9, -999.000,9, -999.000,9
           NA,    P17N,    144,   1,-999.0,       8,  2,19930621,1555,  56.6767, -136.5933,  2090,  179.900,    6.507,   33.298,2,   33.309,2,  169.400,2,  169.600,2,   41.790,2,   26.490,2,    0.020,2,    2.050,2, -999.000,9, -999.000,9, -999.000,9, -999.000,9, -999.000,9
           NA,    P17N,    144,   1,-999.0,       9,  2,19930621,1555,  56.6767, -136.5933,  2090,  205.200,    6.326,   33.556,2,   33.556,2,  150.400,2,  153.700,2,   44.740,2,   28.560,2,    0.020,2,    2.160,2,    3.766,2,    1.949,2, -999.000,9, -999.000,9, -999.000,9
           NA,    P17N,    144,   1,-999.0,      10,  2,19930621,1555,  56.6767, -136.5933,  2090,  230.300,    5.985,   33.736,2,   33.744,2,  134.600,2,  137.500,2,   50.330,2,   30.790,2,    0.020,2,    2.280,2, -999.000,9, -999.000,9, -999.000,9, -999.000,9, -999.000,9
           NA,    P17N,    144,   1,-999.0,      11,  2,19930621,1555,  56.6767, -136.5933,  2090,  256.300,    5.638,   33.816,2,   33.813,2,  121.500,2,  123.700,2,   55.520,2,   32.590,2,    0.020,2,    2.390,2,    3.121,2,    1.563,2, -999.000,9, -999.000,9, -999.000,9
           NA,    P17N,    144,   1,-999.0,      12,  2,19930621,1555,  56.6767, -136.5933,  2090,  282.000,    5.205,   33.811,2,   33.821,2,  112.500,2,  116.600,2,   60.510,2,   34.180,2,    0.020,2,    2.480,2,    2.203,2,    1.055,2, -999.000,9, -999.000,9, -999.000,9
           NA,    P17N,    144,   1,-999.0,      13,  2,19930621,1555,  56.6767, -136.5933,  2090,  307.400,    5.139,   33.866,2,   33.861,2,  104.600,2,  104.200,2,   64.280,2,   35.220,2,    0.020,2,    2.550,2,    2.672,2,    1.320,2, -999.000,9, -999.000,9, -999.000,9
           NA,    P17N,    144,   1,-999.0,      14,  2,19930621,1555,  56.6767, -136.5933,  2090,  331.800,    4.918,   33.880,2,   33.880,2,   88.100,2,   88.700,2,   69.680,2,   36.970,2,    0.020,2,    2.670,2, -999.000,9, -999.000,9, -999.000,9, -999.000,9, -999.000,9
           NA,    P17N,    144,   1,-999.0,      15,  2,19930621,1555,  56.6767, -136.5933,  2090,  357.700,    4.746,   33.892,2,   33.894,2,   77.600,2,   78.300,2,   73.850,2,   38.180,2,    0.020,2,    2.750,2, -999.000,9, -999.000,9, -999.000,9, -999.000,9, -999.000,9
           NA,    P17N,    144,   1,-999.0,      16,  2,19930621,1555,  56.6767, -136.5933,  2090,  382.400,    4.622,   33.914,2,   33.917,2,   69.700,2,   67.900,2,   78.030,2,   39.230,2,    0.020,2,    2.810,2, -999.000,9, -999.000,9, -999.000,9, -999.000,9, -999.000,9
           NA,    P17N,    144,   1,-999.0,      17,  2,19930621,1555,  56.6767, -136.5933,  2090,  407.400,    4.631,   33.946,2,   33.946,2,   61.000,2,   60.100,2,   80.580,2,   39.610,2,    0.020,2,    2.850,2, -999.000,5, -999.000,5, -999.000,9, -999.000,9, -999.000,9
           NA,    P17N,    144,   1,-999.0,      18,  2,19930621,1555,  56.6767, -136.5933,  2090,  433.800,    4.539,   33.969,2,   33.973,2,   53.000,2,   53.100,2,   84.550,2,   40.380,2,    0.020,2,    2.900,2, -999.000,9, -999.000,9, -999.000,9, -999.000,9, -999.000,9
           NA,    P17N,    144,   1,-999.0,      19,  2,19930621,1555,  56.6767, -136.5933,  2090,  459.200,    4.474,   33.998,2,   33.994,2,   46.500,2,   47.500,2,   87.310,2,   40.870,2,    0.020,2,    2.940,2, -999.000,9, -999.000,9, -999.000,9, -999.000,9, -999.000,9
           NA,    P17N,    144,   1,-999.0,      20,  2,19930621,1555,  56.6767, -136.5933,  2090,  509.900,    4.254,   34.023,2,   34.018,2,   38.700,2,   38.000,2,   93.940,2,   41.920,2,    0.020,2,    3.020,2,    0.974,2,    0.447,2, -999.000,9, -999.000,9, -999.000,9
           NA,    P17N,    144,   1,-999.0,      21,  2,19930621,1555,  56.6767, -136.5933,  2090,  559.600,    4.225,   34.073,2,   34.071,2,   32.700,2,   31.900,2,   99.150,2,   42.250,2,    0.020,2,    3.040,2, -999.000,9, -999.000,9, -999.000,9, -999.000,9, -999.000,9
           NA,    P17N,    144,   1,-999.0,      22,  2,19930621,1555,  56.6767, -136.5933,  2090,  610.100,    4.063,   34.112,2,   34.110,2,   27.100,2,   26.300,2,  105.180,2,   42.800,2,    0.020,2,    3.080,2,    0.434,2,    0.224,2, -999.000,9, -999.000,9, -999.000,9
           NA,    P17N,    144,   1,-999.0,      23,  2,19930621,1555,  56.6767, -136.5933,  2090,  710.200,    3.811,   34.182,2,   34.180,2,   20.500,2,   20.400,2,  115.330,2,   43.350,2,    0.020,2,    3.120,2, -999.000,9, -999.000,9, -999.000,9, -999.000,9, -999.000,9
           NA,    P17N,    144,   1,-999.0,      24,  2,19930621,1555,  56.6767, -136.5933,  2090,  810.800,    3.527,   34.252,2,   34.251,2,   17.600,2,   17.000,2,  126.120,2,   43.680,2,    0.020,2,    3.150,2,    0.115,2,    0.059,2, -999.000,9, -999.000,9, -999.000,9
           NA,    P17N,    144,   1,-999.0,      25,  2,19930621,1555,  56.6767, -136.5933,  2090,  912.200,    3.321,   34.300,2,   34.300,2,   16.400,2,   15.900,2,  133.650,2,   43.840,2,    0.020,2,    3.160,2, -999.000,9, -999.000,9, -999.000,9, -999.000,9, -999.000,9
           NA,    P17N,    144,   1,-999.0,      26,  2,19930621,1555,  56.6767, -136.5933,  2090, 1014.400,    3.115,   34.342,2,   34.341,2,   16.100,2,   16.200,2,  141.000,2,   43.950,2,    0.020,2,    3.160,2,    0.034,2,    0.021,2, -999.000,9, -999.000,9, -999.000,9
           NA,    P17N,    144,   1,-999.0,      27,  2,19930621,1555,  56.6767, -136.5933,  2090, 1117.300,    2.925,   34.384,2,   34.382,2,   16.600,2,   16.500,2,  147.120,2,   44.110,2,    0.020,2,    3.160,2, -999.000,9, -999.000,9, -999.000,9, -999.000,9, -999.000,9
           NA,    P17N,    144,   1,-999.0,      28,  2,19930621,1555,  56.6767, -136.5933,  2090, 1219.000,    2.778,   34.411,2,   34.410,2,   17.400,2,   17.200,2,  152.010,2,   44.160,2,    0.020,2,    3.160,2,    0.004,2,    0.004,2, -999.000,9, -999.000,9, -999.000,9
           NA,    P17N,    144,   1,-999.0,      29,  2,19930621,1555,  56.6767, -136.5933,  2090, 1320.700,    2.621,   34.442,2,   34.442,2,   19.600,2,   19.400,2,  157.130,2,   44.090,2,    0.020,2,    3.150,2, -999.000,9, -999.000,9, -999.000,9, -999.000,9, -999.000,9
           NA,    P17N,    144,   1,-999.0,      30,  2,19930621,1555,  56.6767, -136.5933,  2090, 1420.200,    2.468,   34.474,2,   34.473,2,   23.400,2,   24.100,2,  161.830,2,   43.870,2,    0.020,2,    3.120,2, -999.000,9, -999.000,9, -999.000,9, -999.000,9, -999.000,9
           NA,    P17N,    144,   1,-999.0,      31,  2,19930621,1555,  56.6767, -136.5933,  2090, 1519.800,    2.328,   34.502,2,   34.501,2,   28.200,2,   29.400,2,  165.500,2,   43.580,2,    0.020,2,    3.100,2, -999.000,9, -999.000,9, -999.000,9, -999.000,9, -999.000,9
           NA,    P17N,    144,   1,-999.0,      32,  2,19930621,1555,  56.6767, -136.5933,  2090, 1619.000,    2.219,   34.524,2,   34.524,2,   34.000,2,   35.300,2,  168.540,2,   43.300,2,    0.020,2,    3.070,2, -999.000,9, -999.000,9, -999.000,9, -999.000,9, -999.000,9
           NA,    P17N,    144,   1,-999.0,      33,  2,19930621,1555,  56.6767, -136.5933,  2090, 1717.900,    2.105,   34.547,2,   34.547,2,   40.600,2,   41.700,2,  171.380,2,   42.900,2,    0.020,2,    3.040,2, -999.000,9, -999.000,9, -999.000,9, -999.000,9, -999.000,9
           NA,    P17N,    144,   1,-999.0,      34,  2,19930621,1555,  56.6767, -136.5933,  2090, 1819.500,    2.034,   34.562,2,   34.562,2,   46.800,2,   47.800,2,  172.950,2,   42.500,2,    0.020,2,    3.010,2, -999.000,9, -999.000,9, -999.000,9, -999.000,9, -999.000,9
           NA,    P17N,    144,   1,-999.0,      38,  2,19930621,1555,  56.6767, -136.5933,  2090, 1921.900,    1.961,   34.578,2,   34.577,2,   54.300,2,   54.100,2,  174.100,2,   42.110,2,    0.020,2,    2.980,2, -999.000,9, -999.000,9, -999.000,9, -999.000,9, -999.000,9
           NA,    P17N,    144,   1,-999.0,      36,  2,19930621,1555,  56.6767, -136.5933,  2090, 2069.800,    1.848,   34.600,2,   34.600,2,   66.000,2,   65.600,2,  178.220,2,   41.260,2,    0.020,2,    2.940,2, -999.000,9, -999.000,9, -999.000,9, -999.000,9, -999.000,9
           NA,    P17N,    145,   1,-999.0,      14,  2,19930621,1955,  56.7527, -136.2073,  1497,    1.200,   12.649,   31.930,2,   31.931,2,  283.600,2,  289.100,2,   19.980,2,    1.280,2,    0.060,2,    0.550,2, -999.000,9, -999.000,9, -999.000,9, 1936.800,2, -999.000,9
           NA,    P17N,    145,   1,-999.0,      15,  2,19930621,1955,  56.7527, -136.2073,  1497,   28.800,    8.833,   32.142,2,   32.142,2,  304.000,2,  301.100,2,   20.100,2,    7.680,2,    0.190,2,    0.990,2, -999.000,9, -999.000,9, -999.000,9, 1994.100,2, -999.000,9
           NA,    P17N,    145,   1,-999.0,      16,  2,19930621,1955,  56.7527, -136.2073,  1497,   53.700,    7.673,   32.285,2,   32.285,2,  284.300,2,  286.100,2,   19.820,2,   11.200,2,    0.360,2,    1.180,2, -999.000,9, -999.000,9, -999.000,9, 2016.700,2, -999.000,9
           NA,    P17N,    145,   1,-999.0,      17,  2,19930621,1955,  56.7527, -136.2073,  1497,   79.500,    7.259,   32.358,2,   32.359,2,  288.700,2,  288.400,2,   18.730,2,   11.470,2,    0.260,2,    1.200,2, -999.000,9, -999.000,9, -999.000,9, 2019.400,2, -999.000,9
           NA,    P17N,    145,   1,-999.0,      18,  2,19930621,1955,  56.7527, -136.2073,  1497,  104.600,    6.675,   32.398,2,   32.403,2,  281.400,2,  280.600,2,   20.890,2,   13.700,2,    0.090,2,    1.310,2, -999.000,9, -999.000,9, -999.000,9, 2033.700,2, -999.000,9
           NA,    P17N,    145,   1,-999.0,      19,  2,19930621,1955,  56.7527, -136.2073,  1497,  129.800,    6.418,   32.599,2,   32.579,2,  254.600,2,  250.200,2,   27.730,2,   17.820,2,    0.040,2,    1.550,2, -999.000,9, -999.000,9, -999.000,9, 2067.700,2, -999.000,9
           NA,    P17N,    145,   1,-999.0,      20,  2,19930621,1955,  56.7527, -136.2073,  1497,  154.900,    6.606,   32.928,2,   32.917,2,  202.500,2,  202.700,2,   35.990,2,   22.870,2,    0.050,2,    1.850,2, -999.000,9, -999.000,9, -999.000,9, 2115.800,2, -999.000,9
           NA,    P17N,    145,   1,-999.0,      21,  2,19930621,1955,  56.7527, -136.2073,  1497,  180.500,    6.468,   33.310,2,   33.307,2,  168.600,2,  171.700,2,   40.780,2,   26.360,2,    0.030,2,    2.050,2, -999.000,9, -999.000,9, -999.000,9, 2153.600,2, -999.000,9
           NA,    P17N,    145,   1,-999.0,      22,  2,19930621,1955,  56.7527, -136.2073,  1497,  205.100,    6.188,   33.452,2,   33.458,2,  162.100,2,  163.100,2,   43.550,2,   27.940,2,    0.030,2,    2.120,2, -999.000,9, -999.000,9, -999.000,9, 2170.300,2, -999.000,9
           NA,    P17N,    145,   1,-999.0,      23,  2,19930621,1955,  56.7527, -136.2073,  1497,  256.000,    5.811,   33.775,2,   33.778,2,  124.200,2,  126.800,2,   53.430,2,   32.080,2,    0.020,2,    2.340,2, -999.000,9, -999.000,9, -999.000,9, 2211.500,2, -999.000,9
           NA,    P17N,    145,   1,-999.0,      24,  2,19930621,1955,  56.7527, -136.2073,  1497,  305.800,    5.219,   33.833,2,   33.832,2,  107.900,2,  112.000,2,   61.490,2,   34.420,2,    0.030,2,    2.490,2, -999.000,9, -999.000,9, -999.000,9, 2233.300,2, -999.000,9
           NA,    P17N,    145,   1,-999.0,      25,  2,19930621,1955,  56.7527, -136.2073,  1497,  357.400,    4.755,   33.878,2,   33.877,2,   82.600,2,   83.700,2,   72.410,2,   37.610,2,    0.020,2,    2.710,2, -999.000,9, -999.000,9, -999.000,9, 2262.300,2, -999.000,9
           NA,    P17N,    145,   1,-999.0,      26,  2,19930621,1955,  56.7527, -136.2073,  1497,  408.400,    4.365,   33.914,2,   33.913,2,   61.900,2,   62.800,2,   82.320,2,   39.980,2,    0.020,2,    2.870,2, -999.000,9, -999.000,9, -999.000,9, 2290.300,2, -999.000,9
           NA,    P17N,    145,   1,-999.0,      27,  2,19930621,1955,  56.7527, -136.2073,  1497,  510.000,    4.260,   34.040,2,   34.036,2,   36.700,2,   35.600,2,   95.110,2,   41.970,2,    0.020,2,    3.030,2, -999.000,9, -999.000,9, -999.000,9, 2315.100,2, -999.000,9
           NA,    P17N,    145,   1,-999.0,      28,  2,19930621,1955,  56.7527, -136.2073,  1497,  610.200,    3.994,   34.117,2,   34.117,2,   24.600,2,   24.100,2,  106.910,2,   42.970,2,    0.020,2,    3.100,2, -999.000,9, -999.000,9, -999.000,9, 2333.700,2, -999.000,9
           NA,    P17N,    145,   1,-999.0,      29,  2,19930621,1955,  56.7527, -136.2073,  1497,  709.300,    3.791,   34.199,2,   34.196,2,   18.800,2,   18.100,2,  116.480,2,   43.350,2,    0.010,2,    3.130,2, -999.000,9, -999.000,9, -999.000,9, 2347.900,2, -999.000,9
           NA,    P17N,    145,   1,-999.0,      30,  2,19930621,1955,  56.7527, -136.2073,  1497,  810.000,    3.549,   34.245,2,   34.244,2,   15.800,2,   15.900,2,  125.470,2,   43.680,2,    0.010,2,    3.150,2, -999.000,9, -999.000,9, -999.000,9, 2353.200,2, -999.000,9
           NA,    P17N,    145,   1,-999.0,      31,  2,19930621,1955,  56.7527, -136.2073,  1497,  911.800,    3.369,   34.281,2,   34.280,2,   15.600,2,   15.700,2,  131.800,2,   43.730,2,    0.010,2,    3.160,2, -999.000,9, -999.000,9, -999.000,9, 2363.700,2, -999.000,9
           NA,    P17N,    145,   1,-999.0,      32,  2,19930621,1955,  56.7527, -136.2073,  1497, 1015.000,    3.187,   34.330,2,   34.329,2,   14.100,2,   14.400,2,  138.560,2,   43.950,2,    0.010,2,    3.170,2, -999.000,9, -999.000,9, -999.000,9, 2372.200,2, -999.000,9
           NA,    P17N,    145,   1,-999.0,      33,  2,19930621,1955,  56.7527, -136.2073,  1497, 1117.100,    2.966,   34.377,2,   34.377,2,   14.500,2,   14.700,2,  146.590,2,   44.060,2,    0.010,2,    3.170,2, -999.000,9, -999.000,9, -999.000,9, 2382.300,2, -999.000,9
           NA,    P17N,    145,   1,-999.0,      34,  2,19930621,1955,  56.7527, -136.2073,  1497, 1317.800,    2.630,   34.443,2,   34.441,2,   18.200,2,   18.100,2,  157.170,2,   44.060,2,    0.010,2,    3.150,2, -999.000,9, -999.000,9, -999.000,9, 2391.000,2, -999.000,9
           NA,    P17N,    145,   1,-999.0,      38,  2,19930621,1955,  56.7527, -136.2073,  1497, 1417.300,    2.476,   34.474,2,   34.472,2,   22.800,2,   22.800,2,  161.710,2,   43.830,2,    0.020,2,    3.130,2, -999.000,9, -999.000,9, -999.000,9, 2392.400,2, -999.000,9
           NA,    P17N,    145,   1,-999.0,      36,  2,19930621,1955,  56.7527, -136.2073,  1497, 1499.400,    2.366,   34.496,2,   34.495,2,   28.100,2,   28.200,2,  164.140,2,   43.540,2,    0.020,2,    3.100,2, -999.000,9, -999.000,9, -999.000,9, 2393.200,2, -999.000,9