BOTTLE,20214410JOAExport
EXPOCODE,SECT_ID,STNNBR,CASTNO,SAMPNO,BTLNBR,BTLNBR_FLAG_W,DATE,TIME,LATITUDE,LONGITUDE,DEPTH,CTDPRS,CTDTMP,CTDSAL,CTDSAL_FLAG_W,SALNTY,SALNTY_FLAG_W,CTDOXY,CTDOXY_FLAG_W,OXYGEN,OXYGEN_FLAG_W,SILCAT,SILCAT_FLAG_W,NITRAT,NITRAT_FLAG_W,NITRIT,NITRIT_FLAG_W,PHSPHT,PHSPHT_FLAG_W,CFC-11,CFC-11_FLAG_W,CFC-12,CFC-12_FLAG_W,SF6,SF6_FLAG_W,TCARBN,TCARBN_FLAG_W,ALKALI,ALKALI_FLAG_W
,,,,,,,,,,,,DB,ITS-90,PSS-78,,PSS-78,,UMOL/KG,,UMOL/KG,,UMOL/KG,,UMOL/KG,,UMOL/KG,,UMOL/KG,,PMOL/KG,,PMOL/KG,,PMOL/KG,,UMOL/KG,,UMOL/KG
           NA,    P17N,    126,   1,-999.0,       1,  2,19930616,1143,  53.9000, -151.6400,  4502,    3.000,    7.336,   32.550,2,   32.551,2,  305.000,2,  311.000,2,   28.120,2,   13.320,2,    0.160,2,    1.270,2,    5.050,2,    2.438,2, -999.000,9, -999.000,9, -999.000,9
           NA,    P17N,    126,   1,-999.0,       2,  2,19930616,1143,  53.9000, -151.6400,  4502,   30.600,    7.160,   32.558,2,   32.557,2,  307.200,2,  311.800,2,   28.460,2,   13.430,2,    0.170,2,    1.270,2,    5.078,2,    2.428,2, -999.000,9, -999.000,9, -999.000,9
           NA,    P17N,    126,   1,-999.0,       3,  2,19930616,1143,  53.9000, -151.6400,  4502,   55.300,    5.102,   32.614,2,   32.609,2,  305.100,2,  313.700,2,   28.800,2,   14.820,2,    0.260,2,    1.380,2, -999.000,9, -999.000,9, -999.000,9, -999.000,9, -999.000,9
           NA,    P17N,    126,   1,-999.0,       4,  2,19930616,1143,  53.9000, -151.6400,  4502,   81.400,    3.987,   32.713,2,   32.716,2,  295.300,2,  303.900,2,   31.290,2,   18.110,2,    0.110,2,    1.560,2,    5.493,2,    2.621,2, -999.000,9, -999.000,9, -999.000,9
           NA,    P17N,    126,   1,-999.0,       5,  2,19930616,1143,  53.9000, -151.6400,  4502,  106.100,    3.969, -999.000,4,   33.120,2, -999.000,9,  227.700,2,   46.430,2,   26.070,2,    0.020,2,    2.040,2,    4.431,2,    2.095,2, -999.000,9, -999.000,9, -999.000,9
           NA,    P17N,    126,   1,-999.0,       6,  2,19930616,1143,  53.9000, -151.6400,  4502,  131.600,    4.040, -999.000,4,   33.381,2, -999.000,9,  174.700,2,   57.490,2,   31.240,2,    0.010,2,    2.350,2, -999.000,9, -999.000,9, -999.000,9, -999.000,9, -999.000,9
           NA,    P17N,    126,   1,-999.0,       7,  2,19930616,1143,  53.9000, -151.6400,  4502,  156.400,    4.031,   33.650,2,   33.653,2,  126.900,2,  115.200,2,   71.130,2,   36.710,2,    0.010,2,    2.690,2,    2.717,2,    1.261,2, -999.000,9, -999.000,9, -999.000,9
           NA,    P17N,    126,   1,-999.0,       8,  2,19930616,1143,  53.9000, -151.6400,  4502,  181.200,    3.941,   33.772,2,   33.770,2,   94.300,2,   84.900,2,   79.400,2,   39.510,2,    0.010,2,    2.860,2,    2.176,2,    1.086,2, -999.000,9, -999.000,9, -999.000,9
           NA,    P17N,    126,   1,-999.0,       9,  2,19930616,1143,  53.9000, -151.6400,  4502,  206.700,    3.931,   33.795,2,   33.796,2,   80.400,2,   77.200,2,   81.460,2,   40.100,2,    0.010,2,    2.900,2, -999.000,9, -999.000,9, -999.000,9, -999.000,9, -999.000,9
           NA,    P17N,    126,   1,-999.0,      10,  2,19930616,1143,  53.9000, -151.6400,  4502,  232.600,    3.925,   33.826,2,   33.830,2,   63.800,2,   65.700,2,   84.150,2,   41.080,2,    0.010,2,    2.960,2,    1.764,2,    0.796,2, -999.000,9, -999.000,9, -999.000,9
           NA,    P17N,    126,   1,-999.0,      11,  2,19930616,1143,  53.9000, -151.6400,  4502,  257.200,    3.865,   33.860,2,   33.856,2,   53.800,2,   56.900,2,   87.710,2,   41.840,2,    0.010,2,    3.010,2,    1.663,2,    0.743,2, -999.000,9, -999.000,9, -999.000,9
           NA,    P17N,    126,   1,-999.0,      12,  2,19930616,1143,  53.9000, -151.6400,  4502,  307.800,    3.841,   33.962,2,   33.963,2,   34.200,2,   30.200,2,   98.570,2,   43.750,2,    0.010,2,    3.120,2,    1.016,2,    0.449,2, -999.000,9, -999.000,9, -999.000,9
           NA,    P17N,    126,   1,-999.0,      13,  2,19930616,1143,  53.9000, -151.6400,  4502,  359.000,    3.883,   34.030,2,   34.030,2,   27.700,2,   23.700,2,  103.630,2,   43.910,2,    0.010,2,    3.150,2,    0.658,2,    0.300,2, -999.000,9, -999.000,9, -999.000,9
           NA,    P17N,    126,   1,-999.0,      14,  2,19930616,1143,  53.9000, -151.6400,  4502,  409.500,    3.827,   34.083,2,   34.081,2,   24.500,2,   21.800,2,  108.910,2,   43.960,2,    0.010,2,    3.160,2,    0.452,2,    0.199,2, -999.000,9, -999.000,9, -999.000,9
           NA,    P17N,    126,   1,-999.0,      15,  2,19930616,1143,  53.9000, -151.6400,  4502,  459.600,    3.762,   34.124,2,   34.120,2,   22.100,2,   20.100,2,  113.340,2,   43.850,2,    0.000,2,    3.150,2,    0.327,2,    0.154,2, -999.000,9, -999.000,9, -999.000,9
           NA,    P17N,    126,   1,-999.0,      16,  2,19930616,1143,  53.9000, -151.6400,  4502,  561.500,    3.611,   34.185,2,   34.183,2,   18.800,2,   17.100,2,  120.790,2,   43.900,2,    0.000,2,    3.150,2,    0.179,2,    0.081,2, -999.000,9, -999.000,9, -999.000,9
           NA,    P17N,    126,   1,-999.0,      17,  2,19930616,1143,  53.9000, -151.6400,  4502,  661.200,    3.430,   34.243,2,   34.242,2,   17.100,2,   15.600,2,  128.680,2,   43.950,2,    0.000,2,    3.160,2,    0.093,2,    0.044,2, -999.000,9, -999.000,9, -999.000,9
           NA,    P17N,    126,   1,-999.0,      18,  2,19930616,1143,  53.9000, -151.6400,  4502,  764.100,    3.274,   34.285,2,   34.285,2,   16.000,2,   15.100,2,  134.650,2,   44.000,2,    0.000,2,    3.160,2,    0.052,2,    0.025,2, -999.000,9, -999.000,9, -999.000,9
           NA,    P17N,    126,   1,-999.0,      19,  2,19930616,1143,  53.9000, -151.6400,  4502,  864.900,    3.131,   34.322,2,   34.321,2,   15.400,2,   14.800,2,  139.750,2,   44.110,2,    0.010,2,    3.170,2,    0.031,2,    0.013,2, -999.000,9, -999.000,9, -999.000,9
           NA,    P17N,    126,   1,-999.0,      20,  2,19930616,1143,  53.9000, -151.6400,  4502,  965.800,    2.938,   34.368,2,   34.366,2,   15.600,2,   16.100,2,  146.830,2,   44.100,2,    0.000,2,    3.180,2,    0.013,2,    0.015,2, -999.000,9, -999.000,9, -999.000,9
           NA,    P17N,    126,   1,-999.0,      21,  2,19930616,1143,  53.9000, -151.6400,  4502, 1169.600,    2.617,   34.436,2,   34.435,2,   18.400,2,   19.400,2,  156.990,2,   44.100,2,    0.000,2,    3.160,2,    0.006,2,   -0.006,2, -999.000,9, -999.000,9, -999.000,9
           NA,    P17N,    126,   1,-999.0,      22,  2,19930616,1143,  53.9000, -151.6400,  4502, 1371.100,    2.328,   34.496,2,   34.496,2,   27.600,2,   29.700,2,  165.000,2,   43.550,2,    0.000,2,    3.110,2,   -0.002,2,    0.014,2, -999.000,9, -999.000,9, -999.000,9
           NA,    P17N,    126,   1,-999.0,      23,  2,19930616,1143,  53.9000, -151.6400,  4502, 1573.700,    2.108,   34.543,2,   34.542,2,   40.500,2,   42.600,2,  169.740,2,   42.780,2,    0.000,2,    3.060,2,   -0.003,2,   -0.008,2, -999.000,9, -999.000,9, -999.000,9
           NA,    P17N,    126,   1,-999.0,      24,  2,19930616,1143,  53.9000, -151.6400,  4502, 1776.000,    1.901,   34.584,2,   34.585,2, -999.000,3,   61.100,2,  172.720,2,   41.790,2,    0.000,2,    2.970,2, -999.000,9, -999.000,9, -999.000,9, -999.000,9, -999.000,9
           NA,    P17N,    126,   1,-999.0,      25,  2,19930616,1143,  53.9000, -151.6400,  4502, 1980.700,    1.755,   34.613,2,   34.614,2, -999.000,3,   75.600,2,  173.720,2,   40.920,2,    0.000,2,    2.900,2, -999.000,9, -999.000,9, -999.000,9, -999.000,9, -999.000,9
           NA,    P17N,    126,   1,-999.0,      26,  2,19930616,1143,  53.9000, -151.6400,  4502, 2183.400,    1.684,   34.628,2,   34.630,2, -999.000,3,   85.300,2,  173.830,2,   40.320,2,    0.000,2,    2.860,2, -999.000,9, -999.000,9, -999.000,9, -999.000,9, -999.000,9
           NA,    P17N,    126,   1,-999.0,      27,  2,19930616,1143,  53.9000, -151.6400,  4502, 2388.800,    1.624,   34.639,2,   34.641,2, -999.000,3,   95.900,2,  173.060,2,   39.560,2,    0.000,2,    2.810,2, -999.000,9, -999.000,9, -999.000,9, -999.000,9, -999.000,9
           NA,    P17N,    126,   1,-999.0,      28,  2,19930616,1143,  53.9000, -151.6400,  4502, 2593.500,    1.573,   34.649,2,   34.650,2, -999.000,3,  105.700,2,  171.630,2,   38.960,2,    0.000,2,    2.760,2, -999.000,9, -999.000,9, -999.000,9, -999.000,9, -999.000,9
           NA,    P17N,    126,   1,-999.0,      29,  2,19930616,1143,  53.9000, -151.6400,  4502, 2798.100,    1.535,   34.657,2,   34.658,2, -999.000,3,  113.700,2,  170.410,2,   38.410,2,    0.010,2,    2.730,2, -999.000,9, -999.000,9, -999.000,9, -999.000,9, -999.000,9
           NA,    P17N,    126,   1,-999.0,      30,  2,19930616,1143,  53.9000, -151.6400,  4502, 3002.800,    1.504,   34.664,2,   34.664,2,  122.400,2,  121.400,2,  169.420,2,   37.930,2,    0.010,2,    2.680,2, -999.000,9, -999.000,9, -999.000,9, -999.000,9, -999.000,9
           NA,    P17N,    126,   1,-999.0,      31,  2,19930616,1143,  53.9000, -151.6400,  4502, 3257.400,    1.473,   34.671,2,   34.672,2,  130.600,2,  130.200,2,  168.210,2,   37.330,2,    0.010,2,    2.630,2, -999.000,9, -999.000,9, -999.000,9, -999.000,9, -999.000,9
           NA,    P17N,    126,   1,-999.0,      32,  2,19930616,1143,  53.9000, -151.6400,  4502, 3511.600,    1.462,   34.675,2,   34.676,2,  136.700,2,  135.700,2,  167.890,2,   37.000,2,    0.010,2,    2.610,2, -999.000,9, -999.000,9, -999.000,9, -999.000,9, -999.000,9
           NA,    P17N,    126,   1,-999.0,      33,  2,19930616,1143,  53.9000, -151.6400,  4502, 3766.100,    1.461,   34.679,2,   34.680,2,  140.300,2,  139.900,2,  167.120,2,   36.730,2,    0.010,2,    2.580,2, -999.000,9, -999.000,9, -999.000,9, -999.000,9, -999.000,9
           NA,    P17N,    126,   1,-999.0,      34,  2,19930616,1143,  53.9000, -151.6400,  4502, 4020.600,    1.468,   34.682,2,   34.683,2,  143.800,2,  143.200,2,  166.130,2,   36.620,2,    0.010,2,    2.570,2, -999.000,9, -999.000,9, -999.000,9, -999.000,9, -999.000,9
           NA,    P17N,    126,   1,-999.0,      38,  2,19930616,1143,  53.9000, -151.6400,  4502, 4277.000,    1.482,   34.684,2,   34.684,2,  146.500,2,  145.900,2,  165.590,2,   36.240,2,    0.010,2,    2.550,2, -999.000,9, -999.000,9, -999.000,9, -999.000,9, -999.000,9
           NA,    P17N,    126,   1,-999.0,      36,  2,19930616,1143,  53.9000, -151.6400,  4502, 4559.400,    1.503,   34.684,2,   34.686,2,  148.400,2,  148.200,2,  164.160,2,   36.130,2,    0.010,2,    2.530,2, -999.000,9, -999.000,9, -999.000,9, -999.000,9, -999.000,9