BOTTLE,20214410JOAExport
EXPOCODE,SECT_ID,STNNBR,CASTNO,SAMPNO,BTLNBR,BTLNBR_FLAG_W,DATE,TIME,LATITUDE,LONGITUDE,DEPTH,CTDPRS,CTDTMP,CTDSAL,CTDSAL_FLAG_W,SALNTY,SALNTY_FLAG_W,CTDOXY,CTDOXY_FLAG_W,OXYGEN,OXYGEN_FLAG_W,SILCAT,SILCAT_FLAG_W,NITRAT,NITRAT_FLAG_W,NITRIT,NITRIT_FLAG_W,PHSPHT,PHSPHT_FLAG_W,CFC-11,CFC-11_FLAG_W,CFC-12,CFC-12_FLAG_W,SF6,SF6_FLAG_W,TCARBN,TCARBN_FLAG_W,ALKALI,ALKALI_FLAG_W
,,,,,,,,,,,,DB,ITS-90,PSS-78,,PSS-78,,UMOL/KG,,UMOL/KG,,UMOL/KG,,UMOL/KG,,UMOL/KG,,UMOL/KG,,PMOL/KG,,PMOL/KG,,PMOL/KG,,UMOL/KG,,UMOL/KG
           NA,    P17N,    123,   1,-999.0,       1,  2,19930615,1707,  53.4440, -154.0412,  4522,    3.000,    8.492,   32.552,2,   32.555,2,  305.000,2,  306.100,2,   28.300,2,   13.330,2,    0.190,2,    1.250,2,    4.933,2,    2.354,2, -999.000,9, -999.000,9, -999.000,9
           NA,    P17N,    123,   1,-999.0,       2,  2,19930615,1707,  53.4440, -154.0412,  4522,   30.500,    6.531,   32.545,2,   32.548,2,  308.500,2,  316.800,2,   28.210,2,   13.210,2,    0.150,2,    1.240,2, -999.000,9, -999.000,9, -999.000,9, -999.000,9, -999.000,9
           NA,    P17N,    123,   1,-999.0,       3,  2,19930615,1707,  53.4440, -154.0412,  4522,   55.400,    5.661,   32.589,2,   32.590,2,  311.900,2,  314.000,2,   28.120,2,   14.350,2,    0.230,2,    1.350,2,    5.211,2,    2.520,2, -999.000,9, -999.000,9, -999.000,9
           NA,    P17N,    123,   1,-999.0,       4,  2,19930615,1707,  53.4440, -154.0412,  4522,   79.900,    4.065,   32.691,2,   32.704,2,  304.900,2,  306.400,2,   30.130,2,   17.640,2,    0.120,2,    1.530,2, -999.000,9, -999.000,9, -999.000,9, -999.000,9, -999.000,9
           NA,    P17N,    123,   1,-999.0,       5,  2,19930615,1707,  53.4440, -154.0412,  4522,  105.700,    3.972,   32.998,2,   33.012,2,  243.000,2,  250.900,2,   40.970,2,   23.660,2,    0.030,2,    1.890,2,    4.751,2,    2.295,2, -999.000,9, -999.000,9, -999.000,9
           NA,    P17N,    123,   1,-999.0,       6,  2,19930615,1707,  53.4440, -154.0412,  4522,  130.700,    4.087,   33.638,2,   33.642,2,  128.700,2,  115.600,2,   68.820,2,   36.440,2,    0.010,2,    2.650,2, -999.000,9, -999.000,9, -999.000,9, -999.000,9, -999.000,9
           NA,    P17N,    123,   1,-999.0,       7,  2,19930615,1707,  53.4440, -154.0412,  4522,  156.600,    3.692,   33.734,2,   33.735,2,   94.200,2,   98.000,2,   77.780,2,   38.700,2,    0.010,2,    2.800,2,    2.010,2,    1.060,2, -999.000,9, -999.000,9, -999.000,9
           NA,    P17N,    123,   1,-999.0,       8,  2,19930615,1707,  53.4440, -154.0412,  4522,  181.500,    3.747,   33.821,2,   33.822,2,   65.900,2,   69.100,2,   84.630,2,   40.760,2,    0.010,2,    2.930,2,    1.747,2,    0.856,2, -999.000,9, -999.000,9, -999.000,9
           NA,    P17N,    123,   1,-999.0,       9,  2,19930615,1707,  53.4440, -154.0412,  4522,  207.300,    3.721,   33.864,2,   33.867,2,   56.100,2,   56.900,2,   89.380,2,   41.850,2,    0.010,2,    2.990,2,    1.655,2,    0.762,2, -999.000,9, -999.000,9, -999.000,9
           NA,    P17N,    123,   1,-999.0,      10,  2,19930615,1707,  53.4440, -154.0412,  4522,  232.200,    3.741,   33.896,2,   33.899,2,   47.200,2,   49.700,2,   92.250,2,   42.240,2,    0.010,2,    3.020,2,    1.451,2,    0.647,2, -999.000,9, -999.000,9, -999.000,9
           NA,    P17N,    123,   1,-999.0,      11,  2,19930615,1707,  53.4440, -154.0412,  4522,  257.400,    3.812,   33.947,2,   33.950,2,   32.600,2,   32.800,2,   96.160,2,   42.960,2,    0.010,2,    3.080,2,    1.106,2,    0.479,2, -999.000,9, -999.000,9, -999.000,9
           NA,    P17N,    123,   1,-999.0,      12,  2,19930615,1707,  53.4440, -154.0412,  4522,  307.200,    3.885,   34.016,2,   34.021,2,   27.300,2,   24.900,2,  101.130,2,   43.450,2,    0.010,2,    3.100,2,    0.693,2,    0.313,2, -999.000,9, -999.000,9, -999.000,9
           NA,    P17N,    123,   1,-999.0,      13,  2,19930615,1707,  53.4440, -154.0412,  4522,  408.500,    3.740,   34.107,2,   34.110,2,   22.300,2,   21.700,2,  110.970,2,   43.410,2,    0.010,2,    3.110,2,    0.322,2,    0.187,2, -999.000,9, -999.000,9, -999.000,9
           NA,    P17N,    123,   1,-999.0,      14,  2,19930615,1707,  53.4440, -154.0412,  4522,  509.500,    3.575,   34.184,2,   34.188,2,   18.800,2,   18.500,2,  119.980,2,   43.520,2,    0.010,2,    3.110,2, -999.000,9, -999.000,9, -999.000,9, -999.000,9, -999.000,9
           NA,    P17N,    123,   1,-999.0,      15,  2,19930615,1707,  53.4440, -154.0412,  4522,  610.400,    3.395,   34.245,2,   34.246,2,   17.100,2,   16.900,2,  126.040,2,   43.580,2,    0.010,2,    3.120,2,    0.107,2,    0.094,2, -999.000,9, -999.000,9, -999.000,9
           NA,    P17N,    123,   1,-999.0,      16,  2,19930615,1707,  53.4440, -154.0412,  4522,  711.400,    3.206,   34.295,2,   34.295,2,   16.600,2,   15.900,2,  134.250,2,   43.590,2,    0.010,2,    3.130,2,    0.062,2,    0.049,2, -999.000,9, -999.000,9, -999.000,9
           NA,    P17N,    123,   1,-999.0,      17,  2,19930615,1707,  53.4440, -154.0412,  4522,  812.900,    3.038,   34.340,2,   34.338,2,   16.700,2, -999.000,5,  140.130,2,   43.650,2,    0.010,2,    3.130,2,    0.032,2,    0.017,2, -999.000,9, -999.000,9, -999.000,9
           NA,    P17N,    123,   1,-999.0,      18,  2,19930615,1707,  53.4440, -154.0412,  4522,  914.300,    2.877,   34.377,2,   34.377,2,   16.600,2,   16.600,2,  145.600,2,   43.720,2,    0.010,2,    3.130,2,    0.015,2,    0.009,2, -999.000,9, -999.000,9, -999.000,9
           NA,    P17N,    123,   1,-999.0,      19,  2,19930615,1707,  53.4440, -154.0412,  4522, 1015.700,    2.723,   34.410,2,   34.410,2,   18.100,2,   19.400,2,  150.450,2,   43.720,2,    0.010,2,    3.120,2,    0.010,2,    0.006,2, -999.000,9, -999.000,9, -999.000,9
           NA,    P17N,    123,   1,-999.0,      20,  2,19930615,1707,  53.4440, -154.0412,  4522, 1320.600,    2.332,   34.493,2,   34.493,2,   28.200,2,   29.200,2,  161.120,2,   43.130,2,    0.010,2,    3.070,2,    0.000,2,    0.002,2, -999.000,9, -999.000,9, -999.000,9
           NA,    P17N,    123,   1,-999.0,      21,  2,19930615,1707,  53.4440, -154.0412,  4522, 1524.100,    2.134,   34.537,2,   34.537,2,   38.200,2,   40.600,2,  165.790,2,   42.640,2,    0.010,2,    3.020,2,    0.000,2,    0.000,2, -999.000,9, -999.000,9, -999.000,9
           NA,    P17N,    123,   1,-999.0,      22,  2,19930615,1707,  53.4440, -154.0412,  4522, 1728.400,    2.007,   34.565,2,   34.565,2,   49.800,2,   50.600,2,  168.090,2,   41.890,2,    0.010,2,    2.980,2,   -0.001,2,    0.017,2, -999.000,9, -999.000,9, -999.000,9
           NA,    P17N,    123,   1,-999.0,      23,  2,19930615,1707,  53.4440, -154.0412,  4522, 1932.100,    1.893,   34.590,2,   34.587,2,   61.500,2,   60.200,2,  169.520,2,   41.460,2,    0.010,2,    2.930,2, -999.000,9, -999.000,9, -999.000,9, -999.000,9, -999.000,9
           NA,    P17N,    123,   1,-999.0,      24,  2,19930615,1707,  53.4440, -154.0412,  4522, 2034.400,    1.841,   34.600,2,   34.600,2,   67.400,2,   66.900,2,  170.090,2,   41.140,2,    0.010,2,    2.910,2, -999.000,9, -999.000,9, -999.000,9, -999.000,9, -999.000,9
           NA,    P17N,    123,   1,-999.0,      25,  2,19930615,1707,  53.4440, -154.0412,  4522, 2136.400,    1.787,   34.610,2,   34.610,2,   72.800,2,   73.800,2,  170.430,2,   40.770,2,    0.010,2,    2.870,2, -999.000,9, -999.000,9, -999.000,9, -999.000,9, -999.000,9
           NA,    P17N,    123,   1,-999.0,      26,  2,19930615,1707,  53.4440, -154.0412,  4522, 2239.200,    1.752,   34.618,2,   34.617,2,   79.100,2,   78.700,2,  170.780,2,   40.340,2,    0.010,2,    2.850,2, -999.000,9, -999.000,9, -999.000,9, -999.000,9, -999.000,9
           NA,    P17N,    123,   1,-999.0,      27,  2,19930615,1707,  53.4440, -154.0412,  4522, 2443.900,    1.678,   34.631,2,   34.631,2,   89.600,2,   89.600,2,  170.690,2,   39.750,2,    0.010,2,    2.790,2, -999.000,9, -999.000,9, -999.000,9, -999.000,9, -999.000,9
           NA,    P17N,    123,   1,-999.0,      28,  2,19930615,1707,  53.4440, -154.0412,  4522, 2648.700,    1.622,   34.642,2,   34.643,2,  100.400,2,  100.800,2,  169.730,2,   39.110,2,    0.010,2,    2.740,2, -999.000,9, -999.000,9, -999.000,9, -999.000,9, -999.000,9
           NA,    P17N,    123,   1,-999.0,      29,  2,19930615,1707,  53.4440, -154.0412,  4522, 2853.300,    1.571,   34.652,2,   34.652,2,  110.400,2,  109.000,2,  168.770,2,   38.410,2,    0.010,2,    2.700,2, -999.000,9, -999.000,9, -999.000,9, -999.000,9, -999.000,9
           NA,    P17N,    123,   1,-999.0,      30,  2,19930615,1707,  53.4440, -154.0412,  4522, 3058.800,    1.534,   34.660,2,   34.660,2,  118.500,2,  118.100,2,  167.810,2,   37.880,2,    0.010,2,    2.660,2, -999.000,9, -999.000,9, -999.000,9, -999.000,9, -999.000,9
           NA,    P17N,    123,   1,-999.0,      31,  2,19930615,1707,  53.4440, -154.0412,  4522, 3314.500,    1.500,   34.667,2,   34.668,2,  128.000,2,  127.100,2,  165.990,2,   37.290,2,    0.010,2,    2.620,2, -999.000,9, -999.000,9, -999.000,9, -999.000,9, -999.000,9
           NA,    P17N,    123,   1,-999.0,      32,  2,19930615,1707,  53.4440, -154.0412,  4522, 3570.400,    1.483,   34.673,2, -999.000,3,  134.700,2,  132.900,2,  165.250,2,   36.810,2,    0.010,2,    2.580,2, -999.000,9, -999.000,9, -999.000,9, -999.000,9, -999.000,9
           NA,    P17N,    123,   1,-999.0,      33,  2,19930615,1707,  53.4440, -154.0412,  4522, 3826.200,    1.480,   34.676,2,   34.677,2,  140.100,2,  140.300,2,  164.940,2,   36.550,2,    0.010,2,    2.550,2, -999.000,9, -999.000,9, -999.000,9, -999.000,9, -999.000,9
           NA,    P17N,    123,   1,-999.0,      34,  2,19930615,1707,  53.4440, -154.0412,  4522, 4082.600,    1.482,   34.680,2,   34.681,2,  143.400,2,  142.500,2,  163.120,2,   36.230,2,    0.010,2,    2.520,2, -999.000,9, -999.000,9, -999.000,9, -999.000,9, -999.000,9
           NA,    P17N,    123,   1,-999.0,      38,  2,19930615,1707,  53.4440, -154.0412,  4522, 4339.500,    1.490,   34.684,2,   34.683,2,  146.700,2,  146.500,2,  162.600,2,   36.020,2,    0.010,2,    2.510,2, -999.000,9, -999.000,9, -999.000,9, -999.000,9, -999.000,9
           NA,    P17N,    123,   1,-999.0,      36,  2,19930615,1707,  53.4440, -154.0412,  4522, 4586.100,    1.494,   34.686,2,   34.686,2,  150.300,2,  150.700,2,  159.270,2,   35.700,2,    0.010,2,    2.480,2, -999.000,9, -999.000,9, -999.000,9, -999.000,9, -999.000,9