BOTTLE,20214410JOAExport
EXPOCODE,SECT_ID,STNNBR,CASTNO,SAMPNO,BTLNBR,BTLNBR_FLAG_W,DATE,TIME,LATITUDE,LONGITUDE,DEPTH,CTDPRS,CTDTMP,CTDSAL,CTDSAL_FLAG_W,SALNTY,SALNTY_FLAG_W,CTDOXY,CTDOXY_FLAG_W,OXYGEN,OXYGEN_FLAG_W,SILCAT,SILCAT_FLAG_W,NITRAT,NITRAT_FLAG_W,NITRIT,NITRIT_FLAG_W,PHSPHT,PHSPHT_FLAG_W,CFC-11,CFC-11_FLAG_W,CFC-12,CFC-12_FLAG_W,SF6,SF6_FLAG_W,TCARBN,TCARBN_FLAG_W,ALKALI,ALKALI_FLAG_W
,,,,,,,,,,,,DB,ITS-90,PSS-78,,PSS-78,,UMOL/KG,,UMOL/KG,,UMOL/KG,,UMOL/KG,,UMOL/KG,,UMOL/KG,,PMOL/KG,,PMOL/KG,,PMOL/KG,,UMOL/KG,,UMOL/KG
           NA,    P17N,    138,   1,-999.0,       1,  2,19930619,2123,  55.7812, -141.6163,  3147,    1.600,   12.248,   32.352,2,   32.356,2,  278.400,2,  283.300,2,   12.810,2,    6.270,2,    0.080,2,    0.880,2,    3.927,2,    2.011,2, -999.000,9, 1989.200,2, 2186.400,2
           NA,    P17N,    138,   1,-999.0,       2,  2,19930619,2123,  55.7812, -141.6163,  3147,   30.900,    7.139,   32.323,2,   32.333,2,  319.200,2,  319.000,2,   14.570,2,    8.640,2,    0.100,2,    1.030,2,    4.631,2,    2.405,2, -999.000,9, 2007.400,2, 2180.800,2
           NA,    P17N,    138,   1,-999.0,       3,  2,19930619,2123,  55.7812, -141.6163,  3147,   56.000,    6.509,   32.385,2,   32.388,2,  300.900,2,  301.100,2,   16.730,2,   10.710,2,    0.300,2,    1.190,2,    4.705,2,    2.478,2, -999.000,9, 2029.600,2, 2187.800,2
           NA,    P17N,    138,   1,-999.0,       4,  2,19930619,2123,  55.7812, -141.6163,  3147,   81.500,    5.963,   32.445,2,   32.439,2,  292.600,2,  295.300,2,   18.280,2,   12.950,2,    0.080,2,    1.260,2,    4.761,2,    2.472,2, -999.000,9, 2041.400,2, -999.000,3
           NA,    P17N,    138,   1,-999.0,       5,  2,19930619,2123,  55.7812, -141.6163,  3147,  106.400,    6.004, -999.000,4,   32.722,2, -999.000,9,  255.000,2,   26.570,2,   17.950,2,    0.010,2,    1.540,2, -999.000,9, -999.000,9, -999.000,9, 2077.900,2, 2210.600,2
           NA,    P17N,    138,   1,-999.0,       6,  2,19930619,2123,  55.7812, -141.6163,  3147,  131.700,    6.459,   33.181,2,   33.179,2,  194.500,2,  188.300,2,   37.520,2,   24.620,2,    0.010,2,    1.930,2,    3.601,2,    1.757,2, -999.000,9, 2148.700,2, 2227.400,2
           NA,    P17N,    138,   1,-999.0,       7,  2,19930619,2123,  55.7812, -141.6163,  3147,  156.900,    6.376,   33.514,2,   33.514,2,  155.700,2,  154.500,2,   43.970,2,   28.310,2,    0.010,2,    2.130,2, -999.000,9, -999.000,9, -999.000,9, -999.000,9, 2246.600,2
           NA,    P17N,    138,   1,-999.0,       8,  2,19930619,2123,  55.7812, -141.6163,  3147,  181.900,    6.099,   33.652,2,   33.652,2,  143.200,2,  145.100,2,   47.350,2,   29.780,2,    0.010,2,    2.210,2,    2.885,2,    1.457,2, -999.000,9, -999.000,9, 2256.800,2
           NA,    P17N,    138,   1,-999.0,       9,  2,19930619,2123,  55.7812, -141.6163,  3147,  207.300,    5.740,   33.738,2,   33.737,2,  133.400,2,  134.800,2,   52.160,2,   31.520,2,    0.010,2,    2.310,2, -999.000,9, -999.000,9, -999.000,9, -999.000,9, 2265.500,2
           NA,    P17N,    138,   1,-999.0,      10,  2,19930619,2123,  55.7812, -141.6163,  3147,  232.100,    5.673,   33.801,2,   33.812,2,  123.100,2,  122.900,2,   55.340,2,   32.390,2,    0.010,2,    2.360,2,    2.386,2,    1.162,2, -999.000,9, -999.000,9, -999.000,9
           NA,    P17N,    138,   1,-999.0,      11,  2,19930619,2123,  55.7812, -141.6163,  3147,  257.700,    5.406,   33.836,2,   33.837,2,  109.200,2,  113.900,2,   59.330,2,   33.870,2,    0.010,2,    2.450,2, -999.000,9, -999.000,9, -999.000,9, -999.000,9, -999.000,9
           NA,    P17N,    138,   1,-999.0,      12,  2,19930619,2123,  55.7812, -141.6163,  3147,  308.600,    5.056,   33.877,2,   33.878,2,   88.200,2,   91.500,2,   67.220,2,   36.440,2,    0.010,2,    2.610,2,    1.768,2,    0.836,2, -999.000,9, -999.000,9, -999.000,9
           NA,    P17N,    138,   1,-999.0,      13,  2,19930619,2123,  55.7812, -141.6163,  3147,  359.400,    4.824,   33.938,2,   33.938,2,   66.600,2,   67.000,2,   76.550,2,   38.690,2,    0.010,2,    2.770,2, -999.000,9, -999.000,9, -999.000,9, -999.000,9, -999.000,9
           NA,    P17N,    138,   1,-999.0,      14,  2,19930619,2123,  55.7812, -141.6163,  3147,  409.400,    4.622,   33.972,2,   33.972,2,   53.700,2,   52.800,2,   83.010,2,   40.120,2,    0.010,2,    2.880,2,    0.959,2,    0.462,2, -999.000,9, -999.000,9, -999.000,9
           NA,    P17N,    138,   1,-999.0,      15,  2,19930619,2123,  55.7812, -141.6163,  3147,  459.600,    4.481,   34.013,2,   34.013,2,   41.800,2,   42.700,2,   88.860,2,   41.110,2,    0.010,2,    2.950,2, -999.000,9, -999.000,9, -999.000,9, -999.000,9, -999.000,9
           NA,    P17N,    138,   1,-999.0,      16,  2,19930619,2123,  55.7812, -141.6163,  3147,  509.500,    4.139,   34.024,2,   34.023,2,   34.100,2,   35.700,2,   95.750,2,   42.110,2,    0.010,2,    3.030,2,    0.631,2,    0.316,2, -999.000,9, -999.000,9, -999.000,9
           NA,    P17N,    138,   1,-999.0,      17,  2,19930619,2123,  55.7812, -141.6163,  3147,  559.800,    4.037,   34.062,2,   34.062,2,   28.400,2,   29.200,2,  101.410,2,   42.720,2,    0.010,2,    3.060,2, -999.000,9, -999.000,9, -999.000,9, -999.000,9, -999.000,9
           NA,    P17N,    138,   1,-999.0,      18,  2,19930619,2123,  55.7812, -141.6163,  3147,  610.300,    3.916,   34.102,2,   34.102,2,   24.800,2,   24.500,2,  107.080,2,   43.100,2,    0.010,2,    3.090,2,    0.327,2,    0.179,2, -999.000,9, -999.000,9, -999.000,9
           NA,    P17N,    138,   1,-999.0,      19,  2,19930619,2123,  55.7812, -141.6163,  3147,  660.400,    3.811,   34.137,2,   34.137,2,   22.000,2,   21.800,2,  112.140,2,   43.270,2,    0.000,2,    3.110,2, -999.000,9, -999.000,9, -999.000,9, -999.000,9, -999.000,9
           NA,    P17N,    138,   1,-999.0,      20,  2,19930619,2123,  55.7812, -141.6163,  3147,  709.800,    3.724,   34.167,2,   34.164,2,   20.400,2,   20.200,2,  115.960,2,   43.320,2,    0.000,2,    3.110,2,    0.171,2,    0.108,2, -999.000,9, -999.000,9, -999.000,9
           NA,    P17N,    138,   1,-999.0,      21,  2,19930619,2123,  55.7812, -141.6163,  3147,  810.800,    3.562,   34.228,2,   34.227,2,   17.500,2,   17.500,2,  123.100,2,   43.490,2,    0.000,2,    3.130,2, -999.000,9, -999.000,9, -999.000,9, -999.000,9, -999.000,9
           NA,    P17N,    138,   1,-999.0,      22,  2,19930619,2123,  55.7812, -141.6163,  3147,  911.300,    3.312,   34.287,2,   34.287,2,   16.400,2,   16.100,2,  132.130,2,   43.700,2,    0.000,2,    3.140,2, -999.000,5, -999.000,5, -999.000,9, -999.000,9, -999.000,9
           NA,    P17N,    138,   1,-999.0,      23,  2,19930619,2123,  55.7812, -141.6163,  3147, 1012.400,    3.100,   34.330,2,   34.330,2,   16.500,2,   16.700,2,  139.310,2,   43.760,2,    0.010,2,    3.150,2,   -0.002,2,    0.013,2, -999.000,9, -999.000,9, -999.000,9
           NA,    P17N,    138,   1,-999.0,      24,  2,19930619,2123,  55.7812, -141.6163,  3147, 1113.400,    2.947,   34.370,2,   34.370,2,   15.200,2,   15.300,2,  145.060,2,   43.980,2,    0.010,2,    3.160,2,   -0.005,2, -999.000,4, -999.000,9, -999.000,9, -999.000,9
           NA,    P17N,    138,   1,-999.0,      25,  2,19930619,2123,  55.7812, -141.6163,  3147, 1214.400,    2.825,   34.396,2,   34.396,2,   15.600,2,   15.700,2,  149.140,2,   44.090,2,    0.010,2,    3.150,2,   -0.005,2,   -0.005,2, -999.000,9, -999.000,9, -999.000,9
           NA,    P17N,    138,   1,-999.0,      26,  2,19930619,2123,  55.7812, -141.6163,  3147, 1316.100,    2.680,   34.429,2,   34.429,2,   16.100,2,   16.500,2,  153.650,2,   44.080,2,    0.010,2,    3.150,2,   -0.004,2, -999.000,4, -999.000,9, -999.000,9, -999.000,9
           NA,    P17N,    138,   1,-999.0,      27,  2,19930619,2123,  55.7812, -141.6163,  3147, 1513.600,    2.452,   34.474,2,   34.475,2,   21.700,2,   22.100,2,  161.120,2,   43.910,2,    0.010,2,    3.120,2,   -0.004,2,   -0.008,2, -999.000,9, -999.000,9, -999.000,9
           NA,    P17N,    138,   1,-999.0,      28,  2,19930619,2123,  55.7812, -141.6163,  3147, 1709.900,    2.238,   34.520,2,   34.519,2,   31.700,2,   32.900,2,  167.140,2,   43.350,2,    0.010,2,    3.070,2, -999.000,9, -999.000,9, -999.000,9, -999.000,9, -999.000,9
           NA,    P17N,    138,   1,-999.0,      29,  2,19930619,2123,  55.7812, -141.6163,  3147, 1911.200,    2.056,   34.558,2,   34.558,2,   45.800,2,   45.500,2,  170.640,2,   42.630,2,    0.010,2,    3.020,2, -999.000,9, -999.000,9, -999.000,9, -999.000,9, -999.000,9
           NA,    P17N,    138,   1,-999.0,      30,  2,19930619,2123,  55.7812, -141.6163,  3147, 2117.600,    1.922,   34.585,2,   34.586,2,   59.600,2,   58.000,2,  172.650,2,   41.790,2,    0.010,2,    2.960,2, -999.000,9, -999.000,9, -999.000,9, -999.000,9, -999.000,9
           NA,    P17N,    138,   1,-999.0,      31,  2,19930619,2123,  55.7812, -141.6163,  3147, 2321.900,    1.825,   34.605,2,   34.606,2,   71.000,2,   69.300,2,  174.660,2,   41.180,2,    0.010,2,    2.900,2, -999.000,9, -999.000,9, -999.000,9, -999.000,9, -999.000,9
           NA,    P17N,    138,   1,-999.0,      32,  2,19930619,2123,  55.7812, -141.6163,  3147, 2525.700,    1.750,   34.620,2,   34.622,2,   80.600,2,   79.500,2,  175.610,2,   40.520,2,    0.000,2,    2.860,2, -999.000,9, -999.000,9, -999.000,9, -999.000,9, -999.000,9
           NA,    P17N,    138,   1,-999.0,      33,  2,19930619,2123,  55.7812, -141.6163,  3147, 2729.600,    1.684,   34.633,2,   34.634,2,   89.300,2,   89.800,2,  176.140,2,   39.910,2,    0.000,2,    2.800,2, -999.000,9, -999.000,9, -999.000,9, -999.000,9, -999.000,9
           NA,    P17N,    138,   1,-999.0,      34,  2,19930619,2123,  55.7812, -141.6163,  3147, 2935.900,    1.635,   34.644,2,   34.645,2,   99.800,2,   98.900,2,  175.590,2,   39.300,2,    0.000,2,    2.760,2, -999.000,9, -999.000,9, -999.000,9, -999.000,9, -999.000,9
           NA,    P17N,    138,   1,-999.0,      38,  2,19930619,2123,  55.7812, -141.6163,  3147, 3166.700,    1.563,   34.657,2,   34.659,2,  112.200,2,  112.400,2,  173.990,2,   38.480,2,    0.000,2,    2.700,2, -999.000,9, -999.000,9, -999.000,9, -999.000,9, -999.000,9
           NA,    P17N,    138,   1,-999.0,      36,  2,19930619,2123,  55.7812, -141.6163,  3147, 3298.800,    1.536,   34.663,2,   34.665,2,  117.800,2,  118.500,2,  174.080,2,   38.090,2,    0.000,2,    2.670,2, -999.000,9, -999.000,9, -999.000,9, -999.000,9, -999.000,9