BOTTLE,20214410JOAExport
# Exported from JOA (5.5.0 Final September 29th, 2020) on 2021/05/10 14:43:53
#BOTTLE,20171016JHS,,,,,,,,,,,,,,,,,,,,,,,,,,,,,,,,,,,,,,
#BOTTLE,20070517WHPSIOdm,,,,,,,,,,,,,,,,,,,,,,,,,,,,,,,,,,,,,,
EXPOCODE,SECT_ID,STNNBR,CASTNO,SAMPNO,BTLNBR,BTLNBR_FLAG_W,DATE,TIME,LATITUDE,LONGITUDE,DEPTH,CTDPRS,CTDTMP,CTDSAL,CTDSAL_FLAG_W,SALNTY,SALNTY_FLAG_W,CTDOXY,CTDOXY_FLAG_W,OXYGEN,OXYGEN_FLAG_W,SILCAT,SILCAT_FLAG_W,NITRAT,NITRAT_FLAG_W,NITRIT,NITRIT_FLAG_W,PHSPHT,PHSPHT_FLAG_W,CFC-11,CFC-11_FLAG_W,CFC-12,CFC-12_FLAG_W,SF6,SF6_FLAG_W,TCARBN,TCARBN_FLAG_W,ALKALI,ALKALI_FLAG_W
,,,,,,,,,,,,DB,ITS-90,PSS-78,,PSS-78,,UMOL/KG,,UMOL/KG,,UMOL/KG,,UMOL/KG,,UMOL/KG,,UMOL/KG,,PMOL/KG,,PMOL/KG,,PMOL/KG,,UMOL/KG,,UMOL/KG
           NA,    P17N,    121,   1,-999.0,       1,  2,19930615,0452,  53.1317, -155.6333,  4503,    2.000,    7.740,   32.496,2,   32.517,2,  328.800,2,  315.900,2,   24.110,2,   11.700,2,    0.150,2,    1.150,2,    4.942,2,    2.445,2, -999.000,9, 2017.800,2, 2204.500,2
           NA,    P17N,    121,   1,-999.0,       2,  2,19930615,0452,  53.1317, -155.6333,  4503,   30.300,    6.591,   32.532,2,   32.530,2,  293.900,2,  314.300,2,   26.140,2,   12.740,2,    0.160,2,    1.230,2,    4.992,2,    2.512,2, -999.000,9, 2026.500,2, 2212.600,2
           NA,    P17N,    121,   1,-999.0,       3,  2,19930615,0452,  53.1317, -155.6333,  4503,   55.500,    4.737,   32.620,2,   32.615,2,  260.300,2,  313.800,2,   28.170,2,   15.150,2,    0.310,2,    1.420,2,    5.339,2,    2.647,2, -999.000,9, 2049.900,2, 2202.500,2
           NA,    P17N,    121,   1,-999.0,       4,  2,19930615,0452,  53.1317, -155.6333,  4503,   81.100,    4.089,   32.902,2,   32.901,2,  216.700,2,  258.100,2,   37.420,2,   22.180,2,    0.030,2,    1.790,2,    4.706,2,    2.337,2, -999.000,9, -999.000,9, 2219.100,2
           NA,    P17N,    121,   1,-999.0,       5,  2,19930615,0452,  53.1317, -155.6333,  4503,  106.400,    4.091,   33.546,2,   33.550,2,  128.700,2,  136.300,2,   63.870,2,   34.420,2,    0.020,2,    2.540,2,    2.902,2,    1.396,2, -999.000,9, 2226.000,2, 2268.700,2
           NA,    P17N,    121,   1,-999.0,       6,  2,19930615,0452,  53.1317, -155.6333,  4503,  131.500,    4.241,   33.767,2,   33.764,2,   91.100,2,   91.300,2,   73.330,2,   37.760,2,    0.020,2,    2.740,2,    2.063,2,    0.983,2, -999.000,9, 2264.700,2, 2283.400,2
           NA,    P17N,    121,   1,-999.0,       7,  2,19930615,0452,  53.1317, -155.6333,  4503,  157.100,    4.071,   33.825,2,   33.823,2,   72.100,2,   72.700,2,   79.830,2,   39.630,2,    0.020,2,    2.850,2,    1.836,2,    0.870,2, -999.000,9, 2284.900,2, 2299.500,2
           NA,    P17N,    121,   1,-999.0,       8,  2,19930615,0452,  53.1317, -155.6333,  4503,  181.600,    3.866,   33.855,2,   33.853,2,   59.800,2,   56.500,2,   86.120,2,   41.410,2,    0.010,2,    2.970,2, -999.000,9, -999.000,9, -999.000,9, 2303.000,2, 2299.400,2
           NA,    P17N,    121,   1,-999.0,       9,  2,19930615,0452,  53.1317, -155.6333,  4503,  207.300,    3.879,   33.894,2,   33.890,2,   46.900,2,   46.000,2,   89.640,2,   42.170,2,    0.010,2,    3.020,2,    1.387,2,    0.661,2, -999.000,9, 2313.200,2, -999.000,3
           NA,    P17N,    121,   1,-999.0,      10,  2,19930615,0452,  53.1317, -155.6333,  4503,  257.400,    3.893,   33.961,2,   33.957,2,   29.200,2,   28.900,2,   96.150,2,   43.250,2,    0.010,2,    3.090,2, -999.000,9, -999.000,9, -999.000,9, 2328.100,2, -999.000,9
           NA,    P17N,    121,   1,-999.0,      11,  2,19930615,0452,  53.1317, -155.6333,  4503,  308.400,    3.910,   34.028,2,   34.025,2,   25.800,2,   22.100,2,  101.810,2,   43.530,2,    0.010,2,    3.110,2,    0.629,2,    0.289,2, -999.000,9, 2338.600,2, 2322.100,2
           NA,    P17N,    121,   1,-999.0,      12,  2,19930615,0452,  53.1317, -155.6333,  4503,  359.200,    3.837,   34.078,2,   34.075,2,   21.900,2,   20.900,2,  107.470,2,   43.320,2,    0.010,2,    3.110,2, -999.000,9, -999.000,9, -999.000,9, 2343.800,2, 2327.500,2
           NA,    P17N,    121,   1,-999.0,      13,  2,19930615,0452,  53.1317, -155.6333,  4503,  409.900,    3.770,   34.119,2,   34.115,2,   20.300,2,   18.800,2,  111.650,2,   43.330,2,    0.010,2,    3.110,2,    0.326,2,    0.156,2, -999.000,9, 2348.400,2, 2334.800,2
           NA,    P17N,    121,   1,-999.0,      14,  2,19930615,0452,  53.1317, -155.6333,  4503,  459.400,    3.693,   34.156,2,   34.154,2,   17.900,2,   17.400,2,  115.610,2,   43.340,2,    0.010,2,    3.110,2, -999.000,9, -999.000,9, -999.000,9, 2354.700,2, 2339.700,2
           NA,    P17N,    121,   1,-999.0,      15,  2,19930615,0452,  53.1317, -155.6333,  4503,  510.200,    3.600,   34.191,2,   34.189,2,   16.500,2,   18.200,2,  119.800,2,   43.400,2,    0.010,2,    3.110,2,    0.155,2,    0.075,2, -999.000,9, 2358.700,2, 2357.100,2
           NA,    P17N,    121,   1,-999.0,      16,  2,19930615,0452,  53.1317, -155.6333,  4503,  611.300,    3.410,   34.250,2,   34.248,2,   15.200,2,   18.000,2,  127.410,2,   43.350,2,    0.010,2,    3.120,2,    0.092,2,    0.044,2, -999.000,9, 2367.400,2, 2359.300,2
           NA,    P17N,    121,   1,-999.0,      17,  2,19930615,0452,  53.1317, -155.6333,  4503,  712.100,    3.213,   34.301,2,   34.300,2,   15.200,2,   14.400,2,  134.620,2,   43.520,2,    0.010,2,    3.130,2,    0.039,2,    0.020,2, -999.000,9, 2378.200,2, 2374.800,2
           NA,    P17N,    121,   1,-999.0,      18,  2,19930615,0452,  53.1317, -155.6333,  4503,  812.800,    3.016,   34.344,2,   34.342,2,   16.500,2,   16.100,2,  141.210,2,   43.360,2,    0.010,2,    3.120,2,    0.044,2, -999.000,4, -999.000,9, 2379.500,2, -999.000,9
           NA,    P17N,    121,   1,-999.0,      19,  2,19930615,0452,  53.1317, -155.6333,  4503,  913.600,    2.830,   34.385,2,   34.378,2,   19.900,2,   19.700,2,  146.940,2,   43.310,2,    0.010,2,    3.110,2,    0.029,2,    0.011,2, -999.000,9, 2384.900,2, 2389.700,2
           NA,    P17N,    121,   1,-999.0,      20,  2,19930615,0452,  53.1317, -155.6333,  4503, 1016.200,    2.706,   34.411,2,   34.406,2,   21.000,2,   21.300,2,  151.180,2,   43.370,2,    0.010,2,    3.100,2,    0.020,2,    0.019,2, -999.000,9, 2390.900,2, 2398.200,2
           NA,    P17N,    121,   1,-999.0,      21,  2,19930615,0452,  53.1317, -155.6333,  4503, 1220.100,    2.421,   34.475,2,   34.473,2,   24.500,2,   25.300,2,  160.210,2,   43.270,2,    0.010,2,    3.080,2,    0.004,2,    0.003,2, -999.000,9, 2397.200,2, 2408.800,2
           NA,    P17N,    121,   1,-999.0,      22,  2,19930615,0452,  53.1317, -155.6333,  4503, 1422.400,    2.228,   34.518,2,   34.516,2,   32.900,2,   33.400,2,  165.130,2,   42.730,2,    0.010,2,    3.050,2,   -0.005,2,    0.002,2, -999.000,9, -999.000,9, -999.000,9
           NA,    P17N,    121,   1,-999.0,      23,  2,19930615,0452,  53.1317, -155.6333,  4503, 1625.100,    2.049,   34.556,2,   34.554,2,   44.600,2,   46.000,2,  168.100,2,   42.090,2,    0.010,2,    2.990,2, -999.000,9, -999.000,9, -999.000,9, 2389.200,2, 2428.500,2
           NA,    P17N,    121,   1,-999.0,      24,  2,19930615,0452,  53.1317, -155.6333,  4503, 1830.700,    1.927,   34.582,2,   34.579,2,   55.700,2,   57.300,2,  169.750,2,   41.450,2,    0.010,2,    2.940,2, -999.000,9, -999.000,9, -999.000,9, -999.000,9, -999.000,9
           NA,    P17N,    121,   1,-999.0,      25,  2,19930615,0452,  53.1317, -155.6333,  4503, 2034.800,    1.831,   34.602,2,   34.601,2,   67.200,2,   68.200,2,  171.190,2,   40.810,2,    0.010,2,    2.880,2, -999.000,9, -999.000,9, -999.000,9, 2378.600,2, 2429.800,2
           NA,    P17N,    121,   1,-999.0,      26,  2,19930615,0452,  53.1317, -155.6333,  4503, 2235.500,    1.740,   34.620,2,   34.618,2,   79.700,2,   80.600,2,  170.870,2,   40.010,2,    0.010,2,    2.830,2,    0.001,2,   -0.007,2, -999.000,9, -999.000,9, -999.000,9
           NA,    P17N,    121,   1,-999.0,      27,  2,19930615,0452,  53.1317, -155.6333,  4503, 2439.800,    1.672,   34.634,2,   34.632,2,   91.300,2,   90.800,2,  169.900,2,   39.370,2,    0.010,2,    2.780,2, -999.000,9, -999.000,9, -999.000,9, 2366.600,2, 2451.900,2
           NA,    P17N,    121,   1,-999.0,      28,  2,19930615,0452,  53.1317, -155.6333,  4503, 2646.000,    1.609,   34.646,2,   34.644,2,  101.100,2,  100.800,2,  169.360,2,   38.790,2,    0.010,2,    2.740,2, -999.000,9, -999.000,9, -999.000,9, -999.000,9, -999.000,9
           NA,    P17N,    121,   1,-999.0,      29,  2,19930615,0452,  53.1317, -155.6333,  4503, 2852.300,    1.562,   34.655,2,   34.653,2,  111.100,2,  110.700,2,  167.730,2,   37.990,2,    0.010,2,    2.680,2, -999.000,9, -999.000,9, -999.000,9, 2353.500,2, -999.000,9
           NA,    P17N,    121,   1,-999.0,      30,  2,19930615,0452,  53.1317, -155.6333,  4503, 3058.400,    1.521,   34.663,2,   34.661,2,  119.900,2,  120.000,2,  166.100,2,   37.570,2,    0.010,2,    2.640,2, -999.000,9, -999.000,9, -999.000,9, -999.000,9, -999.000,9
           NA,    P17N,    121,   1,-999.0,      31,  2,19930615,0452,  53.1317, -155.6333,  4503, 3314.500,    1.489,   34.671,2,   34.669,2,  129.500,2,  128.600,2,  165.340,2,   36.990,2,    0.010,2,    2.600,2,    0.000,2,   -0.004,2, -999.000,9, 2343.800,2, 2436.500,2
           NA,    P17N,    121,   1,-999.0,      32,  2,19930615,0452,  53.1317, -155.6333,  4503, 3570.400,    1.471,   34.676,2,   34.674,2,  135.900,2,  135.000,2,  164.590,2,   36.670,2,    0.010,2,    2.560,2, -999.000,9, -999.000,9, -999.000,9, -999.000,9, -999.000,9
           NA,    P17N,    121,   1,-999.0,      37,  2,19930615,0452,  53.1317, -155.6333,  4503, 3826.400,    1.470,   34.680,2,   34.678,2,  140.100,2,  139.200,2,  164.490,2,   36.310,2,    0.010,2,    2.540,2, -999.000,9, -999.000,9, -999.000,9, 2337.700,2, 2450.900,2
           NA,    P17N,    121,   1,-999.0,      34,  2,19930615,0452,  53.1317, -155.6333,  4503, 4083.300,    1.475,   34.682,2,   34.681,2,  143.600,2,  143.200,2,  164.180,2,   36.050,2,    0.010,2,    2.520,2, -999.000,9, -999.000,9, -999.000,9, -999.000,9, -999.000,9
           NA,    P17N,    121,   1,-999.0,      38,  2,19930615,0452,  53.1317, -155.6333,  4503, 4341.200,    1.488,   34.684,2,   34.684,2,  145.900,2,  145.800,2,  163.430,2,   35.890,2,    0.010,2,    2.510,2, -999.000,9, -999.000,9, -999.000,9, 2333.100,2, 2433.200,2
           NA,    P17N,    121,   1,-999.0,      36,  2,19930615,0452,  53.1317, -155.6333,  4503, 4567.400,    1.499,   34.687,2,   34.685,2,  147.900,2,  148.200,2,  163.110,2,   35.630,2,    0.010,2,    2.500,2, -999.000,9, -999.000,9, -999.000,9, -999.000,9, -999.000,9