BOTTLE,20214410JOAExport
EXPOCODE,SECT_ID,STNNBR,CASTNO,SAMPNO,BTLNBR,BTLNBR_FLAG_W,DATE,TIME,LATITUDE,LONGITUDE,DEPTH,CTDPRS,CTDTMP,CTDSAL,CTDSAL_FLAG_W,SALNTY,SALNTY_FLAG_W,CTDOXY,CTDOXY_FLAG_W,OXYGEN,OXYGEN_FLAG_W,SILCAT,SILCAT_FLAG_W,NITRAT,NITRAT_FLAG_W,NITRIT,NITRIT_FLAG_W,PHSPHT,PHSPHT_FLAG_W,CFC-11,CFC-11_FLAG_W,CFC-12,CFC-12_FLAG_W,SF6,SF6_FLAG_W,TCARBN,TCARBN_FLAG_W,ALKALI,ALKALI_FLAG_W
,,,,,,,,,,,,DB,ITS-90,PSS-78,,PSS-78,,UMOL/KG,,UMOL/KG,,UMOL/KG,,UMOL/KG,,UMOL/KG,,UMOL/KG,,PMOL/KG,,PMOL/KG,,PMOL/KG,,UMOL/KG,,UMOL/KG
           NA,    P17N,    122,   1,-999.0,       1,  2,19930615,1103,  53.2893, -154.8417,  4469,    2.600,    8.095,   32.516,2,   32.525,2,  327.100,2,  311.400,2,   28.760,2,   13.510,2,    0.180,2,    1.280,2,    5.054,2,    2.436,2, -999.000,9, 2032.300,2, 2206.100,2
           NA,    P17N,    122,   1,-999.0,       2,  2,19930615,1103,  53.2893, -154.8417,  4469,   31.700,    6.119,   32.549,2,   32.553,2,  318.300,2,  315.900,2,   28.660,2,   14.180,2,    0.200,2,    1.340,2,    5.292,2,    2.550,2, -999.000,9, 2038.800,2, 2204.100,2
           NA,    P17N,    122,   1,-999.0,       3,  2,19930615,1103,  53.2893, -154.8417,  4469,   56.900,    3.787,   32.742,2,   32.727,2,  273.900,2,  297.300,2,   32.840,2,   19.070,2,    0.090,2,    1.640,2,    5.382,2,    2.597,2, -999.000,9, 2077.200,2, 2210.300,2
           NA,    P17N,    122,   1,-999.0,       4,  2,19930615,1103,  53.2893, -154.8417,  4469,   81.800,    4.050,   33.304,2,   33.301,2,  189.000,2,  184.100,2,   54.160,2,   30.200,2,    0.020,2,    2.300,2, -999.000,9, -999.000,9, -999.000,9, 2183.200,2, 2261.600,2
           NA,    P17N,    122,   1,-999.0,       5,  2,19930615,1103,  53.2893, -154.8417,  4469,  107.300,    3.978,   33.663,2,   33.665,2,  117.800,2,  114.200,2,   70.990,2,   36.960,2,    0.010,2,    2.720,2,    2.682,2,    1.250,2, -999.000,9, -999.000,9, 2278.700,2
           NA,    P17N,    122,   1,-999.0,       6,  2,19930615,1103,  53.2893, -154.8417,  4469,  132.300,    4.085,   33.792,2,   33.792,2,   91.000,2,   72.500,2,   79.040,2,   40.260,2,    0.010,2,    2.920,2,    1.892,2,    0.906,2, -999.000,9, 2281.100,2, 2292.200,2
           NA,    P17N,    122,   1,-999.0,       7,  2,19930615,1103,  53.2893, -154.8417,  4469,  157.500,    3.997,   33.845,2,   33.846,2,   62.900,2,   57.300,2,   84.300,2,   41.570,2,    0.010,2,    3.000,2, -999.000,9, -999.000,9, -999.000,9, 2294.600,2, 2299.400,2
           NA,    P17N,    122,   1,-999.0,       8,  2,19930615,1103,  53.2893, -154.8417,  4469,  182.800,    3.981,   33.882,2,   33.881,2,   47.800,2,   46.900,2,   87.630,2,   42.510,2,    0.010,2,    3.050,2,    1.441,2,    0.685,2, -999.000,9, 2302.600,2, 2304.900,2
           NA,    P17N,    122,   1,-999.0,       9,  2,19930615,1103,  53.2893, -154.8417,  4469,  208.300,    3.879,   33.910,2,   33.910,2,   45.600,2,   42.300,2,   91.830,2,   42.900,2,    0.010,2,    3.090,2,    1.294,2,    0.654,2, -999.000,9, 2313.100,2, 2300.300,2
           NA,    P17N,    122,   1,-999.0,      10,  2,19930615,1103,  53.2893, -154.8417,  4469,  233.400,    3.743,   33.923,2,   33.919,2,   37.000,2,   43.900,2,   94.950,2,   42.960,2,    0.010,2,    3.090,2,    1.292,2,    0.588,2, -999.000,9, -999.000,9, -999.000,9
           NA,    P17N,    122,   1,-999.0,      11,  2,19930615,1103,  53.2893, -154.8417,  4469,  258.200,    3.799,   33.949,2,   33.949,2,   28.700,2,   36.000,2,   97.000,2,   43.290,2,    0.010,2,    3.110,2,    1.117,2,    0.489,2, -999.000,9, -999.000,9, -999.000,9
           NA,    P17N,    122,   1,-999.0,      12,  2,19930615,1103,  53.2893, -154.8417,  4469,  309.100,    3.808,   34.011,2,   34.011,2,   25.700,2,   26.300,2,  102.920,2,   43.800,2,    0.010,2,    3.160,2,    0.733,2,    0.352,2, -999.000,9, -999.000,9, -999.000,9
           NA,    P17N,    122,   1,-999.0,      13,  2,19930615,1103,  53.2893, -154.8417,  4469,  359.700,    3.802,   34.062,2,   34.062,2,   22.400,2,   23.300,2,  107.120,2,   43.740,2,    0.010,2,    3.160,2,    0.533,2,    0.255,2, -999.000,9, -999.000,9, -999.000,9
           NA,    P17N,    122,   1,-999.0,      14,  2,19930615,1103,  53.2893, -154.8417,  4469,  410.200,    3.746,   34.123,2,   34.124,2,   20.400,2,   20.300,2,  113.060,2,   43.750,2,    0.010,2,    3.150,2,    0.304,2,    0.208,2, -999.000,9, -999.000,9, -999.000,9
           NA,    P17N,    122,   1,-999.0,      15,  2,19930615,1103,  53.2893, -154.8417,  4469,  460.600,    3.675,   34.147,2,   34.147,2,   19.500,2,   19.100,2,  116.410,2,   43.760,2,    0.010,2,    3.150,2,    0.273,2,    0.124,2, -999.000,9, -999.000,9, -999.000,9
           NA,    P17N,    122,   1,-999.0,      16,  2,19930615,1103,  53.2893, -154.8417,  4469,  561.600,    3.484,   34.217,2,   34.218,2,   16.700,2,   17.400,2,  125.380,2,   43.820,2,    0.010,2,    3.160,2,    0.138,2,    0.065,2, -999.000,9, -999.000,9, -999.000,9
           NA,    P17N,    122,   1,-999.0,      17,  2,19930615,1103,  53.2893, -154.8417,  4469,  661.300,    3.326,   34.270,2,   34.270,2,   16.200,2,   16.000,2,  131.770,2,   43.830,2,    0.010,2,    3.170,2,    0.070,2,    0.033,2, -999.000,9, -999.000,9, -999.000,9
           NA,    P17N,    122,   1,-999.0,      18,  2,19930615,1103,  53.2893, -154.8417,  4469,  762.900,    3.145,   34.314,2,   34.314,2,   16.700,2,   15.800,2,  138.620,2,   43.890,2,    0.010,2,    3.170,2,    0.043,2,    0.021,2, -999.000,9, -999.000,9, -999.000,9
           NA,    P17N,    122,   1,-999.0,      19,  2,19930615,1103,  53.2893, -154.8417,  4469,  863.700,    2.942,   34.358,2,   34.358,2,   17.300,2,   17.100,2,  145.490,2,   44.010,2,    0.010,2,    3.170,2,    0.030,2,    0.010,2, -999.000,9, -999.000,9, -999.000,9
           NA,    P17N,    122,   1,-999.0,      20,  2,19930615,1103,  53.2893, -154.8417,  4469,  965.400,    2.792,   34.396,2,   34.396,2,   18.000,2,   17.600,2,  150.620,2,   44.010,2,    0.010,2,    3.180,2,    0.013,2,    0.006,2, -999.000,9, -999.000,9, -999.000,9
           NA,    P17N,    122,   1,-999.0,      21,  2,19930615,1103,  53.2893, -154.8417,  4469, 1168.000,    2.512,   34.456,2,   34.460,2,   23.100,2,   22.900,2,  159.280,2,   43.800,2,    0.010,2,    3.140,2,    0.007,2,    0.005,2, -999.000,9, -999.000,9, -999.000,9
           NA,    P17N,    122,   1,-999.0,      22,  2,19930615,1103,  53.2893, -154.8417,  4469, 1371.000,    2.264,   34.508,2,   34.509,2,   32.400,2,   33.600,2,  165.340,2,   43.260,2,    0.010,2,    3.090,2,    0.002,2,    0.014,2, -999.000,9, -999.000,9, -999.000,9
           NA,    P17N,    122,   1,-999.0,      23,  2,19930615,1103,  53.2893, -154.8417,  4469, 1575.300,    2.101,   34.544,2,   34.546,2,   42.600,2,   43.600,2,  168.990,2,   42.710,2,    0.010,2,    3.040,2,    0.001,2,   -0.002,2, -999.000,9, -999.000,9, -999.000,9
           NA,    P17N,    122,   1,-999.0,      24,  2,19930615,1103,  53.2893, -154.8417,  4469, 1779.900,    1.960,   34.576,2,   34.576,2,   54.600,2,   54.100,2,  171.540,2,   42.120,2,    0.010,2,    2.990,2, -999.000,9, -999.000,9, -999.000,9, -999.000,9, -999.000,9
           NA,    P17N,    122,   1,-999.0,      25,  2,19930615,1103,  53.2893, -154.8417,  4469, 1984.400,    1.844,   34.599,2,   34.600,2,   65.600,2,   68.100,2,  172.550,2,   41.360,2,    0.010,2,    2.940,2, -999.000,9, -999.000,9, -999.000,9, -999.000,9, -999.000,9
           NA,    P17N,    122,   1,-999.0,      26,  2,19930615,1103,  53.2893, -154.8417,  4469, 2188.400,    1.757,   34.616,2,   34.616,2,   77.500,2,   77.400,2,  173.330,2,   40.770,2,    0.010,2,    2.890,2, -999.000,9, -999.000,9, -999.000,9, -999.000,9, -999.000,9
           NA,    P17N,    122,   1,-999.0,      27,  2,19930615,1103,  53.2893, -154.8417,  4469, 2393.900,    1.678,   34.631,2,   34.632,2,   87.500,2,   89.200,2,  172.790,2,   39.950,2,    0.010,2,    2.840,2, -999.000,9, -999.000,9, -999.000,9, -999.000,9, -999.000,9
           NA,    P17N,    122,   1,-999.0,      28,  2,19930615,1103,  53.2893, -154.8417,  4469, 2598.500,    1.621,   34.642,2,   34.644,2,   98.500,2,   99.800,2,  171.580,2,   39.310,2,    0.010,2,    2.780,2, -999.000,9, -999.000,9, -999.000,9, -999.000,9, -999.000,9
           NA,    P17N,    122,   1,-999.0,      29,  2,19930615,1103,  53.2893, -154.8417,  4469, 2802.200,    1.570,   34.652,2,   34.654,2,  109.100,2,  108.800,2,  171.030,2,   38.660,2,    0.000,2,    2.730,2, -999.000,9, -999.000,9, -999.000,9, -999.000,9, -999.000,9
           NA,    P17N,    122,   1,-999.0,      30,  2,19930615,1103,  53.2893, -154.8417,  4469, 3006.900,    1.530,   34.660,2,   34.661,2,  118.300,2,  118.700,2,  168.710,2,   38.130,2,    0.010,2,    2.690,2, -999.000,9, -999.000,9, -999.000,9, -999.000,9, -999.000,9
           NA,    P17N,    122,   1,-999.0,      31,  2,19930615,1103,  53.2893, -154.8417,  4469, 3261.400,    1.492,   34.668,2,   34.669,2,  128.600,2,  127.800,2,  167.510,2,   37.270,2,    0.010,2,    2.640,2, -999.000,9, -999.000,9, -999.000,9, -999.000,9, -999.000,9
           NA,    P17N,    122,   1,-999.0,      32,  2,19930615,1103,  53.2893, -154.8417,  4469, 3519.500,    1.469,   34.675,2,   34.676,2,  135.600,2,  135.000,2,  166.740,2,   37.000,2,    0.010,2,    2.610,2, -999.000,9, -999.000,9, -999.000,9, -999.000,9, -999.000,9
           NA,    P17N,    122,   1,-999.0,      37,  2,19930615,1103,  53.2893, -154.8417,  4469, 3776.300,    1.468,   34.678,2,   34.679,2,  140.000,2,  138.700,2,  166.420,2,   36.680,2,    0.000,2,    2.580,2, -999.000,9, -999.000,9, -999.000,9, -999.000,9, -999.000,9
           NA,    P17N,    122,   1,-999.0,      34,  2,19930615,1103,  53.2893, -154.8417,  4469, 4033.300,    1.471,   34.681,2,   34.682,2,  143.900,2,  143.400,2,  165.880,2,   36.420,2,    0.010,2,    2.550,2, -999.000,9, -999.000,9, -999.000,9, -999.000,9, -999.000,9
           NA,    P17N,    122,   1,-999.0,      38,  2,19930615,1103,  53.2893, -154.8417,  4469, 4291.200,    1.482,   34.684,2,   34.685,2,  146.900,2,  146.400,2,  164.890,2,   36.320,2,    0.010,2,    2.540,2, -999.000,9, -999.000,9, -999.000,9, -999.000,9, -999.000,9
           NA,    P17N,    122,   1,-999.0,      36,  2,19930615,1103,  53.2893, -154.8417,  4469, 4530.300,    1.496,   34.685,2,   34.686,2,  147.700,2,  148.500,2,  163.910,2,   36.100,2,    0.010,2,    2.530,2, -999.000,9, -999.000,9, -999.000,9, -999.000,9, -999.000,9