BOTTLE,20214410JOAExport
EXPOCODE,SECT_ID,STNNBR,CASTNO,SAMPNO,BTLNBR,BTLNBR_FLAG_W,DATE,TIME,LATITUDE,LONGITUDE,DEPTH,CTDPRS,CTDTMP,CTDSAL,CTDSAL_FLAG_W,SALNTY,SALNTY_FLAG_W,CTDOXY,CTDOXY_FLAG_W,OXYGEN,OXYGEN_FLAG_W,SILCAT,SILCAT_FLAG_W,NITRAT,NITRAT_FLAG_W,NITRIT,NITRIT_FLAG_W,PHSPHT,PHSPHT_FLAG_W,CFC-11,CFC-11_FLAG_W,CFC-12,CFC-12_FLAG_W,SF6,SF6_FLAG_W,TCARBN,TCARBN_FLAG_W,ALKALI,ALKALI_FLAG_W
,,,,,,,,,,,,DB,ITS-90,PSS-78,,PSS-78,,UMOL/KG,,UMOL/KG,,UMOL/KG,,UMOL/KG,,UMOL/KG,,UMOL/KG,,PMOL/KG,,PMOL/KG,,PMOL/KG,,UMOL/KG,,UMOL/KG
           NA,    P17N,    142,   1,-999.0,       1,  2,19930621,0433,  56.3768, -138.3153,  3123,    1.600,   12.694,   31.885,2,   31.890,2,  284.600,2,  290.900,2,   12.030,2,    0.110,2,    0.010,2,    0.420,2,    3.920,2,    2.000,2, -999.000,9, 1935.600,2, -999.000,9
           NA,    P17N,    142,   1,-999.0,       2,  2,19930621,0433,  56.3768, -138.3153,  3123,   30.400,    9.640,   32.100,2,   32.096,2,  286.200,2,  289.100,2,   15.010,2,    5.350,2,    0.270,2,    0.820,2,    4.282,2,    2.184,2, -999.000,9, 1984.000,2, -999.000,9
           NA,    P17N,    142,   1,-999.0,       3,  2,19930621,0433,  56.3768, -138.3153,  3123,   55.600,    7.975,   32.304,2,   32.311,2,  265.200,2,  273.500,2,   19.030,2,   11.560,2,    0.080,2,    1.160,2, -999.000,9, -999.000,9, -999.000,9, 2020.500,2, -999.000,9
           NA,    P17N,    142,   1,-999.0,       4,  2,19930621,0433,  56.3768, -138.3153,  3123,   80.100,    7.566,   32.424,2,   32.433,2,  267.800,2,  265.400,2,   20.580,2,   13.140,2,    0.030,2,    1.260,2,    4.372,2,    2.227,2, -999.000,9, 2036.700,2, -999.000,9
           NA,    P17N,    142,   1,-999.0,       5,  2,19930621,0433,  56.3768, -138.3153,  3123,  106.400,    6.964,   32.574,2,   32.579,2,  236.700,2,  241.700,2,   27.880,2,   17.700,2,    0.030,2,    1.540,2,    4.180,2,    2.052,2, -999.000,9, 2068.500,2, -999.000,9
           NA,    P17N,    142,   1,-999.0,       6,  2,19930621,0433,  56.3768, -138.3153,  3123,  131.200,    6.635,   32.746,2,   32.786,2,  224.500,2,  223.300,2,   31.890,2,   20.420,2,    0.030,2,    1.690,2,    3.978,2,    1.969,2, -999.000,9, 2093.900,2, -999.000,9
           NA,    P17N,    142,   1,-999.0,       7,  2,19930621,0433,  56.3768, -138.3153,  3123,  156.400,    6.501,   33.082,2,   33.122,2,  190.300,2,  190.000,2,   38.350,2,   24.390,2,    0.030,2,    1.920,2, -999.000,9, -999.000,9, -999.000,9, 2135.400,2, -999.000,9
           NA,    P17N,    142,   1,-999.0,       8,  2,19930621,0433,  56.3768, -138.3153,  3123,  181.600,    6.300, -999.000,4,   33.427,2, -999.000,9,  164.700,2,   43.380,2,   27.540,2,    0.020,2,    2.090,2,    3.321,2,    1.577,2, -999.000,9, 2167.400,2, -999.000,9
           NA,    P17N,    142,   1,-999.0,       9,  2,19930621,0433,  56.3768, -138.3153,  3123,  207.200,    5.762,   33.602,2,   33.608,2,  145.000,2,  154.900,2,   47.800,2,   29.670,2,    0.020,2,    2.220,2, -999.000,9, -999.000,9, -999.000,9, 2190.600,2, -999.000,9
           NA,    P17N,    142,   1,-999.0,      10,  2,19930621,0433,  56.3768, -138.3153,  3123,  232.000,    5.811,   33.771,2,   33.772,2,  153.600,2,  149.100,2,   49.550,2,   30.050,2,    0.020,2,    2.210,2,    2.917,2,    1.363,2, -999.000,9, -999.000,9, -999.000,9
           NA,    P17N,    142,   1,-999.0,      11,  2,19930621,0433,  56.3768, -138.3153,  3123,  257.800,    5.376,   33.793,2,   33.794,2,  125.200,2,  144.400,2,   54.180,2,   31.360,2,    0.020,2,    2.300,2, -999.000,9, -999.000,9, -999.000,9, -999.000,9, -999.000,9
           NA,    P17N,    142,   1,-999.0,      12,  2,19930621,0433,  56.3768, -138.3153,  3123,  283.000,    5.340,   33.855,2,   33.857,2,  114.900,2,  110.800,2,   61.270,2,   34.260,2,    0.020,2,    2.480,2, -999.000,9, -999.000,9, -999.000,9, -999.000,9, -999.000,9
           NA,    P17N,    142,   1,-999.0,      13,  2,19930621,0433,  56.3768, -138.3153,  3123,  308.400,    5.127,   33.886,2,   33.886,2,   99.300,2,   93.900,2,   66.720,2,   36.070,2,    0.020,2,    2.600,2,    1.835,2,    0.866,2, -999.000,9, -999.000,9, -999.000,9
           NA,    P17N,    142,   1,-999.0,      14,  2,19930621,0433,  56.3768, -138.3153,  3123,  358.900,    4.697,   33.900,2,   33.901,2,   73.600,2,   78.300,2,   74.640,2,   38.100,2,    0.020,2,    2.740,2, -999.000,9, -999.000,9, -999.000,9, -999.000,9, -999.000,9
           NA,    P17N,    142,   1,-999.0,      15,  2,19930621,0433,  56.3768, -138.3153,  3123,  408.900,    4.503,   33.949,2,   33.950,2,   57.900,2,   60.100,2,   82.780,2,   39.870,2,    0.020,2,    2.870,2,    1.175,2,    0.589,2, -999.000,9, -999.000,9, -999.000,9
           NA,    P17N,    142,   1,-999.0,      16,  2,19930621,0433,  56.3768, -138.3153,  3123,  459.000,    4.404,   34.001,2,   34.002,2,   47.600,2,   47.500,2,   89.070,2,   40.920,2,    0.020,2,    2.950,2, -999.000,9, -999.000,9, -999.000,9, -999.000,9, -999.000,9
           NA,    P17N,    142,   1,-999.0,      17,  2,19930621,0433,  56.3768, -138.3153,  3123,  509.100,    4.305,   34.046,2,   34.047,2,   38.800,2,   37.600,2,   94.740,2,   41.750,2,    0.020,2,    3.010,2,    0.581,2,    0.275,2, -999.000,9, -999.000,9, -999.000,9
           NA,    P17N,    142,   1,-999.0,      18,  2,19930621,0433,  56.3768, -138.3153,  3123,  559.100,    4.205,   34.091,2,   34.090,2,   32.500,2,   30.100,2,  100.430,2,   42.360,2,    0.020,2,    3.060,2, -999.000,9, -999.000,9, -999.000,9, -999.000,9, -999.000,9
           NA,    P17N,    142,   1,-999.0,      19,  2,19930621,0433,  56.3768, -138.3153,  3123,  608.600,    4.082,   34.131,2,   34.131,2,   26.900,2,   24.700,2,  105.920,2,   42.810,2,    0.020,2,    3.090,2,    0.306,2, -999.000,3, -999.000,9, -999.000,9, -999.000,9
           NA,    P17N,    142,   1,-999.0,      20,  2,19930621,0433,  56.3768, -138.3153,  3123,  659.200,    3.993,   34.173,2,   34.170,2,   22.500,2,   21.400,2,  110.370,2,   42.920,2,    0.010,2,    3.120,2, -999.000,9, -999.000,9, -999.000,9, -999.000,9, -999.000,9
           NA,    P17N,    142,   1,-999.0,      21,  2,19930621,0433,  56.3768, -138.3153,  3123,  709.300,    3.839,   34.201,2,   34.200,2,   19.100,2,   17.700,2,  115.670,2,   43.420,2,    0.020,2,    3.140,2,    0.131,2,    0.068,2, -999.000,9, -999.000,9, -999.000,9
           NA,    P17N,    142,   1,-999.0,      22,  2,19930621,0433,  56.3768, -138.3153,  3123,  810.300,    3.612,   34.266,2,   34.264,2,   15.900,2,   14.600,2,  124.710,2,   43.700,2,    0.010,2,    3.170,2,    0.056,2,    0.033,2, -999.000,9, -999.000,9, -999.000,9
           NA,    P17N,    142,   1,-999.0,      23,  2,19930621,0433,  56.3768, -138.3153,  3123,  911.800,    3.374,   34.317,2,   34.317,2,   13.500,2,   12.700,2,  132.740,2,   43.980,2,    0.010,2,    3.190,2,    0.017,2,    0.014,2, -999.000,9, -999.000,9, -999.000,9
           NA,    P17N,    142,   1,-999.0,      24,  2,19930621,0433,  56.3768, -138.3153,  3123, 1014.300,    3.195,   34.352,2,   34.351,2,   13.200,2,   12.900,2,  138.920,2,   44.090,2,    0.010,2,    3.190,2,    0.014,2,    0.012,2, -999.000,9, -999.000,9, -999.000,9
           NA,    P17N,    142,   1,-999.0,      25,  2,19930621,0433,  56.3768, -138.3153,  3123, 1115.500,    2.998,   34.385,2,   34.385,2,   13.900,2,   13.600,2,  145.110,2,   44.200,2,    0.010,2,    3.190,2,    0.039,2, -999.000,4, -999.000,9, -999.000,9, -999.000,9
           NA,    P17N,    142,   1,-999.0,      26,  2,19930621,0433,  56.3768, -138.3153,  3123, 1216.800,    2.812,   34.417,2,   34.417,2,   15.100,2,   15.500,2,  150.690,2,   44.140,2,    0.020,2,    3.170,2,   -0.002,2,    0.005,2, -999.000,9, -999.000,9, -999.000,9
           NA,    P17N,    142,   1,-999.0,      27,  2,19930621,0433,  56.3768, -138.3153,  3123, 1319.400,    2.636,   34.446,2,   34.445,2,   17.900,2,   18.700,2,  156.080,2,   44.090,2,    0.020,2,    3.160,2,   -0.004,2,    0.005,2, -999.000,9, -999.000,9, -999.000,9
           NA,    P17N,    142,   1,-999.0,      28,  2,19930621,0433,  56.3768, -138.3153,  3123, 1422.100,    2.479,   34.471,2,   34.471,2,   21.400,2,   22.200,2,  160.640,2,   43.920,2,    0.020,2,    3.140,2,    0.003,2,   -0.008,2, -999.000,9, -999.000,9, -999.000,9
           NA,    P17N,    142,   1,-999.0,      29,  2,19930621,0433,  56.3768, -138.3153,  3123, 1626.600,    2.264,   34.514,2,   34.515,2,   29.300,2,   30.700,2,  166.690,2,   43.470,2,    0.020,2,    3.090,2,   -0.006,2,   -0.002,2, -999.000,9, -999.000,9, -999.000,9
           NA,    P17N,    142,   1,-999.0,      30,  2,19930621,0433,  56.3768, -138.3153,  3123, 1830.700,    2.075,   34.554,2,   34.554,2,   42.200,2,   43.500,2,  170.210,2,   42.800,2,    0.020,2,    3.030,2, -999.000,9, -999.000,9, -999.000,9, -999.000,9, -999.000,9
           NA,    P17N,    142,   1,-999.0,      31,  2,19930621,0433,  56.3768, -138.3153,  3123, 2034.200,    1.931,   34.583,2,   34.582,2,   54.900,2,   56.100,2,  173.520,2,   42.020,2,    0.020,2,    2.970,2, -999.000,9, -999.000,9, -999.000,9, -999.000,9, -999.000,9
           NA,    P17N,    142,   1,-999.0,      32,  2,19930621,0433,  56.3768, -138.3153,  3123, 2238.600,    1.819,   34.605,2,   34.606,2,   68.200,2,   68.800,2,  175.560,2,   41.250,2,    0.020,2,    2.920,2, -999.000,9, -999.000,9, -999.000,9, -999.000,9, -999.000,9
           NA,    P17N,    142,   1,-999.0,      33,  2,19930621,0433,  56.3768, -138.3153,  3123, 2443.700,    1.741,   34.621,2,   34.622,2,   78.800,2,   79.600,2,  176.310,2,   40.520,2,    0.020,2,    2.860,2, -999.000,9, -999.000,9, -999.000,9, -999.000,9, -999.000,9
           NA,    P17N,    142,   1,-999.0,      34,  2,19930621,0433,  56.3768, -138.3153,  3123, 2648.600,    1.665,   34.636,2,   34.637,2,   90.300,2,   91.200,2,  176.420,2,   39.810,2,    0.020,2,    2.810,2, -999.000,9, -999.000,9, -999.000,9, -999.000,9, -999.000,9
           NA,    P17N,    142,   1,-999.0,      38,  2,19930621,0433,  56.3768, -138.3153,  3123, 2852.400,    1.614,   34.647,2,   34.648,2,   99.500,2,   99.800,2,  178.030,2,   39.260,2,    0.010,2,    2.780,2, -999.000,9, -999.000,9, -999.000,9, -999.000,9, -999.000,9
           NA,    P17N,    142,   1,-999.0,      36,  2,19930621,0433,  56.3768, -138.3153,  3123, 3128.900,    1.516,   34.667,2,   34.668,2,  118.300,2,  117.700,2,  181.580,2,   38.150,2,    0.020,2,    2.690,2, -999.000,9, -999.000,9, -999.000,9, -999.000,9, -999.000,9