BOTTLE,20214410JOAExport
EXPOCODE,SECT_ID,STNNBR,CASTNO,SAMPNO,BTLNBR,BTLNBR_FLAG_W,DATE,TIME,LATITUDE,LONGITUDE,DEPTH,CTDPRS,CTDTMP,CTDSAL,CTDSAL_FLAG_W,SALNTY,SALNTY_FLAG_W,CTDOXY,CTDOXY_FLAG_W,OXYGEN,OXYGEN_FLAG_W,SILCAT,SILCAT_FLAG_W,NITRAT,NITRAT_FLAG_W,NITRIT,NITRIT_FLAG_W,PHSPHT,PHSPHT_FLAG_W,CFC-11,CFC-11_FLAG_W,CFC-12,CFC-12_FLAG_W,SF6,SF6_FLAG_W,TCARBN,TCARBN_FLAG_W,ALKALI,ALKALI_FLAG_W
,,,,,,,,,,,,DB,ITS-90,PSS-78,,PSS-78,,UMOL/KG,,UMOL/KG,,UMOL/KG,,UMOL/KG,,UMOL/KG,,UMOL/KG,,PMOL/KG,,PMOL/KG,,PMOL/KG,,UMOL/KG,,UMOL/KG
           NA,    P17N,    146,   1,-999.0,      17,  2,19930621,2249,  56.7778, -136.0370,  1056,    2.800,   12.692,   31.710,2,   31.702,2,  287.300,2,  306.500,2, -999.000,4, -999.000,4, -999.000,4, -999.000,4,    4.050,2,    1.985,2, -999.000,9, -999.000,9, -999.000,9
           NA,    P17N,    146,   1,-999.0,      18,  2,19930621,2249,  56.7778, -136.0370,  1056,   27.900,    9.965,   31.853,2,   31.868,2,  304.500,2,  300.700,2,   20.750,2,    6.000,2,    0.190,2,    0.900,2,    4.893,2,    2.537,2, -999.000,9, -999.000,9, -999.000,9
           NA,    P17N,    146,   1,-999.0,      19,  2,19930621,2249,  56.7778, -136.0370,  1056,   52.900,    7.659,   32.079,2,   32.078,2,  270.600,2,  273.800,2,   24.960,2,   14.410,2,    0.150,2,    1.360,2,    4.519,2,    2.232,2, -999.000,9, -999.000,9, -999.000,9
           NA,    P17N,    146,   1,-999.0,      20,  2,19930621,2249,  56.7778, -136.0370,  1056,   77.700,    7.609,   32.320,2,   32.320,2,  241.900,2,  258.200,2,   23.680,2,   14.680,2,    0.040,2,    1.370,2,    4.381,2,    2.190,2, -999.000,9, -999.000,9, -999.000,9
           NA,    P17N,    146,   1,-999.0,      21,  2,19930621,2249,  56.7778, -136.0370,  1056,  103.000,    6.836,   32.448,2,   32.442,2,  233.700,2,  219.000,2,   37.440,2,   21.610,2,    0.070,2,    1.800,2, -999.000,9, -999.000,9, -999.000,9, -999.000,9, -999.000,9
           NA,    P17N,    146,   1,-999.0,      22,  2,19930621,2249,  56.7778, -136.0370,  1056,  128.500,    6.749,   32.548,2,   32.556,2,  246.800,2,  233.800,2,   31.900,2,   19.410,2,    0.030,2,    1.660,2,    4.487,2,    2.291,2, -999.000,9, -999.000,9, -999.000,9
           NA,    P17N,    146,   1,-999.0,      23,  2,19930621,2249,  56.7778, -136.0370,  1056,  154.600,    6.294,   32.746,2,   32.755,2,  218.200,2,  194.500,2,   44.240,2,   25.060,2,    0.040,2,    2.000,2, -999.000,9, -999.000,9, -999.000,9, -999.000,9, -999.000,9
           NA,    P17N,    146,   1,-999.0,      24,  2,19930621,2249,  56.7778, -136.0370,  1056,  179.200,    6.450,   33.118,2,   33.139,2,  185.600,2,  188.500,2,   38.490,2,   24.630,2,    0.030,2,    1.950,2, -999.000,9, -999.000,9, -999.000,9, -999.000,9, -999.000,9
           NA,    P17N,    146,   1,-999.0,      25,  2,19930621,2249,  56.7778, -136.0370,  1056,  205.300,    6.211,   33.502,2,   33.486,2,  157.400,2,  161.900,2,   44.130,2,   27.990,2,    0.030,2,    2.120,2,    3.238,2,    1.566,2, -999.000,9, -999.000,9, -999.000,9
           NA,    P17N,    146,   1,-999.0,      26,  2,19930621,2249,  56.7778, -136.0370,  1056,  255.600,    5.478,   33.792,2,   33.796,2,  127.900,2,  127.300,2,   56.280,2,   32.610,2,    0.030,2,    2.390,2, -999.000,9, -999.000,9, -999.000,9, -999.000,9, -999.000,9
           NA,    P17N,    146,   1,-999.0,      27,  2,19930621,2249,  56.7778, -136.0370,  1056,  306.000,    5.000,   33.865,2,   33.863,2,   98.100,2,  100.900,2,   66.620,2,   35.630,2,    0.030,2,    2.580,2,    2.189,2,    1.031,2, -999.000,9, -999.000,9, -999.000,9
           NA,    P17N,    146,   1,-999.0,      28,  2,19930621,2249,  56.7778, -136.0370,  1056,  357.200,    4.802,   33.921,2,   33.920,2,   72.200,2,   70.600,2,   76.370,2,   38.470,2,    0.030,2,    2.770,2, -999.000,9, -999.000,9, -999.000,9, -999.000,9, -999.000,9
           NA,    P17N,    146,   1,-999.0,      29,  2,19930621,2249,  56.7778, -136.0370,  1056,  407.600,    4.532,   33.965,2,   33.966,2,   54.200,2,   53.700,2,   84.720,2,   40.080,2,    0.020,2,    2.900,2,    1.212,2,    0.579,2, -999.000,9, -999.000,9, -999.000,9
           NA,    P17N,    146,   1,-999.0,      30,  2,19930621,2249,  56.7778, -136.0370,  1056,  458.000,    4.418,   34.013,2,   34.013,2,   42.400,2,   42.500,2,   90.620,2,   41.180,2,    0.020,2,    2.970,2, -999.000,9, -999.000,9, -999.000,9, -999.000,9, -999.000,9
           NA,    P17N,    146,   1,-999.0,      31,  2,19930621,2249,  56.7778, -136.0370,  1056,  508.100,    4.342,   34.047,2,   34.047,2,   38.100,2,   36.900,2,   94.890,2,   41.730,2,    0.020,2,    3.010,2,    0.646,2,    0.308,2, -999.000,9, -999.000,9, -999.000,9
           NA,    P17N,    146,   1,-999.0,      32,  2,19930621,2249,  56.7778, -136.0370,  1056,  607.000,    4.213,   34.090,2,   34.089,2,   29.600,2,   30.100,2,  100.610,2,   42.280,2,    0.020,2,    3.050,2,    0.436,2,    0.195,2, -999.000,9, -999.000,9, -999.000,9
           NA,    P17N,    146,   1,-999.0,      33,  2,19930621,2249,  56.7778, -136.0370,  1056,  707.900,    4.009,   34.146,2,   34.146,2,   22.400,2,   23.100,2,  109.840,2,   42.880,2,    0.020,2,    3.090,2,    0.336,2,    0.153,2, -999.000,9, -999.000,9, -999.000,9
           NA,    P17N,    146,   1,-999.0,      34,  2,19930621,2249,  56.7778, -136.0370,  1056,  811.200,    3.727,   34.224,2,   34.223,2,   18.000,2,   18.200,2,  120.760,2,   43.320,2,    0.020,2,    3.140,2,    0.140,2,    0.083,2, -999.000,9, -999.000,9, -999.000,9
           NA,    P17N,    146,   1,-999.0,      38,  2,19930621,2249,  56.7778, -136.0370,  1056,  912.400,    3.537,   34.270,2,   34.268,2,   16.000,2,   16.500,2,  127.990,2,   43.540,2,    0.020,2,    3.150,2,    0.093,2,    0.047,2, -999.000,9, -999.000,9, -999.000,9
           NA,    P17N,    146,   1,-999.0,      36,  2,19930621,2249,  56.7778, -136.0370,  1056, 1033.700,    3.205,   34.340,2,   34.337,2,   14.900,2,   15.400,2,  139.210,2,   43.750,2,    0.020,2,    3.160,2,    0.040,2,    0.017,2, -999.000,9, -999.000,9, -999.000,9
           NA,    P17N,    147,   1,-999.0,      21,  2,19930622,0106,  56.7860, -135.9942,   563,    2.000,   12.963,   31.796,2,   31.799,2,  305.700,2,  299.400,2,   13.610,2,    0.090,2,    0.010,2,    0.410,2, -999.000,9, -999.000,9, -999.000,9, -999.000,9, -999.000,9
           NA,    P17N,    147,   1,-999.0,      22,  2,19930622,0106,  56.7860, -135.9942,   563,   27.200,    8.880,   32.000,2,   31.990,2,  294.200,2,  294.100,2,   23.280,2,    8.880,2,    0.230,2,    1.090,2, -999.000,9, -999.000,9, -999.000,9, -999.000,9, -999.000,9
           NA,    P17N,    147,   1,-999.0,      23,  2,19930622,0106,  56.7860, -135.9942,   563,   52.700,    7.611,   32.119,2,   32.121,2,  263.000,2,  266.200,2,   25.260,2,   15.050,2,    0.140,2,    1.390,2, -999.000,9, -999.000,9, -999.000,9, -999.000,9, -999.000,9
           NA,    P17N,    147,   1,-999.0,      24,  2,19930622,0106,  56.7860, -135.9942,   563,   78.000,    7.253,   32.363,2,   32.374,2,  232.900,2,  233.900,2,   30.480,2,   18.590,2,    0.070,2,    1.600,2, -999.000,9, -999.000,9, -999.000,9, -999.000,9, -999.000,9
           NA,    P17N,    147,   1,-999.0,      25,  2,19930622,0106,  56.7860, -135.9942,   563,  103.500,    6.653,   32.488,2,   32.498,2,  210.700,2,  203.700,2,   42.380,2,   23.560,2,    0.260,2,    1.950,2, -999.000,9, -999.000,9, -999.000,9, -999.000,9, -999.000,9
           NA,    P17N,    147,   1,-999.0,      26,  2,19930622,0106,  56.7860, -135.9942,   563,  128.900,    6.437,   32.609,2,   32.602,2,  192.500,2,  198.300,2,   44.360,2,   24.710,2,    0.080,2,    1.990,2, -999.000,9, -999.000,9, -999.000,9, -999.000,9, -999.000,9
           NA,    P17N,    147,   1,-999.0,      27,  2,19930622,0106,  56.7860, -135.9942,   563,  154.000,    6.306, -999.000,4,   32.755,2, -999.000,9,  188.600,2,   47.340,2,   26.060,2,    0.040,2,    2.080,2, -999.000,9, -999.000,9, -999.000,9, -999.000,9, -999.000,9
           NA,    P17N,    147,   1,-999.0,      28,  2,19930622,0106,  56.7860, -135.9942,   563,  179.000,    6.491,   33.080,2,   33.080,2,  189.200,2,  192.100,2,   37.970,2,   24.140,2,    0.040,2,    1.920,2, -999.000,9, -999.000,9, -999.000,9, -999.000,9, -999.000,9
           NA,    P17N,    147,   1,-999.0,      29,  2,19930622,0106,  56.7860, -135.9942,   563,  204.300,    6.144,   33.270,2,   33.262,2,  159.500,2,  161.800,2,   48.040,2,   28.050,2,    0.050,2,    2.150,2, -999.000,9, -999.000,9, -999.000,9, -999.000,9, -999.000,9
           NA,    P17N,    147,   1,-999.0,      30,  2,19930622,0106,  56.7860, -135.9942,   563,  254.600,    5.320,   33.828,2,   33.824,2,  106.400,2,  105.900,2,   63.380,2,   34.530,2,    0.040,2,    2.520,2, -999.000,9, -999.000,9, -999.000,9, -999.000,9, -999.000,9
           NA,    P17N,    147,   1,-999.0,      31,  2,19930622,0106,  56.7860, -135.9942,   563,  304.400,    4.859,   33.901,2,   33.899,2,   81.000,2,   80.400,2,   73.680,2,   37.550,2,    0.030,2,    2.710,2, -999.000,9, -999.000,9, -999.000,9, -999.000,9, -999.000,9
           NA,    P17N,    147,   1,-999.0,      32,  2,19930622,0106,  56.7860, -135.9942,   563,  355.300,    4.711,   33.940,2,   33.937,2,   63.100,2,   64.800,2,   79.520,2,   39.140,2,    0.030,2,    2.810,2, -999.000,9, -999.000,9, -999.000,9, -999.000,9, -999.000,9
           NA,    P17N,    147,   1,-999.0,      33,  2,19930622,0106,  56.7860, -135.9942,   563,  405.300,    4.560,   33.986,2,   33.979,2,   50.700,2,   52.200,2,   85.770,2,   40.190,2,    0.030,2,    2.890,2, -999.000,9, -999.000,9, -999.000,9, -999.000,9, -999.000,9
           NA,    P17N,    147,   1,-999.0,      34,  2,19930622,0106,  56.7860, -135.9942,   563,  456.200,    4.443,   34.019,2,   34.017,2,   42.500,2,   42.800,2,   91.420,2,   41.120,2,    0.030,2,    2.960,2, -999.000,9, -999.000,9, -999.000,9, -999.000,9, -999.000,9
           NA,    P17N,    147,   1,-999.0,      38,  2,19930622,0106,  56.7860, -135.9942,   563,  506.000,    4.354,   34.042,2,   34.041,2,   36.900,2,   37.900,2,   95.040,2,   41.570,2,    0.030,2,    3.000,2, -999.000,9, -999.000,9, -999.000,9, -999.000,9, -999.000,9
           NA,    P17N,    147,   1,-999.0,      36,  2,19930622,0106,  56.7860, -135.9942,   563,  588.700,    4.134,   34.109,2, -999.000,5,   28.300,2,   28.300,2,  104.790,2,   42.450,2,    0.020,2,    3.050,2, -999.000,9, -999.000,9, -999.000,9, -999.000,9, -999.000,9
           NA,    P17N,    148,   1,-999.0,      28,  2,19930622,0222,  56.7912, -135.9515,   229,    2.100,   13.132,   31.884,2,   31.886,2,  297.200,2,  298.300,2,   20.410,2,    0.170,2,    0.030,2,    0.500,2,    3.934,2,    1.944,2, -999.000,9, -999.000,9, -999.000,9
           NA,    P17N,    148,   1,-999.0,      29,  2,19930622,0222,  56.7912, -135.9515,   229,   28.000,    8.527, -999.000,4,   31.935,2, -999.000,9,  279.500,2,   24.780,2,   11.510,2,    0.310,2,    1.230,2,    4.506,2,    2.216,2, -999.000,9, -999.000,9, -999.000,9
           NA,    P17N,    148,   1,-999.0,      30,  2,19930622,0222,  56.7912, -135.9515,   229,   53.200,    7.575,   32.143,2,   32.150,2,  265.400,2,  274.600,2,   24.700,2,   13.970,2,    0.180,2,    1.330,2,    4.619,2,    2.324,2, -999.000,9, -999.000,9, -999.000,9
           NA,    P17N,    148,   1,-999.0,      31,  2,19930622,0222,  56.7912, -135.9515,   229,   78.100,    7.222,   32.398,2,   32.397,2,  248.300,2,  241.700,2,   29.060,2,   17.510,2,    0.100,2,    1.530,2,    4.296,2,    2.106,2, -999.000,9, -999.000,9, -999.000,9
           NA,    P17N,    148,   1,-999.0,      32,  2,19930622,0222,  56.7912, -135.9515,   229,  103.500,    6.572,   32.492,2,   32.496,2,  201.500,2,  201.900,2,   44.170,2,   23.950,2,    0.280,2,    1.970,2,    3.951,2,    1.897,2, -999.000,9, -999.000,9, -999.000,9
           NA,    P17N,    148,   1,-999.0,      33,  2,19930622,0222,  56.7912, -135.9515,   229,  127.700,    6.362,   32.589,2,   32.586,2,  197.900,2,  197.700,2,   46.120,2,   25.210,2,    0.060,2,    2.010,2, -999.000,9, -999.000,9, -999.000,9, -999.000,9, -999.000,9
           NA,    P17N,    148,   1,-999.0,      34,  2,19930622,0222,  56.7912, -135.9515,   229,  153.500,    6.245,   32.681,2,   32.682,2,  191.300,2,  190.400,2,   48.060,2,   26.080,2,    0.050,2,    2.060,2,    3.668,2,    1.827,2, -999.000,9, -999.000,9, -999.000,9
           NA,    P17N,    148,   1,-999.0,      38,  2,19930622,0222,  56.7912, -135.9515,   229,  178.400,    6.451,   32.915,2,   32.900,2,  177.200,2,  191.000,2,   43.100,2,   24.710,2,    0.050,2,    1.980,2, -999.000,9, -999.000,9, -999.000,9, -999.000,9, -999.000,9
           NA,    P17N,    148,   1,-999.0,      36,  2,19930622,0222,  56.7912, -135.9515,   229,  217.400,    6.283,   33.383,2,   33.378,2,  156.200,2,  159.600,2,   46.040,2,   27.800,2,    0.050,2,    2.130,2,    3.173,2,    1.501,2, -999.000,9, -999.000,9, -999.000,9