BOTTLE,20215010JOAExport
EXPOCODE,SECT_ID,STNNBR,CASTNO,SAMPNO,BTLNBR,BTLNBR_FLAG_W,DATE,TIME,LATITUDE,LONGITUDE,DEPTH,CTDPRS,CTDTMP,CTDSAL,CTDSAL_FLAG_W,SALNTY,SALNTY_FLAG_W,CTDOXY,CTDOXY_FLAG_W,OXYGEN,OXYGEN_FLAG_W,SILCAT,SILCAT_FLAG_W,NITRAT,NITRAT_FLAG_W,NITRIT,NITRIT_FLAG_W,PHSPHT,PHSPHT_FLAG_W,CFC-11,CFC-11_FLAG_W,CFC-12,CFC-12_FLAG_W,SF6,SF6_FLAG_W,TCARBN,TCARBN_FLAG_W,ALKALI,ALKALI_FLAG_W
,,,,,,,,,,,,DB,ITS-90,PSS-78,,PSS-78,,UMOL/KG,,UMOL/KG,,UMOL/KG,,UMOL/KG,,UMOL/KG,,UMOL/KG,,PMOL/KG,,PMOL/KG,,PMOL/KG,,UMOL/KG,,UMOL/KG
           NA,    P19C,    234,   1,-999.0,      76,  3,19930223,1609, -53.0375,  -74.9138,   125,    2.400,   11.419,   31.350,2, -999.000,4,  304.000,2, -999.000,4, -999.000,4, -999.000,4, -999.000,4, -999.000,4, -999.000,9, -999.000,9, -999.000,9, -999.000,2, -999.000,9
           NA,    P19C,    234,   1,-999.0,      75,  2,19930223,1609, -53.0375,  -74.9138,   125,   27.300,   10.401,   33.606,2,   33.605,2,  290.800,2,  271.500,2,    1.900,2,    9.580,2,    0.240,2,    0.930,2, -999.000,9, -999.000,9, -999.000,9, -999.000,9, -999.000,9
           NA,    P19C,    234,   1,-999.0,      70,  2,19930223,1609, -53.0375,  -74.9138,   125,   44.000,   10.008,   33.698,2,   33.698,2,  287.900,2,  270.800,2,    1.900,2,   11.060,2,    0.220,2,    0.990,2, -999.000,9, -999.000,9, -999.000,9, 2050.400,2, -999.000,9
           NA,    P19C,    234,   1,-999.0,      71,  2,19930223,1609, -53.0375,  -74.9138,   125,   44.400,   10.008,   33.698,2, -999.000,9,  288.100,2,  270.700,2, -999.000,9, -999.000,9, -999.000,9, -999.000,9, -999.000,9, -999.000,9, -999.000,9, -999.000,9, -999.000,9
           NA,    P19C,    234,   1,-999.0,      72,  2,19930223,1609, -53.0375,  -74.9138,   125,   45.700,    9.998,   33.701,2, -999.000,9,  288.100,2,  270.800,2, -999.000,9, -999.000,9, -999.000,9, -999.000,9, -999.000,9, -999.000,9, -999.000,9, -999.000,9, -999.000,9
           NA,    P19C,    234,   1,-999.0,      73,  2,19930223,1609, -53.0375,  -74.9138,   125,   46.200,    9.998,   33.699,2, -999.000,9,  288.100,2,  270.700,2, -999.000,9, -999.000,9, -999.000,9, -999.000,9, -999.000,9, -999.000,9, -999.000,9, -999.000,9, -999.000,9
           NA,    P19C,    234,   1,-999.0,      74,  2,19930223,1609, -53.0375,  -74.9138,   125,   48.200,    9.929,   33.717,2, -999.000,9,  287.800,2,  270.700,2, -999.000,9, -999.000,9, -999.000,9, -999.000,9, -999.000,9, -999.000,9, -999.000,9, -999.000,9, -999.000,9
           NA,    P19C,    234,   1,-999.0,      53,  2,19930223,1609, -53.0375,  -74.9138,   125,   53.700,    9.800,   33.743,2, -999.000,9,  283.800,2,  272.800,2, -999.000,9, -999.000,9, -999.000,9, -999.000,9, -999.000,9, -999.000,9, -999.000,9, -999.000,9, -999.000,9
           NA,    P19C,    234,   1,-999.0,      54,  3,19930223,1609, -53.0375,  -74.9138,   125,   54.200,    9.790,   33.744,2, -999.000,9,  283.800,2, -999.000,4, -999.000,9, -999.000,9, -999.000,9, -999.000,9, -999.000,9, -999.000,9, -999.000,9, -999.000,9, -999.000,9
           NA,    P19C,    234,   1,-999.0,      56,  2,19930223,1609, -53.0375,  -74.9138,   125,   57.400,    9.754,   33.753,2, -999.000,9,  279.800,2,  272.900,2, -999.000,9, -999.000,9, -999.000,9, -999.000,9, -999.000,9, -999.000,9, -999.000,9, -999.000,9, -999.000,9
           NA,    P19C,    234,   1,-999.0,      57,  2,19930223,1609, -53.0375,  -74.9138,   125,   59.300,    9.755,   33.755,2, -999.000,9,  278.600,2,  272.900,2, -999.000,9, -999.000,9, -999.000,9, -999.000,9, -999.000,9, -999.000,9, -999.000,9, -999.000,9, -999.000,9
           NA,    P19C,    234,   1,-999.0,      51,  2,19930223,1609, -53.0375,  -74.9138,   125,   61.100,    9.755,   33.756,2,   33.755,2,  279.600,2,  272.800,2,    2.500,2,   11.910,2,    0.190,2,    1.030,2, -999.000,9, -999.000,9, -999.000,9, -999.000,9, -999.000,9
           NA,    P19C,    234,   1,-999.0,      58,  2,19930223,1609, -53.0375,  -74.9138,   125,   61.400,    9.756,   33.757,2, -999.000,9,  279.600,2,  272.900,2, -999.000,9, -999.000,9, -999.000,9, -999.000,9, -999.000,9, -999.000,9, -999.000,9, 2056.400,2, -999.000,9
           NA,    P19C,    234,   1,-999.0,      59,  2,19930223,1609, -53.0375,  -74.9138,   125,   63.000,    9.753,   33.758,2, -999.000,9,  273.500,2,  272.900,2, -999.000,9, -999.000,9, -999.000,9, -999.000,9, -999.000,9, -999.000,9, -999.000,9, -999.000,9, -999.000,9
           NA,    P19C,    234,   1,-999.0,      60,  2,19930223,1609, -53.0375,  -74.9138,   125,   64.500,    9.744,   33.761,2, -999.000,9,  273.500,2,  273.000,2, -999.000,9, -999.000,9, -999.000,9, -999.000,9, -999.000,9, -999.000,9, -999.000,9, -999.000,9, -999.000,9
           NA,    P19C,    234,   1,-999.0,      61,  2,19930223,1609, -53.0375,  -74.9138,   125,   66.300,    9.718,   33.765,2, -999.000,9,  277.100,2,  272.300,2, -999.000,9, -999.000,9, -999.000,9, -999.000,9, -999.000,9, -999.000,9, -999.000,9, -999.000,9, -999.000,9
           NA,    P19C,    234,   1,-999.0,      62,  2,19930223,1609, -53.0375,  -74.9138,   125,   66.900,    9.703,   33.768,2, -999.000,9,  279.800,2,  272.200,2, -999.000,9, -999.000,9, -999.000,9, -999.000,9, -999.000,9, -999.000,9, -999.000,9, -999.000,9, -999.000,9
           NA,    P19C,    234,   1,-999.0,      63,  2,19930223,1609, -53.0375,  -74.9138,   125,   67.700,    9.696,   33.767,2, -999.000,9,  279.800,2,  272.100,2, -999.000,9, -999.000,9, -999.000,9, -999.000,9, -999.000,9, -999.000,9, -999.000,9, -999.000,9, -999.000,9
           NA,    P19C,    234,   1,-999.0,      64,  2,19930223,1609, -53.0375,  -74.9138,   125,   69.000,    9.685,   33.767,2, -999.000,9,  280.400,2,  272.000,2, -999.000,9, -999.000,9, -999.000,9, -999.000,9, -999.000,9, -999.000,9, -999.000,9, -999.000,9, -999.000,9
           NA,    P19C,    234,   1,-999.0,      65,  2,19930223,1609, -53.0375,  -74.9138,   125,   69.900,    9.680,   33.770,2, -999.000,9,  280.400,2,  271.400,2, -999.000,9, -999.000,9, -999.000,9, -999.000,9, -999.000,9, -999.000,9, -999.000,9, -999.000,9, -999.000,9
           NA,    P19C,    234,   1,-999.0,      32,  2,19930223,1609, -53.0375,  -74.9138,   125,   70.500,    9.676,   33.771,2, -999.000,9,  280.400,2,  271.600,2, -999.000,9, -999.000,9, -999.000,9, -999.000,9, -999.000,9, -999.000,9, -999.000,9, -999.000,9, -999.000,9
           NA,    P19C,    234,   1,-999.0,      33,  2,19930223,1609, -53.0375,  -74.9138,   125,   71.500,    9.663,   33.769,2, -999.000,9,  282.000,2,  271.100,2, -999.000,9, -999.000,9, -999.000,9, -999.000,9, -999.000,9, -999.000,9, -999.000,9, -999.000,9, -999.000,9
           NA,    P19C,    234,   1,-999.0,      67,  3,19930223,1609, -53.0375,  -74.9138,   125,   71.700,    9.663,   33.770,2, -999.000,9,  282.000,2, -999.000,4, -999.000,9, -999.000,9, -999.000,9, -999.000,9, -999.000,9, -999.000,9, -999.000,9, -999.000,9, -999.000,9
           NA,    P19C,    234,   1,-999.0,      36,  2,19930223,1609, -53.0375,  -74.9138,   125,   72.000,    9.657,   33.772,2, -999.000,9,  282.000,2,  271.300,2, -999.000,9, -999.000,9, -999.000,9, -999.000,9, -999.000,9, -999.000,9, -999.000,9, -999.000,9, -999.000,9
           NA,    P19C,    234,   1,-999.0,      34,  2,19930223,1609, -53.0375,  -74.9138,   125,   72.100,    9.651,   33.772,2, -999.000,9,  282.000,2,  270.900,2, -999.000,9, -999.000,9, -999.000,9, -999.000,9, -999.000,9, -999.000,9, -999.000,9, -999.000,9, -999.000,9
           NA,    P19C,    234,   1,-999.0,      68,  2,19930223,1609, -53.0375,  -74.9138,   125,   72.500,    9.639,   33.775,2, -999.000,9,  282.000,2,  271.100,2, -999.000,9, -999.000,9, -999.000,9, -999.000,9, -999.000,9, -999.000,9, -999.000,9, -999.000,9, -999.000,9
           NA,    P19C,    234,   1,-999.0,      35,  2,19930223,1609, -53.0375,  -74.9138,   125,   72.600,    9.638,   33.774,2, -999.000,9,  282.000,2,  270.400,2, -999.000,9, -999.000,9, -999.000,9, -999.000,9, -999.000,9, -999.000,9, -999.000,9, -999.000,9, -999.000,9
           NA,    P19C,    234,   1,-999.0,      69,  3,19930223,1609, -53.0375,  -74.9138,   125,   72.600,    9.645,   33.776,2, -999.000,9,  282.000,2, -999.000,4, -999.000,9, -999.000,9, -999.000,9, -999.000,9, -999.000,9, -999.000,9, -999.000,9, -999.000,9, -999.000,9
           NA,    P19C,    234,   1,-999.0,      31,  2,19930223,1609, -53.0375,  -74.9138,   125,   99.700,    8.960,   33.859,2,   33.859,2,  257.200,2,  255.200,2,    3.200,2,   15.400,2,    0.180,2,    1.240,2, -999.000,9, -999.000,9, -999.000,9, 2082.000,2, -999.000,9
           NA,    P19C,    234,   1,-999.0,       2,  2,19930223,1609, -53.0375,  -74.9138,   125,  123.300,    7.787,   33.967,2,   33.944,2,  238.000,2,  239.400,2,    4.700,2,   18.930,2,    0.040,2,    1.450,2, -999.000,9, -999.000,9, -999.000,9, 2110.500,2, -999.000,9