BOTTLE,20215010JOAExport
EXPOCODE,SECT_ID,STNNBR,CASTNO,SAMPNO,BTLNBR,BTLNBR_FLAG_W,DATE,TIME,LATITUDE,LONGITUDE,DEPTH,CTDPRS,CTDTMP,CTDSAL,CTDSAL_FLAG_W,SALNTY,SALNTY_FLAG_W,CTDOXY,CTDOXY_FLAG_W,OXYGEN,OXYGEN_FLAG_W,SILCAT,SILCAT_FLAG_W,NITRAT,NITRAT_FLAG_W,NITRIT,NITRIT_FLAG_W,PHSPHT,PHSPHT_FLAG_W,CFC-11,CFC-11_FLAG_W,CFC-12,CFC-12_FLAG_W,SF6,SF6_FLAG_W,TCARBN,TCARBN_FLAG_W,ALKALI,ALKALI_FLAG_W
,,,,,,,,,,,,DB,ITS-90,PSS-78,,PSS-78,,UMOL/KG,,UMOL/KG,,UMOL/KG,,UMOL/KG,,UMOL/KG,,UMOL/KG,,PMOL/KG,,PMOL/KG,,PMOL/KG,,UMOL/KG,,UMOL/KG
           NA,    P17E,    189,   1,-999.0,      13,  2,19930104,1529, -52.5413, -106.6033,  3810,   16.500,    7.444,   34.306,2,   34.305,2, -999.000,3,  292.000,2,    2.380,2,   14.750,2,    0.190,2,    1.140,2,    4.329,2,    2.076,2, -999.000,9, 2092.400,2, -999.000,9
           NA,    P17E,    189,   1,-999.0,      14,  2,19930104,1529, -52.5413, -106.6033,  3810,   65.800,    7.388,   34.306,2,   34.305,2, -999.000,3,  293.200,2,    2.110,2,   14.810,2,    0.190,2,    1.130,2,    4.348,2,    2.099,2, -999.000,9, 2090.700,2, -999.000,9
           NA,    P17E,    189,   1,-999.0,      15,  2,19930104,1529, -52.5413, -106.6033,  3810,  116.800,    6.765,   34.297,2,   34.297,2,  286.100,2,  286.000,2,    4.740,2,   16.880,2,    0.130,2,    1.230,2,    4.290,2,    2.066,2, -999.000,9, 2100.800,2, -999.000,9
           NA,    P17E,    189,   1,-999.0,      16,  2,19930104,1529, -52.5413, -106.6033,  3810,  167.500,    6.783,   34.317,2,   34.316,2,  280.800,2,  285.600,2,    5.090,2,   17.100,2,    0.020,2,    1.230,2,    4.182,2,    2.017,2, -999.000,9, 2103.100,2, -999.000,9
           NA,    P17E,    189,   1,-999.0,      17,  2,19930104,1529, -52.5413, -106.6033,  3810,  235.800,    6.638,   34.318,2,   34.317,2,  282.100,2,  274.400,2,    6.260,2,   19.230,2,    0.020,2,    1.390,2,    3.870,2,    1.871,2, -999.000,9, 2113.900,2, -999.000,9
           NA,    P17E,    189,   1,-999.0,      18,  2,19930104,1529, -52.5413, -106.6033,  3810,  308.200,    6.448,   34.310,2,   34.310,2,  271.800,2,  269.400,2,    7.440,2,   20.550,2,    0.010,2,    1.450,2,    3.662,2,    1.750,2, -999.000,9, 2120.100,2, -999.000,9
           NA,    P17E,    189,   1,-999.0,      19,  2,19930104,1529, -52.5413, -106.6033,  3810,  397.200,    6.232,   34.296,2,   34.296,2,  266.300,2,  268.100,2,    8.410,2,   21.310,2,    0.010,2,    1.500,2,    3.507,6,    1.679,6, -999.000,9, 2121.800,2, -999.000,9
           NA,    P17E,    189,   1,-999.0,      20,  2,19930104,1529, -52.5413, -106.6033,  3810,  488.000,    6.050,   34.290,2,   34.289,2,  264.200,2,  264.600,2,    9.580,2,   22.130,2,    0.010,2,    1.560,2,    3.313,2,    1.560,2, -999.000,9, 2125.400,2, -999.000,9
           NA,    P17E,    189,   1,-999.0,      21,  2,19930104,1529, -52.5413, -106.6033,  3810,  599.400,    5.679,   34.276,2,   34.275,2,  252.500,2,  255.200,2,   12.200,2,   23.890,2,    0.010,2,    1.650,2,    2.849,2,    1.333,2, -999.000,9, 2136.300,2, -999.000,9
           NA,    P17E,    189,   1,-999.0,      22,  2,19930104,1529, -52.5413, -106.6033,  3810,  706.700,    5.232,   34.271,2,   34.270,2,  240.900,2,  242.300,2,   16.690,2,   25.870,2,    0.000,2,    1.780,2,    2.351,2,    1.082,2, -999.000,9, 2150.500,2, -999.000,9
           NA,    P17E,    189,   1,-999.0,      23,  2,19930104,1529, -52.5413, -106.6033,  3810,  857.700,    4.563,   34.289,2,   34.288,2,  225.200,2,  221.900,2,   26.330,2,   28.740,2,    0.000,2,    1.990,2,    1.596,2,    0.739,2, -999.000,9, 2172.700,2, -999.000,9
           NA,    P17E,    189,   1,-999.0,      24,  2,19930104,1529, -52.5413, -106.6033,  3810, 1011.500,    3.796,   34.307,2,   34.306,2,  211.400,2,  211.500,2,   36.810,2,   31.010,2,    0.000,2,    2.140,2,    1.111,2,    0.515,2, -999.000,9, 2190.800,2, -999.000,9
           NA,    P17E,    189,   1,-999.0,      25,  2,19930104,1529, -52.5413, -106.6033,  3810, 1211.100,    3.123,   34.378,2,   34.376,2,  194.100,2,  194.300,2,   51.420,2,   32.900,2,    0.000,2,    2.260,2,    0.667,2,    0.303,2, -999.000,9, 2215.300,2, -999.000,9
           NA,    P17E,    189,   1,-999.0,      27,  2,19930104,1529, -52.5413, -106.6033,  3810, 1509.600,    2.645,   34.496,2,   34.494,2,  176.300,2,  177.200,2,   69.290,2,   33.960,2,    0.000,2,    2.350,2,    0.335,2,    0.156,2, -999.000,9, 2244.200,2, -999.000,9
           NA,    P17E,    189,   1,-999.0,      26,  2,19930104,1529, -52.5413, -106.6033,  3810, 1511.300,    2.645,   34.496,2,   34.494,2,  176.300,2,  176.900,2,   68.940,2,   33.960,2,    0.000,2,    2.340,2,    0.329,2,    0.152,2, -999.000,9, 2242.100,2, -999.000,9
           NA,    P17E,    189,   1,-999.0,      28,  2,19930104,1529, -52.5413, -106.6033,  3810, 1855.300,    2.379,   34.616,2,   34.616,2,  170.700,2,  170.000,2,   82.290,2,   33.560,2,    0.000,2,    2.310,2,    0.105,2,    0.047,2, -999.000,9, 2254.500,2, -999.000,9
           NA,    P17E,    189,   1,-999.0,      29,  2,19930104,1529, -52.5413, -106.6033,  3810, 2209.000,    2.150,   34.687,2,   34.686,2,  172.500,2,  173.900,2,   91.790,2,   32.550,2,    0.000,2,    2.250,2,    0.040,2,    0.017,2, -999.000,9, 2258.900,2, -999.000,9
           NA,    P17E,    189,   1,-999.0,      30,  2,19930104,1529, -52.5413, -106.6033,  3810, 2557.200,    1.882,   34.710,2,   34.710,2,  176.400,2,  177.600,2,  101.760,2,   32.380,2,    0.000,2,    2.240,2,    0.014,2,    0.005,2, -999.000,9, 2261.700,2, -999.000,9
           NA,    P17E,    189,   1,-999.0,      31,  2,19930104,1529, -52.5413, -106.6033,  3810, 2915.400,    1.647,   34.712,2,   34.712,2,  181.000,2,  181.300,2,  110.720,2,   32.490,2,    0.000,2,    2.240,2,    0.010,2,    0.006,2, -999.000,9, 2268.400,2, -999.000,9
           NA,    P17E,    189,   1,-999.0,      32,  2,19930104,1529, -52.5413, -106.6033,  3810, 3240.000,    1.531,   34.718,2,   34.718,2,  187.900,2,  187.600,2,  111.710,2,   32.210,2,    0.000,2,    2.220,2,    0.006,2,    0.006,2, -999.000,9, 2265.800,2, -999.000,9
           NA,    P17E,    189,   1,-999.0,      33,  2,19930104,1529, -52.5413, -106.6033,  3810, 3499.100,    1.339,   34.717,2,   34.717,2,  193.900,2,  192.900,2,  116.500,2,   32.150,2,    0.000,2,    2.210,2,    0.006,2,    0.002,2, -999.000,9, 2267.200,2, -999.000,9
           NA,    P17E,    189,   1,-999.0,      34,  2,19930104,1529, -52.5413, -106.6033,  3810, 3499.400,    1.336,   34.718,2,   34.717,2,  193.900,2,  193.000,2,  116.650,2,   32.150,2,    0.000,2,    2.210,2, -999.000,5,    0.002,2, -999.000,9, 2263.500,2, -999.000,9
           NA,    P17E,    189,   1,-999.0,      35,  2,19930104,1529, -52.5413, -106.6033,  3810, 3751.300,    1.020,   34.713,2,   34.713,2,  198.900,2,  199.100,2,  125.930,2,   32.310,2,    0.000,2, -999.000,5,    0.004,2,    0.004,2, -999.000,9, 2267.800,2, -999.000,9
           NA,    P17E,    189,   1,-999.0,      36,  2,19930104,1529, -52.5413, -106.6033,  3810, 3883.000,    0.933,   34.712,2,   34.711,2,  200.500,2,  200.900,2,  128.640,2,   32.310,2,    0.000,2,    2.230,2,    0.007,6,    0.004,6, -999.000,9, 2268.000,2, -999.000,9
           NA,    P17E,    190,   1,-999.0,      13,  2,19930104,2237, -52.6437, -105.5277,  4028,   15.900,    7.768,   34.299,2,   34.299,2, -999.000,3,  290.700,2,    2.080,2,   14.270,2,    0.220,2,    1.130,2, -999.000,9, -999.000,9, -999.000,9, 2086.400,2, -999.000,9
           NA,    P17E,    190,   1,-999.0,      14,  2,19930104,2237, -52.6437, -105.5277,  4028,   75.200,    7.668,   34.298,2,   34.297,2, -999.000,3,  292.700,2,    1.810,2,   14.380,2,    0.220,2,    1.130,2, -999.000,9, -999.000,9, -999.000,9, -999.000,9, -999.000,9
           NA,    P17E,    190,   1,-999.0,      15,  2,19930104,2237, -52.6437, -105.5277,  4028,  113.900,    7.082,   34.308,2,   34.305,2,  287.900,2,  289.000,2,    3.020,2,   15.730,2,    0.260,2,    1.250,2, -999.000,9, -999.000,9, -999.000,9, -999.000,9, -999.000,9
           NA,    P17E,    190,   1,-999.0,      16,  2,19930104,2237, -52.6437, -105.5277,  4028,  153.900,    6.754,   34.314,2,   34.313,2,  283.700,2,  284.300,2,    5.090,2,   17.650,2,    0.080,2,    1.290,2, -999.000,9, -999.000,9, -999.000,9, -999.000,9, -999.000,9
           NA,    P17E,    190,   1,-999.0,      17,  2,19930104,2237, -52.6437, -105.5277,  4028,  214.200,    6.666,   34.315,2,   34.315,2,  283.200,2,  283.200,2,    5.670,2,   18.250,2,    0.030,2,    1.330,2, -999.000,9, -999.000,9, -999.000,9, -999.000,9, -999.000,9
           NA,    P17E,    190,   1,-999.0,      18,  2,19930104,2237, -52.6437, -105.5277,  4028,  314.600,    6.532,   34.319,2,   34.319,2,  277.900,2,  279.300,2,    6.460,2,   19.330,2,    0.020,2,    1.400,2, -999.000,9, -999.000,9, -999.000,9, -999.000,9, -999.000,9
           NA,    P17E,    190,   1,-999.0,      19,  2,19930104,2237, -52.6437, -105.5277,  4028,  415.900,    6.282,   34.301,2,   34.301,2,  275.400,2,  283.400,2,    6.620,2,   19.560,2,    0.010,2,    1.420,2, -999.000,9, -999.000,9, -999.000,9, -999.000,9, -999.000,9
           NA,    P17E,    190,   1,-999.0,      20,  2,19930104,2237, -52.6437, -105.5277,  4028,  515.800,    6.051,   34.285,2,   34.284,2,  280.500,2,  273.500,2,    8.470,2,   21.300,2,    0.010,2,    1.520,2, -999.000,9, -999.000,9, -999.000,9, -999.000,9, -999.000,9
           NA,    P17E,    190,   1,-999.0,      21,  2,19930104,2237, -52.6437, -105.5277,  4028,  642.000,    5.654,   34.268,2,   34.267,2,  254.400,2,  261.800,2,   11.820,2,   23.720,2,    0.010,2,    1.670,2, -999.000,9, -999.000,9, -999.000,9, -999.000,9, -999.000,9
           NA,    P17E,    190,   1,-999.0,      23,  2,19930104,2237, -52.6437, -105.5277,  4028,  913.800,    4.489,   34.292,2,   34.291,2,  218.800,2,  221.000,2,   27.290,2,   29.210,2,    0.010,2,    2.030,2, -999.000,9, -999.000,9, -999.000,9, -999.000,9, -999.000,9
           NA,    P17E,    190,   1,-999.0,      24,  2,19930104,2237, -52.6437, -105.5277,  4028, 1115.500,    3.540,   34.326,2,   34.325,2,  206.600,2,  206.700,2,   41.710,2,   31.880,2,    0.000,2,    2.210,2, -999.000,9, -999.000,9, -999.000,9, -999.000,9, -999.000,9
           NA,    P17E,    190,   1,-999.0,      25,  2,19930104,2237, -52.6437, -105.5277,  4028, 1321.000,    2.979,   34.408,2,   34.405,2,  189.300,2,  189.300,2,   56.550,2,   33.490,2,    0.000,2,    2.330,2, -999.000,9, -999.000,9, -999.000,9, -999.000,9, -999.000,9
           NA,    P17E,    190,   1,-999.0,      26,  2,19930104,2237, -52.6437, -105.5277,  4028, 1524.600,    2.634,   34.489,2,   34.485,2,  178.000,2,  178.700,2,   68.010,2,   34.120,2,    0.000,2,    2.370,2, -999.000,9, -999.000,9, -999.000,9, -999.000,9, -999.000,9
           NA,    P17E,    190,   1,-999.0,      27,  2,19930104,2237, -52.6437, -105.5277,  4028, 1728.200,    2.451,   34.572,2,   34.571,2,  171.400,2,  172.200,2,   77.550,2,   34.070,2,    0.000,2,    2.360,2, -999.000,9, -999.000,9, -999.000,9, -999.000,9, -999.000,9
           NA,    P17E,    190,   1,-999.0,      28,  2,19930104,2237, -52.6437, -105.5277,  4028, 1981.900,    2.300,   34.646,2,   34.645,2,  171.000,2,  171.200,2,   85.620,2,   33.320,2,    0.000,2,    2.330,2, -999.000,9, -999.000,9, -999.000,9, -999.000,9, -999.000,9
           NA,    P17E,    190,   1,-999.0,      29,  2,19930104,2237, -52.6437, -105.5277,  4028, 2236.300,    2.148,   34.688,2,   34.687,2,  173.700,2,  174.800,2,   91.140,2,   32.810,2,    0.000,2,    2.270,2, -999.000,9, -999.000,9, -999.000,9, -999.000,9, -999.000,9
           NA,    P17E,    190,   1,-999.0,      30,  2,19930104,2237, -52.6437, -105.5277,  4028, 2489.000,    1.976,   34.709,2,   34.708,2,  176.900,2,  178.900,2,   97.100,2,   32.300,2,    0.000,2,    2.240,2, -999.000,9, -999.000,9, -999.000,9, -999.000,9, -999.000,9
           NA,    P17E,    190,   1,-999.0,      31,  2,19930104,2237, -52.6437, -105.5277,  4028, 2789.500,    1.740,   34.717,2,   34.717,2,  182.300,2,  183.200,2,  104.800,2,   32.130,2,    0.000,2,    2.260,2, -999.000,9, -999.000,9, -999.000,9, -999.000,9, -999.000,9
           NA,    P17E,    190,   1,-999.0,      32,  2,19930104,2237, -52.6437, -105.5277,  4028, 3085.100,    1.579,   34.719,2,   34.719,2,  187.300,2,  187.900,2,  109.290,2,   32.190,2,    0.000,2,    2.240,2, -999.000,9, -999.000,9, -999.000,9, -999.000,9, -999.000,9
           NA,    P17E,    190,   1,-999.0,      33,  2,19930104,2237, -52.6437, -105.5277,  4028, 3383.100,    1.380,   34.718,2,   34.718,2,  192.700,2,  193.000,2,  114.650,2,   32.140,2,    0.000,2,    2.240,2, -999.000,9, -999.000,9, -999.000,9, -999.000,9, -999.000,9
           NA,    P17E,    190,   1,-999.0,      34,  2,19930104,2237, -52.6437, -105.5277,  4028, 3686.700,    1.063,   34.714,2,   34.713,2,  197.700,2,  199.500,2,  123.970,2,   32.310,2,    0.000,2,    2.250,2, -999.000,9, -999.000,9, -999.000,9, -999.000,9, -999.000,9
           NA,    P17E,    190,   1,-999.0,      35,  2,19930104,2237, -52.6437, -105.5277,  4028, 3935.900,    0.859,   34.710,2,   34.710,2,  202.800,2,  203.200,2,  130.490,2,   32.490,2,    0.000,2,    2.260,2, -999.000,9, -999.000,9, -999.000,9, -999.000,9, -999.000,9
           NA,    P17E,    190,   1,-999.0,      36,  2,19930104,2237, -52.6437, -105.5277,  4028, 4096.000,    0.817,   34.710,2,   34.709,2,  204.100,2,  204.500,2,  131.980,2,   32.720,2,    0.000,2,    2.260,2, -999.000,9, -999.000,9, -999.000,9, -999.000,9, -999.000,9