BOTTLE,20215010JOAExport
EXPOCODE,SECT_ID,STNNBR,CASTNO,SAMPNO,BTLNBR,BTLNBR_FLAG_W,DATE,TIME,LATITUDE,LONGITUDE,DEPTH,CTDPRS,CTDTMP,CTDSAL,CTDSAL_FLAG_W,SALNTY,SALNTY_FLAG_W,CTDOXY,CTDOXY_FLAG_W,OXYGEN,OXYGEN_FLAG_W,SILCAT,SILCAT_FLAG_W,NITRAT,NITRAT_FLAG_W,NITRIT,NITRIT_FLAG_W,PHSPHT,PHSPHT_FLAG_W,CFC-11,CFC-11_FLAG_W,CFC-12,CFC-12_FLAG_W,SF6,SF6_FLAG_W,TCARBN,TCARBN_FLAG_W,ALKALI,ALKALI_FLAG_W
,,,,,,,,,,,,DB,ITS-90,PSS-78,,PSS-78,,UMOL/KG,,UMOL/KG,,UMOL/KG,,UMOL/KG,,UMOL/KG,,UMOL/KG,,PMOL/KG,,PMOL/KG,,PMOL/KG,,UMOL/KG,,UMOL/KG
           NA,    P19C,    240,   1,-999.0,      52,  2,19930224,1351, -53.2862,  -76.0948,  4089,    2.200,    9.937,   33.779,2,   33.779,2,  280.900,2,  279.300,2,    1.900,2,   12.020,2,    0.190,2,    1.000,2,    3.855,2,    1.893,2, -999.000,9, 2050.100,2, -999.000,9
           NA,    P19C,    240,   1,-999.0,      51,  2,19930224,1351, -53.2862,  -76.0948,  4089,   29.800,    9.199,   33.936,2,   33.940,2,  280.300,2,  280.800,2,    1.900,2,   14.090,2,    0.190,2,    1.100,2, -999.000,9, -999.000,9, -999.000,9, -999.000,9, -999.000,9
           NA,    P19C,    240,   1,-999.0,      31,  2,19930224,1351, -53.2862,  -76.0948,  4089,   56.000,    9.036,   33.983,2,   33.983,2,  280.900,2,  282.100,2,    1.900,2,   14.710,2,    0.210,2,    1.130,2,    3.989,2,    1.956,2, -999.000,9, -999.000,9, -999.000,9
           NA,    P19C,    240,   1,-999.0,       2,  3,19930224,1351, -53.2862,  -76.0948,  4089,   81.100,    8.737,   33.999,2,   33.996,2,  281.500,2, -999.000,4,    1.900,2,   15.330,2,    0.230,2,    1.180,2, -999.000,9, -999.000,9, -999.000,9, -999.000,9, -999.000,9
           NA,    P19C,    240,   1,-999.0,      76,  2,19930224,1351, -53.2862,  -76.0948,  4089,  105.900,    7.134,   34.086,2,   34.083,2,  244.300,2,  232.000,2,    6.800,2,   22.290,2,    0.050,2,    1.630,2,    3.723,2,    1.759,2, -999.000,9, -999.000,9, -999.000,9
           NA,    P19C,    240,   1,-999.0,      30,  2,19930224,1351, -53.2862,  -76.0948,  4089,  130.700,    7.122,   34.147,2,   34.147,2,  211.100,2,  204.000,2,    8.900,2,   24.740,2,    0.020,2,    1.800,2,    3.272,2,    1.526,2, -999.000,9, -999.000,9, -999.000,9
           NA,    P19C,    240,   1,-999.0,      74,  2,19930224,1351, -53.2862,  -76.0948,  4089,  156.000,    6.621,   34.168,2,   34.166,2,  217.100,2,  216.800,2,    9.100,2,   24.920,2,    0.020,2,    1.790,2,    3.376,2,    1.579,2, -999.000,9, -999.000,9, -999.000,9
           NA,    P19C,    240,   1,-999.0,      73,  2,19930224,1351, -53.2862,  -76.0948,  4089,  181.500,    6.283,   34.180,2,   34.176,2,  214.900,2,  228.100,2,    9.100,2,   24.840,2,    0.010,2,    1.770,2,    3.450,2,    1.618,2, -999.000,9, -999.000,9, -999.000,9
           NA,    P19C,    240,   1,-999.0,      72,  2,19930224,1351, -53.2862,  -76.0948,  4089,  206.500,    5.763,   34.149,2,   34.148,2,  261.200,2,  266.000,2,    7.800,2,   22.600,2,    0.020,2,    1.610,2,    4.131,2,    1.969,2, -999.000,9, -999.000,9, -999.000,9
           NA,    P19C,    240,   1,-999.0,      71,  2,19930224,1351, -53.2862,  -76.0948,  4089,  257.400,    5.716,   34.218,2,   34.218,2,  245.500,2,  248.100,2,    9.800,2,   24.560,2,    0.010,2,    1.710,2,    3.423,2,    1.600,2, -999.000,9, -999.000,9, -999.000,9
           NA,    P19C,    240,   1,-999.0,      70,  2,19930224,1351, -53.2862,  -76.0948,  4089,  307.800,    5.554,   34.234,2,   34.234,2,  264.700,2,  255.500,2,   10.400,2,   24.330,2,    0.000,2,    1.700,2,    3.311,2,    1.562,2, -999.000,9, -999.000,9, -999.000,9
           NA,    P19C,    240,   1,-999.0,      36,  2,19930224,1351, -53.2862,  -76.0948,  4089,  357.200,    5.459,   34.236,2,   34.236,2,  258.900,2,  260.400,2,   10.500,2,   24.100,2,    0.010,2,    1.680,2,    3.314,2,    1.539,2, -999.000,9, -999.000,9, -999.000,9
           NA,    P19C,    240,   1,-999.0,      28,  2,19930224,1351, -53.2862,  -76.0948,  4089,  407.600,    5.229,   34.220,2,   34.220,2,  270.100,2,  271.400,2,   10.500,2,   23.730,2,    0.000,2,    1.660,2,    3.686,2,    1.741,2, -999.000,9, -999.000,9, -999.000,9
           NA,    P19C,    240,   1,-999.0,      35,  2,19930224,1351, -53.2862,  -76.0948,  4089,  508.000,    5.040,   34.221,2,   34.221,2,  275.900,2,  275.700,2,   11.300,2,   23.870,2,    0.000,2,    1.670,2,    3.636,2,    1.721,2, -999.000,9, -999.000,9, -999.000,9
           NA,    P19C,    240,   1,-999.0,      68,  2,19930224,1351, -53.2862,  -76.0948,  4089,  608.600,    4.826,   34.217,2,   34.217,2,  270.300,2,  271.700,2,   13.100,2,   24.750,2,    0.000,2,    1.720,2,    3.423,2,    1.614,2, -999.000,9, -999.000,9, -999.000,9
           NA,    P19C,    240,   1,-999.0,      34,  2,19930224,1351, -53.2862,  -76.0948,  4089,  708.300,    4.501,   34.224,2,   34.222,2,  258.100,2,  257.400,2,   17.800,2,   26.620,2,    0.000,2,    1.850,2,    2.728,2,    1.256,2, -999.000,9, -999.000,9, -999.000,9
           NA,    P19C,    240,   1,-999.0,      67,  2,19930224,1351, -53.2862,  -76.0948,  4089,  809.200,    4.135,   34.230,2,   34.228,2,  237.100,2,  246.900,2,   23.300,2,   28.200,2,    0.000,2,    1.960,2,    2.486,2,    1.142,2, -999.000,9, -999.000,9, -999.000,9
           NA,    P19C,    240,   1,-999.0,      33,  2,19930224,1351, -53.2862,  -76.0948,  4089,  909.500,    3.812,   34.256,2,   34.255,2,  229.300,2,  228.800,2,   31.000,2,   30.220,2,    0.000,2,    2.100,2,    1.699,2,    0.781,2, -999.000,9, -999.000,9, -999.000,9
           NA,    P19C,    240,   1,-999.0,      66,  2,19930224,1351, -53.2862,  -76.0948,  4089, 1010.100,    3.496,   34.314,2,   34.313,2,  205.100,2,  203.700,2,   41.900,2,   32.300,2,    0.000,2,    2.250,2,    0.864,2,    0.383,2, -999.000,9, -999.000,9, -999.000,9
           NA,    P19C,    240,   1,-999.0,      32,  2,19930224,1351, -53.2862,  -76.0948,  4089, 1210.900,    3.036,   34.422,2,   34.420,2,  173.400,2,  172.400,2,   61.300,2,   34.720,2,    0.000,2,    2.430,2,    0.211,2,    0.102,2, -999.000,9, -999.000,9, -999.000,9
           NA,    P19C,    240,   1,-999.0,      65,  2,19930224,1351, -53.2862,  -76.0948,  4089, 1413.100,    2.759,   34.515,2,   34.512,2,  153.000,2,  151.500,2,   78.700,2,   36.000,2,    0.000,2,    2.520,2,    0.059,2,    0.000,2, -999.000,9, -999.000,9, -999.000,9
           NA,    P19C,    240,   1,-999.0,      64,  2,19930224,1351, -53.2862,  -76.0948,  4089, 1615.600,    2.576,   34.572,2,   34.570,2,  142.100,2,  142.000,2,   91.700,2,   36.190,2,    0.000,2,    2.570,2,    0.014,2,    0.000,2, -999.000,9, -999.000,9, -999.000,9
           NA,    P19C,    240,   1,-999.0,      63,  2,19930224,1351, -53.2862,  -76.0948,  4089, 1819.900,    2.367,   34.611,2,   34.610,2,  142.900,2,  143.400,2,  100.900,2,   35.950,2,    0.000,2,    2.540,2,    0.005,2, -999.000,4, -999.000,9, -999.000,9, -999.000,9
           NA,    P19C,    240,   1,-999.0,      62,  2,19930224,1351, -53.2862,  -76.0948,  4089, 2023.400,    2.225,   34.636,2,   34.635,2,  149.500,2,  149.200,2,  104.400,2,   35.420,2,    0.000,2,    2.500,2,    0.009,2,    0.000,2, -999.000,9, -999.000,9, -999.000,9
           NA,    P19C,    240,   1,-999.0,      61,  2,19930224,1351, -53.2862,  -76.0948,  4089, 2278.000,    2.032,   34.663,2,   34.662,2,  153.000,2,  153.300,2,  111.800,2,   34.950,2,    0.000,2,    2.470,2,    0.003,2,    0.000,2, -999.000,9, -999.000,9, -999.000,9
           NA,    P19C,    240,   1,-999.0,      60,  2,19930224,1351, -53.2862,  -76.0948,  4089, 2531.800,    1.946,   34.674,2,   34.672,2,  153.900,2,  155.500,2,  115.400,2,   34.750,2,    0.000,2,    2.460,2,    0.001,2,    0.000,2, -999.000,9, -999.000,9, -999.000,9
           NA,    P19C,    240,   1,-999.0,      59,  2,19930224,1351, -53.2862,  -76.0948,  4089, 2786.500,    1.864,   34.682,2,   34.681,2,  157.700,2,  159.000,2,  117.400,2,   34.660,2,    0.000,2,    2.440,2,   -0.004,2,    0.000,2, -999.000,9, -999.000,9, -999.000,9
           NA,    P19C,    240,   1,-999.0,      58,  2,19930224,1351, -53.2862,  -76.0948,  4089, 3039.900,    1.795,   34.694,2,   34.694,2,  165.600,2,  166.500,2,  115.900,2,   33.990,2,    0.000,2,    2.390,2,   -0.004,2,    0.000,2, -999.000,9, -999.000,9, -999.000,9
           NA,    P19C,    240,   1,-999.0,      57,  2,19930224,1351, -53.2862,  -76.0948,  4089, 3294.000,    1.692,   34.711,2,   34.710,2,  178.300,2,  179.100,2,  111.700,2,   32.850,2,    0.000,2,    2.300,2,    0.007,2,    0.000,2, -999.000,9, -999.000,9, -999.000,9
           NA,    P19C,    240,   1,-999.0,      56,  2,19930224,1351, -53.2862,  -76.0948,  4089, 3548.200,    1.465,   34.719,2,   34.718,2,  189.400,2,  189.800,2,  113.600,2,   32.280,2,    0.000,2,    2.260,2,    0.003,2,    0.000,2, -999.000,9, -999.000,9, -999.000,9
           NA,    P19C,    240,   1,-999.0,      55,  2,19930224,1351, -53.2862,  -76.0948,  4089, 3802.900,    1.132,   34.716,2,   34.715,2,  198.100,2,  198.400,2,  121.400,2,   32.230,2,    0.000,2,    2.260,2,    0.005,2,    0.000,2, -999.000,9, -999.000,9, -999.000,9
           NA,    P19C,    240,   1,-999.0,      29,  2,19930224,1351, -53.2862,  -76.0948,  4089, 3955.100,    1.003,   34.714,2,   34.714,2,  200.700,2,  201.000,2,  125.000,2,   32.280,2,    0.000,2,    2.270,2,   -0.001,2,    0.000,2, -999.000,9, -999.000,9, -999.000,9
           NA,    P19C,    240,   1,-999.0,      53,  2,19930224,1351, -53.2862,  -76.0948,  4089, 4148.500,    0.921,   34.713,2,   34.712,2,  203.400,2,  202.500,2,  128.600,2,   32.230,2,    0.000,2,    2.270,2,    0.005,2,    0.000,2, -999.000,9, -999.000,9, -999.000,9
           NA,    P19C,    239,   1,-999.0,      52,  2,19930224,0929, -53.2312,  -75.9685,  3064,    3.700,    9.901,   33.785,2,   33.786,2,  275.600,2,  278.700,2,    2.300,2,   12.030,2,    0.190,2,    1.000,2, -999.000,9, -999.000,9, -999.000,9, -999.000,9, -999.000,9
           NA,    P19C,    239,   1,-999.0,      51,  2,19930224,0929, -53.2312,  -75.9685,  3064,    3.800,    9.896,   33.787,2,   33.786,2,  276.100,2,  278.400,2,    2.100,2,   12.030,2,    0.190,2,    1.000,2, -999.000,9, -999.000,9, -999.000,9, 2051.800,2, -999.000,9
           NA,    P19C,    239,   1,-999.0,      31,  2,19930224,0929, -53.2312,  -75.9685,  3064,   30.200,    9.158,   33.932,2,   33.916,2,  275.900,2,  279.200,2,    2.100,2,   14.010,2,    0.170,2,    1.110,2, -999.000,9, -999.000,9, -999.000,9, -999.000,9, -999.000,9
           NA,    P19C,    239,   1,-999.0,       2,  2,19930224,0929, -53.2312,  -75.9685,  3064,   55.500,    9.122,   33.945,2,   33.946,2,  283.700,2,  279.900,2,    1.900,2,   14.380,2,    0.170,2,    1.120,2, -999.000,9, -999.000,9, -999.000,9, -999.000,9, -999.000,9
           NA,    P19C,    239,   1,-999.0,      30,  2,19930224,0929, -53.2312,  -75.9685,  3064,   80.500,    8.668,   33.969,2,   33.967,2,  274.300,2,  270.600,2,    2.400,2,   15.690,2,    0.190,2,    1.210,2, -999.000,9, -999.000,9, -999.000,9, -999.000,9, -999.000,9
           NA,    P19C,    239,   1,-999.0,      76,  2,19930224,0929, -53.2312,  -75.9685,  3064,   81.100,    8.658,   33.972,2,   33.969,2,  274.200,2,  268.400,2,    2.600,2,   15.930,2,    0.180,2,    1.240,2, -999.000,9, -999.000,9, -999.000,9, -999.000,9, -999.000,9
           NA,    P19C,    239,   1,-999.0,      74,  2,19930224,0929, -53.2312,  -75.9685,  3064,  105.700,    7.658,   34.019,2,   34.013,2,  243.300,2,  235.100,2,    5.300,2,   20.130,2,    0.020,2,    1.530,2, -999.000,9, -999.000,9, -999.000,9, -999.000,9, -999.000,9
           NA,    P19C,    239,   1,-999.0,      73,  2,19930224,0929, -53.2312,  -75.9685,  3064,  130.900,    7.753,   34.138,2,   34.130,2,  212.800,2,  189.900,2,    8.200,2,   24.150,2,    0.010,2,    1.830,2, -999.000,9, -999.000,9, -999.000,9, -999.000,9, -999.000,9
           NA,    P19C,    239,   1,-999.0,      72,  2,19930224,0929, -53.2312,  -75.9685,  3064,  156.500,    6.597,   34.048,2,   34.050,2,  247.500,2,  253.900,2,    6.200,2,   21.480,2,    0.010,2,    1.590,2, -999.000,9, -999.000,9, -999.000,9, -999.000,9, -999.000,9
           NA,    P19C,    239,   1,-999.0,      71,  2,19930224,0929, -53.2312,  -75.9685,  3064,  181.300,    6.350,   34.079,2,   34.079,2,  255.400,2,  256.300,2,    6.400,2,   21.940,2,    0.010,2,    1.600,2, -999.000,9, -999.000,9, -999.000,9, -999.000,9, -999.000,9
           NA,    P19C,    239,   1,-999.0,      70,  2,19930224,0929, -53.2312,  -75.9685,  3064,  206.500,    6.147,   34.111,2,   34.112,2,  253.400,2,  255.200,2,    7.100,2,   22.540,2,    0.010,2,    1.630,2, -999.000,9, -999.000,9, -999.000,9, -999.000,9, -999.000,9
           NA,    P19C,    239,   1,-999.0,      36,  2,19930224,0929, -53.2312,  -75.9685,  3064,  256.400,    6.189,   34.205,2,   34.205,2,  220.300,2,  221.700,2,    9.700,2,   25.650,2,    0.010,2,    1.810,2, -999.000,9, -999.000,9, -999.000,9, -999.000,9, -999.000,9
           NA,    P19C,    239,   1,-999.0,      28,  2,19930224,0929, -53.2312,  -75.9685,  3064,  307.000,    5.542,   34.161,2,   34.160,2,  265.200,2,  269.700,2,    8.000,2,   22.830,2,    0.010,2,    1.620,2, -999.000,9, -999.000,9, -999.000,9, -999.000,9, -999.000,9
           NA,    P19C,    239,   1,-999.0,      35,  2,19930224,0929, -53.2312,  -75.9685,  3064,  349.300,    5.317,   34.181,2,   34.181,2,  279.100,2,  278.300,2,    8.200,2,   22.500,2,    0.010,2,    1.600,2, -999.000,9, -999.000,9, -999.000,9, -999.000,9, -999.000,9
           NA,    P19C,    239,   1,-999.0,      68,  2,19930224,0929, -53.2312,  -75.9685,  3064,  407.400,    5.204,   34.195,2,   34.196,2,  278.000,2,  282.600,2,    8.600,2,   22.510,2,    0.010,2,    1.590,2, -999.000,9, -999.000,9, -999.000,9, -999.000,9, -999.000,9
           NA,    P19C,    239,   1,-999.0,      34,  2,19930224,0929, -53.2312,  -75.9685,  3064,  507.300,    5.061,   34.214,2,   34.215,2,  274.200,2,  276.500,2,   10.700,2,   23.670,2,    0.010,2,    1.650,2, -999.000,9, -999.000,9, -999.000,9, -999.000,9, -999.000,9
           NA,    P19C,    239,   1,-999.0,      67,  2,19930224,0929, -53.2312,  -75.9685,  3064,  608.300,    4.873,   34.214,2,   34.213,2,  275.500,2,  275.400,2,   12.000,2,   24.230,2,    0.000,2,    1.690,2, -999.000,9, -999.000,9, -999.000,9, -999.000,9, -999.000,9
           NA,    P19C,    239,   1,-999.0,      33,  2,19930224,0929, -53.2312,  -75.9685,  3064,  708.200,    4.559,   34.215,2,   34.213,2,  265.600,2,  265.400,2,   15.800,2,   25.820,2,    0.000,2,    1.810,2, -999.000,9, -999.000,9, -999.000,9, -999.000,9, -999.000,9
           NA,    P19C,    239,   1,-999.0,      66,  2,19930224,0929, -53.2312,  -75.9685,  3064,  808.700,    4.279,   34.234,2,   34.233,2,  248.800,2,  244.000,2,   22.200,2,   28.060,2,    0.000,2,    1.960,2, -999.000,9, -999.000,9, -999.000,9, -999.000,9, -999.000,9
           NA,    P19C,    239,   1,-999.0,      32,  2,19930224,0929, -53.2312,  -75.9685,  3064,  910.300,    3.816,   34.265,2,   34.264,2,  225.400,2,  224.000,2,   31.800,2,   30.400,2,    0.000,2,    2.120,2, -999.000,9, -999.000,9, -999.000,9, -999.000,9, -999.000,9
           NA,    P19C,    239,   1,-999.0,      65,  2,19930224,0929, -53.2312,  -75.9685,  3064, 1011.000,    3.508,   34.311,2,   34.309,2,  206.900,2,  205.900,2,   40.700,2,   32.150,2,    0.000,2,    2.240,2, -999.000,9, -999.000,9, -999.000,9, -999.000,9, -999.000,9
           NA,    P19C,    239,   1,-999.0,      64,  2,19930224,0929, -53.2312,  -75.9685,  3064, 1112.000,    3.254,   34.362,2,   34.361,2,  190.500,2,  188.700,2,   50.500,2,   33.530,2,    0.000,2,    2.340,2, -999.000,9, -999.000,9, -999.000,9, -999.000,9, -999.000,9
           NA,    P19C,    239,   1,-999.0,      63,  2,19930224,0929, -53.2312,  -75.9685,  3064, 1213.100,    3.058,   34.410,2,   34.409,2,  176.600,2,  175.900,2,   59.200,2,   34.390,2,    0.000,2,    2.410,2, -999.000,9, -999.000,9, -999.000,9, -999.000,9, -999.000,9
           NA,    P19C,    239,   1,-999.0,      62,  2,19930224,0929, -53.2312,  -75.9685,  3064, 1415.700,    2.811,   34.500,2,   34.499,2,  153.100,2,  152.800,2,   76.400,2,   35.770,2,    0.000,2,    2.530,2, -999.000,9, -999.000,9, -999.000,9, -999.000,9, -999.000,9
           NA,    P19C,    239,   1,-999.0,      61,  2,19930224,0929, -53.2312,  -75.9685,  3064, 1618.900,    2.548,   34.565,2,   34.564,2,  150.100,2,  150.600,2,   87.900,2,   35.580,2,    0.000,2,    2.510,2, -999.000,9, -999.000,9, -999.000,9, -999.000,9, -999.000,9
           NA,    P19C,    239,   1,-999.0,      60,  2,19930224,0929, -53.2312,  -75.9685,  3064, 1821.600,    2.378,   34.607,2,   34.607,2,  148.500,2,  148.500,2,   97.300,2,   35.540,2,    0.000,2,    2.510,2, -999.000,9, -999.000,9, -999.000,9, -999.000,9, -999.000,9
           NA,    P19C,    239,   1,-999.0,      59,  2,19930224,0929, -53.2312,  -75.9685,  3064, 2023.500,    2.175,   34.640,2,   34.640,2,  148.600,2,  149.200,2,  106.700,2,   35.160,2,    0.000,2,    2.500,2, -999.000,9, -999.000,9, -999.000,9, -999.000,9, -999.000,9
           NA,    P19C,    239,   1,-999.0,      58,  2,19930224,0929, -53.2312,  -75.9685,  3064, 2226.600,    2.052,   34.660,2,   34.661,2,  151.300,2,  152.900,2,  111.200,2,   34.970,2,    0.000,2,    2.460,2, -999.000,9, -999.000,9, -999.000,9, -999.000,9, -999.000,9
           NA,    P19C,    239,   1,-999.0,      57,  2,19930224,0929, -53.2312,  -75.9685,  3064, 2428.200,    1.963,   34.670,2,   34.670,2,  154.000,2,  154.200,2,  115.300,2,   34.790,2,    0.000,2,    2.450,2, -999.000,9, -999.000,9, -999.000,9, -999.000,9, -999.000,9
           NA,    P19C,    239,   1,-999.0,      56,  2,19930224,0929, -53.2312,  -75.9685,  3064, 2630.600,    1.902,   34.676,2,   34.675,2,  156.800,2,  156.200,2,  117.600,2,   34.650,2,    0.000,2,    2.440,2, -999.000,9, -999.000,9, -999.000,9, -999.000,9, -999.000,9
           NA,    P19C,    239,   1,-999.0,      55,  2,19930224,0929, -53.2312,  -75.9685,  3064, 2834.200,    1.840,   34.686,2,   34.686,2,  158.900,2,  161.500,2,  116.800,2,   34.220,2,    0.000,2,    2.410,2, -999.000,9, -999.000,9, -999.000,9, -999.000,9, -999.000,9
           NA,    P19C,    239,   1,-999.0,      29,  2,19930224,0929, -53.2312,  -75.9685,  3064, 3037.300,    1.821,   34.690,2,   34.690,2,  164.900,2,  164.900,2,  115.800,2,   33.940,2,    0.000,2,    2.390,2, -999.000,9, -999.000,9, -999.000,9, -999.000,9, -999.000,9
           NA,    P19C,    239,   1,-999.0,      53,  2,19930224,0929, -53.2312,  -75.9685,  3064, 3165.000,    1.790,   34.696,2,   34.696,2,  168.200,2,  168.300,2,  114.700,2,   33.710,2,    0.000,2,    2.360,2, -999.000,9, -999.000,9, -999.000,9, -999.000,9, -999.000,9