BOTTLE,20215010JOAExport
EXPOCODE,SECT_ID,STNNBR,CASTNO,SAMPNO,BTLNBR,BTLNBR_FLAG_W,DATE,TIME,LATITUDE,LONGITUDE,DEPTH,CTDPRS,CTDTMP,CTDSAL,CTDSAL_FLAG_W,SALNTY,SALNTY_FLAG_W,CTDOXY,CTDOXY_FLAG_W,OXYGEN,OXYGEN_FLAG_W,SILCAT,SILCAT_FLAG_W,NITRAT,NITRAT_FLAG_W,NITRIT,NITRIT_FLAG_W,PHSPHT,PHSPHT_FLAG_W,CFC-11,CFC-11_FLAG_W,CFC-12,CFC-12_FLAG_W,SF6,SF6_FLAG_W,TCARBN,TCARBN_FLAG_W,ALKALI,ALKALI_FLAG_W
,,,,,,,,,,,,DB,ITS-90,PSS-78,,PSS-78,,UMOL/KG,,UMOL/KG,,UMOL/KG,,UMOL/KG,,UMOL/KG,,UMOL/KG,,PMOL/KG,,PMOL/KG,,PMOL/KG,,UMOL/KG,,UMOL/KG
           NA,    P17E,    185,   1,-999.0,       1,  2,19930103,0236, -52.2762, -110.1822,  3671,    4.200,    7.673,   34.315,2,   34.315,2, -999.000,5, -999.000,3,    1.930,2,   14.560,2,    0.180,2,    1.170,2,    4.244,2,    2.068,2, -999.000,9, 2091.900,2, -999.000,9
           NA,    P17E,    185,   1,-999.0,       2,  2,19930103,0236, -52.2762, -110.1822,  3671,   28.300,    7.671,   34.315,2,   34.314,2, -999.000,5, -999.000,3,    1.680,2,   14.560,2,    0.180,2,    1.160,2, -999.000,9, -999.000,9, -999.000,9, -999.000,9, -999.000,9
           NA,    P17E,    185,   1,-999.0,       3,  2,19930103,0236, -52.2762, -110.1822,  3671,   59.500,    7.622,   34.316,2,   34.315,2, -999.000,5, -999.000,3,    1.440,2,   14.560,2,    0.180,2,    1.170,2,    4.275,2,    2.081,2, -999.000,9, -999.000,9, -999.000,9
           NA,    P17E,    185,   1,-999.0,       4,  2,19930103,0236, -52.2762, -110.1822,  3671,   83.700,    7.597,   34.316,2,   34.316,2, -999.000,5, -999.000,3,    1.390,2,   14.560,2,    0.180,2,    1.170,2, -999.000,9, -999.000,9, -999.000,9, -999.000,9, -999.000,9
           NA,    P17E,    185,   1,-999.0,       5,  2,19930103,0236, -52.2762, -110.1822,  3671,  114.600,    7.399,   34.328,2,   34.326,2, -999.000,5, -999.000,3,    2.180,2,   15.320,2,    0.200,2,    1.220,2,    4.250,2,    2.060,2, -999.000,9, -999.000,9, -999.000,9
           NA,    P17E,    185,   1,-999.0,       6,  2,19930103,0236, -52.2762, -110.1822,  3671,  149.900,    6.898,   34.352,2,   34.352,2, -999.000,5, -999.000,3,    5.850,2,   18.180,2,    0.060,2,    1.350,2, -999.000,9, -999.000,9, -999.000,9, -999.000,9, -999.000,9
           NA,    P17E,    185,   1,-999.0,       7,  2,19930103,0236, -52.2762, -110.1822,  3671,  210.100,    6.779,   34.348,2,   34.350,2, -999.000,5, -999.000,3,    6.020,2,   18.710,2,    0.030,2,    1.390,2,    3.911,2,    1.894,2, -999.000,9, -999.000,9, -999.000,9
           NA,    P17E,    185,   1,-999.0,       8,  2,19930103,0236, -52.2762, -110.1822,  3671,  270.300,    6.692,   34.341,2,   34.347,2, -999.000,5, -999.000,3,    6.180,2,   19.160,2,    0.020,2,    1.390,2, -999.000,9, -999.000,9, -999.000,9, -999.000,9, -999.000,9
           NA,    P17E,    185,   1,-999.0,       9,  2,19930103,0236, -52.2762, -110.1822,  3671,  329.700,    6.597,   34.331,2,   34.331,2, -999.000,5, -999.000,3,    6.140,2,   19.110,2,    0.010,2,    1.390,2,    3.909,2,    1.891,2, -999.000,9, -999.000,9, -999.000,9
           NA,    P17E,    185,   1,-999.0,      10,  2,19930103,0236, -52.2762, -110.1822,  3671,  391.000,    6.490,   34.325,2,   34.325,2, -999.000,5, -999.000,3,    7.140,2,   20.060,2,    0.010,2,    1.460,2, -999.000,9, -999.000,9, -999.000,9, -999.000,9, -999.000,9
           NA,    P17E,    185,   1,-999.0,      11,  2,19930103,0236, -52.2762, -110.1822,  3671,  460.100,    6.259,   34.300,2,   34.301,2, -999.000,5, -999.000,3,    7.510,2,   20.560,2,    0.010,2,    1.490,2,    3.747,2,    1.811,2, -999.000,9, -999.000,9, -999.000,9
           NA,    P17E,    185,   1,-999.0,      12,  2,19930103,0236, -52.2762, -110.1822,  3671,  531.300,    6.069,   34.286,2,   34.286,2, -999.000,5, -999.000,3,    8.920,2,   21.840,2,    0.010,2,    1.560,2,    3.468,2,    1.649,2, -999.000,9, -999.000,9, -999.000,9
           NA,    P17E,    185,   1,-999.0,      13,  2,19930103,0236, -52.2762, -110.1822,  3671,  601.400,    5.733,   34.270,2,   34.269,2, -999.000,5, -999.000,3,   11.980,2,   23.960,2,    0.010,2,    1.700,2,    3.014,2,    1.418,2, -999.000,9, -999.000,9, -999.000,9
           NA,    P17E,    185,   1,-999.0,      14,  2,19930103,0236, -52.2762, -110.1822,  3671,  670.700,    5.389,   34.266,2,   34.267,2, -999.000,5, -999.000,3,   15.870,2,   25.640,2,    0.010,2,    1.820,2,    2.559,2,    1.209,2, -999.000,9, -999.000,9, -999.000,9
           NA,    P17E,    185,   1,-999.0,      15,  2,19930103,0236, -52.2762, -110.1822,  3671,  752.100,    5.049,   34.273,2,   34.271,2, -999.000,5, -999.000,3,   19.140,2,   27.050,2,    0.000,2,    1.910,2,    2.231,2,    1.040,2, -999.000,9, -999.000,9, -999.000,9
           NA,    P17E,    185,   1,-999.0,      16,  2,19930103,0236, -52.2762, -110.1822,  3671,  831.700,    4.645,   34.284,2,   34.284,2, -999.000,5, -999.000,3,   24.690,2,   28.730,2,    0.000,2,    2.010,2,    1.795,2,    0.826,2, -999.000,9, -999.000,9, -999.000,9
           NA,    P17E,    185,   1,-999.0,      17,  2,19930103,0236, -52.2762, -110.1822,  3671,  910.200,    4.191,   34.291,2,   34.291,2, -999.000,5, -999.000,3,   30.660,2,   29.970,2,    0.000,2,    2.110,2,    1.544,2,    0.704,2, -999.000,9, -999.000,9, -999.000,9
           NA,    P17E,    185,   1,-999.0,      18,  2,19930103,0236, -52.2762, -110.1822,  3671, 1011.600,    3.660,   34.305,2,   34.303,2, -999.000,5, -999.000,3,   37.040,2,   31.270,2,    0.000,2,    2.200,2,    1.342,2,    0.618,2, -999.000,9, -999.000,9, -999.000,9
           NA,    P17E,    185,   1,-999.0,      19,  2,19930103,0236, -52.2762, -110.1822,  3671, 1160.400,    3.191,   34.358,2,   34.356,2, -999.000,5, -999.000,3,   48.820,2,   32.860,2,    0.000,2,    2.310,2, -999.000,3, -999.000,3, -999.000,9, -999.000,9, -999.000,9
           NA,    P17E,    185,   1,-999.0,      20,  2,19930103,0236, -52.2762, -110.1822,  3671, 1311.200,    2.844,   34.425,2,   34.424,2, -999.000,5, -999.000,3,   59.570,2,   33.880,2,    0.000,2,    2.370,2,    0.544,2,    0.252,2, -999.000,9, -999.000,9, -999.000,9
           NA,    P17E,    185,   1,-999.0,      21,  2,19930103,0236, -52.2762, -110.1822,  3671, 1461.600,    2.638,   34.496,2,   34.495,2, -999.000,5, -999.000,3,   69.090,2,   34.220,2,    0.000,2,    2.400,2,    0.332,2,    0.156,2, -999.000,9, -999.000,9, -999.000,9
           NA,    P17E,    185,   1,-999.0,      22,  2,19930103,0236, -52.2762, -110.1822,  3671, 1656.300,    2.470,   34.569,2,   34.569,2, -999.000,5, -999.000,3,   77.380,2,   34.000,2,    0.000,2,    2.380,2,    0.191,2,    0.088,2, -999.000,9, -999.000,9, -999.000,9
           NA,    P17E,    185,   1,-999.0,      23,  2,19930103,0236, -52.2762, -110.1822,  3671, 1803.100,    2.376,   34.617,2,   34.615,2, -999.000,5, -999.000,3,   82.140,2,   33.880,2,    0.000,2,    2.370,2,    0.116,2,    0.056,2, -999.000,9, -999.000,9, -999.000,9
           NA,    P17E,    185,   1,-999.0,      24,  2,19930103,0236, -52.2762, -110.1822,  3671, 1954.300,    2.280,   34.653,2,   34.652,2, -999.000,5, -999.000,3,   86.710,2,   33.320,2,    0.000,2,    2.350,2,    0.068,2,    0.031,2, -999.000,9, -999.000,9, -999.000,9
           NA,    P17E,    185,   1,-999.0,      25,  2,19930103,0236, -52.2762, -110.1822,  3671, 2151.200,    2.154,   34.685,2,   34.684,2, -999.000,5, -999.000,3,   91.700,2,   32.860,2,    0.000,2,    2.310,2,    0.039,2,    0.020,2, -999.000,9, -999.000,9, -999.000,9
           NA,    P17E,    185,   1,-999.0,      26,  2,19930103,0236, -52.2762, -110.1822,  3671, 2352.100,    2.014,   34.700,2,   34.700,2, -999.000,5, -999.000,3,   97.540,2,   32.750,2,    0.000,2,    2.340,2,    0.018,2,    0.009,2, -999.000,9, -999.000,9, -999.000,9
           NA,    P17E,    185,   1,-999.0,      27,  2,19930103,0236, -52.2762, -110.1822,  3671, 2352.400,    2.013,   34.700,2,   34.700,2, -999.000,5, -999.000,3,   98.990,2,   32.700,2,    0.000,2,    2.280,2, -999.000,9, -999.000,9, -999.000,9, -999.000,9, -999.000,9
           NA,    P17E,    185,   1,-999.0,      28,  2,19930103,0236, -52.2762, -110.1822,  3671, 2558.300,    1.832,   34.705,2,   34.706,2, -999.000,5, -999.000,3,  106.550,2,   32.760,2,    0.000,2,    2.300,2,    0.013,2,    0.010,2, -999.000,9, -999.000,9, -999.000,9
           NA,    P17E,    185,   1,-999.0,      29,  2,19930103,0236, -52.2762, -110.1822,  3671, 2762.200,    1.687,   34.708,2,   34.708,2, -999.000,5, -999.000,3,  110.960,2,   32.760,2,    0.000,2,    2.300,2,    0.008,2,    0.005,2, -999.000,9, -999.000,9, -999.000,9
           NA,    P17E,    185,   1,-999.0,      30,  2,19930103,0236, -52.2762, -110.1822,  3671, 2918.400,    1.637,   34.710,2,   34.710,2, -999.000,5, -999.000,3,  112.220,2,   32.760,2,    0.000,2,    2.300,2, -999.000,9, -999.000,9, -999.000,9, -999.000,9, -999.000,9
           NA,    P17E,    185,   1,-999.0,      31,  2,19930103,0236, -52.2762, -110.1822,  3671, 3070.900,    1.596,   34.713,2,   34.713,2, -999.000,5, -999.000,3,  111.990,2,   32.650,2,    0.000,2,    2.290,2,    0.007,2,    0.004,2, -999.000,9, -999.000,9, -999.000,9
           NA,    P17E,    185,   1,-999.0,      32,  2,19930103,0236, -52.2762, -110.1822,  3671, 3224.000,    1.563,   34.716,2,   34.716,2, -999.000,5, -999.000,3,  112.180,2,   32.420,2,    0.000,2,    2.280,2,    0.006,2,    0.003,2, -999.000,9, -999.000,9, -999.000,9
           NA,    P17E,    185,   1,-999.0,      33,  2,19930103,0236, -52.2762, -110.1822,  3671, 3325.500,    1.535,   34.717,2,   34.717,2, -999.000,5, -999.000,3,  112.380,2,   32.260,2,    0.000,2,    2.270,2,    0.007,6,    0.006,6, -999.000,9, -999.000,9, -999.000,9
           NA,    P17E,    185,   1,-999.0,      34,  4,19930103,0236, -52.2762, -110.1822,  3671, 3325.500,    1.535,   34.717,2, -999.000,2, -999.000,5, -999.000,3, -999.000,2, -999.000,2, -999.000,2, -999.000,2, -999.000,5, -999.000,2, -999.000,9, -999.000,9, -999.000,9
           NA,    P17E,    185,   1,-999.0,      35,  2,19930103,0236, -52.2762, -110.1822,  3671, 3629.700,    1.318,   34.717,2,   34.718,2, -999.000,5, -999.000,3,  114.460,2,   32.150,2,    0.000,2,    2.250,2,    0.011,2,    0.008,2, -999.000,9, -999.000,9, -999.000,9
           NA,    P17E,    185,   1,-999.0,      36,  2,19930103,0236, -52.2762, -110.1822,  3671, 3711.100,    1.274,   34.716,2,   34.717,2, -999.000,5, -999.000,3,  118.270,2,   32.200,2,    0.000,2,    2.260,2,    0.007,2,    0.005,2, -999.000,9, -999.000,9, -999.000,9