BOTTLE,20215010JOAExport
EXPOCODE,SECT_ID,STNNBR,CASTNO,SAMPNO,BTLNBR,BTLNBR_FLAG_W,DATE,TIME,LATITUDE,LONGITUDE,DEPTH,CTDPRS,CTDTMP,CTDSAL,CTDSAL_FLAG_W,SALNTY,SALNTY_FLAG_W,CTDOXY,CTDOXY_FLAG_W,OXYGEN,OXYGEN_FLAG_W,SILCAT,SILCAT_FLAG_W,NITRAT,NITRAT_FLAG_W,NITRIT,NITRIT_FLAG_W,PHSPHT,PHSPHT_FLAG_W,CFC-11,CFC-11_FLAG_W,CFC-12,CFC-12_FLAG_W,SF6,SF6_FLAG_W,TCARBN,TCARBN_FLAG_W,ALKALI,ALKALI_FLAG_W
,,,,,,,,,,,,DB,ITS-90,PSS-78,,PSS-78,,UMOL/KG,,UMOL/KG,,UMOL/KG,,UMOL/KG,,UMOL/KG,,UMOL/KG,,PMOL/KG,,PMOL/KG,,PMOL/KG,,UMOL/KG,,UMOL/KG
           NA,    P17E,    199,   1,-999.0,       1,  2,19930107,1456, -53.4017,  -95.6683,  4450,    3.300,    7.732,   34.255,2,   34.256,2, -999.000,3,  290.800,2,    4.750,2,   14.610,2,    0.180,2,    1.160,2,    4.343,2,    2.125,2, -999.000,9, 2086.900,2, -999.000,9
           NA,    P17E,    199,   1,-999.0,       2,  2,19930107,1456, -53.4017,  -95.6683,  4450,   26.400,    7.731,   34.255,2,   34.256,2, -999.000,3,  291.100,2,    4.510,2,   14.600,2,    0.180,2,    1.160,2, -999.000,9, -999.000,9, -999.000,9, -999.000,9, -999.000,9
           NA,    P17E,    199,   1,-999.0,       3,  2,19930107,1456, -53.4017,  -95.6683,  4450,   56.500,    7.625,   34.252,2,   34.254,2, -999.000,3,  291.100,2,    4.270,2,   14.600,2,    0.170,2,    1.170,2,    4.380,2,    2.087,2, -999.000,9, -999.000,9, -999.000,9
           NA,    P17E,    199,   1,-999.0,       4,  2,19930107,1456, -53.4017,  -95.6683,  4450,   86.800,    6.364,   34.255,2,   34.251,2, -999.000,3,  291.000,2,    5.310,2,   17.510,2,    0.420,2,    1.370,2, -999.000,9, -999.000,9, -999.000,9, -999.000,9, -999.000,9
           NA,    P17E,    199,   1,-999.0,       5,  2,19930107,1456, -53.4017,  -95.6683,  4450,  116.600,    6.322,   34.267,2,   34.269,2,  298.100,2,  288.100,2,    5.710,2,   18.220,2,    0.260,2,    1.380,2,    4.313,2,    2.143,2, -999.000,9, -999.000,9, -999.000,9
           NA,    P17E,    199,   1,-999.0,       6,  2,19930107,1456, -53.4017,  -95.6683,  4450,  156.800,    6.251,   34.272,2,   34.272,2,  297.200,2,  287.500,2,    6.110,2,   18.640,2,    0.040,2,    1.390,2, -999.000,9, -999.000,9, -999.000,9, -999.000,9, -999.000,9
           NA,    P17E,    199,   1,-999.0,       7,  2,19930107,1456, -53.4017,  -95.6683,  4450,  206.800,    6.204,   34.274,2,   34.275,2,  289.400,2,  286.100,2,    6.510,2,   19.110,2,    0.010,2,    1.420,2,    4.268,2,    2.058,6, -999.000,9, -999.000,9, -999.000,9
           NA,    P17E,    199,   1,-999.0,       8,  2,19930107,1456, -53.4017,  -95.6683,  4450,  256.600,    6.161,   34.275,2,   34.276,2,  289.200,2,  282.100,2,    7.130,2,   19.780,2,    0.010,2,    1.460,2, -999.000,9, -999.000,9, -999.000,9, -999.000,9, -999.000,9
           NA,    P17E,    199,   1,-999.0,       9,  2,19930107,1456, -53.4017,  -95.6683,  4450,  307.700,    6.059,   34.271,2,   34.274,2,  279.800,2,  280.700,2,    7.310,2,   20.220,2,    0.010,2,    1.480,2,    4.085,2,    1.950,2, -999.000,9, -999.000,9, -999.000,9
           NA,    P17E,    199,   1,-999.0,      10,  2,19930107,1456, -53.4017,  -95.6683,  4450,  383.000,    5.879,   34.261,2,   34.261,2,  272.800,2,  274.600,2,    8.570,2,   21.490,2,    0.010,2,    1.570,2,    3.795,2,    1.799,2, -999.000,9, -999.000,9, -999.000,9
           NA,    P17E,    199,   1,-999.0,      11,  2,19930107,1456, -53.4017,  -95.6683,  4450,  458.600,    5.672,   34.249,2,   34.250,2,  265.100,2,  272.500,2,    9.820,2,   22.430,2,    0.010,2,    1.620,2,    3.708,2,    1.765,2, -999.000,9, -999.000,9, -999.000,9
           NA,    P17E,    199,   1,-999.0,      12,  2,19930107,1456, -53.4017,  -95.6683,  4450,  533.900,    5.503,   34.246,2,   34.246,2,  262.900,2,  269.000,2,   10.860,2,   23.210,2,    0.010,2,    1.670,2,    3.470,6,    1.657,6, -999.000,9, -999.000,9, -999.000,9
           NA,    P17E,    199,   1,-999.0,      13,  2,19930107,1456, -53.4017,  -95.6683,  4450,  609.300,    5.228,   34.243,2,   34.244,2,  255.200,2,  260.800,2,   13.390,2,   24.380,2,    0.000,2,    1.750,2,    3.137,2,    1.477,2, -999.000,9, -999.000,9, -999.000,9
           NA,    P17E,    199,   1,-999.0,      14,  2,19930107,1456, -53.4017,  -95.6683,  4450,  684.500,    4.969,   34.243,2,   34.243,2,  245.600,2,  253.300,2,   16.140,2,   26.010,2,    0.000,2,    1.840,2,    2.778,2,    1.320,2, -999.000,9, -999.000,9, -999.000,9
           NA,    P17E,    199,   1,-999.0,      15,  2,19930107,1456, -53.4017,  -95.6683,  4450,  759.700,    4.603,   34.243,2,   34.243,2,  234.500,2,  244.700,2,   20.160,2,   27.580,2,    0.000,2,    1.930,2,    2.388,2,    1.113,2, -999.000,9, -999.000,9, -999.000,9
           NA,    P17E,    199,   1,-999.0,      16,  2,19930107,1456, -53.4017,  -95.6683,  4450,  835.100,    4.350,   34.268,2,   34.268,2,  226.900,2,  227.400,2,   26.100,2,   29.280,2,    0.000,2,    2.050,2,    1.823,2,    0.833,2, -999.000,9, -999.000,9, -999.000,9
           NA,    P17E,    199,   1,-999.0,      17,  2,19930107,1456, -53.4017,  -95.6683,  4450,  910.600,    4.064,   34.280,2,   34.281,2,  220.000,2,  220.500,2,   30.750,2,   30.470,2,    0.000,2,    2.120,2,    1.533,2,    0.703,2, -999.000,9, -999.000,9, -999.000,9
           NA,    P17E,    199,   1,-999.0,      18,  2,19930107,1456, -53.4017,  -95.6683,  4450, 1012.100,    3.625,   34.303,2,   34.302,2,  212.500,2,  212.900,2, -999.000,4, -999.000,4, -999.000,4, -999.000,4,    1.240,2,    0.574,2, -999.000,9, -999.000,9, -999.000,9
           NA,    P17E,    199,   1,-999.0,      19,  2,19930107,1456, -53.4017,  -95.6683,  4450, 1213.000,    3.035,   34.373,2,   34.372,2,  196.400,2,  196.000,2,   52.190,2,   33.680,2,    0.000,2,    2.330,2,    0.780,2,    0.360,2, -999.000,9, -999.000,9, -999.000,9
           NA,    P17E,    199,   1,-999.0,      20,  2,19930107,1456, -53.4017,  -95.6683,  4450, 1415.800,    2.665,   34.469,2,   34.467,2,  181.300,2,  180.900,2,   65.770,2,   34.590,2,    0.000,2,    2.400,2,    0.450,2,    0.211,2, -999.000,9, -999.000,9, -999.000,9
           NA,    P17E,    199,   1,-999.0,      21,  2,19930107,1456, -53.4017,  -95.6683,  4450, 1617.500,    2.519,   34.555,2,   34.553,2,  170.800,2,  169.200,2,   76.370,2,   34.810,2,    0.000,2,    2.430,2,    0.152,2,    0.066,2, -999.000,9, -999.000,9, -999.000,9
           NA,    P17E,    199,   1,-999.0,      22,  2,19930107,1456, -53.4017,  -95.6683,  4450, 1818.900,    2.382,   34.615,2, -999.000,3,  166.200,2,  166.400,2,   83.980,2,   34.510,2,    0.000,2,    2.390,2,    0.060,2,    0.024,2, -999.000,9, -999.000,9, -999.000,9
           NA,    P17E,    199,   1,-999.0,      23,  2,19930107,1456, -53.4017,  -95.6683,  4450, 2018.000,    2.260,   34.658,2, -999.000,3,  169.100,2,  170.600,2,   87.530,2,   33.730,2,    0.000,2,    2.360,2,    0.051,2, -999.000,5, -999.000,9, -999.000,9, -999.000,9
           NA,    P17E,    199,   1,-999.0,      24,  2,19930107,1456, -53.4017,  -95.6683,  4450, 2219.100,    2.133,   34.685,2,   34.686,2,  172.000,2,  172.300,2,   93.230,2,   33.320,2,    0.000,2,    2.320,2,    0.019,2,    0.008,2, -999.000,9, -999.000,9, -999.000,9
           NA,    P17E,    199,   1,-999.0,      25,  2,19930107,1456, -53.4017,  -95.6683,  4450, 2421.300,    1.999,   34.704,2,   34.704,2,  175.300,2,  176.100,2,   97.000,2,   33.010,2,    0.000,2,    2.280,2,    0.015,2,    0.009,2, -999.000,9, -999.000,9, -999.000,9
           NA,    P17E,    199,   1,-999.0,      26,  2,19930107,1456, -53.4017,  -95.6683,  4450, 2625.300,    1.834,   34.708,2,   34.709,2,  176.800,2,  177.200,2,  104.000,2,   33.170,2,    0.000,2,    2.300,2,    0.011,2,    0.004,2, -999.000,9, -999.000,9, -999.000,9
           NA,    P17E,    199,   1,-999.0,      27,  2,19930107,1456, -53.4017,  -95.6683,  4450, 2828.300,    1.725,   34.713,2,   34.714,2,  180.000,2,  181.100,2,  106.700,2,   32.870,2,    0.000,2,    2.280,2, -999.000,9, -999.000,9, -999.000,9, -999.000,9, -999.000,9
           NA,    P17E,    199,   1,-999.0,      28,  2,19930107,1456, -53.4017,  -95.6683,  4450, 3030.800,    1.609,   34.716,2,   34.717,2,  184.000,2,  184.800,2,  108.540,2,   32.800,2,    0.000,2,    2.270,2,    0.008,2,    0.007,2, -999.000,9, -999.000,9, -999.000,9
           NA,    P17E,    199,   1,-999.0,      29,  2,19930107,1456, -53.4017,  -95.6683,  4450, 3232.800,    1.501,   34.717,2,   34.718,2,  187.300,2,  188.100,2,  111.670,2,   32.670,2,    0.000,2,    2.260,2, -999.000,9, -999.000,9, -999.000,9, -999.000,9, -999.000,9
           NA,    P17E,    199,   1,-999.0,      30,  2,19930107,1456, -53.4017,  -95.6683,  4450, 3437.400,    1.344,   34.718,2,   34.718,2,  192.900,2,  192.400,2,  115.020,2,   32.720,2,    0.000,2,    2.260,2,    0.007,2,    0.003,2, -999.000,9, -999.000,9, -999.000,9
           NA,    P17E,    199,   1,-999.0,      31,  2,19930107,1456, -53.4017,  -95.6683,  4450, 3644.200,    1.171,   34.714,2,   34.716,2,  197.800,2,  197.200,2,  119.250,2,   32.940,2,    0.000,2,    2.250,2, -999.000,9, -999.000,9, -999.000,9, -999.000,9, -999.000,9
           NA,    P17E,    199,   1,-999.0,      32,  2,19930107,1456, -53.4017,  -95.6683,  4450, 3852.700,    0.978,   34.711,2,   34.713,2,  202.900,2,  201.500,2,  124.570,2,   33.040,2,    0.000,2,    2.260,2,    0.006,2,    0.004,2, -999.000,9, -999.000,9, -999.000,9
           NA,    P17E,    199,   1,-999.0,      33,  2,19930107,1456, -53.4017,  -95.6683,  4450, 4056.600,    0.809,   34.710,2,   34.710,2,  206.500,2,  204.800,2,  129.700,2,   33.030,2,    0.000,2,    2.260,2,    0.010,2,    0.002,2, -999.000,9, -999.000,9, -999.000,9
           NA,    P17E,    199,   1,-999.0,      34,  2,19930107,1456, -53.4017,  -95.6683,  4450, 4258.900,    0.713,   34.708,2,   34.708,2,  208.000,2,  207.200,2,  133.530,2,   33.070,2,    0.000,2,    2.260,2, -999.000,5,    0.007,2, -999.000,9, -999.000,9, -999.000,9
           NA,    P17E,    199,   1,-999.0,      35,  2,19930107,1456, -53.4017,  -95.6683,  4450, 4412.400,    0.682,   34.707,2,   34.707,2,  208.600,2,  207.700,2,  135.390,2,   33.060,2,    0.000,2,    2.260,2,    0.007,2,    0.006,2, -999.000,9, -999.000,9, -999.000,9
           NA,    P17E,    199,   1,-999.0,      36,  2,19930107,1456, -53.4017,  -95.6683,  4450, 4552.600,    0.666,   34.706,2,   34.707,2,  206.000,2,  208.700,2,  135.710,2,   33.050,2,    0.000,2,    2.260,2,    0.011,2,    0.011,2, -999.000,9, -999.000,9, -999.000,9