BOTTLE,20215010JOAExport
EXPOCODE,SECT_ID,STNNBR,CASTNO,SAMPNO,BTLNBR,BTLNBR_FLAG_W,DATE,TIME,LATITUDE,LONGITUDE,DEPTH,CTDPRS,CTDTMP,CTDSAL,CTDSAL_FLAG_W,SALNTY,SALNTY_FLAG_W,CTDOXY,CTDOXY_FLAG_W,OXYGEN,OXYGEN_FLAG_W,SILCAT,SILCAT_FLAG_W,NITRAT,NITRAT_FLAG_W,NITRIT,NITRIT_FLAG_W,PHSPHT,PHSPHT_FLAG_W,CFC-11,CFC-11_FLAG_W,CFC-12,CFC-12_FLAG_W,SF6,SF6_FLAG_W,TCARBN,TCARBN_FLAG_W,ALKALI,ALKALI_FLAG_W
,,,,,,,,,,,,DB,ITS-90,PSS-78,,PSS-78,,UMOL/KG,,UMOL/KG,,UMOL/KG,,UMOL/KG,,UMOL/KG,,UMOL/KG,,PMOL/KG,,PMOL/KG,,PMOL/KG,,UMOL/KG,,UMOL/KG
           NA,    P17E,    179,   1,-999.0,       1,  2,19930101,1628, -51.8920, -115.1072,  3404,    2.400,    7.726,   34.330,2,   34.332,2, -999.000,3,  291.900,2,    1.610,2,   14.250,2,    0.190,2,    1.130,2,    4.237,2,    2.056,2, -999.000,9, 2089.100,2, -999.000,9
           NA,    P17E,    179,   1,-999.0,       2,  2,19930101,1628, -51.8920, -115.1072,  3404,   27.000,    7.727,   34.332,2,   34.332,2, -999.000,3,  292.200,2,    1.390,2,   14.240,2,    0.190,2,    1.130,2, -999.000,9, -999.000,9, -999.000,9, -999.000,9, -999.000,9
           NA,    P17E,    179,   1,-999.0,       3,  2,19930101,1628, -51.8920, -115.1072,  3404,   56.800,    7.716,   34.332,2,   34.329,2, -999.000,3,  291.900,2,    1.380,2,   14.290,2,    0.190,2,    1.130,2,    4.247,6,    2.055,6, -999.000,9, -999.000,9, -999.000,9
           NA,    P17E,    179,   1,-999.0,       4,  2,19930101,1628, -51.8920, -115.1072,  3404,   87.000,    7.623,   34.333,2,   34.331,2, -999.000,3,  291.100,2,    1.380,2,   14.280,2,    0.190,2,    1.130,2, -999.000,9, -999.000,9, -999.000,9, -999.000,9, -999.000,9
           NA,    P17E,    179,   1,-999.0,       5,  2,19930101,1628, -51.8920, -115.1072,  3404,  116.800,    7.464,   34.344,2,   34.341,2,  290.000,2,  287.100,2,    2.210,2,   14.980,2,    0.190,2,    1.200,2,    4.252,2,    2.086,2, -999.000,9, -999.000,9, -999.000,9
           NA,    P17E,    179,   1,-999.0,       6,  2,19930101,1628, -51.8920, -115.1072,  3404,  147.300,    7.097,   34.352,2,   34.350,2,  283.000,2,  284.000,2,    3.460,2,   15.990,2,    0.190,2,    1.260,2, -999.000,9, -999.000,9, -999.000,9, -999.000,9, -999.000,9
           NA,    P17E,    179,   1,-999.0,       7,  2,19930101,1628, -51.8920, -115.1072,  3404,  181.300,    6.912,   34.352,2,   34.350,2,  278.000,2,  279.700,2,    4.920,2,   17.600,2,    0.170,2,    1.320,2,    4.097,2,    1.997,2, -999.000,9, -999.000,9, -999.000,9
           NA,    P17E,    179,   1,-999.0,       8,  2,19930101,1628, -51.8920, -115.1072,  3404,  232.400,    6.730,   34.339,2,   34.339,2,  277.800,2,  280.900,2,    5.330,2,   18.140,2,    0.030,2,    1.340,2, -999.000,9, -999.000,9, -999.000,9, -999.000,9, -999.000,9
           NA,    P17E,    179,   1,-999.0,       9,  2,19930101,1628, -51.8920, -115.1072,  3404,  281.000,    6.688,   34.341,2,   34.340,2,  278.700,2,  279.500,2,    5.950,2,   18.560,2,    0.020,2,    1.350,2,    4.005,2,    1.957,2, -999.000,9, -999.000,9, -999.000,9
           NA,    P17E,    179,   1,-999.0,      10,  2,19930101,1628, -51.8920, -115.1072,  3404,  331.500,    6.627,   34.337,2,   34.338,2,  277.700,2,  278.900,2,    6.360,2,   18.790,2,    0.020,2,    1.370,2,    3.975,2,    1.944,2, -999.000,9, -999.000,9, -999.000,9
           NA,    P17E,    179,   1,-999.0,      11,  2,19930101,1628, -51.8920, -115.1072,  3404,  383.800,    6.518,   34.329,2,   34.328,2,  277.100,2,  276.900,2,    6.770,2,   19.620,2,    0.010,2,    1.420,2,    3.887,2,    1.890,2, -999.000,9, -999.000,9, -999.000,9
           NA,    P17E,    179,   1,-999.0,      12,  2,19930101,1628, -51.8920, -115.1072,  3404,  432.800,    6.441,   34.324,2,   34.325,2,  273.900,2,  279.400,2,    6.760,2,   19.540,2,    0.020,2,    1.420,2, -999.000,9, -999.000,9, -999.000,9, -999.000,9, -999.000,9
           NA,    P17E,    179,   1,-999.0,      13,  2,19930101,1628, -51.8920, -115.1072,  3404,  481.900,    6.285,   34.312,2,   34.310,2,  274.700,2,  272.600,2,    7.800,2,   20.550,2,    0.020,2,    1.480,2,    3.691,2,    1.779,2, -999.000,9, -999.000,9, -999.000,9
           NA,    P17E,    179,   1,-999.0,      14,  2,19930101,1628, -51.8920, -115.1072,  3404,  534.000,    6.111,   34.297,2,   34.297,2,  267.900,2,  269.800,2,    8.840,2,   21.310,2,    0.020,2,    1.510,2,    3.580,2,    1.745,2, -999.000,9, -999.000,9, -999.000,9
           NA,    P17E,    179,   1,-999.0,      15,  2,19930101,1628, -51.8920, -115.1072,  3404,  579.400,    5.901,   34.286,2,   34.287,2,  263.300,2,  258.400,2,   10.510,2,   22.790,2,    0.010,2,    1.620,2,    3.106,2,    1.480,2, -999.000,9, -999.000,9, -999.000,9
           NA,    P17E,    179,   1,-999.0,      16,  2,19930101,1628, -51.8920, -115.1072,  3404,  629.900,    5.658,   34.279,2,   34.280,2,  249.000,2,  248.000,2,   13.230,2,   24.450,2,    0.010,2,    1.740,2,    2.799,2,    1.319,2, -999.000,9, -999.000,9, -999.000,9
           NA,    P17E,    179,   1,-999.0,      17,  2,19930101,1628, -51.8920, -115.1072,  3404,  677.400,    5.427,   34.272,2,   34.273,2,  243.100,2,  244.500,2,   14.900,2,   25.160,2,    0.010,2,    1.760,2,    2.547,2,    1.199,2, -999.000,9, -999.000,9, -999.000,9
           NA,    P17E,    179,   1,-999.0,      18,  2,19930101,1628, -51.8920, -115.1072,  3404,  728.600,    5.179,   34.278,2,   34.279,2,  236.200,2,  234.600,2,   18.880,2,   26.460,2,    0.000,2,    1.850,2,    2.211,2,    1.034,2, -999.000,9, -999.000,9, -999.000,9
           NA,    P17E,    179,   1,-999.0,      19,  2,19930101,1628, -51.8920, -115.1072,  3404,  779.300,    4.961,   34.288,2,   34.287,2,  227.700,2,  227.500,2,   21.590,2,   27.580,2,    0.000,2,    1.920,2,    1.881,2,    0.871,2, -999.000,9, -999.000,9, -999.000,9
           NA,    P17E,    179,   1,-999.0,      20,  2,19930101,1628, -51.8920, -115.1072,  3404,  855.700,    4.655,   34.298,2,   34.298,2,  221.100,2,  219.800,2,   25.780,2,   28.700,2,    0.000,2,    2.000,2,    1.555,2,    0.718,2, -999.000,9, -999.000,9, -999.000,9
           NA,    P17E,    179,   1,-999.0,      21,  2,19930101,1628, -51.8920, -115.1072,  3404,  931.300,    4.243,   34.306,2,   34.305,2,  214.600,2,  214.900,2,   30.800,2,   29.890,2,    0.000,2,    2.070,2,    1.418,2,    0.660,2, -999.000,9, -999.000,9, -999.000,9
           NA,    P17E,    179,   1,-999.0,      22,  2,19930101,1628, -51.8920, -115.1072,  3404, 1005.600,    3.848,   34.314,2,   34.313,2,  209.000,2,  211.000,2,   36.450,2,   30.840,2,    0.000,2,    2.140,2,    1.254,2,    0.571,2, -999.000,9, -999.000,9, -999.000,9
           NA,    P17E,    179,   1,-999.0,      23,  2,19930101,1628, -51.8920, -115.1072,  3404, 1119.300,    3.326,   34.346,2,   34.345,2,  201.400,2,  202.300,2,   45.460,2,   32.140,2,    0.000,2,    2.240,2,    0.989,2,    0.457,2, -999.000,9, -999.000,9, -999.000,9
           NA,    P17E,    179,   1,-999.0,      24,  2,19930101,1628, -51.8920, -115.1072,  3404, 1317.500,    2.834,   34.429,2,   34.429,2,  186.300,2,  187.000,2,   59.930,2,   33.510,2,    0.000,2,    2.320,2,    0.603,2,    0.272,2, -999.000,9, -999.000,9, -999.000,9
           NA,    P17E,    179,   1,-999.0,      25,  2,19930101,1628, -51.8920, -115.1072,  3404, 1521.100,    2.591,   34.526,2,   34.524,2,  175.300,2,  174.500,2,   71.890,2,   33.980,2,    0.000,2,    2.360,2,    0.280,2,    0.134,2, -999.000,9, -999.000,9, -999.000,9
           NA,    P17E,    179,   1,-999.0,      27,  2,19930101,1628, -51.8920, -115.1072,  3404, 1731.500,    2.427,   34.602,2,   34.602,2,  171.300,2,  171.000,2,   80.500,2,   33.470,2,    0.000,2,    2.340,2, -999.000,9, -999.000,9, -999.000,9, -999.000,9, -999.000,9
           NA,    P17E,    179,   1,-999.0,      26,  2,19930101,1628, -51.8920, -115.1072,  3404, 1732.300,    2.427,   34.603,2,   34.602,2,  171.500,2,  170.700,2,   80.090,2,   33.480,2,    0.000,2,    2.340,2,    0.125,2,    0.062,2, -999.000,9, -999.000,9, -999.000,9
           NA,    P17E,    179,   1,-999.0,      28,  2,19930101,1628, -51.8920, -115.1072,  3404, 1925.700,    2.293,   34.650,2,   34.650,2,  172.100,2,  172.400,2,   84.480,2,   32.920,2,    0.000,2,    2.300,2,    0.088,2,    0.038,2, -999.000,9, -999.000,9, -999.000,9
           NA,    P17E,    179,   1,-999.0,      29,  2,19930101,1628, -51.8920, -115.1072,  3404, 2126.900,    2.186,   34.684,2,   34.684,2,  175.200,2,  175.700,2,   88.270,2,   32.360,2,    0.000,2,    2.270,2,    0.052,2,    0.026,2, -999.000,9, -999.000,9, -999.000,9
           NA,    P17E,    179,   1,-999.0,      30,  2,19930101,1628, -51.8920, -115.1072,  3404, 2326.700,    2.039,   34.704,2,   34.705,2,  175.900,2,  177.800,2,   94.590,2,   32.170,2,    0.000,2,    2.260,2,    0.026,2,    0.012,2, -999.000,9, -999.000,9, -999.000,9
           NA,    P17E,    179,   1,-999.0,      31,  2,19930101,1628, -51.8920, -115.1072,  3404, 2534.100,    1.857,   34.710,2,   34.709,2,  178.500,2,  178.700,2,  102.210,2,   32.210,2,    0.000,2,    2.250,2,    0.015,2,    0.009,2, -999.000,9, -999.000,9, -999.000,9
           NA,    P17E,    179,   1,-999.0,      32,  2,19930101,1628, -51.8920, -115.1072,  3404, 2712.500,    1.685,   34.708,2,   34.707,2,  178.500,2,  178.400,2,  110.920,2,   32.740,2,    0.000,2,    2.290,2,    0.003,2,    0.001,2, -999.000,9, -999.000,9, -999.000,9
           NA,    P17E,    179,   1,-999.0,      33,  2,19930101,1628, -51.8920, -115.1072,  3404, 2886.300,    1.630,   34.711,2,   34.711,2,  180.800,2,  181.800,2,  111.120,2,   32.550,2,    0.000,2,    2.270,2,    0.005,2,    0.002,2, -999.000,9, -999.000,9, -999.000,9
           NA,    P17E,    179,   1,-999.0,      34,  2,19930101,1628, -51.8920, -115.1072,  3404, 3093.100,    1.584,   34.714,2,   34.714,2,  184.100,2,  184.800,2,  111.750,2,   32.420,2,    0.000,2,    2.260,2, -999.000,5,    0.008,2, -999.000,9, -999.000,9, -999.000,9
           NA,    P17E,    179,   1,-999.0,      35,  2,19930101,1628, -51.8920, -115.1072,  3404, 3300.500,    1.570,   34.715,2,   34.715,2,  186.500,2,  186.000,2,  112.370,2,   32.400,2,    0.000,2,    2.260,2,    0.008,2,    0.004,2, -999.000,9, -999.000,9, -999.000,9
           NA,    P17E,    179,   1,-999.0,      36,  2,19930101,1628, -51.8920, -115.1072,  3404, 3424.800,    1.571,   34.716,2,   34.715,2,  187.500,2,  187.800,2,  112.790,2,   32.390,2,    0.000,2,    2.250,2,    0.010,2,    0.004,2, -999.000,9, -999.000,9, -999.000,9
           NA,    P17E,    180,   1,-999.0,       2,  2,19930101,2206, -51.9563, -114.2962,  3340,   27.400,    7.695,   34.327,2,   34.327,2, -999.000,3,  291.800,2,    1.700,2,   14.100,2,    0.190,2,    1.130,2, -999.000,9, -999.000,9, -999.000,9, 2094.100,2, -999.000,9
           NA,    P17E,    180,   1,-999.0,       3,  2,19930101,2206, -51.9563, -114.2962,  3340,   67.700,    7.614,   34.333,2,   34.327,2, -999.000,3,  294.200,2,    1.670,2,   14.160,2,    0.180,2,    1.140,2, -999.000,9, -999.000,9, -999.000,9, -999.000,9, -999.000,9
           NA,    P17E,    180,   1,-999.0,       4,  2,19930101,2206, -51.9563, -114.2962,  3340,   96.900,    7.450,   34.330,2,   34.329,2, -999.000,3,  292.800,2,    1.640,2,   14.280,2,    0.180,2,    1.150,2, -999.000,9, -999.000,9, -999.000,9, -999.000,9, -999.000,9
           NA,    P17E,    180,   1,-999.0,       5,  2,19930101,2206, -51.9563, -114.2962,  3340,  128.200,    7.257,   34.341,2,   34.338,2,  284.700,2,  288.700,2,    2.460,2,   14.850,2,    0.190,2,    1.200,2, -999.000,9, -999.000,9, -999.000,9, -999.000,9, -999.000,9
           NA,    P17E,    180,   1,-999.0,       6,  2,19930101,2206, -51.9563, -114.2962,  3340,  157.600,    7.071,   34.366,2,   34.365,2,  276.100,2,  278.800,2,    5.400,2,   17.230,2,    0.180,2,    1.310,2, -999.000,9, -999.000,9, -999.000,9, -999.000,9, -999.000,9
           NA,    P17E,    180,   1,-999.0,       7,  2,19930101,2206, -51.9563, -114.2962,  3340,  234.200,    6.892,   34.361,2,   34.362,2,  279.600,2,  275.300,2,    6.850,2,   18.550,2,    0.050,2,    1.360,2, -999.000,9, -999.000,9, -999.000,9, -999.000,9, -999.000,9
           NA,    P17E,    180,   1,-999.0,       8,  2,19930101,2206, -51.9563, -114.2962,  3340,  291.900,    6.823,   34.361,2,   34.361,2,  281.000,2,  275.500,2,    7.040,2,   18.920,2,    0.020,2,    1.380,2, -999.000,9, -999.000,9, -999.000,9, -999.000,9, -999.000,9
           NA,    P17E,    180,   1,-999.0,       9,  2,19930101,2206, -51.9563, -114.2962,  3340,  353.300,    6.650,   34.344,2,   34.344,2,  277.400,2,  275.000,2,    7.220,2,   19.390,2,    0.020,2,    1.410,2, -999.000,9, -999.000,9, -999.000,9, -999.000,9, -999.000,9
           NA,    P17E,    180,   1,-999.0,      10,  2,19930101,2206, -51.9563, -114.2962,  3340,  412.400,    6.449,   34.322,2,   34.322,2,  273.200,2,  275.900,2,    7.610,2,   19.740,2,    0.010,2,    1.430,2, -999.000,9, -999.000,9, -999.000,9, -999.000,9, -999.000,9
           NA,    P17E,    180,   1,-999.0,      11,  2,19930101,2206, -51.9563, -114.2962,  3340,  473.100,    6.281,   34.312,2,   34.311,2,  266.100,2,  273.900,2,    8.430,2,   20.510,2,    0.010,2,    1.470,2, -999.000,9, -999.000,9, -999.000,9, -999.000,9, -999.000,9
           NA,    P17E,    180,   1,-999.0,      12,  2,19930101,2206, -51.9563, -114.2962,  3340,  532.100,    6.061,   34.295,2,   34.295,2,  261.400,2,  267.900,2,    9.670,2,   21.690,2,    0.010,2,    1.550,2, -999.000,9, -999.000,9, -999.000,9, -999.000,9, -999.000,9
           NA,    P17E,    180,   1,-999.0,      13,  2,19930101,2206, -51.9563, -114.2962,  3340,  592.900,    5.777,   34.275,2,   34.275,2,  253.000,2,  254.500,2,   12.600,2,   23.820,2,    0.010,2,    1.680,2, -999.000,9, -999.000,9, -999.000,9, -999.000,9, -999.000,9
           NA,    P17E,    180,   1,-999.0,      14,  2,19930101,2206, -51.9563, -114.2962,  3340,  648.700,    5.580,   34.275,2,   34.274,2,  246.300,2,  246.600,2,   14.900,2,   24.950,2,    0.010,2,    1.740,2, -999.000,9, -999.000,9, -999.000,9, -999.000,9, -999.000,9
           NA,    P17E,    180,   1,-999.0,      15,  2,19930101,2206, -51.9563, -114.2962,  3340,  694.600,    5.417,   34.281,2,   34.280,2,  240.800,2,  239.500,2,   16.980,2,   25.830,2,    0.010,2,    1.810,2, -999.000,9, -999.000,9, -999.000,9, -999.000,9, -999.000,9
           NA,    P17E,    180,   1,-999.0,      16,  2,19930101,2206, -51.9563, -114.2962,  3340,  772.400,    5.034,   34.285,2,   34.284,2,  232.100,2,  230.700,2,   21.170,2,   27.370,2,    0.010,2,    1.910,2, -999.000,9, -999.000,9, -999.000,9, -999.000,9, -999.000,9
           NA,    P17E,    180,   1,-999.0,      17,  2,19930101,2206, -51.9563, -114.2962,  3340,  856.100,    4.539,   34.292,2,   34.292,2,  222.000,2,  220.600,2,   27.470,2,   29.210,2,    0.010,2,    2.030,2, -999.000,9, -999.000,9, -999.000,9, -999.000,9, -999.000,9
           NA,    P17E,    180,   1,-999.0,      18,  2,19930101,2206, -51.9563, -114.2962,  3340,  932.200,    4.165,   34.303,2,   34.301,2,  212.900,2,  215.000,2,   32.090,2,   30.340,2,    0.010,2,    2.110,2, -999.000,9, -999.000,9, -999.000,9, -999.000,9, -999.000,9
           NA,    P17E,    180,   1,-999.0,      19,  2,19930101,2206, -51.9563, -114.2962,  3340, 1092.000,    3.507,   34.335,2,   34.333,2,  202.300,2,  204.800,2,   43.240,2,   32.180,2,    0.000,2,    2.210,2, -999.000,9, -999.000,9, -999.000,9, -999.000,9, -999.000,9
           NA,    P17E,    180,   1,-999.0,      20,  2,19930101,2206, -51.9563, -114.2962,  3340, 1252.700,    2.996,   34.400,2,   34.399,2,  190.000,2,  191.300,2,   56.080,2,   33.550,2,    0.000,2,    2.310,2, -999.000,9, -999.000,9, -999.000,9, -999.000,9, -999.000,9
           NA,    P17E,    180,   1,-999.0,      21,  2,19930101,2206, -51.9563, -114.2962,  3340, 1404.000,    2.724,   34.465,2,   34.463,2,  178.800,2,  181.200,2,   65.330,2,   34.140,2,    0.000,2,    2.360,2, -999.000,9, -999.000,9, -999.000,9, -999.000,9, -999.000,9
           NA,    P17E,    180,   1,-999.0,      22,  2,19930101,2206, -51.9563, -114.2962,  3340, 1560.300,    2.555,   34.531,2,   34.530,2,  173.800,2,  174.500,2,   73.950,2,   34.430,2,    0.000,2,    2.390,2, -999.000,9, -999.000,9, -999.000,9, -999.000,9, -999.000,9
           NA,    P17E,    180,   1,-999.0,      23,  2,19930101,2206, -51.9563, -114.2962,  3340, 1713.100,    2.435,   34.594,2, -999.000,3,  169.400,2,  170.800,2,   80.260,2,   34.050,2,    0.000,2,    2.360,2, -999.000,9, -999.000,9, -999.000,9, -999.000,9, -999.000,9
           NA,    P17E,    180,   1,-999.0,      24,  2,19930101,2206, -51.9563, -114.2962,  3340, 1816.800,    2.374,   34.624,2, -999.000,3,  170.000,2,  170.700,2,   83.180,2,   33.800,2,    0.000,2,    2.360,2, -999.000,9, -999.000,9, -999.000,9, -999.000,9, -999.000,9
           NA,    P17E,    180,   1,-999.0,      25,  2,19930101,2206, -51.9563, -114.2962,  3340, 1968.500,    2.288,   34.650,2,   34.651,2,  171.200,2,  172.000,2,   86.940,2,   33.480,2,    0.000,2,    2.320,2, -999.000,9, -999.000,9, -999.000,9, -999.000,9, -999.000,9
           NA,    P17E,    180,   1,-999.0,      27,  2,19930101,2206, -51.9563, -114.2962,  3340, 2113.800,    2.184,   34.678,2, -999.000,3,  174.000,2,  173.100,2,   91.090,2,   33.040,2,    0.000,2,    2.300,2, -999.000,9, -999.000,9, -999.000,9, -999.000,9, -999.000,9
           NA,    P17E,    180,   1,-999.0,      26,  2,19930101,2206, -51.9563, -114.2962,  3340, 2115.000,    2.185,   34.678,2,   34.678,2,  174.000,2,  173.100,2,   91.350,2,   33.110,2,    0.000,2,    2.290,2, -999.000,9, -999.000,9, -999.000,9, -999.000,9, -999.000,9
           NA,    P17E,    180,   1,-999.0,      28,  2,19930101,2206, -51.9563, -114.2962,  3340, 2264.200,    2.078,   34.694,2,   34.694,2,  174.700,2,  174.100,2,   96.140,2,   32.910,2,    0.000,2,    2.290,2, -999.000,9, -999.000,9, -999.000,9, -999.000,9, -999.000,9
           NA,    P17E,    180,   1,-999.0,      29,  2,19930101,2206, -51.9563, -114.2962,  3340, 2405.000,    1.965,   34.702,2,   34.703,2,  176.000,2,  175.500,2,  100.770,2,   32.890,2,    0.000,2,    2.280,2, -999.000,9, -999.000,9, -999.000,9, -999.000,9, -999.000,9
           NA,    P17E,    180,   1,-999.0,      31,  2,19930101,2206, -51.9563, -114.2962,  3340, 2707.400,    1.725,   34.708,2,   34.708,2,  178.000,2,  179.500,2,  108.400,2,   32.880,2,    0.000,2,    2.290,2, -999.000,9, -999.000,9, -999.000,9, -999.000,9, -999.000,9
           NA,    P17E,    180,   1,-999.0,      32,  2,19930101,2206, -51.9563, -114.2962,  3340, 2867.600,    1.643,   34.711,2,   34.711,2,  181.100,2,  182.000,2,  110.700,2,   32.690,2,    0.000,2,    2.280,2, -999.000,9, -999.000,9, -999.000,9, -999.000,9, -999.000,9
           NA,    P17E,    180,   1,-999.0,      33,  2,19930101,2206, -51.9563, -114.2962,  3340, 3022.100,    1.584,   34.714,2,   34.714,2,  183.700,2,  184.500,2,  111.510,2,   32.620,2,    0.000,2,    2.270,2, -999.000,9, -999.000,9, -999.000,9, -999.000,9, -999.000,9
           NA,    P17E,    180,   1,-999.0,      34,  2,19930101,2206, -51.9563, -114.2962,  3340, 3171.200,    1.555,   34.716,2,   34.715,2,  187.300,2,  187.000,2,  111.670,2,   32.540,2,    0.000,2,    2.260,2, -999.000,9, -999.000,9, -999.000,9, -999.000,9, -999.000,9
           NA,    P17E,    180,   1,-999.0,      35,  2,19930101,2206, -51.9563, -114.2962,  3340, 3305.900,    1.519,   34.716,2,   34.716,2,  188.600,2,  188.900,2,  112.470,2,   32.470,2,    0.000,2,    2.260,2, -999.000,9, -999.000,9, -999.000,9, -999.000,9, -999.000,9
           NA,    P17E,    180,   1,-999.0,      36,  2,19930101,2206, -51.9563, -114.2962,  3340, 3372.300,    1.488,   34.717,2,   34.717,2,  188.300,2,  188.900,2,  113.490,2,   32.520,2,    0.000,2,    2.250,2, -999.000,9, -999.000,9, -999.000,9, -999.000,9, -999.000,9