BOTTLE,20215010JOAExport
EXPOCODE,SECT_ID,STNNBR,CASTNO,SAMPNO,BTLNBR,BTLNBR_FLAG_W,DATE,TIME,LATITUDE,LONGITUDE,DEPTH,CTDPRS,CTDTMP,CTDSAL,CTDSAL_FLAG_W,SALNTY,SALNTY_FLAG_W,CTDOXY,CTDOXY_FLAG_W,OXYGEN,OXYGEN_FLAG_W,SILCAT,SILCAT_FLAG_W,NITRAT,NITRAT_FLAG_W,NITRIT,NITRIT_FLAG_W,PHSPHT,PHSPHT_FLAG_W,CFC-11,CFC-11_FLAG_W,CFC-12,CFC-12_FLAG_W,SF6,SF6_FLAG_W,TCARBN,TCARBN_FLAG_W,ALKALI,ALKALI_FLAG_W
,,,,,,,,,,,,DB,ITS-90,PSS-78,,PSS-78,,UMOL/KG,,UMOL/KG,,UMOL/KG,,UMOL/KG,,UMOL/KG,,UMOL/KG,,PMOL/KG,,PMOL/KG,,PMOL/KG,,UMOL/KG,,UMOL/KG
           NA,    P17E,    137,   1,-999.0,       1,  2,19921216,2102, -52.5083, -127.6088,  3683,    2.700,    7.503,   34.409,2,   34.409,2, -999.000,3,  298.900,2,    1.410,2,   15.030,2,    0.180,2,    1.080,2, -999.000,9, -999.000,9, -999.000,9, 2096.000,2, -999.000,9
           NA,    P17E,    137,   1,-999.0,       2,  2,19921216,2102, -52.5083, -127.6088,  3683,   26.400,    7.460,   34.409,2,   34.410,2, -999.000,3,  298.700,2,    1.610,2,   15.030,2,    0.180,2,    1.090,2, -999.000,9, -999.000,9, -999.000,9, -999.000,9, -999.000,9
           NA,    P17E,    137,   1,-999.0,       3,  2,19921216,2102, -52.5083, -127.6088,  3683,   57.100,    7.421,   34.416,2,   34.417,2, -999.000,3,  295.900,2,    1.810,2,   15.080,2,    0.180,2,    1.100,2, -999.000,9, -999.000,9, -999.000,9, -999.000,9, -999.000,9
           NA,    P17E,    137,   1,-999.0,       4,  2,19921216,2102, -52.5083, -127.6088,  3683,   82.300,    7.413,   34.417,2,   34.417,2, -999.000,3,  295.200,2,    1.810,2,   15.080,2,    0.170,2,    1.100,2, -999.000,9, -999.000,9, -999.000,9, -999.000,9, -999.000,9
           NA,    P17E,    137,   1,-999.0,       5,  2,19921216,2102, -52.5083, -127.6088,  3683,  107.600,    7.258,   34.420,2,   34.419,2,  290.000,2,  291.600,2,    2.830,2,   15.650,2,    0.170,2,    1.140,2, -999.000,9, -999.000,9, -999.000,9, -999.000,9, -999.000,9
           NA,    P17E,    137,   1,-999.0,       6,  2,19921216,2102, -52.5083, -127.6088,  3683,  136.000,    7.074,   34.412,2,   34.411,2,  279.700,2,  286.100,2,    4.890,2,   16.810,2,    0.170,2,    1.230,2, -999.000,9, -999.000,9, -999.000,9, -999.000,9, -999.000,9
           NA,    P17E,    137,   1,-999.0,       7,  2,19921216,2102, -52.5083, -127.6088,  3683,  164.300,    7.004,   34.410,2,   34.409,2,  279.500,2,  287.200,2,    4.680,2,   16.860,2,    0.170,2,    1.220,2, -999.000,9, -999.000,9, -999.000,9, -999.000,9, -999.000,9
           NA,    P17E,    137,   1,-999.0,       8,  2,19921216,2102, -52.5083, -127.6088,  3683,  200.600,    6.892,   34.398,2,   34.398,2,  277.200,2,  286.400,2,    5.080,2,   17.440,2,    0.160,2,    1.270,2, -999.000,9, -999.000,9, -999.000,9, -999.000,9, -999.000,9
           NA,    P17E,    137,   1,-999.0,       9,  2,19921216,2102, -52.5083, -127.6088,  3683,  258.600,    6.780,   34.388,2,   34.386,2,  280.700,2,  280.100,2,    6.520,2,   18.650,2,    0.100,2,    1.350,2, -999.000,9, -999.000,9, -999.000,9, -999.000,9, -999.000,9
           NA,    P17E,    137,   1,-999.0,      10,  2,19921216,2102, -52.5083, -127.6088,  3683,  329.100,    6.593,   34.363,2,   34.363,2,  277.700,2,  273.900,2,    7.340,2,   19.670,2,    0.080,2,    1.420,2, -999.000,9, -999.000,9, -999.000,9, -999.000,9, -999.000,9
           NA,    P17E,    137,   1,-999.0,      11,  2,19921216,2102, -52.5083, -127.6088,  3683,  398.100,    6.393,   34.341,2,   34.341,2,  278.100,2,  274.100,2,    7.950,2,   20.140,2,    0.080,2,    1.450,2, -999.000,9, -999.000,9, -999.000,9, -999.000,9, -999.000,9
           NA,    P17E,    137,   1,-999.0,      12,  2,19921216,2102, -52.5083, -127.6088,  3683,  460.100,    6.228,   34.328,2,   34.327,2,  254.600,2,  257.400,2,   10.620,2,   22.260,2,    0.010,2,    1.570,2, -999.000,9, -999.000,9, -999.000,9, -999.000,9, -999.000,9
           NA,    P17E,    137,   1,-999.0,      13,  2,19921216,2102, -52.5083, -127.6088,  3683,  521.100,    6.025,   34.321,2,   34.321,2,  257.200,2,  244.700,2,   12.880,2,   23.890,2,    0.000,2,    1.690,2, -999.000,9, -999.000,9, -999.000,9, -999.000,9, -999.000,9
           NA,    P17E,    137,   1,-999.0,      14,  2,19921216,2102, -52.5083, -127.6088,  3683,  581.800,    5.739,   34.313,2,   34.313,2,  237.800,2,  235.900,2,   15.750,2,   25.200,2,    0.000,2,    1.780,2, -999.000,9, -999.000,9, -999.000,9, -999.000,9, -999.000,9
           NA,    P17E,    137,   1,-999.0,      15,  2,19921216,2102, -52.5083, -127.6088,  3683,  633.800,    5.382,   34.279,2,   34.276,2,  240.700,2,  242.100,2,   16.160,2,   25.620,2,    0.000,2,    1.800,2, -999.000,9, -999.000,9, -999.000,9, -999.000,9, -999.000,9
           NA,    P17E,    137,   1,-999.0,      16,  2,19921216,2102, -52.5083, -127.6088,  3683,  704.500,    5.084,   34.269,2,   34.269,2,  225.800,2,  237.600,2,   18.830,2,   26.610,2,    0.000,2,    1.870,2, -999.000,9, -999.000,9, -999.000,9, -999.000,9, -999.000,9
           NA,    P17E,    137,   1,-999.0,      17,  2,19921216,2102, -52.5083, -127.6088,  3683,  777.700,    4.817,   34.287,2,   34.289,2,  223.300,2,  225.800,2,   23.550,2,   28.190,2,    0.000,2,    1.970,2, -999.000,9, -999.000,9, -999.000,9, -999.000,9, -999.000,9
           NA,    P17E,    137,   1,-999.0,      18,  2,19921216,2102, -52.5083, -127.6088,  3683,  849.700,    4.629,   34.315,2,   34.321,2,  213.800,2,  215.100,2,   28.680,2,   29.290,2,    0.000,2,    2.050,2, -999.000,9, -999.000,9, -999.000,9, -999.000,9, -999.000,9
           NA,    P17E,    137,   1,-999.0,      19,  2,19921216,2102, -52.5083, -127.6088,  3683,  923.200,    4.211,   34.322,2,   34.317,2,  209.100,2,  211.900,2,   33.400,2,   30.290,2,    0.000,2,    2.120,2, -999.000,9, -999.000,9, -999.000,9, -999.000,9, -999.000,9
           NA,    P17E,    137,   1,-999.0,      20,  2,19921216,2102, -52.5083, -127.6088,  3683,  995.800,    3.862,   34.340,2,   34.337,2,  205.700,2,  205.700,2,   39.560,2,   31.120,2,    0.000,2,    2.200,2, -999.000,9, -999.000,9, -999.000,9, -999.000,9, -999.000,9
           NA,    P17E,    137,   1,-999.0,      21,  2,19921216,2102, -52.5083, -127.6088,  3683, 1094.300,    3.489,   34.364,2,   34.363,2,  200.700,2,  198.000,2,   46.340,2,   32.230,2,    0.000,2,    2.270,2, -999.000,9, -999.000,9, -999.000,9, -999.000,9, -999.000,9
           NA,    P17E,    137,   1,-999.0,      22,  2,19921216,2102, -52.5083, -127.6088,  3683, 1189.400,    3.242,   34.403,2,   34.401,2,  191.900,2,  190.300,2,   53.730,2,   32.960,2,    0.000,2,    2.320,2, -999.000,9, -999.000,9, -999.000,9, -999.000,9, -999.000,9
           NA,    P17E,    137,   1,-999.0,      23,  2,19921216,2102, -52.5083, -127.6088,  3683, 1336.000,    2.947,   34.455,2,   34.454,2,  182.100,2,  180.700,2,   62.370,2,   33.530,2,    0.000,2,    2.360,2, -999.000,9, -999.000,9, -999.000,9, -999.000,9, -999.000,9
           NA,    P17E,    137,   1,-999.0,      24,  2,19921216,2102, -52.5083, -127.6088,  3683, 1481.400,    2.668,   34.504,2,   34.504,2,  177.800,2,  177.300,2,   68.740,2,   33.950,2,    0.000,2,    2.390,2, -999.000,9, -999.000,9, -999.000,9, -999.000,9, -999.000,9
           NA,    P17E,    137,   1,-999.0,      25,  2,19921216,2102, -52.5083, -127.6088,  3683, 1687.600,    2.499,   34.582,2,   34.582,2,  171.000,2,  170.600,2,   78.830,2,   33.890,2,    0.000,2,    2.370,2, -999.000,9, -999.000,9, -999.000,9, -999.000,9, -999.000,9
           NA,    P17E,    137,   1,-999.0,      26,  2,19921216,2102, -52.5083, -127.6088,  3683, 1893.000,    2.342,   34.640,2,   34.640,2,  171.700,2,  172.000,2,   83.150,2,   33.200,2,    0.000,2,    2.320,2, -999.000,9, -999.000,9, -999.000,9, -999.000,9, -999.000,9
           NA,    P17E,    137,   1,-999.0,      27,  2,19921216,2102, -52.5083, -127.6088,  3683, 2097.500,    2.224,   34.680,2,   34.680,2,  174.000,2,  175.900,2,   86.440,2,   32.460,2,    0.000,2,    2.270,2, -999.000,9, -999.000,9, -999.000,9, -999.000,9, -999.000,9
           NA,    P17E,    137,   1,-999.0,      28,  2,19921216,2102, -52.5083, -127.6088,  3683, 2298.700,    2.099,   34.706,2,   34.707,2,  178.700,2,  180.500,2,   89.530,2,   31.930,2,    0.000,2,    2.230,2, -999.000,9, -999.000,9, -999.000,9, -999.000,9, -999.000,9
           NA,    P17E,    137,   1,-999.0,      29,  2,19921216,2102, -52.5083, -127.6088,  3683, 2500.400,    1.941,   34.720,2,   34.720,2,  181.700,2,  183.400,2,   95.320,2,   31.760,2,    0.000,2,    2.220,2, -999.000,9, -999.000,9, -999.000,9, -999.000,9, -999.000,9
           NA,    P17E,    137,   1,-999.0,      30,  2,19921216,2102, -52.5083, -127.6088,  3683, 2704.600,    1.772,   34.725,2,   34.725,2,  185.200,2,  186.900,2,   99.670,2,   31.600,2,    0.000,2,    2.220,2, -999.000,9, -999.000,9, -999.000,9, -999.000,9, -999.000,9
           NA,    P17E,    137,   1,-999.0,      31,  4,19921216,2102, -52.5083, -127.6088,  3683, 2704.600,    1.772,   34.725,2, -999.000,2,  185.200,2, -999.000,2, -999.000,2, -999.000,2, -999.000,2, -999.000,2, -999.000,9, -999.000,9, -999.000,9, -999.000,9, -999.000,9
           NA,    P17E,    137,   1,-999.0,      32,  2,19921216,2102, -52.5083, -127.6088,  3683, 3110.000,    1.452,   34.720,2,   34.720,2,  189.600,2,  191.800,2,  110.070,2,   31.910,2,    0.000,2,    2.240,2, -999.000,9, -999.000,9, -999.000,9, -999.000,9, -999.000,9
           NA,    P17E,    137,   1,-999.0,      33,  2,19921216,2102, -52.5083, -127.6088,  3683, 3313.000,    1.345,   34.716,2,   34.716,2,  191.600,2,  192.600,2,  114.240,2,   32.220,2,    0.000,2,    2.250,2, -999.000,9, -999.000,9, -999.000,9, -999.000,9, -999.000,9
           NA,    P17E,    137,   1,-999.0,      34,  2,19921216,2102, -52.5083, -127.6088,  3683, 3517.000,    1.305,   34.715,2,   34.716,2,  193.300,2,  193.400,2,  116.320,2,   32.220,2,    0.000,2,    2.250,2, -999.000,9, -999.000,9, -999.000,9, -999.000,9, -999.000,9
           NA,    P17E,    137,   1,-999.0,      35,  2,19921216,2102, -52.5083, -127.6088,  3683, 3669.400,    1.294,   34.715,2,   34.716,2,  195.100,2,  194.800,2,  116.520,2,   32.320,2,    0.000,2,    2.250,2, -999.000,9, -999.000,9, -999.000,9, -999.000,9, -999.000,9
           NA,    P17E,    137,   1,-999.0,      36,  2,19921216,2102, -52.5083, -127.6088,  3683, 3773.300,    1.301,   34.716,2,   34.716,2,  195.700,2,  194.900,2,  116.920,2,   32.310,2,    0.000,2,    2.250,2, -999.000,9, -999.000,9, -999.000,9, -999.000,9, -999.000,9