BOTTLE,20215010JOAExport
EXPOCODE,SECT_ID,STNNBR,CASTNO,SAMPNO,BTLNBR,BTLNBR_FLAG_W,DATE,TIME,LATITUDE,LONGITUDE,DEPTH,CTDPRS,CTDTMP,CTDSAL,CTDSAL_FLAG_W,SALNTY,SALNTY_FLAG_W,CTDOXY,CTDOXY_FLAG_W,OXYGEN,OXYGEN_FLAG_W,SILCAT,SILCAT_FLAG_W,NITRAT,NITRAT_FLAG_W,NITRIT,NITRIT_FLAG_W,PHSPHT,PHSPHT_FLAG_W,CFC-11,CFC-11_FLAG_W,CFC-12,CFC-12_FLAG_W,SF6,SF6_FLAG_W,TCARBN,TCARBN_FLAG_W,ALKALI,ALKALI_FLAG_W
,,,,,,,,,,,,DB,ITS-90,PSS-78,,PSS-78,,UMOL/KG,,UMOL/KG,,UMOL/KG,,UMOL/KG,,UMOL/KG,,UMOL/KG,,PMOL/KG,,PMOL/KG,,PMOL/KG,,UMOL/KG,,UMOL/KG
           NA,    P17E,    130,   1,-999.0,       1,  2,19921214,1755, -52.5037, -133.3498,  4372,    4.900,    7.641,   34.387,2,   34.388,2, -999.000,3,  311.600,2,    2.510,2, -999.000,4,    0.190,2,    0.940,2,    4.169,2,    2.067,2, -999.000,9, 2078.900,2, -999.000,9
           NA,    P17E,    130,   1,-999.0,       2,  2,19921214,1755, -52.5037, -133.3498,  4372,   28.400,    7.648,   34.387,2,   34.386,2, -999.000,3,  311.600,2,    2.490,2, -999.000,4,    0.190,2,    0.940,2, -999.000,9, -999.000,9, -999.000,9, -999.000,9, -999.000,9
           NA,    P17E,    130,   1,-999.0,       3,  2,19921214,1755, -52.5037, -133.3498,  4372,   58.600,    6.955,   34.367,2,   34.371,2, -999.000,3,  301.500,2,    2.690,2, -999.000,4,    0.170,2,    1.130,2,    4.101,6,    2.045,6, -999.000,9, -999.000,9, -999.000,9
           NA,    P17E,    130,   1,-999.0,       4,  2,19921214,1755, -52.5037, -133.3498,  4372,   83.600,    6.646,   34.345,2,   34.344,2, -999.000,3,  297.000,2,    4.420,2, -999.000,4,    0.180,2,    1.280,2, -999.000,9, -999.000,9, -999.000,9, -999.000,9, -999.000,9
           NA,    P17E,    130,   1,-999.0,       5,  2,19921214,1755, -52.5037, -133.3498,  4372,  108.100,    6.551,   34.359,2,   34.357,2,  297.700,2,  288.700,2,    7.440,2, -999.000,4,    0.220,2,    1.400,2,    4.063,2,    2.028,2, -999.000,9, -999.000,9, -999.000,9
           NA,    P17E,    130,   1,-999.0,       6,  2,19921214,1755, -52.5037, -133.3498,  4372,  168.000,    6.510,   34.364,2,   34.364,2,  290.300,2,  287.300,2,    8.290,2, -999.000,4,    0.280,2,    1.440,2, -999.000,9, -999.000,9, -999.000,9, -999.000,9, -999.000,9
           NA,    P17E,    130,   1,-999.0,       7,  2,19921214,1755, -52.5037, -133.3498,  4372,  228.600,    6.113,   34.311,2,   34.314,2,  273.200,2,  285.700,2,    8.270,2, -999.000,4,    0.170,2,    1.480,2,    4.006,2,    1.971,2, -999.000,9, -999.000,9, -999.000,9
           NA,    P17E,    130,   1,-999.0,       8,  2,19921214,1755, -52.5037, -133.3498,  4372,  279.600,    5.868,   34.278,2,   34.279,2,  273.600,2,  290.300,2,    8.250,2, -999.000,4,    0.170,2,    1.490,2, -999.000,9, -999.000,9, -999.000,9, -999.000,9, -999.000,9
           NA,    P17E,    130,   1,-999.0,       9,  2,19921214,1755, -52.5037, -133.3498,  4372,  329.300,    5.708,   34.259,2,   34.259,2,  271.300,2,  287.500,2,    9.090,2, -999.000,4,    0.130,2,    1.530,2,    4.100,2,    2.034,2, -999.000,9, -999.000,9, -999.000,9
           NA,    P17E,    130,   1,-999.0,      10,  2,19921214,1755, -52.5037, -133.3498,  4372,  380.000,    5.445,   34.228,2,   34.230,2,  284.000,2,  280.200,2,   10.580,2, -999.000,4,    0.060,2,    1.660,2,    3.898,2,    1.898,2, -999.000,9, -999.000,9, -999.000,9
           NA,    P17E,    130,   1,-999.0,      11,  2,19921214,1755, -52.5037, -133.3498,  4372,  428.700,    5.308,   34.221,2,   34.221,2,  284.500,2,  272.900,2,   12.290,2, -999.000,4,    0.030,2,    1.690,2,    3.649,2,    1.795,2, -999.000,9, -999.000,9, -999.000,9
           NA,    P17E,    130,   1,-999.0,      12,  2,19921214,1755, -52.5037, -133.3498,  4372,  477.100,    4.822,   34.166,2,   34.166,2,  274.500,2,  286.300,2,   11.620,2, -999.000,4,    0.090,2,    1.680,2,    4.141,2,    2.033,2, -999.000,9, -999.000,9, -999.000,9
           NA,    P17E,    130,   1,-999.0,      13,  2,19921214,1755, -52.5037, -133.3498,  4372,  557.900,    4.766,   34.188,2,   34.182,2,  276.700,2,  268.300,2,   14.830,2, -999.000,4,    0.040,2,    1.790,2,    3.551,2,    1.720,2, -999.000,9, -999.000,9, -999.000,9
           NA,    P17E,    130,   1,-999.0,      14,  2,19921214,1755, -52.5037, -133.3498,  4372,  654.100,    4.587,   34.222,2,   34.220,2,  232.700,2,  246.900,2,   20.410,2, -999.000,4,    0.010,2,    1.960,2,    2.800,2,    1.323,2, -999.000,9, -999.000,9, -999.000,9
           NA,    P17E,    130,   1,-999.0,      15,  2,19921214,1755, -52.5037, -133.3498,  4372,  754.400,    4.461,   34.274,2,   34.272,2,  221.500,2,  227.600,2,   27.050,2, -999.000,4,    0.010,2,    2.100,2,    2.085,2,    0.967,2, -999.000,9, -999.000,9, -999.000,9
           NA,    P17E,    130,   1,-999.0,      16,  2,19921214,1755, -52.5037, -133.3498,  4372,  851.300,    4.002,   34.284,2,   34.285,2,  209.900,2,  220.300,2,   33.250,2,   30.360,2,    0.010,2,    2.160,2,    1.720,2,    0.815,2, -999.000,9, -999.000,9, -999.000,9
           NA,    P17E,    130,   1,-999.0,      17,  2,19921214,1755, -52.5037, -133.3498,  4372,  950.600,    3.715,   34.323,2,   34.324,2,  206.100,2,  208.700,2,   40.520,2,   31.750,2,    0.010,2,    2.260,2,    1.201,2,    0.566,2, -999.000,9, -999.000,9, -999.000,9
           NA,    P17E,    130,   1,-999.0,      18,  2,19921214,1755, -52.5037, -133.3498,  4372, 1047.600,    3.510,   34.362,2,   34.362,2,  200.500,2,  199.000,2,   47.560,2,   32.770,2,    0.010,2,    2.300,2,    0.848,2,    0.398,2, -999.000,9, -999.000,9, -999.000,9
           NA,    P17E,    130,   1,-999.0,      19,  2,19921214,1755, -52.5037, -133.3498,  4372, 1146.500,    3.185,   34.386,2,   34.383,2,  194.000,2,  194.500,2,   53.310,2,   33.660,2,    0.010,2,    2.360,2,    0.765,2,    0.351,2, -999.000,9, -999.000,9, -999.000,9
           NA,    P17E,    130,   1,-999.0,      20,  2,19921214,1755, -52.5037, -133.3498,  4372, 1296.800,    2.858,   34.450,2, -999.000,3,  185.700,2,  184.200,2,   63.120,2,   34.760,2,    0.010,2,    2.430,2,    0.536,2,    0.249,2, -999.000,9, -999.000,9, -999.000,9
           NA,    P17E,    130,   1,-999.0,      21,  2,19921214,1755, -52.5037, -133.3498,  4372, 1498.000,    2.612,   34.523,2,   34.521,2,  176.300,2,  176.100,2,   72.500,2,   35.070,2,    0.010,2,    2.480,2,    0.342,2,    0.154,2, -999.000,9, -999.000,9, -999.000,9
           NA,    P17E,    130,   1,-999.0,      22,  2,19921214,1755, -52.5037, -133.3498,  4372, 1696.400,    2.457,   34.593,2,   34.590,2,  172.900,2,  172.800,2,   78.860,2,   34.590,2,    0.000,2,    2.410,2,    0.183,2,    0.082,2, -999.000,9, -999.000,9, -999.000,9
           NA,    P17E,    130,   1,-999.0,      23,  2,19921214,1755, -52.5037, -133.3498,  4372, 1895.300,    2.349,   34.644,2,   34.642,2,  172.800,2,  173.700,2,   83.070,2,   33.820,2,    0.000,2,    2.400,2,    0.109,2,    0.055,2, -999.000,9, -999.000,9, -999.000,9
           NA,    P17E,    130,   1,-999.0,      24,  2,19921214,1755, -52.5037, -133.3498,  4372, 2099.200,    2.230,   34.686,2,   34.685,2,  176.800,2,  177.400,2,   86.640,2,   32.840,2,    0.000,2,    2.360,2,    0.063,2,    0.025,2, -999.000,9, -999.000,9, -999.000,9
           NA,    P17E,    130,   1,-999.0,      25,  2,19921214,1755, -52.5037, -133.3498,  4372, 2299.200,    2.119,   34.709,2,   34.709,2,  180.600,2,  181.300,2,   89.990,2,   32.210,2,    0.000,2,    2.270,2,    0.038,2,    0.015,2, -999.000,9, -999.000,9, -999.000,9
           NA,    P17E,    130,   1,-999.0,      26,  2,19921214,1755, -52.5037, -133.3498,  4372, 2498.500,    1.993,   34.724,2,   34.724,2,  184.100,2,  185.400,2,   93.340,2,   31.800,2,    0.000,2,    2.230,2, -999.000,9, -999.000,9, -999.000,9, -999.000,9, -999.000,9
           NA,    P17E,    130,   1,-999.0,      27,  2,19921214,1755, -52.5037, -133.3498,  4372, 2703.900,    1.860,   34.729,2,   34.729,2,  188.400,2,  188.100,2,   97.550,2,   31.600,2,    0.000,2, -999.000,3,    0.023,2,    0.008,2, -999.000,9, -999.000,9, -999.000,9
           NA,    P17E,    130,   1,-999.0,      28,  2,19921214,1755, -52.5037, -133.3498,  4372, 2911.000,    1.691,   34.728,2,   34.729,2,  189.800,2,  190.400,2,  103.060,2,   31.770,2,    0.000,2,    2.250,2, -999.000,9, -999.000,9, -999.000,9, -999.000,9, -999.000,9
           NA,    P17E,    130,   1,-999.0,      29,  2,19921214,1755, -52.5037, -133.3498,  4372, 3112.000,    1.542,   34.726,2,   34.727,2,  193.200,2,  193.600,2,  107.050,2,   31.940,2,    0.000,2,    2.250,2,    0.016,2,    0.014,2, -999.000,9, -999.000,9, -999.000,9
           NA,    P17E,    130,   1,-999.0,      30,  2,19921214,1755, -52.5037, -133.3498,  4372, 3317.500,    1.448,   34.724,2,   34.725,2,  195.400,2,  195.400,2,  110.190,2,   31.890,2,    0.000,2,    2.260,2,    0.017,2,    0.008,2, -999.000,9, -999.000,9, -999.000,9
           NA,    P17E,    130,   1,-999.0,      31,  2,19921214,1755, -52.5037, -133.3498,  4372, 3528.300,    1.350,   34.720,2,   34.720,2,  195.500,2,  195.200,2,  114.620,2, -999.000,4,    0.000,2, -999.000,3, -999.000,9, -999.000,9, -999.000,9, -999.000,9, -999.000,9
           NA,    P17E,    130,   1,-999.0,      32,  2,19921214,1755, -52.5037, -133.3498,  4372, 3738.500,    1.306,   34.718,2,   34.719,2,  196.300,2,  196.200,2,  116.680,2, -999.000,4,    0.000,2,    2.280,2,    0.010,2,    0.003,2, -999.000,9, -999.000,9, -999.000,9
           NA,    P17E,    130,   1,-999.0,      33,  2,19921214,1755, -52.5037, -133.3498,  4372, 3947.400,    1.294,   34.718,2,   34.718,2,  196.600,2,  196.700,2,  118.080,2, -999.000,4,    0.000,2,    2.290,2,    0.002,2,    0.001,2, -999.000,9, -999.000,9, -999.000,9
           NA,    P17E,    130,   1,-999.0,      34,  2,19921214,1755, -52.5037, -133.3498,  4372, 4156.000,    1.293,   34.717,2,   34.718,2,  197.400,2,  197.300,2,  117.970,2, -999.000,4,    0.000,2,    2.290,2, -999.000,5,    0.006,2, -999.000,9, -999.000,9, -999.000,9
           NA,    P17E,    130,   1,-999.0,      35,  2,19921214,1755, -52.5037, -133.3498,  4372, 4261.600,    1.295,   34.717,2,   34.717,2,  197.700,2,  197.200,2,  118.290,2, -999.000,4,    0.000,2,    2.280,2,    0.006,2,    0.008,2, -999.000,9, -999.000,9, -999.000,9
           NA,    P17E,    130,   1,-999.0,      36,  2,19921214,1755, -52.5037, -133.3498,  4372, 4477.500,    1.319,   34.717,2,   34.719,2,  196.500,2,  197.200,2,  118.180,2, -999.000,4,    0.000,2, -999.000,4,    0.008,2,    0.000,2, -999.000,9, -999.000,9, -999.000,9