BOTTLE,20215010JOAExport
EXPOCODE,SECT_ID,STNNBR,CASTNO,SAMPNO,BTLNBR,BTLNBR_FLAG_W,DATE,TIME,LATITUDE,LONGITUDE,DEPTH,CTDPRS,CTDTMP,CTDSAL,CTDSAL_FLAG_W,SALNTY,SALNTY_FLAG_W,CTDOXY,CTDOXY_FLAG_W,OXYGEN,OXYGEN_FLAG_W,SILCAT,SILCAT_FLAG_W,NITRAT,NITRAT_FLAG_W,NITRIT,NITRIT_FLAG_W,PHSPHT,PHSPHT_FLAG_W,CFC-11,CFC-11_FLAG_W,CFC-12,CFC-12_FLAG_W,SF6,SF6_FLAG_W,TCARBN,TCARBN_FLAG_W,ALKALI,ALKALI_FLAG_W
,,,,,,,,,,,,DB,ITS-90,PSS-78,,PSS-78,,UMOL/KG,,UMOL/KG,,UMOL/KG,,UMOL/KG,,UMOL/KG,,UMOL/KG,,PMOL/KG,,PMOL/KG,,PMOL/KG,,UMOL/KG,,UMOL/KG
           NA,    P17E,    131,   1,-999.0,       1,  2,19921214,2334, -52.5212, -132.5400,  4549,    3.200,    8.296,   34.449,2,   34.456,2, -999.000,3,  296.800,2,    1.850,2,    8.250,2,    0.170,2,    0.950,2, -999.000,9, -999.000,9, -999.000,9, 2086.000,2, -999.000,9
           NA,    P17E,    131,   1,-999.0,       2,  2,19921214,2334, -52.5212, -132.5400,  4549,   29.400,    8.298,   34.450,2,   34.449,2, -999.000,3,  297.100,2,    1.840,2,    8.230,2,    0.170,2,    0.950,2, -999.000,9, -999.000,9, -999.000,9, 2085.700,2, -999.000,9
           NA,    P17E,    131,   1,-999.0,       3,  2,19921214,2334, -52.5212, -132.5400,  4549,   58.900,    7.781,   34.456,2,   34.458,2, -999.000,3,  287.500,2,    3.930,2,   10.130,2,    0.170,2,    1.120,2, -999.000,9, -999.000,9, -999.000,9, 2100.500,2, -999.000,9
           NA,    P17E,    131,   1,-999.0,       4,  2,19921214,2334, -52.5212, -132.5400,  4549,   85.000,    7.581,   34.449,2,   34.447,2, -999.000,3,  281.600,2,    4.760,2,   11.060,2,    0.210,2,    1.200,2, -999.000,9, -999.000,9, -999.000,9, 2102.800,2, -999.000,9
           NA,    P17E,    131,   1,-999.0,       5,  2,19921214,2334, -52.5212, -132.5400,  4549,  109.300,    7.550,   34.451,2,   34.451,2,  283.200,2,  282.500,2,    4.970,2,   11.170,2,    0.220,2,    1.210,2, -999.000,9, -999.000,9, -999.000,9, 2102.500,2, -999.000,9
           NA,    P17E,    131,   1,-999.0,       6,  2,19921214,2334, -52.5212, -132.5400,  4549,  161.200,    7.511,   34.452,2,   34.452,2,  279.200,2,  281.200,2,    4.960,2,   11.930,2,    0.200,2,    1.220,2, -999.000,9, -999.000,9, -999.000,9, 2103.600,2, -999.000,9
           NA,    P17E,    131,   1,-999.0,       7,  2,19921214,2334, -52.5212, -132.5400,  4549,  210.800,    7.450,   34.449,2,   34.450,2,  281.300,2,  277.800,2,    5.380,2,   12.940,2,    0.080,2,    1.260,2, -999.000,9, -999.000,9, -999.000,9, 2107.100,2, -999.000,9
           NA,    P17E,    131,   1,-999.0,       8,  2,19921214,2334, -52.5212, -132.5400,  4549,  261.000,    7.407,   34.446,2,   34.445,2,  272.000,2,  276.800,2,    5.580,2,   13.300,2,    0.040,2,    1.280,2, -999.000,9, -999.000,9, -999.000,9, 2110.000,2, -999.000,9
           NA,    P17E,    131,   1,-999.0,       9,  2,19921214,2334, -52.5212, -132.5400,  4549,  310.800,    7.371,   34.443,2,   34.441,2,  268.300,2,  277.100,2,    5.790,2,   13.630,2,    0.030,2,    1.280,2, -999.000,9, -999.000,9, -999.000,9, 2109.600,2, -999.000,9
           NA,    P17E,    131,   1,-999.0,      10,  2,19921214,2334, -52.5212, -132.5400,  4549,  389.500,    7.280,   34.437,2,   34.437,2,  268.400,2,  273.900,2,    6.200,2,   14.760,2,    0.060,2,    1.330,2, -999.000,9, -999.000,9, -999.000,9, 2112.800,2, -999.000,9
           NA,    P17E,    131,   1,-999.0,      11,  2,19921214,2334, -52.5212, -132.5400,  4549,  467.600,    7.134,   34.423,2,   34.421,2,  265.800,2,  272.900,2,    6.830,2,   15.260,2,    0.010,2,    1.440,2, -999.000,9, -999.000,9, -999.000,9, 2116.700,2, -999.000,9
           NA,    P17E,    131,   1,-999.0,      12,  2,19921214,2334, -52.5212, -132.5400,  4549,  526.500,    6.898,   34.388,2,   34.388,2,  267.200,2,  267.600,2,    7.660,2,   16.900,2,    0.010,2,    1.490,2, -999.000,9, -999.000,9, -999.000,9, 2119.700,2, -999.000,9
           NA,    P17E,    131,   1,-999.0,      13,  2,19921214,2334, -52.5212, -132.5400,  4549,  605.500,    6.651,   34.363,2,   34.361,2,  268.600,2,  262.200,2,    8.700,2,   18.390,2,    0.010,2,    1.520,2, -999.000,9, -999.000,9, -999.000,9, 2123.300,2, -999.000,9
           NA,    P17E,    131,   1,-999.0,      14,  2,19921214,2334, -52.5212, -132.5400,  4549,  701.300,    6.325,   34.338,2,   34.337,2,  263.400,2,  254.600,2,   10.580,2,   20.500,2,    0.010,2,    1.670,2, -999.000,9, -999.000,9, -999.000,9, 2131.400,2, -999.000,9
           NA,    P17E,    131,   1,-999.0,      15,  2,19921214,2334, -52.5212, -132.5400,  4549,  799.000,    5.722,   34.283,2,   34.280,2,  246.000,2,  258.400,2,   12.250,2,   21.830,2,    0.010,2,    1.740,2, -999.000,9, -999.000,9, -999.000,9, 2136.100,2, -999.000,9
           NA,    P17E,    131,   1,-999.0,      16,  2,19921214,2334, -52.5212, -132.5400,  4549,  890.600,    5.481,   34.311,2,   34.311,2,  228.700,2,  228.900,2,   18.730,2,   25.580,2,    0.000,2,    1.890,2, -999.000,9, -999.000,9, -999.000,9, 2157.500,2, -999.000,9
           NA,    P17E,    131,   1,-999.0,      17,  2,19921214,2334, -52.5212, -132.5400,  4549,  985.400,    5.008,   34.322,2,   34.320,2,  215.400,2,  217.300,2,   25.430,2,   28.000,2,    0.000,2,    2.040,2, -999.000,9, -999.000,9, -999.000,9, 2172.000,2, -999.000,9
           NA,    P17E,    131,   1,-999.0,      18,  2,19921214,2334, -52.5212, -132.5400,  4549, 1081.100,    4.517,   34.332,2,   34.332,2,  208.700,2,  208.800,2,   32.330,2,   29.860,2,    0.000,2,    2.160,2, -999.000,9, -999.000,9, -999.000,9, 2183.700,2, -999.000,9
           NA,    P17E,    131,   1,-999.0,      19,  2,19921214,2334, -52.5212, -132.5400,  4549, 1219.800,    3.871,   34.350,2,   34.348,2,  202.700,2,  201.800,2,   41.330,2,   31.850,2,    0.000,2,    2.290,2, -999.000,9, -999.000,9, -999.000,9, 2198.700,2, -999.000,9
           NA,    P17E,    131,   1,-999.0,      20,  2,19921214,2334, -52.5212, -132.5400,  4549, 1358.100,    3.273,   34.386,2,   34.384,2,  194.200,2,  193.900,2,   52.000,2,   33.350,2,    0.000,2,    2.330,2, -999.000,9, -999.000,9, -999.000,9, 2213.700,2, -999.000,9
           NA,    P17E,    131,   1,-999.0,      21,  2,19921214,2334, -52.5212, -132.5400,  4549, 1544.500,    2.848,   34.466,2,   34.465,2,  181.600,2,  180.700,2,   65.000,2,   34.570,2,    0.000,2,    2.410,2, -999.000,9, -999.000,9, -999.000,9, 2234.300,2, -999.000,9
           NA,    P17E,    131,   1,-999.0,      22,  2,19921214,2334, -52.5212, -132.5400,  4549, 1730.000,    2.644,   34.532,2,   34.530,2,  173.400,2,  173.400,2,   74.230,2,   34.690,2,    0.000,2,    2.420,2, -999.000,9, -999.000,9, -999.000,9, 2245.900,2, -999.000,9
           NA,    P17E,    131,   1,-999.0,      23,  2,19921214,2334, -52.5212, -132.5400,  4549, 1922.900,    2.486,   34.589,2,   34.588,2,  171.400,2,  172.500,2,   79.270,2,   34.460,2,    0.000,2,    2.450,2, -999.000,9, -999.000,9, -999.000,9, 2251.100,2, -999.000,9
           NA,    P17E,    131,   1,-999.0,      24,  2,19921214,2334, -52.5212, -132.5400,  4549, 2123.400,    2.345,   34.648,2,   34.647,2,  172.200,2,  173.200,2,   84.740,2,   33.630,2,    0.000,2,    2.450,2, -999.000,9, -999.000,9, -999.000,9, 2250.600,2, -999.000,9
           NA,    P17E,    131,   1,-999.0,      25,  2,19921214,2334, -52.5212, -132.5400,  4549, 2325.800,    2.229,   34.684,2,   34.683,2,  175.800,2,  176.900,2,   88.740,2,   32.870,2,    0.000,2,    2.330,2, -999.000,9, -999.000,9, -999.000,9, 2255.100,2, -999.000,9
           NA,    P17E,    131,   1,-999.0,      26,  2,19921214,2334, -52.5212, -132.5400,  4549, 2529.700,    2.127,   34.707,2,   34.707,2,  179.800,2,  180.200,2,   90.430,2,   32.120,2,    0.000,2,    2.330,2, -999.000,9, -999.000,9, -999.000,9, 2256.200,2, -999.000,9
           NA,    P17E,    131,   1,-999.0,      27,  2,19921214,2334, -52.5212, -132.5400,  4549, 2729.000,    1.972,   34.721,2,   34.721,2,  182.200,2,  183.600,2,   96.130,2,   31.970,2,    0.000,2,    2.280,2, -999.000,9, -999.000,9, -999.000,9, 2256.600,2, -999.000,9
           NA,    P17E,    131,   1,-999.0,      28,  2,19921214,2334, -52.5212, -132.5400,  4549, 2942.400,    1.825,   34.724,2,   34.724,2,  186.300,2,  185.500,2,  101.430,2,   31.830,2,    0.000,2,    2.260,2, -999.000,9, -999.000,9, -999.000,9, 2261.700,2, -999.000,9
           NA,    P17E,    131,   1,-999.0,      29,  2,19921214,2334, -52.5212, -132.5400,  4549, 3151.800,    1.659,   34.726,2,   34.726,2,  189.800,2,  190.000,2,  105.670,2,   31.750,2,    0.000,2,    2.250,2, -999.000,9, -999.000,9, -999.000,9, 2260.500,2, -999.000,9
           NA,    P17E,    131,   1,-999.0,      30,  2,19921214,2334, -52.5212, -132.5400,  4549, 3353.600,    1.541,   34.723,2,   34.724,2,  192.300,2,  192.200,2,  108.870,2,   31.740,2,    0.000,2,    2.250,2, -999.000,9, -999.000,9, -999.000,9, 2261.200,2, -999.000,9
           NA,    P17E,    131,   1,-999.0,      31,  2,19921214,2334, -52.5212, -132.5400,  4549, 3560.900,    1.441,   34.721,2,   34.721,2,  193.800,2,  193.600,2,  112.490,2,   31.790,2,    0.000,2, -999.000,3, -999.000,9, -999.000,9, -999.000,9, 2266.200,2, -999.000,9
           NA,    P17E,    131,   1,-999.0,      32,  2,19921214,2334, -52.5212, -132.5400,  4549, 3768.700,    1.370,   34.719,2,   34.719,2,  195.200,2,  195.300,2,  114.840,2,   32.110,2,    0.000,2, -999.000,3, -999.000,9, -999.000,9, -999.000,9, 2264.600,2, -999.000,9
           NA,    P17E,    131,   1,-999.0,      33,  2,19921214,2334, -52.5212, -132.5400,  4549, 4026.300,    1.341,   34.718,2,   34.717,2,  196.000,2,  195.600,2,  116.340,2,   32.100,2,    0.000,2,    2.280,2, -999.000,9, -999.000,9, -999.000,9, 2265.700,2, -999.000,9
           NA,    P17E,    131,   1,-999.0,      34,  2,19921214,2334, -52.5212, -132.5400,  4549, 4278.300,    1.340,   34.717,2,   34.717,2,  196.300,2,  196.600,2,  117.200,2,   32.150,2,    0.000,2, -999.000,3, -999.000,9, -999.000,9, -999.000,9, 2269.200,2, -999.000,9
           NA,    P17E,    131,   1,-999.0,      35,  2,19921214,2334, -52.5212, -132.5400,  4549, 4483.700,    1.355,   34.717,2,   34.716,2,  196.500,2,  196.500,2,  117.420,2,   32.070,2,    0.000,2,    2.270,2, -999.000,9, -999.000,9, -999.000,9, 2266.600,2, -999.000,9
           NA,    P17E,    131,   1,-999.0,      36,  2,19921214,2334, -52.5212, -132.5400,  4549, 4710.200,    1.356,   34.717,2,   34.717,2,  196.700,2,  196.700,2,  118.060,2,   31.930,2,    0.000,2,    2.280,2, -999.000,9, -999.000,9, -999.000,9, 2266.000,2, -999.000,9