BOTTLE,20215010JOAExport
EXPOCODE,SECT_ID,STNNBR,CASTNO,SAMPNO,BTLNBR,BTLNBR_FLAG_W,DATE,TIME,LATITUDE,LONGITUDE,DEPTH,CTDPRS,CTDTMP,CTDSAL,CTDSAL_FLAG_W,SALNTY,SALNTY_FLAG_W,CTDOXY,CTDOXY_FLAG_W,OXYGEN,OXYGEN_FLAG_W,SILCAT,SILCAT_FLAG_W,NITRAT,NITRAT_FLAG_W,NITRIT,NITRIT_FLAG_W,PHSPHT,PHSPHT_FLAG_W,CFC-11,CFC-11_FLAG_W,CFC-12,CFC-12_FLAG_W,SF6,SF6_FLAG_W,TCARBN,TCARBN_FLAG_W,ALKALI,ALKALI_FLAG_W
,,,,,,,,,,,,DB,ITS-90,PSS-78,,PSS-78,,UMOL/KG,,UMOL/KG,,UMOL/KG,,UMOL/KG,,UMOL/KG,,UMOL/KG,,PMOL/KG,,PMOL/KG,,PMOL/KG,,UMOL/KG,,UMOL/KG
           NA,    P17E,    166,   1,-999.0,       1,  2,19921229,1818, -51.5982, -125.3100,  4052,    3.300,    7.927,   34.407,2,   34.406,2, -999.000,3,  295.000,2,    1.440,2,   13.380,2,    0.190,2,    1.050,2, -999.000,9, -999.000,9, -999.000,9, 2086.700,2, -999.000,9
           NA,    P17E,    166,   1,-999.0,       2,  2,19921229,1818, -51.5982, -125.3100,  4052,   24.300,    7.924,   34.407,2,   34.406,2, -999.000,3,  295.100,2,    1.440,2,   13.380,2,    0.190,2,    1.050,2, -999.000,9, -999.000,9, -999.000,9, -999.000,9, -999.000,9
           NA,    P17E,    166,   1,-999.0,       3,  2,19921229,1818, -51.5982, -125.3100,  4052,   63.800,    7.719,   34.409,2,   34.407,2, -999.000,3,  293.900,2,    1.650,2,   13.820,2,    0.190,2,    1.090,2, -999.000,9, -999.000,9, -999.000,9, -999.000,9, -999.000,9
           NA,    P17E,    166,   1,-999.0,       4,  2,19921229,1818, -51.5982, -125.3100,  4052,   94.900,    7.308,   34.412,2,   34.411,2, -999.000,3,  287.100,2,    3.090,2,   15.620,2,    0.200,2,    1.210,2, -999.000,9, -999.000,9, -999.000,9, -999.000,9, -999.000,9
           NA,    P17E,    166,   1,-999.0,       5,  2,19921229,1818, -51.5982, -125.3100,  4052,  134.200,    7.168,   34.419,2,   34.424,2,  278.300,2,  278.600,2,    5.970,2,   17.070,2,    0.170,2,    1.290,2, -999.000,9, -999.000,9, -999.000,9, -999.000,9, -999.000,9
           NA,    P17E,    166,   1,-999.0,       6,  2,19921229,1818, -51.5982, -125.3100,  4052,  179.800,    7.111,   34.415,2,   34.414,2,  277.100,2,  277.900,2,    6.380,2,   17.500,2,    0.120,2,    1.310,2, -999.000,9, -999.000,9, -999.000,9, -999.000,9, -999.000,9
           NA,    P17E,    166,   1,-999.0,       7,  2,19921229,1818, -51.5982, -125.3100,  4052,  230.000,    7.048,   34.410,2,   34.410,2,  275.300,2,  279.600,2,    6.580,2,   17.550,2,    0.230,2,    1.310,2, -999.000,9, -999.000,9, -999.000,9, -999.000,9, -999.000,9
           NA,    P17E,    166,   1,-999.0,       8,  2,19921229,1818, -51.5982, -125.3100,  4052,  304.600,    6.940,   34.400,2,   34.400,2,  272.600,2,  274.200,2,    7.190,2,   18.520,2,    0.030,2,    1.350,2, -999.000,9, -999.000,9, -999.000,9, -999.000,9, -999.000,9
           NA,    P17E,    166,   1,-999.0,       9,  2,19921229,1818, -51.5982, -125.3100,  4052,  379.800,    6.845,   34.393,2,   34.393,2,  277.000,2,  274.500,2,    7.190,2,   18.860,2,    0.020,2,    1.360,2, -999.000,9, -999.000,9, -999.000,9, -999.000,9, -999.000,9
           NA,    P17E,    166,   1,-999.0,      10,  2,19921229,1818, -51.5982, -125.3100,  4052,  430.300,    6.718,   34.378,2,   34.376,2,  275.300,2,  273.500,2,    7.600,2,   19.360,2,    0.020,2,    1.410,2, -999.000,9, -999.000,9, -999.000,9, -999.000,9, -999.000,9
           NA,    P17E,    166,   1,-999.0,      11,  2,19921229,1818, -51.5982, -125.3100,  4052,  555.200,    6.358,   34.338,2,   34.338,2,  275.400,2,  270.400,2,    9.030,2,   20.460,2,    0.010,2,    1.490,2, -999.000,9, -999.000,9, -999.000,9, -999.000,9, -999.000,9
           NA,    P17E,    166,   1,-999.0,      12,  2,19921229,1818, -51.5982, -125.3100,  4052,  631.400,    6.062,   34.309,2,   34.309,2,  270.800,2,  274.100,2,    9.230,2,   20.790,2,    0.010,2,    1.520,2, -999.000,9, -999.000,9, -999.000,9, -999.000,9, -999.000,9
           NA,    P17E,    166,   1,-999.0,      13,  2,19921229,1818, -51.5982, -125.3100,  4052,  706.500,    5.708,   34.271,2,   34.272,2,  269.800,2,  269.400,2,   10.870,2,   22.170,2,    0.010,2,    1.610,2, -999.000,9, -999.000,9, -999.000,9, -999.000,9, -999.000,9
           NA,    P17E,    166,   1,-999.0,      14,  2,19921229,1818, -51.5982, -125.3100,  4052,  782.700,    5.358,   34.252,2,   34.252,2,  255.200,2,  255.400,2,   14.350,2,   24.270,2,    0.010,2,    1.740,2, -999.000,9, -999.000,9, -999.000,9, -999.000,9, -999.000,9
           NA,    P17E,    166,   1,-999.0,      15,  2,19921229,1818, -51.5982, -125.3100,  4052,  832.100,    5.310,   34.280,2, -999.000,4,  249.700,2,  238.300,2,   17.620,2,   25.090,2,    0.010,2,    1.830,2, -999.000,9, -999.000,9, -999.000,9, -999.000,9, -999.000,9
           NA,    P17E,    166,   1,-999.0,      16,  2,19921229,1818, -51.5982, -125.3100,  4052,  907.300,    5.081,   34.306,2,   34.306,2,  224.400,2,  222.800,2,   23.140,2,   27.470,2,    0.010,2,    1.940,2, -999.000,9, -999.000,9, -999.000,9, -999.000,9, -999.000,9
           NA,    P17E,    166,   1,-999.0,      17,  2,19921229,1818, -51.5982, -125.3100,  4052, 1013.900,    4.541,   34.315,2,   34.315,2,  215.100,2,  213.100,2,   30.290,2,   29.200,2,    0.000,2,    2.070,2, -999.000,9, -999.000,9, -999.000,9, -999.000,9, -999.000,9
           NA,    P17E,    166,   1,-999.0,      18,  2,19921229,1818, -51.5982, -125.3100,  4052, 1117.000,    4.101,   34.323,2,   34.322,2,  207.600,2,  209.300,2,   35.800,2,   30.480,2,    0.000,2,    2.140,2, -999.000,9, -999.000,9, -999.000,9, -999.000,9, -999.000,9
           NA,    P17E,    166,   1,-999.0,      19,  2,19921229,1818, -51.5982, -125.3100,  4052, 1264.100,    3.404,   34.358,2,   34.357,2,  199.700,2,  198.600,2,   47.650,2,   32.210,2,    0.000,2,    2.270,2, -999.000,9, -999.000,9, -999.000,9, -999.000,9, -999.000,9
           NA,    P17E,    166,   1,-999.0,      20,  2,19921229,1818, -51.5982, -125.3100,  4052, 1415.700,    3.024,   34.421,2,   34.418,2,  187.400,2,  186.600,2,   58.260,2,   33.330,2,    0.000,2,    2.340,2, -999.000,9, -999.000,9, -999.000,9, -999.000,9, -999.000,9
           NA,    P17E,    166,   1,-999.0,      21,  2,19921229,1818, -51.5982, -125.3100,  4052, 1564.100,    2.767,   34.476,2,   34.473,2,  178.900,2,  178.800,2,   66.630,2,   33.950,2,    0.000,2,    2.380,2, -999.000,9, -999.000,9, -999.000,9, -999.000,9, -999.000,9
           NA,    P17E,    166,   1,-999.0,      22,  2,19921229,1818, -51.5982, -125.3100,  4052, 1718.000,    2.573,   34.535,2,   34.534,2,  174.100,2,  173.200,2,   74.170,2,   34.010,2,    0.000,2,    2.390,2, -999.000,9, -999.000,9, -999.000,9, -999.000,9, -999.000,9
           NA,    P17E,    166,   1,-999.0,      23,  2,19921229,1818, -51.5982, -125.3100,  4052, 1873.700,    2.439,   34.593,2,   34.591,2,  171.100,2,  171.100,2,   79.260,2,   33.780,2,    0.000,2,    2.360,2, -999.000,9, -999.000,9, -999.000,9, -999.000,9, -999.000,9
           NA,    P17E,    166,   1,-999.0,      24,  2,19921229,1818, -51.5982, -125.3100,  4052, 2037.800,    2.352,   34.638,2,   34.638,2,  172.000,2,  171.300,2,   84.140,2,   33.220,2,    0.000,2,    2.330,2, -999.000,9, -999.000,9, -999.000,9, -999.000,9, -999.000,9
           NA,    P17E,    166,   1,-999.0,      25,  2,19921229,1818, -51.5982, -125.3100,  4052, 2184.500,    2.272,   34.669,2,   34.668,2,  174.000,2,  173.700,2,   86.770,2,   32.770,2,    0.000,2,    2.300,2, -999.000,9, -999.000,9, -999.000,9, -999.000,9, -999.000,9
           NA,    P17E,    166,   1,-999.0,      26,  2,19921229,1818, -51.5982, -125.3100,  4052, 2338.000,    2.184,   34.692,2,   34.691,2,  176.000,2,  176.800,2,   89.190,2,   32.270,2,    0.000,2,    2.270,2, -999.000,9, -999.000,9, -999.000,9, -999.000,9, -999.000,9
           NA,    P17E,    166,   1,-999.0,      27,  2,19921229,1818, -51.5982, -125.3100,  4052, 2487.400,    2.079,   34.707,2,   34.707,2,  179.600,2,  178.800,2,   93.050,2,   32.100,2,    0.000,2,    2.250,2, -999.000,9, -999.000,9, -999.000,9, -999.000,9, -999.000,9
           NA,    P17E,    166,   1,-999.0,      28,  2,19921229,1818, -51.5982, -125.3100,  4052, 2644.300,    1.966,   34.720,2,   34.719,2,  182.300,2,  182.400,2,   95.470,2,   31.760,2,    0.000,2,    2.230,2, -999.000,9, -999.000,9, -999.000,9, -999.000,9, -999.000,9
           NA,    P17E,    166,   1,-999.0,      29,  2,19921229,1818, -51.5982, -125.3100,  4052, 2779.700,    1.828,   34.723,2,   34.722,2,  183.900,2,  184.000,2,  100.990,2,   31.880,2,    0.000,2,    2.240,2, -999.000,9, -999.000,9, -999.000,9, -999.000,9, -999.000,9
           NA,    P17E,    166,   1,-999.0,      30,  2,19921229,1818, -51.5982, -125.3100,  4052, 2942.900,    1.720,   34.723,2,   34.722,2,  185.900,2,  185.800,2,  104.460,2,   31.880,2,    0.000,2,    2.230,2, -999.000,9, -999.000,9, -999.000,9, -999.000,9, -999.000,9
           NA,    P17E,    166,   1,-999.0,      31,  2,19921229,1818, -51.5982, -125.3100,  4052, 3143.800,    1.560,   34.717,2,   34.717,2,  186.200,2,  185.900,2,  111.240,2,   32.270,2,    0.000,2,    2.270,2, -999.000,9, -999.000,9, -999.000,9, -999.000,9, -999.000,9
           NA,    P17E,    166,   1,-999.0,      32,  2,19921229,1818, -51.5982, -125.3100,  4052, 3342.200,    1.462,   34.715,2,   34.715,2,  187.400,2,  187.400,2,  114.930,2,   32.440,2,    0.000,2,    2.270,2, -999.000,9, -999.000,9, -999.000,9, -999.000,9, -999.000,9
           NA,    P17E,    166,   1,-999.0,      33,  2,19921229,1818, -51.5982, -125.3100,  4052, 3551.800,    1.397,   34.714,2,   34.714,2,  189.400,2,  189.200,2,  117.160,2,   32.610,2,    0.000,2,    2.260,2, -999.000,9, -999.000,9, -999.000,9, -999.000,9, -999.000,9
           NA,    P17E,    166,   1,-999.0,      34,  2,19921229,1818, -51.5982, -125.3100,  4052, 3765.800,    1.377,   34.713,2,   34.713,2,  190.600,2,  190.200,2,  117.940,2,   32.720,2,    0.000,2,    2.280,2, -999.000,9, -999.000,9, -999.000,9, -999.000,9, -999.000,9
           NA,    P17E,    166,   1,-999.0,      35,  2,19921229,1818, -51.5982, -125.3100,  4052, 3980.600,    1.384,   34.713,2,   34.713,2,  191.400,2,  190.600,2,  118.720,2,   32.660,2,    0.000,2,    2.280,2, -999.000,9, -999.000,9, -999.000,9, -999.000,9, -999.000,9
           NA,    P17E,    166,   1,-999.0,      36,  2,19921229,1818, -51.5982, -125.3100,  4052, 4140.500,    1.398,   34.714,2,   34.714,2,  191.800,2,  191.100,2,  117.620,2,   32.610,2,    0.000,2,    2.270,2, -999.000,9, -999.000,9, -999.000,9, -999.000,9, -999.000,9