BOTTLE,20215010JOAExport
EXPOCODE,SECT_ID,STNNBR,CASTNO,SAMPNO,BTLNBR,BTLNBR_FLAG_W,DATE,TIME,LATITUDE,LONGITUDE,DEPTH,CTDPRS,CTDTMP,CTDSAL,CTDSAL_FLAG_W,SALNTY,SALNTY_FLAG_W,CTDOXY,CTDOXY_FLAG_W,OXYGEN,OXYGEN_FLAG_W,SILCAT,SILCAT_FLAG_W,NITRAT,NITRAT_FLAG_W,NITRIT,NITRIT_FLAG_W,PHSPHT,PHSPHT_FLAG_W,CFC-11,CFC-11_FLAG_W,CFC-12,CFC-12_FLAG_W,SF6,SF6_FLAG_W,TCARBN,TCARBN_FLAG_W,ALKALI,ALKALI_FLAG_W
,,,,,,,,,,,,DB,ITS-90,PSS-78,,PSS-78,,UMOL/KG,,UMOL/KG,,UMOL/KG,,UMOL/KG,,UMOL/KG,,UMOL/KG,,PMOL/KG,,PMOL/KG,,PMOL/KG,,UMOL/KG,,UMOL/KG
           NA,    P17E,    133,   1,-999.0,       1,  2,19921215,1214, -52.5225, -130.8918,  4228,    7.800,    7.725,   34.446,2,   34.450,2, -999.000,3,  290.900,2,    4.360,2,   13.870,2,    0.160,2,    1.110,2, -999.000,9, -999.000,9, -999.000,9, 2094.200,2, -999.000,9
           NA,    P17E,    133,   1,-999.0,       2,  2,19921215,1214, -52.5225, -130.8918,  4228,   35.300,    7.730,   34.446,2,   34.450,2, -999.000,3,  290.900,2,    4.360,2,   13.870,2,    0.160,2,    1.110,2, -999.000,9, -999.000,9, -999.000,9, -999.000,9, -999.000,9
           NA,    P17E,    133,   1,-999.0,       3,  2,19921215,1214, -52.5225, -130.8918,  4228,   65.500,    7.732,   34.448,2,   34.449,2, -999.000,3,  291.000,2,    4.360,2,   13.860,2,    0.170,2,    1.110,2, -999.000,9, -999.000,9, -999.000,9, -999.000,9, -999.000,9
           NA,    P17E,    133,   1,-999.0,       4,  2,19921215,1214, -52.5225, -130.8918,  4228,  108.300,    7.685,   34.446,2,   34.450,2,  288.200,2,  290.100,2,    4.350,2,   13.910,2,    0.170,2,    1.120,2, -999.000,9, -999.000,9, -999.000,9, -999.000,9, -999.000,9
           NA,    P17E,    133,   1,-999.0,       5,  4,19921215,1214, -52.5225, -130.8918,  4228,  135.200,    7.589,   34.447,2, -999.000,4,  283.000,2, -999.000,4, -999.000,4, -999.000,4, -999.000,4, -999.000,4, -999.000,9, -999.000,9, -999.000,9, -999.000,9, -999.000,9
           NA,    P17E,    133,   1,-999.0,       6,  2,19921215,1214, -52.5225, -130.8918,  4228,  210.200,    7.494,   34.449,2,   34.452,2,  279.100,2,  281.700,2,    5.810,2,   14.910,2,    0.180,2,    1.200,2, -999.000,9, -999.000,9, -999.000,9, -999.000,9, -999.000,9
           NA,    P17E,    133,   1,-999.0,       7,  2,19921215,1214, -52.5225, -130.8918,  4228,  260.700,    7.456,   34.446,2,   34.449,2,  281.200,2,  280.700,2,    5.590,2,   15.240,2,    0.170,2,    1.230,2, -999.000,9, -999.000,9, -999.000,9, -999.000,9, -999.000,9
           NA,    P17E,    133,   1,-999.0,       8,  2,19921215,1214, -52.5225, -130.8918,  4228,  315.300,    7.359,   34.439,2,   34.445,2,  273.100,2,  277.300,2,    5.800,2,   16.360,2,    0.070,2,    1.270,2, -999.000,9, -999.000,9, -999.000,9, -999.000,9, -999.000,9
           NA,    P17E,    133,   1,-999.0,       9,  2,19921215,1214, -52.5225, -130.8918,  4228,  390.500,    7.244,   34.428,2,   34.429,2,  272.000,2,  273.800,2,    6.420,2,   17.260,2,    0.010,2,    1.320,2, -999.000,9, -999.000,9, -999.000,9, -999.000,9, -999.000,9
           NA,    P17E,    133,   1,-999.0,      10,  2,19921215,1214, -52.5225, -130.8918,  4228,  465.200,    7.197,   34.427,2,   34.427,2,  270.200,2,  276.500,2,    6.210,2,   17.000,2,    0.010,2,    1.300,2, -999.000,9, -999.000,9, -999.000,9, -999.000,9, -999.000,9
           NA,    P17E,    133,   1,-999.0,      11,  2,19921215,1214, -52.5225, -130.8918,  4228,  536.600,    6.985,   34.398,2,   34.398,2,  267.500,2,  269.900,2,    7.460,2,   18.540,2,    0.010,2,    1.400,2, -999.000,9, -999.000,9, -999.000,9, -999.000,9, -999.000,9
           NA,    P17E,    133,   1,-999.0,      12,  2,19921215,1214, -52.5225, -130.8918,  4228,  668.500,    6.595,   34.359,2,   34.359,2,  263.900,2,  265.300,2,    8.920,2,   20.200,2,    0.010,2,    1.500,2, -999.000,9, -999.000,9, -999.000,9, -999.000,9, -999.000,9
           NA,    P17E,    133,   1,-999.0,      13,  2,19921215,1214, -52.5225, -130.8918,  4228,  739.400,    6.327,   34.331,2,   34.330,2,  261.200,2,  263.000,2,    9.960,2,   21.050,2,    0.010,2,    1.550,2, -999.000,9, -999.000,9, -999.000,9, -999.000,9, -999.000,9
           NA,    P17E,    133,   1,-999.0,      14,  2,19921215,1214, -52.5225, -130.8918,  4228,  818.900,    6.066,   34.311,2,   34.312,2,  255.900,2,  254.900,2,   11.840,2,   22.500,2,    0.010,2,    1.640,2, -999.000,9, -999.000,9, -999.000,9, -999.000,9, -999.000,9
           NA,    P17E,    133,   1,-999.0,      15,  2,19921215,1214, -52.5225, -130.8918,  4228,  915.900,    5.736,   34.305,2,   34.301,2,  243.100,2,  239.100,2,   16.020,2,   24.690,2,    0.000,2,    1.790,2, -999.000,9, -999.000,9, -999.000,9, -999.000,9, -999.000,9
           NA,    P17E,    133,   1,-999.0,      16,  2,19921215,1214, -52.5225, -130.8918,  4228,  980.400,    5.023,   34.236,2,   34.252,2,  262.700,2,  244.900,2,   17.690,2,   25.700,2,    0.000,2,    1.850,2, -999.000,9, -999.000,9, -999.000,9, -999.000,9, -999.000,9
           NA,    P17E,    133,   1,-999.0,      17,  2,19921215,1214, -52.5225, -130.8918,  4228, 1044.600,    4.767,   34.239,2,   34.238,2,  238.000,2,  242.900,2,   19.990,2,   26.510,2,    0.000,2,    1.910,2, -999.000,9, -999.000,9, -999.000,9, -999.000,9, -999.000,9
           NA,    P17E,    133,   1,-999.0,      18,  2,19921215,1214, -52.5225, -130.8918,  4228, 1149.100,    4.760,   34.328,2,   34.327,2,  212.800,2,  211.800,2,   29.190,2,   28.910,2,    0.000,2,    2.070,2, -999.000,9, -999.000,9, -999.000,9, -999.000,9, -999.000,9
           NA,    P17E,    133,   1,-999.0,      19,  2,19921215,1214, -52.5225, -130.8918,  4228, 1198.000,    4.442,   34.326,2,   34.325,2,  211.400,2,  210.400,2,   32.740,2,   29.660,2,    0.000,2,    2.120,2, -999.000,9, -999.000,9, -999.000,9, -999.000,9, -999.000,9
           NA,    P17E,    133,   1,-999.0,      20,  2,19921215,1214, -52.5225, -130.8918,  4228, 1297.100,    3.967,   34.347,2,   34.344,2,  204.900,2,  203.500,2,   39.850,2,   30.950,2,    0.000,2,    2.210,2, -999.000,9, -999.000,9, -999.000,9, -999.000,9, -999.000,9
           NA,    P17E,    133,   1,-999.0,      21,  2,19921215,1214, -52.5225, -130.8918,  4228, 1390.000,    3.535,   34.370,2,   34.367,2,  198.700,2,  197.100,2,   47.380,2,   31.810,2,    0.000,2,    2.280,2, -999.000,9, -999.000,9, -999.000,9, -999.000,9, -999.000,9
           NA,    P17E,    133,   1,-999.0,      22,  2,19921215,1214, -52.5225, -130.8918,  4228, 1591.000,    3.004,   34.440,2,   34.438,2,  184.500,2,  183.700,2,   61.410,2,   33.310,2,    0.000,2,    2.370,2, -999.000,9, -999.000,9, -999.000,9, -999.000,9, -999.000,9
           NA,    P17E,    133,   1,-999.0,      23,  2,19921215,1214, -52.5225, -130.8918,  4228, 1788.400,    2.723,   34.520,2,   34.518,2,  175.100,2,  174.000,2,   72.720,2,   33.790,2,    0.000,2,    2.420,2, -999.000,9, -999.000,9, -999.000,9, -999.000,9, -999.000,9
           NA,    P17E,    133,   1,-999.0,      24,  2,19921215,1214, -52.5225, -130.8918,  4228, 1987.900,    2.530,   34.585,2,   34.583,2,  170.000,2,  170.300,2,   79.640,2,   33.470,2,    0.000,2,    2.400,2, -999.000,9, -999.000,9, -999.000,9, -999.000,9, -999.000,9
           NA,    P17E,    133,   1,-999.0,      25,  2,19921215,1214, -52.5225, -130.8918,  4228, 2190.500,    2.396,   34.633,2,   34.633,2,  171.800,2,  171.300,2,   84.680,2,   33.150,2,    0.000,2,    2.360,2, -999.000,9, -999.000,9, -999.000,9, -999.000,9, -999.000,9
           NA,    P17E,    133,   1,-999.0,      26,  2,19921215,1214, -52.5225, -130.8918,  4228, 2379.500,    2.274,   34.677,2,   34.677,2,  175.700,2,  176.000,2,   86.140,2,   32.290,2,    0.000,2,    2.300,2, -999.000,9, -999.000,9, -999.000,9, -999.000,9, -999.000,9
           NA,    P17E,    133,   1,-999.0,      27,  2,19921215,1214, -52.5225, -130.8918,  4228, 2562.100,    2.156,   34.705,2,   34.704,2,  179.000,2,  180.200,2,   89.710,2,   31.750,2,    0.000,2,    2.270,2, -999.000,9, -999.000,9, -999.000,9, -999.000,9, -999.000,9
           NA,    P17E,    133,   1,-999.0,      28,  2,19921215,1214, -52.5225, -130.8918,  4228, 2741.600,    2.048,   34.719,2,   34.719,2,  182.500,2,  183.600,2,   93.070,2,   31.430,2,    0.000,2,    2.230,2, -999.000,9, -999.000,9, -999.000,9, -999.000,9, -999.000,9
           NA,    P17E,    133,   1,-999.0,      29,  2,19921215,1214, -52.5225, -130.8918,  4228, 2935.200,    1.889,   34.729,2,   34.729,2,  187.400,2,  188.300,2,   96.230,2,   31.160,2,    0.000,2,    2.210,2, -999.000,9, -999.000,9, -999.000,9, -999.000,9, -999.000,9
           NA,    P17E,    133,   1,-999.0,      30,  2,19921215,1214, -52.5225, -130.8918,  4228, 3121.600,    1.724,   34.729,2,   34.729,2,  190.400,2,  190.700,2,  101.720,2,   31.210,2,    0.000,2,    2.230,2, -999.000,9, -999.000,9, -999.000,9, -999.000,9, -999.000,9
           NA,    P17E,    133,   1,-999.0,      31,  2,19921215,1214, -52.5225, -130.8918,  4228, 3307.700,    1.575,   34.726,2,   34.726,2,  192.900,2,  192.900,2,  106.380,2,   31.320,2,    0.000,2,    2.240,2, -999.000,9, -999.000,9, -999.000,9, -999.000,9, -999.000,9
           NA,    P17E,    133,   1,-999.0,      32,  2,19921215,1214, -52.5225, -130.8918,  4228, 3515.300,    1.483,   34.724,2,   34.723,2,  194.100,2,  194.100,2,  109.340,2,   31.430,2,    0.000,2,    2.250,2, -999.000,9, -999.000,9, -999.000,9, -999.000,9, -999.000,9
           NA,    P17E,    133,   1,-999.0,      33,  2,19921215,1214, -52.5225, -130.8918,  4228, 3724.800,    1.368,   34.720,2,   34.720,2,  195.500,2,  195.600,2,  114.230,2,   31.750,2,    0.000,2,    2.260,2, -999.000,9, -999.000,9, -999.000,9, -999.000,9, -999.000,9
           NA,    P17E,    133,   1,-999.0,      34,  2,19921215,1214, -52.5225, -130.8918,  4228, 3936.700,    1.326,   34.719,2,   34.718,2,  196.800,2,  196.500,2,  115.710,2,   31.800,2,    0.000,2,    2.270,2, -999.000,9, -999.000,9, -999.000,9, -999.000,9, -999.000,9
           NA,    P17E,    133,   1,-999.0,      35,  2,19921215,1214, -52.5225, -130.8918,  4228, 4153.000,    1.331,   34.718,2,   34.718,2,  197.700,2,  196.800,2,  116.560,2,   31.860,2,    0.000,2,    2.270,2, -999.000,9, -999.000,9, -999.000,9, -999.000,9, -999.000,9
           NA,    P17E,    133,   1,-999.0,      36,  2,19921215,1214, -52.5225, -130.8918,  4228, 4315.200,    1.349,   34.719,2,   34.719,2,  198.100,2,  196.500,2,  116.760,2,   31.860,2,    0.000,2,    2.270,2, -999.000,9, -999.000,9, -999.000,9, -999.000,9, -999.000,9
           NA,    P17E,    134,   1,-999.0,       1,  2,19921216,0204, -52.4828, -130.0880,  4034,    7.000,    7.746,   34.444,2,   34.445,2, -999.000,3,  292.400,2,    3.240,2,   13.950,2,    0.160,2,    1.010,2,    4.064,6,    2.039,6, -999.000,9, 2093.000,2, -999.000,9
           NA,    P17E,    134,   1,-999.0,       2,  2,19921216,0204, -52.4828, -130.0880,  4034,   30.500,    7.748,   34.445,2,   34.445,2, -999.000,3,  292.600,2,    3.250,2,   13.790,2,    0.160,2,    1.010,2, -999.000,9, -999.000,9, -999.000,9, -999.000,9, -999.000,9
           NA,    P17E,    134,   1,-999.0,       3,  2,19921216,0204, -52.4828, -130.0880,  4034,   69.500,    7.736,   34.445,2,   34.445,2, -999.000,3,  291.800,2,    3.050,2,   14.000,2,    0.160,2,    1.020,2,    4.084,2,    2.044,2, -999.000,9, -999.000,9, -999.000,9
           NA,    P17E,    134,   1,-999.0,       4,  2,19921216,0204, -52.4828, -130.0880,  4034,  109.600,    7.641,   34.446,2,   34.447,2,  290.000,2,  288.200,2,    3.690,2,   14.470,2,    0.170,2,    1.070,2, -999.000,9, -999.000,9, -999.000,9, -999.000,9, -999.000,9
           NA,    P17E,    134,   1,-999.0,       5,  2,19921216,0204, -52.4828, -130.0880,  4034,  140.400,    7.496,   34.448,2,   34.447,2,  284.500,2,  288.300,2,    3.700,2,   14.420,2,    0.160,2,    1.060,2,    4.069,2,    2.029,2, -999.000,9, -999.000,9, -999.000,9
           NA,    P17E,    134,   1,-999.0,       6,  2,19921216,0204, -52.4828, -130.0880,  4034,  169.600,    7.460,   34.449,2, -999.000,4,  281.300,2,  279.200,2,    4.750,2,   16.110,2,    0.130,2,    1.210,2, -999.000,9, -999.000,9, -999.000,9, -999.000,9, -999.000,9
           NA,    P17E,    134,   1,-999.0,       7,  2,19921216,0204, -52.4828, -130.0880,  4034,  207.600,    7.386,   34.444,2,   34.445,2,  279.700,2,  276.500,2,    5.180,2,   16.850,2,    0.080,2,    1.250,2,    3.791,2,    1.891,2, -999.000,9, -999.000,9, -999.000,9
           NA,    P17E,    134,   1,-999.0,       8,  2,19921216,0204, -52.4828, -130.0880,  4034,  259.600,    7.287,   34.435,2,   34.435,2,  268.200,2,  275.000,2,    5.820,2,   17.440,2,    0.020,2,    1.310,2, -999.000,9, -999.000,9, -999.000,9, -999.000,9, -999.000,9
           NA,    P17E,    134,   1,-999.0,       9,  2,19921216,0204, -52.4828, -130.0880,  4034,  311.100,    7.193,   34.423,2,   34.424,2,  271.100,2,  272.200,2,    6.240,2,   18.040,2,    0.020,2,    1.340,2,    3.655,2,    1.782,2, -999.000,9, -999.000,9, -999.000,9
           NA,    P17E,    134,   1,-999.0,      11,  2,19921216,0204, -52.4828, -130.0880,  4034,  411.300,    6.922,   34.394,2,   34.393,2,  270.200,2,  271.100,2,    7.080,2,   19.100,2,    0.020,2,    1.410,2,    3.550,2,    1.740,2, -999.000,9, -999.000,9, -999.000,9
           NA,    P17E,    134,   1,-999.0,      12,  2,19921216,0204, -52.4828, -130.0880,  4034,  485.400,    6.762,   34.376,2,   34.377,2,  269.000,2,  269.100,2,    7.510,2,   19.750,2,    0.010,2,    1.450,2,    3.479,6,    1.713,6, -999.000,9, -999.000,9, -999.000,9
           NA,    P17E,    134,   1,-999.0,      13,  2,19921216,0204, -52.4828, -130.0880,  4034,  559.900,    6.668,   34.369,2,   34.369,2,  270.600,2,  273.700,2,    7.730,2,   19.680,2,    0.020,2,    1.440,2,    3.589,2,    1.765,2, -999.000,9, -999.000,9, -999.000,9
           NA,    P17E,    134,   1,-999.0,      14,  2,19921216,0204, -52.4828, -130.0880,  4034,  635.200,    6.400,   34.340,2,   34.339,2,  264.100,2,  268.100,2,    8.570,2,   20.920,2,    0.010,2,    1.520,2,    3.424,6,    1.667,6, -999.000,9, -999.000,9, -999.000,9
           NA,    P17E,    134,   1,-999.0,      15,  2,19921216,0204, -52.4828, -130.0880,  4034,  710.900,    6.186,   34.326,2,   34.326,2,  253.500,2,  252.000,2,   11.070,2,   22.910,2,    0.000,2,    1.640,2,    2.747,2,    1.311,2, -999.000,9, -999.000,9, -999.000,9
           NA,    P17E,    134,   1,-999.0,      16,  2,19921216,0204, -52.4828, -130.0880,  4034,  785.100,    5.898,   34.318,2,   34.318,2,  253.500,2,  239.300,2,   14.610,2,   24.830,2,    0.000,2,    1.770,2,    2.211,2,    1.042,2, -999.000,9, -999.000,9, -999.000,9
           NA,    P17E,    134,   1,-999.0,      17,  2,19921216,0204, -52.4828, -130.0880,  4034,  860.600,    5.550,   34.310,2,   34.310,2,  235.300,2,  230.900,2,   17.730,2,   26.120,2,    0.000,2,    1.870,2,    1.939,2,    0.913,2, -999.000,9, -999.000,9, -999.000,9
           NA,    P17E,    134,   1,-999.0,      18,  2,19921216,0204, -52.4828, -130.0880,  4034,  937.200,    5.204,   34.324,2,   34.322,2,  219.600,2,  219.200,2,   22.920,2,   27.940,2,    0.000,2,    1.980,2, -999.000,9, -999.000,9, -999.000,9, -999.000,9, -999.000,9
           NA,    P17E,    134,   1,-999.0,      19,  2,19921216,0204, -52.4828, -130.0880,  4034, 1012.900,    4.842,   34.320,2,   34.321,2,  213.300,2,  215.500,2,   27.070,2,   28.950,2,    0.000,2,    2.040,2,    1.378,2,    0.653,2, -999.000,9, -999.000,9, -999.000,9
           NA,    P17E,    134,   1,-999.0,      20,  2,19921216,0204, -52.4828, -130.0880,  4034, 1110.500,    4.328,   34.327,2,   34.328,2,  209.300,2,  209.500,2,   33.290,2,   30.340,2,    0.000,2,    2.140,2,    1.120,2,    0.527,2, -999.000,9, -999.000,9, -999.000,9
           NA,    P17E,    134,   1,-999.0,      21,  2,19921216,0204, -52.4828, -130.0880,  4034, 1259.800,    3.630,   34.352,2,   34.351,2,  199.600,2,  201.200,2,   43.650,2,   32.000,2,    0.000,2,    2.260,2,    0.890,2,    0.420,2, -999.000,9, -999.000,9, -999.000,9
           NA,    P17E,    134,   1,-999.0,      22,  2,19921216,0204, -52.4828, -130.0880,  4034, 1409.200,    3.166,   34.413,2,   34.412,2,  192.000,2,  187.900,2,   55.660,2,   33.290,2,    0.000,2,    2.350,2,    0.506,2,    0.232,2, -999.000,9, -999.000,9, -999.000,9
           NA,    P17E,    134,   1,-999.0,      23,  2,19921216,0204, -52.4828, -130.0880,  4034, 1612.100,    2.807,   34.488,2,   34.486,2,  177.300,2,  176.900,2,   67.670,2,   33.980,2,    0.000,2,    2.420,2,    0.283,2,    0.139,2, -999.000,9, -999.000,9, -999.000,9
           NA,    P17E,    134,   1,-999.0,      24,  2,19921216,0204, -52.4828, -130.0880,  4034, 1813.200,    2.559,   34.564,2,   34.564,2,  170.900,2,  171.300,2,   76.790,2,   34.030,2,    0.000,2,    2.420,2,    0.195,2,    0.084,2, -999.000,9, -999.000,9, -999.000,9
           NA,    P17E,    134,   1,-999.0,      26,  4,19921216,0204, -52.4828, -130.0880,  4034, 1999.700,    2.399,   34.610,2, -999.000,2,  173.500,2, -999.000,2, -999.000,2, -999.000,2, -999.000,2, -999.000,2, -999.000,9, -999.000,9, -999.000,9, -999.000,9, -999.000,9
           NA,    P17E,    134,   1,-999.0,      25,  2,19921216,0204, -52.4828, -130.0880,  4034, 1999.700,    2.399,   34.610,2,   34.611,2,  173.500,2,  173.400,2,   77.800,2,   33.540,2,    0.000,2,    2.390,2,    0.206,2,    0.096,2, -999.000,9, -999.000,9, -999.000,9
           NA,    P17E,    134,   1,-999.0,      27,  2,19921216,0204, -52.4828, -130.0880,  4034, 2387.500,    2.186,   34.699,2,   34.699,2,  179.700,2,  180.100,2,   85.860,2,   32.030,2,    0.000,2,    2.280,2,    0.067,2,    0.029,2, -999.000,9, -999.000,9, -999.000,9
           NA,    P17E,    134,   1,-999.0,      28,  2,19921216,0204, -52.4828, -130.0880,  4034, 2601.100,    2.036,   34.717,2,   34.718,2,  183.600,2,  183.200,2,   91.460,2,   31.810,2,    0.000,2,    2.260,2, -999.000,9, -999.000,9, -999.000,9, -999.000,9, -999.000,9
           NA,    P17E,    134,   1,-999.0,      29,  2,19921216,0204, -52.4828, -130.0880,  4034, 2807.300,    1.841,   34.728,2,   34.729,2,  188.200,2,  188.300,2,   96.230,2,   31.430,2,    0.000,2,    2.240,2,    0.024,2,    0.009,2, -999.000,9, -999.000,9, -999.000,9
           NA,    P17E,    134,   1,-999.0,      30,  2,19921216,0204, -52.4828, -130.0880,  4034, 3010.700,    1.631,   34.727,2,   34.727,2,  190.700,2,  191.200,2,  103.310,2,   31.750,2,    0.000,2,    2.260,2, -999.000,9, -999.000,9, -999.000,9, -999.000,9, -999.000,9
           NA,    P17E,    134,   1,-999.0,      31,  4,19921216,0204, -52.4828, -130.0880,  4034, 3010.700,    1.631,   34.727,2, -999.000,2,  190.700,2, -999.000,2, -999.000,2, -999.000,2, -999.000,2, -999.000,2, -999.000,2, -999.000,2, -999.000,9, -999.000,9, -999.000,9
           NA,    P17E,    134,   1,-999.0,      32,  2,19921216,0204, -52.4828, -130.0880,  4034, 3434.100,    1.355,   34.717,2,   34.718,2,  193.500,2,  194.100,2,  113.750,2,   32.280,2,    0.000,2,    2.300,2,    0.010,2,    0.002,2, -999.000,9, -999.000,9, -999.000,9
           NA,    P17E,    134,   1,-999.0,      33,  2,19921216,0204, -52.4828, -130.0880,  4034, 3637.800,    1.326,   34.717,2,   34.718,2,  195.100,2,  194.900,2,  114.770,2,   32.230,2,    0.000,2,    2.290,2,    0.010,2,    0.005,2, -999.000,9, -999.000,9, -999.000,9
           NA,    P17E,    134,   1,-999.0,      34,  2,19921216,0204, -52.4828, -130.0880,  4034, 3840.800,    1.314,   34.717,2,   34.718,2,  196.200,2,  195.900,2,  115.580,2,   32.270,2,    0.000,2,    2.290,2, -999.000,5,    0.003,2, -999.000,9, -999.000,9, -999.000,9
           NA,    P17E,    134,   1,-999.0,      35,  2,19921216,0204, -52.4828, -130.0880,  4034, 3999.500,    1.324,   34.717,2,   34.717,2,  196.300,2,  196.500,2,  115.750,2,   32.160,2,    0.000,2,    2.290,2,    0.004,2,    0.002,2, -999.000,9, -999.000,9, -999.000,9
           NA,    P17E,    134,   1,-999.0,      36,  2,19921216,0204, -52.4828, -130.0880,  4034, 4107.500,    1.333,   34.716,2,   34.718,2,  196.800,2,  196.300,2,  115.720,2,   32.220,2,    0.000,2,    2.280,2,    0.005,2,    0.003,2, -999.000,9, -999.000,9, -999.000,9