BOTTLE,20215010JOAExport
EXPOCODE,SECT_ID,STNNBR,CASTNO,SAMPNO,BTLNBR,BTLNBR_FLAG_W,DATE,TIME,LATITUDE,LONGITUDE,DEPTH,CTDPRS,CTDTMP,CTDSAL,CTDSAL_FLAG_W,SALNTY,SALNTY_FLAG_W,CTDOXY,CTDOXY_FLAG_W,OXYGEN,OXYGEN_FLAG_W,SILCAT,SILCAT_FLAG_W,NITRAT,NITRAT_FLAG_W,NITRIT,NITRIT_FLAG_W,PHSPHT,PHSPHT_FLAG_W,CFC-11,CFC-11_FLAG_W,CFC-12,CFC-12_FLAG_W,SF6,SF6_FLAG_W,TCARBN,TCARBN_FLAG_W,ALKALI,ALKALI_FLAG_W
,,,,,,,,,,,,DB,ITS-90,PSS-78,,PSS-78,,UMOL/KG,,UMOL/KG,,UMOL/KG,,UMOL/KG,,UMOL/KG,,UMOL/KG,,PMOL/KG,,PMOL/KG,,PMOL/KG,,UMOL/KG,,UMOL/KG
           NA,    P17E,    132,   1,-999.0,       1,  2,19921215,0546, -52.5123, -131.7130,  4142,    4.000,    8.045,   34.438,2,   34.447,2, -999.000,3,  298.900,2,    1.670,2,   11.660,2,    0.170,2,    1.000,2,    4.070,6,    2.029,6, -999.000,9, 2087.400,2, -999.000,9
           NA,    P17E,    132,   1,-999.0,       2,  2,19921215,0546, -52.5123, -131.7130,  4142,   29.000,    8.049,   34.438,2,   34.441,2, -999.000,3,  299.800,2,    1.670,2,   11.660,2,    0.170,2,    0.990,2, -999.000,9, -999.000,9, -999.000,9, -999.000,9, -999.000,9
           NA,    P17E,    132,   1,-999.0,       3,  2,19921215,0546, -52.5123, -131.7130,  4142,   58.700,    7.870,   34.440,2,   34.438,2, -999.000,3,  295.000,2,    1.880,2,   12.090,2,    0.180,2,    1.060,2,    4.066,2,    2.027,2, -999.000,9, -999.000,9, -999.000,9
           NA,    P17E,    132,   1,-999.0,       4,  2,19921215,0546, -52.5123, -131.7130,  4142,   88.300,    7.580,   34.436,2,   34.437,2, -999.000,3,  283.700,2,    4.380,2,   13.740,2,    0.180,2,    1.210,2, -999.000,9, -999.000,9, -999.000,9, -999.000,9, -999.000,9
           NA,    P17E,    132,   1,-999.0,       5,  3,19921215,0546, -52.5123, -131.7130,  4142,  125.400,    7.517,   34.438,2, -999.000,4,  279.400,2, -999.000,4, -999.000,4, -999.000,4, -999.000,4, -999.000,4, -999.000,5, -999.000,5, -999.000,9, -999.000,9, -999.000,9
           NA,    P17E,    132,   1,-999.0,       6,  2,19921215,0546, -52.5123, -131.7130,  4142,  175.200,    7.461,   34.438,2,   34.438,2,  281.900,2,  278.300,2,    5.630,2,   14.990,2,    0.090,2,    1.260,2, -999.000,9, -999.000,9, -999.000,9, -999.000,9, -999.000,9
           NA,    P17E,    132,   1,-999.0,       7,  2,19921215,0546, -52.5123, -131.7130,  4142,  219.800,    7.439,   34.441,2,   34.444,2,  281.500,2,  279.900,2,    5.420,2,   14.830,2,    0.140,2,    1.250,2,    3.828,2,    1.895,2, -999.000,9, -999.000,9, -999.000,9
           NA,    P17E,    132,   1,-999.0,       8,  2,19921215,0546, -52.5123, -131.7130,  4142,  267.000,    7.315,   34.428,2,   34.426,2,  271.600,2,  272.700,2,    6.040,2,   16.220,2,    0.070,2,    1.330,2, -999.000,9, -999.000,9, -999.000,9, -999.000,9, -999.000,9
           NA,    P17E,    132,   1,-999.0,       9,  2,19921215,0546, -52.5123, -131.7130,  4142,  314.600,    7.258,   34.428,2,   34.427,2,  275.800,2,  274.000,2,    6.250,2,   16.480,2,    0.020,2,    1.350,2,    3.684,2,    1.822,2, -999.000,9, -999.000,9, -999.000,9
           NA,    P17E,    132,   1,-999.0,      10,  2,19921215,0546, -52.5123, -131.7130,  4142,  382.400,    7.207,   34.428,2,   34.427,2,  272.300,2,  277.800,2,    6.040,2,   16.690,2,    0.030,2,    1.320,2,    3.796,2,    1.884,2, -999.000,9, -999.000,9, -999.000,9
           NA,    P17E,    132,   1,-999.0,      11,  2,19921215,0546, -52.5123, -131.7130,  4142,  442.400,    7.149,   34.419,2,   34.420,2,  274.300,2,  274.600,2,    6.460,2,   16.750,2,    0.010,2,    1.360,2,    3.668,2,    1.818,2, -999.000,9, -999.000,9, -999.000,9
           NA,    P17E,    132,   1,-999.0,      12,  2,19921215,0546, -52.5123, -131.7130,  4142,  512.100,    6.971,   34.398,2,   34.398,2,  268.500,2,  271.900,2,    7.290,2,   17.800,2,    0.010,2,    1.410,2,    3.531,2,    1.722,2, -999.000,9, -999.000,9, -999.000,9
           NA,    P17E,    132,   1,-999.0,      13,  2,19921215,0546, -52.5123, -131.7130,  4142,  584.600,    6.769,   34.377,2,   34.377,2,  262.600,2,  268.700,2,    7.910,2,   18.630,2,    0.000,2,    1.460,2,    3.450,2,    1.675,2, -999.000,9, -999.000,9, -999.000,9
           NA,    P17E,    132,   1,-999.0,      14,  2,19921215,0546, -52.5123, -131.7130,  4142,  656.000,    6.560,   34.356,2,   34.356,2,  254.300,2,  265.900,2,    8.740,2,   19.560,2,    0.000,2,    1.520,2,    3.319,2,    1.613,2, -999.000,9, -999.000,9, -999.000,9
           NA,    P17E,    132,   1,-999.0,      15,  2,19921215,0546, -52.5123, -131.7130,  4142,  726.100,    6.286,   34.329,2,   34.328,2,  260.800,2,  262.600,2,    9.980,2,   20.660,2,    0.000,2,    1.590,2,    3.140,2,    1.521,2, -999.000,9, -999.000,9, -999.000,9
           NA,    P17E,    132,   1,-999.0,      16,  2,19921215,0546, -52.5123, -131.7130,  4142,  818.200,    5.863,   34.292,2,   34.293,2,  251.600,2,  259.000,2,   12.060,2,   22.200,2,    0.000,2,    1.680,2,    3.027,2,    1.442,2, -999.000,9, -999.000,9, -999.000,9
           NA,    P17E,    132,   1,-999.0,      17,  2,19921215,0546, -52.5123, -131.7130,  4142,  914.400,    5.562,   34.315,2,   34.315,2,  240.500,2,  230.800,2,   18.500,2,   25.400,2,    0.000,2,    1.890,2,    1.900,2,    0.904,2, -999.000,9, -999.000,9, -999.000,9
           NA,    P17E,    132,   1,-999.0,      18,  2,19921215,0546, -52.5123, -131.7130,  4142, 1002.400,    5.100,   34.315,2,   34.316,2,  222.000,2,  220.100,2,   24.110,2,   27.160,2,    0.000,2,    2.000,2,    1.600,2,    0.749,2, -999.000,9, -999.000,9, -999.000,9
           NA,    P17E,    132,   1,-999.0,      19,  2,19921215,0546, -52.5123, -131.7130,  4142, 1098.100,    4.597,   34.322,2,   34.323,2,  213.900,2,  213.600,2,   30.340,2,   28.760,2,    0.000,2,    2.110,2,    1.287,2,    0.602,2, -999.000,9, -999.000,9, -999.000,9
           NA,    P17E,    132,   1,-999.0,      20,  2,19921215,0546, -52.5123, -131.7130,  4142, 1183.700,    4.196,   34.328,2,   34.328,2,  209.300,2,  208.600,2,   35.310,2,   29.800,2,    0.000,2,    2.190,2,    1.088,2,    0.516,2, -999.000,9, -999.000,9, -999.000,9
           NA,    P17E,    132,   1,-999.0,      21,  2,19921215,0546, -52.5123, -131.7130,  4142, 1274.800,    3.770,   34.351,2,   34.350,2,  202.700,2,  202.400,2,   42.780,2, -999.000,3,    0.000,2,    2.260,2,    0.850,2,    0.386,2, -999.000,9, -999.000,9, -999.000,9
           NA,    P17E,    132,   1,-999.0,      22,  2,19921215,0546, -52.5123, -131.7130,  4142, 1472.100,    3.149,   34.410,2,   34.410,2,  190.600,2,  190.000,2,   56.060,2, -999.000,3,    0.000,2,    2.380,2,    0.552,2,    0.254,2, -999.000,9, -999.000,9, -999.000,9
           NA,    P17E,    132,   1,-999.0,      23,  2,19921215,0546, -52.5123, -131.7130,  4142, 1674.900,    2.806,   34.486,2,   34.484,2,  179.100,2,  179.800,2,   67.890,2, -999.000,3,    0.000,2,    2.430,2,    0.370,2,    0.164,2, -999.000,9, -999.000,9, -999.000,9
           NA,    P17E,    132,   1,-999.0,      24,  2,19921215,0546, -52.5123, -131.7130,  4142, 1867.400,    2.585,   34.561,2,   34.558,2,  171.900,2,  171.500,2,   77.860,2, -999.000,3,    0.000,2,    2.430,2,    0.185,6,    0.075,2, -999.000,9, -999.000,9, -999.000,9
           NA,    P17E,    132,   1,-999.0,      25,  2,19921215,0546, -52.5123, -131.7130,  4142, 2049.900,    2.452,   34.609,2,   34.609,2,  169.700,2,  171.300,2,   81.170,2, -999.000,3,    0.000,2,    2.400,2,    0.131,2,    0.055,2, -999.000,9, -999.000,9, -999.000,9
           NA,    P17E,    132,   1,-999.0,      26,  2,19921215,0546, -52.5123, -131.7130,  4142, 2258.900,    2.313,   34.664,2,   34.664,2,  175.800,2,  176.300,2,   82.820,2, -999.000,3,    0.000,2,    2.340,2,    0.106,2,    0.045,2, -999.000,9, -999.000,9, -999.000,9
           NA,    P17E,    132,   1,-999.0,      27,  2,19921215,0546, -52.5123, -131.7130,  4142, 2481.900,    2.176,   34.703,2,   34.703,2,  180.600,2,  181.100,2,   86.960,2, -999.000,3,    0.000,2,    2.280,2, -999.000,9, -999.000,9, -999.000,9, -999.000,9, -999.000,9
           NA,    P17E,    132,   1,-999.0,      28,  2,19921215,0546, -52.5123, -131.7130,  4142, 2705.100,    1.999,   34.720,2,   34.721,2,  183.300,2,  183.800,2,   94.880,2, -999.000,3,    0.000,2,    2.270,2,    0.028,2,    0.005,2, -999.000,9, -999.000,9, -999.000,9
           NA,    P17E,    132,   1,-999.0,      29,  2,19921215,0546, -52.5123, -131.7130,  4142, 2922.000,    1.819,   34.726,2,   34.726,2,  187.600,2,  187.600,2,   99.670,2, -999.000,3,    0.000,2,    2.260,2, -999.000,9, -999.000,9, -999.000,9, -999.000,9, -999.000,9
           NA,    P17E,    132,   1,-999.0,      30,  2,19921215,0546, -52.5123, -131.7130,  4142, 3136.800,    1.625,   34.726,2,   34.725,2,  191.400,2,  191.400,2,  105.310,2, -999.000,3,    0.000,2,    2.270,2,    0.016,2,    0.004,2, -999.000,9, -999.000,9, -999.000,9
           NA,    P17E,    132,   1,-999.0,      31,  2,19921215,0546, -52.5123, -131.7130,  4142, 3346.100,    1.483,   34.723,2, -999.000,4,  193.700,2,  193.800,2,  109.700,2, -999.000,3,    0.000,2,    2.280,2, -999.000,9, -999.000,9, -999.000,9, -999.000,9, -999.000,9
           NA,    P17E,    132,   1,-999.0,      32,  2,19921215,0546, -52.5123, -131.7130,  4142, 3557.200,    1.374,   34.718,2,   34.719,2,  194.800,2,  194.600,2,  114.110,2, -999.000,3,    0.000,2,    2.300,2,    0.005,2,    0.000,2, -999.000,9, -999.000,9, -999.000,9
           NA,    P17E,    132,   1,-999.0,      33,  2,19921215,0546, -52.5123, -131.7130,  4142, 3761.900,    1.343,   34.718,2,   34.718,2,  195.600,2,  195.000,2,  115.770,2, -999.000,3,    0.000,2,    2.300,2, -999.000,9, -999.000,9, -999.000,9, -999.000,9, -999.000,9
           NA,    P17E,    132,   1,-999.0,      34,  2,19921215,0546, -52.5123, -131.7130,  4142, 3917.000,    1.334,   34.718,2, -999.000,3,  196.600,2,  196.000,2,  115.950,2, -999.000,3,    0.000,2,    2.310,2, -999.000,5,   -0.003,2, -999.000,9, -999.000,9, -999.000,9
           NA,    P17E,    132,   1,-999.0,      35,  2,19921215,0546, -52.5123, -131.7130,  4142, 4065.100,    1.331,   34.716,2,   34.718,2,  197.800,2,  196.600,2,  116.340,2, -999.000,3,    0.000,2,    2.300,2,    0.005,2,    0.006,2, -999.000,9, -999.000,9, -999.000,9
           NA,    P17E,    132,   1,-999.0,      36,  2,19921215,0546, -52.5123, -131.7130,  4142, 4181.000,    1.332,   34.717,2,   34.719,2,  196.800,2,  197.700,2,  116.940,2, -999.000,3,    0.000,2,    2.300,2,    0.008,2,    0.002,2, -999.000,9, -999.000,9, -999.000,9