BOTTLE,20215010JOAExport
EXPOCODE,SECT_ID,STNNBR,CASTNO,SAMPNO,BTLNBR,BTLNBR_FLAG_W,DATE,TIME,LATITUDE,LONGITUDE,DEPTH,CTDPRS,CTDTMP,CTDSAL,CTDSAL_FLAG_W,SALNTY,SALNTY_FLAG_W,CTDOXY,CTDOXY_FLAG_W,OXYGEN,OXYGEN_FLAG_W,SILCAT,SILCAT_FLAG_W,NITRAT,NITRAT_FLAG_W,NITRIT,NITRIT_FLAG_W,PHSPHT,PHSPHT_FLAG_W,CFC-11,CFC-11_FLAG_W,CFC-12,CFC-12_FLAG_W,SF6,SF6_FLAG_W,TCARBN,TCARBN_FLAG_W,ALKALI,ALKALI_FLAG_W
,,,,,,,,,,,,DB,ITS-90,PSS-78,,PSS-78,,UMOL/KG,,UMOL/KG,,UMOL/KG,,UMOL/KG,,UMOL/KG,,UMOL/KG,,PMOL/KG,,PMOL/KG,,PMOL/KG,,UMOL/KG,,UMOL/KG
           NA,    P17E,    165,   1,-999.0,       1,  2,19921229,1225, -52.0425, -125.6218,  2954,    4.500,    8.040,   34.425,2,   34.424,2, -999.000,3,  296.600,2,    1.390,2,   13.360,2,    0.170,2,    1.030,2,    4.137,6,    2.052,6, -999.000,9, 2090.600,2, -999.000,9
           NA,    P17E,    165,   1,-999.0,       2,  2,19921229,1225, -52.0425, -125.6218,  2954,   28.900,    8.044,   34.424,2,   34.424,2, -999.000,3,  297.100,2,    1.380,2,   13.300,2,    0.170,2,    1.030,2, -999.000,9, -999.000,9, -999.000,9, 2084.900,2, -999.000,9
           NA,    P17E,    165,   1,-999.0,       3,  2,19921229,1225, -52.0425, -125.6218,  2954,   59.200,    7.996,   34.429,2,   34.428,2, -999.000,3,  295.800,2,    1.380,2,   13.470,2,    0.160,2,    1.020,2,    4.125,2,    2.031,2, -999.000,9, 2087.600,2, -999.000,9
           NA,    P17E,    165,   1,-999.0,       4,  2,19921229,1225, -52.0425, -125.6218,  2954,  104.400,    7.557,   34.427,2,   34.426,2,  287.800,2,  286.100,2,    1.780,2,   14.660,2,    0.180,2,    1.160,2, -999.000,9, -999.000,9, -999.000,9, 2099.900,2, -999.000,9
           NA,    P17E,    165,   1,-999.0,       5,  2,19921229,1225, -52.0425, -125.6218,  2954,  133.700,    7.399,   34.441,2,   34.440,2,  282.800,2,  279.300,2,    5.320,2,   15.950,2,    0.200,2,    1.250,2,    3.958,2,    1.956,2, -999.000,9, 2108.400,2, -999.000,9
           NA,    P17E,    165,   1,-999.0,       6,  2,19921229,1225, -52.0425, -125.6218,  2954,  159.100,    7.367,   34.441,2, -999.000,4,  276.800,2,  279.600,2,    5.520,2,   15.980,2,    0.220,2,    1.240,2, -999.000,9, -999.000,9, -999.000,9, 2107.500,2, -999.000,9
           NA,    P17E,    165,   1,-999.0,       7,  2,19921229,1225, -52.0425, -125.6218,  2954,  209.800,    7.345,   34.442,2,   34.440,2,  279.500,2,  278.800,2,    5.510,2,   16.440,2,    0.200,2,    1.250,2,    3.945,2,    1.951,2, -999.000,9, 2107.600,2, -999.000,9
           NA,    P17E,    165,   1,-999.0,       8,  2,19921229,1225, -52.0425, -125.6218,  2954,  258.100,    7.302,   34.437,2,   34.439,2,  273.600,2,  277.100,2,    5.700,2,   16.990,2,    0.090,2,    1.270,2, -999.000,9, -999.000,9, -999.000,9, 2113.300,2, -999.000,9
           NA,    P17E,    165,   1,-999.0,       9,  2,19921229,1225, -52.0425, -125.6218,  2954,  309.400,    7.241,   34.432,2,   34.431,2,  276.200,2,  275.600,2,    5.900,2,   17.430,2,    0.030,2,    1.290,2,    3.817,2,    1.870,2, -999.000,9, 2112.100,2, -999.000,9
           NA,    P17E,    165,   1,-999.0,      10,  2,19921229,1225, -52.0425, -125.6218,  2954,  360.400,    7.214,   34.430,2,   34.430,2,  277.200,2,  276.900,2,    5.890,2,   17.370,2,    0.020,2,    1.290,2,    3.828,2,    1.880,2, -999.000,9, 2110.600,2, -999.000,9
           NA,    P17E,    165,   1,-999.0,      11,  2,19921229,1225, -52.0425, -125.6218,  2954,  409.300,    7.106,   34.418,2,   34.419,2,  274.800,2,  274.100,2,    6.300,2,   18.040,2,    0.020,2,    1.320,2,    3.757,2,    1.843,2, -999.000,9, 2114.600,2, -999.000,9
           NA,    P17E,    165,   1,-999.0,      12,  2,19921229,1225, -52.0425, -125.6218,  2954,  460.800,    7.005,   34.407,2,   34.408,2,  271.200,2,  274.800,2,    6.910,2,   18.420,2,    0.010,2,    1.350,2,    3.760,2,    1.847,2, -999.000,9, 2111.800,2, -999.000,9
           NA,    P17E,    165,   1,-999.0,      13,  2,19921229,1225, -52.0425, -125.6218,  2954,  534.500,    6.847,   34.393,2,   34.392,2,  266.900,2,  282.900,2,    6.690,2,   17.790,2, -999.000,3,    1.340,2,    4.019,2,    1.972,2, -999.000,9, 2112.500,2, -999.000,9
           NA,    P17E,    165,   1,-999.0,      14,  2,19921229,1225, -52.0425, -125.6218,  2954,  586.100,    6.647,   34.364,2,   34.364,2,  269.400,2,  265.600,2,    8.340,2,   20.340,2,    0.020,2,    1.480,2,    3.346,2,    1.626,2, -999.000,9, 2123.000,2, -999.000,9
           NA,    P17E,    165,   1,-999.0,      15,  2,19921229,1225, -52.0425, -125.6218,  2954,  636.900,    6.464,   34.346,2,   34.346,2,  268.900,2,  266.100,2,    9.160,2,   20.740,2,    0.050,2,    1.490,2,    3.347,2,    1.630,2, -999.000,9, 2120.900,2, -999.000,9
           NA,    P17E,    165,   1,-999.0,      16,  2,19921229,1225, -52.0425, -125.6218,  2954,  686.600,    6.265,   34.325,2,   34.327,2,  263.200,2,  275.700,2,    8.530,2,   20.520,2,    0.040,2,    1.470,2,    3.733,2,    1.828,2, -999.000,9, 2120.000,2, -999.000,9
           NA,    P17E,    165,   1,-999.0,      17,  2,19921229,1225, -52.0425, -125.6218,  2954,  727.100,    6.066,   34.305,2,   34.306,2,  263.100,2,  262.600,2,   10.390,2,   22.210,2,    0.010,2,    1.580,2,    3.236,2,    1.560,2, -999.000,9, 2128.800,2, -999.000,9
           NA,    P17E,    165,   1,-999.0,      18,  2,19921229,1225, -52.0425, -125.6218,  2954,  788.400,    5.667,   34.268,2,   34.269,2,  257.500,2,  265.700,2,   11.410,2,   22.870,2,    0.010,2,    1.620,2,    3.376,2,    1.642,2, -999.000,9, 2130.500,2, -999.000,9
           NA,    P17E,    165,   1,-999.0,      19,  2,19921229,1225, -52.0425, -125.6218,  2954,  837.100,    5.478,   34.261,2,   34.262,2,  263.100,2,  254.800,2,   13.680,2,   24.300,2,    0.010,2,    1.710,2,    2.950,2,    1.415,2, -999.000,9, 2137.700,2, -999.000,9
           NA,    P17E,    165,   1,-999.0,      20,  2,19921229,1225, -52.0425, -125.6218,  2954,  939.000,    4.889,   34.228,2,   34.227,2,  251.200,2,  253.700,2,   16.160,2,   25.680,2,    0.000,2,    1.800,2,    2.997,2,    1.438,2, -999.000,9, 2146.000,2, -999.000,9
           NA,    P17E,    165,   1,-999.0,      21,  2,19921229,1225, -52.0425, -125.6218,  2954, 1038.100,    4.874,   34.312,2,   34.313,2,  221.400,2,  217.700,2,   26.100,2,   28.620,2,    0.000,2,    1.960,2,    1.515,2,    0.710,2, -999.000,9, 2173.100,2, -999.000,9
           NA,    P17E,    165,   1,-999.0,      22,  2,19921229,1225, -52.0425, -125.6218,  2954, 1161.300,    4.189,   34.321,2,   34.322,2,  214.500,2,  209.900,2,   34.380,2,   30.400,2,    0.000,2,    2.120,2, -999.000,9, -999.000,9, -999.000,9, 2187.000,2, -999.000,9
           NA,    P17E,    165,   1,-999.0,      23,  2,19921229,1225, -52.0425, -125.6218,  2954, 1360.600,    3.453,   34.358,2,   34.355,2,  200.100,2,  199.400,2,   46.380,2,   32.400,2,    0.000,2,    2.260,2,    0.903,2,    0.427,2, -999.000,9, 2206.300,2, -999.000,9
           NA,    P17E,    165,   1,-999.0,      24,  2,19921229,1225, -52.0425, -125.6218,  2954, 1563.300,    2.902,   34.422,2,   34.419,2,  188.500,2,  188.100,2,   59.000,2,   33.690,2,    0.000,2,    2.350,2,    0.668,2,    0.310,2, -999.000,9, 2228.700,2, -999.000,9
           NA,    P17E,    165,   1,-999.0,      25,  2,19921229,1225, -52.0425, -125.6218,  2954, 1768.100,    2.454,   34.583,2,   34.579,2,  173.300,2,  172.500,2,   77.660,2,   33.840,2,    0.000,2,    2.370,2,    0.213,2,    0.104,2, -999.000,9, 2249.400,2, -999.000,9
           NA,    P17E,    165,   1,-999.0,      26,  2,19921229,1225, -52.0425, -125.6218,  2954, 1869.700,    2.361,   34.626,2,   34.626,2,  171.700,2,  172.000,2,   81.990,2,   33.440,2,    0.000,2,    2.340,2,    0.134,2,    0.063,2, -999.000,9, 2251.500,2, -999.000,9
           NA,    P17E,    165,   1,-999.0,      27,  2,19921229,1225, -52.0425, -125.6218,  2954, 1971.600,    2.316,   34.648,2,   34.649,2,  172.200,2,  172.600,2,   83.620,2,   33.150,2,    0.000,2,    2.320,2,    0.108,2,    0.054,2, -999.000,9, 2253.800,2, -999.000,9
           NA,    P17E,    165,   1,-999.0,      28,  2,19921229,1225, -52.0425, -125.6218,  2954, 2072.400,    2.274,   34.665,2,   34.666,2,  173.100,2,  173.500,2,   86.080,2,   32.910,2,    0.000,2,    2.300,2,    0.078,2,    0.042,2, -999.000,9, 2253.300,2, -999.000,9
           NA,    P17E,    165,   1,-999.0,      29,  2,19921229,1225, -52.0425, -125.6218,  2954, 2279.000,    2.157,   34.697,2,   34.698,2,  177.000,2,  177.500,2,   89.160,2,   32.340,2,    0.000,2,    2.260,2,    0.042,2,    0.022,2, -999.000,9, 2253.000,2, -999.000,9
           NA,    P17E,    165,   1,-999.0,      30,  2,19921229,1225, -52.0425, -125.6218,  2954, 2482.600,    2.028,   34.716,2,   34.716,2,  181.100,2,  181.400,2,   93.290,2,   31.890,2,    0.000,2,    2.230,2, -999.000,9, -999.000,9, -999.000,9, 2255.500,2, -999.000,9
           NA,    P17E,    165,   1,-999.0,      31,  2,19921229,1225, -52.0425, -125.6218,  2954, 2685.700,    1.828,   34.722,2,   34.723,2,  183.800,2,  184.400,2,  100.150,2,   31.880,2,    0.000,2,    2.230,2,    0.012,2,    0.007,2, -999.000,9, 2256.200,2, -999.000,9
           NA,    P17E,    165,   1,-999.0,      32,  2,19921229,1225, -52.0425, -125.6218,  2954, 2786.800,    1.741,   34.722,2,   34.723,2,  185.600,2,  185.300,2,  103.040,2,   32.040,2,    0.000,2,    2.240,2, -999.000,9, -999.000,9, -999.000,9, 2260.600,2, -999.000,9
           NA,    P17E,    165,   1,-999.0,      33,  2,19921229,1225, -52.0425, -125.6218,  2954, 2887.600,    1.660,   34.722,2,   34.722,2,  186.100,2,  186.900,2,  105.300,2,   32.030,2,    0.000,2,    2.240,2,    0.006,2,    0.007,2, -999.000,9, 2262.700,2, -999.000,9
           NA,    P17E,    165,   1,-999.0,      34,  2,19921229,1225, -52.0425, -125.6218,  2954, 2986.400,    1.608,   34.721,2,   34.721,2,  187.500,2,  187.400,2,  107.140,2,   32.130,2,    0.000,2,    2.250,2, -999.000,5,    0.004,2, -999.000,9, 2262.900,2, -999.000,9
           NA,    P17E,    165,   1,-999.0,      35,  2,19921229,1225, -52.0425, -125.6218,  2954, 3187.900,    1.471,   34.715,2,   34.716,2,  188.100,2,  187.300,2,  113.830,2,   32.520,2,    0.000,2,    2.280,2,    0.000,2,    0.002,2, -999.000,9, 2270.700,2, -999.000,9
           NA,    P17E,    165,   1,-999.0,      36,  2,19921229,1225, -52.0425, -125.6218,  2954, 3300.400,    1.406,   34.713,2,   34.714,2,  189.200,2,  188.200,2,  115.890,2,   32.620,2,    0.000,2,    2.290,2,    0.003,2,    0.006,2, -999.000,9, 2271.700,2, -999.000,9