BOTTLE,20215010JOAExport
EXPOCODE,SECT_ID,STNNBR,CASTNO,SAMPNO,BTLNBR,BTLNBR_FLAG_W,DATE,TIME,LATITUDE,LONGITUDE,DEPTH,CTDPRS,CTDTMP,CTDSAL,CTDSAL_FLAG_W,SALNTY,SALNTY_FLAG_W,CTDOXY,CTDOXY_FLAG_W,OXYGEN,OXYGEN_FLAG_W,SILCAT,SILCAT_FLAG_W,NITRAT,NITRAT_FLAG_W,NITRIT,NITRIT_FLAG_W,PHSPHT,PHSPHT_FLAG_W,CFC-11,CFC-11_FLAG_W,CFC-12,CFC-12_FLAG_W,SF6,SF6_FLAG_W,TCARBN,TCARBN_FLAG_W,ALKALI,ALKALI_FLAG_W
,,,,,,,,,,,,DB,ITS-90,PSS-78,,PSS-78,,UMOL/KG,,UMOL/KG,,UMOL/KG,,UMOL/KG,,UMOL/KG,,UMOL/KG,,PMOL/KG,,PMOL/KG,,PMOL/KG,,UMOL/KG,,UMOL/KG
           NA,    P17E,    139,   1,-999.0,       1,  2,19921217,0753, -52.5110, -125.9915,  3691,    5.300,    7.785,   34.421,2,   34.420,2, -999.000,3,  295.400,2,    1.520,2,   13.990,2,    0.180,2,    1.040,2, -999.000,9, -999.000,9, -999.000,9, 2102.700,2, -999.000,9
           NA,    P17E,    139,   1,-999.0,       2,  2,19921217,0753, -52.5110, -125.9915,  3691,   27.400,    7.787,   34.421,2,   34.420,2, -999.000,3,  295.500,2,    1.500,2,   13.990,2,    0.180,2,    1.040,2, -999.000,9, -999.000,9, -999.000,9, -999.000,9, -999.000,9
           NA,    P17E,    139,   1,-999.0,       3,  2,19921217,0753, -52.5110, -125.9915,  3691,   57.200,    7.773,   34.421,2,   34.419,2, -999.000,3,  295.000,2,    1.490,2,   13.880,2,    0.180,2,    1.040,2, -999.000,9, -999.000,9, -999.000,9, -999.000,9, -999.000,9
           NA,    P17E,    139,   1,-999.0,       4,  2,19921217,0753, -52.5110, -125.9915,  3691,   96.800,    7.549,   34.424,2,   34.424,2, -999.000,3,  287.000,2,    3.120,2,   14.920,2,    0.180,2,    1.150,2, -999.000,9, -999.000,9, -999.000,9, -999.000,9, -999.000,9
           NA,    P17E,    139,   1,-999.0,       5,  2,19921217,0753, -52.5110, -125.9915,  3691,  124.900,    7.363,   34.424,2,   34.423,2,  282.500,2,  283.500,2,    4.760,2,   15.750,2,    0.180,2,    1.190,2, -999.000,9, -999.000,9, -999.000,9, -999.000,9, -999.000,9
           NA,    P17E,    139,   1,-999.0,       6,  2,19921217,0753, -52.5110, -125.9915,  3691,  165.900,    7.284,   34.428,2,   34.426,2,  282.600,2,  279.700,2,    5.780,2,   16.690,2,    0.170,2,    1.270,2, -999.000,9, -999.000,9, -999.000,9, -999.000,9, -999.000,9
           NA,    P17E,    139,   1,-999.0,       7,  2,19921217,0753, -52.5110, -125.9915,  3691,  204.800,    7.215,   34.423,2,   34.422,2,  279.700,2,  281.700,2,    5.970,2,   16.680,2,    0.180,2,    1.280,2, -999.000,9, -999.000,9, -999.000,9, -999.000,9, -999.000,9
           NA,    P17E,    139,   1,-999.0,       8,  2,19921217,0753, -52.5110, -125.9915,  3691,  253.800,    7.158,   34.419,2,   34.418,2,  275.400,2,  279.700,2,    6.160,2,   17.130,2,    0.140,2,    1.290,2, -999.000,9, -999.000,9, -999.000,9, -999.000,9, -999.000,9
           NA,    P17E,    139,   1,-999.0,       9,  2,19921217,0753, -52.5110, -125.9915,  3691,  306.700,    7.125,   34.419,2,   34.417,2,  273.900,2,  279.200,2,    6.350,2,   17.380,2,    0.100,2,    1.310,2, -999.000,9, -999.000,9, -999.000,9, -999.000,9, -999.000,9
           NA,    P17E,    139,   1,-999.0,      10,  2,19921217,0753, -52.5110, -125.9915,  3691,  357.000,    6.958,   34.397,2,   34.396,2,  272.100,2,  271.000,2,    7.360,2,   18.800,2,    0.030,2,    1.390,2, -999.000,9, -999.000,9, -999.000,9, -999.000,9, -999.000,9
           NA,    P17E,    139,   1,-999.0,      11,  2,19921217,0753, -52.5110, -125.9915,  3691,  407.600,    6.889,   34.393,2,   34.389,2,  269.300,2,  271.600,2,    7.350,2,   18.970,2,    0.010,2,    1.400,2, -999.000,9, -999.000,9, -999.000,9, -999.000,9, -999.000,9
           NA,    P17E,    139,   1,-999.0,      12,  2,19921217,0753, -52.5110, -125.9915,  3691,  480.800,    6.721,   34.371,2,   34.370,2,  270.200,2,  272.200,2,    7.540,2,   19.240,2,    0.000,2,    1.420,2, -999.000,9, -999.000,9, -999.000,9, -999.000,9, -999.000,9
           NA,    P17E,    139,   1,-999.0,      13,  2,19921217,0753, -52.5110, -125.9915,  3691,  554.300,    6.475,   34.344,2,   34.342,2,  268.900,2,  272.700,2,    8.140,2,   20.230,2,    0.000,2,    1.470,2, -999.000,9, -999.000,9, -999.000,9, -999.000,9, -999.000,9
           NA,    P17E,    139,   1,-999.0,      14,  2,19921217,0753, -52.5110, -125.9915,  3691,  626.600,    6.268,   34.326,2,   34.324,2,  265.900,2,  269.700,2,    9.150,2,   20.900,2,    0.000,2,    1.520,2, -999.000,9, -999.000,9, -999.000,9, -999.000,9, -999.000,9
           NA,    P17E,    139,   1,-999.0,      15,  2,19921217,0753, -52.5110, -125.9915,  3691,  674.000,    6.109,   34.313,2,   34.311,2,  266.000,2,  262.300,2,   10.380,2,   21.990,2,    0.000,2,    1.580,2, -999.000,9, -999.000,9, -999.000,9, -999.000,9, -999.000,9
           NA,    P17E,    139,   1,-999.0,      16,  2,19921217,0753, -52.5110, -125.9915,  3691,  720.700,    5.884,   34.293,2,   34.292,2,  256.500,2,  254.900,2,   12.220,2,   23.140,2,    0.000,2,    1.670,2, -999.000,9, -999.000,9, -999.000,9, -999.000,9, -999.000,9
           NA,    P17E,    139,   1,-999.0,      17,  2,19921217,0753, -52.5110, -125.9915,  3691,  765.000,    5.647,   34.278,2,   34.275,2,  252.900,2,  253.100,2,   13.650,2,   23.970,2,    0.000,2,    1.710,2, -999.000,9, -999.000,9, -999.000,9, -999.000,9, -999.000,9
           NA,    P17E,    139,   1,-999.0,      18,  2,19921217,0753, -52.5110, -125.9915,  3691,  810.500,    5.501,   34.289,2,   34.288,2,  243.700,2,  239.600,2,   16.520,2,   25.480,2,    0.000,2,    1.810,2, -999.000,9, -999.000,9, -999.000,9, -999.000,9, -999.000,9
           NA,    P17E,    139,   1,-999.0,      19,  2,19921217,0753, -52.5110, -125.9915,  3691,  882.500,    5.219,   34.304,2,   34.304,2,  224.100,2,  225.200,2,   21.670,2,   27.140,2,    0.000,2,    1.930,2, -999.000,9, -999.000,9, -999.000,9, -999.000,9, -999.000,9
           NA,    P17E,    139,   1,-999.0,      20,  2,19921217,0753, -52.5110, -125.9915,  3691,  982.100,    4.633,   34.305,2,   34.305,2,  215.800,2,  217.800,2,   28.050,2,   28.910,2,    0.000,2,    2.040,2, -999.000,9, -999.000,9, -999.000,9, -999.000,9, -999.000,9
           NA,    P17E,    139,   1,-999.0,      21,  2,19921217,0753, -52.5110, -125.9915,  3691, 1081.600,    4.152,   34.327,2,   34.325,2,  207.800,2,  208.300,2,   35.670,2,   30.370,2,    0.000,2,    2.150,2, -999.000,9, -999.000,9, -999.000,9, -999.000,9, -999.000,9
           NA,    P17E,    139,   1,-999.0,      22,  2,19921217,0753, -52.5110, -125.9915,  3691, 1180.300,    3.710,   34.337,2,   34.339,2,  205.900,2,  205.200,2,   41.020,2,   31.360,2,    0.000,2,    2.220,2, -999.000,9, -999.000,9, -999.000,9, -999.000,9, -999.000,9
           NA,    P17E,    139,   1,-999.0,      23,  2,19921217,0753, -52.5110, -125.9915,  3691, 1328.800,    3.216,   34.387,2,   34.385,2,  193.900,2,  192.900,2,   52.570,2,   32.720,2,    0.000,2,    2.320,2, -999.000,9, -999.000,9, -999.000,9, -999.000,9, -999.000,9
           NA,    P17E,    139,   1,-999.0,      24,  2,19921217,0753, -52.5110, -125.9915,  3691, 1475.400,    2.868,   34.450,2,   34.449,2,  184.500,2,  182.600,2,   62.670,2,   33.440,2,    0.000,2,    2.380,2, -999.000,9, -999.000,9, -999.000,9, -999.000,9, -999.000,9
           NA,    P17E,    139,   1,-999.0,      25,  2,19921217,0753, -52.5110, -125.9915,  3691, 1679.300,    2.619,   34.531,2,   34.529,2,  174.600,2,  173.800,2,   73.410,2,   33.750,2,    0.000,2,    2.390,2, -999.000,9, -999.000,9, -999.000,9, -999.000,9, -999.000,9
           NA,    P17E,    139,   1,-999.0,      26,  2,19921217,0753, -52.5110, -125.9915,  3691, 1886.600,    2.444,   34.603,2,   34.603,2,  170.600,2,  169.900,2,   81.670,2,   33.380,2,    0.000,2,    2.370,2, -999.000,9, -999.000,9, -999.000,9, -999.000,9, -999.000,9
           NA,    P17E,    139,   1,-999.0,      27,  2,19921217,0753, -52.5110, -125.9915,  3691, 2089.900,    2.311,   34.655,2,   34.655,2,  172.100,2,  172.300,2,   85.800,2,   32.800,2,    0.000,2,    2.330,2, -999.000,9, -999.000,9, -999.000,9, -999.000,9, -999.000,9
           NA,    P17E,    139,   1,-999.0,      28,  2,19921217,0753, -52.5110, -125.9915,  3691, 2292.800,    2.196,   34.689,2,   34.688,2,  174.800,2,  175.600,2,   89.510,2,   32.220,2,    0.000,2,    2.280,2, -999.000,9, -999.000,9, -999.000,9, -999.000,9, -999.000,9
           NA,    P17E,    139,   1,-999.0,      29,  2,19921217,0753, -52.5110, -125.9915,  3691, 2497.100,    2.059,   34.713,2,   34.713,2,  179.600,2,  181.100,2,   91.980,2,   31.640,2,    0.000,2,    2.240,2, -999.000,9, -999.000,9, -999.000,9, -999.000,9, -999.000,9
           NA,    P17E,    139,   1,-999.0,      30,  2,19921217,0753, -52.5110, -125.9915,  3691, 2704.100,    1.899,   34.722,2,   34.722,2,  183.100,2,  184.100,2,   97.790,2,   31.480,2,    0.000,2,    2.240,2, -999.000,9, -999.000,9, -999.000,9, -999.000,9, -999.000,9
           NA,    P17E,    139,   1,-999.0,      31,  4,19921217,0753, -52.5110, -125.9915,  3691, 2704.100,    1.899,   34.722,2, -999.000,2,  183.100,2, -999.000,2, -999.000,2, -999.000,2, -999.000,2, -999.000,2, -999.000,9, -999.000,9, -999.000,9, -999.000,9, -999.000,9
           NA,    P17E,    139,   1,-999.0,      32,  2,19921217,0753, -52.5110, -125.9915,  3691, 3112.200,    1.547,   34.717,2,   34.717,2,  187.600,2,  186.800,2,  110.720,2,   31.840,2,    0.000,2,    2.270,2, -999.000,9, -999.000,9, -999.000,9, -999.000,9, -999.000,9
           NA,    P17E,    139,   1,-999.0,      33,  2,19921217,0753, -52.5110, -125.9915,  3691, 3311.500,    1.444,   34.713,2,   34.714,2,  188.200,2,  188.400,2,  114.690,2,   32.150,2,    0.000,2,    2.280,2, -999.000,9, -999.000,9, -999.000,9, -999.000,9, -999.000,9
           NA,    P17E,    139,   1,-999.0,      34,  2,19921217,0753, -52.5110, -125.9915,  3691, 3515.900,    1.380,   34.714,2,   34.714,2,  190.200,2,  190.100,2,  116.770,2,   32.200,2,    0.000,2,    2.280,2, -999.000,9, -999.000,9, -999.000,9, -999.000,9, -999.000,9
           NA,    P17E,    139,   1,-999.0,      35,  2,19921217,0753, -52.5110, -125.9915,  3691, 3674.000,    1.356,   34.715,2,   34.715,2,  191.400,2,  191.700,2,  116.950,2,   32.150,2,    0.000,2,    2.280,2, -999.000,9, -999.000,9, -999.000,9, -999.000,9, -999.000,9
           NA,    P17E,    139,   1,-999.0,      36,  2,19921217,0753, -52.5110, -125.9915,  3691, 3774.600,    1.359,   34.715,2,   34.715,2,  192.400,2,  191.900,2,  117.340,2,   32.140,2,    0.000,2,    2.280,2, -999.000,9, -999.000,9, -999.000,9, -999.000,9, -999.000,9