BOTTLE,20215010JOAExport
EXPOCODE,SECT_ID,STNNBR,CASTNO,SAMPNO,BTLNBR,BTLNBR_FLAG_W,DATE,TIME,LATITUDE,LONGITUDE,DEPTH,CTDPRS,CTDTMP,CTDSAL,CTDSAL_FLAG_W,SALNTY,SALNTY_FLAG_W,CTDOXY,CTDOXY_FLAG_W,OXYGEN,OXYGEN_FLAG_W,SILCAT,SILCAT_FLAG_W,NITRAT,NITRAT_FLAG_W,NITRIT,NITRIT_FLAG_W,PHSPHT,PHSPHT_FLAG_W,CFC-11,CFC-11_FLAG_W,CFC-12,CFC-12_FLAG_W,SF6,SF6_FLAG_W,TCARBN,TCARBN_FLAG_W,ALKALI,ALKALI_FLAG_W
,,,,,,,,,,,,DB,ITS-90,PSS-78,,PSS-78,,UMOL/KG,,UMOL/KG,,UMOL/KG,,UMOL/KG,,UMOL/KG,,UMOL/KG,,PMOL/KG,,PMOL/KG,,PMOL/KG,,UMOL/KG,,UMOL/KG
           NA,    P17E,    168,   1,-999.0,       1,  2,19921230,0547, -51.1923, -124.1367,  3643,    2.300,    7.745,   34.398,2,   34.399,2, -999.000,3,  300.600,2,    0.950,2,   13.900,2,    0.200,2,    1.060,2, -999.000,9, -999.000,9, -999.000,9, 2086.000,2, -999.000,9
           NA,    P17E,    168,   1,-999.0,       2,  2,19921230,0547, -51.1923, -124.1367,  3643,   26.500,    7.709,   34.397,2,   34.397,2, -999.000,3,  301.100,2,    0.930,2,   13.900,2,    0.200,2,    1.070,2, -999.000,9, -999.000,9, -999.000,9, 2084.100,2, -999.000,9
           NA,    P17E,    168,   1,-999.0,       3,  2,19921230,0547, -51.1923, -124.1367,  3643,   47.000,    7.642,   34.396,2,   34.395,2, -999.000,3,  301.100,2,    0.920,2,   13.950,2,    0.190,2,    1.070,2, -999.000,9, -999.000,9, -999.000,9, 2084.800,2, -999.000,9
           NA,    P17E,    168,   1,-999.0,       4,  2,19921230,0547, -51.1923, -124.1367,  3643,   77.300,    7.342,   34.397,2,   34.398,2, -999.000,3,  295.500,2,    1.120,2,   14.940,2,    0.190,2,    1.160,2, -999.000,9, -999.000,9, -999.000,9, 2094.300,2, -999.000,9
           NA,    P17E,    168,   1,-999.0,       5,  2,19921230,0547, -51.1923, -124.1367,  3643,  106.200,    7.245,   34.400,2,   34.400,2,  299.600,2,  291.600,2,    1.740,2,   15.430,2,    0.200,2,    1.200,2, -999.000,9, -999.000,9, -999.000,9, 2098.700,2, -999.000,9
           NA,    P17E,    168,   1,-999.0,       6,  2,19921230,0547, -51.1923, -124.1367,  3643,  136.300,    7.203,   34.404,2,   34.403,2,  290.100,2,  289.500,2,    2.140,2,   15.530,2,    0.210,2,    1.220,2, -999.000,9, -999.000,9, -999.000,9, 2100.500,2, -999.000,9
           NA,    P17E,    168,   1,-999.0,       7,  2,19921230,0547, -51.1923, -124.1367,  3643,  166.500,    7.076,   34.411,2,   34.410,2,  285.400,2,  279.400,2,    6.120,2,   17.320,2,    0.190,2,    1.310,2, -999.000,9, -999.000,9, -999.000,9, 2109.100,2, -999.000,9
           NA,    P17E,    168,   1,-999.0,       8,  3,19921230,0547, -51.1923, -124.1367,  3643,  206.100,    6.944,   34.403,2,   34.403,2,  283.300,2,  282.600,2,    6.320,2,   17.350,2,    0.260,2,    1.320,2, -999.000,9, -999.000,9, -999.000,9, 2111.500,2, -999.000,9
           NA,    P17E,    168,   1,-999.0,       9,  2,19921230,0547, -51.1923, -124.1367,  3643,  255.300,    6.937,   34.405,2,   34.404,2,  281.600,2,  284.600,2,    6.300,2,   17.110,2,    0.340,2,    1.310,2, -999.000,9, -999.000,9, -999.000,9, 2108.900,2, -999.000,9
           NA,    P17E,    168,   1,-999.0,      10,  2,19921230,0547, -51.1923, -124.1367,  3643,  303.700,    6.895,   34.402,2,   34.400,2,  281.800,2,  283.000,2,    6.290,2,   17.490,2,    0.340,2,    1.310,2, -999.000,9, -999.000,9, -999.000,9, 2111.600,2, -999.000,9
           NA,    P17E,    168,   1,-999.0,      11,  2,19921230,0547, -51.1923, -124.1367,  3643,  354.000,    6.868,   34.397,2,   34.398,2,  281.000,2,  282.000,2,    6.490,2,   17.660,2,    0.280,2,    1.310,2, -999.000,9, -999.000,9, -999.000,9, 2111.600,2, -999.000,9
           NA,    P17E,    168,   1,-999.0,      12,  2,19921230,0547, -51.1923, -124.1367,  3643,  403.700,    6.605,   34.366,2,   34.366,2,  276.700,2,  276.200,2,    7.530,2,   19.410,2,    0.020,2,    1.410,2, -999.000,9, -999.000,9, -999.000,9, 2116.200,2, -999.000,9
           NA,    P17E,    168,   1,-999.0,      13,  2,19921230,0547, -51.1923, -124.1367,  3643,  475.000,    6.428,   34.349,2,   34.349,2,  276.000,2,  279.200,2,    7.720,2,   19.580,2,    0.010,2,    1.410,2, -999.000,9, -999.000,9, -999.000,9, 2119.100,2, -999.000,9
           NA,    P17E,    168,   1,-999.0,      14,  2,19921230,0547, -51.1923, -124.1367,  3643,  544.100,    6.139,   34.318,2,   34.318,2,  265.900,2,  274.200,2,    8.760,2,   20.810,2,    0.010,2,    1.480,2, -999.000,9, -999.000,9, -999.000,9, 2123.300,2, -999.000,9
           NA,    P17E,    168,   1,-999.0,      15,  2,19921230,0547, -51.1923, -124.1367,  3643,  609.500,    5.896,   34.294,2,   34.293,2,  264.000,2,  267.100,2,   10.430,2,   22.200,2,    0.010,2,    1.570,2, -999.000,9, -999.000,9, -999.000,9, 2128.000,2, -999.000,9
           NA,    P17E,    168,   1,-999.0,      16,  2,19921230,0547, -51.1923, -124.1367,  3643,  673.200,    5.639,   34.282,2,   34.280,2,  257.700,2,  252.000,2,   13.360,2,   24.150,2,    0.000,2,    1.700,2, -999.000,9, -999.000,9, -999.000,9, 2139.900,2, -999.000,9
           NA,    P17E,    168,   1,-999.0,      17,  2,19921230,0547, -51.1923, -124.1367,  3643,  718.000,    5.449,   34.279,2,   34.282,2,  247.900,2,  243.300,2,   16.070,2,   25.320,2,    0.010,2,    1.780,2, -999.000,9, -999.000,9, -999.000,9, 2147.000,2, -999.000,9
           NA,    P17E,    168,   1,-999.0,      18,  2,19921230,0547, -51.1923, -124.1367,  3643,  764.700,    5.270,   34.290,2,   34.289,2,  239.700,2,  233.500,2,   18.790,2,   26.540,2,    0.010,2,    1.860,2, -999.000,9, -999.000,9, -999.000,9, 2157.700,2, -999.000,9
           NA,    P17E,    168,   1,-999.0,      19,  2,19921230,0547, -51.1923, -124.1367,  3643,  835.100,    4.961,   34.302,2,   34.294,2,  227.000,2,  225.000,2,   22.980,2,   27.890,2,    0.000,2,    1.950,2, -999.000,9, -999.000,9, -999.000,9, 2165.500,2, -999.000,9
           NA,    P17E,    168,   1,-999.0,      20,  2,19921230,0547, -51.1923, -124.1367,  3643,  907.700,    4.588,   34.306,2,   34.304,2,  214.500,2,  217.600,2,   28.000,2,   29.180,2,    0.000,2,    2.030,2, -999.000,9, -999.000,9, -999.000,9, 2178.000,2, -999.000,9
           NA,    P17E,    168,   1,-999.0,      21,  2,19921230,0547, -51.1923, -124.1367,  3643, 1003.500,    4.178,   34.332,2,   34.331,2,  206.900,2,  206.700,2,   35.760,2,   30.700,2,    0.000,2,    2.140,2, -999.000,9, -999.000,9, -999.000,9, 2192.500,2, -999.000,9
           NA,    P17E,    168,   1,-999.0,      22,  2,19921230,0547, -51.1923, -124.1367,  3643, 1101.000,    3.713,   34.344,2,   34.342,2,  200.000,2,  202.800,2,   42.260,2,   31.770,2,    0.000,2,    2.210,2, -999.000,9, -999.000,9, -999.000,9, 2201.100,2, -999.000,9
           NA,    P17E,    168,   1,-999.0,      23,  2,19921230,0547, -51.1923, -124.1367,  3643, 1196.500,    3.352,   34.375,2,   34.374,2,  192.700,2,  196.000,2,   50.020,2,   32.840,2,    0.000,2,    2.270,2, -999.000,9, -999.000,9, -999.000,9, 2213.600,2, -999.000,9
           NA,    P17E,    168,   1,-999.0,      24,  2,19921230,0547, -51.1923, -124.1367,  3643, 1338.000,    2.996,   34.425,2,   34.424,2,  184.100,2,  186.500,2,   59.260,2,   33.630,2,    0.000,2,    2.340,2, -999.000,9, -999.000,9, -999.000,9, 2226.600,2, -999.000,9
           NA,    P17E,    168,   1,-999.0,      25,  2,19921230,0547, -51.1923, -124.1367,  3643, 1527.200,    2.690,   34.498,2,   34.497,2,  176.500,2,  178.100,2,   69.970,2,   34.200,2,    0.000,2,    2.370,2, -999.000,9, -999.000,9, -999.000,9, 2241.200,2, -999.000,9
           NA,    P17E,    168,   1,-999.0,      26,  2,19921230,0547, -51.1923, -124.1367,  3643, 1722.200,    2.484,   34.579,2,   34.578,2,  173.400,2,  171.600,2,   79.020,2,   34.080,2,    0.000,2,    2.360,2, -999.000,9, -999.000,9, -999.000,9, 2251.700,2, -999.000,9
           NA,    P17E,    168,   1,-999.0,      27,  2,19921230,0547, -51.1923, -124.1367,  3643, 1913.900,    2.361,   34.634,2,   34.632,2,  172.900,2,  171.300,2,   84.280,2,   33.560,2,    0.000,2,    2.320,2, -999.000,9, -999.000,9, -999.000,9, 2256.300,2, -999.000,9
           NA,    P17E,    168,   1,-999.0,      28,  2,19921230,0547, -51.1923, -124.1367,  3643, 2109.700,    2.244,   34.674,2,   34.673,2,  175.300,2,  174.700,2,   87.650,2,   32.930,2,    0.000,2,    2.280,2, -999.000,9, -999.000,9, -999.000,9, 2254.100,2, -999.000,9
           NA,    P17E,    168,   1,-999.0,      29,  2,19921230,0547, -51.1923, -124.1367,  3643, 2308.900,    2.122,   34.703,2,   34.702,2,  177.900,2,  178.800,2,   90.810,2,   32.360,2,    0.000,2,    2.240,2, -999.000,9, -999.000,9, -999.000,9, 2255.200,2, -999.000,9
           NA,    P17E,    168,   1,-999.0,      30,  2,19921230,0547, -51.1923, -124.1367,  3643, 2511.600,    1.984,   34.717,2,   34.717,2,  180.000,2,  182.200,2,   95.240,2,   32.020,2,    0.000,2,    2.220,2, -999.000,9, -999.000,9, -999.000,9, 2256.900,2, -999.000,9
           NA,    P17E,    168,   1,-999.0,      31,  2,19921230,0547, -51.1923, -124.1367,  3643, 2716.800,    1.819,   34.718,2,   34.718,2,  180.900,2,  182.100,2,  103.510,2,   32.360,2,    0.000,2,    2.240,2, -999.000,9, -999.000,9, -999.000,9, 2263.400,2, -999.000,9
           NA,    P17E,    168,   1,-999.0,      32,  2,19921230,0547, -51.1923, -124.1367,  3643, 2919.500,    1.670,   34.717,2,   34.716,2,  182.600,2,  183.700,2,  109.040,2,   32.470,2,    0.000,2,    2.260,2, -999.000,9, -999.000,9, -999.000,9, 2266.300,2, -999.000,9
           NA,    P17E,    168,   1,-999.0,      33,  2,19921230,0547, -51.1923, -124.1367,  3643, 3129.700,    1.544,   34.715,2,   34.716,2,  184.300,2,  186.600,2,  112.240,2,   32.520,2,    0.000,2,    2.260,2, -999.000,9, -999.000,9, -999.000,9, 2270.900,2, -999.000,9
           NA,    P17E,    168,   1,-999.0,      34,  2,19921230,0547, -51.1923, -124.1367,  3643, 3367.500,    1.410,   34.711,2,   34.711,2,  186.400,2,  188.100,2,  117.370,2,   32.860,2,    0.000,2,    2.270,2, -999.000,9, -999.000,9, -999.000,9, 2274.800,2, -999.000,9
           NA,    P17E,    168,   1,-999.0,      35,  4,19921230,0547, -51.1923, -124.1367,  3643, 3367.500,    1.410,   34.711,2, -999.000,2,  186.400,2, -999.000,2, -999.000,2, -999.000,2, -999.000,2, -999.000,2, -999.000,9, -999.000,9, -999.000,9, -999.000,2, -999.000,9
           NA,    P17E,    168,   1,-999.0,      36,  2,19921230,0547, -51.1923, -124.1367,  3643, 3739.000,    1.370,   34.713,2,   34.712,2,  191.000,2,  190.000,2,  118.420,2,   32.800,2,    0.000,2,    2.260,2, -999.000,9, -999.000,9, -999.000,9, 2271.600,2, -999.000,9