BOTTLE,20215010JOAExport
EXPOCODE,SECT_ID,STNNBR,CASTNO,SAMPNO,BTLNBR,BTLNBR_FLAG_W,DATE,TIME,LATITUDE,LONGITUDE,DEPTH,CTDPRS,CTDTMP,CTDSAL,CTDSAL_FLAG_W,SALNTY,SALNTY_FLAG_W,CTDOXY,CTDOXY_FLAG_W,OXYGEN,OXYGEN_FLAG_W,SILCAT,SILCAT_FLAG_W,NITRAT,NITRAT_FLAG_W,NITRIT,NITRIT_FLAG_W,PHSPHT,PHSPHT_FLAG_W,CFC-11,CFC-11_FLAG_W,CFC-12,CFC-12_FLAG_W,SF6,SF6_FLAG_W,TCARBN,TCARBN_FLAG_W,ALKALI,ALKALI_FLAG_W
,,,,,,,,,,,,DB,ITS-90,PSS-78,,PSS-78,,UMOL/KG,,UMOL/KG,,UMOL/KG,,UMOL/KG,,UMOL/KG,,UMOL/KG,,PMOL/KG,,PMOL/KG,,PMOL/KG,,UMOL/KG,,UMOL/KG
           NA,    P19C,    238,   1,-999.0,      52,  2,19930224,0350, -53.1995,  -75.4942,  2010,    3.200,   10.587,   33.589,2,   33.588,2,  286.200,2,  281.200,2,    1.800,2,    8.490,2,    0.190,2,    0.850,2,    3.644,2,    1.800,2, -999.000,9, 2026.500,2, -999.000,9
           NA,    P19C,    238,   1,-999.0,      51,  2,19930224,0350, -53.1995,  -75.4942,  2010,   12.200,   10.474,   33.616,2,   33.599,2,  279.800,2,  280.300,2,    1.800,2,    8.720,2,    0.190,2,    0.850,2, -999.000,9, -999.000,9, -999.000,9, 2029.300,2, -999.000,9
           NA,    P19C,    238,   1,-999.0,       2,  2,19930224,0350, -53.1995,  -75.4942,  2010,   38.200,    9.483,   33.809,2,   33.792,2,  258.300,2,  273.800,2,    2.100,2,   12.370,2,    0.160,2,    1.050,2,    3.803,2,    1.878,2, -999.000,9, -999.000,9, -999.000,9
           NA,    P19C,    238,   1,-999.0,      31,  2,19930224,0350, -53.1995,  -75.4942,  2010,   38.300,    9.544,   33.796,2,   33.795,2,  267.900,2,  273.600,2,    2.100,2,   12.410,2,    0.160,2,    1.050,2, -999.000,9, -999.000,9, -999.000,9, 2054.100,2, -999.000,9
           NA,    P19C,    238,   1,-999.0,      76,  2,19930224,0350, -53.1995,  -75.4942,  2010,   63.000,    8.837,   33.909,2,   33.916,2,  263.300,2,  263.400,2,    2.500,2,   15.580,2,    0.160,2,    1.230,2, -999.000,9, -999.000,9, -999.000,9, 2078.100,2, -999.000,9
           NA,    P19C,    238,   1,-999.0,      30,  2,19930224,0350, -53.1995,  -75.4942,  2010,   87.600,    8.075,   33.966,2,   33.962,2,  239.200,2,  245.400,2,    4.100,2,   18.240,2,    0.070,2,    1.410,2,    3.682,2,    1.785,2, -999.000,9, 2103.400,2, -999.000,9
           NA,    P19C,    238,   1,-999.0,      74,  2,19930224,0350, -53.1995,  -75.4942,  2010,  110.700,    7.624,   34.030,2,   34.028,2,  225.800,2,  234.400,2,    5.400,2,   20.420,2,    0.020,2,    1.540,2, -999.000,9, -999.000,9, -999.000,9, 2118.300,2, -999.000,9
           NA,    P19C,    238,   1,-999.0,      73,  2,19930224,0350, -53.1995,  -75.4942,  2010,  134.600,    7.214,   34.058,2,   34.058,2,  223.700,2,  228.500,2,    6.500,2,   21.910,2,    0.010,2,    1.630,2,    3.701,2,    1.761,2, -999.000,9, 2128.300,2, -999.000,9
           NA,    P19C,    238,   1,-999.0,      72,  2,19930224,0350, -53.1995,  -75.4942,  2010,  160.900,    6.890,   34.084,2,   34.085,2,  235.000,2,  229.100,2,    7.400,2,   22.840,2,    0.010,2,    1.680,2,    3.665,2,    1.740,2, -999.000,9, 2133.000,2, -999.000,9
           NA,    P19C,    238,   1,-999.0,      70,  2,19930224,0350, -53.1995,  -75.4942,  2010,  179.500,    7.106,   34.156,2,   34.149,2,  223.700,2,  201.900,2,    8.800,2,   24.790,2,    0.010,2,    1.820,2,    3.219,2,    1.509,2, -999.000,9, -999.000,9, -999.000,9
           NA,    P19C,    238,   1,-999.0,      71,  2,19930224,0350, -53.1995,  -75.4942,  2010,  179.900,    7.062,   34.162,2,   34.153,2,  219.500,2,  200.600,2,    8.800,2,   24.930,2,    0.010,2,    1.830,2, -999.000,9, -999.000,9, -999.000,9, 2153.100,2, -999.000,9
           NA,    P19C,    238,   1,-999.0,      36,  2,19930224,0350, -53.1995,  -75.4942,  2010,  229.300,    6.233,   34.144,2,   34.147,2,  212.000,2,  237.900,2,    8.100,2,   23.820,2,    0.010,2,    1.700,2, -999.000,9, -999.000,9, -999.000,9, 2138.700,2, -999.000,9
           NA,    P19C,    238,   1,-999.0,      28,  2,19930224,0350, -53.1995,  -75.4942,  2010,  279.300,    5.741,   34.173,2,   34.172,2,  242.600,2,  255.700,2,    8.300,2,   23.590,2,    0.010,2,    1.670,2,    3.744,2,    1.776,2, -999.000,9, 2133.400,2, -999.000,9
           NA,    P19C,    238,   1,-999.0,      35,  2,19930224,0350, -53.1995,  -75.4942,  2010,  330.000,    5.438,   34.193,2,   34.195,2,  258.500,2,  267.900,2,    8.800,2,   23.270,2,    0.010,2,    1.640,2,    3.908,2,    1.846,2, -999.000,9, 2130.500,2, -999.000,9
           NA,    P19C,    238,   1,-999.0,      34,  2,19930224,0350, -53.1995,  -75.4942,  2010,  380.100,    5.390,   34.211,2,   34.212,2,  259.800,2,  268.000,2,    9.500,2,   23.420,2,    0.010,2,    1.640,2, -999.000,9, -999.000,9, -999.000,9, -999.000,9, -999.000,9
           NA,    P19C,    238,   1,-999.0,      68,  2,19930224,0350, -53.1995,  -75.4942,  2010,  381.000,    5.390,   34.211,2,   34.212,2,  259.800,2,  268.100,2,    9.500,2,   23.460,2,    0.010,2,    1.650,2,    3.806,2,    1.801,2, -999.000,9, 2132.900,2, -999.000,9
           NA,    P19C,    238,   1,-999.0,      67,  2,19930224,0350, -53.1995,  -75.4942,  2010,  479.900,    5.206,   34.224,2,   34.225,2,  265.500,2,  270.700,2,   10.800,2,   23.840,2,    0.010,2,    1.660,2,    3.631,2,    1.696,2, -999.000,9, 2133.100,2, -999.000,9
           NA,    P19C,    238,   1,-999.0,      33,  2,19930224,0350, -53.1995,  -75.4942,  2010,  579.000,    5.045,   34.223,2,   34.224,2,  271.600,2,  271.300,2,   11.500,2,   24.170,2,    0.010,2,    1.680,2,    3.097,2,    1.446,2, -999.000,9, 2133.900,2, -999.000,9
           NA,    P19C,    238,   1,-999.0,      66,  2,19930224,0350, -53.1995,  -75.4942,  2010,  678.800,    4.816,   34.221,2,   34.222,2,  270.100,2,  268.500,2,   13.500,2,   25.010,2,    0.000,2,    1.740,2,    3.321,2,    1.539,2, -999.000,9, 2141.800,2, -999.000,9
           NA,    P19C,    238,   1,-999.0,      32,  2,19930224,0350, -53.1995,  -75.4942,  2010,  778.600,    4.439,   34.224,2,   34.224,2,  257.500,2,  254.000,2,   18.600,2,   27.020,2,    0.000,2,    1.880,2,    2.593,2,    1.200,2, -999.000,9, 2153.600,2, -999.000,9
           NA,    P19C,    238,   1,-999.0,      65,  2,19930224,0350, -53.1995,  -75.4942,  2010,  879.100,    4.089,   34.248,2,   34.248,2,  234.700,2,  233.600,2,   26.000,2,   29.180,2,    0.000,2,    2.040,2,    1.863,2,    0.851,2, -999.000,9, 2173.000,2, -999.000,9
           NA,    P19C,    238,   1,-999.0,      64,  2,19930224,0350, -53.1995,  -75.4942,  2010,  978.300,    3.691,   34.281,2,   34.281,2,  219.800,2,  216.700,2,   35.100,2,   31.120,2,    0.000,2,    2.170,2,    1.267,2,    0.564,2, -999.000,9, 2189.400,2, -999.000,9
           NA,    P19C,    238,   1,-999.0,      63,  2,19930224,0350, -53.1995,  -75.4942,  2010, 1177.000,    3.117,   34.387,2,   34.387,2,  181.800,2,  183.300,2,   55.100,2,   33.920,2,    0.000,2,    2.360,2, -999.000,9, -999.000,9, -999.000,9, 2225.000,2, -999.000,9
           NA,    P19C,    238,   1,-999.0,      62,  2,19930224,0350, -53.1995,  -75.4942,  2010, 1177.300,    3.117,   34.387,2,   34.387,2,  181.800,2,  183.200,2,   55.300,2,   33.970,2,    0.000,2,    2.360,2,    0.388,2,    0.175,2, -999.000,9, -999.000,9, -999.000,9
           NA,    P19C,    238,   1,-999.0,      61,  2,19930224,0350, -53.1995,  -75.4942,  2010, 1377.400,    2.853,   34.485,2,   34.486,2,  158.300,2,  156.300,2,   73.300,2,   35.650,2,    0.000,2,    2.500,2, -999.000,3, -999.000,3, -999.000,9, 2257.800,2, -999.000,9
           NA,    P19C,    238,   1,-999.0,      59,  2,19930224,0350, -53.1995,  -75.4942,  2010, 1579.100,    2.609,   34.553,2,   34.553,2,  149.900,2,  150.000,2,   85.400,2,   35.700,2,    0.000,2,    2.510,2, -999.000,9, -999.000,9, -999.000,9, 2270.000,2, -999.000,9
           NA,    P19C,    238,   1,-999.0,      58,  2,19930224,0350, -53.1995,  -75.4942,  2010, 1579.300,    2.609,   34.553,2,   34.553,2,  149.900,2,  150.000,2,   85.400,2,   35.760,2,    0.000,2,    2.510,2, -999.000,9, -999.000,9, -999.000,9, -999.000,9, -999.000,9
           NA,    P19C,    238,   1,-999.0,      60,  2,19930224,0350, -53.1995,  -75.4942,  2010, 1579.800,    2.610,   34.553,2,   34.552,2,  149.700,2,  150.100,2,   85.200,2,   35.650,2,    0.000,2,    2.510,2,    0.051,2,    0.000,2, -999.000,9, -999.000,9, -999.000,9
           NA,    P19C,    238,   1,-999.0,      57,  2,19930224,0350, -53.1995,  -75.4942,  2010, 1781.500,    2.405,   34.601,2,   34.601,2,  146.400,2,  147.700,2,   96.400,2,   35.660,2,    0.000,2,    2.510,2, -999.000,9, -999.000,9, -999.000,9, 2285.000,2, -999.000,9
           NA,    P19C,    238,   1,-999.0,      55,  2,19930224,0350, -53.1995,  -75.4942,  2010, 1781.900,    2.405,   34.601,2,   34.602,2,  146.400,2,  147.500,2,   96.500,2,   35.630,2,    0.000,2,    2.520,2, -999.000,9, -999.000,9, -999.000,9, 2283.200,2, -999.000,9
           NA,    P19C,    238,   1,-999.0,      56,  2,19930224,0350, -53.1995,  -75.4942,  2010, 1782.000,    2.404,   34.601,2,   34.601,2,  146.400,2,  147.500,2,   96.500,2,   35.670,2,    0.000,2,    2.510,2,    0.016,2,    0.000,2, -999.000,9, -999.000,9, -999.000,9
           NA,    P19C,    238,   1,-999.0,      29,  2,19930224,0350, -53.1995,  -75.4942,  2010, 1903.000,    2.250,   34.629,2,   34.629,2,  147.800,2,  148.600,2,  102.900,2,   35.440,2,    0.000,2,    2.490,2,    0.001,2,    0.000,2, -999.000,9, 2288.900,2, -999.000,9
           NA,    P19C,    238,   1,-999.0,      53,  2,19930224,0350, -53.1995,  -75.4942,  2010, 2014.300,    2.112,   34.647,2,   34.649,2,  148.900,2,  149.000,2,  109.500,2,   35.300,2,    0.000,2,    2.490,2,   -0.004,2,    0.000,2, -999.000,9, 2295.400,2, -999.000,9
           NA,    P19C,    237,   1,-999.0,      51,  2,19930224,0034, -53.1388,  -75.1852,  1829,    2.200,    9.738,   33.822,2,   33.820,2,  284.200,2,  281.300,2,    1.900,2,   12.600,2,    0.170,2,    1.040,2, -999.000,9, -999.000,9, -999.000,9, -999.000,9, -999.000,9
           NA,    P19C,    237,   1,-999.0,      52,  2,19930224,0034, -53.1388,  -75.1852,  1829,    2.200,    9.736,   33.822,2,   33.820,2,  283.800,2,  281.500,2,    1.900,2,   12.560,2,    0.170,2,    1.030,2, -999.000,9, -999.000,9, -999.000,9, 2055.200,2, -999.000,9
           NA,    P19C,    237,   1,-999.0,      31,  2,19930224,0034, -53.1388,  -75.1852,  1829,   29.300,    9.264,   33.895,2,   33.894,2,  287.100,2,  285.700,2,    1.900,2,   13.310,2,    0.110,2,    1.060,2, -999.000,9, -999.000,9, -999.000,9, -999.000,9, -999.000,9
           NA,    P19C,    237,   1,-999.0,       2,  2,19930224,0034, -53.1388,  -75.1852,  1829,   53.700,    9.141,   33.898,2,   33.897,2,  274.700,2,  279.400,2,    1.800,2,   13.840,2,    0.140,2,    1.100,2, -999.000,9, -999.000,9, -999.000,9, -999.000,9, -999.000,9
           NA,    P19C,    237,   1,-999.0,      76,  2,19930224,0034, -53.1388,  -75.1852,  1829,   78.800,    8.621,   33.952,2,   33.947,2,  262.600,2,  271.600,2,    2.500,2,   15.650,2,    0.210,2,    1.210,2, -999.000,9, -999.000,9, -999.000,9, -999.000,9, -999.000,9
           NA,    P19C,    237,   1,-999.0,      30,  2,19930224,0034, -53.1388,  -75.1852,  1829,  103.200,    7.017,   34.030,2,   34.026,2,  256.900,2, -999.000,9,    5.300,2,   20.360,2,    0.210,2,    1.520,2, -999.000,9, -999.000,9, -999.000,9, -999.000,9, -999.000,9
           NA,    P19C,    237,   1,-999.0,      74,  2,19930224,0034, -53.1388,  -75.1852,  1829,  103.700,    7.011,   34.031,2,   34.029,2,  256.800,2,  252.800,2,    5.200,2,   20.510,2,    0.210,2,    1.530,2, -999.000,9, -999.000,9, -999.000,9, -999.000,9, -999.000,9
           NA,    P19C,    237,   1,-999.0,      73,  2,19930224,0034, -53.1388,  -75.1852,  1829,  129.200,    6.677,   34.071,2,   34.073,2,  246.100,2,  244.800,2,    6.700,2,   22.190,2,    0.010,2,    1.620,2, -999.000,9, -999.000,9, -999.000,9, -999.000,9, -999.000,9
           NA,    P19C,    237,   1,-999.0,      72,  2,19930224,0034, -53.1388,  -75.1852,  1829,  154.300,    6.469,   34.111,2,   34.111,2,  241.000,2,  240.400,2,    7.200,2,   23.070,2,    0.010,2,    1.670,2, -999.000,9, -999.000,9, -999.000,9, -999.000,9, -999.000,9
           NA,    P19C,    237,   1,-999.0,      71,  2,19930224,0034, -53.1388,  -75.1852,  1829,  179.900,    6.238,   34.133,2,   34.127,2,  246.000,2,  246.700,2,    7.400,2,   23.110,2,    0.030,2,    1.670,2, -999.000,9, -999.000,9, -999.000,9, -999.000,9, -999.000,9
           NA,    P19C,    237,   1,-999.0,      70,  2,19930224,0034, -53.1388,  -75.1852,  1829,  204.700,    6.030,   34.139,2,   34.137,2,  229.300,2,  255.100,2,    7.600,2,   23.030,2,    0.020,2,    1.650,2, -999.000,9, -999.000,9, -999.000,9, -999.000,9, -999.000,9
           NA,    P19C,    237,   1,-999.0,      36,  2,19930224,0034, -53.1388,  -75.1852,  1829,  255.700,    5.644,   34.166,2,   34.167,2,  253.200,2,  264.900,2,    8.100,2,   22.950,2,    0.010,2,    1.630,2, -999.000,9, -999.000,9, -999.000,9, -999.000,9, -999.000,9
           NA,    P19C,    237,   1,-999.0,      28,  2,19930224,0034, -53.1388,  -75.1852,  1829,  305.600,    5.476,   34.190,2,   34.190,2,  270.200,2,  269.900,2,    8.600,2,   22.910,2,    0.010,2,    1.600,2, -999.000,9, -999.000,9, -999.000,9, -999.000,9, -999.000,9
           NA,    P19C,    237,   1,-999.0,      35,  2,19930224,0034, -53.1388,  -75.1852,  1829,  356.100,    5.314,   34.199,2,   34.199,2,  279.700,2,  277.600,2,    9.000,2,   22.730,2,    0.010,2,    1.610,2, -999.000,9, -999.000,9, -999.000,9, -999.000,9, -999.000,9
           NA,    P19C,    237,   1,-999.0,      68,  2,19930224,0034, -53.1388,  -75.1852,  1829,  406.300,    5.239,   34.212,2,   34.213,2,  271.300,2,  276.200,2,    9.900,2,   23.250,2,    0.010,2,    1.630,2, -999.000,9, -999.000,9, -999.000,9, -999.000,9, -999.000,9
           NA,    P19C,    237,   1,-999.0,      34,  2,19930224,0034, -53.1388,  -75.1852,  1829,  456.300,    5.166,   34.214,2,   34.215,2,  272.000,2, -999.000,9,   10.400,2,   23.300,2,    0.010,2,    1.640,2, -999.000,9, -999.000,9, -999.000,9, -999.000,9, -999.000,9
           NA,    P19C,    237,   1,-999.0,      67,  2,19930224,0034, -53.1388,  -75.1852,  1829,  506.200,    5.103,   34.216,2,   34.216,2,  277.400,2,  277.400,2,   10.600,2,   23.590,2,    0.010,2,    1.650,2, -999.000,9, -999.000,9, -999.000,9, -999.000,9, -999.000,9
           NA,    P19C,    237,   1,-999.0,      33,  2,19930224,0034, -53.1388,  -75.1852,  1829,  556.500,    5.031,   34.218,2,   34.218,2,  273.100,2,  275.700,2,   11.100,2,   23.870,2,    0.000,2,    1.650,2, -999.000,9, -999.000,9, -999.000,9, -999.000,9, -999.000,9
           NA,    P19C,    237,   1,-999.0,      32,  2,19930224,0034, -53.1388,  -75.1852,  1829,  606.100,    4.928,   34.217,2,   34.218,2,  270.500,2, -999.000,9,   12.200,2,   24.210,2,    0.000,2,    1.680,2, -999.000,9, -999.000,9, -999.000,9, -999.000,9, -999.000,9
           NA,    P19C,    237,   1,-999.0,      63,  2,19930224,0034, -53.1388,  -75.1852,  1829,  606.300,    4.928,   34.218,2,   34.217,2,  270.400,2,  274.100,2,   12.100,2,   24.270,2,    0.000,2,    1.700,2, -999.000,9, -999.000,9, -999.000,9, -999.000,9, -999.000,9
           NA,    P19C,    237,   1,-999.0,      64,  2,19930224,0034, -53.1388,  -75.1852,  1829,  606.600,    4.929,   34.218,2,   34.218,2,  270.400,2, -999.000,9,   12.100,2,   24.270,2,    0.000,2,    1.690,2, -999.000,9, -999.000,9, -999.000,9, -999.000,9, -999.000,9
           NA,    P19C,    237,   1,-999.0,      65,  2,19930224,0034, -53.1388,  -75.1852,  1829,  606.600,    4.929,   34.218,2,   34.218,2,  270.400,2, -999.000,9,   12.100,2,   24.310,2,    0.000,2,    1.690,2, -999.000,9, -999.000,9, -999.000,9, -999.000,9, -999.000,9
           NA,    P19C,    237,   1,-999.0,      66,  2,19930224,0034, -53.1388,  -75.1852,  1829,  606.900,    4.928,   34.217,2,   34.218,2,  270.400,2, -999.000,9,   12.200,2,   24.210,2,    0.000,2,    1.680,2, -999.000,9, -999.000,9, -999.000,9, -999.000,9, -999.000,9
           NA,    P19C,    237,   1,-999.0,      62,  2,19930224,0034, -53.1388,  -75.1852,  1829,  706.700,    4.626,   34.217,2,   34.217,2,  266.100,2,  264.800,9,   15.400,2,   25.780,2,    0.000,2,    1.800,2, -999.000,9, -999.000,9, -999.000,9, -999.000,9, -999.000,9
           NA,    P19C,    237,   1,-999.0,      61,  2,19930224,0034, -53.1388,  -75.1852,  1829,  807.400,    4.260,   34.229,2,   34.227,2,  248.700,2,  247.600,2,   21.400,2,   27.900,2,    0.000,2,    1.940,2, -999.000,9, -999.000,9, -999.000,9, -999.000,9, -999.000,9
           NA,    P19C,    237,   1,-999.0,      60,  2,19930224,0034, -53.1388,  -75.1852,  1829,  907.900,    3.921,   34.258,2,   34.259,2,  228.700,2,  229.900,2,   28.500,2,   29.980,2,    0.000,2,    2.090,2, -999.000,9, -999.000,9, -999.000,9, -999.000,9, -999.000,9
           NA,    P19C,    237,   1,-999.0,      59,  2,19930224,0034, -53.1388,  -75.1852,  1829, 1009.600,    3.553,   34.299,2,   34.295,2,  214.400,2,  210.700,2,   38.000,2,   31.840,2,    0.000,2,    2.220,2, -999.000,9, -999.000,9, -999.000,9, -999.000,9, -999.000,9
           NA,    P19C,    237,   1,-999.0,      58,  2,19930224,0034, -53.1388,  -75.1852,  1829, 1162.000,    3.137,   34.387,2,   34.384,2,  182.900,2,  182.500,2,   54.600,2,   34.090,2,    0.000,2,    2.370,2, -999.000,9, -999.000,9, -999.000,9, -999.000,9, -999.000,9
           NA,    P19C,    237,   1,-999.0,      57,  2,19930224,0034, -53.1388,  -75.1852,  1829, 1312.200,    2.846,   34.459,2,   34.460,2,  168.200,2,  167.900,2,   67.700,2,   35.050,2,    0.000,2,    2.440,2, -999.000,9, -999.000,9, -999.000,9, -999.000,9, -999.000,9
           NA,    P19C,    237,   1,-999.0,      56,  2,19930224,0034, -53.1388,  -75.1852,  1829, 1414.900,    2.728,   34.503,2,   34.504,2,  159.200,2,  159.900,2,   75.000,2,   35.400,2,    0.000,2,    2.470,2, -999.000,9, -999.000,9, -999.000,9, -999.000,9, -999.000,9
           NA,    P19C,    237,   1,-999.0,      55,  2,19930224,0034, -53.1388,  -75.1852,  1829, 1514.800,    2.644,   34.537,2,   34.537,2,  153.500,2,  153.600,2,   81.800,2,   35.690,2,    0.000,2,    2.510,2, -999.000,9, -999.000,9, -999.000,9, -999.000,9, -999.000,9
           NA,    P19C,    237,   1,-999.0,      29,  2,19930224,0034, -53.1388,  -75.1852,  1829, 1716.400,    2.423,   34.596,2,   34.595,2,  148.200,2,  148.200,2,   94.500,2,   35.550,2,    0.000,2,    2.500,2, -999.000,9, -999.000,9, -999.000,9, -999.000,9, -999.000,9
           NA,    P19C,    237,   1,-999.0,      53,  2,19930224,0034, -53.1388,  -75.1852,  1829, 1820.100,    2.308,   34.618,2,   34.617,2,  146.900,2,  147.500,2,  100.300,2,   35.660,2,    0.000,2,    2.490,2, -999.000,9, -999.000,9, -999.000,9, -999.000,9, -999.000,9