BOTTLE,20215010JOAExport
EXPOCODE,SECT_ID,STNNBR,CASTNO,SAMPNO,BTLNBR,BTLNBR_FLAG_W,DATE,TIME,LATITUDE,LONGITUDE,DEPTH,CTDPRS,CTDTMP,CTDSAL,CTDSAL_FLAG_W,SALNTY,SALNTY_FLAG_W,CTDOXY,CTDOXY_FLAG_W,OXYGEN,OXYGEN_FLAG_W,SILCAT,SILCAT_FLAG_W,NITRAT,NITRAT_FLAG_W,NITRIT,NITRIT_FLAG_W,PHSPHT,PHSPHT_FLAG_W,CFC-11,CFC-11_FLAG_W,CFC-12,CFC-12_FLAG_W,SF6,SF6_FLAG_W,TCARBN,TCARBN_FLAG_W,ALKALI,ALKALI_FLAG_W
,,,,,,,,,,,,DB,ITS-90,PSS-78,,PSS-78,,UMOL/KG,,UMOL/KG,,UMOL/KG,,UMOL/KG,,UMOL/KG,,UMOL/KG,,PMOL/KG,,PMOL/KG,,PMOL/KG,,UMOL/KG,,UMOL/KG
           NA,    P17E,    181,   1,-999.0,       1,  2,19930102,0408, -52.0272, -113.4667,  3583,    3.900,    8.066,   34.331,2,   34.332,2, -999.000,3,  290.700,2,    1.840,2,   13.440,2,    0.180,2,    1.060,2,    4.196,2,    2.015,2, -999.000,9, 2084.200,2, -999.000,9
           NA,    P17E,    181,   1,-999.0,       2,  2,19930102,0408, -52.0272, -113.4667,  3583,   26.500,    8.072,   34.330,2,   34.331,2, -999.000,3,  291.600,2,    1.830,2,   13.380,2,    0.180,2,    1.060,2, -999.000,9, -999.000,9, -999.000,9, -999.000,9, -999.000,9
           NA,    P17E,    181,   1,-999.0,       3,  2,19930102,0408, -52.0272, -113.4667,  3583,   46.100,    8.071,   34.331,2,   34.331,2, -999.000,3,  291.900,2,    1.820,2,   13.380,2,    0.180,2,    1.060,2,    4.209,2,    2.018,2, -999.000,9, -999.000,9, -999.000,9
           NA,    P17E,    181,   1,-999.0,       4,  2,19930102,0408, -52.0272, -113.4667,  3583,   75.500,    7.718,   34.335,2,   34.335,2, -999.000,3,  290.600,2,    1.810,2,   14.090,2,    0.200,2,    1.120,2, -999.000,9, -999.000,9, -999.000,9, -999.000,9, -999.000,9
           NA,    P17E,    181,   1,-999.0,       5,  2,19930102,0408, -52.0272, -113.4667,  3583,  105.700,    7.383,   34.333,2,   34.333,2,  285.400,2,  290.600,2,    2.010,2,   14.820,2,    0.190,2,    1.180,2,    4.275,2,    2.080,2, -999.000,9, -999.000,9, -999.000,9
           NA,    P17E,    181,   1,-999.0,       6,  2,19930102,0408, -52.0272, -113.4667,  3583,  134.900,    7.196,   34.359,2,   34.360,2,  284.900,2,  281.900,2,    4.330,2,   16.310,2,    0.210,2,    1.270,2, -999.000,9, -999.000,9, -999.000,9, -999.000,9, -999.000,9
           NA,    P17E,    181,   1,-999.0,       7,  2,19930102,0408, -52.0272, -113.4667,  3583,  164.600,    7.022,   34.356,2,   34.356,2,  280.800,2,  280.100,2,    5.170,2,   17.310,2,    0.160,2,    1.300,2,    4.142,2,    2.011,2, -999.000,9, -999.000,9, -999.000,9
           NA,    P17E,    181,   1,-999.0,       8,  2,19930102,0408, -52.0272, -113.4667,  3583,  202.800,    6.892,   34.350,2,   34.352,2,  277.800,2,  281.300,2,    5.800,2,   17.750,2,    0.060,2,    1.310,2, -999.000,9, -999.000,9, -999.000,9, -999.000,9, -999.000,9
           NA,    P17E,    181,   1,-999.0,       9,  2,19930102,0408, -52.0272, -113.4667,  3583,  242.300,    6.857,   34.355,2,   34.355,2,  278.600,2,  277.500,2,    6.420,2,   18.340,2,    0.030,2,    1.350,2,    3.939,2,    1.920,2, -999.000,9, -999.000,9, -999.000,9
           NA,    P17E,    181,   1,-999.0,      10,  2,19930102,0408, -52.0272, -113.4667,  3583,  283.200,    6.746,   34.341,2,   34.342,2,  281.500,2,  280.200,2,    6.200,2,   18.350,2,    0.020,2,    1.340,2, -999.000,9, -999.000,9, -999.000,9, -999.000,9, -999.000,9
           NA,    P17E,    181,   1,-999.0,      11,  2,19930102,0408, -52.0272, -113.4667,  3583,  333.700,    6.748,   34.351,2,   34.348,2,  277.400,2,  276.900,2,    6.610,2,   18.920,2,    0.010,2,    1.390,2,    3.850,2,    1.871,2, -999.000,9, -999.000,9, -999.000,9
           NA,    P17E,    181,   1,-999.0,      12,  2,19930102,0408, -52.0272, -113.4667,  3583,  383.100,    6.586,   34.331,2,   34.332,2,  277.800,2,  279.100,2,    6.600,2,   18.980,2,    0.010,2,    1.390,2, -999.000,9, -999.000,9, -999.000,9, -999.000,9, -999.000,9
           NA,    P17E,    181,   1,-999.0,      13,  2,19930102,0408, -52.0272, -113.4667,  3583,  450.200,    6.499,   34.330,2,   34.330,2,  270.600,2,  279.100,2,    7.020,2,   19.480,2,    0.010,2,    1.410,2,    3.909,2,    1.897,2, -999.000,9, -999.000,9, -999.000,9
           NA,    P17E,    181,   1,-999.0,      14,  2,19930102,0408, -52.0272, -113.4667,  3583,  522.900,    6.248,   34.306,2,   34.311,2,  266.700,2,  267.800,2,    8.700,2,   21.160,2,    0.010,2,    1.530,2,    3.511,2,    1.680,2, -999.000,9, -999.000,9, -999.000,9
           NA,    P17E,    181,   1,-999.0,      15,  2,19930102,0408, -52.0272, -113.4667,  3583,  596.700,    5.931,   34.284,2,   34.284,2,  256.000,2,  257.700,2,   11.020,2,   23.020,2,    0.010,2,    1.630,2,    3.098,2,    1.487,2, -999.000,9, -999.000,9, -999.000,9
           NA,    P17E,    181,   1,-999.0,      16,  2,19930102,0408, -52.0272, -113.4667,  3583,  669.600,    5.529,   34.267,2,   34.269,2,  251.900,2,  249.400,2,   14.180,2,   24.600,2,    0.010,2,    1.740,2,    2.792,2,    1.305,2, -999.000,9, -999.000,9, -999.000,9
           NA,    P17E,    181,   1,-999.0,      17,  2,19930102,0408, -52.0272, -113.4667,  3583,  717.600,    5.296,   34.267,2,   34.268,2,  246.200,2,  244.600,2,   16.280,2,   25.560,2,    0.000,2,    1.800,2,    2.525,2,    1.175,2, -999.000,9, -999.000,9, -999.000,9
           NA,    P17E,    181,   1,-999.0,      18,  2,19930102,0408, -52.0272, -113.4667,  3583,  763.000,    5.225,   34.284,2,   34.285,2,  238.300,2,  234.300,2,   19.010,2,   26.640,2,    0.000,2,    1.860,2,    2.154,2,    1.005,2, -999.000,9, -999.000,9, -999.000,9
           NA,    P17E,    181,   1,-999.0,      19,  2,19930102,0408, -52.0272, -113.4667,  3583,  834.100,    4.877,   34.292,2,   34.293,2,  227.800,2,  224.900,2,   23.650,2,   28.220,2,    0.000,2,    1.960,2,    1.791,2,    0.821,2, -999.000,9, -999.000,9, -999.000,9
           NA,    P17E,    181,   1,-999.0,      20,  2,19930102,0408, -52.0272, -113.4667,  3583,  927.800,    4.418,   34.298,2,   34.298,2,  217.800,2,  218.200,2,   29.550,2,   29.640,2,    0.000,2,    2.060,2,    1.534,2,    0.701,2, -999.000,9, -999.000,9, -999.000,9
           NA,    P17E,    181,   1,-999.0,      21,  2,19930102,0408, -52.0272, -113.4667,  3583, 1066.000,    3.787,   34.320,2,   34.320,2,  207.600,2,  209.800,2,   38.620,2,   31.290,2,    0.000,2,    2.190,2,    1.214,2,    0.561,2, -999.000,9, -999.000,9, -999.000,9
           NA,    P17E,    181,   1,-999.0,      22,  2,19930102,0408, -52.0272, -113.4667,  3583, 1202.700,    3.238,   34.362,2,   34.361,2,  196.500,2,  199.000,2,   49.370,2,   32.780,2,    0.000,2,    2.280,2,    0.864,2,    0.402,2, -999.000,9, -999.000,9, -999.000,9
           NA,    P17E,    181,   1,-999.0,      23,  2,19930102,0408, -52.0272, -113.4667,  3583, 1347.500,    2.892,   34.429,2,   34.429,2,  185.500,2,  186.500,2,   60.770,2,   33.700,2,    0.000,2,    2.380,2,    0.544,2,    0.252,2, -999.000,9, -999.000,9, -999.000,9
           NA,    P17E,    181,   1,-999.0,      24,  2,19930102,0408, -52.0272, -113.4667,  3583, 1543.400,    2.599,   34.515,2,   34.514,2,  175.900,2,  176.200,2,   71.110,2,   34.150,2,    0.000,2,    2.390,2,    0.312,2,    0.149,2, -999.000,9, -999.000,9, -999.000,9
           NA,    P17E,    181,   1,-999.0,      25,  2,19930102,0408, -52.0272, -113.4667,  3583, 1745.800,    2.444,   34.596,2,   34.596,2,  171.900,2,  170.400,2,   81.460,2,   33.810,2,    0.000,2,    2.360,2,    0.109,2,    0.056,2, -999.000,9, -999.000,9, -999.000,9
           NA,    P17E,    181,   1,-999.0,      27,  2,19930102,0408, -52.0272, -113.4667,  3583, 1935.500,    2.307,   34.645,2,   34.646,2,  172.300,2,  172.700,2,   84.810,2,   33.190,2,    0.000,2,    2.320,2,    0.090,2,    0.042,2, -999.000,9, -999.000,9, -999.000,9
           NA,    P17E,    181,   1,-999.0,      26,  2,19930102,0408, -52.0272, -113.4667,  3583, 1936.100,    2.306,   34.646,2,   34.646,2,  172.400,2,  172.300,2,   84.830,2,   33.180,2,    0.000,2,    2.320,2,    0.088,2,    0.043,2, -999.000,9, -999.000,9, -999.000,9
           NA,    P17E,    181,   1,-999.0,      28,  2,19930102,0408, -52.0272, -113.4667,  3583, 2132.800,    2.197,   34.678,2,   34.678,2,  173.500,2,  173.600,2,   90.510,2,   32.900,2,    0.000,2,    2.300,2,    0.042,2,    0.020,2, -999.000,9, -999.000,9, -999.000,9
           NA,    P17E,    181,   1,-999.0,      29,  2,19930102,0408, -52.0272, -113.4667,  3583, 2341.900,    2.047,   34.695,2,   34.695,2,  174.400,2,  173.700,2,   98.790,2,   32.730,2,    0.000,2,    2.290,2, -999.000,5,    0.011,2, -999.000,9, -999.000,9, -999.000,9
           NA,    P17E,    181,   1,-999.0,      30,  2,19930102,0408, -52.0272, -113.4667,  3583, 2544.900,    1.898,   34.704,2,   34.705,2,  176.200,2,  175.600,2,  104.530,2,   32.680,2,    0.000,2,    2.310,2,    0.009,2,    0.007,2, -999.000,9, -999.000,9, -999.000,9
           NA,    P17E,    181,   1,-999.0,      31,  2,19930102,0408, -52.0272, -113.4667,  3583, 2743.100,    1.731,   34.707,2,   34.708,2,  178.100,2,  178.600,2,  109.850,2,   32.620,2,    0.000,2,    2.310,2,    0.006,2,    0.002,2, -999.000,9, -999.000,9, -999.000,9
           NA,    P17E,    181,   1,-999.0,      32,  2,19930102,0408, -52.0272, -113.4667,  3583, 2942.400,    1.647,   34.709,2,   34.709,2,  180.400,2,  181.000,2,  111.970,2,   32.570,2,    0.000,2,    2.300,2,    0.005,2,    0.002,2, -999.000,9, -999.000,9, -999.000,9
           NA,    P17E,    181,   1,-999.0,      33,  2,19930102,0408, -52.0272, -113.4667,  3583, 3147.400,    1.597,   34.713,2,   34.713,2,  183.700,2,  184.400,2,  112.370,2,   32.460,2,    0.000,2,    2.280,2,    0.005,2,    0.004,2, -999.000,9, -999.000,9, -999.000,9
           NA,    P17E,    181,   1,-999.0,      34,  2,19930102,0408, -52.0272, -113.4667,  3583, 3358.800,    1.542,   34.716,2,   34.716,2,  187.100,2,  188.200,2,  113.200,2,   32.400,2,    0.000,2,    2.260,2, -999.000,5,    0.007,2, -999.000,9, -999.000,9, -999.000,9
           NA,    P17E,    181,   1,-999.0,      35,  2,19930102,0408, -52.0272, -113.4667,  3583, 3522.100,    1.457,   34.717,2,   34.718,2,  190.100,2,  190.700,2,  114.880,2,   32.290,2,    0.000,2,    2.240,2,    0.007,6,    0.005,6, -999.000,9, -999.000,9, -999.000,9
           NA,    P17E,    181,   1,-999.0,      36,  2,19930102,0408, -52.0272, -113.4667,  3583, 3640.000,    1.440,   34.717,2,   34.718,2,  191.900,2,  191.600,2,  115.500,2,   32.120,2,    0.000,2,    2.260,2,    0.009,2,    0.008,2, -999.000,9, -999.000,9, -999.000,9