BOTTLE,20215010JOAExport
EXPOCODE,SECT_ID,STNNBR,CASTNO,SAMPNO,BTLNBR,BTLNBR_FLAG_W,DATE,TIME,LATITUDE,LONGITUDE,DEPTH,CTDPRS,CTDTMP,CTDSAL,CTDSAL_FLAG_W,SALNTY,SALNTY_FLAG_W,CTDOXY,CTDOXY_FLAG_W,OXYGEN,OXYGEN_FLAG_W,SILCAT,SILCAT_FLAG_W,NITRAT,NITRAT_FLAG_W,NITRIT,NITRIT_FLAG_W,PHSPHT,PHSPHT_FLAG_W,CFC-11,CFC-11_FLAG_W,CFC-12,CFC-12_FLAG_W,SF6,SF6_FLAG_W,TCARBN,TCARBN_FLAG_W,ALKALI,ALKALI_FLAG_W
,,,,,,,,,,,,DB,ITS-90,PSS-78,,PSS-78,,UMOL/KG,,UMOL/KG,,UMOL/KG,,UMOL/KG,,UMOL/KG,,UMOL/KG,,PMOL/KG,,PMOL/KG,,PMOL/KG,,UMOL/KG,,UMOL/KG
           NA,    P17E,    202,   1,-999.0,       1,  2,19930108,1823, -53.6722,  -92.3830,  4910,    3.500,    7.770,   34.240,2,   34.241,2, -999.000,3,  289.800,2,    2.090,2,   14.960,2,    0.180,2,    1.150,2, -999.000,9, -999.000,9, -999.000,9, 2091.400,2, -999.000,9
           NA,    P17E,    202,   1,-999.0,       2,  2,19930108,1823, -53.6722,  -92.3830,  4910,   26.400,    7.709,   34.239,2,   34.240,2, -999.000,3,  291.700,2,    2.070,2,   15.010,2,    0.180,2,    1.160,2, -999.000,9, -999.000,9, -999.000,9, 2089.600,2, -999.000,9
           NA,    P17E,    202,   1,-999.0,       3,  2,19930108,1823, -53.6722,  -92.3830,  4910,   55.900,    7.671,   34.240,2,   34.240,2, -999.000,3,  291.200,2,    1.870,2,   15.020,2,    0.180,2,    1.150,2, -999.000,9, -999.000,9, -999.000,9, 2090.800,2, -999.000,9
           NA,    P17E,    202,   1,-999.0,       4,  2,19930108,1823, -53.6722,  -92.3830,  4910,   81.500,    7.308,   34.250,2,   34.248,2, -999.000,3,  290.700,2,    2.780,2,   15.440,2,    0.180,2,    1.210,2, -999.000,9, -999.000,9, -999.000,9, 2095.900,2, -999.000,9
           NA,    P17E,    202,   1,-999.0,       5,  2,19930108,1823, -53.6722,  -92.3830,  4910,  107.000,    6.230,   34.255,2,   34.255,2, -999.000,3,  289.200,2,    6.300,2,   18.180,2,    0.260,2,    1.390,2, -999.000,9, -999.000,9, -999.000,9, 2110.300,2, -999.000,9
           NA,    P17E,    202,   1,-999.0,       6,  2,19930108,1823, -53.6722,  -92.3830,  4910,  132.000,    6.096,   34.260,2,   34.261,2, -999.000,3,  289.600,2,    6.850,2,   18.820,2,    0.180,2,    1.400,2, -999.000,9, -999.000,9, -999.000,9, 2114.300,2, -999.000,9
           NA,    P17E,    202,   1,-999.0,       7,  2,19930108,1823, -53.6722,  -92.3830,  4910,  177.600,    6.004,   34.257,2,   34.257,2, -999.000,3,  289.900,2,    7.010,2,   19.240,2,    0.150,2,    1.410,2, -999.000,9, -999.000,9, -999.000,9, 2113.600,2, -999.000,9
           NA,    P17E,    202,   1,-999.0,       8,  2,19930108,1823, -53.6722,  -92.3830,  4910,  206.500,    5.995,   34.260,2,   34.262,2,  291.000,2,  289.600,2,    7.000,2,   19.380,2,    0.110,2,    1.410,2, -999.000,9, -999.000,9, -999.000,9, 2117.400,2, -999.000,9
           NA,    P17E,    202,   1,-999.0,       9,  2,19930108,1823, -53.6722,  -92.3830,  4910,  257.000,    5.933,   34.257,2,   34.259,2,  290.700,2,  287.300,2,    7.350,2,   19.760,2,    0.020,2,    1.430,2, -999.000,9, -999.000,9, -999.000,9, 2115.700,2, -999.000,9
           NA,    P17E,    202,   1,-999.0,      10,  2,19930108,1823, -53.6722,  -92.3830,  4910,  307.400,    5.834,   34.246,2,   34.247,2,  287.500,2, -999.000,3,    6.960,2,   19.770,2,    0.010,2,    1.430,2, -999.000,9, -999.000,9, -999.000,9, 2112.000,2, -999.000,9
           NA,    P17E,    202,   1,-999.0,      11,  2,19930108,1823, -53.6722,  -92.3830,  4910,  383.100,    5.767,   34.245,2,   34.247,2,  291.000,2,  285.200,2,    7.690,2,   20.350,2,    0.010,2,    1.460,2, -999.000,9, -999.000,9, -999.000,9, 2116.700,2, -999.000,9
           NA,    P17E,    202,   1,-999.0,      12,  2,19930108,1823, -53.6722,  -92.3830,  4910,  456.800,    5.584,   34.230,2,   34.232,2,  274.100,2,  283.900,2,    8.420,2,   21.210,2,    0.010,2,    1.510,2, -999.000,9, -999.000,9, -999.000,9, 2121.300,2, -999.000,9
           NA,    P17E,    202,   1,-999.0,      13,  2,19930108,1823, -53.6722,  -92.3830,  4910,  528.900,    5.429,   34.226,2,   34.227,2,  266.700,2,  278.100,2,    9.700,2,   22.270,2,    0.010,2,    1.560,2, -999.000,9, -999.000,9, -999.000,9, 2123.700,2, -999.000,9
           NA,    P17E,    202,   1,-999.0,      14,  2,19930108,1823, -53.6722,  -92.3830,  4910,  598.900,    5.256,   34.230,2,   34.232,2,  261.600,2,  262.200,2,   13.230,2,   24.190,2,    0.010,2,    1.690,2, -999.000,9, -999.000,9, -999.000,9, 2137.000,2, -999.000,9
           NA,    P17E,    202,   1,-999.0,      15,  2,19930108,1823, -53.6722,  -92.3830,  4910,  673.300,    5.029,   34.242,2,   34.242,2,  247.400,2,  247.000,2,   16.940,2,   25.880,2,    0.010,2,    1.820,2, -999.000,9, -999.000,9, -999.000,9, 2151.900,2, -999.000,9
           NA,    P17E,    202,   1,-999.0,      16,  2,19930108,1823, -53.6722,  -92.3830,  4910,  747.700,    4.716,   34.246,2,   34.246,2,  236.000,2,  242.100,2,   19.910,2,   27.100,2,    0.000,2,    1.880,2, -999.000,9, -999.000,9, -999.000,9, 2155.500,2, -999.000,9
           NA,    P17E,    202,   1,-999.0,      17,  2,19930108,1823, -53.6722,  -92.3830,  4910,  822.600,    4.410,   34.258,2,   34.257,2,  224.500,2,  231.600,2,   24.750,2,   28.410,2,    0.000,2,    1.980,2, -999.000,9, -999.000,9, -999.000,9, 2165.900,2, -999.000,9
           NA,    P17E,    202,   1,-999.0,      18,  2,19930108,1823, -53.6722,  -92.3830,  4910,  897.400,    4.059,   34.278,2,   34.277,2,  218.200,2,  221.400,2,   30.700,2,   29.920,2,    0.000,2,    2.070,2, -999.000,9, -999.000,9, -999.000,9, 2181.200,2, -999.000,9
           NA,    P17E,    202,   1,-999.0,      19,  2,19930108,1823, -53.6722,  -92.3830,  4910, 1047.500,    3.403,   34.304,2,   34.303,2,  209.400,2,  212.400,2,   40.580,2,   31.530,2,    0.000,2,    2.190,2, -999.000,9, -999.000,9, -999.000,9, 2197.900,2, -999.000,9
           NA,    P17E,    202,   1,-999.0,      20,  2,19930108,1823, -53.6722,  -92.3830,  4910, 1299.800,    2.828,   34.414,2,   34.412,2,  185.900,2,  189.300,2,   58.500,2,   33.440,2,    0.000,2,    2.330,2, -999.000,9, -999.000,9, -999.000,9, 2223.900,2, -999.000,9
           NA,    P17E,    202,   1,-999.0,      21,  2,19930108,1823, -53.6722,  -92.3830,  4910, 1528.100,    2.556,   34.515,2,   34.513,2,  174.000,2,  175.700,2,   71.030,2,   33.930,2,    0.000,2,    2.360,2, -999.000,9, -999.000,9, -999.000,9, 2245.200,2, -999.000,9
           NA,    P17E,    202,   1,-999.0,      22,  2,19930108,1823, -53.6722,  -92.3830,  4910, 1755.600,    2.408,   34.599,2,   34.598,2,  170.400,2,  170.100,2,   80.400,2,   33.550,2,    0.000,2,    2.340,2, -999.000,9, -999.000,9, -999.000,9, 2254.700,2, -999.000,9
           NA,    P17E,    202,   1,-999.0,      23,  2,19930108,1823, -53.6722,  -92.3830,  4910, 1985.500,    2.262,   34.657,2,   34.655,2,  173.400,2,  174.000,2,   86.410,2,   32.910,2,    0.000,2,    2.290,2, -999.000,9, -999.000,9, -999.000,9, 2259.200,2, -999.000,9
           NA,    P17E,    202,   1,-999.0,      24,  2,19930108,1823, -53.6722,  -92.3830,  4910, 2214.200,    2.119,   34.687,2,   34.686,2,  172.400,2,  172.700,2,   93.570,2,   32.530,2,    0.000,2,    2.270,2, -999.000,9, -999.000,9, -999.000,9, 2264.600,2, -999.000,9
           NA,    P17E,    202,   1,-999.0,      25,  2,19930108,1823, -53.6722,  -92.3830,  4910, 2444.000,    1.958,   34.702,2,   34.701,2,  175.700,2,  175.700,2,   99.440,2,   32.440,2,    0.000,2,    2.270,2, -999.000,9, -999.000,9, -999.000,9, 2267.200,2, -999.000,9
           NA,    P17E,    202,   1,-999.0,      26,  2,19930108,1823, -53.6722,  -92.3830,  4910, 2674.300,    1.819,   34.715,2,   34.714,2,  183.800,2,  180.800,2,  101.510,2,   32.000,2,    0.000,2,    2.230,2, -999.000,9, -999.000,9, -999.000,9, 2265.900,2, -999.000,9
           NA,    P17E,    202,   1,-999.0,      27,  2,19930108,1823, -53.6722,  -92.3830,  4910, 2904.100,    1.661,   34.715,2,   34.718,2,  184.900,2,  182.900,2,  107.800,2,   32.100,2,    0.000,2,    2.250,2, -999.000,9, -999.000,9, -999.000,9, 2267.800,2, -999.000,9
           NA,    P17E,    202,   1,-999.0,      28,  2,19930108,1823, -53.6722,  -92.3830,  4910, 3133.100,    1.536,   34.720,2,   34.719,2,  190.600,2,  188.300,2,  109.130,2,   31.960,2,    0.000,2,    2.220,2,    0.006,2,    0.003,2, -999.000,9, 2263.500,2, -999.000,9
           NA,    P17E,    202,   1,-999.0,      29,  2,19930108,1823, -53.6722,  -92.3830,  4910, 3390.500,    1.364,   34.719,2,   34.718,2,  195.800,2,  193.200,2,  113.530,2,   31.870,2,    0.000,2,    2.210,2, -999.000,9, -999.000,9, -999.000,9, 2260.300,2, -999.000,9
           NA,    P17E,    202,   1,-999.0,      30,  2,19930108,1823, -53.6722,  -92.3830,  4910, 3644.700,    1.151,   34.716,2,   34.715,2,  199.800,2,  198.200,2,  118.920,2,   31.930,2,    0.000,2,    2.210,2, -999.000,9, -999.000,9, -999.000,9, 2261.400,2, -999.000,9
           NA,    P17E,    202,   1,-999.0,      31,  2,19930108,1823, -53.6722,  -92.3830,  4910, 3898.900,    0.932,   34.712,2,   34.712,2,  203.200,2,  202.500,2,  125.130,2,   32.030,2,    0.000,2,    2.230,2,    0.002,2,    0.001,2, -999.000,9, 2261.900,2, -999.000,9
           NA,    P17E,    202,   1,-999.0,      32,  2,19930108,1823, -53.6722,  -92.3830,  4910, 4157.100,    0.747,   34.708,2,   34.709,2,  206.000,2,  206.300,2,  130.400,2,   32.130,2,    0.000,2,    2.230,2,    0.005,2,    0.001,2, -999.000,9, 2262.600,2, -999.000,9
           NA,    P17E,    202,   1,-999.0,      33,  2,19930108,1823, -53.6722,  -92.3830,  4910, 4417.000,    0.666,   34.707,2,   34.706,2,  208.100,2,  208.700,2,  133.350,2,   32.340,2,    0.000,2,    2.240,2,    0.006,2,    0.004,2, -999.000,9, 2264.600,2, -999.000,9
           NA,    P17E,    202,   1,-999.0,      34,  2,19930108,1823, -53.6722,  -92.3830,  4910, 4672.400,    0.634,   34.706,2,   34.706,2,  209.300,2,  209.500,2,  135.510,2,   32.340,2,    0.000,2,    2.230,2, -999.000,5,    0.006,2, -999.000,9, 2261.200,2, -999.000,9
           NA,    P17E,    202,   1,-999.0,      35,  2,19930108,1823, -53.6722,  -92.3830,  4910, 4879.900,    0.637,   34.706,2,   34.706,2,  209.800,2,  210.100,2,  135.700,2,   32.300,2,    0.000,2,    2.240,2,    0.004,2,    0.007,2, -999.000,9, 2263.100,2, -999.000,9
           NA,    P17E,    202,   1,-999.0,      36,  2,19930108,1823, -53.6722,  -92.3830,  4910, 4998.600,    0.636,   34.706,2,   34.705,2,  208.200,2,  210.100,2,  136.080,2,   32.310,2,    0.000,2,    2.240,2,    0.013,2,    0.005,2, -999.000,9, 2265.500,2, -999.000,9