BOTTLE,20215010JOAExport
EXPOCODE,SECT_ID,STNNBR,CASTNO,SAMPNO,BTLNBR,BTLNBR_FLAG_W,DATE,TIME,LATITUDE,LONGITUDE,DEPTH,CTDPRS,CTDTMP,CTDSAL,CTDSAL_FLAG_W,SALNTY,SALNTY_FLAG_W,CTDOXY,CTDOXY_FLAG_W,OXYGEN,OXYGEN_FLAG_W,SILCAT,SILCAT_FLAG_W,NITRAT,NITRAT_FLAG_W,NITRIT,NITRIT_FLAG_W,PHSPHT,PHSPHT_FLAG_W,CFC-11,CFC-11_FLAG_W,CFC-12,CFC-12_FLAG_W,SF6,SF6_FLAG_W,TCARBN,TCARBN_FLAG_W,ALKALI,ALKALI_FLAG_W
,,,,,,,,,,,,DB,ITS-90,PSS-78,,PSS-78,,UMOL/KG,,UMOL/KG,,UMOL/KG,,UMOL/KG,,UMOL/KG,,UMOL/KG,,PMOL/KG,,PMOL/KG,,PMOL/KG,,UMOL/KG,,UMOL/KG
           NA,    P17E,    175,   1,-999.0,       1,  2,19921231,1855, -51.6537, -118.3757,  2946,    1.700,    7.031,   34.197,2,   34.200,2, -999.000,3,  302.500,2,    1.690,2,   15.880,2,    0.180,2,    1.250,2,    4.534,2,    2.202,2, -999.000,9, 2089.600,2, -999.000,9
           NA,    P17E,    175,   1,-999.0,       2,  2,19921231,1855, -51.6537, -118.3757,  2946,   24.500,    6.726,   34.196,2,   34.199,2, -999.000,3,  304.800,2,    1.620,2,   15.970,2,    0.160,2,    1.220,2, -999.000,9, -999.000,9, -999.000,9, -999.000,9, -999.000,9
           NA,    P17E,    175,   1,-999.0,       3,  2,19921231,1855, -51.6537, -118.3757,  2946,   49.300,    6.651,   34.219,2,   34.217,2, -999.000,3,  305.500,2,    1.340,2,   16.040,2,    0.160,2,    1.240,2, -999.000,3, -999.000,3, -999.000,9, -999.000,9, -999.000,9
           NA,    P17E,    175,   1,-999.0,       4,  2,19921231,1855, -51.6537, -118.3757,  2946,   79.700,    5.847,   34.245,2,   34.249,2, -999.000,3,  295.700,2,    5.410,2,   18.230,2,    0.180,2,    1.460,2, -999.000,9, -999.000,9, -999.000,9, -999.000,9, -999.000,9
           NA,    P17E,    175,   1,-999.0,       5,  2,19921231,1855, -51.6537, -118.3757,  2946,  104.700,    5.938,   34.291,2,   34.291,2,  292.200,2,  287.700,2,    7.200,2,   19.200,2,    0.160,2,    1.470,2, -999.000,3, -999.000,3, -999.000,9, -999.000,9, -999.000,9
           NA,    P17E,    175,   1,-999.0,       6,  2,19921231,1855, -51.6537, -118.3757,  2946,  129.400,    5.956,   34.299,2,   34.302,2,  283.400,2,  284.800,2,    7.960,2,   19.620,2,    0.130,2,    1.470,2, -999.000,9, -999.000,9, -999.000,9, -999.000,9, -999.000,9
           NA,    P17E,    175,   1,-999.0,       7,  2,19921231,1855, -51.6537, -118.3757,  2946,  179.800,    5.778,   34.285,2,   34.286,2,  276.600,2,  282.100,2,    8.510,2,   20.650,2,    0.050,2,    1.520,2,    4.018,2,    1.951,2, -999.000,9, -999.000,9, -999.000,9
           NA,    P17E,    175,   1,-999.0,       8,  2,19921231,1855, -51.6537, -118.3757,  2946,  230.000,    5.505,   34.262,2,   34.262,2,  273.400,2,  271.600,2,   10.510,2,   22.200,2,    0.020,2,    1.610,2, -999.000,9, -999.000,9, -999.000,9, -999.000,9, -999.000,9
           NA,    P17E,    175,   1,-999.0,       9,  2,19921231,1855, -51.6537, -118.3757,  2946,  280.200,    5.274,   34.235,2,   34.235,2,  278.900,2,  280.200,2,   10.440,2,   22.030,2,    0.020,2,    1.610,2,    3.933,2,    1.898,2, -999.000,9, -999.000,9, -999.000,9
           NA,    P17E,    175,   1,-999.0,      10,  2,19921231,1855, -51.6537, -118.3757,  2946,  329.300,    4.997,   34.209,2,   34.210,2,  279.000,2,  281.200,2,   10.790,2,   22.560,2,    0.010,2,    1.630,2, -999.000,3, -999.000,3, -999.000,9, -999.000,9, -999.000,9
           NA,    P17E,    175,   1,-999.0,      11,  2,19921231,1855, -51.6537, -118.3757,  2946,  378.000,    4.766,   34.190,2,   34.197,2,  274.300,2,  273.300,2,   12.790,2,   23.710,2,    0.010,2,    1.710,2,    3.695,2,    1.772,2, -999.000,9, -999.000,9, -999.000,9
           NA,    P17E,    175,   1,-999.0,      12,  2,19921231,1855, -51.6537, -118.3757,  2946,  426.500,    4.489,   34.169,2,   34.170,2,  278.100,2,  279.700,2,   12.510,2,   23.860,2,    0.010,2,    1.710,2, -999.000,3, -999.000,3, -999.000,9, -999.000,9, -999.000,9
           NA,    P17E,    175,   1,-999.0,      13,  2,19921231,1855, -51.6537, -118.3757,  2946,  475.500,    4.383,   34.175,2,   34.175,2,  274.800,2,  271.000,2,   14.730,2,   24.830,2,    0.010,2,    1.780,2,    3.619,2,    1.724,2, -999.000,9, -999.000,9, -999.000,9
           NA,    P17E,    175,   1,-999.0,      14,  2,19921231,1855, -51.6537, -118.3757,  2946,  524.000,    4.134,   34.172,2,   34.171,2,  263.300,2,  261.900,2,   17.980,2,   25.990,2,    0.010,2,    1.870,2,    3.361,2,    1.624,2, -999.000,9, -999.000,9, -999.000,9
           NA,    P17E,    175,   1,-999.0,      15,  2,19921231,1855, -51.6537, -118.3757,  2946,  572.800,    4.116,   34.212,2,   34.213,2,  245.900,2,  246.100,2,   22.280,2,   27.280,2,    0.010,2,    1.960,2,    2.737,2,    1.277,2, -999.000,9, -999.000,9, -999.000,9
           NA,    P17E,    175,   1,-999.0,      16,  2,19921231,1855, -51.6537, -118.3757,  2946,  622.200,    3.972,   34.229,2,   34.229,2,  233.200,2,  239.100,2,   25.540,2,   28.200,2,    0.000,2,    2.010,2, -999.000,3, -999.000,3, -999.000,9, -999.000,9, -999.000,9
           NA,    P17E,    175,   1,-999.0,      17,  2,19921231,1855, -51.6537, -118.3757,  2946,  670.700,    3.892,   34.264,2,   34.266,2,  223.500,2,  225.500,2,   30.670,2,   29.300,2,    0.000,2,    2.090,2,    1.923,2,    0.889,2, -999.000,9, -999.000,9, -999.000,9
           NA,    P17E,    175,   1,-999.0,      18,  2,19921231,1855, -51.6537, -118.3757,  2946,  746.500,    3.593,   34.282,2,   34.281,2,  218.200,2,  220.100,2,   35.600,2,   30.220,2,    0.000,2,    2.160,2,    1.681,2,    0.770,2, -999.000,9, -999.000,9, -999.000,9
           NA,    P17E,    175,   1,-999.0,      19,  2,19921231,1855, -51.6537, -118.3757,  2946,  818.400,    3.438,   34.322,2,   34.322,2,  206.700,2,  209.000,2,   41.780,2,   31.200,2,    0.000,2,    2.220,2, -999.000,9, -999.000,9, -999.000,9, -999.000,9, -999.000,9
           NA,    P17E,    175,   1,-999.0,      20,  2,19921231,1855, -51.6537, -118.3757,  2946,  918.500,    3.059,   34.351,2,   34.350,2,  201.500,2,  203.500,2,   49.000,2,   32.060,2,    0.000,2,    2.290,2,    1.071,2,    0.493,2, -999.000,9, -999.000,9, -999.000,9
           NA,    P17E,    175,   1,-999.0,      21,  2,19921231,1855, -51.6537, -118.3757,  2946, 1012.700,    2.912,   34.412,2,   34.412,2,  194.200,2,  189.500,2,   57.490,2,   32.790,2,    0.000,2,    2.350,2, -999.000,3, -999.000,3, -999.000,9, -999.000,9, -999.000,9
           NA,    P17E,    175,   1,-999.0,      22,  2,19921231,1855, -51.6537, -118.3757,  2946, 1170.200,    2.694,   34.484,2,   34.482,2,  181.600,2,  179.400,2,   67.230,2,   33.210,2,    0.000,2,    2.380,2, -999.000,3, -999.000,3, -999.000,9, -999.000,9, -999.000,9
           NA,    P17E,    175,   1,-999.0,      23,  2,19921231,1855, -51.6537, -118.3757,  2946, 1371.500,    2.467,   34.559,2,   34.558,2,  173.900,2,  174.400,2,   75.120,2,   33.360,2,    0.000,2,    2.380,2,    0.253,2,    0.123,2, -999.000,9, -999.000,9, -999.000,9
           NA,    P17E,    175,   1,-999.0,      24,  2,19921231,1855, -51.6537, -118.3757,  2946, 1570.200,    2.331,   34.624,2,   34.624,2,  172.300,2,  173.400,2,   80.720,2,   32.740,2,    0.000,2,    2.330,2,    0.153,2,    0.075,2, -999.000,9, -999.000,9, -999.000,9
           NA,    P17E,    175,   1,-999.0,      25,  2,19921231,1855, -51.6537, -118.3757,  2946, 1770.100,    2.223,   34.671,2,   34.671,2,  174.400,2,  177.200,2,   86.750,2,   32.120,2,    0.000,2,    2.280,2, -999.000,3, -999.000,3, -999.000,9, -999.000,9, -999.000,9
           NA,    P17E,    175,   1,-999.0,      26,  2,19921231,1855, -51.6537, -118.3757,  2946, 1872.800,    2.149,   34.682,2,   34.681,2,  175.700,2,  173.300,2,   92.160,2,   32.340,2,    0.000,2,    2.300,2,    0.033,2,    0.017,2, -999.000,9, -999.000,9, -999.000,9
           NA,    P17E,    175,   1,-999.0,      27,  2,19921231,1855, -51.6537, -118.3757,  2946, 1944.500,    2.099,   34.692,2,   34.691,2,  176.100,2,  175.200,2,   93.800,2,   32.240,2,    0.000,2,    2.290,2, -999.000,9, -999.000,9, -999.000,9, -999.000,9, -999.000,9
           NA,    P17E,    175,   1,-999.0,      28,  2,19921231,1855, -51.6537, -118.3757,  2946, 2095.100,    1.994,   34.699,2,   34.699,2,  172.300,2,  174.200,2,   99.870,2,   32.390,2,    0.000,2,    2.310,2, -999.000,3, -999.000,3, -999.000,9, -999.000,9, -999.000,9
           NA,    P17E,    175,   1,-999.0,      29,  2,19921231,1855, -51.6537, -118.3757,  2946, 2233.400,    1.897,   34.701,2,   34.701,2,  175.400,2,  173.900,2,  105.120,2,   32.550,2,    0.000,2,    2.320,2, -999.000,3, -999.000,3, -999.000,9, -999.000,9, -999.000,9
           NA,    P17E,    175,   1,-999.0,      30,  2,19921231,1855, -51.6537, -118.3757,  2946, 2380.500,    1.836,   34.711,2,   34.711,2,  177.500,2,  179.500,2,  104.020,2,   32.050,2,    0.000,2,    2.280,2, -999.000,9, -999.000,9, -999.000,9, -999.000,9, -999.000,9
           NA,    P17E,    175,   1,-999.0,      31,  2,19921231,1855, -51.6537, -118.3757,  2946, 2533.000,    1.674,   34.708,2,   34.708,2,  178.000,2,  179.100,2,  110.980,2,   32.400,2,    0.000,2,    2.310,2,    0.003,2,   -0.001,2, -999.000,9, -999.000,9, -999.000,9
           NA,    P17E,    175,   1,-999.0,      32,  2,19921231,1855, -51.6537, -118.3757,  2946, 2584.000,    1.631,   34.706,2,   34.705,2,  178.100,2,  178.000,2,  113.500,2,   32.430,2,    0.000,2,    2.320,2, -999.000,9, -999.000,9, -999.000,9, -999.000,9, -999.000,9
           NA,    P17E,    175,   1,-999.0,      33,  2,19921231,1855, -51.6537, -118.3757,  2946, 2708.300,    1.561,   34.702,2,   34.701,2,  177.200,2,  177.400,2,  117.090,2,   32.720,2,    0.000,2,    2.330,2,   -0.001,2,   -0.001,2, -999.000,9, -999.000,9, -999.000,9
           NA,    P17E,    175,   1,-999.0,      34,  2,19921231,1855, -51.6537, -118.3757,  2946, 2811.900,    1.555,   34.703,2,   34.703,2,  178.500,2,  178.400,2,  117.480,2,   32.610,2,    0.000,2,    2.330,2, -999.000,9, -999.000,9, -999.000,9, -999.000,9, -999.000,9
           NA,    P17E,    175,   1,-999.0,      35,  2,19921231,1855, -51.6537, -118.3757,  2946, 2892.500,    1.545,   34.704,2,   34.704,2,  179.400,2,  179.200,2,  117.020,2,   32.700,2,    0.000,2,    2.330,2,    0.002,2,    0.000,2, -999.000,9, -999.000,9, -999.000,9
           NA,    P17E,    175,   1,-999.0,      36,  2,19921231,1855, -51.6537, -118.3757,  2946, 2978.800,    1.528,   34.705,2,   34.705,2,  180.000,2,  180.700,2,  117.190,2,   32.600,2,    0.000,2,    2.330,2, -999.000,3, -999.000,3, -999.000,9, -999.000,9, -999.000,9
           NA,    P17E,    176,   1,-999.0,       1,  2,19930101,0000, -51.6933, -117.5717,  2730,    3.000,    7.269,   34.329,2,   34.330,2, -999.000,3,  305.000,2,    0.970,2,   15.210,2,    0.170,2,    1.130,2, -999.000,9, -999.000,9, -999.000,9, 2087.000,2, -999.000,9
           NA,    P17E,    176,   1,-999.0,       2,  2,19930101,0000, -51.6933, -117.5717,  2730,   25.700,    7.094,   34.333,2,   34.334,2, -999.000,3,  307.300,2,    0.960,2,   15.270,2,    0.170,2,    1.140,2, -999.000,9, -999.000,9, -999.000,9, -999.000,9, -999.000,9
           NA,    P17E,    176,   1,-999.0,       3,  2,19930101,0000, -51.6933, -117.5717,  2730,   45.600,    6.894,   34.336,2,   34.336,2, -999.000,3,  302.800,2,    0.950,2,   15.560,2,    0.160,2,    1.190,2, -999.000,9, -999.000,9, -999.000,9, -999.000,9, -999.000,9
           NA,    P17E,    176,   1,-999.0,       4,  2,19930101,0000, -51.6933, -117.5717,  2730,   75.300,    6.680,   34.339,2,   34.338,2, -999.000,3,  298.500,2,    0.940,2,   16.140,2,    0.160,2,    1.240,2, -999.000,9, -999.000,9, -999.000,9, -999.000,9, -999.000,9
           NA,    P17E,    176,   1,-999.0,       5,  2,19930101,0000, -51.6933, -117.5717,  2730,  105.600,    6.507,   34.342,2,   34.342,2,  298.000,2,  295.200,2,    2.590,2,   16.660,2,    0.180,2,    1.300,2, -999.000,9, -999.000,9, -999.000,9, -999.000,9, -999.000,9
           NA,    P17E,    176,   1,-999.0,       6,  2,19930101,0000, -51.6933, -117.5717,  2730,  136.000,    6.413,   34.342,2,   34.342,2,  286.100,2,  282.900,2,    5.700,2,   18.600,2,    0.130,2,    1.400,2, -999.000,9, -999.000,9, -999.000,9, -999.000,9, -999.000,9
           NA,    P17E,    176,   1,-999.0,       7,  2,19930101,0000, -51.6933, -117.5717,  2730,  166.300,    6.322,   34.334,2,   34.334,2,  286.400,2,  280.500,2,    6.730,2,   19.340,2,    0.090,2,    1.420,2, -999.000,9, -999.000,9, -999.000,9, -999.000,9, -999.000,9
           NA,    P17E,    176,   1,-999.0,       8,  2,19930101,0000, -51.6933, -117.5717,  2730,  205.700,    6.295,   34.334,2,   34.335,2,  287.000,2,  291.300,2,    5.260,2,   17.790,2,    0.210,2,    1.360,2, -999.000,9, -999.000,9, -999.000,9, -999.000,9, -999.000,9
           NA,    P17E,    176,   1,-999.0,       9,  2,19930101,0000, -51.6933, -117.5717,  2730,  256.300,    6.207,   34.329,2,   34.330,2,  279.100,2,  282.900,2,    7.330,2,   19.650,2,    0.050,2,    1.420,2, -999.000,9, -999.000,9, -999.000,9, -999.000,9, -999.000,9
           NA,    P17E,    176,   1,-999.0,      10,  2,19930101,0000, -51.6933, -117.5717,  2730,  305.900,    6.130,   34.323,2,   34.323,2,  281.200,2,  284.700,2,    7.120,2,   19.790,2,    0.020,2,    1.430,2, -999.000,9, -999.000,9, -999.000,9, -999.000,9, -999.000,9
           NA,    P17E,    176,   1,-999.0,      11,  2,19930101,0000, -51.6933, -117.5717,  2730,  365.400,    6.020,   34.313,2,   34.314,2,  280.400,2,  284.200,2,    7.310,2,   19.900,2,    0.020,2,    1.440,2, -999.000,9, -999.000,9, -999.000,9, -999.000,9, -999.000,9
           NA,    P17E,    176,   1,-999.0,      12,  2,19930101,0000, -51.6933, -117.5717,  2730,  424.900,    5.787,   34.284,2,   34.284,2,  278.900,2,  277.300,2,    8.970,2,   21.320,2,    0.010,2,    1.530,2, -999.000,9, -999.000,9, -999.000,9, -999.000,9, -999.000,9
           NA,    P17E,    176,   1,-999.0,      13,  2,19930101,0000, -51.6933, -117.5717,  2730,  485.200,    5.364,   34.240,2,   34.240,2,  274.500,2,  278.800,2,   10.000,2,   22.310,2,    0.020,2,    1.590,2, -999.000,9, -999.000,9, -999.000,9, -999.000,9, -999.000,9
           NA,    P17E,    176,   1,-999.0,      14,  2,19930101,0000, -51.6933, -117.5717,  2730,  546.700,    4.888,   34.192,2,   34.192,2,  277.100,2,  283.500,2,   10.610,2,   23.080,2,    0.010,2,    1.620,2, -999.000,9, -999.000,9, -999.000,9, -999.000,9, -999.000,9
           NA,    P17E,    176,   1,-999.0,      15,  2,19930101,0000, -51.6933, -117.5717,  2730,  597.100,    4.611,   34.179,2,   34.185,2,  277.500,2,  274.800,2,   12.880,2,   24.440,2,    0.010,2,    1.720,2, -999.000,9, -999.000,9, -999.000,9, -999.000,9, -999.000,9
           NA,    P17E,    176,   1,-999.0,      16,  2,19930101,0000, -51.6933, -117.5717,  2730,  626.900,    4.636,   34.206,2,   34.203,2,  262.900,2,  261.700,2,   15.370,2,   25.620,2,    0.010,2,    1.790,2, -999.000,9, -999.000,9, -999.000,9, -999.000,9, -999.000,9
           NA,    P17E,    176,   1,-999.0,      17,  2,19930101,0000, -51.6933, -117.5717,  2730,  657.000,    4.391,   34.194,2,   34.193,2,  259.600,2,  260.700,2,   16.810,2,   26.140,2,    0.000,2,    1.830,2, -999.000,9, -999.000,9, -999.000,9, -999.000,9, -999.000,9
           NA,    P17E,    176,   1,-999.0,      18,  2,19930101,0000, -51.6933, -117.5717,  2730,  717.400,    4.573,   34.287,2,   34.288,2,  224.800,2,  222.800,2,   25.720,2,   28.930,2,    0.000,2,    2.010,2, -999.000,9, -999.000,9, -999.000,9, -999.000,9, -999.000,9
           NA,    P17E,    176,   1,-999.0,      19,  2,19930101,0000, -51.6933, -117.5717,  2730,  787.600,    4.154,   34.304,2,   34.301,2,  217.400,2,  216.000,2,   31.730,2,   30.230,2,    0.000,2,    2.100,2, -999.000,9, -999.000,9, -999.000,9, -999.000,9, -999.000,9
           NA,    P17E,    176,   1,-999.0,      21,  2,19930101,0000, -51.6933, -117.5717,  2730,  956.500,    3.368,   34.347,2,   34.340,2,  206.600,2,  204.000,2,   44.590,2,   32.370,2,    0.000,2,    2.250,2, -999.000,9, -999.000,9, -999.000,9, -999.000,9, -999.000,9
           NA,    P17E,    176,   1,-999.0,      22,  2,19930101,0000, -51.6933, -117.5717,  2730, 1105.300,    2.984,   34.392,2,   34.392,2,  189.300,2,  193.100,2,   54.760,2,   33.430,2,    0.000,2,    2.330,2, -999.000,9, -999.000,9, -999.000,9, -999.000,9, -999.000,9
           NA,    P17E,    176,   1,-999.0,      23,  2,19930101,0000, -51.6933, -117.5717,  2730, 1202.900,    2.793,   34.433,2,   34.433,2,  183.600,2,  186.000,2,   60.990,2,   33.890,2,    0.000,2,    2.360,2, -999.000,9, -999.000,9, -999.000,9, -999.000,9, -999.000,9
           NA,    P17E,    176,   1,-999.0,      24,  2,19930101,0000, -51.6933, -117.5717,  2730, 1349.400,    2.575,   34.511,2,   34.510,2,  174.600,2,  176.300,2,   70.330,2,   34.410,2,    0.000,2,    2.380,2, -999.000,9, -999.000,9, -999.000,9, -999.000,9, -999.000,9
           NA,    P17E,    176,   1,-999.0,      25,  2,19930101,0000, -51.6933, -117.5717,  2730, 1492.200,    2.439,   34.573,2,   34.573,2,  171.400,2,  172.500,2,   76.570,2,   34.080,2,    0.010,2,    2.370,2, -999.000,9, -999.000,9, -999.000,9, -999.000,9, -999.000,9
           NA,    P17E,    176,   1,-999.0,      26,  2,19930101,0000, -51.6933, -117.5717,  2730, 1642.700,    2.343,   34.622,2,   34.622,2,  172.500,2,  172.400,2,   80.520,2,   33.580,2,    0.010,2,    2.340,2, -999.000,9, -999.000,9, -999.000,9, -999.000,9, -999.000,9
           NA,    P17E,    176,   1,-999.0,      27,  2,19930101,0000, -51.6933, -117.5717,  2730, 1642.800,    2.343,   34.622,2,   34.622,2,  172.500,2,  172.500,2,   80.510,2,   33.560,2,    0.000,2,    2.340,2, -999.000,9, -999.000,9, -999.000,9, -999.000,9, -999.000,9
           NA,    P17E,    176,   1,-999.0,      28,  2,19930101,0000, -51.6933, -117.5717,  2730, 1793.700,    2.253,   34.661,2,   34.660,2,  174.500,2,  174.300,2,   83.840,2,   33.010,2,    0.000,2,    2.290,2, -999.000,9, -999.000,9, -999.000,9, -999.000,9, -999.000,9
           NA,    P17E,    176,   1,-999.0,      29,  2,19930101,0000, -51.6933, -117.5717,  2730, 1948.000,    2.152,   34.690,2, -999.000,3,  178.300,2,  178.000,2,   87.180,2,   32.390,2,    0.000,2,    2.260,2, -999.000,9, -999.000,9, -999.000,9, -999.000,9, -999.000,9
           NA,    P17E,    176,   1,-999.0,      30,  2,19930101,0000, -51.6933, -117.5717,  2730, 2100.000,    2.035,   34.708,2,   34.708,2,  181.400,2,  181.100,2,   90.930,2,   32.020,2,    0.000,2,    2.230,2, -999.000,9, -999.000,9, -999.000,9, -999.000,9, -999.000,9
           NA,    P17E,    176,   1,-999.0,      31,  2,19930101,0000, -51.6933, -117.5717,  2730, 2200.700,    1.930,   34.715,2,   34.715,2,  182.600,2,  182.300,2,   95.330,2,   31.940,2,    0.000,2,    2.230,2, -999.000,9, -999.000,9, -999.000,9, -999.000,9, -999.000,9
           NA,    P17E,    176,   1,-999.0,      32,  2,19930101,0000, -51.6933, -117.5717,  2730, 2298.500,    1.817,   34.718,2,   34.717,2,  183.500,2,  183.400,2,   99.940,2,   32.040,2,    0.000,2,    2.240,2, -999.000,9, -999.000,9, -999.000,9, -999.000,9, -999.000,9
           NA,    P17E,    176,   1,-999.0,      33,  2,19930101,0000, -51.6933, -117.5717,  2730, 2444.800,    1.680,   34.716,2,   34.716,2,  183.500,2,  183.700,2,  106.030,2,   32.320,2,    0.000,2,    2.250,2, -999.000,9, -999.000,9, -999.000,9, -999.000,9, -999.000,9
           NA,    P17E,    176,   1,-999.0,      34,  2,19930101,0000, -51.6933, -117.5717,  2730, 2592.300,    1.581,   34.713,2,   34.713,2,  183.700,2,  183.900,2,  110.880,2,   32.480,2,    0.000,2,    2.270,2, -999.000,9, -999.000,9, -999.000,9, -999.000,9, -999.000,9
           NA,    P17E,    176,   1,-999.0,      35,  2,19930101,0000, -51.6933, -117.5717,  2730, 2669.100,    1.564,   34.713,2,   34.713,2,  184.800,2,  184.500,2,  111.300,2,   32.520,2,    0.000,2,    2.290,2, -999.000,9, -999.000,9, -999.000,9, -999.000,9, -999.000,9
           NA,    P17E,    176,   1,-999.0,      36,  2,19930101,0000, -51.6933, -117.5717,  2730, 2744.900,    1.560,   34.714,2,   34.714,2,  183.700,2,  184.800,2,  111.500,2,   32.450,2,    0.000,2,    2.270,2, -999.000,9, -999.000,9, -999.000,9, -999.000,9, -999.000,9