BOTTLE,20215010JOAExport
EXPOCODE,SECT_ID,STNNBR,CASTNO,SAMPNO,BTLNBR,BTLNBR_FLAG_W,DATE,TIME,LATITUDE,LONGITUDE,DEPTH,CTDPRS,CTDTMP,CTDSAL,CTDSAL_FLAG_W,SALNTY,SALNTY_FLAG_W,CTDOXY,CTDOXY_FLAG_W,OXYGEN,OXYGEN_FLAG_W,SILCAT,SILCAT_FLAG_W,NITRAT,NITRAT_FLAG_W,NITRIT,NITRIT_FLAG_W,PHSPHT,PHSPHT_FLAG_W,CFC-11,CFC-11_FLAG_W,CFC-12,CFC-12_FLAG_W,SF6,SF6_FLAG_W,TCARBN,TCARBN_FLAG_W,ALKALI,ALKALI_FLAG_W
,,,,,,,,,,,,DB,ITS-90,PSS-78,,PSS-78,,UMOL/KG,,UMOL/KG,,UMOL/KG,,UMOL/KG,,UMOL/KG,,UMOL/KG,,PMOL/KG,,PMOL/KG,,PMOL/KG,,UMOL/KG,,UMOL/KG
           NA,    P17E,    171,   1,-999.0,       1,  2,19921230,2155, -51.3693, -121.6768,  3396,    2.500,    7.916,   34.374,2,   34.369,2, -999.000,3,  295.800,2,    1.000,2,   13.320,2,    0.200,2,    1.030,2,    4.221,6,    2.094,6, -999.000,9, 2086.600,2, -999.000,9
           NA,    P17E,    171,   1,-999.0,       2,  2,19921230,2155, -51.3693, -121.6768,  3396,   26.800,    7.838,   34.384,2,   34.380,2, -999.000,3,  297.300,2,    1.000,2,   13.320,2,    0.200,2,    1.030,2, -999.000,9, -999.000,9, -999.000,9, -999.000,9, -999.000,9
           NA,    P17E,    171,   1,-999.0,       3,  2,19921230,2155, -51.3693, -121.6768,  3396,   56.900,    7.557,   34.406,2,   34.408,2, -999.000,3,  294.900,2,    1.000,2,   14.000,2,    0.200,2,    1.100,2,    4.192,2,    2.084,2, -999.000,9, -999.000,9, -999.000,9
           NA,    P17E,    171,   1,-999.0,       4,  2,19921230,2155, -51.3693, -121.6768,  3396,   81.700,    7.454,   34.401,2,   34.401,2, -999.000,3,  293.800,2,    0.990,2,   14.390,2,    0.200,2,    1.120,2, -999.000,9, -999.000,9, -999.000,9, -999.000,9, -999.000,9
           NA,    P17E,    171,   1,-999.0,       5,  2,19921230,2155, -51.3693, -121.6768,  3396,  107.000,    7.280,   34.418,2,   34.416,2,  289.900,2,  282.500,2,    4.100,2,   15.570,2,    0.200,2,    1.230,2,    4.064,2,    2.001,2, -999.000,9, -999.000,9, -999.000,9
           NA,    P17E,    171,   1,-999.0,       6,  2,19921230,2155, -51.3693, -121.6768,  3396,  127.500,    7.195,   34.419,2,   34.420,2,  280.400,2,  277.700,2,    5.540,2,   16.690,2,    0.170,2,    1.270,2, -999.000,9, -999.000,9, -999.000,9, -999.000,9, -999.000,9
           NA,    P17E,    171,   1,-999.0,       7,  2,19921230,2155, -51.3693, -121.6768,  3396,  182.600,    7.099,   34.414,2,   34.414,2,  275.500,2,  276.700,2,    5.750,2,   17.230,2,    0.080,2,    1.280,2,    3.908,2,    1.942,2, -999.000,9, -999.000,9, -999.000,9
           NA,    P17E,    171,   1,-999.0,       8,  2,19921230,2155, -51.3693, -121.6768,  3396,  257.000,    6.937,   34.399,2,   34.398,2,  273.400,2,  274.400,2,    6.160,2,   17.950,2,    0.030,2,    1.320,2, -999.000,9, -999.000,9, -999.000,9, -999.000,9, -999.000,9
           NA,    P17E,    171,   1,-999.0,       9,  2,19921230,2155, -51.3693, -121.6768,  3396,  358.700,    6.752,   34.377,2,   34.377,2,  269.700,2,  272.900,2,    6.980,2,   18.870,2,    0.020,2,    1.370,2,    3.679,2,    1.809,2, -999.000,9, -999.000,9, -999.000,9
           NA,    P17E,    171,   1,-999.0,      10,  2,19921230,2155, -51.3693, -121.6768,  3396,  458.800,    6.406,   34.336,2,   34.337,2,  265.700,2,  271.700,2,    7.810,2,   19.840,2,    0.010,2,    1.440,2,    3.632,2,    1.788,2, -999.000,9, -999.000,9, -999.000,9
           NA,    P17E,    171,   1,-999.0,      11,  2,19921230,2155, -51.3693, -121.6768,  3396,  509.500,    6.243,   34.323,2,   34.321,2,  264.500,2,  266.800,2,    8.630,2,   20.810,2,    0.010,2,    1.500,2, -999.000,9, -999.000,9, -999.000,9, -999.000,9, -999.000,9
           NA,    P17E,    171,   1,-999.0,      12,  2,19921230,2155, -51.3693, -121.6768,  3396,  559.400,    6.012,   34.304,2,   34.306,2,  266.900,2,  270.900,2,    9.250,2,   21.030,2,    0.010,2,    1.510,2,    3.573,2,    1.739,2, -999.000,9, -999.000,9, -999.000,9
           NA,    P17E,    171,   1,-999.0,      13,  2,19921230,2155, -51.3693, -121.6768,  3396,  609.200,    5.708,   34.270,2,   34.274,2,  262.800,2,  264.200,2,   10.690,2,   22.450,2,    0.010,2,    1.600,2,    3.328,2,    1.621,2, -999.000,9, -999.000,9, -999.000,9
           NA,    P17E,    171,   1,-999.0,      14,  2,19921230,2155, -51.3693, -121.6768,  3396,  658.800,    5.551,   34.267,2,   34.269,2,  256.300,2,  254.500,2,   12.760,2,   23.700,2,    0.010,2,    1.680,2,    2.936,2,    1.415,2, -999.000,9, -999.000,9, -999.000,9
           NA,    P17E,    171,   1,-999.0,      15,  2,19921230,2155, -51.3693, -121.6768,  3396,  708.900,    5.221,   34.248,2,   34.248,2,  255.400,2,  252.100,2,   14.620,2,   24.550,2,    0.010,2,    1.730,2,    2.896,2,    1.372,2, -999.000,9, -999.000,9, -999.000,9
           NA,    P17E,    171,   1,-999.0,      16,  2,19921230,2155, -51.3693, -121.6768,  3396,  759.700,    5.077,   34.263,2,   34.268,2,  238.500,2,  240.800,2,   18.130,2,   25.920,2,    0.000,2,    1.830,2,    2.447,2,    1.157,2, -999.000,9, -999.000,9, -999.000,9
           NA,    P17E,    171,   1,-999.0,      17,  2,19921230,2155, -51.3693, -121.6768,  3396,  809.500,    4.953,   34.285,2,   34.288,2,  228.400,2,  228.000,2,   21.650,2,   27.110,2,    0.000,2,    1.930,2,    1.964,2,    0.925,2, -999.000,9, -999.000,9, -999.000,9
           NA,    P17E,    171,   1,-999.0,      18,  2,19921230,2155, -51.3693, -121.6768,  3396,  858.600,    4.799,   34.306,2,   34.306,2,  218.300,2,  218.800,2,   25.580,2,   28.200,2,    0.000,2,    1.970,2,    1.591,2,    0.744,2, -999.000,9, -999.000,9, -999.000,9
           NA,    P17E,    171,   1,-999.0,      19,  2,19921230,2155, -51.3693, -121.6768,  3396,  909.300,    4.580,   34.312,2,   34.313,2,  214.900,2,  214.400,2,   28.680,2,   28.880,2,    0.000,2,    2.020,2,    1.395,2,    0.655,2, -999.000,9, -999.000,9, -999.000,9
           NA,    P17E,    171,   1,-999.0,      20,  2,19921230,2155, -51.3693, -121.6768,  3396, 1010.800,    3.995,   34.323,2,   34.321,2,  209.300,2,  208.500,2,   36.120,2,   30.430,2,    0.000,2,    2.120,2,    1.154,2,    0.540,2, -999.000,9, -999.000,9, -999.000,9
           NA,    P17E,    171,   1,-999.0,      21,  2,19921230,2155, -51.3693, -121.6768,  3396, 1111.700,    3.636,   34.352,2,   34.352,2,  201.500,2,  199.600,2,   43.570,2,   31.630,2,    0.000,2,    2.210,2,    0.774,2,    0.369,2, -999.000,9, -999.000,9, -999.000,9
           NA,    P17E,    171,   1,-999.0,      22,  2,19921230,2155, -51.3693, -121.6768,  3396, 1212.500,    3.309,   34.378,2,   34.377,2,  193.900,2,  195.500,2,   49.770,2,   32.370,2,    0.000,2,    2.260,2,    0.594,2,    0.290,2, -999.000,9, -999.000,9, -999.000,9
           NA,    P17E,    171,   1,-999.0,      23,  2,19921230,2155, -51.3693, -121.6768,  3396, 1313.000,    3.030,   34.424,2,   34.420,2,  186.400,2,  186.000,2,   57.640,2,   33.050,2,    0.000,2,    2.310,2,    0.459,2,    0.222,2, -999.000,9, -999.000,9, -999.000,9
           NA,    P17E,    171,   1,-999.0,      24,  2,19921230,2155, -51.3693, -121.6768,  3396, 1413.800,    2.821,   34.463,2,   34.460,2,  181.100,2,  180.800,2,   63.640,2,   33.390,2,    0.000,2,    2.320,2,    0.419,2,    0.202,2, -999.000,9, -999.000,9, -999.000,9
           NA,    P17E,    171,   1,-999.0,      25,  2,19921230,2155, -51.3693, -121.6768,  3396, 1564.900,    2.609,   34.526,2,   34.526,2,  174.400,2,  174.200,2,   71.920,2,   33.610,2,    0.000,2,    2.350,2,    0.269,2,    0.130,2, -999.000,9, -999.000,9, -999.000,9
           NA,    P17E,    171,   1,-999.0,      27,  4,19921230,2155, -51.3693, -121.6768,  3396, 1716.800,    2.473,   34.582,2, -999.000,2,  170.900,2, -999.000,2, -999.000,2, -999.000,2, -999.000,2, -999.000,2, -999.000,2, -999.000,2, -999.000,9, -999.000,9, -999.000,9
           NA,    P17E,    171,   1,-999.0,      26,  2,19921230,2155, -51.3693, -121.6768,  3396, 1716.800,    2.473,   34.582,2,   34.582,2,  170.900,2,  171.500,2,   77.930,2,   33.420,2,    0.000,2,    2.340,2,    0.168,6,    0.085,6, -999.000,9, -999.000,9, -999.000,9
           NA,    P17E,    171,   1,-999.0,      28,  2,19921230,2155, -51.3693, -121.6768,  3396, 2021.000,    2.274,   34.662,2,   34.663,2,  171.600,2,  172.700,2,   85.390,2,   32.640,2,    0.000,2,    2.260,2,    0.068,2,    0.032,2, -999.000,9, -999.000,9, -999.000,9
           NA,    P17E,    171,   1,-999.0,      29,  2,19921230,2155, -51.3693, -121.6768,  3396, 2224.700,    2.160,   34.690,2,   34.691,2,  174.000,2,  175.300,2,   89.960,2,   32.170,2,    0.000,2,    2.240,2,    0.033,2,    0.017,2, -999.000,9, -999.000,9, -999.000,9
           NA,    P17E,    171,   1,-999.0,      30,  2,19921230,2155, -51.3693, -121.6768,  3396, 2428.900,    1.982,   34.700,2,   34.702,2,  176.300,2,  173.700,2,  100.810,2,   32.390,2,    0.000,2,    2.260,2,    0.012,2,    0.006,2, -999.000,9, -999.000,9, -999.000,9
           NA,    P17E,    171,   1,-999.0,      31,  2,19921230,2155, -51.3693, -121.6768,  3396, 2582.700,    1.887,   34.706,2,   34.707,2,  172.700,2,  174.900,2,  103.520,2,   32.260,2,    0.000,2,    2.250,2, -999.000,9, -999.000,9, -999.000,9, -999.000,9, -999.000,9
           NA,    P17E,    171,   1,-999.0,      32,  2,19921230,2155, -51.3693, -121.6768,  3396, 2786.800,    1.731,   34.707,2,   34.708,2,  176.900,2,  177.000,2,  109.180,2,   32.370,2,    0.000,2,    2.260,2,    0.002,2,    0.002,2, -999.000,9, -999.000,9, -999.000,9
           NA,    P17E,    171,   1,-999.0,      33,  2,19921230,2155, -51.3693, -121.6768,  3396, 2988.800,    1.601,   34.709,2,   34.709,2,  179.500,2,  179.900,2,  112.120,2,   32.360,2,    0.000,2,    2.260,2, -999.000,9, -999.000,9, -999.000,9, -999.000,9, -999.000,9
           NA,    P17E,    171,   1,-999.0,      34,  2,19921230,2155, -51.3693, -121.6768,  3396, 3191.400,    1.484,   34.708,2,   34.709,2,  183.800,2,  183.800,2,  115.060,2,   32.340,2,    0.000,2,    2.250,2, -999.000,5,    0.003,2, -999.000,9, -999.000,9, -999.000,9
           NA,    P17E,    171,   1,-999.0,      35,  2,19921230,2155, -51.3693, -121.6768,  3396, 3345.300,    1.418,   34.710,2,   34.710,2,  185.800,2,  185.400,2,  116.730,2,   32.330,2,    0.000,2,    2.240,2,    0.000,2,    0.003,2, -999.000,9, -999.000,9, -999.000,9
           NA,    P17E,    171,   1,-999.0,      36,  2,19921230,2155, -51.3693, -121.6768,  3396, 3449.700,    1.416,   34.710,2,   34.710,2,  185.700,2,  186.000,2,  116.710,2,   32.260,2,    0.000,2,    2.250,2,    0.000,2,    0.001,2, -999.000,9, -999.000,9, -999.000,9