BOTTLE,20215010JOAExport
EXPOCODE,SECT_ID,STNNBR,CASTNO,SAMPNO,BTLNBR,BTLNBR_FLAG_W,DATE,TIME,LATITUDE,LONGITUDE,DEPTH,CTDPRS,CTDTMP,CTDSAL,CTDSAL_FLAG_W,SALNTY,SALNTY_FLAG_W,CTDOXY,CTDOXY_FLAG_W,OXYGEN,OXYGEN_FLAG_W,SILCAT,SILCAT_FLAG_W,NITRAT,NITRAT_FLAG_W,NITRIT,NITRIT_FLAG_W,PHSPHT,PHSPHT_FLAG_W,CFC-11,CFC-11_FLAG_W,CFC-12,CFC-12_FLAG_W,SF6,SF6_FLAG_W,TCARBN,TCARBN_FLAG_W,ALKALI,ALKALI_FLAG_W
,,,,,,,,,,,,DB,ITS-90,PSS-78,,PSS-78,,UMOL/KG,,UMOL/KG,,UMOL/KG,,UMOL/KG,,UMOL/KG,,UMOL/KG,,PMOL/KG,,PMOL/KG,,PMOL/KG,,UMOL/KG,,UMOL/KG
           NA,    P17E,    167,   1,-999.0,       1,  2,19921229,0009, -51.1152, -124.9780,  3616,    2.900,    7.706,   34.387,2,   34.387,2, -999.000,3,  301.700,2,    1.240,2,   13.720,2,    0.190,2,    1.080,2,    4.280,2,    2.103,2, -999.000,9, 2083.600,2, -999.000,9
           NA,    P17E,    167,   1,-999.0,       2,  2,19921229,0009, -51.1152, -124.9780,  3616,   25.600,    7.604,   34.388,2,   34.386,2, -999.000,3,  302.800,2,    1.210,2,   13.730,2,    0.190,2,    1.080,2, -999.000,9, -999.000,9, -999.000,9, -999.000,9, -999.000,9
           NA,    P17E,    167,   1,-999.0,       3,  2,19921229,0009, -51.1152, -124.9780,  3616,   56.100,    7.365,   34.392,2,   34.392,2, -999.000,3,  296.200,2,    1.190,2,   14.280,2,    0.190,2,    1.140,2,    4.245,2,    2.104,2, -999.000,9, -999.000,9, -999.000,9
           NA,    P17E,    167,   1,-999.0,       4,  2,19921229,0009, -51.1152, -124.9780,  3616,   80.300,    7.213,   34.391,2,   34.390,2, -999.000,3,  292.500,2,    1.570,2,   14.810,2,    0.200,2,    1.180,2, -999.000,9, -999.000,9, -999.000,9, -999.000,9, -999.000,9
           NA,    P17E,    167,   1,-999.0,       5,  2,19921229,0009, -51.1152, -124.9780,  3616,  106.000,    7.059,   34.390,2,   34.387,2,  292.700,2,  291.200,2,    2.370,2,   15.300,2,    0.210,2,    1.200,2,    4.190,2,    2.063,2, -999.000,9, -999.000,9, -999.000,9
           NA,    P17E,    167,   1,-999.0,       6,  2,19921229,0009, -51.1152, -124.9780,  3616,  135.900,    7.007,   34.397,2,   34.395,2,  285.100,2,  285.400,2,    4.200,2,   16.000,2,    0.210,2,    1.270,2, -999.000,9, -999.000,9, -999.000,9, -999.000,9, -999.000,9
           NA,    P17E,    167,   1,-999.0,       7,  2,19921229,0009, -51.1152, -124.9780,  3616,  165.700,    6.915,   34.392,2,   34.391,2,  283.700,2,  285.400,2,    5.200,2,   16.360,2,    0.240,2,    1.290,2,    4.144,2,    2.040,2, -999.000,9, -999.000,9, -999.000,9
           NA,    P17E,    167,   1,-999.0,       8,  2,19921229,0009, -51.1152, -124.9780,  3616,  205.800,    6.863,   34.391,2,   34.390,2,  280.600,2,  283.000,2,    5.590,2,   16.810,2,    0.240,2,    1.310,2, -999.000,9, -999.000,9, -999.000,9, -999.000,9, -999.000,9
           NA,    P17E,    167,   1,-999.0,       9,  2,19921229,0009, -51.1152, -124.9780,  3616,  245.000,    6.777,   34.381,2,   34.381,2,  281.600,2,  283.800,2,    6.390,2,   17.110,2,    0.220,2,    1.330,2,    4.085,2,    2.001,2, -999.000,9, -999.000,9, -999.000,9
           NA,    P17E,    167,   1,-999.0,      10,  2,19921229,0009, -51.1152, -124.9780,  3616,  295.100,    6.665,   34.369,2,   34.369,2,  275.300,2,  272.000,2,    7.390,2,   19.030,2,    0.030,2,    1.420,2, -999.000,9, -999.000,9, -999.000,9, -999.000,9, -999.000,9
           NA,    P17E,    167,   1,-999.0,      11,  2,19921229,0009, -51.1152, -124.9780,  3616,  345.000,    6.563,   34.361,2,   34.362,2,  273.000,2,  274.200,2,    7.780,2,   19.120,2,    0.020,2,    1.430,2,    3.743,2,    1.831,2, -999.000,9, -999.000,9, -999.000,9
           NA,    P17E,    167,   1,-999.0,      12,  2,19921229,0009, -51.1152, -124.9780,  3616,  404.900,    6.352,   34.333,2,   34.334,2,  268.100,2,  269.300,2,    8.580,2,   20.060,2,    0.010,2,    1.490,2,    3.572,2,    1.749,2, -999.000,9, -999.000,9, -999.000,9
           NA,    P17E,    167,   1,-999.0,      13,  2,19921229,0009, -51.1152, -124.9780,  3616,  479.600,    6.212,   34.324,2,   34.325,2,  269.400,2,  271.300,2,    8.970,2,   20.350,2,    0.010,2,    1.510,2,    3.616,2,    1.773,2, -999.000,9, -999.000,9, -999.000,9
           NA,    P17E,    167,   1,-999.0,      14,  2,19921229,0009, -51.1152, -124.9780,  3616,  553.900,    5.952,   34.296,2,   34.297,2,  266.400,2,  272.700,2,    9.160,2,   20.810,2,    0.010,2,    1.540,2,    3.653,2,    1.772,2, -999.000,9, -999.000,9, -999.000,9
           NA,    P17E,    167,   1,-999.0,      15,  2,19921229,0009, -51.1152, -124.9780,  3616,  627.100,    5.578,   34.265,2,   34.261,2,  265.000,2,  265.300,2,   11.400,2,   22.350,2,    0.000,2,    1.640,2,    3.391,2,    1.657,2, -999.000,9, -999.000,9, -999.000,9
           NA,    P17E,    167,   1,-999.0,      16,  2,19921229,0009, -51.1152, -124.9780,  3616,  677.400,    5.399,   34.253,2,   34.252,2,  253.000,2,  256.900,2,   13.440,2,   23.670,2,    0.000,2,    1.730,2,    3.081,2,    1.481,2, -999.000,9, -999.000,9, -999.000,9
           NA,    P17E,    167,   1,-999.0,      17,  2,19921229,0009, -51.1152, -124.9780,  3616,  727.800,    5.145,   34.238,2,   34.240,2,  250.800,2,  253.600,2,   15.070,2,   24.510,2,    0.000,2,    1.780,2,    2.975,2,    1.437,2, -999.000,9, -999.000,9, -999.000,9
           NA,    P17E,    167,   1,-999.0,      18,  2,19921229,0009, -51.1152, -124.9780,  3616,  777.800,    5.043,   34.259,2,   34.256,2,  246.400,2,  244.900,2,   17.520,2,   25.520,2,    0.000,2,    1.840,2,    2.631,2,    1.246,2, -999.000,9, -999.000,9, -999.000,9
           NA,    P17E,    167,   1,-999.0,      19,  2,19921229,0009, -51.1152, -124.9780,  3616,  827.100,    4.990,   34.289,2,   34.287,2,  229.500,2,  229.700,2,   21.430,2,   26.810,2,    0.000,2,    1.920,2,    2.024,2,    0.955,2, -999.000,9, -999.000,9, -999.000,9
           NA,    P17E,    167,   1,-999.0,      20,  2,19921229,0009, -51.1152, -124.9780,  3616,  901.700,    4.626,   34.294,2,   34.294,2,  222.300,2,  221.100,2,   26.150,2,   28.260,2,    0.000,2,    2.020,2,    1.705,2,    0.796,2, -999.000,9, -999.000,9, -999.000,9
           NA,    P17E,    167,   1,-999.0,      21,  2,19921229,0009, -51.1152, -124.9780,  3616, 1001.900,    4.179,   34.318,2,   34.318,2,  216.000,2,  211.400,2,   33.780,2,   30.000,2,    0.000,2,    2.130,2,    1.285,2,    0.598,2, -999.000,9, -999.000,9, -999.000,9
           NA,    P17E,    167,   1,-999.0,      22,  2,19921229,0009, -51.1152, -124.9780,  3616, 1103.200,    3.769,   34.336,2,   34.334,2,  205.000,2,  204.900,2,   39.960,2,   31.080,2,    0.000,2,    2.210,2,    1.046,2,    0.492,2, -999.000,9, -999.000,9, -999.000,9
           NA,    P17E,    167,   1,-999.0,      23,  2,19921229,0009, -51.1152, -124.9780,  3616, 1256.100,    3.245,   34.380,2,   34.379,2,  194.900,2,  193.800,2,   50.900,2,   32.390,2,    0.000,2,    2.310,2,    0.737,2,    0.345,2, -999.000,9, -999.000,9, -999.000,9
           NA,    P17E,    167,   1,-999.0,      24,  2,19921229,0009, -51.1152, -124.9780,  3616, 1408.100,    2.884,   34.443,2,   34.440,2,  184.600,2,  183.800,2,   61.230,2,   33.430,2,    0.000,2,    2.370,2,    0.505,2,    0.238,2, -999.000,9, -999.000,9, -999.000,9
           NA,    P17E,    167,   1,-999.0,      25,  2,19921229,0009, -51.1152, -124.9780,  3616, 1610.600,    2.615,   34.527,2,   34.524,2,  175.100,2,  173.900,2,   72.210,2,   33.740,2,    0.000,2,    2.390,2,    0.281,2,    0.131,2, -999.000,9, -999.000,9, -999.000,9
           NA,    P17E,    167,   1,-999.0,      26,  2,19921229,0009, -51.1152, -124.9780,  3616, 1814.500,    2.453,   34.597,2,   34.597,2,  171.000,2,  170.500,2,   79.670,2,   33.440,2,    0.000,2,    2.370,2,    0.142,2,    0.068,2, -999.000,9, -999.000,9, -999.000,9
           NA,    P17E,    167,   1,-999.0,      27,  2,19921229,0009, -51.1152, -124.9780,  3616, 2017.700,    2.315,   34.649,2,   34.649,2,  170.000,2,  169.500,2,   87.580,2,   33.030,2,    0.000,2,    2.340,2, -999.000,9, -999.000,9, -999.000,9, -999.000,9, -999.000,9
           NA,    P17E,    167,   1,-999.0,      28,  2,19921229,0009, -51.1152, -124.9780,  3616, 2221.900,    2.196,   34.686,2,   34.686,2,  173.800,2,  174.900,2,   89.030,2,   32.330,2,    0.000,2,    2.280,2,    0.046,2,    0.021,2, -999.000,9, -999.000,9, -999.000,9
           NA,    P17E,    167,   1,-999.0,      29,  2,19921229,0009, -51.1152, -124.9780,  3616, 2425.200,    2.066,   34.706,2,   34.707,2,  177.200,2,  178.100,2,   93.420,2,   32.030,2,    0.000,2,    2.260,2,    0.022,2,    0.014,2, -999.000,9, -999.000,9, -999.000,9
           NA,    P17E,    167,   1,-999.0,      30,  2,19921229,0009, -51.1152, -124.9780,  3616, 2628.400,    1.838,   34.707,2,   34.707,2,  175.700,2,  175.000,2,  106.630,2,   32.740,2,    0.000,2,    2.280,2,    0.009,2,    0.005,2, -999.000,9, -999.000,9, -999.000,9
           NA,    P17E,    167,   1,-999.0,      31,  2,19921229,0009, -51.1152, -124.9780,  3616, 2833.100,    1.747,   34.710,2,   34.710,2,  178.300,2,  177.900,2,  108.950,2,   32.660,2,    0.000,2,    2.280,2,    0.002,6,    0.003,6, -999.000,9, -999.000,9, -999.000,9
           NA,    P17E,    167,   1,-999.0,      32,  2,19921229,0009, -51.1152, -124.9780,  3616, 3036.600,    1.623,   34.720,2,   34.719,2,  185.000,2,  186.000,2,  108.110,2,   32.080,2,    0.000,2,    2.230,2,    0.006,2,    0.003,2, -999.000,9, -999.000,9, -999.000,9
           NA,    P17E,    167,   1,-999.0,      33,  2,19921229,0009, -51.1152, -124.9780,  3616, 3241.500,    1.480,   34.714,2,   34.714,2,  186.700,2,  186.800,2,  113.400,2,   32.220,2,    0.000,2,    2.260,2,    0.003,2,    0.002,2, -999.000,9, -999.000,9, -999.000,9
           NA,    P17E,    167,   1,-999.0,      34,  2,19921229,0009, -51.1152, -124.9780,  3616, 3446.100,    1.385,   34.712,2,   34.711,2,  189.100,2,  189.000,2,  116.800,2,   32.590,2,    0.000,2,    2.260,2, -999.000,9, -999.000,9, -999.000,9, -999.000,9, -999.000,9
           NA,    P17E,    167,   1,-999.0,      35,  2,19921229,0009, -51.1152, -124.9780,  3616, 3563.500,    1.356,   34.712,2,   34.712,2,  190.800,2,  189.700,2,  117.650,2,   32.680,2,    0.000,2,    2.270,2,    0.001,2,    0.000,2, -999.000,9, -999.000,9, -999.000,9
           NA,    P17E,    167,   1,-999.0,      36,  2,19921229,0009, -51.1152, -124.9780,  3616, 3667.100,    1.345,   34.713,2,   34.713,2,  191.600,2,  190.900,2,  118.090,2,   32.720,2,    0.000,2,    2.270,2,    0.004,2,    0.002,2, -999.000,9, -999.000,9, -999.000,9