BOTTLE,20215010JOAExport
EXPOCODE,SECT_ID,STNNBR,CASTNO,SAMPNO,BTLNBR,BTLNBR_FLAG_W,DATE,TIME,LATITUDE,LONGITUDE,DEPTH,CTDPRS,CTDTMP,CTDSAL,CTDSAL_FLAG_W,SALNTY,SALNTY_FLAG_W,CTDOXY,CTDOXY_FLAG_W,OXYGEN,OXYGEN_FLAG_W,SILCAT,SILCAT_FLAG_W,NITRAT,NITRAT_FLAG_W,NITRIT,NITRIT_FLAG_W,PHSPHT,PHSPHT_FLAG_W,CFC-11,CFC-11_FLAG_W,CFC-12,CFC-12_FLAG_W,SF6,SF6_FLAG_W,TCARBN,TCARBN_FLAG_W,ALKALI,ALKALI_FLAG_W
,,,,,,,,,,,,DB,ITS-90,PSS-78,,PSS-78,,UMOL/KG,,UMOL/KG,,UMOL/KG,,UMOL/KG,,UMOL/KG,,UMOL/KG,,PMOL/KG,,PMOL/KG,,PMOL/KG,,UMOL/KG,,UMOL/KG
           NA,    P19C,    253,   1,-999.0,      36,  2,19930228,0500, -54.0043,  -85.5440,  5044,    2.900,    8.882,   34.093,2,   34.093,2,  283.300,2,  285.100,2,    2.000,2,   15.660,2,    0.250,2,    1.180,2, -999.000,9, -999.000,9, -999.000,9, 2077.500,2, -999.000,9
           NA,    P19C,    253,   1,-999.0,      35,  2,19930228,0500, -54.0043,  -85.5440,  5044,   39.900,    8.467,   34.137,2,   34.148,2,  287.200,2,  286.200,2,    2.000,2,   15.990,2,    0.230,2,    1.190,2, -999.000,9, -999.000,9, -999.000,9, -999.000,9, -999.000,9
           NA,    P19C,    253,   1,-999.0,      68,  2,19930228,0500, -54.0043,  -85.5440,  5044,   75.400,    8.309,   34.161,2,   34.159,2,  288.300,2,  285.800,2,    1.800,2,   16.040,2,    0.230,2,    1.190,2, -999.000,9, -999.000,9, -999.000,9, -999.000,9, -999.000,9
           NA,    P19C,    253,   1,-999.0,      33,  2,19930228,0500, -54.0043,  -85.5440,  5044,  105.000,    5.700,   34.172,2,   34.173,2,  299.300,2,  297.300,2,    6.600,2,   19.580,2,    0.340,2,    1.460,2, -999.000,9, -999.000,9, -999.000,9, -999.000,9, -999.000,9
           NA,    P19C,    253,   1,-999.0,      32,  2,19930228,0500, -54.0043,  -85.5440,  5044,  155.900,    5.544,   34.194,2,   34.199,2,  293.000,2,  295.000,2,    7.300,2,   19.970,2,    0.490,2,    1.460,2, -999.000,9, -999.000,9, -999.000,9, -999.000,9, -999.000,9
           NA,    P19C,    253,   1,-999.0,      31,  2,19930228,0500, -54.0043,  -85.5440,  5044,  206.100,    5.536,   34.206,2,   34.210,2,  283.900,2,  295.400,2,    7.200,2,   20.310,2,    0.010,2,    1.460,2, -999.000,9, -999.000,9, -999.000,9, -999.000,9, -999.000,9
           NA,    P19C,    253,   1,-999.0,      30,  2,19930228,0500, -54.0043,  -85.5440,  5044,  256.000,    5.548,   34.217,2,   34.218,2,  293.600,2,  294.600,2,    7.200,2,   20.270,2,    0.010,2,    1.450,2, -999.000,9, -999.000,9, -999.000,9, -999.000,9, -999.000,9
           NA,    P19C,    253,   1,-999.0,      29,  2,19930228,0500, -54.0043,  -85.5440,  5044,  305.200,    5.447,   34.210,2,   34.208,2,  294.200,2,  293.500,2,    7.300,2,   20.680,2,    0.010,2,    1.470,2, -999.000,9, -999.000,9, -999.000,9, -999.000,9, -999.000,9
           NA,    P19C,    253,   1,-999.0,      28,  2,19930228,0500, -54.0043,  -85.5440,  5044,  356.000,    5.415,   34.216,2,   34.215,2,  287.300,2,  287.900,2,    8.600,2,   21.490,2,    0.000,2,    1.530,2, -999.000,9, -999.000,9, -999.000,9, -999.000,9, -999.000,9
           NA,    P19C,    253,   1,-999.0,      27,  2,19930228,0500, -54.0043,  -85.5440,  5044,  458.000,    5.205,   34.219,2,   34.217,2,  279.500,2,  281.000,2,   10.600,2,   23.010,2,    0.000,2,    1.620,2, -999.000,9, -999.000,9, -999.000,9, -999.000,9, -999.000,9
           NA,    P19C,    253,   1,-999.0,      26,  2,19930228,0500, -54.0043,  -85.5440,  5044,  507.200,    5.113,   34.218,2,   34.217,2,  277.000,2,  279.400,2,   10.900,2,   23.380,2,    0.000,2,    1.640,2, -999.000,9, -999.000,9, -999.000,9, -999.000,9, -999.000,9
           NA,    P19C,    253,   1,-999.0,      25,  2,19930228,0500, -54.0043,  -85.5440,  5044,  557.700,    5.059,   34.227,2,   34.226,2,  264.700,2,  271.800,2,   12.500,2,   24.280,2,    0.000,2,    1.700,2, -999.000,9, -999.000,9, -999.000,9, -999.000,9, -999.000,9
           NA,    P19C,    253,   1,-999.0,      24,  2,19930228,0500, -54.0043,  -85.5440,  5044,  608.100,    4.910,   34.226,2,   34.225,2,  268.700,2,  267.900,2,   14.200,2,   24.870,2,    0.000,2,    1.740,2, -999.000,9, -999.000,9, -999.000,9, -999.000,9, -999.000,9
           NA,    P19C,    253,   1,-999.0,      23,  2,19930228,0500, -54.0043,  -85.5440,  5044,  709.100,    4.502,   34.225,2,   34.223,2,  256.600,2,  254.600,2,   19.200,2,   26.990,2,    0.000,2,    1.880,2, -999.000,9, -999.000,9, -999.000,9, -999.000,9, -999.000,9
           NA,    P19C,    253,   1,-999.0,      22,  2,19930228,0500, -54.0043,  -85.5440,  5044,  809.900,    4.179,   34.248,2,   34.247,2,  238.200,2,  234.800,2,   26.400,2,   28.990,2,    0.000,2,    2.020,2, -999.000,9, -999.000,9, -999.000,9, -999.000,9, -999.000,9
           NA,    P19C,    253,   1,-999.0,      21,  2,19930228,0500, -54.0043,  -85.5440,  5044,  908.800,    3.745,   34.267,2,   34.265,2,  221.300,2,  225.000,2,   32.900,2,   30.460,2,    0.000,2,    2.130,2, -999.000,9, -999.000,9, -999.000,9, -999.000,9, -999.000,9
           NA,    P19C,    253,   1,-999.0,      20,  2,19930228,0500, -54.0043,  -85.5440,  5044, 1010.000,    3.453,   34.299,2,   34.295,2,  213.200,2,  214.000,2,   39.500,2,   31.610,2,    0.000,2,    2.210,2, -999.000,9, -999.000,9, -999.000,9, -999.000,9, -999.000,9
           NA,    P19C,    253,   1,-999.0,      19,  2,19930228,0500, -54.0043,  -85.5440,  5044, 1209.800,    3.012,   34.392,2,   34.391,2,  191.600,2,  189.000,2,   55.800,2,   33.590,2,    0.000,2,    2.360,2, -999.000,9, -999.000,9, -999.000,9, -999.000,9, -999.000,9
           NA,    P19C,    253,   1,-999.0,      18,  2,19930228,0500, -54.0043,  -85.5440,  5044, 1412.800,    2.716,   34.480,2,   34.480,2,  176.500,2,  173.900,2,   69.300,2,   34.280,2,    0.000,2,    2.410,2, -999.000,9, -999.000,9, -999.000,9, -999.000,9, -999.000,9
           NA,    P19C,    253,   1,-999.0,      17,  2,19930228,0500, -54.0043,  -85.5440,  5044, 1617.100,    2.516,   34.562,2,   34.559,2,  167.200,2,  166.800,2,   79.400,2,   34.430,2,    0.000,2,    2.410,2, -999.000,9, -999.000,9, -999.000,9, -999.000,9, -999.000,9
           NA,    P19C,    253,   1,-999.0,      16,  2,19930228,0500, -54.0043,  -85.5440,  5044, 1820.800,    2.366,   34.618,2,   34.617,2,  163.900,2,  165.800,2,   86.700,2,   34.010,2,    0.000,2,    2.370,2, -999.000,9, -999.000,9, -999.000,9, -999.000,9, -999.000,9
           NA,    P19C,    253,   1,-999.0,      15,  3,19930228,0500, -54.0043,  -85.5440,  5044, 2024.200,    2.232,   34.656,2, -999.000,4,  167.700,2, -999.000,4, -999.000,4, -999.000,4, -999.000,4, -999.000,4, -999.000,9, -999.000,9, -999.000,9, -999.000,9, -999.000,9
           NA,    P19C,    253,   1,-999.0,      14,  2,19930228,0500, -54.0043,  -85.5440,  5044, 2227.400,    2.113,   34.683,2,   34.683,2,  171.700,2,  171.600,2,   95.400,2,   33.000,2,    0.000,2,    2.310,2, -999.000,9, -999.000,9, -999.000,9, -999.000,9, -999.000,9
           NA,    P19C,    253,   1,-999.0,      13,  2,19930228,0500, -54.0043,  -85.5440,  5044, 2430.200,    1.956,   34.695,2,   34.694,2,  170.400,2,  171.000,2,  104.200,2,   33.100,2,    0.000,2,    2.320,2, -999.000,9, -999.000,9, -999.000,9, -999.000,9, -999.000,9
           NA,    P19C,    253,   1,-999.0,      12,  2,19930228,0500, -54.0043,  -85.5440,  5044, 2632.300,    1.842,   34.703,2,   34.703,2,  174.400,2,  174.600,2,  107.300,2,   33.010,2,    0.000,2,    2.310,2, -999.000,9, -999.000,9, -999.000,9, -999.000,9, -999.000,9
           NA,    P19C,    253,   1,-999.0,      11,  2,19930228,0500, -54.0043,  -85.5440,  5044, 2835.700,    1.724,   34.710,2,   34.710,2,  178.600,2,  179.500,2,  109.000,2,   32.640,2,    0.000,2,    2.280,2, -999.000,9, -999.000,9, -999.000,9, -999.000,9, -999.000,9
           NA,    P19C,    253,   1,-999.0,      10,  2,19930228,0500, -54.0043,  -85.5440,  5044, 3038.600,    1.632,   34.720,2,   34.720,2,  186.700,2,  186.300,2,  108.200,2,   32.090,2,    0.000,2,    2.240,2, -999.000,9, -999.000,9, -999.000,9, -999.000,9, -999.000,9
           NA,    P19C,    253,   1,-999.0,       9,  2,19930228,0500, -54.0043,  -85.5440,  5044, 3242.600,    1.507,   34.722,2,   34.721,2,  191.200,2,  191.400,2,  109.900,2,   31.870,2,    0.000,2,    2.230,2, -999.000,9, -999.000,9, -999.000,9, -999.000,9, -999.000,9
           NA,    P19C,    253,   1,-999.0,       8,  2,19930228,0500, -54.0043,  -85.5440,  5044, 3445.400,    1.365,   34.720,2,   34.719,2,  195.600,2,  194.600,2,  113.600,2,   31.960,2,    0.000,2,    2.230,2, -999.000,9, -999.000,9, -999.000,9, -999.000,9, -999.000,9
           NA,    P19C,    253,   1,-999.0,       7,  2,19930228,0500, -54.0043,  -85.5440,  5044, 3648.300,    1.196,   34.717,2,   34.717,2,  198.800,2,  198.300,2,  118.600,2,   32.110,2,    0.000,2,    2.230,2, -999.000,9, -999.000,9, -999.000,9, -999.000,9, -999.000,9
           NA,    P19C,    253,   1,-999.0,       6,  2,19930228,0500, -54.0043,  -85.5440,  5044, 3852.600,    1.038,   34.714,2,   34.715,2,  201.500,2,  201.600,2,  123.100,2,   32.160,2,    0.000,2,    2.230,2, -999.000,9, -999.000,9, -999.000,9, -999.000,9, -999.000,9
           NA,    P19C,    253,   1,-999.0,       5,  2,19930228,0500, -54.0043,  -85.5440,  5044, 4110.000,    0.833,   34.709,2,   34.709,2,  205.200,2,  205.600,2,  129.000,2,   32.210,2,    0.000,2,    2.250,2, -999.000,9, -999.000,9, -999.000,9, -999.000,9, -999.000,9
           NA,    P19C,    253,   1,-999.0,       4,  2,19930228,0500, -54.0043,  -85.5440,  5044, 4364.800,    0.707,   34.707,2,   34.707,2,  207.900,2,  208.000,2,  134.300,2,   32.530,2,    0.000,2,    2.260,2, -999.000,9, -999.000,9, -999.000,9, -999.000,9, -999.000,9
           NA,    P19C,    253,   1,-999.0,       3,  2,19930228,0500, -54.0043,  -85.5440,  5044, 4621.800,    0.650,   34.707,2,   34.706,2,  209.900,2,  209.600,2,  136.000,2,   32.540,2,    0.000,2,    2.250,2, -999.000,9, -999.000,9, -999.000,9, -999.000,9, -999.000,9
           NA,    P19C,    253,   1,-999.0,       2,  2,19930228,0500, -54.0043,  -85.5440,  5044, 4879.800,    0.643,   34.705,2,   34.706,2,  209.800,2,  210.500,2,  136.900,2,   32.500,2,    0.000,2,    2.250,2, -999.000,9, -999.000,9, -999.000,9, -999.000,9, -999.000,9
           NA,    P19C,    253,   1,-999.0,      72,  2,19930228,0500, -54.0043,  -85.5440,  5044, 5144.800,    0.663,   34.706,2,   34.706,2,  209.900,2,  210.100,2,  137.700,2,   32.590,2,    0.000,2,    2.250,2, -999.000,9, -999.000,9, -999.000,9, -999.000,9, -999.000,9