BOTTLE,20215010JOAExport
EXPOCODE,SECT_ID,STNNBR,CASTNO,SAMPNO,BTLNBR,BTLNBR_FLAG_W,DATE,TIME,LATITUDE,LONGITUDE,DEPTH,CTDPRS,CTDTMP,CTDSAL,CTDSAL_FLAG_W,SALNTY,SALNTY_FLAG_W,CTDOXY,CTDOXY_FLAG_W,OXYGEN,OXYGEN_FLAG_W,SILCAT,SILCAT_FLAG_W,NITRAT,NITRAT_FLAG_W,NITRIT,NITRIT_FLAG_W,PHSPHT,PHSPHT_FLAG_W,CFC-11,CFC-11_FLAG_W,CFC-12,CFC-12_FLAG_W,SF6,SF6_FLAG_W,TCARBN,TCARBN_FLAG_W,ALKALI,ALKALI_FLAG_W
,,,,,,,,,,,,DB,ITS-90,PSS-78,,PSS-78,,UMOL/KG,,UMOL/KG,,UMOL/KG,,UMOL/KG,,UMOL/KG,,UMOL/KG,,PMOL/KG,,PMOL/KG,,PMOL/KG,,UMOL/KG,,UMOL/KG
           NA,    P19C,    236,   1,-999.0,      51,  2,19930223,2124, -53.1107,  -75.0238,  1289,    2.300,    9.919,   33.745,2,   33.745,2,  283.800,2,  279.500,2,    2.300,2,   11.510,2,    0.180,2,    0.990,2, -999.000,9, -999.000,9, -999.000,9, 2049.400,2, -999.000,9
           NA,    P19C,    236,   1,-999.0,      31,  2,19930223,2124, -53.1107,  -75.0238,  1289,   28.400,    9.457,   33.862,2,   33.863,2,  283.800,2,  280.900,2,    2.300,2,   12.990,2,    0.120,2,    1.060,2, -999.000,9, -999.000,9, -999.000,9, 2061.200,2, -999.000,9
           NA,    P19C,    236,   1,-999.0,       2,  2,19930223,2124, -53.1107,  -75.0238,  1289,   53.400,    9.302,   33.878,2,   33.878,2,  275.500,2,  276.200,2,    2.300,2,   13.630,2,    0.120,2,    1.100,2,    3.872,2,    1.898,2, -999.000,9, 2063.500,2, -999.000,9
           NA,    P19C,    236,   1,-999.0,      76,  2,19930223,2124, -53.1107,  -75.0238,  1289,   78.200,    9.049,   33.896,2,   33.896,2,  261.700,2,  266.200,2,    2.800,2,   14.810,2,    0.130,2,    1.190,2, -999.000,9, -999.000,9, -999.000,9, 2074.400,2, -999.000,9
           NA,    P19C,    236,   1,-999.0,      30,  2,19930223,2124, -53.1107,  -75.0238,  1289,  103.700,    8.457,   33.946,2,   33.948,2,  246.200,2,  248.500,2,    3.900,2,   17.370,2,    0.100,2,    1.350,2,    3.841,2,    1.862,2, -999.000,9, 2094.200,2, -999.000,9
           NA,    P19C,    236,   1,-999.0,      74,  2,19930223,2124, -53.1107,  -75.0238,  1289,  127.800,    7.575,   34.017,2,   34.088,2,  248.100,2,  240.400,2,    8.500,2,   22.410,2,    0.030,2,    1.640,2, -999.000,9, -999.000,9, -999.000,9, 2133.600,2, -999.000,9
           NA,    P19C,    236,   1,-999.0,      73,  2,19930223,2124, -53.1107,  -75.0238,  1289,  155.100,    7.110,   34.071,2,   34.066,2,  231.300,2,  232.400,2,    6.800,2,   22.010,2,    0.010,2,    1.640,2,    3.774,2,    1.803,2, -999.000,9, 2129.100,2, -999.000,9
           NA,    P19C,    236,   1,-999.0,      72,  2,19930223,2124, -53.1107,  -75.0238,  1289,  180.200,    6.617,   34.083,2,   34.084,2,  240.900,2,  243.900,2,    7.200,2,   22.380,2,    0.020,2,    1.660,2, -999.000,9, -999.000,9, -999.000,9, 2131.200,2, -999.000,9
           NA,    P19C,    236,   1,-999.0,      71,  2,19930223,2124, -53.1107,  -75.0238,  1289,  204.300,    6.533,   34.112,2,   34.118,2,  236.900,2,  235.200,2,    7.900,2,   23.410,2,    0.010,2,    1.690,2,    3.753,2,    1.801,2, -999.000,9, 2137.300,2, -999.000,9
           NA,    P19C,    236,   1,-999.0,      70,  2,19930223,2124, -53.1107,  -75.0238,  1289,  253.100,    6.018,   34.137,2, -999.000,1,  254.400,2, -999.000,9,    7.700,2,   22.820,2,    0.050,2,    1.640,2, -999.000,9, -999.000,9, -999.000,9, -999.000,9, -999.000,9
           NA,    P19C,    236,   1,-999.0,      36,  2,19930223,2124, -53.1107,  -75.0238,  1289,  305.000,    5.737,   34.187,2,   34.188,2,  254.500,2,  254.300,2,    9.000,2,   23.690,2,    0.010,2,    1.670,2,    3.610,2,    1.719,2, -999.000,9, 2134.900,2, -999.000,9
           NA,    P19C,    236,   1,-999.0,      28,  2,19930223,2124, -53.1107,  -75.0238,  1289,  354.700,    5.358,   34.189,2,   34.192,2,  277.000,2,  275.900,2,    8.800,2,   22.670,2,    0.010,2,    1.610,2, -999.000,9, -999.000,9, -999.000,9, 2127.000,2, -999.000,9
           NA,    P19C,    236,   1,-999.0,      68,  2,19930223,2124, -53.1107,  -75.0238,  1289,  405.000,    5.217,   34.197,2,   34.199,2,  282.300,2, -999.000,9,    9.100,2,   22.400,2,    0.010,2,    1.580,2, -999.000,9, -999.000,9, -999.000,9, -999.000,9, -999.000,9
           NA,    P19C,    236,   1,-999.0,      35,  2,19930223,2124, -53.1107,  -75.0238,  1289,  406.000,    5.215,   34.197,2,   34.198,2,  283.100,2, -999.000,4,    9.100,2,   22.390,2,    0.010,2,    1.590,2,    4.209,2,    2.028,2, -999.000,9, 2126.600,2, -999.000,9
           NA,    P19C,    236,   1,-999.0,      34,  2,19930223,2124, -53.1107,  -75.0238,  1289,  455.200,    5.166,   34.209,2, -999.000,1,  275.600,2, -999.000,9,   10.200,2,   23.050,2,    0.010,2,    1.620,2, -999.000,9, -999.000,9, -999.000,9, -999.000,9, -999.000,9
           NA,    P19C,    236,   1,-999.0,      67,  2,19930223,2124, -53.1107,  -75.0238,  1289,  455.300,    5.163,   34.208,2,   34.211,2,  277.700,2, -999.000,4,   10.200,2,   23.050,2,    0.010,2,    1.620,2, -999.000,9, -999.000,9, -999.000,9, 2130.400,2, -999.000,9
           NA,    P19C,    236,   1,-999.0,      66,  2,19930223,2124, -53.1107,  -75.0238,  1289,  505.900,    5.119,   34.219,2,   34.222,2,  272.400,2, -999.000,9,   10.700,2,   23.800,2,    0.000,2,    1.650,2, -999.000,9, -999.000,9, -999.000,9, -999.000,9, -999.000,9
           NA,    P19C,    236,   1,-999.0,      33,  2,19930223,2124, -53.1107,  -75.0238,  1289,  505.900,    5.120,   34.219,2,   34.222,2,  272.400,2,  273.900,2,   10.900,2,   23.750,2,    0.000,2,    1.660,2,    3.674,2,    1.730,2, -999.000,9, 2133.400,2, -999.000,9
           NA,    P19C,    236,   1,-999.0,      65,  2,19930223,2124, -53.1107,  -75.0238,  1289,  555.700,    5.010,   34.224,2,   34.225,2,  269.600,2,  271.500,2,   12.000,2,   24.310,2,    0.000,2,    1.690,2,    3.295,2,    1.531,2, -999.000,9, 2134.400,2, -999.000,9
           NA,    P19C,    236,   1,-999.0,      32,  2,19930223,2124, -53.1107,  -75.0238,  1289,  556.500,    5.008,   34.223,2, -999.000,1,  269.600,2, -999.000,9,   12.000,2,   24.310,2,    0.000,2,    1.690,2, -999.000,9, -999.000,9, -999.000,9, -999.000,9, -999.000,9
           NA,    P19C,    236,   1,-999.0,      63,  2,19930223,2124, -53.1107,  -75.0238,  1289,  605.300,    4.899,   34.220,2,   34.221,2,  269.700,2,  271.000,2,   12.500,2,   24.550,2,    0.000,2,    1.700,2, -999.000,9, -999.000,9, -999.000,9, 2138.900,2, -999.000,9
           NA,    P19C,    236,   1,-999.0,      64,  2,19930223,2124, -53.1107,  -75.0238,  1289,  606.300,    4.899,   34.221,2, -999.000,1,  270.000,2, -999.000,9,   12.700,2,   24.550,2,    0.000,2,    1.720,2, -999.000,9, -999.000,9, -999.000,9, -999.000,9, -999.000,9
           NA,    P19C,    236,   1,-999.0,      61,  2,19930223,2124, -53.1107,  -75.0238,  1289,  655.800,    4.753,   34.221,2,   34.223,2,  265.700,2,  265.400,2,   14.500,2,   25.350,2,    0.000,2,    1.780,2, -999.000,9, -999.000,9, -999.000,9, 2144.300,2, -999.000,9
           NA,    P19C,    236,   1,-999.0,      62,  2,19930223,2124, -53.1107,  -75.0238,  1289,  656.300,    4.752,   34.221,2, -999.000,1,  265.700,2, -999.000,9,   14.500,2,   25.390,2,    0.000,2,    1.770,2, -999.000,9, -999.000,9, -999.000,9, -999.000,9, -999.000,9
           NA,    P19C,    236,   1,-999.0,      60,  3,19930223,2124, -53.1107,  -75.0238,  1289,  706.000,    4.560,   34.223,2, -999.000,4,  257.000,2, -999.000,9, -999.000,4, -999.000,4, -999.000,4, -999.000,4, -999.000,9, -999.000,9, -999.000,9, -999.000,9, -999.000,9
           NA,    P19C,    236,   1,-999.0,      59,  2,19930223,2124, -53.1107,  -75.0238,  1289,  706.200,    4.558,   34.223,2,   34.223,2,  257.000,2,  258.700,2,   16.900,2,   26.380,2,    0.000,2,    1.840,2,    2.792,2,    1.295,2, -999.000,9, 2151.500,2, -999.000,9
           NA,    P19C,    236,   1,-999.0,      58,  2,19930223,2124, -53.1107,  -75.0238,  1289,  806.400,    4.220,   34.237,2,   34.239,2,  236.000,2,  240.000,2,   23.400,2,   28.530,2,    0.000,2,    2.000,2, -999.000,9, -999.000,9, -999.000,9, 2168.100,2, -999.000,9
           NA,    P19C,    236,   1,-999.0,      57,  2,19930223,2124, -53.1107,  -75.0238,  1289,  906.300,    3.690,   34.260,2,   34.263,2,  225.200,2,  227.900,2,   32.700,2,   30.500,2,    0.000,2,    2.130,2,    1.640,2,    0.725,2, -999.000,9, 2185.200,2, -999.000,9
           NA,    P19C,    236,   1,-999.0,      55,  2,19930223,2124, -53.1107,  -75.0238,  1289, 1006.700,    3.384,   34.316,2,   34.323,2,  204.700,2,  202.000,2,   43.500,2,   32.440,2,    0.000,2,    2.260,2,    0.855,2,    0.387,2, -999.000,9, 2208.400,2, -999.000,9
           NA,    P19C,    236,   1,-999.0,      29,  2,19930223,2124, -53.1107,  -75.0238,  1289, 1205.600,    2.918,   34.426,2,   34.430,2,  177.400,2,  176.200,2,   62.300,2,   34.490,2,    0.000,2,    2.400,2,    0.336,2,    0.144,2, -999.000,9, 2240.300,2, -999.000,9
           NA,    P19C,    236,   1,-999.0,      53,  2,19930223,2124, -53.1107,  -75.0238,  1289, 1444.300,    2.677,   34.520,2,   34.519,2,  156.600,2,  157.800,2,   78.100,2,   35.440,2,    0.000,2,    2.490,2, -999.000,3, -999.000,3, -999.000,9, 2262.100,2, -999.000,9
           NA,    P19C,    235,   1,-999.0,      51,  2,19930223,1844, -53.0827,  -74.9632,   485,    3.000,   10.622,   33.439,2,   33.443,2,  280.300,2,  280.600,2,    2.000,2,    8.710,2,    0.220,2,    0.880,2,    3.652,2,    1.829,2, -999.000,9, 2023.300,2, -999.000,9
           NA,    P19C,    235,   1,-999.0,       2,  2,19930223,1844, -53.0827,  -74.9632,   485,   28.200,    9.839,   33.747,2,   33.743,2,  277.500,2,  277.200,2,    2.200,2,   11.570,2,    0.180,2,    1.010,2, -999.000,9, -999.000,9, -999.000,9, -999.000,9, -999.000,9
           NA,    P19C,    235,   1,-999.0,      30,  2,19930223,1844, -53.0827,  -74.9632,   485,   53.100,    9.349,   33.821,2,   33.819,2,  266.600,2,  265.800,2,    1.800,2,   13.620,2,    0.240,2,    1.150,2,    3.758,2,    1.856,2, -999.000,9, -999.000,9, -999.000,9
           NA,    P19C,    235,   1,-999.0,      73,  2,19930223,1844, -53.0827,  -74.9632,   485,   78.600,    9.031,   33.905,2,   33.906,2,  268.000,2,  269.400,2,    2.000,2,   14.930,2,    0.120,2,    1.200,2,    3.872,2,    1.889,2, -999.000,9, -999.000,9, -999.000,9
           NA,    P19C,    235,   1,-999.0,      71,  2,19930223,1844, -53.0827,  -74.9632,   485,  103.600,    8.694,   33.926,2,   33.925,2,  254.500,2,  255.500,2,    3.700,2,   16.400,2,    0.120,2,    1.290,2, -999.000,9, -999.000,9, -999.000,9, -999.000,9, -999.000,9
           NA,    P19C,    235,   1,-999.0,      36,  2,19930223,1844, -53.0827,  -74.9632,   485,  127.400,    7.819,   33.982,2,   33.983,2,  236.200,2,  235.900,2,    5.200,2,   19.660,2,    0.030,2,    1.520,2, -999.000,9, -999.000,9, -999.000,9, -999.000,9, -999.000,9
           NA,    P19C,    235,   1,-999.0,      35,  2,19930223,1844, -53.0827,  -74.9632,   485,  152.200,    7.276,   34.040,2,   34.043,2,  231.700,2,  230.300,2,    5.900,2,   21.610,2,    0.020,2,    1.630,2,    3.731,2,    1.781,2, -999.000,9, -999.000,9, -999.000,9
           NA,    P19C,    235,   1,-999.0,      28,  2,19930223,1844, -53.0827,  -74.9632,   485,  152.400,    7.286,   34.042,2,   34.042,2,  231.600,2,  230.200,2, -999.000,1, -999.000,1, -999.000,1, -999.000,1,    3.567,2,    1.678,2, -999.000,9, -999.000,9, -999.000,9
           NA,    P19C,    235,   1,-999.0,      34,  2,19930223,1844, -53.0827,  -74.9632,   485,  177.600,    7.207,   34.089,2,   34.089,2,  224.700,2,  219.300,2,    7.100,2,   22.900,2,    0.010,2,    1.690,2, -999.000,9, -999.000,9, -999.000,9, -999.000,9, -999.000,9
           NA,    P19C,    235,   1,-999.0,      33,  2,19930223,1844, -53.0827,  -74.9632,   485,  202.500,    7.011,   34.115,2,   34.113,2,  223.300,2,  218.600,2,    8.000,2,   23.640,2,    0.010,2,    1.730,2,    3.490,2,    1.669,2, -999.000,9, -999.000,9, -999.000,9
           NA,    P19C,    235,   1,-999.0,      32,  2,19930223,1844, -53.0827,  -74.9632,   485,  232.400,    6.533,   34.110,2,   34.111,2,  233.900,2,  237.100,2,    7.800,2,   23.170,2,    0.020,2,    1.680,2, -999.000,9, -999.000,9, -999.000,9, -999.000,9, -999.000,9
           NA,    P19C,    235,   1,-999.0,      61,  2,19930223,1844, -53.0827,  -74.9632,   485,  261.600,    6.218,   34.136,2,   34.139,2,  237.600,2,  240.500,2, -999.000,1, -999.000,1, -999.000,1, -999.000,1,    3.580,2,    1.712,2, -999.000,9, -999.000,9, -999.000,9
           NA,    P19C,    235,   1,-999.0,      62,  2,19930223,1844, -53.0827,  -74.9632,   485,  261.800,    6.218,   34.137,2,   34.137,2,  239.600,2,  240.400,2, -999.000,1, -999.000,1, -999.000,1, -999.000,1,    3.791,2,    1.809,2, -999.000,9, -999.000,9, -999.000,9
           NA,    P19C,    235,   1,-999.0,      60,  2,19930223,1844, -53.0827,  -74.9632,   485,  261.800,    6.221,   34.138,2,   34.139,2,  239.600,2,  240.400,2,    8.400,2,   23.820,2,    0.020,2,    1.690,2, -999.000,9, -999.000,9, -999.000,9, -999.000,9, -999.000,9
           NA,    P19C,    235,   1,-999.0,      63,  2,19930223,1844, -53.0827,  -74.9632,   485,  262.000,    6.218,   34.139,2,   34.136,2,  239.600,2,  240.800,2, -999.000,1, -999.000,1, -999.000,1, -999.000,1, -999.000,9, -999.000,9, -999.000,9, -999.000,9, -999.000,9
           NA,    P19C,    235,   1,-999.0,      58,  2,19930223,1844, -53.0827,  -74.9632,   485,  300.900,    5.855,   34.155,2,   34.157,2,  248.000,2,  254.100,2, -999.000,1, -999.000,1, -999.000,1, -999.000,1,    3.857,6,    1.831,6, -999.000,9, -999.000,9, -999.000,9
           NA,    P19C,    235,   1,-999.0,      57,  2,19930223,1844, -53.0827,  -74.9632,   485,  301.100,    5.847,   34.155,2,   34.157,2,  248.000,2,  255.400,2,    8.800,2,   23.450,2,    0.020,2,    1.660,2, -999.000,9, -999.000,9, -999.000,9, -999.000,9, -999.000,9
           NA,    P19C,    235,   1,-999.0,      55,  2,19930223,1844, -53.0827,  -74.9632,   485,  401.400,    5.346,   34.183,2,   34.186,2,  277.600,2,  274.600,2,    8.800,2,   22.950,2,    0.020,2,    1.620,2,    4.046,2,    1.939,2, -999.000,9, -999.000,9, -999.000,9
           NA,    P19C,    235,   1,-999.0,      29,  2,19930223,1844, -53.0827,  -74.9632,   485,  450.500,    5.201,   34.197,2,   34.199,2,  277.000,2,  276.100,2,   10.800,2,   23.040,2,    0.020,2,    1.630,2,    3.981,2,    1.874,2, -999.000,9, -999.000,9, -999.000,9
           NA,    P19C,    235,   1,-999.0,      53,  2,19930223,1844, -53.0827,  -74.9632,   485,  511.300,    4.981,   34.211,2,   34.213,2,  273.200,2,  273.100,2,   13.000,2,   23.970,2,    0.010,2,    1.680,2,    3.657,6,    1.725,6, -999.000,9, -999.000,9, -999.000,9