BOTTLE,20215010JOAExport
EXPOCODE,SECT_ID,STNNBR,CASTNO,SAMPNO,BTLNBR,BTLNBR_FLAG_W,DATE,TIME,LATITUDE,LONGITUDE,DEPTH,CTDPRS,CTDTMP,CTDSAL,CTDSAL_FLAG_W,SALNTY,SALNTY_FLAG_W,CTDOXY,CTDOXY_FLAG_W,OXYGEN,OXYGEN_FLAG_W,SILCAT,SILCAT_FLAG_W,NITRAT,NITRAT_FLAG_W,NITRIT,NITRIT_FLAG_W,PHSPHT,PHSPHT_FLAG_W,CFC-11,CFC-11_FLAG_W,CFC-12,CFC-12_FLAG_W,SF6,SF6_FLAG_W,TCARBN,TCARBN_FLAG_W,ALKALI,ALKALI_FLAG_W
,,,,,,,,,,,,DB,ITS-90,PSS-78,,PSS-78,,UMOL/KG,,UMOL/KG,,UMOL/KG,,UMOL/KG,,UMOL/KG,,UMOL/KG,,PMOL/KG,,PMOL/KG,,PMOL/KG,,UMOL/KG,,UMOL/KG
           NA,    P19C,    255,   1,-999.0,      36,  2,19930228,1837, -53.9928,  -87.1728,  4874,    3.800,    8.761,   34.112,2,   34.112,2,  293.900,2,  284.700,2,    2.100,2, -999.000,3,    0.250,2,    1.170,2, -999.000,9, -999.000,9, -999.000,9, 2084.000,2, -999.000,9
           NA,    P19C,    255,   1,-999.0,      35,  2,19930228,1837, -53.9928,  -87.1728,  4874,   37.200,    8.740,   34.112,2,   34.112,2,  281.800,2,  284.600,2,    2.100,2, -999.000,3,    0.250,2,    1.180,2, -999.000,9, -999.000,9, -999.000,9, -999.000,9, -999.000,9
           NA,    P19C,    255,   1,-999.0,      68,  2,19930228,1837, -53.9928,  -87.1728,  4874,   67.400,    7.751,   34.177,2,   34.166,2,  282.700,2,  288.900,2,    3.200,2, -999.000,3,    0.220,2,    1.270,2, -999.000,9, -999.000,9, -999.000,9, -999.000,9, -999.000,9
           NA,    P19C,    255,   1,-999.0,      33,  2,19930228,1837, -53.9928,  -87.1728,  4874,  103.300,    5.757,   34.177,2,   34.177,2,  299.600,2,  295.600,2,    6.800,2, -999.000,3,    0.350,2,    1.450,2, -999.000,9, -999.000,9, -999.000,9, -999.000,9, -999.000,9
           NA,    P19C,    255,   1,-999.0,      32,  2,19930228,1837, -53.9928,  -87.1728,  4874,  155.900,    5.718,   34.214,2,   34.215,2,  294.500,2,  292.900,2,    7.600,2, -999.000,3,    0.210,2,    1.440,2, -999.000,9, -999.000,9, -999.000,9, -999.000,9, -999.000,9
           NA,    P19C,    255,   1,-999.0,      31,  2,19930228,1837, -53.9928,  -87.1728,  4874,  205.900,    5.576,   34.217,2,   34.219,2,  283.800,2,  286.200,2,    8.100,2, -999.000,3,    0.010,2,    1.510,2, -999.000,9, -999.000,9, -999.000,9, -999.000,9, -999.000,9
           NA,    P19C,    255,   1,-999.0,      30,  2,19930228,1837, -53.9928,  -87.1728,  4874,  255.800,    5.540,   34.232,2,   34.233,2,  282.700,2,  281.400,2,    9.400,2, -999.000,3,    0.000,2,    1.540,2, -999.000,9, -999.000,9, -999.000,9, -999.000,9, -999.000,9
           NA,    P19C,    255,   1,-999.0,      29,  2,19930228,1837, -53.9928,  -87.1728,  4874,  301.500,    5.462,   34.234,2,   34.234,2,  276.000,2,  278.100,2,   10.100,2, -999.000,3,    0.000,2,    1.580,2, -999.000,9, -999.000,9, -999.000,9, -999.000,9, -999.000,9
           NA,    P19C,    255,   1,-999.0,      28,  2,19930228,1837, -53.9928,  -87.1728,  4874,  397.900,    5.296,   34.231,2,   34.232,2,  272.200,2,  276.900,2,   11.000,2, -999.000,3,    0.000,2,    1.620,2, -999.000,9, -999.000,9, -999.000,9, -999.000,9, -999.000,9
           NA,    P19C,    255,   1,-999.0,      27,  2,19930228,1837, -53.9928,  -87.1728,  4874,  497.400,    5.086,   34.229,2,   34.229,2,  263.200,2,  270.300,2,   12.800,2, -999.000,3,    0.000,2,    1.700,2, -999.000,9, -999.000,9, -999.000,9, -999.000,9, -999.000,9
           NA,    P19C,    255,   1,-999.0,      26,  2,19930228,1837, -53.9928,  -87.1728,  4874,  595.200,    4.826,   34.229,2,   34.229,2,  258.200,2,  262.000,2,   15.300,2, -999.000,3,    0.000,2,    1.780,2, -999.000,9, -999.000,9, -999.000,9, -999.000,9, -999.000,9
           NA,    P19C,    255,   1,-999.0,      25,  2,19930228,1837, -53.9928,  -87.1728,  4874,  693.200,    4.497,   34.231,2,   34.232,2,  250.400,2,  250.300,2,   19.800,2, -999.000,3,    0.000,2,    1.890,2, -999.000,9, -999.000,9, -999.000,9, -999.000,9, -999.000,9
           NA,    P19C,    255,   1,-999.0,      24,  2,19930228,1837, -53.9928,  -87.1728,  4874,  790.500,    4.167,   34.248,2,   34.249,2,  232.800,2,  234.200,2,   25.800,2, -999.000,3,    0.000,2,    2.020,2, -999.000,9, -999.000,9, -999.000,9, -999.000,9, -999.000,9
           NA,    P19C,    255,   1,-999.0,      23,  2,19930228,1837, -53.9928,  -87.1728,  4874,  891.500,    3.841,   34.276,2,   34.275,2,  219.900,2,  219.500,2,   33.100,2, -999.000,3,    0.000,2,    2.140,2, -999.000,9, -999.000,9, -999.000,9, -999.000,9, -999.000,9
           NA,    P19C,    255,   1,-999.0,      22,  2,19930228,1837, -53.9928,  -87.1728,  4874,  988.500,    3.430,   34.304,2,   34.304,2,  207.100,2,  211.900,2, -999.000,4, -999.000,4, -999.000,4, -999.000,4, -999.000,9, -999.000,9, -999.000,9, -999.000,9, -999.000,9
           NA,    P19C,    255,   1,-999.0,      21,  2,19930228,1837, -53.9928,  -87.1728,  4874, 1138.100,    3.073,   34.366,2,   34.365,2,  196.300,2,  196.400,2,   52.500,2, -999.000,3,    0.000,2,    2.320,2, -999.000,9, -999.000,9, -999.000,9, -999.000,9, -999.000,9
           NA,    P19C,    255,   1,-999.0,      20,  2,19930228,1837, -53.9928,  -87.1728,  4874, 1290.600,    2.813,   34.434,2,   34.433,2,  184.200,2,  183.400,2,   62.300,2, -999.000,3,    0.000,2,    2.380,2, -999.000,9, -999.000,9, -999.000,9, -999.000,9, -999.000,9
           NA,    P19C,    255,   1,-999.0,      19,  2,19930228,1837, -53.9928,  -87.1728,  4874, 1494.000,    2.566,   34.524,2,   34.523,2,  172.600,2,  172.800,2,   74.100,2, -999.000,3,    0.000,2,    2.400,2, -999.000,9, -999.000,9, -999.000,9, -999.000,9, -999.000,9
           NA,    P19C,    255,   1,-999.0,      18,  2,19930228,1837, -53.9928,  -87.1728,  4874, 1594.200,    2.491,   34.557,2,   34.558,2,  170.400,2,  170.700,2,   77.900,2, -999.000,3,    0.000,2,    2.380,2, -999.000,9, -999.000,9, -999.000,9, -999.000,9, -999.000,9
           NA,    P19C,    255,   1,-999.0,      17,  2,19930228,1837, -53.9928,  -87.1728,  4874, 1694.300,    2.440,   34.587,2,   34.587,2,  160.000,2,  167.500,2,   82.300,2, -999.000,3,    0.000,2,    2.380,2, -999.000,9, -999.000,9, -999.000,9, -999.000,9, -999.000,9
           NA,    P19C,    255,   1,-999.0,      16,  2,19930228,1837, -53.9928,  -87.1728,  4874, 1793.700,    2.372,   34.614,2,   34.614,2,  161.600,2,  162.100,2,   89.400,2, -999.000,3,    0.000,2,    2.410,2, -999.000,9, -999.000,9, -999.000,9, -999.000,9, -999.000,9
           NA,    P19C,    255,   1,-999.0,      15,  2,19930228,1837, -53.9928,  -87.1728,  4874, 1993.100,    2.222,   34.652,2,   34.653,2,  161.200,2,  164.500,2,   95.100,2, -999.000,3,    0.000,2,    2.370,2, -999.000,9, -999.000,9, -999.000,9, -999.000,9, -999.000,9
           NA,    P19C,    255,   1,-999.0,      14,  2,19930228,1837, -53.9928,  -87.1728,  4874, 2189.300,    2.086,   34.678,2,   34.678,2,  165.400,2,  167.200,2,  100.600,2, -999.000,3,    0.000,2,    2.340,2, -999.000,9, -999.000,9, -999.000,9, -999.000,9, -999.000,9
           NA,    P19C,    255,   1,-999.0,      13,  2,19930228,1837, -53.9928,  -87.1728,  4874, 2385.500,    1.946,   34.690,2,   34.691,2,  166.700,2,  168.500,2,  106.100,2, -999.000,3,    0.000,2,    2.350,2, -999.000,9, -999.000,9, -999.000,9, -999.000,9, -999.000,9
           NA,    P19C,    255,   1,-999.0,      12,  2,19930228,1837, -53.9928,  -87.1728,  4874, 2585.700,    1.847,   34.699,2,   34.699,2,  171.400,2,  171.900,2,  108.800,2, -999.000,3,    0.000,2,    2.320,2, -999.000,9, -999.000,9, -999.000,9, -999.000,9, -999.000,9
           NA,    P19C,    255,   1,-999.0,      11,  2,19930228,1837, -53.9928,  -87.1728,  4874, 2785.700,    1.771,   34.713,2,   34.713,2,  179.900,2,  179.900,2,  106.400,2, -999.000,3,    0.000,2,    2.280,2, -999.000,9, -999.000,9, -999.000,9, -999.000,9, -999.000,9
           NA,    P19C,    255,   1,-999.0,      10,  2,19930228,1837, -53.9928,  -87.1728,  4874, 2987.900,    1.649,   34.719,2,   34.717,2,  186.000,2,  184.300,2,  108.600,2, -999.000,3,    0.000,2,    2.250,2, -999.000,9, -999.000,9, -999.000,9, -999.000,9, -999.000,9
           NA,    P19C,    255,   1,-999.0,       9,  2,19930228,1837, -53.9928,  -87.1728,  4874, 3187.400,    1.535,   34.721,2,   34.720,2,  189.100,2,  189.500,2,  109.900,2, -999.000,3,    0.000,2,    2.240,2, -999.000,9, -999.000,9, -999.000,9, -999.000,9, -999.000,9
           NA,    P19C,    255,   1,-999.0,       8,  2,19930228,1837, -53.9928,  -87.1728,  4874, 3384.200,    1.389,   34.721,2,   34.721,2,  194.000,2,  193.800,2,  112.800,2, -999.000,3,    0.000,2,    2.230,2, -999.000,9, -999.000,9, -999.000,9, -999.000,9, -999.000,9
           NA,    P19C,    255,   1,-999.0,       7,  2,19930228,1837, -53.9928,  -87.1728,  4874, 3588.000,    1.242,   34.718,2,   34.718,2,  199.500,2,  196.600,2,  116.900,2, -999.000,3,    0.000,2,    2.230,2, -999.000,9, -999.000,9, -999.000,9, -999.000,9, -999.000,9
           NA,    P19C,    255,   1,-999.0,       6,  2,19930228,1837, -53.9928,  -87.1728,  4874, 3790.300,    1.074,   34.715,2,   34.715,2,  200.700,2,  200.100,2,  121.900,2, -999.000,3,    0.000,2,    2.240,2,   -0.002,2,    0.000,2, -999.000,9, -999.000,9, -999.000,9
           NA,    P19C,    255,   1,-999.0,       5,  2,19930228,1837, -53.9928,  -87.1728,  4874, 4035.700,    0.862,   34.711,2,   34.710,2,  205.400,2,  204.400,2,  128.300,2, -999.000,3,    0.000,2,    2.250,2,   -0.003,2,    0.000,2, -999.000,9, -999.000,9, -999.000,9
           NA,    P19C,    255,   1,-999.0,       4,  2,19930228,1837, -53.9928,  -87.1728,  4874, 4279.500,    0.709,   34.708,2,   34.707,2,  208.500,2,  207.400,2,  133.500,2, -999.000,3,    0.000,2,    2.260,2,   -0.011,2,    0.000,2, -999.000,9, -999.000,9, -999.000,9
           NA,    P19C,    255,   1,-999.0,       3,  2,19930228,1837, -53.9928,  -87.1728,  4874, 4530.800,    0.643,   34.707,2,   34.706,2,  209.400,2,  208.800,2,  135.900,2, -999.000,3,    0.000,2,    2.270,2,   -0.003,2,    0.000,2, -999.000,9, -999.000,9, -999.000,9
           NA,    P19C,    255,   1,-999.0,       2,  2,19930228,1837, -53.9928,  -87.1728,  4874, 4801.100,    0.631,   34.705,2,   34.706,2,  209.800,2,  209.700,2,  136.900,2, -999.000,3,    0.000,2,    2.270,2,   -0.005,2,    0.000,2, -999.000,9, -999.000,9, -999.000,9
           NA,    P19C,    255,   1,-999.0,       1,  2,19930228,1837, -53.9928,  -87.1728,  4874, 5066.000,    0.648,   34.706,2,   34.706,2,  208.800,2,  210.200,2,  137.400,2, -999.000,3,    0.000,2,    2.260,2,    0.000,2,    0.000,2, -999.000,9, -999.000,9, -999.000,9