BOTTLE,20215010JOAExport
EXPOCODE,SECT_ID,STNNBR,CASTNO,SAMPNO,BTLNBR,BTLNBR_FLAG_W,DATE,TIME,LATITUDE,LONGITUDE,DEPTH,CTDPRS,CTDTMP,CTDSAL,CTDSAL_FLAG_W,SALNTY,SALNTY_FLAG_W,CTDOXY,CTDOXY_FLAG_W,OXYGEN,OXYGEN_FLAG_W,SILCAT,SILCAT_FLAG_W,NITRAT,NITRAT_FLAG_W,NITRIT,NITRIT_FLAG_W,PHSPHT,PHSPHT_FLAG_W,CFC-11,CFC-11_FLAG_W,CFC-12,CFC-12_FLAG_W,SF6,SF6_FLAG_W,TCARBN,TCARBN_FLAG_W,ALKALI,ALKALI_FLAG_W
,,,,,,,,,,,,DB,ITS-90,PSS-78,,PSS-78,,UMOL/KG,,UMOL/KG,,UMOL/KG,,UMOL/KG,,UMOL/KG,,UMOL/KG,,PMOL/KG,,PMOL/KG,,PMOL/KG,,UMOL/KG,,UMOL/KG
           NA,    P17E,    170,   1,-999.0,       1,  2,19921230,1634, -51.2993, -122.5173,  3416,    2.000,    8.352,   34.362,2,   34.361,2, -999.000,3,  291.200,2,    1.900,2,   12.760,2,    0.190,2,    1.030,2, -999.000,9, -999.000,9, -999.000,9, 2084.100,2, -999.000,9
           NA,    P17E,    170,   1,-999.0,       2,  2,19921230,1634, -51.2993, -122.5173,  3416,   25.500,    8.351,   34.363,2,   34.361,2, -999.000,3,  292.100,2,    1.670,2,   12.760,2,    0.190,2,    1.030,2, -999.000,9, -999.000,9, -999.000,9, -999.000,9, -999.000,9
           NA,    P17E,    170,   1,-999.0,       3,  2,19921230,1634, -51.2993, -122.5173,  3416,   45.700,    8.332,   34.364,2,   34.363,2, -999.000,3,  292.100,2,    1.640,2,   12.760,2,    0.190,2,    1.030,2, -999.000,9, -999.000,9, -999.000,9, -999.000,9, -999.000,9
           NA,    P17E,    170,   1,-999.0,       4,  2,19921230,1634, -51.2993, -122.5173,  3416,   76.100,    7.649,   34.405,2,   34.407,2, -999.000,3,  287.000,2,    1.830,2,   14.230,2,    0.200,2,    1.190,2, -999.000,9, -999.000,9, -999.000,9, -999.000,9, -999.000,9
           NA,    P17E,    170,   1,-999.0,       5,  2,19921230,1634, -51.2993, -122.5173,  3416,  105.700,    7.328,   34.419,2,   34.417,2,  282.100,2,  282.300,2,    4.120,2,   15.760,2,    0.210,2,    1.250,2, -999.000,9, -999.000,9, -999.000,9, -999.000,9, -999.000,9
           NA,    P17E,    170,   1,-999.0,       6,  2,19921230,1634, -51.2993, -122.5173,  3416,  136.000,    7.183,   34.412,2,   34.410,2,  275.400,2,  272.500,2,    5.990,2,   17.630,2,    0.110,2,    1.330,2, -999.000,9, -999.000,9, -999.000,9, -999.000,9, -999.000,9
           NA,    P17E,    170,   1,-999.0,       7,  2,19921230,1634, -51.2993, -122.5173,  3416,  176.800,    7.094,   34.414,2,   34.414,2,  274.600,2,  274.200,2,    6.180,2,   17.820,2,    0.030,2,    1.320,2, -999.000,9, -999.000,9, -999.000,9, -999.000,9, -999.000,9
           NA,    P17E,    170,   1,-999.0,       8,  2,19921230,1634, -51.2993, -122.5173,  3416,  216.900,    7.069,   34.415,2,   34.415,2,  263.500,2,  276.600,2,    6.150,2,   17.700,2,    0.040,2,    1.310,2, -999.000,9, -999.000,9, -999.000,9, -999.000,9, -999.000,9
           NA,    P17E,    170,   1,-999.0,       9,  2,19921230,1634, -51.2993, -122.5173,  3416,  256.600,    6.908,   34.399,2,   34.392,2,  268.200,2,  271.300,2,    7.390,2,   18.810,2,    0.030,2,    1.380,2, -999.000,9, -999.000,9, -999.000,9, -999.000,9, -999.000,9
           NA,    P17E,    170,   1,-999.0,      10,  2,19921230,1634, -51.2993, -122.5173,  3416,  306.800,    6.669,   34.361,2,   34.361,2,  268.800,2,  260.400,2,    8.630,2,   20.650,2,    0.020,2,    1.490,2, -999.000,9, -999.000,9, -999.000,9, -999.000,9, -999.000,9
           NA,    P17E,    170,   1,-999.0,      11,  2,19921230,1634, -51.2993, -122.5173,  3416,  357.000,    6.680,   34.371,2,   34.371,2,  263.200,2,  272.800,2,    7.760,2,   19.390,2,    0.020,2,    1.410,2, -999.000,9, -999.000,9, -999.000,9, -999.000,9, -999.000,9
           NA,    P17E,    170,   1,-999.0,      12,  2,19921230,1634, -51.2993, -122.5173,  3416,  407.100,    6.511,   34.351,2,   34.350,2,  269.200,2,  273.000,2,    7.740,2,   19.680,2,    0.020,2,    1.430,2, -999.000,9, -999.000,9, -999.000,9, -999.000,9, -999.000,9
           NA,    P17E,    170,   1,-999.0,      13,  2,19921230,1634, -51.2993, -122.5173,  3416,  457.200,    6.338,   34.334,2,   34.334,2,  266.500,2,  271.500,2,    8.340,2,   20.310,2,    0.020,2,    1.470,2, -999.000,9, -999.000,9, -999.000,9, -999.000,9, -999.000,9
           NA,    P17E,    170,   1,-999.0,      14,  2,19921230,1634, -51.2993, -122.5173,  3416,  507.800,    6.206,   34.320,2,   34.320,2,  265.500,2,  267.600,2,    9.370,2,   21.120,2,    0.010,2,    1.520,2, -999.000,9, -999.000,9, -999.000,9, -999.000,9, -999.000,9
           NA,    P17E,    170,   1,-999.0,      15,  2,19921230,1634, -51.2993, -122.5173,  3416,  557.600,    6.066,   34.310,2,   34.309,2,  264.100,2,  269.200,2,    9.560,2,   21.230,2,    0.010,2,    1.540,2, -999.000,9, -999.000,9, -999.000,9, -999.000,9, -999.000,9
           NA,    P17E,    170,   1,-999.0,      16,  2,19921230,1634, -51.2993, -122.5173,  3416,  607.800,    5.811,   34.290,2,   34.290,2,  257.900,2,  254.900,2,   12.070,2,   23.130,2,    0.010,2,    1.660,2, -999.000,9, -999.000,9, -999.000,9, -999.000,9, -999.000,9
           NA,    P17E,    170,   1,-999.0,      17,  2,19921230,1634, -51.2993, -122.5173,  3416,  657.700,    5.615,   34.290,2,   34.287,2,  245.200,2,  245.500,2,   14.570,2,   24.400,2,    0.010,2,    1.740,2, -999.000,9, -999.000,9, -999.000,9, -999.000,9, -999.000,9
           NA,    P17E,    170,   1,-999.0,      18,  2,19921230,1634, -51.2993, -122.5173,  3416,  708.300,    5.384,   34.293,2,   34.293,2,  235.600,2,  234.400,2,   17.920,2,   25.850,2,    0.010,2,    1.830,2, -999.000,9, -999.000,9, -999.000,9, -999.000,9, -999.000,9
           NA,    P17E,    170,   1,-999.0,      19,  2,19921230,1634, -51.2993, -122.5173,  3416,  758.600,    5.182,   34.300,2,   34.299,2,  227.800,2,  227.000,2,   20.850,2,   26.890,2,    0.010,2,    1.880,2, -999.000,9, -999.000,9, -999.000,9, -999.000,9, -999.000,9
           NA,    P17E,    170,   1,-999.0,      20,  2,19921230,1634, -51.2993, -122.5173,  3416,  808.600,    4.927,   34.312,2,   34.309,2,  222.600,2,  219.300,2,   24.410,2,   27.930,2,    0.010,2,    1.960,2, -999.000,9, -999.000,9, -999.000,9, -999.000,9, -999.000,9
           NA,    P17E,    170,   1,-999.0,      21,  2,19921230,1634, -51.2993, -122.5173,  3416,  859.000,    4.701,   34.318,2,   34.316,2,  216.600,2,  214.400,2,   27.970,2,   28.860,2,    0.010,2,    2.010,2, -999.000,9, -999.000,9, -999.000,9, -999.000,9, -999.000,9
           NA,    P17E,    170,   1,-999.0,      22,  2,19921230,1634, -51.2993, -122.5173,  3416,  934.200,    4.317,   34.316,2,   34.316,2,  214.600,2,  211.600,2,   32.170,2,   29.850,2,    0.010,2,    2.090,2, -999.000,9, -999.000,9, -999.000,9, -999.000,9, -999.000,9
           NA,    P17E,    170,   1,-999.0,      23,  2,19921230,1634, -51.2993, -122.5173,  3416, 1010.000,    3.937,   34.323,2,   34.325,2,  209.900,2,  207.600,2,   36.990,2,   30.780,2,    0.010,2,    2.150,2, -999.000,9, -999.000,9, -999.000,9, -999.000,9, -999.000,9
           NA,    P17E,    170,   1,-999.0,      24,  2,19921230,1634, -51.2993, -122.5173,  3416, 1110.200,    3.524,   34.358,2,   34.353,2,  202.600,2,  199.500,2,   45.200,2,   31.830,2,    0.010,2,    2.230,2, -999.000,9, -999.000,9, -999.000,9, -999.000,9, -999.000,9
           NA,    P17E,    170,   1,-999.0,      25,  2,19921230,1634, -51.2993, -122.5173,  3416, 1312.700,    2.983,   34.420,2,   34.418,2,  188.500,2,  186.900,2,   58.260,2,   33.300,2,    0.000,2,    2.330,2, -999.000,9, -999.000,9, -999.000,9, -999.000,9, -999.000,9
           NA,    P17E,    170,   1,-999.0,      26,  2,19921230,1634, -51.2993, -122.5173,  3416, 1515.700,    2.652,   34.510,2,   34.506,2,  176.400,2,  175.300,2,   70.280,2,   33.880,2,    0.000,2,    2.370,2, -999.000,9, -999.000,9, -999.000,9, -999.000,9, -999.000,9
           NA,    P17E,    170,   1,-999.0,      27,  2,19921230,1634, -51.2993, -122.5173,  3416, 1718.400,    2.469,   34.586,2,   34.583,2,  170.800,2,  170.700,2,   78.300,2,   33.590,2,    0.000,2,    2.360,2, -999.000,9, -999.000,9, -999.000,9, -999.000,9, -999.000,9
           NA,    P17E,    170,   1,-999.0,      28,  2,19921230,1634, -51.2993, -122.5173,  3416, 1921.700,    2.340,   34.640,2,   34.641,2,  171.100,2,  171.300,2,   83.570,2,   33.010,2,    0.000,2,    2.310,2, -999.000,9, -999.000,9, -999.000,9, -999.000,9, -999.000,9
           NA,    P17E,    170,   1,-999.0,      29,  2,19921230,1634, -51.2993, -122.5173,  3416, 2124.700,    2.210,   34.678,2,   34.676,2,  170.800,2,  172.400,2,   90.330,2,   32.780,2,    0.000,2,    2.300,2, -999.000,9, -999.000,9, -999.000,9, -999.000,9, -999.000,9
           NA,    P17E,    170,   1,-999.0,      30,  2,19921230,1634, -51.2993, -122.5173,  3416, 2327.300,    2.113,   34.705,2,   34.705,2,  176.100,2,  178.600,2,   90.730,2,   31.960,2,    0.000,2,    2.230,2, -999.000,9, -999.000,9, -999.000,9, -999.000,9, -999.000,9
           NA,    P17E,    170,   1,-999.0,      31,  2,19921230,1634, -51.2993, -122.5173,  3416, 2530.000,    1.962,   34.720,2,   34.720,2,  180.600,2,  182.500,2,   94.960,2,   31.680,2,    0.000,2,    2.210,2, -999.000,9, -999.000,9, -999.000,9, -999.000,9, -999.000,9
           NA,    P17E,    170,   1,-999.0,      32,  2,19921230,1634, -51.2993, -122.5173,  3416, 2733.200,    1.814,   34.722,2,   34.722,2,  182.800,2,  184.000,2,  100.480,2,   31.740,2,    0.000,2,    2.220,2, -999.000,9, -999.000,9, -999.000,9, -999.000,9, -999.000,9
           NA,    P17E,    170,   1,-999.0,      33,  2,19921230,1634, -51.2993, -122.5173,  3416, 2935.800,    1.633,   34.720,2,   34.720,2,  185.500,2,  184.900,2,  107.300,2,   31.980,2,    0.000,2,    2.240,2, -999.000,9, -999.000,9, -999.000,9, -999.000,9, -999.000,9
           NA,    P17E,    170,   1,-999.0,      34,  2,19921230,1634, -51.2993, -122.5173,  3416, 3139.400,    1.466,   34.710,2,   34.710,2,  184.300,2,  184.300,2,  116.290,2,   32.740,2,    0.000,2,    2.280,2, -999.000,9, -999.000,9, -999.000,9, -999.000,9, -999.000,9
           NA,    P17E,    170,   1,-999.0,      35,  2,19921230,1634, -51.2993, -122.5173,  3416, 3341.900,    1.385,   34.711,2,   34.710,2,  187.400,2,  187.100,2,  117.560,2,   32.680,2,    0.000,2,    2.280,2, -999.000,9, -999.000,9, -999.000,9, -999.000,9, -999.000,9
           NA,    P17E,    170,   1,-999.0,      36,  2,19921230,1634, -51.2993, -122.5173,  3416, 3462.700,    1.366,   34.711,2,   34.711,2,  188.800,2,  187.900,2,  118.400,2,   32.690,2,    0.000,2,    2.280,2, -999.000,9, -999.000,9, -999.000,9, -999.000,9, -999.000,9