BOTTLE,20215010JOAExport
EXPOCODE,SECT_ID,STNNBR,CASTNO,SAMPNO,BTLNBR,BTLNBR_FLAG_W,DATE,TIME,LATITUDE,LONGITUDE,DEPTH,CTDPRS,CTDTMP,CTDSAL,CTDSAL_FLAG_W,SALNTY,SALNTY_FLAG_W,CTDOXY,CTDOXY_FLAG_W,OXYGEN,OXYGEN_FLAG_W,SILCAT,SILCAT_FLAG_W,NITRAT,NITRAT_FLAG_W,NITRIT,NITRIT_FLAG_W,PHSPHT,PHSPHT_FLAG_W,CFC-11,CFC-11_FLAG_W,CFC-12,CFC-12_FLAG_W,SF6,SF6_FLAG_W,TCARBN,TCARBN_FLAG_W,ALKALI,ALKALI_FLAG_W
,,,,,,,,,,,,DB,ITS-90,PSS-78,,PSS-78,,UMOL/KG,,UMOL/KG,,UMOL/KG,,UMOL/KG,,UMOL/KG,,UMOL/KG,,PMOL/KG,,PMOL/KG,,PMOL/KG,,UMOL/KG,,UMOL/KG
           NA,    P17E,    194,   1,-999.0,       1,  2,19930106,0346, -52.9768, -101.1375,  4458,    2.700,    7.667,   34.259,2,   34.258,2, -999.000,3,  292.800,2,    2.740,2,   14.580,2,    0.210,2,    1.150,2, -999.000,9, -999.000,9, -999.000,9, 2087.600,2, -999.000,9
           NA,    P17E,    194,   1,-999.0,       2,  2,19930106,0346, -52.9768, -101.1375,  4458,   26.600,    7.668,   34.259,2,   34.259,2, -999.000,3,  293.600,2,    2.500,2,   14.640,2,    0.210,2,    1.150,2, -999.000,9, -999.000,9, -999.000,9, 2086.600,2, -999.000,9
           NA,    P17E,    194,   1,-999.0,       3,  2,19930106,0346, -52.9768, -101.1375,  4458,   65.600,    7.599,   34.269,2,   34.270,2, -999.000,3,  292.400,2,    2.480,2,   14.650,2,    0.210,2,    1.160,2, -999.000,9, -999.000,9, -999.000,9, 2088.700,2, -999.000,9
           NA,    P17E,    194,   1,-999.0,       4,  2,19930106,0346, -52.9768, -101.1375,  4458,  106.500,    6.695,   34.262,2,   34.265,2,  286.000,2,  289.800,2,    4.550,2,   16.540,2,    0.340,2,    1.280,2, -999.000,9, -999.000,9, -999.000,9, 2100.000,2, -999.000,9
           NA,    P17E,    194,   1,-999.0,       5,  2,19930106,0346, -52.9768, -101.1375,  4458,  131.300,    6.575,   34.286,2,   34.288,2,  287.400,2,  284.600,2,    5.370,2,   17.650,2,    0.340,2,    1.320,2, -999.000,9, -999.000,9, -999.000,9, 2105.600,2, -999.000,9
           NA,    P17E,    194,   1,-999.0,       6,  2,19930106,0346, -52.9768, -101.1375,  4458,  165.800,    6.524,   34.289,2,   34.291,2,  288.600,2,  286.000,2,    5.560,2,   17.910,2,    0.070,2,    1.320,2, -999.000,9, -999.000,9, -999.000,9, 2106.200,2, -999.000,9
           NA,    P17E,    194,   1,-999.0,       7,  2,19930106,0346, -52.9768, -101.1375,  4458,  206.100,    6.503,   34.295,2,   34.296,2,  287.700,2,  286.100,2,    5.740,2,   18.010,2,    0.030,2,    1.330,2, -999.000,9, -999.000,9, -999.000,9, 2106.400,2, -999.000,9
           NA,    P17E,    194,   1,-999.0,       8,  2,19930106,0346, -52.9768, -101.1375,  4458,  255.700,    6.464,   34.297,2,   34.297,2,  289.800,2,  286.200,2,    5.720,2,   18.140,2,    0.020,2,    1.340,2, -999.000,9, -999.000,9, -999.000,9, 2106.400,2, -999.000,9
           NA,    P17E,    194,   1,-999.0,       9,  2,19930106,0346, -52.9768, -101.1375,  4458,  306.000,    6.375,   34.292,2,   34.292,2,  285.600,2,  283.200,2,    6.110,2,   18.830,2,    0.020,2,    1.370,2, -999.000,9, -999.000,9, -999.000,9, 2108.100,2, -999.000,9
           NA,    P17E,    194,   1,-999.0,      10,  2,19930106,0346, -52.9768, -101.1375,  4458,  367.000,    6.249,   34.284,2,   34.286,2,  279.300,2,  278.600,2,    6.930,2,   19.820,2,    0.020,2,    1.440,2, -999.000,9, -999.000,9, -999.000,9, 2115.800,2, -999.000,9
           NA,    P17E,    194,   1,-999.0,      11,  2,19930106,0346, -52.9768, -101.1375,  4458,  427.200,    6.117,   34.279,2,   34.278,2,  275.200,2,  275.200,2,    8.170,2,   20.810,2,    0.020,2,    1.500,2, -999.000,9, -999.000,9, -999.000,9, 2119.800,2, -999.000,9
           NA,    P17E,    194,   1,-999.0,      12,  2,19930106,0346, -52.9768, -101.1375,  4458,  506.700,    5.936,   34.271,2,   34.273,2,  272.000,2,  271.800,2,    8.990,2,   21.620,2,    0.020,2,    1.560,2, -999.000,9, -999.000,9, -999.000,9, 2123.000,2, -999.000,9
           NA,    P17E,    194,   1,-999.0,      13,  2,19930106,0346, -52.9768, -101.1375,  4458,  577.300,    5.708,   34.266,2,   34.269,2,  265.000,2,  265.600,2,   10.650,2,   22.730,2,    0.010,2,    1.620,2, -999.000,9, -999.000,9, -999.000,9, 2130.000,2, -999.000,9
           NA,    P17E,    194,   1,-999.0,      14,  2,19930106,0346, -52.9768, -101.1375,  4458,  644.500,    5.442,   34.260,2,   34.260,2,  254.800,2,  255.300,2,   13.370,2,   24.420,2,    0.010,2,    1.720,2, -999.000,9, -999.000,9, -999.000,9, 2138.300,2, -999.000,9
           NA,    P17E,    194,   1,-999.0,      15,  2,19930106,0346, -52.9768, -101.1375,  4458,  711.100,    5.167,   34.255,2,   34.254,2,  245.200,2,  250.200,2,   15.670,2,   25.480,2,    0.010,2,    1.800,2, -999.000,9, -999.000,9, -999.000,9, 2142.200,2, -999.000,9
           NA,    P17E,    194,   1,-999.0,      16,  2,19930106,0346, -52.9768, -101.1375,  4458,  780.200,    4.896,   34.256,2,   34.257,2,  240.800,2,  242.300,2,   19.020,2,   26.710,2,    0.010,2,    1.880,2, -999.000,9, -999.000,9, -999.000,9, 2154.900,2, -999.000,9
           NA,    P17E,    194,   1,-999.0,      17,  2,19930106,0346, -52.9768, -101.1375,  4458,  873.200,    4.405,   34.264,2,   34.264,2,  225.300,2,  230.200,2,   25.330,2,   28.530,2,    0.010,2,    2.020,2, -999.000,9, -999.000,9, -999.000,9, 2168.600,2, -999.000,9
           NA,    P17E,    194,   1,-999.0,      18,  2,19930106,0346, -52.9768, -101.1375,  4458, 1021.100,    3.732,   34.305,2,   34.305,2,  207.900,2,  212.300,2,   37.130,2,   31.000,2,    0.010,2,    2.180,2, -999.000,9, -999.000,9, -999.000,9, 2193.500,2, -999.000,9
           NA,    P17E,    194,   1,-999.0,      19,  2,19930106,0346, -52.9768, -101.1375,  4458, 1192.100,    3.171,   34.360,2,   34.360,2,  195.400,2,  197.900,2,   49.780,2,   32.650,2,    0.010,2,    2.300,2, -999.000,9, -999.000,9, -999.000,9, 2211.600,2, -999.000,9
           NA,    P17E,    194,   1,-999.0,      20,  2,19930106,0346, -52.9768, -101.1375,  4458, 1388.800,    2.783,   34.452,2,   34.452,2,  182.100,2,  180.500,2,   63.710,2,   33.840,2,    0.000,2,    2.370,2, -999.000,9, -999.000,9, -999.000,9, 2232.000,2, -999.000,9
           NA,    P17E,    194,   1,-999.0,      21,  2,19930106,0346, -52.9768, -101.1375,  4458, 1600.300,    2.544,   34.535,2,   34.534,2,  173.200,2,  172.800,2,   74.280,2,   33.830,2,    0.000,2,    2.370,2, -999.000,9, -999.000,9, -999.000,9, 2247.300,2, -999.000,9
           NA,    P17E,    194,   1,-999.0,      22,  2,19930106,0346, -52.9768, -101.1375,  4458, 1802.500,    2.399,   34.609,2,   34.609,2,  170.100,2,  169.900,2,   82.110,2,   33.420,2,    0.000,2,    2.350,2, -999.000,9, -999.000,9, -999.000,9, 2254.500,2, -999.000,9
           NA,    P17E,    194,   1,-999.0,      23,  2,19930106,0346, -52.9768, -101.1375,  4458, 2004.800,    2.269,   34.654,2,   34.655,2,  173.800,2,  171.500,2,   86.780,2,   32.820,2,    0.000,2,    2.320,2, -999.000,9, -999.000,9, -999.000,9, 2257.100,2, -999.000,9
           NA,    P17E,    194,   1,-999.0,      24,  2,19930106,0346, -52.9768, -101.1375,  4458, 2205.100,    2.144,   34.687,2,   34.687,2,  173.700,2,  175.000,2,   91.460,2,   32.410,2,    0.000,2,    2.290,2, -999.000,9, -999.000,9, -999.000,9, 2257.800,2, -999.000,9
           NA,    P17E,    194,   1,-999.0,      25,  2,19930106,0346, -52.9768, -101.1375,  4458, 2408.500,    1.991,   34.702,2,   34.703,2,  177.300,2,  175.800,2,   98.700,2,   32.350,2,    0.000,2,    2.280,2, -999.000,9, -999.000,9, -999.000,9, 2263.800,2, -999.000,9
           NA,    P17E,    194,   1,-999.0,      26,  2,19930106,0346, -52.9768, -101.1375,  4458, 2606.800,    1.846,   34.712,2,   34.713,2,  180.800,2,  179.600,2,  102.120,2,   32.050,2,    0.000,2,    2.270,2, -999.000,9, -999.000,9, -999.000,9, 2262.700,2, -999.000,9
           NA,    P17E,    194,   1,-999.0,      27,  2,19930106,0346, -52.9768, -101.1375,  4458, 2811.600,    1.703,   34.713,2,   34.714,2,  181.300,2,  181.100,2,  108.120,2,   32.170,2,    0.000,2,    2.280,2, -999.000,9, -999.000,9, -999.000,9, 2269.500,2, -999.000,9
           NA,    P17E,    194,   1,-999.0,      28,  2,19930106,0346, -52.9768, -101.1375,  4458, 3016.900,    1.606,   34.716,2,   34.717,2,  184.500,2,  184.800,2,  110.060,2,   31.990,2,    0.000,2,    2.260,2, -999.000,9, -999.000,9, -999.000,9, 2268.000,2, -999.000,9
           NA,    P17E,    194,   1,-999.0,      29,  2,19930106,0346, -52.9768, -101.1375,  4458, 3217.800,    1.510,   34.718,2,   34.719,2,  187.200,2,  189.000,2,  110.920,2,   31.820,2,    0.000,2,    2.250,2, -999.000,9, -999.000,9, -999.000,9, 2264.400,2, -999.000,9
           NA,    P17E,    194,   1,-999.0,      30,  2,19930106,0346, -52.9768, -101.1375,  4458, 3422.100,    1.377,   34.718,2,   34.719,2,  190.000,2,  192.800,2,  114.150,2,   31.820,2,    0.000,2,    2.250,2, -999.000,9, -999.000,9, -999.000,9, 2263.500,2, -999.000,9
           NA,    P17E,    194,   1,-999.0,      31,  2,19930106,0346, -52.9768, -101.1375,  4458, 3630.200,    1.184,   34.715,2,   34.716,2,  193.000,2,  197.100,2,  119.770,2,   31.930,2,    0.000,2,    2.250,2, -999.000,9, -999.000,9, -999.000,9, 2263.600,2, -999.000,9
           NA,    P17E,    194,   1,-999.0,      32,  2,19930106,0346, -52.9768, -101.1375,  4458, 3834.000,    0.992,   34.713,2,   34.713,2,  200.000,2,  200.700,2,  125.640,2,   32.050,2,    0.000,2,    2.260,2, -999.000,9, -999.000,9, -999.000,9, 2262.000,2, -999.000,9
           NA,    P17E,    194,   1,-999.0,      33,  2,19930106,0346, -52.9768, -101.1375,  4458, 4038.300,    0.823,   34.709,2,   34.710,2,  201.900,2,  203.500,2,  131.540,2,   32.170,2,    0.000,2,    2.280,2, -999.000,9, -999.000,9, -999.000,9, 2266.200,2, -999.000,9
           NA,    P17E,    194,   1,-999.0,      34,  2,19930106,0346, -52.9768, -101.1375,  4458, 4240.800,    0.730,   34.708,2,   34.708,2,  205.100,2,  206.000,2,  135.060,2,   32.170,2,    0.000,2,    2.280,2, -999.000,9, -999.000,9, -999.000,9, 2267.100,2, -999.000,9
           NA,    P17E,    194,   1,-999.0,      35,  2,19930106,0346, -52.9768, -101.1375,  4458, 4421.000,    0.705,   34.707,2,   34.708,2,  206.900,2,  206.800,2,  135.940,2,   32.230,2,    0.000,2,    2.270,2, -999.000,9, -999.000,9, -999.000,9, 2266.100,2, -999.000,9
           NA,    P17E,    194,   1,-999.0,      36,  2,19930106,0346, -52.9768, -101.1375,  4458, 4541.400,    0.707,   34.707,2,   34.707,2,  207.900,2,  207.000,2,  136.610,2,   32.170,2,    0.000,2,    2.270,2, -999.000,9, -999.000,9, -999.000,9, 2267.100,2, -999.000,9