BOTTLE,20215010JOAExport
EXPOCODE,SECT_ID,STNNBR,CASTNO,SAMPNO,BTLNBR,BTLNBR_FLAG_W,DATE,TIME,LATITUDE,LONGITUDE,DEPTH,CTDPRS,CTDTMP,CTDSAL,CTDSAL_FLAG_W,SALNTY,SALNTY_FLAG_W,CTDOXY,CTDOXY_FLAG_W,OXYGEN,OXYGEN_FLAG_W,SILCAT,SILCAT_FLAG_W,NITRAT,NITRAT_FLAG_W,NITRIT,NITRIT_FLAG_W,PHSPHT,PHSPHT_FLAG_W,CFC-11,CFC-11_FLAG_W,CFC-12,CFC-12_FLAG_W,SF6,SF6_FLAG_W,TCARBN,TCARBN_FLAG_W,ALKALI,ALKALI_FLAG_W
,,,,,,,,,,,,DB,ITS-90,PSS-78,,PSS-78,,UMOL/KG,,UMOL/KG,,UMOL/KG,,UMOL/KG,,UMOL/KG,,UMOL/KG,,PMOL/KG,,PMOL/KG,,PMOL/KG,,UMOL/KG,,UMOL/KG
           NA,    P17E,    186,   1,-999.0,       1,  2,19930103,0819, -52.3347, -109.3637,  3901,    4.900,    7.619,   34.298,2,   34.297,2, -999.000,5,  290.700,2,    2.140,2,   14.450,2,    0.220,2,    1.160,2, -999.000,9, -999.000,9, -999.000,9, 2090.800,2, -999.000,9
           NA,    P17E,    186,   1,-999.0,       2,  2,19930103,0819, -52.3347, -109.3637,  3901,   25.900,    7.621,   34.298,2,   34.298,2, -999.000,5,  290.700,2,    1.860,2,   14.390,2,    0.220,2,    1.150,2, -999.000,9, -999.000,9, -999.000,9, 2092.100,2, -999.000,9
           NA,    P17E,    186,   1,-999.0,       3,  2,19930103,0819, -52.3347, -109.3637,  3901,   55.300,    7.614,   34.298,2,   34.298,2, -999.000,5,  290.700,2,    1.790,2,   14.450,2,    0.220,2,    1.160,2, -999.000,9, -999.000,9, -999.000,9, 2089.400,2, -999.000,9
           NA,    P17E,    186,   1,-999.0,       4,  2,19930103,0819, -52.3347, -109.3637,  3901,   80.200,    7.591,   34.300,2,   34.299,2, -999.000,5, -999.000,9,    1.720,2,   14.510,2,    0.220,2,    1.180,2, -999.000,9, -999.000,9, -999.000,9, -999.000,9, -999.000,9
           NA,    P17E,    186,   1,-999.0,       5,  2,19930103,0819, -52.3347, -109.3637,  3901,  105.100,    7.235,   34.308,2,   34.308,2, -999.000,5,  291.000,2,    2.060,2,   15.020,2,    0.210,2,    1.200,2, -999.000,9, -999.000,9, -999.000,9, 2094.800,2, -999.000,9
           NA,    P17E,    186,   1,-999.0,       6,  2,19930103,0819, -52.3347, -109.3637,  3901,  125.700,    6.827,   34.304,2,   34.307,2, -999.000,5,  283.700,2,    4.500,2,   16.810,2,    0.260,2,    1.290,2, -999.000,9, -999.000,9, -999.000,9, 2103.900,2, -999.000,9
           NA,    P17E,    186,   1,-999.0,       7,  2,19930103,0819, -52.3347, -109.3637,  3901,  143.800,    6.816,   34.315,2,   34.316,2, -999.000,5,  283.300,2,    4.850,2,   17.130,2,    0.110,2,    1.310,2, -999.000,9, -999.000,9, -999.000,9, 2105.700,2, -999.000,9
           NA,    P17E,    186,   1,-999.0,       8,  2,19930103,0819, -52.3347, -109.3637,  3901,  203.600,    6.739,   34.325,2,   34.331,2, -999.000,5,  280.400,2,    5.620,2,   18.040,2,    0.040,2,    1.350,2, -999.000,9, -999.000,9, -999.000,9, 2111.500,2, -999.000,9
           NA,    P17E,    186,   1,-999.0,       9,  2,19930103,0819, -52.3347, -109.3637,  3901,  253.600,    6.692,   34.330,2,   34.331,2, -999.000,5,  279.300,2,    5.960,2,   18.440,2,    0.030,2,    1.370,2, -999.000,9, -999.000,9, -999.000,9, 2111.900,2, -999.000,9
           NA,    P17E,    186,   1,-999.0,      10,  2,19930103,0819, -52.3347, -109.3637,  3901,  301.400,    6.614,   34.325,2,   34.325,2, -999.000,5,  280.500,2,    6.100,2,   18.570,2,    0.020,2,    1.390,2, -999.000,9, -999.000,9, -999.000,9, 2111.700,2, -999.000,9
           NA,    P17E,    186,   1,-999.0,      11,  2,19930103,0819, -52.3347, -109.3637,  3901,  349.000,    6.539,   34.321,2,   34.322,2, -999.000,5,  278.100,2,    6.450,2,   19.130,2,    0.010,2,    1.420,2, -999.000,9, -999.000,9, -999.000,9, 2113.900,2, -999.000,9
           NA,    P17E,    186,   1,-999.0,      12,  2,19930103,0819, -52.3347, -109.3637,  3901,  423.800,    6.412,   34.313,2,   34.313,2, -999.000,5,  284.300,2,    6.170,2,   18.910,2,    0.010,2,    1.410,2, -999.000,9, -999.000,9, -999.000,9, 2111.300,2, -999.000,9
           NA,    P17E,    186,   1,-999.0,      13,  2,19930103,0819, -52.3347, -109.3637,  3901,  501.700,    6.221,   34.295,2,   34.296,2, -999.000,5,  282.600,2,    6.720,2,   19.590,2,    0.010,2,    1.450,2, -999.000,9, -999.000,9, -999.000,9, 2115.700,2, -999.000,9
           NA,    P17E,    186,   1,-999.0,      14,  2,19930103,0819, -52.3347, -109.3637,  3901,  574.700,    6.050,   34.285,2,   34.286,2, -999.000,5,  263.900,2,    9.800,2,   22.290,2,    0.000,2,    1.620,2, -999.000,9, -999.000,9, -999.000,9, 2129.700,2, -999.000,9
           NA,    P17E,    186,   1,-999.0,      15,  2,19930103,0819, -52.3347, -109.3637,  3901,  649.600,    5.707,   34.267,2,   34.266,2, -999.000,5,  258.000,2,   12.030,2,   23.640,2,    0.000,2,    1.700,2, -999.000,9, -999.000,9, -999.000,9, 2137.000,2, -999.000,9
           NA,    P17E,    186,   1,-999.0,      16,  2,19930103,0819, -52.3347, -109.3637,  3901,  722.900,    5.375,   34.269,2,   34.268,2, -999.000,5,  247.700,2,   14.900,2,   25.220,2,    0.000,2,    1.810,2, -999.000,9, -999.000,9, -999.000,9, 2147.100,2, -999.000,9
           NA,    P17E,    186,   1,-999.0,      17,  2,19930103,0819, -52.3347, -109.3637,  3901,  801.400,    5.027,   34.274,2,   34.274,2, -999.000,5,  233.900,2,   20.070,2,   27.090,2,    0.000,2,    1.930,2, -999.000,9, -999.000,9, -999.000,9, 2159.900,2, -999.000,9
           NA,    P17E,    186,   1,-999.0,      18,  2,19930103,0819, -52.3347, -109.3637,  3901,  903.100,    4.459,   34.284,2,   34.284,2, -999.000,5,  222.500,2,   26.920,2,   29.190,2,    0.000,2,    2.060,2, -999.000,9, -999.000,9, -999.000,9, 2175.100,2, -999.000,9
           NA,    P17E,    186,   1,-999.0,      19,  2,19930103,0819, -52.3347, -109.3637,  3901, 1006.700,    3.953,   34.300,2,   34.300,2, -999.000,5,  214.400,2,   33.980,2,   30.730,2,    0.000,2,    2.170,2, -999.000,9, -999.000,9, -999.000,9, 2186.200,2, -999.000,9
           NA,    P17E,    186,   1,-999.0,      20,  2,19930103,0819, -52.3347, -109.3637,  3901, 1211.300,    3.213,   34.362,2,   34.360,2, -999.000,5,  197.100,2,   49.020,2,   32.960,2,    0.000,2,    2.320,2, -999.000,9, -999.000,9, -999.000,9, 2212.000,2, -999.000,9
           NA,    P17E,    186,   1,-999.0,      21,  2,19930103,0819, -52.3347, -109.3637,  3901, 1414.300,    2.748,   34.452,2,   34.450,2, -999.000,5,  182.300,2,   63.650,2,   33.820,2,    0.000,2,    2.390,2, -999.000,9, -999.000,9, -999.000,9, 2235.000,2, -999.000,9
           NA,    P17E,    186,   1,-999.0,      22,  2,19930103,0819, -52.3347, -109.3637,  3901, 1618.200,    2.543,   34.537,2,   34.538,2, -999.000,5,  173.100,2,   73.460,2,   33.820,2,    0.000,2,    2.410,2, -999.000,9, -999.000,9, -999.000,9, 2246.700,2, -999.000,9
           NA,    P17E,    186,   1,-999.0,      23,  2,19930103,0819, -52.3347, -109.3637,  3901, 1820.200,    2.387,   34.609,2,   34.609,2, -999.000,5,  170.200,2,   81.600,2,   33.700,2,    0.000,2,    2.390,2, -999.000,9, -999.000,9, -999.000,9, 2255.400,2, -999.000,9
           NA,    P17E,    186,   1,-999.0,      24,  2,19930103,0819, -52.3347, -109.3637,  3901, 2022.200,    2.269,   34.655,2,   34.656,2, -999.000,5,  170.800,2,   87.650,2,   33.250,2,    0.000,2,    2.350,2, -999.000,9, -999.000,9, -999.000,9, 2258.200,2, -999.000,9
           NA,    P17E,    186,   1,-999.0,      25,  2,19930103,0819, -52.3347, -109.3637,  3901, 2222.000,    2.144,   34.685,2,   34.686,2, -999.000,5,  173.000,2,   92.870,2,   32.910,2,    0.000,2,    2.330,2, -999.000,9, -999.000,9, -999.000,9, 2261.300,2, -999.000,9
           NA,    P17E,    186,   1,-999.0,      27,  2,19930103,0819, -52.3347, -109.3637,  3901, 2418.600,    1.985,   34.701,2,   34.702,2, -999.000,5,  174.300,2,   99.520,2,   32.690,2,    0.000,2,    2.310,2, -999.000,9, -999.000,9, -999.000,9, 2268.900,2, -999.000,9
           NA,    P17E,    186,   1,-999.0,      26,  2,19930103,0819, -52.3347, -109.3637,  3901, 2419.300,    1.988,   34.701,2,   34.702,2, -999.000,5,  174.800,2,   99.370,2,   32.680,2,    0.000,2,    2.320,2, -999.000,9, -999.000,9, -999.000,9, 2267.600,2, -999.000,9
           NA,    P17E,    186,   1,-999.0,      28,  2,19930103,0819, -52.3347, -109.3637,  3901, 2622.900,    1.807,   34.706,2,   34.707,2, -999.000,5,  175.800,2,  106.680,2,   32.800,2,    0.000,2,    2.330,2, -999.000,9, -999.000,9, -999.000,9, 2273.800,2, -999.000,9
           NA,    P17E,    186,   1,-999.0,      29,  2,19930103,0819, -52.3347, -109.3637,  3901, 2820.800,    1.695,   34.709,2,   34.711,2, -999.000,5,  180.100,2,  109.600,2,   32.750,2,    0.000,2,    2.310,2, -999.000,9, -999.000,9, -999.000,9, 2273.100,2, -999.000,9
           NA,    P17E,    186,   1,-999.0,      30,  2,19930103,0819, -52.3347, -109.3637,  3901, 3027.500,    1.618,   34.714,2,   34.715,2, -999.000,5,  183.200,2,  110.600,2,   32.520,2,    0.000,2,    2.300,2, -999.000,9, -999.000,9, -999.000,9, 2270.900,2, -999.000,9
           NA,    P17E,    186,   1,-999.0,      31,  2,19930103,0819, -52.3347, -109.3637,  3901, 3234.600,    1.547,   34.717,2,   34.718,2, -999.000,5,  187.600,2,  111.390,2,   32.360,2,    0.000,2,    2.280,2, -999.000,9, -999.000,9, -999.000,9, 2273.500,2, -999.000,9
           NA,    P17E,    186,   1,-999.0,      32,  2,19930103,0819, -52.3347, -109.3637,  3901, 3438.500,    1.445,   34.718,2,   34.720,2, -999.000,5,  190.800,2,  113.250,2,   32.130,2,    0.000,2,    2.270,2, -999.000,9, -999.000,9, -999.000,9, 2266.700,2, -999.000,9
           NA,    P17E,    186,   1,-999.0,      33,  2,19930103,0819, -52.3347, -109.3637,  3901, 3643.700,    1.268,   34.716,2,   34.717,2, -999.000,5,  194.600,2,  118.540,2,   32.250,2,    0.000,2,    2.270,2, -999.000,9, -999.000,9, -999.000,9, 2265.300,2, -999.000,9
           NA,    P17E,    186,   1,-999.0,      34,  4,19930103,0819, -52.3347, -109.3637,  3901, 3643.700,    1.268,   34.716,2, -999.000,2, -999.000,5, -999.000,2, -999.000,2, -999.000,2, -999.000,2, -999.000,2, -999.000,9, -999.000,9, -999.000,9, -999.000,2, -999.000,9
           NA,    P17E,    186,   1,-999.0,      35,  2,19930103,0819, -52.3347, -109.3637,  3901, 3849.500,    1.011,   34.712,2,   34.713,2, -999.000,5,  199.200,2,  126.810,2,   32.540,2,    0.000,2,    2.280,2, -999.000,9, -999.000,9, -999.000,9, 2268.800,2, -999.000,9
           NA,    P17E,    186,   1,-999.0,      36,  2,19930103,0819, -52.3347, -109.3637,  3901, 3978.000,    0.985,   34.711,2,   34.713,2, -999.000,5,  199.800,2,  127.830,2,   32.600,2,    0.000,2,    2.280,2, -999.000,9, -999.000,9, -999.000,9, 2270.000,2, -999.000,9