BOTTLE,20215010JOAExport
EXPOCODE,SECT_ID,STNNBR,CASTNO,SAMPNO,BTLNBR,BTLNBR_FLAG_W,DATE,TIME,LATITUDE,LONGITUDE,DEPTH,CTDPRS,CTDTMP,CTDSAL,CTDSAL_FLAG_W,SALNTY,SALNTY_FLAG_W,CTDOXY,CTDOXY_FLAG_W,OXYGEN,OXYGEN_FLAG_W,SILCAT,SILCAT_FLAG_W,NITRAT,NITRAT_FLAG_W,NITRIT,NITRIT_FLAG_W,PHSPHT,PHSPHT_FLAG_W,CFC-11,CFC-11_FLAG_W,CFC-12,CFC-12_FLAG_W,SF6,SF6_FLAG_W,TCARBN,TCARBN_FLAG_W,ALKALI,ALKALI_FLAG_W
,,,,,,,,,,,,DB,ITS-90,PSS-78,,PSS-78,,UMOL/KG,,UMOL/KG,,UMOL/KG,,UMOL/KG,,UMOL/KG,,UMOL/KG,,PMOL/KG,,PMOL/KG,,PMOL/KG,,UMOL/KG,,UMOL/KG
           NA,    P17E,    138,   1,-999.0,       1,  2,19921217,0240, -52.5048, -126.7638,  3815,    3.000,    7.737,   34.430,2,   34.431,2, -999.000,3,  296.100,2,    2.260,2,   14.530,2,    0.170,2,    1.060,2,    4.025,2,    2.024,2, -999.000,9, 2091.800,2, -999.000,9
           NA,    P17E,    138,   1,-999.0,       2,  2,19921217,0240, -52.5048, -126.7638,  3815,   26.300,    7.713,   34.432,2,   34.432,2, -999.000,3,  295.500,2,    2.230,2,   14.520,2,    0.170,2,    1.050,2, -999.000,9, -999.000,9, -999.000,9, -999.000,9, -999.000,9
           NA,    P17E,    138,   1,-999.0,       3,  2,19921217,0240, -52.5048, -126.7638,  3815,   56.500,    7.670,   34.435,2,   34.434,2, -999.000,3,  293.800,2,    2.410,2,   14.420,2,    0.170,2,    1.050,2,    4.067,2,    1.994,2, -999.000,9, -999.000,9, -999.000,9
           NA,    P17E,    138,   1,-999.0,       4,  2,19921217,0240, -52.5048, -126.7638,  3815,   80.800,    7.428,   34.443,2,   34.443,2, -999.000,3,  284.600,2,    4.880,2,   15.430,2,    0.190,2,    1.210,2, -999.000,9, -999.000,9, -999.000,9, -999.000,9, -999.000,9
           NA,    P17E,    138,   1,-999.0,       5,  2,19921217,0240, -52.5048, -126.7638,  3815,  105.900,    7.391,   34.443,2,   34.443,2,  286.400,2,  282.800,2,    5.060,2,   15.690,2,    0.190,2,    1.220,2,    3.978,2,    1.974,2, -999.000,9, -999.000,9, -999.000,9
           NA,    P17E,    138,   1,-999.0,       6,  2,19921217,0240, -52.5048, -126.7638,  3815,  136.400,    7.377,   34.442,2,   34.442,2,  281.700,2,  282.600,2,    5.030,2,   15.800,2,    0.190,2,    1.210,2, -999.000,9, -999.000,9, -999.000,9, -999.000,9, -999.000,9
           NA,    P17E,    138,   1,-999.0,       7,  2,19921217,0240, -52.5048, -126.7638,  3815,  165.700,    7.376,   34.443,2,   34.443,2,  277.700,2,  281.400,2,    5.210,2,   15.920,2,    0.170,2,    1.230,2,    3.946,2,    1.967,2, -999.000,9, -999.000,9, -999.000,9
           NA,    P17E,    138,   1,-999.0,       8,  2,19921217,0240, -52.5048, -126.7638,  3815,  204.600,    7.318,   34.437,2,   34.437,2,  275.000,2,  278.700,2,    5.390,2,   16.720,2,    0.100,2,    1.260,2, -999.000,9, -999.000,9, -999.000,9, -999.000,9, -999.000,9
           NA,    P17E,    138,   1,-999.0,       9,  2,19921217,0240, -52.5048, -126.7638,  3815,  243.700,    7.252,   34.430,2,   34.430,2,  275.700,2,  277.300,2,    5.780,2,   17.190,2,    0.050,2,    1.290,2,    3.800,2,    1.894,2, -999.000,9, -999.000,9, -999.000,9
           NA,    P17E,    138,   1,-999.0,      10,  2,19921217,0240, -52.5048, -126.7638,  3815,  281.600,    7.158,   34.420,2,   34.421,2,  271.900,2,  276.800,2,    6.160,2,   17.570,2,    0.080,2,    1.300,2, -999.000,9, -999.000,9, -999.000,9, -999.000,9, -999.000,9
           NA,    P17E,    138,   1,-999.0,      11,  2,19921217,0240, -52.5048, -126.7638,  3815,  326.600,    7.057,   34.410,2,   34.410,2,  267.300,2,  277.700,2,    6.140,2,   17.700,2,    0.100,2,    1.310,2,    3.759,2,    1.837,2, -999.000,9, -999.000,9, -999.000,9
           NA,    P17E,    138,   1,-999.0,      12,  2,19921217,0240, -52.5048, -126.7638,  3815,  376.000,    6.862,   34.385,2,   34.384,2,  263.700,2,  267.100,2,    7.570,2,   19.630,2,    0.010,2,    1.430,2, -999.000,3,    1.668,2, -999.000,9, -999.000,9, -999.000,9
           NA,    P17E,    138,   1,-999.0,      13,  2,19921217,0240, -52.5048, -126.7638,  3815,  450.900,    6.683,   34.367,2,   34.368,2,  265.800,2,  267.200,2,    7.960,2,   20.040,2,    0.020,2,    1.460,2,    3.316,6,    1.684,6, -999.000,9, -999.000,9, -999.000,9
           NA,    P17E,    138,   1,-999.0,      14,  2,19921217,0240, -52.5048, -126.7638,  3815,  526.800,    6.384,   34.336,2,   34.333,2,  271.200,2,  260.700,2,    9.600,2,   21.560,2,    0.010,2,    1.560,2, -999.000,9, -999.000,9, -999.000,9, -999.000,9, -999.000,9
           NA,    P17E,    138,   1,-999.0,      15,  2,19921217,0240, -52.5048, -126.7638,  3815,  612.600,    6.023,   34.306,2,   34.300,2,  254.000,2,  257.800,2,   11.240,2,   22.820,2,    0.010,2,    1.630,2,    3.025,6,    1.446,6, -999.000,9, -999.000,9, -999.000,9
           NA,    P17E,    138,   1,-999.0,      16,  2,19921217,0240, -52.5048, -126.7638,  3815,  687.400,    5.295,   34.209,2,   34.209,2,  284.000,2,  288.400,2,    9.330,2,   21.820,2,    0.010,2,    1.580,2, -999.000,3, -999.000,3, -999.000,9, -999.000,9, -999.000,9
           NA,    P17E,    138,   1,-999.0,      17,  2,19921217,0240, -52.5048, -126.7638,  3815,  752.000,    5.368,   34.271,2,   34.270,2,  259.700,2,  244.000,2,   16.190,2,   25.390,2,    0.000,2,    1.810,2,    2.549,2,    1.193,2, -999.000,9, -999.000,9, -999.000,9
           NA,    P17E,    138,   1,-999.0,      18,  2,19921217,0240, -52.5048, -126.7638,  3815,  829.300,    5.225,   34.313,2,   34.313,2,  223.800,2,  222.600,2,   22.010,2,   27.230,2,    0.000,2,    1.930,2,    1.650,2,    0.774,2, -999.000,9, -999.000,9, -999.000,9
           NA,    P17E,    138,   1,-999.0,      19,  2,19921217,0240, -52.5048, -126.7638,  3815,  905.800,    4.769,   34.327,2,   34.322,2,  213.700,2,  214.100,2,   27.830,2,   28.800,2,    0.000,2,    2.030,2,    1.342,2,    0.618,2, -999.000,9, -999.000,9, -999.000,9
           NA,    P17E,    138,   1,-999.0,      20,  2,19921217,0240, -52.5048, -126.7638,  3815, 1006.000,    4.193,   34.327,2,   34.325,2,  207.500,2,  209.100,2,   34.280,2,   30.110,2,    0.000,2,    2.130,2,    1.118,2,    0.500,2, -999.000,9, -999.000,9, -999.000,9
           NA,    P17E,    138,   1,-999.0,      21,  2,19921217,0240, -52.5048, -126.7638,  3815, 1108.300,    3.797,   34.351,2,   34.350,2,  202.300,2,  201.400,2,   41.990,2,   31.320,2,    0.000,2,    2.210,2,    0.847,2,    0.390,2, -999.000,9, -999.000,9, -999.000,9
           NA,    P17E,    138,   1,-999.0,      22,  2,19921217,0240, -52.5048, -126.7638,  3815, 1209.600,    3.404,   34.379,2,   34.378,2,  196.300,2,  195.000,2,   49.280,2,   32.260,2,    0.000,2,    2.280,2,    0.702,2,    0.321,2, -999.000,9, -999.000,9, -999.000,9
           NA,    P17E,    138,   1,-999.0,      23,  2,19921217,0240, -52.5048, -126.7638,  3815, 1359.900,    2.985,   34.428,2,   34.426,2,  186.600,2,  186.800,2,   58.670,2,   33.210,2,    0.000,2,    2.340,2,    0.565,2,    0.256,2, -999.000,9, -999.000,9, -999.000,9
           NA,    P17E,    138,   1,-999.0,      24,  2,19921217,0240, -52.5048, -126.7638,  3815, 1510.300,    2.713,   34.488,2,   34.487,2,  180.100,2,  178.800,2,   67.020,2,   33.620,2,    0.000,2,    2.380,2,    0.415,2,    0.181,2, -999.000,9, -999.000,9, -999.000,9
           NA,    P17E,    138,   1,-999.0,      25,  2,19921217,0240, -52.5048, -126.7638,  3815, 1707.400,    2.526,   34.574,2,   34.573,2,  171.000,2,  171.200,2,   77.690,2,   33.510,2,    0.000,2,    2.370,2,    0.171,2,    0.076,2, -999.000,9, -999.000,9, -999.000,9
           NA,    P17E,    138,   1,-999.0,      26,  2,19921217,0240, -52.5048, -126.7638,  3815, 1906.600,    2.367,   34.630,2,   34.630,2,  171.100,2,  171.500,2,   82.710,2,   32.930,2,    0.000,2,    2.330,2,    0.108,2,    0.049,2, -999.000,9, -999.000,9, -999.000,9
           NA,    P17E,    138,   1,-999.0,      27,  2,19921217,0240, -52.5048, -126.7638,  3815, 2107.000,    2.251,   34.672,2,   34.673,2,  173.600,2,  175.300,2,   86.270,2,   32.400,2,    0.000,2,    2.290,2,    0.063,2,    0.034,2, -999.000,9, -999.000,9, -999.000,9
           NA,    P17E,    138,   1,-999.0,      28,  2,19921217,0240, -52.5048, -126.7638,  3815, 2306.000,    2.142,   34.702,2,   34.702,2,  178.400,2,  179.900,2,   87.940,2,   31.760,2,    0.000,2,    2.240,2,    0.047,2,    0.022,2, -999.000,9, -999.000,9, -999.000,9
           NA,    P17E,    138,   1,-999.0,      29,  2,19921217,0240, -52.5048, -126.7638,  3815, 2505.900,    1.997,   34.718,2,   34.719,2,  181.700,2,  183.200,2,   93.190,2,   31.500,2,    0.000,2,    2.220,2,    0.025,2,    0.010,2, -999.000,9, -999.000,9, -999.000,9
           NA,    P17E,    138,   1,-999.0,      30,  2,19921217,0240, -52.5048, -126.7638,  3815, 2707.400,    1.848,   34.725,2,   34.725,2,  185.600,2,  187.100,2,   96.980,2,   31.230,2,    0.000,2,    2.200,2, -999.000,9, -999.000,9, -999.000,9, -999.000,9, -999.000,9
           NA,    P17E,    138,   1,-999.0,      31,  2,19921217,0240, -52.5048, -126.7638,  3815, 2911.400,    1.668,   34.723,2,   34.723,2,  187.500,2,  188.200,2,  104.170,2,   31.590,2,    0.000,2,    2.220,2,    0.006,2,    0.004,2, -999.000,9, -999.000,9, -999.000,9
           NA,    P17E,    138,   1,-999.0,      32,  2,19921217,0240, -52.5048, -126.7638,  3815, 3113.700,    1.516,   34.720,2,   34.720,2,  190.300,2,  190.400,2,  109.040,2,   31.750,2,    0.000,2,    2.240,2,    0.007,2,    0.006,2, -999.000,9, -999.000,9, -999.000,9
           NA,    P17E,    138,   1,-999.0,      33,  2,19921217,0240, -52.5048, -126.7638,  3815, 3318.000,    1.383,   34.715,2,   34.715,2,  190.800,2,  191.000,2,  114.360,2,   32.060,2,    0.000,2,    2.250,2,    0.001,2,    0.005,2, -999.000,9, -999.000,9, -999.000,9
           NA,    P17E,    138,   1,-999.0,      34,  2,19921217,0240, -52.5048, -126.7638,  3815, 3572.400,    1.332,   34.715,2,   34.715,2,  192.800,2,  192.800,2,  116.060,2,   32.160,2,    0.000,2,    2.250,2, -999.000,9, -999.000,9, -999.000,9, -999.000,9, -999.000,9
           NA,    P17E,    138,   1,-999.0,      35,  2,19921217,0240, -52.5048, -126.7638,  3815, 3802.500,    1.327,   34.715,2,   34.715,2,  193.600,2,  194.000,2,  117.120,2,   32.110,2,    0.000,2,    2.250,2,    0.005,2,    0.007,2, -999.000,9, -999.000,9, -999.000,9
           NA,    P17E,    138,   1,-999.0,      36,  2,19921217,0240, -52.5048, -126.7638,  3815, 3899.600,    1.334,   34.715,2,   34.715,2,  193.800,2,  193.600,2,  117.330,2,   32.160,2,    0.000,2,    2.240,2,    0.003,2,    0.002,2, -999.000,9, -999.000,9, -999.000,9