BOTTLE,20215010JOAExport
EXPOCODE,SECT_ID,STNNBR,CASTNO,SAMPNO,BTLNBR,BTLNBR_FLAG_W,DATE,TIME,LATITUDE,LONGITUDE,DEPTH,CTDPRS,CTDTMP,CTDSAL,CTDSAL_FLAG_W,SALNTY,SALNTY_FLAG_W,CTDOXY,CTDOXY_FLAG_W,OXYGEN,OXYGEN_FLAG_W,SILCAT,SILCAT_FLAG_W,NITRAT,NITRAT_FLAG_W,NITRIT,NITRIT_FLAG_W,PHSPHT,PHSPHT_FLAG_W,CFC-11,CFC-11_FLAG_W,CFC-12,CFC-12_FLAG_W,SF6,SF6_FLAG_W,TCARBN,TCARBN_FLAG_W,ALKALI,ALKALI_FLAG_W
,,,,,,,,,,,,DB,ITS-90,PSS-78,,PSS-78,,UMOL/KG,,UMOL/KG,,UMOL/KG,,UMOL/KG,,UMOL/KG,,UMOL/KG,,PMOL/KG,,PMOL/KG,,PMOL/KG,,UMOL/KG,,UMOL/KG
           NA,    P17E,    173,   1,-999.0,       1,  2,19921231,0824, -51.4987, -120.0572,  3165,    3.500,    7.683,   34.326,2,   34.325,2, -999.000,3,  294.300,2,    1.970,2,   14.170,2,    0.170,2,    1.130,2,    4.301,2,    2.118,2, -999.000,9, 2088.100,2, -999.000,9
           NA,    P17E,    173,   1,-999.0,       2,  2,19921231,0824, -51.4987, -120.0572,  3165,   24.000,    7.681,   34.326,2,   34.325,2, -999.000,3,  294.500,2,    1.750,2,   14.110,2,    0.170,2,    1.130,2, -999.000,9, -999.000,9, -999.000,9, 2087.100,2, -999.000,9
           NA,    P17E,    173,   1,-999.0,       3,  2,19921231,0824, -51.4987, -120.0572,  3165,   48.900,    7.596,   34.328,2,   34.327,2, -999.000,3,  295.300,2,    1.740,2,   14.230,2,    0.170,2,    1.130,2,    4.309,2,    2.105,2, -999.000,9, 2090.400,2, -999.000,9
           NA,    P17E,    173,   1,-999.0,       4,  2,19921231,0824, -51.4987, -120.0572,  3165,   79.200,    7.400,   34.342,2,   34.343,2, -999.000,3,  294.500,2,    1.520,2,   14.570,2,    0.170,2,    1.160,2, -999.000,9, -999.000,9, -999.000,9, 2093.600,2, -999.000,9
           NA,    P17E,    173,   1,-999.0,       5,  2,19921231,0824, -51.4987, -120.0572,  3165,  104.200,    7.135,   34.367,2,   34.367,2,  298.400,2,  290.600,2,    2.130,2,   15.130,2,    0.180,2,    1.230,2,    4.222,2,    2.072,2, -999.000,9, 2104.800,2, -999.000,9
           NA,    P17E,    173,   1,-999.0,       6,  2,19921231,0824, -51.4987, -120.0572,  3165,  134.800,    6.901,   34.359,2,   34.357,2,  289.900,2,  290.400,2,    2.940,2,   15.930,2,    0.190,2,    1.260,2, -999.000,9, -999.000,9, -999.000,9, 2106.100,2, -999.000,9
           NA,    P17E,    173,   1,-999.0,       7,  2,19921231,0824, -51.4987, -120.0572,  3165,  154.400,    6.806,   34.359,2,   34.359,2,  282.200,2,  286.400,2,    3.550,2,   16.640,2,    0.170,2,    1.320,2,    4.172,2,    2.049,2, -999.000,9, 2108.600,2, -999.000,9
           NA,    P17E,    173,   1,-999.0,       8,  2,19921231,0824, -51.4987, -120.0572,  3165,  178.800,    6.659,   34.356,2,   34.356,2,  282.200,2,  281.700,2,    5.200,2,   18.000,2,    0.130,2,    1.380,2, -999.000,9, -999.000,9, -999.000,9, 2113.700,2, -999.000,9
           NA,    P17E,    173,   1,-999.0,       9,  2,19921231,0824, -51.4987, -120.0572,  3165,  204.400,    6.515,   34.348,2,   34.348,2,  282.900,2,  280.700,2,    6.630,2,   18.820,2,    0.110,2,    1.400,2,    4.038,2,    1.975,2, -999.000,9, 2117.400,2, -999.000,9
           NA,    P17E,    173,   1,-999.0,      10,  2,19921231,0824, -51.4987, -120.0572,  3165,  253.800,    6.406,   34.337,2,   34.339,2,  281.600,2,  280.800,2,    7.240,2,   19.280,2,    0.060,2,    1.420,2, -999.000,9, -999.000,9, -999.000,9, 2112.900,2, -999.000,9
           NA,    P17E,    173,   1,-999.0,      11,  2,19921231,0824, -51.4987, -120.0572,  3165,  304.900,    6.325,   34.332,2,   34.332,2,  279.800,2,  280.900,2,    7.230,2,   19.590,2,    0.040,2,    1.430,2,    4.006,2,    1.983,2, -999.000,9, 2115.100,2, -999.000,9
           NA,    P17E,    173,   1,-999.0,      12,  2,19921231,0824, -51.4987, -120.0572,  3165,  353.700,    6.252,   34.325,2,   34.326,2,  281.600,2,  280.600,2,    7.430,2,   19.780,2,    0.020,2,    1.440,2,    3.973,2,    1.950,2, -999.000,9, 2121.500,2, -999.000,9
           NA,    P17E,    173,   1,-999.0,      13,  2,19921231,0824, -51.4987, -120.0572,  3165,  404.200,    6.175,   34.322,2,   34.322,2,  277.900,2,  280.400,2,    7.830,2,   20.010,2,    0.020,2,    1.460,2,    3.947,2,    1.933,2, -999.000,9, 2121.000,2, -999.000,9
           NA,    P17E,    173,   1,-999.0,      14,  2,19921231,0824, -51.4987, -120.0572,  3165,  454.000,    6.032,   34.307,2,   34.307,2,  277.400,2,  279.600,2,    8.230,2,   20.480,2,    0.010,2,    1.480,2,    3.928,2,    1.931,2, -999.000,9, 2119.600,2, -999.000,9
           NA,    P17E,    173,   1,-999.0,      15,  2,19921231,0824, -51.4987, -120.0572,  3165,  503.500,    5.961,   34.301,2,   34.301,2,  276.700,2,  280.600,2,    8.630,2,   20.590,2,    0.010,2,    1.500,2,    3.948,2,    1.941,2, -999.000,9, 2121.100,2, -999.000,9
           NA,    P17E,    173,   1,-999.0,      16,  2,19921231,0824, -51.4987, -120.0572,  3165,  554.800,    5.737,   34.278,2,   34.278,2,  270.500,2,  272.600,2,    9.870,2,   21.870,2,    0.010,2,    1.570,2,    3.659,2,    1.782,2, -999.000,9, 2128.600,2, -999.000,9
           NA,    P17E,    173,   1,-999.0,      17,  2,19921231,0824, -51.4987, -120.0572,  3165,  604.300,    5.449,   34.252,2,   34.254,2,  266.500,2,  265.400,2,   11.720,2,   23.260,2,    0.010,2,    1.660,2,    3.417,2,    1.670,2, -999.000,9, 2137.300,2, -999.000,9
           NA,    P17E,    173,   1,-999.0,      18,  2,19921231,0824, -51.4987, -120.0572,  3165,  655.300,    5.190,   34.239,2,   34.238,2,  259.100,2,  261.400,2,   13.370,2,   24.360,2,    0.010,2,    1.730,2,    3.259,2,    1.568,2, -999.000,9, 2141.100,2, -999.000,9
           NA,    P17E,    173,   1,-999.0,      19,  2,19921231,0824, -51.4987, -120.0572,  3165,  706.000,    4.937,   34.232,2,   34.231,2,  256.400,2,  251.700,2,   16.260,2,   25.640,2,    0.000,2,    1.820,2,    2.933,2,    1.398,2, -999.000,9, 2148.900,2, -999.000,9
           NA,    P17E,    173,   1,-999.0,      20,  2,19921231,0824, -51.4987, -120.0572,  3165,  756.800,    4.951,   34.270,2,   34.272,2,  238.700,2,  233.800,2,   20.390,2,   27.090,2,    0.000,2,    1.910,2,    2.248,2,    1.058,2, -999.000,9, 2161.500,2, -999.000,9
           NA,    P17E,    173,   1,-999.0,      21,  2,19921231,0824, -51.4987, -120.0572,  3165,  806.700,    4.731,   34.278,2,   34.277,2,  227.200,2,  228.300,2,   23.700,2,   28.030,2,    0.000,2,    1.960,2,    2.051,6,    0.960,6, -999.000,9, 2169.300,2, -999.000,9
           NA,    P17E,    173,   1,-999.0,      22,  2,19921231,0824, -51.4987, -120.0572,  3165,  857.800,    4.558,   34.293,2,   34.292,2,  220.400,2,  221.300,2,   27.000,2,   28.840,2,    0.000,2,    2.030,2,    1.741,2,    0.806,2, -999.000,9, 2175.000,2, -999.000,9
           NA,    P17E,    173,   1,-999.0,      23,  2,19921231,0824, -51.4987, -120.0572,  3165,  907.900,    4.342,   34.309,2,   34.305,2,  214.400,2,  215.500,2,   30.310,2,   29.720,2,    0.000,2,    2.090,2,    1.472,2,    0.683,2, -999.000,9, 2182.100,2, -999.000,9
           NA,    P17E,    173,   1,-999.0,      24,  2,19921231,0824, -51.4987, -120.0572,  3165, 1008.600,    3.834,   34.321,2,   34.322,2,  208.000,2,  208.800,2,   38.180,2,   31.000,2,    0.000,2,    2.190,2,    1.184,2,    0.560,2, -999.000,9, 2195.800,2, -999.000,9
           NA,    P17E,    173,   1,-999.0,      25,  2,19921231,0824, -51.4987, -120.0572,  3165, 1108.700,    3.367,   34.346,2,   34.342,2,  201.900,2,  203.400,2,   45.220,2,   32.120,2,    0.000,2,    2.270,2,    1.050,2,    0.486,2, -999.000,9, 2207.900,2, -999.000,9
           NA,    P17E,    173,   1,-999.0,      26,  2,19921231,0824, -51.4987, -120.0572,  3165, 1309.900,    2.841,   34.430,2,   34.429,2,  186.300,2,  186.500,2,   60.570,2,   33.520,2,    0.000,2,    2.360,2,    0.610,2,    0.296,2, -999.000,9, 2230.800,2, -999.000,9
           NA,    P17E,    173,   1,-999.0,      27,  4,19921231,0824, -51.4987, -120.0572,  3165, 1309.900,    2.841,   34.430,2, -999.000,2,  186.300,2, -999.000,2, -999.000,2, -999.000,2, -999.000,2, -999.000,2, -999.000,2, -999.000,2, -999.000,9, -999.000,2, -999.000,9
           NA,    P17E,    173,   1,-999.0,      28,  2,19921231,0824, -51.4987, -120.0572,  3165, 1714.000,    2.403,   34.600,2,   34.597,2,  172.200,2,  172.600,2,   78.860,2,   33.640,2,    0.000,2,    2.360,2,    0.190,2,    0.092,2, -999.000,9, 2252.500,2, -999.000,9
           NA,    P17E,    173,   1,-999.0,      29,  2,19921231,0824, -51.4987, -120.0572,  3165, 1917.900,    2.291,   34.651,2,   34.651,2,  174.800,2,  174.400,2,   83.230,2,   32.810,2,    0.000,2,    2.320,2,    0.110,2,    0.055,2, -999.000,9, 2254.500,2, -999.000,9
           NA,    P17E,    173,   1,-999.0,      30,  2,19921231,0824, -51.4987, -120.0572,  3165, 2122.100,    2.153,   34.691,2,   34.692,2,  176.600,2,  176.500,2,   89.690,2,   32.280,2,    0.000,2,    2.270,2,    0.044,2,    0.022,2, -999.000,9, 2257.700,2, -999.000,9
           NA,    P17E,    173,   1,-999.0,      31,  2,19921231,0824, -51.4987, -120.0572,  3165, 2326.100,    1.975,   34.705,2,   34.707,2,  176.500,2,  176.600,2,   98.480,2,   32.280,2,    0.000,2,    2.280,2, -999.000,9, -999.000,9, -999.000,9, 2265.300,2, -999.000,9
           NA,    P17E,    173,   1,-999.0,      32,  2,19921231,0824, -51.4987, -120.0572,  3165, 2530.400,    1.822,   34.712,2,   34.713,2,  180.100,2,  179.400,2,  103.730,2,   32.280,2,    0.000,2,    2.270,2,    0.009,2,    0.006,2, -999.000,9, 2267.800,2, -999.000,9
           NA,    P17E,    173,   1,-999.0,      33,  2,19921231,0824, -51.4987, -120.0572,  3165, 2735.300,    1.665,   34.710,2,   34.711,2,  181.700,2,  180.300,2,  110.050,2,   32.630,2,    0.000,2,    2.290,2,    0.001,2,    0.002,2, -999.000,9, 2273.400,2, -999.000,9
           NA,    P17E,    173,   1,-999.0,      34,  2,19921231,0824, -51.4987, -120.0572,  3165, 2939.400,    1.522,   34.707,2,   34.708,2,  182.400,2,  181.400,2,  115.550,2,   32.750,2,    0.000,2,    2.310,2, -999.000,9, -999.000,9, -999.000,9, 2277.300,2, -999.000,9
           NA,    P17E,    173,   1,-999.0,      35,  2,19921231,0824, -51.4987, -120.0572,  3165, 3143.400,    1.484,   34.706,2,   34.707,2,  181.600,2,  182.300,2,  117.460,2,   32.810,2,    0.000,2,    2.320,2,    0.000,2,    0.000,2, -999.000,9, 2278.900,2, -999.000,9
           NA,    P17E,    173,   1,-999.0,      36,  2,19921231,0824, -51.4987, -120.0572,  3165, 3275.800,    1.490,   34.707,2,   34.707,2,  181.100,2,  182.100,2,  117.880,2,   32.870,2,    0.000,2,    2.320,2,    0.000,2,    0.000,2, -999.000,9, 2277.200,2, -999.000,9