BOTTLE,20215010JOAExport
EXPOCODE,SECT_ID,STNNBR,CASTNO,SAMPNO,BTLNBR,BTLNBR_FLAG_W,DATE,TIME,LATITUDE,LONGITUDE,DEPTH,CTDPRS,CTDTMP,CTDSAL,CTDSAL_FLAG_W,SALNTY,SALNTY_FLAG_W,CTDOXY,CTDOXY_FLAG_W,OXYGEN,OXYGEN_FLAG_W,SILCAT,SILCAT_FLAG_W,NITRAT,NITRAT_FLAG_W,NITRIT,NITRIT_FLAG_W,PHSPHT,PHSPHT_FLAG_W,CFC-11,CFC-11_FLAG_W,CFC-12,CFC-12_FLAG_W,SF6,SF6_FLAG_W,TCARBN,TCARBN_FLAG_W,ALKALI,ALKALI_FLAG_W
,,,,,,,,,,,,DB,ITS-90,PSS-78,,PSS-78,,UMOL/KG,,UMOL/KG,,UMOL/KG,,UMOL/KG,,UMOL/KG,,UMOL/KG,,PMOL/KG,,PMOL/KG,,PMOL/KG,,UMOL/KG,,UMOL/KG
           NA,    P17E,    196,   1,-999.0,       1,  2,19930106,1737, -53.1678,  -98.9477,  4572,    4.200,    7.568,   34.270,2,   34.271,2, -999.000,3,  291.300,2,    3.330,2,   14.650,2,    0.190,2,    1.150,2, -999.000,9, -999.000,9, -999.000,9, 2088.400,2, -999.000,9
           NA,    P17E,    196,   1,-999.0,       2,  2,19930106,1737, -53.1678,  -98.9477,  4572,   25.800,    7.530,   34.270,2,   34.271,2, -999.000,3,  292.000,2,    3.950,2,   14.650,2,    0.180,2,    1.130,2, -999.000,9, -999.000,9, -999.000,9, -999.000,9, -999.000,9
           NA,    P17E,    196,   1,-999.0,       3,  2,19930106,1737, -53.1678,  -98.9477,  4572,   55.800,    7.517,   34.270,2,   34.270,2, -999.000,3,  291.600,2,    3.740,2,   14.650,2,    0.180,2,    1.140,2, -999.000,9, -999.000,9, -999.000,9, -999.000,9, -999.000,9
           NA,    P17E,    196,   1,-999.0,       4,  2,19930106,1737, -53.1678,  -98.9477,  4572,   86.000,    6.986,   34.290,2,   34.291,2, -999.000,3,  290.800,2,    3.940,2,   15.620,2,    0.190,2,    1.230,2, -999.000,9, -999.000,9, -999.000,9, -999.000,9, -999.000,9
           NA,    P17E,    196,   1,-999.0,       5,  2,19930106,1737, -53.1678,  -98.9477,  4572,  116.000,    6.600,   34.295,2,   34.297,2,  294.600,2,  284.100,2,    6.040,2,   17.610,2,    0.230,2,    1.340,2, -999.000,9, -999.000,9, -999.000,9, -999.000,9, -999.000,9
           NA,    P17E,    196,   1,-999.0,       6,  2,19930106,1737, -53.1678,  -98.9477,  4572,  156.600,    6.381,   34.293,2,   34.295,2,  287.900,2,  282.100,2,    7.500,2,   19.050,2,    0.190,2,    1.390,2, -999.000,9, -999.000,9, -999.000,9, -999.000,9, -999.000,9
           NA,    P17E,    196,   1,-999.0,       7,  2,19930106,1737, -53.1678,  -98.9477,  4572,  206.500,    6.230,   34.288,2,   34.288,2,  283.000,2,  276.600,2,    8.540,2,   20.480,2,    0.020,2,    1.460,2, -999.000,9, -999.000,9, -999.000,9, -999.000,9, -999.000,9
           NA,    P17E,    196,   1,-999.0,       8,  2,19930106,1737, -53.1678,  -98.9477,  4572,  256.100,    6.155,   34.286,2,   34.287,2,  281.800,2,  282.900,2,    7.490,2,   19.860,2,    0.060,2,    1.420,2, -999.000,9, -999.000,9, -999.000,9, -999.000,9, -999.000,9
           NA,    P17E,    196,   1,-999.0,       9,  2,19930106,1737, -53.1678,  -98.9477,  4572,  306.000,    6.020,   34.273,2,   34.273,2,  279.500,2,  284.200,2,    8.320,2,   20.100,2,    0.030,2,    1.440,2, -999.000,9, -999.000,9, -999.000,9, -999.000,9, -999.000,9
           NA,    P17E,    196,   1,-999.0,      10,  2,19930106,1737, -53.1678,  -98.9477,  4572,  355.100,    5.988,   34.274,2,   34.274,2,  274.900,2,  283.600,2,    8.320,2,   20.160,2,    0.020,2,    1.440,2, -999.000,9, -999.000,9, -999.000,9, -999.000,9, -999.000,9
           NA,    P17E,    196,   1,-999.0,      11,  2,19930106,1737, -53.1678,  -98.9477,  4572,  429.400,    5.737,   34.248,2,   34.250,2,  274.600,2,  282.700,2,    8.940,2,   20.960,2,    0.020,2,    1.480,2, -999.000,9, -999.000,9, -999.000,9, -999.000,9, -999.000,9
           NA,    P17E,    196,   1,-999.0,      12,  2,19930106,1737, -53.1678,  -98.9477,  4572,  504.000,    5.470,   34.230,2,   34.232,2,  273.100,2,  274.600,2,   10.610,2,   22.350,2,    0.020,2,    1.580,2, -999.000,9, -999.000,9, -999.000,9, -999.000,9, -999.000,9
           NA,    P17E,    196,   1,-999.0,      13,  2,19930106,1737, -53.1678,  -98.9477,  4572,  577.100,    5.126,   34.203,2,   34.204,2,  270.400,2,  273.500,2,   11.870,2,   23.380,2,    0.010,2,    1.640,2, -999.000,9, -999.000,9, -999.000,9, -999.000,9, -999.000,9
           NA,    P17E,    196,   1,-999.0,      14,  2,19930106,1737, -53.1678,  -98.9477,  4572,  650.700,    4.879,   34.205,2,   34.205,2,  249.500,2,  261.400,2,   15.220,2,   25.110,2,    0.010,2,    1.750,2, -999.000,9, -999.000,9, -999.000,9, -999.000,9, -999.000,9
           NA,    P17E,    196,   1,-999.0,      15,  2,19930106,1737, -53.1678,  -98.9477,  4572,  725.000,    4.663,   34.233,2,   34.233,2,  235.800,2,  242.600,2,   20.450,2,   27.310,2,    0.010,2,    1.890,2, -999.000,9, -999.000,9, -999.000,9, -999.000,9, -999.000,9
           NA,    P17E,    196,   1,-999.0,      16,  2,19930106,1737, -53.1678,  -98.9477,  4572,  798.600,    4.522,   34.272,2,   34.271,2,  228.600,2,  226.600,2,   25.680,2,   28.860,2,    0.010,2,    1.990,2, -999.000,9, -999.000,9, -999.000,9, -999.000,9, -999.000,9
           NA,    P17E,    196,   1,-999.0,      17,  2,19930106,1737, -53.1678,  -98.9477,  4572,  873.600,    4.177,   34.288,2,   34.287,2,  221.000,2,  219.000,2,   30.920,2,   30.130,2,    0.010,2,    2.070,2, -999.000,9, -999.000,9, -999.000,9, -999.000,9, -999.000,9
           NA,    P17E,    196,   1,-999.0,      18,  2,19930106,1737, -53.1678,  -98.9477,  4572,  923.800,    3.937,   34.296,2,   34.294,2,  217.600,2,  215.700,2,   34.470,2,   30.930,2,    0.010,2,    2.110,2, -999.000,9, -999.000,9, -999.000,9, -999.000,9, -999.000,9
           NA,    P17E,    196,   1,-999.0,      19,  2,19930106,1737, -53.1678,  -98.9477,  4572,  998.000,    3.534,   34.306,2,   34.304,2,  214.500,2,  213.000,2,   39.700,2,   31.840,2,    0.010,2,    2.170,2, -999.000,9, -999.000,9, -999.000,9, -999.000,9, -999.000,9
           NA,    P17E,    196,   1,-999.0,      20,  2,19930106,1737, -53.1678,  -98.9477,  4572, 1145.300,    3.084,   34.360,2,   34.357,2,  199.000,2,  199.500,2,   50.800,2,   33.170,2,    0.010,2,    2.280,2, -999.000,9, -999.000,9, -999.000,9, -999.000,9, -999.000,9
           NA,    P17E,    196,   1,-999.0,      21,  2,19930106,1737, -53.1678,  -98.9477,  4572, 1293.100,    2.805,   34.427,2,   34.425,2,  188.500,2,  186.700,2,   61.070,2,   33.860,2,    0.010,2,    2.330,2, -999.000,9, -999.000,9, -999.000,9, -999.000,9, -999.000,9
           NA,    P17E,    196,   1,-999.0,      22,  2,19930106,1737, -53.1678,  -98.9477,  4572, 1515.600,    2.531,   34.521,2,   34.521,2,  174.900,2,  175.200,2,   72.390,2,   34.360,2,    0.000,2,    2.370,2, -999.000,9, -999.000,9, -999.000,9, -999.000,9, -999.000,9
           NA,    P17E,    196,   1,-999.0,      23,  2,19930106,1737, -53.1678,  -98.9477,  4572, 1737.700,    2.391,   34.601,2,   34.599,2,  170.200,2,  170.900,2,   80.790,2,   34.040,2,    0.000,2,    2.350,2, -999.000,9, -999.000,9, -999.000,9, -999.000,9, -999.000,9
           NA,    P17E,    196,   1,-999.0,      24,  2,19930106,1737, -53.1678,  -98.9477,  4572, 1958.900,    2.259,   34.658,2,   34.657,2,  170.700,2,  171.800,2,   87.100,2,   33.310,2,    0.000,2,    2.290,2, -999.000,9, -999.000,9, -999.000,9, -999.000,9, -999.000,9
           NA,    P17E,    196,   1,-999.0,      25,  2,19930106,1737, -53.1678,  -98.9477,  4572, 2180.900,    2.130,   34.690,2,   34.690,2,  174.400,2,  174.500,2,   89.830,2,   32.820,2,    0.000,2,    2.260,2, -999.000,9, -999.000,9, -999.000,9, -999.000,9, -999.000,9
           NA,    P17E,    196,   1,-999.0,      26,  2,19930106,1737, -53.1678,  -98.9477,  4572, 2400.500,    1.979,   34.711,2,   34.710,2,  178.400,2,  179.400,2,   96.160,2,   32.390,2,    0.000,2,    2.230,2, -999.000,9, -999.000,9, -999.000,9, -999.000,9, -999.000,9
           NA,    P17E,    196,   1,-999.0,      27,  2,19930106,1737, -53.1678,  -98.9477,  4572, 2622.000,    1.784,   34.715,2,   34.716,2,  182.400,2,  181.300,2,  104.000,2,   32.420,2,    0.000,2,    2.240,2, -999.000,9, -999.000,9, -999.000,9, -999.000,9, -999.000,9
           NA,    P17E,    196,   1,-999.0,      28,  2,19930106,1737, -53.1678,  -98.9477,  4572, 2842.300,    1.644,   34.716,2,   34.716,2,  185.800,2,  183.700,2,  109.310,2,   32.460,2,    0.000,2,    2.230,2,    0.007,2,    0.002,2, -999.000,9, -999.000,9, -999.000,9
           NA,    P17E,    196,   1,-999.0,      29,  2,19930106,1737, -53.1678,  -98.9477,  4572, 3069.500,    1.533,   34.718,2,   34.719,2,  189.600,2,  187.400,2,  111.430,2,   32.320,2,    0.000,2,    2.230,2, -999.000,9, -999.000,9, -999.000,9, -999.000,9, -999.000,9
           NA,    P17E,    196,   1,-999.0,      30,  2,19930106,1737, -53.1678,  -98.9477,  4572, 3294.500,    1.404,   34.720,2,   34.720,2,  195.600,2,  192.300,2,  113.980,2,   32.240,2,    0.010,2,    2.220,2, -999.000,9, -999.000,9, -999.000,9, -999.000,9, -999.000,9
           NA,    P17E,    196,   1,-999.0,      31,  2,19930106,1737, -53.1678,  -98.9477,  4572, 3516.300,    1.237,   34.717,2,   34.717,2,  200.600,2,  196.000,2,  118.460,2,   32.390,2,    0.000,2,    2.220,2,    0.006,2,    0.002,2, -999.000,9, -999.000,9, -999.000,9
           NA,    P17E,    196,   1,-999.0,      32,  2,19930106,1737, -53.1678,  -98.9477,  4572, 3737.100,    1.011,   34.713,2,   34.713,2,  204.700,2,  200.000,2,  125.560,2,   32.540,2,    0.010,2,    2.240,2,    0.002,2,    0.004,2, -999.000,9, -999.000,9, -999.000,9
           NA,    P17E,    196,   1,-999.0,      33,  2,19930106,1737, -53.1678,  -98.9477,  4572, 3958.600,    0.822,   34.710,2,   34.710,2,  208.400,2,  203.900,2,  131.190,2,   32.580,2,    0.010,2,    2.240,2,    0.000,2,    0.000,2, -999.000,9, -999.000,9, -999.000,9
           NA,    P17E,    196,   1,-999.0,      34,  2,19930106,1737, -53.1678,  -98.9477,  4572, 4206.800,    0.707,   34.708,2,   34.707,2, -999.000,3,  206.400,2,  135.320,2,   32.610,2,    0.000,2,    2.240,2, -999.000,5,    0.001,2, -999.000,9, -999.000,9, -999.000,9
           NA,    P17E,    196,   1,-999.0,      35,  2,19930106,1737, -53.1678,  -98.9477,  4572, 4471.700,    0.679,   34.707,2,   34.707,2, -999.000,3,  207.500,2,  136.830,2,   32.710,2,    0.000,2,    2.260,2,    0.003,6,    0.003,6, -999.000,9, -999.000,9, -999.000,9
           NA,    P17E,    196,   1,-999.0,      36,  2,19930106,1737, -53.1678,  -98.9477,  4572, 4661.700,    0.688,   34.707,2,   34.707,2, -999.000,3,  207.800,2,  137.030,2,   32.680,2,    0.000,2,    2.250,2,    0.003,2,    0.003,2, -999.000,9, -999.000,9, -999.000,9