BOTTLE,20215010JOAExport
EXPOCODE,SECT_ID,STNNBR,CASTNO,SAMPNO,BTLNBR,BTLNBR_FLAG_W,DATE,TIME,LATITUDE,LONGITUDE,DEPTH,CTDPRS,CTDTMP,CTDSAL,CTDSAL_FLAG_W,SALNTY,SALNTY_FLAG_W,CTDOXY,CTDOXY_FLAG_W,OXYGEN,OXYGEN_FLAG_W,SILCAT,SILCAT_FLAG_W,NITRAT,NITRAT_FLAG_W,NITRIT,NITRIT_FLAG_W,PHSPHT,PHSPHT_FLAG_W,CFC-11,CFC-11_FLAG_W,CFC-12,CFC-12_FLAG_W,SF6,SF6_FLAG_W,TCARBN,TCARBN_FLAG_W,ALKALI,ALKALI_FLAG_W
,,,,,,,,,,,,DB,ITS-90,PSS-78,,PSS-78,,UMOL/KG,,UMOL/KG,,UMOL/KG,,UMOL/KG,,UMOL/KG,,UMOL/KG,,PMOL/KG,,PMOL/KG,,PMOL/KG,,UMOL/KG,,UMOL/KG
           NA,    P17E,    195,   1,-999.0,       1,  2,19930106,1045, -53.0660, -100.0415,  4275,    4.400,    7.595,   34.278,2,   34.279,2, -999.000,3,  290.600,2,    2.330,2,   14.590,2,    0.180,2,    1.140,2,    4.353,2,    2.115,2, -999.000,9, 2088.600,2, -999.000,9
           NA,    P17E,    195,   1,-999.0,       2,  2,19930106,1045, -53.0660, -100.0415,  4275,   36.400,    7.597,   34.278,2,   34.278,2, -999.000,3,  290.700,2,    1.880,2,   14.580,2,    0.190,2,    1.140,2,    4.337,2,    2.088,2, -999.000,9, -999.000,9, -999.000,9
           NA,    P17E,    195,   1,-999.0,       3,  2,19930106,1045, -53.0660, -100.0415,  4275,   82.100,    7.304,   34.288,2,   34.285,2, -999.000,3,  290.600,2,    1.850,2,   14.780,2,    0.160,2,    1.170,2, -999.000,9, -999.000,9, -999.000,9, -999.000,9, -999.000,9
           NA,    P17E,    195,   1,-999.0,       4,  2,19930106,1045, -53.0660, -100.0415,  4275,  107.600,    6.831,   34.306,2,   34.302,2,  290.000,2,  286.600,2,    3.310,2,   16.100,2,    0.180,2,    1.290,2,    4.377,2,    2.130,2, -999.000,9, -999.000,9, -999.000,9
           NA,    P17E,    195,   1,-999.0,       5,  2,19930106,1045, -53.0660, -100.0415,  4275,  127.500,    6.610,   34.291,2,   34.292,2,  284.800,2,  284.400,2,    4.970,2,   17.490,2,    0.250,2,    1.330,2,    4.351,2,    2.113,2, -999.000,9, -999.000,9, -999.000,9
           NA,    P17E,    195,   1,-999.0,       6,  2,19930106,1045, -53.0660, -100.0415,  4275,  156.300,    6.601,   34.306,2,   34.308,2,  282.800,2,  282.100,2,    5.370,2,   18.220,2,    0.050,2,    1.340,2,    4.270,2,    2.069,2, -999.000,9, -999.000,9, -999.000,9
           NA,    P17E,    195,   1,-999.0,       7,  2,19930106,1045, -53.0660, -100.0415,  4275,  203.800,    6.415,   34.294,2,   34.299,2,  277.700,2,  281.100,2,    6.400,2,   18.950,2,    0.020,2,    1.380,2,    4.174,2,    2.033,2, -999.000,9, -999.000,9, -999.000,9
           NA,    P17E,    195,   1,-999.0,       8,  2,19930106,1045, -53.0660, -100.0415,  4275,  253.700,    6.293,   34.289,2,   34.289,2,  283.200,2,  279.400,2,    6.800,2,   19.650,2,    0.010,2,    1.420,2,    4.083,2,    1.977,2, -999.000,9, -999.000,9, -999.000,9
           NA,    P17E,    195,   1,-999.0,       9,  2,19930106,1045, -53.0660, -100.0415,  4275,  303.900,    6.283,   34.302,2,   34.302,2,  276.800,2,  280.400,2,    6.780,2,   19.520,2,    0.030,2,    1.420,2,    4.088,2,    1.964,2, -999.000,9, -999.000,9, -999.000,9
           NA,    P17E,    195,   1,-999.0,      10,  2,19930106,1045, -53.0660, -100.0415,  4275,  356.900,    6.159,   34.289,2,   34.290,2,  279.300,2,  280.900,2,    6.970,2,   20.000,2,    0.020,2,    1.430,2,    4.081,2,    1.994,2, -999.000,9, -999.000,9, -999.000,9
           NA,    P17E,    195,   1,-999.0,      11,  2,19930106,1045, -53.0660, -100.0415,  4275,  410.700,    6.079,   34.284,2,   34.284,2,  283.100,2,  283.300,2,    6.940,2,   19.810,2,    0.020,2,    1.420,2,    4.165,2,    2.002,2, -999.000,9, -999.000,9, -999.000,9
           NA,    P17E,    195,   1,-999.0,      12,  2,19930106,1045, -53.0660, -100.0415,  4275,  464.000,    5.950,   34.271,2,   34.272,2,  281.500,2,  279.100,2,    7.550,2,   20.640,2,    0.020,2,    1.480,2, -999.000,9, -999.000,9, -999.000,9, -999.000,9, -999.000,9
           NA,    P17E,    195,   1,-999.0,      13,  2,19930106,1045, -53.0660, -100.0415,  4275,  511.100,    5.761,   34.257,2,   34.257,2,  267.200,2,  270.400,2,    9.010,2,   22.160,2,    0.010,2,    1.570,2,    3.676,2,    1.765,2, -999.000,9, -999.000,9, -999.000,9
           NA,    P17E,    195,   1,-999.0,      14,  2,19930106,1045, -53.0660, -100.0415,  4275,  557.100,    5.507,   34.239,2,   34.239,2,  261.100,2,  265.800,2,   11.100,2,   23.100,2,    0.010,2,    1.640,2,    3.510,2,    1.675,2, -999.000,9, -999.000,9, -999.000,9
           NA,    P17E,    195,   1,-999.0,      15,  2,19930106,1045, -53.0660, -100.0415,  4275,  611.900,    5.298,   34.239,2,   34.240,2,  257.600,2,  256.700,2,   13.200,2,   24.690,2,    0.010,2,    1.720,2,    3.113,2,    1.464,2, -999.000,9, -999.000,9, -999.000,9
           NA,    P17E,    195,   1,-999.0,      16,  2,19930106,1045, -53.0660, -100.0415,  4275,  686.300,    5.092,   34.257,2,   34.257,2,  243.100,2,  242.300,2,   17.410,2,   26.340,2,    0.010,2,    1.830,2,    2.535,2,    1.175,2, -999.000,9, -999.000,9, -999.000,9
           NA,    P17E,    195,   1,-999.0,      17,  2,19930106,1045, -53.0660, -100.0415,  4275,  760.300,    4.813,   34.272,2,   34.272,2,  233.800,2,  231.500,2,   21.630,2,   27.690,2,    0.010,2,    1.930,2,    2.033,2,    0.950,2, -999.000,9, -999.000,9, -999.000,9
           NA,    P17E,    195,   1,-999.0,      18,  2,19930106,1045, -53.0660, -100.0415,  4275,  830.000,    4.431,   34.282,2,   34.282,2,  222.600,2,  222.500,2,   26.490,2,   29.230,2,    0.010,2,    2.020,2,    1.685,2,    0.778,2, -999.000,9, -999.000,9, -999.000,9
           NA,    P17E,    195,   1,-999.0,      19,  2,19930106,1045, -53.0660, -100.0415,  4275,  901.400,    4.091,   34.293,2,   34.293,2,  217.000,2,  216.700,2,   31.980,2,   30.230,2,    0.010,2,    2.100,2,    1.434,2,    0.653,2, -999.000,9, -999.000,9, -999.000,9
           NA,    P17E,    195,   1,-999.0,      20,  2,19930106,1045, -53.0660, -100.0415,  4275,  974.600,    3.760,   34.306,2,   34.303,2,  213.500,2,  212.700,2,   36.420,2,   31.120,2,    0.010,2,    2.150,2,    1.267,2,    0.590,2, -999.000,9, -999.000,9, -999.000,9
           NA,    P17E,    195,   1,-999.0,      21,  2,19930106,1045, -53.0660, -100.0415,  4275, 1172.300,    3.134,   34.370,2,   34.368,2,  194.500,2,  196.800,2,   50.830,2,   32.950,2,    0.010,2,    2.280,2, -999.000,9, -999.000,9, -999.000,9, -999.000,9, -999.000,9
           NA,    P17E,    195,   1,-999.0,      22,  2,19930106,1045, -53.0660, -100.0415,  4275, 1367.900,    2.748,   34.461,2,   34.460,2,  181.100,2,  180.100,2,   64.410,2,   34.020,2,    0.000,2,    2.370,2,    0.356,2,    0.174,2, -999.000,9, -999.000,9, -999.000,9
           NA,    P17E,    195,   1,-999.0,      23,  2,19930106,1045, -53.0660, -100.0415,  4275, 1565.800,    2.507,   34.541,2,   34.539,2,  173.400,2,  173.400,2,   74.180,2,   34.140,2,    0.000,2,    2.360,2, -999.000,9, -999.000,9, -999.000,9, -999.000,9, -999.000,9
           NA,    P17E,    195,   1,-999.0,      24,  2,19930106,1045, -53.0660, -100.0415,  4275, 1766.200,    2.381,   34.610,2,   34.609,2,  169.300,2,  170.400,2,   81.410,2,   33.710,2,    0.000,2,    2.340,2,    0.112,2,    0.053,2, -999.000,9, -999.000,9, -999.000,9
           NA,    P17E,    195,   1,-999.0,      25,  2,19930106,1045, -53.0660, -100.0415,  4275, 1969.300,    2.254,   34.659,2,   34.658,2,  172.100,2,  172.700,2,   85.890,2,   32.930,2,    0.000,2,    2.300,2,    0.082,2,    0.037,2, -999.000,9, -999.000,9, -999.000,9
           NA,    P17E,    195,   1,-999.0,      26,  2,19930106,1045, -53.0660, -100.0415,  4275, 2172.900,    2.132,   34.692,2,   34.692,2,  176.100,2,  175.900,2,   90.370,2,   32.390,2,    0.000,2,    2.260,2,    0.045,2,    0.022,2, -999.000,9, -999.000,9, -999.000,9
           NA,    P17E,    195,   1,-999.0,      27,  2,19930106,1045, -53.0660, -100.0415,  4275, 2370.800,    1.980,   34.709,2,   34.709,2,  178.600,2,  178.400,2,   96.360,2,   32.150,2,    0.000,2,    2.230,2,    0.027,2,    0.012,2, -999.000,9, -999.000,9, -999.000,9
           NA,    P17E,    195,   1,-999.0,      28,  2,19930106,1045, -53.0660, -100.0415,  4275, 2570.600,    1.815,   34.712,2,   34.713,2,  179.800,2,  179.600,2,  103.660,2,   32.320,2,    0.000,2,    2.250,2,    0.011,2,    0.005,2, -999.000,9, -999.000,9, -999.000,9
           NA,    P17E,    195,   1,-999.0,      29,  2,19930106,1045, -53.0660, -100.0415,  4275, 2798.700,    1.679,   34.715,2,   34.716,2,  184.400,2,  182.800,2,  107.760,2,   32.380,2,    0.000,2,    2.240,2, -999.000,9, -999.000,9, -999.000,9, -999.000,9, -999.000,9
           NA,    P17E,    195,   1,-999.0,      30,  2,19930106,1045, -53.0660, -100.0415,  4275, 3025.300,    1.582,   34.720,2,   34.720,2,  187.900,2,  187.900,2,  108.840,2,   32.200,2,    0.000,2,    2.220,2,    0.012,2,    0.004,2, -999.000,9, -999.000,9, -999.000,9
           NA,    P17E,    195,   1,-999.0,      31,  2,19930106,1045, -53.0660, -100.0415,  4275, 3251.400,    1.451,   34.719,2,   34.720,2,  190.800,2,  190.500,2,  112.510,2,   32.010,2,    0.000,2,    2.220,2, -999.000,9, -999.000,9, -999.000,9, -999.000,9, -999.000,9
           NA,    P17E,    195,   1,-999.0,      32,  2,19930106,1045, -53.0660, -100.0415,  4275, 3471.300,    1.292,   34.718,2,   34.718,2,  194.600,2,  194.400,2,  117.280,2,   32.130,2,    0.000,2,    2.220,2,    0.008,2,    0.004,2, -999.000,9, -999.000,9, -999.000,9
           NA,    P17E,    195,   1,-999.0,      33,  2,19930106,1045, -53.0660, -100.0415,  4275, 3729.500,    1.057,   34.714,2,   34.715,2,  200.100,2,  199.700,2,  123.380,2,   32.180,2,    0.000,2,    2.220,2,    0.007,2,    0.005,2, -999.000,9, -999.000,9, -999.000,9
           NA,    P17E,    195,   1,-999.0,      34,  2,19930106,1045, -53.0660, -100.0415,  4275, 3985.800,    0.818,   34.710,2,   34.710,2,  204.100,2,  204.200,2,  130.610,2,   32.360,2,    0.000,2,    2.240,2, -999.000,9, -999.000,9, -999.000,9, -999.000,9, -999.000,9
           NA,    P17E,    195,   1,-999.0,      35,  2,19930106,1045, -53.0660, -100.0415,  4275, 4239.800,    0.721,   34.708,2,   34.710,2,  206.400,2,  206.200,2,  134.350,2,   32.410,2,    0.000,2,    2.250,2, -999.000,9, -999.000,9, -999.000,9, -999.000,9, -999.000,9
           NA,    P17E,    195,   1,-999.0,      36,  2,19930106,1045, -53.0660, -100.0415,  4275, 4353.500,    0.706,   34.707,2,   34.708,2,  204.800,2,  206.400,2,  135.240,2,   32.410,2,    0.000,2,    2.250,2,    0.008,2,    0.002,2, -999.000,9, -999.000,9, -999.000,9