BOTTLE,20215010JOAExport
EXPOCODE,SECT_ID,STNNBR,CASTNO,SAMPNO,BTLNBR,BTLNBR_FLAG_W,DATE,TIME,LATITUDE,LONGITUDE,DEPTH,CTDPRS,CTDTMP,CTDSAL,CTDSAL_FLAG_W,SALNTY,SALNTY_FLAG_W,CTDOXY,CTDOXY_FLAG_W,OXYGEN,OXYGEN_FLAG_W,SILCAT,SILCAT_FLAG_W,NITRAT,NITRAT_FLAG_W,NITRIT,NITRIT_FLAG_W,PHSPHT,PHSPHT_FLAG_W,CFC-11,CFC-11_FLAG_W,CFC-12,CFC-12_FLAG_W,SF6,SF6_FLAG_W,TCARBN,TCARBN_FLAG_W,ALKALI,ALKALI_FLAG_W
,,,,,,,,,,,,DB,ITS-90,PSS-78,,PSS-78,,UMOL/KG,,UMOL/KG,,UMOL/KG,,UMOL/KG,,UMOL/KG,,UMOL/KG,,PMOL/KG,,PMOL/KG,,PMOL/KG,,UMOL/KG,,UMOL/KG
           NA,    P17E,    205,   1,-999.0,       1,  2,19930109,1731, -53.9218,  -89.1163,  4807,    2.500,    7.762,   34.225,2,   34.225,2, -999.000,3,  291.100,2,    2.460,2,   15.190,2,    0.180,2,    1.140,2,    4.341,2,    2.090,2, -999.000,9, 2089.500,2, -999.000,9
           NA,    P17E,    205,   1,-999.0,       2,  2,19930109,1731, -53.9218,  -89.1163,  4807,   25.800,    7.748,   34.225,2,   34.229,2, -999.000,3,  290.900,2,    2.440,2,   15.230,2,    0.180,2,    1.140,2, -999.000,9, -999.000,9, -999.000,9, -999.000,9, -999.000,9
           NA,    P17E,    205,   1,-999.0,       3,  2,19930109,1731, -53.9218,  -89.1163,  4807,   56.300,    7.601,   34.227,2,   34.227,2, -999.000,3,  291.000,2,    2.240,2,   15.280,2,    0.180,2,    1.150,2,    4.393,2,    2.104,2, -999.000,9, -999.000,9, -999.000,9
           NA,    P17E,    205,   1,-999.0,       4,  2,19930109,1731, -53.9218,  -89.1163,  4807,   82.100,    7.497,   34.230,2,   34.229,2, -999.000,3,  290.800,2,    2.400,2,   15.340,2,    0.170,2,    1.170,2, -999.000,9, -999.000,9, -999.000,9, -999.000,9, -999.000,9
           NA,    P17E,    205,   1,-999.0,       5,  2,19930109,1731, -53.9218,  -89.1163,  4807,  106.200,    5.871,   34.211,2,   34.213,2,  296.200,2,  296.800,2,    6.490,2,   18.640,2,    0.280,2,    1.380,2,    4.601,2,    2.207,2, -999.000,9, -999.000,9, -999.000,9
           NA,    P17E,    205,   1,-999.0,       6,  2,19930109,1731, -53.9218,  -89.1163,  4807,  155.700,    5.926,   34.241,2,   34.243,2,  290.200,2,  292.500,2,    7.030,2,   19.160,2,    0.240,2,    1.390,2, -999.000,9, -999.000,9, -999.000,9, -999.000,9, -999.000,9
           NA,    P17E,    205,   1,-999.0,       7,  2,19930109,1731, -53.9218,  -89.1163,  4807,  206.600,    5.860,   34.241,2,   34.243,2,  289.400,2,  291.000,2,    7.200,2,   19.660,2,    0.040,2,    1.410,2,    4.470,2,    2.134,2, -999.000,9, -999.000,9, -999.000,9
           NA,    P17E,    205,   1,-999.0,       8,  2,19930109,1731, -53.9218,  -89.1163,  4807,  256.000,    5.751,   34.231,2,   34.232,2,  288.100,2,  293.800,2,    6.810,2,   19.730,2,    0.010,2,    1.400,2, -999.000,9, -999.000,9, -999.000,9, -999.000,9, -999.000,9
           NA,    P17E,    205,   1,-999.0,       9,  2,19930109,1731, -53.9218,  -89.1163,  4807,  304.700,    5.735,   34.235,2,   34.234,2,  290.100,2,  293.500,2,    6.970,2,   19.830,2,    0.010,2,    1.400,2,    4.494,2,    2.153,2, -999.000,9, -999.000,9, -999.000,9
           NA,    P17E,    205,   1,-999.0,      10,  2,19930109,1731, -53.9218,  -89.1163,  4807,  378.300,    5.611,   34.229,2,   34.230,2,  283.000,2,  285.400,2,    8.070,2,   21.140,2,    0.010,2,    1.490,2,    4.222,2,    2.023,2, -999.000,9, -999.000,9, -999.000,9
           NA,    P17E,    205,   1,-999.0,      11,  2,19930109,1731, -53.9218,  -89.1163,  4807,  454.300,    5.478,   34.230,2,   34.231,2,  274.000,2,  278.400,2,    9.550,2,   22.270,2,    0.000,2,    1.560,2,    3.916,2,    1.855,2, -999.000,9, -999.000,9, -999.000,9
           NA,    P17E,    205,   1,-999.0,      12,  2,19930109,1731, -53.9218,  -89.1163,  4807,  531.100,    5.296,   34.229,2,   34.229,2,  270.700,2,  271.600,2,   11.390,2,   23.540,2,    0.000,2,    1.640,2,    3.597,2,    1.690,2, -999.000,9, -999.000,9, -999.000,9
           NA,    P17E,    205,   1,-999.0,      13,  2,19930109,1731, -53.9218,  -89.1163,  4807,  606.500,    5.110,   34.229,2,   34.231,2,  263.900,2,  262.500,2,   13.980,2,   24.820,2,    0.000,2,    1.730,2,    3.237,2,    1.517,2, -999.000,9, -999.000,9, -999.000,9
           NA,    P17E,    205,   1,-999.0,      14,  2,19930109,1731, -53.9218,  -89.1163,  4807,  682.700,    4.873,   34.234,2,   34.234,2,  251.800,2,  254.600,2,   16.950,2,   26.140,2,    0.000,2,    1.800,2,    2.841,2,    1.325,2, -999.000,9, -999.000,9, -999.000,9
           NA,    P17E,    205,   1,-999.0,      15,  2,19930109,1731, -53.9218,  -89.1163,  4807,  758.100,    4.605,   34.240,2,   34.240,2,  244.900,2,  247.000,2,   20.290,2,   27.220,2,    0.000,2,    1.880,2, -999.000,9, -999.000,9, -999.000,9, -999.000,9, -999.000,9
           NA,    P17E,    205,   1,-999.0,      16,  2,19930109,1731, -53.9218,  -89.1163,  4807,  832.700,    4.268,   34.258,2,   34.256,2,  229.500,2,  230.400,2,   26.980,2,   29.140,2,    0.000,2,    2.000,2,    2.040,6,    0.932,6, -999.000,9, -999.000,9, -999.000,9
           NA,    P17E,    205,   1,-999.0,      17,  2,19930109,1731, -53.9218,  -89.1163,  4807,  907.900,    3.954,   34.275,2,   34.273,2,  223.700,2,  221.700,2,   32.180,2,   30.230,2,    0.000,2,    2.090,2,    1.724,2,    0.781,2, -999.000,9, -999.000,9, -999.000,9
           NA,    P17E,    205,   1,-999.0,      18,  2,19930109,1731, -53.9218,  -89.1163,  4807, 1009.300,    3.529,   34.299,2,   34.298,2,  219.100,2,  213.500,2,   39.240,2,   31.470,2,    0.000,2,    2.170,2,    1.391,2,    0.633,2, -999.000,9, -999.000,9, -999.000,9
           NA,    P17E,    205,   1,-999.0,      19,  2,19930109,1731, -53.9218,  -89.1163,  4807, 1134.800,    3.143,   34.340,2,   34.340,2,  207.700,2,  203.400,2,   48.170,2,   32.510,2,    0.000,2,    2.250,2,    1.051,2,    0.482,2, -999.000,9, -999.000,9, -999.000,9
           NA,    P17E,    205,   1,-999.0,      20,  2,19930109,1731, -53.9218,  -89.1163,  4807, 1336.800,    2.702,   34.426,2,   34.426,2,  191.500,2,  187.400,2,   61.970,2,   33.850,2,    0.000,2,    2.340,2,    0.683,2,    0.310,2, -999.000,9, -999.000,9, -999.000,9
           NA,    P17E,    205,   1,-999.0,      21,  2,19930109,1731, -53.9218,  -89.1163,  4807, 1538.800,    2.532,   34.521,2,   34.520,2,  176.000,2,  174.800,2,   72.790,2,   34.100,2,    0.000,2,    2.370,2,    0.314,2,    0.145,2, -999.000,9, -999.000,9, -999.000,9
           NA,    P17E,    205,   1,-999.0,      22,  2,19930109,1731, -53.9218,  -89.1163,  4807, 1742.100,    2.404,   34.588,2,   34.587,2,  171.000,2,  171.200,2,   79.510,2,   33.800,2,    0.000,2,    2.340,2,    0.188,2,    0.084,2, -999.000,9, -999.000,9, -999.000,9
           NA,    P17E,    205,   1,-999.0,      23,  2,19930109,1731, -53.9218,  -89.1163,  4807, 1945.600,    2.281,   34.646,2,   34.645,2,  171.600,2,  173.900,2,   84.740,2,   33.150,2,    0.000,2,    2.290,2,    0.112,2,    0.049,2, -999.000,9, -999.000,9, -999.000,9
           NA,    P17E,    205,   1,-999.0,      24,  2,19930109,1731, -53.9218,  -89.1163,  4807, 2147.800,    2.164,   34.684,2,   34.684,2,  174.000,2,  175.000,2,   89.420,2,   32.500,2,    0.000,2,    2.250,2,    0.059,2,    0.024,2, -999.000,9, -999.000,9, -999.000,9
           NA,    P17E,    205,   1,-999.0,      25,  2,19930109,1731, -53.9218,  -89.1163,  4807, 2376.700,    2.020,   34.705,2,   34.706,2,  175.900,2,  178.300,2,   95.250,2,   32.200,2,    0.000,2,    2.230,2,    0.024,2,    0.012,2, -999.000,9, -999.000,9, -999.000,9
           NA,    P17E,    205,   1,-999.0,      26,  2,19930109,1731, -53.9218,  -89.1163,  4807, 2603.800,    1.807,   34.704,2,   34.705,2,  175.200,2,  175.400,2,  107.190,2,   32.890,2,    0.000,2,    2.280,2,    0.005,2,    0.002,2, -999.000,9, -999.000,9, -999.000,9
           NA,    P17E,    205,   1,-999.0,      27,  2,19930109,1731, -53.9218,  -89.1163,  4807, 2833.100,    1.691,   34.712,2,   34.711,2,  180.300,2,  180.800,2,  108.880,2,   32.590,2,    0.000,2,    2.250,2, -999.000,9, -999.000,9, -999.000,9, -999.000,9, -999.000,9
           NA,    P17E,    205,   1,-999.0,      28,  2,19930109,1731, -53.9218,  -89.1163,  4807, 3059.700,    1.570,   34.716,2,   34.716,2,  184.800,2,  185.300,2,  110.570,2,   32.340,2,    0.000,2,    2.240,2,    0.003,2,    0.003,2, -999.000,9, -999.000,9, -999.000,9
           NA,    P17E,    205,   1,-999.0,      29,  2,19930109,1731, -53.9218,  -89.1163,  4807, 3287.300,    1.418,   34.721,2,   34.720,2,  191.700,2,  192.100,2,  112.260,2,   32.000,2,    0.000,2,    2.210,2,    0.006,2,    0.001,2, -999.000,9, -999.000,9, -999.000,9
           NA,    P17E,    205,   1,-999.0,      30,  2,19930109,1731, -53.9218,  -89.1163,  4807, 3537.300,    1.192,   34.717,2,   34.717,2,  196.300,2,  196.800,2,  118.000,2,   32.040,2,    0.000,2,    2.210,2, -999.000,9, -999.000,9, -999.000,9, -999.000,9, -999.000,9
           NA,    P17E,    205,   1,-999.0,      31,  2,19930109,1731, -53.9218,  -89.1163,  4807, 3787.400,    0.994,   34.713,2,   34.713,2,  201.300,2,  201.200,2,  123.970,2,   32.190,2,    0.000,2,    2.230,2,    0.002,2,    0.003,2, -999.000,9, -999.000,9, -999.000,9
           NA,    P17E,    205,   1,-999.0,      32,  2,19930109,1731, -53.9218,  -89.1163,  4807, 4035.300,    0.805,   34.709,2,   34.709,2,  205.900,2,  205.000,2,  130.580,2,   32.440,2,    0.000,2,    2.240,2,    0.004,2,    0.002,2, -999.000,9, -999.000,9, -999.000,9
           NA,    P17E,    205,   1,-999.0,      33,  2,19930109,1731, -53.9218,  -89.1163,  4807, 4295.300,    0.687,   34.707,2,   34.707,2,  208.400,2,  207.800,2,  134.480,2,   32.540,2,    0.000,2,    2.240,2,    0.003,2,    0.002,2, -999.000,9, -999.000,9, -999.000,9
           NA,    P17E,    205,   1,-999.0,      34,  2,19930109,1731, -53.9218,  -89.1163,  4807, 4530.600,    0.644,   34.706,2,   34.706,2,  210.000,2,  209.000,2,  136.430,2,   32.540,2,    0.000,2,    2.240,2, -999.000,5,    0.006,2, -999.000,9, -999.000,9, -999.000,9
           NA,    P17E,    205,   1,-999.0,      35,  2,19930109,1731, -53.9218,  -89.1163,  4807, 4766.200,    0.641,   34.707,2,   34.706,2,  211.000,2,  209.900,2,  136.990,2,   32.540,2,    0.000,2,    2.240,2,    0.003,2,    0.005,2, -999.000,9, -999.000,9, -999.000,9
           NA,    P17E,    205,   1,-999.0,      36,  2,19930109,1731, -53.9218,  -89.1163,  4807, 4925.800,    0.646,   34.706,2,   34.705,2,  209.000,2,  209.800,2,  137.550,2,   32.530,2,    0.000,2,    2.240,2,    0.010,2,    0.004,2, -999.000,9, -999.000,9, -999.000,9
           NA,    P19C,    256,   1,-999.0,      36,  2,19930301,0027, -53.9987,  -88.0077,  5044,    3.000,    8.550,   34.166,2,   34.166,2,  294.400,2,  286.900,2,    2.500,2, -999.000,3,    0.200,2,    1.130,2,    4.063,2,    1.997,2, -999.000,9, 2084.100,2, -999.000,9
           NA,    P19C,    256,   1,-999.0,      35,  2,19930301,0027, -53.9987,  -88.0077,  5044,   37.400,    8.545,   34.168,2,   34.167,2,  288.500,2,  287.300,2,    2.500,2, -999.000,3,    0.200,2,    1.130,2, -999.000,9, -999.000,9, -999.000,9, 2083.500,2, -999.000,9
           NA,    P19C,    256,   1,-999.0,      68,  2,19930301,0027, -53.9987,  -88.0077,  5044,   54.700,    8.347,   34.187,2,   34.183,2,  284.800,2,  287.100,2,    2.500,2, -999.000,3,    0.190,2,    1.150,2,    4.203,2,    2.058,2, -999.000,9, 2084.500,2, -999.000,9
           NA,    P19C,    256,   1,-999.0,      33,  2,19930301,0027, -53.9987,  -88.0077,  5044,   83.800,    6.148,   34.240,2,   34.246,2,  289.300,2,  292.000,2,    6.200,2, -999.000,3,    0.440,2,    1.380,2, -999.000,9, -999.000,9, -999.000,9, 2112.500,2, -999.000,9
           NA,    P19C,    256,   1,-999.0,      32,  2,19930301,0027, -53.9987,  -88.0077,  5044,  116.700,    6.163,   34.270,2,   34.270,2,  285.700,2,  286.000,2,    7.100,2, -999.000,3,    0.020,2,    1.380,2,    4.298,2,    2.076,2, -999.000,9, 2114.300,2, -999.000,9
           NA,    P19C,    256,   1,-999.0,      31,  2,19930301,0027, -53.9987,  -88.0077,  5044,  156.600,    6.047,   34.262,2,   34.262,2,  288.200,2,  287.300,2,    7.100,2, -999.000,3,    0.010,2,    1.400,2, -999.000,9, -999.000,9, -999.000,9, 2116.400,2, -999.000,9
           NA,    P19C,    256,   1,-999.0,      30,  2,19930301,0027, -53.9987,  -88.0077,  5044,  200.100,    6.023,   34.269,2,   34.269,2,  288.900,2,  283.400,2,    7.500,2, -999.000,3,    0.010,2,    1.430,2,    4.170,2,    2.016,2, -999.000,9, 2119.900,2, -999.000,9
           NA,    P19C,    256,   1,-999.0,      29,  2,19930301,0027, -53.9987,  -88.0077,  5044,  256.900,    5.831,   34.248,2,   34.248,2,  291.800,2,  289.100,2,    7.300,2, -999.000,3,    0.010,2,    1.420,2, -999.000,9, -999.000,9, -999.000,9, 2117.200,2, -999.000,9
           NA,    P19C,    256,   1,-999.0,      28,  2,19930301,0027, -53.9987,  -88.0077,  5044,  307.000,    5.659,   34.227,2,   34.228,2,  284.500,2,  291.100,2,    7.500,2, -999.000,3,    0.010,2,    1.440,2,    4.390,2,    2.100,2, -999.000,9, 2115.700,2, -999.000,9
           NA,    P19C,    256,   1,-999.0,      27,  2,19930301,0027, -53.9987,  -88.0077,  5044,  407.300,    5.545,   34.236,2,   34.237,2,  276.300,2,  277.100,2,    9.600,2, -999.000,3,    0.000,2,    1.560,2,    3.946,2,    1.870,2, -999.000,9, 2127.100,2, -999.000,9
           NA,    P19C,    256,   1,-999.0,      26,  2,19930301,0027, -53.9987,  -88.0077,  5044,  505.700,    5.279,   34.230,2,   34.230,2,  264.500,2,  267.800,2,   12.500,2, -999.000,3,    0.000,2,    1.680,2,    3.246,2,    1.537,2, -999.000,9, 2137.700,2, -999.000,9
           NA,    P19C,    256,   1,-999.0,      25,  2,19930301,0027, -53.9987,  -88.0077,  5044,  601.700,    5.007,   34.233,2,   34.233,2,  258.300,2,  259.900,2,   14.800,2, -999.000,3,    0.000,2,    1.760,2,    3.053,2,    1.419,2, -999.000,9, 2144.800,2, -999.000,9
           NA,    P19C,    256,   1,-999.0,      24,  2,19930301,0027, -53.9987,  -88.0077,  5044,  700.200,    4.645,   34.243,2,   34.243,2,  246.000,2,  244.300,2,   20.200,2, -999.000,3,    0.000,2,    1.910,2,    2.450,2,    1.128,2, -999.000,9, 2163.300,2, -999.000,9
           NA,    P19C,    256,   1,-999.0,      23,  2,19930301,0027, -53.9987,  -88.0077,  5044,  801.200,    4.186,   34.260,2,   34.261,2,  230.900,2,  228.200,2,   27.600,2, -999.000,3,    0.000,2,    2.050,2,    1.874,2,    0.861,2, -999.000,9, 2179.700,2, -999.000,9
           NA,    P19C,    256,   1,-999.0,      21,  2,19930301,0027, -53.9987,  -88.0077,  5044, 1000.400,    3.421,   34.314,2,   34.313,2,  211.200,2,  209.900,2,   41.900,2, -999.000,3,    0.000,2,    2.220,2,    1.228,2,    0.548,2, -999.000,9, 2204.500,2, -999.000,9
           NA,    P19C,    256,   1,-999.0,      20,  2,19930301,0027, -53.9987,  -88.0077,  5044, 1202.300,    2.941,   34.393,2,   34.391,2,  192.100,2,  192.000,2,   56.100,2, -999.000,3,    0.000,2,    2.340,2,    0.655,2,    0.283,2, -999.000,9, 2226.900,2, -999.000,9
           NA,    P19C,    256,   1,-999.0,      19,  2,19930301,0027, -53.9987,  -88.0077,  5044, 1404.500,    2.672,   34.482,2,   34.482,2,  178.600,2,  176.900,2,   68.600,2, -999.000,3,    0.000,2,    2.390,2,    0.319,2,    0.133,2, -999.000,9, 2244.800,2, -999.000,9
           NA,    P19C,    256,   1,-999.0,      18,  2,19930301,0027, -53.9987,  -88.0077,  5044, 1608.000,    2.469,   34.560,2,   34.558,2,  172.600,2,  172.300,2,   77.300,2, -999.000,3,    0.000,2,    2.380,2,    0.230,2,    0.103,2, -999.000,9, 2252.400,2, -999.000,9
           NA,    P19C,    256,   1,-999.0,      17,  2,19930301,0027, -53.9987,  -88.0077,  5044, 1760.600,    2.381,   34.607,2,   34.606,2,  171.100,2,  170.500,2,   82.000,2, -999.000,3,    0.000,2,    2.350,2, -999.000,3, -999.000,3, -999.000,9, 2259.000,2, -999.000,9
           NA,    P19C,    256,   1,-999.0,      16,  2,19930301,0027, -53.9987,  -88.0077,  5044, 1914.900,    2.285,   34.645,2,   34.645,2,  170.800,2,  171.600,2,   86.100,2, -999.000,3,    0.000,2,    2.320,2, -999.000,3, -999.000,3, -999.000,9, 2260.400,2, -999.000,9
           NA,    P19C,    256,   1,-999.0,      15,  2,19930301,0027, -53.9987,  -88.0077,  5044, 2118.700,    2.160,   34.677,2,   34.676,2,  170.700,2,  170.900,2,   93.600,2, -999.000,3,    0.000,2,    2.310,2,    0.035,2,    0.000,2, -999.000,9, 2265.700,2, -999.000,9
           NA,    P19C,    256,   1,-999.0,      14,  2,19930301,0027, -53.9987,  -88.0077,  5044, 2324.500,    2.016,   34.693,2,   34.692,2,  172.400,2,  171.900,2,  101.100,2, -999.000,3,    0.000,2,    2.310,2,    0.015,2,    0.000,2, -999.000,9, 2273.600,2, -999.000,9
           NA,    P19C,    256,   1,-999.0,      13,  2,19930301,0027, -53.9987,  -88.0077,  5044, 2527.900,    1.909,   34.706,2,   34.706,2,  174.400,2,  175.700,2,  103.100,2, -999.000,3,    0.000,2,    2.280,2,    0.018,2,    0.000,2, -999.000,9, 2271.100,2, -999.000,9
           NA,    P19C,    256,   1,-999.0,      12,  2,19930301,0027, -53.9987,  -88.0077,  5044, 2680.700,    1.805,   34.712,2,   34.712,2,  177.700,2,  179.000,2,  105.200,2, -999.000,3,    0.000,2,    2.260,2, -999.000,9, -999.000,9, -999.000,9, 2269.900,2, -999.000,9
           NA,    P19C,    256,   1,-999.0,      11,  2,19930301,0027, -53.9987,  -88.0077,  5044, 2833.400,    1.703,   34.714,2,   34.714,2,  180.100,2,  181.400,2,  108.200,2, -999.000,3,    0.000,2,    2.260,2, -999.000,9, -999.000,9, -999.000,9, 2272.000,2, -999.000,9
           NA,    P19C,    256,   1,-999.0,      10,  2,19930301,0027, -53.9987,  -88.0077,  5044, 3038.300,    1.609,   34.719,2,   34.719,2,  186.000,2,  186.500,2,  108.500,2, -999.000,3,    0.000,2,    2.250,2, -999.000,9, -999.000,9, -999.000,9, 2265.600,2, -999.000,9
           NA,    P19C,    256,   1,-999.0,       9,  2,19930301,0027, -53.9987,  -88.0077,  5044, 3240.300,    1.481,   34.721,2,   34.720,2,  190.400,2,  191.000,2,  110.500,2, -999.000,3,    0.000,2,    2.220,2, -999.000,9, -999.000,9, -999.000,9, 2264.900,2, -999.000,9
           NA,    P19C,    256,   1,-999.0,       8,  2,19930301,0027, -53.9987,  -88.0077,  5044, 3445.300,    1.336,   34.720,2,   34.720,2,  195.200,2,  194.600,2,  113.800,2, -999.000,3,    0.000,2,    2.220,2, -999.000,9, -999.000,9, -999.000,9, 2264.500,2, -999.000,9
           NA,    P19C,    256,   1,-999.0,       7,  2,19930301,0027, -53.9987,  -88.0077,  5044, 3649.300,    1.178,   34.718,2,   34.717,2,  197.700,2,  198.400,2,  117.700,2, -999.000,3,    0.000,2,    2.220,2, -999.000,9, -999.000,9, -999.000,9, 2262.300,2, -999.000,9
           NA,    P19C,    256,   1,-999.0,       6,  2,19930301,0027, -53.9987,  -88.0077,  5044, 3854.100,    1.014,   34.714,2,   34.714,2,  202.000,2,  201.500,2,  123.100,2, -999.000,3,    0.000,2,    2.240,2, -999.000,9, -999.000,9, -999.000,9, 2264.300,2, -999.000,9
           NA,    P19C,    256,   1,-999.0,       5,  2,19930301,0027, -53.9987,  -88.0077,  5044, 4107.600,    0.824,   34.710,2,   34.710,2,  205.700,2,  205.100,2,  129.300,2, -999.000,3,    0.000,2,    2.250,2, -999.000,9, -999.000,9, -999.000,9, 2269.400,2, -999.000,9
           NA,    P19C,    256,   1,-999.0,       4,  2,19930301,0027, -53.9987,  -88.0077,  5044, 4365.400,    0.692,   34.706,2,   34.707,2,  208.600,2,  208.000,2,  134.000,2, -999.000,3,    0.000,2,    2.260,2,   -0.011,2,    0.000,2, -999.000,9, 2265.600,2, -999.000,9
           NA,    P19C,    256,   1,-999.0,       3,  3,19930301,0027, -53.9987,  -88.0077,  5044, 4621.700,    0.646,   34.707,2, -999.000,4,  209.500,2, -999.000,4, -999.000,4, -999.000,3, -999.000,4, -999.000,4, -999.000,5, -999.000,5, -999.000,9, -999.000,9, -999.000,9
           NA,    P19C,    256,   1,-999.0,       2,  2,19930301,0027, -53.9987,  -88.0077,  5044, 4877.200,    0.646,   34.705,2,   34.706,2,  210.200,2,  209.600,2,  136.600,2, -999.000,3,    0.000,2,    2.260,2,   -0.010,2,    0.000,2, -999.000,9, 2266.700,2, -999.000,9
           NA,    P19C,    256,   1,-999.0,       1,  2,19930301,0027, -53.9987,  -88.0077,  5044, 5143.400,    0.663,   34.706,2,   34.706,2,  209.600,2,  209.900,2,  137.400,2, -999.000,3,    0.000,2,    2.260,2,   -0.002,2,    0.000,2, -999.000,9, 2267.600,2, -999.000,9