BOTTLE,20215010JOAExport
EXPOCODE,SECT_ID,STNNBR,CASTNO,SAMPNO,BTLNBR,BTLNBR_FLAG_W,DATE,TIME,LATITUDE,LONGITUDE,DEPTH,CTDPRS,CTDTMP,CTDSAL,CTDSAL_FLAG_W,SALNTY,SALNTY_FLAG_W,CTDOXY,CTDOXY_FLAG_W,OXYGEN,OXYGEN_FLAG_W,SILCAT,SILCAT_FLAG_W,NITRAT,NITRAT_FLAG_W,NITRIT,NITRIT_FLAG_W,PHSPHT,PHSPHT_FLAG_W,CFC-11,CFC-11_FLAG_W,CFC-12,CFC-12_FLAG_W,SF6,SF6_FLAG_W,TCARBN,TCARBN_FLAG_W,ALKALI,ALKALI_FLAG_W
,,,,,,,,,,,,DB,ITS-90,PSS-78,,PSS-78,,UMOL/KG,,UMOL/KG,,UMOL/KG,,UMOL/KG,,UMOL/KG,,UMOL/KG,,PMOL/KG,,PMOL/KG,,PMOL/KG,,UMOL/KG,,UMOL/KG
           NA,    P19C,    241,   4,-999.0,      52,  2,19930225,0635, -53.3425,  -76.5840,  4104,    3.800,    9.289,   34.001,2,   34.001,2,  283.100,2,  284.400,2,    1.700,2,   15.130,2,    0.220,2,    1.140,2, -999.000,9, -999.000,9, -999.000,9, 2071.300,2, -999.000,9
           NA,    P19C,    241,   4,-999.0,      51,  2,19930225,0635, -53.3425,  -76.5840,  4104,  204.600,    5.499,   34.170,2,   34.172,2,  277.500,2,  277.400,2,    8.300,2,   22.290,2,    0.030,2,    1.560,2, -999.000,9, -999.000,9, -999.000,9, -999.000,9, -999.000,9
           NA,    P19C,    241,   4,-999.0,      31,  2,19930225,0635, -53.3425,  -76.5840,  4104,  406.200,    5.091,   34.220,2,   34.221,2,  274.800,2,  275.000,2,   10.800,2,   23.770,2,    0.010,2,    1.660,2, -999.000,9, -999.000,9, -999.000,9, -999.000,9, -999.000,9
           NA,    P19C,    241,   4,-999.0,      32,  2,19930225,0635, -53.3425,  -76.5840,  4104,  607.800,    4.668,   34.219,2,   34.220,2,  261.500,2,  264.600,2,   15.500,2,   25.700,2,    0.010,2,    1.790,2,    2.891,2,    1.343,2, -999.000,9, -999.000,9, -999.000,9
           NA,    P19C,    241,   4,-999.0,      30,  2,19930225,0635, -53.3425,  -76.5840,  4104,  809.200,    3.937,   34.251,2,   34.256,2,  231.500,2,  231.100,2,   28.300,2,   29.880,2,    0.010,2,    2.080,2,    1.678,2,    0.749,2, -999.000,9, -999.000,9, -999.000,9
           NA,    P19C,    241,   4,-999.0,      26,  2,19930225,0635, -53.3425,  -76.5840,  4104, 1010.000,    3.268,   34.344,2,   34.345,2,  195.000,2,  195.400,2,   48.000,2,   33.230,2,    0.000,2,    2.310,2,    0.658,2,    0.289,2, -999.000,9, -999.000,9, -999.000,9
           NA,    P19C,    241,   4,-999.0,      74,  2,19930225,0635, -53.3425,  -76.5840,  4104, 1210.500,    2.929,   34.444,2,   34.445,2,  171.400,2,  168.600,2,   65.100,2,   34.960,2,    0.000,2,    2.440,2,    0.199,2,    0.081,2, -999.000,9, 2242.500,2, -999.000,9
           NA,    P19C,    241,   4,-999.0,      73,  2,19930225,0635, -53.3425,  -76.5840,  4104, 1411.800,    2.727,   34.521,2,   34.522,2,  153.300,2,  152.100,2,   79.200,2,   35.740,2,    0.000,2,    2.520,2,    0.055,2,    0.000,2, -999.000,9, 2265.800,2, -999.000,9
           NA,    P19C,    241,   4,-999.0,      72,  2,19930225,0635, -53.3425,  -76.5840,  4104, 1615.900,    2.504,   34.582,2,   34.582,2,  146.300,2,  146.900,2,   91.600,2,   35.730,2,    0.000,2,    2.530,2,    0.020,2,    0.000,2, -999.000,9, 2278.200,2, -999.000,9
           NA,    P19C,    241,   4,-999.0,      71,  2,19930225,0635, -53.3425,  -76.5840,  4104, 1818.200,    2.329,   34.616,2,   34.617,2,  147.000,2,  147.200,2,  100.400,2,   35.680,2,    0.000,2,    2.510,2,    0.013,2,    0.000,2, -999.000,9, 2286.100,2, -999.000,9
           NA,    P19C,    241,   4,-999.0,      70,  2,19930225,0635, -53.3425,  -76.5840,  4104, 2020.800,    2.146,   34.645,2,   34.645,2,  150.400,2,  149.800,2,  107.800,2,   35.200,2,    0.000,2,    2.490,2,    0.004,2,    0.000,2, -999.000,9, 2292.200,2, -999.000,9
           NA,    P19C,    241,   4,-999.0,      36,  2,19930225,0635, -53.3425,  -76.5840,  4104, 2224.600,    2.034,   34.661,2,   34.661,2,  152.900,2,  153.400,2,  111.300,2,   35.150,2,    0.000,2,    2.460,2,   -0.001,2,    0.000,2, -999.000,9, 2291.800,2, -999.000,9
           NA,    P19C,    241,   4,-999.0,      28,  2,19930225,0635, -53.3425,  -76.5840,  4104, 2427.500,    1.941,   34.670,2,   34.670,2,  154.700,2,  154.500,2,  115.700,2,   34.810,2,    0.000,2,    2.450,2,   -0.010,2,    0.000,2, -999.000,9, 2297.700,2, -999.000,9
           NA,    P19C,    241,   4,-999.0,      35,  2,19930225,0635, -53.3425,  -76.5840,  4104, 2628.700,    1.880,   34.678,2,   34.677,2,  156.400,2,  156.600,2,  117.600,2,   34.710,2,    0.000,2,    2.440,2,   -0.002,2,    0.000,2, -999.000,9, 2297.100,2, -999.000,9
           NA,    P19C,    241,   4,-999.0,      68,  2,19930225,0635, -53.3425,  -76.5840,  4104, 2830.200,    1.836,   34.683,2,   34.683,2,  159.400,2,  159.800,2,  118.300,2,   34.560,2,    0.000,2,    2.430,2,   -0.005,2,    0.000,2, -999.000,9, 2294.300,2, -999.000,9
           NA,    P19C,    241,   4,-999.0,      34,  2,19930225,0635, -53.3425,  -76.5840,  4104, 3031.900,    1.797,   34.692,2,   34.692,2,  165.100,2,  165.800,2,  116.400,2,   33.930,2,    0.000,2,    2.390,2,    0.001,2,    0.000,2, -999.000,9, 2291.700,2, -999.000,9
           NA,    P19C,    241,   4,-999.0,      67,  2,19930225,0635, -53.3425,  -76.5840,  4104, 3235.200,    1.736,   34.700,2,   34.700,2,  170.100,2,  171.600,2,  115.500,2,   33.500,2,    0.000,2,    2.350,2,   -0.002,2,    0.000,2, -999.000,9, 2284.800,2, -999.000,9
           NA,    P19C,    241,   4,-999.0,      33,  2,19930225,0635, -53.3425,  -76.5840,  4104, 3441.000,    1.594,   34.709,2,   34.709,2,  180.000,2,  180.400,2,  115.100,2,   32.870,2,    0.000,2,    2.300,2,   -0.010,2,    0.000,2, -999.000,9, -999.000,9, -999.000,9
           NA,    P19C,    241,   4,-999.0,      15,  2,19930225,0635, -53.3425,  -76.5840,  4104, 3644.000,    1.385,   34.718,2,   34.718,2,  192.100,2,  192.700,2,  114.400,2,   32.200,2,    0.000,2,    2.240,2,    0.000,2,    0.000,2, -999.000,9, -999.000,9, -999.000,9
           NA,    P19C,    241,   4,-999.0,      14,  2,19930225,0635, -53.3425,  -76.5840,  4104, 3644.500,    1.385,   34.719,2,   34.719,2,  192.100,2,  192.800,2,  114.300,2,   32.150,2,    0.000,2,    2.240,2,    0.000,2,    0.000,2, -999.000,9, 2268.000,2, -999.000,9
           NA,    P19C,    241,   4,-999.0,       9,  2,19930225,0635, -53.3425,  -76.5840,  4104, 3846.200,    1.139,   34.715,2,   34.716,2,  197.400,2,  197.500,2,  121.100,2,   32.240,2,    0.000,2,    2.250,2,    0.000,2,    0.000,2, -999.000,9, 2268.800,2, -999.000,9
           NA,    P19C,    241,   4,-999.0,      10,  2,19930225,0635, -53.3425,  -76.5840,  4104, 3846.700,    1.140,   34.715,2,   34.715,2,  197.400,2,  197.500,2,  121.100,2,   32.240,2,    0.000,2,    2.250,2,    0.001,2,    0.000,2, -999.000,9, -999.000,9, -999.000,9
           NA,    P19C,    241,   4,-999.0,      12,  2,19930225,0635, -53.3425,  -76.5840,  4104, 3847.400,    1.139,   34.716,2,   34.715,2,  197.200,2,  197.500,2,  121.300,2,   32.250,2,    0.000,2,    2.250,2,   -0.004,2,    0.000,2, -999.000,9, -999.000,9, -999.000,9
           NA,    P19C,    241,   4,-999.0,       4,  2,19930225,0635, -53.3425,  -76.5840,  4104, 4047.900,    0.969,   34.712,2,   34.714,2,  202.400,2,  202.000,2,  126.300,2,   32.290,2,    0.000,2,    2.250,2,    0.000,2,    0.000,2, -999.000,9, 2267.000,2, -999.000,9
           NA,    P19C,    241,   4,-999.0,       5,  2,19930225,0635, -53.3425,  -76.5840,  4104, 4048.400,    0.969,   34.712,2,   34.713,2,  202.300,2,  202.000,2,  126.100,2,   32.290,2,    0.000,2,    2.250,2,    0.001,2,    0.000,2, -999.000,9, -999.000,9, -999.000,9
           NA,    P19C,    241,   4,-999.0,       6,  2,19930225,0635, -53.3425,  -76.5840,  4104, 4048.800,    0.969,   34.712,2,   34.713,2,  202.300,2,  201.900,2,  126.100,2,   32.290,2,    0.000,2,    2.250,2,    0.003,2,    0.000,2, -999.000,9, -999.000,9, -999.000,9
           NA,    P19C,    241,   4,-999.0,       8,  2,19930225,0635, -53.3425,  -76.5840,  4104, 4049.400,    0.969,   34.711,2,   34.713,2,  202.200,2,  201.900,2,  125.900,2,   32.240,2,    0.000,2,    2.250,2,    0.006,2,    0.000,2, -999.000,9, -999.000,9, -999.000,9
           NA,    P19C,    241,   4,-999.0,       2,  2,19930225,0635, -53.3425,  -76.5840,  4104, 4164.300,    0.902,   34.712,2,   34.712,2,  202.600,2,  202.600,2,  129.100,2,   32.290,2,    0.000,2,    2.250,2,    0.002,6,    0.000,6, -999.000,9, -999.000,9, -999.000,9
           NA,    P19C,    241,   4,-999.0,      76,  2,19930225,0635, -53.3425,  -76.5840,  4104, 4164.500,    0.902,   34.711,2,   34.711,2,  202.600,2,  202.300,2,  128.600,2,   32.330,2,    0.000,2,    2.250,2,    0.005,2,    0.000,2, -999.000,9, 2267.600,2, -999.000,9
           NA,    P19C,    241,   2,-999.0,      52,  2,19930225,0015, -53.3360,  -76.5860,  4111,    2.400,    9.669,   33.946,2,   33.951,2,  290.800,2,  282.900,2,    1.400,2,   14.560,2,    0.210,2,    1.100,2, -999.000,9, -999.000,9, -999.000,9, 2068.300,2, -999.000,9
           NA,    P19C,    241,   2,-999.0,      51,  2,19930225,0015, -53.3360,  -76.5860,  4111,   30.700,    8.837,   34.032,2,   33.950,2,  289.800,2,  282.900,2,    1.400,2,   14.510,2,    0.220,2,    1.120,2, -999.000,9, -999.000,9, -999.000,9, 2067.500,2, -999.000,9
           NA,    P19C,    241,   2,-999.0,      31,  2,19930225,0015, -53.3360,  -76.5860,  4111,   56.000,    8.788,   34.041,2,   34.040,2,  284.600,2,  284.200,2,    1.400,2,   15.200,2,    0.220,2,    1.150,2, -999.000,9, -999.000,9, -999.000,9, 2076.500,2, -999.000,9
           NA,    P19C,    241,   2,-999.0,      32,  2,19930225,0015, -53.3360,  -76.5860,  4111,   81.000,    6.860,   34.030,2,   34.027,2,  278.300,2,  270.200,2,    4.400,2,   19.660,2,    0.280,2,    1.460,2, -999.000,9, -999.000,9, -999.000,9, 2108.000,2, -999.000,9
           NA,    P19C,    241,   2,-999.0,      30,  2,19930225,0015, -53.3360,  -76.5860,  4111,  105.800,    6.255,   34.087,2,   34.087,2,  261.200,2,  259.900,2,    6.200,2,   22.090,2,    0.090,2,    1.590,2, -999.000,9, -999.000,9, -999.000,9, 2122.200,2, -999.000,9
           NA,    P19C,    241,   2,-999.0,      26,  2,19930225,0015, -53.3360,  -76.5860,  4111,  131.100,    5.905,   34.110,2,   34.115,2,  271.300,2,  272.500,2,    6.700,2,   21.820,2,    0.030,2,    1.580,2, -999.000,9, -999.000,9, -999.000,9, 2119.500,2, -999.000,9
           NA,    P19C,    241,   2,-999.0,      74,  2,19930225,0015, -53.3360,  -76.5860,  4111,  156.000,    5.745,   34.146,2,   34.147,2,  270.200,2,  277.800,2,    6.500,2,   21.480,2,    0.280,2,    1.580,2, -999.000,9, -999.000,9, -999.000,9, 2121.500,2, -999.000,9
           NA,    P19C,    241,   2,-999.0,      73,  2,19930225,0015, -53.3360,  -76.5860,  4111,  181.400,    5.562,   34.174,2,   34.175,2,  270.900,2,  268.900,2,    7.900,2,   22.870,2,    0.020,2,    1.620,2, -999.000,9, -999.000,9, -999.000,9, 2127.700,2, -999.000,9
           NA,    P19C,    241,   2,-999.0,      72,  2,19930225,0015, -53.3360,  -76.5860,  4111,  206.100,    5.485,   34.186,2,   34.188,2,  264.100,2,  270.500,2,    8.200,2,   22.970,2,    0.020,2,    1.610,2, -999.000,9, -999.000,9, -999.000,9, 2130.500,2, -999.000,9
           NA,    P19C,    241,   2,-999.0,      71,  2,19930225,0015, -53.3360,  -76.5860,  4111,  255.900,    5.370,   34.199,2,   34.199,2,  275.300,2,  276.800,2,    8.600,2,   22.740,2,    0.010,2,    1.580,2, -999.000,9, -999.000,9, -999.000,9, 2126.000,2, -999.000,9
           NA,    P19C,    241,   2,-999.0,      70,  2,19930225,0015, -53.3360,  -76.5860,  4111,  305.100,    5.345,   34.210,2,   34.209,2,  278.300,2,  278.200,2,    8.900,2,   22.740,2,    0.010,2,    1.580,2, -999.000,9, -999.000,9, -999.000,9, 2125.200,2, -999.000,9
           NA,    P19C,    241,   2,-999.0,      36,  2,19930225,0015, -53.3360,  -76.5860,  4111,  354.400,    5.264,   34.218,2,   34.217,2,  274.800,2,  276.500,2,    9.400,2,   23.260,2,    0.010,2,    1.620,2, -999.000,9, -999.000,9, -999.000,9, 2127.800,2, -999.000,9
           NA,    P19C,    241,   2,-999.0,      28,  2,19930225,0015, -53.3360,  -76.5860,  4111,  403.900,    5.145,   34.220,2,   34.220,2,  272.300,2,  274.700,2,   10.500,2,   23.680,2,    0.000,2,    1.650,2, -999.000,9, -999.000,9, -999.000,9, 2130.900,2, -999.000,9
           NA,    P19C,    241,   2,-999.0,      35,  2,19930225,0015, -53.3360,  -76.5860,  4111,  503.300,    4.978,   34.221,2,   34.221,2,  270.700,2,  272.700,2,   11.200,2,   24.300,2,    0.000,2,    1.680,2, -999.000,9, -999.000,9, -999.000,9, 2132.000,2, -999.000,9
           NA,    P19C,    241,   2,-999.0,      68,  2,19930225,0015, -53.3360,  -76.5860,  4111,  602.400,    4.759,   34.221,2,   34.223,2,  262.000,2,  265.300,2,   14.200,2,   25.570,2,    0.000,2,    1.760,2, -999.000,9, -999.000,9, -999.000,9, 2143.100,2, -999.000,9
           NA,    P19C,    241,   2,-999.0,      34,  2,19930225,0015, -53.3360,  -76.5860,  4111,  702.500,    4.384,   34.223,2,   34.222,2,  249.900,2,  254.400,2,   18.500,2,   27.180,2,    0.000,2,    1.890,2, -999.000,9, -999.000,9, -999.000,9, 2159.700,2, -999.000,9
           NA,    P19C,    241,   2,-999.0,      67,  2,19930225,0015, -53.3360,  -76.5860,  4111,  802.200,    4.044,   34.246,2,   34.245,2,  234.900,2,  234.800,2,   25.600,2,   29.360,2,    0.000,2,    2.030,2, -999.000,9, -999.000,9, -999.000,9, 2170.800,2, -999.000,9
           NA,    P19C,    241,   2,-999.0,      33,  2,19930225,0015, -53.3360,  -76.5860,  4111,  903.100,    3.575,   34.288,2,   34.286,2,  217.900,2,  214.900,2,   36.200,2,   31.370,2,    0.000,2,    2.190,2, -999.000,9, -999.000,9, -999.000,9, 2193.600,2, -999.000,9
           NA,    P19C,    241,   2,-999.0,      14,  2,19930225,0015, -53.3360,  -76.5860,  4111, 1205.200,    2.921,   34.455,2,   34.454,2,  167.700,2,  164.300,2,   66.600,2,   35.260,2,    0.000,2,    2.470,2,    0.151,2,    0.065,2, -999.000,9, -999.000,9, -999.000,9
           NA,    P19C,    241,   2,-999.0,      12,  2,19930225,0015, -53.3360,  -76.5860,  4111, 1610.000,    2.514,   34.583,2,   34.582,2,  146.800,2,  142.800,2,   93.200,2,   36.180,2,    0.000,2,    2.550,2,    0.005,2,    0.000,2, -999.000,9, -999.000,9, -999.000,9
           NA,    P19C,    241,   2,-999.0,      11,  3,19930225,0015, -53.3360,  -76.5860,  4111, 1812.800,    2.339,   34.615,2, -999.000,9,  147.900,2, -999.000,4, -999.000,9, -999.000,9, -999.000,9, -999.000,9, -999.000,5, -999.000,5, -999.000,9, -999.000,9, -999.000,9
           NA,    P19C,    241,   2,-999.0,      10,  2,19930225,0015, -53.3360,  -76.5860,  4111, 2067.300,    2.144,   34.647,2,   34.647,2,  152.200,2,  151.900,2,  106.600,2,   35.210,2,    0.000,2,    2.470,2,    0.002,2,    0.000,2, -999.000,9, -999.000,9, -999.000,9
           NA,    P19C,    241,   2,-999.0,       8,  2,19930225,0015, -53.3360,  -76.5860,  4111, 2577.300,    1.891,   34.675,2,   34.676,2,  155.900,2,  155.600,2,  117.300,2,   34.870,2,    0.000,2,    2.440,2, -999.000,9, -999.000,9, -999.000,9, -999.000,9, -999.000,9
           NA,    P19C,    241,   2,-999.0,       4,  2,19930225,0015, -53.3360,  -76.5860,  4111, 3545.600,    1.524,   34.718,2,   34.718,2,  185.800,2,  187.900,2,  111.900,2,   32.280,2,    0.000,2,    2.250,2,    0.000,2,    0.000,2, -999.000,9, -999.000,9, -999.000,9
           NA,    P19C,    241,   2,-999.0,       2,  2,19930225,0015, -53.3360,  -76.5860,  4111, 4053.100,    0.981,   34.712,2,   34.713,2,  202.600,2,  201.400,2,  125.400,2,   32.230,2,    0.000,2,    2.240,2,    0.005,2,    0.000,2, -999.000,9, -999.000,9, -999.000,9