BOTTLE,20215010JOAExport
EXPOCODE,SECT_ID,STNNBR,CASTNO,SAMPNO,BTLNBR,BTLNBR_FLAG_W,DATE,TIME,LATITUDE,LONGITUDE,DEPTH,CTDPRS,CTDTMP,CTDSAL,CTDSAL_FLAG_W,SALNTY,SALNTY_FLAG_W,CTDOXY,CTDOXY_FLAG_W,OXYGEN,OXYGEN_FLAG_W,SILCAT,SILCAT_FLAG_W,NITRAT,NITRAT_FLAG_W,NITRIT,NITRIT_FLAG_W,PHSPHT,PHSPHT_FLAG_W,CFC-11,CFC-11_FLAG_W,CFC-12,CFC-12_FLAG_W,SF6,SF6_FLAG_W,TCARBN,TCARBN_FLAG_W,ALKALI,ALKALI_FLAG_W
,,,,,,,,,,,,DB,ITS-90,PSS-78,,PSS-78,,UMOL/KG,,UMOL/KG,,UMOL/KG,,UMOL/KG,,UMOL/KG,,UMOL/KG,,PMOL/KG,,PMOL/KG,,PMOL/KG,,UMOL/KG,,UMOL/KG
           NA,    P19C,    243,   1,-999.0,      51,  2,19930225,1727, -53.5917,  -77.8650,  4084,    1.300,    9.806,   33.853,2,   33.851,2,  281.600,2,  282.300,2,    1.500,2,   13.140,2,    0.190,2,    1.050,2,    3.838,2,    1.893,2, -999.000,9, 2056.900,2, -999.000,9
           NA,    P19C,    243,   1,-999.0,      36,  2,19930225,1727, -53.5917,  -77.8650,  4084,    1.400,    9.798,   33.853,2,   33.850,2,  282.000,2,  282.100,2,    1.500,2,   13.150,2,    0.190,2,    1.050,2, -999.000,9, -999.000,9, -999.000,9, -999.000,9, -999.000,9
           NA,    P19C,    243,   1,-999.0,      31,  2,19930225,1727, -53.5917,  -77.8650,  4084,   30.000,    9.204,   33.912,2,   33.908,2,  285.100,2,  284.500,2,    1.500,2,   13.700,2,    0.190,2,    1.080,2, -999.000,9, -999.000,9, -999.000,9, -999.000,9, -999.000,9
           NA,    P19C,    243,   1,-999.0,      32,  2,19930225,1727, -53.5917,  -77.8650,  4084,   55.200,    8.919,   33.980,2,   33.978,2,  282.400,2,  283.900,2,    1.500,2,   14.770,2,    0.200,2,    1.130,2,    3.689,2,    1.808,2, -999.000,9, -999.000,9, -999.000,9
           NA,    P19C,    243,   1,-999.0,      30,  2,19930225,1727, -53.5917,  -77.8650,  4084,   80.300,    7.078,   34.003,2,   34.000,2,  273.300,2,  269.000,2,    4.000,2,   18.800,2,    0.340,2,    1.420,2,    3.985,2,    1.929,2, -999.000,9, -999.000,9, -999.000,9
           NA,    P19C,    243,   1,-999.0,      26,  2,19930225,1727, -53.5917,  -77.8650,  4084,  105.300,    6.281,   34.067,2,   34.066,2,  271.500,2,  263.700,2,    6.000,2,   21.650,2,    0.030,2,    1.580,2,    4.081,2,    1.950,2, -999.000,9, -999.000,9, -999.000,9
           NA,    P19C,    243,   1,-999.0,      74,  2,19930225,1727, -53.5917,  -77.8650,  4084,  130.400,    6.017,   34.103,2,   34.103,2,  262.400,2,  265.200,2,    7.100,2,   22.140,2,    0.010,2,    1.580,2, -999.000,9, -999.000,9, -999.000,9, -999.000,9, -999.000,9
           NA,    P19C,    243,   1,-999.0,      73,  2,19930225,1727, -53.5917,  -77.8650,  4084,  156.000,    5.861,   34.135,2,   34.135,2,  268.500,2,  263.300,2,    7.200,2,   22.660,2,    0.010,2,    1.610,2,    4.072,2,    1.927,2, -999.000,9, -999.000,9, -999.000,9
           NA,    P19C,    243,   1,-999.0,      72,  2,19930225,1727, -53.5917,  -77.8650,  4084,  181.200,    5.742,   34.167,2,   34.166,2,  257.000,2,  258.300,2,    8.100,2,   23.460,2,    0.010,2,    1.650,2, -999.000,9, -999.000,9, -999.000,9, -999.000,9, -999.000,9
           NA,    P19C,    243,   1,-999.0,      71,  2,19930225,1727, -53.5917,  -77.8650,  4084,  205.400,    5.561,   34.183,2,   34.183,2,  258.000,2,  264.800,2,    8.700,2,   23.360,2,    0.010,2,    1.630,2,    3.904,2,    1.835,2, -999.000,9, -999.000,9, -999.000,9
           NA,    P19C,    243,   1,-999.0,      70,  2,19930225,1727, -53.5917,  -77.8650,  4084,  256.100,    5.358,   34.194,2,   34.193,2,  267.500,2,  278.700,2,    8.700,2,   22.510,2,    0.010,2,    1.580,2, -999.000,9, -999.000,9, -999.000,9, -999.000,9, -999.000,9
           NA,    P19C,    243,   1,-999.0,      22,  2,19930225,1727, -53.5917,  -77.8650,  4084,  306.100,    5.263,   34.204,2,   34.204,2,  280.100,2,  279.400,2,    9.200,2,   22.790,2,    0.010,2,    1.590,2,    4.015,2,    1.910,2, -999.000,9, -999.000,9, -999.000,9
           NA,    P19C,    243,   1,-999.0,      28,  2,19930225,1727, -53.5917,  -77.8650,  4084,  355.900,    5.181,   34.214,2,   34.212,2,  263.800,2,  278.500,2,   10.100,2,   23.320,2,    0.000,2,    1.620,2, -999.000,9, -999.000,9, -999.000,9, -999.000,9, -999.000,9
           NA,    P19C,    243,   1,-999.0,      35,  2,19930225,1727, -53.5917,  -77.8650,  4084,  405.700,    5.092,   34.216,2,   34.215,2,  273.500,2,  277.600,2,   10.400,2,   23.600,2,    0.000,2,    1.640,2,    3.805,2,    1.786,2, -999.000,9, -999.000,9, -999.000,9
           NA,    P19C,    243,   1,-999.0,      68,  2,19930225,1727, -53.5917,  -77.8650,  4084,  504.500,    4.920,   34.219,2,   34.219,2,  275.600,2,  273.200,2,   11.900,2,   24.500,2,    0.000,2,    1.690,2,    3.521,2,    1.656,2, -999.000,9, -999.000,9, -999.000,9
           NA,    P19C,    243,   1,-999.0,      18,  2,19930225,1727, -53.5917,  -77.8650,  4084,  603.700,    4.677,   34.220,2,   34.219,2,  262.700,2,  264.900,2,   15.100,2,   25.780,2,    0.000,2,    1.780,2,    3.146,2,    1.474,2, -999.000,9, -999.000,9, -999.000,9
           NA,    P19C,    243,   1,-999.0,      67,  2,19930225,1727, -53.5917,  -77.8650,  4084,  703.900,    4.258,   34.219,2,   34.216,2,  257.900,2,  255.000,2,   19.800,2,   27.440,2,    0.000,2,    1.900,2,    2.688,2,    1.232,2, -999.000,9, -999.000,9, -999.000,9
           NA,    P19C,    243,   1,-999.0,      33,  2,19930225,1727, -53.5917,  -77.8650,  4084,  805.600,    3.922,   34.238,2,   34.237,2,  237.500,2,  238.500,2,   27.000,2,   29.350,2,    0.000,2,    2.030,2,    2.019,2,    0.909,2, -999.000,9, -999.000,9, -999.000,9
           NA,    P19C,    243,   1,-999.0,      15,  2,19930225,1727, -53.5917,  -77.8650,  4084, 1008.300,    3.283,   34.341,2,   34.340,2,  197.100,2,  196.700,2,   46.900,2,   33.380,2,    0.000,2,    2.290,2,    0.660,2,    0.291,2, -999.000,9, -999.000,9, -999.000,9
           NA,    P19C,    243,   1,-999.0,      14,  2,19930225,1727, -53.5917,  -77.8650,  4084, 1204.700,    2.891,   34.449,2,   34.447,2,  169.600,2,  169.100,2,   65.800,2,   35.120,2,    0.000,2,    2.430,2,    0.215,2,    0.093,2, -999.000,9, -999.000,9, -999.000,9
           NA,    P19C,    243,   1,-999.0,      13,  2,19930225,1727, -53.5917,  -77.8650,  4084, 1399.100,    2.690,   34.532,2,   34.530,2,  152.000,2,  149.800,2,   81.600,2,   36.090,2,    0.000,2,    2.510,2,    0.039,2,    0.000,2, -999.000,9, -999.000,9, -999.000,9
           NA,    P19C,    243,   1,-999.0,      12,  2,19930225,1727, -53.5917,  -77.8650,  4084, 1606.100,    2.496,   34.585,2,   34.583,2,  146.700,2,  146.200,2,   92.100,2,   36.040,2,    0.000,2,    2.510,2,    0.010,2,    0.000,2, -999.000,9, -999.000,9, -999.000,9
           NA,    P19C,    243,   1,-999.0,      11,  2,19930225,1727, -53.5917,  -77.8650,  4084, 1818.000,    2.301,   34.621,2,   34.620,2,  145.800,2,  146.000,2,  102.200,2,   35.850,2,    0.000,2,    2.500,2,    0.001,2,    0.000,2, -999.000,9, -999.000,9, -999.000,9
           NA,    P19C,    243,   1,-999.0,      10,  2,19930225,1727, -53.5917,  -77.8650,  4084, 2021.900,    2.145,   34.644,2,   34.644,2,  147.900,2,  148.900,2,  108.200,2,   35.550,2,    0.000,2,    2.480,2, -999.000,9, -999.000,9, -999.000,9, -999.000,9, -999.000,9
           NA,    P19C,    243,   1,-999.0,       9,  2,19930225,1727, -53.5917,  -77.8650,  4084, 2222.300,    2.013,   34.661,2,   34.660,2,  152.700,2,  152.300,2,  113.100,2,   35.310,2,    0.000,2,    2.460,2, -999.000,9, -999.000,9, -999.000,9, -999.000,9, -999.000,9
           NA,    P19C,    243,   1,-999.0,       8,  2,19930225,1727, -53.5917,  -77.8650,  4084, 2478.700,    1.911,   34.674,2,   34.674,2,  154.700,2,  155.400,2,  117.100,2,   35.060,2,    0.000,2,    2.450,2, -999.000,9, -999.000,9, -999.000,9, -999.000,9, -999.000,9
           NA,    P19C,    243,   1,-999.0,       7,  2,19930225,1727, -53.5917,  -77.8650,  4084, 2732.400,    1.845,   34.683,2,   34.683,2,  159.100,2,  159.900,2,  117.700,2,   34.620,2,    0.000,2,    2.420,2, -999.000,9, -999.000,9, -999.000,9, -999.000,9, -999.000,9
           NA,    P19C,    243,   1,-999.0,       6,  2,19930225,1727, -53.5917,  -77.8650,  4084, 2983.800,    1.789,   34.693,2,   34.694,2,  165.600,2,  166.300,2,  116.000,2,   34.090,2,    0.000,2,    2.370,2, -999.000,9, -999.000,9, -999.000,9, -999.000,9, -999.000,9
           NA,    P19C,    243,   1,-999.0,       5,  2,19930225,1727, -53.5917,  -77.8650,  4084, 3239.800,    1.698,   34.709,2,   34.710,2,  177.100,2,  178.800,2,  111.300,2,   33.020,2,    0.000,2,    2.290,2, -999.000,9, -999.000,9, -999.000,9, -999.000,9, -999.000,9
           NA,    P19C,    243,   1,-999.0,       4,  2,19930225,1727, -53.5917,  -77.8650,  4084, 3546.300,    1.448,   34.718,2,   34.718,2,  190.300,2,  190.300,2,  113.200,2,   32.350,2,    0.000,2,    2.240,2,    0.002,2,    0.000,2, -999.000,9, -999.000,9, -999.000,9
           NA,    P19C,    243,   1,-999.0,       3,  2,19930225,1727, -53.5917,  -77.8650,  4084, 3750.300,    1.179,   34.717,2,   34.716,2,  196.600,2,  197.300,2,  119.300,2,   32.340,2,    0.000,2,    2.240,2,   -0.002,2,    0.000,2, -999.000,9, -999.000,9, -999.000,9
           NA,    P19C,    243,   1,-999.0,       2,  2,19930225,1727, -53.5917,  -77.8650,  4084, 3953.800,    1.005,   34.713,2,   34.713,2,  200.700,2,  200.000,2,  125.700,2,   32.580,2,    0.000,2,    2.250,2,   -0.002,2,    0.000,2, -999.000,9, -999.000,9, -999.000,9
           NA,    P19C,    243,   1,-999.0,       1,  2,19930225,1727, -53.5917,  -77.8650,  4084, 4139.400,    0.900,   34.712,2,   34.712,2,  203.000,2,  202.400,2,  129.100,2,   32.580,2,    0.000,2,    2.250,2,    0.002,2,    0.000,2, -999.000,9, -999.000,9, -999.000,9
           NA,    P19C,    242,   1,-999.0,      52,  2,19930225,1203, -53.4540,  -77.1668,  3969,    2.900,    9.922,   33.813,2,   33.811,2,  281.900,2,  281.000,2,    1.200,2,   11.980,2,    0.140,2,    0.990,2, -999.000,9, -999.000,9, -999.000,9, 2049.300,2, -999.000,9
           NA,    P19C,    242,   1,-999.0,      51,  2,19930225,1203, -53.4540,  -77.1668,  3969,   31.900,    9.593,   33.833,2,   33.832,2,  279.900,2,  282.000,2,    1.200,2,   12.070,2,    0.140,2,    1.000,2, -999.000,9, -999.000,9, -999.000,9, -999.000,9, -999.000,9
           NA,    P19C,    242,   1,-999.0,      31,  2,19930225,1203, -53.4540,  -77.1668,  3969,   56.600,    9.522,   33.837,2,   33.836,2,  280.600,2,  280.600,2,    1.200,2,   12.260,2,    0.140,2,    1.020,2, -999.000,9, -999.000,9, -999.000,9, -999.000,9, -999.000,9
           NA,    P19C,    242,   1,-999.0,      32,  2,19930225,1203, -53.4540,  -77.1668,  3969,   81.600,    8.485, -999.000,4,   33.896,2,  283.700,2,  282.200,2,    2.100,2,   14.190,2,    0.410,2,    1.220,2, -999.000,9, -999.000,9, -999.000,9, -999.000,9, -999.000,9
           NA,    P19C,    242,   1,-999.0,      30,  2,19930225,1203, -53.4540,  -77.1668,  3969,  107.000,    6.715,   33.945,2,   33.945,2,  280.900,2,  279.300,2,    3.900,2,   18.260,2,    0.130,2,    1.390,2, -999.000,9, -999.000,9, -999.000,9, -999.000,9, -999.000,9
           NA,    P19C,    242,   1,-999.0,      26,  2,19930225,1203, -53.4540,  -77.1668,  3969,  132.400,    6.518,   33.986,2,   33.988,2,  277.300,2,  274.800,2,    4.800,2,   19.650,2,    0.010,2,    1.480,2, -999.000,9, -999.000,9, -999.000,9, -999.000,9, -999.000,9
           NA,    P19C,    242,   1,-999.0,      74,  2,19930225,1203, -53.4540,  -77.1668,  3969,  157.000,    6.325,   34.058,2,   34.053,2,  262.700,2,  262.600,2,    5.900,2,   21.440,2,    0.010,2,    1.560,2, -999.000,9, -999.000,9, -999.000,9, -999.000,9, -999.000,9
           NA,    P19C,    242,   1,-999.0,      73,  2,19930225,1203, -53.4540,  -77.1668,  3969,  182.800,    6.209,   34.100,2,   34.097,2,  256.300,2,  255.600,2,    6.600,2,   22.470,2,    0.010,2,    1.610,2, -999.000,9, -999.000,9, -999.000,9, -999.000,9, -999.000,9
           NA,    P19C,    242,   1,-999.0,      72,  2,19930225,1203, -53.4540,  -77.1668,  3969,  207.300,    6.097,   34.115,2,   34.115,2,  254.700,2,  256.200,2,    7.200,2,   22.800,2,    0.010,2,    1.620,2, -999.000,9, -999.000,9, -999.000,9, -999.000,9, -999.000,9
           NA,    P19C,    242,   1,-999.0,      71,  2,19930225,1203, -53.4540,  -77.1668,  3969,  257.500,    5.881,   34.171,2,   34.170,2,  241.200,2,  244.800,2,    8.400,2,   24.310,2,    0.010,2,    1.710,2, -999.000,9, -999.000,9, -999.000,9, -999.000,9, -999.000,9
           NA,    P19C,    242,   1,-999.0,      70,  2,19930225,1203, -53.4540,  -77.1668,  3969,  307.500,    5.651,   34.202,2,   34.201,2,  243.800,2,  249.600,2,    9.300,2,   24.600,2,    0.010,2,    1.720,2, -999.000,9, -999.000,9, -999.000,9, -999.000,9, -999.000,9
           NA,    P19C,    242,   1,-999.0,      36,  2,19930225,1203, -53.4540,  -77.1668,  3969,  357.700,    5.531,   34.227,2,   34.227,2,  243.800,2,  246.800,2,   10.600,2,   25.170,2,    0.000,2,    1.750,2, -999.000,9, -999.000,9, -999.000,9, -999.000,9, -999.000,9
           NA,    P19C,    242,   1,-999.0,      28,  2,19930225,1203, -53.4540,  -77.1668,  3969,  408.000,    5.324,   34.231,2,   34.230,2,  252.700,2,  253.800,2,   11.100,2,   25.130,2,    0.000,2,    1.740,2, -999.000,9, -999.000,9, -999.000,9, -999.000,9, -999.000,9
           NA,    P19C,    242,   1,-999.0,      35,  2,19930225,1203, -53.4540,  -77.1668,  3969,  508.500,    4.762,   34.229,2,   34.230,2,  252.600,2,  254.300,2,   15.200,2,   26.270,2,    0.000,2,    1.830,2, -999.000,9, -999.000,9, -999.000,9, -999.000,9, -999.000,9
           NA,    P19C,    242,   1,-999.0,      68,  2,19930225,1203, -53.4540,  -77.1668,  3969,  609.200,    4.184,   34.243,2,   34.242,2,  237.800,2,  237.300,2,   23.700,2,   28.690,2,    0.000,2,    2.010,2, -999.000,9, -999.000,9, -999.000,9, -999.000,9, -999.000,9
           NA,    P19C,    242,   1,-999.0,      34,  2,19930225,1203, -53.4540,  -77.1668,  3969,  709.900,    3.769,   34.276,2,   34.274,2,  217.300,2,  218.600,2,   32.900,2,   30.840,2,    0.000,2,    2.150,2, -999.000,9, -999.000,9, -999.000,9, -999.000,9, -999.000,9
           NA,    P19C,    242,   1,-999.0,      67,  2,19930225,1203, -53.4540,  -77.1668,  3969,  810.900,    3.468,   34.316,2,   34.314,2,  204.200,2,  203.100,2,   41.700,2,   32.330,2,    0.000,2,    2.250,2, -999.000,9, -999.000,9, -999.000,9, -999.000,9, -999.000,9
           NA,    P19C,    242,   1,-999.0,      33,  2,19930225,1203, -53.4540,  -77.1668,  3969,  911.600,    3.193,   34.366,2,   34.365,2,  188.800,2,  188.000,2,   51.600,2,   33.730,2,    0.000,2,    2.350,2, -999.000,9, -999.000,9, -999.000,9, -999.000,9, -999.000,9
           NA,    P19C,    242,   1,-999.0,      15,  2,19930225,1203, -53.4540,  -77.1668,  3969, 1012.600,    3.010,   34.412,2,   34.411,2,  176.200,2,  176.300,2,   59.700,2,   34.460,2,    0.000,2,    2.410,2, -999.000,9, -999.000,9, -999.000,9, -999.000,9, -999.000,9
           NA,    P19C,    242,   1,-999.0,      14,  2,19930225,1203, -53.4540,  -77.1668,  3969, 1214.400,    2.781,   34.495,2,   34.492,2,  158.200,2,  157.300,2,   74.100,2,   35.620,2,    0.000,2,    2.500,2, -999.000,9, -999.000,9, -999.000,9, -999.000,9, -999.000,9
           NA,    P19C,    242,   1,-999.0,      13,  2,19930225,1203, -53.4540,  -77.1668,  3969, 1416.800,    2.604,   34.558,2,   34.555,2,  144.200,2,  144.900,2,   87.700,2,   36.160,2,    0.000,2,    2.540,2, -999.000,9, -999.000,9, -999.000,9, -999.000,9, -999.000,9
           NA,    P19C,    242,   1,-999.0,      12,  2,19930225,1203, -53.4540,  -77.1668,  3969, 1618.800,    2.415,   34.599,2,   34.598,2,  144.200,2,  144.600,2,   96.600,2,   36.010,2,    0.000,2,    2.530,2, -999.000,9, -999.000,9, -999.000,9, -999.000,9, -999.000,9
           NA,    P19C,    242,   1,-999.0,      11,  2,19930225,1203, -53.4540,  -77.1668,  3969, 1820.000,    2.251,   34.626,2,   34.625,2,  143.700,2,  143.600,2,  105.400,2,   35.820,2,    0.000,2,    2.530,2, -999.000,9, -999.000,9, -999.000,9, -999.000,9, -999.000,9
           NA,    P19C,    242,   1,-999.0,      10,  2,19930225,1203, -53.4540,  -77.1668,  3969, 2025.200,    2.105,   34.647,2,   34.645,2,  149.100,2,  147.900,2,  110.500,2,   35.530,2,    0.000,2,    2.500,2, -999.000,9, -999.000,9, -999.000,9, -999.000,9, -999.000,9
           NA,    P19C,    242,   1,-999.0,       9,  2,19930225,1203, -53.4540,  -77.1668,  3969, 2228.500,    1.993,   34.664,2,   34.662,2,  152.300,2,  153.000,2,  113.300,2,   35.040,2,    0.000,2,    2.460,2, -999.000,9, -999.000,9, -999.000,9, -999.000,9, -999.000,9
           NA,    P19C,    242,   1,-999.0,       8,  2,19930225,1203, -53.4540,  -77.1668,  3969, 2432.100,    1.907,   34.673,2,   34.672,2,  154.800,2,  155.100,2,  116.400,2,   34.850,2,    0.000,2,    2.460,2, -999.000,9, -999.000,9, -999.000,9, -999.000,9, -999.000,9
           NA,    P19C,    242,   1,-999.0,       7,  2,19930225,1203, -53.4540,  -77.1668,  3969, 2635.800,    1.852,   34.681,2,   34.679,2,  157.700,2,  158.200,2,  117.500,2,   34.660,2,    0.000,2,    2.430,2, -999.000,9, -999.000,9, -999.000,9, -999.000,9, -999.000,9
           NA,    P19C,    242,   1,-999.0,       6,  2,19930225,1203, -53.4540,  -77.1668,  3969, 2839.500,    1.799,   34.689,2,   34.687,2,  163.100,2,  163.200,2,  116.300,2,   34.180,2,    0.000,2,    2.400,2, -999.000,9, -999.000,9, -999.000,9, -999.000,9, -999.000,9
           NA,    P19C,    242,   1,-999.0,       5,  2,19930225,1203, -53.4540,  -77.1668,  3969, 3042.200,    1.745,   34.700,2,   34.699,2,  170.700,2,  171.600,2,  113.700,2,   33.500,2,    0.000,2,    2.350,2, -999.000,9, -999.000,9, -999.000,9, -999.000,9, -999.000,9
           NA,    P19C,    242,   1,-999.0,       4,  2,19930225,1203, -53.4540,  -77.1668,  3969, 3297.400,    1.594,   34.709,2,   34.710,2,  181.100,2,  181.100,2,  112.300,2,   32.830,2,    0.000,2,    2.280,2, -999.000,9, -999.000,9, -999.000,9, -999.000,9, -999.000,9
           NA,    P19C,    242,   1,-999.0,       3,  3,19930225,1203, -53.4540,  -77.1668,  3969, 3551.900,    1.296,   34.715,2, -999.000,4,  191.400,2, -999.000,4, -999.000,4, -999.000,4, -999.000,4, -999.000,4, -999.000,9, -999.000,9, -999.000,9, -999.000,9, -999.000,9
           NA,    P19C,    242,   1,-999.0,       2,  2,19930225,1203, -53.4540,  -77.1668,  3969, 3807.000,    1.014,   34.714,2,   34.711,2,  199.500,2,  199.300,2,  124.600,2,   32.300,2,    0.000,2,    2.260,2, -999.000,9, -999.000,9, -999.000,9, -999.000,9, -999.000,9
           NA,    P19C,    242,   1,-999.0,      76,  2,19930225,1203, -53.4540,  -77.1668,  3969, 4015.400,    0.879,   34.711,2,   34.710,2,  202.700,2,  202.500,2,  128.700,2,   32.590,2,    0.000,2,    2.260,2, -999.000,9, -999.000,9, -999.000,9, -999.000,9, -999.000,9