BOTTLE,20215010JOAExport
EXPOCODE,SECT_ID,STNNBR,CASTNO,SAMPNO,BTLNBR,BTLNBR_FLAG_W,DATE,TIME,LATITUDE,LONGITUDE,DEPTH,CTDPRS,CTDTMP,CTDSAL,CTDSAL_FLAG_W,SALNTY,SALNTY_FLAG_W,CTDOXY,CTDOXY_FLAG_W,OXYGEN,OXYGEN_FLAG_W,SILCAT,SILCAT_FLAG_W,NITRAT,NITRAT_FLAG_W,NITRIT,NITRIT_FLAG_W,PHSPHT,PHSPHT_FLAG_W,CFC-11,CFC-11_FLAG_W,CFC-12,CFC-12_FLAG_W,SF6,SF6_FLAG_W,TCARBN,TCARBN_FLAG_W,ALKALI,ALKALI_FLAG_W
,,,,,,,,,,,,DB,ITS-90,PSS-78,,PSS-78,,UMOL/KG,,UMOL/KG,,UMOL/KG,,UMOL/KG,,UMOL/KG,,UMOL/KG,,PMOL/KG,,PMOL/KG,,PMOL/KG,,UMOL/KG,,UMOL/KG
           NA,    P17E,    197,   1,-999.0,       1,  2,19930107,0032, -53.2448,  -97.8792,  4632,    3.200,    7.843,   34.230,2,   34.229,2, -999.000,3,  288.900,2,    2.720,2, -999.000,4,    0.200,2,    1.150,2,    4.306,2,    2.088,2, -999.000,9, 2087.300,2, -999.000,9
           NA,    P17E,    197,   1,-999.0,       2,  2,19930107,0032, -53.2448,  -97.8792,  4632,   27.700,    7.808,   34.234,2,   34.231,2, -999.000,3,  290.400,2,    2.310,2, -999.000,4,    0.200,2,    1.150,2, -999.000,9, -999.000,9, -999.000,9, -999.000,9, -999.000,9
           NA,    P17E,    197,   1,-999.0,       3,  2,19930107,0032, -53.2448,  -97.8792,  4632,   68.000,    7.706,   34.237,2,   34.235,2, -999.000,3,  290.100,2,    2.310,2, -999.000,4,    0.190,2,    1.170,2,    4.319,2,    2.092,2, -999.000,9, -999.000,9, -999.000,9
           NA,    P17E,    197,   1,-999.0,       4,  2,19930107,0032, -53.2448,  -97.8792,  4632,   88.300,    6.692,   34.253,2,   34.251,2, -999.000,3,  291.900,2,    4.610,2, -999.000,4,    0.270,2,    1.320,2, -999.000,9, -999.000,9, -999.000,9, -999.000,9, -999.000,9
           NA,    P17E,    197,   1,-999.0,       5,  2,19930107,0032, -53.2448,  -97.8792,  4632,  118.200,    6.366,   34.268,2,   34.268,2,  298.800,2,  287.900,2,    5.660,2, -999.000,4,    0.380,2,    1.360,2,    4.409,2,    2.114,2, -999.000,9, -999.000,9, -999.000,9
           NA,    P17E,    197,   1,-999.0,       6,  2,19930107,0032, -53.2448,  -97.8792,  4632,  158.500,    6.298,   34.271,2,   34.271,2,  293.600,2,  287.900,2,    6.080,2, -999.000,4,    0.080,2,    1.380,2, -999.000,9, -999.000,9, -999.000,9, -999.000,9, -999.000,9
           NA,    P17E,    197,   1,-999.0,       7,  2,19930107,0032, -53.2448,  -97.8792,  4632,  208.500,    6.280,   34.280,2,   34.278,2,  290.900,2,  286.400,2,    6.080,2, -999.000,4,    0.030,2,    1.390,2,    4.331,2,    2.103,2, -999.000,9, -999.000,9, -999.000,9
           NA,    P17E,    197,   1,-999.0,       8,  2,19930107,0032, -53.2448,  -97.8792,  4632,  259.100,    6.213,   34.279,2,   34.280,2,  285.400,2,  285.600,2,    6.290,2, -999.000,4,    0.020,2,    1.410,2, -999.000,9, -999.000,9, -999.000,9, -999.000,9, -999.000,9
           NA,    P17E,    197,   1,-999.0,       9,  2,19930107,0032, -53.2448,  -97.8792,  4632,  308.600,    6.167,   34.281,2,   34.280,2,  280.300,2,  281.400,2,    6.920,2, -999.000,4,    0.020,2,    1.460,2,    4.100,2,    1.993,2, -999.000,9, -999.000,9, -999.000,9
           NA,    P17E,    197,   1,-999.0,      10,  2,19930107,0032, -53.2448,  -97.8792,  4632,  369.100,    6.008,   34.269,2,   34.269,2,  277.700,2,  283.300,2,    7.340,2, -999.000,4,    0.020,2,    1.470,2,    4.134,2,    2.005,2, -999.000,9, -999.000,9, -999.000,9
           NA,    P17E,    197,   1,-999.0,      11,  2,19930107,0032, -53.2448,  -97.8792,  4632,  439.100,    5.869,   34.261,2,   34.261,2,  272.300,2,  275.900,2,    8.390,2, -999.000,4,    0.010,2,    1.540,2,    3.863,2,    1.850,2, -999.000,9, -999.000,9, -999.000,9
           NA,    P17E,    197,   1,-999.0,      12,  2,19930107,0032, -53.2448,  -97.8792,  4632,  507.100,    5.672,   34.254,2,   34.254,2,  263.600,2,  268.400,2,   10.280,2, -999.000,4,    0.010,2,    1.630,2,    3.544,2,    1.683,2, -999.000,9, -999.000,9, -999.000,9
           NA,    P17E,    197,   1,-999.0,      13,  2,19930107,0032, -53.2448,  -97.8792,  4632,  584.600,    5.362,   34.243,2,   34.245,2,  257.800,2,  261.900,2,   12.370,2, -999.000,4,    0.010,2,    1.720,2,    3.173,2,    1.490,2, -999.000,9, -999.000,9, -999.000,9
           NA,    P17E,    197,   1,-999.0,      14,  2,19930107,0032, -53.2448,  -97.8792,  4632,  653.600,    5.167,   34.254,2,   34.253,2,  252.000,2,  251.100,2,   15.730,2, -999.000,4,    0.010,2,    1.810,2,    2.697,2,    1.278,2, -999.000,9, -999.000,9, -999.000,9
           NA,    P17E,    197,   1,-999.0,      15,  2,19930107,0032, -53.2448,  -97.8792,  4632,  722.300,    4.854,   34.246,2,   34.248,2,  242.900,2,  247.900,2,   18.040,2, -999.000,4,    0.010,2,    1.880,2,    2.547,2,    1.194,2, -999.000,9, -999.000,9, -999.000,9
           NA,    P17E,    197,   1,-999.0,      16,  2,19930107,0032, -53.2448,  -97.8792,  4632,  829.800,    4.432,   34.269,2,   34.270,2,  223.800,2,  228.400,2,   25.380,2, -999.000,4,    0.010,2,    2.030,2,    1.839,2,    0.862,2, -999.000,9, -999.000,9, -999.000,9
           NA,    P17E,    197,   1,-999.0,      17,  2,19930107,0032, -53.2448,  -97.8792,  4632,  948.500,    3.876,   34.291,2,   34.290,2,  217.800,2,  216.500,2,   33.770,2, -999.000,4,    0.010,2,    2.150,2,    1.369,2,    0.632,2, -999.000,9, -999.000,9, -999.000,9
           NA,    P17E,    197,   1,-999.0,      18,  2,19930107,0032, -53.2448,  -97.8792,  4632, 1096.000,    3.328,   34.332,2,   34.332,2,  206.100,2,  204.100,2,   45.100,2, -999.000,4,    0.010,2,    2.280,2,    0.904,2,    0.419,2, -999.000,9, -999.000,9, -999.000,9
           NA,    P17E,    197,   1,-999.0,      19,  2,19930107,0032, -53.2448,  -97.8792,  4632, 1293.100,    2.868,   34.415,2,   34.414,2,  186.000,2,  187.700,2,   58.540,2, -999.000,4,    0.010,2,    2.350,2,    0.546,2,    0.253,2, -999.000,9, -999.000,9, -999.000,9
           NA,    P17E,    197,   1,-999.0,      20,  2,19930107,0032, -53.2448,  -97.8792,  4632, 1493.100,    2.595,   34.501,2,   34.500,2,  177.100,2,  178.700,2,   70.100,2, -999.000,4,    0.010,2,    2.390,2,    0.330,2,    0.155,2, -999.000,9, -999.000,9, -999.000,9
           NA,    P17E,    197,   1,-999.0,      21,  2,19930107,0032, -53.2448,  -97.8792,  4632, 1691.200,    2.488,   34.578,2,   34.577,2,  166.000,2,  165.500,2,   81.480,2, -999.000,4,    0.000,2,    2.400,2, -999.000,3, -999.000,3, -999.000,9, -999.000,9, -999.000,9
           NA,    P17E,    197,   1,-999.0,      22,  2,19930107,0032, -53.2448,  -97.8792,  4632, 1888.500,    2.344,   34.629,2,   34.627,2,  170.000,2,  168.300,2,   85.710,2, -999.000,4,    0.000,2,    2.360,2, -999.000,3, -999.000,3, -999.000,9, -999.000,9, -999.000,9
           NA,    P17E,    197,   1,-999.0,      23,  2,19930107,0032, -53.2448,  -97.8792,  4632, 2088.000,    2.220,   34.670,2,   34.671,2,  171.200,2,  171.800,2,   89.730,2, -999.000,4,    0.000,2,    2.310,2,    0.043,2,    0.017,2, -999.000,9, -999.000,9, -999.000,9
           NA,    P17E,    197,   1,-999.0,      24,  2,19930107,0032, -53.2448,  -97.8792,  4632, 2287.300,    2.095,   34.695,2,   34.695,2,  174.500,2,  174.400,2,   94.390,2, -999.000,4,    0.000,2,    2.300,2,    0.025,2,    0.011,2, -999.000,9, -999.000,9, -999.000,9
           NA,    P17E,    197,   1,-999.0,      25,  2,19930107,0032, -53.2448,  -97.8792,  4632, 2488.000,    1.932,   34.704,2,   34.704,2,  176.800,2,  175.100,2,  102.050,2, -999.000,4,    0.000,2,    2.310,2,    0.012,2,    0.005,2, -999.000,9, -999.000,9, -999.000,9
           NA,    P17E,    197,   1,-999.0,      26,  2,19930107,0032, -53.2448,  -97.8792,  4632, 2687.500,    1.798,   34.712,2,   34.712,2,  178.100,2,  179.100,2,  105.040,2, -999.000,4,    0.000,2,    2.300,2,    0.015,2,    0.007,2, -999.000,9, -999.000,9, -999.000,9
           NA,    P17E,    197,   1,-999.0,      27,  2,19930107,0032, -53.2448,  -97.8792,  4632, 2889.900,    1.688,   34.715,2,   34.715,2,  182.100,2,  182.200,2,  108.030,2, -999.000,4,    0.000,2,    2.290,2,    0.013,2,    0.005,2, -999.000,9, -999.000,9, -999.000,9
           NA,    P17E,    197,   1,-999.0,      28,  2,19930107,0032, -53.2448,  -97.8792,  4632, 3096.100,    1.595,   34.719,2,   34.719,2,  185.900,2,  186.200,2,  109.320,2, -999.000,4,    0.000,2,    2.270,2, -999.000,9, -999.000,9, -999.000,9, -999.000,9, -999.000,9
           NA,    P17E,    197,   1,-999.0,      29,  2,19930107,0032, -53.2448,  -97.8792,  4632, 3302.800,    1.469,   34.719,2,   34.719,2,  190.000,2,  189.900,2,  112.110,2, -999.000,4,    0.000,2,    2.270,2,    0.004,2,    0.002,2, -999.000,9, -999.000,9, -999.000,9
           NA,    P17E,    197,   1,-999.0,      30,  2,19930107,0032, -53.2448,  -97.8792,  4632, 3508.800,    1.301,   34.718,2,   34.718,2,  194.900,2,  194.900,2,  116.200,2, -999.000,4,    0.000,2,    2.260,2,    0.009,2,    0.005,2, -999.000,9, -999.000,9, -999.000,9
           NA,    P17E,    197,   1,-999.0,      31,  2,19930107,0032, -53.2448,  -97.8792,  4632, 3714.400,    1.116,   34.715,2,   34.715,2,  198.800,2,  198.200,2,  122.250,2, -999.000,4,    0.000,2,    2.260,2, -999.000,9, -999.000,9, -999.000,9, -999.000,9, -999.000,9
           NA,    P17E,    197,   1,-999.0,      32,  2,19930107,0032, -53.2448,  -97.8792,  4632, 3918.900,    0.925,   34.711,2,   34.712,2,  203.700,2,  203.000,2,  127.240,2, -999.000,4,    0.000,2,    2.280,2,    0.003,2,    0.000,2, -999.000,9, -999.000,9, -999.000,9
           NA,    P17E,    197,   1,-999.0,      33,  2,19930107,0032, -53.2448,  -97.8792,  4632, 4124.600,    0.786,   34.709,2,   34.709,2,  206.200,2,  204.900,2,  131.820,2, -999.000,4,    0.000,2,    2.290,2,    0.005,6,    0.004,6, -999.000,9, -999.000,9, -999.000,9
           NA,    P17E,    197,   1,-999.0,      34,  2,19930107,0032, -53.2448,  -97.8792,  4632, 4331.700,    0.714,   34.708,2,   34.708,2,  207.400,2,  206.900,2,  134.680,2, -999.000,4,    0.000,2,    2.290,2, -999.000,9, -999.000,9, -999.000,9, -999.000,9, -999.000,9
           NA,    P17E,    197,   1,-999.0,      35,  2,19930107,0032, -53.2448,  -97.8792,  4632, 4539.000,    0.703,   34.707,2,   34.708,2,  207.500,2,  207.500,2,  135.340,2, -999.000,4,    0.000,2,    2.280,2,    0.005,2,    0.005,2, -999.000,9, -999.000,9, -999.000,9
           NA,    P17E,    197,   1,-999.0,      36,  2,19930107,0032, -53.2448,  -97.8792,  4632, 4728.100,    0.713,   34.708,2,   34.707,2,  205.700,2,  207.800,2,  135.790,2, -999.000,4,    0.000,2,    2.280,2,    0.008,2,    0.004,2, -999.000,9, -999.000,9, -999.000,9
           NA,    P17E,    198,   1,-999.0,       1,  2,19930107,0734, -53.3187,  -96.7687,  4437,    6.400,    7.790,   34.238,2, -999.000,4, -999.000,3,  290.700,2,    2.720,2,   14.110,2,    0.180,2,    1.140,2, -999.000,9, -999.000,9, -999.000,9, 2087.500,2, -999.000,9
           NA,    P17E,    198,   1,-999.0,       2,  2,19930107,0734, -53.3187,  -96.7687,  4437,   25.700,    7.756,   34.238,2, -999.000,4, -999.000,3,  290.600,2,    2.520,2,   14.150,2,    0.180,2,    1.130,2, -999.000,9, -999.000,9, -999.000,9, 2086.400,2, -999.000,9
           NA,    P17E,    198,   1,-999.0,       3,  2,19930107,0734, -53.3187,  -96.7687,  4437,   55.900,    7.712,   34.238,2,   34.237,2, -999.000,3,  290.600,2,    2.320,2,   14.200,2,    0.180,2,    1.150,2, -999.000,9, -999.000,9, -999.000,9, 2086.400,2, -999.000,9
           NA,    P17E,    198,   1,-999.0,       4,  2,19930107,0734, -53.3187,  -96.7687,  4437,   81.300,    7.613,   34.239,2,   34.239,2, -999.000,3,  290.200,2,    2.110,2,   14.350,2,    0.180,2,    1.160,2, -999.000,9, -999.000,9, -999.000,9, 2088.700,2, -999.000,9
           NA,    P17E,    198,   1,-999.0,       5,  2,19930107,0734, -53.3187,  -96.7687,  4437,  100.700,    6.297,   34.254,2,   34.256,2,  293.600,2,  290.900,2,    5.840,2,   17.620,2,    0.320,2,    1.380,2, -999.000,9, -999.000,9, -999.000,9, 2110.100,2, -999.000,9
           NA,    P17E,    198,   1,-999.0,       6,  2,19930107,0734, -53.3187,  -96.7687,  4437,  120.700,    6.255,   34.269,2,   34.271,2,  284.900,2,  286.900,2,    6.270,2,   18.160,2,    0.570,2,    1.410,2, -999.000,9, -999.000,9, -999.000,9, 2111.400,2, -999.000,9
           NA,    P17E,    198,   1,-999.0,       7,  2,19930107,0734, -53.3187,  -96.7687,  4437,  146.000,    6.218,   34.273,2,   34.273,2,  288.200,2,  287.400,2,    6.900,2,   18.630,2,    0.070,2,    1.400,2, -999.000,9, -999.000,9, -999.000,9, 2111.600,2, -999.000,9
           NA,    P17E,    198,   1,-999.0,       8,  2,19930107,0734, -53.3187,  -96.7687,  4437,  176.200,    6.172,   34.270,2,   34.270,2,  287.700,2,  289.200,2,    6.490,2,   18.660,2,    0.030,2,    1.390,2, -999.000,9, -999.000,9, -999.000,9, 2110.300,2, -999.000,9
           NA,    P17E,    198,   1,-999.0,       9,  2,19930107,0734, -53.3187,  -96.7687,  4437,  205.200,    6.146,   34.270,2,   34.270,2,  290.600,2,  290.200,2,    6.290,2,   18.660,2,    0.010,2,    1.390,2, -999.000,9, -999.000,9, -999.000,9, 2110.100,2, -999.000,9
           NA,    P17E,    198,   1,-999.0,      10,  2,19930107,0734, -53.3187,  -96.7687,  4437,  254.800,    6.101,   34.268,2,   34.268,2,  285.200,2,  290.300,2,    6.510,2,   18.760,2,    0.010,2,    1.400,2, -999.000,9, -999.000,9, -999.000,9, 2110.400,2, -999.000,9
           NA,    P17E,    198,   1,-999.0,      11,  2,19930107,0734, -53.3187,  -96.7687,  4437,  303.400,    6.034,   34.267,2,   34.267,2,  283.100,2,  283.500,2,    6.930,2,   19.650,2,    0.010,2,    1.450,2, -999.000,9, -999.000,9, -999.000,9, 2113.100,2, -999.000,9
           NA,    P17E,    198,   1,-999.0,      12,  2,19930107,0734, -53.3187,  -96.7687,  4437,  375.700,    5.878,   34.257,2,   34.257,2,  272.700,2,  276.700,2,    8.390,2,   21.130,2,    0.000,2,    1.540,2, -999.000,9, -999.000,9, -999.000,9, 2122.100,2, -999.000,9
           NA,    P17E,    198,   1,-999.0,      13,  2,19930107,0734, -53.3187,  -96.7687,  4437,  448.900,    5.722,   34.251,2,   34.251,2,  268.700,2,  268.800,2,   10.060,2,   22.540,2,    0.000,2,    1.620,2, -999.000,9, -999.000,9, -999.000,9, 2129.700,2, -999.000,9
           NA,    P17E,    198,   1,-999.0,      14,  2,19930107,0734, -53.3187,  -96.7687,  4437,  523.900,    5.471,   34.243,2,   34.244,2,  259.300,2,  260.800,2,   12.150,2,   24.070,2,    0.000,2,    1.710,2, -999.000,9, -999.000,9, -999.000,9, 2134.200,2, -999.000,9
           NA,    P17E,    198,   1,-999.0,      15,  2,19930107,0734, -53.3187,  -96.7687,  4437,  599.400,    5.214,   34.244,2,   34.243,2,  249.500,2,  251.800,2,   15.080,2,   25.550,2,    0.000,2,    1.810,2, -999.000,9, -999.000,9, -999.000,9, 2144.800,2, -999.000,9
           NA,    P17E,    198,   1,-999.0,      16,  2,19930107,0734, -53.3187,  -96.7687,  4437,  674.700,    4.988,   34.251,2,   34.250,2,  242.800,2,  243.000,2,   18.010,2,   26.980,2,    0.000,2,    1.880,2, -999.000,9, -999.000,9, -999.000,9, 2155.200,2, -999.000,9
           NA,    P17E,    198,   1,-999.0,      17,  2,19930107,0734, -53.3187,  -96.7687,  4437,  750.000,    4.715,   34.261,2,   34.262,2,  235.600,2,  233.100,2,   21.980,2,   28.290,2,    0.000,2,    1.970,2, -999.000,9, -999.000,9, -999.000,9, 2162.300,2, -999.000,9
           NA,    P17E,    198,   1,-999.0,      18,  2,19930107,0734, -53.3187,  -96.7687,  4437,  826.000,    4.381,   34.275,2,   34.273,2,  229.400,2,  224.800,2,   27.000,2,   29.900,2,    0.000,2,    2.060,2, -999.000,9, -999.000,9, -999.000,9, 2173.700,2, -999.000,9
           NA,    P17E,    198,   1,-999.0,      19,  2,19930107,0734, -53.3187,  -96.7687,  4437,  900.100,    4.017,   34.282,2,   34.280,2,  221.800,2,  220.500,2,   31.400,2,   31.100,2,    0.000,2,    2.130,2, -999.000,9, -999.000,9, -999.000,9, 2181.000,2, -999.000,9
           NA,    P17E,    198,   1,-999.0,      20,  2,19930107,0734, -53.3187,  -96.7687,  4437,  999.900,    3.639,   34.307,2,   34.305,2,  212.400,2,  211.700,2,   38.520,2,   32.310,2,    0.000,2,    2.220,2, -999.000,9, -999.000,9, -999.000,9, 2194.700,2, -999.000,9
           NA,    P17E,    198,   1,-999.0,      21,  2,19930107,0734, -53.3187,  -96.7687,  4437, 1198.200,    3.057,   34.369,2,   34.369,2,  200.100,2,  198.900,2,   51.710,2,   34.300,2,    0.000,2,    2.340,2, -999.000,9, -999.000,9, -999.000,9, 2217.200,2, -999.000,9
           NA,    P17E,    198,   1,-999.0,      22,  2,19930107,0734, -53.3187,  -96.7687,  4437, 1424.400,    2.678,   34.462,2,   34.460,2,  183.500,2,  181.500,2,   65.970,2,   35.280,2,    0.000,2,    2.410,2, -999.000,9, -999.000,9, -999.000,9, 2238.200,2, -999.000,9
           NA,    P17E,    198,   1,-999.0,      24,  2,19930107,0734, -53.3187,  -96.7687,  4437, 1879.500,    2.335,   34.632,2,   34.631,2,  170.800,2, -999.000,3,   84.700,2,   34.600,2,    0.000,2,    2.370,2, -999.000,9, -999.000,9, -999.000,9, 2256.100,2, -999.000,9
           NA,    P17E,    198,   1,-999.0,      25,  2,19930107,0734, -53.3187,  -96.7687,  4437, 2109.800,    2.207,   34.674,2,   34.673,2,  174.500,2,  173.100,2,   89.390,2,   33.910,2,    0.000,2,    2.330,2, -999.000,9, -999.000,9, -999.000,9, 2258.700,2, -999.000,9
           NA,    P17E,    198,   1,-999.0,      26,  2,19930107,0734, -53.3187,  -96.7687,  4437, 2333.800,    2.077,   34.700,2,   34.699,2,  177.700,2,  176.100,2,   94.090,2,   33.350,2,    0.000,2,    2.300,2, -999.000,9, -999.000,9, -999.000,9, 2258.700,2, -999.000,9
           NA,    P17E,    198,   1,-999.0,      27,  2,19930107,0734, -53.3187,  -96.7687,  4437, 2560.000,    1.909,   34.713,2,   34.711,2,  180.700,2,  179.300,2,  100.080,2,   33.210,2,    0.000,2,    2.290,2, -999.000,9, -999.000,9, -999.000,9, 2263.200,2, -999.000,9
           NA,    P17E,    198,   1,-999.0,      28,  2,19930107,0734, -53.3187,  -96.7687,  4437, 2786.300,    1.716,   34.714,2,   34.714,2,  183.100,2,  182.000,2,  107.810,2,   33.360,2,    0.000,2,    2.300,2, -999.000,9, -999.000,9, -999.000,9, 2269.100,2, -999.000,9
           NA,    P17E,    198,   1,-999.0,      29,  2,19930107,0734, -53.3187,  -96.7687,  4437, 3007.600,    1.611,   34.717,2,   34.716,2,  186.300,2,  184.600,2,  109.800,2,   33.210,2,    0.000,2,    2.290,2, -999.000,9, -999.000,9, -999.000,9, 2266.000,2, -999.000,9
           NA,    P17E,    198,   1,-999.0,      30,  2,19930107,0734, -53.3187,  -96.7687,  4437, 3233.900,    1.487,   34.719,2,   34.719,2,  190.200,2,  188.800,2,  112.010,2,   33.130,2,    0.000,2,    2.280,2, -999.000,9, -999.000,9, -999.000,9, 2265.600,2, -999.000,9
           NA,    P17E,    198,   1,-999.0,      31,  2,19930107,0734, -53.3187,  -96.7687,  4437, 3467.700,    1.319,   34.719,2,   34.719,2,  194.500,2,  194.300,2,  115.720,2,   33.040,2,    0.000,2,    2.280,2, -999.000,9, -999.000,9, -999.000,9, 2262.100,2, -999.000,9
           NA,    P17E,    198,   1,-999.0,      32,  2,19930107,0734, -53.3187,  -96.7687,  4437, 3700.500,    1.102,   34.714,2,   34.714,2,  198.500,2,  198.300,2,  122.050,2,   33.130,2,    0.000,2,    2.280,2, -999.000,9, -999.000,9, -999.000,9, 2264.000,2, -999.000,9
           NA,    P17E,    198,   1,-999.0,      33,  2,19930107,0734, -53.3187,  -96.7687,  4437, 3937.000,    0.893,   34.711,2,   34.711,2,  202.800,2,  202.700,2,  127.770,2,   33.160,2,    0.000,2,    2.290,2, -999.000,9, -999.000,9, -999.000,9, 2262.800,2, -999.000,9
           NA,    P17E,    198,   1,-999.0,      34,  2,19930107,0734, -53.3187,  -96.7687,  4437, 4177.000,    0.735,   34.709,2,   34.708,2,  206.300,2,  206.200,2,  132.650,2,   33.250,2,    0.000,2,    2.300,2, -999.000,9, -999.000,9, -999.000,9, 2263.100,2, -999.000,9
           NA,    P17E,    198,   1,-999.0,      35,  2,19930107,0734, -53.3187,  -96.7687,  4437, 4411.900,    0.681,   34.708,2,   34.708,2,  206.800,2,  207.600,2,  134.700,2,   33.290,2,    0.000,2,    2.290,2, -999.000,9, -999.000,9, -999.000,9, 2264.200,2, -999.000,9
           NA,    P17E,    198,   1,-999.0,      36,  2,19930107,0734, -53.3187,  -96.7687,  4437, 4533.100,    0.681,   34.707,2,   34.708,2,  206.800,2, -999.000,5,  135.220,2,   33.320,2,    0.000,2,    2.290,2, -999.000,9, -999.000,9, -999.000,9, 2265.700,2, -999.000,9