BOTTLE,20215010JOAExport
EXPOCODE,SECT_ID,STNNBR,CASTNO,SAMPNO,BTLNBR,BTLNBR_FLAG_W,DATE,TIME,LATITUDE,LONGITUDE,DEPTH,CTDPRS,CTDTMP,CTDSAL,CTDSAL_FLAG_W,SALNTY,SALNTY_FLAG_W,CTDOXY,CTDOXY_FLAG_W,OXYGEN,OXYGEN_FLAG_W,SILCAT,SILCAT_FLAG_W,NITRAT,NITRAT_FLAG_W,NITRIT,NITRIT_FLAG_W,PHSPHT,PHSPHT_FLAG_W,CFC-11,CFC-11_FLAG_W,CFC-12,CFC-12_FLAG_W,SF6,SF6_FLAG_W,TCARBN,TCARBN_FLAG_W,ALKALI,ALKALI_FLAG_W
,,,,,,,,,,,,DB,ITS-90,PSS-78,,PSS-78,,UMOL/KG,,UMOL/KG,,UMOL/KG,,UMOL/KG,,UMOL/KG,,UMOL/KG,,PMOL/KG,,PMOL/KG,,PMOL/KG,,UMOL/KG,,UMOL/KG
           NA,    P19C,    248,   1,-999.0,      36,  2,19930226,2153, -53.9973,  -81.5797,  4654,    2.400,    9.166,   34.050,2,   34.049,2,  288.000,2,  284.500,2,    2.000,2,   15.680,2,    0.260,2,    1.180,2, -999.000,9, -999.000,9, -999.000,9, 2063.800,2, -999.000,9
           NA,    P19C,    248,   1,-999.0,      35,  2,19930226,2153, -53.9973,  -81.5797,  4654,   36.700,    8.447,   34.103,2,   34.110,2,  280.800,2,  286.300,2,    2.000,2,   15.840,2,    0.240,2,    1.190,2,    4.092,2,    1.990,2, -999.000,9, -999.000,9, -999.000,9
           NA,    P19C,    248,   1,-999.0,      34,  2,19930226,2153, -53.9973,  -81.5797,  4654,   77.800,    5.826,   34.131,2,   34.130,2,  290.900,2,  286.300,2,    6.100,2,   20.350,2,    0.470,2,    1.530,2,    4.474,2,    2.135,2, -999.000,9, -999.000,9, -999.000,9
           NA,    P19C,    248,   1,-999.0,      32,  2,19930226,2153, -53.9973,  -81.5797,  4654,  106.000,    5.565,   34.157,2,   34.158,2,  290.300,2,  286.600,2,    7.400,2,   21.220,2,    0.130,2,    1.530,2, -999.000,9, -999.000,9, -999.000,9, -999.000,9, -999.000,9
           NA,    P19C,    248,   1,-999.0,      33,  2,19930226,2153, -53.9973,  -81.5797,  4654,  107.300,    5.560,   34.157,2,   34.160,2,  281.700,2,  287.300,2,    7.400,2,   21.100,2,    0.110,2,    1.530,2,    4.465,2,    2.145,2, -999.000,9, -999.000,9, -999.000,9
           NA,    P19C,    248,   1,-999.0,      31,  2,19930226,2153, -53.9973,  -81.5797,  4654,  131.900,    5.503,   34.179,2,   34.181,2,  284.100,2,  290.700,2,    7.300,2,   20.950,2,    0.070,2,    1.500,2,    4.528,2,    2.154,2, -999.000,9, -999.000,9, -999.000,9
           NA,    P19C,    248,   1,-999.0,      30,  2,19930226,2153, -53.9973,  -81.5797,  4654,  156.400,    5.446,   34.188,2,   34.188,2,  293.000,2,  290.400,2,    7.500,2,   21.150,2,    0.020,2,    1.500,2, -999.000,9, -999.000,9, -999.000,9, -999.000,9, -999.000,9
           NA,    P19C,    248,   1,-999.0,      29,  2,19930226,2153, -53.9973,  -81.5797,  4654,  181.400,    5.448,   34.196,2,   34.196,2,  282.700,2,  289.700,2,    7.700,2,   21.200,2,    0.010,2,    1.500,2,    4.442,2,    2.117,2, -999.000,9, -999.000,9, -999.000,9
           NA,    P19C,    248,   1,-999.0,      28,  2,19930226,2153, -53.9973,  -81.5797,  4654,  205.400,    5.482,   34.208,2,   34.209,2,  294.200,2,  291.400,2,    7.700,2,   20.870,2,    0.010,2,    1.490,2, -999.000,9, -999.000,9, -999.000,9, -999.000,9, -999.000,9
           NA,    P19C,    248,   1,-999.0,      27,  2,19930226,2153, -53.9973,  -81.5797,  4654,  255.100,    5.414,   34.205,2,   34.205,2,  287.200,2,  288.500,2,    8.000,2,   21.340,2,    0.010,2,    1.510,2,    4.328,2,    2.043,2, -999.000,9, -999.000,9, -999.000,9
           NA,    P19C,    248,   1,-999.0,      26,  2,19930226,2153, -53.9973,  -81.5797,  4654,  303.400,    5.359,   34.210,2,   34.211,2,  282.100,2,  284.500,2,    8.700,2,   21.960,2,    0.010,2,    1.560,2,    4.181,2,    2.006,2, -999.000,9, -999.000,9, -999.000,9
           NA,    P19C,    248,   1,-999.0,      72,  2,19930226,2153, -53.9973,  -81.5797,  4654,  402.800,    5.222,   34.216,2,   34.216,2,  280.700,2,  279.900,2,   10.100,2,   23.010,2,    0.010,2,    1.620,2,    3.907,2,    1.842,2, -999.000,9, -999.000,9, -999.000,9
           NA,    P19C,    248,   1,-999.0,      24,  2,19930226,2153, -53.9973,  -81.5797,  4654,  500.400,    4.995,   34.210,2,   34.211,2,  267.700,2,  272.200,2,   12.400,2,   24.200,2,    0.000,2,    1.690,2,    3.599,2,    1.693,2, -999.000,9, -999.000,9, -999.000,9
           NA,    P19C,    248,   1,-999.0,      23,  2,19930226,2153, -53.9973,  -81.5797,  4654,  600.100,    4.830,   34.218,2,   34.218,2,  266.300,2,  269.500,2,   13.900,2,   24.910,2,    0.000,2,    1.750,2,    3.383,2,    1.580,2, -999.000,9, -999.000,9, -999.000,9
           NA,    P19C,    248,   1,-999.0,      22,  2,19930226,2153, -53.9973,  -81.5797,  4654,  702.300,    4.568,   34.223,2,   34.222,2,  254.100,2,  257.400,2,   17.600,2,   26.630,2,    0.000,2,    1.860,2,    2.841,2,    1.298,2, -999.000,9, -999.000,9, -999.000,9
           NA,    P19C,    248,   1,-999.0,      21,  2,19930226,2153, -53.9973,  -81.5797,  4654,  804.800,    4.161,   34.237,2,   34.237,2,  238.400,2,  240.200,2,   24.400,2,   28.680,2,    0.000,2,    2.010,2,    2.227,2,    1.019,2, -999.000,9, -999.000,9, -999.000,9
           NA,    P19C,    248,   1,-999.0,      20,  2,19930226,2153, -53.9973,  -81.5797,  4654,  906.400,    3.737,   34.270,2,   34.269,2,  223.800,2,  223.400,2,   33.000,2,   30.690,2,    0.000,2,    2.140,2,    1.562,2,    0.694,2, -999.000,9, -999.000,9, -999.000,9
           NA,    P19C,    248,   1,-999.0,      19,  2,19930226,2153, -53.9973,  -81.5797,  4654, 1006.800,    3.442,   34.302,2,   34.302,2,  212.900,2,  211.800,2,   40.500,2,   31.950,2,    0.000,2,    2.220,2,    1.077,2,    0.479,2, -999.000,9, -999.000,9, -999.000,9
           NA,    P19C,    248,   1,-999.0,      18,  2,19930226,2153, -53.9973,  -81.5797,  4654, 1107.300,    3.166,   34.352,2,   34.351,2,  196.900,2,  196.700,2,   49.500,2,   33.300,2,    0.000,2,    2.320,2,    0.654,2,    0.295,2, -999.000,9, -999.000,9, -999.000,9
           NA,    P19C,    248,   1,-999.0,      74,  2,19930226,2153, -53.9973,  -81.5797,  4654, 1304.800,    2.802,   34.440,2,   34.440,2,  182.200,2,  180.200,2,   63.500,2,   34.370,2,    0.000,2,    2.390,2, -999.000,9, -999.000,9, -999.000,9, -999.000,9, -999.000,9
           NA,    P19C,    248,   1,-999.0,      16,  2,19930226,2153, -53.9973,  -81.5797,  4654, 1508.600,    2.636,   34.526,2,   34.526,2,  162.400,2,  163.600,2,   76.800,2,   35.200,2,    0.000,2,    2.460,2,    0.116,2,    0.048,2, -999.000,9, -999.000,9, -999.000,9
           NA,    P19C,    248,   1,-999.0,      15,  2,19930226,2153, -53.9973,  -81.5797,  4654, 1712.800,    2.463,   34.591,2,   34.590,2,  155.500,2,  156.600,2,   88.300,2,   35.250,2,    0.000,2,    2.460,2,    0.023,2,    0.000,2, -999.000,9, -999.000,9, -999.000,9
           NA,    P19C,    248,   1,-999.0,      14,  2,19930226,2153, -53.9973,  -81.5797,  4654, 1917.500,    2.303,   34.633,2,   34.632,2,  159.700,2,  160.700,2,   93.200,2,   34.530,2,    0.000,2,    2.420,2,    0.010,2,    0.000,2, -999.000,9, -999.000,9, -999.000,9
           NA,    P19C,    248,   1,-999.0,      13,  2,19930226,2153, -53.9973,  -81.5797,  4654, 2122.000,    2.165,   34.661,2,   34.660,2,  163.500,2,  162.800,2,   98.800,2,   34.190,2,    0.000,2,    2.380,2,    0.000,2,    0.000,2, -999.000,9, -999.000,9, -999.000,9
           NA,    P19C,    248,   1,-999.0,      12,  2,19930226,2153, -53.9973,  -81.5797,  4654, 2326.200,    2.051,   34.679,2,   34.679,2,  165.200,2,  165.700,2,  102.400,2,   33.950,2,    0.000,2,    2.370,2,    0.000,2,    0.000,2, -999.000,9, -999.000,9, -999.000,9
           NA,    P19C,    248,   1,-999.0,      11,  2,19930226,2153, -53.9973,  -81.5797,  4654, 2530.300,    1.933,   34.691,2,   34.689,2,  167.700,2,  167.600,2,  107.600,2,   33.810,2,    0.000,2,    2.360,2, -999.000,9, -999.000,9, -999.000,9, -999.000,9, -999.000,9
           NA,    P19C,    248,   1,-999.0,      10,  2,19930226,2153, -53.9973,  -81.5797,  4654, 2734.400,    1.841,   34.700,2,   34.699,2,  171.400,2,  171.500,2,  109.400,2,   33.480,2,    0.000,2,    2.340,2, -999.000,9, -999.000,9, -999.000,9, -999.000,9, -999.000,9
           NA,    P19C,    248,   1,-999.0,       9,  2,19930226,2153, -53.9973,  -81.5797,  4654, 2939.000,    1.732,   34.706,2,   34.705,2,  176.300,2,  175.700,2,  111.400,2,   33.390,2,    0.000,2,    2.320,2, -999.000,9, -999.000,9, -999.000,9, -999.000,9, -999.000,9
           NA,    P19C,    248,   1,-999.0,       8,  2,19930226,2153, -53.9973,  -81.5797,  4654, 3196.000,    1.611,   34.717,2,   34.716,2,  185.100,2,  185.000,2,  109.800,2,   32.620,2,    0.000,2,    2.280,2, -999.000,9, -999.000,9, -999.000,9, -999.000,9, -999.000,9
           NA,    P19C,    248,   1,-999.0,       7,  2,19930226,2153, -53.9973,  -81.5797,  4654, 3451.700,    1.432,   34.720,2,   34.720,2,  192.800,2,  192.000,2,  112.400,2,   32.280,2,    0.000,2,    2.240,2, -999.000,9, -999.000,9, -999.000,9, -999.000,9, -999.000,9
           NA,    P19C,    248,   1,-999.0,       6,  2,19930226,2153, -53.9973,  -81.5797,  4654, 3706.900,    1.214,   34.718,2,   34.717,2,  198.400,2,  197.300,2,  117.400,2,   32.340,2,    0.000,2,    2.240,2, -999.000,9, -999.000,9, -999.000,9, -999.000,9, -999.000,9
           NA,    P19C,    248,   1,-999.0,       5,  2,19930226,2153, -53.9973,  -81.5797,  4654, 3962.000,    1.005,   34.713,2,   34.713,2,  204.000,2,  201.300,2,  124.400,2,   32.530,2,    0.000,2,    2.260,2, -999.000,9, -999.000,9, -999.000,9, -999.000,9, -999.000,9
           NA,    P19C,    248,   1,-999.0,       4,  2,19930226,2153, -53.9973,  -81.5797,  4654, 4217.500,    0.823,   34.710,2,   34.709,2,  206.400,2,  205.000,2,  130.400,2,   32.590,2,    0.000,2,    2.270,2,   -0.011,2,    0.000,2, -999.000,9, -999.000,9, -999.000,9
           NA,    P19C,    248,   1,-999.0,       3,  2,19930226,2153, -53.9973,  -81.5797,  4654, 4371.700,    0.750,   34.708,2,   34.708,2,  208.100,2,  206.700,2,  133.000,2,   32.640,2,    0.000,2,    2.270,2,   -0.004,2,    0.000,2, -999.000,9, -999.000,9, -999.000,9
           NA,    P19C,    248,   1,-999.0,       2,  2,19930226,2153, -53.9973,  -81.5797,  4654, 4629.600,    0.701,   34.707,2,   34.707,2,  207.900,2,  208.300,2,  134.900,2,   32.690,2,    0.000,2,    2.280,2,   -0.003,2,    0.000,2, -999.000,9, -999.000,9, -999.000,9
           NA,    P19C,    248,   1,-999.0,       1,  2,19930226,2153, -53.9973,  -81.5797,  4654, 4767.700,    0.704,   34.707,2,   34.706,2,  206.100,2,  208.500,2,  135.400,2,   32.700,2,    0.000,2,    2.270,2,   -0.011,2,    0.000,2, -999.000,9, -999.000,9, -999.000,9
           NA,    P19C,    247,   1,-999.0,      36,  3,19930226,1546, -53.9965,  -80.7923,  4459,    2.100,    9.081,   34.017,2, -999.000,4,  288.200,2, -999.000,4, -999.000,4, -999.000,4, -999.000,4, -999.000,4, -999.000,9, -999.000,9, -999.000,9, -999.000,2, -999.000,9
           NA,    P19C,    247,   1,-999.0,      35,  2,19930226,1546, -53.9965,  -80.7923,  4459,   32.700,    8.660,   34.045,2,   34.055,2,  284.400,2,  284.400,2,    1.600,2,   15.370,2,    0.220,2,    1.230,2, -999.000,9, -999.000,9, -999.000,9, -999.000,9, -999.000,9
           NA,    P19C,    247,   1,-999.0,      68,  2,19930226,1546, -53.9965,  -80.7923,  4459,   60.700,    8.109,   34.111,2,   34.097,2,  279.500,2,  284.800,2,    1.600,2,   15.850,2,    0.250,2,    1.210,2, -999.000,9, -999.000,9, -999.000,9, -999.000,9, -999.000,9
           NA,    P19C,    247,   1,-999.0,      33,  2,19930226,1546, -53.9965,  -80.7923,  4459,   78.000,    6.058,   34.081,2,   34.075,2,  289.300,2,  292.600,2,    1.800,2,   18.610,2,    0.500,2,    1.440,2, -999.000,9, -999.000,9, -999.000,9, -999.000,9, -999.000,9
           NA,    P19C,    247,   1,-999.0,      32,  2,19930226,1546, -53.9965,  -80.7923,  4459,   88.400,    5.792,   34.114,2,   34.116,2,  289.900,2,  283.900,2,    5.200,2,   20.470,2,    0.520,2,    1.550,2, -999.000,9, -999.000,9, -999.000,9, -999.000,9, -999.000,9
           NA,    P19C,    247,   1,-999.0,      31,  2,19930226,1546, -53.9965,  -80.7923,  4459,  107.600,    5.583,   34.136,2,   34.139,2,  282.500,2,  282.100,2,    6.900,2,   21.390,2,    0.160,2,    1.560,2, -999.000,9, -999.000,9, -999.000,9, -999.000,9, -999.000,9
           NA,    P19C,    247,   1,-999.0,      30,  2,19930226,1546, -53.9965,  -80.7923,  4459,  133.500,    5.515,   34.166,2,   34.170,2,  286.500,2,  286.000,2,    7.300,2,   21.270,2,    0.110,2,    1.530,2, -999.000,9, -999.000,9, -999.000,9, -999.000,9, -999.000,9
           NA,    P19C,    247,   1,-999.0,      29,  2,19930226,1546, -53.9965,  -80.7923,  4459,  158.500,    5.532,   34.196,2,   34.202,2,  285.500,2,  289.200,2,    7.500,2,   20.940,2,    0.060,2,    1.500,2, -999.000,9, -999.000,9, -999.000,9, -999.000,9, -999.000,9
           NA,    P19C,    247,   1,-999.0,      28,  2,19930226,1546, -53.9965,  -80.7923,  4459,  183.400,    5.464,   34.201,2,   34.205,2,  288.100,2,  289.000,2,    7.600,2,   21.130,2,    0.020,2,    1.500,2, -999.000,9, -999.000,9, -999.000,9, -999.000,9, -999.000,9
           NA,    P19C,    247,   1,-999.0,      27,  2,19930226,1546, -53.9965,  -80.7923,  4459,  208.800,    5.441,   34.207,2,   34.211,2,  286.400,2,  289.700,2,    7.600,2,   21.040,2,    0.020,2,    1.490,2, -999.000,9, -999.000,9, -999.000,9, -999.000,9, -999.000,9
           NA,    P19C,    247,   1,-999.0,      26,  2,19930226,1546, -53.9965,  -80.7923,  4459,  259.100,    5.295,   34.203,2,   34.206,2,  289.300,2,  286.100,2,    8.500,2,   21.850,2,    0.010,2,    1.550,2, -999.000,9, -999.000,9, -999.000,9, -999.000,9, -999.000,9
           NA,    P19C,    247,   1,-999.0,      72,  2,19930226,1546, -53.9965,  -80.7923,  4459,  308.900,    5.231,   34.210,2,   34.212,2,  275.900,2,  280.200,2,    9.600,2,   22.890,2,    0.000,2,    1.610,2, -999.000,9, -999.000,9, -999.000,9, -999.000,9, -999.000,9
           NA,    P19C,    247,   1,-999.0,      24,  2,19930226,1546, -53.9965,  -80.7923,  4459,  410.100,    5.058,   34.212,2,   34.215,2,  273.200,2,  278.100,2,   10.900,2,   23.650,2,    0.000,2,    1.650,2, -999.000,9, -999.000,9, -999.000,9, -999.000,9, -999.000,9
           NA,    P19C,    247,   1,-999.0,      70,  2,19930226,1546, -53.9965,  -80.7923,  4459,  509.600,    4.846,   34.216,2,   34.218,2,  266.900,2,  270.600,2,   13.200,2,   24.700,2,    0.000,2,    1.730,2, -999.000,9, -999.000,9, -999.000,9, -999.000,9, -999.000,9
           NA,    P19C,    247,   1,-999.0,      21,  2,19930226,1546, -53.9965,  -80.7923,  4459,  710.900,    4.190,   34.229,2,   34.231,2,  246.300,2,  244.500,2,   23.000,2,   28.460,2,    0.000,2,    1.970,2, -999.000,9, -999.000,9, -999.000,9, -999.000,9, -999.000,9
           NA,    P19C,    247,   1,-999.0,      20,  2,19930226,1546, -53.9965,  -80.7923,  4459,  812.400,    3.828,   34.256,2,   34.257,2,  229.800,2,  228.000,2,   30.400,2,   30.190,2,    0.000,2,    2.100,2, -999.000,9, -999.000,9, -999.000,9, -999.000,9, -999.000,9
           NA,    P19C,    247,   1,-999.0,      19,  2,19930226,1546, -53.9965,  -80.7923,  4459,  912.400,    3.470,   34.291,2,   34.290,2,  216.800,2,  215.100,2,   38.300,2,   31.530,2,    0.000,2,    2.200,2, -999.000,9, -999.000,9, -999.000,9, -999.000,9, -999.000,9
           NA,    P19C,    247,   1,-999.0,      18,  2,19930226,1546, -53.9965,  -80.7923,  4459, 1013.400,    3.224,   34.337,2,   34.336,2,  202.300,2,  201.000,2,   46.300,2,   32.500,2,    0.000,2,    2.280,2, -999.000,9, -999.000,9, -999.000,9, -999.000,9, -999.000,9
           NA,    P19C,    247,   1,-999.0,      74,  2,19930226,1546, -53.9965,  -80.7923,  4459, 1216.100,    2.881,   34.437,2,   34.441,2,  175.100,2,  174.300,2,   64.100,2,   34.440,2,    0.000,2,    2.420,2, -999.000,9, -999.000,9, -999.000,9, -999.000,9, -999.000,9
           NA,    P19C,    247,   1,-999.0,      15,  2,19930226,1546, -53.9965,  -80.7923,  4459, 1621.200,    2.474,   34.577,2,   34.579,2,  159.900,2,  160.800,2,   84.100,2,   34.630,2,    0.000,2,    2.440,2, -999.000,9, -999.000,9, -999.000,9, -999.000,9, -999.000,9
           NA,    P19C,    247,   1,-999.0,      14,  2,19930226,1546, -53.9965,  -80.7923,  4459, 1823.100,    2.319,   34.623,2,   34.625,2,  163.700,2,  161.600,2,   91.200,2,   34.350,2,    0.000,2,    2.400,2, -999.000,9, -999.000,9, -999.000,9, -999.000,9, -999.000,9
           NA,    P19C,    247,   1,-999.0,      13,  2,19930226,1546, -53.9965,  -80.7923,  4459, 2027.400,    2.160,   34.647,2,   34.647,2,  161.900,2,  153.400,2,  104.800,2,   34.890,2,    0.000,2,    2.460,2, -999.000,9, -999.000,9, -999.000,9, -999.000,9, -999.000,9
           NA,    P19C,    247,   1,-999.0,      12,  2,19930226,1546, -53.9965,  -80.7923,  4459, 2230.500,    2.030,   34.665,2,   34.666,2,  155.700,2,  157.200,2,  108.200,2,   34.070,2,    0.000,2,    2.450,2, -999.000,9, -999.000,9, -999.000,9, -999.000,9, -999.000,9
           NA,    P19C,    247,   1,-999.0,      11,  2,19930226,1546, -53.9965,  -80.7923,  4459, 2433.900,    1.937,   34.679,2,   34.679,2,  159.700,2,  161.200,2,  111.700,2,   34.410,2,    0.000,2,    2.400,2, -999.000,9, -999.000,9, -999.000,9, -999.000,9, -999.000,9
           NA,    P19C,    247,   1,-999.0,      10,  2,19930226,1546, -53.9965,  -80.7923,  4459, 2637.000,    1.860,   34.687,2,   34.687,2,  163.700,2,  164.100,2,  113.700,2,   34.030,2,    0.000,2,    2.390,2, -999.000,9, -999.000,9, -999.000,9, -999.000,9, -999.000,9
           NA,    P19C,    247,   1,-999.0,       9,  2,19930226,1546, -53.9965,  -80.7923,  4459, 2841.300,    1.791,   34.697,2,   34.697,2,  170.000,2,  170.000,2,  113.100,2,   33.600,2,    0.000,2,    2.350,2, -999.000,9, -999.000,9, -999.000,9, -999.000,9, -999.000,9
           NA,    P19C,    247,   1,-999.0,       8,  2,19930226,1546, -53.9965,  -80.7923,  4459, 3046.300,    1.709,   34.710,2,   34.710,2,  179.800,2,  179.100,2,  110.700,2,   32.880,2,    0.000,2,    2.290,2, -999.000,9, -999.000,9, -999.000,9, -999.000,9, -999.000,9
           NA,    P19C,    247,   1,-999.0,       7,  2,19930226,1546, -53.9965,  -80.7923,  4459, 3250.500,    1.596,   34.718,2,   34.718,2,  186.400,2,  185.900,2,  110.500,2,   32.450,2,    0.000,2,    2.260,2, -999.000,9, -999.000,9, -999.000,9, -999.000,9, -999.000,9
           NA,    P19C,    247,   1,-999.0,       6,  2,19930226,1546, -53.9965,  -80.7923,  4459, 3454.100,    1.435,   34.718,2,   34.718,2,  190.400,2,  190.400,2,  113.500,2,   32.310,2,    0.000,2,    2.250,2, -999.000,9, -999.000,9, -999.000,9, -999.000,9, -999.000,9
           NA,    P19C,    247,   1,-999.0,       5,  2,19930226,1546, -53.9965,  -80.7923,  4459, 3658.200,    1.244,   34.718,2,   34.718,2,  196.200,2,  196.400,2,  117.200,2,   32.170,2,    0.000,2,    2.240,2, -999.000,9, -999.000,9, -999.000,9, -999.000,9, -999.000,9
           NA,    P19C,    247,   1,-999.0,       4,  2,19930226,1546, -53.9965,  -80.7923,  4459, 3863.400,    1.051,   34.714,2,   34.714,2,  200.600,2,  199.900,2,  123.000,2,   32.270,2,    0.000,2,    2.250,2, -999.000,9, -999.000,9, -999.000,9, -999.000,9, -999.000,9
           NA,    P19C,    247,   1,-999.0,       3,  2,19930226,1546, -53.9965,  -80.7923,  4459, 4068.300,    0.895,   34.711,2,   34.711,2,  202.400,2,  203.200,2,  128.200,2,   32.420,2,    0.000,2,    2.260,2, -999.000,9, -999.000,9, -999.000,9, -999.000,9, -999.000,9
           NA,    P19C,    247,   1,-999.0,       2,  2,19930226,1546, -53.9965,  -80.7923,  4459, 4323.800,    0.768,   34.708,2,   34.708,2,  205.300,2,  205.800,2,  132.900,2,   32.470,2,    0.000,2,    2.270,2, -999.000,9, -999.000,9, -999.000,9, -999.000,9, -999.000,9
           NA,    P19C,    247,   1,-999.0,       1,  2,19930226,1546, -53.9965,  -80.7923,  4459, 4532.500,    0.748,   34.708,2,   34.708,2,  206.900,2,  206.500,2,  134.500,2,   32.480,2,    0.000,2,    2.270,2, -999.000,9, -999.000,9, -999.000,9, -999.000,9, -999.000,9