BOTTLE,20215010JOAExport
EXPOCODE,SECT_ID,STNNBR,CASTNO,SAMPNO,BTLNBR,BTLNBR_FLAG_W,DATE,TIME,LATITUDE,LONGITUDE,DEPTH,CTDPRS,CTDTMP,CTDSAL,CTDSAL_FLAG_W,SALNTY,SALNTY_FLAG_W,CTDOXY,CTDOXY_FLAG_W,OXYGEN,OXYGEN_FLAG_W,SILCAT,SILCAT_FLAG_W,NITRAT,NITRAT_FLAG_W,NITRIT,NITRIT_FLAG_W,PHSPHT,PHSPHT_FLAG_W,CFC-11,CFC-11_FLAG_W,CFC-12,CFC-12_FLAG_W,SF6,SF6_FLAG_W,TCARBN,TCARBN_FLAG_W,ALKALI,ALKALI_FLAG_W
,,,,,,,,,,,,DB,ITS-90,PSS-78,,PSS-78,,UMOL/KG,,UMOL/KG,,UMOL/KG,,UMOL/KG,,UMOL/KG,,UMOL/KG,,PMOL/KG,,PMOL/KG,,PMOL/KG,,UMOL/KG,,UMOL/KG
           NA,    P17E,    187,   2,-999.0,       1,  2,19930103,2043, -52.3890, -108.5377,  3871,    7.800,    7.755,   34.293,2,   34.294,2, -999.000,5,  290.600,2,    1.360,2,   14.100,2,    0.230,2,    1.120,2,    4.256,6,    2.040,6, -999.000,9, 2088.300,2, -999.000,9
           NA,    P17E,    187,   2,-999.0,       2,  2,19930103,2043, -52.3890, -108.5377,  3871,   25.800,    7.755,   34.294,2,   34.294,2, -999.000,5,  291.200,2,    1.260,2,   14.100,2,    0.230,2,    1.110,2, -999.000,9, -999.000,9, -999.000,9, -999.000,9, -999.000,9
           NA,    P17E,    187,   2,-999.0,       3,  2,19930103,2043, -52.3890, -108.5377,  3871,   55.500,    7.756,   34.295,2,   34.294,2, -999.000,5,  291.100,2,    0.950,2,   14.040,2,    0.230,2,    1.110,2,    4.263,2,    2.053,2, -999.000,9, -999.000,9, -999.000,9
           NA,    P17E,    187,   2,-999.0,       4,  2,19930103,2043, -52.3890, -108.5377,  3871,   89.900,    7.663,   34.297,2,   34.297,2, -999.000,5,  290.000,2,    0.860,2,   14.260,2,    0.230,2,    1.130,2, -999.000,9, -999.000,9, -999.000,9, -999.000,9, -999.000,9
           NA,    P17E,    187,   2,-999.0,       5,  2,19930103,2043, -52.3890, -108.5377,  3871,  120.700,    7.385,   34.301,2,   34.302,2, -999.000,5,  285.800,2,    2.030,2,   14.950,2,    0.270,2,    1.200,2,    4.277,2,    2.061,2, -999.000,9, -999.000,9, -999.000,9
           NA,    P17E,    187,   2,-999.0,       6,  2,19930103,2043, -52.3890, -108.5377,  3871,  156.300,    6.790,   34.303,2,   34.301,2, -999.000,5,  283.800,2,    4.480,2,   16.960,2,    0.230,2,    1.280,2, -999.000,9, -999.000,9, -999.000,9, -999.000,9, -999.000,9
           NA,    P17E,    187,   2,-999.0,       7,  2,19930103,2043, -52.3890, -108.5377,  3871,  215.800,    6.754,   34.324,2,   34.323,2, -999.000,5,  280.000,2,    5.020,2,   18.020,2,    0.060,2,    1.340,2,    4.113,2,    1.989,2, -999.000,9, -999.000,9, -999.000,9
           NA,    P17E,    187,   2,-999.0,       8,  2,19930103,2043, -52.3890, -108.5377,  3871,  283.700,    6.627,   34.322,2,   34.321,2, -999.000,5,  276.800,2,    5.560,2,   18.910,2,    0.010,2,    1.380,2, -999.000,9, -999.000,9, -999.000,9, -999.000,9, -999.000,9
           NA,    P17E,    187,   2,-999.0,       9,  2,19930103,2043, -52.3890, -108.5377,  3871,  362.700,    6.603,   34.328,2,   34.328,2, -999.000,5,  282.200,2,    5.460,2,   18.400,2,    0.010,2,    1.350,2,    4.078,2,    1.994,2, -999.000,9, -999.000,9, -999.000,9
           NA,    P17E,    187,   2,-999.0,      10,  2,19930103,2043, -52.3890, -108.5377,  3871,  439.400,    6.371,   34.306,2,   34.305,2, -999.000,5,  272.500,2,    7.060,2,   20.430,2,    0.010,2,    1.430,2, -999.000,9, -999.000,9, -999.000,9, -999.000,9, -999.000,9
           NA,    P17E,    187,   2,-999.0,      11,  2,19930103,2043, -52.3890, -108.5377,  3871,  513.300,    6.146,   34.289,2,   34.290,2, -999.000,5,  281.300,2,    6.540,2,   19.980,2,    0.010,2,    1.450,2,    3.993,2,    1.904,2, -999.000,9, -999.000,9, -999.000,9
           NA,    P17E,    187,   2,-999.0,      12,  2,19930103,2043, -52.3890, -108.5377,  3871,  595.400,    5.921,   34.282,2,   34.283,2, -999.000,5,  261.000,2,   10.040,2,   22.680,2,    0.010,2,    1.610,2,    3.213,2,    1.533,2, -999.000,9, -999.000,9, -999.000,9
           NA,    P17E,    187,   2,-999.0,      13,  2,19930103,2043, -52.3890, -108.5377,  3871,  679.400,    5.625,   34.269,2,   34.270,2, -999.000,5,  255.800,2,   11.640,2,   23.980,2,    0.000,2,    1.680,2,    2.919,2,    1.373,2, -999.000,9, -999.000,9, -999.000,9
           NA,    P17E,    187,   2,-999.0,      14,  2,19930103,2043, -52.3890, -108.5377,  3871,  729.500,    5.363,   34.263,2,   34.264,2, -999.000,5,  248.800,2,   14.290,2,   25.160,2,    0.000,2,    1.780,2,    2.627,2,    1.224,2, -999.000,9, -999.000,9, -999.000,9
           NA,    P17E,    187,   2,-999.0,      15,  2,19930103,2043, -52.3890, -108.5377,  3871,  789.500,    5.082,   34.268,2,   34.268,2, -999.000,5,  239.300,2,   18.010,2,   26.520,2,    0.000,2,    1.870,2,    2.286,2,    1.044,2, -999.000,9, -999.000,9, -999.000,9
           NA,    P17E,    187,   2,-999.0,      16,  2,19930103,2043, -52.3890, -108.5377,  3871,  853.800,    4.813,   34.278,2,   34.278,2, -999.000,5,  228.600,2,   22.560,2,   27.880,2,    0.000,2,    1.960,2,    1.880,2,    0.879,2, -999.000,9, -999.000,9, -999.000,9
           NA,    P17E,    187,   2,-999.0,      17,  2,19930103,2043, -52.3890, -108.5377,  3871,  956.600,    4.342,   34.290,2,   34.289,2, -999.000,5,  219.200,2,   28.390,2,   29.530,2,    0.000,2,    2.080,2,    1.504,2,    0.692,2, -999.000,9, -999.000,9, -999.000,9
           NA,    P17E,    187,   2,-999.0,      18,  2,19930103,2043, -52.3890, -108.5377,  3871, 1060.900,    3.850,   34.308,2,   34.308,2, -999.000,5,  210.900,2,   35.910,2,   31.010,2,    0.000,2,    2.180,2,    1.201,2,    0.553,2, -999.000,9, -999.000,9, -999.000,9
           NA,    P17E,    187,   2,-999.0,      19,  2,19930103,2043, -52.3890, -108.5377,  3871, 1211.600,    3.224,   34.358,2,   34.356,2, -999.000,5,  198.200,2,   48.290,2,   32.660,2,    0.000,2,    2.300,2,    0.830,2,    0.377,2, -999.000,9, -999.000,9, -999.000,9
           NA,    P17E,    187,   2,-999.0,      20,  2,19930103,2043, -52.3890, -108.5377,  3871, 1364.500,    2.925,   34.422,2,   34.421,2, -999.000,5,  185.600,2,   58.560,2,   33.520,2,    0.000,2,    2.360,2,    0.503,2,    0.240,2, -999.000,9, -999.000,9, -999.000,9
           NA,    P17E,    187,   2,-999.0,      21,  2,19930103,2043, -52.3890, -108.5377,  3871, 1517.300,    2.697,   34.487,2,   34.484,2, -999.000,5,  177.200,2,   67.360,2,   33.910,2,    0.000,2,    2.390,2,    0.333,2,    0.155,2, -999.000,9, -999.000,9, -999.000,9
           NA,    P17E,    187,   2,-999.0,      22,  2,19930103,2043, -52.3890, -108.5377,  3871, 1715.100,    2.490,   34.569,2,   34.566,2, -999.000,5,  170.700,2,   76.370,2,   33.910,2,    0.000,2,    2.390,2,    0.180,2,    0.079,2, -999.000,9, -999.000,9, -999.000,9
           NA,    P17E,    187,   2,-999.0,      23,  2,19930103,2043, -52.3890, -108.5377,  3871, 1920.400,    2.354,   34.627,2,   34.625,2, -999.000,5,  170.300,2,   81.990,2,   33.330,2,    0.000,2,    2.350,2,    0.120,2,    0.059,2, -999.000,9, -999.000,9, -999.000,9
           NA,    P17E,    187,   2,-999.0,      24,  2,19930103,2043, -52.3890, -108.5377,  3871, 2124.100,    2.220,   34.671,2,   34.670,2, -999.000,5,  171.600,2,   88.690,2,   32.870,2,    0.000,2,    2.320,2,    0.051,2,    0.025,2, -999.000,9, -999.000,9, -999.000,9
           NA,    P17E,    187,   2,-999.0,      25,  2,19930103,2043, -52.3890, -108.5377,  3871, 2322.100,    2.083,   34.693,2,   34.693,2, -999.000,5,  172.700,2,   94.760,2,   32.690,2,    0.000,2,    2.310,2,    0.025,2,    0.014,2, -999.000,9, -999.000,9, -999.000,9
           NA,    P17E,    187,   2,-999.0,      27,  2,19930103,2043, -52.3890, -108.5377,  3871, 2514.900,    1.942,   34.706,2,   34.705,2, -999.000,5,  176.700,2,   99.240,2,   32.460,2,    0.000,2,    2.300,2, -999.000,3, -999.000,3, -999.000,9, -999.000,9, -999.000,9
           NA,    P17E,    187,   2,-999.0,      26,  2,19930103,2043, -52.3890, -108.5377,  3871, 2515.800,    1.943,   34.706,2,   34.705,2, -999.000,5,  175.200,2,   99.570,2,   32.400,2,    0.000,2,    2.310,2,    0.010,2,    0.003,2, -999.000,9, -999.000,9, -999.000,9
           NA,    P17E,    187,   2,-999.0,      28,  2,19930103,2043, -52.3890, -108.5377,  3871, 2707.700,    1.795,   34.710,2,   34.709,2, -999.000,5,  177.400,2,  104.910,2,   32.510,2,    0.000,2,    2.300,2,    0.007,2,    0.006,2, -999.000,9, -999.000,9, -999.000,9
           NA,    P17E,    187,   2,-999.0,      29,  2,19930103,2043, -52.3890, -108.5377,  3871, 2918.600,    1.667,   34.713,2,   34.713,2, -999.000,5,  182.300,2,  108.230,2,   32.450,2,    0.000,2,    2.300,2,    0.008,2,    0.007,2, -999.000,9, -999.000,9, -999.000,9
           NA,    P17E,    187,   2,-999.0,      30,  2,19930103,2043, -52.3890, -108.5377,  3871, 3127.700,    1.596,   34.716,2,   34.717,2, -999.000,5,  185.900,2,  108.980,2,   32.160,2,    0.000,2,    2.270,2,    0.010,2,    0.003,2, -999.000,9, -999.000,9, -999.000,9
           NA,    P17E,    187,   2,-999.0,      31,  2,19930103,2043, -52.3890, -108.5377,  3871, 3338.100,    1.492,   34.718,2,   34.719,2, -999.000,5,  190.200,2,  111.020,2,   32.050,2,    0.000,2,    2.250,2, -999.000,9, -999.000,9, -999.000,9, -999.000,9, -999.000,9
           NA,    P17E,    187,   2,-999.0,      32,  2,19930103,2043, -52.3890, -108.5377,  3871, 3548.000,    1.357,   34.718,2,   34.718,2, -999.000,5,  192.500,2,  114.570,2,   32.100,2,    0.000,2,    2.250,2,    0.005,2,    0.000,2, -999.000,9, -999.000,9, -999.000,9
           NA,    P17E,    187,   2,-999.0,      34,  4,19930103,2043, -52.3890, -108.5377,  3871, 3691.300,    1.192,   34.715,2, -999.000,4, -999.000,5, -999.000,4, -999.000,4, -999.000,4, -999.000,4, -999.000,4, -999.000,9, -999.000,9, -999.000,9, -999.000,9, -999.000,9
           NA,    P17E,    187,   2,-999.0,      33,  2,19930103,2043, -52.3890, -108.5377,  3871, 3691.300,    1.192,   34.715,2,   34.715,2, -999.000,5,  196.300,2,  119.640,2,   32.210,2,    0.000,2,    2.250,2,    0.004,2,    0.000,2, -999.000,9, -999.000,9, -999.000,9
           NA,    P17E,    187,   2,-999.0,      35,  2,19930103,2043, -52.3890, -108.5377,  3871, 3833.600,    1.020,   34.713,2,   34.713,2, -999.000,5,  199.300,2,  126.130,2,   32.380,2,    0.000,2,    2.260,2,    0.004,2,    0.002,2, -999.000,9, -999.000,9, -999.000,9
           NA,    P17E,    187,   2,-999.0,      36,  2,19930103,2043, -52.3890, -108.5377,  3871, 3937.000,    0.985,   34.713,2,   34.712,2, -999.000,5,  200.100,2,  127.540,2,   32.540,2,    0.000,2,    2.260,2,    0.008,2,    0.006,2, -999.000,9, -999.000,9, -999.000,9
           NA,    P17E,    188,   1,-999.0,       1,  2,19930104,0705, -52.4693, -107.7130,  3968,    3.800,    7.273,   34.318,2,   34.318,2, -999.000,3,  293.700,2,    2.810,2,   14.920,2,    0.190,2,    1.160,2, -999.000,9, -999.000,9, -999.000,9, 2092.000,2, -999.000,9
           NA,    P17E,    188,   1,-999.0,       2,  2,19930104,0705, -52.4693, -107.7130,  3968,   28.200,    7.272,   34.318,2,   34.318,2, -999.000,3,  293.800,2,    2.790,2,   14.920,2,    0.190,2,    1.160,2, -999.000,9, -999.000,9, -999.000,9, -999.000,9, -999.000,9
           NA,    P17E,    188,   1,-999.0,       3,  2,19930104,0705, -52.4693, -107.7130,  3968,   68.200,    7.270,   34.318,2,   34.318,2, -999.000,3,  293.600,2,    2.560,2,   14.920,2,    0.190,2,    1.160,2, -999.000,9, -999.000,9, -999.000,9, -999.000,9, -999.000,9
           NA,    P17E,    188,   1,-999.0,       4,  2,19930104,0705, -52.4693, -107.7130,  3968,   96.800,    7.244,   34.318,2,   34.317,2, -999.000,3,  293.100,2,    2.550,2,   14.970,2,    0.200,2,    1.170,2, -999.000,9, -999.000,9, -999.000,9, -999.000,9, -999.000,9
           NA,    P17E,    188,   1,-999.0,       5,  2,19930104,0705, -52.4693, -107.7130,  3968,  125.900,    7.103,   34.323,2,   34.321,2,  289.600,2,  292.200,2,    2.740,2,   15.070,2,    0.200,2,    1.200,2, -999.000,9, -999.000,9, -999.000,9, -999.000,9, -999.000,9
           NA,    P17E,    188,   1,-999.0,       6,  2,19930104,0705, -52.4693, -107.7130,  3968,  157.400,    6.931,   34.325,2,   34.323,2,  288.600,2,  287.000,2,    3.770,2,   15.980,2,    0.170,2,    1.260,2, -999.000,9, -999.000,9, -999.000,9, -999.000,9, -999.000,9
           NA,    P17E,    188,   1,-999.0,       7,  2,19930104,0705, -52.4693, -107.7130,  3968,  217.500,    6.700,   34.320,2,   34.321,2,  277.700,2,  280.200,2,    6.490,2,   18.230,2,    0.040,2,    1.340,2, -999.000,9, -999.000,9, -999.000,9, -999.000,9, -999.000,9
           NA,    P17E,    188,   1,-999.0,       8,  2,19930104,0705, -52.4693, -107.7130,  3968,  287.900,    6.575,   34.321,2,   34.320,2,  269.900,2,  276.400,2,    7.740,2,   19.250,2,    0.020,2,    1.400,2, -999.000,9, -999.000,9, -999.000,9, -999.000,9, -999.000,9
           NA,    P17E,    188,   1,-999.0,       9,  2,19930104,0705, -52.4693, -107.7130,  3968,  367.700,    6.387,   34.306,2,   34.306,2,  273.100,2,  269.600,2,    8.770,2,   20.700,2,    0.010,2,    1.480,2, -999.000,9, -999.000,9, -999.000,9, -999.000,9, -999.000,9
           NA,    P17E,    188,   1,-999.0,      10,  2,19930104,0705, -52.4693, -107.7130,  3968,  438.400,    6.213,   34.296,2,   34.297,2,  267.900,2,  268.400,2,    9.590,2,   21.260,2,    0.010,2,    1.520,2, -999.000,9, -999.000,9, -999.000,9, -999.000,9, -999.000,9
           NA,    P17E,    188,   1,-999.0,      11,  2,19930104,0705, -52.4693, -107.7130,  3968,  490.400,    6.087,   34.292,2,   34.291,2,  264.700,2,  264.800,2,   10.620,2,   21.930,2,    0.010,2,    1.580,2, -999.000,9, -999.000,9, -999.000,9, -999.000,9, -999.000,9
           NA,    P17E,    188,   1,-999.0,      12,  2,19930104,0705, -52.4693, -107.7130,  3968,  547.000,    5.911,   34.286,2,   34.286,2,  262.000,2,  259.100,2,   12.070,2,   22.930,2,    0.010,2,    1.630,2, -999.000,9, -999.000,9, -999.000,9, -999.000,9, -999.000,9
           NA,    P17E,    188,   1,-999.0,      13,  2,19930104,0705, -52.4693, -107.7130,  3968,  605.300,    5.681,   34.273,2,   34.272,2,  255.200,2,  256.600,2,   13.740,2,   23.770,2,    0.010,2,    1.680,2, -999.000,9, -999.000,9, -999.000,9, -999.000,9, -999.000,9
           NA,    P17E,    188,   1,-999.0,      15,  2,19930104,0705, -52.4693, -107.7130,  3968,  752.200,    5.127,   34.273,2,   34.273,2,  240.100,2,  238.400,2,   19.810,2,   26.460,2,    0.010,2,    1.810,2, -999.000,9, -999.000,9, -999.000,9, -999.000,9, -999.000,9
           NA,    P17E,    188,   1,-999.0,      16,  2,19930104,0705, -52.4693, -107.7130,  3968,  823.700,    4.780,   34.274,2,   34.275,2,  234.400,2,  230.500,2,   23.570,2,   27.860,2,    0.010,2,    1.950,2, -999.000,9, -999.000,9, -999.000,9, -999.000,9, -999.000,9
           NA,    P17E,    188,   1,-999.0,      17,  2,19930104,0705, -52.4693, -107.7130,  3968,  896.500,    4.429,   34.285,2,   34.283,2,  225.400,2,  222.200,2,   28.590,2,   29.100,2,    0.010,2,    2.030,2, -999.000,9, -999.000,9, -999.000,9, -999.000,9, -999.000,9
           NA,    P17E,    188,   1,-999.0,      18,  2,19930104,0705, -52.4693, -107.7130,  3968, 1054.500,    3.689,   34.310,2,   34.307,2,  210.100,2,  211.900,2,   39.280,2,   31.240,2,    0.010,2,    2.180,2, -999.000,9, -999.000,9, -999.000,9, -999.000,9, -999.000,9
           NA,    P17E,    188,   1,-999.0,      19,  2,19930104,0705, -52.4693, -107.7130,  3968, 1211.600,    3.090,   34.370,2,   34.366,2,  195.200,2,  197.500,2,   52.280,2,   32.890,2,    0.000,2,    2.290,2, -999.000,9, -999.000,9, -999.000,9, -999.000,9, -999.000,9
           NA,    P17E,    188,   1,-999.0,      20,  2,19930104,0705, -52.4693, -107.7130,  3968, 1411.900,    2.708,   34.461,2,   34.460,2,  181.400,2,  181.700,2,   66.130,2,   33.730,2,    0.000,2,    2.370,2, -999.000,9, -999.000,9, -999.000,9, -999.000,9, -999.000,9
           NA,    P17E,    188,   1,-999.0,      21,  2,19930104,0705, -52.4693, -107.7130,  3968, 1618.100,    2.479,   34.548,2,   34.546,2,  173.800,2,  173.500,2,   75.770,2,   34.070,2,    0.000,2,    2.380,2, -999.000,9, -999.000,9, -999.000,9, -999.000,9, -999.000,9
           NA,    P17E,    188,   1,-999.0,      22,  2,19930104,0705, -52.4693, -107.7130,  3968, 1822.700,    2.357,   34.619,2,   34.617,2,  172.000,2,  171.700,2,   82.690,2,   33.500,2,    0.000,2,    2.340,2, -999.000,9, -999.000,9, -999.000,9, -999.000,9, -999.000,9
           NA,    P17E,    188,   1,-999.0,      23,  2,19930104,0705, -52.4693, -107.7130,  3968, 2027.200,    2.240,   34.664,2,   34.663,2,  171.700,2,  171.500,2,   89.620,2,   32.920,2,    0.000,2,    2.310,2, -999.000,9, -999.000,9, -999.000,9, -999.000,9, -999.000,9
           NA,    P17E,    188,   1,-999.0,      24,  2,19930104,0705, -52.4693, -107.7130,  3968, 2228.900,    2.109,   34.691,2,   34.690,2,  173.800,2,  172.900,2,   95.720,2,   32.750,2,    0.000,2,    2.280,2, -999.000,9, -999.000,9, -999.000,9, -999.000,9, -999.000,9
           NA,    P17E,    188,   1,-999.0,      25,  2,19930104,0705, -52.4693, -107.7130,  3968, 2430.400,    1.947,   34.705,2,   34.704,2,  175.800,2,  176.000,2,  101.830,2,   32.570,2,    0.000,2,    2.280,2, -999.000,9, -999.000,9, -999.000,9, -999.000,9, -999.000,9
           NA,    P17E,    188,   1,-999.0,      26,  2,19930104,0705, -52.4693, -107.7130,  3968, 2632.100,    1.793,   34.708,2,   34.708,2,  178.200,2,  177.300,2,  108.380,2,   32.680,2,    0.000,2,    2.290,2, -999.000,9, -999.000,9, -999.000,9, -999.000,9, -999.000,9
           NA,    P17E,    188,   1,-999.0,      27,  2,19930104,0705, -52.4693, -107.7130,  3968, 2632.100,    1.793,   34.708,2,   34.708,2,  178.200,2,  177.600,2,  108.340,2,   32.680,2,    0.000,2,    2.290,2, -999.000,9, -999.000,9, -999.000,9, -999.000,9, -999.000,9
           NA,    P17E,    188,   1,-999.0,      28,  2,19930104,0705, -52.4693, -107.7130,  3968, 2837.200,    1.689,   34.712,2, -999.000,3,  180.600,2,  180.700,2,  110.430,2,   32.450,2,    0.000,2,    2.280,2, -999.000,9, -999.000,9, -999.000,9, -999.000,9, -999.000,9
           NA,    P17E,    188,   1,-999.0,      29,  2,19930104,0705, -52.4693, -107.7130,  3968, 3036.600,    1.610,   34.718,2,   34.719,2,  185.100,2,  186.100,2,  110.380,2,   32.160,2,    0.000,2,    2.250,2, -999.000,9, -999.000,9, -999.000,9, -999.000,9, -999.000,9
           NA,    P17E,    188,   1,-999.0,      30,  2,19930104,0705, -52.4693, -107.7130,  3968, 3237.400,    1.513,   34.719,2,   34.719,2,  188.900,2,  188.600,2,  113.330,2,   32.050,2,    0.000,2,    2.240,2, -999.000,9, -999.000,9, -999.000,9, -999.000,9, -999.000,9
           NA,    P17E,    188,   1,-999.0,      31,  2,19930104,0705, -52.4693, -107.7130,  3968, 3444.200,    1.385,   34.719,2,   34.718,2,  192.900,2,  191.900,2,  116.060,2,   32.100,2,    0.000,2,    2.240,2, -999.000,9, -999.000,9, -999.000,9, -999.000,9, -999.000,9
           NA,    P17E,    188,   1,-999.0,      32,  2,19930104,0705, -52.4693, -107.7130,  3968, 3649.600,    1.155,   34.715,2,   34.715,2,  196.900,2,  196.600,2,  123.530,2,   32.320,2,    0.000,2,    2.270,2, -999.000,9, -999.000,9, -999.000,9, -999.000,9, -999.000,9
           NA,    P17E,    188,   1,-999.0,      33,  2,19930104,0705, -52.4693, -107.7130,  3968, 3804.000,    1.000,   34.713,2,   34.713,2,  199.100,2,  199.500,2,  128.230,2,   32.430,2,    0.000,2,    2.260,2, -999.000,9, -999.000,9, -999.000,9, -999.000,9, -999.000,9
           NA,    P17E,    188,   1,-999.0,      34,  2,19930104,0705, -52.4693, -107.7130,  3968, 3804.000,    0.999,   34.713,2,   34.712,2,  199.100,2,  200.100,2,  128.180,2,   32.430,2,    0.000,2,    2.270,2, -999.000,9, -999.000,9, -999.000,9, -999.000,9, -999.000,9
           NA,    P17E,    188,   1,-999.0,      35,  2,19930104,0705, -52.4693, -107.7130,  3968, 3922.900,    0.928,   34.711,2,   34.712,2,  200.500,2,  200.900,2,  131.160,2,   32.430,2,    0.000,2,    2.270,2, -999.000,9, -999.000,9, -999.000,9, -999.000,9, -999.000,9
           NA,    P17E,    188,   1,-999.0,      36,  2,19930104,0705, -52.4693, -107.7130,  3968, 4023.000,    0.901,   34.711,2,   34.711,2,  201.400,2,  201.300,2,  132.200,2,   32.420,2,    0.000,2,    2.270,2, -999.000,9, -999.000,9, -999.000,9, -999.000,9, -999.000,9