BOTTLE,20215010JOAExport
EXPOCODE,SECT_ID,STNNBR,CASTNO,SAMPNO,BTLNBR,BTLNBR_FLAG_W,DATE,TIME,LATITUDE,LONGITUDE,DEPTH,CTDPRS,CTDTMP,CTDSAL,CTDSAL_FLAG_W,SALNTY,SALNTY_FLAG_W,CTDOXY,CTDOXY_FLAG_W,OXYGEN,OXYGEN_FLAG_W,SILCAT,SILCAT_FLAG_W,NITRAT,NITRAT_FLAG_W,NITRIT,NITRIT_FLAG_W,PHSPHT,PHSPHT_FLAG_W,CFC-11,CFC-11_FLAG_W,CFC-12,CFC-12_FLAG_W,SF6,SF6_FLAG_W,TCARBN,TCARBN_FLAG_W,ALKALI,ALKALI_FLAG_W
,,,,,,,,,,,,DB,ITS-90,PSS-78,,PSS-78,,UMOL/KG,,UMOL/KG,,UMOL/KG,,UMOL/KG,,UMOL/KG,,UMOL/KG,,PMOL/KG,,PMOL/KG,,PMOL/KG,,UMOL/KG,,UMOL/KG
           NA,    P19C,    254,   1,-999.0,      36,  2,19930228,1133, -54.0087,  -86.3532,  5049,    3.300,    8.586,   34.136,2,   34.134,2,  293.100,2,  286.300,2,    2.500,2,   15.750,2,    0.230,2,    1.170,2, -999.000,9, -999.000,9, -999.000,9, 2085.500,2, -999.000,9
           NA,    P19C,    254,   1,-999.0,      35,  2,19930228,1133, -54.0087,  -86.3532,  5049,   30.900,    8.555,   34.136,2,   34.133,2,  287.100,2,  286.600,2,    2.300,2,   15.760,2,    0.230,2,    1.170,2,    4.066,2,    1.993,2, -999.000,9, -999.000,9, -999.000,9
           NA,    P19C,    254,   1,-999.0,      68,  2,19930228,1133, -54.0087,  -86.3532,  5049,   61.100,    6.197,   34.256,2,   34.258,2,  295.500,2,  292.100,2,    6.600,2,   18.720,2,    0.360,2,    1.350,2, -999.000,9, -999.000,9, -999.000,9, -999.000,9, -999.000,9
           NA,    P19C,    254,   1,-999.0,      33,  2,19930228,1133, -54.0087,  -86.3532,  5049,   75.900,    6.186,   34.270,2,   34.268,2,  295.700,2,  288.200,2,    6.800,2,   19.340,2,    0.150,2,    1.380,2,    4.294,2,    2.081,2, -999.000,9, -999.000,9, -999.000,9
           NA,    P19C,    254,   1,-999.0,      32,  2,19930228,1133, -54.0087,  -86.3532,  5049,  107.400,    6.002,   34.255,2,   34.256,2,  286.900,2,  287.800,2,    6.900,2,   19.900,2,    0.040,2,    1.400,2, -999.000,9, -999.000,9, -999.000,9, -999.000,9, -999.000,9
           NA,    P19C,    254,   1,-999.0,      31,  2,19930228,1133, -54.0087,  -86.3532,  5049,  157.900,    5.886,   34.251,2,   34.252,2,  282.400,2,  288.600,2,    7.300,2,   20.010,2,    0.020,2,    1.420,2,    4.354,2,    2.117,2, -999.000,9, -999.000,9, -999.000,9
           NA,    P19C,    254,   1,-999.0,      30,  2,19930228,1133, -54.0087,  -86.3532,  5049,  208.800,    5.818,   34.245,2,   34.245,2,  289.000,2,  291.000,2,    7.100,2,   20.010,2,    0.020,2,    1.410,2, -999.000,9, -999.000,9, -999.000,9, -999.000,9, -999.000,9
           NA,    P19C,    254,   1,-999.0,      29,  2,19930228,1133, -54.0087,  -86.3532,  5049,  258.900,    5.778,   34.243,2,   34.241,2,  291.200,2,  291.300,2,    7.100,2,   20.060,2,    0.010,2,    1.420,2,    4.369,2,    2.105,2, -999.000,9, -999.000,9, -999.000,9
           NA,    P19C,    254,   1,-999.0,      28,  2,19930228,1133, -54.0087,  -86.3532,  5049,  308.400,    5.723,   34.240,2,   34.239,2,  282.400,2,  288.500,2,    7.500,2,   20.470,2,    0.010,2,    1.430,2,    4.328,2,    2.095,2, -999.000,9, -999.000,9, -999.000,9
           NA,    P19C,    254,   1,-999.0,      27,  2,19930228,1133, -54.0087,  -86.3532,  5049,  358.500,    5.658,   34.236,2,   34.234,2,  284.900,2,  286.800,2,    8.000,2,   20.920,2,    0.010,2,    1.470,2,    4.252,2,    2.058,2, -999.000,9, -999.000,9, -999.000,9
           NA,    P19C,    254,   1,-999.0,      26,  2,19930228,1133, -54.0087,  -86.3532,  5049,  433.700,    5.509,   34.230,2,   34.229,2,  275.500,2,  280.500,2,    9.200,2,   22.230,2,    0.010,2,    1.550,2,    3.981,2,    1.921,2, -999.000,9, -999.000,9, -999.000,9
           NA,    P19C,    254,   1,-999.0,      25,  2,19930228,1133, -54.0087,  -86.3532,  5049,  509.800,    5.310,   34.223,2,   34.223,2,  279.700,2,  277.900,2,   10.500,2,   23.180,2,    0.010,2,    1.600,2,    3.739,2,    1.793,2, -999.000,9, -999.000,9, -999.000,9
           NA,    P19C,    254,   1,-999.0,      24,  2,19930228,1133, -54.0087,  -86.3532,  5049,  610.700,    5.029,   34.226,2,   34.223,2,  256.600,2,  259.100,2,   14.800,2,   25.400,2,    0.010,2,    1.750,2,    2.987,2,    1.406,2, -999.000,9, -999.000,9, -999.000,9
           NA,    P19C,    254,   1,-999.0,      23,  2,19930228,1133, -54.0087,  -86.3532,  5049,  709.200,    4.736,   34.239,2,   34.237,2,  243.900,2,  245.100,2,   19.500,2,   27.220,2,    0.010,2,    1.870,2,    2.387,2,    1.122,2, -999.000,9, -999.000,9, -999.000,9
           NA,    P19C,    254,   1,-999.0,      22,  2,19930228,1133, -54.0087,  -86.3532,  5049,  807.300,    4.299,   34.257,2,   34.254,2,  231.600,2,  231.300,2,   26.400,2,   29.100,2,    0.010,2,    2.010,2,    1.939,2,    0.876,2, -999.000,9, -999.000,9, -999.000,9
           NA,    P19C,    254,   1,-999.0,      21,  2,19930228,1133, -54.0087,  -86.3532,  5049,  908.800,    3.895,   34.283,2,   34.280,2,  220.900,2,  219.300,2,   33.600,2,   30.570,2,    0.010,2,    2.120,2,    1.506,2,    0.684,2, -999.000,9, -999.000,9, -999.000,9
           NA,    P19C,    254,   1,-999.0,      20,  2,19930228,1133, -54.0087,  -86.3532,  5049, 1009.600,    3.437,   34.304,2,   34.302,2,  214.200,2,  212.500,2,   41.100,2,   31.880,2,    0.010,2,    2.210,2,    1.305,2,    0.592,2, -999.000,9, -999.000,9, -999.000,9
           NA,    P19C,    254,   1,-999.0,      19,  2,19930228,1133, -54.0087,  -86.3532,  5049, 1210.000,    2.940,   34.382,2,   34.381,2,  195.300,2,  193.900,2,   55.400,2,   33.660,2,    0.010,2,    2.330,2,    0.699,2,    0.306,2, -999.000,9, -999.000,9, -999.000,9
           NA,    P19C,    254,   1,-999.0,      18,  2,19930228,1133, -54.0087,  -86.3532,  5049, 1411.100,    2.692,   34.481,2,   34.480,2,  175.200,2,  173.900,2,   69.700,2,   34.640,2,    0.010,2,    2.400,2,    0.271,2,    0.117,2, -999.000,9, -999.000,9, -999.000,9
           NA,    P19C,    254,   1,-999.0,      17,  2,19930228,1133, -54.0087,  -86.3532,  5049, 1613.200,    2.503,   34.558,2,   34.556,2,  169.600,2,  169.300,2,   78.600,2,   34.320,2,    0.010,2,    2.390,2,    0.148,2,    0.065,2, -999.000,9, -999.000,9, -999.000,9
           NA,    P19C,    254,   1,-999.0,      16,  2,19930228,1133, -54.0087,  -86.3532,  5049, 1815.700,    2.355,   34.619,2,   34.617,2,  164.600,2,  167.000,2,   86.400,2,   34.080,2,    0.000,2,    2.360,2,    0.072,2,    0.030,2, -999.000,9, -999.000,9, -999.000,9
           NA,    P19C,    254,   1,-999.0,      15,  2,19930228,1133, -54.0087,  -86.3532,  5049, 2121.300,    2.143,   34.673,2,   34.672,2,  168.000,2,  168.100,2,   97.200,2,   33.620,2,    0.000,2,    2.330,2,    0.009,2,    0.000,2, -999.000,9, -999.000,9, -999.000,9
           NA,    P19C,    254,   1,-999.0,      13,  2,19930228,1133, -54.0087,  -86.3532,  5049, 2421.100,    1.942,   34.695,2,   34.693,2,  170.200,2,  170.200,2,  105.700,2,   33.340,2,    0.000,2,    2.310,2,   -0.005,2,    0.000,2, -999.000,9, -999.000,9, -999.000,9
           NA,    P19C,    254,   1,-999.0,      14,  2,19930228,1133, -54.0087,  -86.3532,  5049, 2421.700,    1.944,   34.694,2,   34.693,2,  170.200,2,  170.200,2,  105.700,2,   33.390,2,    0.000,2,    2.310,2,    0.004,2,    0.000,2, -999.000,9, -999.000,9, -999.000,9
           NA,    P19C,    254,   1,-999.0,      12,  2,19930228,1133, -54.0087,  -86.3532,  5049, 2623.900,    1.826,   34.702,2,   34.700,2,  171.800,2,  172.600,2,  109.600,2,   33.300,2,    0.000,2,    2.300,2,   -0.006,2,    0.000,2, -999.000,9, -999.000,9, -999.000,9
           NA,    P19C,    254,   1,-999.0,      11,  2,19930228,1133, -54.0087,  -86.3532,  5049, 2827.800,    1.733,   34.712,2,   34.711,2,  177.600,2,  179.600,2,  108.800,2,   32.740,2,    0.000,2,    2.260,2, -999.000,9, -999.000,9, -999.000,9, -999.000,9, -999.000,9
           NA,    P19C,    254,   1,-999.0,      10,  2,19930228,1133, -54.0087,  -86.3532,  5049, 3031.300,    1.615,   34.718,2,   34.717,2,  187.300,2,  185.600,2,  109.600,2,   32.320,2,    0.000,2,    2.230,2, -999.000,9, -999.000,9, -999.000,9, -999.000,9, -999.000,9
           NA,    P19C,    254,   1,-999.0,       9,  2,19930228,1133, -54.0087,  -86.3532,  5049, 3233.400,    1.496,   34.720,2,   34.719,2,  191.000,2,  190.300,2,  111.100,2,   32.090,2,    0.000,2,    2.220,2, -999.000,9, -999.000,9, -999.000,9, -999.000,9, -999.000,9
           NA,    P19C,    254,   1,-999.0,       8,  2,19930228,1133, -54.0087,  -86.3532,  5049, 3440.300,    1.359,   34.721,2,   34.719,2,  196.500,2, -999.000,1,  114.000,2,   32.000,2,    0.000,2,    2.210,2, -999.000,9, -999.000,9, -999.000,9, -999.000,9, -999.000,9
           NA,    P19C,    254,   1,-999.0,       7,  2,19930228,1133, -54.0087,  -86.3532,  5049, 3643.900,    1.191,   34.717,2,   34.716,2,  199.400,2,  198.100,2,  118.500,2,   32.140,2,    0.000,2,    2.210,2, -999.000,9, -999.000,9, -999.000,9, -999.000,9, -999.000,9
           NA,    P19C,    254,   1,-999.0,       6,  2,19930228,1133, -54.0087,  -86.3532,  5049, 3847.800,    1.027,   34.714,2,   34.713,2,  202.500,2,  201.600,2,  123.400,2,   32.050,2,    0.000,2,    2.220,2, -999.000,9, -999.000,9, -999.000,9, -999.000,9, -999.000,9
           NA,    P19C,    254,   1,-999.0,       5,  2,19930228,1133, -54.0087,  -86.3532,  5049, 4104.300,    0.837,   34.710,2,   34.708,2,  206.900,2,  205.000,2,  129.300,2,   32.330,2,    0.000,2,    2.240,2, -999.000,9, -999.000,9, -999.000,9, -999.000,9, -999.000,9
           NA,    P19C,    254,   1,-999.0,       4,  2,19930228,1133, -54.0087,  -86.3532,  5049, 4361.600,    0.709,   34.708,2,   34.706,2,  208.600,2,  207.600,2,  133.400,2,   32.470,2,    0.000,2,    2.250,2,   -0.004,2,    0.000,2, -999.000,9, -999.000,9, -999.000,9
           NA,    P19C,    254,   1,-999.0,       3,  2,19930228,1133, -54.0087,  -86.3532,  5049, 4616.500,    0.654,   34.706,2,   34.704,2,  209.600,2,  209.100,2,  136.500,2,   32.610,2,    0.000,2,    2.250,2,   -0.014,2,    0.000,2, -999.000,9, -999.000,9, -999.000,9
           NA,    P19C,    254,   1,-999.0,       2,  2,19930228,1133, -54.0087,  -86.3532,  5049, 4869.500,    0.648,   34.706,2,   34.704,2,  208.800,2,  209.800,2,  136.900,2,   32.430,2,    0.000,2,    2.250,2,   -0.011,2,    0.000,2, -999.000,9, -999.000,9, -999.000,9
           NA,    P19C,    254,   1,-999.0,       1,  2,19930228,1133, -54.0087,  -86.3532,  5049, 5148.600,    0.665,   34.705,2,   34.705,2,  209.100,2,  210.000,2,  137.500,2,   32.610,2,    0.000,2,    2.250,2,   -0.011,2,    0.000,2, -999.000,9, -999.000,9, -999.000,9