BOTTLE,20215010JOAExport
EXPOCODE,SECT_ID,STNNBR,CASTNO,SAMPNO,BTLNBR,BTLNBR_FLAG_W,DATE,TIME,LATITUDE,LONGITUDE,DEPTH,CTDPRS,CTDTMP,CTDSAL,CTDSAL_FLAG_W,SALNTY,SALNTY_FLAG_W,CTDOXY,CTDOXY_FLAG_W,OXYGEN,OXYGEN_FLAG_W,SILCAT,SILCAT_FLAG_W,NITRAT,NITRAT_FLAG_W,NITRIT,NITRIT_FLAG_W,PHSPHT,PHSPHT_FLAG_W,CFC-11,CFC-11_FLAG_W,CFC-12,CFC-12_FLAG_W,SF6,SF6_FLAG_W,TCARBN,TCARBN_FLAG_W,ALKALI,ALKALI_FLAG_W
,,,,,,,,,,,,DB,ITS-90,PSS-78,,PSS-78,,UMOL/KG,,UMOL/KG,,UMOL/KG,,UMOL/KG,,UMOL/KG,,UMOL/KG,,PMOL/KG,,PMOL/KG,,PMOL/KG,,UMOL/KG,,UMOL/KG
           NA,    P17E,    203,   1,-999.0,       1,  2,19930109,0221, -53.7528,  -91.2948,  4768,    3.100,    7.936,   34.224,2,   34.224,2, -999.000,3,  288.500,2,    2.510,2,   14.880,2,    0.190,2,    1.120,2,    4.288,6,    2.078,6, -999.000,9, 2085.900,2, -999.000,9
           NA,    P17E,    203,   1,-999.0,       2,  2,19930109,0221, -53.7528,  -91.2948,  4768,   26.200,    7.925,   34.224,2,   34.224,2, -999.000,3,  290.400,2,    2.300,2,   14.930,2,    0.180,2,    1.120,2, -999.000,9, -999.000,9, -999.000,9, -999.000,9, -999.000,9
           NA,    P17E,    203,   1,-999.0,       3,  2,19930109,0221, -53.7528,  -91.2948,  4768,   56.400,    7.818,   34.231,2,   34.228,2, -999.000,3,  290.700,2,    2.290,2,   14.980,2,    0.180,2,    1.130,2,    4.325,2,    2.078,2, -999.000,9, -999.000,9, -999.000,9
           NA,    P17E,    203,   1,-999.0,       4,  2,19930109,0221, -53.7528,  -91.2948,  4768,   85.900,    6.057,   34.237,2,   34.236,2, -999.000,3,  294.500,2,    6.400,2,   18.180,2,    0.350,2,    1.370,2, -999.000,9, -999.000,9, -999.000,9, -999.000,9, -999.000,9
           NA,    P17E,    203,   1,-999.0,       5,  2,19930109,0221, -53.7528,  -91.2948,  4768,  116.400,    6.093,   34.250,2,   34.252,2,  291.000,2,  291.800,2,    6.570,2,   18.550,2,    0.420,2,    1.380,2,    4.499,2,    2.152,2, -999.000,9, -999.000,9, -999.000,9
           NA,    P17E,    203,   1,-999.0,       6,  2,19930109,0221, -53.7528,  -91.2948,  4768,  142.000,    6.129,   34.266,2,   34.266,2,  287.600,2,  290.000,2,    6.740,2,   18.910,2,    0.050,2,    1.370,2, -999.000,9, -999.000,9, -999.000,9, -999.000,9, -999.000,9
           NA,    P17E,    203,   1,-999.0,       7,  2,19930109,0221, -53.7528,  -91.2948,  4768,  176.600,    6.126,   34.268,2,   34.270,2,  284.100,2,  290.000,2,    6.530,2,   18.880,2,    0.020,2,    1.370,2,    4.401,2,    2.113,2, -999.000,9, -999.000,9, -999.000,9
           NA,    P17E,    203,   1,-999.0,       8,  2,19930109,0221, -53.7528,  -91.2948,  4768,  216.800,    6.046,   34.259,2,   34.261,2,  291.200,2,  291.600,2,    6.510,2,   18.930,2,    0.020,2,    1.370,2, -999.000,9, -999.000,9, -999.000,9, -999.000,9, -999.000,9
           NA,    P17E,    203,   1,-999.0,       9,  2,19930109,0221, -53.7528,  -91.2948,  4768,  266.900,    5.986,   34.255,2,   34.255,2,  291.300,2,  290.900,2,    6.490,2,   19.220,2,    0.010,2,    1.390,2,    4.414,2,    2.128,2, -999.000,9, -999.000,9, -999.000,9
           NA,    P17E,    203,   1,-999.0,      10,  2,19930109,0221, -53.7528,  -91.2948,  4768,  327.900,    5.839,   34.244,2,   34.245,2,  289.000,2,  290.600,2,    6.850,2,   19.620,2,    0.010,2,    1.420,2,    4.370,2,    2.094,2, -999.000,9, -999.000,9, -999.000,9
           NA,    P17E,    203,   1,-999.0,      11,  2,19930109,0221, -53.7528,  -91.2948,  4768,  417.600,    5.729,   34.243,2,   34.242,2,  284.600,2,  285.800,2,    7.950,2,   20.490,2,    0.010,2,    1.470,2,    4.204,2,    2.020,2, -999.000,9, -999.000,9, -999.000,9
           NA,    P17E,    203,   1,-999.0,      12,  2,19930109,0221, -53.7528,  -91.2948,  4768,  508.200,    5.494,   34.236,2,   34.237,2,  273.700,2,  277.200,2,   10.180,2,   22.300,2,    0.000,2,    1.580,2,    3.828,2,    1.821,2, -999.000,9, -999.000,9, -999.000,9
           NA,    P17E,    203,   1,-999.0,      13,  2,19930109,0221, -53.7528,  -91.2948,  4768,  583.400,    5.310,   34.239,2,   34.240,2,  259.000,2,  256.700,2,   13.900,2,   24.460,2,    0.000,2,    1.720,2,    3.089,2,    1.459,2, -999.000,9, -999.000,9, -999.000,9
           NA,    P17E,    203,   1,-999.0,      14,  2,19930109,0221, -53.7528,  -91.2948,  4768,  657.800,    5.055,   34.237,2,   34.237,2,  263.400,2,  263.200,2,   14.250,2,   24.800,2,    0.000,2,    1.740,2,    3.099,2,    1.456,2, -999.000,9, -999.000,9, -999.000,9
           NA,    P17E,    203,   1,-999.0,      15,  2,19930109,0221, -53.7528,  -91.2948,  4768,  731.100,    4.809,   34.239,2,   34.238,2,  252.400,2,  249.800,2,   18.150,2,   26.420,2,    0.000,2,    1.840,2,    2.674,2,    1.238,2, -999.000,9, -999.000,9, -999.000,9
           NA,    P17E,    203,   1,-999.0,      16,  2,19930109,0221, -53.7528,  -91.2948,  4768,  804.000,    4.638,   34.260,2,   34.260,2,  239.900,2,  233.300,2,   23.170,2,   27.890,2,    0.000,2,    1.940,2,    2.121,2,    0.988,2, -999.000,9, -999.000,9, -999.000,9
           NA,    P17E,    203,   1,-999.0,      17,  2,19930109,0221, -53.7528,  -91.2948,  4768,  903.500,    4.111,   34.266,2,   34.265,2,  226.800,2,  227.000,2,   28.740,2,   29.470,2,    0.000,2,    2.050,2,    1.727,2,    0.795,2, -999.000,9, -999.000,9, -999.000,9
           NA,    P17E,    203,   1,-999.0,      18,  2,19930109,0221, -53.7528,  -91.2948,  4768, 1060.500,    3.473,   34.302,2,   34.301,2,  212.900,2,  213.100,2,   39.900,2,   31.500,2,    0.000,2,    2.180,2,    1.257,2,    0.578,2, -999.000,9, -999.000,9, -999.000,9
           NA,    P17E,    203,   1,-999.0,      19,  2,19930109,0221, -53.7528,  -91.2948,  4768, 1211.400,    3.091,   34.368,2,   34.366,2,  197.900,2,  195.800,2,   51.440,2,   32.980,2,    0.000,2,    2.290,2,    0.699,2,    0.327,2, -999.000,9, -999.000,9, -999.000,9
           NA,    P17E,    203,   1,-999.0,      20,  2,19930109,0221, -53.7528,  -91.2948,  4768, 1365.000,    2.809,   34.429,2,   34.425,2,  187.300,2,  185.600,2,   60.920,2,   33.670,2,    0.000,2,    2.340,2,    0.504,2,    0.230,2, -999.000,9, -999.000,9, -999.000,9
           NA,    P17E,    203,   1,-999.0,      21,  2,19930109,0221, -53.7528,  -91.2948,  4768, 1516.100,    2.613,   34.500,2,   34.499,2,  177.200,2,  175.600,2,   70.410,2,   34.110,2,    0.000,2,    2.370,2,    0.300,2,    0.136,2, -999.000,9, -999.000,9, -999.000,9
           NA,    P17E,    203,   1,-999.0,      22,  2,19930109,0221, -53.7528,  -91.2948,  4768, 1717.800,    2.465,   34.580,2,   34.576,2,  169.400,2,  167.600,2,   80.100,2,   34.000,2,    0.000,2,    2.370,2,    0.109,2,    0.055,2, -999.000,9, -999.000,9, -999.000,9
           NA,    P17E,    203,   1,-999.0,      23,  2,19930109,0221, -53.7528,  -91.2948,  4768, 1918.600,    2.330,   34.633,2,   34.632,2,  168.400,2,  168.500,2,   86.060,2,   33.490,2,    0.000,2,    2.330,2,    0.063,2,    0.031,2, -999.000,9, -999.000,9, -999.000,9
           NA,    P17E,    203,   1,-999.0,      24,  2,19930109,0221, -53.7528,  -91.2948,  4768, 2116.300,    2.205,   34.667,2,   34.666,2,  169.200,2,  169.200,2,   92.030,2,   33.080,2,    0.000,2,    2.310,2,    0.026,2,    0.014,2, -999.000,9, -999.000,9, -999.000,9
           NA,    P17E,    203,   1,-999.0,      25,  2,19930109,0221, -53.7528,  -91.2948,  4768, 2309.100,    2.091,   34.691,2,   34.690,2,  173.100,2,  172.900,2,   95.370,2,   32.570,2,    0.000,2,    2.270,2,    0.018,2,    0.008,2, -999.000,9, -999.000,9, -999.000,9
           NA,    P17E,    203,   1,-999.0,      26,  2,19930109,0221, -53.7528,  -91.2948,  4768, 2501.300,    1.952,   34.703,2,   34.702,2,  172.400,2,  174.100,2,  101.370,2,   32.510,2,    0.000,2,    2.270,2,    0.009,2,    0.005,2, -999.000,9, -999.000,9, -999.000,9
           NA,    P17E,    203,   1,-999.0,      27,  2,19930109,0221, -53.7528,  -91.2948,  4768, 2684.000,    1.840,   34.711,2,   34.709,2,  176.500,2,  177.800,2,  103.780,2,   32.250,2,    0.000,2,    2.260,2,    0.010,2,    0.004,2, -999.000,9, -999.000,9, -999.000,9
           NA,    P17E,    203,   1,-999.0,      28,  2,19930109,0221, -53.7528,  -91.2948,  4768, 2881.100,    1.710,   34.714,2,   34.714,2,  179.800,2,  181.100,2,  107.330,2,   32.190,2,    0.000,2,    2.250,2, -999.000,9, -999.000,9, -999.000,9, -999.000,9, -999.000,9
           NA,    P17E,    203,   1,-999.0,      29,  2,19930109,0221, -53.7528,  -91.2948,  4768, 3164.200,    1.570,   34.719,2,   34.718,2,  185.700,2,  186.600,2,  109.940,2,   31.990,2,    0.000,2,    2.230,2,    0.005,6,    0.003,6, -999.000,9, -999.000,9, -999.000,9
           NA,    P17E,    203,   1,-999.0,      30,  2,19930109,0221, -53.7528,  -91.2948,  4768, 3436.700,    1.391,   34.721,2,   34.720,2,  192.900,2,  193.200,2,  112.550,2,   31.780,2,    0.000,2,    2.210,2, -999.000,5,    0.004,2, -999.000,9, -999.000,9, -999.000,9
           NA,    P17E,    203,   1,-999.0,      31,  2,19930109,0221, -53.7528,  -91.2948,  4768, 3696.500,    1.169,   34.717,2,   34.716,2,  197.600,2,  198.200,2,  118.440,2,   31.820,2,    0.000,2,    2.220,2, -999.000,9, -999.000,9, -999.000,9, -999.000,9, -999.000,9
           NA,    P17E,    203,   1,-999.0,      32,  2,19930109,0221, -53.7528,  -91.2948,  4768, 3956.300,    0.951,   34.713,2,   34.712,2,  201.700,2,  202.300,2,  124.750,2,   32.060,2,    0.000,2,    2.220,2,    0.004,2,    0.003,2, -999.000,9, -999.000,9, -999.000,9
           NA,    P17E,    203,   1,-999.0,      33,  2,19930109,0221, -53.7528,  -91.2948,  4768, 4214.600,    0.767,   34.709,2,   34.709,2,  205.200,2,  206.100,2,  130.910,2,   32.200,2,    0.000,2,    2.230,2,    0.000,2,   -0.001,2, -999.000,9, -999.000,9, -999.000,9
           NA,    P17E,    203,   1,-999.0,      34,  2,19930109,0221, -53.7528,  -91.2948,  4768, 4468.100,    0.667,   34.708,2,   34.707,2,  208.700,2,  208.500,2,  134.570,2,   32.340,2,    0.000,2,    2.240,2, -999.000,9, -999.000,9, -999.000,9, -999.000,9, -999.000,9
           NA,    P17E,    203,   1,-999.0,      35,  2,19930109,0221, -53.7528,  -91.2948,  4768, 4673.700,    0.648,   34.706,2,   34.706,2,  211.000,2,  209.100,2,  135.480,2,   32.380,2,    0.000,2,    2.250,2,    0.004,6,    0.001,6, -999.000,9, -999.000,9, -999.000,9
           NA,    P17E,    203,   1,-999.0,      36,  2,19930109,0221, -53.7528,  -91.2948,  4768, 4861.400,    0.649,   34.706,2,   34.705,2,  209.500,2,  209.500,2,  136.600,2,   32.320,2,    0.000,2,    2.240,2,    0.005,6,    0.003,6, -999.000,9, -999.000,9, -999.000,9