BOTTLE,20215010JOAExport
EXPOCODE,SECT_ID,STNNBR,CASTNO,SAMPNO,BTLNBR,BTLNBR_FLAG_W,DATE,TIME,LATITUDE,LONGITUDE,DEPTH,CTDPRS,CTDTMP,CTDSAL,CTDSAL_FLAG_W,SALNTY,SALNTY_FLAG_W,CTDOXY,CTDOXY_FLAG_W,OXYGEN,OXYGEN_FLAG_W,SILCAT,SILCAT_FLAG_W,NITRAT,NITRAT_FLAG_W,NITRIT,NITRIT_FLAG_W,PHSPHT,PHSPHT_FLAG_W,CFC-11,CFC-11_FLAG_W,CFC-12,CFC-12_FLAG_W,SF6,SF6_FLAG_W,TCARBN,TCARBN_FLAG_W,ALKALI,ALKALI_FLAG_W
,,,,,,,,,,,,DB,ITS-90,PSS-78,,PSS-78,,UMOL/KG,,UMOL/KG,,UMOL/KG,,UMOL/KG,,UMOL/KG,,UMOL/KG,,PMOL/KG,,PMOL/KG,,PMOL/KG,,UMOL/KG,,UMOL/KG
           NA,    P17E,    183,   1,-999.0,       1,  2,19930102,1529, -52.1433, -111.8242,  3603,    3.900,    7.869,   34.332,2,   34.336,2, -999.000,3,  291.300,2,    2.220,2,   13.790,2,    0.190,2,    1.090,2,    4.216,2,    2.055,2, -999.000,9, 2088.100,2, -999.000,9
           NA,    P17E,    183,   1,-999.0,       2,  2,19930102,1529, -52.1433, -111.8242,  3603,   26.700,    7.870,   34.332,2,   34.333,2, -999.000,3,  291.800,2,    2.210,2,   13.790,2,    0.190,2,    1.090,2, -999.000,9, -999.000,9, -999.000,9, -999.000,9, -999.000,9
           NA,    P17E,    183,   1,-999.0,       3,  2,19930102,1529, -52.1433, -111.8242,  3603,   55.300,    7.865,   34.332,2,   34.332,2, -999.000,3,  291.700,2,    1.990,2,   13.790,2,    0.190,2,    1.090,2,    4.223,2,    2.060,2, -999.000,9, -999.000,9, -999.000,9
           NA,    P17E,    183,   1,-999.0,       4,  2,19930102,1529, -52.1433, -111.8242,  3603,   80.100,    7.831,   34.333,2,   34.332,2, -999.000,3,  292.200,2,    1.970,2,   13.900,2,    0.190,2,    1.100,2, -999.000,9, -999.000,9, -999.000,9, -999.000,9, -999.000,9
           NA,    P17E,    183,   1,-999.0,       5,  2,19930102,1529, -52.1433, -111.8242,  3603,  106.100,    7.428,   34.331,2,   34.332,2,  302.400,2,  292.300,2,    1.960,2,   14.680,2,    0.190,2,    1.170,2,    4.250,2,    2.076,6, -999.000,9, -999.000,9, -999.000,9
           NA,    P17E,    183,   1,-999.0,       6,  2,19930102,1529, -52.1433, -111.8242,  3603,  129.700,    7.318,   34.331,2,   34.330,2,  288.800,2,  291.300,2,    1.950,2,   14.800,2,    0.180,2,    1.170,2, -999.000,9, -999.000,9, -999.000,9, -999.000,9, -999.000,9
           NA,    P17E,    183,   1,-999.0,       7,  2,19930102,1529, -52.1433, -111.8242,  3603,  156.000,    7.184,   34.364,2,   34.358,2,  282.300,2,  281.400,2,    4.680,2,   16.660,2,    0.170,2,    1.270,2,    4.098,2,    1.993,2, -999.000,9, -999.000,9, -999.000,9
           NA,    P17E,    183,   1,-999.0,       8,  2,19930102,1529, -52.1433, -111.8242,  3603,  205.900,    6.901,   34.354,2,   34.354,2,  279.500,2,  279.800,2,    5.300,2,   17.900,2,    0.050,2,    1.320,2, -999.000,9, -999.000,9, -999.000,9, -999.000,9, -999.000,9
           NA,    P17E,    183,   1,-999.0,       9,  2,19930102,1529, -52.1433, -111.8242,  3603,  255.000,    6.789,   34.343,2,   34.343,2,  276.900,2,  280.700,2,    6.130,2,   18.030,2,    0.030,2,    1.330,2,    4.046,2,    1.965,2, -999.000,9, -999.000,9, -999.000,9
           NA,    P17E,    183,   1,-999.0,      10,  2,19930102,1529, -52.1433, -111.8242,  3603,  304.000,    6.687,   34.334,2,   34.334,2,  273.600,2,  283.700,2,    6.120,2,   18.100,2,    0.020,2,    1.330,2, -999.000,9, -999.000,9, -999.000,9, -999.000,9, -999.000,9
           NA,    P17E,    183,   1,-999.0,      11,  2,19930102,1529, -52.1433, -111.8242,  3603,  352.800,    6.633,   34.339,2,   34.340,2,  273.800,2,  275.400,2,    7.370,2,   19.390,2,    0.020,2,    1.410,2,    3.794,2,    1.852,2, -999.000,9, -999.000,9, -999.000,9
           NA,    P17E,    183,   1,-999.0,      12,  2,19930102,1529, -52.1433, -111.8242,  3603,  403.100,    6.532,   34.331,2,   34.332,2,  273.100,2,  275.500,2,    7.780,2,   19.560,2,    0.020,2,    1.430,2,    3.784,2,    1.821,2, -999.000,9, -999.000,9, -999.000,9
           NA,    P17E,    183,   1,-999.0,      13,  2,19930102,1529, -52.1433, -111.8242,  3603,  461.600,    6.311,   34.310,2,   34.310,2,  268.500,2,  269.200,2,    8.830,2,   20.960,2,    0.010,2,    1.510,2,    3.529,2,    1.700,2, -999.000,9, -999.000,9, -999.000,9
           NA,    P17E,    183,   1,-999.0,      14,  2,19930102,1529, -52.1433, -111.8242,  3603,  526.200,    6.073,   34.292,2,   34.293,2,  265.700,2,  263.600,2,   10.080,2,   22.260,2,    0.010,2,    1.580,2,    3.307,2,    1.598,2, -999.000,9, -999.000,9, -999.000,9
           NA,    P17E,    183,   1,-999.0,      15,  2,19930102,1529, -52.1433, -111.8242,  3603,  601.800,    5.762,   34.277,2,   34.277,2,  254.900,2,  254.900,2,   12.810,2,   23.780,2,    0.010,2,    1.680,2,    2.930,2,    1.408,2, -999.000,9, -999.000,9, -999.000,9
           NA,    P17E,    183,   1,-999.0,      16,  2,19930102,1529, -52.1433, -111.8242,  3603,  676.600,    5.513,   34.279,2,   34.279,2,  244.700,2,  245.000,2,   15.750,2,   25.190,2,    0.010,2,    1.770,2,    2.478,2,    1.163,2, -999.000,9, -999.000,9, -999.000,9
           NA,    P17E,    183,   1,-999.0,      17,  2,19930102,1529, -52.1433, -111.8242,  3603,  749.900,    5.232,   34.283,2,   34.284,2,  236.400,2,  235.300,2,   19.320,2,   26.550,2,    0.010,2,    1.860,2,    2.105,2,    0.988,2, -999.000,9, -999.000,9, -999.000,9
           NA,    P17E,    183,   1,-999.0,      18,  2,19930102,1529, -52.1433, -111.8242,  3603,  823.600,    4.837,   34.287,2,   34.287,2,  227.200,2,  226.600,2,   23.950,2,   28.140,2,    0.010,2,    1.960,2,    1.889,2,    0.880,2, -999.000,9, -999.000,9, -999.000,9
           NA,    P17E,    183,   1,-999.0,      19,  2,19930102,1529, -52.1433, -111.8242,  3603,  897.100,    4.417,   34.299,2,   34.298,2,  221.900,2,  218.500,2,   29.630,2,   29.450,2,    0.010,2,    2.060,2,    1.528,2,    0.708,2, -999.000,9, -999.000,9, -999.000,9
           NA,    P17E,    183,   1,-999.0,      20,  2,19930102,1529, -52.1433, -111.8242,  3603,  996.600,    3.923,   34.308,2,   34.307,2,  210.500,2,  213.600,2,   35.950,2,   30.820,2,    0.010,2,    2.160,2,    1.360,2,    0.626,2, -999.000,9, -999.000,9, -999.000,9
           NA,    P17E,    183,   1,-999.0,      21,  2,19930102,1529, -52.1433, -111.8242,  3603, 1192.200,    3.202,   34.362,2,   34.360,2,  195.400,2,  199.200,2,   49.850,2,   32.820,2,    0.000,2,    2.300,2,    0.869,2,    0.399,2, -999.000,9, -999.000,9, -999.000,9
           NA,    P17E,    183,   1,-999.0,      22,  2,19930102,1529, -52.1433, -111.8242,  3603, 1391.100,    2.792,   34.449,2,   34.449,2,  181.600,2,  183.600,2,   64.190,2,   33.910,2,    0.000,2,    2.370,2,    0.490,2,    0.232,2, -999.000,9, -999.000,9, -999.000,9
           NA,    P17E,    183,   1,-999.0,      23,  2,19930102,1529, -52.1433, -111.8242,  3603, 1540.300,    2.598,   34.515,2,   34.515,2,  175.400,2,  175.900,2,   72.420,2,   34.020,2,    0.000,2,    2.390,2,    0.309,2,    0.153,2, -999.000,9, -999.000,9, -999.000,9
           NA,    P17E,    183,   1,-999.0,      24,  2,19930102,1529, -52.1433, -111.8242,  3603, 1693.000,    2.455,   34.579,2,   34.578,2,  172.300,2,  171.900,2,   78.950,2,   33.970,2,    0.000,2,    2.380,2,    0.174,2,    0.080,2, -999.000,9, -999.000,9, -999.000,9
           NA,    P17E,    183,   1,-999.0,      25,  2,19930102,1529, -52.1433, -111.8242,  3603, 1841.700,    2.362,   34.621,2,   34.622,2,  171.200,2,  171.100,2,   83.590,2,   33.620,2,    0.000,2,    2.350,2,    0.112,2,    0.050,2, -999.000,9, -999.000,9, -999.000,9
           NA,    P17E,    183,   1,-999.0,      27,  2,19930102,1529, -52.1433, -111.8242,  3603, 1990.000,    2.267,   34.657,2,   34.656,2,  171.900,2,  172.000,2,   87.360,2,   33.220,2,    0.000,2,    2.310,2, -999.000,9, -999.000,9, -999.000,9, -999.000,9, -999.000,9
           NA,    P17E,    183,   1,-999.0,      26,  2,19930102,1529, -52.1433, -111.8242,  3603, 1990.100,    2.271,   34.656,2,   34.656,2,  171.900,2,  172.300,2,   88.020,2,   33.220,2,    0.000,2,    2.320,2,    0.072,2,    0.039,2, -999.000,9, -999.000,9, -999.000,9
           NA,    P17E,    183,   1,-999.0,      28,  2,19930102,1529, -52.1433, -111.8242,  3603, 2187.100,    2.146,   34.687,2,   34.687,2,  173.500,2,  174.700,2,   92.430,2,   32.770,2,    0.000,2,    2.290,2,    0.037,2,    0.019,2, -999.000,9, -999.000,9, -999.000,9
           NA,    P17E,    183,   1,-999.0,      29,  2,19930102,1529, -52.1433, -111.8242,  3603, 2385.500,    2.008,   34.701,2,   34.702,2,  175.500,2,  176.400,2,   99.010,2,   32.710,2,    0.000,2,    2.290,2,    0.020,2,    0.010,2, -999.000,9, -999.000,9, -999.000,9
           NA,    P17E,    183,   1,-999.0,      30,  2,19930102,1529, -52.1433, -111.8242,  3603, 2589.700,    1.822,   34.703,2, -999.000,4,  176.400,2,  176.300,2,  107.950,2,   32.940,2,    0.000,2,    2.300,2, -999.000,3, -999.000,3, -999.000,9, -999.000,9, -999.000,9
           NA,    P17E,    183,   1,-999.0,      31,  2,19930102,1529, -52.1433, -111.8242,  3603, 2793.800,    1.672,   34.708,2,   34.708,2,  179.200,2,  179.800,2,  112.220,2,   32.830,2,    0.000,2,    2.300,2, -999.000,9, -999.000,9, -999.000,9, -999.000,9, -999.000,9
           NA,    P17E,    183,   1,-999.0,      32,  2,19930102,1529, -52.1433, -111.8242,  3603, 2998.700,    1.613,   34.711,2,   34.712,2,  182.100,2,  183.100,2,  113.260,2,   32.770,2,    0.000,2,    2.280,2,    0.005,2,    0.003,2, -999.000,9, -999.000,9, -999.000,9
           NA,    P17E,    183,   1,-999.0,      33,  2,19930102,1529, -52.1433, -111.8242,  3603, 3204.000,    1.573,   34.715,2,   34.715,2,  185.200,2,  186.500,2,  112.810,2,   32.490,2,    0.000,2,    2.260,2,    0.010,2,    0.007,2, -999.000,9, -999.000,9, -999.000,9
           NA,    P17E,    183,   1,-999.0,      34,  2,19930102,1529, -52.1433, -111.8242,  3603, 3409.200,    1.501,   34.717,2,   34.717,2,  189.000,2,  189.800,2,  114.070,2,   32.320,2,    0.000,2,    2.250,2, -999.000,5,    0.007,2, -999.000,9, -999.000,9, -999.000,9
           NA,    P17E,    183,   1,-999.0,      35,  2,19930102,1529, -52.1433, -111.8242,  3603, 3508.300,    1.440,   34.717,2,   34.717,2,  190.900,2,  191.900,2,  115.550,2,   32.320,2,    0.000,2,    2.250,2,    0.009,2,    0.006,2, -999.000,9, -999.000,9, -999.000,9
           NA,    P17E,    183,   1,-999.0,      36,  2,19930102,1529, -52.1433, -111.8242,  3603, 3634.400,    1.399,   34.718,2,   34.718,2,  192.300,2,  192.600,2,  117.250,2,   32.320,2,    0.000,2,    2.260,2,    0.012,2,    0.004,2, -999.000,9, -999.000,9, -999.000,9