BOTTLE,20215010JOAExport
EXPOCODE,SECT_ID,STNNBR,CASTNO,SAMPNO,BTLNBR,BTLNBR_FLAG_W,DATE,TIME,LATITUDE,LONGITUDE,DEPTH,CTDPRS,CTDTMP,CTDSAL,CTDSAL_FLAG_W,SALNTY,SALNTY_FLAG_W,CTDOXY,CTDOXY_FLAG_W,OXYGEN,OXYGEN_FLAG_W,SILCAT,SILCAT_FLAG_W,NITRAT,NITRAT_FLAG_W,NITRIT,NITRIT_FLAG_W,PHSPHT,PHSPHT_FLAG_W,CFC-11,CFC-11_FLAG_W,CFC-12,CFC-12_FLAG_W,SF6,SF6_FLAG_W,TCARBN,TCARBN_FLAG_W,ALKALI,ALKALI_FLAG_W
,,,,,,,,,,,,DB,ITS-90,PSS-78,,PSS-78,,UMOL/KG,,UMOL/KG,,UMOL/KG,,UMOL/KG,,UMOL/KG,,UMOL/KG,,PMOL/KG,,PMOL/KG,,PMOL/KG,,UMOL/KG,,UMOL/KG
           NA,    P19C,    252,   1,-999.0,      36,  2,19930227,2254, -54.0070,  -84.7665,  5030,    3.800,    9.055,   34.041,2,   34.042,2,  286.500,2,  285.200,2,    1.800,2,   16.260,2,    0.280,2,    1.220,2,    4.061,2,    1.965,2, -999.000,9, 2081.400,2, -999.000,9
           NA,    P19C,    252,   1,-999.0,      35,  2,19930227,2254, -54.0070,  -84.7665,  5030,   39.800,    8.694,   34.051,2,   34.055,2,  287.300,2,  286.200,2,    1.800,2,   16.320,2,    0.260,2,    1.220,2, -999.000,9, -999.000,9, -999.000,9, -999.000,9, -999.000,9
           NA,    P19C,    252,   1,-999.0,      68,  2,19930227,2254, -54.0070,  -84.7665,  5030,   58.500,    8.533,   34.089,2,   34.089,2,  285.700,2,  285.700,2,    1.800,2,   16.070,2,    0.250,2,    1.230,2,    4.025,2,    1.946,2, -999.000,9, -999.000,9, -999.000,9
           NA,    P19C,    252,   1,-999.0,      33,  2,19930227,2254, -54.0070,  -84.7665,  5030,   85.600,    5.948,   34.119,2,   34.120,2,  305.900,2,  300.600,2,    3.300,2,   18.930,2,    0.250,2,    1.430,2,    4.478,2,    2.117,2, -999.000,9, -999.000,9, -999.000,9
           NA,    P19C,    252,   1,-999.0,      32,  2,19930227,2254, -54.0070,  -84.7665,  5030,  128.800,    5.680,   34.143,2,   34.144,2,  287.500,2,  290.700,2,    6.500,2,   20.380,2,    0.260,2,    1.480,2, -999.000,9, -999.000,9, -999.000,9, -999.000,9, -999.000,9
           NA,    P19C,    252,   1,-999.0,      31,  2,19930227,2254, -54.0070,  -84.7665,  5030,  168.400,    5.495,   34.171,2,   34.174,2,  291.900,2,  292.400,2,    7.100,2,   20.680,2,    0.090,2,    1.480,2,    4.548,2,    2.149,2, -999.000,9, -999.000,9, -999.000,9
           NA,    P19C,    252,   1,-999.0,      30,  2,19930227,2254, -54.0070,  -84.7665,  5030,  208.200,    5.441,   34.186,2,   34.188,2,  291.600,2,  292.000,2,    7.400,2,   20.800,2,    0.020,2,    1.490,2, -999.000,9, -999.000,9, -999.000,9, -999.000,9, -999.000,9
           NA,    P19C,    252,   1,-999.0,      29,  2,19930227,2254, -54.0070,  -84.7665,  5030,  257.700,    5.388,   34.203,2,   34.204,2,  284.000,2,  286.400,2,    7.900,2,   21.560,2,    0.010,2,    1.520,2,    3.871,2,    1.825,2, -999.000,9, -999.000,9, -999.000,9
           NA,    P19C,    252,   1,-999.0,      28,  2,19930227,2254, -54.0070,  -84.7665,  5030,  306.500,    5.402,   34.223,2,   34.220,2,  279.100,2,  280.500,2,    9.400,2,   22.360,2,    0.010,2,    1.580,2, -999.000,9, -999.000,9, -999.000,9, -999.000,9, -999.000,9
           NA,    P19C,    252,   1,-999.0,      27,  2,19930227,2254, -54.0070,  -84.7665,  5030,  357.800,    5.306,   34.225,2,   34.226,2,  274.400,2,  278.000,2,    9.800,2,   22.940,2,    0.010,2,    1.610,2,    3.789,2,    1.794,2, -999.000,9, -999.000,9, -999.000,9
           NA,    P19C,    252,   1,-999.0,      26,  2,19930227,2254, -54.0070,  -84.7665,  5030,  407.200,    5.241,   34.228,2,   34.229,2,  274.600,2,  276.000,2,   10.500,2,   23.080,2,    0.010,2,    1.630,2,    3.666,2,    1.727,2, -999.000,9, -999.000,9, -999.000,9
           NA,    P19C,    252,   1,-999.0,      25,  2,19930227,2254, -54.0070,  -84.7665,  5030,  506.700,    5.045,   34.226,2,   34.227,2,  272.900,2,  274.400,2,   11.600,2,   23.890,2,    0.000,2,    1.670,2,    3.526,2,    1.642,2, -999.000,9, -999.000,9, -999.000,9
           NA,    P19C,    252,   1,-999.0,      24,  2,19930227,2254, -54.0070,  -84.7665,  5030,  605.300,    4.844,   34.229,2,   34.231,2,  265.500,2,  265.000,2,   14.200,2,   25.220,2,    0.000,2,    1.760,2,    3.008,2,    1.398,2, -999.000,9, -999.000,9, -999.000,9
           NA,    P19C,    252,   1,-999.0,      23,  2,19930227,2254, -54.0070,  -84.7665,  5030,  705.400,    4.504,   34.226,2,   34.226,2,  258.700,2,  255.200,2,   18.200,2,   26.740,2,    0.000,2,    1.860,2,    2.642,2,    1.210,2, -999.000,9, -999.000,9, -999.000,9
           NA,    P19C,    252,   1,-999.0,      22,  2,19930227,2254, -54.0070,  -84.7665,  5030,  805.600,    4.212,   34.243,2,   34.243,2,  234.500,2,  238.200,2,   24.100,2,   28.680,2,    0.000,2,    1.990,2,    1.900,2,    0.856,2, -999.000,9, -999.000,9, -999.000,9
           NA,    P19C,    252,   1,-999.0,      21,  2,19930227,2254, -54.0070,  -84.7665,  5030,  904.100,    3.860,   34.269,2,   34.266,2,  224.000,2,  222.100,2,   31.500,2,   30.390,2,    0.000,2,    2.120,2,    1.393,2,    0.622,2, -999.000,9, -999.000,9, -999.000,9
           NA,    P19C,    252,   1,-999.0,      20,  2,19930227,2254, -54.0070,  -84.7665,  5030, 1003.100,    3.488,   34.304,2,   34.303,2,  210.200,2,  208.800,2,   40.100,2,   31.890,2,    0.000,2,    2.220,2,    0.989,2,    0.449,2, -999.000,9, -999.000,9, -999.000,9
           NA,    P19C,    252,   1,-999.0,      19,  2,19930227,2254, -54.0070,  -84.7665,  5030, 1152.100,    3.146,   34.370,2,   34.370,2,  193.900,2,  190.600,2,   52.100,2,   33.400,2,    0.000,2,    2.330,2,    0.491,2,    0.217,2, -999.000,9, -999.000,9, -999.000,9
           NA,    P19C,    252,   1,-999.0,      18,  2,19930227,2254, -54.0070,  -84.7665,  5030, 1355.300,    2.830,   34.460,2,   34.459,2,  173.700,2,  173.800,2,   66.300,2,   34.500,2,    0.000,2,    2.410,2,    0.212,2,    0.100,2, -999.000,9, -999.000,9, -999.000,9
           NA,    P19C,    252,   1,-999.0,      17,  2,19930227,2254, -54.0070,  -84.7665,  5030, 1557.900,    2.614,   34.539,2,   34.538,2,  163.100,2,  163.100,2,   78.300,2,   34.780,2,    0.000,2,    2.430,2,    0.086,2,    0.037,2, -999.000,9, -999.000,9, -999.000,9
           NA,    P19C,    252,   1,-999.0,      16,  2,19930227,2254, -54.0070,  -84.7665,  5030, 1762.800,    2.446,   34.595,2,   34.594,2,  158.900,2,  160.900,2,   86.500,2,   34.410,2,    0.000,2,    2.410,2,    0.030,2,    0.000,2, -999.000,9, -999.000,9, -999.000,9
           NA,    P19C,    252,   1,-999.0,      15,  2,19930227,2254, -54.0070,  -84.7665,  5030, 1966.900,    2.296,   34.636,2,   34.634,2,  162.600,2,  162.300,2,   92.400,2,   34.090,2,    0.000,2,    2.380,2,    0.008,2,    0.000,2, -999.000,9, -999.000,9, -999.000,9
           NA,    P19C,    252,   1,-999.0,      14,  2,19930227,2254, -54.0070,  -84.7665,  5030, 2171.700,    2.168,   34.664,2,   34.664,2,  165.500,2,  165.100,2,   97.500,2,   33.680,2,    0.000,2,    2.350,2,    0.000,2,    0.000,2, -999.000,9, -999.000,9, -999.000,9
           NA,    P19C,    252,   1,-999.0,      13,  2,19930227,2254, -54.0070,  -84.7665,  5030, 2375.800,    2.042,   34.685,2,   34.685,2,  168.400,2,  168.200,2,  101.500,2,   33.370,2,    0.000,2,    2.330,2,   -0.001,2,    0.000,2, -999.000,9, -999.000,9, -999.000,9
           NA,    P19C,    252,   1,-999.0,      12,  2,19930227,2254, -54.0070,  -84.7665,  5030, 2590.200,    1.921,   34.698,2,   34.699,2,  172.300,2,  171.700,2,  105.000,2,   33.100,2,    0.000,2,    2.300,2, -999.000,9, -999.000,9, -999.000,9, -999.000,9, -999.000,9
           NA,    P19C,    252,   1,-999.0,      11,  2,19930227,2254, -54.0070,  -84.7665,  5030, 2732.900,    1.844,   34.701,2,   34.700,2,  171.200,2,  172.500,2,  108.700,2,   33.190,2,    0.000,2,    2.310,2, -999.000,9, -999.000,9, -999.000,9, -999.000,9, -999.000,9
           NA,    P19C,    252,   1,-999.0,      10,  2,19930227,2254, -54.0070,  -84.7665,  5030, 2937.800,    1.735,   34.709,2,   34.709,2,  179.100,2,  178.700,2,  108.900,2,   32.740,2,    0.000,2,    2.270,2, -999.000,9, -999.000,9, -999.000,9, -999.000,9, -999.000,9
           NA,    P19C,    252,   1,-999.0,       9,  2,19930227,2254, -54.0070,  -84.7665,  5030, 3193.200,    1.612,   34.716,2,   34.715,2,  183.800,2,  184.700,2,  110.300,2,   32.420,2,    0.000,2,    2.250,2, -999.000,9, -999.000,9, -999.000,9, -999.000,9, -999.000,9
           NA,    P19C,    252,   1,-999.0,       8,  2,19930227,2254, -54.0070,  -84.7665,  5030, 3449.500,    1.410,   34.718,2,   34.718,2,  191.900,2,  191.800,2,  113.500,2,   32.060,2,    0.000,2,    2.230,2, -999.000,9, -999.000,9, -999.000,9, -999.000,9, -999.000,9
           NA,    P19C,    252,   1,-999.0,       7,  2,19930227,2254, -54.0070,  -84.7665,  5030, 3705.500,    1.209,   34.717,2,   34.717,2,  197.100,2,  197.800,2,  118.100,2,   32.070,2,    0.000,2,    2.210,2, -999.000,9, -999.000,9, -999.000,9, -999.000,9, -999.000,9
           NA,    P19C,    252,   1,-999.0,       6,  2,19930227,2254, -54.0070,  -84.7665,  5030, 3961.600,    0.986,   34.713,2,   34.713,2,  202.300,2,  202.000,2,  124.800,2,   32.250,2,    0.000,2,    2.230,2, -999.000,9, -999.000,9, -999.000,9, -999.000,9, -999.000,9
           NA,    P19C,    252,   1,-999.0,       5,  2,19930227,2254, -54.0070,  -84.7665,  5030, 4217.700,    0.821,   34.710,2,   34.710,2,  205.400,2,  205.300,2,  129.700,2,   32.350,2,    0.000,2,    2.240,2,   -0.009,2,    0.000,2, -999.000,9, -999.000,9, -999.000,9
           NA,    P19C,    252,   1,-999.0,       4,  2,19930227,2254, -54.0070,  -84.7665,  5030, 4372.900,    0.752,   34.708,2,   34.708,2,  206.700,2,  207.000,2,  132.500,2,   32.440,2,    0.000,2,    2.240,2, -999.000,5, -999.000,5, -999.000,9, -999.000,9, -999.000,9
           NA,    P19C,    252,   1,-999.0,       3,  2,19930227,2254, -54.0070,  -84.7665,  5030, 4629.100,    0.681,   34.707,2,   34.707,2,  209.000,2,  208.700,2,  135.000,2,   32.540,2,    0.000,2,    2.240,2,   -0.014,2,    0.000,2, -999.000,9, -999.000,9, -999.000,9
           NA,    P19C,    252,   1,-999.0,       2,  2,19930227,2254, -54.0070,  -84.7665,  5030, 4886.800,    0.665,   34.705,2,   34.706,2,  209.400,2,  209.700,2,  136.100,2,   32.450,2,    0.000,2,    2.250,2, -999.000,4,    0.000,2, -999.000,9, -999.000,9, -999.000,9
           NA,    P19C,    252,   1,-999.0,      72,  2,19930227,2254, -54.0070,  -84.7665,  5030, 5130.900,    0.676,   34.706,2,   34.706,2,  210.600,2,  210.000,2,  136.900,2,   32.550,2,    0.000,2,    2.240,2,   -0.002,2,    0.000,2, -999.000,9, -999.000,9, -999.000,9