BOTTLE,20215010JOAExport
EXPOCODE,SECT_ID,STNNBR,CASTNO,SAMPNO,BTLNBR,BTLNBR_FLAG_W,DATE,TIME,LATITUDE,LONGITUDE,DEPTH,CTDPRS,CTDTMP,CTDSAL,CTDSAL_FLAG_W,SALNTY,SALNTY_FLAG_W,CTDOXY,CTDOXY_FLAG_W,OXYGEN,OXYGEN_FLAG_W,SILCAT,SILCAT_FLAG_W,NITRAT,NITRAT_FLAG_W,NITRIT,NITRIT_FLAG_W,PHSPHT,PHSPHT_FLAG_W,CFC-11,CFC-11_FLAG_W,CFC-12,CFC-12_FLAG_W,SF6,SF6_FLAG_W,TCARBN,TCARBN_FLAG_W,ALKALI,ALKALI_FLAG_W
,,,,,,,,,,,,DB,ITS-90,PSS-78,,PSS-78,,UMOL/KG,,UMOL/KG,,UMOL/KG,,UMOL/KG,,UMOL/KG,,UMOL/KG,,PMOL/KG,,PMOL/KG,,PMOL/KG,,UMOL/KG,,UMOL/KG
           NA,    P17E,    129,   1,-999.0,       1,  2,19921214,1150, -52.4898, -134.1613,  4360,    4.900,    7.786,   34.405,2,   34.405,2, -999.000,3,  309.300,2,    2.060,2,   13.060,2,    0.180,2,    0.910,2, -999.000,9, -999.000,9, -999.000,9, 2078.800,2, -999.000,9
           NA,    P17E,    129,   1,-999.0,       2,  2,19921214,1150, -52.4898, -134.1613,  4360,   26.800,    7.744,   34.403,2,   34.404,2, -999.000,3,  309.300,2,    1.850,2,   13.110,2,    0.180,2,    0.920,2, -999.000,9, -999.000,9, -999.000,9, -999.000,9, -999.000,9
           NA,    P17E,    129,   1,-999.0,       3,  2,19921214,1150, -52.4898, -134.1613,  4360,   57.300,    7.661,   34.477,2,   34.477,2, -999.000,3,  283.600,2,    4.140,2,   14.760,2,    0.190,2,    1.160,2, -999.000,9, -999.000,9, -999.000,9, -999.000,9, -999.000,9
           NA,    P17E,    129,   1,-999.0,       4,  2,19921214,1150, -52.4898, -134.1613,  4360,   86.900,    7.571,   34.467,2,   34.465,2, -999.000,3,  280.300,2,    4.980,2,   15.400,2,    0.180,2,    1.200,2, -999.000,9, -999.000,9, -999.000,9, -999.000,9, -999.000,9
           NA,    P17E,    129,   1,-999.0,       5,  2,19921214,1150, -52.4898, -134.1613,  4360,  126.000,    7.328,   34.441,2,   34.442,2,  269.200,2,  269.900,2,    6.850,2,   17.760,2,    0.110,2,    1.330,2, -999.000,9, -999.000,9, -999.000,9, -999.000,9, -999.000,9
           NA,    P17E,    129,   1,-999.0,       6,  2,19921214,1150, -52.4898, -134.1613,  4360,  156.400,    7.165,   34.424,2,   34.424,2,  268.300,2,  272.600,2,    7.480,2,   18.050,2,    0.130,2,    1.370,2, -999.000,9, -999.000,9, -999.000,9, -999.000,9, -999.000,9
           NA,    P17E,    129,   1,-999.0,       7,  2,19921214,1150, -52.4898, -134.1613,  4360,  204.800,    6.928,   34.400,2,   34.399,2,  267.400,2,  269.000,2,    7.890,2,   19.110,2,    0.020,2,    1.410,2, -999.000,9, -999.000,9, -999.000,9, -999.000,9, -999.000,9
           NA,    P17E,    129,   1,-999.0,       8,  2,19921214,1150, -52.4898, -134.1613,  4360,  257.000,    6.814,   34.392,2,   34.392,2,  268.800,2,  280.100,2,    7.670,2,   18.590,2,    0.010,2,    1.380,2, -999.000,9, -999.000,9, -999.000,9, -999.000,9, -999.000,9
           NA,    P17E,    129,   1,-999.0,       9,  2,19921214,1150, -52.4898, -134.1613,  4360,  306.400,    6.734,   34.383,2,   34.382,2,  274.000,2,  276.900,2,    7.880,2,   19.110,2,    0.020,2,    1.410,2, -999.000,9, -999.000,9, -999.000,9, -999.000,9, -999.000,9
           NA,    P17E,    129,   1,-999.0,      10,  2,19921214,1150, -52.4898, -134.1613,  4360,  379.000,    6.507,   34.358,2,   34.358,2,  274.600,2,  283.400,2,    7.660,2,   18.910,2,    0.160,2,    1.410,2, -999.000,9, -999.000,9, -999.000,9, -999.000,9, -999.000,9
           NA,    P17E,    129,   1,-999.0,      11,  2,19921214,1150, -52.4898, -134.1613,  4360,  455.700,    6.249,   34.326,2,   34.325,2,  277.000,2,  279.400,2,    8.290,2,   20.020,2,    0.090,2,    1.470,2, -999.000,9, -999.000,9, -999.000,9, -999.000,9, -999.000,9
           NA,    P17E,    129,   1,-999.0,      12,  2,19921214,1150, -52.4898, -134.1613,  4360,  531.800,    5.916,   34.295,2,   34.295,2,  260.700,2,  264.300,2,   10.790,2,   22.290,2,    0.010,2,    1.600,2, -999.000,9, -999.000,9, -999.000,9, -999.000,9, -999.000,9
           NA,    P17E,    129,   1,-999.0,      13,  2,19921214,1150, -52.4898, -134.1613,  4360,  608.900,    5.443,   34.251,2,   34.258,2,  258.800,2,  257.500,2,   13.710,2,   23.910,2,    0.010,2,    1.720,2, -999.000,9, -999.000,9, -999.000,9, -999.000,9, -999.000,9
           NA,    P17E,    129,   1,-999.0,      14,  2,19921214,1150, -52.4898, -134.1613,  4360,  659.900,    5.055,   34.224,2,   34.222,2,  259.300,2,  255.200,2,   15.580,2,   25.160,2,    0.010,2,    1.800,2, -999.000,9, -999.000,9, -999.000,9, -999.000,9, -999.000,9
           NA,    P17E,    129,   1,-999.0,      15,  2,19921214,1150, -52.4898, -134.1613,  4360,  735.000,    5.024,   34.278,2,   34.277,2,  241.900,2,  233.000,2,   20.800,2,   27.000,2,    0.000,2,    1.920,2, -999.000,9, -999.000,9, -999.000,9, -999.000,9, -999.000,9
           NA,    P17E,    129,   1,-999.0,      16,  2,19921214,1150, -52.4898, -134.1613,  4360,  810.800,    4.940,   34.331,2,   34.329,2,  213.800,2,  213.900,2,   26.640,2,   28.570,2,    0.000,2,    2.020,2, -999.000,9, -999.000,9, -999.000,9, -999.000,9, -999.000,9
           NA,    P17E,    129,   1,-999.0,      17,  2,19921214,1150, -52.4898, -134.1613,  4360,  911.700,    4.405,   34.334,2,   34.335,2,  207.200,2,  208.500,2,   33.310,2,   29.880,2,    0.000,2,    2.130,2, -999.000,9, -999.000,9, -999.000,9, -999.000,9, -999.000,9
           NA,    P17E,    129,   1,-999.0,      18,  2,19921214,1150, -52.4898, -134.1613,  4360, 1012.800,    3.891,   34.335,2,   34.334,2,  206.800,2,  206.800,2,   39.150,2,   30.930,2,    0.000,2,    2.190,2, -999.000,9, -999.000,9, -999.000,9, -999.000,9, -999.000,9
           NA,    P17E,    129,   1,-999.0,      19,  2,19921214,1150, -52.4898, -134.1613,  4360, 1113.000,    3.503,   34.362,2,   34.360,2,  199.300,2,  199.400,2,   46.440,2,   32.080,2,    0.000,2,    2.260,2, -999.000,9, -999.000,9, -999.000,9, -999.000,9, -999.000,9
           NA,    P17E,    129,   1,-999.0,      20,  2,19921214,1150, -52.4898, -134.1613,  4360, 1214.400,    2.967,   34.372,2,   34.371,2,  195.600,2,  196.000,2,   53.120,2,   33.180,2,    0.000,2,    2.330,2, -999.000,9, -999.000,9, -999.000,9, -999.000,9, -999.000,9
           NA,    P17E,    129,   1,-999.0,      21,  2,19921214,1150, -52.4898, -134.1613,  4360, 1417.300,    2.797,   34.480,2,   34.478,2,  180.300,2,  179.200,2,   66.470,2,   33.590,2,    0.000,2,    2.390,2, -999.000,9, -999.000,9, -999.000,9, -999.000,9, -999.000,9
           NA,    P17E,    129,   1,-999.0,      22,  2,19921214,1150, -52.4898, -134.1613,  4360, 1619.000,    2.560,   34.555,2,   34.552,2,  173.500,2,  173.100,2,   75.040,2,   33.640,2,    0.000,2,    2.380,2, -999.000,9, -999.000,9, -999.000,9, -999.000,9, -999.000,9
           NA,    P17E,    129,   1,-999.0,      23,  2,19921214,1150, -52.4898, -134.1613,  4360, 1818.000,    2.406,   34.618,2,   34.616,2,  172.500,2,  172.500,2,   80.460,2,   33.270,2,    0.000,2,    2.360,2, -999.000,9, -999.000,9, -999.000,9, -999.000,9, -999.000,9
           NA,    P17E,    129,   1,-999.0,      24,  2,19921214,1150, -52.4898, -134.1613,  4360, 2023.400,    2.276,   34.667,2,   34.666,2,  174.700,2,  173.700,2,   87.160,2,   32.690,2,    0.000,2,    2.320,2, -999.000,9, -999.000,9, -999.000,9, -999.000,9, -999.000,9
           NA,    P17E,    129,   1,-999.0,      25,  2,19921214,1150, -52.4898, -134.1613,  4360, 2227.600,    2.119,   34.687,2,   34.687,2,  174.700,2,  171.200,2,   97.450,2,   32.740,2,    0.000,2,    2.330,2, -999.000,9, -999.000,9, -999.000,9, -999.000,9, -999.000,9
           NA,    P17E,    129,   1,-999.0,      26,  2,19921214,1150, -52.4898, -134.1613,  4360, 2430.300,    2.010,   34.705,2,   34.704,2,  175.900,2,  175.500,2,   99.320,2,   32.270,2,    0.000,2,    2.300,2, -999.000,9, -999.000,9, -999.000,9, -999.000,9, -999.000,9
           NA,    P17E,    129,   1,-999.0,      27,  2,19921214,1150, -52.4898, -134.1613,  4360, 2633.800,    1.895,   34.724,2,   34.724,2,  181.200,2,  184.900,2,   97.400,2,   31.540,2,    0.000,2,    2.230,2, -999.000,9, -999.000,9, -999.000,9, -999.000,9, -999.000,9
           NA,    P17E,    129,   1,-999.0,      28,  2,19921214,1150, -52.4898, -134.1613,  4360, 2836.900,    1.747,   34.727,2,   34.727,2,  188.100,2,  187.700,2,  101.600,2,   31.430,2,    0.000,2,    2.220,2, -999.000,9, -999.000,9, -999.000,9, -999.000,9, -999.000,9
           NA,    P17E,    129,   1,-999.0,      29,  2,19921214,1150, -52.4898, -134.1613,  4360, 3039.600,    1.588,   34.728,2,   34.728,2,  192.000,2,  192.500,2,  104.960,2,   31.320,2,    0.000,2,    2.220,2, -999.000,9, -999.000,9, -999.000,9, -999.000,9, -999.000,9
           NA,    P17E,    129,   1,-999.0,      30,  2,19921214,1150, -52.4898, -134.1613,  4360, 3241.400,    1.463,   34.724,2,   34.724,2,  193.400,2,  193.900,2,  109.810,2,   31.640,2,    0.000,2,    2.230,2, -999.000,9, -999.000,9, -999.000,9, -999.000,9, -999.000,9
           NA,    P17E,    129,   1,-999.0,      31,  2,19921214,1150, -52.4898, -134.1613,  4360, 3446.000,    1.359,   34.720,2,   34.721,2,  195.200,2,  194.900,2,  113.820,2,   31.690,2,    0.000,2,    2.240,2, -999.000,9, -999.000,9, -999.000,9, -999.000,9, -999.000,9
           NA,    P17E,    129,   1,-999.0,      32,  2,19921214,1150, -52.4898, -134.1613,  4360, 3651.500,    1.317,   34.719,2,   34.718,2,  196.200,2,  196.100,2,  115.290,2,   31.790,2,    0.000,2,    2.260,2, -999.000,9, -999.000,9, -999.000,9, -999.000,9, -999.000,9
           NA,    P17E,    129,   1,-999.0,      33,  2,19921214,1150, -52.4898, -134.1613,  4360, 3856.600,    1.293,   34.718,2,   34.718,2,  196.800,2,  196.400,2,  116.540,2,   31.900,2,    0.000,2,    2.260,2, -999.000,9, -999.000,9, -999.000,9, -999.000,9, -999.000,9
           NA,    P17E,    129,   1,-999.0,      34,  2,19921214,1150, -52.4898, -134.1613,  4360, 4060.900,    1.298,   34.718,2,   34.717,2,  197.300,2,  196.600,2,  116.950,2,   31.900,2,    0.000,2,    2.290,2, -999.000,9, -999.000,9, -999.000,9, -999.000,9, -999.000,9
           NA,    P17E,    129,   1,-999.0,      35,  2,19921214,1150, -52.4898, -134.1613,  4360, 4262.000,    1.296,   34.717,2,   34.717,2,  196.900,2,  197.000,2,  117.780,2,   31.950,2,    0.000,2,    2.260,2, -999.000,9, -999.000,9, -999.000,9, -999.000,9, -999.000,9
           NA,    P17E,    129,   1,-999.0,      36,  2,19921214,1150, -52.4898, -134.1613,  4360, 4440.600,    1.317,   34.717,2,   34.718,2,  197.600,2,  197.100,2,  117.970,2,   31.840,2,    0.000,2,    2.270,2, -999.000,9, -999.000,9, -999.000,9, -999.000,9, -999.000,9