BOTTLE,20215010JOAExport
EXPOCODE,SECT_ID,STNNBR,CASTNO,SAMPNO,BTLNBR,BTLNBR_FLAG_W,DATE,TIME,LATITUDE,LONGITUDE,DEPTH,CTDPRS,CTDTMP,CTDSAL,CTDSAL_FLAG_W,SALNTY,SALNTY_FLAG_W,CTDOXY,CTDOXY_FLAG_W,OXYGEN,OXYGEN_FLAG_W,SILCAT,SILCAT_FLAG_W,NITRAT,NITRAT_FLAG_W,NITRIT,NITRIT_FLAG_W,PHSPHT,PHSPHT_FLAG_W,CFC-11,CFC-11_FLAG_W,CFC-12,CFC-12_FLAG_W,SF6,SF6_FLAG_W,TCARBN,TCARBN_FLAG_W,ALKALI,ALKALI_FLAG_W
,,,,,,,,,,,,DB,ITS-90,PSS-78,,PSS-78,,UMOL/KG,,UMOL/KG,,UMOL/KG,,UMOL/KG,,UMOL/KG,,UMOL/KG,,PMOL/KG,,PMOL/KG,,PMOL/KG,,UMOL/KG,,UMOL/KG
           NA,    P17E,    135,   1,-999.0,       1,  2,19921216,0906, -52.5097, -129.2747,  3826,    2.900,    7.385,   34.409,2,   34.410,2, -999.000,3,  297.900,2,    1.440,2,   15.000,2,    0.140,2,    1.040,2, -999.000,9, -999.000,9, -999.000,9, 2092.600,2, -999.000,9
           NA,    P17E,    135,   1,-999.0,       2,  2,19921216,0906, -52.5097, -129.2747,  3826,   27.900,    7.387,   34.409,2,   34.409,2, -999.000,3,  298.500,2,    1.440,2,   15.000,2,    0.140,2,    1.050,2, -999.000,9, -999.000,9, -999.000,9, -999.000,9, -999.000,9
           NA,    P17E,    135,   1,-999.0,       3,  2,19921216,0906, -52.5097, -129.2747,  3826,   56.200,    7.395,   34.410,2,   34.410,2, -999.000,3,  298.200,2,    1.440,2,   15.050,2,    0.140,2,    1.060,2, -999.000,9, -999.000,9, -999.000,9, -999.000,9, -999.000,9
           NA,    P17E,    135,   1,-999.0,       4,  2,19921216,0906, -52.5097, -129.2747,  3826,   88.600,    7.379,   34.410,2,   34.411,2, -999.000,3,  296.800,2,    1.640,2,   15.150,2,    0.140,2,    1.080,2, -999.000,9, -999.000,9, -999.000,9, -999.000,9, -999.000,9
           NA,    P17E,    135,   1,-999.0,       5,  2,19921216,0906, -52.5097, -129.2747,  3826,  118.400,    6.819,   34.383,2,   34.382,2,  296.100,2,  292.100,2,    3.900,2,   16.670,2,    0.190,2,    1.220,2, -999.000,9, -999.000,9, -999.000,9, -999.000,9, -999.000,9
           NA,    P17E,    135,   1,-999.0,       6,  2,19921216,0906, -52.5097, -129.2747,  3826,  155.900,    6.733,   34.377,2,   34.378,2,  289.800,2,  291.500,2,    4.100,2,   16.870,2,    0.190,2,    1.260,2, -999.000,9, -999.000,9, -999.000,9, -999.000,9, -999.000,9
           NA,    P17E,    135,   1,-999.0,       7,  2,19921216,0906, -52.5097, -129.2747,  3826,  208.900,    6.671,   34.373,2,   34.373,2,  281.600,2,  286.800,2,    5.530,2,   17.660,2,    0.180,2,    1.340,2, -999.000,9, -999.000,9, -999.000,9, -999.000,9, -999.000,9
           NA,    P17E,    135,   1,-999.0,       8,  2,19921216,0906, -52.5097, -129.2747,  3826,  258.600,    6.582,   34.362,2,   34.365,2,  276.600,2,  289.700,2,    5.120,2,   17.650,2,    0.180,2,    1.320,2, -999.000,9, -999.000,9, -999.000,9, -999.000,9, -999.000,9
           NA,    P17E,    135,   1,-999.0,       9,  2,19921216,0906, -52.5097, -129.2747,  3826,  307.500,    6.501,   34.355,2,   34.356,2,  274.400,2,  286.500,2,    5.940,2,   18.240,2,    0.170,2,    1.370,2, -999.000,9, -999.000,9, -999.000,9, -999.000,9, -999.000,9
           NA,    P17E,    135,   1,-999.0,      11,  2,19921216,0906, -52.5097, -129.2747,  3826,  423.600,    5.985,   34.290,2,   34.293,2,  278.100,2,  285.800,2,    7.370,2,   19.830,2,    0.140,2,    1.460,2, -999.000,9, -999.000,9, -999.000,9, -999.000,9, -999.000,9
           NA,    P17E,    135,   1,-999.0,      12,  2,19921216,0906, -52.5097, -129.2747,  3826,  482.100,    5.654,   34.252,2,   34.253,2,  267.900,2,  284.200,2,    8.390,2,   20.920,2,    0.090,2,    1.530,2, -999.000,9, -999.000,9, -999.000,9, -999.000,9, -999.000,9
           NA,    P17E,    135,   1,-999.0,      13,  2,19921216,0906, -52.5097, -129.2747,  3826,  556.700,    5.333,   34.222,2,   34.219,2,  277.400,2,  276.100,2,   10.440,2,   22.620,2,    0.010,2,    1.620,2, -999.000,9, -999.000,9, -999.000,9, -999.000,9, -999.000,9
           NA,    P17E,    135,   1,-999.0,      14,  2,19921216,0906, -52.5097, -129.2747,  3826,  606.700,    5.118,   34.209,2,   34.209,2,  267.000,2,  268.900,2,   12.270,2,   23.670,2,    0.000,2,    1.700,2, -999.000,9, -999.000,9, -999.000,9, -999.000,9, -999.000,9
           NA,    P17E,    135,   1,-999.0,      15,  2,19921216,0906, -52.5097, -129.2747,  3826,  657.600,    5.052,   34.235,2,   34.235,2,  252.700,2,  251.000,2,   16.150,2,   25.340,2,    0.000,2,    1.800,2, -999.000,9, -999.000,9, -999.000,9, -999.000,9, -999.000,9
           NA,    P17E,    135,   1,-999.0,      16,  2,19921216,0906, -52.5097, -129.2747,  3826,  706.900,    4.947,   34.265,2,   34.264,2,  232.700,2,  236.200,2,   20.030,2,   26.750,2,    0.000,2,    1.880,2, -999.000,9, -999.000,9, -999.000,9, -999.000,9, -999.000,9
           NA,    P17E,    135,   1,-999.0,      17,  2,19921216,0906, -52.5097, -129.2747,  3826,  806.700,    4.677,   34.307,2,   34.308,2,  215.000,2,  218.200,2,   26.770,2,   28.580,2,    0.000,2,    2.020,2, -999.000,9, -999.000,9, -999.000,9, -999.000,9, -999.000,9
           NA,    P17E,    135,   1,-999.0,      18,  2,19921216,0906, -52.5097, -129.2747,  3826,  909.200,    4.181,   34.322,2,   34.322,2,  212.500,2,  210.700,2,   34.320,2,   29.990,2,    0.000,2,    2.130,2, -999.000,9, -999.000,9, -999.000,9, -999.000,9, -999.000,9
           NA,    P17E,    135,   1,-999.0,      19,  2,19921216,0906, -52.5097, -129.2747,  3826, 1006.900,    3.728,   34.342,2,   34.341,2,  201.400,2,  203.600,2,   41.040,2,   31.130,2,    0.000,2,    2.210,2, -999.000,9, -999.000,9, -999.000,9, -999.000,9, -999.000,9
           NA,    P17E,    135,   1,-999.0,      20,  2,19921216,0906, -52.5097, -129.2747,  3826, 1102.000,    3.413,   34.373,2,   34.372,2,  196.700,2,  195.700,2,   48.590,2,   32.070,2,    0.000,2,    2.270,2, -999.000,9, -999.000,9, -999.000,9, -999.000,9, -999.000,9
           NA,    P17E,    135,   1,-999.0,      21,  2,19921216,0906, -52.5097, -129.2747,  3826, 1199.900,    3.129,   34.409,2,   34.409,2,  189.000,2,  189.100,2,   55.510,2,   32.910,2,    0.000,2,    2.320,2, -999.000,9, -999.000,9, -999.000,9, -999.000,9, -999.000,9
           NA,    P17E,    135,   1,-999.0,      22,  2,19921216,0906, -52.5097, -129.2747,  3826, 1305.100,    2.909,   34.449,2,   34.448,2,  182.500,2,  183.200,2,   62.440,2,   33.380,2,    0.000,2,    2.360,2, -999.000,9, -999.000,9, -999.000,9, -999.000,9, -999.000,9
           NA,    P17E,    135,   1,-999.0,      23,  2,19921216,0906, -52.5097, -129.2747,  3826, 1409.300,    2.710,   34.490,2,   34.491,2,  177.500,2,  178.000,2,   67.730,2,   33.630,2,    0.000,2,    2.390,2, -999.000,9, -999.000,9, -999.000,9, -999.000,9, -999.000,9
           NA,    P17E,    135,   1,-999.0,      24,  2,19921216,0906, -52.5097, -129.2747,  3826, 1613.100,    2.477,   34.567,2,   34.563,2,  172.000,2,  173.800,2,   74.860,2,   33.520,2,    0.000,2,    2.370,2, -999.000,9, -999.000,9, -999.000,9, -999.000,9, -999.000,9
           NA,    P17E,    135,   1,-999.0,      25,  2,19921216,0906, -52.5097, -129.2747,  3826, 1818.900,    2.363,   34.634,2,   34.633,2,  171.300,2,  172.000,2,   82.410,2,   32.990,2,    0.000,2,    2.340,2, -999.000,9, -999.000,9, -999.000,9, -999.000,9, -999.000,9
           NA,    P17E,    135,   1,-999.0,      26,  2,19921216,0906, -52.5097, -129.2747,  3826, 2020.800,    2.259,   34.671,2,   34.671,2,  172.700,2,  174.400,2,   86.070,2,   32.470,2,    0.000,2,    2.300,2, -999.000,9, -999.000,9, -999.000,9, -999.000,9, -999.000,9
           NA,    P17E,    135,   1,-999.0,      27,  2,19921216,0906, -52.5097, -129.2747,  3826, 2222.600,    2.123,   34.699,2,   34.700,2,  178.000,2,  177.900,2,   90.760,2,   31.940,2,    0.000,2,    2.270,2, -999.000,9, -999.000,9, -999.000,9, -999.000,9, -999.000,9
           NA,    P17E,    135,   1,-999.0,      28,  2,19921216,0906, -52.5097, -129.2747,  3826, 2423.400,    1.997,   34.720,2,   34.719,2,  183.000,2,  183.500,2,   92.780,2,   31.410,2,    0.000,2,    2.230,2, -999.000,9, -999.000,9, -999.000,9, -999.000,9, -999.000,9
           NA,    P17E,    135,   1,-999.0,      29,  2,19921216,0906, -52.5097, -129.2747,  3826, 2619.300,    1.831,   34.724,2,   34.726,2,  185.900,2,  186.600,2,   98.100,2,   31.410,2,    0.000,2,    2.220,2, -999.000,9, -999.000,9, -999.000,9, -999.000,9, -999.000,9
           NA,    P17E,    135,   1,-999.0,      31,  4,19921216,0906, -52.5097, -129.2747,  3826, 2822.000,    1.643,   34.723,2, -999.000,2,  187.900,2, -999.000,2, -999.000,2, -999.000,2, -999.000,2, -999.000,2, -999.000,9, -999.000,9, -999.000,9, -999.000,9, -999.000,9
           NA,    P17E,    135,   1,-999.0,      30,  2,19921216,0906, -52.5097, -129.2747,  3826, 2822.000,    1.643,   34.723,2,   34.724,2,  187.900,2,  189.000,2,  104.260,2,   31.460,2,    0.000,2,    2.240,2, -999.000,9, -999.000,9, -999.000,9, -999.000,9, -999.000,9
           NA,    P17E,    135,   1,-999.0,      32,  2,19921216,0906, -52.5097, -129.2747,  3826, 3217.500,    1.386,   34.716,2,   34.720,2,  191.100,2,  192.000,2,  113.720,2,   31.870,2,    0.000,2,    2.270,2, -999.000,9, -999.000,9, -999.000,9, -999.000,9, -999.000,9
           NA,    P17E,    135,   1,-999.0,      33,  2,19921216,0906, -52.5097, -129.2747,  3826, 3417.100,    1.324,   34.716,2,   34.718,2,  193.200,2,  193.800,2,  115.550,2,   31.870,2,    0.000,2,    2.270,2, -999.000,9, -999.000,9, -999.000,9, -999.000,9, -999.000,9
           NA,    P17E,    135,   1,-999.0,      34,  2,19921216,0906, -52.5097, -129.2747,  3826, 3628.400,    1.312,   34.717,2,   34.718,2,  195.700,2,  195.800,2,  115.930,2,   31.860,2,    0.000,2,    2.260,2, -999.000,9, -999.000,9, -999.000,9, -999.000,9, -999.000,9
           NA,    P17E,    135,   1,-999.0,      35,  2,19921216,0906, -52.5097, -129.2747,  3826, 3732.600,    1.300,   34.716,2,   34.717,2,  195.700,2, -999.000,5,  116.100,2,   31.860,2,    0.000,2,    2.280,2, -999.000,9, -999.000,9, -999.000,9, -999.000,9, -999.000,9
           NA,    P17E,    135,   1,-999.0,      36,  2,19921216,0906, -52.5097, -129.2747,  3826, 3894.800,    1.306,   34.717,2,   34.718,2,  196.200,2,  196.000,2,  116.060,2,   31.860,2,    0.000,2,    2.270,2, -999.000,9, -999.000,9, -999.000,9, -999.000,9, -999.000,9
           NA,    P17E,    136,   1,-999.0,       1,  2,19921216,1522, -52.5115, -128.4372,  4135,    2.300,    7.400,   34.407,2,   34.407,2, -999.000,3,  300.100,2,    1.400,2,   14.620,2,    0.180,2,    1.080,2,    4.107,6,    2.051,6, -999.000,9, 2089.700,2, -999.000,9
           NA,    P17E,    136,   1,-999.0,       2,  2,19921216,1522, -52.5115, -128.4372,  4135,   27.400,    7.396,   34.407,2,   34.408,2, -999.000,3,  299.700,2,    1.190,2,   14.770,2,    0.180,2,    1.080,2, -999.000,9, -999.000,9, -999.000,9, 2093.500,2, -999.000,9
           NA,    P17E,    136,   1,-999.0,       3,  2,19921216,1522, -52.5115, -128.4372,  4135,   58.300,    7.394,   34.408,2,   34.408,2, -999.000,3,  299.400,2,    1.180,2,   14.830,2,    0.170,2,    1.100,2,    4.090,2,    2.033,2, -999.000,9, 2092.900,2, -999.000,9
           NA,    P17E,    136,   1,-999.0,       4,  2,19921216,1522, -52.5115, -128.4372,  4135,   82.500,    7.191,   34.419,2,   34.421,2, -999.000,3,  285.700,2,    4.850,2,   16.370,2,    0.180,2,    1.240,2, -999.000,9, -999.000,9, -999.000,9, 2107.000,2, -999.000,9
           NA,    P17E,    136,   1,-999.0,       5,  2,19921216,1522, -52.5115, -128.4372,  4135,  108.200,    7.066,   34.414,2,   34.414,2,  278.600,2,  284.600,2,    5.260,2,   16.730,2,    0.180,2,    1.280,2,    3.988,2,    1.998,2, -999.000,9, 2110.500,2, -999.000,9
           NA,    P17E,    136,   1,-999.0,       6,  2,19921216,1522, -52.5115, -128.4372,  4135,  137.700,    6.952,   34.403,2,   34.405,2,  274.800,2,  282.500,2,    5.660,2,   17.370,2,    0.160,2,    1.320,2, -999.000,9, -999.000,9, -999.000,9, 2110.100,2, -999.000,9
           NA,    P17E,    136,   1,-999.0,       7,  2,19921216,1522, -52.5115, -128.4372,  4135,  167.600,    6.841,   34.391,2,   34.391,2,  274.500,2,  279.200,2,    6.680,2,   18.070,2,    0.130,2,    1.370,2,    3.792,2,    1.881,2, -999.000,9, 2114.800,2, -999.000,9
           NA,    P17E,    136,   1,-999.0,       8,  2,19921216,1522, -52.5115, -128.4372,  4135,  208.400,    6.731,   34.381,2,   34.380,2,  276.900,2,  279.800,2,    6.880,2,   18.450,2,    0.120,2,    1.380,2,    3.812,2,    1.890,2, -999.000,9, 2117.400,2, -999.000,9
           NA,    P17E,    136,   1,-999.0,       9,  2,19921216,1522, -52.5115, -128.4372,  4135,  258.400,    6.675,   34.377,2,   34.377,2,  276.700,2,  284.600,2,    6.670,2,   18.100,2,    0.160,2,    1.370,2, -999.000,9, -999.000,9, -999.000,9, 2111.700,2, -999.000,9
           NA,    P17E,    136,   1,-999.0,      10,  2,19921216,1522, -52.5115, -128.4372,  4135,  281.100,    6.606,   34.368,2,   34.369,2,  278.600,2,  282.400,2,    6.870,2,   18.550,2,    0.120,2,    1.400,2,    3.887,2,    1.921,2, -999.000,9, 2116.900,2, -999.000,9
           NA,    P17E,    136,   1,-999.0,      11,  2,19921216,1522, -52.5115, -128.4372,  4135,  305.000,    6.605,   34.371,2,   34.371,2,  271.700,2,  287.700,2,    6.260,2,   17.910,2,    0.190,2,    1.370,2, -999.000,9, -999.000,9, -999.000,9, 2111.500,2, -999.000,9
           NA,    P17E,    136,   1,-999.0,      12,  2,19921216,1522, -52.5115, -128.4372,  4135,  354.300,    6.372,   34.340,2,   34.348,2,  280.900,2,  277.400,2,    7.890,2,   19.710,2,    0.100,2,    1.460,2,    3.709,2,    1.837,2, -999.000,9, 2119.700,2, -999.000,9
           NA,    P17E,    136,   1,-999.0,      13,  2,19921216,1522, -52.5115, -128.4372,  4135,  404.400,    6.130,   34.313,2,   34.312,2,  266.200,2,  275.700,2,    8.700,2,   20.560,2,    0.080,2,    1.510,2,    3.649,2,    1.796,2, -999.000,9, 2119.800,2, -999.000,9
           NA,    P17E,    136,   1,-999.0,      14,  2,19921216,1522, -52.5115, -128.4372,  4135,  503.900,    5.663,   34.268,2,   34.269,2,  270.900,2,  264.300,2,   11.360,2,   22.760,2,    0.010,2,    1.650,2,    3.290,2,    1.602,2, -999.000,9, 2131.800,2, -999.000,9
           NA,    P17E,    136,   1,-999.0,      15,  2,19921216,1522, -52.5115, -128.4372,  4135,  552.200,    5.621,   34.284,2,   34.282,2,  260.100,2,  249.400,2,   14.210,2,   24.320,2,    0.010,2,    1.750,2,    2.706,2,    1.303,2, -999.000,9, 2142.300,2, -999.000,9
           NA,    P17E,    136,   1,-999.0,      16,  2,19921216,1522, -52.5115, -128.4372,  4135,  599.000,    5.449,   34.277,2,   34.278,2,  246.100,2,  244.400,2,   15.640,2,   24.950,2,    0.000,2,    1.800,2,    2.558,2,    1.209,2, -999.000,9, 2144.400,2, -999.000,9
           NA,    P17E,    136,   1,-999.0,      17,  2,19921216,1522, -52.5115, -128.4372,  4135,  699.400,    4.967,   34.278,2,   34.276,2,  225.300,2,  232.800,2,   20.950,2,   26.980,2,    0.000,2,    1.930,2,    2.202,2,    1.027,2, -999.000,9, 2159.500,2, -999.000,9
           NA,    P17E,    136,   1,-999.0,      18,  2,19921216,1522, -52.5115, -128.4372,  4135,  794.700,    4.689,   34.315,2,   34.315,2,  218.200,2,  216.000,2,   27.900,2,   28.900,2,    0.000,2,    2.050,2,    1.435,2,    0.670,2, -999.000,9, 2174.400,2, -999.000,9
           NA,    P17E,    136,   1,-999.0,      19,  2,19921216,1522, -52.5115, -128.4372,  4135,  895.000,    4.144,   34.327,2,   34.324,2,  207.100,2,  209.700,2,   35.250,2,   30.250,2,    0.000,2,    2.150,2, -999.000,9, -999.000,9, -999.000,9, 2185.200,2, -999.000,9
           NA,    P17E,    136,   1,-999.0,      20,  2,19921216,1522, -52.5115, -128.4372,  4135,  990.300,    3.783,   34.347,2,   34.346,2,  202.300,2,  202.500,2,   41.790,2,   31.290,2,    0.000,2,    2.230,2,    0.870,2,    0.420,2, -999.000,9, 2199.600,2, -999.000,9
           NA,    P17E,    136,   1,-999.0,      21,  2,19921216,1522, -52.5115, -128.4372,  4135, 1086.900,    3.372,   34.378,2,   34.377,2,  193.800,2,  194.900,2,   49.970,2,   32.330,2,    0.000,2,    2.290,2,    0.701,2,    0.326,2, -999.000,9, 2211.600,2, -999.000,9
           NA,    P17E,    136,   1,-999.0,      22,  2,19921216,1522, -52.5115, -128.4372,  4135, 1178.500,    3.110,   34.405,2,   34.402,2,  189.900,2,  189.600,2,   55.490,2,   32.910,2,    0.000,2,    2.340,2,    0.626,2,    0.293,2, -999.000,9, 2216.400,2, -999.000,9
           NA,    P17E,    136,   1,-999.0,      23,  2,19921216,1522, -52.5115, -128.4372,  4135, 1271.500,    2.943,   34.441,2,   34.440,2,  184.100,2,  184.100,2,   61.430,2,   33.320,2,    0.000,2,    2.370,2,    0.487,2,    0.233,2, -999.000,9, 2230.300,2, -999.000,9
           NA,    P17E,    136,   1,-999.0,      24,  2,19921216,1522, -52.5115, -128.4372,  4135, 1460.100,    2.691,   34.517,2,   34.517,2,  175.300,2,  174.400,2,   72.290,2,   33.740,2,    0.000,2,    2.400,2,    0.255,2,    0.124,2, -999.000,9, 2241.700,2, -999.000,9
           NA,    P17E,    136,   1,-999.0,      25,  2,19921216,1522, -52.5115, -128.4372,  4135, 1650.700,    2.486,   34.582,2,   34.581,2,  173.100,2,  172.300,2,   78.650,2,   33.530,2,    0.000,2,    2.370,2,    0.173,2,    0.077,2, -999.000,9, 2246.900,2, -999.000,9
           NA,    P17E,    136,   1,-999.0,      26,  2,19921216,1522, -52.5115, -128.4372,  4135, 1844.800,    2.344,   34.636,2,   34.636,2,  173.900,2,  173.900,2,   80.910,2,   32.800,2,    0.000,2,    2.330,2,    0.137,2, -999.000,3, -999.000,9, 2250.000,2, -999.000,9
           NA,    P17E,    136,   1,-999.0,      27,  2,19921216,1522, -52.5115, -128.4372,  4135, 2039.100,    2.235,   34.675,2,   34.673,2,  175.100,2,  174.200,2,   87.910,2,   32.530,2,    0.000,2,    2.290,2,    0.060,2,    0.021,2, -999.000,9, 2250.500,2, -999.000,9
           NA,    P17E,    136,   1,-999.0,      28,  2,19921216,1522, -52.5115, -128.4372,  4135, 2237.200,    2.129,   34.703,2, -999.000,4,  179.100,2,  179.300,2,   89.560,2,   31.750,2,    0.000,2,    2.240,2, -999.000,3, -999.000,3, -999.000,9, 2248.900,2, -999.000,9
           NA,    P17E,    136,   1,-999.0,      29,  2,19921216,1522, -52.5115, -128.4372,  4135, 2444.600,    1.999,   34.721,2,   34.722,2,  183.600,2,  184.400,2,   92.650,2,   31.280,2,    0.000,2,    2.230,2,    0.023,2,    0.007,2, -999.000,9, 2254.600,2, -999.000,9
           NA,    P17E,    136,   1,-999.0,      31,  4,19921216,1522, -52.5115, -128.4372,  4135, 2647.000,    1.865,   34.727,2, -999.000,2,  186.100,2, -999.000,2, -999.000,2, -999.000,2, -999.000,2, -999.000,2, -999.000,2, -999.000,2, -999.000,9, -999.000,2, -999.000,9
           NA,    P17E,    136,   1,-999.0,      30,  2,19921216,1522, -52.5115, -128.4372,  4135, 2647.000,    1.865,   34.727,2,   34.727,2,  186.100,2,  187.300,2,   96.580,2,   31.230,2,    0.000,2,    2.220,2, -999.000,9, -999.000,9, -999.000,9, 2253.700,2, -999.000,9
           NA,    P17E,    136,   1,-999.0,      32,  2,19921216,1522, -52.5115, -128.4372,  4135, 3245.200,    1.393,   34.720,2,   34.721,2,  191.900,2,  194.100,2,  111.760,2,   31.640,2,    0.000,2,    2.240,2,    0.006,2,    0.009,2, -999.000,9, 2262.900,2, -999.000,9
           NA,    P17E,    136,   1,-999.0,      33,  2,19921216,1522, -52.5115, -128.4372,  4135, 3457.400,    1.340,   34.718,2,   34.719,2,  193.300,2,  194.400,2,  114.060,2,   31.750,2,    0.000,2,    2.260,2,    0.006,2,    0.006,2, -999.000,9, 2266.600,2, -999.000,9
           NA,    P17E,    136,   1,-999.0,      34,  2,19921216,1522, -52.5115, -128.4372,  4135, 3671.200,    1.313,   34.718,2,   34.717,2,  194.800,2,  195.300,2,  115.530,2,   31.750,2,    0.000,2,    2.260,2, -999.000,5,    0.001,2, -999.000,9, 2264.100,2, -999.000,9
           NA,    P17E,    136,   1,-999.0,      35,  2,19921216,1522, -52.5115, -128.4372,  4135, 3882.100,    1.305,   34.717,2,   34.717,2,  196.000,2,  196.100,2,  116.160,2,   31.850,2,    0.000,2,    2.260,2,    0.006,2,    0.006,2, -999.000,9, 2264.700,2, -999.000,9
           NA,    P17E,    136,   1,-999.0,      36,  2,19921216,1522, -52.5115, -128.4372,  4135, 4157.900,    1.323,   34.716,2,   34.717,2,  196.700,2,  195.700,2,  117.000,2,   31.900,2,    0.000,2,    2.260,2,    0.005,2,    0.001,2, -999.000,9, 2268.300,2, -999.000,9