BOTTLE,20215010JOAExport
EXPOCODE,SECT_ID,STNNBR,CASTNO,SAMPNO,BTLNBR,BTLNBR_FLAG_W,DATE,TIME,LATITUDE,LONGITUDE,DEPTH,CTDPRS,CTDTMP,CTDSAL,CTDSAL_FLAG_W,SALNTY,SALNTY_FLAG_W,CTDOXY,CTDOXY_FLAG_W,OXYGEN,OXYGEN_FLAG_W,SILCAT,SILCAT_FLAG_W,NITRAT,NITRAT_FLAG_W,NITRIT,NITRIT_FLAG_W,PHSPHT,PHSPHT_FLAG_W,CFC-11,CFC-11_FLAG_W,CFC-12,CFC-12_FLAG_W,SF6,SF6_FLAG_W,TCARBN,TCARBN_FLAG_W,ALKALI,ALKALI_FLAG_W
,,,,,,,,,,,,DB,ITS-90,PSS-78,,PSS-78,,UMOL/KG,,UMOL/KG,,UMOL/KG,,UMOL/KG,,UMOL/KG,,UMOL/KG,,PMOL/KG,,PMOL/KG,,PMOL/KG,,UMOL/KG,,UMOL/KG
           NA,    P19C,    250,   1,-999.0,      36,  2,19930227,1028, -54.0040,  -83.1770,  4972,    4.400,    8.915,   34.057,2,   34.058,2,  287.200,2,  284.000,2,    1.700,2,   15.940,2,    0.280,2,    1.210,2,    4.093,2,    2.006,2, -999.000,9, 2081.000,2, -999.000,9
           NA,    P19C,    250,   1,-999.0,      35,  2,19930227,1028, -54.0040,  -83.1770,  4972,   38.100,    8.485,   34.093,2,   34.100,2,  284.100,2,  285.700,2,    1.700,2,   15.950,2,    0.250,2,    1.210,2,    4.141,2,    2.043,2, -999.000,9, -999.000,9, -999.000,9
           NA,    P19C,    250,   1,-999.0,      34,  2,19930227,1028, -54.0040,  -83.1770,  4972,   68.200,    7.516,   34.154,2,   34.161,2,  276.600,2,  290.600,2,    3.200,2,   16.960,2,    0.240,2,    1.300,2,    3.891,2,    1.891,2, -999.000,9, -999.000,9, -999.000,9
           NA,    P19C,    250,   1,-999.0,      33,  2,19930227,1028, -54.0040,  -83.1770,  4972,   88.300,    5.803,   34.171,2,   34.173,2,  291.200,2,  298.300,2,    5.800,2,   19.270,2,    0.310,2,    1.440,2,    4.609,2,    2.236,2, -999.000,9, -999.000,9, -999.000,9
           NA,    P19C,    250,   1,-999.0,      32,  2,19930227,1028, -54.0040,  -83.1770,  4972,  107.500,    5.615,   34.192,2,   34.193,2,  298.900,2,  295.400,2,    6.900,2,   19.710,2,    0.430,2,    1.440,2,    4.557,2,    2.184,2, -999.000,9, -999.000,9, -999.000,9
           NA,    P19C,    250,   1,-999.0,      31,  2,19930227,1028, -54.0040,  -83.1770,  4972,  157.300,    5.646,   34.227,2,   34.227,2,  295.900,2,  291.800,2,    7.100,2,   20.350,2,    0.020,2,    1.430,2,    4.704,2,    2.265,2, -999.000,9, -999.000,9, -999.000,9
           NA,    P19C,    250,   1,-999.0,      30,  2,19930227,1028, -54.0040,  -83.1770,  4972,  207.400,    5.584,   34.225,2,   34.227,2,  293.100,2,  292.700,2,    7.100,2,   20.250,2,    0.010,2,    1.430,2,    4.563,2,    2.206,2, -999.000,9, -999.000,9, -999.000,9
           NA,    P19C,    250,   1,-999.0,      29,  2,19930227,1028, -54.0040,  -83.1770,  4972,  258.300,    5.510,   34.221,2,   34.223,2,  292.400,2,  291.100,2,    7.200,2,   20.620,2,    0.010,2,    1.450,2,    4.357,2,    2.101,2, -999.000,9, -999.000,9, -999.000,9
           NA,    P19C,    250,   1,-999.0,      28,  2,19930227,1028, -54.0040,  -83.1770,  4972,  307.000,    5.422,   34.216,2,   34.219,2,  287.400,2,  288.600,2,    8.100,2,   21.140,2,    0.010,2,    1.480,2,    4.363,2,    2.106,2, -999.000,9, -999.000,9, -999.000,9
           NA,    P19C,    250,   1,-999.0,      27,  2,19930227,1028, -54.0040,  -83.1770,  4972,  407.700,    5.267,   34.217,2,   34.217,2,  275.600,2,  281.100,2,    9.700,2,   22.710,2,    0.010,2,    1.570,2,    3.976,2,    1.900,2, -999.000,9, -999.000,9, -999.000,9
           NA,    P19C,    250,   1,-999.0,      26,  2,19930227,1028, -54.0040,  -83.1770,  4972,  507.500,    5.080,   34.217,2,   34.218,2,  271.600,2,  272.600,2,   12.100,2,   24.090,2,    0.010,2,    1.650,2,    3.617,2,    1.710,2, -999.000,9, -999.000,9, -999.000,9
           NA,    P19C,    250,   1,-999.0,      25,  2,19930227,1028, -54.0040,  -83.1770,  4972,  607.600,    4.864,   34.222,2,   34.224,2,  262.200,2,  264.400,2,   14.200,2,   25.270,2,    0.010,2,    1.740,2,    2.982,2,    1.405,2, -999.000,9, -999.000,9, -999.000,9
           NA,    P19C,    250,   1,-999.0,      24,  2,19930227,1028, -54.0040,  -83.1770,  4972,  707.700,    4.572,   34.227,2,   34.227,2,  250.900,2,  250.700,2,   19.000,2,   27.140,2,    0.010,2,    1.870,2,    2.651,2,    1.243,2, -999.000,9, -999.000,9, -999.000,9
           NA,    P19C,    250,   1,-999.0,      23,  2,19930227,1028, -54.0040,  -83.1770,  4972,  806.600,    4.211,   34.243,2,   34.242,2,  232.300,2,  237.300,2,   24.600,2,   29.010,2,    0.010,2,    1.990,2,    2.170,2,    1.003,2, -999.000,9, -999.000,9, -999.000,9
           NA,    P19C,    250,   1,-999.0,      22,  2,19930227,1028, -54.0040,  -83.1770,  4972,  906.100,    3.858,   34.264,2,   34.263,2,  225.300,2,  225.100,2,   31.000,2,   30.490,2,    0.010,2,    2.090,2,    1.648,2,    0.748,2, -999.000,9, -999.000,9, -999.000,9
           NA,    P19C,    250,   1,-999.0,      21,  2,19930227,1028, -54.0040,  -83.1770,  4972, 1007.400,    3.545,   34.297,2,   34.297,2,  214.600,2,  211.600,2,   38.600,2,   31.980,2,    0.010,2,    2.190,2,    1.100,2,    0.488,2, -999.000,9, -999.000,9, -999.000,9
           NA,    P19C,    250,   1,-999.0,      20,  2,19930227,1028, -54.0040,  -83.1770,  4972, 1208.000,    3.013,   34.364,2,   34.363,2,  195.200,2,  197.900,2,   51.900,2,   33.470,2,    0.010,2,    2.300,2,    0.837,2,    0.373,2, -999.000,9, -999.000,9, -999.000,9
           NA,    P19C,    250,   1,-999.0,      19,  2,19930227,1028, -54.0040,  -83.1770,  4972, 1409.600,    2.707,   34.451,2,   34.451,2,  180.700,2,  182.000,2,   64.400,2,   34.430,2,    0.000,2,    2.360,2,    0.477,2,    0.203,2, -999.000,9, -999.000,9, -999.000,9
           NA,    P19C,    250,   1,-999.0,      18,  2,19930227,1028, -54.0040,  -83.1770,  4972, 1612.800,    2.524,   34.539,2,   34.538,2,  172.700,2,  171.100,2,   75.400,2,   34.710,2,    0.000,2,    2.390,2,    0.226,2,    0.091,2, -999.000,9, -999.000,9, -999.000,9
           NA,    P19C,    250,   1,-999.0,      17,  2,19930227,1028, -54.0040,  -83.1770,  4972, 1816.200,    2.397,   34.602,2,   34.602,2,  168.900,2,  169.700,2,   81.600,2,   34.190,2,    0.000,2,    2.350,2,    0.130,2,    0.052,2, -999.000,9, -999.000,9, -999.000,9
           NA,    P19C,    250,   1,-999.0,      16,  2,19930227,1028, -54.0040,  -83.1770,  4972, 2019.600,    2.268,   34.654,2,   34.654,2,  171.700,2,  172.000,2,   86.100,2,   33.390,2,    0.000,2,    2.300,2,    0.080,2,    0.033,2, -999.000,9, -999.000,9, -999.000,9
           NA,    P19C,    250,   1,-999.0,      15,  2,19930227,1028, -54.0040,  -83.1770,  4972, 2222.600,    2.155,   34.689,2,   34.690,2,  175.200,2,  175.600,2,   89.700,2,   32.790,2,    0.000,2,    2.250,2,    0.044,2,    0.000,2, -999.000,9, -999.000,9, -999.000,9
           NA,    P19C,    250,   1,-999.0,      13,  4,19930227,1028, -54.0040,  -83.1770,  4972, 2425.600,    2.021,   34.707,2, -999.000,2,  178.500,2, -999.000,2, -999.000,2, -999.000,2, -999.000,2, -999.000,2, -999.000,2, -999.000,2, -999.000,9, -999.000,9, -999.000,9
           NA,    P19C,    250,   1,-999.0,      14,  2,19930227,1028, -54.0040,  -83.1770,  4972, 2425.600,    2.021,   34.707,2,   34.707,2,  178.600,2,  177.900,2,   95.200,2,   32.530,2,    0.000,2,    2.230,2,    0.026,2,    0.000,2, -999.000,9, -999.000,9, -999.000,9
           NA,    P19C,    250,   1,-999.0,      12,  2,19930227,1028, -54.0040,  -83.1770,  4972, 2831.500,    1.704,   34.715,2,   34.716,2,  183.300,2,  182.000,2,  107.300,2,   32.590,2,    0.000,2,    2.240,2,    0.018,2,    0.000,2, -999.000,9, -999.000,9, -999.000,9
           NA,    P19C,    250,   1,-999.0,      11,  2,19930227,1028, -54.0040,  -83.1770,  4972, 3034.400,    1.599,   34.720,2,   34.720,2,  186.900,2,  187.100,2,  108.200,2,   32.230,2,    0.000,2,    2.220,2, -999.000,9, -999.000,9, -999.000,9, -999.000,9, -999.000,9
           NA,    P19C,    250,   1,-999.0,      10,  2,19930227,1028, -54.0040,  -83.1770,  4972, 3238.200,    1.479,   34.722,2,   34.722,2,  192.200,2,  191.200,2,  110.400,2,   32.210,2,    0.000,2,    2.220,2, -999.000,9, -999.000,9, -999.000,9, -999.000,9, -999.000,9
           NA,    P19C,    250,   1,-999.0,       9,  2,19930227,1028, -54.0040,  -83.1770,  4972, 3443.200,    1.343,   34.721,2,   34.722,2,  194.300,2,  194.700,2,  113.500,2,   32.190,2,    0.000,2,    2.210,2, -999.000,9, -999.000,9, -999.000,9, -999.000,9, -999.000,9
           NA,    P19C,    250,   1,-999.0,       8,  2,19930227,1028, -54.0040,  -83.1770,  4972, 3648.400,    1.202,   34.718,2,   34.718,2,  198.300,2,  198.200,2,  117.400,2,   32.220,2,    0.000,2,    2.220,2, -999.000,9, -999.000,9, -999.000,9, -999.000,9, -999.000,9
           NA,    P19C,    250,   1,-999.0,       7,  2,19930227,1028, -54.0040,  -83.1770,  4972, 3852.800,    1.031,   34.714,2,   34.717,2,  202.100,2,  201.400,2,  122.800,2,   32.310,2,    0.000,2,    2.220,2,    0.007,2,    0.000,2, -999.000,9, -999.000,9, -999.000,9
           NA,    P19C,    250,   1,-999.0,       6,  2,19930227,1028, -54.0040,  -83.1770,  4972, 4058.700,    0.871,   34.711,2,   34.712,2,  204.000,2,  204.400,2,  127.900,2,   32.380,2,    0.000,2,    2.220,2, -999.000,3,    0.000,2, -999.000,9, -999.000,9, -999.000,9
           NA,    P19C,    250,   1,-999.0,       5,  2,19930227,1028, -54.0040,  -83.1770,  4972, 4262.200,    0.748,   34.709,2,   34.708,2,  206.800,2,  206.700,2,  132.500,2,   32.560,2,    0.000,2,    2.230,2,    0.001,2,    0.000,2, -999.000,9, -999.000,9, -999.000,9
           NA,    P19C,    250,   1,-999.0,       4,  2,19930227,1028, -54.0040,  -83.1770,  4972, 4467.100,    0.684,   34.707,2,   34.707,2,  208.700,2,  208.000,2,  135.500,2,   32.640,2,    0.000,2,    2.240,2,    0.001,2,    0.000,2, -999.000,9, -999.000,9, -999.000,9
           NA,    P19C,    250,   1,-999.0,       3,  2,19930227,1028, -54.0040,  -83.1770,  4972, 4671.700,    0.661,   34.707,2,   34.706,2,  209.300,2,  209.200,2,  136.100,2,   32.570,2,    0.000,2,    2.240,2,    0.005,2,    0.000,2, -999.000,9, -999.000,9, -999.000,9
           NA,    P19C,    250,   1,-999.0,       2,  2,19930227,1028, -54.0040,  -83.1770,  4972, 4876.100,    0.663,   34.707,2,   34.706,2,  209.300,2,  209.700,2,  136.900,2,   32.650,2,    0.000,2,    2.240,2,    0.000,2,    0.000,2, -999.000,9, -999.000,9, -999.000,9
           NA,    P19C,    250,   1,-999.0,       1,  2,19930227,1028, -54.0040,  -83.1770,  4972, 5080.300,    0.664,   34.705,2,   34.706,2,  210.100,2,  210.100,2,  137.400,2,   32.630,2,    0.000,2,    2.240,2,    0.001,2,    0.000,2, -999.000,9, -999.000,9, -999.000,9
           NA,    P19C,    249,   1,-999.0,      36,  2,19930227,0417, -54.0052,  -82.3758,  5299,    2.700,    9.069,   34.068,2,   34.070,2,  290.500,2,  283.900,2,    1.700,2,   15.960,2,    0.270,2,    1.200,2, -999.000,9, -999.000,9, -999.000,9, 2079.200,2, -999.000,9
           NA,    P19C,    249,   1,-999.0,      35,  2,19930227,0417, -54.0052,  -82.3758,  5299,   47.400,    8.496,   34.117,2,   34.137,2,  285.800,2,  286.600,2,    1.900,2,   16.040,2,    0.230,2,    1.220,2, -999.000,9, -999.000,9, -999.000,9, -999.000,9, -999.000,9
           NA,    P19C,    249,   1,-999.0,      34,  2,19930227,0417, -54.0052,  -82.3758,  5299,   87.900,    5.666,   34.218,2,   34.222,2,  290.700,2,  294.900,2,    6.900,2,   19.720,2,    0.280,2,    1.440,2, -999.000,9, -999.000,9, -999.000,9, -999.000,9, -999.000,9
           NA,    P19C,    249,   1,-999.0,      33,  2,19930227,0417, -54.0052,  -82.3758,  5299,  127.800,    5.626,   34.225,2,   34.229,2,  300.200,2,  292.400,2,    7.400,2,   20.340,2,    0.040,2,    1.450,2, -999.000,9, -999.000,9, -999.000,9, -999.000,9, -999.000,9
           NA,    P19C,    249,   1,-999.0,      32,  2,19930227,0417, -54.0052,  -82.3758,  5299,  187.500,    5.569,   34.223,2,   34.226,2,  291.100,2,  293.700,2,    7.200,2,   20.260,2,    0.020,2,    1.450,2, -999.000,9, -999.000,9, -999.000,9, -999.000,9, -999.000,9
           NA,    P19C,    249,   1,-999.0,      31,  2,19930227,0417, -54.0052,  -82.3758,  5299,  247.800,    5.521,   34.223,2,   34.227,2,  289.300,2,  292.400,2,    7.600,2,   20.640,2,    0.010,2,    1.480,2, -999.000,9, -999.000,9, -999.000,9, -999.000,9, -999.000,9
           NA,    P19C,    249,   1,-999.0,      30,  2,19930227,0417, -54.0052,  -82.3758,  5299,  300.600,    5.392,   34.217,2,   34.218,2,  290.600,2,  289.500,2,    8.500,2,   21.160,2,    0.010,2,    1.520,2, -999.000,9, -999.000,9, -999.000,9, -999.000,9, -999.000,9
           NA,    P19C,    249,   1,-999.0,      29,  2,19930227,0417, -54.0052,  -82.3758,  5299,  369.000,    5.175,   34.197,2,   34.199,2,  291.500,2,  295.100,2,    8.600,2,   21.350,2,    0.010,2,    1.530,2, -999.000,9, -999.000,9, -999.000,9, -999.000,9, -999.000,9
           NA,    P19C,    249,   1,-999.0,      28,  2,19930227,0417, -54.0052,  -82.3758,  5299,  428.900,    5.085,   34.192,2,   34.193,2,  292.800,2,  296.800,2,    8.400,2,   21.360,2,    0.000,2,    1.530,2, -999.000,9, -999.000,9, -999.000,9, -999.000,9, -999.000,9
           NA,    P19C,    249,   1,-999.0,      27,  2,19930227,0417, -54.0052,  -82.3758,  5299,  508.200,    5.032,   34.192,2,   34.193,2,  295.600,2,  294.400,2,    8.600,2,   21.540,2,    0.010,2,    1.540,2, -999.000,9, -999.000,9, -999.000,9, -999.000,9, -999.000,9
           NA,    P19C,    249,   1,-999.0,      26,  2,19930227,0417, -54.0052,  -82.3758,  5299,  606.900,    4.933,   34.220,2,   34.222,2,  272.700,2,  268.900,2,   13.600,2,   24.590,2,    0.000,2,    1.780,2, -999.000,9, -999.000,9, -999.000,9, -999.000,9, -999.000,9
           NA,    P19C,    249,   1,-999.0,      72,  2,19930227,0417, -54.0052,  -82.3758,  5299,  707.400,    4.669,   34.223,2,   34.225,2,  258.600,2,  259.400,2,   16.700,2,   26.050,2,    0.000,2,    1.830,2, -999.000,9, -999.000,9, -999.000,9, -999.000,9, -999.000,9
           NA,    P19C,    249,   1,-999.0,      24,  2,19930227,0417, -54.0052,  -82.3758,  5299,  806.600,    4.250,   34.250,2,   34.250,2,  239.100,2,  233.500,2,   25.700,2,   28.890,2,    0.000,2,    2.010,2, -999.000,9, -999.000,9, -999.000,9, -999.000,9, -999.000,9
           NA,    P19C,    249,   1,-999.0,      23,  2,19930227,0417, -54.0052,  -82.3758,  5299,  906.400,    3.767,   34.268,2,   34.268,2,  225.800,2,  224.500,2,   32.300,2,   30.410,2,    0.000,2,    2.130,2, -999.000,9, -999.000,9, -999.000,9, -999.000,9, -999.000,9
           NA,    P19C,    249,   1,-999.0,      21,  2,19930227,0417, -54.0052,  -82.3758,  5299, 1207.300,    3.016,   34.395,2,   34.395,2,  187.700,2,  186.400,2,   56.400,2,   33.760,2,    0.000,2,    2.360,2, -999.000,9, -999.000,9, -999.000,9, -999.000,9, -999.000,9
           NA,    P19C,    249,   1,-999.0,      20,  2,19930227,0417, -54.0052,  -82.3758,  5299, 1408.600,    2.780,   34.488,2,   34.486,2,  165.200,2,  164.800,2,   71.500,2,   35.060,2,    0.000,2,    2.450,2, -999.000,9, -999.000,9, -999.000,9, -999.000,9, -999.000,9
           NA,    P19C,    249,   1,-999.0,      19,  2,19930227,0417, -54.0052,  -82.3758,  5299, 1508.800,    2.662,   34.525,2,   34.525,2,  160.500,2,  161.600,2,   76.900,2,   35.110,2,    0.000,2,    2.450,2, -999.000,9, -999.000,9, -999.000,9, -999.000,9, -999.000,9
           NA,    P19C,    249,   1,-999.0,      18,  2,19930227,0417, -54.0052,  -82.3758,  5299, 1611.600,    2.569,   34.556,2,   34.556,2,  160.100,2,  160.000,2,   81.400,2,   35.010,2,    0.000,2,    2.450,2, -999.000,9, -999.000,9, -999.000,9, -999.000,9, -999.000,9
           NA,    P19C,    249,   1,-999.0,      74,  2,19930227,0417, -54.0052,  -82.3758,  5299, 1814.800,    2.391,   34.609,2,   34.608,2,  158.900,2,  157.600,2,   91.100,2,   34.680,2,    0.000,2,    2.440,2, -999.000,9, -999.000,9, -999.000,9, -999.000,9, -999.000,9
           NA,    P19C,    249,   1,-999.0,      16,  2,19930227,0417, -54.0052,  -82.3758,  5299, 2021.900,    2.246,   34.645,2,   34.644,2,  161.300,2,  160.800,2,   95.800,2,   34.150,2,    0.000,2,    2.400,2, -999.000,9, -999.000,9, -999.000,9, -999.000,9, -999.000,9
           NA,    P19C,    249,   1,-999.0,      15,  2,19930227,0417, -54.0052,  -82.3758,  5299, 2226.200,    2.116,   34.676,2,   34.676,2,  168.200,2,  167.300,2,   98.200,2,   33.330,2,    0.000,2,    2.350,2, -999.000,9, -999.000,9, -999.000,9, -999.000,9, -999.000,9
           NA,    P19C,    249,   1,-999.0,      14,  2,19930227,0417, -54.0052,  -82.3758,  5299, 2429.100,    1.997,   34.691,2,   34.690,2,  167.000,2,  168.900,2,  103.100,2,   33.240,2,    0.000,2,    2.330,2, -999.000,9, -999.000,9, -999.000,9, -999.000,9, -999.000,9
           NA,    P19C,    249,   1,-999.0,      13,  2,19930227,0417, -54.0052,  -82.3758,  5299, 2632.400,    1.881,   34.700,2,   34.701,2,  171.500,2,  171.700,2,  106.600,2,   33.100,2,    0.000,2,    2.320,2, -999.000,9, -999.000,9, -999.000,9, -999.000,9, -999.000,9
           NA,    P19C,    249,   1,-999.0,      12,  2,19930227,0417, -54.0052,  -82.3758,  5299, 2836.900,    1.769,   34.708,2,   34.709,2,  175.700,2,  177.200,2,  108.200,2,   32.760,2,    0.000,2,    2.300,2, -999.000,9, -999.000,9, -999.000,9, -999.000,9, -999.000,9
           NA,    P19C,    249,   1,-999.0,      11,  2,19930227,0417, -54.0052,  -82.3758,  5299, 3040.800,    1.661,   34.714,2,   34.713,2,  181.400,2,  181.600,2,  109.800,2,   32.520,2,    0.000,2,    2.280,2, -999.000,9, -999.000,9, -999.000,9, -999.000,9, -999.000,9
           NA,    P19C,    249,   1,-999.0,      10,  2,19930227,0417, -54.0052,  -82.3758,  5299, 3245.000,    1.546,   34.720,2,   34.720,2,  189.300,2,  188.900,2,  109.800,2,   32.090,2,    0.000,2,    2.230,2, -999.000,9, -999.000,9, -999.000,9, -999.000,9, -999.000,9
           NA,    P19C,    249,   1,-999.0,       9,  2,19930227,0417, -54.0052,  -82.3758,  5299, 3448.400,    1.362,   34.720,2,   34.720,2,  193.200,2,  193.700,2,  113.500,2,   31.910,2,    0.000,2,    2.230,2, -999.000,9, -999.000,9, -999.000,9, -999.000,9, -999.000,9
           NA,    P19C,    249,   1,-999.0,       8,  2,19930227,0417, -54.0052,  -82.3758,  5299, 3654.700,    1.196,   34.717,2,   34.718,2,  197.500,2,  197.700,2,  118.300,2,   32.000,2,    0.000,2,    2.230,2, -999.000,9, -999.000,9, -999.000,9, -999.000,9, -999.000,9
           NA,    P19C,    249,   1,-999.0,       7,  2,19930227,0417, -54.0052,  -82.3758,  5299, 3858.700,    0.997,   34.713,2,   34.714,2,  202.300,2,  201.300,2,  124.300,2,   32.390,2,    0.000,2,    2.240,2, -999.000,9, -999.000,9, -999.000,9, -999.000,9, -999.000,9
           NA,    P19C,    249,   1,-999.0,       6,  2,19930227,0417, -54.0052,  -82.3758,  5299, 4063.900,    0.857,   34.711,2,   34.712,2,  203.800,2,  204.000,2,  129.200,2,   32.440,2,    0.000,2,    2.240,2, -999.000,9, -999.000,9, -999.000,9, -999.000,9, -999.000,9
           NA,    P19C,    249,   1,-999.0,       5,  2,19930227,0417, -54.0052,  -82.3758,  5299, 4319.900,    0.754,   34.708,2,   34.709,2,  206.900,2,  206.400,2,  133.400,2,   32.530,2,    0.000,2,    2.260,2, -999.000,9, -999.000,9, -999.000,9, -999.000,9, -999.000,9
           NA,    P19C,    249,   1,-999.0,       4,  2,19930227,0417, -54.0052,  -82.3758,  5299, 4576.200,    0.710,   34.707,2,   34.708,2,  208.000,2,  207.900,2,  134.700,2,   32.630,2,    0.000,2,    2.260,2, -999.000,9, -999.000,9, -999.000,9, -999.000,9, -999.000,9
           NA,    P19C,    249,   1,-999.0,       3,  2,19930227,0417, -54.0052,  -82.3758,  5299, 4831.700,    0.712,   34.707,2,   34.708,2,  208.200,2,  208.500,2,  135.600,2,   32.540,2,    0.000,2,    2.260,2, -999.000,9, -999.000,9, -999.000,9, -999.000,9, -999.000,9
           NA,    P19C,    249,   1,-999.0,       2,  2,19930227,0417, -54.0052,  -82.3758,  5299, 5088.000,    0.726,   34.707,2,   34.707,2,  209.600,2,  208.800,2,  135.600,2,   32.590,2,    0.000,2,    2.260,2, -999.000,9, -999.000,9, -999.000,9, -999.000,9, -999.000,9
           NA,    P19C,    249,   1,-999.0,       1,  2,19930227,0417, -54.0052,  -82.3758,  5299, 5341.300,    0.747,   34.707,2,   34.708,2,  209.300,2,  208.800,2,  135.800,2,   32.540,2,    0.000,2,    2.270,2, -999.000,9, -999.000,9, -999.000,9, -999.000,9, -999.000,9