BOTTLE,20215010JOAExport
EXPOCODE,SECT_ID,STNNBR,CASTNO,SAMPNO,BTLNBR,BTLNBR_FLAG_W,DATE,TIME,LATITUDE,LONGITUDE,DEPTH,CTDPRS,CTDTMP,CTDSAL,CTDSAL_FLAG_W,SALNTY,SALNTY_FLAG_W,CTDOXY,CTDOXY_FLAG_W,OXYGEN,OXYGEN_FLAG_W,SILCAT,SILCAT_FLAG_W,NITRAT,NITRAT_FLAG_W,NITRIT,NITRIT_FLAG_W,PHSPHT,PHSPHT_FLAG_W,CFC-11,CFC-11_FLAG_W,CFC-12,CFC-12_FLAG_W,SF6,SF6_FLAG_W,TCARBN,TCARBN_FLAG_W,ALKALI,ALKALI_FLAG_W
,,,,,,,,,,,,DB,ITS-90,PSS-78,,PSS-78,,UMOL/KG,,UMOL/KG,,UMOL/KG,,UMOL/KG,,UMOL/KG,,UMOL/KG,,PMOL/KG,,PMOL/KG,,PMOL/KG,,UMOL/KG,,UMOL/KG
           NA,    P19C,    246,   1,-999.0,      36,  2,19930226,0952, -54.0115,  -79.9948,  4214,    3.300,    9.425,   33.980,2,   33.981,2,  292.000,2,  281.900,2,    1.300,2,   14.650,2,    0.220,2,    1.140,2,    3.990,2,    1.928,2, -999.000,9, 2069.800,2, -999.000,9
           NA,    P19C,    246,   1,-999.0,      35,  2,19930226,0952, -54.0115,  -79.9948,  4214,   32.300,    8.787,   34.011,2,   34.016,2,  282.900,2,  284.000,2,    1.300,2,   15.310,2,    0.260,2,    1.190,2, -999.000,9, -999.000,9, -999.000,9, 2078.200,2, -999.000,9
           NA,    P19C,    246,   1,-999.0,      68,  2,19930226,0952, -54.0115,  -79.9948,  4214,   57.500,    8.250,   34.065,2,   34.084,2,  282.100,2,  284.200,2,    2.000,2,   16.300,2,    0.290,2,    1.250,2,    4.163,2,    1.993,2, -999.000,9, 2087.200,2, -999.000,9
           NA,    P19C,    246,   1,-999.0,      33,  2,19930226,0952, -54.0115,  -79.9948,  4214,   82.800,    5.873,   34.126,2,   34.126,2,  283.800,2,  282.100,2,    6.300,2,   20.590,2,    0.490,2,    1.550,2, -999.000,9, -999.000,9, -999.000,9, 2121.200,2, -999.000,9
           NA,    P19C,    246,   1,-999.0,      32,  2,19930226,0952, -54.0115,  -79.9948,  4214,  108.000,    5.536,   34.146,2,   34.150,2,  273.400,2,  282.400,2,    7.700,2,   21.400,2,    0.060,2,    1.560,2,    4.465,2,    2.123,2, -999.000,9, 2119.500,2, -999.000,9
           NA,    P19C,    246,   1,-999.0,      31,  2,19930226,0952, -54.0115,  -79.9948,  4214,  133.000,    5.451,   34.165,2,   34.171,2,  281.200,2,  282.900,2,    8.000,2,   21.530,2,    0.020,2,    1.550,2, -999.000,9, -999.000,9, -999.000,9, 2122.400,2, -999.000,9
           NA,    P19C,    246,   1,-999.0,      30,  2,19930226,0952, -54.0115,  -79.9948,  4214,  158.000,    5.435,   34.179,2,   34.181,2,  278.800,2,  284.000,2,    8.000,2,   21.490,2,    0.010,2,    1.530,2,    4.390,2,    2.069,2, -999.000,9, 2122.500,2, -999.000,9
           NA,    P19C,    246,   1,-999.0,      29,  2,19930226,0952, -54.0115,  -79.9948,  4214,  182.900,    5.412,   34.190,2,   34.194,2,  285.900,2,  284.900,2,    8.000,2,   21.490,2,    0.010,2,    1.530,2,    4.362,2,    2.081,2, -999.000,9, 2122.400,2, -999.000,9
           NA,    P19C,    246,   1,-999.0,      74,  2,19930226,0952, -54.0115,  -79.9948,  4214,  207.600,    5.405,   34.197,2,   34.198,2,  286.900,2,  285.300,2,    8.200,2,   21.450,2,    0.010,2,    1.530,2,    4.356,2,    2.048,2, -999.000,9, 2121.000,2, -999.000,9
           NA,    P19C,    246,   1,-999.0,      27,  2,19930226,0952, -54.0115,  -79.9948,  4214,  255.100,    5.330,   34.200,2,   34.201,2,  280.700,2,  284.800,2,    8.200,2,   21.830,2,    0.010,2,    1.540,2,    4.247,2,    2.020,2, -999.000,9, 2124.100,2, -999.000,9
           NA,    P19C,    246,   1,-999.0,      26,  2,19930226,0952, -54.0115,  -79.9948,  4214,  301.700,    5.283,   34.206,2,   34.208,2,  287.200,2,  283.400,2,    8.900,2,   22.110,2,    0.010,2,    1.570,2,    4.184,2,    1.993,2, -999.000,9, 2124.100,2, -999.000,9
           NA,    P19C,    246,   1,-999.0,      72,  2,19930226,0952, -54.0115,  -79.9948,  4214,  348.800,    5.246,   34.212,2,   34.213,2,  281.900,2,  278.800,2,    9.900,2,   22.820,2,    0.010,2,    1.610,2,    3.994,2,    1.863,2, -999.000,9, 2130.800,2, -999.000,9
           NA,    P19C,    246,   1,-999.0,      24,  2,19930226,0952, -54.0115,  -79.9948,  4214,  399.600,    5.152,   34.214,2,   34.215,2,  277.400,2,  277.000,2,   10.400,2,   23.300,2,    0.000,2,    1.630,2,    3.890,2,    1.822,2, -999.000,9, 2132.600,2, -999.000,9
           NA,    P19C,    246,   1,-999.0,      70,  2,19930226,0952, -54.0115,  -79.9948,  4214,  502.700,    4.951,   34.215,2,   34.216,2,  272.600,2,  274.600,2,   11.900,2,   23.910,2,    0.000,2,    1.690,2,    3.416,2,    1.597,2, -999.000,9, 2135.100,2, -999.000,9
           NA,    P19C,    246,   1,-999.0,      22,  2,19930226,0952, -54.0115,  -79.9948,  4214,  607.100,    4.682,   34.217,2,   34.218,2,  263.000,2,  264.500,2,   15.200,2,   25.620,2,    0.000,2,    1.780,2,    3.195,2,    1.471,2, -999.000,9, 2146.400,2, -999.000,9
           NA,    P19C,    246,   1,-999.0,      28,  2,19930226,0952, -54.0115,  -79.9948,  4214,  709.900,    4.370,   34.225,2,   34.224,2,  245.300,2,  250.000,2,   20.400,2,   27.270,2,    0.000,2,    1.910,2,    2.498,2,    1.142,2, -999.000,9, 2161.000,2, -999.000,9
           NA,    P19C,    246,   1,-999.0,      20,  2,19930226,0952, -54.0115,  -79.9948,  4214,  808.900,    4.051,   34.251,2,   34.252,2,  233.500,2,  231.900,2,   27.600,2,   29.320,2,    0.000,2,    2.050,2,    1.968,2,    0.890,2, -999.000,9, 2176.400,2, -999.000,9
           NA,    P19C,    246,   1,-999.0,      19,  2,19930226,0952, -54.0115,  -79.9948,  4214,  908.600,    3.623,   34.281,2,   34.280,2,  216.800,2,  218.400,2,   35.400,2,   30.990,2,    0.000,2,    2.160,2,    1.913,2,    0.821,2, -999.000,9, 2193.600,2, -999.000,9
           NA,    P19C,    246,   1,-999.0,      18,  2,19930226,0952, -54.0115,  -79.9948,  4214, 1009.400,    3.302,   34.319,2,   34.320,2,  204.100,2,  206.400,2,   43.800,2,   32.140,2,    0.000,2,    2.250,2,    0.996,2,    0.438,2, -999.000,9, 2207.300,2, -999.000,9
           NA,    P19C,    246,   1,-999.0,      17,  2,19930226,0952, -54.0115,  -79.9948,  4214, 1109.400,    3.052,   34.366,2,   34.367,2,  189.800,2,  194.500,2,   52.200,2,   33.200,2,    0.000,2,    2.320,2, -999.000,5, -999.000,5, -999.000,9, 2221.600,2, -999.000,9
           NA,    P19C,    246,   1,-999.0,      16,  2,19930226,0952, -54.0115,  -79.9948,  4214, 1206.100,    2.942,   34.426,2,   34.427,2,  179.300,2,  175.100,2,   61.900,2,   34.360,2,    0.000,2,    2.410,2, -999.000,3, -999.000,3, -999.000,9, 2236.600,2, -999.000,9
           NA,    P19C,    246,   1,-999.0,      15,  2,19930226,0952, -54.0115,  -79.9948,  4214, 1407.700,    2.718,   34.515,2,   34.516,2,  152.200,2,  156.100,2,   77.800,2,   35.420,2,    0.000,2,    2.490,2,    0.077,2,    0.033,2, -999.000,9, 2262.700,2, -999.000,9
           NA,    P19C,    246,   1,-999.0,      14,  2,19930226,0952, -54.0115,  -79.9948,  4214, 1606.600,    2.532,   34.573,2,   34.574,2,  153.000,2,  153.700,2,   86.900,2,   35.230,2,    0.000,2,    2.480,2,    0.021,2,    0.000,2, -999.000,9, 2271.900,2, -999.000,9
           NA,    P19C,    246,   1,-999.0,      13,  2,19930226,0952, -54.0115,  -79.9948,  4214, 1804.500,    2.363,   34.613,2,   34.614,2,  154.700,2,  154.000,2,   94.600,2,   34.900,2,    0.000,2,    2.450,2,    0.004,2,    0.000,2, -999.000,9, 2281.600,2, -999.000,9
           NA,    P19C,    246,   1,-999.0,      12,  2,19930226,0952, -54.0115,  -79.9948,  4214, 1999.800,    2.215,   34.644,2,   34.644,2,  159.000,2,  157.300,2,   99.700,2,   34.460,2,    0.000,2,    2.420,2,    0.011,2,    0.000,2, -999.000,9, 2278.600,2, -999.000,9
           NA,    P19C,    246,   1,-999.0,      11,  2,19930226,0952, -54.0115,  -79.9948,  4214, 2193.900,    2.081,   34.664,2,   34.665,2,  159.600,2,  159.300,2,  105.300,2,   34.270,2,    0.000,2,    2.410,2, -999.000,9, -999.000,9, -999.000,9, 2285.300,2, -999.000,9
           NA,    P19C,    246,   1,-999.0,      10,  2,19930226,0952, -54.0115,  -79.9948,  4214, 2391.700,    1.972,   34.678,2,   34.680,2,  163.600,2,  162.000,2,  109.000,2,   33.990,2,    0.000,2,    2.400,2, -999.000,9, -999.000,9, -999.000,9, 2286.600,2, -999.000,9
           NA,    P19C,    246,   1,-999.0,       9,  2,19930226,0952, -54.0115,  -79.9948,  4214, 2587.100,    1.894,   34.685,2,   34.687,2,  165.900,2,  163.600,2,  112.300,2,   33.890,2,    0.000,2,    2.380,2, -999.000,9, -999.000,9, -999.000,9, 2292.000,2, -999.000,9
           NA,    P19C,    246,   1,-999.0,       8,  2,19930226,0952, -54.0115,  -79.9948,  4214, 2785.800,    1.834,   34.693,2,   34.694,2,  167.300,2,  168.100,2,  112.500,2,   33.700,2,    0.000,2,    2.360,2, -999.000,9, -999.000,9, -999.000,9, 2287.700,2, -999.000,9
           NA,    P19C,    246,   1,-999.0,       7,  2,19930226,0952, -54.0115,  -79.9948,  4214, 2985.200,    1.761,   34.706,2,   34.707,2,  176.800,2,  176.300,2,  110.100,2,   32.890,2,    0.000,2,    2.300,2, -999.000,9, -999.000,9, -999.000,9, 2274.500,2, -999.000,9
           NA,    P19C,    246,   1,-999.0,       6,  2,19930226,0952, -54.0115,  -79.9948,  4214, 3185.000,    1.634,   34.714,2,   34.715,2,  183.100,2,  183.100,2,  110.400,2,   32.410,2,    0.000,2,    2.270,2, -999.000,9, -999.000,9, -999.000,9, 2271.400,2, -999.000,9
           NA,    P19C,    246,   1,-999.0,       5,  2,19930226,0952, -54.0115,  -79.9948,  4214, 3387.600,    1.511,   34.719,2,   34.720,2,  189.100,2,  189.600,2,  110.800,2,   32.030,2,    0.000,2,    2.240,2, -999.000,9, -999.000,9, -999.000,9, 2267.700,2, -999.000,9
           NA,    P19C,    246,   1,-999.0,       4,  2,19930226,0952, -54.0115,  -79.9948,  4214, 3591.200,    1.369,   34.718,2,   34.720,2,  193.000,2,  193.400,2,  114.300,2,   32.030,2,    0.000,2,    2.240,2,    0.000,2,    0.000,2, -999.000,9, 2266.700,2, -999.000,9
           NA,    P19C,    246,   1,-999.0,       3,  2,19930226,0952, -54.0115,  -79.9948,  4214, 3795.400,    1.184,   34.716,2,   34.717,2,  197.000,2,  198.000,2,  118.700,2,   31.990,2,    0.000,2,    2.240,2,    0.000,2,    0.000,2, -999.000,9, 2266.200,2, -999.000,9
           NA,    P19C,    246,   1,-999.0,       2,  2,19930226,0952, -54.0115,  -79.9948,  4214, 3998.900,    1.027,   34.713,2,   34.714,2,  199.800,2,  200.900,2,  124.100,2,   32.230,2,    0.000,2,    2.260,2,   -0.002,2,    0.000,2, -999.000,9, 2266.800,2, -999.000,9
           NA,    P19C,    246,   1,-999.0,       1,  2,19930226,0952, -54.0115,  -79.9948,  4214, 4260.900,    0.776,   34.709,2,   34.709,2,  206.100,2,  205.800,2,  132.000,2,   32.380,2,    0.000,2,    2.260,2,   -0.002,2,    0.000,2, -999.000,9, 2268.400,2, -999.000,9