BOTTLE,20215010JOAExport
EXPOCODE,SECT_ID,STNNBR,CASTNO,SAMPNO,BTLNBR,BTLNBR_FLAG_W,DATE,TIME,LATITUDE,LONGITUDE,DEPTH,CTDPRS,CTDTMP,CTDSAL,CTDSAL_FLAG_W,SALNTY,SALNTY_FLAG_W,CTDOXY,CTDOXY_FLAG_W,OXYGEN,OXYGEN_FLAG_W,SILCAT,SILCAT_FLAG_W,NITRAT,NITRAT_FLAG_W,NITRIT,NITRIT_FLAG_W,PHSPHT,PHSPHT_FLAG_W,CFC-11,CFC-11_FLAG_W,CFC-12,CFC-12_FLAG_W,SF6,SF6_FLAG_W,TCARBN,TCARBN_FLAG_W,ALKALI,ALKALI_FLAG_W
,,,,,,,,,,,,DB,ITS-90,PSS-78,,PSS-78,,UMOL/KG,,UMOL/KG,,UMOL/KG,,UMOL/KG,,UMOL/KG,,UMOL/KG,,PMOL/KG,,PMOL/KG,,PMOL/KG,,UMOL/KG,,UMOL/KG
           NA,    P19C,    251,   1,-999.0,      36,  2,19930227,1631, -53.9998,  -83.9812,  5022,    1.800,    9.126,   34.046,2,   34.046,2,  285.700,2,  284.000,2,    1.800,2,   16.220,2,    0.280,2,    1.220,2, -999.000,9, -999.000,9, -999.000,9, 2079.800,2, -999.000,9
           NA,    P19C,    251,   1,-999.0,      35,  2,19930227,1631, -53.9998,  -83.9812,  5022,   42.800,    8.669,   34.054,2,   34.057,2,  286.100,2,  284.900,2,    1.800,2,   16.330,2,    0.250,2,    1.220,2, -999.000,9, -999.000,9, -999.000,9, 2079.700,2, -999.000,9
           NA,    P19C,    251,   1,-999.0,      68,  2,19930227,1631, -53.9998,  -83.9812,  5022,   67.900,    6.855,   34.101,2,   34.131,2,  297.400,2,  295.800,2,    4.500,2,   18.520,2,    0.270,2,    1.400,2, -999.000,9, -999.000,9, -999.000,9, 2101.200,2, -999.000,9
           NA,    P19C,    251,   1,-999.0,      33,  2,19930227,1631, -53.9998,  -83.9812,  5022,   88.000,    5.646,   34.155,2,   34.160,2,  301.400,2,  300.600,2,    6.100,2,   19.300,2,    0.240,2,    1.440,2, -999.000,9, -999.000,9, -999.000,9, 2109.600,2, -999.000,9
           NA,    P19C,    251,   1,-999.0,      32,  2,19930227,1631, -53.9998,  -83.9812,  5022,  108.200,    5.564,   34.162,2,   34.165,2,  297.000,2,  298.800,2,    6.400,2,   19.400,2,    0.310,2,    1.450,2, -999.000,9, -999.000,9, -999.000,9, 2109.800,2, -999.000,9
           NA,    P19C,    251,   1,-999.0,      31,  2,19930227,1631, -53.9998,  -83.9812,  5022,  157.600,    5.491,   34.174,2,   34.176,2,  295.300,2,  296.100,2,    6.900,2,   20.230,2,    0.270,2,    1.460,2, -999.000,9, -999.000,9, -999.000,9, 2114.500,2, -999.000,9
           NA,    P19C,    251,   1,-999.0,      30,  2,19930227,1631, -53.9998,  -83.9812,  5022,  208.500,    5.504,   34.198,2,   34.201,2,  294.700,2,  294.400,2,    7.100,2,   20.490,2,    0.010,2,    1.460,2, -999.000,9, -999.000,9, -999.000,9, 2114.500,2, -999.000,9
           NA,    P19C,    251,   1,-999.0,      29,  2,19930227,1631, -53.9998,  -83.9812,  5022,  258.200,    5.516,   34.213,2,   34.219,2,  288.900,2,  292.500,2,    7.400,2,   20.530,2,    0.010,2,    1.460,2, -999.000,9, -999.000,9, -999.000,9, 2115.800,2, -999.000,9
           NA,    P19C,    251,   1,-999.0,      28,  2,19930227,1631, -53.9998,  -83.9812,  5022,  308.300,    5.378,   34.212,2,   34.214,2,  286.500,2,  287.200,2,    8.500,2,   21.690,2,    0.000,2,    1.530,2, -999.000,9, -999.000,9, -999.000,9, 2123.000,2, -999.000,9
           NA,    P19C,    251,   1,-999.0,      27,  2,19930227,1631, -53.9998,  -83.9812,  5022,  409.400,    5.198,   34.217,2,   34.218,2,  279.000,2,  281.700,2,   10.300,2,   22.840,2,    0.000,2,    1.620,2, -999.000,9, -999.000,9, -999.000,9, 2126.500,2, -999.000,9
           NA,    P19C,    251,   1,-999.0,      26,  2,19930227,1631, -53.9998,  -83.9812,  5022,  509.900,    5.055,   34.217,2,   34.219,2,  278.000,2,  278.400,2,   11.100,2,   23.550,2,    0.000,2,    1.650,2, -999.000,9, -999.000,9, -999.000,9, 2134.800,2, -999.000,9
           NA,    P19C,    251,   1,-999.0,      25,  2,19930227,1631, -53.9998,  -83.9812,  5022,  610.300,    4.860,   34.217,2,   34.218,2,  268.400,2,  272.100,2,   13.200,2,   24.620,2,    0.000,2,    1.720,2, -999.000,9, -999.000,9, -999.000,9, 2139.700,2, -999.000,9
           NA,    P19C,    251,   1,-999.0,      24,  2,19930227,1631, -53.9998,  -83.9812,  5022,  711.000,    4.493,   34.203,2,   34.205,2,  267.100,2,  268.600,2,   15.900,2,   25.820,2,    0.000,2,    1.800,2, -999.000,9, -999.000,9, -999.000,9, 2145.700,2, -999.000,9
           NA,    P19C,    251,   1,-999.0,      23,  2,19930227,1631, -53.9998,  -83.9812,  5022,  811.800,    4.224,   34.223,2,   34.224,2,  253.100,2,  249.500,2,   22.000,2,   27.920,2,    0.000,2,    1.950,2, -999.000,9, -999.000,9, -999.000,9, 2165.600,2, -999.000,9
           NA,    P19C,    251,   1,-999.0,      22,  2,19930227,1631, -53.9998,  -83.9812,  5022,  911.800,    3.885,   34.259,2,   34.259,2,  228.200,2,  227.700,2,   30.000,2,   30.040,2,    0.000,2,    2.100,2, -999.000,9, -999.000,9, -999.000,9, 2182.400,2, -999.000,9
           NA,    P19C,    251,   1,-999.0,      21,  2,19930227,1631, -53.9998,  -83.9812,  5022, 1012.800,    3.572,   34.289,2,   34.290,2,  214.100,2,  214.700,2,   37.400,2,   31.580,2,    0.000,2,    2.190,2, -999.000,9, -999.000,9, -999.000,9, 2197.800,2, -999.000,9
           NA,    P19C,    251,   1,-999.0,      20,  2,19930227,1631, -53.9998,  -83.9812,  5022, 1224.600,    3.061,   34.390,2,   34.389,2,  189.900,2,  187.200,2,   55.200,2,   33.810,2,    0.000,2,    2.360,2, -999.000,9, -999.000,9, -999.000,9, 2223.300,2, -999.000,9
           NA,    P19C,    251,   1,-999.0,      19,  2,19930227,1631, -53.9998,  -83.9812,  5022, 1448.100,    2.740,   34.493,2,   34.491,2,  168.000,2,  166.200,2,   72.000,2,   35.130,2,    0.000,2,    2.450,2, -999.000,9, -999.000,9, -999.000,9, 2252.700,2, -999.000,9
           NA,    P19C,    251,   1,-999.0,      18,  2,19930227,1631, -53.9998,  -83.9812,  5022, 1671.300,    2.549,   34.568,2,   34.567,2,  153.000,2,  154.900,2,   85.400,2,   35.400,2,    0.000,2,    2.480,2, -999.000,9, -999.000,9, -999.000,9, 2270.800,2, -999.000,9
           NA,    P19C,    251,   1,-999.0,      17,  2,19930227,1631, -53.9998,  -83.9812,  5022, 1823.700,    2.400,   34.607,2,   34.606,2,  155.600,2,  156.600,2,   91.300,2,   35.030,2,    0.000,2,    2.450,2, -999.000,9, -999.000,9, -999.000,9, 2271.200,2, -999.000,9
           NA,    P19C,    251,   1,-999.0,      16,  3,19930227,1631, -53.9998,  -83.9812,  5022, 2026.900,    2.239,   34.643,2, -999.000,4,  159.900,2, -999.000,4, -999.000,4, -999.000,4, -999.000,4, -999.000,4, -999.000,9, -999.000,9, -999.000,9, -999.000,9, -999.000,9
           NA,    P19C,    251,   1,-999.0,      15,  2,19930227,1631, -53.9998,  -83.9812,  5022, 2229.700,    2.134,   34.669,2,   34.669,2,  165.500,2,  165.100,2,   99.000,2,   33.790,2,    0.000,2,    2.370,2, -999.000,9, -999.000,9, -999.000,9, 2275.900,2, -999.000,9
           NA,    P19C,    251,   1,-999.0,      14,  2,19930227,1631, -53.9998,  -83.9812,  5022, 2432.900,    2.005,   34.685,2,   34.685,2,  167.200,2,  166.800,2,  104.400,2,   33.660,2,    0.000,2,    2.360,2, -999.000,9, -999.000,9, -999.000,9, 2275.800,2, -999.000,9
           NA,    P19C,    251,   1,-999.0,      13,  2,19930227,1631, -53.9998,  -83.9812,  5022, 2636.200,    1.879,   34.693,2,   34.694,2,  169.300,2,  168.100,2,  109.500,2,   33.610,2,    0.000,2,    2.360,2, -999.000,9, -999.000,9, -999.000,9, 2280.600,2, -999.000,9
           NA,    P19C,    251,   1,-999.0,      12,  2,19930227,1631, -53.9998,  -83.9812,  5022, 2840.700,    1.818,   34.708,2,   34.707,2,  175.100,2,  176.500,2,  106.600,2,   32.830,2,    0.000,2,    2.290,2, -999.000,9, -999.000,9, -999.000,9, 2270.100,2, -999.000,9
           NA,    P19C,    251,   1,-999.0,      11,  2,19930227,1631, -53.9998,  -83.9812,  5022, 3045.100,    1.703,   34.714,2,   34.713,2,  181.000,2,  181.200,2,  108.600,2,   32.600,2,    0.000,2,    2.280,2, -999.000,9, -999.000,9, -999.000,9, 2270.700,2, -999.000,9
           NA,    P19C,    251,   1,-999.0,      10,  2,19930227,1631, -53.9998,  -83.9812,  5022, 3249.300,    1.586,   34.719,2,   34.719,2,  186.700,2,  187.100,2,  109.600,2,   32.240,2,    0.000,2,    2.250,2, -999.000,9, -999.000,9, -999.000,9, 2266.400,2, -999.000,9
           NA,    P19C,    251,   1,-999.0,       9,  2,19930227,1631, -53.9998,  -83.9812,  5022, 3453.700,    1.434,   34.721,2,   34.719,2,  191.800,2,  192.300,2,  112.000,2,   32.140,2,    0.000,2,    2.230,2, -999.000,9, -999.000,9, -999.000,9, 2261.700,2, -999.000,9
           NA,    P19C,    251,   1,-999.0,       8,  2,19930227,1631, -53.9998,  -83.9812,  5022, 3658.600,    1.288,   34.719,2,   34.719,2,  195.400,2,  196.700,2,  115.400,2,   32.100,2,    0.000,2,    2.230,2, -999.000,9, -999.000,9, -999.000,9, 2264.800,2, -999.000,9
           NA,    P19C,    251,   1,-999.0,       7,  2,19930227,1631, -53.9998,  -83.9812,  5022, 3862.000,    1.120,   34.715,2,   34.715,2,  199.700,2,  199.800,2,  120.400,2,   32.140,2,    0.000,2,    2.230,2, -999.000,9, -999.000,9, -999.000,9, 2264.100,2, -999.000,9
           NA,    P19C,    251,   1,-999.0,       6,  2,19930227,1631, -53.9998,  -83.9812,  5022, 4067.300,    0.967,   34.712,2,   34.712,2,  202.500,2,  202.600,2,  125.200,2,   32.320,2,    0.000,2,    2.240,2, -999.000,9, -999.000,9, -999.000,9, 2268.000,2, -999.000,9
           NA,    P19C,    251,   1,-999.0,       5,  2,19930227,1631, -53.9998,  -83.9812,  5022, 4271.700,    0.824,   34.709,2,   34.709,2,  205.000,2,  204.900,2,  130.200,2,   32.460,2,    0.000,2,    2.250,2, -999.000,9, -999.000,9, -999.000,9, 2267.200,2, -999.000,9
           NA,    P19C,    251,   1,-999.0,       4,  2,19930227,1631, -53.9998,  -83.9812,  5022, 4474.500,    0.711,   34.708,2,   34.707,2,  207.900,2,  207.800,2,  134.100,2,   32.550,2,    0.000,2,    2.260,2, -999.000,9, -999.000,9, -999.000,9, 2265.600,2, -999.000,9
           NA,    P19C,    251,   1,-999.0,       3,  2,19930227,1631, -53.9998,  -83.9812,  5022, 4677.700,    0.665,   34.706,2,   34.706,2,  208.600,2,  209.200,2,  135.800,2,   32.550,2,    0.000,2,    2.260,2, -999.000,9, -999.000,9, -999.000,9, 2264.800,2, -999.000,9
           NA,    P19C,    251,   1,-999.0,       2,  2,19930227,1631, -53.9998,  -83.9812,  5022, 4882.200,    0.657,   34.705,2,   34.706,2,  209.800,2,  209.900,2,  136.500,2,   32.550,2,    0.000,2,    2.260,2, -999.000,9, -999.000,9, -999.000,9, 2266.900,2, -999.000,9
           NA,    P19C,    251,   1,-999.0,      72,  2,19930227,1631, -53.9998,  -83.9812,  5022, 5132.700,    0.667,   34.706,2,   34.706,2,  210.500,2,  210.400,2,  137.100,2,   32.590,2,    0.000,2,    2.260,2, -999.000,9, -999.000,9, -999.000,9, 2264.600,2, -999.000,9