BOTTLE,20215010JOAExport
EXPOCODE,SECT_ID,STNNBR,CASTNO,SAMPNO,BTLNBR,BTLNBR_FLAG_W,DATE,TIME,LATITUDE,LONGITUDE,DEPTH,CTDPRS,CTDTMP,CTDSAL,CTDSAL_FLAG_W,SALNTY,SALNTY_FLAG_W,CTDOXY,CTDOXY_FLAG_W,OXYGEN,OXYGEN_FLAG_W,SILCAT,SILCAT_FLAG_W,NITRAT,NITRAT_FLAG_W,NITRIT,NITRIT_FLAG_W,PHSPHT,PHSPHT_FLAG_W,CFC-11,CFC-11_FLAG_W,CFC-12,CFC-12_FLAG_W,SF6,SF6_FLAG_W,TCARBN,TCARBN_FLAG_W,ALKALI,ALKALI_FLAG_W
,,,,,,,,,,,,DB,ITS-90,PSS-78,,PSS-78,,UMOL/KG,,UMOL/KG,,UMOL/KG,,UMOL/KG,,UMOL/KG,,UMOL/KG,,PMOL/KG,,PMOL/KG,,PMOL/KG,,UMOL/KG,,UMOL/KG
           NA,    P17E,    191,   1,-999.0,       1,  2,19930105,0635, -52.7310, -104.4890,  3795,    5.400,    7.597,   34.296,2,   34.295,2, -999.000,3,  290.400,2,    2.430,2,   14.530,2,    0.210,2,    1.150,2,    4.310,2,    2.114,2, -999.000,9, 2088.300,2, -999.000,9
           NA,    P17E,    191,   1,-999.0,       2,  2,19930105,0635, -52.7310, -104.4890,  3795,   24.800,    7.598,   34.296,2,   34.295,2, -999.000,3,  291.700,2,    2.210,2,   14.530,2,    0.210,2,    1.160,2, -999.000,9, -999.000,9, -999.000,9, -999.000,9, -999.000,9
           NA,    P17E,    191,   1,-999.0,       3,  2,19930105,0635, -52.7310, -104.4890,  3795,   79.100,    7.606,   34.296,2,   34.296,2, -999.000,3,  291.100,2,    2.190,2,   14.540,2,    0.210,2,    1.150,2,    4.315,2,    2.122,2, -999.000,9, -999.000,9, -999.000,9
           NA,    P17E,    191,   1,-999.0,       4,  2,19930105,0635, -52.7310, -104.4890,  3795,  103.800,    7.481,   34.293,2,   34.293,2,  294.000,2,  291.700,2,    2.180,2,   14.600,2,    0.200,2,    1.170,2, -999.000,9, -999.000,9, -999.000,9, -999.000,9, -999.000,9
           NA,    P17E,    191,   1,-999.0,       5,  2,19930105,0635, -52.7310, -104.4890,  3795,  135.300,    7.225,   34.301,2,   34.299,2,  290.100,2,  289.200,2,    2.170,2,   15.060,2,    0.190,2,    1.200,2,    4.340,2,    2.097,2, -999.000,9, -999.000,9, -999.000,9
           NA,    P17E,    191,   1,-999.0,       6,  2,19930105,0635, -52.7310, -104.4890,  3795,  165.500,    6.823,   34.321,2,   34.321,2,  282.100,2,  282.000,2,    4.270,2,   16.990,2,    0.160,2,    1.330,2, -999.000,9, -999.000,9, -999.000,9, -999.000,9, -999.000,9
           NA,    P17E,    191,   1,-999.0,       7,  2,19930105,0635, -52.7310, -104.4890,  3795,  214.300,    6.514,   34.318,2,   34.318,2,  279.100,2,  278.900,2,    5.950,2,   18.830,2,    0.180,2,    1.410,2,    4.179,2,    2.051,2, -999.000,9, -999.000,9, -999.000,9
           NA,    P17E,    191,   1,-999.0,       8,  2,19930105,0635, -52.7310, -104.4890,  3795,  275.000,    6.432,   34.317,2,   34.317,2,  276.100,2,  279.700,2,    6.570,2,   19.320,2,    0.030,2,    1.420,2,    4.047,2,    1.970,2, -999.000,9, -999.000,9, -999.000,9
           NA,    P17E,    191,   1,-999.0,       9,  2,19930105,0635, -52.7310, -104.4890,  3795,  356.900,    6.303,   34.306,2,   34.306,2,  280.600,2,  277.300,2,    7.610,2,   20.010,2,    0.020,2,    1.450,2,    3.890,2,    1.883,2, -999.000,9, -999.000,9, -999.000,9
           NA,    P17E,    191,   1,-999.0,      11,  2,19930105,0635, -52.7310, -104.4890,  3795,  484.600,    5.935,   34.271,2,   34.272,2,  275.900,2,  276.300,2,    8.450,2,   21.090,2,    0.010,2,    1.520,2,    3.858,2,    1.873,2, -999.000,9, -999.000,9, -999.000,9
           NA,    P17E,    191,   1,-999.0,      12,  2,19930105,0635, -52.7310, -104.4890,  3795,  536.400,    5.769,   34.259,2,   34.258,2,  262.000,2,  266.600,2,   10.550,2,   22.630,2,    0.010,2,    1.620,2,    3.489,2,    1.668,2, -999.000,9, -999.000,9, -999.000,9
           NA,    P17E,    191,   1,-999.0,      13,  2,19930105,0635, -52.7310, -104.4890,  3795,  605.800,    5.530,   34.259,2,   34.258,2,  257.400,2,  255.100,2,   13.070,2,   24.330,2,    0.010,2,    1.730,2,    2.981,2,    1.424,2, -999.000,9, -999.000,9, -999.000,9
           NA,    P17E,    191,   1,-999.0,      14,  2,19930105,0635, -52.7310, -104.4890,  3795,  666.100,    5.290,   34.262,2,   34.261,2,  248.900,2,  247.700,2,   15.390,2,   25.530,2,    0.000,2,    1.800,2,    2.653,2,    1.264,2, -999.000,9, -999.000,9, -999.000,9
           NA,    P17E,    191,   1,-999.0,      15,  2,19930105,0635, -52.7310, -104.4890,  3795,  725.200,    5.030,   34.264,2,   34.264,2,  242.200,2,  238.600,2,   18.970,2,   26.840,2,    0.000,2,    1.890,2,    2.338,2,    1.110,2, -999.000,9, -999.000,9, -999.000,9
           NA,    P17E,    191,   1,-999.0,      16,  2,19930105,0635, -52.7310, -104.4890,  3795,  784.900,    4.772,   34.267,2,   34.267,2,  233.900,2,  233.200,2,   21.910,2,   27.820,2,    0.000,2,    1.950,2,    2.058,2,    0.951,2, -999.000,9, -999.000,9, -999.000,9
           NA,    P17E,    191,   1,-999.0,      17,  2,19930105,0635, -52.7310, -104.4890,  3795,  846.800,    4.532,   34.275,2,   34.274,2,  226.900,2,  227.000,2,   25.290,2,   28.910,2,    0.000,2,    2.020,2, -999.000,5, -999.000,5, -999.000,9, -999.000,9, -999.000,9
           NA,    P17E,    191,   1,-999.0,      18,  2,19930105,0635, -52.7310, -104.4890,  3795,  924.400,    4.195,   34.292,2,   34.290,2,  220.100,2,  218.500,2,   30.980,2,   30.060,2,    0.000,2,    2.110,2,    1.508,2,    0.689,2, -999.000,9, -999.000,9, -999.000,9
           NA,    P17E,    191,   1,-999.0,      19,  2,19930105,0635, -52.7310, -104.4890,  3795, 1004.200,    3.755,   34.307,2,   34.305,2,  212.400,2,  212.300,2,   37.100,2,   31.330,2,    0.000,2,    2.190,2,    1.264,2,    0.594,2, -999.000,9, -999.000,9, -999.000,9
           NA,    P17E,    191,   1,-999.0,      20,  2,19930105,0635, -52.7310, -104.4890,  3795, 1151.400,    3.187,   34.348,2,   34.347,2,  200.700,2,  201.400,2,   47.880,2,   32.900,2,    0.000,2,    2.290,2,    0.957,2,    0.444,2, -999.000,9, -999.000,9, -999.000,9
           NA,    P17E,    191,   1,-999.0,      21,  2,19930105,0635, -52.7310, -104.4890,  3795, 1305.500,    2.862,   34.417,2,   34.414,2,  188.500,2,  188.400,2,   58.870,2,   33.830,2,    0.000,2,    2.370,2,    0.605,6,    0.282,6, -999.000,9, -999.000,9, -999.000,9
           NA,    P17E,    191,   1,-999.0,      22,  2,19930105,0635, -52.7310, -104.4890,  3795, 1455.600,    2.649,   34.483,2,   34.480,2,  179.800,2,  179.200,2,   67.540,2,   34.240,2,    0.000,2,    2.400,2,    0.400,2,    0.186,2, -999.000,9, -999.000,9, -999.000,9
           NA,    P17E,    191,   1,-999.0,      23,  2,19930105,0635, -52.7310, -104.4890,  3795, 1603.700,    2.495,   34.542,2,   34.540,2,  174.600,2,  173.800,2,   74.310,2,   34.190,2,    0.000,2,    2.400,2,    0.285,2,    0.129,2, -999.000,9, -999.000,9, -999.000,9
           NA,    P17E,    191,   1,-999.0,      24,  2,19930105,0635, -52.7310, -104.4890,  3795, 1756.300,    2.407,   34.593,2,   34.589,2,  171.500,2,  171.600,2,   79.390,2,   34.020,2,    0.000,2,    2.390,2,    0.173,2,    0.079,2, -999.000,9, -999.000,9, -999.000,9
           NA,    P17E,    191,   1,-999.0,      25,  2,19930105,0635, -52.7310, -104.4890,  3795, 1908.900,    2.318,   34.639,2,   34.637,2,  170.700,2,  170.200,2,   85.110,2,   33.630,2,    0.000,2,    2.350,2,    0.081,2,    0.038,2, -999.000,9, -999.000,9, -999.000,9
           NA,    P17E,    191,   1,-999.0,      26,  2,19930105,0635, -52.7310, -104.4890,  3795, 2114.900,    2.188,   34.679,2,   34.677,2,  173.000,2,  172.500,2,   90.840,2,   33.060,2,    0.000,2,    2.310,2,    0.040,2,    0.020,2, -999.000,9, -999.000,9, -999.000,9
           NA,    P17E,    191,   1,-999.0,      27,  2,19930105,0635, -52.7310, -104.4890,  3795, 2320.800,    2.064,   34.702,2,   34.701,2,  176.100,2,  176.400,2,   94.240,2,   32.660,2,    0.000,2,    2.270,2,    0.034,2,    0.018,2, -999.000,9, -999.000,9, -999.000,9
           NA,    P17E,    191,   1,-999.0,      28,  2,19930105,0635, -52.7310, -104.4890,  3795, 2519.600,    1.889,   34.711,2,   34.709,2,  177.600,2,  178.100,2,  101.490,2,   32.610,2,    0.000,2,    2.270,2, -999.000,9, -999.000,9, -999.000,9, -999.000,9, -999.000,9
           NA,    P17E,    191,   1,-999.0,      29,  2,19930105,0635, -52.7310, -104.4890,  3795, 2720.700,    1.716,   34.709,2,   34.708,2,  179.300,2,  178.300,2,  109.850,2,   33.030,2,    0.000,2,    2.310,2,    0.005,2,    0.006,2, -999.000,9, -999.000,9, -999.000,9
           NA,    P17E,    191,   1,-999.0,      30,  2,19930105,0635, -52.7310, -104.4890,  3795, 2920.300,    1.631,   34.712,2,   34.711,2,  182.000,2,  180.800,2,  112.200,2,   33.030,2,    0.000,2,    2.300,2,    0.009,2,    0.004,2, -999.000,9, -999.000,9, -999.000,9
           NA,    P17E,    191,   1,-999.0,      31,  2,19930105,0635, -52.7310, -104.4890,  3795, 3112.200,    1.558,   34.716,2,   34.715,2,  185.400,2,  185.100,2,  112.400,2,   32.580,2,    0.000,2,    2.270,2, -999.000,9, -999.000,9, -999.000,9, -999.000,9, -999.000,9
           NA,    P17E,    191,   1,-999.0,      32,  2,19930105,0635, -52.7310, -104.4890,  3795, 3305.500,    1.457,   34.718,2,   34.717,2,  190.500,2,  189.800,2,  113.900,2,   32.530,2,    0.000,2,    2.260,2,    0.006,2,    0.002,2, -999.000,9, -999.000,9, -999.000,9
           NA,    P17E,    191,   1,-999.0,      33,  2,19930105,0635, -52.7310, -104.4890,  3795, 3502.100,    1.291,   34.718,2,   34.716,2,  194.000,2,  194.100,2,  117.340,2,   32.480,2,    0.000,2,    2.260,2,    0.009,2,    0.003,2, -999.000,9, -999.000,9, -999.000,9
           NA,    P17E,    191,   1,-999.0,      34,  2,19930105,0635, -52.7310, -104.4890,  3795, 3706.000,    1.104,   34.715,2,   34.714,2,  197.400,2,  198.000,2,  123.390,2,   32.610,2,    0.000,2,    2.260,2, -999.000,9, -999.000,9, -999.000,9, -999.000,9, -999.000,9
           NA,    P17E,    191,   1,-999.0,      35,  2,19930105,0635, -52.7310, -104.4890,  3795, 3905.100,    0.910,   34.712,2,   34.711,2,  201.600,2,  202.200,2,  128.600,2,   32.670,2,    0.000,2,    2.270,2,    0.005,2,    0.001,2, -999.000,9, -999.000,9, -999.000,9
           NA,    P17E,    191,   1,-999.0,      36,  2,19930105,0635, -52.7310, -104.4890,  3795, 4053.000,    0.825,   34.710,2,   34.711,2,  202.700,2,  202.000,2,  129.020,2,   32.740,2,    0.000,2,    2.260,2,    0.009,2,    0.002,2, -999.000,9, -999.000,9, -999.000,9
           NA,    P17E,    192,   1,-999.0,       1,  2,19930105,1346, -52.8132, -103.3203,  4204,    4.700,    7.500,   34.282,2,   34.282,2, -999.000,3,  293.500,2,    3.100,2,   14.950,2,    0.200,2,    1.170,2, -999.000,9, -999.000,9, -999.000,9, 2087.500,2, -999.000,9
           NA,    P17E,    192,   1,-999.0,       2,  2,19930105,1346, -52.8132, -103.3203,  4204,   27.300,    7.500,   34.282,2,   34.281,2, -999.000,3,  293.500,2,    2.840,2,   14.900,2,    0.200,2,    1.170,2, -999.000,9, -999.000,9, -999.000,9, -999.000,9, -999.000,9
           NA,    P17E,    192,   1,-999.0,       3,  2,19930105,1346, -52.8132, -103.3203,  4204,   57.800,    7.500,   34.282,2,   34.281,2, -999.000,3,  293.000,2,    2.780,2,   14.900,2,    0.200,2,    1.170,2, -999.000,9, -999.000,9, -999.000,9, -999.000,9, -999.000,9
           NA,    P17E,    192,   1,-999.0,       4,  2,19930105,1346, -52.8132, -103.3203,  4204,   83.400,    7.491,   34.283,2,   34.281,2, -999.000,3,  293.700,2,    2.720,2,   15.070,2,    0.190,2,    1.180,2, -999.000,9, -999.000,9, -999.000,9, -999.000,9, -999.000,9
           NA,    P17E,    192,   1,-999.0,       5,  2,19930105,1346, -52.8132, -103.3203,  4204,  112.400,    6.831,   34.305,2,   34.305,2,  295.800,2,  286.400,2,    4.760,2,   16.970,2,    0.220,2,    1.300,2, -999.000,9, -999.000,9, -999.000,9, -999.000,9, -999.000,9
           NA,    P17E,    192,   1,-999.0,       6,  2,19930105,1346, -52.8132, -103.3203,  4204,  131.400,    6.679,   34.315,2,   34.314,2,  289.400,2,  282.200,2,    6.170,2,   18.230,2,    0.160,2,    1.350,2, -999.000,9, -999.000,9, -999.000,9, -999.000,9, -999.000,9
           NA,    P17E,    192,   1,-999.0,       7,  2,19930105,1346, -52.8132, -103.3203,  4204,  157.500,    6.500,   34.301,2,   34.300,2,  280.200,2,  284.000,2,    6.740,2,   18.760,2,    0.250,2,    1.390,2, -999.000,9, -999.000,9, -999.000,9, -999.000,9, -999.000,9
           NA,    P17E,    192,   1,-999.0,       8,  2,19930105,1346, -52.8132, -103.3203,  4204,  206.300,    6.372,   34.295,2,   34.290,2,  280.300,2,  286.600,2,    6.680,2,   19.060,2,    0.060,2,    1.390,2, -999.000,9, -999.000,9, -999.000,9, -999.000,9, -999.000,9
           NA,    P17E,    192,   1,-999.0,       9,  2,19930105,1346, -52.8132, -103.3203,  4204,  255.700,    6.396,   34.309,2,   34.309,2,  277.600,2,  279.900,2,    7.460,2,   19.780,2,    0.030,2,    1.430,2, -999.000,9, -999.000,9, -999.000,9, -999.000,9, -999.000,9
           NA,    P17E,    192,   1,-999.0,      11,  2,19930105,1346, -52.8132, -103.3203,  4204,  360.700,    6.201,   34.293,2,   34.293,2,  277.800,2,  282.100,2,    7.620,2,   20.080,2,    0.020,2,    1.450,2, -999.000,9, -999.000,9, -999.000,9, -999.000,9, -999.000,9
           NA,    P17E,    192,   1,-999.0,      12,  2,19930105,1346, -52.8132, -103.3203,  4204,  409.200,    6.109,   34.287,2,   34.287,2,  282.300,2,  281.700,2,    7.770,2,   20.310,2,    0.010,2,    1.450,2, -999.000,9, -999.000,9, -999.000,9, -999.000,9, -999.000,9
           NA,    P17E,    192,   1,-999.0,      13,  2,19930105,1346, -52.8132, -103.3203,  4204,  460.200,    6.000,   34.279,2,   34.279,2,  282.100,2,  277.200,2,    8.550,2,   21.170,2,    0.010,2,    1.510,2, -999.000,9, -999.000,9, -999.000,9, -999.000,9, -999.000,9
           NA,    P17E,    192,   1,-999.0,      14,  2,19930105,1346, -52.8132, -103.3203,  4204,  520.400,    5.825,   34.270,2,   34.270,2,  267.900,2,  265.100,2,   10.800,2,   23.000,2,    0.010,2,    1.620,2, -999.000,9, -999.000,9, -999.000,9, -999.000,9, -999.000,9
           NA,    P17E,    192,   1,-999.0,      15,  2,19930105,1346, -52.8132, -103.3203,  4204,  592.200,    5.527,   34.262,2,   34.260,2,  258.500,2,  256.200,2,   13.260,2,   24.620,2,    0.010,2,    1.720,2, -999.000,9, -999.000,9, -999.000,9, -999.000,9, -999.000,9
           NA,    P17E,    192,   1,-999.0,      16,  2,19930105,1346, -52.8132, -103.3203,  4204,  665.500,    5.230,   34.261,2,   34.261,2,  249.200,2,  245.600,2,   16.560,2,   26.170,2,    0.000,2,    1.810,2, -999.000,9, -999.000,9, -999.000,9, -999.000,9, -999.000,9
           NA,    P17E,    192,   1,-999.0,      17,  2,19930105,1346, -52.8132, -103.3203,  4204,  739.200,    4.906,   34.270,2,   34.269,2,  238.700,2,  233.600,2,   20.900,2,   27.670,2,    0.000,2,    1.920,2, -999.000,9, -999.000,9, -999.000,9, -999.000,9, -999.000,9
           NA,    P17E,    192,   1,-999.0,      18,  2,19930105,1346, -52.8132, -103.3203,  4204,  818.500,    4.456,   34.271,2,   34.269,2,  228.800,2,  227.800,2,   26.080,2,   29.180,2,    0.000,2,    2.020,2, -999.000,9, -999.000,9, -999.000,9, -999.000,9, -999.000,9
           NA,    P17E,    192,   1,-999.0,      19,  2,19930105,1346, -52.8132, -103.3203,  4204,  893.900,    4.154,   34.289,2,   34.287,2,  221.600,2,  219.500,2,   31.060,2,   30.390,2,    0.000,2,    2.090,2, -999.000,9, -999.000,9, -999.000,9, -999.000,9, -999.000,9
           NA,    P17E,    192,   1,-999.0,      20,  2,19930105,1346, -52.8132, -103.3203,  4204,  977.200,    3.732,   34.303,2,   34.301,2,  214.300,2,  213.700,2,   37.080,2,   31.560,2,    0.000,2,    2.170,2, -999.000,9, -999.000,9, -999.000,9, -999.000,9, -999.000,9
           NA,    P17E,    192,   1,-999.0,      21,  2,19930105,1346, -52.8132, -103.3203,  4204, 1159.200,    3.135,   34.359,2,   34.357,2,  199.200,2,  199.500,2,   49.610,2,   33.310,2,    0.000,2,    2.290,2, -999.000,9, -999.000,9, -999.000,9, -999.000,9, -999.000,9
           NA,    P17E,    192,   1,-999.0,      22,  2,19930105,1346, -52.8132, -103.3203,  4204, 1338.500,    2.762,   34.442,2,   34.440,2,  185.300,2,  184.700,2,   62.560,2,   34.360,2,    0.000,2,    2.360,2, -999.000,9, -999.000,9, -999.000,9, -999.000,9, -999.000,9
           NA,    P17E,    192,   1,-999.0,      23,  2,19930105,1346, -52.8132, -103.3203,  4204, 1522.000,    2.528,   34.524,2,   34.522,2,  176.500,2,  175.200,2,   72.600,2,   34.480,2,    0.000,2,    2.390,2, -999.000,9, -999.000,9, -999.000,9, -999.000,9, -999.000,9
           NA,    P17E,    192,   1,-999.0,      24,  2,19930105,1346, -52.8132, -103.3203,  4204, 1714.400,    2.405,   34.592,2,   34.591,2,  172.700,2,  171.300,2,   79.280,2,   34.260,2,    0.000,2,    2.360,2, -999.000,9, -999.000,9, -999.000,9, -999.000,9, -999.000,9
           NA,    P17E,    192,   1,-999.0,      25,  2,19930105,1346, -52.8132, -103.3203,  4204, 1921.600,    2.286,   34.649,2,   34.648,2,  173.100,2,  171.600,2,   85.550,2,   33.680,2,    0.000,2,    2.330,2, -999.000,9, -999.000,9, -999.000,9, -999.000,9, -999.000,9
           NA,    P17E,    192,   1,-999.0,      26,  2,19930105,1346, -52.8132, -103.3203,  4204, 2125.800,    2.167,   34.684,2,   34.683,2,  174.800,2,  174.100,2,   90.360,2,   33.220,2,    0.000,2,    2.290,2, -999.000,9, -999.000,9, -999.000,9, -999.000,9, -999.000,9
           NA,    P17E,    192,   1,-999.0,      27,  2,19930105,1346, -52.8132, -103.3203,  4204, 2325.900,    2.026,   34.705,2,   34.703,2,  177.100,2,  176.900,2,   95.810,2,   32.930,2,    0.000,2,    2.260,2,    0.031,2,    0.020,2, -999.000,9, -999.000,9, -999.000,9
           NA,    P17E,    192,   1,-999.0,      28,  2,19930105,1346, -52.8132, -103.3203,  4204, 2529.600,    1.854,   34.711,2,   34.711,2,  179.200,2,  178.300,2,  103.190,2,   32.940,2,    0.000,2,    2.260,2, -999.000,9, -999.000,9, -999.000,9, -999.000,9, -999.000,9
           NA,    P17E,    192,   1,-999.0,      29,  2,19930105,1346, -52.8132, -103.3203,  4204, 2729.300,    1.697,   34.711,2,   34.712,2,  180.700,2,  179.700,2,  109.320,2,   33.120,2,    0.000,2,    2.280,2, -999.000,9, -999.000,9, -999.000,9, -999.000,9, -999.000,9
           NA,    P17E,    192,   1,-999.0,      30,  2,19930105,1346, -52.8132, -103.3203,  4204, 2934.000,    1.607,   34.715,2,   34.714,2,  184.400,2,  183.700,2,  110.990,2,   32.950,2,    0.000,2,    2.270,2,    0.005,2,    0.004,2, -999.000,9, -999.000,9, -999.000,9
           NA,    P17E,    192,   1,-999.0,      31,  2,19930105,1346, -52.8132, -103.3203,  4204, 3142.200,    1.523,   34.718,2,   34.718,2,  188.500,2,  187.900,2,  112.010,2,   32.780,2,    0.000,2,    2.250,2, -999.000,9, -999.000,9, -999.000,9, -999.000,9, -999.000,9
           NA,    P17E,    192,   1,-999.0,      32,  2,19930105,1346, -52.8132, -103.3203,  4204, 3342.900,    1.407,   34.720,2,   34.719,2,  192.700,2,  192.200,2,  114.110,2,   32.440,2,    0.000,2,    2.240,2,    0.005,2,    0.002,2, -999.000,9, -999.000,9, -999.000,9
           NA,    P17E,    192,   1,-999.0,      33,  2,19930105,1346, -52.8132, -103.3203,  4204, 3548.500,    1.215,   34.718,2,   34.717,2,  197.700,2,  197.500,2,  117.920,2,   32.560,2,    0.000,2,    2.230,2,    0.008,2,    0.006,2, -999.000,9, -999.000,9, -999.000,9
           NA,    P17E,    192,   1,-999.0,      34,  2,19930105,1346, -52.8132, -103.3203,  4204, 3807.700,    0.963,   34.713,2,   34.713,2,  201.500,2,  202.000,2,  126.500,2,   32.860,2,    0.000,2,    2.250,2, -999.000,5,    0.006,2, -999.000,9, -999.000,9, -999.000,9
           NA,    P17E,    192,   1,-999.0,      35,  2,19930105,1346, -52.8132, -103.3203,  4204, 4071.600,    0.821,   34.710,2,   34.711,2,  205.300,2,  204.600,2,  131.660,2,   33.040,2,    0.000,2,    2.250,2,    0.004,2,    0.007,2, -999.000,9, -999.000,9, -999.000,9
           NA,    P17E,    192,   1,-999.0,      36,  2,19930105,1346, -52.8132, -103.3203,  4204, 4319.100,    0.718,   34.709,2,   34.708,2,  208.300,2,  206.800,2,  135.100,2,   33.220,2,    0.000,2,    2.260,2,    0.005,2,    0.007,2, -999.000,9, -999.000,9, -999.000,9