BOTTLE,20215010JOAExport
EXPOCODE,SECT_ID,STNNBR,CASTNO,SAMPNO,BTLNBR,BTLNBR_FLAG_W,DATE,TIME,LATITUDE,LONGITUDE,DEPTH,CTDPRS,CTDTMP,CTDSAL,CTDSAL_FLAG_W,SALNTY,SALNTY_FLAG_W,CTDOXY,CTDOXY_FLAG_W,OXYGEN,OXYGEN_FLAG_W,SILCAT,SILCAT_FLAG_W,NITRAT,NITRAT_FLAG_W,NITRIT,NITRIT_FLAG_W,PHSPHT,PHSPHT_FLAG_W,CFC-11,CFC-11_FLAG_W,CFC-12,CFC-12_FLAG_W,SF6,SF6_FLAG_W,TCARBN,TCARBN_FLAG_W,ALKALI,ALKALI_FLAG_W
,,,,,,,,,,,,DB,ITS-90,PSS-78,,PSS-78,,UMOL/KG,,UMOL/KG,,UMOL/KG,,UMOL/KG,,UMOL/KG,,UMOL/KG,,PMOL/KG,,PMOL/KG,,PMOL/KG,,UMOL/KG,,UMOL/KG
           NA,    P17E,    193,   1,-999.0,       1,  2,19930105,2032, -52.9002, -102.2378,  4417,    4.700,    7.668,   34.279,2,   34.278,2, -999.000,3,  295.800,2,    2.630,2,   14.570,2,    0.210,2,    1.140,2,    4.363,6,    2.118,6, -999.000,9, 2087.300,2, -999.000,9
           NA,    P17E,    193,   1,-999.0,       2,  2,19930105,2032, -52.9002, -102.2378,  4417,   26.900,    7.641,   34.281,2,   34.278,2, -999.000,3,  296.300,2,    2.130,2,   14.560,2,    0.210,2,    1.140,2, -999.000,9, -999.000,9, -999.000,9, -999.000,9, -999.000,9
           NA,    P17E,    193,   1,-999.0,       3,  2,19930105,2032, -52.9002, -102.2378,  4417,   56.700,    7.612,   34.279,2,   34.278,2, -999.000,3,  296.200,2,    1.830,2,   14.610,2,    0.210,2,    1.140,2,    4.320,2,    2.155,2, -999.000,9, -999.000,9, -999.000,9
           NA,    P17E,    193,   1,-999.0,       4,  2,19930105,2032, -52.9002, -102.2378,  4417,   87.000,    7.605,   34.279,2,   34.277,2, -999.000,3,  295.800,2,    1.740,2,   14.610,2,    0.210,2,    1.150,2, -999.000,9, -999.000,9, -999.000,9, -999.000,9, -999.000,9
           NA,    P17E,    193,   1,-999.0,       5,  2,19930105,2032, -52.9002, -102.2378,  4417,  116.300,    7.217,   34.275,2,   34.274,2,  291.600,2,  294.100,2,    2.070,2,   15.180,2,    0.200,2,    1.200,2,    4.317,2,    2.130,2, -999.000,9, -999.000,9, -999.000,9
           NA,    P17E,    193,   1,-999.0,       6,  2,19930105,2032, -52.9002, -102.2378,  4417,  145.900,    6.872,   34.304,2,   34.280,2,  292.200,2,  288.600,2,    3.860,2,   16.390,2,    0.260,2,    1.310,2, -999.000,9, -999.000,9, -999.000,9, -999.000,9, -999.000,9
           NA,    P17E,    193,   1,-999.0,       7,  2,19930105,2032, -52.9002, -102.2378,  4417,  215.900,    6.412,   34.305,2,   34.310,2,  282.500,2,  280.600,2,    6.290,2,   19.590,2,    0.060,2,    1.420,2,    3.998,2,    1.940,2, -999.000,9, -999.000,9, -999.000,9
           NA,    P17E,    193,   1,-999.0,       8,  2,19930105,2032, -52.9002, -102.2378,  4417,  287.100,    6.280,   34.294,2,   34.294,2,  274.800,2,  275.400,2,    7.880,2,   20.680,2,    0.060,2,    1.490,2, -999.000,9, -999.000,9, -999.000,9, -999.000,9, -999.000,9
           NA,    P17E,    193,   1,-999.0,       9,  2,19930105,2032, -52.9002, -102.2378,  4417,  366.200,    6.184,   34.292,2,   34.292,2,  283.700,2,  285.400,2,    6.950,2,   19.730,2,    0.020,2,    1.430,2,    4.034,2,    1.975,2, -999.000,9, -999.000,9, -999.000,9
           NA,    P17E,    193,   1,-999.0,      10,  2,19930105,2032, -52.9002, -102.2378,  4417,  443.000,    6.084,   34.286,2,   34.286,2,  280.900,2,  272.200,2,    8.540,2,   21.580,2,    0.010,2,    1.540,2,    3.517,2,    1.702,2, -999.000,9, -999.000,9, -999.000,9
           NA,    P17E,    193,   1,-999.0,      11,  2,19930105,2032, -52.9002, -102.2378,  4417,  516.100,    5.922,   34.282,2,   34.281,2,  265.100,2,  267.800,2,    9.710,2,   22.320,2,    0.010,2,    1.590,2,    3.342,2,    1.580,2, -999.000,9, -999.000,9, -999.000,9
           NA,    P17E,    193,   1,-999.0,      12,  2,19930105,2032, -52.9002, -102.2378,  4417,  596.200,    5.617,   34.265,2,   34.265,2,  257.900,2,  261.900,2,   11.710,2,   23.650,2,    0.010,2,    1.670,2,    3.057,2,    1.459,2, -999.000,9, -999.000,9, -999.000,9
           NA,    P17E,    193,   1,-999.0,      13,  2,19930105,2032, -52.9002, -102.2378,  4417,  649.400,    5.474,   34.263,2,   34.263,2,  255.600,2,  258.100,2,   12.670,2,   24.280,2,    0.010,2,    1.720,2,    2.847,2,    1.362,2, -999.000,9, -999.000,9, -999.000,9
           NA,    P17E,    193,   1,-999.0,      14,  2,19930105,2032, -52.9002, -102.2378,  4417,  705.600,    5.083,   34.241,2,   34.240,2,  250.400,2,  249.300,2,   15.940,2,   25.830,2,    0.010,2,    1.820,2,    2.787,2,    1.319,2, -999.000,9, -999.000,9, -999.000,9
           NA,    P17E,    193,   1,-999.0,      15,  2,19930105,2032, -52.9002, -102.2378,  4417,  761.700,    4.863,   34.250,2,   34.249,2,  239.300,2,  240.500,2,   19.000,2,   26.980,2,    0.010,2,    1.900,2,    2.470,2,    1.146,2, -999.000,9, -999.000,9, -999.000,9
           NA,    P17E,    193,   1,-999.0,      16,  2,19930105,2032, -52.9002, -102.2378,  4417,  832.400,    4.575,   34.267,2,   34.267,2,  230.900,2,  230.400,2,   23.940,2,   28.250,2,    0.010,2,    1.990,2,    1.995,2,    0.924,2, -999.000,9, -999.000,9, -999.000,9
           NA,    P17E,    193,   1,-999.0,      17,  2,19930105,2032, -52.9002, -102.2378,  4417,  905.500,    4.267,   34.286,2,   34.284,2,  220.200,2,  222.100,2,   28.680,2,   29.470,2,    0.000,2,    2.080,2,    1.557,2,    0.727,2, -999.000,9, -999.000,9, -999.000,9
           NA,    P17E,    193,   1,-999.0,      18,  2,19930105,2032, -52.9002, -102.2378,  4417, 1046.000,    3.634,   34.314,2,   34.312,2,  211.900,2,  210.800,2,   38.660,2,   31.320,2,    0.000,2,    2.200,2,    1.183,2,    0.546,2, -999.000,9, -999.000,9, -999.000,9
           NA,    P17E,    193,   1,-999.0,      19,  2,19930105,2032, -52.9002, -102.2378,  4417, 1197.400,    3.149,   34.363,2,   34.361,2,  197.300,2,  199.000,2,   49.270,2,   32.600,2,    0.000,2,    2.300,2,    0.845,2,    0.395,2, -999.000,9, -999.000,9, -999.000,9
           NA,    P17E,    193,   1,-999.0,      20,  2,19930105,2032, -52.9002, -102.2378,  4417, 1392.200,    2.772,   34.450,2,   34.447,2,  184.200,2,  182.900,2,   62.620,2,   33.810,2,    0.000,2,    2.380,2,    0.439,2,    0.209,2, -999.000,9, -999.000,9, -999.000,9
           NA,    P17E,    193,   1,-999.0,      21,  2,19930105,2032, -52.9002, -102.2378,  4417, 1587.700,    2.528,   34.534,2,   34.532,2,  174.900,2,  174.100,2,   73.470,2,   33.860,2,    0.000,2,    2.400,2,    0.261,2,    0.125,2, -999.000,9, -999.000,9, -999.000,9
           NA,    P17E,    193,   1,-999.0,      22,  2,19930105,2032, -52.9002, -102.2378,  4417, 1785.400,    2.391,   34.600,2,   34.599,2,  172.000,2,  171.500,2,   80.540,2,   33.490,2,    0.000,2,    2.370,2,    0.156,2,    0.072,2, -999.000,9, -999.000,9, -999.000,9
           NA,    P17E,    193,   1,-999.0,      23,  2,19930105,2032, -52.9002, -102.2378,  4417, 1984.300,    2.274,   34.654,2,   34.653,2,  172.000,2,  171.400,2,   86.780,2,   32.940,2,    0.000,2,    2.330,2,    0.072,2,    0.035,2, -999.000,9, -999.000,9, -999.000,9
           NA,    P17E,    193,   1,-999.0,      24,  2,19930105,2032, -52.9002, -102.2378,  4417, 2188.800,    2.147,   34.688,2,   34.687,2,  174.200,2,  174.300,2,   91.560,2,   32.520,2,    0.000,2,    2.300,2,    0.037,2,    0.019,2, -999.000,9, -999.000,9, -999.000,9
           NA,    P17E,    193,   1,-999.0,      25,  2,19930105,2032, -52.9002, -102.2378,  4417, 2390.700,    1.997,   34.706,2,   34.706,2,  177.200,2,  176.700,2,   97.190,2,   32.150,2,    0.000,2,    2.310,2,    0.017,2,    0.011,2, -999.000,9, -999.000,9, -999.000,9
           NA,    P17E,    193,   1,-999.0,      26,  2,19930105,2032, -52.9002, -102.2378,  4417, 2589.100,    1.843,   34.712,2,   34.710,2,  178.500,2,  178.900,2,  103.480,2,   32.200,2,    0.000,2,    2.280,2,    0.010,2,    0.004,2, -999.000,9, -999.000,9, -999.000,9
           NA,    P17E,    193,   1,-999.0,      27,  2,19930105,2032, -52.9002, -102.2378,  4417, 2785.600,    1.709,   34.712,2,   34.711,2,  180.900,2,  180.400,2,  108.720,2,   32.300,2,    0.000,2,    2.280,2,    0.011,2,    0.005,2, -999.000,9, -999.000,9, -999.000,9
           NA,    P17E,    193,   1,-999.0,      28,  2,19930105,2032, -52.9002, -102.2378,  4417, 2980.800,    1.619,   34.717,2,   34.716,2,  183.300,2,  184.600,2,  109.910,2,   32.050,2,    0.000,2,    2.270,2, -999.000,9, -999.000,9, -999.000,9, -999.000,9, -999.000,9
           NA,    P17E,    193,   1,-999.0,      29,  2,19930105,2032, -52.9002, -102.2378,  4417, 3171.200,    1.528,   34.720,2,   34.719,2,  188.100,2,  189.000,2,  111.320,2,   31.980,2,    0.000,2,    2.260,2,    0.008,2,    0.003,2, -999.000,9, -999.000,9, -999.000,9
           NA,    P17E,    193,   1,-999.0,      30,  2,19930105,2032, -52.9002, -102.2378,  4417, 3361.500,    1.414,   34.720,2,   34.720,2,  191.700,2,  192.300,2,  113.800,2,   31.910,2,    0.000,2,    2.260,2, -999.000,9, -999.000,9, -999.000,9, -999.000,9, -999.000,9
           NA,    P17E,    193,   1,-999.0,      31,  2,19930105,2032, -52.9002, -102.2378,  4417, 3555.600,    1.244,   34.717,2,   34.717,2,  195.900,2,  195.900,2,  118.220,2,   32.010,2,    0.000,2,    2.260,2,    0.003,2,    0.004,2, -999.000,9, -999.000,9, -999.000,9
           NA,    P17E,    193,   1,-999.0,      32,  2,19930105,2032, -52.9002, -102.2378,  4417, 3746.500,    1.028,   34.714,2,   34.713,2,  199.600,2,  200.300,2,  123.950,2,   32.050,2,    0.000,2,    2.260,2, -999.000,9, -999.000,9, -999.000,9, -999.000,9, -999.000,9
           NA,    P17E,    193,   1,-999.0,      33,  2,19930105,2032, -52.9002, -102.2378,  4417, 3957.400,    0.860,   34.711,2,   34.710,2,  203.100,2,  203.300,2,  129.280,2,   32.160,2,    0.000,2,    2.270,2,    0.002,2,    0.003,2, -999.000,9, -999.000,9, -999.000,9
           NA,    P17E,    193,   1,-999.0,      34,  2,19930105,2032, -52.9002, -102.2378,  4417, 4151.300,    0.753,   34.709,2,   34.708,2,  206.200,2,  206.100,2,  132.670,2,   32.260,2,    0.000,2,    2.280,2, -999.000,5,    0.005,2, -999.000,9, -999.000,9, -999.000,9
           NA,    P17E,    193,   1,-999.0,      35,  2,19930105,2032, -52.9002, -102.2378,  4417, 4354.200,    0.721,   34.709,2,   34.707,2,  206.900,2,  206.700,2,  134.760,2,   32.300,2,    0.000,2,    2.280,2,    0.005,2,    0.004,2, -999.000,9, -999.000,9, -999.000,9
           NA,    P17E,    193,   1,-999.0,      36,  2,19930105,2032, -52.9002, -102.2378,  4417, 4589.300,    0.729,   34.709,2,   34.707,2,  206.900,2,  206.800,2,  135.110,2,   32.290,2,    0.000,2,    2.280,2,    0.006,2,    0.005,2, -999.000,9, -999.000,9, -999.000,9