BOTTLE,20215010JOAExport
EXPOCODE,SECT_ID,STNNBR,CASTNO,SAMPNO,BTLNBR,BTLNBR_FLAG_W,DATE,TIME,LATITUDE,LONGITUDE,DEPTH,CTDPRS,CTDTMP,CTDSAL,CTDSAL_FLAG_W,SALNTY,SALNTY_FLAG_W,CTDOXY,CTDOXY_FLAG_W,OXYGEN,OXYGEN_FLAG_W,SILCAT,SILCAT_FLAG_W,NITRAT,NITRAT_FLAG_W,NITRIT,NITRIT_FLAG_W,PHSPHT,PHSPHT_FLAG_W,CFC-11,CFC-11_FLAG_W,CFC-12,CFC-12_FLAG_W,SF6,SF6_FLAG_W,TCARBN,TCARBN_FLAG_W,ALKALI,ALKALI_FLAG_W
,,,,,,,,,,,,DB,ITS-90,PSS-78,,PSS-78,,UMOL/KG,,UMOL/KG,,UMOL/KG,,UMOL/KG,,UMOL/KG,,UMOL/KG,,PMOL/KG,,PMOL/KG,,PMOL/KG,,UMOL/KG,,UMOL/KG
           NA,    P17E,    204,   1,-999.0,       1,  2,19930109,0958, -53.8312,  -90.2013,  4928,    6.700,    7.956,   34.226,2,   34.227,2, -999.000,3,  290.500,2,    2.930,2,   14.970,2,    0.190,2,    1.150,2, -999.000,9, -999.000,9, -999.000,9, 2086.200,2, -999.000,9
           NA,    P17E,    204,   1,-999.0,       2,  2,19930109,0958, -53.8312,  -90.2013,  4928,   28.500,    7.951,   34.227,2,   34.227,2, -999.000,3,  289.300,2,    2.720,2,   14.980,2,    0.190,2,    1.150,2, -999.000,9, -999.000,9, -999.000,9, -999.000,9, -999.000,9
           NA,    P17E,    204,   1,-999.0,       3,  2,19930109,0958, -53.8312,  -90.2013,  4928,   59.200,    7.860,   34.233,2,   34.234,2, -999.000,3,  290.000,2,    2.700,2,   14.940,2,    0.180,2,    1.150,2, -999.000,9, -999.000,9, -999.000,9, -999.000,9, -999.000,9
           NA,    P17E,    204,   1,-999.0,       4,  2,19930109,0958, -53.8312,  -90.2013,  4928,   83.500,    6.732,   34.227,2,   34.239,2, -999.000,3,  293.200,2,    5.080,2,   16.810,2,    0.210,2,    1.310,2, -999.000,9, -999.000,9, -999.000,9, -999.000,9, -999.000,9
           NA,    P17E,    204,   1,-999.0,       5,  2,19930109,0958, -53.8312,  -90.2013,  4928,  107.900,    6.014,   34.231,2,   34.232,2,  295.500,2,  295.300,2,    6.540,2,   18.210,2,    0.330,2,    1.390,2, -999.000,9, -999.000,9, -999.000,9, -999.000,9, -999.000,9
           NA,    P17E,    204,   1,-999.0,       6,  2,19930109,0958, -53.8312,  -90.2013,  4928,  132.200,    6.033,   34.242,2,   34.240,2,  292.200,2,  292.300,2,    6.880,2,   18.560,2,    0.470,2,    1.400,2, -999.000,9, -999.000,9, -999.000,9, -999.000,9, -999.000,9
           NA,    P17E,    204,   1,-999.0,       7,  2,19930109,0958, -53.8312,  -90.2013,  4928,  156.000,    6.135,   34.265,2,   34.266,2,  289.200,2,  289.300,2,    6.860,2,   18.930,2,    0.100,2,    1.390,2, -999.000,9, -999.000,9, -999.000,9, -999.000,9, -999.000,9
           NA,    P17E,    204,   1,-999.0,       8,  2,19930109,0958, -53.8312,  -90.2013,  4928,  204.600,    6.048,   34.257,2,   34.258,2,  289.100,2,  291.400,2,    6.830,2,   18.970,2,    0.020,2,    1.390,2, -999.000,9, -999.000,9, -999.000,9, -999.000,9, -999.000,9
           NA,    P17E,    204,   1,-999.0,       9,  2,19930109,0958, -53.8312,  -90.2013,  4928,  254.300,    6.008,   34.254,2,   34.255,2,  286.100,2,  291.800,2,    6.810,2,   19.120,2,    0.010,2,    1.390,2, -999.000,9, -999.000,9, -999.000,9, -999.000,9, -999.000,9
           NA,    P17E,    204,   1,-999.0,      10,  2,19930109,0958, -53.8312,  -90.2013,  4928,  301.400,    6.027,   34.264,2,   34.265,2,  282.600,2,  288.300,2,    6.970,2,   19.370,2,    0.010,2,    1.410,2, -999.000,9, -999.000,9, -999.000,9, -999.000,9, -999.000,9
           NA,    P17E,    204,   1,-999.0,      11,  2,19930109,0958, -53.8312,  -90.2013,  4928,  349.400,    5.897,   34.252,2,   34.255,2,  284.500,2,  287.300,2,    7.130,2,   19.920,2,    0.010,2,    1.440,2, -999.000,9, -999.000,9, -999.000,9, -999.000,9, -999.000,9
           NA,    P17E,    204,   1,-999.0,      12,  2,19930109,0958, -53.8312,  -90.2013,  4928,  422.300,    5.757,   34.245,2,   34.246,2,  282.400,2,  282.600,2,    8.400,2,   20.850,2,    0.010,2,    1.510,2, -999.000,9, -999.000,9, -999.000,9, -999.000,9, -999.000,9
           NA,    P17E,    204,   1,-999.0,      13,  2,19930109,0958, -53.8312,  -90.2013,  4928,  493.100,    5.572,   34.237,2,   34.239,2,  275.800,2,  279.700,2,    9.680,2,   22.030,2,    0.010,2,    1.580,2, -999.000,9, -999.000,9, -999.000,9, -999.000,9, -999.000,9
           NA,    P17E,    204,   1,-999.0,      14,  2,19930109,0958, -53.8312,  -90.2013,  4928,  563.800,    5.407,   34.238,2,   34.237,2,  271.400,2,  274.000,2,   10.770,2,   22.970,2,    0.010,2,    1.630,2, -999.000,9, -999.000,9, -999.000,9, -999.000,9, -999.000,9
           NA,    P17E,    204,   1,-999.0,      15,  2,19930109,0958, -53.8312,  -90.2013,  4928,  633.100,    5.225,   34.235,2,   34.236,2,  265.500,2,  270.500,2,   12.230,2,   23.810,2,    0.010,2,    1.680,2, -999.000,9, -999.000,9, -999.000,9, -999.000,9, -999.000,9
           NA,    P17E,    204,   1,-999.0,      16,  2,19930109,0958, -53.8312,  -90.2013,  4928,  705.500,    4.917,   34.235,2,   34.235,2,  257.800,2,  251.700,2,   17.220,2,   26.130,2,    0.010,2,    1.830,2, -999.000,9, -999.000,9, -999.000,9, -999.000,9, -999.000,9
           NA,    P17E,    204,   1,-999.0,      17,  2,19930109,0958, -53.8312,  -90.2013,  4928,  776.700,    4.713,   34.253,2,   34.254,2,  238.500,2,  236.100,2,   21.660,2,   27.670,2,    0.010,2,    1.940,2, -999.000,9, -999.000,9, -999.000,9, -999.000,9, -999.000,9
           NA,    P17E,    204,   1,-999.0,      18,  2,19930109,0958, -53.8312,  -90.2013,  4928,  872.900,    4.284,   34.270,2,   34.269,2,  232.700,2,  226.300,2,   27.400,2,   29.260,2,    0.000,2,    2.020,2, -999.000,9, -999.000,9, -999.000,9, -999.000,9, -999.000,9
           NA,    P17E,    204,   1,-999.0,      19,  2,19930109,0958, -53.8312,  -90.2013,  4928,  966.300,    3.880,   34.281,2,   34.280,2,  222.800,2,  220.300,2,   32.960,2,   30.260,2,    0.000,2,    2.120,2, -999.000,9, -999.000,9, -999.000,9, -999.000,9, -999.000,9
           NA,    P17E,    204,   1,-999.0,      20,  2,19930109,0958, -53.8312,  -90.2013,  4928, 1133.700,    3.277,   34.336,2,   34.336,2,  204.500,2,  203.300,2,   45.960,2,   32.310,2,    0.000,2,    2.270,2, -999.000,9, -999.000,9, -999.000,9, -999.000,9, -999.000,9
           NA,    P17E,    204,   1,-999.0,      21,  2,19930109,0958, -53.8312,  -90.2013,  4928, 1324.700,    2.835,   34.413,2,   34.412,2,  189.300,2,  189.000,2,   59.350,2,   33.610,2,    0.000,2,    2.360,2, -999.000,9, -999.000,9, -999.000,9, -999.000,9, -999.000,9
           NA,    P17E,    204,   1,-999.0,      22,  2,19930109,0958, -53.8312,  -90.2013,  4928, 1536.900,    2.579,   34.507,2,   34.507,2,  174.900,2,  176.100,2,   71.470,2,   34.170,2,    0.000,2,    2.380,2, -999.000,9, -999.000,9, -999.000,9, -999.000,9, -999.000,9
           NA,    P17E,    204,   1,-999.0,      23,  2,19930109,0958, -53.8312,  -90.2013,  4928, 1775.000,    2.425,   34.597,2,   34.596,2,  167.200,2,  168.300,2,   82.130,2,   33.870,2,    0.000,2,    2.370,2, -999.000,9, -999.000,9, -999.000,9, -999.000,9, -999.000,9
           NA,    P17E,    204,   1,-999.0,      24,  2,19930109,0958, -53.8312,  -90.2013,  4928, 2027.800,    2.260,   34.658,2,   34.656,2,  169.900,2,  170.000,2,   88.510,2,   33.130,2,    0.000,2,    2.320,2, -999.000,9, -999.000,9, -999.000,9, -999.000,9, -999.000,9
           NA,    P17E,    204,   1,-999.0,      25,  2,19930109,0958, -53.8312,  -90.2013,  4928, 2288.400,    2.085,   34.693,2,   34.692,2,  172.600,2,  173.200,2,   95.680,2,   32.690,2,    0.000,2,    2.300,2, -999.000,9, -999.000,9, -999.000,9, -999.000,9, -999.000,9
           NA,    P17E,    204,   1,-999.0,      26,  2,19930109,0958, -53.8312,  -90.2013,  4928, 2548.300,    1.879,   34.702,2,   34.701,2,  175.900,2,  172.700,2,  105.930,2,   32.850,2,    0.000,2,    2.310,2, -999.000,9, -999.000,9, -999.000,9, -999.000,9, -999.000,9
           NA,    P17E,    204,   1,-999.0,      27,  2,19930109,0958, -53.8312,  -90.2013,  4928, 2805.300,    1.744,   34.714,2,   34.712,2,  179.200,2,  180.100,2,  107.070,2,   32.310,2,    0.000,2,    2.270,2, -999.000,9, -999.000,9, -999.000,9, -999.000,9, -999.000,9
           NA,    P17E,    204,   1,-999.0,      28,  2,19930109,0958, -53.8312,  -90.2013,  4928, 3060.100,    1.631,   34.722,2,   34.722,2,  187.100,2,  187.600,2,  106.880,2,   31.820,2,    0.000,2,    2.230,2, -999.000,9, -999.000,9, -999.000,9, -999.000,9, -999.000,9
           NA,    P17E,    204,   1,-999.0,      29,  2,19930109,0958, -53.8312,  -90.2013,  4928, 3312.700,    1.486,   34.724,2,   34.724,2,  190.600,2,  192.800,2,  108.980,2,   31.580,2,    0.000,2,    2.220,2, -999.000,9, -999.000,9, -999.000,9, -999.000,9, -999.000,9
           NA,    P17E,    204,   1,-999.0,      30,  2,19930109,0958, -53.8312,  -90.2013,  4928, 3562.700,    1.319,   34.721,2,   34.720,2,  195.500,2,  195.500,2,  114.550,2,   31.730,2,    0.000,2,    2.230,2, -999.000,9, -999.000,9, -999.000,9, -999.000,9, -999.000,9
           NA,    P17E,    204,   1,-999.0,      31,  2,19930109,0958, -53.8312,  -90.2013,  4928, 3809.900,    1.082,   34.715,2,   34.715,2,  200.300,2,  200.100,2,  121.310,2,   31.940,2,    0.000,2,    2.240,2, -999.000,9, -999.000,9, -999.000,9, -999.000,9, -999.000,9
           NA,    P17E,    204,   1,-999.0,      32,  2,19930109,0958, -53.8312,  -90.2013,  4928, 4074.800,    0.864,   34.711,2,   34.710,2,  204.000,2,  204.300,2,  128.330,2,   32.100,2,    0.000,2,    2.250,2, -999.000,9, -999.000,9, -999.000,9, -999.000,9, -999.000,9
           NA,    P17E,    204,   1,-999.0,      33,  2,19930109,0958, -53.8312,  -90.2013,  4928, 4342.400,    0.711,   34.708,2,   34.708,2,  207.900,2,  207.400,2,  134.040,2,   32.360,2,    0.000,2,    2.260,2, -999.000,9, -999.000,9, -999.000,9, -999.000,9, -999.000,9
           NA,    P17E,    204,   1,-999.0,      34,  2,19930109,0958, -53.8312,  -90.2013,  4928, 4608.100,    0.657,   34.707,2,   34.706,2,  209.700,2,  208.800,2,  136.220,2,   32.370,2,    0.000,2,    2.270,2, -999.000,9, -999.000,9, -999.000,9, -999.000,9, -999.000,9
           NA,    P17E,    204,   1,-999.0,      35,  2,19930109,0958, -53.8312,  -90.2013,  4928, 4871.700,    0.655,   34.706,2,   34.706,2,  209.800,2,  209.300,2,  137.020,2,   32.370,2,    0.000,2,    2.260,2, -999.000,9, -999.000,9, -999.000,9, -999.000,9, -999.000,9
           NA,    P17E,    204,   1,-999.0,      36,  2,19930109,0958, -53.8312,  -90.2013,  4928, 5093.400,    0.671,   34.707,2,   34.705,2,  208.900,2,  209.200,2,  137.230,2,   32.380,2,    0.000,2,    2.260,2, -999.000,9, -999.000,9, -999.000,9, -999.000,9, -999.000,9