BOTTLE,20215010JOAExport
EXPOCODE,SECT_ID,STNNBR,CASTNO,SAMPNO,BTLNBR,BTLNBR_FLAG_W,DATE,TIME,LATITUDE,LONGITUDE,DEPTH,CTDPRS,CTDTMP,CTDSAL,CTDSAL_FLAG_W,SALNTY,SALNTY_FLAG_W,CTDOXY,CTDOXY_FLAG_W,OXYGEN,OXYGEN_FLAG_W,SILCAT,SILCAT_FLAG_W,NITRAT,NITRAT_FLAG_W,NITRIT,NITRIT_FLAG_W,PHSPHT,PHSPHT_FLAG_W,CFC-11,CFC-11_FLAG_W,CFC-12,CFC-12_FLAG_W,SF6,SF6_FLAG_W,TCARBN,TCARBN_FLAG_W,ALKALI,ALKALI_FLAG_W
,,,,,,,,,,,,DB,ITS-90,PSS-78,,PSS-78,,UMOL/KG,,UMOL/KG,,UMOL/KG,,UMOL/KG,,UMOL/KG,,UMOL/KG,,PMOL/KG,,PMOL/KG,,PMOL/KG,,UMOL/KG,,UMOL/KG
           NA,    P17E,    178,   1,-999.0,       1,  2,19930101,1024, -51.8247, -115.9103,  3157,    4.300,    7.902,   34.311,2,   34.310,2, -999.000,3,  291.500,2,    2.550,2,   14.030,2,    0.160,2,    1.130,2, -999.000,9, -999.000,9, -999.000,9, 2087.600,2, -999.000,9
           NA,    P17E,    178,   1,-999.0,       2,  2,19930101,1024, -51.8247, -115.9103,  3157,   25.300,    7.901,   34.311,2,   34.310,2, -999.000,3,  291.300,2,    2.110,2,   14.030,2,    0.160,2,    1.130,2, -999.000,9, -999.000,9, -999.000,9, 2089.300,2, -999.000,9
           NA,    P17E,    178,   1,-999.0,       3,  2,19930101,1024, -51.8247, -115.9103,  3157,   54.900,    7.898,   34.311,2,   34.310,2, -999.000,3,  291.300,2,    2.090,2,   13.970,2,    0.160,2,    1.130,2, -999.000,9, -999.000,9, -999.000,9, 2089.500,2, -999.000,9
           NA,    P17E,    178,   1,-999.0,       4,  2,19930101,1024, -51.8247, -115.9103,  3157,   85.000,    7.245,   34.321,2,   34.317,2, -999.000,3,  291.200,2,    2.910,2,   15.050,2,    0.170,2,    1.230,2, -999.000,9, -999.000,9, -999.000,9, 2096.200,2, -999.000,9
           NA,    P17E,    178,   1,-999.0,       5,  2,19930101,1024, -51.8247, -115.9103,  3157,  120.300,    6.738,   34.327,2,   34.327,2,  287.900,2,  287.500,2,    3.930,2,   16.400,2,    0.200,2,    1.330,2, -999.000,9, -999.000,9, -999.000,9, 2108.900,2, -999.000,9
           NA,    P17E,    178,   1,-999.0,       6,  2,19930101,1024, -51.8247, -115.9103,  3157,  160.900,    6.462,   34.326,2,   34.327,2,  279.300,2,  279.700,2,    6.000,2,   18.770,2,    0.140,2,    1.430,2, -999.000,9, -999.000,9, -999.000,9, 2114.400,2, -999.000,9
           NA,    P17E,    178,   1,-999.0,       7,  2,19930101,1024, -51.8247, -115.9103,  3157,  185.600,    6.396,   34.328,2,   34.329,2,  281.300,2,  278.000,2,    7.450,2,   19.460,2,    0.130,2,    1.440,2, -999.000,9, -999.000,9, -999.000,9, 2117.200,2, -999.000,9
           NA,    P17E,    178,   1,-999.0,       8,  2,19930101,1024, -51.8247, -115.9103,  3157,  235.400,    6.256,   34.315,2,   34.315,2,  280.800,2,  279.100,2,    8.050,2,   19.830,2,    0.060,2,    1.460,2, -999.000,9, -999.000,9, -999.000,9, 2119.700,2, -999.000,9
           NA,    P17E,    178,   1,-999.0,       9,  2,19930101,1024, -51.8247, -115.9103,  3157,  283.800,    6.156,   34.308,2,   34.309,2,  278.700,2,  278.200,2,    8.240,2,   20.140,2,    0.030,2,    1.470,2, -999.000,9, -999.000,9, -999.000,9, 2122.600,2, -999.000,9
           NA,    P17E,    178,   1,-999.0,      10,  2,19930101,1024, -51.8247, -115.9103,  3157,  339.100,    6.036,   34.302,2,   34.302,2,  277.000,2,  275.800,2,    9.050,2,   20.720,2,    0.020,2,    1.510,2, -999.000,9, -999.000,9, -999.000,9, 2124.000,2, -999.000,9
           NA,    P17E,    178,   1,-999.0,      11,  2,19930101,1024, -51.8247, -115.9103,  3157,  395.300,    5.959,   34.301,2,   34.303,2,  273.400,2,  274.400,2,    9.240,2,   21.010,2,    0.020,2,    1.520,2, -999.000,9, -999.000,9, -999.000,9, 2122.600,2, -999.000,9
           NA,    P17E,    178,   1,-999.0,      12,  2,19930101,1024, -51.8247, -115.9103,  3157,  455.200,    5.674,   34.277,2,   34.277,2,  263.300,2,  260.100,2,   11.940,2,   23.040,2,    0.020,2,    1.660,2, -999.000,9, -999.000,9, -999.000,9, 2133.200,2, -999.000,9
           NA,    P17E,    178,   1,-999.0,      13,  2,19930101,1024, -51.8247, -115.9103,  3157,  505.200,    5.419,   34.259,2,   34.260,2,  253.100,2,  256.300,2,   13.800,2,   23.970,2,    0.010,2,    1.720,2, -999.000,9, -999.000,9, -999.000,9, 2140.300,2, -999.000,9
           NA,    P17E,    178,   1,-999.0,      14,  2,19930101,1024, -51.8247, -115.9103,  3157,  551.300,    5.267,   34.253,2,   34.253,2,  256.300,2,  253.100,2,   14.610,2,   24.600,2,    0.010,2,    1.750,2, -999.000,9, -999.000,9, -999.000,9, 2144.600,2, -999.000,9
           NA,    P17E,    178,   1,-999.0,      15,  2,19930101,1024, -51.8247, -115.9103,  3157,  592.600,    5.107,   34.248,2,   34.248,2,  248.600,2,  249.400,2,   16.050,2,   25.300,2,    0.010,2,    1.800,2, -999.000,9, -999.000,9, -999.000,9, 2147.400,2, -999.000,9
           NA,    P17E,    178,   1,-999.0,      16,  2,19930101,1024, -51.8247, -115.9103,  3157,  636.500,    5.023,   34.267,2,   34.267,2,  231.000,2,  237.200,2,   19.370,2,   26.400,2,    0.010,2,    1.880,2, -999.000,9, -999.000,9, -999.000,9, 2157.000,2, -999.000,9
           NA,    P17E,    178,   1,-999.0,      17,  2,19930101,1024, -51.8247, -115.9103,  3157,  686.700,    4.876,   34.283,2,   34.284,2,  227.300,2,  227.400,2,   22.280,2,   27.560,2,    0.010,2,    1.950,2, -999.000,9, -999.000,9, -999.000,9, 2165.200,2, -999.000,9
           NA,    P17E,    178,   1,-999.0,      18,  2,19930101,1024, -51.8247, -115.9103,  3157,  738.600,    4.460,   34.264,2,   34.264,2,  231.800,2,  229.700,2,   24.550,2,   28.380,2,    0.010,2,    2.010,2, -999.000,9, -999.000,9, -999.000,9, 2169.100,2, -999.000,9
           NA,    P17E,    178,   1,-999.0,      19,  2,19930101,1024, -51.8247, -115.9103,  3157,  792.100,    4.369,   34.300,2,   34.299,2,  218.400,2,  216.900,2,   29.750,2,   29.490,2,    0.010,2,    2.080,2, -999.000,9, -999.000,9, -999.000,9, 2184.300,2, -999.000,9
           NA,    P17E,    178,   1,-999.0,      20,  2,19930101,1024, -51.8247, -115.9103,  3157,  848.000,    4.013,   34.296,2,   34.295,2,  213.700,2,  216.800,2,   32.860,2,   30.300,2,    0.000,2,    2.140,2, -999.000,9, -999.000,9, -999.000,9, 2191.100,2, -999.000,9
           NA,    P17E,    178,   1,-999.0,      21,  2,19930101,1024, -51.8247, -115.9103,  3157,  914.800,    3.703,   34.313,2,   34.311,2,  210.500,2,  210.200,2,   38.270,2,   31.120,2,    0.000,2,    2.190,2, -999.000,9, -999.000,9, -999.000,9, 2195.000,2, -999.000,9
           NA,    P17E,    178,   1,-999.0,      22,  2,19930101,1024, -51.8247, -115.9103,  3157, 1019.900,    3.301,   34.345,2,   34.344,2,  202.300,2,  202.100,2,   46.400,2,   32.230,2,    0.000,2,    2.280,2, -999.000,9, -999.000,9, -999.000,9, 2211.100,2, -999.000,9
           NA,    P17E,    178,   1,-999.0,      23,  2,19930101,1024, -51.8247, -115.9103,  3157, 1117.500,    3.054,   34.387,2,   34.387,2,  195.000,2,  193.400,2,   53.480,2,   32.990,2,    0.000,2,    2.340,2, -999.000,9, -999.000,9, -999.000,9, 2219.500,2, -999.000,9
           NA,    P17E,    178,   1,-999.0,      24,  2,19930101,1024, -51.8247, -115.9103,  3157, 1310.100,    2.697,   34.479,2,   34.479,2,  179.500,2,  179.000,2,   66.840,2,   33.870,2,    0.000,2,    2.400,2, -999.000,9, -999.000,9, -999.000,9, 2239.900,2, -999.000,9
           NA,    P17E,    178,   1,-999.0,      25,  2,19930101,1024, -51.8247, -115.9103,  3157, 1512.400,    2.470,   34.567,2,   34.566,2,  172.400,2,  172.000,2,   76.440,2,   33.690,2,    0.000,2,    2.390,2, -999.000,9, -999.000,9, -999.000,9, 2250.900,2, -999.000,9
           NA,    P17E,    178,   1,-999.0,      26,  2,19930101,1024, -51.8247, -115.9103,  3157, 1711.400,    2.338,   34.632,2,   34.632,2,  168.800,2,  167.900,2,   86.700,2,   33.390,2,    0.000,2,    2.370,2, -999.000,9, -999.000,9, -999.000,9, 2261.500,2, -999.000,9
           NA,    P17E,    178,   1,-999.0,      27,  2,19930101,1024, -51.8247, -115.9103,  3157, 1715.000,    2.336,   34.633,2,   34.633,2,  168.800,2,  168.000,2,   87.090,2,   33.390,2,    0.000,2,    2.370,2, -999.000,9, -999.000,9, -999.000,9, 2261.100,2, -999.000,9
           NA,    P17E,    178,   1,-999.0,      28,  2,19930101,1024, -51.8247, -115.9103,  3157, 1881.400,    2.233,   34.664,2,   34.663,2,  169.800,2,  170.200,2,   90.420,2,   32.910,2,    0.000,2,    2.340,2, -999.000,9, -999.000,9, -999.000,9, 2262.500,2, -999.000,9
           NA,    P17E,    178,   1,-999.0,      29,  2,19930101,1024, -51.8247, -115.9103,  3157, 1988.400,    2.175,   34.676,2,   34.676,2,  170.000,2,  170.500,2,   93.340,2,   32.850,2,    0.000,2,    2.330,2, -999.000,9, -999.000,9, -999.000,9, 2263.200,2, -999.000,9
           NA,    P17E,    178,   1,-999.0,      30,  2,19930101,1024, -51.8247, -115.9103,  3157, 2076.500,    2.112,   34.685,2,   34.686,2,  169.800,2,  170.400,2,   96.680,2,   32.840,2,    0.000,2,    2.330,2, -999.000,9, -999.000,9, -999.000,9, 2267.000,2, -999.000,9
           NA,    P17E,    178,   1,-999.0,      31,  2,19930101,1024, -51.8247, -115.9103,  3157, 2262.000,    1.978,   34.701,2,   34.701,2,  173.700,2,  173.800,2,  100.870,2,   32.660,2,    0.000,2,    2.320,2, -999.000,9, -999.000,9, -999.000,9, 2267.500,2, -999.000,9
           NA,    P17E,    178,   1,-999.0,      32,  2,19930101,1024, -51.8247, -115.9103,  3157, 2466.500,    1.798,   34.705,2,   34.705,2,  176.200,2,  174.800,2,  108.250,2,   32.780,2,    0.000,2,    2.320,2, -999.000,9, -999.000,9, -999.000,9, 2273.200,2, -999.000,9
           NA,    P17E,    178,   1,-999.0,      33,  2,19930101,1024, -51.8247, -115.9103,  3157, 2672.800,    1.654,   34.708,2,   34.708,2,  177.900,2,  178.100,2,  112.460,2,   32.710,2,    0.000,2,    2.290,2, -999.000,9, -999.000,9, -999.000,9, 2274.600,2, -999.000,9
           NA,    P17E,    178,   1,-999.0,      34,  2,19930101,1024, -51.8247, -115.9103,  3157, 2879.000,    1.595,   34.711,2,   34.712,2,  181.600,2,  181.200,2,  113.490,2,   32.480,2,    0.000,2,    2.280,2, -999.000,9, -999.000,9, -999.000,9, 2272.800,2, -999.000,9
           NA,    P17E,    178,   1,-999.0,      35,  2,19930101,1024, -51.8247, -115.9103,  3157, 3081.800,    1.556,   34.715,2,   34.716,2,  184.500,2,  185.000,2,  113.240,2,   32.240,2,    0.000,2,    2.270,2, -999.000,9, -999.000,9, -999.000,9, 2268.900,2, -999.000,9
           NA,    P17E,    178,   1,-999.0,      36,  2,19930101,1024, -51.8247, -115.9103,  3157, 3180.100,    1.540,   34.716,2,   34.717,2,  186.600,2,  186.300,2,  113.420,2,   32.170,2,    0.000,2,    2.260,2, -999.000,9, -999.000,9, -999.000,9, 2266.300,2, -999.000,9