BOTTLE,20215010JOAExport
EXPOCODE,SECT_ID,STNNBR,CASTNO,SAMPNO,BTLNBR,BTLNBR_FLAG_W,DATE,TIME,LATITUDE,LONGITUDE,DEPTH,CTDPRS,CTDTMP,CTDSAL,CTDSAL_FLAG_W,SALNTY,SALNTY_FLAG_W,CTDOXY,CTDOXY_FLAG_W,OXYGEN,OXYGEN_FLAG_W,SILCAT,SILCAT_FLAG_W,NITRAT,NITRAT_FLAG_W,NITRIT,NITRIT_FLAG_W,PHSPHT,PHSPHT_FLAG_W,CFC-11,CFC-11_FLAG_W,CFC-12,CFC-12_FLAG_W,SF6,SF6_FLAG_W,TCARBN,TCARBN_FLAG_W,ALKALI,ALKALI_FLAG_W
,,,,,,,,,,,,DB,ITS-90,PSS-78,,PSS-78,,UMOL/KG,,UMOL/KG,,UMOL/KG,,UMOL/KG,,UMOL/KG,,UMOL/KG,,PMOL/KG,,PMOL/KG,,PMOL/KG,,UMOL/KG,,UMOL/KG
           NA,    P17E,    169,   1,-999.0,       1,  2,19921230,1110, -51.2567, -123.3178,  3608,    4.000,    7.770,   34.395,2,   34.395,2, -999.000,3,  298.100,2,    1.890,2,   13.800,2,    0.200,2,    1.060,2,    4.249,2,    2.102,2, -999.000,9, 2092.100,2, -999.000,9
           NA,    P17E,    169,   1,-999.0,       2,  2,19921230,1110, -51.2567, -123.3178,  3608,   27.900,    7.777,   34.395,2,   34.395,2, -999.000,3,  298.100,2,    1.890,2,   13.850,2,    0.200,2,    1.060,2, -999.000,9, -999.000,9, -999.000,9, -999.000,9, -999.000,9
           NA,    P17E,    169,   1,-999.0,       3,  2,19921230,1110, -51.2567, -123.3178,  3608,   52.800,    7.517,   34.405,2,   34.405,2, -999.000,3,  296.800,2,    1.890,2,   14.450,2,    0.200,2,    1.120,2,    4.213,6,    2.077,6, -999.000,9, -999.000,9, -999.000,9
           NA,    P17E,    169,   1,-999.0,       4,  2,19921230,1110, -51.2567, -123.3178,  3608,   72.900,    7.427,   34.401,2,   34.401,2, -999.000,3,  294.800,2,    1.890,2,   14.830,2,    0.210,2,    1.150,2, -999.000,9, -999.000,9, -999.000,9, -999.000,9, -999.000,9
           NA,    P17E,    169,   1,-999.0,       5,  2,19921230,1110, -51.2567, -123.3178,  3608,  103.000,    7.167,   34.400,2,   34.398,2,  290.500,2,  287.200,2,    3.560,2,   15.910,2,    0.220,2,    1.260,2,    4.138,2,    2.020,2, -999.000,9, -999.000,9, -999.000,9
           NA,    P17E,    169,   1,-999.0,       6,  2,19921230,1110, -51.2567, -123.3178,  3608,  153.300,    7.008,   34.405,2,   34.406,2,  287.900,2,  282.100,2,    6.080,2,   17.320,2,    0.190,2,    1.300,2, -999.000,9, -999.000,9, -999.000,9, -999.000,9, -999.000,9
           NA,    P17E,    169,   1,-999.0,       7,  2,19921230,1110, -51.2567, -123.3178,  3608,  203.400,    6.971,   34.404,2,   34.403,2,  282.900,2,  281.800,2,    6.280,2,   17.550,2,    0.180,2,    1.320,2,    3.981,2,    1.939,2, -999.000,9, -999.000,9, -999.000,9
           NA,    P17E,    169,   1,-999.0,       8,  2,19921230,1110, -51.2567, -123.3178,  3608,  258.200,    6.905,   34.401,2,   34.400,2,  282.200,2,  283.500,2,    6.700,2,   17.410,2,    0.320,2,    1.310,2, -999.000,9, -999.000,9, -999.000,9, -999.000,9, -999.000,9
           NA,    P17E,    169,   1,-999.0,       9,  2,19921230,1110, -51.2567, -123.3178,  3608,  307.600,    6.845,   34.394,2,   34.394,2,  280.200,2,  282.400,2,    6.700,2,   17.760,2,    0.290,2,    1.330,2,    4.030,2,    1.977,2, -999.000,9, -999.000,9, -999.000,9
           NA,    P17E,    169,   1,-999.0,      10,  2,19921230,1110, -51.2567, -123.3178,  3608,  357.400,    6.726,   34.379,2,   34.379,2,  280.400,2,  280.200,2,    6.910,2,   18.330,2,    0.160,2,    1.350,2,    3.931,2,    1.931,2, -999.000,9, -999.000,9, -999.000,9
           NA,    P17E,    169,   1,-999.0,      11,  2,19921230,1110, -51.2567, -123.3178,  3608,  407.000,    6.565,   34.360,2,   34.360,2,  280.600,2,  279.800,2,    7.110,2,   18.870,2,    0.110,2,    1.390,2, -999.000,9, -999.000,9, -999.000,9, -999.000,9, -999.000,9
           NA,    P17E,    169,   1,-999.0,      12,  2,19921230,1110, -51.2567, -123.3178,  3608,  457.500,    6.421,   34.346,2,   34.346,2,  278.300,2,  274.800,2,    8.370,2,   20.010,2,    0.020,2,    1.450,2,    3.913,2,    1.913,2, -999.000,9, -999.000,9, -999.000,9
           NA,    P17E,    169,   1,-999.0,      13,  2,19921230,1110, -51.2567, -123.3178,  3608,  507.700,    6.253,   34.329,2,   34.329,2,  274.700,2,  273.400,2,    8.780,2,   20.560,2,    0.010,2,    1.480,2,    3.698,2,    1.823,2, -999.000,9, -999.000,9, -999.000,9
           NA,    P17E,    169,   1,-999.0,      14,  2,19921230,1110, -51.2567, -123.3178,  3608,  557.500,    6.066,   34.313,2,   34.311,2,  274.100,2,  274.600,2,    9.410,2,   21.000,2,    0.010,2,    1.510,2,    3.749,2,    1.834,2, -999.000,9, -999.000,9, -999.000,9
           NA,    P17E,    169,   1,-999.0,      15,  2,19921230,1110, -51.2567, -123.3178,  3608,  606.700,    5.830,   34.285,2,   34.287,2,  268.800,2,  266.500,2,   10.660,2,   22.330,2,    0.010,2,    1.600,2,    3.394,2,    1.647,2, -999.000,9, -999.000,9, -999.000,9
           NA,    P17E,    169,   1,-999.0,      16,  2,19921230,1110, -51.2567, -123.3178,  3608,  656.500,    5.504,   34.265,2,   34.258,2,  265.200,2,  259.900,2,   12.950,2,   23.760,2,    0.010,2,    1.680,2,    3.180,2,    1.533,2, -999.000,9, -999.000,9, -999.000,9
           NA,    P17E,    169,   1,-999.0,      17,  2,19921230,1110, -51.2567, -123.3178,  3608,  705.800,    5.180,   34.241,2,   34.242,2,  252.400,2,  254.900,2,   14.830,2,   24.870,2,    0.010,2,    1.750,2,    3.001,2,    1.443,2, -999.000,9, -999.000,9, -999.000,9
           NA,    P17E,    169,   1,-999.0,      18,  2,19921230,1110, -51.2567, -123.3178,  3608,  755.400,    4.916,   34.234,2,   34.232,2,  250.900,2,  254.700,2,   16.500,2,   25.530,2,    0.010,2,    1.800,2,    2.993,2,    1.426,2, -999.000,9, -999.000,9, -999.000,9
           NA,    P17E,    169,   1,-999.0,      19,  2,19921230,1110, -51.2567, -123.3178,  3608,  830.000,    4.900,   34.291,2,   34.289,2,  227.400,2,  226.800,2,   23.170,2,   27.860,2,    0.010,2,    1.950,2,    1.947,2,    0.922,2, -999.000,9, -999.000,9, -999.000,9
           NA,    P17E,    169,   1,-999.0,      20,  2,19921230,1110, -51.2567, -123.3178,  3608,  914.300,    4.504,   34.310,2,   34.307,2,  214.000,2,  215.800,2,   29.640,2,   29.470,2,    0.010,2,    2.050,2,    1.481,2,    0.696,2, -999.000,9, -999.000,9, -999.000,9
           NA,    P17E,    169,   1,-999.0,      21,  2,19921230,1110, -51.2567, -123.3178,  3608,  989.500,    4.128,   34.325,2,   34.325,2,  207.900,2,  208.000,2,   35.890,2,   30.700,2,    0.010,2,    2.140,2,    1.136,2,    0.539,2, -999.000,9, -999.000,9, -999.000,9
           NA,    P17E,    169,   1,-999.0,      22,  2,19921230,1110, -51.2567, -123.3178,  3608, 1063.900,    3.837,   34.337,2,   34.336,2,  204.200,2,  204.700,2,   40.260,2,   31.530,2,    0.000,2,    2.190,2,    1.001,2,    0.468,2, -999.000,9, -999.000,9, -999.000,9
           NA,    P17E,    169,   1,-999.0,      23,  2,19921230,1110, -51.2567, -123.3178,  3608, 1216.000,    3.301,   34.384,2,   34.381,2,  191.900,2,  193.000,2,   51.930,2,   33.040,2,    0.000,2,    2.300,2,    0.690,2,    0.333,2, -999.000,9, -999.000,9, -999.000,9
           NA,    P17E,    169,   1,-999.0,      24,  2,19921230,1110, -51.2567, -123.3178,  3608, 1419.300,    2.813,   34.467,2,   34.466,2,  180.000,2,  180.100,2,   66.110,2,   34.160,2,    0.000,2,    2.370,2,    0.413,2,    0.199,2, -999.000,9, -999.000,9, -999.000,9
           NA,    P17E,    169,   1,-999.0,      25,  2,19921230,1110, -51.2567, -123.3178,  3608, 1622.200,    2.556,   34.548,2,   34.546,2,  173.600,2,  172.800,2,   75.700,2,   34.320,2,    0.000,2,    2.360,2,    0.245,2,    0.116,2, -999.000,9, -999.000,9, -999.000,9
           NA,    P17E,    169,   1,-999.0,      27,  4,19921230,1110, -51.2567, -123.3178,  3608, 1823.600,    2.413,   34.613,2, -999.000,2,  171.900,2, -999.000,2, -999.000,2, -999.000,2, -999.000,2, -999.000,2, -999.000,2, -999.000,2, -999.000,9, -999.000,9, -999.000,9
           NA,    P17E,    169,   1,-999.0,      26,  2,19921230,1110, -51.2567, -123.3178,  3608, 1823.600,    2.413,   34.613,2,   34.610,2,  171.900,2,  170.100,2,   83.000,2,   33.910,2,    0.000,2,    2.330,2,    0.116,2,    0.056,2, -999.000,9, -999.000,9, -999.000,9
           NA,    P17E,    169,   1,-999.0,      28,  2,19921230,1110, -51.2567, -123.3178,  3608, 2232.100,    2.172,   34.692,2,   34.693,2,  176.100,2,  176.600,2,   90.290,2,   32.600,2,    0.000,2,    2.240,2,    0.039,2,    0.021,2, -999.000,9, -999.000,9, -999.000,9
           NA,    P17E,    169,   1,-999.0,      29,  2,19921230,1110, -51.2567, -123.3178,  3608, 2434.500,    2.047,   34.714,2,   34.714,2,  180.200,2,  180.900,2,   93.620,2,   32.140,2,    0.000,2,    2.210,2,    0.025,2,    0.013,2, -999.000,9, -999.000,9, -999.000,9
           NA,    P17E,    169,   1,-999.0,      30,  2,19921230,1110, -51.2567, -123.3178,  3608, 2637.000,    1.897,   34.721,2,   34.721,2,  182.200,2,  183.300,2,   99.480,2,   32.020,2,    0.000,2,    2.200,2, -999.000,9, -999.000,9, -999.000,9, -999.000,9, -999.000,9
           NA,    P17E,    169,   1,-999.0,      31,  2,19921230,1110, -51.2567, -123.3178,  3608, 2841.200,    1.722,   34.719,2,   34.720,2,  182.900,2,  184.100,2,  106.630,2,   32.460,2,    0.000,2,    2.230,2,    0.003,6,    0.004,6, -999.000,9, -999.000,9, -999.000,9
           NA,    P17E,    169,   1,-999.0,      32,  2,19921230,1110, -51.2567, -123.3178,  3608, 3045.400,    1.584,   34.718,2,   34.717,2,  184.400,2,  185.700,2,  111.470,2,   32.560,2,    0.000,2,    2.240,2,    0.003,2,    0.006,2, -999.000,9, -999.000,9, -999.000,9
           NA,    P17E,    169,   1,-999.0,      33,  2,19921230,1110, -51.2567, -123.3178,  3608, 3255.100,    1.438,   34.709,2,   34.709,2,  184.900,2,  185.200,2,  118.660,2,   33.000,2,    0.000,2,    2.270,2, -999.000,9, -999.000,9, -999.000,9, -999.000,9, -999.000,9
           NA,    P17E,    169,   1,-999.0,      34,  2,19921230,1110, -51.2567, -123.3178,  3608, 3461.200,    1.389,   34.714,2,   34.714,2,  188.300,2,  189.300,2,  117.990,2,   32.600,2,    0.000,2,    2.260,2, -999.000,5,    0.003,2, -999.000,9, -999.000,9, -999.000,9
           NA,    P17E,    169,   1,-999.0,      35,  2,19921230,1110, -51.2567, -123.3178,  3608, 3687.300,    1.368,   34.711,2,   34.713,2,  189.600,2,  189.600,2,  119.230,2,   32.760,2,    0.000,2,    2.260,2,   -0.001,2,    0.001,2, -999.000,9, -999.000,9, -999.000,9
           NA,    P17E,    169,   1,-999.0,      36,  2,19921230,1110, -51.2567, -123.3178,  3608, 3806.300,    1.380,   34.712,2,   34.712,2,  190.000,2,  189.600,2,  119.200,2,   32.810,2,    0.000,2,    2.260,2,    0.003,2,    0.002,2, -999.000,9, -999.000,9, -999.000,9