BOTTLE,20215010JOAExport
EXPOCODE,SECT_ID,STNNBR,CASTNO,SAMPNO,BTLNBR,BTLNBR_FLAG_W,DATE,TIME,LATITUDE,LONGITUDE,DEPTH,CTDPRS,CTDTMP,CTDSAL,CTDSAL_FLAG_W,SALNTY,SALNTY_FLAG_W,CTDOXY,CTDOXY_FLAG_W,OXYGEN,OXYGEN_FLAG_W,SILCAT,SILCAT_FLAG_W,NITRAT,NITRAT_FLAG_W,NITRIT,NITRIT_FLAG_W,PHSPHT,PHSPHT_FLAG_W,CFC-11,CFC-11_FLAG_W,CFC-12,CFC-12_FLAG_W,SF6,SF6_FLAG_W,TCARBN,TCARBN_FLAG_W,ALKALI,ALKALI_FLAG_W
,,,,,,,,,,,,DB,ITS-90,PSS-78,,PSS-78,,UMOL/KG,,UMOL/KG,,UMOL/KG,,UMOL/KG,,UMOL/KG,,UMOL/KG,,PMOL/KG,,PMOL/KG,,PMOL/KG,,UMOL/KG,,UMOL/KG
           NA,    P19C,    245,   1,-999.0,      36,  3,19930226,0423, -53.8528,  -79.2507,  4209,    3.000,    9.082,   33.986,2, -999.000,4,  288.000,2, -999.000,4, -999.000,4, -999.000,4, -999.000,4, -999.000,4, -999.000,9, -999.000,9, -999.000,9, -999.000,2, -999.000,9
           NA,    P19C,    245,   1,-999.0,      35,  2,19930226,0423, -53.8528,  -79.2507,  4209,   30.700,    8.770,   34.037,2,   34.040,2,  284.000,2,  285.200,2,    1.300,2,   15.200,2,    0.200,2,    1.130,2, -999.000,9, -999.000,9, -999.000,9, -999.000,9, -999.000,9
           NA,    P19C,    245,   1,-999.0,      34,  2,19930226,0423, -53.8528,  -79.2507,  4209,   56.500,    8.694,   34.045,2,   34.045,2,  288.700,2,  285.200,2,    1.100,2,   15.100,2,    0.210,2,    1.140,2, -999.000,9, -999.000,9, -999.000,9, -999.000,9, -999.000,9
           NA,    P19C,    245,   1,-999.0,      33,  2,19930226,0423, -53.8528,  -79.2507,  4209,   81.400,    5.943,   34.124,2,   34.129,2,  288.000,2,  287.300,2,    4.600,2,   20.010,2,    0.450,2,    1.500,2, -999.000,9, -999.000,9, -999.000,9, -999.000,9, -999.000,9
           NA,    P19C,    245,   1,-999.0,      32,  2,19930226,0423, -53.8528,  -79.2507,  4209,  106.100,    5.584,   34.161,2,   34.162,2,  279.500,2,  272.400,2,    7.800,2,   22.530,2,    0.050,2,    1.590,2, -999.000,9, -999.000,9, -999.000,9, -999.000,9, -999.000,9
           NA,    P19C,    245,   1,-999.0,      31,  2,19930226,0423, -53.8528,  -79.2507,  4209,  131.300,    5.454,   34.169,2,   34.171,2,  280.100,2,  279.400,2,    7.800,2,   22.130,2,    0.030,2,    1.560,2, -999.000,9, -999.000,9, -999.000,9, -999.000,9, -999.000,9
           NA,    P19C,    245,   1,-999.0,      30,  2,19930226,0423, -53.8528,  -79.2507,  4209,  155.700,    5.524,   34.204,2,   34.205,2,  291.200,2,  292.000,2,    7.600,2,   20.710,2,    0.080,2,    1.480,2, -999.000,9, -999.000,9, -999.000,9, -999.000,9, -999.000,9
           NA,    P19C,    245,   1,-999.0,      29,  2,19930226,0423, -53.8528,  -79.2507,  4209,  180.500,    5.543,   34.216,2,   34.217,2,  293.800,2,  292.800,2,    7.600,2,   20.590,2,    0.020,2,    1.450,2, -999.000,9, -999.000,9, -999.000,9, -999.000,9, -999.000,9
           NA,    P19C,    245,   1,-999.0,      74,  2,19930226,0423, -53.8528,  -79.2507,  4209,  205.400,    5.539,   34.219,2,   34.220,2,  290.100,2,  293.600,2,    7.400,2,   20.450,2,    0.020,2,    1.450,2, -999.000,9, -999.000,9, -999.000,9, -999.000,9, -999.000,9
           NA,    P19C,    245,   1,-999.0,      27,  2,19930226,0423, -53.8528,  -79.2507,  4209,  254.600,    5.478,   34.217,2,   34.217,2,  293.500,2,  292.900,2,    7.500,2,   20.690,2,    0.020,2,    1.460,2, -999.000,9, -999.000,9, -999.000,9, -999.000,9, -999.000,9
           NA,    P19C,    245,   1,-999.0,      26,  2,19930226,0423, -53.8528,  -79.2507,  4209,  304.300,    5.381,   34.212,2,   34.213,2,  287.300,2,  290.600,2,    7.700,2,   21.160,2,    0.020,2,    1.490,2, -999.000,9, -999.000,9, -999.000,9, -999.000,9, -999.000,9
           NA,    P19C,    245,   1,-999.0,      72,  2,19930226,0423, -53.8528,  -79.2507,  4209,  355.300,    5.303,   34.211,2,   34.213,2,  285.400,2,  286.900,2,    8.400,2,   21.780,2,    0.010,2,    1.530,2, -999.000,9, -999.000,9, -999.000,9, -999.000,9, -999.000,9
           NA,    P19C,    245,   1,-999.0,      24,  2,19930226,0423, -53.8528,  -79.2507,  4209,  405.300,    5.197,   34.215,2,   34.215,2,  276.100,2,  279.400,2,    9.800,2,   23.100,2,    0.010,2,    1.620,2, -999.000,9, -999.000,9, -999.000,9, -999.000,9, -999.000,9
           NA,    P19C,    245,   1,-999.0,      70,  2,19930226,0423, -53.8528,  -79.2507,  4209,  506.200,    5.015,   34.217,2,   34.217,2,  271.900,2,  275.500,2,   11.400,2,   23.960,2,    0.000,2,    1.660,2, -999.000,9, -999.000,9, -999.000,9, -999.000,9, -999.000,9
           NA,    P19C,    245,   1,-999.0,      22,  2,19930226,0423, -53.8528,  -79.2507,  4209,  605.700,    4.779,   34.219,2,   34.218,2,  266.100,2,  266.800,2,   14.500,2,   25.150,2,    0.000,2,    1.750,2, -999.000,9, -999.000,9, -999.000,9, -999.000,9, -999.000,9
           NA,    P19C,    245,   1,-999.0,      28,  2,19930226,0423, -53.8528,  -79.2507,  4209,  705.900,    4.416,   34.228,2,   34.227,2,  251.800,2,  250.600,2,   19.800,2,   27.380,2,    0.000,2,    1.890,2, -999.000,9, -999.000,9, -999.000,9, -999.000,9, -999.000,9
           NA,    P19C,    245,   1,-999.0,      20,  2,19930226,0423, -53.8528,  -79.2507,  4209,  806.200,    4.026,   34.237,2,   34.236,2,  242.500,2,  240.100,2,   25.400,2,   29.000,2,    0.000,2,    2.010,2, -999.000,9, -999.000,9, -999.000,9, -999.000,9, -999.000,9
           NA,    P19C,    245,   1,-999.0,      68,  2,19930226,0423, -53.8528,  -79.2507,  4209,  906.200,    3.681,   34.265,2,   34.264,2,  224.100,2,  224.700,2,   32.600,2,   30.680,2,    0.000,2,    2.130,2, -999.000,9, -999.000,9, -999.000,9, -999.000,9, -999.000,9
           NA,    P19C,    245,   1,-999.0,      18,  2,19930226,0423, -53.8528,  -79.2507,  4209, 1006.700,    3.330,   34.310,2,   34.309,2,  210.900,2,  208.800,2,   41.900,2,   32.220,2,    0.000,2,    2.230,2, -999.000,9, -999.000,9, -999.000,9, -999.000,9, -999.000,9
           NA,    P19C,    245,   1,-999.0,      17,  2,19930226,0423, -53.8528,  -79.2507,  4209, 1208.100,    2.955,   34.406,2,   34.404,2,  182.600,2,  182.800,2,   58.200,2,   34.150,2,    0.000,2,    2.370,2, -999.000,9, -999.000,9, -999.000,9, -999.000,9, -999.000,9
           NA,    P19C,    245,   1,-999.0,      16,  2,19930226,0423, -53.8528,  -79.2507,  4209, 1409.200,    2.686,   34.498,2,   34.497,2,  168.100,2,  166.700,2,   72.400,2,   34.930,2,    0.000,2,    2.430,2, -999.000,9, -999.000,9, -999.000,9, -999.000,9, -999.000,9
           NA,    P19C,    245,   1,-999.0,      15,  2,19930226,0423, -53.8528,  -79.2507,  4209, 1509.900,    2.643,   34.543,2,   34.542,2,  151.600,2,  152.300,2,   82.300,2,   35.710,2,    0.000,2,    2.500,2, -999.000,9, -999.000,9, -999.000,9, -999.000,9, -999.000,9
           NA,    P19C,    245,   1,-999.0,      14,  2,19930226,0423, -53.8528,  -79.2507,  4209, 1610.300,    2.545,   34.572,2,   34.572,2,  151.800,2,  149.600,2,   88.300,2,   35.660,2,    0.000,2,    2.500,2, -999.000,9, -999.000,9, -999.000,9, -999.000,9, -999.000,9
           NA,    P19C,    245,   1,-999.0,      13,  2,19930226,0423, -53.8528,  -79.2507,  4209, 1812.300,    2.353,   34.615,2,   34.615,2,  152.300,2,  152.400,2,   95.700,2,   35.180,2,    0.000,2,    2.460,2, -999.000,9, -999.000,9, -999.000,9, -999.000,9, -999.000,9
           NA,    P19C,    245,   1,-999.0,      12,  2,19930226,0423, -53.8528,  -79.2507,  4209, 2014.800,    2.217,   34.640,2,   34.640,2,  151.800,2,  153.600,2,  102.300,2,   35.040,2,    0.000,2,    2.450,2, -999.000,9, -999.000,9, -999.000,9, -999.000,9, -999.000,9
           NA,    P19C,    245,   1,-999.0,      11,  2,19930226,0423, -53.8528,  -79.2507,  4209, 2217.700,    2.045,   34.657,2,   34.657,2,  151.500,2,  151.100,2,  112.000,2,   35.180,2,    0.000,2,    2.470,2, -999.000,9, -999.000,9, -999.000,9, -999.000,9, -999.000,9
           NA,    P19C,    245,   1,-999.0,      10,  2,19930226,0423, -53.8528,  -79.2507,  4209, 2420.600,    1.956,   34.670,2,   34.670,2,  154.100,2,  155.400,2,  114.100,2,   34.850,2,    0.000,2,    2.450,2, -999.000,9, -999.000,9, -999.000,9, -999.000,9, -999.000,9
           NA,    P19C,    245,   1,-999.0,       9,  2,19930226,0423, -53.8528,  -79.2507,  4209, 2623.700,    1.870,   34.678,2,   34.678,2,  157.700,2,  157.400,2,  117.600,2,   34.710,2,    0.000,2,    2.430,2, -999.000,9, -999.000,9, -999.000,9, -999.000,9, -999.000,9
           NA,    P19C,    245,   1,-999.0,       8,  2,19930226,0423, -53.8528,  -79.2507,  4209, 2827.400,    1.804,   34.686,2,   34.686,2,  162.200,2,  161.500,2,  118.100,2,   34.520,2,    0.000,2,    2.410,2, -999.000,9, -999.000,9, -999.000,9, -999.000,9, -999.000,9
           NA,    P19C,    245,   1,-999.0,       7,  2,19930226,0423, -53.8528,  -79.2507,  4209, 3031.000,    1.749,   34.699,2,   34.699,2,  170.500,2,  171.800,2,  114.000,2,   33.600,2,    0.000,2,    2.340,2, -999.000,9, -999.000,9, -999.000,9, -999.000,9, -999.000,9
           NA,    P19C,    245,   1,-999.0,       6,  2,19930226,0423, -53.8528,  -79.2507,  4209, 3235.900,    1.649,   34.711,2,   34.712,2,  180.000,2,  181.100,2,  111.400,2,   32.740,2,    0.000,2,    2.280,2, -999.000,9, -999.000,9, -999.000,9, -999.000,9, -999.000,9
           NA,    P19C,    245,   1,-999.0,       5,  2,19930226,0423, -53.8528,  -79.2507,  4209, 3439.200,    1.493,   34.717,2,   34.718,2,  187.400,2,  188.600,2,  112.300,2,   32.310,2,    0.000,2,    2.240,2, -999.000,9, -999.000,9, -999.000,9, -999.000,9, -999.000,9
           NA,    P19C,    245,   1,-999.0,       4,  2,19930226,0423, -53.8528,  -79.2507,  4209, 3644.000,    1.251,   34.717,2,   34.717,2,  194.800,2,  195.700,2,  117.700,2,   32.210,2,    0.000,2,    2.230,2, -999.000,9, -999.000,9, -999.000,9, -999.000,9, -999.000,9
           NA,    P19C,    245,   1,-999.0,       3,  2,19930226,0423, -53.8528,  -79.2507,  4209, 3848.700,    1.036,   34.714,2,   34.714,2,  199.500,2,  200.000,2,  123.600,2,   32.260,2,    0.000,2,    2.240,2, -999.000,9, -999.000,9, -999.000,9, -999.000,9, -999.000,9
           NA,    P19C,    245,   1,-999.0,       2,  2,19930226,0423, -53.8528,  -79.2507,  4209, 4053.400,    0.893,   34.711,2,   34.711,2,  202.500,2,  202.700,2,  128.900,2,   32.460,2,    0.000,2,    2.250,2, -999.000,9, -999.000,9, -999.000,9, -999.000,9, -999.000,9
           NA,    P19C,    245,   1,-999.0,       1,  2,19930226,0423, -53.8528,  -79.2507,  4209, 4272.500,    0.771,   34.708,2,   34.708,2,  206.300,2,  205.500,2,  132.400,2,   32.660,2,    0.000,2,    2.250,2, -999.000,9, -999.000,9, -999.000,9, 2267.300,2, -999.000,9
           NA,    P19C,    244,   1,-999.0,      36,  2,19930225,2302, -53.7230,  -78.5357,  4252,    1.900,    9.179, -999.000,4,   33.956,2,  284.300,2,  284.400,2,    1.900,2,   14.880,2,    0.200,2,    1.150,2, -999.000,9, -999.000,9, -999.000,9, 2065.800,2, -999.000,9
           NA,    P19C,    244,   1,-999.0,      51,  2,19930225,2302, -53.7230,  -78.5357,  4252,   30.800,    8.687,   33.973,2,   33.973,2,  286.100,2,  285.600,2,    1.800,2,   15.120,2,    0.200,2,    1.150,2, -999.000,9, -999.000,9, -999.000,9, -999.000,9, -999.000,9
           NA,    P19C,    244,   1,-999.0,      31,  2,19930225,2302, -53.7230,  -78.5357,  4252,   56.400,    8.257, -999.000,4,   34.014,2,  280.800,2,  271.400,2,    3.300,2,   17.720,2,    0.280,2,    1.350,2, -999.000,9, -999.000,9, -999.000,9, -999.000,9, -999.000,9
           NA,    P19C,    244,   1,-999.0,      32,  2,19930225,2302, -53.7230,  -78.5357,  4252,   81.300,    6.370,   34.060,2,   34.065,2,  268.600,2,  265.600,2,    6.200,2,   21.160,2,    0.240,2,    1.560,2, -999.000,9, -999.000,9, -999.000,9, -999.000,9, -999.000,9
           NA,    P19C,    244,   1,-999.0,      30,  2,19930225,2302, -53.7230,  -78.5357,  4252,  106.400,    5.815,   34.094,2,   34.096,2,  276.300,2,  274.700,2,    6.700,2,   21.600,2,    0.040,2,    1.560,2, -999.000,9, -999.000,9, -999.000,9, -999.000,9, -999.000,9
           NA,    P19C,    244,   1,-999.0,      26,  2,19930225,2302, -53.7230,  -78.5357,  4252,  131.000,    5.513,   34.105,2,   34.106,2,  283.500,2,  287.800,2,    6.700,2,   21.030,2,    0.140,2,    1.520,2, -999.000,9, -999.000,9, -999.000,9, -999.000,9, -999.000,9
           NA,    P19C,    244,   1,-999.0,      74,  2,19930225,2302, -53.7230,  -78.5357,  4252,  155.700,    5.374,   34.115,2,   34.114,2,  290.400,2,  295.400,2,    6.600,2,   20.170,2,    0.570,2,    1.480,2, -999.000,9, -999.000,9, -999.000,9, -999.000,9, -999.000,9
           NA,    P19C,    244,   1,-999.0,      73,  2,19930225,2302, -53.7230,  -78.5357,  4252,  180.900,    5.351,   34.120,2,   34.120,2,  293.600,2,  294.900,2,    6.600,2,   20.580,2,    0.070,2,    1.480,2, -999.000,9, -999.000,9, -999.000,9, -999.000,9, -999.000,9
           NA,    P19C,    244,   1,-999.0,      72,  2,19930225,2302, -53.7230,  -78.5357,  4252,  206.000,    5.404,   34.149,2,   34.151,2,  290.600,2,  289.200,2,    7.200,2,   21.130,2,    0.040,2,    1.510,2, -999.000,9, -999.000,9, -999.000,9, -999.000,9, -999.000,9
           NA,    P19C,    244,   1,-999.0,      71,  2,19930225,2302, -53.7230,  -78.5357,  4252,  256.700,    5.424,   34.193,2,   34.193,2,  285.100,2,  286.800,2,    7.800,2,   21.440,2,    0.020,2,    1.520,2, -999.000,9, -999.000,9, -999.000,9, -999.000,9, -999.000,9
           NA,    P19C,    244,   1,-999.0,      70,  2,19930225,2302, -53.7230,  -78.5357,  4252,  307.700,    5.235,   34.197,2,   34.197,2,  280.800,2,  281.600,2,    8.700,2,   22.590,2,    0.010,2,    1.590,2, -999.000,9, -999.000,9, -999.000,9, -999.000,9, -999.000,9
           NA,    P19C,    244,   1,-999.0,      22,  2,19930225,2302, -53.7230,  -78.5357,  4252,  357.500,    5.248,   34.222,2,   34.221,2,  276.100,2,  270.600,2,   10.400,2,   23.830,2,    0.000,2,    1.660,2, -999.000,9, -999.000,9, -999.000,9, -999.000,9, -999.000,9
           NA,    P19C,    244,   1,-999.0,      28,  2,19930225,2302, -53.7230,  -78.5357,  4252,  407.300,    5.162,   34.223,2,   34.222,2,  269.400,2,  272.200,2,   10.700,2,   23.920,2,    0.000,2,    1.670,2, -999.000,9, -999.000,9, -999.000,9, -999.000,9, -999.000,9
           NA,    P19C,    244,   1,-999.0,      35,  2,19930225,2302, -53.7230,  -78.5357,  4252,  507.300,    5.015,   34.222,2,   34.221,2,  270.700,2,  273.200,2,   11.400,2,   24.160,2,    0.010,2,    1.680,2, -999.000,9, -999.000,9, -999.000,9, -999.000,9, -999.000,9
           NA,    P19C,    244,   1,-999.0,      68,  2,19930225,2302, -53.7230,  -78.5357,  4252,  605.300,    4.724,   34.214,2,   34.214,2,  268.600,2,  269.800,2,   13.900,2,   25.020,2,    0.000,2,    1.750,2, -999.000,9, -999.000,9, -999.000,9, -999.000,9, -999.000,9
           NA,    P19C,    244,   1,-999.0,      18,  2,19930225,2302, -53.7230,  -78.5357,  4252,  704.200,    4.419,   34.217,2,   34.216,2,  260.100,2,  260.200,2,   17.700,2,   26.650,2,    0.000,2,    1.860,2, -999.000,9, -999.000,9, -999.000,9, -999.000,9, -999.000,9
           NA,    P19C,    244,   1,-999.0,      17,  2,19930225,2302, -53.7230,  -78.5357,  4252,  805.400,    4.097,   34.236,2,   34.234,2,  244.500,2,  241.800,2,   24.200,2,   28.700,2,    0.000,2,    1.990,2, -999.000,9, -999.000,9, -999.000,9, -999.000,9, -999.000,9
           NA,    P19C,    244,   1,-999.0,      16,  2,19930225,2302, -53.7230,  -78.5357,  4252,  908.300,    3.707,   34.266,2,   34.265,2,  224.500,2,  223.800,2,   32.600,2,   30.630,2,    0.000,2,    2.130,2, -999.000,9, -999.000,9, -999.000,9, -999.000,9, -999.000,9
           NA,    P19C,    244,   1,-999.0,      15,  2,19930225,2302, -53.7230,  -78.5357,  4252, 1009.000,    3.415,   34.304,2,   34.302,2,  212.200,2,  210.000,2,   40.700,2,   32.070,2,    0.000,2,    2.230,2, -999.000,9, -999.000,9, -999.000,9, -999.000,9, -999.000,9
           NA,    P19C,    244,   1,-999.0,      14,  2,19930225,2302, -53.7230,  -78.5357,  4252, 1210.300,    2.989,   34.419,2,   34.417,2,  176.500,2,  176.000,2,   60.800,2,   34.550,2,    0.000,2,    2.410,2, -999.000,9, -999.000,9, -999.000,9, -999.000,9, -999.000,9
           NA,    P19C,    244,   1,-999.0,      13,  2,19930225,2302, -53.7230,  -78.5357,  4252, 1412.400,    2.682,   34.529,2,   34.528,2,  153.400,2,  152.700,2,   80.700,2,   35.770,2,    0.000,2,    2.500,2, -999.000,9, -999.000,9, -999.000,9, -999.000,9, -999.000,9
           NA,    P19C,    244,   1,-999.0,      12,  2,19930225,2302, -53.7230,  -78.5357,  4252, 1615.500,    2.452,   34.592,2,   34.591,2,  145.100,2,  146.700,2,   94.300,2,   35.870,2,    0.000,2,    2.520,2, -999.000,9, -999.000,9, -999.000,9, -999.000,9, -999.000,9
           NA,    P19C,    244,   1,-999.0,      11,  2,19930225,2302, -53.7230,  -78.5357,  4252, 1817.100,    2.290,   34.624,2,   34.623,2,  148.800,2,  148.800,2,  100.900,2,   35.530,2,    0.000,2,    2.490,2, -999.000,9, -999.000,9, -999.000,9, -999.000,9, -999.000,9
           NA,    P19C,    244,   1,-999.0,      10,  2,19930225,2302, -53.7230,  -78.5357,  4252, 2017.700,    2.150,   34.648,2,   34.647,2,  155.400,2,  152.700,2,  106.000,2,   35.090,2,    0.000,2,    2.460,2, -999.000,9, -999.000,9, -999.000,9, -999.000,9, -999.000,9
           NA,    P19C,    244,   1,-999.0,       9,  2,19930225,2302, -53.7230,  -78.5357,  4252, 2268.200,    2.019,   34.669,2,   34.666,2,  157.800,2,  157.200,2,  109.800,2,   34.610,2,    0.000,2,    2.420,2, -999.000,9, -999.000,9, -999.000,9, -999.000,9, -999.000,9
           NA,    P19C,    244,   1,-999.0,       8,  2,19930225,2302, -53.7230,  -78.5357,  4252, 2518.200,    1.905,   34.678,2,   34.678,2,  157.600,2,  158.100,2,  115.400,2,   34.610,2,    0.000,2,    2.430,2, -999.000,9, -999.000,9, -999.000,9, -999.000,9, -999.000,9
           NA,    P19C,    244,   1,-999.0,       7,  2,19930225,2302, -53.7230,  -78.5357,  4252, 2770.300,    1.825,   34.688,2,   34.688,2,  161.900,2,  163.100,2,  116.500,2,   34.180,2,    0.000,2,    2.400,2, -999.000,9, -999.000,9, -999.000,9, -999.000,9, -999.000,9
           NA,    P19C,    244,   1,-999.0,       6,  2,19930225,2302, -53.7230,  -78.5357,  4252, 3024.100,    1.746,   34.702,2,   34.703,2,  170.700,2,  173.300,2,  113.100,2,   33.260,2,    0.000,2,    2.340,2, -999.000,9, -999.000,9, -999.000,9, -999.000,9, -999.000,9
           NA,    P19C,    244,   1,-999.0,       5,  2,19930225,2302, -53.7230,  -78.5357,  4252, 3274.200,    1.624,   34.714,2,   34.714,2,  182.100,2,  183.000,2,  111.700,2,   32.630,2,    0.000,2,    2.270,2, -999.000,9, -999.000,9, -999.000,9, -999.000,9, -999.000,9
           NA,    P19C,    244,   1,-999.0,       4,  2,19930225,2302, -53.7230,  -78.5357,  4252, 3527.200,    1.407,   34.718,2,   34.718,2,  190.900,2,  191.400,2,  114.900,2,   32.250,2,    0.000,2,    2.250,2, -999.000,9, -999.000,9, -999.000,9, -999.000,9, -999.000,9
           NA,    P19C,    244,   1,-999.0,       3,  2,19930225,2302, -53.7230,  -78.5357,  4252, 3779.600,    1.138,   34.715,2,   34.715,2,  197.500,2,  198.400,2,  121.000,2,   32.250,2,    0.000,2,    2.250,2, -999.000,9, -999.000,9, -999.000,9, -999.000,9, -999.000,9
           NA,    P19C,    244,   1,-999.0,       2,  2,19930225,2302, -53.7230,  -78.5357,  4252, 4031.700,    0.943,   34.713,2,   34.711,2,  201.800,2,  202.100,2,  127.500,2,   32.500,2,    0.000,2,    2.260,2, -999.000,9, -999.000,9, -999.000,9, -999.000,9, -999.000,9
           NA,    P19C,    244,   1,-999.0,       1,  2,19930225,2302, -53.7230,  -78.5357,  4252, 4278.000,    0.812,   34.710,2,   34.709,2,  206.600,2,  204.900,2,  132.600,2,   32.500,2,    0.000,2,    2.260,2, -999.000,9, -999.000,9, -999.000,9, -999.000,9, -999.000,9