BOTTLE,20215010JOAExport
EXPOCODE,SECT_ID,STNNBR,CASTNO,SAMPNO,BTLNBR,BTLNBR_FLAG_W,DATE,TIME,LATITUDE,LONGITUDE,DEPTH,CTDPRS,CTDTMP,CTDSAL,CTDSAL_FLAG_W,SALNTY,SALNTY_FLAG_W,CTDOXY,CTDOXY_FLAG_W,OXYGEN,OXYGEN_FLAG_W,SILCAT,SILCAT_FLAG_W,NITRAT,NITRAT_FLAG_W,NITRIT,NITRIT_FLAG_W,PHSPHT,PHSPHT_FLAG_W,CFC-11,CFC-11_FLAG_W,CFC-12,CFC-12_FLAG_W,SF6,SF6_FLAG_W,TCARBN,TCARBN_FLAG_W,ALKALI,ALKALI_FLAG_W
,,,,,,,,,,,,DB,ITS-90,PSS-78,,PSS-78,,UMOL/KG,,UMOL/KG,,UMOL/KG,,UMOL/KG,,UMOL/KG,,UMOL/KG,,PMOL/KG,,PMOL/KG,,PMOL/KG,,UMOL/KG,,UMOL/KG
           NA,    P17E,    200,   1,-999.0,       1,  2,19930107,2210, -53.4820,  -94.5758,  4562,    2.700,    7.847,   34.234,2,   34.235,2, -999.000,3,  290.500,2,    2.750,2,   14.840,2,    0.190,2,    1.120,2, -999.000,9, -999.000,9, -999.000,9, 2088.200,2, -999.000,9
           NA,    P17E,    200,   1,-999.0,       2,  2,19930107,2210, -53.4820,  -94.5758,  4562,   24.500,    7.829,   34.235,2,   34.235,2, -999.000,3,  290.700,2,    2.720,2,   14.790,2,    0.190,2,    1.120,2, -999.000,9, -999.000,9, -999.000,9, -999.000,9, -999.000,9
           NA,    P17E,    200,   1,-999.0,       3,  2,19930107,2210, -53.4820,  -94.5758,  4562,   64.800,    7.794,   34.234,2,   34.235,2, -999.000,3,  290.700,2,    2.480,2,   14.840,2,    0.190,2,    1.120,2, -999.000,9, -999.000,9, -999.000,9, -999.000,9, -999.000,9
           NA,    P17E,    200,   1,-999.0,       4,  2,19930107,2210, -53.4820,  -94.5758,  4562,   99.800,    6.170,   34.254,2,   34.251,2, -999.000,3,  293.200,2,    6.090,2,   18.020,2,    0.350,2,    1.350,2, -999.000,9, -999.000,9, -999.000,9, -999.000,9, -999.000,9
           NA,    P17E,    200,   1,-999.0,       5,  2,19930107,2210, -53.4820,  -94.5758,  4562,  135.100,    6.150,   34.258,2,   34.259,2,  290.000,2,  290.500,2,    6.270,2,   18.590,2,    0.330,2,    1.360,2, -999.000,9, -999.000,9, -999.000,9, -999.000,9, -999.000,9
           NA,    P17E,    200,   1,-999.0,       6,  2,19930107,2210, -53.4820,  -94.5758,  4562,  174.000,    6.128,   34.262,2,   34.263,2,  288.000,2,  290.700,2,    6.030,2,   18.830,2,    0.030,2,    1.360,2, -999.000,9, -999.000,9, -999.000,9, -999.000,9, -999.000,9
           NA,    P17E,    200,   1,-999.0,       7,  2,19930107,2210, -53.4820,  -94.5758,  4562,  222.100,    6.110,   34.264,2,   34.265,2,  285.100,2,  291.500,2,    6.640,2,   18.840,2,    0.020,2,    1.360,2, -999.000,9, -999.000,9, -999.000,9, -999.000,9, -999.000,9
           NA,    P17E,    200,   1,-999.0,       8,  2,19930107,2210, -53.4820,  -94.5758,  4562,  271.200,    6.055,   34.262,2,   34.262,2,  283.300,2,  290.800,2,    6.830,2,   19.010,2,    0.020,2,    1.380,2, -999.000,9, -999.000,9, -999.000,9, -999.000,9, -999.000,9
           NA,    P17E,    200,   1,-999.0,       9,  2,19930107,2210, -53.4820,  -94.5758,  4562,  319.900,    5.975,   34.258,2,   34.262,2,  286.300,2,  286.700,2,    7.020,2,   19.670,2,    0.010,2,    1.410,2, -999.000,9, -999.000,9, -999.000,9, -999.000,9, -999.000,9
           NA,    P17E,    200,   1,-999.0,      10,  2,19930107,2210, -53.4820,  -94.5758,  4562,  369.100,    5.846,   34.250,2,   34.250,2,  279.200,2,  283.700,2,    7.630,2,   20.610,2,    0.010,2,    1.470,2, -999.000,9, -999.000,9, -999.000,9, -999.000,9, -999.000,9
           NA,    P17E,    200,   1,-999.0,      11,  2,19930107,2210, -53.4820,  -94.5758,  4562,  456.400,    5.654,   34.248,2,   34.248,2,  268.300,2,  273.500,2,    9.750,2,   22.380,2,    0.010,2,    1.580,2, -999.000,9, -999.000,9, -999.000,9, -999.000,9, -999.000,9
           NA,    P17E,    200,   1,-999.0,      12,  2,19930107,2210, -53.4820,  -94.5758,  4562,  555.100,    5.406,   34.243,2,   34.244,2,  275.000,2,  270.300,2,   11.230,2,   23.430,2,    0.010,2,    1.640,2, -999.000,9, -999.000,9, -999.000,9, -999.000,9, -999.000,9
           NA,    P17E,    200,   1,-999.0,      13,  2,19930107,2210, -53.4820,  -94.5758,  4562,  657.500,    5.107,   34.235,2,   34.236,2,  269.500,2,  272.700,2,   12.060,2,   23.880,2,    0.010,2,    1.670,2, -999.000,9, -999.000,9, -999.000,9, -999.000,9, -999.000,9
           NA,    P17E,    200,   1,-999.0,      14,  2,19930107,2210, -53.4820,  -94.5758,  4562,  759.400,    4.813,   34.233,2,   34.232,2,  259.800,2,  258.600,2,   15.910,2,   26.000,2,    0.010,2,    1.800,2, -999.000,9, -999.000,9, -999.000,9, -999.000,9, -999.000,9
           NA,    P17E,    200,   1,-999.0,      15,  2,19930107,2210, -53.4820,  -94.5758,  4562,  863.600,    4.348,   34.250,2,   34.249,2,  240.400,2,  236.200,2,   23.840,2,   28.750,2,    0.000,2,    1.980,2, -999.000,9, -999.000,9, -999.000,9, -999.000,9, -999.000,9
           NA,    P17E,    200,   1,-999.0,      16,  2,19930107,2210, -53.4820,  -94.5758,  4562,  967.800,    3.960,   34.283,2,   34.283,2,  220.200,2,  219.600,2,   32.430,2,   30.570,2,    0.000,2,    2.110,2, -999.000,9, -999.000,9, -999.000,9, -999.000,9, -999.000,9
           NA,    P17E,    200,   1,-999.0,      17,  2,19930107,2210, -53.4820,  -94.5758,  4562, 1069.700,    3.572,   34.314,2,   34.312,2,  212.600,2,  209.900,2,   39.730,2,   31.880,2,    0.000,2,    2.190,2, -999.000,9, -999.000,9, -999.000,9, -999.000,9, -999.000,9
           NA,    P17E,    200,   1,-999.0,      18,  2,19930107,2210, -53.4820,  -94.5758,  4562, 1168.600,    3.246,   34.337,2,   34.336,2,  203.500,2,  204.400,2,   45.960,2,   32.790,2,    0.000,2,    2.250,2, -999.000,9, -999.000,9, -999.000,9, -999.000,9, -999.000,9
           NA,    P17E,    200,   1,-999.0,      19,  2,19930107,2210, -53.4820,  -94.5758,  4562, 1318.500,    2.890,   34.404,2,   34.403,2,  191.100,2,  189.900,2,   57.590,2,   34.000,2,    0.000,2,    2.340,2, -999.000,9, -999.000,9, -999.000,9, -999.000,9, -999.000,9
           NA,    P17E,    200,   1,-999.0,      20,  2,19930107,2210, -53.4820,  -94.5758,  4562, 1515.300,    2.613,   34.497,2,   34.496,2,  175.700,2,  176.600,2,   69.670,2,   34.630,2,    0.000,2,    2.370,2, -999.000,9, -999.000,9, -999.000,9, -999.000,9, -999.000,9
           NA,    P17E,    200,   1,-999.0,      21,  2,19930107,2210, -53.4820,  -94.5758,  4562, 1713.200,    2.453,   34.577,2,   34.577,2,  169.300,2,  170.500,2,   78.540,2,   34.340,2,    0.000,2,    2.360,2, -999.000,9, -999.000,9, -999.000,9, -999.000,9, -999.000,9
           NA,    P17E,    200,   1,-999.0,      22,  2,19930107,2210, -53.4820,  -94.5758,  4562, 1912.300,    2.324,   34.636,2,   34.634,2,  170.300,2,  170.000,2,   84.830,2,   33.870,2,    0.000,2,    2.320,2, -999.000,9, -999.000,9, -999.000,9, -999.000,9, -999.000,9
           NA,    P17E,    200,   1,-999.0,      23,  2,19930107,2210, -53.4820,  -94.5758,  4562, 2112.200,    2.213,   34.673,2,   34.671,2,  172.100,2,  173.400,2,   89.390,2,   33.410,2,    0.000,2,    2.290,2, -999.000,9, -999.000,9, -999.000,9, -999.000,9, -999.000,9
           NA,    P17E,    200,   1,-999.0,      24,  2,19930107,2210, -53.4820,  -94.5758,  4562, 2314.600,    2.070,   34.694,2,   34.695,2,  174.700,2,  174.000,2,   95.490,2,   33.120,2,    0.000,2,    2.270,2, -999.000,9, -999.000,9, -999.000,9, -999.000,9, -999.000,9
           NA,    P17E,    200,   1,-999.0,      25,  2,19930107,2210, -53.4820,  -94.5758,  4562, 2514.400,    1.925,   34.706,2,   34.705,2,  175.800,2,  176.900,2,  101.620,2,   33.000,2,    0.000,2,    2.270,2, -999.000,9, -999.000,9, -999.000,9, -999.000,9, -999.000,9
           NA,    P17E,    200,   1,-999.0,      26,  2,19930107,2210, -53.4820,  -94.5758,  4562, 2716.200,    1.779,   34.712,2,   34.712,2,  178.800,2,  179.500,2,  106.010,2,   32.880,2,    0.000,2,    2.260,2, -999.000,9, -999.000,9, -999.000,9, -999.000,9, -999.000,9
           NA,    P17E,    200,   1,-999.0,      27,  2,19930107,2210, -53.4820,  -94.5758,  4562, 2912.800,    1.656,   34.714,2,   34.714,2,  183.200,2,  182.600,2,  109.310,2,   32.820,2,    0.000,2,    2.260,2, -999.000,9, -999.000,9, -999.000,9, -999.000,9, -999.000,9
           NA,    P17E,    200,   1,-999.0,      28,  2,19930107,2210, -53.4820,  -94.5758,  4562, 3113.300,    1.572,   34.717,2,   34.717,2,  186.700,2,  186.100,2,  110.870,2,   32.590,2,    0.000,2,    2.230,2, -999.000,9, -999.000,9, -999.000,9, -999.000,9, -999.000,9
           NA,    P17E,    200,   1,-999.0,      29,  2,19930107,2210, -53.4820,  -94.5758,  4562, 3324.100,    1.458,   34.719,2,   34.719,2,  193.400,2,  190.700,2,  112.640,2,   32.360,2,    0.000,2,    2.220,2, -999.000,9, -999.000,9, -999.000,9, -999.000,9, -999.000,9
           NA,    P17E,    200,   1,-999.0,      30,  2,19930107,2210, -53.4820,  -94.5758,  4562, 3531.000,    1.289,   34.719,2,   34.718,2,  195.900,2,  195.400,2,  116.190,2,   32.360,2,    0.000,2,    2.220,2, -999.000,9, -999.000,9, -999.000,9, -999.000,9, -999.000,9
           NA,    P17E,    200,   1,-999.0,      31,  2,19930107,2210, -53.4820,  -94.5758,  4562, 3728.700,    1.106,   34.715,2,   34.715,2,  199.600,2,  198.700,2,  122.190,2,   32.470,2,    0.000,2,    2.220,2, -999.000,9, -999.000,9, -999.000,9, -999.000,9, -999.000,9
           NA,    P17E,    200,   1,-999.0,      32,  2,19930107,2210, -53.4820,  -94.5758,  4562, 3945.400,    0.912,   34.711,2,   34.711,2,  203.300,2,  203.400,2,  127.560,2,   32.590,2,    0.000,2,    2.230,2, -999.000,9, -999.000,9, -999.000,9, -999.000,9, -999.000,9
           NA,    P17E,    200,   1,-999.0,      33,  2,19930107,2210, -53.4820,  -94.5758,  4562, 4158.000,    0.767,   34.709,2,   34.709,2,  206.000,2,  206.000,2,  132.050,2,   32.820,2,    0.000,2,    2.240,2, -999.000,9, -999.000,9, -999.000,9, -999.000,9, -999.000,9
           NA,    P17E,    200,   1,-999.0,      34,  2,19930107,2210, -53.4820,  -94.5758,  4562, 4365.500,    0.675,   34.707,2,   34.707,2,  207.500,2,  208.200,2,  135.220,2,   32.870,2,    0.000,2,    2.240,2, -999.000,9, -999.000,9, -999.000,9, -999.000,9, -999.000,9
           NA,    P17E,    200,   1,-999.0,      35,  2,19930107,2210, -53.4820,  -94.5758,  4562, 4572.900,    0.656,   34.707,2,   34.707,2,  208.200,2,  209.000,2,  135.920,2,   32.870,2,    0.000,2,    2.250,2, -999.000,9, -999.000,9, -999.000,9, -999.000,9, -999.000,9
           NA,    P17E,    200,   1,-999.0,      36,  2,19930107,2210, -53.4820,  -94.5758,  4562, 4706.700,    0.638,   34.706,2,   34.706,2,  207.000,2,  209.600,2,  137.080,2,   32.870,2,    0.000,2,    2.250,2, -999.000,9, -999.000,9, -999.000,9, -999.000,9, -999.000,9
           NA,    P17E,    201,   1,-999.0,       1,  2,19930108,0649, -53.5655,  -93.4832,  5642,    5.700,    7.654,   34.235,2,   34.235,2, -999.000,3,  290.800,2,    2.250,2,   15.150,2,    0.180,2,    1.120,2,    4.408,2,    2.147,2, -999.000,9, 2091.800,2, -999.000,9
           NA,    P17E,    201,   1,-999.0,       2,  2,19930108,0649, -53.5655,  -93.4832,  5642,   27.700,    7.654,   34.235,2,   34.235,2, -999.000,3,  291.200,2,    2.050,2,   15.060,2,    0.180,2,    1.120,2, -999.000,9, -999.000,9, -999.000,9, -999.000,9, -999.000,9
           NA,    P17E,    201,   1,-999.0,       3,  3,19930108,0649, -53.5655,  -93.4832,  5642,   56.500,    7.649,   34.236,2, -999.000,4, -999.000,3, -999.000,4, -999.000,4, -999.000,4, -999.000,4, -999.000,4, -999.000,5, -999.000,5, -999.000,9, -999.000,9, -999.000,9
           NA,    P17E,    201,   1,-999.0,       4,  2,19930108,0649, -53.5655,  -93.4832,  5642,   82.000,    7.558,   34.246,2,   34.244,2, -999.000,3,  291.100,2,    2.200,2,   15.060,2,    0.170,2,    1.140,2,    4.386,2,    2.122,2, -999.000,9, -999.000,9, -999.000,9
           NA,    P17E,    201,   1,-999.0,       5,  2,19930108,0649, -53.5655,  -93.4832,  5642,  127.700,    6.507,   34.265,2,   34.265,2,  287.400,2,  288.000,2,    5.480,2,   17.230,2,    0.210,2,    1.350,2,    4.464,2,    2.159,2, -999.000,9, -999.000,9, -999.000,9
           NA,    P17E,    201,   1,-999.0,       6,  2,19930108,0649, -53.5655,  -93.4832,  5642,  157.000,    6.234,   34.271,2,   34.271,2,  284.000,2,  285.600,2,    6.930,2,   18.680,2,    0.240,2,    1.390,2,    4.383,2,    2.124,2, -999.000,9, -999.000,9, -999.000,9
           NA,    P17E,    201,   1,-999.0,       7,  2,19930108,0649, -53.5655,  -93.4832,  5642,  235.700,    5.953,   34.260,2,   34.261,2,  282.000,2,  287.100,2,    7.650,2,   19.910,2,    0.070,2,    1.410,2,    4.335,2,    2.084,2, -999.000,9, -999.000,9, -999.000,9
           NA,    P17E,    201,   1,-999.0,       8,  2,19930108,0649, -53.5655,  -93.4832,  5642,  329.600,    5.707,   34.245,2,   34.246,2,  284.100,2,  281.500,2,    8.730,2,   21.070,2,    0.020,2,    1.480,2,    4.078,6,    1.966,6, -999.000,9, -999.000,9, -999.000,9
           NA,    P17E,    201,   1,-999.0,       9,  2,19930108,0649, -53.5655,  -93.4832,  5642,  408.300,    5.565,   34.237,2,   34.240,2,  271.700,2,  274.200,2,   10.000,2,   22.140,2,    0.010,2,    1.540,2,    3.811,2,    1.820,2, -999.000,9, -999.000,9, -999.000,9
           NA,    P17E,    201,   1,-999.0,      10,  2,19930108,0649, -53.5655,  -93.4832,  5642,  508.200,    5.219,   34.214,2,   34.213,2,  273.000,2,  276.800,2,   10.910,2,   22.800,2,    0.010,2,    1.580,2,    3.892,2,    1.860,2, -999.000,9, -999.000,9, -999.000,9
           NA,    P17E,    201,   1,-999.0,      11,  2,19930108,0649, -53.5655,  -93.4832,  5642,  568.700,    5.103,   34.221,2,   34.222,2,  265.300,2,  260.800,2,   14.190,2,   24.700,2,    0.010,2,    1.710,2,    3.188,2,    1.580,2, -999.000,9, -999.000,9, -999.000,9
           NA,    P17E,    201,   1,-999.0,      12,  2,19930108,0649, -53.5655,  -93.4832,  5642,  630.300,    4.975,   34.233,2,   34.235,2,  254.800,2,  250.100,2,   16.750,2,   25.820,2,    0.010,2,    1.780,2,    2.870,2,    1.346,2, -999.000,9, -999.000,9, -999.000,9
           NA,    P17E,    201,   1,-999.0,      15,  4,19930108,0649, -53.5655,  -93.4832,  5642,  709.200,    4.736,   34.252,2, -999.000,2,  240.700,2, -999.000,2, -999.000,2, -999.000,2, -999.000,2, -999.000,2, -999.000,2, -999.000,2, -999.000,9, -999.000,9, -999.000,9
           NA,    P17E,    201,   1,-999.0,      16,  4,19930108,0649, -53.5655,  -93.4832,  5642,  804.900,    4.349,   34.270,2, -999.000,2,  226.200,2, -999.000,2, -999.000,2, -999.000,2, -999.000,2, -999.000,2, -999.000,2, -999.000,2, -999.000,9, -999.000,9, -999.000,9
           NA,    P17E,    201,   1,-999.0,      17,  4,19930108,0649, -53.5655,  -93.4832,  5642,  899.600,    3.980,   34.290,2, -999.000,2,  219.300,2, -999.000,2, -999.000,2, -999.000,2, -999.000,2, -999.000,2, -999.000,2, -999.000,2, -999.000,9, -999.000,9, -999.000,9
           NA,    P17E,    201,   1,-999.0,      18,  4,19930108,0649, -53.5655,  -93.4832,  5642, 1046.100,    3.387,   34.326,2, -999.000,2,  202.800,2, -999.000,2, -999.000,2, -999.000,2, -999.000,2, -999.000,2, -999.000,2, -999.000,2, -999.000,9, -999.000,9, -999.000,9
           NA,    P17E,    201,   1,-999.0,      19,  4,19930108,0649, -53.5655,  -93.4832,  5642, 1297.400,    2.779,   34.429,2, -999.000,2,  186.900,2, -999.000,2, -999.000,2, -999.000,2, -999.000,2, -999.000,2, -999.000,2, -999.000,2, -999.000,9, -999.000,9, -999.000,9
           NA,    P17E,    201,   1,-999.0,      20,  4,19930108,0649, -53.5655,  -93.4832,  5642, 1503.300,    2.556,   34.516,2, -999.000,2,  175.800,2, -999.000,2, -999.000,2, -999.000,2, -999.000,2, -999.000,2, -999.000,2, -999.000,2, -999.000,9, -999.000,9, -999.000,9
           NA,    P17E,    201,   1,-999.0,      21,  4,19930108,0649, -53.5655,  -93.4832,  5642, 1715.200,    2.396,   34.598,2, -999.000,2,  171.800,2, -999.000,2, -999.000,2, -999.000,2, -999.000,2, -999.000,2, -999.000,2, -999.000,2, -999.000,9, -999.000,9, -999.000,9
           NA,    P17E,    201,   1,-999.0,      22,  4,19930108,0649, -53.5655,  -93.4832,  5642, 1915.800,    2.301,   34.645,2, -999.000,2,  172.000,2, -999.000,2, -999.000,2, -999.000,2, -999.000,2, -999.000,2, -999.000,2, -999.000,2, -999.000,9, -999.000,9, -999.000,9
           NA,    P17E,    201,   1,-999.0,      23,  4,19930108,0649, -53.5655,  -93.4832,  5642, 2111.700,    2.186,   34.680,2, -999.000,2,  173.200,2, -999.000,2, -999.000,2, -999.000,2, -999.000,2, -999.000,2, -999.000,2, -999.000,2, -999.000,9, -999.000,9, -999.000,9
           NA,    P17E,    201,   1,-999.0,      24,  4,19930108,0649, -53.5655,  -93.4832,  5642, 2371.800,    2.017,   34.705,2, -999.000,2,  175.400,2, -999.000,2, -999.000,2, -999.000,2, -999.000,2, -999.000,2, -999.000,2, -999.000,2, -999.000,9, -999.000,9, -999.000,9
           NA,    P17E,    201,   1,-999.0,      25,  4,19930108,0649, -53.5655,  -93.4832,  5642, 2624.800,    1.812,   34.716,2, -999.000,2,  180.800,2, -999.000,2, -999.000,2, -999.000,2, -999.000,2, -999.000,2, -999.000,9, -999.000,9, -999.000,9, -999.000,9, -999.000,9
           NA,    P17E,    201,   1,-999.0,      26,  4,19930108,0649, -53.5655,  -93.4832,  5642, 2876.900,    1.636,   34.718,2, -999.000,2,  183.800,2, -999.000,2, -999.000,2, -999.000,2, -999.000,2, -999.000,2, -999.000,2, -999.000,2, -999.000,9, -999.000,9, -999.000,9
           NA,    P17E,    201,   1,-999.0,      27,  4,19930108,0649, -53.5655,  -93.4832,  5642, 3123.900,    1.501,   34.723,2, -999.000,2,  189.200,2, -999.000,2, -999.000,2, -999.000,2, -999.000,2, -999.000,2, -999.000,2, -999.000,2, -999.000,9, -999.000,9, -999.000,9
           NA,    P17E,    201,   1,-999.0,      28,  4,19930108,0649, -53.5655,  -93.4832,  5642, 3372.400,    1.346,   34.721,2, -999.000,2,  194.600,2, -999.000,2, -999.000,2, -999.000,2, -999.000,2, -999.000,2, -999.000,9, -999.000,9, -999.000,9, -999.000,9, -999.000,9
           NA,    P17E,    201,   1,-999.0,      29,  4,19930108,0649, -53.5655,  -93.4832,  5642, 3623.600,    1.177,   34.718,2, -999.000,2,  197.900,2, -999.000,2, -999.000,2, -999.000,2, -999.000,2, -999.000,2, -999.000,2, -999.000,2, -999.000,9, -999.000,9, -999.000,9
           NA,    P17E,    201,   1,-999.0,      30,  4,19930108,0649, -53.5655,  -93.4832,  5642, 3874.600,    0.951,   34.713,2, -999.000,2,  201.300,2, -999.000,2, -999.000,2, -999.000,2, -999.000,2, -999.000,2, -999.000,2, -999.000,2, -999.000,9, -999.000,9, -999.000,9
           NA,    P17E,    201,   1,-999.0,      31,  4,19930108,0649, -53.5655,  -93.4832,  5642, 4124.700,    0.777,   34.708,2, -999.000,2,  204.600,2, -999.000,2, -999.000,2, -999.000,2, -999.000,2, -999.000,2, -999.000,9, -999.000,9, -999.000,9, -999.000,9, -999.000,9
           NA,    P17E,    201,   1,-999.0,      32,  4,19930108,0649, -53.5655,  -93.4832,  5642, 4389.900,    0.676,   34.708,2, -999.000,2,  208.300,2, -999.000,2, -999.000,2, -999.000,2, -999.000,2, -999.000,2, -999.000,2, -999.000,2, -999.000,9, -999.000,9, -999.000,9
           NA,    P17E,    201,   1,-999.0,      33,  4,19930108,0649, -53.5655,  -93.4832,  5642, 4652.700,    0.642,   34.707,2, -999.000,2,  210.300,2, -999.000,2, -999.000,2, -999.000,2, -999.000,2, -999.000,2, -999.000,2, -999.000,2, -999.000,9, -999.000,9, -999.000,9
           NA,    P17E,    201,   1,-999.0,      34,  4,19930108,0649, -53.5655,  -93.4832,  5642, 5162.900,    0.656,   34.706,2, -999.000,2,  211.200,2, -999.000,2, -999.000,2, -999.000,2, -999.000,2, -999.000,2, -999.000,9, -999.000,9, -999.000,9, -999.000,9, -999.000,9
           NA,    P17E,    201,   1,-999.0,      35,  4,19930108,0649, -53.5655,  -93.4832,  5642, 5425.700,    0.679,   34.705,2, -999.000,2,  211.200,2, -999.000,2, -999.000,2, -999.000,2, -999.000,2, -999.000,2, -999.000,2, -999.000,2, -999.000,9, -999.000,9, -999.000,9
           NA,    P17E,    201,   1,-999.0,      36,  4,19930108,0649, -53.5655,  -93.4832,  5642, 5637.700,    0.703,   34.705,2, -999.000,2,  210.600,2, -999.000,2, -999.000,2, -999.000,2, -999.000,2, -999.000,2, -999.000,2, -999.000,2, -999.000,9, -999.000,9, -999.000,9