BOTTLE,20215010JOAExport
# Exported from JOA (5.5.0 Final September 29th, 2020) on 2021/05/10 11:50:11
#BOTTLE,20200306JHS,,,,,,,,,,,,,,,,,,,,,,,,,,,,,,,,,,,,,,
#BOTTLE,20030324WHPSIOdm,,,,,,,,,,,,,,,,,,,,,,,,,,,,,,,,,,,,,,
#BOTTLE,20210510SIOJHS,,,,,,,,,,,,,,,,,,,,,,,,,,,,,,,,,,,,,,
#BOTTLE,2019724BJK,,,,,,,,,,,,,,,,,,,,,,,,,,,,,,,,,,,,,,
#BOTTLE,20194624JOAExport,,,,,,,,,,,,,,,,,,,,,,,,,,,,,,,,,,,,,,
# Exported from JOA (5.5.0 Final April 23rd, 2019) on 2019/07/24 11:46:05,,,,,,,,,,,,,,,,,,,,,,,,,,,,,,,,,,,,,,
#BOTTLE,20040210WHPSIOSA,,,,,,,,,,,,,,,,,,,,,,,,,,,,,,,,,,,,,,
#code : jjward hyd_to_exchange.pl ,,,,,,,,,,,,,,,,,,,,,,,,,,,,,,,,,,,,,,,
#original files copied from HTML directory: Feb. 10,2004,,,,,,,,,,,,,,,,,,,,,,,,,,,,,,,,,,,,,,
#original HYD file: p19chy.txt   Tue Feb 10 13:41:02 2004,,,,,,,,,,,,,,,,,,,,,,,,,,,,,,,,,,,,,,,
#original SUM file: p19csu.txt   Wed Oct 17 07:30:55 2001,,,,,,,,,,,,,,,,,,,,,,,,,,,,,,,,,,,,,,,
EXPOCODE,SECT_ID,STNNBR,CASTNO,SAMPNO,BTLNBR,BTLNBR_FLAG_W,DATE,TIME,LATITUDE,LONGITUDE,DEPTH,CTDPRS,CTDTMP,CTDSAL,CTDSAL_FLAG_W,SALNTY,SALNTY_FLAG_W,CTDOXY,CTDOXY_FLAG_W,OXYGEN,OXYGEN_FLAG_W,SILCAT,SILCAT_FLAG_W,NITRAT,NITRAT_FLAG_W,NITRIT,NITRIT_FLAG_W,PHSPHT,PHSPHT_FLAG_W,CFC-11,CFC-11_FLAG_W,CFC-12,CFC-12_FLAG_W,SF6,SF6_FLAG_W,TCARBN,TCARBN_FLAG_W,ALKALI,ALKALI_FLAG_W
,,,,,,,,,,,,DB,ITS-90,PSS-78,,PSS-78,,UMOL/KG,,UMOL/KG,,UMOL/KG,,UMOL/KG,,UMOL/KG,,UMOL/KG,,PMOL/KG,,PMOL/KG,,PMOL/KG,,UMOL/KG,,UMOL/KG
           NA,    P17E,    128,   1,-999.0,       1,  2,19921214,0602, -52.5005, -134.9928,  4335,    3.100,    7.603,   34.366,2,   34.366,2, -999.000,3,  317.700,2,    1.510,2,   13.220,2,    0.190,2,    0.900,2, -999.000,9, -999.000,9, -999.000,9, 2076.500,2, -999.000,9
           NA,    P17E,    128,   1,-999.0,       2,  2,19921214,0602, -52.5005, -134.9928,  4335,   29.800,    7.476,   34.371,2,   34.370,2, -999.000,3,  317.900,2,    1.510,2,   13.270,2,    0.180,2,    0.910,2,    4.160,6,    2.101,6, -999.000,9, 2078.100,2, -999.000,9
           NA,    P17E,    128,   1,-999.0,       3,  2,19921214,0602, -52.5005, -134.9928,  4335,   59.600,    7.176,   34.395,2,   34.395,2, -999.000,3,  296.400,2,    2.160,2,   15.280,2,    0.190,2,    1.160,2, -999.000,3,    2.132,2, -999.000,9, 2104.100,2, -999.000,9
           NA,    P17E,    128,   1,-999.0,       4,  2,19921214,0602, -52.5005, -134.9928,  4335,   89.300,    6.954,   34.399,2,   34.398,2, -999.000,3,  292.600,2,    4.530,2,   16.490,2,    0.190,2,    1.250,2, -999.000,9, -999.000,9, -999.000,9, 2108.000,2, -999.000,9
           NA,    P17E,    128,   1,-999.0,       5,  2,19921214,0602, -52.5005, -134.9928,  4335,  129.900,    6.867,   34.402,2,   34.402,2,  285.000,2,  288.100,2,    6.030,2,   17.090,2,    0.220,2,    1.310,2,    4.030,2,    2.029,2, -999.000,9, 2111.600,2, -999.000,9
           NA,    P17E,    128,   1,-999.0,       6,  2,19921214,0602, -52.5005, -134.9928,  4335,  159.800,    6.763,   34.391,2,   34.391,2,  289.100,2,  287.200,2,    6.670,2,   17.610,2,    0.230,2,    1.340,2, -999.000,9, -999.000,9, -999.000,9, 2110.900,2, -999.000,9
           NA,    P17E,    128,   1,-999.0,       7,  2,19921214,0602, -52.5005, -134.9928,  4335,  189.300,    6.714,   34.384,2,   34.386,2,  282.800,2,  287.800,2,    7.320,2,   17.820,2,    0.230,2,    1.350,2,    4.011,2,    2.043,2, -999.000,9, 2114.400,2, -999.000,9
           NA,    P17E,    128,   1,-999.0,       8,  2,19921214,0602, -52.5005, -134.9928,  4335,  248.800,    6.507,   34.355,2,   34.355,2,  290.400,2,  272.600,2,    8.390,2,   20.150,2,    0.020,2,    1.470,2, -999.000,9, -999.000,9, -999.000,9, 2120.500,2, -999.000,9
           NA,    P17E,    128,   1,-999.0,       9,  2,19921214,0602, -52.5005, -134.9928,  4335,  306.200,    6.427,   34.349,2,   34.349,2,  295.200,2,  270.900,2,    9.030,2,   20.470,2,    0.010,2,    1.480,2,    3.497,2,    1.746,2, -999.000,9, 2122.800,2, -999.000,9
           NA,    P17E,    128,   1,-999.0,      10,  2,19921214,0602, -52.5005, -134.9928,  4335,  454.500,    5.952,   34.294,2,   34.295,2,  269.600,2,  272.800,2,    9.880,2,   21.530,2,    0.010,2,    1.560,2,    3.606,2,    1.765,2, -999.000,9, 2122.200,2, -999.000,9
           NA,    P17E,    128,   1,-999.0,      11,  2,19921214,0602, -52.5005, -134.9928,  4335,  553.100,    5.478,   34.237,2,   34.235,2,  285.100,2,  273.800,2,   10.950,2,   22.590,2,    0.020,2,    1.620,2,    3.672,2,    1.780,2, -999.000,9, 2126.600,2, -999.000,9
           NA,    P17E,    128,   1,-999.0,      12,  2,19921214,0602, -52.5005, -134.9928,  4335,  622.300,    5.047,   34.195,2,   34.197,2,  275.800,2,  279.500,2,   12.020,2,   23.140,2,    0.100,2,    1.660,2,    3.821,2,    1.892,2, -999.000,9, 2128.800,2, -999.000,9
           NA,    P17E,    128,   1,-999.0,      13,  2,19921214,0602, -52.5005, -134.9928,  4335,  660.500,    5.206,   34.242,2,   34.242,2,  238.300,2,  255.000,2,   15.660,2,   24.890,2,    0.040,2,    1.770,2,    3.043,2,    1.464,2, -999.000,9, 2142.600,2, -999.000,9
           NA,    P17E,    128,   1,-999.0,      14,  3,19921214,0602, -52.5005, -134.9928,  4335,  698.400,    5.491,   34.332,2, -999.000,3,  258.200,2, -999.000,3, -999.000,3, -999.000,3, -999.000,3, -999.000,3,    1.531,2,    0.751,2, -999.000,9, 2160.800,2, -999.000,9
           NA,    P17E,    128,   1,-999.0,      15,  2,19921214,0602, -52.5005, -134.9928,  4335,  748.600,    5.102,   34.300,2,   34.298,2,  229.500,2,  227.400,2,   22.710,2,   27.520,2,    0.010,2,    1.940,2,    1.867,2,    0.903,2, -999.000,9, 2163.000,2, -999.000,9
           NA,    P17E,    128,   1,-999.0,      16,  2,19921214,0602, -52.5005, -134.9928,  4335,  797.500,    5.052,   34.336,2,   34.336,2,  220.300,2,  213.900,2,   26.980,2,   28.570,2,    0.000,2,    2.010,2,    1.231,2,    0.583,2, -999.000,9, 2172.800,2, -999.000,9
           NA,    P17E,    128,   1,-999.0,      17,  2,19921214,0602, -52.5005, -134.9928,  4335,  898.500,    4.322,   34.317,2,   34.316,2,  212.800,2,  214.300,2,   32.960,2,   29.900,2,    0.000,2,    2.110,2,    1.393,2,    0.671,2, -999.000,9, 2171.800,2, -999.000,9
           NA,    P17E,    128,   1,-999.0,      18,  2,19921214,0602, -52.5005, -134.9928,  4335,  999.700,    3.915,   34.346,2,   34.345,2,  200.900,2,  205.900,2,   40.430,2,   31.330,2,    0.000,2,    2.210,2,    0.953,2,    0.446,2, -999.000,9, 2197.500,2, -999.000,9
           NA,    P17E,    128,   1,-999.0,      19,  2,19921214,0602, -52.5005, -134.9928,  4335, 1153.000,    3.327,   34.382,2,   34.382,2,  193.600,2,  195.200,2,   51.530,2,   32.710,2,    0.000,2,    2.300,2,    0.736,2,    0.341,2, -999.000,9, 2212.400,2, -999.000,9
           NA,    P17E,    128,   1,-999.0,      20,  2,19921214,0602, -52.5005, -134.9928,  4335, 1302.400,    3.008,   34.443,2,   34.442,2,  184.600,2,  185.100,2,   61.770,2,   33.550,2,    0.000,2,    2.380,2,    0.448,2,    0.210,2, -999.000,9, 2225.600,2, -999.000,9
           NA,    P17E,    128,   1,-999.0,      21,  2,19921214,0602, -52.5005, -134.9928,  4335, 1507.500,    2.710,   34.515,2,   34.514,2,  175.800,2,  176.900,2,   72.440,2,   33.970,2,    0.000,2,    2.400,2,    0.259,2,    0.127,2, -999.000,9, 2243.600,2, -999.000,9
           NA,    P17E,    128,   1,-999.0,      22,  2,19921214,0602, -52.5005, -134.9928,  4335, 1714.500,    2.486,   34.580,2,   34.580,2,  173.900,2,  173.200,2,   78.180,2,   33.750,2,    0.000,2,    2.380,2,    0.195,2,    0.090,2, -999.000,9, 2250.700,2, -999.000,9
           NA,    P17E,    128,   1,-999.0,      23,  2,19921214,0602, -52.5005, -134.9928,  4335, 1916.500,    2.360,   34.638,2,   34.637,2,  173.500,2,  171.200,2,   85.420,2,   33.380,2,    0.000,2,    2.350,2,    0.090,2,    0.044,2, -999.000,9, 2253.900,2, -999.000,9
           NA,    P17E,    128,   1,-999.0,      24,  2,19921214,0602, -52.5005, -134.9928,  4335, 2119.500,    2.226,   34.676,2, -999.000,3,  175.400,2,  174.100,2,   90.950,2,   32.840,2,    0.000,2,    2.310,2, -999.000,3, -999.000,3, -999.000,9, 2259.600,2, -999.000,9
           NA,    P17E,    128,   1,-999.0,      25,  2,19921214,0602, -52.5005, -134.9928,  4335, 2322.600,    2.093,   34.697,2,   34.698,2,  177.200,2,  175.300,2,   96.060,2,   32.300,2,    0.000,2,    2.310,2,    0.024,2,    0.005,2, -999.000,9, 2264.000,2, -999.000,9
           NA,    P17E,    128,   1,-999.0,      26,  2,19921214,0602, -52.5005, -134.9928,  4335, 2529.700,    1.994,   34.726,2,   34.725,2,  187.100,2,  186.600,2,   92.140,2,   31.340,2,    0.000,2,    2.210,2,    0.034,2,    0.021,2, -999.000,9, 2251.100,2, -999.000,9
           NA,    P17E,    128,   1,-999.0,      27,  2,19921214,0602, -52.5005, -134.9928,  4335, 2732.900,    1.840,   34.729,2,   34.728,2,  188.400,2,  189.700,2,   98.750,2,   31.450,2,    0.000,2,    2.240,2,    0.018,2,    0.008,2, -999.000,9, 2253.800,2, -999.000,9
           NA,    P17E,    128,   1,-999.0,      28,  2,19921214,0602, -52.5005, -134.9928,  4335, 2935.500,    1.669,   34.732,2,   34.732,2,  192.700,2,  194.300,2,  101.490,2,   31.230,2,    0.000,2,    2.210,2,    0.023,2,    0.013,2, -999.000,9, 2251.400,2, -999.000,9
           NA,    P17E,    128,   1,-999.0,      29,  2,19921214,0602, -52.5005, -134.9928,  4335, 3141.800,    1.512,   34.726,2,   34.727,2,  193.900,2,  196.400,2,  107.690,2,   31.440,2,    0.000,2,    2.220,2, -999.000,9, -999.000,9, -999.000,9, 2263.900,2, -999.000,9
           NA,    P17E,    128,   1,-999.0,      30,  2,19921214,0602, -52.5005, -134.9928,  4335, 3346.600,    1.415,   34.723,2,   34.724,2,  194.600,2,  196.900,2,  111.090,2,   31.600,2,    0.000,2,    2.250,2,    0.010,2,    0.005,2, -999.000,9, 2262.700,2, -999.000,9
           NA,    P17E,    128,   1,-999.0,      31,  2,19921214,0602, -52.5005, -134.9928,  4335, 3552.600,    1.316,   34.719,2,   34.720,2,  195.300,2,  196.900,2,  114.270,2,   31.910,2,    0.000,2,    2.250,2, -999.000,9, -999.000,9, -999.000,9, 2263.700,2, -999.000,9
           NA,    P17E,    128,   1,-999.0,      32,  2,19921214,0602, -52.5005, -134.9928,  4335, 3755.500,    1.265,   34.717,2,   34.717,2,  196.600,2,  196.900,2,  116.810,2,   32.010,2,    0.000,2,    2.290,2,    0.008,2,    0.003,2, -999.000,9, 2266.800,2, -999.000,9
           NA,    P17E,    128,   1,-999.0,      33,  2,19921214,0602, -52.5005, -134.9928,  4335, 3959.900,    1.266,   34.717,2,   34.717,2,  197.500,2,  197.100,2,  118.050,2,   32.010,2,    0.000,2,    2.270,2, -999.000,9, -999.000,9, -999.000,9, 2264.700,2, -999.000,9
           NA,    P17E,    128,   1,-999.0,      34,  2,19921214,0602, -52.5005, -134.9928,  4335, 4163.000,    1.279,   34.716,2,   34.716,2,  197.800,2,  197.200,2,  117.980,2,   32.010,2,    0.000,2,    2.290,2, -999.000,5,    0.004,2, -999.000,9, 2266.300,2, -999.000,9
           NA,    P17E,    128,   1,-999.0,      35,  2,19921214,0602, -52.5005, -134.9928,  4335, 4353.800,    1.287,   34.716,2,   34.717,2,  197.900,2,  197.400,2,  118.140,2,   32.000,2,    0.000,2,    2.270,2, -999.000,9, -999.000,9, -999.000,9, 2270.500,2, -999.000,9
           NA,    P17E,    128,   1,-999.0,      36,  2,19921214,0602, -52.5005, -134.9928,  4335, 4398.700,    1.291,   34.717,2,   34.717,2,  196.900,2, -999.000,4, -999.000,3,   31.950,2,    0.000,2,    2.250,2,    0.004,2,    0.001,2, -999.000,9, 2265.500,2, -999.000,9