BOTTLE,20215010JOAExport
EXPOCODE,SECT_ID,STNNBR,CASTNO,SAMPNO,BTLNBR,BTLNBR_FLAG_W,DATE,TIME,LATITUDE,LONGITUDE,DEPTH,CTDPRS,CTDTMP,CTDSAL,CTDSAL_FLAG_W,SALNTY,SALNTY_FLAG_W,CTDOXY,CTDOXY_FLAG_W,OXYGEN,OXYGEN_FLAG_W,SILCAT,SILCAT_FLAG_W,NITRAT,NITRAT_FLAG_W,NITRIT,NITRIT_FLAG_W,PHSPHT,PHSPHT_FLAG_W,CFC-11,CFC-11_FLAG_W,CFC-12,CFC-12_FLAG_W,SF6,SF6_FLAG_W,TCARBN,TCARBN_FLAG_W,ALKALI,ALKALI_FLAG_W
,,,,,,,,,,,,DB,ITS-90,PSS-78,,PSS-78,,UMOL/KG,,UMOL/KG,,UMOL/KG,,UMOL/KG,,UMOL/KG,,UMOL/KG,,PMOL/KG,,PMOL/KG,,PMOL/KG,,UMOL/KG,,UMOL/KG
           NA,    P17E,    172,   1,-999.0,       1,  2,19921231,0314, -51.4365, -120.8627,  3285,    3.400,    7.817,   34.342,2,   34.342,2, -999.000,3,  296.200,2,    0.980,2,   14.010,2,    0.190,2,    1.080,2, -999.000,9, -999.000,9, -999.000,9, 2084.600,2, -999.000,9
           NA,    P17E,    172,   1,-999.0,       2,  2,19921231,0314, -51.4365, -120.8627,  3285,   25.800,    7.793,   34.343,2,   34.344,2, -999.000,3,  297.900,2,    0.970,2,   14.020,2,    0.190,2,    1.090,2, -999.000,9, -999.000,9, -999.000,9, -999.000,9, -999.000,9
           NA,    P17E,    172,   1,-999.0,       3,  2,19921231,0314, -51.4365, -120.8627,  3285,   44.900,    7.694,   34.341,2,   34.340,2, -999.000,3,  299.900,2,    0.750,2,   14.190,2,    0.180,2,    1.100,2, -999.000,9, -999.000,9, -999.000,9, -999.000,9, -999.000,9
           NA,    P17E,    172,   1,-999.0,       4,  2,19921231,0314, -51.4365, -120.8627,  3285,   75.100,    7.497,   34.363,2,   34.363,2, -999.000,3,  295.500,2,    0.740,2,   14.590,2,    0.190,2,    1.150,2, -999.000,9, -999.000,9, -999.000,9, -999.000,9, -999.000,9
           NA,    P17E,    172,   1,-999.0,       5,  2,19921231,0314, -51.4365, -120.8627,  3285,  104.900,    7.186,   34.391,2,   34.390,2,  293.400,2,  289.800,2,    1.990,2,   15.660,2,    0.210,2,    1.250,2, -999.000,9, -999.000,9, -999.000,9, -999.000,9, -999.000,9
           NA,    P17E,    172,   1,-999.0,       6,  2,19921231,0314, -51.4365, -120.8627,  3285,  144.500,    6.918,   34.393,2,   34.394,2,  284.700,2,  283.600,2,    5.750,2,   17.000,2,    0.240,2,    1.300,2, -999.000,9, -999.000,9, -999.000,9, -999.000,9, -999.000,9
           NA,    P17E,    172,   1,-999.0,       7,  2,19921231,0314, -51.4365, -120.8627,  3285,  194.200,    6.866,   34.394,2,   34.393,2,  284.500,2,  280.700,2,    5.960,2,   17.610,2,    0.160,2,    1.340,2, -999.000,9, -999.000,9, -999.000,9, -999.000,9, -999.000,9
           NA,    P17E,    172,   1,-999.0,       8,  2,19921231,0314, -51.4365, -120.8627,  3285,  243.500,    6.794,   34.387,2,   34.387,2,  275.700,2,  278.700,2,    6.160,2,   18.100,2,    0.130,2,    1.340,2, -999.000,9, -999.000,9, -999.000,9, -999.000,9, -999.000,9
           NA,    P17E,    172,   1,-999.0,       9,  2,19921231,0314, -51.4365, -120.8627,  3285,  292.700,    6.665,   34.370,2,   34.370,2,  269.300,2,  283.200,2,    5.730,2,   17.810,2,    0.190,2,    1.340,2, -999.000,9, -999.000,9, -999.000,9, -999.000,9, -999.000,9
           NA,    P17E,    172,   1,-999.0,      10,  2,19921231,0314, -51.4365, -120.8627,  3285,  341.700,    6.539,   34.357,2,   34.357,2,  270.400,2,  274.300,2,    7.400,2,   19.390,2,    0.040,2,    1.430,2, -999.000,9, -999.000,9, -999.000,9, -999.000,9, -999.000,9
           NA,    P17E,    172,   1,-999.0,      11,  2,19921231,0314, -51.4365, -120.8627,  3285,  391.300,    6.379,   34.341,2,   34.341,2,  267.100,2,  273.400,2,    8.230,2,   20.050,2,    0.020,2,    1.470,2, -999.000,9, -999.000,9, -999.000,9, -999.000,9, -999.000,9
           NA,    P17E,    172,   1,-999.0,      12,  2,19921231,0314, -51.4365, -120.8627,  3285,  440.400,    6.226,   34.325,2,   34.326,2,  265.900,2,  270.700,2,    8.640,2,   20.620,2,    0.020,2,    1.500,2, -999.000,9, -999.000,9, -999.000,9, -999.000,9, -999.000,9
           NA,    P17E,    172,   1,-999.0,      13,  2,19921231,0314, -51.4365, -120.8627,  3285,  486.800,    6.056,   34.308,2,   34.308,2,  265.100,2,  264.700,2,   10.100,2,   21.660,2,    0.020,2,    1.560,2, -999.000,9, -999.000,9, -999.000,9, -999.000,9, -999.000,9
           NA,    P17E,    172,   1,-999.0,      14,  2,19921231,0314, -51.4365, -120.8627,  3285,  535.300,    5.872,   34.292,2,   34.292,2,  261.300,2,  263.300,2,   10.720,2,   22.360,2,    0.010,2,    1.610,2, -999.000,9, -999.000,9, -999.000,9, -999.000,9, -999.000,9
           NA,    P17E,    172,   1,-999.0,      15,  2,19921231,0314, -51.4365, -120.8627,  3285,  585.200,    5.511,   34.252,2,   34.253,2,  265.600,2,  267.200,2,   11.130,2,   22.830,2,    0.010,2,    1.650,2, -999.000,9, -999.000,9, -999.000,9, -999.000,9, -999.000,9
           NA,    P17E,    172,   1,-999.0,      16,  2,19921231,0314, -51.4365, -120.8627,  3285,  634.800,    5.507,   34.279,2,   34.272,2,  242.000,2,  246.600,2,   14.890,2,   24.680,2,    0.000,2,    1.770,2, -999.000,9, -999.000,9, -999.000,9, -999.000,9, -999.000,9
           NA,    P17E,    172,   1,-999.0,      17,  2,19921231,0314, -51.4365, -120.8627,  3285,  685.500,    5.121,   34.246,2,   34.244,2,  246.700,2,  251.400,2,   15.720,2,   25.140,2,    0.000,2,    1.780,2, -999.000,9, -999.000,9, -999.000,9, -999.000,9, -999.000,9
           NA,    P17E,    172,   1,-999.0,      18,  2,19921231,0314, -51.4365, -120.8627,  3285,  735.200,    5.061,   34.270,2,   34.270,2,  244.900,2,  239.200,2,   18.640,2,   26.120,2,    0.000,2,    1.840,2, -999.000,9, -999.000,9, -999.000,9, -999.000,9, -999.000,9
           NA,    P17E,    172,   1,-999.0,      19,  2,19921231,0314, -51.4365, -120.8627,  3285,  794.800,    4.983,   34.308,2,   34.308,2,  220.700,2,  220.600,2,   24.080,2,   27.800,2,    0.000,2,    1.960,2, -999.000,9, -999.000,9, -999.000,9, -999.000,9, -999.000,9
           NA,    P17E,    172,   1,-999.0,      20,  2,19921231,0314, -51.4365, -120.8627,  3285,  895.500,    4.416,   34.311,2,   34.310,2,  214.500,2,  214.500,2,   30.570,2,   29.310,2,    0.000,2,    2.070,2, -999.000,9, -999.000,9, -999.000,9, -999.000,9, -999.000,9
           NA,    P17E,    172,   1,-999.0,      21,  2,19921231,0314, -51.4365, -120.8627,  3285,  998.200,    3.887,   34.319,2,   34.316,2,  212.600,2,  210.000,2,   37.060,2,   30.540,2,    0.000,2,    2.150,2, -999.000,9, -999.000,9, -999.000,9, -999.000,9, -999.000,9
           NA,    P17E,    172,   1,-999.0,      22,  2,19921231,0314, -51.4365, -120.8627,  3285, 1101.200,    3.518,   34.353,2,   34.352,2,  202.300,2,  200.300,2,   45.220,2,   31.650,2,    0.000,2,    2.240,2, -999.000,9, -999.000,9, -999.000,9, -999.000,9, -999.000,9
           NA,    P17E,    172,   1,-999.0,      23,  2,19921231,0314, -51.4365, -120.8627,  3285, 1253.100,    3.095,   34.407,2,   34.407,2,  190.500,2,  188.100,2,   56.320,2,   32.820,2,    0.000,2,    2.320,2, -999.000,9, -999.000,9, -999.000,9, -999.000,9, -999.000,9
           NA,    P17E,    172,   1,-999.0,      24,  2,19921231,0314, -51.4365, -120.8627,  3285, 1406.800,    2.784,   34.470,2,   34.468,2,  181.500,2,  180.000,2,   65.130,2,   33.400,2,    0.000,2,    2.360,2, -999.000,9, -999.000,9, -999.000,9, -999.000,9, -999.000,9
           NA,    P17E,    172,   1,-999.0,      25,  2,19921231,0314, -51.4365, -120.8627,  3285, 1611.000,    2.545,   34.547,2,   34.546,2,  172.500,2,  173.000,2,   74.780,2,   33.400,2,    0.000,2,    2.370,2, -999.000,9, -999.000,9, -999.000,9, -999.000,9, -999.000,9
           NA,    P17E,    172,   1,-999.0,      26,  2,19921231,0314, -51.4365, -120.8627,  3285, 1713.700,    2.466,   34.584,2,   34.583,2,  170.100,2,  170.900,2,   78.770,2,   33.280,2,    0.000,2,    2.360,2, -999.000,9, -999.000,9, -999.000,9, -999.000,9, -999.000,9
           NA,    P17E,    172,   1,-999.0,      27,  4,19921231,0314, -51.4365, -120.8627,  3285, 1713.700,    2.466,   34.584,2, -999.000,2,  170.000,2, -999.000,2, -999.000,2, -999.000,2, -999.000,2, -999.000,2, -999.000,9, -999.000,9, -999.000,9, -999.000,9, -999.000,9
           NA,    P17E,    172,   1,-999.0,      28,  2,19921231,0314, -51.4365, -120.8627,  3285, 2021.200,    2.261,   34.665,2,   34.664,2,  172.600,2,  173.900,2,   85.700,2,   32.280,2,    0.000,2,    2.290,2, -999.000,9, -999.000,9, -999.000,9, -999.000,9, -999.000,9
           NA,    P17E,    172,   1,-999.0,      29,  2,19921231,0314, -51.4365, -120.8627,  3285, 2225.700,    2.131,   34.694,2,   34.695,2,  174.600,2,  176.400,2,   92.020,2,   31.760,2,    0.000,2,    2.270,2, -999.000,9, -999.000,9, -999.000,9, -999.000,9, -999.000,9
           NA,    P17E,    172,   1,-999.0,      30,  2,19921231,0314, -51.4365, -120.8627,  3285, 2428.600,    1.965,   34.706,2,   34.706,2,  174.600,2,  175.600,2,  100.260,2,   32.050,2,    0.000,2,    2.270,2, -999.000,9, -999.000,9, -999.000,9, -999.000,9, -999.000,9
           NA,    P17E,    172,   1,-999.0,      31,  2,19921231,0314, -51.4365, -120.8627,  3285, 2632.600,    1.812,   34.706,2,   34.708,2,  175.100,2,  175.600,2,  108.120,2,   32.280,2,    0.000,2,    2.300,2, -999.000,9, -999.000,9, -999.000,9, -999.000,9, -999.000,9
           NA,    P17E,    172,   1,-999.0,      32,  2,19921231,0314, -51.4365, -120.8627,  3285, 2836.400,    1.687,   34.711,2,   34.712,2,  180.600,2,  179.800,2,  109.390,2,   32.110,2,    0.000,2,    2.270,2, -999.000,9, -999.000,9, -999.000,9, -999.000,9, -999.000,9
           NA,    P17E,    172,   1,-999.0,      33,  2,19921231,0314, -51.4365, -120.8627,  3285, 3040.800,    1.525,   34.705,2,   34.705,2,  181.400,2,  179.800,2,  116.640,2,   32.340,2,    0.000,2,    2.310,2, -999.000,9, -999.000,9, -999.000,9, -999.000,9, -999.000,9
           NA,    P17E,    172,   1,-999.0,      34,  2,19921231,0314, -51.4365, -120.8627,  3285, 3141.800,    1.487,   34.705,2,   34.706,2,  181.700,2,  181.500,2,  117.710,2,   32.510,2,    0.000,2,    2.310,2, -999.000,9, -999.000,9, -999.000,9, -999.000,9, -999.000,9
           NA,    P17E,    172,   1,-999.0,      35,  2,19921231,0314, -51.4365, -120.8627,  3285, 3243.800,    1.484,   34.706,2,   34.707,2,  182.800,2,  182.400,2,  117.910,2,   32.630,2,    0.000,2,    2.310,2, -999.000,9, -999.000,9, -999.000,9, -999.000,9, -999.000,9
           NA,    P17E,    172,   1,-999.0,      36,  2,19921231,0314, -51.4365, -120.8627,  3285, 3339.500,    1.481,   34.707,2,   34.708,2,  183.000,2,  182.500,2,  118.330,2,   32.570,2,    0.000,2,    2.300,2, -999.000,9, -999.000,9, -999.000,9, -999.000,9, -999.000,9