BOTTLE,20215010JOAExport
EXPOCODE,SECT_ID,STNNBR,CASTNO,SAMPNO,BTLNBR,BTLNBR_FLAG_W,DATE,TIME,LATITUDE,LONGITUDE,DEPTH,CTDPRS,CTDTMP,CTDSAL,CTDSAL_FLAG_W,SALNTY,SALNTY_FLAG_W,CTDOXY,CTDOXY_FLAG_W,OXYGEN,OXYGEN_FLAG_W,SILCAT,SILCAT_FLAG_W,NITRAT,NITRAT_FLAG_W,NITRIT,NITRIT_FLAG_W,PHSPHT,PHSPHT_FLAG_W,CFC-11,CFC-11_FLAG_W,CFC-12,CFC-12_FLAG_W,SF6,SF6_FLAG_W,TCARBN,TCARBN_FLAG_W,ALKALI,ALKALI_FLAG_W
,,,,,,,,,,,,DB,ITS-90,PSS-78,,PSS-78,,UMOL/KG,,UMOL/KG,,UMOL/KG,,UMOL/KG,,UMOL/KG,,UMOL/KG,,PMOL/KG,,PMOL/KG,,PMOL/KG,,UMOL/KG,,UMOL/KG
           NA,    P17E,    177,   1,-999.0,       1,  2,19930101,0450, -51.7518, -116.7557,  3083,    2.300,    7.894,   34.297,2,   34.296,2, -999.000,3,  288.300,2,    1.220,2,   13.970,2,    0.170,2,    1.140,2,    4.260,2,    2.057,2, -999.000,9, 2089.400,2, -999.000,9
           NA,    P17E,    177,   1,-999.0,       2,  2,19930101,0450, -51.7518, -116.7557,  3083,   24.600,    7.884,   34.297,2,   34.296,2, -999.000,3,  291.700,2,    1.190,2,   13.980,2,    0.170,2,    1.150,2, -999.000,9, -999.000,9, -999.000,9, -999.000,9, -999.000,9
           NA,    P17E,    177,   1,-999.0,       3,  2,19930101,0450, -51.7518, -116.7557,  3083,   55.100,    7.823,   34.301,2,   34.299,2, -999.000,3,  292.500,2,    1.160,2,   13.930,2,    0.160,2,    1.140,2,    4.262,2,    2.091,2, -999.000,9, -999.000,9, -999.000,9
           NA,    P17E,    177,   1,-999.0,       4,  2,19930101,0450, -51.7518, -116.7557,  3083,   79.300,    7.685,   34.323,2,   34.320,2, -999.000,3,  292.600,2,    1.130,2,   14.050,2,    0.150,2,    1.140,2, -999.000,9, -999.000,9, -999.000,9, -999.000,9, -999.000,9
           NA,    P17E,    177,   1,-999.0,       5,  2,19930101,0450, -51.7518, -116.7557,  3083,  103.700,    7.398,   34.341,2,   34.339,2,  290.900,2,  290.100,2,    1.310,2,   14.680,2,    0.160,2,    1.210,2,    4.264,2,    2.082,2, -999.000,9, -999.000,9, -999.000,9
           NA,    P17E,    177,   1,-999.0,       6,  2,19930101,0450, -51.7518, -116.7557,  3083,  152.900,    6.451,   34.327,2,   34.329,2,  275.800,2,  277.400,2,    6.510,2,   19.210,2,    0.150,2,    1.450,2, -999.000,9, -999.000,9, -999.000,9, -999.000,9, -999.000,9
           NA,    P17E,    177,   1,-999.0,       7,  2,19930101,0450, -51.7518, -116.7557,  3083,  221.400,    6.083,   34.290,2,   34.289,2,  278.800,2,  279.500,2,    7.530,2,   20.310,2,    0.050,2,    1.490,2,    4.017,2,    1.945,2, -999.000,9, -999.000,9, -999.000,9
           NA,    P17E,    177,   1,-999.0,       8,  2,19930101,0450, -51.7518, -116.7557,  3083,  288.400,    5.980,   34.296,2,   34.296,2,  277.100,2,  277.200,2,    8.550,2,   20.740,2,    0.020,2,    1.500,2, -999.000,9, -999.000,9, -999.000,9, -999.000,9, -999.000,9
           NA,    P17E,    177,   1,-999.0,       9,  2,19930101,0450, -51.7518, -116.7557,  3083,  354.500,    5.691,   34.267,2,   34.269,2,  270.400,2,  274.200,2,    9.360,2,   21.800,2,    0.020,2,    1.570,2,    3.768,6,    1.834,6, -999.000,9, -999.000,9, -999.000,9
           NA,    P17E,    177,   1,-999.0,      10,  2,19930101,0450, -51.7518, -116.7557,  3083,  426.000,    5.106,   34.208,2,   34.210,2,  266.700,2,  269.600,2,   11.640,2,   23.550,2,    0.020,2,    1.690,2,    3.640,2,    1.748,2, -999.000,9, -999.000,9, -999.000,9
           NA,    P17E,    177,   1,-999.0,      11,  2,19930101,0450, -51.7518, -116.7557,  3083,  471.100,    4.981,   34.213,2,   34.214,2,  266.900,2,  264.600,2,   13.290,2,   24.270,2,    0.010,2,    1.730,2,    3.413,2,    1.631,2, -999.000,9, -999.000,9, -999.000,9
           NA,    P17E,    177,   1,-999.0,      12,  2,19930101,0450, -51.7518, -116.7557,  3083,  515.000,    4.758,   34.209,2,   34.209,2,  256.900,2,  255.700,2,   15.780,2,   25.620,2,    0.010,2,    1.820,2,    3.128,2,    1.487,2, -999.000,9, -999.000,9, -999.000,9
           NA,    P17E,    177,   1,-999.0,      13,  2,19930101,0450, -51.7518, -116.7557,  3083,  570.300,    4.617,   34.229,2,   34.228,2,  239.100,2,  245.700,2,   19.530,2,   26.920,2,    0.010,2,    1.910,2,    2.703,2,    1.269,2, -999.000,9, -999.000,9, -999.000,9
           NA,    P17E,    177,   1,-999.0,      14,  2,19930101,0450, -51.7518, -116.7557,  3083,  624.500,    4.453,   34.252,2,   34.250,2,  232.900,2,  233.500,2,   23.490,2,   28.160,2,    0.010,2,    1.980,2,    2.295,2,    1.066,2, -999.000,9, -999.000,9, -999.000,9
           NA,    P17E,    177,   1,-999.0,      15,  2,19930101,0450, -51.7518, -116.7557,  3083,  683.400,    4.303,   34.281,2,   34.279,2,  221.800,2,  222.700,2,   27.870,2,   29.230,2,    0.010,2,    2.050,2,    1.836,2,    0.845,2, -999.000,9, -999.000,9, -999.000,9
           NA,    P17E,    177,   1,-999.0,      16,  2,19930101,0450, -51.7518, -116.7557,  3083,  781.100,    3.860,   34.306,2,   34.305,2,  213.700,2,  213.100,2,   35.610,2,   30.710,2,    0.010,2,    2.160,2,    1.388,2,    0.639,2, -999.000,9, -999.000,9, -999.000,9
           NA,    P17E,    177,   1,-999.0,      17,  2,19930101,0450, -51.7518, -116.7557,  3083,  881.200,    3.513,   34.336,2,   34.335,2,  203.900,2,  204.500,2,   42.520,2,   31.720,2,    0.010,2,    2.230,2,    1.052,2,    0.489,2, -999.000,9, -999.000,9, -999.000,9
           NA,    P17E,    177,   1,-999.0,      18,  2,19930101,0450, -51.7518, -116.7557,  3083, 1022.500,    2.988,   34.387,2,   34.386,2,  194.900,2,  194.300,2,   53.640,2,   33.030,2,    0.010,2,    2.320,2,    0.802,2,    0.376,2, -999.000,9, -999.000,9, -999.000,9
           NA,    P17E,    177,   1,-999.0,      19,  2,19930101,0450, -51.7518, -116.7557,  3083, 1167.100,    2.744,   34.447,2,   34.446,2,  184.700,2,  183.900,2,   62.670,2,   33.580,2,    0.010,2,    2.360,2,    0.554,2,    0.258,2, -999.000,9, -999.000,9, -999.000,9
           NA,    P17E,    177,   1,-999.0,      20,  2,19930101,0450, -51.7518, -116.7557,  3083, 1315.900,    2.557,   34.513,2,   34.511,2,  176.700,2,  176.900,2,   70.450,2,   33.770,2,    0.010,2,    2.390,2,    0.368,2,    0.175,2, -999.000,9, -999.000,9, -999.000,9
           NA,    P17E,    177,   1,-999.0,      21,  2,19930101,0450, -51.7518, -116.7557,  3083, 1462.700,    2.448,   34.568,2,   34.568,2,  172.400,2,  172.400,2,   76.140,2,   33.720,2,    0.000,2,    2.380,2,    0.233,2,    0.110,2, -999.000,9, -999.000,9, -999.000,9
           NA,    P17E,    177,   1,-999.0,      22,  2,19930101,0450, -51.7518, -116.7557,  3083, 1563.700,    2.386,   34.601,2,   34.600,2,  171.700,2,  171.400,2,   79.510,2,   33.620,2,    0.000,2,    2.360,2,    0.172,2,    0.079,2, -999.000,9, -999.000,9, -999.000,9
           NA,    P17E,    177,   1,-999.0,      23,  2,19930101,0450, -51.7518, -116.7557,  3083, 1663.300,    2.315,   34.634,2,   34.634,2,  171.600,2,  172.000,2,   82.890,2,   33.100,2,    0.000,2,    2.340,2,    0.111,2,    0.055,2, -999.000,9, -999.000,9, -999.000,9
           NA,    P17E,    177,   1,-999.0,      24,  2,19930101,0450, -51.7518, -116.7557,  3083, 1765.700,    2.259,   34.657,2,   34.656,2,  172.300,2,  172.800,2,   84.790,2,   32.870,2,    0.000,2,    2.310,2,    0.085,2,    0.046,2, -999.000,9, -999.000,9, -999.000,9
           NA,    P17E,    177,   1,-999.0,      25,  2,19930101,0450, -51.7518, -116.7557,  3083, 1915.200,    2.181,   34.682,2,   34.681,2,  175.100,2,  175.500,2,   87.110,2,   32.470,2,    0.000,2,    2.280,2,    0.063,2,    0.032,2, -999.000,9, -999.000,9, -999.000,9
           NA,    P17E,    177,   1,-999.0,      26,  2,19930101,0450, -51.7518, -116.7557,  3083, 2071.600,    2.089,   34.701,2,   34.701,2,  177.700,2,  179.000,2,   90.080,2,   32.010,2,    0.000,2,    2.250,2,    0.047,2,    0.019,2, -999.000,9, -999.000,9, -999.000,9
           NA,    P17E,    177,   1,-999.0,      27,  2,19930101,0450, -51.7518, -116.7557,  3083, 2072.400,    2.086,   34.702,2,   34.701,2,  177.700,2,  179.200,2,   90.290,2,   31.960,2,    0.000,2,    2.250,2, -999.000,9, -999.000,9, -999.000,9, -999.000,9, -999.000,9
           NA,    P17E,    177,   1,-999.0,      28,  2,19930101,0450, -51.7518, -116.7557,  3083, 2233.100,    1.972,   34.713,2,   34.713,2,  180.700,2,  181.300,2,   93.690,2,   31.800,2,    0.000,2,    2.240,2,    0.033,2,    0.016,2, -999.000,9, -999.000,9, -999.000,9
           NA,    P17E,    177,   1,-999.0,      29,  2,19930101,0450, -51.7518, -116.7557,  3083, 2340.100,    1.865,   34.716,2,   34.716,2,  181.700,2,  182.600,2,   97.740,2,   31.870,2,    0.000,2,    2.240,2,    0.021,2,    0.010,2, -999.000,9, -999.000,9, -999.000,9
           NA,    P17E,    177,   1,-999.0,      30,  2,19930101,0450, -51.7518, -116.7557,  3083, 2445.700,    1.762,   34.717,2,   34.717,2,  182.300,2,  183.800,2,  102.220,2,   32.000,2,    0.000,2,    2.250,2, -999.000,9, -999.000,9, -999.000,9, -999.000,9, -999.000,9
           NA,    P17E,    177,   1,-999.0,      31,  2,19930101,0450, -51.7518, -116.7557,  3083, 2606.800,    1.617,   34.716,2,   34.715,2,  184.000,2,  184.400,2,  108.210,2,   32.130,2,    0.000,2,    2.260,2,    0.006,2,    0.005,2, -999.000,9, -999.000,9, -999.000,9
           NA,    P17E,    177,   1,-999.0,      32,  2,19930101,0450, -51.7518, -116.7557,  3083, 2713.900,    1.573,   34.715,2,   34.716,2,  184.400,2,  184.900,2,  110.150,2,   32.140,2,    0.000,2,    2.270,2,    0.007,2,    0.005,2, -999.000,9, -999.000,9, -999.000,9
           NA,    P17E,    177,   1,-999.0,      33,  2,19930101,0450, -51.7518, -116.7557,  3083, 2822.800,    1.562,   34.716,2,   34.715,2,  185.300,2,  185.100,2,  111.010,2,   32.160,2,    0.000,2,    2.270,2,    0.006,2,    0.004,2, -999.000,9, -999.000,9, -999.000,9
           NA,    P17E,    177,   1,-999.0,      34,  2,19930101,0450, -51.7518, -116.7557,  3083, 2930.600,    1.563,   34.715,2,   34.716,2,  185.300,2,  185.300,2,  111.880,2,   32.230,2,    0.000,2,    2.270,2, -999.000,9, -999.000,9, -999.000,9, -999.000,9, -999.000,9
           NA,    P17E,    177,   1,-999.0,      35,  2,19930101,0450, -51.7518, -116.7557,  3083, 3089.500,    1.577,   34.715,2,   34.716,2,  185.400,2,  185.400,2,  111.890,2,   32.300,2,    0.000,2,    2.270,2,    0.003,2,    0.002,2, -999.000,9, -999.000,9, -999.000,9
           NA,    P17E,    177,   1,-999.0,      36,  2,19930101,0450, -51.7518, -116.7557,  3083, 3181.900,    1.585,   34.716,2,   34.715,2,  185.100,2,  185.200,2,  112.110,2,   32.370,2,    0.000,2,    2.270,2,    0.008,2,    0.003,2, -999.000,9, -999.000,9, -999.000,9