BOTTLE,20215010JOAExport
EXPOCODE,SECT_ID,STNNBR,CASTNO,SAMPNO,BTLNBR,BTLNBR_FLAG_W,DATE,TIME,LATITUDE,LONGITUDE,DEPTH,CTDPRS,CTDTMP,CTDSAL,CTDSAL_FLAG_W,SALNTY,SALNTY_FLAG_W,CTDOXY,CTDOXY_FLAG_W,OXYGEN,OXYGEN_FLAG_W,SILCAT,SILCAT_FLAG_W,NITRAT,NITRAT_FLAG_W,NITRIT,NITRIT_FLAG_W,PHSPHT,PHSPHT_FLAG_W,CFC-11,CFC-11_FLAG_W,CFC-12,CFC-12_FLAG_W,SF6,SF6_FLAG_W,TCARBN,TCARBN_FLAG_W,ALKALI,ALKALI_FLAG_W
,,,,,,,,,,,,DB,ITS-90,PSS-78,,PSS-78,,UMOL/KG,,UMOL/KG,,UMOL/KG,,UMOL/KG,,UMOL/KG,,UMOL/KG,,PMOL/KG,,PMOL/KG,,PMOL/KG,,UMOL/KG,,UMOL/KG
           NA,    P17E,    182,   1,-999.0,       1,  2,19930102,0940, -52.0882, -112.6365,  3235,    5.000,    7.921,   34.330,2,   34.331,2, -999.000,4,  291.900,2,    2.220,2,   13.720,2,    0.190,2,    1.070,2, -999.000,9, -999.000,9, -999.000,9, 2086.100,2, -999.000,9
           NA,    P17E,    182,   1,-999.0,       2,  2,19930102,0940, -52.0882, -112.6365,  3235,   23.800,    7.921,   34.330,2,   34.330,2, -999.000,4,  292.300,2,    2.000,2,   13.720,2,    0.190,2,    1.080,2, -999.000,9, -999.000,9, -999.000,9, 2086.900,2, -999.000,9
           NA,    P17E,    182,   1,-999.0,       3,  2,19930102,0940, -52.0882, -112.6365,  3235,   54.100,    7.923,   34.330,2,   34.330,2, -999.000,4,  292.400,2,    1.980,2,   13.720,2,    0.190,2,    1.080,2, -999.000,9, -999.000,9, -999.000,9, 2086.300,2, -999.000,9
           NA,    P17E,    182,   1,-999.0,       4,  2,19930102,0940, -52.0882, -112.6365,  3235,   81.100,    7.904,   34.330,2,   34.331,2, -999.000,4,  292.700,2,    1.970,2,   13.770,2,    0.190,2,    1.050,2, -999.000,9, -999.000,9, -999.000,9, 2086.500,2, -999.000,9
           NA,    P17E,    182,   1,-999.0,       5,  2,19930102,0940, -52.0882, -112.6365,  3235,  101.500,    7.869,   34.330,2,   34.331,2, -999.000,4,  292.600,2,    1.960,2,   13.830,2,    0.190,2,    1.050,2, -999.000,9, -999.000,9, -999.000,9, 2086.900,2, -999.000,9
           NA,    P17E,    182,   1,-999.0,       6,  2,19930102,0940, -52.0882, -112.6365,  3235,  119.800,    7.519,   34.331,2,   34.332,2, -999.000,4,  291.000,2,    1.940,2,   14.490,2,    0.200,2,    1.120,2, -999.000,9, -999.000,9, -999.000,9, 2092.500,2, -999.000,9
           NA,    P17E,    182,   1,-999.0,       7,  2,19930102,0940, -52.0882, -112.6365,  3235,  151.600,    7.201,   34.375,2,   34.375,2, -999.000,4,  279.100,2,    6.160,2,   17.520,2,    0.060,2,    1.250,2, -999.000,9, -999.000,9, -999.000,9, 2108.600,2, -999.000,9
           NA,    P17E,    182,   1,-999.0,       8,  2,19930102,0940, -52.0882, -112.6365,  3235,  175.800,    7.151,   34.375,2,   34.377,2, -999.000,4,  278.200,2,    6.350,2,   17.650,2,    0.050,2,    1.260,2, -999.000,9, -999.000,9, -999.000,9, 2109.200,2, -999.000,9
           NA,    P17E,    182,   1,-999.0,       9,  2,19930102,0940, -52.0882, -112.6365,  3235,  228.100,    7.000,   34.368,2,   34.371,2, -999.000,4,  274.500,2,    6.760,2,   18.470,2,    0.060,2,    1.320,2, -999.000,9, -999.000,9, -999.000,9, 2110.900,2, -999.000,9
           NA,    P17E,    182,   1,-999.0,      10,  2,19930102,0940, -52.0882, -112.6365,  3235,  280.200,    6.772,   34.341,2,   34.341,2, -999.000,4,  281.600,2,    6.330,2,   18.280,2,    0.030,2,    1.300,2, -999.000,9, -999.000,9, -999.000,9, 2112.400,2, -999.000,9
           NA,    P17E,    182,   1,-999.0,      11,  2,19930102,0940, -52.0882, -112.6365,  3235,  328.500,    6.771,   34.354,2,   34.355,2, -999.000,4,  272.500,2,    7.580,2,   19.360,2,    0.020,2,    1.380,2, -999.000,9, -999.000,9, -999.000,9, 2117.800,2, -999.000,9
           NA,    P17E,    182,   1,-999.0,      12,  2,19930102,0940, -52.0882, -112.6365,  3235,  376.900,    6.638,   34.342,2,   34.344,2, -999.000,4,  274.900,2,    7.360,2,   19.580,2,    0.020,2,    1.390,2, -999.000,9, -999.000,9, -999.000,9, 2114.700,2, -999.000,9
           NA,    P17E,    182,   1,-999.0,      13,  2,19930102,0940, -52.0882, -112.6365,  3235,  424.000,    6.528,   34.334,2,   34.335,2, -999.000,4,  271.400,2,    8.190,2,   20.370,2,    0.010,2,    1.430,2, -999.000,9, -999.000,9, -999.000,9, 2119.200,2, -999.000,9
           NA,    P17E,    182,   1,-999.0,      14,  2,19930102,0940, -52.0882, -112.6365,  3235,  476.300,    6.396,   34.322,2,   34.321,2, -999.000,4,  271.200,2,    8.380,2,   20.820,2,    0.010,2,    1.460,2, -999.000,9, -999.000,9, -999.000,9, 2121.700,2, -999.000,9
           NA,    P17E,    182,   1,-999.0,      15,  2,19930102,0940, -52.0882, -112.6365,  3235,  524.800,    6.214,   34.308,2,   34.307,2, -999.000,4,  267.700,2,    9.420,2,   21.550,2,    0.010,2,    1.510,2, -999.000,9, -999.000,9, -999.000,9, 2126.600,2, -999.000,9
           NA,    P17E,    182,   1,-999.0,      16,  2,19930102,0940, -52.0882, -112.6365,  3235,  582.600,    5.942,   34.284,2,   34.285,2, -999.000,4,  270.900,2,    9.830,2,   21.840,2,    0.010,2,    1.530,2, -999.000,9, -999.000,9, -999.000,9, 2128.000,2, -999.000,9
           NA,    P17E,    182,   1,-999.0,      17,  2,19930102,0940, -52.0882, -112.6365,  3235,  631.800,    5.727,   34.270,2,   34.270,2, -999.000,4,  263.800,2,   11.720,2,   23.140,2,    0.010,2,    1.610,2, -999.000,9, -999.000,9, -999.000,9, 2133.900,2, -999.000,9
           NA,    P17E,    182,   1,-999.0,      18,  2,19930102,0940, -52.0882, -112.6365,  3235,  684.900,    5.513,   34.267,2,   34.267,2, -999.000,4,  251.600,2,   14.660,2,   24.660,2,    0.000,2,    1.710,2, -999.000,9, -999.000,9, -999.000,9, 2141.900,2, -999.000,9
           NA,    P17E,    182,   1,-999.0,      19,  2,19930102,0940, -52.0882, -112.6365,  3235,  733.100,    5.402,   34.283,2,   34.284,2, -999.000,4,  238.400,2,   17.600,2,   26.070,2,    0.000,2,    1.800,2, -999.000,9, -999.000,9, -999.000,9, 2152.500,2, -999.000,9
           NA,    P17E,    182,   1,-999.0,      20,  2,19930102,0940, -52.0882, -112.6365,  3235,  808.400,    4.995,   34.283,2,   34.284,2, -999.000,4,  230.900,2,   21.380,2,   27.600,2,    0.000,2,    1.890,2, -999.000,9, -999.000,9, -999.000,9, 2162.400,2, -999.000,9
           NA,    P17E,    182,   1,-999.0,      21,  3,19930102,0940, -52.0882, -112.6365,  3235,  879.400,    4.635,   34.293,2,   34.293,2, -999.000,4,  222.700,2,   26.850,2,   28.900,2,    0.000,2,    2.000,2, -999.000,9, -999.000,9, -999.000,9, 2173.000,2, -999.000,9
           NA,    P17E,    182,   1,-999.0,      22,  2,19930102,0940, -52.0882, -112.6365,  3235,  954.700,    4.257,   34.302,2,   34.301,2,  215.400,2,  216.600,2,   31.680,2,   30.040,2,    0.000,2,    2.070,2, -999.000,9, -999.000,9, -999.000,9, 2185.600,2, -999.000,9
           NA,    P17E,    182,   1,-999.0,      23,  2,19930102,0940, -52.0882, -112.6365,  3235, 1058.200,    3.811,   34.327,2,   34.326,2,  207.600,2,  207.400,2,   39.470,2,   31.410,2,    0.000,2,    2.170,2, -999.000,9, -999.000,9, -999.000,9, 2196.800,2, -999.000,9
           NA,    P17E,    182,   1,-999.0,      24,  2,19930102,0940, -52.0882, -112.6365,  3235, 1161.700,    3.237,   34.344,2,   34.343,2,  201.400,2,  204.100,2,   47.050,2,   32.560,2,    0.000,2,    2.260,2, -999.000,9, -999.000,9, -999.000,9, 2208.500,2, -999.000,9
           NA,    P17E,    182,   1,-999.0,      25,  2,19930102,0940, -52.0882, -112.6365,  3235, 1315.200,    2.964,   34.425,2,   34.424,2,  186.500,2,  186.800,2,   59.690,2,   33.820,2,    0.000,2,    2.340,2, -999.000,9, -999.000,9, -999.000,9, 2230.100,2, -999.000,9
           NA,    P17E,    182,   1,-999.0,      27,  2,19930102,0940, -52.0882, -112.6365,  3235, 1523.800,    2.621,   34.504,2,   34.505,2,  176.400,2,  177.100,2,   70.420,2,   34.350,2,    0.000,2,    2.370,2, -999.000,9, -999.000,9, -999.000,9, 2244.200,2, -999.000,9
           NA,    P17E,    182,   1,-999.0,      26,  2,19930102,0940, -52.0882, -112.6365,  3235, 1524.000,    2.622,   34.504,2,   34.504,2,  176.400,2,  177.400,2,   70.860,2,   34.280,2,    0.000,2,    2.360,2, -999.000,9, -999.000,9, -999.000,9, 2244.700,2, -999.000,9
           NA,    P17E,    182,   1,-999.0,      28,  2,19930102,0940, -52.0882, -112.6365,  3235, 1715.500,    2.447,   34.583,2,   34.583,2,  171.100,2,  171.900,2,   79.060,2,   34.060,2,    0.000,2,    2.350,2, -999.000,9, -999.000,9, -999.000,9, 2253.100,2, -999.000,9
           NA,    P17E,    182,   1,-999.0,      29,  2,19930102,0940, -52.0882, -112.6365,  3235, 1922.700,    2.320,   34.640,2,   34.639,2,  169.900,2,  171.300,2,   86.030,2,   33.550,2,    0.000,2,    2.320,2, -999.000,9, -999.000,9, -999.000,9, 2259.300,2, -999.000,9
           NA,    P17E,    182,   1,-999.0,      30,  2,19930102,0940, -52.0882, -112.6365,  3235, 2133.000,    2.207,   34.676,2,   34.676,2,  172.900,2,  174.200,2,   90.040,2,   32.980,2,    0.000,2,    2.280,2, -999.000,9, -999.000,9, -999.000,9, 2258.800,2, -999.000,9
           NA,    P17E,    182,   1,-999.0,      31,  2,19930102,0940, -52.0882, -112.6365,  3235, 2332.400,    2.054,   34.697,2,   34.698,2,  174.800,2,  175.200,2,   96.810,2,   32.870,2,    0.000,2,    2.270,2, -999.000,9, -999.000,9, -999.000,9, 2264.300,2, -999.000,9
           NA,    P17E,    182,   1,-999.0,      32,  2,19930102,0940, -52.0882, -112.6365,  3235, 2538.700,    1.892,   34.707,2,   34.708,2,  177.400,2,  178.100,2,  102.760,2,   32.870,2,    0.000,2,    2.260,2, -999.000,9, -999.000,9, -999.000,9, 2267.700,2, -999.000,9
           NA,    P17E,    182,   1,-999.0,      33,  2,19930102,0940, -52.0882, -112.6365,  3235, 2742.600,    1.741,   34.711,2,   34.712,2,  181.000,2,  181.200,2,  107.860,2,   32.820,2,    0.000,2,    2.260,2, -999.000,9, -999.000,9, -999.000,9, 2268.200,2, -999.000,9
           NA,    P17E,    182,   1,-999.0,      34,  2,19930102,0940, -52.0882, -112.6365,  3235, 2927.200,    1.642,   34.713,2,   34.713,2,  182.500,2,  183.500,2,  110.830,2,   32.820,2,    0.000,2,    2.260,2, -999.000,9, -999.000,9, -999.000,9, 2268.900,2, -999.000,9
           NA,    P17E,    182,   1,-999.0,      35,  2,19930102,0940, -52.0882, -112.6365,  3235, 3147.000,    1.579,   34.716,2,   34.716,2,  185.700,2,  186.700,2,  111.660,2,   32.490,2,    0.000,2,    2.250,2, -999.000,9, -999.000,9, -999.000,9, 2267.700,2, -999.000,9
           NA,    P17E,    182,   1,-999.0,      36,  2,19930102,0940, -52.0882, -112.6365,  3235, 3298.400,    1.569,   34.717,2,   34.717,2,  186.000,2,  186.900,2,  111.850,2,   32.490,2,    0.000,2,    2.250,2, -999.000,9, -999.000,9, -999.000,9, 2265.700,2, -999.000,9