BOTTLE,20215010JOAExport
EXPOCODE,SECT_ID,STNNBR,CASTNO,SAMPNO,BTLNBR,BTLNBR_FLAG_W,DATE,TIME,LATITUDE,LONGITUDE,DEPTH,CTDPRS,CTDTMP,CTDSAL,CTDSAL_FLAG_W,SALNTY,SALNTY_FLAG_W,CTDOXY,CTDOXY_FLAG_W,OXYGEN,OXYGEN_FLAG_W,SILCAT,SILCAT_FLAG_W,NITRAT,NITRAT_FLAG_W,NITRIT,NITRIT_FLAG_W,PHSPHT,PHSPHT_FLAG_W,CFC-11,CFC-11_FLAG_W,CFC-12,CFC-12_FLAG_W,SF6,SF6_FLAG_W,TCARBN,TCARBN_FLAG_W,ALKALI,ALKALI_FLAG_W
,,,,,,,,,,,,DB,ITS-90,PSS-78,,PSS-78,,UMOL/KG,,UMOL/KG,,UMOL/KG,,UMOL/KG,,UMOL/KG,,UMOL/KG,,PMOL/KG,,PMOL/KG,,PMOL/KG,,UMOL/KG,,UMOL/KG
           NA,    P17E,    174,   1,-999.0,       1,  2,19921231,1349, -51.5643, -119.2255,  2996,    2.200,    6.778,   34.210,2,   34.211,2, -999.000,3,  304.400,2,    2.240,2,   16.210,2,    0.160,2,    1.200,2, -999.000,9, -999.000,9, -999.000,9, 2091.200,2, -999.000,9
           NA,    P17E,    174,   1,-999.0,       2,  2,19921231,1349, -51.5643, -119.2255,  2996,   24.000,    6.727,   34.213,2,   34.215,2, -999.000,3,  306.100,2,    2.000,2,   16.200,2,    0.170,2,    1.200,2, -999.000,9, -999.000,9, -999.000,9, -999.000,9, -999.000,9
           NA,    P17E,    174,   1,-999.0,       3,  2,19921231,1349, -51.5643, -119.2255,  2996,   54.000,    6.672,   34.221,2,   34.222,2, -999.000,3,  305.100,2,    1.750,2,   16.080,2,    0.160,2,    1.210,2, -999.000,9, -999.000,9, -999.000,9, -999.000,9, -999.000,9
           NA,    P17E,    174,   1,-999.0,       4,  2,19921231,1349, -51.5643, -119.2255,  2996,   79.100,    6.549,   34.235,2,   34.230,2, -999.000,3,  303.900,2,    1.720,2,   16.310,2,    0.160,2,    1.230,2, -999.000,9, -999.000,9, -999.000,9, -999.000,9, -999.000,9
           NA,    P17E,    174,   1,-999.0,       5,  2,19921231,1349, -51.5643, -119.2255,  2996,   94.300,    6.205,   34.266,2,   34.264,2, -999.000,3,  296.600,2,    3.980,2,   17.520,2,    0.160,2,    1.370,2, -999.000,9, -999.000,9, -999.000,9, -999.000,9, -999.000,9
           NA,    P17E,    174,   1,-999.0,       6,  2,19921231,1349, -51.5643, -119.2255,  2996,  114.200,    6.118,   34.306,2,   34.305,2,  287.100,2,  286.200,2,    7.300,2,   19.340,2,    0.140,2,    1.460,2, -999.000,9, -999.000,9, -999.000,9, -999.000,9, -999.000,9
           NA,    P17E,    174,   1,-999.0,       7,  2,19921231,1349, -51.5643, -119.2255,  2996,  148.900,    5.992,   34.303,2,   34.303,2,  285.600,2,  287.900,2,    7.680,2,   19.730,2,    0.150,2,    1.460,2, -999.000,9, -999.000,9, -999.000,9, -999.000,9, -999.000,9
           NA,    P17E,    174,   1,-999.0,       8,  2,19921231,1349, -51.5643, -119.2255,  2996,  184.200,    5.965,   34.302,2,   34.302,2,  286.000,2,  289.000,2,    8.060,2,   19.600,2,    0.220,2,    1.460,2, -999.000,9, -999.000,9, -999.000,9, -999.000,9, -999.000,9
           NA,    P17E,    174,   1,-999.0,       9,  2,19921231,1349, -51.5643, -119.2255,  2996,  224.100,    5.884,   34.293,2,   34.294,2,  279.300,2,  283.700,2,    8.860,2,   20.470,2,    0.150,2,    1.470,2, -999.000,9, -999.000,9, -999.000,9, -999.000,9, -999.000,9
           NA,    P17E,    174,   1,-999.0,      10,  2,19921231,1349, -51.5643, -119.2255,  2996,  284.300,    5.598,   34.266,2,   34.267,2,  275.000,2,  277.600,2,    9.870,2,   21.810,2,    0.080,2,    1.550,2, -999.000,9, -999.000,9, -999.000,9, -999.000,9, -999.000,9
           NA,    P17E,    174,   1,-999.0,      11,  2,19921231,1349, -51.5643, -119.2255,  2996,  323.800,    5.416,   34.247,2, -999.000,4,  284.400,2,  282.100,2,    9.630,2,   21.780,2,    0.040,2,    1.550,2, -999.000,9, -999.000,9, -999.000,9, -999.000,9, -999.000,9
           NA,    P17E,    174,   1,-999.0,      12,  2,19921231,1349, -51.5643, -119.2255,  2996,  363.400,    5.189,   34.222,2,   34.227,2,  284.200,2,  279.100,2,   10.850,2,   22.660,2,    0.030,2,    1.610,2, -999.000,9, -999.000,9, -999.000,9, -999.000,9, -999.000,9
           NA,    P17E,    174,   1,-999.0,      13,  2,19921231,1349, -51.5643, -119.2255,  2996,  407.800,    4.809,   34.186,2,   34.188,2,  279.300,2,  282.900,2,   11.230,2,   23.140,2,    0.010,2,    1.630,2, -999.000,9, -999.000,9, -999.000,9, -999.000,9, -999.000,9
           NA,    P17E,    174,   1,-999.0,      14,  2,19921231,1349, -51.5643, -119.2255,  2996,  451.100,    4.584,   34.169,2,   34.168,2,  283.900,2,  283.000,2,   11.610,2,   23.540,2,    0.010,2,    1.660,2, -999.000,9, -999.000,9, -999.000,9, -999.000,9, -999.000,9
           NA,    P17E,    174,   1,-999.0,      15,  2,19921231,1349, -51.5643, -119.2255,  2996,  498.800,    4.395,   34.161,2,   34.157,2,  280.300,2,  280.500,2,   13.040,2,   24.240,2,    0.010,2,    1.710,2, -999.000,9, -999.000,9, -999.000,9, -999.000,9, -999.000,9
           NA,    P17E,    174,   1,-999.0,      16,  2,19921231,1349, -51.5643, -119.2255,  2996,  547.000,    4.287,   34.175,2,   34.178,2,  260.000,2,  265.500,2,   16.340,2,   25.680,2,    0.010,2,    1.800,2, -999.000,9, -999.000,9, -999.000,9, -999.000,9, -999.000,9
           NA,    P17E,    174,   1,-999.0,      17,  2,19921231,1349, -51.5643, -119.2255,  2996,  596.700,    4.498,   34.239,2,   34.239,2,  241.500,2,  239.600,2,   21.530,2,   27.480,2,    0.010,2,    1.910,2, -999.000,9, -999.000,9, -999.000,9, -999.000,9, -999.000,9
           NA,    P17E,    174,   1,-999.0,      18,  2,19921231,1349, -51.5643, -119.2255,  2996,  646.600,    4.014,   34.209,2,   34.206,2,  246.500,2,  244.800,2,   23.580,2,   28.120,2,    0.000,2,    1.950,2, -999.000,9, -999.000,9, -999.000,9, -999.000,9, -999.000,9
           NA,    P17E,    174,   1,-999.0,      19,  2,19921231,1349, -51.5643, -119.2255,  2996,  697.800,    4.105,   34.261,2,   34.259,2,  227.800,2,  228.100,2,   28.130,2,   29.280,2,    0.000,2,    2.030,2, -999.000,9, -999.000,9, -999.000,9, -999.000,9, -999.000,9
           NA,    P17E,    174,   1,-999.0,      20,  2,19921231,1349, -51.5643, -119.2255,  2996,  775.100,    3.783,   34.272,2,   34.271,2,  222.600,2,  223.100,2,   40.620,2,   31.560,2,    0.000,2,    2.190,2, -999.000,9, -999.000,9, -999.000,9, -999.000,9, -999.000,9
           NA,    P17E,    174,   1,-999.0,      21,  2,19921231,1349, -51.5643, -119.2255,  2996,  852.500,    3.623,   34.326,2,   34.324,2,  210.600,2,  207.500,2,   40.580,2,   31.550,2,    0.000,2,    2.190,2, -999.000,9, -999.000,9, -999.000,9, -999.000,9, -999.000,9
           NA,    P17E,    174,   1,-999.0,      22,  2,19921231,1349, -51.5643, -119.2255,  2996,  929.400,    3.242,   34.329,2,   34.326,2,  207.800,2,  206.800,2,   44.710,2,   32.140,2,    0.000,2,    2.240,2, -999.000,9, -999.000,9, -999.000,9, -999.000,9, -999.000,9
           NA,    P17E,    174,   1,-999.0,      23,  2,19921231,1349, -51.5643, -119.2255,  2996, 1007.000,    3.083,   34.366,2,   34.365,2,  199.300,2,  197.900,2,   50.930,2,   32.770,2,    0.000,2,    2.260,2, -999.000,9, -999.000,9, -999.000,9, -999.000,9, -999.000,9
           NA,    P17E,    174,   1,-999.0,      24,  2,19921231,1349, -51.5643, -119.2255,  2996, 1109.600,    2.758,   34.408,2,   34.407,2,  193.100,2,  190.800,2,   58.820,2,   33.650,2,    0.000,2,    2.350,2, -999.000,9, -999.000,9, -999.000,9, -999.000,9, -999.000,9
           NA,    P17E,    174,   1,-999.0,      25,  2,19921231,1349, -51.5643, -119.2255,  2996, 1262.400,    2.627,   34.498,2,   34.495,2,  178.600,2,  177.600,2,   69.220,2,   33.880,2,    0.000,2,    2.370,2, -999.000,9, -999.000,9, -999.000,9, -999.000,9, -999.000,9
           NA,    P17E,    174,   1,-999.0,      26,  2,19921231,1349, -51.5643, -119.2255,  2996, 1414.000,    2.494,   34.554,2,   34.550,2,  174.000,2,  173.700,2,   75.240,2,   33.810,2,    0.000,2,    2.370,2, -999.000,9, -999.000,9, -999.000,9, -999.000,9, -999.000,9
           NA,    P17E,    174,   1,-999.0,      27,  2,19921231,1349, -51.5643, -119.2255,  2996, 1564.900,    2.389,   34.602,2,   34.600,2,  171.000,2,  171.700,2,   79.800,2,   33.450,2,    0.000,2,    2.350,2, -999.000,9, -999.000,9, -999.000,9, -999.000,9, -999.000,9
           NA,    P17E,    174,   1,-999.0,      28,  2,19921231,1349, -51.5643, -119.2255,  2996, 1715.300,    2.289,   34.645,2,   34.643,2,  173.100,2,  173.700,2,   82.470,2,   32.910,2,    0.000,2,    2.310,2, -999.000,9, -999.000,9, -999.000,9, -999.000,9, -999.000,9
           NA,    P17E,    174,   1,-999.0,      29,  2,19921231,1349, -51.5643, -119.2255,  2996, 1865.200,    2.205,   34.678,2,   34.678,2,  175.700,2,  176.700,2,   85.570,2,   32.260,2,    0.000,2,    2.270,2, -999.000,9, -999.000,9, -999.000,9, -999.000,9, -999.000,9
           NA,    P17E,    174,   1,-999.0,      30,  2,19921231,1349, -51.5643, -119.2255,  2996, 2017.300,    2.115,   34.699,2,   34.699,2,  178.100,2,  179.600,2,   88.450,2,   32.020,2,    0.000,2,    2.240,2, -999.000,9, -999.000,9, -999.000,9, -999.000,9, -999.000,9
           NA,    P17E,    174,   1,-999.0,      31,  2,19921231,1349, -51.5643, -119.2255,  2996, 2170.900,    2.016,   34.710,2,   34.710,2,  179.100,2,  180.200,2,   93.240,2,   31.950,2,    0.000,2,    2.230,2, -999.000,9, -999.000,9, -999.000,9, -999.000,9, -999.000,9
           NA,    P17E,    174,   1,-999.0,      32,  2,19921231,1349, -51.5643, -119.2255,  2996, 2323.200,    1.896,   34.718,2,   34.718,2,  182.300,2,  183.000,2,   97.600,2,   31.830,2,    0.000,2,    2.250,2, -999.000,9, -999.000,9, -999.000,9, -999.000,9, -999.000,9
           NA,    P17E,    174,   1,-999.0,      33,  2,19921231,1349, -51.5643, -119.2255,  2996, 2528.500,    1.670,   34.716,2,   34.717,2,  184.300,2,  183.600,2,  106.840,2,   32.060,2,    0.000,2,    2.260,2, -999.000,9, -999.000,9, -999.000,9, -999.000,9, -999.000,9
           NA,    P17E,    174,   1,-999.0,      34,  2,19921231,1349, -51.5643, -119.2255,  2996, 2734.800,    1.521,   34.709,2,   34.710,2,  182.300,2,  181.600,2,  115.280,2,   32.700,2,    0.000,2,    2.310,2, -999.000,9, -999.000,9, -999.000,9, -999.000,9, -999.000,9
           NA,    P17E,    174,   1,-999.0,      35,  2,19921231,1349, -51.5643, -119.2255,  2996, 2938.900,    1.496,   34.709,2,   34.709,2,  183.100,2,  182.400,2,  116.710,2,   32.690,2,    0.000,2,    2.310,2, -999.000,9, -999.000,9, -999.000,9, -999.000,9, -999.000,9
           NA,    P17E,    174,   1,-999.0,      36,  2,19921231,1349, -51.5643, -119.2255,  2996, 3038.900,    1.495,   34.708,2,   34.709,2,  182.500,2,  182.700,2,  117.080,2,   32.800,2,    0.000,2,    2.310,2, -999.000,9, -999.000,9, -999.000,9, -999.000,9, -999.000,9