BOTTLE,20215010JOAExport
EXPOCODE,SECT_ID,STNNBR,CASTNO,SAMPNO,BTLNBR,BTLNBR_FLAG_W,DATE,TIME,LATITUDE,LONGITUDE,DEPTH,CTDPRS,CTDTMP,CTDSAL,CTDSAL_FLAG_W,SALNTY,SALNTY_FLAG_W,CTDOXY,CTDOXY_FLAG_W,OXYGEN,OXYGEN_FLAG_W,SILCAT,SILCAT_FLAG_W,NITRAT,NITRAT_FLAG_W,NITRIT,NITRIT_FLAG_W,PHSPHT,PHSPHT_FLAG_W,CFC-11,CFC-11_FLAG_W,CFC-12,CFC-12_FLAG_W,SF6,SF6_FLAG_W,TCARBN,TCARBN_FLAG_W,ALKALI,ALKALI_FLAG_W
,,,,,,,,,,,,DB,ITS-90,PSS-78,,PSS-78,,UMOL/KG,,UMOL/KG,,UMOL/KG,,UMOL/KG,,UMOL/KG,,UMOL/KG,,PMOL/KG,,PMOL/KG,,PMOL/KG,,UMOL/KG,,UMOL/KG
           NA,    P17E,    184,   1,-999.0,       1,  2,19930102,2056, -52.2022, -111.0148,  3579,    3.700,    7.438,   34.319,2,   34.319,2, -999.000,5, -999.000,3,    1.730,2,   14.780,2,    0.180,2,    1.170,2, -999.000,9, -999.000,9, -999.000,9, 2093.200,2, -999.000,9
           NA,    P17E,    184,   1,-999.0,       2,  2,19930102,2056, -52.2022, -111.0148,  3579,   29.300,    7.432,   34.319,2,   34.319,2, -999.000,5, -999.000,3,    1.720,2,   14.780,2,    0.180,2,    1.160,2, -999.000,9, -999.000,9, -999.000,9, -999.000,9, -999.000,9
           NA,    P17E,    184,   1,-999.0,       3,  2,19930102,2056, -52.2022, -111.0148,  3579,   60.300,    7.425,   34.319,2,   34.319,2, -999.000,5, -999.000,3,    1.490,2,   14.720,2,    0.180,2,    1.170,2, -999.000,9, -999.000,9, -999.000,9, -999.000,9, -999.000,9
           NA,    P17E,    184,   1,-999.0,       4,  2,19930102,2056, -52.2022, -111.0148,  3579,  108.900,    7.128,   34.320,2,   34.319,2, -999.000,5, -999.000,3,    1.480,2,   15.060,2,    0.170,2,    1.200,2, -999.000,9, -999.000,9, -999.000,9, -999.000,9, -999.000,9
           NA,    P17E,    184,   1,-999.0,       5,  2,19930102,2056, -52.2022, -111.0148,  3579,  158.800,    6.852,   34.336,2,   34.335,2, -999.000,5, -999.000,3,    1.460,2,   16.860,2,    0.150,2,    1.310,2, -999.000,9, -999.000,9, -999.000,9, -999.000,9, -999.000,9
           NA,    P17E,    184,   1,-999.0,       6,  2,19930102,2056, -52.2022, -111.0148,  3579,  209.400,    6.689,   34.337,2,   34.338,2, -999.000,5, -999.000,3,    4.140,2,   18.460,2,    0.120,2,    1.350,2, -999.000,9, -999.000,9, -999.000,9, -999.000,9, -999.000,9
           NA,    P17E,    184,   1,-999.0,       7,  2,19930102,2056, -52.2022, -111.0148,  3579,  256.400,    6.697,   34.345,2,   34.345,2, -999.000,5, -999.000,3,    5.990,2,   18.200,2,    0.050,2,    1.330,2, -999.000,9, -999.000,9, -999.000,9, -999.000,9, -999.000,9
           NA,    P17E,    184,   1,-999.0,       8,  2,19930102,2056, -52.2022, -111.0148,  3579,  300.700,    6.646,   34.339,2,   34.339,2, -999.000,5, -999.000,3,    5.970,2,   18.660,2,    0.030,2,    1.350,2, -999.000,9, -999.000,9, -999.000,9, -999.000,9, -999.000,9
           NA,    P17E,    184,   1,-999.0,       9,  2,19930102,2056, -52.2022, -111.0148,  3579,  403.100,    6.444,   34.320,2,   34.321,2, -999.000,5, -999.000,3,    6.160,2,   19.010,2,    0.020,2,    1.380,2, -999.000,9, -999.000,9, -999.000,9, -999.000,9, -999.000,9
           NA,    P17E,    184,   1,-999.0,      10,  2,19930102,2056, -52.2022, -111.0148,  3579,  507.600,    6.018,   34.278,2,   34.279,2, -999.000,5, -999.000,3,    8.630,2,   21.700,2,    0.010,2,    1.550,2, -999.000,9, -999.000,9, -999.000,9, -999.000,9, -999.000,9
           NA,    P17E,    184,   1,-999.0,      11,  2,19930102,2056, -52.2022, -111.0148,  3579,  560.900,    5.791,   34.261,2,   34.260,2, -999.000,5, -999.000,3,   10.480,2,   22.820,2,    0.010,2,    1.630,2, -999.000,9, -999.000,9, -999.000,9, -999.000,9, -999.000,9
           NA,    P17E,    184,   1,-999.0,      12,  2,19930102,2056, -52.2022, -111.0148,  3579,  610.200,    5.595,   34.252,2,   34.252,2, -999.000,5, -999.000,3,   11.910,2,   23.840,2,    0.010,2,    1.670,2, -999.000,9, -999.000,9, -999.000,9, -999.000,9, -999.000,9
           NA,    P17E,    184,   1,-999.0,      13,  2,19930102,2056, -52.2022, -111.0148,  3579,  669.400,    5.452,   34.275,2,   34.273,2, -999.000,5, -999.000,3,   15.210,2,   25.530,2,    0.010,2,    1.780,2, -999.000,9, -999.000,9, -999.000,9, -999.000,9, -999.000,9
           NA,    P17E,    184,   1,-999.0,      14,  2,19930102,2056, -52.2022, -111.0148,  3579,  749.700,    5.070,   34.276,2,   34.275,2, -999.000,5, -999.000,3,   19.750,2,   26.990,2,    0.010,2,    1.880,2, -999.000,9, -999.000,9, -999.000,9, -999.000,9, -999.000,9
           NA,    P17E,    184,   1,-999.0,      15,  2,19930102,2056, -52.2022, -111.0148,  3579,  831.100,    4.656,   34.283,2,   34.282,2, -999.000,5, -999.000,3,   24.910,2,   28.640,2,    0.000,2,    1.980,2, -999.000,9, -999.000,9, -999.000,9, -999.000,9, -999.000,9
           NA,    P17E,    184,   1,-999.0,      16,  2,19930102,2056, -52.2022, -111.0148,  3579,  909.200,    4.219,   34.296,2,   34.295,2, -999.000,5, -999.000,3,   30.480,2,   30.050,2,    0.000,2,    2.080,2, -999.000,9, -999.000,9, -999.000,9, -999.000,9, -999.000,9
           NA,    P17E,    184,   1,-999.0,      17,  2,19930102,2056, -52.2022, -111.0148,  3579, 1010.400,    3.731,   34.306,2,   34.305,2, -999.000,5, -999.000,3,   36.890,2,   31.250,2,    0.000,2,    2.160,2, -999.000,9, -999.000,9, -999.000,9, -999.000,9, -999.000,9
           NA,    P17E,    184,   1,-999.0,      18,  2,19930102,2056, -52.2022, -111.0148,  3579, 1110.900,    3.310,   34.329,2,   34.328,2, -999.000,5, -999.000,3,   44.120,2,   32.270,2,    0.000,2,    2.240,2, -999.000,9, -999.000,9, -999.000,9, -999.000,9, -999.000,9
           NA,    P17E,    184,   1,-999.0,      19,  2,19930102,2056, -52.2022, -111.0148,  3579, 1209.400,    3.046,   34.375,2,   34.374,2, -999.000,5, -999.000,3,   52.170,2,   33.130,2,    0.000,2,    2.300,2, -999.000,9, -999.000,9, -999.000,9, -999.000,9, -999.000,9
           NA,    P17E,    184,   1,-999.0,      20,  2,19930102,2056, -52.2022, -111.0148,  3579, 1312.300,    2.854,   34.429,2,   34.427,2, -999.000,5, -999.000,3,   59.820,2,   33.810,2,    0.000,2,    2.350,2, -999.000,9, -999.000,9, -999.000,9, -999.000,9, -999.000,9
           NA,    P17E,    184,   1,-999.0,      21,  2,19930102,2056, -52.2022, -111.0148,  3579, 1416.800,    2.726,   34.473,2,   34.471,2, -999.000,5, -999.000,3,   65.810,2,   34.160,2,    0.000,2,    2.370,2, -999.000,9, -999.000,9, -999.000,9, -999.000,9, -999.000,9
           NA,    P17E,    184,   1,-999.0,      22,  2,19930102,2056, -52.2022, -111.0148,  3579, 1569.100,    2.546,   34.537,2,   34.533,2, -999.000,5, -999.000,3,   73.260,2,   34.160,2,    0.000,2,    2.370,2, -999.000,9, -999.000,9, -999.000,9, -999.000,9, -999.000,9
           NA,    P17E,    184,   1,-999.0,      23,  2,19930102,2056, -52.2022, -111.0148,  3579, 1721.800,    2.430,   34.591,2,   34.590,2, -999.000,5, -999.000,3,   79.470,2,   33.920,2,    0.000,2,    2.370,2, -999.000,9, -999.000,9, -999.000,9, -999.000,9, -999.000,9
           NA,    P17E,    184,   1,-999.0,      24,  2,19930102,2056, -52.2022, -111.0148,  3579, 1874.800,    2.325,   34.635,2,   34.635,2, -999.000,5, -999.000,3,   84.220,2,   33.530,2,    0.000,2,    2.330,2, -999.000,9, -999.000,9, -999.000,9, -999.000,9, -999.000,9
           NA,    P17E,    184,   1,-999.0,      25,  2,19930102,2056, -52.2022, -111.0148,  3579, 2025.400,    2.233,   34.667,2,   34.666,2, -999.000,5, -999.000,3,   88.360,2,   33.180,2,    0.000,2,    2.300,2, -999.000,9, -999.000,9, -999.000,9, -999.000,9, -999.000,9
           NA,    P17E,    184,   1,-999.0,      26,  2,19930102,2056, -52.2022, -111.0148,  3579, 2228.800,    2.105,   34.691,2,   34.690,2, -999.000,5, -999.000,3,   94.180,2,   32.900,2,    0.000,2,    2.290,2, -999.000,9, -999.000,9, -999.000,9, -999.000,9, -999.000,9
           NA,    P17E,    184,   1,-999.0,      27,  2,19930102,2056, -52.2022, -111.0148,  3579, 2228.800,    2.104,   34.691,2,   34.691,2, -999.000,5, -999.000,3,   94.360,2,   32.900,2,    0.000,2,    2.290,2, -999.000,9, -999.000,9, -999.000,9, -999.000,9, -999.000,9
           NA,    P17E,    184,   1,-999.0,      28,  2,19930102,2056, -52.2022, -111.0148,  3579, 2432.000,    1.937,   34.703,2,   34.703,2, -999.000,5, -999.000,3,  101.240,2,   32.840,2,    0.000,2,    2.280,2, -999.000,9, -999.000,9, -999.000,9, -999.000,9, -999.000,9
           NA,    P17E,    184,   1,-999.0,      29,  2,19930102,2056, -52.2022, -111.0148,  3579, 2635.400,    1.785,   34.709,2,   34.709,2, -999.000,5, -999.000,3,  105.620,2,   32.790,2,    0.000,2,    2.270,2, -999.000,9, -999.000,9, -999.000,9, -999.000,9, -999.000,9
           NA,    P17E,    184,   1,-999.0,      30,  2,19930102,2056, -52.2022, -111.0148,  3579, 2839.100,    1.656,   34.710,2,   34.710,2, -999.000,5, -999.000,3,  110.220,2,   32.840,2,    0.000,2,    2.270,2, -999.000,9, -999.000,9, -999.000,9, -999.000,9, -999.000,9
           NA,    P17E,    184,   1,-999.0,      31,  2,19930102,2056, -52.2022, -111.0148,  3579, 2993.500,    1.614,   34.712,2,   34.712,2, -999.000,5, -999.000,3,  111.040,2,   32.620,2,    0.000,2,    2.270,2, -999.000,9, -999.000,9, -999.000,9, -999.000,9, -999.000,9
           NA,    P17E,    184,   1,-999.0,      32,  2,19930102,2056, -52.2022, -111.0148,  3579, 3146.200,    1.578,   34.716,2,   34.716,2, -999.000,5, -999.000,3,  110.580,2,   32.390,2,    0.000,2,    2.240,2, -999.000,9, -999.000,9, -999.000,9, -999.000,9, -999.000,9
           NA,    P17E,    184,   1,-999.0,      33,  2,19930102,2056, -52.2022, -111.0148,  3579, 3296.300,    1.538,   34.717,2,   34.717,2, -999.000,5, -999.000,3,  111.820,2,   32.390,2,    0.000,2,    2.240,2, -999.000,9, -999.000,9, -999.000,9, -999.000,9, -999.000,9
           NA,    P17E,    184,   1,-999.0,      34,  2,19930102,2056, -52.2022, -111.0148,  3579, 3450.700,    1.441,   34.718,2,   34.718,2, -999.000,5, -999.000,3,  113.690,2,   32.330,2,    0.000,2,    2.240,2, -999.000,9, -999.000,9, -999.000,9, -999.000,9, -999.000,9
           NA,    P17E,    184,   1,-999.0,      35,  2,19930102,2056, -52.2022, -111.0148,  3579, 3552.000,    1.353,   34.717,2,   34.717,2, -999.000,5, -999.000,3,  116.200,2,   32.330,2,    0.000,2,    2.240,2, -999.000,9, -999.000,9, -999.000,9, -999.000,9, -999.000,9
           NA,    P17E,    184,   1,-999.0,      36,  2,19930102,2056, -52.2022, -111.0148,  3579, 3650.900,    1.247,   34.716,2,   34.716,2, -999.000,5, -999.000,3,  119.560,2,   32.390,2,    0.000,2,    2.240,2, -999.000,9, -999.000,9, -999.000,9, -999.000,9, -999.000,9