BOTTLE,20203103JOAExport
EXPOCODE,SECT_ID,STNNBR,CASTNO,SAMPNO,BTLNBR,BTLNBR_FLAG_W,DATE,TIME,LATITUDE,LONGITUDE,DEPTH,CTDPRS,CTDTMP,CTDSAL,CTDSAL_FLAG_W,SALNTY,SALNTY_FLAG_W,CTDOXY,CTDOXY_FLAG_W,OXYGEN,OXYGEN_FLAG_W,SILCAT,SILCAT_FLAG_W,NITRAT,NITRAT_FLAG_W,NITRIT,NITRIT_FLAG_W,PHSPHT,PHSPHT_FLAG_W,CFC-11,CFC-11_FLAG_W,CFC-12,CFC-12_FLAG_W,SF6,SF6_FLAG_W,TCARBN,TCARBN_FLAG_W,ALKALI,ALKALI_FLAG_W
,,,,,,,,,,,,,DB,ITS-90,PSS-78,,PSS-78,,UMOL/KG,,UMOL/KG,,UMOL/KG,,UMOL/KG,,UMOL/KG,,UMOL/KG,,PMOL/KG,,PMOL/KG,,FMOL/KG,,UMOL/KG,,UMOL/KG
           NA,    P03W,    235,   1,-999.0,       1,  2,19850510,1630,  24.2533,  164.8550,  6029,    0.000,   25.313,   35.108,2,   35.113,2, -999.000,9,  208.000,2,    1.030,2,    0.050,2,    0.000,2,    0.050,2,    1.468,2,    0.772,2, -999.000,9, -999.000,9, -999.000,9
           NA,    P03W,    235,   1,-999.0,       2,  2,19850510,1630,  24.2533,  164.8550,  6029,   24.700,   25.194,   35.118,2,   35.125,2, -999.000,9,  209.100,2,    0.920,2,    0.050,2,    0.000,2,    0.050,2, -999.000,9, -999.000,9, -999.000,9, -999.000,9, -999.000,9
           NA,    P03W,    235,   1,-999.0,       3,  2,19850510,1630,  24.2533,  164.8550,  6029,   44.900,   23.882,   35.151,2,   35.136,2, -999.000,9,  215.700,2,    0.800,2,    0.050,2,    0.000,2,    0.050,2,    1.581,2, -999.000,9, -999.000,9, -999.000,9, -999.000,9
           NA,    P03W,    235,   1,-999.0,       4,  2,19850510,1630,  24.2533,  164.8550,  6029,   75.100,   22.617,   35.111,2,   35.119,2, -999.000,9,  217.900,2,    0.900,2,    0.050,2,    0.000,2,    0.050,2, -999.000,9, -999.000,9, -999.000,9, -999.000,9, -999.000,9
           NA,    P03W,    235,   1,-999.0,       5,  2,19850510,1630,  24.2533,  164.8550,  6029,  105.500,   21.045,   35.004,2,   35.007,2, -999.000,9,  221.600,2,    1.220,2,    0.050,2,    0.000,2,    0.090,2,    1.763,2,    0.906,2, -999.000,9, -999.000,9, -999.000,9
           NA,    P03W,    235,   1,-999.0,       6,  2,19850510,1630,  24.2533,  164.8550,  6029,  145.800,   19.315,   34.891,2,   34.894,2, -999.000,9,  215.000,2,    1.760,2,    0.750,2,    0.110,2,    0.160,2, -999.000,9, -999.000,9, -999.000,9, -999.000,9, -999.000,9
           NA,    P03W,    235,   1,-999.0,       7,  2,19850510,1630,  24.2533,  164.8550,  6029,  185.700,   17.842,   34.823,2,   34.824,2, -999.000,9,  201.000,2,    2.720,2,    3.730,2,    0.010,2,    0.300,2,    1.762,2,    0.898,2, -999.000,9, -999.000,9, -999.000,9
           NA,    P03W,    235,   1,-999.0,       8,  2,19850510,1630,  24.2533,  164.8550,  6029,  235.000,   16.665,   34.760,2,   34.762,2, -999.000,9,  207.600,2,    3.910,2,    5.220,2,    0.000,2,    0.390,2,    1.821,6,    0.938,6, -999.000,9, -999.000,9, -999.000,9
           NA,    P03W,    235,   1,-999.0,       9,  2,19850510,1630,  24.2533,  164.8550,  6029,  284.300,   15.752,   34.709,2,   34.709,2, -999.000,9,  208.700,2,    5.300,2,    6.560,2,    0.000,2,    0.470,2,    1.799,2,    0.882,2, -999.000,9, -999.000,9, -999.000,9
           NA,    P03W,    235,   1,-999.0,      10,  2,19850510,1630,  24.2533,  164.8550,  6029,  336.000,   14.948,   34.637,2,   34.624,2, -999.000,9,  205.400,2,    7.570,2,    8.240,2,    0.000,2,    0.590,2,    1.728,2,    0.878,2, -999.000,9, -999.000,9, -999.000,9
           NA,    P03W,    235,   1,-999.0,      11,  2,19850510,1630,  24.2533,  164.8550,  6029,  387.300,   13.522,   34.509,2,   34.508,2, -999.000,9,  206.600,2,   10.690,2,   10.270,2,    0.000,2,    0.730,2,    1.692,2,    0.793,2, -999.000,9, -999.000,9, -999.000,9
           NA,    P03W,    235,   1,-999.0,      12,  2,19850510,1630,  24.2533,  164.8550,  6029,  447.500,   11.921,   34.367,2,   34.369,2, -999.000,9,  196.100,2,   15.760,2,   13.770,2,    0.000,2,    0.970,2, -999.000,9, -999.000,9, -999.000,9, -999.000,9, -999.000,9
           NA,    P03W,    235,   1,-999.0,      13,  2,19850510,1630,  24.2533,  164.8550,  6029,  508.400,   10.153,   34.236,2,   34.236,2, -999.000,9,  185.400,2,   24.920,2,   18.180,2,    0.000,2,    1.260,2,    1.180,2,    0.525,2, -999.000,9, -999.000,9, -999.000,9
           NA,    P03W,    235,   1,-999.0,      14,  2,19850510,1630,  24.2533,  164.8550,  6029,  569.300,    8.613,   34.140,2,   34.140,2, -999.000,9,  168.700,2,   35.150,2,   22.590,2,    0.000,2,    1.570,2, -999.000,9, -999.000,9, -999.000,9, -999.000,9, -999.000,9
           NA,    P03W,    235,   1,-999.0,      15,  2,19850510,1630,  24.2533,  164.8550,  6029,  649.500,    7.039,   34.084,2,   34.084,2, -999.000,9,  132.300,2,   51.850,2,   28.860,2,    0.000,2,    2.090,2, -999.000,9,    0.230,2, -999.000,9, -999.000,9, -999.000,9
           NA,    P03W,    235,   1,-999.0,      16,  2,19850510,1630,  24.2533,  164.8550,  6029,  730.200,    5.589,   34.100,2,   34.101,2, -999.000,9,   91.000,2,   74.340,2,   35.400,2,    0.000,2,    2.430,2,    0.260,2,    0.123,2, -999.000,9, -999.000,9, -999.000,9
           NA,    P03W,    235,   1,-999.0,      17,  2,19850510,1630,  24.2533,  164.8550,  6029,  810.800,    5.022,   34.176,2,   34.178,2, -999.000,9,   61.800,2,   87.750,2,   38.850,2,    0.000,2,    2.670,2,    0.075,2,    0.038,2, -999.000,9, -999.000,9, -999.000,9
           NA,    P03W,    235,   1,-999.0,      18,  2,19850510,1630,  24.2533,  164.8550,  6029,  911.200,    4.153,   34.259,2,   34.259,2, -999.000,9,   44.400,2,  108.690,2,   41.930,2,    0.000,2,    2.840,2,    0.051,2,    0.018,2, -999.000,9, -999.000,9, -999.000,9
           NA,    P03W,    235,   1,-999.0,      39,  2,19850510,1630,  24.2533,  164.8550,  6029, 1062.600,    3.531,   34.379,2,   34.379,2, -999.000,9,   36.600,2,  125.730,2,   43.470,2,    0.000,2,    2.930,2,    0.012,2,   -0.006,2, -999.000,9, -999.000,9, -999.000,9
           NA,    P03W,    235,   1,-999.0,      20,  2,19850510,1630,  24.2533,  164.8550,  6029, 1213.000,    3.140,   34.449,2,   34.450,2, -999.000,9,   43.200,2,  136.510,2,   43.190,2,    0.000,2,    2.910,2, -999.000,9, -999.000,9, -999.000,9, -999.000,9, -999.000,9
           NA,    P03W,    235,   1,-999.0,      21,  2,19850510,1630,  24.2533,  164.8550,  6029, 1414.700,    2.750,   34.521,2,   34.521,2, -999.000,9,   63.000,2,  142.550,2,   42.210,2,    0.000,2,    2.840,2,   -0.003,2,   -0.006,2, -999.000,9, -999.000,9, -999.000,9
           NA,    P03W,    235,   1,-999.0,      22,  2,19850510,1630,  24.2533,  164.8550,  6029, 1615.900,    2.430,   34.567,2,   34.567,2, -999.000,9,   84.000,2,  144.490,2,   41.020,2,    0.000,2,    2.740,2,   -0.003,2,   -0.008,2, -999.000,9, -999.000,9, -999.000,9
           NA,    P03W,    235,   1,-999.0,      23,  2,19850510,1630,  24.2533,  164.8550,  6029, 1818.300,    2.154,   34.593,2,   34.593,2, -999.000,9,   91.500,2,  149.870,2,   40.590,2,    0.000,2,    2.710,2, -999.000,9, -999.000,9, -999.000,9, -999.000,9, -999.000,9
           NA,    P03W,    235,   1,-999.0,      24,  2,19850510,1630,  24.2533,  164.8550,  6029, 2018.600,    1.980,   34.614,2,   34.614,2, -999.000,9,  101.100,2,  150.730,2,   40.000,2,    0.000,2,    2.670,2,    0.003,2,    0.008,2, -999.000,9, -999.000,9, -999.000,9
           NA,    P03W,    235,   1,-999.0,      25,  2,19850510,1630,  24.2533,  164.8550,  6029, 2221.100,    1.848,   34.630,2,   34.629,2, -999.000,9,  108.900,2,  151.800,2,   39.570,2,    0.000,2,    2.620,2, -999.000,9, -999.000,9, -999.000,9, -999.000,9, -999.000,9
           NA,    P03W,    235,   1,-999.0,      26,  2,19850510,1630,  24.2533,  164.8550,  6029, 2522.000,    1.720,   34.646,2,   34.645,2, -999.000,9,  119.100,2,  152.230,2,   38.770,2,    0.000,2,    2.580,2,   -0.002,2,    0.006,2, -999.000,9, -999.000,9, -999.000,9
           NA,    P03W,    235,   1,-999.0,      27,  2,19850510,1630,  24.2533,  164.8550,  6029, 2820.900,    1.639,   34.656,2,   34.656,2, -999.000,9,  126.900,2,  152.230,2,   38.290,2,    0.000,2,    2.540,2, -999.000,9, -999.000,9, -999.000,9, -999.000,9, -999.000,9
           NA,    P03W,    235,   1,-999.0,      28,  2,19850510,1630,  24.2533,  164.8550,  6029, 3114.900,    1.584,   34.663,2,   34.664,2, -999.000,9,  133.600,2,  151.590,2,   37.870,2,    0.000,2,    2.510,2, -999.000,9, -999.000,9, -999.000,9, -999.000,9, -999.000,9
           NA,    P03W,    235,   1,-999.0,      29,  2,19850510,1630,  24.2533,  164.8550,  6029, 3395.300,    1.534,   34.670,2,   34.670,2, -999.000,9,  140.900,2,  148.810,2,   37.450,2,    0.000,2,    2.480,2, -999.000,9, -999.000,9, -999.000,9, -999.000,9, -999.000,9
           NA,    P03W,    235,   1,-999.0,      30,  2,19850510,1630,  24.2533,  164.8550,  6029, 3692.100,    1.503,   34.674,2,   34.674,2, -999.000,9,  146.100,2,  147.100,2,   37.080,2,    0.000,2,    2.440,2,    0.002,2,   -0.003,2, -999.000,9, -999.000,9, -999.000,9
           NA,    P03W,    235,   1,-999.0,      31,  2,19850510,1630,  24.2533,  164.8550,  6029, 4070.200,    1.476,   34.680,2,   34.679,2, -999.000,9,  154.000,2,  143.470,2,   36.550,2,    0.000,2,    2.400,2, -999.000,9, -999.000,9, -999.000,9, -999.000,9, -999.000,9
           NA,    P03W,    235,   1,-999.0,      32,  2,19850510,1630,  24.2533,  164.8550,  6029, 4443.100,    1.462,   34.684,2,   34.683,2, -999.000,9,  161.100,2,  140.270,2,   36.080,2,    0.000,2,    2.370,2, -999.000,9, -999.000,9, -999.000,9, -999.000,9, -999.000,9
           NA,    P03W,    235,   1,-999.0,      33,  2,19850510,1630,  24.2533,  164.8550,  6029, 4845.100,    1.457,   34.688,2,   34.688,2, -999.000,9,  167.900,2,  136.440,2,   35.550,2,    0.000,2,    2.340,2,   -0.003,2,    0.009,2, -999.000,9, -999.000,9, -999.000,9
           NA,    P03W,    235,   1,-999.0,      34,  2,19850510,1630,  24.2533,  164.8550,  6029, 5255.500,    1.455,   34.692,2,   34.693,2, -999.000,9,  175.500,2,  132.610,2,   34.920,2,    0.000,2,    2.300,2, -999.000,9, -999.000,9, -999.000,9, -999.000,9, -999.000,9
           NA,    P03W,    235,   1,-999.0,      35,  2,19850510,1630,  24.2533,  164.8550,  6029, 5666.700,    1.484,   34.694,2,   34.694,2, -999.000,9,  179.500,2,  130.280,2,   34.660,2,    0.000,2,    2.270,2, -999.000,9, -999.000,9, -999.000,9, -999.000,9, -999.000,9
           NA,    P03W,    235,   1,-999.0,      36,  2,19850510,1630,  24.2533,  164.8550,  6029, 6118.400,    1.538,   34.694,2,   34.694,2, -999.000,9,  179.100,2,  129.440,2,   34.510,2,    0.000,2,    2.270,2,    0.002,6, -999.000,9, -999.000,9, -999.000,9, -999.000,9