BOTTLE,20203103JOAExport
EXPOCODE,SECT_ID,STNNBR,CASTNO,SAMPNO,BTLNBR,BTLNBR_FLAG_W,DATE,TIME,LATITUDE,LONGITUDE,DEPTH,CTDPRS,CTDTMP,CTDSAL,CTDSAL_FLAG_W,SALNTY,SALNTY_FLAG_W,CTDOXY,CTDOXY_FLAG_W,OXYGEN,OXYGEN_FLAG_W,SILCAT,SILCAT_FLAG_W,NITRAT,NITRAT_FLAG_W,NITRIT,NITRIT_FLAG_W,PHSPHT,PHSPHT_FLAG_W,CFC-11,CFC-11_FLAG_W,CFC-12,CFC-12_FLAG_W,SF6,SF6_FLAG_W,TCARBN,TCARBN_FLAG_W,ALKALI,ALKALI_FLAG_W
,,,,,,,,,,,,,DB,ITS-90,PSS-78,,PSS-78,,UMOL/KG,,UMOL/KG,,UMOL/KG,,UMOL/KG,,UMOL/KG,,UMOL/KG,,PMOL/KG,,PMOL/KG,,FMOL/KG,,UMOL/KG,,UMOL/KG
           NA,    P03W,    237,   2,-999.0,       1,  2,19850510,2300,  24.2383,  164.0467,  5771,    0.600,   25.574,   35.112,2,   35.117,2, -999.000,9,  209.500,2,    0.000,2,    0.090,2,    0.000,2,    0.020,2, -999.000,9, -999.000,9, -999.000,9, -999.000,9, -999.000,9
           NA,    P03W,    237,   2,-999.0,       2,  2,19850510,2300,  24.2383,  164.0467,  5771,   23.400,   25.370,   35.103,2,   35.106,2, -999.000,9,  209.500,2,    0.000,2,    0.090,2,    0.000,2,    0.020,2, -999.000,9, -999.000,9, -999.000,9, -999.000,9, -999.000,9
           NA,    P03W,    237,   2,-999.0,       3,  2,19850510,2300,  24.2383,  164.0467,  5771,   43.400,   24.787,   35.132,2,   35.131,2, -999.000,9,  212.500,2,    0.000,2,    0.090,2,    0.000,2,    0.020,2, -999.000,9, -999.000,9, -999.000,9, -999.000,9, -999.000,9
           NA,    P03W,    237,   2,-999.0,       4,  2,19850510,2300,  24.2383,  164.0467,  5771,   73.400,   23.815,   35.144,2,   35.146,2, -999.000,9,  215.000,2,    0.000,2,    0.090,2,    0.000,2,    0.020,2, -999.000,9, -999.000,9, -999.000,9, -999.000,9, -999.000,9
           NA,    P03W,    237,   2,-999.0,       5,  2,19850510,2300,  24.2383,  164.0467,  5771,  104.000,   23.074,   35.158,2,   35.158,2, -999.000,9,  218.500,2,    0.000,2,    0.140,2,    0.000,2,    0.010,2, -999.000,9, -999.000,9, -999.000,9, -999.000,9, -999.000,9
           NA,    P03W,    237,   2,-999.0,       6,  2,19850510,2300,  24.2383,  164.0467,  5771,  144.800,   20.350,   34.975,2,   34.977,2, -999.000,9,  210.900,2,    0.310,2,    0.700,2,    0.060,2,    0.080,2, -999.000,9, -999.000,9, -999.000,9, -999.000,9, -999.000,9
           NA,    P03W,    237,   2,-999.0,       7,  2,19850510,2300,  24.2383,  164.0467,  5771,  184.300,   18.919,   34.899,2,   34.899,2, -999.000,9,  203.000,2,    1.280,2,    2.330,2,    0.010,2,    0.190,2, -999.000,9, -999.000,9, -999.000,9, -999.000,9, -999.000,9
           NA,    P03W,    237,   2,-999.0,       8,  2,19850510,2300,  24.2383,  164.0467,  5771,  234.100,   16.840,   34.768,2,   34.770,2, -999.000,9,  206.400,2,    2.250,2,    4.870,2,    0.010,2,    0.340,2, -999.000,9, -999.000,9, -999.000,9, -999.000,9, -999.000,9
           NA,    P03W,    237,   2,-999.0,       9,  2,19850510,2300,  24.2383,  164.0467,  5771,  284.600,   15.963,   34.710,2,   34.710,2, -999.000,9,  207.700,2,    3.840,2,    6.310,2,    0.000,2,    0.440,2, -999.000,9, -999.000,9, -999.000,9, -999.000,9, -999.000,9
           NA,    P03W,    237,   2,-999.0,      10,  2,19850510,2300,  24.2383,  164.0467,  5771,  334.600,   14.825,   34.622,2,   34.621,2, -999.000,9,  203.800,2,    7.100,2,    8.530,2,    0.000,2,    0.590,2, -999.000,9, -999.000,9, -999.000,9, -999.000,9, -999.000,9
           NA,    P03W,    237,   2,-999.0,      11,  2,19850510,2300,  24.2383,  164.0467,  5771,  385.200,   13.535,   34.499,2,   34.495,2, -999.000,9,  201.500,2,    9.940,2,   10.740,2,    0.000,2,    0.750,2, -999.000,9, -999.000,9, -999.000,9, -999.000,9, -999.000,9
           NA,    P03W,    237,   2,-999.0,      12,  2,19850510,2300,  24.2383,  164.0467,  5771,  446.000,   11.847,   34.364,2,   34.361,2, -999.000,9,  197.200,2,   15.490,2,   13.990,2,    0.000,2,    0.980,2, -999.000,9, -999.000,9, -999.000,9, -999.000,9, -999.000,9
           NA,    P03W,    237,   2,-999.0,      13,  2,19850510,2300,  24.2383,  164.0467,  5771,  506.300,   10.354,   34.248,2,   34.247,2, -999.000,9,  185.800,2,   21.870,2,   17.700,2,    0.000,2,    1.220,2, -999.000,9, -999.000,9, -999.000,9, -999.000,9, -999.000,9
           NA,    P03W,    237,   2,-999.0,      14,  2,19850510,2300,  24.2383,  164.0467,  5771,  565.100,    8.911,   34.160,2,   34.160,2, -999.000,9, -999.000,5,   31.580,2,   22.350,2,    0.000,2,    1.560,2, -999.000,9, -999.000,9, -999.000,9, -999.000,9, -999.000,9
           NA,    P03W,    237,   2,-999.0,      15,  2,19850510,2300,  24.2383,  164.0467,  5771,  645.500,    7.476,   34.109,2,   34.109,2, -999.000,9,  130.900,2,   46.070,2,   28.240,2,    0.000,2,    1.960,2, -999.000,9, -999.000,9, -999.000,9, -999.000,9, -999.000,9
           NA,    P03W,    237,   2,-999.0,      16,  2,19850510,2300,  24.2383,  164.0467,  5771,  727.500,    5.931,   34.093,2,   34.093,2, -999.000,9,  101.300,2,   65.550,2,   33.600,2,    0.000,2,    2.320,2, -999.000,9, -999.000,9, -999.000,9, -999.000,9, -999.000,9
           NA,    P03W,    237,   2,-999.0,      17,  2,19850510,2300,  24.2383,  164.0467,  5771,  808.200,    4.978,   34.141,2,   34.139,2, -999.000,9,   72.200,2,   84.190,2,   38.140,2,    0.000,2,    2.610,2, -999.000,9, -999.000,9, -999.000,9, -999.000,9, -999.000,9
           NA,    P03W,    237,   2,-999.0,      18,  2,19850510,2300,  24.2383,  164.0467,  5771,  908.800,    4.292,   34.258,2,   34.256,2, -999.000,9,   46.500,2,  102.200,2,   41.520,2,    0.000,2,    2.820,2, -999.000,9, -999.000,9, -999.000,9, -999.000,9, -999.000,9
           NA,    P03W,    237,   2,-999.0,      39,  2,19850510,2300,  24.2383,  164.0467,  5771, 1060.600,    3.643,   34.362,2,   34.362,2, -999.000,9,   38.300,2,  119.380,2,   43.040,2,    0.000,2,    2.920,2, -999.000,9, -999.000,9, -999.000,9, -999.000,9, -999.000,9
           NA,    P03W,    237,   2,-999.0,      20,  2,19850510,2300,  24.2383,  164.0467,  5771, 1211.300,    3.259,   34.452,2,   34.452,2, -999.000,9,   49.600,2,  128.220,2,   42.710,2,    0.000,2,    2.890,2, -999.000,9, -999.000,9, -999.000,9, -999.000,9, -999.000,9
           NA,    P03W,    237,   2,-999.0,      21,  2,19850510,2300,  24.2383,  164.0467,  5771, 1410.700,    2.778,   34.517,2,   34.515,2, -999.000,9,   62.600,2,  138.110,2,   42.220,2,    0.000,2,    2.840,2, -999.000,9, -999.000,9, -999.000,9, -999.000,9, -999.000,9
           NA,    P03W,    237,   2,-999.0,      22,  2,19850510,2300,  24.2383,  164.0467,  5771, 1604.700,    2.413,   34.562,2,   34.561,2, -999.000,9,   78.700,2,  144.040,2,   41.190,2,    0.000,2,    2.790,2, -999.000,9, -999.000,9, -999.000,9, -999.000,9, -999.000,9
           NA,    P03W,    237,   2,-999.0,      23,  2,19850510,2300,  24.2383,  164.0467,  5771, 1807.300,    2.145,   34.594,2,   34.595,2, -999.000,9,   93.400,2,  146.850,2,   40.370,2,    0.000,2,    2.720,2, -999.000,9, -999.000,9, -999.000,9, -999.000,9, -999.000,9
           NA,    P03W,    237,   2,-999.0,      24,  2,19850510,2300,  24.2383,  164.0467,  5771, 2011.000,    1.970,   34.614,2,   34.615,2, -999.000,9,  103.000,2,  148.400,2,   39.890,2,    0.000,2,    2.670,2, -999.000,9, -999.000,9, -999.000,9, -999.000,9, -999.000,9
           NA,    P03W,    237,   2,-999.0,      25,  2,19850510,2300,  24.2383,  164.0467,  5771, 2212.600,    1.820,   34.630,2,   34.630,2, -999.000,9,  108.600,2,  151.210,2,   39.620,2,    0.000,2,    2.630,2, -999.000,9, -999.000,9, -999.000,9, -999.000,9, -999.000,9
           NA,    P03W,    237,   2,-999.0,      26,  2,19850510,2300,  24.2383,  164.0467,  5771, 2509.500,    1.696,   34.646,2,   34.647,2, -999.000,9,  119.900,2,  150.060,2,   38.710,2,    0.000,2,    2.590,2, -999.000,9, -999.000,9, -999.000,9, -999.000,9, -999.000,9
           NA,    P03W,    237,   2,-999.0,      27,  2,19850510,2300,  24.2383,  164.0467,  5771, 2811.900,    1.623,   34.656,2,   34.657,2, -999.000,9,  127.800,2,  149.960,2,   38.170,2,    0.000,2,    2.570,2, -999.000,9, -999.000,9, -999.000,9, -999.000,9, -999.000,9
           NA,    P03W,    237,   2,-999.0,      28,  2,19850510,2300,  24.2383,  164.0467,  5771, 3115.700,    1.560,   34.665,2,   34.664,2, -999.000,9,  134.700,2,  149.850,2,   37.590,2,    0.000,2,    2.520,2, -999.000,9, -999.000,9, -999.000,9, -999.000,9, -999.000,9
           NA,    P03W,    237,   2,-999.0,      29,  2,19850510,2300,  24.2383,  164.0467,  5771, 3422.400,    1.515,   34.672,2,   34.670,2, -999.000,9,  141.700,2,  148.500,2,   37.270,2,    0.000,2,    2.480,2, -999.000,9, -999.000,9, -999.000,9, -999.000,9, -999.000,9
           NA,    P03W,    237,   2,-999.0,      30,  2,19850510,2300,  24.2383,  164.0467,  5771, 3722.800,    1.490,   34.675,2,   34.676,2, -999.000,9,  147.700,2,  146.320,2,   36.950,2,    0.000,2,    2.460,2, -999.000,9, -999.000,9, -999.000,9, -999.000,9, -999.000,9
           NA,    P03W,    237,   2,-999.0,      31,  2,19850510,2300,  24.2383,  164.0467,  5771, 4023.400,    1.471,   34.681,2,   34.680,2, -999.000,9,  153.400,2,  144.340,2,   36.210,2,    0.000,2,    2.420,2, -999.000,9, -999.000,9, -999.000,9, -999.000,9, -999.000,9
           NA,    P03W,    237,   2,-999.0,      32,  2,19850510,2300,  24.2383,  164.0467,  5771, 4332.400,    1.453,   34.683,2,   34.684,2, -999.000,9,  159.900,2,  140.910,2,   35.940,2,    0.000,2,    2.380,2, -999.000,9, -999.000,9, -999.000,9, -999.000,9, -999.000,9
           NA,    P03W,    237,   2,-999.0,      33,  2,19850510,2300,  24.2383,  164.0467,  5771, 4695.900,    1.441,   34.689,2,   34.688,2, -999.000,9,  167.700,2,  136.450,2,   35.420,2,    0.000,2,    2.340,2, -999.000,9, -999.000,9, -999.000,9, -999.000,9, -999.000,9
           NA,    P03W,    237,   2,-999.0,      34,  2,19850510,2300,  24.2383,  164.0467,  5771, 5059.900,    1.432,   34.691,2, -999.000,5, -999.000,9,  174.700,2,  132.410,2,   34.630,2,    0.000,2,    2.300,2, -999.000,9, -999.000,9, -999.000,9, -999.000,9, -999.000,9
           NA,    P03W,    237,   2,-999.0,      35,  2,19850510,2300,  24.2383,  164.0467,  5771, 5476.400,    1.457,   34.694,2,   34.694,2, -999.000,9,  178.600,2,  129.400,2,   34.530,2,    0.000,2,    2.290,2, -999.000,9, -999.000,9, -999.000,9, -999.000,9, -999.000,9
           NA,    P03W,    237,   2,-999.0,      36,  2,19850510,2300,  24.2383,  164.0467,  5771, 5871.700,    1.504,   34.694,2,   34.695,2, -999.000,9,  179.500,2,  129.300,2,   34.470,2,    0.000,2,    2.280,2, -999.000,9, -999.000,9, -999.000,9, -999.000,9, -999.000,9