BOTTLE,20203103JOAExport
EXPOCODE,SECT_ID,STNNBR,CASTNO,SAMPNO,BTLNBR,BTLNBR_FLAG_W,DATE,TIME,LATITUDE,LONGITUDE,DEPTH,CTDPRS,CTDTMP,CTDSAL,CTDSAL_FLAG_W,SALNTY,SALNTY_FLAG_W,CTDOXY,CTDOXY_FLAG_W,OXYGEN,OXYGEN_FLAG_W,SILCAT,SILCAT_FLAG_W,NITRAT,NITRAT_FLAG_W,NITRIT,NITRIT_FLAG_W,PHSPHT,PHSPHT_FLAG_W,CFC-11,CFC-11_FLAG_W,CFC-12,CFC-12_FLAG_W,SF6,SF6_FLAG_W,TCARBN,TCARBN_FLAG_W,ALKALI,ALKALI_FLAG_W
,,,,,,,,,,,,,DB,ITS-90,PSS-78,,PSS-78,,UMOL/KG,,UMOL/KG,,UMOL/KG,,UMOL/KG,,UMOL/KG,,UMOL/KG,,PMOL/KG,,PMOL/KG,,FMOL/KG,,UMOL/KG,,UMOL/KG
           NA,    P03W,    324,   1,-999.0,       4,  2,19850523,2305,  24.2617,  135.6133,  5312,    0.100,   25.816,   34.866,2,   34.871,2, -999.000,9,  210.400,2,    2.250,2,    0.140,2,    0.000,2,    0.060,2,    1.489,2,    0.783,2, -999.000,9, -999.000,9, -999.000,9
           NA,    P03W,    324,   1,-999.0,      38,  2,19850523,2305,  24.2617,  135.6133,  5312,   24.300,   21.582,   34.753,2,   34.766,2, -999.000,9,  232.400,2,    2.440,2,    0.140,2,    0.000,2,    0.050,2, -999.000,9, -999.000,9, -999.000,9, -999.000,9, -999.000,9
           NA,    P03W,    324,   1,-999.0,       3,  2,19850523,2305,  24.2617,  135.6133,  5312,   44.700,   20.569,   34.784,2,   34.780,2, -999.000,9,  233.200,2,    2.440,2,    0.130,2,    0.000,2,    0.060,2,    1.844,2,    0.952,2, -999.000,9, -999.000,9, -999.000,9
           NA,    P03W,    324,   1,-999.0,       1,  2,19850523,2305,  24.2617,  135.6133,  5312,   74.500,   19.368,   34.847,2,   34.852,2, -999.000,9,  224.900,2,    2.640,2,    0.290,2,    0.020,2,    0.100,2, -999.000,9, -999.000,9, -999.000,9, -999.000,9, -999.000,9
           NA,    P03W,    324,   1,-999.0,       5,  2,19850523,2305,  24.2617,  135.6133,  5312,  104.600,   18.674,   34.838,2,   34.839,2, -999.000,9,  219.200,2,    2.830,2,    1.630,2,    0.140,2,    0.180,2,    1.834,2,    0.938,2, -999.000,9, -999.000,9, -999.000,9
           NA,    P03W,    324,   1,-999.0,       6,  2,19850523,2305,  24.2617,  135.6133,  5312,  144.600,   18.274,   34.842,2,   34.843,2, -999.000,9,  208.700,2,    3.910,2,    3.200,2,    0.030,2,    0.250,2,    1.769,2,    0.908,2, -999.000,9, -999.000,9, -999.000,9
           NA,    P03W,    324,   1,-999.0,       7,  2,19850523,2305,  24.2617,  135.6133,  5312,  184.800,   17.742,   34.822,2,   34.823,2, -999.000,9,  210.000,2,    4.400,2,    3.760,2,    0.020,2,    0.300,2,    1.780,6,    0.907,6, -999.000,9, -999.000,9, -999.000,9
           NA,    P03W,    324,   1,-999.0,       8,  2,19850523,2305,  24.2617,  135.6133,  5312,  234.500,   16.838,   34.776,2,   34.776,2, -999.000,9,  201.200,2,    6.260,2,    5.830,2,    0.010,2,    0.420,2,    1.672,2,    0.856,2, -999.000,9, -999.000,9, -999.000,9
           NA,    P03W,    324,   1,-999.0,       9,  2,19850523,2305,  24.2617,  135.6133,  5312,  284.900,   16.189,   34.740,2,   34.738,2, -999.000,9,  199.900,2,    6.940,2,    7.010,2,    0.000,2,    0.500,2,    1.598,2,    0.818,2, -999.000,9, -999.000,9, -999.000,9
           NA,    P03W,    324,   1,-999.0,      10,  2,19850523,2305,  24.2617,  135.6133,  5312,  334.600,   15.281,   34.668,2,   34.670,2, -999.000,9,  196.800,2,    9.090,2,    8.790,2,    0.000,2,    0.630,2,    1.478,2,    0.744,2, -999.000,9, -999.000,9, -999.000,9
           NA,    P03W,    324,   1,-999.0,      11,  2,19850523,2305,  24.2617,  135.6133,  5312,  385.200,   13.526,   34.523,2,   34.521,2, -999.000,9,  187.200,2,   15.350,2,   12.410,2,    0.000,2,    0.870,2,    1.285,2,    0.658,2, -999.000,9, -999.000,9, -999.000,9
           NA,    P03W,    324,   1,-999.0,      12,  2,19850523,2305,  24.2617,  135.6133,  5312,  445.700,   12.297,   34.431,2,   34.427,2, -999.000,9,  185.000,2,   19.850,2,   14.660,2,    0.000,2,    1.050,2, -999.000,9, -999.000,9, -999.000,9, -999.000,9, -999.000,9
           NA,    P03W,    324,   1,-999.0,      13,  2,19850523,2305,  24.2617,  135.6133,  5312,  505.800,   10.650,   34.307,2,   34.306,2, -999.000,9,  172.800,2,   28.450,2,   18.380,2,    0.000,2,    1.300,2,    1.038,2,    0.518,2, -999.000,9, -999.000,9, -999.000,9
           NA,    P03W,    324,   1,-999.0,      14,  2,19850523,2305,  24.2617,  135.6133,  5312,  566.500,    8.833,   34.194,2,   34.194,2, -999.000,9,  157.100,2,   40.770,2,   23.080,2,    0.000,2,    1.650,2,    0.834,2,    0.419,2, -999.000,9, -999.000,9, -999.000,9
           NA,    P03W,    324,   1,-999.0,      15,  2,19850523,2305,  24.2617,  135.6133,  5312,  646.500,    7.297,   34.152,2,   34.151,2, -999.000,9,  127.400,2,   55.930,2,   28.650,2,    0.000,2,    2.020,2,    0.509,2,    0.257,2, -999.000,9, -999.000,9, -999.000,9
           NA,    P03W,    324,   1,-999.0,      16,  2,19850523,2305,  24.2617,  135.6133,  5312,  726.300,    5.837,   34.146,2,   34.149,2, -999.000,9,   95.200,2,   75.780,2,   34.030,2,    0.000,2,    2.400,2, -999.000,9, -999.000,9, -999.000,9, -999.000,9, -999.000,9
           NA,    P03W,    324,   1,-999.0,      17,  2,19850523,2305,  24.2617,  135.6133,  5312,  806.400,    5.030,   34.221,2,   34.220,2, -999.000,9,   71.300,2,   92.690,2,   37.640,2,    0.000,2,    2.650,2,    0.118,2,    0.064,2, -999.000,9, -999.000,9, -999.000,9
           NA,    P03W,    324,   1,-999.0,      18,  2,19850523,2305,  24.2617,  135.6133,  5312,  908.100,    4.368,   34.299,2,   34.298,2, -999.000,9,   60.400,2,  107.060,2,   39.690,2,    0.000,2,    2.760,2,    0.035,2,    0.023,2, -999.000,9, -999.000,9, -999.000,9
           NA,    P03W,    324,   1,-999.0,      23,  2,19850523,2305,  24.2617,  135.6133,  5312, 1059.500,    3.642,   34.374,2,   34.374,2, -999.000,9,   55.200,2,  123.770,2,   40.960,2,    0.000,2,    2.860,2,    0.015,2,    0.014,2, -999.000,9, -999.000,9, -999.000,9
           NA,    P03W,    324,   1,-999.0,      20,  2,19850523,2305,  24.2617,  135.6133,  5312, 1210.500,    3.089,   34.437,2,   34.437,2, -999.000,9,   58.700,2,  138.430,2,   41.350,2,    0.000,2,    2.890,2,    0.008,2,    0.007,2, -999.000,9, -999.000,9, -999.000,9
           NA,    P03W,    324,   1,-999.0,      21,  2,19850523,2305,  24.2617,  135.6133,  5312, 1408.900,    2.677,   34.521,2,   34.522,2, -999.000,9,   80.000,2,  143.110,2,   40.270,2,    0.000,2,    2.820,2, -999.000,9, -999.000,9, -999.000,9, -999.000,9, -999.000,9
           NA,    P03W,    324,   1,-999.0,      22,  2,19850523,2305,  24.2617,  135.6133,  5312, 1612.200,    2.335,   34.568,2,   34.567,2, -999.000,9,   95.200,2,  144.180,2,   39.590,2,    0.000,2,    2.750,2,   -0.005,2, -999.000,9, -999.000,9, -999.000,9, -999.000,9
           NA,    P03W,    324,   1,-999.0,      39,  2,19850523,2305,  24.2617,  135.6133,  5312, 1813.900,    2.124,   34.592,2,   34.591,2, -999.000,9,  104.700,2,  146.520,2,   38.900,2,    0.000,2,    2.720,2, -999.000,9, -999.000,9, -999.000,9, -999.000,9, -999.000,9
           NA,    P03W,    324,   1,-999.0,      24,  2,19850523,2305,  24.2617,  135.6133,  5312, 2017.800,    1.969,   34.614,2,   34.614,2, -999.000,9,  116.000,2,  145.450,2,   38.320,2,    0.000,2,    2.650,2, -999.000,9, -999.000,9, -999.000,9, -999.000,9, -999.000,9
           NA,    P03W,    324,   1,-999.0,      40,  2,19850523,2305,  24.2617,  135.6133,  5312, 2221.900,    1.830,   34.632,2,   34.634,2, -999.000,9,  125.200,2,  145.350,2,   37.730,2,    0.000,2,    2.620,2,   -0.005,2,    0.007,2, -999.000,9, -999.000,9, -999.000,9
           NA,    P03W,    324,   1,-999.0,      26,  2,19850523,2305,  24.2617,  135.6133,  5312, 2526.000,    1.717,   34.646,2,   34.648,2, -999.000,9,  133.800,2,  146.420,2,   37.340,2,    0.000,2,    2.590,2, -999.000,9, -999.000,9, -999.000,9, -999.000,9, -999.000,9
           NA,    P03W,    324,   1,-999.0,      27,  2,19850523,2305,  24.2617,  135.6133,  5312, 2831.500,    1.638,   34.658,2,   34.657,2, -999.000,9,  139.500,2,  146.620,2,   36.950,2,    0.000,2,    2.560,2, -999.000,9, -999.000,9, -999.000,9, -999.000,9, -999.000,9
           NA,    P03W,    324,   1,-999.0,      28,  2,19850523,2305,  24.2617,  135.6133,  5312, 3137.400,    1.578,   34.666,2,   34.665,2, -999.000,9,  145.600,2,  146.520,2,   36.560,2,    0.000,2,    2.540,2,   -0.003,2,    0.001,2, -999.000,9, -999.000,9, -999.000,9
           NA,    P03W,    324,   1,-999.0,      29,  2,19850523,2305,  24.2617,  135.6133,  5312, 3440.600,    1.548,   34.672,2,   34.672,2, -999.000,9,  149.500,2,  145.440,2,   36.070,2,    0.000,2,    2.500,2, -999.000,9, -999.000,9, -999.000,9, -999.000,9, -999.000,9
           NA,    P03W,    324,   1,-999.0,      30,  2,19850523,2305,  24.2617,  135.6133,  5312, 3745.500,    1.540,   34.675,2, -999.000,5, -999.000,9,  153.000,2,  144.660,2,   36.070,2,    0.000,2,    2.490,2, -999.000,9, -999.000,9, -999.000,9, -999.000,9, -999.000,9
           NA,    P03W,    324,   1,-999.0,      31,  2,19850523,2305,  24.2617,  135.6133,  5312, 4049.000,    1.549,   34.678,2,   34.678,2, -999.000,9,  155.100,2,  144.170,2,   35.970,2,    0.000,2,    2.490,2, -999.000,9, -999.000,9, -999.000,9, -999.000,9, -999.000,9
           NA,    P03W,    324,   1,-999.0,      32,  2,19850523,2305,  24.2617,  135.6133,  5312, 4251.400,    1.561,   34.680,2,   34.678,2, -999.000,9,  155.100,2,  143.090,2,   35.870,2,    0.000,2,    2.470,2, -999.000,9, -999.000,9, -999.000,9, -999.000,9, -999.000,9
           NA,    P03W,    324,   1,-999.0,      33,  2,19850523,2305,  24.2617,  135.6133,  5312, 4555.600,    1.587,   34.680,2,   34.678,2, -999.000,9,  158.600,2,  142.610,2,   35.970,2,    0.000,2,    2.470,2,    0.010,2, -999.000,9, -999.000,9, -999.000,9, -999.000,9
           NA,    P03W,    324,   1,-999.0,      34,  2,19850523,2305,  24.2617,  135.6133,  5312, 4856.500,    1.619,   34.680,2,   34.680,2, -999.000,9,  156.000,2,  142.700,2,   36.070,2,    0.000,2,    2.470,2, -999.000,9, -999.000,9, -999.000,9, -999.000,9, -999.000,9
           NA,    P03W,    324,   1,-999.0,      35,  2,19850523,2305,  24.2617,  135.6133,  5312, 5159.500,    1.654,   34.681,2,   34.680,2, -999.000,9,  157.300,2,  145.540,2,   35.770,2,    0.000,2,    2.450,2, -999.000,9, -999.000,9, -999.000,9, -999.000,9, -999.000,9
           NA,    P03W,    324,   1,-999.0,      37,  2,19850523,2305,  24.2617,  135.6133,  5312, 5384.300,    1.684,   34.680,2,   34.682,2, -999.000,9,  156.900,2,  144.360,2,   36.070,2,    0.000,2,    2.460,2,    0.001,2, -999.000,9, -999.000,9, -999.000,9, -999.000,9