BOTTLE,20203103JOAExport
EXPOCODE,SECT_ID,STNNBR,CASTNO,SAMPNO,BTLNBR,BTLNBR_FLAG_W,DATE,TIME,LATITUDE,LONGITUDE,DEPTH,CTDPRS,CTDTMP,CTDSAL,CTDSAL_FLAG_W,SALNTY,SALNTY_FLAG_W,CTDOXY,CTDOXY_FLAG_W,OXYGEN,OXYGEN_FLAG_W,SILCAT,SILCAT_FLAG_W,NITRAT,NITRAT_FLAG_W,NITRIT,NITRIT_FLAG_W,PHSPHT,PHSPHT_FLAG_W,CFC-11,CFC-11_FLAG_W,CFC-12,CFC-12_FLAG_W,SF6,SF6_FLAG_W,TCARBN,TCARBN_FLAG_W,ALKALI,ALKALI_FLAG_W
,,,,,,,,,,,,,DB,ITS-90,PSS-78,,PSS-78,,UMOL/KG,,UMOL/KG,,UMOL/KG,,UMOL/KG,,UMOL/KG,,UMOL/KG,,PMOL/KG,,PMOL/KG,,FMOL/KG,,UMOL/KG,,UMOL/KG
           NA,    P03E,      3,   1,-999.0,       5,  2,19850330,1424,  32.6467, -117.4983,  1126,    7.300,   13.879,   33.553,2,   33.551,2, -999.000,9,  277.500,2,    1.440,2,    0.130,2,    0.010,2,    0.420,2, -999.000,9, -999.000,9, -999.000,9, -999.000,9, -999.000,9
           NA,    P03E,      3,   1,-999.0,       6,  2,19850330,1424,  32.6467, -117.4983,  1126,   17.800,   13.752,   33.545,2,   33.550,2, -999.000,9,  268.400,2,    1.620,2,    0.900,2,    0.050,2,    0.460,2, -999.000,9, -999.000,9, -999.000,9, -999.000,9, -999.000,9
           NA,    P03E,      3,   1,-999.0,       7,  2,19850330,1424,  32.6467, -117.4983,  1126,   32.800,   11.792,   33.579,2,   33.590,2, -999.000,9,  175.100,2,   13.160,2,   13.710,2,    0.190,2,    1.320,2, -999.000,9, -999.000,9, -999.000,9, -999.000,9, -999.000,9
           NA,    P03E,      3,   1,-999.0,       8,  2,19850330,1424,  32.6467, -117.4983,  1126,   53.200,   10.880,   33.749,2,   33.738,2, -999.000,9,  149.800,2,   18.770,2,   18.060,2,    0.010,2,    1.610,2, -999.000,9, -999.000,9, -999.000,9, -999.000,9, -999.000,9
           NA,    P03E,      3,   1,-999.0,       9,  2,19850330,1424,  32.6467, -117.4983,  1126,   73.400,    9.906,   33.776,2,   33.776,2, -999.000,9,  149.300,2,   23.650,2,   20.700,2,    0.010,2,    1.760,2, -999.000,9, -999.000,9, -999.000,9, -999.000,9, -999.000,9
           NA,    P03E,      3,   1,-999.0,      10,  2,19850330,1424,  32.6467, -117.4983,  1126,   93.500,    9.731,   33.878,2,   33.880,2, -999.000,9,  140.100,2,   25.910,2,   21.830,2,    0.010,2,    1.850,2, -999.000,9, -999.000,9, -999.000,9, -999.000,9, -999.000,9
           NA,    P03E,      3,   1,-999.0,      11,  2,19850330,1424,  32.6467, -117.4983,  1126,  123.100,    9.135,   33.991,2,   33.996,2, -999.000,9,  126.200,2,   31.380,2,   24.560,2,    0.010,2,    2.040,2, -999.000,9, -999.000,9, -999.000,9, -999.000,9, -999.000,9
           NA,    P03E,      3,   1,-999.0,      12,  2,19850330,1424,  32.6467, -117.4983,  1126,  153.700,    9.137,   34.155,2,   34.155,2, -999.000,9,   86.100,2,   37.430,2,   27.370,2,    0.010,2,    2.320,2, -999.000,9, -999.000,9, -999.000,9, -999.000,9, -999.000,9
           NA,    P03E,      3,   1,-999.0,      13,  2,19850330,1424,  32.6467, -117.4983,  1126,  194.200,    8.748,   34.187,2,   34.183,2, -999.000,9,   77.900,2,   41.420,2,   28.810,2,    0.010,2,    2.450,2, -999.000,9, -999.000,9, -999.000,9, -999.000,9, -999.000,9
           NA,    P03E,      3,   1,-999.0,      14,  2,19850330,1424,  32.6467, -117.4983,  1126,  234.200,    8.168,   34.177,2,   34.174,2, -999.000,9,   74.000,2,   46.560,2,   30.250,2,    0.010,2,    2.530,2, -999.000,9, -999.000,9, -999.000,9, -999.000,9, -999.000,9
           NA,    P03E,      3,   1,-999.0,      15,  2,19850330,1424,  32.6467, -117.4983,  1126,  284.600,    7.959,   34.230,2,   34.229,2, -999.000,9,   50.500,2,   50.580,2,   31.920,2,    0.010,2,    2.700,2, -999.000,9, -999.000,9, -999.000,9, -999.000,9, -999.000,9
           NA,    P03E,      3,   1,-999.0,      16,  2,19850330,1424,  32.6467, -117.4983,  1126,  334.500,    7.634,   34.258,2,   34.257,2, -999.000,9,   39.600,2,   55.750,2,   33.110,2,    0.010,2,    2.820,2, -999.000,9, -999.000,9, -999.000,9, -999.000,9, -999.000,9
           NA,    P03E,      3,   1,-999.0,      17,  2,19850330,1424,  32.6467, -117.4983,  1126,  395.000,    7.176,   34.286,2,   34.284,2, -999.000,9,   28.300,2,   62.660,2,   34.970,2,    0.010,2,    2.990,2, -999.000,9, -999.000,9, -999.000,9, -999.000,9, -999.000,9
           NA,    P03E,      3,   1,-999.0,      18,  2,19850330,1424,  32.6467, -117.4983,  1126,  455.100,    6.521,   34.284,2,   34.283,2, -999.000,9,   24.800,2,   71.700,2,   37.130,2,    0.010,2,    3.090,2, -999.000,9, -999.000,9, -999.000,9, -999.000,9, -999.000,9
           NA,    P03E,      3,   1,-999.0,      19,  2,19850330,1424,  32.6467, -117.4983,  1126,  525.500,    6.070,   34.297,2,   34.295,2, -999.000,9,   18.300,2,   78.480,2,   38.470,2,    0.010,2,    3.160,2, -999.000,9, -999.000,9, -999.000,9, -999.000,9, -999.000,9
           NA,    P03E,      3,   1,-999.0,      20,  2,19850330,1424,  32.6467, -117.4983,  1126,  606.500,    5.729,   34.332,2,   34.332,2, -999.000,9,   14.800,2,   84.700,2,   39.420,2,    0.000,2,    3.210,2, -999.000,9, -999.000,9, -999.000,9, -999.000,9, -999.000,9
           NA,    P03E,      3,   1,-999.0,      21,  2,19850330,1424,  32.6467, -117.4983,  1126,  705.200,    5.282,   34.375,2,   34.375,2, -999.000,9,   13.900,2,   93.070,2,   40.140,2,    0.010,2,    3.270,2, -999.000,9, -999.000,9, -999.000,9, -999.000,9, -999.000,9
           NA,    P03E,      3,   1,-999.0,      22,  2,19850330,1424,  32.6467, -117.4983,  1126,  805.600,    4.798,   34.417,2,   34.419,2, -999.000,9,   15.700,2,  101.080,2,   41.200,2,    0.010,2,    3.300,2, -999.000,9, -999.000,9, -999.000,9, -999.000,9, -999.000,9
           NA,    P03E,      3,   1,-999.0,      23,  2,19850330,1424,  32.6467, -117.4983,  1126, 1007.000,    4.003,   34.483,2,   34.484,2, -999.000,9,   22.600,2,  119.870,2,   41.700,2,    0.010,2,    3.320,2, -999.000,9, -999.000,9, -999.000,9, -999.000,9, -999.000,9
           NA,    P03E,      3,   1,-999.0,      24,  2,19850330,1424,  32.6467, -117.4983,  1126, 1127.700,    3.703,   34.506,2,   34.507,2, -999.000,9,   28.700,2,  127.990,2,   41.450,2,    0.010,2,    3.290,2, -999.000,9, -999.000,9, -999.000,9, -999.000,9, -999.000,9
           NA,    P03E,      2,   1,-999.0,      13,  2,19850330,1038,  32.6633, -117.4233,   175,    6.800,   13.724,   33.529,2,   33.533,2, -999.000,9,  266.600,2,    3.310,2,    1.090,2,    0.070,2,    0.680,2, -999.000,9, -999.000,9, -999.000,9, -999.000,9, -999.000,9
           NA,    P03E,      2,   1,-999.0,      17,  2,19850330,1038,  32.6633, -117.4233,   175,   17.100,   13.379,   33.513,2,   33.518,2, -999.000,9,  252.400,2,    4.440,2,    2.800,2,    0.140,2,    0.810,2, -999.000,9, -999.000,9, -999.000,9, -999.000,9, -999.000,9
           NA,    P03E,      2,   1,-999.0,      18,  2,19850330,1038,  32.6633, -117.4233,   175,   32.000,   11.936,   33.560,2,   33.563,2, -999.000,9,  184.900,2,   11.860,2,   12.120,2,    0.140,2,    1.360,2, -999.000,9, -999.000,9, -999.000,9, -999.000,9, -999.000,9
           NA,    P03E,      2,   1,-999.0,      19,  2,19850330,1038,  32.6633, -117.4233,   175,   52.300,   10.960,   33.723,2,   33.721,2, -999.000,9,  154.500,2,   18.530,2,   17.240,2,    0.010,2,    1.690,2, -999.000,9, -999.000,9, -999.000,9, -999.000,9, -999.000,9
           NA,    P03E,      2,   1,-999.0,      20,  2,19850330,1038,  32.6633, -117.4233,   175,   72.100,   10.233,   33.800,2,   33.797,2, -999.000,9,  146.900,2,   22.550,2,   19.730,2,    0.010,2,    1.870,2, -999.000,9, -999.000,9, -999.000,9, -999.000,9, -999.000,9
           NA,    P03E,      2,   1,-999.0,      21,  2,19850330,1038,  32.6633, -117.4233,   175,   91.900,    9.682,   33.901,2,   33.905,2, -999.000,9,  136.500,2,   26.590,2,   21.800,2,    0.020,2,    1.950,2, -999.000,9, -999.000,9, -999.000,9, -999.000,9, -999.000,9
           NA,    P03E,      2,   1,-999.0,      22,  2,19850330,1038,  32.6633, -117.4233,   175,  122.500,    9.498,   34.002,2,   34.007,2, -999.000,9,  114.600,2,   30.820,2,   23.830,2,    0.010,2,    2.120,2, -999.000,9, -999.000,9, -999.000,9, -999.000,9, -999.000,9
           NA,    P03E,      2,   1,-999.0,      23,  2,19850330,1038,  32.6633, -117.4233,   175,  152.000,    9.340,   34.042,2,   34.034,2, -999.000,9,  109.800,2,   32.770,2,   24.570,2,    0.010,2,    2.230,2, -999.000,9, -999.000,9, -999.000,9, -999.000,9, -999.000,9
           NA,    P03E,      2,   1,-999.0,      24,  2,19850330,1038,  32.6633, -117.4233,   175,  166.600,    9.200,   34.098,2,   34.098,2, -999.000,9,   97.000,2,   35.870,2,   25.860,2,    0.020,2,    2.370,2, -999.000,9, -999.000,9, -999.000,9, -999.000,9, -999.000,9
           NA,    P03E,      1,   5,-999.0,      18,  2,19850330,0542,  32.6533, -117.3300,    99,    8.600,   13.877,   33.534,2,   33.542,2, -999.000,9,  271.400,2,    2.540,2,    0.570,2,    0.040,2,    0.560,2,    2.985,2,    1.390,2, -999.000,9, -999.000,9, -999.000,9
           NA,    P03E,      1,   5,-999.0,      19,  2,19850330,0542,  32.6533, -117.3300,    99,   18.700,   13.154,   33.524,2,   33.531,2, -999.000,9,  247.000,2,    5.380,2,    3.550,2,    0.140,2,    0.770,2, -999.000,9, -999.000,9, -999.000,9, -999.000,9, -999.000,9
           NA,    P03E,      1,   5,-999.0,      20,  2,19850330,0542,  32.6533, -117.3300,    99,   34.800,   11.619,   33.627,2,   33.634,2, -999.000,9,  169.400,2,   14.870,2,   14.280,2,    0.080,2,    1.400,2,    3.152,2, -999.000,9, -999.000,9, -999.000,9, -999.000,9
           NA,    P03E,      1,   5,-999.0,      21,  2,19850330,0542,  32.6533, -117.3300,    99,   45.000,   11.174,   33.741,2,   33.712,2, -999.000,9,  152.400,2,   18.490,2,   16.630,2,    0.040,2,    1.630,2,    3.352,2, -999.000,9, -999.000,9, -999.000,9, -999.000,9
           NA,    P03E,      1,   5,-999.0,      22,  2,19850330,0542,  32.6533, -117.3300,    99,   55.300,   10.690,   33.827,2,   33.836,2, -999.000,9,  130.200,2,   23.370,2,   19.950,2,    0.010,2,    1.870,2,    2.352,2, -999.000,9, -999.000,9, -999.000,9, -999.000,9
           NA,    P03E,      1,   5,-999.0,      23,  2,19850330,0542,  32.6533, -117.3300,    99,   68.100,   10.274,   33.894,2,   33.897,2, -999.000,9,  119.700,2,   26.500,2,   21.610,2,    0.060,2,    2.000,2, -999.000,9, -999.000,9, -999.000,9, -999.000,9, -999.000,9