BOTTLE,20203103JOAExport
EXPOCODE,SECT_ID,STNNBR,CASTNO,SAMPNO,BTLNBR,BTLNBR_FLAG_W,DATE,TIME,LATITUDE,LONGITUDE,DEPTH,CTDPRS,CTDTMP,CTDSAL,CTDSAL_FLAG_W,SALNTY,SALNTY_FLAG_W,CTDOXY,CTDOXY_FLAG_W,OXYGEN,OXYGEN_FLAG_W,SILCAT,SILCAT_FLAG_W,NITRAT,NITRAT_FLAG_W,NITRIT,NITRIT_FLAG_W,PHSPHT,PHSPHT_FLAG_W,CFC-11,CFC-11_FLAG_W,CFC-12,CFC-12_FLAG_W,SF6,SF6_FLAG_W,TCARBN,TCARBN_FLAG_W,ALKALI,ALKALI_FLAG_W
,,,,,,,,,,,,,DB,ITS-90,PSS-78,,PSS-78,,UMOL/KG,,UMOL/KG,,UMOL/KG,,UMOL/KG,,UMOL/KG,,UMOL/KG,,PMOL/KG,,PMOL/KG,,FMOL/KG,,UMOL/KG,,UMOL/KG
           NA,    P03W,    285,   2,-999.0,       4,  2,19850519,0401,  24.2800,  146.0500,  5732,    0.500,   24.554,   34.934,2,   34.936,2, -999.000,9,  214.500,2,    1.990,2,    0.140,2,    0.000,2,    0.010,2, -999.000,9, -999.000,9, -999.000,9, -999.000,9, -999.000,9
           NA,    P03W,    285,   2,-999.0,      38,  2,19850519,0401,  24.2800,  146.0500,  5732,   24.700,   23.994,   34.924,2,   34.925,2, -999.000,9,  217.800,2,    1.930,2,    0.140,2,    0.000,2,    0.010,2, -999.000,9, -999.000,9, -999.000,9, -999.000,9, -999.000,9
           NA,    P03W,    285,   2,-999.0,       3,  2,19850519,0401,  24.2800,  146.0500,  5732,   45.300,   20.823,   34.916,2,   34.914,2, -999.000,9,  233.600,2,    2.070,2,    0.090,2,    0.000,2,    0.010,2, -999.000,9, -999.000,9, -999.000,9, -999.000,9, -999.000,9
           NA,    P03W,    285,   2,-999.0,       1,  2,19850519,0401,  24.2800,  146.0500,  5732,   75.600,   19.089,   34.855,2,   34.855,2, -999.000,9,  226.900,2,    2.630,2,    0.040,2,    0.000,2,    0.050,2, -999.000,9, -999.000,9, -999.000,9, -999.000,9, -999.000,9
           NA,    P03W,    285,   2,-999.0,       5,  2,19850519,0401,  24.2800,  146.0500,  5732,  102.800,   18.297,   34.828,2,   34.829,2, -999.000,9,  217.000,2,    3.180,2,    1.430,2,    0.100,2,    0.150,2, -999.000,9, -999.000,9, -999.000,9, -999.000,9, -999.000,9
           NA,    P03W,    285,   2,-999.0,       6,  2,19850519,0401,  24.2800,  146.0500,  5732,  144.900,   17.384,   34.799,2,   34.799,2, -999.000,9,  204.500,2,    3.740,2,    4.310,2,    0.030,2,    0.310,2, -999.000,9, -999.000,9, -999.000,9, -999.000,9, -999.000,9
           NA,    P03W,    285,   2,-999.0,       7,  2,19850519,0401,  24.2800,  146.0500,  5732,  182.400,   16.814,   34.776,2,   34.776,2, -999.000,9,  205.900,2,    4.910,2,    5.240,2,    0.020,2,    0.360,2, -999.000,9, -999.000,9, -999.000,9, -999.000,9, -999.000,9
           NA,    P03W,    285,   2,-999.0,       8,  2,19850519,0401,  24.2800,  146.0500,  5732,  232.100,   16.080,   34.740,2,   34.740,2, -999.000,9,  206.600,2,    5.880,2,    6.410,2,    0.010,2,    0.430,2, -999.000,9, -999.000,9, -999.000,9, -999.000,9, -999.000,9
           NA,    P03W,    285,   2,-999.0,       9,  2,19850519,0401,  24.2800,  146.0500,  5732,  281.500,   15.339,   34.680,2,   34.679,2, -999.000,9,  202.600,2,    7.870,2,    7.870,2,    0.000,2,    0.550,2, -999.000,9, -999.000,9, -999.000,9, -999.000,9, -999.000,9
           NA,    P03W,    285,   2,-999.0,      10,  2,19850519,0401,  24.2800,  146.0500,  5732,  331.300,   14.290,   34.582,2,   34.582,2, -999.000,9,  199.600,2,   10.880,2,    9.710,2,    0.000,2,    0.680,2, -999.000,9, -999.000,9, -999.000,9, -999.000,9, -999.000,9
           NA,    P03W,    285,   2,-999.0,      11,  2,19850519,0401,  24.2800,  146.0500,  5732,  380.400,   13.235,   34.500,2,   34.500,2, -999.000,9,  189.600,2,   15.540,2,   12.590,2,    0.000,2,    0.860,2, -999.000,9, -999.000,9, -999.000,9, -999.000,9, -999.000,9
           NA,    P03W,    285,   2,-999.0,      12,  2,19850519,0401,  24.2800,  146.0500,  5732,  441.500,   11.229,   34.337,2,   34.337,2, -999.000,9,  180.800,2,   23.270,2,   16.550,2,    0.000,2,    1.160,2, -999.000,9, -999.000,9, -999.000,9, -999.000,9, -999.000,9
           NA,    P03W,    285,   2,-999.0,      13,  2,19850519,0401,  24.2800,  146.0500,  5732,  497.300,    9.937,   34.238,2,   34.237,2, -999.000,9,  173.700,2,   28.540,2,   19.410,2,    0.000,2,    1.360,2, -999.000,9, -999.000,9, -999.000,9, -999.000,9, -999.000,9
           NA,    P03W,    285,   2,-999.0,      14,  2,19850519,0401,  24.2800,  146.0500,  5732,  557.400,    8.465,   34.141,2,   34.139,2, -999.000,9,  163.700,2,   37.720,2,   23.080,2,    0.000,2,    1.640,2, -999.000,9, -999.000,9, -999.000,9, -999.000,9, -999.000,9
           NA,    P03W,    285,   2,-999.0,      15,  2,19850519,0401,  24.2800,  146.0500,  5732,  640.500,    6.662,   34.109,2,   34.111,2, -999.000,9,  117.800,2,   58.610,2,   30.450,2,    0.020,2,    2.160,2, -999.000,9, -999.000,9, -999.000,9, -999.000,9, -999.000,9
           NA,    P03W,    285,   2,-999.0,      16,  2,19850519,0401,  24.2800,  146.0500,  5732,  716.800,    5.559,   34.153,2,   34.154,2, -999.000,9,   81.800,2,   77.290,2,   35.620,2,    0.000,2,    2.540,2, -999.000,9, -999.000,9, -999.000,9, -999.000,9, -999.000,9
           NA,    P03W,    285,   2,-999.0,      17,  2,19850519,0401,  24.2800,  146.0500,  5732,  792.500,    4.732,   34.198,2,   34.198,2, -999.000,9,   63.500,2,   93.940,2,   38.730,2,    0.000,2,    2.750,2, -999.000,9, -999.000,9, -999.000,9, -999.000,9, -999.000,9
           NA,    P03W,    285,   2,-999.0,      18,  2,19850519,0401,  24.2800,  146.0500,  5732,  897.900,    4.034,   34.293,2,   34.296,2, -999.000,9,   49.600,2,  111.470,2,   40.880,2,    0.000,2,    2.900,2, -999.000,9, -999.000,9, -999.000,9, -999.000,9, -999.000,9
           NA,    P03W,    285,   2,-999.0,      39,  2,19850519,0401,  24.2800,  146.0500,  5732, 1050.100,    3.526,   34.416,2,   34.416,2, -999.000,9,   52.200,2,  124.690,2,   41.350,2,    0.000,2,    2.940,2, -999.000,9, -999.000,9, -999.000,9, -999.000,9, -999.000,9
           NA,    P03W,    285,   2,-999.0,      20,  2,19850519,0401,  24.2800,  146.0500,  5732, 1200.800,    3.172,   34.470,2,   34.470,2, -999.000,9,   60.600,2,  132.110,2,   41.260,2,    0.000,2,    2.920,2, -999.000,9, -999.000,9, -999.000,9, -999.000,9, -999.000,9
           NA,    P03W,    285,   2,-999.0,      21,  2,19850519,0401,  24.2800,  146.0500,  5732, 1403.600,    2.651,   34.514,2,   34.515,2, -999.000,9,   65.300,2,  143.100,2,   41.310,2,    0.000,2,    2.910,2, -999.000,9, -999.000,9, -999.000,9, -999.000,9, -999.000,9
           NA,    P03W,    285,   2,-999.0,      22,  2,19850519,0401,  24.2800,  146.0500,  5732, 1603.300,    2.306,   34.562,2,   34.563,2, -999.000,9,   85.500,2,  146.580,2,   40.270,2,    0.000,2,    2.820,2, -999.000,9, -999.000,9, -999.000,9, -999.000,9, -999.000,9
           NA,    P03W,    285,   2,-999.0,      23,  2,19850519,0401,  24.2800,  146.0500,  5732, 1801.400,    2.111,   34.589,2,   34.589,2, -999.000,9,   96.400,2,  150.490,2,   39.860,2,    0.000,2,    2.780,2, -999.000,9, -999.000,9, -999.000,9, -999.000,9, -999.000,9
           NA,    P03W,    285,   2,-999.0,      24,  2,19850519,0401,  24.2800,  146.0500,  5732, 1998.200,    1.975,   34.609,2,   34.610,2, -999.000,9,  106.900,2,  150.630,2,   39.190,2,    0.000,2,    2.740,2, -999.000,9, -999.000,9, -999.000,9, -999.000,9, -999.000,9
           NA,    P03W,    285,   2,-999.0,      25,  2,19850519,0401,  24.2800,  146.0500,  5732, 2198.800,    1.851,   34.626,2,   34.626,2, -999.000,9,  118.800,2,  149.720,2,   38.670,2,    0.000,2,    2.680,2, -999.000,9, -999.000,9, -999.000,9, -999.000,9, -999.000,9
           NA,    P03W,    285,   2,-999.0,      26,  2,19850519,0401,  24.2800,  146.0500,  5732, 2492.800,    1.720,   34.644,2,   34.643,2, -999.000,9,  123.500,2,  150.070,2,   38.050,2,    0.000,2,    2.640,2, -999.000,9, -999.000,9, -999.000,9, -999.000,9, -999.000,9
           NA,    P03W,    285,   2,-999.0,      27,  2,19850519,0401,  24.2800,  146.0500,  5732, 2789.900,    1.638,   34.655,2,   34.655,2, -999.000,9,  132.700,2,  150.630,2,   37.690,2,    0.010,2,    2.610,2, -999.000,9, -999.000,9, -999.000,9, -999.000,9, -999.000,9
           NA,    P03W,    285,   2,-999.0,      28,  2,19850519,0401,  24.2800,  146.0500,  5732, 3087.600,    1.578,   34.664,2,   34.663,2, -999.000,9,  136.600,2,  151.400,2,   37.230,2,    0.000,2,    2.560,2, -999.000,9, -999.000,9, -999.000,9, -999.000,9, -999.000,9
           NA,    P03W,    285,   2,-999.0,      29,  2,19850519,0401,  24.2800,  146.0500,  5732, 3389.700,    1.537,   34.669,2,   34.669,2, -999.000,9,  143.800,2,  149.650,2,   37.030,2,    0.000,2,    2.550,2, -999.000,9, -999.000,9, -999.000,9, -999.000,9, -999.000,9
           NA,    P03W,    285,   2,-999.0,      30,  2,19850519,0401,  24.2800,  146.0500,  5732, 3691.700,    1.507,   34.675,2,   34.675,2, -999.000,9,  148.400,2,  147.700,2,   36.630,2,    0.000,2,    2.520,2, -999.000,9, -999.000,9, -999.000,9, -999.000,9, -999.000,9
           NA,    P03W,    285,   2,-999.0,      31,  2,19850519,0401,  24.2800,  146.0500,  5732, 4001.300,    1.486,   34.679,2,   34.679,2, -999.000,9,  153.400,2,  146.170,2,   36.220,2,    0.000,2,    2.470,2, -999.000,9, -999.000,9, -999.000,9, -999.000,9, -999.000,9
           NA,    P03W,    285,   2,-999.0,      32,  2,19850519,0401,  24.2800,  146.0500,  5732, 4313.900,    1.485,   34.682,2,   34.682,2, -999.000,9,  160.800,2,  144.430,2,   35.810,2,    0.000,2,    2.460,2, -999.000,9, -999.000,9, -999.000,9, -999.000,9, -999.000,9
           NA,    P03W,    285,   2,-999.0,      33,  2,19850519,0401,  24.2800,  146.0500,  5732, 4670.600,    1.488,   34.686,2,   34.685,2, -999.000,9,  163.100,2,  140.390,2,   35.610,2,    0.000,2,    2.430,2, -999.000,9, -999.000,9, -999.000,9, -999.000,9, -999.000,9
           NA,    P03W,    285,   2,-999.0,      34,  2,19850519,0401,  24.2800,  146.0500,  5732, 5015.600,    1.499,   34.688,2,   34.688,2, -999.000,9,  167.900,2,  139.490,2,   35.460,2,    0.000,2,    2.420,2, -999.000,9, -999.000,9, -999.000,9, -999.000,9, -999.000,9
           NA,    P03W,    285,   2,-999.0,      35,  2,19850519,0401,  24.2800,  146.0500,  5732, 5431.400,    1.528,   34.690,2,   34.690,2, -999.000,9,  172.100,2,  136.920,2,   35.050,2,    0.000,2,    2.380,2, -999.000,9, -999.000,9, -999.000,9, -999.000,9, -999.000,9
           NA,    P03W,    285,   2,-999.0,      37,  2,19850519,0401,  24.2800,  146.0500,  5732, 5806.400,    1.554,   34.692,2,   34.692,2, -999.000,9,  176.300,2,  133.520,2,   34.700,2,    0.000,2,    2.370,2, -999.000,9, -999.000,9, -999.000,9, -999.000,9, -999.000,9