BOTTLE,20203103JOAExport
EXPOCODE,SECT_ID,STNNBR,CASTNO,SAMPNO,BTLNBR,BTLNBR_FLAG_W,DATE,TIME,LATITUDE,LONGITUDE,DEPTH,CTDPRS,CTDTMP,CTDSAL,CTDSAL_FLAG_W,SALNTY,SALNTY_FLAG_W,CTDOXY,CTDOXY_FLAG_W,OXYGEN,OXYGEN_FLAG_W,SILCAT,SILCAT_FLAG_W,NITRAT,NITRAT_FLAG_W,NITRIT,NITRIT_FLAG_W,PHSPHT,PHSPHT_FLAG_W,CFC-11,CFC-11_FLAG_W,CFC-12,CFC-12_FLAG_W,SF6,SF6_FLAG_W,TCARBN,TCARBN_FLAG_W,ALKALI,ALKALI_FLAG_W
,,,,,,,,,,,,,DB,ITS-90,PSS-78,,PSS-78,,UMOL/KG,,UMOL/KG,,UMOL/KG,,UMOL/KG,,UMOL/KG,,UMOL/KG,,PMOL/KG,,PMOL/KG,,FMOL/KG,,UMOL/KG,,UMOL/KG
           NA,    P03E,     92,   1,-999.0,       1,  2,19850414,0610,  24.2517, -148.4350,  5461,    0.600,   22.164,   35.236,2,   35.239,2, -999.000,9,  221.900,2,    1.250,2,    0.040,2,    0.000,2,    0.090,2, -999.000,9, -999.000,9, -999.000,9, -999.000,9, -999.000,9
           NA,    P03E,     92,   1,-999.0,       2,  2,19850414,0610,  24.2517, -148.4350,  5461,   24.600,   21.940,   35.334,2,   35.335,2, -999.000,9,  220.600,2,    1.220,2,    0.040,2,    0.000,2,    0.070,2, -999.000,9, -999.000,9, -999.000,9, -999.000,9, -999.000,9
           NA,    P03E,     92,   1,-999.0,       3,  2,19850414,0610,  24.2517, -148.4350,  5461,   44.500,   21.910,   35.335,2,   35.335,2, -999.000,9,  220.600,2,    1.000,2,    0.000,2,    0.000,2,    0.070,2, -999.000,9, -999.000,9, -999.000,9, -999.000,9, -999.000,9
           NA,    P03E,     92,   1,-999.0,       4,  2,19850414,0610,  24.2517, -148.4350,  5461,   74.100,   21.892,   35.339,2,   35.339,2, -999.000,9,  221.000,2,    0.970,2,    0.040,2,    0.000,2,    0.060,2, -999.000,9, -999.000,9, -999.000,9, -999.000,9, -999.000,9
           NA,    P03E,     92,   1,-999.0,       5,  2,19850414,0610,  24.2517, -148.4350,  5461,  104.000,   21.659,   35.318,2,   35.317,2, -999.000,9,  216.200,2,    0.940,2,    0.110,2,    0.020,2,    0.080,2, -999.000,9, -999.000,9, -999.000,9, -999.000,9, -999.000,9
           NA,    P03E,     92,   1,-999.0,       6,  2,19850414,0610,  24.2517, -148.4350,  5461,  144.400,   21.205,   35.332,2,   35.333,2, -999.000,9,  214.000,2,    0.910,2,    0.320,2,    0.130,2,    0.090,2, -999.000,9, -999.000,9, -999.000,9, -999.000,9, -999.000,9
           NA,    P03E,     92,   1,-999.0,       7,  2,19850414,0610,  24.2517, -148.4350,  5461,  184.800,   19.617,   35.078,2,   35.074,2, -999.000,9,  199.100,2,    1.630,2,    1.830,2,    0.030,2,    0.200,2, -999.000,9, -999.000,9, -999.000,9, -999.000,9, -999.000,9
           NA,    P03E,     92,   1,-999.0,       8,  2,19850414,0610,  24.2517, -148.4350,  5461,  225.100,   16.906,   34.735,2,   34.725,2, -999.000,9,  199.900,2,    3.290,2,    3.980,2,    0.010,2,    0.350,2, -999.000,9, -999.000,9, -999.000,9, -999.000,9, -999.000,9
           NA,    P03E,     92,   1,-999.0,       9,  2,19850414,0610,  24.2517, -148.4350,  5461,  266.100,   14.763,   34.491,2,   34.496,2, -999.000,9,  205.500,2,    5.130,2,    5.940,2,    0.010,2,    0.490,2, -999.000,9, -999.000,9, -999.000,9, -999.000,9, -999.000,9
           NA,    P03E,     92,   1,-999.0,      10,  2,19850414,0610,  24.2517, -148.4350,  5461,  306.600,   12.648,   34.262,2,   34.254,2, -999.000,9,  209.400,2,    8.850,2,    9.380,2,    0.010,2,    0.710,2, -999.000,9, -999.000,9, -999.000,9, -999.000,9, -999.000,9
           NA,    P03E,     92,   1,-999.0,      11,  2,19850414,0610,  24.2517, -148.4350,  5461,  347.100,   10.948,   34.152,2,   34.143,2, -999.000,9,  206.300,2,   14.070,2,   13.440,2,    0.000,2,    0.960,2, -999.000,9, -999.000,9, -999.000,9, -999.000,9, -999.000,9
           NA,    P03E,     92,   1,-999.0,      12,  2,19850414,0610,  24.2517, -148.4350,  5461,  387.700,    9.540,   34.082,2,   34.084,2, -999.000,9,  190.600,2,   21.720,2,   18.310,2,    0.000,2,    1.290,2, -999.000,9, -999.000,9, -999.000,9, -999.000,9, -999.000,9
           NA,    P03E,     92,   1,-999.0,      13,  2,19850414,0610,  24.2517, -148.4350,  5461,  437.900,    8.408,   34.060,2,   34.062,2, -999.000,9,  161.800,2,   31.070,2,   23.230,2,    0.000,2,    1.620,2, -999.000,9, -999.000,9, -999.000,9, -999.000,9, -999.000,9
           NA,    P03E,     92,   1,-999.0,      14,  2,19850414,0610,  24.2517, -148.4350,  5461,  508.500,    6.935,   34.054,2,   34.055,2, -999.000,9,  107.000,2,   50.180,2,   31.480,2,    0.000,2,    2.200,2, -999.000,9, -999.000,9, -999.000,9, -999.000,9, -999.000,9
           NA,    P03E,     92,   1,-999.0,      15,  2,19850414,0610,  24.2517, -148.4350,  5461,  609.300,    6.068,   34.168,2,   34.172,2, -999.000,9,   45.700,2,   69.120,2,   38.370,2,    0.000,2,    2.730,2, -999.000,9, -999.000,9, -999.000,9, -999.000,9, -999.000,9
           NA,    P03E,     92,   1,-999.0,      16,  2,19850414,0610,  24.2517, -148.4350,  5461,  708.900,    5.140,   34.249,2,   34.248,2, -999.000,9,   26.500,2,   87.340,2,   42.100,2,    0.000,2,    2.960,2, -999.000,9, -999.000,9, -999.000,9, -999.000,9, -999.000,9
           NA,    P03E,     92,   1,-999.0,      17,  2,19850414,0610,  24.2517, -148.4350,  5461,  809.500,    4.882,   34.363,2,   34.360,2, -999.000,9,   25.200,2,   93.710,2,   43.200,2,    0.000,2,    3.020,2, -999.000,9, -999.000,9, -999.000,9, -999.000,9, -999.000,9
           NA,    P03E,     92,   1,-999.0,      18,  2,19850414,0610,  24.2517, -148.4350,  5461,  960.700,    4.280,   34.445,2,   34.443,2, -999.000,9,   37.800,2,  105.570,2,   43.360,2,    0.000,2,    3.000,2, -999.000,9, -999.000,9, -999.000,9, -999.000,9, -999.000,9
           NA,    P03E,     92,   1,-999.0,      19,  2,19850414,0610,  24.2517, -148.4350,  5461, 1111.700,    3.868,   34.495,2,   34.494,2, -999.000,9,   46.100,2,  114.040,2,   43.310,2,    0.000,2,    2.980,2, -999.000,9, -999.000,9, -999.000,9, -999.000,9, -999.000,9
           NA,    P03E,     92,   1,-999.0,      20,  2,19850414,0610,  24.2517, -148.4350,  5461, 1261.700,    3.499,   34.525,2,   34.526,2, -999.000,9,   53.900,2,  122.720,2,   43.160,2,    0.000,2,    2.970,2, -999.000,9, -999.000,9, -999.000,9, -999.000,9, -999.000,9
           NA,    P03E,     92,   1,-999.0,      21,  2,19850414,0610,  24.2517, -148.4350,  5461, 1410.300,    3.163,   34.547,2,   34.547,2, -999.000,9,   59.500,2,  130.460,2,   42.960,2,    0.000,2,    2.950,2, -999.000,9, -999.000,9, -999.000,9, -999.000,9, -999.000,9
           NA,    P03E,     92,   1,-999.0,      22,  2,19850414,0610,  24.2517, -148.4350,  5461, 1613.400,    2.753,   34.574,2,   34.573,2, -999.000,9,   68.200,2,  140.680,2,   42.550,2,    0.000,2,    2.920,2, -999.000,9, -999.000,9, -999.000,9, -999.000,9, -999.000,9
           NA,    P03E,     92,   1,-999.0,      23,  2,19850414,0610,  24.2517, -148.4350,  5461, 1817.900,    2.418,   34.593,2,   34.593,2, -999.000,9,   78.700,2,  149.200,2,   41.890,2,    0.000,2,    2.860,2, -999.000,9, -999.000,9, -999.000,9, -999.000,9, -999.000,9
           NA,    P03E,     92,   1,-999.0,      24,  2,19850414,0610,  24.2517, -148.4350,  5461, 2021.300,    2.147,   34.608,2,   34.608,2, -999.000,9,   85.200,2,  156.790,2,   41.640,2,    0.000,2,    2.830,2, -999.000,9, -999.000,9, -999.000,9, -999.000,9, -999.000,9
           NA,    P03E,     92,   1,-999.0,      25,  2,19850414,0610,  24.2517, -148.4350,  5461, 2224.100,    1.942,   34.625,2,   34.626,2, -999.000,9,   90.800,2,  163.440,2,   41.130,2,    0.000,2,    2.780,2, -999.000,9, -999.000,9, -999.000,9, -999.000,9, -999.000,9
           NA,    P03E,     92,   1,-999.0,      26,  2,19850414,0610,  24.2517, -148.4350,  5461, 2528.000,    1.736,   34.645,2, -999.000,5, -999.000,9,  105.200,2,  167.040,2,   40.320,2,    0.000,2,    2.710,2, -999.000,9, -999.000,9, -999.000,9, -999.000,9, -999.000,9
           NA,    P03E,     92,   1,-999.0,      27,  2,19850414,0610,  24.2517, -148.4350,  5461, 2833.700,    1.614,   34.657,2,   34.657,2, -999.000,9,  116.500,2,  167.210,2,   39.490,2,    0.020,2,    2.650,2, -999.000,9, -999.000,9, -999.000,9, -999.000,9, -999.000,9
           NA,    P03E,     92,   1,-999.0,      28,  2,19850414,0610,  24.2517, -148.4350,  5461, 3138.900,    1.545,   34.667,2,   34.666,2, -999.000,9,  126.900,2,  165.470,2,   38.790,2,    0.020,2,    2.590,2, -999.000,9, -999.000,9, -999.000,9, -999.000,9, -999.000,9
           NA,    P03E,     92,   1,-999.0,      29,  2,19850414,0610,  24.2517, -148.4350,  5461, 3443.100,    1.505,   34.674,2,   34.673,2, -999.000,9,  135.600,2,  162.770,2,   38.290,2,    0.020,2,    2.540,2, -999.000,9, -999.000,9, -999.000,9, -999.000,9, -999.000,9
           NA,    P03E,     92,   1,-999.0,      30,  2,19850414,0610,  24.2517, -148.4350,  5461, 3750.200,    1.488,   34.678,2,   34.678,2, -999.000,9,  142.100,2,  160.840,2,   37.740,2,    0.020,2,    2.510,2, -999.000,9, -999.000,9, -999.000,9, -999.000,9, -999.000,9
           NA,    P03E,     92,   1,-999.0,      31,  2,19850414,0610,  24.2517, -148.4350,  5461, 4057.900,    1.481,   34.681,2,   34.681,2, -999.000,9,  147.700,2,  157.960,2,   37.290,2,    0.020,2,    2.490,2, -999.000,9, -999.000,9, -999.000,9, -999.000,9, -999.000,9
           NA,    P03E,     92,   1,-999.0,      32,  2,19850414,0610,  24.2517, -148.4350,  5461, 4364.800,    1.489,   34.683,2,   34.683,2, -999.000,9,  152.500,2,  155.070,2,   37.100,2,    0.010,2,    2.450,2, -999.000,9, -999.000,9, -999.000,9, -999.000,9, -999.000,9
           NA,    P03E,     92,   1,-999.0,      37,  2,19850414,0610,  24.2517, -148.4350,  5461, 4672.500,    1.489,   34.686,2,   34.686,2, -999.000,9,  158.600,2,  149.530,2,   36.660,2,    0.010,2,    2.430,2, -999.000,9, -999.000,9, -999.000,9, -999.000,9, -999.000,9
           NA,    P03E,     92,   1,-999.0,      34,  2,19850414,0610,  24.2517, -148.4350,  5461, 4979.700,    1.490,   34.688,2,   34.688,2, -999.000,9,  164.200,2,  144.370,2,   36.160,2,    0.010,2,    2.390,2, -999.000,9, -999.000,9, -999.000,9, -999.000,9, -999.000,9
           NA,    P03E,     92,   1,-999.0,      35,  2,19850414,0610,  24.2517, -148.4350,  5461, 5287.900,    1.509,   34.689,2,   34.690,2, -999.000,9,  166.400,2,  142.250,2,   35.920,2,    0.010,2,    2.380,2, -999.000,9, -999.000,9, -999.000,9, -999.000,9, -999.000,9
           NA,    P03E,     92,   1,-999.0,      36,  2,19850414,0610,  24.2517, -148.4350,  5461, 5549.400,    1.536,   34.690,2,   34.690,2, -999.000,9,  166.900,2,  142.040,2,   35.880,2,    0.010,2,    2.370,2, -999.000,9, -999.000,9, -999.000,9, -999.000,9, -999.000,9