BOTTLE,20203103JOAExport
EXPOCODE,SECT_ID,STNNBR,CASTNO,SAMPNO,BTLNBR,BTLNBR_FLAG_W,DATE,TIME,LATITUDE,LONGITUDE,DEPTH,CTDPRS,CTDTMP,CTDSAL,CTDSAL_FLAG_W,SALNTY,SALNTY_FLAG_W,CTDOXY,CTDOXY_FLAG_W,OXYGEN,OXYGEN_FLAG_W,SILCAT,SILCAT_FLAG_W,NITRAT,NITRAT_FLAG_W,NITRIT,NITRIT_FLAG_W,PHSPHT,PHSPHT_FLAG_W,CFC-11,CFC-11_FLAG_W,CFC-12,CFC-12_FLAG_W,SF6,SF6_FLAG_W,TCARBN,TCARBN_FLAG_W,ALKALI,ALKALI_FLAG_W
,,,,,,,,,,,,,DB,ITS-90,PSS-78,,PSS-78,,UMOL/KG,,UMOL/KG,,UMOL/KG,,UMOL/KG,,UMOL/KG,,UMOL/KG,,PMOL/KG,,PMOL/KG,,FMOL/KG,,UMOL/KG,,UMOL/KG
           NA,    P03E,     67,   3,-999.0,       1,  2,19850409,1550,  24.2317, -137.9967,  4904,    0.400,   20.392,   35.288,2,   35.289,2, -999.000,9,  227.300,2,    0.480,2,    0.090,2,    0.000,2,    0.090,2, -999.000,9, -999.000,9, -999.000,9, -999.000,9, -999.000,9
           NA,    P03E,     67,   3,-999.0,       2,  2,19850409,1550,  24.2317, -137.9967,  4904,   20.400,   20.261,   35.302,2,   35.301,2, -999.000,9,  227.800,2,    0.460,2,    0.090,2,    0.000,2,    0.090,2, -999.000,9, -999.000,9, -999.000,9, -999.000,9, -999.000,9
           NA,    P03E,     67,   3,-999.0,       3,  2,19850409,1550,  24.2317, -137.9967,  4904,   34.000,   20.122,   35.337,2,   35.337,2, -999.000,9,  228.800,2,    0.450,2,    0.090,2,    0.000,2,    0.080,2, -999.000,9, -999.000,9, -999.000,9, -999.000,9, -999.000,9
           NA,    P03E,     67,   3,-999.0,       4,  2,19850409,1550,  24.2317, -137.9967,  4904,   53.700,   20.038,   35.355,2,   35.355,2, -999.000,9,  227.500,2,    0.250,2,    0.090,2,    0.000,2,    0.080,2, -999.000,9, -999.000,9, -999.000,9, -999.000,9, -999.000,9
           NA,    P03E,     67,   3,-999.0,       5,  2,19850409,1550,  24.2317, -137.9967,  4904,   73.300,   19.984,   35.354,2,   35.354,2, -999.000,9,  227.900,2,    0.240,2,    0.090,2,    0.000,2,    0.070,2, -999.000,9, -999.000,9, -999.000,9, -999.000,9, -999.000,9
           NA,    P03E,     67,   3,-999.0,       6,  2,19850409,1550,  24.2317, -137.9967,  4904,   93.500,   19.871,   35.366,2,   35.366,2, -999.000,9,  224.800,2,    0.230,2,    0.050,2,    0.040,2,    0.070,2, -999.000,9, -999.000,9, -999.000,9, -999.000,9, -999.000,9
           NA,    P03E,     67,   3,-999.0,       7,  2,19850409,1550,  24.2317, -137.9967,  4904,  124.200,   19.590,   35.327,2,   35.332,2, -999.000,9,  220.900,2,    0.410,2,    0.260,2,    0.180,2,    0.100,2, -999.000,9, -999.000,9, -999.000,9, -999.000,9, -999.000,9
           NA,    P03E,     67,   3,-999.0,       8,  2,19850409,1550,  24.2317, -137.9967,  4904,  154.700,   18.152,   34.993,2,   34.910,2, -999.000,9,  209.500,2,    1.910,2,    2.090,2,    0.020,2,    0.240,2, -999.000,9, -999.000,9, -999.000,9, -999.000,9, -999.000,9
           NA,    P03E,     67,   3,-999.0,       9,  2,19850409,1550,  24.2317, -137.9967,  4904,  195.400,   15.639,   34.529,2,   34.512,2, -999.000,9,  209.700,2,    3.600,2,    4.040,2,    0.010,2,    0.380,2, -999.000,9, -999.000,9, -999.000,9, -999.000,9, -999.000,9
           NA,    P03E,     67,   3,-999.0,      10,  2,19850409,1550,  24.2317, -137.9967,  4904,  236.200,   13.743,   34.315,2,   34.310,2, -999.000,9,  209.300,2,    5.860,2,    6.520,2,    0.000,2,    0.540,2, -999.000,9, -999.000,9, -999.000,9, -999.000,9, -999.000,9
           NA,    P03E,     67,   3,-999.0,      11,  2,19850409,1550,  24.2317, -137.9967,  4904,  286.700,   11.093,   34.087,2,   34.091,2, -999.000,9,  206.200,2,   12.470,2,   12.470,2,    0.000,2,    0.920,2, -999.000,9, -999.000,9, -999.000,9, -999.000,9, -999.000,9
           NA,    P03E,     67,   3,-999.0,      12,  2,19850409,1550,  24.2317, -137.9967,  4904,  337.000,    9.832,   34.057,2,   34.058,2, -999.000,9,  196.900,2,   19.070,2,   16.710,2,    0.000,2,    1.160,2, -999.000,9, -999.000,9, -999.000,9, -999.000,9, -999.000,9
           NA,    P03E,     67,   3,-999.0,      13,  2,19850409,1550,  24.2317, -137.9967,  4904,  397.800,    8.511,   34.032,2,   34.032,2, -999.000,9,  173.800,2,   28.710,2,   21.870,2,    0.000,2,    1.510,2, -999.000,9, -999.000,9, -999.000,9, -999.000,9, -999.000,9
           NA,    P03E,     67,   3,-999.0,      14,  2,19850409,1550,  24.2317, -137.9967,  4904,  457.900,    7.069,   34.026,2,   34.027,2, -999.000,9,  124.000,2,   45.720,2,   29.770,2,    0.000,2,    2.040,2, -999.000,9, -999.000,9, -999.000,9, -999.000,9, -999.000,9
           NA,    P03E,     67,   3,-999.0,      15,  2,19850409,1550,  24.2317, -137.9967,  4904,  528.700,    5.735,   34.045,2,   34.047,2, -999.000,9,   75.400,2,   66.340,2,   36.900,2,    0.000,2,    2.530,2, -999.000,9, -999.000,9, -999.000,9, -999.000,9, -999.000,9
           NA,    P03E,     67,   3,-999.0,      16,  2,19850409,1550,  24.2317, -137.9967,  4904,  609.100,    5.026,   34.154,2,   34.154,2, -999.000,9,   35.900,2,   85.280,2,   41.750,2,    0.000,2,    2.890,2, -999.000,9, -999.000,9, -999.000,9, -999.000,9, -999.000,9
           NA,    P03E,     67,   3,-999.0,      17,  2,19850409,1550,  24.2317, -137.9967,  4904,  709.600,    4.727,   34.295,2,   34.295,2, -999.000,9,   19.500,2,   96.260,2,   43.760,2,    0.000,2,    3.060,2, -999.000,9, -999.000,9, -999.000,9, -999.000,9, -999.000,9
           NA,    P03E,     67,   3,-999.0,      18,  2,19850409,1550,  24.2317, -137.9967,  4904,  810.600,    4.469,   34.380,2,   34.383,2, -999.000,9,   21.800,2,  102.490,2,   44.340,2,    0.000,2,    3.060,2, -999.000,9, -999.000,9, -999.000,9, -999.000,9, -999.000,9
           NA,    P03E,     67,   3,-999.0,      19,  2,19850409,1550,  24.2317, -137.9967,  4904,  911.200,    4.146,   34.448,2,   34.446,2, -999.000,9,   30.700,2,  108.920,2,   44.340,2,    0.000,2,    3.060,2, -999.000,9, -999.000,9, -999.000,9, -999.000,9, -999.000,9
           NA,    P03E,     67,   3,-999.0,      20,  2,19850409,1550,  24.2317, -137.9967,  4904, 1012.600,    3.893,   34.488,2,   34.487,2, -999.000,9,   39.400,2,  113.450,2,   44.350,2,    0.000,2,    3.020,2, -999.000,9, -999.000,9, -999.000,9, -999.000,9, -999.000,9
           NA,    P03E,     67,   3,-999.0,      21,  2,19850409,1550,  24.2317, -137.9967,  4904, 1112.900,    3.614,   34.513,2,   34.512,2, -999.000,9,   43.400,2,  119.320,2,   43.990,2,    0.000,2,    3.010,2, -999.000,9, -999.000,9, -999.000,9, -999.000,9, -999.000,9
           NA,    P03E,     67,   3,-999.0,      22,  2,19850409,1550,  24.2317, -137.9967,  4904, 1264.400,    3.314,   34.535,2,   34.535,2, -999.000,9, -999.000,5,  126.900,2,   43.790,2,    0.000,2,    2.980,2, -999.000,9, -999.000,9, -999.000,9, -999.000,9, -999.000,9
           NA,    P03E,     67,   3,-999.0,      23,  2,19850409,1550,  24.2317, -137.9967,  4904, 1416.300,    3.004,   34.555,2,   34.556,2, -999.000,9,   57.900,2,  134.870,2,   43.430,2,    0.000,2,    2.960,2, -999.000,9, -999.000,9, -999.000,9, -999.000,9, -999.000,9
           NA,    P03E,     67,   3,-999.0,      24,  2,19850409,1550,  24.2317, -137.9967,  4904, 1618.400,    2.633,   34.580,2,   34.581,2, -999.000,9,   67.200,2,  144.380,2,   42.920,2,    0.000,2,    2.900,2, -999.000,9, -999.000,9, -999.000,9, -999.000,9, -999.000,9
           NA,    P03E,     67,   3,-999.0,      25,  2,19850409,1550,  24.2317, -137.9967,  4904, 1820.000,    2.302,   34.602,2,   34.604,2, -999.000,9,   78.100,2,  152.180,2,   42.300,2,    0.000,2,    2.840,2, -999.000,9, -999.000,9, -999.000,9, -999.000,9, -999.000,9
           NA,    P03E,     67,   3,-999.0,      26,  2,19850409,1550,  24.2317, -137.9967,  4904, 2022.600,    2.053,   34.622,2, -999.000,5, -999.000,9,   87.400,2,  158.640,2,   41.690,2,    0.000,2,    2.790,2, -999.000,9, -999.000,9, -999.000,9, -999.000,9, -999.000,9
           NA,    P03E,     67,   3,-999.0,      27,  2,19850409,1550,  24.2317, -137.9967,  4904, 2225.700,    1.878,   34.636,2,   34.635,2, -999.000,9,   95.700,2,  163.000,2,   41.030,2,    0.000,2,    2.740,2, -999.000,9, -999.000,9, -999.000,9, -999.000,9, -999.000,9
           NA,    P03E,     67,   3,-999.0,      28,  2,19850409,1550,  24.2317, -137.9967,  4904, 2529.600,    1.709,   34.649,2,   34.649,2, -999.000,9,  107.200,2,  165.450,2,   40.270,2,    0.000,2,    2.670,2, -999.000,9, -999.000,9, -999.000,9, -999.000,9, -999.000,9
           NA,    P03E,     67,   3,-999.0,      29,  2,19850409,1550,  24.2317, -137.9967,  4904, 2829.900,    1.596,   34.661,2,   34.660,2, -999.000,9,  118.500,2,  165.970,2,   39.470,2,    0.000,2,    2.610,2, -999.000,9, -999.000,9, -999.000,9, -999.000,9, -999.000,9
           NA,    P03E,     67,   3,-999.0,      30,  2,19850409,1550,  24.2317, -137.9967,  4904, 3131.900,    1.519,   34.670,2,   34.669,2, -999.000,9,  130.300,2,  164.580,2,   38.910,2,    0.000,2,    2.570,2, -999.000,9, -999.000,9, -999.000,9, -999.000,9, -999.000,9
           NA,    P03E,     67,   3,-999.0,      31,  2,19850409,1550,  24.2317, -137.9967,  4904, 3436.000,    1.486,   34.675,2,   34.674,2, -999.000,9,  136.700,2,  161.090,2,   38.420,2,    0.000,2,    2.520,2, -999.000,9, -999.000,9, -999.000,9, -999.000,9, -999.000,9
           NA,    P03E,     67,   3,-999.0,      32,  2,19850409,1550,  24.2317, -137.9967,  4904, 3738.600,    1.471,   34.680,2,   34.679,2, -999.000,9,  143.500,2,  159.510,2,   37.920,2,    0.000,2,    2.480,2, -999.000,9, -999.000,9, -999.000,9, -999.000,9, -999.000,9
           NA,    P03E,     67,   3,-999.0,      37,  2,19850409,1550,  24.2317, -137.9967,  4904, 4040.000,    1.472,   34.683,2,   34.683,2, -999.000,9,  149.100,2,  156.970,2,   37.470,2,    0.000,2,    2.440,2, -999.000,9, -999.000,9, -999.000,9, -999.000,9, -999.000,9
           NA,    P03E,     67,   3,-999.0,      34,  2,19850409,1550,  24.2317, -137.9967,  4904, 4339.300,    1.487,   34.685,2,   34.684,2, -999.000,9,  151.700,2,  153.110,2,   37.130,2,    0.000,2,    2.430,2, -999.000,9, -999.000,9, -999.000,9, -999.000,9, -999.000,9
           NA,    P03E,     67,   3,-999.0,      35,  2,19850409,1550,  24.2317, -137.9967,  4904, 4646.300,    1.475,   34.688,2,   34.687,2, -999.000,9,  159.400,2,  147.140,2,   36.540,2,    0.000,2,    2.390,2, -999.000,9, -999.000,9, -999.000,9, -999.000,9, -999.000,9
           NA,    P03E,     67,   3,-999.0,      36,  2,19850409,1550,  24.2317, -137.9967,  4904, 4956.900,    1.468,   34.691,2,   34.690,2, -999.000,9,  166.600,2,  141.760,2,   35.940,2,    0.000,2,    2.350,2, -999.000,9, -999.000,9, -999.000,9, -999.000,9, -999.000,9