BOTTLE,20203103JOAExport
EXPOCODE,SECT_ID,STNNBR,CASTNO,SAMPNO,BTLNBR,BTLNBR_FLAG_W,DATE,TIME,LATITUDE,LONGITUDE,DEPTH,CTDPRS,CTDTMP,CTDSAL,CTDSAL_FLAG_W,SALNTY,SALNTY_FLAG_W,CTDOXY,CTDOXY_FLAG_W,OXYGEN,OXYGEN_FLAG_W,SILCAT,SILCAT_FLAG_W,NITRAT,NITRAT_FLAG_W,NITRIT,NITRIT_FLAG_W,PHSPHT,PHSPHT_FLAG_W,CFC-11,CFC-11_FLAG_W,CFC-12,CFC-12_FLAG_W,SF6,SF6_FLAG_W,TCARBN,TCARBN_FLAG_W,ALKALI,ALKALI_FLAG_W
,,,,,,,,,,,,,DB,ITS-90,PSS-78,,PSS-78,,UMOL/KG,,UMOL/KG,,UMOL/KG,,UMOL/KG,,UMOL/KG,,UMOL/KG,,PMOL/KG,,PMOL/KG,,FMOL/KG,,UMOL/KG,,UMOL/KG
           NA,    P03W,    374,   1,-999.0,       5,  2,19850531,0733,  26.6050,  126.5283,  1535,    1.300,   27.605,   34.544,2,   34.548,2, -999.000,9,  203.900,2,    1.020,2,    0.030,2,    0.000,2,    0.020,2, -999.000,9, -999.000,9, -999.000,9, -999.000,9, -999.000,9
           NA,    P03W,    374,   1,-999.0,       3,  2,19850531,0733,  26.6050,  126.5283,  1535,   21.900,   27.493,   34.535,2,   34.537,2, -999.000,9,  204.700,2,    1.010,2,    0.040,2,    0.000,2,    0.010,2, -999.000,9, -999.000,9, -999.000,9, -999.000,9, -999.000,9
           NA,    P03W,    374,   1,-999.0,       4,  2,19850531,0733,  26.6050,  126.5283,  1535,   41.800,   25.997,   34.700,2,   34.689,2, -999.000,9,  202.100,2,    1.000,2,    0.070,2,    0.070,2,    0.050,2, -999.000,9, -999.000,9, -999.000,9, -999.000,9, -999.000,9
           NA,    P03W,    374,   1,-999.0,       1,  2,19850531,0733,  26.6050,  126.5283,  1535,   72.000,   25.247,   34.734,2,   34.734,2, -999.000,9,  193.600,2,    1.640,2,    0.520,2,    0.320,2,    0.100,2, -999.000,9, -999.000,9, -999.000,9, -999.000,9, -999.000,9
           NA,    P03W,    374,   1,-999.0,       6,  2,19850531,0733,  26.6050,  126.5283,  1535,  102.100,   24.800,   34.763,2,   34.763,2, -999.000,9,  194.000,2,    1.630,2,    0.710,2,    0.270,2,    0.100,2, -999.000,9, -999.000,9, -999.000,9, -999.000,9, -999.000,9
           NA,    P03W,    374,   1,-999.0,       7,  2,19850531,0733,  26.6050,  126.5283,  1535,  142.600,   23.259,   34.857,2,   34.850,2, -999.000,9,  190.600,2,    2.270,2,    1.440,2,    0.110,2,    0.130,2, -999.000,9, -999.000,9, -999.000,9, -999.000,9, -999.000,9
           NA,    P03W,    374,   1,-999.0,       8,  2,19850531,0733,  26.6050,  126.5283,  1535,  183.200,   20.399,   34.847,2,   34.846,2, -999.000,9,  179.600,2,    4.620,2,    4.430,2,    0.020,2,    0.330,2, -999.000,9, -999.000,9, -999.000,9, -999.000,9, -999.000,9
           NA,    P03W,    374,   1,-999.0,       9,  2,19850531,0733,  26.6050,  126.5283,  1535,  232.400,   17.990,   34.797,2,   34.796,2, -999.000,9,  186.400,2,    5.260,2,    5.990,2,    0.010,2,    0.390,2, -999.000,9, -999.000,9, -999.000,9, -999.000,9, -999.000,9
           NA,    P03W,    374,   1,-999.0,      10,  2,19850531,0733,  26.6050,  126.5283,  1535,  279.700,   17.243,   34.769,2,   34.767,2, -999.000,9,  187.200,2,    5.680,2,    6.700,2,    0.010,2,    0.460,2, -999.000,9, -999.000,9, -999.000,9, -999.000,9, -999.000,9
           NA,    P03W,    374,   1,-999.0,      11,  2,19850531,0733,  26.6050,  126.5283,  1535,  332.400,   16.046,   34.708,2,   34.705,2, -999.000,9,  188.800,2,    7.390,2,    8.150,2,    0.010,2,    0.540,2, -999.000,9, -999.000,9, -999.000,9, -999.000,9, -999.000,9
           NA,    P03W,    374,   1,-999.0,      12,  2,19850531,0733,  26.6050,  126.5283,  1535,  382.900,   14.916,   34.627,2,   34.626,2, -999.000,9,  177.600,2,   12.960,2,   11.020,2,    0.010,2,    0.740,2, -999.000,9, -999.000,9, -999.000,9, -999.000,9, -999.000,9
           NA,    P03W,    374,   1,-999.0,      13,  2,19850531,0733,  26.6050,  126.5283,  1535,  382.900,   14.916,   34.627,2,   34.626,2, -999.000,9,  178.000,2,   12.960,2,   11.020,2,    0.010,2,    0.740,2, -999.000,9, -999.000,9, -999.000,9, -999.000,9, -999.000,9
           NA,    P03W,    374,   1,-999.0,      14,  2,19850531,0733,  26.6050,  126.5283,  1535,  499.200,   11.445,   34.441,2,   34.440,2, -999.000,9,  144.100,2,   32.050,2,   19.830,2,    0.010,2,    1.350,2, -999.000,9, -999.000,9, -999.000,9, -999.000,9, -999.000,9
           NA,    P03W,    374,   1,-999.0,      15,  2,19850531,0733,  26.6050,  126.5283,  1535,  560.100,    9.658,   34.325,2,   34.320,2, -999.000,9,  138.200,2,   40.660,2,   23.530,2,    0.010,2,    1.620,2, -999.000,9, -999.000,9, -999.000,9, -999.000,9, -999.000,9
           NA,    P03W,    374,   1,-999.0,      16,  2,19850531,0733,  26.6050,  126.5283,  1535,  645.800,    7.108,   34.250,2,   34.249,2, -999.000,9,  107.800,2,   63.290,2,   30.630,2,    0.010,2,    2.130,2, -999.000,9, -999.000,9, -999.000,9, -999.000,9, -999.000,9
           NA,    P03W,    374,   1,-999.0,      17,  2,19850531,0733,  26.6050,  126.5283,  1535,  723.900,    6.157,   34.266,2,   34.265,2, -999.000,9,   92.500,2,   76.500,2,   33.550,2,    0.000,2,    2.350,2, -999.000,9, -999.000,9, -999.000,9, -999.000,9, -999.000,9
           NA,    P03W,    374,   1,-999.0,      18,  2,19850531,0733,  26.6050,  126.5283,  1535,  802.500,    5.417,   34.299,2,   34.299,2, -999.000,9,   81.900,2,   88.880,2,   35.740,2,    0.000,2,    2.510,2, -999.000,9, -999.000,9, -999.000,9, -999.000,9, -999.000,9
           NA,    P03W,    374,   1,-999.0,      23,  2,19850531,0733,  26.6050,  126.5283,  1535,  905.500,    4.502,   34.364,2,   34.364,2, -999.000,9,   74.800,2,  104.810,2,   37.900,2,    0.000,2,    2.660,2, -999.000,9, -999.000,9, -999.000,9, -999.000,9, -999.000,9
           NA,    P03W,    374,   1,-999.0,      20,  2,19850531,0733,  26.6050,  126.5283,  1535, 1006.500,    4.346,   34.393,2,   34.388,2, -999.000,9,   73.800,2,  110.080,2,   38.050,2,    0.000,2,    2.680,2, -999.000,9, -999.000,9, -999.000,9, -999.000,9, -999.000,9
           NA,    P03W,    374,   1,-999.0,      21,  2,19850531,0733,  26.6050,  126.5283,  1535, 1107.800,    4.220,   34.416,2,   34.416,2, -999.000,9,   75.300,2,  113.170,2,   38.050,2,    0.000,2,    2.670,2, -999.000,9, -999.000,9, -999.000,9, -999.000,9, -999.000,9
           NA,    P03W,    374,   1,-999.0,      22,  2,19850531,0733,  26.6050,  126.5283,  1535, 1305.800,    3.916,   34.427,2,   34.426,2, -999.000,9,   73.500,2,  117.580,2,   38.700,2,    0.000,2,    2.710,2, -999.000,9, -999.000,9, -999.000,9, -999.000,9, -999.000,9
           NA,    P03W,    374,   1,-999.0,      39,  2,19850531,0733,  26.6050,  126.5283,  1535, 1496.800,    3.798,   34.435,2,   34.434,2, -999.000,9,   73.600,2,  120.240,2,   39.000,2,    0.000,2,    2.720,2, -999.000,9, -999.000,9, -999.000,9, -999.000,9, -999.000,9
           NA,    P03W,    374,   1,-999.0,      24,  2,19850531,0733,  26.6050,  126.5283,  1535, 1641.600,    3.791,   34.438,2,   34.436,2, -999.000,9,   73.300,2,  120.920,2,   39.000,2,    0.000,2,    2.750,2, -999.000,9, -999.000,9, -999.000,9, -999.000,9, -999.000,9
           NA,    P03W,    372,   1,-999.0,       5,  2,19850531,0437,  26.4517,  126.6250,  1432,    3.100,   27.245,   34.438,2,   34.443,2, -999.000,9,  204.500,2,    1.270,2,    0.100,2,    0.000,2,    0.000,2,    1.364,2, -999.000,9, -999.000,9, -999.000,9, -999.000,9
           NA,    P03W,    372,   1,-999.0,      24,  2,19850531,0437,  26.4517,  126.6250,  1432,    3.200,   27.242,   34.438,2,   34.440,2, -999.000,9,  204.000,2,    0.980,2,    0.030,2,    0.000,2,    0.010,2, -999.000,9, -999.000,9, -999.000,9, -999.000,9, -999.000,9
           NA,    P03W,    372,   1,-999.0,       3,  2,19850531,0437,  26.4517,  126.6250,  1432,   22.700,   27.193,   34.444,2,   34.445,2, -999.000,9,  205.300,2,    0.980,2,    0.040,2,    0.000,2,    0.010,2, -999.000,9, -999.000,9, -999.000,9, -999.000,9, -999.000,9
           NA,    P03W,    372,   1,-999.0,       4,  2,19850531,0437,  26.4517,  126.6250,  1432,   41.200,   27.078,   34.513,2,   34.502,2, -999.000,9,  205.800,2,    1.270,2,    0.100,2,    0.000,2,    0.010,2, -999.000,9, -999.000,9, -999.000,9, -999.000,9, -999.000,9
           NA,    P03W,    372,   1,-999.0,       1,  2,19850531,0437,  26.4517,  126.6250,  1432,   71.700,   26.356,   34.665,2,   34.663,2, -999.000,9,  200.900,2,    1.170,2,    0.080,2,    0.070,2,    0.040,2,    1.357,2,    0.755,2, -999.000,9, -999.000,9, -999.000,9
           NA,    P03W,    372,   1,-999.0,       6,  2,19850531,0437,  26.4517,  126.6250,  1432,  102.500,   24.499,   34.761,2,   34.753,2, -999.000,9,  190.700,2,    2.440,2,    0.980,2,    0.280,2,    0.130,2, -999.000,9, -999.000,9, -999.000,9, -999.000,9, -999.000,9
           NA,    P03W,    372,   1,-999.0,       7,  2,19850531,0437,  26.4517,  126.6250,  1432,  142.700,   21.392,   34.811,2,   34.813,2, -999.000,9,  216.700,2,    1.370,2,    0.370,2,    0.090,2,    0.040,2,    1.693,2,    0.895,2, -999.000,9, -999.000,9, -999.000,9
           NA,    P03W,    372,   1,-999.0,       8,  2,19850531,0437,  26.4517,  126.6250,  1432,  183.100,   19.240,   34.835,2,   34.834,2, -999.000,9,  184.800,2,    4.590,2,    4.880,2,    0.020,2,    0.320,2,    1.494,2,    0.773,2, -999.000,9, -999.000,9, -999.000,9
           NA,    P03W,    372,   1,-999.0,       9,  2,19850531,0437,  26.4517,  126.6250,  1432,  233.100,   17.945,   34.807,2,   34.805,2, -999.000,9,  193.000,2,    4.980,2,    5.350,2,    0.010,2,    0.340,2,    1.591,2,    0.838,2, -999.000,9, -999.000,9, -999.000,9
           NA,    P03W,    372,   1,-999.0,      10,  2,19850531,0437,  26.4517,  126.6250,  1432,  283.300,   16.822,   34.755,2,   34.753,2, -999.000,9,  192.100,2,    6.450,2,    6.790,2,    0.010,2,    0.430,2,    1.500,2,    0.756,2, -999.000,9, -999.000,9, -999.000,9
           NA,    P03W,    372,   1,-999.0,      11,  2,19850531,0437,  26.4517,  126.6250,  1432,  332.700,   16.002,   34.703,2,   34.703,2, -999.000,9,  187.700,2,    7.430,2,    8.200,2,    0.010,2,    0.540,2,    1.430,2,    0.720,2, -999.000,9, -999.000,9, -999.000,9
           NA,    P03W,    372,   1,-999.0,      12,  2,19850531,0437,  26.4517,  126.6250,  1432,  381.800,   14.939,   34.637,2,   34.637,2, -999.000,9,  192.400,2,    9.090,2,    9.560,2,    0.010,2,    0.600,2,    1.397,2,    0.712,2, -999.000,9, -999.000,9, -999.000,9
           NA,    P03W,    372,   1,-999.0,      13,  2,19850531,0437,  26.4517,  126.6250,  1432,  439.700,   13.739,   34.539,2,   34.538,2, -999.000,9,  184.100,2,   13.590,2,   12.220,2,    0.010,2,    0.780,2,    1.240,2,    0.608,2, -999.000,9, -999.000,9, -999.000,9
           NA,    P03W,    372,   1,-999.0,      14,  2,19850531,0437,  26.4517,  126.6250,  1432,  499.000,   11.891,   34.401,2,   34.400,2, -999.000,9,  172.800,2,   21.610,2,   16.130,2,    0.010,2,    1.080,2,    1.007,2,    0.522,2, -999.000,9, -999.000,9, -999.000,9
           NA,    P03W,    372,   1,-999.0,      15,  2,19850531,0437,  26.4517,  126.6250,  1432,  560.200,    9.919,   34.283,2,   34.281,2, -999.000,9,  157.900,2,   33.730,2,   21.020,2,    0.010,2,    1.430,2,    0.816,2,    0.402,2, -999.000,9, -999.000,9, -999.000,9
           NA,    P03W,    372,   1,-999.0,      16,  2,19850531,0437,  26.4517,  126.6250,  1432,  643.300,    7.932,   34.206,2,   34.211,2, -999.000,9,  129.200,2,   49.670,2,   27.080,2,    0.010,2,    1.860,2, -999.000,9, -999.000,9, -999.000,9, -999.000,9, -999.000,9
           NA,    P03W,    372,   1,-999.0,      17,  2,19850531,0437,  26.4517,  126.6250,  1432,  724.100,    6.233,   34.234,2,   34.233,2, -999.000,9,   94.400,2,   72.650,2,   33.240,2,    0.010,2,    2.310,2,    0.223,2,    0.110,2, -999.000,9, -999.000,9, -999.000,9
           NA,    P03W,    372,   1,-999.0,      18,  2,19850531,0437,  26.4517,  126.6250,  1432,  804.000,    5.507,   34.275,2,   34.275,2, -999.000,9,   83.900,2,   85.650,2,   35.490,2,    0.000,2,    2.490,2,    0.145,2,    0.069,2, -999.000,9, -999.000,9, -999.000,9
           NA,    P03W,    372,   1,-999.0,      23,  2,19850531,0437,  26.4517,  126.6250,  1432,  906.300,    4.874,   34.321,2,   34.321,2, -999.000,9,   75.200,2,   96.690,2,   37.150,2,    0.000,2,    2.590,2,    0.087,2,    0.042,2, -999.000,9, -999.000,9, -999.000,9
           NA,    P03W,    372,   1,-999.0,      20,  2,19850531,0437,  26.4517,  126.6250,  1432, 1006.000,    4.382,   34.369,2,   34.370,2, -999.000,9,   73.500,2,  106.270,2,   38.230,2,    0.000,2,    2.670,2,    0.057,2, -999.000,9, -999.000,9, -999.000,9, -999.000,9
           NA,    P03W,    372,   1,-999.0,      21,  2,19850531,0437,  26.4517,  126.6250,  1432, 1101.600,    4.252,   34.389,2,   34.389,2, -999.000,9,   73.500,2,  109.400,2,   38.230,2,    0.000,2,    2.660,2, -999.000,9, -999.000,9, -999.000,9, -999.000,9, -999.000,9
           NA,    P03W,    372,   1,-999.0,      22,  2,19850531,0437,  26.4517,  126.6250,  1432, 1303.500,    3.831,   34.424,2,   34.423,2, -999.000,9,   73.900,2,  115.940,2,   39.200,2,    0.000,2,    2.720,2, -999.000,9,    0.020,2, -999.000,9, -999.000,9, -999.000,9
           NA,    P03W,    372,   1,-999.0,      39,  2,19850531,0437,  26.4517,  126.6250,  1432, 1468.300,    3.778,   34.431,2,   34.430,2, -999.000,9,   73.000,2,  117.310,2,   39.100,2,    0.000,2,    2.740,2,    0.024,2,    0.012,2, -999.000,9, -999.000,9, -999.000,9
           NA,    P03W,    370,   2,-999.0,       5,  2,19850531,0234,  26.3867,  126.7067,   279,    1.000,   27.256,   34.473,2,   34.475,2, -999.000,9,  204.000,2,    1.560,2,    0.130,2,    0.000,2,    0.020,2, -999.000,9, -999.000,9, -999.000,9, -999.000,9, -999.000,9
           NA,    P03W,    370,   2,-999.0,      16,  2,19850531,0234,  26.3867,  126.7067,   279,   20.200,   27.106,   34.490,2,   34.491,2, -999.000,9,  205.300,2,    1.470,2,    0.120,2,    0.000,2,    0.020,2, -999.000,9, -999.000,9, -999.000,9, -999.000,9, -999.000,9
           NA,    P03W,    370,   2,-999.0,      17,  2,19850531,0234,  26.3867,  126.7067,   279,   40.600,   26.881,   34.543,2,   34.537,2, -999.000,9,  204.900,2,    1.470,2,    0.000,2,    0.000,2,    0.020,2, -999.000,9, -999.000,9, -999.000,9, -999.000,9, -999.000,9
           NA,    P03W,    370,   2,-999.0,      18,  2,19850531,0234,  26.3867,  126.7067,   279,   70.600,   23.797,   34.751,2,   34.751,2, -999.000,9,  201.100,2,    2.350,2,    0.910,2,    0.180,2,    0.120,2, -999.000,9, -999.000,9, -999.000,9, -999.000,9, -999.000,9
           NA,    P03W,    370,   2,-999.0,      23,  2,19850531,0234,  26.3867,  126.7067,   279,  100.900,   22.934,   34.777,2,   34.776,2, -999.000,9,  203.700,2,    2.050,2,    0.720,2,    0.130,2,    0.100,2, -999.000,9, -999.000,9, -999.000,9, -999.000,9, -999.000,9
           NA,    P03W,    370,   2,-999.0,      20,  2,19850531,0234,  26.3867,  126.7067,   279,  140.700,   20.265,   34.826,2,   34.825,2, -999.000,9,  206.200,2,    2.740,2,    1.890,2,    0.090,2,    0.150,2, -999.000,9, -999.000,9, -999.000,9, -999.000,9, -999.000,9
           NA,    P03W,    370,   2,-999.0,      21,  2,19850531,0234,  26.3867,  126.7067,   279,  180.500,   18.617,   34.820,2,   34.819,2, -999.000,9,  198.200,2,    3.520,2,    3.950,2,    0.020,2,    0.260,2, -999.000,9, -999.000,9, -999.000,9, -999.000,9, -999.000,9
           NA,    P03W,    370,   2,-999.0,      22,  2,19850531,0234,  26.3867,  126.7067,   279,  229.600,   17.034,   34.770,2,   34.767,2, -999.000,9,  192.100,2,    5.670,2,    6.330,2,    0.010,2,    0.420,2, -999.000,9, -999.000,9, -999.000,9, -999.000,9, -999.000,9
           NA,    P03W,    370,   2,-999.0,      39,  2,19850531,0234,  26.3867,  126.7067,   279,  275.900,   16.521,   34.745,2,   34.744,2, -999.000,9,  195.100,2,    6.940,2,    6.990,2,    0.010,2,    0.460,2, -999.000,9, -999.000,9, -999.000,9, -999.000,9, -999.000,9
           NA,    P03W,    370,   2,-999.0,      24,  2,19850531,0234,  26.3867,  126.7067,   279,  308.500,   16.254,   34.731,2,   34.730,2, -999.000,9,  194.200,2,    7.130,2,    7.210,2,    0.010,2,    0.480,2, -999.000,9, -999.000,9, -999.000,9, -999.000,9, -999.000,9
           NA,    P03W,    369,   1,-999.0,       5,  2,19850530,1738,  25.9133,  127.1950,   362,    2.200,   25.708,   34.339,2,   34.411,2, -999.000,9,  209.200,2,    1.100,2,    0.000,2,    0.000,2,    0.000,2,    1.473,2,    0.769,2, -999.000,9, -999.000,9, -999.000,9
           NA,    P03W,    369,   1,-999.0,      16,  2,19850530,1738,  25.9133,  127.1950,   362,   22.300,   24.774,   34.820,2,   34.820,2, -999.000,9,  216.900,2,    1.110,2,    0.000,2,    0.000,2,    0.000,2, -999.000,9, -999.000,9, -999.000,9, -999.000,9, -999.000,9
           NA,    P03W,    369,   1,-999.0,      17,  2,19850530,1738,  25.9133,  127.1950,   362,   42.600,   23.694,   34.842,2,   34.844,2, -999.000,9,  222.300,2,    1.110,2,    0.000,2,    0.000,2,    0.000,2, -999.000,9, -999.000,9, -999.000,9, -999.000,9, -999.000,9
           NA,    P03W,    369,   1,-999.0,      18,  2,19850530,1738,  25.9133,  127.1950,   362,   72.700,   21.065,   34.874,2,   34.875,2, -999.000,9,  222.300,2,    1.330,2,    0.000,2,    0.010,2,    0.040,2, -999.000,9, -999.000,9, -999.000,9, -999.000,9, -999.000,9
           NA,    P03W,    369,   1,-999.0,      23,  2,19850530,1738,  25.9133,  127.1950,   362,  102.600,   20.259,   34.865,2,   34.866,2, -999.000,9,  214.200,2,    1.760,2,    0.250,2,    0.080,2,    0.090,2, -999.000,9, -999.000,9, -999.000,9, -999.000,9, -999.000,9
           NA,    P03W,    369,   1,-999.0,      20,  2,19850530,1738,  25.9133,  127.1950,   362,  142.400,   19.601,   34.855,2,   34.856,2, -999.000,9,  206.900,2,    2.410,2,    1.600,2,    0.140,2,    0.180,2,    1.657,2,    0.825,2, -999.000,9, -999.000,9, -999.000,9
           NA,    P03W,    369,   1,-999.0,      21,  2,19850530,1738,  25.9133,  127.1950,   362,  182.900,   19.080,   34.851,2,   34.851,2, -999.000,9,  202.800,2,    2.840,2,    2.570,2,    0.100,2,    0.230,2, -999.000,9, -999.000,9, -999.000,9, -999.000,9, -999.000,9
           NA,    P03W,    369,   1,-999.0,      22,  2,19850530,1738,  25.9133,  127.1950,   362,  233.000,   17.615,   34.814,2,   34.815,2, -999.000,9,  200.400,2,    4.130,2,    4.770,2,    0.020,2,    0.370,2,    1.685,2,    0.835,2, -999.000,9, -999.000,9, -999.000,9
           NA,    P03W,    369,   1,-999.0,      39,  2,19850530,1738,  25.9133,  127.1950,   362,  282.600,   16.765,   34.772,2,   34.771,2, -999.000,9,  199.800,2,    5.630,2,    6.140,2,    0.010,2,    0.460,2, -999.000,9, -999.000,9, -999.000,9, -999.000,9, -999.000,9
           NA,    P03W,    369,   1,-999.0,      24,  2,19850530,1738,  25.9133,  127.1950,   362,  357.900,   15.948,   34.717,2,   34.718,2, -999.000,9,  197.400,2,    6.860,2,    7.400,2,    0.010,2,    0.490,2,    1.542,2,    0.749,2, -999.000,9, -999.000,9, -999.000,9