BOTTLE,20203103JOAExport
EXPOCODE,SECT_ID,STNNBR,CASTNO,SAMPNO,BTLNBR,BTLNBR_FLAG_W,DATE,TIME,LATITUDE,LONGITUDE,DEPTH,CTDPRS,CTDTMP,CTDSAL,CTDSAL_FLAG_W,SALNTY,SALNTY_FLAG_W,CTDOXY,CTDOXY_FLAG_W,OXYGEN,OXYGEN_FLAG_W,SILCAT,SILCAT_FLAG_W,NITRAT,NITRAT_FLAG_W,NITRIT,NITRIT_FLAG_W,PHSPHT,PHSPHT_FLAG_W,CFC-11,CFC-11_FLAG_W,CFC-12,CFC-12_FLAG_W,SF6,SF6_FLAG_W,TCARBN,TCARBN_FLAG_W,ALKALI,ALKALI_FLAG_W
,,,,,,,,,,,,,DB,ITS-90,PSS-78,,PSS-78,,UMOL/KG,,UMOL/KG,,UMOL/KG,,UMOL/KG,,UMOL/KG,,UMOL/KG,,PMOL/KG,,PMOL/KG,,FMOL/KG,,UMOL/KG,,UMOL/KG
           NA,    P03E,    148,   1,-999.0,       1,  2,19850422,1729,  24.6000, -166.6633,  4053,    2.000,   23.218,   35.327,2,   35.329,2, -999.000,9,  216.200,2,    0.870,2,    0.010,2,    0.000,2,    0.070,2,    1.636,2,    0.828,2, -999.000,9, -999.000,9, -999.000,9
           NA,    P03E,    148,   1,-999.0,       2,  2,19850422,1729,  24.6000, -166.6633,  4053,   52.900,   22.255,   35.304,2,   35.307,2, -999.000,9,  221.100,2,    0.810,2,    0.010,2,    0.000,2,    0.070,2,    1.716,2,    0.864,2, -999.000,9, -999.000,9, -999.000,9
           NA,    P03E,    148,   1,-999.0,       3,  2,19850422,1729,  24.6000, -166.6633,  4053,  103.300,   19.614,   35.056,2,   35.216,2, -999.000,9,  217.100,2,    1.730,2,    0.550,2,    0.050,2,    0.120,2,    1.698,2,    0.860,2, -999.000,9, -999.000,9, -999.000,9
           NA,    P03E,    148,   1,-999.0,       4,  2,19850422,1729,  24.6000, -166.6633,  4053,  154.100,   17.108,   34.807,2,   34.809,2, -999.000,9,  206.600,2,    4.040,2,    4.140,2,    0.030,2,    0.380,2,    1.895,2,    0.934,2, -999.000,9, -999.000,9, -999.000,9
           NA,    P03E,    148,   1,-999.0,       5,  2,19850422,1729,  24.6000, -166.6633,  4053,  204.800,   16.090,   34.705,2,   34.707,2, -999.000,9,  206.600,2,    4.760,2,    5.470,2,    0.010,2,    0.460,2,    1.853,2,    0.915,2, -999.000,9, -999.000,9, -999.000,9
           NA,    P03E,    148,   1,-999.0,       6,  2,19850422,1729,  24.6000, -166.6633,  4053,  305.500,   12.562,   34.393,2,   34.391,2, -999.000,9,  208.200,2,   11.990,2,   11.050,2,    0.000,2,    0.810,2,    1.728,2,    0.831,2, -999.000,9, -999.000,9, -999.000,9
           NA,    P03E,    148,   1,-999.0,       7,  2,19850422,1729,  24.6000, -166.6633,  4053,  406.000,    9.865,   34.192,2,   34.190,2, -999.000,9,  186.200,2,   23.740,2,   18.200,2,    0.000,2,    1.280,2,    1.228,2,    0.593,2, -999.000,9, -999.000,9, -999.000,9
           NA,    P03E,    148,   1,-999.0,       8,  2,19850422,1729,  24.6000, -166.6633,  4053,  505.900,    7.330,   34.061,2,   34.060,2, -999.000,9,  147.900,2,   43.760,2,   26.750,2,    0.000,2,    1.860,2,    0.649,2,    0.321,2, -999.000,9, -999.000,9, -999.000,9
           NA,    P03E,    148,   1,-999.0,       9,  2,19850422,1729,  24.6000, -166.6633,  4053,  605.700,    5.850,   34.059,2,   34.058,2, -999.000,9,   99.900,2,   66.160,2,   33.810,2,    0.000,2,    2.360,2,    0.262,2,    0.146,2, -999.000,9, -999.000,9, -999.000,9
           NA,    P03E,    148,   1,-999.0,      10,  2,19850422,1729,  24.6000, -166.6633,  4053,  707.300,    5.136,   34.106,2,   34.106,2, -999.000,9,   70.700,2,   81.460,2,   37.680,2,    0.000,2,    2.640,2,    0.115,6,    0.066,6, -999.000,9, -999.000,9, -999.000,9
           NA,    P03E,    148,   1,-999.0,      11,  2,19850422,1729,  24.6000, -166.6633,  4053,  858.300,    4.127,   34.332,2,   34.332,2, -999.000,9,   36.900,2,  109.300,2,   42.130,2,    0.000,2,    2.960,2,    0.002,2,    0.002,6, -999.000,9, -999.000,9, -999.000,9
           NA,    P03E,    148,   1,-999.0,      12,  2,19850422,1729,  24.6000, -166.6633,  4053, 1007.000,    3.696,   34.401,2,   34.403,2, -999.000,9,   38.300,2,  119.890,2,   42.610,2,    0.000,2,    2.980,2,    0.010,2,    0.012,2, -999.000,9, -999.000,9, -999.000,9
           NA,    P03E,    148,   1,-999.0,      13,  2,19850422,1729,  24.6000, -166.6633,  4053, 1206.200,    3.192,   34.479,2,   34.480,2, -999.000,9,   48.700,2,  131.280,2,   42.390,2,    0.000,2,    2.930,2, -999.000,9, -999.000,9, -999.000,9, -999.000,9, -999.000,9
           NA,    P03E,    148,   1,-999.0,      14,  2,19850422,1729,  24.6000, -166.6633,  4053, 1408.300,    2.777,   34.536,2,   34.537,2, -999.000,9,   63.300,2,  139.290,2,   41.800,2,    0.000,2,    2.920,2, -999.000,9, -999.000,9, -999.000,9, -999.000,9, -999.000,9
           NA,    P03E,    148,   1,-999.0,      15,  2,19850422,1729,  24.6000, -166.6633,  4053, 1611.200,    2.470,   34.574,2,   34.575,2, -999.000,9,   79.500,2,  143.680,2,   40.960,2,    0.000,2,    2.820,2,   -0.002,2,   -0.003,2, -999.000,9, -999.000,9, -999.000,9
           NA,    P03E,    148,   1,-999.0,      16,  2,19850422,1729,  24.6000, -166.6633,  4053, 1814.200,    2.191,   34.595,2,   34.595,2, -999.000,9,   86.200,2,  150.890,2,   40.480,2,    0.000,2,    2.800,2, -999.000,9, -999.000,9, -999.000,9, -999.000,9, -999.000,9
           NA,    P03E,    148,   1,-999.0,      38,  2,19850422,1729,  24.6000, -166.6633,  4053, 2120.700,    1.918,   34.620,2,   34.621,2, -999.000,9,   97.900,2,  155.680,2,   39.430,2,    0.000,2,    2.740,2, -999.000,9, -999.000,9, -999.000,9, -999.000,9, -999.000,9
           NA,    P03E,    148,   1,-999.0,      18,  2,19850422,1729,  24.6000, -166.6633,  4053, 2425.600,    1.773,   34.635,2, -999.000,5, -999.000,9,  106.800,2,  158.460,2,   39.270,2,    0.000,2,    2.710,2, -999.000,9, -999.000,9, -999.000,9, -999.000,9, -999.000,9
           NA,    P03E,    148,   1,-999.0,      19,  2,19850422,1729,  24.6000, -166.6633,  4053, 2729.200,    1.638,   34.651,2,   34.652,2, -999.000,9,  119.900,2,  160.830,2,   38.380,2,    0.000,2,    2.660,2, -999.000,9, -999.000,9, -999.000,9, -999.000,9, -999.000,9
           NA,    P03E,    148,   1,-999.0,      20,  2,19850422,1729,  24.6000, -166.6633,  4053, 3032.600,    1.541,   34.664,2,   34.663,2, -999.000,9,  132.500,2,  158.560,2,   37.810,2,    0.000,2,    2.580,2,    0.004,2,   -0.003,2, -999.000,9, -999.000,9, -999.000,9
           NA,    P03E,    148,   1,-999.0,      21,  2,19850422,1729,  24.6000, -166.6633,  4053, 3338.100,    1.486,   34.672,2,   34.671,2, -999.000,9,  139.600,2,  156.510,2,   37.180,2,    0.000,2,    2.540,2, -999.000,9, -999.000,9, -999.000,9, -999.000,9, -999.000,9
           NA,    P03E,    148,   1,-999.0,      39,  2,19850422,1729,  24.6000, -166.6633,  4053, 3646.400,    1.446,   34.679,2,   34.678,2, -999.000,9,  148.200,2,  154.060,2,   36.710,2,    0.000,2,    2.490,2, -999.000,9, -999.000,9, -999.000,9, -999.000,9, -999.000,9
           NA,    P03E,    148,   1,-999.0,      23,  2,19850422,1729,  24.6000, -166.6633,  4053, 3951.200,    1.442,   34.683,2,   34.682,2, -999.000,9,  152.400,2,  152.010,2,   36.350,2,    0.000,2,    2.450,2,    0.000,2,   -0.001,2, -999.000,9, -999.000,9, -999.000,9
           NA,    P03E,    148,   1,-999.0,      24,  2,19850422,1729,  24.6000, -166.6633,  4053, 4313.900,    1.461,   34.685,2,   34.685,2, -999.000,9,  155.300,2,  150.770,2,   36.300,2,    0.000,2,    2.460,2,    0.004,2,    0.002,2, -999.000,9, -999.000,9, -999.000,9
           NA,    P03E,    146,   1,-999.0,       1,  2,19850422,1229,  24.6767, -166.5600,  5139,    0.700,   23.185,   35.325,2,   35.327,2, -999.000,9,  218.500,2,    1.250,2, -999.000,5,    0.000,2,    0.070,2, -999.000,9, -999.000,9, -999.000,9, -999.000,9, -999.000,9
           NA,    P03E,    146,   1,-999.0,       2,  2,19850422,1229,  24.6767, -166.5600,  5139,   54.000,   21.378,   35.227,2,   35.230,2, -999.000,9,  222.300,2,    1.190,2, -999.000,5,    0.000,2,    0.070,2, -999.000,9, -999.000,9, -999.000,9, -999.000,9, -999.000,9
           NA,    P03E,    146,   1,-999.0,       3,  2,19850422,1229,  24.6767, -166.5600,  5139,  103.800,   19.538,   35.058,2,   35.059,2, -999.000,9,  215.700,2,    2.840,2, -999.000,5,    0.110,2,    0.180,2, -999.000,9, -999.000,9, -999.000,9, -999.000,9, -999.000,9
           NA,    P03E,    146,   1,-999.0,       4,  2,19850422,1229,  24.6767, -166.5600,  5139,  154.700,   17.634,   34.887,2,   34.887,2, -999.000,9,  213.400,2,    3.360,2, -999.000,5,    0.050,2,    0.300,2, -999.000,9, -999.000,9, -999.000,9, -999.000,9, -999.000,9
           NA,    P03E,    146,   1,-999.0,       5,  2,19850422,1229,  24.6767, -166.5600,  5139,  204.300,   15.972,   34.695,2,   34.695,2, -999.000,9,  206.800,2,    5.390,2, -999.000,5,    0.010,2,    0.480,2, -999.000,9, -999.000,9, -999.000,9, -999.000,9, -999.000,9
           NA,    P03E,    146,   1,-999.0,       6,  2,19850422,1229,  24.6767, -166.5600,  5139,  306.100,   13.143,   34.443,2,   34.448,2, -999.000,9,  209.400,2,   10.660,2, -999.000,5,    0.000,2,    0.740,2, -999.000,9, -999.000,9, -999.000,9, -999.000,9, -999.000,9
           NA,    P03E,    146,   1,-999.0,       7,  2,19850422,1229,  24.6767, -166.5600,  5139,  405.300,   10.138,   34.210,2,   34.212,2, -999.000,9,  189.700,2,   22.790,2, -999.000,5,    0.000,2,    1.250,2, -999.000,9, -999.000,9, -999.000,9, -999.000,9, -999.000,9
           NA,    P03E,    146,   1,-999.0,       8,  2,19850422,1229,  24.6767, -166.5600,  5139,  548.800,    7.707,   34.073,2,   34.074,2, -999.000,9,  156.200,2,   41.010,2, -999.000,5,    0.000,2,    1.840,2, -999.000,9, -999.000,9, -999.000,9, -999.000,9, -999.000,9
           NA,    P03E,    146,   1,-999.0,       9,  2,19850422,1229,  24.6767, -166.5600,  5139,  698.300,    5.537,   34.073,2,   34.071,2, -999.000,9,   86.500,2,   73.040,2, -999.000,5,    0.000,2,    2.560,2, -999.000,9, -999.000,9, -999.000,9, -999.000,9, -999.000,9
           NA,    P03E,    146,   1,-999.0,      10,  2,19850422,1229,  24.6767, -166.5600,  5139,  849.800,    4.318,   34.228,2,   34.226,2, -999.000,9,   40.000,2,  104.100,2, -999.000,5,    0.000,2,    3.010,2, -999.000,9, -999.000,9, -999.000,9, -999.000,9, -999.000,9
           NA,    P03E,    146,   1,-999.0,      11,  2,19850422,1229,  24.6767, -166.5600,  5139, 1002.900,    3.863,   34.367,2,   34.367,2, -999.000,9,   37.000,2,  118.100,2, -999.000,5,    0.000,2,    3.090,2, -999.000,9, -999.000,9, -999.000,9, -999.000,9, -999.000,9
           NA,    P03E,    146,   1,-999.0,      12,  2,19850422,1229,  24.6767, -166.5600,  5139, 1208.700,    3.318,   34.483,2,   34.484,2, -999.000,9,   53.900,2,  128.850,2, -999.000,5,    0.000,2,    3.050,2, -999.000,9, -999.000,9, -999.000,9, -999.000,9, -999.000,9
           NA,    P03E,    146,   1,-999.0,      13,  2,19850422,1229,  24.6767, -166.5600,  5139, 1515.700,    2.648,   34.558,2,   34.558,2, -999.000,9,   71.700,2,  142.960,2, -999.000,5,    0.000,2,    2.980,2, -999.000,9, -999.000,9, -999.000,9, -999.000,9, -999.000,9
           NA,    P03E,    146,   1,-999.0,      14,  2,19850422,1229,  24.6767, -166.5600,  5139, 1819.700,    2.178,   34.596,2,   34.595,2, -999.000,9,   86.900,2,  153.590,2, -999.000,5,    0.000,2,    2.910,2, -999.000,9, -999.000,9, -999.000,9, -999.000,9, -999.000,9
           NA,    P03E,    146,   1,-999.0,      15,  2,19850422,1229,  24.6767, -166.5600,  5139, 2122.900,    1.909,   34.621,2,   34.620,2, -999.000,9,   99.500,2,  157.750,2, -999.000,5,    0.000,2,    2.850,2, -999.000,9, -999.000,9, -999.000,9, -999.000,9, -999.000,9
           NA,    P03E,    146,   1,-999.0,      16,  2,19850422,1229,  24.6767, -166.5600,  5139, 2424.700,    1.743,   34.640,2,   34.638,2, -999.000,9,  112.100,2,  161.770,2, -999.000,5,    0.010,2,    2.780,2, -999.000,9, -999.000,9, -999.000,9, -999.000,9, -999.000,9
           NA,    P03E,    146,   1,-999.0,      38,  2,19850422,1229,  24.6767, -166.5600,  5139, 2704.200,    1.627,   34.652,2,   34.652,2, -999.000,9,  121.700,2,  161.620,2, -999.000,5,    0.010,2,    2.740,2, -999.000,9, -999.000,9, -999.000,9, -999.000,9, -999.000,9
           NA,    P03E,    146,   1,-999.0,      18,  2,19850422,1229,  24.6767, -166.5600,  5139, 3036.800,    1.547,   34.663,2,   34.663,2, -999.000,9,  130.800,2,  161.670,2, -999.000,5,    0.000,2,    2.660,2, -999.000,9, -999.000,9, -999.000,9, -999.000,9, -999.000,9
           NA,    P03E,    146,   1,-999.0,      19,  2,19850422,1229,  24.6767, -166.5600,  5139, 3381.600,    1.485,   34.671,2,   34.672,2, -999.000,9,  140.400,2,  159.360,2, -999.000,5,    0.000,2,    2.630,2, -999.000,9, -999.000,9, -999.000,9, -999.000,9, -999.000,9
           NA,    P03E,    146,   1,-999.0,      20,  2,19850422,1229,  24.6767, -166.5600,  5139, 3746.700,    1.444,   34.679,2,   34.679,2, -999.000,9,  149.900,2,  156.850,2, -999.000,5,    0.000,2,    2.580,2, -999.000,9, -999.000,9, -999.000,9, -999.000,9, -999.000,9
           NA,    P03E,    146,   1,-999.0,      21,  2,19850422,1229,  24.6767, -166.5600,  5139, 4109.000,    1.446,   34.683,2,   34.683,2, -999.000,9,  153.800,2,  154.750,2, -999.000,5,    0.000,2,    2.560,2, -999.000,9, -999.000,9, -999.000,9, -999.000,9, -999.000,9
           NA,    P03E,    146,   1,-999.0,      39,  2,19850422,1229,  24.6767, -166.5600,  5139, 4464.400,    1.472,   34.684,2,   34.685,2, -999.000,9,  156.000,2,  152.450,2, -999.000,5,    0.000,2,    2.560,2, -999.000,9, -999.000,9, -999.000,9, -999.000,9, -999.000,9
           NA,    P03E,    146,   1,-999.0,      23,  2,19850422,1229,  24.6767, -166.5600,  5139, 4833.500,    1.509,   34.685,2,   34.685,2, -999.000,9,  157.700,2,  150.150,2, -999.000,5,    0.000,2,    2.550,2, -999.000,9, -999.000,9, -999.000,9, -999.000,9, -999.000,9
           NA,    P03E,    146,   1,-999.0,      24,  2,19850422,1229,  24.6767, -166.5600,  5139, 5217.300,    1.556,   34.685,2,   34.686,2, -999.000,9,  159.000,2,  150.010,2, -999.000,5,    0.010,2,    2.540,2, -999.000,9, -999.000,9, -999.000,9, -999.000,9, -999.000,9