BOTTLE,20203103JOAExport
EXPOCODE,SECT_ID,STNNBR,CASTNO,SAMPNO,BTLNBR,BTLNBR_FLAG_W,DATE,TIME,LATITUDE,LONGITUDE,DEPTH,CTDPRS,CTDTMP,CTDSAL,CTDSAL_FLAG_W,SALNTY,SALNTY_FLAG_W,CTDOXY,CTDOXY_FLAG_W,OXYGEN,OXYGEN_FLAG_W,SILCAT,SILCAT_FLAG_W,NITRAT,NITRAT_FLAG_W,NITRIT,NITRIT_FLAG_W,PHSPHT,PHSPHT_FLAG_W,CFC-11,CFC-11_FLAG_W,CFC-12,CFC-12_FLAG_W,SF6,SF6_FLAG_W,TCARBN,TCARBN_FLAG_W,ALKALI,ALKALI_FLAG_W
,,,,,,,,,,,,,DB,ITS-90,PSS-78,,PSS-78,,UMOL/KG,,UMOL/KG,,UMOL/KG,,UMOL/KG,,UMOL/KG,,UMOL/KG,,PMOL/KG,,PMOL/KG,,FMOL/KG,,UMOL/KG,,UMOL/KG
           NA,    P03W,    255,   2,-999.0,       1,  2,19850513,2256,  24.2317,  156.8417,  5707,    0.000,   25.593,   34.991,2,   34.993,2, -999.000,9,  209.900,2,    1.190,2,    0.100,2,    0.000,2,    0.020,2,    1.493,2,    0.794,2, -999.000,9, -999.000,9, -999.000,9
           NA,    P03W,    255,   2,-999.0,       2,  2,19850513,2256,  24.2317,  156.8417,  5707,   23.800,   24.957,   34.950,2,   34.954,2, -999.000,9,  211.700,2,    1.130,2,    0.100,2,    0.000,2,    0.020,2, -999.000,9, -999.000,9, -999.000,9, -999.000,9, -999.000,9
           NA,    P03W,    255,   2,-999.0,       3,  2,19850513,2256,  24.2317,  156.8417,  5707,   44.200,   23.827,   35.020,2,   35.015,2, -999.000,9,  216.400,2,    1.060,2,    0.100,2,    0.000,2,    0.020,2,    1.572,2,    0.833,2, -999.000,9, -999.000,9, -999.000,9
           NA,    P03W,    255,   2,-999.0,       4,  2,19850513,2256,  24.2317,  156.8417,  5707,   74.600,   20.984,   34.988,2,   34.990,2, -999.000,9,  222.300,2,    1.640,2,    0.100,2,    0.000,2,    0.030,2, -999.000,9, -999.000,9, -999.000,9, -999.000,9, -999.000,9
           NA,    P03W,    255,   2,-999.0,       5,  2,19850513,2256,  24.2317,  156.8417,  5707,  104.100,   19.027,   34.907,2,   34.905,2, -999.000,9,  201.700,2,    2.000,2,    1.660,2,    0.070,2,    0.190,2,    1.708,2,    0.891,2, -999.000,9, -999.000,9, -999.000,9
           NA,    P03W,    255,   2,-999.0,       6,  2,19850513,2256,  24.2317,  156.8417,  5707,  144.000,   17.549,   34.794,2,   34.795,2, -999.000,9,  221.700,2,    2.370,2,    2.380,2,    0.020,2,    0.200,2,    1.920,2,    0.988,2, -999.000,9, -999.000,9, -999.000,9
           NA,    P03W,    255,   2,-999.0,       7,  2,19850513,2256,  24.2317,  156.8417,  5707,  184.100,   16.558,   34.754,2,   34.755,2, -999.000,9,  203.800,2,    4.020,2,    5.670,2,    0.010,2,    0.390,2,    1.746,2,    0.902,2, -999.000,9, -999.000,9, -999.000,9
           NA,    P03W,    255,   2,-999.0,       8,  2,19850513,2256,  24.2317,  156.8417,  5707,  234.200,   15.739,   34.713,2,   34.714,2, -999.000,9,  211.200,2,    5.820,2,    6.690,2,    0.010,2,    0.450,2,    1.765,2,    0.881,2, -999.000,9, -999.000,9, -999.000,9
           NA,    P03W,    255,   2,-999.0,       9,  2,19850513,2256,  24.2317,  156.8417,  5707,  284.500,   14.894,   34.643,2,   34.642,2, -999.000,9,  203.300,2,    8.120,2,    8.580,2,    0.000,2,    0.570,2,    1.650,2,    0.836,2, -999.000,9, -999.000,9, -999.000,9
           NA,    P03W,    255,   2,-999.0,      11,  2,19850513,2256,  24.2317,  156.8417,  5707,  382.000,   12.322,   34.399,2,   34.401,2, -999.000,9,  198.900,2,   14.290,2,   12.900,2,    0.000,2,    0.870,2,    1.448,2,    0.742,2, -999.000,9, -999.000,9, -999.000,9
           NA,    P03W,    255,   2,-999.0,      12,  2,19850513,2256,  24.2317,  156.8417,  5707,  441.800,   10.689,   34.287,2,   34.288,2, -999.000,9,  190.200,2,   22.610,2,   16.670,2,    0.000,2,    1.140,2, -999.000,9, -999.000,9, -999.000,9, -999.000,9, -999.000,9
           NA,    P03W,    255,   2,-999.0,      13,  2,19850513,2256,  24.2317,  156.8417,  5707,  501.300,    8.992,   34.162,2,   34.166,2, -999.000,9,  181.000,2,   31.920,2,   20.880,2,    0.000,2,    1.430,2, -999.000,9, -999.000,9, -999.000,9, -999.000,9, -999.000,9
           NA,    P03W,    255,   2,-999.0,      14,  2,19850513,2256,  24.2317,  156.8417,  5707,  563.100,    7.743,   34.097,2,   34.098,2, -999.000,9,  157.000,2,   42.600,2,   25.250,2,    0.000,2,    1.750,2, -999.000,9, -999.000,9, -999.000,9, -999.000,9, -999.000,9
           NA,    P03W,    255,   2,-999.0,      15,  2,19850513,2256,  24.2317,  156.8417,  5707,  645.800,    6.539,   34.085,2,   34.090,2, -999.000,9,  118.700,2,   58.770,2,   31.030,2,    0.000,2,    2.150,2, -999.000,9, -999.000,9, -999.000,9, -999.000,9, -999.000,9
           NA,    P03W,    255,   2,-999.0,      16,  2,19850513,2256,  24.2317,  156.8417,  5707,  727.400,    5.444,   34.134,2,   34.138,2, -999.000,9,   77.800,2,   78.670,2,   36.900,2,    0.000,2,    2.540,2, -999.000,9, -999.000,9, -999.000,9, -999.000,9, -999.000,9
           NA,    P03W,    255,   2,-999.0,      17,  2,19850513,2256,  24.2317,  156.8417,  5707,  809.200,    4.742,   34.230,2,   34.230,2, -999.000,9,   52.600,2,   94.910,2,   40.490,2,    0.000,2,    2.780,2, -999.000,9, -999.000,9, -999.000,9, -999.000,9, -999.000,9
           NA,    P03W,    255,   2,-999.0,      18,  2,19850513,2256,  24.2317,  156.8417,  5707,  909.900,    4.295,   34.312,2,   34.311,2, -999.000,9,   44.300,2,  105.770,2,   41.850,2,    0.000,2,    2.870,2, -999.000,9, -999.000,9, -999.000,9, -999.000,9, -999.000,9
           NA,    P03W,    255,   2,-999.0,      39,  2,19850513,2256,  24.2317,  156.8417,  5707, 1060.400,    3.709,   34.422,2,   34.423,2, -999.000,9,   49.600,2,  119.210,2,   42.440,2,    0.000,2,    2.870,2, -999.000,9, -999.000,9, -999.000,9, -999.000,9, -999.000,9
           NA,    P03W,    255,   2,-999.0,      20,  2,19850513,2256,  24.2317,  156.8417,  5707, 1212.000,    3.296,   34.482,2,   34.479,2, -999.000,9,   58.200,2,  127.490,2,   42.110,2,    0.000,2,    2.850,2, -999.000,9, -999.000,9, -999.000,9, -999.000,9, -999.000,9
           NA,    P03W,    255,   2,-999.0,      21,  2,19850513,2256,  24.2317,  156.8417,  5707, 1413.900,    2.782,   34.528,2,   34.528,2, -999.000,9,   72.600,2,  138.030,2,   41.340,2,    0.000,2,    2.800,2, -999.000,9, -999.000,9, -999.000,9, -999.000,9, -999.000,9
           NA,    P03W,    255,   2,-999.0,      22,  2,19850513,2256,  24.2317,  156.8417,  5707, 1616.100,    2.395,   34.564,2,   34.564,2, -999.000,9,   84.700,2,  144.800,2,   40.800,2,    0.000,2,    2.760,2, -999.000,9, -999.000,9, -999.000,9, -999.000,9, -999.000,9
           NA,    P03W,    255,   2,-999.0,      23,  2,19850513,2256,  24.2317,  156.8417,  5707, 1817.700,    2.175,   34.589,2,   34.588,2, -999.000,9,   93.000,2,  147.920,2,   40.470,2,    0.000,2,    2.700,2, -999.000,9, -999.000,9, -999.000,9, -999.000,9, -999.000,9
           NA,    P03W,    255,   2,-999.0,      24,  2,19850513,2256,  24.2317,  156.8417,  5707, 2019.600,    2.012,   34.607,2,   34.607,2, -999.000,9,  101.700,2,  150.180,2,   39.980,2,    0.000,2,    2.680,2, -999.000,9, -999.000,9, -999.000,9, -999.000,9, -999.000,9
           NA,    P03W,    255,   2,-999.0,      25,  2,19850513,2256,  24.2317,  156.8417,  5707, 2221.600,    1.878,   34.624,2,   34.625,2, -999.000,9,  108.600,2,  152.010,2,   39.440,2,    0.000,2,    2.650,2, -999.000,9, -999.000,9, -999.000,9, -999.000,9, -999.000,9
           NA,    P03W,    255,   2,-999.0,      26,  2,19850513,2256,  24.2317,  156.8417,  5707, 2526.300,    1.724,   34.642,2,   34.642,2, -999.000,9,  120.400,2,  152.330,2,   38.740,2,    0.000,2,    2.580,2, -999.000,9, -999.000,9, -999.000,9, -999.000,9, -999.000,9
           NA,    P03W,    255,   2,-999.0,      27,  2,19850513,2256,  24.2317,  156.8417,  5707, 2829.100,    1.626,   34.654,2,   34.654,2, -999.000,9,  127.800,2,  152.020,2,   37.990,2,    0.000,2,    2.550,2, -999.000,9, -999.000,9, -999.000,9, -999.000,9, -999.000,9
           NA,    P03W,    255,   2,-999.0,      28,  2,19850513,2256,  24.2317,  156.8417,  5707, 3131.800,    1.565,   34.663,2,   34.663,2, -999.000,9,  136.000,2,  151.490,2,   37.660,2,    0.000,2,    2.510,2, -999.000,9, -999.000,9, -999.000,9, -999.000,9, -999.000,9
           NA,    P03W,    255,   2,-999.0,      29,  2,19850513,2256,  24.2317,  156.8417,  5707, 3431.100,    1.518,   34.671,2,   34.670,2, -999.000,9,  143.000,2,  150.310,2,   37.340,2,    0.000,2,    2.480,2, -999.000,9, -999.000,9, -999.000,9, -999.000,9, -999.000,9
           NA,    P03W,    255,   2,-999.0,      30,  2,19850513,2256,  24.2317,  156.8417,  5707, 3735.100,    1.489,   34.676,2,   34.676,2, -999.000,9,  148.200,2,  150.000,2,   36.860,2,    0.000,2,    2.460,2, -999.000,9, -999.000,9, -999.000,9, -999.000,9, -999.000,9
           NA,    P03W,    255,   2,-999.0,      31,  2,19850513,2256,  24.2317,  156.8417,  5707, 4038.500,    1.467,   34.681,2,   34.680,2, -999.000,9,  154.700,2,  147.330,2,   36.430,2,    0.000,2,    2.430,2, -999.000,9, -999.000,9, -999.000,9, -999.000,9, -999.000,9
           NA,    P03W,    255,   2,-999.0,      32,  2,19850513,2256,  24.2317,  156.8417,  5707, 4343.100,    1.458,   34.685,2,   34.685,2, -999.000,9,  159.900,2,  145.080,2,   36.060,2,    0.000,2,    2.400,2, -999.000,9, -999.000,9, -999.000,9, -999.000,9, -999.000,9
           NA,    P03W,    255,   2,-999.0,      33,  2,19850513,2256,  24.2317,  156.8417,  5707, 4699.900,    1.469,   34.688,2,   34.687,2, -999.000,9,  165.100,2,  141.560,2,   35.800,2,    0.000,2,    2.390,2, -999.000,9, -999.000,9, -999.000,9, -999.000,9, -999.000,9
           NA,    P03W,    255,   2,-999.0,      34,  2,19850513,2256,  24.2317,  156.8417,  5707, 5055.900,    1.490,   34.689,2,   34.689,2, -999.000,9,  168.200,2,  139.530,2,   35.370,2,    0.000,2,    2.360,2, -999.000,9, -999.000,9, -999.000,9, -999.000,9, -999.000,9
           NA,    P03W,    255,   2,-999.0,      35,  2,19850513,2256,  24.2317,  156.8417,  5707, 5466.700,    1.518,   34.692,2,   34.692,2, -999.000,9,  172.500,2,  136.440,2,   35.050,2,    0.000,2,    2.340,2, -999.000,9, -999.000,9, -999.000,9, -999.000,9, -999.000,9
           NA,    P03W,    255,   2,-999.0,      36,  2,19850513,2256,  24.2317,  156.8417,  5707, 5794.200,    1.547,   34.693,2,   34.693,2, -999.000,9,  174.700,2,  134.410,2,   35.050,2,    0.000,2,    2.340,2, -999.000,9, -999.000,9, -999.000,9, -999.000,9, -999.000,9
           NA,    P03W,    253,   1,-999.0,       1,  2,19850513,1357,  24.2450,  157.6667,  5816,    1.000,   25.428,   35.021,2,   35.025,2, -999.000,9,  210.200,2,    1.750,2,    0.090,2,    0.000,2,    0.020,2, -999.000,9, -999.000,9, -999.000,9, -999.000,9, -999.000,9
           NA,    P03W,    253,   1,-999.0,       2,  2,19850513,1357,  24.2450,  157.6667,  5816,   22.800,   25.200,   35.006,2,   35.008,2, -999.000,9,  209.800,2,    1.670,2,    0.090,2,    0.000,2,    0.020,2, -999.000,9, -999.000,9, -999.000,9, -999.000,9, -999.000,9
           NA,    P03W,    253,   1,-999.0,       3,  2,19850513,1357,  24.2450,  157.6667,  5816,   42.200,   23.461,   35.092,2,   35.093,2, -999.000,9,  219.600,2,    1.600,2,    0.130,2,    0.000,2,    0.020,2, -999.000,9, -999.000,9, -999.000,9, -999.000,9, -999.000,9
           NA,    P03W,    253,   1,-999.0,       4,  2,19850513,1357,  24.2450,  157.6667,  5816,   73.600,   21.423,   35.018,2,   35.020,2, -999.000,9,  216.900,2,    1.950,2,    0.130,2,    0.000,2,    0.060,2, -999.000,9, -999.000,9, -999.000,9, -999.000,9, -999.000,9
           NA,    P03W,    253,   1,-999.0,       5,  2,19850513,1357,  24.2450,  157.6667,  5816,  103.900,   19.431,   34.904,2,   34.904,2, -999.000,9,  207.000,2,    2.300,2,    0.990,2,    0.050,2,    0.140,2, -999.000,9, -999.000,9, -999.000,9, -999.000,9, -999.000,9
           NA,    P03W,    253,   1,-999.0,       6,  2,19850513,1357,  24.2450,  157.6667,  5816,  143.800,   18.124,   34.840,2,   34.842,2, -999.000,9,  201.800,2,    3.290,2,    3.260,2,    0.020,2,    0.270,2,    1.665,2,    0.855,2, -999.000,9, -999.000,9, -999.000,9
           NA,    P03W,    253,   1,-999.0,       7,  2,19850513,1357,  24.2450,  157.6667,  5816,  183.700,   16.968,   34.778,2,   34.779,2, -999.000,9,  204.600,2,    3.850,2,    4.850,2,    0.010,2,    0.360,2,    1.692,2,    0.863,2, -999.000,9, -999.000,9, -999.000,9
           NA,    P03W,    253,   1,-999.0,       8,  2,19850513,1357,  24.2450,  157.6667,  5816,  233.400,   15.691,   34.690,2,   34.691,2, -999.000,9,  205.900,2,    5.910,2,    6.770,2,    0.010,2,    0.480,2,    1.702,2,    0.858,2, -999.000,9, -999.000,9, -999.000,9
           NA,    P03W,    253,   1,-999.0,       9,  2,19850513,1357,  24.2450,  157.6667,  5816,  282.800,   14.747,   34.609,2,   34.605,2, -999.000,9,  200.000,2,    7.960,2,    8.350,2,    0.010,2,    0.600,2,    1.660,2,    0.828,2, -999.000,9, -999.000,9, -999.000,9
           NA,    P03W,    253,   1,-999.0,      10,  2,19850513,1357,  24.2450,  157.6667,  5816,  333.400,   13.672,   34.514,2,   34.513,2, -999.000,9,  200.900,2,   10.860,2,   10.520,2,    0.010,2,    0.750,2,    1.510,2,    0.754,2, -999.000,9, -999.000,9, -999.000,9
           NA,    P03W,    253,   1,-999.0,      11,  2,19850513,1357,  24.2450,  157.6667,  5816,  383.900,   12.407,   34.398,2,   34.399,2, -999.000,9,  200.300,2,   13.980,2,   12.460,2,    0.000,2,    0.890,2, -999.000,9, -999.000,9, -999.000,9, -999.000,9, -999.000,9
           NA,    P03W,    253,   1,-999.0,      12,  2,19850513,1357,  24.2450,  157.6667,  5816,  444.000,   11.000,   34.301,2,   34.301,2, -999.000,9,  189.200,2,   20.490,2,   16.150,2,    0.000,2,    1.140,2,    1.234,2,    0.585,2, -999.000,9, -999.000,9, -999.000,9
           NA,    P03W,    253,   1,-999.0,      13,  2,19850513,1357,  24.2450,  157.6667,  5816,  504.200,    9.556,   34.196,2,   34.196,2, -999.000,9,  178.800,2,   28.290,2,   19.790,2,    0.000,2,    1.390,2,    1.049,2, -999.000,9, -999.000,9, -999.000,9, -999.000,9
           NA,    P03W,    253,   1,-999.0,      14,  2,19850513,1357,  24.2450,  157.6667,  5816,  564.500,    8.170,   34.127,2,   34.128,2, -999.000,9,  151.500,2,   39.480,2,   24.770,2,    0.000,2,    1.750,2, -999.000,9, -999.000,9, -999.000,9, -999.000,9, -999.000,9
           NA,    P03W,    253,   1,-999.0,      15,  2,19850513,1357,  24.2450,  157.6667,  5816,  644.900,    6.649,   34.114,2,   34.114,2, -999.000,9,  106.200,2,   58.760,2,   31.850,2,    0.000,2,    2.240,2,    0.288,2,    0.161,2, -999.000,9, -999.000,9, -999.000,9
           NA,    P03W,    253,   1,-999.0,      16,  2,19850513,1357,  24.2450,  157.6667,  5816,  726.300,    5.356,   34.153,2,   34.152,2, -999.000,9,   71.800,2,   79.740,2,   37.310,2,    0.000,2,    2.640,2,    0.115,2,    0.074,2, -999.000,9, -999.000,9, -999.000,9
           NA,    P03W,    253,   1,-999.0,      17,  2,19850513,1357,  24.2450,  157.6667,  5816,  806.900,    4.844,   34.215,2,   34.217,2, -999.000,9,   53.700,2,   92.420,2,   39.930,2,    0.000,2,    2.790,2, -999.000,9, -999.000,9, -999.000,9, -999.000,9, -999.000,9
           NA,    P03W,    253,   1,-999.0,      18,  2,19850513,1357,  24.2450,  157.6667,  5816,  907.500,    4.228,   34.317,2,   34.316,2, -999.000,9,   43.800,2,  107.020,2,   41.820,2,    0.000,2,    2.910,2,    0.012,2,    0.016,2, -999.000,9, -999.000,9, -999.000,9
           NA,    P03W,    253,   1,-999.0,      39,  2,19850513,1357,  24.2450,  157.6667,  5816, 1059.400,    3.680,   34.414,2,   34.413,2, -999.000,9,   46.900,2,  120.140,2,   42.150,2,    0.000,2,    2.940,2,    0.001,2, -999.000,9, -999.000,9, -999.000,9, -999.000,9
           NA,    P03W,    253,   1,-999.0,      20,  2,19850513,1357,  24.2450,  157.6667,  5816, 1210.700,    3.375,   34.498,2,   34.498,2, -999.000,9,   65.100,2,  124.100,2,   41.280,2,    0.000,2,    2.870,2,    0.005,2, -999.000,9, -999.000,9, -999.000,9, -999.000,9
           NA,    P03W,    253,   1,-999.0,      21,  2,19850513,1357,  24.2450,  157.6667,  5816, 1412.700,    2.872,   34.526,2,   34.526,2, -999.000,9,   70.600,2,  135.090,2,   41.390,2,    0.000,2,    2.850,2, -999.000,9, -999.000,9, -999.000,9, -999.000,9, -999.000,9
           NA,    P03W,    253,   1,-999.0,      22,  2,19850513,1357,  24.2450,  157.6667,  5816, 1613.700,    2.476,   34.563,2,   34.562,2, -999.000,9,   81.500,2,  142.890,2,   40.790,2,    0.000,2,    2.800,2, -999.000,9, -999.000,9, -999.000,9, -999.000,9, -999.000,9
           NA,    P03W,    253,   1,-999.0,      23,  2,19850513,1357,  24.2450,  157.6667,  5816, 1815.700,    2.235,   34.586,2,   34.587,2, -999.000,9,   91.500,2,  147.080,2,   40.360,2,    0.000,2,    2.770,2, -999.000,9, -999.000,9, -999.000,9, -999.000,9, -999.000,9
           NA,    P03W,    253,   1,-999.0,      24,  2,19850513,1357,  24.2450,  157.6667,  5816, 2018.200,    2.046,   34.606,2,   34.606,2, -999.000,9,   99.500,2,  149.560,2,   39.770,2, -999.000,5,    2.680,2, -999.000,9, -999.000,9, -999.000,9, -999.000,9, -999.000,9
           NA,    P03W,    253,   1,-999.0,      25,  2,19850513,1357,  24.2450,  157.6667,  5816, 2220.200,    1.880,   34.623,2,   34.624,2, -999.000,9,  108.300,2,  150.760,2,   39.240,2,    0.000,2,    2.690,2, -999.000,9, -999.000,9, -999.000,9, -999.000,9, -999.000,9
           NA,    P03W,    253,   1,-999.0,      26,  2,19850513,1357,  24.2450,  157.6667,  5816, 2525.000,    1.726,   34.641,2,   34.641,2, -999.000,9,  119.500,2,  151.110,2,   38.600,2,    0.000,2,    2.640,2, -999.000,9, -999.000,9, -999.000,9, -999.000,9, -999.000,9
           NA,    P03W,    253,   1,-999.0,      27,  2,19850513,1357,  24.2450,  157.6667,  5816, 2830.800,    1.625,   34.654,2,   34.654,2, -999.000,9,  129.200,2,  151.460,2,   37.690,2,    0.000,2,    2.580,2, -999.000,9, -999.000,9, -999.000,9, -999.000,9, -999.000,9
           NA,    P03W,    253,   1,-999.0,      28,  2,19850513,1357,  24.2450,  157.6667,  5816, 3136.200,    1.561,   34.664,2,   34.663,2, -999.000,9,  136.600,2,  150.960,2,   37.540,2, -999.000,5,    2.540,2, -999.000,9, -999.000,9, -999.000,9, -999.000,9, -999.000,9
           NA,    P03W,    253,   1,-999.0,      29,  2,19850513,1357,  24.2450,  157.6667,  5816, 3443.500,    1.518,   34.670,2,   34.670,2, -999.000,9,  143.000,2,  150.240,2,   37.120,2, -999.000,5,    2.520,2, -999.000,9, -999.000,9, -999.000,9, -999.000,9, -999.000,9
           NA,    P03W,    253,   1,-999.0,      30,  2,19850513,1357,  24.2450,  157.6667,  5816, 3749.700,    1.495,   34.675,2,   34.675,2, -999.000,9,  148.500,2,  149.110,2,   36.640,2,    0.000,2,    2.480,2, -999.000,9, -999.000,9, -999.000,9, -999.000,9, -999.000,9
           NA,    P03W,    253,   1,-999.0,      31,  2,19850513,1357,  24.2450,  157.6667,  5816, 4056.000,    1.480,   34.679,2,   34.679,2, -999.000,9,  152.800,2,  146.900,2,   36.170,2, -999.000,5,    2.440,2, -999.000,9, -999.000,9, -999.000,9, -999.000,9, -999.000,9
           NA,    P03W,    253,   1,-999.0,      32,  2,19850513,1357,  24.2450,  157.6667,  5816, 4363.400,    1.475,   34.682,2,   34.683,2, -999.000,9,  157.900,2,  145.550,2,   36.010,2,    0.000,2,    2.450,2, -999.000,9, -999.000,9, -999.000,9, -999.000,9, -999.000,9
           NA,    P03W,    253,   1,-999.0,      33,  2,19850513,1357,  24.2450,  157.6667,  5816, 4721.500,    1.480,   34.686,2,   34.685,2, -999.000,9,  163.100,2,  142.920,2,   35.640,2,    0.000,2,    2.410,2, -999.000,9, -999.000,9, -999.000,9, -999.000,9, -999.000,9
           NA,    P03W,    253,   1,-999.0,      34,  2,19850513,1357,  24.2450,  157.6667,  5816, 5079.700,    1.501,   34.688,2,   34.688,2, -999.000,9,  166.900,2,  141.570,2,   35.490,2,    0.000,2,    2.380,2, -999.000,9, -999.000,9, -999.000,9, -999.000,9, -999.000,9
           NA,    P03W,    253,   1,-999.0,      35,  2,19850513,1357,  24.2450,  157.6667,  5816, 5491.100,    1.525,   34.690,2,   34.691,2, -999.000,9,  171.900,2,  137.870,2,   35.070,2,    0.000,2,    2.370,2, -999.000,9, -999.000,9, -999.000,9, -999.000,9, -999.000,9
           NA,    P03W,    253,   1,-999.0,      36,  2,19850513,1357,  24.2450,  157.6667,  5816, 5912.900,    1.572,   34.691,2,   34.691,2, -999.000,9,  172.700,2,  135.670,2,   34.970,2,    0.000,2,    2.350,2, -999.000,9, -999.000,9, -999.000,9, -999.000,9, -999.000,9