BOTTLE,20203103JOAExport
EXPOCODE,SECT_ID,STNNBR,CASTNO,SAMPNO,BTLNBR,BTLNBR_FLAG_W,DATE,TIME,LATITUDE,LONGITUDE,DEPTH,CTDPRS,CTDTMP,CTDSAL,CTDSAL_FLAG_W,SALNTY,SALNTY_FLAG_W,CTDOXY,CTDOXY_FLAG_W,OXYGEN,OXYGEN_FLAG_W,SILCAT,SILCAT_FLAG_W,NITRAT,NITRAT_FLAG_W,NITRIT,NITRIT_FLAG_W,PHSPHT,PHSPHT_FLAG_W,CFC-11,CFC-11_FLAG_W,CFC-12,CFC-12_FLAG_W,SF6,SF6_FLAG_W,TCARBN,TCARBN_FLAG_W,ALKALI,ALKALI_FLAG_W
,,,,,,,,,,,,,DB,ITS-90,PSS-78,,PSS-78,,UMOL/KG,,UMOL/KG,,UMOL/KG,,UMOL/KG,,UMOL/KG,,UMOL/KG,,PMOL/KG,,PMOL/KG,,FMOL/KG,,UMOL/KG,,UMOL/KG
           NA,    P03W,    251,   1,-999.0,       1,  2,19850513,0611,  24.2783,  158.4500,  5827,   24.100,   25.212,   35.090,2, -999.000,5, -999.000,9,  210.700,2,    0.560,2,    0.130,2,    0.000,2,    0.030,2, -999.000,9, -999.000,9, -999.000,9, -999.000,9, -999.000,9
           NA,    P03W,    251,   1,-999.0,       2,  2,19850513,0611,  24.2783,  158.4500,  5827,   44.500,   24.278,   35.158,2, -999.000,5, -999.000,9,  214.000,2,    0.520,2,    0.130,2,    0.000,2,    0.030,2, -999.000,9, -999.000,9, -999.000,9, -999.000,9, -999.000,9
           NA,    P03W,    251,   1,-999.0,       3,  2,19850513,0611,  24.2783,  158.4500,  5827,   74.300,   23.349,   35.201,2, -999.000,5, -999.000,9,  219.400,2,    0.490,2,    0.120,2,    0.000,2,    0.030,2, -999.000,9, -999.000,9, -999.000,9, -999.000,9, -999.000,9
           NA,    P03W,    251,   1,-999.0,       4,  2,19850513,0611,  24.2783,  158.4500,  5827,  104.500,   21.777,   35.043,2, -999.000,5, -999.000,9,  216.500,2,    0.660,2,    0.120,2,    0.000,2,    0.040,2, -999.000,9, -999.000,9, -999.000,9, -999.000,9, -999.000,9
           NA,    P03W,    251,   1,-999.0,       5,  2,19850513,0611,  24.2783,  158.4500,  5827,  143.400,   19.589,   34.900,2, -999.000,5, -999.000,9,  212.800,2,    1.240,2,    0.980,2,    0.040,2,    0.120,2, -999.000,9, -999.000,9, -999.000,9, -999.000,9, -999.000,9
           NA,    P03W,    251,   1,-999.0,       6,  2,19850513,0611,  24.2783,  158.4500,  5827,  184.400,   18.250,   34.834,2, -999.000,5, -999.000,9,  209.600,2,    2.230,2,    2.510,2,    0.020,2,    0.220,2, -999.000,9, -999.000,9, -999.000,9, -999.000,9, -999.000,9
           NA,    P03W,    251,   1,-999.0,       7,  2,19850513,0611,  24.2783,  158.4500,  5827,  234.900,   16.688,   34.761,2, -999.000,5, -999.000,9,  208.200,2,    4.690,2,    5.240,2,    0.000,2,    0.410,2, -999.000,9, -999.000,9, -999.000,9, -999.000,9, -999.000,9
           NA,    P03W,    251,   1,-999.0,       8,  2,19850513,0611,  24.2783,  158.4500,  5827,  285.200,   16.062,   34.724,2, -999.000,5, -999.000,9,  216.200,2,    4.870,2,    5.570,2,    0.000,2,    0.410,2, -999.000,9, -999.000,9, -999.000,9, -999.000,9, -999.000,9
           NA,    P03W,    251,   1,-999.0,       9,  2,19850513,0611,  24.2783,  158.4500,  5827,  335.100,   15.274,   34.675,2, -999.000,5, -999.000,9,  215.800,2,    5.850,2,    6.800,2,    0.000,2,    0.500,2, -999.000,9, -999.000,9, -999.000,9, -999.000,9, -999.000,9
           NA,    P03W,    251,   1,-999.0,      10,  2,19850513,0611,  24.2783,  158.4500,  5827,  386.100,   13.904,   34.531,2, -999.000,5, -999.000,9,  203.400,2,    9.490,2,    9.940,2,    0.000,2,    0.710,2, -999.000,9, -999.000,9, -999.000,9, -999.000,9, -999.000,9
           NA,    P03W,    251,   1,-999.0,      11,  2,19850513,0611,  24.2783,  158.4500,  5827,  447.200,   11.626,   34.341,2, -999.000,5, -999.000,9,  195.800,2,   16.790,2,   14.300,2,    0.000,2,    1.010,2, -999.000,9, -999.000,9, -999.000,9, -999.000,9, -999.000,9
           NA,    P03W,    251,   1,-999.0,      12,  2,19850513,0611,  24.2783,  158.4500,  5827,  507.200,   10.164,   34.234,2, -999.000,5, -999.000,9,  184.100,2,   23.480,2,   18.010,2,    0.000,2,    1.270,2, -999.000,9, -999.000,9, -999.000,9, -999.000,9, -999.000,9
           NA,    P03W,    251,   1,-999.0,      13,  2,19850513,0611,  24.2783,  158.4500,  5827,  567.500,    8.686,   34.148,2, -999.000,5, -999.000,9,  161.200,2,   33.840,2,   22.810,2,    0.000,2,    1.640,2, -999.000,9, -999.000,9, -999.000,9, -999.000,9, -999.000,9
           NA,    P03W,    251,   1,-999.0,      14,  2,19850513,0611,  24.2783,  158.4500,  5827,  647.900,    6.885,   34.105,2, -999.000,5, -999.000,9,  115.500,2,   54.400,2,   29.980,2,    0.000,2,    2.180,2, -999.000,9, -999.000,9, -999.000,9, -999.000,9, -999.000,9
           NA,    P03W,    251,   1,-999.0,      15,  2,19850513,0611,  24.2783,  158.4500,  5827,  729.000,    5.945,   34.142,2, -999.000,5, -999.000,9,   81.500,2,   68.910,2,   34.170,2,    0.000,2,    2.520,2, -999.000,9, -999.000,9, -999.000,9, -999.000,9, -999.000,9
           NA,    P03W,    251,   1,-999.0,      17,  2,19850513,0611,  24.2783,  158.4500,  5827,  809.700,    5.107,   34.178,2, -999.000,5, -999.000,9,   63.800,2,   83.720,2,   37.160,2,    0.000,2,    2.740,2, -999.000,9, -999.000,9, -999.000,9, -999.000,9, -999.000,9
           NA,    P03W,    251,   1,-999.0,      16,  2,19850513,0611,  24.2783,  158.4500,  5827,  809.700,    5.107,   34.178,2, -999.000,5, -999.000,9,   64.300,2,   83.540,2,   37.250,2,    0.000,2,    2.730,2, -999.000,9, -999.000,9, -999.000,9, -999.000,9, -999.000,9
           NA,    P03W,    251,   1,-999.0,      18,  2,19850513,0611,  24.2783,  158.4500,  5827,  908.400,    4.320,   34.261,2, -999.000,5, -999.000,9,   47.100,2,  101.610,2,   39.810,2,    0.000,2,    2.890,2, -999.000,9, -999.000,9, -999.000,9, -999.000,9, -999.000,9
           NA,    P03W,    251,   1,-999.0,      39,  2,19850513,0611,  24.2783,  158.4500,  5827, 1057.900,    3.645,   34.406,2, -999.000,5, -999.000,9,   46.400,2,  119.710,2,   40.710,2,    0.000,2,    2.940,2, -999.000,9, -999.000,9, -999.000,9, -999.000,9, -999.000,9
           NA,    P03W,    251,   1,-999.0,      20,  2,19850513,0611,  24.2783,  158.4500,  5827, 1210.500,    3.257,   34.471,2, -999.000,5, -999.000,9,   57.900,2,  127.420,2,   40.240,2,    0.000,2,    2.910,2, -999.000,9, -999.000,9, -999.000,9, -999.000,9, -999.000,9
           NA,    P03W,    251,   1,-999.0,      21,  2,19850513,0611,  24.2783,  158.4500,  5827, 1412.200,    2.842,   34.521,2, -999.000,5, -999.000,9,   70.400,2,  135.750,2,   39.770,2,    0.000,2,    2.890,2, -999.000,9, -999.000,9, -999.000,9, -999.000,9, -999.000,9
           NA,    P03W,    251,   1,-999.0,      22,  2,19850513,0611,  24.2783,  158.4500,  5827, 1615.500,    2.480,   34.559,2, -999.000,5, -999.000,9,   81.300,2,  141.640,2,   39.300,2,    0.000,2,    2.830,2, -999.000,9, -999.000,9, -999.000,9, -999.000,9, -999.000,9
           NA,    P03W,    251,   1,-999.0,      23,  2,19850513,0611,  24.2783,  158.4500,  5827, 1817.500,    2.242,   34.588,2, -999.000,5, -999.000,9,   92.000,2,  145.080,2,   38.830,2,    0.000,2,    2.790,2, -999.000,9, -999.000,9, -999.000,9, -999.000,9, -999.000,9
           NA,    P03W,    251,   1,-999.0,      24,  2,19850513,0611,  24.2783,  158.4500,  5827, 2018.100,    2.025,   34.607,2, -999.000,5, -999.000,9,   99.600,2,  148.310,2,   38.450,2,    0.000,2,    2.750,2, -999.000,9, -999.000,9, -999.000,9, -999.000,9, -999.000,9
           NA,    P03W,    251,   1,-999.0,      25,  2,19850513,0611,  24.2783,  158.4500,  5827, 2221.700,    1.882,   34.625,2, -999.000,5, -999.000,9,  109.300,2,  148.900,2,   37.980,2,    0.000,2,    2.730,2, -999.000,9, -999.000,9, -999.000,9, -999.000,9, -999.000,9
           NA,    P03W,    251,   1,-999.0,      26,  2,19850513,0611,  24.2783,  158.4500,  5827, 2524.100,    1.724,   34.644,2, -999.000,5, -999.000,9,  121.000,2,  149.890,2,   37.270,2,    0.000,2,    2.640,2, -999.000,9, -999.000,9, -999.000,9, -999.000,9, -999.000,9
           NA,    P03W,    251,   1,-999.0,      27,  2,19850513,0611,  24.2783,  158.4500,  5827, 2827.900,    1.636,   34.654,2, -999.000,5, -999.000,9,  128.300,2,  150.470,2,   36.900,2,    0.000,2,    2.630,2, -999.000,9, -999.000,9, -999.000,9, -999.000,9, -999.000,9
           NA,    P03W,    251,   1,-999.0,      28,  2,19850513,0611,  24.2783,  158.4500,  5827, 3131.700,    1.575,   34.663,2, -999.000,5, -999.000,9,  135.800,2,  150.240,2,   36.470,2,    0.000,2,    2.580,2, -999.000,9, -999.000,9, -999.000,9, -999.000,9, -999.000,9
           NA,    P03W,    251,   1,-999.0,      29,  2,19850513,0611,  24.2783,  158.4500,  5827, 3434.800,    1.531,   34.669,2, -999.000,5, -999.000,9,  143.200,2,  149.190,2,   36.000,2,    0.000,2,    2.570,2, -999.000,9, -999.000,9, -999.000,9, -999.000,9, -999.000,9
           NA,    P03W,    251,   1,-999.0,      30,  2,19850513,0611,  24.2783,  158.4500,  5827, 3738.300,    1.493,   34.676,2, -999.000,5, -999.000,9,  148.000,2,  147.130,2,   35.720,2,    0.000,2,    2.500,2, -999.000,9, -999.000,9, -999.000,9, -999.000,9, -999.000,9
           NA,    P03W,    251,   1,-999.0,      31,  2,19850513,0611,  24.2783,  158.4500,  5827, 4046.400,    1.482,   34.679,2, -999.000,5, -999.000,9,  153.100,2,  146.080,2,   35.440,2,    0.000,2,    2.470,2, -999.000,9, -999.000,9, -999.000,9, -999.000,9, -999.000,9
           NA,    P03W,    251,   1,-999.0,      32,  2,19850513,0611,  24.2783,  158.4500,  5827, 4355.800,    1.469,   34.684,2, -999.000,5, -999.000,9,  161.100,2,  143.600,2,   34.730,2,    0.000,2,    2.450,2, -999.000,9, -999.000,9, -999.000,9, -999.000,9, -999.000,9
           NA,    P03W,    251,   1,-999.0,      33,  2,19850513,0611,  24.2783,  158.4500,  5827, 4713.000,    1.477,   34.687,2, -999.000,5, -999.000,9,  163.800,2,  141.740,2,   34.640,2,    0.000,2,    2.420,2, -999.000,9, -999.000,9, -999.000,9, -999.000,9, -999.000,9
           NA,    P03W,    251,   1,-999.0,      34,  2,19850513,0611,  24.2783,  158.4500,  5827, 5075.000,    1.493,   34.689,2, -999.000,5, -999.000,9,  169.200,2,  137.630,2,   34.260,2,    0.000,2,    2.420,2, -999.000,9, -999.000,9, -999.000,9, -999.000,9, -999.000,9
           NA,    P03W,    251,   1,-999.0,      35,  2,19850513,0611,  24.2783,  158.4500,  5827, 5486.200,    1.525,   34.690,2, -999.000,5, -999.000,9,  171.600,2,  135.560,2,   34.170,2,    0.000,2,    2.380,2, -999.000,9, -999.000,9, -999.000,9, -999.000,9, -999.000,9
           NA,    P03W,    251,   1,-999.0,      36,  2,19850513,0611,  24.2783,  158.4500,  5827, 5922.500,    1.572,   34.692,2, -999.000,5, -999.000,9,  174.000,2,  133.900,2,   34.030,2,    0.000,2,    2.360,2, -999.000,9, -999.000,9, -999.000,9, -999.000,9, -999.000,9
           NA,    P03W,    249,   1,-999.0,       1,  2,19850512,2250,  24.2333,  159.2550,  3949,    0.000,   24.589,   35.133,2,   35.136,2, -999.000,9,  211.900,2,    0.860,2,    0.090,2,    0.000,2,    0.030,2,    1.550,2,    0.806,2, -999.000,9, -999.000,9, -999.000,9
           NA,    P03W,    249,   1,-999.0,       2,  2,19850512,2250,  24.2333,  159.2550,  3949,   22.500,   24.451,   35.175,2,   35.179,2, -999.000,9,  212.100,2,    0.810,2,    0.090,2,    0.000,2,    0.030,2,    1.546,2,    0.811,2, -999.000,9, -999.000,9, -999.000,9
           NA,    P03W,    249,   1,-999.0,       3,  2,19850512,2250,  24.2333,  159.2550,  3949,   42.300,   24.074,   35.197,2,   35.197,2, -999.000,9,  214.100,2,    0.560,2,    0.090,2,    0.000,2,    0.020,2, -999.000,9, -999.000,9, -999.000,9, -999.000,9, -999.000,9
           NA,    P03W,    249,   1,-999.0,       4,  2,19850512,2250,  24.2333,  159.2550,  3949,   72.400,   23.345,   35.199,2,   35.201,2, -999.000,9,  218.400,2,    0.510,2,    0.050,2,    0.000,2,    0.020,2,    1.622,2,    0.839,2, -999.000,9, -999.000,9, -999.000,9
           NA,    P03W,    249,   1,-999.0,       5,  2,19850512,2250,  24.2333,  159.2550,  3949,  102.300,   22.361,   35.100,2,   35.104,2, -999.000,9,  214.800,2,    0.670,2,    0.050,2,    0.000,2,    0.030,2, -999.000,9, -999.000,9, -999.000,9, -999.000,9, -999.000,9
           NA,    P03W,    249,   1,-999.0,       6,  2,19850512,2250,  24.2333,  159.2550,  3949,  142.700,   20.900,   34.965,2,   34.966,2, -999.000,9,  213.500,2,    1.030,2,    0.220,2,    0.060,2,    0.050,2,    1.747,2, -999.000,9, -999.000,9, -999.000,9, -999.000,9
           NA,    P03W,    249,   1,-999.0,       7,  2,19850512,2250,  24.2333,  159.2550,  3949,  181.700,   20.125,   34.921,2,   34.922,2, -999.000,9,  214.800,2,    1.190,2,    0.540,2,    0.030,2,    0.070,2,    1.789,2,    0.916,2, -999.000,9, -999.000,9, -999.000,9
           NA,    P03W,    249,   1,-999.0,       8,  2,19850512,2250,  24.2333,  159.2550,  3949,  232.900,   18.086,   34.832,2,   34.829,2, -999.000,9,  203.900,2,    2.170,2,    3.250,2,    0.010,2,    0.260,2,    1.764,2,    0.894,2, -999.000,9, -999.000,9, -999.000,9
           NA,    P03W,    249,   1,-999.0,       9,  2,19850512,2250,  24.2333,  159.2550,  3949,  283.700,   16.368,   34.741,2,   34.738,2, -999.000,9,  212.500,2,    3.760,2,    5.340,2,    0.010,2,    0.370,2,    1.845,2,    0.931,2, -999.000,9, -999.000,9, -999.000,9
           NA,    P03W,    249,   1,-999.0,      10,  2,19850512,2250,  24.2333,  159.2550,  3949,  334.100,   15.431,   34.677,2,   34.665,2, -999.000,9,  210.300,2,    5.960,2,    7.190,2,    0.010,2,    0.490,2,    1.746,2,    0.873,2, -999.000,9, -999.000,9, -999.000,9
           NA,    P03W,    249,   1,-999.0,      11,  2,19850512,2250,  24.2333,  159.2550,  3949,  385.200,   13.637,   34.507,2,   34.490,2, -999.000,9,  203.700,2,   10.410,2,   10.480,2,    0.010,2,    0.720,2, -999.000,9, -999.000,9, -999.000,9, -999.000,9, -999.000,9
           NA,    P03W,    249,   1,-999.0,      12,  2,19850512,2250,  24.2333,  159.2550,  3949,  445.200,   11.847,   34.356,2,   34.347,2, -999.000,9,  197.000,2,   15.890,2,   13.980,2,    0.010,2,    0.970,2,    1.380,2,    0.704,2, -999.000,9, -999.000,9, -999.000,9
           NA,    P03W,    249,   1,-999.0,      13,  2,19850512,2250,  24.2333,  159.2550,  3949,  506.000,   10.186,   34.237,2,   34.228,2, -999.000,9,  180.600,2,   24.010,2,   18.390,2,    0.010,2,    1.280,2,    1.068,2,    0.540,2, -999.000,9, -999.000,9, -999.000,9
           NA,    P03W,    249,   1,-999.0,      14,  2,19850512,2250,  24.2333,  159.2550,  3949,  566.100,    8.828,   34.153,2,   34.154,2, -999.000,9,  162.600,2,   33.360,2,   22.610,2,    0.010,2,    1.580,2, -999.000,9, -999.000,9, -999.000,9, -999.000,9, -999.000,9
           NA,    P03W,    249,   1,-999.0,      15,  2,19850512,2250,  24.2333,  159.2550,  3949,  625.900,    7.981,   34.115,2,   34.115,2, -999.000,9,  149.500,2,   40.250,2,   25.500,2,    0.010,2,    1.780,2,    0.663,2,    0.338,2, -999.000,9, -999.000,9, -999.000,9
           NA,    P03W,    249,   1,-999.0,      16,  2,19850512,2250,  24.2333,  159.2550,  3949,  686.500,    6.743,   34.099,2,   34.101,2, -999.000,9,  114.000,2,   56.120,2,   31.020,2,    0.010,2,    2.160,2,    0.389,2,    0.198,2, -999.000,9, -999.000,9, -999.000,9
           NA,    P03W,    249,   1,-999.0,      17,  2,19850512,2250,  24.2333,  159.2550,  3949,  757.500,    6.042,   34.139,2,   34.141,2, -999.000,9,   82.100,2,   68.310,2,   35.370,2,    0.000,2,    2.460,2, -999.000,9, -999.000,9, -999.000,9, -999.000,9, -999.000,9
           NA,    P03W,    249,   1,-999.0,      18,  2,19850512,2250,  24.2333,  159.2550,  3949,  907.200,    4.510,   34.251,2,   34.252,2, -999.000,9,   48.100,2,   98.860,2,   41.160,2,    0.000,2,    2.830,2,    0.026,2, -999.000,9, -999.000,9, -999.000,9, -999.000,9
           NA,    P03W,    249,   1,-999.0,      39,  2,19850512,2250,  24.2333,  159.2550,  3949, 1057.200,    3.737,   34.352,2,   34.353,2, -999.000,9,   41.500,2,  117.760,2,   42.740,2,    0.000,2,    2.920,2,    0.009,2,    0.015,2, -999.000,9, -999.000,9, -999.000,9
           NA,    P03W,    249,   1,-999.0,      20,  2,19850512,2250,  24.2333,  159.2550,  3949, 1257.400,    3.210,   34.481,2,   34.482,2, -999.000,9,   60.000,2,  127.660,2,   41.820,2,    0.000,2,    2.850,2, -999.000,9, -999.000,9, -999.000,9, -999.000,9, -999.000,9
           NA,    P03W,    249,   1,-999.0,      21,  2,19850512,2250,  24.2333,  159.2550,  3949, 1410.000,    2.780,   34.528,2,   34.528,2, -999.000,9,   71.800,2,  136.340,2,   41.350,2,    0.000,2,    2.820,2, -999.000,9, -999.000,9, -999.000,9, -999.000,9, -999.000,9
           NA,    P03W,    249,   1,-999.0,      22,  2,19850512,2250,  24.2333,  159.2550,  3949, 1614.400,    2.397,   34.567,2,   34.567,2, -999.000,9,   83.100,2,  143.790,2,   40.930,2,    0.000,2,    2.780,2, -999.000,9, -999.000,9, -999.000,9, -999.000,9, -999.000,9
           NA,    P03W,    249,   1,-999.0,      23,  2,19850512,2250,  24.2333,  159.2550,  3949, 1817.000,    2.201,   34.584,2,   34.585,2, -999.000,9,   89.300,2,  148.180,2,   40.720,2,    0.000,2,    2.770,2, -999.000,9, -999.000,9, -999.000,9, -999.000,9, -999.000,9
           NA,    P03W,    249,   1,-999.0,      24,  2,19850512,2250,  24.2333,  159.2550,  3949, 2019.800,    1.990,   34.611,2,   34.612,2, -999.000,9,  102.500,2,  149.910,2,   40.040,2,    0.000,2,    2.690,2, -999.000,9, -999.000,9, -999.000,9, -999.000,9, -999.000,9
           NA,    P03W,    249,   1,-999.0,      30,  2,19850512,2250,  24.2333,  159.2550,  3949, 2222.200,    1.858,   34.626,2,   34.627,2, -999.000,9,  109.500,2,  151.030,2,   39.300,2,    0.000,2,    2.660,2, -999.000,9, -999.000,9, -999.000,9, -999.000,9, -999.000,9
           NA,    P03W,    249,   1,-999.0,      31,  2,19850512,2250,  24.2333,  159.2550,  3949, 2527.300,    1.722,   34.642,2,   34.644,2, -999.000,9,  119.800,2,  151.530,2,   38.990,2,    0.000,2,    2.610,2, -999.000,9, -999.000,9, -999.000,9, -999.000,9, -999.000,9
           NA,    P03W,    249,   1,-999.0,      32,  2,19850512,2250,  24.2333,  159.2550,  3949, 2830.400,    1.629,   34.654,2,   34.654,2, -999.000,9,  128.700,2,  151.830,2,   38.310,2,    0.000,2,    2.570,2, -999.000,9, -999.000,9, -999.000,9, -999.000,9, -999.000,9
           NA,    P03W,    249,   1,-999.0,      33,  2,19850512,2250,  24.2333,  159.2550,  3949, 3132.400,    1.578,   34.661,2,   34.662,2, -999.000,9,  135.000,2,  151.520,2,   37.950,2,    0.000,2,    2.570,2, -999.000,9, -999.000,9, -999.000,9, -999.000,9, -999.000,9
           NA,    P03W,    249,   1,-999.0,      34,  2,19850512,2250,  24.2333,  159.2550,  3949, 3433.100,    1.556,   34.666,2,   34.666,2, -999.000,9,  138.500,2,  150.200,2,   37.640,2,    0.000,2,    2.520,2, -999.000,9, -999.000,9, -999.000,9, -999.000,9, -999.000,9
           NA,    P03W,    249,   1,-999.0,      35,  2,19850512,2250,  24.2333,  159.2550,  3949, 3736.600,    1.503,   34.674,2,   34.673,2, -999.000,9,  147.000,2,  148.460,2,   37.070,2,    0.000,2,    2.480,2, -999.000,9, -999.000,9, -999.000,9, -999.000,9, -999.000,9
           NA,    P03W,    249,   1,-999.0,      36,  2,19850512,2250,  24.2333,  159.2550,  3949, 4153.700,    1.469,   34.680,2,   34.680,2, -999.000,9,  156.200,2,  144.900,2,   36.560,2,    0.000,2,    2.450,2, -999.000,9, -999.000,9, -999.000,9, -999.000,9, -999.000,9