BOTTLE,20203103JOAExport
EXPOCODE,SECT_ID,STNNBR,CASTNO,SAMPNO,BTLNBR,BTLNBR_FLAG_W,DATE,TIME,LATITUDE,LONGITUDE,DEPTH,CTDPRS,CTDTMP,CTDSAL,CTDSAL_FLAG_W,SALNTY,SALNTY_FLAG_W,CTDOXY,CTDOXY_FLAG_W,OXYGEN,OXYGEN_FLAG_W,SILCAT,SILCAT_FLAG_W,NITRAT,NITRAT_FLAG_W,NITRIT,NITRIT_FLAG_W,PHSPHT,PHSPHT_FLAG_W,CFC-11,CFC-11_FLAG_W,CFC-12,CFC-12_FLAG_W,SF6,SF6_FLAG_W,TCARBN,TCARBN_FLAG_W,ALKALI,ALKALI_FLAG_W
,,,,,,,,,,,,,DB,ITS-90,PSS-78,,PSS-78,,UMOL/KG,,UMOL/KG,,UMOL/KG,,UMOL/KG,,UMOL/KG,,UMOL/KG,,PMOL/KG,,PMOL/KG,,FMOL/KG,,UMOL/KG,,UMOL/KG
           NA,    P03E,    134,   1,-999.0,       1,  2,19850420,1938,  25.5117, -163.4933,  4995,    2.800,   22.178,   35.299,2,   35.300,2, -999.000,9,  222.300,2,    0.520,2,    0.040,2,    0.000,2,    0.050,2,    1.732,2,    0.863,2, -999.000,9, -999.000,9, -999.000,9
           NA,    P03E,    134,   1,-999.0,       2,  2,19850420,1938,  25.5117, -163.4933,  4995,   18.300,   22.144,   35.298,2,   35.299,2, -999.000,9,  222.100,2,    0.460,2,    0.040,2,    0.000,2,    0.040,2, -999.000,9, -999.000,9, -999.000,9, -999.000,9, -999.000,9
           NA,    P03E,    134,   1,-999.0,       3,  2,19850420,1938,  25.5117, -163.4933,  4995,   33.300,   22.106,   35.298,2,   35.297,2, -999.000,9,  223.100,2,    0.410,2,    0.040,2,    0.000,2,    0.040,2,    1.741,2,    0.890,2, -999.000,9, -999.000,9, -999.000,9
           NA,    P03E,    134,   1,-999.0,       4,  2,19850420,1938,  25.5117, -163.4933,  4995,   53.600,   21.675,   35.283,2,   35.284,2, -999.000,9,  225.300,2,    0.360,2,    0.040,2,    0.000,2,    0.040,2, -999.000,9, -999.000,9, -999.000,9, -999.000,9, -999.000,9
           NA,    P03E,    134,   1,-999.0,       5,  2,19850420,1938,  25.5117, -163.4933,  4995,   73.400,   20.959,   35.210,2,   35.210,2, -999.000,9,  226.600,2,    0.680,2,    0.030,2,    0.000,2,    0.050,2,    1.766,2,    0.919,2, -999.000,9, -999.000,9, -999.000,9
           NA,    P03E,    134,   1,-999.0,       6,  2,19850420,1938,  25.5117, -163.4933,  4995,   93.700,   20.190,   35.156,2,   35.156,2, -999.000,9,  227.900,2,    0.820,2,    0.030,2,    0.000,2,    0.060,2, -999.000,9, -999.000,9, -999.000,9, -999.000,9, -999.000,9
           NA,    P03E,    134,   1,-999.0,       7,  2,19850420,1938,  25.5117, -163.4933,  4995,  124.400,   18.780,   34.982,2,   34.976,2, -999.000,9,  209.700,2,    1.910,2,    1.860,2,    0.050,2,    0.210,2,    1.810,2,    0.900,2, -999.000,9, -999.000,9, -999.000,9
           NA,    P03E,    134,   1,-999.0,       8,  2,19850420,1938,  25.5117, -163.4933,  4995,  154.900,   16.966,   34.783,2,   34.775,2, -999.000,9,  209.500,2,    3.200,2,    3.920,2,    0.020,2,    0.340,2, -999.000,9, -999.000,9, -999.000,9, -999.000,9, -999.000,9
           NA,    P03E,    134,   1,-999.0,       9,  2,19850420,1938,  25.5117, -163.4933,  4995,  185.300,   15.627,   34.638,2,   34.633,2, -999.000,9,  208.600,2,    4.100,2,    5.210,2,    0.010,2,    0.430,2,    1.915,2,    0.957,2, -999.000,9, -999.000,9, -999.000,9
           NA,    P03E,    134,   1,-999.0,      10,  2,19850420,1938,  25.5117, -163.4933,  4995,  235.800,   13.735,   34.445,2,   34.442,2, -999.000,9,  214.800,2,    6.150,2,    7.420,2,    0.000,2,    0.570,2,    1.987,2,    0.968,2, -999.000,9, -999.000,9, -999.000,9
           NA,    P03E,    134,   1,-999.0,      11,  2,19850420,1938,  25.5117, -163.4933,  4995,  285.900,   12.323,   34.330,2,   34.334,2, -999.000,9,  218.000,2,    9.350,2,   10.010,2,    0.000,2,    0.730,2,    1.971,2,    0.955,2, -999.000,9, -999.000,9, -999.000,9
           NA,    P03E,    134,   1,-999.0,      12,  2,19850420,1938,  25.5117, -163.4933,  4995,  336.200,   11.361,   34.254,2,   34.248,2, -999.000,9,  217.600,2,   12.160,2,   12.180,2,    0.000,2,    0.880,2,    1.893,2,    0.908,2, -999.000,9, -999.000,9, -999.000,9
           NA,    P03E,    134,   1,-999.0,      13,  2,19850420,1938,  25.5117, -163.4933,  4995,  396.900,    9.907,   34.157,2,   34.157,2, -999.000,9,  206.400,2,   18.420,2,   16.130,2,    0.000,2,    1.130,2,    1.570,2,    0.747,2, -999.000,9, -999.000,9, -999.000,9
           NA,    P03E,    134,   1,-999.0,      14,  2,19850420,1938,  25.5117, -163.4933,  4995,  457.200,    8.870,   34.106,2,   34.105,2, -999.000,9,  187.200,2,   26.400,2,   20.170,2,    0.000,2,    1.420,2,    1.129,2,    0.559,2, -999.000,9, -999.000,9, -999.000,9
           NA,    P03E,    134,   1,-999.0,      15,  2,19850420,1938,  25.5117, -163.4933,  4995,  527.800,    7.500,   34.059,2,   34.061,2, -999.000,9,  152.300,2,   40.330,2,   26.150,2,    0.000,2,    1.820,2,    0.667,6,    0.336,6, -999.000,9, -999.000,9, -999.000,9
           NA,    P03E,    134,   1,-999.0,      16,  2,19850420,1938,  25.5117, -163.4933,  4995,  608.300,    5.914,   34.036,2,   34.036,2, -999.000,9,   98.200,2,   62.930,2,   34.120,2,    0.000,2,    2.380,2,    0.213,6,    0.126,2, -999.000,9, -999.000,9, -999.000,9
           NA,    P03E,    134,   1,-999.0,      38,  2,19850420,1938,  25.5117, -163.4933,  4995,  709.600,    4.784,   34.134,2,   34.134,2, -999.000,9,   52.200,2,   87.930,2,   40.100,2,    0.000,2,    2.790,2, -999.000,9, -999.000,9, -999.000,9, -999.000,9, -999.000,9
           NA,    P03E,    134,   1,-999.0,      18,  2,19850420,1938,  25.5117, -163.4933,  4995,  810.000,    4.338,   34.208,2,   34.204,2, -999.000,9,   34.300,2,  100.260,2,   42.270,2,    0.000,2,    2.960,2,    0.008,2,    0.005,6, -999.000,9, -999.000,9, -999.000,9
           NA,    P03E,    134,   1,-999.0,      19,  2,19850420,1938,  25.5117, -163.4933,  4995,  911.000,    3.843,   34.348,2,   34.348,2, -999.000,9,   23.800,2,  116.520,2,   43.850,2,    0.000,2,    3.070,2,    0.003,2,    0.004,2, -999.000,9, -999.000,9, -999.000,9
           NA,    P03E,    134,   1,-999.0,      20,  2,19850420,1938,  25.5117, -163.4933,  4995, 1011.500,    3.668,   34.426,2,   34.431,2, -999.000,9,   40.800,2,  119.170,2,   42.920,2,    0.000,2,    2.970,2, -999.000,9, -999.000,9, -999.000,9, -999.000,9, -999.000,9
           NA,    P03E,    134,   1,-999.0,      21,  2,19850420,1938,  25.5117, -163.4933,  4995, 1112.400,    3.388,   34.473,2,   34.474,2, -999.000,9,   48.100,2,  126.320,2,   42.760,2,    0.000,2,    2.960,2, -999.000,9, -999.000,9, -999.000,9, -999.000,9, -999.000,9
           NA,    P03E,    134,   1,-999.0,      39,  2,19850420,1938,  25.5117, -163.4933,  4995, 1263.100,    3.073,   34.519,2,   34.520,2, -999.000,9,   58.700,2,  132.320,2,   42.250,2,    0.000,2,    2.920,2,   -0.003,2,    0.002,2, -999.000,9, -999.000,9, -999.000,9
           NA,    P03E,    134,   1,-999.0,      23,  2,19850420,1938,  25.5117, -163.4933,  4995, 1415.300,    2.798,   34.549,2,   34.550,2, -999.000,9,   67.300,2,  138.320,2,   41.740,2,    0.000,2,    2.900,2, -999.000,9, -999.000,9, -999.000,9, -999.000,9, -999.000,9
           NA,    P03E,    134,   1,-999.0,      24,  2,19850420,1938,  25.5117, -163.4933,  4995, 1618.000,    2.435,   34.580,2,   34.581,2, -999.000,9,   76.900,2,  146.110,2,   41.230,2,    0.000,2,    2.860,2,   -0.005,2,    0.006,2, -999.000,9, -999.000,9, -999.000,9
           NA,    P03E,    134,   1,-999.0,      25,  2,19850420,1938,  25.5117, -163.4933,  4995, 1819.300,    2.150,   34.603,2,   34.603,2, -999.000,9,   86.400,2,  152.350,2,   40.610,2,    0.000,2,    2.800,2, -999.000,9, -999.000,9, -999.000,9, -999.000,9, -999.000,9
           NA,    P03E,    134,   1,-999.0,      26,  2,19850420,1938,  25.5117, -163.4933,  4995, 2022.200,    1.936,   34.621,2,   34.621,2, -999.000,9,   96.000,2,  156.020,2,   40.060,2,    0.000,2,    2.770,2, -999.000,9, -999.000,9, -999.000,9, -999.000,9, -999.000,9
           NA,    P03E,    134,   1,-999.0,      27,  2,19850420,1938,  25.5117, -163.4933,  4995, 2224.900,    1.816,   34.632,2,   34.632,2, -999.000,9,  103.300,2,  159.510,2,   39.600,2,    0.000,2,    2.710,2,   -0.001,2,   -0.001,2, -999.000,9, -999.000,9, -999.000,9
           NA,    P03E,    134,   1,-999.0,      28,  2,19850420,1938,  25.5117, -163.4933,  4995, 2528.800,    1.676,   34.647,2,   34.647,2, -999.000,9,  113.800,2,  159.620,2,   39.190,2,    0.000,2,    2.670,2, -999.000,9, -999.000,9, -999.000,9, -999.000,9, -999.000,9
           NA,    P03E,    134,   1,-999.0,      29,  2,19850420,1938,  25.5117, -163.4933,  4995, 2833.300,    1.582,   34.659,2,   34.658,2, -999.000,9,  123.900,2,  158.940,2,   38.490,2,    0.000,2,    2.610,2, -999.000,9, -999.000,9, -999.000,9, -999.000,9, -999.000,9
           NA,    P03E,    134,   1,-999.0,      30,  2,19850420,1938,  25.5117, -163.4933,  4995, 3139.000,    1.517,   34.667,2,   34.667,2, -999.000,9,  134.900,2,  159.060,2,   37.830,2,    0.000,2,    2.560,2, -999.000,9, -999.000,9, -999.000,9, -999.000,9, -999.000,9
           NA,    P03E,    134,   1,-999.0,      31,  2,19850420,1938,  25.5117, -163.4933,  4995, 3445.200,    1.485,   34.673,2,   34.673,2, -999.000,9,  139.900,2,  157.190,2,   37.380,2,    0.000,2,    2.530,2, -999.000,9, -999.000,9, -999.000,9, -999.000,9, -999.000,9
           NA,    P03E,    134,   1,-999.0,      32,  2,19850420,1938,  25.5117, -163.4933,  4995, 3751.100,    1.466,   34.678,2,   34.677,2, -999.000,9,  145.600,2,  154.940,2,   36.930,2,    0.000,2,    2.510,2, -999.000,9, -999.000,9, -999.000,9, -999.000,9, -999.000,9
           NA,    P03E,    134,   1,-999.0,      37,  2,19850420,1938,  25.5117, -163.4933,  4995, 4058.200,    1.460,   34.682,2,   34.682,2, -999.000,9,  151.000,2,  153.870,2,   36.780,2,    0.000,2,    2.470,2,   -0.006,2,    0.002,2, -999.000,9, -999.000,9, -999.000,9
           NA,    P03E,    134,   1,-999.0,      34,  2,19850420,1938,  25.5117, -163.4933,  4995, 4365.700,    1.467,   34.684,2,   34.684,2, -999.000,9,  154.000,2,  152.010,2,   36.430,2,    0.000,2,    2.460,2, -999.000,9, -999.000,9, -999.000,9, -999.000,9, -999.000,9
           NA,    P03E,    134,   1,-999.0,      35,  2,19850420,1938,  25.5117, -163.4933,  4995, 4722.700,    1.497,   34.686,2,   34.686,2, -999.000,9,  158.700,2,  150.740,2,   36.230,2,    0.000,2,    2.430,2, -999.000,9, -999.000,9, -999.000,9, -999.000,9, -999.000,9
           NA,    P03E,    134,   1,-999.0,      36,  2,19850420,1938,  25.5117, -163.4933,  4995, 5066.600,    1.527,   34.687,2,   34.686,2, -999.000,9,  158.100,2,  148.690,2,   36.120,2,    0.000,2,    2.430,2,    0.007,2,    0.004,2, -999.000,9, -999.000,9, -999.000,9
           NA,    P03E,    132,   2,-999.0,       2,  2,19850420,1214,  25.2800, -162.7400,  5001,   23.600,   22.243,   35.356,2,   35.357,2, -999.000,9,  219.000,2,    1.310,2,    0.150,2,    0.000,2,    0.060,2, -999.000,9, -999.000,9, -999.000,9, -999.000,9, -999.000,9
           NA,    P03E,    132,   2,-999.0,       3,  2,19850420,1214,  25.2800, -162.7400,  5001,   43.600,   21.944,   35.368,2,   35.369,2, -999.000,9,  222.400,2,    1.260,2,    0.150,2,    0.000,2,    0.050,2, -999.000,9, -999.000,9, -999.000,9, -999.000,9, -999.000,9
           NA,    P03E,    132,   2,-999.0,       4,  2,19850420,1214,  25.2800, -162.7400,  5001,   73.700,   21.352,   35.374,2,   35.376,2, -999.000,9,  223.800,2,    1.200,2,    0.140,2,    0.000,2,    0.040,2, -999.000,9, -999.000,9, -999.000,9, -999.000,9, -999.000,9
           NA,    P03E,    132,   2,-999.0,       5,  2,19850420,1214,  25.2800, -162.7400,  5001,  103.800,   20.394,   35.223,2,   35.237,2, -999.000,9,  222.400,2,    1.530,2,    0.210,2,    0.020,2,    0.060,2, -999.000,9, -999.000,9, -999.000,9, -999.000,9, -999.000,9
           NA,    P03E,    132,   2,-999.0,       6,  2,19850420,1214,  25.2800, -162.7400,  5001,  144.200,   19.078,   35.037,2,   35.025,2, -999.000,9,  212.100,2,    2.070,2,    1.360,2,    0.110,2,    0.160,2, -999.000,9, -999.000,9, -999.000,9, -999.000,9, -999.000,9
           NA,    P03E,    132,   2,-999.0,       7,  2,19850420,1214,  25.2800, -162.7400,  5001,  183.800,   17.209,   34.800,2,   34.807,2, -999.000,9,  205.300,2,    3.580,2,    3.450,2,    0.020,2,    0.310,2, -999.000,9, -999.000,9, -999.000,9, -999.000,9, -999.000,9
           NA,    P03E,    132,   2,-999.0,       8,  2,19850420,1214,  25.2800, -162.7400,  5001,  224.700,   15.692,   34.644,2,   34.641,2, -999.000,9,  204.000,2,    5.100,2,    5.530,2,    0.000,2,    0.440,2, -999.000,9, -999.000,9, -999.000,9, -999.000,9, -999.000,9
           NA,    P03E,    132,   2,-999.0,       9,  2,19850420,1214,  25.2800, -162.7400,  5001,  265.200,   13.939,   34.459,2,   34.456,2, -999.000,9,  212.100,2,    7.400,2,    7.630,2,    0.000,2,    0.580,2, -999.000,9, -999.000,9, -999.000,9, -999.000,9, -999.000,9
           NA,    P03E,    132,   2,-999.0,      10,  2,19850420,1214,  25.2800, -162.7400,  5001,  306.100,   12.487,   34.361,2,   34.355,2, -999.000,9,  213.400,2,   11.080,2,   10.660,2,    0.000,2,    0.760,2, -999.000,9, -999.000,9, -999.000,9, -999.000,9, -999.000,9
           NA,    P03E,    132,   2,-999.0,      11,  2,19850420,1214,  25.2800, -162.7400,  5001,  345.500,   11.499,   34.269,2,   34.266,2, -999.000,9,  212.700,2,   13.380,2,   12.230,2,    0.000,2,    0.880,2, -999.000,9, -999.000,9, -999.000,9, -999.000,9, -999.000,9
           NA,    P03E,    132,   2,-999.0,      12,  2,19850420,1214,  25.2800, -162.7400,  5001,  395.500,   10.366,   34.204,2,   34.202,2, -999.000,9,  201.900,2,   19.220,2,   15.800,2,    0.000,2,    1.110,2, -999.000,9, -999.000,9, -999.000,9, -999.000,9, -999.000,9
           NA,    P03E,    132,   2,-999.0,      13,  2,19850420,1214,  25.2800, -162.7400,  5001,  456.600,    8.877,   34.117,2,   34.117,2, -999.000,9,  182.800,2,   28.800,2,   20.560,2,    0.000,2,    1.440,2, -999.000,9, -999.000,9, -999.000,9, -999.000,9, -999.000,9
           NA,    P03E,    132,   2,-999.0,      14,  2,19850420,1214,  25.2800, -162.7400,  5001,  517.500,    7.583,   34.065,2,   34.063,2, -999.000,9,  151.200,2,   41.930,2,   26.110,2,    0.000,2,    1.820,2, -999.000,9, -999.000,9, -999.000,9, -999.000,9, -999.000,9
           NA,    P03E,    132,   2,-999.0,      15,  2,19850420,1214,  25.2800, -162.7400,  5001,  578.200,    6.430,   34.044,2,   34.044,2, -999.000,9,  118.100,2,   56.250,2,   31.310,2,    0.000,2,    2.180,2, -999.000,9, -999.000,9, -999.000,9, -999.000,9, -999.000,9
           NA,    P03E,    132,   2,-999.0,      16,  2,19850420,1214,  25.2800, -162.7400,  5001,  648.100,    5.503,   34.064,2,   34.062,2, -999.000,9,   86.000,2,   71.790,2,   35.870,2,    0.000,2,    2.510,2, -999.000,9, -999.000,9, -999.000,9, -999.000,9, -999.000,9
           NA,    P03E,    132,   2,-999.0,      38,  2,19850420,1214,  25.2800, -162.7400,  5001,  727.400,    4.656,   34.152,2,   34.151,2, -999.000,9,   47.900,2,   92.130,2,   40.360,2,    0.000,2,    2.850,2, -999.000,9, -999.000,9, -999.000,9, -999.000,9, -999.000,9
           NA,    P03E,    132,   2,-999.0,      18,  2,19850420,1214,  25.2800, -162.7400,  5001,  807.700,    4.310,   34.231,2,   34.232,2, -999.000,9,   35.400,2,  103.180,2,   42.270,2,    0.000,2,    2.970,2, -999.000,9, -999.000,9, -999.000,9, -999.000,9, -999.000,9
           NA,    P03E,    132,   2,-999.0,      19,  2,19850420,1214,  25.2800, -162.7400,  5001,  909.700,    3.987,   34.342,2,   34.341,2, -999.000,9,   33.100,2,  113.260,2,   42.880,2,    0.000,2,    3.010,2, -999.000,9, -999.000,9, -999.000,9, -999.000,9, -999.000,9
           NA,    P03E,    132,   2,-999.0,      20,  2,19850420,1214,  25.2800, -162.7400,  5001, 1010.900,    3.716,   34.415,2,   34.416,2, -999.000,9,   40.100,2,  119.770,2,   42.770,2,    0.000,2,    3.000,2, -999.000,9, -999.000,9, -999.000,9, -999.000,9, -999.000,9
           NA,    P03E,    132,   2,-999.0,      21,  2,19850420,1214,  25.2800, -162.7400,  5001, 1112.300,    3.453,   34.471,2,   34.471,2, -999.000,9,   48.300,2,  126.680,2,   42.350,2,    0.000,2,    2.980,2, -999.000,9, -999.000,9, -999.000,9, -999.000,9, -999.000,9
           NA,    P03E,    132,   2,-999.0,      39,  2,19850420,1214,  25.2800, -162.7400,  5001, 1263.700,    3.146,   34.511,2,   34.511,2, -999.000,9,   55.300,2,  133.410,2,   42.300,2,    0.000,2,    2.950,2, -999.000,9, -999.000,9, -999.000,9, -999.000,9, -999.000,9
           NA,    P03E,    132,   2,-999.0,      23,  2,19850420,1214,  25.2800, -162.7400,  5001, 1414.800,    2.769,   34.549,2,   34.550,2, -999.000,9,   67.000,2,  140.960,2,   41.680,2,    0.000,2,    2.920,2, -999.000,9, -999.000,9, -999.000,9, -999.000,9, -999.000,9
           NA,    P03E,    132,   2,-999.0,      24,  2,19850420,1214,  25.2800, -162.7400,  5001, 1616.300,    2.423,   34.579,2,   34.579,2, -999.000,9,   77.900,2,  149.140,2,   40.970,2,    0.000,2,    2.850,2, -999.000,9, -999.000,9, -999.000,9, -999.000,9, -999.000,9
           NA,    P03E,    132,   2,-999.0,      25,  2,19850420,1214,  25.2800, -162.7400,  5001, 1817.800,    2.151,   34.602,2,   34.603,2, -999.000,9,   86.400,2,  155.110,2,   40.410,2,    0.000,2,    2.800,2, -999.000,9, -999.000,9, -999.000,9, -999.000,9, -999.000,9
           NA,    P03E,    132,   2,-999.0,      26,  2,19850420,1214,  25.2800, -162.7400,  5001, 2017.500,    1.967,   34.618,2,   34.619,2, -999.000,9,   94.900,2,  158.450,2,   40.150,2,    0.000,2,    2.780,2, -999.000,9, -999.000,9, -999.000,9, -999.000,9, -999.000,9
           NA,    P03E,    132,   2,-999.0,      27,  2,19850420,1214,  25.2800, -162.7400,  5001, 2217.200,    1.835,   34.630,2,   34.631,2, -999.000,9,  102.800,2,  159.560,2,   39.690,2,    0.000,2,    2.730,2, -999.000,9, -999.000,9, -999.000,9, -999.000,9, -999.000,9
           NA,    P03E,    132,   2,-999.0,      28,  2,19850420,1214,  25.2800, -162.7400,  5001, 2520.600,    1.676,   34.647,2,   34.648,2, -999.000,9,  114.000,2,  162.100,2,   38.890,2,    0.000,2,    2.660,2, -999.000,9, -999.000,9, -999.000,9, -999.000,9, -999.000,9
           NA,    P03E,    132,   2,-999.0,      29,  2,19850420,1214,  25.2800, -162.7400,  5001, 2828.200,    1.550,   34.661,2,   34.661,2, -999.000,9,  126.800,2,  161.790,2,   37.880,2,    0.000,2,    2.580,2, -999.000,9, -999.000,9, -999.000,9, -999.000,9, -999.000,9
           NA,    P03E,    132,   2,-999.0,      30,  2,19850420,1214,  25.2800, -162.7400,  5001, 3131.100,    1.498,   34.668,2,   34.670,2, -999.000,9,  135.000,2,  160.260,2,   37.480,2,    0.000,2,    2.560,2, -999.000,9, -999.000,9, -999.000,9, -999.000,9, -999.000,9
           NA,    P03E,    132,   2,-999.0,      31,  2,19850420,1214,  25.2800, -162.7400,  5001, 3435.600,    1.466,   34.674,2,   34.675,2, -999.000,9,  142.200,2,  158.130,2,   37.130,2,    0.000,2,    2.520,2, -999.000,9, -999.000,9, -999.000,9, -999.000,9, -999.000,9
           NA,    P03E,    132,   2,-999.0,      32,  2,19850420,1214,  25.2800, -162.7400,  5001, 3742.800,    1.460,   34.678,2,   34.678,2, -999.000,9,  147.600,2,  156.410,2,   36.770,2,    0.000,2,    2.510,2, -999.000,9, -999.000,9, -999.000,9, -999.000,9, -999.000,9
           NA,    P03E,    132,   2,-999.0,      37,  2,19850420,1214,  25.2800, -162.7400,  5001, 4048.800,    1.462,   34.681,2,   34.681,2, -999.000,9,  150.900,2,  154.490,2,   36.270,2,    0.000,2,    2.470,2, -999.000,9, -999.000,9, -999.000,9, -999.000,9, -999.000,9
           NA,    P03E,    132,   2,-999.0,      34,  2,19850420,1214,  25.2800, -162.7400,  5001, 4358.400,    1.475,   34.683,2,   34.684,2, -999.000,9,  153.600,2,  154.190,2,   36.270,2,    0.000,2,    2.460,2, -999.000,9, -999.000,9, -999.000,9, -999.000,9, -999.000,9
           NA,    P03E,    132,   2,-999.0,      35,  2,19850420,1214,  25.2800, -162.7400,  5001, 4719.700,    1.501,   34.685,2,   34.685,2, -999.000,9,  156.400,2,  152.470,2,   36.220,2,    0.000,2,    2.440,2, -999.000,9, -999.000,9, -999.000,9, -999.000,9, -999.000,9
           NA,    P03E,    132,   2,-999.0,      36,  2,19850420,1214,  25.2800, -162.7400,  5001, 5067.000,    1.537,   34.686,2,   34.686,2, -999.000,9,  157.700,2,  150.560,2,   36.110,2,    0.000,2,    2.430,2, -999.000,9, -999.000,9, -999.000,9, -999.000,9, -999.000,9