BOTTLE,20203103JOAExport
EXPOCODE,SECT_ID,STNNBR,CASTNO,SAMPNO,BTLNBR,BTLNBR_FLAG_W,DATE,TIME,LATITUDE,LONGITUDE,DEPTH,CTDPRS,CTDTMP,CTDSAL,CTDSAL_FLAG_W,SALNTY,SALNTY_FLAG_W,CTDOXY,CTDOXY_FLAG_W,OXYGEN,OXYGEN_FLAG_W,SILCAT,SILCAT_FLAG_W,NITRAT,NITRAT_FLAG_W,NITRIT,NITRIT_FLAG_W,PHSPHT,PHSPHT_FLAG_W,CFC-11,CFC-11_FLAG_W,CFC-12,CFC-12_FLAG_W,SF6,SF6_FLAG_W,TCARBN,TCARBN_FLAG_W,ALKALI,ALKALI_FLAG_W
,,,,,,,,,,,,,DB,ITS-90,PSS-78,,PSS-78,,UMOL/KG,,UMOL/KG,,UMOL/KG,,UMOL/KG,,UMOL/KG,,UMOL/KG,,PMOL/KG,,PMOL/KG,,FMOL/KG,,UMOL/KG,,UMOL/KG
           NA,    P03W,    343,   2,-999.0,       5,  2,19850527,1339,  24.2633,  129.7900,  4084,    1.800,   25.100,   34.908,2,   34.914,2, -999.000,9,  211.200,2,    2.130,2,    0.050,2,    0.000,2,    0.040,2, -999.000,9, -999.000,9, -999.000,9, -999.000,9, -999.000,9
           NA,    P03W,    343,   2,-999.0,      38,  2,19850527,1339,  24.2633,  129.7900,  4084,   23.800,   24.953,   34.904,2,   34.906,2, -999.000,9,  213.100,2,    2.110,2,    0.050,2,    0.000,2,    0.040,2, -999.000,9, -999.000,9, -999.000,9, -999.000,9, -999.000,9
           NA,    P03W,    343,   2,-999.0,       3,  2,19850527,1339,  24.2633,  129.7900,  4084,   43.600,   22.769,   34.884,2,   34.884,2, -999.000,9,  226.600,2,    2.090,2,    0.050,2,    0.000,2,    0.040,2, -999.000,9, -999.000,9, -999.000,9, -999.000,9, -999.000,9
           NA,    P03W,    343,   2,-999.0,       4,  2,19850527,1339,  24.2633,  129.7900,  4084,   73.800,   20.938,   34.880,2,   34.885,2, -999.000,9,  225.600,2,    2.080,2,    0.050,2,    0.000,2,    0.040,2, -999.000,9, -999.000,9, -999.000,9, -999.000,9, -999.000,9
           NA,    P03W,    343,   2,-999.0,       1,  2,19850527,1339,  24.2633,  129.7900,  4084,  104.300,   20.161,   34.896,2,   34.898,2, -999.000,9,  223.600,2,    2.290,2,    0.050,2,    0.000,2,    0.050,2, -999.000,9, -999.000,9, -999.000,9, -999.000,9, -999.000,9
           NA,    P03W,    343,   2,-999.0,       6,  2,19850527,1339,  24.2633,  129.7900,  4084,  144.600,   19.418,   34.862,2,   34.859,2, -999.000,9,  214.200,2,    2.270,2,    1.450,2,    0.020,2,    0.150,2, -999.000,9, -999.000,9, -999.000,9, -999.000,9, -999.000,9
           NA,    P03W,    343,   2,-999.0,       7,  2,19850527,1339,  24.2633,  129.7900,  4084,  184.000,   18.418,   34.834,2,   34.836,2, -999.000,9,  208.700,2,    3.360,2,    3.030,2,    0.020,2,    0.250,2, -999.000,9, -999.000,9, -999.000,9, -999.000,9, -999.000,9
           NA,    P03W,    343,   2,-999.0,       8,  2,19850527,1339,  24.2633,  129.7900,  4084,  230.200,   17.427,   34.812,2,   34.814,2, -999.000,9,  210.700,2,    4.010,2,    3.780,2,    0.010,2,    0.290,2, -999.000,9, -999.000,9, -999.000,9, -999.000,9, -999.000,9
           NA,    P03W,    343,   2,-999.0,       9,  2,19850527,1339,  24.2633,  129.7900,  4084,  278.500,   16.610,   34.777,2,   34.777,2, -999.000,9,  212.700,2,    4.880,2,    4.980,2,    0.000,2,    0.370,2, -999.000,9, -999.000,9, -999.000,9, -999.000,9, -999.000,9
           NA,    P03W,    343,   2,-999.0,      10,  2,19850527,1339,  24.2633,  129.7900,  4084,  330.600,   16.061,   34.745,2,   34.746,2, -999.000,9,  214.600,2,    5.970,2,    5.630,2,    0.000,2,    0.420,2, -999.000,9, -999.000,9, -999.000,9, -999.000,9, -999.000,9
           NA,    P03W,    343,   2,-999.0,      11,  2,19850527,1339,  24.2633,  129.7900,  4084,  383.400,   15.542,   34.710,2,   34.709,2, -999.000,9,  210.200,2,    7.050,2,    6.920,2,    0.010,2,    0.510,2, -999.000,9, -999.000,9, -999.000,9, -999.000,9, -999.000,9
           NA,    P03W,    343,   2,-999.0,      12,  2,19850527,1339,  24.2633,  129.7900,  4084,  444.700,   14.688,   34.641,2,   34.638,2, -999.000,9,  206.300,2,   10.130,2,    8.810,2,    0.010,2,    0.640,2, -999.000,9, -999.000,9, -999.000,9, -999.000,9, -999.000,9
           NA,    P03W,    343,   2,-999.0,      13,  2,19850527,1339,  24.2633,  129.7900,  4084,  505.300,   13.705,   34.638,2,   34.639,2, -999.000,9,  228.900,2,    9.000,2,    8.030,2,    0.000,2,    0.590,2, -999.000,9, -999.000,9, -999.000,9, -999.000,9, -999.000,9
           NA,    P03W,    343,   2,-999.0,      14,  2,19850527,1339,  24.2633,  129.7900,  4084,  566.100,   13.516,   34.634,2,   34.634,2, -999.000,9,  234.400,2,    8.970,2,    7.700,2,    0.000,2,    0.560,2, -999.000,9, -999.000,9, -999.000,9, -999.000,9, -999.000,9
           NA,    P03W,    343,   2,-999.0,      15,  2,19850527,1339,  24.2633,  129.7900,  4084,  646.900,   11.475,   34.386,2,   34.384,2, -999.000,9,  188.900,2,   22.390,2,   15.420,2,    0.000,2,    1.090,2, -999.000,9, -999.000,9, -999.000,9, -999.000,9, -999.000,9
           NA,    P03W,    343,   2,-999.0,      16,  2,19850527,1339,  24.2633,  129.7900,  4084,  727.600,    8.229,   34.169,2,   34.169,2, -999.000,9,  147.700,2,   45.710,2,   24.960,2,    0.000,2,    1.760,2, -999.000,9, -999.000,9, -999.000,9, -999.000,9, -999.000,9
           NA,    P03W,    343,   2,-999.0,      17,  2,19850527,1339,  24.2633,  129.7900,  4084,  807.800,    6.190,   34.142,2,   34.143,2, -999.000,9,  108.800,2,   70.600,2,   32.160,2,    0.000,2,    2.300,2, -999.000,9, -999.000,9, -999.000,9, -999.000,9, -999.000,9
           NA,    P03W,    343,   2,-999.0,      18,  2,19850527,1339,  24.2633,  129.7900,  4084,  909.000,    5.136,   34.194,2,   34.193,2, -999.000,9,   81.000,2,   89.350,2,   36.490,2,    0.000,2,    2.560,2, -999.000,9, -999.000,9, -999.000,9, -999.000,9, -999.000,9
           NA,    P03W,    343,   2,-999.0,      23,  2,19850527,1339,  24.2633,  129.7900,  4084, 1009.300,    4.520,   34.282,2,   34.283,2, -999.000,9,   61.900,2,  103.460,2,   39.320,2,    0.000,2,    2.780,2, -999.000,9, -999.000,9, -999.000,9, -999.000,9, -999.000,9
           NA,    P03W,    343,   2,-999.0,      20,  2,19850527,1339,  24.2633,  129.7900,  4084, 1109.700,    3.885,   34.365,2,   34.364,2, -999.000,9,   57.800,2,  118.270,2,   40.470,2,    0.010,2,    2.850,2, -999.000,9, -999.000,9, -999.000,9, -999.000,9, -999.000,9
           NA,    P03W,    343,   2,-999.0,      21,  2,19850527,1339,  24.2633,  129.7900,  4084, 1210.600,    3.488,   34.413,2,   34.413,2, -999.000,9,   60.100,2,  127.510,2,   40.770,2,    0.000,2,    2.870,2, -999.000,9, -999.000,9, -999.000,9, -999.000,9, -999.000,9
           NA,    P03W,    343,   2,-999.0,      22,  2,19850527,1339,  24.2633,  129.7900,  4084, 1414.700,    2.935,   34.491,2,   34.490,2, -999.000,9,   74.700,2,  137.220,2,   40.050,2,    0.000,2,    2.780,2, -999.000,9, -999.000,9, -999.000,9, -999.000,9, -999.000,9
           NA,    P03W,    343,   2,-999.0,      39,  2,19850527,1339,  24.2633,  129.7900,  4084, 1616.000,    2.528,   34.542,2,   34.543,2, -999.000,9,   88.600,2,  143.120,2,   39.740,2,    0.000,2,    2.760,2, -999.000,9, -999.000,9, -999.000,9, -999.000,9, -999.000,9
           NA,    P03W,    343,   2,-999.0,      24,  2,19850527,1339,  24.2633,  129.7900,  4084, 1817.600,    2.294,   34.575,2,   34.575,2, -999.000,9,   99.700,2,  145.410,2,   39.030,2,    0.000,2,    2.700,2, -999.000,9, -999.000,9, -999.000,9, -999.000,9, -999.000,9
           NA,    P03W,    343,   2,-999.0,      40,  2,19850527,1339,  24.2633,  129.7900,  4084, 2019.900,    2.056,   34.606,2,   34.607,2, -999.000,9,  114.000,2,  145.450,2,   38.430,2,    0.000,2,    2.660,2, -999.000,9, -999.000,9, -999.000,9, -999.000,9, -999.000,9
           NA,    P03W,    343,   2,-999.0,      26,  2,19850527,1339,  24.2633,  129.7900,  4084, 2222.600,    1.919,   34.624,2,   34.624,2, -999.000,9,  120.900,2,  145.040,2,   38.020,2,    0.000,2,    2.640,2, -999.000,9, -999.000,9, -999.000,9, -999.000,9, -999.000,9
           NA,    P03W,    343,   2,-999.0,      27,  2,19850527,1339,  24.2633,  129.7900,  4084, 2425.800,    1.808,   34.638,2,   34.639,2, -999.000,9,  129.400,2,  144.860,2,   37.670,2,    0.000,2,    2.590,2, -999.000,9, -999.000,9, -999.000,9, -999.000,9, -999.000,9
           NA,    P03W,    343,   2,-999.0,      28,  2,19850527,1339,  24.2633,  129.7900,  4084, 2628.900,    1.717,   34.649,2,   34.649,2, -999.000,9,  134.700,2,  144.900,2,   37.310,2,    0.000,2,    2.560,2, -999.000,9, -999.000,9, -999.000,9, -999.000,9, -999.000,9
           NA,    P03W,    343,   2,-999.0,      29,  2,19850527,1339,  24.2633,  129.7900,  4084, 2832.700,    1.652,   34.657,2,   34.657,2, -999.000,9,  139.900,2,  146.740,2,   36.960,2,    0.000,2,    2.550,2, -999.000,9, -999.000,9, -999.000,9, -999.000,9, -999.000,9
           NA,    P03W,    343,   2,-999.0,      30,  2,19850527,1339,  24.2633,  129.7900,  4084, 3036.200,    1.628,   34.661,2,   34.661,2, -999.000,9,  143.500,2,  146.550,2,   36.750,2,    0.010,2,    2.510,2, -999.000,9, -999.000,9, -999.000,9, -999.000,9, -999.000,9
           NA,    P03W,    343,   2,-999.0,      31,  2,19850527,1339,  24.2633,  129.7900,  4084, 3239.300,    1.598,   34.666,2,   34.666,2, -999.000,9,  146.000,2,  145.250,2,   36.550,2,    0.000,2,    2.490,2, -999.000,9, -999.000,9, -999.000,9, -999.000,9, -999.000,9
           NA,    P03W,    343,   2,-999.0,      32,  2,19850527,1339,  24.2633,  129.7900,  4084, 3442.700,    1.579,   34.669,2,   34.668,2, -999.000,9,  149.700,2,  144.400,2,   36.550,2,    0.000,2,    2.510,2, -999.000,9, -999.000,9, -999.000,9, -999.000,9, -999.000,9
           NA,    P03W,    343,   2,-999.0,      33,  2,19850527,1339,  24.2633,  129.7900,  4084, 3646.000,    1.562,   34.674,2,   34.672,2, -999.000,9,  151.500,2,  145.110,2,   36.340,2,    0.000,2,    2.460,2, -999.000,9, -999.000,9, -999.000,9, -999.000,9, -999.000,9
           NA,    P03W,    343,   2,-999.0,      34,  2,19850527,1339,  24.2633,  129.7900,  4084, 3848.000,    1.562,   34.675,2,   34.676,2, -999.000,9,  152.600,2,  145.150,2,   36.290,2,    0.000,2,    2.450,2, -999.000,9, -999.000,9, -999.000,9, -999.000,9, -999.000,9
           NA,    P03W,    343,   2,-999.0,      35,  2,19850527,1339,  24.2633,  129.7900,  4084, 4050.900,    1.563,   34.677,2,   34.676,2, -999.000,9,  154.100,2,  144.970,2,   36.130,2,    0.000,2,    2.450,2, -999.000,9, -999.000,9, -999.000,9, -999.000,9, -999.000,9
           NA,    P03W,    343,   2,-999.0,      37,  2,19850527,1339,  24.2633,  129.7900,  4084, 4162.400,    1.567,   34.678,2,   34.677,2, -999.000,9,  154.300,2,  143.460,2,   35.880,2,    0.000,2,    2.440,2, -999.000,9, -999.000,9, -999.000,9, -999.000,9, -999.000,9