BOTTLE,20203103JOAExport
EXPOCODE,SECT_ID,STNNBR,CASTNO,SAMPNO,BTLNBR,BTLNBR_FLAG_W,DATE,TIME,LATITUDE,LONGITUDE,DEPTH,CTDPRS,CTDTMP,CTDSAL,CTDSAL_FLAG_W,SALNTY,SALNTY_FLAG_W,CTDOXY,CTDOXY_FLAG_W,OXYGEN,OXYGEN_FLAG_W,SILCAT,SILCAT_FLAG_W,NITRAT,NITRAT_FLAG_W,NITRIT,NITRIT_FLAG_W,PHSPHT,PHSPHT_FLAG_W,CFC-11,CFC-11_FLAG_W,CFC-12,CFC-12_FLAG_W,SF6,SF6_FLAG_W,TCARBN,TCARBN_FLAG_W,ALKALI,ALKALI_FLAG_W
,,,,,,,,,,,,,DB,ITS-90,PSS-78,,PSS-78,,UMOL/KG,,UMOL/KG,,UMOL/KG,,UMOL/KG,,UMOL/KG,,UMOL/KG,,PMOL/KG,,PMOL/KG,,FMOL/KG,,UMOL/KG,,UMOL/KG
           NA,    P03E,    144,   1,-999.0,       1,  2,19850422,0631,  24.8950, -166.3550,  5081,    2.400,   23.476,   35.300,2,   35.302,2, -999.000,9,  218.100,2,    1.660,2,    0.040,2,    0.000,2,    0.080,2,    1.691,2,    0.873,2, -999.000,9, -999.000,9, -999.000,9
           NA,    P03E,    144,   1,-999.0,       2,  2,19850422,0631,  24.8950, -166.3550,  5081,   23.200,   23.075,   35.301,2,   35.301,2, -999.000,9,  218.500,2,    1.560,2,    0.040,2,    0.000,2,    0.070,2,    1.674,2,    0.887,2, -999.000,9, -999.000,9, -999.000,9
           NA,    P03E,    144,   1,-999.0,       3,  2,19850422,0631,  24.8950, -166.3550,  5081,   43.300,   22.268,   35.337,2,   35.338,2, -999.000,9,  221.500,2,    1.660,2,    0.040,2,    0.000,2,    0.070,2, -999.000,9, -999.000,9, -999.000,9, -999.000,9, -999.000,9
           NA,    P03E,    144,   1,-999.0,       4,  2,19850422,0631,  24.8950, -166.3550,  5081,   73.100,   21.581,   35.251,2,   35.254,2, -999.000,9,  221.000,2,    1.660,2,    0.040,2,    0.000,2,    0.070,2,    1.746,2,    0.897,2, -999.000,9, -999.000,9, -999.000,9
           NA,    P03E,    144,   1,-999.0,       5,  2,19850422,0631,  24.8950, -166.3550,  5081,  102.900,   20.335,   35.128,2,   35.144,2, -999.000,9,  219.200,2,    1.760,2,    0.310,2,    0.040,2,    0.110,2,    1.759,2,    0.896,2, -999.000,9, -999.000,9, -999.000,9
           NA,    P03E,    144,   1,-999.0,       6,  2,19850422,0631,  24.8950, -166.3550,  5081,  142.500,   18.004,   34.908,2,   34.909,2, -999.000,9,  210.400,2,    3.420,2,    3.050,2,    0.070,2,    0.290,2,    1.829,2,    0.911,2, -999.000,9, -999.000,9, -999.000,9
           NA,    P03E,    144,   1,-999.0,       7,  2,19850422,0631,  24.8950, -166.3550,  5081,  182.800,   16.825,   34.778,2,   34.779,2, -999.000,9,  206.000,2,    4.890,2,    4.710,2,    0.020,2,    0.390,2,    1.826,2,    0.893,2, -999.000,9, -999.000,9, -999.000,9
           NA,    P03E,    144,   1,-999.0,       8,  2,19850422,0631,  24.8950, -166.3550,  5081,  232.300,   15.275,   34.631,2,   34.633,2, -999.000,9,  209.000,2,    6.550,2,    6.710,2,    0.010,2,    0.520,2,    1.869,2,    0.945,2, -999.000,9, -999.000,9, -999.000,9
           NA,    P03E,    144,   1,-999.0,       9,  2,19850422,0631,  24.8950, -166.3550,  5081,  282.700,   13.524,   34.475,2,   34.473,2, -999.000,9,  210.300,2,    9.480,2,    9.370,2,    0.000,2,    0.690,2,    1.813,2,    0.909,2, -999.000,9, -999.000,9, -999.000,9
           NA,    P03E,    144,   1,-999.0,      10,  2,19850422,0631,  24.8950, -166.3550,  5081,  331.500,   12.090,   34.353,2,   34.353,2, -999.000,9,  206.700,2,   14.080,2,   12.030,2,    0.000,2,    0.890,2,    1.664,2,    0.812,2, -999.000,9, -999.000,9, -999.000,9
           NA,    P03E,    144,   1,-999.0,      11,  2,19850422,0631,  24.8950, -166.3550,  5081,  390.500,   10.737,   34.245,2,   34.245,2, -999.000,9,  197.600,2,   19.160,2,   15.550,2,    0.000,2,    1.110,2,    1.442,2,    0.717,2, -999.000,9, -999.000,9, -999.000,9
           NA,    P03E,    144,   1,-999.0,      12,  2,19850422,0631,  24.8950, -166.3550,  5081,  450.200,    9.026,   34.142,2,   34.142,2, -999.000,9,  171.900,2,   30.020,2,   21.120,2,    0.000,2,    1.520,2,    0.968,2,    0.482,2, -999.000,9, -999.000,9, -999.000,9
           NA,    P03E,    144,   1,-999.0,      13,  2,19850422,0631,  24.8950, -166.3550,  5081,  510.800,    7.809,   34.101,2,   34.103,2, -999.000,9,  147.000,2,   42.630,2,   25.810,2,    0.000,2,    1.840,2,    0.661,2,    0.339,2, -999.000,9, -999.000,9, -999.000,9
           NA,    P03E,    144,   1,-999.0,      14,  2,19850422,0631,  24.8950, -166.3550,  5081,  580.100,    6.916,   34.082,2,   34.082,2, -999.000,9,  126.100,2,   53.590,2,   29.430,2,    0.000,2,    2.100,2,    0.484,2,    0.281,2, -999.000,9, -999.000,9, -999.000,9
           NA,    P03E,    144,   1,-999.0,      15,  2,19850422,0631,  24.8950, -166.3550,  5081,  649.100,    5.917,   34.090,2,   34.091,2, -999.000,9,   96.100,2,   69.230,2,   33.930,2,    0.000,2,    2.420,2,    0.249,6,    0.136,6, -999.000,9, -999.000,9, -999.000,9
           NA,    P03E,    144,   1,-999.0,      16,  2,19850422,0631,  24.8950, -166.3550,  5081,  717.000,    4.841,   34.151,2, -999.000,5, -999.000,9,   58.300,2,   90.450,2,   38.820,2,    0.000,2,    2.810,2,    0.069,6,    0.044,2, -999.000,9, -999.000,9, -999.000,9
           NA,    P03E,    144,   1,-999.0,      38,  2,19850422,0631,  24.8950, -166.3550,  5081,  795.000,    4.498,   34.245,2,   34.243,2, -999.000,9,   41.300,2,  101.680,2,   41.060,2,    0.000,2,    2.950,2,    0.026,6,    0.012,2, -999.000,9, -999.000,9, -999.000,9
           NA,    P03E,    144,   1,-999.0,      18,  2,19850422,0631,  24.8950, -166.3550,  5081,  892.100,    4.208,   34.339,2,   34.338,2, -999.000,9,   39.600,2,  110.380,2,   41.750,2,    0.000,2,    3.010,2,    0.006,2,   -0.003,2, -999.000,9, -999.000,9, -999.000,9
           NA,    P03E,    144,   1,-999.0,      19,  2,19850422,0631,  24.8950, -166.3550,  5081,  990.200,    3.819,   34.420,2,   34.420,2, -999.000,9,   43.900,2,  118.880,2,   42.130,2,    0.000,2,    3.030,2, -999.000,9, -999.000,9, -999.000,9, -999.000,9, -999.000,9
           NA,    P03E,    144,   1,-999.0,      20,  2,19850422,0631,  24.8950, -166.3550,  5081, 1087.800,    3.456,   34.477,2,   34.477,2, -999.000,9,   51.300,2,  126.500,2,   41.840,2,    0.000,2,    2.990,2,   -0.004,2,   -0.003,2, -999.000,9, -999.000,9, -999.000,9
           NA,    P03E,    144,   1,-999.0,      21,  2,19850422,0631,  24.8950, -166.3550,  5081, 1234.200,    3.158,   34.520,2,   34.519,2, -999.000,9,   60.000,2,  133.340,2,   41.740,2,    0.000,2,    2.980,2, -999.000,9, -999.000,9, -999.000,9, -999.000,9, -999.000,9
           NA,    P03E,    144,   1,-999.0,      39,  2,19850422,0631,  24.8950, -166.3550,  5081, 1380.700,    2.812,   34.546,2,   34.547,2, -999.000,9,   68.200,2,  141.740,2,   41.350,2,    0.000,2,    2.950,2,   -0.009,2,   -0.004,2, -999.000,9, -999.000,9, -999.000,9
           NA,    P03E,    144,   1,-999.0,      23,  2,19850422,0631,  24.8950, -166.3550,  5081, 1564.800,    2.497,   34.571,2,   34.572,2, -999.000,9,   75.200,2,  149.260,2,   40.960,2,    0.000,2,    2.900,2, -999.000,9, -999.000,9, -999.000,9, -999.000,9, -999.000,9
           NA,    P03E,    144,   1,-999.0,      24,  2,19850422,0631,  24.8950, -166.3550,  5081, 1755.900,    2.238,   34.596,2,   34.597,2, -999.000,9,   83.900,2,  154.540,2,   40.370,2,    0.000,2,    2.870,2,    0.005,2, -999.000,9, -999.000,9, -999.000,9, -999.000,9
           NA,    P03E,    144,   1,-999.0,      25,  2,19850422,0631,  24.8950, -166.3550,  5081, 1950.200,    2.015,   34.614,2,   34.614,2, -999.000,9,   92.600,2,  159.910,2,   39.980,2,    0.000,2,    2.830,2, -999.000,9, -999.000,9, -999.000,9, -999.000,9, -999.000,9
           NA,    P03E,    144,   1,-999.0,      26,  2,19850422,0631,  24.8950, -166.3550,  5081, 2146.200,    1.827,   34.631,2, -999.000,5, -999.000,9,  102.600,2,  162.750,2,   39.390,2,    0.000,2,    2.810,2, -999.000,9, -999.000,9, -999.000,9, -999.000,9, -999.000,9
           NA,    P03E,    144,   1,-999.0,      27,  2,19850422,0631,  24.8950, -166.3550,  5081, 2438.900,    1.673,   34.646,2,   34.646,2, -999.000,9,  114.300,2,  163.430,2,   38.610,2,    0.000,2,    2.730,2, -999.000,9, -999.000,9, -999.000,9, -999.000,9, -999.000,9
           NA,    P03E,    144,   1,-999.0,      28,  2,19850422,0631,  24.8950, -166.3550,  5081, 2736.800,    1.592,   34.655,2,   34.656,2, -999.000,9,  123.400,2,  163.920,2,   38.220,2,    0.000,2,    2.690,2, -999.000,9, -999.000,9, -999.000,9, -999.000,9, -999.000,9
           NA,    P03E,    144,   1,-999.0,      29,  2,19850422,0631,  24.8950, -166.3550,  5081, 3024.000,    1.537,   34.663,2,   34.663,2, -999.000,9,  129.500,2,  161.180,2,   37.630,2,    0.000,2,    2.630,2, -999.000,9, -999.000,9, -999.000,9, -999.000,9, -999.000,9
           NA,    P03E,    144,   1,-999.0,      30,  2,19850422,0631,  24.8950, -166.3550,  5081, 3324.600,    1.485,   34.671,2,   34.671,2, -999.000,9,  139.000,2,  160.100,2,   37.040,2,    0.000,2,    2.620,2, -999.000,9, -999.000,9, -999.000,9, -999.000,9, -999.000,9
           NA,    P03E,    144,   1,-999.0,      31,  2,19850422,0631,  24.8950, -166.3550,  5081, 3630.800,    1.455,   34.678,2,   34.677,2, -999.000,9,  146.900,2,  158.050,2,   36.560,2,    0.000,2,    2.560,2, -999.000,9, -999.000,9, -999.000,9, -999.000,9, -999.000,9
           NA,    P03E,    144,   1,-999.0,      32,  2,19850422,0631,  24.8950, -166.3550,  5081, 3937.400,    1.444,   34.682,2,   34.681,2, -999.000,9,  151.600,2,  156.190,2,   36.070,2,    0.000,2,    2.530,2, -999.000,9, -999.000,9, -999.000,9, -999.000,9, -999.000,9
           NA,    P03E,    144,   1,-999.0,      37,  2,19850422,0631,  24.8950, -166.3550,  5081, 4230.100,    1.458,   34.683,2,   34.683,2, -999.000,9,  154.300,2,  153.940,2,   35.970,2,    0.000,2,    2.520,2, -999.000,9, -999.000,9, -999.000,9, -999.000,9, -999.000,9
           NA,    P03E,    144,   1,-999.0,      34,  2,19850422,0631,  24.8950, -166.3550,  5081, 4523.600,    1.481,   34.684,2,   34.684,2, -999.000,9,  156.000,2,  153.260,2,   35.870,2,    0.000,2,    2.490,2, -999.000,9, -999.000,9, -999.000,9, -999.000,9, -999.000,9
           NA,    P03E,    144,   1,-999.0,      35,  2,19850422,0631,  24.8950, -166.3550,  5081, 4831.000,    1.510,   34.685,2,   34.685,2, -999.000,9,  156.000,2,  151.790,2,   35.770,2,    0.000,2,    2.490,2, -999.000,9, -999.000,9, -999.000,9, -999.000,9, -999.000,9
           NA,    P03E,    144,   1,-999.0,      36,  2,19850422,0631,  24.8950, -166.3550,  5081, 5145.800,    1.547,   34.685,2,   34.686,2, -999.000,9,  157.700,2,  151.010,2,   35.680,2,    0.000,2,    2.480,2,   -0.006,2,   -0.001,2, -999.000,9, -999.000,9, -999.000,9