BOTTLE,20203103JOAExport
EXPOCODE,SECT_ID,STNNBR,CASTNO,SAMPNO,BTLNBR,BTLNBR_FLAG_W,DATE,TIME,LATITUDE,LONGITUDE,DEPTH,CTDPRS,CTDTMP,CTDSAL,CTDSAL_FLAG_W,SALNTY,SALNTY_FLAG_W,CTDOXY,CTDOXY_FLAG_W,OXYGEN,OXYGEN_FLAG_W,SILCAT,SILCAT_FLAG_W,NITRAT,NITRAT_FLAG_W,NITRIT,NITRIT_FLAG_W,PHSPHT,PHSPHT_FLAG_W,CFC-11,CFC-11_FLAG_W,CFC-12,CFC-12_FLAG_W,SF6,SF6_FLAG_W,TCARBN,TCARBN_FLAG_W,ALKALI,ALKALI_FLAG_W
,,,,,,,,,,,,,DB,ITS-90,PSS-78,,PSS-78,,UMOL/KG,,UMOL/KG,,UMOL/KG,,UMOL/KG,,UMOL/KG,,UMOL/KG,,PMOL/KG,,PMOL/KG,,FMOL/KG,,UMOL/KG,,UMOL/KG
           NA,    P03E,    102,   1,-999.0,       1,  2,19850415,1951,  24.2617, -151.9750,  5306,    1.600,   22.656,   35.263,2,   35.267,2, -999.000,9,  218.600,2,    1.130,2,    0.040,2,    0.000,2,    0.090,2,    1.641,2,    0.854,2, -999.000,9, -999.000,9, -999.000,9
           NA,    P03E,    102,   1,-999.0,       2,  2,19850415,1951,  24.2617, -151.9750,  5306,   24.700,   22.406,   35.297,2,   35.281,2, -999.000,9,  216.800,2,    1.100,2,    0.040,2,    0.000,2,    0.090,2,    1.712,2,    0.876,2, -999.000,9, -999.000,9, -999.000,9
           NA,    P03E,    102,   1,-999.0,       3,  2,19850415,1951,  24.2617, -151.9750,  5306,   44.700,   22.337,   35.348,2,   35.352,2, -999.000,9,  220.400,2,    1.080,2,    0.040,2,    0.000,2,    0.080,2, -999.000,9, -999.000,9, -999.000,9, -999.000,9, -999.000,9
           NA,    P03E,    102,   1,-999.0,       4,  2,19850415,1951,  24.2617, -151.9750,  5306,   73.700,   22.132,   35.341,2,   35.344,2, -999.000,9,  217.400,2,    1.060,2,    0.040,2,    0.000,2,    0.070,2, -999.000,9, -999.000,9, -999.000,9, -999.000,9, -999.000,9
           NA,    P03E,    102,   1,-999.0,       5,  2,19850415,1951,  24.2617, -151.9750,  5306,  103.800,   22.066,   35.365,2,   35.368,2, -999.000,9,  219.400,2,    0.850,2,    0.040,2,    0.000,2,    0.070,2,    1.686,2,    0.881,2, -999.000,9, -999.000,9, -999.000,9
           NA,    P03E,    102,   1,-999.0,       6,  2,19850415,1951,  24.2617, -151.9750,  5306,  143.300,   20.910,   35.202,2,   35.194,2, -999.000,9,  200.300,2,    1.200,2,    1.170,2,    0.070,2,    0.170,2, -999.000,9, -999.000,9, -999.000,9, -999.000,9, -999.000,9
           NA,    P03E,    102,   1,-999.0,       7,  2,19850415,1951,  24.2617, -151.9750,  5306,  185.700,   18.522,   34.925,2,   34.918,2, -999.000,9,  196.200,2,    2.480,2,    3.010,2,    0.020,2,    0.310,2,    1.781,2,    0.890,2, -999.000,9, -999.000,9, -999.000,9
           NA,    P03E,    102,   1,-999.0,       8,  2,19850415,1951,  24.2617, -151.9750,  5306,  226.400,   16.204,   34.625,2,   34.611,2, -999.000,9,  189.400,2,    4.890,2,    5.960,2,    0.010,2,    0.520,2,    1.738,2,    0.851,2, -999.000,9, -999.000,9, -999.000,9
           NA,    P03E,    102,   1,-999.0,       9,  2,19850415,1951,  24.2617, -151.9750,  5306,  266.500,   14.303,   34.487,2,   34.483,2, -999.000,9,  209.900,2,    6.360,2,    6.880,2,    0.010,2,    0.560,2,    1.906,2,    0.962,2, -999.000,9, -999.000,9, -999.000,9
           NA,    P03E,    102,   1,-999.0,      10,  2,19850415,1951,  24.2617, -151.9750,  5306,  306.600,   12.552,   34.302,2,   34.293,2, -999.000,9,  214.200,2,    8.960,2,    9.690,2,    0.010,2,    0.740,2, -999.000,3,    0.934,2, -999.000,9, -999.000,9, -999.000,9
           NA,    P03E,    102,   1,-999.0,      11,  2,19850415,1951,  24.2617, -151.9750,  5306,  347.200,   11.278,   34.205,2,   34.206,2, -999.000,9,  213.200,2,   12.300,2,   12.240,2,    0.010,2,    0.900,2,    1.853,6,    0.893,2, -999.000,9, -999.000,9, -999.000,9
           NA,    P03E,    102,   1,-999.0,      12,  2,19850415,1951,  24.2617, -151.9750,  5306,  397.900,    9.697,   34.131,2,   34.135,2, -999.000,9,  199.700,2,   20.120,2,   17.080,2,    0.010,2,    1.210,2,    1.435,6,    0.679,6, -999.000,9, -999.000,9, -999.000,9
           NA,    P03E,    102,   1,-999.0,      13,  2,19850415,1951,  24.2617, -151.9750,  5306,  458.300,    8.457,   34.073,2,   34.076,2, -999.000,9,  178.000,2,   29.450,2,   21.780,2,    0.010,2,    1.520,2,    0.966,6,    0.474,6, -999.000,9, -999.000,9, -999.000,9
           NA,    P03E,    102,   1,-999.0,      14,  2,19850415,1951,  24.2617, -151.9750,  5306,  528.600,    7.124,   34.061,2,   34.063,2, -999.000,9,  110.200,2,   47.950,2,   30.490,2,    0.010,2,    2.170,2,    0.251,6,    0.151,6, -999.000,9, -999.000,9, -999.000,9
           NA,    P03E,    102,   1,-999.0,      15,  2,19850415,1951,  24.2617, -151.9750,  5306,  609.500,    5.734,   34.074,2,   34.070,2, -999.000,9,   72.400,2,   69.500,2,   36.720,2,    0.010,2,    2.610,2,    0.069,6,    0.047,2, -999.000,9, -999.000,9, -999.000,9
           NA,    P03E,    102,   1,-999.0,      16,  2,19850415,1951,  24.2617, -151.9750,  5306,  709.400,    5.088,   34.212,2,   34.206,2, -999.000,9,   31.200,2,   87.340,2,   41.170,2,    0.000,2,    2.970,2,    0.021,6,    0.003,6, -999.000,9, -999.000,9, -999.000,9
           NA,    P03E,    102,   1,-999.0,      17,  2,19850415,1951,  24.2617, -151.9750,  5306,  810.300,    4.624,   34.322,2,   34.322,2, -999.000,9,   25.100,2,   97.110,2,   42.430,2,    0.000,2,    3.060,2,    0.016,2,   -0.014,2, -999.000,9, -999.000,9, -999.000,9
           NA,    P03E,    102,   1,-999.0,      18,  2,19850415,1951,  24.2617, -151.9750,  5306,  961.300,    4.056,   34.431,2,   34.431,2, -999.000,9,   37.100,2,  109.750,2,   42.940,2,    0.000,2,    3.060,2, -999.000,9,   -0.003,2, -999.000,9, -999.000,9, -999.000,9
           NA,    P03E,    102,   1,-999.0,      19,  2,19850415,1951,  24.2617, -151.9750,  5306, 1111.600,    3.777,   34.500,2,   34.501,2, -999.000,9,   47.100,2,  115.580,2,   42.630,2,    0.000,2,    3.020,2, -999.000,9, -999.000,9, -999.000,9, -999.000,9, -999.000,9
           NA,    P03E,    102,   1,-999.0,      20,  2,19850415,1951,  24.2617, -151.9750,  5306, 1264.400,    3.416,   34.526,2,   34.526,2, -999.000,9,   53.800,2,  123.710,2,   42.320,2,    0.000,2,    2.990,2,   -0.010,2,    0.001,2, -999.000,9, -999.000,9, -999.000,9
           NA,    P03E,    102,   1,-999.0,      21,  2,19850415,1951,  24.2617, -151.9750,  5306, 1416.200,    3.118,   34.549,2,   34.551,2, -999.000,9,   60.200,2,  132.050,2,   42.220,2,    0.000,2,    2.980,2, -999.000,9, -999.000,9, -999.000,9, -999.000,9, -999.000,9
           NA,    P03E,    102,   1,-999.0,      22,  2,19850415,1951,  24.2617, -151.9750,  5306, 1618.400,    2.756,   34.573,2,   34.574,2, -999.000,9,   67.600,2,  140.220,2,   41.760,2,    0.000,2,    2.950,2, -999.000,9, -999.000,9, -999.000,9, -999.000,9, -999.000,9
           NA,    P03E,    102,   1,-999.0,      23,  2,19850415,1951,  24.2617, -151.9750,  5306, 1821.300,    2.427,   34.593,2,   34.593,2, -999.000,9,   78.000,2,  147.830,2,   41.250,2,    0.000,2,    2.880,2, -999.000,9,   -0.008,2, -999.000,9, -999.000,9, -999.000,9
           NA,    P03E,    102,   1,-999.0,      24,  2,19850415,1951,  24.2617, -151.9750,  5306, 2022.600,    2.175,   34.610,2,   34.610,2, -999.000,9,   85.900,2,  155.280,2,   40.690,2,    0.000,2,    2.840,2, -999.000,9, -999.000,9, -999.000,9, -999.000,9, -999.000,9
           NA,    P03E,    102,   1,-999.0,      25,  2,19850415,1951,  24.2617, -151.9750,  5306, 2226.100,    1.960,   34.626,2,   34.627,2, -999.000,9,   93.600,2,  160.040,2,   40.240,2,    0.000,2,    2.800,2, -999.000,9,    0.008,2, -999.000,9, -999.000,9, -999.000,9
           NA,    P03E,    102,   1,-999.0,      26,  2,19850415,1951,  24.2617, -151.9750,  5306, 2428.400,    1.825,   34.638,2,   34.639,2, -999.000,9,  101.300,2,  162.880,2,   39.780,2,    0.000,2,    2.750,2, -999.000,9, -999.000,9, -999.000,9, -999.000,9, -999.000,9
           NA,    P03E,    102,   1,-999.0,      27,  2,19850415,1951,  24.2617, -151.9750,  5306, 2631.900,    1.732,   34.647,2,   34.647,2, -999.000,9,  107.300,2,  165.140,2,   39.330,2,    0.000,2,    2.710,2, -999.000,9, -999.000,9, -999.000,9, -999.000,9, -999.000,9
           NA,    P03E,    102,   1,-999.0,      28,  2,19850415,1951,  24.2617, -151.9750,  5306, 2936.800,    1.622,   34.659,2,   34.659,2, -999.000,9,  118.500,2,  165.090,2,   38.780,2,    0.000,2,    2.660,2, -999.000,9, -999.000,9, -999.000,9, -999.000,9, -999.000,9
           NA,    P03E,    102,   1,-999.0,      29,  2,19850415,1951,  24.2617, -151.9750,  5306, 3242.400,    1.554,   34.667,2,   34.668,2, -999.000,9,  127.600,2,  164.270,2,   38.130,2,    0.000,2,    2.610,2,   -0.010,2,   -0.003,2, -999.000,9, -999.000,9, -999.000,9
           NA,    P03E,    102,   1,-999.0,      30,  2,19850415,1951,  24.2617, -151.9750,  5306, 3547.600,    1.507,   34.673,2,   34.673,2, -999.000,9,  136.100,2,  160.180,2,   37.580,2,    0.000,2,    2.570,2, -999.000,9, -999.000,9, -999.000,9, -999.000,9, -999.000,9
           NA,    P03E,    102,   1,-999.0,      31,  2,19850415,1951,  24.2617, -151.9750,  5306, 3853.500,    1.486,   34.678,2,   34.678,2, -999.000,9,  143.200,2,  158.590,2,   37.180,2,    0.000,2,    2.530,2,   -0.005,6,   -0.005,2, -999.000,9, -999.000,9, -999.000,9
           NA,    P03E,    102,   1,-999.0,      32,  2,19850415,1951,  24.2617, -151.9750,  5306, 4161.100,    1.483,   34.682,2,   34.682,2, -999.000,9,  149.400,2,  155.850,2,   36.730,2,    0.000,2,    2.500,2,   -0.008,2,    0.008,2, -999.000,9, -999.000,9, -999.000,9
           NA,    P03E,    102,   1,-999.0,      37,  2,19850415,1951,  24.2617, -151.9750,  5306, 4468.200,    1.485,   34.684,2,   34.684,2, -999.000,9,  153.800,2,  151.390,2,   36.330,2,    0.000,2,    2.470,2, -999.000,9, -999.000,9, -999.000,9, -999.000,9, -999.000,9
           NA,    P03E,    102,   1,-999.0,      34,  2,19850415,1951,  24.2617, -151.9750,  5306, 4775.400,    1.485,   34.687,2,   34.687,2, -999.000,9,  160.300,2,  147.320,2,   35.880,2,    0.000,2,    2.430,2, -999.000,9, -999.000,9, -999.000,9, -999.000,9, -999.000,9
           NA,    P03E,    102,   1,-999.0,      35,  2,19850415,1951,  24.2617, -151.9750,  5306, 5083.200,    1.493,   34.689,2,   34.690,2, -999.000,9,  164.600,2,  143.640,2,   35.630,2,    0.000,2,    2.420,2, -999.000,9, -999.000,9, -999.000,9, -999.000,9, -999.000,9
           NA,    P03E,    102,   1,-999.0,      36,  2,19850415,1951,  24.2617, -151.9750,  5306, 5391.100,    1.514,   34.690,2,   34.690,2, -999.000,9,  167.200,2,  142.830,2,   35.390,2,    0.000,2,    2.420,2,   -0.008,2,    0.004,2, -999.000,9, -999.000,9, -999.000,9