BOTTLE,20203103JOAExport
EXPOCODE,SECT_ID,STNNBR,CASTNO,SAMPNO,BTLNBR,BTLNBR_FLAG_W,DATE,TIME,LATITUDE,LONGITUDE,DEPTH,CTDPRS,CTDTMP,CTDSAL,CTDSAL_FLAG_W,SALNTY,SALNTY_FLAG_W,CTDOXY,CTDOXY_FLAG_W,OXYGEN,OXYGEN_FLAG_W,SILCAT,SILCAT_FLAG_W,NITRAT,NITRAT_FLAG_W,NITRIT,NITRIT_FLAG_W,PHSPHT,PHSPHT_FLAG_W,CFC-11,CFC-11_FLAG_W,CFC-12,CFC-12_FLAG_W,SF6,SF6_FLAG_W,TCARBN,TCARBN_FLAG_W,ALKALI,ALKALI_FLAG_W
,,,,,,,,,,,,,DB,ITS-90,PSS-78,,PSS-78,,UMOL/KG,,UMOL/KG,,UMOL/KG,,UMOL/KG,,UMOL/KG,,UMOL/KG,,PMOL/KG,,PMOL/KG,,FMOL/KG,,UMOL/KG,,UMOL/KG
           NA,    P03E,     60,   1,-999.0,       1,  2,19850408,0801,  24.2550, -134.8283,  4635,    0.000,   19.472,   35.082,2,   35.076,2, -999.000,9,  231.800,2,    3.070,2,    0.050,2,    0.000,2,    0.160,2,    1.958,2,    0.990,2, -999.000,9, -999.000,9, -999.000,9
           NA,    P03E,     60,   1,-999.0,       2,  2,19850408,0801,  24.2550, -134.8283,  4635,   19.000,   18.990,   35.026,2,   35.026,2, -999.000,9,  233.500,2,    3.030,2,    0.050,2,    0.000,2,    0.160,2,    1.939,2,    0.964,2, -999.000,9, -999.000,9, -999.000,9
           NA,    P03E,     60,   1,-999.0,       3,  2,19850408,0801,  24.2550, -134.8283,  4635,   33.500,   18.893,   35.048,2,   35.047,2, -999.000,9,  233.900,2,    2.990,2,    0.050,2,    0.000,2,    0.160,2,    1.879,2,    0.940,2, -999.000,9, -999.000,9, -999.000,9
           NA,    P03E,     60,   1,-999.0,       4,  2,19850408,0801,  24.2550, -134.8283,  4635,   53.600,   18.799,   35.051,2,   35.050,2, -999.000,9,  233.500,2,    2.750,2,    0.050,2,    0.000,2,    0.160,2,    1.929,2,    0.961,2, -999.000,9, -999.000,9, -999.000,9
           NA,    P03E,     60,   1,-999.0,       5,  2,19850408,0801,  24.2550, -134.8283,  4635,   73.300,   18.786,   35.053,2,   35.055,2, -999.000,9,  231.800,2,    2.710,2,    0.050,2,    0.000,2,    0.160,2,    1.854,2,    0.934,2, -999.000,9, -999.000,9, -999.000,9
           NA,    P03E,     60,   1,-999.0,       6,  2,19850408,0801,  24.2550, -134.8283,  4635,   92.700,   18.760,   35.049,2,   35.052,2, -999.000,9,  231.800,2,    2.670,2,    0.040,2,    0.010,2,    0.160,2,    1.938,2, -999.000,9, -999.000,9, -999.000,9, -999.000,9
           NA,    P03E,     60,   1,-999.0,       7,  2,19850408,0801,  24.2550, -134.8283,  4635,  122.600,   18.840,   35.085,2,   35.086,2, -999.000,9,  231.800,2,    2.630,2,    0.050,2,    0.010,2,    0.150,2,    1.826,2,    0.919,2, -999.000,9, -999.000,9, -999.000,9
           NA,    P03E,     60,   1,-999.0,       8,  2,19850408,0801,  24.2550, -134.8283,  4635,  152.300,   18.895,   35.112,2,   35.117,2, -999.000,9,  230.500,2,    2.390,2,    0.030,2,    0.030,2,    0.160,2,    1.854,2,    0.929,2, -999.000,9, -999.000,9, -999.000,9
           NA,    P03E,     60,   1,-999.0,       9,  2,19850408,0801,  24.2550, -134.8283,  4635,  193.300,   18.840,   35.121,2,   35.126,2, -999.000,9,  226.100,2,    2.540,2,    0.270,2,    0.140,2,    0.190,2,    1.804,2,    0.921,2, -999.000,9, -999.000,9, -999.000,9
           NA,    P03E,     60,   1,-999.0,      10,  2,19850408,0801,  24.2550, -134.8283,  4635,  234.400,   14.582,   34.270,2,   34.267,2, -999.000,9,  216.900,2,    5.540,2,    3.990,2,    0.010,2,    0.480,2,    1.972,2,    0.954,2, -999.000,9, -999.000,9, -999.000,9
           NA,    P03E,     60,   1,-999.0,      11,  2,19850408,0801,  24.2550, -134.8283,  4635,  284.600,   10.402,   33.984,2,   33.985,2, -999.000,9,  198.000,2,   17.070,2,   14.790,2,    0.010,2,    1.160,2,    1.672,2,    0.791,2, -999.000,9, -999.000,9, -999.000,9
           NA,    P03E,     60,   1,-999.0,      12,  2,19850408,0801,  24.2550, -134.8283,  4635,  334.800,    8.567,   34.004,2,   34.005,2, -999.000,9,  163.600,2,   30.500,2,   23.020,2,    0.000,2,    1.690,2,    1.021,2,    0.514,2, -999.000,9, -999.000,9, -999.000,9
           NA,    P03E,     60,   1,-999.0,      13,  2,19850408,0801,  24.2550, -134.8283,  4635,  395.700,    7.436,   34.032,2,   34.033,2, -999.000,9,  122.700,2,   44.320,2,   29.510,2,    0.000,2,    2.130,2,    0.516,2,    0.264,2, -999.000,9, -999.000,9, -999.000,9
           NA,    P03E,     60,   1,-999.0,      14,  2,19850408,0801,  24.2550, -134.8283,  4635,  455.800,    6.664,   34.061,2,   34.062,2, -999.000,9,   84.800,2,   56.820,2,   34.290,2,    0.000,2,    2.500,2,    0.197,2, -999.000,9, -999.000,9, -999.000,9, -999.000,9
           NA,    P03E,     60,   1,-999.0,      15,  2,19850408,0801,  24.2550, -134.8283,  4635,  526.500,    5.850,   34.135,2,   34.136,2, -999.000,9,   44.800,2,   72.560,2,   39.440,2,    0.000,2,    2.890,2,    0.078,2,    0.040,2, -999.000,9, -999.000,9, -999.000,9
           NA,    P03E,     60,   1,-999.0,      16,  2,19850408,0801,  24.2550, -134.8283,  4635,  606.900,    4.908,   34.196,2,   34.197,2, -999.000,9,   27.400,2,   90.990,2,   43.040,2,    0.000,2,    3.100,2,   -0.006,2,   -0.005,2, -999.000,9, -999.000,9, -999.000,9
           NA,    P03E,     60,   1,-999.0,      17,  2,19850408,0801,  24.2550, -134.8283,  4635,  707.400,    4.645,   34.334,2,   34.334,2, -999.000,9,   18.700,2,   99.530,2,   44.290,2,    0.000,2,    3.200,2, -999.000,9, -999.000,9, -999.000,9, -999.000,9, -999.000,9
           NA,    P03E,     60,   1,-999.0,      18,  2,19850408,0801,  24.2550, -134.8283,  4635,  808.500,    4.424,   34.427,2,   34.430,2, -999.000,9,   27.400,2,  103.870,2,   44.550,2,    0.000,2,    3.190,2, -999.000,9, -999.000,9, -999.000,9, -999.000,9, -999.000,9
           NA,    P03E,     60,   1,-999.0,      19,  2,19850408,0801,  24.2550, -134.8283,  4635,  908.000,    4.213,   34.466,2,   34.467,2, -999.000,9,   31.300,2,  108.030,2,   44.610,2,    0.000,2,    3.190,2, -999.000,9, -999.000,9, -999.000,9, -999.000,9, -999.000,9
           NA,    P03E,     60,   1,-999.0,      20,  2,19850408,0801,  24.2550, -134.8283,  4635, 1008.700,    3.929,   34.499,2,   34.498,2, -999.000,9,   37.800,2,  113.520,2,   44.560,2,    0.000,2,    3.190,2, -999.000,9, -999.000,9, -999.000,9, -999.000,9, -999.000,9
           NA,    P03E,     60,   1,-999.0,      21,  2,19850408,0801,  24.2550, -134.8283,  4635, 1109.900,    3.729,   34.517,2,   34.517,2, -999.000,9,   40.900,2,  117.690,2,   44.510,2,    0.000,2, -999.000,5, -999.000,9, -999.000,9, -999.000,9, -999.000,9, -999.000,9
           NA,    P03E,     60,   1,-999.0,      22,  2,19850408,0801,  24.2550, -134.8283,  4635, 1261.400,    3.337,   34.541,2,   34.541,2, -999.000,9,   48.200,2,  127.410,2,   44.140,2,    0.010,2,    3.070,2,   -0.001,2,    0.009,6, -999.000,9, -999.000,9, -999.000,9
           NA,    P03E,     60,   1,-999.0,      23,  2,19850408,0801,  24.2550, -134.8283,  4635, 1413.900,    3.019,   34.561,2,   34.562,2, -999.000,9,   50.900,2,  135.610,2,   44.050,2,    0.000,2,    3.030,2, -999.000,9, -999.000,9, -999.000,9, -999.000,9, -999.000,9
           NA,    P03E,     60,   1,-999.0,      24,  2,19850408,0801,  24.2550, -134.8283,  4635, 1616.200,    2.638,   34.584,2,   34.585,2, -999.000,9,   64.300,2,  144.590,2,   43.370,2,    0.000,2,    2.980,2, -999.000,9, -999.000,9, -999.000,9, -999.000,9, -999.000,9
           NA,    P03E,     60,   1,-999.0,      25,  2,19850408,0801,  24.2550, -134.8283,  4635, 1817.800,    2.339,   34.604,2,   34.605,2, -999.000,9,   75.200,2,  152.050,2,   42.660,2,    0.000,2,    2.930,2, -999.000,9,    0.006,2, -999.000,9, -999.000,9, -999.000,9
           NA,    P03E,     60,   1,-999.0,      26,  2,19850408,0801,  24.2550, -134.8283,  4635, 2020.300,    2.107,   34.620,2,   34.619,2, -999.000,9,   84.300,2,  157.780,2,   42.090,2,    0.000,2,    2.860,2, -999.000,9, -999.000,9, -999.000,9, -999.000,9, -999.000,9
           NA,    P03E,     60,   1,-999.0,      27,  2,19850408,0801,  24.2550, -134.8283,  4635, 2222.800,    1.929,   34.632,2,   34.631,2, -999.000,9,   92.100,2,  161.400,2,   41.220,2,    0.000,2,    2.840,2, -999.000,9, -999.000,9, -999.000,9, -999.000,9, -999.000,9
           NA,    P03E,     60,   1,-999.0,      28,  2,19850408,0801,  24.2550, -134.8283,  4635, 2528.200,    1.719,   34.648,2,   34.648,2, -999.000,9,  105.200,2,  165.020,2,   40.460,2,    0.000,2,    2.750,2,   -0.002,6,    0.008,6, -999.000,9, -999.000,9, -999.000,9
           NA,    P03E,     60,   1,-999.0,      29,  2,19850408,0801,  24.2550, -134.8283,  4635, 2832.800,    1.594,   34.660,2,   34.660,2, -999.000,9,  117.800,2,  165.940,2,   39.590,2,    0.000,2,    2.700,2, -999.000,9, -999.000,9, -999.000,9, -999.000,9, -999.000,9
           NA,    P03E,     60,   1,-999.0,      30,  2,19850408,0801,  24.2550, -134.8283,  4635, 3139.000,    1.506,   34.671,2,   34.671,2, -999.000,9,  130.800,2,  163.580,2,   38.680,2,    0.000,2,    2.620,2, -999.000,9, -999.000,9, -999.000,9, -999.000,9, -999.000,9
           NA,    P03E,     60,   1,-999.0,      31,  2,19850408,0801,  24.2550, -134.8283,  4635, 3444.700,    1.483,   34.676,2,   34.675,2, -999.000,9,  137.700,2,  160.060,2,   38.180,2,    0.000,2,    2.580,2, -999.000,9, -999.000,9, -999.000,9, -999.000,9, -999.000,9
           NA,    P03E,     60,   1,-999.0,      32,  2,19850408,0801,  24.2550, -134.8283,  4635, 3750.600,    1.479,   34.680,2,   34.679,2, -999.000,9,  143.000,2,  160.020,2,   37.880,2,    0.000,2,    2.570,2, -999.000,9, -999.000,9, -999.000,9, -999.000,9, -999.000,9
           NA,    P03E,     60,   1,-999.0,      37,  2,19850408,0801,  24.2550, -134.8283,  4635, 4057.100,    1.475,   34.683,2,   34.683,2, -999.000,9,  148.600,2,  157.280,2,   37.540,2,    0.000,2,    2.530,2, -999.000,9, -999.000,9, -999.000,9, -999.000,9, -999.000,9
           NA,    P03E,     60,   1,-999.0,      34,  2,19850408,0801,  24.2550, -134.8283,  4635, 4312.700,    1.489,   34.684,2,   34.684,2, -999.000,9,  150.800,2,  154.540,2,   37.240,2,    0.000,2,    2.520,2, -999.000,9, -999.000,9, -999.000,9, -999.000,9, -999.000,9
           NA,    P03E,     60,   1,-999.0,      35,  2,19850408,0801,  24.2550, -134.8283,  4635, 4568.700,    1.511,   34.685,2,   34.684,2, -999.000,9,  152.900,2,  153.150,2,   37.140,2,    0.000,2,    2.510,2, -999.000,9, -999.000,9, -999.000,9, -999.000,9, -999.000,9
           NA,    P03E,     60,   1,-999.0,      36,  2,19850408,0801,  24.2550, -134.8283,  4635, 4814.300,    1.515,   34.687,2,   34.687,2, -999.000,9,  157.300,2,  151.370,2,   36.950,2,    0.000,2,    2.500,2, -999.000,9, -999.000,9, -999.000,9, -999.000,9, -999.000,9