BOTTLE,20203103JOAExport
EXPOCODE,SECT_ID,STNNBR,CASTNO,SAMPNO,BTLNBR,BTLNBR_FLAG_W,DATE,TIME,LATITUDE,LONGITUDE,DEPTH,CTDPRS,CTDTMP,CTDSAL,CTDSAL_FLAG_W,SALNTY,SALNTY_FLAG_W,CTDOXY,CTDOXY_FLAG_W,OXYGEN,OXYGEN_FLAG_W,SILCAT,SILCAT_FLAG_W,NITRAT,NITRAT_FLAG_W,NITRIT,NITRIT_FLAG_W,PHSPHT,PHSPHT_FLAG_W,CFC-11,CFC-11_FLAG_W,CFC-12,CFC-12_FLAG_W,SF6,SF6_FLAG_W,TCARBN,TCARBN_FLAG_W,ALKALI,ALKALI_FLAG_W
,,,,,,,,,,,,,DB,ITS-90,PSS-78,,PSS-78,,UMOL/KG,,UMOL/KG,,UMOL/KG,,UMOL/KG,,UMOL/KG,,UMOL/KG,,PMOL/KG,,PMOL/KG,,FMOL/KG,,UMOL/KG,,UMOL/KG
           NA,    P03W,    291,   1,-999.0,       4,  2,19850519,0110,  24.2600,  144.2467,  4894,    1.500,   24.641,   34.979,2,   34.981,2, -999.000,9,  213.700,2,    2.210,2,    0.130,2,    0.000,2,    0.010,2,    1.574,2,    0.813,2, -999.000,9, -999.000,9, -999.000,9
           NA,    P03W,    291,   1,-999.0,      38,  2,19850519,0110,  24.2600,  144.2467,  4894,   22.900,   24.383,   34.961,2,   34.970,2, -999.000,9,  215.600,2,    2.170,2,    0.120,2,    0.000,2,    0.010,2, -999.000,9, -999.000,9, -999.000,9, -999.000,9, -999.000,9
           NA,    P03W,    291,   1,-999.0,       3,  2,19850519,0110,  24.2600,  144.2467,  4894,   43.100,   23.670,   34.914,2,   34.918,2, -999.000,9,  218.500,2,    1.930,2,    0.120,2,    0.000,2,    0.010,2,    1.581,2,    0.824,2, -999.000,9, -999.000,9, -999.000,9
           NA,    P03W,    291,   1,-999.0,       1,  2,19850519,0110,  24.2600,  144.2467,  4894,   73.900,   20.732,   34.901,2,   34.902,2, -999.000,9,  223.300,2,    2.100,2,    0.120,2,    0.000,2,    0.040,2,    1.728,2,    0.866,2, -999.000,9, -999.000,9, -999.000,9
           NA,    P03W,    291,   1,-999.0,       5,  2,19850519,0110,  24.2600,  144.2467,  4894,  103.500,   19.229,   34.867,2,   34.867,2, -999.000,9,  214.400,2,    2.480,2,    1.160,2,    0.080,2,    0.130,2,    1.771,2,    0.928,2, -999.000,9, -999.000,9, -999.000,9
           NA,    P03W,    291,   1,-999.0,       6,  2,19850519,0110,  24.2600,  144.2467,  4894,  143.800,   18.376,   34.828,2,   34.830,2, -999.000,9,  219.300,2,    3.060,2,    1.780,2,    0.050,2,    0.160,2,    1.884,2,    0.928,2, -999.000,9, -999.000,9, -999.000,9
           NA,    P03W,    291,   1,-999.0,       7,  2,19850519,0110,  24.2600,  144.2467,  4894,  183.500,   17.625,   34.801,2,   34.801,2, -999.000,9,  221.400,2,    3.860,2,    2.640,2,    0.020,2,    0.210,2, -999.000,9,    1.009,2, -999.000,9, -999.000,9, -999.000,9
           NA,    P03W,    291,   1,-999.0,       8,  2,19850519,0110,  24.2600,  144.2467,  4894,  233.400,   16.870,   34.778,2,   34.776,2, -999.000,9,  218.700,2,    4.440,2,    4.060,2,    0.010,2,    0.310,2,    1.899,2,    0.951,2, -999.000,9, -999.000,9, -999.000,9
           NA,    P03W,    291,   1,-999.0,       9,  2,19850519,0110,  24.2600,  144.2467,  4894,  283.600,   16.059,   34.738,2,   34.736,2, -999.000,9,  208.500,2,    6.260,2,    6.410,2,    0.010,2,    0.440,2, -999.000,9,    0.905,2, -999.000,9, -999.000,9, -999.000,9
           NA,    P03W,    291,   1,-999.0,      10,  2,19850519,0110,  24.2600,  144.2467,  4894,  333.600,   15.219,   34.675,2,   34.673,2, -999.000,9,  202.700,2,    9.120,2,    8.380,2,    0.010,2,    0.560,2, -999.000,9, -999.000,9, -999.000,9, -999.000,9, -999.000,9
           NA,    P03W,    291,   1,-999.0,      11,  2,19850519,0110,  24.2600,  144.2467,  4894,  384.200,   14.242,   34.587,2,   34.585,2, -999.000,9,  193.700,2,   12.790,2,   10.490,2,    0.010,2,    0.730,2, -999.000,9, -999.000,9, -999.000,9, -999.000,9, -999.000,9
           NA,    P03W,    291,   1,-999.0,      12,  2,19850519,0110,  24.2600,  144.2467,  4894,  444.700,   12.317,   34.421,2,   34.412,2, -999.000,9,  186.200,2,   18.740,2,   14.200,2,    0.010,2,    0.990,2, -999.000,9, -999.000,9, -999.000,9, -999.000,9, -999.000,9
           NA,    P03W,    291,   1,-999.0,      13,  2,19850519,0110,  24.2600,  144.2467,  4894,  504.900,    9.741,   34.230,2,   34.229,2, -999.000,9,  172.200,2,   30.470,2,   19.960,2,    0.010,2,    1.410,2, -999.000,9, -999.000,9, -999.000,9, -999.000,9, -999.000,9
           NA,    P03W,    291,   1,-999.0,      14,  2,19850519,0110,  24.2600,  144.2467,  4894,  565.600,    8.759,   34.175,2,   34.172,2, -999.000,9,  157.900,2,   37.240,2,   23.120,2,    0.010,2,    1.620,2, -999.000,9, -999.000,9, -999.000,9, -999.000,9, -999.000,9
           NA,    P03W,    291,   1,-999.0,      15,  2,19850519,0110,  24.2600,  144.2467,  4894,  645.600,    6.729,   34.093,2,   34.094,2, -999.000,9,  130.900,2,   57.250,2,   29.040,2,    0.000,2,    2.050,2, -999.000,9, -999.000,9, -999.000,9, -999.000,9, -999.000,9
           NA,    P03W,    291,   1,-999.0,      16,  2,19850519,0110,  24.2600,  144.2467,  4894,  726.400,    5.509,   34.126,2,   34.117,2, -999.000,9,   94.100,2,   76.250,2,   34.490,2,    0.000,2,    2.420,2, -999.000,9, -999.000,9, -999.000,9, -999.000,9, -999.000,9
           NA,    P03W,    291,   1,-999.0,      17,  2,19850519,0110,  24.2600,  144.2467,  4894,  806.600,    4.762,   34.224,2,   34.225,2, -999.000,9,   63.600,2,   94.450,2,   38.650,2,    0.010,2,    2.720,2, -999.000,9, -999.000,9, -999.000,9, -999.000,9, -999.000,9
           NA,    P03W,    291,   1,-999.0,      18,  2,19850519,0110,  24.2600,  144.2467,  4894,  907.400,    4.134,   34.283,2,   34.283,2, -999.000,9,   48.600,2,  108.960,2,   40.860,2,    0.010,2,    2.840,2, -999.000,9, -999.000,9, -999.000,9, -999.000,9, -999.000,9
           NA,    P03W,    291,   1,-999.0,      39,  2,19850519,0110,  24.2600,  144.2467,  4894, 1058.700,    3.553,   34.391,2,   34.392,2, -999.000,9,   48.700,2,  125.180,2,   41.780,2,    0.010,2,    2.880,2, -999.000,9, -999.000,9, -999.000,9, -999.000,9, -999.000,9
           NA,    P03W,    291,   1,-999.0,      20,  2,19850519,0110,  24.2600,  144.2467,  4894, 1210.300,    3.160,   34.443,2,   34.444,2, -999.000,9,   54.900,2,  133.680,2,   41.640,2,    0.010,2,    2.890,2, -999.000,9, -999.000,9, -999.000,9, -999.000,9, -999.000,9
           NA,    P03W,    291,   1,-999.0,      21,  2,19850519,0110,  24.2600,  144.2467,  4894, 1412.800,    2.688,   34.498,2,   34.498,2, -999.000,9,   62.300,2,  144.510,2,   41.640,2,    0.010,2,    2.890,2, -999.000,9, -999.000,9, -999.000,9, -999.000,9, -999.000,9
           NA,    P03W,    291,   1,-999.0,      22,  2,19850519,0110,  24.2600,  144.2467,  4894, 1614.700,    2.316,   34.547,2,   34.547,2, -999.000,9,   76.700,2,  150.590,2,   40.900,2,    0.000,2,    2.820,2, -999.000,9, -999.000,9, -999.000,9, -999.000,9, -999.000,9
           NA,    P03W,    291,   1,-999.0,      23,  2,19850519,0110,  24.2600,  144.2467,  4894, 1817.100,    2.087,   34.587,2,   34.588,2, -999.000,9,   96.500,2,  150.240,2,   39.680,2,    0.000,2,    2.740,2, -999.000,9, -999.000,9, -999.000,9, -999.000,9, -999.000,9
           NA,    P03W,    291,   1,-999.0,      24,  2,19850519,0110,  24.2600,  144.2467,  4894, 2019.700,    1.947,   34.604,2,   34.607,2, -999.000,9,  105.500,2,  151.420,2,   38.980,2,    0.010,2,    2.680,2, -999.000,9, -999.000,9, -999.000,9, -999.000,9, -999.000,9
           NA,    P03W,    291,   1,-999.0,      40,  2,19850519,0110,  24.2600,  144.2467,  4894, 2222.900,    1.852,   34.619,2,   34.619,2, -999.000,9,  112.600,2,  150.430,2,   38.720,2,    0.000,2,    2.670,2, -999.000,9, -999.000,9, -999.000,9, -999.000,9, -999.000,9
           NA,    P03W,    291,   1,-999.0,      26,  2,19850519,0110,  24.2600,  144.2467,  4894, 2425.800,    1.769,   34.633,2,   34.633,2, -999.000,9,  118.700,2,  150.780,2,   38.620,2,    0.000,2,    2.640,2, -999.000,9, -999.000,9, -999.000,9, -999.000,9, -999.000,9
           NA,    P03W,    291,   1,-999.0,      27,  2,19850519,0110,  24.2600,  144.2467,  4894, 2628.900,    1.690,   34.645,2,   34.645,2, -999.000,9,  125.900,2,  150.700,2,   37.980,2,    0.000,2,    2.600,2, -999.000,9, -999.000,9, -999.000,9, -999.000,9, -999.000,9
           NA,    P03W,    291,   1,-999.0,      28,  2,19850519,0110,  24.2600,  144.2467,  4894, 2832.800,    1.647,   34.651,2,   34.651,2, -999.000,9,  132.000,2,  150.420,2,   37.410,2,    0.000,2,    2.540,2, -999.000,9, -999.000,9, -999.000,9, -999.000,9, -999.000,9
           NA,    P03W,    291,   1,-999.0,      29,  2,19850519,0110,  24.2600,  144.2467,  4894, 3035.600,    1.579,   34.660,2,   34.660,2, -999.000,9,  136.200,2,  151.600,2,   37.560,2,    0.000,2,    2.550,2, -999.000,9, -999.000,9, -999.000,9, -999.000,9, -999.000,9
           NA,    P03W,    291,   1,-999.0,      30,  2,19850519,0110,  24.2600,  144.2467,  4894, 3238.100,    1.558,   34.664,2,   34.665,2, -999.000,9,  139.600,2,  151.530,2,   37.140,2,    0.000,2,    2.530,2, -999.000,9, -999.000,9, -999.000,9, -999.000,9, -999.000,9
           NA,    P03W,    291,   1,-999.0,      31,  2,19850519,0110,  24.2600,  144.2467,  4894, 3440.500,    1.525,   34.669,2,   34.670,2, -999.000,9,  144.200,2,  149.770,2,   36.720,2,    0.000,2,    2.500,2, -999.000,9, -999.000,9, -999.000,9, -999.000,9, -999.000,9
           NA,    P03W,    291,   1,-999.0,      32,  2,19850519,0110,  24.2600,  144.2467,  4894, 3745.000,    1.486,   34.675,2,   34.676,2, -999.000,9,  151.700,2,  147.660,2,   36.540,2,    0.000,2,    2.480,2, -999.000,9, -999.000,9, -999.000,9, -999.000,9, -999.000,9
           NA,    P03W,    291,   1,-999.0,      33,  2,19850519,0110,  24.2600,  144.2467,  4894, 4051.400,    1.479,   34.679,2,   34.678,2, -999.000,9,  155.500,2,  147.170,2,   36.180,2,    0.000,2,    2.450,2, -999.000,9, -999.000,9, -999.000,9, -999.000,9, -999.000,9
           NA,    P03W,    291,   1,-999.0,      34,  2,19850519,0110,  24.2600,  144.2467,  4894, 4354.700,    1.480,   34.682,2,   34.681,2, -999.000,9,  159.900,2,  145.210,2,   36.020,2,    0.000,2,    2.440,2, -999.000,9, -999.000,9, -999.000,9, -999.000,9, -999.000,9
           NA,    P03W,    291,   1,-999.0,      35,  2,19850519,0110,  24.2600,  144.2467,  4894, 4661.000,    1.473,   34.686,2,   34.685,2, -999.000,9,  165.800,2,  142.990,2,   35.150,2,    0.000,2,    2.400,2, -999.000,9, -999.000,9, -999.000,9, -999.000,9, -999.000,9
           NA,    P03W,    291,   1,-999.0,      37,  2,19850519,0110,  24.2600,  144.2467,  4894, 4962.400,    1.484,   34.688,2,   34.688,2, -999.000,9,  168.300,2,  140.620,2,   35.140,2,    0.000,2,    2.380,2, -999.000,9, -999.000,9, -999.000,9, -999.000,9, -999.000,9