BOTTLE,20203103JOAExport
EXPOCODE,SECT_ID,STNNBR,CASTNO,SAMPNO,BTLNBR,BTLNBR_FLAG_W,DATE,TIME,LATITUDE,LONGITUDE,DEPTH,CTDPRS,CTDTMP,CTDSAL,CTDSAL_FLAG_W,SALNTY,SALNTY_FLAG_W,CTDOXY,CTDOXY_FLAG_W,OXYGEN,OXYGEN_FLAG_W,SILCAT,SILCAT_FLAG_W,NITRAT,NITRAT_FLAG_W,NITRIT,NITRIT_FLAG_W,PHSPHT,PHSPHT_FLAG_W,CFC-11,CFC-11_FLAG_W,CFC-12,CFC-12_FLAG_W,SF6,SF6_FLAG_W,TCARBN,TCARBN_FLAG_W,ALKALI,ALKALI_FLAG_W
,,,,,,,,,,,,,DB,ITS-90,PSS-78,,PSS-78,,UMOL/KG,,UMOL/KG,,UMOL/KG,,UMOL/KG,,UMOL/KG,,UMOL/KG,,PMOL/KG,,PMOL/KG,,FMOL/KG,,UMOL/KG,,UMOL/KG
           NA,    P03W,    207,   1,-999.0,       1,  2,19850505,1958,  24.2483,  175.9933,  5787,    0.400,   25.053,   35.356,2,   35.361,2, -999.000,9,  212.000,2,    1.510,2,    0.000,2,    0.000,2,    0.040,2,    1.558,2,    0.807,2, -999.000,9, -999.000,9, -999.000,9
           NA,    P03W,    207,   1,-999.0,       2,  2,19850505,1958,  24.2483,  175.9933,  5787,   23.200,   23.647,   35.351,2,   35.354,2, -999.000,9,  216.400,2,    1.470,2,    0.000,2,    0.000,2,    0.030,2,    1.611,2,    0.835,2, -999.000,9, -999.000,9, -999.000,9
           NA,    P03W,    207,   1,-999.0,       3,  2,19850505,1958,  24.2483,  175.9933,  5787,   43.500,   23.308,   35.343,2,   35.344,2, -999.000,9,  217.100,2,    1.420,2,    0.000,2,    0.000,2,    0.030,2, -999.000,9, -999.000,9, -999.000,9, -999.000,9, -999.000,9
           NA,    P03W,    207,   1,-999.0,       4,  2,19850505,1958,  24.2483,  175.9933,  5787,   74.000,   22.377,   35.283,2,   35.288,2, -999.000,9,  221.600,2,    1.560,2,    0.000,2,    0.000,2,    0.030,2,    1.719,2,    0.887,2, -999.000,9, -999.000,9, -999.000,9
           NA,    P03W,    207,   1,-999.0,       5,  2,19850505,1958,  24.2483,  175.9933,  5787,  104.100,   20.450,   35.080,2,   35.086,2, -999.000,9,  217.400,2,    1.890,2,    0.000,2,    0.000,2,    0.060,2,    1.805,2,    0.910,2, -999.000,9, -999.000,9, -999.000,9
           NA,    P03W,    207,   1,-999.0,       6,  2,19850505,1958,  24.2483,  175.9933,  5787,  144.600,   18.928,   34.952,2,   34.955,2, -999.000,9,  213.000,2,    2.230,2,    1.030,2,    0.080,2,    0.160,2,    1.848,2,    0.929,2, -999.000,9, -999.000,9, -999.000,9
           NA,    P03W,    207,   1,-999.0,       7,  2,19850505,1958,  24.2483,  175.9933,  5787,  184.900,   17.362,   34.801,2,   34.801,2, -999.000,9,  220.000,2,    3.120,2,    2.380,2,    0.010,2,    0.220,2,    1.941,2,    0.978,2, -999.000,9, -999.000,9, -999.000,9
           NA,    P03W,    207,   1,-999.0,       8,  2,19850505,1958,  24.2483,  175.9933,  5787,  235.000,   15.663,   34.674,2,   34.664,2, -999.000,9,  204.100,2,    6.090,2,    6.610,2,    0.000,2,    0.500,2,    1.814,2,    0.902,2, -999.000,9, -999.000,9, -999.000,9
           NA,    P03W,    207,   1,-999.0,       9,  2,19850505,1958,  24.2483,  175.9933,  5787,  285.100,   14.568,   34.588,2,   34.582,2, -999.000,9, -999.000,5,    8.490,2,    8.240,2,    0.000,2,    0.600,2,    1.816,2,    0.895,2, -999.000,9, -999.000,9, -999.000,9
           NA,    P03W,    207,   1,-999.0,      10,  2,19850505,1958,  24.2483,  175.9933,  5787,  335.600,   13.212,   34.465,2,   34.462,2, -999.000,9,  206.500,2,   11.080,2,   10.510,2,    0.000,2,    0.760,2,    1.594,2,    0.797,2, -999.000,9, -999.000,9, -999.000,9
           NA,    P03W,    207,   1,-999.0,      11,  2,19850505,1958,  24.2483,  175.9933,  5787,  386.000,   11.913,   34.355,2,   34.350,2, -999.000,9,  205.800,2,   14.800,2,   12.850,2,    0.000,2,    0.920,2,    1.575,2,    0.766,2, -999.000,9, -999.000,9, -999.000,9
           NA,    P03W,    207,   1,-999.0,      12,  2,19850505,1958,  24.2483,  175.9933,  5787,  446.600,   10.555,   34.257,2,   34.259,2, -999.000,9,  197.200,2,   21.540,2,   16.250,2,    0.000,2,    1.130,2,    1.387,2,    0.683,2, -999.000,9, -999.000,9, -999.000,9
           NA,    P03W,    207,   1,-999.0,      13,  2,19850505,1958,  24.2483,  175.9933,  5787,  507.300,    9.105,   34.161,2,   34.158,2, -999.000,9,  178.700,2,   31.660,2,   20.850,2,    0.000,2,    1.450,2,    1.064,2,    0.536,2, -999.000,9, -999.000,9, -999.000,9
           NA,    P03W,    207,   1,-999.0,      14,  2,19850505,1958,  24.2483,  175.9933,  5787,  567.800,    7.749,   34.090,2,   34.091,2, -999.000,9,  154.100,2,   42.730,2,   25.560,2,    0.000,2,    1.810,2,    0.789,2,    0.447,2, -999.000,9, -999.000,9, -999.000,9
           NA,    P03W,    207,   1,-999.0,      15,  2,19850505,1958,  24.2483,  175.9933,  5787,  648.400,    6.284,   34.077,2,   34.078,2, -999.000,9,  113.100,2,   61.140,2,   32.100,2,    0.000,2,    2.240,2,    0.388,2,    0.199,2, -999.000,9, -999.000,9, -999.000,9
           NA,    P03W,    207,   1,-999.0,      16,  2,19850505,1958,  24.2483,  175.9933,  5787,  729.000,    5.268,   34.121,2,   34.122,2, -999.000,9,   78.900,2,   79.750,2,   37.090,2,    0.000,2,    2.620,2,    0.163,6,    0.091,6, -999.000,9, -999.000,9, -999.000,9
           NA,    P03W,    207,   1,-999.0,      17,  2,19850505,1958,  24.2483,  175.9933,  5787,  809.800,    4.520,   34.203,2,   34.203,2, -999.000,9,   54.100,2,   97.600,2,   40.260,2,    0.000,2,    2.840,2,    0.054,2,    0.032,2, -999.000,9, -999.000,9, -999.000,9
           NA,    P03W,    207,   1,-999.0,      18,  2,19850505,1958,  24.2483,  175.9933,  5787,  910.500,    4.060,   34.312,2,   34.314,2, -999.000,9,   39.900,2,  113.570,2,   42.590,2,    0.000,2,    2.950,2,    0.013,2,    0.002,2, -999.000,9, -999.000,9, -999.000,9
           NA,    P03W,    207,   1,-999.0,      39,  2,19850505,1958,  24.2483,  175.9933,  5787, 1061.300,    3.642,   34.420,2,   34.419,2, -999.000,9,   44.700,2,  123.130,2,   42.650,2,    0.000,2,    2.970,2,    0.000,2, -999.000,9, -999.000,9, -999.000,9, -999.000,9
           NA,    P03W,    207,   1,-999.0,      20,  2,19850505,1958,  24.2483,  175.9933,  5787, 1212.600,    3.294,   34.486,2,   34.484,2, -999.000,9,   56.500,2,  128.160,2,   42.160,2,    0.000,2,    2.920,2,    0.012,2,    0.000,2, -999.000,9, -999.000,9, -999.000,9
           NA,    P03W,    207,   1,-999.0,      21,  2,19850505,1958,  24.2483,  175.9933,  5787, 1414.400,    2.819,   34.535,2,   34.534,2, -999.000,9,   67.900,2,  136.220,2,   41.570,2,    0.000,2,    2.900,2,    0.013,2,    0.000,2, -999.000,9, -999.000,9, -999.000,9
           NA,    P03W,    207,   1,-999.0,      22,  2,19850505,1958,  24.2483,  175.9933,  5787, 1616.700,    2.472,   34.565,2,   34.565,2, -999.000,9,   77.700,2,  143.890,2,   41.360,2,    0.000,2,    2.840,2,   -0.004,2,    0.002,2, -999.000,9, -999.000,9, -999.000,9
           NA,    P03W,    207,   1,-999.0,      23,  2,19850505,1958,  24.2483,  175.9933,  5787, 1818.700,    2.131,   34.593,2,   34.592,2, -999.000,9,   85.000,2,  153.090,2,   40.870,2,    0.000,2,    2.820,2, -999.000,9, -999.000,9, -999.000,9, -999.000,9, -999.000,9
           NA,    P03W,    207,   1,-999.0,      24,  2,19850505,1958,  24.2483,  175.9933,  5787, 2021.400,    1.941,   34.616,2,   34.616,2, -999.000,9,   97.300,2,  154.920,2,   40.270,2,    0.000,2,    2.780,2,   -0.003,2,    0.000,2, -999.000,9, -999.000,9, -999.000,9
           NA,    P03W,    207,   1,-999.0,      25,  2,19850505,1958,  24.2483,  175.9933,  5787, 2224.100,    1.809,   34.634,2,   34.635,2, -999.000,9,  108.800,2,  152.970,2,   39.410,2,    0.000,2,    2.720,2, -999.000,9, -999.000,9, -999.000,9, -999.000,9, -999.000,9
           NA,    P03W,    207,   1,-999.0,      26,  2,19850505,1958,  24.2483,  175.9933,  5787, 2528.000,    1.687,   34.648,2,   34.648,2, -999.000,9,  118.300,2,  153.480,2,   38.810,2,    0.000,2,    2.660,2,   -0.001,2,   -0.011,2, -999.000,9, -999.000,9, -999.000,9
           NA,    P03W,    207,   1,-999.0,      27,  2,19850505,1958,  24.2483,  175.9933,  5787, 2832.800,    1.592,   34.659,2,   34.659,2, -999.000,9,  128.100,2,  153.420,2,   38.220,2,    0.000,2,    2.620,2, -999.000,9, -999.000,9, -999.000,9, -999.000,9, -999.000,9
           NA,    P03W,    207,   1,-999.0,      28,  2,19850505,1958,  24.2483,  175.9933,  5787, 3137.100,    1.539,   34.666,2,   34.666,2, -999.000,9,  134.800,2,  155.440,2,   37.740,2,    0.000,2,    2.560,2, -999.000,9, -999.000,9, -999.000,9, -999.000,9, -999.000,9
           NA,    P03W,    207,   1,-999.0,      29,  2,19850505,1958,  24.2483,  175.9933,  5787, 3442.200,    1.491,   34.674,2,   34.673,2, -999.000,9,  143.600,2,  150.100,2,   37.160,2,    0.000,2,    2.530,2,    0.001,2, -999.000,9, -999.000,9, -999.000,9, -999.000,9
           NA,    P03W,    207,   1,-999.0,      30,  2,19850505,1958,  24.2483,  175.9933,  5787, 3747.000,    1.464,   34.679,2,   34.679,2, -999.000,9,  150.300,2,  146.270,2,   36.680,2,    0.000,2,    2.510,2,    0.003,2, -999.000,9, -999.000,9, -999.000,9, -999.000,9
           NA,    P03W,    207,   1,-999.0,      31,  2,19850505,1958,  24.2483,  175.9933,  5787, 4052.900,    1.448,   34.683,2,   34.683,2, -999.000,9,  156.100,2,  143.570,2,   36.150,2,    0.000,2,    2.470,2, -999.000,9, -999.000,9, -999.000,9, -999.000,9, -999.000,9
           NA,    P03W,    207,   1,-999.0,      32,  2,19850505,1958,  24.2483,  175.9933,  5787, 4357.900,    1.430,   34.687,2,   34.687,2, -999.000,9,  163.500,2,  139.750,2,   35.670,2,    0.000,2,    2.430,2, -999.000,9, -999.000,9, -999.000,9, -999.000,9, -999.000,9
           NA,    P03W,    207,   1,-999.0,      33,  2,19850505,1958,  24.2483,  175.9933,  5787, 4714.200,    1.419,   34.691,2,   34.692,2, -999.000,9,  173.600,2,  135.350,2,   35.140,2,    0.000,2,    2.350,2,    0.013,2, -999.000,9, -999.000,9, -999.000,9, -999.000,9
           NA,    P03W,    207,   1,-999.0,      34,  2,19850505,1958,  24.2483,  175.9933,  5787, 5066.100,    1.427,   34.693,2,   34.694,2, -999.000,9,  175.800,2,  132.280,2,   34.940,2,    0.000,2,    2.390,2, -999.000,9, -999.000,9, -999.000,9, -999.000,9, -999.000,9
           NA,    P03W,    207,   1,-999.0,      35,  2,19850505,1958,  24.2483,  175.9933,  5787, 5471.800,    1.457,   34.695,2,   34.696,2, -999.000,9,  178.300,2,  128.830,2,   34.620,2,    0.000,2,    2.350,2, -999.000,9, -999.000,9, -999.000,9, -999.000,9, -999.000,9
           NA,    P03W,    207,   1,-999.0,      36,  2,19850505,1958,  24.2483,  175.9933,  5787, 5879.000,    1.498,   34.696,2,   34.697,2, -999.000,9,  180.700,2,  128.400,2,   34.530,2,    0.000,2,    2.350,2,    0.013,2, -999.000,9, -999.000,9, -999.000,9, -999.000,9