BOTTLE,20203103JOAExport
EXPOCODE,SECT_ID,STNNBR,CASTNO,SAMPNO,BTLNBR,BTLNBR_FLAG_W,DATE,TIME,LATITUDE,LONGITUDE,DEPTH,CTDPRS,CTDTMP,CTDSAL,CTDSAL_FLAG_W,SALNTY,SALNTY_FLAG_W,CTDOXY,CTDOXY_FLAG_W,OXYGEN,OXYGEN_FLAG_W,SILCAT,SILCAT_FLAG_W,NITRAT,NITRAT_FLAG_W,NITRIT,NITRIT_FLAG_W,PHSPHT,PHSPHT_FLAG_W,CFC-11,CFC-11_FLAG_W,CFC-12,CFC-12_FLAG_W,SF6,SF6_FLAG_W,TCARBN,TCARBN_FLAG_W,ALKALI,ALKALI_FLAG_W
,,,,,,,,,,,,,DB,ITS-90,PSS-78,,PSS-78,,UMOL/KG,,UMOL/KG,,UMOL/KG,,UMOL/KG,,UMOL/KG,,UMOL/KG,,PMOL/KG,,PMOL/KG,,FMOL/KG,,UMOL/KG,,UMOL/KG
           NA,    P03E,     42,   1,-999.0,       1,  2,19850405,0526,  26.1767, -127.5750,  4625,    0.900,   17.221,   34.069,2,   34.071,2, -999.000,9,  244.400,2,    2.850,2,    0.080,2,    0.000,2,    0.240,2,    2.159,2,    1.074,2, -999.000,9, -999.000,9, -999.000,9
           NA,    P03E,     42,   1,-999.0,       3,  2,19850405,0526,  26.1767, -127.5750,  4625,   19.600,   17.263,   34.083,2,   34.076,2, -999.000,9,  243.500,2,    2.780,2,    0.080,2,    0.000,2,    0.240,2, -999.000,9, -999.000,9, -999.000,9, -999.000,9, -999.000,9
           NA,    P03E,     42,   1,-999.0,       4,  2,19850405,0526,  26.1767, -127.5750,  4625,   34.100,   17.443,   34.172,2,   34.169,2, -999.000,9,  244.700,2,    2.710,2,    0.080,2,    0.000,2,    0.240,2,    2.150,2,    1.078,2, -999.000,9, -999.000,9, -999.000,9
           NA,    P03E,     42,   1,-999.0,       5,  2,19850405,0526,  26.1767, -127.5750,  4625,   54.100,   17.438,   34.185,2,   34.188,2, -999.000,9,  242.300,2,    2.650,2,    0.080,2,    0.000,2,    0.240,2,    2.166,2,    1.087,2, -999.000,9, -999.000,9, -999.000,9
           NA,    P03E,     42,   1,-999.0,       6,  2,19850405,0526,  26.1767, -127.5750,  4625,   73.800,   17.478,   34.208,2,   34.218,2, -999.000,9,  241.700,2,    2.580,2,    0.080,2,    0.000,2,    0.230,2,    2.124,2,    1.058,2, -999.000,9, -999.000,9, -999.000,9
           NA,    P03E,     42,   1,-999.0,       7,  2,19850405,0526,  26.1767, -127.5750,  4625,   93.600,   17.651,   34.293,2,   34.288,2, -999.000,9,  241.100,2,    2.520,2,    0.080,2,    0.000,2,    0.220,2,    2.138,2,    1.070,2, -999.000,9, -999.000,9, -999.000,9
           NA,    P03E,     42,   1,-999.0,       8,  2,19850405,0526,  26.1767, -127.5750,  4625,  124.100,   17.619,   34.299,2,   34.306,2, -999.000,9,  240.700,2,    2.450,2,    0.070,2,    0.000,2,    0.220,2,    2.112,2,    1.059,2, -999.000,9, -999.000,9, -999.000,9
           NA,    P03E,     42,   1,-999.0,       9,  2,19850405,0526,  26.1767, -127.5750,  4625,  154.900,   16.188,   34.179,2,   34.173,2, -999.000,9,  228.200,2,    3.770,2,    0.990,2,    0.090,2,    0.310,2,    2.136,2,    1.058,2, -999.000,9, -999.000,9, -999.000,9
           NA,    P03E,     42,   1,-999.0,      10,  2,19850405,0526,  26.1767, -127.5750,  4625,  195.600,   12.599,   33.903,2,   33.904,2, -999.000,9,  206.000,2,    9.220,2,    8.480,2,    0.020,2,    0.780,2,    2.054,6,    1.002,6, -999.000,9, -999.000,9, -999.000,9
           NA,    P03E,     42,   1,-999.0,      11,  2,19850405,0526,  26.1767, -127.5750,  4625,  236.100,   10.381,   33.890,2,   33.895,2, -999.000,9,  185.500,2,   18.210,2,   16.220,2,    0.010,2,    1.240,2,    1.674,2,    0.812,2, -999.000,9, -999.000,9, -999.000,9
           NA,    P03E,     42,   1,-999.0,      12,  2,19850405,0526,  26.1767, -127.5750,  4625,  286.700,    9.037,   34.049,2,   34.052,2, -999.000,9,  128.900,2,   32.110,2,   24.860,2,    0.010,2,    1.870,2,    0.782,6,    0.401,6, -999.000,9, -999.000,9, -999.000,9
           NA,    P03E,     42,   1,-999.0,      13,  2,19850405,0526,  26.1767, -127.5750,  4625,  336.800,    7.970,   34.093,2,   34.092,2, -999.000,9,  103.400,2,   44.630,2,   29.610,2,    0.010,2,    2.190,2,    0.365,2,    0.198,2, -999.000,9, -999.000,9, -999.000,9
           NA,    P03E,     42,   1,-999.0,      14,  2,19850405,0526,  26.1767, -127.5750,  4625,  397.600,    6.887,   34.093,2,   34.094,2, -999.000,9,   78.800,2,   56.350,2,   33.820,2,    0.010,2,    2.470,2,    0.181,2, -999.000,9, -999.000,9, -999.000,9, -999.000,9
           NA,    P03E,     42,   1,-999.0,      15,  2,19850405,0526,  26.1767, -127.5750,  4625,  458.300,    6.132,   34.140,2,   34.139,2, -999.000,9,   47.500,2,   69.060,2,   38.030,2,    0.000,2,    2.770,2,    0.060,2,    0.029,2, -999.000,9, -999.000,9, -999.000,9
           NA,    P03E,     42,   1,-999.0,      16,  2,19850405,0526,  26.1767, -127.5750,  4625,  528.200,    5.663,   34.205,2,   34.206,2, -999.000,9,   27.900,2,   80.380,2,   40.810,2,    0.000,2,    2.970,2,    0.006,2,    0.000,2, -999.000,9, -999.000,9, -999.000,9
           NA,    P03E,     42,   1,-999.0,      17,  2,19850405,0526,  26.1767, -127.5750,  4625,  608.800,    5.231,   34.282,2,   34.281,2, -999.000,9,   16.900,2,   91.110,2,   42.630,2,    0.010,2,    3.100,2,    0.014,2,    0.002,2, -999.000,9, -999.000,9, -999.000,9
           NA,    P03E,     42,   1,-999.0,      18,  2,19850405,0526,  26.1767, -127.5750,  4625,  708.900,    4.920,   34.369,2,   34.369,2, -999.000,9,   15.500,2,   97.890,2,   43.740,2,    0.000,2,    3.160,2, -999.000,9, -999.000,9, -999.000,9, -999.000,9, -999.000,9
           NA,    P03E,     42,   1,-999.0,      19,  2,19850405,0526,  26.1767, -127.5750,  4625,  809.200,    4.609,   34.428,2,   34.428,2, -999.000,9,   19.400,2,  104.080,2,   44.380,2,    0.000,2,    3.160,2,    0.007,2,   -0.001,2, -999.000,9, -999.000,9, -999.000,9
           NA,    P03E,     42,   1,-999.0,      20,  2,19850405,0526,  26.1767, -127.5750,  4625,  909.100,    4.312,   34.461,2,   34.462,2, -999.000,9,   25.000,2,  110.270,2,   44.590,2,    0.000,2,    3.160,2, -999.000,9, -999.000,9, -999.000,9, -999.000,9, -999.000,9
           NA,    P03E,     42,   1,-999.0,      21,  2,19850405,0526,  26.1767, -127.5750,  4625, 1005.600,    4.042,   34.487,2,   34.487,2, -999.000,9,   29.800,2,  115.660,2,   44.590,2,    0.000,2,    3.150,2,    0.010,2,    0.001,2, -999.000,9, -999.000,9, -999.000,9
           NA,    P03E,     42,   1,-999.0,      22,  2,19850405,0526,  26.1767, -127.5750,  4625, 1106.100,    3.753,   34.510,2,   34.510,2, -999.000,9,   34.700,2,  122.240,2,   44.590,2,    0.000,2,    3.140,2, -999.000,9, -999.000,9, -999.000,9, -999.000,9, -999.000,9
           NA,    P03E,     42,   1,-999.0,      23,  2,19850405,0526,  26.1767, -127.5750,  4625, 1258.700,    3.364,   34.536,2,   34.537,2, -999.000,9,   40.400,2,  132.180,2,   44.490,2,    0.000,2,    3.120,2, -999.000,9, -999.000,9, -999.000,9, -999.000,9, -999.000,9
           NA,    P03E,     42,   1,-999.0,      24,  2,19850405,0526,  26.1767, -127.5750,  4625, 1410.900,    3.037,   34.558,2,   34.558,2, -999.000,9,   48.300,2,  140.730,2,   44.060,2,    0.000,2,    3.090,2, -999.000,9, -999.000,9, -999.000,9, -999.000,9, -999.000,9
           NA,    P03E,     42,   1,-999.0,      25,  2,19850405,0526,  26.1767, -127.5750,  4625, 1615.600,    2.643,   34.583,2,   34.584,2, -999.000,9,   58.700,2,  152.260,2,   43.380,2,    0.000,2,    3.010,2, -999.000,9, -999.000,9, -999.000,9, -999.000,9, -999.000,9
           NA,    P03E,     42,   1,-999.0,      26,  2,19850405,0526,  26.1767, -127.5750,  4625, 1818.800,    2.353,   34.607,2,   34.607,2, -999.000,9,   70.900,2,  159.640,2,   42.640,2,    0.000,2,    2.950,2, -999.000,9, -999.000,9, -999.000,9, -999.000,9, -999.000,9
           NA,    P03E,     42,   1,-999.0,      27,  2,19850405,0526,  26.1767, -127.5750,  4625, 2022.000,    2.122,   34.624,2,   34.624,2, -999.000,9,   82.500,2,  163.850,2,   41.900,2,    0.000,2,    2.880,2,    0.004,2,   -0.007,2, -999.000,9, -999.000,9, -999.000,9
           NA,    P03E,     42,   1,-999.0,      28,  2,19850405,0526,  26.1767, -127.5750,  4625, 2222.700,    1.954,   34.636,2,   34.635,2, -999.000,9,   93.000,2,  167.060,2,   41.330,2,    0.000,2,    2.810,2, -999.000,9, -999.000,9, -999.000,9, -999.000,9, -999.000,9
           NA,    P03E,     42,   1,-999.0,      29,  2,19850405,0526,  26.1767, -127.5750,  4625, 2525.300,    1.742,   34.649,2,   34.649,2, -999.000,9,  104.400,2,  171.460,2,   40.450,2,    0.000,2,    2.740,2, -999.000,9, -999.000,9, -999.000,9, -999.000,9, -999.000,9
           NA,    P03E,     42,   1,-999.0,      30,  2,19850405,0526,  26.1767, -127.5750,  4625, 2829.500,    1.609,   34.660,2,   34.660,2, -999.000,9,  115.100,2,  172.490,2,   39.770,2,    0.000,2,    2.680,2,    0.001,2,    0.011,2, -999.000,9, -999.000,9, -999.000,9
           NA,    P03E,     42,   1,-999.0,      31,  2,19850405,0526,  26.1767, -127.5750,  4625, 3135.400,    1.517,   34.670,2,   34.670,2, -999.000,9,  127.600,2,  171.140,2,   38.950,2,    0.000,2,    2.620,2, -999.000,9, -999.000,9, -999.000,9, -999.000,9, -999.000,9
           NA,    P03E,     42,   1,-999.0,      32,  2,19850405,0526,  26.1767, -127.5750,  4625, 3440.700,    1.487,   34.676,2,   34.675,2, -999.000,9,  135.700,2,  169.000,2,   38.440,2,    0.000,2,    2.580,2, -999.000,9, -999.000,9, -999.000,9, -999.000,9, -999.000,9
           NA,    P03E,     42,   1,-999.0,      33,  2,19850405,0526,  26.1767, -127.5750,  4625, 3744.700,    1.489,   34.680,2,   34.679,2, -999.000,9,  139.400,2,  167.660,2,   38.240,2,    0.000,2,    2.560,2, -999.000,9, -999.000,9, -999.000,9, -999.000,9, -999.000,9
           NA,    P03E,     42,   1,-999.0,      34,  2,19850405,0526,  26.1767, -127.5750,  4625, 4051.000,    1.510,   34.681,2,   34.681,2, -999.000,9,  141.800,2,  164.930,2,   37.980,2,    0.000,2,    2.540,2, -999.000,9, -999.000,9, -999.000,9, -999.000,9, -999.000,9
           NA,    P03E,     42,   1,-999.0,      35,  2,19850405,0526,  26.1767, -127.5750,  4625, 4357.500,    1.541,   34.682,2,   34.681,2, -999.000,9,  142.800,2,  164.380,2,   37.930,2,    0.000,2,    2.530,2, -999.000,9, -999.000,9, -999.000,9, -999.000,9, -999.000,9
           NA,    P03E,     42,   1,-999.0,      36,  2,19850405,0526,  26.1767, -127.5750,  4625, 4680.100,    1.578,   34.681,2,   34.681,2, -999.000,9,  143.700,2,  164.430,2,   37.830,2,    0.000,2,    2.520,2,   -0.003,2,    0.003,2, -999.000,9, -999.000,9, -999.000,9
           NA,    P03E,     40,   2,-999.0,       1,  2,19850404,2158,  26.6583, -126.9517,  4284,    1.300,   16.926,   33.914,2,   33.915,2, -999.000,9,  246.700,2,    2.370,2,    0.090,2,    0.000,2,    0.270,2, -999.000,9, -999.000,9, -999.000,9, -999.000,9, -999.000,9
           NA,    P03E,     40,   2,-999.0,       4,  2,19850404,2158,  26.6583, -126.9517,  4284,   18.800,   16.774,   33.900,2,   33.901,2, -999.000,9,  247.500,2,    2.520,2,    0.090,2,    0.000,2,    0.270,2, -999.000,9, -999.000,9, -999.000,9, -999.000,9, -999.000,9
           NA,    P03E,     40,   2,-999.0,       5,  2,19850404,2158,  26.6583, -126.9517,  4284,   33.100,   16.685,   33.879,2,   33.879,2, -999.000,9,  248.000,2,    2.490,2,    0.090,2,    0.000,2,    0.260,2, -999.000,9, -999.000,9, -999.000,9, -999.000,9, -999.000,9
           NA,    P03E,     40,   2,-999.0,       6,  2,19850404,2158,  26.6583, -126.9517,  4284,   53.200,   17.524,   34.240,2,   34.264,2, -999.000,9,  241.000,2,    2.450,2,    0.090,2,    0.000,2,    0.240,2, -999.000,9, -999.000,9, -999.000,9, -999.000,9, -999.000,9
           NA,    P03E,     40,   2,-999.0,       7,  2,19850404,2158,  26.6583, -126.9517,  4284,   72.800,   17.585,   34.298,2,   34.307,2, -999.000,9,  240.100,2,    2.420,2,    0.090,2,    0.000,2,    0.230,2, -999.000,9, -999.000,9, -999.000,9, -999.000,9, -999.000,9
           NA,    P03E,     40,   2,-999.0,       8,  2,19850404,2158,  26.6583, -126.9517,  4284,   93.200,   17.834,   34.418,2,   34.419,2, -999.000,9,  237.900,2,    2.380,2,    0.090,2,    0.000,2,    0.220,2, -999.000,9, -999.000,9, -999.000,9, -999.000,9, -999.000,9
           NA,    P03E,     40,   2,-999.0,       9,  2,19850404,2158,  26.6583, -126.9517,  4284,  123.600,   16.699,   34.194,2,   34.181,2, -999.000,9,  235.300,2,    2.160,2,    0.090,2,    0.000,2,    0.220,2, -999.000,9, -999.000,9, -999.000,9, -999.000,9, -999.000,9
           NA,    P03E,     40,   2,-999.0,      10,  2,19850404,2158,  26.6583, -126.9517,  4284,  154.200,   15.538,   34.247,2,   34.247,2, -999.000,9,  221.700,2,    3.270,2,    2.570,2,    0.030,2,    0.380,2, -999.000,9, -999.000,9, -999.000,9, -999.000,9, -999.000,9
           NA,    P03E,     40,   2,-999.0,      11,  2,19850404,2158,  26.6583, -126.9517,  4284,  194.700,   11.899,   33.817,2,   33.819,2, -999.000,9,  200.700,2,   10.500,2,   10.890,2,    0.010,2,    0.920,2, -999.000,9, -999.000,9, -999.000,9, -999.000,9, -999.000,9
           NA,    P03E,     40,   2,-999.0,      12,  2,19850404,2158,  26.6583, -126.9517,  4284,  235.500,    9.492,   33.861,2,   33.862,2, -999.000,9,  168.400,2,   22.320,2,   20.610,2,    0.010,2,    1.500,2, -999.000,9, -999.000,9, -999.000,9, -999.000,9, -999.000,9
           NA,    P03E,     40,   2,-999.0,      13,  2,19850404,2158,  26.6583, -126.9517,  4284,  285.800,    8.340,   34.015,2,   34.021,2, -999.000,9,  134.400,2,   34.940,2,   26.500,2,    0.010,2,    1.900,2, -999.000,9, -999.000,9, -999.000,9, -999.000,9, -999.000,9
           NA,    P03E,     40,   2,-999.0,      14,  2,19850404,2158,  26.6583, -126.9517,  4284,  336.400,    7.208,   34.025,2,   34.026,2, -999.000,9,  117.500,2,   46.430,2,   30.710,2,    0.010,2,    2.150,2, -999.000,9, -999.000,9, -999.000,9, -999.000,9, -999.000,9
           NA,    P03E,     40,   2,-999.0,      15,  2,19850404,2158,  26.6583, -126.9517,  4284,  396.600,    6.399,   34.043,2,   34.045,2, -999.000,9,   84.400,2,   58.150,2,   35.260,2,    0.010,2,    2.470,2, -999.000,9, -999.000,9, -999.000,9, -999.000,9, -999.000,9
           NA,    P03E,     40,   2,-999.0,      16,  2,19850404,2158,  26.6583, -126.9517,  4284,  456.900,    6.128,   34.118,2,   34.118,2, -999.000,9,   49.600,2,   67.390,2,   38.430,2,    0.000,2,    2.740,2, -999.000,9, -999.000,9, -999.000,9, -999.000,9, -999.000,9
           NA,    P03E,     40,   2,-999.0,      17,  2,19850404,2158,  26.6583, -126.9517,  4284,  527.700,    5.485,   34.191,2,   34.191,2, -999.000,9,   27.400,2,   80.700,2,   41.540,2,    0.000,2,    2.970,2, -999.000,9, -999.000,9, -999.000,9, -999.000,9, -999.000,9
           NA,    P03E,     40,   2,-999.0,      18,  2,19850404,2158,  26.6583, -126.9517,  4284,  607.900,    5.074,   34.273,2,   34.274,2, -999.000,9,   17.000,2,   90.760,2,   43.530,2,    0.000,2,    3.090,2, -999.000,9, -999.000,9, -999.000,9, -999.000,9, -999.000,9
           NA,    P03E,     40,   2,-999.0,      19,  2,19850404,2158,  26.6583, -126.9517,  4284,  708.800,    4.731,   34.363,2,   34.363,2, -999.000,9,   17.000,2,   98.720,2,   44.320,2,    0.000,2,    3.140,2, -999.000,9, -999.000,9, -999.000,9, -999.000,9, -999.000,9
           NA,    P03E,     40,   2,-999.0,      20,  2,19850404,2158,  26.6583, -126.9517,  4284,  809.100,    4.478,   34.424,2,   34.425,2, -999.000,9,   21.700,2,  103.220,2,   44.690,2,    0.000,2,    3.140,2, -999.000,9, -999.000,9, -999.000,9, -999.000,9, -999.000,9
           NA,    P03E,     40,   2,-999.0,      21,  2,19850404,2158,  26.6583, -126.9517,  4284,  910.600,    4.178,   34.470,2,   34.471,2, -999.000,9,   27.000,2,  109.080,2,   44.900,2,    0.000,2,    3.140,2, -999.000,9, -999.000,9, -999.000,9, -999.000,9, -999.000,9
           NA,    P03E,     40,   2,-999.0,      22,  2,19850404,2158,  26.6583, -126.9517,  4284, 1011.600,    3.865,   34.500,2,   34.500,2, -999.000,9,   32.600,2,  116.320,2,   44.900,2,    0.000,2,    3.130,2, -999.000,9, -999.000,9, -999.000,9, -999.000,9, -999.000,9
           NA,    P03E,     40,   2,-999.0,      23,  2,19850404,2158,  26.6583, -126.9517,  4284, 1112.300,    3.595,   34.520,2,   34.521,2, -999.000,9,   37.800,2,  123.190,2,   44.890,2,    0.000,2,    3.110,2, -999.000,9, -999.000,9, -999.000,9, -999.000,9, -999.000,9
           NA,    P03E,     40,   2,-999.0,      24,  2,19850404,2158,  26.6583, -126.9517,  4284, 1262.700,    3.290,   34.539,2,   34.540,2, -999.000,9,   43.900,2,  130.670,2,   44.620,2,    0.000,2,    3.080,2, -999.000,9, -999.000,9, -999.000,9, -999.000,9, -999.000,9
           NA,    P03E,     40,   2,-999.0,      25,  2,19850404,2158,  26.6583, -126.9517,  4284, 1413.600,    2.963,   34.562,2,   34.561,2, -999.000,9,   49.100,2,  138.550,2,   44.300,2,    0.000,2,    3.080,2, -999.000,9, -999.000,9, -999.000,9, -999.000,9, -999.000,9
           NA,    P03E,     40,   2,-999.0,      26,  2,19850404,2158,  26.6583, -126.9517,  4284, 1613.300,    2.639,   34.587,2,   34.586,2, -999.000,9,   57.800,2,  147.640,2,   43.710,2,    0.000,2,    3.010,2, -999.000,9, -999.000,9, -999.000,9, -999.000,9, -999.000,9
           NA,    P03E,     40,   2,-999.0,      27,  2,19850404,2158,  26.6583, -126.9517,  4284, 1814.000,    2.351,   34.608,2,   34.607,2, -999.000,9,   70.400,2,  154.000,2,   42.970,2,    0.000,2,    2.940,2, -999.000,9, -999.000,9, -999.000,9, -999.000,9, -999.000,9
           NA,    P03E,     40,   2,-999.0,      28,  2,19850404,2158,  26.6583, -126.9517,  4284, 2017.300,    2.143,   34.624,2,   34.625,2, -999.000,9,   82.100,2,  158.020,2,   42.280,2,    0.000,2,    2.860,2, -999.000,9, -999.000,9, -999.000,9, -999.000,9, -999.000,9
           NA,    P03E,     40,   2,-999.0,      29,  2,19850404,2158,  26.6583, -126.9517,  4284, 2221.100,    1.984,   34.638,2,   34.637,2, -999.000,9,   92.100,2,  161.660,2,   41.550,2,    0.000,2,    2.810,2, -999.000,9, -999.000,9, -999.000,9, -999.000,9, -999.000,9
           NA,    P03E,     40,   2,-999.0,      30,  2,19850404,2158,  26.6583, -126.9517,  4284, 2526.300,    1.780,   34.650,2,   34.649,2, -999.000,9,  103.900,2,  166.090,2,   40.660,2,    0.000,2,    2.750,2, -999.000,9, -999.000,9, -999.000,9, -999.000,9, -999.000,9
           NA,    P03E,     40,   2,-999.0,      31,  2,19850404,2158,  26.6583, -126.9517,  4284, 2832.000,    1.619,   34.660,2,   34.660,2, -999.000,9,  115.200,2,  169.750,2,   39.980,2,    0.000,2,    2.680,2, -999.000,9, -999.000,9, -999.000,9, -999.000,9, -999.000,9
           NA,    P03E,     40,   2,-999.0,      32,  2,19850404,2158,  26.6583, -126.9517,  4284, 3136.100,    1.532,   34.669,2,   34.668,2, -999.000,9,  125.600,2,  170.440,2,   39.350,2,    0.000,2,    2.620,2, -999.000,9, -999.000,9, -999.000,9, -999.000,9, -999.000,9
           NA,    P03E,     40,   2,-999.0,      33,  2,19850404,2158,  26.6583, -126.9517,  4284, 3442.400,    1.490,   34.676,2,   34.675,2, -999.000,9,  134.300,2,  168.370,2,   38.780,2,    0.000,2,    2.580,2, -999.000,9, -999.000,9, -999.000,9, -999.000,9, -999.000,9
           NA,    P03E,     40,   2,-999.0,      34,  2,19850404,2158,  26.6583, -126.9517,  4284, 3748.400,    1.486,   34.678,2,   34.678,2, -999.000,9,  139.000,2,  163.920,2,   38.320,2,    0.000,2,    2.560,2, -999.000,9, -999.000,9, -999.000,9, -999.000,9, -999.000,9
           NA,    P03E,     40,   2,-999.0,      35,  2,19850404,2158,  26.6583, -126.9517,  4284, 4054.800,    1.508,   34.681,2,   34.679,2, -999.000,9,  141.700,2,  163.420,2,   38.210,2,    0.000,2,    2.550,2, -999.000,9, -999.000,9, -999.000,9, -999.000,9, -999.000,9
           NA,    P03E,     40,   2,-999.0,      36,  2,19850404,2158,  26.6583, -126.9517,  4284, 4331.000,    1.537,   34.682,2,   34.680,2, -999.000,9,  142.500,2,  162.530,2,   38.110,2,    0.000,2,    2.540,2, -999.000,9, -999.000,9, -999.000,9, -999.000,9, -999.000,9