BOTTLE,20203103JOAExport
EXPOCODE,SECT_ID,STNNBR,CASTNO,SAMPNO,BTLNBR,BTLNBR_FLAG_W,DATE,TIME,LATITUDE,LONGITUDE,DEPTH,CTDPRS,CTDTMP,CTDSAL,CTDSAL_FLAG_W,SALNTY,SALNTY_FLAG_W,CTDOXY,CTDOXY_FLAG_W,OXYGEN,OXYGEN_FLAG_W,SILCAT,SILCAT_FLAG_W,NITRAT,NITRAT_FLAG_W,NITRIT,NITRIT_FLAG_W,PHSPHT,PHSPHT_FLAG_W,CFC-11,CFC-11_FLAG_W,CFC-12,CFC-12_FLAG_W,SF6,SF6_FLAG_W,TCARBN,TCARBN_FLAG_W,ALKALI,ALKALI_FLAG_W
,,,,,,,,,,,,,DB,ITS-90,PSS-78,,PSS-78,,UMOL/KG,,UMOL/KG,,UMOL/KG,,UMOL/KG,,UMOL/KG,,UMOL/KG,,PMOL/KG,,PMOL/KG,,FMOL/KG,,UMOL/KG,,UMOL/KG
           NA,    P03E,    171,   1,-999.0,       1,  2,19850425,1450,  23.0750, -170.0333,  4634,    0.500,   24.058,   35.249,2,   35.253,2, -999.000,9,  212.400,2,    0.310,2,    0.050,2,    0.000,2,    0.100,2, -999.000,9, -999.000,9, -999.000,9, -999.000,9, -999.000,9
           NA,    P03E,    171,   1,-999.0,       2,  2,19850425,1450,  23.0750, -170.0333,  4634,   22.500,   23.714,   35.322,2,   35.326,2, -999.000,9,  216.000,2,    0.250,2,    0.050,2,    0.000,2,    0.090,2, -999.000,9, -999.000,9, -999.000,9, -999.000,9, -999.000,9
           NA,    P03E,    171,   1,-999.0,       3,  2,19850425,1450,  23.0750, -170.0333,  4634,   42.400,   23.560,   35.319,2,   35.324,2, -999.000,9,  216.600,2,    0.190,2,    0.050,2,    0.000,2,    0.100,2, -999.000,9, -999.000,9, -999.000,9, -999.000,9, -999.000,9
           NA,    P03E,    171,   1,-999.0,       4,  2,19850425,1450,  23.0750, -170.0333,  4634,   72.100,   23.430,   35.314,2,   35.316,2, -999.000,9,  216.900,2,    0.130,2,    0.050,2,    0.000,2,    0.100,2, -999.000,9, -999.000,9, -999.000,9, -999.000,9, -999.000,9
           NA,    P03E,    171,   1,-999.0,       5,  2,19850425,1450,  23.0750, -170.0333,  4634,  101.900,   23.354,   35.319,2,   35.321,2, -999.000,9,  213.300,2,    0.070,2,    0.050,2,    0.000,2,    0.080,2, -999.000,9, -999.000,9, -999.000,9, -999.000,9, -999.000,9
           NA,    P03E,    171,   1,-999.0,       6,  2,19850425,1450,  23.0750, -170.0333,  4634,  142.000,   22.292,   35.340,2,   35.342,2, -999.000,9,  214.800,2,    0.000,2,    0.030,2,    0.020,2,    0.090,2, -999.000,9, -999.000,9, -999.000,9, -999.000,9, -999.000,9
           NA,    P03E,    171,   1,-999.0,       7,  2,19850425,1450,  23.0750, -170.0333,  4634,  183.000,   21.837,   35.283,2,   35.271,2, -999.000,9,  209.500,2,    0.140,2,    0.370,2,    0.170,2,    0.110,2, -999.000,9, -999.000,9, -999.000,9, -999.000,9, -999.000,9
           NA,    P03E,    171,   1,-999.0,       8,  2,19850425,1450,  23.0750, -170.0333,  4634,  223.900,   18.698,   34.942,2,   34.939,2, -999.000,9,  194.200,2,    2.070,2,    3.310,2,    0.010,2,    0.340,2, -999.000,9, -999.000,9, -999.000,9, -999.000,9, -999.000,9
           NA,    P03E,    171,   1,-999.0,       9,  2,19850425,1450,  23.0750, -170.0333,  4634,  263.900,   15.801,   34.673,2,   34.666,2, -999.000,9,  204.200,2,    4.200,2,    6.010,2,    0.010,2,    0.510,2, -999.000,9, -999.000,9, -999.000,9, -999.000,9, -999.000,9
           NA,    P03E,    171,   1,-999.0,      10,  2,19850425,1450,  23.0750, -170.0333,  4634,  304.300,   14.422,   34.550,2,   34.540,2, -999.000,9,  207.800,2,    6.330,2,    8.080,2,    0.000,2,    0.640,2, -999.000,9, -999.000,9, -999.000,9, -999.000,9, -999.000,9
           NA,    P03E,    171,   1,-999.0,      11,  2,19850425,1450,  23.0750, -170.0333,  4634,  354.800,   12.862,   34.410,2,   34.405,2, -999.000,9,  207.400,2,    9.850,2,   10.740,2,    0.000,2,    0.810,2, -999.000,9, -999.000,9, -999.000,9, -999.000,9, -999.000,9
           NA,    P03E,    171,   1,-999.0,      12,  2,19850425,1450,  23.0750, -170.0333,  4634,  404.700,   11.632,   34.302,2,   34.299,2, -999.000,9,  203.200,2,   13.970,2,   13.460,2,    0.000,2,    0.990,2, -999.000,9, -999.000,9, -999.000,9, -999.000,9, -999.000,9
           NA,    P03E,    171,   1,-999.0,      13,  2,19850425,1450,  23.0750, -170.0333,  4634,  454.400,   10.394,   34.227,2,   34.223,2, -999.000,9,  196.300,2,   19.680,2,   16.430,2,    0.010,2,    1.190,2, -999.000,9, -999.000,9, -999.000,9, -999.000,9, -999.000,9
           NA,    P03E,    171,   1,-999.0,      14,  2,19850425,1450,  23.0750, -170.0333,  4634,  515.400,    8.768,   34.130,2,   34.130,2, -999.000,9,  165.400,2,   31.350,2,   22.280,2,    0.000,2,    1.570,2, -999.000,9, -999.000,9, -999.000,9, -999.000,9, -999.000,9
           NA,    P03E,    171,   1,-999.0,      15,  2,19850425,1450,  23.0750, -170.0333,  4634,  575.800,    7.405,   34.118,2,   34.120,2, -999.000,9,  118.300,2,   46.590,2,   28.770,2,    0.010,2,    2.070,2, -999.000,9, -999.000,9, -999.000,9, -999.000,9, -999.000,9
           NA,    P03E,    171,   1,-999.0,      16,  2,19850425,1450,  23.0750, -170.0333,  4634,  637.000,    6.626,   34.162,2,   34.162,2, -999.000,9,   82.000,2,   59.040,2,   34.030,2,    0.000,2,    2.430,2, -999.000,9, -999.000,9, -999.000,9, -999.000,9, -999.000,9
           NA,    P03E,    171,   1,-999.0,      38,  2,19850425,1450,  23.0750, -170.0333,  4634,  696.700,    5.831,   34.185,2,   34.185,2, -999.000,9,   64.100,2,   71.670,2,   37.070,2,    0.000,2,    2.660,2, -999.000,9, -999.000,9, -999.000,9, -999.000,9, -999.000,9
           NA,    P03E,    171,   1,-999.0,      18,  2,19850425,1450,  23.0750, -170.0333,  4634,  767.000,    5.241,   34.252,2,   34.252,2, -999.000,9,   48.600,2,   83.710,2,   39.650,2,    0.000,2,    2.850,2, -999.000,9, -999.000,9, -999.000,9, -999.000,9, -999.000,9
           NA,    P03E,    171,   1,-999.0,      19,  2,19850425,1450,  23.0750, -170.0333,  4634,  836.900,    4.920,   34.343,2,   34.343,2, -999.000,9,   43.500,2,   91.160,2,   40.830,2,    0.000,2,    2.920,2, -999.000,9, -999.000,9, -999.000,9, -999.000,9, -999.000,9
           NA,    P03E,    171,   1,-999.0,      17,  2,19850425,1450,  23.0750, -170.0333,  4634,  906.000,    4.691,   34.405,2,   34.406,2, -999.000,9,   47.100,2,   95.040,2,   41.310,2,    0.000,2,    2.960,2, -999.000,9, -999.000,9, -999.000,9, -999.000,9, -999.000,9
           NA,    P03E,    171,   1,-999.0,      21,  2,19850425,1450,  23.0750, -170.0333,  4634, 1006.500,    4.428,   34.467,2,   34.468,2, -999.000,9,   53.100,2,  100.110,2,   41.420,2,    0.000,2,    2.940,2, -999.000,9, -999.000,9, -999.000,9, -999.000,9, -999.000,9
           NA,    P03E,    171,   1,-999.0,      39,  2,19850425,1450,  23.0750, -170.0333,  4634, 1103.600,    4.029,   34.491,2,   34.492,2, -999.000,9,   57.800,2,  108.350,2,   41.370,2,    0.000,2,    2.940,2, -999.000,9, -999.000,9, -999.000,9, -999.000,9, -999.000,9
           NA,    P03E,    171,   1,-999.0,      23,  2,19850425,1450,  23.0750, -170.0333,  4634, 1256.300,    3.536,   34.514,2,   34.516,2, -999.000,9,   59.100,2,  117.980,2,   41.800,2,    0.000,2,    2.980,2, -999.000,9, -999.000,9, -999.000,9, -999.000,9, -999.000,9
           NA,    P03E,    171,   1,-999.0,      24,  2,19850425,1450,  23.0750, -170.0333,  4634, 1409.800,    3.164,   34.539,2,   34.540,2, -999.000,9,   67.500,2,  126.220,2,   41.480,2,    0.000,2,    2.940,2, -999.000,9, -999.000,9, -999.000,9, -999.000,9, -999.000,9
           NA,    P03E,    171,   1,-999.0,      25,  2,19850425,1450,  23.0750, -170.0333,  4634, 1612.000,    2.681,   34.570,2,   34.571,2, -999.000,9,   75.800,2,  136.050,2,   41.380,2,    0.000,2,    2.930,2, -999.000,9, -999.000,9, -999.000,9, -999.000,9, -999.000,9
           NA,    P03E,    171,   1,-999.0,      26,  2,19850425,1450,  23.0750, -170.0333,  4634, 1811.300,    2.330,   34.597,2,   34.597,2, -999.000,9,   87.600,2,  143.090,2,   40.900,2,    0.000,2,    2.850,2, -999.000,9, -999.000,9, -999.000,9, -999.000,9, -999.000,9
           NA,    P03E,    171,   1,-999.0,      27,  2,19850425,1450,  23.0750, -170.0333,  4634, 2015.600,    2.133,   34.611,2,   34.612,2, -999.000,9,   94.500,2,  147.760,2,   40.320,2,    0.000,2,    2.820,2, -999.000,9, -999.000,9, -999.000,9, -999.000,9, -999.000,9
           NA,    P03E,    171,   1,-999.0,      28,  2,19850425,1450,  23.0750, -170.0333,  4634, 2219.900,    1.907,   34.624,2,   34.624,2, -999.000,9,  100.600,2,  153.610,2,   39.900,2,    0.000,2,    2.790,2, -999.000,9, -999.000,9, -999.000,9, -999.000,9, -999.000,9
           NA,    P03E,    171,   1,-999.0,      29,  2,19850425,1450,  23.0750, -170.0333,  4634, 2523.900,    1.728,   34.642,2,   34.642,2, -999.000,9,  113.500,2,  155.090,2,   39.210,2,    0.000,2,    2.730,2, -999.000,9, -999.000,9, -999.000,9, -999.000,9, -999.000,9
           NA,    P03E,    171,   1,-999.0,      30,  2,19850425,1450,  23.0750, -170.0333,  4634, 2831.700,    1.616,   34.655,2,   34.655,2, -999.000,9,  124.500,2,  155.180,2,   38.480,2,    0.000,2,    2.660,2, -999.000,9, -999.000,9, -999.000,9, -999.000,9, -999.000,9
           NA,    P03E,    171,   1,-999.0,      31,  2,19850425,1450,  23.0750, -170.0333,  4634, 3135.400,    1.541,   34.665,2,   34.664,2, -999.000,9,  135.300,2,  154.470,2,   37.900,2,    0.000,2,    2.620,2, -999.000,9, -999.000,9, -999.000,9, -999.000,9, -999.000,9
           NA,    P03E,    171,   1,-999.0,      32,  2,19850425,1450,  23.0750, -170.0333,  4634, 3439.200,    1.492,   34.673,2,   34.673,2, -999.000,9,  143.400,2,  151.380,2,   37.320,2,    0.000,2,    2.550,2, -999.000,9, -999.000,9, -999.000,9, -999.000,9, -999.000,9
           NA,    P03E,    171,   1,-999.0,      37,  2,19850425,1450,  23.0750, -170.0333,  4634, 3744.900,    1.468,   34.678,2,   34.678,2, -999.000,9,  148.300,2,  148.880,2,   36.850,2,    0.000,2,    2.530,2, -999.000,9, -999.000,9, -999.000,9, -999.000,9, -999.000,9
           NA,    P03E,    171,   1,-999.0,      34,  2,19850425,1450,  23.0750, -170.0333,  4634, 4047.700,    1.449,   34.682,2,   34.682,2, -999.000,9,  155.400,2,  145.200,2,   36.490,2,    0.000,2,    2.480,2, -999.000,9, -999.000,9, -999.000,9, -999.000,9, -999.000,9
           NA,    P03E,    171,   1,-999.0,      35,  2,19850425,1450,  23.0750, -170.0333,  4634, 4354.400,    1.443,   34.686,2,   34.686,2, -999.000,9,  161.400,2,  142.320,2,   36.180,2,    0.000,2,    2.440,2, -999.000,9, -999.000,9, -999.000,9, -999.000,9, -999.000,9
           NA,    P03E,    171,   1,-999.0,      36,  2,19850425,1450,  23.0750, -170.0333,  4634, 4702.600,    1.440,   34.689,2,   34.689,2, -999.000,9,  167.500,2,  138.050,2,   35.710,2,    0.000,2,    2.410,2, -999.000,9, -999.000,9, -999.000,9, -999.000,9, -999.000,9