BOTTLE,20203103JOAExport
EXPOCODE,SECT_ID,STNNBR,CASTNO,SAMPNO,BTLNBR,BTLNBR_FLAG_W,DATE,TIME,LATITUDE,LONGITUDE,DEPTH,CTDPRS,CTDTMP,CTDSAL,CTDSAL_FLAG_W,SALNTY,SALNTY_FLAG_W,CTDOXY,CTDOXY_FLAG_W,OXYGEN,OXYGEN_FLAG_W,SILCAT,SILCAT_FLAG_W,NITRAT,NITRAT_FLAG_W,NITRIT,NITRIT_FLAG_W,PHSPHT,PHSPHT_FLAG_W,CFC-11,CFC-11_FLAG_W,CFC-12,CFC-12_FLAG_W,SF6,SF6_FLAG_W,TCARBN,TCARBN_FLAG_W,ALKALI,ALKALI_FLAG_W
,,,,,,,,,,,,,DB,ITS-90,PSS-78,,PSS-78,,UMOL/KG,,UMOL/KG,,UMOL/KG,,UMOL/KG,,UMOL/KG,,UMOL/KG,,PMOL/KG,,PMOL/KG,,FMOL/KG,,UMOL/KG,,UMOL/KG
           NA,    P03E,    187,   2,-999.0,       1,  2,19850428,0336,  24.2350, -176.0233,  5274,    0.300,   23.541,   35.333,2,   35.339,2, -999.000,9,  215.700,2,    1.440,2,    0.040,2,    0.000,2,    0.040,2, -999.000,9, -999.000,9, -999.000,9, -999.000,9, -999.000,9
           NA,    P03E,    187,   2,-999.0,       2,  2,19850428,0336,  24.2350, -176.0233,  5274,   23.400,   23.410,   35.328,2,   35.330,2, -999.000,9,  216.100,2,    0.990,2,    0.040,2,    0.000,2,    0.040,2, -999.000,9, -999.000,9, -999.000,9, -999.000,9, -999.000,9
           NA,    P03E,    187,   2,-999.0,       3,  2,19850428,0336,  24.2350, -176.0233,  5274,   43.300,   23.402,   35.363,2,   35.351,2, -999.000,9,  216.800,2,    0.540,2,    0.040,2,    0.000,2,    0.040,2, -999.000,9, -999.000,9, -999.000,9, -999.000,9, -999.000,9
           NA,    P03E,    187,   2,-999.0,       4,  2,19850428,0336,  24.2350, -176.0233,  5274,   72.800,   23.269,   35.378,2,   35.380,2, -999.000,9,  216.900,2,    0.840,2,    0.040,2,    0.000,2,    0.030,2, -999.000,9, -999.000,9, -999.000,9, -999.000,9, -999.000,9
           NA,    P03E,    187,   2,-999.0,       5,  2,19850428,0336,  24.2350, -176.0233,  5274,  103.200,   23.013,   35.364,2,   35.372,2, -999.000,9,  215.500,2,    0.580,2,    0.040,2,    0.000,2,    0.030,2, -999.000,9, -999.000,9, -999.000,9, -999.000,9, -999.000,9
           NA,    P03E,    187,   2,-999.0,       6,  2,19850428,0336,  24.2350, -176.0233,  5274,  144.000,   19.982,   35.021,2,   35.025,2, -999.000,9,  213.300,2,    1.440,2,    0.440,2,    0.120,2,    0.100,2, -999.000,9, -999.000,9, -999.000,9, -999.000,9, -999.000,9
           NA,    P03E,    187,   2,-999.0,       7,  2,19850428,0336,  24.2350, -176.0233,  5274,  184.600,   17.824,   34.833,2,   34.833,2, -999.000,9,  202.900,2,    2.310,2,    3.050,2,    0.020,2,    0.270,2, -999.000,9, -999.000,9, -999.000,9, -999.000,9, -999.000,9
           NA,    P03E,    187,   2,-999.0,       8,  2,19850428,0336,  24.2350, -176.0233,  5274,  235.100,   16.157,   34.712,2,   34.709,2, -999.000,9,  211.600,2,    3.740,2,    5.270,2,    0.010,2,    0.380,2, -999.000,9, -999.000,9, -999.000,9, -999.000,9, -999.000,9
           NA,    P03E,    187,   2,-999.0,       9,  2,19850428,0336,  24.2350, -176.0233,  5274,  286.400,   14.862,   34.600,2,   34.605,2, -999.000,9,  208.100,2,    5.740,2,    7.450,2,    0.000,2,    0.520,2, -999.000,9, -999.000,9, -999.000,9, -999.000,9, -999.000,9
           NA,    P03E,    187,   2,-999.0,      10,  2,19850428,0336,  24.2350, -176.0233,  5274,  334.900,   13.678,   34.493,2,   34.497,2, -999.000,9,  209.400,2,    7.560,2,    9.190,2,    0.000,2,    0.640,2, -999.000,9, -999.000,9, -999.000,9, -999.000,9, -999.000,9
           NA,    P03E,    187,   2,-999.0,      11,  2,19850428,0336,  24.2350, -176.0233,  5274,  386.400,   11.950,   34.315,2,   34.314,2, -999.000,9,  202.700,2,   11.840,2,   12.390,2,    0.000,2,    0.870,2, -999.000,9, -999.000,9, -999.000,9, -999.000,9, -999.000,9
           NA,    P03E,    187,   2,-999.0,      12,  2,19850428,0336,  24.2350, -176.0233,  5274,  447.300,   10.123,   34.195,2,   34.196,2, -999.000,9,  189.000,2,   20.110,2,   17.260,2,    0.000,2,    1.200,2, -999.000,9, -999.000,9, -999.000,9, -999.000,9, -999.000,9
           NA,    P03E,    187,   2,-999.0,      13,  2,19850428,0336,  24.2350, -176.0233,  5274,  507.100,    8.873,   34.126,2,   34.127,2, -999.000,9,  167.800,2,   29.360,2,   21.890,2,    0.000,2,    1.520,2, -999.000,9, -999.000,9, -999.000,9, -999.000,9, -999.000,9
           NA,    P03E,    187,   2,-999.0,      14,  2,19850428,0336,  24.2350, -176.0233,  5274,  577.300,    7.531,   34.084,2,   34.084,2, -999.000,9,  133.700,2,   43.380,2,   27.530,2,    0.000,2,    1.930,2, -999.000,9, -999.000,9, -999.000,9, -999.000,9, -999.000,9
           NA,    P03E,    187,   2,-999.0,      15,  2,19850428,0336,  24.2350, -176.0233,  5274,  648.800,    6.314,   34.092,2,   34.093,2, -999.000,9,   92.800,2,   60.110,2,   33.560,2,    0.000,2,    2.350,2, -999.000,9, -999.000,9, -999.000,9, -999.000,9, -999.000,9
           NA,    P03E,    187,   2,-999.0,      16,  2,19850428,0336,  24.2350, -176.0233,  5274,  728.900,    5.393,   34.154,2,   34.154,2, -999.000,9,   64.200,2,   76.900,2,   37.790,2,    0.000,2,    2.660,2, -999.000,9, -999.000,9, -999.000,9, -999.000,9, -999.000,9
           NA,    P03E,    187,   2,-999.0,      38,  2,19850428,0336,  24.2350, -176.0233,  5274,  809.400,    4.808,   34.227,2,   34.227,2, -999.000,9, -999.000,5,   90.120,2,   40.250,2,    0.000,2,    2.820,2, -999.000,9, -999.000,9, -999.000,9, -999.000,9, -999.000,9
           NA,    P03E,    187,   2,-999.0,      18,  2,19850428,0336,  24.2350, -176.0233,  5274,  910.900,    4.131,   34.307,2,   34.305,2, -999.000,9,   38.800,2,  105.480,2,   41.880,2,    0.000,2,    2.920,2, -999.000,9, -999.000,9, -999.000,9, -999.000,9, -999.000,9
           NA,    P03E,    187,   2,-999.0,      19,  2,19850428,0336,  24.2350, -176.0233,  5274, 1011.500,    3.633,   34.367,2,   34.368,2, -999.000,9,   34.300,2,  121.290,2,   42.890,2,    0.000,2,    2.980,2, -999.000,9, -999.000,9, -999.000,9, -999.000,9, -999.000,9
           NA,    P03E,    187,   2,-999.0,      17,  2,19850428,0336,  24.2350, -176.0233,  5274, 1112.800,    3.299,   34.434,2,   34.434,2, -999.000,9,   38.500,2,  130.050,2,   42.890,2,    0.000,2,    2.980,2, -999.000,9, -999.000,9, -999.000,9, -999.000,9, -999.000,9
           NA,    P03E,    187,   2,-999.0,      21,  2,19850428,0336,  24.2350, -176.0233,  5274, 1263.400,    2.985,   34.491,2,   34.492,2, -999.000,9,   49.700,2,  136.150,2,   42.470,2,    0.000,2,    2.950,2, -999.000,9, -999.000,9, -999.000,9, -999.000,9, -999.000,9
           NA,    P03E,    187,   2,-999.0,      39,  2,19850428,0336,  24.2350, -176.0233,  5274, 1411.700,    2.758,   34.528,2,   34.530,2, -999.000,9,   61.500,2,  137.640,2,   41.900,2,    0.000,2,    2.890,2, -999.000,9, -999.000,9, -999.000,9, -999.000,9, -999.000,9
           NA,    P03E,    187,   2,-999.0,      23,  2,19850428,0336,  24.2350, -176.0233,  5274, 1611.900,    2.439,   34.574,2,   34.574,2, -999.000,9,   78.400,2,  143.200,2,   40.900,2,    0.000,2,    2.820,2, -999.000,9, -999.000,9, -999.000,9, -999.000,9, -999.000,9
           NA,    P03E,    187,   2,-999.0,      24,  2,19850428,0336,  24.2350, -176.0233,  5274, 1815.200,    2.126,   34.597,2,   34.598,2, -999.000,9,   86.000,2,  152.470,2,   40.480,2,    0.000,2,    2.790,2, -999.000,9, -999.000,9, -999.000,9, -999.000,9, -999.000,9
           NA,    P03E,    187,   2,-999.0,      26,  2,19850428,0336,  24.2350, -176.0233,  5274, 2223.900,    1.798,   34.632,2,   34.631,2, -999.000,9,  104.700,2,  156.110,2,   39.440,2,    0.000,2,    2.710,2, -999.000,9, -999.000,9, -999.000,9, -999.000,9, -999.000,9
           NA,    P03E,    187,   2,-999.0,      25,  2,19850428,0336,  24.2350, -176.0233,  5274, 2223.900,    1.798,   34.632,2,   34.632,2, -999.000,9,  104.900,2,  157.110,2,   39.390,2,    0.000,2,    2.710,2, -999.000,9, -999.000,9, -999.000,9, -999.000,9, -999.000,9
           NA,    P03E,    187,   2,-999.0,      27,  2,19850428,0336,  24.2350, -176.0233,  5274, 2528.200,    1.664,   34.648,2,   34.648,2, -999.000,9,  118.000,2,  157.260,2,   38.610,2,    0.000,2,    2.640,2, -999.000,9, -999.000,9, -999.000,9, -999.000,9, -999.000,9
           NA,    P03E,    187,   2,-999.0,      28,  2,19850428,0336,  24.2350, -176.0233,  5274, 2833.800,    1.577,   34.659,2,   34.659,2, -999.000,9,  127.700,2,  156.450,2,   37.840,2,    0.000,2,    2.610,2, -999.000,9, -999.000,9, -999.000,9, -999.000,9, -999.000,9
           NA,    P03E,    187,   2,-999.0,      29,  2,19850428,0336,  24.2350, -176.0233,  5274, 3138.100,    1.503,   34.669,2,   34.668,2, -999.000,9,  137.200,2,  154.860,2,   37.320,2,    0.000,2,    2.550,2, -999.000,9, -999.000,9, -999.000,9, -999.000,9, -999.000,9
           NA,    P03E,    187,   2,-999.0,      30,  2,19850428,0336,  24.2350, -176.0233,  5274, 3445.200,    1.474,   34.674,2,   34.673,2, -999.000,9,  145.200,2,  152.870,2,   36.810,2,    0.000,2,    2.510,2, -999.000,9, -999.000,9, -999.000,9, -999.000,9, -999.000,9
           NA,    P03E,    187,   2,-999.0,      31,  2,19850428,0336,  24.2350, -176.0233,  5274, 3751.300,    1.452,   34.679,2,   34.678,2, -999.000,9,  149.300,2,  151.270,2,   36.500,2,    0.000,2,    2.490,2, -999.000,9, -999.000,9, -999.000,9, -999.000,9, -999.000,9
           NA,    P03E,    187,   2,-999.0,      32,  2,19850428,0336,  24.2350, -176.0233,  5274, 4057.600,    1.441,   34.683,2,   34.682,2, -999.000,9,  154.400,2,  148.880,2,   36.140,2,    0.000,2,    2.450,2, -999.000,9, -999.000,9, -999.000,9, -999.000,9, -999.000,9
           NA,    P03E,    187,   2,-999.0,      37,  2,19850428,0336,  24.2350, -176.0233,  5274, 4364.600,    1.442,   34.686,2,   34.685,2, -999.000,9,  160.000,2,  146.280,2,   35.730,2,    0.000,2,    2.440,2, -999.000,9, -999.000,9, -999.000,9, -999.000,9, -999.000,9
           NA,    P03E,    187,   2,-999.0,      34,  2,19850428,0336,  24.2350, -176.0233,  5274, 4671.600,    1.439,   34.689,2,   34.688,2, -999.000,9,  165.600,2,  141.900,2,   35.320,2,    0.000,2,    2.410,2, -999.000,9, -999.000,9, -999.000,9, -999.000,9, -999.000,9
           NA,    P03E,    187,   2,-999.0,      35,  2,19850428,0336,  24.2350, -176.0233,  5274, 5030.800,    1.447,   34.691,2,   34.691,2, -999.000,9,  172.000,2,  136.920,2,   35.020,2,    0.000,2,    2.370,2, -999.000,9, -999.000,9, -999.000,9, -999.000,9, -999.000,9
           NA,    P03E,    187,   2,-999.0,      36,  2,19850428,0336,  24.2350, -176.0233,  5274, 5348.400,    1.467,   34.693,2,   34.692,2, -999.000,9,  174.600,2,  135.880,2,   34.560,2,    0.000,2,    2.360,2, -999.000,9, -999.000,9, -999.000,9, -999.000,9, -999.000,9