BOTTLE,20203103JOAExport
EXPOCODE,SECT_ID,STNNBR,CASTNO,SAMPNO,BTLNBR,BTLNBR_FLAG_W,DATE,TIME,LATITUDE,LONGITUDE,DEPTH,CTDPRS,CTDTMP,CTDSAL,CTDSAL_FLAG_W,SALNTY,SALNTY_FLAG_W,CTDOXY,CTDOXY_FLAG_W,OXYGEN,OXYGEN_FLAG_W,SILCAT,SILCAT_FLAG_W,NITRAT,NITRAT_FLAG_W,NITRIT,NITRIT_FLAG_W,PHSPHT,PHSPHT_FLAG_W,CFC-11,CFC-11_FLAG_W,CFC-12,CFC-12_FLAG_W,SF6,SF6_FLAG_W,TCARBN,TCARBN_FLAG_W,ALKALI,ALKALI_FLAG_W
,,,,,,,,,,,,,DB,ITS-90,PSS-78,,PSS-78,,UMOL/KG,,UMOL/KG,,UMOL/KG,,UMOL/KG,,UMOL/KG,,UMOL/KG,,PMOL/KG,,PMOL/KG,,FMOL/KG,,UMOL/KG,,UMOL/KG
           NA,    P03E,     84,   2,-999.0,       1,  2,19850412,2311,  24.2850, -145.4683,  5243,    0.000,   21.834,   35.219,2,   35.220,2, -999.000,9,  222.800,2,    0.290,2,    0.080,2,    0.000,2,    0.100,2, -999.000,9, -999.000,9, -999.000,9, -999.000,9, -999.000,9
           NA,    P03E,     84,   2,-999.0,       2,  2,19850412,2311,  24.2850, -145.4683,  5243,   23.800,   21.454,   35.195,2,   35.193,2, -999.000,9,  224.900,2,    0.290,2,    0.080,2,    0.000,2,    0.100,2, -999.000,9, -999.000,9, -999.000,9, -999.000,9, -999.000,9
           NA,    P03E,     84,   2,-999.0,       3,  2,19850412,2311,  24.2850, -145.4683,  5243,   43.800,   21.151,   35.235,2,   35.241,2, -999.000,9,  225.300,2,    0.290,2,    0.080,2,    0.000,2,    0.090,2, -999.000,9, -999.000,9, -999.000,9, -999.000,9, -999.000,9
           NA,    P03E,     84,   2,-999.0,       4,  2,19850412,2311,  24.2850, -145.4683,  5243,   63.600,   21.043,   35.295,2,   35.295,2, -999.000,9,  223.600,2,    0.290,2,    0.080,2,    0.000,2,    0.090,2, -999.000,9, -999.000,9, -999.000,9, -999.000,9, -999.000,9
           NA,    P03E,     84,   2,-999.0,       5,  2,19850412,2311,  24.2850, -145.4683,  5243,   93.100,   20.975,   35.350,2,   35.351,2, -999.000,9,  219.600,2,    0.290,2,    0.060,2,    0.020,2,    0.080,2, -999.000,9, -999.000,9, -999.000,9, -999.000,9, -999.000,9
           NA,    P03E,     84,   2,-999.0,       6,  2,19850412,2311,  24.2850, -145.4683,  5243,  123.200,   20.815,   35.351,2,   35.350,2, -999.000,9,  220.900,2,    0.290,2,    0.090,2,    0.030,2,    0.090,2, -999.000,9, -999.000,9, -999.000,9, -999.000,9, -999.000,9
           NA,    P03E,     84,   2,-999.0,       7,  2,19850412,2311,  24.2850, -145.4683,  5243,  153.300,   20.525,   35.319,2,   35.323,2, -999.000,9,  216.600,2,    0.490,2,    0.420,2,    0.100,2,    0.100,2, -999.000,9, -999.000,9, -999.000,9, -999.000,9, -999.000,9
           NA,    P03E,     84,   2,-999.0,       8,  2,19850412,2311,  24.2850, -145.4683,  5243,  194.100,   18.010,   34.904,2,   34.915,2, -999.000,9,  203.900,2,    1.950,2,    2.350,2,    0.020,2,    0.230,2,    1.822,2,    0.949,2, -999.000,9, -999.000,9, -999.000,9
           NA,    P03E,     84,   2,-999.0,       9,  2,19850412,2311,  24.2850, -145.4683,  5243,  234.900,   15.391,   34.557,2,   34.557,2, -999.000,9,  206.000,2,    4.010,2,    4.960,2,    0.010,2,    0.430,2, -999.000,9, -999.000,9, -999.000,9, -999.000,9, -999.000,9
           NA,    P03E,     84,   2,-999.0,      10,  2,19850412,2311,  24.2850, -145.4683,  5243,  285.400,   12.242,   34.187,2,   34.188,2, -999.000,9,  201.100,2,    9.580,2,   10.460,2,    0.000,2,    0.780,2,    1.740,6,    0.851,6, -999.000,9, -999.000,9, -999.000,9
           NA,    P03E,     84,   2,-999.0,      11,  2,19850412,2311,  24.2850, -145.4683,  5243,  335.500,   11.023,   34.166,2,   34.164,2, -999.000,9,  215.900,2,   12.910,2,   12.710,2,    0.000,2,    0.910,2,    1.878,2,    0.907,2, -999.000,9, -999.000,9, -999.000,9
           NA,    P03E,     84,   2,-999.0,      12,  2,19850412,2311,  24.2850, -145.4683,  5243,  395.600,    9.302,   34.085,2,   34.086,2, -999.000,9,  188.000,2,   22.880,2,   19.070,2,    0.000,2,    1.310,2,    1.206,2,    0.597,2, -999.000,9, -999.000,9, -999.000,9
           NA,    P03E,     84,   2,-999.0,      13,  2,19850412,2311,  24.2850, -145.4683,  5243,  455.300,    7.761,   34.053,2,   34.052,2, -999.000,9,  144.400,2,   37.940,2,   26.210,2,    0.000,2,    1.810,2,    0.550,2,    0.290,2, -999.000,9, -999.000,9, -999.000,9
           NA,    P03E,     84,   2,-999.0,      14,  2,19850412,2311,  24.2850, -145.4683,  5243,  525.900,    6.548,   34.067,2,   34.067,2, -999.000,9,   87.000,2,   57.400,2,   34.030,2,    0.000,2,    2.380,2, -999.000,9, -999.000,9, -999.000,9, -999.000,9, -999.000,9
           NA,    P03E,     84,   2,-999.0,      15,  2,19850412,2311,  24.2850, -145.4683,  5243,  607.400,    5.521,   34.135,2,   34.135,2, -999.000,9,   45.700,2,   76.370,2,   39.700,2,    0.000,2,    2.780,2, -999.000,9, -999.000,9, -999.000,9, -999.000,9, -999.000,9
           NA,    P03E,     84,   2,-999.0,      16,  2,19850412,2311,  24.2850, -145.4683,  5243,  706.600,    5.021,   34.256,2,   34.253,2, -999.000,9,   24.800,2,   89.950,2,   42.530,2,    0.000,2,    2.970,2, -999.000,9, -999.000,9, -999.000,9, -999.000,9, -999.000,9
           NA,    P03E,     84,   2,-999.0,      17,  2,19850412,2311,  24.2850, -145.4683,  5243,  804.000,    4.679,   34.361,2,   34.361,2, -999.000,9,   25.700,2,   98.840,2,   43.110,2,    0.000,2,    3.020,2, -999.000,9, -999.000,9, -999.000,9, -999.000,9, -999.000,9
           NA,    P03E,     84,   2,-999.0,      18,  2,19850412,2311,  24.2850, -145.4683,  5243,  906.000,    4.290,   34.424,2, -999.000,5, -999.000,9,   32.600,2,  106.360,2,   43.500,2,    0.000,2,    3.010,2, -999.000,9, -999.000,9, -999.000,9, -999.000,9, -999.000,9
           NA,    P03E,     84,   2,-999.0,      19,  2,19850412,2311,  24.2850, -145.4683,  5243, 1006.300,    4.009,   34.473,2,   34.471,2, -999.000,9,   39.600,2,  112.130,2,   43.500,2,    0.000,2,    3.000,2, -999.000,9, -999.000,9, -999.000,9, -999.000,9, -999.000,9
           NA,    P03E,     84,   2,-999.0,      20,  2,19850412,2311,  24.2850, -145.4683,  5243, 1105.300,    3.783,   34.503,2,   34.502,2, -999.000,9,   45.200,2,  117.210,2,   43.500,2,    0.000,2,    3.000,2, -999.000,9, -999.000,9, -999.000,9, -999.000,9, -999.000,9
           NA,    P03E,     84,   2,-999.0,      21,  2,19850412,2311,  24.2850, -145.4683,  5243, 1254.700,    3.410,   34.532,2,   34.531,2, -999.000,9,   53.000,2,  124.830,2,   43.010,2,    0.000,2,    2.970,2, -999.000,9, -999.000,9, -999.000,9, -999.000,9, -999.000,9
           NA,    P03E,     84,   2,-999.0,      22,  2,19850412,2311,  24.2850, -145.4683,  5243, 1406.500,    3.088,   34.552,2,   34.552,2, -999.000,9,   59.100,2,  133.140,2,   42.910,2,    0.000,2,    2.950,2, -999.000,9, -999.000,9, -999.000,9, -999.000,9, -999.000,9
           NA,    P03E,     84,   2,-999.0,      23,  2,19850412,2311,  24.2850, -145.4683,  5243, 1598.400,    2.723,   34.574,2,   34.574,2, -999.000,9,   69.100,2,  140.170,2,   42.420,2,    0.000,2,    2.890,2, -999.000,9, -999.000,9, -999.000,9, -999.000,9, -999.000,9
           NA,    P03E,     84,   2,-999.0,      24,  2,19850412,2311,  24.2850, -145.4683,  5243, 1799.700,    2.410,   34.590,2,   34.590,2, -999.000,9,   76.100,2,  149.070,2,   42.030,2,    0.000,2,    2.850,2, -999.000,9, -999.000,9, -999.000,9, -999.000,9, -999.000,9
           NA,    P03E,     84,   2,-999.0,      25,  2,19850412,2311,  24.2850, -145.4683,  5243, 1993.400,    2.169,   34.611,2,   34.609,2, -999.000,9,   83.400,2,  155.320,2,   41.540,2,    0.000,2,    2.800,2, -999.000,9, -999.000,9, -999.000,9, -999.000,9, -999.000,9
           NA,    P03E,     84,   2,-999.0,      26,  2,19850412,2311,  24.2850, -145.4683,  5243, 2193.000,    1.963,   34.625,2,   34.624,2, -999.000,9,   89.500,2,  162.360,2,   41.150,2,    0.000,2,    2.770,2, -999.000,9, -999.000,9, -999.000,9, -999.000,9, -999.000,9
           NA,    P03E,     84,   2,-999.0,      27,  2,19850412,2311,  24.2850, -145.4683,  5243, 2487.500,    1.772,   34.643,2,   34.641,2, -999.000,9,  102.100,2,  165.870,2,   40.080,2,    0.000,2,    2.710,2, -999.000,9, -999.000,9, -999.000,9, -999.000,9, -999.000,9
           NA,    P03E,     84,   2,-999.0,      28,  2,19850412,2311,  24.2850, -145.4683,  5243, 2793.500,    1.620,   34.657,2,   34.657,2, -999.000,9,  116.000,2,  166.650,2,   39.390,2,    0.000,2,    2.630,2, -999.000,9, -999.000,9, -999.000,9, -999.000,9, -999.000,9
           NA,    P03E,     84,   2,-999.0,      29,  2,19850412,2311,  24.2850, -145.4683,  5243, 3091.700,    1.547,   34.667,2,   34.665,2, -999.000,9,  124.700,2,  165.670,2,   38.710,2,    0.000,2,    2.580,2, -999.000,9, -999.000,9, -999.000,9, -999.000,9, -999.000,9
           NA,    P03E,     84,   2,-999.0,      30,  2,19850412,2311,  24.2850, -145.4683,  5243, 3396.700,    1.491,   34.674,2,   34.672,2, -999.000,9,  134.700,2,  163.130,2,   37.920,2,    0.000,2,    2.530,2, -999.000,9, -999.000,9, -999.000,9, -999.000,9, -999.000,9
           NA,    P03E,     84,   2,-999.0,      31,  2,19850412,2311,  24.2850, -145.4683,  5243, 3702.200,    1.470,   34.680,2,   34.677,2, -999.000,9,  142.500,2,  160.000,2,   37.530,2,    0.000,2,    2.490,2, -999.000,9, -999.000,9, -999.000,9, -999.000,9, -999.000,9
           NA,    P03E,     84,   2,-999.0,      32,  2,19850412,2311,  24.2850, -145.4683,  5243, 4005.700,    1.465,   34.682,2,   34.681,2, -999.000,9,  148.600,2,  157.270,2,   37.240,2,    0.000,2,    2.460,2, -999.000,9, -999.000,9, -999.000,9, -999.000,9, -999.000,9
           NA,    P03E,     84,   2,-999.0,      37,  2,19850412,2311,  24.2850, -145.4683,  5243, 4307.500,    1.477,   34.685,2,   34.683,2, -999.000,9,  152.100,2,  154.040,2,   36.950,2,    0.000,2,    2.430,2, -999.000,9, -999.000,9, -999.000,9, -999.000,9, -999.000,9
           NA,    P03E,     84,   2,-999.0,      34,  2,19850412,2311,  24.2850, -145.4683,  5243, 4610.600,    1.487,   34.688,2,   34.685,2, -999.000,9,  156.900,2,  151.300,2,   36.460,2,    0.000,2,    2.410,2, -999.000,9, -999.000,9, -999.000,9, -999.000,9, -999.000,9
           NA,    P03E,     84,   2,-999.0,      35,  2,19850412,2311,  24.2850, -145.4683,  5243, 4916.500,    1.496,   34.688,2,   34.686,2, -999.000,9,  161.600,2,  146.710,2,   36.260,2,    0.000,2,    2.380,2, -999.000,9, -999.000,9, -999.000,9, -999.000,9, -999.000,9
           NA,    P03E,     84,   2,-999.0,      36,  2,19850412,2311,  24.2850, -145.4683,  5243, 5318.600,    1.516,   34.690,2,   34.689,2, -999.000,9,  166.000,2,  143.480,2,   35.870,2,    0.000,2,    2.380,2, -999.000,9, -999.000,9, -999.000,9, -999.000,9, -999.000,9