BOTTLE,20203103JOAExport
EXPOCODE,SECT_ID,STNNBR,CASTNO,SAMPNO,BTLNBR,BTLNBR_FLAG_W,DATE,TIME,LATITUDE,LONGITUDE,DEPTH,CTDPRS,CTDTMP,CTDSAL,CTDSAL_FLAG_W,SALNTY,SALNTY_FLAG_W,CTDOXY,CTDOXY_FLAG_W,OXYGEN,OXYGEN_FLAG_W,SILCAT,SILCAT_FLAG_W,NITRAT,NITRAT_FLAG_W,NITRIT,NITRIT_FLAG_W,PHSPHT,PHSPHT_FLAG_W,CFC-11,CFC-11_FLAG_W,CFC-12,CFC-12_FLAG_W,SF6,SF6_FLAG_W,TCARBN,TCARBN_FLAG_W,ALKALI,ALKALI_FLAG_W
,,,,,,,,,,,,,DB,ITS-90,PSS-78,,PSS-78,,UMOL/KG,,UMOL/KG,,UMOL/KG,,UMOL/KG,,UMOL/KG,,UMOL/KG,,PMOL/KG,,PMOL/KG,,FMOL/KG,,UMOL/KG,,UMOL/KG
           NA,    P03E,    138,   1,-999.0,       1,  2,19850421,0953,  25.5000, -165.0067,  4882,    0.000,   22.483,   35.331,2,   35.333,2, -999.000,9,  220.200,2,    2.150,2,    0.040,2,    0.000,2,    0.060,2,    1.674,2,    0.853,2, -999.000,9, -999.000,9, -999.000,9
           NA,    P03E,    138,   1,-999.0,       2,  2,19850421,0953,  25.5000, -165.0067,  4882,   25.000,   21.266,   35.279,2,   35.281,2, -999.000,9,  225.300,2,    2.150,2,    0.030,2,    0.000,2,    0.050,2, -999.000,9, -999.000,9, -999.000,9, -999.000,9, -999.000,9
           NA,    P03E,    138,   1,-999.0,       3,  2,19850421,0953,  25.5000, -165.0067,  4882,   44.600,   20.648,   35.198,2,   35.204,2, -999.000,9,  224.000,2,    2.440,2,    0.030,2,    0.000,2,    0.060,2,    1.822,2,    0.929,2, -999.000,9, -999.000,9, -999.000,9
           NA,    P03E,    138,   1,-999.0,       4,  2,19850421,0953,  25.5000, -165.0067,  4882,   74.800,   20.043,   35.119,2,   35.125,2, -999.000,9,  221.800,2,    2.930,2,    0.150,2,    0.040,2,    0.100,2, -999.000,9, -999.000,9, -999.000,9, -999.000,9, -999.000,9
           NA,    P03E,    138,   1,-999.0,       5,  2,19850421,0953,  25.5000, -165.0067,  4882,  104.600,   19.081,   35.043,2,   35.044,2, -999.000,9,  220.000,2,    3.220,2,    0.500,2,    0.160,2,    0.140,2,    1.860,2,    0.941,2, -999.000,9, -999.000,9, -999.000,9
           NA,    P03E,    138,   1,-999.0,       6,  2,19850421,0953,  25.5000, -165.0067,  4882,  144.700,   18.072,   34.981,2,   34.982,2, -999.000,9,  226.500,2,    3.130,2,    0.410,2,    0.340,2,    0.150,2,    1.985,2,    1.001,2, -999.000,9, -999.000,9, -999.000,9
           NA,    P03E,    138,   1,-999.0,       7,  2,19850421,0953,  25.5000, -165.0067,  4882,  184.800,   17.094,   34.826,2,   34.825,2, -999.000,9,  218.600,2,    4.200,2,    2.680,2,    0.060,2,    0.250,2,    1.985,2,    0.995,2, -999.000,9, -999.000,9, -999.000,9
           NA,    P03E,    138,   1,-999.0,       8,  2,19850421,0953,  25.5000, -165.0067,  4882,  225.600,   15.605,   34.649,2,   34.647,2, -999.000,9,  209.500,2,    6.350,2,    5.810,2,    0.010,2,    0.460,2,    1.900,2,    0.930,2, -999.000,9, -999.000,9, -999.000,9
           NA,    P03E,    138,   1,-999.0,       9,  2,19850421,0953,  25.5000, -165.0067,  4882,  264.800,   14.216,   34.517,2,   34.518,2, -999.000,9,  216.400,2,    7.430,2,    7.380,2,    0.000,2,    0.550,2,    2.035,6,    0.992,6, -999.000,9, -999.000,9, -999.000,9
           NA,    P03E,    138,   1,-999.0,      10,  2,19850421,0953,  25.5000, -165.0067,  4882,  305.200,   12.972,   34.412,2,   34.410,2, -999.000,9,  218.500,2,   10.170,2,    9.470,2,    0.000,2,    0.690,2,    1.985,2,    0.960,2, -999.000,9, -999.000,9, -999.000,9
           NA,    P03E,    138,   1,-999.0,      11,  2,19850421,0953,  25.5000, -165.0067,  4882,  356.000,   11.978,   34.329,2,   34.327,2, -999.000,9,  219.400,2,   12.510,2,   11.150,2,    0.000,2,    0.810,2,    1.965,2,    0.971,2, -999.000,9, -999.000,9, -999.000,9
           NA,    P03E,    138,   1,-999.0,      12,  2,19850421,0953,  25.5000, -165.0067,  4882,  406.700,   11.004,   34.265,2,   34.261,2, -999.000,9,  210.600,2,   17.110,2,   13.790,2,    0.000,2,    0.990,2,    1.725,2,    0.867,2, -999.000,9, -999.000,9, -999.000,9
           NA,    P03E,    138,   1,-999.0,      13,  2,19850421,0953,  25.5000, -165.0067,  4882,  457.500,   10.057,   34.199,2,   34.192,2, -999.000,9,  197.600,2,   23.080,2,   17.110,2,    0.000,2,    1.210,2,    1.414,6,    0.693,6, -999.000,9, -999.000,9, -999.000,9
           NA,    P03E,    138,   1,-999.0,      14,  2,19850421,0953,  25.5000, -165.0067,  4882,  517.800,    8.684,   34.125,2,   34.124,2, -999.000,9,  173.600,2,   33.540,2,   21.810,2,    0.000,2,    1.540,2,    0.994,2,    0.507,2, -999.000,9, -999.000,9, -999.000,9
           NA,    P03E,    138,   1,-999.0,      15,  2,19850421,0953,  25.5000, -165.0067,  4882,  578.100,    7.503,   34.081,2,   34.082,2, -999.000,9,  146.600,2,   45.470,2,   26.700,2,    0.000,2,    1.890,2,    0.647,2,    0.338,2, -999.000,9, -999.000,9, -999.000,9
           NA,    P03E,    138,   1,-999.0,      16,  2,19850421,0953,  25.5000, -165.0067,  4882,  648.500,    6.084,   34.089,2,   34.089,2, -999.000,9,   96.600,2,   66.200,2,   33.640,2,    0.000,2,    2.400,2,    0.259,6,    0.134,6, -999.000,9, -999.000,9, -999.000,9
           NA,    P03E,    138,   1,-999.0,      38,  2,19850421,0953,  25.5000, -165.0067,  4882,  729.600,    5.370,   34.144,2,   34.147,2, -999.000,9,   66.100,2,   81.450,2,   37.650,2,    0.000,2,    2.690,2,    0.110,2,    0.060,2, -999.000,9, -999.000,9, -999.000,9
           NA,    P03E,    138,   1,-999.0,      18,  2,19850421,0953,  25.5000, -165.0067,  4882,  810.700,    4.647,   34.235,2,   34.234,2, -999.000,9,   45.200,2,   97.970,2,   40.580,2,    0.000,2,    2.910,2,    0.036,2,    0.013,2, -999.000,9, -999.000,9, -999.000,9
           NA,    P03E,    138,   1,-999.0,      19,  2,19850421,0953,  25.5000, -165.0067,  4882,  910.200,    4.192,   34.319,2,   34.319,2, -999.000,9,   37.000,2,  109.890,2,   41.940,2,    0.000,2,    3.010,2,    0.008,2,    0.008,2, -999.000,9, -999.000,9, -999.000,9
           NA,    P03E,    138,   1,-999.0,      20,  2,19850421,0953,  25.5000, -165.0067,  4882, 1008.300,    3.893,   34.384,2,   34.383,2, -999.000,9,   38.300,2,  117.410,2,   42.330,2,    0.000,2,    3.010,2, -999.000,9, -999.000,9, -999.000,9, -999.000,9, -999.000,9
           NA,    P03E,    138,   1,-999.0,      21,  2,19850421,0953,  25.5000, -165.0067,  4882, 1107.900,    3.624,   34.439,2,   34.439,2, -999.000,9,   43.900,2,  123.570,2,   42.330,2,    0.000,2,    2.990,2, -999.000,9, -999.000,9, -999.000,9, -999.000,9, -999.000,9
           NA,    P03E,    138,   1,-999.0,      39,  2,19850421,0953,  25.5000, -165.0067,  4882, 1260.700,    3.216,   34.500,2,   34.499,2, -999.000,9,   54.800,2,  132.160,2,   41.940,2,    0.000,2,    2.970,2,   -0.002,2,   -0.002,2, -999.000,9, -999.000,9, -999.000,9
           NA,    P03E,    138,   1,-999.0,      23,  2,19850421,0953,  25.5000, -165.0067,  4882, 1411.900,    2.866,   34.542,2,   34.543,2, -999.000,9,   65.200,2,  139.490,2,   41.450,2,    0.000,2,    2.920,2, -999.000,9, -999.000,9, -999.000,9, -999.000,9, -999.000,9
           NA,    P03E,    138,   1,-999.0,      24,  2,19850421,0953,  25.5000, -165.0067,  4882, 1612.100,    2.524,   34.572,2,   34.572,2, -999.000,9,   75.200,2,  147.410,2,   41.150,2,    0.000,2,    2.880,2, -999.000,9, -999.000,9, -999.000,9, -999.000,9, -999.000,9
           NA,    P03E,    138,   1,-999.0,      25,  2,19850421,0953,  25.5000, -165.0067,  4882, 1814.100,    2.214,   34.598,2,   34.598,2, -999.000,9,   85.600,2,  152.880,2,   40.470,2,    0.000,2,    2.830,2, -999.000,9, -999.000,9, -999.000,9, -999.000,9, -999.000,9
           NA,    P03E,    138,   1,-999.0,      26,  2,19850421,0953,  25.5000, -165.0067,  4882, 2018.600,    1.988,   34.615,2,   34.615,2, -999.000,9,   93.900,2,  158.550,2,   40.080,2,    0.000,2,    2.790,2, -999.000,9, -999.000,9, -999.000,9, -999.000,9, -999.000,9
           NA,    P03E,    138,   1,-999.0,      27,  2,19850421,0953,  25.5000, -165.0067,  4882, 2222.300,    1.843,   34.630,2,   34.630,2, -999.000,9,  102.600,2,  160.600,2,   39.490,2,    0.000,2,    2.740,2, -999.000,9, -999.000,9, -999.000,9, -999.000,9, -999.000,9
           NA,    P03E,    138,   1,-999.0,      28,  2,19850421,0953,  25.5000, -165.0067,  4882, 2525.500,    1.701,   34.646,2,   34.646,2, -999.000,9,  113.400,2,  162.350,2,   38.900,2,    0.000,2,    2.680,2, -999.000,9, -999.000,9, -999.000,9, -999.000,9, -999.000,9
           NA,    P03E,    138,   1,-999.0,      29,  2,19850421,0953,  25.5000, -165.0067,  4882, 2830.000,    1.579,   34.659,2,   34.658,2, -999.000,9,  124.700,2,  161.960,2,   38.020,2,    0.000,2,    2.620,2, -999.000,9, -999.000,9, -999.000,9, -999.000,9, -999.000,9
           NA,    P03E,    138,   1,-999.0,      30,  2,19850421,0953,  25.5000, -165.0067,  4882, 3133.100,    1.514,   34.668,2,   34.667,2, -999.000,9,  133.400,2,  159.810,2,   37.530,2,    0.000,2,    2.570,2, -999.000,9, -999.000,9, -999.000,9, -999.000,9, -999.000,9
           NA,    P03E,    138,   1,-999.0,      31,  2,19850421,0953,  25.5000, -165.0067,  4882, 3439.700,    1.478,   34.674,2,   34.673,2, -999.000,9,  140.800,2,  158.250,2,   37.240,2,    0.000,2,    2.540,2, -999.000,9, -999.000,9, -999.000,9, -999.000,9, -999.000,9
           NA,    P03E,    138,   1,-999.0,      32,  2,19850421,0953,  25.5000, -165.0067,  4882, 3746.500,    1.460,   34.679,2,   34.678,2, -999.000,9,  146.000,2,  157.170,2,   36.750,2,    0.000,2,    2.510,2,    0.010,2,    0.008,2, -999.000,9, -999.000,9, -999.000,9
           NA,    P03E,    138,   1,-999.0,      37,  2,19850421,0953,  25.5000, -165.0067,  4882, 4053.300,    1.453,   34.682,2, -999.000,5, -999.000,9,  152.100,2,  155.020,2,   36.260,2,    0.000,2,    2.470,2, -999.000,9, -999.000,9, -999.000,9, -999.000,9, -999.000,9
           NA,    P03E,    138,   1,-999.0,      34,  2,19850421,0953,  25.5000, -165.0067,  4882, 4360.000,    1.464,   34.686,2,   34.684,2, -999.000,9,  155.600,2,  151.700,2,   36.070,2,    0.000,2,    2.460,2, -999.000,9, -999.000,9, -999.000,9, -999.000,9, -999.000,9
           NA,    P03E,    138,   1,-999.0,      35,  2,19850421,0953,  25.5000, -165.0067,  4882, 4668.100,    1.484,   34.686,2,   34.686,2, -999.000,9,  158.600,2,  150.520,2,   35.870,2,    0.000,2,    2.430,2, -999.000,9, -999.000,9, -999.000,9, -999.000,9, -999.000,9
           NA,    P03E,    138,   1,-999.0,      36,  2,19850421,0953,  25.5000, -165.0067,  4882, 4946.000,    1.506,   34.687,2,   34.687,2, -999.000,9,  159.500,2,  149.250,2,   35.190,2,    0.000,2,    2.420,2,    0.005,2, -999.000,9, -999.000,9, -999.000,9, -999.000,9
           NA,    P03E,    136,   1,-999.0,       1,  2,19850421,0308,  25.5083, -164.3083,  4423,    0.400,   22.480,   35.333,2,   35.335,2, -999.000,9,  221.000,2,    1.170,2,    0.040,2,    0.000,2,    0.040,2, -999.000,9, -999.000,9, -999.000,9, -999.000,9, -999.000,9
           NA,    P03E,    136,   1,-999.0,       3,  2,19850421,0308,  25.5083, -164.3083,  4423,   19.200,   22.208,   35.330,2,   35.335,2, -999.000,9,  221.500,2,    1.070,2,    0.040,2,    0.000,2,    0.040,2, -999.000,9, -999.000,9, -999.000,9, -999.000,9, -999.000,9
           NA,    P03E,    136,   1,-999.0,       4,  2,19850421,0308,  25.5083, -164.3083,  4423,   34.100,   21.669,   35.297,2,   35.305,2, -999.000,9,  224.500,2,    1.170,2,    0.040,2,    0.000,2,    0.040,2, -999.000,9, -999.000,9, -999.000,9, -999.000,9, -999.000,9
           NA,    P03E,    136,   1,-999.0,       5,  2,19850421,0308,  25.5083, -164.3083,  4423,   54.300,   20.836,   35.212,2,   35.232,2, -999.000,9,  225.800,2,    1.170,2,    0.040,2,    0.000,2,    0.040,2, -999.000,9, -999.000,9, -999.000,9, -999.000,9, -999.000,9
           NA,    P03E,    136,   1,-999.0,       6,  2,19850421,0308,  25.5083, -164.3083,  4423,   74.500,   19.960,   35.094,2,   35.099,2, -999.000,9,  220.100,2,    2.050,2,    0.130,2,    0.000,2,    0.080,2, -999.000,9, -999.000,9, -999.000,9, -999.000,9, -999.000,9
           NA,    P03E,    136,   1,-999.0,       7,  2,19850421,0308,  25.5083, -164.3083,  4423,  104.600,   18.756,   34.972,2,   34.973,2, -999.000,9,  206.100,2,    2.640,2,    2.330,2,    0.050,2,    0.210,2, -999.000,9, -999.000,9, -999.000,9, -999.000,9, -999.000,9
           NA,    P03E,    136,   1,-999.0,       8,  2,19850421,0308,  25.5083, -164.3083,  4423,  145.200,   16.955,   34.783,2,   34.770,2, -999.000,9,  214.700,2,    3.710,2,    3.360,2,    0.020,2,    0.290,2, -999.000,9, -999.000,9, -999.000,9, -999.000,9, -999.000,9
           NA,    P03E,    136,   1,-999.0,       9,  2,19850421,0308,  25.5083, -164.3083,  4423,  185.400,   15.541,   34.637,2,   34.636,2, -999.000,9,  214.200,2,    4.990,2,    5.340,2,    0.010,2,    0.400,2, -999.000,9, -999.000,9, -999.000,9, -999.000,9, -999.000,9
           NA,    P03E,    136,   1,-999.0,      10,  2,19850421,0308,  25.5083, -164.3083,  4423,  226.300,   14.078,   34.508,2,   34.508,2, -999.000,9,  215.900,2,    7.430,2,    7.500,2,    0.010,2,    0.550,2, -999.000,9, -999.000,9, -999.000,9, -999.000,9, -999.000,9
           NA,    P03E,    136,   1,-999.0,      11,  2,19850421,0308,  25.5083, -164.3083,  4423,  266.200,   12.971,   34.411,2,   34.410,2, -999.000,9,  219.400,2,    9.290,2,    9.300,2,    0.010,2,    0.660,2, -999.000,9, -999.000,9, -999.000,9, -999.000,9, -999.000,9
           NA,    P03E,    136,   1,-999.0,      12,  2,19850421,0308,  25.5083, -164.3083,  4423,  306.800,   12.216,   34.358,2,   34.359,2, -999.000,9,  217.200,2,   11.730,2,   10.750,2,    0.010,2,    0.760,2, -999.000,9, -999.000,9, -999.000,9, -999.000,9, -999.000,9
           NA,    P03E,    136,   1,-999.0,      13,  2,19850421,0308,  25.5083, -164.3083,  4423,  346.200,   11.065,   34.265,2,   34.266,2, -999.000,9,  213.200,2,   16.430,2,   13.490,2,    0.010,2,    0.990,2, -999.000,9, -999.000,9, -999.000,9, -999.000,9, -999.000,9
           NA,    P03E,    136,   1,-999.0,      14,  2,19850421,0308,  25.5083, -164.3083,  4423,  394.700,   10.252,   34.210,2,   34.210,2, -999.000,9,  203.600,2,   20.440,2,   16.130,2,    0.000,2,    1.120,2, -999.000,9, -999.000,9, -999.000,9, -999.000,9, -999.000,9
           NA,    P03E,    136,   1,-999.0,      15,  2,19850421,0308,  25.5083, -164.3083,  4423,  455.100,    9.209,   34.152,2,   34.154,2, -999.000,9,  184.000,2,   28.550,2,   19.750,2,    0.000,2,    1.370,2, -999.000,9, -999.000,9, -999.000,9, -999.000,9, -999.000,9
           NA,    P03E,    136,   1,-999.0,      16,  2,19850421,0308,  25.5083, -164.3083,  4423,  526.500,    7.731,   34.091,2,   34.091,2, -999.000,9,  150.900,2,   42.340,2,   25.820,2,    0.000,2,    1.810,2, -999.000,9, -999.000,9, -999.000,9, -999.000,9, -999.000,9
           NA,    P03E,    136,   1,-999.0,      38,  2,19850421,0308,  25.5083, -164.3083,  4423,  608.800,    6.200,   34.082,2,   34.081,2, -999.000,9,  104.400,2,   63.170,2,   32.950,2,    0.000,2,    2.300,2, -999.000,9, -999.000,9, -999.000,9, -999.000,9, -999.000,9
           NA,    P03E,    136,   1,-999.0,      18,  2,19850421,0308,  25.5083, -164.3083,  4423,  710.000,    5.163,   34.171,2,   34.170,2, -999.000,9,   61.700,2,   84.480,2,   38.620,2,    0.000,2,    2.710,2, -999.000,9, -999.000,9, -999.000,9, -999.000,9, -999.000,9
           NA,    P03E,    136,   1,-999.0,      19,  2,19850421,0308,  25.5083, -164.3083,  4423,  811.000,    4.577,   34.299,2,   34.298,2, -999.000,9,   42.600,2,   99.920,2,   41.360,2,    0.000,2,    2.900,2, -999.000,9, -999.000,9, -999.000,9, -999.000,9, -999.000,9
           NA,    P03E,    136,   1,-999.0,      20,  2,19850421,0308,  25.5083, -164.3083,  4423,  911.800,    4.251,   34.364,2,   34.364,2, -999.000,9,   40.900,2,  108.130,2,   42.040,2,    0.000,2,    2.960,2, -999.000,9, -999.000,9, -999.000,9, -999.000,9, -999.000,9
           NA,    P03E,    136,   1,-999.0,      21,  2,19850421,0308,  25.5083, -164.3083,  4423, 1012.300,    3.953,   34.433,2,   34.434,2, -999.000,9,   46.500,2,  114.480,2,   42.330,2,    0.000,2,    2.950,2, -999.000,9, -999.000,9, -999.000,9, -999.000,9, -999.000,9
           NA,    P03E,    136,   1,-999.0,      39,  2,19850421,0308,  25.5083, -164.3083,  4423, 1113.800,    3.671,   34.480,2,   34.480,2, -999.000,9,   52.600,2,  120.730,2,   42.130,2,    0.000,2,    2.940,2, -999.000,9, -999.000,9, -999.000,9, -999.000,9, -999.000,9
           NA,    P03E,    136,   1,-999.0,      23,  2,19850421,0308,  25.5083, -164.3083,  4423, 1264.200,    3.288,   34.514,2,   34.514,2, -999.000,9,   59.500,2,  129.040,2,   41.940,2,    0.000,2,    2.930,2, -999.000,9, -999.000,9, -999.000,9, -999.000,9, -999.000,9
           NA,    P03E,    136,   1,-999.0,      24,  2,19850421,0308,  25.5083, -164.3083,  4423, 1415.700,    2.908,   34.546,2,   34.548,2, -999.000,9,   68.200,2,  137.630,2,   41.740,2,    0.000,2,    2.900,2, -999.000,9, -999.000,9, -999.000,9, -999.000,9, -999.000,9
           NA,    P03E,    136,   1,-999.0,      25,  2,19850421,0308,  25.5083, -164.3083,  4423, 1618.000,    2.602,   34.565,2,   34.567,2, -999.000,9,   72.600,2,  145.350,2,   41.540,2,    0.000,2,    2.880,2, -999.000,9, -999.000,9, -999.000,9, -999.000,9, -999.000,9
           NA,    P03E,    136,   1,-999.0,      26,  2,19850421,0308,  25.5083, -164.3083,  4423, 1819.600,    2.346,   34.592,2,   34.592,2, -999.000,9,   81.700,2,  150.630,2,   40.860,2,    0.000,2,    2.820,2, -999.000,9, -999.000,9, -999.000,9, -999.000,9, -999.000,9
           NA,    P03E,    136,   1,-999.0,      28,  2,19850421,0308,  25.5083, -164.3083,  4423, 2224.400,    1.904,   34.622,2,   34.623,2, -999.000,9,   96.500,2,  160.500,2,   39.980,2,    0.000,2,    2.750,2, -999.000,9, -999.000,9, -999.000,9, -999.000,9, -999.000,9
           NA,    P03E,    136,   1,-999.0,      29,  2,19850421,0308,  25.5083, -164.3083,  4423, 2527.700,    1.702,   34.644,2, -999.000,5, -999.000,9,  111.700,2,  160.500,2,   39.100,2,    0.000,2,    2.680,2, -999.000,9, -999.000,9, -999.000,9, -999.000,9, -999.000,9
           NA,    P03E,    136,   1,-999.0,      30,  2,19850421,0308,  25.5083, -164.3083,  4423, 2832.100,    1.622,   34.654,2,   34.653,2, -999.000,9,  119.900,2,  160.890,2,   38.710,2,    0.000,2,    2.620,2, -999.000,9, -999.000,9, -999.000,9, -999.000,9, -999.000,9
           NA,    P03E,    136,   1,-999.0,      31,  2,19850421,0308,  25.5083, -164.3083,  4423, 3137.600,    1.535,   34.665,2,   34.665,2, -999.000,9,  130.400,2,  160.200,2,   38.020,2,    0.000,2,    2.570,2, -999.000,9, -999.000,9, -999.000,9, -999.000,9, -999.000,9
           NA,    P03E,    136,   1,-999.0,      32,  2,19850421,0308,  25.5083, -164.3083,  4423, 3442.400,    1.464,   34.675,2,   34.674,2, -999.000,9,  141.200,2,  158.440,2,   37.240,2,    0.000,2,    2.500,2, -999.000,9, -999.000,9, -999.000,9, -999.000,9, -999.000,9
           NA,    P03E,    136,   1,-999.0,      37,  2,19850421,0308,  25.5083, -164.3083,  4423, 3748.800,    1.455,   34.679,2,   34.679,2, -999.000,9,  146.400,2,  156.390,2,   36.750,2,    0.000,2,    2.500,2, -999.000,9, -999.000,9, -999.000,9, -999.000,9, -999.000,9
           NA,    P03E,    136,   1,-999.0,      34,  2,19850421,0308,  25.5083, -164.3083,  4423, 4053.600,    1.449,   34.682,2,   34.683,2, -999.000,9,  151.600,2,  155.210,2,   36.650,2,    0.000,2,    2.460,2, -999.000,9, -999.000,9, -999.000,9, -999.000,9, -999.000,9
           NA,    P03E,    136,   1,-999.0,      35,  2,19850421,0308,  25.5083, -164.3083,  4423, 4256.500,    1.448,   34.684,2,   34.685,2, -999.000,9,  156.000,2,  153.360,2,   36.360,2,    0.000,2,    2.440,2, -999.000,9, -999.000,9, -999.000,9, -999.000,9, -999.000,9
           NA,    P03E,    136,   1,-999.0,      36,  2,19850421,0308,  25.5083, -164.3083,  4423, 4477.900,    1.457,   34.686,2,   34.685,2, -999.000,9,  157.700,2,  150.420,2,   36.160,2,    0.000,2,    2.420,2, -999.000,9, -999.000,9, -999.000,9, -999.000,9, -999.000,9