BOTTLE,20203103JOAExport
EXPOCODE,SECT_ID,STNNBR,CASTNO,SAMPNO,BTLNBR,BTLNBR_FLAG_W,DATE,TIME,LATITUDE,LONGITUDE,DEPTH,CTDPRS,CTDTMP,CTDSAL,CTDSAL_FLAG_W,SALNTY,SALNTY_FLAG_W,CTDOXY,CTDOXY_FLAG_W,OXYGEN,OXYGEN_FLAG_W,SILCAT,SILCAT_FLAG_W,NITRAT,NITRAT_FLAG_W,NITRIT,NITRIT_FLAG_W,PHSPHT,PHSPHT_FLAG_W,CFC-11,CFC-11_FLAG_W,CFC-12,CFC-12_FLAG_W,SF6,SF6_FLAG_W,TCARBN,TCARBN_FLAG_W,ALKALI,ALKALI_FLAG_W
,,,,,,,,,,,,,DB,ITS-90,PSS-78,,PSS-78,,UMOL/KG,,UMOL/KG,,UMOL/KG,,UMOL/KG,,UMOL/KG,,UMOL/KG,,PMOL/KG,,PMOL/KG,,FMOL/KG,,UMOL/KG,,UMOL/KG
           NA,    P03E,    197,   2,-999.0,       1,  2,19850430,0058,  24.2367, -179.9883,  5531,    0.300,   24.269,   35.355,2,   35.357,2, -999.000,9,  212.900,2,    0.200,2,    0.060,2,    0.000,2,    0.070,2, -999.000,9, -999.000,9, -999.000,9, -999.000,9, -999.000,9
           NA,    P03E,    197,   2,-999.0,       2,  2,19850430,0058,  24.2367, -179.9883,  5531,   23.900,   23.965,   35.355,2,   35.355,2, -999.000,9,  215.000,2,    0.100,2,    0.060,2,    0.000,2,    0.060,2, -999.000,9, -999.000,9, -999.000,9, -999.000,9, -999.000,9
           NA,    P03E,    197,   2,-999.0,       3,  2,19850430,0058,  24.2367, -179.9883,  5531,   43.900,   23.918,   35.361,2,   35.361,2, -999.000,9,  214.600,2,    0.000,2,    0.010,2,    0.000,2,    0.060,2, -999.000,9, -999.000,9, -999.000,9, -999.000,9, -999.000,9
           NA,    P03E,    197,   2,-999.0,       4,  2,19850430,0058,  24.2367, -179.9883,  5531,   74.400,   23.339,   35.356,2,   35.356,2, -999.000,9,  217.600,2,    0.000,2,    0.010,2,    0.000,2,    0.060,2, -999.000,9, -999.000,9, -999.000,9, -999.000,9, -999.000,9
           NA,    P03E,    197,   2,-999.0,       5,  2,19850430,0058,  24.2367, -179.9883,  5531,  104.800,   22.179,   35.248,2,   35.252,2, -999.000,9,  213.600,2,    0.100,2,    0.010,2,    0.000,2,    0.070,2, -999.000,9, -999.000,9, -999.000,9, -999.000,9, -999.000,9
           NA,    P03E,    197,   2,-999.0,       6,  2,19850430,0058,  24.2367, -179.9883,  5531,  145.200,   19.473,   35.006,2,   35.006,2, -999.000,9,  225.700,2,    0.980,2,    0.000,2,    0.220,2,    0.100,2, -999.000,9, -999.000,9, -999.000,9, -999.000,9, -999.000,9
           NA,    P03E,    197,   2,-999.0,       7,  2,19850430,0058,  24.2367, -179.9883,  5531,  185.700,   18.431,   34.910,2,   34.910,2, -999.000,9,  222.600,2,    1.070,2,    0.620,2,    0.080,2,    0.140,2, -999.000,9, -999.000,9, -999.000,9, -999.000,9, -999.000,9
           NA,    P03E,    197,   2,-999.0,       8,  2,19850430,0058,  24.2367, -179.9883,  5531,  235.600,   16.462,   34.741,2,   34.741,2, -999.000,9,  208.600,2,    3.030,2,    4.890,2,    0.010,2,    0.390,2, -999.000,9, -999.000,9, -999.000,9, -999.000,9, -999.000,9
           NA,    P03E,    197,   2,-999.0,       9,  2,19850430,0058,  24.2367, -179.9883,  5531,  285.200,   15.315,   34.657,2,   34.653,2, -999.000,9,  214.200,2,    4.790,2,    6.720,2,    0.010,2,    0.510,2, -999.000,9, -999.000,9, -999.000,9, -999.000,9, -999.000,9
           NA,    P03E,    197,   2,-999.0,      10,  2,19850430,0058,  24.2367, -179.9883,  5531,  334.200,   14.318,   34.561,2,   34.557,2, -999.000,9,  210.700,2,    6.740,2,    8.280,2,    0.010,2,    0.620,2, -999.000,9, -999.000,9, -999.000,9, -999.000,9, -999.000,9
           NA,    P03E,    197,   2,-999.0,      11,  2,19850430,0058,  24.2367, -179.9883,  5531,  384.400,   13.021,   34.452,2,   34.450,2, -999.000,9,  216.300,2,    9.480,2,    9.870,2,    0.000,2,    0.730,2, -999.000,9, -999.000,9, -999.000,9, -999.000,9, -999.000,9
           NA,    P03E,    197,   2,-999.0,      12,  2,19850430,0058,  24.2367, -179.9883,  5531,  444.700,   11.506,   34.328,2,   34.329,2, -999.000,9,  211.900,2,   13.880,2,   12.910,2,    0.000,2,    0.950,2, -999.000,9, -999.000,9, -999.000,9, -999.000,9, -999.000,9
           NA,    P03E,    197,   2,-999.0,      13,  2,19850430,0058,  24.2367, -179.9883,  5531,  506.500,    9.962,   34.210,2,   34.208,2, -999.000,9,  198.400,2,   21.220,2,   17.010,2,    0.000,2,    1.230,2, -999.000,9, -999.000,9, -999.000,9, -999.000,9, -999.000,9
           NA,    P03E,    197,   2,-999.0,      14,  2,19850430,0058,  24.2367, -179.9883,  5531,  567.500,    8.129,   34.099,2,   34.099,2, -999.000,9,  171.800,2,   34.320,2,   22.980,2,    0.000,2,    1.630,2, -999.000,9, -999.000,9, -999.000,9, -999.000,9, -999.000,9
           NA,    P03E,    197,   2,-999.0,      15,  2,19850430,0058,  24.2367, -179.9883,  5531,  648.700,    6.637,   34.061,2,   34.059,2, -999.000,9,  132.200,2,   52.610,2,   29.140,2,    0.000,2,    2.070,2, -999.000,9, -999.000,9, -999.000,9, -999.000,9, -999.000,9
           NA,    P03E,    197,   2,-999.0,      16,  2,19850430,0058,  24.2367, -179.9883,  5531,  729.700,    5.417,   34.097,2,   34.095,2, -999.000,9,   87.000,2,   73.240,2,   35.500,2,    0.000,2,    2.510,2, -999.000,9, -999.000,9, -999.000,9, -999.000,9, -999.000,9
           NA,    P03E,    197,   2,-999.0,      38,  2,19850430,0058,  24.2367, -179.9883,  5531,  810.500,    4.736,   34.172,2,   34.171,2, -999.000,9,   57.800,2,   89.270,2,   39.110,2,    0.000,2,    2.780,2, -999.000,9, -999.000,9, -999.000,9, -999.000,9, -999.000,9
           NA,    P03E,    197,   2,-999.0,      18,  2,19850430,0058,  24.2367, -179.9883,  5531,  911.400,    4.154,   34.269,2,   34.268,2, -999.000,9,   40.400,2,  104.420,2,   41.550,2,    0.000,2,    2.940,2, -999.000,9, -999.000,9, -999.000,9, -999.000,9, -999.000,9
           NA,    P03E,    197,   2,-999.0,      19,  2,19850430,0058,  24.2367, -179.9883,  5531, 1062.800,    3.649,   34.392,2,   34.389,2, -999.000,9,   38.300,2,  117.320,2,   42.620,2,    0.000,2,    3.000,2, -999.000,9, -999.000,9, -999.000,9, -999.000,9, -999.000,9
           NA,    P03E,    197,   2,-999.0,      17,  2,19850430,0058,  24.2367, -179.9883,  5531, 1213.300,    3.211,   34.471,2,   34.470,2, -999.000,9,   49.100,2,  128.750,2,   42.230,2,    0.000,2,    2.970,2, -999.000,9, -999.000,9, -999.000,9, -999.000,9, -999.000,9
           NA,    P03E,    197,   2,-999.0,      21,  2,19850430,0058,  24.2367, -179.9883,  5531, 1415.700,    2.896,   34.537,2,   34.536,2, -999.000,9,   71.300,2,  132.550,2,   40.960,2,    0.000,2,    2.880,2, -999.000,9, -999.000,9, -999.000,9, -999.000,9, -999.000,9
           NA,    P03E,    197,   2,-999.0,      39,  2,19850430,0058,  24.2367, -179.9883,  5531, 1616.400,    2.503,   34.566,2,   34.564,2, -999.000,9,   76.500,2,  139.390,2,   40.760,2,    0.000,2,    2.840,2, -999.000,9, -999.000,9, -999.000,9, -999.000,9, -999.000,9
           NA,    P03E,    197,   2,-999.0,      23,  2,19850430,0058,  24.2367, -179.9883,  5531, 1819.700,    2.190,   34.588,2,   34.587,2, -999.000,9,   83.000,2,  146.230,2,   40.470,2,    0.000,2,    2.820,2, -999.000,9, -999.000,9, -999.000,9, -999.000,9, -999.000,9
           NA,    P03E,    197,   2,-999.0,      24,  2,19850430,0058,  24.2367, -179.9883,  5531, 2022.600,    2.020,   34.611,2,   34.610,2, -999.000,9,   96.000,2,  146.130,2,   39.880,2,    0.000,2, -999.000,5, -999.000,9, -999.000,9, -999.000,9, -999.000,9, -999.000,9
           NA,    P03E,    197,   2,-999.0,      25,  2,19850430,0058,  24.2367, -179.9883,  5531, 2224.800,    1.865,   34.626,2,   34.628,2, -999.000,9,  103.900,2,  148.280,2,   39.200,2,    0.000,2,    2.730,2, -999.000,9, -999.000,9, -999.000,9, -999.000,9, -999.000,9
           NA,    P03E,    197,   2,-999.0,      26,  2,19850430,0058,  24.2367, -179.9883,  5531, 2529.000,    1.707,   34.644,2,   34.643,2, -999.000,9,  115.200,2,  151.600,2,   38.220,2,    0.000,2,    2.690,2, -999.000,9, -999.000,9, -999.000,9, -999.000,9, -999.000,9
           NA,    P03E,    197,   2,-999.0,      27,  2,19850430,0058,  24.2367, -179.9883,  5531, 2834.000,    1.603,   34.656,2,   34.656,2, -999.000,9,  125.600,2,  151.500,2,   37.830,2,    0.000,2,    2.640,2, -999.000,9, -999.000,9, -999.000,9, -999.000,9, -999.000,9
           NA,    P03E,    197,   2,-999.0,      28,  2,19850430,0058,  24.2367, -179.9883,  5531, 3138.400,    1.532,   34.666,2,   34.665,2, -999.000,9,  134.300,2,  148.470,2,   37.340,2,    0.000,2,    2.580,2, -999.000,9, -999.000,9, -999.000,9, -999.000,9, -999.000,9
           NA,    P03E,    197,   2,-999.0,      29,  2,19850430,0058,  24.2367, -179.9883,  5531, 3435.500,    1.490,   34.672,2,   34.672,2, -999.000,9,  141.700,2,  150.030,2,   36.850,2,    0.000,2,    2.550,2, -999.000,9, -999.000,9, -999.000,9, -999.000,9, -999.000,9
           NA,    P03E,    197,   2,-999.0,      30,  2,19850430,0058,  24.2367, -179.9883,  5531, 3728.700,    1.464,   34.677,2,   34.677,2, -999.000,9,  148.200,2,  146.810,2,   36.560,2,    0.000,2,    2.490,2, -999.000,9, -999.000,9, -999.000,9, -999.000,9, -999.000,9
           NA,    P03E,    197,   2,-999.0,      31,  2,19850430,0058,  24.2367, -179.9883,  5531, 4008.900,    1.448,   34.681,2,   34.682,2, -999.000,9,  154.300,2,  143.970,2,   36.070,2,    0.000,2,    2.480,2, -999.000,9, -999.000,9, -999.000,9, -999.000,9, -999.000,9
           NA,    P03E,    197,   2,-999.0,      32,  2,19850430,0058,  24.2367, -179.9883,  5531, 4274.400,    1.435,   34.686,2,   34.685,2, -999.000,9,  160.800,2,  140.750,2,   35.680,2,    0.000,2,    2.450,2, -999.000,9, -999.000,9, -999.000,9, -999.000,9, -999.000,9
           NA,    P03E,    197,   2,-999.0,      37,  2,19850430,0058,  24.2367, -179.9883,  5531, 4594.500,    1.431,   34.688,2,   34.687,2, -999.000,9,  166.400,2,  138.890,2,   35.380,2,    0.000,2,    2.400,2, -999.000,9, -999.000,9, -999.000,9, -999.000,9, -999.000,9
           NA,    P03E,    197,   2,-999.0,      34,  2,19850430,0058,  24.2367, -179.9883,  5531, 4971.200,    1.437,   34.692,2,   34.691,2, -999.000,9,  172.500,2,  134.980,2,   34.800,2,    0.000,2,    2.380,2, -999.000,9, -999.000,9, -999.000,9, -999.000,9, -999.000,9
           NA,    P03E,    197,   2,-999.0,      35,  2,19850430,0058,  24.2367, -179.9883,  5531, 5285.200,    1.450,   34.692,2,   34.693,2, -999.000,9,  176.000,2,  132.830,2,   34.600,2,    0.000,2,    2.360,2, -999.000,9, -999.000,9, -999.000,9, -999.000,9, -999.000,9
           NA,    P03E,    197,   2,-999.0,      36,  2,19850430,0058,  24.2367, -179.9883,  5531, 5605.200,    1.478,   34.695,2,   34.694,2, -999.000,9,  178.100,2,  131.460,2,   34.600,2,    0.000,2,    2.360,2, -999.000,9, -999.000,9, -999.000,9, -999.000,9, -999.000,9
           NA,    P03E,    195,   1,-999.0,       1,  2,19850429,1615,  24.2417, -179.1617,  5613,    0.900,   22.478,   35.234,2,   35.237,2, -999.000,9,  219.300,2,    1.090,2,    0.040,2,    0.000,2,    0.050,2,    1.721,2,    0.894,2, -999.000,9, -999.000,9, -999.000,9
           NA,    P03E,    195,   1,-999.0,       2,  2,19850429,1615,  24.2417, -179.1617,  5613,   23.800,   22.029,   35.210,2,   35.209,2, -999.000,9,  223.600,2,    1.010,2,    0.040,2,    0.000,2,    0.040,2, -999.000,9, -999.000,9, -999.000,9, -999.000,9, -999.000,9
           NA,    P03E,    195,   1,-999.0,       3,  2,19850429,1615,  24.2417, -179.1617,  5613,   44.000,   21.620,   35.209,2,   35.210,2, -999.000,9,  228.000,2,    1.060,2,    0.040,2,    0.000,2,    0.050,2,    1.803,2,    0.933,2, -999.000,9, -999.000,9, -999.000,9
           NA,    P03E,    195,   1,-999.0,       4,  2,19850429,1615,  24.2417, -179.1617,  5613,   74.800,   20.451,   35.106,2,   35.117,2, -999.000,9,  229.700,2,    0.940,2,    0.040,2,    0.000,2,    0.040,2, -999.000,9, -999.000,9, -999.000,9, -999.000,9, -999.000,9
           NA,    P03E,    195,   1,-999.0,       5,  2,19850429,1615,  24.2417, -179.1617,  5613,  105.000,   18.134,   34.901,2,   34.911,2, -999.000,9,  220.900,2,    1.720,2,    0.480,2,    0.090,2,    0.150,2,    1.940,2,    1.002,2, -999.000,9, -999.000,9, -999.000,9
           NA,    P03E,    195,   1,-999.0,       6,  2,19850429,1615,  24.2417, -179.1617,  5613,  145.100,   16.483,   34.736,2,   34.735,2, -999.000,9,  213.400,2,    3.130,2,    4.270,2,    0.040,2,    0.350,2,    1.955,2,    0.956,2, -999.000,9, -999.000,9, -999.000,9
           NA,    P03E,    195,   1,-999.0,       7,  2,19850429,1615,  24.2417, -179.1617,  5613,  185.000,   15.557,   34.667,2,   34.667,2, -999.000,9,  211.600,2,    4.720,2,    6.200,2,    0.010,2,    0.470,2, -999.000,9,    0.877,2, -999.000,9, -999.000,9, -999.000,9
           NA,    P03E,    195,   1,-999.0,       8,  2,19850429,1615,  24.2417, -179.1617,  5613,  234.500,   14.510,   34.579,2,   34.577,2, -999.000,9,  212.500,2,    6.490,2,    7.810,2,    0.000,2,    0.580,2,    1.896,2,    0.913,2, -999.000,9, -999.000,9, -999.000,9
           NA,    P03E,    195,   1,-999.0,       9,  2,19850429,1615,  24.2417, -179.1617,  5613,  284.800,   13.674,   34.504,2,   34.499,2, -999.000,9,  213.700,2,    8.260,2,    9.220,2,    0.000,2,    0.680,2,    1.842,2,    0.893,2, -999.000,9, -999.000,9, -999.000,9
           NA,    P03E,    195,   1,-999.0,      10,  2,19850429,1615,  24.2417, -179.1617,  5613,  335.000,   12.521,   34.406,2,   34.404,2, -999.000,9,  210.700,2,   11.520,2,   11.270,2,    0.000,2,    0.820,2,    1.729,2,    0.852,2, -999.000,9, -999.000,9, -999.000,9
           NA,    P03E,    195,   1,-999.0,      11,  2,19850429,1615,  24.2417, -179.1617,  5613,  385.000,   11.490,   34.326,2,   34.327,2, -999.000,9,  213.700,2,   14.770,2,   12.890,2,    0.000,2,    0.940,2,    1.807,2,    0.871,2, -999.000,9, -999.000,9, -999.000,9
           NA,    P03E,    195,   1,-999.0,      12,  2,19850429,1615,  24.2417, -179.1617,  5613,  444.700,   10.143,   34.225,2,   34.231,2, -999.000,9,  201.000,2,   20.610,2,   16.530,2,    0.000,2,    1.170,2,    1.487,2,    0.739,2, -999.000,9, -999.000,9, -999.000,9
           NA,    P03E,    195,   1,-999.0,      13,  2,19850429,1615,  24.2417, -179.1617,  5613,  503.600,    8.637,   34.132,2,   34.131,2, -999.000,9,  174.000,2,   31.810,2,   21.730,2,    0.000,2,    1.550,2,    1.037,2,    0.498,2, -999.000,9, -999.000,9, -999.000,9
           NA,    P03E,    195,   1,-999.0,      15,  2,19850429,1615,  24.2417, -179.1617,  5613,  643.300,    6.366,   34.090,2,   34.089,2, -999.000,9,  107.400,2,   59.400,2,   32.080,2,    0.000,2,    2.270,2,    0.335,2,    0.172,2, -999.000,9, -999.000,9, -999.000,9
           NA,    P03E,    195,   1,-999.0,      16,  2,19850429,1615,  24.2417, -179.1617,  5613,  722.400,    5.437,   34.137,2,   34.137,2, -999.000,9,   74.400,2,   77.080,2,   36.790,2,    0.000,2,    2.610,2,    0.147,6,    0.077,6, -999.000,9, -999.000,9, -999.000,9
           NA,    P03E,    195,   1,-999.0,      38,  2,19850429,1615,  24.2417, -179.1617,  5613,  801.700,    4.696,   34.193,2,   34.192,2, -999.000,9,   54.400,2,   92.190,2,   39.770,2,    0.000,2,    2.850,2,    0.058,2,    0.037,2, -999.000,9, -999.000,9, -999.000,9
           NA,    P03E,    195,   1,-999.0,      18,  2,19850429,1615,  24.2417, -179.1617,  5613,  899.600,    4.148,   34.297,2,   34.296,2, -999.000,9,   38.700,2,  106.750,2,   41.930,2,    0.000,2,    2.970,2,    0.007,2,    0.001,2, -999.000,9, -999.000,9, -999.000,9
           NA,    P03E,    195,   1,-999.0,      19,  2,19850429,1615,  24.2417, -179.1617,  5613, 1041.900,    3.628,   34.400,2,   34.400,2, -999.000,9,   39.600,2,  119.650,2,   42.670,2,    0.000,2,    3.020,2,   -0.004,2,   -0.003,2, -999.000,9, -999.000,9, -999.000,9
           NA,    P03E,    195,   1,-999.0,      17,  2,19850429,1615,  24.2417, -179.1617,  5613, 1185.000,    3.325,   34.467,2,   34.467,2, -999.000,9,   50.900,2,  125.900,2,   42.240,2,    0.000,2,    2.980,2, -999.000,9, -999.000,9, -999.000,9, -999.000,9, -999.000,9
           NA,    P03E,    195,   1,-999.0,      21,  2,19850429,1615,  24.2417, -179.1617,  5613, 1391.300,    2.876,   34.534,2,   34.533,2, -999.000,9,   66.500,2,  135.130,2,   41.440,2,    0.000,2,    2.920,2, -999.000,9, -999.000,9, -999.000,9, -999.000,9, -999.000,9
           NA,    P03E,    195,   1,-999.0,      39,  2,19850429,1615,  24.2417, -179.1617,  5613, 1593.800,    2.566,   34.568,2,   34.569,2, -999.000,9,   78.700,2,  140.100,2,   40.700,2,    0.000,2,    2.880,2, -999.000,9, -999.000,9, -999.000,9, -999.000,9, -999.000,9
           NA,    P03E,    195,   1,-999.0,      23,  2,19850429,1615,  24.2417, -179.1617,  5613, 1791.000,    2.290,   34.591,2,   34.591,2, -999.000,9,   86.900,2,  146.010,2,   40.490,2,    0.000,2,    2.840,2, -999.000,9, -999.000,9, -999.000,9, -999.000,9, -999.000,9
           NA,    P03E,    195,   1,-999.0,      24,  2,19850429,1615,  24.2417, -179.1617,  5613, 1983.500,    2.017,   34.611,2,   34.611,2, -999.000,9,   94.300,2,  152.490,2,   40.060,2,    0.000,2,    2.800,2, -999.000,9, -999.000,9, -999.000,9, -999.000,9, -999.000,9
           NA,    P03E,    195,   1,-999.0,      25,  2,19850429,1615,  24.2417, -179.1617,  5613, 2182.200,    1.890,   34.627,2,   34.628,2, -999.000,9,  104.700,2,  153.190,2,   39.480,2,    0.000,2,    2.780,2,   -0.005,2,   -0.004,2, -999.000,9, -999.000,9, -999.000,9
           NA,    P03E,    195,   1,-999.0,      26,  2,19850429,1615,  24.2417, -179.1617,  5613, 2483.000,    1.736,   34.641,2,   34.642,2, -999.000,9,  113.000,2,  154.080,2,   38.910,2,    0.000,2,    2.730,2, -999.000,9, -999.000,9, -999.000,9, -999.000,9, -999.000,9
           NA,    P03E,    195,   1,-999.0,      27,  2,19850429,1615,  24.2417, -179.1617,  5613, 2779.300,    1.616,   34.654,2,   34.654,2, -999.000,9,  123.000,2,  155.350,2,   38.330,2,    0.000,2,    2.650,2, -999.000,9, -999.000,9, -999.000,9, -999.000,9, -999.000,9
           NA,    P03E,    195,   1,-999.0,      28,  2,19850429,1615,  24.2417, -179.1617,  5613, 3066.000,    1.539,   34.664,2,   34.664,2, -999.000,9,  132.100,2,  154.750,2,   37.750,2,    0.000,2,    2.610,2, -999.000,9, -999.000,9, -999.000,9, -999.000,9, -999.000,9
           NA,    P03E,    195,   1,-999.0,      29,  2,19850429,1615,  24.2417, -179.1617,  5613, 3353.900,    1.500,   34.671,2,   34.671,2, -999.000,9,  139.500,2,  153.210,2,   37.170,2,    0.000,2,    2.580,2,   -0.006,2,   -0.001,2, -999.000,9, -999.000,9, -999.000,9
           NA,    P03E,    195,   1,-999.0,      30,  2,19850429,1615,  24.2417, -179.1617,  5613, 3633.700,    1.471,   34.676,2,   34.676,2, -999.000,9,  146.000,2,  150.930,2,   36.760,2,    0.000,2,    2.550,2, -999.000,9, -999.000,9, -999.000,9, -999.000,9, -999.000,9
           NA,    P03E,    195,   1,-999.0,      31,  2,19850429,1615,  24.2417, -179.1617,  5613, 3937.900,    1.449,   34.681,2,   34.681,2, -999.000,9,  152.500,2,  147.720,2,   36.390,2,    0.000,2,    2.510,2, -999.000,9, -999.000,9, -999.000,9, -999.000,9, -999.000,9
           NA,    P03E,    195,   1,-999.0,      32,  2,19850429,1615,  24.2417, -179.1617,  5613, 4245.900,    1.438,   34.685,2,   34.685,2, -999.000,9,  158.600,2,  144.320,2,   35.820,2,    0.000,2,    2.470,2, -999.000,9, -999.000,9, -999.000,9, -999.000,9, -999.000,9
           NA,    P03E,    195,   1,-999.0,      37,  2,19850429,1615,  24.2417, -179.1617,  5613, 4614.200,    1.435,   34.689,2, -999.000,5, -999.000,9,  165.100,2,  141.480,2,   35.400,2,    0.000,2,    2.440,2,    0.000,2,    0.003,2, -999.000,9, -999.000,9, -999.000,9
           NA,    P03E,    195,   1,-999.0,      34,  2,19850429,1615,  24.2417, -179.1617,  5613, 4983.900,    1.441,   34.692,2,   34.692,2, -999.000,9,  172.100,2,  136.780,2,   35.040,2,    0.000,2,    2.400,2, -999.000,9, -999.000,9, -999.000,9, -999.000,9, -999.000,9
           NA,    P03E,    195,   1,-999.0,      35,  2,19850429,1615,  24.2417, -179.1617,  5613, 5360.700,    1.462,   34.694,2,   34.694,2, -999.000,9,  176.800,2,  134.120,2,   34.680,2,    0.000,2,    2.380,2, -999.000,9, -999.000,9, -999.000,9, -999.000,9, -999.000,9
           NA,    P03E,    195,   1,-999.0,      36,  2,19850429,1615,  24.2417, -179.1617,  5613, 5700.800,    1.495,   34.695,2,   34.697,2, -999.000,9,  176.800,2,  132.780,2,   34.520,2,    0.000,2,    2.360,2,    0.003,6,    0.007,2, -999.000,9, -999.000,9, -999.000,9