BOTTLE,20203103JOAExport
EXPOCODE,SECT_ID,STNNBR,CASTNO,SAMPNO,BTLNBR,BTLNBR_FLAG_W,DATE,TIME,LATITUDE,LONGITUDE,DEPTH,CTDPRS,CTDTMP,CTDSAL,CTDSAL_FLAG_W,SALNTY,SALNTY_FLAG_W,CTDOXY,CTDOXY_FLAG_W,OXYGEN,OXYGEN_FLAG_W,SILCAT,SILCAT_FLAG_W,NITRAT,NITRAT_FLAG_W,NITRIT,NITRIT_FLAG_W,PHSPHT,PHSPHT_FLAG_W,CFC-11,CFC-11_FLAG_W,CFC-12,CFC-12_FLAG_W,SF6,SF6_FLAG_W,TCARBN,TCARBN_FLAG_W,ALKALI,ALKALI_FLAG_W
,,,,,,,,,,,,,DB,ITS-90,PSS-78,,PSS-78,,UMOL/KG,,UMOL/KG,,UMOL/KG,,UMOL/KG,,UMOL/KG,,UMOL/KG,,PMOL/KG,,PMOL/KG,,FMOL/KG,,UMOL/KG,,UMOL/KG
           NA,    P03E,    185,   1,-999.0,       1,  2,19850427,1830,  24.2350, -175.2033,  5112,    2.700,   23.777,   35.274,2,   35.275,2, -999.000,9,  212.500,2,    2.530,2,    0.040,2,    0.000,2,    0.050,2, -999.000,9, -999.000,9, -999.000,9, -999.000,9, -999.000,9
           NA,    P03E,    185,   1,-999.0,       2,  2,19850427,1830,  24.2350, -175.2033,  5112,   33.100,   23.410,   35.324,2,   35.327,2, -999.000,9,  216.500,2,    2.610,2,    0.040,2,    0.000,2,    0.040,2, -999.000,9, -999.000,9, -999.000,9, -999.000,9, -999.000,9
           NA,    P03E,    185,   1,-999.0,       3,  2,19850427,1830,  24.2350, -175.2033,  5112,   63.000,   22.686,   35.362,2,   35.366,2, -999.000,9,  219.600,2,    2.690,2,    0.040,2,    0.000,2,    0.040,2, -999.000,9, -999.000,9, -999.000,9, -999.000,9, -999.000,9
           NA,    P03E,    185,   1,-999.0,       4,  2,19850427,1830,  24.2350, -175.2033,  5112,  103.000,   21.964,   35.297,2,   35.300,2, -999.000,9,  218.700,2,    2.580,2,    0.040,2,    0.000,2,    0.050,2, -999.000,9, -999.000,9, -999.000,9, -999.000,9, -999.000,9
           NA,    P03E,    185,   1,-999.0,       5,  2,19850427,1830,  24.2350, -175.2033,  5112,  143.700,   19.504,   35.006,2,   35.014,2, -999.000,9,  199.700,2,    3.780,2,    2.020,2,    0.050,2,    0.220,2, -999.000,9, -999.000,9, -999.000,9, -999.000,9, -999.000,9
           NA,    P03E,    185,   1,-999.0,       6,  2,19850427,1830,  24.2350, -175.2033,  5112,  185.000,   17.249,   34.815,2,   34.809,2, -999.000,9,  195.700,2,    5.740,2,    4.920,2,    0.010,2,    0.390,2, -999.000,9, -999.000,9, -999.000,9, -999.000,9, -999.000,9
           NA,    P03E,    185,   1,-999.0,       7,  2,19850427,1830,  24.2350, -175.2033,  5112,  225.700,   15.743,   34.679,2,   34.678,2, -999.000,9,  203.500,2,    6.380,2,    6.280,2, -999.000,5,    0.460,2, -999.000,9, -999.000,9, -999.000,9, -999.000,9, -999.000,9
           NA,    P03E,    185,   1,-999.0,       8,  2,19850427,1830,  24.2350, -175.2033,  5112,  265.200,   14.684,   34.591,2,   34.588,2, -999.000,9,  211.200,2,    8.150,2,    7.540,2, -999.000,5,    0.530,2, -999.000,9, -999.000,9, -999.000,9, -999.000,9, -999.000,9
           NA,    P03E,    185,   1,-999.0,       9,  2,19850427,1830,  24.2350, -175.2033,  5112,  325.000,   13.128,   34.450,2,   34.446,2, -999.000,9,  210.900,2,   11.610,2,   10.110,2, -999.000,5,    0.700,2, -999.000,9, -999.000,9, -999.000,9, -999.000,9, -999.000,9
           NA,    P03E,    185,   1,-999.0,      10,  2,19850427,1830,  24.2350, -175.2033,  5112,  384.100,   11.906,   34.342,2,   34.343,2, -999.000,9,  208.100,2,   15.060,2,   12.590,2, -999.000,5,    0.860,2, -999.000,9, -999.000,9, -999.000,9, -999.000,9, -999.000,9
           NA,    P03E,    185,   1,-999.0,      11,  2,19850427,1830,  24.2350, -175.2033,  5112,  444.000,   10.503,   34.246,2,   34.244,2, -999.000,9,  201.100,2,   21.140,2,   15.860,2, -999.000,5,    1.090,2, -999.000,9, -999.000,9, -999.000,9, -999.000,9, -999.000,9
           NA,    P03E,    185,   1,-999.0,      12,  2,19850427,1830,  24.2350, -175.2033,  5112,  505.800,    8.830,   34.138,2,   34.128,2, -999.000,9,  170.600,2,   33.580,2,   22.020,2,    0.000,2,    1.540,2, -999.000,9, -999.000,9, -999.000,9, -999.000,9, -999.000,9
           NA,    P03E,    185,   1,-999.0,      13,  2,19850427,1830,  24.2350, -175.2033,  5112,  567.700,    7.382,   34.087,2,   34.088,2, -999.000,9,  135.800,2,   47.140,2,   27.720,2,    0.000,2,    1.940,2, -999.000,9, -999.000,9, -999.000,9, -999.000,9, -999.000,9
           NA,    P03E,    185,   1,-999.0,      14,  2,19850427,1830,  24.2350, -175.2033,  5112,  626.500,    6.449,   34.088,2,   34.088,2, -999.000,9,  106.300,2,   61.450,2,   32.270,2,    0.000,2,    2.260,2, -999.000,9, -999.000,9, -999.000,9, -999.000,9, -999.000,9
           NA,    P03E,    185,   1,-999.0,      15,  2,19850427,1830,  24.2350, -175.2033,  5112,  687.800,    5.661,   34.127,2,   34.127,2, -999.000,9,   77.100,2,   74.440,2,   36.120,2,    0.000,2,    2.530,2, -999.000,9, -999.000,9, -999.000,9, -999.000,9, -999.000,9
           NA,    P03E,    185,   1,-999.0,      16,  2,19850427,1830,  24.2350, -175.2033,  5112,  749.100,    5.026,   34.179,2,   34.178,2, -999.000,9,   58.600,2,   87.420,2,   39.130,2,    0.000,2,    2.730,2, -999.000,9, -999.000,9, -999.000,9, -999.000,9, -999.000,9
           NA,    P03E,    185,   1,-999.0,      38,  2,19850427,1830,  24.2350, -175.2033,  5112,  809.300,    4.511,   34.234,2,   34.237,2, -999.000,9,   46.500,2,   98.710,2,   40.740,2,    0.000,2,    2.860,2, -999.000,9, -999.000,9, -999.000,9, -999.000,9, -999.000,9
           NA,    P03E,    185,   1,-999.0,      18,  2,19850427,1830,  24.2350, -175.2033,  5112,  910.400,    3.964,   34.325,2,   34.322,2, -999.000,9,   38.200,2,  112.810,2,   42.210,2,    0.000,2,    2.940,2, -999.000,9, -999.000,9, -999.000,9, -999.000,9, -999.000,9
           NA,    P03E,    185,   1,-999.0,      19,  2,19850427,1830,  24.2350, -175.2033,  5112, 1061.700,    3.697,   34.453,2,   34.454,2, -999.000,9,   49.100,2,  119.220,2,   42.030,2,    0.000,2,    2.940,2, -999.000,9, -999.000,9, -999.000,9, -999.000,9, -999.000,9
           NA,    P03E,    185,   1,-999.0,      17,  2,19850427,1830,  24.2350, -175.2033,  5112, 1213.400,    3.251,   34.518,2,   34.517,2, -999.000,9,   61.200,2,  128.080,2,   41.600,2,    0.000,2,    2.900,2, -999.000,9, -999.000,9, -999.000,9, -999.000,9, -999.000,9
           NA,    P03E,    185,   1,-999.0,      21,  2,19850427,1830,  24.2350, -175.2033,  5112, 1414.500,    2.899,   34.543,2,   34.543,2, -999.000,9,   69.200,2,  134.880,2,   41.380,2,    0.000,2,    2.880,2, -999.000,9, -999.000,9, -999.000,9, -999.000,9, -999.000,9
           NA,    P03E,    185,   1,-999.0,      39,  2,19850427,1830,  24.2350, -175.2033,  5112, 1616.800,    2.515,   34.569,2,   34.569,2, -999.000,9,   76.500,2,  142.810,2,   41.000,2,    0.000,2,    2.840,2, -999.000,9, -999.000,9, -999.000,9, -999.000,9, -999.000,9
           NA,    P03E,    185,   1,-999.0,      23,  2,19850427,1830,  24.2350, -175.2033,  5112, 1818.900,    2.240,   34.591,2,   34.591,2, -999.000,9,   85.000,2,  149.620,2,   40.780,2,    0.000,2,    2.810,2, -999.000,9, -999.000,9, -999.000,9, -999.000,9, -999.000,9
           NA,    P03E,    185,   1,-999.0,      24,  2,19850427,1830,  24.2350, -175.2033,  5112, 2020.600,    2.020,   34.613,2,   34.612,2, -999.000,9,   95.100,2,  154.560,2,   40.040,2,    0.000,2,    2.770,2, -999.000,9, -999.000,9, -999.000,9, -999.000,9, -999.000,9
           NA,    P03E,    185,   1,-999.0,      25,  2,19850427,1830,  24.2350, -175.2033,  5112, 2220.400,    1.883,   34.625,2,   34.625,2, -999.000,9,  101.600,2,  156.110,2,   39.610,2,    0.000,2,    2.730,2, -999.000,9, -999.000,9, -999.000,9, -999.000,9, -999.000,9
           NA,    P03E,    185,   1,-999.0,      26,  2,19850427,1830,  24.2350, -175.2033,  5112, 2420.900,    1.774,   34.636,2,   34.637,2, -999.000,9,  109.500,2,  157.090,2,   39.130,2,    0.000,2,    2.700,2, -999.000,9, -999.000,9, -999.000,9, -999.000,9, -999.000,9
           NA,    P03E,    185,   1,-999.0,      27,  2,19850427,1830,  24.2350, -175.2033,  5112, 2620.600,    1.670,   34.646,2,   34.646,2, -999.000,9,  116.200,2,  155.810,2,   38.700,2,    0.000,2,    2.670,2, -999.000,9, -999.000,9, -999.000,9, -999.000,9, -999.000,9
           NA,    P03E,    185,   1,-999.0,      28,  2,19850427,1830,  24.2350, -175.2033,  5112, 2825.500,    1.609,   34.654,2,   34.655,2, -999.000,9,  123.300,2,  155.670,2,   37.810,2,    0.000,2,    2.630,2, -999.000,9, -999.000,9, -999.000,9, -999.000,9, -999.000,9
           NA,    P03E,    185,   1,-999.0,      29,  2,19850427,1830,  24.2350, -175.2033,  5112, 3129.900,    1.533,   34.664,2,   34.665,2, -999.000,9,  136.000,2,  154.200,2,   37.600,2,    0.000,2,    2.590,2, -999.000,9, -999.000,9, -999.000,9, -999.000,9, -999.000,9
           NA,    P03E,    185,   1,-999.0,      30,  2,19850427,1830,  24.2350, -175.2033,  5112, 3432.700,    1.489,   34.671,2,   34.672,2, -999.000,9,  140.900,2,  153.120,2,   36.760,2,    0.000,2,    2.540,2, -999.000,9, -999.000,9, -999.000,9, -999.000,9, -999.000,9
           NA,    P03E,    185,   1,-999.0,      31,  2,19850427,1830,  24.2350, -175.2033,  5112, 3741.600,    1.460,   34.677,2,   34.678,2, -999.000,9,  147.600,2,  152.410,2,   36.540,2,    0.000,2,    2.520,2, -999.000,9, -999.000,9, -999.000,9, -999.000,9, -999.000,9
           NA,    P03E,    185,   1,-999.0,      32,  2,19850427,1830,  24.2350, -175.2033,  5112, 4052.200,    1.451,   34.681,2,   34.681,2, -999.000,9,  153.500,2,  149.830,2,   36.070,2,    0.000,2,    2.490,2, -999.000,9, -999.000,9, -999.000,9, -999.000,9, -999.000,9
           NA,    P03E,    185,   1,-999.0,      37,  2,19850427,1830,  24.2350, -175.2033,  5112, 4357.400,    1.443,   34.685,2,   34.684,2, -999.000,9,  158.900,2,  146.310,2,   35.550,2,    0.000,2,    2.460,2, -999.000,9, -999.000,9, -999.000,9, -999.000,9, -999.000,9
           NA,    P03E,    185,   1,-999.0,      34,  2,19850427,1830,  24.2350, -175.2033,  5112, 4659.000,    1.439,   34.688,2,   34.688,2, -999.000,9,  165.100,2,  141.480,2,   35.130,2,    0.000,2,    2.420,2, -999.000,9, -999.000,9, -999.000,9, -999.000,9, -999.000,9
           NA,    P03E,    185,   1,-999.0,      35,  2,19850427,1830,  24.2350, -175.2033,  5112, 4963.500,    1.441,   34.691,2,   34.691,2, -999.000,9,  172.100,2,  137.970,2,   34.810,2,    0.000,2,    2.390,2, -999.000,9, -999.000,9, -999.000,9, -999.000,9, -999.000,9
           NA,    P03E,    185,   1,-999.0,      36,  2,19850427,1830,  24.2350, -175.2033,  5112, 5196.100,    1.458,   34.692,2,   34.693,2, -999.000,9,  173.500,2,  136.710,2,   34.540,2,    0.000,2,    2.360,2, -999.000,9, -999.000,9, -999.000,9, -999.000,9, -999.000,9