BOTTLE,20203103JOAExport
EXPOCODE,SECT_ID,STNNBR,CASTNO,SAMPNO,BTLNBR,BTLNBR_FLAG_W,DATE,TIME,LATITUDE,LONGITUDE,DEPTH,CTDPRS,CTDTMP,CTDSAL,CTDSAL_FLAG_W,SALNTY,SALNTY_FLAG_W,CTDOXY,CTDOXY_FLAG_W,OXYGEN,OXYGEN_FLAG_W,SILCAT,SILCAT_FLAG_W,NITRAT,NITRAT_FLAG_W,NITRIT,NITRIT_FLAG_W,PHSPHT,PHSPHT_FLAG_W,CFC-11,CFC-11_FLAG_W,CFC-12,CFC-12_FLAG_W,SF6,SF6_FLAG_W,TCARBN,TCARBN_FLAG_W,ALKALI,ALKALI_FLAG_W
,,,,,,,,,,,,,DB,ITS-90,PSS-78,,PSS-78,,UMOL/KG,,UMOL/KG,,UMOL/KG,,UMOL/KG,,UMOL/KG,,UMOL/KG,,PMOL/KG,,PMOL/KG,,FMOL/KG,,UMOL/KG,,UMOL/KG
           NA,    P03W,    203,   1,-999.0,       1,  2,19850505,0312,  24.2283,  177.6050,  5775,    0.000,   25.467,   35.354,2,   35.359,2, -999.000,9,  212.500,2,    2.200,2,    0.090,2,    0.000,2,    0.020,2,    1.581,2,    0.812,2, -999.000,9, -999.000,9, -999.000,9
           NA,    P03W,    203,   1,-999.0,       2,  2,19850505,0312,  24.2283,  177.6050,  5775,   24.200,   23.555,   35.312,2,   35.320,2, -999.000,9,  217.200,2,    2.150,2,    0.090,2,    0.000,2,    0.020,2,    1.588,2,    0.827,2, -999.000,9, -999.000,9, -999.000,9
           NA,    P03W,    203,   1,-999.0,       3,  2,19850505,0312,  24.2283,  177.6050,  5775,   44.300,   23.152,   35.359,2,   35.363,2, -999.000,9,  218.000,2,    2.100,2,    0.090,2,    0.000,2,    0.030,2,    1.654,2,    0.849,2, -999.000,9, -999.000,9, -999.000,9
           NA,    P03W,    203,   1,-999.0,       4,  2,19850505,0312,  24.2283,  177.6050,  5775,   74.600,   21.442,   35.170,2,   35.166,2, -999.000,9,  221.000,2,    2.240,2,    0.090,2,    0.000,2,    0.180,2,    1.701,2,    0.841,2, -999.000,9, -999.000,9, -999.000,9
           NA,    P03W,    203,   1,-999.0,       5,  2,19850505,0312,  24.2283,  177.6050,  5775,  105.300,   19.726,   35.016,2,   35.021,2, -999.000,9,  223.500,2,    2.590,2,    0.090,2,    0.000,2,    0.070,2,    1.860,2,    0.929,2, -999.000,9, -999.000,9, -999.000,9
           NA,    P03W,    203,   1,-999.0,       6,  2,19850505,0312,  24.2283,  177.6050,  5775,  145.400,   17.366,   34.803,2,   34.804,2, -999.000,9,  209.900,2,    3.940,2,    3.110,2,    0.040,2,    0.270,2,    1.903,2,    1.051,2, -999.000,9, -999.000,9, -999.000,9
           NA,    P03W,    203,   1,-999.0,       7,  2,19850505,0312,  24.2283,  177.6050,  5775,  185.500,   16.312,   34.726,2,   34.726,2, -999.000,9,  209.900,2,    5.280,2,    5.220,2,    0.010,2,    0.390,2,    1.885,2,    0.954,2, -999.000,9, -999.000,9, -999.000,9
           NA,    P03W,    203,   1,-999.0,       8,  2,19850505,0312,  24.2283,  177.6050,  5775,  235.700,   15.076,   34.635,2,   34.635,2, -999.000,9,  211.600,2,    7.410,2,    7.050,2,    0.000,2,    0.510,2,    1.871,2,    0.933,2, -999.000,9, -999.000,9, -999.000,9
           NA,    P03W,    203,   1,-999.0,       9,  2,19850505,0312,  24.2283,  177.6050,  5775,  286.100,   14.047,   34.538,2,   34.536,2, -999.000,9,  211.600,2,    9.540,2,    8.690,2,    0.000,2,    0.620,2,    1.838,2,    0.877,2, -999.000,9, -999.000,9, -999.000,9
           NA,    P03W,    203,   1,-999.0,      10,  2,19850505,0312,  24.2283,  177.6050,  5775,  336.400,   12.898,   34.433,2,   34.431,2, -999.000,9,  208.100,2,   12.270,2,   10.880,2,    0.000,2,    0.780,2,    1.700,2,    0.804,2, -999.000,9, -999.000,9, -999.000,9
           NA,    P03W,    203,   1,-999.0,      11,  2,19850505,0312,  24.2283,  177.6050,  5775,  386.700,   11.596,   34.317,2,   34.317,2, -999.000,9,  199.800,2,   16.980,2,   13.780,2,    0.000,2,    0.980,2,    1.484,2,    0.689,2, -999.000,9, -999.000,9, -999.000,9
           NA,    P03W,    203,   1,-999.0,      12,  2,19850505,0312,  24.2283,  177.6050,  5775,  447.400,   10.083,   34.214,2,   34.212,2, -999.000,9,  187.500,2,   24.060,2,   17.860,2,    0.000,2,    1.240,2,    1.182,2,    0.540,2, -999.000,9, -999.000,9, -999.000,9
           NA,    P03W,    203,   1,-999.0,      13,  2,19850505,0312,  24.2283,  177.6050,  5775,  507.300,    8.672,   34.134,2,   34.133,2, -999.000,9,  163.600,2,   34.300,2,   22.700,2,    0.000,2,    1.610,2,    0.797,2,    0.364,2, -999.000,9, -999.000,9, -999.000,9
           NA,    P03W,    203,   1,-999.0,      14,  2,19850505,0312,  24.2283,  177.6050,  5775,  567.800,    7.175,   34.084,2,   34.084,2, -999.000,9,  132.700,2,   49.690,2,   28.350,2,    0.000,2,    2.000,2, -999.000,9,    0.223,2, -999.000,9, -999.000,9, -999.000,9
           NA,    P03W,    203,   1,-999.0,      15,  2,19850505,0312,  24.2283,  177.6050,  5775,  648.600,    6.036,   34.116,2,   34.117,2, -999.000,9,   86.500,2,   68.410,2,   34.650,2,    0.000,2,    2.450,2,    0.187,2, -999.000,9, -999.000,9, -999.000,9, -999.000,9
           NA,    P03W,    203,   1,-999.0,      16,  2,19850505,0312,  24.2283,  177.6050,  5775,  729.200,    5.132,   34.174,2,   34.168,2, -999.000,9,   61.700,2,   84.140,2,   38.550,2,    0.000,2,    2.720,2,    0.074,2, -999.000,9, -999.000,9, -999.000,9, -999.000,9
           NA,    P03W,    203,   1,-999.0,      17,  2,19850505,0312,  24.2283,  177.6050,  5775,  809.100,    4.588,   34.262,2,   34.261,2, -999.000,9,   44.300,2,   97.470,2,   41.180,2,    0.000,2,    2.890,2,    0.025,2, -999.000,9, -999.000,9, -999.000,9, -999.000,9
           NA,    P03W,    203,   1,-999.0,      18,  2,19850505,0312,  24.2283,  177.6050,  5775,  910.000,    4.151,   34.348,2,   34.347,2, -999.000,9,   41.300,2,  108.020,2,   42.230,2,    0.000,2,    2.960,2,    0.011,2, -999.000,9, -999.000,9, -999.000,9, -999.000,9
           NA,    P03W,    203,   1,-999.0,      39,  2,19850505,0312,  24.2283,  177.6050,  5775, 1050.200,    3.857,   34.436,2,   34.441,2, -999.000,9,   48.300,2,  115.580,2,   42.120,2,    0.000,2,    2.960,2, -999.000,9, -999.000,9, -999.000,9, -999.000,9, -999.000,9
           NA,    P03W,    203,   1,-999.0,      20,  2,19850505,0312,  24.2283,  177.6050,  5775, 1211.700,    3.403,   34.497,2,   34.497,2, -999.000,9,   59.100,2,  123.920,2,   41.720,2,    0.000,2,    2.930,2, -999.000,9, -999.000,9, -999.000,9, -999.000,9, -999.000,9
           NA,    P03W,    203,   1,-999.0,      21,  2,19850505,0312,  24.2283,  177.6050,  5775, 1414.100,    2.948,   34.537,2,   34.537,2, -999.000,9,   70.800,2,  134.230,2,   41.160,2,    0.000,2,    2.900,2,    0.007,2,   -0.002,2, -999.000,9, -999.000,9, -999.000,9
           NA,    P03W,    203,   1,-999.0,      22,  2,19850505,0312,  24.2283,  177.6050,  5775, 1616.300,    2.529,   34.575,2,   34.574,2, -999.000,9,   81.700,2,  140.980,2,   40.830,2,    0.000,2,    2.840,2, -999.000,9, -999.000,9, -999.000,9, -999.000,9, -999.000,9
           NA,    P03W,    203,   1,-999.0,      23,  2,19850505,0312,  24.2283,  177.6050,  5775, 1817.700,    2.273,   34.595,2,   34.594,2, -999.000,9,   89.100,2,  146.730,2,   40.600,2,    0.000,2,    2.810,2, -999.000,9, -999.000,9, -999.000,9, -999.000,9, -999.000,9
           NA,    P03W,    203,   1,-999.0,      24,  2,19850505,0312,  24.2283,  177.6050,  5775, 2020.300,    2.037,   34.610,2,   34.610,2, -999.000,9,   95.200,2,  152.080,2,   40.210,2,    0.000,2,    2.780,2, -999.000,9,    0.000,2, -999.000,9, -999.000,9, -999.000,9
           NA,    P03W,    203,   1,-999.0,      25,  2,19850505,0312,  24.2283,  177.6050,  5775, 2223.200,    1.860,   34.627,2,   34.627,2, -999.000,9,  104.700,2,  154.270,2,   39.610,2,    0.000,2,    2.730,2, -999.000,9, -999.000,9, -999.000,9, -999.000,9, -999.000,9
           NA,    P03W,    203,   1,-999.0,      26,  2,19850505,0312,  24.2283,  177.6050,  5775, 2527.600,    1.719,   34.643,2,   34.644,2, -999.000,9,  116.000,2,  155.860,2,   38.940,2,    0.000,2,    2.680,2, -999.000,9, -999.000,9, -999.000,9, -999.000,9, -999.000,9
           NA,    P03W,    203,   1,-999.0,      27,  2,19850505,0312,  24.2283,  177.6050,  5775, 2832.500,    1.624,   34.655,2,   34.655,2, -999.000,9,  125.100,2,  156.470,2,   38.390,2,    0.000,2,    2.630,2, -999.000,9, -999.000,9, -999.000,9, -999.000,9, -999.000,9
           NA,    P03W,    203,   1,-999.0,      28,  2,19850505,0312,  24.2283,  177.6050,  5775, 3137.900,    1.559,   34.664,2,   34.663,2, -999.000,9,  133.000,2,  156.750,2,   37.730,2,    0.000,2,    2.560,2, -999.000,9, -999.000,9, -999.000,9, -999.000,9, -999.000,9
           NA,    P03W,    203,   1,-999.0,      29,  2,19850505,0312,  24.2283,  177.6050,  5775, 3443.700,    1.506,   34.671,2,   34.671,2, -999.000,9,  141.200,2,  152.660,2,   37.290,2,    0.000,2,    2.520,2, -999.000,9, -999.000,9, -999.000,9, -999.000,9, -999.000,9
           NA,    P03W,    203,   1,-999.0,      30,  2,19850505,0312,  24.2283,  177.6050,  5775, 3749.900,    1.476,   34.677,2,   34.677,2, -999.000,9,  147.700,2,  150.730,2,   36.750,2,    0.000,2,    2.500,2, -999.000,9, -999.000,9, -999.000,9, -999.000,9, -999.000,9
           NA,    P03W,    203,   1,-999.0,      31,  2,19850505,0312,  24.2283,  177.6050,  5775, 4056.600,    1.455,   34.682,2,   34.681,2, -999.000,9,  154.300,2,  148.020,2,   36.310,2,    0.000,2,    2.460,2,    0.006,2, -999.000,9, -999.000,9, -999.000,9, -999.000,9
           NA,    P03W,    203,   1,-999.0,      32,  2,19850505,0312,  24.2283,  177.6050,  5775, 4363.300,    1.445,   34.685,2,   34.685,2, -999.000,9,  161.600,2,  143.940,2,   35.930,2,    0.000,2,    2.430,2, -999.000,9, -999.000,9, -999.000,9, -999.000,9, -999.000,9
           NA,    P03W,    203,   1,-999.0,      33,  2,19850505,0312,  24.2283,  177.6050,  5775, 4721.800,    1.433,   34.689,2,   34.690,2, -999.000,9,  168.600,2,  138.900,2, -999.000,5,    0.000,2, -999.000,5, -999.000,9, -999.000,9, -999.000,9, -999.000,9, -999.000,9
           NA,    P03W,    203,   1,-999.0,      34,  2,19850505,0312,  24.2283,  177.6050,  5775, 5079.600,    1.434,   34.692,2,   34.693,2, -999.000,9,  174.700,2,  135.810,2,   34.790,2,    0.000,2, -999.000,5, -999.000,9, -999.000,9, -999.000,9, -999.000,9, -999.000,9
           NA,    P03W,    203,   1,-999.0,      35,  2,19850505,0312,  24.2283,  177.6050,  5775, 5490.700,    1.463,   34.694,2,   34.694,2, -999.000,9,  178.600,2,  132.730,2,   34.570,2,    0.000,2,    2.340,2, -999.000,9, -999.000,9, -999.000,9, -999.000,9, -999.000,9
           NA,    P03W,    203,   1,-999.0,      36,  2,19850505,0312,  24.2283,  177.6050,  5775, 5869.300,    1.497,   34.696,2,   34.696,2, -999.000,9,  179.900,2,  131.210,2,   34.520,2,    0.000,2,    2.330,2, -999.000,9, -999.000,9, -999.000,9, -999.000,9, -999.000,9