BOTTLE,20203103JOAExport
EXPOCODE,SECT_ID,STNNBR,CASTNO,SAMPNO,BTLNBR,BTLNBR_FLAG_W,DATE,TIME,LATITUDE,LONGITUDE,DEPTH,CTDPRS,CTDTMP,CTDSAL,CTDSAL_FLAG_W,SALNTY,SALNTY_FLAG_W,CTDOXY,CTDOXY_FLAG_W,OXYGEN,OXYGEN_FLAG_W,SILCAT,SILCAT_FLAG_W,NITRAT,NITRAT_FLAG_W,NITRIT,NITRIT_FLAG_W,PHSPHT,PHSPHT_FLAG_W,CFC-11,CFC-11_FLAG_W,CFC-12,CFC-12_FLAG_W,SF6,SF6_FLAG_W,TCARBN,TCARBN_FLAG_W,ALKALI,ALKALI_FLAG_W
,,,,,,,,,,,,,DB,ITS-90,PSS-78,,PSS-78,,UMOL/KG,,UMOL/KG,,UMOL/KG,,UMOL/KG,,UMOL/KG,,UMOL/KG,,PMOL/KG,,PMOL/KG,,FMOL/KG,,UMOL/KG,,UMOL/KG
           NA,    P03W,    301,   1,-999.0,       4,  2,19850521,0454,  24.2367,  142.1133,  2569,    0.000,   25.662,   34.962,2,   34.964,2, -999.000,9,  211.200,2,    1.110,2,    0.100,2,    0.000,2,    0.010,2, -999.000,9, -999.000,9, -999.000,9, -999.000,9, -999.000,9
           NA,    P03W,    301,   1,-999.0,      38,  2,19850521,0454,  24.2367,  142.1133,  2569,   22.000,   24.879,   34.960,2,   34.961,2, -999.000,9,  212.900,2,    1.100,2,    0.100,2,    0.000,2,    0.010,2, -999.000,9, -999.000,9, -999.000,9, -999.000,9, -999.000,9
           NA,    P03W,    301,   1,-999.0,       3,  2,19850521,0454,  24.2367,  142.1133,  2569,   41.700,   23.172,   34.932,2,   34.934,2, -999.000,9,  221.300,2,    1.090,2,    0.100,2,    0.000,2,    0.010,2, -999.000,9, -999.000,9, -999.000,9, -999.000,9, -999.000,9
           NA,    P03W,    301,   1,-999.0,       1,  2,19850521,0454,  24.2367,  142.1133,  2569,   72.000,   22.275,   34.916,2,   34.913,2, -999.000,9,  223.500,2,    1.280,2,    0.100,2,    0.000,2,    0.000,2, -999.000,9, -999.000,9, -999.000,9, -999.000,9, -999.000,9
           NA,    P03W,    301,   1,-999.0,       5,  2,19850521,0454,  24.2367,  142.1133,  2569,  101.300,   20.210,   34.890,2,   34.889,2, -999.000,9,  215.900,2,    1.670,2,    0.480,2,    0.100,2,    0.070,2, -999.000,9, -999.000,9, -999.000,9, -999.000,9, -999.000,9
           NA,    P03W,    301,   1,-999.0,       6,  2,19850521,0454,  24.2367,  142.1133,  2569,  148.300,   18.373,   34.843,2,   34.843,2, -999.000,9,  203.200,2,    2.660,2,    3.290,2,    0.020,2,    0.240,2, -999.000,9, -999.000,9, -999.000,9, -999.000,9, -999.000,9
           NA,    P03W,    301,   1,-999.0,       7,  2,19850521,0454,  24.2367,  142.1133,  2569,  190.300,   17.288,   34.801,2,   34.801,2, -999.000,9,  203.900,2,    4.040,2,    4.790,2,    0.010,2,    0.330,2, -999.000,9, -999.000,9, -999.000,9, -999.000,9, -999.000,9
           NA,    P03W,    301,   1,-999.0,       8,  2,19850521,0454,  24.2367,  142.1133,  2569,  238.600,   16.653,   34.772,2,   34.771,2, -999.000,9,  206.400,2,    4.630,2,    5.510,2,    0.010,2,    0.390,2, -999.000,9, -999.000,9, -999.000,9, -999.000,9, -999.000,9
           NA,    P03W,    301,   1,-999.0,       9,  2,19850521,0454,  24.2367,  142.1133,  2569,  293.900,   15.854,   34.718,2,   34.718,2, -999.000,9,  202.400,2,    6.620,2,    7.200,2,    0.000,2,    0.490,2, -999.000,9, -999.000,9, -999.000,9, -999.000,9, -999.000,9
           NA,    P03W,    301,   1,-999.0,      10,  2,19850521,0454,  24.2367,  142.1133,  2569,  347.600,   15.220,   34.664,2,   34.664,2, -999.000,9,  200.500,2,    8.400,2,    8.500,2,    0.000,2,    0.590,2, -999.000,9, -999.000,9, -999.000,9, -999.000,9, -999.000,9
           NA,    P03W,    301,   1,-999.0,      11,  2,19850521,0454,  24.2367,  142.1133,  2569,  397.300,   14.322,   34.589,2,   34.588,2, -999.000,9,  193.000,2,   11.380,2,   10.570,2,    0.000,2,    0.730,2, -999.000,9, -999.000,9, -999.000,9, -999.000,9, -999.000,9
           NA,    P03W,    301,   1,-999.0,      12,  2,19850521,0454,  24.2367,  142.1133,  2569,  501.600,   11.212,   34.345,2,   34.345,2, -999.000,9,  175.800,2,   24.150,2,   17.070,2,    0.000,2,    1.200,2, -999.000,9, -999.000,9, -999.000,9, -999.000,9, -999.000,9
           NA,    P03W,    301,   1,-999.0,      13,  2,19850521,0454,  24.2367,  142.1133,  2569,  599.900,    9.185,   34.220,2,   34.220,2, -999.000,9,  160.900,2,   36.520,2,   22.160,2,    0.000,2,    1.550,2, -999.000,9, -999.000,9, -999.000,9, -999.000,9, -999.000,9
           NA,    P03W,    301,   1,-999.0,      14,  2,19850521,0454,  24.2367,  142.1133,  2569,  693.200,    7.035,   34.136,2,   34.137,2, -999.000,9,  129.700,2,   56.690,2,   28.770,2,    0.000,2,    2.030,2, -999.000,9, -999.000,9, -999.000,9, -999.000,9, -999.000,9
           NA,    P03W,    301,   1,-999.0,      15,  2,19850521,0454,  24.2367,  142.1133,  2569,  792.400,    5.451,   34.149,2,   34.150,2, -999.000,9,   92.200,2,   79.910,2,   34.730,2,    0.000,2,    2.470,2, -999.000,9, -999.000,9, -999.000,9, -999.000,9, -999.000,9
           NA,    P03W,    301,   1,-999.0,      16,  2,19850521,0454,  24.2367,  142.1133,  2569,  891.000,    4.594,   34.232,2,   34.232,2, -999.000,9,   68.500,2,   98.370,2,   38.470,2,    0.000,2,    2.720,2, -999.000,9, -999.000,9, -999.000,9, -999.000,9, -999.000,9
           NA,    P03W,    301,   1,-999.0,      17,  2,19850521,0454,  24.2367,  142.1133,  2569,  987.200,    3.994,   34.316,2,   34.316,2, -999.000,9,   55.500,2,  112.650,2,   40.540,2,    0.000,2,    2.840,2, -999.000,9, -999.000,9, -999.000,9, -999.000,9, -999.000,9
           NA,    P03W,    301,   1,-999.0,      18,  2,19850521,0454,  24.2367,  142.1133,  2569, 1182.100,    3.212,   34.416,2,   34.416,2, -999.000,9,   51.300,2,  131.620,2,   41.900,2,    0.000,2,    2.920,2, -999.000,9, -999.000,9, -999.000,9, -999.000,9, -999.000,9
           NA,    P03W,    301,   1,-999.0,      23,  2,19850521,0454,  24.2367,  142.1133,  2569, 1361.000,    2.763,   34.484,2,   34.485,2, -999.000,9,   56.300,2,  143.140,2,   42.000,2,    0.000,2,    2.930,2, -999.000,9, -999.000,9, -999.000,9, -999.000,9, -999.000,9
           NA,    P03W,    301,   1,-999.0,      20,  2,19850521,0454,  24.2367,  142.1133,  2569, 1555.700,    2.443,   34.530,2,   34.530,2, -999.000,9,   69.400,2,  148.990,2,   41.430,2,    0.000,2,    2.890,2, -999.000,9, -999.000,9, -999.000,9, -999.000,9, -999.000,9
           NA,    P03W,    301,   1,-999.0,      21,  2,19850521,0454,  24.2367,  142.1133,  2569, 1752.800,    2.173,   34.570,2,   34.569,2, -999.000,9,   84.600,2,  150.970,2,   40.080,2,    0.000,2,    2.820,2, -999.000,9, -999.000,9, -999.000,9, -999.000,9, -999.000,9
           NA,    P03W,    301,   1,-999.0,      22,  2,19850521,0454,  24.2367,  142.1133,  2569, 1946.100,    1.947,   34.604,2,   34.604,2, -999.000,9,  103.800,2,  151.110,2,   39.360,2,    0.000,2,    2.740,2, -999.000,9, -999.000,9, -999.000,9, -999.000,9, -999.000,9
           NA,    P03W,    301,   1,-999.0,      39,  2,19850521,0454,  24.2367,  142.1133,  2569, 2248.500,    1.780,   34.629,2,   34.629,2, -999.000,9,  119.200,2,  151.660,2,   38.790,2,    0.000,2,    2.660,2, -999.000,9, -999.000,9, -999.000,9, -999.000,9, -999.000,9
           NA,    P03W,    301,   1,-999.0,      24,  2,19850521,0454,  24.2367,  142.1133,  2569, 2574.600,    1.683,   34.644,2,   34.644,2, -999.000,9,  127.400,2,  152.420,2,   38.280,2,    0.000,2,    2.610,2, -999.000,9, -999.000,9, -999.000,9, -999.000,9, -999.000,9
           NA,    P03W,    299,   1,-999.0,      38,  2,19850521,0021,  24.2367,  142.4550,  2996,   21.500,   23.721,   34.952,2,   34.956,2, -999.000,9,  218.400,2,    2.080,2,    0.300,2,    0.000,2,    0.020,2, -999.000,9, -999.000,9, -999.000,9, -999.000,9, -999.000,9
           NA,    P03W,    299,   1,-999.0,       3,  2,19850521,0021,  24.2367,  142.4550,  2996,   41.900,   22.196,   34.922,2,   34.923,2, -999.000,9,  223.000,2,    2.060,2,    0.300,2,    0.000,2,    0.020,2, -999.000,9, -999.000,9, -999.000,9, -999.000,9, -999.000,9
           NA,    P03W,    299,   1,-999.0,       1,  2,19850521,0021,  24.2367,  142.4550,  2996,   72.200,   20.592,   34.894,2,   34.895,2, -999.000,9,  220.400,2,    2.250,2,    0.300,2,    0.000,2,    0.030,2, -999.000,9, -999.000,9, -999.000,9, -999.000,9, -999.000,9
           NA,    P03W,    299,   1,-999.0,       5,  2,19850521,0021,  24.2367,  142.4550,  2996,  102.600,   19.082,   34.866,2,   34.866,2, -999.000,9,  205.700,2,    2.830,2,    2.440,2,    0.010,2,    0.180,2, -999.000,9, -999.000,9, -999.000,9, -999.000,9, -999.000,9
           NA,    P03W,    299,   1,-999.0,       6,  2,19850521,0021,  24.2367,  142.4550,  2996,  142.500,   18.110,   34.832,2,   34.832,2, -999.000,9,  208.800,2,    3.220,2,    3.490,2,    0.010,2,    0.230,2, -999.000,9, -999.000,9, -999.000,9, -999.000,9, -999.000,9
           NA,    P03W,    299,   1,-999.0,       7,  2,19850521,0021,  24.2367,  142.4550,  2996,  181.300,   17.080,   34.788,2,   34.789,2, -999.000,9,  204.400,2,    4.610,2,    5.220,2,    0.010,2,    0.350,2, -999.000,9, -999.000,9, -999.000,9, -999.000,9, -999.000,9
           NA,    P03W,    299,   1,-999.0,       8,  2,19850521,0021,  24.2367,  142.4550,  2996,  231.100,   16.272,   34.742,2,   34.742,2, -999.000,9,  204.600,2,    6.410,2,    6.510,2,    0.010,2,    0.430,2, -999.000,9, -999.000,9, -999.000,9, -999.000,9, -999.000,9
           NA,    P03W,    299,   1,-999.0,       9,  2,19850521,0021,  24.2367,  142.4550,  2996,  280.600,   15.642,   34.702,2,   34.702,2, -999.000,9,  203.000,2,    7.800,2,    7.610,2,    0.010,2,    0.510,2, -999.000,9, -999.000,9, -999.000,9, -999.000,9, -999.000,9
           NA,    P03W,    299,   1,-999.0,      10,  2,19850521,0021,  24.2367,  142.4550,  2996,  331.800,   14.756,   34.629,2,   34.629,2, -999.000,9,  197.000,2,   10.400,2,    9.540,2,    0.000,2,    0.650,2, -999.000,9, -999.000,9, -999.000,9, -999.000,9, -999.000,9
           NA,    P03W,    299,   1,-999.0,      11,  2,19850521,0021,  24.2367,  142.4550,  2996,  382.400,   13.548,   34.523,2,   34.524,2, -999.000,9,  189.900,2,   14.210,2,   12.040,2,    0.000,2,    0.810,2, -999.000,9, -999.000,9, -999.000,9, -999.000,9, -999.000,9
           NA,    P03W,    299,   1,-999.0,      12,  2,19850521,0021,  24.2367,  142.4550,  2996,  442.800,   12.019,   34.411,2,   34.410,2, -999.000,9,  181.300,2,   21.840,2,   15.520,2,    0.000,2,    1.060,2, -999.000,9, -999.000,9, -999.000,9, -999.000,9, -999.000,9
           NA,    P03W,    299,   1,-999.0,      13,  2,19850521,0021,  24.2367,  142.4550,  2996,  503.800,   10.508,   34.305,2,   34.307,2, -999.000,9,  173.500,2,   29.080,2,   18.730,2,    0.000,2,    1.290,2, -999.000,9, -999.000,9, -999.000,9, -999.000,9, -999.000,9
           NA,    P03W,    299,   1,-999.0,      14,  2,19850521,0021,  24.2367,  142.4550,  2996,  584.600,    8.247,   34.179,2,   34.178,2, -999.000,9,  148.200,2,   45.400,2,   24.960,2,    0.000,2,    1.730,2, -999.000,9, -999.000,9, -999.000,9, -999.000,9, -999.000,9
           NA,    P03W,    299,   1,-999.0,      15,  2,19850521,0021,  24.2367,  142.4550,  2996,  705.300,    5.993,   34.128,2,   34.132,2, -999.000,9,  106.300,2,   71.050,2,   32.810,2,    0.000,2,    2.270,2, -999.000,9, -999.000,9, -999.000,9, -999.000,9, -999.000,9
           NA,    P03W,    299,   1,-999.0,      16,  2,19850521,0021,  24.2367,  142.4550,  2996,  847.400,    4.580,   34.241,2,   34.242,2, -999.000,9,   66.700,2,   99.430,2,   38.610,2,    0.000,2,    2.670,2, -999.000,9, -999.000,9, -999.000,9, -999.000,9, -999.000,9
           NA,    P03W,    299,   1,-999.0,      17,  2,19850521,0021,  24.2367,  142.4550,  2996, 1008.100,    3.878,   34.355,2,   34.356,2, -999.000,9,   54.800,2,  115.900,2,   40.720,2,    0.000,2,    2.810,2, -999.000,9, -999.000,9, -999.000,9, -999.000,9, -999.000,9
           NA,    P03W,    299,   1,-999.0,      18,  2,19850521,0021,  24.2367,  142.4550,  2996, 1257.300,    3.008,   34.458,2,   34.457,2, -999.000,9,   58.800,2,  136.140,2,   41.490,2,    0.000,2,    2.850,2, -999.000,9, -999.000,9, -999.000,9, -999.000,9, -999.000,9
           NA,    P03W,    299,   1,-999.0,      23,  2,19850521,0021,  24.2367,  142.4550,  2996, 1509.700,    2.493,   34.531,2,   34.531,2, -999.000,9,   75.800,2,  144.540,2,   40.640,2,    0.000,2,    2.800,2, -999.000,9, -999.000,9, -999.000,9, -999.000,9, -999.000,9
           NA,    P03W,    299,   1,-999.0,      20,  2,19850521,0021,  24.2367,  142.4550,  2996, 1815.400,    2.134,   34.576,2,   34.576,2, -999.000,9,   87.900,2,  150.690,2,   40.110,2,    0.000,2,    2.750,2, -999.000,9, -999.000,9, -999.000,9, -999.000,9, -999.000,9
           NA,    P03W,    299,   1,-999.0,      21,  2,19850521,0021,  24.2367,  142.4550,  2996, 2119.400,    1.860,   34.616,2,   34.617,2, -999.000,9,  109.600,2,  150.460,2,   38.970,2,    0.000,2,    2.660,2, -999.000,9, -999.000,9, -999.000,9, -999.000,9, -999.000,9
           NA,    P03W,    299,   1,-999.0,      22,  2,19850521,0021,  24.2367,  142.4550,  2996, 2421.000,    1.701,   34.640,2,   34.640,2, -999.000,9,  122.900,2,  150.860,2,   38.130,2,    0.000,2,    2.620,2, -999.000,9, -999.000,9, -999.000,9, -999.000,9, -999.000,9
           NA,    P03W,    299,   1,-999.0,      39,  2,19850521,0021,  24.2367,  142.4550,  2996, 2724.300,    1.605,   34.655,2,   34.654,2, -999.000,9,  132.300,2,  150.220,2,   37.500,2,    0.000,2,    2.540,2, -999.000,9, -999.000,9, -999.000,9, -999.000,9, -999.000,9
           NA,    P03W,    299,   1,-999.0,      24,  2,19850521,0021,  24.2367,  142.4550,  2996, 3021.200,    1.539,   34.664,2,   34.664,2, -999.000,9,  140.100,2,  150.610,2,   37.080,2,    0.000,2,    2.510,2, -999.000,9, -999.000,9, -999.000,9, -999.000,9, -999.000,9
           NA,    P03W,    297,   1,-999.0,       4,  2,19850520,1937,  24.2483,  142.9467,  2428,    0.700,   24.490,   34.974,2,   34.976,2, -999.000,9,  214.000,2,    1.130,2,    0.290,2,    0.000,2,    0.020,2,    1.675,2,    0.866,2, -999.000,9, -999.000,9, -999.000,9
           NA,    P03W,    297,   1,-999.0,      38,  2,19850520,1937,  24.2483,  142.9467,  2428,   20.900,   24.094,   34.975,2,   34.978,2, -999.000,9,  220.200,2,    1.120,2,    0.290,2,    0.000,2,    0.020,2, -999.000,9, -999.000,9, -999.000,9, -999.000,9, -999.000,9
           NA,    P03W,    297,   1,-999.0,       3,  2,19850520,1937,  24.2483,  142.9467,  2428,   41.100,   21.383,   34.859,2,   34.860,2, -999.000,9,  228.700,2,    1.310,2,    0.290,2,    0.000,2,    0.040,2,    1.898,2,    0.912,2, -999.000,9, -999.000,9, -999.000,9
           NA,    P03W,    297,   1,-999.0,       1,  2,19850520,1937,  24.2483,  142.9467,  2428,   71.500,   19.492,   34.850,2,   34.846,2, -999.000,9,  228.300,2,    1.700,2,    0.290,2,    0.000,2,    0.070,2, -999.000,9, -999.000,9, -999.000,9, -999.000,9, -999.000,9
           NA,    P03W,    297,   1,-999.0,       5,  2,19850520,1937,  24.2483,  142.9467,  2428,  101.400,   18.624,   34.843,2,   34.842,2, -999.000,9,  214.600,2,    2.700,2,    2.290,2,    0.030,2,    0.180,2,    1.941,2,    0.936,2, -999.000,9, -999.000,9, -999.000,9
           NA,    P03W,    297,   1,-999.0,       6,  2,19850520,1937,  24.2483,  142.9467,  2428,  141.400,   17.918,   34.822,2,   34.822,2, -999.000,9,  211.200,2,    3.090,2,    3.610,2,    0.010,2,    0.260,2,    1.825,2,    0.987,2, -999.000,9, -999.000,9, -999.000,9
           NA,    P03W,    297,   1,-999.0,       7,  2,19850520,1937,  24.2483,  142.9467,  2428,  181.500,   17.122,   34.787,2,   34.790,2, -999.000,9,  206.000,2,    4.290,2,    5.020,2,    0.010,2,    0.350,2,    1.879,2,    0.896,2, -999.000,9, -999.000,9, -999.000,9
           NA,    P03W,    297,   1,-999.0,       8,  2,19850520,1937,  24.2483,  142.9467,  2428,  231.500,   16.508,   34.757,2,   34.756,2, -999.000,9,  203.300,2,    5.080,2,    6.130,2,    0.010,2,    0.430,2,    1.837,2,    0.865,2, -999.000,9, -999.000,9, -999.000,9
           NA,    P03W,    297,   1,-999.0,       9,  2,19850520,1937,  24.2483,  142.9467,  2428,  282.100,   15.347,   34.678,2,   34.676,2, -999.000,9,  200.000,2,    8.290,2,    8.310,2,    0.000,2,    0.570,2,    1.604,2,    0.849,2, -999.000,9, -999.000,9, -999.000,9
           NA,    P03W,    297,   1,-999.0,      10,  2,19850520,1937,  24.2483,  142.9467,  2428,  332.200,   14.474,   34.600,2,   34.598,2, -999.000,9,  194.000,2,   10.900,2,   10.150,2,    0.000,2,    0.710,2, -999.000,9, -999.000,9, -999.000,9, -999.000,9, -999.000,9
           NA,    P03W,    297,   1,-999.0,      11,  2,19850520,1937,  24.2483,  142.9467,  2428,  382.100,   12.906,   34.468,2,   34.467,2, -999.000,9,  185.100,2,   16.530,2,   13.500,2,    0.000,2,    0.930,2,    1.240,2,    0.619,2, -999.000,9, -999.000,9, -999.000,9
           NA,    P03W,    297,   1,-999.0,      12,  2,19850520,1937,  24.2483,  142.9467,  2428,  441.100,   11.611,   34.372,2,   34.377,2, -999.000,9,  178.300,2,   21.350,2,   16.330,2,    0.000,2,    1.120,2, -999.000,9, -999.000,9, -999.000,9, -999.000,9, -999.000,9
           NA,    P03W,    297,   1,-999.0,      13,  2,19850520,1937,  24.2483,  142.9467,  2428,  502.100,    9.562,   34.242,2,   34.241,2, -999.000,9,  163.700,2,   34.220,2,   21.290,2,    0.000,2,    1.480,2,    0.945,2,    0.444,2, -999.000,9, -999.000,9, -999.000,9
           NA,    P03W,    297,   1,-999.0,      14,  2,19850520,1937,  24.2483,  142.9467,  2428,  585.000,    7.756,   34.157,2,   34.161,2, -999.000,9,  144.100,2,   49.110,2,   26.200,2,    0.000,2,    1.830,2, -999.000,9, -999.000,9, -999.000,9, -999.000,9, -999.000,9
           NA,    P03W,    297,   1,-999.0,      15,  2,19850520,1937,  24.2483,  142.9467,  2428,  705.600,    5.678,   34.132,2,   34.132,2, -999.000,9,   96.200,2,   74.730,2,   34.370,2,    0.000,2,    2.380,2,    0.321,2,    0.160,2, -999.000,9, -999.000,9, -999.000,9
           NA,    P03W,    297,   1,-999.0,      16,  2,19850520,1937,  24.2483,  142.9467,  2428,  847.700,    4.378,   34.243,2,   34.242,2, -999.000,9,   58.500,2,  102.860,2,   39.920,2,    0.000,2,    2.760,2,    0.084,2, -999.000,9, -999.000,9, -999.000,9, -999.000,9
           NA,    P03W,    297,   1,-999.0,      17,  2,19850520,1937,  24.2483,  142.9467,  2428, 1006.200,    3.670,   34.351,2,   34.350,2, -999.000,9,   47.900,2,  120.290,2,   41.580,2,    0.000,2,    2.890,2,    0.039,2,    0.033,2, -999.000,9, -999.000,9, -999.000,9
           NA,    P03W,    297,   1,-999.0,      18,  2,19850520,1937,  24.2483,  142.9467,  2428, 1208.200,    3.031,   34.449,2,   34.450,2, -999.000,9,   52.300,2,  137.170,2,   42.090,2,    0.000,2,    2.890,2, -999.000,9, -999.000,9, -999.000,9, -999.000,9, -999.000,9
           NA,    P03W,    297,   1,-999.0,      23,  2,19850520,1937,  24.2483,  142.9467,  2428, 1408.800,    2.709,   34.494,2,   34.495,2, -999.000,9,   59.600,2,  144.060,2,   41.920,2,    0.000,2,    2.880,2, -999.000,9,    0.003,2, -999.000,9, -999.000,9, -999.000,9
           NA,    P03W,    297,   1,-999.0,      20,  2,19850520,1937,  24.2483,  142.9467,  2428, 1610.500,    2.361,   34.544,2,   34.546,2, -999.000,9,   75.700,2,  148.690,2,   40.910,2,    0.000,2,    2.820,2, -999.000,9, -999.000,9, -999.000,9, -999.000,9, -999.000,9
           NA,    P03W,    297,   1,-999.0,      21,  2,19850520,1937,  24.2483,  142.9467,  2428, 1813.000,    2.151,   34.576,2,   34.575,2, -999.000,9,   87.300,2,  150.650,2,   40.380,2,    0.000,2,    2.760,2, -999.000,9,    0.008,2, -999.000,9, -999.000,9, -999.000,9
           NA,    P03W,    297,   1,-999.0,      22,  2,19850520,1937,  24.2483,  142.9467,  2428, 2016.200,    1.972,   34.602,2,   34.601,2, -999.000,9,  101.200,2,  151.800,2,   39.430,2,    0.000,2,    2.690,2, -999.000,9, -999.000,9, -999.000,9, -999.000,9, -999.000,9
           NA,    P03W,    297,   1,-999.0,      39,  2,19850520,1937,  24.2483,  142.9467,  2428, 2218.300,    1.796,   34.628,2,   34.627,2, -999.000,9,  115.700,2,  150.070,2,   38.800,2,    0.000,2,    2.630,2, -999.000,9, -999.000,9, -999.000,9, -999.000,9, -999.000,9
           NA,    P03W,    297,   1,-999.0,      24,  2,19850520,1937,  24.2483,  142.9467,  2428, 2464.200,    1.745,   34.637,2,   34.637,2, -999.000,9,  121.300,2,  150.190,2,   38.630,2,    0.000,2,    2.600,2,    0.008,2, -999.000,9, -999.000,9, -999.000,9, -999.000,9