BOTTLE,20203103JOAExport
EXPOCODE,SECT_ID,STNNBR,CASTNO,SAMPNO,BTLNBR,BTLNBR_FLAG_W,DATE,TIME,LATITUDE,LONGITUDE,DEPTH,CTDPRS,CTDTMP,CTDSAL,CTDSAL_FLAG_W,SALNTY,SALNTY_FLAG_W,CTDOXY,CTDOXY_FLAG_W,OXYGEN,OXYGEN_FLAG_W,SILCAT,SILCAT_FLAG_W,NITRAT,NITRAT_FLAG_W,NITRIT,NITRIT_FLAG_W,PHSPHT,PHSPHT_FLAG_W,CFC-11,CFC-11_FLAG_W,CFC-12,CFC-12_FLAG_W,SF6,SF6_FLAG_W,TCARBN,TCARBN_FLAG_W,ALKALI,ALKALI_FLAG_W
,,,,,,,,,,,,,DB,ITS-90,PSS-78,,PSS-78,,UMOL/KG,,UMOL/KG,,UMOL/KG,,UMOL/KG,,UMOL/KG,,UMOL/KG,,PMOL/KG,,PMOL/KG,,FMOL/KG,,UMOL/KG,,UMOL/KG
           NA,    P03E,     14,   2,-999.0,       1,  2,19850331,1917,  31.8533, -119.3583,  1244,    1.300,   14.943,   33.448,2,   33.448,2, -999.000,9,  258.300,2,    2.810,2,    0.090,2,    0.000,2,    0.350,2, -999.000,9, -999.000,9, -999.000,9, -999.000,9, -999.000,9
           NA,    P03E,     14,   2,-999.0,       2,  2,19850331,1917,  31.8533, -119.3583,  1244,   18.300,   14.700,   33.447,2,   33.453,2, -999.000,9,  258.000,2,    2.770,2,    0.090,2,    0.000,2,    0.350,2, -999.000,9, -999.000,9, -999.000,9, -999.000,9, -999.000,9
           NA,    P03E,     14,   2,-999.0,       3,  2,19850331,1917,  31.8533, -119.3583,  1244,   33.400,   14.610,   33.451,2,   33.449,2, -999.000,9,  258.900,2,    2.550,2,    0.090,2,    0.000,2,    0.350,2, -999.000,9, -999.000,9, -999.000,9, -999.000,9, -999.000,9
           NA,    P03E,     14,   2,-999.0,       4,  2,19850331,1917,  31.8533, -119.3583,  1244,   53.700,   14.301,   33.436,2,   33.437,2, -999.000,9,  260.800,2,    2.700,2,    0.090,2,    0.000,2,    0.350,2, -999.000,9, -999.000,9, -999.000,9, -999.000,9, -999.000,9
           NA,    P03E,     14,   2,-999.0,       5,  2,19850331,1917,  31.8533, -119.3583,  1244,   73.700,   13.018,   33.387,2,   33.385,2, -999.000,9,  253.100,2,    4.290,2,    2.330,2,    0.250,2,    0.510,2, -999.000,9, -999.000,9, -999.000,9, -999.000,9, -999.000,9
           NA,    P03E,     14,   2,-999.0,       6,  2,19850331,1917,  31.8533, -119.3583,  1244,   93.900,   12.060,   33.437,2,   33.439,2, -999.000,9,  218.300,2,    8.250,2,    8.440,2,    0.070,2,    0.860,2, -999.000,9, -999.000,9, -999.000,9, -999.000,9, -999.000,9
           NA,    P03E,     14,   2,-999.0,       7,  2,19850331,1917,  31.8533, -119.3583,  1244,  124.300,   10.521,   33.583,2,   33.582,2, -999.000,9,  180.200,2,   15.850,2,   16.300,2,    0.010,2,    1.320,2, -999.000,9, -999.000,9, -999.000,9, -999.000,9, -999.000,9
           NA,    P03E,     14,   2,-999.0,       8,  2,19850331,1917,  31.8533, -119.3583,  1244,  154.600,   10.282,   33.917,2,   33.917,2, -999.000,9,  134.200,2,   24.560,2,   21.790,2,    0.010,2,    1.720,2, -999.000,9, -999.000,9, -999.000,9, -999.000,9, -999.000,9
           NA,    P03E,     14,   2,-999.0,      10,  2,19850331,1917,  31.8533, -119.3583,  1244,  195.100,    8.724,   33.945,2,   33.944,2, -999.000,9,  138.000,2,   31.770,2,   24.880,2,    0.000,2,    1.830,2, -999.000,9, -999.000,9, -999.000,9, -999.000,9, -999.000,9
           NA,    P03E,     14,   2,-999.0,       9,  2,19850331,1917,  31.8533, -119.3583,  1244,  195.100,    8.724,   33.945,2,   33.945,2, -999.000,9,  138.700,2,   31.640,2,   24.860,2,    0.000,2,    1.830,2, -999.000,9, -999.000,9, -999.000,9, -999.000,9, -999.000,9
           NA,    P03E,     14,   2,-999.0,      11,  2,19850331,1917,  31.8533, -119.3583,  1244,  285.600,    8.000,   34.188,2,   34.189,2, -999.000,9,   62.900,2,   48.400,2,   31.620,2,    0.000,2,    2.460,2, -999.000,9, -999.000,9, -999.000,9, -999.000,9, -999.000,9
           NA,    P03E,     14,   2,-999.0,      12,  2,19850331,1917,  31.8533, -119.3583,  1244,  335.300,    7.410,   34.213,2,   34.212,2, -999.000,9,   45.500,2,   57.000,2,   34.060,2,    0.000,2,    2.660,2, -999.000,9, -999.000,9, -999.000,9, -999.000,9, -999.000,9
           NA,    P03E,     14,   2,-999.0,      13,  2,19850331,1917,  31.8533, -119.3583,  1244,  395.800,    6.825,   34.239,2,   34.239,2, -999.000,9,   31.200,2,   64.680,2,   36.520,2,    0.000,2,    2.820,2, -999.000,9, -999.000,9, -999.000,9, -999.000,9, -999.000,9
           NA,    P03E,     14,   2,-999.0,      14,  2,19850331,1917,  31.8533, -119.3583,  1244,  456.300,    6.374,   34.269,2,   34.269,2, -999.000,9,   21.400,2,   72.750,2,   38.230,2,    0.000,2,    2.930,2, -999.000,9, -999.000,9, -999.000,9, -999.000,9, -999.000,9
           NA,    P03E,     14,   2,-999.0,      15,  2,19850331,1917,  31.8533, -119.3583,  1244,  526.300,    5.902,   34.309,2,   34.309,2, -999.000,9,   15.500,2,   81.400,2,   39.690,2,    0.000,2,    3.060,2, -999.000,9, -999.000,9, -999.000,9, -999.000,9, -999.000,9
           NA,    P03E,     14,   2,-999.0,      16,  2,19850331,1917,  31.8533, -119.3583,  1244,  606.400,    5.494,   34.348,2,   34.347,2, -999.000,9,   11.200,2,   89.310,2,   40.850,2,    0.000,2,    3.110,2, -999.000,9, -999.000,9, -999.000,9, -999.000,9, -999.000,9
           NA,    P03E,     14,   2,-999.0,      17,  2,19850331,1917,  31.8533, -119.3583,  1244,  707.100,    5.015,   34.376,2,   34.375,2, -999.000,9,   10.300,2,   98.180,2,   42.330,2,    0.000,2,    3.160,2, -999.000,9, -999.000,9, -999.000,9, -999.000,9, -999.000,9
           NA,    P03E,     14,   2,-999.0,      18,  2,19850331,1917,  31.8533, -119.3583,  1244,  807.500,    4.608,   34.422,2,   34.420,2, -999.000,9,   14.400,2,  107.440,2,   43.120,2,    0.000,2,    3.160,2, -999.000,9, -999.000,9, -999.000,9, -999.000,9, -999.000,9
           NA,    P03E,     14,   2,-999.0,      19,  2,19850331,1917,  31.8533, -119.3583,  1244,  907.200,    4.307,   34.456,2,   34.460,2, -999.000,9,   18.000,2,  113.900,2,   43.210,2,    0.000,2,    3.160,2, -999.000,9, -999.000,9, -999.000,9, -999.000,9, -999.000,9
           NA,    P03E,     14,   2,-999.0,      20,  2,19850331,1917,  31.8533, -119.3583,  1244, 1008.000,    3.979,   34.485,2,   34.486,2, -999.000,9,   23.800,2,  120.000,2,   43.250,2,    0.000,2,    3.160,2, -999.000,9, -999.000,9, -999.000,9, -999.000,9, -999.000,9
           NA,    P03E,     14,   2,-999.0,      21,  2,19850331,1917,  31.8533, -119.3583,  1244, 1107.800,    3.721,   34.503,2,   34.504,2, -999.000,9,   27.600,2,  127.230,2,   42.850,2,    0.000,2,    3.120,2, -999.000,9, -999.000,9, -999.000,9, -999.000,9, -999.000,9
           NA,    P03E,     14,   2,-999.0,      23,  2,19850331,1917,  31.8533, -119.3583,  1244, 1257.000,    3.330,   34.533,2,   34.533,2, -999.000,9,   36.500,2,  137.500,2,   42.780,2,    0.000,2,    3.090,2, -999.000,9, -999.000,9, -999.000,9, -999.000,9, -999.000,9
           NA,    P03E,     14,   2,-999.0,      24,  2,19850331,1917,  31.8533, -119.3583,  1244, 1407.500,    3.049,   34.554,2,   34.555,2, -999.000,9,   44.300,2,  144.390,2,   42.600,2,    0.000,2,    3.060,2, -999.000,9, -999.000,9, -999.000,9, -999.000,9, -999.000,9
           NA,    P03E,     12,   1,-999.0,       1,  2,19850331,1508,  31.9100, -119.2567,  1694,    8.500,   14.470,   33.440,2,   33.438,2, -999.000,9,  259.400,2,    2.100,2,    0.090,2,    0.000,2,    0.460,2,    2.543,2,    1.216,2, -999.000,9, -999.000,9, -999.000,9
           NA,    P03E,     12,   1,-999.0,       2,  2,19850331,1508,  31.9100, -119.2567,  1694,   18.200,   14.443,   33.438,2,   33.437,2, -999.000,9,  260.100,2,    1.900,2,    0.090,2,    0.000,2,    0.450,2,    2.573,2,    1.230,2, -999.000,9, -999.000,9, -999.000,9
           NA,    P03E,     12,   1,-999.0,       3,  2,19850331,1508,  31.9100, -119.2567,  1694,   33.300,   14.371,   33.433,2,   33.431,2, -999.000,9,  260.600,2,    1.880,2,    0.090,2,    0.000,2,    0.460,2,    2.563,2,    1.226,2, -999.000,9, -999.000,9, -999.000,9
           NA,    P03E,     12,   1,-999.0,       4,  2,19850331,1508,  31.9100, -119.2567,  1694,   53.700,   13.109,   33.388,2,   33.382,2, -999.000,9,  258.600,2,    3.350,2,    1.410,2,    0.130,2,    0.530,2,    2.634,2,    1.268,2, -999.000,9, -999.000,9, -999.000,9
           NA,    P03E,     12,   1,-999.0,       5,  2,19850331,1508,  31.9100, -119.2567,  1694,   73.900,   12.360,   33.421,2,   33.416,2, -999.000,9,  233.100,2,    5.730,2,    5.850,2,    0.160,2,    0.810,2, -999.000,9, -999.000,9, -999.000,9, -999.000,9, -999.000,9
           NA,    P03E,     12,   1,-999.0,       6,  2,19850331,1508,  31.9100, -119.2567,  1694,   94.400,   11.487,   33.512,2,   33.541,2, -999.000,9,  195.100,2,   11.440,2,   12.220,2,    0.020,2,    1.150,2,    2.238,2,    1.052,2, -999.000,9, -999.000,9, -999.000,9
           NA,    P03E,     12,   1,-999.0,       7,  2,19850331,1508,  31.9100, -119.2567,  1694,  124.400,   10.176,   33.699,2,   33.699,2, -999.000,9,  163.300,2,   20.480,2,   19.300,2,    0.010,2,    1.580,2,    1.871,2,    0.889,2, -999.000,9, -999.000,9, -999.000,9
           NA,    P03E,     12,   1,-999.0,       8,  2,19850331,1508,  31.9100, -119.2567,  1694,  154.700,    9.966,   33.956,2,   33.952,2, -999.000,9,  119.600,2,   27.310,2,   23.370,2,    0.000,2,    1.880,2,    1.256,2,    0.593,2, -999.000,9, -999.000,9, -999.000,9
           NA,    P03E,     12,   1,-999.0,       9,  2,19850331,1508,  31.9100, -119.2567,  1694,  194.500,    9.339,   34.099,2,   34.093,2, -999.000,9,   97.400,2,   33.210,2,   26.550,2,    0.000,2,    2.110,2,    0.855,2,    0.415,2, -999.000,9, -999.000,9, -999.000,9
           NA,    P03E,     12,   1,-999.0,      10,  2,19850331,1508,  31.9100, -119.2567,  1694,  234.800,    8.656,   34.156,2, -999.000,5, -999.000,9,   82.200,2,   40.590,2,   28.920,2,    0.000,2,    2.280,2,    0.535,2,    0.267,2, -999.000,9, -999.000,9, -999.000,9
           NA,    P03E,     12,   1,-999.0,      11,  2,19850331,1508,  31.9100, -119.2567,  1694,  285.100,    8.142,   34.181,2,   34.179,2, -999.000,9,   66.900,2,   46.310,2,   30.970,2,    0.000,2,    2.430,2,    0.360,2,    0.185,2, -999.000,9, -999.000,9, -999.000,9
           NA,    P03E,     12,   1,-999.0,      12,  2,19850331,1508,  31.9100, -119.2567,  1694,  335.800,    7.523,   34.235,2,   34.235,2, -999.000,9,   42.400,2,   55.570,2,   34.020,2,    0.000,2,    2.670,2,    0.138,6,    0.076,2, -999.000,9, -999.000,9, -999.000,9
           NA,    P03E,     12,   1,-999.0,      13,  2,19850331,1508,  31.9100, -119.2567,  1694,  396.200,    6.878,   34.254,2,   34.259,2, -999.000,9,   28.800,2,   64.290,2,   36.180,2,    0.000,2,    2.810,2,    0.078,2,    0.037,2, -999.000,9, -999.000,9, -999.000,9
           NA,    P03E,     12,   1,-999.0,      14,  2,19850331,1508,  31.9100, -119.2567,  1694,  456.200,    6.385,   34.271,2,   34.270,2, -999.000,9,   21.900,2,   72.260,2,   38.150,2,    0.000,2,    2.950,2,    0.083,2,    0.037,2, -999.000,9, -999.000,9, -999.000,9
           NA,    P03E,     12,   1,-999.0,      15,  2,19850331,1508,  31.9100, -119.2567,  1694,  526.800,    5.916,   34.309,2,   34.308,2, -999.000,9,   15.000,2,   80.990,2,   39.560,2,    0.000,2,    3.060,2,    0.035,2,    0.005,2, -999.000,9, -999.000,9, -999.000,9
           NA,    P03E,     12,   1,-999.0,      16,  2,19850331,1508,  31.9100, -119.2567,  1694,  607.800,    5.483,   34.348,2,   34.349,2, -999.000,9,   11.600,2,   88.230,2,   40.660,2,    0.000,2,    3.150,2,    0.030,2,    0.001,2, -999.000,9, -999.000,9, -999.000,9
           NA,    P03E,     12,   1,-999.0,      17,  2,19850331,1508,  31.9100, -119.2567,  1694,  708.700,    4.971,   34.397,2,   34.397,2, -999.000,9,   12.200,2,   97.730,2,   41.660,2, -999.000,5,    3.150,2,    0.030,2,    0.012,2, -999.000,9, -999.000,9, -999.000,9
           NA,    P03E,     12,   1,-999.0,      18,  2,19850331,1508,  31.9100, -119.2567,  1694,  809.700,    4.573,   34.433,2,   34.433,2, -999.000,9,   16.300,2,  107.060,2,   42.130,2,    0.000,2,    3.260,2,    0.046,2, -999.000,9, -999.000,9, -999.000,9, -999.000,9
           NA,    P03E,     12,   1,-999.0,      19,  2,19850331,1508,  31.9100, -119.2567,  1694,  911.100,    4.232,   34.462,2,   34.462,2, -999.000,9,   18.900,2,  113.930,2,   42.650,2,    0.000,2,    3.210,2, -999.000,9, -999.000,9, -999.000,9, -999.000,9, -999.000,9
           NA,    P03E,     12,   1,-999.0,      20,  2,19850331,1508,  31.9100, -119.2567,  1694, 1011.600,    3.932,   34.488,2,   34.489,2, -999.000,9,   25.000,2,  121.950,2,   42.690,2,    0.000,2,    3.160,2, -999.000,9, -999.000,9, -999.000,9, -999.000,9, -999.000,9
           NA,    P03E,     12,   1,-999.0,      21,  2,19850331,1508,  31.9100, -119.2567,  1694, 1112.500,    3.673,   34.508,2,   34.511,2, -999.000,9,   29.300,2,  128.450,2,   42.780,2,    0.000,2,    3.100,2, -999.000,9, -999.000,9, -999.000,9, -999.000,9, -999.000,9
           NA,    P03E,     12,   1,-999.0,      22,  2,19850331,1508,  31.9100, -119.2567,  1694, 1263.000,    3.333,   34.534,2,   34.534,2, -999.000,9,   37.600,2,  135.530,2,   42.660,2,    0.000,2,    3.120,2, -999.000,9, -999.000,9, -999.000,9, -999.000,9, -999.000,9
           NA,    P03E,     12,   1,-999.0,      23,  2,19850331,1508,  31.9100, -119.2567,  1694, 1515.000,    2.795,   34.573,2,   34.573,2, -999.000,9,   51.500,2,  149.860,2,   41.770,2,    0.000,2,    3.020,2, -999.000,9, -999.000,9, -999.000,9, -999.000,9, -999.000,9
           NA,    P03E,     12,   1,-999.0,      24,  2,19850331,1508,  31.9100, -119.2567,  1694, 1695.700,    2.720,   34.579,2,   34.579,2, -999.000,9,   54.200,2,  153.710,2,   41.710,2,    0.000,2,    3.000,2, -999.000,9, -999.000,9, -999.000,9, -999.000,9, -999.000,9
           NA,    P03E,     10,   1,-999.0,       1,  2,19850331,1032,  32.1583, -118.7533,  1409,   17.400,   13.415,   33.467,2,   33.464,2, -999.000,9,  271.000,2,    1.760,2,    0.440,2,    0.030,2,    0.410,2, -999.000,9, -999.000,9, -999.000,9, -999.000,9, -999.000,9
           NA,    P03E,     10,   1,-999.0,       2,  2,19850331,1032,  32.1583, -118.7533,  1409,   32.800,   13.346,   33.464,2,   33.464,2, -999.000,9,  265.700,2,    2.450,2,    0.800,2,    0.050,2,    0.450,2, -999.000,9, -999.000,9, -999.000,9, -999.000,9, -999.000,9
           NA,    P03E,     10,   1,-999.0,       3,  2,19850331,1032,  32.1583, -118.7533,  1409,   52.500,   13.109,   33.466,2,   33.464,2, -999.000,9,  253.100,2,    3.330,2,    2.350,2,    0.110,2,    0.550,2, -999.000,9, -999.000,9, -999.000,9, -999.000,9, -999.000,9
           NA,    P03E,     10,   1,-999.0,       4,  2,19850331,1032,  32.1583, -118.7533,  1409,   73.200,   11.358,   33.513,2,   33.507,2, -999.000,9,  195.500,2,   12.230,2,   12.620,2,    0.030,2,    1.140,2, -999.000,9, -999.000,9, -999.000,9, -999.000,9, -999.000,9
           NA,    P03E,     10,   1,-999.0,       5,  2,19850331,1032,  32.1583, -118.7533,  1409,   93.200,   10.855,   33.557,2,   33.555,2, -999.000,9,  184.200,2,   15.550,2,   15.160,2,    0.010,2,    1.320,2, -999.000,9, -999.000,9, -999.000,9, -999.000,9, -999.000,9
           NA,    P03E,     10,   1,-999.0,       6,  2,19850331,1032,  32.1583, -118.7533,  1409,  123.600,    9.563,   33.774,2,   33.772,2, -999.000,9,  153.200,2,   24.840,2,   21.620,2,    0.000,2,    1.680,2, -999.000,9, -999.000,9, -999.000,9, -999.000,9, -999.000,9
           NA,    P03E,     10,   1,-999.0,       7,  2,19850331,1032,  32.1583, -118.7533,  1409,  153.400,    9.681,   34.065,2,   34.061,2, -999.000,9,  101.800,2,   31.980,2,   25.520,2,    0.000,2,    2.050,2, -999.000,9, -999.000,9, -999.000,9, -999.000,9, -999.000,9
           NA,    P03E,     10,   1,-999.0,       8,  2,19850331,1032,  32.1583, -118.7533,  1409,  193.500,    9.146,   34.134,2,   34.133,2, -999.000,9,   88.800,2,   36.860,2,   27.570,2,    0.000,2,    2.210,2, -999.000,9, -999.000,9, -999.000,9, -999.000,9, -999.000,9
           NA,    P03E,     10,   1,-999.0,       9,  2,19850331,1032,  32.1583, -118.7533,  1409,  234.200,    8.628,   34.159,2,   34.156,2, -999.000,9,   82.700,2,   41.650,2,   29.140,2,    0.000,2,    2.320,2, -999.000,9, -999.000,9, -999.000,9, -999.000,9, -999.000,9
           NA,    P03E,     10,   1,-999.0,      10,  2,19850331,1032,  32.1583, -118.7533,  1409,  234.200,    8.628,   34.159,2,   34.157,2, -999.000,9,   82.700,2,   41.650,2,   29.140,2,    0.000,2,    2.320,2, -999.000,9, -999.000,9, -999.000,9, -999.000,9, -999.000,9
           NA,    P03E,     10,   1,-999.0,      11,  2,19850331,1032,  32.1583, -118.7533,  1409,  333.300,    7.554,   34.232,2,   34.230,2, -999.000,9,   44.400,2,   56.710,2,   33.830,2,    0.000,2,    2.690,2, -999.000,9, -999.000,9, -999.000,9, -999.000,9, -999.000,9
           NA,    P03E,     10,   1,-999.0,      12,  2,19850331,1032,  32.1583, -118.7533,  1409,  393.500,    6.948,   34.241,2,   34.240,2, -999.000,9,   33.100,2,   64.730,2,   35.980,2,    0.000,2,    2.810,2, -999.000,9, -999.000,9, -999.000,9, -999.000,9, -999.000,9
           NA,    P03E,     10,   1,-999.0,      13,  2,19850331,1032,  32.1583, -118.7533,  1409,  454.200,    6.437,   34.264,2,   34.263,2, -999.000,9,   23.500,2,   72.840,2,   37.840,2,    0.000,2,    2.950,2, -999.000,9, -999.000,9, -999.000,9, -999.000,9, -999.000,9
           NA,    P03E,     10,   1,-999.0,      14,  2,19850331,1032,  32.1583, -118.7533,  1409,  524.600,    5.931,   34.296,2,   34.295,2, -999.000,9,   19.600,2,   81.640,2,   39.690,2,    0.000,2,    3.060,2, -999.000,9, -999.000,9, -999.000,9, -999.000,9, -999.000,9
           NA,    P03E,     10,   1,-999.0,      15,  2,19850331,1032,  32.1583, -118.7533,  1409,  604.200,    5.503,   34.344,2,   34.343,2, -999.000,9,   13.500,2,   89.650,2,   40.870,2,    0.000,2,    3.120,2, -999.000,9, -999.000,9, -999.000,9, -999.000,9, -999.000,9
           NA,    P03E,     10,   1,-999.0,      16,  2,19850331,1032,  32.1583, -118.7533,  1409,  704.400,    5.036,   34.390,2,   34.390,2, -999.000,9,   13.500,2,   98.250,2,   41.550,2,    0.000,2,    3.170,2, -999.000,9, -999.000,9, -999.000,9, -999.000,9, -999.000,9
           NA,    P03E,     10,   1,-999.0,      17,  2,19850331,1032,  32.1583, -118.7533,  1409,  805.000,    4.630,   34.426,2,   34.428,2, -999.000,9,   15.700,2,  106.560,2,   42.040,2,    0.000,2,    3.190,2, -999.000,9, -999.000,9, -999.000,9, -999.000,9, -999.000,9
           NA,    P03E,     10,   1,-999.0,      18,  2,19850331,1032,  32.1583, -118.7533,  1409,  905.500,    4.325,   34.453,2,   34.453,2, -999.000,9,   19.100,2,  112.520,2,   42.330,2,    0.000,2,    3.190,2, -999.000,9, -999.000,9, -999.000,9, -999.000,9, -999.000,9
           NA,    P03E,     10,   1,-999.0,      19,  2,19850331,1032,  32.1583, -118.7533,  1409, 1005.300,    4.002,   34.479,2,   34.481,2, -999.000,9,   23.000,2,  122.000,2,   42.720,2,    0.000,2,    3.180,2, -999.000,9, -999.000,9, -999.000,9, -999.000,9, -999.000,9
           NA,    P03E,     10,   1,-999.0,      20,  2,19850331,1032,  32.1583, -118.7533,  1409, 1104.500,    3.667,   34.504,2,   34.505,2, -999.000,9,   29.100,2, -999.000,5,   42.820,2,    0.000,2,    3.160,2, -999.000,9, -999.000,9, -999.000,9, -999.000,9, -999.000,9
           NA,    P03E,     10,   1,-999.0,      21,  2,19850331,1032,  32.1583, -118.7533,  1409, 1203.800,    3.460,   34.519,2,   34.520,2, -999.000,9,   30.400,2,  135.780,2,   42.620,2,    0.000,2,    3.140,2, -999.000,9, -999.000,9, -999.000,9, -999.000,9, -999.000,9
           NA,    P03E,     10,   1,-999.0,      22,  2,19850331,1032,  32.1583, -118.7533,  1409, 1305.300,    3.267,   34.534,2,   34.535,2, -999.000,9,   35.200,2,  142.910,2,   42.230,2,    0.000,2,    3.130,2, -999.000,9, -999.000,9, -999.000,9, -999.000,9, -999.000,9
           NA,    P03E,     10,   1,-999.0,      24,  2,19850331,1032,  32.1583, -118.7533,  1409, 1415.700,    3.182,   34.542,2,   34.543,2, -999.000,9,   36.100,2,  143.700,2,   42.130,2,    0.010,2,    3.120,2, -999.000,9, -999.000,9, -999.000,9, -999.000,9, -999.000,9
           NA,    P03E,     10,   1,-999.0,      23,  2,19850331,1032,  32.1583, -118.7533,  1409, 1415.700,    3.182,   34.542,2,   34.543,2, -999.000,9,   37.400,2,  144.480,2,   42.030,2,    0.000,2,    3.120,2, -999.000,9, -999.000,9, -999.000,9, -999.000,9, -999.000,9