BOTTLE,20203103JOAExport
EXPOCODE,SECT_ID,STNNBR,CASTNO,SAMPNO,BTLNBR,BTLNBR_FLAG_W,DATE,TIME,LATITUDE,LONGITUDE,DEPTH,CTDPRS,CTDTMP,CTDSAL,CTDSAL_FLAG_W,SALNTY,SALNTY_FLAG_W,CTDOXY,CTDOXY_FLAG_W,OXYGEN,OXYGEN_FLAG_W,SILCAT,SILCAT_FLAG_W,NITRAT,NITRAT_FLAG_W,NITRIT,NITRIT_FLAG_W,PHSPHT,PHSPHT_FLAG_W,CFC-11,CFC-11_FLAG_W,CFC-12,CFC-12_FLAG_W,SF6,SF6_FLAG_W,TCARBN,TCARBN_FLAG_W,ALKALI,ALKALI_FLAG_W
,,,,,,,,,,,,,DB,ITS-90,PSS-78,,PSS-78,,UMOL/KG,,UMOL/KG,,UMOL/KG,,UMOL/KG,,UMOL/KG,,UMOL/KG,,PMOL/KG,,PMOL/KG,,FMOL/KG,,UMOL/KG,,UMOL/KG
           NA,    P03W,    293,   1,-999.0,       4,  2,19850520,0758,  24.2750,  143.6400,  8995,    1.200,   24.478,   34.898,2,   34.900,2, -999.000,9,  216.000,2,    2.050,2,    0.110,2,    0.000,2,    0.020,2,    1.591,2,    0.866,2, -999.000,9, -999.000,9, -999.000,9
           NA,    P03W,    293,   1,-999.0,      38,  2,19850520,0758,  24.2750,  143.6400,  8995,   26.100,   23.568,   34.904,2,   34.893,2, -999.000,9,  221.200,2,    2.050,2,    0.060,2,    0.000,2,    0.010,2, -999.000,9, -999.000,9, -999.000,9, -999.000,9, -999.000,9
           NA,    P03W,    293,   1,-999.0,       3,  2,19850520,0758,  24.2750,  143.6400,  8995,   46.500,   20.467,   34.869,2,   34.874,2, -999.000,9,  233.600,2,    2.250,2,    0.060,2,    0.000,2,    0.030,2, -999.000,9,    0.909,2, -999.000,9, -999.000,9, -999.000,9
           NA,    P03W,    293,   1,-999.0,       1,  2,19850520,0758,  24.2750,  143.6400,  8995,   76.800,   18.219,   34.830,2,   34.831,2, -999.000,9,  221.300,2,    2.350,2,    1.260,2,    0.180,2,    0.150,2, -999.000,9, -999.000,9, -999.000,9, -999.000,9, -999.000,9
           NA,    P03W,    293,   1,-999.0,       5,  2,19850520,0758,  24.2750,  143.6400,  8995,  107.100,   17.647,   34.811,2,   34.810,2, -999.000,9,  209.100,2,    3.230,2,    3.720,2,    0.070,2,    0.270,2,    1.783,2,    0.918,2, -999.000,9, -999.000,9, -999.000,9
           NA,    P03W,    293,   1,-999.0,       6,  2,19850520,0758,  24.2750,  143.6400,  8995,  146.600,   17.060,   34.789,2,   34.788,2, -999.000,9,  203.800,2,    4.400,2,    5.150,2,    0.020,2,    0.360,2,    1.738,2,    0.900,2, -999.000,9, -999.000,9, -999.000,9
           NA,    P03W,    293,   1,-999.0,       7,  2,19850520,0758,  24.2750,  143.6400,  8995,  185.900,   16.419,   34.758,2,   34.757,2, -999.000,9,  204.700,2,    4.980,2,    5.950,2,    0.010,2,    0.420,2,    1.707,2,    0.885,2, -999.000,9, -999.000,9, -999.000,9
           NA,    P03W,    293,   1,-999.0,       8,  2,19850520,0758,  24.2750,  143.6400,  8995,  235.500,   15.846,   34.721,2,   34.721,2, -999.000,9,  204.700,2,    6.350,2,    6.890,2,    0.010,2,    0.480,2,    1.662,2,    0.840,2, -999.000,9, -999.000,9, -999.000,9
           NA,    P03W,    293,   1,-999.0,       9,  2,19850520,0758,  24.2750,  143.6400,  8995,  285.200,   14.920,   34.646,2,   34.646,2, -999.000,9,  199.400,2,    8.800,2,    8.870,2,    0.010,2,    0.610,2,    1.524,2, -999.000,9, -999.000,9, -999.000,9, -999.000,9
           NA,    P03W,    293,   1,-999.0,      10,  2,19850520,0758,  24.2750,  143.6400,  8995,  334.100,   14.202,   34.583,2,   34.580,2, -999.000,9,  194.200,2,   11.630,2,   10.360,2,    0.000,2,    0.730,2,    1.431,2,    0.723,2, -999.000,9, -999.000,9, -999.000,9
           NA,    P03W,    293,   1,-999.0,      11,  2,19850520,0758,  24.2750,  143.6400,  8995,  383.800,   13.146,   34.493,2,   34.496,2, -999.000,9,  189.800,2,   14.960,2,   12.510,2,    0.000,2,    0.870,2,    1.292,2,    0.628,2, -999.000,9, -999.000,9, -999.000,9
           NA,    P03W,    293,   1,-999.0,      12,  2,19850520,0758,  24.2750,  143.6400,  8995,  443.600,   11.550,   34.368,2,   34.367,2, -999.000,9,  183.600,2,   21.900,2,   15.840,2,    0.000,2,    1.100,2,    1.154,2,    0.553,2, -999.000,9, -999.000,9, -999.000,9
           NA,    P03W,    293,   1,-999.0,      13,  2,19850520,0758,  24.2750,  143.6400,  8995,  505.100,    9.703,   34.237,2,   34.236,2, -999.000,9,  171.400,2,   31.290,2,   19.950,2,    0.000,2,    1.420,2,    1.051,6,    0.502,2, -999.000,9, -999.000,9, -999.000,9
           NA,    P03W,    293,   1,-999.0,      14,  2,19850520,0758,  24.2750,  143.6400,  8995,  565.500,    7.862,   34.129,2,   34.128,2, -999.000,9,  152.700,2,   44.590,2,   25.230,2,    0.000,2,    1.790,2,    0.826,6,    0.399,6, -999.000,9, -999.000,9, -999.000,9
           NA,    P03W,    293,   1,-999.0,      15,  2,19850520,0758,  24.2750,  143.6400,  8995,  645.400,    6.544,   34.102,2,   34.101,2, -999.000,9,  124.000,2,   59.840,2,   30.120,2,    0.000,2,    2.140,2,    0.566,2,    0.293,2, -999.000,9, -999.000,9, -999.000,9
           NA,    P03W,    293,   1,-999.0,      16,  2,19850520,0758,  24.2750,  143.6400,  8995,  722.400,    5.418,   34.139,2,   34.137,2, -999.000,9,   87.800,2,   78.710,2,   35.490,2,    0.000,2,    2.510,2,    0.293,2,    0.138,2, -999.000,9, -999.000,9, -999.000,9
           NA,    P03W,    293,   1,-999.0,      17,  2,19850520,0758,  24.2750,  143.6400,  8995,  798.600,    4.808,   34.195,2,   34.195,2, -999.000,9,   67.800,2,   92.500,2,   38.130,2,    0.000,2,    2.710,2,    0.128,2, -999.000,9, -999.000,9, -999.000,9, -999.000,9
           NA,    P03W,    293,   1,-999.0,      18,  2,19850520,0758,  24.2750,  143.6400,  8995,  894.400,    4.181,   34.284,2,   34.284,2, -999.000,9,   50.400,2,  107.740,2,   40.770,2,    0.000,2,    2.870,2,    0.055,2, -999.000,9, -999.000,9, -999.000,9, -999.000,9
           NA,    P03W,    293,   1,-999.0,      39,  2,19850520,0758,  24.2750,  143.6400,  8995, 1038.000,    3.661,   34.370,2,   34.370,2, -999.000,9,   46.100,2,  121.030,2,   41.750,2,    0.000,2,    2.930,2, -999.000,9, -999.000,9, -999.000,9, -999.000,9, -999.000,9
           NA,    P03W,    293,   1,-999.0,      20,  2,19850520,0758,  24.2750,  143.6400,  8995, 1183.300,    3.205,   34.436,2,   34.436,2, -999.000,9,   50.900,2,  133.250,2,   42.130,2,    0.000,2,    2.950,2, -999.000,9, -999.000,9, -999.000,9, -999.000,9, -999.000,9
           NA,    P03W,    293,   1,-999.0,      21,  2,19850520,0758,  24.2750,  143.6400,  8995, 1385.000,    2.729,   34.493,2,   34.493,2, -999.000,9,   60.400,2,  143.210,2,   41.840,2,    0.000,2,    2.910,2, -999.000,9, -999.000,9, -999.000,9, -999.000,9, -999.000,9
           NA,    P03W,    293,   1,-999.0,      22,  2,19850520,0758,  24.2750,  143.6400,  8995, 1579.800,    2.416,   34.543,2,   34.543,2, -999.000,9,   77.400,2,  146.920,2,   40.470,2,    0.000,2,    2.850,2, -999.000,9, -999.000,9, -999.000,9, -999.000,9, -999.000,9
           NA,    P03W,    293,   1,-999.0,      23,  2,19850520,0758,  24.2750,  143.6400,  8995, 1777.800,    2.206,   34.576,2,   34.575,2, -999.000,9,   91.700,2,  146.430,2,   39.980,2,    0.000,2,    2.770,2, -999.000,9, -999.000,9, -999.000,9, -999.000,9, -999.000,9
           NA,    P03W,    293,   1,-999.0,      24,  2,19850520,0758,  24.2750,  143.6400,  8995, 1974.700,    2.017,   34.602,2,   34.600,2, -999.000,9,  102.100,2,  149.950,2,   39.200,2,    0.000,2,    2.710,2,    0.004,2,    0.013,2, -999.000,9, -999.000,9, -999.000,9
           NA,    P03W,    293,   1,-999.0,      40,  2,19850520,0758,  24.2750,  143.6400,  8995, 2182.000,    1.861,   34.620,2,   34.619,2, -999.000,9,  110.400,2,  150.920,2,   38.710,2,    0.000,2,    2.670,2, -999.000,9, -999.000,9, -999.000,9, -999.000,9, -999.000,9
           NA,    P03W,    293,   1,-999.0,      26,  2,19850520,0758,  24.2750,  143.6400,  8995, 2486.100,    1.726,   34.639,2,   34.640,2, -999.000,9,  123.400,2,  150.620,2,   37.730,2,    0.000,2,    2.620,2, -999.000,9, -999.000,9, -999.000,9, -999.000,9, -999.000,9
           NA,    P03W,    293,   1,-999.0,      27,  2,19850520,0758,  24.2750,  143.6400,  8995, 2788.000,    1.631,   34.653,2,   34.653,2, -999.000,9,  130.800,2,  151.890,2,   37.630,2,    0.000,2,    2.590,2, -999.000,9, -999.000,9, -999.000,9, -999.000,9, -999.000,9
           NA,    P03W,    293,   1,-999.0,      28,  2,19850520,0758,  24.2750,  143.6400,  8995, 3094.400,    1.558,   34.664,2,   34.663,2, -999.000,9,  138.600,2,  150.330,2,   37.240,2,    0.000,2,    2.550,2,    0.010,2,    0.001,2, -999.000,9, -999.000,9, -999.000,9
           NA,    P03W,    293,   1,-999.0,      29,  2,19850520,0758,  24.2750,  143.6400,  8995, 3399.400,    1.509,   34.672,2,   34.671,2, -999.000,9,  146.000,2,  149.840,2,   36.750,2,    0.000,2,    2.520,2, -999.000,9, -999.000,9, -999.000,9, -999.000,9, -999.000,9
           NA,    P03W,    293,   1,-999.0,      30,  2,19850520,0758,  24.2750,  143.6400,  8995, 3702.800,    1.474,   34.678,2,   34.677,2, -999.000,9,  151.600,2,  148.760,2,   36.160,2,    0.000,2,    2.500,2, -999.000,9, -999.000,9, -999.000,9, -999.000,9, -999.000,9
           NA,    P03W,    293,   1,-999.0,      31,  2,19850520,0758,  24.2750,  143.6400,  8995, 4114.300,    1.462,   34.683,2,   34.682,2, -999.000,9,  158.600,2,  145.340,2,   35.770,2,    0.000,2,    2.430,2,    0.011,2,    0.001,2, -999.000,9, -999.000,9, -999.000,9
           NA,    P03W,    293,   1,-999.0,      32,  2,19850520,0758,  24.2750,  143.6400,  8995, 4527.000,    1.482,   34.685,2,   34.685,2, -999.000,9,  164.700,2,  143.880,2,   35.580,2,    0.000,2,    2.450,2, -999.000,9, -999.000,9, -999.000,9, -999.000,9, -999.000,9
           NA,    P03W,    293,   1,-999.0,      33,  2,19850520,0758,  24.2750,  143.6400,  8995, 4936.600,    1.491,   34.689,2,   34.688,2, -999.000,9,  168.200,2,  140.650,2, -999.000,5,    0.000,2,    2.400,2, -999.000,9, -999.000,9, -999.000,9, -999.000,9, -999.000,9
           NA,    P03W,    293,   1,-999.0,      34,  2,19850520,0758,  24.2750,  143.6400,  8995, 5354.500,    1.524,   34.691,2,   34.690,2, -999.000,9,  170.300,2,  139.380,2,   35.090,2,    0.000,2,    2.380,2, -999.000,9, -999.000,9, -999.000,9, -999.000,9, -999.000,9
           NA,    P03W,    293,   1,-999.0,      35,  2,19850520,0758,  24.2750,  143.6400,  8995, 5873.500,    1.577,   34.691,2,   34.691,2, -999.000,9,  173.400,2,  138.500,2,   34.800,2,    0.000,2,    2.380,2, -999.000,9, -999.000,9, -999.000,9, -999.000,9, -999.000,9
           NA,    P03W,    293,   1,-999.0,      37,  2,19850520,0758,  24.2750,  143.6400,  8995, 6405.200,    1.648,   34.692,2,   34.692,2, -999.000,9,  173.400,2,  135.960,2,   34.600,2,    0.000,2,    2.370,2,    0.008,2,    0.006,2, -999.000,9, -999.000,9, -999.000,9