BOTTLE,20203103JOAExport
EXPOCODE,SECT_ID,STNNBR,CASTNO,SAMPNO,BTLNBR,BTLNBR_FLAG_W,DATE,TIME,LATITUDE,LONGITUDE,DEPTH,CTDPRS,CTDTMP,CTDSAL,CTDSAL_FLAG_W,SALNTY,SALNTY_FLAG_W,CTDOXY,CTDOXY_FLAG_W,OXYGEN,OXYGEN_FLAG_W,SILCAT,SILCAT_FLAG_W,NITRAT,NITRAT_FLAG_W,NITRIT,NITRIT_FLAG_W,PHSPHT,PHSPHT_FLAG_W,CFC-11,CFC-11_FLAG_W,CFC-12,CFC-12_FLAG_W,SF6,SF6_FLAG_W,TCARBN,TCARBN_FLAG_W,ALKALI,ALKALI_FLAG_W
,,,,,,,,,,,,,DB,ITS-90,PSS-78,,PSS-78,,UMOL/KG,,UMOL/KG,,UMOL/KG,,UMOL/KG,,UMOL/KG,,UMOL/KG,,PMOL/KG,,PMOL/KG,,FMOL/KG,,UMOL/KG,,UMOL/KG
           NA,    P03W,    289,   1,-999.0,       4,  2,19850519,1754,  24.2283,  144.8300,  5345,    0.200,   24.253,   34.946,2,   34.949,2, -999.000,9,  214.700,2,    1.820,2,    0.000,2,    0.000,2,    0.040,2,    1.586,2,    0.816,2, -999.000,9, -999.000,9, -999.000,9
           NA,    P03W,    289,   1,-999.0,      38,  2,19850519,1754,  24.2283,  144.8300,  5345,   26.200,   24.258,   34.948,2,   34.950,2, -999.000,9,  214.200,2,    1.760,2,    0.000,2,    0.000,2,    0.040,2, -999.000,9, -999.000,9, -999.000,9, -999.000,9, -999.000,9
           NA,    P03W,    289,   1,-999.0,       3,  2,19850519,1754,  24.2283,  144.8300,  5345,   45.600,   23.482,   34.938,2,   34.941,2, -999.000,9,  216.800,2,    1.700,2,    0.000,2,    0.000,2,    0.040,2,    1.611,2,    0.826,2, -999.000,9, -999.000,9, -999.000,9
           NA,    P03W,    289,   1,-999.0,       1,  2,19850519,1754,  24.2283,  144.8300,  5345,   75.900,   21.322,   34.912,2,   34.912,2, -999.000,9,  220.600,2,    1.850,2,    0.000,2,    0.000,2,    0.060,2, -999.000,9, -999.000,9, -999.000,9, -999.000,9, -999.000,9
           NA,    P03W,    289,   1,-999.0,       5,  2,19850519,1754,  24.2283,  144.8300,  5345,  107.100,   19.202,   34.865,2,   34.865,2, -999.000,9,  211.800,2,    2.620,2,    1.600,2,    0.060,2,    0.180,2, -999.000,9,    0.929,2, -999.000,9, -999.000,9, -999.000,9
           NA,    P03W,    289,   1,-999.0,       6,  2,19850519,1754,  24.2283,  144.8300,  5345,  146.400,   17.875,   34.817,2,   34.817,2, -999.000,9,  210.000,2,    3.610,2,    3.400,2,    0.020,2,    0.280,2, -999.000,9,    0.911,2, -999.000,9, -999.000,9, -999.000,9
           NA,    P03W,    289,   1,-999.0,       7,  2,19850519,1754,  24.2283,  144.8300,  5345,  187.200,   17.337,   34.798,2,   34.799,2, -999.000,9,  212.100,2,    3.750,2,    4.000,2,    0.010,2,    0.320,2, -999.000,9,    0.917,2, -999.000,9, -999.000,9, -999.000,9
           NA,    P03W,    289,   1,-999.0,       8,  2,19850519,1754,  24.2283,  144.8300,  5345,  237.800,   16.727,   34.773,2,   34.772,2, -999.000,9,  205.600,2,    4.940,2,    5.470,2,    0.010,2,    0.420,2,    1.707,2,    0.852,2, -999.000,9, -999.000,9, -999.000,9
           NA,    P03W,    289,   1,-999.0,       9,  2,19850519,1754,  24.2283,  144.8300,  5345,  287.600,   16.017,   34.732,2,   34.731,2, -999.000,9,  206.800,2,    6.130,2,    6.500,2,    0.010,2,    0.480,2,    1.682,2,    0.853,2, -999.000,9, -999.000,9, -999.000,9
           NA,    P03W,    289,   1,-999.0,      10,  2,19850519,1754,  24.2283,  144.8300,  5345,  337.900,   15.356,   34.682,2,   34.679,2, -999.000,9,  203.300,2,    7.730,2,    7.870,2,    0.000,2,    0.570,2, -999.000,9, -999.000,9, -999.000,9, -999.000,9, -999.000,9
           NA,    P03W,    289,   1,-999.0,      11,  2,19850519,1754,  24.2283,  144.8300,  5345,  387.900,   14.394,   34.592,2,   34.588,2, -999.000,9,  195.500,2,   11.210,2,    9.980,2,    0.000,2,    0.730,2,    1.450,2,    0.728,2, -999.000,9, -999.000,9, -999.000,9
           NA,    P03W,    289,   1,-999.0,      12,  2,19850519,1754,  24.2283,  144.8300,  5345,  448.800,   12.668,   34.459,2,   34.457,2, -999.000,9,  188.500,2,   17.800,2,   13.580,2,    0.000,2,    0.970,2,    1.282,2,    0.639,2, -999.000,9, -999.000,9, -999.000,9
           NA,    P03W,    289,   1,-999.0,      13,  2,19850519,1754,  24.2283,  144.8300,  5345,  509.000,   10.745,   34.307,2,   34.301,2, -999.000,9,  178.000,2,   26.260,2,   17.780,2,    0.000,2,    1.270,2,    1.090,2,    0.559,2, -999.000,9, -999.000,9, -999.000,9
           NA,    P03W,    289,   1,-999.0,      14,  2,19850519,1754,  24.2283,  144.8300,  5345,  600.000,    7.947,   34.140,2,   34.141,2, -999.000,9,  144.400,2,   44.300,2,   25.590,2,    0.000,2,    1.830,2,    0.690,2,    0.343,2, -999.000,9, -999.000,9, -999.000,9
           NA,    P03W,    289,   1,-999.0,      15,  2,19850519,1754,  24.2283,  144.8300,  5345,  680.200,    6.543,   34.113,2,   34.114,2, -999.000,9,  117.000,2,   61.290,2,   30.820,2,    0.000,2,    2.190,2,    0.453,2,    0.227,2, -999.000,9, -999.000,9, -999.000,9
           NA,    P03W,    289,   1,-999.0,      16,  2,19850519,1754,  24.2283,  144.8300,  5345,  758.900,    5.446,   34.129,2,   34.129,2, -999.000,9,   91.300,2,   77.890,2,   34.930,2,    0.000,2,    2.510,2,    0.320,2,    0.164,2, -999.000,9, -999.000,9, -999.000,9
           NA,    P03W,    289,   1,-999.0,      17,  2,19850519,1754,  24.2283,  144.8300,  5345,  899.700,    4.266,   34.260,2,   34.261,2, -999.000,9,   54.300,2,  106.230,2,   39.870,2,    0.000,2,    2.830,2,    0.072,2,    0.036,2, -999.000,9, -999.000,9, -999.000,9
           NA,    P03W,    289,   1,-999.0,      18,  2,19850519,1754,  24.2283,  144.8300,  5345,  979.700,    4.069,   34.326,2,   34.327,2, -999.000,9,   53.000,2,  111.560,2,   40.590,2,    0.010,2,    2.860,2,    0.033,2,    0.013,2, -999.000,9, -999.000,9, -999.000,9
           NA,    P03W,    289,   1,-999.0,      39,  2,19850519,1754,  24.2283,  144.8300,  5345, 1053.900,    3.713,   34.378,2,   34.378,2, -999.000,9,   51.700,2,  119.420,2,   40.910,2,    0.000,2,    2.900,2,    0.019,2,    0.014,2, -999.000,9, -999.000,9, -999.000,9
           NA,    P03W,    289,   1,-999.0,      20,  2,19850519,1754,  24.2283,  144.8300,  5345, 1196.700,    3.243,   34.438,2,   34.438,2, -999.000,9,   55.200,2,  130.650,2,   41.320,2,    0.000,2,    2.920,2, -999.000,9, -999.000,9, -999.000,9, -999.000,9, -999.000,9
           NA,    P03W,    289,   1,-999.0,      21,  2,19850519,1754,  24.2283,  144.8300,  5345, 1397.700,    2.699,   34.508,2,   34.508,2, -999.000,9,   67.400,2,  142.950,2,   41.050,2,    0.000,2,    2.890,2, -999.000,9, -999.000,9, -999.000,9, -999.000,9, -999.000,9
           NA,    P03W,    289,   1,-999.0,      22,  2,19850519,1754,  24.2283,  144.8300,  5345, 1601.400,    2.394,   34.554,2,   34.554,2, -999.000,9,   83.900,2,  146.190,2,   40.200,2,    0.000,2,    2.800,2, -999.000,9, -999.000,9, -999.000,9, -999.000,9, -999.000,9
           NA,    P03W,    289,   1,-999.0,      23,  2,19850519,1754,  24.2283,  144.8300,  5345, 1804.400,    2.206,   34.585,2,   34.585,2, -999.000,9, -999.000,5,  146.260,2,   39.460,2,    0.000,2,    2.750,2, -999.000,9, -999.000,9, -999.000,9, -999.000,9, -999.000,9
           NA,    P03W,    289,   1,-999.0,      24,  2,19850519,1754,  24.2283,  144.8300,  5345, 2009.600,    2.022,   34.607,2,   34.606,2, -999.000,9,  106.500,2,  148.440,2,   38.720,2,    0.000,2,    2.700,2,   -0.003,2,   -0.003,2, -999.000,9, -999.000,9, -999.000,9
           NA,    P03W,    289,   1,-999.0,      40,  2,19850519,1754,  24.2283,  144.8300,  5345, 2212.100,    1.866,   34.624,2,   34.625,2, -999.000,9,  114.300,2,  150.840,2,   38.660,2,    0.000,2,    2.660,2, -999.000,9, -999.000,9, -999.000,9, -999.000,9, -999.000,9
           NA,    P03W,    289,   1,-999.0,      26,  2,19850519,1754,  24.2283,  144.8300,  5345, 2506.700,    1.733,   34.641,2,   34.640,2, -999.000,9,  125.100,2,  151.960,2,   37.920,2,    0.000,2,    2.640,2, -999.000,9, -999.000,9, -999.000,9, -999.000,9, -999.000,9
           NA,    P03W,    289,   1,-999.0,      27,  2,19850519,1754,  24.2283,  144.8300,  5345, 2810.800,    1.648,   34.653,2,   34.653,2, -999.000,9,  130.400,2,  150.560,2,   37.240,2,    0.000,2,    2.570,2,    0.005,2, -999.000,9, -999.000,9, -999.000,9, -999.000,9
           NA,    P03W,    289,   1,-999.0,      28,  2,19850519,1754,  24.2283,  144.8300,  5345, 3117.300,    1.603,   34.661,2,   34.660,2, -999.000,9,  136.400,2,  150.420,2,   37.230,2,    0.000,2,    2.530,2, -999.000,9, -999.000,9, -999.000,9, -999.000,9, -999.000,9
           NA,    P03W,    289,   1,-999.0,      29,  2,19850519,1754,  24.2283,  144.8300,  5345, 3412.800,    1.548,   34.668,2,   34.667,2, -999.000,9,  142.500,2,  149.860,2,   36.860,2,    0.000,2,    2.520,2, -999.000,9, -999.000,9, -999.000,9, -999.000,9, -999.000,9
           NA,    P03W,    289,   1,-999.0,      30,  2,19850519,1754,  24.2283,  144.8300,  5345, 3721.000,    1.518,   34.673,2,   34.674,2, -999.000,9,  147.700,2,  149.510,2,   36.330,2,    0.000,2,    2.490,2,    0.000,2,   -0.003,2, -999.000,9, -999.000,9, -999.000,9
           NA,    P03W,    289,   1,-999.0,      31,  2,19850519,1754,  24.2283,  144.8300,  5345, 4022.900,    1.502,   34.678,2,   34.678,2, -999.000,9,  152.500,2,  148.950,2,   35.860,2,    0.000,2,    2.420,2, -999.000,9, -999.000,9, -999.000,9, -999.000,9, -999.000,9
           NA,    P03W,    289,   1,-999.0,      32,  2,19850519,1754,  24.2283,  144.8300,  5345, 4334.800,    1.484,   34.682,2,   34.683,2, -999.000,9,  157.700,2,  145.870,2,   35.910,2,    0.000,2,    2.420,2, -999.000,9, -999.000,9, -999.000,9, -999.000,9, -999.000,9
           NA,    P03W,    289,   1,-999.0,      33,  2,19850519,1754,  24.2283,  144.8300,  5345, 4647.800,    1.482,   34.685,2,   34.685,2, -999.000,9,  164.200,2,  143.430,2,   34.920,2,    0.000,2,    2.280,2,   -0.001,2, -999.000,9, -999.000,9, -999.000,9, -999.000,9
           NA,    P03W,    289,   1,-999.0,      34,  2,19850519,1754,  24.2283,  144.8300,  5345, 4948.800,    1.490,   34.688,2,   34.689,2, -999.000,9,  168.200,2,  140.360,2,   34.910,2,    0.010,2,    2.370,2, -999.000,9, -999.000,9, -999.000,9, -999.000,9, -999.000,9
           NA,    P03W,    289,   1,-999.0,      35,  2,19850519,1754,  24.2283,  144.8300,  5345, 5260.200,    1.498,   34.691,2,   34.691,2, -999.000,9,  172.500,2,  135.620,2,   34.690,2,    0.010,2,    2.350,2, -999.000,9, -999.000,9, -999.000,9, -999.000,9, -999.000,9
           NA,    P03W,    289,   1,-999.0,      37,  2,19850519,1754,  24.2283,  144.8300,  5345, 5431.200,    1.511,   34.692,2,   34.692,2, -999.000,9,  173.800,2,  135.900,2,   34.700,2,    0.000,2,    2.330,2,   -0.001,2, -999.000,9, -999.000,9, -999.000,9, -999.000,9