BOTTLE,20203103JOAExport
EXPOCODE,SECT_ID,STNNBR,CASTNO,SAMPNO,BTLNBR,BTLNBR_FLAG_W,DATE,TIME,LATITUDE,LONGITUDE,DEPTH,CTDPRS,CTDTMP,CTDSAL,CTDSAL_FLAG_W,SALNTY,SALNTY_FLAG_W,CTDOXY,CTDOXY_FLAG_W,OXYGEN,OXYGEN_FLAG_W,SILCAT,SILCAT_FLAG_W,NITRAT,NITRAT_FLAG_W,NITRIT,NITRIT_FLAG_W,PHSPHT,PHSPHT_FLAG_W,CFC-11,CFC-11_FLAG_W,CFC-12,CFC-12_FLAG_W,SF6,SF6_FLAG_W,TCARBN,TCARBN_FLAG_W,ALKALI,ALKALI_FLAG_W
,,,,,,,,,,,,,DB,ITS-90,PSS-78,,PSS-78,,UMOL/KG,,UMOL/KG,,UMOL/KG,,UMOL/KG,,UMOL/KG,,UMOL/KG,,PMOL/KG,,PMOL/KG,,FMOL/KG,,UMOL/KG,,UMOL/KG
           NA,    P03E,     38,   1,-999.0,       1,  2,19850404,1450,  27.1517, -126.3783,  4356,    0.700,   17.074,   33.921,2,   33.921,2, -999.000,9,  245.000,2,    1.760,2,    0.150,2,    0.000,2,    0.270,2,    2.171,2,    1.082,2, -999.000,9, -999.000,9, -999.000,9
           NA,    P03E,     38,   1,-999.0,       4,  2,19850404,1450,  27.1517, -126.3783,  4356,   17.800,   17.080,   33.923,2,   33.922,2, -999.000,9,  244.300,2,    1.730,2,    0.150,2,    0.000,2,    0.270,2,    2.170,2,    1.078,2, -999.000,9, -999.000,9, -999.000,9
           NA,    P03E,     38,   1,-999.0,       5,  2,19850404,1450,  27.1517, -126.3783,  4356,   32.900,   17.063,   33.923,2,   33.924,2, -999.000,9,  244.900,2,    1.710,2,    0.140,2,    0.000,2,    0.270,2,    2.197,2,    1.085,2, -999.000,9, -999.000,9, -999.000,9
           NA,    P03E,     38,   1,-999.0,       6,  2,19850404,1450,  27.1517, -126.3783,  4356,   53.300,   17.049,   33.943,2,   33.939,2, -999.000,9,  244.400,2,    1.680,2,    0.140,2,    0.000,2,    0.270,2,    2.194,2,    1.086,2, -999.000,9, -999.000,9, -999.000,9
           NA,    P03E,     38,   1,-999.0,       7,  2,19850404,1450,  27.1517, -126.3783,  4356,   73.700,   17.052,   33.974,2,   33.965,2, -999.000,9,  242.700,2,    1.660,2,    0.130,2,    0.000,2,    0.260,2,    2.166,2,    1.071,2, -999.000,9, -999.000,9, -999.000,9
           NA,    P03E,     38,   1,-999.0,       8,  2,19850404,1450,  27.1517, -126.3783,  4356,   93.900,   16.888,   34.049,2,   34.051,2, -999.000,9,  237.600,2,    2.210,2,    0.170,2,    0.010,2,    0.290,2,    2.149,2,    1.068,2, -999.000,9, -999.000,9, -999.000,9
           NA,    P03E,     38,   1,-999.0,       9,  2,19850404,1450,  27.1517, -126.3783,  4356,  124.200,   14.492,   33.857,2,   33.850,2, -999.000,9,  216.600,2,    4.720,2,    3.790,2,    0.050,2,    0.550,2,    2.165,2,    1.059,2, -999.000,9, -999.000,9, -999.000,9
           NA,    P03E,     38,   1,-999.0,      10,  2,19850404,1450,  27.1517, -126.3783,  4356,  154.800,   12.435,   33.754,2,   33.768,2, -999.000,9,  192.700,2,    9.750,2,   10.250,2,    0.010,2,    0.940,2,    2.020,2,    0.988,2, -999.000,9, -999.000,9, -999.000,9
           NA,    P03E,     38,   1,-999.0,      11,  2,19850404,1450,  27.1517, -126.3783,  4356,  195.000,   10.324,   33.844,2,   33.869,2, -999.000,9,  153.300,2,   21.010,2,   19.630,2,    0.010,2,    1.530,2,    1.521,2,    0.744,2, -999.000,9, -999.000,9, -999.000,9
           NA,    P03E,     38,   1,-999.0,      12,  2,19850404,1450,  27.1517, -126.3783,  4356,  235.000,    9.841,   34.099,2,   34.112,2, -999.000,9,  102.400,2,   30.310,2,   25.550,2,    0.010,2,    2.010,2,    0.836,6,    0.406,6, -999.000,9, -999.000,9, -999.000,9
           NA,    P03E,     38,   1,-999.0,      13,  2,19850404,1450,  27.1517, -126.3783,  4356,  285.900,    8.708,   34.138,2,   34.132,2, -999.000,9,   98.400,2,   38.050,2,   28.050,2,    0.010,2,    2.140,2,    0.589,2,    0.293,2, -999.000,9, -999.000,9, -999.000,9
           NA,    P03E,     38,   1,-999.0,      14,  2,19850404,1450,  27.1517, -126.3783,  4356,  336.700,    7.786,   34.131,2,   34.131,2, -999.000,9,   81.400,2,   47.150,2,   31.460,2,    0.010,2,    2.360,2,    0.328,2,    0.168,2, -999.000,9, -999.000,9, -999.000,9
           NA,    P03E,     38,   1,-999.0,      15,  2,19850404,1450,  27.1517, -126.3783,  4356,  396.200,    7.226,   34.175,2,   34.186,2, -999.000,9,   53.900,2,   56.440,2,   34.480,2,    0.000,2,    2.630,2,    0.134,6,    0.074,6, -999.000,9, -999.000,9, -999.000,9
           NA,    P03E,     38,   1,-999.0,      16,  2,19850404,1450,  27.1517, -126.3783,  4356,  456.600,    7.063,   34.300,2,   34.298,2, -999.000,9,   24.300,2,   64.960,2,   36.790,2,    0.010,2,    2.890,2,    0.024,2,    0.004,2, -999.000,9, -999.000,9, -999.000,9
           NA,    P03E,     38,   1,-999.0,      17,  2,19850404,1450,  27.1517, -126.3783,  4356,  526.500,    5.746,   34.210,2,   34.211,2, -999.000,9,   27.300,2,   78.540,2,   40.460,2,    0.000,2,    2.980,2,    0.024,2,    0.010,2, -999.000,9, -999.000,9, -999.000,9
           NA,    P03E,     38,   1,-999.0,      18,  2,19850404,1450,  27.1517, -126.3783,  4356,  607.400,    5.256,   34.285,2,   34.286,2, -999.000,9,   16.500,2,   89.780,2,   42.530,2,    0.000,2,    3.100,2,   -0.004,2,   -0.004,2, -999.000,9, -999.000,9, -999.000,9
           NA,    P03E,     38,   1,-999.0,      19,  2,19850404,1450,  27.1517, -126.3783,  4356,  708.800,    4.851,   34.373,2,   34.371,2, -999.000,9,   15.300,2,   98.300,2,   43.730,2,    0.000,2,    3.160,2,   -0.005,2,   -0.002,2, -999.000,9, -999.000,9, -999.000,9
           NA,    P03E,     38,   1,-999.0,      20,  2,19850404,1450,  27.1517, -126.3783,  4356,  809.700,    4.542,   34.430,2,   34.430,2, -999.000,9,   19.800,2,  103.890,2,   44.290,2,    0.000,2,    3.160,2, -999.000,9, -999.000,9, -999.000,9, -999.000,9, -999.000,9
           NA,    P03E,     38,   1,-999.0,      21,  2,19850404,1450,  27.1517, -126.3783,  4356,  910.600,    4.259,   34.466,2,   34.467,2, -999.000,9,   25.200,2,  109.100,2,   44.590,2,    0.000,2,    3.160,2,   -0.005,2,   -0.001,2, -999.000,9, -999.000,9, -999.000,9
           NA,    P03E,     38,   1,-999.0,      22,  2,19850404,1450,  27.1517, -126.3783,  4356, 1012.000,    3.954,   34.495,2,   34.494,2, -999.000,9,   29.600,2,  115.080,2,   44.580,2,    0.000,2,    3.150,2, -999.000,9, -999.000,9, -999.000,9, -999.000,9, -999.000,9
           NA,    P03E,     38,   1,-999.0,      23,  2,19850404,1450,  27.1517, -126.3783,  4356, 1112.000,    3.691,   34.513,2,   34.514,2, -999.000,9,   32.600,2,  121.660,2,   44.510,2,    0.010,2,    3.150,2,   -0.007,2,   -0.006,2, -999.000,9, -999.000,9, -999.000,9
           NA,    P03E,     38,   1,-999.0,      24,  2,19850404,1450,  27.1517, -126.3783,  4356, 1263.300,    3.339,   34.538,2,   34.539,2, -999.000,9,   35.300,2,  131.170,2,   44.290,2,    0.000,2,    3.120,2, -999.000,9, -999.000,9, -999.000,9, -999.000,9, -999.000,9
           NA,    P03E,     38,   1,-999.0,      25,  2,19850404,1450,  27.1517, -126.3783,  4356, 1415.400,    3.029,   34.557,2,   34.559,2, -999.000,9,   46.400,2,  138.920,2,   43.960,2,    0.000,2,    3.090,2, -999.000,9,   -0.003,6, -999.000,9, -999.000,9, -999.000,9
           NA,    P03E,     38,   1,-999.0,      26,  2,19850404,1450,  27.1517, -126.3783,  4356, 1617.500,    2.640,   34.584,2,   34.585,2, -999.000,9,   58.100,2,  148.250,2,   43.100,2,    0.000,2,    3.010,2, -999.000,9, -999.000,9, -999.000,9, -999.000,9, -999.000,9
           NA,    P03E,     38,   1,-999.0,      27,  2,19850404,1450,  27.1517, -126.3783,  4356, 1818.900,    2.347,   34.610,2,   34.611,2, -999.000,9,   72.200,2,  154.050,2,   42.360,2,    0.000,2,    2.940,2, -999.000,9, -999.000,9, -999.000,9, -999.000,9, -999.000,9
           NA,    P03E,     38,   1,-999.0,      28,  2,19850404,1450,  27.1517, -126.3783,  4356, 2021.900,    2.131,   34.625,2,   34.625,2, -999.000,9,   83.600,2,  159.150,2,   41.500,2,    0.000,2,    2.860,2,   -0.006,2,   -0.005,2, -999.000,9, -999.000,9, -999.000,9
           NA,    P03E,     38,   1,-999.0,      29,  2,19850404,1450,  27.1517, -126.3783,  4356, 2224.100,    1.963,   34.639,2,   34.639,2, -999.000,9,   93.300,2,  161.660,2,   40.860,2,    0.000,2,    2.810,2, -999.000,9, -999.000,9, -999.000,9, -999.000,9, -999.000,9
           NA,    P03E,     38,   1,-999.0,      30,  2,19850404,1450,  27.1517, -126.3783,  4356, 2528.500,    1.796,   34.651,2,   34.651,2, -999.000,9,  104.300,2,  165.470,2,   40.250,2,    0.000,2,    2.750,2, -999.000,9, -999.000,9, -999.000,9, -999.000,9, -999.000,9
           NA,    P03E,     38,   1,-999.0,      31,  2,19850404,1450,  27.1517, -126.3783,  4356, 2834.300,    1.651,   34.660,2,   34.661,2, -999.000,9,  114.700,2,  167.660,2,   39.460,2,    0.000,2,    2.680,2, -999.000,9, -999.000,9, -999.000,9, -999.000,9, -999.000,9
           NA,    P03E,     38,   1,-999.0,      32,  2,19850404,1450,  27.1517, -126.3783,  4356, 3139.200,    1.567,   34.668,2,   34.667,2, -999.000,9,  123.300,2,  168.560,2,   38.830,2,    0.000,2,    2.640,2, -999.000,9,    0.002,2, -999.000,9, -999.000,9, -999.000,9
           NA,    P03E,     38,   1,-999.0,      33,  2,19850404,1450,  27.1517, -126.3783,  4356, 3444.000,    1.512,   34.675,2,   34.675,2, -999.000,9,  132.700,2,  168.670,2,   38.310,2,    0.000,2,    2.590,2, -999.000,9, -999.000,9, -999.000,9, -999.000,9, -999.000,9
           NA,    P03E,     38,   1,-999.0,      34,  2,19850404,1450,  27.1517, -126.3783,  4356, 3746.700,    1.508,   34.678,2,   34.677,2, -999.000,9,  136.200,2,  167.410,2,   38.040,2,    0.000,2,    2.580,2, -999.000,9, -999.000,9, -999.000,9, -999.000,9, -999.000,9
           NA,    P03E,     38,   1,-999.0,      35,  2,19850404,1450,  27.1517, -126.3783,  4356, 4054.500,    1.520,   34.681,2,   34.679,2, -999.000,9,  138.700,2,  165.370,2,   37.780,2,    0.000,2,    2.550,2, -999.000,9, -999.000,9, -999.000,9, -999.000,9, -999.000,9
           NA,    P03E,     38,   1,-999.0,      36,  2,19850404,1450,  27.1517, -126.3783,  4356, 4396.900,    1.552,   34.682,2,   34.680,2, -999.000,9,  142.100,2,  164.900,2,   37.710,2,    0.010,2,    2.540,2,   -0.002,2,    0.000,2, -999.000,9, -999.000,9, -999.000,9
           NA,    P03E,     36,   1,-999.0,       1,  2,19850404,0724,  27.5967, -125.7617,  3990,    0.800,   16.756,   33.828,2,   33.834,2, -999.000,9,  247.100,2,    3.000,2,    0.040,2,    0.000,2,    0.390,2, -999.000,9, -999.000,9, -999.000,9, -999.000,9, -999.000,9
           NA,    P03E,     36,   1,-999.0,       4,  2,19850404,0724,  27.5967, -125.7617,  3990,   19.200,   16.684,   33.808,2,   33.807,2, -999.000,9,  247.600,2,    2.950,2,    0.000,2,    0.000,2,    0.290,2, -999.000,9, -999.000,9, -999.000,9, -999.000,9, -999.000,9
           NA,    P03E,     36,   1,-999.0,       5,  2,19850404,0724,  27.5967, -125.7617,  3990,   34.000,   16.535,   33.775,2,   33.781,2, -999.000,9,  248.000,2,    2.900,2,    0.000,2,    0.000,2,    0.280,2, -999.000,9, -999.000,9, -999.000,9, -999.000,9, -999.000,9
           NA,    P03E,     36,   1,-999.0,       6,  2,19850404,0724,  27.5967, -125.7617,  3990,   53.800,   16.460,   33.770,2,   33.774,2, -999.000,9,  248.000,2,    2.660,2,    0.000,2,    0.000,2,    0.280,2, -999.000,9, -999.000,9, -999.000,9, -999.000,9, -999.000,9
           NA,    P03E,     36,   1,-999.0,       7,  2,19850404,0724,  27.5967, -125.7617,  3990,   73.900,   16.244,   33.737,2,   33.745,2, -999.000,9,  249.300,2,    2.610,2,    0.000,2,    0.000,2,    0.280,2, -999.000,9, -999.000,9, -999.000,9, -999.000,9, -999.000,9
           NA,    P03E,     36,   1,-999.0,       8,  2,19850404,0724,  27.5967, -125.7617,  3990,   94.100,   16.096,   33.728,2,   33.734,2, -999.000,9,  249.300,2,    2.560,2,    0.000,2,    0.000,2,    0.280,2, -999.000,9, -999.000,9, -999.000,9, -999.000,9, -999.000,9
           NA,    P03E,     36,   1,-999.0,       9,  2,19850404,0724,  27.5967, -125.7617,  3990,  124.900,   14.449,   33.798,2,   33.830,2, -999.000,9,  223.900,2,    2.510,2,    2.810,2,    0.050,2,    0.490,2, -999.000,9, -999.000,9, -999.000,9, -999.000,9, -999.000,9
           NA,    P03E,     36,   1,-999.0,      10,  2,19850404,0724,  27.5967, -125.7617,  3990,  155.200,   12.697,   33.743,2,   33.751,2, -999.000,9,  219.100,2,    7.010,2,    6.780,2,    0.010,2,    0.700,2, -999.000,9, -999.000,9, -999.000,9, -999.000,9, -999.000,9
           NA,    P03E,     36,   1,-999.0,      11,  2,19850404,0724,  27.5967, -125.7617,  3990,  195.400,   10.738,   33.923,2,   33.940,2, -999.000,9,  128.800,2,   23.750,2,   21.350,2,    0.000,2,    1.690,2, -999.000,9, -999.000,9, -999.000,9, -999.000,9, -999.000,9
           NA,    P03E,     36,   1,-999.0,      12,  2,19850404,0724,  27.5967, -125.7617,  3990,  235.200,   10.160,   34.082,2,   34.089,2, -999.000,9,  101.400,2,   30.010,2,   25.130,2,    0.000,2,    1.990,2, -999.000,9, -999.000,9, -999.000,9, -999.000,9, -999.000,9
           NA,    P03E,     36,   1,-999.0,      13,  2,19850404,0724,  27.5967, -125.7617,  3990,  285.500,    9.229,   34.234,2,   34.238,2, -999.000,9,   72.200,2,   39.630,2,   28.960,2,    0.010,2,    2.300,2, -999.000,9, -999.000,9, -999.000,9, -999.000,9, -999.000,9
           NA,    P03E,     36,   1,-999.0,      14,  2,19850404,0724,  27.5967, -125.7617,  3990,  336.100,    8.292,   34.268,2,   34.262,2, -999.000,9,   51.300,2,   49.640,2,   32.220,2,    0.000,2,    2.540,2, -999.000,9, -999.000,9, -999.000,9, -999.000,9, -999.000,9
           NA,    P03E,     36,   1,-999.0,      15,  2,19850404,0724,  27.5967, -125.7617,  3990,  396.600,    7.445,   34.265,2,   34.270,2, -999.000,9,   37.400,2,   58.070,2,   35.030,2,    0.000,2,    2.750,2, -999.000,9, -999.000,9, -999.000,9, -999.000,9, -999.000,9
           NA,    P03E,     36,   1,-999.0,      16,  2,19850404,0724,  27.5967, -125.7617,  3990,  456.900,    6.121,   34.128,2,   34.133,2, -999.000,9,   47.000,2,   69.470,2,   38.500,2,    0.000,2,    2.780,2, -999.000,9, -999.000,9, -999.000,9, -999.000,9, -999.000,9
           NA,    P03E,     36,   1,-999.0,      17,  2,19850404,0724,  27.5967, -125.7617,  3990,  527.300,    5.639,   34.202,2,   34.209,2, -999.000,9,   27.000,2,   80.660,2,   41.040,2,    0.000,2,    2.980,2, -999.000,9, -999.000,9, -999.000,9, -999.000,9, -999.000,9
           NA,    P03E,     36,   1,-999.0,      18,  2,19850404,0724,  27.5967, -125.7617,  3990,  608.200,    5.405,   34.305,2,   34.308,2, -999.000,9,   15.200,2,   88.100,2,   42.440,2,    0.000,2,    3.090,2, -999.000,9, -999.000,9, -999.000,9, -999.000,9, -999.000,9
           NA,    P03E,     36,   1,-999.0,      19,  2,19850404,0724,  27.5967, -125.7617,  3990,  708.900,    4.970,   34.377,2,   34.379,2, -999.000,9,   14.800,2,   96.130,2,   43.710,2,    0.000,2,    3.160,2, -999.000,9, -999.000,9, -999.000,9, -999.000,9, -999.000,9
           NA,    P03E,     36,   1,-999.0,      20,  2,19850404,0724,  27.5967, -125.7617,  3990,  809.600,    4.670,   34.424,2,   34.428,2, -999.000,9,   17.000,2,  102.780,2,   44.550,2,    0.000,2,    3.170,2, -999.000,9, -999.000,9, -999.000,9, -999.000,9, -999.000,9
           NA,    P03E,     36,   1,-999.0,      21,  2,19850404,0724,  27.5967, -125.7617,  3990,  909.400,    4.350,   34.453,2,   34.457,2, -999.000,9,   21.700,2,  109.230,2,   44.810,2,    0.000,2,    3.160,2, -999.000,9, -999.000,9, -999.000,9, -999.000,9, -999.000,9
           NA,    P03E,     36,   1,-999.0,      22,  2,19850404,0724,  27.5967, -125.7617,  3990, 1010.000,    4.027,   34.486,2,   34.489,2, -999.000,9,   26.100,2,  116.080,2,   45.020,2,    0.000,2,    3.160,2, -999.000,9, -999.000,9, -999.000,9, -999.000,9, -999.000,9
           NA,    P03E,     36,   1,-999.0,      23,  2,19850404,0724,  27.5967, -125.7617,  3990, 1111.100,    3.771,   34.506,2,   34.509,2, -999.000,9,   30.900,2,  122.130,2,   45.020,2,    0.000,2,    3.160,2, -999.000,9, -999.000,9, -999.000,9, -999.000,9, -999.000,9
           NA,    P03E,     36,   1,-999.0,      24,  2,19850404,0724,  27.5967, -125.7617,  3990, 1263.700,    3.410,   34.530,2,   34.533,2, -999.000,9,   37.800,2,  132.160,2,   44.690,2,    0.000,2,    3.120,2, -999.000,9, -999.000,9, -999.000,9, -999.000,9, -999.000,9
           NA,    P03E,     36,   1,-999.0,      25,  2,19850404,0724,  27.5967, -125.7617,  3990, 1415.500,    3.091,   34.552,2,   34.555,2, -999.000,9,   44.300,2,  140.410,2,   44.470,2,    0.000,2,    3.090,2, -999.000,9, -999.000,9, -999.000,9, -999.000,9, -999.000,9
           NA,    P03E,     36,   1,-999.0,      26,  2,19850404,0724,  27.5967, -125.7617,  3990, 1617.600,    2.694,   34.579,2,   34.583,2, -999.000,9,   56.100,2,  149.850,2,   43.730,2,    0.000,2,    3.010,2, -999.000,9, -999.000,9, -999.000,9, -999.000,9, -999.000,9
           NA,    P03E,     36,   1,-999.0,      27,  2,19850404,0724,  27.5967, -125.7617,  3990, 1819.500,    2.359,   34.604,2,   34.607,2, -999.000,9,   70.000,2,  156.520,2,   42.930,2,    0.000,2,    2.920,2, -999.000,9, -999.000,9, -999.000,9, -999.000,9, -999.000,9
           NA,    P03E,     36,   1,-999.0,      28,  2,19850404,0724,  27.5967, -125.7617,  3990, 2021.700,    2.117,   34.624,2,   34.627,2, -999.000,9,   83.400,2,  159.800,2,   41.980,2,    0.000,2,    2.860,2, -999.000,9, -999.000,9, -999.000,9, -999.000,9, -999.000,9
           NA,    P03E,     36,   1,-999.0,      29,  2,19850404,0724,  27.5967, -125.7617,  3990, 2225.100,    1.961,   34.637,2,   34.639,2, -999.000,9,   93.400,2,  163.480,2,   41.290,2,    0.000,2,    2.800,2, -999.000,9, -999.000,9, -999.000,9, -999.000,9, -999.000,9
           NA,    P03E,     36,   1,-999.0,      30,  2,19850404,0724,  27.5967, -125.7617,  3990, 2528.600,    1.789,   34.651,2,   34.653,2, -999.000,9,  105.200,2,  166.560,2,   40.770,2,    0.000,2,    2.730,2, -999.000,9, -999.000,9, -999.000,9, -999.000,9, -999.000,9
           NA,    P03E,     36,   1,-999.0,      31,  2,19850404,0724,  27.5967, -125.7617,  3990, 2832.600,    1.646,   34.660,2,   34.663,2, -999.000,9,  116.000,2,  169.250,2,   39.830,2,    0.000,2,    2.670,2, -999.000,9, -999.000,9, -999.000,9, -999.000,9, -999.000,9
           NA,    P03E,     36,   1,-999.0,      32,  2,19850404,0724,  27.5967, -125.7617,  3990, 3137.600,    1.567,   34.668,2,   34.668,2, -999.000,9,  123.000,2,  169.740,2,   39.310,2,    0.000,2,    2.630,2, -999.000,9, -999.000,9, -999.000,9, -999.000,9, -999.000,9
           NA,    P03E,     36,   1,-999.0,      33,  2,19850404,0724,  27.5967, -125.7617,  3990, 3444.100,    1.517,   34.673,2,   34.675,2, -999.000,9,  131.700,2,  170.230,2,   38.850,2,    0.000,2,    2.590,2, -999.000,9, -999.000,9, -999.000,9, -999.000,9, -999.000,9
           NA,    P03E,     36,   1,-999.0,      34,  2,19850404,0724,  27.5967, -125.7617,  3990, 3750.100,    1.499,   34.680,2,   34.680,2, -999.000,9,  138.200,2,  168.730,2,   38.380,2,    0.000,2,    2.540,2, -999.000,9, -999.000,9, -999.000,9, -999.000,9, -999.000,9
           NA,    P03E,     36,   1,-999.0,      35,  2,19850404,0724,  27.5967, -125.7617,  3990, 4056.700,    1.519,   34.682,2,   34.681,2, -999.000,9,  140.800,2,  167.630,2,   38.270,2,    0.000,2,    2.540,2, -999.000,9, -999.000,9, -999.000,9, -999.000,9, -999.000,9
           NA,    P03E,     36,   1,-999.0,      36,  2,19850404,0724,  27.5967, -125.7617,  3990, 4260.700,    1.541,   34.681,2,   34.680,2, -999.000,9,  139.900,2,  167.730,2,   38.220,2,    0.000,2,    2.530,2, -999.000,9, -999.000,9, -999.000,9, -999.000,9, -999.000,9