BOTTLE,20203103JOAExport
EXPOCODE,SECT_ID,STNNBR,CASTNO,SAMPNO,BTLNBR,BTLNBR_FLAG_W,DATE,TIME,LATITUDE,LONGITUDE,DEPTH,CTDPRS,CTDTMP,CTDSAL,CTDSAL_FLAG_W,SALNTY,SALNTY_FLAG_W,CTDOXY,CTDOXY_FLAG_W,OXYGEN,OXYGEN_FLAG_W,SILCAT,SILCAT_FLAG_W,NITRAT,NITRAT_FLAG_W,NITRIT,NITRIT_FLAG_W,PHSPHT,PHSPHT_FLAG_W,CFC-11,CFC-11_FLAG_W,CFC-12,CFC-12_FLAG_W,SF6,SF6_FLAG_W,TCARBN,TCARBN_FLAG_W,ALKALI,ALKALI_FLAG_W
,,,,,,,,,,,,,DB,ITS-90,PSS-78,,PSS-78,,UMOL/KG,,UMOL/KG,,UMOL/KG,,UMOL/KG,,UMOL/KG,,UMOL/KG,,PMOL/KG,,PMOL/KG,,FMOL/KG,,UMOL/KG,,UMOL/KG
           NA,    P03W,    345,   1,-999.0,       5,  2,19850527,1925,  24.2600,  129.2883,  4358,    0.000,   25.104,   34.851,2,   34.856,2, -999.000,9,  210.600,2,    2.010,2,    0.040,2,    0.000,2,    0.020,2,    1.535,2,    0.807,2, -999.000,9, -999.000,9, -999.000,9
           NA,    P03W,    345,   1,-999.0,      38,  2,19850527,1925,  24.2600,  129.2883,  4358,   24.200,   24.790,   34.835,2,   34.838,2, -999.000,9,  211.000,2,    1.990,2,    0.040,2,    0.000,2,    0.010,2,    1.540,2,    0.820,2, -999.000,9, -999.000,9, -999.000,9
           NA,    P03W,    345,   1,-999.0,       3,  2,19850527,1925,  24.2600,  129.2883,  4358,   44.700,   23.006,   34.854,2,   34.855,2, -999.000,9,  223.600,2,    1.960,2,    0.040,2,    0.000,2,    0.010,2, -999.000,9, -999.000,9, -999.000,9, -999.000,9, -999.000,9
           NA,    P03W,    345,   1,-999.0,       4,  2,19850527,1925,  24.2600,  129.2883,  4358,   75.000,   21.544,   34.869,2,   34.871,2, -999.000,9,  227.300,2,    1.940,2,    0.040,2,    0.000,2,    0.020,2,    1.720,2,    0.888,2, -999.000,9, -999.000,9, -999.000,9
           NA,    P03W,    345,   1,-999.0,       1,  2,19850527,1925,  24.2600,  129.2883,  4358,  105.400,   20.457,   34.858,2,   34.857,2, -999.000,9,  223.100,2,    2.140,2,    0.030,2,    0.000,2,    0.040,2, -999.000,9, -999.000,9, -999.000,9, -999.000,9, -999.000,9
           NA,    P03W,    345,   1,-999.0,       6,  2,19850527,1925,  24.2600,  129.2883,  4358,  145.500,   19.409,   34.851,2,   34.853,2, -999.000,9,  213.000,2,    2.330,2,    1.380,2,    0.040,2,    0.130,2,    1.783,2,    0.914,2, -999.000,9, -999.000,9, -999.000,9
           NA,    P03W,    345,   1,-999.0,       7,  2,19850527,1925,  24.2600,  129.2883,  4358,  184.600,   18.557,   34.844,2,   34.846,2, -999.000,9,  206.800,2,    3.400,2,    2.970,2,    0.020,2,    0.220,2,    1.743,6,    0.888,6, -999.000,9, -999.000,9, -999.000,9
           NA,    P03W,    345,   1,-999.0,       8,  2,19850527,1925,  24.2600,  129.2883,  4358,  234.400,   17.620,   34.818,2,   34.819,2, -999.000,9,  207.100,2,    4.030,2,    4.460,2,    0.000,2,    0.320,2,    1.696,2,    0.863,2, -999.000,9, -999.000,9, -999.000,9
           NA,    P03W,    345,   1,-999.0,       9,  2,19850527,1925,  24.2600,  129.2883,  4358,  282.400,   16.929,   34.788,2,   34.788,2, -999.000,9,  207.000,2,    4.440,2,    5.020,2,    0.000,2,    0.350,2, -999.000,9, -999.000,9, -999.000,9, -999.000,9, -999.000,9
           NA,    P03W,    345,   1,-999.0,      10,  2,19850527,1925,  24.2600,  129.2883,  4358,  333.000,   16.261,   34.757,2,   34.758,2, -999.000,9,  213.300,2,    5.280,2,    5.480,2,    0.000,2,    0.380,2,    1.739,2,    0.890,2, -999.000,9, -999.000,9, -999.000,9
           NA,    P03W,    345,   1,-999.0,      11,  2,19850527,1925,  24.2600,  129.2883,  4358,  383.500,   15.788,   34.726,2,   34.727,2, -999.000,9,  212.300,2,    6.350,2,    6.400,2,    0.000,2,    0.440,2, -999.000,9, -999.000,9, -999.000,9, -999.000,9, -999.000,9
           NA,    P03W,    345,   1,-999.0,      12,  2,19850527,1925,  24.2600,  129.2883,  4358,  444.300,   14.957,   34.649,2,   34.650,2, -999.000,9,  200.600,2,    9.590,2,    8.760,2,    0.000,2,    0.590,2,    1.529,2,    0.776,2, -999.000,9, -999.000,9, -999.000,9
           NA,    P03W,    345,   1,-999.0,      13,  2,19850527,1925,  24.2600,  129.2883,  4358,  506.200,   13.621,   34.528,2,   34.526,2, -999.000,9,  185.600,2,   14.780,2,   12.060,2,    0.000,2,    0.810,2,    1.264,2,    0.628,2, -999.000,9, -999.000,9, -999.000,9
           NA,    P03W,    345,   1,-999.0,      14,  2,19850527,1925,  24.2600,  129.2883,  4358,  567.500,   12.200,   34.415,2,   34.414,2, -999.000,9,  182.500,2,   19.530,2,   14.760,2,    0.000,2,    0.990,2,    1.173,2,    0.576,2, -999.000,9, -999.000,9, -999.000,9
           NA,    P03W,    345,   1,-999.0,      15,  2,19850527,1925,  24.2600,  129.2883,  4358,  648.500,   10.144,   34.273,2, -999.000,5, -999.000,9,  169.800,2,   30.150,2,   19.460,2,    0.000,2,    1.340,2,    0.967,2,    0.460,2, -999.000,9, -999.000,9, -999.000,9
           NA,    P03W,    345,   1,-999.0,      16,  2,19850527,1925,  24.2600,  129.2883,  4358,  729.900,    8.132,   34.168,2, -999.000,5, -999.000,9,  146.900,2,   45.570,2,   24.870,2,    0.000,2,    1.750,2,    0.739,2,    0.364,2, -999.000,9, -999.000,9, -999.000,9
           NA,    P03W,    345,   1,-999.0,      17,  2,19850527,1925,  24.2600,  129.2883,  4358,  808.600,    6.050,   34.145,2,   34.144,2, -999.000,9,  106.400,2,   71.480,2,   32.460,2,    0.000,2,    2.240,2,    0.420,2,    0.205,2, -999.000,9, -999.000,9, -999.000,9
           NA,    P03W,    345,   1,-999.0,      18,  2,19850527,1925,  24.2600,  129.2883,  4358,  907.300,    5.036,   34.202,2,   34.200,2, -999.000,9,   76.800,2,   90.260,2,   36.950,2,    0.000,2,    2.550,2, -999.000,9,    0.086,2, -999.000,9, -999.000,9, -999.000,9
           NA,    P03W,    345,   1,-999.0,      23,  2,19850527,1925,  24.2600,  129.2883,  4358, 1059.600,    4.102,   34.336,2,   34.336,2, -999.000,9,   57.500,2,  111.100,2,   40.250,2,    0.000,2,    2.790,2,    0.027,2,    0.007,2, -999.000,9, -999.000,9, -999.000,9
           NA,    P03W,    345,   1,-999.0,      20,  2,19850527,1925,  24.2600,  129.2883,  4358, 1211.800,    3.537,   34.413,2,   34.413,2, -999.000,9,   59.400,2,  124.070,2,   40.740,2,    0.000,2,    2.800,2, -999.000,9, -999.000,9, -999.000,9, -999.000,9, -999.000,9
           NA,    P03W,    345,   1,-999.0,      21,  2,19850527,1925,  24.2600,  129.2883,  4358, 1414.700,    3.008,   34.491,2,   34.492,2, -999.000,9,   76.400,2,  133.520,2,   40.180,2,    0.000,2,    2.750,2,    0.003,2,    0.010,2, -999.000,9, -999.000,9, -999.000,9
           NA,    P03W,    345,   1,-999.0,      22,  2,19850527,1925,  24.2600,  129.2883,  4358, 1618.200,    2.555,   34.541,2,   34.540,2, -999.000,9,   87.300,2,  140.990,2,   39.770,2,    0.000,2,    2.720,2, -999.000,9, -999.000,9, -999.000,9, -999.000,9, -999.000,9
           NA,    P03W,    345,   1,-999.0,      39,  2,19850527,1925,  24.2600,  129.2883,  4358, 1820.000,    2.312,   34.569,2,   34.570,2, -999.000,9,   97.500,2,  144.010,2,   39.310,2,    0.000,2,    2.670,2, -999.000,9, -999.000,9, -999.000,9, -999.000,9, -999.000,9
           NA,    P03W,    345,   1,-999.0,      24,  2,19850527,1925,  24.2600,  129.2883,  4358, 2021.900,    2.081,   34.603,2,   34.604,2, -999.000,9,  110.700,2,  145.910,2,   38.700,2,    0.000,2,    2.630,2,   -0.002,2,   -0.003,2, -999.000,9, -999.000,9, -999.000,9
           NA,    P03W,    345,   1,-999.0,      40,  2,19850527,1925,  24.2600,  129.2883,  4358, 2224.900,    1.932,   34.623,2,   34.623,2, -999.000,9,  120.800,2,  145.800,2,   38.150,2,    0.000,2,    2.610,2, -999.000,9, -999.000,9, -999.000,9, -999.000,9, -999.000,9
           NA,    P03W,    345,   1,-999.0,      26,  2,19850527,1925,  24.2600,  129.2883,  4358, 2428.200,    1.835,   34.637,2,   34.637,2, -999.000,9,  127.700,2,  145.910,2,   37.750,2,    0.000,2,    2.540,2, -999.000,9, -999.000,9, -999.000,9, -999.000,9, -999.000,9
           NA,    P03W,    345,   1,-999.0,      27,  2,19850527,1925,  24.2600,  129.2883,  4358, 2630.500,    1.741,   34.647,2,   34.648,2, -999.000,9,  133.700,2,  145.800,2,   37.240,2,    0.000,2,    2.510,2, -999.000,9, -999.000,9, -999.000,9, -999.000,9, -999.000,9
           NA,    P03W,    345,   1,-999.0,      28,  2,19850527,1925,  24.2600,  129.2883,  4358, 2832.600,    1.674,   34.656,2,   34.655,2, -999.000,9,  137.900,2,  144.800,2,   36.890,2,    0.000,2,    2.480,2, -999.000,9, -999.000,9, -999.000,9, -999.000,9, -999.000,9
           NA,    P03W,    345,   1,-999.0,      29,  2,19850527,1925,  24.2600,  129.2883,  4358, 3035.300,    1.643,   34.660,2,   34.659,2, -999.000,9,  141.000,2,  144.910,2,   36.830,2,    0.000,2,    2.470,2,   -0.003,2,   -0.004,2, -999.000,9, -999.000,9, -999.000,9
           NA,    P03W,    345,   1,-999.0,      30,  2,19850527,1925,  24.2600,  129.2883,  4358, 3237.700,    1.596,   34.666,2,   34.666,2, -999.000,9,  147.400,2,  144.580,2,   36.530,2,    0.000,2,    2.440,2, -999.000,9, -999.000,9, -999.000,9, -999.000,9, -999.000,9
           NA,    P03W,    345,   1,-999.0,      31,  2,19850527,1925,  24.2600,  129.2883,  4358, 3440.800,    1.579,   34.670,2,   34.670,2, -999.000,9,  147.700,2,  144.470,2,   36.480,2,    0.000,2,    2.430,2, -999.000,9, -999.000,9, -999.000,9, -999.000,9, -999.000,9
           NA,    P03W,    345,   1,-999.0,      32,  2,19850527,1925,  24.2600,  129.2883,  4358, 3643.600,    1.570,   34.672,2,   34.671,2, -999.000,9,  150.200,2,  145.030,2,   36.220,2,    0.000,2,    2.430,2, -999.000,9, -999.000,9, -999.000,9, -999.000,9, -999.000,9
           NA,    P03W,    345,   1,-999.0,      33,  2,19850527,1925,  24.2600,  129.2883,  4358, 3843.600,    1.574,   34.674,2,   34.674,2, -999.000,9,  151.900,2,  144.250,2,   36.270,2,    0.000,2,    2.450,2, -999.000,9, -999.000,9, -999.000,9, -999.000,9, -999.000,9
           NA,    P03W,    345,   1,-999.0,      34,  2,19850527,1925,  24.2600,  129.2883,  4358, 4037.100,    1.582,   34.675,2,   34.675,2, -999.000,9,  152.100,2,  143.040,2,   36.210,2,    0.000,2,    2.430,2,   -0.004,2,   -0.007,2, -999.000,9, -999.000,9, -999.000,9
           NA,    P03W,    345,   1,-999.0,      35,  2,19850527,1925,  24.2600,  129.2883,  4358, 4240.300,    1.589,   34.677,2,   34.677,2, -999.000,9,  154.500,2,  142.710,2,   36.160,2,    0.000,2,    2.440,2, -999.000,9, -999.000,9, -999.000,9, -999.000,9, -999.000,9
           NA,    P03W,    345,   1,-999.0,      37,  2,19850527,1925,  24.2600,  129.2883,  4358, 4462.700,    1.597,   34.679,2,   34.678,2, -999.000,9,  155.200,2,  142.600,2,   35.960,2,    0.000,2,    2.420,2,   -0.001,2,    0.003,2, -999.000,9, -999.000,9, -999.000,9