BOTTLE,20203103JOAExport
EXPOCODE,SECT_ID,STNNBR,CASTNO,SAMPNO,BTLNBR,BTLNBR_FLAG_W,DATE,TIME,LATITUDE,LONGITUDE,DEPTH,CTDPRS,CTDTMP,CTDSAL,CTDSAL_FLAG_W,SALNTY,SALNTY_FLAG_W,CTDOXY,CTDOXY_FLAG_W,OXYGEN,OXYGEN_FLAG_W,SILCAT,SILCAT_FLAG_W,NITRAT,NITRAT_FLAG_W,NITRIT,NITRIT_FLAG_W,PHSPHT,PHSPHT_FLAG_W,CFC-11,CFC-11_FLAG_W,CFC-12,CFC-12_FLAG_W,SF6,SF6_FLAG_W,TCARBN,TCARBN_FLAG_W,ALKALI,ALKALI_FLAG_W
,,,,,,,,,,,,,DB,ITS-90,PSS-78,,PSS-78,,UMOL/KG,,UMOL/KG,,UMOL/KG,,UMOL/KG,,UMOL/KG,,UMOL/KG,,PMOL/KG,,PMOL/KG,,FMOL/KG,,UMOL/KG,,UMOL/KG
           NA,    P03W,    239,   1,-999.0,       1,  2,19850511,0906,  24.2733,  163.2667,  5740,    0.000,   25.588,   34.957,2,   34.962,2, -999.000,9,  208.600,2,    1.370,2,    0.040,2,    0.000,2, -999.000,5,    1.482,2,    0.774,2, -999.000,9, -999.000,9, -999.000,9
           NA,    P03W,    239,   1,-999.0,       2,  2,19850511,0906,  24.2733,  163.2667,  5740,   25.300,   25.047,   35.033,2,   35.025,2, -999.000,9,  210.300,2,    1.270,2,    0.040,2,    0.000,2, -999.000,5, -999.000,9, -999.000,9, -999.000,9, -999.000,9, -999.000,9
           NA,    P03W,    239,   1,-999.0,       3,  2,19850511,0906,  24.2733,  163.2667,  5740,   45.400,   24.580,   35.169,2,   35.170,2, -999.000,9,  212.500,2,    1.270,2,    0.040,2,    0.000,2, -999.000,5,    1.541,2,    0.795,2, -999.000,9, -999.000,9, -999.000,9
           NA,    P03W,    239,   1,-999.0,       4,  2,19850511,0906,  24.2733,  163.2667,  5740,   75.400,   23.297,   35.160,2,   35.163,2, -999.000,9,  217.200,2,    1.370,2,    0.040,2,    0.000,2, -999.000,5, -999.000,9, -999.000,9, -999.000,9, -999.000,9, -999.000,9
           NA,    P03W,    239,   1,-999.0,       5,  2,19850511,0906,  24.2733,  163.2667,  5740,  106.100,   22.440,   35.117,2,   35.119,2, -999.000,9,  212.800,2,    1.470,2,    0.040,2,    0.000,2, -999.000,5,    1.644,2,    0.854,2, -999.000,9, -999.000,9, -999.000,9
           NA,    P03W,    239,   1,-999.0,       6,  2,19850511,0906,  24.2733,  163.2667,  5740,  146.500,   20.787,   35.024,2,   35.029,2, -999.000,9,  200.900,2,    1.560,2,    0.890,2,    0.060,2, -999.000,5, -999.000,9, -999.000,9, -999.000,9, -999.000,9, -999.000,9
           NA,    P03W,    239,   1,-999.0,       7,  2,19850511,0906,  24.2733,  163.2667,  5740,  186.900,   18.518,   34.881,2,   34.873,2, -999.000,9,  207.400,2,    2.540,2,    2.410,2,    0.010,2, -999.000,5,    1.798,2,    0.895,2, -999.000,9, -999.000,9, -999.000,9
           NA,    P03W,    239,   1,-999.0,       8,  2,19850511,0906,  24.2733,  163.2667,  5740,  236.900,   16.695,   34.760,2,   34.759,2, -999.000,9,  208.200,2,    3.810,2,    5.050,2,    0.010,2, -999.000,5,    1.829,2,    0.901,2, -999.000,9, -999.000,9, -999.000,9
           NA,    P03W,    239,   1,-999.0,       9,  2,19850511,0906,  24.2733,  163.2667,  5740,  287.300,   15.859,   34.711,2,   34.711,2, -999.000,9,  211.600,2,    5.380,2,    6.200,2,    0.010,2, -999.000,5,    1.849,2,    0.942,2, -999.000,9, -999.000,9, -999.000,9
           NA,    P03W,    239,   1,-999.0,      10,  2,19850511,0906,  24.2733,  163.2667,  5740,  337.600,   14.777,   34.611,2,   34.612,2, -999.000,9,  205.100,2,    7.430,2,    8.210,2,    0.010,2, -999.000,5,    1.704,2,    0.832,2, -999.000,9, -999.000,9, -999.000,9
           NA,    P03W,    239,   1,-999.0,      11,  2,19850511,0906,  24.2733,  163.2667,  5740,  386.600,   13.568,   34.495,2,   34.493,2, -999.000,9,  201.100,2,   10.560,2,   10.460,2,    0.010,2, -999.000,5,    1.576,2, -999.000,9, -999.000,9, -999.000,9, -999.000,9
           NA,    P03W,    239,   1,-999.0,      12,  2,19850511,0906,  24.2733,  163.2667,  5740,  445.900,   11.791,   34.348,2,   34.349,2, -999.000,9,  196.300,2,   15.740,2,   13.780,2,    0.000,2, -999.000,5, -999.000,9, -999.000,9, -999.000,9, -999.000,9, -999.000,9
           NA,    P03W,    239,   1,-999.0,      13,  2,19850511,0906,  24.2733,  163.2667,  5740,  506.300,   10.663,   34.263,2,   34.263,2, -999.000,9,  188.400,2,   21.020,2,   16.620,2,    0.000,2, -999.000,5,    1.192,6,    0.589,2, -999.000,9, -999.000,9, -999.000,9
           NA,    P03W,    239,   1,-999.0,      14,  2,19850511,0906,  24.2733,  163.2667,  5740,  566.000,    9.042,   34.165,2,   34.164,2, -999.000,9,  167.100,2,   31.390,2,   21.510,2,    0.010,2, -999.000,5,    0.861,2,    0.432,2, -999.000,9, -999.000,9, -999.000,9
           NA,    P03W,    239,   1,-999.0,      15,  2,19850511,0906,  24.2733,  163.2667,  5740,  644.700,    7.508,   34.109,2,   34.108,2, -999.000,9,  135.700,2,   46.250,2,   27.090,2,    0.010,2, -999.000,5, -999.000,9,    0.163,2, -999.000,9, -999.000,9, -999.000,9
           NA,    P03W,    239,   1,-999.0,      16,  2,19850511,0906,  24.2733,  163.2667,  5740,  725.400,    6.121,   34.113,2,   34.112,2, -999.000,9,   96.100,2,   65.220,2,   33.050,2,    0.010,2, -999.000,5, -999.000,9,    0.096,2, -999.000,9, -999.000,9, -999.000,9
           NA,    P03W,    239,   1,-999.0,      17,  2,19850511,0906,  24.2733,  163.2667,  5740,  806.500,    5.316,   34.187,2,   34.187,2, -999.000,9,   61.300,2,   81.160,2,   37.250,2,    0.000,2, -999.000,5,    0.061,2,    0.037,2, -999.000,9, -999.000,9, -999.000,9
           NA,    P03W,    239,   1,-999.0,      18,  2,19850511,0906,  24.2733,  163.2667,  5740,  906.900,    4.637,   34.244,2,   34.245,2, -999.000,9,   49.600,2,   95.230,2,   39.210,2,    0.000,2, -999.000,5,    0.022,2,    0.015,2, -999.000,9, -999.000,9, -999.000,9
           NA,    P03W,    239,   1,-999.0,      39,  2,19850511,0906,  24.2733,  163.2667,  5740, 1055.800,    3.799,   34.341,2,   34.340,2, -999.000,9,   39.600,2,  115.170,2,   40.570,2,    0.000,2, -999.000,5,    0.000,2,    0.002,2, -999.000,9, -999.000,9, -999.000,9
           NA,    P03W,    239,   1,-999.0,      20,  2,19850511,0906,  24.2733,  163.2667,  5740, 1205.600,    3.277,   34.443,2,   34.443,2, -999.000,9,   47.800,2,  128.460,2,   41.060,2,    0.010,2, -999.000,5, -999.000,9, -999.000,9, -999.000,9, -999.000,9, -999.000,9
           NA,    P03W,    239,   1,-999.0,      21,  2,19850511,0906,  24.2733,  163.2667,  5740, 1408.600,    2.711,   34.517,2,   34.515,2, -999.000,9,   58.200,2,  142.430,2,   40.670,2,    0.000,2, -999.000,5,   -0.003,2, -999.000,9, -999.000,9, -999.000,9, -999.000,9
           NA,    P03W,    239,   1,-999.0,      22,  2,19850511,0906,  24.2733,  163.2667,  5740, 1604.500,    2.399,   34.562,2,   34.561,2, -999.000,9,   77.400,2,  144.480,2,   39.690,2,    0.000,2, -999.000,5,    0.005,2,   -0.003,2, -999.000,9, -999.000,9, -999.000,9
           NA,    P03W,    239,   1,-999.0,      23,  2,19850511,0906,  24.2733,  163.2667,  5740, 1800.500,    2.181,   34.587,2,   34.587,2, -999.000,9,   89.100,2,  147.600,2,   39.200,2,    0.000,2, -999.000,5, -999.000,9, -999.000,9, -999.000,9, -999.000,9, -999.000,9
           NA,    P03W,    239,   1,-999.0,      24,  2,19850511,0906,  24.2733,  163.2667,  5740, 2002.300,    1.974,   34.613,2,   34.613,2, -999.000,9,  102.100,2,  148.770,2,   38.410,2,    0.000,2, -999.000,5,   -0.002,2,   -0.002,2, -999.000,9, -999.000,9, -999.000,9
           NA,    P03W,    239,   1,-999.0,      25,  2,19850511,0906,  24.2733,  163.2667,  5740, 2200.200,    1.837,   34.629,2,   34.629,2, -999.000,9,  109.100,2,  151.020,2,   37.830,2,    0.000,2, -999.000,5, -999.000,9, -999.000,9, -999.000,9, -999.000,9, -999.000,9
           NA,    P03W,    239,   1,-999.0,      26,  2,19850511,0906,  24.2733,  163.2667,  5740, 2497.500,    1.699,   34.646,2,   34.645,2, -999.000,9,  119.900,2,  151.990,2,   37.240,2,    0.000,2, -999.000,5,   -0.004,2, -999.000,9, -999.000,9, -999.000,9, -999.000,9
           NA,    P03W,    239,   1,-999.0,      27,  2,19850511,0906,  24.2733,  163.2667,  5740, 2796.000,    1.626,   34.655,2,   34.655,2, -999.000,9,  127.300,2,  151.110,2,   36.850,2,    0.000,2, -999.000,5, -999.000,9, -999.000,9, -999.000,9, -999.000,9, -999.000,9
           NA,    P03W,    239,   1,-999.0,      28,  2,19850511,0906,  24.2733,  163.2667,  5740, 3101.900,    1.566,   34.662,2,   34.662,2, -999.000,9,  134.700,2,  149.350,2,   36.460,2,    0.000,2, -999.000,5, -999.000,9, -999.000,9, -999.000,9, -999.000,9, -999.000,9
           NA,    P03W,    239,   1,-999.0,      29,  2,19850511,0906,  24.2733,  163.2667,  5740, 3401.600,    1.515,   34.670,2,   34.670,2, -999.000,9,  140.800,2,  148.860,2,   36.260,2,    0.000,2, -999.000,5, -999.000,9, -999.000,9, -999.000,9, -999.000,9, -999.000,9
           NA,    P03W,    239,   1,-999.0,      30,  2,19850511,0906,  24.2733,  163.2667,  5740, 3702.800,    1.487,   34.674,2,   34.674,2, -999.000,9,  147.300,2,  147.790,2,   35.770,2,    0.000,2, -999.000,5, -999.000,9,   -0.005,2, -999.000,9, -999.000,9, -999.000,9
           NA,    P03W,    239,   1,-999.0,      31,  2,19850511,0906,  24.2733,  163.2667,  5740, 3999.800,    1.465,   34.679,2,   34.679,2, -999.000,9,  153.400,2,  144.760,2,   35.380,2,    0.000,2, -999.000,5, -999.000,9, -999.000,9, -999.000,9, -999.000,9, -999.000,9
           NA,    P03W,    239,   1,-999.0,      32,  2,19850511,0906,  24.2733,  163.2667,  5740, 4301.000,    1.451,   34.684,2,   34.684,2, -999.000,9,  160.300,2,  141.630,2,   34.890,2,    0.000,2, -999.000,5, -999.000,9, -999.000,9, -999.000,9, -999.000,9, -999.000,9
           NA,    P03W,    239,   1,-999.0,      33,  2,19850511,0906,  24.2733,  163.2667,  5740, 4647.900,    1.439,   34.688,2,   34.688,2, -999.000,9,  168.200,2,  137.720,2,   34.110,2,    0.000,2, -999.000,5,    0.013,2,    0.006,2, -999.000,9, -999.000,9, -999.000,9
           NA,    P03W,    239,   1,-999.0,      34,  2,19850511,0906,  24.2733,  163.2667,  5740, 4982.500,    1.439,   34.691,2, -999.000,5, -999.000,9,  173.800,2,  134.880,2,   34.010,2,    0.000,2, -999.000,5, -999.000,9, -999.000,9, -999.000,9, -999.000,9, -999.000,9
           NA,    P03W,    239,   1,-999.0,      35,  2,19850511,0906,  24.2733,  163.2667,  5740, 5351.200,    1.451,   34.693,2,   34.693,2, -999.000,9,  178.600,2,  131.360,2,   33.720,2,    0.000,2, -999.000,5, -999.000,9, -999.000,9, -999.000,9, -999.000,9, -999.000,9
           NA,    P03W,    239,   1,-999.0,      36,  2,19850511,0906,  24.2733,  163.2667,  5740, 5715.500,    1.492,   34.694,2,   34.694,2, -999.000,9,  178.100,2,  130.680,2,   33.330,2,    0.000,2, -999.000,5,   -0.005,2,   -0.004,2, -999.000,9, -999.000,9, -999.000,9