BOTTLE,20203103JOAExport
EXPOCODE,SECT_ID,STNNBR,CASTNO,SAMPNO,BTLNBR,BTLNBR_FLAG_W,DATE,TIME,LATITUDE,LONGITUDE,DEPTH,CTDPRS,CTDTMP,CTDSAL,CTDSAL_FLAG_W,SALNTY,SALNTY_FLAG_W,CTDOXY,CTDOXY_FLAG_W,OXYGEN,OXYGEN_FLAG_W,SILCAT,SILCAT_FLAG_W,NITRAT,NITRAT_FLAG_W,NITRIT,NITRIT_FLAG_W,PHSPHT,PHSPHT_FLAG_W,CFC-11,CFC-11_FLAG_W,CFC-12,CFC-12_FLAG_W,SF6,SF6_FLAG_W,TCARBN,TCARBN_FLAG_W,ALKALI,ALKALI_FLAG_W
,,,,,,,,,,,,,DB,ITS-90,PSS-78,,PSS-78,,UMOL/KG,,UMOL/KG,,UMOL/KG,,UMOL/KG,,UMOL/KG,,UMOL/KG,,PMOL/KG,,PMOL/KG,,FMOL/KG,,UMOL/KG,,UMOL/KG
           NA,    P03W,    229,   1,-999.0,       1,  2,19850509,1606,  24.2500,  167.2500,  4848,    0.000,   23.589,   35.096,2,   35.099,2, -999.000,9,  216.400,2,    1.810,2,    0.090,2,    0.000,2,    0.020,2,    1.693,2,    0.859,2, -999.000,9, -999.000,9, -999.000,9
           NA,    P03W,    229,   1,-999.0,       2,  2,19850509,1606,  24.2500,  167.2500,  4848,   25.300,   22.309,   35.222,2,   35.225,2, -999.000,9,  223.200,2,    1.680,2,    0.090,2,    0.000,2,    0.020,2, -999.000,9, -999.000,9, -999.000,9, -999.000,9, -999.000,9
           NA,    P03W,    229,   1,-999.0,       3,  2,19850509,1606,  24.2500,  167.2500,  4848,   45.700,   21.631,   35.213,2,   35.229,2, -999.000,9,  223.200,2,    1.540,2,    0.090,2,    0.000,2,    0.020,2,    1.816,2,    0.914,2, -999.000,9, -999.000,9, -999.000,9
           NA,    P03W,    229,   1,-999.0,       4,  2,19850509,1606,  24.2500,  167.2500,  4848,   76.100,   20.056,   35.079,2,   35.081,2, -999.000,9,  227.900,2,    1.620,2,    0.080,2,    0.000,2,    0.050,2, -999.000,9, -999.000,9, -999.000,9, -999.000,9, -999.000,9
           NA,    P03W,    229,   1,-999.0,       5,  2,19850509,1606,  24.2500,  167.2500,  4848,  106.200,   19.250,   34.995,2,   35.015,2, -999.000,9,  226.100,2,    1.690,2,    0.080,2,    0.000,2,    0.060,2,    1.916,2,    0.945,2, -999.000,9, -999.000,9, -999.000,9
           NA,    P03W,    229,   1,-999.0,       6,  2,19850509,1606,  24.2500,  167.2500,  4848,  146.100,   17.112,   34.785,2,   34.786,2, -999.000,9,  209.100,2,    3.420,2,    4.040,2,    0.010,2, -999.000,5, -999.000,9, -999.000,9, -999.000,9, -999.000,9, -999.000,9
           NA,    P03W,    229,   1,-999.0,       7,  2,19850509,1606,  24.2500,  167.2500,  4848,  186.300,   16.361,   34.740,2,   34.742,2, -999.000,9,  208.600,2,    4.520,2,    5.430,2,    0.010,2,    0.400,2,    1.911,2,    0.935,2, -999.000,9, -999.000,9, -999.000,9
           NA,    P03W,    229,   1,-999.0,       8,  2,19850509,1606,  24.2500,  167.2500,  4848,  236.200,   15.599,   34.688,2,   34.687,2, -999.000,9,  210.800,2,    5.420,2,    6.680,2,    0.000,2,    0.490,2,    1.854,2,    0.920,2, -999.000,9, -999.000,9, -999.000,9
           NA,    P03W,    229,   1,-999.0,       9,  2,19850509,1606,  24.2500,  167.2500,  4848,  287.000,   14.434,   34.583,2,   34.590,2, -999.000,9,  205.100,2,    8.600,2,    8.800,2,    0.000,2,    0.630,2,    1.664,2,    0.788,2, -999.000,9, -999.000,9, -999.000,9
           NA,    P03W,    229,   1,-999.0,      10,  2,19850509,1606,  24.2500,  167.2500,  4848,  337.700,   13.274,   34.485,2,   34.479,2, -999.000,9,  208.500,2,   11.370,2,   10.630,2,    0.000,2,    0.760,2,    1.743,2,    0.855,2, -999.000,9, -999.000,9, -999.000,9
           NA,    P03W,    229,   1,-999.0,      11,  2,19850509,1606,  24.2500,  167.2500,  4848,  387.700,   11.847,   34.368,2,   34.367,2, -999.000,9,  211.900,2,   14.970,2,   12.610,2,    0.000,2,    0.900,2,    1.753,2,    0.833,2, -999.000,9, -999.000,9, -999.000,9
           NA,    P03W,    229,   1,-999.0,      12,  2,19850509,1606,  24.2500,  167.2500,  4848,  447.600,   10.569,   34.266,2,   34.262,2, -999.000,9,  198.900,2,   21.470,2,   16.310,2,    0.000,2,    1.130,2,    1.501,2,    0.697,2, -999.000,9, -999.000,9, -999.000,9
           NA,    P03W,    229,   1,-999.0,      13,  2,19850509,1606,  24.2500,  167.2500,  4848,  507.300,    8.767,   34.136,2,   34.136,2, -999.000,9,  187.100,2,   30.870,2,   20.690,2,    0.000,2,    1.450,2,    1.355,2,    0.625,2, -999.000,9, -999.000,9, -999.000,9
           NA,    P03W,    229,   1,-999.0,      14,  2,19850509,1606,  24.2500,  167.2500,  4848,  569.000,    7.374,   34.070,2,   34.071,2, -999.000,9,  154.000,2,   44.640,2,   26.390,2,    0.000,2,    1.850,2,    0.857,6,    0.392,6, -999.000,9, -999.000,9, -999.000,9
           NA,    P03W,    229,   1,-999.0,      15,  2,19850509,1606,  24.2500,  167.2500,  4848,  649.600,    6.023,   34.046,2,   34.047,2, -999.000,9,  124.400,2,   61.530,2,   31.450,2,    0.000,2,    2.200,2, -999.000,9,    0.245,2, -999.000,9, -999.000,9, -999.000,9
           NA,    P03W,    229,   1,-999.0,      16,  2,19850509,1606,  24.2500,  167.2500,  4848,  728.100,    5.233,   34.161,2,   34.161,2, -999.000,9,   66.500,2,   80.700,2,   38.320,2,    0.000,2,    2.650,2,    0.087,2, -999.000,9, -999.000,9, -999.000,9, -999.000,9
           NA,    P03W,    229,   1,-999.0,      17,  2,19850509,1606,  24.2500,  167.2500,  4848,  808.100,    4.597,   34.219,2,   34.219,2, -999.000,9,   51.300,2,   93.660,2,   40.900,2,    0.000,2,    2.810,2,    0.034,2, -999.000,9, -999.000,9, -999.000,9, -999.000,9
           NA,    P03W,    229,   1,-999.0,      18,  2,19850509,1606,  24.2500,  167.2500,  4848,  883.800,    4.170,   34.294,2, -999.000,5, -999.000,9,   41.300,2,  109.120,2,   42.470,2,    0.000,2,    2.900,2,    0.003,2,   -0.002,2, -999.000,9, -999.000,9, -999.000,9
           NA,    P03W,    229,   1,-999.0,      39,  2,19850509,1606,  24.2500,  167.2500,  4848, 1063.500,    3.580,   34.423,2,   34.421,2, -999.000,9,   48.700,2,  120.220,2,   42.630,2,    0.000,2,    2.930,2,   -0.001,2,    0.000,2, -999.000,9, -999.000,9, -999.000,9
           NA,    P03W,    229,   1,-999.0,      20,  2,19850509,1606,  24.2500,  167.2500,  4848, 1214.500,    3.178,   34.487,2,   34.488,2, -999.000,9, -999.000,5,  129.460,2,   42.240,2,    0.000,2,    2.890,2,   -0.005,2,    0.012,2, -999.000,9, -999.000,9, -999.000,9
           NA,    P03W,    229,   1,-999.0,      21,  2,19850509,1606,  24.2500,  167.2500,  4848, 1416.100,    2.701,   34.540,2,   34.540,2, -999.000,9,   73.000,2,  138.090,2,   41.590,2,    0.000,2,    2.840,2, -999.000,9, -999.000,9, -999.000,9, -999.000,9, -999.000,9
           NA,    P03W,    229,   1,-999.0,      22,  2,19850509,1606,  24.2500,  167.2500,  4848, 1610.900,    2.376,   34.568,2,   34.568,2, -999.000,9,   82.600,2,  144.220,2,   41.210,2,    0.000,2,    2.800,2, -999.000,9, -999.000,9, -999.000,9, -999.000,9, -999.000,9
           NA,    P03W,    229,   1,-999.0,      23,  2,19850509,1606,  24.2500,  167.2500,  4848, 1808.700,    2.154,   34.597,2,   34.597,2, -999.000,9,   92.100,2,  146.400,2,   40.610,2,    0.000,2,    2.760,2, -999.000,9, -999.000,9, -999.000,9, -999.000,9, -999.000,9
           NA,    P03W,    229,   1,-999.0,      24,  2,19850509,1606,  24.2500,  167.2500,  4848, 2011.800,    1.967,   34.617,2,   34.619,2, -999.000,9,  102.100,2,  148.380,2,   39.750,2,    0.000,2,    2.690,2,   -0.001,2,   -0.002,2, -999.000,9, -999.000,9, -999.000,9
           NA,    P03W,    229,   1,-999.0,      25,  2,19850509,1606,  24.2500,  167.2500,  4848, 2265.700,    1.809,   34.635,2,   34.636,2, -999.000,9,  113.900,2,  152.020,2,   39.480,2,    0.000,2,    2.640,2, -999.000,9, -999.000,9, -999.000,9, -999.000,9, -999.000,9
           NA,    P03W,    229,   1,-999.0,      26,  2,19850509,1606,  24.2500,  167.2500,  4848, 2516.700,    1.702,   34.647,2,   34.648,2, -999.000,9,  120.400,2,  152.130,2,   38.890,2,    0.000,2,    2.630,2,    0.003,2,   -0.002,2, -999.000,9, -999.000,9, -999.000,9
           NA,    P03W,    229,   1,-999.0,      27,  2,19850509,1606,  24.2500,  167.2500,  4848, 2765.000,    1.647,   34.655,2,   34.656,2, -999.000,9,  126.000,2,  149.520,2,   38.240,2,    0.000,2,    2.600,2, -999.000,9, -999.000,9, -999.000,9, -999.000,9, -999.000,9
           NA,    P03W,    229,   1,-999.0,      28,  2,19850509,1606,  24.2500,  167.2500,  4848, 3010.400,    1.609,   34.661,2,   34.660,2, -999.000,9,  131.200,2,  149.210,2,   38.240,2,    0.000,2,    2.550,2,    0.000,2, -999.000,9, -999.000,9, -999.000,9, -999.000,9
           NA,    P03W,    229,   1,-999.0,      29,  2,19850509,1606,  24.2500,  167.2500,  4848, 3246.600,    1.566,   34.666,2,   34.666,2, -999.000,9,  136.400,2,  150.560,2,   37.810,2,    0.000,2,    2.540,2, -999.000,9, -999.000,9, -999.000,9, -999.000,9, -999.000,9
           NA,    P03W,    229,   1,-999.0,      30,  2,19850509,1606,  24.2500,  167.2500,  4848, 3507.700,    1.531,   34.670,2,   34.670,2, -999.000,9,  143.000,2,  148.380,2,   37.490,2,    0.000,2,    2.510,2,   -0.005,2,    0.009,2, -999.000,9, -999.000,9, -999.000,9
           NA,    P03W,    229,   1,-999.0,      31,  2,19850509,1606,  24.2500,  167.2500,  4848, 3763.100,    1.506,   34.675,2,   34.674,2, -999.000,9,  147.700,2,  145.980,2,   37.170,2,    0.000,2,    2.470,2, -999.000,9, -999.000,9, -999.000,9, -999.000,9, -999.000,9
           NA,    P03W,    229,   1,-999.0,      32,  2,19850509,1606,  24.2500,  167.2500,  4848, 4020.600,    1.488,   34.678,2,   34.678,2, -999.000,9,  153.400,2,  144.200,2,   36.640,2,    0.000,2,    2.440,2, -999.000,9,   -0.011,2, -999.000,9, -999.000,9, -999.000,9
           NA,    P03W,    229,   1,-999.0,      33,  2,19850509,1606,  24.2500,  167.2500,  4848, 4336.000,    1.473,   34.682,2,   34.683,2, -999.000,9,  157.300,2,  143.260,2,   36.270,2,    0.000,2,    2.440,2, -999.000,9, -999.000,9, -999.000,9, -999.000,9, -999.000,9
           NA,    P03W,    229,   1,-999.0,      34,  2,19850509,1606,  24.2500,  167.2500,  4848, 4642.200,    1.460,   34.686,2, -999.000,5, -999.000,9,  164.700,2,  140.450,2,   35.900,2,    0.000,2,    2.420,2,    0.004,2,   -0.002,2, -999.000,9, -999.000,9, -999.000,9
           NA,    P03W,    229,   1,-999.0,      35,  2,19850509,1606,  24.2500,  167.2500,  4848, 4942.000,    1.450,   34.689,2,   34.690,2, -999.000,9,  170.800,2,  136.170,2,   35.430,2,    0.000,2,    2.350,2,   -0.002,2, -999.000,9, -999.000,9, -999.000,9, -999.000,9
           NA,    P03W,    229,   1,-999.0,      36,  2,19850509,1606,  24.2500,  167.2500,  4848, 5260.000,    1.441,   34.693,2,   34.692,2, -999.000,9,  177.300,2,  132.720,2,   35.010,2,    0.000,2,    2.340,2, -999.000,9, -999.000,9, -999.000,9, -999.000,9, -999.000,9