BOTTLE,20203103JOAExport
EXPOCODE,SECT_ID,STNNBR,CASTNO,SAMPNO,BTLNBR,BTLNBR_FLAG_W,DATE,TIME,LATITUDE,LONGITUDE,DEPTH,CTDPRS,CTDTMP,CTDSAL,CTDSAL_FLAG_W,SALNTY,SALNTY_FLAG_W,CTDOXY,CTDOXY_FLAG_W,OXYGEN,OXYGEN_FLAG_W,SILCAT,SILCAT_FLAG_W,NITRAT,NITRAT_FLAG_W,NITRIT,NITRIT_FLAG_W,PHSPHT,PHSPHT_FLAG_W,CFC-11,CFC-11_FLAG_W,CFC-12,CFC-12_FLAG_W,SF6,SF6_FLAG_W,TCARBN,TCARBN_FLAG_W,ALKALI,ALKALI_FLAG_W
,,,,,,,,,,,,,DB,ITS-90,PSS-78,,PSS-78,,UMOL/KG,,UMOL/KG,,UMOL/KG,,UMOL/KG,,UMOL/KG,,UMOL/KG,,PMOL/KG,,PMOL/KG,,FMOL/KG,,UMOL/KG,,UMOL/KG
           NA,    P03W,    233,   1,-999.0,       1,  2,19850510,0816,  24.2583,  165.6617,  5976,    0.400,   25.875,   35.046,2,   35.051,2, -999.000,9,  207.800,2,    0.040,2,    0.050,2,    0.000,2,    0.050,2,    1.453,2, -999.000,9, -999.000,9, -999.000,9, -999.000,9
           NA,    P03W,    233,   1,-999.0,       2,  2,19850510,0816,  24.2583,  165.6617,  5976,   23.600,   24.830,   35.244,2,   35.239,2, -999.000,9,  212.500,2,    0.000,2,    0.050,2,    0.000,2,    0.030,2, -999.000,9, -999.000,9, -999.000,9, -999.000,9, -999.000,9
           NA,    P03W,    233,   1,-999.0,       3,  2,19850510,0816,  24.2583,  165.6617,  5976,   43.600,   24.594,   35.259,2,   35.276,2, -999.000,9,  212.500,2,    0.000,2,    0.050,2,    0.000,2,    0.030,2,    1.465,2, -999.000,9, -999.000,9, -999.000,9, -999.000,9
           NA,    P03W,    233,   1,-999.0,       4,  2,19850510,0816,  24.2583,  165.6617,  5976,   74.100,   23.426,   35.172,2,   35.178,2, -999.000,9,  215.500,2,    0.110,2,    0.050,2,    0.000,2,    0.020,2, -999.000,9, -999.000,9, -999.000,9, -999.000,9, -999.000,9
           NA,    P03W,    233,   1,-999.0,       5,  2,19850510,0816,  24.2583,  165.6617,  5976,  104.200,   21.665,   35.076,2,   35.076,2, -999.000,9,  210.600,2,    0.270,2,    0.050,2,    0.040,2,    0.070,2,    1.666,2,    0.882,2, -999.000,9, -999.000,9, -999.000,9
           NA,    P03W,    233,   1,-999.0,       6,  2,19850510,0816,  24.2583,  165.6617,  5976,  144.800,   20.253,   35.007,2,   34.985,2, -999.000,9,  211.800,2,    0.640,2,    0.460,2,    0.120,2,    0.100,2, -999.000,9, -999.000,9, -999.000,9, -999.000,9, -999.000,9
           NA,    P03W,    233,   1,-999.0,       7,  2,19850510,0816,  24.2583,  165.6617,  5976,  185.100,   18.198,   34.873,2,   34.870,2, -999.000,9,  199.500,2,    2.030,2,    3.540,2,    0.010,2,    0.310,2,    1.726,6,    0.879,6, -999.000,9, -999.000,9, -999.000,9
           NA,    P03W,    233,   1,-999.0,       8,  2,19850510,0816,  24.2583,  165.6617,  5976,  234.600,   16.621,   34.758,2,   34.758,2, -999.000,9,  209.900,2,    3.220,2,    5.320,2,    0.010,2,    0.390,2,    1.829,2, -999.000,9, -999.000,9, -999.000,9, -999.000,9
           NA,    P03W,    233,   1,-999.0,       9,  2,19850510,0816,  24.2583,  165.6617,  5976,  284.600,   15.593,   34.687,2,   34.685,2, -999.000,9,  211.600,2,    5.030,2,    6.770,2,    0.010,2,    0.480,2,    1.804,2,    0.838,2, -999.000,9, -999.000,9, -999.000,9
           NA,    P03W,    233,   1,-999.0,      10,  2,19850510,0816,  24.2583,  165.6617,  5976,  334.500,   14.414,   34.570,2,   34.569,2, -999.000,9,  207.200,2,    7.660,2,    8.940,2,    0.010,2,    0.650,2,    1.699,2, -999.000,9, -999.000,9, -999.000,9, -999.000,9
           NA,    P03W,    233,   1,-999.0,      11,  2,19850510,0816,  24.2583,  165.6617,  5976,  385.000,   13.238,   34.472,2,   34.469,2, -999.000,9,  201.100,2,   10.700,2,   11.170,2,    0.010,2,    0.810,2,    1.604,2,    0.858,2, -999.000,9, -999.000,9, -999.000,9
           NA,    P03W,    233,   1,-999.0,      12,  2,19850510,0816,  24.2583,  165.6617,  5976,  445.900,   11.681,   34.355,2,   34.354,2, -999.000,9,  199.300,2,   16.210,2,   14.150,2,    0.000,2,    0.990,2,    1.469,2,    0.682,2, -999.000,9, -999.000,9, -999.000,9
           NA,    P03W,    233,   1,-999.0,      13,  2,19850510,0816,  24.2583,  165.6617,  5976,  506.400,    9.935,   34.224,2,   34.224,2, -999.000,9,  185.800,2,   24.400,2,   18.570,2,    0.000,2,    1.300,2,    1.214,2,    0.607,2, -999.000,9, -999.000,9, -999.000,9
           NA,    P03W,    233,   1,-999.0,      14,  2,19850510,0816,  24.2583,  165.6617,  5976,  567.300,    8.394,   34.128,2,   34.128,2, -999.000,9,  165.800,2,   35.260,2,   23.310,2,    0.000,2,    1.640,2,    0.924,2,    0.447,2, -999.000,9, -999.000,9, -999.000,9
           NA,    P03W,    233,   1,-999.0,      15,  2,19850510,0816,  24.2583,  165.6617,  5976,  648.000,    6.789,   34.093,2,   34.093,2, -999.000,9,  120.000,2,   53.730,2,   30.590,2,    0.000,2,    2.140,2,    0.432,2,    0.248,2, -999.000,9, -999.000,9, -999.000,9
           NA,    P03W,    233,   1,-999.0,      16,  2,19850510,0816,  24.2583,  165.6617,  5976,  728.100,    5.574,   34.121,2,   34.122,2, -999.000,9,   81.800,2,   74.050,2,   36.460,2,    0.000,2,    2.530,2,    0.191,2, -999.000,9, -999.000,9, -999.000,9, -999.000,9
           NA,    P03W,    233,   1,-999.0,      17,  2,19850510,0816,  24.2583,  165.6617,  5976,  808.700,    4.853,   34.177,2,   34.178,2, -999.000,9,   60.900,2,   87.780,2,   39.620,2,    0.000,2,    2.740,2,    0.081,2,    0.051,2, -999.000,9, -999.000,9, -999.000,9
           NA,    P03W,    233,   1,-999.0,      18,  2,19850510,0816,  24.2583,  165.6617,  5976,  909.400,    4.141,   34.248,2,   34.248,2, -999.000,9,   46.500,2,  103.970,2,   41.900,2,    0.000,2,    2.880,2,    0.040,2, -999.000,9, -999.000,9, -999.000,9, -999.000,9
           NA,    P03W,    233,   1,-999.0,      39,  2,19850510,0816,  24.2583,  165.6617,  5976, 1061.200,    3.630,   34.377,2,   34.375,2, -999.000,9,   39.600,2,  117.680,2,   43.220,2,    0.000,2,    2.960,2,   -0.001,2,    0.011,2, -999.000,9, -999.000,9, -999.000,9
           NA,    P03W,    233,   1,-999.0,      20,  2,19850510,0816,  24.2583,  165.6617,  5976, 1212.600,    3.224,   34.464,2,   34.464,2, -999.000,9,   53.000,2,  126.870,2,   42.830,2,    0.000,2,    2.920,2, -999.000,9, -999.000,9, -999.000,9, -999.000,9, -999.000,9
           NA,    P03W,    233,   1,-999.0,      21,  2,19850510,0816,  24.2583,  165.6617,  5976, 1414.700,    2.788,   34.529,2,   34.529,2, -999.000,9,   68.200,2,  136.250,2,   42.130,2,    0.000,2,    2.870,2, -999.000,9, -999.000,9, -999.000,9, -999.000,9, -999.000,9
           NA,    P03W,    233,   1,-999.0,      22,  2,19850510,0816,  24.2583,  165.6617,  5976, 1616.000,    2.430,   34.564,2,   34.564,2, -999.000,9,   77.400,2,  143.380,2,   41.370,2,    0.000,2,    2.820,2, -999.000,9, -999.000,9, -999.000,9, -999.000,9, -999.000,9
           NA,    P03W,    233,   1,-999.0,      23,  2,19850510,0816,  24.2583,  165.6617,  5976, 1817.100,    2.178,   34.590,2,   34.591,2, -999.000,9,   88.200,2,  146.800,2,   41.100,2,    0.000,2,    2.780,2, -999.000,9, -999.000,9, -999.000,9, -999.000,9, -999.000,9
           NA,    P03W,    233,   1,-999.0,      24,  2,19850510,0816,  24.2583,  165.6617,  5976, 2018.400,    1.981,   34.611,2,   34.611,2, -999.000,9,   96.900,2,  150.620,2,   40.670,2,    0.000,2,    2.740,2, -999.000,9, -999.000,9, -999.000,9, -999.000,9, -999.000,9
           NA,    P03W,    233,   1,-999.0,      25,  2,19850510,0816,  24.2583,  165.6617,  5976, 2220.800,    1.844,   34.628,2,   34.629,2, -999.000,9,  106.500,2,  151.980,2,   40.080,2,    0.000,2,    2.700,2, -999.000,9, -999.000,9, -999.000,9, -999.000,9, -999.000,9
           NA,    P03W,    233,   1,-999.0,      26,  2,19850510,0816,  24.2583,  165.6617,  5976, 2525.400,    1.712,   34.646,2,   34.646,2, -999.000,9,  119.100,2,  150.460,2,   39.230,2,    0.000,2,    2.640,2, -999.000,9, -999.000,9, -999.000,9, -999.000,9, -999.000,9
           NA,    P03W,    233,   1,-999.0,      27,  2,19850510,0816,  24.2583,  165.6617,  5976, 2827.500,    1.629,   34.657,2,   34.656,2, -999.000,9,  128.200,2,  150.580,2,   38.640,2,    0.000,2,    2.590,2, -999.000,9, -999.000,9, -999.000,9, -999.000,9, -999.000,9
           NA,    P03W,    233,   1,-999.0,      28,  2,19850510,0816,  24.2583,  165.6617,  5976, 3128.200,    1.568,   34.665,2,   34.665,2, -999.000,9,  135.600,2,  150.500,2,   38.110,2,    0.000,2,    2.560,2, -999.000,9, -999.000,9, -999.000,9, -999.000,9, -999.000,9
           NA,    P03W,    233,   1,-999.0,      29,  2,19850510,0816,  24.2583,  165.6617,  5976, 3435.700,    1.528,   34.670,2,   34.671,2, -999.000,9,  140.800,2,  148.980,2,   37.740,2,    0.000,2,    2.530,2, -999.000,9, -999.000,9, -999.000,9, -999.000,9, -999.000,9
           NA,    P03W,    233,   1,-999.0,      30,  2,19850510,0816,  24.2583,  165.6617,  5976, 3741.500,    1.501,   34.676,2,   34.676,2, -999.000,9,  146.900,2,  147.050,2,   37.370,2,    0.000,2,    2.490,2, -999.000,9, -999.000,9, -999.000,9, -999.000,9, -999.000,9
           NA,    P03W,    233,   1,-999.0,      31,  2,19850510,0816,  24.2583,  165.6617,  5976, 4046.500,    1.474,   34.680,2,   34.680,2, -999.000,9,  153.400,2,  146.350,2,   36.950,2,    0.000,2,    2.460,2, -999.000,9, -999.000,9, -999.000,9, -999.000,9, -999.000,9
           NA,    P03W,    233,   1,-999.0,      32,  2,19850510,0816,  24.2583,  165.6617,  5976, 4353.800,    1.458,   34.684,2,   34.684,2, -999.000,9,  160.800,2,  141.750,2,   36.430,2,    0.000,2,    2.430,2, -999.000,9, -999.000,9, -999.000,9, -999.000,9, -999.000,9
           NA,    P03W,    233,   1,-999.0,      33,  2,19850510,0816,  24.2583,  165.6617,  5976, 4715.400,    1.443,   34.688,2,   34.690,2, -999.000,9,  168.200,2,  137.560,2,   35.640,2,    0.000,2,    2.390,2,    0.000,2, -999.000,9, -999.000,9, -999.000,9, -999.000,9
           NA,    P03W,    233,   1,-999.0,      34,  2,19850510,0816,  24.2583,  165.6617,  5976, 5070.600,    1.441,   34.692,2, -999.000,5, -999.000,9,  173.800,2,  133.380,2,   35.270,2,    0.000,2,    2.350,2,   -0.001,2,    0.010,2, -999.000,9, -999.000,9, -999.000,9
           NA,    P03W,    233,   1,-999.0,      35,  2,19850510,0816,  24.2583,  165.6617,  5976, 5576.400,    1.470,   34.695,2,   34.695,2, -999.000,9,  179.500,2,  130.840,2,   34.850,2,    0.000,2,    2.320,2, -999.000,9, -999.000,9, -999.000,9, -999.000,9, -999.000,9
           NA,    P03W,    233,   1,-999.0,      36,  2,19850510,0816,  24.2583,  165.6617,  5976, 6085.700,    1.526,   34.695,2,   34.696,2, -999.000,9,  180.800,2,  129.940,2,   34.910,2,    0.000,2,    2.310,2,    0.002,2, -999.000,9, -999.000,9, -999.000,9, -999.000,9