BOTTLE,20203103JOAExport
EXPOCODE,SECT_ID,STNNBR,CASTNO,SAMPNO,BTLNBR,BTLNBR_FLAG_W,DATE,TIME,LATITUDE,LONGITUDE,DEPTH,CTDPRS,CTDTMP,CTDSAL,CTDSAL_FLAG_W,SALNTY,SALNTY_FLAG_W,CTDOXY,CTDOXY_FLAG_W,OXYGEN,OXYGEN_FLAG_W,SILCAT,SILCAT_FLAG_W,NITRAT,NITRAT_FLAG_W,NITRIT,NITRIT_FLAG_W,PHSPHT,PHSPHT_FLAG_W,CFC-11,CFC-11_FLAG_W,CFC-12,CFC-12_FLAG_W,SF6,SF6_FLAG_W,TCARBN,TCARBN_FLAG_W,ALKALI,ALKALI_FLAG_W
,,,,,,,,,,,,,DB,ITS-90,PSS-78,,PSS-78,,UMOL/KG,,UMOL/KG,,UMOL/KG,,UMOL/KG,,UMOL/KG,,UMOL/KG,,PMOL/KG,,PMOL/KG,,FMOL/KG,,UMOL/KG,,UMOL/KG
           NA,    P03W,    367,   1,-999.0,       5,  2,19850530,1501,  25.7667,  127.2967,  1068,    2.400,   25.426,   34.625,2,   34.622,2, -999.000,9,  210.100,2,    1.030,2,    0.000,2,    0.000,2,    0.010,2, -999.000,9, -999.000,9, -999.000,9, -999.000,9, -999.000,9
           NA,    P03W,    367,   1,-999.0,       6,  2,19850530,1501,  25.7667,  127.2967,  1068,   20.700,   25.275,   34.761,2,   34.763,2, -999.000,9,  212.400,2,    1.030,2,    0.000,2,    0.000,2,    0.010,2, -999.000,9, -999.000,9, -999.000,9, -999.000,9, -999.000,9
           NA,    P03W,    367,   1,-999.0,       7,  2,19850530,1501,  25.7667,  127.2967,  1068,   41.100,   23.431,   34.849,2,   34.852,2, -999.000,9,  222.900,2,    1.450,2,    0.000,2,    0.000,2,    0.010,2, -999.000,9, -999.000,9, -999.000,9, -999.000,9, -999.000,9
           NA,    P03W,    367,   1,-999.0,       8,  2,19850530,1501,  25.7667,  127.2967,  1068,   71.600,   21.431,   34.874,2,   34.874,2, -999.000,9,  223.800,2,    1.660,2,    0.000,2,    0.010,2,    0.030,2, -999.000,9, -999.000,9, -999.000,9, -999.000,9, -999.000,9
           NA,    P03W,    367,   1,-999.0,       9,  2,19850530,1501,  25.7667,  127.2967,  1068,  101.300,   20.331,   34.866,2,   34.875,2, -999.000,9,  210.200,2,    1.870,2,    0.570,2,    0.130,2,    0.100,2, -999.000,9, -999.000,9, -999.000,9, -999.000,9, -999.000,9
           NA,    P03W,    367,   1,-999.0,      10,  2,19850530,1501,  25.7667,  127.2967,  1068,  141.500,   19.459,   34.857,2,   34.858,2, -999.000,9,  205.100,2,    2.510,2,    1.760,2,    0.120,2,    0.170,2, -999.000,9, -999.000,9, -999.000,9, -999.000,9, -999.000,9
           NA,    P03W,    367,   1,-999.0,      11,  2,19850530,1501,  25.7667,  127.2967,  1068,  181.200,   18.537,   34.847,2,   34.847,2, -999.000,9,  199.700,2,    3.150,2,    3.680,2,    0.040,2,    0.260,2, -999.000,9, -999.000,9, -999.000,9, -999.000,9, -999.000,9
           NA,    P03W,    367,   1,-999.0,      12,  2,19850530,1501,  25.7667,  127.2967,  1068,  230.900,   17.484,   34.812,2,   34.814,2, -999.000,9,  202.300,2,    3.780,2,    4.730,2,    0.010,2,    0.340,2, -999.000,9, -999.000,9, -999.000,9, -999.000,9, -999.000,9
           NA,    P03W,    367,   1,-999.0,      13,  2,19850530,1501,  25.7667,  127.2967,  1068,  281.100,   16.584,   34.763,2,   34.762,2, -999.000,9,  200.300,2,    5.280,2,    6.290,2,    0.010,2,    0.440,2,    1.628,2,    0.844,2, -999.000,9, -999.000,9, -999.000,9
           NA,    P03W,    367,   1,-999.0,      14,  2,19850530,1501,  25.7667,  127.2967,  1068,  331.500,   15.903,   34.717,2,   34.717,2, -999.000,9,  199.600,2,    6.770,2,    7.470,2,    0.010,2,    0.500,2,    1.579,2,    0.780,2, -999.000,9, -999.000,9, -999.000,9
           NA,    P03W,    367,   1,-999.0,      15,  2,19850530,1501,  25.7667,  127.2967,  1068,  381.700,   14.948,   34.639,2,   34.637,2, -999.000,9,  192.000,2,    9.760,2,    9.630,2,    0.010,2,    0.650,2, -999.000,9, -999.000,9, -999.000,9, -999.000,9, -999.000,9
           NA,    P03W,    367,   1,-999.0,      16,  2,19850530,1501,  25.7667,  127.2967,  1068,  441.400,   12.890,   34.477,2,   34.479,2, -999.000,9,  179.800,2,   17.690,2,   14.040,2,    0.010,2,    0.940,2, -999.000,9, -999.000,9, -999.000,9, -999.000,9, -999.000,9
           NA,    P03W,    367,   1,-999.0,      17,  2,19850530,1501,  25.7667,  127.2967,  1068,  499.700,   11.388,   34.368,2,   34.369,2, -999.000,9,  171.700,2,   24.540,2,   17.280,2,    0.010,2,    1.180,2,    0.999,2,    0.489,2, -999.000,9, -999.000,9, -999.000,9
           NA,    P03W,    367,   1,-999.0,      18,  2,19850530,1501,  25.7667,  127.2967,  1068,  558.200,   10.000,   34.284,2,   34.286,2, -999.000,9,  160.900,2,   32.890,2,   20.780,2,    0.010,2,    1.440,2, -999.000,9, -999.000,9, -999.000,9, -999.000,9, -999.000,9
           NA,    P03W,    367,   1,-999.0,      23,  2,19850530,1501,  25.7667,  127.2967,  1068,  638.300,    7.728,   34.180,2,   34.180,2, -999.000,9,  133.700,2,   51.790,2,   27.330,2,    0.010,2,    1.920,2,    0.590,2,    0.286,2, -999.000,9, -999.000,9, -999.000,9
           NA,    P03W,    367,   1,-999.0,      20,  2,19850530,1501,  25.7667,  127.2967,  1068,  718.700,    6.255,   34.186,2,   34.186,2, -999.000,9,   98.200,2,   70.300,2,   33.250,2,    0.010,2,    2.360,2,    0.250,2,    0.117,2, -999.000,9, -999.000,9, -999.000,9
           NA,    P03W,    367,   1,-999.0,      21,  2,19850530,1501,  25.7667,  127.2967,  1068,  799.800,    5.579,   34.259,2,   34.261,2, -999.000,9,   83.500,2,   84.550,2,   35.800,2,    0.000,2,    2.550,2,    0.144,2,    0.071,2, -999.000,9, -999.000,9, -999.000,9
           NA,    P03W,    367,   1,-999.0,      22,  2,19850530,1501,  25.7667,  127.2967,  1068,  899.400,    4.502,   34.339,2,   34.334,2, -999.000,9,   68.400,2,  102.560,2,   38.830,2,    0.000,2,    2.760,2,    0.042,2,    0.024,2, -999.000,9, -999.000,9, -999.000,9
           NA,    P03W,    367,   1,-999.0,      39,  2,19850530,1501,  25.7667,  127.2967,  1068, 1000.000,    3.709,   34.438,2,   34.437,2, -999.000,9,   71.300,2,  120.220,2,   39.640,2,    0.000,2,    2.830,2, -999.000,9, -999.000,9, -999.000,9, -999.000,9, -999.000,9
           NA,    P03W,    367,   1,-999.0,      24,  2,19850530,1501,  25.7667,  127.2967,  1068, 1069.500,    3.093,   34.484,2,   34.484,2, -999.000,9,   76.300,2,  131.180,2,   40.040,2,    0.010,2,    2.880,2,    0.008,2,    0.004,2, -999.000,9, -999.000,9, -999.000,9
           NA,    P03W,    365,   1,-999.0,       5,  2,19850530,1155,  25.6233,  127.4133,  2211,    0.600,   25.890,   34.482,2,   34.485,2, -999.000,9,  209.300,2,    1.030,2,    0.150,2,    0.000,2,    0.020,2,    1.468,2,    0.756,2, -999.000,9, -999.000,9, -999.000,9
           NA,    P03W,    365,   1,-999.0,      38,  2,19850530,1155,  25.6233,  127.4133,  2211,   21.300,   25.571,   34.781,2,   34.782,2, -999.000,9,  212.800,2,    1.020,2,    0.150,2,    0.000,2,    0.020,2, -999.000,9, -999.000,9, -999.000,9, -999.000,9, -999.000,9
           NA,    P03W,    365,   1,-999.0,       3,  2,19850530,1155,  25.6233,  127.4133,  2211,   41.700,   23.578,   34.784,2,   34.785,2, -999.000,9,  222.700,2,    1.020,2,    0.150,2,    0.000,2,    0.010,2,    1.601,2,    0.817,2, -999.000,9, -999.000,9, -999.000,9
           NA,    P03W,    365,   1,-999.0,       4,  2,19850530,1155,  25.6233,  127.4133,  2211,   71.800,   21.893,   34.840,2,   34.841,2, -999.000,9,  215.400,2,    1.660,2,    0.160,2,    0.000,2,    0.050,2, -999.000,9, -999.000,9, -999.000,9, -999.000,9, -999.000,9
           NA,    P03W,    365,   1,-999.0,       1,  2,19850530,1155,  25.6233,  127.4133,  2211,  102.100,   20.892,   34.874,2,   34.873,2, -999.000,9,  195.700,2,    2.510,2,    2.100,2,    0.120,2,    0.170,2,    1.564,2,    0.788,2, -999.000,9, -999.000,9, -999.000,9
           NA,    P03W,    365,   1,-999.0,       6,  2,19850530,1155,  25.6233,  127.4133,  2211,  142.000,   19.589,   34.856,2,   34.856,2, -999.000,9,  201.700,2,    2.710,2,    2.620,2,    0.030,2,    0.190,2,    1.669,2,    0.843,2, -999.000,9, -999.000,9, -999.000,9
           NA,    P03W,    365,   1,-999.0,       7,  2,19850530,1155,  25.6233,  127.4133,  2211,  182.400,   18.542,   34.845,2,   34.845,2, -999.000,9,  197.200,2,    3.560,2,    4.010,2,    0.010,2,    0.280,2,    1.650,2,    0.830,2, -999.000,9, -999.000,9, -999.000,9
           NA,    P03W,    365,   1,-999.0,       8,  2,19850530,1155,  25.6233,  127.4133,  2211,  232.600,   17.350,   34.805,2,   34.805,2, -999.000,9,  200.500,2,    4.410,2,    5.190,2,    0.000,2,    0.350,2,    1.654,2,    0.819,2, -999.000,9, -999.000,9, -999.000,9
           NA,    P03W,    365,   1,-999.0,       9,  2,19850530,1155,  25.6233,  127.4133,  2211,  282.300,   16.612,   34.765,2,   34.766,2, -999.000,9,  200.200,2,    5.470,2,    6.280,2,    0.000,2,    0.410,2,    1.638,2,    0.805,2, -999.000,9, -999.000,9, -999.000,9
           NA,    P03W,    365,   1,-999.0,      10,  2,19850530,1155,  25.6233,  127.4133,  2211,  332.300,   15.794,   34.707,2,   34.709,2, -999.000,9,  198.500,2,    7.380,2,    7.790,2,    0.000,2,    0.520,2,    1.531,2,    0.750,2, -999.000,9, -999.000,9, -999.000,9
           NA,    P03W,    365,   1,-999.0,      11,  2,19850530,1155,  25.6233,  127.4133,  2211,  382.300,   14.583,   34.607,2,   34.607,2, -999.000,9,  190.300,2,   11.430,2,   10.390,2,    0.000,2,    0.690,2,    1.363,2,    0.675,2, -999.000,9, -999.000,9, -999.000,9
           NA,    P03W,    365,   1,-999.0,      12,  2,19850530,1155,  25.6233,  127.4133,  2211,  444.000,   13.109,   34.490,2,   34.487,2, -999.000,9,  181.100,2,   17.390,2,   13.710,2,    0.000,2,    0.920,2,    1.159,2,    0.570,2, -999.000,9, -999.000,9, -999.000,9
           NA,    P03W,    365,   1,-999.0,      13,  2,19850530,1155,  25.6233,  127.4133,  2211,  504.400,   11.600,   34.380,2,   34.372,2, -999.000,9,  172.400,2,   24.630,2,   17.250,2,    0.000,2,    1.160,2,    1.005,2,    0.495,2, -999.000,9, -999.000,9, -999.000,9
           NA,    P03W,    365,   1,-999.0,      14,  2,19850530,1155,  25.6233,  127.4133,  2211,  565.600,    9.497,   34.249,2,   34.249,2, -999.000,9,  158.900,2,   36.120,2,   21.870,2,    0.000,2,    1.490,2, -999.000,9, -999.000,9, -999.000,9, -999.000,9, -999.000,9
           NA,    P03W,    365,   1,-999.0,      15,  2,19850530,1155,  25.6233,  127.4133,  2211,  646.500,    7.397,   34.160,2,   34.161,2, -999.000,9,  133.300,2,   54.670,2,   28.060,2,    0.000,2,    1.950,2,    0.578,2,    0.286,2, -999.000,9, -999.000,9, -999.000,9
           NA,    P03W,    365,   1,-999.0,      16,  2,19850530,1155,  25.6233,  127.4133,  2211,  727.200,    5.684,   34.163,2,   34.164,2, -999.000,9,   96.500,2,   77.980,2,   34.320,2,    0.000,2,    2.380,2,    0.329,2,    0.159,2, -999.000,9, -999.000,9, -999.000,9
           NA,    P03W,    365,   1,-999.0,      17,  2,19850530,1155,  25.6233,  127.4133,  2211,  808.000,    4.959,   34.210,2,   34.211,2, -999.000,9,   77.400,2,   92.090,2,   37.240,2,    0.000,2,    2.580,2,    0.185,2,    0.088,2, -999.000,9, -999.000,9, -999.000,9
           NA,    P03W,    365,   1,-999.0,      18,  2,19850530,1155,  25.6233,  127.4133,  2211,  909.100,    4.190,   34.301,2,   34.298,2, -999.000,9,   61.700,2,  108.190,2,   39.890,2,    0.000,2,    2.770,2,    0.065,2,    0.030,2, -999.000,9, -999.000,9, -999.000,9
           NA,    P03W,    365,   1,-999.0,      23,  2,19850530,1155,  25.6233,  127.4133,  2211, 1060.500,    3.576,   34.412,2,   34.412,2, -999.000,9,   63.400,2,  121.960,2,   40.660,2,    0.000,2,    2.820,2,    0.008,2,   -0.004,2, -999.000,9, -999.000,9, -999.000,9
           NA,    P03W,    365,   1,-999.0,      20,  2,19850530,1155,  25.6233,  127.4133,  2211, 1212.200,    3.159,   34.473,2,   34.474,2, -999.000,9,   72.900,2,  130.110,2,   40.400,2,    0.000,2,    2.800,2, -999.000,9, -999.000,9, -999.000,9, -999.000,9, -999.000,9
           NA,    P03W,    365,   1,-999.0,      21,  2,19850530,1155,  25.6233,  127.4133,  2211, 1413.600,    2.722,   34.520,2,   34.521,2, -999.000,9,   83.000,2,  136.520,2,   40.250,2,    0.000,2,    2.790,2, -999.000,9, -999.000,9, -999.000,9, -999.000,9, -999.000,9
           NA,    P03W,    365,   1,-999.0,      22,  2,19850530,1155,  25.6233,  127.4133,  2211, 1614.500,    2.371,   34.553,2,   34.553,2, -999.000,9,   92.200,2,  141.410,2,   39.850,2,    0.000,2,    2.760,2,   -0.006,2,   -0.007,2, -999.000,9, -999.000,9, -999.000,9
           NA,    P03W,    365,   1,-999.0,      39,  2,19850530,1155,  25.6233,  127.4133,  2211, 1917.800,    2.074,   34.600,2,   34.600,2, -999.000,9,  111.900,2,  145.650,2,   39.030,2,    0.000,2,    2.670,2, -999.000,9, -999.000,9, -999.000,9, -999.000,9, -999.000,9
           NA,    P03W,    365,   1,-999.0,      24,  2,19850530,1155,  25.6233,  127.4133,  2211, 2219.600,    1.929,   34.620,2,   34.620,2, -999.000,9,  119.400,2,  147.040,2,   38.480,2,    0.000,2,    2.620,2,   -0.001,2,    0.000,2, -999.000,9, -999.000,9, -999.000,9
           NA,    P03W,    363,   1,-999.0,       5,  2,19850530,0840,  25.4667,  127.5200,  2299,    0.400,   26.252,   34.494,2,   34.497,2, -999.000,9,  210.000,2,    1.270,2,    0.130,2,    0.000,2,    0.020,2, -999.000,9, -999.000,9, -999.000,9, -999.000,9, -999.000,9
           NA,    P03W,    363,   1,-999.0,      38,  2,19850530,0840,  25.4667,  127.5200,  2299,   23.000,   24.608,   34.765,2,   34.764,2, -999.000,9,  221.600,2,    1.260,2,    0.130,2,    0.000,2,    0.020,2, -999.000,9, -999.000,9, -999.000,9, -999.000,9, -999.000,9
           NA,    P03W,    363,   1,-999.0,       3,  2,19850530,0840,  25.4667,  127.5200,  2299,   42.600,   23.577,   34.766,2,   34.766,2, -999.000,9,  223.300,2,    1.250,2,    0.130,2,    0.000,2,    0.020,2, -999.000,9, -999.000,9, -999.000,9, -999.000,9, -999.000,9
           NA,    P03W,    363,   1,-999.0,       4,  2,19850530,0840,  25.4667,  127.5200,  2299,   73.400,   21.307,   34.857,2,   34.859,2, -999.000,9,  200.900,2,    2.340,2,    0.960,2,    0.160,2,    0.140,2, -999.000,9, -999.000,9, -999.000,9, -999.000,9, -999.000,9
           NA,    P03W,    363,   1,-999.0,       1,  2,19850530,0840,  25.4667,  127.5200,  2299,  103.600,   20.328,   34.874,2,   34.875,2, -999.000,9,  198.000,2,    2.770,2,    2.130,2,    0.070,2,    0.200,2, -999.000,9, -999.000,9, -999.000,9, -999.000,9, -999.000,9
           NA,    P03W,    363,   1,-999.0,       6,  2,19850530,0840,  25.4667,  127.5200,  2299,  142.400,   18.728,   34.850,2,   34.850,2, -999.000,9,  195.300,2, -999.000,5, -999.000,5, -999.000,5, -999.000,5, -999.000,9, -999.000,9, -999.000,9, -999.000,9, -999.000,9
           NA,    P03W,    363,   1,-999.0,       7,  2,19850530,0840,  25.4667,  127.5200,  2299,  180.700,   17.989,   34.834,2,   34.834,2, -999.000,9,  201.700,2,    3.410,2,    4.080,2,    0.010,2,    0.330,2, -999.000,9, -999.000,9, -999.000,9, -999.000,9, -999.000,9
           NA,    P03W,    363,   1,-999.0,       8,  2,19850530,0840,  25.4667,  127.5200,  2299,  233.800,   17.089,   34.790,2,   34.787,2, -999.000,9,  199.300,2,    4.920,2,    5.400,2,    0.010,2,    0.390,2, -999.000,9, -999.000,9, -999.000,9, -999.000,9, -999.000,9
           NA,    P03W,    363,   1,-999.0,       9,  2,19850530,0840,  25.4667,  127.5200,  2299,  285.000,   16.301,   34.736,2,   34.734,2, -999.000,9,  195.000,2,    6.440,2,    6.910,2,    0.010,2,    0.510,2, -999.000,9, -999.000,9, -999.000,9, -999.000,9, -999.000,9
           NA,    P03W,    363,   1,-999.0,      10,  2,19850530,0840,  25.4667,  127.5200,  2299,  333.900,   15.408,   34.670,2,   34.670,2, -999.000,9,  192.700,2,    8.600,2,    8.570,2,    0.010,2,    0.600,2, -999.000,9, -999.000,9, -999.000,9, -999.000,9, -999.000,9
           NA,    P03W,    363,   1,-999.0,      11,  2,19850530,0840,  25.4667,  127.5200,  2299,  383.200,   14.302,   34.584,2,   34.584,2, -999.000,9,  188.600,2,   11.850,2,   10.700,2,    0.010,2,    0.760,2, -999.000,9, -999.000,9, -999.000,9, -999.000,9, -999.000,9
           NA,    P03W,    363,   1,-999.0,      12,  2,19850530,0840,  25.4667,  127.5200,  2299,  445.300,   12.792,   34.467,2,   34.467,2, -999.000,9,  179.300,2,   18.130,2,   14.170,2,    0.010,2,    1.000,2, -999.000,9, -999.000,9, -999.000,9, -999.000,9, -999.000,9
           NA,    P03W,    363,   1,-999.0,      13,  2,19850530,0840,  25.4667,  127.5200,  2299,  506.800,   10.751,   34.327,2,   34.326,2, -999.000,9,  169.600,2,   28.530,2,   18.770,2,    0.000,2,    1.310,2, -999.000,9, -999.000,9, -999.000,9, -999.000,9, -999.000,9
           NA,    P03W,    363,   1,-999.0,      14,  2,19850530,0840,  25.4667,  127.5200,  2299,  567.100,    9.010,   34.223,2,   34.223,2, -999.000,9,  153.500,2,   39.790,2,   23.020,2,    0.000,2,    1.630,2, -999.000,9, -999.000,9, -999.000,9, -999.000,9, -999.000,9
           NA,    P03W,    363,   1,-999.0,      15,  2,19850530,0840,  25.4667,  127.5200,  2299,  648.700,    7.262,   34.157,2,   34.156,2, -999.000,9,  128.000,2,   56.930,2,   28.450,2,    0.000,2,    2.010,2, -999.000,9, -999.000,9, -999.000,9, -999.000,9, -999.000,9
           NA,    P03W,    363,   1,-999.0,      16,  2,19850530,0840,  25.4667,  127.5200,  2299,  729.800,    5.762,   34.159,2,   34.159,2, -999.000,9,   98.500,2,   76.270,2,   33.860,2,    0.000,2,    2.390,2, -999.000,9, -999.000,9, -999.000,9, -999.000,9, -999.000,9
           NA,    P03W,    363,   1,-999.0,      17,  2,19850530,0840,  25.4667,  127.5200,  2299,  809.300,    5.025,   34.198,2,   34.199,2, -999.000,9,   78.300,2,   90.180,2,   36.970,2,    0.000,2,    2.610,2, -999.000,9, -999.000,9, -999.000,9, -999.000,9, -999.000,9
           NA,    P03W,    363,   1,-999.0,      18,  2,19850530,0840,  25.4667,  127.5200,  2299,  909.500,    4.268,   34.277,2,   34.277,2, -999.000,9,   62.200,2,  109.180,2,   39.510,2,    0.000,2,    2.760,2, -999.000,9, -999.000,9, -999.000,9, -999.000,9, -999.000,9
           NA,    P03W,    363,   1,-999.0,      23,  2,19850530,0840,  25.4667,  127.5200,  2299, 1054.900,    3.598,   34.405,2,   34.406,2, -999.000,9,   61.900,2,  125.380,2,   40.530,2,    0.000,2,    2.800,2, -999.000,9, -999.000,9, -999.000,9, -999.000,9, -999.000,9
           NA,    P03W,    363,   1,-999.0,      20,  2,19850530,0840,  25.4667,  127.5200,  2299, 1197.900,    3.224,   34.463,2,   34.464,2, -999.000,9,   70.800,2,  132.780,2,   40.420,2,    0.000,2,    2.780,2, -999.000,9, -999.000,9, -999.000,9, -999.000,9, -999.000,9
           NA,    P03W,    363,   1,-999.0,      21,  2,19850530,0840,  25.4667,  127.5200,  2299, 1392.300,    2.739,   34.517,2,   34.517,2, -999.000,9,   81.700,2,  140.630,2,   39.950,2,    0.000,2,    2.750,2,    0.005,2,    0.006,2, -999.000,9, -999.000,9, -999.000,9
           NA,    P03W,    363,   1,-999.0,      22,  2,19850530,0840,  25.4667,  127.5200,  2299, 1702.500,    2.307,   34.568,2,   34.568,2, -999.000,9,   98.100,2,  144.050,2,   39.280,2,    0.000,2,    2.670,2,   -0.005,2,   -0.005,2, -999.000,9, -999.000,9, -999.000,9
           NA,    P03W,    363,   1,-999.0,      39,  2,19850530,0840,  25.4667,  127.5200,  2299, 2005.600,    2.007,   34.609,2,   34.609,2, -999.000,9,  115.100,2,  145.010,2,   38.510,2,    0.000,2,    2.610,2,   -0.004,2,   -0.007,2, -999.000,9, -999.000,9, -999.000,9
           NA,    P03W,    363,   1,-999.0,      24,  2,19850530,0840,  25.4667,  127.5200,  2299, 2318.700,    1.843,   34.632,2,   34.633,2, -999.000,9,  126.300,2,  145.760,2,   37.800,2,    0.000,2,    2.550,2,   -0.001,2,   -0.004,2, -999.000,9, -999.000,9, -999.000,9