BOTTLE,20203103JOAExport
EXPOCODE,SECT_ID,STNNBR,CASTNO,SAMPNO,BTLNBR,BTLNBR_FLAG_W,DATE,TIME,LATITUDE,LONGITUDE,DEPTH,CTDPRS,CTDTMP,CTDSAL,CTDSAL_FLAG_W,SALNTY,SALNTY_FLAG_W,CTDOXY,CTDOXY_FLAG_W,OXYGEN,OXYGEN_FLAG_W,SILCAT,SILCAT_FLAG_W,NITRAT,NITRAT_FLAG_W,NITRIT,NITRIT_FLAG_W,PHSPHT,PHSPHT_FLAG_W,CFC-11,CFC-11_FLAG_W,CFC-12,CFC-12_FLAG_W,SF6,SF6_FLAG_W,TCARBN,TCARBN_FLAG_W,ALKALI,ALKALI_FLAG_W
,,,,,,,,,,,,,DB,ITS-90,PSS-78,,PSS-78,,UMOL/KG,,UMOL/KG,,UMOL/KG,,UMOL/KG,,UMOL/KG,,UMOL/KG,,PMOL/KG,,PMOL/KG,,FMOL/KG,,UMOL/KG,,UMOL/KG
           NA,    P03E,     74,   1,-999.0,       1,  2,19850411,0241,  24.2717, -141.1417,  4994,    2.400,   21.110,   35.108,2,   35.111,2, -999.000,9,  225.800,2,    0.920,2,    0.180,2,    0.000,2,    0.110,2, -999.000,9, -999.000,9, -999.000,9, -999.000,9, -999.000,9
           NA,    P03E,     74,   1,-999.0,       2,  2,19850411,0241,  24.2717, -141.1417,  4994,   21.900,   20.874,   35.115,2,   35.105,2, -999.000,9,  227.100,2,    0.700,2,    0.180,2,    0.000,2,    0.110,2, -999.000,9, -999.000,9, -999.000,9, -999.000,9, -999.000,9
           NA,    P03E,     74,   1,-999.0,       3,  2,19850411,0241,  24.2717, -141.1417,  4994,   36.900,   20.677,   35.184,2,   35.180,2, -999.000,9,  227.900,2,    0.670,2,    0.180,2,    0.000,2,    0.110,2, -999.000,9, -999.000,9, -999.000,9, -999.000,9, -999.000,9
           NA,    P03E,     74,   1,-999.0,       4,  2,19850411,0241,  24.2717, -141.1417,  4994,   56.600,   20.561,   35.265,2,   35.253,2, -999.000,9,  226.200,2,    0.650,2,    0.130,2,    0.000,2,    0.100,2, -999.000,9, -999.000,9, -999.000,9, -999.000,9, -999.000,9
           NA,    P03E,     74,   1,-999.0,       5,  2,19850411,0241,  24.2717, -141.1417,  4994,   76.400,   20.547,   35.318,2,   35.318,2, -999.000,9,  224.800,2,    0.620,2,    0.130,2,    0.000,2,    0.090,2, -999.000,9, -999.000,9, -999.000,9, -999.000,9, -999.000,9
           NA,    P03E,     74,   1,-999.0,       6,  2,19850411,0241,  24.2717, -141.1417,  4994,   96.000,   20.492,   35.316,2,   35.315,2, -999.000,9,  223.500,2,    0.590,2,    0.160,2,    0.020,2,    0.090,2, -999.000,9, -999.000,9, -999.000,9, -999.000,9, -999.000,9
           NA,    P03E,     74,   1,-999.0,       7,  2,19850411,0241,  24.2717, -141.1417,  4994,  125.400,   20.432,   35.308,2,   35.309,2, -999.000,9,  222.200,2,    0.560,2,    0.140,2,    0.040,2,    0.100,2, -999.000,9, -999.000,9, -999.000,9, -999.000,9, -999.000,9
           NA,    P03E,     74,   1,-999.0,       8,  2,19850411,0241,  24.2717, -141.1417,  4994,  154.900,   20.408,   35.312,2,   35.311,2, -999.000,9,  218.700,2,    0.540,2,    0.210,2,    0.140,2,    0.110,2, -999.000,9, -999.000,9, -999.000,9, -999.000,9, -999.000,9
           NA,    P03E,     74,   1,-999.0,       9,  2,19850411,0241,  24.2717, -141.1417,  4994,  195.500,   20.272,   35.335,2,   35.335,2, -999.000,9,  220.500,2,    0.510,2,    0.240,2,    0.110,2,    0.100,2, -999.000,9, -999.000,9, -999.000,9, -999.000,9, -999.000,9
           NA,    P03E,     74,   1,-999.0,      10,  2,19850411,0241,  24.2717, -141.1417,  4994,  235.900,   19.348,   35.286,2,   35.278,2, -999.000,9,  220.400,2,    1.050,2,    0.550,2,    0.150,2,    0.110,2, -999.000,9, -999.000,9, -999.000,9, -999.000,9, -999.000,9
           NA,    P03E,     74,   1,-999.0,      11,  2,19850411,0241,  24.2717, -141.1417,  4994,  287.500,   15.101,   34.461,2,   34.433,2, -999.000,9,  201.600,2,    4.790,2,    5.620,2, -999.000,5,    0.490,2, -999.000,9, -999.000,9, -999.000,9, -999.000,9, -999.000,9
           NA,    P03E,     74,   1,-999.0,      12,  2,19850411,0241,  24.2717, -141.1417,  4994,  337.900,   11.198,   34.048,2,   34.048,2, -999.000,9,  177.200,2,   14.550,2,   14.900,2,    0.000,2,    1.120,2, -999.000,9, -999.000,9, -999.000,9, -999.000,9, -999.000,9
           NA,    P03E,     74,   1,-999.0,      13,  2,19850411,0241,  24.2717, -141.1417,  4994,  398.500,    9.382,   34.076,2,   34.075,2, -999.000,9,  184.500,2,   22.430,2,   19.020,2,    0.000,2,    1.320,2, -999.000,9, -999.000,9, -999.000,9, -999.000,9, -999.000,9
           NA,    P03E,     74,   1,-999.0,      14,  2,19850411,0241,  24.2717, -141.1417,  4994,  459.000,    8.631,   34.209,2,   34.205,2, -999.000,9,   84.800,2,   39.160,2,   28.780,2,    0.000,2,    2.180,2, -999.000,9, -999.000,9, -999.000,9, -999.000,9, -999.000,9
           NA,    P03E,     74,   1,-999.0,      15,  2,19850411,0241,  24.2717, -141.1417,  4994,  529.000,    6.395,   34.035,2,   34.036,2, -999.000,9,   97.000,2,   55.900,2,   33.700,2,    0.000,2,    2.310,2, -999.000,9, -999.000,9, -999.000,9, -999.000,9, -999.000,9
           NA,    P03E,     74,   1,-999.0,      16,  2,19850411,0241,  24.2717, -141.1417,  4994,  608.600,    5.397,   34.146,2,   34.144,2, -999.000,9,   40.400,2,   77.180,2,   40.720,2,    0.000,2,    2.800,2, -999.000,9, -999.000,9, -999.000,9, -999.000,9, -999.000,9
           NA,    P03E,     74,   1,-999.0,      17,  2,19850411,0241,  24.2717, -141.1417,  4994,  709.100,    5.174,   34.313,2,   34.315,2, -999.000,9,   19.600,2,   87.900,2,   43.130,2,    0.000,2,    2.990,2, -999.000,9, -999.000,9, -999.000,9, -999.000,9, -999.000,9
           NA,    P03E,     74,   1,-999.0,      18,  2,19850411,0241,  24.2717, -141.1417,  4994,  809.500,    4.861,   34.402,2,   34.401,2, -999.000,9,   25.200,2,   94.090,2,   43.750,2,    0.000,2,    3.020,2, -999.000,9, -999.000,9, -999.000,9, -999.000,9, -999.000,9
           NA,    P03E,     74,   1,-999.0,      19,  2,19850411,0241,  24.2717, -141.1417,  4994,  910.000,    4.566,   34.438,2,   34.439,2, -999.000,9,   28.700,2,   99.710,2,   44.320,2,    0.000,2,    3.020,2, -999.000,9, -999.000,9, -999.000,9, -999.000,9, -999.000,9
           NA,    P03E,     74,   1,-999.0,      20,  2,19850411,0241,  24.2717, -141.1417,  4994, 1011.200,    4.137,   34.468,2,   34.468,2, -999.000,9,   36.100,2,  108.370,2,   44.270,2,    0.000,2,    3.010,2, -999.000,9, -999.000,9, -999.000,9, -999.000,9, -999.000,9
           NA,    P03E,     74,   1,-999.0,      21,  2,19850411,0241,  24.2717, -141.1417,  4994, 1111.300,    3.838,   34.496,2,   34.497,2, -999.000,9,   40.900,2,  114.000,2,   44.220,2,    0.000,2,    3.000,2, -999.000,9, -999.000,9, -999.000,9, -999.000,9, -999.000,9
           NA,    P03E,     74,   1,-999.0,      22,  2,19850411,0241,  24.2717, -141.1417,  4994, 1263.000,    3.512,   34.524,2, -999.000,5, -999.000,9,   47.800,2,  121.720,2,   44.070,2,    0.000,2,    2.980,2, -999.000,9, -999.000,9, -999.000,9, -999.000,9, -999.000,9
           NA,    P03E,     74,   1,-999.0,      23,  2,19850411,0241,  24.2717, -141.1417,  4994, 1413.800,    3.118,   34.549,2,   34.549,2, -999.000,9,   57.400,2,  131.350,2,   43.710,2,    0.000,2,    2.940,2, -999.000,9, -999.000,9, -999.000,9, -999.000,9, -999.000,9
           NA,    P03E,     74,   1,-999.0,      24,  2,19850411,0241,  24.2717, -141.1417,  4994, 1615.700,    2.722,   34.572,2,   34.572,2, -999.000,9,   66.100,2,  140.610,2,   43.140,2,    0.000,2,    2.900,2, -999.000,9, -999.000,9, -999.000,9, -999.000,9, -999.000,9
           NA,    P03E,     74,   1,-999.0,      25,  2,19850411,0241,  24.2717, -141.1417,  4994, 1817.800,    2.373,   34.594,2,   34.595,2, -999.000,9,   74.300,2,  150.260,2,   42.320,2,    0.000,2,    2.850,2, -999.000,9, -999.000,9, -999.000,9, -999.000,9, -999.000,9
           NA,    P03E,     74,   1,-999.0,      26,  2,19850411,0241,  24.2717, -141.1417,  4994, 2019.300,    2.124,   34.612,2,   34.612,2, -999.000,9,   82.100,2,  157.640,2,   42.120,2,    0.000,2,    2.800,2, -999.000,9, -999.000,9, -999.000,9, -999.000,9, -999.000,9
           NA,    P03E,     74,   1,-999.0,      27,  2,19850411,0241,  24.2717, -141.1417,  4994, 2221.900,    1.931,   34.629,2,   34.629,2, -999.000,9,   92.600,2,  161.200,2,   41.560,2,    0.000,2,    2.750,2, -999.000,9, -999.000,9, -999.000,9, -999.000,9, -999.000,9
           NA,    P03E,     74,   1,-999.0,      28,  2,19850411,0241,  24.2717, -141.1417,  4994, 2526.400,    1.726,   34.645,2,   34.646,2, -999.000,9,  103.000,2,  166.680,2,   40.700,2,    0.000,2,    2.690,2, -999.000,9, -999.000,9, -999.000,9, -999.000,9, -999.000,9
           NA,    P03E,     74,   1,-999.0,      29,  2,19850411,0241,  24.2717, -141.1417,  4994, 2830.600,    1.592,   34.659,2,   34.659,2, -999.000,9,  116.000,2,  166.620,2,   39.740,2,    0.000,2,    2.610,2, -999.000,9, -999.000,9, -999.000,9, -999.000,9, -999.000,9
           NA,    P03E,     74,   1,-999.0,      30,  2,19850411,0241,  24.2717, -141.1417,  4994, 3134.700,    1.520,   34.668,2,   34.668,2, -999.000,9,  126.900,2,  165.030,2,   38.780,2,    0.000,2,    2.560,2, -999.000,9, -999.000,9, -999.000,9, -999.000,9, -999.000,9
           NA,    P03E,     74,   1,-999.0,      31,  2,19850411,0241,  24.2717, -141.1417,  4994, 3438.300,    1.479,   34.675,2,   34.675,2, -999.000,9,  137.300,2,  162.680,2,   38.530,2,    0.000,2,    2.510,2, -999.000,9, -999.000,9, -999.000,9, -999.000,9, -999.000,9
           NA,    P03E,     74,   1,-999.0,      32,  2,19850411,0241,  24.2717, -141.1417,  4994, 3742.700,    1.466,   34.679,2,   34.679,2, -999.000,9,  143.000,2,  160.330,2,   38.040,2,    0.000,2,    2.490,2, -999.000,9, -999.000,9, -999.000,9, -999.000,9, -999.000,9
           NA,    P03E,     74,   1,-999.0,      37,  2,19850411,0241,  24.2717, -141.1417,  4994, 4047.700,    1.467,   34.682,2,   34.682,2, -999.000,9,  148.600,2,  156.840,2,   37.640,2,    0.000,2,    2.450,2, -999.000,9, -999.000,9, -999.000,9, -999.000,9, -999.000,9
           NA,    P03E,     74,   1,-999.0,      34,  2,19850411,0241,  24.2717, -141.1417,  4994, 4401.100,    1.492,   34.684,2,   34.684,2, -999.000,9,  152.100,2,  155.060,2,   37.290,2,    0.000,2,    2.430,2, -999.000,9, -999.000,9, -999.000,9, -999.000,9, -999.000,9
           NA,    P03E,     74,   1,-999.0,      35,  2,19850411,0241,  24.2717, -141.1417,  4994, 4759.300,    1.514,   34.686,2,   34.686,2, -999.000,9,  155.100,2,  151.200,2,   37.200,2,    0.000,2,    2.410,2, -999.000,9, -999.000,9, -999.000,9, -999.000,9, -999.000,9
           NA,    P03E,     74,   1,-999.0,      36,  2,19850411,0241,  24.2717, -141.1417,  4994, 5066.500,    1.487,   34.689,2,   34.690,2, -999.000,9,  165.100,2,  143.730,2,   36.460,2,    0.000,2,    2.360,2, -999.000,9, -999.000,9, -999.000,9, -999.000,9, -999.000,9