BOTTLE,20203103JOAExport
EXPOCODE,SECT_ID,STNNBR,CASTNO,SAMPNO,BTLNBR,BTLNBR_FLAG_W,DATE,TIME,LATITUDE,LONGITUDE,DEPTH,CTDPRS,CTDTMP,CTDSAL,CTDSAL_FLAG_W,SALNTY,SALNTY_FLAG_W,CTDOXY,CTDOXY_FLAG_W,OXYGEN,OXYGEN_FLAG_W,SILCAT,SILCAT_FLAG_W,NITRAT,NITRAT_FLAG_W,NITRIT,NITRIT_FLAG_W,PHSPHT,PHSPHT_FLAG_W,CFC-11,CFC-11_FLAG_W,CFC-12,CFC-12_FLAG_W,SF6,SF6_FLAG_W,TCARBN,TCARBN_FLAG_W,ALKALI,ALKALI_FLAG_W
,,,,,,,,,,,,,DB,ITS-90,PSS-78,,PSS-78,,UMOL/KG,,UMOL/KG,,UMOL/KG,,UMOL/KG,,UMOL/KG,,UMOL/KG,,PMOL/KG,,PMOL/KG,,FMOL/KG,,UMOL/KG,,UMOL/KG
           NA,    P03W,    223,   1,-999.0,       1,  2,19850508,1515,  24.2733,  169.5267,  6126,    0.000,   25.100,   35.123,2,   35.125,2, -999.000,9,  209.900,2,    0.450,2,    0.010,2,    0.000,2,    0.010,2,    1.489,2,    0.755,2, -999.000,9, -999.000,9, -999.000,9
           NA,    P03W,    223,   1,-999.0,       2,  2,19850508,1515,  24.2733,  169.5267,  6126,   25.500,   24.939,   35.262,2,   35.250,2, -999.000,9,  210.300,2,    0.400,2,    0.010,2,    0.000,2,    0.000,2, -999.000,9, -999.000,9, -999.000,9, -999.000,9, -999.000,9
           NA,    P03W,    223,   1,-999.0,       3,  2,19850508,1515,  24.2733,  169.5267,  6126,   45.100,   24.636,   35.310,2,   35.314,2, -999.000,9,  211.600,2,    0.340,2,    0.010,2,    0.000,2,    0.000,2, -999.000,9, -999.000,9, -999.000,9, -999.000,9, -999.000,9
           NA,    P03W,    223,   1,-999.0,       4,  2,19850508,1515,  24.2733,  169.5267,  6126,   75.100,   24.005,   35.282,2,   35.288,2, -999.000,9,  210.200,2,    0.290,2,    0.010,2,    0.000,2,    0.000,2, -999.000,9, -999.000,9, -999.000,9, -999.000,9, -999.000,9
           NA,    P03W,    223,   1,-999.0,       5,  2,19850508,1515,  24.2733,  169.5267,  6126,  105.400,   23.536,   35.298,2,   35.305,2, -999.000,9,  211.500,2,    0.230,2,    0.010,2,    0.000,2,    0.000,2,    1.577,2,    0.780,2, -999.000,9, -999.000,9, -999.000,9
           NA,    P03W,    223,   1,-999.0,       6,  2,19850508,1515,  24.2733,  169.5267,  6126,  145.700,   21.887,   35.155,2,   35.157,2, -999.000,9,  194.400,2,    1.280,2,    0.430,2,    0.120,2,    0.100,2, -999.000,9, -999.000,9, -999.000,9, -999.000,9, -999.000,9
           NA,    P03W,    223,   1,-999.0,       7,  2,19850508,1515,  24.2733,  169.5267,  6126,  185.700,   19.501,   34.975,2,   34.975,2, -999.000,9,  197.000,2,    1.890,2,    1.660,2,    0.020,2,    0.180,2, -999.000,9, -999.000,9, -999.000,9, -999.000,9, -999.000,9
           NA,    P03W,    223,   1,-999.0,       8,  2,19850508,1515,  24.2733,  169.5267,  6126,  236.600,   17.049,   34.780,2,   34.781,2, -999.000,9,  206.500,2,    3.150,2,    3.830,2,    0.000,2,    0.300,2,    1.832,2,    0.884,2, -999.000,9, -999.000,9, -999.000,9
           NA,    P03W,    223,   1,-999.0,       9,  2,19850508,1515,  24.2733,  169.5267,  6126,  286.000,   15.799,   34.697,2,   34.695,2, -999.000,9,  210.800,2,    4.630,2,    5.790,2,    0.000,2,    0.400,2,    1.857,2,    0.891,2, -999.000,9, -999.000,9, -999.000,9
           NA,    P03W,    223,   1,-999.0,      10,  2,19850508,1515,  24.2733,  169.5267,  6126,  336.400,   14.781,   34.605,2,   34.599,2, -999.000,9,  209.400,2,    6.770,2,    7.410,2,    0.000,2,    0.510,2,    1.825,2,    0.992,2, -999.000,9, -999.000,9, -999.000,9
           NA,    P03W,    223,   1,-999.0,      11,  2,19850508,1515,  24.2733,  169.5267,  6126,  386.800,   13.540,   34.491,2,   34.490,2, -999.000,9,  206.800,2,   10.000,2,    9.620,2,    0.000,2,    0.660,2, -999.000,9, -999.000,9, -999.000,9, -999.000,9, -999.000,9
           NA,    P03W,    223,   1,-999.0,      12,  2,19850508,1515,  24.2733,  169.5267,  6126,  447.000,   12.147,   34.362,2,   34.354,2, -999.000,9,  198.000,2,   14.530,2,   12.840,2,    0.000,2,    0.880,2,    1.444,2,    0.719,2, -999.000,9, -999.000,9, -999.000,9
           NA,    P03W,    223,   1,-999.0,      13,  2,19850508,1515,  24.2733,  169.5267,  6126,  507.400,   10.435,   34.249,2,   34.249,2, -999.000,9,  187.500,2,   21.900,2,   17.020,2,    0.000,2,    1.160,2, -999.000,9, -999.000,9, -999.000,9, -999.000,9, -999.000,9
           NA,    P03W,    223,   1,-999.0,      14,  2,19850508,1515,  24.2733,  169.5267,  6126,  566.700,    8.718,   34.137,2,   34.136,2, -999.000,9,  177.900,2,   32.320,2,   21.350,2,    0.000,2,    1.450,2,    1.130,2,    0.504,2, -999.000,9, -999.000,9, -999.000,9
           NA,    P03W,    223,   1,-999.0,      15,  2,19850508,1515,  24.2733,  169.5267,  6126,  644.600,    7.056,   34.072,2,   34.071,2, -999.000,9,  140.100,2,   49.480,2,   28.060,2,    0.000,2,    1.900,2, -999.000,9, -999.000,9, -999.000,9, -999.000,9, -999.000,9
           NA,    P03W,    223,   1,-999.0,      16,  2,19850508,1515,  24.2733,  169.5267,  6126,  719.600,    6.026,   34.105,2,   34.104,2, -999.000,9,   96.100,2,   66.370,2,   33.770,2,    0.000,2,    2.330,2,    0.283,2,    0.154,2, -999.000,9, -999.000,9, -999.000,9
           NA,    P03W,    223,   1,-999.0,      17,  2,19850508,1515,  24.2733,  169.5267,  6126,  799.300,    4.905,   34.159,2,   34.157,2, -999.000,9,   65.200,2,   87.590,2,   39.030,2,    0.000,2,    2.640,2, -999.000,9, -999.000,9, -999.000,9, -999.000,9, -999.000,9
           NA,    P03W,    223,   1,-999.0,      18,  2,19850508,1515,  24.2733,  169.5267,  6126,  882.100,    4.382,   34.257,2,   34.254,2, -999.000,9,   44.300,2,  102.880,2,   41.880,2,    0.000,2,    2.820,2,    0.028,2, -999.000,9, -999.000,9, -999.000,9, -999.000,9
           NA,    P03W,    223,   1,-999.0,      39,  2,19850508,1515,  24.2733,  169.5267,  6126, 1003.400,    3.923,   34.365,2,   34.363,2, -999.000,9,   40.400,2,  116.170,2,   42.980,2,    0.000,2,    2.890,2, -999.000,9, -999.000,9, -999.000,9, -999.000,9, -999.000,9
           NA,    P03W,    223,   1,-999.0,      20,  2,19850508,1515,  24.2733,  169.5267,  6126, 1143.900,    3.617,   34.455,2,   34.452,2, -999.000,9,   51.700,2,  123.570,2,   42.420,2,    0.000,2,    2.850,2, -999.000,9, -999.000,9, -999.000,9, -999.000,9, -999.000,9
           NA,    P03W,    223,   1,-999.0,      21,  2,19850508,1515,  24.2733,  169.5267,  6126, 1344.600,    3.107,   34.518,2,   34.516,2, -999.000,9,   65.200,2,  134.430,2,   42.030,2,    0.000,2,    2.800,2, -999.000,9, -999.000,9, -999.000,9, -999.000,9, -999.000,9
           NA,    P03W,    223,   1,-999.0,      22,  2,19850508,1515,  24.2733,  169.5267,  6126, 1536.300,    2.664,   34.551,2,   34.550,2, -999.000,9,   74.800,2,  144.390,2,   41.800,2,    0.000,2,    2.760,2, -999.000,9, -999.000,9, -999.000,9, -999.000,9, -999.000,9
           NA,    P03W,    223,   1,-999.0,      23,  2,19850508,1515,  24.2733,  169.5267,  6126, 1730.700,    2.346,   34.581,2,   34.578,2, -999.000,9,   84.700,2,  150.220,2,   41.300,2,    0.000,2,    2.740,2, -999.000,9, -999.000,9, -999.000,9, -999.000,9, -999.000,9
           NA,    P03W,    223,   1,-999.0,      24,  2,19850508,1515,  24.2733,  169.5267,  6126, 1932.300,    2.114,   34.603,2,   34.601,2, -999.000,9,   94.300,2,  153.010,2,   40.750,2,    0.000,2,    2.700,2, -999.000,9, -999.000,9, -999.000,9, -999.000,9, -999.000,9
           NA,    P03W,    223,   1,-999.0,      25,  2,19850508,1515,  24.2733,  169.5267,  6126, 2132.400,    1.952,   34.620,2,   34.618,2, -999.000,9,  102.600,2,  153.850,2,   39.820,2,    0.000,2,    2.660,2, -999.000,9, -999.000,9, -999.000,9, -999.000,9, -999.000,9
           NA,    P03W,    223,   1,-999.0,      26,  2,19850508,1515,  24.2733,  169.5267,  6126, 2437.700,    1.762,   34.641,2,   34.639,2, -999.000,9,  115.200,2,  155.330,2,   39.210,2,    0.000,2,    2.590,2, -999.000,9, -999.000,9, -999.000,9, -999.000,9, -999.000,9
           NA,    P03W,    223,   1,-999.0,      27,  2,19850508,1515,  24.2733,  169.5267,  6126, 2743.400,    1.648,   34.653,2,   34.650,2, -999.000,9,  124.300,2,  155.300,2,   38.610,2,    0.000,2,    2.560,2, -999.000,9, -999.000,9, -999.000,9, -999.000,9, -999.000,9
           NA,    P03W,    223,   1,-999.0,      28,  2,19850508,1515,  24.2733,  169.5267,  6126, 3047.400,    1.587,   34.662,2,   34.659,2, -999.000,9,  131.200,2,  151.600,2,   37.740,2,    0.000,2,    2.530,2, -999.000,9, -999.000,9, -999.000,9, -999.000,9, -999.000,9
           NA,    P03W,    223,   1,-999.0,      29,  2,19850508,1515,  24.2733,  169.5267,  6126, 3356.500,    1.541,   34.669,2,   34.665,2, -999.000,9,  138.200,2,  152.220,2,   37.850,2,    0.000,2,    2.490,2, -999.000,9, -999.000,9, -999.000,9, -999.000,9, -999.000,9
           NA,    P03W,    223,   1,-999.0,      30,  2,19850508,1515,  24.2733,  169.5267,  6126, 3669.700,    1.510,   34.674,2,   34.672,2, -999.000,9,  144.700,2,  150.910,2,   37.150,2,    0.000,2,    2.450,2, -999.000,9, -999.000,9, -999.000,9, -999.000,9, -999.000,9
           NA,    P03W,    223,   1,-999.0,      31,  2,19850508,1515,  24.2733,  169.5267,  6126, 4089.000,    1.483,   34.680,2,   34.677,2, -999.000,9,  153.800,2,  145.950,2,   36.610,2,    0.000,2,    2.410,2, -999.000,9, -999.000,9, -999.000,9, -999.000,9, -999.000,9
           NA,    P03W,    223,   1,-999.0,      32,  2,19850508,1515,  24.2733,  169.5267,  6126, 4498.300,    1.463,   34.686,2,   34.683,2, -999.000,9,  162.100,2,  141.220,2,   35.850,2,    0.000,2,    2.390,2, -999.000,9, -999.000,9, -999.000,9, -999.000,9, -999.000,9
           NA,    P03W,    223,   1,-999.0,      33,  2,19850508,1515,  24.2733,  169.5267,  6126, 4889.800,    1.452,   34.690,2,   34.687,2, -999.000,9,  169.000,2,  135.860,2,   35.420,2,    0.000,2,    2.340,2, -999.000,9, -999.000,9, -999.000,9, -999.000,9, -999.000,9
           NA,    P03W,    223,   1,-999.0,      34,  2,19850508,1515,  24.2733,  169.5267,  6126, 5312.600,    1.458,   34.693,2,   34.691,2, -999.000,9,  175.500,2,  133.930,2,   34.890,2,    0.000,2,    2.320,2, -999.000,9, -999.000,9, -999.000,9, -999.000,9, -999.000,9
           NA,    P03W,    223,   1,-999.0,      35,  2,19850508,1515,  24.2733,  169.5267,  6126, 5727.000,    1.482,   34.695,2,   34.693,2, -999.000,9,  180.300,2,  132.000,2, -999.000,5,    0.000,2,    2.300,2, -999.000,9, -999.000,9, -999.000,9, -999.000,9, -999.000,9
           NA,    P03W,    223,   1,-999.0,      36,  2,19850508,1515,  24.2733,  169.5267,  6126, 6230.000,    1.536,   34.696,2,   34.693,2, -999.000,9,  182.100,2,  129.650,2,   34.670,2,    0.000,2,    2.300,2, -999.000,9, -999.000,9, -999.000,9, -999.000,9, -999.000,9