BOTTLE,20203103JOAExport
EXPOCODE,SECT_ID,STNNBR,CASTNO,SAMPNO,BTLNBR,BTLNBR_FLAG_W,DATE,TIME,LATITUDE,LONGITUDE,DEPTH,CTDPRS,CTDTMP,CTDSAL,CTDSAL_FLAG_W,SALNTY,SALNTY_FLAG_W,CTDOXY,CTDOXY_FLAG_W,OXYGEN,OXYGEN_FLAG_W,SILCAT,SILCAT_FLAG_W,NITRAT,NITRAT_FLAG_W,NITRIT,NITRIT_FLAG_W,PHSPHT,PHSPHT_FLAG_W,CFC-11,CFC-11_FLAG_W,CFC-12,CFC-12_FLAG_W,SF6,SF6_FLAG_W,TCARBN,TCARBN_FLAG_W,ALKALI,ALKALI_FLAG_W
,,,,,,,,,,,,,DB,ITS-90,PSS-78,,PSS-78,,UMOL/KG,,UMOL/KG,,UMOL/KG,,UMOL/KG,,UMOL/KG,,UMOL/KG,,PMOL/KG,,PMOL/KG,,FMOL/KG,,UMOL/KG,,UMOL/KG
           NA,    P03E,    118,   2,-999.0,       1,  2,19850418,0817,  24.2617, -157.4950,  4278,    0.000,   22.590,   35.364,2,   35.371,2, -999.000,9,  219.900,2,    1.830,2,    0.010,2,    0.000,2,    0.090,2,    1.682,2,    0.865,2, -999.000,9, -999.000,9, -999.000,9
           NA,    P03E,    118,   2,-999.0,       2,  2,19850418,0817,  24.2617, -157.4950,  4278,   23.800,   22.548,   35.365,2,   35.368,2, -999.000,9,  219.900,2,    1.760,2,    0.010,2,    0.000,2,    0.050,2,    1.633,2,    0.839,2, -999.000,9, -999.000,9, -999.000,9
           NA,    P03E,    118,   2,-999.0,       3,  2,19850418,0817,  24.2617, -157.4950,  4278,   43.400,   22.450,   35.361,2,   35.365,2, -999.000,9,  221.400,2,    1.700,2,    0.010,2,    0.000,2,    0.050,2, -999.000,9, -999.000,9, -999.000,9, -999.000,9, -999.000,9
           NA,    P03E,    118,   2,-999.0,       4,  2,19850418,0817,  24.2617, -157.4950,  4278,   72.900,   22.226,   35.354,2,   35.355,2, -999.000,9,  219.000,2,    1.630,2,    0.010,2,    0.000,2,    0.040,2,    1.671,2,    0.860,2, -999.000,9, -999.000,9, -999.000,9
           NA,    P03E,    118,   2,-999.0,       5,  2,19850418,0817,  24.2617, -157.4950,  4278,  103.000,   22.100,   35.349,2,   35.348,2, -999.000,9,  216.100,2,    1.560,2,    0.000,2,    0.010,2,    0.040,2,    1.672,2,    0.851,2, -999.000,9, -999.000,9, -999.000,9
           NA,    P03E,    118,   2,-999.0,       6,  2,19850418,0817,  24.2617, -157.4950,  4278,  143.000,   20.979,   35.207,2,   35.219,2, -999.000,9,  202.700,2,    2.220,2,    0.950,2,    0.060,2,    0.130,2,    1.654,2,    0.842,2, -999.000,9, -999.000,9, -999.000,9
           NA,    P03E,    118,   2,-999.0,       7,  2,19850418,0817,  24.2617, -157.4950,  4278,  180.800,   18.949,   34.976,2,   34.972,2, -999.000,9,  197.600,2,    3.070,2,    2.630,2,    0.020,2,    0.250,2,    1.712,2,    0.865,2, -999.000,9, -999.000,9, -999.000,9
           NA,    P03E,    118,   2,-999.0,       8,  2,19850418,0817,  24.2617, -157.4950,  4278,  224.400,   16.649,   34.750,2,   34.743,2, -999.000,9,  200.300,2,    4.650,2,    4.550,2,    0.010,2,    0.380,2,    1.798,2,    0.889,2, -999.000,9, -999.000,9, -999.000,9
           NA,    P03E,    118,   2,-999.0,       9,  2,19850418,0817,  24.2617, -157.4950,  4278,  265.100,   14.667,   34.536,2,   34.528,2, -999.000,9,  205.100,2,    7.320,2,    7.060,2,    0.000,2,    0.570,2,    1.847,2,    0.910,2, -999.000,9, -999.000,9, -999.000,9
           NA,    P03E,    118,   2,-999.0,      10,  2,19850418,0817,  24.2617, -157.4950,  4278,  315.100,   12.385,   34.298,2,   34.296,2, -999.000,9,  210.700,2,   10.910,2,   10.170,2,    0.000,2,    0.740,2,    1.836,2,    0.894,2, -999.000,9, -999.000,9, -999.000,9
           NA,    P03E,    118,   2,-999.0,      11,  2,19850418,0817,  24.2617, -157.4950,  4278,  365.000,   11.134,   34.205,2,   34.202,2, -999.000,9,  207.700,2,   15.050,2,   12.780,2,    0.000,2,    0.930,2,    1.641,2,    0.794,2, -999.000,9, -999.000,9, -999.000,9
           NA,    P03E,    118,   2,-999.0,      12,  2,19850418,0817,  24.2617, -157.4950,  4278,  416.600,    9.758,   34.134,2,   34.130,2, -999.000,9,  196.600,2,   21.940,2,   17.620,2,    0.000,2,    1.220,2,    1.330,2,    0.640,2, -999.000,9, -999.000,9, -999.000,9
           NA,    P03E,    118,   2,-999.0,      13,  2,19850418,0817,  24.2617, -157.4950,  4278,  466.400,    8.276,   34.070,2,   34.070,2, -999.000,9,  166.700,2,   33.230,2,   23.080,2,    0.000,2,    1.610,2,    0.791,2,    0.403,2, -999.000,9, -999.000,9, -999.000,9
           NA,    P03E,    118,   2,-999.0,      14,  2,19850418,0817,  24.2617, -157.4950,  4278,  526.300,    7.068,   34.037,2,   34.038,2, -999.000,9,  128.500,2,   47.660,2,   29.090,2,    0.000,2,    2.030,2,    0.367,2,    0.205,2, -999.000,9, -999.000,9, -999.000,9
           NA,    P03E,    118,   2,-999.0,      15,  2,19850418,0817,  24.2617, -157.4950,  4278,  587.000,    6.055,   34.084,2,   34.085,2, -999.000,9,   77.400,2,   65.640,2,   35.320,2,    0.000,2,    2.480,2,    0.110,6,    0.065,2, -999.000,9, -999.000,9, -999.000,9
           NA,    P03E,    118,   2,-999.0,      16,  2,19850418,0817,  24.2617, -157.4950,  4278,  648.700,    5.431,   34.129,2,   34.131,2, -999.000,9,   53.500,2,   78.690,2,   38.570,2,    0.000,2,    2.730,2,    0.038,6,    0.025,6, -999.000,9, -999.000,9, -999.000,9
           NA,    P03E,    118,   2,-999.0,      38,  2,19850418,0817,  24.2617, -157.4950,  4278,  709.200,    5.017,   34.197,2,   34.193,2, -999.000,9,   36.600,2,   88.450,2,   40.700,2,    0.000,2,    2.920,2,    0.019,6,    0.005,6, -999.000,9, -999.000,9, -999.000,9
           NA,    P03E,    118,   2,-999.0,      18,  2,19850418,0817,  24.2617, -157.4950,  4278,  810.100,    4.705,   34.304,2,   34.305,2, -999.000,9,   24.500,2,   97.500,2,   42.290,2,    0.000,2,    3.010,2,    0.005,2,   -0.001,2, -999.000,9, -999.000,9, -999.000,9
           NA,    P03E,    118,   2,-999.0,      19,  2,19850418,0817,  24.2617, -157.4950,  4278,  910.400,    4.172,   34.391,2,   34.390,2, -999.000,9,   30.700,2,  110.150,2,   42.790,2,    0.000,2,    3.010,2,   -0.001,2,   -0.001,2, -999.000,9, -999.000,9, -999.000,9
           NA,    P03E,    118,   2,-999.0,      20,  2,19850418,0817,  24.2617, -157.4950,  4278, 1062.000,    3.800,   34.480,2,   34.481,2, -999.000,9,   48.900,2,  117.960,2,   42.020,2,    0.000,2,    2.940,2,    0.005,2,   -0.001,2, -999.000,9, -999.000,9, -999.000,9
           NA,    P03E,    118,   2,-999.0,      21,  2,19850418,0817,  24.2617, -157.4950,  4278, 1213.500,    3.447,   34.519,2,   34.520,2, -999.000,9,   55.800,2,  125.420,2,   41.760,2,    0.000,2,    2.930,2,   -0.005,2,   -0.005,2, -999.000,9, -999.000,9, -999.000,9
           NA,    P03E,    118,   2,-999.0,      39,  2,19850418,0817,  24.2617, -157.4950,  4278, 1415.600,    3.049,   34.552,2,   34.554,2, -999.000,9,   64.900,2,  133.100,2,   41.700,2,    0.000,2,    2.910,2,    0.008,2,    0.004,2, -999.000,9, -999.000,9, -999.000,9
           NA,    P03E,    118,   2,-999.0,      23,  2,19850418,0817,  24.2617, -157.4950,  4278, 1617.100,    2.733,   34.575,2,   34.575,2, -999.000,9,   72.600,2,  141.780,2,   41.350,2,    0.000,2,    2.870,2, -999.000,9, -999.000,9, -999.000,9, -999.000,9, -999.000,9
           NA,    P03E,    118,   2,-999.0,      24,  2,19850418,0817,  24.2617, -157.4950,  4278, 1819.500,    2.432,   34.594,2,   34.595,2, -999.000,9,   81.000,2,  149.730,2,   40.790,2,    0.000,2,    2.810,2, -999.000,9, -999.000,9, -999.000,9, -999.000,9, -999.000,9
           NA,    P03E,    118,   2,-999.0,      25,  2,19850418,0817,  24.2617, -157.4950,  4278, 2021.400,    2.147,   34.609,2,   34.610,2, -999.000,9,   87.500,2,  157.140,2,   40.680,2,    0.000,2,    2.800,2, -999.000,9, -999.000,9, -999.000,9, -999.000,9, -999.000,9
           NA,    P03E,    118,   2,-999.0,      26,  2,19850418,0817,  24.2617, -157.4950,  4278, 2173.100,    2.003,   34.620,2,   34.621,2, -999.000,9,   92.400,2,  159.740,2,   40.030,2,    0.000,2,    2.760,2, -999.000,9, -999.000,9, -999.000,9, -999.000,9, -999.000,9
           NA,    P03E,    118,   2,-999.0,      27,  2,19850418,0817,  24.2617, -157.4950,  4278, 2324.900,    1.885,   34.631,2,   34.631,2, -999.000,9,   98.000,2,  163.110,2,   39.920,2,    0.000,2,    2.740,2, -999.000,9, -999.000,9, -999.000,9, -999.000,9, -999.000,9
           NA,    P03E,    118,   2,-999.0,      29,  2,19850418,0817,  24.2617, -157.4950,  4278, 2630.100,    1.703,   34.646,2,   34.647,2, -999.000,9,  109.300,2,  166.100,2,   39.120,2,    0.000,2,    2.670,2, -999.000,9, -999.000,9, -999.000,9, -999.000,9, -999.000,9
           NA,    P03E,    118,   2,-999.0,      30,  2,19850418,0817,  24.2617, -157.4950,  4278, 2782.400,    1.634,   34.653,2,   34.654,2, -999.000,9,  116.100,2,  166.950,2,   38.710,2,    0.000,2,    2.630,2, -999.000,9, -999.000,9, -999.000,9, -999.000,9, -999.000,9
           NA,    P03E,    118,   2,-999.0,      31,  2,19850418,0817,  24.2617, -157.4950,  4278, 2934.900,    1.580,   34.659,2,   34.661,2, -999.000,9,  122.800,2,  166.630,2,   38.360,2,    0.000,2,    2.600,2, -999.000,9, -999.000,9, -999.000,9, -999.000,9, -999.000,9
           NA,    P03E,    118,   2,-999.0,      32,  2,19850418,0817,  24.2617, -157.4950,  4278, 3138.700,    1.535,   34.666,2,   34.666,2, -999.000,9,  129.700,2,  164.360,2,   37.710,2,    0.000,2,    2.570,2, -999.000,9, -999.000,9, -999.000,9, -999.000,9, -999.000,9
           NA,    P03E,    118,   2,-999.0,      37,  2,19850418,0817,  24.2617, -157.4950,  4278, 3444.000,    1.488,   34.673,2,   34.673,2, -999.000,9,  139.000,2,  162.100,2,   37.260,2,    0.000,2,    2.520,2, -999.000,9, -999.000,9, -999.000,9, -999.000,9, -999.000,9
           NA,    P03E,    118,   2,-999.0,      34,  2,19850418,0817,  24.2617, -157.4950,  4278, 3750.400,    1.470,   34.678,2,   34.678,2, -999.000,9,  145.400,2,  159.080,2,   36.810,2,    0.000,2,    2.490,2, -999.000,9, -999.000,9, -999.000,9, -999.000,9, -999.000,9
           NA,    P03E,    118,   2,-999.0,      35,  2,19850418,0817,  24.2617, -157.4950,  4278, 4056.400,    1.474,   34.681,2,   34.681,2, -999.000,9,  149.200,2,  156.640,2,   36.660,2,    0.000,2,    2.470,2, -999.000,9, -999.000,9, -999.000,9, -999.000,9, -999.000,9
           NA,    P03E,    118,   2,-999.0,      36,  2,19850418,0817,  24.2617, -157.4950,  4278, 4337.500,    1.488,   34.682,2,   34.683,2, -999.000,9,  151.400,2,  155.360,2,   36.310,2,    0.000,2,    2.450,2, -999.000,9, -999.000,9, -999.000,9, -999.000,9, -999.000,9
           NA,    P03E,    116,   1,-999.0,       1,  2,19850418,0032,  24.2483, -156.7317,  4267,    2.200,   22.580,   35.346,2,   35.349,2, -999.000,9,  219.000,2,    1.740,2,    0.040,2,    0.000,2,    0.050,2, -999.000,9, -999.000,9, -999.000,9, -999.000,9, -999.000,9
           NA,    P03E,    116,   1,-999.0,       2,  2,19850418,0032,  24.2483, -156.7317,  4267,   23.700,   22.574,   35.347,2,   35.347,2, -999.000,9,  220.000,2,    1.670,2,    0.040,2,    0.000,2,    0.040,2, -999.000,9, -999.000,9, -999.000,9, -999.000,9, -999.000,9
           NA,    P03E,    116,   1,-999.0,       3,  2,19850418,0032,  24.2483, -156.7317,  4267,   43.500,   22.266,   35.341,2,   35.343,2, -999.000,9,  220.000,2,    1.600,2,    0.000,2,    0.000,2,    0.040,2, -999.000,9, -999.000,9, -999.000,9, -999.000,9, -999.000,9
           NA,    P03E,    116,   1,-999.0,       4,  2,19850418,0032,  24.2483, -156.7317,  4267,   73.000,   22.187,   35.361,2,   35.362,2, -999.000,9,  219.700,2,    1.340,2,    0.000,2,    0.000,2,    0.040,2, -999.000,9, -999.000,9, -999.000,9, -999.000,9, -999.000,9
           NA,    P03E,    116,   1,-999.0,       5,  2,19850418,0032,  24.2483, -156.7317,  4267,  103.100,   22.180,   35.369,2,   35.369,2, -999.000,9,  219.100,2,    1.280,2,    0.000,2,    0.000,2,    0.040,2, -999.000,9, -999.000,9, -999.000,9, -999.000,9, -999.000,9
           NA,    P03E,    116,   1,-999.0,       6,  2,19850418,0032,  24.2483, -156.7317,  4267,  142.900,   21.292,   35.273,2,   35.277,2, -999.000,9,  208.600,2,    1.590,2,    0.620,2,    0.080,2,    0.100,2, -999.000,9, -999.000,9, -999.000,9, -999.000,9, -999.000,9
           NA,    P03E,    116,   1,-999.0,       7,  2,19850418,0032,  24.2483, -156.7317,  4267,  183.800,   18.651,   34.944,2,   34.941,2, -999.000,9,  195.400,2,    3.030,2,    3.080,2,    0.020,2,    0.290,2, -999.000,9, -999.000,9, -999.000,9, -999.000,9, -999.000,9
           NA,    P03E,    116,   1,-999.0,       8,  2,19850418,0032,  24.2483, -156.7317,  4267,  224.500,   16.133,   34.694,2,   34.694,2, -999.000,9,  201.200,2,    4.860,2,    5.020,2,    0.010,2,    0.420,2, -999.000,9, -999.000,9, -999.000,9, -999.000,9, -999.000,9
           NA,    P03E,    116,   1,-999.0,       9,  2,19850418,0032,  24.2483, -156.7317,  4267,  264.600,   14.155,   34.486,2,   34.486,2, -999.000,9,  205.800,2,    7.440,2,    7.600,2,    0.000,2,    0.600,2, -999.000,9, -999.000,9, -999.000,9, -999.000,9, -999.000,9
           NA,    P03E,    116,   1,-999.0,      10,  2,19850418,0032,  24.2483, -156.7317,  4267,  305.300,   12.851,   34.366,2,   34.361,2, -999.000,9,  209.400,2,   10.390,2,    9.910,2,    0.000,2,    0.730,2, -999.000,9, -999.000,9, -999.000,9, -999.000,9, -999.000,9
           NA,    P03E,    116,   1,-999.0,      11,  2,19850418,0032,  24.2483, -156.7317,  4267,  345.500,   11.724,   34.279,2,   34.275,2, -999.000,9,  211.200,2,   12.780,2,   11.960,2,    0.000,2,    0.860,2, -999.000,9, -999.000,9, -999.000,9, -999.000,9, -999.000,9
           NA,    P03E,    116,   1,-999.0,      12,  2,19850418,0032,  24.2483, -156.7317,  4267,  386.400,   10.260,   34.172,2,   34.171,2, -999.000,9,  206.400,2,   18.200,2,   15.380,2,    0.000,2,    1.080,2, -999.000,9, -999.000,9, -999.000,9, -999.000,9, -999.000,9
           NA,    P03E,    116,   1,-999.0,      13,  2,19850418,0032,  24.2483, -156.7317,  4267,  437.200,    9.120,   34.102,2,   34.107,2, -999.000,9,  191.800,2,   24.940,2,   19.060,2,    0.000,2,    1.340,2, -999.000,9, -999.000,9, -999.000,9, -999.000,9, -999.000,9
           NA,    P03E,    116,   1,-999.0,      14,  2,19850418,0032,  24.2483, -156.7317,  4267,  497.500,    7.784,   34.052,2,   34.052,2, -999.000,9,  154.600,2,   38.120,2,   25.300,2,    0.000,2,    1.780,2, -999.000,9, -999.000,9, -999.000,9, -999.000,9, -999.000,9
           NA,    P03E,    116,   1,-999.0,      15,  2,19850418,0032,  24.2483, -156.7317,  4267,  557.500,    6.672,   34.048,2,   34.051,2, -999.000,9,  109.600,2,   53.220,2,   31.370,2,    0.000,2,    2.230,2, -999.000,9, -999.000,9, -999.000,9, -999.000,9, -999.000,9
           NA,    P03E,    116,   1,-999.0,      16,  2,19850418,0032,  24.2483, -156.7317,  4267,  616.200,    5.842,   34.084,2,   34.082,2, -999.000,9,   70.900,2,   68.560,2,   36.310,2,    0.000,2,    2.590,2, -999.000,9, -999.000,9, -999.000,9, -999.000,9, -999.000,9
           NA,    P03E,    116,   1,-999.0,      38,  2,19850418,0032,  24.2483, -156.7317,  4267,  675.800,    5.266,   34.104,2,   34.105,2, -999.000,9,   55.400,2,   80.140,2,   38.910,2,    0.000,2,    2.790,2,    0.034,2, -999.000,9, -999.000,9, -999.000,9, -999.000,9
           NA,    P03E,    116,   1,-999.0,      18,  2,19850418,0032,  24.2483, -156.7317,  4267,  737.100,    5.167,   34.225,2,   34.225,2, -999.000,9,   42.200,2,   86.950,2,   40.150,2,    0.000,2,    2.880,2, -999.000,9, -999.000,9, -999.000,9, -999.000,9, -999.000,9
           NA,    P03E,    116,   1,-999.0,      19,  2,19850418,0032,  24.2483, -156.7317,  4267,  808.300,    4.683,   34.314,2,   34.314,2, -999.000,9,   35.900,2,   97.430,2,   41.540,2,    0.000,2,    2.970,2, -999.000,9, -999.000,9, -999.000,9, -999.000,9, -999.000,9
           NA,    P03E,    116,   1,-999.0,      20,  2,19850418,0032,  24.2483, -156.7317,  4267,  911.300,    4.349,   34.386,2,   34.384,2, -999.000,9,   38.100,2,  104.860,2,   42.090,2,    0.000,2,    2.980,2, -999.000,9, -999.000,9, -999.000,9, -999.000,9, -999.000,9
           NA,    P03E,    116,   1,-999.0,      21,  2,19850418,0032,  24.2483, -156.7317,  4267, 1011.000,    4.000,   34.448,2,   34.447,2, -999.000,9,   44.100,2,  113.090,2,   42.090,2,    0.000,2,    2.990,2, -999.000,9, -999.000,9, -999.000,9, -999.000,9, -999.000,9
           NA,    P03E,    116,   1,-999.0,      39,  2,19850418,0032,  24.2483, -156.7317,  4267, 1108.800,    3.720,   34.486,2,   34.484,2, -999.000,9,   51.100,2,  118.620,2,   42.100,2,    0.000,2,    2.980,2,    0.004,2,   -0.001,2, -999.000,9, -999.000,9, -999.000,9
           NA,    P03E,    116,   1,-999.0,      23,  2,19850418,0032,  24.2483, -156.7317,  4267, 1260.600,    3.328,   34.525,2,   34.524,2, -999.000,9,   59.800,2,  126.910,2,   41.950,2,    0.000,2,    2.950,2, -999.000,9, -999.000,9, -999.000,9, -999.000,9, -999.000,9
           NA,    P03E,    116,   1,-999.0,      24,  2,19850418,0032,  24.2483, -156.7317,  4267, 1412.700,    2.995,   34.549,2,   34.550,2, -999.000,9,   66.700,2,  134.240,2,   41.500,2,    0.000,2,    2.920,2, -999.000,9, -999.000,9, -999.000,9, -999.000,9, -999.000,9
           NA,    P03E,    116,   1,-999.0,      25,  2,19850418,0032,  24.2483, -156.7317,  4267, 1611.800,    2.697,   34.575,2,   34.577,2, -999.000,9,   74.500,2,  141.600,2,   41.250,2,    0.000,2,    2.870,2, -999.000,9, -999.000,9, -999.000,9, -999.000,9, -999.000,9
           NA,    P03E,    116,   1,-999.0,      26,  2,19850418,0032,  24.2483, -156.7317,  4267, 1803.300,    2.395,   34.591,2,   34.592,2, -999.000,9,   80.200,2,  150.980,2,   41.010,2,    0.000,2,    2.840,2, -999.000,9, -999.000,9, -999.000,9, -999.000,9, -999.000,9
           NA,    P03E,    116,   1,-999.0,      27,  2,19850418,0032,  24.2483, -156.7317,  4267, 2003.100,    2.126,   34.611,2,   34.612,2, -999.000,9,   90.100,2,  156.820,2,   40.310,2,    0.000,2,    2.790,2,   -0.002,2,    0.001,2, -999.000,9, -999.000,9, -999.000,9
           NA,    P03E,    116,   1,-999.0,      28,  2,19850418,0032,  24.2483, -156.7317,  4267, 2207.600,    1.966,   34.626,2,   34.626,2, -999.000,9,   98.100,2,  158.500,2,   39.970,2,    0.000,2,    2.750,2, -999.000,9, -999.000,9, -999.000,9, -999.000,9, -999.000,9
           NA,    P03E,    116,   1,-999.0,      29,  2,19850418,0032,  24.2483, -156.7317,  4267, 2409.700,    1.764,   34.642,2,   34.643,2, -999.000,9,  108.100,2,  162.770,2,   39.280,2,    0.000,2,    2.700,2,    0.003,2,    0.006,2, -999.000,9, -999.000,9, -999.000,9
           NA,    P03E,    116,   1,-999.0,      30,  2,19850418,0032,  24.2483, -156.7317,  4267, 2613.700,    1.685,   34.650,2,   34.650,2, -999.000,9,  113.800,2,  164.850,2,   39.030,2,    0.000,2,    2.670,2, -999.000,9, -999.000,9, -999.000,9, -999.000,9, -999.000,9
           NA,    P03E,    116,   1,-999.0,      31,  2,19850418,0032,  24.2483, -156.7317,  4267, 2815.400,    1.608,   34.658,2,   34.658,2, -999.000,9,  119.600,2,  166.130,2,   38.590,2,    0.000,2,    2.640,2,   -0.005,6,   -0.002,6, -999.000,9, -999.000,9, -999.000,9
           NA,    P03E,    116,   1,-999.0,      32,  2,19850418,0032,  24.2483, -156.7317,  4267, 3124.400,    1.536,   34.667,2,   34.667,2, -999.000,9,  129.900,2,  164.420,2,   38.000,2,    0.000,2,    2.580,2, -999.000,9, -999.000,9, -999.000,9, -999.000,9, -999.000,9
           NA,    P03E,    116,   1,-999.0,      37,  2,19850418,0032,  24.2483, -156.7317,  4267, 3427.900,    1.489,   34.673,2,   34.673,2, -999.000,9,  137.600,2,  162.110,2,   37.460,2,    0.000,2,    2.530,2,    0.002,6,    0.000,6, -999.000,9, -999.000,9, -999.000,9
           NA,    P03E,    116,   1,-999.0,      34,  2,19850418,0032,  24.2483, -156.7317,  4267, 3738.400,    1.471,   34.678,2,   34.677,2, -999.000,9,  144.600,2, -999.000,5, -999.000,5, -999.000,5, -999.000,5, -999.000,9, -999.000,9, -999.000,9, -999.000,9, -999.000,9
           NA,    P03E,    116,   1,-999.0,      35,  2,19850418,0032,  24.2483, -156.7317,  4267, 4042.100,    1.471,   34.681,2,   34.681,2, -999.000,9,  148.900,2,  157.810,2,   36.630,2,    0.000,2,    2.480,2,    0.000,2,    0.000,6, -999.000,9, -999.000,9, -999.000,9
           NA,    P03E,    116,   1,-999.0,      36,  2,19850418,0032,  24.2483, -156.7317,  4267, 4334.200,    1.481,   34.684,2,   34.683,2, -999.000,9,  152.000,2,  154.920,2,   36.540,2,    0.000,2,    2.470,2, -999.000,9, -999.000,9, -999.000,9, -999.000,9, -999.000,9