BOTTLE,20203103JOAExport
# Exported from JOA (5.5.0 Final January 13th, 2020) on 2020/11/03 10:31:32
#BOTTLE,20010907WHPSIOdm,,,,,,,,,,,,,,,,,,,,,,,,,,,,,,,,,,,,,,
#code : jjward hyd_to_exchange.pl ,,,,,,,,,,,,,,,,,,,,,,,,,,,,,,,,,,,,,,,
#original files copied from HTML directory: 20010907,,,,,,,,,,,,,,,,,,,,,,,,,,,,,,,,,,,,,,,
#original HYD file: p03why.txt   Thu Sep  6 15:42:18 2001,,,,,,,,,,,,,,,,,,,,,,,,,,,,,,,,,,,,,,,
#original SUM file: p03wsu.txt   Fri Sep  7 06:57:05 2001,,,,,,,,,,,,,,,,,,,,,,,,,,,,,,,,,,,,,,,
#BOTTLE,20010907WHPSIOdm,,,,,,,,,,,,,,,,,,,,,,,,,,,,,,,,,,,,,,
#code : jjward hyd_to_exchange.pl ,,,,,,,,,,,,,,,,,,,,,,,,,,,,,,,,,,,,,,,
#original files copied from HTML directory: 20010907,,,,,,,,,,,,,,,,,,,,,,,,,,,,,,,,,,,,,,,
#original HYD file: p03ehy.txt   Thu Sep  6 15:42:04 2001,,,,,,,,,,,,,,,,,,,,,,,,,,,,,,,,,,,,,,,
#original SUM file: p03esu.txt   Fri Sep  7 06:57:01 2001,,,,,,,,,,,,,,,,,,,,,,,,,,,,,,,,,,,,,,,
EXPOCODE,SECT_ID,STNNBR,CASTNO,SAMPNO,BTLNBR,BTLNBR_FLAG_W,DATE,TIME,LATITUDE,LONGITUDE,DEPTH,CTDPRS,CTDTMP,CTDSAL,CTDSAL_FLAG_W,SALNTY,SALNTY_FLAG_W,CTDOXY,CTDOXY_FLAG_W,OXYGEN,OXYGEN_FLAG_W,SILCAT,SILCAT_FLAG_W,NITRAT,NITRAT_FLAG_W,NITRIT,NITRIT_FLAG_W,PHSPHT,PHSPHT_FLAG_W,CFC-11,CFC-11_FLAG_W,CFC-12,CFC-12_FLAG_W,SF6,SF6_FLAG_W,TCARBN,TCARBN_FLAG_W,ALKALI,ALKALI_FLAG_W
,,,,,,,,,,,,,DB,ITS-90,PSS-78,,PSS-78,,UMOL/KG,,UMOL/KG,,UMOL/KG,,UMOL/KG,,UMOL/KG,,UMOL/KG,,PMOL/KG,,PMOL/KG,,FMOL/KG,,UMOL/KG,,UMOL/KG
           NA,    P03W,    389,   1,-999.0,      15,  2,19850601,1023,  28.0050,  124.9883,    96,    2.500,   22.333,   33.519,2,   33.520,2, -999.000,9,  226.000,2,    2.560,2,    0.120,2,    0.000,2,    0.030,2,    1.749,2,    0.892,2, -999.000,9, -999.000,9, -999.000,9
           NA,    P03W,    389,   1,-999.0,      18,  2,19850601,1023,  28.0050,  124.9883,    96,   23.400,   21.157,   33.970,2,   33.860,2, -999.000,9,  241.900,2,    2.780,2,    0.130,2,    0.000,2,    0.020,2,    1.827,2,    0.964,2, -999.000,9, -999.000,9, -999.000,9
           NA,    P03W,    389,   1,-999.0,      23,  2,19850601,1023,  28.0050,  124.9883,    96,   33.600,   20.698,   34.203,2,   34.210,2, -999.000,9,  230.500,2,    3.410,2,    0.090,2,    0.090,2,    0.050,2, -999.000,9, -999.000,9, -999.000,9, -999.000,9, -999.000,9
           NA,    P03W,    389,   1,-999.0,      20,  2,19850601,1023,  28.0050,  124.9883,    96,   43.100,   19.647,   34.103,2,   34.109,2, -999.000,9,  214.800,2,    4.880,2,    2.290,2,    0.250,2,    0.180,2,    1.884,2,    0.961,2, -999.000,9, -999.000,9, -999.000,9
           NA,    P03W,    389,   1,-999.0,      21,  2,19850601,1023,  28.0050,  124.9883,    96,   53.500,   18.785,   34.017,2,   34.014,2, -999.000,9,  218.400,2,    4.890,2,    3.170,2,    0.140,2,    0.220,2, -999.000,9, -999.000,9, -999.000,9, -999.000,9, -999.000,9
           NA,    P03W,    389,   1,-999.0,      22,  2,19850601,1023,  28.0050,  124.9883,    96,   63.700,   18.178,   33.972,2,   33.987,2, -999.000,9,  217.400,2,    5.520,2,    3.850,2,    0.120,2,    0.260,2,    1.949,2,    1.011,2, -999.000,9, -999.000,9, -999.000,9
           NA,    P03W,    389,   1,-999.0,      39,  2,19850601,1023,  28.0050,  124.9883,    96,   72.300,   17.030,   33.906,2,   33.900,2, -999.000,9,  207.500,2,   10.730,2,    6.900,2,    0.050,2,    0.450,2, -999.000,9, -999.000,9, -999.000,9, -999.000,9, -999.000,9
           NA,    P03W,    389,   1,-999.0,      24,  2,19850601,1023,  28.0050,  124.9883,    96,   83.500,   16.356,   34.426,2,   34.425,2, -999.000,9,  162.600,2,   19.460,2,   11.680,2,    0.060,2,    0.820,2,    1.408,2,    0.696,2, -999.000,9, -999.000,9, -999.000,9
           NA,    P03W,    388,   1,-999.0,      15,  2,19850601,0740,  27.7500,  125.2133,   104,    2.100,   23.543,   34.179,2,   34.181,2, -999.000,9,  219.900,2,    2.260,2,    0.080,2,    0.000,2,    0.060,2, -999.000,9, -999.000,9, -999.000,9, -999.000,9, -999.000,9
           NA,    P03W,    388,   1,-999.0,      23,  2,19850601,0740,  27.7500,  125.2133,   104,   22.400,   23.336,   34.164,2,   34.165,2, -999.000,9,  223.100,2,    2.270,2,    0.080,2,    0.000,2,    0.060,2, -999.000,9, -999.000,9, -999.000,9, -999.000,9, -999.000,9
           NA,    P03W,    388,   1,-999.0,      21,  2,19850601,0740,  27.7500,  125.2133,   104,   43.600,   19.433,   34.088,2,   34.093,2, -999.000,9,  218.600,2,    4.370,2,    1.470,2,    0.170,2,    0.190,2, -999.000,9, -999.000,9, -999.000,9, -999.000,9, -999.000,9
           NA,    P03W,    388,   1,-999.0,      22,  2,19850601,0740,  27.7500,  125.2133,   104,   73.600,   18.427,   34.596,2,   34.596,2, -999.000,9,  172.900,2,   11.260,2,    7.720,2,    0.090,2,    0.570,2, -999.000,9, -999.000,9, -999.000,9, -999.000,9, -999.000,9
           NA,    P03W,    388,   1,-999.0,      39,  2,19850601,0740,  27.7500,  125.2133,   104,   83.800,   18.119,   34.564,2,   34.563,2, -999.000,9,  172.200,2,   12.110,2,    8.380,2,    0.100,2,    0.630,2, -999.000,9, -999.000,9, -999.000,9, -999.000,9, -999.000,9
           NA,    P03W,    388,   1,-999.0,      24,  2,19850601,0740,  27.7500,  125.2133,   104,   93.700,   17.970,   34.578,2,   34.577,2, -999.000,9,  169.900,2,   12.950,2,    8.690,2,    0.090,2,    0.660,2, -999.000,9, -999.000,9, -999.000,9, -999.000,9, -999.000,9
           NA,    P03W,    387,   1,-999.0,      16,  2,19850601,0444,  27.6067,  125.4383,   107,    2.300,   25.135,   34.490,2,   34.497,2, -999.000,9,  207.700,2,    2.600,2,    0.090,2,    0.000,2,    0.100,2, -999.000,9, -999.000,9, -999.000,9, -999.000,9, -999.000,9
           NA,    P03W,    387,   1,-999.0,      18,  2,19850601,0444,  27.6067,  125.4383,   107,   22.900,   24.125,   34.550,2,   34.544,2, -999.000,9,  200.500,2,    3.450,2,    0.550,2,    0.110,2,    0.170,2, -999.000,9, -999.000,9, -999.000,9, -999.000,9, -999.000,9
           NA,    P03W,    387,   1,-999.0,      20,  2,19850601,0444,  27.6067,  125.4383,   107,   43.600,   21.367,   34.457,2,   34.454,2, -999.000,9,  185.000,2,    7.230,2,    4.120,2,    0.580,2,    0.400,2, -999.000,9, -999.000,9, -999.000,9, -999.000,9, -999.000,9
           NA,    P03W,    387,   1,-999.0,      21,  2,19850601,0444,  27.6067,  125.4383,   107,   73.200,   19.756,   34.711,2,   34.706,2, -999.000,9,  169.400,2,    9.530,2,    6.530,2,    0.060,2,    0.530,2, -999.000,9, -999.000,9, -999.000,9, -999.000,9, -999.000,9
           NA,    P03W,    387,   1,-999.0,      24,  2,19850601,0444,  27.6067,  125.4383,   107,  100.200,   17.950,   34.616,2,   34.618,2, -999.000,9,  166.500,2,   13.520,2,    8.900,2,    0.060,2,    0.660,2, -999.000,9, -999.000,9, -999.000,9, -999.000,9, -999.000,9
           NA,    P03W,    386,   1,-999.0,      15,  2,19850601,0220,  27.4500,  125.5867,   113,    3.100,   24.456,   34.339,2,   34.352,2, -999.000,9,  210.600,2,    1.950,2,    0.060,2,    0.000,2,    0.070,2,    1.521,2,    0.794,2, -999.000,9, -999.000,9, -999.000,9
           NA,    P03W,    386,   1,-999.0,      16,  2,19850601,0220,  27.4500,  125.5867,   113,   20.500,   24.589,   34.430,2,   34.428,2, -999.000,9,  209.500,2,    1.950,2,    0.060,2,    0.000,2,    0.070,2, -999.000,9, -999.000,9, -999.000,9, -999.000,9, -999.000,9
           NA,    P03W,    386,   1,-999.0,      18,  2,19850601,0220,  27.4500,  125.5867,   113,   41.600,   22.827,   34.586,2,   34.580,2, -999.000,9,  185.800,2,    4.650,2,    2.960,2,    0.340,2,    0.280,2,    1.397,2,    0.726,2, -999.000,9, -999.000,9, -999.000,9
           NA,    P03W,    386,   1,-999.0,      23,  2,19850601,0220,  27.4500,  125.5867,   113,   71.600,   19.675,   34.714,2,   34.716,2, -999.000,9,  174.300,2,    7.770,2,    6.020,2,    0.070,2,    0.460,2,    1.394,2,    0.706,2, -999.000,9, -999.000,9, -999.000,9
           NA,    P03W,    386,   1,-999.0,      22,  2,19850601,0220,  27.4500,  125.5867,   113,  102.100,   18.623,   34.592,2,   34.574,2, -999.000,9,  176.500,2,    9.220,2,    7.130,2,    0.090,2,    0.530,2, -999.000,9, -999.000,9, -999.000,9, -999.000,9, -999.000,9
           NA,    P03W,    386,   1,-999.0,      24,  2,19850601,0220,  27.4500,  125.5867,   113,  112.400,   17.462,   34.538,2,   34.541,2, -999.000,9,  167.600,2,   14.420,2,    9.500,2,    0.040,2,    0.680,2,    1.462,2,    0.742,2, -999.000,9, -999.000,9, -999.000,9
           NA,    P03W,    385,   1,-999.0,       5,  2,19850601,0007,  27.3133,  125.7350,   139,    2.200,   24.841,   34.174,2,   34.176,2, -999.000,9,  211.400,2,    1.790,2,    0.090,2,    0.000,2,    0.050,2, -999.000,9, -999.000,9, -999.000,9, -999.000,9, -999.000,9
           NA,    P03W,    385,   1,-999.0,      16,  2,19850601,0007,  27.3133,  125.7350,   139,   21.800,   25.148,   34.579,2,   34.549,2, -999.000,9,  206.300,2,    1.990,2,    0.080,2,    0.020,2,    0.070,2, -999.000,9, -999.000,9, -999.000,9, -999.000,9, -999.000,9
           NA,    P03W,    385,   1,-999.0,      17,  2,19850601,0007,  27.3133,  125.7350,   139,   42.300,   23.107,   34.542,2,   34.512,2, -999.000,9,  192.700,2,    3.870,2,    1.690,2,    0.510,2,    0.070,2, -999.000,9, -999.000,9, -999.000,9, -999.000,9, -999.000,9
           NA,    P03W,    385,   1,-999.0,      18,  2,19850601,0007,  27.3133,  125.7350,   139,   71.900,   20.042,   34.714,2,   34.715,2, -999.000,9,  175.100,2,    7.000,2,    5.730,2,    0.040,2,    0.440,2, -999.000,9, -999.000,9, -999.000,9, -999.000,9, -999.000,9
           NA,    P03W,    385,   1,-999.0,      21,  2,19850601,0007,  27.3133,  125.7350,   139,  102.800,   17.293,   34.622,2,   34.621,2, -999.000,9,  165.900,2,   13.480,2,    9.660,2,    0.020,2,    0.690,2, -999.000,9, -999.000,9, -999.000,9, -999.000,9, -999.000,9
           NA,    P03W,    385,   1,-999.0,      24,  2,19850601,0007,  27.3133,  125.7350,   139,  136.700,   16.542,   34.646,2,   34.646,2, -999.000,9,  167.600,2,   13.890,2,   10.320,2,    0.070,2,    0.750,2, -999.000,9, -999.000,9, -999.000,9, -999.000,9, -999.000,9
           NA,    P03W,    384,   1,-999.0,       5,  2,19850531,2159,  27.1650,  125.8833,   262,    0.500,   26.546,   34.227,2,   34.241,2, -999.000,9,  205.800,2,    2.280,2,    0.110,2,    0.000,2,    0.050,2,    1.379,2,    0.714,2, -999.000,9, -999.000,9, -999.000,9
           NA,    P03W,    384,   1,-999.0,      13,  2,19850531,2159,  27.1650,  125.8833,   262,   20.200,   26.517,   34.278,2,   34.240,2, -999.000,9,  208.100,2,    2.270,2,    0.110,2,    0.000,2,    0.050,2, -999.000,9, -999.000,9, -999.000,9, -999.000,9, -999.000,9
           NA,    P03W,    384,   1,-999.0,      14,  2,19850531,2159,  27.1650,  125.8833,   262,   41.300,   24.133,   34.536,2,   34.526,2, -999.000,9,  195.500,2,    3.740,2,    1.230,2,    0.290,2,    0.210,2,    1.402,2,    0.728,2, -999.000,9, -999.000,9, -999.000,9
           NA,    P03W,    384,   1,-999.0,      15,  2,19850531,2159,  27.1650,  125.8833,   262,   70.600,   21.567,   34.434,2,   34.429,2, -999.000,9,  203.100,2,    3.940,2,    1.510,2,    0.850,2,    0.250,2, -999.000,9, -999.000,9, -999.000,9, -999.000,9, -999.000,9
           NA,    P03W,    384,   1,-999.0,      18,  2,19850531,2159,  27.1650,  125.8833,   262,  100.100,   19.779,   34.604,2,   34.605,2, -999.000,9,  172.000,2,    9.400,2,    6.980,2,    0.070,2,    0.520,2,    1.330,2,    0.670,2, -999.000,9, -999.000,9, -999.000,9
           NA,    P03W,    384,   1,-999.0,      21,  2,19850531,2159,  27.1650,  125.8833,   262,  139.700,   17.005,   34.681,2,   34.680,2, -999.000,9,  167.200,2,   12.960,2,    9.800,2,    0.020,2,    0.700,2,    1.249,2,    0.622,2, -999.000,9, -999.000,9, -999.000,9
           NA,    P03W,    384,   1,-999.0,      22,  2,19850531,2159,  27.1650,  125.8833,   262,  179.900,   15.422,   34.627,2,   34.629,2, -999.000,9,  166.400,2,   14.810,2,   11.540,2,    0.040,2,    0.800,2,    1.204,2,    0.588,2, -999.000,9, -999.000,9, -999.000,9
           NA,    P03W,    384,   1,-999.0,      39,  2,19850531,2159,  27.1650,  125.8833,   262,  232.500,   13.231,   34.529,2,   34.529,2, -999.000,9,  160.400,2,   22.500,2,   15.520,2,    0.020,2,    1.080,2, -999.000,9, -999.000,9, -999.000,9, -999.000,9, -999.000,9
           NA,    P03W,    384,   1,-999.0,      24,  2,19850531,2159,  27.1650,  125.8833,   262,  255.800,   12.786,   34.504,2,   34.504,2, -999.000,9,  155.500,2,   24.980,2,   16.520,2,    0.020,2,    1.180,2,    0.943,2,    0.463,2, -999.000,9, -999.000,9, -999.000,9
           NA,    P03W,    382,   2,-999.0,       5,  2,19850531,1948,  27.0700,  125.9800,   844,    3.100,   27.101,   34.357,2,   34.360,2, -999.000,9,  202.400,2,    3.280,2,    0.250,2,    0.000,2,    0.050,2,    1.357,2,    0.710,2, -999.000,9, -999.000,9, -999.000,9
           NA,    P03W,    382,   2,-999.0,       4,  2,19850531,1948,  27.0700,  125.9800,   844,    3.100,   27.101,   34.357,2,   34.361,2, -999.000,9,  202.900,2,    3.220,2,    0.240,2,    0.000,2,    0.040,2, -999.000,9, -999.000,9, -999.000,9, -999.000,9, -999.000,9
           NA,    P03W,    382,   2,-999.0,       1,  2,19850531,1948,  27.0700,  125.9800,   844,   20.700,   26.374,   34.319,2,   34.322,2, -999.000,9,  205.800,2,    3.170,2,    0.240,2,    0.000,2,    0.040,2, -999.000,9, -999.000,9, -999.000,9, -999.000,9, -999.000,9
           NA,    P03W,    382,   2,-999.0,       6,  2,19850531,1948,  27.0700,  125.9800,   844,   41.300,   25.369,   34.272,2,   34.274,2, -999.000,9,  208.300,2,    3.110,2,    0.230,2,    0.000,2,    0.050,2, -999.000,9, -999.000,9, -999.000,9, -999.000,9, -999.000,9
           NA,    P03W,    382,   2,-999.0,       7,  2,19850531,1948,  27.0700,  125.9800,   844,   72.200,   21.501,   34.453,2,   34.453,2, -999.000,9,  198.400,2,    5.560,2,    2.110,2,    0.730,2,    0.260,2, -999.000,9, -999.000,9, -999.000,9, -999.000,9, -999.000,9
           NA,    P03W,    382,   2,-999.0,       9,  2,19850531,1948,  27.0700,  125.9800,   844,   92.000,   20.230,   34.603,2,   34.616,2, -999.000,9,  175.100,2,    9.270,2,    6.290,2,    0.100,2,    0.460,2, -999.000,9, -999.000,9, -999.000,9, -999.000,9, -999.000,9
           NA,    P03W,    382,   2,-999.0,      12,  2,19850531,1948,  27.0700,  125.9800,   844,  141.800,   17.902,   34.657,2,   34.656,2, -999.000,9,  165.000,2,   13.190,2,    9.170,2,    0.040,2,    0.660,2,    1.281,2, -999.000,9, -999.000,9, -999.000,9, -999.000,9
           NA,    P03W,    382,   2,-999.0,      13,  2,19850531,1948,  27.0700,  125.9800,   844,  182.100,   16.989,   34.642,2,   34.639,2, -999.000,9,  164.100,2,   15.240,2,   10.450,2,    0.030,2,    0.750,2, -999.000,9, -999.000,9, -999.000,9, -999.000,9, -999.000,9
           NA,    P03W,    382,   2,-999.0,      14,  2,19850531,1948,  27.0700,  125.9800,   844,  233.000,   13.762,   34.549,2,   34.552,2, -999.000,9,  151.600,2,   25.470,2,   15.800,2,    0.010,2,    1.090,2,    0.973,2,    0.490,2, -999.000,9, -999.000,9, -999.000,9
           NA,    P03W,    382,   2,-999.0,      15,  2,19850531,1948,  27.0700,  125.9800,   844,  283.100,   12.051,   34.449,2,   34.448,2, -999.000,9,  155.700,2,   25.860,2,   17.650,2,    0.010,2,    1.220,2, -999.000,9, -999.000,9, -999.000,9, -999.000,9, -999.000,9
           NA,    P03W,    382,   2,-999.0,      16,  2,19850531,1948,  27.0700,  125.9800,   844,  333.500,   10.834,   34.427,2,   34.426,2, -999.000,9,  136.300,2,   37.610,2,   21.570,2,    0.000,2,    1.520,2,    0.667,2,    0.325,2, -999.000,9, -999.000,9, -999.000,9
           NA,    P03W,    382,   2,-999.0,      17,  2,19850531,1948,  27.0700,  125.9800,   844,  383.600,    9.629,   34.381,2,   34.378,2, -999.000,9,  127.800,2,   47.070,2,   24.360,2,    0.000,2,    1.720,2, -999.000,9, -999.000,9, -999.000,9, -999.000,9, -999.000,9
           NA,    P03W,    382,   2,-999.0,      18,  2,19850531,1948,  27.0700,  125.9800,   844,  443.700,    8.839,   34.370,2,   34.369,2, -999.000,9,  118.700,2,   54.660,2,   26.390,2,    0.000,2,    1.860,2,    0.446,2,    0.217,2, -999.000,9, -999.000,9, -999.000,9
           NA,    P03W,    382,   2,-999.0,      23,  2,19850531,1948,  27.0700,  125.9800,   844,  504.500,    7.709,   34.354,2,   34.354,2, -999.000,9,  108.700,2,   66.310,2,   29.320,2,    0.000,2,    2.080,2, -999.000,9, -999.000,9, -999.000,9, -999.000,9, -999.000,9
           NA,    P03W,    382,   2,-999.0,      20,  2,19850531,1948,  27.0700,  125.9800,   844,  564.500,    6.888,   34.335,2,   34.336,2, -999.000,9,  102.000,2,   74.810,2,   31.390,2,    0.010,2,    2.200,2,    0.278,2,    0.138,2, -999.000,9, -999.000,9, -999.000,9
           NA,    P03W,    382,   2,-999.0,      21,  2,19850531,1948,  27.0700,  125.9800,   844,  644.500,    6.166,   34.346,2,   34.346,2, -999.000,9,   93.400,2,   84.200,2,   33.270,2,    0.000,2,    2.350,2, -999.000,9, -999.000,9, -999.000,9, -999.000,9, -999.000,9
           NA,    P03W,    382,   2,-999.0,      22,  2,19850531,1948,  27.0700,  125.9800,   844,  724.600,    5.625,   34.361,2,   34.363,2, -999.000,9,   87.400,2,   92.130,2,   34.260,2,    0.000,2,    2.370,2,    0.147,2,    0.085,2, -999.000,9, -999.000,9, -999.000,9
           NA,    P03W,    382,   2,-999.0,      39,  2,19850531,1948,  27.0700,  125.9800,   844,  806.200,    5.123,   34.380,2,   34.382,2, -999.000,9,   83.100,2,  100.310,2,   35.810,2,    0.000,2,    2.510,2, -999.000,9, -999.000,9, -999.000,9, -999.000,9, -999.000,9
           NA,    P03W,    382,   2,-999.0,      24,  2,19850531,1948,  27.0700,  125.9800,   844,  847.600,    4.844,   34.392,2,   34.393,2, -999.000,9,   80.100,2,  104.430,2,   36.210,2,    0.000,2,    2.510,2,    0.077,2, -999.000,9, -999.000,9, -999.000,9, -999.000,9