BOTTLE,20203103JOAExport
EXPOCODE,SECT_ID,STNNBR,CASTNO,SAMPNO,BTLNBR,BTLNBR_FLAG_W,DATE,TIME,LATITUDE,LONGITUDE,DEPTH,CTDPRS,CTDTMP,CTDSAL,CTDSAL_FLAG_W,SALNTY,SALNTY_FLAG_W,CTDOXY,CTDOXY_FLAG_W,OXYGEN,OXYGEN_FLAG_W,SILCAT,SILCAT_FLAG_W,NITRAT,NITRAT_FLAG_W,NITRIT,NITRIT_FLAG_W,PHSPHT,PHSPHT_FLAG_W,CFC-11,CFC-11_FLAG_W,CFC-12,CFC-12_FLAG_W,SF6,SF6_FLAG_W,TCARBN,TCARBN_FLAG_W,ALKALI,ALKALI_FLAG_W
,,,,,,,,,,,,,DB,ITS-90,PSS-78,,PSS-78,,UMOL/KG,,UMOL/KG,,UMOL/KG,,UMOL/KG,,UMOL/KG,,UMOL/KG,,PMOL/KG,,PMOL/KG,,FMOL/KG,,UMOL/KG,,UMOL/KG
           NA,    P03E,     46,   2,-999.0,       1,  2,19850405,2034,  25.2133, -128.8117,  4732,    0.300,   18.441,   34.401,2,   34.406,2, -999.000,9,  238.000,2,    2.260,2,    0.080,2,    0.000,2,    0.240,2,    2.074,2,    1.052,2, -999.000,9, -999.000,9, -999.000,9
           NA,    P03E,     46,   2,-999.0,       3,  2,19850405,2034,  25.2133, -128.8117,  4732,   19.300,   18.075,   34.398,2,   34.402,2, -999.000,9,  238.800,2,    2.040,2,    0.080,2,    0.000,2,    0.250,2,    2.068,2,    1.060,2, -999.000,9, -999.000,9, -999.000,9
           NA,    P03E,     46,   2,-999.0,       4,  2,19850405,2034,  25.2133, -128.8117,  4732,   33.900,   18.039,   34.391,2,   34.393,2, -999.000,9,  238.400,2,    2.020,2,    0.080,2,    0.000,2,    0.240,2,    2.073,2,    1.080,2, -999.000,9, -999.000,9, -999.000,9
           NA,    P03E,     46,   2,-999.0,       5,  2,19850405,2034,  25.2133, -128.8117,  4732,   54.000,   17.992,   34.383,2,   34.386,2, -999.000,9,  238.800,2,    2.010,2,    0.080,2,    0.000,2,    0.240,2,    2.065,2,    1.049,2, -999.000,9, -999.000,9, -999.000,9
           NA,    P03E,     46,   2,-999.0,       6,  2,19850405,2034,  25.2133, -128.8117,  4732,   74.100,   17.973,   34.386,2,   34.388,2, -999.000,9,  238.400,2,    1.990,2,    0.080,2,    0.000,2,    0.240,2,    2.054,2,    1.032,2, -999.000,9, -999.000,9, -999.000,9
           NA,    P03E,     46,   2,-999.0,       7,  2,19850405,2034,  25.2133, -128.8117,  4732,   94.100,   17.977,   34.390,2,   34.395,2, -999.000,9,  237.900,2,    1.970,2,    0.080,2,    0.000,2,    0.240,2,    2.105,2,    1.050,2, -999.000,9, -999.000,9, -999.000,9
           NA,    P03E,     46,   2,-999.0,       8,  2,19850405,2034,  25.2133, -128.8117,  4732,  123.900,   18.074,   34.429,2,   34.433,2, -999.000,9,  237.100,2,    1.950,2,    0.030,2,    0.000,2,    0.240,2,    2.102,2,    1.067,2, -999.000,9, -999.000,9, -999.000,9
           NA,    P03E,     46,   2,-999.0,       9,  2,19850405,2034,  25.2133, -128.8117,  4732,  155.000,   16.287,   34.221,2, -999.000,5, -999.000,9,  222.600,2,    2.730,2,    1.300,2,    0.060,2,    0.350,2,    2.093,2,    1.037,2, -999.000,9, -999.000,9, -999.000,9
           NA,    P03E,     46,   2,-999.0,      10,  2,19850405,2034,  25.2133, -128.8117,  4732,  195.900,   12.329,   33.803,2,   33.807,2, -999.000,9,  198.600,2,    9.670,2,    9.720,2,    0.010,2,    0.910,2,    2.002,2,    0.989,2, -999.000,9, -999.000,9, -999.000,9
           NA,    P03E,     46,   2,-999.0,      11,  2,19850405,2034,  25.2133, -128.8117,  4732,  236.600,   10.300,   33.863,2,   33.871,2, -999.000,9,  163.700,2,   20.170,2,   18.640,2,    0.000,2,    1.460,2,    1.484,2,    0.724,2, -999.000,9, -999.000,9, -999.000,9
           NA,    P03E,     46,   2,-999.0,      12,  2,19850405,2034,  25.2133, -128.8117,  4732,  286.400,    9.207,   34.022,2,   34.028,2, -999.000,9,  135.300,2,   29.670,2,   24.050,2,    0.000,2,    1.820,2,    0.893,2,    0.461,2, -999.000,9, -999.000,9, -999.000,9
           NA,    P03E,     46,   2,-999.0,      13,  2,19850405,2034,  25.2133, -128.8117,  4732,  336.600,    8.481,   34.145,2,   34.147,2, -999.000,9,   95.300,2,   39.560,2,   28.730,2,    0.000,2,    2.200,2,    0.413,2,    0.223,2, -999.000,9, -999.000,9, -999.000,9
           NA,    P03E,     46,   2,-999.0,      14,  2,19850405,2034,  25.2133, -128.8117,  4732,  396.800,    7.690,   34.234,2,   34.234,2, -999.000,9,   50.500,2,   52.820,2,   33.470,2,    0.000,2,    2.620,2,    0.104,2,    0.073,2, -999.000,9, -999.000,9, -999.000,9
           NA,    P03E,     46,   2,-999.0,      15,  2,19850405,2034,  25.2133, -128.8117,  4732,  457.300,    7.280,   34.309,2,   34.312,2, -999.000,9,   23.900,2,   61.700,2,   36.210,2,    0.000,2,    2.860,2,    0.025,2,    0.025,2, -999.000,9, -999.000,9, -999.000,9
           NA,    P03E,     46,   2,-999.0,      16,  2,19850405,2034,  25.2133, -128.8117,  4732,  528.000,    6.741,   34.360,2,   34.361,2, -999.000,9,   11.700,2,   69.600,2,   38.580,2,    0.000,2,    3.030,2,    0.002,2,    0.000,2, -999.000,9, -999.000,9, -999.000,9
           NA,    P03E,     46,   2,-999.0,      17,  2,19850405,2034,  25.2133, -128.8117,  4732,  607.800,    6.123,   34.387,2,   34.384,2, -999.000,9,    9.100,2,   78.480,2,   40.820,2,    0.000,2,    3.120,2, -999.000,9, -999.000,9, -999.000,9, -999.000,9, -999.000,9
           NA,    P03E,     46,   2,-999.0,      18,  2,19850405,2034,  25.2133, -128.8117,  4732,  708.700,    5.535,   34.421,2,   34.421,2, -999.000,9,    9.100,2,   88.750,2,   42.820,2,    0.000,2,    3.180,2, -999.000,9, -999.000,9, -999.000,9, -999.000,9, -999.000,9
           NA,    P03E,     46,   2,-999.0,      19,  2,19850405,2034,  25.2133, -128.8117,  4732,  810.100,    4.952,   34.449,2,   34.449,2, -999.000,9,   14.300,2,   98.830,2,   44.150,2,    0.000,2,    3.210,2, -999.000,9, -999.000,9, -999.000,9, -999.000,9, -999.000,9
           NA,    P03E,     46,   2,-999.0,      20,  2,19850405,2034,  25.2133, -128.8117,  4732,  910.900,    4.570,   34.477,2,   34.477,2, -999.000,9,   18.300,2,  104.730,2,   44.840,2,    0.000,2,    3.220,2,   -0.005,2,    0.007,2, -999.000,9, -999.000,9, -999.000,9
           NA,    P03E,     46,   2,-999.0,      21,  2,19850405,2034,  25.2133, -128.8117,  4732, 1010.900,    4.185,   34.489,2,   34.490,2, -999.000,9,   25.600,2,  110.630,2,   44.790,2,    0.000,2,    3.180,2, -999.000,9, -999.000,9, -999.000,9, -999.000,9, -999.000,9
           NA,    P03E,     46,   2,-999.0,      22,  2,19850405,2034,  25.2133, -128.8117,  4732, 1111.200,    3.857,   34.511,2,   34.516,2, -999.000,9,   32.600,2,  116.730,2, -999.000,5,    0.000,2,    3.160,2, -999.000,9, -999.000,9, -999.000,9, -999.000,9, -999.000,9
           NA,    P03E,     46,   2,-999.0,      23,  2,19850405,2034,  25.2133, -128.8117,  4732, 1263.000,    3.457,   34.536,2,   34.536,2, -999.000,9,   38.200,2,  128.400,2,   43.660,2,    0.000,2,    3.150,2, -999.000,9, -999.000,9, -999.000,9, -999.000,9, -999.000,9
           NA,    P03E,     46,   2,-999.0,      24,  2,19850405,2034,  25.2133, -128.8117,  4732, 1414.000,    3.117,   34.559,2,   34.559,2, -999.000,9,   44.800,2,  138.290,2,   44.030,2,    0.000,2,    3.120,2, -999.000,9, -999.000,9, -999.000,9, -999.000,9, -999.000,9
           NA,    P03E,     46,   2,-999.0,      25,  2,19850405,2034,  25.2133, -128.8117,  4732, 1616.900,    2.689,   34.587,2,   34.589,2, -999.000,9,   57.400,2,  148.180,2,   43.440,2,    0.000,2,    3.030,2,   -0.004,2,    0.002,2, -999.000,9, -999.000,9, -999.000,9
           NA,    P03E,     46,   2,-999.0,      26,  2,19850405,2034,  25.2133, -128.8117,  4732, 1818.600,    2.392,   34.610,2,   34.610,2, -999.000,9,   71.300,2,  151.290,2,   42.380,2,    0.000,2,    2.950,2, -999.000,9, -999.000,9, -999.000,9, -999.000,9, -999.000,9
           NA,    P03E,     46,   2,-999.0,      27,  2,19850405,2034,  25.2133, -128.8117,  4732, 2020.900,    2.134,   34.627,2,   34.627,2, -999.000,9,   84.300,2,  155.190,2,   41.430,2,    0.000,2,    2.860,2, -999.000,9, -999.000,9, -999.000,9, -999.000,9, -999.000,9
           NA,    P03E,     46,   2,-999.0,      28,  2,19850405,2034,  25.2133, -128.8117,  4732, 2219.600,    1.965,   34.639,2,   34.639,2, -999.000,9,   93.900,2,  158.900,2, -999.000,5,    0.000,2,    2.810,2, -999.000,9, -999.000,9, -999.000,9, -999.000,9, -999.000,9
           NA,    P03E,     46,   2,-999.0,      29,  2,19850405,2034,  25.2133, -128.8117,  4732, 2526.700,    1.793,   34.651,2,   34.650,2, -999.000,9,  104.700,2,  163.600,2,   39.910,2,    0.000,2,    2.740,2, -999.000,9, -999.000,9, -999.000,9, -999.000,9, -999.000,9
           NA,    P03E,     46,   2,-999.0,      30,  2,19850405,2034,  25.2133, -128.8117,  4732, 2831.300,    1.632,   34.661,2,   34.660,2, -999.000,9,  114.300,2,  167.510,2,   39.540,2,    0.000,2,    2.690,2, -999.000,9,   -0.001,2, -999.000,9, -999.000,9, -999.000,9
           NA,    P03E,     46,   2,-999.0,      31,  2,19850405,2034,  25.2133, -128.8117,  4732, 3137.100,    1.539,   34.669,2,   34.668,2, -999.000,9,  125.600,2,  169.610,2,   38.860,2,    0.000,2,    2.630,2, -999.000,9, -999.000,9, -999.000,9, -999.000,9, -999.000,9
           NA,    P03E,     46,   2,-999.0,      32,  2,19850405,2034,  25.2133, -128.8117,  4732, 3444.400,    1.498,   34.675,2,   34.674,2, -999.000,9,  133.800,2,  169.510,2,   38.240,2,    0.000,2,    2.590,2, -999.000,9, -999.000,9, -999.000,9, -999.000,9, -999.000,9
           NA,    P03E,     46,   2,-999.0,      33,  2,19850405,2034,  25.2133, -128.8117,  4732, 3750.900,    1.491,   34.680,2,   34.678,2, -999.000,9,  139.900,2,  165.430,2,   37.980,2,    0.000,2,    2.550,2, -999.000,9, -999.000,9, -999.000,9, -999.000,9, -999.000,9
           NA,    P03E,     46,   2,-999.0,      34,  2,19850405,2034,  25.2133, -128.8117,  4732, 4057.900,    1.511,   34.682,2,   34.679,2, -999.000,9,  141.700,2,  161.750,2,   37.820,2,    0.000,2,    2.550,2, -999.000,9, -999.000,9, -999.000,9, -999.000,9, -999.000,9
           NA,    P03E,     46,   2,-999.0,      35,  2,19850405,2034,  25.2133, -128.8117,  4732, 4364.100,    1.537,   34.682,2,   34.681,2, -999.000,9,  144.300,2,  159.460,2,   37.770,2,    0.000,2,    2.540,2, -999.000,9, -999.000,9, -999.000,9, -999.000,9, -999.000,9
           NA,    P03E,     46,   2,-999.0,      36,  2,19850405,2034,  25.2133, -128.8117,  4732, 4752.200,    1.574,   34.683,2,   34.682,2, -999.000,9,  145.600,2,  158.980,2,   37.720,2,    0.000,2,    2.530,2,   -0.002,2,    0.003,2, -999.000,9, -999.000,9, -999.000,9
           NA,    P03E,     44,   1,-999.0,       1,  2,19850405,1301,  25.6817, -128.1983,  4234,    1.200,   17.627,   34.247,2,   34.248,2, -999.000,9,  240.700,2,    2.320,2,    0.050,2,    0.000,2,    0.220,2, -999.000,9, -999.000,9, -999.000,9, -999.000,9, -999.000,9
           NA,    P03E,     44,   1,-999.0,       4,  2,19850405,1301,  25.6817, -128.1983,  4234,   18.900,   17.647,   34.255,2,   34.249,2, -999.000,9,  241.400,2,    2.300,2,    0.050,2,    0.000,2,    0.220,2, -999.000,9, -999.000,9, -999.000,9, -999.000,9, -999.000,9
           NA,    P03E,     44,   1,-999.0,       5,  2,19850405,1301,  25.6817, -128.1983,  4234,   33.800,   17.789,   34.343,2,   34.343,2, -999.000,9,  240.500,2,    2.280,2,    0.050,2,    0.000,2,    0.220,2, -999.000,9, -999.000,9, -999.000,9, -999.000,9, -999.000,9
           NA,    P03E,     44,   1,-999.0,       6,  2,19850405,1301,  25.6817, -128.1983,  4234,   54.100,   17.910,   34.402,2,   34.400,2, -999.000,9,  238.900,2,    2.060,2,    0.060,2,    0.000,2,    0.210,2, -999.000,9, -999.000,9, -999.000,9, -999.000,9, -999.000,9
           NA,    P03E,     44,   1,-999.0,       7,  2,19850405,1301,  25.6817, -128.1983,  4234,   74.000,   17.951,   34.423,2,   34.423,2, -999.000,9,  238.500,2,    2.030,2,    0.060,2,    0.000,2,    0.210,2, -999.000,9, -999.000,9, -999.000,9, -999.000,9, -999.000,9
           NA,    P03E,     44,   1,-999.0,       8,  2,19850405,1301,  25.6817, -128.1983,  4234,   94.100,   17.943,   34.425,2,   34.425,2, -999.000,9,  238.600,2,    1.820,2,    0.060,2,    0.000,2,    0.200,2, -999.000,9, -999.000,9, -999.000,9, -999.000,9, -999.000,9
           NA,    P03E,     44,   1,-999.0,       9,  2,19850405,1301,  25.6817, -128.1983,  4234,  124.700,   18.176,   34.584,2,   34.602,2, -999.000,9,  233.900,2,    1.990,2,    0.060,2,    0.000,2,    0.170,2, -999.000,9, -999.000,9, -999.000,9, -999.000,9, -999.000,9
           NA,    P03E,     44,   1,-999.0,      10,  2,19850405,1301,  25.6817, -128.1983,  4234,  155.800,   16.338,   34.335,2,   34.276,2, -999.000,9,  222.600,2,    2.740,2,    1.920,2,    0.040,2,    0.340,2, -999.000,9, -999.000,9, -999.000,9, -999.000,9, -999.000,9
           NA,    P03E,     44,   1,-999.0,      11,  2,19850405,1301,  25.6817, -128.1983,  4234,  196.000,   12.950,   33.910,2,   33.910,2, -999.000,9,  211.500,2,    6.620,2,    7.090,2,    0.010,2,    0.670,2, -999.000,9, -999.000,9, -999.000,9, -999.000,9, -999.000,9
           NA,    P03E,     44,   1,-999.0,      12,  2,19850405,1301,  25.6817, -128.1983,  4234,  236.400,   10.729,   33.830,2,   33.833,2, -999.000,9,  187.300,2,   15.960,2,   15.190,2,    0.000,2,    1.200,2, -999.000,9, -999.000,9, -999.000,9, -999.000,9, -999.000,9
           NA,    P03E,     44,   1,-999.0,      13,  2,19850405,1301,  25.6817, -128.1983,  4234,  286.700,    8.770,   33.985,2,   33.988,2, -999.000,9,  161.100,2,   29.420,2,   22.690,2,    0.000,2,    1.650,2, -999.000,9, -999.000,9, -999.000,9, -999.000,9, -999.000,9
           NA,    P03E,     44,   1,-999.0,      14,  2,19850405,1301,  25.6817, -128.1983,  4234,  337.300,    7.945,   34.077,2,   34.080,2, -999.000,9,  110.000,2,   42.120,2,   28.900,2,    0.000,2,    2.130,2, -999.000,9, -999.000,9, -999.000,9, -999.000,9, -999.000,9
           NA,    P03E,     44,   1,-999.0,      15,  2,19850405,1301,  25.6817, -128.1983,  4234,  397.800,    7.014,   34.127,2,   34.129,2, -999.000,9,   71.400,2,   56.610,2,   34.150,2,    0.000,2,    2.510,2, -999.000,9, -999.000,9, -999.000,9, -999.000,9, -999.000,9
           NA,    P03E,     44,   1,-999.0,      16,  2,19850405,1301,  25.6817, -128.1983,  4234,  458.400,    6.466,   34.207,2,   34.198,2, -999.000,9,   39.200,2,   67.200,2,   37.740,2,    0.000,2,    2.810,2, -999.000,9, -999.000,9, -999.000,9, -999.000,9, -999.000,9
           NA,    P03E,     44,   1,-999.0,      17,  2,19850405,1301,  25.6817, -128.1983,  4234,  528.300,    5.782,   34.248,2,   34.247,2, -999.000,9,   23.900,2,   79.200,2,   40.770,2,    0.000,2,    2.990,2, -999.000,9, -999.000,9, -999.000,9, -999.000,9, -999.000,9
           NA,    P03E,     44,   1,-999.0,      18,  2,19850405,1301,  25.6817, -128.1983,  4234,  609.200,    5.543,   34.332,2,   34.332,2, -999.000,9,   17.300,2,   85.320,2,   42.230,2,    0.000,2,    3.080,2, -999.000,9, -999.000,9, -999.000,9, -999.000,9, -999.000,9
           NA,    P03E,     44,   1,-999.0,      19,  2,19850405,1301,  25.6817, -128.1983,  4234,  709.500,    5.069,   34.386,2,   34.387,2, -999.000,9,   15.800,2,   94.210,2,   43.550,2,    0.000,2,    3.140,2, -999.000,9, -999.000,9, -999.000,9, -999.000,9, -999.000,9
           NA,    P03E,     44,   1,-999.0,      20,  2,19850405,1301,  25.6817, -128.1983,  4234,  810.500,    4.716,   34.438,2,   34.439,2, -999.000,9,   20.400,2,  100.750,2,   44.130,2,    0.000,2,    3.150,2, -999.000,9, -999.000,9, -999.000,9, -999.000,9, -999.000,9
           NA,    P03E,     44,   1,-999.0,      21,  2,19850405,1301,  25.6817, -128.1983,  4234,  911.300,    4.393,   34.463,2,   34.464,2, -999.000,9,   25.900,2,  107.900,2,   44.500,2,    0.000,2,    3.150,2, -999.000,9, -999.000,9, -999.000,9, -999.000,9, -999.000,9
           NA,    P03E,     44,   1,-999.0,      22,  2,19850405,1301,  25.6817, -128.1983,  4234, 1012.500,    4.087,   34.489,2,   34.490,2, -999.000,9,   31.300,2,  114.280,2,   44.550,2,    0.000,2,    3.140,2, -999.000,9, -999.000,9, -999.000,9, -999.000,9, -999.000,9
           NA,    P03E,     44,   1,-999.0,      23,  2,19850405,1301,  25.6817, -128.1983,  4234, 1113.400,    3.811,   34.509,2,   34.509,2, -999.000,9,   33.900,2,  120.470,2,   44.550,2,    0.000,2,    3.150,2, -999.000,9, -999.000,9, -999.000,9, -999.000,9, -999.000,9
           NA,    P03E,     44,   1,-999.0,      24,  2,19850405,1301,  25.6817, -128.1983,  4234, 1264.600,    3.443,   34.535,2,   34.536,2, -999.000,9,   39.100,2,  130.250,2,   44.550,2,    0.000,2,    3.140,2, -999.000,9, -999.000,9, -999.000,9, -999.000,9, -999.000,9
           NA,    P03E,     44,   1,-999.0,      25,  2,19850405,1301,  25.6817, -128.1983,  4234, 1415.700,    3.071,   34.558,2, -999.000,5, -999.000,9,   45.700,2,  140.650,2,   44.180,2,    0.000,2,    3.100,2, -999.000,9, -999.000,9, -999.000,9, -999.000,9, -999.000,9
           NA,    P03E,     44,   1,-999.0,      26,  2,19850405,1301,  25.6817, -128.1983,  4234, 1618.300,    2.677,   34.585,2,   34.586,2, -999.000,9,   57.900,2,  152.080,2,   43.440,2,    0.000,2,    3.030,2, -999.000,9, -999.000,9, -999.000,9, -999.000,9, -999.000,9
           NA,    P03E,     44,   1,-999.0,      27,  2,19850405,1301,  25.6817, -128.1983,  4234, 1820.800,    2.392,   34.605,2,   34.608,2, -999.000,9,   69.500,2,  155.950,2,   42.440,2,    0.000,2,    2.970,2, -999.000,9, -999.000,9, -999.000,9, -999.000,9, -999.000,9
           NA,    P03E,     44,   1,-999.0,      28,  2,19850405,1301,  25.6817, -128.1983,  4234, 2022.800,    2.134,   34.625,2,   34.625,2, -999.000,9,   83.500,2,  156.430,2,   41.450,2,    0.000,2,    2.880,2, -999.000,9, -999.000,9, -999.000,9, -999.000,9, -999.000,9
           NA,    P03E,     44,   1,-999.0,      29,  2,19850405,1301,  25.6817, -128.1983,  4234, 2225.600,    1.980,   34.635,2,   34.636,2, -999.000,9,   92.500,2,  158.310,2,   40.780,2,    0.000,2,    2.820,2, -999.000,9, -999.000,9, -999.000,9, -999.000,9, -999.000,9
           NA,    P03E,     44,   1,-999.0,      30,  2,19850405,1301,  25.6817, -128.1983,  4234, 2530.100,    1.778,   34.648,2,   34.648,2, -999.000,9,  103.400,2,  162.600,2,   40.260,2,    0.000,2,    2.760,2, -999.000,9, -999.000,9, -999.000,9, -999.000,9, -999.000,9
           NA,    P03E,     44,   1,-999.0,      31,  2,19850405,1301,  25.6817, -128.1983,  4234, 2834.400,    1.628,   34.659,2,   34.659,2, -999.000,9,  114.100,2,  166.290,2,   39.380,2,    0.000,2,    2.690,2, -999.000,9, -999.000,9, -999.000,9, -999.000,9, -999.000,9
           NA,    P03E,     44,   1,-999.0,      32,  2,19850405,1301,  25.6817, -128.1983,  4234, 3139.500,    1.534,   34.668,2,   34.668,2, -999.000,9,  124.500,2,  166.980,2,   38.760,2,    0.000,2,    2.630,2, -999.000,9, -999.000,9, -999.000,9, -999.000,9, -999.000,9
           NA,    P03E,     44,   1,-999.0,      33,  2,19850405,1301,  25.6817, -128.1983,  4234, 3445.400,    1.492,   34.675,2,   34.675,2, -999.000,9,  134.500,2,  166.670,2,   38.150,2,    0.000,2,    2.590,2, -999.000,9, -999.000,9, -999.000,9, -999.000,9, -999.000,9
           NA,    P03E,     44,   1,-999.0,      34,  2,19850405,1301,  25.6817, -128.1983,  4234, 3752.000,    1.490,   34.679,2,   34.678,2, -999.000,9,  139.100,2,  163.540,2,   37.740,2,    0.000,2,    2.570,2, -999.000,9, -999.000,9, -999.000,9, -999.000,9, -999.000,9
           NA,    P03E,     44,   1,-999.0,      35,  2,19850405,1301,  25.6817, -128.1983,  4234, 4058.200,    1.508,   34.681,2,   34.680,2, -999.000,9,  142.300,2,  159.280,2,   37.490,2,    0.000,2,    2.540,2, -999.000,9, -999.000,9, -999.000,9, -999.000,9, -999.000,9
           NA,    P03E,     44,   1,-999.0,      36,  2,19850405,1301,  25.6817, -128.1983,  4234, 4394.300,    1.541,   34.682,2,   34.681,2, -999.000,9,  143.900,2,  158.190,2,   37.380,2,    0.000,2,    2.530,2, -999.000,9, -999.000,9, -999.000,9, -999.000,9, -999.000,9