BOTTLE,20203103JOAExport
EXPOCODE,SECT_ID,STNNBR,CASTNO,SAMPNO,BTLNBR,BTLNBR_FLAG_W,DATE,TIME,LATITUDE,LONGITUDE,DEPTH,CTDPRS,CTDTMP,CTDSAL,CTDSAL_FLAG_W,SALNTY,SALNTY_FLAG_W,CTDOXY,CTDOXY_FLAG_W,OXYGEN,OXYGEN_FLAG_W,SILCAT,SILCAT_FLAG_W,NITRAT,NITRAT_FLAG_W,NITRIT,NITRIT_FLAG_W,PHSPHT,PHSPHT_FLAG_W,CFC-11,CFC-11_FLAG_W,CFC-12,CFC-12_FLAG_W,SF6,SF6_FLAG_W,TCARBN,TCARBN_FLAG_W,ALKALI,ALKALI_FLAG_W
,,,,,,,,,,,,,DB,ITS-90,PSS-78,,PSS-78,,UMOL/KG,,UMOL/KG,,UMOL/KG,,UMOL/KG,,UMOL/KG,,UMOL/KG,,PMOL/KG,,PMOL/KG,,FMOL/KG,,UMOL/KG,,UMOL/KG
           NA,    P03E,     28,   1,-999.0,       1,  2,19850402,1741,  30.0217, -122.5850,  4306,    1.000,   15.992,   33.530,2,   33.531,2, -999.000,9,  251.200,2,    2.240,2,    0.050,2,    0.000,2,    0.310,2,    2.411,2,    1.234,2, -999.000,9, -999.000,9, -999.000,9
           NA,    P03E,     28,   1,-999.0,       2,  2,19850402,1741,  30.0217, -122.5850,  4306,   20.200,   15.781,   33.536,2,   33.538,2, -999.000,9,  251.400,2,    2.220,2,    0.050,2,    0.000,2,    0.300,2,    2.412,2,    1.233,2, -999.000,9, -999.000,9, -999.000,9
           NA,    P03E,     28,   1,-999.0,       3,  2,19850402,1741,  30.0217, -122.5850,  4306,   35.400,   15.778,   33.546,2,   33.546,2, -999.000,9,  251.400,2,    2.190,2,    0.050,2,    0.000,2,    0.300,2,    2.395,2,    1.227,2, -999.000,9, -999.000,9, -999.000,9
           NA,    P03E,     28,   1,-999.0,       4,  2,19850402,1741,  30.0217, -122.5850,  4306,   55.600,   15.815,   33.565,2,   33.567,2, -999.000,9,  250.900,2,    2.170,2,    0.000,2,    0.000,2,    0.300,2,    2.393,2,    1.216,2, -999.000,9, -999.000,9, -999.000,9
           NA,    P03E,     28,   1,-999.0,       5,  2,19850402,1741,  30.0217, -122.5850,  4306,   75.400,   15.833,   33.575,2,   33.576,2, -999.000,9,  250.700,2,    2.150,2,    0.000,2,    0.000,2,    0.300,2,    2.359,2,    1.258,2, -999.000,9, -999.000,9, -999.000,9
           NA,    P03E,     28,   1,-999.0,       6,  2,19850402,1741,  30.0217, -122.5850,  4306,   95.500,   15.813,   33.577,2,   33.579,2, -999.000,9,  250.400,2,    1.940,2,    0.000,2,    0.000,2,    0.300,2,    2.390,2,    1.219,2, -999.000,9, -999.000,9, -999.000,9
           NA,    P03E,     28,   1,-999.0,       7,  2,19850402,1741,  30.0217, -122.5850,  4306,  125.300,   15.353,   33.743,2,   33.744,2, -999.000,9,  239.600,2,    2.660,2,    0.800,2,    0.060,2,    0.350,2,    2.342,2,    1.195,2, -999.000,9, -999.000,9, -999.000,9
           NA,    P03E,     28,   1,-999.0,       8,  2,19850402,1741,  30.0217, -122.5850,  4306,  156.300,   13.152,   33.688,2,   33.679,2, -999.000,9,  215.900,2,    6.360,2,    6.090,2,    0.020,2,    0.690,2,    2.313,2,    1.212,2, -999.000,9, -999.000,9, -999.000,9
           NA,    P03E,     28,   1,-999.0,       9,  2,19850402,1741,  30.0217, -122.5850,  4306,  196.500,   11.106,   33.730,2,   33.748,2, -999.000,9,  174.100,2,   16.790,2,   16.030,2,    0.000,2,    1.290,2,    1.893,2,    0.965,2, -999.000,9, -999.000,9, -999.000,9
           NA,    P03E,     28,   1,-999.0,      10,  2,19850402,1741,  30.0217, -122.5850,  4306,  236.800,    9.545,   33.877,2,   33.891,2, -999.000,9,  151.300,2,   25.560,2,   22.010,2,    0.000,2,    1.650,2,    1.390,2,    0.683,2, -999.000,9, -999.000,9, -999.000,9
           NA,    P03E,     28,   1,-999.0,      11,  2,19850402,1741,  30.0217, -122.5850,  4306,  287.100,    8.417,   33.979,2,   33.983,2, -999.000,9,  132.100,2,   34.350,2,   26.370,2,    0.000,2,    1.910,2,    1.090,2,    0.546,2, -999.000,9, -999.000,9, -999.000,9
           NA,    P03E,     28,   1,-999.0,      12,  2,19850402,1741,  30.0217, -122.5850,  4306,  337.400,    7.685,   34.038,2,   34.042,2, -999.000,9,  103.500,2,   43.730,2,   30.380,2,    0.000,2,    2.190,2,    0.641,2,    0.322,2, -999.000,9, -999.000,9, -999.000,9
           NA,    P03E,     28,   1,-999.0,      13,  2,19850402,1741,  30.0217, -122.5850,  4306,  397.900,    6.724,   34.078,2,   34.079,2, -999.000,9,   70.100,2,   57.110,2,   34.960,2,    0.000,2,    2.530,2,    0.266,2,    0.159,2, -999.000,9, -999.000,9, -999.000,9
           NA,    P03E,     28,   1,-999.0,      14,  2,19850402,1741,  30.0217, -122.5850,  4306,  458.500,    6.125,   34.109,2,   34.111,2, -999.000,9,   47.700,2,   67.880,2,   38.020,2,    0.000,2,    2.760,2,    0.110,2, -999.000,9, -999.000,9, -999.000,9, -999.000,9
           NA,    P03E,     28,   1,-999.0,      15,  2,19850402,1741,  30.0217, -122.5850,  4306,  529.200,    5.713,   34.188,2,   34.195,2, -999.000,9,   24.700,2,   79.070,2,   40.540,2,    0.000,2,    2.980,2,    0.030,2,    0.031,2, -999.000,9, -999.000,9, -999.000,9
           NA,    P03E,     28,   1,-999.0,      16,  2,19850402,1741,  30.0217, -122.5850,  4306,  609.700,    5.080,   34.239,2,   34.239,2, -999.000,9,   17.500,2,   89.720,2,   42.320,2,    0.000,2,    3.090,2,    0.002,2,    0.009,2, -999.000,9, -999.000,9, -999.000,9
           NA,    P03E,     28,   1,-999.0,      17,  2,19850402,1741,  30.0217, -122.5850,  4306,  710.200,    4.841,   34.335,2,   34.337,2, -999.000,9,   11.900,2,   98.470,2,   43.210,2,    0.000,2,    3.170,2,    0.010,2,    0.001,2, -999.000,9, -999.000,9, -999.000,9
           NA,    P03E,     28,   1,-999.0,      18,  2,19850402,1741,  30.0217, -122.5850,  4306,  810.300,    4.558,   34.391,2,   34.393,2, -999.000,9,   13.400,2,  105.520,2,   43.850,2,    0.000,2,    3.180,2, -999.000,9,    0.008,2, -999.000,9, -999.000,9, -999.000,9
           NA,    P03E,     28,   1,-999.0,      19,  2,19850402,1741,  30.0217, -122.5850,  4306,  912.300,    4.245,   34.446,2,   34.447,2, -999.000,9,   19.800,2,  111.430,2,   44.220,2,    0.000,2,    3.170,2,    0.000,2,   -0.001,2, -999.000,9, -999.000,9, -999.000,9
           NA,    P03E,     28,   1,-999.0,      20,  2,19850402,1741,  30.0217, -122.5850,  4306, 1012.700,    3.969,   34.476,2,   34.479,2, -999.000,9,   24.900,2,  118.110,2,   44.210,2,    0.000,2,    3.170,2,   -0.006,2,    0.016,2, -999.000,9, -999.000,9, -999.000,9
           NA,    P03E,     28,   1,-999.0,      21,  2,19850402,1741,  30.0217, -122.5850,  4306, 1114.000,    3.722,   34.499,2,   34.501,2, -999.000,9,   28.900,2,  124.230,2,   44.210,2,    0.000,2,    3.150,2, -999.000,9, -999.000,9, -999.000,9, -999.000,9, -999.000,9
           NA,    P03E,     28,   1,-999.0,      22,  2,19850402,1741,  30.0217, -122.5850,  4306, 1265.300,    3.347,   34.525,2,   34.528,2, -999.000,9,   36.100,2,  134.430,2,   43.950,2,    0.000,2,    3.130,2, -999.000,9, -999.000,9, -999.000,9, -999.000,9, -999.000,9
           NA,    P03E,     28,   1,-999.0,      23,  2,19850402,1741,  30.0217, -122.5850,  4306, 1415.400,    3.038,   34.549,2,   34.551,2, -999.000,9,   43.500,2,  142.510,2,   43.680,2,    0.000,2,    3.100,2,   -0.007,2,    0.003,2, -999.000,9, -999.000,9, -999.000,9
           NA,    P03E,     28,   1,-999.0,      24,  2,19850402,1741,  30.0217, -122.5850,  4306, 1617.900,    2.661,   34.577,2,   34.580,2, -999.000,9,   55.400,2,  152.370,2,   42.840,2,    0.000,2,    3.030,2, -999.000,9, -999.000,9, -999.000,9, -999.000,9, -999.000,9
           NA,    P03E,     28,   1,-999.0,      25,  2,19850402,1741,  30.0217, -122.5850,  4306, 1820.500,    2.346,   34.602,2,   34.605,2, -999.000,9,   69.900,2,  159.130,2,   42.150,2,    0.000,2,    2.950,2, -999.000,9, -999.000,9, -999.000,9, -999.000,9, -999.000,9
           NA,    P03E,     28,   1,-999.0,      26,  2,19850402,1741,  30.0217, -122.5850,  4306, 1972.900,    2.159,   34.619,2,   34.621,2, -999.000,9,   78.600,2,  162.180,2,   41.580,2,    0.000,2, -999.000,5, -999.000,9, -999.000,9, -999.000,9, -999.000,9, -999.000,9
           NA,    P03E,     28,   1,-999.0,      27,  2,19850402,1741,  30.0217, -122.5850,  4306, 2125.100,    2.013,   34.632,2,   34.634,2, -999.000,9,   88.500,2,  165.430,2,   41.050,2,    0.000,2,    2.840,2, -999.000,9, -999.000,9, -999.000,9, -999.000,9, -999.000,9
           NA,    P03E,     28,   1,-999.0,      28,  2,19850402,1741,  30.0217, -122.5850,  4306, 2277.400,    1.927,   34.640,2,   34.643,2, -999.000,9,   95.100,2,  166.140,2,   40.530,2,    0.000,2,    2.790,2,    0.003,2, -999.000,9, -999.000,9, -999.000,9, -999.000,9
           NA,    P03E,     28,   1,-999.0,      29,  2,19850402,1741,  30.0217, -122.5850,  4306, 2429.000,    1.848,   34.647,2,   34.649,2, -999.000,9,  100.700,2,  169.000,2,   40.220,2,    0.000,2,    2.770,2, -999.000,9, -999.000,9, -999.000,9, -999.000,9, -999.000,9
           NA,    P03E,     28,   1,-999.0,      30,  2,19850402,1741,  30.0217, -122.5850,  4306, 2632.600,    1.752,   34.655,2,   34.657,2, -999.000,9,  107.900,2,  169.120,2,   39.750,2,    0.000,2,    2.720,2, -999.000,9, -999.000,9, -999.000,9, -999.000,9, -999.000,9
           NA,    P03E,     28,   1,-999.0,      31,  2,19850402,1741,  30.0217, -122.5850,  4306, 2834.100,    1.689,   34.660,2,   34.661,2, -999.000,9,  113.600,2,  169.630,2,   39.440,2,    0.000,2,    2.690,2, -999.000,9, -999.000,9, -999.000,9, -999.000,9, -999.000,9
           NA,    P03E,     28,   1,-999.0,      32,  2,19850402,1741,  30.0217, -122.5850,  4306, 3139.200,    1.614,   34.667,2,   34.668,2, -999.000,9,  121.400,2,  171.700,2,   38.980,2,    0.000,2,    2.650,2,    0.014,2, -999.000,9, -999.000,9, -999.000,9, -999.000,9
           NA,    P03E,     28,   1,-999.0,      33,  2,19850402,1741,  30.0217, -122.5850,  4306, 3446.300,    1.571,   34.672,2,   34.672,2, -999.000,9,  127.300,2,  171.630,2,   38.460,2,    0.000,2,    2.620,2, -999.000,9, -999.000,9, -999.000,9, -999.000,9, -999.000,9
           NA,    P03E,     28,   1,-999.0,      34,  2,19850402,1741,  30.0217, -122.5850,  4306, 3748.500,    1.548,   34.675,2,   34.676,2, -999.000,9,  131.200,2,  171.750,2,   38.150,2,    0.000,2,    2.600,2, -999.000,9, -999.000,9, -999.000,9, -999.000,9, -999.000,9
           NA,    P03E,     28,   1,-999.0,      35,  2,19850402,1741,  30.0217, -122.5850,  4306, 4055.700,    1.539,   34.678,2,   34.679,2, -999.000,9,  135.200,2,  171.480,2,   37.950,2,    0.000,2,    2.570,2, -999.000,9, -999.000,9, -999.000,9, -999.000,9, -999.000,9
           NA,    P03E,     28,   1,-999.0,      36,  2,19850402,1741,  30.0217, -122.5850,  4306, 4363.600,    1.562,   34.680,2,   34.680,2, -999.000,9,  137.400,2,  172.570,2,   37.850,2,    0.000,2,    2.560,2,    0.013,2, -999.000,9, -999.000,9, -999.000,9, -999.000,9
           NA,    P03E,     26,   1,-999.0,      25,  2,19850402,0853,  30.4833, -122.0267,  3778,    0.200,   15.330,   33.543,2,   33.544,2, -999.000,9,  252.800,2,    3.170,2,    0.000,2,    0.000,2,    0.340,2, -999.000,9, -999.000,9, -999.000,9, -999.000,9, -999.000,9
           NA,    P03E,     26,   1,-999.0,      30,  2,19850402,0853,  30.4833, -122.0267,  3778,   20.200,   15.027,   33.517,2,   33.495,2, -999.000,9,  258.400,2,    3.100,2,    0.000,2,    0.000,2,    0.350,2, -999.000,9, -999.000,9, -999.000,9, -999.000,9, -999.000,9
           NA,    P03E,     26,   1,-999.0,      31,  2,19850402,0853,  30.4833, -122.0267,  3778,   34.700,   14.572,   33.436,2,   33.437,2, -999.000,9,  259.700,2,    3.030,2,    0.000,2,    0.000,2,    0.360,2, -999.000,9, -999.000,9, -999.000,9, -999.000,9, -999.000,9
           NA,    P03E,     26,   1,-999.0,      32,  2,19850402,0853,  30.4833, -122.0267,  3778,   55.000,   14.524,   33.437,2,   33.437,2, -999.000,9,  258.400,2,    2.970,2,    0.000,2,    0.000,2,    0.360,2, -999.000,9, -999.000,9, -999.000,9, -999.000,9, -999.000,9
           NA,    P03E,     26,   1,-999.0,      33,  2,19850402,0853,  30.4833, -122.0267,  3778,   74.900,   14.395,   33.419,2,   33.410,2, -999.000,9,  258.400,2,    2.900,2,    0.040,2,    0.000,2,    0.370,2, -999.000,9, -999.000,9, -999.000,9, -999.000,9, -999.000,9
           NA,    P03E,     26,   1,-999.0,      34,  2,19850402,0853,  30.4833, -122.0267,  3778,   95.500,   13.345,   33.502,2,   33.505,2, -999.000,9,  235.700,2,    4.970,2,    3.210,2,    0.120,2,    0.550,2, -999.000,9, -999.000,9, -999.000,9, -999.000,9, -999.000,9
           NA,    P03E,     26,   1,-999.0,      35,  2,19850402,0853,  30.4833, -122.0267,  3778,  126.000,   12.032,   33.619,2,   33.616,2, -999.000,9,  216.000,2,    8.970,2,    8.240,2,    0.030,2,    0.830,2, -999.000,9, -999.000,9, -999.000,9, -999.000,9, -999.000,9
           NA,    P03E,     26,   1,-999.0,      36,  2,19850402,0853,  30.4833, -122.0267,  3778,  156.500,   10.198,   33.640,2,   33.640,2, -999.000,9,  188.500,2,   17.240,2,   15.800,2,    0.000,2,    1.270,2, -999.000,9, -999.000,9, -999.000,9, -999.000,9, -999.000,9
           NA,    P03E,     26,   1,-999.0,       1,  2,19850402,0853,  30.4833, -122.0267,  3778,  196.700,    9.007,   33.883,2,   33.869,2, -999.000,9,  134.900,2,   29.620,2,   24.610,2,    0.000,2,    1.830,2, -999.000,9, -999.000,9, -999.000,9, -999.000,9, -999.000,9
           NA,    P03E,     26,   1,-999.0,       2,  2,19850402,0853,  30.4833, -122.0267,  3778,  236.600,    8.313,   33.987,2,   33.987,2, -999.000,9,  120.100,2,   36.770,2,   27.520,2,    0.000,2,    2.010,2, -999.000,9, -999.000,9, -999.000,9, -999.000,9, -999.000,9
           NA,    P03E,     26,   1,-999.0,       3,  2,19850402,0853,  30.4833, -122.0267,  3778,  287.000,    7.622,   34.033,2,   34.033,2, -999.000,9,  107.000,2,   44.310,2,   29.980,2,    0.000,2,    2.200,2, -999.000,9, -999.000,9, -999.000,9, -999.000,9, -999.000,9
           NA,    P03E,     26,   1,-999.0,       4,  2,19850402,0853,  30.4833, -122.0267,  3778,  337.100,    6.972,   34.049,2,   34.050,2, -999.000,9,   88.300,2,   53.640,2,   33.020,2,    0.000,2,    2.400,2, -999.000,9, -999.000,9, -999.000,9, -999.000,9, -999.000,9
           NA,    P03E,     26,   1,-999.0,       5,  2,19850402,0853,  30.4833, -122.0267,  3778,  398.100,    6.288,   34.073,2,   34.074,2, -999.000,9,   60.900,2,   65.350,2,   36.720,2,    0.000,2,    2.670,2, -999.000,9, -999.000,9, -999.000,9, -999.000,9, -999.000,9
           NA,    P03E,     26,   1,-999.0,       6,  2,19850402,0853,  30.4833, -122.0267,  3778,  458.200,    5.646,   34.114,2,   34.118,2, -999.000,9,   39.100,2,   77.690,2,   39.870,2,    0.000,2,    2.900,2, -999.000,9, -999.000,9, -999.000,9, -999.000,9, -999.000,9
           NA,    P03E,     26,   1,-999.0,       7,  2,19850402,0853,  30.4833, -122.0267,  3778,  528.200,    5.420,   34.205,2,   34.208,2, -999.000,9,   22.600,2,   84.910,2,   41.020,2,    0.000,2,    3.040,2, -999.000,9, -999.000,9, -999.000,9, -999.000,9, -999.000,9
           NA,    P03E,     26,   1,-999.0,       8,  2,19850402,0853,  30.4833, -122.0267,  3778,  609.300,    5.107,   34.280,2,   34.284,2, -999.000,9,   14.300,2,   93.140,2,   42.290,2,    0.000,2,    3.140,2, -999.000,9, -999.000,9, -999.000,9, -999.000,9, -999.000,9
           NA,    P03E,     26,   1,-999.0,       9,  2,19850402,0853,  30.4833, -122.0267,  3778,  709.800,    4.769,   34.369,2,   34.370,2, -999.000,9,   13.000,2,  101.570,2,   43.300,2,    0.000,2,    3.190,2, -999.000,9, -999.000,9, -999.000,9, -999.000,9, -999.000,9
           NA,    P03E,     26,   1,-999.0,      10,  2,19850402,0853,  30.4833, -122.0267,  3778,  809.800,    4.511,   34.416,2,   34.418,2, -999.000,9,   16.100,2,  108.440,2,   43.780,2,    0.000,2,    3.200,2, -999.000,9, -999.000,9, -999.000,9, -999.000,9, -999.000,9
           NA,    P03E,     26,   1,-999.0,      11,  2,19850402,0853,  30.4833, -122.0267,  3778,  911.100,    4.230,   34.451,2,   34.454,2, -999.000,9,   20.400,2,  114.510,2,   43.900,2,    0.000,2,    3.210,2, -999.000,9, -999.000,9, -999.000,9, -999.000,9, -999.000,9
           NA,    P03E,     26,   1,-999.0,      12,  2,19850402,0853,  30.4833, -122.0267,  3778, 1011.900,    3.970,   34.473,2,   34.475,2, -999.000,9,   25.600,2,  120.200,2,   44.180,2,    0.000,2,    3.210,2, -999.000,9, -999.000,9, -999.000,9, -999.000,9, -999.000,9
           NA,    P03E,     26,   1,-999.0,      13,  2,19850402,0853,  30.4833, -122.0267,  3778, 1113.300,    3.641,   34.502,2,   34.504,2, -999.000,9,   31.300,2,  128.090,2,   43.980,2,    0.000,2,    3.160,2, -999.000,9, -999.000,9, -999.000,9, -999.000,9, -999.000,9
           NA,    P03E,     26,   1,-999.0,      14,  2,19850402,0853,  30.4833, -122.0267,  3778, 1264.400,    3.276,   34.528,2,   34.529,2, -999.000,9,   39.600,2,  134.990,2,   43.770,2,    0.000,2,    3.130,2, -999.000,9, -999.000,9, -999.000,9, -999.000,9, -999.000,9
           NA,    P03E,     26,   1,-999.0,      15,  2,19850402,0853,  30.4833, -122.0267,  3778, 1415.600,    2.955,   34.552,2,   34.552,2, -999.000,9,   47.400,2,  144.120,2,   43.410,2,    0.000,2,    3.090,2, -999.000,9, -999.000,9, -999.000,9, -999.000,9, -999.000,9
           NA,    P03E,     26,   1,-999.0,      16,  2,19850402,0853,  30.4833, -122.0267,  3778, 1617.800,    2.575,   34.582,2,   34.583,2, -999.000,9,   59.100,2,  154.670,2,   42.740,2,    0.000,2,    3.020,2, -999.000,9, -999.000,9, -999.000,9, -999.000,9, -999.000,9
           NA,    P03E,     26,   1,-999.0,      17,  2,19850402,0853,  30.4833, -122.0267,  3778, 1818.600,    2.250,   34.609,2,   34.610,2, -999.000,9,   73.400,2,  162.630,2,   41.800,2,    0.000,2,    2.940,2, -999.000,9, -999.000,9, -999.000,9, -999.000,9, -999.000,9
           NA,    P03E,     26,   1,-999.0,      18,  2,19850402,0853,  30.4833, -122.0267,  3778, 2020.500,    2.069,   34.625,2,   34.628,2, -999.000,9,   84.300,2,  166.750,2, -999.000,5,    0.000,2,    2.880,2, -999.000,9, -999.000,9, -999.000,9, -999.000,9, -999.000,9
           NA,    P03E,     26,   1,-999.0,      19,  2,19850402,0853,  30.4833, -122.0267,  3778, 2221.200,    1.934,   34.638,2,   34.639,2, -999.000,9,   93.400,2,  169.250,2, -999.000,5,    0.000,2,    2.820,2, -999.000,9, -999.000,9, -999.000,9, -999.000,9, -999.000,9
           NA,    P03E,     26,   1,-999.0,      20,  2,19850402,0853,  30.4833, -122.0267,  3778, 2526.800,    1.780,   34.652,2,   34.651,2, -999.000,9,  105.600,2,  171.760,2,   39.790,2,    0.000,2,    2.750,2, -999.000,9, -999.000,9, -999.000,9, -999.000,9, -999.000,9
           NA,    P03E,     26,   1,-999.0,      21,  2,19850402,0853,  30.4833, -122.0267,  3778, 2832.100,    1.704,   34.659,2,   34.660,2, -999.000,9,  112.500,2,  173.450,2,   39.330,2,    0.000,2,    2.710,2, -999.000,9, -999.000,9, -999.000,9, -999.000,9, -999.000,9
           NA,    P03E,     26,   1,-999.0,      22,  2,19850402,0853,  30.4833, -122.0267,  3778, 3139.200,    1.629,   34.666,2,   34.667,2, -999.000,9,  119.900,2,  175.150,2,   38.880,2,    0.000,2,    2.680,2, -999.000,9, -999.000,9, -999.000,9, -999.000,9, -999.000,9
           NA,    P03E,     26,   1,-999.0,      24,  2,19850402,0853,  30.4833, -122.0267,  3778, 3444.000,    1.550,   34.673,2,   34.674,2, -999.000,9,  128.200,2,  174.690,2,   38.380,2,    0.000,2,    2.620,2, -999.000,9, -999.000,9, -999.000,9, -999.000,9, -999.000,9
           NA,    P03E,     26,   1,-999.0,      23,  2,19850402,0853,  30.4833, -122.0267,  3778, 3815.800,    1.542,   34.676,2,   34.677,2, -999.000,9,  131.200,2,  173.600,2,   38.110,2,    0.000,2,    2.600,2, -999.000,9, -999.000,9, -999.000,9, -999.000,9, -999.000,9