BOTTLE,20203103JOAExport
EXPOCODE,SECT_ID,STNNBR,CASTNO,SAMPNO,BTLNBR,BTLNBR_FLAG_W,DATE,TIME,LATITUDE,LONGITUDE,DEPTH,CTDPRS,CTDTMP,CTDSAL,CTDSAL_FLAG_W,SALNTY,SALNTY_FLAG_W,CTDOXY,CTDOXY_FLAG_W,OXYGEN,OXYGEN_FLAG_W,SILCAT,SILCAT_FLAG_W,NITRAT,NITRAT_FLAG_W,NITRIT,NITRIT_FLAG_W,PHSPHT,PHSPHT_FLAG_W,CFC-11,CFC-11_FLAG_W,CFC-12,CFC-12_FLAG_W,SF6,SF6_FLAG_W,TCARBN,TCARBN_FLAG_W,ALKALI,ALKALI_FLAG_W
,,,,,,,,,,,,,DB,ITS-90,PSS-78,,PSS-78,,UMOL/KG,,UMOL/KG,,UMOL/KG,,UMOL/KG,,UMOL/KG,,UMOL/KG,,PMOL/KG,,PMOL/KG,,FMOL/KG,,UMOL/KG,,UMOL/KG
           NA,    P03W,    279,   1,-999.0,       1,  2,19850517,2120,  24.2600,  147.8500,  5833,    3.900,   25.380,   35.018,2,   35.020,2, -999.000,9,  211.200,2,    1.950,2,    0.110,2,    0.000,2,    0.110,2, -999.000,9, -999.000,9, -999.000,9, -999.000,9, -999.000,9
           NA,    P03W,    279,   1,-999.0,       2,  2,19850517,2120,  24.2600,  147.8500,  5833,   24.200,   25.308,   35.021,2,   35.020,2, -999.000,9,  210.800,2,    1.950,2,    0.120,2,    0.000,2,    0.100,2, -999.000,9, -999.000,9, -999.000,9, -999.000,9, -999.000,9
           NA,    P03W,    279,   1,-999.0,       3,  2,19850517,2120,  24.2600,  147.8500,  5833,   45.000,   24.378,   35.017,2,   35.018,2, -999.000,9,  214.200,2,    1.860,2,    0.120,2,    0.000,2,    0.070,2, -999.000,9, -999.000,9, -999.000,9, -999.000,9, -999.000,9
           NA,    P03W,    279,   1,-999.0,       4,  2,19850517,2120,  24.2600,  147.8500,  5833,   74.300,   22.562,   34.987,2,   34.995,2, -999.000,9,  219.800,2,    1.950,2,    0.120,2,    0.000,2,    0.070,2, -999.000,9, -999.000,9, -999.000,9, -999.000,9, -999.000,9
           NA,    P03W,    279,   1,-999.0,       5,  2,19850517,2120,  24.2600,  147.8500,  5833,  104.800,   21.434,   34.955,2,   34.955,2, -999.000,9,  216.700,2,    1.270,2,    0.120,2,    0.000,2,    0.070,2, -999.000,9, -999.000,9, -999.000,9, -999.000,9, -999.000,9
           NA,    P03W,    279,   1,-999.0,       6,  2,19850517,2120,  24.2600,  147.8500,  5833,  146.100,   19.607,   34.899,2,   34.902,2, -999.000,9,  205.300,2,    1.660,2,    1.340,2,    0.030,2,    0.180,2, -999.000,9, -999.000,9, -999.000,9, -999.000,9, -999.000,9
           NA,    P03W,    279,   1,-999.0,       7,  2,19850517,2120,  24.2600,  147.8500,  5833,  183.600,   17.922,   34.824,2,   34.827,2, -999.000,9,  203.400,2,    3.030,2,    3.460,2,    0.020,2,    0.310,2, -999.000,9, -999.000,9, -999.000,9, -999.000,9, -999.000,9
           NA,    P03W,    279,   1,-999.0,       8,  2,19850517,2120,  24.2600,  147.8500,  5833,  233.800,   16.899,   34.771,2,   34.770,2, -999.000,9,  209.100,2,    3.420,2,    4.610,2,    0.010,2,    0.360,2, -999.000,9, -999.000,9, -999.000,9, -999.000,9, -999.000,9
           NA,    P03W,    279,   1,-999.0,       9,  2,19850517,2120,  24.2600,  147.8500,  5833,  284.200,   16.324,   34.747,2,   34.747,2, -999.000,9,  208.200,2,    4.790,2,    5.860,2,    0.000,2,    0.440,2, -999.000,9, -999.000,9, -999.000,9, -999.000,9, -999.000,9
           NA,    P03W,    279,   1,-999.0,      10,  2,19850517,2120,  24.2600,  147.8500,  5833,  336.100,   15.686,   34.707,2,   34.708,2, -999.000,9,  210.300,2,    5.570,2,    6.780,2,    0.000,2,    0.510,2, -999.000,9, -999.000,9, -999.000,9, -999.000,9, -999.000,9
           NA,    P03W,    279,   1,-999.0,      11,  2,19850517,2120,  24.2600,  147.8500,  5833,  383.500,   14.997,   34.650,2,   34.654,2, -999.000,9,  209.400,2,    7.230,2,    7.790,2,    0.000,2,    0.590,2, -999.000,9, -999.000,9, -999.000,9, -999.000,9, -999.000,9
           NA,    P03W,    279,   1,-999.0,      12,  2,19850517,2120,  24.2600,  147.8500,  5833,  441.500,   13.675,   34.522,2,   34.527,2, -999.000,9,  199.400,2,   11.140,2,   10.560,2,    0.000,2,    0.770,2, -999.000,9, -999.000,9, -999.000,9, -999.000,9, -999.000,9
           NA,    P03W,    279,   1,-999.0,      13,  2,19850517,2120,  24.2600,  147.8500,  5833,  503.900,   12.142,   34.394,2,   34.400,2, -999.000,9,  192.800,2,   16.130,2,   13.780,2,    0.000,2,    1.000,2, -999.000,9, -999.000,9, -999.000,9, -999.000,9, -999.000,9
           NA,    P03W,    279,   1,-999.0,      14,  2,19850517,2120,  24.2600,  147.8500,  5833,  562.300,   10.544,   34.271,2,   34.271,2, -999.000,9,  182.800,2,   23.470,2,   17.400,2,    0.000,2,    1.250,2, -999.000,9, -999.000,9, -999.000,9, -999.000,9, -999.000,9
           NA,    P03W,    279,   1,-999.0,      15,  2,19850517,2120,  24.2600,  147.8500,  5833,  643.600,    8.552,   34.166,2,   34.169,2, -999.000,9,  150.500,2,   38.230,2,   24.050,2,    0.000,2,    1.700,2, -999.000,9, -999.000,9, -999.000,9, -999.000,9, -999.000,9
           NA,    P03W,    279,   1,-999.0,      16,  2,19850517,2120,  24.2600,  147.8500,  5833,  724.200,    6.737,   34.126,2,   34.128,2, -999.000,9,  110.500,2,   57.890,2,   31.090,2,    0.000,2,    2.230,2, -999.000,9, -999.000,9, -999.000,9, -999.000,9, -999.000,9
           NA,    P03W,    279,   1,-999.0,      17,  2,19850517,2120,  24.2600,  147.8500,  5833,  801.700,    5.699,   34.181,2,   34.180,2, -999.000,9,   78.700,2,   75.000,2,   35.980,2,    0.000,2,    2.510,2, -999.000,9, -999.000,9, -999.000,9, -999.000,9, -999.000,9
           NA,    P03W,    279,   1,-999.0,      18,  2,19850517,2120,  24.2600,  147.8500,  5833,  905.000,    4.960,   34.277,2,   34.277,2, -999.000,9,   60.900,2,   90.930,2,   38.620,2,    0.000,2,    2.730,2, -999.000,9, -999.000,9, -999.000,9, -999.000,9, -999.000,9
           NA,    P03W,    279,   1,-999.0,      39,  2,19850517,2120,  24.2600,  147.8500,  5833, 1053.200,    4.069,   34.372,2,   34.373,2, -999.000,9,   51.300,2,  109.980,2,   40.870,2,    0.000,2,    2.840,2, -999.000,9, -999.000,9, -999.000,9, -999.000,9, -999.000,9
           NA,    P03W,    279,   1,-999.0,      20,  2,19850517,2120,  24.2600,  147.8500,  5833, 1205.300,    3.483,   34.437,2,   34.440,2, -999.000,9,   55.600,2,  123.570,2,   41.250,2,    0.000,2,    2.890,2, -999.000,9, -999.000,9, -999.000,9, -999.000,9, -999.000,9
           NA,    P03W,    279,   1,-999.0,      21,  2,19850517,2120,  24.2600,  147.8500,  5833, 1409.200,    2.912,   34.492,2,   34.496,2, -999.000,9,   59.500,2,  136.560,2,   41.250,2,    0.000,2,    2.910,2, -999.000,9, -999.000,9, -999.000,9, -999.000,9, -999.000,9
           NA,    P03W,    279,   1,-999.0,      22,  2,19850517,2120,  24.2600,  147.8500,  5833, 1615.600,    2.438,   34.548,2,   34.548,2, -999.000,9,   76.500,2,  145.160,2,   40.660,2,    0.000,2,    2.810,2, -999.000,9, -999.000,9, -999.000,9, -999.000,9, -999.000,9
           NA,    P03W,    279,   1,-999.0,      23,  2,19850517,2120,  24.2600,  147.8500,  5833, 1814.100,    2.186,   34.579,2,   34.581,2, -999.000,9,   89.100,2,  148.680,2,   39.980,2,    0.000,2,    2.760,2, -999.000,9, -999.000,9, -999.000,9, -999.000,9, -999.000,9
           NA,    P03W,    279,   1,-999.0,      24,  2,19850517,2120,  24.2600,  147.8500,  5833, 2017.700,    1.987,   34.607,2,   34.609,2, -999.000,9,  103.000,2,  149.940,2,   39.290,2,    0.000,2,    2.720,2, -999.000,9, -999.000,9, -999.000,9, -999.000,9, -999.000,9
           NA,    P03W,    279,   1,-999.0,      37,  2,19850517,2120,  24.2600,  147.8500,  5833, 2223.300,    1.846,   34.625,2,   34.625,2, -999.000,9,  113.400,2,  150.630,2,   38.710,2,    0.000,2,    2.660,2, -999.000,9, -999.000,9, -999.000,9, -999.000,9, -999.000,9
           NA,    P03W,    279,   1,-999.0,      26,  2,19850517,2120,  24.2600,  147.8500,  5833, 2527.100,    1.727,   34.643,2,   34.643,2, -999.000,9,  124.300,2,  150.330,2,   38.020,2,    0.000,2,    2.620,2, -999.000,9, -999.000,9, -999.000,9, -999.000,9, -999.000,9
           NA,    P03W,    279,   1,-999.0,      27,  2,19850517,2120,  24.2600,  147.8500,  5833, 2832.800,    1.650,   34.653,2,   34.653,2, -999.000,9,  131.700,2,  150.330,2,   37.630,2,    0.000,2,    2.610,2, -999.000,9, -999.000,9, -999.000,9, -999.000,9, -999.000,9
           NA,    P03W,    279,   1,-999.0,      28,  2,19850517,2120,  24.2600,  147.8500,  5833, 3138.900,    1.590,   34.663,2,   34.662,2, -999.000,9,  137.300,2,  150.230,2,   37.240,2,    0.000,2,    2.540,2, -999.000,9, -999.000,9, -999.000,9, -999.000,9, -999.000,9
           NA,    P03W,    279,   1,-999.0,      29,  2,19850517,2120,  24.2600,  147.8500,  5833, 3442.200,    1.549,   34.670,2,   34.669,2, -999.000,9,  142.100,2,  148.860,2,   36.750,2,    0.000,2,    2.530,2, -999.000,9, -999.000,9, -999.000,9, -999.000,9, -999.000,9
           NA,    P03W,    279,   1,-999.0,      30,  2,19850517,2120,  24.2600,  147.8500,  5833, 3748.900,    1.519,   34.675,2,   34.674,2, -999.000,9,  147.700,2,  146.810,2,   36.560,2,    0.000,2,    2.510,2, -999.000,9, -999.000,9, -999.000,9, -999.000,9, -999.000,9
           NA,    P03W,    279,   1,-999.0,      31,  2,19850517,2120,  24.2600,  147.8500,  5833, 4053.600,    1.503,   34.680,2,   34.679,2, -999.000,9,  153.800,2,  144.560,2,   35.970,2,    0.000,2, -999.000,5, -999.000,9, -999.000,9, -999.000,9, -999.000,9, -999.000,9
           NA,    P03W,    279,   1,-999.0,      32,  2,19850517,2120,  24.2600,  147.8500,  5833, 4357.100,    1.494,   34.684,2,   34.681,2, -999.000,9,  157.300,2,  143.880,2,   35.480,2,    0.000,2, -999.000,5, -999.000,9, -999.000,9, -999.000,9, -999.000,9, -999.000,9
           NA,    P03W,    279,   1,-999.0,      33,  2,19850517,2120,  24.2600,  147.8500,  5833, 4660.400,    1.489,   34.686,2,   34.684,2, -999.000,9,  163.800,2,  141.430,2,   35.090,2,    0.000,2, -999.000,5, -999.000,9, -999.000,9, -999.000,9, -999.000,9, -999.000,9
           NA,    P03W,    279,   1,-999.0,      34,  2,19850517,2120,  24.2600,  147.8500,  5833, 5071.600,    1.504,   34.688,2,   34.688,2, -999.000,9,  169.500,2,  138.990,2,   35.090,2,    0.000,2,    2.390,2, -999.000,9, -999.000,9, -999.000,9, -999.000,9, -999.000,9
           NA,    P03W,    279,   1,-999.0,      35,  2,19850517,2120,  24.2600,  147.8500,  5833, 5491.900,    1.525,   34.692,2,   34.691,2, -999.000,9,  173.400,2,  135.470,2,   34.700,2,    0.000,2,    2.390,2, -999.000,9, -999.000,9, -999.000,9, -999.000,9, -999.000,9
           NA,    P03W,    279,   1,-999.0,      36,  2,19850517,2120,  24.2600,  147.8500,  5833, 5927.400,    1.559,   34.693,2,   34.692,2, -999.000,9,  176.400,2,  133.030,2,   34.310,2,    0.000,2,    2.360,2, -999.000,9, -999.000,9, -999.000,9, -999.000,9, -999.000,9