BOTTLE,20203103JOAExport
EXPOCODE,SECT_ID,STNNBR,CASTNO,SAMPNO,BTLNBR,BTLNBR_FLAG_W,DATE,TIME,LATITUDE,LONGITUDE,DEPTH,CTDPRS,CTDTMP,CTDSAL,CTDSAL_FLAG_W,SALNTY,SALNTY_FLAG_W,CTDOXY,CTDOXY_FLAG_W,OXYGEN,OXYGEN_FLAG_W,SILCAT,SILCAT_FLAG_W,NITRAT,NITRAT_FLAG_W,NITRIT,NITRIT_FLAG_W,PHSPHT,PHSPHT_FLAG_W,CFC-11,CFC-11_FLAG_W,CFC-12,CFC-12_FLAG_W,SF6,SF6_FLAG_W,TCARBN,TCARBN_FLAG_W,ALKALI,ALKALI_FLAG_W
,,,,,,,,,,,,,DB,ITS-90,PSS-78,,PSS-78,,UMOL/KG,,UMOL/KG,,UMOL/KG,,UMOL/KG,,UMOL/KG,,UMOL/KG,,PMOL/KG,,PMOL/KG,,FMOL/KG,,UMOL/KG,,UMOL/KG
           NA,    P03W,    275,   1,-999.0,       1,  2,19850517,0650,  24.2433,  149.0283,  5784,    0.000,   25.222,   35.023,2,   35.028,2, -999.000,9,  212.100,2,    0.370,2,    0.040,2,    0.000,2,    0.030,2, -999.000,9, -999.000,9, -999.000,9, -999.000,9, -999.000,9
           NA,    P03W,    275,   1,-999.0,       2,  2,19850517,0650,  24.2433,  149.0283,  5784,   25.900,   24.221,   34.986,2,   34.983,2, -999.000,9,  216.800,2,    0.330,2,    0.040,2,    0.000,2,    0.030,2, -999.000,9, -999.000,9, -999.000,9, -999.000,9, -999.000,9
           NA,    P03W,    275,   1,-999.0,       3,  2,19850517,0650,  24.2433,  149.0283,  5784,   46.000,   23.082,   35.020,2,   35.026,2, -999.000,9,  222.300,2,    0.300,2,    0.040,2,    0.000,2,    0.020,2, -999.000,9, -999.000,9, -999.000,9, -999.000,9, -999.000,9
           NA,    P03W,    275,   1,-999.0,       4,  2,19850517,0650,  24.2433,  149.0283,  5784,   75.900,   22.462,   35.066,2,   35.073,2, -999.000,9,  225.700,2,    0.260,2,    0.040,2,    0.000,2,    0.010,2, -999.000,9, -999.000,9, -999.000,9, -999.000,9, -999.000,9
           NA,    P03W,    275,   1,-999.0,       5,  2,19850517,0650,  24.2433,  149.0283,  5784,  106.200,   20.756,   34.942,2,   34.943,2, -999.000,9,  221.400,2,    0.440,2,    0.080,2,    0.000,2,    0.040,2, -999.000,9, -999.000,9, -999.000,9, -999.000,9, -999.000,9
           NA,    P03W,    275,   1,-999.0,       6,  2,19850517,0650,  24.2433,  149.0283,  5784,  146.800,   18.722,   34.835,2,   34.835,2, -999.000,9,  227.100,2,    0.840,2,    0.390,2,    0.080,2,    0.080,2, -999.000,9, -999.000,9, -999.000,9, -999.000,9, -999.000,9
           NA,    P03W,    275,   1,-999.0,       7,  2,19850517,0650,  24.2433,  149.0283,  5784,  186.700,   17.619,   34.798,2,   34.798,2, -999.000,9,  218.100,2,    2.110,2,    2.780,2,    0.020,2,    0.210,2, -999.000,9, -999.000,9, -999.000,9, -999.000,9, -999.000,9
           NA,    P03W,    275,   1,-999.0,       8,  2,19850517,0650,  24.2433,  149.0283,  5784,  237.100,   17.030,   34.776,2,   34.775,2, -999.000,9,  214.800,2,    2.730,2,    4.050,2,    0.010,2,    0.300,2, -999.000,9, -999.000,9, -999.000,9, -999.000,9, -999.000,9
           NA,    P03W,    275,   1,-999.0,       9,  2,19850517,0650,  24.2433,  149.0283,  5784,  286.400,   16.377,   34.756,2,   34.753,2, -999.000,9,  207.800,2,    4.430,2,    5.790,2,    0.010,2,    0.400,2, -999.000,9, -999.000,9, -999.000,9, -999.000,9, -999.000,9
           NA,    P03W,    275,   1,-999.0,      10,  2,19850517,0650,  24.2433,  149.0283,  5784,  337.100,   15.563,   34.701,2,   34.703,2, -999.000,9,  208.600,2,    5.470,2,    6.810,2,    0.010,2,    0.480,2, -999.000,9, -999.000,9, -999.000,9, -999.000,9, -999.000,9
           NA,    P03W,    275,   1,-999.0,      11,  2,19850517,0650,  24.2433,  149.0283,  5784,  387.600,   14.267,   34.582,2,   34.580,2, -999.000,9,  197.000,2,    9.990,2,    7.580,2,    0.010,2,    0.680,2, -999.000,9, -999.000,9, -999.000,9, -999.000,9, -999.000,9
           NA,    P03W,    275,   1,-999.0,      12,  2,19850517,0650,  24.2433,  149.0283,  5784,  447.400,   12.995,   34.478,2,   34.470,2, -999.000,9,  191.800,2,   14.940,2,   12.740,2,    0.010,2,    0.890,2, -999.000,9, -999.000,9, -999.000,9, -999.000,9, -999.000,9
           NA,    P03W,    275,   1,-999.0,      13,  2,19850517,0650,  24.2433,  149.0283,  5784,  508.300,   11.409,   34.363,2,   34.405,2, -999.000,9,  183.200,2,   21.620,2,   16.160,2,    0.010,2,    1.120,2, -999.000,9, -999.000,9, -999.000,9, -999.000,9, -999.000,9
           NA,    P03W,    275,   1,-999.0,      14,  2,19850517,0650,  24.2433,  149.0283,  5784,  566.100,    9.438,   34.208,2,   34.208,2, -999.000,9,  179.100,2,   30.900,2,   20.000,2,    0.000,2,    1.400,2, -999.000,9, -999.000,9, -999.000,9, -999.000,9, -999.000,9
           NA,    P03W,    275,   1,-999.0,      15,  2,19850517,0650,  24.2433,  149.0283,  5784,  646.700,    6.960,   34.050,2,   34.051,2, -999.000,9,  159.400,2,   48.210,2,   26.110,2,    0.000,2,    1.840,2, -999.000,9, -999.000,9, -999.000,9, -999.000,9, -999.000,9
           NA,    P03W,    275,   1,-999.0,      16,  2,19850517,0650,  24.2433,  149.0283,  5784,  729.700,    5.499,   34.067,2,   34.068,2, -999.000,9,  109.700,2,   71.610,2,   33.490,2,    0.000,2,    2.360,2, -999.000,9, -999.000,9, -999.000,9, -999.000,9, -999.000,9
           NA,    P03W,    275,   1,-999.0,      17,  2,19850517,0650,  24.2433,  149.0283,  5784,  809.000,    4.716,   34.136,2,   34.130,2, -999.000,9,   77.200,2,   88.720,2,   37.600,2,    0.000,2,    2.630,2, -999.000,9, -999.000,9, -999.000,9, -999.000,9, -999.000,9
           NA,    P03W,    275,   1,-999.0,      18,  2,19850517,0650,  24.2433,  149.0283,  5784,  911.000,    4.115,   34.251,2,   34.252,2, -999.000,9,   49.400,2,  108.040,2,   41.020,2,    0.000,2,    2.870,2, -999.000,9, -999.000,9, -999.000,9, -999.000,9, -999.000,9
           NA,    P03W,    275,   1,-999.0,      39,  2,19850517,0650,  24.2433,  149.0283,  5784, 1061.800,    3.583,   34.368,2,   34.367,2, -999.000,9,   43.700,2,  122.380,2,   41.950,2,    0.000,2,    2.940,2, -999.000,9, -999.000,9, -999.000,9, -999.000,9, -999.000,9
           NA,    P03W,    275,   1,-999.0,      20,  2,19850517,0650,  24.2433,  149.0283,  5784, 1211.900,    3.137,   34.457,2,   34.456,2, -999.000,9,   52.700,2,  133.010,2,   41.780,2,    0.000,2,    2.890,2, -999.000,9, -999.000,9, -999.000,9, -999.000,9, -999.000,9
           NA,    P03W,    275,   1,-999.0,      21,  2,19850517,0650,  24.2433,  149.0283,  5784, 1407.900,    2.726,   34.509,2,   34.509,2, -999.000,9,   62.600,2,  141.460,2,   41.560,2,    0.000,2,    2.880,2, -999.000,9, -999.000,9, -999.000,9, -999.000,9, -999.000,9
           NA,    P03W,    275,   1,-999.0,      22,  2,19850517,0650,  24.2433,  149.0283,  5784, 1610.300,    2.319,   34.557,2,   34.558,2, -999.000,9,   79.100,2,  149.920,2,   40.860,2,    0.000,2,    2.820,2, -999.000,9, -999.000,9, -999.000,9, -999.000,9, -999.000,9
           NA,    P03W,    275,   1,-999.0,      23,  2,19850517,0650,  24.2433,  149.0283,  5784, 1808.500,    2.081,   34.589,2,   34.590,2, -999.000,9,   94.200,2,  151.350,2,   40.070,2,    0.000,2,    2.750,2, -999.000,9, -999.000,9, -999.000,9, -999.000,9, -999.000,9
           NA,    P03W,    275,   1,-999.0,      24,  2,19850517,0650,  24.2433,  149.0283,  5784, 2001.600,    1.922,   34.610,2,   34.610,2, -999.000,9,  102.600,2,  153.880,2,   39.590,2,    0.000,2,    2.720,2, -999.000,9, -999.000,9, -999.000,9, -999.000,9, -999.000,9
           NA,    P03W,    275,   1,-999.0,      37,  2,19850517,0650,  24.2433,  149.0283,  5784, 2210.700,    1.812,   34.626,2,   34.627,2, -999.000,9,  112.000,2,  153.110,2,   38.910,2,    0.000,2,    2.670,2, -999.000,9, -999.000,9, -999.000,9, -999.000,9, -999.000,9
           NA,    P03W,    275,   1,-999.0,      26,  2,19850517,0650,  24.2433,  149.0283,  5784, 2515.500,    1.691,   34.644,2,   34.645,2, -999.000,9,  123.400,2,  152.120,2,   38.170,2,    0.000,2,    2.620,2, -999.000,9, -999.000,9, -999.000,9, -999.000,9, -999.000,9
           NA,    P03W,    275,   1,-999.0,      27,  2,19850517,0650,  24.2433,  149.0283,  5784, 2819.000,    1.620,   34.656,2,   34.656,2, -999.000,9,  132.100,2,  151.350,2,   37.600,2,    0.000,2,    2.570,2, -999.000,9, -999.000,9, -999.000,9, -999.000,9, -999.000,9
           NA,    P03W,    275,   1,-999.0,      28,  2,19850517,0650,  24.2433,  149.0283,  5784, 3119.200,    1.563,   34.664,2,   34.664,2, -999.000,9,  138.000,2,  150.810,2,   37.070,2,    0.000,2,    2.540,2, -999.000,9, -999.000,9, -999.000,9, -999.000,9, -999.000,9
           NA,    P03W,    275,   1,-999.0,      29,  2,19850517,0650,  24.2433,  149.0283,  5784, 3414.300,    1.530,   34.669,2,   34.669,2, -999.000,9,  143.900,2,  149.380,2,   36.960,2,    0.000,2,    2.500,2, -999.000,9, -999.000,9, -999.000,9, -999.000,9, -999.000,9
           NA,    P03W,    275,   1,-999.0,      30,  2,19850517,0650,  24.2433,  149.0283,  5784, 3717.800,    1.500,   34.674,2,   34.675,2, -999.000,9,  148.000,2,  147.960,2,   36.540,2,    0.000,2,    2.480,2, -999.000,9, -999.000,9, -999.000,9, -999.000,9, -999.000,9
           NA,    P03W,    275,   1,-999.0,      31,  2,19850517,0650,  24.2433,  149.0283,  5784, 4011.700,    1.481,   34.679,2,   34.679,2, -999.000,9,  154.000,2,  146.320,2,   36.120,2,    0.000,2,    2.460,2, -999.000,9, -999.000,9, -999.000,9, -999.000,9, -999.000,9
           NA,    P03W,    275,   1,-999.0,      32,  2,19850517,0650,  24.2433,  149.0283,  5784, 4299.400,    1.472,   34.683,2,   34.683,2, -999.000,9,  159.700,2,  144.250,2,   35.850,2,    0.000,2,    2.430,2, -999.000,9, -999.000,9, -999.000,9, -999.000,9, -999.000,9
           NA,    P03W,    275,   1,-999.0,      33,  2,19850517,0650,  24.2433,  149.0283,  5784, 4611.500,    1.475,   34.685,2,   34.685,2, -999.000,9,  163.300,2,  142.610,2,   35.480,2,    0.000,2,    2.410,2, -999.000,9, -999.000,9, -999.000,9, -999.000,9, -999.000,9
           NA,    P03W,    275,   1,-999.0,      34,  2,19850517,0650,  24.2433,  149.0283,  5784, 5033.300,    1.491,   34.688,2,   34.689,2, -999.000,9,  170.800,2,  139.020,2,   35.270,2,    0.000,2,    2.390,2, -999.000,9, -999.000,9, -999.000,9, -999.000,9, -999.000,9
           NA,    P03W,    275,   1,-999.0,      35,  2,19850517,0650,  24.2433,  149.0283,  5784, 5441.500,    1.517,   34.691,2,   34.691,2, -999.000,9,  172.000,2,  136.740,2,   34.900,2,    0.000,2,    2.350,2, -999.000,9, -999.000,9, -999.000,9, -999.000,9, -999.000,9
           NA,    P03W,    275,   1,-999.0,      36,  2,19850517,0650,  24.2433,  149.0283,  5784, 5864.900,    1.549,   34.693,2,   34.692,2, -999.000,9,  176.400,2,  133.150,2,   34.540,2,    0.000,2,    2.330,2, -999.000,9, -999.000,9, -999.000,9, -999.000,9, -999.000,9