BOTTLE,20203103JOAExport
EXPOCODE,SECT_ID,STNNBR,CASTNO,SAMPNO,BTLNBR,BTLNBR_FLAG_W,DATE,TIME,LATITUDE,LONGITUDE,DEPTH,CTDPRS,CTDTMP,CTDSAL,CTDSAL_FLAG_W,SALNTY,SALNTY_FLAG_W,CTDOXY,CTDOXY_FLAG_W,OXYGEN,OXYGEN_FLAG_W,SILCAT,SILCAT_FLAG_W,NITRAT,NITRAT_FLAG_W,NITRIT,NITRIT_FLAG_W,PHSPHT,PHSPHT_FLAG_W,CFC-11,CFC-11_FLAG_W,CFC-12,CFC-12_FLAG_W,SF6,SF6_FLAG_W,TCARBN,TCARBN_FLAG_W,ALKALI,ALKALI_FLAG_W
,,,,,,,,,,,,,DB,ITS-90,PSS-78,,PSS-78,,UMOL/KG,,UMOL/KG,,UMOL/KG,,UMOL/KG,,UMOL/KG,,UMOL/KG,,PMOL/KG,,PMOL/KG,,FMOL/KG,,UMOL/KG,,UMOL/KG
           NA,    P03E,     88,   1,-999.0,       1,  2,19850413,1440,  24.2317, -146.9333,  5204,    0.000,   21.777,   35.306,2,   35.310,2, -999.000,9,  221.000,2,    0.500,2,    0.090,2,    0.000,2,    0.070,2, -999.000,9, -999.000,9, -999.000,9, -999.000,9, -999.000,9
           NA,    P03E,     88,   1,-999.0,       2,  2,19850413,1440,  24.2317, -146.9333,  5204,   23.600,   21.651,   35.355,2,   35.357,2, -999.000,9,  221.900,2,    0.310,2,    0.090,2,    0.000,2,    0.060,2, -999.000,9, -999.000,9, -999.000,9, -999.000,9, -999.000,9
           NA,    P03E,     88,   1,-999.0,       3,  2,19850413,1440,  24.2317, -146.9333,  5204,   43.500,   21.594,   35.361,2,   35.371,2, -999.000,9,  222.700,2,    0.300,2,    0.090,2,    0.000,2,    0.060,2, -999.000,9, -999.000,9, -999.000,9, -999.000,9, -999.000,9
           NA,    P03E,     88,   1,-999.0,       4,  2,19850413,1440,  24.2317, -146.9333,  5204,   63.300,   21.517,   35.369,2,   35.370,2, -999.000,9,  223.200,2,    0.290,2,    0.090,2,    0.000,2,    0.070,2, -999.000,9, -999.000,9, -999.000,9, -999.000,9, -999.000,9
           NA,    P03E,     88,   1,-999.0,       5,  2,19850413,1440,  24.2317, -146.9333,  5204,   93.700,   21.122,   35.417,2,   35.418,2, -999.000,9,  224.400,2,    0.280,2,    0.090,2,    0.000,2,    0.070,2, -999.000,9, -999.000,9, -999.000,9, -999.000,9, -999.000,9
           NA,    P03E,     88,   1,-999.0,       6,  2,19850413,1440,  24.2317, -146.9333,  5204,  123.500,   20.001,   35.190,2,   35.187,2, -999.000,9,  207.800,2,    1.210,2,    1.180,2,    0.050,2,    0.150,2, -999.000,9, -999.000,9, -999.000,9, -999.000,9, -999.000,9
           NA,    P03E,     88,   1,-999.0,       7,  2,19850413,1440,  24.2317, -146.9333,  5204,  154.000,   18.888,   35.011,2,   35.016,2, -999.000,9,  202.100,2,    1.760,2,    2.130,2,    0.030,2,    0.210,2, -999.000,9, -999.000,9, -999.000,9, -999.000,9, -999.000,9
           NA,    P03E,     88,   1,-999.0,       8,  2,19850413,1440,  24.2317, -146.9333,  5204,  193.300,   17.009,   34.748,2,   34.756,2, -999.000,9,  198.600,2,    3.250,2,    3.930,2,    0.010,2,    0.350,2,    1.792,2,    0.887,2, -999.000,9, -999.000,9, -999.000,9
           NA,    P03E,     88,   1,-999.0,       9,  2,19850413,1440,  24.2317, -146.9333,  5204,  231.600,   15.262,   34.573,2,   34.576,2, -999.000,9,  209.900,2,    4.180,2,    5.300,2,    0.010,2,    0.430,2,    1.887,2,    0.946,2, -999.000,9, -999.000,9, -999.000,9
           NA,    P03E,     88,   1,-999.0,      10,  2,19850413,1440,  24.2317, -146.9333,  5204,  281.000,   13.074,   34.341,2,   34.344,2, -999.000,9,  209.400,2,    7.540,2,    8.590,2,    0.010,2,    0.650,2,    1.848,2,    0.904,2, -999.000,9, -999.000,9, -999.000,9
           NA,    P03E,     88,   1,-999.0,      11,  2,19850413,1440,  24.2317, -146.9333,  5204,  328.600,   11.619,   34.186,2,   34.189,2, -999.000,9,  210.700,2,   11.280,2,   11.490,2,    0.010,2,    0.830,2,    1.843,2,    0.901,2, -999.000,9, -999.000,9, -999.000,9
           NA,    P03E,     88,   1,-999.0,      12,  2,19850413,1440,  24.2317, -146.9333,  5204,  388.200,    9.673,   34.096,2,   34.096,2, -999.000,9,  188.900,2,   21.000,2,   18.280,2,    0.000,2,    1.270,2,    1.223,2,    0.585,2, -999.000,9, -999.000,9, -999.000,9
           NA,    P03E,     88,   1,-999.0,      13,  2,19850413,1440,  24.2317, -146.9333,  5204,  450.200,    8.404,   34.077,2,   34.077,2, -999.000,9,  145.700,2,   33.540,2,   24.720,2,    0.000,2,    1.740,2,    0.633,2,    0.329,2, -999.000,9, -999.000,9, -999.000,9
           NA,    P03E,     88,   1,-999.0,      14,  2,19850413,1440,  24.2317, -146.9333,  5204,  519.400,    6.751,   34.036,2,   34.037,2, -999.000,9,  113.100,2,   51.140,2,   31.440,2,    0.000,2,    2.160,2, -999.000,9, -999.000,9, -999.000,9, -999.000,9, -999.000,9
           NA,    P03E,     88,   1,-999.0,      15,  2,19850413,1440,  24.2317, -146.9333,  5204,  598.000,    5.661,   34.090,2,   34.091,2, -999.000,9,   61.300,2,   71.390,2,   38.100,2,    0.000,2,    2.670,2, -999.000,9, -999.000,9, -999.000,9, -999.000,9, -999.000,9
           NA,    P03E,     88,   1,-999.0,      16,  2,19850413,1440,  24.2317, -146.9333,  5204,  699.000,    4.964,   34.231,2,   34.232,2, -999.000,9,   27.000,2,   90.340,2,   42.430,2,    0.000,2,    2.970,2, -999.000,9, -999.000,9, -999.000,9, -999.000,9, -999.000,9
           NA,    P03E,     88,   1,-999.0,      17,  2,19850413,1440,  24.2317, -146.9333,  5204,  799.100,    4.491,   34.331,2, -999.000,5, -999.000,9,   23.900,2,  102.370,2,   43.720,2,    0.000,2,    3.050,2, -999.000,9, -999.000,9, -999.000,9, -999.000,9, -999.000,9
           NA,    P03E,     88,   1,-999.0,      18,  2,19850413,1440,  24.2317, -146.9333,  5204,  896.500,    4.236,   34.428,2, -999.000,5, -999.000,9,   32.200,2,  107.250,2,   43.720,2,    0.000,2,    3.030,2, -999.000,9, -999.000,9, -999.000,9, -999.000,9, -999.000,9
           NA,    P03E,     88,   1,-999.0,      19,  2,19850413,1440,  24.2317, -146.9333,  5204,  994.100,    3.995,   34.472,2,   34.472,2, -999.000,9,   40.400,2,  112.140,2,   43.520,2,    0.000,2,    3.020,2, -999.000,9, -999.000,9, -999.000,9, -999.000,9, -999.000,9
           NA,    P03E,     88,   1,-999.0,      20,  2,19850413,1440,  24.2317, -146.9333,  5204, 1092.800,    3.693,   34.497,2,   34.497,2, -999.000,9,   47.800,2,  118.350,2,   43.310,2,    0.000,2,    2.980,2, -999.000,9, -999.000,9, -999.000,9, -999.000,9, -999.000,9
           NA,    P03E,     88,   1,-999.0,      21,  2,19850413,1440,  24.2317, -146.9333,  5204, 1247.500,    3.343,   34.526,2,   34.527,2, -999.000,9,   54.800,2,  126.830,2,   43.100,2,    0.000,2,    2.970,2, -999.000,9, -999.000,9, -999.000,9, -999.000,9, -999.000,9
           NA,    P03E,     88,   1,-999.0,      22,  2,19850413,1440,  24.2317, -146.9333,  5204, 1398.800,    3.046,   34.546,2,   34.546,2, -999.000,9,   61.700,2,  133.430,2,   42.900,2,    0.000,2,    2.930,2, -999.000,9, -999.000,9, -999.000,9, -999.000,9, -999.000,9
           NA,    P03E,     88,   1,-999.0,      23,  2,19850413,1440,  24.2317, -146.9333,  5204, 1593.900,    2.661,   34.572,2,   34.574,2, -999.000,9,   68.200,2,  142.890,2,   42.430,2,    0.000,2,    2.890,2, -999.000,9, -999.000,9, -999.000,9, -999.000,9, -999.000,9
           NA,    P03E,     88,   1,-999.0,      24,  2,19850413,1440,  24.2317, -146.9333,  5204, 1790.600,    2.348,   34.595,2,   34.595,2, -999.000,9,   79.100,2,  151.410,2,   41.920,2,    0.000,2,    2.840,2, -999.000,9, -999.000,9, -999.000,9, -999.000,9, -999.000,9
           NA,    P03E,     88,   1,-999.0,      36,  2,19850413,1440,  24.2317, -146.9333,  5204, 1991.600,    2.112,   34.612,2,   34.612,2, -999.000,9,   84.700,2,  158.050,2,   41.580,2,    0.000,2,    2.810,2, -999.000,9, -999.000,9, -999.000,9, -999.000,9, -999.000,9
           NA,    P03E,     88,   1,-999.0,      25,  2,19850413,1440,  24.2317, -146.9333,  5204, 2192.600,    1.928,   34.627,2,   34.628,2, -999.000,9,   92.100,2,  163.360,2,   41.000,2,    0.000,2,    2.780,2, -999.000,9, -999.000,9, -999.000,9, -999.000,9, -999.000,9
           NA,    P03E,     88,   1,-999.0,      26,  2,19850413,1440,  24.2317, -146.9333,  5204, 2499.600,    1.716,   34.647,2,   34.647,2, -999.000,9,  106.500,2,  166.960,2,   40.080,2,    0.000,2,    2.700,2, -999.000,9, -999.000,9, -999.000,9, -999.000,9, -999.000,9
           NA,    P03E,     88,   1,-999.0,      27,  2,19850413,1440,  24.2317, -146.9333,  5204, 2808.700,    1.607,   34.660,2,   34.659,2, -999.000,9,  116.900,2,  166.940,2,   39.420,2,    0.000,2,    2.640,2, -999.000,9, -999.000,9, -999.000,9, -999.000,9, -999.000,9
           NA,    P03E,     88,   1,-999.0,      28,  2,19850413,1440,  24.2317, -146.9333,  5204, 3109.600,    1.539,   34.669,2,   34.667,2, -999.000,9,  126.400,2,  166.160,2,   38.820,2,    0.000,2,    2.590,2, -999.000,9, -999.000,9, -999.000,9, -999.000,9, -999.000,9
           NA,    P03E,     88,   1,-999.0,      29,  2,19850413,1440,  24.2317, -146.9333,  5204, 3406.800,    1.503,   34.674,2,   34.674,2, -999.000,9,  134.700,2,  164.810,2,   38.310,2,    0.000,2,    2.550,2, -999.000,9, -999.000,9, -999.000,9, -999.000,9, -999.000,9
           NA,    P03E,     88,   1,-999.0,      30,  2,19850413,1440,  24.2317, -146.9333,  5204, 3708.800,    1.477,   34.679,2,   34.678,2, -999.000,9,  141.700,2,  161.370,2,   37.760,2,    0.000,2,    2.500,2, -999.000,9, -999.000,9, -999.000,9, -999.000,9, -999.000,9
           NA,    P03E,     88,   1,-999.0,      31,  2,19850413,1440,  24.2317, -146.9333,  5204, 4023.400,    1.475,   34.682,2,   34.681,2, -999.000,9,  146.400,2,  157.930,2,   37.360,2,    0.000,2,    2.460,2, -999.000,9, -999.000,9, -999.000,9, -999.000,9, -999.000,9
           NA,    P03E,     88,   1,-999.0,      32,  2,19850413,1440,  24.2317, -146.9333,  5204, 4333.800,    1.482,   34.684,2,   34.684,2, -999.000,9,  151.200,2,  154.310,2,   36.860,2,    0.000,2,    2.450,2, -999.000,9, -999.000,9, -999.000,9, -999.000,9, -999.000,9
           NA,    P03E,     88,   1,-999.0,      37,  2,19850413,1440,  24.2317, -146.9333,  5204, 4680.500,    1.492,   34.687,2,   34.687,2, -999.000,9,  157.300,2,  150.500,2,   36.570,2,    0.000,2,    2.420,2, -999.000,9, -999.000,9, -999.000,9, -999.000,9, -999.000,9
           NA,    P03E,     88,   1,-999.0,      34,  2,19850413,1440,  24.2317, -146.9333,  5204, 5032.500,    1.490,   34.690,2,   34.689,2, -999.000,9,  163.400,2,  145.740,2,   36.070,2,    0.000,2,    2.390,2, -999.000,9, -999.000,9, -999.000,9, -999.000,9, -999.000,9
           NA,    P03E,     88,   1,-999.0,      35,  2,19850413,1440,  24.2317, -146.9333,  5204, 5416.000,    1.520,   34.690,2,   34.690,2, -999.000,9,  167.300,2,  142.880,2,   35.920,2,    0.000,2,    2.360,2, -999.000,9, -999.000,9, -999.000,9, -999.000,9, -999.000,9