BOTTLE,20203103JOAExport
EXPOCODE,SECT_ID,STNNBR,CASTNO,SAMPNO,BTLNBR,BTLNBR_FLAG_W,DATE,TIME,LATITUDE,LONGITUDE,DEPTH,CTDPRS,CTDTMP,CTDSAL,CTDSAL_FLAG_W,SALNTY,SALNTY_FLAG_W,CTDOXY,CTDOXY_FLAG_W,OXYGEN,OXYGEN_FLAG_W,SILCAT,SILCAT_FLAG_W,NITRAT,NITRAT_FLAG_W,NITRIT,NITRIT_FLAG_W,PHSPHT,PHSPHT_FLAG_W,CFC-11,CFC-11_FLAG_W,CFC-12,CFC-12_FLAG_W,SF6,SF6_FLAG_W,TCARBN,TCARBN_FLAG_W,ALKALI,ALKALI_FLAG_W
,,,,,,,,,,,,,DB,ITS-90,PSS-78,,PSS-78,,UMOL/KG,,UMOL/KG,,UMOL/KG,,UMOL/KG,,UMOL/KG,,UMOL/KG,,PMOL/KG,,PMOL/KG,,FMOL/KG,,UMOL/KG,,UMOL/KG
           NA,    P03E,     24,   1,-999.0,      25,  2,19850402,0034,  30.8867, -121.2367,  3943,    1.700,   15.775,   33.584,2,   33.584,2, -999.000,9,  251.900,2,    3.080,2,    0.070,2,    0.010,2,    0.340,2,    2.406,2,    1.223,2, -999.000,9, -999.000,9, -999.000,9
           NA,    P03E,     24,   1,-999.0,      29,  2,19850402,0034,  30.8867, -121.2367,  3943,   19.900,   15.372,   33.556,2,   33.557,2, -999.000,9,  253.600,2,    2.830,2,    0.020,2,    0.010,2,    0.340,2,    2.411,2,    1.231,2, -999.000,9, -999.000,9, -999.000,9
           NA,    P03E,     24,   1,-999.0,      30,  2,19850402,0034,  30.8867, -121.2367,  3943,   35.100,   15.308,   33.549,2,   33.547,2, -999.000,9,  253.600,2,    2.770,2,    0.020,2,    0.010,2,    0.340,2,    2.397,2,    1.217,2, -999.000,9, -999.000,9, -999.000,9
           NA,    P03E,     24,   1,-999.0,      31,  2,19850402,0034,  30.8867, -121.2367,  3943,   55.100,   15.261,   33.543,2,   33.542,2, -999.000,9,  253.600,2,    2.700,2,    0.030,2,    0.010,2,    0.340,2,    2.430,2,    1.229,2, -999.000,9, -999.000,9, -999.000,9
           NA,    P03E,     24,   1,-999.0,      32,  2,19850402,0034,  30.8867, -121.2367,  3943,   75.000,   15.172,   33.534,2,   33.531,2, -999.000,9,  254.900,2,    2.640,2,    0.020,2,    0.010,2,    0.340,2,    2.441,2,    1.229,2, -999.000,9, -999.000,9, -999.000,9
           NA,    P03E,     24,   1,-999.0,      33,  2,19850402,0034,  30.8867, -121.2367,  3943,   95.800,   15.026,   33.518,2,   33.517,2, -999.000,9,  255.400,2,    2.580,2,    0.060,2,    0.010,2,    0.360,2,    2.416,2,    1.203,2, -999.000,9, -999.000,9, -999.000,9
           NA,    P03E,     24,   1,-999.0,      34,  2,19850402,0034,  30.8867, -121.2367,  3943,  126.600,   13.832,   33.664,2,   33.639,2, -999.000,9,  227.800,2,    4.780,2,    3.890,2,    0.060,2,    0.590,2,    2.367,2,    1.156,2, -999.000,9, -999.000,9, -999.000,9
           NA,    P03E,     24,   1,-999.0,      35,  2,19850402,0034,  30.8867, -121.2367,  3943,  156.600,   11.189,   33.542,2,   33.567,2, -999.000,9,  201.600,2,   11.900,2,   11.990,2,    0.010,2,    1.060,2,    2.280,2,    1.106,2, -999.000,9, -999.000,9, -999.000,9
           NA,    P03E,     24,   1,-999.0,      36,  2,19850402,0034,  30.8867, -121.2367,  3943,  197.100,    9.398,   33.774,2,   33.770,2, -999.000,9,  155.800,2,   24.350,2,   21.720,2,    0.010,2,    1.640,2,    1.751,2,    0.846,2, -999.000,9, -999.000,9, -999.000,9
           NA,    P03E,     24,   1,-999.0,       1,  2,19850402,0034,  30.8867, -121.2367,  3943,  237.500,    8.410,   33.964,2,   33.961,2, -999.000,9,  137.500,2,   33.040,2,   25.820,2,    0.010,2,    1.880,2,    1.200,2,    0.629,2, -999.000,9, -999.000,9, -999.000,9
           NA,    P03E,     24,   1,-999.0,       2,  2,19850402,0034,  30.8867, -121.2367,  3943,  288.000,    7.687,   34.017,2, -999.000,5, -999.000,9,  125.300,2,   38.700,2,   28.020,2,    0.010,2,    2.020,2,    0.955,2,    0.473,2, -999.000,9, -999.000,9, -999.000,9
           NA,    P03E,     24,   1,-999.0,       3,  2,19850402,0034,  30.8867, -121.2367,  3943,  337.800,    7.152,   34.055,2,   34.055,2, -999.000,9,   90.500,2,   50.500,2,   32.490,2,    0.010,2,    2.340,2,    0.447,2,    0.230,2, -999.000,9, -999.000,9, -999.000,9
           NA,    P03E,     24,   1,-999.0,       4,  2,19850402,0034,  30.8867, -121.2367,  3943,  398.600,    6.481,   34.097,2,   34.096,2, -999.000,9,   57.400,2,   63.310,2,   36.790,2,    0.010,2,    2.660,2,    0.182,2,    0.106,2, -999.000,9, -999.000,9, -999.000,9
           NA,    P03E,     24,   1,-999.0,       5,  2,19850402,0034,  30.8867, -121.2367,  3943,  458.000,    5.946,   34.131,2,   34.129,2, -999.000,9,   39.100,2,   72.700,2,   39.320,2,    0.010,2,    2.840,2,    0.075,2,    0.043,2, -999.000,9, -999.000,9, -999.000,9
           NA,    P03E,     24,   1,-999.0,       6,  2,19850402,0034,  30.8867, -121.2367,  3943,  526.900,    5.543,   34.204,2,   34.204,2, -999.000,9,   23.000,2,   82.300,2,   41.290,2,    0.010,2,    3.020,2,    0.025,2,    0.005,2, -999.000,9, -999.000,9, -999.000,9
           NA,    P03E,     24,   1,-999.0,       7,  2,19850402,0034,  30.8867, -121.2367,  3943,  608.800,    5.282,   34.268,2,   34.268,2, -999.000,9,   15.200,2,   90.190,2,   42.370,2,    0.010,2,    3.110,2, -999.000,9, -999.000,9, -999.000,9, -999.000,9, -999.000,9
           NA,    P03E,     24,   1,-999.0,       8,  2,19850402,0034,  30.8867, -121.2367,  3943,  710.200,    5.026,   34.355,2,   34.357,2, -999.000,9,   10.400,2,   97.900,2,   43.290,2,    0.010,2,    3.170,2,    0.001,2,   -0.005,2, -999.000,9, -999.000,9, -999.000,9
           NA,    P03E,     24,   1,-999.0,       9,  2,19850402,0034,  30.8867, -121.2367,  3943,  810.400,    4.606,   34.426,2,   34.426,2, -999.000,9,   14.800,2,  106.220,2,   43.960,2,    0.010,2,    3.200,2,   -0.004,2,    0.001,2, -999.000,9, -999.000,9, -999.000,9
           NA,    P03E,     24,   1,-999.0,      10,  2,19850402,0034,  30.8867, -121.2367,  3943,  911.600,    4.159,   34.460,2,   34.461,2, -999.000,9,   20.000,2,  115.150,2,   44.430,2,    0.010,2,    3.200,2, -999.000,9, -999.000,9, -999.000,9, -999.000,9, -999.000,9
           NA,    P03E,     24,   1,-999.0,      11,  2,19850402,0034,  30.8867, -121.2367,  3943, 1011.300,    3.896,   34.483,2,   34.485,2, -999.000,9,   24.800,2,  121.420,2,   44.490,2,    0.010,2,    3.170,2, -999.000,9,   -0.001,2, -999.000,9, -999.000,9, -999.000,9
           NA,    P03E,     24,   1,-999.0,      12,  2,19850402,0034,  30.8867, -121.2367,  3943, 1112.400,    3.671,   34.503,2,   34.504,2, -999.000,9,   29.100,2,  127.840,2,   44.550,2,    0.010,2,    3.160,2, -999.000,9, -999.000,9, -999.000,9, -999.000,9, -999.000,9
           NA,    P03E,     24,   1,-999.0,      13,  2,19850402,0034,  30.8867, -121.2367,  3943, 1262.500,    3.323,   34.530,2,   34.530,2, -999.000,9,   36.100,2,  136.630,2,   44.150,2,    0.010,2,    3.150,2, -999.000,9,    0.005,2, -999.000,9, -999.000,9, -999.000,9
           NA,    P03E,     24,   1,-999.0,      14,  2,19850402,0034,  30.8867, -121.2367,  3943, 1411.600,    3.026,   34.552,2,   34.553,2, -999.000,9,   44.300,2,  144.270,2,   43.840,2,    0.010,2, -999.000,5, -999.000,9, -999.000,9, -999.000,9, -999.000,9, -999.000,9
           NA,    P03E,     24,   1,-999.0,      15,  2,19850402,0034,  30.8867, -121.2367,  3943, 1611.600,    2.658,   34.577,2,   34.577,2, -999.000,9,   55.200,2,  154.100,2,   43.280,2,    0.010,2,    3.050,2, -999.000,9,   -0.001,2, -999.000,9, -999.000,9, -999.000,9
           NA,    P03E,     24,   1,-999.0,      16,  2,19850402,0034,  30.8867, -121.2367,  3943, 1815.800,    2.310,   34.602,2,   34.602,2, -999.000,9,   68.700,2,  162.370,2,   42.460,2,    0.010,2,    2.960,2, -999.000,9, -999.000,9, -999.000,9, -999.000,9, -999.000,9
           NA,    P03E,     24,   1,-999.0,      17,  2,19850402,0034,  30.8867, -121.2367,  3943, 2020.800,    2.093,   34.621,2,   34.621,2, -999.000,9,   82.100,2,  165.690,2,   41.600,2,    0.010,2,    2.890,2, -999.000,9, -999.000,9, -999.000,9, -999.000,9, -999.000,9
           NA,    P03E,     24,   1,-999.0,      18,  2,19850402,0034,  30.8867, -121.2367,  3943, 2222.200,    1.937,   34.636,2,   34.636,2, -999.000,9,   92.100,2,  168.210,2,   40.890,2,    0.010,2,    2.830,2, -999.000,9, -999.000,9, -999.000,9, -999.000,9, -999.000,9
           NA,    P03E,     24,   1,-999.0,      19,  2,19850402,0034,  30.8867, -121.2367,  3943, 2522.300,    1.794,   34.650,2,   34.650,2, -999.000,9,  103.400,2,  171.530,2,   40.290,2,    0.010,2,    2.770,2, -999.000,9, -999.000,9, -999.000,9, -999.000,9, -999.000,9
           NA,    P03E,     24,   1,-999.0,      20,  2,19850402,0034,  30.8867, -121.2367,  3943, 2823.400,    1.682,   34.660,2,   34.659,2, -999.000,9,  113.400,2,  170.460,2,   39.440,2,    0.010,2,    2.710,2, -999.000,9, -999.000,9, -999.000,9, -999.000,9, -999.000,9
           NA,    P03E,     24,   1,-999.0,      21,  2,19850402,0034,  30.8867, -121.2367,  3943, 3125.800,    1.609,   34.666,2,   34.665,2, -999.000,9,  121.200,2,  172.390,2,   38.940,2,    0.010,2,    2.660,2,   -0.008,2,   -0.004,2, -999.000,9, -999.000,9, -999.000,9
           NA,    P03E,     24,   1,-999.0,      22,  2,19850402,0034,  30.8867, -121.2367,  3943, 3429.800,    1.556,   34.673,2,   34.673,2, -999.000,9,  126.400,2,  173.520,2,   38.540,2,    0.010,2,    2.630,2, -999.000,9, -999.000,9, -999.000,9, -999.000,9, -999.000,9
           NA,    P03E,     24,   1,-999.0,      24,  2,19850402,0034,  30.8867, -121.2367,  3943, 3735.300,    1.545,   34.675,2,   34.675,2, -999.000,9,  131.200,2,  174.650,2,   38.350,2,    0.010,2,    2.600,2, -999.000,9, -999.000,9, -999.000,9, -999.000,9, -999.000,9
           NA,    P03E,     24,   1,-999.0,      23,  2,19850402,0034,  30.8867, -121.2367,  3943, 3984.200,    1.550,   34.679,2,   34.678,2, -999.000,9,  133.400,2,  173.580,2,   38.260,2,    0.000,2,    2.600,2,   -0.012,2,    0.001,2, -999.000,9, -999.000,9, -999.000,9
           NA,    P03E,     22,   1,-999.0,       3,  2,19850401,1613,  31.2350, -120.5517,  3790,   44.800,   13.410,   33.418,2,   33.418,2, -999.000,9,  265.800,2,    3.620,2,    0.700,2,    0.040,2,    0.430,2, -999.000,9, -999.000,9, -999.000,9, -999.000,9, -999.000,9
           NA,    P03E,     22,   1,-999.0,       4,  2,19850401,1613,  31.2350, -120.5517,  3790,   74.800,   12.152,   33.482,2,   33.479,2, -999.000,9,  231.700,2,    7.240,2,    6.480,2,    0.510,2,    0.800,2, -999.000,9, -999.000,9, -999.000,9, -999.000,9, -999.000,9
           NA,    P03E,     22,   1,-999.0,       5,  2,19850401,1613,  31.2350, -120.5517,  3790,  105.300,   10.731,   33.535,2,   33.530,2, -999.000,9,  195.900,2,   13.110,2,   13.400,2,    0.020,2,    1.170,2, -999.000,9, -999.000,9, -999.000,9, -999.000,9, -999.000,9
           NA,    P03E,     22,   1,-999.0,       6,  2,19850401,1613,  31.2350, -120.5517,  3790,  145.600,    9.516,   33.740,2,   33.741,2, -999.000,9,  157.100,2,   23.470,2,   21.130,2,    0.000,2,    1.650,2, -999.000,9, -999.000,9, -999.000,9, -999.000,9, -999.000,9
           NA,    P03E,     22,   1,-999.0,       7,  2,19850401,1613,  31.2350, -120.5517,  3790,  195.900,    8.658,   33.930,2,   33.929,2, -999.000,9,  135.300,2,   31.780,2,   25.330,2,    0.000,2,    1.900,2, -999.000,9, -999.000,9, -999.000,9, -999.000,9, -999.000,9
           NA,    P03E,     22,   1,-999.0,       8,  2,19850401,1613,  31.2350, -120.5517,  3790,  255.900,    7.822,   34.016,2,   34.016,2, -999.000,9,  119.200,2,   40.090,2,   28.360,2,    0.000,2,    2.100,2, -999.000,9, -999.000,9, -999.000,9, -999.000,9, -999.000,9
           NA,    P03E,     22,   1,-999.0,      10,  2,19850401,1613,  31.2350, -120.5517,  3790,  326.300,    7.101,   34.126,2,   34.118,2, -999.000,9,   66.100,2,   55.440,2,   33.830,2,    0.000,2,    2.560,2, -999.000,9, -999.000,9, -999.000,9, -999.000,9, -999.000,9
           NA,    P03E,     22,   1,-999.0,       9,  2,19850401,1613,  31.2350, -120.5517,  3790,  326.300,    7.101,   34.126,2,   34.120,2, -999.000,9,   67.900,2,   55.440,2,   33.730,2,    0.000,2,    2.570,2, -999.000,9, -999.000,9, -999.000,9, -999.000,9, -999.000,9
           NA,    P03E,     22,   1,-999.0,      11,  2,19850401,1613,  31.2350, -120.5517,  3790,  507.700,    5.928,   34.278,2,   34.277,2, -999.000,9,   16.500,2,   79.490,2,   40.090,2,    0.000,2,    3.070,2, -999.000,9, -999.000,9, -999.000,9, -999.000,9, -999.000,9
           NA,    P03E,     22,   1,-999.0,      12,  2,19850401,1613,  31.2350, -120.5517,  3790,  607.700,    5.507,   34.343,2,   34.344,2, -999.000,9,   11.300,2,   88.870,2,   41.360,2,    0.000,2,    3.180,2, -999.000,9, -999.000,9, -999.000,9, -999.000,9, -999.000,9
           NA,    P03E,     22,   1,-999.0,      14,  2,19850401,1613,  31.2350, -120.5517,  3790,  760.000,    4.786,   34.409,2,   34.409,2, -999.000,9,   12.600,2,  103.140,2,   42.920,2,    0.000,2,    3.240,2, -999.000,9, -999.000,9, -999.000,9, -999.000,9, -999.000,9
           NA,    P03E,     22,   1,-999.0,      13,  2,19850401,1613,  31.2350, -120.5517,  3790,  760.000,    4.786,   34.409,2,   34.411,2, -999.000,9,   13.500,2,  103.140,2,   42.920,2,    0.000,2,    3.240,2, -999.000,9, -999.000,9, -999.000,9, -999.000,9, -999.000,9
           NA,    P03E,     22,   1,-999.0,      16,  2,19850401,1613,  31.2350, -120.5517,  3790, 1113.200,    3.678,   34.499,2,   34.499,2, -999.000,9,   26.900,2,  127.960,2,   43.790,2,    0.000,2,    3.200,2, -999.000,9, -999.000,9, -999.000,9, -999.000,9, -999.000,9
           NA,    P03E,     22,   1,-999.0,      15,  2,19850401,1613,  31.2350, -120.5517,  3790, 1113.200,    3.678,   34.499,2,   34.500,2, -999.000,9,   28.700,2,  126.400,2,   43.990,2,    0.000,2,    3.210,2, -999.000,9, -999.000,9, -999.000,9, -999.000,9, -999.000,9
           NA,    P03E,     22,   1,-999.0,      17,  2,19850401,1613,  31.2350, -120.5517,  3790, 1618.300,    2.576,   34.580,2,   34.581,2, -999.000,9,   56.500,2,  155.810,2,   42.620,2,    0.000,2,    3.050,2, -999.000,9, -999.000,9, -999.000,9, -999.000,9, -999.000,9
           NA,    P03E,     22,   1,-999.0,      18,  2,19850401,1613,  31.2350, -120.5517,  3790, 1618.300,    2.576,   34.580,2,   34.582,2, -999.000,9,   58.200,2,  154.640,2,   42.620,2,    0.000,2,    3.050,2, -999.000,9, -999.000,9, -999.000,9, -999.000,9, -999.000,9
           NA,    P03E,     22,   1,-999.0,      19,  2,19850401,1613,  31.2350, -120.5517,  3790, 2225.500,    1.855,   34.643,2, -999.000,5, -999.000,9,   97.300,2,  166.560,2,   40.080,2,    0.000,2,    2.820,2, -999.000,9, -999.000,9, -999.000,9, -999.000,9, -999.000,9
           NA,    P03E,     22,   1,-999.0,      20,  2,19850401,1613,  31.2350, -120.5517,  3790, 2530.500,    1.721,   34.655,2,   34.658,2, -999.000,9,  108.200,2,  170.170,2,   39.290,2,    0.000,2,    2.750,2, -999.000,9, -999.000,9, -999.000,9, -999.000,9, -999.000,9
           NA,    P03E,     22,   1,-999.0,      21,  2,19850401,1613,  31.2350, -120.5517,  3790, 2835.300,    1.637,   34.663,2,   34.664,2, -999.000,9,  116.500,2,  172.610,2,   38.800,2,    0.000,2,    2.710,2, -999.000,9, -999.000,9, -999.000,9, -999.000,9, -999.000,9
           NA,    P03E,     22,   1,-999.0,      22,  2,19850401,1613,  31.2350, -120.5517,  3790, 3139.900,    1.581,   34.670,2,   34.668,2, -999.000,9,  121.700,2,  172.420,2,   38.120,2,    0.000,2,    2.670,2, -999.000,9, -999.000,9, -999.000,9, -999.000,9, -999.000,9
           NA,    P03E,     22,   1,-999.0,      23,  2,19850401,1613,  31.2350, -120.5517,  3790, 3445.400,    1.547,   34.673,2,   34.673,2, -999.000,9,  126.900,2,  173.880,2,   38.120,2, -999.000,5,    2.660,2, -999.000,9, -999.000,9, -999.000,9, -999.000,9, -999.000,9
           NA,    P03E,     22,   1,-999.0,      24,  2,19850401,1613,  31.2350, -120.5517,  3790, 3847.900,    1.540,   34.678,2,   34.677,2, -999.000,9,  131.200,2,  175.150,2,   37.730,2,    0.000,2,    2.620,2, -999.000,9, -999.000,9, -999.000,9, -999.000,9, -999.000,9
           NA,    P03E,     22,   1,-999.0,       1,  2,19850401,1613,  31.2350, -120.5517,  3790, 3847.900,    1.540,   34.678,2,   34.677,2, -999.000,9,  131.700,2,  174.960,2,   37.730,2,    0.000,2,    2.620,2, -999.000,9, -999.000,9, -999.000,9, -999.000,9, -999.000,9