BOTTLE,20203103JOAExport
EXPOCODE,SECT_ID,STNNBR,CASTNO,SAMPNO,BTLNBR,BTLNBR_FLAG_W,DATE,TIME,LATITUDE,LONGITUDE,DEPTH,CTDPRS,CTDTMP,CTDSAL,CTDSAL_FLAG_W,SALNTY,SALNTY_FLAG_W,CTDOXY,CTDOXY_FLAG_W,OXYGEN,OXYGEN_FLAG_W,SILCAT,SILCAT_FLAG_W,NITRAT,NITRAT_FLAG_W,NITRIT,NITRIT_FLAG_W,PHSPHT,PHSPHT_FLAG_W,CFC-11,CFC-11_FLAG_W,CFC-12,CFC-12_FLAG_W,SF6,SF6_FLAG_W,TCARBN,TCARBN_FLAG_W,ALKALI,ALKALI_FLAG_W
,,,,,,,,,,,,,DB,ITS-90,PSS-78,,PSS-78,,UMOL/KG,,UMOL/KG,,UMOL/KG,,UMOL/KG,,UMOL/KG,,UMOL/KG,,PMOL/KG,,PMOL/KG,,FMOL/KG,,UMOL/KG,,UMOL/KG
           NA,    P03E,    165,   1,-999.0,       1,  2,19850424,1717,  23.2417, -168.0017,  4871,    1.900,   23.636,   35.294,2,   35.297,2, -999.000,9,  215.900,2,    0.250,2,    0.000,2,    0.000,2,    0.070,2, -999.000,9, -999.000,9, -999.000,9, -999.000,9, -999.000,9
           NA,    P03E,    165,   1,-999.0,       2,  2,19850424,1717,  23.2417, -168.0017,  4871,   22.400,   23.596,   35.302,2,   35.304,2, -999.000,9,  215.900,2,    0.180,2,    0.000,2,    0.000,2,    0.080,2, -999.000,9, -999.000,9, -999.000,9, -999.000,9, -999.000,9
           NA,    P03E,    165,   1,-999.0,       3,  2,19850424,1717,  23.2417, -168.0017,  4871,   42.700,   23.079,   35.336,2,   35.339,2, -999.000,9,  218.900,2,    0.110,2,    0.000,2,    0.000,2,    0.070,2, -999.000,9, -999.000,9, -999.000,9, -999.000,9, -999.000,9
           NA,    P03E,    165,   1,-999.0,       4,  2,19850424,1717,  23.2417, -168.0017,  4871,   73.000,   22.320,   35.329,2,   35.331,2, -999.000,9,  220.600,2,    0.040,2,    0.000,2,    0.000,2,    0.070,2, -999.000,9, -999.000,9, -999.000,9, -999.000,9, -999.000,9
           NA,    P03E,    165,   1,-999.0,       5,  2,19850424,1717,  23.2417, -168.0017,  4871,  103.300,   20.817,   35.160,2,   35.167,2, -999.000,9,  214.000,2,    0.370,2,    0.080,2,    0.020,2,    0.110,2, -999.000,9, -999.000,9, -999.000,9, -999.000,9, -999.000,9
           NA,    P03E,    165,   1,-999.0,       6,  2,19850424,1717,  23.2417, -168.0017,  4871,  143.100,   19.351,   35.055,2,   35.061,2, -999.000,9,  213.500,2,    1.120,2,    0.900,2,    0.170,2,    0.170,2, -999.000,9, -999.000,9, -999.000,9, -999.000,9, -999.000,9
           NA,    P03E,    165,   1,-999.0,       7,  2,19850424,1717,  23.2417, -168.0017,  4871,  183.700,   17.906,   34.936,2,   34.942,2, -999.000,9,  218.200,2,    1.660,2,    1.840,2,    0.060,2,    0.220,2, -999.000,9, -999.000,9, -999.000,9, -999.000,9, -999.000,9
           NA,    P03E,    165,   1,-999.0,       8,  2,19850424,1717,  23.2417, -168.0017,  4871,  223.300,   16.031,   34.692,2,   34.690,2, -999.000,9,  198.600,2,    4.240,2,    5.880,2,    0.010,2,    0.490,2, -999.000,9, -999.000,9, -999.000,9, -999.000,9, -999.000,9
           NA,    P03E,    165,   1,-999.0,       9,  2,19850424,1717,  23.2417, -168.0017,  4871,  263.700,   14.594,   34.561,2,   34.555,2, -999.000,9,  205.900,2,    6.000,2,    7.540,2,    0.010,2,    0.590,2, -999.000,9, -999.000,9, -999.000,9, -999.000,9, -999.000,9
           NA,    P03E,    165,   1,-999.0,      10,  2,19850424,1717,  23.2417, -168.0017,  4871,  303.500,   13.274,   34.423,2,   34.423,2, -999.000,9,  203.300,2,    8.370,2,    9.700,2,    0.010,2,    0.750,2, -999.000,9, -999.000,9, -999.000,9, -999.000,9, -999.000,9
           NA,    P03E,    165,   1,-999.0,      11,  2,19850424,1717,  23.2417, -168.0017,  4871,  351.900,   11.489,   34.261,2,   34.261,2, -999.000,9,  196.700,2,   13.990,2,   13.670,2,    0.010,2,    1.020,2, -999.000,9, -999.000,9, -999.000,9, -999.000,9, -999.000,9
           NA,    P03E,    165,   1,-999.0,      12,  2,19850424,1717,  23.2417, -168.0017,  4871,  403.000,   10.417,   34.185,2,   34.185,2, -999.000,9,  183.600,2,   19.200,2,   16.870,2,    0.010,2,    1.230,2, -999.000,9, -999.000,9, -999.000,9, -999.000,9, -999.000,9
           NA,    P03E,    165,   1,-999.0,      13,  2,19850424,1717,  23.2417, -168.0017,  4871,  455.200,    9.236,   34.129,2,   34.129,2, -999.000,9,  169.300,2,   26.240,2,   20.740,2,    0.000,2,    1.510,2, -999.000,9, -999.000,9, -999.000,9, -999.000,9, -999.000,9
           NA,    P03E,    165,   1,-999.0,      14,  2,19850424,1717,  23.2417, -168.0017,  4871,  514.800,    8.070,   34.096,2,   34.095,2, -999.000,9,  149.700,2,   37.330,2,   25.050,2,    0.000,2,    1.780,2, -999.000,9, -999.000,9, -999.000,9, -999.000,9, -999.000,9
           NA,    P03E,    165,   1,-999.0,      15,  2,19850424,1717,  23.2417, -168.0017,  4871,  584.500,    6.639,   34.081,2,   34.081,2, -999.000,9,  107.000,2,   54.510,2,   31.640,2,    0.000,2,    2.260,2, -999.000,9, -999.000,9, -999.000,9, -999.000,9, -999.000,9
           NA,    P03E,    165,   1,-999.0,      16,  2,19850424,1717,  23.2417, -168.0017,  4871,  655.100,    5.742,   34.139,2,   34.139,2, -999.000,9,   67.000,2,   71.470,2,   36.860,2,    0.000,2,    2.640,2, -999.000,9, -999.000,9, -999.000,9, -999.000,9, -999.000,9
           NA,    P03E,    165,   1,-999.0,      38,  2,19850424,1717,  23.2417, -168.0017,  4871,  725.800,    5.152,   34.237,2,   34.236,2, -999.000,9,   46.500,2,   84.960,2,   39.740,2,    0.000,2,    2.850,2, -999.000,9, -999.000,9, -999.000,9, -999.000,9, -999.000,9
           NA,    P03E,    165,   1,-999.0,      18,  2,19850424,1717,  23.2417, -168.0017,  4871,  806.500,    4.785,   34.329,2,   34.329,2, -999.000,9,   40.400,2,   94.180,2,   40.840,2,    0.000,2,    2.920,2, -999.000,9, -999.000,9, -999.000,9, -999.000,9, -999.000,9
           NA,    P03E,    165,   1,-999.0,      19,  2,19850424,1717,  23.2417, -168.0017,  4871,  903.100,    4.435,   34.389,2,   34.390,2, -999.000,9,   40.900,2,  101.970,2,   41.620,2,    0.000,2,    2.960,2, -999.000,9, -999.000,9, -999.000,9, -999.000,9, -999.000,9
           NA,    P03E,    165,   1,-999.0,      17,  2,19850424,1717,  23.2417, -168.0017,  4871,  997.800,    4.141,   34.444,2,   34.445,2, -999.000,9,   45.600,2,  108.140,2,   41.770,2,    0.000,2,    3.000,2, -999.000,9, -999.000,9, -999.000,9, -999.000,9, -999.000,9
           NA,    P03E,    165,   1,-999.0,      21,  2,19850424,1717,  23.2417, -168.0017,  4871, 1097.100,    3.909,   34.489,2,   34.490,2, -999.000,9,   53.000,2,  112.070,2,   41.820,2,    0.000,2,    2.960,2, -999.000,9, -999.000,9, -999.000,9, -999.000,9, -999.000,9
           NA,    P03E,    165,   1,-999.0,      39,  2,19850424,1717,  23.2417, -168.0017,  4871, 1248.500,    3.436,   34.525,2,   34.525,2, -999.000,9,   60.400,2,  122.480,2,   41.550,2,    0.000,2,    2.930,2, -999.000,9, -999.000,9, -999.000,9, -999.000,9, -999.000,9
           NA,    P03E,    165,   1,-999.0,      23,  2,19850424,1717,  23.2417, -168.0017,  4871, 1395.200,    3.080,   34.546,2,   34.547,2, -999.000,9,   67.400,2,  131.070,2,   40.960,2,    0.000,2,    2.930,2, -999.000,9, -999.000,9, -999.000,9, -999.000,9, -999.000,9
           NA,    P03E,    165,   1,-999.0,      24,  2,19850424,1717,  23.2417, -168.0017,  4871, 1592.500,    2.646,   34.568,2,   34.570,2, -999.000,9,   75.200,2,  140.070,2,   40.950,2,    0.000,2,    2.880,2, -999.000,9, -999.000,9, -999.000,9, -999.000,9, -999.000,9
           NA,    P03E,    165,   1,-999.0,      25,  2,19850424,1717,  23.2417, -168.0017,  4871, 1982.900,    2.095,   34.610,2,   34.611,2, -999.000,9,   93.000,2,  151.090,2,   40.100,2,    0.000,2,    2.800,2, -999.000,9, -999.000,9, -999.000,9, -999.000,9, -999.000,9
           NA,    P03E,    165,   1,-999.0,      26,  2,19850424,1717,  23.2417, -168.0017,  4871, 2191.700,    1.915,   34.626,2, -999.000,5, -999.000,9,  100.800,2,  154.200,2,   39.620,2,    0.000,2,    2.750,2, -999.000,9, -999.000,9, -999.000,9, -999.000,9, -999.000,9
           NA,    P03E,    165,   1,-999.0,      27,  2,19850424,1717,  23.2417, -168.0017,  4871, 2502.300,    1.732,   34.643,2,   34.644,2, -999.000,9,  112.500,2,  156.290,2,   38.930,2,    0.000,2,    2.700,2, -999.000,9, -999.000,9, -999.000,9, -999.000,9, -999.000,9
           NA,    P03E,    165,   1,-999.0,      29,  2,19850424,1717,  23.2417, -168.0017,  4871, 2813.100,    1.607,   34.656,2,   34.657,2, -999.000,9,  123.000,2,  156.000,2,   38.030,2,    0.000,2,    2.630,2, -999.000,9, -999.000,9, -999.000,9, -999.000,9, -999.000,9
           NA,    P03E,    165,   1,-999.0,      28,  2,19850424,1717,  23.2417, -168.0017,  4871, 2813.100,    1.607,   34.656,2,   34.656,2, -999.000,9,  123.800,2,  156.750,2,   37.930,2,    0.000,2,    2.630,2, -999.000,9, -999.000,9, -999.000,9, -999.000,9, -999.000,9
           NA,    P03E,    165,   1,-999.0,      30,  2,19850424,1717,  23.2417, -168.0017,  4871, 3115.900,    1.530,   34.666,2,   34.666,2, -999.000,9,  133.400,2,  154.440,2,   37.450,2,    0.000,2,    2.580,2, -999.000,9, -999.000,9, -999.000,9, -999.000,9, -999.000,9
           NA,    P03E,    165,   1,-999.0,      31,  2,19850424,1717,  23.2417, -168.0017,  4871, 3417.900,    1.485,   34.673,2,   34.673,2, -999.000,9,  141.200,2,  151.870,2,   36.870,2,    0.000,2,    2.540,2, -999.000,9, -999.000,9, -999.000,9, -999.000,9, -999.000,9
           NA,    P03E,    165,   1,-999.0,      32,  2,19850424,1717,  23.2417, -168.0017,  4871, 3725.300,    1.457,   34.678,2,   34.678,2, -999.000,9,  149.000,2,  147.890,2,   36.340,2,    0.000,2,    2.500,2, -999.000,9, -999.000,9, -999.000,9, -999.000,9, -999.000,9
           NA,    P03E,    165,   1,-999.0,      37,  2,19850424,1717,  23.2417, -168.0017,  4871, 4033.400,    1.450,   34.682,2,   34.682,2, -999.000,9,  153.800,2,  145.530,2,   35.760,2,    0.000,2,    2.480,2, -999.000,9, -999.000,9, -999.000,9, -999.000,9, -999.000,9
           NA,    P03E,    165,   1,-999.0,      34,  2,19850424,1717,  23.2417, -168.0017,  4871, 4329.600,    1.455,   34.684,2,   34.684,2, -999.000,9,  158.600,2,  143.570,2,   35.760,2,    0.000,2,    2.460,2, -999.000,9, -999.000,9, -999.000,9, -999.000,9, -999.000,9
           NA,    P03E,    165,   1,-999.0,      35,  2,19850424,1717,  23.2417, -168.0017,  4871, 4636.800,    1.472,   34.686,2,   34.686,2, -999.000,9,  160.800,2,  142.830,2,   35.590,2,    0.000,2,    2.440,2, -999.000,9, -999.000,9, -999.000,9, -999.000,9, -999.000,9
           NA,    P03E,    165,   1,-999.0,      36,  2,19850424,1717,  23.2417, -168.0017,  4871, 4942.600,    1.499,   34.687,2,   34.686,2, -999.000,9,  162.500,2,  142.300,2,   35.540,2,    0.000,2,    2.430,2, -999.000,9, -999.000,9, -999.000,9, -999.000,9, -999.000,9