BOTTLE,20203103JOAExport
EXPOCODE,SECT_ID,STNNBR,CASTNO,SAMPNO,BTLNBR,BTLNBR_FLAG_W,DATE,TIME,LATITUDE,LONGITUDE,DEPTH,CTDPRS,CTDTMP,CTDSAL,CTDSAL_FLAG_W,SALNTY,SALNTY_FLAG_W,CTDOXY,CTDOXY_FLAG_W,OXYGEN,OXYGEN_FLAG_W,SILCAT,SILCAT_FLAG_W,NITRAT,NITRAT_FLAG_W,NITRIT,NITRIT_FLAG_W,PHSPHT,PHSPHT_FLAG_W,CFC-11,CFC-11_FLAG_W,CFC-12,CFC-12_FLAG_W,SF6,SF6_FLAG_W,TCARBN,TCARBN_FLAG_W,ALKALI,ALKALI_FLAG_W
,,,,,,,,,,,,,DB,ITS-90,PSS-78,,PSS-78,,UMOL/KG,,UMOL/KG,,UMOL/KG,,UMOL/KG,,UMOL/KG,,UMOL/KG,,PMOL/KG,,PMOL/KG,,FMOL/KG,,UMOL/KG,,UMOL/KG
           NA,    P03W,    225,   1,-999.0,       1,  2,19850508,2348,  24.2733,  168.7683,  5930,    1.700,   25.531,   35.264,2,   35.268,2, -999.000,9,  209.500,2,    1.380,2,    0.040,2,    0.000,2,    0.020,2,    1.472,2,    0.722,2, -999.000,9, -999.000,9, -999.000,9
           NA,    P03W,    225,   1,-999.0,       2,  2,19850508,2348,  24.2733,  168.7683,  5930,   23.800,   24.953,   35.335,2,   35.337,2, -999.000,9,  212.200,2,    1.120,2,    0.040,2,    0.000,2,    0.020,2, -999.000,9, -999.000,9, -999.000,9, -999.000,9, -999.000,9
           NA,    P03W,    225,   1,-999.0,       3,  2,19850508,2348,  24.2733,  168.7683,  5930,   43.700,   24.812,   35.340,2,   35.343,2, -999.000,9,  212.000,2,    1.080,2,    0.040,2,    0.000,2,    0.010,2,    1.529,2,    0.765,2, -999.000,9, -999.000,9, -999.000,9
           NA,    P03W,    225,   1,-999.0,       4,  2,19850508,2348,  24.2733,  168.7683,  5930,   73.700,   24.145,   35.327,2,   35.329,2, -999.000,9,  212.600,2,    1.030,2,    0.040,2,    0.000,2,    0.000,2, -999.000,9, -999.000,9, -999.000,9, -999.000,9, -999.000,9
           NA,    P03W,    225,   1,-999.0,       5,  2,19850508,2348,  24.2733,  168.7683,  5930,  104.100,   23.218,   35.281,2,   35.282,2, -999.000,9,  210.000,2,    1.200,2,    0.040,2,    0.000,2,    0.000,2,    1.622,2,    0.779,2, -999.000,9, -999.000,9, -999.000,9
           NA,    P03W,    225,   1,-999.0,       6,  2,19850508,2348,  24.2733,  168.7683,  5930,  144.500,   21.398,   35.136,2,   35.122,2, -999.000,9,  191.600,2,    1.590,2,    1.100,2,    0.040,2,    0.130,2, -999.000,9, -999.000,9, -999.000,9, -999.000,9, -999.000,9
           NA,    P03W,    225,   1,-999.0,       7,  2,19850508,2348,  24.2733,  168.7683,  5930,  185.400,   18.647,   34.911,2,   34.913,2, -999.000,9,  198.300,2,    2.190,2,    2.520,2,    0.020,2,    0.220,2,    1.769,2,    0.895,2, -999.000,9, -999.000,9, -999.000,9
           NA,    P03W,    225,   1,-999.0,       8,  2,19850508,2348,  24.2733,  168.7683,  5930,  235.900,   16.556,   34.745,2,   34.750,2, -999.000,9,  205.800,2,    3.870,2,    5.090,2,    0.010,2,    0.340,2,    1.861,2,    0.916,2, -999.000,9, -999.000,9, -999.000,9
           NA,    P03W,    225,   1,-999.0,       9,  2,19850508,2348,  24.2733,  168.7683,  5930,  286.200,   15.416,   34.667,2,   34.668,2, -999.000,9,  211.300,2,    5.760,2,    6.680,2,    0.000,2,    0.440,2,    1.854,2,    0.882,2, -999.000,9, -999.000,9, -999.000,9
           NA,    P03W,    225,   1,-999.0,      10,  2,19850508,2348,  24.2733,  168.7683,  5930,  336.600,   13.756,   34.517,2,   34.509,2, -999.000,9,  208.000,2,   10.010,2,    9.630,2,    0.000,2,    0.630,2,    1.738,2, -999.000,9, -999.000,9, -999.000,9, -999.000,9
           NA,    P03W,    225,   1,-999.0,      11,  2,19850508,2348,  24.2733,  168.7683,  5930,  386.800,   12.323,   34.385,2,   34.382,2, -999.000,9,  204.400,2,   13.170,2,   12.110,2,    0.000,2,    0.810,2,    1.612,2,    0.755,2, -999.000,9, -999.000,9, -999.000,9
           NA,    P03W,    225,   1,-999.0,      12,  2,19850508,2348,  24.2733,  168.7683,  5930,  447.000,   10.978,   34.276,2,   34.280,2, -999.000,9,  196.200,2,   18.470,2,   15.190,2,    0.000,2,    1.020,2, -999.000,9,    0.662,2, -999.000,9, -999.000,9, -999.000,9
           NA,    P03W,    225,   1,-999.0,      13,  2,19850508,2348,  24.2733,  168.7683,  5930,  504.800,    9.457,   34.162,2,   34.162,2, -999.000,9,  180.300,2,   26.980,2,   19.580,2,    0.000,2,    1.310,2,    1.050,2,    0.480,2, -999.000,9, -999.000,9, -999.000,9
           NA,    P03W,    225,   1,-999.0,      14,  2,19850508,2348,  24.2733,  168.7683,  5930,  562.600,    8.356,   34.131,2,   34.130,2, -999.000,9,  154.900,2,   37.170,2,   24.220,2,    0.000,2,    1.630,2,    0.697,2, -999.000,9, -999.000,9, -999.000,9, -999.000,9
           NA,    P03W,    225,   1,-999.0,      15,  2,19850508,2348,  24.2733,  168.7683,  5930,  637.800,    6.889,   34.107,2,   34.109,2, -999.000,9,  113.500,2,   54.610,2,   30.650,2,    0.000,2,    2.070,2,    0.337,2,    0.173,2, -999.000,9, -999.000,9, -999.000,9
           NA,    P03W,    225,   1,-999.0,      16,  2,19850508,2348,  24.2733,  168.7683,  5930,  710.300,    6.148,   34.135,2,   34.135,2, -999.000,9,   85.300,2,   67.300,2,   34.820,2,    0.000,2,    2.350,2,    0.172,2, -999.000,9, -999.000,9, -999.000,9, -999.000,9
           NA,    P03W,    225,   1,-999.0,      17,  2,19850508,2348,  24.2733,  168.7683,  5930,  782.600,    5.267,   34.202,2,   34.198,2, -999.000,9,   58.600,2,   83.380,2,   39.070,2,    0.000,2,    2.630,2,    0.051,2,    0.025,2, -999.000,9, -999.000,9, -999.000,9
           NA,    P03W,    225,   1,-999.0,      18,  2,19850508,2348,  24.2733,  168.7683,  5930,  864.700,    4.720,   34.275,2,   34.276,2, -999.000,9,   46.200,2,   96.640,2,   41.280,2,    0.000,2,    2.770,2,    0.017,2,    0.017,2, -999.000,9, -999.000,9, -999.000,9
           NA,    P03W,    225,   1,-999.0,      39,  2,19850508,2348,  24.2733,  168.7683,  5930,  981.700,    4.236,   34.387,2,   34.386,2, -999.000,9,   47.800,2,  106.670,2,   42.030,2,    0.000,2,    2.820,2,    0.000,2,   -0.006,2, -999.000,9, -999.000,9, -999.000,9
           NA,    P03W,    225,   1,-999.0,      20,  2,19850508,2348,  24.2733,  168.7683,  5930, 1093.700,    3.803,   34.444,2,   34.444,2, -999.000,9,   52.200,2,  116.050,2,   42.240,2,    0.000,2,    2.840,2, -999.000,9, -999.000,9, -999.000,9, -999.000,9, -999.000,9
           NA,    P03W,    225,   1,-999.0,      21,  2,19850508,2348,  24.2733,  168.7683,  5930, 1292.500,    3.276,   34.514,2,   34.513,2, -999.000,9,   65.800,2,  125.610,2,   41.690,2,    0.000,2,    2.790,2,   -0.004,2,   -0.006,2, -999.000,9, -999.000,9, -999.000,9
           NA,    P03W,    225,   1,-999.0,      22,  2,19850508,2348,  24.2733,  168.7683,  5930, 1490.500,    2.818,   34.547,2,   34.547,2, -999.000,9,   74.700,2,  134.520,2,   41.240,2,    0.000,2,    2.770,2, -999.000,9, -999.000,9, -999.000,9, -999.000,9, -999.000,9
           NA,    P03W,    225,   1,-999.0,      23,  2,19850508,2348,  24.2733,  168.7683,  5930, 1683.200,    2.431,   34.576,2,   34.577,2, -999.000,9,   83.500,2,  142.770,2,   41.070,2,    0.000,2,    2.750,2,    0.001,2,   -0.006,2, -999.000,9, -999.000,9, -999.000,9
           NA,    P03W,    225,   1,-999.0,      24,  2,19850508,2348,  24.2733,  168.7683,  5930, 1892.900,    2.169,   34.600,2,   34.599,2, -999.000,9,   92.300,2,  147.400,2,   40.300,2,    0.000,2,    2.710,2, -999.000,9, -999.000,9, -999.000,9, -999.000,9, -999.000,9
           NA,    P03W,    225,   1,-999.0,      25,  2,19850508,2348,  24.2733,  168.7683,  5930, 2100.600,    1.994,   34.616,2,   34.617,2, -999.000,9,  100.000,2,  150.760,2,   40.190,2,    0.000,2,    2.670,2,    0.003,2,   -0.006,2, -999.000,9, -999.000,9, -999.000,9
           NA,    P03W,    225,   1,-999.0,      26,  2,19850508,2348,  24.2733,  168.7683,  5930, 2388.000,    1.804,   34.638,2,   34.638,2, -999.000,9,  112.800,2,  151.780,2,   39.370,2,    0.000,2,    2.620,2, -999.000,9, -999.000,9, -999.000,9, -999.000,9, -999.000,9
           NA,    P03W,    225,   1,-999.0,      27,  2,19850508,2348,  24.2733,  168.7683,  5930, 2692.900,    1.697,   34.649,2,   34.650,2, -999.000,9,  121.200,2,  152.800,2,   38.880,2,    0.000,2,    2.580,2,   -0.001,2,   -0.006,2, -999.000,9, -999.000,9, -999.000,9
           NA,    P03W,    225,   1,-999.0,      28,  2,19850508,2348,  24.2733,  168.7683,  5930, 2994.400,    1.612,   34.660,2,   34.659,2, -999.000,9,  129.700,2,  152.340,2,   37.960,2,    0.000,2,    2.540,2, -999.000,9, -999.000,9, -999.000,9, -999.000,9, -999.000,9
           NA,    P03W,    225,   1,-999.0,      29,  2,19850508,2348,  24.2733,  168.7683,  5930, 3290.600,    1.562,   34.667,2,   34.666,2, -999.000,9,  136.300,2,  151.250,2,   37.850,2,    0.000,2,    2.520,2,   -0.003,2,   -0.006,2, -999.000,9, -999.000,9, -999.000,9
           NA,    P03W,    225,   1,-999.0,      30,  2,19850508,2348,  24.2733,  168.7683,  5930, 3593.300,    1.524,   34.673,2,   34.673,2, -999.000,9,  144.500,2,  149.120,2,   37.100,2,    0.000,2,    2.480,2, -999.000,9, -999.000,9, -999.000,9, -999.000,9, -999.000,9
           NA,    P03W,    225,   1,-999.0,      31,  2,19850508,2348,  24.2733,  168.7683,  5930, 3893.900,    1.501,   34.677,2,   34.677,2, -999.000,9,  149.400,2,  147.410,2,   36.820,2,    0.000,2,    2.460,2,   -0.001,2,   -0.006,2, -999.000,9, -999.000,9, -999.000,9
           NA,    P03W,    225,   1,-999.0,      32,  2,19850508,2348,  24.2733,  168.7683,  5930, 4299.100,    1.476,   34.682,2,   34.683,2, -999.000,9,  157.800,2,  144.030,2,   36.340,2,    0.000,2,    2.410,2,    0.009,2,   -0.006,2, -999.000,9, -999.000,9, -999.000,9
           NA,    P03W,    225,   1,-999.0,      33,  2,19850508,2348,  24.2733,  168.7683,  5930, 4704.300,    1.459,   34.687,2,   34.687,2, -999.000,9,  167.900,2,  140.030,2,   35.750,2,    0.000,2,    2.390,2,    0.009,2,    0.004,2, -999.000,9, -999.000,9, -999.000,9
           NA,    P03W,    225,   1,-999.0,      34,  2,19850508,2348,  24.2733,  168.7683,  5930, 5113.400,    1.452,   34.692,2,   34.692,2, -999.000,9,  173.600,2,  135.830,2,   34.950,2,    0.000,2,    2.350,2,    0.009,2,   -0.005,6, -999.000,9, -999.000,9, -999.000,9
           NA,    P03W,    225,   1,-999.0,      35,  2,19850508,2348,  24.2733,  168.7683,  5930, 5523.600,    1.466,   34.694,2,   34.694,2, -999.000,9,  178.700,2,  132.900,2,   34.740,2,    0.000,2,    2.320,2,   -0.003,2,    0.009,2, -999.000,9, -999.000,9, -999.000,9
           NA,    P03W,    225,   1,-999.0,      36,  2,19850508,2348,  24.2733,  168.7683,  5930, 6009.200,    1.513,   34.695,2,   34.696,2, -999.000,9,  181.200,2,  131.010,2,   34.630,2,    0.000,2,    2.310,2,   -0.001,2, -999.000,9, -999.000,9, -999.000,9, -999.000,9