BOTTLE,20203103JOAExport
EXPOCODE,SECT_ID,STNNBR,CASTNO,SAMPNO,BTLNBR,BTLNBR_FLAG_W,DATE,TIME,LATITUDE,LONGITUDE,DEPTH,CTDPRS,CTDTMP,CTDSAL,CTDSAL_FLAG_W,SALNTY,SALNTY_FLAG_W,CTDOXY,CTDOXY_FLAG_W,OXYGEN,OXYGEN_FLAG_W,SILCAT,SILCAT_FLAG_W,NITRAT,NITRAT_FLAG_W,NITRIT,NITRIT_FLAG_W,PHSPHT,PHSPHT_FLAG_W,CFC-11,CFC-11_FLAG_W,CFC-12,CFC-12_FLAG_W,SF6,SF6_FLAG_W,TCARBN,TCARBN_FLAG_W,ALKALI,ALKALI_FLAG_W
,,,,,,,,,,,,,DB,ITS-90,PSS-78,,PSS-78,,UMOL/KG,,UMOL/KG,,UMOL/KG,,UMOL/KG,,UMOL/KG,,UMOL/KG,,PMOL/KG,,PMOL/KG,,FMOL/KG,,UMOL/KG,,UMOL/KG
           NA,    P03E,    114,   1,-999.0,       1,  2,19850417,1716,  24.2633, -155.9583,  4466,    2.400,   22.298,   35.353,2,   35.355,2, -999.000,9,  219.100,2,    1.750,2,    0.040,2,    0.000,2,    0.050,2,    1.700,2,    0.865,2, -999.000,9, -999.000,9, -999.000,9
           NA,    P03E,    114,   1,-999.0,       2,  2,19850417,1716,  24.2633, -155.9583,  4466,   24.200,   22.298,   35.353,2,   35.355,2, -999.000,9,  218.700,2,    1.710,2,    0.040,2,    0.000,2,    0.050,2, -999.000,9, -999.000,9, -999.000,9, -999.000,9, -999.000,9
           NA,    P03E,    114,   1,-999.0,       3,  2,19850417,1716,  24.2633, -155.9583,  4466,   43.900,   22.296,   35.354,2,   35.355,2, -999.000,9,  219.900,2,    1.670,2,    0.040,2,    0.000,2,    0.050,2, -999.000,9, -999.000,9, -999.000,9, -999.000,9, -999.000,9
           NA,    P03E,    114,   1,-999.0,       4,  2,19850417,1716,  24.2633, -155.9583,  4466,   73.700,   22.168,   35.367,2,   35.367,2, -999.000,9,  219.000,2,    1.640,2,    0.040,2,    0.000,2,    0.050,2, -999.000,9, -999.000,9, -999.000,9, -999.000,9, -999.000,9
           NA,    P03E,    114,   1,-999.0,       5,  2,19850417,1716,  24.2633, -155.9583,  4466,  103.900,   22.009,   35.349,2,   35.355,2, -999.000,9,  215.700,2,    1.600,2,    0.050,2,    0.030,2,    0.050,2,    1.693,2,    0.871,2, -999.000,9, -999.000,9, -999.000,9
           NA,    P03E,    114,   1,-999.0,       6,  2,19850417,1716,  24.2633, -155.9583,  4466,  134.200,   20.405,   35.208,2,   35.206,2, -999.000,9,  212.400,2,    2.490,2,    0.710,2,    0.100,2,    0.100,2, -999.000,9, -999.000,9, -999.000,9, -999.000,9, -999.000,9
           NA,    P03E,    114,   1,-999.0,       7,  2,19850417,1716,  24.2633, -155.9583,  4466,  164.500,   19.666,   35.127,2,   35.126,2, -999.000,9,  218.900,2,    2.830,2,    0.550,2,    0.080,2,    0.100,2,    2.038,2,    0.989,2, -999.000,9, -999.000,9, -999.000,9
           NA,    P03E,    114,   1,-999.0,       8,  2,19850417,1716,  24.2633, -155.9583,  4466,  195.400,   17.368,   34.818,2,   34.827,2, -999.000,9,  198.900,2,    4.470,2,    3.980,2,    0.010,2,    0.350,2, -999.000,9, -999.000,9, -999.000,9, -999.000,9, -999.000,9
           NA,    P03E,    114,   1,-999.0,       9,  2,19850417,1716,  24.2633, -155.9583,  4466,  225.700,   15.437,   34.625,2,   34.620,2, -999.000,9,  213.400,2,    6.300,2,    5.940,2,    0.010,2,    0.460,2,    1.899,2,    0.924,2, -999.000,9, -999.000,9, -999.000,9
           NA,    P03E,    114,   1,-999.0,      10,  2,19850417,1716,  24.2633, -155.9583,  4466,  265.600,   13.601,   34.426,2,   34.418,2, -999.000,9,  216.400,2,    8.320,2,    7.760,2,    0.010,2,    0.580,2,    1.866,2,    0.925,2, -999.000,9, -999.000,9, -999.000,9
           NA,    P03E,    114,   1,-999.0,      11,  2,19850417,1716,  24.2633, -155.9583,  4466,  306.000,   12.139,   34.276,2,   34.275,2, -999.000,9,  220.600,2,   10.710,2,    9.870,2,    0.000,2,    0.720,2,    2.071,2,    0.975,2, -999.000,9, -999.000,9, -999.000,9
           NA,    P03E,    114,   1,-999.0,      12,  2,19850417,1716,  24.2633, -155.9583,  4466,  346.700,   11.122,   34.220,2,   34.221,2, -999.000,9,  220.700,2,   14.210,2,   12.200,2,    0.000,2,    0.880,2,    2.026,2,    0.961,2, -999.000,9, -999.000,9, -999.000,9
           NA,    P03E,    114,   1,-999.0,      13,  2,19850417,1716,  24.2633, -155.9583,  4466,  396.500,   10.078,   34.147,2,   34.148,2, -999.000,9,  209.400,2,   19.220,2,   15.410,2,    0.000,2,    1.080,2,    1.682,6,    0.806,6, -999.000,9, -999.000,9, -999.000,9
           NA,    P03E,    114,   1,-999.0,      14,  2,19850417,1716,  24.2633, -155.9583,  4466,  456.900,    8.627,   34.083,2,   34.082,2, -999.000,9,  176.400,2,   29.830,2,   21.540,2,    0.000,2,    1.500,2,    0.931,2,    0.465,2, -999.000,9, -999.000,9, -999.000,9
           NA,    P03E,    114,   1,-999.0,      15,  2,19850417,1716,  24.2633, -155.9583,  4466,  516.800,    7.399,   34.094,2,   34.093,2, -999.000,9,  118.500,2,   47.770,2,   29.150,2,    0.000,2,    2.060,2,    0.364,6,    0.194,2, -999.000,9, -999.000,9, -999.000,9
           NA,    P03E,    114,   1,-999.0,      16,  2,19850417,1716,  24.2633, -155.9583,  4466,  577.300,    6.500,   34.111,2,   34.111,2, -999.000,9,   81.500,2,   61.060,2,   34.210,2,    0.000,2,    2.420,2,    0.134,2,    0.083,2, -999.000,9, -999.000,9, -999.000,9
           NA,    P03E,    114,   1,-999.0,      38,  2,19850417,1716,  24.2633, -155.9583,  4466,  637.800,    5.713,   34.143,2,   34.144,2, -999.000,9,   58.600,2,   73.650,2,   37.730,2,    0.000,2,    2.650,2,    0.076,2, -999.000,9, -999.000,9, -999.000,9, -999.000,9
           NA,    P03E,    114,   1,-999.0,      18,  2,19850417,1716,  24.2633, -155.9583,  4466,  708.700,    5.183,   34.205,2,   34.204,2, -999.000,9,   41.900,2,   85.330,2,   40.150,2,    0.000,2,    2.820,2,    0.030,2,    0.012,2, -999.000,9, -999.000,9, -999.000,9
           NA,    P03E,    114,   1,-999.0,      19,  2,19850417,1716,  24.2633, -155.9583,  4466,  809.300,    4.573,   34.321,2,   34.320,2, -999.000,9,   34.700,2,  100.500,2,   41.880,2,    0.000,2,    2.920,2,    0.006,2,    0.006,2, -999.000,9, -999.000,9, -999.000,9
           NA,    P03E,    114,   1,-999.0,      20,  2,19850417,1716,  24.2633, -155.9583,  4466,  910.900,    4.248,   34.410,2, -999.000,5, -999.000,9,   39.600,2,  108.280,2,   42.270,2,    0.000,2,    2.930,2, -999.000,9, -999.000,9, -999.000,9, -999.000,9, -999.000,9
           NA,    P03E,    114,   1,-999.0,      21,  2,19850417,1716,  24.2633, -155.9583,  4466, 1011.500,    3.894,   34.449,2,   34.450,2, -999.000,9,   44.500,2,  115.700,2,   42.310,2,    0.000,2,    2.930,2, -999.000,9, -999.000,9, -999.000,9, -999.000,9, -999.000,9
           NA,    P03E,    114,   1,-999.0,      39,  2,19850417,1716,  24.2633, -155.9583,  4466, 1112.700,    3.606,   34.485,2,   34.485,2, -999.000,9,   49.800,2,  121.800,2,   42.290,2,    0.000,2,    2.920,2,    0.000,2,    0.004,2, -999.000,9, -999.000,9, -999.000,9
           NA,    P03E,    114,   1,-999.0,      23,  2,19850417,1716,  24.2633, -155.9583,  4466, 1264.700,    3.264,   34.521,2,   34.521,2, -999.000,9,   57.900,2,  130.630,2,   42.130,2,    0.000,2,    2.890,2, -999.000,9, -999.000,9, -999.000,9, -999.000,9, -999.000,9
           NA,    P03E,    114,   1,-999.0,      24,  2,19850417,1716,  24.2633, -155.9583,  4466, 1415.900,    2.972,   34.553,2,   34.554,2, -999.000,9,   66.400,2,  138.140,2,   41.760,2,    0.000,2,    2.880,2, -999.000,9, -999.000,9, -999.000,9, -999.000,9, -999.000,9
           NA,    P03E,    114,   1,-999.0,      25,  2,19850417,1716,  24.2633, -155.9583,  4466, 1617.500,    2.618,   34.575,2,   34.576,2, -999.000,9,   73.700,2,  144.900,2,   41.350,2,    0.000,2,    2.840,2, -999.000,9, -999.000,9, -999.000,9, -999.000,9, -999.000,9
           NA,    P03E,    114,   1,-999.0,      26,  2,19850417,1716,  24.2633, -155.9583,  4466, 1819.400,    2.309,   34.597,2,   34.599,2, -999.000,9,   81.200,2,  152.280,2,   40.880,2,    0.000,2,    2.800,2, -999.000,9, -999.000,9, -999.000,9, -999.000,9, -999.000,9
           NA,    P03E,    114,   1,-999.0,      27,  2,19850417,1716,  24.2633, -155.9583,  4466, 2022.500,    2.048,   34.616,2,   34.616,2, -999.000,9,   91.100,2,  160.280,2,   40.520,2,    0.000,2,    2.760,2, -999.000,9, -999.000,9, -999.000,9, -999.000,9, -999.000,9
           NA,    P03E,    114,   1,-999.0,      28,  2,19850417,1716,  24.2633, -155.9583,  4466, 2225.500,    1.908,   34.627,2,   34.627,2, -999.000,9,   95.600,2,  164.950,2,   40.160,2,    0.000,2,    2.720,2, -999.000,9, -999.000,9, -999.000,9, -999.000,9, -999.000,9
           NA,    P03E,    114,   1,-999.0,      29,  2,19850417,1716,  24.2633, -155.9583,  4466, 2427.700,    1.764,   34.640,2,   34.639,2, -999.000,9,  103.700,2,  167.460,2,   39.600,2,    0.000,2,    2.680,2, -999.000,9, -999.000,9, -999.000,9, -999.000,9, -999.000,9
           NA,    P03E,    114,   1,-999.0,      30,  2,19850417,1716,  24.2633, -155.9583,  4466, 2731.900,    1.629,   34.654,2,   34.655,2, -999.000,9,  115.500,2,  166.390,2,   38.690,2,    0.000,2,    2.630,2, -999.000,9, -999.000,9, -999.000,9, -999.000,9, -999.000,9
           NA,    P03E,    114,   1,-999.0,      31,  2,19850417,1716,  24.2633, -155.9583,  4466, 3036.600,    1.538,   34.667,2,   34.666,2, -999.000,9,  127.100,2,  165.320,2,   38.140,2,    0.000,2,    2.570,2, -999.000,9, -999.000,9, -999.000,9, -999.000,9, -999.000,9
           NA,    P03E,    114,   1,-999.0,      32,  2,19850417,1716,  24.2633, -155.9583,  4466, 3341.800,    1.487,   34.674,2,   34.674,2, -999.000,9,  137.100,2,  163.470,2,   37.490,2,    0.000,2,    2.510,2, -999.000,9, -999.000,9, -999.000,9, -999.000,9, -999.000,9
           NA,    P03E,    114,   1,-999.0,      37,  2,19850417,1716,  24.2633, -155.9583,  4466, 3647.300,    1.464,   34.679,2,   34.678,2, -999.000,9,  143.600,2,  159.640,2,   36.940,2,    0.000,2,    2.490,2, -999.000,9, -999.000,9, -999.000,9, -999.000,9, -999.000,9
           NA,    P03E,    114,   1,-999.0,      34,  2,19850417,1716,  24.2633, -155.9583,  4466, 3951.600,    1.459,   34.682,2,   34.681,2, -999.000,9,  148.900,2,  157.600,2,   36.630,2,    0.000,2,    2.450,2, -999.000,9, -999.000,9, -999.000,9, -999.000,9, -999.000,9
           NA,    P03E,    114,   1,-999.0,      35,  2,19850417,1716,  24.2633, -155.9583,  4466, 4256.100,    1.480,   34.683,2,   34.684,2, -999.000,9,  152.600,2,  157.330,2,   36.420,2,    0.000,2,    2.440,2, -999.000,9, -999.000,9, -999.000,9, -999.000,9, -999.000,9
           NA,    P03E,    114,   1,-999.0,      36,  2,19850417,1716,  24.2633, -155.9583,  4466, 4529.000,    1.503,   34.684,2,   34.684,2, -999.000,9,  152.500,2,  154.900,2,   36.410,2,    0.000,2,    2.430,2, -999.000,9, -999.000,9, -999.000,9, -999.000,9, -999.000,9
           NA,    P03E,    112,   1,-999.0,       2,  2,19850417,1001,  24.2833, -155.2767,  4572,   20.600,   22.248,   35.375,2,   35.376,2, -999.000,9,  220.200,2,    1.900,2,    0.050,2,    0.000,2,    0.050,2, -999.000,9, -999.000,9, -999.000,9, -999.000,9, -999.000,9
           NA,    P03E,    112,   1,-999.0,       3,  2,19850417,1001,  24.2833, -155.2767,  4572,   35.100,   22.219,   35.371,2,   35.371,2, -999.000,9,  220.500,2,    1.850,2,    0.050,2,    0.000,2,    0.050,2, -999.000,9, -999.000,9, -999.000,9, -999.000,9, -999.000,9
           NA,    P03E,    112,   1,-999.0,       4,  2,19850417,1001,  24.2833, -155.2767,  4572,   55.000,   21.829,   35.365,2,   35.367,2, -999.000,9,  222.500,2,    1.790,2,    0.050,2,    0.000,2,    0.050,2, -999.000,9, -999.000,9, -999.000,9, -999.000,9, -999.000,9
           NA,    P03E,    112,   1,-999.0,       5,  2,19850417,1001,  24.2833, -155.2767,  4572,   75.000,   21.045,   35.364,2,   35.365,2, -999.000,9,  225.900,2,    1.930,2,    0.050,2,    0.000,2,    0.040,2, -999.000,9, -999.000,9, -999.000,9, -999.000,9, -999.000,9
           NA,    P03E,    112,   1,-999.0,       6,  2,19850417,1001,  24.2833, -155.2767,  4572,  105.000,   20.809,   35.335,2,   35.334,2, -999.000,9,  224.500,2,    1.870,2,    0.050,2,    0.000,2,    0.040,2, -999.000,9, -999.000,9, -999.000,9, -999.000,9, -999.000,9
           NA,    P03E,    112,   1,-999.0,       7,  2,19850417,1001,  24.2833, -155.2767,  4572,  145.700,   19.473,   35.113,2,   35.115,2, -999.000,9,  216.900,2,    2.210,2,    0.680,2,    0.140,2,    0.120,2, -999.000,9, -999.000,9, -999.000,9, -999.000,9, -999.000,9
           NA,    P03E,    112,   1,-999.0,       8,  2,19850417,1001,  24.2833, -155.2767,  4572,  186.000,   16.433,   34.713,2,   34.711,2, -999.000,9,  210.700,2,    4.290,2,    3.950,2,    0.020,2,    0.330,2, -999.000,9, -999.000,9, -999.000,9, -999.000,9, -999.000,9
           NA,    P03E,    112,   1,-999.0,       9,  2,19850417,1001,  24.2833, -155.2767,  4572,  225.000,   14.719,   34.540,2,   34.543,2, -999.000,9,  206.900,2,    6.370,2,    6.520,2,    0.010,2,    0.510,2, -999.000,9, -999.000,9, -999.000,9, -999.000,9, -999.000,9
           NA,    P03E,    112,   1,-999.0,      10,  2,19850417,1001,  24.2833, -155.2767,  4572,  263.600,   13.426,   34.405,2,   34.418,2, -999.000,9,  212.500,2,    8.250,2,    8.260,2,    0.010,2,    0.610,2, -999.000,9, -999.000,9, -999.000,9, -999.000,9, -999.000,9
           NA,    P03E,    112,   1,-999.0,      11,  2,19850417,1001,  24.2833, -155.2767,  4572,  305.500,   11.639,   34.254,2,   34.251,2, -999.000,9,  208.200,2,   13.230,2,   12.260,2,    0.000,2,    0.880,2, -999.000,9, -999.000,9, -999.000,9, -999.000,9, -999.000,9
           NA,    P03E,    112,   1,-999.0,      12,  2,19850417,1001,  24.2833, -155.2767,  4572,  346.600,   10.759,   34.207,2,   34.207,2, -999.000,9,  202.800,2,   17.240,2,   14.720,2,    0.000,2,    1.040,2, -999.000,9, -999.000,9, -999.000,9, -999.000,9, -999.000,9
           NA,    P03E,    112,   1,-999.0,      13,  2,19850417,1001,  24.2833, -155.2767,  4572,  397.400,    9.777,   34.145,2,   34.144,2, -999.000,9,  197.100,2,   21.630,2,   17.360,2,    0.000,2,    1.210,2, -999.000,9, -999.000,9, -999.000,9, -999.000,9, -999.000,9
           NA,    P03E,    112,   1,-999.0,      14,  2,19850417,1001,  24.2833, -155.2767,  4572,  458.600,    8.351,   34.070,2,   34.071,2, -999.000,9,  169.500,2,   32.800,2,   22.990,2,    0.000,2,    1.590,2, -999.000,9, -999.000,9, -999.000,9, -999.000,9, -999.000,9
           NA,    P03E,    112,   1,-999.0,      15,  2,19850417,1001,  24.2833, -155.2767,  4572,  519.400,    6.981,   34.050,2,   34.050,2, -999.000,9,  121.800,2,   50.000,2,   29.910,2,    0.000,2,    2.070,2, -999.000,9, -999.000,9, -999.000,9, -999.000,9, -999.000,9
           NA,    P03E,    112,   1,-999.0,      16,  2,19850417,1001,  24.2833, -155.2767,  4572,  579.700,    5.892,   34.063,2,   34.063,2, -999.000,9,   84.900,2,   67.430,2,   35.170,2,    0.000,2,    2.450,2, -999.000,9, -999.000,9, -999.000,9, -999.000,9, -999.000,9
           NA,    P03E,    112,   1,-999.0,      38,  2,19850417,1001,  24.2833, -155.2767,  4572,  638.700,    5.290,   34.122,2,   34.121,2, -999.000,9,   56.200,2,   81.000,2,   38.930,2,    0.000,2,    2.720,2,    0.049,2, -999.000,9, -999.000,9, -999.000,9, -999.000,9
           NA,    P03E,    112,   1,-999.0,      18,  2,19850417,1001,  24.2833, -155.2767,  4572,  706.800,    4.854,   34.215,2,   34.218,2, -999.000,9,   36.400,2,   93.430,2,   41.240,2,    0.000,2,    2.910,2, -999.000,9, -999.000,9, -999.000,9, -999.000,9, -999.000,9
           NA,    P03E,    112,   1,-999.0,      19,  2,19850417,1001,  24.2833, -155.2767,  4572,  799.900,    4.441,   34.333,2,   34.331,2, -999.000,9,   34.000,2,  102.750,2,   42.310,2,    0.000,2,    2.970,2, -999.000,9, -999.000,9, -999.000,9, -999.000,9, -999.000,9
           NA,    P03E,    112,   1,-999.0,      20,  2,19850417,1001,  24.2833, -155.2767,  4572,  896.900,    4.146,   34.409,2,   34.411,2, -999.000,9,   39.000,2,  109.130,2,   42.510,2,    0.000,2,    2.970,2, -999.000,9, -999.000,9, -999.000,9, -999.000,9, -999.000,9
           NA,    P03E,    112,   1,-999.0,      21,  2,19850417,1001,  24.2833, -155.2767,  4572, 1002.700,    3.832,   34.467,2,   34.466,2, -999.000,9,   46.800,2,  116.110,2,   42.470,2,    0.000,2,    2.960,2, -999.000,9, -999.000,9, -999.000,9, -999.000,9, -999.000,9
           NA,    P03E,    112,   1,-999.0,      39,  2,19850417,1001,  24.2833, -155.2767,  4572, 1107.900,    3.550,   34.499,2,   34.499,2, -999.000,9,   53.000,2,  122.120,2,   42.120,2,    0.000,2,    2.930,2,   -0.001,2,   -0.003,2, -999.000,9, -999.000,9, -999.000,9
           NA,    P03E,    112,   1,-999.0,      23,  2,19850417,1001,  24.2833, -155.2767,  4572, 1258.200,    3.217,   34.532,2,   34.531,2, -999.000,9,   60.300,2,  129.730,2,   42.120,2,    0.000,2,    2.900,2, -999.000,9, -999.000,9, -999.000,9, -999.000,9, -999.000,9
           NA,    P03E,    112,   1,-999.0,      24,  2,19850417,1001,  24.2833, -155.2767,  4572, 1405.000,    2.958,   34.556,2,   34.557,2, -999.000,9,   65.700,2,  135.760,2,   41.980,2,    0.000,2,    2.900,2, -999.000,9, -999.000,9, -999.000,9, -999.000,9, -999.000,9
           NA,    P03E,    112,   1,-999.0,      25,  2,19850417,1001,  24.2833, -155.2767,  4572, 1602.000,    2.584,   34.578,2,   34.580,2, -999.000,9,   74.100,2,  145.420,2,   41.580,2,    0.000,2,    2.860,2, -999.000,9, -999.000,9, -999.000,9, -999.000,9, -999.000,9
           NA,    P03E,    112,   1,-999.0,      26,  2,19850417,1001,  24.2833, -155.2767,  4572, 1802.700,    2.249,   34.601,2,   34.602,2, -999.000,9,   83.800,2,  155.120,2,   41.080,2,    0.000,2,    2.810,2, -999.000,9, -999.000,9, -999.000,9, -999.000,9, -999.000,9
           NA,    P03E,    112,   1,-999.0,      27,  2,19850417,1001,  24.2833, -155.2767,  4572, 2010.400,    2.022,   34.617,2,   34.618,2, -999.000,9,   90.000,2,  160.610,2,   40.530,2,    0.000,2,    2.770,2, -999.000,9, -999.000,9, -999.000,9, -999.000,9, -999.000,9
           NA,    P03E,    112,   1,-999.0,      28,  2,19850417,1001,  24.2833, -155.2767,  4572, 2207.700,    1.865,   34.631,2,   34.631,2, -999.000,9,   98.100,2,  164.890,2,   40.130,2,    0.000,2,    2.720,2, -999.000,9, -999.000,9, -999.000,9, -999.000,9, -999.000,9
           NA,    P03E,    112,   1,-999.0,      29,  2,19850417,1001,  24.2833, -155.2767,  4572, 2491.000,    1.696,   34.647,2,   34.646,2, -999.000,9,  107.900,2,  165.540,2,   39.540,2,    0.000,2,    2.660,2, -999.000,9, -999.000,9, -999.000,9, -999.000,9, -999.000,9
           NA,    P03E,    112,   1,-999.0,      30,  2,19850417,1001,  24.2833, -155.2767,  4572, 2799.500,    1.558,   34.662,2,   34.662,2, -999.000,9,  124.400,2,  164.340,2,   38.540,2,    0.010,2,    2.600,2, -999.000,9, -999.000,9, -999.000,9, -999.000,9, -999.000,9
           NA,    P03E,    112,   1,-999.0,      31,  2,19850417,1001,  24.2833, -155.2767,  4572, 3119.000,    1.505,   34.671,2,   34.670,2, -999.000,9,  133.500,2,  161.730,2,   37.990,2,    0.000,2,    2.530,2, -999.000,9, -999.000,9, -999.000,9, -999.000,9, -999.000,9
           NA,    P03E,    112,   1,-999.0,      32,  2,19850417,1001,  24.2833, -155.2767,  4572, 3421.300,    1.471,   34.677,2,   34.676,2, -999.000,9,  140.300,2,  161.560,2,   37.460,2,    0.000,2,    2.510,2, -999.000,9, -999.000,9, -999.000,9, -999.000,9, -999.000,9
           NA,    P03E,    112,   1,-999.0,      37,  2,19850417,1001,  24.2833, -155.2767,  4572, 3732.900,    1.460,   34.681,2,   34.680,2, -999.000,9,  147.100,2,  159.570,2,   37.070,2,    0.000,2,    2.470,2, -999.000,9, -999.000,9, -999.000,9, -999.000,9, -999.000,9
           NA,    P03E,    112,   1,-999.0,      34,  2,19850417,1001,  24.2833, -155.2767,  4572, 4037.900,    1.466,   34.683,2,   34.682,2, -999.000,9,  149.500,2,  157.990,2,   36.730,2,    0.000,2,    2.460,2, -999.000,9, -999.000,9, -999.000,9, -999.000,9, -999.000,9
           NA,    P03E,    112,   1,-999.0,      35,  2,19850417,1001,  24.2833, -155.2767,  4572, 4342.600,    1.487,   34.684,2,   34.684,2, -999.000,9,  152.600,2,  155.410,2,   36.580,2,    0.000,2,    2.450,2, -999.000,9, -999.000,9, -999.000,9, -999.000,9, -999.000,9
           NA,    P03E,    112,   1,-999.0,      36,  2,19850417,1001,  24.2833, -155.2767,  4572, 4620.100,    1.512,   34.685,2,   34.686,2, -999.000,9,  153.700,2,  152.240,2,   36.490,2,    0.000,2,    2.430,2,    0.007,2,    0.006,2, -999.000,9, -999.000,9, -999.000,9