BOTTLE,20203103JOAExport
EXPOCODE,SECT_ID,STNNBR,CASTNO,SAMPNO,BTLNBR,BTLNBR_FLAG_W,DATE,TIME,LATITUDE,LONGITUDE,DEPTH,CTDPRS,CTDTMP,CTDSAL,CTDSAL_FLAG_W,SALNTY,SALNTY_FLAG_W,CTDOXY,CTDOXY_FLAG_W,OXYGEN,OXYGEN_FLAG_W,SILCAT,SILCAT_FLAG_W,NITRAT,NITRAT_FLAG_W,NITRIT,NITRIT_FLAG_W,PHSPHT,PHSPHT_FLAG_W,CFC-11,CFC-11_FLAG_W,CFC-12,CFC-12_FLAG_W,SF6,SF6_FLAG_W,TCARBN,TCARBN_FLAG_W,ALKALI,ALKALI_FLAG_W
,,,,,,,,,,,,,DB,ITS-90,PSS-78,,PSS-78,,UMOL/KG,,UMOL/KG,,UMOL/KG,,UMOL/KG,,UMOL/KG,,UMOL/KG,,PMOL/KG,,PMOL/KG,,FMOL/KG,,UMOL/KG,,UMOL/KG
           NA,    P03E,     96,   1,-999.0,       1,  2,19850414,2129,  24.2467, -149.8900,  5345,    0.500,   22.519,   35.330,2,   35.334,2, -999.000,9,  218.800,2,    1.290,2,    0.120,2,    0.000,2,    0.060,2, -999.000,9, -999.000,9, -999.000,9, -999.000,9, -999.000,9
           NA,    P03E,     96,   1,-999.0,       2,  2,19850414,2129,  24.2467, -149.8900,  5345,   17.200,   22.368,   35.334,2,   35.336,2, -999.000,9,  220.200,2,    1.260,2,    0.110,2,    0.010,2,    0.060,2, -999.000,9, -999.000,9, -999.000,9, -999.000,9, -999.000,9
           NA,    P03E,     96,   1,-999.0,       3,  2,19850414,2129,  24.2467, -149.8900,  5345,   36.800,   22.236,   35.340,2,   35.342,2, -999.000,9,  220.600,2,    1.230,2,    0.110,2,    0.000,2,    0.060,2, -999.000,9, -999.000,9, -999.000,9, -999.000,9, -999.000,9
           NA,    P03E,     96,   1,-999.0,       4,  2,19850414,2129,  24.2467, -149.8900,  5345,   66.800,   22.187,   35.342,2,   35.343,2, -999.000,9,  220.300,2,    1.210,2,    0.070,2,    0.000,2,    0.060,2, -999.000,9, -999.000,9, -999.000,9, -999.000,9, -999.000,9
           NA,    P03E,     96,   1,-999.0,       5,  2,19850414,2129,  24.2467, -149.8900,  5345,   96.300,   22.025,   35.346,2,   35.347,2, -999.000,9,  220.700,2,    1.180,2,    0.070,2,    0.000,2,    0.050,2, -999.000,9, -999.000,9, -999.000,9, -999.000,9, -999.000,9
           NA,    P03E,     96,   1,-999.0,       6,  2,19850414,2129,  24.2467, -149.8900,  5345,  136.200,   21.197,   35.282,2,   35.279,2, -999.000,9,  209.700,2,    1.340,2,    0.500,2,    0.070,2,    0.100,2, -999.000,9, -999.000,9, -999.000,9, -999.000,9, -999.000,9
           NA,    P03E,     96,   1,-999.0,       7,  2,19850414,2129,  24.2467, -149.8900,  5345,  176.500,   20.508,   35.331,2,   35.334,2, -999.000,9,  217.600,2,    1.310,2,    0.350,2,    0.120,2,    0.060,2, -999.000,9, -999.000,9, -999.000,9, -999.000,9, -999.000,9
           NA,    P03E,     96,   1,-999.0,       8,  2,19850414,2129,  24.2467, -149.8900,  5345,  217.900,   17.868,   34.858,2,   34.857,2, -999.000,9,  198.900,2,    2.790,2,    2.970,2,    0.020,2,    0.290,2, -999.000,9, -999.000,9, -999.000,9, -999.000,9, -999.000,9
           NA,    P03E,     96,   1,-999.0,       9,  2,19850414,2129,  24.2467, -149.8900,  5345,  258.300,   15.418,   34.586,2,   34.595,2, -999.000,9,  201.600,2,    4.830,2,    5.580,2,    0.010,2,    0.460,2, -999.000,9, -999.000,9, -999.000,9, -999.000,9, -999.000,9
           NA,    P03E,     96,   1,-999.0,      10,  2,19850414,2129,  24.2467, -149.8900,  5345,  298.800,   13.381,   34.356,2,   34.358,2, -999.000,9,  201.300,2,    7.810,2,    8.650,2,    0.010,2,    0.670,2, -999.000,9, -999.000,9, -999.000,9, -999.000,9, -999.000,9
           NA,    P03E,     96,   1,-999.0,      11,  2,19850414,2129,  24.2467, -149.8900,  5345,  339.400,   11.677,   34.189,2,   34.178,2, -999.000,9,  196.300,2,   12.480,2,   12.800,2,    0.010,2,    0.950,2, -999.000,9, -999.000,9, -999.000,9, -999.000,9, -999.000,9
           NA,    P03E,     96,   1,-999.0,      12,  2,19850414,2129,  24.2467, -149.8900,  5345,  380.400,   10.263,   34.137,2,   34.138,2, -999.000,9,  197.900,2,   18.100,2,   16.140,2,    0.000,2,    1.130,2, -999.000,9, -999.000,9, -999.000,9, -999.000,9, -999.000,9
           NA,    P03E,     96,   1,-999.0,      13,  2,19850414,2129,  24.2467, -149.8900,  5345,  429.800,    9.114,   34.101,2,   34.101,2, -999.000,9,  194.500,2,   24.090,2,   18.990,2,    0.000,2,    1.320,2, -999.000,9, -999.000,9, -999.000,9, -999.000,9, -999.000,9
           NA,    P03E,     96,   1,-999.0,      14,  2,19850414,2129,  24.2467, -149.8900,  5345,  499.600,    7.878,   34.056,2,   34.057,2, -999.000,9,  144.700,2,   37.060,2,   25.930,2,    0.000,2,    1.810,2, -999.000,9, -999.000,9, -999.000,9, -999.000,9, -999.000,9
           NA,    P03E,     96,   1,-999.0,      15,  2,19850414,2129,  24.2467, -149.8900,  5345,  601.500,    6.024,   34.063,2,   34.065,2, -999.000,9,   76.100,2,   63.870,2,   35.660,2,    0.000,2,    2.520,2, -999.000,9, -999.000,9, -999.000,9, -999.000,9, -999.000,9
           NA,    P03E,     96,   1,-999.0,      16,  2,19850414,2129,  24.2467, -149.8900,  5345,  702.200,    4.722,   34.141,2,   34.140,2, -999.000,9,   38.800,2,   91.290,2,   41.240,2,    0.000,2,    2.890,2, -999.000,9, -999.000,9, -999.000,9, -999.000,9, -999.000,9
           NA,    P03E,     96,   1,-999.0,      17,  2,19850414,2129,  24.2467, -149.8900,  5345,  803.500,    4.334,   34.296,2,   34.295,2, -999.000,9,   24.100,2,  105.850,2,   42.960,2,    0.000,2,    3.050,2, -999.000,9, -999.000,9, -999.000,9, -999.000,9, -999.000,9
           NA,    P03E,     96,   1,-999.0,      18,  2,19850414,2129,  24.2467, -149.8900,  5345,  954.800,    3.979,   34.424,2,   34.423,2, -999.000,9,   35.400,2,  114.890,2,   42.910,2,    0.000,2,    3.040,2, -999.000,9, -999.000,9, -999.000,9, -999.000,9, -999.000,9
           NA,    P03E,     96,   1,-999.0,      19,  2,19850414,2129,  24.2467, -149.8900,  5345, 1105.800,    3.579,   34.499,2,   34.498,2, -999.000,9,   50.200,2,  121.250,2,   42.350,2,    0.000,2,    2.970,2, -999.000,9, -999.000,9, -999.000,9, -999.000,9, -999.000,9
           NA,    P03E,     96,   1,-999.0,      20,  2,19850414,2129,  24.2467, -149.8900,  5345, 1256.900,    3.266,   34.533,2,   34.532,2, -999.000,9,   59.000,2,  128.220,2,   41.900,2,    0.000,2,    2.950,2, -999.000,9, -999.000,9, -999.000,9, -999.000,9, -999.000,9
           NA,    P03E,     96,   1,-999.0,      21,  2,19850414,2129,  24.2467, -149.8900,  5345, 1408.400,    2.938,   34.556,2,   34.556,2, -999.000,9,   64.700,2,  136.200,2,   41.800,2,    0.000,2,    2.910,2, -999.000,9, -999.000,9, -999.000,9, -999.000,9, -999.000,9
           NA,    P03E,     96,   1,-999.0,      22,  2,19850414,2129,  24.2467, -149.8900,  5345, 1609.800,    2.602,   34.576,2,   34.575,2, -999.000,9,   73.600,2,  144.020,2,   41.390,2,    0.000,2,    2.870,2, -999.000,9, -999.000,9, -999.000,9, -999.000,9, -999.000,9
           NA,    P03E,     96,   1,-999.0,      23,  2,19850414,2129,  24.2467, -149.8900,  5345, 1813.300,    2.303,   34.598,2,   34.598,2, -999.000,9,   81.800,2,  153.460,2,   41.040,2,    0.000,2,    2.830,2, -999.000,9, -999.000,9, -999.000,9, -999.000,9, -999.000,9
           NA,    P03E,     96,   1,-999.0,      24,  2,19850414,2129,  24.2467, -149.8900,  5345, 2015.500,    2.080,   34.615,2,   34.614,2, -999.000,9,   88.700,2,  160.170,2,   40.690,2,    0.000,2,    2.780,2, -999.000,9, -999.000,9, -999.000,9, -999.000,9, -999.000,9
           NA,    P03E,     96,   1,-999.0,      25,  2,19850414,2129,  24.2467, -149.8900,  5345, 2218.000,    1.903,   34.630,2,   34.631,2, -999.000,9,   96.300,2,  164.320,2,   39.940,2,    0.000,2,    2.730,2, -999.000,9, -999.000,9, -999.000,9, -999.000,9, -999.000,9
           NA,    P03E,     96,   1,-999.0,      26,  2,19850414,2129,  24.2467, -149.8900,  5345, 2421.300,    1.782,   34.641,2,   34.643,2, -999.000,9,  104.300,2,  166.280,2,   39.640,2,    0.000,2,    2.710,2, -999.000,9, -999.000,9, -999.000,9, -999.000,9, -999.000,9
           NA,    P03E,     96,   1,-999.0,      27,  2,19850414,2129,  24.2467, -149.8900,  5345, 2624.000,    1.677,   34.651,2,   34.651,2, -999.000,9,  111.100,2,  167.840,2,   39.040,2,    0.000,2,    2.670,2, -999.000,9, -999.000,9, -999.000,9, -999.000,9, -999.000,9
           NA,    P03E,     96,   1,-999.0,      28,  2,19850414,2129,  24.2467, -149.8900,  5345, 2927.400,    1.586,   34.662,2,   34.662,2, -999.000,9,  121.600,2,  167.200,2,   38.340,2,    0.000,2,    2.600,2, -999.000,9, -999.000,9, -999.000,9, -999.000,9, -999.000,9
           NA,    P03E,     96,   1,-999.0,      29,  2,19850414,2129,  24.2467, -149.8900,  5345, 3234.400,    1.526,   34.671,2,   34.671,2, -999.000,9,  130.900,2,  165.560,2,   37.800,2,    0.000,2,    2.560,2, -999.000,9, -999.000,9, -999.000,9, -999.000,9, -999.000,9
           NA,    P03E,     96,   1,-999.0,      30,  2,19850414,2129,  24.2467, -149.8900,  5345, 3540.100,    1.494,   34.676,2,   34.676,2, -999.000,9,  137.300,2,  164.330,2,   37.400,2,    0.000,2,    2.510,2, -999.000,9, -999.000,9, -999.000,9, -999.000,9, -999.000,9
           NA,    P03E,     96,   1,-999.0,      31,  2,19850414,2129,  24.2467, -149.8900,  5345, 3846.300,    1.478,   34.680,2,   34.680,2, -999.000,9,  144.300,2,  160.910,2,   36.860,2,    0.000,2,    2.490,2, -999.000,9, -999.000,9, -999.000,9, -999.000,9, -999.000,9
           NA,    P03E,     96,   1,-999.0,      32,  2,19850414,2129,  24.2467, -149.8900,  5345, 4152.800,    1.473,   34.683,2,   34.683,2, -999.000,9,  150.500,2,  157.690,2,   36.710,2,    0.000,2,    2.450,2, -999.000,9, -999.000,9, -999.000,9, -999.000,9, -999.000,9
           NA,    P03E,     96,   1,-999.0,      37,  2,19850414,2129,  24.2467, -149.8900,  5345, 4458.800,    1.474,   34.686,2,   34.686,2, -999.000,9,  155.800,2,  153.690,2,   36.170,2,    0.000,2,    2.420,2, -999.000,9, -999.000,9, -999.000,9, -999.000,9, -999.000,9
           NA,    P03E,     96,   1,-999.0,      34,  2,19850414,2129,  24.2467, -149.8900,  5345, 4765.500,    1.470,   34.688,2,   34.688,2, -999.000,9,  162.200,2,  148.120,2,   35.720,2,    0.000,2,    2.380,2, -999.000,9, -999.000,9, -999.000,9, -999.000,9, -999.000,9
           NA,    P03E,     96,   1,-999.0,      35,  2,19850414,2129,  24.2467, -149.8900,  5345, 5072.600,    1.478,   34.690,2,   34.690,2, -999.000,9,  166.800,2,  144.930,2,   35.430,2,    0.000,2,    2.360,2, -999.000,9, -999.000,9, -999.000,9, -999.000,9, -999.000,9
           NA,    P03E,     96,   1,-999.0,      36,  2,19850414,2129,  24.2467, -149.8900,  5345, 5419.500,    1.514,   34.691,2,   34.690,2, -999.000,9,  167.800,2,  143.510,2,   35.280,2, -999.000,5,    2.350,2, -999.000,9, -999.000,9, -999.000,9, -999.000,9, -999.000,9
           NA,    P03E,     94,   1,-999.0,       2,  2,19850414,1358,  24.2400, -149.1533,  5322,   23.800,   22.084,   35.319,2,   35.321,2, -999.000,9,  219.500,2,    0.760,2,    0.070,2,    0.000,2,    0.070,2,    1.740,2,    0.876,2, -999.000,9, -999.000,9, -999.000,9
           NA,    P03E,     94,   1,-999.0,       3,  2,19850414,1358,  24.2400, -149.1533,  5322,   43.300,   22.021,   35.320,2,   35.321,2, -999.000,9,  219.900,2,    0.740,2,    0.070,2,    0.000,2,    0.070,2,    1.685,2,    0.875,2, -999.000,9, -999.000,9, -999.000,9
           NA,    P03E,     94,   1,-999.0,       4,  2,19850414,1358,  24.2400, -149.1533,  5322,   72.400,   21.820,   35.344,2,   35.345,2, -999.000,9,  219.700,2,    0.720,2,    0.070,2,    0.000,2,    0.070,2,    1.716,2,    0.919,2, -999.000,9, -999.000,9, -999.000,9
           NA,    P03E,     94,   1,-999.0,       5,  2,19850414,1358,  24.2400, -149.1533,  5322,  102.500,   21.725,   35.375,2,   35.370,2, -999.000,9,  221.000,2,    0.700,2,    0.070,2,    0.000,2,    0.060,2,    1.728,2,    0.885,2, -999.000,9, -999.000,9, -999.000,9
           NA,    P03E,     94,   1,-999.0,       6,  2,19850414,1358,  24.2400, -149.1533,  5322,  142.700,   21.510,   35.369,2,   35.371,2, -999.000,9,  220.100,2,    0.500,2,    0.060,2,    0.000,2,    0.060,2,    1.755,2,    0.891,2, -999.000,9, -999.000,9, -999.000,9
           NA,    P03E,     94,   1,-999.0,       7,  2,19850414,1358,  24.2400, -149.1533,  5322,  183.100,   19.662,   35.139,2,   35.146,2, -999.000,9,  205.800,2,    1.780,2,    1.340,2,    0.060,2,    0.160,2,    1.755,2,    0.885,2, -999.000,9, -999.000,9, -999.000,9
           NA,    P03E,     94,   1,-999.0,       8,  2,19850414,1358,  24.2400, -149.1533,  5322,  223.200,   17.056,   34.773,2,   34.772,2, -999.000,9,  201.000,2,    3.440,2,    3.690,2,    0.010,2,    0.340,2,    1.776,2,    0.879,2, -999.000,9, -999.000,9, -999.000,9
           NA,    P03E,     94,   1,-999.0,       9,  2,19850414,1358,  24.2400, -149.1533,  5322,  262.800,   14.885,   34.560,2,   34.563,2, -999.000,9,  205.600,2,    5.470,2,    6.180,2,    0.000,2,    0.500,2,    1.841,2,    0.914,2, -999.000,9, -999.000,9, -999.000,9
           NA,    P03E,     94,   1,-999.0,      10,  2,19850414,1358,  24.2400, -149.1533,  5322,  302.100,   12.849,   34.317,2,   34.318,2, -999.000,9,  211.900,2,    8.060,2,    8.590,2,    0.000,2,    0.670,2,    1.906,2,    0.939,2, -999.000,9, -999.000,9, -999.000,9
           NA,    P03E,     94,   1,-999.0,      11,  2,19850414,1358,  24.2400, -149.1533,  5322,  341.900,   10.860,   34.130,2,   34.131,2, -999.000,9,  199.800,2,   14.370,2,   13.990,2,    0.000,2,    1.020,2,    1.615,2,    0.789,2, -999.000,9, -999.000,9, -999.000,9
           NA,    P03E,     94,   1,-999.0,      12,  2,19850414,1358,  24.2400, -149.1533,  5322,  382.000,    9.517,   34.093,2,   34.095,2, -999.000,9,  191.700,2,   21.430,2,   18.130,2,    0.000,2,    1.270,2,    1.270,2,    0.622,2, -999.000,9, -999.000,9, -999.000,9
           NA,    P03E,     94,   1,-999.0,      13,  2,19850414,1358,  24.2400, -149.1533,  5322,  432.600,    8.507,   34.068,2,   34.068,2, -999.000,9,  168.400,2,   29.810,2,   22.460,2,    0.000,2,    1.580,2,    0.877,6,    0.444,6, -999.000,9, -999.000,9, -999.000,9
           NA,    P03E,     94,   1,-999.0,      14,  2,19850414,1358,  24.2400, -149.1533,  5322,  502.600,    7.203,   34.050,2,   34.050,2, -999.000,9,  119.200,2,   45.850,2,   29.730,2,    0.000,2,    2.090,2,    0.341,6,    0.186,6, -999.000,9, -999.000,9, -999.000,9
           NA,    P03E,     94,   1,-999.0,      15,  2,19850414,1358,  24.2400, -149.1533,  5322,  601.400,    6.061,   34.151,2,   34.158,2, -999.000,9,   48.900,2,   68.160,2,   38.060,2,    0.000,2,    2.720,2,    0.025,2, -999.000,9, -999.000,9, -999.000,9, -999.000,9
           NA,    P03E,     94,   1,-999.0,      16,  2,19850414,1358,  24.2400, -149.1533,  5322,  701.200,    5.272,   34.252,2,   34.251,2, -999.000,9,   27.600,2,   85.690,2,   41.810,2,    0.000,2,    2.950,2,    0.002,2,   -0.003,2, -999.000,9, -999.000,9, -999.000,9
           NA,    P03E,     94,   1,-999.0,      17,  2,19850414,1358,  24.2400, -149.1533,  5322,  801.600,    4.869,   34.354,2,   34.352,2, -999.000,9,   25.200,2,   94.950,2,   43.130,2,    0.000,2,    3.030,2,   -0.007,2,    0.000,2, -999.000,9, -999.000,9, -999.000,9
           NA,    P03E,     94,   1,-999.0,      18,  2,19850414,1358,  24.2400, -149.1533,  5322,  952.100,    4.234,   34.445,2,   34.451,2, -999.000,9,   32.500,2,  106.930,2,   43.810,2,    0.000,2,    3.040,2,    0.006,2,    0.001,2, -999.000,9, -999.000,9, -999.000,9
           NA,    P03E,     94,   1,-999.0,      19,  2,19850414,1358,  24.2400, -149.1533,  5322, 1102.100,    3.796,   34.501,2,   34.501,2, -999.000,9,   43.400,2,  116.870,2,   43.650,2,    0.000,2,    3.020,2, -999.000,9,    0.003,2, -999.000,9, -999.000,9, -999.000,9
           NA,    P03E,     94,   1,-999.0,      20,  2,19850414,1358,  24.2400, -149.1533,  5322, 1252.500,    3.365,   34.527,2,   34.527,2, -999.000,9,   55.400,2,  125.890,2,   43.000,2,    0.000,2,    2.920,2, -999.000,9,   -0.002,2, -999.000,9, -999.000,9, -999.000,9
           NA,    P03E,     94,   1,-999.0,      21,  2,19850414,1358,  24.2400, -149.1533,  5322, 1402.400,    3.052,   34.555,2,   34.555,2, -999.000,9,   60.200,2,  133.400,2,   42.940,2,    0.000,2,    2.930,2, -999.000,9,    0.003,2, -999.000,9, -999.000,9, -999.000,9
           NA,    P03E,     94,   1,-999.0,      22,  2,19850414,1358,  24.2400, -149.1533,  5322, 1603.800,    2.657,   34.578,2,   34.578,2, -999.000,9,   71.100,2,  143.290,2,   42.250,2,    0.000,2,    2.890,2, -999.000,9, -999.000,9, -999.000,9, -999.000,9, -999.000,9
           NA,    P03E,     94,   1,-999.0,      23,  2,19850414,1358,  24.2400, -149.1533,  5322, 1802.400,    2.379,   34.599,2,   34.598,2, -999.000,9,   80.300,2,  150.880,2,   41.720,2,    0.000,2,    2.850,2, -999.000,9,    0.003,2, -999.000,9, -999.000,9, -999.000,9
           NA,    P03E,     94,   1,-999.0,      24,  2,19850414,1358,  24.2400, -149.1533,  5322, 2002.900,    2.145,   34.615,2,   34.615,2, -999.000,9,   89.300,2,  154.970,2,   41.190,2,    0.000,2,    2.790,2, -999.000,9, -999.000,9, -999.000,9, -999.000,9, -999.000,9
           NA,    P03E,     94,   1,-999.0,      25,  2,19850414,1358,  24.2400, -149.1533,  5322, 2407.700,    1.806,   34.641,2,   34.641,2, -999.000,9,  103.000,2,  163.210,2,   40.350,2,    0.000,2,    2.710,2,    0.004,2,    0.000,2, -999.000,9, -999.000,9, -999.000,9
           NA,    P03E,     94,   1,-999.0,      26,  2,19850414,1358,  24.2400, -149.1533,  5322, 2712.800,    1.659,   34.654,2,   34.655,2, -999.000,9,  112.400,2,  167.530,2,   39.770,2,    0.000,2,    2.680,2, -999.000,9, -999.000,9, -999.000,9, -999.000,9, -999.000,9
           NA,    P03E,     94,   1,-999.0,      27,  2,19850414,1358,  24.2400, -149.1533,  5322, 3020.800,    1.576,   34.665,2,   34.665,2, -999.000,9,  122.900,2,  168.480,2,   38.980,2,    0.000,2,    2.610,2, -999.000,9,   -0.002,2, -999.000,9, -999.000,9, -999.000,9
           NA,    P03E,     94,   1,-999.0,      28,  2,19850414,1358,  24.2400, -149.1533,  5322, 3326.200,    1.526,   34.672,2,   34.672,2, -999.000,9,  130.300,2,  166.860,2,   38.410,2,    0.000,2,    2.560,2, -999.000,9, -999.000,9, -999.000,9, -999.000,9, -999.000,9
           NA,    P03E,     94,   1,-999.0,      29,  2,19850414,1358,  24.2400, -149.1533,  5322, 3631.900,    1.499,   34.677,2,   34.676,2, -999.000,9,  138.800,2,  165.040,2,   37.890,2,    0.000,2,    2.530,2, -999.000,9, -999.000,9, -999.000,9, -999.000,9, -999.000,9
           NA,    P03E,     94,   1,-999.0,      31,  2,19850414,1358,  24.2400, -149.1533,  5322, 3937.900,    1.487,   34.680,2,   34.680,2, -999.000,9,  144.300,2,  161.800,2,   37.520,2,    0.000,2,    2.500,2, -999.000,9, -999.000,9, -999.000,9, -999.000,9, -999.000,9
           NA,    P03E,     94,   1,-999.0,      30,  2,19850414,1358,  24.2400, -149.1533,  5322, 3937.900,    1.487,   34.680,2,   34.680,2, -999.000,9,  144.900,2,  161.050,2,   37.520,2,    0.000,2,    2.510,2, -999.000,9, -999.000,9, -999.000,9, -999.000,9, -999.000,9
           NA,    P03E,     94,   1,-999.0,      32,  2,19850414,1358,  24.2400, -149.1533,  5322, 4244.000,    1.483,   34.684,2,   34.683,2, -999.000,9,  150.700,2,  158.220,2,   37.260,2,    0.000,2,    2.470,2, -999.000,9, -999.000,9, -999.000,9, -999.000,9, -999.000,9
           NA,    P03E,     94,   1,-999.0,      37,  2,19850414,1358,  24.2400, -149.1533,  5322, 4551.700,    1.474,   34.687,2,   34.689,2, -999.000,9,  158.200,2,  152.680,2,   36.590,2,    0.000,2,    2.420,2, -999.000,9, -999.000,9, -999.000,9, -999.000,9, -999.000,9
           NA,    P03E,     94,   1,-999.0,      34,  2,19850414,1358,  24.2400, -149.1533,  5322, 4861.400,    1.464,   34.690,2,   34.689,2, -999.000,9,  165.000,2,  147.160,2,   36.020,2,    0.000,2,    2.380,2, -999.000,9, -999.000,9, -999.000,9, -999.000,9, -999.000,9
           NA,    P03E,     94,   1,-999.0,      35,  2,19850414,1358,  24.2400, -149.1533,  5322, 5169.900,    1.483,   34.692,2,   34.690,2, -999.000,9,  167.900,2,  144.980,2,   35.760,2,    0.000,2,    2.370,2, -999.000,9, -999.000,9, -999.000,9, -999.000,9, -999.000,9
           NA,    P03E,     94,   1,-999.0,      36,  2,19850414,1358,  24.2400, -149.1533,  5322, 5457.700,    1.516,   34.692,2,   34.692,2, -999.000,9,  167.300,2,  142.800,2,   35.710,2,    0.000,2,    2.370,2, -999.000,9,    0.003,2, -999.000,9, -999.000,9, -999.000,9