BOTTLE,20203103JOAExport
EXPOCODE,SECT_ID,STNNBR,CASTNO,SAMPNO,BTLNBR,BTLNBR_FLAG_W,DATE,TIME,LATITUDE,LONGITUDE,DEPTH,CTDPRS,CTDTMP,CTDSAL,CTDSAL_FLAG_W,SALNTY,SALNTY_FLAG_W,CTDOXY,CTDOXY_FLAG_W,OXYGEN,OXYGEN_FLAG_W,SILCAT,SILCAT_FLAG_W,NITRAT,NITRAT_FLAG_W,NITRIT,NITRIT_FLAG_W,PHSPHT,PHSPHT_FLAG_W,CFC-11,CFC-11_FLAG_W,CFC-12,CFC-12_FLAG_W,SF6,SF6_FLAG_W,TCARBN,TCARBN_FLAG_W,ALKALI,ALKALI_FLAG_W
,,,,,,,,,,,,,DB,ITS-90,PSS-78,,PSS-78,,UMOL/KG,,UMOL/KG,,UMOL/KG,,UMOL/KG,,UMOL/KG,,UMOL/KG,,PMOL/KG,,PMOL/KG,,FMOL/KG,,UMOL/KG,,UMOL/KG
           NA,    P03E,    167,   2,-999.0,       1,  2,19850425,0024,  23.0117, -168.6550,  4752,    0.900,   24.448,   35.152,2,   35.155,2, -999.000,9,  211.800,2,    0.010,2,    0.000,2,    0.000,2,    0.110,2,    1.601,2,    0.826,2, -999.000,9, -999.000,9, -999.000,9
           NA,    P03E,    167,   2,-999.0,       2,  2,19850425,0024,  23.0117, -168.6550,  4752,   21.700,   23.863,   35.296,2,   35.286,2, -999.000,9,  215.700,2,    0.000,2,    0.000,2,    0.000,2,    0.070,2,    1.620,2,    0.838,2, -999.000,9, -999.000,9, -999.000,9
           NA,    P03E,    167,   2,-999.0,       3,  2,19850425,0024,  23.0117, -168.6550,  4752,   41.900,   23.666,   35.326,2,   35.328,2, -999.000,9,  216.100,2,    0.000,2,    0.000,2,    0.000,2,    0.070,2,    1.612,2,    0.829,2, -999.000,9, -999.000,9, -999.000,9
           NA,    P03E,    167,   2,-999.0,       4,  2,19850425,0024,  23.0117, -168.6550,  4752,   71.300,   23.555,   35.326,2,   35.326,2, -999.000,9,  217.000,2,    0.000,2,    0.000,2,    0.000,2,    0.070,2,    1.581,2,    0.813,2, -999.000,9, -999.000,9, -999.000,9
           NA,    P03E,    167,   2,-999.0,       5,  2,19850425,0024,  23.0117, -168.6550,  4752,  102.200,   23.376,   35.318,2,   35.321,2, -999.000,9,  215.100,2,    0.000,2,    0.000,2,    0.000,2,    0.070,2,    1.579,2,    0.819,2, -999.000,9, -999.000,9, -999.000,9
           NA,    P03E,    167,   2,-999.0,       6,  2,19850425,0024,  23.0117, -168.6550,  4752,  142.600,   22.387,   35.294,2,   35.294,2, -999.000,9,  209.600,2,    0.000,2,    0.060,2,    0.030,2,    0.080,2,    1.613,2,    0.824,2, -999.000,9, -999.000,9, -999.000,9
           NA,    P03E,    167,   2,-999.0,       7,  2,19850425,0024,  23.0117, -168.6550,  4752,  182.000,   19.684,   35.040,2,   35.041,2, -999.000,9,  202.200,2,    1.170,2,    1.640,2,    0.060,2,    0.170,2,    1.725,2,    0.875,2, -999.000,9, -999.000,9, -999.000,9
           NA,    P03E,    167,   2,-999.0,       8,  2,19850425,0024,  23.0117, -168.6550,  4752,  223.000,   18.374,   34.966,2,   34.953,2, -999.000,9,  212.600,2,    1.300,2,    1.970,2,    0.060,2,    0.200,2,    1.841,2,    0.916,2, -999.000,9, -999.000,9, -999.000,9
           NA,    P03E,    167,   2,-999.0,       9,  2,19850425,0024,  23.0117, -168.6550,  4752,  263.200,   16.449,   34.731,2,   34.729,2, -999.000,9,  198.400,2,    3.420,2,    5.420,2,    0.010,2,    0.430,2,    1.743,2,    0.866,2, -999.000,9, -999.000,9, -999.000,9
           NA,    P03E,    167,   2,-999.0,      10,  2,19850425,0024,  23.0117, -168.6550,  4752,  302.300,   14.494,   34.544,2,   34.542,2, -999.000,9,  205.300,2,    5.550,2,    7.610,2,    0.010,2,    0.570,2,    1.798,2,    0.874,2, -999.000,9, -999.000,9, -999.000,9
           NA,    P03E,    167,   2,-999.0,      11,  2,19850425,0024,  23.0117, -168.6550,  4752,  353.900,   12.406,   34.340,2,   34.332,2, -999.000,9,  201.700,2,   10.860,2,   11.660,2,    0.010,2,    0.840,2,    1.646,2,    0.801,2, -999.000,9, -999.000,9, -999.000,9
           NA,    P03E,    167,   2,-999.0,      12,  2,19850425,0024,  23.0117, -168.6550,  4752,  403.800,   10.468,   34.188,2,   34.189,2, -999.000,9,  185.400,2,   18.180,2,   16.660,2,    0.010,2,    1.170,2,    1.240,2,    0.617,2, -999.000,9, -999.000,9, -999.000,9
           NA,    P03E,    167,   2,-999.0,      13,  2,19850425,0024,  23.0117, -168.6550,  4752,  452.500,    9.217,   34.133,2,   34.132,2, -999.000,9,  170.400,2,   26.280,2,   20.620,2,    0.000,2,    1.450,2,    0.942,2,    0.472,2, -999.000,9, -999.000,9, -999.000,9
           NA,    P03E,    167,   2,-999.0,      14,  2,19850425,0024,  23.0117, -168.6550,  4752,  513.000,    7.946,   34.093,2,   34.093,2, -999.000,9,  145.700,2,   38.370,2,   25.620,2,    0.000,2,    1.790,2,    0.621,2,    0.315,2, -999.000,9, -999.000,9, -999.000,9
           NA,    P03E,    167,   2,-999.0,      15,  2,19850425,0024,  23.0117, -168.6550,  4752,  585.600,    6.578,   34.086,2,   34.087,2, -999.000,9,  100.100,2,   56.230,2,   32.270,2,    0.000,2,    2.260,2,    0.244,2,    0.129,2, -999.000,9, -999.000,9, -999.000,9
           NA,    P03E,    167,   2,-999.0,      16,  2,19850425,0024,  23.0117, -168.6550,  4752,  657.400,    5.696,   34.134,2,   34.132,2, -999.000,9,   71.800,2,   71.880,2,   36.450,2,    0.000,2,    2.550,2,    0.110,2,    0.060,2, -999.000,9, -999.000,9, -999.000,9
           NA,    P03E,    167,   2,-999.0,      38,  2,19850425,0024,  23.0117, -168.6550,  4752,  728.100,    5.056,   34.191,2,   34.192,2, -999.000,9,   54.900,2,   86.120,2,   39.110,2,    0.000,2,    2.740,2,    0.059,6,    0.034,2, -999.000,9, -999.000,9, -999.000,9
           NA,    P03E,    167,   2,-999.0,      18,  2,19850425,0024,  23.0117, -168.6550,  4752,  808.200,    4.534,   34.273,2,   34.272,2, -999.000,9,   42.600,2,   98.160,2,   41.060,2,    0.000,2,    2.900,2,    0.016,2,   -0.001,2, -999.000,9, -999.000,9, -999.000,9
           NA,    P03E,    167,   2,-999.0,      19,  2,19850425,0024,  23.0117, -168.6550,  4752,  907.900,    4.092,   34.383,2,   34.380,2, -999.000,9,   40.300,2,  108.190,2,   42.070,2,    0.000,2,    2.950,2,    0.002,2,   -0.004,2, -999.000,9, -999.000,9, -999.000,9
           NA,    P03E,    167,   2,-999.0,      17,  2,19850425,0024,  23.0117, -168.6550,  4752, 1010.300,    3.919,   34.449,2,   34.449,2, -999.000,9,   47.300,2,  111.450,2,   42.010,2,    0.000,2,    2.940,2,    0.002,2,   -0.003,2, -999.000,9, -999.000,9, -999.000,9
           NA,    P03E,    167,   2,-999.0,      21,  2,19850425,0024,  23.0117, -168.6550,  4752, 1111.200,    3.616,   34.492,2,   34.491,2, -999.000,9,   54.400,2,  118.490,2,   41.750,2,    0.010,2,    2.910,2, -999.000,9, -999.000,9, -999.000,9, -999.000,9, -999.000,9
           NA,    P03E,    167,   2,-999.0,      39,  2,19850425,0024,  23.0117, -168.6550,  4752, 1260.100,    3.327,   34.532,2,   34.533,2, -999.000,9,   63.900,2,  124.140,2,   41.220,2,    0.000,2,    2.880,2, -999.000,9, -999.000,9, -999.000,9, -999.000,9, -999.000,9
           NA,    P03E,    167,   2,-999.0,      23,  2,19850425,0024,  23.0117, -168.6550,  4752, 1407.500,    2.947,   34.555,2,   34.554,2, -999.000,9,   70.000,2,  131.570,2,   41.220,2,    0.000,2,    2.860,2, -999.000,9, -999.000,9, -999.000,9, -999.000,9, -999.000,9
           NA,    P03E,    167,   2,-999.0,      24,  2,19850425,0024,  23.0117, -168.6550,  4752, 1611.000,    2.537,   34.572,2,   34.573,2, -999.000,9,   75.900,2,  141.600,2,   41.170,2,    0.000,2,    2.830,2, -999.000,9, -999.000,9, -999.000,9, -999.000,9, -999.000,9
           NA,    P03E,    167,   2,-999.0,      25,  2,19850425,0024,  23.0117, -168.6550,  4752, 1815.700,    2.272,   34.592,2,   34.593,2, -999.000,9,   83.500,2,  147.240,2,   40.540,2,    0.000,2,    2.780,2, -999.000,9, -999.000,9, -999.000,9, -999.000,9, -999.000,9
           NA,    P03E,    167,   2,-999.0,      26,  2,19850425,0024,  23.0117, -168.6550,  4752, 2017.900,    2.047,   34.613,2,   34.613,2, -999.000,9,   93.300,2,  150.880,2,   40.070,2,    0.000,2,    2.740,2, -999.000,9, -999.000,9, -999.000,9, -999.000,9, -999.000,9
           NA,    P03E,    167,   2,-999.0,      27,  2,19850425,0024,  23.0117, -168.6550,  4752, 2220.900,    1.895,   34.627,2,   34.627,2, -999.000,9,  102.200,2,  154.930,2,   39.540,2,    0.000,2,    2.700,2,   -0.001,2,   -0.004,2, -999.000,9, -999.000,9, -999.000,9
           NA,    P03E,    167,   2,-999.0,      28,  2,19850425,0024,  23.0117, -168.6550,  4752, 2524.500,    1.725,   34.645,2,   34.643,2, -999.000,9,  114.000,2,  156.780,2,   38.860,2,    0.000,2,    2.660,2, -999.000,9, -999.000,9, -999.000,9, -999.000,9, -999.000,9
           NA,    P03E,    167,   2,-999.0,      29,  2,19850425,0024,  23.0117, -168.6550,  4752, 2823.200,    1.615,   34.655,2,   34.655,2, -999.000,9,  123.000,2,  156.230,2,   38.340,2,    0.000,2,    2.610,2, -999.000,9, -999.000,9, -999.000,9, -999.000,9, -999.000,9
           NA,    P03E,    167,   2,-999.0,      30,  2,19850425,0024,  23.0117, -168.6550,  4752, 3127.800,    1.538,   34.665,2,   34.666,2, -999.000,9,  132.800,2,  156.890,2,   37.610,2,    0.000,2,    2.550,2, -999.000,9, -999.000,9, -999.000,9, -999.000,9, -999.000,9
           NA,    P03E,    167,   2,-999.0,      31,  2,19850425,0024,  23.0117, -168.6550,  4752, 3433.400,    1.498,   34.672,2,   34.671,2, -999.000,9,  140.300,2,  149.980,2,   36.620,2,    0.000,2,    2.460,2,   -0.004,2,   -0.003,2, -999.000,9, -999.000,9, -999.000,9
           NA,    P03E,    167,   2,-999.0,      32,  2,19850425,0024,  23.0117, -168.6550,  4752, 3741.600,    1.468,   34.677,2,   34.677,2, -999.000,9,  147.500,2,  149.040,2,   36.470,2,    0.000,2,    2.480,2, -999.000,9, -999.000,9, -999.000,9, -999.000,9, -999.000,9
           NA,    P03E,    167,   2,-999.0,      37,  2,19850425,0024,  23.0117, -168.6550,  4752, 4051.500,    1.459,   34.681,2,   34.683,2, -999.000,9,  153.600,2,  145.520,2,   36.060,2,    0.000,2,    2.450,2, -999.000,9, -999.000,9, -999.000,9, -999.000,9, -999.000,9
           NA,    P03E,    167,   2,-999.0,      34,  2,19850425,0024,  23.0117, -168.6550,  4752, 4357.700,    1.458,   34.684,2,   34.684,2, -999.000,9,  158.400,2,  143.200,2,   35.800,2,    0.000,2,    2.410,2, -999.000,9, -999.000,9, -999.000,9, -999.000,9, -999.000,9
           NA,    P03E,    167,   2,-999.0,      35,  2,19850425,0024,  23.0117, -168.6550,  4752, 4612.400,    1.463,   34.686,2,   34.686,2, -999.000,9,  163.800,2,  140.290,2,   35.540,2,    0.000,2,    2.400,2,    0.002,2,   -0.003,2, -999.000,9, -999.000,9, -999.000,9
           NA,    P03E,    167,   2,-999.0,      36,  2,19850425,0024,  23.0117, -168.6550,  4752, 4813.300,    1.473,   34.688,2,   34.687,2, -999.000,9,  164.800,2,  139.360,2,   35.380,2,    0.000,2,    2.410,2, -999.000,9, -999.000,9, -999.000,9, -999.000,9, -999.000,9