BOTTLE,20203103JOAExport
EXPOCODE,SECT_ID,STNNBR,CASTNO,SAMPNO,BTLNBR,BTLNBR_FLAG_W,DATE,TIME,LATITUDE,LONGITUDE,DEPTH,CTDPRS,CTDTMP,CTDSAL,CTDSAL_FLAG_W,SALNTY,SALNTY_FLAG_W,CTDOXY,CTDOXY_FLAG_W,OXYGEN,OXYGEN_FLAG_W,SILCAT,SILCAT_FLAG_W,NITRAT,NITRAT_FLAG_W,NITRIT,NITRIT_FLAG_W,PHSPHT,PHSPHT_FLAG_W,CFC-11,CFC-11_FLAG_W,CFC-12,CFC-12_FLAG_W,SF6,SF6_FLAG_W,TCARBN,TCARBN_FLAG_W,ALKALI,ALKALI_FLAG_W
,,,,,,,,,,,,,DB,ITS-90,PSS-78,,PSS-78,,UMOL/KG,,UMOL/KG,,UMOL/KG,,UMOL/KG,,UMOL/KG,,UMOL/KG,,PMOL/KG,,PMOL/KG,,FMOL/KG,,UMOL/KG,,UMOL/KG
           NA,    P03W,    209,   1,-999.0,       1,  2,19850506,0400,  24.2500,  175.1667,  5381,    0.000,   25.610,   34.930,2,   34.932,2, -999.000,9,  211.400,2,    1.610,2,    0.040,2,    0.000,2,    0.030,2, -999.000,9, -999.000,9, -999.000,9, -999.000,9, -999.000,9
           NA,    P03W,    209,   1,-999.0,       2,  2,19850506,0400,  24.2500,  175.1667,  5381,   23.600,   24.068,   35.334,2,   35.337,2, -999.000,9,  215.400,2,    1.530,2,    0.040,2,    0.000,2,    0.020,2, -999.000,9, -999.000,9, -999.000,9, -999.000,9, -999.000,9
           NA,    P03W,    209,   1,-999.0,       3,  2,19850506,0400,  24.2500,  175.1667,  5381,   43.100,   23.943,   35.327,2,   35.329,2, -999.000,9,  215.100,2,    1.460,2,    0.040,2,    0.000,2,    0.020,2, -999.000,9, -999.000,9, -999.000,9, -999.000,9, -999.000,9
           NA,    P03W,    209,   1,-999.0,       4,  2,19850506,0400,  24.2500,  175.1667,  5381,   73.200,   23.503,   35.261,2,   35.267,2, -999.000,9,  216.300,2,    1.380,2,    0.040,2,    0.000,2,    0.030,2, -999.000,9, -999.000,9, -999.000,9, -999.000,9, -999.000,9
           NA,    P03W,    209,   1,-999.0,       5,  2,19850506,0400,  24.2500,  175.1667,  5381,  103.700,   22.053,   35.147,2,   35.150,2, -999.000,9,  215.600,2,    1.510,2,    0.040,2,    0.000,2,    0.030,2, -999.000,9, -999.000,9, -999.000,9, -999.000,9, -999.000,9
           NA,    P03W,    209,   1,-999.0,       6,  2,19850506,0400,  24.2500,  175.1667,  5381,  144.100,   20.250,   35.030,2,   35.028,2, -999.000,9,  200.100,2,    1.830,2,    1.390,2,    0.030,2,    0.160,2, -999.000,9, -999.000,9, -999.000,9, -999.000,9, -999.000,9
           NA,    P03W,    209,   1,-999.0,       7,  2,19850506,0400,  24.2500,  175.1667,  5381,  184.600,   18.162,   34.867,2,   34.866,2, -999.000,9,  203.200,2,    3.150,2,    2.940,2,    0.010,2,    0.270,2, -999.000,9, -999.000,9, -999.000,9, -999.000,9, -999.000,9
           NA,    P03W,    209,   1,-999.0,       8,  2,19850506,0400,  24.2500,  175.1667,  5381,  234.900,   16.222,   34.725,2,   34.722,2, -999.000,9,  208.700,2,    5.050,2,    5.860,2,    0.000,2,    0.420,2, -999.000,9, -999.000,9, -999.000,9, -999.000,9, -999.000,9
           NA,    P03W,    209,   1,-999.0,       9,  2,19850506,0400,  24.2500,  175.1667,  5381,  285.100,   14.979,   34.625,2,   34.619,2, -999.000,9,  209.400,2,    6.960,2,    7.750,2,    0.000,2,    0.540,2, -999.000,9, -999.000,9, -999.000,9, -999.000,9, -999.000,9
           NA,    P03W,    209,   1,-999.0,      10,  2,19850506,0400,  24.2500,  175.1667,  5381,  335.300,   13.900,   34.522,2,   34.518,2, -999.000,9,  206.900,2,    9.450,2,    9.440,2,    0.000,2,    0.680,2, -999.000,9, -999.000,9, -999.000,9, -999.000,9, -999.000,9
           NA,    P03W,    209,   1,-999.0,      11,  2,19850506,0400,  24.2500,  175.1667,  5381,  385.400,   12.386,   34.402,2,   34.398,2, -999.000,9,  208.400,2,   14.120,2,   11.990,2,    0.000,2,    0.840,2, -999.000,9, -999.000,9, -999.000,9, -999.000,9, -999.000,9
           NA,    P03W,    209,   1,-999.0,      12,  2,19850506,0400,  24.2500,  175.1667,  5381,  445.900,   10.693,   34.265,2,   34.261,2, -999.000,9,  194.200,2,   20.760,2,   16.310,2,    0.000,2,    1.130,2, -999.000,9, -999.000,9, -999.000,9, -999.000,9, -999.000,9
           NA,    P03W,    209,   1,-999.0,      13,  2,19850506,0400,  24.2500,  175.1667,  5381,  506.600,    9.278,   34.172,2,   34.169,2, -999.000,9,  178.900,2,   29.160,2,   20.470,2,    0.000,2,    1.420,2, -999.000,9, -999.000,9, -999.000,9, -999.000,9, -999.000,9
           NA,    P03W,    209,   1,-999.0,      14,  2,19850506,0400,  24.2500,  175.1667,  5381,  566.700,    7.943,   34.111,2,   34.112,2, -999.000,9,  148.500,2,   41.500,2,   25.630,2,    0.000,2,    1.810,2, -999.000,9, -999.000,9, -999.000,9, -999.000,9, -999.000,9
           NA,    P03W,    209,   1,-999.0,      15,  2,19850506,0400,  24.2500,  175.1667,  5381,  646.700,    6.594,   34.109,2,   34.110,2, -999.000,9,  105.200,2,   60.520,2,   32.260,2,    0.000,2,    2.270,2, -999.000,9, -999.000,9, -999.000,9, -999.000,9, -999.000,9
           NA,    P03W,    209,   1,-999.0,      16,  2,19850506,0400,  24.2500,  175.1667,  5381,  726.500,    5.556,   34.153,2,   34.154,2, -999.000,9,   70.900,2,   79.510,2,   37.330,2,    0.000,2,    2.610,2, -999.000,9, -999.000,9, -999.000,9, -999.000,9, -999.000,9
           NA,    P03W,    209,   1,-999.0,      17,  2,19850506,0400,  24.2500,  175.1667,  5381,  806.300,    4.844,   34.233,2,   34.233,2, -999.000,9,   49.300,2,   95.520,2,   40.630,2,    0.000,2,    2.830,2, -999.000,9, -999.000,9, -999.000,9, -999.000,9, -999.000,9
           NA,    P03W,    209,   1,-999.0,      18,  2,19850506,0400,  24.2500,  175.1667,  5381,  907.100,    4.381,   34.324,2,   34.324,2, -999.000,9,   44.200,2,  107.560,2,   41.920,2,    0.000,2,    2.910,2, -999.000,9, -999.000,9, -999.000,9, -999.000,9, -999.000,9
           NA,    P03W,    209,   1,-999.0,      39,  2,19850506,0400,  24.2500,  175.1667,  5381, 1057.700,    3.711,   34.383,2,   34.383,2, -999.000,9,   42.300,2,  124.110,2,   42.880,2,    0.000,2,    2.970,2, -999.000,9, -999.000,9, -999.000,9, -999.000,9, -999.000,9
           NA,    P03W,    209,   1,-999.0,      20,  2,19850506,0400,  24.2500,  175.1667,  5381, 1206.700,    3.354,   34.462,2,   34.462,2, -999.000,9,   52.700,2,  132.180,2,   42.940,2,    0.000,2,    2.960,2, -999.000,9, -999.000,9, -999.000,9, -999.000,9, -999.000,9
           NA,    P03W,    209,   1,-999.0,      21,  2,19850506,0400,  24.2500,  175.1667,  5381, 1405.900,    3.034,   34.541,2,   34.541,2, -999.000,9,   74.100,2,  136.890,2,   41.450,2,    0.000,2,    2.860,2, -999.000,9, -999.000,9, -999.000,9, -999.000,9, -999.000,9
           NA,    P03W,    209,   1,-999.0,      22,  2,19850506,0400,  24.2500,  175.1667,  5381, 1604.700,    2.610,   34.566,2,   34.566,2, -999.000,9,   80.000,2,  145.140,2,   41.230,2,    0.000,2,    2.830,2, -999.000,9, -999.000,9, -999.000,9, -999.000,9, -999.000,9
           NA,    P03W,    209,   1,-999.0,      23,  2,19850506,0400,  24.2500,  175.1667,  5381, 1801.700,    2.336,   34.590,2,   34.589,2, -999.000,9,   88.100,2,  148.860,2,   40.750,2,    0.000,2,    2.800,2, -999.000,9, -999.000,9, -999.000,9, -999.000,9, -999.000,9
           NA,    P03W,    209,   1,-999.0,      24,  2,19850506,0400,  24.2500,  175.1667,  5381, 2000.600,    2.032,   34.614,2,   34.614,2, -999.000,9,   99.800,2,  152.380,2,   40.040,2,    0.000,2,    2.740,2, -999.000,9, -999.000,9, -999.000,9, -999.000,9, -999.000,9
           NA,    P03W,    209,   1,-999.0,      25,  2,19850506,0400,  24.2500,  175.1667,  5381, 2201.400,    1.880,   34.628,2,   34.629,2, -999.000,9,  106.400,2,  153.930,2,   39.550,2,    0.000,2,    2.710,2, -999.000,9, -999.000,9, -999.000,9, -999.000,9, -999.000,9
           NA,    P03W,    209,   1,-999.0,      26,  2,19850506,0400,  24.2500,  175.1667,  5381, 2512.700,    1.725,   34.641,2,   34.642,2, -999.000,9,  114.700,2,  154.110,2,   39.070,2,    0.000,2,    2.660,2, -999.000,9, -999.000,9, -999.000,9, -999.000,9, -999.000,9
           NA,    P03W,    209,   1,-999.0,      27,  2,19850506,0400,  24.2500,  175.1667,  5381, 2819.000,    1.618,   34.655,2,   34.656,2, -999.000,9,  126.500,2,  154.290,2,   38.200,2,    0.000,2,    2.610,2, -999.000,9, -999.000,9, -999.000,9, -999.000,9, -999.000,9
           NA,    P03W,    209,   1,-999.0,      28,  2,19850506,0400,  24.2500,  175.1667,  5381, 3123.600,    1.549,   34.665,2,   34.665,2, -999.000,9,  135.400,2,  153.680,2,   37.830,2,    0.000,2,    2.570,2, -999.000,9, -999.000,9, -999.000,9, -999.000,9, -999.000,9
           NA,    P03W,    209,   1,-999.0,      29,  2,19850506,0400,  24.2500,  175.1667,  5381, 3434.200,    1.511,   34.671,2,   34.669,2, -999.000,9,  140.900,2,  151.320,2,   37.230,2,    0.000,2,    2.530,2, -999.000,9, -999.000,9, -999.000,9, -999.000,9, -999.000,9
           NA,    P03W,    209,   1,-999.0,      30,  2,19850506,0400,  24.2500,  175.1667,  5381, 3741.800,    1.485,   34.676,2,   34.676,2, -999.000,9,  148.900,2,  147.800,2,   36.860,2,    0.000,2,    2.500,2, -999.000,9, -999.000,9, -999.000,9, -999.000,9, -999.000,9
           NA,    P03W,    209,   1,-999.0,      31,  2,19850506,0400,  24.2500,  175.1667,  5381, 4048.500,    1.452,   34.681,2,   34.682,2, -999.000,9,  157.200,2,  144.480,2,   36.220,2,    0.000,2,    2.450,2, -999.000,9, -999.000,9, -999.000,9, -999.000,9, -999.000,9
           NA,    P03W,    209,   1,-999.0,      32,  2,19850506,0400,  24.2500,  175.1667,  5381, 4356.100,    1.437,   34.685,2,   34.685,2, -999.000,9,  163.200,2,  141.550,2,   35.690,2,    0.000,2,    2.420,2, -999.000,9, -999.000,9, -999.000,9, -999.000,9, -999.000,9
           NA,    P03W,    209,   1,-999.0,      33,  2,19850506,0400,  24.2500,  175.1667,  5381, 4712.300,    1.422,   34.690,2,   34.690,2, -999.000,9,  171.400,2,  135.710,2,   35.100,2,    0.000,2,    2.380,2, -999.000,9, -999.000,9, -999.000,9, -999.000,9, -999.000,9
           NA,    P03W,    209,   1,-999.0,      34,  2,19850506,0400,  24.2500,  175.1667,  5381, 5072.000,    1.431,   34.692,2,   34.693,2, -999.000,9,  176.000,2,  134.350,2,   34.890,2,    0.000,2,    2.360,2, -999.000,9, -999.000,9, -999.000,9, -999.000,9, -999.000,9
           NA,    P03W,    209,   1,-999.0,      35,  2,19850506,0400,  24.2500,  175.1667,  5381, 5329.000,    1.451,   34.693,2,   34.694,2, -999.000,9,  178.600,2,  134.540,2,   34.800,2,    0.000,2,    2.340,2, -999.000,9, -999.000,9, -999.000,9, -999.000,9, -999.000,9
           NA,    P03W,    209,   1,-999.0,      36,  2,19850506,0400,  24.2500,  175.1667,  5381, 5607.000,    1.474,   34.694,2,   34.695,2, -999.000,9,  179.700,2,  133.380,2,   34.530,2,    0.000,2,    2.330,2, -999.000,9, -999.000,9, -999.000,9, -999.000,9, -999.000,9