BOTTLE,20203103JOAExport
EXPOCODE,SECT_ID,STNNBR,CASTNO,SAMPNO,BTLNBR,BTLNBR_FLAG_W,DATE,TIME,LATITUDE,LONGITUDE,DEPTH,CTDPRS,CTDTMP,CTDSAL,CTDSAL_FLAG_W,SALNTY,SALNTY_FLAG_W,CTDOXY,CTDOXY_FLAG_W,OXYGEN,OXYGEN_FLAG_W,SILCAT,SILCAT_FLAG_W,NITRAT,NITRAT_FLAG_W,NITRIT,NITRIT_FLAG_W,PHSPHT,PHSPHT_FLAG_W,CFC-11,CFC-11_FLAG_W,CFC-12,CFC-12_FLAG_W,SF6,SF6_FLAG_W,TCARBN,TCARBN_FLAG_W,ALKALI,ALKALI_FLAG_W
,,,,,,,,,,,,,DB,ITS-90,PSS-78,,PSS-78,,UMOL/KG,,UMOL/KG,,UMOL/KG,,UMOL/KG,,UMOL/KG,,UMOL/KG,,PMOL/KG,,PMOL/KG,,FMOL/KG,,UMOL/KG,,UMOL/KG
           NA,    P03W,    231,   1,-999.0,       1,  2,19850510,0001,  24.2483,  166.4767,  5710,    1.600,   24.978,   35.074,2,   35.079,2, -999.000,9,  210.800,2,    0.150,2,    0.050,2,    0.000,2,    0.030,2, -999.000,9, -999.000,9, -999.000,9, -999.000,9, -999.000,9
           NA,    P03W,    231,   1,-999.0,       2,  2,19850510,0001,  24.2483,  166.4767,  5710,   24.700,   23.292,   35.052,2,   35.050,2, -999.000,9,  217.600,2,    0.090,2,    0.050,2,    0.000,2,    0.030,2, -999.000,9, -999.000,9, -999.000,9, -999.000,9, -999.000,9
           NA,    P03W,    231,   1,-999.0,       3,  2,19850510,0001,  24.2483,  166.4767,  5710,   44.900,   22.436,   35.129,2,   35.158,2, -999.000,9,  221.100,2,    0.240,2,    0.050,2,    0.000,2,    0.030,2, -999.000,9, -999.000,9, -999.000,9, -999.000,9, -999.000,9
           NA,    P03W,    231,   1,-999.0,       4,  2,19850510,0001,  24.2483,  166.4767,  5710,   75.100,   21.796,   35.151,2,   35.156,2, -999.000,9,  221.500,2,    0.180,2,    0.050,2,    0.000,2,    0.030,2, -999.000,9, -999.000,9, -999.000,9, -999.000,9, -999.000,9
           NA,    P03W,    231,   1,-999.0,       5,  2,19850510,0001,  24.2483,  166.4767,  5710,  105.200,   20.100,   34.964,2,   34.967,2, -999.000,9,  223.600,2,    0.540,2,    0.040,2,    0.010,2,    0.070,2, -999.000,9, -999.000,9, -999.000,9, -999.000,9, -999.000,9
           NA,    P03W,    231,   1,-999.0,       6,  2,19850510,0001,  24.2483,  166.4767,  5710,  145.800,   18.475,   34.878,2,   34.874,2, -999.000,9,  203.000,2,    1.940,2,    2.490,2,    0.050,2,    0.250,2, -999.000,9, -999.000,9, -999.000,9, -999.000,9, -999.000,9
           NA,    P03W,    231,   1,-999.0,       7,  2,19850510,0001,  24.2483,  166.4767,  5710,  186.300,   17.079,   34.782,2, -999.000,5, -999.000,9,  202.500,2,    2.710,2,    4.830,2,    0.010,2,    0.400,2, -999.000,9, -999.000,9, -999.000,9, -999.000,9, -999.000,9
           NA,    P03W,    231,   1,-999.0,       8,  2,19850510,0001,  24.2483,  166.4767,  5710,  236.200,   15.984,   34.714,2,   34.711,2, -999.000,9,  210.300,2,    4.110,2,    6.180,2,    0.000,2,    0.480,2, -999.000,9, -999.000,9, -999.000,9, -999.000,9, -999.000,9
           NA,    P03W,    231,   1,-999.0,       9,  2,19850510,0001,  24.2483,  166.4767,  5710,  286.400,   15.196,   34.659,2,   34.657,2, -999.000,9,  210.300,2,    5.920,2,    7.380,2,    0.000,2,    0.550,2, -999.000,9, -999.000,9, -999.000,9, -999.000,9, -999.000,9
           NA,    P03W,    231,   1,-999.0,      10,  2,19850510,0001,  24.2483,  166.4767,  5710,  336.700,   14.066,   34.544,2,   34.542,2, -999.000,9,  206.400,2,    8.150,2,    9.260,2,    0.000,2,    0.700,2, -999.000,9, -999.000,9, -999.000,9, -999.000,9, -999.000,9
           NA,    P03W,    231,   1,-999.0,      11,  2,19850510,0001,  24.2483,  166.4767,  5710,  387.300,   12.766,   34.429,2,   34.429,2, -999.000,9,  202.800,2,   11.830,2,   11.630,2,    0.000,2,    0.860,2, -999.000,9, -999.000,9, -999.000,9, -999.000,9, -999.000,9
           NA,    P03W,    231,   1,-999.0,      12,  2,19850510,0001,  24.2483,  166.4767,  5710,  448.400,   11.285,   34.319,2,   34.318,2, -999.000,9,  197.100,2,   18.010,2,   14.990,2,    0.000,2,    1.090,2, -999.000,9, -999.000,9, -999.000,9, -999.000,9, -999.000,9
           NA,    P03W,    231,   1,-999.0,      13,  2,19850510,0001,  24.2483,  166.4767,  5710,  508.300,    9.438,   34.187,2,   34.187,2, -999.000,9,  179.300,2,   27.300,2,   20.050,2,    0.000,2,    1.460,2, -999.000,9, -999.000,9, -999.000,9, -999.000,9, -999.000,9
           NA,    P03W,    231,   1,-999.0,      14,  2,19850510,0001,  24.2483,  166.4767,  5710,  566.800,    8.131,   34.114,2,   34.117,2, -999.000,9,  157.500,2,   37.210,2,   24.440,2,    0.000,2,    1.750,2, -999.000,9, -999.000,9, -999.000,9, -999.000,9, -999.000,9
           NA,    P03W,    231,   1,-999.0,      15,  2,19850510,0001,  24.2483,  166.4767,  5710,  644.200,    6.393,   34.066,2,   34.068,2, -999.000,9,  122.700,2,   56.880,2,   31.010,2,    0.000,2,    2.200,2, -999.000,9, -999.000,9, -999.000,9, -999.000,9, -999.000,9
           NA,    P03W,    231,   1,-999.0,      16,  2,19850510,0001,  24.2483,  166.4767,  5710,  722.700,    5.367,   34.124,2,   34.125,2, -999.000,9,   81.300,2,   76.950,2,   37.140,2,    0.000,2,    2.590,2, -999.000,9, -999.000,9, -999.000,9, -999.000,9, -999.000,9
           NA,    P03W,    231,   1,-999.0,      17,  2,19850510,0001,  24.2483,  166.4767,  5710,  796.700,    4.637,   34.187,2,   34.188,2, -999.000,9,   57.400,2,   93.050,2,   40.200,2,    0.000,2,    2.800,2, -999.000,9, -999.000,9, -999.000,9, -999.000,9, -999.000,9
           NA,    P03W,    231,   1,-999.0,      18,  2,19850510,0001,  24.2483,  166.4767,  5710,  892.000,    4.221,   34.289,2,   34.290,2, -999.000,9,   42.600,2,  104.780,2,   42.150,2,    0.000,2,    2.910,2, -999.000,9, -999.000,9, -999.000,9, -999.000,9, -999.000,9
           NA,    P03W,    231,   1,-999.0,      39,  2,19850510,0001,  24.2483,  166.4767,  5710, 1044.300,    3.679,   34.413,2,   34.414,2, -999.000,9,   46.100,2,  117.750,2,   42.700,2,    0.000,2,    2.940,2, -999.000,9, -999.000,9, -999.000,9, -999.000,9, -999.000,9
           NA,    P03W,    231,   1,-999.0,      20,  2,19850510,0001,  24.2483,  166.4767,  5710, 1197.500,    3.263,   34.478,2,   34.479,2, -999.000,9,   55.600,2,  125.730,2,   42.540,2,    0.000,2,    2.910,2, -999.000,9, -999.000,9, -999.000,9, -999.000,9, -999.000,9
           NA,    P03W,    231,   1,-999.0,      21,  2,19850510,0001,  24.2483,  166.4767,  5710, 1401.200,    2.718,   34.527,2,   34.527,2, -999.000,9,   64.800,2,  139.930,2,   42.210,2,    0.000,2,    2.890,2, -999.000,9, -999.000,9, -999.000,9, -999.000,9, -999.000,9
           NA,    P03W,    231,   1,-999.0,      22,  2,19850510,0001,  24.2483,  166.4767,  5710, 1563.400,    2.491,   34.559,2,   34.560,2, -999.000,9,   75.600,2,  143.950,2,   41.670,2,    0.000,2,    2.840,2, -999.000,9, -999.000,9, -999.000,9, -999.000,9, -999.000,9
           NA,    P03W,    231,   1,-999.0,      23,  2,19850510,0001,  24.2483,  166.4767,  5710, 1752.600,    2.204,   34.584,2,   34.585,2, -999.000,9,   83.900,2,  148.390,2,   41.350,2,    0.000,2,    2.810,2, -999.000,9, -999.000,9, -999.000,9, -999.000,9, -999.000,9
           NA,    P03W,    231,   1,-999.0,      24,  2,19850510,0001,  24.2483,  166.4767,  5710, 1943.100,    2.011,   34.608,2,   34.610,2, -999.000,9,   97.300,2,  148.470,2,   40.430,2,    0.000,2,    2.730,2, -999.000,9, -999.000,9, -999.000,9, -999.000,9, -999.000,9
           NA,    P03W,    231,   1,-999.0,      25,  2,19850510,0001,  24.2483,  166.4767,  5710, 2137.700,    1.880,   34.626,2,   34.625,2, -999.000,9,  106.000,2,  149.380,2,   39.360,2,    0.000,2,    2.700,2, -999.000,9, -999.000,9, -999.000,9, -999.000,9, -999.000,9
           NA,    P03W,    231,   1,-999.0,      26,  2,19850510,0001,  24.2483,  166.4767,  5710, 2457.700,    1.724,   34.645,2,   34.643,2, -999.000,9,  118.200,2,  150.490,2,   39.040,2,    0.000,2,    2.650,2, -999.000,9, -999.000,9, -999.000,9, -999.000,9, -999.000,9
           NA,    P03W,    231,   1,-999.0,      27,  2,19850510,0001,  24.2483,  166.4767,  5710, 2763.400,    1.645,   34.655,2,   34.654,2, -999.000,9,  126.000,2,  149.950,2,   38.560,2,    0.000,2,    2.600,2, -999.000,9, -999.000,9, -999.000,9, -999.000,9, -999.000,9
           NA,    P03W,    231,   1,-999.0,      28,  2,19850510,0001,  24.2483,  166.4767,  5710, 3062.900,    1.589,   34.662,2,   34.662,2, -999.000,9,  133.000,2,  150.650,2,   37.920,2,    0.000,2,    2.570,2, -999.000,9, -999.000,9, -999.000,9, -999.000,9, -999.000,9
           NA,    P03W,    231,   1,-999.0,      29,  2,19850510,0001,  24.2483,  166.4767,  5710, 3357.600,    1.542,   34.669,2,   34.668,2, -999.000,9,  139.900,2,  150.320,2,   37.390,2,    0.000,2,    2.550,2, -999.000,9, -999.000,9, -999.000,9, -999.000,9, -999.000,9
           NA,    P03W,    231,   1,-999.0,      30,  2,19850510,0001,  24.2483,  166.4767,  5710, 3656.000,    1.515,   34.674,2,   34.673,2, -999.000,9,  144.700,2,  147.910,2,   37.290,2,    0.000,2,    2.490,2, -999.000,9, -999.000,9, -999.000,9, -999.000,9, -999.000,9
           NA,    P03W,    231,   1,-999.0,      31,  2,19850510,0001,  24.2483,  166.4767,  5710, 3952.100,    1.491,   34.677,2,   34.677,2, -999.000,9,  150.800,2,  146.960,2,   36.870,2,    0.000,2,    2.470,2, -999.000,9, -999.000,9, -999.000,9, -999.000,9, -999.000,9
           NA,    P03W,    231,   1,-999.0,      32,  2,19850510,0001,  24.2483,  166.4767,  5710, 4247.400,    1.468,   34.682,2,   34.683,2, -999.000,9,  156.900,2,  144.360,2,   36.390,2,    0.000,2,    2.440,2, -999.000,9, -999.000,9, -999.000,9, -999.000,9, -999.000,9
           NA,    P03W,    231,   1,-999.0,      33,  2,19850510,0001,  24.2483,  166.4767,  5710, 4612.100,    1.453,   34.686,2,   34.686,2, -999.000,9,  164.200,2,  139.900,2,   35.820,2,    0.000,2,    2.400,2, -999.000,9, -999.000,9, -999.000,9, -999.000,9, -999.000,9
           NA,    P03W,    231,   1,-999.0,      34,  2,19850510,0001,  24.2483,  166.4767,  5710, 4963.800,    1.450,   34.689,2,   34.690,2, -999.000,9,  171.200,2,  134.410,2,   35.340,2,    0.000,2,    2.350,2, -999.000,9, -999.000,9, -999.000,9, -999.000,9, -999.000,9
           NA,    P03W,    231,   1,-999.0,      35,  2,19850510,0001,  24.2483,  166.4767,  5710, 5363.300,    1.454,   34.693,2,   34.694,2, -999.000,9,  177.300,2,  131.810,2,   35.080,2,    0.000,2,    2.310,2, -999.000,9, -999.000,9, -999.000,9, -999.000,9, -999.000,9
           NA,    P03W,    231,   1,-999.0,      36,  2,19850510,0001,  24.2483,  166.4767,  5710, 5760.400,    1.483,   34.695,2,   34.695,2, -999.000,9,  180.300,2,  130.250,2,   34.720,2,    0.000,2,    2.300,2, -999.000,9, -999.000,9, -999.000,9, -999.000,9, -999.000,9