BOTTLE,20203103JOAExport
EXPOCODE,SECT_ID,STNNBR,CASTNO,SAMPNO,BTLNBR,BTLNBR_FLAG_W,DATE,TIME,LATITUDE,LONGITUDE,DEPTH,CTDPRS,CTDTMP,CTDSAL,CTDSAL_FLAG_W,SALNTY,SALNTY_FLAG_W,CTDOXY,CTDOXY_FLAG_W,OXYGEN,OXYGEN_FLAG_W,SILCAT,SILCAT_FLAG_W,NITRAT,NITRAT_FLAG_W,NITRIT,NITRIT_FLAG_W,PHSPHT,PHSPHT_FLAG_W,CFC-11,CFC-11_FLAG_W,CFC-12,CFC-12_FLAG_W,SF6,SF6_FLAG_W,TCARBN,TCARBN_FLAG_W,ALKALI,ALKALI_FLAG_W
,,,,,,,,,,,,,DB,ITS-90,PSS-78,,PSS-78,,UMOL/KG,,UMOL/KG,,UMOL/KG,,UMOL/KG,,UMOL/KG,,UMOL/KG,,PMOL/KG,,PMOL/KG,,FMOL/KG,,UMOL/KG,,UMOL/KG
           NA,    P03W,    245,   2,-999.0,       1,  2,19850512,0717,  24.2667,  160.8400,  5127,    0.000,   24.960,   35.145,2,   35.151,2, -999.000,9,  211.600,2,    0.680,2,    0.080,2,    0.000,2, -999.000,5, -999.000,9, -999.000,9, -999.000,9, -999.000,9, -999.000,9
           NA,    P03W,    245,   2,-999.0,       2,  2,19850512,0717,  24.2667,  160.8400,  5127,   22.300,   24.378,   35.142,2,   35.146,2, -999.000,9,  213.800,2,    0.590,2,    0.080,2,    0.000,2, -999.000,5, -999.000,9, -999.000,9, -999.000,9, -999.000,9, -999.000,9
           NA,    P03W,    245,   2,-999.0,       3,  2,19850512,0717,  24.2667,  160.8400,  5127,   42.800,   23.929,   35.141,2,   35.147,2, -999.000,9,  214.600,2,    0.590,2,    0.080,2,    0.000,2, -999.000,5, -999.000,9, -999.000,9, -999.000,9, -999.000,9, -999.000,9
           NA,    P03W,    245,   2,-999.0,       4,  2,19850512,0717,  24.2667,  160.8400,  5127,   72.700,   22.391,   35.059,2,   35.064,2, -999.000,9,  213.700,2,    1.170,2,    0.080,2,    0.000,2, -999.000,5, -999.000,9, -999.000,9, -999.000,9, -999.000,9, -999.000,9
           NA,    P03W,    245,   2,-999.0,       5,  2,19850512,0717,  24.2667,  160.8400,  5127,  103.300,   20.473,   34.956,2,   34.969,2, -999.000,9,  213.600,2,    1.470,2,    0.070,2,    0.000,2, -999.000,5, -999.000,9, -999.000,9, -999.000,9, -999.000,9, -999.000,9
           NA,    P03W,    245,   2,-999.0,       6,  2,19850512,0717,  24.2667,  160.8400,  5127,  143.900,   18.835,   34.864,2,   34.869,2, -999.000,9,  213.500,2,    1.860,2,    1.060,2,    0.120,2, -999.000,5, -999.000,9, -999.000,9, -999.000,9, -999.000,9, -999.000,9
           NA,    P03W,    245,   2,-999.0,       7,  2,19850512,0717,  24.2667,  160.8400,  5127,  183.700,   17.546,   34.809,2,   34.810,2, -999.000,9,  202.600,2,    3.230,2,    3.950,2,    0.010,2, -999.000,5, -999.000,9, -999.000,9, -999.000,9, -999.000,9, -999.000,9
           NA,    P03W,    245,   2,-999.0,       8,  2,19850512,0717,  24.2667,  160.8400,  5127,  233.600,   16.486,   34.745,2,   34.747,2, -999.000,9,  205.600,2,    4.100,2,    5.540,2,    0.010,2, -999.000,5, -999.000,9, -999.000,9, -999.000,9, -999.000,9, -999.000,9
           NA,    P03W,    245,   2,-999.0,       9,  2,19850512,0717,  24.2667,  160.8400,  5127,  284.100,   15.447,   34.687,2,   34.687,2, -999.000,9,  208.100,2,    6.260,2,    7.270,2,    0.010,2, -999.000,5, -999.000,9, -999.000,9, -999.000,9, -999.000,9, -999.000,9
           NA,    P03W,    245,   2,-999.0,      10,  2,19850512,0717,  24.2667,  160.8400,  5127,  334.400,   14.380,   34.585,2,   34.586,2, -999.000,9,  203.700,2,    8.410,2,    9.010,2,    0.010,2, -999.000,5, -999.000,9, -999.000,9, -999.000,9, -999.000,9, -999.000,9
           NA,    P03W,    245,   2,-999.0,      11,  2,19850512,0717,  24.2667,  160.8400,  5127,  384.900,   13.180,   34.484,2,   34.486,2, -999.000,9,  197.200,2,   13.290,2,   11.830,2,    0.000,2, -999.000,5, -999.000,9, -999.000,9, -999.000,9, -999.000,9, -999.000,9
           NA,    P03W,    245,   2,-999.0,      12,  2,19850512,0717,  24.2667,  160.8400,  5127,  445.300,   11.543,   34.350,2,   34.350,2, -999.000,9,  195.800,2,   18.670,2,   14.860,2,    0.000,2, -999.000,5, -999.000,9, -999.000,9, -999.000,9, -999.000,9, -999.000,9
           NA,    P03W,    245,   2,-999.0,      13,  2,19850512,0717,  24.2667,  160.8400,  5127,  506.200,   10.173,   34.249,2,   34.246,2, -999.000,9,  187.500,2,   24.930,2,   17.990,2,    0.000,2, -999.000,5, -999.000,9, -999.000,9, -999.000,9, -999.000,9, -999.000,9
           NA,    P03W,    245,   2,-999.0,      14,  2,19850512,0717,  24.2667,  160.8400,  5127,  566.500,    8.110,   34.109,2,   34.109,2, -999.000,9,  167.100,2,   38.720,2,   23.660,2,    0.000,2, -999.000,5, -999.000,9, -999.000,9, -999.000,9, -999.000,9, -999.000,9
           NA,    P03W,    245,   2,-999.0,      15,  2,19850512,0717,  24.2667,  160.8400,  5127,  646.200,    6.396,   34.060,2,   34.061,2, -999.000,9,  128.300,2,   57.500,2,   30.510,2,    0.000,2, -999.000,5, -999.000,9, -999.000,9, -999.000,9, -999.000,9, -999.000,9
           NA,    P03W,    245,   2,-999.0,      16,  2,19850512,0717,  24.2667,  160.8400,  5127,  724.900,    5.141,   34.091,2,   34.092,2, -999.000,9,   89.600,2,   79.210,2,   36.380,2,    0.000,2, -999.000,5, -999.000,9, -999.000,9, -999.000,9, -999.000,9, -999.000,9
           NA,    P03W,    245,   2,-999.0,      17,  2,19850512,0717,  24.2667,  160.8400,  5127,  825.200,    4.427,   34.185,2,   34.182,2, -999.000,9,   58.300,2,   97.970,2,   40.380,2,    0.000,2, -999.000,5, -999.000,9, -999.000,9, -999.000,9, -999.000,9, -999.000,9
           NA,    P03W,    245,   2,-999.0,      18,  2,19850512,0717,  24.2667,  160.8400,  5127,  958.300,    3.695,   34.324,2,   34.323,2, -999.000,9,   39.100,2,  118.690,2,   43.210,2,    0.000,2,    2.950,2, -999.000,9, -999.000,9, -999.000,9, -999.000,9, -999.000,9
           NA,    P03W,    245,   2,-999.0,      39,  2,19850512,0717,  24.2667,  160.8400,  5127, 1131.700,    3.255,   34.438,2,   34.438,2, -999.000,9,   46.100,2,  129.920,2,   43.110,2,    0.000,2,    2.950,2, -999.000,9, -999.000,9, -999.000,9, -999.000,9, -999.000,9
           NA,    P03W,    245,   2,-999.0,      20,  2,19850512,0717,  24.2667,  160.8400,  5127, 1262.500,    2.921,   34.483,2,   34.483,2, -999.000,9,   50.900,2,  138.720,2,   43.310,2,    0.000,2, -999.000,5, -999.000,9, -999.000,9, -999.000,9, -999.000,9, -999.000,9
           NA,    P03W,    245,   2,-999.0,      21,  2,19850512,0717,  24.2667,  160.8400,  5127, 1414.200,    2.670,   34.527,2,   34.527,2, -999.000,9,   66.100,2,  141.640,2,   42.330,2,    0.000,2,    2.900,2, -999.000,9, -999.000,9, -999.000,9, -999.000,9, -999.000,9
           NA,    P03W,    245,   2,-999.0,      22,  2,19850512,0717,  24.2667,  160.8400,  5127, 1615.800,    2.377,   34.564,2,   34.564,2, -999.000,9,   82.600,2,  145.160,2,   41.350,2,    0.000,2,    2.820,2, -999.000,9, -999.000,9, -999.000,9, -999.000,9, -999.000,9
           NA,    P03W,    245,   2,-999.0,      23,  2,19850512,0717,  24.2667,  160.8400,  5127, 1818.400,    2.128,   34.595,2,   34.595,2, -999.000,9,   94.300,2,  147.600,2,   40.470,2,    0.000,2, -999.000,5, -999.000,9, -999.000,9, -999.000,9, -999.000,9, -999.000,9
           NA,    P03W,    245,   2,-999.0,      24,  2,19850512,0717,  24.2667,  160.8400,  5127, 2020.300,    1.926,   34.616,2,   34.615,2, -999.000,9,  103.900,2,  149.940,2,   40.170,2,    0.000,2, -999.000,5, -999.000,9, -999.000,9, -999.000,9, -999.000,9, -999.000,9
           NA,    P03W,    245,   2,-999.0,      25,  2,19850512,0717,  24.2667,  160.8400,  5127, 2223.400,    1.796,   34.632,2,   34.632,2, -999.000,9,  112.500,2,  150.820,2,   39.590,2,    0.000,2,    2.700,2, -999.000,9, -999.000,9, -999.000,9, -999.000,9, -999.000,9
           NA,    P03W,    245,   2,-999.0,      26,  2,19850512,0717,  24.2667,  160.8400,  5127, 2425.900,    1.715,   34.643,2,   34.642,2, -999.000,9,  119.100,2,  151.410,2,   39.100,2,    0.000,2,    2.670,2, -999.000,9, -999.000,9, -999.000,9, -999.000,9, -999.000,9
           NA,    P03W,    245,   2,-999.0,      27,  2,19850512,0717,  24.2667,  160.8400,  5127, 2628.000,    1.659,   34.651,2,   34.649,2, -999.000,9,  124.700,2,  151.310,2,   38.800,2,    0.000,2, -999.000,5, -999.000,9, -999.000,9, -999.000,9, -999.000,9, -999.000,9
           NA,    P03W,    245,   2,-999.0,      28,  2,19850512,0717,  24.2667,  160.8400,  5127, 2831.400,    1.611,   34.658,2,   34.657,2, -999.000,9,  129.900,2,  151.010,2,   38.510,2,    0.000,2,    2.610,2, -999.000,9, -999.000,9, -999.000,9, -999.000,9, -999.000,9
           NA,    P03W,    245,   2,-999.0,      29,  2,19850512,0717,  24.2667,  160.8400,  5127, 3034.300,    1.570,   34.662,2,   34.663,2, -999.000,9,  135.600,2,  150.920,2,   38.120,2,    0.000,2, -999.000,5, -999.000,9, -999.000,9, -999.000,9, -999.000,9, -999.000,9
           NA,    P03W,    245,   2,-999.0,      30,  2,19850512,0717,  24.2667,  160.8400,  5127, 3338.700,    1.518,   34.669,2,   34.669,2, -999.000,9,  141.200,2,  149.640,2,   37.730,2,    0.000,2, -999.000,5, -999.000,9, -999.000,9, -999.000,9, -999.000,9, -999.000,9
           NA,    P03W,    245,   2,-999.0,      31,  2,19850512,0717,  24.2667,  160.8400,  5127, 3640.800,    1.491,   34.675,2,   34.674,2, -999.000,9,  149.000,2,  149.250,2,   37.140,2,    0.000,2,    2.520,2, -999.000,9, -999.000,9, -999.000,9, -999.000,9, -999.000,9
           NA,    P03W,    245,   2,-999.0,      32,  2,19850512,0717,  24.2667,  160.8400,  5127, 3946.700,    1.460,   34.681,2,   34.679,2, -999.000,9,  154.300,2,  146.420,2,   36.650,2,    0.000,2,    2.480,2, -999.000,9, -999.000,9, -999.000,9, -999.000,9, -999.000,9
           NA,    P03W,    245,   2,-999.0,      33,  2,19850512,0717,  24.2667,  160.8400,  5127, 4253.400,    1.455,   34.685,2,   34.687,2, -999.000,9,  159.000,2,  144.760,2,   36.360,2,    0.000,2,    2.480,2, -999.000,9, -999.000,9, -999.000,9, -999.000,9, -999.000,9
           NA,    P03W,    245,   2,-999.0,      34,  2,19850512,0717,  24.2667,  160.8400,  5127, 4558.300,    1.452,   34.688,2,   34.688,2, -999.000,9,  164.700,2,  141.920,2,   36.070,2,    0.000,2,    2.440,2, -999.000,9, -999.000,9, -999.000,9, -999.000,9, -999.000,9
           NA,    P03W,    245,   2,-999.0,      35,  2,19850512,0717,  24.2667,  160.8400,  5127, 4864.600,    1.463,   34.689,2,   34.689,2, -999.000,9,  167.700,2,  139.280,2,   35.870,2,    0.000,2, -999.000,5, -999.000,9, -999.000,9, -999.000,9, -999.000,9, -999.000,9
           NA,    P03W,    245,   2,-999.0,      36,  2,19850512,0717,  24.2667,  160.8400,  5127, 5200.100,    1.490,   34.690,2,   34.690,2, -999.000,9,  169.900,2,  137.820,2,   35.580,2,    0.000,2, -999.000,5, -999.000,9, -999.000,9, -999.000,9, -999.000,9, -999.000,9
           NA,    P03W,    243,   2,-999.0,       1,  2,19850512,0028,  24.2533,  161.6000,  2861,    0.000,   25.375,   35.053,2,   35.055,2, -999.000,9,  210.400,2,    1.170,2,    0.100,2,    0.000,2, -999.000,5, -999.000,9, -999.000,9, -999.000,9, -999.000,9, -999.000,9
           NA,    P03W,    243,   2,-999.0,       2,  2,19850512,0028,  24.2533,  161.6000,  2861,   20.200,   25.045,   35.071,2,   35.073,2, -999.000,9,  209.900,2,    1.070,2,    0.100,2,    0.000,2, -999.000,5, -999.000,9, -999.000,9, -999.000,9, -999.000,9, -999.000,9
           NA,    P03W,    243,   2,-999.0,       3,  2,19850512,0028,  24.2533,  161.6000,  2861,   40.200,   24.273,   35.167,2,   35.169,2, -999.000,9,  213.800,2,    1.070,2,    0.100,2,    0.000,2, -999.000,5, -999.000,9, -999.000,9, -999.000,9, -999.000,9, -999.000,9
           NA,    P03W,    243,   2,-999.0,       4,  2,19850512,0028,  24.2533,  161.6000,  2861,   71.100,   23.266,   35.161,2,   35.164,2, -999.000,9,  219.400,2,    1.270,2,    0.100,2,    0.000,2, -999.000,5, -999.000,9, -999.000,9, -999.000,9, -999.000,9, -999.000,9
           NA,    P03W,    243,   2,-999.0,       5,  2,19850512,0028,  24.2533,  161.6000,  2861,  101.200,   20.984,   34.974,2,   34.975,2, -999.000,9,  214.900,2,    1.470,2,    0.100,2,    0.000,2, -999.000,5, -999.000,9, -999.000,9, -999.000,9, -999.000,9, -999.000,9
           NA,    P03W,    243,   2,-999.0,       6,  2,19850512,0028,  24.2533,  161.6000,  2861,  141.700,   19.627,   34.921,2,   34.919,2, -999.000,9,  209.600,2,    1.760,2,    0.990,2,    0.070,2, -999.000,5, -999.000,9, -999.000,9, -999.000,9, -999.000,9, -999.000,9
           NA,    P03W,    243,   2,-999.0,       7,  2,19850512,0028,  24.2533,  161.6000,  2861,  181.900,   17.987,   34.843,2,   34.835,2, -999.000,9,  201.300,2,    2.930,2,    3.440,2,    0.010,2, -999.000,5, -999.000,9, -999.000,9, -999.000,9, -999.000,9, -999.000,9
           NA,    P03W,    243,   2,-999.0,       8,  2,19850512,0028,  24.2533,  161.6000,  2861,  231.700,   16.446,   34.755,2,   34.753,2, -999.000,9,  207.300,2,    4.500,2,    5.600,2,    0.000,2, -999.000,5, -999.000,9, -999.000,9, -999.000,9, -999.000,9, -999.000,9
           NA,    P03W,    243,   2,-999.0,       9,  2,19850512,0028,  24.2533,  161.6000,  2861,  282.100,   15.593,   34.687,2,   34.683,2, -999.000,9,  206.400,2,    5.860,2,    6.900,2,    0.000,2, -999.000,5, -999.000,9, -999.000,9, -999.000,9, -999.000,9, -999.000,9
           NA,    P03W,    243,   2,-999.0,      10,  2,19850512,0028,  24.2533,  161.6000,  2861,  332.800,   14.301,   34.565,2,   34.564,2, -999.000,9,  202.400,2,    9.090,2,    9.220,2,    0.000,2, -999.000,5, -999.000,9, -999.000,9, -999.000,9, -999.000,9, -999.000,9
           NA,    P03W,    243,   2,-999.0,      11,  2,19850512,0028,  24.2533,  161.6000,  2861,  383.400,   12.940,   34.451,2,   34.439,2, -999.000,9,  200.200,2,   13.300,2,   11.830,2,    0.000,2, -999.000,5,    1.545,2,    0.764,2, -999.000,9, -999.000,9, -999.000,9
           NA,    P03W,    243,   2,-999.0,      12,  2,19850512,0028,  24.2533,  161.6000,  2861,  443.600,   11.303,   34.325,2,   34.325,2, -999.000,9,  194.500,2,   19.060,2,   14.960,2,    0.000,2, -999.000,5,    1.375,6,    0.669,6, -999.000,9, -999.000,9, -999.000,9
           NA,    P03W,    243,   2,-999.0,      13,  2,19850512,0028,  24.2533,  161.6000,  2861,  504.200,   10.148,   34.244,2,   34.240,2, -999.000,9,  188.400,2,   25.420,2,   17.990,2,    0.000,2, -999.000,5,    1.273,2,    0.620,2, -999.000,9, -999.000,9, -999.000,9
           NA,    P03W,    243,   2,-999.0,      14,  2,19850512,0028,  24.2533,  161.6000,  2861,  564.800,    8.172,   34.109,2,   34.107,2, -999.000,9,  171.800,2,   37.840,2,   23.080,2,    0.000,2, -999.000,5,    1.132,2,    0.550,2, -999.000,9, -999.000,9, -999.000,9
           NA,    P03W,    243,   2,-999.0,      15,  2,19850512,0028,  24.2533,  161.6000,  2861,  645.400,    6.275,   34.056,2,   34.055,2, -999.000,9,  128.300,2,   58.770,2,   30.510,2,    0.000,2, -999.000,5,    0.611,2,    0.308,2, -999.000,9, -999.000,9, -999.000,9
           NA,    P03W,    243,   2,-999.0,      16,  2,19850512,0028,  24.2533,  161.6000,  2861,  725.700,    5.476,   34.131,2,   34.131,2, -999.000,9,   79.100,2,   77.150,2,   36.570,2,    0.000,2, -999.000,5,    0.171,2, -999.000,9, -999.000,9, -999.000,9, -999.000,9
           NA,    P03W,    243,   2,-999.0,      17,  2,19850512,0028,  24.2533,  161.6000,  2861,  806.100,    4.915,   34.211,2,   34.212,2, -999.000,9,   55.700,2,   90.440,2,   39.700,2,    0.000,2, -999.000,5,    0.047,2,    0.026,6, -999.000,9, -999.000,9, -999.000,9
           NA,    P03W,    243,   2,-999.0,      18,  2,19850512,0028,  24.2533,  161.6000,  2861,  906.100,    4.403,   34.312,2,   34.312,2, -999.000,9,   45.200,2,  102.750,2,   41.550,2,    0.000,2, -999.000,5,    0.007,2,   -0.002,2, -999.000,9, -999.000,9, -999.000,9
           NA,    P03W,    243,   2,-999.0,      39,  2,19850512,0028,  24.2533,  161.6000,  2861, 1059.000,    3.808,   34.433,2,   34.433,2, -999.000,9,   51.300,2,  115.450,2,   41.940,2,    0.000,2, -999.000,5,    0.001,2,   -0.002,2, -999.000,9, -999.000,9, -999.000,9
           NA,    P03W,    243,   2,-999.0,      20,  2,19850512,0028,  24.2533,  161.6000,  2861, 1211.000,    3.404,   34.487,2,   34.487,2, -999.000,9,   62.200,2,  124.440,2,   41.840,2,    0.000,2, -999.000,5, -999.000,9, -999.000,9, -999.000,9, -999.000,9, -999.000,9
           NA,    P03W,    243,   2,-999.0,      21,  2,19850512,0028,  24.2533,  161.6000,  2861, 1412.600,    2.860,   34.530,2,   34.531,2, -999.000,9,   71.700,2,  135.880,2,   41.450,2,    0.000,2, -999.000,5,    0.003,2,    0.010,2, -999.000,9, -999.000,9, -999.000,9
           NA,    P03W,    243,   2,-999.0,      22,  2,19850512,0028,  24.2533,  161.6000,  2861, 1614.300,    2.546,   34.560,2,   34.561,2, -999.000,9,   80.400,2,  141.540,2,   41.060,2,    0.000,2, -999.000,5, -999.000,9, -999.000,9, -999.000,9, -999.000,9, -999.000,9
           NA,    P03W,    243,   2,-999.0,      23,  2,19850512,0028,  24.2533,  161.6000,  2861, 1816.500,    2.286,   34.584,2,   34.584,2, -999.000,9,   88.200,2,  146.040,2,   40.570,2,    0.000,2, -999.000,5,   -0.005,2,   -0.002,2, -999.000,9, -999.000,9, -999.000,9
           NA,    P03W,    243,   2,-999.0,      24,  2,19850512,0028,  24.2533,  161.6000,  2861, 2018.800,    2.053,   34.607,2,   34.608,2, -999.000,9,   98.200,2,  149.750,2,   40.170,2,    0.000,2, -999.000,5, -999.000,9, -999.000,9, -999.000,9, -999.000,9, -999.000,9
           NA,    P03W,    243,   2,-999.0,      33,  2,19850512,0028,  24.2533,  161.6000,  2861, 2221.500,    1.905,   34.624,2, -999.000,5, -999.000,9,  109.900,2,  151.020,2,   39.590,2,    0.000,2, -999.000,5, -999.000,9, -999.000,9, -999.000,9, -999.000,9, -999.000,9
           NA,    P03W,    243,   2,-999.0,      34,  2,19850512,0028,  24.2533,  161.6000,  2861, 2423.900,    1.779,   34.638,2,   34.639,2, -999.000,9,  116.000,2,  152.090,2,   39.100,2,    0.000,2, -999.000,5, -999.000,9, -999.000,9, -999.000,9, -999.000,9, -999.000,9
           NA,    P03W,    243,   2,-999.0,      35,  2,19850512,0028,  24.2533,  161.6000,  2861, 2626.900,    1.690,   34.650,2,   34.650,2, -999.000,9,  123.400,2,  152.190,2,   38.610,2,    0.000,2, -999.000,5, -999.000,9, -999.000,9, -999.000,9, -999.000,9, -999.000,9
           NA,    P03W,    243,   2,-999.0,      36,  2,19850512,0028,  24.2533,  161.6000,  2861, 2885.100,    1.597,   34.658,2,   34.659,2, -999.000,9,  131.200,2,  152.190,2,   38.020,2,    0.000,2, -999.000,5,    0.009,2, -999.000,9, -999.000,9, -999.000,9, -999.000,9