BOTTLE,20203103JOAExport
EXPOCODE,SECT_ID,STNNBR,CASTNO,SAMPNO,BTLNBR,BTLNBR_FLAG_W,DATE,TIME,LATITUDE,LONGITUDE,DEPTH,CTDPRS,CTDTMP,CTDSAL,CTDSAL_FLAG_W,SALNTY,SALNTY_FLAG_W,CTDOXY,CTDOXY_FLAG_W,OXYGEN,OXYGEN_FLAG_W,SILCAT,SILCAT_FLAG_W,NITRAT,NITRAT_FLAG_W,NITRIT,NITRIT_FLAG_W,PHSPHT,PHSPHT_FLAG_W,CFC-11,CFC-11_FLAG_W,CFC-12,CFC-12_FLAG_W,SF6,SF6_FLAG_W,TCARBN,TCARBN_FLAG_W,ALKALI,ALKALI_FLAG_W
,,,,,,,,,,,,,DB,ITS-90,PSS-78,,PSS-78,,UMOL/KG,,UMOL/KG,,UMOL/KG,,UMOL/KG,,UMOL/KG,,UMOL/KG,,PMOL/KG,,PMOL/KG,,FMOL/KG,,UMOL/KG,,UMOL/KG
           NA,    P03E,     71,   1,-999.0,       1,  2,19850410,1135,  24.2433, -139.6233,  4766,    0.800,   21.097,   34.921,2,   34.922,2, -999.000,9,  224.900,2,    1.370,2,    0.100,2,    0.000,2,    0.080,2, -999.000,9, -999.000,9, -999.000,9, -999.000,9, -999.000,9
           NA,    P03E,     71,   1,-999.0,       2,  2,19850410,1135,  24.2433, -139.6233,  4766,   14.700,   21.103,   34.922,2,   34.924,2, -999.000,9,  225.800,2,    1.370,2,    0.100,2,    0.000,2,    0.080,2, -999.000,9, -999.000,9, -999.000,9, -999.000,9, -999.000,9
           NA,    P03E,     71,   1,-999.0,       3,  2,19850410,1135,  24.2433, -139.6233,  4766,   33.500,   20.700,   35.098,2,   35.092,2, -999.000,9,  227.900,2,    1.270,2,    0.100,2,    0.000,2,    0.050,2, -999.000,9, -999.000,9, -999.000,9, -999.000,9, -999.000,9
           NA,    P03E,     71,   1,-999.0,       4,  2,19850410,1135,  24.2433, -139.6233,  4766,   53.000,   20.489,   35.370,2,   35.371,2, -999.000,9,  224.400,2,    1.270,2,    0.100,2,    0.000,2,    0.030,2, -999.000,9, -999.000,9, -999.000,9, -999.000,9, -999.000,9
           NA,    P03E,     71,   1,-999.0,       5,  2,19850410,1135,  24.2433, -139.6233,  4766,   73.300,   20.126,   35.419,2,   35.411,2, -999.000,9,  226.100,2,    1.170,2,    0.100,2,    0.010,2,    0.020,2, -999.000,9, -999.000,9, -999.000,9, -999.000,9, -999.000,9
           NA,    P03E,     71,   1,-999.0,       6,  2,19850410,1135,  24.2433, -139.6233,  4766,   92.800,   20.102,   35.438,2,   35.439,2, -999.000,9,  227.000,2,    1.170,2,    0.100,2,    0.000,2,    0.000,2, -999.000,9, -999.000,9, -999.000,9, -999.000,9, -999.000,9
           NA,    P03E,     71,   1,-999.0,       7,  2,19850410,1135,  24.2433, -139.6233,  4766,  123.100,   20.054,   35.449,2,   35.443,2, -999.000,9,  225.200,2,    1.170,2,    0.070,2,    0.030,2,    0.000,2, -999.000,9, -999.000,9, -999.000,9, -999.000,9, -999.000,9
           NA,    P03E,     71,   1,-999.0,       8,  2,19850410,1135,  24.2433, -139.6233,  4766,  154.000,   18.588,   35.089,2,   35.071,2, -999.000,9,  212.600,2,    1.660,2,    1.150,2,    0.070,2,    0.100,2, -999.000,9, -999.000,9, -999.000,9, -999.000,9, -999.000,9
           NA,    P03E,     71,   1,-999.0,       9,  2,19850410,1135,  24.2433, -139.6233,  4766,  194.700,   15.249,   34.505,2,   34.492,2, -999.000,9,  209.000,2,    4.590,2,    4.270,2,    0.020,2,    0.330,2, -999.000,9, -999.000,9, -999.000,9, -999.000,9, -999.000,9
           NA,    P03E,     71,   1,-999.0,      10,  2,19850410,1135,  24.2433, -139.6233,  4766,  235.300,   13.299,   34.267,2,   34.252,2, -999.000,9,  215.500,2,    6.750,2,    6.820,2,    0.010,2,    0.490,2, -999.000,9, -999.000,9, -999.000,9, -999.000,9, -999.000,9
           NA,    P03E,     71,   1,-999.0,      11,  2,19850410,1135,  24.2433, -139.6233,  4766,  286.200,   10.997,   34.103,2,   34.106,2, -999.000,9,  209.800,2,   13.010,2,   12.320,2,    0.000,2,    0.800,2, -999.000,9, -999.000,9, -999.000,9, -999.000,9, -999.000,9
           NA,    P03E,     71,   1,-999.0,      12,  2,19850410,1135,  24.2433, -139.6233,  4766,  335.700,    9.822,   34.101,2,   34.099,2, -999.000,9,  197.600,2,   20.050,2,   17.010,2,    0.000,2,    1.080,2, -999.000,9, -999.000,9, -999.000,9, -999.000,9, -999.000,9
           NA,    P03E,     71,   1,-999.0,      13,  2,19850410,1135,  24.2433, -139.6233,  4766,  396.700,    8.141,   34.031,2,   34.031,2, -999.000,9,  160.500,2,   34.130,2,   24.250,2,    0.000,2,    1.550,2, -999.000,9, -999.000,9, -999.000,9, -999.000,9, -999.000,9
           NA,    P03E,     71,   1,-999.0,      14,  2,19850410,1135,  24.2433, -139.6233,  4766,  457.500,    6.763,   34.024,2,   34.023,2, -999.000,9,  119.600,2,   50.560,2,   31.100,2,    0.000,2,    1.990,2, -999.000,9, -999.000,9, -999.000,9, -999.000,9, -999.000,9
           NA,    P03E,     71,   1,-999.0,      15,  2,19850410,1135,  24.2433, -139.6233,  4766,  527.800,    5.856,   34.080,2,   34.079,2, -999.000,9,   61.800,2,   68.350,2,   38.230,2,    0.000,2,    2.510,2, -999.000,9, -999.000,9, -999.000,9, -999.000,9, -999.000,9
           NA,    P03E,     71,   1,-999.0,      16,  2,19850410,1135,  24.2433, -139.6233,  4766,  608.500,    5.034,   34.147,2,   34.146,2, -999.000,9,   35.700,2,   86.140,2,   42.140,2,    0.000,2,    2.770,2, -999.000,9, -999.000,9, -999.000,9, -999.000,9, -999.000,9
           NA,    P03E,     71,   1,-999.0,      17,  2,19850410,1135,  24.2433, -139.6233,  4766,  709.000,    4.648,   34.288,2,   34.287,2, -999.000,9,   18.700,2,   99.330,2,   44.490,2,    0.000,2,    2.930,2, -999.000,9, -999.000,9, -999.000,9, -999.000,9, -999.000,9
           NA,    P03E,     71,   1,-999.0,      18,  2,19850410,1135,  24.2433, -139.6233,  4766,  809.800,    4.440,   34.396,2,   34.394,2, -999.000,9,   25.200,2,  104.610,2,   44.780,2,    0.000,2,    2.960,2, -999.000,9, -999.000,9, -999.000,9, -999.000,9, -999.000,9
           NA,    P03E,     71,   1,-999.0,      19,  2,19850410,1135,  24.2433, -139.6233,  4766,  910.900,    4.179,   34.454,2,   34.455,2, -999.000,9,   33.900,2,  109.780,2,   44.580,2,    0.000,2,    2.920,2, -999.000,9, -999.000,9, -999.000,9, -999.000,9, -999.000,9
           NA,    P03E,     71,   1,-999.0,      20,  2,19850410,1135,  24.2433, -139.6233,  4766, 1011.700,    3.933,   34.489,2,   34.489,2, -999.000,9,   38.300,2,  114.370,2,   44.670,2,    0.000,2,    2.930,2, -999.000,9, -999.000,9, -999.000,9, -999.000,9, -999.000,9
           NA,    P03E,     71,   1,-999.0,      21,  2,19850410,1135,  24.2433, -139.6233,  4766, 1112.800,    3.692,   34.510,2,   34.511,2, -999.000,9,   42.600,2,  120.430,2,   44.580,2,    0.000,2,    2.940,2, -999.000,9, -999.000,9, -999.000,9, -999.000,9, -999.000,9
           NA,    P03E,     71,   1,-999.0,      22,  2,19850410,1135,  24.2433, -139.6233,  4766, 1264.000,    3.313,   34.540,2,   34.540,2, -999.000,9,   50.900,2,  128.250,2,   44.380,2,    0.000,2,    2.920,2, -999.000,9, -999.000,9, -999.000,9, -999.000,9, -999.000,9
           NA,    P03E,     71,   1,-999.0,      23,  2,19850410,1135,  24.2433, -139.6233,  4766, 1414.700,    3.000,   34.558,2,   34.558,2, -999.000,9,   57.400,2,  135.970,2,   44.090,2,    0.000,2,    2.890,2, -999.000,9, -999.000,9, -999.000,9, -999.000,9, -999.000,9
           NA,    P03E,     71,   1,-999.0,      24,  2,19850410,1135,  24.2433, -139.6233,  4766, 1616.500,    2.648,   34.582,2,   34.583,2, -999.000,9,   66.100,2,  144.860,2,   43.500,2,    0.000,2,    2.860,2, -999.000,9, -999.000,9, -999.000,9, -999.000,9, -999.000,9
           NA,    P03E,     71,   1,-999.0,      25,  2,19850410,1135,  24.2433, -139.6233,  4766, 1818.000,    2.337,   34.602,2,   34.602,2, -999.000,9,   76.900,2,  152.880,2,   42.910,2,    0.000,2,    2.810,2, -999.000,9, -999.000,9, -999.000,9, -999.000,9, -999.000,9
           NA,    P03E,     71,   1,-999.0,      26,  2,19850410,1135,  24.2433, -139.6233,  4766, 2019.700,    2.105,   34.618,2,   34.618,2, -999.000,9,   84.700,2,  158.740,2,   42.320,2,    0.000,2,    2.760,2, -999.000,9, -999.000,9, -999.000,9, -999.000,9, -999.000,9
           NA,    P03E,     71,   1,-999.0,      27,  2,19850410,1135,  24.2433, -139.6233,  4766, 2222.100,    1.925,   34.630,2,   34.631,2, -999.000,9,   92.600,2,  162.940,2,   41.740,2,    0.000,2,    2.730,2, -999.000,9, -999.000,9, -999.000,9, -999.000,9, -999.000,9
           NA,    P03E,     71,   1,-999.0,      28,  2,19850410,1135,  24.2433, -139.6233,  4766, 2527.100,    1.721,   34.647,2, -999.000,5, -999.000,9,  105.200,2,  168.120,2,   40.860,2,    0.000,2,    2.670,2, -999.000,9, -999.000,9, -999.000,9, -999.000,9, -999.000,9
           NA,    P03E,     71,   1,-999.0,      29,  2,19850410,1135,  24.2433, -139.6233,  4766, 2832.100,    1.579,   34.660,2,   34.661,2, -999.000,9,  119.100,2,  169.000,2,   39.880,2,    0.000,2,    2.590,2, -999.000,9, -999.000,9, -999.000,9, -999.000,9, -999.000,9
           NA,    P03E,     71,   1,-999.0,      30,  2,19850410,1135,  24.2433, -139.6233,  4766, 3138.700,    1.506,   34.669,2,   34.670,2, -999.000,9,  129.900,2,  166.260,2,   39.100,2,    0.000,2,    2.540,2, -999.000,9, -999.000,9, -999.000,9, -999.000,9, -999.000,9
           NA,    P03E,     71,   1,-999.0,      31,  2,19850410,1135,  24.2433, -139.6233,  4766, 3443.300,    1.476,   34.676,2,   34.675,2, -999.000,9,  137.700,2,  166.750,2,   39.100,2,    0.000,2,    2.550,2, -999.000,9, -999.000,9, -999.000,9, -999.000,9, -999.000,9
           NA,    P03E,     71,   1,-999.0,      32,  2,19850410,1135,  24.2433, -139.6233,  4766, 3750.200,    1.461,   34.682,2,   34.681,2, -999.000,9,  144.700,2, -999.000,5,   38.410,2,    0.000,2,    2.510,2, -999.000,9, -999.000,9, -999.000,9, -999.000,9, -999.000,9
           NA,    P03E,     71,   1,-999.0,      37,  2,19850410,1135,  24.2433, -139.6233,  4766, 4055.000,    1.467,   34.683,2,   34.683,2, -999.000,9,  149.900,2,  157.850,2,   37.730,2,    0.000,2,    2.450,2, -999.000,9, -999.000,9, -999.000,9, -999.000,9, -999.000,9
           NA,    P03E,     71,   1,-999.0,      34,  2,19850410,1135,  24.2433, -139.6233,  4766, 4359.500,    1.481,   34.685,2,   34.685,2, -999.000,9,  153.800,2,  155.900,2,   37.440,2,    0.000,2,    2.440,2, -999.000,9, -999.000,9, -999.000,9, -999.000,9, -999.000,9
           NA,    P03E,     71,   1,-999.0,      35,  2,19850410,1135,  24.2433, -139.6233,  4766, 4666.300,    1.462,   34.689,2,   34.688,2, -999.000,9,  161.200,2,  148.760,2,   36.750,2,    0.000,2,    2.380,2, -999.000,9, -999.000,9, -999.000,9, -999.000,9, -999.000,9
           NA,    P03E,     71,   1,-999.0,      36,  2,19850410,1135,  24.2433, -139.6233,  4766, 4877.200,    1.446,   34.692,2,   34.692,2, -999.000,9,  166.900,2,  143.580,2,   36.360,2,    0.000,2,    2.350,2, -999.000,9, -999.000,9, -999.000,9, -999.000,9, -999.000,9