BOTTLE,20203103JOAExport
EXPOCODE,SECT_ID,STNNBR,CASTNO,SAMPNO,BTLNBR,BTLNBR_FLAG_W,DATE,TIME,LATITUDE,LONGITUDE,DEPTH,CTDPRS,CTDTMP,CTDSAL,CTDSAL_FLAG_W,SALNTY,SALNTY_FLAG_W,CTDOXY,CTDOXY_FLAG_W,OXYGEN,OXYGEN_FLAG_W,SILCAT,SILCAT_FLAG_W,NITRAT,NITRAT_FLAG_W,NITRIT,NITRIT_FLAG_W,PHSPHT,PHSPHT_FLAG_W,CFC-11,CFC-11_FLAG_W,CFC-12,CFC-12_FLAG_W,SF6,SF6_FLAG_W,TCARBN,TCARBN_FLAG_W,ALKALI,ALKALI_FLAG_W
,,,,,,,,,,,,,DB,ITS-90,PSS-78,,PSS-78,,UMOL/KG,,UMOL/KG,,UMOL/KG,,UMOL/KG,,UMOL/KG,,UMOL/KG,,PMOL/KG,,PMOL/KG,,FMOL/KG,,UMOL/KG,,UMOL/KG
           NA,    P03W,    318,   1,-999.0,       4,  2,19850523,0145,  24.2450,  137.8033,  5113,    0.900,   26.562,   34.873,2,   34.881,2, -999.000,9,  207.600,2,    1.940,2,    0.310,2,    0.000,2,    0.000,2, -999.000,9, -999.000,9, -999.000,9, -999.000,9, -999.000,9
           NA,    P03W,    318,   1,-999.0,      38,  2,19850523,0145,  24.2450,  137.8033,  5113,   22.900,   25.482,   34.938,2,   34.941,2, -999.000,9,  213.400,2,    1.920,2,    0.310,2,    0.000,2,    0.000,2, -999.000,9, -999.000,9, -999.000,9, -999.000,9, -999.000,9
           NA,    P03W,    318,   1,-999.0,       3,  2,19850523,0145,  24.2450,  137.8033,  5113,   43.800,   23.886,   34.943,2,   34.942,2, -999.000,9,  220.600,2,    1.900,2,    0.310,2,    0.000,2,    0.000,2, -999.000,9, -999.000,9, -999.000,9, -999.000,9, -999.000,9
           NA,    P03W,    318,   1,-999.0,       1,  2,19850523,0145,  24.2450,  137.8033,  5113,   74.100,   21.643,   34.917,2,   34.915,2, -999.000,9,  222.200,2,    1.880,2,    0.310,2,    0.000,2,    0.000,2, -999.000,9, -999.000,9, -999.000,9, -999.000,9, -999.000,9
           NA,    P03W,    318,   1,-999.0,       5,  2,19850523,0145,  24.2450,  137.8033,  5113,  104.100,   20.040,   34.877,2,   34.878,2, -999.000,9,  207.800,2,    2.330,2,    0.730,2,    0.090,2,    0.080,2, -999.000,9, -999.000,9, -999.000,9, -999.000,9, -999.000,9
           NA,    P03W,    318,   1,-999.0,       6,  2,19850523,0145,  24.2450,  137.8033,  5113,  144.700,   18.656,   34.853,2,   34.854,2, -999.000,9,  198.500,2,    3.460,2,    3.690,2,    0.030,2,    0.240,2, -999.000,9, -999.000,9, -999.000,9, -999.000,9, -999.000,9
           NA,    P03W,    318,   1,-999.0,       7,  2,19850523,0145,  24.2450,  137.8033,  5113,  184.200,   17.606,   34.819,2,   34.820,2, -999.000,9,  195.900,2,    4.140,2,    5.060,2,    0.020,2,    0.330,2, -999.000,9, -999.000,9, -999.000,9, -999.000,9, -999.000,9
           NA,    P03W,    318,   1,-999.0,       8,  2,19850523,0145,  24.2450,  137.8033,  5113,  234.500,   16.457,   34.744,2,   34.742,2, -999.000,9,  195.900,2,    5.970,2,    6.650,2,    0.010,2,    0.430,2, -999.000,9, -999.000,9, -999.000,9, -999.000,9, -999.000,9
           NA,    P03W,    318,   1,-999.0,       9,  2,19850523,0145,  24.2450,  137.8033,  5113,  284.000,   15.619,   34.697,2,   34.697,2, -999.000,9,  201.600,2,    7.100,2,    7.770,2,    0.010,2,    0.490,2, -999.000,9, -999.000,9, -999.000,9, -999.000,9, -999.000,9
           NA,    P03W,    318,   1,-999.0,      10,  2,19850523,0145,  24.2450,  137.8033,  5113,  333.800,   14.754,   34.622,2,   34.622,2, -999.000,9,  194.600,2,   10.310,2,    9.700,2,    0.000,2,    0.610,2, -999.000,9, -999.000,9, -999.000,9, -999.000,9, -999.000,9
           NA,    P03W,    318,   1,-999.0,      11,  2,19850523,0145,  24.2450,  137.8033,  5113,  385.000,   13.610,   34.524,2,   34.520,2, -999.000,9,  190.100,2,   13.750,2,   12.090,2,    0.000,2,    0.770,2, -999.000,9, -999.000,9, -999.000,9, -999.000,9, -999.000,9
           NA,    P03W,    318,   1,-999.0,      12,  2,19850523,0145,  24.2450,  137.8033,  5113,  445.400,   11.785,   34.387,2,   34.386,2, -999.000,9,  180.600,2,   21.110,2,   16.000,2,    0.000,2,    1.030,2, -999.000,9, -999.000,9, -999.000,9, -999.000,9, -999.000,9
           NA,    P03W,    318,   1,-999.0,      13,  2,19850523,0145,  24.2450,  137.8033,  5113,  504.800,   10.170,   34.275,2,   34.272,2, -999.000,9,  170.500,2,   30.540,2,   19.750,2,    0.000,2,    1.310,2, -999.000,9, -999.000,9, -999.000,9, -999.000,9, -999.000,9
           NA,    P03W,    318,   1,-999.0,      14,  2,19850523,0145,  24.2450,  137.8033,  5113,  565.300,    8.547,   34.180,2,   34.180,2, -999.000,9,  155.500,2,   41.350,2,   24.010,2,    0.000,2,    1.620,2, -999.000,9, -999.000,9, -999.000,9, -999.000,9, -999.000,9
           NA,    P03W,    318,   1,-999.0,      15,  2,19850523,0145,  24.2450,  137.8033,  5113,  645.100,    6.852,   34.120,2,   34.122,2, -999.000,9,  129.500,2,   58.150,2,   29.340,2,    0.000,2,    2.010,2, -999.000,9, -999.000,9, -999.000,9, -999.000,9, -999.000,9
           NA,    P03W,    318,   1,-999.0,      16,  2,19850523,0145,  24.2450,  137.8033,  5113,  725.200,    5.429,   34.130,2,   34.129,2, -999.000,9,   93.300,2,   78.670,2,   35.200,2,    0.000,2,    2.420,2, -999.000,9, -999.000,9, -999.000,9, -999.000,9, -999.000,9
           NA,    P03W,    318,   1,-999.0,      17,  2,19850523,0145,  24.2450,  137.8033,  5113,  806.500,    4.643,   34.204,2,   34.202,2, -999.000,9,   68.000,2,   96.190,2,   38.490,2,    0.000,2,    2.670,2, -999.000,9, -999.000,9, -999.000,9, -999.000,9, -999.000,9
           NA,    P03W,    318,   1,-999.0,      18,  2,19850523,0145,  24.2450,  137.8033,  5113,  910.000,    4.109,   34.292,2,   34.290,2, -999.000,9,   57.500,2,  110.020,2,   40.340,2,    0.000,2,    2.780,2, -999.000,9, -999.000,9, -999.000,9, -999.000,9, -999.000,9
           NA,    P03W,    318,   1,-999.0,      23,  2,19850523,0145,  24.2450,  137.8033,  5113, 1060.500,    3.518,   34.392,2,   34.392,2, -999.000,9,   55.400,2,  123.870,2,   41.440,2,    0.000,2,    2.860,2, -999.000,9, -999.000,9, -999.000,9, -999.000,9, -999.000,9
           NA,    P03W,    318,   1,-999.0,      20,  2,19850523,0145,  24.2450,  137.8033,  5113, 1213.200,    3.102,   34.455,2,   34.455,2, -999.000,9,   62.200,2,  132.610,2,   41.380,2,    0.000,2,    2.850,2, -999.000,9, -999.000,9, -999.000,9, -999.000,9, -999.000,9
           NA,    P03W,    318,   1,-999.0,      21,  2,19850523,0145,  24.2450,  137.8033,  5113, 1415.400,    2.629,   34.517,2,   34.516,2, -999.000,9,   75.700,2,  140.900,2,   40.900,2,    0.000,2,    2.790,2, -999.000,9, -999.000,9, -999.000,9, -999.000,9, -999.000,9
           NA,    P03W,    318,   1,-999.0,      22,  2,19850523,0145,  24.2450,  137.8033,  5113, 1616.000,    2.370,   34.560,2,   34.559,2, -999.000,9,   92.000,2,  144.530,2,   40.020,2,    0.000,2,    2.720,2, -999.000,9, -999.000,9, -999.000,9, -999.000,9, -999.000,9
           NA,    P03W,    318,   1,-999.0,      39,  2,19850523,0145,  24.2450,  137.8033,  5113, 1818.400,    2.172,   34.591,2,   34.591,2, -999.000,9,  105.100,2,  145.060,2,   39.040,2,    0.000,2,    2.670,2, -999.000,9, -999.000,9, -999.000,9, -999.000,9, -999.000,9
           NA,    P03W,    318,   1,-999.0,      24,  2,19850523,0145,  24.2450,  137.8033,  5113, 2022.100,    1.998,   34.615,2,   34.616,2, -999.000,9,  116.400,2,  144.050,2,   38.420,2,    0.000,2,    2.620,2, -999.000,9, -999.000,9, -999.000,9, -999.000,9, -999.000,9
           NA,    P03W,    318,   1,-999.0,      40,  2,19850523,0145,  24.2450,  137.8033,  5113, 2223.800,    1.867,   34.631,2,   34.631,2, -999.000,9,  124.400,2,  144.730,2,   37.810,2,    0.000,2,    2.580,2, -999.000,9, -999.000,9, -999.000,9, -999.000,9, -999.000,9
           NA,    P03W,    318,   1,-999.0,      26,  2,19850523,0145,  24.2450,  137.8033,  5113, 2426.100,    1.783,   34.641,2,   34.640,2, -999.000,9,  128.700,2,  145.570,2,   37.690,2,    0.000,2,    2.550,2, -999.000,9, -999.000,9, -999.000,9, -999.000,9, -999.000,9
           NA,    P03W,    318,   1,-999.0,      27,  2,19850523,0145,  24.2450,  137.8033,  5113, 2627.800,    1.725,   34.649,2,   34.648,2, -999.000,9,  134.200,2,  146.180,2,   37.530,2,    0.000,2,    2.540,2, -999.000,9, -999.000,9, -999.000,9, -999.000,9, -999.000,9
           NA,    P03W,    318,   1,-999.0,      28,  2,19850523,0145,  24.2450,  137.8033,  5113, 2831.200,    1.674,   34.655,2,   34.654,2, -999.000,9,  138.300,2,  145.160,2,   37.010,2,    0.000,2,    2.510,2, -999.000,9, -999.000,9, -999.000,9, -999.000,9, -999.000,9
           NA,    P03W,    318,   1,-999.0,      29,  2,19850523,0145,  24.2450,  137.8033,  5113, 3135.000,    1.623,   34.662,2,   34.662,2, -999.000,9,  142.600,2,  145.070,2,   37.000,2,    0.000,2,    2.490,2, -999.000,9, -999.000,9, -999.000,9, -999.000,9, -999.000,9
           NA,    P03W,    318,   1,-999.0,      30,  2,19850523,0145,  24.2450,  137.8033,  5113, 3442.100,    1.582,   34.669,2,   34.667,2, -999.000,9,  147.600,2,  144.980,2,   36.580,2,    0.000,2,    2.450,2, -999.000,9, -999.000,9, -999.000,9, -999.000,9, -999.000,9
           NA,    P03W,    318,   1,-999.0,      31,  2,19850523,0145,  24.2450,  137.8033,  5113, 3748.500,    1.546,   34.675,2,   34.675,2, -999.000,9,  152.900,2,  143.730,2,   36.170,2,    0.000,2,    2.450,2, -999.000,9, -999.000,9, -999.000,9, -999.000,9, -999.000,9
           NA,    P03W,    318,   1,-999.0,      32,  2,19850523,0145,  24.2450,  137.8033,  5113, 4055.000,    1.536,   34.679,2,   34.678,2, -999.000,9,  156.300,2,  142.950,2,   36.010,2,    0.000,2,    2.430,2, -999.000,9, -999.000,9, -999.000,9, -999.000,9, -999.000,9
           NA,    P03W,    318,   1,-999.0,      33,  2,19850523,0145,  24.2450,  137.8033,  5113, 4361.400,    1.551,   34.680,2,   34.679,2, -999.000,9,  157.900,2,  141.930,2,   35.990,2,    0.000,2,    2.430,2, -999.000,9, -999.000,9, -999.000,9, -999.000,9, -999.000,9
           NA,    P03W,    318,   1,-999.0,      34,  2,19850523,0145,  24.2450,  137.8033,  5113, 4669.400,    1.577,   34.681,2,   34.680,2, -999.000,9,  158.900,2,  141.610,2,   35.830,2,    0.000,2,    2.420,2, -999.000,9, -999.000,9, -999.000,9, -999.000,9, -999.000,9
           NA,    P03W,    318,   1,-999.0,      35,  2,19850523,0145,  24.2450,  137.8033,  5113, 4977.500,    1.609,   34.681,2,   34.681,2, -999.000,9,  159.600,2,  142.450,2,   35.870,2,    0.000,2,    2.430,2, -999.000,9, -999.000,9, -999.000,9, -999.000,9, -999.000,9
           NA,    P03W,    318,   1,-999.0,      37,  2,19850523,0145,  24.2450,  137.8033,  5113, 5192.700,    1.635,   34.682,2,   34.683,2, -999.000,9,  162.800,2,  143.060,2,   35.600,2,    0.000,2,    2.430,2, -999.000,9, -999.000,9, -999.000,9, -999.000,9, -999.000,9