BOTTLE,20203103JOAExport
EXPOCODE,SECT_ID,STNNBR,CASTNO,SAMPNO,BTLNBR,BTLNBR_FLAG_W,DATE,TIME,LATITUDE,LONGITUDE,DEPTH,CTDPRS,CTDTMP,CTDSAL,CTDSAL_FLAG_W,SALNTY,SALNTY_FLAG_W,CTDOXY,CTDOXY_FLAG_W,OXYGEN,OXYGEN_FLAG_W,SILCAT,SILCAT_FLAG_W,NITRAT,NITRAT_FLAG_W,NITRIT,NITRIT_FLAG_W,PHSPHT,PHSPHT_FLAG_W,CFC-11,CFC-11_FLAG_W,CFC-12,CFC-12_FLAG_W,SF6,SF6_FLAG_W,TCARBN,TCARBN_FLAG_W,ALKALI,ALKALI_FLAG_W
,,,,,,,,,,,,,DB,ITS-90,PSS-78,,PSS-78,,UMOL/KG,,UMOL/KG,,UMOL/KG,,UMOL/KG,,UMOL/KG,,UMOL/KG,,PMOL/KG,,PMOL/KG,,FMOL/KG,,UMOL/KG,,UMOL/KG
           NA,    P03E,    163,   1,-999.0,       1,  2,19850424,1049,  23.6233, -167.6200,  4954,    0.000,   23.673,   35.284,2,   35.286,2, -999.000,9,  215.800,2,    1.090,2,    0.040,2,    0.000,2,    0.120,2,    1.582,2,    0.808,2, -999.000,9, -999.000,9, -999.000,9
           NA,    P03E,    163,   1,-999.0,       2,  2,19850424,1049,  23.6233, -167.6200,  4954,   23.800,   23.128,   35.332,2,   35.346,2, -999.000,9,  219.500,2,    1.000,2,    0.040,2,    0.000,2,    0.110,2, -999.000,9, -999.000,9, -999.000,9, -999.000,9, -999.000,9
           NA,    P03E,    163,   1,-999.0,       3,  2,19850424,1049,  23.6233, -167.6200,  4954,   43.800,   22.611,   35.340,2,   35.339,2, -999.000,9,  220.900,2,    0.910,2,    0.040,2,    0.000,2,    0.110,2,    1.677,2,    0.856,2, -999.000,9, -999.000,9, -999.000,9
           NA,    P03E,    163,   1,-999.0,       4,  2,19850424,1049,  23.6233, -167.6200,  4954,   73.900,   22.149,   35.327,2,   35.330,2, -999.000,9,  220.900,2,    0.820,2,    0.040,2,    0.000,2,    0.110,2, -999.000,9, -999.000,9, -999.000,9, -999.000,9, -999.000,9
           NA,    P03E,    163,   1,-999.0,       5,  2,19850424,1049,  23.6233, -167.6200,  4954,  104.200,   21.176,   35.216,2,   35.240,2, -999.000,9,  220.100,2,    1.330,2,    0.040,2,    0.000,2,    0.140,2,    1.717,2,    0.871,2, -999.000,9, -999.000,9, -999.000,9
           NA,    P03E,    163,   1,-999.0,       6,  2,19850424,1049,  23.6233, -167.6200,  4954,  144.500,   18.955,   35.047,2,   35.045,2, -999.000,9,  213.500,2,    2.050,2,    1.380,2,    0.120,2,    0.240,2, -999.000,9, -999.000,9, -999.000,9, -999.000,9, -999.000,9
           NA,    P03E,    163,   1,-999.0,       7,  2,19850424,1049,  23.6233, -167.6200,  4954,  184.600,   17.219,   34.864,2,   34.866,2, -999.000,9,  216.900,2,    3.160,2,    2.890,2,    0.010,2,    0.330,2,    1.889,2,    0.932,2, -999.000,9, -999.000,9, -999.000,9
           NA,    P03E,    163,   1,-999.0,       8,  2,19850424,1049,  23.6233, -167.6200,  4954,  225.000,   16.044,   34.707,2,   34.706,2, -999.000,9,  208.100,2,    4.480,2,    5.080,2,    0.010,2,    0.480,2,    1.881,2,    0.914,2, -999.000,9, -999.000,9, -999.000,9
           NA,    P03E,    163,   1,-999.0,       9,  2,19850424,1049,  23.6233, -167.6200,  4954,  264.700,   14.572,   34.560,2,   34.555,2, -999.000,9,  212.900,2,    7.010,2,    7.180,2,    0.000,2,    0.630,2,    1.946,2,    0.961,2, -999.000,9, -999.000,9, -999.000,9
           NA,    P03E,    163,   1,-999.0,      10,  2,19850424,1049,  23.6233, -167.6200,  4954,  305.300,   13.266,   34.442,2,   34.443,2, -999.000,9,  211.800,2,    9.530,2,    9.580,2,    0.000,2,    0.790,2,    1.845,2,    0.902,2, -999.000,9, -999.000,9, -999.000,9
           NA,    P03E,    163,   1,-999.0,      11,  2,19850424,1049,  23.6233, -167.6200,  4954,  355.500,   11.829,   34.337,2,   34.334,2, -999.000,9,  208.300,2,   13.870,2,   12.660,2,    0.000,2,    0.970,2,    1.683,2,    0.815,2, -999.000,9, -999.000,9, -999.000,9
           NA,    P03E,    163,   1,-999.0,      12,  2,19850424,1049,  23.6233, -167.6200,  4954,  406.500,   10.809,   34.252,2,   34.252,2, -999.000,9,  198.500,2,   18.200,2,   15.270,2,    0.000,2,    1.160,2,    1.468,2,    0.720,2, -999.000,9, -999.000,9, -999.000,9
           NA,    P03E,    163,   1,-999.0,      13,  2,19850424,1049,  23.6233, -167.6200,  4954,  457.300,    9.633,   34.171,2,   34.173,2, -999.000,9,  183.400,2,   25.350,2,   19.170,2,    0.000,2,    1.430,2,    1.139,2,    0.558,2, -999.000,9, -999.000,9, -999.000,9
           NA,    P03E,    163,   1,-999.0,      14,  2,19850424,1049,  23.6233, -167.6200,  4954,  517.700,    8.035,   34.106,2,   34.106,2, -999.000,9,  149.900,2,   39.330,2,   25.220,2,    0.000,2,    1.850,2,    0.672,2,    0.338,2, -999.000,9, -999.000,9, -999.000,9
           NA,    P03E,    163,   1,-999.0,      15,  2,19850424,1049,  23.6233, -167.6200,  4954,  588.200,    6.959,   34.093,2,   34.096,2, -999.000,9,  120.500,2,   53.510,2,   30.080,2,    0.000,2,    2.200,2,    0.426,2,    0.217,2, -999.000,9, -999.000,9, -999.000,9
           NA,    P03E,    163,   1,-999.0,      16,  2,19850424,1049,  23.6233, -167.6200,  4954,  659.000,    5.751,   34.127,2,   34.131,2, -999.000,9,   77.400,2,   72.900,2,   36.210,2,    0.000,2,    2.650,2,    0.141,6,    0.071,2, -999.000,9, -999.000,9, -999.000,9
           NA,    P03E,    163,   1,-999.0,      38,  2,19850424,1049,  23.6233, -167.6200,  4954,  729.200,    5.144,   34.192,2,   34.192,2, -999.000,9,   56.400,2,   84.850,2,   39.080,2,    0.000,2,    2.870,2,    0.063,6,    0.031,6, -999.000,9, -999.000,9, -999.000,9
           NA,    P03E,    163,   1,-999.0,      18,  2,19850424,1049,  23.6233, -167.6200,  4954,  809.900,    4.626,   34.301,2,   34.302,2, -999.000,9,   41.500,2,   97.600,2,   41.240,2,    0.000,2,    3.010,2,    0.011,6,    0.000,6, -999.000,9, -999.000,9, -999.000,9
           NA,    P03E,    163,   1,-999.0,      19,  2,19850424,1049,  23.6233, -167.6200,  4954,  910.600,    4.307,   34.418,2,   34.418,2, -999.000,9,   45.200,2,  104.910,2,   41.810,2,    0.000,2,    3.050,2,    0.009,2,   -0.003,2, -999.000,9, -999.000,9, -999.000,9
           NA,    P03E,    163,   1,-999.0,      17,  2,19850424,1049,  23.6233, -167.6200,  4954, 1011.100,    4.038,   34.461,2,   34.460,2, -999.000,9,   49.900,2,  109.620,2,   41.750,2,    0.000,2,    3.060,2,    0.000,2,   -0.003,2, -999.000,9, -999.000,9, -999.000,9
           NA,    P03E,    163,   1,-999.0,      21,  2,19850424,1049,  23.6233, -167.6200,  4954, 1111.800,    3.713,   34.491,2,   34.491,2, -999.000,9,   55.000,2,  116.730,2,   41.750,2,    0.000,2,    3.050,2, -999.000,9, -999.000,9, -999.000,9, -999.000,9, -999.000,9
           NA,    P03E,    163,   1,-999.0,      39,  2,19850424,1049,  23.6233, -167.6200,  4954, 1263.200,    3.302,   34.516,2,   34.515,2, -999.000,9,   60.600,2,  126.460,2,   41.750,2,    0.000,2,    3.030,2,   -0.001,2,   -0.003,2, -999.000,9, -999.000,9, -999.000,9
           NA,    P03E,    163,   1,-999.0,      23,  2,19850424,1049,  23.6233, -167.6200,  4954, 1413.900,    2.931,   34.546,2,   34.546,2, -999.000,9,   68.800,2,  134.790,2,   41.580,2,    0.000,2,    3.000,2, -999.000,9, -999.000,9, -999.000,9, -999.000,9, -999.000,9
           NA,    P03E,    163,   1,-999.0,      24,  2,19850424,1049,  23.6233, -167.6200,  4954, 1614.700,    2.618,   34.563,2,   34.566,2, -999.000,9,   74.400,2,  142.110,2,   41.150,2,    0.000,2,    2.990,2, -999.000,9, -999.000,9, -999.000,9, -999.000,9, -999.000,9
           NA,    P03E,    163,   1,-999.0,      25,  2,19850424,1049,  23.6233, -167.6200,  4954, 1815.700,    2.342,   34.587,2,   34.588,2, -999.000,9,   82.400,2,  147.820,2,   41.100,2,    0.000,2,    2.940,2,    0.002,2,   -0.004,2, -999.000,9, -999.000,9, -999.000,9
           NA,    P03E,    163,   1,-999.0,      26,  2,19850424,1049,  23.6233, -167.6200,  4954, 2017.400,    2.139,   34.608,2,   34.608,2, -999.000,9,   91.600,2,  152.730,2,   40.300,2,    0.000,2,    2.890,2, -999.000,9, -999.000,9, -999.000,9, -999.000,9, -999.000,9
           NA,    P03E,    163,   1,-999.0,      27,  2,19850424,1049,  23.6233, -167.6200,  4954, 2220.100,    1.962,   34.623,2,   34.623,2, -999.000,9,  100.300,2,  155.420,2,   39.880,2,    0.000,2,    2.860,2, -999.000,9, -999.000,9, -999.000,9, -999.000,9, -999.000,9
           NA,    P03E,    163,   1,-999.0,      28,  2,19850424,1049,  23.6233, -167.6200,  4954, 2528.200,    1.755,   34.642,2,   34.641,2, -999.000,9,  112.000,2,  158.720,2,   39.030,2,    0.000,2,    2.790,2, -999.000,9, -999.000,9, -999.000,9, -999.000,9, -999.000,9
           NA,    P03E,    163,   1,-999.0,      29,  2,19850424,1049,  23.6233, -167.6200,  4954, 2832.100,    1.641,   34.654,2,   34.654,2, -999.000,9,  122.600,2,  157.790,2,   38.450,2,    0.000,2,    2.750,2, -999.000,9, -999.000,9, -999.000,9, -999.000,9, -999.000,9
           NA,    P03E,    163,   1,-999.0,      30,  2,19850424,1049,  23.6233, -167.6200,  4954, 3138.300,    1.560,   34.665,2,   34.664,2, -999.000,9,  133.000,2,  156.250,2,   37.870,2,    0.000,2,    2.710,2, -999.000,9,    0.012,2, -999.000,9, -999.000,9, -999.000,9
           NA,    P03E,    163,   1,-999.0,      31,  2,19850424,1049,  23.6233, -167.6200,  4954, 3444.600,    1.509,   34.672,2,   34.671,2, -999.000,9,  140.800,2,  152.300,2,   37.140,2,    0.000,2,    2.660,2, -999.000,9, -999.000,9, -999.000,9, -999.000,9, -999.000,9
           NA,    P03E,    163,   1,-999.0,      32,  2,19850424,1049,  23.6233, -167.6200,  4954, 3749.400,    1.482,   34.677,2,   34.675,2, -999.000,9,  147.200,2,  149.760,2,   36.510,2,    0.000,2,    2.610,2, -999.000,9, -999.000,9, -999.000,9, -999.000,9, -999.000,9
           NA,    P03E,    163,   1,-999.0,      37,  2,19850424,1049,  23.6233, -167.6200,  4954, 4055.600,    1.468,   34.681,2,   34.682,2, -999.000,9,  153.400,2,  145.610,2,   36.240,2,    0.000,2,    2.590,2, -999.000,9, -999.000,9, -999.000,9, -999.000,9, -999.000,9
           NA,    P03E,    163,   1,-999.0,      34,  2,19850424,1049,  23.6233, -167.6200,  4954, 4358.700,    1.465,   34.684,2,   34.684,2, -999.000,9,  158.200,2,  143.680,2,   35.980,2,    0.000,2,    2.440,2, -999.000,9, -999.000,9, -999.000,9, -999.000,9, -999.000,9
           NA,    P03E,    163,   1,-999.0,      35,  2,19850424,1049,  23.6233, -167.6200,  4954, 4663.900,    1.481,   34.686,2,   34.685,2, -999.000,9,  162.200,2,  142.760,2,   35.560,2,    0.000,2,    2.440,2, -999.000,9, -999.000,9, -999.000,9, -999.000,9, -999.000,9
           NA,    P03E,    163,   1,-999.0,      36,  2,19850424,1049,  23.6233, -167.6200,  4954, 5021.000,    1.506,   34.688,2,   34.688,2, -999.000,9,  164.300,2,  141.030,2,   35.500,2,    0.010,2,    2.410,2,   -0.001,2,   -0.001,2, -999.000,9, -999.000,9, -999.000,9
           NA,    P03E,    161,   1,-999.0,       1,  2,19850424,0514,  23.8517, -167.3717,  4916,    2.300,   23.692,   35.313,2,   35.316,2, -999.000,9,  216.800,2,    0.000,2,    0.050,2,    0.000,2,    0.060,2,    1.588,2,    0.817,2, -999.000,9, -999.000,9, -999.000,9
           NA,    P03E,    161,   1,-999.0,       2,  2,19850424,0514,  23.8517, -167.3717,  4916,   53.500,   22.303,   35.328,2,   35.330,2, -999.000,9,  221.000,2,    0.000,2,    0.050,2,    0.000,2,    0.060,2,    1.692,2,    0.864,2, -999.000,9, -999.000,9, -999.000,9
           NA,    P03E,    161,   1,-999.0,       3,  2,19850424,0514,  23.8517, -167.3717,  4916,  103.900,   20.893,   35.181,2,   35.199,2, -999.000,9,  221.000,2,    0.010,2,    0.050,2,    0.000,2,    0.070,2,    1.741,2,    0.884,2, -999.000,9, -999.000,9, -999.000,9
           NA,    P03E,    161,   1,-999.0,       4,  2,19850424,0514,  23.8517, -167.3717,  4916,  153.700,   18.340,   34.942,2,   34.945,2, -999.000,9,  206.500,2,    1.770,2,    2.780,2,    0.060,2,    0.270,2,    1.799,2,    0.891,2, -999.000,9, -999.000,9, -999.000,9
           NA,    P03E,    161,   1,-999.0,       5,  2,19850424,0514,  23.8517, -167.3717,  4916,  203.900,   16.504,   34.747,2,   34.749,2, -999.000,9,  204.700,2,    3.540,2,    5.000,2,    0.020,2,    0.420,2,    1.828,2,    0.902,2, -999.000,9, -999.000,9, -999.000,9
           NA,    P03E,    161,   1,-999.0,       6,  2,19850424,0514,  23.8517, -167.3717,  4916,  304.500,   13.663,   34.480,2,   34.482,2, -999.000,9,  212.000,2,    7.540,2,    8.690,2,    0.010,2,    0.640,2,    1.879,2,    0.911,2, -999.000,9, -999.000,9, -999.000,9
           NA,    P03E,    161,   1,-999.0,       7,  2,19850424,0514,  23.8517, -167.3717,  4916,  403.800,   11.049,   34.270,2,   34.269,2, -999.000,9,  200.600,2,   16.010,2,   14.570,2,    0.010,2,    1.030,2,    1.523,2,    0.734,2, -999.000,9, -999.000,9, -999.000,9
           NA,    P03E,    161,   1,-999.0,       8,  2,19850424,0514,  23.8517, -167.3717,  4916,  555.300,    7.185,   34.102,2,   34.083,2, -999.000,9,  128.800,2,   49.660,2,   28.450,2,    0.000,2,    1.980,2,    0.523,2,    0.261,2, -999.000,9, -999.000,9, -999.000,9
           NA,    P03E,    161,   1,-999.0,       9,  2,19850424,0514,  23.8517, -167.3717,  4916,  705.000,    5.431,   34.163,2,   34.161,2, -999.000,9,   70.900,2,   78.630,2,   36.990,2,    0.000,2,    2.590,2,    0.133,2,    0.067,2, -999.000,9, -999.000,9, -999.000,9
           NA,    P03E,    161,   1,-999.0,      10,  2,19850424,0514,  23.8517, -167.3717,  4916,  852.100,    4.583,   34.287,2,   34.287,2, -999.000,9,   44.300,2,   97.030,2,   40.900,2,    0.000,2,    2.860,2,    0.021,2,    0.001,2, -999.000,9, -999.000,9, -999.000,9
           NA,    P03E,    161,   1,-999.0,      11,  2,19850424,0514,  23.8517, -167.3717,  4916,  999.000,    4.017,   34.410,2,   34.409,2, -999.000,9,   44.800,2,  110.360,2,   41.840,2,    0.000,2,    2.940,2,   -0.003,2,   -0.004,2, -999.000,9, -999.000,9, -999.000,9
           NA,    P03E,    161,   1,-999.0,      12,  2,19850424,0514,  23.8517, -167.3717,  4916, 1194.100,    3.417,   34.486,2,   34.486,2, -999.000,9,   55.600,2,  123.290,2,   41.790,2,    0.000,2,    2.920,2,   -0.003,2,   -0.003,2, -999.000,9, -999.000,9, -999.000,9
           NA,    P03E,    161,   1,-999.0,      13,  2,19850424,0514,  23.8517, -167.3717,  4916, 1389.600,    3.080,   34.542,2,   34.542,2, -999.000,9,   66.900,2,  129.930,2,   41.310,2,    0.000,2,    2.890,2, -999.000,9, -999.000,9, -999.000,9, -999.000,9, -999.000,9
           NA,    P03E,    161,   1,-999.0,      14,  2,19850424,0514,  23.8517, -167.3717,  4916, 1589.500,    2.672,   34.565,2,   34.564,2, -999.000,9,   74.800,2,  139.620,2,   41.000,2,    0.000,2,    2.850,2, -999.000,9, -999.000,9, -999.000,9, -999.000,9, -999.000,9
           NA,    P03E,    161,   1,-999.0,      15,  2,19850424,0514,  23.8517, -167.3717,  4916, 1792.100,    2.317,   34.590,2,   34.590,2, -999.000,9,   84.700,2,  147.080,2,   40.360,2,    0.000,2,    2.800,2, -999.000,9, -999.000,9, -999.000,9, -999.000,9, -999.000,9
           NA,    P03E,    161,   1,-999.0,      16,  2,19850424,0514,  23.8517, -167.3717,  4916, 2103.600,    2.016,   34.617,2,   34.618,2, -999.000,9,   97.800,2,  153.530,2,   39.790,2,    0.000,2,    2.740,2, -999.000,9, -999.000,9, -999.000,9, -999.000,9, -999.000,9
           NA,    P03E,    161,   1,-999.0,      38,  2,19850424,0514,  23.8517, -167.3717,  4916, 2402.400,    1.822,   34.634,2,   34.634,2, -999.000,9,  107.300,2,  157.120,2,   39.160,2,    0.000,2,    2.710,2, -999.000,9, -999.000,9, -999.000,9, -999.000,9, -999.000,9
           NA,    P03E,    161,   1,-999.0,      18,  2,19850424,0514,  23.8517, -167.3717,  4916, 2699.700,    1.668,   34.649,2,   34.650,2, -999.000,9,  119.500,2,  157.860,2,   38.580,2,    0.000,2,    2.650,2, -999.000,9, -999.000,9, -999.000,9, -999.000,9, -999.000,9
           NA,    P03E,    161,   1,-999.0,      19,  2,19850424,0514,  23.8517, -167.3717,  4916, 3000.500,    1.585,   34.660,2,   34.659,2, -999.000,9,  127.800,2,  155.960,2,   37.650,2,    0.000,2,    2.590,2, -999.000,9, -999.000,9, -999.000,9, -999.000,9, -999.000,9
           NA,    P03E,    161,   1,-999.0,      17,  2,19850424,0514,  23.8517, -167.3717,  4916, 3413.400,    1.491,   34.672,2,   34.672,2, -999.000,9,  141.700,2,  155.070,2,   37.070,2,    0.000,2,    2.530,2, -999.000,9, -999.000,9, -999.000,9, -999.000,9, -999.000,9
           NA,    P03E,    161,   1,-999.0,      21,  2,19850424,0514,  23.8517, -167.3717,  4916, 3821.900,    1.468,   34.678,2,   34.678,2, -999.000,9,  149.900,2,  150.920,2,   36.450,2,    0.000,2,    2.490,2, -999.000,9, -999.000,9, -999.000,9, -999.000,9, -999.000,9
           NA,    P03E,    161,   1,-999.0,      39,  2,19850424,0514,  23.8517, -167.3717,  4916, 4232.600,    1.464,   34.682,2,   34.682,2, -999.000,9,  156.900,2,  146.780,2,   36.040,2,    0.000,2,    2.450,2, -999.000,9, -999.000,9, -999.000,9, -999.000,9, -999.000,9
           NA,    P03E,    161,   1,-999.0,      23,  2,19850424,0514,  23.8517, -167.3717,  4916, 4640.200,    1.480,   34.685,2,   34.685,2, -999.000,9,  161.200,2,  142.640,2,   35.630,2,    0.000,2,    2.410,2, -999.000,9, -999.000,9, -999.000,9, -999.000,9, -999.000,9
           NA,    P03E,    161,   1,-999.0,      24,  2,19850424,0514,  23.8517, -167.3717,  4916, 4976.100,    1.505,   34.687,2,   34.686,2, -999.000,9,  163.800,2,  141.960,2,   35.520,2,    0.000,2,    2.410,2, -999.000,9, -999.000,9, -999.000,9, -999.000,9, -999.000,9