BOTTLE,20203103JOAExport
EXPOCODE,SECT_ID,STNNBR,CASTNO,SAMPNO,BTLNBR,BTLNBR_FLAG_W,DATE,TIME,LATITUDE,LONGITUDE,DEPTH,CTDPRS,CTDTMP,CTDSAL,CTDSAL_FLAG_W,SALNTY,SALNTY_FLAG_W,CTDOXY,CTDOXY_FLAG_W,OXYGEN,OXYGEN_FLAG_W,SILCAT,SILCAT_FLAG_W,NITRAT,NITRAT_FLAG_W,NITRIT,NITRIT_FLAG_W,PHSPHT,PHSPHT_FLAG_W,CFC-11,CFC-11_FLAG_W,CFC-12,CFC-12_FLAG_W,SF6,SF6_FLAG_W,TCARBN,TCARBN_FLAG_W,ALKALI,ALKALI_FLAG_W
,,,,,,,,,,,,,DB,ITS-90,PSS-78,,PSS-78,,UMOL/KG,,UMOL/KG,,UMOL/KG,,UMOL/KG,,UMOL/KG,,UMOL/KG,,PMOL/KG,,PMOL/KG,,FMOL/KG,,UMOL/KG,,UMOL/KG
           NA,    P03E,    175,   1,-999.0,       1,  2,19850426,0525,  23.7150, -171.3800,  4740,    2.000,   24.173,   35.336,2,   35.337,2, -999.000,9,  212.900,2,    0.010,2,    0.040,2,    0.000,2,    0.100,2, -999.000,9, -999.000,9, -999.000,9, -999.000,9, -999.000,9
           NA,    P03E,    175,   1,-999.0,       2,  2,19850426,0525,  23.7150, -171.3800,  4740,   24.200,   23.608,   35.345,2,   35.351,2, -999.000,9,  216.600,2,    0.000,2,    0.040,2,    0.000,2,    0.100,2, -999.000,9, -999.000,9, -999.000,9, -999.000,9, -999.000,9
           NA,    P03E,    175,   1,-999.0,       3,  2,19850426,0525,  23.7150, -171.3800,  4740,   44.200,   23.350,   35.351,2,   35.356,2, -999.000,9,  218.100,2,    0.000,2,    0.040,2,    0.000,2,    0.080,2, -999.000,9, -999.000,9, -999.000,9, -999.000,9, -999.000,9
           NA,    P03E,    175,   1,-999.0,       4,  2,19850426,0525,  23.7150, -171.3800,  4740,   74.100,   22.965,   35.331,2,   35.332,2, -999.000,9,  216.500,2,    0.000,2,    0.040,2,    0.000,2,    0.100,2, -999.000,9, -999.000,9, -999.000,9, -999.000,9, -999.000,9
           NA,    P03E,    175,   1,-999.0,       5,  2,19850426,0525,  23.7150, -171.3800,  4740,  104.400,   22.311,   35.256,2,   35.257,2, -999.000,9,  206.200,2,    0.000,2,    0.040,2,    0.000,2,    0.120,2, -999.000,9, -999.000,9, -999.000,9, -999.000,9, -999.000,9
           NA,    P03E,    175,   1,-999.0,       6,  2,19850426,0525,  23.7150, -171.3800,  4740,  144.900,   20.530,   35.110,2,   35.117,2, -999.000,9,  201.200,2,    0.630,2,    0.970,2,    0.040,2,    0.200,2, -999.000,9, -999.000,9, -999.000,9, -999.000,9, -999.000,9
           NA,    P03E,    175,   1,-999.0,       7,  2,19850426,0525,  23.7150, -171.3800,  4740,  185.100,   18.883,   34.964,2,   34.965,2, -999.000,9,  209.700,2,    1.150,2,    1.630,2,    0.020,2,    0.240,2, -999.000,9, -999.000,9, -999.000,9, -999.000,9, -999.000,9
           NA,    P03E,    175,   1,-999.0,       8,  2,19850426,0525,  23.7150, -171.3800,  4740,  225.300,   17.313,   34.807,2,   34.807,2, -999.000,9,  206.700,2,    1.860,2,    3.540,2,    0.000,2,    0.360,2, -999.000,9, -999.000,9, -999.000,9, -999.000,9, -999.000,9
           NA,    P03E,    175,   1,-999.0,       9,  2,19850426,0525,  23.7150, -171.3800,  4740,  266.000,   16.400,   34.733,2,   34.732,2, -999.000,9,  200.200,2,    3.360,2,    5.540,2,    0.000,2,    0.490,2, -999.000,9, -999.000,9, -999.000,9, -999.000,9, -999.000,9
           NA,    P03E,    175,   1,-999.0,      10,  2,19850426,0525,  23.7150, -171.3800,  4740,  306.200,   14.900,   34.599,2,   34.599,2, -999.000,9,  209.900,2,    5.250,2,    7.300,2,    0.000,2,    0.590,2, -999.000,9, -999.000,9, -999.000,9, -999.000,9, -999.000,9
           NA,    P03E,    175,   1,-999.0,      11,  2,19850426,0525,  23.7150, -171.3800,  4740,  356.300,   13.170,   34.436,2,   34.426,2, -999.000,9,  207.800,2,    8.910,2,   10.140,2,    0.000,2,    0.790,2, -999.000,9, -999.000,9, -999.000,9, -999.000,9, -999.000,9
           NA,    P03E,    175,   1,-999.0,      12,  2,19850426,0525,  23.7150, -171.3800,  4740,  405.000,   11.509,   34.282,2,   34.281,2, -999.000,9,  201.000,2,   13.940,2,   13.440,2,    0.000,2,    1.030,2, -999.000,9, -999.000,9, -999.000,9, -999.000,9, -999.000,9
           NA,    P03E,    175,   1,-999.0,      13,  2,19850426,0525,  23.7150, -171.3800,  4740,  455.300,   10.610,   34.251,2,   34.251,2, -999.000,9,  198.400,2,   18.580,2,   15.760,2,    0.000,2,    1.180,2,    1.440,2,    0.698,2, -999.000,9, -999.000,9, -999.000,9
           NA,    P03E,    175,   1,-999.0,      14,  2,19850426,0525,  23.7150, -171.3800,  4740,  517.000,    9.092,   34.149,2,   34.149,2, -999.000,9,  179.300,2,   27.730,2,   20.680,2,    0.000,2,    1.520,2, -999.000,9, -999.000,9, -999.000,9, -999.000,9, -999.000,9
           NA,    P03E,    175,   1,-999.0,      15,  2,19850426,0525,  23.7150, -171.3800,  4740,  578.600,    7.441,   34.075,2,   34.074,2, -999.000,9,  140.400,2,   42.370,2,   27.620,2,    0.000,2,    2.010,2, -999.000,9, -999.000,9, -999.000,9, -999.000,9, -999.000,9
           NA,    P03E,    175,   1,-999.0,      16,  2,19850426,0525,  23.7150, -171.3800,  4740,  639.000,    6.489,   34.075,2,   34.075,2, -999.000,9,  104.400,2,   55.840,2,   32.330,2,    0.000,2,    2.360,2, -999.000,9, -999.000,9, -999.000,9, -999.000,9, -999.000,9
           NA,    P03E,    175,   1,-999.0,      38,  2,19850426,0525,  23.7150, -171.3800,  4740,  707.900,    5.730,   34.110,2,   34.111,2, -999.000,9,   75.300,2,   69.110,2,   36.320,2,    0.000,2,    2.660,2, -999.000,9, -999.000,9, -999.000,9, -999.000,9, -999.000,9
           NA,    P03E,    175,   1,-999.0,      18,  2,19850426,0525,  23.7150, -171.3800,  4740,  806.100,    4.872,   34.225,2,   34.225,2, -999.000,9,   45.200,2,   89.040,2,   40.470,2,    0.000,2,    2.940,2, -999.000,9, -999.000,9, -999.000,9, -999.000,9, -999.000,9
           NA,    P03E,    175,   1,-999.0,      19,  2,19850426,0525,  23.7150, -171.3800,  4740,  905.200,    4.158,   34.310,2,   34.310,2, -999.000,9,   40.700,2,  105.840,2,   41.840,2,    0.000,2,    3.030,2, -999.000,9, -999.000,9, -999.000,9, -999.000,9, -999.000,9
           NA,    P03E,    175,   1,-999.0,      17,  2,19850426,0525,  23.7150, -171.3800,  4740, 1004.600,    3.785,   34.393,2,   34.393,2, -999.000,9,   41.300,2,  115.570,2,   42.320,2,    0.000,2,    3.060,2, -999.000,9, -999.000,9, -999.000,9, -999.000,9, -999.000,9
           NA,    P03E,    175,   1,-999.0,      21,  2,19850426,0525,  23.7150, -171.3800,  4740, 1098.700,    3.469,   34.440,2,   34.441,2, -999.000,9,   45.100,2,  121.770,2,   42.480,2,    0.000,2,    3.060,2, -999.000,9, -999.000,9, -999.000,9, -999.000,9, -999.000,9
           NA,    P03E,    175,   1,-999.0,      39,  2,19850426,0525,  23.7150, -171.3800,  4740, 1247.200,    3.212,   34.507,2,   34.507,2, -999.000,9,   58.200,2,  126.010,2,   41.940,2,    0.000,2,    3.030,2, -999.000,9, -999.000,9, -999.000,9, -999.000,9, -999.000,9
           NA,    P03E,    175,   1,-999.0,      23,  2,19850426,0525,  23.7150, -171.3800,  4740, 1396.300,    2.833,   34.543,2,   34.544,2, -999.000,9,   67.900,2,  133.590,2,   41.190,2,    0.000,2,    2.970,2, -999.000,9, -999.000,9, -999.000,9, -999.000,9, -999.000,9
           NA,    P03E,    175,   1,-999.0,      24,  2,19850426,0525,  23.7150, -171.3800,  4740, 1597.600,    2.540,   34.569,2,   34.570,2, -999.000,9,   75.300,2,  140.000,2,   41.190,2,    0.000,2,    2.950,2, -999.000,9, -999.000,9, -999.000,9, -999.000,9, -999.000,9
           NA,    P03E,    175,   1,-999.0,      25,  2,19850426,0525,  23.7150, -171.3800,  4740, 1792.400,    2.252,   34.595,2,   34.595,2, -999.000,9,   85.200,2,  147.400,2,   40.660,2,    0.000,2,    2.900,2, -999.000,9, -999.000,9, -999.000,9, -999.000,9, -999.000,9
           NA,    P03E,    175,   1,-999.0,      26,  2,19850426,0525,  23.7150, -171.3800,  4740, 1989.000,    2.052,   34.616,2,   34.616,2, -999.000,9,   95.200,2,  150.660,2,   40.020,2,    0.000,2,    2.860,2, -999.000,9, -999.000,9, -999.000,9, -999.000,9, -999.000,9
           NA,    P03E,    175,   1,-999.0,      27,  2,19850426,0525,  23.7150, -171.3800,  4740, 2188.800,    1.918,   34.626,2,   34.627,2, -999.000,9,  103.700,2,  151.370,2,   39.650,2,    0.000,2,    2.820,2, -999.000,9, -999.000,9, -999.000,9, -999.000,9, -999.000,9
           NA,    P03E,    175,   1,-999.0,      28,  2,19850426,0525,  23.7150, -171.3800,  4740, 2489.000,    1.713,   34.644,2,   34.643,2, -999.000,9,  113.600,2,  153.060,2,   39.020,2,    0.000,2,    2.770,2, -999.000,9, -999.000,9, -999.000,9, -999.000,9, -999.000,9
           NA,    P03E,    175,   1,-999.0,      29,  2,19850426,0525,  23.7150, -171.3800,  4740, 2792.800,    1.601,   34.657,2,   34.656,2, -999.000,9,  124.300,2,  152.780,2,   38.170,2,    0.000,2,    2.710,2, -999.000,9, -999.000,9, -999.000,9, -999.000,9, -999.000,9
           NA,    P03E,    175,   1,-999.0,      30,  2,19850426,0525,  23.7150, -171.3800,  4740, 3107.800,    1.538,   34.665,2,   34.665,2, -999.000,9,  133.200,2,  152.300,2,   37.650,2,    0.000,2,    2.660,2, -999.000,9, -999.000,9, -999.000,9, -999.000,9, -999.000,9
           NA,    P03E,    175,   1,-999.0,      31,  2,19850426,0525,  23.7150, -171.3800,  4740, 3425.000,    1.498,   34.673,2,   34.672,2, -999.000,9,  141.200,2,  151.240,2,   37.070,2,    0.000,2,    2.620,2, -999.000,9, -999.000,9, -999.000,9, -999.000,9, -999.000,9
           NA,    P03E,    175,   1,-999.0,      32,  2,19850426,0525,  23.7150, -171.3800,  4740, 3738.200,    1.469,   34.677,2,   34.677,2, -999.000,9,  147.800,2,  148.400,2,   36.550,2,    0.000,2,    2.580,2, -999.000,9, -999.000,9, -999.000,9, -999.000,9, -999.000,9
           NA,    P03E,    175,   1,-999.0,      37,  2,19850426,0525,  23.7150, -171.3800,  4740, 4049.200,    1.455,   34.682,2,   34.682,2, -999.000,9,  154.200,2,  144.770,2,   36.340,2,    0.000,2,    2.570,2, -999.000,9, -999.000,9, -999.000,9, -999.000,9, -999.000,9
           NA,    P03E,    175,   1,-999.0,      34,  2,19850426,0525,  23.7150, -171.3800,  4740, 4359.800,    1.453,   34.685,2,   34.685,2, -999.000,9,  158.500,2,  142.330,2,   35.970,2,    0.000,2,    2.470,2, -999.000,9, -999.000,9, -999.000,9, -999.000,9, -999.000,9
           NA,    P03E,    175,   1,-999.0,      35,  2,19850426,0525,  23.7150, -171.3800,  4740, 4616.400,    1.459,   34.688,2,   34.687,2, -999.000,9,  163.100,2,  140.670,2,   35.810,2,    0.000,2,    2.450,2, -999.000,9, -999.000,9, -999.000,9, -999.000,9, -999.000,9
           NA,    P03E,    175,   1,-999.0,      36,  2,19850426,0525,  23.7150, -171.3800,  4740, 4806.300,    1.462,   34.689,2,   34.689,2, -999.000,9,  165.400,2,  139.810,2,   35.500,2,    0.000,2,    2.440,2, -999.000,9, -999.000,9, -999.000,9, -999.000,9, -999.000,9