BOTTLE,20203103JOAExport
EXPOCODE,SECT_ID,STNNBR,CASTNO,SAMPNO,BTLNBR,BTLNBR_FLAG_W,DATE,TIME,LATITUDE,LONGITUDE,DEPTH,CTDPRS,CTDTMP,CTDSAL,CTDSAL_FLAG_W,SALNTY,SALNTY_FLAG_W,CTDOXY,CTDOXY_FLAG_W,OXYGEN,OXYGEN_FLAG_W,SILCAT,SILCAT_FLAG_W,NITRAT,NITRAT_FLAG_W,NITRIT,NITRIT_FLAG_W,PHSPHT,PHSPHT_FLAG_W,CFC-11,CFC-11_FLAG_W,CFC-12,CFC-12_FLAG_W,SF6,SF6_FLAG_W,TCARBN,TCARBN_FLAG_W,ALKALI,ALKALI_FLAG_W
,,,,,,,,,,,,,DB,ITS-90,PSS-78,,PSS-78,,UMOL/KG,,UMOL/KG,,UMOL/KG,,UMOL/KG,,UMOL/KG,,UMOL/KG,,PMOL/KG,,PMOL/KG,,FMOL/KG,,UMOL/KG,,UMOL/KG
           NA,    P03W,    328,   1,-999.0,       4,  2,19850524,1834,  24.2300,  134.5100,  5030,    0.100,   24.692,   34.807,2,   34.811,2, -999.000,9,  215.600,2,    1.690,2,    0.050,2,    0.000,2,    0.050,2,    1.587,2,    0.835,2, -999.000,9, -999.000,9, -999.000,9
           NA,    P03W,    328,   1,-999.0,      38,  2,19850524,1834,  24.2300,  134.5100,  5030,   25.700,   21.183,   34.844,2,   34.843,2, -999.000,9,  229.400,2,    1.680,2,    0.060,2,    0.000,2,    0.050,2, -999.000,9, -999.000,9, -999.000,9, -999.000,9, -999.000,9
           NA,    P03W,    328,   1,-999.0,       3,  2,19850524,1834,  24.2300,  134.5100,  5030,   45.400,   20.477,   34.841,2,   34.838,2, -999.000,9,  230.700,2,    1.680,2,    0.060,2,    0.000,2,    0.070,2,    1.794,2,    0.923,2, -999.000,9, -999.000,9, -999.000,9
           NA,    P03W,    328,   1,-999.0,       1,  2,19850524,1834,  24.2300,  134.5100,  5030,   75.800,   19.442,   34.835,2,   34.835,2, -999.000,9,  230.500,2,    1.670,2,    0.060,2,    0.000,2,    0.080,2, -999.000,9, -999.000,9, -999.000,9, -999.000,9, -999.000,9
           NA,    P03W,    328,   1,-999.0,       5,  2,19850524,1834,  24.2300,  134.5100,  5030,  105.600,   18.744,   34.833,2,   34.833,2, -999.000,9,  221.300,2,    2.520,2,    1.310,2,    0.060,2,    0.160,2,    1.824,2,    0.944,2, -999.000,9, -999.000,9, -999.000,9
           NA,    P03W,    328,   1,-999.0,       6,  2,19850524,1834,  24.2300,  134.5100,  5030,  144.300,   18.393,   34.846,2,   34.846,2, -999.000,9,  212.500,2,    2.950,2,    2.630,2,    0.020,2,    0.220,2,    1.794,2, -999.000,9, -999.000,9, -999.000,9, -999.000,9
           NA,    P03W,    328,   1,-999.0,       7,  2,19850524,1834,  24.2300,  134.5100,  5030,  184.800,   18.157,   34.847,2,   34.848,2, -999.000,9,  217.500,2,    3.160,2,    2.400,2,    0.020,2,    0.220,2,    1.814,2,    0.931,2, -999.000,9, -999.000,9, -999.000,9
           NA,    P03W,    328,   1,-999.0,       8,  2,19850524,1834,  24.2300,  134.5100,  5030,  235.200,   17.491,   34.813,2,   34.813,2, -999.000,9,  205.000,2,    4.650,2,    4.620,2,    0.010,2,    0.350,2,    1.703,2,    0.878,2, -999.000,9, -999.000,9, -999.000,9
           NA,    P03W,    328,   1,-999.0,       9,  2,19850524,1834,  24.2300,  134.5100,  5030,  285.800,   16.663,   34.765,2,   34.763,2, -999.000,9,  199.100,2,    5.930,2,    6.360,2,    0.010,2,    0.470,2,    1.601,2,    0.838,2, -999.000,9, -999.000,9, -999.000,9
           NA,    P03W,    328,   1,-999.0,      10,  2,19850524,1834,  24.2300,  134.5100,  5030,  335.100,   15.698,   34.701,2,   34.699,2, -999.000,9,  198.300,2,    7.840,2,    7.920,2,    0.010,2,    0.570,2, -999.000,9, -999.000,9, -999.000,9, -999.000,9, -999.000,9
           NA,    P03W,    328,   1,-999.0,      11,  2,19850524,1834,  24.2300,  134.5100,  5030,  386.200,   14.882,   34.632,2,   34.630,2, -999.000,9,  189.700,2,   10.620,2,   11.100,2,    0.010,2,    0.710,2,    1.362,2,    0.712,2, -999.000,9, -999.000,9, -999.000,9
           NA,    P03W,    328,   1,-999.0,      12,  2,19850524,1834,  24.2300,  134.5100,  5030,  447.200,   13.210,   34.500,2,   34.499,2, -999.000,9,  179.500,2,   17.650,2,   13.950,2,    0.010,2,    1.000,2,    0.891,2, -999.000,9, -999.000,9, -999.000,9, -999.000,9
           NA,    P03W,    328,   1,-999.0,      13,  2,19850524,1834,  24.2300,  134.5100,  5030,  507.700,   10.939,   34.348,2,   34.352,2, -999.000,9,  164.300,2,   29.170,2,   20.790,2,    0.010,2,    1.470,2,    0.919,2,    0.458,2, -999.000,9, -999.000,9, -999.000,9
           NA,    P03W,    328,   1,-999.0,      14,  2,19850524,1834,  24.2300,  134.5100,  5030,  568.600,    9.242,   34.231,2,   34.232,2, -999.000,9,  154.700,2,   37.490,2,   22.620,2,    0.010,2,    1.620,2,    0.804,2,    0.395,2, -999.000,9, -999.000,9, -999.000,9
           NA,    P03W,    328,   1,-999.0,      15,  2,19850524,1834,  24.2300,  134.5100,  5030,  649.000,    7.468,   34.165,2,   34.166,2, -999.000,9,  125.300,2,   54.140,2,   27.290,2,    0.010,2,    2.020,2,    0.481,2,    0.238,2, -999.000,9, -999.000,9, -999.000,9
           NA,    P03W,    328,   1,-999.0,      16,  2,19850524,1834,  24.2300,  134.5100,  5030,  728.000,    6.336,   34.168,2,   34.173,2, -999.000,9,   99.800,2,   68.870,2,   33.130,2,    0.000,2,    2.370,2, -999.000,9, -999.000,9, -999.000,9, -999.000,9, -999.000,9
           NA,    P03W,    328,   1,-999.0,      17,  2,19850524,1834,  24.2300,  134.5100,  5030,  806.600,    5.403,   34.215,2,   34.213,2, -999.000,9,   76.900,2,   83.180,2,   36.880,2,    0.000,2,    2.620,2,    0.142,2,    0.074,2, -999.000,9, -999.000,9, -999.000,9
           NA,    P03W,    328,   1,-999.0,      18,  2,19850524,1834,  24.2300,  134.5100,  5030,  909.200,    4.714,   34.277,2,   34.278,2, -999.000,9,   63.100,2,   97.080,2,   39.160,2,    0.000,2,    2.780,2,    0.055,2,    0.024,2, -999.000,9, -999.000,9, -999.000,9
           NA,    P03W,    328,   1,-999.0,      23,  2,19850524,1834,  24.2300,  134.5100,  5030, 1062.300,    3.641,   34.392,2,   34.391,2, -999.000,9,   57.100,2,  120.910,2,   41.090,2,    0.000,2,    2.910,2,    0.006,2,    0.014,2, -999.000,9, -999.000,9, -999.000,9
           NA,    P03W,    328,   1,-999.0,      20,  2,19850524,1834,  24.2300,  134.5100,  5030, 1213.700,    3.115,   34.451,2,   34.464,2, -999.000,9,   63.600,2,  132.000,2,   41.460,2,    0.020,2,    3.090,2,   -0.002,2,    0.010,2, -999.000,9, -999.000,9, -999.000,9
           NA,    P03W,    328,   1,-999.0,      21,  2,19850524,1834,  24.2300,  134.5100,  5030, 1411.800,    2.729,   34.522,2,   34.521,2, -999.000,9,   81.300,2,  138.190,2,   40.540,2,    0.010,2,    2.850,2,   -0.007,2,   -0.003,2, -999.000,9, -999.000,9, -999.000,9
           NA,    P03W,    328,   1,-999.0,      22,  2,19850524,1834,  24.2300,  134.5100,  5030, 1614.000,    2.393,   34.554,2,   34.555,2, -999.000,9,   91.000,2,  142.870,2,   40.030,2,    0.000,2,    2.800,2, -999.000,9, -999.000,9, -999.000,9, -999.000,9, -999.000,9
           NA,    P03W,    328,   1,-999.0,      39,  2,19850524,1834,  24.2300,  134.5100,  5030, 1815.200,    2.130,   34.589,2,   34.590,2, -999.000,9,  104.100,2,  144.310,2,   39.310,2,    0.000,2,    2.730,2,   -0.001,2,   -0.002,2, -999.000,9, -999.000,9, -999.000,9
           NA,    P03W,    328,   1,-999.0,      24,  2,19850524,1834,  24.2300,  134.5100,  5030, 2017.900,    1.978,   34.611,2,   34.613,2, -999.000,9,  116.300,2,  145.740,2,   38.480,2,    0.020,2,    2.820,2, -999.000,9, -999.000,9, -999.000,9, -999.000,9, -999.000,9
           NA,    P03W,    328,   1,-999.0,      40,  2,19850524,1834,  24.2300,  134.5100,  5030, 2221.200,    1.849,   34.628,2,   34.629,2, -999.000,9,  123.000,2,  148.060,2,   38.270,2,    0.010,2,    2.650,2, -999.000,9, -999.000,9, -999.000,9, -999.000,9, -999.000,9
           NA,    P03W,    328,   1,-999.0,      26,  2,19850524,1834,  24.2300,  134.5100,  5030, 2425.700,    1.750,   34.641,2,   34.642,2, -999.000,9,  129.600,2,  145.820,2,   37.860,2,    0.010,2,    2.620,2, -999.000,9, -999.000,9, -999.000,9, -999.000,9, -999.000,9
           NA,    P03W,    328,   1,-999.0,      27,  2,19850524,1834,  24.2300,  134.5100,  5030, 2626.600,    1.688,   34.650,2,   34.650,2, -999.000,9,  136.600,2,  146.180,2,   37.510,2,    0.000,2,    2.580,2, -999.000,9, -999.000,9, -999.000,9, -999.000,9, -999.000,9
           NA,    P03W,    328,   1,-999.0,      28,  2,19850524,1834,  24.2300,  134.5100,  5030, 2827.400,    1.636,   34.657,2,   34.657,2, -999.000,9,  138.900,2,  146.320,2,   37.150,2,    0.000,2,    2.560,2, -999.000,9, -999.000,9, -999.000,9, -999.000,9, -999.000,9
           NA,    P03W,    328,   1,-999.0,      29,  2,19850524,1834,  24.2300,  134.5100,  5030, 3032.400,    1.592,   34.663,2,   34.662,2, -999.000,9,  143.800,2,  144.740,2,   36.940,2,    0.000,2,    2.510,2, -999.000,9, -999.000,9, -999.000,9, -999.000,9, -999.000,9
           NA,    P03W,    328,   1,-999.0,      30,  2,19850524,1834,  24.2300,  134.5100,  5030, 3333.600,    1.560,   34.669,2,   34.669,2, -999.000,9,  147.700,2,  144.240,2,   36.520,2,    0.010,2,    2.490,2, -999.000,9, -999.000,9, -999.000,9, -999.000,9, -999.000,9
           NA,    P03W,    328,   1,-999.0,      31,  2,19850524,1834,  24.2300,  134.5100,  5030, 3637.300,    1.539,   34.675,2,   34.674,2, -999.000,9,  151.600,2,  143.950,2,   36.430,2,    0.000,2,    2.500,2,   -0.007,2,    0.008,2, -999.000,9, -999.000,9, -999.000,9
           NA,    P03W,    328,   1,-999.0,      32,  2,19850524,1834,  24.2300,  134.5100,  5030, 3943.700,    1.541,   34.678,2,   34.677,2, -999.000,9,  154.400,2,  143.440,2,   36.380,2,    0.000,2,    2.480,2, -999.000,9, -999.000,9, -999.000,9, -999.000,9, -999.000,9
           NA,    P03W,    328,   1,-999.0,      33,  2,19850524,1834,  24.2300,  134.5100,  5030, 4248.700,    1.558,   34.679,2,   34.681,2, -999.000,9,  155.600,2,  142.940,2,   36.200,2,    0.020,2,    2.470,2, -999.000,9, -999.000,9, -999.000,9, -999.000,9, -999.000,9
           NA,    P03W,    328,   1,-999.0,      34,  2,19850524,1834,  24.2300,  134.5100,  5030, 4553.800,    1.585,   34.680,2,   34.680,2, -999.000,9,  156.000,2,  142.660,2,   36.060,2,    0.000,2,    2.430,2, -999.000,9, -999.000,9, -999.000,9, -999.000,9, -999.000,9
           NA,    P03W,    328,   1,-999.0,      35,  2,19850524,1834,  24.2300,  134.5100,  5030, 4857.800,    1.618,   34.680,2,   34.679,2, -999.000,9,  156.900,2,  142.800,2,   36.310,2,    0.000,2,    2.460,2,    0.002,2,    0.015,2, -999.000,9, -999.000,9, -999.000,9
           NA,    P03W,    328,   1,-999.0,      37,  2,19850524,1834,  24.2300,  134.5100,  5030, 5104.600,    1.648,   34.681,2,   34.681,2, -999.000,9,  156.000,2,  142.940,2,   36.050,2,    0.000,2,    2.450,2, -999.000,9, -999.000,9, -999.000,9, -999.000,9, -999.000,9