BOTTLE,20203103JOAExport
EXPOCODE,SECT_ID,STNNBR,CASTNO,SAMPNO,BTLNBR,BTLNBR_FLAG_W,DATE,TIME,LATITUDE,LONGITUDE,DEPTH,CTDPRS,CTDTMP,CTDSAL,CTDSAL_FLAG_W,SALNTY,SALNTY_FLAG_W,CTDOXY,CTDOXY_FLAG_W,OXYGEN,OXYGEN_FLAG_W,SILCAT,SILCAT_FLAG_W,NITRAT,NITRAT_FLAG_W,NITRIT,NITRIT_FLAG_W,PHSPHT,PHSPHT_FLAG_W,CFC-11,CFC-11_FLAG_W,CFC-12,CFC-12_FLAG_W,SF6,SF6_FLAG_W,TCARBN,TCARBN_FLAG_W,ALKALI,ALKALI_FLAG_W
,,,,,,,,,,,,,DB,ITS-90,PSS-78,,PSS-78,,UMOL/KG,,UMOL/KG,,UMOL/KG,,UMOL/KG,,UMOL/KG,,UMOL/KG,,PMOL/KG,,PMOL/KG,,FMOL/KG,,UMOL/KG,,UMOL/KG
           NA,    P03W,    322,   1,-999.0,       4,  2,19850523,1633,  24.2500,  136.2000,  3782,    0.200,   25.290,   34.832,2,   34.835,2, -999.000,9, -999.000,5,    2.740,2,    0.190,2,    0.000,2,    0.040,2, -999.000,9, -999.000,9, -999.000,9, -999.000,9, -999.000,9
           NA,    P03W,    322,   1,-999.0,      38,  2,19850523,1633,  24.2500,  136.2000,  3782,   22.000,   23.953,   34.885,2,   34.885,2, -999.000,9,  218.200,2,    2.640,2,    0.190,2,    0.000,2,    0.040,2, -999.000,9, -999.000,9, -999.000,9, -999.000,9, -999.000,9
           NA,    P03W,    322,   1,-999.0,       3,  2,19850523,1633,  24.2500,  136.2000,  3782,   43.000,   21.604,   34.864,2,   34.863,2, -999.000,9,  229.800,2,    2.640,2,    0.190,2,    0.000,2,    0.050,2, -999.000,9, -999.000,9, -999.000,9, -999.000,9, -999.000,9
           NA,    P03W,    322,   1,-999.0,       1,  2,19850523,1633,  24.2500,  136.2000,  3782,   72.800,   20.317,   34.846,2,   34.843,2, -999.000,9,  224.500,2,    2.830,2,    0.190,2,    0.000,2,    0.070,2, -999.000,9, -999.000,9, -999.000,9, -999.000,9, -999.000,9
           NA,    P03W,    322,   1,-999.0,       5,  2,19850523,1633,  24.2500,  136.2000,  3782,  103.700,   19.325,   34.857,2,   34.857,2, -999.000,9,  212.700,2,    3.320,2,    1.350,2,    0.120,2,    0.160,2, -999.000,9, -999.000,9, -999.000,9, -999.000,9, -999.000,9
           NA,    P03W,    322,   1,-999.0,       6,  2,19850523,1633,  24.2500,  136.2000,  3782,  143.600,   18.585,   34.845,2,   34.845,2, -999.000,9,  210.400,2,    3.520,2,    2.660,2,    0.020,2,    0.220,2, -999.000,9, -999.000,9, -999.000,9, -999.000,9, -999.000,9
           NA,    P03W,    322,   1,-999.0,       7,  2,19850523,1633,  24.2500,  136.2000,  3782,  183.100,   17.873,   34.828,2,   34.827,2, -999.000,9,  202.600,2,    4.890,2,    4.040,2,    0.020,2,    0.310,2, -999.000,9, -999.000,9, -999.000,9, -999.000,9, -999.000,9
           NA,    P03W,    322,   1,-999.0,       8,  2,19850523,1633,  24.2500,  136.2000,  3782,  233.100,   16.881,   34.785,2,   34.783,2, -999.000,9,  203.800,2,    5.570,2,    5.450,2,    0.010,2,    0.400,2, -999.000,9, -999.000,9, -999.000,9, -999.000,9, -999.000,9
           NA,    P03W,    322,   1,-999.0,       9,  2,19850523,1633,  24.2500,  136.2000,  3782,  283.300,   16.032,   34.734,2,   34.732,2, -999.000,9,  204.200,2,    7.330,2,    6.390,2,    0.020,2,    0.440,2, -999.000,9, -999.000,9, -999.000,9, -999.000,9, -999.000,9
           NA,    P03W,    322,   1,-999.0,      10,  2,19850523,1633,  24.2500,  136.2000,  3782,  333.300,   15.458,   34.686,2,   34.687,2, -999.000,9,  199.400,2,    9.190,2,    7.950,2,    0.020,2,    0.580,2, -999.000,9, -999.000,9, -999.000,9, -999.000,9, -999.000,9
           NA,    P03W,    322,   1,-999.0,      11,  2,19850523,1633,  24.2500,  136.2000,  3782,  383.100,   14.508,   34.604,2,   34.603,2, -999.000,9,  192.000,2,   11.930,2,   10.260,2,    0.010,2,    0.720,2, -999.000,9, -999.000,9, -999.000,9, -999.000,9, -999.000,9
           NA,    P03W,    322,   1,-999.0,      12,  2,19850523,1633,  24.2500,  136.2000,  3782,  443.900,   12.829,   34.469,2,   34.466,2, -999.000,9,  178.000,2,   18.670,2,   14.170,2,    0.010,2,    0.990,2, -999.000,9, -999.000,9, -999.000,9, -999.000,9, -999.000,9
           NA,    P03W,    322,   1,-999.0,      13,  2,19850523,1633,  24.2500,  136.2000,  3782,  504.800,   10.753,   34.331,2,   34.330,2, -999.000,9,  164.500,2,   29.330,2,   19.060,2,    0.000,2,    1.330,2, -999.000,9, -999.000,9, -999.000,9, -999.000,9, -999.000,9
           NA,    P03W,    322,   1,-999.0,      14,  2,19850523,1633,  24.2500,  136.2000,  3782,  564.900,    9.336,   34.248,2,   34.248,2, -999.000,9,  153.600,2,   39.010,2,   22.590,2,    0.000,2,    1.600,2, -999.000,9, -999.000,9, -999.000,9, -999.000,9, -999.000,9
           NA,    P03W,    322,   1,-999.0,      15,  2,19850523,1633,  24.2500,  136.2000,  3782,  645.600,    7.301,   34.174,2,   34.176,2, -999.000,9,  127.000,2,   57.000,2,   28.160,2,    0.010,2,    1.980,2, -999.000,9, -999.000,9, -999.000,9, -999.000,9, -999.000,9
           NA,    P03W,    322,   1,-999.0,      16,  2,19850523,1633,  24.2500,  136.2000,  3782,  727.100,    5.895,   34.181,2,   34.182,2, -999.000,9,   98.300,2,   75.780,2,   33.640,2,    0.000,2,    2.360,2, -999.000,9, -999.000,9, -999.000,9, -999.000,9, -999.000,9
           NA,    P03W,    322,   1,-999.0,      17,  2,19850523,1633,  24.2500,  136.2000,  3782,  807.700,    5.000,   34.212,2,   34.212,2, -999.000,9,   75.700,2,   89.270,2,   37.250,2,    0.000,2,    2.620,2, -999.000,9, -999.000,9, -999.000,9, -999.000,9, -999.000,9
           NA,    P03W,    322,   1,-999.0,      18,  2,19850523,1633,  24.2500,  136.2000,  3782,  909.100,    4.126,   34.290,2,   34.290,2, -999.000,9,   60.400,2,  108.330,2,   39.790,2,    0.000,2,    2.790,2, -999.000,9, -999.000,9, -999.000,9, -999.000,9, -999.000,9
           NA,    P03W,    322,   1,-999.0,      23,  2,19850523,1633,  24.2500,  136.2000,  3782, 1060.800,    3.439,   34.390,2,   34.391,2, -999.000,9,   57.400,2,  123.180,2,   40.960,2,    0.000,2,    2.850,2, -999.000,9, -999.000,9, -999.000,9, -999.000,9, -999.000,9
           NA,    P03W,    322,   1,-999.0,      20,  2,19850523,1633,  24.2500,  136.2000,  3782, 1212.600,    2.936,   34.462,2,   34.460,2, -999.000,9,   63.900,2,  134.320,2,   40.860,2,    0.020,2,    2.800,2, -999.000,9, -999.000,9, -999.000,9, -999.000,9, -999.000,9
           NA,    P03W,    322,   1,-999.0,      21,  2,19850523,1633,  24.2500,  136.2000,  3782, 1364.500,    2.684,   34.505,2,   34.505,2, -999.000,9,   73.500,2,  140.280,2,   40.960,2,    0.000,2,    2.830,2, -999.000,9, -999.000,9, -999.000,9, -999.000,9, -999.000,9
           NA,    P03W,    322,   1,-999.0,      22,  2,19850523,1633,  24.2500,  136.2000,  3782, 1513.300,    2.467,   34.543,2,   34.543,2, -999.000,9,   86.100,2,  141.640,2,   40.180,2,    0.000,2,    2.780,2, -999.000,9, -999.000,9, -999.000,9, -999.000,9, -999.000,9
           NA,    P03W,    322,   1,-999.0,      39,  2,19850523,1633,  24.2500,  136.2000,  3782, 1666.500,    2.276,   34.573,2,   34.576,2, -999.000,9,   96.900,2,  144.380,2,   39.590,2,    0.000,2,    2.730,2, -999.000,9, -999.000,9, -999.000,9, -999.000,9, -999.000,9
           NA,    P03W,    322,   1,-999.0,      24,  2,19850523,1633,  24.2500,  136.2000,  3782, 1816.200,    2.159,   34.591,2,   34.592,2, -999.000,9,  105.200,2,  145.740,2,   39.290,2,    0.000,2,    2.700,2, -999.000,9, -999.000,9, -999.000,9, -999.000,9, -999.000,9
           NA,    P03W,    322,   1,-999.0,      40,  2,19850523,1633,  24.2500,  136.2000,  3782, 1964.700,    2.052,   34.611,2,   34.610,2, -999.000,9,  116.000,2,  145.940,2,   38.610,2,    0.000,2,    2.670,2, -999.000,9, -999.000,9, -999.000,9, -999.000,9, -999.000,9
           NA,    P03W,    322,   1,-999.0,      26,  2,19850523,1633,  24.2500,  136.2000,  3782, 2116.200,    1.931,   34.622,2,   34.621,2, -999.000,9,  119.900,2,  146.420,2,   38.320,2,    0.000,2,    2.640,2, -999.000,9, -999.000,9, -999.000,9, -999.000,9, -999.000,9
           NA,    P03W,    322,   1,-999.0,      27,  2,19850523,1633,  24.2500,  136.2000,  3782, 2268.500,    1.858,   34.630,2,   34.629,2, -999.000,9,  123.800,2,  146.030,2,   38.020,2,    0.000,2,    2.610,2, -999.000,9, -999.000,9, -999.000,9, -999.000,9, -999.000,9
           NA,    P03W,    322,   1,-999.0,      28,  2,19850523,1633,  24.2500,  136.2000,  3782, 2423.000,    1.783,   34.638,2,   34.637,2, -999.000,9,  129.100,2,  145.540,2,   37.440,2,    0.000,2,    2.540,2, -999.000,9, -999.000,9, -999.000,9, -999.000,9, -999.000,9
           NA,    P03W,    322,   1,-999.0,      29,  2,19850523,1633,  24.2500,  136.2000,  3782, 2619.000,    1.703,   34.648,2,   34.648,2, -999.000,9,  134.300,2,  146.710,2,   37.340,2,    0.000,2,    2.560,2, -999.000,9, -999.000,9, -999.000,9, -999.000,9, -999.000,9
           NA,    P03W,    322,   1,-999.0,      30,  2,19850523,1633,  24.2500,  136.2000,  3782, 2818.700,    1.642,   34.657,2,   34.655,2, -999.000,9,  138.600,2,  146.710,2,   36.950,2,    0.010,2,    2.540,2, -999.000,9, -999.000,9, -999.000,9, -999.000,9, -999.000,9
           NA,    P03W,    322,   1,-999.0,      31,  2,19850523,1633,  24.2500,  136.2000,  3782, 3018.600,    1.594,   34.662,2,   34.664,2, -999.000,9,  143.800,2,  145.340,2,   36.850,2,    0.000,2,    2.510,2, -999.000,9, -999.000,9, -999.000,9, -999.000,9, -999.000,9
           NA,    P03W,    322,   1,-999.0,      32,  2,19850523,1633,  24.2500,  136.2000,  3782, 3217.300,    1.553,   34.670,2,   34.668,2, -999.000,9,  147.700,2,  144.660,2,   36.360,2,    0.000,2,    2.450,2, -999.000,9, -999.000,9, -999.000,9, -999.000,9, -999.000,9
           NA,    P03W,    322,   1,-999.0,      33,  2,19850523,1633,  24.2500,  136.2000,  3782, 3418.300,    1.539,   34.673,2,   34.672,2, -999.000,9,  150.800,2,  144.660,2,   36.360,2,    0.000,2,    2.470,2, -999.000,9, -999.000,9, -999.000,9, -999.000,9, -999.000,9
           NA,    P03W,    322,   1,-999.0,      34,  2,19850523,1633,  24.2500,  136.2000,  3782, 3610.200,    1.514,   34.676,2,   34.676,2, -999.000,9,  153.000,2,  144.660,2,   36.260,2,    0.000,2,    2.460,2, -999.000,9, -999.000,9, -999.000,9, -999.000,9, -999.000,9
           NA,    P03W,    322,   1,-999.0,      35,  2,19850523,1633,  24.2500,  136.2000,  3782, 3816.000,    1.533,   34.677,2,   34.676,2, -999.000,9,  153.800,2,  144.270,2,   36.070,2,    0.000,2,    2.450,2, -999.000,9, -999.000,9, -999.000,9, -999.000,9, -999.000,9
           NA,    P03W,    322,   1,-999.0,      37,  2,19850523,1633,  24.2500,  136.2000,  3782, 4093.900,    1.556,   34.679,2,   34.675,2, -999.000,9,  153.800,2,  143.090,2,   36.070,2,    0.000,2,    2.450,2, -999.000,9, -999.000,9, -999.000,9, -999.000,9, -999.000,9
           NA,    P03W,    320,   1,-999.0,      38,  2,19850523,0909,  24.2567,  137.0000,  4617,   23.600,   26.010,   34.914,2,   34.916,2, -999.000,9,  209.800,2,    1.460,2,    0.280,2,    0.000,2,    0.010,2,    1.364,2, -999.000,9, -999.000,9, -999.000,9, -999.000,9
           NA,    P03W,    320,   1,-999.0,       3,  2,19850523,0909,  24.2567,  137.0000,  4617,   44.400,   23.127,   34.817,2,   34.810,2, -999.000,9,  222.600,2,    1.440,2,    0.280,2,    0.000,2,    0.010,2,    1.563,2, -999.000,9, -999.000,9, -999.000,9, -999.000,9
           NA,    P03W,    320,   1,-999.0,       1,  2,19850523,0909,  24.2567,  137.0000,  4617,   74.600,   20.175,   34.853,2,   34.850,2, -999.000,9,  231.300,2,    1.420,2,    0.280,2,    0.000,2,    0.010,2, -999.000,9, -999.000,9, -999.000,9, -999.000,9, -999.000,9
           NA,    P03W,    320,   1,-999.0,       5,  2,19850523,0909,  24.2567,  137.0000,  4617,  104.500,   19.261,   34.849,2,   34.846,2, -999.000,9,  221.400,2,    1.640,2,    0.510,2,    0.100,2,    0.080,2,    1.683,2,    0.886,2, -999.000,9, -999.000,9, -999.000,9
           NA,    P03W,    320,   1,-999.0,       6,  2,19850523,0909,  24.2567,  137.0000,  4617,  144.600,   18.501,   34.842,2,   34.841,2, -999.000,9,  208.800,2,    2.770,2,    2.900,2,    0.040,2,    0.190,2,    1.614,2,    0.857,2, -999.000,9, -999.000,9, -999.000,9
           NA,    P03W,    320,   1,-999.0,       7,  2,19850523,0909,  24.2567,  137.0000,  4617,  184.300,   17.674,   34.820,2,   34.824,2, -999.000,9,  203.000,2,    3.450,2,    4.310,2,    0.020,2,    0.280,2,    1.682,2,    0.864,2, -999.000,9, -999.000,9, -999.000,9
           NA,    P03W,    320,   1,-999.0,       8,  2,19850523,0909,  24.2567,  137.0000,  4617,  234.700,   16.977,   34.787,2,   34.787,2, -999.000,9,  201.600,2,    4.810,2,    5.600,2,    0.010,2,    0.350,2,    1.563,2,    0.808,2, -999.000,9, -999.000,9, -999.000,9
           NA,    P03W,    320,   1,-999.0,       9,  2,19850523,0909,  24.2567,  137.0000,  4617,  285.000,   16.188,   34.737,2,   34.732,2, -999.000,9,  198.200,2,    6.180,2,    7.080,2,    0.010,2,    0.450,2,    1.449,2,    0.756,2, -999.000,9, -999.000,9, -999.000,9
           NA,    P03W,    320,   1,-999.0,      10,  2,19850523,0909,  24.2567,  137.0000,  4617,  335.000,   14.987,   34.644,2,   34.638,2, -999.000,9,  193.400,2,    9.860,2,    9.470,2,    0.010,2,    0.600,2,    1.404,2,    0.716,2, -999.000,9, -999.000,9, -999.000,9
           NA,    P03W,    320,   1,-999.0,      11,  2,19850523,0909,  24.2567,  137.0000,  4617,  385.900,   14.038,   34.561,2,   34.559,2, -999.000,9,  188.400,2,   12.610,2,   11.380,2,    0.010,2,    0.740,2,    1.268,2,    0.679,2, -999.000,9, -999.000,9, -999.000,9
           NA,    P03W,    320,   1,-999.0,      12,  2,19850523,0909,  24.2567,  137.0000,  4617,  446.000,   12.462,   34.439,2,   34.441,2, -999.000,9,  180.600,2,   19.070,2,   14.710,2,    0.000,2,    0.970,2,    1.153,2, -999.000,9, -999.000,9, -999.000,9, -999.000,9
           NA,    P03W,    320,   1,-999.0,      13,  2,19850523,0909,  24.2567,  137.0000,  4617,  506.800,   10.231,   34.287,2,   34.280,2, -999.000,9,  165.000,2,   32.460,2,   20.480,2,    0.000,2,    1.360,2,    0.913,2,    0.454,6, -999.000,9, -999.000,9, -999.000,9
           NA,    P03W,    320,   1,-999.0,      14,  2,19850523,0909,  24.2567,  137.0000,  4617,  567.400,    8.492,   34.181,2,   34.184,2, -999.000,9,  149.900,2,   43.090,2,   24.940,2,    0.000,2,    1.690,2, -999.000,9, -999.000,9, -999.000,9, -999.000,9, -999.000,9
           NA,    P03W,    320,   1,-999.0,      15,  2,19850523,0909,  24.2567,  137.0000,  4617,  648.100,    6.968,   34.143,2,   34.144,2, -999.000,9,  123.600,2,   58.600,2,   29.850,2,    0.000,2,    2.040,2,    0.518,2,    0.256,2, -999.000,9, -999.000,9, -999.000,9
           NA,    P03W,    320,   1,-999.0,      16,  2,19850523,0909,  24.2567,  137.0000,  4617,  729.000,    5.544,   34.165,2,   34.166,2, -999.000,9,   90.100,2,   79.230,2,   35.480,2,    0.000,2,    2.440,2,    0.279,2,    0.125,2, -999.000,9, -999.000,9, -999.000,9
           NA,    P03W,    320,   1,-999.0,      17,  2,19850523,0909,  24.2567,  137.0000,  4617,  808.900,    4.774,   34.207,2,   34.206,2, -999.000,9,   70.700,2,   93.850,2,   38.650,2,    0.000,2,    2.650,2,    0.166,2,    0.082,2, -999.000,9, -999.000,9, -999.000,9
           NA,    P03W,    320,   1,-999.0,      18,  2,19850523,0909,  24.2567,  137.0000,  4617,  909.300,    4.076,   34.301,2,   34.301,2, -999.000,9,   53.400,2,  111.770,2,   41.180,2,    0.000,2,    2.820,2,    0.044,2,    0.022,2, -999.000,9, -999.000,9, -999.000,9
           NA,    P03W,    320,   1,-999.0,      23,  2,19850523,0909,  24.2567,  137.0000,  4617, 1061.400,    3.468,   34.390,2,   34.389,2, -999.000,9,   53.900,2,  125.520,2,   41.850,2,    0.000,2,    2.880,2,    0.019,2, -999.000,9, -999.000,9, -999.000,9, -999.000,9
           NA,    P03W,    320,   1,-999.0,      20,  2,19850523,0909,  24.2567,  137.0000,  4617, 1213.300,    3.023,   34.448,2,   34.448,2, -999.000,9,   58.900,2,  135.330,2,   42.060,2,    0.000,2,    2.870,2,    0.005,2,   -0.002,2, -999.000,9, -999.000,9, -999.000,9
           NA,    P03W,    320,   1,-999.0,      21,  2,19850523,0909,  24.2567,  137.0000,  4617, 1415.100,    2.608,   34.512,2,   34.512,2, -999.000,9,   74.200,2,  141.870,2,   41.430,2,    0.000,2,    2.810,2,   -0.007,2,   -0.002,2, -999.000,9, -999.000,9, -999.000,9
           NA,    P03W,    320,   1,-999.0,      22,  2,19850523,0909,  24.2567,  137.0000,  4617, 1615.700,    2.311,   34.563,2,   34.563,2, -999.000,9,   92.300,2,  144.200,2,   40.450,2,    0.000,2,    2.750,2, -999.000,9, -999.000,9, -999.000,9, -999.000,9, -999.000,9
           NA,    P03W,    320,   1,-999.0,      39,  2,19850523,0909,  24.2567,  137.0000,  4617, 1818.900,    2.115,   34.599,2,   34.600,2, -999.000,9,  108.500,2,  143.020,2,   39.420,2,    0.000,2,    2.660,2, -999.000,9, -999.000,9, -999.000,9, -999.000,9, -999.000,9
           NA,    P03W,    320,   1,-999.0,      24,  2,19850523,0909,  24.2567,  137.0000,  4617, 2021.300,    1.981,   34.617,2,   34.617,2, -999.000,9,  116.800,2,  143.710,2,   39.010,2,    0.000,2,    2.620,2,    0.000,2,    0.009,2, -999.000,9, -999.000,9, -999.000,9
           NA,    P03W,    320,   1,-999.0,      40,  2,19850523,0909,  24.2567,  137.0000,  4617, 2223.000,    1.864,   34.628,2,   34.629,2, -999.000,9,  122.900,2,  144.160,2,   38.540,2,    0.000,2,    2.590,2, -999.000,9, -999.000,9, -999.000,9, -999.000,9, -999.000,9
           NA,    P03W,    320,   1,-999.0,      26,  2,19850523,0909,  24.2567,  137.0000,  4617, 2426.500,    1.784,   34.639,2,   34.640,2, -999.000,9,  128.500,2,  144.150,2,   38.190,2,    0.000,2,    2.570,2, -999.000,9, -999.000,9, -999.000,9, -999.000,9, -999.000,9
           NA,    P03W,    320,   1,-999.0,      27,  2,19850523,0909,  24.2567,  137.0000,  4617, 2629.800,    1.704,   34.649,2,   34.650,2, -999.000,9,  134.800,2,  144.140,2,   37.980,2,    0.000,2,    2.530,2, -999.000,9, -999.000,9, -999.000,9, -999.000,9, -999.000,9
           NA,    P03W,    320,   1,-999.0,      28,  2,19850523,0909,  24.2567,  137.0000,  4617, 2831.000,    1.658,   34.656,2,   34.656,2, -999.000,9,  138.500,2,  144.370,2,   37.570,2,    0.000,2,    2.520,2,    0.000,2, -999.000,9, -999.000,9, -999.000,9, -999.000,9
           NA,    P03W,    320,   1,-999.0,      29,  2,19850523,0909,  24.2567,  137.0000,  4617, 3035.100,    1.620,   34.661,2,   34.660,2, -999.000,9,  141.800,2,  143.890,2,   37.420,2,    0.000,2,    2.500,2, -999.000,9, -999.000,9, -999.000,9, -999.000,9, -999.000,9
           NA,    P03W,    320,   1,-999.0,      30,  2,19850523,0909,  24.2567,  137.0000,  4617, 3290.100,    1.572,   34.668,2,   34.668,2, -999.000,9,  147.000,2,  143.640,2,   37.060,2,    0.000,2,    2.480,2, -999.000,9, -999.000,9, -999.000,9, -999.000,9, -999.000,9
           NA,    P03W,    320,   1,-999.0,      31,  2,19850523,0909,  24.2567,  137.0000,  4617, 3545.600,    1.541,   34.673,2,   34.672,2, -999.000,9,  150.700,2,  143.860,2,   36.860,2,    0.000,2,    2.460,2, -999.000,9, -999.000,9, -999.000,9, -999.000,9, -999.000,9
           NA,    P03W,    320,   1,-999.0,      32,  2,19850523,0909,  24.2567,  137.0000,  4617, 3800.000,    1.525,   34.677,2,   34.677,2, -999.000,9,  154.700,2,  142.680,2,   36.550,2,    0.000,2,    2.440,2,   -0.008,2,    0.009,2, -999.000,9, -999.000,9, -999.000,9
           NA,    P03W,    320,   1,-999.0,      33,  2,19850523,0909,  24.2567,  137.0000,  4617, 4052.100,    1.535,   34.679,2,   34.678,2, -999.000,9,  155.800,2,  142.200,2,   36.500,2,    0.000,2,    2.440,2, -999.000,9, -999.000,9, -999.000,9, -999.000,9, -999.000,9
           NA,    P03W,    320,   1,-999.0,      34,  2,19850523,0909,  24.2567,  137.0000,  4617, 4311.300,    1.547,   34.680,2,   34.681,2, -999.000,9,  157.300,2,  141.720,2,   36.350,2,    0.000,2,    2.420,2, -999.000,9, -999.000,9, -999.000,9, -999.000,9, -999.000,9
           NA,    P03W,    320,   1,-999.0,      35,  2,19850523,0909,  24.2567,  137.0000,  4617, 4565.300,    1.571,   34.681,2,   34.681,2, -999.000,9,  157.000,2,  142.180,2,   36.400,2,    0.000,2,    2.450,2, -999.000,9, -999.000,9, -999.000,9, -999.000,9, -999.000,9
           NA,    P03W,    320,   1,-999.0,      37,  2,19850523,0909,  24.2567,  137.0000,  4617, 4841.400,    1.604,   34.681,2,   34.681,2, -999.000,9,  159.300,2,  142.640,2,   36.460,2,    0.000,2,    2.450,2,   -0.003,6, -999.000,9, -999.000,9, -999.000,9, -999.000,9