BOTTLE,20203103JOAExport
EXPOCODE,SECT_ID,STNNBR,CASTNO,SAMPNO,BTLNBR,BTLNBR_FLAG_W,DATE,TIME,LATITUDE,LONGITUDE,DEPTH,CTDPRS,CTDTMP,CTDSAL,CTDSAL_FLAG_W,SALNTY,SALNTY_FLAG_W,CTDOXY,CTDOXY_FLAG_W,OXYGEN,OXYGEN_FLAG_W,SILCAT,SILCAT_FLAG_W,NITRAT,NITRAT_FLAG_W,NITRIT,NITRIT_FLAG_W,PHSPHT,PHSPHT_FLAG_W,CFC-11,CFC-11_FLAG_W,CFC-12,CFC-12_FLAG_W,SF6,SF6_FLAG_W,TCARBN,TCARBN_FLAG_W,ALKALI,ALKALI_FLAG_W
,,,,,,,,,,,,,DB,ITS-90,PSS-78,,PSS-78,,UMOL/KG,,UMOL/KG,,UMOL/KG,,UMOL/KG,,UMOL/KG,,UMOL/KG,,PMOL/KG,,PMOL/KG,,FMOL/KG,,UMOL/KG,,UMOL/KG
           NA,    P03E,     64,   1,-999.0,       1,  2,19850408,2306,  24.2333, -136.4433,  4359,    1.100,   20.177,   35.252,2, -999.000,5, -999.000,9,  228.300,2,    0.000,2,    0.260,2,    0.000,2,    0.120,2, -999.000,9, -999.000,9, -999.000,9, -999.000,9, -999.000,9
           NA,    P03E,     64,   1,-999.0,       2,  2,19850408,2306,  24.2333, -136.4433,  4359,   20.300,   19.851,   35.236,2, -999.000,5, -999.000,9,  228.700,2,    0.000,2,    0.260,2,    0.000,2,    0.120,2, -999.000,9, -999.000,9, -999.000,9, -999.000,9, -999.000,9
           NA,    P03E,     64,   1,-999.0,       3,  2,19850408,2306,  24.2333, -136.4433,  4359,   34.300,   19.741,   35.224,2, -999.000,5, -999.000,9,  229.200,2,    0.000,2,    0.260,2,    0.000,2,    0.120,2, -999.000,9, -999.000,9, -999.000,9, -999.000,9, -999.000,9
           NA,    P03E,     64,   1,-999.0,       4,  2,19850408,2306,  24.2333, -136.4433,  4359,   54.200,   19.752,   35.285,2, -999.000,5, -999.000,9,  229.600,2,    0.000,2,    0.220,2,    0.000,2,    0.110,2, -999.000,9, -999.000,9, -999.000,9, -999.000,9, -999.000,9
           NA,    P03E,     64,   1,-999.0,       5,  2,19850408,2306,  24.2333, -136.4433,  4359,   74.000,   19.689,   35.328,2, -999.000,5, -999.000,9,  229.200,2,    0.000,2,    0.170,2,    0.000,2,    0.110,2, -999.000,9, -999.000,9, -999.000,9, -999.000,9, -999.000,9
           NA,    P03E,     64,   1,-999.0,       6,  2,19850408,2306,  24.2333, -136.4433,  4359,   93.900,   19.736,   35.365,2, -999.000,5, -999.000,9,  229.200,2,    0.000,2,    0.170,2,    0.000,2,    0.110,2, -999.000,9, -999.000,9, -999.000,9, -999.000,9, -999.000,9
           NA,    P03E,     64,   1,-999.0,       7,  2,19850408,2306,  24.2333, -136.4433,  4359,  123.800,   19.547,   35.322,2, -999.000,5, -999.000,9,  229.100,2,    0.000,2,    0.160,2,    0.010,2,    0.100,2, -999.000,9, -999.000,9, -999.000,9, -999.000,9, -999.000,9
           NA,    P03E,     64,   1,-999.0,       8,  2,19850408,2306,  24.2333, -136.4433,  4359,  153.500,   19.333,   35.282,2, -999.000,5, -999.000,9,  227.400,2,    0.000,2,    0.220,2,    0.090,2,    0.110,2, -999.000,9, -999.000,9, -999.000,9, -999.000,9, -999.000,9
           NA,    P03E,     64,   1,-999.0,       9,  2,19850408,2306,  24.2333, -136.4433,  4359,  194.100,   19.205,   35.278,2, -999.000,5, -999.000,9,  227.400,2,    0.000,2,    0.270,2,    0.080,2,    0.110,2, -999.000,9, -999.000,9, -999.000,9, -999.000,9, -999.000,9
           NA,    P03E,     64,   1,-999.0,      10,  2,19850408,2306,  24.2333, -136.4433,  4359,  235.700,   16.490,   34.668,2, -999.000,5, -999.000,9,  211.200,2,    1.700,2,    3.050,2,    0.020,2,    0.330,2, -999.000,9, -999.000,9, -999.000,9, -999.000,9, -999.000,9
           NA,    P03E,     64,   1,-999.0,      11,  2,19850408,2306,  24.2333, -136.4433,  4359,  286.700,   12.028,   34.111,2, -999.000,5, -999.000,9,  209.400,2,    8.550,2,    9.980,2,    0.010,2,    0.760,2, -999.000,9, -999.000,9, -999.000,9, -999.000,9, -999.000,9
           NA,    P03E,     64,   1,-999.0,      12,  2,19850408,2306,  24.2333, -136.4433,  4359,  336.400,   10.268,   34.034,2, -999.000,5, -999.000,9,  181.500,2,   17.680,2,   17.100,2,    0.000,2,    1.210,2, -999.000,9, -999.000,9, -999.000,9, -999.000,9, -999.000,9
           NA,    P03E,     64,   1,-999.0,      13,  2,19850408,2306,  24.2333, -136.4433,  4359,  396.600,    8.398,   34.032,2, -999.000,5, -999.000,9,  178.400,2,   27.950,2,   22.200,2,    0.010,2,    1.490,2, -999.000,9, -999.000,9, -999.000,9, -999.000,9, -999.000,9
           NA,    P03E,     64,   1,-999.0,      14,  2,19850408,2306,  24.2333, -136.4433,  4359,  456.900,    7.519,   34.019,2, -999.000,5, -999.000,9,  147.000,2,   38.980,2,   26.960,2,    0.010,2,    1.820,2, -999.000,9, -999.000,9, -999.000,9, -999.000,9, -999.000,9
           NA,    P03E,     64,   1,-999.0,      15,  2,19850408,2306,  24.2333, -136.4433,  4359,  525.400,    6.356,   34.038,2, -999.000,5, -999.000,9,   89.600,2,   56.880,2,   34.790,2,    0.000,2,    2.370,2, -999.000,9, -999.000,9, -999.000,9, -999.000,9, -999.000,9
           NA,    P03E,     64,   1,-999.0,      16,  2,19850408,2306,  24.2333, -136.4433,  4359,  606.800,    5.439,   34.119,2, -999.000,5, -999.000,9,   42.600,2,   76.700,2,   40.580,2,    0.000,2,    2.810,2, -999.000,9, -999.000,9, -999.000,9, -999.000,9, -999.000,9
           NA,    P03E,     64,   1,-999.0,      17,  2,19850408,2306,  24.2333, -136.4433,  4359,  708.500,    4.714,   34.253,2, -999.000,5, -999.000,9,   18.700,2,   95.960,2,   44.120,2,    0.000,2,    3.030,2, -999.000,9, -999.000,9, -999.000,9, -999.000,9, -999.000,9
           NA,    P03E,     64,   1,-999.0,      18,  2,19850408,2306,  24.2333, -136.4433,  4359,  809.900,    4.439,   34.371,2, -999.000,5, -999.000,9,   20.400,2,  102.790,2,   44.690,2,    0.010,2,    3.060,2, -999.000,9, -999.000,9, -999.000,9, -999.000,9, -999.000,9
           NA,    P03E,     64,   1,-999.0,      19,  2,19850408,2306,  24.2333, -136.4433,  4359,  910.500,    4.205,   34.444,2, -999.000,5, -999.000,9,   29.600,2,  107.320,2,   44.630,2,    0.010,2,    3.040,2, -999.000,9, -999.000,9, -999.000,9, -999.000,9, -999.000,9
           NA,    P03E,     64,   1,-999.0,      20,  2,19850408,2306,  24.2333, -136.4433,  4359, 1010.600,    3.952,   34.490,2, -999.000,5, -999.000,9,   36.900,2,  113.000,2,   44.640,2,    0.010,2,    3.030,2, -999.000,9, -999.000,9, -999.000,9, -999.000,9, -999.000,9
           NA,    P03E,     64,   1,-999.0,      21,  2,19850408,2306,  24.2333, -136.4433,  4359, 1109.900,    3.739,   34.510,2, -999.000,5, -999.000,9,   40.900,2,  118.110,2,   44.590,2,    0.000,2,    3.030,2, -999.000,9, -999.000,9, -999.000,9, -999.000,9, -999.000,9
           NA,    P03E,     64,   1,-999.0,      22,  2,19850408,2306,  24.2333, -136.4433,  4359, 1260.700,    3.365,   34.533,2, -999.000,5, -999.000,9,   48.700,2,  126.860,2,   44.230,2,    0.000,2,    3.010,2, -999.000,9, -999.000,9, -999.000,9, -999.000,9, -999.000,9
           NA,    P03E,     64,   1,-999.0,      23,  2,19850408,2306,  24.2333, -136.4433,  4359, 1412.500,    3.038,   34.557,2, -999.000,5, -999.000,9,   54.300,2,  134.270,2,   44.070,2,    0.000,2,    2.980,2, -999.000,9, -999.000,9, -999.000,9, -999.000,9, -999.000,9
           NA,    P03E,     64,   1,-999.0,      24,  2,19850408,2306,  24.2333, -136.4433,  4359, 1616.200,    2.684,   34.580,2, -999.000,5, -999.000,9,   63.000,2,  143.620,2,   43.600,2,    0.010,2,    2.930,2, -999.000,9, -999.000,9, -999.000,9, -999.000,9, -999.000,9
           NA,    P03E,     64,   1,-999.0,      25,  2,19850408,2306,  24.2333, -136.4433,  4359, 1817.300,    2.348,   34.602,2, -999.000,5, -999.000,9,   73.000,2,  151.810,2,   42.730,2,    0.010,2,    2.870,2, -999.000,9, -999.000,9, -999.000,9, -999.000,9, -999.000,9
           NA,    P03E,     64,   1,-999.0,      26,  2,19850408,2306,  24.2333, -136.4433,  4359, 2017.800,    2.126,   34.618,2, -999.000,5, -999.000,9,   83.400,2,  157.120,2,   42.060,2,    0.010,2,    2.810,2, -999.000,9, -999.000,9, -999.000,9, -999.000,9, -999.000,9
           NA,    P03E,     64,   1,-999.0,      27,  2,19850408,2306,  24.2333, -136.4433,  4359, 2218.300,    1.957,   34.632,2, -999.000,5, -999.000,9,   92.100,2,  159.540,2,   41.450,2,    0.010,2,    2.760,2, -999.000,9, -999.000,9, -999.000,9, -999.000,9, -999.000,9
           NA,    P03E,     64,   1,-999.0,      30,  2,19850408,2306,  24.2333, -136.4433,  4359, 2521.200,    1.752,   34.647,2, -999.000,5, -999.000,9,  104.300,2,  164.490,2,   40.590,2,    0.010,2,    2.680,2, -999.000,9, -999.000,9, -999.000,9, -999.000,9, -999.000,9
           NA,    P03E,     64,   1,-999.0,      29,  2,19850408,2306,  24.2333, -136.4433,  4359, 2521.600,    1.753,   34.647,2, -999.000,5, -999.000,9,  104.300,2,  164.960,2,   40.640,2,    0.010,2,    2.680,2, -999.000,9, -999.000,9, -999.000,9, -999.000,9, -999.000,9
           NA,    P03E,     64,   1,-999.0,      28,  2,19850408,2306,  24.2333, -136.4433,  4359, 2522.200,    1.753,   34.647,2, -999.000,5, -999.000,9,  104.300,2,  164.660,2,   40.630,2,    0.010,2,    2.690,2, -999.000,9, -999.000,9, -999.000,9, -999.000,9, -999.000,9
           NA,    P03E,     64,   1,-999.0,      31,  2,19850408,2306,  24.2333, -136.4433,  4359, 2826.200,    1.619,   34.658,2, -999.000,5, -999.000,9,  116.000,2,  166.530,2,   39.930,2,    0.010,2,    2.620,2, -999.000,9, -999.000,9, -999.000,9, -999.000,9, -999.000,9
           NA,    P03E,     64,   1,-999.0,      32,  2,19850408,2306,  24.2333, -136.4433,  4359, 3129.300,    1.544,   34.667,2, -999.000,5, -999.000,9,  126.000,2,  165.670,2,   39.120,2,    0.010,2,    2.580,2, -999.000,9, -999.000,9, -999.000,9, -999.000,9, -999.000,9
           NA,    P03E,     64,   1,-999.0,      37,  2,19850408,2306,  24.2333, -136.4433,  4359, 3433.900,    1.495,   34.675,2, -999.000,5, -999.000,9,  134.700,2,  162.310,2,   38.520,2,    0.010,2,    2.530,2, -999.000,9, -999.000,9, -999.000,9, -999.000,9, -999.000,9
           NA,    P03E,     64,   1,-999.0,      34,  2,19850408,2306,  24.2333, -136.4433,  4359, 3740.800,    1.483,   34.679,2, -999.000,5, -999.000,9,  140.800,2,  158.950,2,   38.070,2,    0.010,2,    2.490,2, -999.000,9, -999.000,9, -999.000,9, -999.000,9, -999.000,9
           NA,    P03E,     64,   1,-999.0,      35,  2,19850408,2306,  24.2333, -136.4433,  4359, 4047.300,    1.484,   34.682,2, -999.000,5, -999.000,9,  146.400,2,  156.760,2,   37.630,2,    0.010,2,    2.450,2, -999.000,9, -999.000,9, -999.000,9, -999.000,9, -999.000,9
           NA,    P03E,     64,   1,-999.0,      36,  2,19850408,2306,  24.2333, -136.4433,  4359, 4403.400,    1.478,   34.686,2, -999.000,5, -999.000,9,  152.100,2,  150.340,2,   37.090,2,    0.000,2,    2.420,2, -999.000,9, -999.000,9, -999.000,9, -999.000,9, -999.000,9
           NA,    P03E,     62,   1,-999.0,       2,  2,19850408,1544,  24.2533, -135.6200,  4499,    1.300,   19.617,   35.272,2,   35.275,2, -999.000,9,  230.400,2,    2.400,2,    0.080,2,    0.000,2,    0.150,2, -999.000,9, -999.000,9, -999.000,9, -999.000,9, -999.000,9
           NA,    P03E,     62,   1,-999.0,       3,  2,19850408,1544,  24.2533, -135.6200,  4499,   19.900,   19.018,   35.131,2,   35.136,2, -999.000,9,  232.700,2,    2.370,2,    0.080,2,    0.000,2,    0.150,2, -999.000,9, -999.000,9, -999.000,9, -999.000,9, -999.000,9
           NA,    P03E,     62,   1,-999.0,       4,  2,19850408,1544,  24.2533, -135.6200,  4499,   34.800,   18.803,   35.074,2,   35.073,2, -999.000,9,  233.500,2,    1.960,2,    0.080,2,    0.000,2,    0.150,2, -999.000,9, -999.000,9, -999.000,9, -999.000,9, -999.000,9
           NA,    P03E,     62,   1,-999.0,       5,  2,19850408,1544,  24.2533, -135.6200,  4499,   54.600,   18.911,   35.124,2,   35.126,2, -999.000,9,  231.500,2,    1.740,2,    0.070,2,    0.010,2,    0.140,2, -999.000,9, -999.000,9, -999.000,9, -999.000,9, -999.000,9
           NA,    P03E,     62,   1,-999.0,       6,  2,19850408,1544,  24.2533, -135.6200,  4499,   73.900,   18.937,   35.141,2,   35.142,2, -999.000,9,  231.700,2,    1.700,2,    0.070,2,    0.010,2,    0.140,2, -999.000,9, -999.000,9, -999.000,9, -999.000,9, -999.000,9
           NA,    P03E,     62,   1,-999.0,       7,  2,19850408,1544,  24.2533, -135.6200,  4499,   93.900,   18.939,   35.143,2,   35.144,2, -999.000,9,  231.000,2,    1.480,2,    0.070,2,    0.010,2,    0.140,2, -999.000,9, -999.000,9, -999.000,9, -999.000,9, -999.000,9
           NA,    P03E,     62,   1,-999.0,       8,  2,19850408,1544,  24.2533, -135.6200,  4499,  124.200,   19.062,   35.190,2,   35.175,2, -999.000,9,  229.200,2,    1.450,2,    0.030,2,    0.040,2,    0.140,2, -999.000,9, -999.000,9, -999.000,9, -999.000,9, -999.000,9
           NA,    P03E,     62,   1,-999.0,       9,  2,19850408,1544,  24.2533, -135.6200,  4499,  154.500,   18.922,   35.150,2,   35.146,2, -999.000,9,  230.300,2,    1.610,2,    0.050,2,    0.070,2,    0.140,2, -999.000,9, -999.000,9, -999.000,9, -999.000,9, -999.000,9
           NA,    P03E,     62,   1,-999.0,      10,  2,19850408,1544,  24.2533, -135.6200,  4499,  195.300,   17.900,   34.938,2,   34.899,2, -999.000,9,  218.400,2,    2.710,2,    1.310,2,    0.060,2,    0.240,2, -999.000,9, -999.000,9, -999.000,9, -999.000,9, -999.000,9
           NA,    P03E,     62,   1,-999.0,      11,  2,19850408,1544,  24.2533, -135.6200,  4499,  236.200,   14.570,   34.308,2,   34.320,2, -999.000,9,  214.600,2,    4.760,2,    4.360,2,    0.010,2,    0.440,2, -999.000,9, -999.000,9, -999.000,9, -999.000,9, -999.000,9
           NA,    P03E,     62,   1,-999.0,      12,  2,19850408,1544,  24.2533, -135.6200,  4499,  286.600,   11.493,   34.039,2,   34.025,2, -999.000,9,  208.200,2,   12.110,2,   11.590,2,    0.010,2,    0.870,2, -999.000,9, -999.000,9, -999.000,9, -999.000,9, -999.000,9
           NA,    P03E,     62,   1,-999.0,      13,  2,19850408,1544,  24.2533, -135.6200,  4499,  337.100,    8.902,   34.005,2,   34.005,2, -999.000,9,  176.500,2,   26.260,2,   21.250,2,    0.010,2,    1.470,2, -999.000,9, -999.000,9, -999.000,9, -999.000,9, -999.000,9
           NA,    P03E,     62,   1,-999.0,      14,  2,19850408,1544,  24.2533, -135.6200,  4499,  397.500,    7.778,   34.023,2,   34.023,2, -999.000,9,  148.000,2,   37.200,2,   26.530,2,    0.010,2,    1.810,2, -999.000,9, -999.000,9, -999.000,9, -999.000,9, -999.000,9
           NA,    P03E,     62,   1,-999.0,      15,  2,19850408,1544,  24.2533, -135.6200,  4499,  457.700,    6.731,   34.036,2,   34.035,2, -999.000,9,  102.500,2,   52.300,2,   32.830,2,    0.010,2,    2.270,2, -999.000,9, -999.000,9, -999.000,9, -999.000,9, -999.000,9
           NA,    P03E,     62,   1,-999.0,      16,  2,19850408,1544,  24.2533, -135.6200,  4499,  528.500,    5.879,   34.088,2,   34.089,2, -999.000,9,   57.300,2,   69.310,2,   38.880,2,    0.000,2,    2.690,2, -999.000,9, -999.000,9, -999.000,9, -999.000,9, -999.000,9
           NA,    P03E,     62,   1,-999.0,      17,  2,19850408,1544,  24.2533, -135.6200,  4499,  608.500,    4.993,   34.169,2,   34.170,2, -999.000,9,   31.100,2,   88.230,2,   42.990,2,    0.000,2,    2.960,2, -999.000,9, -999.000,9, -999.000,9, -999.000,9, -999.000,9
           NA,    P03E,     62,   1,-999.0,      18,  2,19850408,1544,  24.2533, -135.6200,  4499,  708.200,    4.631,   34.306,2,   34.304,2, -999.000,9,   18.300,2,   99.380,2,   44.970,2,    0.000,2,    3.080,2, -999.000,9, -999.000,9, -999.000,9, -999.000,9, -999.000,9
           NA,    P03E,     62,   1,-999.0,      19,  2,19850408,1544,  24.2533, -135.6200,  4499,  807.900,    4.403,   34.406,2,   34.406,2, -999.000,9,   25.200,2,  104.260,2,   45.000,2,    0.000,2,    3.080,2, -999.000,9, -999.000,9, -999.000,9, -999.000,9, -999.000,9
           NA,    P03E,     62,   1,-999.0,      20,  2,19850408,1544,  24.2533, -135.6200,  4499,  909.200,    4.182,   34.453,2,   34.453,2, -999.000,9,   32.200,2,  108.390,2,   45.040,2,    0.000,2,    3.070,2, -999.000,9, -999.000,9, -999.000,9, -999.000,9, -999.000,9
           NA,    P03E,     62,   1,-999.0,      21,  2,19850408,1544,  24.2533, -135.6200,  4499, 1009.500,    3.947,   34.493,2,   34.493,2, -999.000,9,   36.700,2,  113.090,2,   45.020,2,    0.000,2,    3.070,2, -999.000,9, -999.000,9, -999.000,9, -999.000,9, -999.000,9
           NA,    P03E,     62,   1,-999.0,      22,  2,19850408,1544,  24.2533, -135.6200,  4499, 1111.200,    3.670,   34.515,2,   34.515,2, -999.000,9,   43.800,2,  119.690,2,   44.950,2,    0.000,2,    3.050,2, -999.000,9, -999.000,9, -999.000,9, -999.000,9, -999.000,9
           NA,    P03E,     62,   1,-999.0,      23,  2,19850408,1544,  24.2533, -135.6200,  4499, 1262.000,    3.343,   34.538,2,   34.538,2, -999.000,9,   49.700,2,  127.440,2,   44.890,2,    0.000,2,    3.040,2, -999.000,9, -999.000,9, -999.000,9, -999.000,9, -999.000,9
           NA,    P03E,     62,   1,-999.0,      24,  2,19850408,1544,  24.2533, -135.6200,  4499, 1413.700,    3.036,   34.556,2,   34.557,2, -999.000,9,   53.200,2,  135.010,2,   44.500,2,    0.000,2,    3.000,2, -999.000,9, -999.000,9, -999.000,9, -999.000,9, -999.000,9
           NA,    P03E,     62,   1,-999.0,      25,  2,19850408,1544,  24.2533, -135.6200,  4499, 1615.400,    2.663,   34.582,2,   34.582,2, -999.000,9,   64.600,2,  143.920,2,   43.860,2,    0.000,2,    2.940,2, -999.000,9, -999.000,9, -999.000,9, -999.000,9, -999.000,9
           NA,    P03E,     62,   1,-999.0,      26,  2,19850408,1544,  24.2533, -135.6200,  4499, 1817.200,    2.380,   34.601,2,   34.602,2, -999.000,9,   74.000,2,  151.320,2,   43.270,2,    0.000,2,    2.890,2, -999.000,9, -999.000,9, -999.000,9, -999.000,9, -999.000,9
           NA,    P03E,     62,   1,-999.0,      27,  2,19850408,1544,  24.2533, -135.6200,  4499, 2018.600,    2.132,   34.618,2,   34.619,2, -999.000,9,   83.500,2,  157.380,2,   42.470,2,    0.000,2,    2.830,2, -999.000,9, -999.000,9, -999.000,9, -999.000,9, -999.000,9
           NA,    P03E,     62,   1,-999.0,      28,  2,19850408,1544,  24.2533, -135.6200,  4499, 2221.700,    1.968,   34.631,2,   34.631,2, -999.000,9,   92.800,2,  160.180,2,   41.790,2,    0.000,2,    2.780,2, -999.000,9, -999.000,9, -999.000,9, -999.000,9, -999.000,9
           NA,    P03E,     62,   1,-999.0,      29,  2,19850408,1544,  24.2533, -135.6200,  4499, 2524.600,    1.748,   34.647,2,   34.648,2, -999.000,9,  105.400,2,  165.290,2,   41.100,2,    0.000,2,    2.700,2, -999.000,9, -999.000,9, -999.000,9, -999.000,9, -999.000,9
           NA,    P03E,     62,   1,-999.0,      30,  2,19850408,1544,  24.2533, -135.6200,  4499, 2830.800,    1.607,   34.659,2,   34.659,2, -999.000,9,  116.800,2,  166.940,2,   40.160,2,    0.010,2,    2.650,2, -999.000,9, -999.000,9, -999.000,9, -999.000,9, -999.000,9
           NA,    P03E,     62,   1,-999.0,      31,  2,19850408,1544,  24.2533, -135.6200,  4499, 3136.300,    1.534,   34.668,2,   34.669,2, -999.000,9,  127.900,2,  165.150,2,   39.530,2,    0.010,2,    2.580,2, -999.000,9, -999.000,9, -999.000,9, -999.000,9, -999.000,9
           NA,    P03E,     62,   1,-999.0,      32,  2,19850408,1544,  24.2533, -135.6200,  4499, 3443.000,    1.500,   34.675,2,   34.674,2, -999.000,9,  135.300,2,  163.160,2,   38.770,2,    0.000,2,    2.540,2, -999.000,9, -999.000,9, -999.000,9, -999.000,9, -999.000,9
           NA,    P03E,     62,   1,-999.0,      37,  2,19850408,1544,  24.2533, -135.6200,  4499, 3747.400,    1.485,   34.679,2,   34.678,2, -999.000,9,  142.400,2,  160.030,2,   38.500,2,    0.010,2,    2.510,2, -999.000,9, -999.000,9, -999.000,9, -999.000,9, -999.000,9
           NA,    P03E,     62,   1,-999.0,      34,  2,19850408,1544,  24.2533, -135.6200,  4499, 4054.700,    1.482,   34.682,2,   34.682,2, -999.000,9,  146.900,2,  155.950,2,   37.980,2,    0.000,2,    2.470,2, -999.000,9, -999.000,9, -999.000,9, -999.000,9, -999.000,9
           NA,    P03E,     62,   1,-999.0,      35,  2,19850408,1544,  24.2533, -135.6200,  4499, 4310.700,    1.488,   34.684,2,   34.684,2, -999.000,9,  151.600,2,  153.210,2,   37.570,2,    0.000,2,    2.450,2, -999.000,9, -999.000,9, -999.000,9, -999.000,9, -999.000,9
           NA,    P03E,     62,   1,-999.0,      36,  2,19850408,1544,  24.2533, -135.6200,  4499, 4556.200,    1.503,   34.685,2,   34.685,2, -999.000,9,  153.800,2,  151.800,2,   37.510,2,    0.000,2,    2.440,2, -999.000,9, -999.000,9, -999.000,9, -999.000,9, -999.000,9