BOTTLE,20203103JOAExport
EXPOCODE,SECT_ID,STNNBR,CASTNO,SAMPNO,BTLNBR,BTLNBR_FLAG_W,DATE,TIME,LATITUDE,LONGITUDE,DEPTH,CTDPRS,CTDTMP,CTDSAL,CTDSAL_FLAG_W,SALNTY,SALNTY_FLAG_W,CTDOXY,CTDOXY_FLAG_W,OXYGEN,OXYGEN_FLAG_W,SILCAT,SILCAT_FLAG_W,NITRAT,NITRAT_FLAG_W,NITRIT,NITRIT_FLAG_W,PHSPHT,PHSPHT_FLAG_W,CFC-11,CFC-11_FLAG_W,CFC-12,CFC-12_FLAG_W,SF6,SF6_FLAG_W,TCARBN,TCARBN_FLAG_W,ALKALI,ALKALI_FLAG_W
,,,,,,,,,,,,,DB,ITS-90,PSS-78,,PSS-78,,UMOL/KG,,UMOL/KG,,UMOL/KG,,UMOL/KG,,UMOL/KG,,UMOL/KG,,PMOL/KG,,PMOL/KG,,FMOL/KG,,UMOL/KG,,UMOL/KG
           NA,    P03E,    183,   1,-999.0,       1,  2,19850427,1051,  24.2417, -174.4333,  5057,    0.100,   23.867,   35.305,2,   35.307,2, -999.000,9,  213.500,2,    1.640,2,    0.040,2, -999.000,5,    0.040,2, -999.000,9, -999.000,9, -999.000,9, -999.000,9, -999.000,9
           NA,    P03E,    183,   1,-999.0,       2,  2,19850427,1051,  24.2417, -174.4333,  5057,   23.400,   23.818,   35.303,2,   35.305,2, -999.000,9,  214.700,2,    1.540,2,    0.040,2, -999.000,5,    0.030,2, -999.000,9, -999.000,9, -999.000,9, -999.000,9, -999.000,9
           NA,    P03E,    183,   1,-999.0,       3,  2,19850427,1051,  24.2417, -174.4333,  5057,   43.500,   23.801,   35.302,2,   35.304,2, -999.000,9,  213.500,2,    1.440,2,    0.040,2, -999.000,5,    0.030,2, -999.000,9, -999.000,9, -999.000,9, -999.000,9, -999.000,9
           NA,    P03E,    183,   1,-999.0,       4,  2,19850427,1051,  24.2417, -174.4333,  5057,   73.100,   23.357,   35.386,2,   35.386,2, -999.000,9,  217.900,2,    1.330,2,    0.040,2, -999.000,5,    0.010,2, -999.000,9, -999.000,9, -999.000,9, -999.000,9, -999.000,9
           NA,    P03E,    183,   1,-999.0,       5,  2,19850427,1051,  24.2417, -174.4333,  5057,  103.200,   23.035,   35.373,2,   35.374,2, -999.000,9,  218.300,2,    1.420,2,    0.040,2, -999.000,5,    0.000,2, -999.000,9, -999.000,9, -999.000,9, -999.000,9, -999.000,9
           NA,    P03E,    183,   1,-999.0,       6,  2,19850427,1051,  24.2417, -174.4333,  5057,  143.400,   20.850,   35.103,2,   35.106,2, -999.000,9,  190.000,2,    2.840,2,    1.740,2, -999.000,5,    0.190,2, -999.000,9, -999.000,9, -999.000,9, -999.000,9, -999.000,9
           NA,    P03E,    183,   1,-999.0,       7,  2,19850427,1051,  24.2417, -174.4333,  5057,  183.500,   18.665,   34.934,2,   34.940,2, -999.000,9,  192.400,2,    3.880,2,    3.300,2, -999.000,5,    0.290,2, -999.000,9, -999.000,9, -999.000,9, -999.000,9, -999.000,9
           NA,    P03E,    183,   1,-999.0,       8,  2,19850427,1051,  24.2417, -174.4333,  5057,  233.800,   16.257,   34.721,2,   34.718,2, -999.000,9,  210.000,2,    4.920,2,    5.060,2, -999.000,5,    0.370,2, -999.000,9, -999.000,9, -999.000,9, -999.000,9, -999.000,9
           NA,    P03E,    183,   1,-999.0,       9,  2,19850427,1051,  24.2417, -174.4333,  5057,  283.500,   14.953,   34.607,2,   34.605,2, -999.000,9,  209.800,2,    7.230,2,    6.990,2, -999.000,5,    0.500,2, -999.000,9, -999.000,9, -999.000,9, -999.000,9, -999.000,9
           NA,    P03E,    183,   1,-999.0,      10,  2,19850427,1051,  24.2417, -174.4333,  5057,  334.300,   13.519,   34.480,2,   34.479,2, -999.000,9,  210.300,2,   10.170,2,    9.360,2, -999.000,5,    0.640,2, -999.000,9, -999.000,9, -999.000,9, -999.000,9, -999.000,9
           NA,    P03E,    183,   1,-999.0,      11,  2,19850427,1051,  24.2417, -174.4333,  5057,  381.900,   11.934,   34.328,2,   34.327,2, -999.000,9,  204.600,2,   14.370,2,   12.220,2, -999.000,5,    0.860,2, -999.000,9, -999.000,9, -999.000,9, -999.000,9, -999.000,9
           NA,    P03E,    183,   1,-999.0,      12,  2,19850427,1051,  24.2417, -174.4333,  5057,  442.600,   10.141,   34.202,2,   34.201,2, -999.000,9,  192.700,2,   21.900,2,   17.010,2, -999.000,5,    1.170,2, -999.000,9, -999.000,9, -999.000,9, -999.000,9, -999.000,9
           NA,    P03E,    183,   1,-999.0,      13,  2,19850427,1051,  24.2417, -174.4333,  5057,  503.500,    8.582,   34.128,2,   34.131,2, -999.000,9,  171.800,2,   32.850,2,   21.710,2, -999.000,5,    1.520,2, -999.000,9, -999.000,9, -999.000,9, -999.000,9, -999.000,9
           NA,    P03E,    183,   1,-999.0,      14,  2,19850427,1051,  24.2417, -174.4333,  5057,  572.300,    7.319,   34.085,2,   34.086,2, -999.000,9,  143.100,2,   46.550,2,   26.990,2, -999.000,5,    1.910,2, -999.000,9, -999.000,9, -999.000,9, -999.000,9, -999.000,9
           NA,    P03E,    183,   1,-999.0,      15,  2,19850427,1051,  24.2417, -174.4333,  5057,  642.200,    6.422,   34.079,2,   34.080,2, -999.000,9,  115.200,2,   59.450,2,   31.290,2, -999.000,5,    2.220,2, -999.000,9, -999.000,9, -999.000,9, -999.000,9, -999.000,9
           NA,    P03E,    183,   1,-999.0,      16,  2,19850427,1051,  24.2417, -174.4333,  5057,  724.200,    5.448,   34.125,2,   34.127,2, -999.000,9,   77.700,2,   77.540,2,   36.370,2, -999.000,5,    2.590,2, -999.000,9, -999.000,9, -999.000,9, -999.000,9, -999.000,9
           NA,    P03E,    183,   1,-999.0,      38,  2,19850427,1051,  24.2417, -174.4333,  5057,  805.600,    4.837,   34.186,2,   34.187,2, -999.000,9,   56.700,2,   90.630,2,   39.210,2, -999.000,5,    2.760,2, -999.000,9, -999.000,9, -999.000,9, -999.000,9, -999.000,9
           NA,    P03E,    183,   1,-999.0,      18,  2,19850427,1051,  24.2417, -174.4333,  5057,  906.000,    4.167,   34.290,2,   34.291,2, -999.000,9,   39.700,2,  106.970,2,   41.700,2, -999.000,5,    2.940,2, -999.000,9, -999.000,9, -999.000,9, -999.000,9, -999.000,9
           NA,    P03E,    183,   1,-999.0,      19,  2,19850427,1051,  24.2417, -174.4333,  5057, 1007.300,    3.749,   34.365,2,   34.362,2, -999.000,9,   38.300,2,  116.250,2,   42.610,2, -999.000,5,    3.000,2, -999.000,9, -999.000,9, -999.000,9, -999.000,9, -999.000,9
           NA,    P03E,    183,   1,-999.0,      17,  2,19850427,1051,  24.2417, -174.4333,  5057, 1106.900,    3.575,   34.441,2,   34.442,2, -999.000,9,   46.600,2,  120.560,2,   42.240,2, -999.000,5,    2.950,2, -999.000,9, -999.000,9, -999.000,9, -999.000,9, -999.000,9
           NA,    P03E,    183,   1,-999.0,      21,  2,19850427,1051,  24.2417, -174.4333,  5057, 1257.400,    3.116,   34.495,2,   34.495,2, -999.000,9,   54.900,2,  131.770,2,   41.980,2, -999.000,5,    2.950,2, -999.000,9, -999.000,9, -999.000,9, -999.000,9, -999.000,9
           NA,    P03E,    183,   1,-999.0,      39,  2,19850427,1051,  24.2417, -174.4333,  5057, 1413.100,    2.777,   34.530,2,   34.531,2, -999.000,9,   64.000,2, -999.000,5, -999.000,5, -999.000,5, -999.000,5, -999.000,9, -999.000,9, -999.000,9, -999.000,9, -999.000,9
           NA,    P03E,    183,   1,-999.0,      23,  2,19850427,1051,  24.2417, -174.4333,  5057, 1616.900,    2.437,   34.570,2,   34.571,2, -999.000,9,   76.800,2,  145.410,2,   40.820,2, -999.000,5,    2.860,2, -999.000,9, -999.000,9, -999.000,9, -999.000,9, -999.000,9
           NA,    P03E,    183,   1,-999.0,      24,  2,19850427,1051,  24.2417, -174.4333,  5057, 1818.300,    2.192,   34.595,2,   34.596,2, -999.000,9,   86.400,2,  151.290,2,   40.400,2, -999.000,5,    2.820,2, -999.000,9, -999.000,9, -999.000,9, -999.000,9, -999.000,9
           NA,    P03E,    183,   1,-999.0,      25,  2,19850427,1051,  24.2417, -174.4333,  5057, 2018.700,    1.971,   34.615,2,   34.616,2, -999.000,9,   96.400,2,  154.280,2,   39.660,2, -999.000,5,    2.770,2, -999.000,9, -999.000,9, -999.000,9, -999.000,9, -999.000,9
           NA,    P03E,    183,   1,-999.0,      26,  2,19850427,1051,  24.2417, -174.4333,  5057, 2217.100,    1.840,   34.628,2,   34.628,2, -999.000,9,  104.800,2,  154.400,2,   39.140,2, -999.000,5,    2.740,2, -999.000,9, -999.000,9, -999.000,9, -999.000,9, -999.000,9
           NA,    P03E,    183,   1,-999.0,      27,  2,19850427,1051,  24.2417, -174.4333,  5057, 2510.500,    1.701,   34.643,2,   34.643,2, -999.000,9,  114.600,2,  154.710,2,   38.570,2, -999.000,5,    2.680,2, -999.000,9, -999.000,9, -999.000,9, -999.000,9, -999.000,9
           NA,    P03E,    183,   1,-999.0,      28,  2,19850427,1051,  24.2417, -174.4333,  5057, 2816.900,    1.610,   34.654,2,   34.653,2, -999.000,9,  124.600,2,  154.440,2,   37.990,2, -999.000,5,    2.640,2, -999.000,9, -999.000,9, -999.000,9, -999.000,9, -999.000,9
           NA,    P03E,    183,   1,-999.0,      29,  2,19850427,1051,  24.2417, -174.4333,  5057, 3120.900,    1.532,   34.664,2,   34.664,2, -999.000,9,  132.700,2,  153.400,2,   37.580,2, -999.000,5,    2.590,2, -999.000,9, -999.000,9, -999.000,9, -999.000,9, -999.000,9
           NA,    P03E,    183,   1,-999.0,      30,  2,19850427,1051,  24.2417, -174.4333,  5057, 3418.800,    1.494,   34.671,2,   34.670,2, -999.000,9,  140.200,2,  152.360,2,   36.850,2, -999.000,5,    2.560,2, -999.000,9, -999.000,9, -999.000,9, -999.000,9, -999.000,9
           NA,    P03E,    183,   1,-999.0,      31,  2,19850427,1051,  24.2417, -174.4333,  5057, 3724.200,    1.463,   34.677,2,   34.676,2, -999.000,9,  148.800,2,  150.350,2,   36.540,2, -999.000,5,    2.520,2, -999.000,9, -999.000,9, -999.000,9, -999.000,9, -999.000,9
           NA,    P03E,    183,   1,-999.0,      32,  2,19850427,1051,  24.2417, -174.4333,  5057, 4028.900,    1.448,   34.681,2,   34.681,2, -999.000,9,  153.200,2,  148.350,2,   36.280,2, -999.000,5,    2.520,2, -999.000,9, -999.000,9, -999.000,9, -999.000,9, -999.000,9
           NA,    P03E,    183,   1,-999.0,      37,  2,19850427,1051,  24.2417, -174.4333,  5057, 4335.000,    1.439,   34.685,2,   34.685,2, -999.000,9,  160.100,2,  146.540,2,   35.820,2, -999.000,5,    2.470,2, -999.000,9, -999.000,9, -999.000,9, -999.000,9, -999.000,9
           NA,    P03E,    183,   1,-999.0,      34,  2,19850427,1051,  24.2417, -174.4333,  5057, 4637.900,    1.435,   34.688,2,   34.687,2, -999.000,9,  167.300,2,  141.270,2,   35.250,2, -999.000,5,    2.430,2, -999.000,9, -999.000,9, -999.000,9, -999.000,9, -999.000,9
           NA,    P03E,    183,   1,-999.0,      35,  2,19850427,1051,  24.2417, -174.4333,  5057, 4894.500,    1.435,   34.690,2,   34.690,2, -999.000,9,  170.300,2,  136.960,2,   34.790,2, -999.000,5,    2.390,2, -999.000,9, -999.000,9, -999.000,9, -999.000,9, -999.000,9
           NA,    P03E,    183,   1,-999.0,      36,  2,19850427,1051,  24.2417, -174.4333,  5057, 5127.400,    1.449,   34.692,2,   34.692,2, -999.000,9,  172.700,2,  134.960,2,   34.490,2, -999.000,5,    2.380,2, -999.000,9, -999.000,9, -999.000,9, -999.000,9, -999.000,9