BOTTLE,20203103JOAExport
EXPOCODE,SECT_ID,STNNBR,CASTNO,SAMPNO,BTLNBR,BTLNBR_FLAG_W,DATE,TIME,LATITUDE,LONGITUDE,DEPTH,CTDPRS,CTDTMP,CTDSAL,CTDSAL_FLAG_W,SALNTY,SALNTY_FLAG_W,CTDOXY,CTDOXY_FLAG_W,OXYGEN,OXYGEN_FLAG_W,SILCAT,SILCAT_FLAG_W,NITRAT,NITRAT_FLAG_W,NITRIT,NITRIT_FLAG_W,PHSPHT,PHSPHT_FLAG_W,CFC-11,CFC-11_FLAG_W,CFC-12,CFC-12_FLAG_W,SF6,SF6_FLAG_W,TCARBN,TCARBN_FLAG_W,ALKALI,ALKALI_FLAG_W
,,,,,,,,,,,,,DB,ITS-90,PSS-78,,PSS-78,,UMOL/KG,,UMOL/KG,,UMOL/KG,,UMOL/KG,,UMOL/KG,,UMOL/KG,,PMOL/KG,,PMOL/KG,,FMOL/KG,,UMOL/KG,,UMOL/KG
           NA,    P03E,     79,   1,-999.0,       1,  2,19850412,0115,  24.2550, -143.3183,  4530,    1.800,   21.699,   34.871,2,   34.872,2, -999.000,9,  224.900,2,    1.770,2,    0.050,2,    0.000,2,    0.140,2,    1.796,2,    0.915,2, -999.000,9, -999.000,9, -999.000,9
           NA,    P03E,     79,   1,-999.0,       2,  2,19850412,0115,  24.2550, -143.3183,  4530,   19.600,   21.338,   34.869,2,   34.871,2, -999.000,9,  225.500,2,    1.720,2,    0.050,2,    0.000,2,    0.140,2, -999.000,9, -999.000,9, -999.000,9, -999.000,9, -999.000,9
           NA,    P03E,     79,   1,-999.0,       3,  2,19850412,0115,  24.2550, -143.3183,  4530,   34.400,   21.232,   34.889,2,   34.886,2, -999.000,9,  226.100,2,    1.680,2,    0.050,2,    0.000,2,    0.140,2,    1.781,2,    0.911,2, -999.000,9, -999.000,9, -999.000,9
           NA,    P03E,     79,   1,-999.0,       4,  2,19850412,0115,  24.2550, -143.3183,  4530,   54.200,   20.877,   35.049,2,   35.045,2, -999.000,9,  226.300,2,    1.640,2,    0.050,2,    0.000,2,    0.130,2, -999.000,9, -999.000,9, -999.000,9, -999.000,9, -999.000,9
           NA,    P03E,     79,   1,-999.0,       5,  2,19850412,0115,  24.2550, -143.3183,  4530,   73.900,   20.705,   35.161,2,   35.161,2, -999.000,9,  223.500,2,    1.590,2,    0.050,2,    0.000,2,    0.130,2,    1.799,2,    0.916,2, -999.000,9, -999.000,9, -999.000,9
           NA,    P03E,     79,   1,-999.0,       6,  2,19850412,0115,  24.2550, -143.3183,  4530,   93.300,   20.851,   35.343,2,   35.338,2, -999.000,9,  225.000,2,    1.550,2,    0.010,2,    0.000,2,    0.080,2, -999.000,9, -999.000,9, -999.000,9, -999.000,9, -999.000,9
           NA,    P03E,     79,   1,-999.0,       7,  2,19850412,0115,  24.2550, -143.3183,  4530,  122.400,   20.702,   35.397,2,   35.398,2, -999.000,9,  223.800,2,    1.510,2,    0.010,2,    0.010,2,    0.060,2,    1.801,2,    0.915,2, -999.000,9, -999.000,9, -999.000,9
           NA,    P03E,     79,   1,-999.0,       8,  2,19850412,0115,  24.2550, -143.3183,  4530,  153.100,   20.544,   35.404,2,   35.406,2, -999.000,9,  221.800,2,    1.460,2,    0.050,2,    0.050,2,    0.070,2, -999.000,9, -999.000,9, -999.000,9, -999.000,9, -999.000,9
           NA,    P03E,     79,   1,-999.0,       9,  2,19850412,0115,  24.2550, -143.3183,  4530,  193.800,   19.058,   35.089,2,   35.085,2, -999.000,9,  205.500,2,    2.830,2,    1.620,2,    0.030,2,    0.190,2,    1.785,2,    0.908,2, -999.000,9, -999.000,9, -999.000,9
           NA,    P03E,     79,   1,-999.0,      10,  2,19850412,0115,  24.2550, -143.3183,  4530,  235.400,   15.444,   34.561,2,   34.562,2, -999.000,9,  207.400,2,    4.890,2,    4.370,2,    0.010,2,    0.400,2,    1.906,2,    0.954,2, -999.000,9, -999.000,9, -999.000,9
           NA,    P03E,     79,   1,-999.0,      11,  2,19850412,0115,  24.2550, -143.3183,  4530,  285.100,   12.958,   34.284,2,   34.279,2, -999.000,9,  216.000,2,    8.190,2,    7.750,2,    0.010,2,    0.620,2,    2.009,2,    0.981,2, -999.000,9, -999.000,9, -999.000,9
           NA,    P03E,     79,   1,-999.0,      12,  2,19850412,0115,  24.2550, -143.3183,  4530,  335.100,   10.707,   34.155,2,   34.156,2, -999.000,9,  212.500,2,   15.180,2,   13.440,2,    0.010,2,    0.940,2,    1.792,2,    0.874,2, -999.000,9, -999.000,9, -999.000,9
           NA,    P03E,     79,   1,-999.0,      13,  2,19850412,0115,  24.2550, -143.3183,  4530,  385.700,    9.238,   34.077,2,   34.077,2, -999.000,9,  175.900,2,   25.680,2,   20.130,2,    0.010,2,    1.410,2,    0.983,2,    0.500,2, -999.000,9, -999.000,9, -999.000,9
           NA,    P03E,     79,   1,-999.0,      14,  2,19850412,0115,  24.2550, -143.3183,  4530,  436.200,    7.763,   34.025,2,   34.025,2, -999.000,9,  161.600,2,   37.070,2,   25.060,2,    0.010,2,    1.700,2,    0.835,2,    0.415,2, -999.000,9, -999.000,9, -999.000,9
           NA,    P03E,     79,   1,-999.0,      15,  2,19850412,0115,  24.2550, -143.3183,  4530,  496.200,    6.643,   34.021,2,   34.020,2, -999.000,9,  114.900,2,   52.340,2,   31.670,2,    0.010,2,    2.140,2,    0.318,6,    0.177,2, -999.000,9, -999.000,9, -999.000,9
           NA,    P03E,     79,   1,-999.0,      16,  2,19850412,0115,  24.2550, -143.3183,  4530,  554.900,    5.639,   34.036,2,   34.034,2, -999.000,9,   78.900,2,   68.330,2,   37.000,2,    0.010,2,    2.500,2,    0.141,2,    0.077,2, -999.000,9, -999.000,9, -999.000,9
           NA,    P03E,     79,   1,-999.0,      17,  2,19850412,0115,  24.2550, -143.3183,  4530,  623.500,    4.983,   34.105,2,   34.105,2, -999.000,9,   46.400,2,   85.050,2,   41.090,2,    0.010,2,    2.790,2,    0.039,2,    0.014,2, -999.000,9, -999.000,9, -999.000,9
           NA,    P03E,     79,   1,-999.0,      18,  2,19850412,0115,  24.2550, -143.3183,  4530,  702.500,    4.600,   34.216,2,   34.217,2, -999.000,9,   24.100,2,   97.730,2,   43.640,2,    0.010,2,    3.000,2,    0.035,2,   -0.002,2, -999.000,9, -999.000,9, -999.000,9
           NA,    P03E,     79,   1,-999.0,      19,  2,19850412,0115,  24.2550, -143.3183,  4530,  802.900,    4.322,   34.341,2,   34.341,2, -999.000,9,   20.700,2,  107.050,2,   44.670,2,    0.010,2,    3.040,2,   -0.006,2,    0.003,2, -999.000,9, -999.000,9, -999.000,9
           NA,    P03E,     79,   1,-999.0,      20,  2,19850412,0115,  24.2550, -143.3183,  4530,  902.200,    4.168,   34.434,2,   34.435,2, -999.000,9,   32.800,2,  110.010,2,   44.100,2,    0.010,2,    3.000,2, -999.000,9,    0.001,2, -999.000,9, -999.000,9, -999.000,9
           NA,    P03E,     79,   1,-999.0,      21,  2,19850412,0115,  24.2550, -143.3183,  4530, 1001.800,    3.911,   34.482,2,   34.482,2, -999.000,9,   40.200,2,  115.090,2,   44.000,2,    0.010,2,    2.990,2,   -0.006,2,    0.001,2, -999.000,9, -999.000,9, -999.000,9
           NA,    P03E,     79,   1,-999.0,      22,  2,19850412,0115,  24.2550, -143.3183,  4530, 1101.900,    3.689,   34.508,2,   34.508,2, -999.000,9,   45.100,2,  120.190,2,   43.950,2,    0.010,2,    2.990,2, -999.000,9,    0.003,2, -999.000,9, -999.000,9, -999.000,9
           NA,    P03E,     79,   1,-999.0,      23,  2,19850412,0115,  24.2550, -143.3183,  4530, 1244.800,    3.344,   34.531,2,   34.532,2, -999.000,9,   52.300,2,  128.130,2,   43.650,2,    0.010,2,    2.960,2,   -0.010,2,    0.001,2, -999.000,9, -999.000,9, -999.000,9
           NA,    P03E,     79,   1,-999.0,      24,  2,19850412,0115,  24.2550, -143.3183,  4530, 1392.000,    3.055,   34.553,2,   34.553,2, -999.000,9,   58.100,2,  135.900,2,   43.550,2,    0.010,2,    2.940,2,    0.012,2, -999.000,9, -999.000,9, -999.000,9, -999.000,9
           NA,    P03E,     79,   1,-999.0,      25,  2,19850412,0115,  24.2550, -143.3183,  4530, 1590.900,    2.685,   34.574,2,   34.574,2, -999.000,9,   68.000,2,  143.870,2,   42.990,2,    0.010,2,    2.880,2, -999.000,9, -999.000,9, -999.000,9, -999.000,9, -999.000,9
           NA,    P03E,     79,   1,-999.0,      26,  2,19850412,0115,  24.2550, -143.3183,  4530, 1789.300,    2.359,   34.594,2,   34.597,2, -999.000,9,   75.000,2,  152.740,2,   42.480,2,    0.010,2,    2.840,2, -999.000,9, -999.000,9, -999.000,9, -999.000,9, -999.000,9
           NA,    P03E,     79,   1,-999.0,      27,  2,19850412,0115,  24.2550, -143.3183,  4530, 1989.800,    2.090,   34.614,2,   34.614,2, -999.000,9,   81.600,2,  161.090,2,   41.980,2,    0.010,2,    2.800,2, -999.000,9,   -0.003,2, -999.000,9, -999.000,9, -999.000,9
           NA,    P03E,     79,   1,-999.0,      28,  2,19850412,0115,  24.2550, -143.3183,  4530, 2191.600,    1.917,   34.628,2,   34.627,2, -999.000,9,   89.700,2,  166.590,2,   41.480,2,    0.010,2,    2.760,2, -999.000,9, -999.000,9, -999.000,9, -999.000,9, -999.000,9
           NA,    P03E,     79,   1,-999.0,      29,  2,19850412,0115,  24.2550, -143.3183,  4530, 2492.100,    1.713,   34.646,2,   34.646,2, -999.000,9,  102.900,2, -999.000,5,   40.530,2, -999.000,5,    2.680,2, -999.000,9, -999.000,9, -999.000,9, -999.000,9, -999.000,9
           NA,    P03E,     79,   1,-999.0,      30,  2,19850412,0115,  24.2550, -143.3183,  4530, 2796.200,    1.585,   34.659,2,   34.659,2, -999.000,9,  115.700,2, -999.000,5,   39.580,2, -999.000,5,    2.620,2, -999.000,9, -999.000,9, -999.000,9, -999.000,9, -999.000,9
           NA,    P03E,     79,   1,-999.0,      31,  2,19850412,0115,  24.2550, -143.3183,  4530, 3104.500,    1.501,   34.670,2,   34.670,2, -999.000,9,  128.100,2,  167.840,2,   38.790,2,    0.000,2,    2.550,2, -999.000,9,   -0.002,2, -999.000,9, -999.000,9, -999.000,9
           NA,    P03E,     79,   1,-999.0,      32,  2,19850412,0115,  24.2550, -143.3183,  4530, 3411.400,    1.462,   34.677,2,   34.676,2, -999.000,9,  138.300,2,  163.120,2,   38.000,2,    0.000,2,    2.490,2, -999.000,9, -999.000,9, -999.000,9, -999.000,9, -999.000,9
           NA,    P03E,     79,   1,-999.0,      37,  2,19850412,0115,  24.2550, -143.3183,  4530, 3719.200,    1.454,   34.681,2,   34.679,2, -999.000,9,  144.100,2,  160.550,2,   37.610,2,    0.000,2,    2.460,2, -999.000,9, -999.000,9, -999.000,9, -999.000,9, -999.000,9
           NA,    P03E,     79,   1,-999.0,      34,  2,19850412,0115,  24.2550, -143.3183,  4530, 4030.400,    1.460,   34.683,2,   34.683,2, -999.000,9,  149.100,2,  157.810,2,   37.220,2,    0.000,2,    2.430,2, -999.000,9, -999.000,9, -999.000,9, -999.000,9, -999.000,9
           NA,    P03E,     79,   1,-999.0,      35,  2,19850412,0115,  24.2550, -143.3183,  4530, 4339.500,    1.480,   34.685,2,   34.685,2, -999.000,9,  151.900,2,  155.420,2,   37.120,2,    0.000,2,    2.420,2, -999.000,9, -999.000,9, -999.000,9, -999.000,9, -999.000,9
           NA,    P03E,     79,   1,-999.0,      36,  2,19850412,0115,  24.2550, -143.3183,  4530, 4690.500,    1.490,   34.687,2,   34.687,2, -999.000,9,  157.300,2,  151.440,2,   36.730,2,    0.000,2,    2.400,2,    0.000,2,    0.003,2, -999.000,9, -999.000,9, -999.000,9
           NA,    P03E,     77,   1,-999.0,       2,  2,19850411,1734,  24.2433, -142.5833,  4793,   19.400,   21.028,   35.134,2,   35.136,2, -999.000,9,  225.600,2,    1.060,2,    0.180,2,    0.000,2,    0.090,2, -999.000,9, -999.000,9, -999.000,9, -999.000,9, -999.000,9
           NA,    P03E,     77,   1,-999.0,       3,  2,19850411,1734,  24.2433, -142.5833,  4793,   34.500,   20.763,   35.230,2,   35.227,2, -999.000,9,  226.300,2,    1.030,2,    0.180,2,    0.000,2,    0.090,2, -999.000,9, -999.000,9, -999.000,9, -999.000,9, -999.000,9
           NA,    P03E,     77,   1,-999.0,       4,  2,19850411,1734,  24.2433, -142.5833,  4793,   53.900,   20.655,   35.266,2,   35.266,2, -999.000,9,  225.300,2,    1.010,2,    0.170,2,    0.010,2,    0.090,2, -999.000,9, -999.000,9, -999.000,9, -999.000,9, -999.000,9
           NA,    P03E,     77,   1,-999.0,       5,  2,19850411,1734,  24.2433, -142.5833,  4793,   73.600,   20.550,   35.292,2,   35.292,2, -999.000,9,  225.100,2,    0.810,2,    0.180,2,    0.000,2,    0.090,2, -999.000,9, -999.000,9, -999.000,9, -999.000,9, -999.000,9
           NA,    P03E,     77,   1,-999.0,       6,  2,19850411,1734,  24.2433, -142.5833,  4793,   93.500,   20.498,   35.299,2,   35.301,2, -999.000,9,  221.000,2,    0.790,2,    0.220,2,    0.040,2,    0.090,2, -999.000,9, -999.000,9, -999.000,9, -999.000,9, -999.000,9
           NA,    P03E,     77,   1,-999.0,       7,  2,19850411,1734,  24.2433, -142.5833,  4793,  123.500,   20.497,   35.322,2,   35.325,2, -999.000,9,  223.000,2,    0.770,2,    0.100,2,    0.030,2,    0.090,2, -999.000,9, -999.000,9, -999.000,9, -999.000,9, -999.000,9
           NA,    P03E,     77,   1,-999.0,       8,  2,19850411,1734,  24.2433, -142.5833,  4793,  153.700,   20.466,   35.325,2,   35.325,2, -999.000,9,  221.800,2,    0.740,2,    0.100,2,    0.030,2,    0.090,2, -999.000,9, -999.000,9, -999.000,9, -999.000,9, -999.000,9
           NA,    P03E,     77,   1,-999.0,       9,  2,19850411,1734,  24.2433, -142.5833,  4793,  194.400,   18.411,   34.899,2,   34.896,2, -999.000,9,  200.900,2,    1.970,2,    2.270,2,    0.020,2,    0.260,2, -999.000,9, -999.000,9, -999.000,9, -999.000,9, -999.000,9
           NA,    P03E,     77,   1,-999.0,      10,  2,19850411,1734,  24.2433, -142.5833,  4793,  235.000,   15.981,   34.545,2,   34.538,2, -999.000,9,  201.000,2,    3.740,2,    4.390,2,    0.010,2,    0.410,2, -999.000,9, -999.000,9, -999.000,9, -999.000,9, -999.000,9
           NA,    P03E,     77,   1,-999.0,      11,  2,19850411,1734,  24.2433, -142.5833,  4793,  285.600,   12.988,   34.269,2,   34.259,2, -999.000,9,  207.700,2,    8.180,2,    8.460,2,    0.010,2,    0.660,2, -999.000,9, -999.000,9, -999.000,9, -999.000,9, -999.000,9
           NA,    P03E,     77,   1,-999.0,      12,  2,19850411,1734,  24.2433, -142.5833,  4793,  336.000,   10.632,   34.099,2,   34.099,2, -999.000,9,  196.300,2,   15.480,2,   14.790,2,    0.010,2,    1.050,2, -999.000,9, -999.000,9, -999.000,9, -999.000,9, -999.000,9
           NA,    P03E,     77,   1,-999.0,      13,  2,19850411,1734,  24.2433, -142.5833,  4793,  396.700,    8.929,   34.105,2,   34.106,2, -999.000,9,  137.100,2,   31.350,2,   24.070,2,    0.010,2,    1.760,2, -999.000,9, -999.000,9, -999.000,9, -999.000,9, -999.000,9
           NA,    P03E,     77,   1,-999.0,      14,  2,19850411,1734,  24.2433, -142.5833,  4793,  456.500,    7.463,   34.053,2,   34.052,2, -999.000,9,  124.500,2,   43.830,2,   28.920,2,    0.010,2,    2.020,2, -999.000,9, -999.000,9, -999.000,9, -999.000,9, -999.000,9
           NA,    P03E,     77,   1,-999.0,      15,  2,19850411,1734,  24.2433, -142.5833,  4793,  527.200,    6.034,   34.044,2,   34.044,2, -999.000,9,   83.900,2,   63.100,2,   35.810,2,    0.000,2,    2.450,2, -999.000,9, -999.000,9, -999.000,9, -999.000,9, -999.000,9
           NA,    P03E,     77,   1,-999.0,      16,  2,19850411,1734,  24.2433, -142.5833,  4793,  606.900,    5.209,   34.148,2,   34.146,2, -999.000,9,   39.300,2,   82.930,2,   41.490,2,    0.000,2,    2.850,2, -999.000,9, -999.000,9, -999.000,9, -999.000,9, -999.000,9
           NA,    P03E,     77,   1,-999.0,      17,  2,19850411,1734,  24.2433, -142.5833,  4793,  706.900,    4.596,   34.243,2,   34.243,2, -999.000,9,   22.000,2,   97.760,2,   44.110,2,    0.000,2,    3.030,2, -999.000,9, -999.000,9, -999.000,9, -999.000,9, -999.000,9
           NA,    P03E,     77,   1,-999.0,      18,  2,19850411,1734,  24.2433, -142.5833,  4793,  806.900,    4.364,   34.354,2,   34.359,2, -999.000,9,   21.900,2,  105.410,2,   44.570,2,    0.000,2,    3.040,2, -999.000,9, -999.000,9, -999.000,9, -999.000,9, -999.000,9
           NA,    P03E,     77,   1,-999.0,      19,  2,19850411,1734,  24.2433, -142.5833,  4793,  907.800,    4.201,   34.437,2,   34.437,2, -999.000,9,   32.700,2,  108.040,2,   44.200,2,    0.000,2,    3.040,2, -999.000,9, -999.000,9, -999.000,9, -999.000,9, -999.000,9
           NA,    P03E,     77,   1,-999.0,      20,  2,19850411,1734,  24.2433, -142.5833,  4793, 1008.000,    3.938,   34.482,2,   34.482,2, -999.000,9,   39.700,2,  113.360,2,   44.150,2,    0.000,2,    3.040,2, -999.000,9, -999.000,9, -999.000,9, -999.000,9, -999.000,9
           NA,    P03E,     77,   1,-999.0,      21,  2,19850411,1734,  24.2433, -142.5833,  4793, 1104.900,    3.663,   34.507,2,   34.508,2, -999.000,9,   45.600,2,  119.590,2,   43.990,2,    0.000,2,    3.020,2, -999.000,9, -999.000,9, -999.000,9, -999.000,9, -999.000,9
           NA,    P03E,     77,   1,-999.0,      22,  2,19850411,1734,  24.2433, -142.5833,  4793, 1304.900,    3.231,   34.541,2,   34.540,2, -999.000,9,   54.800,2,  129.590,2,   43.780,2,    0.000,2,    3.010,2, -999.000,9, -999.000,9, -999.000,9, -999.000,9, -999.000,9
           NA,    P03E,     77,   1,-999.0,      23,  2,19850411,1734,  24.2433, -142.5833,  4793, 1506.400,    2.863,   34.564,2,   34.564,2, -999.000,9,   62.500,2,  138.350,2,   43.260,2,    0.000,2,    2.930,2, -999.000,9, -999.000,9, -999.000,9, -999.000,9, -999.000,9
           NA,    P03E,     77,   1,-999.0,      24,  2,19850411,1734,  24.2433, -142.5833,  4793, 1707.900,    2.505,   34.587,2,   34.587,2, -999.000,9,   71.000,2,  147.480,2,   42.740,2,    0.000,2,    2.880,2, -999.000,9, -999.000,9, -999.000,9, -999.000,9, -999.000,9
           NA,    P03E,     77,   1,-999.0,      25,  2,19850411,1734,  24.2433, -142.5833,  4793, 1908.100,    2.217,   34.606,2,   34.607,2, -999.000,9,   79.400,2,  155.720,2,   42.220,2,    0.000,2,    2.840,2, -999.000,9, -999.000,9, -999.000,9, -999.000,9, -999.000,9
           NA,    P03E,     77,   1,-999.0,      26,  2,19850411,1734,  24.2433, -142.5833,  4793, 2109.900,    1.982,   34.624,2,   34.624,2, -999.000,9,   87.400,2,  163.240,2,   41.610,2,    0.000,2,    2.830,2, -999.000,9, -999.000,9, -999.000,9, -999.000,9, -999.000,9
           NA,    P03E,     77,   1,-999.0,      27,  2,19850411,1734,  24.2433, -142.5833,  4793, 2312.100,    1.828,   34.636,2,   34.636,2, -999.000,9,   95.800,2,  166.960,2,   41.190,2,    0.000,2,    2.750,2, -999.000,9, -999.000,9, -999.000,9, -999.000,9, -999.000,9
           NA,    P03E,     77,   1,-999.0,      28,  2,19850411,1734,  24.2433, -142.5833,  4793, 2514.000,    1.711,   34.647,2,   34.647,2, -999.000,9,  104.300,2,  167.050,2,   40.630,2,    0.000,2,    2.700,2, -999.000,9, -999.000,9, -999.000,9, -999.000,9, -999.000,9
           NA,    P03E,     77,   1,-999.0,      29,  2,19850411,1734,  24.2433, -142.5833,  4793, 2712.500,    1.622,   34.656,2,   34.656,2, -999.000,9,  113.100,2,  168.410,2,   40.070,2,    0.000,2,    2.660,2, -999.000,9, -999.000,9, -999.000,9, -999.000,9, -999.000,9
           NA,    P03E,     77,   1,-999.0,      30,  2,19850411,1734,  24.2433, -142.5833,  4793, 2912.800,    1.551,   34.665,2,   34.664,2, -999.000,9,  121.900,2,  167.050,2,   39.460,2,    0.000,2,    2.610,2, -999.000,9, -999.000,9, -999.000,9, -999.000,9, -999.000,9
           NA,    P03E,     77,   1,-999.0,      31,  2,19850411,1734,  24.2433, -142.5833,  4793, 3114.600,    1.518,   34.670,2,   34.670,2, -999.000,9,  128.100,2,  164.420,2,   39.060,2,    0.000,2,    2.580,2, -999.000,9, -999.000,9, -999.000,9, -999.000,9, -999.000,9
           NA,    P03E,     77,   1,-999.0,      32,  2,19850411,1734,  24.2433, -142.5833,  4793, 3415.700,    1.480,   34.676,2,   34.676,2, -999.000,9,  138.200,2,  162.170,2,   38.450,2,    0.000,2,    2.530,2, -999.000,9, -999.000,9, -999.000,9, -999.000,9, -999.000,9
           NA,    P03E,     77,   1,-999.0,      37,  2,19850411,1734,  24.2433, -142.5833,  4793, 3719.700,    1.461,   34.681,2,   34.680,2, -999.000,9,  144.400,2,  158.640,2,   37.900,2,    0.000,2,    2.490,2, -999.000,9, -999.000,9, -999.000,9, -999.000,9, -999.000,9
           NA,    P03E,     77,   1,-999.0,      34,  2,19850411,1734,  24.2433, -142.5833,  4793, 4018.400,    1.464,   34.683,2,   34.683,2, -999.000,9,  149.400,2,  155.670,2,   37.450,2,    0.000,2,    2.460,2, -999.000,9, -999.000,9, -999.000,9, -999.000,9, -999.000,9
           NA,    P03E,     77,   1,-999.0,      35,  2,19850411,1734,  24.2433, -142.5833,  4793, 4427.800,    1.486,   34.686,2,   34.686,2, -999.000,9,  153.800,2,  153.060,2,   37.050,2,    0.000,2,    2.450,2, -999.000,9, -999.000,9, -999.000,9, -999.000,9, -999.000,9
           NA,    P03E,     77,   1,-999.0,      36,  2,19850411,1734,  24.2433, -142.5833,  4793, 4834.600,    1.468,   34.690,2,   34.690,2, -999.000,9,  164.400,2,  144.520,2,   36.450,2,    0.000,2,    2.390,2, -999.000,9, -999.000,9, -999.000,9, -999.000,9, -999.000,9