BOTTLE,20203103JOAExport
EXPOCODE,SECT_ID,STNNBR,CASTNO,SAMPNO,BTLNBR,BTLNBR_FLAG_W,DATE,TIME,LATITUDE,LONGITUDE,DEPTH,CTDPRS,CTDTMP,CTDSAL,CTDSAL_FLAG_W,SALNTY,SALNTY_FLAG_W,CTDOXY,CTDOXY_FLAG_W,OXYGEN,OXYGEN_FLAG_W,SILCAT,SILCAT_FLAG_W,NITRAT,NITRAT_FLAG_W,NITRIT,NITRIT_FLAG_W,PHSPHT,PHSPHT_FLAG_W,CFC-11,CFC-11_FLAG_W,CFC-12,CFC-12_FLAG_W,SF6,SF6_FLAG_W,TCARBN,TCARBN_FLAG_W,ALKALI,ALKALI_FLAG_W
,,,,,,,,,,,,,DB,ITS-90,PSS-78,,PSS-78,,UMOL/KG,,UMOL/KG,,UMOL/KG,,UMOL/KG,,UMOL/KG,,UMOL/KG,,PMOL/KG,,PMOL/KG,,FMOL/KG,,UMOL/KG,,UMOL/KG
           NA,    P03E,      8,   1,-999.0,       1,  2,19850331,0631,  32.3667, -118.3367,   549,    2.300,   14.269,   33.509,2,   33.507,2, -999.000,9,  261.000,2,    2.000,2,    0.530,2,    0.020,2,    0.430,2, -999.000,9, -999.000,9, -999.000,9, -999.000,9, -999.000,9
           NA,    P03E,      8,   1,-999.0,       9,  2,19850331,0631,  32.3667, -118.3367,   549,   17.700,   14.102,   33.506,2,   33.504,2, -999.000,9,  261.000,2,    1.800,2,    0.530,2,    0.020,2,    0.430,2,    2.642,2,    1.296,2, -999.000,9, -999.000,9, -999.000,9
           NA,    P03E,      8,   1,-999.0,      10,  2,19850331,0631,  32.3667, -118.3367,   549,   32.500,   14.064,   33.505,2, -999.000,5, -999.000,9,  259.700,2,    1.800,2,    0.630,2,    0.020,2,    0.440,2,    2.561,2,    1.256,2, -999.000,9, -999.000,9, -999.000,9
           NA,    P03E,      8,   1,-999.0,      11,  2,19850331,0631,  32.3667, -118.3367,   549,   52.700,   12.622,   33.528,2,   33.549,2, -999.000,9,  188.200,2,   10.010,2,   11.080,2,    0.120,2,    1.100,2,    2.446,2,    1.223,2, -999.000,9, -999.000,9, -999.000,9
           NA,    P03E,      8,   1,-999.0,      12,  2,19850331,0631,  32.3667, -118.3367,   549,   73.000,   11.002,   33.684,2,   33.697,2, -999.000,9,  155.900,2,   17.110,2,   17.260,2,    0.020,2,    1.460,2,    1.933,2,    0.988,2, -999.000,9, -999.000,9, -999.000,9
           NA,    P03E,      8,   1,-999.0,      13,  2,19850331,0631,  32.3667, -118.3367,   549,   93.800,   10.568,   33.803,2,   33.807,2, -999.000,9,  139.300,2,   21.410,2,   19.880,2,    0.000,2,    1.650,2,    1.642,2,    0.777,2, -999.000,9, -999.000,9, -999.000,9
           NA,    P03E,      8,   1,-999.0,      14,  2,19850331,0631,  32.3667, -118.3367,   549,  123.300,   10.012,   34.008,2,   34.009,2, -999.000,9,  108.800,2,   27.970,2,   23.880,2,    0.000,2,    1.950,2,    1.132,2,    0.548,2, -999.000,9, -999.000,9, -999.000,9
           NA,    P03E,      8,   1,-999.0,      15,  2,19850331,0631,  32.3667, -118.3367,   549,  153.300,    9.486,   34.088,2,   34.088,2, -999.000,9,   95.300,2,   33.220,2,   26.180,2,    0.000,2,    2.110,2,    0.875,2,    0.428,2, -999.000,9, -999.000,9, -999.000,9
           NA,    P03E,      8,   1,-999.0,      16,  2,19850331,0631,  32.3667, -118.3367,   549,  193.700,    9.055,   34.150,2,   34.149,2, -999.000,9,   80.500,2,   37.920,2,   27.960,2,    0.000,2,    2.260,2,    0.654,2,    0.330,2, -999.000,9, -999.000,9, -999.000,9
           NA,    P03E,      8,   1,-999.0,      17,  2,19850331,0631,  32.3667, -118.3367,   549,  233.900,    8.618,   34.189,2,   34.187,2, -999.000,9,   68.700,2,   42.620,2,   29.540,2,    0.000,2,    2.370,2,    0.470,2,    0.237,2, -999.000,9, -999.000,9, -999.000,9
           NA,    P03E,      8,   1,-999.0,      18,  2,19850331,0631,  32.3667, -118.3367,   549,  283.700,    7.798,   34.195,2,   34.192,2, -999.000,9,   57.900,2,   51.110,2,   32.120,2,    0.000,2,    2.540,2,    0.293,2,    0.150,2, -999.000,9, -999.000,9, -999.000,9
           NA,    P03E,      8,   1,-999.0,      19,  2,19850331,0631,  32.3667, -118.3367,   549,  333.900,    7.450,   34.216,2,   34.215,2, -999.000,9,   45.700,2,   56.400,2,   33.510,2,    0.000,2,    2.670,2,    0.181,2,    0.097,2, -999.000,9, -999.000,9, -999.000,9
           NA,    P03E,      8,   1,-999.0,      20,  2,19850331,0631,  32.3667, -118.3367,   549,  393.700,    7.013,   34.235,2,   34.234,2, -999.000,9,   34.400,2,   63.400,2,   35.190,2,    0.000,2,    2.810,2,    0.131,2,    0.078,2, -999.000,9, -999.000,9, -999.000,9
           NA,    P03E,      8,   1,-999.0,      23,  2,19850331,0631,  32.3667, -118.3367,   549,  463.200,    6.721,   34.253,2,   34.252,2, -999.000,9,   27.800,2,   67.570,2,   36.270,2,    0.000,2,    2.870,2, -999.000,9, -999.000,9, -999.000,9, -999.000,9, -999.000,9
           NA,    P03E,      8,   1,-999.0,      24,  2,19850331,0631,  32.3667, -118.3367,   549,  569.000,    5.779,   34.327,2,   34.326,2, -999.000,9,   13.500,2,   84.330,2,   39.430,2,    0.000,2,    3.070,2, -999.000,9, -999.000,9, -999.000,9, -999.000,9, -999.000,9
           NA,    P03E,      6,   1,-999.0,       1,  2,19850331,0304,  32.5317, -118.0283,  1856,    2.000,   14.174,   33.508,2,   33.506,2, -999.000,9,  262.700,2,    1.720,2,    0.560,2,    0.030,2,    0.450,2, -999.000,9, -999.000,9, -999.000,9, -999.000,9, -999.000,9
           NA,    P03E,      6,   1,-999.0,       2,  2,19850331,0304,  32.5317, -118.0283,  1856,   19.500,   13.990,   33.505,2,   33.503,2, -999.000,9,  259.700,2,    1.930,2,    0.710,2,    0.030,2,    0.440,2, -999.000,9, -999.000,9, -999.000,9, -999.000,9, -999.000,9
           NA,    P03E,      6,   1,-999.0,       3,  2,19850331,0304,  32.5317, -118.0283,  1856,   34.800,   13.204,   33.518,2,   33.514,2, -999.000,9,  228.300,2,    5.470,2,    5.040,2,    0.120,2,    0.740,2, -999.000,9, -999.000,9, -999.000,9, -999.000,9, -999.000,9
           NA,    P03E,      6,   1,-999.0,       4,  2,19850331,0304,  32.5317, -118.0283,  1856,   54.900,   11.710,   33.620,2,   33.617,2, -999.000,9,  170.700,2,   12.930,2,   13.850,2,    0.040,2,    1.270,2, -999.000,9, -999.000,9, -999.000,9, -999.000,9, -999.000,9
           NA,    P03E,      6,   1,-999.0,       5,  2,19850331,0304,  32.5317, -118.0283,  1856,   75.300,   11.121,   33.667,2,   33.662,2, -999.000,9,  162.400,2,   15.730,2,   16.240,2,    0.020,2,    1.410,2, -999.000,9, -999.000,9, -999.000,9, -999.000,9, -999.000,9
           NA,    P03E,      6,   1,-999.0,       6,  2,19850331,0304,  32.5317, -118.0283,  1856,   95.500,   10.627,   33.833,2,   33.832,2, -999.000,9,  135.800,2,   21.350,2,   19.940,2,    0.000,2,    1.690,2, -999.000,9, -999.000,9, -999.000,9, -999.000,9, -999.000,9
           NA,    P03E,      6,   1,-999.0,       7,  2,19850331,0304,  32.5317, -118.0283,  1856,  125.600,    9.936,   34.001,2,   33.997,2, -999.000,9,  110.100,2,   28.110,2,   23.610,2,    0.000,2,    1.960,2, -999.000,9, -999.000,9, -999.000,9, -999.000,9, -999.000,9
           NA,    P03E,      6,   1,-999.0,       8,  2,19850331,0304,  32.5317, -118.0283,  1856,  155.700,    9.653,   34.072,2,   34.069,2, -999.000,9,   98.800,2,   31.300,2,   25.320,2,    0.000,2,    2.080,2, -999.000,9, -999.000,9, -999.000,9, -999.000,9, -999.000,9
           NA,    P03E,      6,   1,-999.0,       9,  2,19850331,0304,  32.5317, -118.0283,  1856,  195.700,    8.557,   34.056,2,   34.051,2, -999.000,9,  115.700,2,   35.440,2,   26.360,2,    0.000,2,    2.090,2, -999.000,9, -999.000,9, -999.000,9, -999.000,9, -999.000,9
           NA,    P03E,      6,   1,-999.0,      10,  2,19850331,0304,  32.5317, -118.0283,  1856,  236.400,    8.245,   34.121,2,   34.121,2, -999.000,9,   87.400,2,   42.050,2,   28.950,2,    0.000,2,    2.300,2, -999.000,9, -999.000,9, -999.000,9, -999.000,9, -999.000,9
           NA,    P03E,      6,   1,-999.0,      11,  2,19850331,0304,  32.5317, -118.0283,  1856,  286.600,    7.847,   34.159,2,   34.145,2, -999.000,9,   74.000,2,   47.720,2,   30.760,2,    0.000,2,    2.450,2, -999.000,9, -999.000,9, -999.000,9, -999.000,9, -999.000,9
           NA,    P03E,      6,   1,-999.0,      12,  2,19850331,0304,  32.5317, -118.0283,  1856,  337.200,    7.170,   34.160,2,   34.172,2, -999.000,9,   53.500,2,   56.270,2,   33.350,2,    0.000,2,    2.660,2, -999.000,9, -999.000,9, -999.000,9, -999.000,9, -999.000,9
           NA,    P03E,      6,   1,-999.0,      13,  2,19850331,0304,  32.5317, -118.0283,  1856,  397.500,    6.772,   34.250,2,   34.251,2, -999.000,9,   28.300,2,   65.790,2,   35.810,2,    0.000,2,    2.870,2, -999.000,9, -999.000,9, -999.000,9, -999.000,9, -999.000,9
           NA,    P03E,      6,   1,-999.0,      14,  2,19850331,0304,  32.5317, -118.0283,  1856,  457.200,    6.418,   34.282,2,   34.283,2, -999.000,9,   19.100,2,   71.700,2,   37.290,2,    0.000,2,    2.980,2, -999.000,9, -999.000,9, -999.000,9, -999.000,9, -999.000,9
           NA,    P03E,      6,   1,-999.0,      15,  2,19850331,0304,  32.5317, -118.0283,  1856,  527.700,    6.032,   34.306,2,   34.306,2, -999.000,9,   15.200,2,   79.360,2,   38.120,2,    0.000,2,    3.080,2, -999.000,9, -999.000,9, -999.000,9, -999.000,9, -999.000,9
           NA,    P03E,      6,   1,-999.0,      16,  2,19850331,0304,  32.5317, -118.0283,  1856,  608.300,    5.596,   34.348,2,   34.348,2, -999.000,9,   10.900,2,   87.220,2,   39.740,2,    0.000,2,    3.130,2, -999.000,9, -999.000,9, -999.000,9, -999.000,9, -999.000,9
           NA,    P03E,      6,   1,-999.0,      17,  2,19850331,0304,  32.5317, -118.0283,  1856,  709.400,    5.069,   34.391,2,   34.392,2, -999.000,9,   12.200,2,   98.010,2,   41.200,2,    0.000,2,    3.190,2, -999.000,9, -999.000,9, -999.000,9, -999.000,9, -999.000,9
           NA,    P03E,      6,   1,-999.0,      18,  2,19850331,0304,  32.5317, -118.0283,  1856,  810.100,    4.698,   34.425,2,   34.427,2, -999.000,9,   13.900,2,  105.730,2,   41.470,2,    0.000,2,    3.180,2, -999.000,9, -999.000,9, -999.000,9, -999.000,9, -999.000,9
           NA,    P03E,      6,   1,-999.0,      19,  2,19850331,0304,  32.5317, -118.0283,  1856,  962.200,    4.163,   34.471,2,   34.471,2, -999.000,9,   21.300,2,  116.390,2,   41.580,2,    0.000,2,    3.180,2, -999.000,9, -999.000,9, -999.000,9, -999.000,9, -999.000,9
           NA,    P03E,      6,   1,-999.0,      20,  2,19850331,0304,  32.5317, -118.0283,  1856, 1113.300,    3.754,   34.501,2,   34.505,2, -999.000,9,   27.800,2,  127.870,2,   41.460,2,    0.000,2,    3.190,2, -999.000,9, -999.000,9, -999.000,9, -999.000,9, -999.000,9
           NA,    P03E,      6,   1,-999.0,      21,  2,19850331,0304,  32.5317, -118.0283,  1856, 1314.100,    3.325,   34.535,2,   34.534,2, -999.000,9,   36.500,2,  139.200,2,   41.510,2,    0.000,2,    3.120,2, -999.000,9, -999.000,9, -999.000,9, -999.000,9, -999.000,9
           NA,    P03E,      6,   1,-999.0,      22,  2,19850331,0304,  32.5317, -118.0283,  1856, 1515.700,    2.885,   34.567,2,   34.569,2, -999.000,9,   48.700,2,  149.190,2,   40.540,2,    0.000,2,    3.050,2, -999.000,9, -999.000,9, -999.000,9, -999.000,9, -999.000,9
           NA,    P03E,      6,   1,-999.0,      23,  2,19850331,0304,  32.5317, -118.0283,  1856, 1717.200,    2.661,   34.585,2,   34.586,2, -999.000,9,   54.800,2,  156.860,2,   40.140,2,    0.000,2,    3.030,2, -999.000,9, -999.000,9, -999.000,9, -999.000,9, -999.000,9
           NA,    P03E,      6,   1,-999.0,      24,  2,19850331,0304,  32.5317, -118.0283,  1856, 1867.700,    2.603,   34.591,2,   34.592,2, -999.000,9,   56.100,2,  157.440,2,   40.020,2,    0.000,2,    3.020,2, -999.000,9, -999.000,9, -999.000,9, -999.000,9, -999.000,9
           NA,    P03E,      4,   2,-999.0,       5,  2,19850330,2235,  32.6300, -117.6750,  1066,    7.300,   13.985,   33.573,2,   33.560,2, -999.000,9,  272.700,2,    2.740,2,    0.240,2,    0.020,2,    0.420,2, -999.000,9, -999.000,9, -999.000,9, -999.000,9, -999.000,9
           NA,    P03E,      4,   2,-999.0,       6,  2,19850330,2235,  32.6300, -117.6750,  1066,   17.600,   13.795,   33.560,2, -999.000,5, -999.000,9,  276.200,2,    1.910,2,    0.140,2,    0.020,2,    0.420,2,    3.755,2,    1.685,2, -999.000,9, -999.000,9, -999.000,9
           NA,    P03E,      4,   2,-999.0,       7,  2,19850330,2235,  32.6300, -117.6750,  1066,   33.100,   13.230,   33.571,2,   33.570,2, -999.000,9,  240.000,2,    5.570,2,    4.320,2,    0.390,2,    0.720,2, -999.000,9, -999.000,9, -999.000,9, -999.000,9, -999.000,9
           NA,    P03E,      4,   2,-999.0,       8,  2,19850330,2235,  32.6300, -117.6750,  1066,   53.300,   11.354,   33.687,2,   33.693,2, -999.000,9,  148.900,2,   17.050,2,   17.000,2,    0.170,2,    1.520,2, -999.000,9,    1.277,6, -999.000,9, -999.000,9, -999.000,9
           NA,    P03E,      4,   2,-999.0,       9,  2,19850330,2235,  32.6300, -117.6750,  1066,   73.400,   10.444,   33.832,2,   33.839,2, -999.000,9,  126.700,2,   24.250,2,   21.070,2,    0.040,2,    1.800,2,    2.100,2, -999.000,9, -999.000,9, -999.000,9, -999.000,9
           NA,    P03E,      4,   2,-999.0,      10,  2,19850330,2235,  32.6300, -117.6750,  1066,   93.700,   10.067,   33.908,2,   33.911,2, -999.000,9,  120.600,2,   26.750,2,   22.550,2,    0.010,2,    1.900,2,    1.492,2,    0.773,2, -999.000,9, -999.000,9, -999.000,9
           NA,    P03E,      4,   2,-999.0,      11,  2,19850330,2235,  32.6300, -117.6750,  1066,  123.800,    9.264,   34.012,2,   34.010,2, -999.000,9,  115.300,2,   32.000,2,   24.800,2,    0.040,2,    2.040,2,    1.104,2,    0.558,2, -999.000,9, -999.000,9, -999.000,9
           NA,    P03E,      4,   2,-999.0,      12,  2,19850330,2235,  32.6300, -117.6750,  1066,  154.300,    8.960,   34.086,2,   34.097,2, -999.000,9,   98.300,2,   35.880,2,   26.570,2,    0.020,2,    2.200,2,    0.836,2,    0.467,2, -999.000,9, -999.000,9, -999.000,9
           NA,    P03E,      4,   2,-999.0,      13,  2,19850330,2235,  32.6300, -117.6750,  1066,  194.400,    8.300,   34.087,2,   34.084,2, -999.000,9,  104.400,2,   39.770,2,   27.650,2,    0.000,2,    2.220,2,    0.738,2,    0.438,2, -999.000,9, -999.000,9, -999.000,9
           NA,    P03E,      4,   2,-999.0,      14,  2,19850330,2235,  32.6300, -117.6750,  1066,  234.500,    7.764,   34.105,2,   34.103,2, -999.000,9,   88.300,2,   46.030,2,   30.190,2,    0.000,2,    2.400,2,    0.479,2,    0.233,2, -999.000,9, -999.000,9, -999.000,9
           NA,    P03E,      4,   2,-999.0,      15,  2,19850330,2235,  32.6300, -117.6750,  1066,  284.100,    7.284,   34.121,2,   34.120,2, -999.000,9,   71.800,2,   53.290,2,   32.420,2,    0.000,2,    2.560,2,    0.306,2,    0.182,2, -999.000,9, -999.000,9, -999.000,9
           NA,    P03E,      4,   2,-999.0,      16,  2,19850330,2235,  32.6300, -117.6750,  1066,  334.800,    7.023,   34.167,2,   34.166,2, -999.000,9,   51.300,2,   59.180,2,   34.230,2,    0.000,2,    2.710,2,    0.174,2,    0.099,2, -999.000,9, -999.000,9, -999.000,9
           NA,    P03E,      4,   2,-999.0,      17,  2,19850330,2235,  32.6300, -117.6750,  1066,  395.000,    6.657,   34.212,2,   34.210,2, -999.000,9,   34.800,2,   66.070,2,   36.340,2,    0.000,2,    2.880,2,    0.076,2,    0.043,2, -999.000,9, -999.000,9, -999.000,9
           NA,    P03E,      4,   2,-999.0,      18,  2,19850330,2235,  32.6300, -117.6750,  1066,  456.000,    6.299,   34.260,2,   34.263,2, -999.000,9,   23.000,2,   73.970,2,   37.610,2,    0.000,2,    3.010,2,    0.028,2,    0.003,2, -999.000,9, -999.000,9, -999.000,9
           NA,    P03E,      4,   2,-999.0,      19,  2,19850330,2235,  32.6300, -117.6750,  1066,  526.400,    5.875,   34.309,2,   34.308,2, -999.000,9,   15.200,2,   82.480,2,   39.180,2,    0.000,2,    3.110,2,    0.033,2, -999.000,9, -999.000,9, -999.000,9, -999.000,9
           NA,    P03E,      4,   2,-999.0,      20,  2,19850330,2235,  32.6300, -117.6750,  1066,  606.700,    5.602,   34.345,2,   34.345,2, -999.000,9,   12.600,2,   87.420,2,   39.900,2,    0.000,2,    3.160,2,    0.029,2, -999.000,9, -999.000,9, -999.000,9, -999.000,9
           NA,    P03E,      4,   2,-999.0,      21,  2,19850330,2235,  32.6300, -117.6750,  1066,  706.900,    5.093,   34.391,2,   34.392,2, -999.000,9,   10.400,2,   97.170,2,   41.020,2,    0.000,2,    3.200,2,    0.016,2,   -0.001,2, -999.000,9, -999.000,9, -999.000,9
           NA,    P03E,      4,   2,-999.0,      22,  2,19850330,2235,  32.6300, -117.6750,  1066,  808.100,    4.646,   34.431,2,   34.429,2, -999.000,9,   14.300,2,  106.550,2,   41.290,2,    0.000,2,    3.230,2, -999.000,9, -999.000,9, -999.000,9, -999.000,9, -999.000,9
           NA,    P03E,      4,   2,-999.0,      23,  2,19850330,2235,  32.6300, -117.6750,  1066,  959.200,    4.161,   34.470,2,   34.472,2, -999.000,9,   17.400,2,  118.980,2,   41.610,2,    0.000,2,    3.240,2, -999.000,9, -999.000,9, -999.000,9, -999.000,9, -999.000,9
           NA,    P03E,      4,   2,-999.0,      24,  2,19850330,2235,  32.6300, -117.6750,  1066, 1099.600,    3.799,   34.499,2,   34.499,2, -999.000,9,   17.800,2,  127.200,2,   41.760,2,    0.010,2,    3.240,2, -999.000,9, -999.000,9, -999.000,9, -999.000,9, -999.000,9