BOTTLE,20203103JOAExport
EXPOCODE,SECT_ID,STNNBR,CASTNO,SAMPNO,BTLNBR,BTLNBR_FLAG_W,DATE,TIME,LATITUDE,LONGITUDE,DEPTH,CTDPRS,CTDTMP,CTDSAL,CTDSAL_FLAG_W,SALNTY,SALNTY_FLAG_W,CTDOXY,CTDOXY_FLAG_W,OXYGEN,OXYGEN_FLAG_W,SILCAT,SILCAT_FLAG_W,NITRAT,NITRAT_FLAG_W,NITRIT,NITRIT_FLAG_W,PHSPHT,PHSPHT_FLAG_W,CFC-11,CFC-11_FLAG_W,CFC-12,CFC-12_FLAG_W,SF6,SF6_FLAG_W,TCARBN,TCARBN_FLAG_W,ALKALI,ALKALI_FLAG_W
,,,,,,,,,,,,,DB,ITS-90,PSS-78,,PSS-78,,UMOL/KG,,UMOL/KG,,UMOL/KG,,UMOL/KG,,UMOL/KG,,UMOL/KG,,PMOL/KG,,PMOL/KG,,FMOL/KG,,UMOL/KG,,UMOL/KG
           NA,    P03E,     66,   1,-999.0,       1,  2,19850409,0629,  24.2367, -137.2200,  4840,    0.700,   20.510,   35.267,2,   35.269,2, -999.000,9,  232.900,2,    0.470,2,    0.040,2,    0.000,2,    0.090,2, -999.000,9, -999.000,9, -999.000,9, -999.000,9, -999.000,9
           NA,    P03E,     66,   1,-999.0,       2,  2,19850409,0629,  24.2367, -137.2200,  4840,   19.600,   20.251,   35.325,2,   35.323,2, -999.000,9,  228.200,2,    0.460,2,    0.040,2,    0.000,2,    0.090,2, -999.000,9, -999.000,9, -999.000,9, -999.000,9, -999.000,9
           NA,    P03E,     66,   1,-999.0,       3,  2,19850409,0629,  24.2367, -137.2200,  4840,   33.500,   20.140,   35.369,2,   35.370,2, -999.000,9,  228.200,2,    0.450,2,    0.040,2,    0.000,2,    0.090,2, -999.000,9, -999.000,9, -999.000,9, -999.000,9, -999.000,9
           NA,    P03E,     66,   1,-999.0,       4,  2,19850409,0629,  24.2367, -137.2200,  4840,   53.300,   20.119,   35.369,2,   35.370,2, -999.000,9,  227.500,2,    0.430,2,    0.040,2,    0.000,2,    0.100,2, -999.000,9, -999.000,9, -999.000,9, -999.000,9, -999.000,9
           NA,    P03E,     66,   1,-999.0,       5,  2,19850409,0629,  24.2367, -137.2200,  4840,   73.400,   20.103,   35.371,2,   35.371,2, -999.000,9,  227.900,2,    0.420,2,    0.040,2,    0.000,2,    0.090,2, -999.000,9, -999.000,9, -999.000,9, -999.000,9, -999.000,9
           NA,    P03E,     66,   1,-999.0,       6,  2,19850409,0629,  24.2367, -137.2200,  4840,   93.100,   20.091,   35.373,2,   35.373,2, -999.000,9,  227.100,2,    0.410,2,    0.040,2,    0.000,2,    0.090,2, -999.000,9, -999.000,9, -999.000,9, -999.000,9, -999.000,9
           NA,    P03E,     66,   1,-999.0,       7,  2,19850409,0629,  24.2367, -137.2200,  4840,  122.300,   20.065,   35.371,2,   35.371,2, -999.000,9,  225.200,2,    0.400,2,    0.020,2,    0.020,2,    0.100,2, -999.000,9, -999.000,9, -999.000,9, -999.000,9, -999.000,9
           NA,    P03E,     66,   1,-999.0,       8,  2,19850409,0629,  24.2367, -137.2200,  4840,  152.200,   19.941,   35.371,2,   35.371,2, -999.000,9,  221.500,2,    0.390,2,    0.170,2,    0.180,2,    0.100,2, -999.000,9, -999.000,9, -999.000,9, -999.000,9, -999.000,9
           NA,    P03E,     66,   1,-999.0,       9,  2,19850409,0629,  24.2367, -137.2200,  4840,  193.700,   18.883,   35.162,2,   35.155,2, -999.000,9,  217.900,2,    0.750,2,    0.840,2,    0.080,2,    0.150,2, -999.000,9, -999.000,9, -999.000,9, -999.000,9, -999.000,9
           NA,    P03E,     66,   1,-999.0,      10,  2,19850409,0629,  24.2367, -137.2200,  4840,  234.800,   15.512,   34.489,2,   34.442,2, -999.000,9,  211.200,2,    3.540,2,    3.980,2,    0.010,2,    0.400,2, -999.000,9, -999.000,9, -999.000,9, -999.000,9, -999.000,9
           NA,    P03E,     66,   1,-999.0,      11,  2,19850409,0629,  24.2367, -137.2200,  4840,  285.700,   12.353,   34.151,2,   34.135,2, -999.000,9,  211.500,2,    8.200,2,    9.200,2,    0.000,2,    0.730,2, -999.000,9, -999.000,9, -999.000,9, -999.000,9, -999.000,9
           NA,    P03E,     66,   1,-999.0,      12,  2,19850409,0629,  24.2367, -137.2200,  4840,  336.300,    9.709,   34.049,2,   34.051,2, -999.000,9,  199.400,2,   18.830,2,   17.170,2,    0.000,2,    1.210,2, -999.000,9, -999.000,9, -999.000,9, -999.000,9, -999.000,9
           NA,    P03E,     66,   1,-999.0,      13,  2,19850409,0629,  24.2367, -137.2200,  4840,  396.800,    8.097,   34.027,2,   34.027,2, -999.000,9,  167.600,2,   31.720,2,   23.670,2,    0.000,2,    1.670,2, -999.000,9, -999.000,9, -999.000,9, -999.000,9, -999.000,9
           NA,    P03E,     66,   1,-999.0,      14,  2,19850409,0629,  24.2367, -137.2200,  4840,  457.200,    7.182,   34.026,2,   34.027,2, -999.000,9,  127.600,2,   44.240,2,   29.510,2,    0.000,2,    2.080,2, -999.000,9, -999.000,9, -999.000,9, -999.000,9, -999.000,9
           NA,    P03E,     66,   1,-999.0,      15,  2,19850409,0629,  24.2367, -137.2200,  4840,  527.800,    5.880,   34.056,2,   34.056,2, -999.000,9,   71.900,2,   65.570,2,   37.460,2,    0.000,2,    2.650,2, -999.000,9, -999.000,9, -999.000,9, -999.000,9, -999.000,9
           NA,    P03E,     66,   1,-999.0,      16,  2,19850409,0629,  24.2367, -137.2200,  4840,  608.400,    5.306,   34.159,2,   34.159,2, -999.000,9,   33.600,2,   80.930,2,   41.700,2,    0.000,2,    2.980,2, -999.000,9, -999.000,9, -999.000,9, -999.000,9, -999.000,9
           NA,    P03E,     66,   1,-999.0,      17,  2,19850409,0629,  24.2367, -137.2200,  4840,  709.000,    4.700,   34.262,2,   34.258,2, -999.000,9,   18.200,2,   95.390,2,   44.170,2,    0.000,2,    3.140,2, -999.000,9, -999.000,9, -999.000,9, -999.000,9, -999.000,9
           NA,    P03E,     66,   1,-999.0,      18,  2,19850409,0629,  24.2367, -137.2200,  4840,  809.700,    4.395,   34.379,2,   34.379,2, -999.000,9,   21.700,2,  103.270,2,   44.740,2,    0.000,2,    3.160,2, -999.000,9, -999.000,9, -999.000,9, -999.000,9, -999.000,9
           NA,    P03E,     66,   1,-999.0,      19,  2,19850409,0629,  24.2367, -137.2200,  4840,  910.600,    4.184,   34.445,2,   34.444,2, -999.000,9,   30.600,2,  107.220,2,   44.680,2,    0.000,2,    3.130,2, -999.000,9, -999.000,9, -999.000,9, -999.000,9, -999.000,9
           NA,    P03E,     66,   1,-999.0,      20,  2,19850409,0629,  24.2367, -137.2200,  4840, 1011.300,    3.913,   34.484,2,   34.484,2, -999.000,9,   39.100,2,  112.870,2,   44.270,2,    0.000,2,    3.110,2, -999.000,9, -999.000,9, -999.000,9, -999.000,9, -999.000,9
           NA,    P03E,     66,   1,-999.0,      21,  2,19850409,0629,  24.2367, -137.2200,  4840, 1112.300,    3.688,   34.510,2,   34.511,2, -999.000,9,   44.000,2,  118.150,2,   44.210,2,    0.000,2,    3.110,2, -999.000,9, -999.000,9, -999.000,9, -999.000,9, -999.000,9
           NA,    P03E,     66,   1,-999.0,      22,  2,19850409,0629,  24.2367, -137.2200,  4840, 1263.500,    3.314,   34.538,2,   34.538,2, -999.000,9,   48.900,2,  126.640,2,   44.000,2,    0.000,2,    3.070,2, -999.000,9, -999.000,9, -999.000,9, -999.000,9, -999.000,9
           NA,    P03E,     66,   1,-999.0,      23,  2,19850409,0629,  24.2367, -137.2200,  4840, 1415.200,    3.010,   34.557,2,   34.557,2, -999.000,9,   56.400,2,  133.440,2,   43.690,2,    0.000,2,    3.040,2, -999.000,9, -999.000,9, -999.000,9, -999.000,9, -999.000,9
           NA,    P03E,     66,   1,-999.0,      24,  2,19850409,0629,  24.2367, -137.2200,  4840, 1617.300,    2.632,   34.581,2,   34.582,2, -999.000,9,   66.500,2,  142.530,2,   43.120,2,    0.000,2,    2.980,2, -999.000,9, -999.000,9, -999.000,9, -999.000,9, -999.000,9
           NA,    P03E,     66,   1,-999.0,      25,  2,19850409,0629,  24.2367, -137.2200,  4840, 1819.500,    2.328,   34.603,2,   34.603,2, -999.000,9,   74.700,2,  150.500,2,   42.610,2,    0.000,2,    2.930,2, -999.000,9, -999.000,9, -999.000,9, -999.000,9, -999.000,9
           NA,    P03E,     66,   1,-999.0,      26,  2,19850409,0629,  24.2367, -137.2200,  4840, 2021.700,    2.072,   34.621,2,   34.621,2, -999.000,9,   85.700,2,  156.390,2,   41.940,2,    0.000,2,    2.850,2, -999.000,9, -999.000,9, -999.000,9, -999.000,9, -999.000,9
           NA,    P03E,     66,   1,-999.0,      27,  2,19850409,0629,  24.2367, -137.2200,  4840, 2224.400,    1.881,   34.636,2,   34.636,2, -999.000,9,   97.000,2,  161.520,2,   41.070,2,    0.000,2,    2.800,2, -999.000,9, -999.000,9, -999.000,9, -999.000,9, -999.000,9
           NA,    P03E,     66,   1,-999.0,      28,  2,19850409,0629,  24.2367, -137.2200,  4840, 2529.200,    1.715,   34.649,2,   34.650,2, -999.000,9,  106.900,2,  164.000,2,   40.410,2,    0.000,2,    2.720,2, -999.000,9, -999.000,9, -999.000,9, -999.000,9, -999.000,9
           NA,    P03E,     66,   1,-999.0,      29,  2,19850409,0629,  24.2367, -137.2200,  4840, 2834.000,    1.597,   34.661,2,   34.660,2, -999.000,9,  118.200,2,  165.340,2,   39.650,2,    0.000,2,    2.670,2, -999.000,9, -999.000,9, -999.000,9, -999.000,9, -999.000,9
           NA,    P03E,     66,   1,-999.0,      30,  2,19850409,0629,  24.2367, -137.2200,  4840, 3139.300,    1.525,   34.669,2,   34.669,2, -999.000,9,  127.800,2,  164.770,2,   39.040,2,    0.000,2,    2.610,2, -999.000,9, -999.000,9, -999.000,9, -999.000,9, -999.000,9
           NA,    P03E,     66,   1,-999.0,      31,  2,19850409,0629,  24.2367, -137.2200,  4840, 3445.400,    1.495,   34.675,2,   34.674,2, -999.000,9,  136.000,2,  163.250,2,   38.540,2,    0.000,2,    2.570,2, -999.000,9, -999.000,9, -999.000,9, -999.000,9, -999.000,9
           NA,    P03E,     66,   1,-999.0,      32,  2,19850409,0629,  24.2367, -137.2200,  4840, 3751.200,    1.477,   34.680,2,   34.679,2, -999.000,9,  141.900,2,  160.020,2,   38.040,2,    0.000,2,    2.530,2, -999.000,9, -999.000,9, -999.000,9, -999.000,9, -999.000,9
           NA,    P03E,     66,   1,-999.0,      37,  2,19850409,0629,  24.2367, -137.2200,  4840, 4057.900,    1.480,   34.682,2,   34.682,2, -999.000,9,  148.800,2,  156.220,2,   37.640,2,    0.000,2,    2.520,2, -999.000,9, -999.000,9, -999.000,9, -999.000,9, -999.000,9
           NA,    P03E,     66,   1,-999.0,      34,  2,19850409,0629,  24.2367, -137.2200,  4840, 4363.600,    1.478,   34.685,2,   34.685,2, -999.000,9,  154.500,2,  151.850,2,   37.140,2,    0.000,2,    2.470,2, -999.000,9, -999.000,9, -999.000,9, -999.000,9, -999.000,9
           NA,    P03E,     66,   1,-999.0,      35,  2,19850409,0629,  24.2367, -137.2200,  4840, 4669.700,    1.476,   34.688,2,   34.687,2, -999.000,9,  159.700,2,  147.490,2,   36.640,2,    0.000,2,    2.440,2, -999.000,9, -999.000,9, -999.000,9, -999.000,9, -999.000,9
           NA,    P03E,     66,   1,-999.0,      36,  2,19850409,0629,  24.2367, -137.2200,  4840, 4893.500,    1.486,   34.689,2,   34.688,2, -999.000,9,  163.400,2,  145.020,2,   36.540,2,    0.000,2,    2.430,2, -999.000,9, -999.000,9, -999.000,9, -999.000,9, -999.000,9