BOTTLE,20203103JOAExport
EXPOCODE,SECT_ID,STNNBR,CASTNO,SAMPNO,BTLNBR,BTLNBR_FLAG_W,DATE,TIME,LATITUDE,LONGITUDE,DEPTH,CTDPRS,CTDTMP,CTDSAL,CTDSAL_FLAG_W,SALNTY,SALNTY_FLAG_W,CTDOXY,CTDOXY_FLAG_W,OXYGEN,OXYGEN_FLAG_W,SILCAT,SILCAT_FLAG_W,NITRAT,NITRAT_FLAG_W,NITRIT,NITRIT_FLAG_W,PHSPHT,PHSPHT_FLAG_W,CFC-11,CFC-11_FLAG_W,CFC-12,CFC-12_FLAG_W,SF6,SF6_FLAG_W,TCARBN,TCARBN_FLAG_W,ALKALI,ALKALI_FLAG_W
,,,,,,,,,,,,,DB,ITS-90,PSS-78,,PSS-78,,UMOL/KG,,UMOL/KG,,UMOL/KG,,UMOL/KG,,UMOL/KG,,UMOL/KG,,PMOL/KG,,PMOL/KG,,FMOL/KG,,UMOL/KG,,UMOL/KG
           NA,    P03E,     81,   1,-999.0,       1,  2,19850412,0813,  24.2350, -144.0367,  5139,    0.000,   21.529,   35.057,2,   35.059,2, -999.000,9,  223.200,2,    0.680,2,    0.000,2,    0.000,2,    0.110,2, -999.000,9, -999.000,9, -999.000,9, -999.000,9, -999.000,9
           NA,    P03E,     81,   1,-999.0,       2,  2,19850412,0813,  24.2350, -144.0367,  5139,   23.900,   21.105,   35.065,2,   35.051,2, -999.000,9,  226.200,2,    0.490,2,    0.000,2,    0.000,2,    0.110,2, -999.000,9, -999.000,9, -999.000,9, -999.000,9, -999.000,9
           NA,    P03E,     81,   1,-999.0,       3,  2,19850412,0813,  24.2350, -144.0367,  5139,   43.800,   21.317,   35.227,2,   35.208,2, -999.000,9,  225.800,2,    0.490,2,    0.000,2,    0.000,2,    0.090,2, -999.000,9, -999.000,9, -999.000,9, -999.000,9, -999.000,9
           NA,    P03E,     81,   1,-999.0,       4,  2,19850412,0813,  24.2350, -144.0367,  5139,   73.600,   20.998,   35.330,2,   35.320,2, -999.000,9,  226.600,2,    0.490,2,    0.000,2,    0.000,2,    0.060,2, -999.000,9, -999.000,9, -999.000,9, -999.000,9, -999.000,9
           NA,    P03E,     81,   1,-999.0,       5,  2,19850412,0813,  24.2350, -144.0367,  5139,  103.200,   20.641,   35.403,2,   35.402,2, -999.000,9,  224.800,2,    0.490,2,    0.000,2,    0.000,2,    0.050,2, -999.000,9, -999.000,9, -999.000,9, -999.000,9, -999.000,9
           NA,    P03E,     81,   1,-999.0,       6,  2,19850412,0813,  24.2350, -144.0367,  5139,  144.000,   19.875,   35.326,2,   35.329,2, -999.000,9,  218.300,2,    0.680,2,    0.310,2,    0.090,2,    0.090,2, -999.000,9, -999.000,9, -999.000,9, -999.000,9, -999.000,9
           NA,    P03E,     81,   1,-999.0,       7,  2,19850412,0813,  24.2350, -144.0367,  5139,  184.500,   17.258,   34.797,2,   34.797,2, -999.000,9,  206.900,2,    2.350,2,    2.620,2,    0.020,2,    0.270,2, -999.000,9, -999.000,9, -999.000,9, -999.000,9, -999.000,9
           NA,    P03E,     81,   1,-999.0,       8,  2,19850412,0813,  24.2350, -144.0367,  5139,  235.300,   14.370,   34.416,2,   34.406,2, -999.000,9,  215.100,2,    4.590,2,    5.360,2,    0.010,2,    0.450,2, -999.000,9, -999.000,9, -999.000,9, -999.000,9, -999.000,9
           NA,    P03E,     81,   1,-999.0,       9,  2,19850412,0813,  24.2350, -144.0367,  5139,  285.100,   12.122,   34.233,2,   34.233,2, -999.000,9,  218.100,2,    9.290,2,    9.450,2,    0.000,2,    0.690,2, -999.000,9, -999.000,9, -999.000,9, -999.000,9, -999.000,9
           NA,    P03E,     81,   1,-999.0,      10,  2,19850412,0813,  24.2350, -144.0367,  5139,  334.500,   10.864,   34.169,2,   34.168,2, -999.000,9,  214.100,2,   13.400,2,   13.000,2,    0.000,2,    0.920,2, -999.000,9, -999.000,9, -999.000,9, -999.000,9, -999.000,9
           NA,    P03E,     81,   1,-999.0,      11,  2,19850412,0813,  24.2350, -144.0367,  5139,  383.700,    9.653,   34.113,2,   34.110,2, -999.000,9,  201.000,2,   20.340,2,   17.110,2,    0.000,2,    1.180,2, -999.000,9, -999.000,9, -999.000,9, -999.000,9, -999.000,9
           NA,    P03E,     81,   1,-999.0,      12,  2,19850412,0813,  24.2350, -144.0367,  5139,  445.500,    8.042,   34.046,2,   34.046,2, -999.000,9,  164.900,2,   33.830,2,   24.060,2,    0.000,2,    1.630,2, -999.000,9, -999.000,9, -999.000,9, -999.000,9, -999.000,9
           NA,    P03E,     81,   1,-999.0,      13,  2,19850412,0813,  24.2350, -144.0367,  5139,  505.000,    6.905,   34.015,2,   34.016,2, -999.000,9,  127.500,2,   46.940,2,   29.830,2,    0.000,2,    2.030,2, -999.000,9, -999.000,9, -999.000,9, -999.000,9, -999.000,9
           NA,    P03E,     81,   1,-999.0,      14,  2,19850412,0813,  24.2350, -144.0367,  5139,  603.200,    5.315,   34.076,2,   34.077,2, -999.000,9,   56.500,2,   75.390,2,   39.310,2,    0.000,2,    2.720,2, -999.000,9, -999.000,9, -999.000,9, -999.000,9, -999.000,9
           NA,    P03E,     81,   1,-999.0,      15,  2,19850412,0813,  24.2350, -144.0367,  5139,  703.600,    4.615,   34.181,2,   34.180,2, -999.000,9,   28.700,2,   94.360,2,   42.920,2,    0.000,2,    2.970,2, -999.000,9, -999.000,9, -999.000,9, -999.000,9, -999.000,9
           NA,    P03E,     81,   1,-999.0,      16,  2,19850412,0813,  24.2350, -144.0367,  5139,  803.400,    4.332,   34.319,2,   34.318,2, -999.000,9,   20.000,2,  105.100,2,   44.000,2,    0.000,2,    3.080,2, -999.000,9, -999.000,9, -999.000,9, -999.000,9, -999.000,9
           NA,    P03E,     81,   1,-999.0,      17,  2,19850412,0813,  24.2350, -144.0367,  5139,  900.300,    4.123,   34.410,2,   34.409,2, -999.000,9,   28.700,2,  109.200,2,   43.890,2,    0.000,2,    3.050,2, -999.000,9, -999.000,9, -999.000,9, -999.000,9, -999.000,9
           NA,    P03E,     81,   1,-999.0,      18,  2,19850412,0813,  24.2350, -144.0367,  5139,  999.800,    3.901,   34.468,2,   34.471,2, -999.000,9,   40.400,2,  113.300,2,   43.400,2,    0.000,2,    3.000,2, -999.000,9, -999.000,9, -999.000,9, -999.000,9, -999.000,9
           NA,    P03E,     81,   1,-999.0,      19,  2,19850412,0813,  24.2350, -144.0367,  5139, 1099.200,    3.616,   34.502,2,   34.501,2, -999.000,9,   47.400,2,  118.480,2,   43.210,2,    0.000,2,    2.990,2, -999.000,9, -999.000,9, -999.000,9, -999.000,9, -999.000,9
           NA,    P03E,     81,   1,-999.0,      20,  2,19850412,0813,  24.2350, -144.0367,  5139, 1249.200,    3.368,   34.534,2,   34.534,2, -999.000,9,   52.200,2,  124.240,2,   43.110,2,    0.000,2,    2.990,2, -999.000,9, -999.000,9, -999.000,9, -999.000,9, -999.000,9
           NA,    P03E,     81,   1,-999.0,      21,  2,19850412,0813,  24.2350, -144.0367,  5139, 1400.100,    3.051,   34.555,2,   34.554,2, -999.000,9,   58.200,2,  131.960,2,   42.810,2,    0.000,2,    2.950,2, -999.000,9, -999.000,9, -999.000,9, -999.000,9, -999.000,9
           NA,    P03E,     81,   1,-999.0,      22,  2,19850412,0813,  24.2350, -144.0367,  5139, 1601.100,    2.674,   34.576,2,   34.576,2, -999.000,9,   66.900,2,  141.740,2,   42.520,2,    0.000,2,    2.910,2, -999.000,9, -999.000,9, -999.000,9, -999.000,9, -999.000,9
           NA,    P03E,     81,   1,-999.0,      23,  2,19850412,0813,  24.2350, -144.0367,  5139, 1802.200,    2.362,   34.595,2,   34.596,2, -999.000,9,   76.100,2,  150.530,2,   41.930,2,    0.000,2,    2.850,2, -999.000,9, -999.000,9, -999.000,9, -999.000,9, -999.000,9
           NA,    P03E,     81,   1,-999.0,      24,  2,19850412,0813,  24.2350, -144.0367,  5139, 2104.300,    2.021,   34.622,2,   34.621,2, -999.000,9,   89.500,2,  159.330,2,   41.050,2,    0.000,2,    2.810,2, -999.000,9, -999.000,9, -999.000,9, -999.000,9, -999.000,9
           NA,    P03E,     81,   1,-999.0,      25,  2,19850412,0813,  24.2350, -144.0367,  5139, 2407.300,    1.798,   34.640,2,   34.640,2, -999.000,9,   99.100,2,  164.900,2,   40.370,2,    0.000,2,    2.760,2, -999.000,9, -999.000,9, -999.000,9, -999.000,9, -999.000,9
           NA,    P03E,     81,   1,-999.0,      26,  2,19850412,0813,  24.2350, -144.0367,  5139, 2710.000,    1.631,   34.654,2,   34.655,2, -999.000,9,  113.000,2,  166.850,2,   39.490,2,    0.000,2,    2.660,2, -999.000,9, -999.000,9, -999.000,9, -999.000,9, -999.000,9
           NA,    P03E,     81,   1,-999.0,      27,  2,19850412,0813,  24.2350, -144.0367,  5139, 3012.300,    1.542,   34.666,2, -999.000,5, -999.000,9,  124.700,2,  165.090,2,   38.510,2, -999.000,5,    2.600,2, -999.000,9, -999.000,9, -999.000,9, -999.000,9, -999.000,9
           NA,    P03E,     81,   1,-999.0,      28,  2,19850412,0813,  24.2350, -144.0367,  5139, 3316.700,    1.498,   34.673,2,   34.672,2, -999.000,9,  133.800,2,  162.940,2,   38.120,2,    0.000,2,    2.550,2, -999.000,9, -999.000,9, -999.000,9, -999.000,9, -999.000,9
           NA,    P03E,     81,   1,-999.0,      29,  2,19850412,0813,  24.2350, -144.0367,  5139, 3618.100,    1.466,   34.679,2,   34.678,2, -999.000,9,  141.700,2,  160.980,2,   37.730,2,    0.000,2,    2.470,2, -999.000,9, -999.000,9, -999.000,9, -999.000,9, -999.000,9
           NA,    P03E,     81,   1,-999.0,      30,  2,19850412,0813,  24.2350, -144.0367,  5139, 3923.600,    1.461,   34.682,2,   34.682,2, -999.000,9,  147.300,2,  157.170,2,   37.340,2,    0.000,2,    2.460,2, -999.000,9, -999.000,9, -999.000,9, -999.000,9, -999.000,9
           NA,    P03E,     81,   1,-999.0,      31,  2,19850412,0813,  24.2350, -144.0367,  5139, 4232.300,    1.472,   34.684,2,   34.684,2, -999.000,9,  151.600,2,  155.020,2,   36.950,2,    0.000,2,    2.430,2, -999.000,9, -999.000,9, -999.000,9, -999.000,9, -999.000,9
           NA,    P03E,     81,   1,-999.0,      32,  2,19850412,0813,  24.2350, -144.0367,  5139, 4539.200,    1.493,   34.685,2,   34.685,2, -999.000,9,  154.700,2,  151.600,2,   36.750,2,    0.000,2,    2.420,2,    0.001,6,    0.000,2, -999.000,9, -999.000,9, -999.000,9
           NA,    P03E,     81,   1,-999.0,      37,  2,19850412,0813,  24.2350, -144.0367,  5139, 4744.400,    1.499,   34.686,2,   34.687,2, -999.000,9,  158.600,2,  149.250,2,   36.460,2,    0.000,2,    2.420,2,   -0.010,2,    0.000,2, -999.000,9, -999.000,9, -999.000,9
           NA,    P03E,     81,   1,-999.0,      34,  2,19850412,0813,  24.2350, -144.0367,  5139, 4948.600,    1.496,   34.688,2,   34.689,2, -999.000,9,  162.500,2,  145.540,2,   35.970,2,    0.000,2,    2.380,2,    0.000,2,    0.003,2, -999.000,9, -999.000,9, -999.000,9
           NA,    P03E,     81,   1,-999.0,      35,  2,19850412,0813,  24.2350, -144.0367,  5139, 5153.600,    1.512,   34.689,2,   34.690,2, -999.000,9,  163.800,2,  144.170,2,   35.870,2,    0.000,2,    2.380,2,   -0.007,2,   -0.001,2, -999.000,9, -999.000,9, -999.000,9
           NA,    P03E,     81,   1,-999.0,      36,  2,19850412,0813,  24.2350, -144.0367,  5139, 5328.800,    1.532,   34.688,2,   34.690,2, -999.000,9,  164.700,2,  143.970,2,   35.970,2,    0.000,2,    2.380,2,   -0.006,2,    0.000,2, -999.000,9, -999.000,9, -999.000,9