BOTTLE,20203103JOAExport
EXPOCODE,SECT_ID,STNNBR,CASTNO,SAMPNO,BTLNBR,BTLNBR_FLAG_W,DATE,TIME,LATITUDE,LONGITUDE,DEPTH,CTDPRS,CTDTMP,CTDSAL,CTDSAL_FLAG_W,SALNTY,SALNTY_FLAG_W,CTDOXY,CTDOXY_FLAG_W,OXYGEN,OXYGEN_FLAG_W,SILCAT,SILCAT_FLAG_W,NITRAT,NITRAT_FLAG_W,NITRIT,NITRIT_FLAG_W,PHSPHT,PHSPHT_FLAG_W,CFC-11,CFC-11_FLAG_W,CFC-12,CFC-12_FLAG_W,SF6,SF6_FLAG_W,TCARBN,TCARBN_FLAG_W,ALKALI,ALKALI_FLAG_W
,,,,,,,,,,,,,DB,ITS-90,PSS-78,,PSS-78,,UMOL/KG,,UMOL/KG,,UMOL/KG,,UMOL/KG,,UMOL/KG,,UMOL/KG,,PMOL/KG,,PMOL/KG,,FMOL/KG,,UMOL/KG,,UMOL/KG
           NA,    P03W,    199,   1,-999.0,       1,  2,19850504,1002,  24.2467,  179.2017,  5730,    0.000,   25.584,   35.279,2,   35.285,2, -999.000,9,  208.600,2,    1.810,2,    0.130,2,    0.000,2,    0.060,2,    1.437,2,    0.775,2, -999.000,9, -999.000,9, -999.000,9
           NA,    P03W,    199,   1,-999.0,       2,  2,19850504,1002,  24.2467,  179.2017,  5730,   23.200,   24.856,   35.274,2,   35.278,2, -999.000,9,  211.600,2,    1.760,2,    0.130,2,    0.000,2,    0.060,2,    1.501,2,    0.799,2, -999.000,9, -999.000,9, -999.000,9
           NA,    P03W,    199,   1,-999.0,       3,  2,19850504,1002,  24.2467,  179.2017,  5730,   43.200,   24.582,   35.303,2, -999.000,5, -999.000,9,  211.600,2,    1.710,2,    0.120,2,    0.000,2,    0.050,2,    1.515,2,    0.802,2, -999.000,9, -999.000,9, -999.000,9
           NA,    P03W,    199,   1,-999.0,       4,  2,19850504,1002,  24.2467,  179.2017,  5730,   73.300,   24.115,   35.377,2,   35.378,2, -999.000,9,  214.200,2,    1.460,2,    0.120,2,    0.000,2,    0.030,2,    1.525,2,    0.764,2, -999.000,9, -999.000,9, -999.000,9
           NA,    P03W,    199,   1,-999.0,       5,  2,19850504,1002,  24.2467,  179.2017,  5730,  103.400,   23.377,   35.363,2,   35.366,2, -999.000,9,  214.500,2,    1.610,2,    0.120,2,    0.000,2,    0.030,2,    1.578,2,    0.821,2, -999.000,9, -999.000,9, -999.000,9
           NA,    P03W,    199,   1,-999.0,       6,  2,19850504,1002,  24.2467,  179.2017,  5730,  143.800,   22.068,   35.226,2,   35.216,2, -999.000,9,  201.000,2,    1.760,2,    0.520,2,    0.090,2,    0.100,2,    1.596,2,    0.872,2, -999.000,9, -999.000,9, -999.000,9
           NA,    P03W,    199,   1,-999.0,       7,  2,19850504,1002,  24.2467,  179.2017,  5730,  183.500,   19.567,   35.009,2,   35.011,2, -999.000,9,  186.900,2,    2.700,2,    3.030,2,    0.020,2,    0.300,2,    1.602,2,    0.822,2, -999.000,9, -999.000,9, -999.000,9
           NA,    P03W,    199,   1,-999.0,       8,  2,19850504,1002,  24.2467,  179.2017,  5730,  234.900,   17.498,   34.833,2, -999.000,5, -999.000,9,  199.900,2,    3.840,2,    4.020,2,    0.010,2,    0.350,2,    1.725,2,    0.876,2, -999.000,9, -999.000,9, -999.000,9
           NA,    P03W,    199,   1,-999.0,       9,  2,19850504,1002,  24.2467,  179.2017,  5730,  284.600,   15.807,   34.682,2,   34.680,2, -999.000,9,  197.300,2,    5.970,2,    6.760,2,    0.010,2,    0.510,2,    1.650,2,    0.820,2, -999.000,9, -999.000,9, -999.000,9
           NA,    P03W,    199,   1,-999.0,      10,  2,19850504,1002,  24.2467,  179.2017,  5730,  335.800,   13.982,   34.509,2,   34.512,2, -999.000,9,  202.900,2,    8.490,2,    8.800,2,    0.000,2,    0.640,2,    1.703,2,    0.829,2, -999.000,9, -999.000,9, -999.000,9
           NA,    P03W,    199,   1,-999.0,      11,  2,19850504,1002,  24.2467,  179.2017,  5730,  385.700,   12.487,   34.380,2,   34.377,2, -999.000,9,  208.100,2,   12.000,2,   11.390,2,    0.000,2,    0.800,2,    1.694,2,    0.837,2, -999.000,9, -999.000,9, -999.000,9
           NA,    P03W,    199,   1,-999.0,      12,  2,19850504,1002,  24.2467,  179.2017,  5730,  447.200,   11.034,   34.243,2,   34.243,2, -999.000,9,  198.400,2,   17.480,2,   14.950,2,    0.010,2,    1.020,2,    1.437,2,    0.716,2, -999.000,9, -999.000,9, -999.000,9
           NA,    P03W,    199,   1,-999.0,      13,  2,19850504,1002,  24.2467,  179.2017,  5730,  507.400,    9.579,   34.178,2,   34.175,2, -999.000,9,  181.400,2,   26.490,2,   19.510,2,    0.000,2,    1.320,2,    1.059,6,    0.523,6, -999.000,9, -999.000,9, -999.000,9
           NA,    P03W,    199,   1,-999.0,      14,  2,19850504,1002,  24.2467,  179.2017,  5730,  568.100,    8.324,   34.119,2,   34.120,2, -999.000,9,  157.500,2,   37.070,2,   24.070,2,    0.010,2,    1.640,2,    0.702,2,    0.361,2, -999.000,9, -999.000,9, -999.000,9
           NA,    P03W,    199,   1,-999.0,      15,  2,19850504,1002,  24.2467,  179.2017,  5730,  648.400,    6.708,   34.099,2,   34.097,2, -999.000,9,  110.900,2,   57.470,2,   31.450,2,    0.000,2,    2.170,2,    0.303,2,    0.152,2, -999.000,9, -999.000,9, -999.000,9
           NA,    P03W,    199,   1,-999.0,      16,  2,19850504,1002,  24.2467,  179.2017,  5730,  729.000,    5.748,   34.135,2,   34.133,2, -999.000,9,   78.700,2,   74.480,2,   36.380,2,    0.000,2,    2.490,2,    0.130,2,    0.072,2, -999.000,9, -999.000,9, -999.000,9
           NA,    P03W,    199,   1,-999.0,      17,  2,19850504,1002,  24.2467,  179.2017,  5730,  808.200,    4.989,   34.218,2,   34.215,2, -999.000,9,   51.700,2,   92.230,2,   40.200,2,    0.000,2,    2.760,2,    0.040,2,    0.024,2, -999.000,9, -999.000,9, -999.000,9
           NA,    P03W,    199,   1,-999.0,      18,  2,19850504,1002,  24.2467,  179.2017,  5730,  910.200,    4.444,   34.316,2,   34.315,2, -999.000,9,   40.900,2,  105.610,2,   42.070,2,    0.000,2,    2.880,2,    0.015,2,   -0.003,2, -999.000,9, -999.000,9, -999.000,9
           NA,    P03W,    199,   1,-999.0,      39,  2,19850504,1002,  24.2467,  179.2017,  5730, 1060.500,    3.904,   34.423,2,   34.425,2, -999.000,9,   46.900,2,  118.180,2,   42.450,2,    0.000,2,    2.880,2,   -0.001,2,    0.015,2, -999.000,9, -999.000,9, -999.000,9
           NA,    P03W,    199,   1,-999.0,      20,  2,19850504,1002,  24.2467,  179.2017,  5730, 1212.600,    3.477,   34.494,2,   34.493,2, -999.000,9,   58.200,2,  126.790,2,   42.160,2,    0.000,2,    2.850,2,    0.002,2,   -0.004,2, -999.000,9, -999.000,9, -999.000,9
           NA,    P03W,    199,   1,-999.0,      21,  2,19850504,1002,  24.2467,  179.2017,  5730, 1413.700,    3.016,   34.539,2,   34.538,2, -999.000,9,   70.000,2,  136.370,2,   41.820,2,    0.000,2,    2.830,2,    0.000,2,   -0.007,2, -999.000,9, -999.000,9, -999.000,9
           NA,    P03W,    199,   1,-999.0,      22,  2,19850504,1002,  24.2467,  179.2017,  5730, 1616.200,    2.628,   34.568,2,   34.567,2, -999.000,9,   77.400,2,  142.990,2,   41.360,2,    0.000,2,    2.800,2, -999.000,9, -999.000,9, -999.000,9, -999.000,9, -999.000,9
           NA,    P03W,    199,   1,-999.0,      23,  2,19850504,1002,  24.2467,  179.2017,  5730, 1818.900,    2.287,   34.592,2,   34.590,2, -999.000,9,   84.700,2,  149.390,2,   41.130,2,    0.000,2,    2.750,2, -999.000,9, -999.000,9, -999.000,9, -999.000,9, -999.000,9
           NA,    P03W,    199,   1,-999.0,      24,  2,19850504,1002,  24.2467,  179.2017,  5730, 2021.100,    2.046,   34.611,2,   34.611,2, -999.000,9,   95.600,2,  155.000,2,   40.740,2,    0.000,2,    2.720,2,    0.012,2,   -0.004,2, -999.000,9, -999.000,9, -999.000,9
           NA,    P03W,    199,   1,-999.0,      25,  2,19850504,1002,  24.2467,  179.2017,  5730, 2222.900,    1.883,   34.627,2,   34.627,2, -999.000,9,  103.400,2,  156.890,2,   39.730,2,    0.000,2,    2.690,2, -999.000,9, -999.000,9, -999.000,9, -999.000,9, -999.000,9
           NA,    P03W,    199,   1,-999.0,      26,  2,19850504,1002,  24.2467,  179.2017,  5730, 2526.300,    1.736,   34.641,2,   34.642,2, -999.000,9,  112.100,2,  159.950,2,   39.290,2,    0.000,2,    2.630,2,    0.006,2,   -0.004,2, -999.000,9, -999.000,9, -999.000,9
           NA,    P03W,    199,   1,-999.0,      27,  2,19850504,1002,  24.2467,  179.2017,  5730, 2829.600,    1.625,   34.654,2,   34.654,2, -999.000,9,  124.300,2,  159.490,2,   38.510,2,    0.000,2,    2.590,2, -999.000,9, -999.000,9, -999.000,9, -999.000,9, -999.000,9
           NA,    P03W,    199,   1,-999.0,      28,  2,19850504,1002,  24.2467,  179.2017,  5730, 3135.000,    1.565,   34.663,2,   34.664,2, -999.000,9,  132.500,2,  155.740,2,   37.900,2,    0.000,2,    2.540,2, -999.000,9, -999.000,9, -999.000,9, -999.000,9, -999.000,9
           NA,    P03W,    199,   1,-999.0,      29,  2,19850504,1002,  24.2467,  179.2017,  5730, 3440.500,    1.508,   34.671,2,   34.671,2, -999.000,9,  140.400,2,  153.740,2,   37.400,2,    0.000,2,    2.500,2, -999.000,9, -999.000,9, -999.000,9, -999.000,9, -999.000,9
           NA,    P03W,    199,   1,-999.0,      30,  2,19850504,1002,  24.2467,  179.2017,  5730, 3748.900,    1.471,   34.677,2, -999.000,5, -999.000,9,  147.300,2,  151.740,2,   36.800,2,    0.000,2,    2.460,2,    0.014,2,   -0.004,2, -999.000,9, -999.000,9, -999.000,9
           NA,    P03W,    199,   1,-999.0,      31,  2,19850504,1002,  24.2467,  179.2017,  5730, 4055.500,    1.448,   34.682,2,   34.683,2, -999.000,9,  155.100,2,  148.970,2,   36.250,2,    0.000,2,    2.420,2, -999.000,9, -999.000,9, -999.000,9, -999.000,9, -999.000,9
           NA,    P03W,    199,   1,-999.0,      32,  2,19850504,1002,  24.2467,  179.2017,  5730, 4361.600,    1.437,   34.686,2,   34.685,2, -999.000,9,  161.600,2,  143.510,2,   35.750,2,    0.000,2,    2.390,2,    0.000,2,   -0.004,2, -999.000,9, -999.000,9, -999.000,9
           NA,    P03W,    199,   1,-999.0,      33,  2,19850504,1002,  24.2467,  179.2017,  5730, 4719.900,    1.433,   34.689,2,   34.690,2, -999.000,9,  167.700,2,  139.420,2,   35.370,2,    0.000,2,    2.350,2, -999.000,9, -999.000,9, -999.000,9, -999.000,9, -999.000,9
           NA,    P03W,    199,   1,-999.0,      34,  2,19850504,1002,  24.2467,  179.2017,  5730, 5078.000,    1.440,   34.692,2,   34.692,2, -999.000,9,  174.200,2,  137.260,2,   35.040,2,    0.000,2,    2.330,2,    0.014,2,   -0.004,2, -999.000,9, -999.000,9, -999.000,9
           NA,    P03W,    199,   1,-999.0,      35,  2,19850504,1002,  24.2467,  179.2017,  5730, 5437.300,    1.464,   34.693,2,   34.695,2, -999.000,9,  176.800,2,  136.060,2,   34.760,2,    0.000,2,    2.300,2, -999.000,9, -999.000,9, -999.000,9, -999.000,9, -999.000,9
           NA,    P03W,    199,   1,-999.0,      36,  2,19850504,1002,  24.2467,  179.2017,  5730, 5817.600,    1.501,   34.695,2,   34.696,2, -999.000,9,  179.000,2,  135.070,2,   34.700,2,    0.000,2,    2.290,2,   -0.001,2, -999.000,9, -999.000,9, -999.000,9, -999.000,9