BOTTLE,20203103JOAExport
EXPOCODE,SECT_ID,STNNBR,CASTNO,SAMPNO,BTLNBR,BTLNBR_FLAG_W,DATE,TIME,LATITUDE,LONGITUDE,DEPTH,CTDPRS,CTDTMP,CTDSAL,CTDSAL_FLAG_W,SALNTY,SALNTY_FLAG_W,CTDOXY,CTDOXY_FLAG_W,OXYGEN,OXYGEN_FLAG_W,SILCAT,SILCAT_FLAG_W,NITRAT,NITRAT_FLAG_W,NITRIT,NITRIT_FLAG_W,PHSPHT,PHSPHT_FLAG_W,CFC-11,CFC-11_FLAG_W,CFC-12,CFC-12_FLAG_W,SF6,SF6_FLAG_W,TCARBN,TCARBN_FLAG_W,ALKALI,ALKALI_FLAG_W
,,,,,,,,,,,,,DB,ITS-90,PSS-78,,PSS-78,,UMOL/KG,,UMOL/KG,,UMOL/KG,,UMOL/KG,,UMOL/KG,,UMOL/KG,,PMOL/KG,,PMOL/KG,,FMOL/KG,,UMOL/KG,,UMOL/KG
           NA,    P03W,    219,   1,-999.0,       1,  2,19850507,2213,  24.2650,  171.1733,  5777,    0.000,   24.959,   35.260,2,   35.265,2, -999.000,9,  211.500,2,    0.080,2,    0.050,2,    0.000,2,    0.030,2,    1.579,2,    0.783,2, -999.000,9, -999.000,9, -999.000,9
           NA,    P03W,    219,   1,-999.0,       2,  2,19850507,2213,  24.2650,  171.1733,  5777,   22.000,   24.797,   35.258,2,   35.264,2, -999.000,9,  211.500,2,    0.040,2,    0.050,2,    0.000,2,    0.020,2, -999.000,9, -999.000,9, -999.000,9, -999.000,9, -999.000,9
           NA,    P03W,    219,   1,-999.0,       3,  2,19850507,2213,  24.2650,  171.1733,  5777,   41.500,   24.103,   35.214,2,   35.215,2, -999.000,9,  213.400,2,    0.000,2,    0.050,2,    0.000,2,    0.020,2,    1.576,2,    0.786,2, -999.000,9, -999.000,9, -999.000,9
           NA,    P03W,    219,   1,-999.0,       4,  2,19850507,2213,  24.2650,  171.1733,  5777,   71.700,   23.655,   35.283,2,   35.274,2, -999.000,9,  214.800,2,    0.000,2,    0.050,2,    0.000,2,    0.020,2, -999.000,9, -999.000,9, -999.000,9, -999.000,9, -999.000,9
           NA,    P03W,    219,   1,-999.0,       5,  2,19850507,2213,  24.2650,  171.1733,  5777,  102.300,   22.495,   35.179,2,   35.175,2, -999.000,9,  210.300,2,    0.120,2,    0.050,2,    0.000,2,    0.050,2,    1.609,2,    0.806,2, -999.000,9, -999.000,9, -999.000,9
           NA,    P03W,    219,   1,-999.0,       6,  2,19850507,2213,  24.2650,  171.1733,  5777,  142.900,   20.406,   35.043,2,   35.041,2, -999.000,9,  197.800,2,    1.170,2,    1.480,2,    0.020,2,    0.180,2, -999.000,9, -999.000,9, -999.000,9, -999.000,9, -999.000,9
           NA,    P03W,    219,   1,-999.0,       7,  2,19850507,2213,  24.2650,  171.1733,  5777,  183.000,   17.724,   34.833,2,   34.834,2, -999.000,9,  201.300,2,    2.230,2,    3.730,2,    0.010,2,    0.320,2,    1.783,2,    0.863,2, -999.000,9, -999.000,9, -999.000,9
           NA,    P03W,    219,   1,-999.0,       8,  2,19850507,2213,  24.2650,  171.1733,  5777,  232.700,   16.254,   34.723,2,   34.724,2, -999.000,9,  208.800,2,    3.940,2,    5.480,2,    0.000,2,    0.420,2, -999.000,9, -999.000,9, -999.000,9, -999.000,9, -999.000,9
           NA,    P03W,    219,   1,-999.0,       9,  2,19850507,2213,  24.2650,  171.1733,  5777,  283.900,   15.448,   34.664,2,   34.656,2, -999.000,9,  208.400,2,    5.430,2,    6.900,2,    0.000,2,    0.510,2,    1.790,2,    0.874,2, -999.000,9, -999.000,9, -999.000,9
           NA,    P03W,    219,   1,-999.0,      10,  2,19850507,2213,  24.2650,  171.1733,  5777,  334.100,   14.316,   34.566,2,   34.559,2, -999.000,9,  210.100,2,    7.800,2,    8.710,2,    0.000,2,    0.630,2, -999.000,9, -999.000,9, -999.000,9, -999.000,9, -999.000,9
           NA,    P03W,    219,   1,-999.0,      11,  2,19850507,2213,  24.2650,  171.1733,  5777,  384.600,   13.012,   34.454,2,   34.452,2, -999.000,9,  207.900,2,   10.840,2,   10.870,2,    0.000,2,    0.790,2,    1.630,2, -999.000,9, -999.000,9, -999.000,9, -999.000,9
           NA,    P03W,    219,   1,-999.0,      12,  2,19850507,2213,  24.2650,  171.1733,  5777,  444.900,   11.541,   34.332,2,   34.327,2, -999.000,9,  200.900,2,   15.850,2,   14.080,2,    0.000,2,    1.000,2, -999.000,9, -999.000,9, -999.000,9, -999.000,9, -999.000,9
           NA,    P03W,    219,   1,-999.0,      13,  2,19850507,2213,  24.2650,  171.1733,  5777,  505.600,   10.058,   34.222,2,   34.221,2, -999.000,9,  191.000,2,   23.280,2,   17.720,2,    0.000,2,    1.250,2,    1.299,2,    0.589,2, -999.000,9, -999.000,9, -999.000,9
           NA,    P03W,    219,   1,-999.0,      14,  2,19850507,2213,  24.2650,  171.1733,  5777,  565.600,    8.363,   34.125,2,   34.124,2, -999.000,9,  160.400,2,   36.000,2,   23.720,2,    0.000,2,    1.670,2, -999.000,9, -999.000,9, -999.000,9, -999.000,9, -999.000,9
           NA,    P03W,    219,   1,-999.0,      15,  2,19850507,2213,  24.2650,  171.1733,  5777,  643.700,    6.730,   34.111,2,   34.111,2, -999.000,9,  106.600,2,   56.420,2,   31.640,2,    0.000,2,    2.220,2,    0.273,2,    0.153,2, -999.000,9, -999.000,9, -999.000,9
           NA,    P03W,    219,   1,-999.0,      16,  2,19850507,2213,  24.2650,  171.1733,  5777,  725.200,    5.645,   34.143,2,   34.143,2, -999.000,9,   74.000,2,   73.990,2,   36.330,2,    0.000,2,    2.560,2, -999.000,9, -999.000,9, -999.000,9, -999.000,9, -999.000,9
           NA,    P03W,    219,   1,-999.0,      17,  2,19850507,2213,  24.2650,  171.1733,  5777,  804.500,    5.001,   34.223,2,   34.222,2, -999.000,9,   52.900,2,   87.610,2,   39.860,2,    0.000,2,    2.780,2, -999.000,9,    0.002,2, -999.000,9, -999.000,9, -999.000,9
           NA,    P03W,    219,   1,-999.0,      18,  2,19850507,2213,  24.2650,  171.1733,  5777,  906.000,    4.508,   34.309,2,   34.308,2, -999.000,9,   42.200,2,   99.250,2,   41.360,2,    0.000,2,    2.890,2, -999.000,9, -999.000,9, -999.000,9, -999.000,9, -999.000,9
           NA,    P03W,    219,   1,-999.0,      39,  2,19850507,2213,  24.2650,  171.1733,  5777, 1058.700,    3.937,   34.434,2,   34.434,2, -999.000,9,   50.100,2,  111.560,2,   41.660,2,    0.000,2,    2.900,2,    0.013,2,   -0.004,2, -999.000,9, -999.000,9, -999.000,9
           NA,    P03W,    219,   1,-999.0,      20,  2,19850507,2213,  24.2650,  171.1733,  5777, 1210.600,    3.404,   34.493,2,   34.493,2, -999.000,9,   60.100,2,  122.560,2,   41.460,2,    0.000,2,    2.870,2, -999.000,9, -999.000,9, -999.000,9, -999.000,9, -999.000,9
           NA,    P03W,    219,   1,-999.0,      21,  2,19850507,2213,  24.2650,  171.1733,  5777, 1412.500,    2.902,   34.527,2,   34.526,2, -999.000,9,   65.900,2,  134.000,2,   41.420,2,    0.000,2,    2.850,2,   -0.008,2, -999.000,9, -999.000,9, -999.000,9, -999.000,9
           NA,    P03W,    219,   1,-999.0,      22,  2,19850507,2213,  24.2650,  171.1733,  5777, 1614.700,    2.504,   34.562,2,   34.562,2, -999.000,9,   76.700,2,  143.250,2,   41.010,2,    0.000,2,    2.830,2, -999.000,9, -999.000,9, -999.000,9, -999.000,9, -999.000,9
           NA,    P03W,    219,   1,-999.0,      23,  2,19850507,2213,  24.2650,  171.1733,  5777, 1816.300,    2.207,   34.589,2,   34.589,2, -999.000,9,   87.100,2,  148.530,2,   40.480,2,    0.000,2,    2.780,2, -999.000,9, -999.000,9, -999.000,9, -999.000,9, -999.000,9
           NA,    P03W,    219,   1,-999.0,      24,  2,19850507,2213,  24.2650,  171.1733,  5777, 2013.900,    1.992,   34.610,2,   34.610,2, -999.000,9,   95.600,2,  151.170,2,   39.790,2,    0.000,2,    2.730,2,   -0.007,6,    0.001,6, -999.000,9, -999.000,9, -999.000,9
           NA,    P03W,    219,   1,-999.0,      25,  2,19850507,2213,  24.2650,  171.1733,  5777, 2212.600,    1.849,   34.624,2,   34.625,2, -999.000,9,  102.100,2,  153.370,2,   39.590,2,    0.000,2,    2.710,2, -999.000,9, -999.000,9, -999.000,9, -999.000,9, -999.000,9
           NA,    P03W,    219,   1,-999.0,      26,  2,19850507,2213,  24.2650,  171.1733,  5777, 2517.400,    1.721,   34.643,2,   34.644,2, -999.000,9,  116.700,2,  151.150,2,   38.580,2,    0.000,2,    2.640,2, -999.000,9, -999.000,9, -999.000,9, -999.000,9, -999.000,9
           NA,    P03W,    219,   1,-999.0,      27,  2,19850507,2213,  24.2650,  171.1733,  5777, 2821.000,    1.633,   34.654,2,   34.655,2, -999.000,9,  125.700,2,  151.140,2,   38.110,2,    0.000,2,    2.590,2, -999.000,9, -999.000,9, -999.000,9, -999.000,9, -999.000,9
           NA,    P03W,    219,   1,-999.0,      28,  2,19850507,2213,  24.2650,  171.1733,  5777, 3120.400,    1.566,   34.663,2,   34.663,2, -999.000,9,  133.300,2,  150.910,2,   37.370,2,    0.000,2,    2.560,2, -999.000,9, -999.000,9, -999.000,9, -999.000,9, -999.000,9
           NA,    P03W,    219,   1,-999.0,      29,  2,19850507,2213,  24.2650,  171.1733,  5777, 3422.700,    1.510,   34.671,2,   34.672,2, -999.000,9,  142.000,2,  148.690,2,   37.020,2,    0.000,2,    2.500,2, -999.000,9, -999.000,9, -999.000,9, -999.000,9, -999.000,9
           NA,    P03W,    219,   1,-999.0,      30,  2,19850507,2213,  24.2650,  171.1733,  5777, 3726.700,    1.484,   34.675,2,   34.676,2, -999.000,9,  147.600,2,  146.910,2,   36.550,2,    0.000,2,    2.470,2, -999.000,9, -999.000,9, -999.000,9, -999.000,9, -999.000,9
           NA,    P03W,    219,   1,-999.0,      31,  2,19850507,2213,  24.2650,  171.1733,  5777, 4030.300,    1.467,   34.680,2,   34.680,2, -999.000,9,  154.100,2,  144.690,2,   36.090,2,    0.000,2,    2.440,2, -999.000,9, -999.000,9, -999.000,9, -999.000,9, -999.000,9
           NA,    P03W,    219,   1,-999.0,      32,  2,19850507,2213,  24.2650,  171.1733,  5777, 4340.100,    1.447,   34.685,2,   34.684,2, -999.000,9,  161.900,2,  140.250,2,   35.520,2,    0.000,2,    2.400,2, -999.000,9, -999.000,9, -999.000,9, -999.000,9, -999.000,9
           NA,    P03W,    219,   1,-999.0,      33,  2,19850507,2213,  24.2650,  171.1733,  5777, 4691.900,    1.436,   34.689,2,   34.689,2, -999.000,9,  168.600,2,  135.820,2,   35.110,2,    0.000,2,    2.360,2, -999.000,9, -999.000,9, -999.000,9, -999.000,9, -999.000,9
           NA,    P03W,    219,   1,-999.0,      34,  2,19850507,2213,  24.2650,  171.1733,  5777, 5044.300,    1.432,   34.692,2,   34.692,2, -999.000,9,  177.000,2,  133.150,2,   34.530,2,    0.000,2,    2.320,2, -999.000,9, -999.000,9, -999.000,9, -999.000,9, -999.000,9
           NA,    P03W,    219,   1,-999.0,      35,  2,19850507,2213,  24.2650,  171.1733,  5777, 5456.600,    1.453,   34.694,2,   34.695,2, -999.000,9,  178.900,2,  130.700,2,   34.390,2,    0.000,2,    2.310,2, -999.000,9, -999.000,9, -999.000,9, -999.000,9, -999.000,9
           NA,    P03W,    219,   1,-999.0,      36,  2,19850507,2213,  24.2650,  171.1733,  5777, 5887.100,    1.489,   34.695,2,   34.696,2, -999.000,9,  181.500,2,  129.360,2,   34.040,2,    0.000,2,    2.300,2, -999.000,9, -999.000,9, -999.000,9, -999.000,9, -999.000,9