BOTTLE,20203103JOAExport
EXPOCODE,SECT_ID,STNNBR,CASTNO,SAMPNO,BTLNBR,BTLNBR_FLAG_W,DATE,TIME,LATITUDE,LONGITUDE,DEPTH,CTDPRS,CTDTMP,CTDSAL,CTDSAL_FLAG_W,SALNTY,SALNTY_FLAG_W,CTDOXY,CTDOXY_FLAG_W,OXYGEN,OXYGEN_FLAG_W,SILCAT,SILCAT_FLAG_W,NITRAT,NITRAT_FLAG_W,NITRIT,NITRIT_FLAG_W,PHSPHT,PHSPHT_FLAG_W,CFC-11,CFC-11_FLAG_W,CFC-12,CFC-12_FLAG_W,SF6,SF6_FLAG_W,TCARBN,TCARBN_FLAG_W,ALKALI,ALKALI_FLAG_W
,,,,,,,,,,,,,DB,ITS-90,PSS-78,,PSS-78,,UMOL/KG,,UMOL/KG,,UMOL/KG,,UMOL/KG,,UMOL/KG,,UMOL/KG,,PMOL/KG,,PMOL/KG,,FMOL/KG,,UMOL/KG,,UMOL/KG
           NA,    P03W,    269,   1,-999.0,       1,  2,19850516,0911,  24.2467,  151.2533,  5477,    0.000,   26.219,   34.940,2,   34.943,2, -999.000,9,  207.900,2,    0.250,2,    0.060,2,    0.000,2,    0.040,2,    1.461,2,    0.772,2, -999.000,9, -999.000,9, -999.000,9
           NA,    P03W,    269,   1,-999.0,       2,  2,19850516,0911,  24.2467,  151.2533,  5477,   24.600,   23.768,   34.970,2,   34.963,2, -999.000,9,  217.200,2,    0.230,2,    0.060,2,    0.000,2,    0.040,2, -999.000,9, -999.000,9, -999.000,9, -999.000,9, -999.000,9
           NA,    P03W,    269,   1,-999.0,       3,  2,19850516,0911,  24.2467,  151.2533,  5477,   45.100,   22.517,   34.981,2,   34.968,2, -999.000,9,  222.600,2,    0.200,2,    0.060,2,    0.000,2,    0.040,2,    1.681,2,    0.901,2, -999.000,9, -999.000,9, -999.000,9
           NA,    P03W,    269,   1,-999.0,       4,  2,19850516,0911,  24.2467,  151.2533,  5477,   75.100,   20.516,   34.955,2,   34.958,2, -999.000,9,  225.800,2,    0.390,2,    0.010,2,    0.000,2,    0.040,2, -999.000,9, -999.000,9, -999.000,9, -999.000,9, -999.000,9
           NA,    P03W,    269,   1,-999.0,       5,  2,19850516,0911,  24.2467,  151.2533,  5477,  105.500,   19.667,   34.899,2,   34.900,2, -999.000,9,  221.000,2,    0.580,2,    0.050,2,    0.010,2,    0.080,2,    1.790,2,    0.920,2, -999.000,9, -999.000,9, -999.000,9
           NA,    P03W,    269,   1,-999.0,       6,  2,19850516,0911,  24.2467,  151.2533,  5477,  145.500,   18.070,   34.828,2,   34.828,2, -999.000,9,  206.100,2,    2.230,2,    3.140,2,    0.020,2,    0.250,2,    1.772,2,    0.912,2, -999.000,9, -999.000,9, -999.000,9
           NA,    P03W,    269,   1,-999.0,       7,  2,19850516,0911,  24.2467,  151.2533,  5477,  185.800,   17.088,   34.783,2,   34.784,2, -999.000,9,  206.100,2,    2.620,2,    4.650,2,    0.010,2,    0.350,2,    1.791,2,    0.917,2, -999.000,9, -999.000,9, -999.000,9
           NA,    P03W,    269,   1,-999.0,       8,  2,19850516,0911,  24.2467,  151.2533,  5477,  235.800,   16.309,   34.746,2,   34.745,2, -999.000,9,  206.100,2,    4.060,2,    5.760,2,    0.010,2,    0.410,2,    1.781,2,    0.859,2, -999.000,9, -999.000,9, -999.000,9
           NA,    P03W,    269,   1,-999.0,       9,  2,19850516,0911,  24.2467,  151.2533,  5477,  285.600,   15.559,   34.697,2,   34.698,2, -999.000,9,  210.500,2,    5.290,2,    6.880,2,    0.000,2,    0.490,2,    1.734,2,    0.877,2, -999.000,9, -999.000,9, -999.000,9
           NA,    P03W,    269,   1,-999.0,      10,  2,19850516,0911,  24.2467,  151.2533,  5477,  336.200,   14.651,   34.612,2,   34.610,2, -999.000,9,  203.400,2,    8.190,2,    8.970,2,    0.000,2,    0.640,2,    1.598,2,    0.818,2, -999.000,9, -999.000,9, -999.000,9
           NA,    P03W,    269,   1,-999.0,      11,  2,19850516,0911,  24.2467,  151.2533,  5477,  386.600,   13.700,   34.524,2,   34.519,2, -999.000,9,  198.900,2,   10.870,2,   11.110,2,    0.000,2,    0.770,2,    1.470,2,    0.746,2, -999.000,9, -999.000,9, -999.000,9
           NA,    P03W,    269,   1,-999.0,      12,  2,19850516,0911,  24.2467,  151.2533,  5477,  447.000,   11.854,   34.369,2,   34.360,2, -999.000,9,  191.800,2,   17.720,2,   15.020,2,    0.000,2,    1.040,2,    1.290,2,    0.651,2, -999.000,9, -999.000,9, -999.000,9
           NA,    P03W,    269,   1,-999.0,      13,  2,19850516,0911,  24.2467,  151.2533,  5477,  507.400,   10.460,   34.270,2,   34.270,2, -999.000,9,  183.800,2,   23.530,2,   17.880,2,    0.000,2,    1.240,2,    1.164,2,    0.571,2, -999.000,9, -999.000,9, -999.000,9
           NA,    P03W,    269,   1,-999.0,      14,  2,19850516,0911,  24.2467,  151.2533,  5477,  568.000,    8.750,   34.157,2,   34.156,2, -999.000,9,  167.400,2,   34.120,2,   22.470,2,    0.000,2,    1.560,2,    0.917,2,    0.472,2, -999.000,9, -999.000,9, -999.000,9
           NA,    P03W,    269,   1,-999.0,      15,  2,19850516,0911,  24.2467,  151.2533,  5477,  648.600,    6.699,   34.072,2,   34.072,2, -999.000,9,  133.200,2,   54.490,2,   29.590,2,    0.000,2,    2.040,2, -999.000,9, -999.000,9, -999.000,9, -999.000,9, -999.000,9
           NA,    P03W,    269,   1,-999.0,      16,  2,19850516,0911,  24.2467,  151.2533,  5477,  729.200,    5.518,   34.115,2,   34.114,2, -999.000,9,   90.300,2,   74.420,2,   35.540,2,    0.000,2,    2.420,2,    0.262,2,    0.151,2, -999.000,9, -999.000,9, -999.000,9
           NA,    P03W,    269,   1,-999.0,      17,  2,19850516,0911,  24.2467,  151.2533,  5477,  809.600,    4.784,   34.187,2,   34.187,2, -999.000,9,   63.900,2,   90.390,2,   39.480,2,    0.000,2,    2.660,2, -999.000,9, -999.000,9, -999.000,9, -999.000,9, -999.000,9
           NA,    P03W,    269,   1,-999.0,      18,  2,19850516,0911,  24.2467,  151.2533,  5477,  910.700,    4.195,   34.287,2,   34.287,2, -999.000,9,   49.200,2,  105.730,2,   41.700,2,    0.000,2,    2.790,2,    0.025,2, -999.000,9, -999.000,9, -999.000,9, -999.000,9
           NA,    P03W,    269,   1,-999.0,      39,  2,19850516,0911,  24.2467,  151.2533,  5477, 1062.100,    3.574,   34.402,2,   34.404,2, -999.000,9,   47.600,2,  121.050,2,   42.290,2,    0.000,2,    2.850,2,   -0.001,2, -999.000,9, -999.000,9, -999.000,9, -999.000,9
           NA,    P03W,    269,   1,-999.0,      20,  2,19850516,0911,  24.2467,  151.2533,  5477, 1212.800,    3.192,   34.453,2,   34.452,2, -999.000,9,   51.100,2,  130.750,2,   42.710,2,    0.000,2,    2.840,2, -999.000,9, -999.000,9, -999.000,9, -999.000,9, -999.000,9
           NA,    P03W,    269,   1,-999.0,      21,  2,19850516,0911,  24.2467,  151.2533,  5477, 1415.200,    2.725,   34.514,2,   34.514,2, -999.000,9,   65.200,2,  139.820,2,   42.100,2,    0.000,2,    2.810,2,   -0.005,2, -999.000,9, -999.000,9, -999.000,9, -999.000,9
           NA,    P03W,    269,   1,-999.0,      22,  2,19850516,0911,  24.2467,  151.2533,  5477, 1617.200,    2.394,   34.554,2,   34.554,2, -999.000,9,   77.800,2,  145.770,2,   41.210,2,    0.000,2,    2.760,2, -999.000,9, -999.000,9, -999.000,9, -999.000,9, -999.000,9
           NA,    P03W,    269,   1,-999.0,      23,  2,19850516,0911,  24.2467,  151.2533,  5477, 1819.900,    2.100,   34.586,2,   34.586,2, -999.000,9,   89.000,2,  149.850,2,   40.660,2,    0.000,2,    2.730,2, -999.000,9, -999.000,9, -999.000,9, -999.000,9, -999.000,9
           NA,    P03W,    269,   1,-999.0,      24,  2,19850516,0911,  24.2467,  151.2533,  5477, 2022.100,    1.910,   34.610,2,   34.611,2, -999.000,9,  100.600,2,  151.630,2,   39.730,2,    0.000,2,    2.670,2, -999.000,9, -999.000,9, -999.000,9, -999.000,9, -999.000,9
           NA,    P03W,    269,   1,-999.0,      37,  2,19850516,0911,  24.2467,  151.2533,  5477, 2224.800,    1.797,   34.629,2,   34.629,2, -999.000,9,  112.300,2,  150.930,2,   39.020,2,    0.000,2,    2.620,2, -999.000,9, -999.000,9, -999.000,9, -999.000,9, -999.000,9
           NA,    P03W,    269,   1,-999.0,      26,  2,19850516,0911,  24.2467,  151.2533,  5477, 2427.700,    1.714,   34.640,2,   34.640,2, -999.000,9,  119.600,2,  150.630,2,   38.470,2,    0.000,2,    2.600,2, -999.000,9, -999.000,9, -999.000,9, -999.000,9, -999.000,9
           NA,    P03W,    269,   1,-999.0,      27,  2,19850516,0911,  24.2467,  151.2533,  5477, 2731.500,    1.617,   34.653,2,   34.654,2, -999.000,9,  131.300,2,  150.340,2,   37.930,2,    0.000,2,    2.540,2, -999.000,9, -999.000,9, -999.000,9, -999.000,9, -999.000,9
           NA,    P03W,    269,   1,-999.0,      28,  2,19850516,0911,  24.2467,  151.2533,  5477, 3036.400,    1.544,   34.664,2,   34.664,2, -999.000,9,  138.600,2,  149.430,2,   37.390,2,    0.000,2,    2.500,2, -999.000,9, -999.000,9, -999.000,9, -999.000,9, -999.000,9
           NA,    P03W,    269,   1,-999.0,      29,  2,19850516,0911,  24.2467,  151.2533,  5477, 3341.600,    1.517,   34.669,2,   34.670,2, -999.000,9,  143.100,2,  148.730,2,   37.170,2,    0.000,2,    2.480,2, -999.000,9, -999.000,9, -999.000,9, -999.000,9, -999.000,9
           NA,    P03W,    269,   1,-999.0,      30,  2,19850516,0911,  24.2467,  151.2533,  5477, 3647.500,    1.482,   34.675,2,   34.675,2, -999.000,9,  149.100,2,  146.780,2,   36.790,2,    0.000,2,    2.450,2, -999.000,9, -999.000,9, -999.000,9, -999.000,9, -999.000,9
           NA,    P03W,    269,   1,-999.0,      31,  2,19850516,0911,  24.2467,  151.2533,  5477, 3953.500,    1.462,   34.680,2,   34.680,2, -999.000,9,  156.900,2,  145.250,2,   36.620,2,    0.000,2,    2.410,2, -999.000,9, -999.000,9, -999.000,9, -999.000,9, -999.000,9
           NA,    P03W,    269,   1,-999.0,      32,  2,19850516,0911,  24.2467,  151.2533,  5477, 4259.400,    1.457,   34.683,2,   34.684,2, -999.000,9,  161.700,2,  143.100,2,   36.400,2,    0.000,2,    2.400,2, -999.000,9, -999.000,9, -999.000,9, -999.000,9, -999.000,9
           NA,    P03W,    269,   1,-999.0,      33,  2,19850516,0911,  24.2467,  151.2533,  5477, 4566.100,    1.461,   34.686,2,   34.685,2, -999.000,9,  163.200,2,  140.530,2,   36.180,2,    0.000,2,    2.370,2, -999.000,9, -999.000,9, -999.000,9, -999.000,9, -999.000,9
           NA,    P03W,    269,   1,-999.0,      34,  2,19850516,0911,  24.2467,  151.2533,  5477, 4870.500,    1.474,   34.688,2,   34.689,2, -999.000,9,  167.600,2,  136.940,2,   35.750,2,    0.000,2,    2.350,2, -999.000,9, -999.000,9, -999.000,9, -999.000,9, -999.000,9
           NA,    P03W,    269,   1,-999.0,      35,  2,19850516,0911,  24.2467,  151.2533,  5477, 5176.400,    1.490,   34.689,2,   34.690,2, -999.000,9,  172.400,2,  134.380,2,   35.630,2,    0.000,2,    2.330,2, -999.000,9, -999.000,9, -999.000,9, -999.000,9, -999.000,9
           NA,    P03W,    269,   1,-999.0,      36,  2,19850516,0911,  24.2467,  151.2533,  5477, 5567.500,    1.518,   34.692,2,   34.691,2, -999.000,9,  175.500,2,  133.890,2,   35.260,2,    0.000,2,    2.320,2, -999.000,9, -999.000,9, -999.000,9, -999.000,9, -999.000,9