BOTTLE,20203103JOAExport
EXPOCODE,SECT_ID,STNNBR,CASTNO,SAMPNO,BTLNBR,BTLNBR_FLAG_W,DATE,TIME,LATITUDE,LONGITUDE,DEPTH,CTDPRS,CTDTMP,CTDSAL,CTDSAL_FLAG_W,SALNTY,SALNTY_FLAG_W,CTDOXY,CTDOXY_FLAG_W,OXYGEN,OXYGEN_FLAG_W,SILCAT,SILCAT_FLAG_W,NITRAT,NITRAT_FLAG_W,NITRIT,NITRIT_FLAG_W,PHSPHT,PHSPHT_FLAG_W,CFC-11,CFC-11_FLAG_W,CFC-12,CFC-12_FLAG_W,SF6,SF6_FLAG_W,TCARBN,TCARBN_FLAG_W,ALKALI,ALKALI_FLAG_W
,,,,,,,,,,,,,DB,ITS-90,PSS-78,,PSS-78,,UMOL/KG,,UMOL/KG,,UMOL/KG,,UMOL/KG,,UMOL/KG,,UMOL/KG,,PMOL/KG,,PMOL/KG,,FMOL/KG,,UMOL/KG,,UMOL/KG
           NA,    P03E,     58,   1,-999.0,       1,  2,19850408,0046,  24.2517, -134.0467,  4797,    1.300,   19.300,   35.097,2,   35.098,2, -999.000,9,  233.400,2,    2.280,2,    0.040,2,    0.000,2,    0.150,2, -999.000,9, -999.000,9, -999.000,9, -999.000,9, -999.000,9
           NA,    P03E,     58,   1,-999.0,       2,  2,19850408,0046,  24.2517, -134.0467,  4797,   20.400,   19.181,   35.096,2,   35.097,2, -999.000,9,  233.100,2,    2.250,2,    0.040,2,    0.000,2,    0.140,2, -999.000,9, -999.000,9, -999.000,9, -999.000,9, -999.000,9
           NA,    P03E,     58,   1,-999.0,       3,  2,19850408,0046,  24.2517, -134.0467,  4797,   34.300,   19.088,   35.090,2,   35.093,2, -999.000,9,  233.100,2,    2.040,2,    0.030,2,    0.010,2,    0.130,2, -999.000,9, -999.000,9, -999.000,9, -999.000,9, -999.000,9
           NA,    P03E,     58,   1,-999.0,       4,  2,19850408,0046,  24.2517, -134.0467,  4797,   54.000,   18.632,   34.985,2,   34.983,2, -999.000,9,  234.100,2,    1.620,2,    0.030,2,    0.000,2,    0.140,2, -999.000,9, -999.000,9, -999.000,9, -999.000,9, -999.000,9
           NA,    P03E,     58,   1,-999.0,       5,  2,19850408,0046,  24.2517, -134.0467,  4797,   73.900,   18.631,   34.996,2,   34.985,2, -999.000,9,  232.600,2,    1.400,2,    0.030,2,    0.010,2,    0.130,2, -999.000,9, -999.000,9, -999.000,9, -999.000,9, -999.000,9
           NA,    P03E,     58,   1,-999.0,       6,  2,19850408,0046,  24.2517, -134.0467,  4797,   93.900,   18.726,   35.035,2,   35.041,2, -999.000,9,  231.900,2,    1.570,2,    0.020,2,    0.020,2,    0.130,2, -999.000,9, -999.000,9, -999.000,9, -999.000,9, -999.000,9
           NA,    P03E,     58,   1,-999.0,       7,  2,19850408,0046,  24.2517, -134.0467,  4797,  124.300,   18.724,   35.053,2,   35.052,2, -999.000,9,  231.600,2,    1.740,2,    0.020,2,    0.010,2,    0.130,2, -999.000,9, -999.000,9, -999.000,9, -999.000,9, -999.000,9
           NA,    P03E,     58,   1,-999.0,       8,  2,19850408,0046,  24.2517, -134.0467,  4797,  154.800,   18.150,   34.916,2,   34.915,2, -999.000,9,  225.200,2,    2.100,2,    0.650,2,    0.130,2,    0.180,2, -999.000,9, -999.000,9, -999.000,9, -999.000,9, -999.000,9
           NA,    P03E,     58,   1,-999.0,       9,  2,19850408,0046,  24.2517, -134.0467,  4797,  195.800,   14.082,   34.173,2,   34.172,2, -999.000,9,  212.200,2,    4.970,2,    5.240,2,    0.020,2,    0.530,2, -999.000,9, -999.000,9, -999.000,9, -999.000,9, -999.000,9
           NA,    P03E,     58,   1,-999.0,      10,  2,19850408,0046,  24.2517, -134.0467,  4797,  235.800,   12.041,   34.049,2,   34.040,2, -999.000,9,  207.500,2,    9.970,2,    9.700,2,    0.010,2,    0.810,2, -999.000,9, -999.000,9, -999.000,9, -999.000,9, -999.000,9
           NA,    P03E,     58,   1,-999.0,      11,  2,19850408,0046,  24.2517, -134.0467,  4797,  286.100,    9.467,   33.973,2,   33.971,2, -999.000,9,  181.700,2,   21.760,2,   19.000,2,    0.010,2,    1.370,2, -999.000,9, -999.000,9, -999.000,9, -999.000,9, -999.000,9
           NA,    P03E,     58,   1,-999.0,      12,  2,19850408,0046,  24.2517, -134.0467,  4797,  336.500,    8.170,   34.015,2,   34.014,2, -999.000,9,  156.600,2,   33.370,2,   24.490,2,    0.010,2,    1.720,2, -999.000,9, -999.000,9, -999.000,9, -999.000,9, -999.000,9
           NA,    P03E,     58,   1,-999.0,      13,  2,19850408,0046,  24.2517, -134.0467,  4797,  397.100,    7.203,   34.034,2,   34.032,2, -999.000,9,  113.800,2,   46.740,2,   30.780,2,    0.010,2,    2.140,2, -999.000,9, -999.000,9, -999.000,9, -999.000,9, -999.000,9
           NA,    P03E,     58,   1,-999.0,      14,  2,19850408,0046,  24.2517, -134.0467,  4797,  458.300,    6.396,   34.081,2,   34.083,2, -999.000,9,   68.300,2,   62.070,2,   36.230,2,    0.000,2,    2.550,2, -999.000,9, -999.000,9, -999.000,9, -999.000,9, -999.000,9
           NA,    P03E,     58,   1,-999.0,      15,  2,19850408,0046,  24.2517, -134.0467,  4797,  528.600,    5.616,   34.138,2,   34.135,2, -999.000,9,   43.500,2,   75.890,2,   40.240,2,    0.000,2,    2.790,2, -999.000,9, -999.000,9, -999.000,9, -999.000,9, -999.000,9
           NA,    P03E,     58,   1,-999.0,      16,  2,19850408,0046,  24.2517, -134.0467,  4797,  609.300,    5.208,   34.229,2,   34.228,2, -999.000,9,   24.400,2,   87.580,2,   42.780,2,    0.000,2,    2.980,2, -999.000,9, -999.000,9, -999.000,9, -999.000,9, -999.000,9
           NA,    P03E,     58,   1,-999.0,      17,  2,19850408,0046,  24.2517, -134.0467,  4797,  709.700,    4.753,   34.346,2,   34.349,2, -999.000,9,   17.300,2,   99.110,2,   44.440,2,    0.000,2,    3.080,2, -999.000,9, -999.000,9, -999.000,9, -999.000,9, -999.000,9
           NA,    P03E,     58,   1,-999.0,      18,  2,19850408,0046,  24.2517, -134.0467,  4797,  810.200,    4.507,   34.431,2,   34.428,2, -999.000,9,   24.600,2,  103.430,2,   44.590,2,    0.000,2,    3.070,2, -999.000,9, -999.000,9, -999.000,9, -999.000,9, -999.000,9
           NA,    P03E,     58,   1,-999.0,      19,  2,19850408,0046,  24.2517, -134.0467,  4797,  911.300,    4.227,   34.467,2,   34.467,2, -999.000,9,   29.800,2,  109.320,2,   44.520,2,    0.000,2,    3.070,2, -999.000,9, -999.000,9, -999.000,9, -999.000,9, -999.000,9
           NA,    P03E,     58,   1,-999.0,      20,  2,19850408,0046,  24.2517, -134.0467,  4797, 1011.900,    3.934,   34.493,2,   34.491,2, -999.000,9,   36.200,2,  116.010,2,   44.520,2,    0.000,2,    3.060,2, -999.000,9, -999.000,9, -999.000,9, -999.000,9, -999.000,9
           NA,    P03E,     58,   1,-999.0,      21,  2,19850408,0046,  24.2517, -134.0467,  4797, 1112.500,    3.688,   34.514,2,   34.512,2, -999.000,9,   40.100,2,  121.930,2,   44.510,2,    0.000,2,    3.050,2, -999.000,9, -999.000,9, -999.000,9, -999.000,9, -999.000,9
           NA,    P03E,     58,   1,-999.0,      22,  2,19850408,0046,  24.2517, -134.0467,  4797, 1263.500,    3.363,   34.535,2,   34.534,2, -999.000,9,   47.500,2,  129.620,2,   44.280,2,    0.000,2,    3.020,2, -999.000,9, -999.000,9, -999.000,9, -999.000,9, -999.000,9
           NA,    P03E,     58,   1,-999.0,      23,  2,19850408,0046,  24.2517, -134.0467,  4797, 1413.600,    3.031,   34.559,2,   34.557,2, -999.000,9,   53.200,2,  137.140,2,   44.010,2,    0.000,2,    3.000,2, -999.000,9, -999.000,9, -999.000,9, -999.000,9, -999.000,9
           NA,    P03E,     58,   1,-999.0,      24,  2,19850408,0046,  24.2517, -134.0467,  4797, 1614.500,    2.684,   34.582,2,   34.581,2, -999.000,9,   61.900,2,  145.660,2,   43.620,2,    0.000,2,    2.930,2, -999.000,9, -999.000,9, -999.000,9, -999.000,9, -999.000,9
           NA,    P03E,     58,   1,-999.0,      25,  2,19850408,0046,  24.2517, -134.0467,  4797, 1817.100,    2.392,   34.604,2,   34.604,2, -999.000,9,   71.300,2,  154.400,2,   42.920,2,    0.000,2,    2.900,2, -999.000,9, -999.000,9, -999.000,9, -999.000,9, -999.000,9
           NA,    P03E,     58,   1,-999.0,      26,  2,19850408,0046,  24.2517, -134.0467,  4797, 2020.200,    2.111,   34.624,2,   34.623,2, -999.000,9,   84.800,2,  160.790,2,   42.160,2,    0.000,2,    2.820,2, -999.000,9, -999.000,9, -999.000,9, -999.000,9, -999.000,9
           NA,    P03E,     58,   1,-999.0,      27,  2,19850408,0046,  24.2517, -134.0467,  4797, 2223.900,    1.914,   34.636,2,   34.634,2, -999.000,9,   94.000,2,  164.810,2,   41.470,2,    0.000,2,    2.750,2, -999.000,9, -999.000,9, -999.000,9, -999.000,9, -999.000,9
           NA,    P03E,     58,   1,-999.0,      28,  2,19850408,0046,  24.2517, -134.0467,  4797, 2526.800,    1.703,   34.651,2,   34.650,2, -999.000,9,  106.900,2,  168.440,2,   40.670,2,    0.000,2,    2.690,2, -999.000,9, -999.000,9, -999.000,9, -999.000,9, -999.000,9
           NA,    P03E,     58,   1,-999.0,      29,  2,19850408,0046,  24.2517, -134.0467,  4797, 2831.200,    1.589,   34.661,2,   34.660,2, -999.000,9,  118.300,2,  169.290,2,   39.820,2,    0.000,2,    2.630,2,    0.010,6, -999.000,9, -999.000,9, -999.000,9, -999.000,9
           NA,    P03E,     58,   1,-999.0,      30,  2,19850408,0046,  24.2517, -134.0467,  4797, 3137.100,    1.510,   34.670,2,   34.670,2, -999.000,9,  129.700,2,  168.960,2,   39.130,2,    0.000,2,    2.570,2, -999.000,9, -999.000,9, -999.000,9, -999.000,9, -999.000,9
           NA,    P03E,     58,   1,-999.0,      31,  2,19850408,0046,  24.2517, -134.0467,  4797, 3443.300,    1.491,   34.676,2,   34.674,2, -999.000,9,  135.900,2,  166.040,2,   38.600,2,    0.000,2,    2.550,2, -999.000,9, -999.000,9, -999.000,9, -999.000,9, -999.000,9
           NA,    P03E,     58,   1,-999.0,      32,  2,19850408,0046,  24.2517, -134.0467,  4797, 3750.400,    1.484,   34.680,2,   34.678,2, -999.000,9,  141.900,2,  162.910,2,   38.170,2,    0.000,2,    2.510,2, -999.000,9, -999.000,9, -999.000,9, -999.000,9, -999.000,9
           NA,    P03E,     58,   1,-999.0,      37,  2,19850408,0046,  24.2517, -134.0467,  4797, 4057.500,    1.494,   34.682,2,   34.680,2, -999.000,9,  145.200,2,  161.180,2,   37.960,2,    0.000,2,    2.490,2, -999.000,9, -999.000,9, -999.000,9, -999.000,9, -999.000,9
           NA,    P03E,     58,   1,-999.0,      34,  2,19850408,0046,  24.2517, -134.0467,  4797, 4362.600,    1.505,   34.684,2,   34.682,2, -999.000,9,  149.300,2,  159.250,2,   37.590,2,    0.000,2,    2.470,2, -999.000,9, -999.000,9, -999.000,9, -999.000,9, -999.000,9
           NA,    P03E,     58,   1,-999.0,      35,  2,19850408,0046,  24.2517, -134.0467,  4797, 4568.300,    1.500,   34.686,2,   34.684,2, -999.000,9,  154.200,2,  155.330,2,   37.120,2,    0.000,2,    2.440,2, -999.000,9, -999.000,9, -999.000,9, -999.000,9, -999.000,9
           NA,    P03E,     58,   1,-999.0,      36,  2,19850408,0046,  24.2517, -134.0467,  4797, 4772.700,    1.497,   34.687,2,   34.686,2, -999.000,9,  158.100,2,  151.610,2,   36.960,2,    0.000,2,    2.440,2, -999.000,9, -999.000,9, -999.000,9, -999.000,9, -999.000,9