BOTTLE,20203103JOAExport
EXPOCODE,SECT_ID,STNNBR,CASTNO,SAMPNO,BTLNBR,BTLNBR_FLAG_W,DATE,TIME,LATITUDE,LONGITUDE,DEPTH,CTDPRS,CTDTMP,CTDSAL,CTDSAL_FLAG_W,SALNTY,SALNTY_FLAG_W,CTDOXY,CTDOXY_FLAG_W,OXYGEN,OXYGEN_FLAG_W,SILCAT,SILCAT_FLAG_W,NITRAT,NITRAT_FLAG_W,NITRIT,NITRIT_FLAG_W,PHSPHT,PHSPHT_FLAG_W,CFC-11,CFC-11_FLAG_W,CFC-12,CFC-12_FLAG_W,SF6,SF6_FLAG_W,TCARBN,TCARBN_FLAG_W,ALKALI,ALKALI_FLAG_W
,,,,,,,,,,,,,DB,ITS-90,PSS-78,,PSS-78,,UMOL/KG,,UMOL/KG,,UMOL/KG,,UMOL/KG,,UMOL/KG,,UMOL/KG,,PMOL/KG,,PMOL/KG,,FMOL/KG,,UMOL/KG,,UMOL/KG
           NA,    P03W,    273,   1,-999.0,       1,  2,19850517,0013,  24.2650,  149.6633,  5002,    1.400,   24.550,   34.909,2,   34.911,2, -999.000,9,  214.900,2,    1.180,2,    0.000,2,    0.000,2,    0.030,2,    1.612,2,    0.806,2, -999.000,9, -999.000,9, -999.000,9
           NA,    P03W,    273,   1,-999.0,       2,  2,19850517,0013,  24.2650,  149.6633,  5002,   24.500,   22.913,   34.866,2,   34.867,2, -999.000,9,  221.400,2,    1.110,2,    0.000,2,    0.000,2,    0.030,2, -999.000,9, -999.000,9, -999.000,9, -999.000,9, -999.000,9
           NA,    P03W,    273,   1,-999.0,       3,  2,19850517,0013,  24.2650,  149.6633,  5002,   44.800,   20.574,   34.898,2,   34.899,2, -999.000,9,  235.000,2,    1.260,2,    0.000,2,    0.000,2,    0.040,2,    1.842,2,    0.896,2, -999.000,9, -999.000,9, -999.000,9
           NA,    P03W,    273,   1,-999.0,       4,  2,19850517,0013,  24.2650,  149.6633,  5002,   74.600,   19.099,   34.856,2,   34.857,2, -999.000,9,  237.100,2,    1.620,2,    0.000,2,    0.000,2,    0.050,2, -999.000,9, -999.000,9, -999.000,9, -999.000,9, -999.000,9
           NA,    P03W,    273,   1,-999.0,       5,  2,19850517,0013,  24.2650,  149.6633,  5002,  104.800,   17.992,   34.810,2,   34.811,2, -999.000,9,  224.100,2, -999.000,5, -999.000,5, -999.000,5, -999.000,5,    1.851,2,    0.904,2, -999.000,9, -999.000,9, -999.000,9
           NA,    P03W,    273,   1,-999.0,       6,  2,19850517,0013,  24.2650,  149.6633,  5002,  144.700,   17.207,   34.789,2,   34.790,2, -999.000,9,  208.200,2,    3.180,2,    3.890,2,    0.020,2,    0.320,2,    1.808,2,    0.878,2, -999.000,9, -999.000,9, -999.000,9
           NA,    P03W,    273,   1,-999.0,       7,  2,19850517,0013,  24.2650,  149.6633,  5002,  184.500,   16.813,   34.774,2,   34.774,2, -999.000,9,  205.700,2,    3.540,2,    4.790,2,    0.010,2,    0.370,2,    1.752,2,    0.900,2, -999.000,9, -999.000,9, -999.000,9
           NA,    P03W,    273,   1,-999.0,       8,  2,19850517,0013,  24.2650,  149.6633,  5002,  234.300,   16.208,   34.746,2,   34.746,2, -999.000,9,  207.500,2,    4.530,2,    5.720,2,    0.000,2,    0.440,2,    1.773,2,    0.854,2, -999.000,9, -999.000,9, -999.000,9
           NA,    P03W,    273,   1,-999.0,       9,  2,19850517,0013,  24.2650,  149.6633,  5002,  284.800,   15.672,   34.706,2,   34.705,2, -999.000,9,  206.500,2,    5.950,2,    6.800,2,    0.000,2,    0.500,2,    1.700,2,    0.805,2, -999.000,9, -999.000,9, -999.000,9
           NA,    P03W,    273,   1,-999.0,      10,  2,19850517,0013,  24.2650,  149.6633,  5002,  335.600,   14.935,   34.647,2,   34.645,2, -999.000,9, -999.000,5,    8.420,2,    8.470,2,    0.000,2,    0.610,2,    1.565,2,    0.735,2, -999.000,9, -999.000,9, -999.000,9
           NA,    P03W,    273,   1,-999.0,      11,  2,19850517,0013,  24.2650,  149.6633,  5002,  385.600,   13.823,   34.549,2,   34.548,2, -999.000,9,  190.300,2,   13.430,2,   11.280,2,    0.000,2,    0.810,2,    1.418,2,    0.656,2, -999.000,9, -999.000,9, -999.000,9
           NA,    P03W,    273,   1,-999.0,      12,  2,19850517,0013,  24.2650,  149.6633,  5002,  446.200,   11.933,   34.402,2,   34.401,2, -999.000,9,  185.000,2,   20.350,2,   15.180,2,    0.000,2,    1.060,2,    1.257,2,    0.614,2, -999.000,9, -999.000,9, -999.000,9
           NA,    P03W,    273,   1,-999.0,      13,  2,19850517,0013,  24.2650,  149.6633,  5002,  506.500,   10.735,   34.311,2,   34.309,2, -999.000,9,  181.100,2,   25.990,2,   17.520,2,    0.000,2,    1.230,2,    1.212,2,    0.542,2, -999.000,9, -999.000,9, -999.000,9
           NA,    P03W,    273,   1,-999.0,      14,  2,19850517,0013,  24.2650,  149.6633,  5002,  566.800,    8.800,   34.163,2,   34.161,2, -999.000,9,  175.200,2,   35.450,2,   21.310,2, -999.000,5,    1.510,2,    1.226,2,    0.578,2, -999.000,9, -999.000,9, -999.000,9
           NA,    P03W,    273,   1,-999.0,      15,  2,19850517,0013,  24.2650,  149.6633,  5002,  647.100,    6.493,   34.046,2,   34.047,2, -999.000,9,  146.700,2,   55.080,2,   27.820,2, -999.000,5,    1.990,2,    1.016,2,    0.478,2, -999.000,9, -999.000,9, -999.000,9
           NA,    P03W,    273,   1,-999.0,      16,  2,19850517,0013,  24.2650,  149.6633,  5002,  728.000,    5.410,   34.082,2,   34.082,2, -999.000,9,  102.700,2,   74.110,2,   34.230,2, -999.000,5,    2.400,2,    0.437,2,    0.212,2, -999.000,9, -999.000,9, -999.000,9
           NA,    P03W,    273,   1,-999.0,      17,  2,19850517,0013,  24.2650,  149.6633,  5002,  808.800,    4.782,   34.148,2,   34.148,2, -999.000,9,   71.100,2,   89.550,2,   38.030,2, -999.000,5,    2.660,2,    0.176,2,    0.094,2, -999.000,9, -999.000,9, -999.000,9
           NA,    P03W,    273,   1,-999.0,      18,  2,19850517,0013,  24.2650,  149.6633,  5002,  908.600,    4.023,   34.265,2,   34.265,2, -999.000,9,   46.800,2,  109.930,2,   41.180,2, -999.000,5,    2.870,2,    0.037,2,    0.031,2, -999.000,9, -999.000,9, -999.000,9
           NA,    P03W,    273,   1,-999.0,      39,  2,19850517,0013,  24.2650,  149.6633,  5002, 1057.500,    3.605,   34.361,2,   34.362,2, -999.000,9,   42.200,2,  121.600,2,   42.180,2,    0.000,2,    2.920,2,    0.002,2,    0.011,2, -999.000,9, -999.000,9, -999.000,9
           NA,    P03W,    273,   1,-999.0,      20,  2,19850517,0013,  24.2650,  149.6633,  5002, 1207.400,    3.204,   34.452,2,   34.452,2, -999.000,9,   53.300,2,  129.860,2,   42.010,2,    0.000,2,    2.900,2,   -0.003,2,    0.009,2, -999.000,9, -999.000,9, -999.000,9
           NA,    P03W,    273,   1,-999.0,      21,  2,19850517,0013,  24.2650,  149.6633,  5002, 1409.400,    2.746,   34.509,2,   34.509,2, -999.000,9,   64.100,2,  140.070,2,   41.630,2,    0.000,2,    2.860,2, -999.000,9, -999.000,9, -999.000,9, -999.000,9, -999.000,9
           NA,    P03W,    273,   1,-999.0,      22,  2,19850517,0013,  24.2650,  149.6633,  5002, 1614.900,    2.368,   34.552,2,   34.552,2, -999.000,9,   77.000,2,  146.640,2,   41.100,2,    0.000,2,    2.810,2,    0.005,2,    0.010,2, -999.000,9, -999.000,9, -999.000,9
           NA,    P03W,    273,   1,-999.0,      23,  2,19850517,0013,  24.2650,  149.6633,  5002, 1816.000,    2.108,   34.587,2,   34.588,2, -999.000,9,   92.300,2,  149.770,2,   40.140,2,    0.000,2,    2.740,2, -999.000,9, -999.000,9, -999.000,9, -999.000,9, -999.000,9
           NA,    P03W,    273,   1,-999.0,      24,  2,19850517,0013,  24.2650,  149.6633,  5002, 2016.900,    1.933,   34.610,2,   34.611,2, -999.000,9,  103.600,2,  150.750,2,   39.550,2,    0.000,2,    2.700,2,   -0.001,2,    0.004,2, -999.000,9, -999.000,9, -999.000,9
           NA,    P03W,    273,   1,-999.0,      37,  2,19850517,0013,  24.2650,  149.6633,  5002, 2219.600,    1.814,   34.626,2,   34.626,2, -999.000,9,  112.200,2,  151.300,2,   39.020,2,    0.000,2,    2.660,2, -999.000,9, -999.000,9, -999.000,9, -999.000,9, -999.000,9
           NA,    P03W,    273,   1,-999.0,      26,  2,19850517,0013,  24.2650,  149.6633,  5002, 2423.100,    1.725,   34.639,2,   34.640,2, -999.000,9,  119.600,2,  150.780,2,   38.440,2,    0.000,2,    2.610,2, -999.000,9, -999.000,9, -999.000,9, -999.000,9, -999.000,9
           NA,    P03W,    273,   1,-999.0,      27,  2,19850517,0013,  24.2650,  149.6633,  5002, 2625.500,    1.655,   34.649,2,   34.650,2, -999.000,9,  126.700,2,  151.120,2,   38.120,2,    0.000,2,    2.570,2,    0.003,2, -999.000,9, -999.000,9, -999.000,9, -999.000,9
           NA,    P03W,    273,   1,-999.0,      28,  2,19850517,0013,  24.2650,  149.6633,  5002, 2828.900,    1.594,   34.657,2,   34.658,2, -999.000,9,  133.000,2,  151.020,2,   37.800,2,    0.000,2,    2.540,2,   -0.001,2,    0.011,2, -999.000,9, -999.000,9, -999.000,9
           NA,    P03W,    273,   1,-999.0,      29,  2,19850517,0013,  24.2650,  149.6633,  5002, 3033.300,    1.544,   34.664,2,   34.664,2, -999.000,9,  138.200,2,  149.850,2,   37.380,2,    0.000,2,    2.520,2, -999.000,9, -999.000,9, -999.000,9, -999.000,9, -999.000,9
           NA,    P03W,    273,   1,-999.0,      30,  2,19850517,0013,  24.2650,  149.6633,  5002, 3338.500,    1.495,   34.671,2,   34.672,2, -999.000,9,  144.600,2,  147.820,2,   36.900,2,    0.000,2,    2.480,2, -999.000,9, -999.000,9, -999.000,9, -999.000,9, -999.000,9
           NA,    P03W,    273,   1,-999.0,      31,  2,19850517,0013,  24.2650,  149.6633,  5002, 3644.500,    1.464,   34.677,2,   34.676,2, -999.000,9,  150.000,2,  147.300,2,   36.380,2,    0.000,2,    2.450,2, -999.000,9, -999.000,9, -999.000,9, -999.000,9, -999.000,9
           NA,    P03W,    273,   1,-999.0,      32,  2,19850517,0013,  24.2650,  149.6633,  5002, 3951.300,    1.442,   34.682,2,   34.681,2, -999.000,9,  156.800,2,  145.060,2,   36.010,2,    0.000,2,    2.420,2,   -0.003,2,    0.014,2, -999.000,9, -999.000,9, -999.000,9
           NA,    P03W,    273,   1,-999.0,      33,  2,19850517,0013,  24.2650,  149.6633,  5002, 4259.100,    1.442,   34.684,2,   34.684,2, -999.000,9,  162.800,2,  143.460,2,   35.850,2,    0.000,2,    2.400,2, -999.000,9, -999.000,9, -999.000,9, -999.000,9, -999.000,9
           NA,    P03W,    273,   1,-999.0,      34,  2,19850517,0013,  24.2650,  149.6633,  5002, 4565.700,    1.445,   34.687,2,   34.687,2, -999.000,9,  166.400,2,  141.230,2,   35.480,2,    0.000,2,    2.360,2, -999.000,9, -999.000,9, -999.000,9, -999.000,9, -999.000,9
           NA,    P03W,    273,   1,-999.0,      35,  2,19850517,0013,  24.2650,  149.6633,  5002, 4872.300,    1.462,   34.689,2,   34.689,2, -999.000,9,  168.900,2,  137.710,2,   35.270,2,    0.000,2,    2.350,2,   -0.005,2, -999.000,9, -999.000,9, -999.000,9, -999.000,9
           NA,    P03W,    273,   1,-999.0,      36,  2,19850517,0013,  24.2650,  149.6633,  5002, 5066.800,    1.470,   34.691,2,   34.690,2, -999.000,9,  171.400,2,  135.470,2,   35.060,2,    0.000,2,    2.350,2,    0.012,2, -999.000,9, -999.000,9, -999.000,9, -999.000,9