BOTTLE,20203103JOAExport
EXPOCODE,SECT_ID,STNNBR,CASTNO,SAMPNO,BTLNBR,BTLNBR_FLAG_W,DATE,TIME,LATITUDE,LONGITUDE,DEPTH,CTDPRS,CTDTMP,CTDSAL,CTDSAL_FLAG_W,SALNTY,SALNTY_FLAG_W,CTDOXY,CTDOXY_FLAG_W,OXYGEN,OXYGEN_FLAG_W,SILCAT,SILCAT_FLAG_W,NITRAT,NITRAT_FLAG_W,NITRIT,NITRIT_FLAG_W,PHSPHT,PHSPHT_FLAG_W,CFC-11,CFC-11_FLAG_W,CFC-12,CFC-12_FLAG_W,SF6,SF6_FLAG_W,TCARBN,TCARBN_FLAG_W,ALKALI,ALKALI_FLAG_W
,,,,,,,,,,,,,DB,ITS-90,PSS-78,,PSS-78,,UMOL/KG,,UMOL/KG,,UMOL/KG,,UMOL/KG,,UMOL/KG,,UMOL/KG,,PMOL/KG,,PMOL/KG,,FMOL/KG,,UMOL/KG,,UMOL/KG
           NA,    P03W,    331,   2,-999.0,       5,  2,19850526,0244,  24.2650,  133.3583,  4636,    0.000,   24.833,   34.902,2,   34.905,2, -999.000,9,  215.000,2,    1.220,2,    0.000,2,    0.000,2,    0.020,2, -999.000,9, -999.000,9, -999.000,9, -999.000,9, -999.000,9
           NA,    P03W,    331,   2,-999.0,      38,  2,19850526,0244,  24.2650,  133.3583,  4636,   23.700,   24.249,   34.892,2,   34.896,2, -999.000,9,  217.200,2,    1.240,2,    0.020,2,    0.000,2,    0.010,2, -999.000,9, -999.000,9, -999.000,9, -999.000,9, -999.000,9
           NA,    P03W,    331,   2,-999.0,       3,  2,19850526,0244,  24.2650,  133.3583,  4636,   44.100,   23.343,   34.875,2,   34.878,2, -999.000,9,  220.400,2,    1.230,2,    0.000,2,    0.000,2,    0.010,2, -999.000,9, -999.000,9, -999.000,9, -999.000,9, -999.000,9
           NA,    P03W,    331,   2,-999.0,       4,  2,19850526,0244,  24.2650,  133.3583,  4636,   74.000,   21.802,   34.867,2,   34.868,2, -999.000,9,  225.900,2,    1.240,2,    0.010,2,    0.000,2,    0.010,2, -999.000,9, -999.000,9, -999.000,9, -999.000,9, -999.000,9
           NA,    P03W,    331,   2,-999.0,       1,  2,19850526,0244,  24.2650,  133.3583,  4636,  104.000,   20.283,   34.860,2,   34.861,2, -999.000,9,  223.800,2,    1.230,2,    0.000,2,    0.000,2,    0.010,2, -999.000,9, -999.000,9, -999.000,9, -999.000,9, -999.000,9
           NA,    P03W,    331,   2,-999.0,       6,  2,19850526,0244,  24.2650,  133.3583,  4636,  144.300,   19.463,   34.854,2,   34.855,2, -999.000,9,  216.100,2,    1.430,2,    0.990,2,    0.070,2,    0.090,2, -999.000,9, -999.000,9, -999.000,9, -999.000,9, -999.000,9
           NA,    P03W,    331,   2,-999.0,       7,  2,19850526,0244,  24.2650,  133.3583,  4636,  183.700,   18.820,   34.842,2,   34.842,2, -999.000,9,  220.200,2,    1.640,2,    1.450,2,    0.030,2,    0.130,2, -999.000,9, -999.000,9, -999.000,9, -999.000,9, -999.000,9
           NA,    P03W,    331,   2,-999.0,       8,  2,19850526,0244,  24.2650,  133.3583,  4636,  234.500,   18.474,   34.845,2,   34.843,2, -999.000,9,  218.900,2,    2.480,2,    1.930,2,    0.010,2,    0.160,2, -999.000,9, -999.000,9, -999.000,9, -999.000,9, -999.000,9
           NA,    P03W,    331,   2,-999.0,       9,  2,19850526,0244,  24.2650,  133.3583,  4636,  284.800,   17.278,   34.802,2,   34.806,2, -999.000,9,  204.600,2,    3.530,2,    4.510,2,    0.010,2,    0.310,2, -999.000,9, -999.000,9, -999.000,9, -999.000,9, -999.000,9
           NA,    P03W,    331,   2,-999.0,      10,  2,19850526,0244,  24.2650,  133.3583,  4636,  334.800,   16.192,   34.738,2,   34.735,2, -999.000,9,  200.900,2,    5.850,2,    6.760,2,    0.010,2,    0.460,2, -999.000,9, -999.000,9, -999.000,9, -999.000,9, -999.000,9
           NA,    P03W,    331,   2,-999.0,      11,  2,19850526,0244,  24.2650,  133.3583,  4636,  384.200,   14.816,   34.626,2,   34.624,2, -999.000,9,  191.700,2,    9.870,2,    9.820,2,    0.010,2,    0.650,2, -999.000,9, -999.000,9, -999.000,9, -999.000,9, -999.000,9
           NA,    P03W,    331,   2,-999.0,      12,  2,19850526,0244,  24.2650,  133.3583,  4636,  442.800,   13.010,   34.483,2,   34.482,2, -999.000,9,  181.900,2,   17.260,2,   13.540,2,    0.010,2,    0.920,2, -999.000,9, -999.000,9, -999.000,9, -999.000,9, -999.000,9
           NA,    P03W,    331,   2,-999.0,      13,  2,19850526,0244,  24.2650,  133.3583,  4636,  504.900,   11.349,   34.358,2,   34.358,2, -999.000,9,  172.400,2,   24.650,2,   17.040,2,    0.020,2,    1.180,2, -999.000,9, -999.000,9, -999.000,9, -999.000,9, -999.000,9
           NA,    P03W,    331,   2,-999.0,      14,  2,19850526,0244,  24.2650,  133.3583,  4636,  565.600,    9.744,   34.253,2,   34.252,2, -999.000,9,  160.800,2,   33.300,2,   21.200,2,    0.010,2,    1.480,2, -999.000,9, -999.000,9, -999.000,9, -999.000,9, -999.000,9
           NA,    P03W,    331,   2,-999.0,      15,  2,19850526,0244,  24.2650,  133.3583,  4636,  647.100,    7.414,   34.169,2,   34.169,2, -999.000,9,  122.200,2,   54.230,2,   28.560,2,    0.000,2,    2.010,2, -999.000,9, -999.000,9, -999.000,9, -999.000,9, -999.000,9
           NA,    P03W,    331,   2,-999.0,      16,  2,19850526,0244,  24.2650,  133.3583,  4636,  727.800,    6.234,   34.177,2,   34.177,2, -999.000,9,   94.400,2,   69.450,2,   33.430,2,    0.010,2,    2.330,2, -999.000,9, -999.000,9, -999.000,9, -999.000,9, -999.000,9
           NA,    P03W,    331,   2,-999.0,      17,  2,19850526,0244,  24.2650,  133.3583,  4636,  807.600,    5.347,   34.214,2,   34.216,2, -999.000,9,   75.000,2,   84.890,2,   36.870,2,    0.010,2,    2.590,2, -999.000,9, -999.000,9, -999.000,9, -999.000,9, -999.000,9
           NA,    P03W,    331,   2,-999.0,      18,  2,19850526,0244,  24.2650,  133.3583,  4636,  907.200,    4.688,   34.283,2,   34.283,2, -999.000,9,   62.800,2,   98.010,2,   38.920,2,    0.010,2,    2.720,2, -999.000,9, -999.000,9, -999.000,9, -999.000,9, -999.000,9
           NA,    P03W,    331,   2,-999.0,      23,  2,19850526,0244,  24.2650,  133.3583,  4636, 1006.000,    4.177,   34.350,2,   34.349,2, -999.000,9,   58.500,2,  109.230,2,   40.190,2,    0.000,2,    2.800,2, -999.000,9, -999.000,9, -999.000,9, -999.000,9, -999.000,9
           NA,    P03W,    331,   2,-999.0,      20,  2,19850526,0244,  24.2650,  133.3583,  4636, 1105.500,    3.757,   34.416,2,   34.417,2, -999.000,9,   61.700,2,  118.760,2,   40.480,2,    0.000,2,    2.830,2, -999.000,9, -999.000,9, -999.000,9, -999.000,9, -999.000,9
           NA,    P03W,    331,   2,-999.0,      21,  2,19850526,0244,  24.2650,  133.3583,  4636, 1206.300,    3.434,   34.448,2,   34.448,2, -999.000,9,   63.800,2,  125.520,2,   40.730,2,    0.010,2,    2.830,2, -999.000,9, -999.000,9, -999.000,9, -999.000,9, -999.000,9
           NA,    P03W,    331,   2,-999.0,      22,  2,19850526,0244,  24.2650,  133.3583,  4636, 1408.400,    2.907,   34.496,2,   34.495,2, -999.000,9,   73.900,2,  135.910,2,   40.470,2,    0.010,2,    2.790,2, -999.000,9, -999.000,9, -999.000,9, -999.000,9, -999.000,9
           NA,    P03W,    331,   2,-999.0,      39,  2,19850526,0244,  24.2650,  133.3583,  4636, 1609.400,    2.554,   34.540,2,   34.540,2, -999.000,9,   86.700,2,  140.970,2,   39.900,2,    0.010,2,    2.750,2, -999.000,9, -999.000,9, -999.000,9, -999.000,9, -999.000,9
           NA,    P03W,    331,   2,-999.0,      24,  2,19850526,0244,  24.2650,  133.3583,  4636, 1809.200,    2.232,   34.577,2,   34.577,2, -999.000,9,  100.700,2,  144.530,2,   39.390,2,    0.000,2,    2.710,2, -999.000,9, -999.000,9, -999.000,9, -999.000,9, -999.000,9
           NA,    P03W,    331,   2,-999.0,      40,  2,19850526,0244,  24.2650,  133.3583,  4636, 2012.800,    2.022,   34.605,2,   34.607,2, -999.000,9,  113.000,2,  144.020,2,   38.420,2,    0.000,2,    2.650,2, -999.000,9, -999.000,9, -999.000,9, -999.000,9, -999.000,9
           NA,    P03W,    331,   2,-999.0,      26,  2,19850526,0244,  24.2650,  133.3583,  4636, 2216.500,    1.878,   34.624,2,   34.624,2, -999.000,9,  121.300,2,  144.360,2,   37.960,2,    0.000,2,    2.610,2, -999.000,9, -999.000,9, -999.000,9, -999.000,9, -999.000,9
           NA,    P03W,    331,   2,-999.0,      27,  2,19850526,0244,  24.2650,  133.3583,  4636, 2420.000,    1.769,   34.638,2,   34.638,2, -999.000,9,  130.300,2,  143.640,2,   37.560,2,    0.000,2,    2.570,2, -999.000,9, -999.000,9, -999.000,9, -999.000,9, -999.000,9
           NA,    P03W,    331,   2,-999.0,      28,  2,19850526,0244,  24.2650,  133.3583,  4636, 2622.400,    1.701,   34.648,2,   34.647,2, -999.000,9,  134.300,2,  143.780,2,   37.350,2,    0.000,2,    2.560,2, -999.000,9, -999.000,9, -999.000,9, -999.000,9, -999.000,9
           NA,    P03W,    331,   2,-999.0,      29,  2,19850526,0244,  24.2650,  133.3583,  4636, 2826.400,    1.637,   34.656,2,   34.655,2, -999.000,9,  139.300,2,  143.700,2,   37.150,2,    0.000,2,    2.510,2, -999.000,9, -999.000,9, -999.000,9, -999.000,9, -999.000,9
           NA,    P03W,    331,   2,-999.0,      30,  2,19850526,0244,  24.2650,  133.3583,  4636, 3029.200,    1.594,   34.662,2,   34.661,2, -999.000,9,  144.100,2,  143.400,2,   36.790,2,    0.000,2,    2.500,2, -999.000,9, -999.000,9, -999.000,9, -999.000,9, -999.000,9
           NA,    P03W,    331,   2,-999.0,      31,  2,19850526,0244,  24.2650,  133.3583,  4636, 3233.000,    1.565,   34.667,2,   34.668,2, -999.000,9,  146.900,2,  143.750,2,   36.630,2,    0.000,2,    2.480,2, -999.000,9, -999.000,9, -999.000,9, -999.000,9, -999.000,9
           NA,    P03W,    331,   2,-999.0,      32,  2,19850526,0244,  24.2650,  133.3583,  4636, 3641.100,    1.537,   34.674,2,   34.674,2, -999.000,9,  152.400,2,  142.390,2,   36.280,2,    0.000,2,    2.460,2, -999.000,9, -999.000,9, -999.000,9, -999.000,9, -999.000,9
           NA,    P03W,    331,   2,-999.0,      33,  2,19850526,0244,  24.2650,  133.3583,  4636, 3846.200,    1.542,   34.675,2,   34.674,2, -999.000,9,  153.900,2,  142.310,2,   36.170,2,    0.000,2,    2.440,2, -999.000,9, -999.000,9, -999.000,9, -999.000,9, -999.000,9
           NA,    P03W,    331,   2,-999.0,      34,  2,19850526,0244,  24.2650,  133.3583,  4636, 4155.000,    1.558,   34.677,2,   34.676,2, -999.000,9,  155.400,2,  142.230,2,   36.120,2,    0.000,2,    2.440,2, -999.000,9, -999.000,9, -999.000,9, -999.000,9, -999.000,9
           NA,    P03W,    331,   2,-999.0,      35,  2,19850526,0244,  24.2650,  133.3583,  4636, 4461.300,    1.582,   34.678,2,   34.678,2, -999.000,9,  155.700,2,  141.940,2,   35.910,2,    0.000,2,    2.440,2, -999.000,9, -999.000,9, -999.000,9, -999.000,9, -999.000,9
           NA,    P03W,    331,   2,-999.0,      37,  2,19850526,0244,  24.2650,  133.3583,  4636, 4696.700,    1.605,   34.679,2,   34.678,2, -999.000,9,  155.800,2,  141.860,2,   36.010,2,    0.000,2,    2.440,2, -999.000,9, -999.000,9, -999.000,9, -999.000,9, -999.000,9