BOTTLE,20203103JOAExport
EXPOCODE,SECT_ID,STNNBR,CASTNO,SAMPNO,BTLNBR,BTLNBR_FLAG_W,DATE,TIME,LATITUDE,LONGITUDE,DEPTH,CTDPRS,CTDTMP,CTDSAL,CTDSAL_FLAG_W,SALNTY,SALNTY_FLAG_W,CTDOXY,CTDOXY_FLAG_W,OXYGEN,OXYGEN_FLAG_W,SILCAT,SILCAT_FLAG_W,NITRAT,NITRAT_FLAG_W,NITRIT,NITRIT_FLAG_W,PHSPHT,PHSPHT_FLAG_W,CFC-11,CFC-11_FLAG_W,CFC-12,CFC-12_FLAG_W,SF6,SF6_FLAG_W,TCARBN,TCARBN_FLAG_W,ALKALI,ALKALI_FLAG_W
,,,,,,,,,,,,,DB,ITS-90,PSS-78,,PSS-78,,UMOL/KG,,UMOL/KG,,UMOL/KG,,UMOL/KG,,UMOL/KG,,UMOL/KG,,PMOL/KG,,PMOL/KG,,FMOL/KG,,UMOL/KG,,UMOL/KG
           NA,    P03E,    142,   2,-999.0,       1,  2,19850421,2331,  25.1733, -166.0700,  5009,    0.700,   23.079,   35.347,2,   35.350,2, -999.000,9,  219.600,2,    0.610,2,    0.000,2,    0.000,2,    0.040,2, -999.000,9, -999.000,9, -999.000,9, -999.000,9, -999.000,9
           NA,    P03E,    142,   2,-999.0,       2,  2,19850421,2331,  25.1733, -166.0700,  5009,   24.700,   22.610,   35.331,2,   35.334,2, -999.000,9,  220.700,2,    0.560,2,    0.000,2,    0.000,2,    0.040,2, -999.000,9, -999.000,9, -999.000,9, -999.000,9, -999.000,9
           NA,    P03E,    142,   2,-999.0,       3,  2,19850421,2331,  25.1733, -166.0700,  5009,   45.300,   22.171,   35.303,2,   35.305,2, -999.000,9,  225.700,2,    0.520,2,    0.000,2,    0.000,2,    0.040,2, -999.000,9, -999.000,9, -999.000,9, -999.000,9, -999.000,9
           NA,    P03E,    142,   2,-999.0,       4,  2,19850421,2331,  25.1733, -166.0700,  5009,   75.300,   21.261,   35.213,2,   35.220,2, -999.000,9,  222.500,2,    0.670,2,    0.000,2,    0.000,2,    0.050,2, -999.000,9, -999.000,9, -999.000,9, -999.000,9, -999.000,9
           NA,    P03E,    142,   2,-999.0,       5,  2,19850421,2331,  25.1733, -166.0700,  5009,  105.500,   19.869,   35.085,2,   35.086,2, -999.000,9,  216.500,2,    1.570,2,    0.710,2,    0.100,2,    0.120,2, -999.000,9, -999.000,9, -999.000,9, -999.000,9, -999.000,9
           NA,    P03E,    142,   2,-999.0,       6,  2,19850421,2331,  25.1733, -166.0700,  5009,  144.900,   19.119,   35.057,2,   35.052,2, -999.000,9,  217.300,2,    1.720,2,    0.990,2,    0.190,2,    0.160,2, -999.000,9, -999.000,9, -999.000,9, -999.000,9, -999.000,9
           NA,    P03E,    142,   2,-999.0,       7,  2,19850421,2331,  25.1733, -166.0700,  5009,  186.200,   17.436,   34.884,2,   34.881,2, -999.000,9,  216.100,2,    3.000,2,    2.910,2,    0.020,2,    0.260,2, -999.000,9, -999.000,9, -999.000,9, -999.000,9, -999.000,9
           NA,    P03E,    142,   2,-999.0,       8,  2,19850421,2331,  25.1733, -166.0700,  5009,  226.600,   15.897,   34.692,2,   34.692,2, -999.000,9,  207.400,2,    5.040,2,    5.660,2,    0.010,2,    0.440,2, -999.000,9, -999.000,9, -999.000,9, -999.000,9, -999.000,9
           NA,    P03E,    142,   2,-999.0,       9,  2,19850421,2331,  25.1733, -166.0700,  5009,  265.500,   14.494,   34.557,2,   34.558,2, -999.000,9,  208.700,2,    6.890,2,    7.630,2,    0.000,2,    0.570,2, -999.000,9, -999.000,9, -999.000,9, -999.000,9, -999.000,9
           NA,    P03E,    142,   2,-999.0,      10,  2,19850421,2331,  25.1733, -166.0700,  5009,  315.700,   12.673,   34.402,2,   34.401,2, -999.000,9,  209.500,2,   11.200,2,   10.900,2,    0.000,2,    0.790,2, -999.000,9, -999.000,9, -999.000,9, -999.000,9, -999.000,9
           NA,    P03E,    142,   2,-999.0,      11,  2,19850421,2331,  25.1733, -166.0700,  5009,  365.700,   11.263,   34.285,2,   34.285,2, -999.000,9,  203.500,2,   16.270,2,   13.960,2,    0.000,2,    0.990,2, -999.000,9, -999.000,9, -999.000,9, -999.000,9, -999.000,9
           NA,    P03E,    142,   2,-999.0,      12,  2,19850421,2331,  25.1733, -166.0700,  5009,  417.300,   10.455,   34.235,2,   34.234,2, -999.000,9,  195.200,2,   20.390,2,   16.260,2,    0.000,2,    1.150,2, -999.000,9, -999.000,9, -999.000,9, -999.000,9, -999.000,9
           NA,    P03E,    142,   2,-999.0,      13,  2,19850421,2331,  25.1733, -166.0700,  5009,  468.800,    9.615,   34.179,2,   34.178,2, -999.000,9,  181.800,2,   25.840,2,   19.090,2,    0.000,2,    1.340,2, -999.000,9, -999.000,9, -999.000,9, -999.000,9, -999.000,9
           NA,    P03E,    142,   2,-999.0,      14,  2,19850421,2331,  25.1733, -166.0700,  5009,  529.200,    7.748,   34.069,2,   34.069,2, -999.000,9,  161.800,2,   38.300,2,   24.640,2,    0.000,2,    1.730,2, -999.000,9, -999.000,9, -999.000,9, -999.000,9, -999.000,9
           NA,    P03E,    142,   2,-999.0,      15,  2,19850421,2331,  25.1733, -166.0700,  5009,  588.300,    6.693,   34.074,2,   34.074,2, -999.000,9,  123.600,2,   54.200,2,   29.650,2,    0.000,2,    2.110,2, -999.000,9, -999.000,9, -999.000,9, -999.000,9, -999.000,9
           NA,    P03E,    142,   2,-999.0,      16,  2,19850421,2331,  25.1733, -166.0700,  5009,  645.900,    6.039,   34.087,2,   34.087,2, -999.000,9,  101.400,2,   65.180,2,   33.160,2,    0.000,2,    2.340,2, -999.000,9, -999.000,9, -999.000,9, -999.000,9, -999.000,9
           NA,    P03E,    142,   2,-999.0,      38,  2,19850421,2331,  25.1733, -166.0700,  5009,  700.800,    5.256,   34.129,2,   34.129,2, -999.000,9,   67.500,2,   80.390,2,   37.410,2,    0.000,2,    2.660,2, -999.000,9, -999.000,9, -999.000,9, -999.000,9, -999.000,9
           NA,    P03E,    142,   2,-999.0,      18,  2,19850421,2331,  25.1733, -166.0700,  5009,  795.200,    4.628,   34.241,2,   34.240,2, -999.000,9,   42.400,2,   96.020,2,   40.550,2,    0.000,2,    2.890,2, -999.000,9, -999.000,9, -999.000,9, -999.000,9, -999.000,9
           NA,    P03E,    142,   2,-999.0,      19,  2,19850421,2331,  25.1733, -166.0700,  5009,  892.700,    4.033,   34.306,2,   34.304,2, -999.000,9,   35.900,2,  110.190,2,   41.880,2,    0.000,2,    2.980,2, -999.000,9, -999.000,9, -999.000,9, -999.000,9, -999.000,9
           NA,    P03E,    142,   2,-999.0,      20,  2,19850421,2331,  25.1733, -166.0700,  5009,  995.300,    3.814,   34.357,2,   34.357,2, -999.000,9,   35.900,2,  117.070,2,   42.270,2,    0.000,2,    3.020,2, -999.000,9, -999.000,9, -999.000,9, -999.000,9, -999.000,9
           NA,    P03E,    142,   2,-999.0,      21,  2,19850421,2331,  25.1733, -166.0700,  5009, 1103.200,    3.434,   34.441,2,   34.441,2, -999.000,9,   43.500,2,  126.280,2,   42.210,2,    0.000,2,    2.990,2, -999.000,9, -999.000,9, -999.000,9, -999.000,9, -999.000,9
           NA,    P03E,    142,   2,-999.0,      39,  2,19850421,2331,  25.1733, -166.0700,  5009, 1259.200,    3.102,   34.495,2,   34.496,2, -999.000,9,   54.400,2,  134.170,2,   41.820,2,    0.000,2,    2.950,2, -999.000,9, -999.000,9, -999.000,9, -999.000,9, -999.000,9
           NA,    P03E,    142,   2,-999.0,      23,  2,19850421,2331,  25.1733, -166.0700,  5009, 1410.300,    2.755,   34.543,2,   34.543,2, -999.000,9,   66.900,2,  140.320,2,   41.200,2,    0.000,2,    2.910,2, -999.000,9, -999.000,9, -999.000,9, -999.000,9, -999.000,9
           NA,    P03E,    142,   2,-999.0,      24,  2,19850421,2331,  25.1733, -166.0700,  5009, 1614.700,    2.394,   34.578,2,   34.579,2, -999.000,9,   78.900,2,  148.060,2,   40.650,2,    0.000,2,    2.830,2, -999.000,9, -999.000,9, -999.000,9, -999.000,9, -999.000,9
           NA,    P03E,    142,   2,-999.0,      25,  2,19850421,2331,  25.1733, -166.0700,  5009, 1814.700,    2.133,   34.596,2,   34.597,2, -999.000,9,   83.500,2,  154.830,2,   40.260,2,    0.000,2,    2.810,2, -999.000,9, -999.000,9, -999.000,9, -999.000,9, -999.000,9
           NA,    P03E,    142,   2,-999.0,      26,  2,19850421,2331,  25.1733, -166.0700,  5009, 2018.900,    1.945,   34.619,2,   34.620,2, -999.000,9,   96.000,2,  157.700,2,   39.590,2,    0.000,2,    2.750,2, -999.000,9, -999.000,9, -999.000,9, -999.000,9, -999.000,9
           NA,    P03E,    142,   2,-999.0,      27,  2,19850421,2331,  25.1733, -166.0700,  5009, 2223.600,    1.817,   34.632,2,   34.633,2, -999.000,9,  103.000,2,  158.030,2,   39.090,2,    0.000,2,    2.720,2, -999.000,9, -999.000,9, -999.000,9, -999.000,9, -999.000,9
           NA,    P03E,    142,   2,-999.0,      28,  2,19850421,2331,  25.1733, -166.0700,  5009, 2526.400,    1.651,   34.649,2,   34.649,2, -999.000,9,  115.100,2,  159.130,2,   38.430,2,    0.000,2,    2.660,2, -999.000,9, -999.000,9, -999.000,9, -999.000,9, -999.000,9
           NA,    P03E,    142,   2,-999.0,      29,  2,19850421,2331,  25.1733, -166.0700,  5009, 2836.300,    1.564,   34.660,2,   34.660,2, -999.000,9,  125.100,2,  158.860,2,   37.880,2,    0.000,2,    2.610,2, -999.000,9, -999.000,9, -999.000,9, -999.000,9, -999.000,9
           NA,    P03E,    142,   2,-999.0,      30,  2,19850421,2331,  25.1733, -166.0700,  5009, 3140.500,    1.507,   34.668,2,   34.668,2, -999.000,9,  133.900,2,  157.620,2,   37.110,2,    0.000,2,    2.550,2, -999.000,9, -999.000,9, -999.000,9, -999.000,9, -999.000,9
           NA,    P03E,    142,   2,-999.0,      31,  2,19850421,2331,  25.1733, -166.0700,  5009, 3446.500,    1.467,   34.675,2,   34.675,2, -999.000,9,  142.200,2,  155.000,2,   36.830,2,    0.000,2,    2.530,2, -999.000,9, -999.000,9, -999.000,9, -999.000,9, -999.000,9
           NA,    P03E,    142,   2,-999.0,      32,  2,19850421,2331,  25.1733, -166.0700,  5009, 3752.600,    1.446,   34.679,2,   34.679,2, -999.000,9,  147.500,2,  154.340,2,   36.390,2,    0.000,2,    2.480,2, -999.000,9, -999.000,9, -999.000,9, -999.000,9, -999.000,9
           NA,    P03E,    142,   2,-999.0,      37,  2,19850421,2331,  25.1733, -166.0700,  5009, 4059.000,    1.449,   34.682,2,   34.683,2, -999.000,9,  152.800,2,  152.710,2,   36.120,2,    0.000,2,    2.450,2, -999.000,9, -999.000,9, -999.000,9, -999.000,9, -999.000,9
           NA,    P03E,    142,   2,-999.0,      34,  2,19850421,2331,  25.1733, -166.0700,  5009, 4366.200,    1.467,   34.684,2,   34.684,2, -999.000,9,  155.000,2,  151.470,2,   35.950,2,    0.000,2,    2.440,2, -999.000,9, -999.000,9, -999.000,9, -999.000,9, -999.000,9
           NA,    P03E,    142,   2,-999.0,      35,  2,19850421,2331,  25.1733, -166.0700,  5009, 4724.600,    1.498,   34.685,2,   34.685,2, -999.000,9,  156.800,2,  150.620,2,   35.730,2,    0.000,2,    2.430,2, -999.000,9, -999.000,9, -999.000,9, -999.000,9, -999.000,9
           NA,    P03E,    142,   2,-999.0,      36,  2,19850421,2331,  25.1733, -166.0700,  5009, 5072.800,    1.536,   34.686,2,   34.685,2, -999.000,9,  157.300,2,  149.180,2,   35.680,2,    0.000,2,    2.420,2, -999.000,9, -999.000,9, -999.000,9, -999.000,9, -999.000,9