BOTTLE,20203103JOAExport
EXPOCODE,SECT_ID,STNNBR,CASTNO,SAMPNO,BTLNBR,BTLNBR_FLAG_W,DATE,TIME,LATITUDE,LONGITUDE,DEPTH,CTDPRS,CTDTMP,CTDSAL,CTDSAL_FLAG_W,SALNTY,SALNTY_FLAG_W,CTDOXY,CTDOXY_FLAG_W,OXYGEN,OXYGEN_FLAG_W,SILCAT,SILCAT_FLAG_W,NITRAT,NITRAT_FLAG_W,NITRIT,NITRIT_FLAG_W,PHSPHT,PHSPHT_FLAG_W,CFC-11,CFC-11_FLAG_W,CFC-12,CFC-12_FLAG_W,SF6,SF6_FLAG_W,TCARBN,TCARBN_FLAG_W,ALKALI,ALKALI_FLAG_W
,,,,,,,,,,,,,DB,ITS-90,PSS-78,,PSS-78,,UMOL/KG,,UMOL/KG,,UMOL/KG,,UMOL/KG,,UMOL/KG,,UMOL/KG,,PMOL/KG,,PMOL/KG,,FMOL/KG,,UMOL/KG,,UMOL/KG
           NA,    P03W,    271,   1,-999.0,       1,  2,19850516,1641,  24.2867,  150.4700,  5091,    0.200,   24.779,   34.924,2,   34.926,2, -999.000,9,  212.000,2,    1.490,2,    0.070,2,    0.000,2,    0.030,2, -999.000,9, -999.000,9, -999.000,9, -999.000,9, -999.000,9
           NA,    P03W,    271,   1,-999.0,       2,  2,19850516,1641,  24.2867,  150.4700,  5091,   24.300,   23.647,   34.950,2,   34.950,2, -999.000,9,  217.800,2,    1.430,2,    0.070,2,    0.000,2,    0.030,2, -999.000,9, -999.000,9, -999.000,9, -999.000,9, -999.000,9
           NA,    P03W,    271,   1,-999.0,       3,  2,19850516,1641,  24.2867,  150.4700,  5091,   44.900,   23.032,   34.976,2,   34.974,2, -999.000,9,  220.600,2,    1.380,2,    0.070,2,    0.000,2,    0.030,2, -999.000,9, -999.000,9, -999.000,9, -999.000,9, -999.000,9
           NA,    P03W,    271,   1,-999.0,       4,  2,19850516,1641,  24.2867,  150.4700,  5091,   74.800,   20.351,   34.907,2,   34.907,2, -999.000,9,  220.800,2,    1.970,2,    0.020,2,    0.000,2,    0.070,2, -999.000,9, -999.000,9, -999.000,9, -999.000,9, -999.000,9
           NA,    P03W,    271,   1,-999.0,       5,  2,19850516,1641,  24.2867,  150.4700,  5091,  104.800,   19.116,   34.859,2,   34.858,2, -999.000,9,  218.400,2,    2.340,2,    0.430,2,    0.050,2,    0.120,2, -999.000,9, -999.000,9, -999.000,9, -999.000,9, -999.000,9
           NA,    P03W,    271,   1,-999.0,       6,  2,19850516,1641,  24.2867,  150.4700,  5091,  144.700,   18.106,   34.815,2,   34.817,2, -999.000,9,  216.900,2,    2.280,2,    1.630,2,    0.050,2,    0.190,2, -999.000,9, -999.000,9, -999.000,9, -999.000,9, -999.000,9
           NA,    P03W,    271,   1,-999.0,       7,  2,19850516,1641,  24.2867,  150.4700,  5091,  185.000,   17.488,   34.797,2,   34.797,2, -999.000,9,  212.600,2,    2.870,2,    3.100,2,    0.020,2,    0.280,2, -999.000,9, -999.000,9, -999.000,9, -999.000,9, -999.000,9
           NA,    P03W,    271,   1,-999.0,       8,  2,19850516,1641,  24.2867,  150.4700,  5091,  235.300,   16.749,   34.775,2,   34.774,2, -999.000,9,  206.800,2,    4.320,2,    4.910,2,    0.000,2,    0.370,2, -999.000,9, -999.000,9, -999.000,9, -999.000,9, -999.000,9
           NA,    P03W,    271,   1,-999.0,       9,  2,19850516,1641,  24.2867,  150.4700,  5091,  284.700,   15.894,   34.722,2,   34.722,2, -999.000,9,  207.600,2,    5.770,2,    6.060,2,    0.000,2,    0.460,2, -999.000,9, -999.000,9, -999.000,9, -999.000,9, -999.000,9
           NA,    P03W,    271,   1,-999.0,      10,  2,19850516,1641,  24.2867,  150.4700,  5091,  333.300,   15.208,   34.669,2,   34.669,2, -999.000,9,  205.600,2,    7.640,2,    7.410,2,    0.000,2,    0.560,2, -999.000,9, -999.000,9, -999.000,9, -999.000,9, -999.000,9
           NA,    P03W,    271,   1,-999.0,      11,  2,19850516,1641,  24.2867,  150.4700,  5091,  382.800,   14.166,   34.567,2,   34.565,2, -999.000,9,  200.700,2,   10.380,2,    9.460,2,    0.000,2,    0.700,2, -999.000,9, -999.000,9, -999.000,9, -999.000,9, -999.000,9
           NA,    P03W,    271,   1,-999.0,      12,  2,19850516,1641,  24.2867,  150.4700,  5091,  444.600,   12.392,   34.412,2,   34.411,2, -999.000,9,  192.900,2,   15.470,2,   13.120,2,    0.000,2,    0.940,2, -999.000,9, -999.000,9, -999.000,9, -999.000,9, -999.000,9
           NA,    P03W,    271,   1,-999.0,      13,  2,19850516,1641,  24.2867,  150.4700,  5091,  504.600,   10.667,   34.281,2,   34.281,2, -999.000,9,  184.300,2,   23.130,2,   17.010,2,    0.000,2,    1.190,2, -999.000,9, -999.000,9, -999.000,9, -999.000,9, -999.000,9
           NA,    P03W,    271,   1,-999.0,      14,  2,19850516,1641,  24.2867,  150.4700,  5091,  563.300,    8.788,   34.162,2,   34.163,2, -999.000,9,  163.300,2,   34.860,2,   22.630,2,    0.000,2,    1.590,2, -999.000,9, -999.000,9, -999.000,9, -999.000,9, -999.000,9
           NA,    P03W,    271,   1,-999.0,      15,  2,19850516,1641,  24.2867,  150.4700,  5091,  644.000,    6.892,   34.087,2,   34.087,2, -999.000,9,  136.600,2,   53.640,2,   28.870,2,    0.000,2,    1.990,2, -999.000,9, -999.000,9, -999.000,9, -999.000,9, -999.000,9
           NA,    P03W,    271,   1,-999.0,      16,  2,19850516,1641,  24.2867,  150.4700,  5091,  726.700,    5.721,   34.090,2,   34.091,2, -999.000,9,  105.100,2,   70.680,2,   34.130,2,    0.000,2,    2.320,2, -999.000,9, -999.000,9, -999.000,9, -999.000,9, -999.000,9
           NA,    P03W,    271,   1,-999.0,      17,  2,19850516,1641,  24.2867,  150.4700,  5091,  806.900,    4.745,   34.155,2,   34.157,2, -999.000,9,   69.800,2,   91.330,2,   39.050,2,    0.000,2,    2.660,2, -999.000,9, -999.000,9, -999.000,9, -999.000,9, -999.000,9
           NA,    P03W,    271,   1,-999.0,      18,  2,19850516,1641,  24.2867,  150.4700,  5091,  906.000,    4.179,   34.287,2,   34.287,2, -999.000,9,   50.000,2,  107.010,2,   41.850,2,    0.000,2,    2.810,2, -999.000,9, -999.000,9, -999.000,9, -999.000,9, -999.000,9
           NA,    P03W,    271,   1,-999.0,      39,  2,19850516,1641,  24.2867,  150.4700,  5091, 1053.100,    3.716,   34.377,2,   34.378,2, -999.000,9,   47.500,2,  118.820,2,   42.780,2,    0.000,2,    2.850,2, -999.000,9, -999.000,9, -999.000,9, -999.000,9, -999.000,9
           NA,    P03W,    271,   1,-999.0,      20,  2,19850516,1641,  24.2867,  150.4700,  5091, 1203.600,    3.228,   34.460,2,   34.461,2, -999.000,9,   56.800,2,  129.970,2,   42.530,2,    0.000,2,    2.850,2, -999.000,9, -999.000,9, -999.000,9, -999.000,9, -999.000,9
           NA,    P03W,    271,   1,-999.0,      21,  2,19850516,1641,  24.2867,  150.4700,  5091, 1411.400,    2.700,   34.516,2,   34.516,2, -999.000,9,   66.800,2,  140.670,2,   42.230,2,    0.000,2,    2.820,2, -999.000,9, -999.000,9, -999.000,9, -999.000,9, -999.000,9
           NA,    P03W,    271,   1,-999.0,      22,  2,19850516,1641,  24.2867,  150.4700,  5091, 1613.400,    2.297,   34.563,2,   34.563,2, -999.000,9,   81.700,2,  146.660,2,   41.650,2,    0.000,2,    2.770,2, -999.000,9, -999.000,9, -999.000,9, -999.000,9, -999.000,9
           NA,    P03W,    271,   1,-999.0,      23,  2,19850516,1641,  24.2867,  150.4700,  5091, 1817.000,    2.048,   34.593,2,   34.592,2, -999.000,9,   91.800,2,  150.300,2,   41.020,2,    0.000,2,    2.710,2, -999.000,9, -999.000,9, -999.000,9, -999.000,9, -999.000,9
           NA,    P03W,    271,   1,-999.0,      24,  2,19850516,1641,  24.2867,  150.4700,  5091, 2020.500,    1.884,   34.616,2,   34.617,2, -999.000,9,  105.600,2,  150.100,2,   39.900,2,    0.000,2,    2.650,2, -999.000,9, -999.000,9, -999.000,9, -999.000,9, -999.000,9
           NA,    P03W,    271,   1,-999.0,      37,  2,19850516,1641,  24.2867,  150.4700,  5091, 2222.700,    1.758,   34.634,2,   34.635,2, -999.000,9,  116.600,2,  149.900,2,   39.390,2,    0.000,2,    2.600,2, -999.000,9, -999.000,9, -999.000,9, -999.000,9, -999.000,9
           NA,    P03W,    271,   1,-999.0,      26,  2,19850516,1641,  24.2867,  150.4700,  5091, 2425.600,    1.687,   34.642,2,   34.642,2, -999.000,9,  121.300,2,  149.910,2,   38.600,2,    0.000,2,    2.580,2, -999.000,9, -999.000,9, -999.000,9, -999.000,9, -999.000,9
           NA,    P03W,    271,   1,-999.0,      27,  2,19850516,1641,  24.2867,  150.4700,  5091, 2628.800,    1.620,   34.652,2, -999.000,5, -999.000,9,  129.500,2,  153.110,2,   38.690,2,    0.000,2,    2.540,2, -999.000,9, -999.000,9, -999.000,9, -999.000,9, -999.000,9
           NA,    P03W,    271,   1,-999.0,      28,  2,19850516,1641,  24.2867,  150.4700,  5091, 2832.100,    1.571,   34.659,2,   34.659,2, -999.000,9,  134.600,2,  152.060,2,   38.180,2,    0.000,2,    2.510,2, -999.000,9, -999.000,9, -999.000,9, -999.000,9, -999.000,9
           NA,    P03W,    271,   1,-999.0,      29,  2,19850516,1641,  24.2867,  150.4700,  5091, 3036.600,    1.547,   34.663,2,   34.663,2, -999.000,9,  137.000,2,  151.430,2,   38.110,2,    0.000,2,    2.510,2, -999.000,9, -999.000,9, -999.000,9, -999.000,9, -999.000,9
           NA,    P03W,    271,   1,-999.0,      30,  2,19850516,1641,  24.2867,  150.4700,  5091, 3342.200,    1.501,   34.671,2,   34.670,2, -999.000,9,  144.500,2,  150.380,2,   37.660,2,    0.000,2,    2.470,2, -999.000,9, -999.000,9, -999.000,9, -999.000,9, -999.000,9
           NA,    P03W,    271,   1,-999.0,      31,  2,19850516,1641,  24.2867,  150.4700,  5091, 3647.900,    1.474,   34.676,2,   34.676,2, -999.000,9,  150.900,2,  148.280,2,   37.150,2,    0.000,2,    2.440,2, -999.000,9, -999.000,9, -999.000,9, -999.000,9, -999.000,9
           NA,    P03W,    271,   1,-999.0,      32,  2,19850516,1641,  24.2867,  150.4700,  5091, 3954.200,    1.447,   34.681,2,   34.681,2, -999.000,9,  156.900,2,  145.750,2,   36.590,2,    0.000,2,    2.390,2, -999.000,9, -999.000,9, -999.000,9, -999.000,9, -999.000,9
           NA,    P03W,    271,   1,-999.0,      33,  2,19850516,1641,  24.2867,  150.4700,  5091, 4260.700,    1.453,   34.683,2,   34.683,2, -999.000,9,  160.900,2,  143.660,2,   36.200,2,    0.000,2,    2.390,2, -999.000,9, -999.000,9, -999.000,9, -999.000,9, -999.000,9
           NA,    P03W,    271,   1,-999.0,      34,  2,19850516,1641,  24.2867,  150.4700,  5091, 4568.200,    1.466,   34.685,2,   34.685,2, -999.000,9,  164.100,2,  142.200,2,   36.020,2,    0.000,2,    2.370,2, -999.000,9, -999.000,9, -999.000,9, -999.000,9, -999.000,9
           NA,    P03W,    271,   1,-999.0,      35,  2,19850516,1641,  24.2867,  150.4700,  5091, 4875.500,    1.477,   34.688,2,   34.687,2, -999.000,9,  168.000,2,  140.110,2,   35.780,2,    0.000,2,    2.360,2, -999.000,9, -999.000,9, -999.000,9, -999.000,9, -999.000,9
           NA,    P03W,    271,   1,-999.0,      36,  2,19850516,1641,  24.2867,  150.4700,  5091, 5162.300,    1.500,   34.688,2,   34.689,2, -999.000,9,  169.400,2,  139.290,2,   35.500,2,    0.000,2,    2.340,2, -999.000,9, -999.000,9, -999.000,9, -999.000,9, -999.000,9