BOTTLE,20203103JOAExport
EXPOCODE,SECT_ID,STNNBR,CASTNO,SAMPNO,BTLNBR,BTLNBR_FLAG_W,DATE,TIME,LATITUDE,LONGITUDE,DEPTH,CTDPRS,CTDTMP,CTDSAL,CTDSAL_FLAG_W,SALNTY,SALNTY_FLAG_W,CTDOXY,CTDOXY_FLAG_W,OXYGEN,OXYGEN_FLAG_W,SILCAT,SILCAT_FLAG_W,NITRAT,NITRAT_FLAG_W,NITRIT,NITRIT_FLAG_W,PHSPHT,PHSPHT_FLAG_W,CFC-11,CFC-11_FLAG_W,CFC-12,CFC-12_FLAG_W,SF6,SF6_FLAG_W,TCARBN,TCARBN_FLAG_W,ALKALI,ALKALI_FLAG_W
,,,,,,,,,,,,,DB,ITS-90,PSS-78,,PSS-78,,UMOL/KG,,UMOL/KG,,UMOL/KG,,UMOL/KG,,UMOL/KG,,UMOL/KG,,PMOL/KG,,PMOL/KG,,FMOL/KG,,UMOL/KG,,UMOL/KG
           NA,    P03W,    357,   1,-999.0,       5,  2,19850529,2030,  25.0650,  127.8200,  5185,    1.300,   25.581,   34.392,2,   34.396,2, -999.000,9,  207.000,2,    1.450,2,    0.050,2,    0.000,2,    0.060,2,    1.470,2,    0.769,2, -999.000,9, -999.000,9, -999.000,9
           NA,    P03W,    357,   1,-999.0,      38,  2,19850529,2030,  25.0650,  127.8200,  5185,   26.100,   24.256,   34.924,2,   34.926,2, -999.000,9,  217.700,2,    1.440,2,    0.050,2,    0.000,2,    0.060,2, -999.000,9, -999.000,9, -999.000,9, -999.000,9, -999.000,9
           NA,    P03W,    357,   1,-999.0,       3,  2,19850529,2030,  25.0650,  127.8200,  5185,   46.100,   23.255,   34.926,2,   34.928,2, -999.000,9,  225.100,2,    1.420,2,    0.050,2,    0.000,2,    0.060,2, -999.000,9, -999.000,9, -999.000,9, -999.000,9, -999.000,9
           NA,    P03W,    357,   1,-999.0,       4,  2,19850529,2030,  25.0650,  127.8200,  5185,   76.600,   21.022,   34.888,2,   34.891,2, -999.000,9,  230.600,2,    1.410,2,    0.050,2,    0.000,2,    0.060,2,    1.725,2,    0.904,2, -999.000,9, -999.000,9, -999.000,9
           NA,    P03W,    357,   1,-999.0,       1,  2,19850529,2030,  25.0650,  127.8200,  5185,  106.900,   19.667,   34.870,2,   34.870,2, -999.000,9,  219.600,2,    1.620,2,    0.280,2,    0.050,2,    0.100,2, -999.000,9, -999.000,9, -999.000,9, -999.000,9, -999.000,9
           NA,    P03W,    357,   1,-999.0,       6,  2,19850529,2030,  25.0650,  127.8200,  5185,  146.700,   18.899,   34.846,2,   34.846,2, -999.000,9,  207.800,2,    2.710,2,    2.360,2,    0.020,2,    0.220,2,    1.741,2,    0.886,2, -999.000,9, -999.000,9, -999.000,9
           NA,    P03W,    357,   1,-999.0,       7,  2,19850529,2030,  25.0650,  127.8200,  5185,  186.000,   18.198,   34.833,2,   34.833,2, -999.000,9,  203.900,2,    3.130,2,    3.550,2,    0.020,2,    0.300,2,    1.733,2,    0.877,2, -999.000,9, -999.000,9, -999.000,9
           NA,    P03W,    357,   1,-999.0,       8,  2,19850529,2030,  25.0650,  127.8200,  5185,  235.400,   17.319,   34.804,2,   34.804,2, -999.000,9,  203.000,2,    3.560,2,    4.660,2,    0.000,2,    0.370,2, -999.000,9, -999.000,9, -999.000,9, -999.000,9, -999.000,9
           NA,    P03W,    357,   1,-999.0,       9,  2,19850529,2030,  25.0650,  127.8200,  5185,  285.600,   16.496,   34.759,2,   34.758,2, -999.000,9,  199.900,2,    5.520,2,    6.230,2,    0.000,2,    0.490,2,    1.566,2,    0.795,2, -999.000,9, -999.000,9, -999.000,9
           NA,    P03W,    357,   1,-999.0,      10,  2,19850529,2030,  25.0650,  127.8200,  5185,  336.000,   15.432,   34.675,2,   34.677,2, -999.000,9,  195.100,2,    7.910,2,    8.370,2,    0.000,2,    0.620,2,    1.462,2,    0.735,2, -999.000,9, -999.000,9, -999.000,9
           NA,    P03W,    357,   1,-999.0,      11,  2,19850529,2030,  25.0650,  127.8200,  5185,  386.000,   14.148,   34.567,2,   34.566,2, -999.000,9,  187.200,2,   11.840,2,   10.990,2,    0.010,2,    0.800,2,    1.284,2,    0.640,2, -999.000,9, -999.000,9, -999.000,9
           NA,    P03W,    357,   1,-999.0,      12,  2,19850529,2030,  25.0650,  127.8200,  5185,  447.100,   12.793,   34.461,2,   34.460,2, -999.000,9,  179.800,2,   17.510,2,   13.910,2,    0.000,2,    1.020,2,    1.131,2,    0.565,2, -999.000,9, -999.000,9, -999.000,9
           NA,    P03W,    357,   1,-999.0,      13,  2,19850529,2030,  25.0650,  127.8200,  5185,  507.200,   11.307,   34.350,2,   34.349,2, -999.000,9,  166.700,2,   23.400,2,   17.610,2,    0.000,2,    1.270,2,    0.889,2,    0.451,2, -999.000,9, -999.000,9, -999.000,9
           NA,    P03W,    357,   1,-999.0,      14,  2,19850529,2030,  25.0650,  127.8200,  5185,  568.700,    9.952,   34.273,2,   34.274,2, -999.000,9,  154.500,2,   33.000,2,   21.080,2,    0.000,2,    1.530,2,    0.762,2,    0.381,2, -999.000,9, -999.000,9, -999.000,9
           NA,    P03W,    357,   1,-999.0,      15,  2,19850529,2030,  25.0650,  127.8200,  5185,  649.800,    7.867,   34.174,2,   34.174,2, -999.000,9,  135.700,2,   48.950,2,   26.600,2,    0.000,2,    1.930,2,    0.580,2,    0.286,2, -999.000,9, -999.000,9, -999.000,9
           NA,    P03W,    357,   1,-999.0,      16,  2,19850529,2030,  25.0650,  127.8200,  5185,  730.400,    6.394,   34.154,2,   34.154,2, -999.000,9,  110.000,2,   67.120,2,   31.540,2,    0.000,2,    2.270,2,    0.409,2,    0.198,2, -999.000,9, -999.000,9, -999.000,9
           NA,    P03W,    357,   1,-999.0,      17,  2,19850529,2030,  25.0650,  127.8200,  5185,  811.400,    5.383,   34.204,2,   34.204,2, -999.000,9,   80.000,2, -999.000,5, -999.000,5, -999.000,5, -999.000,5,    0.160,2,    0.085,2, -999.000,9, -999.000,9, -999.000,9
           NA,    P03W,    357,   1,-999.0,      18,  2,19850529,2030,  25.0650,  127.8200,  5185,  910.600,    4.541,   34.278,2,   34.281,2, -999.000,9,   64.800,2,  103.340,2,   38.780,2,    0.000,2,    2.800,2, -999.000,9, -999.000,9, -999.000,9, -999.000,9, -999.000,9
           NA,    P03W,    357,   1,-999.0,      23,  2,19850529,2030,  25.0650,  127.8200,  5185, 1010.800,    3.932,   34.347,2,   34.346,2, -999.000,9,   60.400,2,  116.770,2,   39.940,2,    0.000,2,    2.880,2,    0.035,2,    0.015,2, -999.000,9, -999.000,9, -999.000,9
           NA,    P03W,    357,   1,-999.0,      20,  2,19850529,2030,  25.0650,  127.8200,  5185, 2021.300,    2.011,   34.610,2,   34.609,2, -999.000,9,  114.700,2,  146.130,2,   38.320,2,    0.000,2,    2.710,2,   -0.005,2,   -0.004,2, -999.000,9, -999.000,9, -999.000,9
           NA,    P03W,    357,   1,-999.0,      21,  2,19850529,2030,  25.0650,  127.8200,  5185, 3036.100,    1.599,   34.663,2, -999.000,5, -999.000,9,  143.400,2,  146.210,2,   36.730,2,    0.000,2,    2.570,2,   -0.006,2,   -0.003,2, -999.000,9, -999.000,9, -999.000,9
           NA,    P03W,    357,   1,-999.0,      22,  2,19850529,2030,  25.0650,  127.8200,  5185, 4055.400,    1.570,   34.676,2,   34.676,2, -999.000,9,  152.500,2,  143.830,2,   36.050,2,    0.000,2,    2.520,2,    0.000,2,    0.003,2, -999.000,9, -999.000,9, -999.000,9
           NA,    P03W,    357,   1,-999.0,      39,  2,19850529,2030,  25.0650,  127.8200,  5185, 4568.200,    1.618,   34.677,2,   34.676,2, -999.000,9,  153.000,2,  143.020,2,   36.080,2,    0.000,2,    2.500,2, -999.000,9, -999.000,9, -999.000,9, -999.000,9, -999.000,9
           NA,    P03W,    357,   1,-999.0,      24,  2,19850529,2030,  25.0650,  127.8200,  5185, 5234.000,    1.676,   34.680,2,   34.679,2, -999.000,9,  156.900,2,  141.540,2,   35.760,2,    0.000,2,    2.480,2,   -0.003,2,   -0.004,2, -999.000,9, -999.000,9, -999.000,9
           NA,    P03W,    353,   1,-999.0,       5,  2,19850528,1957,  24.8150,  128.0217,  6933,    0.000,   25.793,   34.136,2,   34.139,2, -999.000,9,  206.600,2,    1.470,2,    0.090,2,    0.000,2,    0.040,2,    1.460,2,    0.761,2, -999.000,9, -999.000,9, -999.000,9
           NA,    P03W,    353,   1,-999.0,      38,  2,19850528,1957,  24.8150,  128.0217,  6933,   27.300,   23.801,   34.922,2,   34.925,2, -999.000,9,  220.300,2,    1.470,2,    0.090,2,    0.000,2,    0.040,2, -999.000,9, -999.000,9, -999.000,9, -999.000,9, -999.000,9
           NA,    P03W,    353,   1,-999.0,       3,  2,19850528,1957,  24.8150,  128.0217,  6933,   47.200,   22.610,   34.903,2,   34.903,2, -999.000,9,  227.200,2,    1.470,2,    0.090,2,    0.000,2,    0.040,2,    1.662,2,    0.849,2, -999.000,9, -999.000,9, -999.000,9
           NA,    P03W,    353,   1,-999.0,       4,  2,19850528,1957,  24.8150,  128.0217,  6933,   76.400,   21.299,   34.867,2,   34.868,2, -999.000,9,  225.400,2,    1.370,2,    0.080,2,    0.000,2,    0.040,2, -999.000,9, -999.000,9, -999.000,9, -999.000,9, -999.000,9
           NA,    P03W,    353,   1,-999.0,       1,  2,19850528,1957,  24.8150,  128.0217,  6933,  107.600,   20.236,   34.883,2,   34.883,2, -999.000,9,  190.900,2,    2.930,2,    3.080,2,    0.030,2,    0.250,2,    1.578,2,    0.802,2, -999.000,9, -999.000,9, -999.000,9
           NA,    P03W,    353,   1,-999.0,       6,  2,19850528,1957,  24.8150,  128.0217,  6933,  147.600,   18.858,   34.859,2,   34.856,2, -999.000,9,  196.900,2,    2.930,2,    3.610,2,    0.020,2,    0.290,2,    1.567,2,    0.790,2, -999.000,9, -999.000,9, -999.000,9
           NA,    P03W,    353,   1,-999.0,       7,  2,19850528,1957,  24.8150,  128.0217,  6933,  182.500,   18.202,   34.848,2,   34.848,2, -999.000,9,  201.700,2,    3.130,2,    3.940,2,    0.020,2,    0.290,2,    1.709,2,    0.871,2, -999.000,9, -999.000,9, -999.000,9
           NA,    P03W,    353,   1,-999.0,       8,  2,19850528,1957,  24.8150,  128.0217,  6933,  225.400,   17.587,   34.821,2,   34.820,2, -999.000,9,  202.600,2,    3.520,2,    4.540,2,    0.020,2,    0.320,2,    1.695,2,    0.854,2, -999.000,9, -999.000,9, -999.000,9
           NA,    P03W,    353,   1,-999.0,       9,  2,19850528,1957,  24.8150,  128.0217,  6933,  282.200,   16.705,   34.772,2,   34.772,2, -999.000,9,  202.100,2,    5.180,2,    5.990,2,    0.010,2,    0.420,2,    1.657,2,    0.828,2, -999.000,9, -999.000,9, -999.000,9
           NA,    P03W,    353,   1,-999.0,      10,  2,19850528,1957,  24.8150,  128.0217,  6933,  335.000,   15.859,   34.709,2,   34.709,2, -999.000,9,  196.000,2,    6.940,2,    7.770,2,    0.010,2,    0.540,2,    1.485,2,    0.747,2, -999.000,9, -999.000,9, -999.000,9
           NA,    P03W,    353,   1,-999.0,      11,  2,19850528,1957,  24.8150,  128.0217,  6933,  387.600,   14.601,   34.605,2,   34.606,2, -999.000,9,  189.400,2,   10.560,2,   10.260,2,    0.010,2,    0.720,2,    1.357,2,    0.675,2, -999.000,9, -999.000,9, -999.000,9
           NA,    P03W,    353,   1,-999.0,      12,  2,19850528,1957,  24.8150,  128.0217,  6933,  448.600,   12.957,   34.471,2,   34.465,2, -999.000,9,  179.800,2,   16.330,2,   13.980,2,    0.010,2,    0.970,2, -999.000,9, -999.000,9, -999.000,9, -999.000,9, -999.000,9
           NA,    P03W,    353,   1,-999.0,      13,  2,19850528,1957,  24.8150,  128.0217,  6933,  507.400,   11.085,   34.333,2,   34.334,2, -999.000,9,  162.300,2,   24.540,2,   18.580,2,    0.010,2,    1.310,2,    0.824,2,    0.418,2, -999.000,9, -999.000,9, -999.000,9
           NA,    P03W,    353,   1,-999.0,      14,  2,19850528,1957,  24.8150,  128.0217,  6933,  569.600,    9.786,   34.262,2,   34.261,2, -999.000,9,  148.400,2,   32.460,2,   22.100,2,    0.010,2,    1.560,2,    0.649,2,    0.333,2, -999.000,9, -999.000,9, -999.000,9
           NA,    P03W,    353,   1,-999.0,      15,  2,19850528,1957,  24.8150,  128.0217,  6933,  647.100,    7.889,   34.174,2,   34.175,2, -999.000,9,  137.500,2,   48.600,2,   26.400,2,    0.010,2,    1.860,2,    0.620,2,    0.305,2, -999.000,9, -999.000,9, -999.000,9
           NA,    P03W,    353,   1,-999.0,      16,  2,19850528,1957,  24.8150,  128.0217,  6933,  726.000,    6.461,   34.152,2, -999.000,5, -999.000,9,  110.500,2,   65.120,2,   31.580,2,    0.010,2,    2.250,2,    0.403,2,    0.182,2, -999.000,9, -999.000,9, -999.000,9
           NA,    P03W,    353,   1,-999.0,      17,  2,19850528,1957,  24.8150,  128.0217,  6933,  798.200,    5.483,   34.168,2,   34.168,2, -999.000,9,   93.100,2,   80.960,2,   34.810,2,    0.010,2,    2.460,2,    0.308,2,    0.155,2, -999.000,9, -999.000,9, -999.000,9
           NA,    P03W,    353,   1,-999.0,      18,  2,19850528,1957,  24.8150,  128.0217,  6933,  898.100,    4.631,   34.235,2,   34.234,2, -999.000,9,   70.900,2,   97.870,2,   38.230,2,    0.000,2,    2.720,2,    0.137,2,    0.067,2, -999.000,9, -999.000,9, -999.000,9
           NA,    P03W,    353,   1,-999.0,      23,  2,19850528,1957,  24.8150,  128.0217,  6933, 1003.800,    4.063,   34.331,2,   34.331,2, -999.000,9,   63.000,2,  111.360,2,   39.500,2,    0.000,2,    2.810,2,    0.040,2,    0.020,2, -999.000,9, -999.000,9, -999.000,9
           NA,    P03W,    353,   1,-999.0,      20,  2,19850528,1957,  24.8150,  128.0217,  6933, 2019.700,    2.010,   34.608,2, -999.000,5, -999.000,9,  114.300,2,  143.400,2,   38.410,2,    0.000,2,    2.680,2,   -0.003,2,   -0.006,2, -999.000,9, -999.000,9, -999.000,9
           NA,    P03W,    353,   1,-999.0,      21,  2,19850528,1957,  24.8150,  128.0217,  6933, 3034.800,    1.603,   34.664,2,   34.662,2, -999.000,9,  144.300,2,  144.070,2,   36.850,2,    0.000,2,    2.530,2,    0.007,2,   -0.009,2, -999.000,9, -999.000,9, -999.000,9
           NA,    P03W,    353,   1,-999.0,      22,  2,19850528,1957,  24.8150,  128.0217,  6933, 4058.800,    1.572,   34.677,2,   34.674,2, -999.000,9,  152.500,2,  143.580,2,   36.070,2,    0.000,2,    2.430,2,   -0.005,2,   -0.007,2, -999.000,9, -999.000,9, -999.000,9
           NA,    P03W,    353,   1,-999.0,      24,  2,19850528,1957,  24.8150,  128.0217,  6933, 6384.500,    1.832,   34.679,2,   34.679,2, -999.000,9,  156.000,2,  142.120,2,   36.070,2,    0.000,2,    2.430,2,    0.001,2,   -0.008,2, -999.000,9, -999.000,9, -999.000,9
           NA,    P03W,    351,   1,-999.0,       5,  2,19850528,1354,  24.5500,  128.2267,  5986,    2.600,   26.244,   34.632,2,   34.705,2, -999.000,9,  206.400,2,    1.200,2,    0.050,2,    0.000,2,    0.060,2, -999.000,9, -999.000,9, -999.000,9, -999.000,9, -999.000,9
           NA,    P03W,    351,   1,-999.0,      38,  2,19850528,1354,  24.5500,  128.2267,  5986,  203.400,   18.330,   34.842,2,   34.843,2, -999.000,9,  202.600,2,    3.200,2,    3.730,2,    0.000,2,    0.290,2, -999.000,9, -999.000,9, -999.000,9, -999.000,9, -999.000,9
           NA,    P03W,    351,   1,-999.0,       3,  2,19850528,1354,  24.5500,  128.2267,  5986,  402.000,   14.006,   34.555,2,   34.556,2, -999.000,9,  179.800,2,   13.720,2,   12.120,2,    0.010,2,    0.840,2, -999.000,9, -999.000,9, -999.000,9, -999.000,9, -999.000,9
           NA,    P03W,    351,   1,-999.0,       4,  2,19850528,1354,  24.5500,  128.2267,  5986,  600.000,    8.944,   34.232,2, -999.000,5, -999.000,9,  133.000,2,   39.050,2,   25.040,2,    0.000,2,    1.760,2, -999.000,9, -999.000,9, -999.000,9, -999.000,9, -999.000,9
           NA,    P03W,    351,   1,-999.0,       1,  2,19850528,1354,  24.5500,  128.2267,  5986,  806.200,    5.438,   34.191,2,   34.188,2, -999.000,9,   84.000,2,   83.390,2,   35.760,2,    0.000,2,    2.490,2, -999.000,9, -999.000,9, -999.000,9, -999.000,9, -999.000,9
           NA,    P03W,    351,   1,-999.0,       6,  2,19850528,1354,  24.5500,  128.2267,  5986, 1007.400,    3.958,   34.347,2,   34.347,2, -999.000,9,   61.900,2,  115.780,2,   39.980,2,    0.000,2,    2.780,2, -999.000,9, -999.000,9, -999.000,9, -999.000,9, -999.000,9
           NA,    P03W,    351,   1,-999.0,       7,  2,19850528,1354,  24.5500,  128.2267,  5986, 1208.600,    3.240,   34.446,2,   34.447,2, -999.000,9,   66.700,2,  129.620,2,   40.540,2,    0.000,2,    2.840,2, -999.000,9, -999.000,9, -999.000,9, -999.000,9, -999.000,9
           NA,    P03W,    351,   1,-999.0,       8,  2,19850528,1354,  24.5500,  128.2267,  5986, 1410.300,    2.789,   34.514,2,   34.514,2, -999.000,9,   81.300,2,  136.620,2,   39.970,2,    0.000,2,    2.770,2, -999.000,9, -999.000,9, -999.000,9, -999.000,9, -999.000,9
           NA,    P03W,    351,   1,-999.0,       9,  2,19850528,1354,  24.5500,  128.2267,  5986, 1609.800,    2.451,   34.546,2,   34.547,2, -999.000,9,   89.600,2,  140.630,2,   39.310,2,    0.000,2,    2.770,2, -999.000,9, -999.000,9, -999.000,9, -999.000,9, -999.000,9
           NA,    P03W,    351,   1,-999.0,      10,  2,19850528,1354,  24.5500,  128.2267,  5986, 1813.000,    2.204,   34.585,2,   34.585,2, -999.000,9,  104.600,2,  140.740,2,   38.850,2,    0.000,2,    2.730,2, -999.000,9, -999.000,9, -999.000,9, -999.000,9, -999.000,9
           NA,    P03W,    351,   1,-999.0,      11,  2,19850528,1354,  24.5500,  128.2267,  5986, 2014.200,    2.018,   34.613,2,   34.613,2, -999.000,9,  116.500,2,  142.690,2,   38.330,2,    0.010,2,    2.650,2, -999.000,9, -999.000,9, -999.000,9, -999.000,9, -999.000,9
           NA,    P03W,    351,   1,-999.0,      12,  2,19850528,1354,  24.5500,  128.2267,  5986, 2214.500,    1.890,   34.627,2,   34.628,2, -999.000,9,  123.100,2,  146.480,2,   38.130,2,    0.010,2,    2.630,2, -999.000,9, -999.000,9, -999.000,9, -999.000,9, -999.000,9
           NA,    P03W,    351,   1,-999.0,      13,  2,19850528,1354,  24.5500,  128.2267,  5986, 2421.100,    1.775,   34.642,2,   34.642,2, -999.000,9,  131.000,2,  146.590,2,   37.520,2,    0.010,2,    2.600,2, -999.000,9, -999.000,9, -999.000,9, -999.000,9, -999.000,9
           NA,    P03W,    351,   1,-999.0,      14,  2,19850528,1354,  24.5500,  128.2267,  5986, 2726.100,    1.682,   34.654,2,   34.654,2, -999.000,9,  136.800,2,  146.690,2,   37.210,2,    0.010,2,    2.550,2, -999.000,9, -999.000,9, -999.000,9, -999.000,9, -999.000,9
           NA,    P03W,    351,   1,-999.0,      15,  2,19850528,1354,  24.5500,  128.2267,  5986, 3031.300,    1.616,   34.662,2,   34.662,2, -999.000,9,  143.300,2,  146.340,2,   36.820,2,    0.000,2,    2.520,2, -999.000,9, -999.000,9, -999.000,9, -999.000,9, -999.000,9
           NA,    P03W,    351,   1,-999.0,      16,  2,19850528,1354,  24.5500,  128.2267,  5986, 3334.700,    1.579,   34.668,2,   34.666,2, -999.000,9,  147.500,2,  144.390,2,   36.510,2,    0.000,2,    2.500,2, -999.000,9, -999.000,9, -999.000,9, -999.000,9, -999.000,9
           NA,    P03W,    351,   1,-999.0,      17,  2,19850528,1354,  24.5500,  128.2267,  5986, 3639.600,    1.564,   34.672,2,   34.671,2, -999.000,9,  150.600,2,  144.730,2,   36.260,2,    0.010,2,    2.470,2, -999.000,9, -999.000,9, -999.000,9, -999.000,9, -999.000,9
           NA,    P03W,    351,   1,-999.0,      18,  2,19850528,1354,  24.5500,  128.2267,  5986, 3942.900,    1.569,   34.674,2,   34.674,2, -999.000,9,  153.000,2,  143.470,2,   36.260,2,    0.000,2,    2.470,2, -999.000,9, -999.000,9, -999.000,9, -999.000,9, -999.000,9
           NA,    P03W,    351,   1,-999.0,      23,  2,19850528,1354,  24.5500,  128.2267,  5986, 4250.100,    1.583,   34.677,2,   34.676,2, -999.000,9,  153.900,2,  143.810,2,   36.150,2,    0.000,2,    2.460,2, -999.000,9, -999.000,9, -999.000,9, -999.000,9, -999.000,9
           NA,    P03W,    351,   1,-999.0,      20,  2,19850528,1354,  24.5500,  128.2267,  5986, 4557.000,    1.607,   34.678,2,   34.677,2, -999.000,9,  155.200,2,  143.920,2,   36.200,2,    0.000,2,    2.470,2, -999.000,9, -999.000,9, -999.000,9, -999.000,9, -999.000,9
           NA,    P03W,    351,   1,-999.0,      21,  2,19850528,1354,  24.5500,  128.2267,  5986, 4864.600,    1.634,   34.678,2,   34.677,2, -999.000,9,  156.400,2,  143.340,2,   36.150,2,    0.000,2,    2.460,2, -999.000,9, -999.000,9, -999.000,9, -999.000,9, -999.000,9
           NA,    P03W,    351,   1,-999.0,      22,  2,19850528,1354,  24.5500,  128.2267,  5986, 5278.000,    1.682,   34.679,2,   34.680,2, -999.000,9,  156.800,2,  143.220,2,   35.900,2,    0.000,2,    2.480,2, -999.000,9, -999.000,9, -999.000,9, -999.000,9, -999.000,9
           NA,    P03W,    351,   1,-999.0,      39,  2,19850528,1354,  24.5500,  128.2267,  5986, 5691.000,    1.735,   34.679,2,   34.679,2, -999.000,9,  156.600,2,  141.740,2,   35.900,2,    0.000,2,    2.450,2, -999.000,9, -999.000,9, -999.000,9, -999.000,9, -999.000,9
           NA,    P03W,    351,   1,-999.0,      24,  2,19850528,1354,  24.5500,  128.2267,  5986, 6042.700,    1.782,   34.678,2,   34.679,2, -999.000,9,  157.600,2,  143.220,2,   36.040,2,    0.000,2,    2.450,2, -999.000,9, -999.000,9, -999.000,9, -999.000,9, -999.000,9