BOTTLE,20203103JOAExport
EXPOCODE,SECT_ID,STNNBR,CASTNO,SAMPNO,BTLNBR,BTLNBR_FLAG_W,DATE,TIME,LATITUDE,LONGITUDE,DEPTH,CTDPRS,CTDTMP,CTDSAL,CTDSAL_FLAG_W,SALNTY,SALNTY_FLAG_W,CTDOXY,CTDOXY_FLAG_W,OXYGEN,OXYGEN_FLAG_W,SILCAT,SILCAT_FLAG_W,NITRAT,NITRAT_FLAG_W,NITRIT,NITRIT_FLAG_W,PHSPHT,PHSPHT_FLAG_W,CFC-11,CFC-11_FLAG_W,CFC-12,CFC-12_FLAG_W,SF6,SF6_FLAG_W,TCARBN,TCARBN_FLAG_W,ALKALI,ALKALI_FLAG_W
,,,,,,,,,,,,,DB,ITS-90,PSS-78,,PSS-78,,UMOL/KG,,UMOL/KG,,UMOL/KG,,UMOL/KG,,UMOL/KG,,UMOL/KG,,PMOL/KG,,PMOL/KG,,FMOL/KG,,UMOL/KG,,UMOL/KG
           NA,    P03E,     83,   1,-999.0,       1,  2,19850412,1551,  24.2300, -144.7983,  5215,    1.600,   21.481,   35.248,2,   35.262,2, -999.000,9,  226.000,2,    0.310,2,    0.040,2,    0.000,2,    0.090,2,    1.763,2,    0.905,2, -999.000,9, -999.000,9, -999.000,9
           NA,    P03E,     83,   1,-999.0,       2,  2,19850412,1551,  24.2300, -144.7983,  5215,   20.100,   21.398,   35.250,2,   35.252,2, -999.000,9,  223.700,2,    0.120,2,    0.000,2,    0.000,2,    0.080,2,    1.756,2,    0.897,2, -999.000,9, -999.000,9, -999.000,9
           NA,    P03E,     83,   1,-999.0,       3,  2,19850412,1551,  24.2300, -144.7983,  5215,   35.100,   21.290,   35.242,2,   35.248,2, -999.000,9,  223.700,2,    0.110,2,    0.000,2,    0.000,2,    0.070,2, -999.000,9, -999.000,9, -999.000,9, -999.000,9, -999.000,9
           NA,    P03E,     83,   1,-999.0,       4,  2,19850412,1551,  24.2300, -144.7983,  5215,   55.000,   21.156,   35.238,2,   35.239,2, -999.000,9,  224.400,2,    0.100,2,    0.000,2,    0.000,2,    0.070,2, -999.000,9, -999.000,9, -999.000,9, -999.000,9, -999.000,9
           NA,    P03E,     83,   1,-999.0,       5,  2,19850412,1551,  24.2300, -144.7983,  5215,   74.300,   21.138,   35.248,2,   35.250,2, -999.000,9,  222.700,2,    0.100,2,    0.000,2,    0.000,2,    0.070,2,    1.754,2,    0.906,2, -999.000,9, -999.000,9, -999.000,9
           NA,    P03E,     83,   1,-999.0,       6,  2,19850412,1551,  24.2300, -144.7983,  5215,   94.000,   21.135,   35.257,2,   35.258,2, -999.000,9,  221.600,2,    0.090,2,    0.000,2,    0.000,2,    0.070,2, -999.000,9, -999.000,9, -999.000,9, -999.000,9, -999.000,9
           NA,    P03E,     83,   1,-999.0,       7,  2,19850412,1551,  24.2300, -144.7983,  5215,  124.100,   21.090,   35.273,2,   35.274,2, -999.000,9,  221.600,2,    0.270,2,    0.000,2,    0.000,2,    0.060,2,    1.782,2,    0.912,2, -999.000,9, -999.000,9, -999.000,9
           NA,    P03E,     83,   1,-999.0,       8,  2,19850412,1551,  24.2300, -144.7983,  5215,  154.000,   20.898,   35.326,2,   35.334,2, -999.000,9,  210.200,2,    0.260,2,    0.450,2,    0.080,2,    0.100,2, -999.000,9, -999.000,9, -999.000,9, -999.000,9, -999.000,9
           NA,    P03E,     83,   1,-999.0,       9,  2,19850412,1551,  24.2300, -144.7983,  5215,  194.500,   19.905,   35.271,2,   35.249,2, -999.000,9,  211.900,2,    0.810,2,    0.850,2,    0.080,2,    0.110,2,    1.792,2,    0.909,2, -999.000,9, -999.000,9, -999.000,9
           NA,    P03E,     83,   1,-999.0,      10,  2,19850412,1551,  24.2300, -144.7983,  5215,  235.700,   16.208,   34.634,2,   34.631,2, -999.000,9,  202.500,2,    3.410,2,    4.100,2,    0.010,2,    0.360,2,    1.844,2,    0.922,2, -999.000,9, -999.000,9, -999.000,9
           NA,    P03E,     83,   1,-999.0,      11,  2,19850412,1551,  24.2300, -144.7983,  5215,  296.800,   13.019,   34.322,2,   34.308,2, -999.000,9,  214.200,2,    7.490,2,    8.360,2,    0.000,2,    0.640,2,    1.946,2,    0.997,6, -999.000,9, -999.000,9, -999.000,9
           NA,    P03E,     83,   1,-999.0,      12,  2,19850412,1551,  24.2300, -144.7983,  5215,  357.600,   10.695,   34.165,2,   34.164,2, -999.000,9,  213.600,2,   14.370,2,   13.600,2,    0.000,2,    0.950,2,    1.805,2,    0.877,2, -999.000,9, -999.000,9, -999.000,9
           NA,    P03E,     83,   1,-999.0,      13,  2,19850412,1551,  24.2300, -144.7983,  5215,  427.200,    9.096,   34.094,2,   34.093,2, -999.000,9,  189.500,2,   24.030,2,   19.280,2,    0.000,2,    1.310,2,    1.223,6,    0.597,6, -999.000,9, -999.000,9, -999.000,9
           NA,    P03E,     83,   1,-999.0,      14,  2,19850412,1551,  24.2300, -144.7983,  5215,  507.000,    7.134,   34.054,2,   34.053,2, -999.000,9,  113.500,2,   46.730,2,   30.210,2,    0.000,2,    2.100,2, -999.000,9, -999.000,9, -999.000,9, -999.000,9, -999.000,9
           NA,    P03E,     83,   1,-999.0,      15,  2,19850412,1551,  24.2300, -144.7983,  5215,  608.600,    5.473,   34.100,2,   34.102,2, -999.000,9,   54.000,2,   73.720,2,   38.880,2,    0.000,2,    2.700,2,    0.036,2,    0.029,2, -999.000,9, -999.000,9, -999.000,9
           NA,    P03E,     83,   1,-999.0,      16,  2,19850412,1551,  24.2300, -144.7983,  5215,  709.600,    4.805,   34.224,2,   34.225,2, -999.000,9,   24.900,2,   91.610,2,   42.550,2,    0.000,2,    2.980,2,    0.026,2,    0.000,2, -999.000,9, -999.000,9, -999.000,9
           NA,    P03E,     83,   1,-999.0,      17,  2,19850412,1551,  24.2300, -144.7983,  5215,  810.300,    4.438,   34.336,2,   34.334,2, -999.000,9,   22.600,2,  102.040,2,   43.690,2,    0.000,2,    3.060,2,    0.022,2,    0.001,2, -999.000,9, -999.000,9, -999.000,9
           NA,    P03E,     83,   1,-999.0,      18,  2,19850412,1551,  24.2300, -144.7983,  5215,  910.900,    4.204,   34.421,2,   34.421,2, -999.000,9,   32.600,2,  106.300,2,   43.530,2,    0.000,2,    3.040,2,    0.017,2,    0.000,2, -999.000,9, -999.000,9, -999.000,9
           NA,    P03E,     83,   1,-999.0,      19,  2,19850412,1551,  24.2300, -144.7983,  5215, 1010.300,    3.955,   34.468,2,   34.467,2, -999.000,9,   40.000,2,  111.680,2,   43.420,2,    0.000,2,    3.010,2, -999.000,9, -999.000,9, -999.000,9, -999.000,9, -999.000,9
           NA,    P03E,     83,   1,-999.0,      20,  2,19850412,1551,  24.2300, -144.7983,  5215, 1107.800,    3.642,   34.497,2,   34.497,2, -999.000,9,   47.600,2,  118.560,2,   43.160,2,    0.000,2,    2.970,2, -999.000,9,    0.006,2, -999.000,9, -999.000,9, -999.000,9
           NA,    P03E,     83,   1,-999.0,      21,  2,19850412,1551,  24.2300, -144.7983,  5215, 1255.600,    3.363,   34.529,2,   34.529,2, -999.000,9,   53.300,2,  124.330,2,   43.010,2,    0.000,2,    2.960,2,    0.014,2, -999.000,9, -999.000,9, -999.000,9, -999.000,9
           NA,    P03E,     83,   1,-999.0,      22,  2,19850412,1551,  24.2300, -144.7983,  5215, 1407.700,    3.025,   34.551,2,   34.552,2, -999.000,9,   61.400,2,  132.340,2,   42.640,2,    0.000,2,    2.920,2, -999.000,9,    0.000,2, -999.000,9, -999.000,9, -999.000,9
           NA,    P03E,     83,   1,-999.0,      23,  2,19850412,1551,  24.2300, -144.7983,  5215, 1613.600,    2.594,   34.576,2,   34.577,2, -999.000,9,   70.700,2,  143.370,2,   42.280,2,    0.000,2,    2.860,2, -999.000,9,    0.001,2, -999.000,9, -999.000,9, -999.000,9
           NA,    P03E,     83,   1,-999.0,      24,  2,19850412,1551,  24.2300, -144.7983,  5215, 1814.300,    2.312,   34.597,2,   34.598,2, -999.000,9,   78.100,2,  150.660,2,   41.870,2,    0.000,2,    2.830,2, -999.000,9, -999.000,9, -999.000,9, -999.000,9, -999.000,9
           NA,    P03E,     83,   1,-999.0,      25,  2,19850412,1551,  24.2300, -144.7983,  5215, 2014.900,    2.075,   34.615,2,   34.616,2, -999.000,9,   85.500,2,  156.630,2,   41.360,2,    0.000,2,    2.800,2, -999.000,9,    0.003,2, -999.000,9, -999.000,9, -999.000,9
           NA,    P03E,     83,   1,-999.0,      26,  2,19850412,1551,  24.2300, -144.7983,  5215, 2215.300,    1.881,   34.632,2,   34.631,2, -999.000,9,   96.100,2,  161.090,2,   40.790,2,    0.000,2,    2.760,2, -999.000,9, -999.000,9, -999.000,9, -999.000,9, -999.000,9
           NA,    P03E,     83,   1,-999.0,      27,  2,19850412,1551,  24.2300, -144.7983,  5215, 2515.600,    1.696,   34.648,2,   34.649,2, -999.000,9,  106.900,2,  164.050,2,   39.880,2,    0.000,2,    2.670,2, -999.000,9, -999.000,9, -999.000,9, -999.000,9, -999.000,9
           NA,    P03E,     83,   1,-999.0,      28,  2,19850412,1551,  24.2300, -144.7983,  5215, 2817.000,    1.592,   34.660,2,   34.660,2, -999.000,9,  117.800,2,  164.180,2,   39.220,2,    0.000,2,    2.620,2, -999.000,9, -999.000,9, -999.000,9, -999.000,9, -999.000,9
           NA,    P03E,     83,   1,-999.0,      29,  2,19850412,1551,  24.2300, -144.7983,  5215, 3111.800,    1.527,   34.669,2,   34.669,2, -999.000,9,  128.100,2,  162.420,2,   38.510,2,    0.000,2,    2.570,2, -999.000,9, -999.000,9, -999.000,9, -999.000,9, -999.000,9
           NA,    P03E,     83,   1,-999.0,      30,  2,19850412,1551,  24.2300, -144.7983,  5215, 3409.800,    1.487,   34.675,2,   34.676,2, -999.000,9,  137.100,2,  161.990,2,   37.860,2,    0.000,2,    2.520,2, -999.000,9, -999.000,9, -999.000,9, -999.000,9, -999.000,9
           NA,    P03E,     83,   1,-999.0,      31,  2,19850412,1551,  24.2300, -144.7983,  5215, 3714.400,    1.473,   34.679,2,   34.679,2, -999.000,9,  142.700,2,  158.730,2,   37.500,2,    0.000,2,    2.480,2, -999.000,9, -999.000,9, -999.000,9, -999.000,9, -999.000,9
           NA,    P03E,     83,   1,-999.0,      32,  2,19850412,1551,  24.2300, -144.7983,  5215, 4028.300,    1.465,   34.683,2,   34.682,2, -999.000,9,  149.100,2,  154.720,2,   37.100,2,    0.000,2,    2.440,2, -999.000,9, -999.000,9, -999.000,9, -999.000,9, -999.000,9
           NA,    P03E,     83,   1,-999.0,      37,  2,19850412,1551,  24.2300, -144.7983,  5215, 4344.100,    1.483,   34.685,2,   34.684,2, -999.000,9,  152.300,2,  152.600,2,   36.850,2,    0.000,2,    2.430,2, -999.000,9, -999.000,9, -999.000,9, -999.000,9, -999.000,9
           NA,    P03E,     83,   1,-999.0,      34,  2,19850412,1551,  24.2300, -144.7983,  5215, 4659.000,    1.492,   34.687,2,   34.687,2, -999.000,9,  157.700,2,  148.790,2,   36.410,2,    0.000,2,    2.410,2, -999.000,9, -999.000,9, -999.000,9, -999.000,9, -999.000,9
           NA,    P03E,     83,   1,-999.0,      35,  2,19850412,1551,  24.2300, -144.7983,  5215, 4970.600,    1.494,   34.689,2,   34.689,2, -999.000,9,  163.100,2,  144.240,2,   35.960,2,    0.000,2,    2.370,2, -999.000,9, -999.000,9, -999.000,9, -999.000,9, -999.000,9
           NA,    P03E,     83,   1,-999.0,      36,  2,19850412,1551,  24.2300, -144.7983,  5215, 5296.800,    1.514,   34.690,2,   34.691,2, -999.000,9,  166.200,2,  142.130,2,   35.810,2,    0.000,2,    2.360,2,   -0.002,2,    0.002,6, -999.000,9, -999.000,9, -999.000,9