BOTTLE,20203103JOAExport
EXPOCODE,SECT_ID,STNNBR,CASTNO,SAMPNO,BTLNBR,BTLNBR_FLAG_W,DATE,TIME,LATITUDE,LONGITUDE,DEPTH,CTDPRS,CTDTMP,CTDSAL,CTDSAL_FLAG_W,SALNTY,SALNTY_FLAG_W,CTDOXY,CTDOXY_FLAG_W,OXYGEN,OXYGEN_FLAG_W,SILCAT,SILCAT_FLAG_W,NITRAT,NITRAT_FLAG_W,NITRIT,NITRIT_FLAG_W,PHSPHT,PHSPHT_FLAG_W,CFC-11,CFC-11_FLAG_W,CFC-12,CFC-12_FLAG_W,SF6,SF6_FLAG_W,TCARBN,TCARBN_FLAG_W,ALKALI,ALKALI_FLAG_W
,,,,,,,,,,,,,DB,ITS-90,PSS-78,,PSS-78,,UMOL/KG,,UMOL/KG,,UMOL/KG,,UMOL/KG,,UMOL/KG,,UMOL/KG,,PMOL/KG,,PMOL/KG,,FMOL/KG,,UMOL/KG,,UMOL/KG
           NA,    P03E,    159,   1,-999.0,       1,  2,19850423,2338,  24.0217, -167.2400,  4036,    0.200,   23.221,   35.325,2,   35.328,2, -999.000,9,  218.900,2,    0.000,2,    0.090,2,    0.000,2,    0.060,2, -999.000,9, -999.000,9, -999.000,9, -999.000,9, -999.000,9
           NA,    P03E,    159,   1,-999.0,       2,  2,19850423,2338,  24.0217, -167.2400,  4036,   52.700,   22.320,   35.297,2,   35.300,2, -999.000,9,  222.400,2,    0.000,2,    0.080,2,    0.000,2,    0.070,2, -999.000,9, -999.000,9, -999.000,9, -999.000,9, -999.000,9
           NA,    P03E,    159,   1,-999.0,       3,  2,19850423,2338,  24.0217, -167.2400,  4036,  102.900,   20.005,   35.095,2,   35.100,2, -999.000,9,  216.300,2,    0.670,2,    0.450,2,    0.070,2,    0.120,2, -999.000,9, -999.000,9, -999.000,9, -999.000,9, -999.000,9
           NA,    P03E,    159,   1,-999.0,       4,  2,19850423,2338,  24.0217, -167.2400,  4036,  153.200,   17.664,   34.854,2,   34.853,2, -999.000,9,  202.200,2,    2.230,2,    3.930,2,    0.020,2,    0.360,2, -999.000,9, -999.000,9, -999.000,9, -999.000,9, -999.000,9
           NA,    P03E,    159,   1,-999.0,       5,  2,19850423,2338,  24.0217, -167.2400,  4036,  202.800,   16.204,   34.718,2,   34.719,2, -999.000,9,  206.500,2,    3.590,2,    5.480,2,    0.020,2,    0.460,2, -999.000,9, -999.000,9, -999.000,9, -999.000,9, -999.000,9
           NA,    P03E,    159,   1,-999.0,       6,  2,19850423,2338,  24.0217, -167.2400,  4036,  253.400,   14.605,   34.569,2,   34.570,2, -999.000,9,  208.700,2,    5.960,2,    7.720,2,    0.010,2,    0.590,2, -999.000,9, -999.000,9, -999.000,9, -999.000,9, -999.000,9
           NA,    P03E,    159,   1,-999.0,       7,  2,19850423,2338,  24.0217, -167.2400,  4036,  303.500,   13.328,   34.453,2,   34.455,2, -999.000,9,  209.100,2,    8.940,2,    9.760,2,    0.000,2,    0.720,2, -999.000,9, -999.000,9, -999.000,9, -999.000,9, -999.000,9
           NA,    P03E,    159,   1,-999.0,       8,  2,19850423,2338,  24.0217, -167.2400,  4036,  353.000,   11.361,   34.292,2,   34.292,2, -999.000,9,  204.200,2,   14.740,2,   13.650,2,    0.000,2,    0.970,2, -999.000,9, -999.000,9, -999.000,9, -999.000,9, -999.000,9
           NA,    P03E,    159,   1,-999.0,       9,  2,19850423,2338,  24.0217, -167.2400,  4036,  402.100,    9.696,   34.192,2,   34.192,2, -999.000,9,  188.200,2,   23.970,2,   18.500,2,    0.000,2,    1.290,2, -999.000,9, -999.000,9, -999.000,9, -999.000,9, -999.000,9
           NA,    P03E,    159,   1,-999.0,      10,  2,19850423,2338,  24.0217, -167.2400,  4036,  502.000,    7.643,   34.104,2,   34.106,2, -999.000,9,  144.100,2,   43.110,2,   26.390,2,    0.000,2,    1.840,2, -999.000,9, -999.000,9, -999.000,9, -999.000,9, -999.000,9
           NA,    P03E,    159,   1,-999.0,      11,  2,19850423,2338,  24.0217, -167.2400,  4036,  596.800,    6.133,   34.126,2,   34.126,2, -999.000,9,   94.700,2,   64.100,2,   33.580,2,    0.000,2,    2.350,2, -999.000,9, -999.000,9, -999.000,9, -999.000,9, -999.000,9
           NA,    P03E,    159,   1,-999.0,      12,  2,19850423,2338,  24.0217, -167.2400,  4036,  689.800,    5.469,   34.171,2,   34.174,2, -999.000,9,   69.400,2,   77.400,2,   37.020,2,    0.000,2,    2.610,2, -999.000,9, -999.000,9, -999.000,9, -999.000,9, -999.000,9
           NA,    P03E,    159,   1,-999.0,      13,  2,19850423,2338,  24.0217, -167.2400,  4036,  842.700,    4.568,   34.297,2,   34.298,2, -999.000,9,   43.900,2,   97.860,2,   40.820,2,    0.000,2,    2.890,2, -999.000,9, -999.000,9, -999.000,9, -999.000,9, -999.000,9
           NA,    P03E,    159,   1,-999.0,      14,  2,19850423,2338,  24.0217, -167.2400,  4036,  998.700,    3.944,   34.426,2,   34.426,2, -999.000,9,   45.100,2,  111.020,2,   41.850,2,    0.000,2,    2.930,2, -999.000,9, -999.000,9, -999.000,9, -999.000,9, -999.000,9
           NA,    P03E,    159,   1,-999.0,      15,  2,19850423,2338,  24.0217, -167.2400,  4036, 1193.300,    3.537,   34.499,2,   34.501,2, -999.000,9,   58.100,2,  118.060,2,   41.310,2,    0.000,2,    2.900,2, -999.000,9, -999.000,9, -999.000,9, -999.000,9, -999.000,9
           NA,    P03E,    159,   1,-999.0,      16,  2,19850423,2338,  24.0217, -167.2400,  4036, 1390.600,    3.085,   34.537,2,   34.538,2, -999.000,9,   66.900,2,  128.400,2,   41.290,2,    0.000,2,    2.890,2, -999.000,9, -999.000,9, -999.000,9, -999.000,9, -999.000,9
           NA,    P03E,    159,   1,-999.0,      38,  2,19850423,2338,  24.0217, -167.2400,  4036, 1597.200,    2.614,   34.564,2,   34.565,2, -999.000,9,   74.700,2,  139.800,2,   40.960,2,    0.000,2,    2.850,2, -999.000,9, -999.000,9, -999.000,9, -999.000,9, -999.000,9
           NA,    P03E,    159,   1,-999.0,      18,  2,19850423,2338,  24.0217, -167.2400,  4036, 1797.900,    2.318,   34.593,2,   34.597,2, -999.000,9,   84.700,2,  146.270,2,   40.580,2,    0.000,2,    2.800,2, -999.000,9, -999.000,9, -999.000,9, -999.000,9, -999.000,9
           NA,    P03E,    159,   1,-999.0,      19,  2,19850423,2338,  24.0217, -167.2400,  4036, 2106.600,    1.989,   34.619,2,   34.620,2, -999.000,9,   98.000,2,  152.950,2,   39.570,2,    0.000,2,    2.730,2, -999.000,9, -999.000,9, -999.000,9, -999.000,9, -999.000,9
           NA,    P03E,    159,   1,-999.0,      17,  2,19850423,2338,  24.0217, -167.2400,  4036, 2407.700,    1.805,   34.637,2,   34.637,2, -999.000,9,  107.700,2,  157.370,2,   39.090,2,    0.000,2,    2.710,2, -999.000,9, -999.000,9, -999.000,9, -999.000,9, -999.000,9
           NA,    P03E,    159,   1,-999.0,      21,  2,19850423,2338,  24.0217, -167.2400,  4036, 2810.600,    1.627,   34.655,2,   34.656,2, -999.000,9,  123.100,2,  156.810,2,   38.140,2,    0.000,2,    2.630,2, -999.000,9, -999.000,9, -999.000,9, -999.000,9, -999.000,9
           NA,    P03E,    159,   1,-999.0,      39,  2,19850423,2338,  24.0217, -167.2400,  4036, 3215.400,    1.530,   34.668,2,   34.668,2, -999.000,9,  134.200,2,  155.010,2,   37.450,2,    0.000,2,    2.550,2, -999.000,9, -999.000,9, -999.000,9, -999.000,9, -999.000,9
           NA,    P03E,    159,   1,-999.0,      23,  2,19850423,2338,  24.0217, -167.2400,  4036, 3623.500,    1.496,   34.675,2,   34.674,2, -999.000,9,  143.700,2,  152.180,2,   36.870,2,    0.000,2,    2.510,2, -999.000,9, -999.000,9, -999.000,9, -999.000,9, -999.000,9
           NA,    P03E,    159,   1,-999.0,      24,  2,19850423,2338,  24.0217, -167.2400,  4036, 4071.100,    1.482,   34.680,2,   34.680,2, -999.000,9,  152.100,2,  148.330,2,   36.240,2,    0.000,2,    2.470,2, -999.000,9, -999.000,9, -999.000,9, -999.000,9, -999.000,9
           NA,    P03E,    157,   1,-999.0,       1,  2,19850423,1856,  24.1017, -167.1683,  2856,    0.800,   23.101,   35.316,2,   35.319,2, -999.000,9,  219.200,2,    0.330,2,    0.050,2,    0.000,2,    0.060,2, -999.000,9, -999.000,9, -999.000,9, -999.000,9, -999.000,9
           NA,    P03E,    157,   1,-999.0,       2,  2,19850423,1856,  24.1017, -167.1683,  2856,   20.800,   23.081,   35.317,2,   35.318,2, -999.000,9,  219.300,2,    0.270,2,    0.050,2,    0.000,2,    0.060,2, -999.000,9, -999.000,9, -999.000,9, -999.000,9, -999.000,9
           NA,    P03E,    157,   1,-999.0,       3,  2,19850423,1856,  24.1017, -167.1683,  2856,   51.100,   21.890,   35.279,2,   35.281,2, -999.000,9,  223.100,2,    0.210,2,    0.050,2,    0.000,2,    0.060,2, -999.000,9, -999.000,9, -999.000,9, -999.000,9, -999.000,9
           NA,    P03E,    157,   1,-999.0,       4,  2,19850423,1856,  24.1017, -167.1683,  2856,  101.400,   19.747,   35.054,2,   35.053,2, -999.000,9,  215.700,2,    1.170,2,    0.780,2,    0.100,2,    0.150,2, -999.000,9, -999.000,9, -999.000,9, -999.000,9, -999.000,9
           NA,    P03E,    157,   1,-999.0,       5,  2,19850423,1856,  24.1017, -167.1683,  2856,  152.000,   17.618,   34.865,2,   34.865,2, -999.000,9,  208.600,2,    2.750,2,    3.540,2,    0.050,2,    0.320,2, -999.000,9, -999.000,9, -999.000,9, -999.000,9, -999.000,9
           NA,    P03E,    157,   1,-999.0,       6,  2,19850423,1856,  24.1017, -167.1683,  2856,  202.200,   15.892,   34.689,2,   34.690,2, -999.000,9,  206.200,2,    4.330,2,    5.850,2,    0.020,2,    0.450,2, -999.000,9, -999.000,9, -999.000,9, -999.000,9, -999.000,9
           NA,    P03E,    157,   1,-999.0,       7,  2,19850423,1856,  24.1017, -167.1683,  2856,  252.000,   13.924,   34.505,2,   34.505,2, -999.000,9,  209.600,2,    7.540,2,    8.580,2,    0.010,2,    0.630,2, -999.000,9, -999.000,9, -999.000,9, -999.000,9, -999.000,9
           NA,    P03E,    157,   1,-999.0,       8,  2,19850423,1856,  24.1017, -167.1683,  2856,  303.000,   12.429,   34.377,2,   34.377,2, -999.000,9,  210.700,2,   11.160,2,   11.160,2,    0.010,2,    0.800,2, -999.000,9, -999.000,9, -999.000,9, -999.000,9, -999.000,9
           NA,    P03E,    157,   1,-999.0,       9,  2,19850423,1856,  24.1017, -167.1683,  2856,  403.200,    9.938,   34.205,2,   34.205,2, -999.000,9,  193.300,2,   22.550,2,   17.530,2,    0.000,2,    1.220,2, -999.000,9, -999.000,9, -999.000,9, -999.000,9, -999.000,9
           NA,    P03E,    157,   1,-999.0,      10,  2,19850423,1856,  24.1017, -167.1683,  2856,  504.300,    7.659,   34.109,2,   34.109,2, -999.000,9,  143.500,2,   44.190,2,   26.430,2,    0.000,2,    1.820,2, -999.000,9, -999.000,9, -999.000,9, -999.000,9, -999.000,9
           NA,    P03E,    157,   1,-999.0,      11,  2,19850423,1856,  24.1017, -167.1683,  2856,  605.700,    6.427,   34.118,2,   34.118,2, -999.000,9,  102.700,2,   61.950,2,   32.550,2,    0.000,2,    2.250,2, -999.000,9, -999.000,9, -999.000,9, -999.000,9, -999.000,9
           NA,    P03E,    157,   1,-999.0,      12,  2,19850423,1856,  24.1017, -167.1683,  2856,  707.300,    5.255,   34.178,2,   34.179,2, -999.000,9,   61.500,2,   80.570,2,   38.120,2,    0.000,2,    2.660,2, -999.000,9, -999.000,9, -999.000,9, -999.000,9, -999.000,9
           NA,    P03E,    157,   1,-999.0,      13,  2,19850423,1856,  24.1017, -167.1683,  2856,  808.800,    4.613,   34.287,2,   34.286,2, -999.000,9,   44.900,2,   95.100,2,   40.770,2,    0.000,2,    2.830,2, -999.000,9, -999.000,9, -999.000,9, -999.000,9, -999.000,9
           NA,    P03E,    157,   1,-999.0,      14,  2,19850423,1856,  24.1017, -167.1683,  2856,  909.700,    4.259,   34.359,2,   34.360,2, -999.000,9,   42.600,2,  103.870,2,   41.540,2,    0.000,2,    2.900,2, -999.000,9, -999.000,9, -999.000,9, -999.000,9, -999.000,9
           NA,    P03E,    157,   1,-999.0,      15,  2,19850423,1856,  24.1017, -167.1683,  2856, 1011.300,    3.951,   34.418,2,   34.417,2, -999.000,9,   45.200,2,  111.000,2,   41.840,2,    0.000,2,    2.930,2, -999.000,9, -999.000,9, -999.000,9, -999.000,9, -999.000,9
           NA,    P03E,    157,   1,-999.0,      16,  2,19850423,1856,  24.1017, -167.1683,  2856, 1162.300,    3.511,   34.484,2,   34.483,2, -999.000,9,   55.200,2,  120.210,2,   41.710,2,    0.000,2,    2.910,2, -999.000,9, -999.000,9, -999.000,9, -999.000,9, -999.000,9
           NA,    P03E,    157,   1,-999.0,      38,  2,19850423,1856,  24.1017, -167.1683,  2856, 1313.400,    3.112,   34.519,2,   34.518,2, -999.000,9,   61.400,2,  129.650,2,   41.480,2,    0.000,2,    2.890,2, -999.000,9, -999.000,9, -999.000,9, -999.000,9, -999.000,9
           NA,    P03E,    157,   1,-999.0,      18,  2,19850423,1856,  24.1017, -167.1683,  2856, 1514.900,    2.722,   34.556,2,   34.556,2, -999.000,9,   71.900,2,  137.850,2,   41.200,2,    0.000,2,    2.850,2, -999.000,9, -999.000,9, -999.000,9, -999.000,9, -999.000,9
           NA,    P03E,    157,   1,-999.0,      19,  2,19850423,1856,  24.1017, -167.1683,  2856, 1716.800,    2.382,   34.588,2,   34.589,2, -999.000,9,   83.800,2,  145.860,2,   40.440,2,    0.000,2,    2.800,2, -999.000,9, -999.000,9, -999.000,9, -999.000,9, -999.000,9
           NA,    P03E,    157,   1,-999.0,      17,  2,19850423,1856,  24.1017, -167.1683,  2856, 1919.100,    2.179,   34.604,2,   34.604,2, -999.000,9,   90.500,2,  150.120,2,   40.160,2,    0.000,2,    2.800,2, -999.000,9, -999.000,9, -999.000,9, -999.000,9, -999.000,9
           NA,    P03E,    157,   1,-999.0,      21,  2,19850423,1856,  24.1017, -167.1683,  2856, 2171.900,    1.928,   34.625,2,   34.626,2, -999.000,9,  101.400,2,  153.960,2,   39.570,2,    0.000,2,    2.720,2, -999.000,9, -999.000,9, -999.000,9, -999.000,9, -999.000,9
           NA,    P03E,    157,   1,-999.0,      39,  2,19850423,1856,  24.1017, -167.1683,  2856, 2422.800,    1.783,   34.639,2,   34.638,2, -999.000,9,  109.000,2,  156.340,2,   39.030,2,    0.000,2,    2.680,2, -999.000,9, -999.000,9, -999.000,9, -999.000,9, -999.000,9
           NA,    P03E,    157,   1,-999.0,      23,  2,19850423,1856,  24.1017, -167.1683,  2856, 2676.500,    1.658,   34.651,2,   34.652,2, -999.000,9,  120.400,2,  157.880,2,   38.280,2,    0.000,2,    2.640,2, -999.000,9, -999.000,9, -999.000,9, -999.000,9, -999.000,9
           NA,    P03E,    157,   1,-999.0,      24,  2,19850423,1856,  24.1017, -167.1683,  2856, 2957.600,    1.544,   34.664,2,   34.664,2, -999.000,9,  131.900,2,  156.480,2,   37.540,2,    0.000,2,    2.560,2, -999.000,9, -999.000,9, -999.000,9, -999.000,9, -999.000,9