BOTTLE,20203103JOAExport
EXPOCODE,SECT_ID,STNNBR,CASTNO,SAMPNO,BTLNBR,BTLNBR_FLAG_W,DATE,TIME,LATITUDE,LONGITUDE,DEPTH,CTDPRS,CTDTMP,CTDSAL,CTDSAL_FLAG_W,SALNTY,SALNTY_FLAG_W,CTDOXY,CTDOXY_FLAG_W,OXYGEN,OXYGEN_FLAG_W,SILCAT,SILCAT_FLAG_W,NITRAT,NITRAT_FLAG_W,NITRIT,NITRIT_FLAG_W,PHSPHT,PHSPHT_FLAG_W,CFC-11,CFC-11_FLAG_W,CFC-12,CFC-12_FLAG_W,SF6,SF6_FLAG_W,TCARBN,TCARBN_FLAG_W,ALKALI,ALKALI_FLAG_W
,,,,,,,,,,,,,DB,ITS-90,PSS-78,,PSS-78,,UMOL/KG,,UMOL/KG,,UMOL/KG,,UMOL/KG,,UMOL/KG,,UMOL/KG,,PMOL/KG,,PMOL/KG,,FMOL/KG,,UMOL/KG,,UMOL/KG
           NA,    P03E,     69,   2,-999.0,       1,  2,19850410,0345,  24.2433, -138.8000,  5166,    3.100,   20.884,   35.168,2,   35.170,2, -999.000,9,  226.600,2,    0.490,2,    0.090,2,    0.000,2,    0.100,2, -999.000,9, -999.000,9, -999.000,9, -999.000,9, -999.000,9
           NA,    P03E,     69,   2,-999.0,       2,  2,19850410,0345,  24.2433, -138.8000,  5166,   27.000,   20.688,   35.243,2,   35.245,2, -999.000,9,  227.000,2,    0.390,2,    0.090,2,    0.000,2,    0.100,2, -999.000,9, -999.000,9, -999.000,9, -999.000,9, -999.000,9
           NA,    P03E,     69,   2,-999.0,       3,  2,19850410,0345,  24.2433, -138.8000,  5166,   46.100,   20.576,   35.273,2,   35.273,2, -999.000,9,  226.600,2,    0.390,2,    0.090,2,    0.000,2,    0.090,2, -999.000,9, -999.000,9, -999.000,9, -999.000,9, -999.000,9
           NA,    P03E,     69,   2,-999.0,       4,  2,19850410,0345,  24.2433, -138.8000,  5166,   65.800,   20.560,   35.302,2,   35.301,2, -999.000,9,  225.700,2,    0.390,2,    0.040,2,    0.000,2,    0.090,2, -999.000,9, -999.000,9, -999.000,9, -999.000,9, -999.000,9
           NA,    P03E,     69,   2,-999.0,       5,  2,19850410,0345,  24.2433, -138.8000,  5166,   96.100,   20.441,   35.328,2,   35.325,2, -999.000,9,  224.400,2,    0.390,2,    0.040,2,    0.000,2,    0.090,2, -999.000,9, -999.000,9, -999.000,9, -999.000,9, -999.000,9
           NA,    P03E,     69,   2,-999.0,       6,  2,19850410,0345,  24.2433, -138.8000,  5166,  135.800,   19.804,   35.354,2,   35.358,2, -999.000,9,  223.100,2,    0.390,2,    0.160,2,    0.110,2,    0.080,2, -999.000,9, -999.000,9, -999.000,9, -999.000,9, -999.000,9
           NA,    P03E,     69,   2,-999.0,       7,  2,19850410,0345,  24.2433, -138.8000,  5166,  186.800,   19.251,   35.263,2,   35.267,2, -999.000,9,  222.200,2,    0.780,2,    0.290,2,    0.110,2,    0.110,2, -999.000,9, -999.000,9, -999.000,9, -999.000,9, -999.000,9
           NA,    P03E,     69,   2,-999.0,       8,  2,19850410,0345,  24.2433, -138.8000,  5166,  237.400,   15.564,   34.531,2,   34.546,2, -999.000,9,  209.000,2,    3.620,2,    3.700,2,    0.020,2,    0.370,2, -999.000,9, -999.000,9, -999.000,9, -999.000,9, -999.000,9
           NA,    P03E,     69,   2,-999.0,       9,  2,19850410,0345,  24.2433, -138.8000,  5166,  288.600,   12.367,   34.174,2,   34.168,2, -999.000,9,  213.300,2,    8.120,2,    8.730,2,    0.010,2,    0.670,2, -999.000,9, -999.000,9, -999.000,9, -999.000,9, -999.000,9
           NA,    P03E,     69,   2,-999.0,      10,  2,19850410,0345,  24.2433, -138.8000,  5166,  339.300,   10.393,   34.073,2,   34.069,2, -999.000,9,  204.100,2,   15.550,2,   14.570,2,    0.010,2,    1.050,2, -999.000,9, -999.000,9, -999.000,9, -999.000,9, -999.000,9
           NA,    P03E,     69,   2,-999.0,      11,  2,19850410,0345,  24.2433, -138.8000,  5166,  399.500,    8.396,   34.033,2,   34.033,2, -999.000,9,  171.000,2,   29.730,2,   22.590,2,    0.000,2,    1.550,2, -999.000,9, -999.000,9, -999.000,9, -999.000,9, -999.000,9
           NA,    P03E,     69,   2,-999.0,      12,  2,19850410,0345,  24.2433, -138.8000,  5166,  460.100,    7.120,   34.023,2,   34.024,2, -999.000,9,  123.500,2,   45.670,2,   29.830,2,    0.000,2,    2.050,2, -999.000,9, -999.000,9, -999.000,9, -999.000,9, -999.000,9
           NA,    P03E,     69,   2,-999.0,      13,  2,19850410,0345,  24.2433, -138.8000,  5166,  530.400,    6.019,   34.056,2,   34.058,2, -999.000,9,   70.900,2,   64.930,2,   36.870,2,    0.000,2,    2.520,2, -999.000,9, -999.000,9, -999.000,9, -999.000,9, -999.000,9
           NA,    P03E,     69,   2,-999.0,      14,  2,19850410,0345,  24.2433, -138.8000,  5166,  610.000,    5.062,   34.114,2,   34.112,2, -999.000,9,   43.900,2,   83.600,2,   41.460,2,    0.000,2,    2.820,2, -999.000,9, -999.000,9, -999.000,9, -999.000,9, -999.000,9
           NA,    P03E,     69,   2,-999.0,      15,  2,19850410,0345,  24.2433, -138.8000,  5166,  710.900,    4.638,   34.285,2,   34.287,2, -999.000,9,   20.000,2,   99.040,2,   44.090,2,    0.000,2,    3.020,2, -999.000,9, -999.000,9, -999.000,9, -999.000,9, -999.000,9
           NA,    P03E,     69,   2,-999.0,      16,  2,19850410,0345,  24.2433, -138.8000,  5166,  811.800,    4.438,   34.391,2,   34.390,2, -999.000,9,   24.300,2,  103.040,2,   44.580,2,    0.000,2,    3.030,2, -999.000,9, -999.000,9, -999.000,9, -999.000,9, -999.000,9
           NA,    P03E,     69,   2,-999.0,      17,  2,19850410,0345,  24.2433, -138.8000,  5166,  912.500,    4.152,   34.457,2,   34.455,2, -999.000,9,   34.800,2,  108.510,2,   44.480,2,    0.000,2,    3.010,2, -999.000,9, -999.000,9, -999.000,9, -999.000,9, -999.000,9
           NA,    P03E,     69,   2,-999.0,      18,  2,19850410,0345,  24.2433, -138.8000,  5166, 1063.700,    3.800,   34.504,2,   34.501,2, -999.000,9,   40.900,2,  115.550,2,   44.380,2, -999.000,5,    3.010,2, -999.000,9, -999.000,9, -999.000,9, -999.000,9, -999.000,9
           NA,    P03E,     69,   2,-999.0,      19,  2,19850410,0345,  24.2433, -138.8000,  5166, 1215.000,    3.409,   34.534,2,   34.533,2, -999.000,9,   47.400,2,  124.630,2,   44.090,2,    0.000,2,    2.980,2, -999.000,9, -999.000,9, -999.000,9, -999.000,9, -999.000,9
           NA,    P03E,     69,   2,-999.0,      20,  2,19850410,0345,  24.2433, -138.8000,  5166, 1417.600,    2.965,   34.560,2,   34.559,2, -999.000,9,   57.800,2,  135.870,2,   43.600,2,    0.000,2,    2.940,2, -999.000,9, -999.000,9, -999.000,9, -999.000,9, -999.000,9
           NA,    P03E,     69,   2,-999.0,      21,  2,19850410,0345,  24.2433, -138.8000,  5166, 1618.900,    2.602,   34.583,2,   34.587,2, -999.000,9,   69.100,2,  143.690,2,   42.910,2,    0.000,2,    2.880,2, -999.000,9, -999.000,9, -999.000,9, -999.000,9, -999.000,9
           NA,    P03E,     69,   2,-999.0,      22,  2,19850410,0345,  24.2433, -138.8000,  5166, 1820.700,    2.324,   34.601,2,   34.600,2, -999.000,9,   76.900,2,  150.920,2,   42.520,2,    0.000,2,    2.830,2, -999.000,9, -999.000,9, -999.000,9, -999.000,9, -999.000,9
           NA,    P03E,     69,   2,-999.0,      23,  2,19850410,0345,  24.2433, -138.8000,  5166, 2020.800,    2.083,   34.618,2,   34.617,2, -999.000,9,   86.000,2,  156.980,2,   41.930,2,    0.000,2,    2.800,2, -999.000,9, -999.000,9, -999.000,9, -999.000,9, -999.000,9
           NA,    P03E,     69,   2,-999.0,      24,  2,19850410,0345,  24.2433, -138.8000,  5166, 2223.100,    1.906,   34.632,2,   34.633,2, -999.000,9,   93.900,2,  161.670,2,   41.440,2,    0.000,2,    2.740,2, -999.000,9, -999.000,9, -999.000,9, -999.000,9, -999.000,9
           NA,    P03E,     69,   2,-999.0,      27,  2,19850410,0345,  24.2433, -138.8000,  5166, 2526.100,    1.722,   34.648,2,   34.647,2, -999.000,9,  106.000,2,  165.580,2,   40.470,2,    0.000,2,    2.690,2, -999.000,9, -999.000,9, -999.000,9, -999.000,9, -999.000,9
           NA,    P03E,     69,   2,-999.0,      26,  2,19850410,0345,  24.2433, -138.8000,  5166, 2526.400,    1.722,   34.648,2,   34.648,2, -999.000,9,  106.000,2,  166.260,2,   40.470,2,    0.000,2,    2.670,2, -999.000,9, -999.000,9, -999.000,9, -999.000,9, -999.000,9
           NA,    P03E,     69,   2,-999.0,      25,  2,19850410,0345,  24.2433, -138.8000,  5166, 2526.500,    1.722,   34.648,2,   34.648,2, -999.000,9,  105.600,2,  165.770,2,   40.470,2,    0.000,2,    2.690,2, -999.000,9, -999.000,9, -999.000,9, -999.000,9, -999.000,9
           NA,    P03E,     69,   2,-999.0,      28,  2,19850410,0345,  24.2433, -138.8000,  5166, 2827.500,    1.593,   34.660,2,   34.660,2, -999.000,9,  119.500,2,  166.460,2,   39.780,2,    0.000,2,    2.620,2, -999.000,9, -999.000,9, -999.000,9, -999.000,9, -999.000,9
           NA,    P03E,     69,   2,-999.0,      29,  2,19850410,0345,  24.2433, -138.8000,  5166, 3127.700,    1.524,   34.669,2,   34.668,2, -999.000,9,  127.800,2,  165.190,2,   39.000,2,    0.000,2,    2.570,2, -999.000,9, -999.000,9, -999.000,9, -999.000,9, -999.000,9
           NA,    P03E,     69,   2,-999.0,      30,  2,19850410,0345,  24.2433, -138.8000,  5166, 3434.400,    1.488,   34.675,2,   34.674,2, -999.000,9,  136.000,2,  162.250,2,   38.410,2,    0.000,2,    2.520,2, -999.000,9, -999.000,9, -999.000,9, -999.000,9, -999.000,9
           NA,    P03E,     69,   2,-999.0,      31,  2,19850410,0345,  24.2433, -138.8000,  5166, 3741.700,    1.474,   34.679,2,   34.678,2, -999.000,9,  143.000,2,  159.220,2,   38.020,2,    0.000,2,    2.480,2, -999.000,9, -999.000,9, -999.000,9, -999.000,9, -999.000,9
           NA,    P03E,     69,   2,-999.0,      32,  2,19850410,0345,  24.2433, -138.8000,  5166, 4047.600,    1.480,   34.682,2,   34.680,2, -999.000,9,  147.300,2,  157.170,2,   37.630,2,    0.000,2,    2.450,2, -999.000,9, -999.000,9, -999.000,9, -999.000,9, -999.000,9
           NA,    P03E,     69,   2,-999.0,      37,  2,19850410,0345,  24.2433, -138.8000,  5166, 4356.500,    1.491,   34.684,2,   34.682,2, -999.000,9,  151.200,2,  153.850,2,   37.440,2,    0.000,2,    2.430,2, -999.000,9, -999.000,9, -999.000,9, -999.000,9, -999.000,9
           NA,    P03E,     69,   2,-999.0,      34,  2,19850410,0345,  24.2433, -138.8000,  5166, 4663.500,    1.483,   34.687,2,   34.686,2, -999.000,9,  157.700,2,  148.370,2,   36.850,2,    0.000,2,    2.400,2, -999.000,9, -999.000,9, -999.000,9, -999.000,9, -999.000,9
           NA,    P03E,     69,   2,-999.0,      35,  2,19850410,0345,  24.2433, -138.8000,  5166, 4970.400,    1.462,   34.690,2,   34.690,2, -999.000,9,  167.700,2,  140.650,2,   36.070,2,    0.000,2,    2.360,2, -999.000,9, -999.000,9, -999.000,9, -999.000,9, -999.000,9
           NA,    P03E,     69,   2,-999.0,      36,  2,19850410,0345,  24.2433, -138.8000,  5166, 5243.200,    1.488,   34.691,2,   34.690,2, -999.000,9,  167.700,2,  139.480,2,   35.970,2,    0.000,2,    2.350,2, -999.000,9, -999.000,9, -999.000,9, -999.000,9, -999.000,9