BOTTLE,20203103JOAExport
EXPOCODE,SECT_ID,STNNBR,CASTNO,SAMPNO,BTLNBR,BTLNBR_FLAG_W,DATE,TIME,LATITUDE,LONGITUDE,DEPTH,CTDPRS,CTDTMP,CTDSAL,CTDSAL_FLAG_W,SALNTY,SALNTY_FLAG_W,CTDOXY,CTDOXY_FLAG_W,OXYGEN,OXYGEN_FLAG_W,SILCAT,SILCAT_FLAG_W,NITRAT,NITRAT_FLAG_W,NITRIT,NITRIT_FLAG_W,PHSPHT,PHSPHT_FLAG_W,CFC-11,CFC-11_FLAG_W,CFC-12,CFC-12_FLAG_W,SF6,SF6_FLAG_W,TCARBN,TCARBN_FLAG_W,ALKALI,ALKALI_FLAG_W
,,,,,,,,,,,,,DB,ITS-90,PSS-78,,PSS-78,,UMOL/KG,,UMOL/KG,,UMOL/KG,,UMOL/KG,,UMOL/KG,,UMOL/KG,,PMOL/KG,,PMOL/KG,,FMOL/KG,,UMOL/KG,,UMOL/KG
           NA,    P03E,    126,   1,-999.0,      25,  2,19850419,1525,  24.6700, -160.5317,  4855,    1.700,   22.947,   35.285,2,   35.287,2, -999.000,9,  216.700,2,    0.590,2,    0.040,2,    0.000,2,    0.100,2,    1.653,2,    0.863,2, -999.000,9, -999.000,9, -999.000,9
           NA,    P03E,    126,   1,-999.0,      26,  2,19850419,1525,  24.6700, -160.5317,  4855,   23.800,   22.957,   35.286,2,   35.288,2, -999.000,9,  217.600,2,    0.590,2,    0.040,2,    0.000,2,    0.080,2, -999.000,9, -999.000,9, -999.000,9, -999.000,9, -999.000,9
           NA,    P03E,    126,   1,-999.0,      27,  2,19850419,1525,  24.6700, -160.5317,  4855,   43.800,   22.959,   35.287,2,   35.289,2, -999.000,9,  217.600,2,    0.490,2,    0.040,2,    0.000,2,    0.080,2,    1.629,2,    0.834,2, -999.000,9, -999.000,9, -999.000,9
           NA,    P03E,    126,   1,-999.0,      28,  2,19850419,1525,  24.6700, -160.5317,  4855,   73.900,   22.579,   35.287,2,   35.288,2, -999.000,9,  211.900,2,    0.490,2,    0.040,2,    0.000,2,    0.080,2, -999.000,9, -999.000,9, -999.000,9, -999.000,9, -999.000,9
           NA,    P03E,    126,   1,-999.0,      29,  2,19850419,1525,  24.6700, -160.5317,  4855,  104.100,   21.950,   35.299,2,   35.295,2, -999.000,9,  213.600,2,    0.590,2,    0.160,2,    0.060,2,    0.080,2, -999.000,9, -999.000,9, -999.000,9, -999.000,9, -999.000,9
           NA,    P03E,    126,   1,-999.0,      30,  2,19850419,1525,  24.6700, -160.5317,  4855,  144.500,   20.595,   35.165,2,   35.168,2, -999.000,9,  209.200,2,    1.470,2,    0.580,2,    0.230,2,    0.130,2, -999.000,9, -999.000,9, -999.000,9, -999.000,9, -999.000,9
           NA,    P03E,    126,   1,-999.0,      31,  2,19850419,1525,  24.6700, -160.5317,  4855,  184.400,   17.863,   34.868,2,   34.850,2, -999.000,9,  196.000,2,    3.320,2,    4.040,2,    0.020,2,    0.350,2,    1.735,2,    0.852,2, -999.000,9, -999.000,9, -999.000,9
           NA,    P03E,    126,   1,-999.0,      32,  2,19850419,1525,  24.6700, -160.5317,  4855,  225.000,   15.914,   34.678,2,   34.674,2, -999.000,9,  208.600,2,    4.300,2,    5.410,2,    0.010,2,    0.430,2, -999.000,9, -999.000,9, -999.000,9, -999.000,9, -999.000,9
           NA,    P03E,    126,   1,-999.0,      37,  2,19850419,1525,  24.6700, -160.5317,  4855,  266.200,   14.349,   34.524,2,   34.514,2, -999.000,9,  207.200,2,    7.230,2,    7.930,2,    0.010,2,    0.630,2,    1.873,2,    0.915,2, -999.000,9, -999.000,9, -999.000,9
           NA,    P03E,    126,   1,-999.0,      34,  2,19850419,1525,  24.6700, -160.5317,  4855,  306.300,   12.870,   34.362,2,   34.356,2, -999.000,9,  199.400,2,   10.460,2,   10.750,2,    0.010,2,    0.810,2,    1.692,2,    0.834,2, -999.000,9, -999.000,9, -999.000,9
           NA,    P03E,    126,   1,-999.0,      35,  2,19850419,1525,  24.6700, -160.5317,  4855,  346.400,   11.873,   34.289,2,   34.288,2, -999.000,9,  204.600,2,   12.610,2,   12.320,2,    0.000,2,    0.910,2,    1.663,2,    0.808,2, -999.000,9, -999.000,9, -999.000,9
           NA,    P03E,    126,   1,-999.0,      36,  2,19850419,1525,  24.6700, -160.5317,  4855,  396.500,   10.817,   34.234,2,   34.235,2, -999.000,9,  206.700,2,   16.230,2,   14.370,2,    0.000,2,    1.030,2,    1.630,2,    0.793,2, -999.000,9, -999.000,9, -999.000,9
           NA,    P03E,    126,   1,-999.0,       1,  2,19850419,1525,  24.6700, -160.5317,  4855,  457.400,    9.151,   34.130,2,   34.187,2, -999.000,9,  171.900,2,   27.080,2,   20.730,2,    0.000,2,    1.490,2,    0.945,2,    0.471,2, -999.000,9, -999.000,9, -999.000,9
           NA,    P03E,    126,   1,-999.0,       2,  2,19850419,1525,  24.6700, -160.5317,  4855,  518.300,    7.447,   34.069,2,   34.067,2, -999.000,9,  146.200,2,   40.580,2,   26.600,2,    0.000,2,    1.890,2,    0.609,2,    0.317,2, -999.000,9, -999.000,9, -999.000,9
           NA,    P03E,    126,   1,-999.0,       3,  2,19850419,1525,  24.6700, -160.5317,  4855,  578.600,    6.353,   34.065,2,   34.066,2, -999.000,9,  101.300,2,   57.890,2,   33.050,2,    0.000,2,    2.340,2,    0.232,6,    0.125,6, -999.000,9, -999.000,9, -999.000,9
           NA,    P03E,    126,   1,-999.0,       4,  2,19850419,1525,  24.6700, -160.5317,  4855,  649.600,    5.368,   34.096,2,   34.097,2, -999.000,9,   67.800,2,   74.120,2,   37.740,2,    0.000,2,    2.700,2,    0.079,2,    0.049,6, -999.000,9, -999.000,9, -999.000,9
           NA,    P03E,    126,   1,-999.0,       5,  2,19850419,1525,  24.6700, -160.5317,  4855,  729.700,    4.713,   34.160,2,   34.160,2, -999.000,9,   38.700,2,   89.370,2,   41.360,2,    0.000,2,    2.940,2,    0.020,2,    0.005,6, -999.000,9, -999.000,9, -999.000,9
           NA,    P03E,    126,   1,-999.0,       6,  2,19850419,1525,  24.6700, -160.5317,  4855,  810.400,    4.300,   34.267,2,   34.269,2, -999.000,9,   26.100,2,  103.540,2,   43.020,2,    0.000,2,    3.060,2,    0.012,2,   -0.001,2, -999.000,9, -999.000,9, -999.000,9
           NA,    P03E,    126,   1,-999.0,       7,  2,19850419,1525,  24.6700, -160.5317,  4855,  911.500,    3.939,   34.374,2,   34.372,2, -999.000,9,   28.700,2,  112.720,2,   43.210,2,    0.000,2,    3.080,2,   -0.007,2,   -0.004,2, -999.000,9, -999.000,9, -999.000,9
           NA,    P03E,    126,   1,-999.0,       8,  2,19850419,1525,  24.6700, -160.5317,  4855, 1012.200,    3.752,   34.428,2,   34.429,2, -999.000,9,   37.800,2,  116.920,2,   43.010,2,    0.000,2,    3.050,2, -999.000,9, -999.000,9, -999.000,9, -999.000,9, -999.000,9
           NA,    P03E,    126,   1,-999.0,       9,  2,19850419,1525,  24.6700, -160.5317,  4855, 1113.100,    3.557,   34.467,2,   34.468,2, -999.000,9,   44.300,2,  120.140,2,   42.620,2,    0.000,2,    3.010,2,    0.001,2,   -0.005,2, -999.000,9, -999.000,9, -999.000,9
           NA,    P03E,    126,   1,-999.0,      10,  2,19850419,1525,  24.6700, -160.5317,  4855, 1263.600,    3.266,   34.510,2,   34.511,2, -999.000,9,   55.200,2,  125.810,2,   42.130,2,    0.000,2,    2.970,2, -999.000,9, -999.000,9, -999.000,9, -999.000,9, -999.000,9
           NA,    P03E,    126,   1,-999.0,      11,  2,19850419,1525,  24.6700, -160.5317,  4855, 1414.900,    2.952,   34.542,2,   34.541,2, -999.000,9,   63.000,2,  132.260,2,   41.840,2,    0.000,2,    2.950,2, -999.000,9, -999.000,9, -999.000,9, -999.000,9, -999.000,9
           NA,    P03E,    126,   1,-999.0,      12,  2,19850419,1525,  24.6700, -160.5317,  4855, 1617.300,    2.622,   34.570,2,   34.570,2, -999.000,9,   72.100,2,  139.290,2,   41.640,2,    0.000,2,    2.910,2,    0.000,2,   -0.004,2, -999.000,9, -999.000,9, -999.000,9
           NA,    P03E,    126,   1,-999.0,      13,  2,19850419,1525,  24.6700, -160.5317,  4855, 1819.700,    2.306,   34.595,2,   34.594,2, -999.000,9,   79.500,2,  146.430,2,   41.150,2,    0.000,2,    2.870,2, -999.000,9, -999.000,9, -999.000,9, -999.000,9, -999.000,9
           NA,    P03E,    126,   1,-999.0,      14,  2,19850419,1525,  24.6700, -160.5317,  4855, 2021.600,    2.043,   34.614,2,   34.615,2, -999.000,9,   89.500,2,  153.660,2,   40.470,2,    0.000,2,    2.820,2, -999.000,9, -999.000,9, -999.000,9, -999.000,9, -999.000,9
           NA,    P03E,    126,   1,-999.0,      15,  2,19850419,1525,  24.6700, -160.5317,  4855, 2224.800,    1.873,   34.629,2,   34.629,2, -999.000,9,   96.500,2,  159.030,2,   40.170,2,    0.000,2,    2.790,2,    0.001,2,   -0.003,2, -999.000,9, -999.000,9, -999.000,9
           NA,    P03E,    126,   1,-999.0,      16,  2,19850419,1525,  24.6700, -160.5317,  4855, 2529.600,    1.684,   34.647,2,   34.648,2, -999.000,9,  110.800,2,  159.710,2,   39.200,2,    0.000,2,    2.730,2, -999.000,9, -999.000,9, -999.000,9, -999.000,9, -999.000,9
           NA,    P03E,    126,   1,-999.0,      38,  2,19850419,1525,  24.6700, -160.5317,  4855, 2832.400,    1.564,   34.661,2,   34.662,2, -999.000,9,  123.800,2,  158.440,2,   38.510,2,    0.000,2,    2.640,2,    0.013,2,    0.006,2, -999.000,9, -999.000,9, -999.000,9
           NA,    P03E,    126,   1,-999.0,      18,  2,19850419,1525,  24.6700, -160.5317,  4855, 3136.000,    1.502,   34.670,2, -999.000,5, -999.000,9,  134.300,2,  155.120,2,   37.730,2,    0.000,2,    2.600,2, -999.000,9, -999.000,9, -999.000,9, -999.000,9, -999.000,9
           NA,    P03E,    126,   1,-999.0,      19,  2,19850419,1525,  24.6700, -160.5317,  4855, 3443.200,    1.462,   34.676,2,   34.677,2, -999.000,9,  141.700,2,  153.060,2,   37.240,2,    0.000,2,    2.550,2, -999.000,9, -999.000,9, -999.000,9, -999.000,9, -999.000,9
           NA,    P03E,    126,   1,-999.0,      24,  2,19850419,1525,  24.6700, -160.5317,  4855, 3749.300,    1.457,   34.680,2,   34.680,2, -999.000,9,  146.400,2,  152.380,2,   36.950,2,    0.000,2,    2.510,2,   -0.001,2,   -0.001,2, -999.000,9, -999.000,9, -999.000,9
           NA,    P03E,    126,   1,-999.0,      21,  2,19850419,1525,  24.6700, -160.5317,  4855, 4054.300,    1.458,   34.683,2,   34.683,2, -999.000,9,  150.800,2,  149.250,2,   36.560,2,    0.000,2,    2.510,2, -999.000,9, -999.000,9, -999.000,9, -999.000,9, -999.000,9
           NA,    P03E,    126,   1,-999.0,      39,  2,19850419,1525,  24.6700, -160.5317,  4855, 4361.900,    1.478,   34.684,2,   34.684,2, -999.000,9,  156.000,2,  147.690,2,   36.560,2,    0.000,2,    2.500,2,    0.003,2,   -0.002,2, -999.000,9, -999.000,9, -999.000,9
           NA,    P03E,    126,   1,-999.0,      23,  2,19850419,1525,  24.6700, -160.5317,  4855, 4668.500,    1.504,   34.685,2,   34.685,2, -999.000,9,  156.400,2,  147.390,2,   36.360,2,    0.000,2,    2.470,2, -999.000,9, -999.000,9, -999.000,9, -999.000,9, -999.000,9
           NA,    P03E,    126,   1,-999.0,      20,  2,19850419,1525,  24.6700, -160.5317,  4855, 4924.200,    1.524,   34.687,2,   34.686,2, -999.000,9,  157.300,2,  146.320,2,   36.160,2,    0.000,2,    2.480,2, -999.000,9, -999.000,9, -999.000,9, -999.000,9, -999.000,9