BOTTLE,20203103JOAExport
EXPOCODE,SECT_ID,STNNBR,CASTNO,SAMPNO,BTLNBR,BTLNBR_FLAG_W,DATE,TIME,LATITUDE,LONGITUDE,DEPTH,CTDPRS,CTDTMP,CTDSAL,CTDSAL_FLAG_W,SALNTY,SALNTY_FLAG_W,CTDOXY,CTDOXY_FLAG_W,OXYGEN,OXYGEN_FLAG_W,SILCAT,SILCAT_FLAG_W,NITRAT,NITRAT_FLAG_W,NITRIT,NITRIT_FLAG_W,PHSPHT,PHSPHT_FLAG_W,CFC-11,CFC-11_FLAG_W,CFC-12,CFC-12_FLAG_W,SF6,SF6_FLAG_W,TCARBN,TCARBN_FLAG_W,ALKALI,ALKALI_FLAG_W
,,,,,,,,,,,,,DB,ITS-90,PSS-78,,PSS-78,,UMOL/KG,,UMOL/KG,,UMOL/KG,,UMOL/KG,,UMOL/KG,,UMOL/KG,,PMOL/KG,,PMOL/KG,,FMOL/KG,,UMOL/KG,,UMOL/KG
           NA,    P03E,    124,   1,-999.0,       1,  2,19850419,0811,  24.4683, -159.7800,  4494,    0.900,   22.981,   35.267,2,   35.271,2, -999.000,9,  217.600,2,    1.810,2,    0.030,2,    0.010,2,    0.060,2, -999.000,9, -999.000,9, -999.000,9, -999.000,9, -999.000,9
           NA,    P03E,    124,   1,-999.0,       2,  2,19850419,0811,  24.4683, -159.7800,  4494,   24.000,   22.840,   35.279,2,   35.282,2, -999.000,9,  218.000,2,    1.760,2,    0.040,2,    0.000,2,    0.060,2, -999.000,9, -999.000,9, -999.000,9, -999.000,9, -999.000,9
           NA,    P03E,    124,   1,-999.0,       3,  2,19850419,0811,  24.4683, -159.7800,  4494,   43.700,   22.799,   35.285,2,   35.287,2, -999.000,9,  217.600,2,    1.700,2,    0.040,2,    0.000,2,    0.060,2, -999.000,9, -999.000,9, -999.000,9, -999.000,9, -999.000,9
           NA,    P03E,    124,   1,-999.0,       4,  2,19850419,0811,  24.4683, -159.7800,  4494,   73.600,   22.441,   35.293,2,   35.291,2, -999.000,9,  212.800,2,    1.650,2,    0.090,2,    0.040,2,    0.090,2, -999.000,9, -999.000,9, -999.000,9, -999.000,9, -999.000,9
           NA,    P03E,    124,   1,-999.0,       5,  2,19850419,0811,  24.4683, -159.7800,  4494,  104.000,   21.516,   35.237,2,   35.245,2, -999.000,9,  201.800,2,    1.970,2,    0.790,2,    0.110,2,    0.130,2, -999.000,9, -999.000,9, -999.000,9, -999.000,9, -999.000,9
           NA,    P03E,    124,   1,-999.0,       6,  2,19850419,0811,  24.4683, -159.7800,  4494,  144.400,   20.152,   35.095,2,   35.094,2, -999.000,9,  197.400,2,    2.470,2,    2.020,2,    0.020,2,    0.200,2, -999.000,9, -999.000,9, -999.000,9, -999.000,9, -999.000,9
           NA,    P03E,    124,   1,-999.0,       7,  2,19850419,0811,  24.4683, -159.7800,  4494,  184.600,   18.616,   34.931,2,   34.929,2, -999.000,9,  191.700,2,    3.720,2,    3.620,2,    0.020,2,    0.320,2, -999.000,9, -999.000,9, -999.000,9, -999.000,9, -999.000,9
           NA,    P03E,    124,   1,-999.0,       8,  2,19850419,0811,  24.4683, -159.7800,  4494,  224.800,   16.504,   34.727,2,   34.727,2, -999.000,9,  199.900,2,    5.340,2,    5.180,2,    0.010,2,    0.410,2, -999.000,9, -999.000,9, -999.000,9, -999.000,9, -999.000,9
           NA,    P03E,    124,   1,-999.0,       9,  2,19850419,0811,  24.4683, -159.7800,  4494,  264.900,   14.452,   34.535,2,   34.528,2, -999.000,9,  209.000,2,    7.330,2,    7.470,2,    0.010,2,    0.550,2, -999.000,9, -999.000,9, -999.000,9, -999.000,9, -999.000,9
           NA,    P03E,    124,   1,-999.0,      10,  2,19850419,0811,  24.4683, -159.7800,  4494,  304.600,   13.185,   34.410,2,   34.410,2, -999.000,9,  208.900,2,    9.690,2,    9.480,2,    0.010,2,    0.700,2, -999.000,9, -999.000,9, -999.000,9, -999.000,9, -999.000,9
           NA,    P03E,    124,   1,-999.0,      11,  2,19850419,0811,  24.4683, -159.7800,  4494,  345.600,   12.078,   34.305,2,   34.296,2, -999.000,9,  203.700,2,   12.980,2,   11.870,2,    0.010,2,    0.860,2, -999.000,9, -999.000,9, -999.000,9, -999.000,9, -999.000,9
           NA,    P03E,    124,   1,-999.0,      12,  2,19850419,0811,  24.4683, -159.7800,  4494,  396.500,   10.292,   34.172,2,   34.172,2, -999.000,9,  201.900,2,   19.060,2,   15.900,2,    0.000,2,    1.110,2, -999.000,9, -999.000,9, -999.000,9, -999.000,9, -999.000,9
           NA,    P03E,    124,   1,-999.0,      13,  2,19850419,0811,  24.4683, -159.7800,  4494,  456.900,    8.952,   34.097,2,   34.098,2, -999.000,9,  184.900,2,   27.370,2,   20.190,2,    0.000,2,    1.420,2, -999.000,9, -999.000,9, -999.000,9, -999.000,9, -999.000,9
           NA,    P03E,    124,   1,-999.0,      14,  2,19850419,0811,  24.4683, -159.7800,  4494,  517.900,    7.690,   34.047,2,   34.047,2, -999.000,9,  153.600,2,   39.210,2,   25.810,2,    0.000,2,    1.810,2, -999.000,9, -999.000,9, -999.000,9, -999.000,9, -999.000,9
           NA,    P03E,    124,   1,-999.0,      15,  2,19850419,0811,  24.4683, -159.7800,  4494,  577.700,    6.628,   34.026,2,   34.026,2, -999.000,9,  120.500,2,   53.110,2,   30.790,2,    0.000,2,    2.160,2, -999.000,9, -999.000,9, -999.000,9, -999.000,9, -999.000,9
           NA,    P03E,    124,   1,-999.0,      16,  2,19850419,0811,  24.4683, -159.7800,  4494,  647.800,    5.288,   34.065,2,   34.065,2, -999.000,9,   67.800,2,   76.760,2,   37.940,2,    0.000,2,    2.650,2, -999.000,9, -999.000,9, -999.000,9, -999.000,9, -999.000,9
           NA,    P03E,    124,   1,-999.0,      38,  2,19850419,0811,  24.4683, -159.7800,  4494,  727.500,    4.630,   34.165,2,   34.165,2, -999.000,9,   36.500,2,   94.690,2,   41.590,2,    0.000,2,    2.940,2, -999.000,9, -999.000,9, -999.000,9, -999.000,9, -999.000,9
           NA,    P03E,    124,   1,-999.0,      18,  2,19850419,0811,  24.4683, -159.7800,  4494,  805.600,    4.319,   34.264,2,   34.264,2, -999.000,9,   26.500,2,  105.720,2,   42.900,2,    0.000,2,    3.040,2, -999.000,9, -999.000,9, -999.000,9, -999.000,9, -999.000,9
           NA,    P03E,    124,   1,-999.0,      19,  2,19850419,0811,  24.4683, -159.7800,  4494,  904.600,    4.104,   34.377,2,   34.377,2, -999.000,9,   30.000,2,  111.280,2,   43.100,2,    0.000,2,    3.050,2, -999.000,9, -999.000,9, -999.000,9, -999.000,9, -999.000,9
           NA,    P03E,    124,   1,-999.0,      20,  2,19850419,0811,  24.4683, -159.7800,  4494, 1004.000,    3.887,   34.434,2,   34.434,2, -999.000,9,   38.700,2,  115.150,2,   42.950,2,    0.000,2,    3.020,2, -999.000,9, -999.000,9, -999.000,9, -999.000,9, -999.000,9
           NA,    P03E,    124,   1,-999.0,      21,  2,19850419,0811,  24.4683, -159.7800,  4494, 1108.200,    3.580,   34.478,2,   34.479,2, -999.000,9,   46.900,2,  122.430,2,   42.590,2,    0.000,2,    2.990,2, -999.000,9, -999.000,9, -999.000,9, -999.000,9, -999.000,9
           NA,    P03E,    124,   1,-999.0,      39,  2,19850419,0811,  24.4683, -159.7800,  4494, 1262.500,    3.326,   34.518,2,   34.519,2, -999.000,9,   55.200,2,  128.020,2,   42.230,2,    0.000,2,    2.960,2, -999.000,9, -999.000,9, -999.000,9, -999.000,9, -999.000,9
           NA,    P03E,    124,   1,-999.0,      23,  2,19850419,0811,  24.4683, -159.7800,  4494, 1414.200,    3.016,   34.547,2,   34.547,2, -999.000,9,   63.000,2,  135.340,2,   41.970,2,    0.010,2,    2.940,2, -999.000,9, -999.000,9, -999.000,9, -999.000,9, -999.000,9
           NA,    P03E,    124,   1,-999.0,      24,  2,19850419,0811,  24.4683, -159.7800,  4494, 1617.100,    2.623,   34.574,2,   34.574,2, -999.000,9,   72.100,2,  143.240,2,   41.520,2,    0.010,2,    2.890,2, -999.000,9, -999.000,9, -999.000,9, -999.000,9, -999.000,9
           NA,    P03E,    124,   1,-999.0,      25,  2,19850419,0811,  24.4683, -159.7800,  4494, 1818.500,    2.355,   34.592,2,   34.593,2, -999.000,9,   80.400,2,  148.870,2,   41.110,2,    0.010,2,    2.840,2, -999.000,9, -999.000,9, -999.000,9, -999.000,9, -999.000,9
           NA,    P03E,    124,   1,-999.0,      26,  2,19850419,0811,  24.4683, -159.7800,  4494, 2021.300,    2.074,   34.612,2,   34.613,2, -999.000,9,   90.000,2,  155.470,2,   40.510,2,    0.010,2,    2.810,2, -999.000,9, -999.000,9, -999.000,9, -999.000,9, -999.000,9
           NA,    P03E,    124,   1,-999.0,      27,  2,19850419,0811,  24.4683, -159.7800,  4494, 2225.000,    1.897,   34.627,2,   34.627,2, -999.000,9,   97.300,2,  160.160,2,   40.100,2,    0.010,2,    2.750,2, -999.000,9, -999.000,9, -999.000,9, -999.000,9, -999.000,9
           NA,    P03E,    124,   1,-999.0,      28,  2,19850419,0811,  24.4683, -159.7800,  4494, 2427.300,    1.785,   34.639,2,   34.637,2, -999.000,9,  104.300,2,  162.350,2,   39.550,2,    0.010,2,    2.710,2, -999.000,9, -999.000,9, -999.000,9, -999.000,9, -999.000,9
           NA,    P03E,    124,   1,-999.0,      29,  2,19850419,0811,  24.4683, -159.7800,  4494, 2628.200,    1.686,   34.649,2,   34.649,2, -999.000,9,  111.700,2,  164.540,2,   39.100,2,    0.010,2,    2.680,2, -999.000,9, -999.000,9, -999.000,9, -999.000,9, -999.000,9
           NA,    P03E,    124,   1,-999.0,      30,  2,19850419,0811,  24.4683, -159.7800,  4494, 2880.700,    1.587,   34.660,2,   34.660,2, -999.000,9,  122.500,2,  162.490,2,   38.500,2,    0.010,2,    2.630,2, -999.000,9, -999.000,9, -999.000,9, -999.000,9, -999.000,9
           NA,    P03E,    124,   1,-999.0,      31,  2,19850419,0811,  24.4683, -159.7800,  4494, 3135.900,    1.520,   34.669,2,   34.668,2, -999.000,9,  131.700,2, -999.000,5, -999.000,5, -999.000,5, -999.000,5, -999.000,9, -999.000,9, -999.000,9, -999.000,9, -999.000,9
           NA,    P03E,    124,   1,-999.0,      32,  2,19850419,0811,  24.4683, -159.7800,  4494, 3440.700,    1.485,   34.675,2,   34.674,2, -999.000,9,  139.900,2,  159.550,2,   37.450,2,    0.010,2,    2.530,2, -999.000,9, -999.000,9, -999.000,9, -999.000,9, -999.000,9
           NA,    P03E,    124,   1,-999.0,      37,  2,19850419,0811,  24.4683, -159.7800,  4494, 3744.800,    1.459,   34.680,2,   34.679,2, -999.000,9,  146.000,2,  157.320,2,   36.910,2,    0.010,2,    2.490,2, -999.000,9, -999.000,9, -999.000,9, -999.000,9, -999.000,9
           NA,    P03E,    124,   1,-999.0,      34,  2,19850419,0811,  24.4683, -159.7800,  4494, 4053.500,    1.463,   34.682,2,   34.682,2, -999.000,9,  150.800,2,  154.710,2,   36.610,2,    0.010,2,    2.480,2, -999.000,9, -999.000,9, -999.000,9, -999.000,9, -999.000,9
           NA,    P03E,    124,   1,-999.0,      35,  2,19850419,0811,  24.4683, -159.7800,  4494, 4360.800,    1.481,   34.684,2,   34.684,2, -999.000,9,  154.700,2,  152.300,2,   36.470,2,    0.000,2,    2.460,2, -999.000,9, -999.000,9, -999.000,9, -999.000,9, -999.000,9
           NA,    P03E,    124,   1,-999.0,      36,  2,19850419,0811,  24.4683, -159.7800,  4494, 4554.000,    1.494,   34.685,2,   34.686,2, -999.000,9,  154.300,2,  151.600,2,   36.370,2,    0.000,2,    2.450,2, -999.000,9, -999.000,9, -999.000,9, -999.000,9, -999.000,9