BOTTLE,20203103JOAExport
EXPOCODE,SECT_ID,STNNBR,CASTNO,SAMPNO,BTLNBR,BTLNBR_FLAG_W,DATE,TIME,LATITUDE,LONGITUDE,DEPTH,CTDPRS,CTDTMP,CTDSAL,CTDSAL_FLAG_W,SALNTY,SALNTY_FLAG_W,CTDOXY,CTDOXY_FLAG_W,OXYGEN,OXYGEN_FLAG_W,SILCAT,SILCAT_FLAG_W,NITRAT,NITRAT_FLAG_W,NITRIT,NITRIT_FLAG_W,PHSPHT,PHSPHT_FLAG_W,CFC-11,CFC-11_FLAG_W,CFC-12,CFC-12_FLAG_W,SF6,SF6_FLAG_W,TCARBN,TCARBN_FLAG_W,ALKALI,ALKALI_FLAG_W
,,,,,,,,,,,,,DB,ITS-90,PSS-78,,PSS-78,,UMOL/KG,,UMOL/KG,,UMOL/KG,,UMOL/KG,,UMOL/KG,,UMOL/KG,,PMOL/KG,,PMOL/KG,,FMOL/KG,,UMOL/KG,,UMOL/KG
           NA,    P03E,    193,   1,-999.0,       1,  2,19850429,0736,  24.2550, -178.3717,  5557,    3.600,   23.666,   35.354,2,   35.355,2, -999.000,9,  214.100,2,    1.070,2,    0.040,2,    0.000,2,    0.050,2, -999.000,9, -999.000,9, -999.000,9, -999.000,9, -999.000,9
           NA,    P03E,    193,   1,-999.0,       2,  2,19850429,0736,  24.2550, -178.3717,  5557,   23.400,   22.960,   35.314,2,   35.319,2, -999.000,9,  215.000,2,    1.180,2,    0.040,2,    0.000,2,    0.060,2, -999.000,9, -999.000,9, -999.000,9, -999.000,9, -999.000,9
           NA,    P03E,    193,   1,-999.0,       3,  2,19850429,0736,  24.2550, -178.3717,  5557,   43.900,   21.976,   35.244,2,   35.242,2, -999.000,9,  213.200,2,    1.290,2,    0.040,2,    0.000,2,    0.070,2, -999.000,9, -999.000,9, -999.000,9, -999.000,9, -999.000,9
           NA,    P03E,    193,   1,-999.0,       4,  2,19850429,0736,  24.2550, -178.3717,  5557,   73.600,   20.483,   35.118,2,   35.115,2, -999.000,9,  228.400,2,    1.400,2,    0.040,2,    0.000,2,    0.050,2, -999.000,9, -999.000,9, -999.000,9, -999.000,9, -999.000,9
           NA,    P03E,    193,   1,-999.0,       5,  2,19850429,0736,  24.2550, -178.3717,  5557,  103.700,   18.833,   34.967,2, -999.000,5, -999.000,9,  225.200,2,    1.700,2,    0.040,2,    0.000,2,    0.100,2, -999.000,9, -999.000,9, -999.000,9, -999.000,9, -999.000,9
           NA,    P03E,    193,   1,-999.0,       6,  2,19850429,0736,  24.2550, -178.3717,  5557,  144.400,   17.115,   34.781,2,   34.782,2, -999.000,9,  212.600,2,    2.950,2,    3.080,2,    0.030,2,    0.290,2, -999.000,9, -999.000,9, -999.000,9, -999.000,9, -999.000,9
           NA,    P03E,    193,   1,-999.0,       7,  2,19850429,0736,  24.2550, -178.3717,  5557,  184.100,   15.933,   34.701,2,   34.700,2, -999.000,9,  211.600,2,    4.390,2,    5.730,2,    0.010,2,    0.420,2, -999.000,9, -999.000,9, -999.000,9, -999.000,9, -999.000,9
           NA,    P03E,    193,   1,-999.0,       8,  2,19850429,0736,  24.2550, -178.3717,  5557,  234.100,   14.998,   34.625,2,   34.622,2, -999.000,9,  208.100,2,    6.590,2,    7.400,2,    0.000,2,    0.550,2, -999.000,9, -999.000,9, -999.000,9, -999.000,9, -999.000,9
           NA,    P03E,    193,   1,-999.0,       9,  2,19850429,0736,  24.2550, -178.3717,  5557,  285.000,   14.075,   34.542,2,   34.545,2, -999.000,9,  211.600,2,    7.840,2,    8.430,2,    0.000,2,    0.620,2, -999.000,9, -999.000,9, -999.000,9, -999.000,9, -999.000,9
           NA,    P03E,    193,   1,-999.0,      10,  2,19850429,0736,  24.2550, -178.3717,  5557,  334.500,   12.876,   34.440,2,   34.436,2, -999.000,9,  211.100,2,   10.990,2,   10.730,2,    0.000,2,    0.780,2, -999.000,9, -999.000,9, -999.000,9, -999.000,9, -999.000,9
           NA,    P03E,    193,   1,-999.0,      11,  2,19850429,0736,  24.2550, -178.3717,  5557,  384.600,   11.732,   34.331,2,   34.329,2, -999.000,9,  201.900,2,   14.520,2,   13.400,2,    0.000,2,    0.970,2, -999.000,9, -999.000,9, -999.000,9, -999.000,9, -999.000,9
           NA,    P03E,    193,   1,-999.0,      12,  2,19850429,0736,  24.2550, -178.3717,  5557,  444.000,   10.336,   34.235,2,   34.233,2, -999.000,9,  192.300,2,   20.890,2,   16.960,2,    0.000,2,    1.210,2, -999.000,9, -999.000,9, -999.000,9, -999.000,9, -999.000,9
           NA,    P03E,    193,   1,-999.0,      13,  2,19850429,0736,  24.2550, -178.3717,  5557,  503.000,    8.895,   34.149,2,   34.148,2, -999.000,9,  172.300,2,   30.870,2,   21.100,2,    0.000,2,    1.520,2, -999.000,9, -999.000,9, -999.000,9, -999.000,9, -999.000,9
           NA,    P03E,    193,   1,-999.0,      14,  2,19850429,0736,  24.2550, -178.3717,  5557,  563.000,    7.682,   34.100,2,   34.103,2, -999.000,9,  144.000,2,   42.560,2,   26.300,2,    0.000,2,    1.870,2, -999.000,9, -999.000,9, -999.000,9, -999.000,9, -999.000,9
           NA,    P03E,    193,   1,-999.0,      15,  2,19850429,0736,  24.2550, -178.3717,  5557,  642.400,    6.071,   34.070,2,   34.069,2, -999.000,9,  109.600,2,   63.540,2,   32.600,2,    0.000,2,    2.320,2, -999.000,9, -999.000,9, -999.000,9, -999.000,9, -999.000,9
           NA,    P03E,    193,   1,-999.0,      16,  2,19850429,0736,  24.2550, -178.3717,  5557,  722.200,    5.139,   34.131,2,   34.128,2, -999.000,9,   72.200,2,   81.860,2,   37.760,2,    0.000,2,    2.670,2, -999.000,9, -999.000,9, -999.000,9, -999.000,9, -999.000,9
           NA,    P03E,    193,   1,-999.0,      38,  2,19850429,0736,  24.2550, -178.3717,  5557,  803.300,    4.649,   34.218,2,   34.217,2, -999.000,9,   50.000,2,   94.380,2,   40.840,2,    0.000,2,    2.890,2, -999.000,9, -999.000,9, -999.000,9, -999.000,9, -999.000,9
           NA,    P03E,    193,   1,-999.0,      18,  2,19850429,0736,  24.2550, -178.3717,  5557,  904.400,    4.237,   34.333,2,   34.331,2, -999.000,9,   41.700,2,  107.080,2,   41.860,2,    0.000,2,    2.990,2, -999.000,9, -999.000,9, -999.000,9, -999.000,9, -999.000,9
           NA,    P03E,    193,   1,-999.0,      19,  2,19850429,0736,  24.2550, -178.3717,  5557, 1053.500,    3.676,   34.425,2, -999.000,5, -999.000,9,   44.800,2,  120.270,2,   42.410,2,    0.000,2,    3.030,2, -999.000,9, -999.000,9, -999.000,9, -999.000,9, -999.000,9
           NA,    P03E,    193,   1,-999.0,      17,  2,19850429,0736,  24.2550, -178.3717,  5557, 1198.600,    3.292,   34.490,2,   34.490,2, -999.000,9,   56.900,2,  126.430,2,   41.780,2,    0.000,2,    2.980,2, -999.000,9, -999.000,9, -999.000,9, -999.000,9, -999.000,9
           NA,    P03E,    193,   1,-999.0,      21,  2,19850429,0736,  24.2550, -178.3717,  5557, 1395.800,    2.846,   34.550,2,   34.550,2, -999.000,9,   71.700,2,  135.060,2,   41.420,2,    0.000,2,    2.920,2, -999.000,9, -999.000,9, -999.000,9, -999.000,9, -999.000,9
           NA,    P03E,    193,   1,-999.0,      39,  2,19850429,0736,  24.2550, -178.3717,  5557, 1586.700,    2.533,   34.573,2,   34.571,2, -999.000,9,   77.800,2,  142.180,2,   41.270,2,    0.000,2,    2.890,2, -999.000,9, -999.000,9, -999.000,9, -999.000,9, -999.000,9
           NA,    P03E,    193,   1,-999.0,      23,  2,19850429,0736,  24.2550, -178.3717,  5557, 1790.300,    2.262,   34.591,2,   34.592,2, -999.000,9,   84.700,2,  148.540,2,   40.960,2,    0.000,2,    2.860,2, -999.000,9, -999.000,9, -999.000,9, -999.000,9, -999.000,9
           NA,    P03E,    193,   1,-999.0,      24,  2,19850429,0736,  24.2550, -178.3717,  5557, 2001.000,    2.040,   34.611,2,   34.612,2, -999.000,9,   95.200,2,  153.390,2,   40.230,2,    0.000,2,    2.810,2, -999.000,9, -999.000,9, -999.000,9, -999.000,9, -999.000,9
           NA,    P03E,    193,   1,-999.0,      25,  2,19850429,0736,  24.2550, -178.3717,  5557, 2206.100,    1.867,   34.627,2,   34.626,2, -999.000,9,  102.100,2,  155.560,2,   39.870,2,    0.000,2,    2.770,2, -999.000,9, -999.000,9, -999.000,9, -999.000,9, -999.000,9
           NA,    P03E,    193,   1,-999.0,      26,  2,19850429,0736,  24.2550, -178.3717,  5557, 2511.500,    1.702,   34.644,2,   34.642,2, -999.000,9,  113.900,2,  157.350,2,   39.200,2,    0.000,2,    2.720,2, -999.000,9, -999.000,9, -999.000,9, -999.000,9, -999.000,9
           NA,    P03E,    193,   1,-999.0,      27,  2,19850429,0736,  24.2550, -178.3717,  5557, 2816.400,    1.596,   34.655,2,   34.654,2, -999.000,9,  125.600,2,  155.520,2,   38.410,2,    0.000,2,    2.660,2, -999.000,9, -999.000,9, -999.000,9, -999.000,9, -999.000,9
           NA,    P03E,    193,   1,-999.0,      28,  2,19850429,0736,  24.2550, -178.3717,  5557, 3121.500,    1.527,   34.667,2,   34.664,2, -999.000,9,  133.800,2,  153.880,2,   37.850,2,    0.000,2,    2.620,2, -999.000,9, -999.000,9, -999.000,9, -999.000,9, -999.000,9
           NA,    P03E,    193,   1,-999.0,      29,  2,19850429,0736,  24.2550, -178.3717,  5557, 3432.200,    1.484,   34.673,2,   34.672,2, -999.000,9,  141.700,2,  151.490,2,   37.330,2,    0.000,2,    2.580,2, -999.000,9, -999.000,9, -999.000,9, -999.000,9, -999.000,9
           NA,    P03E,    193,   1,-999.0,      30,  2,19850429,0736,  24.2550, -178.3717,  5557, 3737.700,    1.456,   34.679,2,   34.677,2, -999.000,9,  148.200,2,  151.180,2,   36.980,2,    0.000,2,    2.510,2, -999.000,9, -999.000,9, -999.000,9, -999.000,9, -999.000,9
           NA,    P03E,    193,   1,-999.0,      31,  2,19850429,0736,  24.2550, -178.3717,  5557, 4043.800,    1.447,   34.681,2,   34.682,2, -999.000,9,  154.300,2,  147.650,2,   36.410,2,    0.000,2,    2.500,2, -999.000,9, -999.000,9, -999.000,9, -999.000,9, -999.000,9
           NA,    P03E,    193,   1,-999.0,      32,  2,19850429,0736,  24.2550, -178.3717,  5557, 4347.000,    1.437,   34.687,2,   34.686,2, -999.000,9,  160.300,2,  144.110,2,   35.790,2,    0.000,2,    2.460,2, -999.000,9, -999.000,9, -999.000,9, -999.000,9, -999.000,9
           NA,    P03E,    193,   1,-999.0,      37,  2,19850429,0736,  24.2550, -178.3717,  5557, 4647.500,    1.430,   34.690,2,   34.689,2, -999.000,9,  167.300,2,  139.440,2,   35.700,2,    0.000,2,    2.430,2, -999.000,9, -999.000,9, -999.000,9, -999.000,9, -999.000,9
           NA,    P03E,    193,   1,-999.0,      34,  2,19850429,0736,  24.2550, -178.3717,  5557, 4943.100,    1.435,   34.692,2,   34.692,2, -999.000,9,  172.900,2,  136.490,2,   35.340,2,    0.000,2,    2.400,2, -999.000,9, -999.000,9, -999.000,9, -999.000,9, -999.000,9
           NA,    P03E,    193,   1,-999.0,      35,  2,19850429,0736,  24.2550, -178.3717,  5557, 5290.700,    1.455,   34.694,2,   34.693,2, -999.000,9,  175.100,2,  133.540,2,   35.150,2,    0.000,2,    2.370,2, -999.000,9, -999.000,9, -999.000,9, -999.000,9, -999.000,9
           NA,    P03E,    193,   1,-999.0,      36,  2,19850429,0736,  24.2550, -178.3717,  5557, 5625.700,    1.489,   34.695,2,   34.693,2, -999.000,9,  177.300,2,  133.240,2,   34.840,2,    0.000,2,    2.350,2, -999.000,9, -999.000,9, -999.000,9, -999.000,9, -999.000,9
           NA,    P03E,    191,   2,-999.0,       1,  2,19850428,2140,  24.2233, -177.5900,  5408,    0.100,   23.879,   35.336,2,   35.340,2, -999.000,9,  212.400,2,    1.140,2,    0.090,2,    0.000,2,    0.050,2,    1.584,2,    0.824,2, -999.000,9, -999.000,9, -999.000,9
           NA,    P03E,    191,   2,-999.0,       2,  2,19850428,2140,  24.2233, -177.5900,  5408,   33.700,   23.747,   35.326,2,   35.327,2, -999.000,9,  214.100,2,    1.010,2,    0.090,2,    0.000,2,    0.050,2,    1.592,2,    0.833,2, -999.000,9, -999.000,9, -999.000,9
           NA,    P03E,    191,   2,-999.0,       3,  2,19850428,2140,  24.2233, -177.5900,  5408,   63.900,   22.779,   35.325,2,   35.331,2, -999.000,9,  218.400,2,    0.940,2,    0.090,2,    0.000,2,    0.040,2, -999.000,9, -999.000,9, -999.000,9, -999.000,9, -999.000,9
           NA,    P03E,    191,   2,-999.0,       4,  2,19850428,2140,  24.2233, -177.5900,  5408,  104.600,   20.605,   35.103,2,   35.104,2, -999.000,9,  200.900,2,    1.810,2,    1.070,2,    0.040,2,    0.170,2,    1.692,2,    0.861,2, -999.000,9, -999.000,9, -999.000,9
           NA,    P03E,    191,   2,-999.0,       5,  2,19850428,2140,  24.2233, -177.5900,  5408,  145.000,   18.390,   34.923,2,   34.928,2, -999.000,9,  203.000,2,    3.050,2,    2.600,2,    0.010,2,    0.270,2, -999.000,9, -999.000,9, -999.000,9, -999.000,9, -999.000,9
           NA,    P03E,    191,   2,-999.0,       6,  2,19850428,2140,  24.2233, -177.5900,  5408,  184.700,   17.067,   34.795,2,   34.796,2, -999.000,9,  203.000,2,    3.730,2,    4.250,2,    0.010,2,    0.370,2,    1.821,2,    0.929,2, -999.000,9, -999.000,9, -999.000,9
           NA,    P03E,    191,   2,-999.0,       7,  2,19850428,2140,  24.2233, -177.5900,  5408,  225.300,   15.887,   34.697,2,   34.695,2, -999.000,9,  213.400,2,    4.650,2,    5.660,2,    0.010,2,    0.430,2,    1.930,2,    0.969,2, -999.000,9, -999.000,9, -999.000,9
           NA,    P03E,    191,   2,-999.0,       8,  2,19850428,2140,  24.2233, -177.5900,  5408,  266.000,   14.944,   34.621,2,   34.613,2, -999.000,9,  210.300,2,    6.640,2,    7.410,2,    0.000,2,    0.550,2,    1.875,2,    0.940,2, -999.000,9, -999.000,9, -999.000,9
           NA,    P03E,    191,   2,-999.0,       9,  2,19850428,2140,  24.2233, -177.5900,  5408,  305.700,   14.024,   34.538,2,   34.531,2, -999.000,9,  212.000,2,    8.630,2,    8.830,2,    0.000,2,    0.650,2,    1.817,2,    0.930,2, -999.000,9, -999.000,9, -999.000,9
           NA,    P03E,    191,   2,-999.0,      10,  2,19850428,2140,  24.2233, -177.5900,  5408,  356.500,   12.854,   34.435,2,   34.434,2, -999.000,9,  213.700,2,   10.620,2,   10.290,2,    0.000,2,    0.760,2,    1.850,2,    0.911,2, -999.000,9, -999.000,9, -999.000,9
           NA,    P03E,    191,   2,-999.0,      11,  2,19850428,2140,  24.2233, -177.5900,  5408,  406.700,   11.757,   34.342,2,   34.340,2, -999.000,9,  207.600,2,   14.290,2,   12.780,2,    0.000,2,    0.920,2,    1.654,2,    0.818,2, -999.000,9, -999.000,9, -999.000,9
           NA,    P03E,    191,   2,-999.0,      12,  2,19850428,2140,  24.2233, -177.5900,  5408,  466.900,   10.134,   34.224,2,   34.218,2, -999.000,9,  194.900,2,   22.440,2,   17.150,2,    0.000,2,    1.220,2,    1.342,2,    0.662,2, -999.000,9, -999.000,9, -999.000,9
           NA,    P03E,    191,   2,-999.0,      13,  2,19850428,2140,  24.2233, -177.5900,  5408,  527.200,    8.479,   34.120,2,   34.118,2, -999.000,9,  173.600,2,   33.780,2,   22.160,2,    0.000,2,    1.570,2,    1.044,2,    0.523,2, -999.000,9, -999.000,9, -999.000,9
           NA,    P03E,    191,   2,-999.0,      14,  2,19850428,2140,  24.2233, -177.5900,  5408,  597.200,    6.945,   34.065,2,   34.065,2, -999.000,9,  137.500,2,   49.780,2,   28.180,2,    0.000,2,    1.990,2,    0.601,2,    0.302,2, -999.000,9, -999.000,9, -999.000,9
           NA,    P03E,    191,   2,-999.0,      15,  2,19850428,2140,  24.2233, -177.5900,  5408,  668.600,    6.033,   34.108,2,   34.108,2, -999.000,9,   91.800,2,   67.090,2,   34.060,2,    0.000,2,    2.450,2,    0.206,6,    0.108,2, -999.000,9, -999.000,9, -999.000,9
           NA,    P03E,    191,   2,-999.0,      16,  2,19850428,2140,  24.2233, -177.5900,  5408,  749.800,    5.259,   34.187,2,   34.186,2, -999.000,9,   59.600,2,   82.530,2,   38.360,2,    0.010,2,    2.770,2,    0.053,2,    0.033,2, -999.000,9, -999.000,9, -999.000,9
           NA,    P03E,    191,   2,-999.0,      38,  2,19850428,2140,  24.2233, -177.5900,  5408,  829.300,    4.624,   34.249,2,   34.249,2, -999.000,9,   45.700,2,   96.110,2,   40.400,2,    0.010,2,    2.920,2,    0.016,2,    0.013,6, -999.000,9, -999.000,9, -999.000,9
           NA,    P03E,    191,   2,-999.0,      19,  2,19850428,2140,  24.2233, -177.5900,  5408, 1010.700,    3.875,   34.403,2,   34.404,2, -999.000,9,   43.000,2,  114.600,2,   42.090,2,    0.000,2,    3.030,2,    0.003,2,   -0.003,2, -999.000,9, -999.000,9, -999.000,9
           NA,    P03E,    191,   2,-999.0,      17,  2,19850428,2140,  24.2233, -177.5900,  5408, 1111.500,    3.586,   34.456,2,   34.456,2, -999.000,9,   48.700,2,  121.640,2,   42.080,2,    0.010,2,    3.030,2, -999.000,9, -999.000,9, -999.000,9, -999.000,9, -999.000,9
           NA,    P03E,    191,   2,-999.0,      21,  2,19850428,2140,  24.2233, -177.5900,  5408, 1262.400,    3.212,   34.506,2,   34.505,2, -999.000,9,   60.000,2,  129.070,2,   41.500,2,    0.000,2,    2.980,2, -999.000,9, -999.000,9, -999.000,9, -999.000,9, -999.000,9
           NA,    P03E,    191,   2,-999.0,      39,  2,19850428,2140,  24.2233, -177.5900,  5408, 1410.500,    2.897,   34.537,2,   34.537,2, -999.000,9,   68.200,2,  134.620,2,   41.170,2,    0.000,2,    2.940,2, -999.000,9, -999.000,9, -999.000,9, -999.000,9, -999.000,9
           NA,    P03E,    191,   2,-999.0,      23,  2,19850428,2140,  24.2233, -177.5900,  5408, 1611.600,    2.531,   34.572,2,   34.573,2, -999.000,9,   79.500,2,  141.300,2,   40.480,2,    0.000,2,    2.910,2, -999.000,9, -999.000,9, -999.000,9, -999.000,9, -999.000,9
           NA,    P03E,    191,   2,-999.0,      24,  2,19850428,2140,  24.2233, -177.5900,  5408, 1813.000,    2.213,   34.597,2,   34.600,2, -999.000,9,   88.200,2,  147.430,2,   40.320,2,    0.010,2,    2.850,2, -999.000,9, -999.000,9, -999.000,9, -999.000,9, -999.000,9
           NA,    P03E,    191,   2,-999.0,      25,  2,19850428,2140,  24.2233, -177.5900,  5408, 2014.000,    1.992,   34.614,2,   34.615,2, -999.000,9,   94.700,2,  152.440,2,   39.890,2,    0.010,2,    2.800,2,   -0.001,2,    0.005,2, -999.000,9, -999.000,9, -999.000,9
           NA,    P03E,    191,   2,-999.0,      26,  2,19850428,2140,  24.2233, -177.5900,  5408, 2213.800,    1.854,   34.626,2,   34.627,2, -999.000,9,  102.100,2,  156.330,2,   39.470,2,    0.000,2,    2.780,2, -999.000,9, -999.000,9, -999.000,9, -999.000,9, -999.000,9
           NA,    P03E,    191,   2,-999.0,      27,  2,19850428,2140,  24.2233, -177.5900,  5408, 2516.000,    1.678,   34.645,2,   34.645,2, -999.000,9,  113.800,2,  158.710,2,   38.630,2,    0.000,2,    2.720,2, -999.000,9, -999.000,9, -999.000,9, -999.000,9, -999.000,9
           NA,    P03E,    191,   2,-999.0,      28,  2,19850428,2140,  24.2233, -177.5900,  5408, 2821.000,    1.592,   34.656,2,   34.656,2, -999.000,9,  125.100,2,  156.560,2,   38.000,2,    0.000,2,    2.670,2, -999.000,9, -999.000,9, -999.000,9, -999.000,9, -999.000,9
           NA,    P03E,    191,   2,-999.0,      29,  2,19850428,2140,  24.2233, -177.5900,  5408, 3119.700,    1.521,   34.666,2,   34.666,2, -999.000,9,  133.800,2,  154.420,2,   37.210,2,    0.000,2,    2.630,2, -999.000,9, -999.000,9, -999.000,9, -999.000,9, -999.000,9
           NA,    P03E,    191,   2,-999.0,      30,  2,19850428,2140,  24.2233, -177.5900,  5408, 3424.700,    1.480,   34.673,2,   34.673,2, -999.000,9,  142.100,2,  152.660,2,   36.840,2,    0.010,2,    2.570,2, -999.000,9, -999.000,9, -999.000,9, -999.000,9, -999.000,9
           NA,    P03E,    191,   2,-999.0,      31,  2,19850428,2140,  24.2233, -177.5900,  5408, 3735.500,    1.455,   34.678,2,   34.677,2, -999.000,9,  148.600,2,  151.280,2,   36.170,2,    0.010,2,    2.550,2, -999.000,9, -999.000,9, -999.000,9, -999.000,9, -999.000,9
           NA,    P03E,    191,   2,-999.0,      32,  2,19850428,2140,  24.2233, -177.5900,  5408, 4043.000,    1.441,   34.682,2,   34.683,2, -999.000,9,  153.800,2, -999.000,5, -999.000,5, -999.000,5, -999.000,5,   -0.007,2,   -0.001,2, -999.000,9, -999.000,9, -999.000,9
           NA,    P03E,    191,   2,-999.0,      37,  2,19850428,2140,  24.2233, -177.5900,  5408, 4401.700,    1.436,   34.687,2,   34.687,2, -999.000,9,  162.100,2,  144.560,2,   35.380,2,    0.010,2,    2.450,2, -999.000,9, -999.000,9, -999.000,9, -999.000,9, -999.000,9
           NA,    P03E,    191,   2,-999.0,      34,  2,19850428,2140,  24.2233, -177.5900,  5408, 4766.700,    1.432,   34.690,2,   34.689,2, -999.000,9,  169.900,2,  139.240,2,   35.120,2,    0.000,2,    2.410,2, -999.000,9, -999.000,9, -999.000,9, -999.000,9, -999.000,9
           NA,    P03E,    191,   2,-999.0,      35,  2,19850428,2140,  24.2233, -177.5900,  5408, 5125.800,    1.448,   34.692,2,   34.692,2, -999.000,9,  173.400,2,  136.730,2,   34.660,2,    0.000,2,    2.360,2, -999.000,9, -999.000,9, -999.000,9, -999.000,9, -999.000,9
           NA,    P03E,    191,   2,-999.0,      36,  2,19850428,2140,  24.2233, -177.5900,  5408, 5495.700,    1.477,   34.694,2,   34.694,2, -999.000,9,  177.300,2,  134.980,2,   34.550,2,    0.000,2,    2.360,2,   -0.005,2,    0.003,2, -999.000,9, -999.000,9, -999.000,9