BOTTLE,20203103JOAExport
EXPOCODE,SECT_ID,STNNBR,CASTNO,SAMPNO,BTLNBR,BTLNBR_FLAG_W,DATE,TIME,LATITUDE,LONGITUDE,DEPTH,CTDPRS,CTDTMP,CTDSAL,CTDSAL_FLAG_W,SALNTY,SALNTY_FLAG_W,CTDOXY,CTDOXY_FLAG_W,OXYGEN,OXYGEN_FLAG_W,SILCAT,SILCAT_FLAG_W,NITRAT,NITRAT_FLAG_W,NITRIT,NITRIT_FLAG_W,PHSPHT,PHSPHT_FLAG_W,CFC-11,CFC-11_FLAG_W,CFC-12,CFC-12_FLAG_W,SF6,SF6_FLAG_W,TCARBN,TCARBN_FLAG_W,ALKALI,ALKALI_FLAG_W
,,,,,,,,,,,,,DB,ITS-90,PSS-78,,PSS-78,,UMOL/KG,,UMOL/KG,,UMOL/KG,,UMOL/KG,,UMOL/KG,,UMOL/KG,,PMOL/KG,,PMOL/KG,,FMOL/KG,,UMOL/KG,,UMOL/KG
           NA,    P03W,    211,   1,-999.0,       1,  2,19850506,1211,  24.2517,  174.3850,  5728,    0.000,   25.337,   35.341,2,   35.345,2, -999.000,9,  209.300,2,    1.540,2,    0.050,2,    0.000,2,    0.050,2,    1.471,2,    0.824,2, -999.000,9, -999.000,9, -999.000,9
           NA,    P03W,    211,   1,-999.0,       2,  2,19850506,1211,  24.2517,  174.3850,  5728,   22.700,   24.273,   35.298,2,   35.308,2, -999.000,9,  213.600,2,    1.480,2,    0.050,2,    0.000,2,    0.040,2, -999.000,9, -999.000,9, -999.000,9, -999.000,9, -999.000,9
           NA,    P03W,    211,   1,-999.0,       3,  2,19850506,1211,  24.2517,  174.3850,  5728,   43.000,   24.119,   35.308,2,   35.312,2, -999.000,9,  213.400,2,    1.420,2,    0.050,2,    0.000,2,    0.030,2,    1.559,2,    0.827,2, -999.000,9, -999.000,9, -999.000,9
           NA,    P03W,    211,   1,-999.0,       4,  2,19850506,1211,  24.2517,  174.3850,  5728,   73.400,   22.727,   35.180,2,   35.181,2, -999.000,9,  212.900,2,    1.560,2,    0.050,2,    0.000,2,    0.040,2,    1.562,2,    0.791,2, -999.000,9, -999.000,9, -999.000,9
           NA,    P03W,    211,   1,-999.0,       5,  2,19850506,1211,  24.2517,  174.3850,  5728,  103.400,   21.454,   35.116,2,   35.114,2, -999.000,9,  205.700,2,    1.700,2,    0.190,2,    0.110,2,    0.090,2,    1.643,2,    0.863,2, -999.000,9, -999.000,9, -999.000,9
           NA,    P03W,    211,   1,-999.0,       6,  2,19850506,1211,  24.2517,  174.3850,  5728,  144.000,   19.167,   34.941,2,   34.941,2, -999.000,9,  206.200,2,    2.040,2,    1.510,2,    0.030,2,    0.180,2,    1.744,2,    0.915,2, -999.000,9, -999.000,9, -999.000,9
           NA,    P03W,    211,   1,-999.0,       7,  2,19850506,1211,  24.2517,  174.3850,  5728,  184.300,   17.744,   34.841,2, -999.000,5, -999.000,9,  201.600,2,    3.370,2,    3.430,2,    0.010,2,    0.300,2,    1.744,2,    0.954,2, -999.000,9, -999.000,9, -999.000,9
           NA,    P03W,    211,   1,-999.0,       8,  2,19850506,1211,  24.2517,  174.3850,  5728,  234.600,   16.309,   34.730,2,   34.727,2, -999.000,9,  209.000,2,    5.090,2,    5.530,2,    0.010,2,    0.410,2,    1.832,2,    0.945,2, -999.000,9, -999.000,9, -999.000,9
           NA,    P03W,    211,   1,-999.0,       9,  2,19850506,1211,  24.2517,  174.3850,  5728,  284.500,   15.227,   34.649,2,   34.647,2, -999.000,9,  209.900,2,    6.810,2,    7.040,2,    0.010,2,    0.500,2,    1.819,2,    0.923,2, -999.000,9, -999.000,9, -999.000,9
           NA,    P03W,    211,   1,-999.0,      10,  2,19850506,1211,  24.2517,  174.3850,  5728,  335.000,   14.059,   34.541,2,   34.538,2, -999.000,9,  208.700,2,    9.310,2,    9.050,2,    0.010,2,    0.650,2,    1.760,2,    0.894,2, -999.000,9, -999.000,9, -999.000,9
           NA,    P03W,    211,   1,-999.0,      11,  2,19850506,1211,  24.2517,  174.3850,  5728,  385.400,   12.550,   34.411,2,   34.411,2, -999.000,9,  207.200,2,   13.390,2,   11.710,2,    0.010,2,    0.830,2,    1.651,2,    0.825,2, -999.000,9, -999.000,9, -999.000,9
           NA,    P03W,    211,   1,-999.0,      12,  2,19850506,1211,  24.2517,  174.3850,  5728,  445.900,   11.075,   34.291,2,   34.285,2, -999.000,9,  195.300,2,   19.620,2,   15.410,2,    0.010,2,    1.080,2,    1.351,2,    0.678,2, -999.000,9, -999.000,9, -999.000,9
           NA,    P03W,    211,   1,-999.0,      13,  2,19850506,1211,  24.2517,  174.3850,  5728,  506.400,    9.728,   34.200,2,   34.193,2, -999.000,9,  188.900,2,   26.810,2,   18.680,2,    0.000,2,    1.300,2,    1.304,2,    0.641,2, -999.000,9, -999.000,9, -999.000,9
           NA,    P03W,    211,   1,-999.0,      14,  2,19850506,1211,  24.2517,  174.3850,  5728,  566.400,    8.217,   34.107,2,   34.106,2, -999.000,9,  173.500,2,   36.350,2,   22.700,2,    0.000,2,    1.600,2,    1.114,2,    0.569,2, -999.000,9, -999.000,9, -999.000,9
           NA,    P03W,    211,   1,-999.0,      15,  2,19850506,1211,  24.2517,  174.3850,  5728,  646.600,    6.446,   34.073,2,   34.074,2, -999.000,9,  118.900,2,   57.830,2,   31.010,2,    0.000,2,    2.180,2, -999.000,9,    0.148,2, -999.000,9, -999.000,9, -999.000,9
           NA,    P03W,    211,   1,-999.0,      16,  2,19850506,1211,  24.2517,  174.3850,  5728,  726.700,    5.582,   34.143,2,   34.144,2, -999.000,9,   73.200,2,   75.910,2,   36.680,2,    0.000,2,    2.600,2,    0.108,6,    0.069,2, -999.000,9, -999.000,9, -999.000,9
           NA,    P03W,    211,   1,-999.0,      17,  2,19850506,1211,  24.2517,  174.3850,  5728,  806.800,    4.984,   34.216,2,   34.216,2, -999.000,9,   51.900,2,   89.250,2,   39.590,2,    0.000,2,    2.800,2,    0.045,2, -999.000,9, -999.000,9, -999.000,9, -999.000,9
           NA,    P03W,    211,   1,-999.0,      18,  2,19850506,1211,  24.2517,  174.3850,  5728,  907.500,    4.502,   34.311,2,   34.311,2, -999.000,9,   42.300,2,   98.640,2,   41.090,2,    0.000,2,    2.900,2,    0.011,2, -999.000,9, -999.000,9, -999.000,9, -999.000,9
           NA,    P03W,    211,   1,-999.0,      39,  2,19850506,1211,  24.2517,  174.3850,  5728, 1058.500,    3.949,   34.416,2,   34.414,2, -999.000,9,   46.900,2,  111.900,2,   41.820,2,    0.000,2,    2.950,2,   -0.004,2, -999.000,9, -999.000,9, -999.000,9, -999.000,9
           NA,    P03W,    211,   1,-999.0,      20,  2,19850506,1211,  24.2517,  174.3850,  5728, 1209.000,    3.409,   34.474,2,   34.475,2, -999.000,9,   55.000,2,  125.140,2,   41.820,2,    0.000,2,    2.880,2,    0.003,2, -999.000,9, -999.000,9, -999.000,9, -999.000,9
           NA,    P03W,    211,   1,-999.0,      21,  2,19850506,1211,  24.2517,  174.3850,  5728, 1409.600,    2.941,   34.524,2,   34.524,2, -999.000,9,   65.800,2,  134.630,2,   41.540,2,    0.000,2,    2.890,2,    0.000,2,   -0.006,2, -999.000,9, -999.000,9, -999.000,9
           NA,    P03W,    211,   1,-999.0,      22,  2,19850506,1211,  24.2517,  174.3850,  5728, 1607.000,    2.603,   34.569,2,   34.569,2, -999.000,9,   80.100,2,  142.160,2,   40.980,2,    0.000,2,    2.840,2, -999.000,9, -999.000,9, -999.000,9, -999.000,9, -999.000,9
           NA,    P03W,    211,   1,-999.0,      23,  2,19850506,1211,  24.2517,  174.3850,  5728, 1807.700,    2.341,   34.588,2,   34.592,2, -999.000,9,   86.600,2,  149.670,2,   40.930,2,    0.000,2,    2.810,2, -999.000,9, -999.000,9, -999.000,9, -999.000,9, -999.000,9
           NA,    P03W,    211,   1,-999.0,      24,  2,19850506,1211,  24.2517,  174.3850,  5728, 2008.300,    2.074,   34.611,2,   34.611,2, -999.000,9,   97.400,2,  153.660,2,   40.260,2,    0.000,2,    2.790,2,    0.003,2,   -0.004,2, -999.000,9, -999.000,9, -999.000,9
           NA,    P03W,    211,   1,-999.0,      25,  2,19850506,1211,  24.2517,  174.3850,  5728, 2209.500,    1.864,   34.626,2,   34.626,2, -999.000,9,  105.200,2,  156.870,2,   39.820,2,    0.000,2,    2.730,2, -999.000,9, -999.000,9, -999.000,9, -999.000,9, -999.000,9
           NA,    P03W,    211,   1,-999.0,      26,  2,19850506,1211,  24.2517,  174.3850,  5728, 2510.800,    1.712,   34.645,2,   34.645,2, -999.000,9,  117.300,2,  158.900,2,   38.880,2,    0.000,2,    2.660,2,    0.000,2,   -0.006,2, -999.000,9, -999.000,9, -999.000,9
           NA,    P03W,    211,   1,-999.0,      27,  2,19850506,1211,  24.2517,  174.3850,  5728, 2813.600,    1.625,   34.656,2, -999.000,5, -999.000,9,  126.600,2,  158.610,2,   38.280,2,    0.000,2,    2.610,2, -999.000,9, -999.000,9, -999.000,9, -999.000,9, -999.000,9
           NA,    P03W,    211,   1,-999.0,      28,  2,19850506,1211,  24.2517,  174.3850,  5728, 3117.400,    1.563,   34.665,2,   34.664,2, -999.000,9,  133.400,2,  154.650,2,   37.560,2,    0.000,2,    2.560,2, -999.000,9, -999.000,9, -999.000,9, -999.000,9, -999.000,9
           NA,    P03W,    211,   1,-999.0,      29,  2,19850506,1211,  24.2517,  174.3850,  5728, 3419.500,    1.520,   34.670,2,   34.671,2, -999.000,9,  140.100,2,  150.130,2,   36.910,2,    0.000,2,    2.530,2,   -0.004,2,   -0.004,2, -999.000,9, -999.000,9, -999.000,9
           NA,    P03W,    211,   1,-999.0,      30,  2,19850506,1211,  24.2517,  174.3850,  5728, 3724.500,    1.485,   34.676,2,   34.676,2, -999.000,9,  147.000,2,  148.110,2,   36.530,2,    0.000,2,    2.500,2, -999.000,9, -999.000,9, -999.000,9, -999.000,9, -999.000,9
           NA,    P03W,    211,   1,-999.0,      31,  2,19850506,1211,  24.2517,  174.3850,  5728, 4030.400,    1.457,   34.681,2,   34.681,2, -999.000,9,  154.200,2,  143.610,2,   36.040,2,    0.000,2,    2.460,2,    0.005,2,   -0.002,2, -999.000,9, -999.000,9, -999.000,9
           NA,    P03W,    211,   1,-999.0,      32,  2,19850506,1211,  24.2517,  174.3850,  5728, 4338.000,    1.440,   34.685,2,   34.685,2, -999.000,9,  161.100,2,  140.080,2,   35.440,2,    0.000,2,    2.430,2, -999.000,9, -999.000,9, -999.000,9, -999.000,9, -999.000,9
           NA,    P03W,    211,   1,-999.0,      33,  2,19850506,1211,  24.2517,  174.3850,  5728, 4699.000,    1.422,   34.690,2,   34.690,2, -999.000,9,  170.100,2,  135.410,2,   35.010,2,    0.000,2,    2.390,2, -999.000,9, -999.000,9, -999.000,9, -999.000,9, -999.000,9
           NA,    P03W,    211,   1,-999.0,      34,  2,19850506,1211,  24.2517,  174.3850,  5728, 5063.000,    1.429,   34.693,2,   34.694,2, -999.000,9,  175.400,2,  138.790,2,   35.060,2,    0.000,2,    2.380,2,   -0.005,2,   -0.004,2, -999.000,9, -999.000,9, -999.000,9
           NA,    P03W,    211,   1,-999.0,      35,  2,19850506,1211,  24.2517,  174.3850,  5728, 5476.600,    1.455,   34.695,2,   34.694,2, -999.000,9,  178.800,2,  133.370,2,   34.470,2,    0.000,2,    2.330,2, -999.000,9, -999.000,9, -999.000,9, -999.000,9, -999.000,9
           NA,    P03W,    211,   1,-999.0,      36,  2,19850506,1211,  24.2517,  174.3850,  5728, 5817.700,    1.486,   34.695,2,   34.696,2, -999.000,9,  179.800,2,  131.780,2,   34.310,2,    0.000,2,    2.330,2,   -0.002,2,   -0.004,2, -999.000,9, -999.000,9, -999.000,9