BOTTLE,20203103JOAExport
EXPOCODE,SECT_ID,STNNBR,CASTNO,SAMPNO,BTLNBR,BTLNBR_FLAG_W,DATE,TIME,LATITUDE,LONGITUDE,DEPTH,CTDPRS,CTDTMP,CTDSAL,CTDSAL_FLAG_W,SALNTY,SALNTY_FLAG_W,CTDOXY,CTDOXY_FLAG_W,OXYGEN,OXYGEN_FLAG_W,SILCAT,SILCAT_FLAG_W,NITRAT,NITRAT_FLAG_W,NITRIT,NITRIT_FLAG_W,PHSPHT,PHSPHT_FLAG_W,CFC-11,CFC-11_FLAG_W,CFC-12,CFC-12_FLAG_W,SF6,SF6_FLAG_W,TCARBN,TCARBN_FLAG_W,ALKALI,ALKALI_FLAG_W
,,,,,,,,,,,,,DB,ITS-90,PSS-78,,PSS-78,,UMOL/KG,,UMOL/KG,,UMOL/KG,,UMOL/KG,,UMOL/KG,,UMOL/KG,,PMOL/KG,,PMOL/KG,,FMOL/KG,,UMOL/KG,,UMOL/KG
           NA,    P03W,    341,   1,-999.0,       5,  2,19850527,0733,  24.2450,  130.3750,  4493,    0.600,   25.446,   34.915,2,   34.918,2, -999.000,9,  210.400,2,    1.950,2,    0.090,2,    0.000,2,    0.000,2,    1.512,2,    0.792,2, -999.000,9, -999.000,9, -999.000,9
           NA,    P03W,    341,   1,-999.0,      38,  2,19850527,0733,  24.2450,  130.3750,  4493,   27.500,   24.472,   34.874,2,   34.871,2, -999.000,9,  214.700,2,    1.950,2,    0.090,2,    0.000,2,    0.000,2, -999.000,9, -999.000,9, -999.000,9, -999.000,9, -999.000,9
           NA,    P03W,    341,   1,-999.0,       3,  2,19850527,0733,  24.2450,  130.3750,  4493,   47.700,   23.066,   34.868,2,   34.869,2, -999.000,9,  223.800,2,    1.950,2,    0.080,2,    0.000,2,    0.000,2,    1.649,2,    0.862,2, -999.000,9, -999.000,9, -999.000,9
           NA,    P03W,    341,   1,-999.0,       4,  2,19850527,0733,  24.2450,  130.3750,  4493,   77.800,   21.886,   34.876,2,   34.880,2, -999.000,9,  228.500,2,    2.150,2,    0.080,2,    0.000,2,    0.000,2, -999.000,9, -999.000,9, -999.000,9, -999.000,9, -999.000,9
           NA,    P03W,    341,   1,-999.0,       1,  2,19850527,0733,  24.2450,  130.3750,  4493,  107.700,   20.992,   34.849,2,   34.849,2, -999.000,9,  224.500,2,    2.150,2,    0.080,2,    0.000,2,    0.000,2,    1.719,2,    0.896,2, -999.000,9, -999.000,9, -999.000,9
           NA,    P03W,    341,   1,-999.0,       6,  2,19850527,0733,  24.2450,  130.3750,  4493,  147.700,   19.903,   34.864,2,   34.865,2, -999.000,9,  216.200,2,    2.350,2,    0.680,2,    0.090,2,    0.000,2,    1.749,2,    0.904,2, -999.000,9, -999.000,9, -999.000,9
           NA,    P03W,    341,   1,-999.0,       7,  2,19850527,0733,  24.2450,  130.3750,  4493,  187.400,   19.149,   34.847,2,   34.848,2, -999.000,9,  212.200,2,    2.540,2,    1.810,2,    0.020,2,    0.070,2,    1.760,2,    0.914,2, -999.000,9, -999.000,9, -999.000,9
           NA,    P03W,    341,   1,-999.0,       8,  2,19850527,0733,  24.2450,  130.3750,  4493,  237.000,   17.970,   34.828,2,   34.827,2, -999.000,9,  204.300,2,    3.620,2,    3.710,2,    0.010,2,    0.170,2,    1.728,2,    0.889,2, -999.000,9, -999.000,9, -999.000,9
           NA,    P03W,    341,   1,-999.0,       9,  2,19850527,0733,  24.2450,  130.3750,  4493,  286.200,   17.009,   34.795,2,   34.795,2, -999.000,9,  210.400,2,    4.500,2,    4.540,2,    0.010,2,    0.210,2,    1.781,2,    0.918,2, -999.000,9, -999.000,9, -999.000,9
           NA,    P03W,    341,   1,-999.0,      10,  2,19850527,0733,  24.2450,  130.3750,  4493,  336.100,   16.277,   34.757,2,   34.756,2, -999.000,9,  212.500,2,    5.180,2,    5.560,2,    0.010,2,    0.270,2, -999.000,9, -999.000,9, -999.000,9, -999.000,9, -999.000,9
           NA,    P03W,    341,   1,-999.0,      11,  2,19850527,0733,  24.2450,  130.3750,  4493,  386.100,   15.742,   34.721,2,   34.721,2, -999.000,9,  211.200,2,    6.650,2,    6.480,2,    0.010,2,    0.330,2,    1.729,2,    0.883,2, -999.000,9, -999.000,9, -999.000,9
           NA,    P03W,    341,   1,-999.0,      12,  2,19850527,0733,  24.2450,  130.3750,  4493,  446.900,   14.425,   34.599,2,   34.599,2, -999.000,9,  194.600,2,   11.240,2,   10.070,2,    0.010,2,    0.570,2,    1.437,2,    0.718,2, -999.000,9, -999.000,9, -999.000,9
           NA,    P03W,    341,   1,-999.0,      13,  2,19850527,0733,  24.2450,  130.3750,  4493,  507.900,   13.233,   34.560,2,   34.558,2, -999.000,9,  213.300,2,   12.810,2,   10.170,2,    0.010,2,    0.590,2, -999.000,9, -999.000,9, -999.000,9, -999.000,9, -999.000,9
           NA,    P03W,    341,   1,-999.0,      14,  2,19850527,0733,  24.2450,  130.3750,  4493,  568.700,   11.314,   34.357,2,   34.351,2, -999.000,9,  178.900,2,   24.250,2,   16.720,2,    0.010,2,    1.020,2,    1.281,2, -999.000,9, -999.000,9, -999.000,9, -999.000,9
           NA,    P03W,    341,   1,-999.0,      15,  2,19850527,0733,  24.2450,  130.3750,  4493,  650.100,    9.131,   34.212,2,   34.210,2, -999.000,9,  157.900,2,   37.350,2,   22.290,2,    0.010,2,    1.410,2,    0.846,2,    0.427,2, -999.000,9, -999.000,9, -999.000,9
           NA,    P03W,    341,   1,-999.0,      16,  2,19850527,0733,  24.2450,  130.3750,  4493,  730.900,    7.357,   34.135,2,   34.135,2, -999.000,9,  134.400,2,   52.510,2,   27.480,2,    0.010,2,    1.760,2,    0.631,2,    0.306,2, -999.000,9, -999.000,9, -999.000,9
           NA,    P03W,    341,   1,-999.0,      17,  2,19850527,0733,  24.2450,  130.3750,  4493,  811.900,    6.054,   34.143,2,   34.144,2, -999.000,9,  104.400,2,   72.360,2,   32.850,2,    0.010,2,    2.130,2,    0.376,2,    0.183,2, -999.000,9, -999.000,9, -999.000,9
           NA,    P03W,    341,   1,-999.0,      18,  2,19850527,0733,  24.2450,  130.3750,  4493,  913.200,    5.146,   34.232,2,   34.232,2, -999.000,9,   70.900,2,   89.760,2,   37.350,2,    0.010,2,    2.450,2, -999.000,9, -999.000,9, -999.000,9, -999.000,9, -999.000,9
           NA,    P03W,    341,   1,-999.0,      23,  2,19850527,0733,  24.2450,  130.3750,  4493, 1065.000,    3.986,   34.347,2,   34.346,2, -999.000,9,   57.400,2,  114.970,2,   40.380,2,    0.010,2,    2.660,2,    0.104,2,    0.054,2, -999.000,9, -999.000,9, -999.000,9
           NA,    P03W,    341,   1,-999.0,      20,  2,19850527,0733,  24.2450,  130.3750,  4493, 1216.200,    3.390,   34.426,2,   34.424,2, -999.000,9,   62.200,2,  128.560,2,   40.860,2,    0.010,2,    2.700,2,    0.011,2,   -0.006,2, -999.000,9, -999.000,9, -999.000,9
           NA,    P03W,    341,   1,-999.0,      21,  2,19850527,0733,  24.2450,  130.3750,  4493, 1417.800,    2.911,   34.492,2,   34.491,2, -999.000,9,   73.900,2,  136.660,2,   40.370,2,    0.010,2,    2.670,2, -999.000,9, -999.000,9, -999.000,9, -999.000,9, -999.000,9
           NA,    P03W,    341,   1,-999.0,      22,  2,19850527,0733,  24.2450,  130.3750,  4493, 1618.900,    2.501,   34.541,2,   34.540,2, -999.000,9,   87.400,2,  142.520,2,   39.790,2,    0.010,2,    2.620,2, -999.000,9, -999.000,9, -999.000,9, -999.000,9, -999.000,9
           NA,    P03W,    341,   1,-999.0,      39,  2,19850527,0733,  24.2450,  130.3750,  4493, 1821.500,    2.184,   34.585,2,   34.585,2, -999.000,9,  104.300,2,  146.430,2,   39.200,2,    0.010,2,    2.580,2,   -0.004,2,    0.004,6, -999.000,9, -999.000,9, -999.000,9
           NA,    P03W,    341,   1,-999.0,      24,  2,19850527,0733,  24.2450,  130.3750,  4493, 2023.500,    2.009,   34.607,2,   34.607,2, -999.000,9,  114.300,2,  146.230,2,   38.510,2,    0.010,2,    2.540,2, -999.000,9, -999.000,9, -999.000,9, -999.000,9, -999.000,9
           NA,    P03W,    341,   1,-999.0,      40,  2,19850527,0733,  24.2450,  130.3750,  4493, 2225.300,    1.910,   34.622,2,   34.623,2, -999.000,9,  120.800,2,  146.330,2,   38.120,2,    0.010,2,    2.520,2, -999.000,9, -999.000,9, -999.000,9, -999.000,9, -999.000,9
           NA,    P03W,    341,   1,-999.0,      26,  2,19850527,0733,  24.2450,  130.3750,  4493, 2426.900,    1.799,   34.636,2,   34.636,2, -999.000,9,  128.200,2,  145.930,2,   37.730,2,    0.010,2,    2.510,2,   -0.003,2,   -0.005,2, -999.000,9, -999.000,9, -999.000,9
           NA,    P03W,    341,   1,-999.0,      27,  2,19850527,0733,  24.2450,  130.3750,  4493, 2629.100,    1.742,   34.645,2,   34.645,2, -999.000,9,  133.800,2,  145.540,2,   37.440,2,    0.010,2,    2.510,2, -999.000,9, -999.000,9, -999.000,9, -999.000,9, -999.000,9
           NA,    P03W,    341,   1,-999.0,      28,  2,19850527,0733,  24.2450,  130.3750,  4493, 2832.000,    1.683,   34.653,2,   34.653,2, -999.000,9,  137.700,2,  145.640,2,   37.240,2,    0.000,2,    2.490,2, -999.000,9, -999.000,9, -999.000,9, -999.000,9, -999.000,9
           NA,    P03W,    341,   1,-999.0,      29,  2,19850527,0733,  24.2450,  130.3750,  4493, 3031.700,    1.641,   34.658,2, -999.000,5, -999.000,9,  141.700,2,  145.440,2,   36.950,2,    0.000,2,    2.500,2,   -0.001,2,   -0.001,2, -999.000,9, -999.000,9, -999.000,9
           NA,    P03W,    341,   1,-999.0,      30,  2,19850527,0733,  24.2450,  130.3750,  4493, 3232.100,    1.598,   34.665,2,   34.664,2, -999.000,9,  144.700,2,  146.220,2,   36.750,2,    0.000,2,    2.480,2, -999.000,9, -999.000,9, -999.000,9, -999.000,9, -999.000,9
           NA,    P03W,    341,   1,-999.0,      31,  2,19850527,0733,  24.2450,  130.3750,  4493, 3432.700,    1.575,   34.669,2,   34.669,2, -999.000,9,  147.700,2,  145.640,2,   36.460,2,    0.000,2,    2.480,2, -999.000,9, -999.000,9, -999.000,9, -999.000,9, -999.000,9
           NA,    P03W,    341,   1,-999.0,      32,  2,19850527,0733,  24.2450,  130.3750,  4493, 3632.300,    1.555,   34.672,2,   34.673,2, -999.000,9,  150.800,2,  144.560,2,   36.360,2,    0.000,2,    2.460,2,    0.000,2,   -0.001,2, -999.000,9, -999.000,9, -999.000,9
           NA,    P03W,    341,   1,-999.0,      33,  2,19850527,0733,  24.2450,  130.3750,  4493, 3832.800,    1.548,   34.676,2,   34.675,2, -999.000,9,  153.000,2,  144.850,2,   36.260,2,    0.000,2,    2.440,2, -999.000,9, -999.000,9, -999.000,9, -999.000,9, -999.000,9
           NA,    P03W,    341,   1,-999.0,      34,  2,19850527,0733,  24.2450,  130.3750,  4493, 4134.600,    1.572,   34.677,2,   34.676,2, -999.000,9,  153.000,2,  144.270,2,   36.260,2,    0.000,2,    2.450,2,    0.001,2,   -0.001,2, -999.000,9, -999.000,9, -999.000,9
           NA,    P03W,    341,   1,-999.0,      35,  2,19850527,0733,  24.2450,  130.3750,  4493, 4439.200,    1.601,   34.676,2,   34.677,2, -999.000,9,  154.300,2,  144.070,2,   36.070,2,    0.000,2,    2.470,2, -999.000,9, -999.000,9, -999.000,9, -999.000,9, -999.000,9
           NA,    P03W,    341,   1,-999.0,      37,  2,19850527,0733,  24.2450,  130.3750,  4493, 4689.000,    1.631,   34.677,2,   34.677,2, -999.000,9,  154.700,2,  143.490,2,   36.160,2,    0.000,2,    2.470,2,    0.004,2,    0.011,2, -999.000,9, -999.000,9, -999.000,9
           NA,    P03W,    339,   1,-999.0,       5,  2,19850527,0157,  24.2617,  130.9983,  3085,    1.000,   24.676,   34.770,2,   34.773,2, -999.000,9,  213.900,2,    1.470,2,    0.080,2,    0.010,2,    0.000,2, -999.000,9, -999.000,9, -999.000,9, -999.000,9, -999.000,9
           NA,    P03W,    339,   1,-999.0,       8,  2,19850527,0157,  24.2617,  130.9983,  3085,   21.300,   24.418,   34.767,2,   34.771,2, -999.000,9,  215.100,2,    1.760,2,    0.070,2,    0.020,2,    0.000,2, -999.000,9, -999.000,9, -999.000,9, -999.000,9, -999.000,9
           NA,    P03W,    339,   1,-999.0,       9,  2,19850527,0157,  24.2617,  130.9983,  3085,   41.700,   22.921,   34.804,2,   34.807,2, -999.000,9,  222.500,2,    1.660,2,    0.060,2,    0.020,2,    0.000,2, -999.000,9, -999.000,9, -999.000,9, -999.000,9, -999.000,9
           NA,    P03W,    339,   1,-999.0,      10,  2,19850527,0157,  24.2617,  130.9983,  3085,   72.000,   21.301,   34.859,2,   34.861,2, -999.000,9,  221.000,2,    2.150,2,    0.080,2,    0.000,2,    0.000,2, -999.000,9, -999.000,9, -999.000,9, -999.000,9, -999.000,9
           NA,    P03W,    339,   1,-999.0,      11,  2,19850527,0157,  24.2617,  130.9983,  3085,  102.000,   20.511,   34.858,2,   34.858,2, -999.000,9,  219.300,2,    2.350,2,    0.360,2,    0.090,2,    0.000,2, -999.000,9, -999.000,9, -999.000,9, -999.000,9, -999.000,9
           NA,    P03W,    339,   1,-999.0,      12,  2,19850527,0157,  24.2617,  130.9983,  3085,  142.100,   19.301,   34.843,2,   34.845,2, -999.000,9,  209.200,2,    2.740,2,    2.180,2,    0.020,2,    0.110,2, -999.000,9, -999.000,9, -999.000,9, -999.000,9, -999.000,9
           NA,    P03W,    339,   1,-999.0,      13,  2,19850527,0157,  24.2617,  130.9983,  3085,  182.300,   18.739,   34.844,2,   34.844,2, -999.000,9,  207.400,2,    3.030,2,    2.820,2,    0.020,2,    0.140,2, -999.000,9, -999.000,9, -999.000,9, -999.000,9, -999.000,9
           NA,    P03W,    339,   1,-999.0,      14,  2,19850527,0157,  24.2617,  130.9983,  3085,  232.200,   17.930,   34.828,2,   34.827,2, -999.000,9,  201.700,2,    4.100,2,    4.300,2,    0.020,2,    0.220,2, -999.000,9, -999.000,9, -999.000,9, -999.000,9, -999.000,9
           NA,    P03W,    339,   1,-999.0,      15,  2,19850527,0157,  24.2617,  130.9983,  3085,  282.500,   17.146,   34.791,2,   34.790,2, -999.000,9,  199.900,2,    5.180,2,    5.550,2,    0.020,2,    0.290,2, -999.000,9, -999.000,9, -999.000,9, -999.000,9, -999.000,9
           NA,    P03W,    339,   1,-999.0,      16,  2,19850527,0157,  24.2617,  130.9983,  3085,  332.800,   16.412,   34.750,2,   34.749,2, -999.000,9,  198.200,2,    6.450,2,    6.690,2,    0.020,2,    0.360,2, -999.000,9, -999.000,9, -999.000,9, -999.000,9, -999.000,9
           NA,    P03W,    339,   1,-999.0,      17,  2,19850527,0157,  24.2617,  130.9983,  3085,  383.900,   15.468,   34.675,2,   34.677,2, -999.000,9,  192.900,2,    9.290,2,    8.790,2,    0.010,2,    0.490,2, -999.000,9, -999.000,9, -999.000,9, -999.000,9, -999.000,9
           NA,    P03W,    339,   1,-999.0,      18,  2,19850527,0157,  24.2617,  130.9983,  3085,  444.100,   13.304,   34.497,2,   34.499,2, -999.000,9,  186.700,2,   15.150,2,   12.510,2,    0.010,2,    0.760,2, -999.000,9, -999.000,9, -999.000,9, -999.000,9, -999.000,9
           NA,    P03W,    339,   1,-999.0,      23,  2,19850527,0157,  24.2617,  130.9983,  3085,  505.100,   11.946,   34.401,2,   34.406,2, -999.000,9,  182.800,2,   20.330,2,   15.150,2,    0.010,2,    0.940,2, -999.000,9, -999.000,9, -999.000,9, -999.000,9, -999.000,9
           NA,    P03W,    339,   1,-999.0,      20,  2,19850527,0157,  24.2617,  130.9983,  3085,  565.800,   10.222,   34.278,2,   34.284,2, -999.000,9,  171.000,2,   29.430,2,   19.260,2,    0.010,2,    1.220,2, -999.000,9, -999.000,9, -999.000,9, -999.000,9, -999.000,9
           NA,    P03W,    339,   1,-999.0,      21,  2,19850527,0157,  24.2617,  130.9983,  3085,  646.400,    8.334,   34.183,2,   34.182,2, -999.000,9,  148.800,2,   44.390,2,   24.740,2,    0.000,2,    1.600,2, -999.000,9, -999.000,9, -999.000,9, -999.000,9, -999.000,9
           NA,    P03W,    339,   1,-999.0,      22,  2,19850527,0157,  24.2617,  130.9983,  3085,  727.300,    6.968,   34.137,2,   34.137,2, -999.000,9,  125.300,2,   58.770,2,   29.330,2,    0.010,2,    1.930,2, -999.000,9, -999.000,9, -999.000,9, -999.000,9, -999.000,9
           NA,    P03W,    339,   1,-999.0,      39,  2,19850527,0157,  24.2617,  130.9983,  3085,  808.300,    5.756,   34.173,2,   34.170,2, -999.000,9,   92.600,2,   76.270,2,   34.420,2,    0.000,2,    2.280,2, -999.000,9, -999.000,9, -999.000,9, -999.000,9, -999.000,9
           NA,    P03W,    339,   1,-999.0,      24,  2,19850527,0157,  24.2617,  130.9983,  3085,  909.500,    4.964,   34.238,2,   34.237,2, -999.000,9,   71.300,2,   92.100,2,   37.940,2,    0.000,2,    2.500,2, -999.000,9, -999.000,9, -999.000,9, -999.000,9, -999.000,9
           NA,    P03W,    339,   1,-999.0,      40,  2,19850527,0157,  24.2617,  130.9983,  3085, 1060.700,    3.954,   34.345,2,   34.346,2, -999.000,9,   59.100,2,  114.480,2,   40.380,2,    0.000,2,    2.700,2, -999.000,9, -999.000,9, -999.000,9, -999.000,9, -999.000,9
           NA,    P03W,    339,   1,-999.0,      26,  2,19850527,0157,  24.2617,  130.9983,  3085, 1211.400,    3.358,   34.416,2,   34.416,2, -999.000,9,   60.400,2,  127.970,2,   40.960,2,    0.000,2,    2.760,2, -999.000,9, -999.000,9, -999.000,9, -999.000,9, -999.000,9
           NA,    P03W,    339,   1,-999.0,      27,  2,19850527,0157,  24.2617,  130.9983,  3085, 1412.800,    2.739,   34.506,2,   34.508,2, -999.000,9,   77.400,2,  139.010,2,   40.570,2,    0.000,2,    2.710,2, -999.000,9, -999.000,9, -999.000,9, -999.000,9, -999.000,9
           NA,    P03W,    339,   1,-999.0,      28,  2,19850527,0157,  24.2617,  130.9983,  3085, 1614.400,    2.373,   34.554,2,   34.555,2, -999.000,9,   92.600,2,  143.690,2,   39.690,2,    0.010,2,    2.610,2, -999.000,9, -999.000,9, -999.000,9, -999.000,9, -999.000,9
           NA,    P03W,    339,   1,-999.0,      29,  2,19850527,0157,  24.2617,  130.9983,  3085, 1814.700,    2.153,   34.584,2,   34.585,2, -999.000,9,  103.900,2,  145.060,2,   39.100,2,    0.000,2,    2.630,2, -999.000,9, -999.000,9, -999.000,9, -999.000,9, -999.000,9
           NA,    P03W,    339,   1,-999.0,      30,  2,19850527,0157,  24.2617,  130.9983,  3085, 2015.700,    2.001,   34.607,2,   34.607,2, -999.000,9,  113.900,2,  145.150,2,   38.220,2,    0.000,2,    2.590,2, -999.000,9, -999.000,9, -999.000,9, -999.000,9, -999.000,9
           NA,    P03W,    339,   1,-999.0,      31,  2,19850527,0157,  24.2617,  130.9983,  3085, 2216.800,    1.910,   34.620,2,   34.620,2, -999.000,9,  119.500,2,  145.450,2,   37.830,2,    0.000,2,    2.570,2, -999.000,9, -999.000,9, -999.000,9, -999.000,9, -999.000,9
           NA,    P03W,    339,   1,-999.0,      32,  2,19850527,0157,  24.2617,  130.9983,  3085, 2419.900,    1.824,   34.632,2,   34.633,2, -999.000,9,  126.500,2,  144.270,2,   37.340,2,    0.000,2,    2.510,2, -999.000,9, -999.000,9, -999.000,9, -999.000,9, -999.000,9
           NA,    P03W,    339,   1,-999.0,      33,  2,19850527,0157,  24.2617,  130.9983,  3085, 2622.400,    1.720,   34.647,2,   34.646,2, -999.000,9,  134.700,2,  143.390,2,   37.140,2,    0.000,2,    2.520,2, -999.000,9, -999.000,9, -999.000,9, -999.000,9, -999.000,9
           NA,    P03W,    339,   1,-999.0,      34,  2,19850527,0157,  24.2617,  130.9983,  3085, 2826.000,    1.666,   34.653,2,   34.654,2, -999.000,9,  138.200,2,  143.100,2,   36.750,2,    0.000,2,    2.510,2, -999.000,9, -999.000,9, -999.000,9, -999.000,9, -999.000,9
           NA,    P03W,    339,   1,-999.0,      35,  2,19850527,0157,  24.2617,  130.9983,  3085, 3029.900,    1.632,   34.659,2,   34.658,2, -999.000,9,  141.700,2,  143.190,2,   36.750,2,    0.000,2,    2.510,2, -999.000,9, -999.000,9, -999.000,9, -999.000,9, -999.000,9
           NA,    P03W,    339,   1,-999.0,      37,  2,19850527,0157,  24.2617,  130.9983,  3085, 3121.200,    1.632,   34.662,2,   34.660,2, -999.000,9,  143.000,2,  143.000,2,   36.650,2,    0.000,2,    2.520,2, -999.000,9, -999.000,9, -999.000,9, -999.000,9, -999.000,9