BOTTLE,20203103JOAExport
EXPOCODE,SECT_ID,STNNBR,CASTNO,SAMPNO,BTLNBR,BTLNBR_FLAG_W,DATE,TIME,LATITUDE,LONGITUDE,DEPTH,CTDPRS,CTDTMP,CTDSAL,CTDSAL_FLAG_W,SALNTY,SALNTY_FLAG_W,CTDOXY,CTDOXY_FLAG_W,OXYGEN,OXYGEN_FLAG_W,SILCAT,SILCAT_FLAG_W,NITRAT,NITRAT_FLAG_W,NITRIT,NITRIT_FLAG_W,PHSPHT,PHSPHT_FLAG_W,CFC-11,CFC-11_FLAG_W,CFC-12,CFC-12_FLAG_W,SF6,SF6_FLAG_W,TCARBN,TCARBN_FLAG_W,ALKALI,ALKALI_FLAG_W
,,,,,,,,,,,,,DB,ITS-90,PSS-78,,PSS-78,,UMOL/KG,,UMOL/KG,,UMOL/KG,,UMOL/KG,,UMOL/KG,,UMOL/KG,,PMOL/KG,,PMOL/KG,,FMOL/KG,,UMOL/KG,,UMOL/KG
           NA,    P03E,     20,   1,-999.0,       1,  2,19850401,0928,  31.5100, -120.0417,  3716,    0.900,   14.993,   33.453,2,   33.453,2, -999.000,9,  255.400,2,    3.620,2,    0.180,2,    0.000,2,    0.380,2,    2.482,2,    1.213,2, -999.000,9, -999.000,9, -999.000,9
           NA,    P03E,     20,   1,-999.0,       3,  2,19850401,0928,  31.5100, -120.0417,  3716,   19.300,   14.915,   33.451,2,   33.451,2, -999.000,9,  256.200,2,    3.030,2,    0.180,2,    0.000,2,    0.390,2,    2.425,2,    1.189,2, -999.000,9, -999.000,9, -999.000,9
           NA,    P03E,     20,   1,-999.0,       4,  2,19850401,0928,  31.5100, -120.0417,  3716,   44.400,   14.516,   33.442,2,   33.440,2, -999.000,9,  258.400,2,    2.930,2,    0.140,2,    0.000,2,    0.370,2,    2.451,2,    1.201,2, -999.000,9, -999.000,9, -999.000,9
           NA,    P03E,     20,   1,-999.0,       5,  2,19850401,0928,  31.5100, -120.0417,  3716,   74.800,   13.161,   33.411,2,   33.411,2, -999.000,9,  244.400,2,    5.190,2,    3.030,2,    0.150,2,    0.560,2,    2.504,2,    1.223,2, -999.000,9, -999.000,9, -999.000,9
           NA,    P03E,     20,   1,-999.0,       6,  2,19850401,0928,  31.5100, -120.0417,  3716,  105.700,   11.495,   33.489,2,   33.490,2, -999.000,9,  201.600,2,   11.840,2,   11.540,2,    0.030,2,    1.070,2,    2.298,2,    1.117,2, -999.000,9, -999.000,9, -999.000,9
           NA,    P03E,     20,   1,-999.0,       7,  2,19850401,0928,  31.5100, -120.0417,  3716,  145.800,    9.752,   33.814,2,   33.812,2, -999.000,9,  145.800,2,   25.040,2,   21.520,2,    0.010,2,    1.650,2,    1.708,2,    0.772,2, -999.000,9, -999.000,9, -999.000,9
           NA,    P03E,     20,   1,-999.0,       8,  2,19850401,0928,  31.5100, -120.0417,  3716,  196.000,    8.660,   33.939,2,   33.939,2, -999.000,9,  132.700,2,   33.150,2,   25.720,2,    0.000,2,    1.890,2,    1.233,2,    0.640,2, -999.000,9, -999.000,9, -999.000,9
           NA,    P03E,     20,   1,-999.0,       9,  2,19850401,0928,  31.5100, -120.0417,  3716,  256.400,    7.797,   34.024,2,   34.025,2, -999.000,9,  116.600,2,   42.340,2,   28.950,2,    0.010,2,    2.090,2,    0.760,2,    0.388,2, -999.000,9, -999.000,9, -999.000,9
           NA,    P03E,     20,   1,-999.0,      10,  2,19850401,0928,  31.5100, -120.0417,  3716,  256.400,    7.797,   34.024,2,   34.022,2, -999.000,9,  117.500,2,   42.340,2,   28.750,2,    0.010,2,    2.100,2, -999.000,9, -999.000,9, -999.000,9, -999.000,9, -999.000,9
           NA,    P03E,     20,   1,-999.0,      11,  2,19850401,0928,  31.5100, -120.0417,  3716,  504.000,    5.986,   34.270,2,   34.268,2, -999.000,9,   17.800,2,   79.490,2,   39.600,2,    0.000,2,    3.010,2,    0.026,2,    0.005,2, -999.000,9, -999.000,9, -999.000,9
           NA,    P03E,     20,   1,-999.0,      12,  2,19850401,0928,  31.5100, -120.0417,  3716,  604.900,    5.404,   34.315,2,   34.314,2, -999.000,9,   13.000,2,   92.000,2,   41.550,2,    0.000,2,    3.130,2,    0.014,2,    0.003,2, -999.000,9, -999.000,9, -999.000,9
           NA,    P03E,     20,   1,-999.0,      13,  2,19850401,0928,  31.5100, -120.0417,  3716,  759.200,    4.634,   34.410,2,   34.411,2, -999.000,9,   12.600,2,  107.050,2,   43.310,2,    0.000,2,    3.190,2,    0.013,2,   -0.003,2, -999.000,9, -999.000,9, -999.000,9
           NA,    P03E,     20,   1,-999.0,      14,  2,19850401,0928,  31.5100, -120.0417,  3716,  759.200,    4.634,   34.410,2,   34.410,2, -999.000,9,   13.000,2,  106.460,2,   43.310,2,    0.000,2,    3.200,2,    0.006,2,   -0.001,2, -999.000,9, -999.000,9, -999.000,9
           NA,    P03E,     20,   1,-999.0,      15,  2,19850401,0928,  31.5100, -120.0417,  3716, 1108.400,    3.612,   34.511,2,   34.511,2, -999.000,9,   29.600,2,  130.600,2,   43.700,2,    0.000,2,    3.170,2,    0.008,2,    0.001,2, -999.000,9, -999.000,9, -999.000,9
           NA,    P03E,     20,   1,-999.0,      16,  2,19850401,0928,  31.5100, -120.0417,  3716, 1305.400,    3.211,   34.542,2,   34.544,2, -999.000,9,   39.100,2,  141.060,2,   43.300,2,    0.000,2,    3.120,2, -999.000,9,    0.003,2, -999.000,9, -999.000,9, -999.000,9
           NA,    P03E,     20,   1,-999.0,      17,  2,19850401,0928,  31.5100, -120.0417,  3716, 1605.600,    2.608,   34.582,2,   34.583,2, -999.000,9,   56.900,2,  154.540,2,   42.420,2,    0.000,2,    3.020,2,    0.003,2,   -0.003,2, -999.000,9, -999.000,9, -999.000,9
           NA,    P03E,     20,   1,-999.0,      18,  2,19850401,0928,  31.5100, -120.0417,  3716, 1911.000,    2.155,   34.615,2,   34.616,2, -999.000,9,   76.500,2,  166.760,2,   41.250,2,    0.010,2,    2.930,2,   -0.005,2,   -0.001,2, -999.000,9, -999.000,9, -999.000,9
           NA,    P03E,     20,   1,-999.0,      19,  2,19850401,0928,  31.5100, -120.0417,  3716, 2218.800,    1.923,   34.638,2,   34.639,2, -999.000,9,   93.000,2,  168.900,2,   39.980,2,    0.000,2,    2.830,2, -999.000,9, -999.000,9, -999.000,9, -999.000,9, -999.000,9
           NA,    P03E,     20,   1,-999.0,      20,  2,19850401,0928,  31.5100, -120.0417,  3716, 2524.200,    1.794,   34.651,2,   34.651,2, -999.000,9,  105.600,2,  168.410,2,   39.390,2,    0.000,2,    2.750,2,   -0.007,2,   -0.003,2, -999.000,9, -999.000,9, -999.000,9
           NA,    P03E,     20,   1,-999.0,      22,  2,19850401,0928,  31.5100, -120.0417,  3716, 3133.500,    1.622,   34.667,2,   34.666,2, -999.000,9,  118.600,2,  173.590,2,   38.410,2,    0.000,2,    2.660,2, -999.000,9, -999.000,9, -999.000,9, -999.000,9, -999.000,9
           NA,    P03E,     20,   1,-999.0,      23,  2,19850401,0928,  31.5100, -120.0417,  3716, 3434.200,    1.583,   34.671,2,   34.671,2, -999.000,9,  123.800,2,  174.280,2,   38.020,2,    0.000,2,    2.640,2, -999.000,9, -999.000,9, -999.000,9, -999.000,9, -999.000,9
           NA,    P03E,     20,   1,-999.0,      24,  2,19850401,0928,  31.5100, -120.0417,  3716, 3747.700,    1.565,   34.674,2, -999.000,5, -999.000,9,  130.400,2,  170.760,2,   38.020,2,    0.000,2,    2.650,2,    0.005,2,   -0.003,2, -999.000,9, -999.000,9, -999.000,9
           NA,    P03E,     18,   1,-999.0,       1,  2,19850401,0357,  31.6733, -119.7150,  3726,    0.800,   15.119,   33.431,2,   33.431,2, -999.000,9,  255.600,2,    1.550,2,    0.250,2,    0.000,2,    0.360,2, -999.000,9, -999.000,9, -999.000,9, -999.000,9, -999.000,9
           NA,    P03E,     18,   1,-999.0,       4,  2,19850401,0357,  31.6733, -119.7150,  3726,   36.100,   14.998,   33.427,2,   33.426,2, -999.000,9,  255.200,2,    1.520,2,    0.200,2,    0.000,2,    0.350,2, -999.000,9, -999.000,9, -999.000,9, -999.000,9, -999.000,9
           NA,    P03E,     18,   1,-999.0,       5,  2,19850401,0357,  31.6733, -119.7150,  3726,   66.500,   14.274,   33.423,2,   33.421,2, -999.000,9,  259.600,2,    1.670,2,    0.200,2,    0.000,2,    0.360,2, -999.000,9, -999.000,9, -999.000,9, -999.000,9, -999.000,9
           NA,    P03E,     18,   1,-999.0,       6,  2,19850401,0357,  31.6733, -119.7150,  3726,  106.800,   12.271,   33.410,2,   33.407,2, -999.000,9,  233.900,2,    5.060,2,    5.820,2,    0.090,2,    0.700,2, -999.000,9, -999.000,9, -999.000,9, -999.000,9, -999.000,9
           NA,    P03E,     18,   1,-999.0,       7,  2,19850401,0357,  31.6733, -119.7150,  3726,  147.400,   10.900,   33.843,2,   33.845,2, -999.000,9,  143.900,2,   19.450,2,   19.150,2,    0.000,2,    1.540,2, -999.000,9, -999.000,9, -999.000,9, -999.000,9, -999.000,9
           NA,    P03E,     18,   1,-999.0,       8,  2,19850401,0357,  31.6733, -119.7150,  3726,  197.100,    9.039,   33.889,2,   33.883,2, -999.000,9,  142.500,2,   27.550,2,   23.860,2,    0.000,2,    1.760,2, -999.000,9, -999.000,9, -999.000,9, -999.000,9, -999.000,9
           NA,    P03E,     18,   1,-999.0,      10,  2,19850401,0357,  31.6733, -119.7150,  3726,  257.600,    7.931,   34.034,2,   34.030,2, -999.000,9,  120.400,2,   39.240,2,   28.060,2,    0.000,2,    2.070,2, -999.000,9, -999.000,9, -999.000,9, -999.000,9, -999.000,9
           NA,    P03E,     18,   1,-999.0,       9,  2,19850401,0357,  31.6733, -119.7150,  3726,  257.600,    7.931,   34.034,2,   34.030,2, -999.000,9,  120.500,2,   38.940,2,   28.080,2,    0.000,2,    2.050,2, -999.000,9, -999.000,9, -999.000,9, -999.000,9, -999.000,9
           NA,    P03E,     18,   1,-999.0,      11,  2,19850401,0357,  31.6733, -119.7150,  3726,  508.500,    5.599,   34.219,2,   34.222,2, -999.000,9,   20.900,2,   81.860,2,   40.570,2,    0.000,2,    2.990,2, -999.000,9, -999.000,9, -999.000,9, -999.000,9, -999.000,9
           NA,    P03E,     18,   1,-999.0,      12,  2,19850401,0357,  31.6733, -119.7150,  3726,  610.100,    5.028,   34.320,2,   34.324,2, -999.000,9,   10.800,2,   96.560,2,   42.490,2,    0.000,2,    3.120,2, -999.000,9, -999.000,9, -999.000,9, -999.000,9, -999.000,9
           NA,    P03E,     18,   1,-999.0,      13,  2,19850401,0357,  31.6733, -119.7150,  3726,  761.700,    4.650,   34.417,2,   34.418,2, -999.000,9,   13.400,2,  105.190,2,   43.120,2,    0.000,2,    3.160,2, -999.000,9, -999.000,9, -999.000,9, -999.000,9, -999.000,9
           NA,    P03E,     18,   1,-999.0,      14,  2,19850401,0357,  31.6733, -119.7150,  3726,  910.600,    4.199,   34.465,2,   34.464,2, -999.000,9,   20.000,2,  115.320,2,   43.370,2,    0.000,2,    3.170,2, -999.000,9, -999.000,9, -999.000,9, -999.000,9, -999.000,9
           NA,    P03E,     18,   1,-999.0,      15,  2,19850401,0357,  31.6733, -119.7150,  3726, 1112.300,    3.667,   34.509,2,   34.510,2, -999.000,9,   29.200,2,  127.160,2,   43.360,2,    0.000,2,    3.130,2, -999.000,9, -999.000,9, -999.000,9, -999.000,9, -999.000,9
           NA,    P03E,     18,   1,-999.0,      16,  2,19850401,0357,  31.6733, -119.7150,  3726, 1311.600,    3.224,   34.543,2,   34.545,2, -999.000,9,   39.300,2,  137.730,2,   42.820,2,    0.000,2,    3.090,2, -999.000,9, -999.000,9, -999.000,9, -999.000,9, -999.000,9
           NA,    P03E,     18,   1,-999.0,      17,  2,19850401,0357,  31.6733, -119.7150,  3726, 1614.000,    2.633,   34.585,2,   34.584,2, -999.000,9,   58.000,2,  153.030,2,   41.970,2,    0.000,2,    3.020,2, -999.000,9, -999.000,9, -999.000,9, -999.000,9, -999.000,9
           NA,    P03E,     18,   1,-999.0,      18,  2,19850401,0357,  31.6733, -119.7150,  3726, 1916.100,    2.213,   34.612,2,   34.617,2, -999.000,9,   74.600,2,  162.340,2,   40.900,2,    0.000,2,    2.890,2, -999.000,9, -999.000,9, -999.000,9, -999.000,9, -999.000,9
           NA,    P03E,     18,   1,-999.0,      19,  2,19850401,0357,  31.6733, -119.7150,  3726, 2219.000,    1.944,   34.636,2,   34.636,2, -999.000,9,   92.200,2,  167.870,2,   39.950,2,    0.000,2,    2.790,2, -999.000,9, -999.000,9, -999.000,9, -999.000,9, -999.000,9
           NA,    P03E,     18,   1,-999.0,      20,  2,19850401,0357,  31.6733, -119.7150,  3726, 2525.400,    1.787,   34.651,2,   34.649,2, -999.000,9,  104.300,2,  168.110,2,   39.110,2,    0.000,2,    2.710,2, -999.000,9, -999.000,9, -999.000,9, -999.000,9, -999.000,9
           NA,    P03E,     18,   1,-999.0,      21,  2,19850401,0357,  31.6733, -119.7150,  3726, 2833.000,    1.698,   34.660,2,   34.659,2, -999.000,9,  112.600,2,  169.670,2,   38.470,2,    0.000,2,    2.680,2, -999.000,9, -999.000,9, -999.000,9, -999.000,9, -999.000,9
           NA,    P03E,     18,   1,-999.0,      22,  2,19850401,0357,  31.6733, -119.7150,  3726, 3138.500,    1.623,   34.666,2,   34.665,2, -999.000,9,  120.100,2,  171.230,2,   38.150,2,    0.000,2,    2.640,2, -999.000,9, -999.000,9, -999.000,9, -999.000,9, -999.000,9
           NA,    P03E,     18,   1,-999.0,      23,  2,19850401,0357,  31.6733, -119.7150,  3726, 3443.400,    1.593,   34.670,2,   34.668,2, -999.000,9,  123.700,2,  172.970,2,   37.880,2,    0.000,2,    2.610,2, -999.000,9, -999.000,9, -999.000,9, -999.000,9, -999.000,9
           NA,    P03E,     18,   1,-999.0,      24,  2,19850401,0357,  31.6733, -119.7150,  3726, 3769.600,    1.575,   34.674,2,   34.673,2, -999.000,9,  127.100,2,  173.210,2,   37.700,2,    0.000,2,    2.620,2, -999.000,9, -999.000,9, -999.000,9, -999.000,9, -999.000,9
           NA,    P03E,     16,   1,-999.0,       1,  2,19850331,2256,  31.7700, -119.5300,  2626,    1.800,   15.251,   33.448,2,   33.448,2, -999.000,9,  255.800,2,    2.450,2,    0.130,2,    0.000,2,    0.360,2,    2.504,2,    1.215,2, -999.000,9, -999.000,9, -999.000,9
           NA,    P03E,     16,   1,-999.0,       2,  2,19850331,2256,  31.7700, -119.5300,  2626,   18.700,   15.000,   33.447,2,   33.447,2, -999.000,9,  256.200,2,    2.250,2,    0.130,2,    0.000,2,    0.360,2,    2.488,2,    1.208,2, -999.000,9, -999.000,9, -999.000,9
           NA,    P03E,     16,   1,-999.0,       3,  2,19850331,2256,  31.7700, -119.5300,  2626,   33.600,   14.927,   33.447,2,   33.445,2, -999.000,9,  257.100,2,    2.250,2,    0.120,2,    0.000,2,    0.350,2,    2.509,2,    1.214,2, -999.000,9, -999.000,9, -999.000,9
           NA,    P03E,     16,   1,-999.0,       4,  2,19850331,2256,  31.7700, -119.5300,  2626,   53.800,   14.245,   33.430,2,   33.427,2, -999.000,9,  260.100,2,    2.540,2,    0.130,2,    0.000,2,    0.350,2,    2.584,2,    1.238,2, -999.000,9, -999.000,9, -999.000,9
           NA,    P03E,     16,   1,-999.0,       5,  2,19850331,2256,  31.7700, -119.5300,  2626,   74.100,   13.444,   33.377,2,   33.379,2, -999.000,9,  257.900,2,    2.840,2,    0.940,2,    0.090,2,    0.430,2,    2.657,2,    1.292,2, -999.000,9, -999.000,9, -999.000,9
           NA,    P03E,     16,   1,-999.0,       6,  2,19850331,2256,  31.7700, -119.5300,  2626,   94.800,   12.392,   33.418,2,   33.416,2, -999.000,9,  235.200,2,    5.280,2,    5.600,2,    0.200,2,    0.680,2,    2.588,2,    1.244,2, -999.000,9, -999.000,9, -999.000,9
           NA,    P03E,     16,   1,-999.0,       7,  2,19850331,2256,  31.7700, -119.5300,  2626,  124.800,   10.588,   33.579,2,   33.578,2, -999.000,9,  187.200,2,   14.970,2,   15.060,2,    0.010,2,    1.250,2,    2.197,2,    1.051,2, -999.000,9, -999.000,9, -999.000,9
           NA,    P03E,     16,   1,-999.0,       8,  2,19850331,2256,  31.7700, -119.5300,  2626,  164.600,    9.455,   33.837,2,   33.831,2, -999.000,9,  144.500,2,   25.920,2,   22.490,2,    0.010,2,    1.720,2,    1.569,2,    0.749,2, -999.000,9, -999.000,9, -999.000,9
           NA,    P03E,     16,   1,-999.0,       9,  2,19850331,2256,  31.7700, -119.5300,  2626,  225.700,    8.309,   34.045,2,   34.043,2, -999.000,9,  119.600,2,   37.060,2,   27.190,2,    0.000,2,    2.030,2,    0.907,2,    0.457,2, -999.000,9, -999.000,9, -999.000,9
           NA,    P03E,     16,   1,-999.0,      10,  2,19850331,2256,  31.7700, -119.5300,  2626,  225.700,    8.309,   34.045,2,   34.043,2, -999.000,9,  119.600,2,   37.260,2,   27.090,2,    0.000,2,    2.030,2,    0.908,2,    0.447,2, -999.000,9, -999.000,9, -999.000,9
           NA,    P03E,     16,   1,-999.0,      11,  2,19850331,2256,  31.7700, -119.5300,  2626,  356.000,    6.781,   34.116,2,   34.115,2, -999.000,9,   60.000,2,   59.840,2,   35.010,2,    0.000,2,    2.610,2,    0.212,2,    0.115,2, -999.000,9, -999.000,9, -999.000,9
           NA,    P03E,     16,   1,-999.0,      12,  2,19850331,2256,  31.7700, -119.5300,  2626,  457.300,    6.154,   34.231,2,   34.230,2, -999.000,9,   24.400,2,   74.600,2,   38.820,2,    0.000,2,    2.960,2,    0.039,2,    0.010,2, -999.000,9, -999.000,9, -999.000,9
           NA,    P03E,     16,   1,-999.0,      13,  2,19850331,2256,  31.7700, -119.5300,  2626,  608.500,    5.440,   34.340,2,   34.339,2, -999.000,9,   10.900,2,   89.950,2,   41.450,2,    0.000,2,    3.110,2,   -0.002,2,   -0.003,2, -999.000,9, -999.000,9, -999.000,9
           NA,    P03E,     16,   1,-999.0,      14,  2,19850331,2256,  31.7700, -119.5300,  2626,  759.500,    4.801,   34.409,2,   34.407,2, -999.000,9,   12.600,2,  103.040,2,   42.920,2,    0.000,2,    3.160,2,   -0.015,2,    0.003,2, -999.000,9, -999.000,9, -999.000,9
           NA,    P03E,     16,   1,-999.0,      15,  2,19850331,2256,  31.7700, -119.5300,  2626,  909.800,    4.275,   34.457,2,   34.458,2, -999.000,9,   19.100,2,  115.350,2,   43.600,2,    0.000,2,    3.170,2,    0.008,2,   -0.001,2, -999.000,9, -999.000,9, -999.000,9
           NA,    P03E,     16,   1,-999.0,      16,  2,19850331,2256,  31.7700, -119.5300,  2626, 1061.700,    3.766,   34.499,2,   34.503,2, -999.000,9,   27.400,2,  126.490,2,   43.500,2,    0.000,2,    3.140,2, -999.000,9, -999.000,9, -999.000,9, -999.000,9, -999.000,9
           NA,    P03E,     16,   1,-999.0,      17,  2,19850331,2256,  31.7700, -119.5300,  2626, 1263.900,    3.325,   34.534,2,   34.538,2, -999.000,9,   36.900,2,  137.440,2,   43.010,2,    0.000,2,    3.100,2, -999.000,9, -999.000,9, -999.000,9, -999.000,9, -999.000,9
           NA,    P03E,     16,   1,-999.0,      18,  2,19850331,2256,  31.7700, -119.5300,  2626, 1464.700,    2.964,   34.562,2,   34.564,2, -999.000,9,   46.900,2,  146.040,2,   42.520,2,    0.000,2,    3.050,2,   -0.013,2,    0.006,2, -999.000,9, -999.000,9, -999.000,9
           NA,    P03E,     16,   1,-999.0,      19,  2,19850331,2256,  31.7700, -119.5300,  2626, 1665.600,    2.642,   34.587,2,   34.586,2, -999.000,9,   58.200,2,  152.980,2,   42.030,2,    0.000,2,    2.990,2, -999.000,9,    0.001,2, -999.000,9, -999.000,9, -999.000,9
           NA,    P03E,     16,   1,-999.0,      20,  2,19850331,2256,  31.7700, -119.5300,  2626, 1866.700,    2.284,   34.610,2, -999.000,5, -999.000,9,   72.600,2,  161.090,2,   41.150,2,    0.000,2,    2.900,2, -999.000,9,    0.001,2, -999.000,9, -999.000,9, -999.000,9
           NA,    P03E,     16,   1,-999.0,      21,  2,19850331,2256,  31.7700, -119.5300,  2626, 2069.100,    2.091,   34.625,2,   34.626,2, -999.000,9,   83.000,2,  165.680,2,   40.560,2,    0.000,2,    2.840,2,   -0.013,2,   -0.003,2, -999.000,9, -999.000,9, -999.000,9
           NA,    P03E,     16,   1,-999.0,      22,  2,19850331,2256,  31.7700, -119.5300,  2626, 2271.200,    1.900,   34.641,2,   34.640,2, -999.000,9,   95.200,2,  168.510,2,   39.780,2,    0.000,2,    2.780,2, -999.000,9,   -0.003,2, -999.000,9, -999.000,9, -999.000,9
           NA,    P03E,     16,   1,-999.0,      23,  2,19850331,2256,  31.7700, -119.5300,  2626, 2472.500,    1.799,   34.650,2,   34.650,2, -999.000,9,  102.600,2,  168.410,2,   39.100,2,    0.000,2,    2.740,2,   -0.011,2,   -0.001,2, -999.000,9, -999.000,9, -999.000,9
           NA,    P03E,     16,   1,-999.0,      24,  2,19850331,2256,  31.7700, -119.5300,  2626, 2645.300,    1.771,   34.654,2,   34.654,2, -999.000,9,  105.200,2, -999.000,5, -999.000,5, -999.000,5, -999.000,5,   -0.011,6,   -0.004,6, -999.000,9, -999.000,9, -999.000,9