BOTTLE,20203103JOAExport
EXPOCODE,SECT_ID,STNNBR,CASTNO,SAMPNO,BTLNBR,BTLNBR_FLAG_W,DATE,TIME,LATITUDE,LONGITUDE,DEPTH,CTDPRS,CTDTMP,CTDSAL,CTDSAL_FLAG_W,SALNTY,SALNTY_FLAG_W,CTDOXY,CTDOXY_FLAG_W,OXYGEN,OXYGEN_FLAG_W,SILCAT,SILCAT_FLAG_W,NITRAT,NITRAT_FLAG_W,NITRIT,NITRIT_FLAG_W,PHSPHT,PHSPHT_FLAG_W,CFC-11,CFC-11_FLAG_W,CFC-12,CFC-12_FLAG_W,SF6,SF6_FLAG_W,TCARBN,TCARBN_FLAG_W,ALKALI,ALKALI_FLAG_W
,,,,,,,,,,,,,DB,ITS-90,PSS-78,,PSS-78,,UMOL/KG,,UMOL/KG,,UMOL/KG,,UMOL/KG,,UMOL/KG,,UMOL/KG,,PMOL/KG,,PMOL/KG,,FMOL/KG,,UMOL/KG,,UMOL/KG
           NA,    P03E,    179,   1,-999.0,       1,  2,19850426,2000,  24.2417, -172.8233,  4553,    0.300,   23.845,   35.337,2,   35.339,2, -999.000,9,  213.700,2,    1.630,2,    0.050,2,    0.000,2,    0.050,2, -999.000,9, -999.000,9, -999.000,9, -999.000,9, -999.000,9
           NA,    P03E,    179,   1,-999.0,       2,  2,19850426,2000,  24.2417, -172.8233,  4553,   23.600,   23.675,   35.351,2,   35.349,2, -999.000,9,  215.200,2,    1.520,2,    0.050,2,    0.000,2,    0.040,2, -999.000,9, -999.000,9, -999.000,9, -999.000,9, -999.000,9
           NA,    P03E,    179,   1,-999.0,       3,  2,19850426,2000,  24.2417, -172.8233,  4553,   43.400,   23.458,   35.362,2,   35.367,2, -999.000,9,  217.300,2,    1.410,2,    0.050,2,    0.000,2,    0.050,2, -999.000,9, -999.000,9, -999.000,9, -999.000,9, -999.000,9
           NA,    P03E,    179,   1,-999.0,       4,  2,19850426,2000,  24.2417, -172.8233,  4553,   73.600,   22.907,   35.328,2,   35.332,2, -999.000,9,  217.600,2,    1.300,2,    0.050,2,    0.000,2,    0.050,2, -999.000,9, -999.000,9, -999.000,9, -999.000,9, -999.000,9
           NA,    P03E,    179,   1,-999.0,       5,  2,19850426,2000,  24.2417, -172.8233,  4553,  104.600,   21.198,   35.145,2,   35.147,2, -999.000,9,  201.900,2,    2.160,2,    0.350,2,    0.040,2,    0.130,2, -999.000,9, -999.000,9, -999.000,9, -999.000,9, -999.000,9
           NA,    P03E,    179,   1,-999.0,       6,  2,19850426,2000,  24.2417, -172.8233,  4553,  145.000,   18.695,   34.908,2,   34.905,2, -999.000,9,  189.700,2,    3.590,2,    3.870,2,    0.020,2,    0.360,2, -999.000,9, -999.000,9, -999.000,9, -999.000,9, -999.000,9
           NA,    P03E,    179,   1,-999.0,       7,  2,19850426,2000,  24.2417, -172.8233,  4553,  185.000,   16.798,   34.768,2,   34.764,2, -999.000,9,  203.300,2,    4.260,2,    4.810,2,    0.010,2,    0.390,2, -999.000,9, -999.000,9, -999.000,9, -999.000,9, -999.000,9
           NA,    P03E,    179,   1,-999.0,       8,  2,19850426,2000,  24.2417, -172.8233,  4553,  225.500,   15.753,   34.684,2,   34.671,2, -999.000,9,  207.600,2,    5.510,2,    6.080,2,    0.010,2,    0.470,2, -999.000,9, -999.000,9, -999.000,9, -999.000,9, -999.000,9
           NA,    P03E,    179,   1,-999.0,       9,  2,19850426,2000,  24.2417, -172.8233,  4553,  265.600,   14.212,   34.539,2,   34.534,2, -999.000,9,  209.400,2,    7.910,2,    8.180,2,    0.000,2,    0.610,2, -999.000,9, -999.000,9, -999.000,9, -999.000,9, -999.000,9
           NA,    P03E,    179,   1,-999.0,      10,  2,19850426,2000,  24.2417, -172.8233,  4553,  305.300,   13.281,   34.449,2,   34.456,2, -999.000,9,  215.300,2,    8.970,2,    9.020,2,    0.000,2,    0.670,2, -999.000,9, -999.000,9, -999.000,9, -999.000,9, -999.000,9
           NA,    P03E,    179,   1,-999.0,      11,  2,19850426,2000,  24.2417, -172.8233,  4553,  355.300,   12.150,   34.368,2,   34.360,2, -999.000,9,  211.600,2,   13.120,2,   11.810,2,    0.000,2,    0.850,2, -999.000,9, -999.000,9, -999.000,9, -999.000,9, -999.000,9
           NA,    P03E,    179,   1,-999.0,      12,  2,19850426,2000,  24.2417, -172.8233,  4553,  406.300,   10.675,   34.258,2,   34.254,2, -999.000,9,  203.800,2,   19.220,2,   15.250,2,    0.000,2,    1.090,2, -999.000,9, -999.000,9, -999.000,9, -999.000,9, -999.000,9
           NA,    P03E,    179,   1,-999.0,      13,  2,19850426,2000,  24.2417, -172.8233,  4553,  456.900,    9.620,   34.186,2,   34.185,2, -999.000,9,  192.000,2,   24.930,2,   18.320,2,    0.000,2,    1.310,2, -999.000,9, -999.000,9, -999.000,9, -999.000,9, -999.000,9
           NA,    P03E,    179,   1,-999.0,      14,  2,19850426,2000,  24.2417, -172.8233,  4553,  517.800,    8.063,   34.108,2,   34.109,2, -999.000,9,  159.900,2,   38.390,2,   24.160,2,    0.000,2,    1.720,2, -999.000,9, -999.000,9, -999.000,9, -999.000,9, -999.000,9
           NA,    P03E,    179,   1,-999.0,      15,  2,19850426,2000,  24.2417, -172.8233,  4553,  576.800,    6.989,   34.082,2,   34.082,2, -999.000,9,  132.500,2,   51.290,2,   28.860,2,    0.000,2,    2.040,2, -999.000,9, -999.000,9, -999.000,9, -999.000,9, -999.000,9
           NA,    P03E,    179,   1,-999.0,      16,  2,19850426,2000,  24.2417, -172.8233,  4553,  637.600,    6.172,   34.091,2,   34.090,2, -999.000,9,   97.400,2,   63.790,2,   33.320,2,    0.000,2,    2.370,2, -999.000,9, -999.000,9, -999.000,9, -999.000,9, -999.000,9
           NA,    P03E,    179,   1,-999.0,      38,  2,19850426,2000,  24.2417, -172.8233,  4553,  708.600,    5.230,   34.149,2,   34.151,2, -999.000,9,   67.300,2,   82.510,2,   37.840,2,    0.000,2,    2.690,2, -999.000,9, -999.000,9, -999.000,9, -999.000,9, -999.000,9
           NA,    P03E,    179,   1,-999.0,      18,  2,19850426,2000,  24.2417, -172.8233,  4553,  810.000,    4.600,   34.269,2,   34.268,2, -999.000,9,   42.800,2,   96.180,2,   40.680,2,    0.000,2,    2.900,2, -999.000,9, -999.000,9, -999.000,9, -999.000,9, -999.000,9
           NA,    P03E,    179,   1,-999.0,      19,  2,19850426,2000,  24.2417, -172.8233,  4553,  910.300,    4.137,   34.352,2,   34.351,2, -999.000,9,   40.800,2,  106.570,2,   41.740,2,    0.000,2,    2.960,2, -999.000,9, -999.000,9, -999.000,9, -999.000,9, -999.000,9
           NA,    P03E,    179,   1,-999.0,      17,  2,19850426,2000,  24.2417, -172.8233,  4553, 1012.100,    3.854,   34.419,2,   34.419,2, -999.000,9,   45.100,2,  112.880,2,   41.890,2,    0.000,2,    2.970,2, -999.000,9, -999.000,9, -999.000,9, -999.000,9, -999.000,9
           NA,    P03E,    179,   1,-999.0,      21,  2,19850426,2000,  24.2417, -172.8233,  4553, 1112.500,    3.557,   34.461,2,   34.461,2, -999.000,9,   49.700,2,  119.390,2,   41.950,2,    0.000,2,    2.970,2, -999.000,9, -999.000,9, -999.000,9, -999.000,9, -999.000,9
           NA,    P03E,    179,   1,-999.0,      39,  2,19850426,2000,  24.2417, -172.8233,  4553, 1263.700,    3.003,   34.509,2,   34.510,2, -999.000,9,   58.200,2,  132.330,2,   41.520,2,    0.000,2,    2.940,2, -999.000,9, -999.000,9, -999.000,9, -999.000,9, -999.000,9
           NA,    P03E,    179,   1,-999.0,      23,  2,19850426,2000,  24.2417, -172.8233,  4553, 1414.400,    2.668,   34.549,2,   34.549,2, -999.000,9,   69.300,2,  139.050,2,   41.360,2,    0.000,2,    2.900,2, -999.000,9, -999.000,9, -999.000,9, -999.000,9, -999.000,9
           NA,    P03E,    179,   1,-999.0,      24,  2,19850426,2000,  24.2417, -172.8233,  4553, 1617.900,    2.380,   34.572,2,   34.574,2, -999.000,9,   76.100,2,  146.180,2,   41.090,2,    0.000,2,    2.870,2, -999.000,9, -999.000,9, -999.000,9, -999.000,9, -999.000,9
           NA,    P03E,    179,   1,-999.0,      25,  2,19850426,2000,  24.2417, -172.8233,  4553, 1819.300,    2.139,   34.597,2,   34.599,2, -999.000,9,   86.300,2,  150.380,2,   40.510,2,    0.000,2,    2.820,2, -999.000,9, -999.000,9, -999.000,9, -999.000,9, -999.000,9
           NA,    P03E,    179,   1,-999.0,      26,  2,19850426,2000,  24.2417, -172.8233,  4553, 2022.500,    2.005,   34.610,2,   34.611,2, -999.000,9,  100.000,2,  152.050,2,   40.140,2,    0.000,2,    2.800,2, -999.000,9, -999.000,9, -999.000,9, -999.000,9, -999.000,9
           NA,    P03E,    179,   1,-999.0,      27,  2,19850426,2000,  24.2417, -172.8233,  4553, 2225.300,    1.829,   34.628,2,   34.628,2, -999.000,9,  103.700,2,  154.500,2,   39.610,2,    0.000,2,    2.740,2, -999.000,9, -999.000,9, -999.000,9, -999.000,9, -999.000,9
           NA,    P03E,    179,   1,-999.0,      28,  2,19850426,2000,  24.2417, -172.8233,  4553, 2529.000,    1.681,   34.645,2,   34.645,2, -999.000,9,  115.800,2,  155.780,2,   38.560,2,    0.000,2,    2.680,2, -999.000,9, -999.000,9, -999.000,9, -999.000,9, -999.000,9
           NA,    P03E,    179,   1,-999.0,      29,  2,19850426,2000,  24.2417, -172.8233,  4553, 2833.800,    1.594,   34.656,2,   34.656,2, -999.000,9,  124.800,2,  156.280,2,   38.030,2,    0.000,2,    2.640,2, -999.000,9, -999.000,9, -999.000,9, -999.000,9, -999.000,9
           NA,    P03E,    179,   1,-999.0,      30,  2,19850426,2000,  24.2417, -172.8233,  4553, 3138.900,    1.529,   34.666,2,   34.665,2, -999.000,9,  134.300,2,  153.110,2,   37.530,2,    0.000,2,    2.610,2, -999.000,9, -999.000,9, -999.000,9, -999.000,9, -999.000,9
           NA,    P03E,    179,   1,-999.0,      31,  2,19850426,2000,  24.2417, -172.8233,  4553, 3444.600,    1.491,   34.672,2,   34.672,2, -999.000,9,  141.400,2,  149.820,2,   36.800,2,    0.000,2,    2.570,2, -999.000,9, -999.000,9, -999.000,9, -999.000,9, -999.000,9
           NA,    P03E,    179,   1,-999.0,      32,  2,19850426,2000,  24.2417, -172.8233,  4553, 3750.600,    1.469,   34.677,2,   34.677,2, -999.000,9,  148.400,2,  146.730,2,   36.390,2,    0.000,2,    2.540,2, -999.000,9, -999.000,9, -999.000,9, -999.000,9, -999.000,9
           NA,    P03E,    179,   1,-999.0,      37,  2,19850426,2000,  24.2417, -172.8233,  4553, 4057.300,    1.454,   34.681,2,   34.682,2, -999.000,9,  154.000,2,  143.820,2,   36.180,2,    0.000,2,    2.520,2, -999.000,9, -999.000,9, -999.000,9, -999.000,9, -999.000,9
           NA,    P03E,    179,   1,-999.0,      34,  2,19850426,2000,  24.2417, -172.8233,  4553, 4363.000,    1.457,   34.683,2,   34.683,2, -999.000,9,  158.700,2,  142.430,2,   35.760,2,    0.000,2,    2.480,2, -999.000,9, -999.000,9, -999.000,9, -999.000,9, -999.000,9
           NA,    P03E,    179,   1,-999.0,      35,  2,19850426,2000,  24.2417, -172.8233,  4553, 4363.100,    1.457,   34.684,2,   34.684,2, -999.000,9,  158.500,2,  142.540,2,   35.870,2,    0.000,2,    2.480,2, -999.000,9, -999.000,9, -999.000,9, -999.000,9, -999.000,9
           NA,    P03E,    179,   1,-999.0,      36,  2,19850426,2000,  24.2417, -172.8233,  4553, 4609.400,    1.420,   34.689,2,   34.689,2, -999.000,9,  167.800,2,  137.940,2,   35.240,2,    0.000,2,    2.430,2, -999.000,9, -999.000,9, -999.000,9, -999.000,9, -999.000,9