BOTTLE,20203103JOAExport
EXPOCODE,SECT_ID,STNNBR,CASTNO,SAMPNO,BTLNBR,BTLNBR_FLAG_W,DATE,TIME,LATITUDE,LONGITUDE,DEPTH,CTDPRS,CTDTMP,CTDSAL,CTDSAL_FLAG_W,SALNTY,SALNTY_FLAG_W,CTDOXY,CTDOXY_FLAG_W,OXYGEN,OXYGEN_FLAG_W,SILCAT,SILCAT_FLAG_W,NITRAT,NITRAT_FLAG_W,NITRIT,NITRIT_FLAG_W,PHSPHT,PHSPHT_FLAG_W,CFC-11,CFC-11_FLAG_W,CFC-12,CFC-12_FLAG_W,SF6,SF6_FLAG_W,TCARBN,TCARBN_FLAG_W,ALKALI,ALKALI_FLAG_W
,,,,,,,,,,,,,DB,ITS-90,PSS-78,,PSS-78,,UMOL/KG,,UMOL/KG,,UMOL/KG,,UMOL/KG,,UMOL/KG,,UMOL/KG,,PMOL/KG,,PMOL/KG,,FMOL/KG,,UMOL/KG,,UMOL/KG
           NA,    P03W,    265,   1,-999.0,       1,  2,19850515,1808,  24.2700,  152.8250,  5338,    0.000,   25.180,   34.990,2,   34.993,2, -999.000,9,  212.700,2,    1.030,2,    0.060,2,    0.000,2,    0.030,2,    1.539,2, -999.000,9, -999.000,9, -999.000,9, -999.000,9
           NA,    P03W,    265,   1,-999.0,       2,  2,19850515,1808,  24.2700,  152.8250,  5338,   24.300,   23.089,   34.957,2,   34.941,2, -999.000,9,  220.400,2,    0.970,2,    0.060,2,    0.000,2,    0.030,2, -999.000,9, -999.000,9, -999.000,9, -999.000,9, -999.000,9
           NA,    P03W,    265,   1,-999.0,       3,  2,19850515,1808,  24.2700,  152.8250,  5338,   44.800,   21.564,   35.019,2,   35.017,2, -999.000,9,  228.100,2,    1.340,2,    0.060,2,    0.000,2,    0.030,2,    1.737,2, -999.000,9, -999.000,9, -999.000,9, -999.000,9
           NA,    P03W,    265,   1,-999.0,       4,  2,19850515,1808,  24.2700,  152.8250,  5338,   75.300,   19.454,   34.891,2,   34.892,2, -999.000,9,  225.400,2,    1.700,2,    0.060,2,    0.000,2,    0.060,2, -999.000,9, -999.000,9, -999.000,9, -999.000,9, -999.000,9
           NA,    P03W,    265,   1,-999.0,       5,  2,19850515,1808,  24.2700,  152.8250,  5338,  105.300,   18.706,   34.851,2,   34.852,2, -999.000,9,  217.100,2,    2.060,2,    1.220,2,    0.050,2,    0.150,2,    1.826,2, -999.000,9, -999.000,9, -999.000,9, -999.000,9
           NA,    P03W,    265,   1,-999.0,       6,  2,19850515,1808,  24.2700,  152.8250,  5338,  145.100,   17.703,   34.810,2,   34.810,2, -999.000,9,  206.000,2,    2.640,2,    3.690,2,    0.020,2,    0.300,2,    1.715,2, -999.000,9, -999.000,9, -999.000,9, -999.000,9
           NA,    P03W,    265,   1,-999.0,       7,  2,19850515,1808,  24.2700,  152.8250,  5338,  184.900,   17.085,   34.786,2,   34.785,2, -999.000,9,  204.600,2,    3.840,2,    4.810,2,    0.010,2,    0.360,2,    1.737,2, -999.000,9, -999.000,9, -999.000,9, -999.000,9
           NA,    P03W,    265,   1,-999.0,       8,  2,19850515,1808,  24.2700,  152.8250,  5338,  234.700,   16.475,   34.754,2,   34.753,2, -999.000,9,  207.100,2,    4.200,2,    5.450,2,    0.010,2,    0.400,2,    1.763,2, -999.000,9, -999.000,9, -999.000,9, -999.000,9
           NA,    P03W,    265,   1,-999.0,       9,  2,19850515,1808,  24.2700,  152.8250,  5338,  284.800,   15.904,   34.717,2,   34.717,2, -999.000,9,  208.500,2,    5.610,2,    6.420,2,    0.010,2,    0.470,2,    1.724,2, -999.000,9, -999.000,9, -999.000,9, -999.000,9
           NA,    P03W,    265,   1,-999.0,      10,  2,19850515,1808,  24.2700,  152.8250,  5338,  335.000,   14.959,   34.643,2,   34.641,2, -999.000,9,  205.800,2,    7.860,2,    8.020,2,    0.010,2,    0.600,2,    1.639,2, -999.000,9, -999.000,9, -999.000,9, -999.000,9
           NA,    P03W,    265,   1,-999.0,      11,  2,19850515,1808,  24.2700,  152.8250,  5338,  385.300,   13.998,   34.554,2,   34.548,2, -999.000,9,  200.500,2,   10.520,2,   10.160,2,    0.010,2,    0.730,2,    1.451,2, -999.000,9, -999.000,9, -999.000,9, -999.000,9
           NA,    P03W,    265,   1,-999.0,      12,  2,19850515,1808,  24.2700,  152.8250,  5338,  445.900,   12.113,   34.397,2,   34.393,2, -999.000,9,  195.900,2,   16.540,2,   13.680,2,    0.000,2,    0.970,2,    1.386,2, -999.000,9, -999.000,9, -999.000,9, -999.000,9
           NA,    P03W,    265,   1,-999.0,      13,  2,19850515,1808,  24.2700,  152.8250,  5338,  506.900,   10.540,   34.276,2,   34.272,2, -999.000,9,  188.200,2,   23.600,2,   17.230,2,    0.000,2,    1.210,2,    1.283,2, -999.000,9, -999.000,9, -999.000,9, -999.000,9
           NA,    P03W,    265,   1,-999.0,      14,  2,19850515,1808,  24.2700,  152.8250,  5338,  567.700,    8.573,   34.140,2,   34.139,2, -999.000,9,  169.600,2,   35.040,2,   22.220,2,    0.000,2,    1.570,2,    1.040,2, -999.000,9, -999.000,9, -999.000,9, -999.000,9
           NA,    P03W,    265,   1,-999.0,      15,  2,19850515,1808,  24.2700,  152.8250,  5338,  648.300,    6.752,   34.069,2,   34.071,2, -999.000,9,  134.500,2,   53.180,2,   29.200,2,    0.000,2,    2.020,2,    0.627,2, -999.000,9, -999.000,9, -999.000,9, -999.000,9
           NA,    P03W,    265,   1,-999.0,      16,  2,19850515,1808,  24.2700,  152.8250,  5338,  728.500,    5.596,   34.097,2,   34.097,2, -999.000,9,   96.000,2,   72.550,2,   34.960,2,    0.000,2,    2.410,2,    0.328,2, -999.000,9, -999.000,9, -999.000,9, -999.000,9
           NA,    P03W,    265,   1,-999.0,      17,  2,19850515,1808,  24.2700,  152.8250,  5338,  808.500,    4.821,   34.167,2,   34.166,2, -999.000,9,   66.300,2,   89.600,2,   38.820,2,    0.000,2,    2.670,2,    0.137,2, -999.000,9, -999.000,9, -999.000,9, -999.000,9
           NA,    P03W,    265,   1,-999.0,      18,  2,19850515,1808,  24.2700,  152.8250,  5338,  908.900,    4.072,   34.268,2,   34.268,2, -999.000,9,   45.600,2,  108.930,2,   41.930,2,    0.000,2,    2.850,2,    0.030,2, -999.000,9, -999.000,9, -999.000,9, -999.000,9
           NA,    P03W,    265,   1,-999.0,      39,  2,19850515,1808,  24.2700,  152.8250,  5338, 1060.900,    3.517,   34.379,2,   34.379,2, -999.000,9,   39.700,2,  124.070,2,   43.100,2,    0.000,2,    2.920,2,    0.004,2, -999.000,9, -999.000,9, -999.000,9, -999.000,9
           NA,    P03W,    265,   1,-999.0,      20,  2,19850515,1808,  24.2700,  152.8250,  5338, 1212.000,    3.135,   34.462,2,   34.463,2, -999.000,9,   52.000,2,  132.300,2,   42.730,2,    0.000,2,    2.870,2, -999.000,9, -999.000,9, -999.000,9, -999.000,9, -999.000,9
           NA,    P03W,    265,   1,-999.0,      21,  2,19850515,1808,  24.2700,  152.8250,  5338, 1412.000,    2.683,   34.514,2,   34.514,2, -999.000,9,   61.300,2,  143.040,2,   42.410,2,    0.000,2,    2.850,2, -999.000,9, -999.000,9, -999.000,9, -999.000,9, -999.000,9
           NA,    P03W,    265,   1,-999.0,      22,  2,19850515,1808,  24.2700,  152.8250,  5338, 1607.300,    2.414,   34.552,2,   34.553,2, -999.000,9,   74.800,2,  146.870,2,   41.610,2,    0.000,2,    2.800,2, -999.000,9, -999.000,9, -999.000,9, -999.000,9, -999.000,9
           NA,    P03W,    265,   1,-999.0,      23,  2,19850515,1808,  24.2700,  152.8250,  5338, 1811.300,    2.091,   34.587,2,   34.589,2, -999.000,9,   85.400,2,  152.380,2,   41.080,2,    0.000,2,    2.760,2,    0.002,2, -999.000,9, -999.000,9, -999.000,9, -999.000,9
           NA,    P03W,    265,   1,-999.0,      24,  2,19850515,1808,  24.2700,  152.8250,  5338, 2013.900,    1.939,   34.608,2,   34.607,2, -999.000,9,   97.700,2,  153.280,2,   40.280,2,    0.000,2,    2.700,2, -999.000,9, -999.000,9, -999.000,9, -999.000,9, -999.000,9
           NA,    P03W,    265,   1,-999.0,      25,  2,19850515,1808,  24.2700,  152.8250,  5338, 2217.200,    1.777,   34.630,2,   34.630,2, -999.000,9,  112.700,2,  151.890,2,   39.320,2,    0.000,2,    2.640,2, -999.000,9, -999.000,9, -999.000,9, -999.000,9, -999.000,9
           NA,    P03W,    265,   1,-999.0,      26,  2,19850515,1808,  24.2700,  152.8250,  5338, 2420.800,    1.682,   34.643,2,   34.643,2, -999.000,9,  121.500,2,  151.130,2,   38.360,2,    0.000,2,    2.590,2, -999.000,9, -999.000,9, -999.000,9, -999.000,9, -999.000,9
           NA,    P03W,    265,   1,-999.0,      27,  2,19850515,1808,  24.2700,  152.8250,  5338, 2724.100,    1.611,   34.654,2,   34.654,2, -999.000,9,  129.200,2,  150.370,2,   37.950,2,    0.000,2,    2.550,2,    0.004,2, -999.000,9, -999.000,9, -999.000,9, -999.000,9
           NA,    P03W,    265,   1,-999.0,      28,  2,19850515,1808,  24.2700,  152.8250,  5338, 3029.200,    1.546,   34.664,2,   34.664,2, -999.000,9,  137.000,2,  150.240,2,   37.590,2,    0.000,2,    2.530,2, -999.000,9, -999.000,9, -999.000,9, -999.000,9, -999.000,9
           NA,    P03W,    265,   1,-999.0,      29,  2,19850515,1808,  24.2700,  152.8250,  5338, 3334.500,    1.505,   34.671,2,   34.671,2, -999.000,9,  143.900,2,  148.230,2,   37.230,2,    0.000,2,    2.510,2, -999.000,9, -999.000,9, -999.000,9, -999.000,9, -999.000,9
           NA,    P03W,    265,   1,-999.0,      30,  2,19850515,1808,  24.2700,  152.8250,  5338, 3640.600,    1.474,   34.677,2,   34.677,2, -999.000,9,  148.700,2,  146.020,2,   36.710,2,    0.000,2,    2.460,2,   -0.005,2, -999.000,9, -999.000,9, -999.000,9, -999.000,9
           NA,    P03W,    265,   1,-999.0,      31,  2,19850515,1808,  24.2700,  152.8250,  5338, 3945.700,    1.457,   34.681,2,   34.680,2, -999.000,9,  154.700,2,  145.680,2,   36.400,2,    0.000,2,    2.420,2, -999.000,9, -999.000,9, -999.000,9, -999.000,9, -999.000,9
           NA,    P03W,    265,   1,-999.0,      32,  2,19850515,1808,  24.2700,  152.8250,  5338, 4251.500,    1.456,   34.684,2,   34.684,2, -999.000,9,  159.500,2,  143.270,2,   36.150,2,    0.000,2,    2.420,2, -999.000,9, -999.000,9, -999.000,9, -999.000,9, -999.000,9
           NA,    P03W,    265,   1,-999.0,      33,  2,19850515,1808,  24.2700,  152.8250,  5338, 4558.700,    1.469,   34.686,2,   34.686,2, -999.000,9,  163.300,2,  141.890,2,   35.790,2,    0.000,2,    2.400,2,    0.002,2,    0.014,2, -999.000,9, -999.000,9, -999.000,9
           NA,    P03W,    265,   1,-999.0,      34,  2,19850515,1808,  24.2700,  152.8250,  5338, 4865.600,    1.471,   34.689,2,   34.689,2, -999.000,9,  167.700,2,  137.610,2,   35.700,2,    0.000,2,    2.350,2, -999.000,9, -999.000,9, -999.000,9, -999.000,9, -999.000,9
           NA,    P03W,    265,   1,-999.0,      35,  2,19850515,1808,  24.2700,  152.8250,  5338, 5174.400,    1.476,   34.692,2,   34.693,2, -999.000,9,  174.200,2,  134.580,2,   35.190,2,    0.000,2,    2.320,2, -999.000,9, -999.000,9, -999.000,9, -999.000,9, -999.000,9
           NA,    P03W,    265,   1,-999.0,      36,  2,19850515,1808,  24.2700,  152.8250,  5338, 5420.900,    1.499,   34.693,2,   34.693,2, -999.000,9,  175.500,2,  132.180,2,   34.670,2,    0.000,2,    2.330,2,   -0.002,2,    0.012,2, -999.000,9, -999.000,9, -999.000,9