BOTTLE,20203103JOAExport
EXPOCODE,SECT_ID,STNNBR,CASTNO,SAMPNO,BTLNBR,BTLNBR_FLAG_W,DATE,TIME,LATITUDE,LONGITUDE,DEPTH,CTDPRS,CTDTMP,CTDSAL,CTDSAL_FLAG_W,SALNTY,SALNTY_FLAG_W,CTDOXY,CTDOXY_FLAG_W,OXYGEN,OXYGEN_FLAG_W,SILCAT,SILCAT_FLAG_W,NITRAT,NITRAT_FLAG_W,NITRIT,NITRIT_FLAG_W,PHSPHT,PHSPHT_FLAG_W,CFC-11,CFC-11_FLAG_W,CFC-12,CFC-12_FLAG_W,SF6,SF6_FLAG_W,TCARBN,TCARBN_FLAG_W,ALKALI,ALKALI_FLAG_W
,,,,,,,,,,,,,DB,ITS-90,PSS-78,,PSS-78,,UMOL/KG,,UMOL/KG,,UMOL/KG,,UMOL/KG,,UMOL/KG,,UMOL/KG,,PMOL/KG,,PMOL/KG,,FMOL/KG,,UMOL/KG,,UMOL/KG
           NA,    P03W,    217,   1,-999.0,       1,  2,19850507,1400,  24.2483,  171.9500,  5828,    1.600,   24.803,   35.128,2,   35.131,2, -999.000,9,  211.000,2,    0.980,2,    0.050,2,    0.000,2,    0.030,2, -999.000,9, -999.000,9, -999.000,9, -999.000,9, -999.000,9
           NA,    P03W,    217,   1,-999.0,       2,  2,19850507,1400,  24.2483,  171.9500,  5828,   23.800,   24.279,   35.314,2,   35.315,2, -999.000,9,  213.800,2,    0.920,2,    0.050,2,    0.000,2,    0.030,2, -999.000,9, -999.000,9, -999.000,9, -999.000,9, -999.000,9
           NA,    P03W,    217,   1,-999.0,       3,  2,19850507,1400,  24.2483,  171.9500,  5828,   43.400,   24.165,   35.322,2,   35.324,2, -999.000,9,  213.600,2,    0.850,2,    0.050,2,    0.000,2,    0.030,2, -999.000,9, -999.000,9, -999.000,9, -999.000,9, -999.000,9
           NA,    P03W,    217,   1,-999.0,       4,  2,19850507,1400,  24.2483,  171.9500,  5828,   74.400,   24.041,   35.321,2,   35.328,2, -999.000,9,  214.300,2,    0.780,2,    0.050,2,    0.000,2,    0.030,2, -999.000,9, -999.000,9, -999.000,9, -999.000,9, -999.000,9
           NA,    P03W,    217,   1,-999.0,       5,  2,19850507,1400,  24.2483,  171.9500,  5828,  104.400,   22.635,   35.203,2,   35.203,2, -999.000,9,  204.600,2,    0.930,2,    0.050,2,    0.000,2,    0.060,2, -999.000,9, -999.000,9, -999.000,9, -999.000,9, -999.000,9
           NA,    P03W,    217,   1,-999.0,       6,  2,19850507,1400,  24.2483,  171.9500,  5828,  144.700,   20.066,   34.989,2,   35.002,2, -999.000,9,  210.100,2,    1.080,2,    0.670,2,    0.060,2,    0.110,2, -999.000,9, -999.000,9, -999.000,9, -999.000,9, -999.000,9
           NA,    P03W,    217,   1,-999.0,       7,  2,19850507,1400,  24.2483,  171.9500,  5828,  185.100,   18.304,   34.872,2,   34.873,2, -999.000,9,  210.000,2,    1.880,2,    1.970,2,    0.020,2,    0.200,2, -999.000,9, -999.000,9, -999.000,9, -999.000,9, -999.000,9
           NA,    P03W,    217,   1,-999.0,       8,  2,19850507,1400,  24.2483,  171.9500,  5828,  235.400,   16.638,   34.756,2,   34.757,2, -999.000,9,  208.200,2,    3.330,2,    4.960,2,    0.000,2,    0.370,2, -999.000,9, -999.000,9, -999.000,9, -999.000,9, -999.000,9
           NA,    P03W,    217,   1,-999.0,       9,  2,19850507,1400,  24.2483,  171.9500,  5828,  285.100,   15.636,   34.689,2,   34.689,2, -999.000,9, -999.000,5,    5.220,2,    6.570,2,    0.000,2,    0.470,2, -999.000,9, -999.000,9, -999.000,9, -999.000,9, -999.000,9
           NA,    P03W,    217,   1,-999.0,      10,  2,19850507,1400,  24.2483,  171.9500,  5828,  335.600,   14.271,   34.562,2,   34.561,2, -999.000,9, -999.000,5,    7.970,2,    8.830,2,    0.000,2,    0.620,2, -999.000,9, -999.000,9, -999.000,9, -999.000,9, -999.000,9
           NA,    P03W,    217,   1,-999.0,      11,  2,19850507,1400,  24.2483,  171.9500,  5828,  385.700,   12.837,   34.437,2,   34.435,2, -999.000,9,  209.700,2,   11.590,2,   11.190,2,    0.000,2,    0.790,2, -999.000,9, -999.000,9, -999.000,9, -999.000,9, -999.000,9
           NA,    P03W,    217,   1,-999.0,      12,  2,19850507,1400,  24.2483,  171.9500,  5828,  446.200,   11.363,   34.298,2,   34.303,2, -999.000,9, -999.000,5,   15.870,2,   14.170,2,    0.000,2,    1.000,2, -999.000,9, -999.000,9, -999.000,9, -999.000,9, -999.000,9
           NA,    P03W,    217,   1,-999.0,      13,  2,19850507,1400,  24.2483,  171.9500,  5828,  506.300,    9.472,   34.167,2,   34.168,2, -999.000,9, -999.000,5,   26.440,2,   19.720,2,    0.000,2,    1.370,2, -999.000,9, -999.000,9, -999.000,9, -999.000,9, -999.000,9
           NA,    P03W,    217,   1,-999.0,      14,  2,19850507,1400,  24.2483,  171.9500,  5828,  567.200,    8.102,   34.117,2,   34.118,2, -999.000,9,  147.600,2,   38.320,2,   25.320,2,    0.000,2,    1.780,2, -999.000,9, -999.000,9, -999.000,9, -999.000,9, -999.000,9
           NA,    P03W,    217,   1,-999.0,      15,  2,19850507,1400,  24.2483,  171.9500,  5828,  647.800,    6.674,   34.099,2,   34.099,2, -999.000,9,  109.300,2,   56.510,2,   31.520,2,    0.000,2,    2.210,2, -999.000,9, -999.000,9, -999.000,9, -999.000,9, -999.000,9
           NA,    P03W,    217,   1,-999.0,      16,  2,19850507,1400,  24.2483,  171.9500,  5828,  727.000,    5.602,   34.141,2,   34.139,2, -999.000,9,   73.900,2,   74.070,2,   36.860,2,    0.000,2,    2.580,2, -999.000,9, -999.000,9, -999.000,9, -999.000,9, -999.000,9
           NA,    P03W,    217,   1,-999.0,      17,  2,19850507,1400,  24.2483,  171.9500,  5828,  808.200,    4.929,   34.227,2,   34.227,2, -999.000,9,   50.000,2,   89.260,2,   39.930,2,    0.000,2,    2.800,2, -999.000,9, -999.000,9, -999.000,9, -999.000,9, -999.000,9
           NA,    P03W,    217,   1,-999.0,      18,  2,19850507,1400,  24.2483,  171.9500,  5828,  909.100,    4.449,   34.311,2,   34.312,2, -999.000,9,   43.100,2,  100.110,2,   41.380,2,    0.000,2,    2.900,2, -999.000,9, -999.000,9, -999.000,9, -999.000,9, -999.000,9
           NA,    P03W,    217,   1,-999.0,      39,  2,19850507,1400,  24.2483,  171.9500,  5828, 1060.500,    3.870,   34.415,2,   34.414,2, -999.000,9,   44.600,2,  113.360,2,   42.130,2,    0.000,2,    2.930,2, -999.000,9, -999.000,9, -999.000,9, -999.000,9, -999.000,9
           NA,    P03W,    217,   1,-999.0,      20,  2,19850507,1400,  24.2483,  171.9500,  5828, 1211.400,    3.380,   34.470,2,   34.470,2, -999.000,9,   53.400,2,  123.800,2,   41.990,2,    0.000,2,    2.900,2, -999.000,9, -999.000,9, -999.000,9, -999.000,9, -999.000,9
           NA,    P03W,    217,   1,-999.0,      21,  2,19850507,1400,  24.2483,  171.9500,  5828, 1411.900,    2.912,   34.525,2,   34.525,2, -999.000,9,   65.700,2,  132.940,2,   41.470,2,    0.000,2,    2.860,2, -999.000,9, -999.000,9, -999.000,9, -999.000,9, -999.000,9
           NA,    P03W,    217,   1,-999.0,      22,  2,19850507,1400,  24.2483,  171.9500,  5828, 1613.400,    2.502,   34.560,2,   34.561,2, -999.000,9,   75.500,2,  141.870,2,   41.220,2,    0.000,2,    2.840,2, -999.000,9, -999.000,9, -999.000,9, -999.000,9, -999.000,9
           NA,    P03W,    217,   1,-999.0,      23,  2,19850507,1400,  24.2483,  171.9500,  5828, 1814.500,    2.226,   34.591,2,   34.591,2, -999.000,9,   86.900,2,  146.670,2,   40.640,2,    0.000,2,    2.780,2, -999.000,9, -999.000,9, -999.000,9, -999.000,9, -999.000,9
           NA,    P03W,    217,   1,-999.0,      24,  2,19850507,1400,  24.2483,  171.9500,  5828, 2015.000,    2.030,   34.615,2,   34.615,2, -999.000,9,   99.100,2,  148.850,2,   39.900,2,    0.000,2,    2.730,2, -999.000,9, -999.000,9, -999.000,9, -999.000,9, -999.000,9
           NA,    P03W,    217,   1,-999.0,      25,  2,19850507,1400,  24.2483,  171.9500,  5828, 2216.400,    1.848,   34.631,2,   34.632,2, -999.000,9,  108.300,2,  152.130,2,   39.330,2,    0.000,2,    2.690,2, -999.000,9, -999.000,9, -999.000,9, -999.000,9, -999.000,9
           NA,    P03W,    217,   1,-999.0,      26,  2,19850507,1400,  24.2483,  171.9500,  5828, 2520.100,    1.709,   34.647,2,   34.647,2, -999.000,9,  120.400,2,  152.130,2,   38.810,2,    0.000,2,    2.640,2, -999.000,9, -999.000,9, -999.000,9, -999.000,9, -999.000,9
           NA,    P03W,    217,   1,-999.0,      27,  2,19850507,1400,  24.2483,  171.9500,  5828, 2824.200,    1.624,   34.656,2,   34.657,2, -999.000,9,  126.500,2,  153.010,2,   38.020,2,    0.000,2,    2.590,2, -999.000,9, -999.000,9, -999.000,9, -999.000,9, -999.000,9
           NA,    P03W,    217,   1,-999.0,      28,  2,19850507,1400,  24.2483,  171.9500,  5828, 3129.700,    1.568,   34.664,2,   34.664,2, -999.000,9,  133.600,2,  151.910,2,   37.770,2,    0.000,2,    2.560,2, -999.000,9, -999.000,9, -999.000,9, -999.000,9, -999.000,9
           NA,    P03W,    217,   1,-999.0,      29,  2,19850507,1400,  24.2483,  171.9500,  5828, 3434.600,    1.522,   34.671,2,   34.670,2, -999.000,9,  141.000,2,  149.730,2,   37.310,2,    0.000,2,    2.520,2, -999.000,9, -999.000,9, -999.000,9, -999.000,9, -999.000,9
           NA,    P03W,    217,   1,-999.0,      30,  2,19850507,1400,  24.2483,  171.9500,  5828, 3740.300,    1.490,   34.676,2,   34.676,2, -999.000,9,  148.100,2,  147.540,2,   36.740,2,    0.000,2,    2.480,2, -999.000,9, -999.000,9, -999.000,9, -999.000,9, -999.000,9
           NA,    P03W,    217,   1,-999.0,      31,  2,19850507,1400,  24.2483,  171.9500,  5828, 4046.400,    1.467,   34.681,2,   34.680,2, -999.000,9,  154.200,2,  145.790,2,   36.280,2,    0.000,2,    2.450,2, -999.000,9, -999.000,9, -999.000,9, -999.000,9, -999.000,9
           NA,    P03W,    217,   1,-999.0,      32,  2,19850507,1400,  24.2483,  171.9500,  5828, 4354.800,    1.445,   34.685,2,   34.685,2, -999.000,9,  161.600,2,  141.620,2,   35.820,2,    0.000,2,    2.410,2, -999.000,9, -999.000,9, -999.000,9, -999.000,9, -999.000,9
           NA,    P03W,    217,   1,-999.0,      33,  2,19850507,1400,  24.2483,  171.9500,  5828, 4714.500,    1.429,   34.689,2,   34.689,2, -999.000,9,  170.200,2,  137.010,2,   35.190,2,    0.000,2,    2.360,2, -999.000,9, -999.000,9, -999.000,9, -999.000,9, -999.000,9
           NA,    P03W,    217,   1,-999.0,      34,  2,19850507,1400,  24.2483,  171.9500,  5828, 5074.600,    1.434,   34.692,2,   34.692,2, -999.000,9,  175.100,2,  133.280,2,   34.840,2,    0.000,2,    2.340,2, -999.000,9, -999.000,9, -999.000,9, -999.000,9, -999.000,9
           NA,    P03W,    217,   1,-999.0,      35,  2,19850507,1400,  24.2483,  171.9500,  5828, 5487.100,    1.454,   34.694,2,   34.694,2, -999.000,9,  179.600,2,  130.860,2,   34.650,2,    0.000,2,    2.320,2, -999.000,9, -999.000,9, -999.000,9, -999.000,9, -999.000,9
           NA,    P03W,    217,   1,-999.0,      36,  2,19850507,1400,  24.2483,  171.9500,  5828, 5920.300,    1.491,   34.696,2,   34.696,2, -999.000,9,  182.200,2,  129.980,2,   34.250,2,    0.000,2,    2.310,2, -999.000,9, -999.000,9, -999.000,9, -999.000,9, -999.000,9