BOTTLE,20203103JOAExport
EXPOCODE,SECT_ID,STNNBR,CASTNO,SAMPNO,BTLNBR,BTLNBR_FLAG_W,DATE,TIME,LATITUDE,LONGITUDE,DEPTH,CTDPRS,CTDTMP,CTDSAL,CTDSAL_FLAG_W,SALNTY,SALNTY_FLAG_W,CTDOXY,CTDOXY_FLAG_W,OXYGEN,OXYGEN_FLAG_W,SILCAT,SILCAT_FLAG_W,NITRAT,NITRAT_FLAG_W,NITRIT,NITRIT_FLAG_W,PHSPHT,PHSPHT_FLAG_W,CFC-11,CFC-11_FLAG_W,CFC-12,CFC-12_FLAG_W,SF6,SF6_FLAG_W,TCARBN,TCARBN_FLAG_W,ALKALI,ALKALI_FLAG_W
,,,,,,,,,,,,,DB,ITS-90,PSS-78,,PSS-78,,UMOL/KG,,UMOL/KG,,UMOL/KG,,UMOL/KG,,UMOL/KG,,UMOL/KG,,PMOL/KG,,PMOL/KG,,FMOL/KG,,UMOL/KG,,UMOL/KG
           NA,    P03E,     53,   1,-999.0,       1,  2,19850407,0232,  24.2700, -131.6533,  4599,    1.800,   18.473,   34.662,2,   34.660,2, -999.000,9,  236.200,2,    1.950,2,    0.140,2,    0.000,2,    0.170,2, -999.000,9, -999.000,9, -999.000,9, -999.000,9, -999.000,9
           NA,    P03E,     53,   1,-999.0,       3,  2,19850407,0232,  24.2700, -131.6533,  4599,   20.100,   18.579,   34.832,2,   34.799,2, -999.000,9,  235.400,2,    1.930,2,    0.140,2,    0.000,2,    0.170,2, -999.000,9, -999.000,9, -999.000,9, -999.000,9, -999.000,9
           NA,    P03E,     53,   1,-999.0,       4,  2,19850407,0232,  24.2700, -131.6533,  4599,   34.900,   18.943,   35.040,2,   35.034,2, -999.000,9,  233.800,2,    1.920,2,    0.140,2,    0.000,2,    0.170,2, -999.000,9, -999.000,9, -999.000,9, -999.000,9, -999.000,9
           NA,    P03E,     53,   1,-999.0,       5,  2,19850407,0232,  24.2700, -131.6533,  4599,   54.800,   19.091,   35.114,2,   35.116,2, -999.000,9,  232.300,2,    1.900,2,    0.140,2,    0.000,2,    0.140,2, -999.000,9, -999.000,9, -999.000,9, -999.000,9, -999.000,9
           NA,    P03E,     53,   1,-999.0,       6,  2,19850407,0232,  24.2700, -131.6533,  4599,   75.000,   19.025,   35.106,2,   35.109,2, -999.000,9,  231.900,2,    1.890,2,    0.140,2,    0.000,2,    0.160,2, -999.000,9, -999.000,9, -999.000,9, -999.000,9, -999.000,9
           NA,    P03E,     53,   1,-999.0,       7,  2,19850407,0232,  24.2700, -131.6533,  4599,   95.400,   18.967,   35.102,2,   35.102,2, -999.000,9,  231.500,2,    1.870,2,    0.140,2,    0.000,2,    0.170,2, -999.000,9, -999.000,9, -999.000,9, -999.000,9, -999.000,9
           NA,    P03E,     53,   1,-999.0,       8,  2,19850407,0232,  24.2700, -131.6533,  4599,  125.900,   18.674,   35.038,2,   35.008,2, -999.000,9,  223.200,2,    2.230,2,    0.730,2,    0.110,2,    0.200,2, -999.000,9, -999.000,9, -999.000,9, -999.000,9, -999.000,9
           NA,    P03E,     53,   1,-999.0,       9,  2,19850407,0232,  24.2700, -131.6533,  4599,  156.800,   15.617,   34.445,2,   34.441,2, -999.000,9,  211.700,2,    3.910,2,    3.610,2,    0.020,2,    0.410,2, -999.000,9, -999.000,9, -999.000,9, -999.000,9, -999.000,9
           NA,    P03E,     53,   1,-999.0,      10,  2,19850407,0232,  24.2700, -131.6533,  4599,  196.900,   13.191,   34.144,2,   34.141,2, -999.000,9,  210.200,2,    7.470,2,    7.310,2,    0.010,2,    0.660,2, -999.000,9, -999.000,9, -999.000,9, -999.000,9, -999.000,9
           NA,    P03E,     53,   1,-999.0,      11,  2,19850407,0232,  24.2700, -131.6533,  4599,  237.100,   11.079,   34.015,2,   34.017,2, -999.000,9,  199.200,2,   14.790,2,   13.110,2,    0.010,2,    1.060,2, -999.000,9, -999.000,9, -999.000,9, -999.000,9, -999.000,9
           NA,    P03E,     53,   1,-999.0,      12,  2,19850407,0232,  24.2700, -131.6533,  4599,  288.200,    9.240,   33.993,2,   33.993,2, -999.000,9,  177.700,2,   25.510,2,   20.300,2,    0.000,2,    1.470,2, -999.000,9, -999.000,9, -999.000,9, -999.000,9, -999.000,9
           NA,    P03E,     53,   1,-999.0,      13,  2,19850407,0232,  24.2700, -131.6533,  4599,  338.600,    8.138,   34.024,2,   34.028,2, -999.000,9,  149.800,2,   35.670,2,   25.460,2,    0.000,2,    1.800,2, -999.000,9, -999.000,9, -999.000,9, -999.000,9, -999.000,9
           NA,    P03E,     53,   1,-999.0,      14,  2,19850407,0232,  24.2700, -131.6533,  4599,  399.100,    6.907,   34.056,2,   34.057,2, -999.000,9,   93.300,2,   53.930,2,   33.410,2,    0.000,2,    2.360,2, -999.000,9, -999.000,9, -999.000,9, -999.000,9, -999.000,9
           NA,    P03E,     53,   1,-999.0,      15,  2,19850407,0232,  24.2700, -131.6533,  4599,  459.400,    6.336,   34.089,2,   34.089,2, -999.000,9,   65.000,2,   63.540,2,   37.000,2,    0.000,2,    2.620,2, -999.000,9, -999.000,9, -999.000,9, -999.000,9, -999.000,9
           NA,    P03E,     53,   1,-999.0,      16,  2,19850407,0232,  24.2700, -131.6533,  4599,  529.400,    5.565,   34.156,2,   34.156,2, -999.000,9,   37.800,2,   77.870,2,   40.820,2,    0.000,2,    2.900,2, -999.000,9, -999.000,9, -999.000,9, -999.000,9, -999.000,9
           NA,    P03E,     53,   1,-999.0,      17,  2,19850407,0232,  24.2700, -131.6533,  4599,  609.600,    5.030,   34.230,2,   34.229,2, -999.000,9,   23.900,2,   91.470,2,   43.380,2,    0.000,2,    3.040,2, -999.000,9, -999.000,9, -999.000,9, -999.000,9, -999.000,9
           NA,    P03E,     53,   1,-999.0,      18,  2,19850407,0232,  24.2700, -131.6533,  4599,  710.400,    4.734,   34.371,2,   34.370,2, -999.000,9,   20.800,2,  101.110,2,   44.610,2,    0.000,2,    3.130,2, -999.000,9, -999.000,9, -999.000,9, -999.000,9, -999.000,9
           NA,    P03E,     53,   1,-999.0,      19,  2,19850407,0232,  24.2700, -131.6533,  4599,  811.800,    4.508,   34.427,2,   34.428,2, -999.000,9,   25.500,2,  104.510,2,   44.990,2,    0.000,2,    3.130,2, -999.000,9, -999.000,9, -999.000,9, -999.000,9, -999.000,9
           NA,    P03E,     53,   1,-999.0,      20,  2,19850407,0232,  24.2700, -131.6533,  4599,  912.300,    4.215,   34.474,2,   34.475,2, -999.000,9,   31.400,2,  109.040,2,   45.040,2,    0.000,2,    3.100,2, -999.000,9, -999.000,9, -999.000,9, -999.000,9, -999.000,9
           NA,    P03E,     53,   1,-999.0,      21,  2,19850407,0232,  24.2700, -131.6533,  4599, 1013.000,    3.921,   34.502,2,   34.503,2, -999.000,9,   37.300,2,  114.720,2,   45.100,2,    0.000,2,    3.100,2, -999.000,9, -999.000,9, -999.000,9, -999.000,9, -999.000,9
           NA,    P03E,     53,   1,-999.0,      22,  2,19850407,0232,  24.2700, -131.6533,  4599, 1114.000,    3.654,   34.520,2,   34.520,2, -999.000,9,   41.200,2,  122.310,2,   45.040,2,    0.000,2,    3.090,2, -999.000,9, -999.000,9, -999.000,9, -999.000,9, -999.000,9
           NA,    P03E,     53,   1,-999.0,      23,  2,19850407,0232,  24.2700, -131.6533,  4599, 1264.900,    3.271,   34.543,2,   34.543,2, -999.000,9,   48.400,2,  131.810,2,   44.720,2,    0.000,2,    3.080,2, -999.000,9, -999.000,9, -999.000,9, -999.000,9, -999.000,9
           NA,    P03E,     53,   1,-999.0,      24,  2,19850407,0232,  24.2700, -131.6533,  4599, 1416.200,    2.971,   34.563,2,   34.563,2, -999.000,9,   52.700,2,  139.040,2,   44.560,2,    0.000,2,    3.040,2, -999.000,9, -999.000,9, -999.000,9, -999.000,9, -999.000,9
           NA,    P03E,     53,   1,-999.0,      25,  2,19850407,0232,  24.2700, -131.6533,  4599, 1618.100,    2.590,   34.589,2,   34.591,2, -999.000,9,   62.800,2,  148.380,2,   43.860,2,    0.000,2,    2.990,2, -999.000,9, -999.000,9, -999.000,9, -999.000,9, -999.000,9
           NA,    P03E,     53,   1,-999.0,      27,  2,19850407,0232,  24.2700, -131.6533,  4599, 2022.700,    2.102,   34.627,2,   34.627,2, -999.000,9,   86.300,2,  156.580,2,   42.370,2,    0.000,2,    2.850,2, -999.000,9, -999.000,9, -999.000,9, -999.000,9, -999.000,9
           NA,    P03E,     53,   1,-999.0,      28,  2,19850407,0232,  24.2700, -131.6533,  4599, 2226.200,    1.916,   34.640,2,   34.641,2, -999.000,9,   95.600,2,  160.200,2,   41.620,2,    0.000,2,    2.790,2, -999.000,9, -999.000,9, -999.000,9, -999.000,9, -999.000,9
           NA,    P03E,     53,   1,-999.0,      29,  2,19850407,0232,  24.2700, -131.6533,  4599, 2531.000,    1.729,   34.653,2,   34.653,2, -999.000,9,  107.600,2,  163.830,2,   40.830,2,    0.000,2,    2.730,2, -999.000,9, -999.000,9, -999.000,9, -999.000,9, -999.000,9
           NA,    P03E,     53,   1,-999.0,      30,  2,19850407,0232,  24.2700, -131.6533,  4599, 2835.100,    1.605,   34.662,2,   34.662,2, -999.000,9,  117.300,2,  166.120,2,   39.940,2,    0.000,2,    2.680,2, -999.000,9, -999.000,9, -999.000,9, -999.000,9, -999.000,9
           NA,    P03E,     53,   1,-999.0,      31,  2,19850407,0232,  24.2700, -131.6533,  4599, 3141.000,    1.521,   34.671,2,   34.670,2, -999.000,9,  128.300,2,  166.120,2,   39.200,2,    0.000,2,    2.620,2, -999.000,9, -999.000,9, -999.000,9, -999.000,9, -999.000,9
           NA,    P03E,     53,   1,-999.0,      32,  2,19850407,0232,  24.2700, -131.6533,  4599, 3446.400,    1.489,   34.676,2,   34.676,2, -999.000,9,  135.900,2,  164.580,2,   38.680,2,    0.000,2,    2.580,2, -999.000,9, -999.000,9, -999.000,9, -999.000,9, -999.000,9
           NA,    P03E,     53,   1,-999.0,      37,  2,19850407,0232,  24.2700, -131.6533,  4599, 3751.700,    1.490,   34.679,2,   34.680,2, -999.000,9,  140.400,2,  163.990,2,   38.260,2,    0.000,2,    2.550,2, -999.000,9, -999.000,9, -999.000,9, -999.000,9, -999.000,9
           NA,    P03E,     53,   1,-999.0,      34,  2,19850407,0232,  24.2700, -131.6533,  4599, 4058.400,    1.499,   34.682,2,   34.681,2, -999.000,9,  145.100,2,  161.690,2,   38.110,2,    0.000,2,    2.530,2, -999.000,9, -999.000,9, -999.000,9, -999.000,9, -999.000,9
           NA,    P03E,     53,   1,-999.0,      35,  2,19850407,0232,  24.2700, -131.6533,  4599, 4364.700,    1.500,   34.684,2,   34.683,2, -999.000,9,  150.300,2,  158.810,2,   37.640,2,    0.000,2,    2.500,2, -999.000,9, -999.000,9, -999.000,9, -999.000,9, -999.000,9
           NA,    P03E,     53,   1,-999.0,      36,  2,19850407,0232,  24.2700, -131.6533,  4599, 4706.700,    1.493,   34.688,2,   34.688,2, -999.000,9,  157.000,2,  153.440,2,   37.130,2,    0.000,2,    2.460,2, -999.000,9, -999.000,9, -999.000,9, -999.000,9, -999.000,9
           NA,    P03E,     51,   1,-999.0,       1,  2,19850406,1905,  24.2600, -130.8333,  4717,    1.000,   18.509,   34.589,2,   34.591,2, -999.000,9,  237.900,2,    1.950,2,    0.140,2,    0.000,2,    0.180,2,    2.100,2,    1.062,2, -999.000,9, -999.000,9, -999.000,9
           NA,    P03E,     51,   1,-999.0,       2,  2,19850406,1905,  24.2600, -130.8333,  4717,   19.900,   18.268,   34.610,2,   34.609,2, -999.000,9,  237.900,2,    1.860,2,    0.140,2,    0.000,2,    0.180,2, -999.000,9, -999.000,9, -999.000,9, -999.000,9, -999.000,9
           NA,    P03E,     51,   1,-999.0,       3,  2,19850406,1905,  24.2600, -130.8333,  4717,   34.900,   18.254,   34.621,2,   34.624,2, -999.000,9,  237.500,2,    1.860,2,    0.140,2,    0.000,2,    0.180,2,    2.085,2,    1.063,2, -999.000,9, -999.000,9, -999.000,9
           NA,    P03E,     51,   1,-999.0,       4,  2,19850406,1905,  24.2600, -130.8333,  4717,   64.300,   18.260,   34.630,2,   34.631,2, -999.000,9,  236.600,2,    1.760,2,    0.140,2,    0.000,2,    0.180,2,    2.040,2,    1.044,2, -999.000,9, -999.000,9, -999.000,9
           NA,    P03E,     51,   1,-999.0,       5,  2,19850406,1905,  24.2600, -130.8333,  4717,   94.100,   18.545,   34.811,2,   34.804,2, -999.000,9,  234.000,2,    1.760,2,    0.140,2,    0.000,2,    0.180,2, -999.000,9, -999.000,9, -999.000,9, -999.000,9, -999.000,9
           NA,    P03E,     51,   1,-999.0,       6,  2,19850406,1905,  24.2600, -130.8333,  4717,  123.600,   18.614,   34.868,2,   34.867,2, -999.000,9,  234.000,2,    1.560,2,    0.140,2,    0.000,2,    0.170,2,    2.055,2,    1.042,2, -999.000,9, -999.000,9, -999.000,9
           NA,    P03E,     51,   1,-999.0,       7,  2,19850406,1905,  24.2600, -130.8333,  4717,  154.100,   18.640,   34.893,2,   34.896,2, -999.000,9,  230.900,2,    1.660,2,    0.210,2,    0.020,2,    0.170,2, -999.000,9, -999.000,9, -999.000,9, -999.000,9, -999.000,9
           NA,    P03E,     51,   1,-999.0,       8,  2,19850406,1905,  24.2600, -130.8333,  4717,  195.800,   15.300,   34.252,2,   34.240,2, -999.000,9,  214.300,2,    4.300,2,    3.240,2,    0.020,2,    0.440,2, -999.000,9, -999.000,9, -999.000,9, -999.000,9, -999.000,9
           NA,    P03E,     51,   1,-999.0,       9,  2,19850406,1905,  24.2600, -130.8333,  4717,  236.400,   11.647,   33.935,2,   33.916,2, -999.000,9,  199.800,2,   12.130,2,   11.540,2,    0.000,2,    0.960,2, -999.000,9, -999.000,9, -999.000,9, -999.000,9, -999.000,9
           NA,    P03E,     51,   1,-999.0,      10,  2,19850406,1905,  24.2600, -130.8333,  4717,  286.400,    9.180,   33.948,2,   33.961,2, -999.000,9,  168.400,2,   25.920,2,   21.220,2,    0.000,2,    1.550,2, -999.000,9, -999.000,9, -999.000,9, -999.000,9, -999.000,9
           NA,    P03E,     51,   1,-999.0,      11,  2,19850406,1905,  24.2600, -130.8333,  4717,  336.900,    8.119,   34.039,2,   34.049,2, -999.000,9,  129.600,2,   37.160,2,   26.890,2,    0.000,2,    1.980,2, -999.000,9, -999.000,9, -999.000,9, -999.000,9, -999.000,9
           NA,    P03E,     51,   1,-999.0,      12,  2,19850406,1905,  24.2600, -130.8333,  4717,  397.300,    7.001,   34.057,2,   34.057,2, -999.000,9,   97.400,2,   50.460,2,   32.370,2,    0.000,2,    2.330,2, -999.000,9, -999.000,9, -999.000,9, -999.000,9, -999.000,9
           NA,    P03E,     51,   1,-999.0,      13,  2,19850406,1905,  24.2600, -130.8333,  4717,  457.200,    6.204,   34.104,2,   34.105,2, -999.000,9,   57.400,2,   64.540,2,   37.650,2,    0.000,2,    2.700,2, -999.000,9, -999.000,9, -999.000,9, -999.000,9, -999.000,9
           NA,    P03E,     51,   1,-999.0,      14,  2,19850406,1905,  24.2600, -130.8333,  4717,  527.300,    5.572,   34.185,2,   34.186,2, -999.000,9,   30.000,2,   77.640,2,   41.260,2,    0.000,2,    2.940,2, -999.000,9, -999.000,9, -999.000,9, -999.000,9, -999.000,9
           NA,    P03E,     51,   1,-999.0,      15,  2,19850406,1905,  24.2600, -130.8333,  4717,  608.400,    5.141,   34.268,2,   34.270,2, -999.000,9,   18.700,2,   87.210,2,   43.220,2,    0.000,2,    3.080,2, -999.000,9, -999.000,9, -999.000,9, -999.000,9, -999.000,9
           NA,    P03E,     51,   1,-999.0,      16,  2,19850406,1905,  24.2600, -130.8333,  4717,  708.800,    4.772,   34.355,2,   34.355,2, -999.000,9,   17.400,2,   96.980,2,   44.290,2,    0.000,2,    3.130,2, -999.000,9, -999.000,9, -999.000,9, -999.000,9, -999.000,9
           NA,    P03E,     51,   1,-999.0,      17,  2,19850406,1905,  24.2600, -130.8333,  4717,  810.100,    4.461,   34.439,2,   34.439,2, -999.000,9,   25.600,2,  104.310,2,   44.770,2,    0.000,2,    3.130,2, -999.000,9, -999.000,9, -999.000,9, -999.000,9, -999.000,9
           NA,    P03E,     51,   1,-999.0,      18,  2,19850406,1905,  24.2600, -130.8333,  4717,  910.700,    4.172,   34.480,2,   34.478,2, -999.000,9,   29.100,2,  108.710,2,   44.870,2,    0.000,2,    3.140,2, -999.000,9, -999.000,9, -999.000,9, -999.000,9, -999.000,9
           NA,    P03E,     51,   1,-999.0,      19,  2,19850406,1905,  24.2600, -130.8333,  4717, 1011.700,    3.884,   34.502,2,   34.502,2, -999.000,9,   35.200,2,  113.980,2,   44.870,2,    0.000,2,    3.120,2, -999.000,9, -999.000,9, -999.000,9, -999.000,9, -999.000,9
           NA,    P03E,     51,   1,-999.0,      20,  2,19850406,1905,  24.2600, -130.8333,  4717, 1112.200,    3.656,   34.519,2,   34.519,2, -999.000,9,   37.800,2,  119.260,2,   44.870,2,    0.000,2,    3.120,2, -999.000,9, -999.000,9, -999.000,9, -999.000,9, -999.000,9
           NA,    P03E,     51,   1,-999.0,      21,  2,19850406,1905,  24.2600, -130.8333,  4717, 1264.100,    3.316,   34.544,2,   34.544,2, -999.000,9,   43.500,2,  130.600,2,   44.870,2,    0.000,2,    3.110,2, -999.000,9, -999.000,9, -999.000,9, -999.000,9, -999.000,9
           NA,    P03E,     51,   1,-999.0,      23,  2,19850406,1905,  24.2600, -130.8333,  4717, 1617.500,    2.595,   34.590,2,   34.590,2, -999.000,9,   63.000,2,  149.460,2,   43.790,2,    0.000,2,    2.990,2, -999.000,9, -999.000,9, -999.000,9, -999.000,9, -999.000,9
           NA,    P03E,     51,   1,-999.0,      24,  2,19850406,1905,  24.2600, -130.8333,  4717, 1818.000,    2.290,   34.612,2,   34.613,2, -999.000,9,   75.200,2,  153.760,2,   42.720,2,    0.000,2,    2.910,2, -999.000,9, -999.000,9, -999.000,9, -999.000,9, -999.000,9
           NA,    P03E,     51,   1,-999.0,      25,  2,19850406,1905,  24.2600, -130.8333,  4717, 2020.200,    2.062,   34.629,2,   34.629,2, -999.000,9,   87.300,2,  155.710,2,   42.030,2,    0.000,2,    2.830,2, -999.000,9, -999.000,9, -999.000,9, -999.000,9, -999.000,9
           NA,    P03E,     51,   1,-999.0,      26,  2,19850406,1905,  24.2600, -130.8333,  4717, 2222.500,    1.904,   34.640,2, -999.000,5, -999.000,9,   96.000,2,  158.740,2,   41.350,2,    0.000,2,    2.790,2, -999.000,9, -999.000,9, -999.000,9, -999.000,9, -999.000,9
           NA,    P03E,     51,   1,-999.0,      27,  2,19850406,1905,  24.2600, -130.8333,  4717, 2425.400,    1.789,   34.649,2,   34.649,2, -999.000,9,  103.000,2,  160.790,2,   40.660,2,    0.000,2,    2.750,2, -999.000,9, -999.000,9, -999.000,9, -999.000,9, -999.000,9
           NA,    P03E,     51,   1,-999.0,      28,  2,19850406,1905,  24.2600, -130.8333,  4717, 2628.800,    1.702,   34.655,2,   34.654,2, -999.000,9,  109.900,2,  166.750,2,   40.470,2,    0.000,2,    2.720,2, -999.000,9, -999.000,9, -999.000,9, -999.000,9, -999.000,9
           NA,    P03E,     51,   1,-999.0,      29,  2,19850406,1905,  24.2600, -130.8333,  4717, 2832.400,    1.603,   34.663,2,   34.661,2, -999.000,9,  117.300,2,  170.370,2,   39.980,2,    0.000,2,    2.680,2, -999.000,9, -999.000,9, -999.000,9, -999.000,9, -999.000,9
           NA,    P03E,     51,   1,-999.0,      30,  2,19850406,1905,  24.2600, -130.8333,  4717, 3137.900,    1.528,   34.671,2,   34.670,2, -999.000,9,  127.300,2,  166.550,2,   39.100,2,    0.000,2,    2.630,2, -999.000,9, -999.000,9, -999.000,9, -999.000,9, -999.000,9
           NA,    P03E,     51,   1,-999.0,      31,  2,19850406,1905,  24.2600, -130.8333,  4717, 3443.000,    1.501,   34.675,2,   34.675,2, -999.000,9, -999.000,5,  162.740,2,   38.710,2,    0.000,2,    2.580,2, -999.000,9, -999.000,9, -999.000,9, -999.000,9, -999.000,9
           NA,    P03E,     51,   1,-999.0,      32,  2,19850406,1905,  24.2600, -130.8333,  4717, 3749.200,    1.496,   34.680,2,   34.678,2, -999.000,9,  139.500,2,  160.590,2,   38.220,2,    0.000,2,    2.550,2, -999.000,9, -999.000,9, -999.000,9, -999.000,9, -999.000,9
           NA,    P03E,     51,   1,-999.0,      34,  2,19850406,1905,  24.2600, -130.8333,  4717, 4055.800,    1.503,   34.682,2,   34.681,2, -999.000,9,  143.800,2,  158.640,2,   37.630,2,    0.000,2,    2.530,2, -999.000,9, -999.000,9, -999.000,9, -999.000,9, -999.000,9
           NA,    P03E,     51,   1,-999.0,      35,  2,19850406,1905,  24.2600, -130.8333,  4717, 4414.400,    1.509,   34.685,2,   34.684,2, -999.000,9,  150.300,2,  155.020,2,   37.340,2,    0.000,2,    2.490,2, -999.000,9, -999.000,9, -999.000,9, -999.000,9, -999.000,9
           NA,    P03E,     51,   1,-999.0,      36,  2,19850406,1905,  24.2600, -130.8333,  4717, 4777.300,    1.507,   34.688,2,   34.687,2, -999.000,9,  156.900,2,  149.250,2,   36.950,2,    0.000,2,    2.440,2, -999.000,9, -999.000,9, -999.000,9, -999.000,9, -999.000,9