BOTTLE,20203103JOAExport
EXPOCODE,SECT_ID,STNNBR,CASTNO,SAMPNO,BTLNBR,BTLNBR_FLAG_W,DATE,TIME,LATITUDE,LONGITUDE,DEPTH,CTDPRS,CTDTMP,CTDSAL,CTDSAL_FLAG_W,SALNTY,SALNTY_FLAG_W,CTDOXY,CTDOXY_FLAG_W,OXYGEN,OXYGEN_FLAG_W,SILCAT,SILCAT_FLAG_W,NITRAT,NITRAT_FLAG_W,NITRIT,NITRIT_FLAG_W,PHSPHT,PHSPHT_FLAG_W,CFC-11,CFC-11_FLAG_W,CFC-12,CFC-12_FLAG_W,SF6,SF6_FLAG_W,TCARBN,TCARBN_FLAG_W,ALKALI,ALKALI_FLAG_W
,,,,,,,,,,,,,DB,ITS-90,PSS-78,,PSS-78,,UMOL/KG,,UMOL/KG,,UMOL/KG,,UMOL/KG,,UMOL/KG,,UMOL/KG,,PMOL/KG,,PMOL/KG,,FMOL/KG,,UMOL/KG,,UMOL/KG
           NA,    P03W,    241,   1,-999.0,       1,  2,19850511,1719,  24.2500,  162.4467,  5449,    0.000,   25.273,   35.021,2,   35.026,2, -999.000,9,  209.900,2,    0.490,2,    0.130,2,    0.000,2,    0.030,2, -999.000,9, -999.000,9, -999.000,9, -999.000,9, -999.000,9
           NA,    P03W,    241,   1,-999.0,       2,  2,19850511,1719,  24.2500,  162.4467,  5449,   24.300,   25.078,   35.203,2,   35.191,2, -999.000,9,  210.800,2,    0.490,2,    0.120,2,    0.000,2,    0.030,2, -999.000,9, -999.000,9, -999.000,9, -999.000,9, -999.000,9
           NA,    P03W,    241,   1,-999.0,       3,  2,19850511,1719,  24.2500,  162.4467,  5449,   44.500,   24.355,   35.260,2,   35.263,2, -999.000,9,  212.900,2,    0.490,2,    0.120,2,    0.000,2,    0.030,2, -999.000,9, -999.000,9, -999.000,9, -999.000,9, -999.000,9
           NA,    P03W,    241,   1,-999.0,       4,  2,19850511,1719,  24.2500,  162.4467,  5449,   74.700,   23.374,   35.205,2,   35.209,2, -999.000,9,  215.900,2,    0.390,2,    0.120,2,    0.000,2,    0.010,2, -999.000,9, -999.000,9, -999.000,9, -999.000,9, -999.000,9
           NA,    P03W,    241,   1,-999.0,       5,  2,19850511,1719,  24.2500,  162.4467,  5449,  105.300,   22.082,   35.065,2,   35.067,2, -999.000,9,  212.300,2,    0.590,2,    0.120,2,    0.000,2,    0.040,2, -999.000,9, -999.000,9, -999.000,9, -999.000,9, -999.000,9
           NA,    P03W,    241,   1,-999.0,       6,  2,19850511,1719,  24.2500,  162.4467,  5449,  145.400,   19.498,   34.948,2,   34.949,2, -999.000,9,  204.400,2,    1.170,2,    1.480,2,    0.020,2,    0.160,2, -999.000,9, -999.000,9, -999.000,9, -999.000,9, -999.000,9
           NA,    P03W,    241,   1,-999.0,       7,  2,19850511,1719,  24.2500,  162.4467,  5449,  185.200,   18.294,   34.843,2,   34.843,2, -999.000,9,  205.600,2,    1.950,2,    2.770,2,    0.020,2,    0.230,2, -999.000,9, -999.000,9, -999.000,9, -999.000,9, -999.000,9
           NA,    P03W,    241,   1,-999.0,       8,  2,19850511,1719,  24.2500,  162.4467,  5449,  235.900,   16.828,   34.771,2,   34.772,2, -999.000,9,  205.600,2,    3.130,2,    5.120,2,    0.010,2,    0.360,2, -999.000,9, -999.000,9, -999.000,9, -999.000,9, -999.000,9
           NA,    P03W,    241,   1,-999.0,       9,  2,19850511,1719,  24.2500,  162.4467,  5449,  286.000,   15.908,   34.723,2,   34.720,2, -999.000,9,  209.500,2,    4.690,2,    6.410,2,    0.010,2,    0.440,2, -999.000,9, -999.000,9, -999.000,9, -999.000,9, -999.000,9
           NA,    P03W,    241,   1,-999.0,      10,  2,19850511,1719,  24.2500,  162.4467,  5449,  335.900,   14.941,   34.642,2,   34.640,2, -999.000,9,  204.600,2,    7.330,2,    8.330,2,    0.010,2,    0.570,2, -999.000,9, -999.000,9, -999.000,9, -999.000,9, -999.000,9
           NA,    P03W,    241,   1,-999.0,      11,  2,19850511,1719,  24.2500,  162.4467,  5449,  386.100,   13.728,   34.529,2,   34.529,2, -999.000,9,  200.200,2,   10.360,2,   10.460,2,    0.010,2,    0.720,2, -999.000,9, -999.000,9, -999.000,9, -999.000,9, -999.000,9
           NA,    P03W,    241,   1,-999.0,      12,  2,19850511,1719,  24.2500,  162.4467,  5449,  447.200,   12.040,   34.388,2,   34.385,2, -999.000,9,  197.200,2,   16.330,2,   13.880,2,    0.010,2,    0.950,2, -999.000,9, -999.000,9, -999.000,9, -999.000,9, -999.000,9
           NA,    P03W,    241,   1,-999.0,      13,  2,19850511,1719,  24.2500,  162.4467,  5449,  507.600,   10.549,   34.264,2,   34.262,2, -999.000,9,  187.500,2,   22.000,2,   17.010,2,    0.010,2,    1.170,2, -999.000,9, -999.000,9, -999.000,9, -999.000,9, -999.000,9
           NA,    P03W,    241,   1,-999.0,      14,  2,19850511,1719,  24.2500,  162.4467,  5449,  568.000,    9.120,   34.170,2,   34.170,2, -999.000,9,  173.200,2,   30.210,2,   21.020,2,    0.010,2,    1.470,2, -999.000,9, -999.000,9, -999.000,9, -999.000,9, -999.000,9
           NA,    P03W,    241,   1,-999.0,      15,  2,19850511,1719,  24.2500,  162.4467,  5449,  648.400,    7.290,   34.106,2,   34.107,2, -999.000,9,  127.900,2,   48.400,2,   28.750,2,    0.010,2,    1.990,2, -999.000,9, -999.000,9, -999.000,9, -999.000,9, -999.000,9
           NA,    P03W,    241,   1,-999.0,      16,  2,19850511,1719,  24.2500,  162.4467,  5449,  729.300,    5.746,   34.064,2,   34.069,2, -999.000,9,  110.900,2,   66.790,2,   33.150,2,    0.000,2,    2.310,2, -999.000,9, -999.000,9, -999.000,9, -999.000,9, -999.000,9
           NA,    P03W,    241,   1,-999.0,      17,  2,19850511,1719,  24.2500,  162.4467,  5449,  809.800,    4.932,   34.135,2,   34.134,2, -999.000,9,   73.900,2,   84.680,2,   37.650,2,    0.000,2,    2.600,2, -999.000,9, -999.000,9, -999.000,9, -999.000,9, -999.000,9
           NA,    P03W,    241,   1,-999.0,      18,  2,19850511,1719,  24.2500,  162.4467,  5449,  909.900,    4.349,   34.211,2,   34.210,2, -999.000,9,   52.600,2,   98.950,2,   40.870,2,    0.000,2,    2.770,2, -999.000,9, -999.000,9, -999.000,9, -999.000,9, -999.000,9
           NA,    P03W,    241,   1,-999.0,      39,  2,19850511,1719,  24.2500,  162.4467,  5449, 1058.400,    3.753,   34.358,2,   34.356,2, -999.000,9,   40.900,2,  115.460,2,   42.720,2,    0.000,2,    2.920,2, -999.000,9, -999.000,9, -999.000,9, -999.000,9, -999.000,9
           NA,    P03W,    241,   1,-999.0,      20,  2,19850511,1719,  24.2500,  162.4467,  5449, 1206.100,    3.452,   34.469,2,   34.468,2, -999.000,9,   56.900,2,  120.730,2,   41.940,2,    0.000,2, -999.000,5, -999.000,9, -999.000,9, -999.000,9, -999.000,9, -999.000,9
           NA,    P03W,    241,   1,-999.0,      21,  2,19850511,1719,  24.2500,  162.4467,  5449, 1407.500,    2.899,   34.521,2,   34.522,2, -999.000,9,   68.200,2,  131.580,2,   41.640,2,    0.000,2, -999.000,5, -999.000,9, -999.000,9, -999.000,9, -999.000,9, -999.000,9
           NA,    P03W,    241,   1,-999.0,      22,  2,19850511,1719,  24.2500,  162.4467,  5449, 1598.200,    2.516,   34.551,2,   34.552,2, -999.000,9,   75.600,2,  141.150,2,   41.350,2,    0.000,2, -999.000,5, -999.000,9, -999.000,9, -999.000,9, -999.000,9, -999.000,9
           NA,    P03W,    241,   1,-999.0,      23,  2,19850511,1719,  24.2500,  162.4467,  5449, 1797.100,    2.229,   34.585,2,   34.586,2, -999.000,9,   89.500,2,  145.250,2,   40.370,2,    0.000,2, -999.000,5, -999.000,9, -999.000,9, -999.000,9, -999.000,9, -999.000,9
           NA,    P03W,    241,   1,-999.0,      24,  2,19850511,1719,  24.2500,  162.4467,  5449, 2010.100,    2.026,   34.607,2,   34.608,2, -999.000,9,   97.800,2,  148.090,2,   40.080,2,    0.000,2,    2.710,2, -999.000,9, -999.000,9, -999.000,9, -999.000,9, -999.000,9
           NA,    P03W,    241,   1,-999.0,      25,  2,19850511,1719,  24.2500,  162.4467,  5449, 2210.600,    1.872,   34.625,2,   34.627,2, -999.000,9,  107.300,2,  152.390,2,   39.200,2,    0.000,2, -999.000,5, -999.000,9, -999.000,9, -999.000,9, -999.000,9, -999.000,9
           NA,    P03W,    241,   1,-999.0,      26,  2,19850511,1719,  24.2500,  162.4467,  5449, 2513.600,    1.740,   34.643,2,   34.643,2, -999.000,9,  118.200,2,  154.530,2,   38.900,2,    0.000,2, -999.000,5, -999.000,9, -999.000,9, -999.000,9, -999.000,9, -999.000,9
           NA,    P03W,    241,   1,-999.0,      27,  2,19850511,1719,  24.2500,  162.4467,  5449, 2814.000,    1.650,   34.654,2,   34.654,2, -999.000,9,  126.900,2,  153.560,2,   38.320,2,    0.000,2, -999.000,5, -999.000,9, -999.000,9, -999.000,9, -999.000,9, -999.000,9
           NA,    P03W,    241,   1,-999.0,      28,  2,19850511,1719,  24.2500,  162.4467,  5449, 3117.700,    1.589,   34.662,2,   34.662,2, -999.000,9,  133.000,2,  152.280,2,   37.920,2,    0.000,2, -999.000,5, -999.000,9, -999.000,9, -999.000,9, -999.000,9, -999.000,9
           NA,    P03W,    241,   1,-999.0,      29,  2,19850511,1719,  24.2500,  162.4467,  5449, 3411.000,    1.538,   34.669,2,   34.667,2, -999.000,9,  139.000,2,  151.110,2,   37.440,2,    0.000,2, -999.000,5, -999.000,9, -999.000,9, -999.000,9, -999.000,9, -999.000,9
           NA,    P03W,    241,   1,-999.0,      30,  2,19850511,1719,  24.2500,  162.4467,  5449, 3704.400,    1.507,   34.674,2,   34.673,2, -999.000,9,  145.600,2,  150.030,2,   37.040,2,    0.000,2, -999.000,5, -999.000,9, -999.000,9, -999.000,9, -999.000,9, -999.000,9
           NA,    P03W,    241,   1,-999.0,      31,  2,19850511,1719,  24.2500,  162.4467,  5449, 4010.600,    1.485,   34.678,2,   34.678,2, -999.000,9,  151.200,2,  148.270,2,   36.460,2,    0.000,2, -999.000,5, -999.000,9, -999.000,9, -999.000,9, -999.000,9, -999.000,9
           NA,    P03W,    241,   1,-999.0,      32,  2,19850511,1719,  24.2500,  162.4467,  5449, 4228.500,    1.470,   34.681,2,   34.681,2, -999.000,9,  156.000,2,  147.100,2,   36.260,2,    0.000,2, -999.000,5, -999.000,9, -999.000,9, -999.000,9, -999.000,9, -999.000,9
           NA,    P03W,    241,   1,-999.0,      33,  2,19850511,1719,  24.2500,  162.4467,  5449, 4550.700,    1.461,   34.685,2,   34.686,2, -999.000,9,  161.600,2,  143.580,2,   35.770,2,    0.000,2, -999.000,5, -999.000,9, -999.000,9, -999.000,9, -999.000,9, -999.000,9
           NA,    P03W,    241,   1,-999.0,      34,  2,19850511,1719,  24.2500,  162.4467,  5449, 4866.400,    1.467,   34.688,2,   34.690,2, -999.000,9,  166.900,2,  140.850,2,   35.380,2,    0.000,2, -999.000,5,    0.008,2,   -0.003,2, -999.000,9, -999.000,9, -999.000,9
           NA,    P03W,    241,   1,-999.0,      35,  2,19850511,1719,  24.2500,  162.4467,  5449, 5172.000,    1.484,   34.690,2,   34.690,2, -999.000,9,  170.300,2,  138.300,2,   35.090,2,    0.000,2, -999.000,5,   -0.003,2,    0.000,2, -999.000,9, -999.000,9, -999.000,9
           NA,    P03W,    241,   1,-999.0,      36,  2,19850511,1719,  24.2500,  162.4467,  5449, 5545.700,    1.479,   34.693,2,   34.693,2, -999.000,9,  176.800,2,  134.590,2,   34.500,2,    0.000,2, -999.000,5,    0.002,2, -999.000,9, -999.000,9, -999.000,9, -999.000,9