BOTTLE,20203103JOAExport
EXPOCODE,SECT_ID,STNNBR,CASTNO,SAMPNO,BTLNBR,BTLNBR_FLAG_W,DATE,TIME,LATITUDE,LONGITUDE,DEPTH,CTDPRS,CTDTMP,CTDSAL,CTDSAL_FLAG_W,SALNTY,SALNTY_FLAG_W,CTDOXY,CTDOXY_FLAG_W,OXYGEN,OXYGEN_FLAG_W,SILCAT,SILCAT_FLAG_W,NITRAT,NITRAT_FLAG_W,NITRIT,NITRIT_FLAG_W,PHSPHT,PHSPHT_FLAG_W,CFC-11,CFC-11_FLAG_W,CFC-12,CFC-12_FLAG_W,SF6,SF6_FLAG_W,TCARBN,TCARBN_FLAG_W,ALKALI,ALKALI_FLAG_W
,,,,,,,,,,,,,DB,ITS-90,PSS-78,,PSS-78,,UMOL/KG,,UMOL/KG,,UMOL/KG,,UMOL/KG,,UMOL/KG,,UMOL/KG,,PMOL/KG,,PMOL/KG,,FMOL/KG,,UMOL/KG,,UMOL/KG
           NA,    P03E,    169,   1,-999.0,       1,  2,19850425,0721,  22.7467, -169.3383,  4681,    1.600,   24.430,   35.139,2,   35.143,2, -999.000,9,  213.100,2,    1.910,2,    0.050,2,    0.000,2,    0.130,2,    1.556,2,    0.806,2, -999.000,9, -999.000,9, -999.000,9
           NA,    P03E,    169,   1,-999.0,       2,  2,19850425,0721,  22.7467, -169.3383,  4681,   23.700,   23.749,   35.325,2,   35.312,2, -999.000,9,  216.400,2,    1.790,2,    0.050,2,    0.000,2,    0.090,2,    1.618,2,    0.824,2, -999.000,9, -999.000,9, -999.000,9
           NA,    P03E,    169,   1,-999.0,       3,  2,19850425,0721,  22.7467, -169.3383,  4681,   43.400,   23.634,   35.333,2,   35.335,2, -999.000,9,  216.700,2,    1.670,2,    0.050,2,    0.000,2,    0.080,2,    1.560,2,    0.809,2, -999.000,9, -999.000,9, -999.000,9
           NA,    P03E,    169,   1,-999.0,       4,  2,19850425,0721,  22.7467, -169.3383,  4681,   73.000,   23.546,   35.329,2,   35.330,2, -999.000,9,  217.100,2,    1.560,2,    0.050,2,    0.000,2,    0.080,2,    1.579,2,    0.813,2, -999.000,9, -999.000,9, -999.000,9
           NA,    P03E,    169,   1,-999.0,       5,  2,19850425,0721,  22.7467, -169.3383,  4681,  103.000,   23.408,   35.324,2,   35.326,2, -999.000,9,  214.900,2,    1.440,2,    0.050,2,    0.000,2,    0.070,2,    1.604,2,    0.821,2, -999.000,9, -999.000,9, -999.000,9
           NA,    P03E,    169,   1,-999.0,       6,  2,19850425,0721,  22.7467, -169.3383,  4681,  143.000,   22.993,   35.324,2,   35.327,2, -999.000,9,  212.800,2,    1.330,2,    0.030,2,    0.020,2,    0.080,2,    1.587,2,    0.815,2, -999.000,9, -999.000,9, -999.000,9
           NA,    P03E,    169,   1,-999.0,       7,  2,19850425,0721,  22.7467, -169.3383,  4681,  184.100,   21.211,   35.169,2,   35.174,2, -999.000,9,  200.200,2,    2.020,2,    0.990,2,    0.040,2,    0.170,2,    1.689,2,    0.871,2, -999.000,9, -999.000,9, -999.000,9
           NA,    P03E,    169,   1,-999.0,       8,  2,19850425,0721,  22.7467, -169.3383,  4681,  234.400,   18.096,   34.884,2,   34.883,2, -999.000,9,  197.000,2,    3.520,2,    3.590,2,    0.010,2,    0.350,2,    1.750,2,    0.874,2, -999.000,9, -999.000,9, -999.000,9
           NA,    P03E,    169,   1,-999.0,       9,  2,19850425,0721,  22.7467, -169.3383,  4681,  284.400,   15.953,   34.690,2,   34.687,2, -999.000,9,  205.700,2,    5.410,2,    5.880,2,    0.010,2,    0.500,2,    1.817,2,    0.905,2, -999.000,9, -999.000,9, -999.000,9
           NA,    P03E,    169,   1,-999.0,      10,  2,19850425,0721,  22.7467, -169.3383,  4681,  335.300,   14.030,   34.500,2,   34.493,2, -999.000,9,  204.000,2,    8.720,2,    8.760,2,    0.010,2,    0.680,2,    1.713,2,    0.830,2, -999.000,9, -999.000,9, -999.000,9
           NA,    P03E,    169,   1,-999.0,      11,  2,19850425,0721,  22.7467, -169.3383,  4681,  386.000,   11.837,   34.321,2,   34.323,2, -999.000,9,  204.600,2,   14.450,2,   12.640,2,    0.010,2,    0.910,2,    1.595,2,    0.778,2, -999.000,9, -999.000,9, -999.000,9
           NA,    P03E,    169,   1,-999.0,      12,  2,19850425,0721,  22.7467, -169.3383,  4681,  446.400,    9.606,   34.166,2,   34.167,2, -999.000,9,  185.500,2,   25.810,2,   18.770,2,    0.010,2,    1.340,2,    1.140,2,    0.569,2, -999.000,9, -999.000,9, -999.000,9
           NA,    P03E,    169,   1,-999.0,      13,  2,19850425,0721,  22.7467, -169.3383,  4681,  507.600,    7.941,   34.091,2,   34.094,2, -999.000,9,  151.700,2,   39.770,2,   25.080,2,    0.010,2,    1.790,2,    0.671,2,    0.338,2, -999.000,9, -999.000,9, -999.000,9
           NA,    P03E,    169,   1,-999.0,      14,  2,19850425,0721,  22.7467, -169.3383,  4681,  568.000,    6.895,   34.079,2,   34.081,2, -999.000,9,  124.500,2,   52.510,2,   29.700,2,    0.010,2,    2.110,2,    0.434,2,    0.215,2, -999.000,9, -999.000,9, -999.000,9
           NA,    P03E,    169,   1,-999.0,      15,  2,19850425,0721,  22.7467, -169.3383,  4681,  638.300,    5.911,   34.102,2,   34.103,2, -999.000,9,   91.100,2,   68.460,2,   34.380,2,    0.010,2,    2.460,2,    0.208,2,    0.105,2, -999.000,9, -999.000,9, -999.000,9
           NA,    P03E,    169,   1,-999.0,      16,  2,19850425,0721,  22.7467, -169.3383,  4681,  698.800,    5.289,   34.160,2,   34.160,2, -999.000,9,   63.500,2,   81.980,2,   37.980,2,    0.020,2,    2.710,2,    0.081,6,    0.042,2, -999.000,9, -999.000,9, -999.000,9
           NA,    P03E,    169,   1,-999.0,      38,  2,19850425,0721,  22.7467, -169.3383,  4681,  769.500,    4.801,   34.246,2,   34.248,2, -999.000,9,   45.300,2,   94.080,2,   40.530,2,    0.010,2,    2.930,2,    0.027,2,    0.008,2, -999.000,9, -999.000,9, -999.000,9
           NA,    P03E,    169,   1,-999.0,      18,  2,19850425,0721,  22.7467, -169.3383,  4681,  839.700,    4.445,   34.321,2,   34.326,2, -999.000,9,   40.600,2,  102.950,2,   41.590,2,    0.010,2,    2.990,2,    0.003,2,   -0.003,2, -999.000,9, -999.000,9, -999.000,9
           NA,    P03E,    169,   1,-999.0,      19,  2,19850425,0721,  22.7467, -169.3383,  4681,  910.700,    4.110,   34.375,2,   34.378,2, -999.000,9,   41.800,2,  109.810,2,   41.760,2,    0.010,2,    3.000,2,   -0.004,2,   -0.004,2, -999.000,9, -999.000,9, -999.000,9
           NA,    P03E,    169,   1,-999.0,      17,  2,19850425,0721,  22.7467, -169.3383,  4681, 1011.300,    3.834,   34.431,2,   34.432,2, -999.000,9,   45.900,2,  116.460,2,   42.090,2,    0.010,2,    3.010,2,   -0.004,2,   -0.003,2, -999.000,9, -999.000,9, -999.000,9
           NA,    P03E,    169,   1,-999.0,      21,  2,19850425,0721,  22.7467, -169.3383,  4681, 1162.500,    3.565,   34.506,2,   34.509,2, -999.000,9,   59.600,2,  120.090,2,   41.670,2,    0.010,2,    3.000,2, -999.000,9, -999.000,9, -999.000,9, -999.000,9, -999.000,9
           NA,    P03E,    169,   1,-999.0,      39,  2,19850425,0721,  22.7467, -169.3383,  4681, 1313.000,    3.272,   34.537,2,   34.540,2, -999.000,9,   66.900,2,  125.940,2,   41.300,2,    0.010,2,    2.920,2, -999.000,9, -999.000,9, -999.000,9, -999.000,9, -999.000,9
           NA,    P03E,    169,   1,-999.0,      23,  2,19850425,0721,  22.7467, -169.3383,  4681, 1515.700,    2.809,   34.564,2,   34.568,2, -999.000,9,   75.600,2,  137.190,2,   41.260,2,    0.010,2,    2.910,2, -999.000,9, -999.000,9, -999.000,9, -999.000,9, -999.000,9
           NA,    P03E,    169,   1,-999.0,      24,  2,19850425,0721,  22.7467, -169.3383,  4681, 1717.800,    2.455,   34.589,2,   34.591,2, -999.000,9,   84.000,2,  145.440,2,   40.730,2,    0.010,2,    2.870,2, -999.000,9, -999.000,9, -999.000,9, -999.000,9, -999.000,9
           NA,    P03E,    169,   1,-999.0,      25,  2,19850425,0721,  22.7467, -169.3383,  4681, 1919.900,    2.165,   34.608,2,   34.611,2, -999.000,9,   93.500,2,  150.680,2,   40.160,2,    0.010,2,    2.820,2, -999.000,9, -999.000,9, -999.000,9, -999.000,9, -999.000,9
           NA,    P03E,    169,   1,-999.0,      26,  2,19850425,0721,  22.7467, -169.3383,  4681, 2122.300,    1.969,   34.622,2,   34.624,2, -999.000,9,  100.800,2,  153.300,2,   39.800,2,    0.010,2,    2.800,2, -999.000,9, -999.000,9, -999.000,9, -999.000,9, -999.000,9
           NA,    P03E,    169,   1,-999.0,      27,  2,19850425,0721,  22.7467, -169.3383,  4681, 2324.800,    1.834,   34.633,2,   34.636,2, -999.000,9,  107.000,2,  156.520,2,   39.490,2,    0.010,2,    2.760,2, -999.000,9, -999.000,9, -999.000,9, -999.000,9, -999.000,9
           NA,    P03E,    169,   1,-999.0,      28,  2,19850425,0721,  22.7467, -169.3383,  4681, 2526.400,    1.727,   34.643,2,   34.644,2, -999.000,9,  113.500,2,  156.730,2,   38.920,2,    0.010,2,    2.710,2, -999.000,9, -999.000,9, -999.000,9, -999.000,9, -999.000,9
           NA,    P03E,    169,   1,-999.0,      29,  2,19850425,0721,  22.7467, -169.3383,  4681, 2726.400,    1.645,   34.652,2,   34.654,2, -999.000,9,  121.100,2,  158.340,2,   38.090,2,    0.000,2,    2.650,2,   -0.007,2,   -0.004,2, -999.000,9, -999.000,9, -999.000,9
           NA,    P03E,    169,   1,-999.0,      30,  2,19850425,0721,  22.7467, -169.3383,  4681, 2926.700,    1.586,   34.659,2,   34.661,2, -999.000,9,  126.900,2,  157.940,2,   37.670,2,    0.000,2,    2.640,2, -999.000,9, -999.000,9, -999.000,9, -999.000,9, -999.000,9
           NA,    P03E,    169,   1,-999.0,      31,  2,19850425,0721,  22.7467, -169.3383,  4681, 3124.500,    1.551,   34.664,2,   34.666,2, -999.000,9,  132.800,2,  156.550,2,   37.680,2,    0.000,2,    2.620,2, -999.000,9, -999.000,9, -999.000,9, -999.000,9, -999.000,9
           NA,    P03E,    169,   1,-999.0,      32,  2,19850425,0721,  22.7467, -169.3383,  4681, 3435.400,    1.496,   34.672,2,   34.673,2, -999.000,9,  140.900,2,  153.350,2,   37.220,2,    0.000,2,    2.560,2, -999.000,9, -999.000,9, -999.000,9, -999.000,9, -999.000,9
           NA,    P03E,    169,   1,-999.0,      37,  2,19850425,0721,  22.7467, -169.3383,  4681, 3738.300,    1.466,   34.677,2,   34.678,2, -999.000,9,  148.600,2,  149.750,2,   36.540,2,    0.000,2,    2.520,2, -999.000,9, -999.000,9, -999.000,9, -999.000,9, -999.000,9
           NA,    P03E,    169,   1,-999.0,      34,  2,19850425,0721,  22.7467, -169.3383,  4681, 4055.800,    1.446,   34.682,2,   34.683,2, -999.000,9,  156.600,2,  146.960,2,   36.080,2,    0.000,2,    2.470,2, -999.000,9, -999.000,9, -999.000,9, -999.000,9, -999.000,9
           NA,    P03E,    169,   1,-999.0,      35,  2,19850425,0721,  22.7467, -169.3383,  4681, 4413.900,    1.454,   34.685,2,   34.686,2, -999.000,9,  160.100,2,  144.380,2,   35.720,2,    0.000,2,    2.460,2, -999.000,9, -999.000,9, -999.000,9, -999.000,9, -999.000,9
           NA,    P03E,    169,   1,-999.0,      36,  2,19850425,0721,  22.7467, -169.3383,  4681, 4741.600,    1.462,   34.687,2,   34.689,2, -999.000,9,  165.100,2,  142.390,2,   35.520,2,    0.000,2,    2.440,2,    0.002,2,   -0.003,2, -999.000,9, -999.000,9, -999.000,9