BOTTLE,20203103JOAExport
EXPOCODE,SECT_ID,STNNBR,CASTNO,SAMPNO,BTLNBR,BTLNBR_FLAG_W,DATE,TIME,LATITUDE,LONGITUDE,DEPTH,CTDPRS,CTDTMP,CTDSAL,CTDSAL_FLAG_W,SALNTY,SALNTY_FLAG_W,CTDOXY,CTDOXY_FLAG_W,OXYGEN,OXYGEN_FLAG_W,SILCAT,SILCAT_FLAG_W,NITRAT,NITRAT_FLAG_W,NITRIT,NITRIT_FLAG_W,PHSPHT,PHSPHT_FLAG_W,CFC-11,CFC-11_FLAG_W,CFC-12,CFC-12_FLAG_W,SF6,SF6_FLAG_W,TCARBN,TCARBN_FLAG_W,ALKALI,ALKALI_FLAG_W
,,,,,,,,,,,,,DB,ITS-90,PSS-78,,PSS-78,,UMOL/KG,,UMOL/KG,,UMOL/KG,,UMOL/KG,,UMOL/KG,,UMOL/KG,,PMOL/KG,,PMOL/KG,,FMOL/KG,,UMOL/KG,,UMOL/KG
           NA,    P03E,    140,   1,-999.0,       1,  2,19850421,1717,  25.4833, -165.7300,  4844,    0.400,   23.388,   35.273,2,   35.276,2, -999.000,9,  218.300,2,    1.240,2,    0.000,2,    0.000,2,    0.050,2, -999.000,9, -999.000,9, -999.000,9, -999.000,9, -999.000,9
           NA,    P03E,    140,   1,-999.0,       2,  2,19850421,1717,  25.4833, -165.7300,  4844,   22.700,   23.381,   35.273,2,   35.276,2, -999.000,9,  217.100,2,    1.180,2,    0.000,2,    0.000,2,    0.050,2,    1.643,2,    0.852,2, -999.000,9, -999.000,9, -999.000,9
           NA,    P03E,    140,   1,-999.0,       3,  2,19850421,1717,  25.4833, -165.7300,  4844,   42.600,   23.382,   35.274,2,   35.278,2, -999.000,9,  217.700,2,    1.130,2,    0.000,2,    0.000,2,    0.050,2, -999.000,9, -999.000,9, -999.000,9, -999.000,9, -999.000,9
           NA,    P03E,    140,   1,-999.0,       4,  2,19850421,1717,  25.4833, -165.7300,  4844,   72.800,   22.830,   35.306,2,   35.306,2, -999.000,9,  219.000,2,    1.070,2,    0.000,2,    0.000,2,    0.040,2, -999.000,9, -999.000,9, -999.000,9, -999.000,9, -999.000,9
           NA,    P03E,    140,   1,-999.0,       5,  2,19850421,1717,  25.4833, -165.7300,  4844,  103.100,   21.402,   35.201,2,   35.208,2, -999.000,9,  208.100,2,    1.390,2,    0.170,2,    0.030,2,    0.090,2,    1.653,2,    0.856,2, -999.000,9, -999.000,9, -999.000,9
           NA,    P03E,    140,   1,-999.0,       6,  2,19850421,1717,  25.4833, -165.7300,  4844,  143.000,   19.521,   35.031,2,   35.033,2, -999.000,9,  200.100,2,    2.650,2,    2.190,2,    0.030,2,    0.220,2, -999.000,9, -999.000,9, -999.000,9, -999.000,9, -999.000,9
           NA,    P03E,    140,   1,-999.0,       7,  2,19850421,1717,  25.4833, -165.7300,  4844,  183.700,   17.239,   34.826,2,   34.827,2, -999.000,9,  204.100,2,    3.730,2,    4.130,2,    0.010,2,    0.340,2,    1.804,2,    0.904,2, -999.000,9, -999.000,9, -999.000,9
           NA,    P03E,    140,   1,-999.0,       8,  2,19850421,1717,  25.4833, -165.7300,  4844,  224.300,   15.789,   34.678,2,   34.669,2, -999.000,9,  206.400,2,    5.560,2,    6.110,2,    0.000,2,    0.460,2,    1.834,2,    0.909,2, -999.000,9, -999.000,9, -999.000,9
           NA,    P03E,    140,   1,-999.0,       9,  2,19850421,1717,  25.4833, -165.7300,  4844,  264.300,   14.630,   34.570,2,   34.572,2, -999.000,9,  209.100,2,    7.020,2,    7.410,2,    0.000,2,    0.550,2,    1.821,2,    0.912,2, -999.000,9, -999.000,9, -999.000,9
           NA,    P03E,    140,   1,-999.0,      10,  2,19850421,1717,  25.4833, -165.7300,  4844,  314.800,   13.267,   34.448,2,   34.444,2, -999.000,9,  213.500,2,    9.800,2,    9.340,2,    0.000,2,    0.680,2,    1.885,2,    0.929,2, -999.000,9, -999.000,9, -999.000,9
           NA,    P03E,    140,   1,-999.0,      11,  2,19850421,1717,  25.4833, -165.7300,  4844,  365.300,   11.969,   34.340,2,   34.331,2, -999.000,9,  213.700,2,   13.700,2,   11.890,2,    0.000,2,    0.850,2,    1.804,2,    0.878,2, -999.000,9, -999.000,9, -999.000,9
           NA,    P03E,    140,   1,-999.0,      12,  2,19850421,1717,  25.4833, -165.7300,  4844,  415.800,   10.685,   34.243,2,   34.246,2, -999.000,9,  204.800,2,   18.560,2,   14.920,2,    0.000,2,    1.060,2,    1.572,2,    0.770,2, -999.000,9, -999.000,9, -999.000,9
           NA,    P03E,    140,   1,-999.0,      13,  2,19850421,1717,  25.4833, -165.7300,  4844,  466.200,    9.986,   34.193,2,   34.193,2, -999.000,9,  200.200,2,   21.710,2,   16.860,2,    0.000,2,    1.170,2,    1.417,2,    0.685,2, -999.000,9, -999.000,9, -999.000,9
           NA,    P03E,    140,   1,-999.0,      14,  2,19850421,1717,  25.4833, -165.7300,  4844,  527.200,    8.525,   34.109,2,   34.111,2, -999.000,9,  178.300,2,   32.610,2,   21.540,2,    0.000,2,    1.510,2,    1.035,2,    0.532,2, -999.000,9, -999.000,9, -999.000,9
           NA,    P03E,    140,   1,-999.0,      15,  2,19850421,1717,  25.4833, -165.7300,  4844,  587.700,    7.363,   34.075,2,   34.076,2, -999.000,9,  143.500,2,   46.160,2,   26.860,2,    0.000,2,    1.900,2,    0.613,6,    0.316,6, -999.000,9, -999.000,9, -999.000,9
           NA,    P03E,    140,   1,-999.0,      16,  2,19850421,1717,  25.4833, -165.7300,  4844,  648.400,    6.092,   34.074,2,   34.075,2, -999.000,9,  100.100,2,   64.670,2,   33.160,2,    0.000,2,    2.360,2,    0.264,2,    0.147,2, -999.000,9, -999.000,9, -999.000,9
           NA,    P03E,    140,   1,-999.0,      38,  2,19850421,1717,  25.4833, -165.7300,  4844,  708.700,    5.363,   34.119,2,   34.120,2, -999.000,9,   69.100,2,   79.410,2,   37.020,2,    0.000,2,    2.660,2,    0.110,6,    0.066,6, -999.000,9, -999.000,9, -999.000,9
           NA,    P03E,    140,   1,-999.0,      18,  2,19850421,1717,  25.4833, -165.7300,  4844,  809.800,    4.810,   34.217,2,   34.216,2, -999.000,9,   49.100,2,   93.050,2,   39.770,2,    0.000,2,    2.850,2, -999.000,9, -999.000,9, -999.000,9, -999.000,9, -999.000,9
           NA,    P03E,    140,   1,-999.0,      19,  2,19850421,1717,  25.4833, -165.7300,  4844,  910.200,    4.362,   34.300,2,   34.301,2, -999.000,9,   40.100,2,  104.440,2,   41.250,2,    0.000,2,    2.960,2, -999.000,9, -999.000,9, -999.000,9, -999.000,9, -999.000,9
           NA,    P03E,    140,   1,-999.0,      20,  2,19850421,1717,  25.4833, -165.7300,  4844, 1060.700,    3.809,   34.406,2,   34.407,2, -999.000,9,   40.300,2,  118.160,2,   41.950,2,    0.000,2,    3.010,2, -999.000,9, -999.000,9, -999.000,9, -999.000,9, -999.000,9
           NA,    P03E,    140,   1,-999.0,      21,  2,19850421,1717,  25.4833, -165.7300,  4844, 1211.600,    3.393,   34.481,2,   34.481,2, -999.000,9,   51.100,2,  127.680,2,   41.770,2,    0.000,2,    2.990,2, -999.000,9, -999.000,9, -999.000,9, -999.000,9, -999.000,9
           NA,    P03E,    140,   1,-999.0,      39,  2,19850421,1717,  25.4833, -165.7300,  4844, 1413.500,    2.870,   34.540,2,   34.539,2, -999.000,9,   64.000,2,  138.790,2,   41.250,2,    0.000,2,    2.920,2,    0.000,2,   -0.001,2, -999.000,9, -999.000,9, -999.000,9
           NA,    P03E,    140,   1,-999.0,      23,  2,19850421,1717,  25.4833, -165.7300,  4844, 1612.900,    2.545,   34.573,2,   34.573,2, -999.000,9,   75.700,2,  146.250,2,   40.680,2,    0.000,2,    2.880,2, -999.000,9, -999.000,9, -999.000,9, -999.000,9, -999.000,9
           NA,    P03E,    140,   1,-999.0,      24,  2,19850421,1717,  25.4833, -165.7300,  4844, 1812.500,    2.307,   34.594,2,   34.594,2, -999.000,9, -999.000,5,  150.600,2,   40.160,2,    0.000,2,    2.840,2, -999.000,9, -999.000,9, -999.000,9, -999.000,9, -999.000,9
           NA,    P03E,    140,   1,-999.0,      25,  2,19850421,1717,  25.4833, -165.7300,  4844, 2013.800,    2.015,   34.615,2,   34.615,2, -999.000,9, -999.000,5,  157.890,2,   39.710,2,    0.000,2,    2.810,2, -999.000,9, -999.000,9, -999.000,9, -999.000,9, -999.000,9
           NA,    P03E,    140,   1,-999.0,      26,  2,19850421,1717,  25.4833, -165.7300,  4844, 2218.400,    1.859,   34.628,2,   34.629,2, -999.000,9, -999.000,5,  160.500,2,   39.250,2,    0.000,2,    2.760,2, -999.000,9, -999.000,9, -999.000,9, -999.000,9, -999.000,9
           NA,    P03E,    140,   1,-999.0,      27,  2,19850421,1717,  25.4833, -165.7300,  4844, 2424.400,    1.729,   34.641,2,   34.641,2, -999.000,9, -999.000,5,  161.550,2,   38.630,2,    0.000,2,    2.700,2, -999.000,9, -999.000,9, -999.000,9, -999.000,9, -999.000,9
           NA,    P03E,    140,   1,-999.0,      28,  2,19850421,1717,  25.4833, -165.7300,  4844, 2629.300,    1.651,   34.650,2,   34.649,2, -999.000,9, -999.000,5,  160.050,2,   38.060,2,    0.000,2,    2.680,2, -999.000,9, -999.000,9, -999.000,9, -999.000,9, -999.000,9
           NA,    P03E,    140,   1,-999.0,      29,  2,19850421,1717,  25.4833, -165.7300,  4844, 2833.200,    1.601,   34.656,2,   34.656,2, -999.000,9, -999.000,5,  159.930,2,   37.880,2,    0.000,2,    2.640,2, -999.000,9, -999.000,9, -999.000,9, -999.000,9, -999.000,9
           NA,    P03E,    140,   1,-999.0,      30,  2,19850421,1717,  25.4833, -165.7300,  4844, 3036.800,    1.543,   34.664,2,   34.663,2, -999.000,9, -999.000,5,  160.580,2,   37.380,2,    0.000,2,    2.600,2,   -0.001,2,    0.000,2, -999.000,9, -999.000,9, -999.000,9
           NA,    P03E,    140,   1,-999.0,      31,  2,19850421,1717,  25.4833, -165.7300,  4844, 3342.200,    1.498,   34.671,2,   34.670,2, -999.000,9,  137.600,2,  159.090,2,   36.920,2,    0.000,2,    2.560,2, -999.000,9, -999.000,9, -999.000,9, -999.000,9, -999.000,9
           NA,    P03E,    140,   1,-999.0,      32,  2,19850421,1717,  25.4833, -165.7300,  4844, 3648.600,    1.473,   34.676,2,   34.675,2, -999.000,9,  143.600,2,  156.820,2,   36.420,2,    0.000,2,    2.520,2, -999.000,9, -999.000,9, -999.000,9, -999.000,9, -999.000,9
           NA,    P03E,    140,   1,-999.0,      37,  2,19850421,1717,  25.4833, -165.7300,  4844, 3954.600,    1.461,   34.681,2,   34.680,2, -999.000,9,  149.900,2,  154.940,2,   36.080,2,    0.000,2,    2.500,2, -999.000,9, -999.000,9, -999.000,9, -999.000,9, -999.000,9
           NA,    P03E,    140,   1,-999.0,      34,  2,19850421,1717,  25.4833, -165.7300,  4844, 4260.900,    1.463,   34.684,2,   34.684,2, -999.000,9,  154.600,2,  152.480,2,   35.690,2,    0.000,2,    2.470,2, -999.000,9, -999.000,9, -999.000,9, -999.000,9, -999.000,9
           NA,    P03E,    140,   1,-999.0,      35,  2,19850421,1717,  25.4833, -165.7300,  4844, 4566.500,    1.480,   34.686,2,   34.685,2, -999.000,9,  156.900,2,  150.810,2,   35.620,2,    0.000,2,    2.450,2, -999.000,9, -999.000,9, -999.000,9, -999.000,9, -999.000,9
           NA,    P03E,    140,   1,-999.0,      36,  2,19850421,1717,  25.4833, -165.7300,  4844, 4912.500,    1.509,   34.687,2,   34.687,2, -999.000,9,  159.300,2,  148.550,2,   35.550,2,    0.000,2,    2.450,2,   -0.001,2,    0.002,2, -999.000,9, -999.000,9, -999.000,9