BOTTLE,20203103JOAExport
EXPOCODE,SECT_ID,STNNBR,CASTNO,SAMPNO,BTLNBR,BTLNBR_FLAG_W,DATE,TIME,LATITUDE,LONGITUDE,DEPTH,CTDPRS,CTDTMP,CTDSAL,CTDSAL_FLAG_W,SALNTY,SALNTY_FLAG_W,CTDOXY,CTDOXY_FLAG_W,OXYGEN,OXYGEN_FLAG_W,SILCAT,SILCAT_FLAG_W,NITRAT,NITRAT_FLAG_W,NITRIT,NITRIT_FLAG_W,PHSPHT,PHSPHT_FLAG_W,CFC-11,CFC-11_FLAG_W,CFC-12,CFC-12_FLAG_W,SF6,SF6_FLAG_W,TCARBN,TCARBN_FLAG_W,ALKALI,ALKALI_FLAG_W
,,,,,,,,,,,,,DB,ITS-90,PSS-78,,PSS-78,,UMOL/KG,,UMOL/KG,,UMOL/KG,,UMOL/KG,,UMOL/KG,,UMOL/KG,,PMOL/KG,,PMOL/KG,,FMOL/KG,,UMOL/KG,,UMOL/KG
           NA,    P03E,     50,   1,-999.0,       1,  2,19850406,1136,  24.2567, -130.0317,  4582,    1.700,   18.384,   34.638,2,   34.641,2, -999.000,9,  237.000,2,    3.030,2,    0.050,2,    0.000,2,    0.190,2,    2.082,2, -999.000,9, -999.000,9, -999.000,9, -999.000,9
           NA,    P03E,     50,   1,-999.0,       2,  2,19850406,1136,  24.2567, -130.0317,  4582,   18.600,   18.395,   34.644,2,   34.645,2, -999.000,9,  236.200,2,    2.980,2,    0.050,2,    0.000,2,    0.190,2, -999.000,9, -999.000,9, -999.000,9, -999.000,9, -999.000,9
           NA,    P03E,     50,   1,-999.0,       3,  2,19850406,1136,  24.2567, -130.0317,  4582,   33.300,   18.453,   34.674,2,   34.673,2, -999.000,9,  236.600,2,    2.930,2,    0.050,2,    0.000,2,    0.190,2,    2.048,2,    1.029,2, -999.000,9, -999.000,9, -999.000,9
           NA,    P03E,     50,   1,-999.0,       4,  2,19850406,1136,  24.2567, -130.0317,  4582,   52.600,   18.743,   34.812,2,   34.813,2, -999.000,9,  233.100,2,    2.870,2,    0.050,2,    0.000,2,    0.190,2,    1.946,2,    0.985,2, -999.000,9, -999.000,9, -999.000,9
           NA,    P03E,     50,   1,-999.0,       5,  2,19850406,1136,  24.2567, -130.0317,  4582,   72.900,   18.812,   34.842,2,   34.843,2, -999.000,9,  231.500,2,    2.820,2,    0.050,2,    0.000,2,    0.190,2, -999.000,9, -999.000,9, -999.000,9, -999.000,9, -999.000,9
           NA,    P03E,     50,   1,-999.0,       6,  2,19850406,1136,  24.2567, -130.0317,  4582,   93.200,   18.816,   34.846,2,   34.860,2, -999.000,9,  232.200,2,    2.770,2,    0.050,2,    0.000,2,    0.180,2, -999.000,9, -999.000,9, -999.000,9, -999.000,9, -999.000,9
           NA,    P03E,     50,   1,-999.0,       7,  2,19850406,1136,  24.2567, -130.0317,  4582,  123.900,   18.696,   34.821,2,   34.808,2, -999.000,9,  229.100,2,    2.720,2,    0.330,2,    0.030,2,    0.220,2,    1.954,2,    0.989,2, -999.000,9, -999.000,9, -999.000,9
           NA,    P03E,     50,   1,-999.0,       8,  2,19850406,1136,  24.2567, -130.0317,  4582,  155.000,   16.063,   34.344,2,   34.304,2, -999.000,9,  207.900,2,    4.890,2,    3.920,2,    0.020,2,    0.460,2,    1.937,2,    0.961,2, -999.000,9, -999.000,9, -999.000,9
           NA,    P03E,     50,   1,-999.0,       9,  2,19850406,1136,  24.2567, -130.0317,  4582,  196.100,   12.618,   33.944,2,   33.916,2, -999.000,9,  199.500,2,   10.700,2,   10.010,2,    0.010,2,    0.870,2,    1.921,2,    0.955,2, -999.000,9, -999.000,9, -999.000,9
           NA,    P03E,     50,   1,-999.0,      10,  2,19850406,1136,  24.2567, -130.0317,  4582,  235.900,   10.225,   33.873,2,   33.877,2, -999.000,9,  183.900,2,   19.130,2,   16.910,2,    0.000,2,    1.280,2,    1.663,2,    0.802,2, -999.000,9, -999.000,9, -999.000,9
           NA,    P03E,     50,   1,-999.0,      11,  2,19850406,1136,  24.2567, -130.0317,  4582,  286.100,    8.818,   33.992,2,   33.992,2, -999.000,9,  173.600,2,   28.770,2,   21.740,2,    0.000,2,    1.570,2,    1.190,2,    0.593,2, -999.000,9, -999.000,9, -999.000,9
           NA,    P03E,     50,   1,-999.0,      12,  2,19850406,1136,  24.2567, -130.0317,  4582,  336.700,    7.734,   34.031,2,   34.035,2, -999.000,9,  128.200,2,   43.050,2,   28.520,2,    0.000,2,    2.020,2,    0.514,2,    0.285,2, -999.000,9, -999.000,9, -999.000,9
           NA,    P03E,     50,   1,-999.0,      13,  2,19850406,1136,  24.2567, -130.0317,  4582,  397.500,    6.756,   34.061,2,   34.059,2, -999.000,9,   89.700,2,   56.320,2,   33.840,2,    0.000,2,    2.400,2,    0.207,2,    0.123,2, -999.000,9, -999.000,9, -999.000,9
           NA,    P03E,     50,   1,-999.0,      14,  2,19850406,1136,  24.2567, -130.0317,  4582,  458.100,    5.830,   34.089,2,   34.086,2, -999.000,9,   60.600,2,   70.790,2,   38.220,2,    0.000,2,    2.740,2,    0.060,2,    0.045,2, -999.000,9, -999.000,9, -999.000,9
           NA,    P03E,     50,   1,-999.0,      15,  2,19850406,1136,  24.2567, -130.0317,  4582,  528.200,    5.339,   34.153,2,   34.154,2, -999.000,9,   37.900,2,   82.840,2,   41.130,2,    0.000,2,    2.930,2,    0.002,2,    0.030,2, -999.000,9, -999.000,9, -999.000,9
           NA,    P03E,     50,   1,-999.0,      16,  2,19850406,1136,  24.2567, -130.0317,  4582,  608.900,    5.196,   34.285,2,   34.285,2, -999.000,9,   19.600,2,   89.420,2,   42.800,2,    0.000,2,    3.070,2,   -0.005,2, -999.000,9, -999.000,9, -999.000,9, -999.000,9
           NA,    P03E,     50,   1,-999.0,      17,  2,19850406,1136,  24.2567, -130.0317,  4582,  709.500,    4.910,   34.388,2,   34.388,2, -999.000,9,   20.400,2,   96.000,2,   43.810,2,    0.000,2,    3.120,2,    0.007,2, -999.000,9, -999.000,9, -999.000,9, -999.000,9
           NA,    P03E,     50,   1,-999.0,      18,  2,19850406,1136,  24.2567, -130.0317,  4582,  810.300,    4.627,   34.456,2,   34.456,2, -999.000,9,   26.600,2,  101.360,2,   44.330,2,    0.000,2,    3.130,2, -999.000,9, -999.000,9, -999.000,9, -999.000,9, -999.000,9
           NA,    P03E,     50,   1,-999.0,      19,  2,19850406,1136,  24.2567, -130.0317,  4582,  911.500,    4.304,   34.486,2,   34.486,2, -999.000,9,   27.500,2,  108.950,2,   44.810,2,    0.000,2,    3.170,2,   -0.020,2,    0.004,2, -999.000,9, -999.000,9, -999.000,9
           NA,    P03E,     50,   1,-999.0,      20,  2,19850406,1136,  24.2567, -130.0317,  4582, 1012.400,    3.996,   34.504,2,   34.504,2, -999.000,9,   34.000,2,  114.720,2,   44.860,2,    0.000,2,    3.140,2, -999.000,9, -999.000,9, -999.000,9, -999.000,9, -999.000,9
           NA,    P03E,     50,   1,-999.0,      21,  2,19850406,1136,  24.2567, -130.0317,  4582, 1112.100,    3.643,   34.524,2,   34.525,2, -999.000,9,   41.300,2,  123.120,2,   44.430,2,    0.000,2,    3.110,2,   -0.012,2,    0.004,2, -999.000,9, -999.000,9, -999.000,9
           NA,    P03E,     50,   1,-999.0,      23,  2,19850406,1136,  24.2567, -130.0317,  4582, 1414.300,    2.966,   34.563,2,   34.563,2, -999.000,9,   53.600,2,  140.650,2,   43.890,2,    0.000,2,    3.050,2, -999.000,9, -999.000,9, -999.000,9, -999.000,9, -999.000,9
           NA,    P03E,     50,   1,-999.0,      24,  2,19850406,1136,  24.2567, -130.0317,  4582, 1617.800,    2.573,   34.592,2,   34.593,2, -999.000,9,   64.900,2,  151.500,2,   43.250,2,    0.000,2,    2.980,2,   -0.010,2,    0.015,2, -999.000,9, -999.000,9, -999.000,9
           NA,    P03E,     50,   1,-999.0,      25,  2,19850406,1136,  24.2567, -130.0317,  4582, 1819.900,    2.300,   34.612,2,   34.612,2, -999.000,9,   75.500,2,  157.070,2,   42.410,2,    0.000,2,    2.920,2, -999.000,9, -999.000,9, -999.000,9, -999.000,9, -999.000,9
           NA,    P03E,     50,   1,-999.0,      26,  2,19850406,1136,  24.2567, -130.0317,  4582, 2020.800,    2.071,   34.629,2,   34.628,2, -999.000,9,   88.400,2,  159.590,2,   41.560,2,    0.000,2,    2.840,2, -999.000,9, -999.000,9, -999.000,9, -999.000,9, -999.000,9
           NA,    P03E,     50,   1,-999.0,      27,  2,19850406,1136,  24.2567, -130.0317,  4582, 2225.100,    1.925,   34.640,2,   34.639,2, -999.000,9,   96.000,2,  160.480,2,   40.980,2,    0.000,2,    2.790,2, -999.000,9, -999.000,9, -999.000,9, -999.000,9, -999.000,9
           NA,    P03E,     50,   1,-999.0,      28,  2,19850406,1136,  24.2567, -130.0317,  4582, 2528.600,    1.736,   34.652,2,   34.652,2, -999.000,9,  107.300,2,  166.250,2,   40.200,2,    0.000,2,    2.730,2, -999.000,9, -999.000,9, -999.000,9, -999.000,9, -999.000,9
           NA,    P03E,     50,   1,-999.0,      29,  2,19850406,1136,  24.2567, -130.0317,  4582, 2833.200,    1.588,   34.662,2,   34.662,2, -999.000,9,  118.300,2,  168.770,2,   39.520,2,    0.000,2,    2.680,2, -999.000,9, -999.000,9, -999.000,9, -999.000,9, -999.000,9
           NA,    P03E,     50,   1,-999.0,      30,  2,19850406,1136,  24.2567, -130.0317,  4582, 3137.900,    1.507,   34.671,2,   34.671,2, -999.000,9,  130.200,2,  166.400,2,   38.590,2,    0.000,2,    2.620,2, -999.000,9, -999.000,9, -999.000,9, -999.000,9, -999.000,9
           NA,    P03E,     50,   1,-999.0,      31,  2,19850406,1136,  24.2567, -130.0317,  4582, 3442.600,    1.483,   34.677,2,   34.676,2, -999.000,9,  136.900,2,  164.240,2,   38.120,2,    0.000,2,    2.570,2, -999.000,9, -999.000,9, -999.000,9, -999.000,9, -999.000,9
           NA,    P03E,     50,   1,-999.0,      32,  2,19850406,1136,  24.2567, -130.0317,  4582, 3746.700,    1.486,   34.680,2,   34.679,2, -999.000,9,  141.900,2,  162.280,2,   37.910,2,    0.000,2,    2.540,2, -999.000,9, -999.000,9, -999.000,9, -999.000,9, -999.000,9
           NA,    P03E,     50,   1,-999.0,      34,  2,19850406,1136,  24.2567, -130.0317,  4582, 4050.200,    1.506,   34.681,2,   34.681,2, -999.000,9,  143.500,2,  162.360,2,   37.810,2,    0.000,2,    2.530,2, -999.000,9, -999.000,9, -999.000,9, -999.000,9, -999.000,9
           NA,    P03E,     50,   1,-999.0,      35,  2,19850406,1136,  24.2567, -130.0317,  4582, 4357.700,    1.524,   34.683,2,   34.682,2, -999.000,9,  147.600,2,  160.210,2,   37.500,2,    0.000,2,    2.510,2, -999.000,9, -999.000,9, -999.000,9, -999.000,9, -999.000,9
           NA,    P03E,     50,   1,-999.0,      36,  2,19850406,1136,  24.2567, -130.0317,  4582, 4663.000,    1.528,   34.685,2,   34.686,2, -999.000,9,  153.000,2,  155.830,2,   37.090,2,    0.000,2,    2.490,2, -999.000,9, -999.000,9, -999.000,9, -999.000,9, -999.000,9
           NA,    P03E,     48,   1,-999.0,       1,  2,19850406,0416,  24.7100, -129.4150,  4485,    1.900,   18.485,   34.572,2,   34.573,2, -999.000,9,  237.300,2,    2.100,2,    0.050,2,    0.000,2,    0.210,2, -999.000,9, -999.000,9, -999.000,9, -999.000,9, -999.000,9
           NA,    P03E,     48,   1,-999.0,       2,  2,19850406,0416,  24.7100, -129.4150,  4485,   18.900,   18.319,   34.570,2,   34.571,2, -999.000,9,  237.200,2,    2.080,2,    0.050,2,    0.000,2,    0.210,2, -999.000,9, -999.000,9, -999.000,9, -999.000,9, -999.000,9
           NA,    P03E,     48,   1,-999.0,       3,  2,19850406,0416,  24.7100, -129.4150,  4485,   34.000,   18.305,   34.569,2,   34.571,2, -999.000,9,  236.900,2,    2.070,2,    0.000,2,    0.000,2,    0.210,2, -999.000,9, -999.000,9, -999.000,9, -999.000,9, -999.000,9
           NA,    P03E,     48,   1,-999.0,       4,  2,19850406,0416,  24.7100, -129.4150,  4485,   54.200,   18.260,   34.567,2,   34.568,2, -999.000,9,  237.700,2,    1.860,2,    0.000,2,    0.000,2,    0.210,2, -999.000,9, -999.000,9, -999.000,9, -999.000,9, -999.000,9
           NA,    P03E,     48,   1,-999.0,       5,  2,19850406,0416,  24.7100, -129.4150,  4485,   74.000,   18.236,   34.570,2,   34.569,2, -999.000,9,  237.300,2,    1.840,2,    0.000,2,    0.000,2,    0.200,2, -999.000,9, -999.000,9, -999.000,9, -999.000,9, -999.000,9
           NA,    P03E,     48,   1,-999.0,       6,  2,19850406,0416,  24.7100, -129.4150,  4485,   94.400,   18.221,   34.574,2,   34.574,2, -999.000,9,  236.500,2,    1.830,2,    0.050,2,    0.000,2,    0.200,2, -999.000,9, -999.000,9, -999.000,9, -999.000,9, -999.000,9
           NA,    P03E,     48,   1,-999.0,       7,  2,19850406,0416,  24.7100, -129.4150,  4485,  125.300,   17.228,   34.435,2,   34.422,2, -999.000,9,  225.700,2,    2.010,2,    0.750,2,    0.080,2,    0.270,2, -999.000,9, -999.000,9, -999.000,9, -999.000,9, -999.000,9
           NA,    P03E,     48,   1,-999.0,       8,  2,19850406,0416,  24.7100, -129.4150,  4485,  155.400,   15.210,   34.129,2,   34.127,2, -999.000,9,  218.900,2,    3.790,2,    2.890,2,    0.020,2,    0.430,2, -999.000,9, -999.000,9, -999.000,9, -999.000,9, -999.000,9
           NA,    P03E,     48,   1,-999.0,       9,  2,19850406,0416,  24.7100, -129.4150,  4485,  195.900,   12.369,   33.857,2,   33.836,2, -999.000,9,  195.200,2,    9.940,2,   10.570,2,    0.000,2,    0.930,2, -999.000,9, -999.000,9, -999.000,9, -999.000,9, -999.000,9
           NA,    P03E,     48,   1,-999.0,      10,  2,19850406,0416,  24.7100, -129.4150,  4485,  236.200,   10.520,   33.896,2,   33.895,2, -999.000,9,  177.100,2,   17.870,2,   16.670,2,    0.000,2,    1.290,2, -999.000,9, -999.000,9, -999.000,9, -999.000,9, -999.000,9
           NA,    P03E,     48,   1,-999.0,      11,  2,19850406,0416,  24.7100, -129.4150,  4485,  286.700,    9.045,   33.993,2,   34.002,2, -999.000,9,  157.500,2,   27.980,2,   22.400,2,    0.000,2,    1.650,2, -999.000,9, -999.000,9, -999.000,9, -999.000,9, -999.000,9
           NA,    P03E,     48,   1,-999.0,      12,  2,19850406,0416,  24.7100, -129.4150,  4485,  337.100,    8.067,   34.064,2,   34.061,2, -999.000,9,  120.600,2,   40.060,2,   27.860,2,    0.000,2,    2.050,2, -999.000,9, -999.000,9, -999.000,9, -999.000,9, -999.000,9
           NA,    P03E,     48,   1,-999.0,      13,  2,19850406,0416,  24.7100, -129.4150,  4485,  397.900,    7.044,   34.139,2,   34.125,2, -999.000,9,   68.500,2,   57.500,2,   34.420,2,    0.000,2,    2.550,2, -999.000,9, -999.000,9, -999.000,9, -999.000,9, -999.000,9
           NA,    P03E,     48,   1,-999.0,      14,  2,19850406,0416,  24.7100, -129.4150,  4485,  458.300,    6.151,   34.156,2,   34.159,2, -999.000,9,   44.500,2,   69.370,2,   38.420,2,    0.000,2,    2.800,2, -999.000,9, -999.000,9, -999.000,9, -999.000,9, -999.000,9
           NA,    P03E,     48,   1,-999.0,      15,  2,19850406,0416,  24.7100, -129.4150,  4485,  528.600,    5.773,   34.243,2,   34.247,2, -999.000,9,   26.400,2,   77.070,2,   40.610,2,    0.000,2,    2.970,2, -999.000,9, -999.000,9, -999.000,9, -999.000,9, -999.000,9
           NA,    P03E,     48,   1,-999.0,      16,  2,19850406,0416,  24.7100, -129.4150,  4485,  609.000,    5.421,   34.326,2,   34.328,2, -999.000,9,   18.200,2,   85.150,2,   42.290,2,    0.000,2,    3.060,2, -999.000,9, -999.000,9, -999.000,9, -999.000,9, -999.000,9
           NA,    P03E,     48,   1,-999.0,      17,  2,19850406,0416,  24.7100, -129.4150,  4485,  709.400,    5.099,   34.394,2,   34.395,2, -999.000,9,   19.300,2,   91.050,2,   43.300,2,    0.000,2,    3.110,2, -999.000,9, -999.000,9, -999.000,9, -999.000,9, -999.000,9
           NA,    P03E,     48,   1,-999.0,      18,  2,19850406,0416,  24.7100, -129.4150,  4485,  810.300,    4.615,   34.436,2,   34.440,2, -999.000,9,   22.600,2,  100.330,2,   44.200,2,    0.000,2,    3.140,2, -999.000,9, -999.000,9, -999.000,9, -999.000,9, -999.000,9
           NA,    P03E,     48,   1,-999.0,      19,  2,19850406,0416,  24.7100, -129.4150,  4485,  910.800,    4.319,   34.469,2,   34.469,2, -999.000,9,   27.000,2,  107.210,2,   44.360,2,    0.000,2,    3.150,2, -999.000,9, -999.000,9, -999.000,9, -999.000,9, -999.000,9
           NA,    P03E,     48,   1,-999.0,      20,  2,19850406,0416,  24.7100, -129.4150,  4485, 1012.200,    4.034,   34.501,2,   34.501,2, -999.000,9,   30.000,2,  114.300,2,   44.680,2,    0.000,2,    3.170,2, -999.000,9, -999.000,9, -999.000,9, -999.000,9, -999.000,9
           NA,    P03E,     48,   1,-999.0,      21,  2,19850406,0416,  24.7100, -129.4150,  4485, 1113.100,    3.773,   34.517,2,   34.516,2, -999.000,9,   35.200,2,  118.200,2,   44.510,2,    0.000,2,    3.150,2, -999.000,9, -999.000,9, -999.000,9, -999.000,9, -999.000,9
           NA,    P03E,     48,   1,-999.0,      22,  2,19850406,0416,  24.7100, -129.4150,  4485, 1263.800,    3.399,   34.539,2,   34.539,2, -999.000,9,   40.400,2,  126.480,2,   44.460,2,    0.000,2,    3.130,2, -999.000,9, -999.000,9, -999.000,9, -999.000,9, -999.000,9
           NA,    P03E,     48,   1,-999.0,      23,  2,19850406,0416,  24.7100, -129.4150,  4485, 1415.400,    3.030,   34.562,2,   34.561,2, -999.000,9,   49.500,2,  136.550,2,   44.030,2,    0.000,2,    3.090,2, -999.000,9, -999.000,9, -999.000,9, -999.000,9, -999.000,9
           NA,    P03E,     48,   1,-999.0,      24,  2,19850406,0416,  24.7100, -129.4150,  4485, 1618.200,    2.647,   34.589,2,   34.590,2, -999.000,9,   59.900,2,  148.220,2,   43.220,2,    0.000,2,    3.020,2, -999.000,9, -999.000,9, -999.000,9, -999.000,9, -999.000,9
           NA,    P03E,     48,   1,-999.0,      25,  2,19850406,0416,  24.7100, -129.4150,  4485, 1819.700,    2.365,   34.610,2,   34.610,2, -999.000,9,   71.300,2,  154.110,2,   42.530,2,    0.000,2,    2.950,2, -999.000,9, -999.000,9, -999.000,9, -999.000,9, -999.000,9
           NA,    P03E,     48,   1,-999.0,      26,  2,19850406,0416,  24.7100, -129.4150,  4485, 2022.900,    2.120,   34.628,2,   34.629,2, -999.000,9,   85.400,2,  156.000,2,   41.570,2,    0.000,2,    2.860,2, -999.000,9, -999.000,9, -999.000,9, -999.000,9, -999.000,9
           NA,    P03E,     48,   1,-999.0,      27,  2,19850406,0416,  24.7100, -129.4150,  4485, 2225.600,    1.954,   34.640,2,   34.640,2, -999.000,9,   94.900,2,  158.300,2,   40.990,2,    0.000,2,    2.800,2, -999.000,9, -999.000,9, -999.000,9, -999.000,9, -999.000,9
           NA,    P03E,     48,   1,-999.0,      28,  2,19850406,0416,  24.7100, -129.4150,  4485, 2530.200,    1.769,   34.653,2,   34.652,2, -999.000,9,  106.200,2,  163.980,2,   40.200,2,    0.000,2,    2.730,2, -999.000,9, -999.000,9, -999.000,9, -999.000,9, -999.000,9
           NA,    P03E,     48,   1,-999.0,      29,  2,19850406,0416,  24.7100, -129.4150,  4485, 2834.500,    1.614,   34.662,2,   34.662,2, -999.000,9,  116.900,2,  168.070,2,   39.420,2,    0.000,2,    2.670,2, -999.000,9, -999.000,9, -999.000,9, -999.000,9, -999.000,9
           NA,    P03E,     48,   1,-999.0,      30,  2,19850406,0416,  24.7100, -129.4150,  4485, 3140.400,    1.534,   34.670,2,   34.669,2, -999.000,9,  122.900,2,  167.770,2,   38.580,2,    0.000,2,    2.630,2, -999.000,9, -999.000,9, -999.000,9, -999.000,9, -999.000,9
           NA,    P03E,     48,   1,-999.0,      31,  2,19850406,0416,  24.7100, -129.4150,  4485, 3445.500,    1.494,   34.676,2,   34.676,2, -999.000,9,  135.400,2,  163.270,2,   38.320,2,    0.000,2,    2.580,2, -999.000,9, -999.000,9, -999.000,9, -999.000,9, -999.000,9
           NA,    P03E,     48,   1,-999.0,      32,  2,19850406,0416,  24.7100, -129.4150,  4485, 3752.000,    1.495,   34.680,2,   34.679,2, -999.000,9,  140.000,2,  161.970,2,   37.910,2,    0.000,2,    2.560,2, -999.000,9, -999.000,9, -999.000,9, -999.000,9, -999.000,9
           NA,    P03E,     48,   1,-999.0,      34,  2,19850406,0416,  24.7100, -129.4150,  4485, 4058.600,    1.511,   34.682,2,   34.680,2, -999.000,9,  143.000,2,  162.670,2,   37.750,2,    0.000,2,    2.540,2, -999.000,9, -999.000,9, -999.000,9, -999.000,9, -999.000,9
           NA,    P03E,     48,   1,-999.0,      35,  2,19850406,0416,  24.7100, -129.4150,  4485, 4314.400,    1.525,   34.683,2,   34.681,2, -999.000,9,  145.300,2,  159.380,2,   37.490,2,    0.000,2,    2.520,2, -999.000,9, -999.000,9, -999.000,9, -999.000,9, -999.000,9
           NA,    P03E,     48,   1,-999.0,      36,  2,19850406,0416,  24.7100, -129.4150,  4485, 4544.000,    1.530,   34.685,2,   34.683,2, -999.000,9,  147.700,2,  155.500,2,   37.280,2,    0.000,2,    2.510,2, -999.000,9, -999.000,9, -999.000,9, -999.000,9, -999.000,9