BOTTLE,20203103JOAExport
EXPOCODE,SECT_ID,STNNBR,CASTNO,SAMPNO,BTLNBR,BTLNBR_FLAG_W,DATE,TIME,LATITUDE,LONGITUDE,DEPTH,CTDPRS,CTDTMP,CTDSAL,CTDSAL_FLAG_W,SALNTY,SALNTY_FLAG_W,CTDOXY,CTDOXY_FLAG_W,OXYGEN,OXYGEN_FLAG_W,SILCAT,SILCAT_FLAG_W,NITRAT,NITRAT_FLAG_W,NITRIT,NITRIT_FLAG_W,PHSPHT,PHSPHT_FLAG_W,CFC-11,CFC-11_FLAG_W,CFC-12,CFC-12_FLAG_W,SF6,SF6_FLAG_W,TCARBN,TCARBN_FLAG_W,ALKALI,ALKALI_FLAG_W
,,,,,,,,,,,,,DB,ITS-90,PSS-78,,PSS-78,,UMOL/KG,,UMOL/KG,,UMOL/KG,,UMOL/KG,,UMOL/KG,,UMOL/KG,,PMOL/KG,,PMOL/KG,,FMOL/KG,,UMOL/KG,,UMOL/KG
           NA,    P03W,    337,   1,-999.0,       5,  2,19850526,2056,  24.2500,  131.5967,  2348,    1.700,   24.085,   34.783,2,   34.786,2, -999.000,9,  215.100,2,    1.860,2,    0.080,2,    0.000,2,    0.000,2, -999.000,9, -999.000,9, -999.000,9, -999.000,9, -999.000,9
           NA,    P03W,    337,   1,-999.0,      12,  2,19850526,2056,  24.2500,  131.5967,  2348,   22.300,   23.551,   34.783,2,   34.783,2, -999.000,9,  218.100,2,    1.870,2,    0.080,2,    0.000,2,    0.010,2, -999.000,9, -999.000,9, -999.000,9, -999.000,9, -999.000,9
           NA,    P03W,    337,   1,-999.0,      13,  2,19850526,2056,  24.2500,  131.5967,  2348,   42.900,   21.435,   34.809,2,   34.814,2, -999.000,9,  223.200,2,    2.100,2,    0.080,2,    0.000,2,    0.010,2,    1.698,2,    0.866,2, -999.000,9, -999.000,9, -999.000,9
           NA,    P03W,    337,   1,-999.0,      14,  2,19850526,2056,  24.2500,  131.5967,  2348,   73.200,   20.599,   34.840,2,   34.840,2, -999.000,9,  214.000,2,    2.320,2,    0.410,2,    0.080,2,    0.040,2, -999.000,9, -999.000,9, -999.000,9, -999.000,9, -999.000,9
           NA,    P03W,    337,   1,-999.0,      15,  2,19850526,2056,  24.2500,  131.5967,  2348,  103.200,   19.701,   34.844,2,   34.843,2, -999.000,9,  209.600,2,    2.550,2,    1.800,2,    0.040,2,    0.110,2,    1.741,2,    0.920,2, -999.000,9, -999.000,9, -999.000,9
           NA,    P03W,    337,   1,-999.0,      16,  2,19850526,2056,  24.2500,  131.5967,  2348,  143.300,   19.051,   34.845,2,   34.845,2, -999.000,9,  212.200,2,    2.560,2,    1.960,2,    0.010,2,    0.120,2,    1.779,2,    0.912,2, -999.000,9, -999.000,9, -999.000,9
           NA,    P03W,    337,   1,-999.0,      17,  2,19850526,2056,  24.2500,  131.5967,  2348,  183.300,   18.656,   34.848,2,   34.848,2, -999.000,9,  213.500,2,    2.790,2,    2.240,2,    0.010,2,    0.130,2,    1.805,2,    0.924,2, -999.000,9, -999.000,9, -999.000,9
           NA,    P03W,    337,   1,-999.0,      18,  2,19850526,2056,  24.2500,  131.5967,  2348,  233.400,   18.026,   34.835,2,   34.835,2, -999.000,9,  203.400,2,    3.670,2,    3.950,2,    0.010,2,    0.230,2,    1.707,2, -999.000,9, -999.000,9, -999.000,9, -999.000,9
           NA,    P03W,    337,   1,-999.0,      23,  2,19850526,2056,  24.2500,  131.5967,  2348,  283.700,   17.083,   34.792,2,   34.793,2, -999.000,9,  201.200,2,    4.770,2,    5.470,2,    0.010,2,    0.320,2,    1.655,2,    0.862,2, -999.000,9, -999.000,9, -999.000,9
           NA,    P03W,    337,   1,-999.0,      20,  2,19850526,2056,  24.2500,  131.5967,  2348,  333.700,   16.084,   34.727,2,   34.729,2, -999.000,9,  196.800,2,    6.960,2,    7.280,2,    0.010,2,    0.440,2, -999.000,9, -999.000,9, -999.000,9, -999.000,9, -999.000,9
           NA,    P03W,    337,   1,-999.0,      21,  2,19850526,2056,  24.2500,  131.5967,  2348,  384.000,   15.017,   34.641,2,   34.640,2, -999.000,9,  190.700,2,    9.580,2,    9.550,2,    0.000,2,    0.600,2,    1.409,2,    0.708,2, -999.000,9, -999.000,9, -999.000,9
           NA,    P03W,    337,   1,-999.0,      22,  2,19850526,2056,  24.2500,  131.5967,  2348,  444.000,   13.804,   34.536,2,   34.541,2, -999.000,9,  186.800,2,   13.290,2,   11.640,2,    0.000,2,    0.730,2,    1.284,2,    0.653,2, -999.000,9, -999.000,9, -999.000,9
           NA,    P03W,    337,   1,-999.0,      39,  2,19850526,2056,  24.2500,  131.5967,  2348,  504.700,   12.132,   34.410,2,   34.411,2, -999.000,9,  178.000,2,   20.250,2,   15.330,2,    0.000,2,    0.980,2, -999.000,9, -999.000,9, -999.000,9, -999.000,9, -999.000,9
           NA,    P03W,    337,   1,-999.0,      24,  2,19850526,2056,  24.2500,  131.5967,  2348,  564.600,   10.530,   34.297,2,   34.299,2, -999.000,9,  168.800,2,   27.640,2,   18.940,2,    0.000,2,    1.210,2,    0.936,2,    0.497,2, -999.000,9, -999.000,9, -999.000,9
           NA,    P03W,    337,   1,-999.0,      40,  2,19850526,2056,  24.2500,  131.5967,  2348,  644.900,    8.752,   34.202,2,   34.203,2, -999.000,9,  146.600,2,   40.450,2,   24.160,2,    0.000,2,    1.600,2,    0.654,2,    0.342,2, -999.000,9, -999.000,9, -999.000,9
           NA,    P03W,    337,   1,-999.0,      26,  2,19850526,2056,  24.2500,  131.5967,  2348,  725.500,    7.035,   34.164,2,   34.166,2, -999.000,9,  111.300,2,   58.890,2,   30.420,2,    0.000,2,    2.030,2,    0.323,2,    0.182,2, -999.000,9, -999.000,9, -999.000,9
           NA,    P03W,    337,   1,-999.0,      27,  2,19850526,2056,  24.2500,  131.5967,  2348,  805.600,    5.961,   34.182,2,   34.182,2, -999.000,9,   90.000,2,   74.490,2,   34.280,2,    0.000,2,    2.290,2,    0.203,2,    0.110,2, -999.000,9, -999.000,9, -999.000,9
           NA,    P03W,    337,   1,-999.0,      28,  2,19850526,2056,  24.2500,  131.5967,  2348,  906.100,    4.582,   34.278,2,   34.278,2, -999.000,9,   64.800,2,  100.770,2,   38.450,2,    0.000,2,    2.580,2,    0.069,2,    0.049,2, -999.000,9, -999.000,9, -999.000,9
           NA,    P03W,    337,   1,-999.0,      29,  2,19850526,2056,  24.2500,  131.5967,  2348, 1055.800,    3.827,   34.336,2,   34.336,2, -999.000,9,   57.800,2,  117.680,2,   40.100,2,    0.000,2,    2.670,2, -999.000,9, -999.000,9, -999.000,9, -999.000,9, -999.000,9
           NA,    P03W,    337,   1,-999.0,      30,  2,19850526,2056,  24.2500,  131.5967,  2348, 1206.200,    3.228,   34.429,2,   34.429,2, -999.000,9,   61.300,2,  130.660,2,   40.900,2,    0.000,2,    2.750,2,    0.010,2, -999.000,9, -999.000,9, -999.000,9, -999.000,9
           NA,    P03W,    337,   1,-999.0,      31,  2,19850526,2056,  24.2500,  131.5967,  2348, 1406.700,    2.728,   34.505,2,   34.504,2, -999.000,9,   76.900,2,  138.610,2,   39.980,2,    0.000,2,    2.610,2, -999.000,9, -999.000,9, -999.000,9, -999.000,9, -999.000,9
           NA,    P03W,    337,   1,-999.0,      32,  2,19850526,2056,  24.2500,  131.5967,  2348, 1609.400,    2.380,   34.554,2,   34.553,2, -999.000,9,   90.800,2,  142.830,2,   39.620,2,    0.000,2,    2.630,2, -999.000,9, -999.000,9, -999.000,9, -999.000,9, -999.000,9
           NA,    P03W,    337,   1,-999.0,      33,  2,19850526,2056,  24.2500,  131.5967,  2348, 1811.900,    2.150,   34.585,2,   34.583,2, -999.000,9,  103.400,2,  144.850,2,   38.260,2,    0.010,2,    2.420,2,   -0.004,2,    0.007,2, -999.000,9, -999.000,9, -999.000,9
           NA,    P03W,    337,   1,-999.0,      34,  2,19850526,2056,  24.2500,  131.5967,  2348, 2014.200,    1.998,   34.608,2,   34.607,2, -999.000,9,  114.700,2,  145.340,2,   38.360,2,    0.010,2,    2.560,2,    0.000,2,    0.015,2, -999.000,9, -999.000,9, -999.000,9
           NA,    P03W,    337,   1,-999.0,      35,  2,19850526,2056,  24.2500,  131.5967,  2348, 2216.400,    1.886,   34.625,2,   34.624,2, -999.000,9,  122.500,2,  145.400,2,   38.150,2,    0.010,2,    2.570,2, -999.000,9, -999.000,9, -999.000,9, -999.000,9, -999.000,9
           NA,    P03W,    337,   1,-999.0,      37,  2,19850526,2056,  24.2500,  131.5967,  2348, 2367.800,    1.848,   34.630,2,   34.629,2, -999.000,9,  126.000,2,  145.010,2,   37.610,2,    0.000,2,    2.510,2,   -0.001,2, -999.000,9, -999.000,9, -999.000,9, -999.000,9
           NA,    P03W,    335,   1,-999.0,       5,  2,19850526,1554,  24.2533,  132.2100,  2575,    1.000,   23.913,   34.808,2,   34.810,2, -999.000,9,  219.000,2,    2.440,2,    0.040,2,    0.000,2,    0.000,2,    1.591,6,    0.852,6, -999.000,9, -999.000,9, -999.000,9
           NA,    P03W,    335,   1,-999.0,      11,  2,19850526,1554,  24.2533,  132.2100,  2575,   23.000,   23.468,   34.817,2,   34.818,2, -999.000,9,  219.900,2,    2.250,2,    0.040,2,    0.000,2,    0.000,2, -999.000,9, -999.000,9, -999.000,9, -999.000,9, -999.000,9
           NA,    P03W,    335,   1,-999.0,      12,  2,19850526,1554,  24.2533,  132.2100,  2575,   43.300,   23.303,   34.819,2,   34.820,2, -999.000,9,  220.700,2,    2.250,2,    0.040,2,    0.000,2,    0.000,2, -999.000,9, -999.000,9, -999.000,9, -999.000,9, -999.000,9
           NA,    P03W,    335,   1,-999.0,      13,  2,19850526,1554,  24.2533,  132.2100,  2575,   74.000,   21.377,   34.805,2,   34.814,2, -999.000,9,  222.800,2,    2.440,2,    0.040,2,    0.010,2,    0.000,2, -999.000,9, -999.000,9, -999.000,9, -999.000,9, -999.000,9
           NA,    P03W,    335,   1,-999.0,      14,  2,19850526,1554,  24.2533,  132.2100,  2575,  103.900,   20.311,   34.839,2,   34.837,2, -999.000,9,  210.500,2,    2.250,2,    0.990,2,    0.080,2,    0.070,2, -999.000,9, -999.000,9, -999.000,9, -999.000,9, -999.000,9
           NA,    P03W,    335,   1,-999.0,      15,  2,19850526,1554,  24.2533,  132.2100,  2575,  143.700,   19.410,   34.837,2,   34.837,2, -999.000,9,  208.300,2,    2.930,2,    2.310,2,    0.020,2,    0.120,2, -999.000,9, -999.000,9, -999.000,9, -999.000,9, -999.000,9
           NA,    P03W,    335,   1,-999.0,      16,  2,19850526,1554,  24.2533,  132.2100,  2575,  184.100,   18.545,   34.832,2,   34.832,2, -999.000,9,  204.300,2,    4.200,2,    3.380,2,    0.020,2,    0.200,2, -999.000,9, -999.000,9, -999.000,9, -999.000,9, -999.000,9
           NA,    P03W,    335,   1,-999.0,      17,  2,19850526,1554,  24.2533,  132.2100,  2575,  234.100,   17.648,   34.809,2,   34.810,2, -999.000,9,  199.900,2,    4.890,2,    4.780,2,    0.010,2,    0.270,2, -999.000,9, -999.000,9, -999.000,9, -999.000,9, -999.000,9
           NA,    P03W,    335,   1,-999.0,      18,  2,19850526,1554,  24.2533,  132.2100,  2575,  284.600,   16.753,   34.765,2,   34.767,2, -999.000,9,  199.000,2,    6.450,2,    6.170,2,    0.010,2,    0.350,2, -999.000,9, -999.000,9, -999.000,9, -999.000,9, -999.000,9
           NA,    P03W,    335,   1,-999.0,      23,  2,19850526,1554,  24.2533,  132.2100,  2575,  335.000,   15.831,   34.706,2,   34.710,2, -999.000,9,  196.800,2,    7.530,2,    7.570,2,    0.010,2,    0.440,2, -999.000,9, -999.000,9, -999.000,9, -999.000,9, -999.000,9
           NA,    P03W,    335,   1,-999.0,      20,  2,19850526,1554,  24.2533,  132.2100,  2575,  384.900,   14.955,   34.636,2,   34.637,2, -999.000,9,  189.800,2,   11.440,2,    9.770,2,    0.020,2,    0.600,2, -999.000,9, -999.000,9, -999.000,9, -999.000,9, -999.000,9
           NA,    P03W,    335,   1,-999.0,      21,  2,19850526,1554,  24.2533,  132.2100,  2575,  445.300,   13.797,   34.541,2,   34.543,2, -999.000,9,  185.400,2,   14.760,2,   12.020,2,    0.000,2,    0.750,2, -999.000,9, -999.000,9, -999.000,9, -999.000,9, -999.000,9
           NA,    P03W,    335,   1,-999.0,      22,  2,19850526,1554,  24.2533,  132.2100,  2575,  505.400,   12.349,   34.444,2,   34.443,2, -999.000,9,  171.900,2,   22.580,2,   15.640,2,    0.000,2,    1.040,2, -999.000,9, -999.000,9, -999.000,9, -999.000,9, -999.000,9
           NA,    P03W,    335,   1,-999.0,      39,  2,19850526,1554,  24.2533,  132.2100,  2575,  566.600,   10.618,   34.302,2,   34.306,2, -999.000,9,  168.400,2,   27.860,2,   18.670,2,    0.000,2,    1.200,2, -999.000,9, -999.000,9, -999.000,9, -999.000,9, -999.000,9
           NA,    P03W,    335,   1,-999.0,      24,  2,19850526,1554,  24.2533,  132.2100,  2575,  647.700,    8.296,   34.190,2,   34.192,2, -999.000,9,  140.500,2,   46.150,2,   25.520,2,    0.000,2,    1.660,2, -999.000,9, -999.000,9, -999.000,9, -999.000,9, -999.000,9
           NA,    P03W,    335,   1,-999.0,      40,  2,19850526,1554,  24.2533,  132.2100,  2575,  729.100,    6.524,   34.168,2,   34.168,2, -999.000,9,  102.200,2,   66.000,2,   32.270,2,    0.000,2,    2.150,2, -999.000,9, -999.000,9, -999.000,9, -999.000,9, -999.000,9
           NA,    P03W,    335,   1,-999.0,      26,  2,19850526,1554,  24.2533,  132.2100,  2575,  809.500,    5.497,   34.201,2,   34.200,2, -999.000,9,   83.900,2,   83.210,2,   35.790,2,    0.000,2,    2.390,2, -999.000,9, -999.000,9, -999.000,9, -999.000,9, -999.000,9
           NA,    P03W,    335,   1,-999.0,      27,  2,19850526,1554,  24.2533,  132.2100,  2575,  910.800,    4.759,   34.249,2, -999.000,5, -999.000,9,   68.300,2,   98.360,2,   38.230,2,    0.000,2,    2.560,2, -999.000,9, -999.000,9, -999.000,9, -999.000,9, -999.000,9
           NA,    P03W,    335,   1,-999.0,      28,  2,19850526,1554,  24.2533,  132.2100,  2575, 1062.500,    3.887,   34.340,2,   34.340,2, -999.000,9,   56.900,2,  116.150,2,   40.180,2,    0.000,2,    2.710,2, -999.000,9, -999.000,9, -999.000,9, -999.000,9, -999.000,9
           NA,    P03W,    335,   1,-999.0,      29,  2,19850526,1554,  24.2533,  132.2100,  2575, 1213.500,    3.185,   34.430,2,   34.430,2, -999.000,9,   61.700,2,  131.390,2,   40.860,2,    0.000,2,    2.750,2, -999.000,9, -999.000,9, -999.000,9, -999.000,9, -999.000,9
           NA,    P03W,    335,   1,-999.0,      30,  2,19850526,1554,  24.2533,  132.2100,  2575, 1415.200,    2.743,   34.502,2,   34.502,2, -999.000,9,   76.900,2,  138.620,2,   40.280,2,    0.000,2,    2.690,2, -999.000,9, -999.000,9, -999.000,9, -999.000,9, -999.000,9
           NA,    P03W,    335,   1,-999.0,      31,  2,19850526,1554,  24.2533,  132.2100,  2575, 1616.900,    2.356,   34.554,2,   34.556,2, -999.000,9,   93.400,2,  143.400,2,   39.590,2,    0.000,2,    2.640,2, -999.000,9, -999.000,9, -999.000,9, -999.000,9, -999.000,9
           NA,    P03W,    335,   1,-999.0,      32,  2,19850526,1554,  24.2533,  132.2100,  2575, 1818.900,    2.149,   34.585,2,   34.585,2, -999.000,9,  105.200,2,  144.860,2,   38.900,2,    0.000,2,    2.600,2, -999.000,9, -999.000,9, -999.000,9, -999.000,9, -999.000,9
           NA,    P03W,    335,   1,-999.0,      33,  2,19850526,1554,  24.2533,  132.2100,  2575, 2021.100,    1.992,   34.609,2,   34.608,2, -999.000,9,  114.700,2,  145.550,2,   38.320,2,    0.000,2,    2.560,2, -999.000,9, -999.000,9, -999.000,9, -999.000,9, -999.000,9
           NA,    P03W,    335,   1,-999.0,      34,  2,19850526,1554,  24.2533,  132.2100,  2575, 2223.300,    1.887,   34.625,2,   34.624,2, -999.000,9,  123.000,2,  145.060,2,   37.830,2,    0.000,2,    2.540,2, -999.000,9, -999.000,9, -999.000,9, -999.000,9, -999.000,9
           NA,    P03W,    335,   1,-999.0,      35,  2,19850526,1554,  24.2533,  132.2100,  2575, 2425.200,    1.828,   34.634,2,   34.632,2, -999.000,9,  126.900,2,  144.170,2,   37.730,2,    0.000,2,    2.530,2, -999.000,9, -999.000,9, -999.000,9, -999.000,9, -999.000,9
           NA,    P03W,    335,   1,-999.0,      37,  2,19850526,1554,  24.2533,  132.2100,  2575, 2601.800,    1.778,   34.641,2,   34.640,2, -999.000,9,  131.200,2,  143.000,2,   37.440,2,    0.000,2,    2.520,2, -999.000,9, -999.000,9, -999.000,9, -999.000,9, -999.000,9