BOTTLE,20203103JOAExport
EXPOCODE,SECT_ID,STNNBR,CASTNO,SAMPNO,BTLNBR,BTLNBR_FLAG_W,DATE,TIME,LATITUDE,LONGITUDE,DEPTH,CTDPRS,CTDTMP,CTDSAL,CTDSAL_FLAG_W,SALNTY,SALNTY_FLAG_W,CTDOXY,CTDOXY_FLAG_W,OXYGEN,OXYGEN_FLAG_W,SILCAT,SILCAT_FLAG_W,NITRAT,NITRAT_FLAG_W,NITRIT,NITRIT_FLAG_W,PHSPHT,PHSPHT_FLAG_W,CFC-11,CFC-11_FLAG_W,CFC-12,CFC-12_FLAG_W,SF6,SF6_FLAG_W,TCARBN,TCARBN_FLAG_W,ALKALI,ALKALI_FLAG_W
,,,,,,,,,,,,,DB,ITS-90,PSS-78,,PSS-78,,UMOL/KG,,UMOL/KG,,UMOL/KG,,UMOL/KG,,UMOL/KG,,UMOL/KG,,PMOL/KG,,PMOL/KG,,FMOL/KG,,UMOL/KG,,UMOL/KG
           NA,    P03W,    326,   1,-999.0,       4,  2,19850524,0645,  24.2367,  135.0350,  5174,    0.000,   25.235,   34.804,2,   34.808,2, -999.000,9,  214.400,2,    2.440,2,    0.090,2,    0.000,2,    0.050,2, -999.000,9, -999.000,9, -999.000,9, -999.000,9, -999.000,9
           NA,    P03W,    326,   1,-999.0,      38,  2,19850524,0645,  24.2367,  135.0350,  5174,   25.700,   21.181,   34.796,2,   34.794,2, -999.000,9,  234.800,2,    2.420,2,    0.080,2,    0.000,2,    0.050,2, -999.000,9, -999.000,9, -999.000,9, -999.000,9, -999.000,9
           NA,    P03W,    326,   1,-999.0,       3,  2,19850524,0645,  24.2367,  135.0350,  5174,   45.200,   19.640,   34.843,2,   34.842,2, -999.000,9,  231.000,2,    2.400,2,    0.080,2,    0.000,2,    0.070,2, -999.000,9, -999.000,9, -999.000,9, -999.000,9, -999.000,9
           NA,    P03W,    326,   1,-999.0,       1,  2,19850524,0645,  24.2367,  135.0350,  5174,   74.900,   19.165,   34.855,2,   34.856,2, -999.000,9,  217.600,2,    2.800,2,    1.260,2,    0.070,2,    0.150,2, -999.000,9, -999.000,9, -999.000,9, -999.000,9, -999.000,9
           NA,    P03W,    326,   1,-999.0,       5,  2,19850524,0645,  24.2367,  135.0350,  5174,  104.600,   18.614,   34.845,2,   34.846,2, -999.000,9,  210.100,2,    3.640,2,    2.690,2,    0.080,2,    0.230,2, -999.000,9, -999.000,9, -999.000,9, -999.000,9, -999.000,9
           NA,    P03W,    326,   1,-999.0,       6,  2,19850524,0645,  24.2367,  135.0350,  5174,  145.200,   17.890,   34.828,2,   34.829,2, -999.000,9,  206.200,2,    4.050,2,    3.990,2,    0.020,2,    0.310,2, -999.000,9, -999.000,9, -999.000,9, -999.000,9, -999.000,9
           NA,    P03W,    326,   1,-999.0,       7,  2,19850524,0645,  24.2367,  135.0350,  5174,  185.200,   17.499,   34.811,2,   34.811,2, -999.000,9,  204.400,2,    4.450,2,    4.640,2,    0.020,2,    0.350,2, -999.000,9, -999.000,9, -999.000,9, -999.000,9, -999.000,9
           NA,    P03W,    326,   1,-999.0,       8,  2,19850524,0645,  24.2367,  135.0350,  5174,  235.600,   16.856,   34.779,2,   34.778,2, -999.000,9,  201.400,2,    5.920,2,    5.950,2,    0.010,2,    0.430,2, -999.000,9, -999.000,9, -999.000,9, -999.000,9, -999.000,9
           NA,    P03W,    326,   1,-999.0,       9,  2,19850524,0645,  24.2367,  135.0350,  5174,  285.700,   16.096,   34.732,2,   34.732,2, -999.000,9,  199.000,2,    7.600,2,    7.300,2,    0.000,2,    0.520,2, -999.000,9, -999.000,9, -999.000,9, -999.000,9, -999.000,9
           NA,    P03W,    326,   1,-999.0,      10,  2,19850524,0645,  24.2367,  135.0350,  5174,  335.400,   15.187,   34.659,2,   34.659,2, -999.000,9,  192.700,2,   10.100,2,    9.250,2,    0.000,2,    0.660,2, -999.000,9, -999.000,9, -999.000,9, -999.000,9, -999.000,9
           NA,    P03W,    326,   1,-999.0,      11,  2,19850524,0645,  24.2367,  135.0350,  5174,  384.700,   14.102,   34.570,2,   34.569,2, -999.000,9,  185.300,2,   13.900,2,   11.620,2,    0.000,2,    0.820,2, -999.000,9, -999.000,9, -999.000,9, -999.000,9, -999.000,9
           NA,    P03W,    326,   1,-999.0,      12,  2,19850524,0645,  24.2367,  135.0350,  5174,  444.900,   12.570,   34.456,2,   34.458,2, -999.000,9,  175.700,2,   20.440,2,   15.180,2,    0.000,2,    1.040,2, -999.000,9, -999.000,9, -999.000,9, -999.000,9, -999.000,9
           NA,    P03W,    326,   1,-999.0,      13,  2,19850524,0645,  24.2367,  135.0350,  5174,  504.900,   10.979,   34.352,2,   34.352,2, -999.000,9,  164.800,2,   28.890,2,   18.900,2,    0.000,2,    1.290,2, -999.000,9, -999.000,9, -999.000,9, -999.000,9, -999.000,9
           NA,    P03W,    326,   1,-999.0,      14,  2,19850524,0645,  24.2367,  135.0350,  5174,  567.400,    9.237,   34.239,2,   34.236,2, -999.000,9,  153.100,2,   37.950,2,   22.890,2,    0.000,2,    1.580,2, -999.000,9, -999.000,9, -999.000,9, -999.000,9, -999.000,9
           NA,    P03W,    326,   1,-999.0,      15,  2,19850524,0645,  24.2367,  135.0350,  5174,  648.300,    7.290,   34.159,2,   34.158,2, -999.000,9,  124.500,2,   54.220,2,   28.670,2,    0.000,2,    2.000,2, -999.000,9, -999.000,9, -999.000,9, -999.000,9, -999.000,9
           NA,    P03W,    326,   1,-999.0,      16,  2,19850524,0645,  24.2367,  135.0350,  5174,  729.300,    6.005,   34.179,2,   34.180,2, -999.000,9,   91.600,2,   71.540,2,   34.100,2,    0.000,2,    2.360,2, -999.000,9, -999.000,9, -999.000,9, -999.000,9, -999.000,9
           NA,    P03W,    326,   1,-999.0,      17,  2,19850524,0645,  24.2367,  135.0350,  5174,  810.900,    5.079,   34.225,2,   34.224,2, -999.000,9,   72.600,2,   88.010,2,   37.080,2,    0.000,2,    2.580,2, -999.000,9, -999.000,9, -999.000,9, -999.000,9, -999.000,9
           NA,    P03W,    326,   1,-999.0,      18,  2,19850524,0645,  24.2367,  135.0350,  5174,  911.400,    4.537,   34.288,2,   34.288,2, -999.000,9,   61.700,2,   99.380,2,   39.290,2,    0.000,2,    2.710,2, -999.000,9, -999.000,9, -999.000,9, -999.000,9, -999.000,9
           NA,    P03W,    326,   1,-999.0,      23,  2,19850524,0645,  24.2367,  135.0350,  5174, 1062.500,    3.711,   34.356,2,   34.356,2, -999.000,9,   55.100,2,  116.290,2,   40.700,2,    0.000,2,    2.830,2, -999.000,9, -999.000,9, -999.000,9, -999.000,9, -999.000,9
           NA,    P03W,    326,   1,-999.0,      20,  2,19850524,0645,  24.2367,  135.0350,  5174, 1213.600,    3.098,   34.439,2,   34.439,2, -999.000,9,   60.700,2,  130.240,2,   41.000,2,    0.000,2,    2.860,2, -999.000,9, -999.000,9, -999.000,9, -999.000,9, -999.000,9
           NA,    P03W,    326,   1,-999.0,      21,  2,19850524,0645,  24.2367,  135.0350,  5174, 1415.600,    2.718,   34.506,2,   34.506,2, -999.000,9,   75.600,2,  136.070,2,   40.500,2,    0.000,2,    2.850,2, -999.000,9, -999.000,9, -999.000,9, -999.000,9, -999.000,9
           NA,    P03W,    326,   1,-999.0,      22,  2,19850524,0645,  24.2367,  135.0350,  5174, 1611.700,    2.386,   34.554,2,   34.555,2, -999.000,9,   90.900,2,  139.340,2,   39.940,2,    0.000,2,    2.790,2, -999.000,9, -999.000,9, -999.000,9, -999.000,9, -999.000,9
           NA,    P03W,    326,   1,-999.0,      39,  2,19850524,0645,  24.2367,  135.0350,  5174, 1813.000,    2.138,   34.591,2,   34.591,2, -999.000,9,  104.900,2,  140.680,2,   39.090,2,    0.000,2,    2.720,2, -999.000,9, -999.000,9, -999.000,9, -999.000,9, -999.000,9
           NA,    P03W,    326,   1,-999.0,      24,  2,19850524,0645,  24.2367,  135.0350,  5174, 2016.300,    1.955,   34.614,2,   34.615,2, -999.000,9,  115.900,2,  140.740,2,   38.490,2,    0.000,2,    2.680,2, -999.000,9, -999.000,9, -999.000,9, -999.000,9, -999.000,9
           NA,    P03W,    326,   1,-999.0,      40,  2,19850524,0645,  24.2367,  135.0350,  5174, 2221.400,    1.822,   34.633,2,   34.633,2, -999.000,9,  125.000,2,  140.580,2,   37.990,2,    0.000,2,    2.610,2, -999.000,9, -999.000,9, -999.000,9, -999.000,9, -999.000,9
           NA,    P03W,    326,   1,-999.0,      26,  2,19850524,0645,  24.2367,  135.0350,  5174, 2425.400,    1.758,   34.641,2,   34.642,2, -999.000,9,  130.200,2,  140.220,2,   37.790,2,    0.000,2,    2.620,2, -999.000,9, -999.000,9, -999.000,9, -999.000,9, -999.000,9
           NA,    P03W,    326,   1,-999.0,      27,  2,19850524,0645,  24.2367,  135.0350,  5174, 2625.500,    1.692,   34.650,2,   34.650,2, -999.000,9,  135.200,2,  140.060,2,   37.490,2,    0.000,2,    2.590,2, -999.000,9, -999.000,9, -999.000,9, -999.000,9, -999.000,9
           NA,    P03W,    326,   1,-999.0,      28,  2,19850524,0645,  24.2367,  135.0350,  5174, 2825.700,    1.650,   34.656,2,   34.656,2, -999.000,9,  139.300,2,  138.420,2,   37.250,2,    0.000,2,    2.550,2, -999.000,9, -999.000,9, -999.000,9, -999.000,9, -999.000,9
           NA,    P03W,    326,   1,-999.0,      29,  2,19850524,0645,  24.2367,  135.0350,  5174, 3128.100,    1.590,   34.665,2,   34.664,2, -999.000,9,  144.200,2,  138.060,2,   36.950,2,    0.000,2,    2.540,2, -999.000,9, -999.000,9, -999.000,9, -999.000,9, -999.000,9
           NA,    P03W,    326,   1,-999.0,      30,  2,19850524,0645,  24.2367,  135.0350,  5174, 3427.100,    1.561,   34.670,2,   34.671,2, -999.000,9,  148.900,2,  138.120,2,   36.550,2,    0.000,2,    2.510,2, -999.000,9, -999.000,9, -999.000,9, -999.000,9, -999.000,9
           NA,    P03W,    326,   1,-999.0,      31,  2,19850524,0645,  24.2367,  135.0350,  5174, 3722.400,    1.540,   34.676,2,   34.675,2, -999.000,9,  152.400,2,  137.970,2,   36.450,2,    0.000,2,    2.500,2, -999.000,9, -999.000,9, -999.000,9, -999.000,9, -999.000,9
           NA,    P03W,    326,   1,-999.0,      32,  2,19850524,0645,  24.2367,  135.0350,  5174, 4020.400,    1.545,   34.678,2,   34.677,2, -999.000,9,  154.200,2,  138.030,2,   36.210,2,    0.000,2,    2.490,2, -999.000,9, -999.000,9, -999.000,9, -999.000,9, -999.000,9
           NA,    P03W,    326,   1,-999.0,      33,  2,19850524,0645,  24.2367,  135.0350,  5174, 4328.000,    1.565,   34.679,2,   34.679,2, -999.000,9,  156.400,2,  137.250,2,   36.160,2,    0.000,2,    2.470,2, -999.000,9, -999.000,9, -999.000,9, -999.000,9, -999.000,9
           NA,    P03W,    326,   1,-999.0,      34,  2,19850524,0645,  24.2367,  135.0350,  5174, 4627.100,    1.593,   34.680,2, -999.000,5, -999.000,9,  156.900,2,  137.520,2,   36.060,2,    0.000,2,    2.480,2, -999.000,9, -999.000,9, -999.000,9, -999.000,9, -999.000,9
           NA,    P03W,    326,   1,-999.0,      35,  2,19850524,0645,  24.2367,  135.0350,  5174, 4938.700,    1.627,   34.680,2,   34.680,2, -999.000,9,  157.000,2,  140.960,2,   36.060,2,    0.000,2,    2.480,2, -999.000,9, -999.000,9, -999.000,9, -999.000,9, -999.000,9
           NA,    P03W,    326,   1,-999.0,      37,  2,19850524,0645,  24.2367,  135.0350,  5174, 5237.800,    1.664,   34.680,2,   34.681,2, -999.000,9,  156.700,2,  141.230,2,   36.120,2,    0.000,2,    2.470,2, -999.000,9, -999.000,9, -999.000,9, -999.000,9, -999.000,9