BOTTLE,20203103JOAExport
EXPOCODE,SECT_ID,STNNBR,CASTNO,SAMPNO,BTLNBR,BTLNBR_FLAG_W,DATE,TIME,LATITUDE,LONGITUDE,DEPTH,CTDPRS,CTDTMP,CTDSAL,CTDSAL_FLAG_W,SALNTY,SALNTY_FLAG_W,CTDOXY,CTDOXY_FLAG_W,OXYGEN,OXYGEN_FLAG_W,SILCAT,SILCAT_FLAG_W,NITRAT,NITRAT_FLAG_W,NITRIT,NITRIT_FLAG_W,PHSPHT,PHSPHT_FLAG_W,CFC-11,CFC-11_FLAG_W,CFC-12,CFC-12_FLAG_W,SF6,SF6_FLAG_W,TCARBN,TCARBN_FLAG_W,ALKALI,ALKALI_FLAG_W
,,,,,,,,,,,,,DB,ITS-90,PSS-78,,PSS-78,,UMOL/KG,,UMOL/KG,,UMOL/KG,,UMOL/KG,,UMOL/KG,,UMOL/KG,,PMOL/KG,,PMOL/KG,,FMOL/KG,,UMOL/KG,,UMOL/KG
           NA,    P03E,     76,   1,-999.0,       1,  2,19850411,0927,  24.2500, -141.8483,  4620,    0.900,   21.423,   34.830,2,   34.833,2, -999.000,9,  224.300,2,    1.540,2,    0.170,2,    0.000,2,    0.150,2,    1.818,2, -999.000,9, -999.000,9, -999.000,9, -999.000,9
           NA,    P03E,     76,   1,-999.0,       2,  2,19850411,0927,  24.2500, -141.8483,  4620,   21.100,   21.227,   34.938,2,   34.934,2, -999.000,9,  225.200,2,    1.530,2,    0.170,2,    0.000,2,    0.150,2, -999.000,9, -999.000,9, -999.000,9, -999.000,9, -999.000,9
           NA,    P03E,     76,   1,-999.0,       3,  2,19850411,0927,  24.2500, -141.8483,  4620,   36.300,   20.778,   35.057,2,   35.052,2, -999.000,9,  228.100,2,    1.340,2,    0.090,2,    0.000,2,    0.140,2,    1.769,2,    0.908,2, -999.000,9, -999.000,9, -999.000,9
           NA,    P03E,     76,   1,-999.0,       4,  2,19850411,0927,  24.2500, -141.8483,  4620,   55.900,   20.687,   35.195,2,   35.192,2, -999.000,9,  223.000,2,    1.320,2,    0.130,2,    0.000,2,    0.120,2,    1.774,2,    0.922,2, -999.000,9, -999.000,9, -999.000,9
           NA,    P03E,     76,   1,-999.0,       5,  2,19850411,0927,  24.2500, -141.8483,  4620,   75.000,   20.469,   35.229,2,   35.204,2, -999.000,9,  226.700,2,    1.310,2,    0.130,2,    0.000,2,    0.120,2, -999.000,9, -999.000,9, -999.000,9, -999.000,9, -999.000,9
           NA,    P03E,     76,   1,-999.0,       6,  2,19850411,0927,  24.2500, -141.8483,  4620,   95.400,   20.477,   35.311,2,   35.312,2, -999.000,9,  224.500,2,    1.300,2,    0.130,2,    0.000,2,    0.100,2,    1.795,2,    0.919,2, -999.000,9, -999.000,9, -999.000,9
           NA,    P03E,     76,   1,-999.0,       7,  2,19850411,0927,  24.2500, -141.8483,  4620,  124.800,   20.496,   35.360,2,   35.364,2, -999.000,9,  223.100,2,    1.290,2,    0.100,2,    0.030,2,    0.100,2,    1.792,2,    0.937,2, -999.000,9, -999.000,9, -999.000,9
           NA,    P03E,     76,   1,-999.0,       8,  2,19850411,0927,  24.2500, -141.8483,  4620,  155.200,   20.134,   35.308,2,   35.308,2, -999.000,9,  217.700,2,    1.460,2,    0.300,2,    0.140,2,    0.130,2,    1.785,2,    0.901,2, -999.000,9, -999.000,9, -999.000,9
           NA,    P03E,     76,   1,-999.0,       9,  2,19850411,0927,  24.2500, -141.8483,  4620,  195.400,   18.698,   35.007,2,   34.996,2, -999.000,9,  206.500,2,    1.990,2,    1.800,2,    0.040,2,    0.240,2,    1.812,2,    0.917,2, -999.000,9, -999.000,9, -999.000,9
           NA,    P03E,     76,   1,-999.0,      10,  2,19850411,0927,  24.2500, -141.8483,  4620,  236.000,   15.593,   34.493,2,   34.486,2, -999.000,9,  201.700,2,    4.860,2,    4.880,2,    0.010,2,    0.460,2,    1.844,2,    0.925,2, -999.000,9, -999.000,9, -999.000,9
           NA,    P03E,     76,   1,-999.0,      11,  2,19850411,0927,  24.2500, -141.8483,  4620,  287.000,   12.440,   34.178,2,   34.175,2, -999.000,9,  205.500,2,    9.180,2,    9.500,2,    0.010,2,    0.740,2,    1.847,2,    0.907,2, -999.000,9, -999.000,9, -999.000,9
           NA,    P03E,     76,   1,-999.0,      12,  2,19850411,0927,  24.2500, -141.8483,  4620,  337.600,   10.162,   34.088,2,   34.083,2, -999.000,9,  177.100,2,   20.160,2,   17.710,2,    0.000,2,    1.300,2,    1.394,2,    0.686,2, -999.000,9, -999.000,9, -999.000,9
           NA,    P03E,     76,   1,-999.0,      13,  2,19850411,0927,  24.2500, -141.8483,  4620,  388.100,    8.653,   34.057,2,   34.062,2, -999.000,9,  173.200,2,   29.510,2,   22.070,2,    0.000,2,    1.540,2,    0.960,2,    0.494,2, -999.000,9, -999.000,9, -999.000,9
           NA,    P03E,     76,   1,-999.0,      14,  2,19850411,0927,  24.2500, -141.8483,  4620,  447.800,    8.539,   34.255,2,   34.253,2, -999.000,9,   67.900,2,   43.170,2,   30.060,2,    0.000,2,    2.360,2,    0.223,2,    0.133,6, -999.000,9, -999.000,9, -999.000,9
           NA,    P03E,     76,   1,-999.0,      15,  2,19850411,0927,  24.2500, -141.8483,  4620,  508.400,    6.673,   34.107,2, -999.000,5, -999.000,9,   74.900,2,   57.750,2,   34.950,2,    0.000,2,    2.480,2, -999.000,9, -999.000,9, -999.000,9, -999.000,9, -999.000,9
           NA,    P03E,     76,   1,-999.0,      16,  2,19850411,0927,  24.2500, -141.8483,  4620,  568.700,    5.920,   34.141,2,   34.140,2, -999.000,9,   47.200,2,   71.420,2,   38.920,2,    0.000,2,    2.750,2,    0.039,2,    0.033,2, -999.000,9, -999.000,9, -999.000,9
           NA,    P03E,     76,   1,-999.0,      17,  2,19850411,0927,  24.2500, -141.8483,  4620,  638.800,    5.302,   34.200,2,   34.203,2, -999.000,9,   29.200,2,   84.190,2,   41.950,2,    0.000,2,    2.970,2,    0.031,2,    0.013,2, -999.000,9, -999.000,9, -999.000,9
           NA,    P03E,     76,   1,-999.0,      18,  2,19850411,0927,  24.2500, -141.8483,  4620,  708.900,    5.327,   34.356,2,   34.357,2, -999.000,9,   20.100,2,   87.380,2,   43.080,2,    0.000,2,    3.060,2,    0.027,2,   -0.003,2, -999.000,9, -999.000,9, -999.000,9
           NA,    P03E,     76,   1,-999.0,      19,  2,19850411,0927,  24.2500, -141.8483,  4620,  810.200,    4.791,   34.409,2,   34.409,2, -999.000,9,   25.400,2,   97.080,2,   44.010,2,    0.000,2,    3.100,2,   -0.002,2,    0.009,2, -999.000,9, -999.000,9, -999.000,9
           NA,    P03E,     76,   1,-999.0,      20,  2,19850411,0927,  24.2500, -141.8483,  4620,  912.400,    4.433,   34.446,2,   34.448,2, -999.000,9,   29.300,2,  103.710,2,   44.420,2,    0.000,2,    3.080,2, -999.000,9, -999.000,9, -999.000,9, -999.000,9, -999.000,9
           NA,    P03E,     76,   1,-999.0,      21,  2,19850411,0927,  24.2500, -141.8483,  4620, 1010.500,    4.103,   34.472,2,   34.473,2, -999.000,9,   36.000,2,  111.240,2,   44.220,2,    0.000,2,    3.070,2, -999.000,9,    0.000,2, -999.000,9, -999.000,9, -999.000,9
           NA,    P03E,     76,   1,-999.0,      22,  2,19850411,0927,  24.2500, -141.8483,  4620, 1112.400,    3.807,   34.502,2,   34.502,2, -999.000,9,   42.100,2,  117.330,2,   44.220,2,    0.000,2,    3.050,2, -999.000,9, -999.000,9, -999.000,9, -999.000,9, -999.000,9
           NA,    P03E,     76,   1,-999.0,      23,  2,19850411,0927,  24.2500, -141.8483,  4620, 1263.000,    3.464,   34.528,2,   34.528,2, -999.000,9,   48.700,2,  125.230,2,   44.010,2,    0.000,2,    3.030,2,   -0.006,2,    0.000,2, -999.000,9, -999.000,9, -999.000,9
           NA,    P03E,     76,   1,-999.0,      24,  2,19850411,0927,  24.2500, -141.8483,  4620, 1414.900,    3.154,   34.549,2,   34.549,2, -999.000,9,   63.100,2,  132.230,2,   43.910,2,    0.000,2,    3.000,2, -999.000,9, -999.000,9, -999.000,9, -999.000,9, -999.000,9
           NA,    P03E,     76,   1,-999.0,      25,  2,19850411,0927,  24.2500, -141.8483,  4620, 1615.000,    2.762,   34.573,2,   34.574,2, -999.000,9,   65.900,2,  141.230,2,   43.240,2,    0.000,2,    2.950,2,    0.009,2,    0.000,2, -999.000,9, -999.000,9, -999.000,9
           NA,    P03E,     76,   1,-999.0,      26,  2,19850411,0927,  24.2500, -141.8483,  4620, 1815.800,    2.413,   34.592,2,   34.592,2, -999.000,9,   74.200,2,  150.960,2,   42.880,2,    0.000,2,    2.890,2, -999.000,9, -999.000,9, -999.000,9, -999.000,9, -999.000,9
           NA,    P03E,     76,   1,-999.0,      27,  2,19850411,0927,  24.2500, -141.8483,  4620, 2015.000,    2.148,   34.611,2,   34.610,2, -999.000,9,   81.100,2,  158.520,2,   42.110,2,    0.000,2,    2.850,2, -999.000,9, -999.000,9, -999.000,9, -999.000,9, -999.000,9
           NA,    P03E,     76,   1,-999.0,      28,  2,19850411,0927,  24.2500, -141.8483,  4620, 2213.800,    1.938,   34.627,2,   34.627,2, -999.000,9,   90.000,2,  165.170,2,   41.860,2,    0.000,2,    2.810,2, -999.000,9, -999.000,9, -999.000,9, -999.000,9, -999.000,9
           NA,    P03E,     76,   1,-999.0,      29,  2,19850411,0927,  24.2500, -141.8483,  4620, 2506.900,    1.732,   34.645,2,   34.645,2, -999.000,9,  102.700,2,  169.280,2,   40.790,2,    0.000,2,    2.740,2, -999.000,9, -999.000,9, -999.000,9, -999.000,9, -999.000,9
           NA,    P03E,     76,   1,-999.0,      30,  2,19850411,0927,  24.2500, -141.8483,  4620, 2812.000,    1.602,   34.660,2,   34.659,2, -999.000,9,  117.700,2,  168.450,2,   39.880,2,    0.000,2,    2.660,2,   -0.001,2,    0.006,6, -999.000,9, -999.000,9, -999.000,9
           NA,    P03E,     76,   1,-999.0,      31,  2,19850411,0927,  24.2500, -141.8483,  4620, 3122.900,    1.535,   34.668,2,   34.668,2, -999.000,9,  127.000,2,  166.890,2,   39.030,2,    0.000,2,    2.610,2, -999.000,9, -999.000,9, -999.000,9, -999.000,9, -999.000,9
           NA,    P03E,     76,   1,-999.0,      32,  2,19850411,0927,  24.2500, -141.8483,  4620, 3426.400,    1.490,   34.675,2,   34.674,2, -999.000,9,  135.700,2,  163.340,2,   38.430,2,    0.000,2,    2.550,2, -999.000,9, -999.000,9, -999.000,9, -999.000,9, -999.000,9
           NA,    P03E,     76,   1,-999.0,      37,  2,19850411,0927,  24.2500, -141.8483,  4620, 3721.500,    1.472,   34.679,2,   34.679,2, -999.000,9,  142.000,2,  161.240,2,   38.130,2,    0.000,2,    2.510,2, -999.000,9, -999.000,9, -999.000,9, -999.000,9, -999.000,9
           NA,    P03E,     76,   1,-999.0,      34,  2,19850411,0927,  24.2500, -141.8483,  4620, 4027.500,    1.464,   34.683,2,   34.684,2, -999.000,9,  149.700,2,  158.240,2,   37.440,2,    0.000,2,    2.490,2, -999.000,9, -999.000,9, -999.000,9, -999.000,9, -999.000,9
           NA,    P03E,     76,   1,-999.0,      35,  2,19850411,0927,  24.2500, -141.8483,  4620, 4345.200,    1.486,   34.685,2,   34.684,2, -999.000,9,  151.100,2,  157.060,2,   37.390,2,    0.000,2,    2.460,2, -999.000,9, -999.000,9, -999.000,9, -999.000,9, -999.000,9
           NA,    P03E,     76,   1,-999.0,      36,  2,19850411,0927,  24.2500, -141.8483,  4620, 4697.900,    1.503,   34.687,2,   34.687,2, -999.000,9,  156.700,2,  155.700,2,   36.940,2,    0.000,2,    2.450,2, -999.000,9, -999.000,9, -999.000,9, -999.000,9, -999.000,9