BOTTLE,20203103JOAExport
EXPOCODE,SECT_ID,STNNBR,CASTNO,SAMPNO,BTLNBR,BTLNBR_FLAG_W,DATE,TIME,LATITUDE,LONGITUDE,DEPTH,CTDPRS,CTDTMP,CTDSAL,CTDSAL_FLAG_W,SALNTY,SALNTY_FLAG_W,CTDOXY,CTDOXY_FLAG_W,OXYGEN,OXYGEN_FLAG_W,SILCAT,SILCAT_FLAG_W,NITRAT,NITRAT_FLAG_W,NITRIT,NITRIT_FLAG_W,PHSPHT,PHSPHT_FLAG_W,CFC-11,CFC-11_FLAG_W,CFC-12,CFC-12_FLAG_W,SF6,SF6_FLAG_W,TCARBN,TCARBN_FLAG_W,ALKALI,ALKALI_FLAG_W
,,,,,,,,,,,,,DB,ITS-90,PSS-78,,PSS-78,,UMOL/KG,,UMOL/KG,,UMOL/KG,,UMOL/KG,,UMOL/KG,,UMOL/KG,,PMOL/KG,,PMOL/KG,,FMOL/KG,,UMOL/KG,,UMOL/KG
           NA,    P03E,    181,   1,-999.0,       1,  2,19850427,0333,  24.2400, -173.6317,  4935,    0.700,   23.014,   35.329,2,   35.332,2, -999.000,9,  217.700,2,    1.630,2,    0.040,2,    0.000,2,    0.070,2, -999.000,9, -999.000,9, -999.000,9, -999.000,9, -999.000,9
           NA,    P03E,    181,   1,-999.0,       2,  2,19850427,0333,  24.2400, -173.6317,  4935,   24.400,   22.859,   35.323,2,   35.324,2, -999.000,9,  219.500,2,    1.560,2,    0.040,2,    0.000,2,    0.080,2, -999.000,9, -999.000,9, -999.000,9, -999.000,9, -999.000,9
           NA,    P03E,    181,   1,-999.0,       3,  2,19850427,0333,  24.2400, -173.6317,  4935,   44.300,   22.242,   35.310,2,   35.316,2, -999.000,9,  224.200,2,    1.480,2,    0.040,2,    0.000,2,    0.080,2, -999.000,9, -999.000,9, -999.000,9, -999.000,9, -999.000,9
           NA,    P03E,    181,   1,-999.0,       4,  2,19850427,0333,  24.2400, -173.6317,  4935,   74.400,   21.618,   35.266,2,   35.268,2, -999.000,9,  226.500,2,    1.400,2,    0.040,2,    0.000,2,    0.070,2, -999.000,9, -999.000,9, -999.000,9, -999.000,9, -999.000,9
           NA,    P03E,    181,   1,-999.0,       5,  2,19850427,0333,  24.2400, -173.6317,  4935,  104.700,   20.784,   35.178,2,   35.175,2, -999.000,9,  225.100,2,    1.330,2,    0.000,2,    0.000,2,    0.080,2, -999.000,9, -999.000,9, -999.000,9, -999.000,9, -999.000,9
           NA,    P03E,    181,   1,-999.0,       6,  2,19850427,0333,  24.2400, -173.6317,  4935,  145.600,   18.981,   35.001,2,   35.003,2, -999.000,9,  216.900,2,    2.190,2,    0.790,2,    0.170,2,    0.160,2, -999.000,9, -999.000,9, -999.000,9, -999.000,9, -999.000,9
           NA,    P03E,    181,   1,-999.0,       7,  2,19850427,0333,  24.2400, -173.6317,  4935,  185.800,   16.822,   34.785,2,   34.776,2, -999.000,9,  211.300,2,    3.610,2,    4.060,2,    0.040,2,    0.360,2, -999.000,9, -999.000,9, -999.000,9, -999.000,9, -999.000,9
           NA,    P03E,    181,   1,-999.0,       8,  2,19850427,0333,  24.2400, -173.6317,  4935,  236.200,   15.050,   34.611,2,   34.608,2, -999.000,9,  206.200,2,    6.160,2,    6.990,2,    0.020,2,    0.540,2, -999.000,9, -999.000,9, -999.000,9, -999.000,9, -999.000,9
           NA,    P03E,    181,   1,-999.0,       9,  2,19850427,0333,  24.2400, -173.6317,  4935,  286.900,   13.682,   34.501,2,   34.504,2, -999.000,9,  211.000,2,    8.530,2,    8.850,2, -999.000,5,    0.660,2, -999.000,9, -999.000,9, -999.000,9, -999.000,9, -999.000,9
           NA,    P03E,    181,   1,-999.0,      10,  2,19850427,0333,  24.2400, -173.6317,  4935,  337.300,   12.284,   34.375,2,   34.377,2, -999.000,9,  213.200,2,   11.830,2,   11.080,2, -999.000,5,    0.820,2, -999.000,9, -999.000,9, -999.000,9, -999.000,9, -999.000,9
           NA,    P03E,    181,   1,-999.0,      11,  2,19850427,0333,  24.2400, -173.6317,  4935,  387.200,   11.206,   34.300,2,   34.300,2, -999.000,9,  207.000,2,   16.070,2,   13.810,2, -999.000,5,    0.990,2, -999.000,9, -999.000,9, -999.000,9, -999.000,9, -999.000,9
           NA,    P03E,    181,   1,-999.0,      12,  2,19850427,0333,  24.2400, -173.6317,  4935,  437.900,   10.370,   34.236,2,   34.233,2, -999.000,9,  199.900,2,   21.060,2,   16.210,2,    0.000,2,    1.160,2, -999.000,9, -999.000,9, -999.000,9, -999.000,9, -999.000,9
           NA,    P03E,    181,   1,-999.0,      13,  2,19850427,0333,  24.2400, -173.6317,  4935,  488.500,    9.004,   34.154,2,   34.154,2, -999.000,9,  178.800,2,   30.190,2,   20.650,2,    0.000,2,    1.480,2, -999.000,9, -999.000,9, -999.000,9, -999.000,9, -999.000,9
           NA,    P03E,    181,   1,-999.0,      14,  2,19850427,0333,  24.2400, -173.6317,  4935,  548.700,    7.611,   34.091,2,   34.085,2, -999.000,9,  143.900,2,   41.950,2,   26.280,2,    0.000,2,    1.880,2, -999.000,9, -999.000,9, -999.000,9, -999.000,9, -999.000,9
           NA,    P03E,    181,   1,-999.0,      15,  2,19850427,0333,  24.2400, -173.6317,  4935,  609.700,    6.694,   34.078,2,   34.078,2, -999.000,9,  121.900,2,   54.640,2,   30.070,2,    0.000,2,    2.150,2, -999.000,9, -999.000,9, -999.000,9, -999.000,9, -999.000,9
           NA,    P03E,    181,   1,-999.0,      16,  2,19850427,0333,  24.2400, -173.6317,  4935,  670.000,    5.869,   34.099,2,   34.099,2, -999.000,9,   93.800,2,   67.710,2,   34.000,2,    0.000,2,    2.450,2, -999.000,9, -999.000,9, -999.000,9, -999.000,9, -999.000,9
           NA,    P03E,    181,   1,-999.0,      38,  2,19850427,0333,  24.2400, -173.6317,  4935,  739.700,    5.240,   34.168,2,   34.168,2, -999.000,9,   61.800,2,   81.160,2,   38.030,2,    0.000,2,    2.710,2, -999.000,9, -999.000,9, -999.000,9, -999.000,9, -999.000,9
           NA,    P03E,    181,   1,-999.0,      18,  2,19850427,0333,  24.2400, -173.6317,  4935,  808.600,    4.716,   34.218,2,   34.219,2, -999.000,9,   49.600,2,   94.230,2,   40.020,2,    0.000,2,    2.860,2, -999.000,9, -999.000,9, -999.000,9, -999.000,9, -999.000,9
           NA,    P03E,    181,   1,-999.0,      19,  2,19850427,0333,  24.2400, -173.6317,  4935,  908.500,    4.146,   34.310,2,   34.311,2, -999.000,9,   39.500,2,  107.310,2,   41.650,2,    0.000,2,    2.970,2, -999.000,9, -999.000,9, -999.000,9, -999.000,9, -999.000,9
           NA,    P03E,    181,   1,-999.0,      17,  2,19850427,0333,  24.2400, -173.6317,  4935, 1009.400,    3.806,   34.370,2,   34.371,2, -999.000,9,   38.300,2,  115.320,2,   42.280,2,    0.000,2,    3.010,2, -999.000,9, -999.000,9, -999.000,9, -999.000,9, -999.000,9
           NA,    P03E,    181,   1,-999.0,      21,  2,19850427,0333,  24.2400, -173.6317,  4935, 1110.800,    3.381,   34.446,2,   34.446,2, -999.000,9,   45.700,2,  125.970,2,   42.220,2,    0.000,2,    3.000,2, -999.000,9, -999.000,9, -999.000,9, -999.000,9, -999.000,9
           NA,    P03E,    181,   1,-999.0,      39,  2,19850427,0333,  24.2400, -173.6317,  4935, 1258.300,    2.982,   34.505,2,   34.505,2, -999.000,9,   56.200,2,  134.940,2,   41.960,2,    0.000,2,    2.970,2, -999.000,9, -999.000,9, -999.000,9, -999.000,9, -999.000,9
           NA,    P03E,    181,   1,-999.0,      23,  2,19850427,0333,  24.2400, -173.6317,  4935, 1407.900,    2.731,   34.542,2,   34.543,2, -999.000,9,   68.400,2,  138.820,2,   41.110,2,    0.000,2,    2.930,2, -999.000,9, -999.000,9, -999.000,9, -999.000,9, -999.000,9
           NA,    P03E,    181,   1,-999.0,      24,  2,19850427,0333,  24.2400, -173.6317,  4935, 1607.800,    2.435,   34.573,2,   34.574,2, -999.000,9,   77.000,2,  144.220,2,   40.890,2,    0.000,2,    2.880,2, -999.000,9, -999.000,9, -999.000,9, -999.000,9, -999.000,9
           NA,    P03E,    181,   1,-999.0,      25,  2,19850427,0333,  24.2400, -173.6317,  4935, 1814.200,    2.171,   34.596,2,   34.597,2, -999.000,9,   87.500,2,  148.300,2,   40.420,2,    0.000,2,    2.840,2, -999.000,9, -999.000,9, -999.000,9, -999.000,9, -999.000,9
           NA,    P03E,    181,   1,-999.0,      26,  2,19850427,0333,  24.2400, -173.6317,  4935, 2015.100,    1.949,   34.617,2,   34.618,2, -999.000,9,   97.400,2,  152.010,2,   39.890,2,    0.000,2,    2.780,2, -999.000,9, -999.000,9, -999.000,9, -999.000,9, -999.000,9
           NA,    P03E,    181,   1,-999.0,      27,  2,19850427,0333,  24.2400, -173.6317,  4935, 2217.000,    1.814,   34.632,2,   34.633,2, -999.000,9,  105.400,2,  154.960,2,   39.320,2,    0.000,2,    2.760,2, -999.000,9, -999.000,9, -999.000,9, -999.000,9, -999.000,9
           NA,    P03E,    181,   1,-999.0,      28,  2,19850427,0333,  24.2400, -173.6317,  4935, 2517.100,    1.702,   34.644,2,   34.644,2, -999.000,9,  114.100,2,  155.080,2,   38.430,2,    0.000,2,    2.700,2, -999.000,9, -999.000,9, -999.000,9, -999.000,9, -999.000,9
           NA,    P03E,    181,   1,-999.0,      29,  2,19850427,0333,  24.2400, -173.6317,  4935, 2820.400,    1.598,   34.656,2,   34.656,2, -999.000,9,  125.300,2,  153.490,2,   38.060,2,    0.000,2,    2.670,2, -999.000,9, -999.000,9, -999.000,9, -999.000,9, -999.000,9
           NA,    P03E,    181,   1,-999.0,      30,  2,19850427,0333,  24.2400, -173.6317,  4935, 3125.500,    1.523,   34.666,2,   34.666,2, -999.000,9,  134.800,2,  152.660,2,   37.430,2,    0.000,2,    2.620,2, -999.000,9, -999.000,9, -999.000,9, -999.000,9, -999.000,9
           NA,    P03E,    181,   1,-999.0,      31,  2,19850427,0333,  24.2400, -173.6317,  4935, 3429.000,    1.488,   34.672,2,   34.671,2, -999.000,9,  141.900,2,  149.940,2,   37.070,2,    0.000,2,    2.590,2, -999.000,9, -999.000,9, -999.000,9, -999.000,9, -999.000,9
           NA,    P03E,    181,   1,-999.0,      32,  2,19850427,0333,  24.2400, -173.6317,  4935, 3733.200,    1.459,   34.677,2,   34.677,2, -999.000,9,  150.000,2,  148.550,2,   36.500,2,    0.000,2,    2.550,2, -999.000,9, -999.000,9, -999.000,9, -999.000,9, -999.000,9
           NA,    P03E,    181,   1,-999.0,      37,  2,19850427,0333,  24.2400, -173.6317,  4935, 4036.900,    1.446,   34.681,2,   34.681,2, -999.000,9,  154.400,2,  147.340,2,   36.080,2,    0.000,2,    2.510,2, -999.000,9, -999.000,9, -999.000,9, -999.000,9, -999.000,9
           NA,    P03E,    181,   1,-999.0,      34,  2,19850427,0333,  24.2400, -173.6317,  4935, 4342.800,    1.445,   34.685,2,   34.683,2, -999.000,9,  158.600,2,  145.190,2,   35.770,2,    0.000,2,    2.490,2, -999.000,9, -999.000,9, -999.000,9, -999.000,9, -999.000,9
           NA,    P03E,    181,   1,-999.0,      35,  2,19850427,0333,  24.2400, -173.6317,  4935, 4700.800,    1.441,   34.688,2,   34.687,2, -999.000,9,  165.600,2,  140.210,2,   35.300,2,    0.000,2,    2.450,2, -999.000,9, -999.000,9, -999.000,9, -999.000,9, -999.000,9
           NA,    P03E,    181,   1,-999.0,      36,  2,19850427,0333,  24.2400, -173.6317,  4935, 4998.200,    1.436,   34.692,2,   34.692,2, -999.000,9,  172.300,2,  135.610,2,   34.840,2,    0.000,2,    2.410,2, -999.000,9, -999.000,9, -999.000,9, -999.000,9, -999.000,9