BOTTLE,20203103JOAExport
EXPOCODE,SECT_ID,STNNBR,CASTNO,SAMPNO,BTLNBR,BTLNBR_FLAG_W,DATE,TIME,LATITUDE,LONGITUDE,DEPTH,CTDPRS,CTDTMP,CTDSAL,CTDSAL_FLAG_W,SALNTY,SALNTY_FLAG_W,CTDOXY,CTDOXY_FLAG_W,OXYGEN,OXYGEN_FLAG_W,SILCAT,SILCAT_FLAG_W,NITRAT,NITRAT_FLAG_W,NITRIT,NITRIT_FLAG_W,PHSPHT,PHSPHT_FLAG_W,CFC-11,CFC-11_FLAG_W,CFC-12,CFC-12_FLAG_W,SF6,SF6_FLAG_W,TCARBN,TCARBN_FLAG_W,ALKALI,ALKALI_FLAG_W
,,,,,,,,,,,,,DB,ITS-90,PSS-78,,PSS-78,,UMOL/KG,,UMOL/KG,,UMOL/KG,,UMOL/KG,,UMOL/KG,,UMOL/KG,,PMOL/KG,,PMOL/KG,,FMOL/KG,,UMOL/KG,,UMOL/KG
           NA,    P03E,    110,   1,-999.0,       1,  2,19850417,0140,  24.2367, -154.6267,  4663,  143.700,   20.441,   35.224,2,   35.204,2, -999.000,9,  208.700,2,    1.950,2,    0.870,2,    0.090,2,    0.140,2,    1.774,2,    0.895,2, -999.000,9, -999.000,9, -999.000,9
           NA,    P03E,    110,   1,-999.0,       2,  2,19850417,0140,  24.2367, -154.6267,  4663,  186.400,   17.984,   34.886,2,   34.887,2, -999.000,9,  208.200,2,    3.420,2,    2.390,2,    0.020,2,    0.230,2, -999.000,9, -999.000,9, -999.000,9, -999.000,9, -999.000,9
           NA,    P03E,    110,   1,-999.0,       3,  2,19850417,0140,  24.2367, -154.6267,  4663,  228.300,   15.230,   34.571,2,   34.572,2, -999.000,9,  211.600,2,    5.180,2,    4.930,2,    0.010,2,    0.420,2, -999.000,9, -999.000,9, -999.000,9, -999.000,9, -999.000,9
           NA,    P03E,    110,   1,-999.0,       4,  2,19850417,0140,  24.2367, -154.6267,  4663,  268.700,   13.256,   34.388,2,   34.423,2, -999.000,9,  209.800,2,    7.430,2,    7.950,2,    0.010,2,    0.610,2, -999.000,9, -999.000,9, -999.000,9, -999.000,9, -999.000,9
           NA,    P03E,    110,   1,-999.0,       6,  2,19850417,0140,  24.2367, -154.6267,  4663,  309.500,   11.917,   34.270,2,   34.265,2, -999.000,9,  215.000,2,   11.240,2,   11.050,2,    0.000,2,    0.810,2, -999.000,9, -999.000,9, -999.000,9, -999.000,9, -999.000,9
           NA,    P03E,    110,   1,-999.0,       5,  2,19850417,0140,  24.2367, -154.6267,  4663,  309.500,   11.917,   34.270,2,   34.270,2, -999.000,9,  215.000,2,   11.340,2,   10.850,2,    0.000,2,    0.790,2,    1.934,2,    0.922,2, -999.000,9, -999.000,9, -999.000,9
           NA,    P03E,    110,   1,-999.0,       7,  2,19850417,0140,  24.2367, -154.6267,  4663,  349.100,   10.741,   34.208,2,   34.209,2, -999.000,9,  215.000,2,   15.160,2,   13.690,2,    0.000,2,    0.970,2, -999.000,9, -999.000,9, -999.000,9, -999.000,9, -999.000,9
           NA,    P03E,    110,   1,-999.0,       9,  2,19850417,0140,  24.2367, -154.6267,  4663,  397.600,    9.710,   34.141,2,   34.141,2, -999.000,9,  205.400,2,   20.530,2,   16.820,2,    0.000,2,    1.160,2,    1.533,2,    0.745,2, -999.000,9, -999.000,9, -999.000,9
           NA,    P03E,    110,   1,-999.0,       8,  2,19850417,0140,  24.2367, -154.6267,  4663,  397.600,    9.710,   34.141,2,   34.144,2, -999.000,9,  205.400,2,   20.630,2,   16.820,2,    0.000,2,    1.160,2, -999.000,9, -999.000,9, -999.000,9, -999.000,9, -999.000,9
           NA,    P03E,    110,   1,-999.0,      10,  2,19850417,0140,  24.2367, -154.6267,  4663,  454.000,    8.475,   34.075,2,   34.075,2, -999.000,9,  184.900,2,   29.730,2,   21.220,2,    0.000,2,    1.480,2,    1.088,2,    0.544,2, -999.000,9, -999.000,9, -999.000,9
           NA,    P03E,    110,   1,-999.0,      11,  2,19850417,0140,  24.2367, -154.6267,  4663,  454.000,    8.475,   34.075,2,   34.078,2, -999.000,9,  185.800,2,   29.820,2,   21.220,2,    0.000,2,    1.470,2,    1.086,2,    0.538,2, -999.000,9, -999.000,9, -999.000,9
           NA,    P03E,    110,   1,-999.0,      13,  2,19850417,0140,  24.2367, -154.6267,  4663,  515.600,    7.208,   34.027,2,   34.028,2, -999.000,9,  149.200,2,   43.130,2,   27.190,2,    0.000,2,    1.890,2,    0.592,2,    0.308,2, -999.000,9, -999.000,9, -999.000,9
           NA,    P03E,    110,   1,-999.0,      12,  2,19850417,0140,  24.2367, -154.6267,  4663,  515.600,    7.208,   34.027,2,   34.027,2, -999.000,9,  150.100,2,   42.930,2,   26.890,2,    0.000,2,    1.870,2,    0.602,2,    0.307,2, -999.000,9, -999.000,9, -999.000,9
           NA,    P03E,    110,   1,-999.0,      14,  2,19850417,0140,  24.2367, -154.6267,  4663,  577.000,    6.214,   34.024,2,   34.024,2, -999.000,9,  107.400,2,   57.890,2,   32.760,2,    0.000,2,    2.280,2,    0.242,2,    0.136,2, -999.000,9, -999.000,9, -999.000,9
           NA,    P03E,    110,   1,-999.0,      16,  2,19850417,0140,  24.2367, -154.6267,  4663,  632.600,    5.337,   34.082,2,   34.085,2, -999.000,9,   67.800,2,   76.570,2,   37.940,2,    0.000,2,    2.660,2,    0.076,2,    0.048,2, -999.000,9, -999.000,9, -999.000,9
           NA,    P03E,    110,   1,-999.0,      15,  2,19850417,0140,  24.2367, -154.6267,  4663,  632.600,    5.337,   34.082,2,   34.081,2, -999.000,9,   68.300,2,   76.080,2,   37.550,2,    0.000,2,    2.630,2,    0.077,2,    0.050,2, -999.000,9, -999.000,9, -999.000,9
           NA,    P03E,    110,   1,-999.0,      38,  2,19850417,0140,  24.2367, -154.6267,  4663,  703.600,    4.711,   34.173,2,   34.175,2, -999.000,9,   40.000,2,   92.990,2,   41.070,2,    0.000,2,    2.880,2,    0.032,2,    0.022,2, -999.000,9, -999.000,9, -999.000,9
           NA,    P03E,    110,   1,-999.0,      18,  2,19850417,0140,  24.2367, -154.6267,  4663,  805.900,    4.372,   34.295,2,   34.294,2, -999.000,9,   32.200,2,  103.250,2,   42.430,2,    0.000,2,    2.980,2,    0.009,2,    0.001,2, -999.000,9, -999.000,9, -999.000,9
           NA,    P03E,    110,   1,-999.0,      19,  2,19850417,0140,  24.2367, -154.6267,  4663,  956.700,    3.903,   34.432,2,   34.431,2, -999.000,9,   40.000,2,  114.380,2,   42.530,2,    0.000,2,    2.980,2, -999.000,9, -999.000,9, -999.000,9, -999.000,9, -999.000,9
           NA,    P03E,    110,   1,-999.0,      20,  2,19850417,0140,  24.2367, -154.6267,  4663, 1105.500,    3.534,   34.497,2,   34.496,2, -999.000,9,   51.700,2,  122.000,2,   42.130,2,    0.000,2,    2.930,2, -999.000,9, -999.000,9, -999.000,9, -999.000,9, -999.000,9
           NA,    P03E,    110,   1,-999.0,      21,  2,19850417,0140,  24.2367, -154.6267,  4663, 1256.800,    3.209,   34.537,2,   34.541,2, -999.000,9,   60.000,2,  129.620,2,   42.030,2,    0.000,2,    2.910,2, -999.000,9, -999.000,9, -999.000,9, -999.000,9, -999.000,9
           NA,    P03E,    110,   1,-999.0,      39,  2,19850417,0140,  24.2367, -154.6267,  4663, 1408.900,    2.920,   34.556,2,   34.557,2, -999.000,9,   65.600,2,  137.340,2,   41.840,2,    0.000,2,    2.900,2,    0.007,2,    0.006,2, -999.000,9, -999.000,9, -999.000,9
           NA,    P03E,    110,   1,-999.0,      23,  2,19850417,0140,  24.2367, -154.6267,  4663, 1565.700,    2.641,   34.574,2,   34.575,2, -999.000,9,   71.700,2,  142.520,2,   41.540,2,    0.000,2,    2.860,2, -999.000,9, -999.000,9, -999.000,9, -999.000,9, -999.000,9
           NA,    P03E,    110,   1,-999.0,      24,  2,19850417,0140,  24.2367, -154.6267,  4663, 1716.700,    2.405,   34.590,2,   34.590,2, -999.000,9,   80.000,2,  147.500,2,   41.250,2,    0.000,2,    2.830,2, -999.000,9, -999.000,9, -999.000,9, -999.000,9, -999.000,9
           NA,    P03E,    110,   1,-999.0,      25,  2,19850417,0140,  24.2367, -154.6267,  4663, 1917.300,    2.120,   34.609,2,   34.609,2, -999.000,9,   87.300,2,  155.520,2,   40.760,2,    0.000,2,    2.790,2,    0.007,2,   -0.001,2, -999.000,9, -999.000,9, -999.000,9
           NA,    P03E,    110,   1,-999.0,      26,  2,19850417,0140,  24.2367, -154.6267,  4663, 2120.000,    1.907,   34.626,2,   34.627,2, -999.000,9,   93.400,2,  162.160,2,   40.370,2,    0.000,2,    2.750,2,    0.006,2,    0.006,2, -999.000,9, -999.000,9, -999.000,9
           NA,    P03E,    110,   1,-999.0,      27,  2,19850417,0140,  24.2367, -154.6267,  4663, 2320.700,    1.773,   34.639,2,   34.638,2, -999.000,9,  101.200,2,  166.360,2,   39.680,2,    0.000,2,    2.710,2, -999.000,9, -999.000,9, -999.000,9, -999.000,9, -999.000,9
           NA,    P03E,    110,   1,-999.0,      28,  2,19850417,0140,  24.2367, -154.6267,  4663, 2523.000,    1.686,   34.648,2,   34.647,2, -999.000,9,  108.600,2,  165.680,2,   39.490,2,    0.000,2,    2.670,2,    0.000,2,    0.002,6, -999.000,9, -999.000,9, -999.000,9
           NA,    P03E,    110,   1,-999.0,      29,  2,19850417,0140,  24.2367, -154.6267,  4663, 2723.900,    1.589,   34.659,2,   34.657,2, -999.000,9,  119.500,2,  162.160,2,   38.610,2,    0.000,2,    2.620,2, -999.000,9, -999.000,9, -999.000,9, -999.000,9, -999.000,9
           NA,    P03E,    110,   1,-999.0,      30,  2,19850417,0140,  24.2367, -154.6267,  4663, 2925.900,    1.534,   34.665,2,   34.665,2, -999.000,9,  129.100,2,  160.690,2,   38.220,2,    0.000,2,    2.570,2, -999.000,9, -999.000,9, -999.000,9, -999.000,9, -999.000,9
           NA,    P03E,    110,   1,-999.0,      31,  2,19850417,0140,  24.2367, -154.6267,  4663, 3127.300,    1.503,   34.670,2,   34.669,2, -999.000,9,  132.100,2,  160.010,2,   37.920,2,    0.000,2,    2.540,2, -999.000,9, -999.000,9, -999.000,9, -999.000,9, -999.000,9
           NA,    P03E,    110,   1,-999.0,      32,  2,19850417,0140,  24.2367, -154.6267,  4663, 3430.900,    1.467,   34.676,2,   34.675,2, -999.000,9,  140.800,2,  157.950,2,   37.240,2,    0.000,2,    2.500,2,   -0.001,2,    0.003,6, -999.000,9, -999.000,9, -999.000,9
           NA,    P03E,    110,   1,-999.0,      37,  2,19850417,0140,  24.2367, -154.6267,  4663, 3737.100,    1.453,   34.680,2,   34.680,2, -999.000,9,  146.400,2,  157.460,2,   36.950,2,    0.000,2,    2.470,2, -999.000,9, -999.000,9, -999.000,9, -999.000,9, -999.000,9
           NA,    P03E,    110,   1,-999.0,      34,  2,19850417,0140,  24.2367, -154.6267,  4663, 4042.600,    1.457,   34.682,2,   34.683,2, -999.000,9,  150.800,2,  153.850,2,   36.560,2,    0.000,2,    2.440,2,    0.000,6,    0.001,6, -999.000,9, -999.000,9, -999.000,9
           NA,    P03E,    110,   1,-999.0,      35,  2,19850417,0140,  24.2367, -154.6267,  4663, 4400.300,    1.475,   34.686,2,   34.685,2, -999.000,9,  154.300,2,  150.420,2,   36.560,2,    0.000,2,    2.430,2, -999.000,9, -999.000,9, -999.000,9, -999.000,9, -999.000,9
           NA,    P03E,    110,   1,-999.0,      36,  2,19850417,0140,  24.2367, -154.6267,  4663, 4735.200,    1.499,   34.686,2,   34.686,2, -999.000,9,  157.300,2,  149.940,2,   36.260,2,    0.000,2,    2.410,2,    0.006,6,    0.005,6, -999.000,9, -999.000,9, -999.000,9