BOTTLE,20203103JOAExport
EXPOCODE,SECT_ID,STNNBR,CASTNO,SAMPNO,BTLNBR,BTLNBR_FLAG_W,DATE,TIME,LATITUDE,LONGITUDE,DEPTH,CTDPRS,CTDTMP,CTDSAL,CTDSAL_FLAG_W,SALNTY,SALNTY_FLAG_W,CTDOXY,CTDOXY_FLAG_W,OXYGEN,OXYGEN_FLAG_W,SILCAT,SILCAT_FLAG_W,NITRAT,NITRAT_FLAG_W,NITRIT,NITRIT_FLAG_W,PHSPHT,PHSPHT_FLAG_W,CFC-11,CFC-11_FLAG_W,CFC-12,CFC-12_FLAG_W,SF6,SF6_FLAG_W,TCARBN,TCARBN_FLAG_W,ALKALI,ALKALI_FLAG_W
,,,,,,,,,,,,,DB,ITS-90,PSS-78,,PSS-78,,UMOL/KG,,UMOL/KG,,UMOL/KG,,UMOL/KG,,UMOL/KG,,UMOL/KG,,PMOL/KG,,PMOL/KG,,FMOL/KG,,UMOL/KG,,UMOL/KG
           NA,    P03W,    201,   1,-999.0,       1,  2,19850504,1841,  24.2550,  178.3883,  5719,    0.000,   25.551,   35.270,2,   35.271,2, -999.000,9,  209.700,2,    2.170,2,    0.090,2,    0.000,2,    0.050,2, -999.000,9, -999.000,9, -999.000,9, -999.000,9, -999.000,9
           NA,    P03W,    201,   1,-999.0,       2,  2,19850504,1841,  24.2550,  178.3883,  5719,   22.200,   24.791,   35.283,2,   35.286,2, -999.000,9,  211.400,2,    2.140,2,    0.090,2,    0.000,2,    0.040,2, -999.000,9, -999.000,9, -999.000,9, -999.000,9, -999.000,9
           NA,    P03W,    201,   1,-999.0,       3,  2,19850504,1841,  24.2550,  178.3883,  5719,   42.500,   24.691,   35.293,2,   35.295,2, -999.000,9,  211.700,2,    2.110,2,    0.090,2,    0.000,2,    0.040,2, -999.000,9, -999.000,9, -999.000,9, -999.000,9, -999.000,9
           NA,    P03W,    201,   1,-999.0,       4,  2,19850504,1841,  24.2550,  178.3883,  5719,   72.700,   23.706,   35.364,2,   35.360,2, -999.000,9,  215.500,2,    2.080,2,    0.090,2,    0.000,2,    0.040,2, -999.000,9, -999.000,9, -999.000,9, -999.000,9, -999.000,9
           NA,    P03W,    201,   1,-999.0,       5,  2,19850504,1841,  24.2550,  178.3883,  5719,  103.000,   23.221,   35.371,2,   35.371,2, -999.000,9,  214.800,2,    2.250,2,    0.090,2,    0.000,2,    0.030,2, -999.000,9, -999.000,9, -999.000,9, -999.000,9, -999.000,9
           NA,    P03W,    201,   1,-999.0,       6,  2,19850504,1841,  24.2550,  178.3883,  5719,  143.600,   21.048,   35.109,2,   35.117,2, -999.000,9,  189.700,2,    3.430,2,    1.350,2,    0.080,2,    0.200,2, -999.000,9, -999.000,9, -999.000,9, -999.000,9, -999.000,9
           NA,    P03W,    201,   1,-999.0,       7,  2,19850504,1841,  24.2550,  178.3883,  5719,  184.100,   18.454,   34.925,2,   34.922,2, -999.000,9,  200.500,2,    4.200,2,    2.910,2,    0.010,2,    0.280,2, -999.000,9, -999.000,9, -999.000,9, -999.000,9, -999.000,9
           NA,    P03W,    201,   1,-999.0,       8,  2,19850504,1841,  24.2550,  178.3883,  5719,  234.600,   16.425,   34.739,2,   34.737,2, -999.000,9,  202.800,2,    5.780,2,    5.450,2,    0.000,2,    0.420,2, -999.000,9, -999.000,9, -999.000,9, -999.000,9, -999.000,9
           NA,    P03W,    201,   1,-999.0,       9,  2,19850504,1841,  24.2550,  178.3883,  5719,  284.400,   14.734,   34.592,2,   34.592,2, -999.000,9,  211.200,2,    8.170,2,    7.490,2,    0.000,2,    0.540,2, -999.000,9, -999.000,9, -999.000,9, -999.000,9, -999.000,9
           NA,    P03W,    201,   1,-999.0,      10,  2,19850504,1841,  24.2550,  178.3883,  5719,  334.900,   13.151,   34.437,2,   34.433,2, -999.000,9,  206.900,2,   11.770,2,   10.190,2,    0.000,2,    0.740,2, -999.000,9, -999.000,9, -999.000,9, -999.000,9, -999.000,9
           NA,    P03W,    201,   1,-999.0,      11,  2,19850504,1841,  24.2550,  178.3883,  5719,  384.900,   11.814,   34.311,2,   34.311,2, -999.000,9,  207.200,2,   15.360,2,   12.700,2,    0.000,2,    0.900,2, -999.000,9, -999.000,9, -999.000,9, -999.000,9, -999.000,9
           NA,    P03W,    201,   1,-999.0,      12,  2,19850504,1841,  24.2550,  178.3883,  5719,  446.000,   10.334,   34.211,2,   34.210,2, -999.000,9,  193.100,2,   22.380,2,   16.680,2,    0.000,2,    1.160,2, -999.000,9, -999.000,9, -999.000,9, -999.000,9, -999.000,9
           NA,    P03W,    201,   1,-999.0,      13,  2,19850504,1841,  24.2550,  178.3883,  5719,  506.200,    8.907,   34.125,2,   34.126,2, -999.000,9,  169.500,2,   31.820,2,   21.630,2,    0.000,2,    1.500,2, -999.000,9, -999.000,9, -999.000,9, -999.000,9, -999.000,9
           NA,    P03W,    201,   1,-999.0,      14,  2,19850504,1841,  24.2550,  178.3883,  5719,  566.800,    7.655,   34.094,2,   34.095,2, -999.000,9,  134.500,2,   45.490,2,   27.440,2,    0.000,2,    1.910,2, -999.000,9, -999.000,9, -999.000,9, -999.000,9, -999.000,9
           NA,    P03W,    201,   1,-999.0,      15,  2,19850504,1841,  24.2550,  178.3883,  5719,  647.200,    6.307,   34.102,2,   34.102,2, -999.000,9,   95.300,2,   65.400,2,   33.590,2,    0.000,2,    2.320,2, -999.000,9, -999.000,9, -999.000,9, -999.000,9, -999.000,9
           NA,    P03W,    201,   1,-999.0,      16,  2,19850504,1841,  24.2550,  178.3883,  5719,  727.500,    5.420,   34.160,2,   34.158,2, -999.000,9,   60.900,2,   81.480,2,   38.310,2,    0.000,2,    2.670,2, -999.000,9, -999.000,9, -999.000,9, -999.000,9, -999.000,9
           NA,    P03W,    201,   1,-999.0,      17,  2,19850504,1841,  24.2550,  178.3883,  5719,  808.300,    4.862,   34.241,2,   34.244,2, -999.000,9,   46.200,2,   93.930,2,   40.460,2,    0.000,2,    2.840,2, -999.000,9, -999.000,9, -999.000,9, -999.000,9, -999.000,9
           NA,    P03W,    201,   1,-999.0,      18,  2,19850504,1841,  24.2550,  178.3883,  5719,  909.400,    4.243,   34.315,2,   34.315,2, -999.000,9,   39.700,2,  107.990,2,   42.400,2,    0.000,2,    2.920,2, -999.000,9, -999.000,9, -999.000,9, -999.000,9, -999.000,9
           NA,    P03W,    201,   1,-999.0,      39,  2,19850504,1841,  24.2550,  178.3883,  5719, 1060.300,    3.795,   34.422,2,   34.421,2, -999.000,9,   45.100,2,  117.810,2,   42.060,2,    0.000,2,    2.940,2,    0.016,2, -999.000,9, -999.000,9, -999.000,9, -999.000,9
           NA,    P03W,    201,   1,-999.0,      20,  2,19850504,1841,  24.2550,  178.3883,  5719, 1211.300,    3.448,   34.489,2,   34.489,2, -999.000,9,   57.500,2,  123.800,2,   41.950,2,    0.000,2,    2.860,2, -999.000,9, -999.000,9, -999.000,9, -999.000,9, -999.000,9
           NA,    P03W,    201,   1,-999.0,      21,  2,19850504,1841,  24.2550,  178.3883,  5719, 1412.500,    3.028,   34.539,2,   34.539,2, -999.000,9,   70.200,2,  132.220,2,   41.440,2,    0.000,2,    2.870,2, -999.000,9, -999.000,9, -999.000,9, -999.000,9, -999.000,9
           NA,    P03W,    201,   1,-999.0,      22,  2,19850504,1841,  24.2550,  178.3883,  5719, 1603.800,    2.615,   34.570,2,   34.570,2, -999.000,9,   79.200,2,  141.840,2,   41.000,2,    0.000,2,    2.830,2, -999.000,9, -999.000,9, -999.000,9, -999.000,9, -999.000,9
           NA,    P03W,    201,   1,-999.0,      23,  2,19850504,1841,  24.2550,  178.3883,  5719, 1795.400,    2.353,   34.591,2,   34.591,2, -999.000,9,   86.900,2,  147.840,2,   40.720,2,    0.000,2,    2.820,2, -999.000,9, -999.000,9, -999.000,9, -999.000,9, -999.000,9
           NA,    P03W,    201,   1,-999.0,      24,  2,19850504,1841,  24.2550,  178.3883,  5719, 1992.700,    2.106,   34.610,2,   34.610,2, -999.000,9,   95.000,2,  152.620,2,   40.330,2,    0.000,2,    2.770,2, -999.000,9, -999.000,9, -999.000,9, -999.000,9, -999.000,9
           NA,    P03W,    201,   1,-999.0,      25,  2,19850504,1841,  24.2550,  178.3883,  5719, 2191.000,    1.908,   34.626,2,   34.626,2, -999.000,9,  103.400,2,  156.000,2,   39.720,2,    0.000,2,    2.720,2, -999.000,9, -999.000,9, -999.000,9, -999.000,9, -999.000,9
           NA,    P03W,    201,   1,-999.0,      26,  2,19850504,1841,  24.2550,  178.3883,  5719, 2493.300,    1.746,   34.642,2,   34.642,2, -999.000,9,  114.000,2,  157.750,2,   39.110,2,    0.000,2,    2.660,2, -999.000,9, -999.000,9, -999.000,9, -999.000,9, -999.000,9
           NA,    P03W,    201,   1,-999.0,      27,  2,19850504,1841,  24.2550,  178.3883,  5719, 2803.000,    1.640,   34.654,2,   34.654,2, -999.000,9,  123.300,2,  157.500,2,   38.400,2,    0.000,2,    2.620,2, -999.000,9, -999.000,9, -999.000,9, -999.000,9, -999.000,9
           NA,    P03W,    201,   1,-999.0,      28,  2,19850504,1841,  24.2550,  178.3883,  5719, 3111.100,    1.563,   34.663,2,   34.663,2, -999.000,9,  132.000,2,  156.840,2,   37.900,2,    0.000,2,    2.570,2, -999.000,9, -999.000,9, -999.000,9, -999.000,9, -999.000,9
           NA,    P03W,    201,   1,-999.0,      29,  2,19850504,1841,  24.2550,  178.3883,  5719, 3418.900,    1.510,   34.671,2,   34.670,2, -999.000,9,  140.500,2,  155.780,2,   37.410,2,    0.000,2,    2.530,2, -999.000,9, -999.000,9, -999.000,9, -999.000,9, -999.000,9
           NA,    P03W,    201,   1,-999.0,      30,  2,19850504,1841,  24.2550,  178.3883,  5719, 3727.400,    1.471,   34.677,2,   34.678,2, -999.000,9,  148.400,2,  151.490,2,   36.860,2,    0.000,2,    2.490,2, -999.000,9, -999.000,9, -999.000,9, -999.000,9, -999.000,9
           NA,    P03W,    201,   1,-999.0,      31,  2,19850504,1841,  24.2550,  178.3883,  5719, 4034.200,    1.453,   34.681,2,   34.681,2, -999.000,9,  154.300,2,  147.610,2,   36.430,2,    0.000,2,    2.460,2,    0.011,2,    0.015,2, -999.000,9, -999.000,9, -999.000,9
           NA,    P03W,    201,   1,-999.0,      32,  2,19850504,1841,  24.2550,  178.3883,  5719, 4337.600,    1.440,   34.685,2,   34.685,2, -999.000,9,  160.700,2,  143.730,2,   35.940,2,    0.000,2,    2.400,2,    0.013,2, -999.000,9, -999.000,9, -999.000,9, -999.000,9
           NA,    P03W,    201,   1,-999.0,      33,  2,19850504,1841,  24.2550,  178.3883,  5719, 4692.000,    1.427,   34.689,2,   34.689,2, -999.000,9,  168.200,2,  139.650,2,   35.550,2,    0.000,2,    2.340,2, -999.000,9, -999.000,9, -999.000,9, -999.000,9, -999.000,9
           NA,    P03W,    201,   1,-999.0,      34,  2,19850504,1841,  24.2550,  178.3883,  5719, 5042.100,    1.431,   34.693,2,   34.692,2, -999.000,9,  174.300,2,  136.780,2,   35.280,2,    0.000,2,    2.320,2,   -0.013,2,   -0.011,2, -999.000,9, -999.000,9, -999.000,9
           NA,    P03W,    201,   1,-999.0,      35,  2,19850504,1841,  24.2550,  178.3883,  5719, 5405.500,    1.457,   34.694,2,   34.695,2, -999.000,9,  178.000,2,  133.310,2,   34.850,2,    0.000,2,    2.310,2,    0.009,2, -999.000,9, -999.000,9, -999.000,9, -999.000,9
           NA,    P03W,    201,   1,-999.0,      36,  2,19850504,1841,  24.2550,  178.3883,  5719, 5806.400,    1.495,   34.695,2,   34.695,2, -999.000,9,  179.200,2,  131.650,2,   34.530,2,    0.000,2,    2.310,2,    0.008,2,    0.013,2, -999.000,9, -999.000,9, -999.000,9