BOTTLE,20203103JOAExport
EXPOCODE,SECT_ID,STNNBR,CASTNO,SAMPNO,BTLNBR,BTLNBR_FLAG_W,DATE,TIME,LATITUDE,LONGITUDE,DEPTH,CTDPRS,CTDTMP,CTDSAL,CTDSAL_FLAG_W,SALNTY,SALNTY_FLAG_W,CTDOXY,CTDOXY_FLAG_W,OXYGEN,OXYGEN_FLAG_W,SILCAT,SILCAT_FLAG_W,NITRAT,NITRAT_FLAG_W,NITRIT,NITRIT_FLAG_W,PHSPHT,PHSPHT_FLAG_W,CFC-11,CFC-11_FLAG_W,CFC-12,CFC-12_FLAG_W,SF6,SF6_FLAG_W,TCARBN,TCARBN_FLAG_W,ALKALI,ALKALI_FLAG_W
,,,,,,,,,,,,,DB,ITS-90,PSS-78,,PSS-78,,UMOL/KG,,UMOL/KG,,UMOL/KG,,UMOL/KG,,UMOL/KG,,UMOL/KG,,PMOL/KG,,PMOL/KG,,FMOL/KG,,UMOL/KG,,UMOL/KG
           NA,    P03W,    283,   1,-999.0,       4,  2,19850518,2010,  24.2683,  146.6617,  5978,    1.000,   25.064,   34.969,2,   34.971,2, -999.000,9,  211.700,2,    1.630,2,    0.100,2,    0.000,2, -999.000,5, -999.000,9, -999.000,9, -999.000,9, -999.000,9, -999.000,9
           NA,    P03W,    283,   1,-999.0,      38,  2,19850518,2010,  24.2683,  146.6617,  5978,   25.700,   24.919,   34.962,2,   34.969,2, -999.000,9,  212.100,2,    1.600,2,    0.100,2,    0.000,2, -999.000,5, -999.000,9, -999.000,9, -999.000,9, -999.000,9, -999.000,9
           NA,    P03W,    283,   1,-999.0,       3,  2,19850518,2010,  24.2683,  146.6617,  5978,   45.900,   23.599,   34.931,2,   34.931,2, -999.000,9,  217.300,2,    1.570,2,    0.100,2,    0.000,2, -999.000,5, -999.000,9, -999.000,9, -999.000,9, -999.000,9, -999.000,9
           NA,    P03W,    283,   1,-999.0,       1,  2,19850518,2010,  24.2683,  146.6617,  5978,   76.200,   21.208,   34.847,2,   34.846,2, -999.000,9,  228.500,2,    1.750,2,    0.100,2,    0.000,2, -999.000,5, -999.000,9, -999.000,9, -999.000,9, -999.000,9, -999.000,9
           NA,    P03W,    283,   1,-999.0,       5,  2,19850518,2010,  24.2683,  146.6617,  5978,  106.500,   19.738,   34.886,2,   34.886,2, -999.000,9,  218.800,2,    1.920,2,    0.510,2,    0.070,2, -999.000,5, -999.000,9, -999.000,9, -999.000,9, -999.000,9, -999.000,9
           NA,    P03W,    283,   1,-999.0,       6,  2,19850518,2010,  24.2683,  146.6617,  5978,  146.300,   18.327,   34.834,2,   34.835,2, -999.000,9,  214.800,2,    2.310,2,    2.320,2,    0.030,2, -999.000,5, -999.000,9, -999.000,9, -999.000,9, -999.000,9, -999.000,9
           NA,    P03W,    283,   1,-999.0,       7,  2,19850518,2010,  24.2683,  146.6617,  5978,  186.600,   17.340,   34.801,2,   34.802,2, -999.000,9,  203.800,2,    3.720,2,    4.590,2,    0.020,2, -999.000,5, -999.000,9, -999.000,9, -999.000,9, -999.000,9, -999.000,9
           NA,    P03W,    283,   1,-999.0,       8,  2,19850518,2010,  24.2683,  146.6617,  5978,  236.300,   16.566,   34.767,2,   34.766,2, -999.000,9,  206.900,2,    4.520,2,    5.660,2,    0.010,2, -999.000,5, -999.000,9, -999.000,9, -999.000,9, -999.000,9, -999.000,9
           NA,    P03W,    283,   1,-999.0,       9,  2,19850518,2010,  24.2683,  146.6617,  5978,  287.400,   15.878,   34.724,2,   34.723,2, -999.000,9,  208.100,2,    5.720,2,    6.620,2,    0.010,2, -999.000,5, -999.000,9, -999.000,9, -999.000,9, -999.000,9, -999.000,9
           NA,    P03W,    283,   1,-999.0,      10,  2,19850518,2010,  24.2683,  146.6617,  5978,  336.500,   15.073,   34.666,2,   34.662,2, -999.000,9,  203.800,2,    8.580,2,    8.550,2,    0.000,2, -999.000,5, -999.000,9, -999.000,9, -999.000,9, -999.000,9, -999.000,9
           NA,    P03W,    283,   1,-999.0,      11,  2,19850518,2010,  24.2683,  146.6617,  5978,  386.600,   14.057,   34.566,2,   34.564,2, -999.000,9,  194.200,2,   11.840,2,   10.770,2,    0.000,2, -999.000,5, -999.000,9, -999.000,9, -999.000,9, -999.000,9, -999.000,9
           NA,    P03W,    283,   1,-999.0,      12,  2,19850518,2010,  24.2683,  146.6617,  5978,  447.800,   12.322,   34.416,2,   34.415,2, -999.000,9,  187.200,2,   17.580,2,   14.060,2,    0.000,2, -999.000,5, -999.000,9, -999.000,9, -999.000,9, -999.000,9, -999.000,9
           NA,    P03W,    283,   1,-999.0,      13,  2,19850518,2010,  24.2683,  146.6617,  5978,  508.500,   10.672,   34.294,2,   34.290,2, -999.000,9,  175.800,2,   25.770,2,   18.200,2,    0.000,2, -999.000,5, -999.000,9, -999.000,9, -999.000,9, -999.000,9, -999.000,9
           NA,    P03W,    283,   1,-999.0,      14,  2,19850518,2010,  24.2683,  146.6617,  5978,  568.600,    8.797,   34.172,2,   34.177,2, -999.000,9,  165.800,2,   36.430,2,   22.220,2,    0.000,2, -999.000,5, -999.000,9, -999.000,9, -999.000,9, -999.000,9, -999.000,9
           NA,    P03W,    283,   1,-999.0,      15,  2,19850518,2010,  24.2683,  146.6617,  5978,  648.700,    6.702,   34.081,2,   34.084,2, -999.000,9,  134.400,2,   56.150,2,   28.870,2,    0.000,2, -999.000,5, -999.000,9, -999.000,9, -999.000,9, -999.000,9, -999.000,9
           NA,    P03W,    283,   1,-999.0,      16,  2,19850518,2010,  24.2683,  146.6617,  5978,  728.600,    5.467,   34.118,2,   34.121,2, -999.000,9,   90.000,2,   76.290,2,   34.970,2,    0.010,2, -999.000,5, -999.000,9, -999.000,9, -999.000,9, -999.000,9, -999.000,9
           NA,    P03W,    283,   1,-999.0,      17,  2,19850518,2010,  24.2683,  146.6617,  5978,  809.900,    4.839,   34.200,2,   34.201,2, -999.000,9,   63.900,2,   91.900,2,   38.520,2,    0.000,2, -999.000,5, -999.000,9, -999.000,9, -999.000,9, -999.000,9, -999.000,9
           NA,    P03W,    283,   1,-999.0,      18,  2,19850518,2010,  24.2683,  146.6617,  5978,  910.300,    4.473,   34.315,2,   34.315,2, -999.000,9,   53.900,2,  102.130,2,   39.960,2,    0.000,2, -999.000,5, -999.000,9, -999.000,9, -999.000,9, -999.000,9, -999.000,9
           NA,    P03W,    283,   1,-999.0,      39,  2,19850518,2010,  24.2683,  146.6617,  5978, 1059.300,    3.695,   34.386,2,   34.384,2, -999.000,9,   47.400,2,  119.210,2,   41.520,2,    0.000,2, -999.000,5, -999.000,9, -999.000,9, -999.000,9, -999.000,9, -999.000,9
           NA,    P03W,    283,   1,-999.0,      20,  2,19850518,2010,  24.2683,  146.6617,  5978, 1211.200,    3.217,   34.437,2,   34.438,2, -999.000,9,   53.000,2,  132.590,2,   41.560,2,    0.000,2, -999.000,5, -999.000,9, -999.000,9, -999.000,9, -999.000,9, -999.000,9
           NA,    P03W,    283,   1,-999.0,      21,  2,19850518,2010,  24.2683,  146.6617,  5978, 1411.400,    2.691,   34.512,2,   34.511,2, -999.000,9,   63.000,2,  143.270,2,   41.400,2,    0.000,2, -999.000,5, -999.000,9, -999.000,9, -999.000,9, -999.000,9, -999.000,9
           NA,    P03W,    283,   1,-999.0,      22,  2,19850518,2010,  24.2683,  146.6617,  5978, 1609.400,    2.350,   34.556,2,   34.556,2, -999.000,9,   83.400,2,  145.830,2,   40.310,2,    0.000,2, -999.000,5, -999.000,9, -999.000,9, -999.000,9, -999.000,9, -999.000,9
           NA,    P03W,    283,   1,-999.0,      23,  2,19850518,2010,  24.2683,  146.6617,  5978, 1808.400,    2.116,   34.589,2,   34.589,2, -999.000,9,   97.300,2,  147.960,2,   39.420,2,    0.000,2, -999.000,5, -999.000,9, -999.000,9, -999.000,9, -999.000,9, -999.000,9
           NA,    P03W,    283,   1,-999.0,      24,  2,19850518,2010,  24.2683,  146.6617,  5978, 2015.800,    1.950,   34.611,2,   34.612,2, -999.000,9,  106.500,2,  149.680,2,   38.900,2,    0.000,2, -999.000,5, -999.000,9, -999.000,9, -999.000,9, -999.000,9, -999.000,9
           NA,    P03W,    283,   1,-999.0,      25,  2,19850518,2010,  24.2683,  146.6617,  5978, 2213.500,    1.844,   34.627,2,   34.628,2, -999.000,9,  116.000,2,  150.770,2,   38.390,2,    0.000,2, -999.000,5, -999.000,9, -999.000,9, -999.000,9, -999.000,9, -999.000,9
           NA,    P03W,    283,   1,-999.0,      26,  2,19850518,2010,  24.2683,  146.6617,  5978, 2517.600,    1.734,   34.643,2,   34.643,2, -999.000,9,  123.800,2,  150.610,2,   37.820,2,    0.000,2, -999.000,5, -999.000,9, -999.000,9, -999.000,9, -999.000,9, -999.000,9
           NA,    P03W,    283,   1,-999.0,      27,  2,19850518,2010,  24.2683,  146.6617,  5978, 2815.700,    1.649,   34.654,2,   34.655,2, -999.000,9,  130.800,2,  150.450,2,   37.560,2,    0.000,2, -999.000,5, -999.000,9, -999.000,9, -999.000,9, -999.000,9, -999.000,9
           NA,    P03W,    283,   1,-999.0,      28,  2,19850518,2010,  24.2683,  146.6617,  5978, 3123.200,    1.578,   34.663,2,   34.664,2, -999.000,9,  137.300,2,  149.870,2,   37.200,2,    0.000,2, -999.000,5, -999.000,9, -999.000,9, -999.000,9, -999.000,9, -999.000,9
           NA,    P03W,    283,   1,-999.0,      29,  2,19850518,2010,  24.2683,  146.6617,  5978, 3423.100,    1.532,   34.671,2,   34.669,2, -999.000,9,  143.400,2,  150.130,2,   36.830,2,    0.000,2, -999.000,5, -999.000,9, -999.000,9, -999.000,9, -999.000,9, -999.000,9
           NA,    P03W,    283,   1,-999.0,      30,  2,19850518,2010,  24.2683,  146.6617,  5978, 3726.000,    1.500,   34.675,2,   34.676,2, -999.000,9,  149.900,2,  148.100,2,   36.420,2,    0.000,2, -999.000,5, -999.000,9, -999.000,9, -999.000,9, -999.000,9, -999.000,9
           NA,    P03W,    283,   1,-999.0,      31,  2,19850518,2010,  24.2683,  146.6617,  5978, 4027.300,    1.480,   34.680,2,   34.680,2, -999.000,9,  154.300,2,  146.490,2,   36.110,2,    0.000,2, -999.000,5, -999.000,9, -999.000,9, -999.000,9, -999.000,9, -999.000,9
           NA,    P03W,    283,   1,-999.0,      32,  2,19850518,2010,  24.2683,  146.6617,  5978, 4329.700,    1.479,   34.681,2,   34.683,2, -999.000,9,  158.600,2,  144.270,2,   35.750,2,    0.000,2, -999.000,5, -999.000,9, -999.000,9, -999.000,9, -999.000,9, -999.000,9
           NA,    P03W,    283,   1,-999.0,      33,  2,19850518,2010,  24.2683,  146.6617,  5978, 4741.200,    1.485,   34.687,2,   34.686,2, -999.000,9,  165.100,2,  141.840,2,   35.290,2,    0.000,2, -999.000,5, -999.000,9, -999.000,9, -999.000,9, -999.000,9, -999.000,9
           NA,    P03W,    283,   1,-999.0,      34,  2,19850518,2010,  24.2683,  146.6617,  5978, 5154.900,    1.506,   34.689,2,   34.687,2, -999.000,9,  167.700,2,  138.800,2,   35.190,2,    0.000,2,    2.410,2, -999.000,9, -999.000,9, -999.000,9, -999.000,9, -999.000,9
           NA,    P03W,    283,   1,-999.0,      35,  2,19850518,2010,  24.2683,  146.6617,  5978, 5558.200,    1.537,   34.691,2,   34.691,2, -999.000,9,  172.500,2,  135.350,2,   34.730,2,    0.000,2,    2.380,2, -999.000,9, -999.000,9, -999.000,9, -999.000,9, -999.000,9
           NA,    P03W,    283,   1,-999.0,      37,  2,19850518,2010,  24.2683,  146.6617,  5978, 5970.200,    1.573,   34.692,2,   34.694,2, -999.000,9,  176.000,2,  134.180,2,   34.570,2,    0.000,2,    2.370,2, -999.000,9, -999.000,9, -999.000,9, -999.000,9, -999.000,9
           NA,    P03W,    281,   2,-999.0,       4,  2,19850518,1204,  24.2617,  147.2567,  5857,    2.100,   25.257,   35.027,2,   35.030,2, -999.000,9,  208.800,2,    1.850,2,    0.100,2,    0.000,2,    0.070,2,    1.489,2,    0.783,2, -999.000,9, -999.000,9, -999.000,9
           NA,    P03W,    281,   2,-999.0,      38,  2,19850518,1204,  24.2617,  147.2567,  5857,   25.100,   25.256,   35.027,2,   35.029,2, -999.000,9,  210.700,2,    1.790,2,    0.100,2,    0.000,2,    0.070,2, -999.000,9, -999.000,9, -999.000,9, -999.000,9, -999.000,9
           NA,    P03W,    281,   2,-999.0,       3,  2,19850518,1204,  24.2617,  147.2567,  5857,   44.300,   24.759,   35.005,2,   35.004,2, -999.000,9,  212.700,2,    1.730,2,    0.100,2,    0.000,2,    0.070,2, -999.000,9, -999.000,9, -999.000,9, -999.000,9, -999.000,9
           NA,    P03W,    281,   2,-999.0,       1,  2,19850518,1204,  24.2617,  147.2567,  5857,   75.300,   23.375,   35.038,2,   35.049,2, -999.000,9,  219.200,2,    1.660,2,    0.100,2,    0.000,2,    0.060,2,    1.619,2,    0.850,2, -999.000,9, -999.000,9, -999.000,9
           NA,    P03W,    281,   2,-999.0,       5,  2,19850518,1204,  24.2617,  147.2567,  5857,  105.800,   21.740,   34.961,2,   34.963,2, -999.000,9,  215.700,2,    1.820,2,    0.100,2,    0.000,2,    0.090,2, -999.000,9, -999.000,9, -999.000,9, -999.000,9, -999.000,9
           NA,    P03W,    281,   2,-999.0,       6,  2,19850518,1204,  24.2617,  147.2567,  5857,  145.700,   19.439,   34.878,2,   34.879,2, -999.000,9,  206.000,2,    2.390,2,    1.620,2,    0.020,2,    0.210,2,    1.721,2,    0.897,2, -999.000,9, -999.000,9, -999.000,9
           NA,    P03W,    281,   2,-999.0,       7,  2,19850518,1204,  24.2617,  147.2567,  5857,  182.500,   18.062,   34.831,2,   34.832,2, -999.000,9,  202.100,2,    3.590,2,    3.350,2,    0.010,2,    0.320,2,    1.764,2,    0.898,2, -999.000,9, -999.000,9, -999.000,9
           NA,    P03W,    281,   2,-999.0,       8,  2,19850518,1204,  24.2617,  147.2567,  5857,  233.500,   16.745,   34.769,2,   34.770,2, -999.000,9,  207.300,2,    4.380,2,    5.080,2,    0.010,2,    0.420,2,    1.808,2,    0.904,2, -999.000,9, -999.000,9, -999.000,9
           NA,    P03W,    281,   2,-999.0,       9,  2,19850518,1204,  24.2617,  147.2567,  5857,  284.800,   16.115,   34.739,2,   34.738,2, -999.000,9,  210.400,2,    5.790,2,    5.700,2,    0.010,2,    0.460,2,    1.841,2,    0.953,2, -999.000,9, -999.000,9, -999.000,9
           NA,    P03W,    281,   2,-999.0,      10,  2,19850518,1204,  24.2617,  147.2567,  5857,  334.200,   15.422,   34.687,2,   34.688,2, -999.000,9,  206.600,2,    7.620,2,    7.240,2,    0.010,2,    0.580,2,    1.688,2,    0.846,2, -999.000,9, -999.000,9, -999.000,9
           NA,    P03W,    281,   2,-999.0,      11,  2,19850518,1204,  24.2617,  147.2567,  5857,  383.000,   14.623,   34.615,2,   34.616,2, -999.000,9,  203.500,2,    9.670,2,    8.780,2,    0.010,2,    0.690,2,    1.692,2,    0.806,2, -999.000,9, -999.000,9, -999.000,9
           NA,    P03W,    281,   2,-999.0,      12,  2,19850518,1204,  24.2617,  147.2567,  5857,  443.600,   13.096,   34.475,2,   34.480,2, -999.000,9,  198.000,2,   14.020,2,   11.570,2,    0.010,2,    0.890,2,    1.456,2,    0.733,2, -999.000,9, -999.000,9, -999.000,9
           NA,    P03W,    281,   2,-999.0,      13,  2,19850518,1204,  24.2617,  147.2567,  5857,  503.400,   11.989,   34.381,2,   34.380,2, -999.000,9,  192.100,2,   18.160,2,   14.020,2,    0.000,2,    1.060,2,    1.333,6,    0.656,6, -999.000,9, -999.000,9, -999.000,9
           NA,    P03W,    281,   2,-999.0,      14,  2,19850518,1204,  24.2617,  147.2567,  5857,  564.500,    9.961,   34.236,2,   34.244,2, -999.000,9,  177.700,2,   28.190,2,   18.780,2,    0.000,2,    1.390,2,    1.050,2,    0.503,2, -999.000,9, -999.000,9, -999.000,9
           NA,    P03W,    281,   2,-999.0,      15,  2,19850518,1204,  24.2617,  147.2567,  5857,  643.200,    7.842,   34.121,2,   34.121,2, -999.000,9,  151.700,2,   44.950,2,   25.610,2,    0.000,2,    1.890,2, -999.000,9, -999.000,9, -999.000,9, -999.000,9, -999.000,9
           NA,    P03W,    281,   2,-999.0,      16,  2,19850518,1204,  24.2617,  147.2567,  5857,  726.100,    6.249,   34.110,2,   34.110,2, -999.000,9,  105.900,2,   65.920,2,   31.800,2,    0.000,2,    2.370,2,    0.346,2,    0.175,2, -999.000,9, -999.000,9, -999.000,9
           NA,    P03W,    281,   2,-999.0,      17,  2,19850518,1204,  24.2617,  147.2567,  5857,  807.800,    5.396,   34.179,2,   34.178,2, -999.000,9,   73.700,2,   82.040,2,   35.930,2,    0.000,2,    2.700,2,    0.149,2,    0.071,2, -999.000,9, -999.000,9, -999.000,9
           NA,    P03W,    281,   2,-999.0,      18,  2,19850518,1204,  24.2617,  147.2567,  5857,  909.300,    4.717,   34.279,2,   34.278,2, -999.000,9,   55.700,2,   97.750,2,   38.520,2,    0.000,2,    2.880,2,    0.030,2,    0.020,2, -999.000,9, -999.000,9, -999.000,9
           NA,    P03W,    281,   2,-999.0,      39,  2,19850518,1204,  24.2617,  147.2567,  5857, 1062.600,    3.825,   34.379,2,   34.377,2, -999.000,9,   48.000,2,  118.360,2,   40.300,2,    0.000,2,    2.990,2, -999.000,9, -999.000,9, -999.000,9, -999.000,9, -999.000,9
           NA,    P03W,    281,   2,-999.0,      20,  2,19850518,1204,  24.2617,  147.2567,  5857, 1212.600,    3.376,   34.454,2,   34.453,2, -999.000,9,   57.600,2,  128.170,2,   39.820,2,    0.000,2,    2.940,2,    0.004,2,    0.004,2, -999.000,9, -999.000,9, -999.000,9
           NA,    P03W,    281,   2,-999.0,      21,  2,19850518,1204,  24.2617,  147.2567,  5857, 1415.300,    2.728,   34.517,2,   34.515,2, -999.000,9,   68.300,2,  143.320,2,   39.960,2,    0.000,2,    2.990,2, -999.000,9, -999.000,9, -999.000,9, -999.000,9, -999.000,9
           NA,    P03W,    281,   2,-999.0,      22,  2,19850518,1204,  24.2617,  147.2567,  5857, 1609.100,    2.424,   34.556,2,   34.556,2, -999.000,9,   82.500,2,  147.400,2,   39.330,2,    0.000,2,    2.900,2,    0.007,2,    0.004,2, -999.000,9, -999.000,9, -999.000,9
           NA,    P03W,    281,   2,-999.0,      23,  2,19850518,1204,  24.2617,  147.2567,  5857, 1804.000,    2.169,   34.583,2,   34.582,2, -999.000,9,   92.600,2,  150.630,2,   38.900,2,    0.000,2,    2.870,2, -999.000,9, -999.000,9, -999.000,9, -999.000,9, -999.000,9
           NA,    P03W,    281,   2,-999.0,      24,  2,19850518,1204,  24.2617,  147.2567,  5857, 1987.500,    1.991,   34.605,2,   34.605,2, -999.000,9,  102.800,2,  151.510,2,   38.420,2,    0.000,2,    2.820,2, -999.000,9, -999.000,9, -999.000,9, -999.000,9, -999.000,9
           NA,    P03W,    281,   2,-999.0,      25,  2,19850518,1204,  24.2617,  147.2567,  5857, 2165.700,    1.877,   34.620,2,   34.620,2, -999.000,9,  110.500,2,  151.960,2,   37.600,2,    0.000,2,    2.780,2, -999.000,9, -999.000,9, -999.000,9, -999.000,9, -999.000,9
           NA,    P03W,    281,   2,-999.0,      27,  2,19850518,1204,  24.2617,  147.2567,  5857, 2726.200,    1.669,   34.650,2,   34.651,2, -999.000,9,  127.700,2,  152.870,2,   36.980,2,    0.000,2,    2.700,2, -999.000,9, -999.000,9, -999.000,9, -999.000,9, -999.000,9
           NA,    P03W,    281,   2,-999.0,      28,  2,19850518,1204,  24.2617,  147.2567,  5857, 3035.300,    1.607,   34.659,2,   34.661,2, -999.000,9,  129.200,2,  151.410,2,   36.160,2,    0.000,2,    2.660,2, -999.000,9, -999.000,9, -999.000,9, -999.000,9, -999.000,9
           NA,    P03W,    281,   2,-999.0,      29,  2,19850518,1204,  24.2617,  147.2567,  5857, 3336.800,    1.553,   34.669,2,   34.667,2, -999.000,9,  140.000,2,  151.220,2,   36.110,2,    0.000,2,    2.640,2, -999.000,9, -999.000,9, -999.000,9, -999.000,9, -999.000,9
           NA,    P03W,    281,   2,-999.0,      30,  2,19850518,1204,  24.2617,  147.2567,  5857, 3631.800,    1.527,   34.673,2,   34.673,2, -999.000,9,  145.300,2,  150.620,2,   35.630,2,    0.000,2,    2.610,2, -999.000,9, -999.000,9, -999.000,9, -999.000,9, -999.000,9
           NA,    P03W,    281,   2,-999.0,      31,  2,19850518,1204,  24.2617,  147.2567,  5857, 3945.200,    1.507,   34.677,2,   34.679,2, -999.000,9,  150.200,2,  148.530,2,   35.580,2,    0.000,2,    2.580,2, -999.000,9, -999.000,9, -999.000,9, -999.000,9, -999.000,9
           NA,    P03W,    281,   2,-999.0,      32,  2,19850518,1204,  24.2617,  147.2567,  5857, 4254.700,    1.501,   34.681,2,   34.681,2, -999.000,9,  155.800,2,  147.920,2,   35.300,2,    0.000,2,    2.550,2, -999.000,9, -999.000,9, -999.000,9, -999.000,9, -999.000,9
           NA,    P03W,    281,   2,-999.0,      33,  2,19850518,1204,  24.2617,  147.2567,  5857, 4665.300,    1.488,   34.686,2,   34.686,2, -999.000,9,  163.800,2,  143.510,2,   34.860,2,    0.000,2,    2.510,2, -999.000,9, -999.000,9, -999.000,9, -999.000,9, -999.000,9
           NA,    P03W,    281,   2,-999.0,      34,  2,19850518,1204,  24.2617,  147.2567,  5857, 5084.000,    1.500,   34.689,2,   34.690,2, -999.000,9,  167.900,2,  139.960,2,   34.530,2,    0.000,2,    2.490,2, -999.000,9, -999.000,9, -999.000,9, -999.000,9, -999.000,9
           NA,    P03W,    281,   2,-999.0,      35,  2,19850518,1204,  24.2617,  147.2567,  5857, 5508.100,    1.530,   34.691,2,   34.690,2, -999.000,9,  172.600,2,  137.470,2,   34.140,2,    0.000,2,    2.460,2, -999.000,9, -999.000,9, -999.000,9, -999.000,9, -999.000,9
           NA,    P03W,    281,   2,-999.0,      37,  2,19850518,1204,  24.2617,  147.2567,  5857, 5930.600,    1.565,   34.693,2,   34.694,2, -999.000,9,  175.300,2,  134.990,2,   33.610,2,    0.000,2,    2.440,2, -999.000,9, -999.000,9, -999.000,9, -999.000,9, -999.000,9