BOTTLE,20203103JOAExport
EXPOCODE,SECT_ID,STNNBR,CASTNO,SAMPNO,BTLNBR,BTLNBR_FLAG_W,DATE,TIME,LATITUDE,LONGITUDE,DEPTH,CTDPRS,CTDTMP,CTDSAL,CTDSAL_FLAG_W,SALNTY,SALNTY_FLAG_W,CTDOXY,CTDOXY_FLAG_W,OXYGEN,OXYGEN_FLAG_W,SILCAT,SILCAT_FLAG_W,NITRAT,NITRAT_FLAG_W,NITRIT,NITRIT_FLAG_W,PHSPHT,PHSPHT_FLAG_W,CFC-11,CFC-11_FLAG_W,CFC-12,CFC-12_FLAG_W,SF6,SF6_FLAG_W,TCARBN,TCARBN_FLAG_W,ALKALI,ALKALI_FLAG_W
,,,,,,,,,,,,,DB,ITS-90,PSS-78,,PSS-78,,UMOL/KG,,UMOL/KG,,UMOL/KG,,UMOL/KG,,UMOL/KG,,UMOL/KG,,PMOL/KG,,PMOL/KG,,FMOL/KG,,UMOL/KG,,UMOL/KG
           NA,    P03E,     56,   2,-999.0,       1,  2,19850407,1722,  24.2567, -133.2383,  4854,    1.200,   19.563,   34.967,2,   34.969,2, -999.000,9,  231.700,2,    2.530,2,    0.040,2,    0.000,2,    0.070,2, -999.000,9, -999.000,9, -999.000,9, -999.000,9, -999.000,9
           NA,    P03E,     56,   2,-999.0,       2,  2,19850407,1722,  24.2567, -133.2383,  4854,   20.600,   19.540,   34.967,2,   34.969,2, -999.000,9,  231.300,2,    2.330,2,    0.040,2,    0.000,2,    0.070,2, -999.000,9, -999.000,9, -999.000,9, -999.000,9, -999.000,9
           NA,    P03E,     56,   2,-999.0,       3,  2,19850407,1722,  24.2567, -133.2383,  4854,   35.200,   19.333,   35.066,2,   35.080,2, -999.000,9,  231.400,2,    2.310,2,    0.040,2,    0.000,2,    0.070,2, -999.000,9, -999.000,9, -999.000,9, -999.000,9, -999.000,9
           NA,    P03E,     56,   2,-999.0,       4,  2,19850407,1722,  24.2567, -133.2383,  4854,   55.000,   19.324,   35.101,2,   35.100,2, -999.000,9,  230.100,2,    2.100,2,    0.040,2,    0.000,2,    0.070,2, -999.000,9, -999.000,9, -999.000,9, -999.000,9, -999.000,9
           NA,    P03E,     56,   2,-999.0,       5,  2,19850407,1722,  24.2567, -133.2383,  4854,   74.600,   18.951,   35.084,2,   35.085,2, -999.000,9,  232.000,2,    2.090,2,    0.040,2,    0.000,2,    0.070,2, -999.000,9, -999.000,9, -999.000,9, -999.000,9, -999.000,9
           NA,    P03E,     56,   2,-999.0,       6,  2,19850407,1722,  24.2567, -133.2383,  4854,   94.000,   19.021,   35.123,2,   35.127,2, -999.000,9,  231.300,2,    2.070,2,    0.030,2,    0.000,2,    0.060,2, -999.000,9, -999.000,9, -999.000,9, -999.000,9, -999.000,9
           NA,    P03E,     56,   2,-999.0,       7,  2,19850407,1722,  24.2567, -133.2383,  4854,  124.400,   18.993,   35.125,2,   35.128,2, -999.000,9,  231.000,2,    2.050,2,    0.030,2,    0.000,2,    0.070,2, -999.000,9, -999.000,9, -999.000,9, -999.000,9, -999.000,9
           NA,    P03E,     56,   2,-999.0,       8,  2,19850407,1722,  24.2567, -133.2383,  4854,  155.000,   18.887,   35.098,2,   35.098,2, -999.000,9,  230.700,2,    2.040,2,    0.020,2,    0.010,2,    0.080,2, -999.000,9, -999.000,9, -999.000,9, -999.000,9, -999.000,9
           NA,    P03E,     56,   2,-999.0,       9,  2,19850407,1722,  24.2567, -133.2383,  4854,  195.700,   16.353,   34.584,2,   34.549,2, -999.000,9,  213.300,2,    3.910,2,    2.750,2,    0.020,2,    0.300,2, -999.000,9, -999.000,9, -999.000,9, -999.000,9, -999.000,9
           NA,    P03E,     56,   2,-999.0,      10,  2,19850407,1722,  24.2567, -133.2383,  4854,  235.900,   13.415,   34.175,2,   34.158,2, -999.000,9,  213.300,2,    7.300,2,    6.550,2,    0.010,2,    0.570,2, -999.000,9, -999.000,9, -999.000,9, -999.000,9, -999.000,9
           NA,    P03E,     56,   2,-999.0,      11,  2,19850407,1722,  24.2567, -133.2383,  4854,  286.800,   10.609,   34.034,2,   34.034,2, -999.000,9,  198.200,2,   16.540,2,   14.620,2,    0.010,2,    1.040,2, -999.000,9, -999.000,9, -999.000,9, -999.000,9, -999.000,9
           NA,    P03E,     56,   2,-999.0,      12,  2,19850407,1722,  24.2567, -133.2383,  4854,  337.300,    8.624,   34.021,2,   34.022,2, -999.000,9,  165.900,2,   30.310,2,   22.810,2,    0.000,2,    1.570,2, -999.000,9, -999.000,9, -999.000,9, -999.000,9, -999.000,9
           NA,    P03E,     56,   2,-999.0,      13,  2,19850407,1722,  24.2567, -133.2383,  4854,  397.500,    7.281,   34.027,2,   34.030,2, -999.000,9,  123.300,2,   46.720,2,   29.910,2,    0.000,2,    2.060,2, -999.000,9, -999.000,9, -999.000,9, -999.000,9, -999.000,9
           NA,    P03E,     56,   2,-999.0,      14,  2,19850407,1722,  24.2567, -133.2383,  4854,  458.100,    6.279,   34.063,2,   34.069,2, -999.000,9,   73.600,2,   62.940,2,   36.230,2,    0.000,2,    2.500,2, -999.000,9, -999.000,9, -999.000,9, -999.000,9, -999.000,9
           NA,    P03E,     56,   2,-999.0,      15,  2,19850407,1722,  24.2567, -133.2383,  4854,  528.700,    5.665,   34.155,2,   34.155,2, -999.000,9,   38.200,2,   76.890,2,   40.460,2,    0.000,2,    2.820,2, -999.000,9, -999.000,9, -999.000,9, -999.000,9, -999.000,9
           NA,    P03E,     56,   2,-999.0,      16,  2,19850407,1722,  24.2567, -133.2383,  4854,  609.400,    5.253,   34.247,2,   34.246,2, -999.000,9,   19.700,2,   88.200,2,   42.980,2,    0.000,2,    3.000,2, -999.000,9, -999.000,9, -999.000,9, -999.000,9, -999.000,9
           NA,    P03E,     56,   2,-999.0,      17,  2,19850407,1722,  24.2567, -133.2383,  4854,  709.800,    4.816,   34.354,2,   34.350,2, -999.000,9,   16.900,2,   97.800,2,   44.550,2,    0.000,2,    3.070,2, -999.000,9, -999.000,9, -999.000,9, -999.000,9, -999.000,9
           NA,    P03E,     56,   2,-999.0,      18,  2,19850407,1722,  24.2567, -133.2383,  4854,  810.900,    4.536,   34.427,2,   34.428,2, -999.000,9,   23.600,2,  103.420,2,   44.990,2,    0.000,2,    3.090,2, -999.000,9, -999.000,9, -999.000,9, -999.000,9, -999.000,9
           NA,    P03E,     56,   2,-999.0,      19,  2,19850407,1722,  24.2567, -133.2383,  4854,  911.800,    4.208,   34.467,2,   34.469,2, -999.000,9,   29.100,2,  109.610,2,   45.100,2,    0.000,2,    3.060,2, -999.000,9, -999.000,9, -999.000,9, -999.000,9, -999.000,9
           NA,    P03E,     56,   2,-999.0,      20,  2,19850407,1722,  24.2567, -133.2383,  4854, 1013.300,    3.901,   34.498,2,   34.497,2, -999.000,9,   35.100,2,  116.180,2,   45.160,2,    0.000,2,    3.060,2, -999.000,9, -999.000,9, -999.000,9, -999.000,9, -999.000,9
           NA,    P03E,     56,   2,-999.0,      21,  2,19850407,1722,  24.2567, -133.2383,  4854, 1113.500,    3.632,   34.516,2,   34.515,2, -999.000,9,   39.700,2,  121.990,2,   44.940,2,    0.000,2,    3.040,2, -999.000,9, -999.000,9, -999.000,9, -999.000,9, -999.000,9
           NA,    P03E,     56,   2,-999.0,      22,  2,19850407,1722,  24.2567, -133.2383,  4854, 1265.000,    3.282,   34.539,2,   34.539,2, -999.000,9,   47.000,2,  128.560,2,   44.670,2,    0.000,2,    3.010,2, -999.000,9, -999.000,9, -999.000,9, -999.000,9, -999.000,9
           NA,    P03E,     56,   2,-999.0,      23,  2,19850407,1722,  24.2567, -133.2383,  4854, 1416.000,    3.006,   34.559,2,   34.559,2, -999.000,9,   51.400,2,  135.700,2,   44.400,2,    0.000,2,    3.000,2, -999.000,9, -999.000,9, -999.000,9, -999.000,9, -999.000,9
           NA,    P03E,     56,   2,-999.0,      24,  2,19850407,1722,  24.2567, -133.2383,  4854, 1618.000,    2.644,   34.585,2,   34.584,2, -999.000,9,   61.200,2,  145.890,2,   43.970,2,    0.000,2,    2.950,2, -999.000,9, -999.000,9, -999.000,9, -999.000,9, -999.000,9
           NA,    P03E,     56,   2,-999.0,      25,  2,19850407,1722,  24.2567, -133.2383,  4854, 1819.500,    2.311,   34.608,2, -999.000,5, -999.000,9,   75.400,2,  154.000,2,   43.100,2,    0.000,2,    2.870,2, -999.000,9, -999.000,9, -999.000,9, -999.000,9, -999.000,9
           NA,    P03E,     56,   2,-999.0,      26,  2,19850407,1722,  24.2567, -133.2383,  4854, 2021.800,    2.077,   34.625,2,   34.626,2, -999.000,9,   86.200,2,  158.290,2,   42.350,2,    0.000,2,    2.800,2, -999.000,9, -999.000,9, -999.000,9, -999.000,9, -999.000,9
           NA,    P03E,     56,   2,-999.0,      27,  2,19850407,1722,  24.2567, -133.2383,  4854, 2225.400,    1.882,   34.639,2,   34.640,2, -999.000,9,   97.100,2,  162.020,2,   41.550,2,    0.000,2,    2.730,2, -999.000,9, -999.000,9, -999.000,9, -999.000,9, -999.000,9
           NA,    P03E,     56,   2,-999.0,      28,  2,19850407,1722,  24.2567, -133.2383,  4854, 2529.900,    1.721,   34.651,2,   34.651,2, -999.000,9,  106.900,2,  166.880,2,   40.910,2,    0.000,2,    2.680,2, -999.000,9, -999.000,9, -999.000,9, -999.000,9, -999.000,9
           NA,    P03E,     56,   2,-999.0,      29,  2,19850407,1722,  24.2567, -133.2383,  4854, 2833.500,    1.594,   34.662,2, -999.000,5, -999.000,9,  118.400,2,  168.320,2,   40.320,2,    0.000,2,    2.620,2, -999.000,9, -999.000,9, -999.000,9, -999.000,9, -999.000,9
           NA,    P03E,     56,   2,-999.0,      30,  2,19850407,1722,  24.2567, -133.2383,  4854, 3138.900,    1.519,   34.670,2,   34.670,2, -999.000,9,  127.700,2,  167.080,2,   39.420,2,    0.000,2,    2.560,2, -999.000,9, -999.000,9, -999.000,9, -999.000,9, -999.000,9
           NA,    P03E,     56,   2,-999.0,      31,  2,19850407,1722,  24.2567, -133.2383,  4854, 3445.900,    1.493,   34.676,2,   34.675,2, -999.000,9,  135.800,2,  163.740,2,   38.890,2,    0.000,2,    2.530,2, -999.000,9, -999.000,9, -999.000,9, -999.000,9, -999.000,9
           NA,    P03E,     56,   2,-999.0,      32,  2,19850407,1722,  24.2567, -133.2383,  4854, 3752.600,    1.490,   34.679,2,   34.678,2, -999.000,9,  140.100,2,  161.550,2,   38.630,2,    0.000,2,    2.500,2, -999.000,9, -999.000,9, -999.000,9, -999.000,9, -999.000,9
           NA,    P03E,     56,   2,-999.0,      37,  2,19850407,1722,  24.2567, -133.2383,  4854, 4058.800,    1.494,   34.682,2,   34.681,2, -999.000,9,  144.500,2,  159.370,2,   38.260,2,    0.000,2,    2.490,2, -999.000,9, -999.000,9, -999.000,9, -999.000,9, -999.000,9
           NA,    P03E,     56,   2,-999.0,      34,  2,19850407,1722,  24.2567, -133.2383,  4854, 4364.100,    1.499,   34.684,2,   34.684,2, -999.000,9,  149.900,2,  155.480,2,   37.740,2,    0.000,2,    2.450,2, -999.000,9, -999.000,9, -999.000,9, -999.000,9, -999.000,9
           NA,    P03E,     56,   2,-999.0,      35,  2,19850407,1722,  24.2567, -133.2383,  4854, 4671.100,    1.484,   34.688,2,   34.687,2, -999.000,9,  158.300,2,  149.320,2,   37.220,2,    0.000,2,    2.410,2, -999.000,9, -999.000,9, -999.000,9, -999.000,9, -999.000,9
           NA,    P03E,     56,   2,-999.0,      36,  2,19850407,1722,  24.2567, -133.2383,  4854, 4922.900,    1.501,   34.688,2,   34.688,2, -999.000,9,  161.000,2,  147.720,2,   37.110,2,    0.000,2,    2.400,2, -999.000,9, -999.000,9, -999.000,9, -999.000,9, -999.000,9
           NA,    P03E,     55,   1,-999.0,       2,  2,19850407,0955,  24.2450, -132.4317,  4610,    1.400,   18.593,   34.692,2,   34.693,2, -999.000,9,  248.800,2,    4.300,2,    0.000,2,    0.000,2,    0.210,2, -999.000,9, -999.000,9, -999.000,9, -999.000,9, -999.000,9
           NA,    P03E,     55,   1,-999.0,       3,  2,19850407,0955,  24.2450, -132.4317,  4610,   18.500,   18.588,   34.695,2,   34.694,2, -999.000,9,  235.700,2,    4.240,2,    0.000,2,    0.000,2,    0.210,2, -999.000,9, -999.000,9, -999.000,9, -999.000,9, -999.000,9
           NA,    P03E,     55,   1,-999.0,       4,  2,19850407,0955,  24.2450, -132.4317,  4610,   33.300,   18.369,   34.663,2,   34.668,2, -999.000,9,  236.000,2,    4.190,2,    0.000,2,    0.000,2,    0.200,2, -999.000,9, -999.000,9, -999.000,9, -999.000,9, -999.000,9
           NA,    P03E,     55,   1,-999.0,       5,  2,19850407,0955,  24.2450, -132.4317,  4610,   53.300,   18.423,   34.731,2,   34.710,2, -999.000,9,  236.200,2,    4.140,2,    0.000,2,    0.000,2,    0.200,2, -999.000,9, -999.000,9, -999.000,9, -999.000,9, -999.000,9
           NA,    P03E,     55,   1,-999.0,       6,  2,19850407,0955,  24.2450, -132.4317,  4610,   73.100,   18.624,   34.854,2,   34.853,2, -999.000,9,  233.700,2,    4.090,2,    0.000,2,    0.000,2,    0.180,2, -999.000,9, -999.000,9, -999.000,9, -999.000,9, -999.000,9
           NA,    P03E,     55,   1,-999.0,       7,  2,19850407,0955,  24.2450, -132.4317,  4610,   92.700,   18.662,   34.899,2,   34.899,2, -999.000,9,  233.200,2,    3.850,2,    0.030,2,    0.000,2,    0.180,2, -999.000,9, -999.000,9, -999.000,9, -999.000,9, -999.000,9
           NA,    P03E,     55,   1,-999.0,       8,  2,19850407,0955,  24.2450, -132.4317,  4610,  122.400,   18.807,   34.976,2,   34.978,2, -999.000,9,  231.400,2,    3.790,2,    0.000,2,    0.010,2,    0.200,2, -999.000,9, -999.000,9, -999.000,9, -999.000,9, -999.000,9
           NA,    P03E,     55,   1,-999.0,       9,  2,19850407,0955,  24.2450, -132.4317,  4610,  153.300,   18.724,   34.967,2,   34.968,2, -999.000,9,  231.000,2,    3.560,2,    0.010,2,    0.020,2,    0.200,2, -999.000,9, -999.000,9, -999.000,9, -999.000,9, -999.000,9
           NA,    P03E,     55,   1,-999.0,      10,  2,19850407,0955,  24.2450, -132.4317,  4610,  194.400,   15.401,   34.218,2,   34.198,2, -999.000,9,  215.500,2,    5.760,2,    2.820,2,    0.020,2,    0.470,2, -999.000,9, -999.000,9, -999.000,9, -999.000,9, -999.000,9
           NA,    P03E,     55,   1,-999.0,      11,  2,19850407,0955,  24.2450, -132.4317,  4610,  234.800,   12.888,   34.106,2,   34.107,2, -999.000,9,  207.100,2,   10.020,2,    7.520,2,    0.000,2,    0.760,2, -999.000,9, -999.000,9, -999.000,9, -999.000,9, -999.000,9
           NA,    P03E,     55,   1,-999.0,      12,  2,19850407,0955,  24.2450, -132.4317,  4610,  285.100,    9.940,   33.968,2,   33.971,2, -999.000,9,  184.800,2,   22.550,2,   17.580,2,    0.000,2,    1.370,2, -999.000,9, -999.000,9, -999.000,9, -999.000,9, -999.000,9
           NA,    P03E,     55,   1,-999.0,      13,  2,19850407,0955,  24.2450, -132.4317,  4610,  335.700,    8.295,   34.020,2,   34.021,2, -999.000,9,  150.200,2,   34.880,2,   24.310,2,    0.000,2,    1.810,2, -999.000,9, -999.000,9, -999.000,9, -999.000,9, -999.000,9
           NA,    P03E,     55,   1,-999.0,      14,  2,19850407,0955,  24.2450, -132.4317,  4610,  396.300,    7.119,   34.050,2,   34.051,2, -999.000,9,  104.700,2,   50.030,2,   31.120,2,    0.000,2,    2.270,2, -999.000,9, -999.000,9, -999.000,9, -999.000,9, -999.000,9
           NA,    P03E,     55,   1,-999.0,      15,  2,19850407,0955,  24.2450, -132.4317,  4610,  457.300,    6.230,   34.087,2,   34.089,2, -999.000,9,   67.100,2,   64.990,2,   36.740,2,    0.000,2,    2.630,2, -999.000,9, -999.000,9, -999.000,9, -999.000,9, -999.000,9
           NA,    P03E,     55,   1,-999.0,      16,  2,19850407,0955,  24.2450, -132.4317,  4610,  527.500,    5.618,   34.130,2,   34.131,2, -999.000,9,   45.500,2,   77.330,2,   39.970,2,    0.000,2,    2.860,2, -999.000,9, -999.000,9, -999.000,9, -999.000,9, -999.000,9
           NA,    P03E,     55,   1,-999.0,      17,  2,19850407,0955,  24.2450, -132.4317,  4610,  608.300,    5.088,   34.233,2,   34.234,2, -999.000,9,   23.100,2,   90.810,2,   43.090,2,    0.000,2,    3.050,2, -999.000,9, -999.000,9, -999.000,9, -999.000,9, -999.000,9
           NA,    P03E,     55,   1,-999.0,      18,  2,19850407,0955,  24.2450, -132.4317,  4610,  708.500,    4.730,   34.338,2,   34.338,2, -999.000,9,   18.100,2,  100.140,2,   44.530,2,    0.000,2,    3.130,2, -999.000,9, -999.000,9, -999.000,9, -999.000,9, -999.000,9
           NA,    P03E,     55,   1,-999.0,      19,  2,19850407,0955,  24.2450, -132.4317,  4610,  809.400,    4.469,   34.426,2,   34.426,2, -999.000,9,   25.200,2,  104.580,2,   44.730,2,    0.000,2,    3.130,2, -999.000,9, -999.000,9, -999.000,9, -999.000,9, -999.000,9
           NA,    P03E,     55,   1,-999.0,      20,  2,19850407,0955,  24.2450, -132.4317,  4610,  910.300,    4.179,   34.472,2,   34.471,2, -999.000,9,   32.300,2,  111.090,2,   44.710,2,    0.000,2,    3.110,2, -999.000,9, -999.000,9, -999.000,9, -999.000,9, -999.000,9
           NA,    P03E,     55,   1,-999.0,      21,  2,19850407,0955,  24.2450, -132.4317,  4610, 1011.500,    3.903,   34.496,2,   34.496,2, -999.000,9,   36.900,2,  116.480,2,   44.810,2,    0.000,2,    3.090,2, -999.000,9, -999.000,9, -999.000,9, -999.000,9, -999.000,9
           NA,    P03E,     55,   1,-999.0,      22,  2,19850407,0955,  24.2450, -132.4317,  4610, 1112.200,    3.630,   34.515,2,   34.516,2, -999.000,9,   43.000,2,  122.430,2,   44.630,2,    0.000,2,    3.090,2, -999.000,9, -999.000,9, -999.000,9, -999.000,9, -999.000,9
           NA,    P03E,     55,   1,-999.0,      23,  2,19850407,0955,  24.2450, -132.4317,  4610, 1263.600,    3.283,   34.542,2,   34.543,2, -999.000,9,   49.500,2,  131.600,2,   44.510,2,    0.000,2,    3.060,2, -999.000,9, -999.000,9, -999.000,9, -999.000,9, -999.000,9
           NA,    P03E,     55,   1,-999.0,      24,  2,19850407,0955,  24.2450, -132.4317,  4610, 1415.200,    2.923,   34.564,2,   34.565,2, -999.000,9,   55.000,2,  140.970,2,   44.180,2,    0.000,2,    3.040,2, -999.000,9, -999.000,9, -999.000,9, -999.000,9, -999.000,9
           NA,    P03E,     55,   1,-999.0,      25,  2,19850407,0955,  24.2450, -132.4317,  4610, 1617.200,    2.533,   34.589,2,   34.590,2, -999.000,9,   66.400,2,  150.920,2,   43.410,2,    0.000,2,    2.970,2, -999.000,9, -999.000,9, -999.000,9, -999.000,9, -999.000,9
           NA,    P03E,     55,   1,-999.0,      26,  2,19850407,0955,  24.2450, -132.4317,  4610, 1819.700,    2.270,   34.610,2,   34.610,2, -999.000,9,   76.600,2,  158.030,2,   42.650,2,    0.000,2,    2.910,2, -999.000,9, -999.000,9, -999.000,9, -999.000,9, -999.000,9
           NA,    P03E,     55,   1,-999.0,      27,  2,19850407,0955,  24.2450, -132.4317,  4610, 2022.200,    2.060,   34.628,2,   34.628,2, -999.000,9,   89.300,2,  160.210,2,   41.940,2,    0.000,2,    2.850,2, -999.000,9, -999.000,9, -999.000,9, -999.000,9, -999.000,9
           NA,    P03E,     55,   1,-999.0,      28,  2,19850407,0955,  24.2450, -132.4317,  4610, 2225.100,    1.908,   34.639,2,   34.639,2, -999.000,9,   96.400,2,  162.380,2,   41.400,2, -999.000,5,    2.800,2, -999.000,9, -999.000,9, -999.000,9, -999.000,9, -999.000,9
           NA,    P03E,     55,   1,-999.0,      29,  2,19850407,0955,  24.2450, -132.4317,  4610, 2529.900,    1.725,   34.652,2, -999.000,5, -999.000,9,  107.100,2,  167.220,2,   40.700,2,    0.000,2,    2.730,2, -999.000,9, -999.000,9, -999.000,9, -999.000,9, -999.000,9
           NA,    P03E,     55,   1,-999.0,      30,  2,19850407,0955,  24.2450, -132.4317,  4610, 2834.900,    1.585,   34.663,2,   34.662,2, -999.000,9,  118.900,2,  169.020,2,   39.850,2,    0.000,2,    2.670,2, -999.000,9, -999.000,9, -999.000,9, -999.000,9, -999.000,9
           NA,    P03E,     55,   1,-999.0,      31,  2,19850407,0955,  24.2450, -132.4317,  4610, 3140.000,    1.521,   34.671,2,   34.670,2, -999.000,9,  129.000,2,  167.960,2,   39.150,2,    0.000,2,    2.610,2, -999.000,9, -999.000,9, -999.000,9, -999.000,9, -999.000,9
           NA,    P03E,     55,   1,-999.0,      32,  2,19850407,0955,  24.2450, -132.4317,  4610, 3445.000,    1.491,   34.677,2,   34.676,2, -999.000,9,  136.400,2,  166.910,2,   38.620,2,    0.000,2,    2.570,2, -999.000,9, -999.000,9, -999.000,9, -999.000,9, -999.000,9
           NA,    P03E,     55,   1,-999.0,      37,  2,19850407,0955,  24.2450, -132.4317,  4610, 3750.900,    1.484,   34.681,2,   34.679,2, -999.000,9,  141.900,2,  163.950,2,   38.190,2,    0.000,2,    2.540,2, -999.000,9, -999.000,9, -999.000,9, -999.000,9, -999.000,9
           NA,    P03E,     55,   1,-999.0,      34,  2,19850407,0955,  24.2450, -132.4317,  4610, 4056.100,    1.492,   34.682,2,   34.681,2, -999.000,9,  145.800,2,  161.580,2,   38.030,2,    0.000,2,    2.520,2, -999.000,9, -999.000,9, -999.000,9, -999.000,9, -999.000,9
           NA,    P03E,     55,   1,-999.0,      35,  2,19850407,0955,  24.2450, -132.4317,  4610, 4362.000,    1.485,   34.685,2,   34.684,2, -999.000,9,  153.500,2,  156.740,2,   37.440,2,    0.000,2,    2.480,2, -999.000,9, -999.000,9, -999.000,9, -999.000,9, -999.000,9
           NA,    P03E,     55,   1,-999.0,      36,  2,19850407,0955,  24.2450, -132.4317,  4610, 4736.000,    1.487,   34.688,2,   34.688,2, -999.000,9,  159.300,2,  150.770,2,   36.550,2,    0.000,2,    2.460,2, -999.000,9, -999.000,9, -999.000,9, -999.000,9, -999.000,9