BOTTLE,20203103JOAExport
EXPOCODE,SECT_ID,STNNBR,CASTNO,SAMPNO,BTLNBR,BTLNBR_FLAG_W,DATE,TIME,LATITUDE,LONGITUDE,DEPTH,CTDPRS,CTDTMP,CTDSAL,CTDSAL_FLAG_W,SALNTY,SALNTY_FLAG_W,CTDOXY,CTDOXY_FLAG_W,OXYGEN,OXYGEN_FLAG_W,SILCAT,SILCAT_FLAG_W,NITRAT,NITRAT_FLAG_W,NITRIT,NITRIT_FLAG_W,PHSPHT,PHSPHT_FLAG_W,CFC-11,CFC-11_FLAG_W,CFC-12,CFC-12_FLAG_W,SF6,SF6_FLAG_W,TCARBN,TCARBN_FLAG_W,ALKALI,ALKALI_FLAG_W
,,,,,,,,,,,,,DB,ITS-90,PSS-78,,PSS-78,,UMOL/KG,,UMOL/KG,,UMOL/KG,,UMOL/KG,,UMOL/KG,,UMOL/KG,,PMOL/KG,,PMOL/KG,,FMOL/KG,,UMOL/KG,,UMOL/KG
           NA,    P03E,     73,   1,-999.0,       1,  2,19850410,1905,  24.2350, -140.3567,  4795,    0.500,   21.275,   35.003,2,   35.008,2, -999.000,9,  225.400,2,    0.530,2,    0.130,2,    0.000,2,    0.070,2,    1.842,2,    0.928,2, -999.000,9, -999.000,9, -999.000,9
           NA,    P03E,     73,   1,-999.0,       2,  2,19850410,1905,  24.2350, -140.3567,  4795,   20.800,   21.086,   35.005,2,   35.008,2, -999.000,9,  226.300,2,    0.510,2,    0.130,2,    0.000,2,    0.060,2,    1.803,2,    0.923,2, -999.000,9, -999.000,9, -999.000,9
           NA,    P03E,     73,   1,-999.0,       3,  2,19850410,1905,  24.2350, -140.3567,  4795,   34.500,   20.804,   35.193,2,   35.193,2, -999.000,9,  225.600,2,    0.480,2,    0.130,2,    0.000,2,    0.050,2,    1.805,2,    0.919,2, -999.000,9, -999.000,9, -999.000,9
           NA,    P03E,     73,   1,-999.0,       4,  2,19850410,1905,  24.2350, -140.3567,  4795,   54.300,   20.720,   35.256,2,   35.253,2, -999.000,9,  222.300,2,    0.450,2,    0.130,2,    0.000,2,    0.050,2, -999.000,9, -999.000,9, -999.000,9, -999.000,9, -999.000,9
           NA,    P03E,     73,   1,-999.0,       5,  2,19850410,1905,  24.2350, -140.3567,  4795,   74.100,   20.095,   35.275,2,   35.267,2, -999.000,9,  221.100,2,    0.800,2,    0.340,2,    0.010,2,    0.040,2,    1.810,2,    0.929,2, -999.000,9, -999.000,9, -999.000,9
           NA,    P03E,     73,   1,-999.0,       6,  2,19850410,1905,  24.2350, -140.3567,  4795,   93.600,   20.256,   35.438,2,   35.437,2, -999.000,9,  226.900,2,    0.210,2,    0.080,2,    0.000,2,    0.000,2,    1.811,2,    0.930,2, -999.000,9, -999.000,9, -999.000,9
           NA,    P03E,     73,   1,-999.0,       7,  2,19850410,1905,  24.2350, -140.3567,  4795,  124.000,   20.016,   35.425,2,   35.424,2, -999.000,9,  224.400,2,    0.370,2,    0.200,2,    0.060,2,    0.000,2,    1.853,2,    0.938,2, -999.000,9, -999.000,9, -999.000,9
           NA,    P03E,     73,   1,-999.0,       8,  2,19850410,1905,  24.2350, -140.3567,  4795,  153.900,   19.437,   35.302,2,   35.301,2, -999.000,9,  220.500,2,    1.280,2,    0.520,2,    0.100,2,    0.030,2,    1.855,2,    0.946,2, -999.000,9, -999.000,9, -999.000,9
           NA,    P03E,     73,   1,-999.0,       9,  2,19850410,1905,  24.2350, -140.3567,  4795,  195.200,   18.088,   35.001,2,   34.996,2, -999.000,9,  213.500,2,    1.630,2,    1.590,2,    0.040,2,    0.120,2,    1.909,2,    0.952,2, -999.000,9, -999.000,9, -999.000,9
           NA,    P03E,     73,   1,-999.0,      10,  2,19850410,1905,  24.2350, -140.3567,  4795,  236.000,   14.868,   34.440,2,   34.438,2, -999.000,9,  214.300,2,    3.850,2,    4.300,2,    0.010,2,    0.320,2,    2.018,2,    1.000,2, -999.000,9, -999.000,9, -999.000,9
           NA,    P03E,     73,   1,-999.0,      11,  2,19850410,1905,  24.2350, -140.3567,  4795,  287.200,   11.703,   34.131,2,   34.116,2, -999.000,9,  213.600,2,   10.370,2,   10.540,2,    0.010,2,    0.690,2,    1.980,6,    0.963,6, -999.000,9, -999.000,9, -999.000,9
           NA,    P03E,     73,   1,-999.0,      12,  2,19850410,1905,  24.2350, -140.3567,  4795,  336.900,   10.072,   34.084,2,   34.086,2, -999.000,9,  203.800,2,   16.900,2,   15.510,2,    0.000,2,    0.990,2,    1.668,6,    0.804,6, -999.000,9, -999.000,9, -999.000,9
           NA,    P03E,     73,   1,-999.0,      13,  2,19850410,1905,  24.2350, -140.3567,  4795,  397.900,    8.689,   34.054,2,   34.055,2, -999.000,9,  185.100,2,   27.350,2,   20.870,2,    0.000,2,    1.330,2,    1.211,6,    0.607,6, -999.000,9, -999.000,9, -999.000,9
           NA,    P03E,     73,   1,-999.0,      14,  2,19850410,1905,  24.2350, -140.3567,  4795,  458.200,    7.323,   34.028,2,   34.029,2, -999.000,9,  139.100,2,   42.490,2,   27.950,2,    0.000,2,    1.810,2,    0.480,2,    0.262,2, -999.000,9, -999.000,9, -999.000,9
           NA,    P03E,     73,   1,-999.0,      15,  2,19850410,1905,  24.2350, -140.3567,  4795,  529.200,    6.220,   34.038,2,   34.042,2, -999.000,9,   85.000,2,   60.650,2,   35.280,2,    0.000,2,    2.320,2,    0.156,2, -999.000,9, -999.000,9, -999.000,9, -999.000,9
           NA,    P03E,     73,   1,-999.0,      16,  2,19850410,1905,  24.2350, -140.3567,  4795,  609.100,    5.449,   34.130,2,   34.131,2, -999.000,9,   39.100,2,   78.250,2,   40.790,2,    0.000,2,    2.740,2,    0.060,2,    0.033,2, -999.000,9, -999.000,9, -999.000,9
           NA,    P03E,     73,   1,-999.0,      17,  2,19850410,1905,  24.2350, -140.3567,  4795,  709.300,    4.798,   34.258,2,   34.255,2, -999.000,9,   18.400,2,   96.270,2,   43.810,2,    0.000,2,    2.960,2, -999.000,9, -999.000,9, -999.000,9, -999.000,9, -999.000,9
           NA,    P03E,     73,   1,-999.0,      18,  2,19850410,1905,  24.2350, -140.3567,  4795,  809.300,    4.462,   34.349,2,   34.353,2, -999.000,9,   19.800,2,  103.380,2,   44.640,2,    0.000,2,    2.970,2, -999.000,9, -999.000,9, -999.000,9, -999.000,9, -999.000,9
           NA,    P03E,     73,   1,-999.0,      19,  2,19850410,1905,  24.2350, -140.3567,  4795,  910.200,    4.224,   34.432,2,   34.433,2, -999.000,9,   30.000,2,  108.250,2,   44.580,2,    0.000,2,    2.960,2,    0.024,2,   -0.001,2, -999.000,9, -999.000,9, -999.000,9
           NA,    P03E,     73,   1,-999.0,      20,  2,19850410,1905,  24.2350, -140.3567,  4795, 1010.800,    3.978,   34.478,2,   34.477,2, -999.000,9,   38.200,2,  112.730,2,   44.310,2,    0.000,2,    2.950,2, -999.000,9, -999.000,9, -999.000,9, -999.000,9, -999.000,9
           NA,    P03E,     73,   1,-999.0,      21,  2,19850410,1905,  24.2350, -140.3567,  4795, 1112.000,    3.724,   34.506,2,   34.506,2, -999.000,9,   42.300,2,  118.170,2,   44.200,2,    0.000,2,    2.930,2, -999.000,9, -999.000,9, -999.000,9, -999.000,9, -999.000,9
           NA,    P03E,     73,   1,-999.0,      22,  2,19850410,1905,  24.2350, -140.3567,  4795, 1262.900,    3.388,   34.532,2,   34.533,2, -999.000,9,   50.000,2,  126.450,2,   44.090,2,    0.000,2,    2.920,2, -999.000,9,    0.000,2, -999.000,9, -999.000,9, -999.000,9
           NA,    P03E,     73,   1,-999.0,      23,  2,19850410,1905,  24.2350, -140.3567,  4795, 1412.400,    3.076,   34.552,2,   34.553,2, -999.000,9,   56.300,2,  134.350,2,   43.670,2,    0.000,2,    2.890,2, -999.000,9, -999.000,9, -999.000,9, -999.000,9, -999.000,9
           NA,    P03E,     73,   1,-999.0,      24,  2,19850410,1905,  24.2350, -140.3567,  4795, 1613.000,    2.715,   34.575,2,   34.576,2, -999.000,9,   65.300,2,  142.270,2,   43.050,2,    0.000,2,    2.850,2,   -0.005,2,    0.002,2, -999.000,9, -999.000,9, -999.000,9
           NA,    P03E,     73,   1,-999.0,      25,  2,19850410,1905,  24.2350, -140.3567,  4795, 1814.800,    2.374,   34.597,2,   34.597,2, -999.000,9,   75.100,2,  151.530,2,   42.580,2,    0.000,2,    2.800,2, -999.000,9, -999.000,9, -999.000,9, -999.000,9, -999.000,9
           NA,    P03E,     73,   1,-999.0,      26,  2,19850410,1905,  24.2350, -140.3567,  4795, 2015.600,    2.155,   34.612,2,   34.615,2, -999.000,9,   81.700,2,  157.570,2,   42.110,2,    0.070,2,    2.770,2, -999.000,9, -999.000,9, -999.000,9, -999.000,9, -999.000,9
           NA,    P03E,     73,   1,-999.0,      27,  2,19850410,1905,  24.2350, -140.3567,  4795, 2216.400,    1.960,   34.627,2,   34.627,2, -999.000,9,   90.900,2,  163.430,2,   41.500,2,    0.000,2,    2.720,2,    0.005,2, -999.000,9, -999.000,9, -999.000,9, -999.000,9
           NA,    P03E,     73,   1,-999.0,      28,  2,19850410,1905,  24.2350, -140.3567,  4795, 2519.900,    1.735,   34.646,2,   34.647,2, -999.000,9,  104.100,2,  168.340,2,   40.730,2,    0.000,2,    2.670,2, -999.000,9, -999.000,9, -999.000,9, -999.000,9, -999.000,9
           NA,    P03E,     73,   1,-999.0,      29,  2,19850410,1905,  24.2350, -140.3567,  4795, 2819.400,    1.606,   34.659,2,   34.658,2, -999.000,9,  115.600,2,  169.070,2,   39.910,2,    0.000,2,    2.590,2, -999.000,9, -999.000,9, -999.000,9, -999.000,9, -999.000,9
           NA,    P03E,     73,   1,-999.0,      30,  2,19850410,1905,  24.2350, -140.3567,  4795, 3120.100,    1.524,   34.668,2,   34.669,2, -999.000,9,  126.600,2,  167.310,2,   38.800,2,    0.000,2,    2.530,2, -999.000,9, -999.000,9, -999.000,9, -999.000,9, -999.000,9
           NA,    P03E,     73,   1,-999.0,      31,  2,19850410,1905,  24.2350, -140.3567,  4795, 3421.000,    1.486,   34.675,2,   34.674,2, -999.000,9,  135.400,2,  164.420,2,   38.500,2,    0.000,2,    2.490,2, -999.000,9, -999.000,9, -999.000,9, -999.000,9, -999.000,9
           NA,    P03E,     73,   1,-999.0,      32,  2,19850410,1905,  24.2350, -140.3567,  4795, 3721.400,    1.463,   34.680,2,   34.679,2, -999.000,9,  142.400,2,  160.960,2,   37.990,2,    0.000,2,    2.470,2, -999.000,9, -999.000,9, -999.000,9, -999.000,9, -999.000,9
           NA,    P03E,     73,   1,-999.0,      37,  2,19850410,1905,  24.2350, -140.3567,  4795, 4023.800,    1.467,   34.682,2,   34.683,2, -999.000,9,  148.200,2,  158.650,2,   37.590,2,    0.000,2,    2.450,2, -999.000,9, -999.000,9, -999.000,9, -999.000,9, -999.000,9
           NA,    P03E,     73,   1,-999.0,      34,  2,19850410,1905,  24.2350, -140.3567,  4795, 4316.900,    1.485,   34.684,2,   34.684,2, -999.000,9,  150.400,2,  156.330,2,   37.430,2,    0.000,2,    2.440,2, -999.000,9, -999.000,9, -999.000,9, -999.000,9, -999.000,9
           NA,    P03E,     73,   1,-999.0,      35,  2,19850410,1905,  24.2350, -140.3567,  4795, 4618.700,    1.507,   34.685,2,   34.685,2, -999.000,9,  153.600,2,  153.830,2,   37.180,2,    0.000,2,    2.430,2, -999.000,9, -999.000,9, -999.000,9, -999.000,9, -999.000,9
           NA,    P03E,     73,   1,-999.0,      36,  2,19850410,1905,  24.2350, -140.3567,  4795, 4868.700,    1.464,   34.690,2,   34.690,2, -999.000,9,  164.300,2,  145.070,2,   36.430,2,    0.000,2,    2.370,2,   -0.004,2,    0.000,2, -999.000,9, -999.000,9, -999.000,9