BOTTLE,20203103JOAExport
EXPOCODE,SECT_ID,STNNBR,CASTNO,SAMPNO,BTLNBR,BTLNBR_FLAG_W,DATE,TIME,LATITUDE,LONGITUDE,DEPTH,CTDPRS,CTDTMP,CTDSAL,CTDSAL_FLAG_W,SALNTY,SALNTY_FLAG_W,CTDOXY,CTDOXY_FLAG_W,OXYGEN,OXYGEN_FLAG_W,SILCAT,SILCAT_FLAG_W,NITRAT,NITRAT_FLAG_W,NITRIT,NITRIT_FLAG_W,PHSPHT,PHSPHT_FLAG_W,CFC-11,CFC-11_FLAG_W,CFC-12,CFC-12_FLAG_W,SF6,SF6_FLAG_W,TCARBN,TCARBN_FLAG_W,ALKALI,ALKALI_FLAG_W
,,,,,,,,,,,,,DB,ITS-90,PSS-78,,PSS-78,,UMOL/KG,,UMOL/KG,,UMOL/KG,,UMOL/KG,,UMOL/KG,,UMOL/KG,,PMOL/KG,,PMOL/KG,,FMOL/KG,,UMOL/KG,,UMOL/KG
           NA,    P03E,    108,   1,-999.0,       1,  2,19850416,1823,  24.2567, -153.9550,  4856,    2.800,   22.182,   35.358,2,   35.362,2, -999.000,9,  218.300,2,    0.600,2,    0.050,2,    0.000,2,    0.080,2, -999.000,9, -999.000,9, -999.000,9, -999.000,9, -999.000,9
           NA,    P03E,    108,   1,-999.0,       2,  2,19850416,1823,  24.2567, -153.9550,  4856,   23.900,   22.173,   35.358,2,   35.361,2, -999.000,9,  220.000,2,    0.560,2,    0.050,2,    0.000,2,    0.070,2, -999.000,9, -999.000,9, -999.000,9, -999.000,9, -999.000,9
           NA,    P03E,    108,   1,-999.0,       3,  2,19850416,1823,  24.2567, -153.9550,  4856,   43.300,   22.171,   35.359,2,   35.361,2, -999.000,9,  221.300,2,    0.510,2,    0.050,2,    0.000,2,    0.070,2, -999.000,9, -999.000,9, -999.000,9, -999.000,9, -999.000,9
           NA,    P03E,    108,   1,-999.0,       4,  2,19850416,1823,  24.2567, -153.9550,  4856,   73.200,   21.976,   35.379,2,   35.381,2, -999.000,9,  221.900,2,    0.470,2,    0.050,2,    0.000,2,    0.040,2, -999.000,9, -999.000,9, -999.000,9, -999.000,9, -999.000,9
           NA,    P03E,    108,   1,-999.0,       5,  2,19850416,1823,  24.2567, -153.9550,  4856,  102.900,   21.728,   35.355,2,   35.366,2, -999.000,9,  220.700,2,    0.430,2,    0.050,2,    0.000,2,    0.070,2, -999.000,9, -999.000,9, -999.000,9, -999.000,9, -999.000,9
           NA,    P03E,    108,   1,-999.0,       6,  2,19850416,1823,  24.2567, -153.9550,  4856,  143.500,   20.474,   35.274,2,   35.270,2, -999.000,9,  216.800,2,    0.760,2,    0.370,2,    0.140,2,    0.040,2, -999.000,9, -999.000,9, -999.000,9, -999.000,9, -999.000,9
           NA,    P03E,    108,   1,-999.0,       7,  2,19850416,1823,  24.2567, -153.9550,  4856,  184.300,   18.132,   34.904,2,   34.904,2, -999.000,9,  200.300,2,    2.210,2,    2.950,2,    0.030,2,    0.290,2, -999.000,9, -999.000,9, -999.000,9, -999.000,9, -999.000,9
           NA,    P03E,    108,   1,-999.0,       8,  2,19850416,1823,  24.2567, -153.9550,  4856,  225.500,   15.425,   34.522,2,   34.505,2, -999.000,9,  186.000,2,    5.710,2,    7.270,2,    0.010,2,    0.630,2, -999.000,9, -999.000,9, -999.000,9, -999.000,9, -999.000,9
           NA,    P03E,    108,   1,-999.0,       9,  2,19850416,1823,  24.2567, -153.9550,  4856,  266.100,   12.866,   34.248,2,   34.246,2, -999.000,9,  180.100,2,    9.770,2,   11.550,2,    0.010,2,    0.910,2, -999.000,9, -999.000,9, -999.000,9, -999.000,9, -999.000,9
           NA,    P03E,    108,   1,-999.0,      10,  2,19850416,1823,  24.2567, -153.9550,  4856,  305.700,   11.309,   34.173,2,   34.173,2, -999.000,9,  197.900,2,   13.280,2,   13.490,2,    0.010,2,    1.000,2, -999.000,9, -999.000,9, -999.000,9, -999.000,9, -999.000,9
           NA,    P03E,    108,   1,-999.0,      11,  2,19850416,1823,  24.2567, -153.9550,  4856,  346.700,   10.603,   34.181,2,   34.179,2, -999.000,9,  208.700,2,   16.220,2,   14.650,2,    0.010,2,    1.040,2, -999.000,9, -999.000,9, -999.000,9, -999.000,9, -999.000,9
           NA,    P03E,    108,   1,-999.0,      12,  2,19850416,1823,  24.2567, -153.9550,  4856,  396.600,    9.094,   34.107,2,   34.105,2, -999.000,9,  187.700,2,   24.950,2,   19.790,2,    0.000,2,    1.380,2, -999.000,9, -999.000,9, -999.000,9, -999.000,9, -999.000,9
           NA,    P03E,    108,   1,-999.0,      13,  2,19850416,1823,  24.2567, -153.9550,  4856,  456.400,    7.721,   34.053,2,   34.053,2, -999.000,9,  154.800,2,   37.810,2,   25.450,2,    0.000,2,    1.770,2, -999.000,9, -999.000,9, -999.000,9, -999.000,9, -999.000,9
           NA,    P03E,    108,   1,-999.0,      14,  2,19850416,1823,  24.2567, -153.9550,  4856,  516.600,    6.471,   34.029,2,   34.030,2, -999.000,9,  116.000,2,   54.830,2,   31.610,2, -999.000,5,    2.190,2, -999.000,9, -999.000,9, -999.000,9, -999.000,9, -999.000,9
           NA,    P03E,    108,   1,-999.0,      15,  2,19850416,1823,  24.2567, -153.9550,  4856,  586.800,    5.563,   34.070,2,   34.071,2, -999.000,9,   75.500,2,   72.490,2,   36.700,2,    0.000,2,    2.580,2, -999.000,9, -999.000,9, -999.000,9, -999.000,9, -999.000,9
           NA,    P03E,    108,   1,-999.0,      16,  2,19850416,1823,  24.2567, -153.9550,  4856,  666.800,    4.987,   34.172,2,   34.172,2, -999.000,9,   45.500,2,   87.780,2,   40.240,2,    0.000,2,    2.830,2, -999.000,9, -999.000,9, -999.000,9, -999.000,9, -999.000,9
           NA,    P03E,    108,   1,-999.0,      38,  2,19850416,1823,  24.2567, -153.9550,  4856,  746.800,    4.567,   34.263,2,   34.262,2, -999.000,9,   34.900,2,   99.350,2,   41.950,2,    0.000,2,    2.950,2,    0.016,2,    0.010,2, -999.000,9, -999.000,9, -999.000,9
           NA,    P03E,    108,   1,-999.0,      18,  2,19850416,1823,  24.2567, -153.9550,  4856,  828.000,    4.386,   34.338,2,   34.340,2, -999.000,9,   33.200,2,  104.850,2,   42.300,2,    0.000,2,    2.980,2, -999.000,9, -999.000,9, -999.000,9, -999.000,9, -999.000,9
           NA,    P03E,    108,   1,-999.0,      19,  2,19850416,1823,  24.2567, -153.9550,  4856,  908.400,    4.091,   34.417,2,   34.416,2, -999.000,9,   38.800,2,  110.740,2,   42.500,2,    0.000,2,    2.990,2, -999.000,9, -999.000,9, -999.000,9, -999.000,9, -999.000,9
           NA,    P03E,    108,   1,-999.0,      20,  2,19850416,1823,  24.2567, -153.9550,  4856, 1007.100,    3.879,   34.476,2,   34.475,2, -999.000,9,   46.100,2,  114.340,2,   42.300,2,    0.000,2,    2.970,2, -999.000,9, -999.000,9, -999.000,9, -999.000,9, -999.000,9
           NA,    P03E,    108,   1,-999.0,      21,  2,19850416,1823,  24.2567, -153.9550,  4856, 1108.700,    3.636,   34.499,2,   34.498,2, -999.000,9,   49.000,2,  121.620,2,   42.500,2,    0.000,2,    2.960,2, -999.000,9, -999.000,9, -999.000,9, -999.000,9, -999.000,9
           NA,    P03E,    108,   1,-999.0,      39,  2,19850416,1823,  24.2567, -153.9550,  4856, 1261.400,    3.332,   34.526,2,   34.526,2, -999.000,9,   56.000,2,  128.540,2,   42.190,2,    0.000,2,    2.950,2,    0.007,2,    0.006,2, -999.000,9, -999.000,9, -999.000,9
           NA,    P03E,    108,   1,-999.0,      23,  2,19850416,1823,  24.2567, -153.9550,  4856, 1409.400,    2.993,   34.550,2,   34.550,2, -999.000,9,   64.300,2,  134.320,2,   41.990,2,    0.000,2,    2.910,2, -999.000,9, -999.000,9, -999.000,9, -999.000,9, -999.000,9
           NA,    P03E,    108,   1,-999.0,      24,  2,19850416,1823,  24.2567, -153.9550,  4856, 1606.600,    2.595,   34.575,2,   34.575,2, -999.000,9,   73.000,2,  144.810,2,   41.540,2,    0.000,2,    2.860,2, -999.000,9, -999.000,9, -999.000,9, -999.000,9, -999.000,9
           NA,    P03E,    108,   1,-999.0,      25,  2,19850416,1823,  24.2567, -153.9550,  4856, 1802.100,    2.284,   34.596,2,   34.597,2, -999.000,9,   80.100,2,  153.210,2,   41.130,2,    0.000,2,    2.820,2, -999.000,9, -999.000,9, -999.000,9, -999.000,9, -999.000,9
           NA,    P03E,    108,   1,-999.0,      26,  2,19850416,1823,  24.2567, -153.9550,  4856, 1999.200,    2.039,   34.614,2,   34.614,2, -999.000,9,   88.000,2,  159.470,2,   40.630,2,    0.000,2,    2.800,2, -999.000,9, -999.000,9, -999.000,9, -999.000,9, -999.000,9
           NA,    P03E,    108,   1,-999.0,      27,  2,19850416,1823,  24.2567, -153.9550,  4856, 2199.400,    1.870,   34.629,2,   34.629,2, -999.000,9,   95.500,2,  164.970,2,   40.280,2,    0.000,2,    2.760,2, -999.000,9, -999.000,9, -999.000,9, -999.000,9, -999.000,9
           NA,    P03E,    108,   1,-999.0,      28,  2,19850416,1823,  24.2567, -153.9550,  4856, 2487.900,    1.698,   34.647,2,   34.647,2, -999.000,9,  106.900,2,  168.900,2,   39.470,2,    0.000,2,    2.690,2, -999.000,9, -999.000,9, -999.000,9, -999.000,9, -999.000,9
           NA,    P03E,    108,   1,-999.0,      29,  2,19850416,1823,  24.2567, -153.9550,  4856, 2805.000,    1.582,   34.660,2,   34.660,2, -999.000,9,  120.700,2,  168.450,2,   38.720,2,    0.000,2,    2.630,2, -999.000,9, -999.000,9, -999.000,9, -999.000,9, -999.000,9
           NA,    P03E,    108,   1,-999.0,      30,  2,19850416,1823,  24.2567, -153.9550,  4856, 3110.800,    1.502,   34.669,2,   34.669,2, -999.000,9,  132.800,2,  163.250,2,   37.980,2,    0.000,2,    2.550,2, -999.000,9, -999.000,9, -999.000,9, -999.000,9, -999.000,9
           NA,    P03E,    108,   1,-999.0,      31,  2,19850416,1823,  24.2567, -153.9550,  4856, 3422.900,    1.470,   34.676,2,   34.676,2, -999.000,9,  140.200,2,  160.820,2,   37.480,2,    0.000,2,    2.510,2, -999.000,9, -999.000,9, -999.000,9, -999.000,9, -999.000,9
           NA,    P03E,    108,   1,-999.0,      32,  2,19850416,1823,  24.2567, -153.9550,  4856, 3733.100,    1.454,   34.680,2,   34.680,2, -999.000,9,  145.900,2,  158.600,2,   37.030,2,    0.000,2,    2.490,2, -999.000,9, -999.000,9, -999.000,9, -999.000,9, -999.000,9
           NA,    P03E,    108,   1,-999.0,      37,  2,19850416,1823,  24.2567, -153.9550,  4856, 4038.100,    1.455,   34.683,2,   34.684,2, -999.000,9,  150.800,2,  155.400,2,   36.690,2,    0.000,2,    2.460,2, -999.000,9, -999.000,9, -999.000,9, -999.000,9, -999.000,9
           NA,    P03E,    108,   1,-999.0,      34,  2,19850416,1823,  24.2567, -153.9550,  4856, 4346.400,    1.466,   34.684,2,   34.685,2, -999.000,9,  155.100,2,  154.770,2,   36.490,2,    0.000,2,    2.440,2, -999.000,9, -999.000,9, -999.000,9, -999.000,9, -999.000,9
           NA,    P03E,    108,   1,-999.0,      35,  2,19850416,1823,  24.2567, -153.9550,  4856, 4649.900,    1.485,   34.687,2,   34.687,2, -999.000,9,  157.400,2,  153.150,2,   36.190,2,    0.000,2,    2.420,2, -999.000,9, -999.000,9, -999.000,9, -999.000,9, -999.000,9
           NA,    P03E,    108,   1,-999.0,      36,  2,19850416,1823,  24.2567, -153.9550,  4856, 4899.600,    1.504,   34.688,2,   34.688,2, -999.000,9,  159.200,2,  152.120,2,   36.000,2,    0.000,2,    2.410,2, -999.000,9, -999.000,9, -999.000,9, -999.000,9, -999.000,9
           NA,    P03E,    106,   1,-999.0,       1,  2,19850416,1051,  24.2550, -153.3017,  5139,    1.900,   22.270,   35.352,2,   35.355,2, -999.000,9,  220.100,2,    1.240,2,    0.050,2,    0.000,2,    0.200,2,    1.702,2,    0.928,2, -999.000,9, -999.000,9, -999.000,9
           NA,    P03E,    106,   1,-999.0,       2,  2,19850416,1051,  24.2550, -153.3017,  5139,   24.000,   22.278,   35.351,2,   35.354,2, -999.000,9,  219.700,2,    1.200,2,    0.050,2,    0.000,2,    0.060,2, -999.000,9, -999.000,9, -999.000,9, -999.000,9, -999.000,9
           NA,    P03E,    106,   1,-999.0,       3,  2,19850416,1051,  24.2550, -153.3017,  5139,   43.200,   22.283,   35.351,2,   35.354,2, -999.000,9,  221.000,2,    1.170,2,    0.050,2,    0.000,2,    0.060,2, -999.000,9, -999.000,9, -999.000,9, -999.000,9, -999.000,9
           NA,    P03E,    106,   1,-999.0,       4,  2,19850416,1051,  24.2550, -153.3017,  5139,   72.500,   22.156,   35.336,2,   35.337,2, -999.000,9,  219.800,2,    1.130,2,    0.050,2,    0.000,2,    0.060,2,    1.680,2,    0.858,2, -999.000,9, -999.000,9, -999.000,9
           NA,    P03E,    106,   1,-999.0,       5,  2,19850416,1051,  24.2550, -153.3017,  5139,  103.000,   22.053,   35.323,2,   35.325,2, -999.000,9,  218.500,2,    1.100,2,    0.050,2,    0.000,2,    0.070,2, -999.000,9, -999.000,9, -999.000,9, -999.000,9, -999.000,9
           NA,    P03E,    106,   1,-999.0,       6,  2,19850416,1051,  24.2550, -153.3017,  5139,  143.900,   20.077,   35.035,2,   35.071,2, -999.000,9,  194.400,2,    2.390,2,    2.140,2,    0.060,2,    0.250,2, -999.000,9, -999.000,9, -999.000,9, -999.000,9, -999.000,9
           NA,    P03E,    106,   1,-999.0,       7,  2,19850416,1051,  24.2550, -153.3017,  5139,  184.200,   17.064,   34.606,2,   34.603,2, -999.000,9,  167.500,2,    5.390,2,    7.330,2,    0.010,2,    0.650,2,    1.616,2,    0.846,2, -999.000,9, -999.000,9, -999.000,9
           NA,    P03E,    106,   1,-999.0,       8,  2,19850416,1051,  24.2550, -153.3017,  5139,  222.300,   14.960,   34.460,2,   34.460,2, -999.000,9,  190.400,2,    6.680,2,    7.290,2,    0.000,2,    0.610,2, -999.000,9, -999.000,9, -999.000,9, -999.000,9, -999.000,9
           NA,    P03E,    106,   1,-999.0,       9,  2,19850416,1051,  24.2550, -153.3017,  5139,  264.900,   12.726,   34.223,2,   34.219,2, -999.000,9,  175.200,2,   11.770,2,   12.420,2,    0.000,2,    1.080,2,    1.499,2,    0.734,2, -999.000,9, -999.000,9, -999.000,9
           NA,    P03E,    106,   1,-999.0,      10,  2,19850416,1051,  24.2550, -153.3017,  5139,  306.100,   10.879,   34.120,2,   34.118,2, -999.000,9,  157.600,2,   18.380,2,   17.910,2,    0.000,2,    1.350,2,    1.139,2,    0.571,2, -999.000,9, -999.000,9, -999.000,9
           NA,    P03E,    106,   1,-999.0,      11,  2,19850416,1051,  24.2550, -153.3017,  5139,  346.300,    9.623,   34.101,2,   34.101,2, -999.000,9,  165.900,2,   23.860,2,   20.210,2,    0.000,2,    1.460,2,    0.987,2,    0.526,2, -999.000,9, -999.000,9, -999.000,9
           NA,    P03E,    106,   1,-999.0,      12,  2,19850416,1051,  24.2550, -153.3017,  5139,  396.100,    8.344,   34.064,2,   34.064,2, -999.000,9,  165.800,2,   31.630,2,   23.130,2,    0.000,2,    1.620,2,    0.782,2,    0.405,2, -999.000,9, -999.000,9, -999.000,9
           NA,    P03E,    106,   1,-999.0,      13,  2,19850416,1051,  24.2550, -153.3017,  5139,  455.600,    7.255,   34.046,2,   34.047,2, -999.000,9,  136.900,2,   44.550,2,   27.900,2,    0.000,2,    1.950,2,    0.457,2,    0.247,2, -999.000,9, -999.000,9, -999.000,9
           NA,    P03E,    106,   1,-999.0,      14,  2,19850416,1051,  24.2550, -153.3017,  5139,  524.200,    6.227,   34.049,2,   34.048,2, -999.000,9,  103.100,2,   59.810,2,   33.120,2,    0.000,2,    2.320,2,    0.226,2,    0.134,2, -999.000,9, -999.000,9, -999.000,9
           NA,    P03E,    106,   1,-999.0,      15,  2,19850416,1051,  24.2550, -153.3017,  5139,  605.600,    5.344,   34.123,2,   34.122,2, -999.000,9,   54.300,2,   77.450,2,   38.690,2,    0.000,2,    2.740,2,    0.033,2, -999.000,9, -999.000,9, -999.000,9, -999.000,9
           NA,    P03E,    106,   1,-999.0,      16,  2,19850416,1051,  24.2550, -153.3017,  5139,  705.800,    4.532,   34.216,2,   34.215,2, -999.000,9,   28.000,2,   97.330,2,   42.200,2,    0.000,2,    2.980,2,    0.004,2,    0.006,2, -999.000,9, -999.000,9, -999.000,9
           NA,    P03E,    106,   1,-999.0,      38,  2,19850416,1051,  24.2550, -153.3017,  5139,  806.400,    4.315,   34.355,2,   34.354,2, -999.000,9,   28.300,2,  104.310,2,   42.650,2,    0.000,2,    3.180,2,    0.020,2, -999.000,9, -999.000,9, -999.000,9, -999.000,9
           NA,    P03E,    106,   1,-999.0,      18,  2,19850416,1051,  24.2550, -153.3017,  5139,  906.700,    4.098,   34.435,2,   34.434,2, -999.000,9,   37.800,2,  109.550,2,   42.600,2,    0.000,2,    3.010,2, -999.000,9, -999.000,9, -999.000,9, -999.000,9, -999.000,9
           NA,    P03E,    106,   1,-999.0,      19,  2,19850416,1051,  24.2550, -153.3017,  5139, 1005.800,    3.906,   34.481,2,   34.480,2, -999.000,9,   45.200,2,  113.250,2,   42.250,2,    0.000,2,    2.980,2, -999.000,9, -999.000,9, -999.000,9, -999.000,9, -999.000,9
           NA,    P03E,    106,   1,-999.0,      20,  2,19850416,1051,  24.2550, -153.3017,  5139, 1102.300,    3.679,   34.509,2,   34.509,2, -999.000,9,   49.900,2,  117.940,2,   42.250,2,    0.000,2,    2.970,2, -999.000,9, -999.000,9, -999.000,9, -999.000,9, -999.000,9
           NA,    P03E,    106,   1,-999.0,      21,  2,19850416,1051,  24.2550, -153.3017,  5139, 1252.000,    3.343,   34.537,2,   34.536,2, -999.000,9,   56.800,2,  126.970,2,   42.150,2,    0.000,2,    2.940,2, -999.000,9, -999.000,9, -999.000,9, -999.000,9, -999.000,9
           NA,    P03E,    106,   1,-999.0,      39,  2,19850416,1051,  24.2550, -153.3017,  5139, 1385.100,    3.094,   34.557,2,   34.558,2, -999.000,9,   62.400,2,  131.690,2,   42.000,2,    0.000,2,    2.930,2, -999.000,9, -999.000,9, -999.000,9, -999.000,9, -999.000,9
           NA,    P03E,    106,   1,-999.0,      23,  2,19850416,1051,  24.2550, -153.3017,  5139, 1597.100,    2.696,   34.580,2,   34.580,2, -999.000,9,   71.700,2,  140.990,2,   41.340,2,    0.000,2,    2.880,2, -999.000,9, -999.000,9, -999.000,9, -999.000,9, -999.000,9
           NA,    P03E,    106,   1,-999.0,      24,  2,19850416,1051,  24.2550, -153.3017,  5139, 1798.700,    2.391,   34.600,2,   34.600,2, -999.000,9,   81.000,2,  149.750,2,   40.940,2,    0.000,2,    2.840,2, -999.000,9, -999.000,9, -999.000,9, -999.000,9, -999.000,9
           NA,    P03E,    106,   1,-999.0,      25,  2,19850416,1051,  24.2550, -153.3017,  5139, 2004.300,    2.137,   34.613,2,   34.613,2, -999.000,9,   86.900,2,  159.370,2,   40.590,2,    0.000,2,    2.790,2, -999.000,9, -999.000,9, -999.000,9, -999.000,9, -999.000,9
           NA,    P03E,    106,   1,-999.0,      26,  2,19850416,1051,  24.2550, -153.3017,  5139, 2200.800,    1.940,   34.626,2,   34.626,2, -999.000,9,   94.200,2,  161.380,2,   40.040,2,    0.000,2,    2.750,2, -999.000,9, -999.000,9, -999.000,9, -999.000,9, -999.000,9
           NA,    P03E,    106,   1,-999.0,      27,  2,19850416,1051,  24.2550, -153.3017,  5139, 2490.600,    1.740,   34.644,2,   34.645,2, -999.000,9,  106.600,2,  161.570,2,   39.290,2,    0.000,2,    2.680,2, -999.000,9, -999.000,9, -999.000,9, -999.000,9, -999.000,9
           NA,    P03E,    106,   1,-999.0,      28,  2,19850416,1051,  24.2550, -153.3017,  5139, 2794.600,    1.615,   34.657,2,   34.658,2, -999.000,9,  117.200,2,  165.000,2,   38.700,2,    0.000,2,    2.620,2, -999.000,9, -999.000,9, -999.000,9, -999.000,9, -999.000,9
           NA,    P03E,    106,   1,-999.0,      30,  2,19850416,1051,  24.2550, -153.3017,  5139, 3406.600,    1.492,   34.676,2,   34.677,2, -999.000,9,  137.100,2,  162.570,2,   37.510,2,    0.000,2,    2.520,2, -999.000,9, -999.000,9, -999.000,9, -999.000,9, -999.000,9
           NA,    P03E,    106,   1,-999.0,      31,  2,19850416,1051,  24.2550, -153.3017,  5139, 3720.400,    1.472,   34.680,2, -999.000,5, -999.000,9,  144.900,2,  160.350,2,   37.110,2,    0.000,2,    2.480,2, -999.000,9, -999.000,9, -999.000,9, -999.000,9, -999.000,9
           NA,    P03E,    106,   1,-999.0,      32,  2,19850416,1051,  24.2550, -153.3017,  5139, 4022.200,    1.465,   34.683,2, -999.000,5, -999.000,9,  151.200,2,  158.730,2,   36.670,2,    0.000,2,    2.450,2,    0.002,2,    0.012,2, -999.000,9, -999.000,9, -999.000,9
           NA,    P03E,    106,   1,-999.0,      37,  2,19850416,1051,  24.2550, -153.3017,  5139, 4330.000,    1.468,   34.686,2,   34.685,2, -999.000,9,  155.200,2,  154.310,2,   36.230,2,    0.000,2,    2.420,2, -999.000,9, -999.000,9, -999.000,9, -999.000,9, -999.000,9
           NA,    P03E,    106,   1,-999.0,      34,  2,19850416,1051,  24.2550, -153.3017,  5139, 4636.400,    1.475,   34.688,2,   34.688,2, -999.000,9,  160.400,2,  149.490,2,   35.930,2,    0.000,2,    2.390,2, -999.000,9, -999.000,9, -999.000,9, -999.000,9, -999.000,9
           NA,    P03E,    106,   1,-999.0,      35,  2,19850416,1051,  24.2550, -153.3017,  5139, 4943.700,    1.495,   34.689,2,   34.690,2, -999.000,9,  162.800,2,  147.680,2,   35.690,2,    0.000,2,    2.380,2, -999.000,9, -999.000,9, -999.000,9, -999.000,9, -999.000,9
           NA,    P03E,    106,   1,-999.0,      36,  2,19850416,1051,  24.2550, -153.3017,  5139, 5208.000,    1.511,   34.691,2,   34.692,2, -999.000,9,  165.700,2,  146.680,2,   35.300,2,    0.000,2,    2.350,2,    0.009,2,    0.013,2, -999.000,9, -999.000,9, -999.000,9