BOTTLE,20203103JOAExport
EXPOCODE,SECT_ID,STNNBR,CASTNO,SAMPNO,BTLNBR,BTLNBR_FLAG_W,DATE,TIME,LATITUDE,LONGITUDE,DEPTH,CTDPRS,CTDTMP,CTDSAL,CTDSAL_FLAG_W,SALNTY,SALNTY_FLAG_W,CTDOXY,CTDOXY_FLAG_W,OXYGEN,OXYGEN_FLAG_W,SILCAT,SILCAT_FLAG_W,NITRAT,NITRAT_FLAG_W,NITRIT,NITRIT_FLAG_W,PHSPHT,PHSPHT_FLAG_W,CFC-11,CFC-11_FLAG_W,CFC-12,CFC-12_FLAG_W,SF6,SF6_FLAG_W,TCARBN,TCARBN_FLAG_W,ALKALI,ALKALI_FLAG_W
,,,,,,,,,,,,,DB,ITS-90,PSS-78,,PSS-78,,UMOL/KG,,UMOL/KG,,UMOL/KG,,UMOL/KG,,UMOL/KG,,UMOL/KG,,PMOL/KG,,PMOL/KG,,FMOL/KG,,UMOL/KG,,UMOL/KG
           NA,    P03W,    259,   1,-999.0,       1,  2,19850514,1815,  24.3083,  155.2250,  5580,    0.100,   26.130,   35.002,2,   35.007,2, -999.000,9,  206.500,2,    0.590,2,    0.240,2,    0.000,2,    0.030,2,    1.477,2,    0.770,2, -999.000,9, -999.000,9, -999.000,9
           NA,    P03W,    259,   1,-999.0,      29,  2,19850514,1815,  24.3083,  155.2250,  5580,   24.700,   25.794,   35.034,2,   35.022,2, -999.000,9,  216.900,2,    0.780,2,    0.240,2,    0.000,2,    0.040,2, -999.000,9, -999.000,9, -999.000,9, -999.000,9, -999.000,9
           NA,    P03W,    259,   1,-999.0,       2,  2,19850514,1815,  24.3083,  155.2250,  5580,   45.500,   24.230,   35.093,2,   35.096,2, -999.000,9,  216.000,2,    0.490,2,    0.240,2,    0.000,2,    0.020,2,    1.533,2,    0.792,2, -999.000,9, -999.000,9, -999.000,9
           NA,    P03W,    259,   1,-999.0,      30,  2,19850514,1815,  24.3083,  155.2250,  5580,   75.500,   22.186,   35.020,2,   35.021,2, -999.000,9,  219.800,2,    0.680,2,    0.240,2,    0.000,2,    0.030,2, -999.000,9, -999.000,9, -999.000,9, -999.000,9, -999.000,9
           NA,    P03W,    259,   1,-999.0,       3,  2,19850514,1815,  24.3083,  155.2250,  5580,  105.200,   20.380,   34.964,2,   34.963,2, -999.000,9,  203.100,2,    1.660,2,    0.660,2,    0.050,2,    0.120,2,    1.632,2,    0.832,2, -999.000,9, -999.000,9, -999.000,9
           NA,    P03W,    259,   1,-999.0,       4,  2,19850514,1815,  24.3083,  155.2250,  5580,  145.800,   18.705,   34.881,2,   34.883,2, -999.000,9,  200.400,2,    2.250,2,    2.620,2,    0.020,2,    0.220,2,    1.736,2,    0.866,2, -999.000,9, -999.000,9, -999.000,9
           NA,    P03W,    259,   1,-999.0,       5,  2,19850514,1815,  24.3083,  155.2250,  5580,  186.400,   16.958,   34.777,2,   34.779,2, -999.000,9,  203.400,2,    3.710,2,    5.040,2,    0.000,2,    0.360,2,    1.767,2,    0.891,2, -999.000,9, -999.000,9, -999.000,9
           NA,    P03W,    259,   1,-999.0,      31,  2,19850514,1815,  24.3083,  155.2250,  5580,  235.600,   16.113,   34.729,2,   34.729,2, -999.000,9,  209.000,2,    4.500,2,    6.100,2,    0.000,2,    0.420,2, -999.000,9, -999.000,9, -999.000,9, -999.000,9, -999.000,9
           NA,    P03W,    259,   1,-999.0,       6,  2,19850514,1815,  24.3083,  155.2250,  5580,  286.900,   15.513,   34.688,2,   34.685,2, -999.000,9,  207.700,2,    6.160,2,    7.260,2,    0.000,2,    0.500,2,    1.734,2,    0.855,2, -999.000,9, -999.000,9, -999.000,9
           NA,    P03W,    259,   1,-999.0,      32,  2,19850514,1815,  24.3083,  155.2250,  5580,  337.000,   13.952,   34.535,2,   34.535,2, -999.000,9,  199.800,2,    9.870,2,    9.870,2,    0.000,2,    0.700,2, -999.000,9, -999.000,9, -999.000,9, -999.000,9, -999.000,9
           NA,    P03W,    259,   1,-999.0,       7,  2,19850514,1815,  24.3083,  155.2250,  5580,  387.700,   12.522,   34.415,2,   34.416,2, -999.000,9,  197.600,2,   13.690,2,   12.610,2,    0.010,2,    0.870,2,    1.458,2,    0.712,2, -999.000,9, -999.000,9, -999.000,9
           NA,    P03W,    259,   1,-999.0,      33,  2,19850514,1815,  24.3083,  155.2250,  5580,  447.800,   11.061,   34.298,2,   34.299,2, -999.000,9,  183.200,2,   20.340,2,   16.430,2,    0.000,2,    1.150,2, -999.000,9, -999.000,9, -999.000,9, -999.000,9, -999.000,9
           NA,    P03W,    259,   1,-999.0,       8,  2,19850514,1815,  24.3083,  155.2250,  5580,  508.400,    9.457,   34.197,2,   34.201,2, -999.000,9,  163.600,2,   29.430,2,   21.120,2,    0.000,2,    1.470,2,    0.833,2,    0.391,2, -999.000,9, -999.000,9, -999.000,9
           NA,    P03W,    259,   1,-999.0,      34,  2,19850514,1815,  24.3083,  155.2250,  5580,  569.000,    8.337,   34.152,2,   34.158,2, -999.000,9,  142.300,2,   39.310,2,   25.320,2,    0.000,2,    1.780,2, -999.000,9, -999.000,9, -999.000,9, -999.000,9, -999.000,9
           NA,    P03W,    259,   1,-999.0,       9,  2,19850514,1815,  24.3083,  155.2250,  5580,  650.100,    6.783,   34.110,2,   34.113,2, -999.000,9,  110.900,2,   56.810,2,   31.190,2,    0.000,2,    2.150,2,    0.332,2,    0.201,2, -999.000,9, -999.000,9, -999.000,9
           NA,    P03W,    259,   1,-999.0,      35,  2,19850514,1815,  24.3083,  155.2250,  5580,  731.000,    5.506,   34.133,2,   34.136,2, -999.000,9,   79.100,2,   76.460,2,   36.770,2,    0.000,2,    2.530,2, -999.000,9, -999.000,9, -999.000,9, -999.000,9, -999.000,9
           NA,    P03W,    259,   1,-999.0,      10,  2,19850514,1815,  24.3083,  155.2250,  5580,  811.500,    4.907,   34.209,2,   34.212,2, -999.000,9,   55.700,2,   90.540,2,   39.890,2,    0.000,2,    2.700,2, -999.000,9, -999.000,9, -999.000,9, -999.000,9, -999.000,9
           NA,    P03W,    259,   1,-999.0,      11,  2,19850514,1815,  24.3083,  155.2250,  5580,  912.000,    4.191,   34.302,2,   34.304,2, -999.000,9,   47.400,2,  107.450,2,   41.850,2,    0.000,2,    2.830,2, -999.000,9, -999.000,9, -999.000,9, -999.000,9, -999.000,9
           NA,    P03W,    259,   1,-999.0,      12,  2,19850514,1815,  24.3083,  155.2250,  5580, 1062.600,    3.701,   34.416,2,   34.418,2, -999.000,9,   51.700,2,  119.370,2,   42.130,2,    0.000,2,    2.850,2, -999.000,9, -999.000,9, -999.000,9, -999.000,9, -999.000,9
           NA,    P03W,    259,   1,-999.0,      13,  2,19850514,1815,  24.3083,  155.2250,  5580, 1214.500,    3.309,   34.481,2,   34.483,2, -999.000,9,   63.900,2,  126.890,2,   41.640,2,    0.000,2,    2.810,2, -999.000,9, -999.000,9, -999.000,9, -999.000,9, -999.000,9
           NA,    P03W,    259,   1,-999.0,      14,  2,19850514,1815,  24.3083,  155.2250,  5580, 1416.700,    2.815,   34.519,2,   34.520,2, -999.000,9,   70.000,2,  137.540,2,   41.550,2,    0.000,2,    2.800,2, -999.000,9, -999.000,9, -999.000,9, -999.000,9, -999.000,9
           NA,    P03W,    259,   1,-999.0,      15,  2,19850514,1815,  24.3083,  155.2250,  5580, 1617.900,    2.435,   34.554,2,   34.555,2, -999.000,9,   79.100,2,  145.160,2,   41.250,2,    0.000,2,    2.760,2, -999.000,9, -999.000,9, -999.000,9, -999.000,9, -999.000,9
           NA,    P03W,    259,   1,-999.0,      16,  2,19850514,1815,  24.3083,  155.2250,  5580, 1820.400,    2.174,   34.582,2,   34.585,2, -999.000,9,   88.200,2,  149.460,2,   40.760,2,    0.000,2,    2.730,2, -999.000,9, -999.000,9, -999.000,9, -999.000,9, -999.000,9
           NA,    P03W,    259,   1,-999.0,      17,  2,19850514,1815,  24.3083,  155.2250,  5580, 2022.600,    1.937,   34.608,2,   34.611,2, -999.000,9,   99.500,2,  152.490,2,   40.080,2,    0.000,2,    2.680,2, -999.000,9, -999.000,9, -999.000,9, -999.000,9, -999.000,9
           NA,    P03W,    259,   1,-999.0,      18,  2,19850514,1815,  24.3083,  155.2250,  5580, 2324.900,    1.748,   34.634,2,   34.636,2, -999.000,9,  115.600,2,  152.780,2,   39.200,2,    0.000,2,    2.610,2, -999.000,9, -999.000,9, -999.000,9, -999.000,9, -999.000,9
           NA,    P03W,    259,   1,-999.0,      39,  2,19850514,1815,  24.3083,  155.2250,  5580, 2728.200,    1.619,   34.653,2,   34.654,2, -999.000,9,  127.800,2,  151.410,2,   38.320,2,    0.000,2,    2.550,2, -999.000,9, -999.000,9, -999.000,9, -999.000,9, -999.000,9
           NA,    P03W,    259,   1,-999.0,      20,  2,19850514,1815,  24.3083,  155.2250,  5580, 3131.900,    1.535,   34.665,2, -999.000,5, -999.000,9,  137.700,2,  150.620,2,   37.530,2,    0.000,2,    2.500,2, -999.000,9, -999.000,9, -999.000,9, -999.000,9, -999.000,9
           NA,    P03W,    259,   1,-999.0,      21,  2,19850514,1815,  24.3083,  155.2250,  5580, 3538.600,    1.492,   34.674,2,   34.675,2, -999.000,9,  146.900,2,  148.960,2,   37.040,2,    0.000,2,    2.460,2, -999.000,9, -999.000,9, -999.000,9, -999.000,9, -999.000,9
           NA,    P03W,    259,   1,-999.0,      22,  2,19850514,1815,  24.3083,  155.2250,  5580, 3952.700,    1.459,   34.680,2,   34.682,2, -999.000,9,  153.800,2,  147.590,2,   36.560,2,    0.000,2,    2.420,2, -999.000,9, -999.000,9, -999.000,9, -999.000,9, -999.000,9
           NA,    P03W,    259,   1,-999.0,      23,  2,19850514,1815,  24.3083,  155.2250,  5580, 4361.400,    1.456,   34.683,2,   34.686,2, -999.000,9,  159.500,2,  144.850,2,   35.970,2,    0.000,2,    2.380,2, -999.000,9, -999.000,9, -999.000,9, -999.000,9, -999.000,9
           NA,    P03W,    259,   1,-999.0,      36,  2,19850514,1815,  24.3083,  155.2250,  5580, 4773.200,    1.477,   34.688,2,   34.687,2, -999.000,9,  164.200,2,  142.210,2,   35.870,2,    0.000,2,    2.390,2, -999.000,9, -999.000,9, -999.000,9, -999.000,9, -999.000,9
           NA,    P03W,    259,   1,-999.0,      24,  2,19850514,1815,  24.3083,  155.2250,  5580, 5183.000,    1.496,   34.689,2,   34.691,2, -999.000,9,  169.500,2,  138.890,2,   35.580,2,    0.000,2,    2.340,2, -999.000,9, -999.000,9, -999.000,9, -999.000,9, -999.000,9
           NA,    P03W,    257,   1,-999.0,       1,  2,19850514,1001,  24.2383,  156.0700,  5656,    2.600,   26.187,   35.039,2,   35.047,2, -999.000,9,  207.200,2,    1.690,2,    0.100,2,    0.000,2,    0.010,2,    1.435,2,    0.745,2, -999.000,9, -999.000,9, -999.000,9
           NA,    P03W,    257,   1,-999.0,       2,  2,19850514,1001,  24.2383,  156.0700,  5656,   24.100,   25.318,   35.067,2,   35.059,2, -999.000,9,  211.700,2,    1.610,2,    0.100,2,    0.000,2,    0.000,2, -999.000,9, -999.000,9, -999.000,9, -999.000,9, -999.000,9
           NA,    P03W,    257,   1,-999.0,       3,  2,19850514,1001,  24.2383,  156.0700,  5656,   44.600,   24.492,   35.122,2,   35.126,2, -999.000,9,  216.900,2,    1.520,2,    0.110,2,    0.000,2,    0.000,2, -999.000,9, -999.000,9, -999.000,9, -999.000,9, -999.000,9
           NA,    P03W,    257,   1,-999.0,       4,  2,19850514,1001,  24.2383,  156.0700,  5656,   74.600,   21.933,   35.018,2,   35.019,2, -999.000,9,  214.900,2,    1.650,2,    0.060,2,    0.000,2,    0.020,2,    1.663,2,    0.861,2, -999.000,9, -999.000,9, -999.000,9
           NA,    P03W,    257,   1,-999.0,       5,  2,19850514,1001,  24.2383,  156.0700,  5656,  105.400,   20.575,   34.960,2,   34.961,2, -999.000,9,  209.200,2,    1.780,2,    0.340,2,    0.010,2,    0.060,2, -999.000,9, -999.000,9, -999.000,9, -999.000,9, -999.000,9
           NA,    P03W,    257,   1,-999.0,       6,  2,19850514,1001,  24.2383,  156.0700,  5656,  145.200,   18.372,   34.852,2,   34.854,2, -999.000,9,  202.000,2,    2.980,2,    2.930,2,    0.010,2,    0.230,2,    1.747,2,    0.863,2, -999.000,9, -999.000,9, -999.000,9
           NA,    P03W,    257,   1,-999.0,       7,  2,19850514,1001,  24.2383,  156.0700,  5656,  185.700,   17.219,   34.791,2,   34.789,2, -999.000,9,  204.800,2,    3.750,2,    4.420,2,    0.000,2,    0.310,2,    1.797,2,    0.880,2, -999.000,9, -999.000,9, -999.000,9
           NA,    P03W,    257,   1,-999.0,       8,  2,19850514,1001,  24.2383,  156.0700,  5656,  235.300,   16.136,   34.731,2,   34.729,2, -999.000,9,  210.900,2,    5.150,2,    5.770,2,    0.000,2,    0.390,2,    1.796,2,    0.878,2, -999.000,9, -999.000,9, -999.000,9
           NA,    P03W,    257,   1,-999.0,       9,  2,19850514,1001,  24.2383,  156.0700,  5656,  285.600,   15.376,   34.680,2,   34.678,2, -999.000,9,  210.600,2,    6.980,2,    6.780,2,    0.000,2,    0.460,2,    1.778,2,    0.877,2, -999.000,9, -999.000,9, -999.000,9
           NA,    P03W,    257,   1,-999.0,      10,  2,19850514,1001,  24.2383,  156.0700,  5656,  335.100,   14.328,   34.581,2,   34.581,2, -999.000,9,  201.100,2,    9.660,2,    9.530,2,    0.000,2,    0.640,2,    1.561,2, -999.000,9, -999.000,9, -999.000,9, -999.000,9
           NA,    P03W,    257,   1,-999.0,      11,  2,19850514,1001,  24.2383,  156.0700,  5656,  384.600,   13.068,   34.470,2,   34.470,2, -999.000,9,  197.400,2,   13.830,2,   11.810,2,    0.000,2,    0.800,2,    1.418,2,    0.662,2, -999.000,9, -999.000,9, -999.000,9
           NA,    P03W,    257,   1,-999.0,      12,  2,19850514,1001,  24.2383,  156.0700,  5656,  444.100,   11.538,   34.343,2,   34.344,2, -999.000,9,  193.500,2,   18.410,2,   14.830,2,    0.000,2,    1.000,2,    1.309,6,    0.642,6, -999.000,9, -999.000,9, -999.000,9
           NA,    P03W,    257,   1,-999.0,      13,  2,19850514,1001,  24.2383,  156.0700,  5656,  505.500,    9.586,   34.200,2,   34.201,2, -999.000,9,  182.000,2,   28.510,2,   19.450,2,    0.000,2,    1.320,2,    1.137,2,    0.536,2, -999.000,9, -999.000,9, -999.000,9
           NA,    P03W,    257,   1,-999.0,      14,  2,19850514,1001,  24.2383,  156.0700,  5656,  565.700,    8.156,   34.113,2,   34.114,2, -999.000,9,  166.200,2,   39.030,2,   23.740,2,    0.000,2,    1.600,2, -999.000,9, -999.000,9, -999.000,9, -999.000,9, -999.000,9
           NA,    P03W,    257,   1,-999.0,      15,  2,19850514,1001,  24.2383,  156.0700,  5656,  645.500,    6.667,   34.061,2,   34.061,2, -999.000,9,  137.000,2,   54.620,2,   29.060,2,    0.000,2,    1.970,2,    0.666,2,    0.329,2, -999.000,9, -999.000,9, -999.000,9
           NA,    P03W,    257,   1,-999.0,      16,  2,19850514,1001,  24.2383,  156.0700,  5656,  725.200,    5.259,   34.088,2,   34.086,2, -999.000,9,   92.600,2,   77.830,2,   35.760,2,    0.000,2,    2.440,2,    0.311,2,    0.154,2, -999.000,9, -999.000,9, -999.000,9
           NA,    P03W,    257,   1,-999.0,      17,  2,19850514,1001,  24.2383,  156.0700,  5656,  803.300,    4.902,   34.188,2,   34.187,2, -999.000,9,   60.500,2,   90.400,2,   39.050,2,    0.000,2,    2.640,2, -999.000,9, -999.000,9, -999.000,9, -999.000,9, -999.000,9
           NA,    P03W,    257,   1,-999.0,      18,  2,19850514,1001,  24.2383,  156.0700,  5656,  898.500,    4.384,   34.280,2,   34.280,2, -999.000,9,   45.900,2,  104.240,2,   41.480,2,    0.000,2,    2.790,2,    0.011,2, -999.000,9, -999.000,9, -999.000,9, -999.000,9
           NA,    P03W,    257,   1,-999.0,      39,  2,19850514,1001,  24.2383,  156.0700,  5656, 1046.300,    3.772,   34.402,2,   34.400,2, -999.000,9,   46.800,2,  118.900,2,   42.180,2,    0.000,2,    2.830,2,   -0.004,2,    0.014,2, -999.000,9, -999.000,9, -999.000,9
           NA,    P03W,    257,   1,-999.0,      20,  2,19850514,1001,  24.2383,  156.0700,  5656, 1201.100,    3.312,   34.476,2,   34.476,2, -999.000,9,   59.000,2,  127.610,2,   41.300,2,    0.000,2,    2.790,2,    0.001,2, -999.000,9, -999.000,9, -999.000,9, -999.000,9
           NA,    P03W,    257,   1,-999.0,      21,  2,19850514,1001,  24.2383,  156.0700,  5656, 1405.100,    2.802,   34.526,2,   34.524,2, -999.000,9,   72.800,2,  138.020,2,   41.240,2,    0.000,2,    2.760,2, -999.000,9, -999.000,9, -999.000,9, -999.000,9, -999.000,9
           NA,    P03W,    257,   1,-999.0,      22,  2,19850514,1001,  24.2383,  156.0700,  5656, 1610.300,    2.437,   34.562,2,   34.563,2, -999.000,9,   84.400,2,  145.450,2,   40.640,2,    0.000,2,    2.720,2, -999.000,9, -999.000,9, -999.000,9, -999.000,9, -999.000,9
           NA,    P03W,    257,   1,-999.0,      23,  2,19850514,1001,  24.2383,  156.0700,  5656, 1816.000,    2.200,   34.589,2,   34.589,2, -999.000,9,   94.200,2,  148.220,2,   40.210,2,    0.000,2,    2.670,2, -999.000,9, -999.000,9, -999.000,9, -999.000,9, -999.000,9
           NA,    P03W,    257,   1,-999.0,      24,  2,19850514,1001,  24.2383,  156.0700,  5656, 2017.600,    2.000,   34.611,2,   34.611,2, -999.000,9,  103.700,2,  151.200,2,   39.830,2,    0.000,2,    2.650,2, -999.000,9, -999.000,9, -999.000,9, -999.000,9, -999.000,9
           NA,    P03W,    257,   1,-999.0,      25,  2,19850514,1001,  24.2383,  156.0700,  5656, 2217.700,    1.850,   34.626,2,   34.627,2, -999.000,9,  111.900,2,  153.120,2,   39.390,2,    0.000,2,    2.600,2, -999.000,9, -999.000,9, -999.000,9, -999.000,9, -999.000,9
           NA,    P03W,    257,   1,-999.0,      26,  2,19850514,1001,  24.2383,  156.0700,  5656, 2522.900,    1.704,   34.645,2,   34.646,2, -999.000,9,  121.700,2,  153.560,2,   38.530,2,    0.000,2,    2.550,2, -999.000,9, -999.000,9, -999.000,9, -999.000,9, -999.000,9
           NA,    P03W,    257,   1,-999.0,      27,  2,19850514,1001,  24.2383,  156.0700,  5656, 2827.500,    1.616,   34.656,2,   34.656,2, -999.000,9,  131.200,2,  153.160,2,   37.940,2,    0.000,2,    2.510,2, -999.000,9, -999.000,9, -999.000,9, -999.000,9, -999.000,9
           NA,    P03W,    257,   1,-999.0,      28,  2,19850514,1001,  24.2383,  156.0700,  5656, 3130.600,    1.558,   34.665,2,   34.664,2, -999.000,9,  137.800,2,  151.920,2,   37.460,2,    0.000,2,    2.490,2, -999.000,9, -999.000,9, -999.000,9, -999.000,9, -999.000,9
           NA,    P03W,    257,   1,-999.0,      29,  2,19850514,1001,  24.2383,  156.0700,  5656, 3434.800,    1.518,   34.671,2,   34.671,2, -999.000,9,  144.900,2,  150.880,2,   37.140,2,    0.000,2,    2.450,2, -999.000,9, -999.000,9, -999.000,9, -999.000,9, -999.000,9
           NA,    P03W,    257,   1,-999.0,      30,  2,19850514,1001,  24.2383,  156.0700,  5656, 3742.400,    1.485,   34.676,2,   34.676,2, -999.000,9,  150.000,2,  150.280,2,   36.710,2,    0.000,2,    2.420,2, -999.000,9, -999.000,9, -999.000,9, -999.000,9, -999.000,9
           NA,    P03W,    257,   1,-999.0,      31,  2,19850514,1001,  24.2383,  156.0700,  5656, 4047.300,    1.468,   34.681,2,   34.681,2, -999.000,9,  154.900,2,  147.150,2,   36.390,2,    0.000,2,    2.410,2, -999.000,9, -999.000,9, -999.000,9, -999.000,9, -999.000,9
           NA,    P03W,    257,   1,-999.0,      32,  2,19850514,1001,  24.2383,  156.0700,  5656, 4350.800,    1.465,   34.684,2,   34.685,2, -999.000,9,  160.900,2,  144.860,2,   35.810,2,    0.000,2,    2.380,2, -999.000,9, -999.000,9, -999.000,9, -999.000,9, -999.000,9
           NA,    P03W,    257,   1,-999.0,      33,  2,19850514,1001,  24.2383,  156.0700,  5656, 4706.000,    1.474,   34.687,2,   34.686,2, -999.000,9,  164.100,2,  142.370,2,   35.700,2,    0.000,2,    2.360,2, -999.000,9, -999.000,9, -999.000,9, -999.000,9, -999.000,9
           NA,    P03W,    257,   1,-999.0,      34,  2,19850514,1001,  24.2383,  156.0700,  5656, 5059.300,    1.491,   34.689,2,   34.690,2, -999.000,9,  168.600,2,  139.670,2,   35.010,2,    0.000,2,    2.340,2, -999.000,9, -999.000,9, -999.000,9, -999.000,9, -999.000,9
           NA,    P03W,    257,   1,-999.0,      35,  2,19850514,1001,  24.2383,  156.0700,  5656, 5465.400,    1.522,   34.690,2,   34.692,2, -999.000,9,  174.000,2,  136.770,2,   35.110,2,    0.000,2,    2.340,2, -999.000,9, -999.000,9, -999.000,9, -999.000,9, -999.000,9
           NA,    P03W,    257,   1,-999.0,      36,  2,19850514,1001,  24.2383,  156.0700,  5656, 5755.800,    1.541,   34.693,2,   34.692,2, -999.000,9,  176.400,2,  135.120,2,   34.850,2,    0.000,2,    2.320,2, -999.000,9, -999.000,9, -999.000,9, -999.000,9, -999.000,9