BOTTLE,20203103JOAExport
EXPOCODE,SECT_ID,STNNBR,CASTNO,SAMPNO,BTLNBR,BTLNBR_FLAG_W,DATE,TIME,LATITUDE,LONGITUDE,DEPTH,CTDPRS,CTDTMP,CTDSAL,CTDSAL_FLAG_W,SALNTY,SALNTY_FLAG_W,CTDOXY,CTDOXY_FLAG_W,OXYGEN,OXYGEN_FLAG_W,SILCAT,SILCAT_FLAG_W,NITRAT,NITRAT_FLAG_W,NITRIT,NITRIT_FLAG_W,PHSPHT,PHSPHT_FLAG_W,CFC-11,CFC-11_FLAG_W,CFC-12,CFC-12_FLAG_W,SF6,SF6_FLAG_W,TCARBN,TCARBN_FLAG_W,ALKALI,ALKALI_FLAG_W
,,,,,,,,,,,,,DB,ITS-90,PSS-78,,PSS-78,,UMOL/KG,,UMOL/KG,,UMOL/KG,,UMOL/KG,,UMOL/KG,,UMOL/KG,,PMOL/KG,,PMOL/KG,,FMOL/KG,,UMOL/KG,,UMOL/KG
           NA,    P03W,    295,   1,-999.0,       4,  2,19850520,1415,  24.2500,  143.2283,  4645,    3.000,   24.373,   34.884,2,   34.887,2, -999.000,9,  215.100,2,    2.350,2,    0.240,2,    0.000,2,    0.070,2, -999.000,9, -999.000,9, -999.000,9, -999.000,9, -999.000,9
           NA,    P03W,    295,   1,-999.0,      38,  2,19850520,1415,  24.2500,  143.2283,  4645,   22.800,   24.196,   34.886,2,   34.886,2, -999.000,9,  216.900,2,    2.250,2,    0.240,2,    0.000,2,    0.070,2, -999.000,9, -999.000,9, -999.000,9, -999.000,9, -999.000,9
           NA,    P03W,    295,   1,-999.0,       3,  2,19850520,1415,  24.2500,  143.2283,  4645,   43.900,   22.098,   34.872,2,   34.870,2, -999.000,9,  228.900,2,    2.250,2,    0.240,2,    0.000,2,    0.070,2, -999.000,9, -999.000,9, -999.000,9, -999.000,9, -999.000,9
           NA,    P03W,    295,   1,-999.0,       1,  2,19850520,1415,  24.2500,  143.2283,  4645,   73.900,   19.286,   34.853,2,   34.854,2, -999.000,9,  232.700,2,    2.350,2,    0.240,2,    0.000,2,    0.100,2, -999.000,9, -999.000,9, -999.000,9, -999.000,9, -999.000,9
           NA,    P03W,    295,   1,-999.0,       5,  2,19850520,1415,  24.2500,  143.2283,  4645,  104.100,   18.032,   34.822,2,   34.822,2, -999.000,9,  214.800,2,    2.930,2,    2.740,2,    0.110,2,    0.240,2, -999.000,9, -999.000,9, -999.000,9, -999.000,9, -999.000,9
           NA,    P03W,    295,   1,-999.0,       6,  2,19850520,1415,  24.2500,  143.2283,  4645,  143.800,   17.449,   34.801,2,   34.801,2, -999.000,9,  206.000,2,    4.300,2,    4.540,2,    0.030,2,    0.350,2, -999.000,9, -999.000,9, -999.000,9, -999.000,9, -999.000,9
           NA,    P03W,    295,   1,-999.0,       7,  2,19850520,1415,  24.2500,  143.2283,  4645,  182.600,   16.742,   34.774,2,   34.773,2, -999.000,9,  204.700,2, -999.000,5, -999.000,5, -999.000,5, -999.000,5, -999.000,9, -999.000,9, -999.000,9, -999.000,9, -999.000,9
           NA,    P03W,    295,   1,-999.0,       8,  2,19850520,1415,  24.2500,  143.2283,  4645,  232.400,   15.975,   34.729,2,   34.728,2, -999.000,9,  204.700,2,    6.260,2,    6.930,2,    0.010,2,    0.500,2, -999.000,9, -999.000,9, -999.000,9, -999.000,9, -999.000,9
           NA,    P03W,    295,   1,-999.0,       9,  2,19850520,1415,  24.2500,  143.2283,  4645,  283.000,   15.157,   34.664,2,   34.663,2, -999.000,9,  201.200,2,    8.500,2,    8.340,2,    0.000,2,    0.590,2, -999.000,9, -999.000,9, -999.000,9, -999.000,9, -999.000,9
           NA,    P03W,    295,   1,-999.0,      10,  2,19850520,1415,  24.2500,  143.2283,  4645,  334.000,   14.206,   34.581,2,   34.579,2, -999.000,9,  194.600,2,   12.120,2,   10.560,2,    0.000,2,    0.750,2, -999.000,9, -999.000,9, -999.000,9, -999.000,9, -999.000,9
           NA,    P03W,    295,   1,-999.0,      11,  2,19850520,1415,  24.2500,  143.2283,  4645,  383.900,   13.206,   34.495,2,   34.494,2, -999.000,9,  189.800,2,   15.350,2,   12.710,2,    0.000,2,    0.880,2, -999.000,9, -999.000,9, -999.000,9, -999.000,9, -999.000,9
           NA,    P03W,    295,   1,-999.0,      12,  2,19850520,1415,  24.2500,  143.2283,  4645,  444.300,   11.788,   34.380,2,   34.379,2, -999.000,9,  183.200,2,   20.530,2,   15.450,2,    0.000,2,    1.090,2, -999.000,9, -999.000,9, -999.000,9, -999.000,9, -999.000,9
           NA,    P03W,    295,   1,-999.0,      13,  2,19850520,1415,  24.2500,  143.2283,  4645,  505.500,    9.826,   34.241,2,   34.234,2, -999.000,9,  171.900,2,   30.800,2,   20.140,2,    0.000,2,    1.430,2, -999.000,9, -999.000,9, -999.000,9, -999.000,9, -999.000,9
           NA,    P03W,    295,   1,-999.0,      14,  2,19850520,1415,  24.2500,  143.2283,  4645,  567.000,    8.423,   34.158,2,   34.161,2, -999.000,9,  159.700,2,   40.380,2,   23.560,2,    0.000,2,    1.670,2, -999.000,9, -999.000,9, -999.000,9, -999.000,9, -999.000,9
           NA,    P03W,    295,   1,-999.0,      15,  2,19850520,1415,  24.2500,  143.2283,  4645,  647.600,    7.096,   34.119,2,   34.116,2, -999.000,9,  130.100,2,   54.760,2,   28.750,2,    0.000,2,    2.040,2, -999.000,9, -999.000,9, -999.000,9, -999.000,9, -999.000,9
           NA,    P03W,    295,   1,-999.0,      16,  2,19850520,1415,  24.2500,  143.2283,  4645,  726.600,    5.662,   34.120,2,   34.118,2, -999.000,9,   99.200,2,   73.430,2,   34.130,2,    0.000,2,    2.390,2, -999.000,9, -999.000,9, -999.000,9, -999.000,9, -999.000,9
           NA,    P03W,    295,   1,-999.0,      17,  2,19850520,1415,  24.2500,  143.2283,  4645,  802.900,    4.899,   34.177,2,   34.176,2, -999.000,9,   74.400,2,   89.270,2,   37.640,2,    0.000,2,    2.630,2, -999.000,9, -999.000,9, -999.000,9, -999.000,9, -999.000,9
           NA,    P03W,    295,   1,-999.0,      18,  2,19850520,1415,  24.2500,  143.2283,  4645,  902.300,    4.189,   34.273,2,   34.273,2, -999.000,9,   52.600,2,  106.770,2,   40.580,2,    0.000,2,    2.760,2, -999.000,9, -999.000,9, -999.000,9, -999.000,9, -999.000,9
           NA,    P03W,    295,   1,-999.0,      39,  2,19850520,1415,  24.2500,  143.2283,  4645, 1046.300,    3.714,   34.356,2,   34.356,2, -999.000,9,   47.400,2,  119.370,2,   41.750,2,    0.000,2,    2.880,2, -999.000,9, -999.000,9, -999.000,9, -999.000,9, -999.000,9
           NA,    P03W,    295,   1,-999.0,      20,  2,19850520,1415,  24.2500,  143.2283,  4645, 1191.100,    3.207,   34.434,2,   34.436,2, -999.000,9,   50.000,2,  132.070,2,   41.740,2,    0.000,2,    2.880,2, -999.000,9, -999.000,9, -999.000,9, -999.000,9, -999.000,9
           NA,    P03W,    295,   1,-999.0,      21,  2,19850520,1415,  24.2500,  143.2283,  4645, 1372.300,    2.784,   34.487,2,   34.487,2, -999.000,9,   57.800,2,  141.260,2,   42.040,2,    0.000,2,    2.880,2, -999.000,9, -999.000,9, -999.000,9, -999.000,9, -999.000,9
           NA,    P03W,    295,   1,-999.0,      22,  2,19850520,1415,  24.2500,  143.2283,  4645, 1577.100,    2.457,   34.529,2,   34.528,2, -999.000,9,   69.500,2,  146.530,2,   41.550,2,    0.000,2,    2.850,2, -999.000,9, -999.000,9, -999.000,9, -999.000,9, -999.000,9
           NA,    P03W,    295,   1,-999.0,      23,  2,19850520,1415,  24.2500,  143.2283,  4645, 1783.500,    2.143,   34.576,2,   34.573,2, -999.000,9,   87.800,2,  149.070,2,   40.470,2,    0.000,2,    2.780,2, -999.000,9, -999.000,9, -999.000,9, -999.000,9, -999.000,9
           NA,    P03W,    295,   1,-999.0,      24,  2,19850520,1415,  24.2500,  143.2283,  4645, 1985.900,    1.982,   34.600,2,   34.601,2, -999.000,9,  100.400,2,  150.240,2,   39.690,2,    0.000,2,    2.720,2, -999.000,9, -999.000,9, -999.000,9, -999.000,9, -999.000,9
           NA,    P03W,    295,   1,-999.0,      40,  2,19850520,1415,  24.2500,  143.2283,  4645, 2203.000,    1.854,   34.619,2,   34.619,2, -999.000,9,  111.700,2,  149.940,2,   38.900,2,    0.000,2,    2.670,2, -999.000,9, -999.000,9, -999.000,9, -999.000,9, -999.000,9
           NA,    P03W,    295,   1,-999.0,      26,  2,19850520,1415,  24.2500,  143.2283,  4645, 2404.000,    1.777,   34.632,2,   34.630,2, -999.000,9,  117.300,2,  150.430,2,   38.610,2,    0.000,2,    2.660,2, -999.000,9, -999.000,9, -999.000,9, -999.000,9, -999.000,9
           NA,    P03W,    295,   1,-999.0,      27,  2,19850520,1415,  24.2500,  143.2283,  4645, 2604.500,    1.710,   34.643,2,   34.641,2, -999.000,9,  125.600,2,  149.060,2, -999.000,5,    0.000,2,    2.610,2, -999.000,9, -999.000,9, -999.000,9, -999.000,9, -999.000,9
           NA,    P03W,    295,   1,-999.0,      28,  2,19850520,1415,  24.2500,  143.2283,  4645, 2808.700,    1.633,   34.654,2,   34.652,2, -999.000,9,  131.200,2,  149.840,2,   37.920,2,    0.000,2,    2.570,2, -999.000,9, -999.000,9, -999.000,9, -999.000,9, -999.000,9
           NA,    P03W,    295,   1,-999.0,      29,  2,19850520,1415,  24.2500,  143.2283,  4645, 3008.700,    1.559,   34.662,2,   34.661,2, -999.000,9,  139.500,2,  150.130,2,   37.530,2,    0.000,2,    2.560,2, -999.000,9, -999.000,9, -999.000,9, -999.000,9, -999.000,9
           NA,    P03W,    295,   1,-999.0,      30,  2,19850520,1415,  24.2500,  143.2283,  4645, 3210.900,    1.529,   34.667,2,   34.666,2, -999.000,9,  143.400,2,  149.160,2,   37.140,2,    0.000,2,    2.530,2, -999.000,9, -999.000,9, -999.000,9, -999.000,9, -999.000,9
           NA,    P03W,    295,   1,-999.0,      31,  2,19850520,1415,  24.2500,  143.2283,  4645, 3411.500,    1.484,   34.673,2,   34.675,2, -999.000,9,  149.500,2,  147.880,2,   36.850,2,    0.000,2,    2.500,2,    0.009,2, -999.000,9, -999.000,9, -999.000,9, -999.000,9
           NA,    P03W,    295,   1,-999.0,      32,  2,19850520,1415,  24.2500,  143.2283,  4645, 3609.700,    1.448,   34.678,2,   34.679,2, -999.000,9,  154.700,2,  145.730,2,   36.360,2,    0.000,2,    2.450,2, -999.000,9, -999.000,9, -999.000,9, -999.000,9, -999.000,9
           NA,    P03W,    295,   1,-999.0,      33,  2,19850520,1415,  24.2500,  143.2283,  4645, 3804.900,    1.449,   34.680,2,   34.680,2, -999.000,9,  157.300,2,  144.360,2,   36.360,2,    0.000,2,    2.450,2,    0.011,2,    0.003,2, -999.000,9, -999.000,9, -999.000,9
           NA,    P03W,    295,   1,-999.0,      34,  2,19850520,1415,  24.2500,  143.2283,  4645, 4114.200,    1.459,   34.682,2,   34.681,2, -999.000,9,  159.500,2,  143.190,2,   36.070,2,    0.000,2,    2.450,2, -999.000,9, -999.000,9, -999.000,9, -999.000,9, -999.000,9
           NA,    P03W,    295,   1,-999.0,      35,  2,19850520,1415,  24.2500,  143.2283,  4645, 4428.100,    1.458,   34.685,2,   34.685,2, -999.000,9,  164.200,2,  140.850,2,   35.770,2,    0.000,2,    2.430,2, -999.000,9, -999.000,9, -999.000,9, -999.000,9, -999.000,9
           NA,    P03W,    295,   1,-999.0,      37,  2,19850520,1415,  24.2500,  143.2283,  4645, 4727.400,    1.489,   34.686,2,   34.685,2, -999.000,9,  165.100,2,  139.770,2,   35.680,2,    0.000,2,    2.430,2,    0.000,2, -999.000,9, -999.000,9, -999.000,9, -999.000,9