BOTTLE,20203103JOAExport
EXPOCODE,SECT_ID,STNNBR,CASTNO,SAMPNO,BTLNBR,BTLNBR_FLAG_W,DATE,TIME,LATITUDE,LONGITUDE,DEPTH,CTDPRS,CTDTMP,CTDSAL,CTDSAL_FLAG_W,SALNTY,SALNTY_FLAG_W,CTDOXY,CTDOXY_FLAG_W,OXYGEN,OXYGEN_FLAG_W,SILCAT,SILCAT_FLAG_W,NITRAT,NITRAT_FLAG_W,NITRIT,NITRIT_FLAG_W,PHSPHT,PHSPHT_FLAG_W,CFC-11,CFC-11_FLAG_W,CFC-12,CFC-12_FLAG_W,SF6,SF6_FLAG_W,TCARBN,TCARBN_FLAG_W,ALKALI,ALKALI_FLAG_W
,,,,,,,,,,,,,DB,ITS-90,PSS-78,,PSS-78,,UMOL/KG,,UMOL/KG,,UMOL/KG,,UMOL/KG,,UMOL/KG,,UMOL/KG,,PMOL/KG,,PMOL/KG,,FMOL/KG,,UMOL/KG,,UMOL/KG
           NA,    P03E,    130,   1,-999.0,      25,  2,19850420,0521,  25.0967, -162.0350,  3388,    1.200,   22.521,   35.363,2,   35.365,2, -999.000,9,  220.800,2,    0.340,2,    0.000,2,    0.000,2,    0.050,2,    1.734,2,    0.882,2, -999.000,9, -999.000,9, -999.000,9
           NA,    P03E,    130,   1,-999.0,      29,  2,19850420,0521,  25.0967, -162.0350,  3388,   23.000,   22.510,   35.363,2,   35.365,2, -999.000,9,  221.100,2,    0.290,2,    0.000,2,    0.000,2,    0.080,2, -999.000,9, -999.000,9, -999.000,9, -999.000,9, -999.000,9
           NA,    P03E,    130,   1,-999.0,      30,  2,19850420,0521,  25.0967, -162.0350,  3388,   42.900,   22.416,   35.363,2,   35.365,2, -999.000,9,  221.200,2,    0.250,2,    0.000,2,    0.000,2,    0.040,2,    1.744,2,    0.903,2, -999.000,9, -999.000,9, -999.000,9
           NA,    P03E,    130,   1,-999.0,      31,  2,19850420,0521,  25.0967, -162.0350,  3388,   73.500,   21.472,   35.265,2,   35.260,2, -999.000,9,  220.600,2,    1.090,2,    0.000,2,    0.000,2,    0.050,2, -999.000,9, -999.000,9, -999.000,9, -999.000,9, -999.000,9
           NA,    P03E,    130,   1,-999.0,      32,  2,19850420,0521,  25.0967, -162.0350,  3388,  104.000,   20.157,   35.129,2,   35.118,2, -999.000,9,  213.200,2,    1.400,2,    0.330,2,    0.130,2,    0.120,2,    1.774,2,    0.901,2, -999.000,9, -999.000,9, -999.000,9
           NA,    P03E,    130,   1,-999.0,      37,  2,19850420,0521,  25.0967, -162.0350,  3388,  144.000,   17.591,   34.843,2,   34.837,2, -999.000,9,  203.100,2,    3.130,2,    3.560,2,    0.020,2,    0.310,2, -999.000,9, -999.000,9, -999.000,9, -999.000,9, -999.000,9
           NA,    P03E,    130,   1,-999.0,      34,  2,19850420,0521,  25.0967, -162.0350,  3388,  184.800,   16.078,   34.686,2,   34.683,2, -999.000,9,  200.800,2,    4.690,2,    5.640,2,    0.010,2,    0.450,2,    1.804,2,    0.915,2, -999.000,9, -999.000,9, -999.000,9
           NA,    P03E,    130,   1,-999.0,      35,  2,19850420,0521,  25.0967, -162.0350,  3388,  225.200,   14.483,   34.540,2,   34.539,2, -999.000,9,  209.800,2,    6.600,2,    7.310,2,    0.000,2,    0.560,2, -999.000,9, -999.000,9, -999.000,9, -999.000,9, -999.000,9
           NA,    P03E,    130,   1,-999.0,      36,  2,19850420,0521,  25.0967, -162.0350,  3388,  265.000,   13.193,   34.399,2,   34.399,2, -999.000,9,  206.800,2,    8.690,2,    9.530,2,    0.000,2,    0.710,2,    1.796,2,    0.863,2, -999.000,9, -999.000,9, -999.000,9
           NA,    P03E,    130,   1,-999.0,       1,  2,19850420,0521,  25.0967, -162.0350,  3388,  305.800,   12.195,   34.316,2,   34.315,2, -999.000,9,  213.300,2,   10.430,2,   10.970,2,    0.000,2,    0.790,2,    1.854,2,    0.897,2, -999.000,9, -999.000,9, -999.000,9
           NA,    P03E,    130,   1,-999.0,       2,  2,19850420,0521,  25.0967, -162.0350,  3388,  345.900,   11.127,   34.237,2,   34.240,2, -999.000,9,  207.400,2,   13.950,2,   13.430,2,    0.000,2,    0.960,2,    1.646,2,    0.799,2, -999.000,9, -999.000,9, -999.000,9
           NA,    P03E,    130,   1,-999.0,       3,  2,19850420,0521,  25.0967, -162.0350,  3388,  396.100,    9.787,   34.149,2,   34.150,2, -999.000,9,  195.300,2,   20.680,2,   17.640,2,    0.000,2,    1.250,2,    1.294,2,    0.639,2, -999.000,9, -999.000,9, -999.000,9
           NA,    P03E,    130,   1,-999.0,       4,  2,19850420,0521,  25.0967, -162.0350,  3388,  457.300,    8.025,   34.063,2,   34.063,2, -999.000,9,  164.200,2,   34.040,2,   24.120,2,    0.000,2,    1.680,2,    0.785,2,    0.411,2, -999.000,9, -999.000,9, -999.000,9
           NA,    P03E,    130,   1,-999.0,       5,  2,19850420,0521,  25.0967, -162.0350,  3388,  517.800,    6.672,   34.022,2,   34.023,2, -999.000,9,  127.400,2,   49.930,2,   30.300,2,    0.000,2,    2.120,2,    0.383,6,    0.217,6, -999.000,9, -999.000,9, -999.000,9
           NA,    P03E,    130,   1,-999.0,       6,  2,19850420,0521,  25.0967, -162.0350,  3388,  578.500,    6.011,   34.030,2,   34.032,2, -999.000,9,   99.500,2,   61.560,2,   34.280,2,    0.000,2,    2.410,2,    0.202,6,    0.123,2, -999.000,9, -999.000,9, -999.000,9
           NA,    P03E,    130,   1,-999.0,       7,  2,19850420,0521,  25.0967, -162.0350,  3388,  648.700,    5.414,   34.061,2,   34.061,2, -999.000,9,   73.000,2,   72.700,2,   37.570,2,    0.000,2,    2.650,2,    0.091,6,    0.059,6, -999.000,9, -999.000,9, -999.000,9
           NA,    P03E,    130,   1,-999.0,       8,  2,19850420,0521,  25.0967, -162.0350,  3388,  729.800,    4.738,   34.167,2,   34.171,2, -999.000,9,   42.000,2,   90.930,2,   41.360,2,    0.000,2,    2.920,2,    0.024,2,    0.012,2, -999.000,9, -999.000,9, -999.000,9
           NA,    P03E,    130,   1,-999.0,       9,  2,19850420,0521,  25.0967, -162.0350,  3388,  810.000,    4.346,   34.306,2,   34.305,2, -999.000,9,   25.800,2,  103.260,2,   43.360,2,    0.000,2,    3.060,2,    0.005,6,    0.004,2, -999.000,9, -999.000,9, -999.000,9
           NA,    P03E,    130,   1,-999.0,      10,  2,19850420,0521,  25.0967, -162.0350,  3388,  911.500,    4.031,   34.389,2,   34.391,2, -999.000,9,   38.000,2,  110.540,2,   42.950,2,    0.000,2,    3.020,2, -999.000,9, -999.000,9, -999.000,9, -999.000,9, -999.000,9
           NA,    P03E,    130,   1,-999.0,      11,  2,19850420,0521,  25.0967, -162.0350,  3388, 1013.000,    3.681,   34.432,2,   34.433,2, -999.000,9,   41.600,2,  119.680,2,   43.320,2,    0.000,2,    3.040,2,   -0.004,6,    0.001,6, -999.000,9, -999.000,9, -999.000,9
           NA,    P03E,    130,   1,-999.0,      12,  2,19850420,0521,  25.0967, -162.0350,  3388, 1113.600,    3.431,   34.478,2,   34.479,2, -999.000,9,   49.700,2,  124.630,2,   42.870,2,    0.000,2,    3.010,2, -999.000,9, -999.000,9, -999.000,9, -999.000,9, -999.000,9
           NA,    P03E,    130,   1,-999.0,      13,  2,19850420,0521,  25.0967, -162.0350,  3388, 1263.600,    3.094,   34.527,2,   34.527,2, -999.000,9,   60.700,2,  130.880,2,   42.260,2,    0.000,2,    2.960,2, -999.000,9, -999.000,9, -999.000,9, -999.000,9, -999.000,9
           NA,    P03E,    130,   1,-999.0,      14,  2,19850420,0521,  25.0967, -162.0350,  3388, 1412.800,    2.853,   34.550,2,   34.550,2, -999.000,9,   67.000,2,  135.860,2,   42.010,2,    0.000,2,    2.930,2,   -0.005,2,    0.006,2, -999.000,9, -999.000,9, -999.000,9
           NA,    P03E,    130,   1,-999.0,      15,  2,19850420,0521,  25.0967, -162.0350,  3388, 1613.200,    2.474,   34.581,2,   34.580,2, -999.000,9,   77.800,2,  143.640,2,   41.560,2,    0.000,2,    2.890,2, -999.000,9, -999.000,9, -999.000,9, -999.000,9, -999.000,9
           NA,    P03E,    130,   1,-999.0,      16,  2,19850420,0521,  25.0967, -162.0350,  3388, 1816.500,    2.173,   34.602,2,   34.601,2, -999.000,9,   86.200,2,  151.090,2,   41.060,2,    0.000,2,    2.850,2, -999.000,9, -999.000,9, -999.000,9, -999.000,9, -999.000,9
           NA,    P03E,    130,   1,-999.0,      38,  2,19850420,0521,  25.0967, -162.0350,  3388, 2018.700,    1.960,   34.619,2,   34.619,2, -999.000,9,   94.800,2,  155.940,2,   40.560,2,    0.000,2,    2.790,2,    0.011,2,    0.004,2, -999.000,9, -999.000,9, -999.000,9
           NA,    P03E,    130,   1,-999.0,      18,  2,19850420,0521,  25.0967, -162.0350,  3388, 2222.300,    1.809,   34.632,2,   34.632,2, -999.000,9,  103.300,2,  158.560,2,   40.060,2,    0.000,2,    2.750,2, -999.000,9, -999.000,9, -999.000,9, -999.000,9, -999.000,9
           NA,    P03E,    130,   1,-999.0,      19,  2,19850420,0521,  25.0967, -162.0350,  3388, 2427.700,    1.732,   34.641,2,   34.642,2, -999.000,9,  108.800,2,  160.070,2,   39.810,2,    0.000,2,    2.780,2, -999.000,9, -999.000,9, -999.000,9, -999.000,9, -999.000,9
           NA,    P03E,    130,   1,-999.0,      24,  2,19850420,0521,  25.0967, -162.0350,  3388, 2630.200,    1.636,   34.652,2,   34.651,2, -999.000,9,  118.100,2,  160.070,2,   39.160,2,    0.000,2,    2.690,2, -999.000,9, -999.000,9, -999.000,9, -999.000,9, -999.000,9
           NA,    P03E,    130,   1,-999.0,      21,  2,19850420,0521,  25.0967, -162.0350,  3388, 2834.200,    1.559,   34.660,2,   34.660,2, -999.000,9,  126.800,2,  158.940,2,   38.570,2,    0.000,2,    2.640,2, -999.000,9, -999.000,9, -999.000,9, -999.000,9, -999.000,9
           NA,    P03E,    130,   1,-999.0,      39,  2,19850420,0521,  25.0967, -162.0350,  3388, 3036.800,    1.500,   34.668,2,   34.666,2, -999.000,9,  134.100,2,  157.630,2,   38.070,2,    0.000,2,    2.590,2,    0.001,2,   -0.001,2, -999.000,9, -999.000,9, -999.000,9
           NA,    P03E,    130,   1,-999.0,      23,  2,19850420,0521,  25.0967, -162.0350,  3388, 3290.800,    1.492,   34.671,2,   34.670,2, -999.000,9,  137.700,2,  156.510,2,   37.930,2,    0.000,2,    2.570,2, -999.000,9, -999.000,9, -999.000,9, -999.000,9, -999.000,9
           NA,    P03E,    130,   1,-999.0,      20,  2,19850420,0521,  25.0967, -162.0350,  3388, 3545.600,    1.455,   34.677,2,   34.677,2, -999.000,9,  144.800,2,  154.640,2,   37.430,2,    0.000,2,    2.540,2, -999.000,9, -999.000,9, -999.000,9, -999.000,9, -999.000,9
           NA,    P03E,    128,   2,-999.0,      25,  2,19850419,2222,  24.8933, -161.2567,  4377,    0.000,   22.411,   35.367,2,   35.370,2, -999.000,9,  221.500,2,    0.670,2,    0.000,2,    0.000,2,    0.070,2, -999.000,9, -999.000,9, -999.000,9, -999.000,9, -999.000,9
           NA,    P03E,    128,   2,-999.0,      26,  2,19850419,2222,  24.8933, -161.2567,  4377,   24.200,   22.315,   35.367,2,   35.368,2, -999.000,9,  220.600,2,    0.640,2,    0.000,2,    0.000,2,    0.050,2, -999.000,9, -999.000,9, -999.000,9, -999.000,9, -999.000,9
           NA,    P03E,    128,   2,-999.0,      27,  2,19850419,2222,  24.8933, -161.2567,  4377,   44.300,   22.303,   35.367,2,   35.368,2, -999.000,9,  221.000,2,    0.430,2,    0.000,2,    0.000,2,    0.040,2, -999.000,9, -999.000,9, -999.000,9, -999.000,9, -999.000,9
           NA,    P03E,    128,   2,-999.0,      28,  2,19850419,2222,  24.8933, -161.2567,  4377,   74.600,   22.050,   35.330,2,   35.330,2, -999.000,9,  220.600,2,    0.580,2,    0.000,2,    0.000,2,    0.070,2, -999.000,9, -999.000,9, -999.000,9, -999.000,9, -999.000,9
           NA,    P03E,    128,   2,-999.0,      29,  2,19850419,2222,  24.8933, -161.2567,  4377,  105.100,   20.128,   35.120,2,   35.121,2, -999.000,9,  212.700,2,    0.920,2,    0.420,2,    0.070,2,    0.110,2, -999.000,9, -999.000,9, -999.000,9, -999.000,9, -999.000,9
           NA,    P03E,    128,   2,-999.0,      30,  2,19850419,2222,  24.8933, -161.2567,  4377,  145.700,   18.207,   34.907,2,   34.900,2, -999.000,9,  202.600,2,    2.540,2,    3.050,2,    0.030,2,    0.260,2, -999.000,9, -999.000,9, -999.000,9, -999.000,9, -999.000,9
           NA,    P03E,    128,   2,-999.0,      31,  2,19850419,2222,  24.8933, -161.2567,  4377,  186.000,   16.276,   34.710,2,   34.701,2, -999.000,9,  206.400,2,    4.160,2,    4.980,2,    0.010,2,    0.400,2, -999.000,9, -999.000,9, -999.000,9, -999.000,9, -999.000,9
           NA,    P03E,    128,   2,-999.0,      32,  2,19850419,2222,  24.8933, -161.2567,  4377,  226.300,   14.256,   34.498,2,   34.494,2, -999.000,9,  199.800,2,    7.610,2,    8.230,2,    0.010,2,    0.620,2, -999.000,9, -999.000,9, -999.000,9, -999.000,9, -999.000,9
           NA,    P03E,    128,   2,-999.0,      37,  2,19850419,2222,  24.8933, -161.2567,  4377,  266.700,   13.127,   34.418,2,   34.422,2, -999.000,9,  212.900,2,    9.410,2,    9.520,2,    0.010,2,    0.700,2, -999.000,9, -999.000,9, -999.000,9, -999.000,9, -999.000,9
           NA,    P03E,    128,   2,-999.0,      34,  2,19850419,2222,  24.8933, -161.2567,  4377,  307.000,   12.089,   34.332,2,   34.334,2, -999.000,9,  211.100,2,   11.760,2,   11.400,2,    0.000,2,    0.820,2, -999.000,9, -999.000,9, -999.000,9, -999.000,9, -999.000,9
           NA,    P03E,    128,   2,-999.0,      35,  2,19850419,2222,  24.8933, -161.2567,  4377,  347.200,   11.237,   34.264,2,   34.277,2, -999.000,9,  207.600,2,   15.020,2,   13.430,2,    0.000,2,    0.960,2, -999.000,9, -999.000,9, -999.000,9, -999.000,9, -999.000,9
           NA,    P03E,    128,   2,-999.0,      36,  2,19850419,2222,  24.8933, -161.2567,  4377,  397.400,   10.007,   34.184,2,   34.198,2, -999.000,9,  198.900,2,   20.660,2,   16.850,2,    0.000,2,    1.180,2, -999.000,9, -999.000,9, -999.000,9, -999.000,9, -999.000,9
           NA,    P03E,    128,   2,-999.0,       2,  2,19850419,2222,  24.8933, -161.2567,  4377,  528.900,    7.173,   34.027,2,   34.028,2, -999.000,9,  149.600,2,   42.440,2,   26.870,2,    0.000,2,    1.880,2, -999.000,9, -999.000,9, -999.000,9, -999.000,9, -999.000,9
           NA,    P03E,    128,   2,-999.0,       3,  2,19850419,2222,  24.8933, -161.2567,  4377,  609.300,    5.606,   34.031,2,   34.030,2, -999.000,9,   87.900,2,   67.040,2,   35.490,2,    0.000,2,    2.490,2, -999.000,9, -999.000,9, -999.000,9, -999.000,9, -999.000,9
           NA,    P03E,    128,   2,-999.0,       4,  2,19850419,2222,  24.8933, -161.2567,  4377,  710.500,    4.858,   34.125,2,   34.126,2, -999.000,9,   46.500,2,   86.750,2,   40.460,2,    0.000,2,    2.870,2, -999.000,9, -999.000,9, -999.000,9, -999.000,9, -999.000,9
           NA,    P03E,    128,   2,-999.0,       5,  2,19850419,2222,  24.8933, -161.2567,  4377,  811.400,    4.431,   34.220,2,   34.217,2, -999.000,9,   32.600,2,   99.850,2,   42.280,2,    0.000,2,    2.970,2, -999.000,9, -999.000,9, -999.000,9, -999.000,9, -999.000,9
           NA,    P03E,    128,   2,-999.0,       6,  2,19850419,2222,  24.8933, -161.2567,  4377,  912.300,    4.108,   34.349,2,   34.352,2, -999.000,9,   30.900,2,  110.200,2,   42.930,2,    0.000,2,    3.020,2, -999.000,9, -999.000,9, -999.000,9, -999.000,9, -999.000,9
           NA,    P03E,    128,   2,-999.0,       7,  2,19850419,2222,  24.8933, -161.2567,  4377, 1013.800,    3.820,   34.432,2,   34.434,2, -999.000,9,   41.300,2,  116.280,2,   42.570,2,    0.000,2,    2.990,2,    0.010,6,    0.002,2, -999.000,9, -999.000,9, -999.000,9
           NA,    P03E,    128,   2,-999.0,       8,  2,19850419,2222,  24.8933, -161.2567,  4377, 1164.800,    3.435,   34.495,2,   34.497,2, -999.000,9,   52.200,2,  125.550,2,   42.320,2,    0.000,2,    2.970,2, -999.000,9, -999.000,9, -999.000,9, -999.000,9, -999.000,9
           NA,    P03E,    128,   2,-999.0,       9,  2,19850419,2222,  24.8933, -161.2567,  4377, 1315.200,    3.139,   34.526,2,   34.526,2, -999.000,9,   59.100,2,  131.480,2,   41.960,2,    0.000,2,    2.940,2, -999.000,9, -999.000,9, -999.000,9, -999.000,9, -999.000,9
           NA,    P03E,    128,   2,-999.0,      10,  2,19850419,2222,  24.8933, -161.2567,  4377, 1514.700,    2.775,   34.557,2,   34.557,2, -999.000,9,   69.100,2,  139.670,2,   41.550,2,    0.000,2,    2.900,2, -999.000,9, -999.000,9, -999.000,9, -999.000,9, -999.000,9
           NA,    P03E,    128,   2,-999.0,      11,  2,19850419,2222,  24.8933, -161.2567,  4377, 1714.500,    2.470,   34.582,2,   34.582,2, -999.000,9,   76.500,2,  147.510,2,   41.200,2,    0.000,2,    2.870,2, -999.000,9, -999.000,9, -999.000,9, -999.000,9, -999.000,9
           NA,    P03E,    128,   2,-999.0,      12,  2,19850419,2222,  24.8933, -161.2567,  4377, 1919.100,    2.167,   34.605,2,   34.605,2, -999.000,9,   84.700,2,  153.670,2,   40.740,2,    0.000,2,    2.820,2, -999.000,9, -999.000,9, -999.000,9, -999.000,9, -999.000,9
           NA,    P03E,    128,   2,-999.0,      13,  2,19850419,2222,  24.8933, -161.2567,  4377, 2122.300,    1.944,   34.622,2,   34.623,2, -999.000,9,   92.600,2,  159.650,2,   40.440,2,    0.000,2,    2.770,2, -999.000,9, -999.000,9, -999.000,9, -999.000,9, -999.000,9
           NA,    P03E,    128,   2,-999.0,      14,  2,19850419,2222,  24.8933, -161.2567,  4377, 2274.800,    1.821,   34.633,2,   34.632,2, -999.000,9,  102.600,2,  160.890,2,   39.840,2,    0.000,2,    2.730,2, -999.000,9, -999.000,9, -999.000,9, -999.000,9, -999.000,9
           NA,    P03E,    128,   2,-999.0,      15,  2,19850419,2222,  24.8933, -161.2567,  4377, 2428.300,    1.748,   34.640,2,   34.640,2, -999.000,9,  108.600,2,  161.740,2, -999.000,5,    0.000,2,    2.690,2, -999.000,9, -999.000,9, -999.000,9, -999.000,9, -999.000,9
           NA,    P03E,    128,   2,-999.0,      16,  2,19850419,2222,  24.8933, -161.2567,  4377, 2580.400,    1.689,   34.647,2,   34.647,2, -999.000,9,  114.300,2,  162.020,2,   38.980,2,    0.000,2,    2.680,2, -999.000,9, -999.000,9, -999.000,9, -999.000,9, -999.000,9
           NA,    P03E,    128,   2,-999.0,      38,  2,19850419,2222,  24.8933, -161.2567,  4377, 2733.100,    1.627,   34.654,2,   34.655,2, -999.000,9,  119.500,2,  162.680,2,   38.630,2,    0.000,2,    2.640,2, -999.000,9, -999.000,9, -999.000,9, -999.000,9, -999.000,9
           NA,    P03E,    128,   2,-999.0,      18,  2,19850419,2222,  24.8933, -161.2567,  4377, 2935.800,    1.556,   34.663,2,   34.662,2, -999.000,9,  127.300,2,  162.010,2,   38.130,2,    0.000,2,    2.600,2, -999.000,9, -999.000,9, -999.000,9, -999.000,9, -999.000,9
           NA,    P03E,    128,   2,-999.0,      19,  2,19850419,2222,  24.8933, -161.2567,  4377, 3139.200,    1.526,   34.667,2,   34.667,2, -999.000,9,  132.100,2,  160.400,2,   37.780,2,    0.000,2,    2.560,2, -999.000,9, -999.000,9, -999.000,9, -999.000,9, -999.000,9
           NA,    P03E,    128,   2,-999.0,      24,  2,19850419,2222,  24.8933, -161.2567,  4377, 3446.300,    1.476,   34.675,2,   34.675,2, -999.000,9,  141.200,2,  158.780,2,   37.280,2,    0.000,2,    2.510,2, -999.000,9, -999.000,9, -999.000,9, -999.000,9, -999.000,9
           NA,    P03E,    128,   2,-999.0,      21,  2,19850419,2222,  24.8933, -161.2567,  4377, 3751.900,    1.470,   34.679,2,   34.679,2, -999.000,9,  145.600,2,  156.980,2,   36.940,2,    0.000,2,    2.500,2, -999.000,9, -999.000,9, -999.000,9, -999.000,9, -999.000,9
           NA,    P03E,    128,   2,-999.0,      39,  2,19850419,2222,  24.8933, -161.2567,  4377, 4058.500,    1.480,   34.681,2,   34.681,2, -999.000,9,  149.500,2,  156.310,2,   36.740,2,    0.000,2,    2.470,2, -999.000,9, -999.000,9, -999.000,9, -999.000,9, -999.000,9
           NA,    P03E,    128,   2,-999.0,      23,  2,19850419,2222,  24.8933, -161.2567,  4377, 4365.400,    1.485,   34.684,2,   34.683,2, -999.000,9,  153.400,2,  154.700,2,   36.490,2,    0.000,2,    2.460,2, -999.000,9, -999.000,9, -999.000,9, -999.000,9, -999.000,9
           NA,    P03E,    128,   2,-999.0,      20,  2,19850419,2222,  24.8933, -161.2567,  4377, 4640.700,    1.508,   34.684,2,   34.685,2, -999.000,9,  154.700,2,  153.850,2,   36.440,2,    0.000,2,    2.450,2, -999.000,9, -999.000,9, -999.000,9, -999.000,9, -999.000,9