BOTTLE,20203103JOAExport
EXPOCODE,SECT_ID,STNNBR,CASTNO,SAMPNO,BTLNBR,BTLNBR_FLAG_W,DATE,TIME,LATITUDE,LONGITUDE,DEPTH,CTDPRS,CTDTMP,CTDSAL,CTDSAL_FLAG_W,SALNTY,SALNTY_FLAG_W,CTDOXY,CTDOXY_FLAG_W,OXYGEN,OXYGEN_FLAG_W,SILCAT,SILCAT_FLAG_W,NITRAT,NITRAT_FLAG_W,NITRIT,NITRIT_FLAG_W,PHSPHT,PHSPHT_FLAG_W,CFC-11,CFC-11_FLAG_W,CFC-12,CFC-12_FLAG_W,SF6,SF6_FLAG_W,TCARBN,TCARBN_FLAG_W,ALKALI,ALKALI_FLAG_W
,,,,,,,,,,,,,DB,ITS-90,PSS-78,,PSS-78,,UMOL/KG,,UMOL/KG,,UMOL/KG,,UMOL/KG,,UMOL/KG,,UMOL/KG,,PMOL/KG,,PMOL/KG,,FMOL/KG,,UMOL/KG,,UMOL/KG
           NA,    P03E,    189,   1,-999.0,      23,  2,19850428,1216,  24.2400, -176.7583,  5339,    0.600,   23.090,   35.304,2,   35.305,2, -999.000,9,  216.500,2,    2.110,2,    0.050,2,    0.000,2,    0.040,2, -999.000,9, -999.000,9, -999.000,9, -999.000,9, -999.000,9
           NA,    P03E,    189,   1,-999.0,      24,  2,19850428,1216,  24.2400, -176.7583,  5339,   33.800,   22.911,   35.313,2,   35.314,2, -999.000,9,  218.200,2,    2.020,2,    0.050,2,    0.000,2,    0.040,2, -999.000,9, -999.000,9, -999.000,9, -999.000,9, -999.000,9
           NA,    P03E,    189,   1,-999.0,       1,  2,19850428,1216,  24.2400, -176.7583,  5339,   58.200,   22.314,   35.308,2,   35.309,2, -999.000,9,  223.000,2,    1.920,2,    0.050,2,    0.000,2,    0.040,2, -999.000,9, -999.000,9, -999.000,9, -999.000,9, -999.000,9
           NA,    P03E,    189,   1,-999.0,       2,  2,19850428,1216,  24.2400, -176.7583,  5339,  103.200,   20.118,   35.062,2,   35.064,2, -999.000,9,  223.500,2,    2.210,2,    0.040,2,    0.000,2,    0.070,2, -999.000,9, -999.000,9, -999.000,9, -999.000,9, -999.000,9
           NA,    P03E,    189,   1,-999.0,       3,  2,19850428,1216,  24.2400, -176.7583,  5339,  143.600,   17.839,   34.842,2,   34.840,2, -999.000,9,  208.800,2,    3.640,2,    2.360,2,    0.120,2,    0.260,2, -999.000,9, -999.000,9, -999.000,9, -999.000,9, -999.000,9
           NA,    P03E,    189,   1,-999.0,       4,  2,19850428,1216,  24.2400, -176.7583,  5339,  183.900,   16.446,   34.736,2,   34.735,2, -999.000,9,  208.300,2,    4.490,2,    4.940,2,    0.010,2,    0.400,2, -999.000,9, -999.000,9, -999.000,9, -999.000,9, -999.000,9
           NA,    P03E,    189,   1,-999.0,       5,  2,19850428,1216,  24.2400, -176.7583,  5339,  223.900,   15.424,   34.650,2,   34.653,2, -999.000,9,  201.000,2,    6.110,2,    6.790,2,    0.010,2,    0.530,2, -999.000,9, -999.000,9, -999.000,9, -999.000,9, -999.000,9
           NA,    P03E,    189,   1,-999.0,       6,  2,19850428,1216,  24.2400, -176.7583,  5339,  264.100,   14.685,   34.598,2,   34.595,2, -999.000,9,  211.500,2,    7.530,2,    7.720,2,    0.010,2,    0.570,2, -999.000,9, -999.000,9, -999.000,9, -999.000,9, -999.000,9
           NA,    P03E,    189,   1,-999.0,       7,  2,19850428,1216,  24.2400, -176.7583,  5339,  304.300,   13.742,   34.511,2,   34.500,2, -999.000,9,  207.600,2,    9.720,2,    9.420,2,    0.010,2,    0.690,2, -999.000,9, -999.000,9, -999.000,9, -999.000,9, -999.000,9
           NA,    P03E,    189,   1,-999.0,       8,  2,19850428,1216,  24.2400, -176.7583,  5339,  354.400,   12.878,   34.436,2,   34.435,2, -999.000,9,  210.400,2,   11.520,2,   10.690,2,    0.010,2,    0.780,2, -999.000,9, -999.000,9, -999.000,9, -999.000,9, -999.000,9
           NA,    P03E,    189,   1,-999.0,       9,  2,19850428,1216,  24.2400, -176.7583,  5339,  405.200,   11.843,   34.355,2,   34.355,2, -999.000,9,  210.700,2,   14.650,2,   12.360,2,    0.000,2,    0.900,2, -999.000,9, -999.000,9, -999.000,9, -999.000,9, -999.000,9
           NA,    P03E,    189,   1,-999.0,      10,  2,19850428,1216,  24.2400, -176.7583,  5339,  465.700,    9.938,   34.209,2,   34.206,2, -999.000,9,  195.100,2,   23.850,2,   17.420,2,    0.000,2,    1.240,2, -999.000,9, -999.000,9, -999.000,9, -999.000,9, -999.000,9
           NA,    P03E,    189,   1,-999.0,      11,  2,19850428,1216,  24.2400, -176.7583,  5339,  524.900,    8.636,   34.130,2,   34.129,2, -999.000,9,  167.800,2,   33.610,2,   22.230,2,    0.000,2,    1.590,2, -999.000,9, -999.000,9, -999.000,9, -999.000,9, -999.000,9
           NA,    P03E,    189,   1,-999.0,      12,  2,19850428,1216,  24.2400, -176.7583,  5339,  594.800,    7.285,   34.090,2,   34.089,2, -999.000,9,  131.900,2,   48.870,2,   28.110,2,    0.000,2,    2.020,2, -999.000,9, -999.000,9, -999.000,9, -999.000,9, -999.000,9
           NA,    P03E,    189,   1,-999.0,      13,  2,19850428,1216,  24.2400, -176.7583,  5339,  666.400,    6.080,   34.100,2,   34.099,2, -999.000,9,   97.000,2,   65.430,2,   33.520,2,    0.000,2,    2.430,2, -999.000,9, -999.000,9, -999.000,9, -999.000,9, -999.000,9
           NA,    P03E,    189,   1,-999.0,      14,  2,19850428,1216,  24.2400, -176.7583,  5339,  748.300,    5.141,   34.161,2,   34.158,2, -999.000,9,   63.400,2,   83.500,2,   37.870,2,    0.000,2,    2.770,2, -999.000,9, -999.000,9, -999.000,9, -999.000,9, -999.000,9
           NA,    P03E,    189,   1,-999.0,      15,  2,19850428,1216,  24.2400, -176.7583,  5339,  829.200,    4.603,   34.234,2,   34.233,2, -999.000,9,   46.000,2,   96.820,2,   40.440,2,    0.000,2,    2.960,2, -999.000,9, -999.000,9, -999.000,9, -999.000,9, -999.000,9
           NA,    P03E,    189,   1,-999.0,      16,  2,19850428,1216,  24.2400, -176.7583,  5339,  910.200,    4.062,   34.306,2,   34.303,2, -999.000,9,   37.900,2,  110.510,2,   42.070,2,    0.000,2,    3.060,2, -999.000,9, -999.000,9, -999.000,9, -999.000,9, -999.000,9
           NA,    P03E,    189,   1,-999.0,      38,  2,19850428,1216,  24.2400, -176.7583,  5339, 1010.100,    3.774,   34.386,2,   34.385,2, -999.000,9,   39.200,2,  118.330,2,   42.230,2,    0.000,2,    3.070,2, -999.000,9, -999.000,9, -999.000,9, -999.000,9, -999.000,9
           NA,    P03E,    189,   1,-999.0,      18,  2,19850428,1216,  24.2400, -176.7583,  5339, 1109.300,    3.493,   34.444,2,   34.442,2, -999.000,9,   46.000,2,  125.570,2,   42.170,2,    0.000,2,    3.060,2, -999.000,9, -999.000,9, -999.000,9, -999.000,9, -999.000,9
           NA,    P03E,    189,   1,-999.0,      19,  2,19850428,1216,  24.2400, -176.7583,  5339, 1261.100,    3.132,   34.508,2,   34.507,2, -999.000,9,   60.400,2,  132.810,2,   41.580,2,    0.000,2,    3.020,2, -999.000,9, -999.000,9, -999.000,9, -999.000,9, -999.000,9
           NA,    P03E,    189,   1,-999.0,      17,  2,19850428,1216,  24.2400, -176.7583,  5339, 1413.700,    2.788,   34.545,2,   34.545,2, -999.000,9,   69.500,2,  138.350,2,   41.050,2,    0.000,2,    2.970,2, -999.000,9, -999.000,9, -999.000,9, -999.000,9, -999.000,9
           NA,    P03E,    189,   1,-999.0,      21,  2,19850428,1216,  24.2400, -176.7583,  5339, 1616.100,    2.479,   34.573,2,   34.573,2, -999.000,9,   78.700,2,  145.410,2,   40.680,2,    0.000,2,    2.920,2, -999.000,9, -999.000,9, -999.000,9, -999.000,9, -999.000,9
           NA,    P03E,    189,   1,-999.0,      39,  2,19850428,1216,  24.2400, -176.7583,  5339, 1817.100,    2.213,   34.595,2,   34.596,2, -999.000,9,   87.300,2,  151.330,2,   40.150,2,    0.000,2,    2.890,2, -999.000,9, -999.000,9, -999.000,9, -999.000,9, -999.000,9
           NA,    P03E,    189,   1,-999.0,      25,  2,19850428,1216,  24.2400, -176.7583,  5339, 2018.200,    1.960,   34.615,2,   34.615,2, -999.000,9,   94.900,2,  157.060,2,   39.830,2,    0.000,2,    2.850,2, -999.000,9, -999.000,9, -999.000,9, -999.000,9, -999.000,9
           NA,    P03E,    189,   1,-999.0,      26,  2,19850428,1216,  24.2400, -176.7583,  5339, 2221.700,    1.805,   34.631,2,   34.630,2, -999.000,9,  105.600,2,  157.090,2,   39.300,2,    0.000,2,    2.790,2, -999.000,9, -999.000,9, -999.000,9, -999.000,9, -999.000,9
           NA,    P03E,    189,   1,-999.0,      27,  2,19850428,1216,  24.2400, -176.7583,  5339, 2528.200,    1.666,   34.646,2,   34.645,2, -999.000,9,  115.900,2,  157.880,2,   38.570,2,    0.000,2,    2.730,2, -999.000,9, -999.000,9, -999.000,9, -999.000,9, -999.000,9
           NA,    P03E,    189,   1,-999.0,      28,  2,19850428,1216,  24.2400, -176.7583,  5339, 2832.300,    1.584,   34.657,2,   34.656,2, -999.000,9,  125.500,2,  156.960,2,   37.680,2,    0.000,2,    2.670,2, -999.000,9, -999.000,9, -999.000,9, -999.000,9, -999.000,9
           NA,    P03E,    189,   1,-999.0,      29,  2,19850428,1216,  24.2400, -176.7583,  5339, 3134.300,    1.523,   34.667,2,   34.666,2, -999.000,9,  136.900,2,  156.040,2,   37.250,2,    0.010,2,    2.640,2, -999.000,9, -999.000,9, -999.000,9, -999.000,9, -999.000,9
           NA,    P03E,    189,   1,-999.0,      30,  2,19850428,1216,  24.2400, -176.7583,  5339, 3438.700,    1.480,   34.674,2,   34.672,2, -999.000,9,  143.800,2,  153.040,2,   36.730,2,    0.000,2,    2.580,2, -999.000,9, -999.000,9, -999.000,9, -999.000,9, -999.000,9
           NA,    P03E,    189,   1,-999.0,      31,  2,19850428,1216,  24.2400, -176.7583,  5339, 3742.500,    1.456,   34.678,2,   34.679,2, -999.000,9,  149.600,2,  150.800,2,   36.310,2,    0.010,2,    2.540,2, -999.000,9, -999.000,9, -999.000,9, -999.000,9, -999.000,9
           NA,    P03E,    189,   1,-999.0,      32,  2,19850428,1216,  24.2400, -176.7583,  5339, 4045.100,    1.441,   34.683,2,   34.684,2, -999.000,9,  154.600,2,  147.040,2,   36.000,2,    0.000,2,    2.520,2, -999.000,9, -999.000,9, -999.000,9, -999.000,9, -999.000,9
           NA,    P03E,    189,   1,-999.0,      37,  2,19850428,1216,  24.2400, -176.7583,  5339, 4348.600,    1.433,   34.686,2,   34.686,2, -999.000,9,  160.700,2,  144.620,2,   35.380,2,    0.000,2,    2.480,2, -999.000,9, -999.000,9, -999.000,9, -999.000,9, -999.000,9
           NA,    P03E,    189,   1,-999.0,      34,  2,19850428,1216,  24.2400, -176.7583,  5339, 4709.900,    1.428,   34.690,2,   34.689,2, -999.000,9,  169.000,2,  139.750,2,   35.120,2,    0.000,2,    2.430,2, -999.000,9, -999.000,9, -999.000,9, -999.000,9, -999.000,9
           NA,    P03E,    189,   1,-999.0,      35,  2,19850428,1216,  24.2400, -176.7583,  5339, 5075.000,    1.439,   34.693,2,   34.691,2, -999.000,9,  174.400,2,  137.710,2,   34.390,2,    0.000,2,    2.390,2, -999.000,9, -999.000,9, -999.000,9, -999.000,9, -999.000,9
           NA,    P03E,    189,   1,-999.0,      36,  2,19850428,1216,  24.2400, -176.7583,  5339, 5413.300,    1.464,   34.694,2,   34.693,2, -999.000,9,  177.200,2,  135.860,2,   34.390,2,    0.000,2,    2.390,2, -999.000,9, -999.000,9, -999.000,9, -999.000,9, -999.000,9