BOTTLE,20203103JOAExport
EXPOCODE,SECT_ID,STNNBR,CASTNO,SAMPNO,BTLNBR,BTLNBR_FLAG_W,DATE,TIME,LATITUDE,LONGITUDE,DEPTH,CTDPRS,CTDTMP,CTDSAL,CTDSAL_FLAG_W,SALNTY,SALNTY_FLAG_W,CTDOXY,CTDOXY_FLAG_W,OXYGEN,OXYGEN_FLAG_W,SILCAT,SILCAT_FLAG_W,NITRAT,NITRAT_FLAG_W,NITRIT,NITRIT_FLAG_W,PHSPHT,PHSPHT_FLAG_W,CFC-11,CFC-11_FLAG_W,CFC-12,CFC-12_FLAG_W,SF6,SF6_FLAG_W,TCARBN,TCARBN_FLAG_W,ALKALI,ALKALI_FLAG_W
,,,,,,,,,,,,,DB,ITS-90,PSS-78,,PSS-78,,UMOL/KG,,UMOL/KG,,UMOL/KG,,UMOL/KG,,UMOL/KG,,UMOL/KG,,PMOL/KG,,PMOL/KG,,FMOL/KG,,UMOL/KG,,UMOL/KG
           NA,    P03W,    215,   1,-999.0,       1,  2,19850507,0521,  24.2433,  172.7667,  5864,    0.000,   25.365,   35.185,2,   35.191,2, -999.000,9,  210.300,2,    1.460,2,    0.050,2,    0.000,2,    0.030,2,    1.475,2,    0.762,2, -999.000,9, -999.000,9, -999.000,9
           NA,    P03W,    215,   1,-999.0,       2,  2,19850507,0521,  24.2433,  172.7667,  5864,   22.400,   24.305,   35.290,2,   35.286,2, -999.000,9,  214.200,2,    1.360,2,    0.050,2,    0.000,2,    0.030,2,    1.542,2,    0.812,2, -999.000,9, -999.000,9, -999.000,9
           NA,    P03W,    215,   1,-999.0,       3,  2,19850507,0521,  24.2433,  172.7667,  5864,   42.100,   24.226,   35.320,2,   35.319,2, -999.000,9,  213.700,2,    1.270,2,    0.050,2,    0.000,2,    0.030,2,    1.577,2,    0.813,2, -999.000,9, -999.000,9, -999.000,9
           NA,    P03W,    215,   1,-999.0,       4,  2,19850507,0521,  24.2433,  172.7667,  5864,   72.500,   23.807,   35.321,2,   35.323,2, -999.000,9,  215.900,2,    1.390,2,    0.050,2,    0.000,2,    0.030,2,    1.574,2,    0.833,2, -999.000,9, -999.000,9, -999.000,9
           NA,    P03W,    215,   1,-999.0,       5,  2,19850507,0521,  24.2433,  172.7667,  5864,  102.700,   22.516,   35.221,2,   35.226,2, -999.000,9,  200.600,2,    1.520,2,    0.050,2,    0.050,2,    0.080,2,    1.595,2,    0.809,2, -999.000,9, -999.000,9, -999.000,9
           NA,    P03W,    215,   1,-999.0,       6,  2,19850507,0521,  24.2433,  172.7667,  5864,  142.600,   20.647,   35.082,2,   35.083,2, -999.000,9,  193.500,2,    2.530,2,    1.540,2,    0.020,2,    0.200,2,    1.612,2,    0.818,2, -999.000,9, -999.000,9, -999.000,9
           NA,    P03W,    215,   1,-999.0,       7,  2,19850507,0521,  24.2433,  172.7667,  5864,  183.300,   18.734,   34.909,2,   34.910,2, -999.000,9,  204.800,2,    2.880,2,    2.040,2,    0.010,2,    0.200,2,    1.767,2,    0.879,2, -999.000,9, -999.000,9, -999.000,9
           NA,    P03W,    215,   1,-999.0,       8,  2,19850507,0521,  24.2433,  172.7667,  5864,  233.100,   16.470,   34.744,2,   34.744,2, -999.000,9,  210.300,2,    4.550,2,    4.990,2,    0.000,2,    0.360,2,    1.861,2,    0.907,2, -999.000,9, -999.000,9, -999.000,9
           NA,    P03W,    215,   1,-999.0,       9,  2,19850507,0521,  24.2433,  172.7667,  5864,  283.300,   15.718,   34.692,2,   34.691,2, -999.000,9,  213.400,2,    5.560,2,    6.070,2,    0.000,2,    0.410,2,    1.855,2,    0.924,2, -999.000,9, -999.000,9, -999.000,9
           NA,    P03W,    215,   1,-999.0,      10,  2,19850507,0521,  24.2433,  172.7667,  5864,  333.000,   14.588,   34.590,2,   34.590,2, -999.000,9,  209.400,2,    7.890,2,    7.980,2,    0.000,2,    0.580,2,    1.677,2,    0.810,2, -999.000,9, -999.000,9, -999.000,9
           NA,    P03W,    215,   1,-999.0,      11,  2,19850507,0521,  24.2433,  172.7667,  5864,  383.200,   13.110,   34.450,2,   34.443,2, -999.000,9,  203.700,2,   11.550,2,   10.890,2,    0.000,2,    0.760,2, -999.000,9, -999.000,9, -999.000,9, -999.000,9, -999.000,9
           NA,    P03W,    215,   1,-999.0,      12,  2,19850507,0521,  24.2433,  172.7667,  5864,  444.600,   11.561,   34.338,2,   34.332,2, -999.000,9,  203.700,2,   16.970,2,   13.860,2,    0.000,2,    0.960,2,    1.526,2,    0.733,2, -999.000,9, -999.000,9, -999.000,9
           NA,    P03W,    215,   1,-999.0,      13,  2,19850507,0521,  24.2433,  172.7667,  5864,  504.900,    9.892,   34.199,2,   34.192,2, -999.000,9,  185.400,2,   25.040,2,   18.560,2,    0.000,2,    1.270,2,    1.125,6,    0.552,6, -999.000,9, -999.000,9, -999.000,9
           NA,    P03W,    215,   1,-999.0,      14,  2,19850507,0521,  24.2433,  172.7667,  5864,  565.500,    8.482,   34.124,2,   34.123,2, -999.000,9,  161.000,2,   35.520,2,   23.320,2,    0.000,2,    1.630,2,    0.755,2, -999.000,9, -999.000,9, -999.000,9, -999.000,9
           NA,    P03W,    215,   1,-999.0,      15,  2,19850507,0521,  24.2433,  172.7667,  5864,  646.000,    6.663,   34.089,2,   34.088,2, -999.000,9,  111.800,2,   57.250,2,   31.190,2,    0.000,2,    2.170,2,    0.335,2, -999.000,9, -999.000,9, -999.000,9, -999.000,9
           NA,    P03W,    215,   1,-999.0,      16,  2,19850507,0521,  24.2433,  172.7667,  5864,  726.400,    5.695,   34.130,2,   34.128,2, -999.000,9,   75.200,2,   73.220,2,   36.390,2,    0.000,2,    2.540,2,    0.126,2,    0.070,2, -999.000,9, -999.000,9, -999.000,9
           NA,    P03W,    215,   1,-999.0,      17,  2,19850507,0521,  24.2433,  172.7667,  5864,  807.100,    5.094,   34.219,2,   34.218,2, -999.000,9,   50.000,2,   86.750,2,   39.810,2,    0.000,2,    2.780,2,    0.054,2,    0.037,2, -999.000,9, -999.000,9, -999.000,9
           NA,    P03W,    215,   1,-999.0,      18,  2,19850507,0521,  24.2433,  172.7667,  5864,  907.600,    4.452,   34.333,2,   34.332,2, -999.000,9,   41.300,2,  101.150,2,   41.620,2,    0.000,2,    2.900,2,    0.001,2,    0.014,2, -999.000,9, -999.000,9, -999.000,9
           NA,    P03W,    215,   1,-999.0,      39,  2,19850507,0521,  24.2433,  172.7667,  5864, 1059.500,    4.035,   34.450,2,   34.447,2, -999.000,9,   50.900,2,  109.380,2,   41.730,2,    0.000,2,    2.890,2,   -0.003,2,    0.004,6, -999.000,9, -999.000,9, -999.000,9
           NA,    P03W,    215,   1,-999.0,      20,  2,19850507,0521,  24.2433,  172.7667,  5864, 1210.500,    3.620,   34.510,2,   34.511,2, -999.000,9,   63.500,2,  116.710,2,   41.180,2,    0.000,2,    2.840,2, -999.000,9, -999.000,9, -999.000,9, -999.000,9, -999.000,9
           NA,    P03W,    215,   1,-999.0,      21,  2,19850507,0521,  24.2433,  172.7667,  5864, 1411.300,    3.077,   34.535,2,   34.535,2, -999.000,9,   69.100,2,  129.110,2,   41.290,2,    0.000,2,    2.840,2,   -0.004,2, -999.000,9, -999.000,9, -999.000,9, -999.000,9
           NA,    P03W,    215,   1,-999.0,      22,  2,19850507,0521,  24.2433,  172.7667,  5864, 1610.700,    2.706,   34.563,2,   34.563,2, -999.000,9,   78.200,2,  137.320,2,   40.790,2,    0.000,2,    2.800,2, -999.000,9, -999.000,9, -999.000,9, -999.000,9, -999.000,9
           NA,    P03W,    215,   1,-999.0,      23,  2,19850507,0521,  24.2433,  172.7667,  5864, 1813.700,    2.386,   34.586,2,   34.586,2, -999.000,9,   86.000,2,  144.420,2,   40.630,2,    0.000,2,    2.770,2, -999.000,9, -999.000,9, -999.000,9, -999.000,9, -999.000,9
           NA,    P03W,    215,   1,-999.0,      24,  2,19850507,0521,  24.2433,  172.7667,  5864, 2013.200,    2.146,   34.606,2,   34.605,2, -999.000,9,   94.300,2,  149.090,2,   40.140,2,    0.000,2,    2.740,2,    0.000,2, -999.000,9, -999.000,9, -999.000,9, -999.000,9
           NA,    P03W,    215,   1,-999.0,      25,  2,19850507,0521,  24.2433,  172.7667,  5864, 2213.600,    1.949,   34.623,2,   34.622,2, -999.000,9,  103.000,2,  152.880,2,   39.490,2,    0.000,2,    2.700,2, -999.000,9, -999.000,9, -999.000,9, -999.000,9, -999.000,9
           NA,    P03W,    215,   1,-999.0,      26,  2,19850507,0521,  24.2433,  172.7667,  5864, 2510.200,    1.768,   34.642,2,   34.640,2, -999.000,9,  114.700,2,  153.150,2,   38.720,2,    0.000,2,    2.650,2, -999.000,9, -999.000,9, -999.000,9, -999.000,9, -999.000,9
           NA,    P03W,    215,   1,-999.0,      27,  2,19850507,0521,  24.2433,  172.7667,  5864, 2810.200,    1.657,   34.654,2,   34.653,2, -999.000,9,  124.700,2,  153.210,2,   38.130,2,    0.000,2,    2.590,2, -999.000,9, -999.000,9, -999.000,9, -999.000,9, -999.000,9
           NA,    P03W,    215,   1,-999.0,      28,  2,19850507,0521,  24.2433,  172.7667,  5864, 3113.500,    1.583,   34.663,2,   34.661,2, -999.000,9,  131.700,2,  153.260,2,   37.640,2,    0.000,2,    2.560,2, -999.000,9, -999.000,9, -999.000,9, -999.000,9, -999.000,9
           NA,    P03W,    215,   1,-999.0,      29,  2,19850507,0521,  24.2433,  172.7667,  5864, 3421.000,    1.540,   34.670,2,   34.669,2, -999.000,9,  139.900,2,  150.240,2,   37.050,2,    0.000,2,    2.510,2, -999.000,9, -999.000,9, -999.000,9, -999.000,9, -999.000,9
           NA,    P03W,    215,   1,-999.0,      30,  2,19850507,0521,  24.2433,  172.7667,  5864, 3726.700,    1.508,   34.675,2,   34.674,2, -999.000,9,  146.000,2,  148.540,2,   36.620,2,    0.000,2,    2.480,2, -999.000,9, -999.000,9, -999.000,9, -999.000,9, -999.000,9
           NA,    P03W,    215,   1,-999.0,      31,  2,19850507,0521,  24.2433,  172.7667,  5864, 4026.900,    1.481,   34.680,2,   34.678,2, -999.000,9,  153.000,2,  147.060,2,   36.250,2,    0.000,2,    2.450,2,    0.000,2, -999.000,9, -999.000,9, -999.000,9, -999.000,9
           NA,    P03W,    215,   1,-999.0,      32,  2,19850507,0521,  24.2433,  172.7667,  5864, 4325.100,    1.455,   34.686,2,   34.684,2, -999.000,9,  160.800,2,  142.950,2,   35.660,2,    0.000,2,    2.410,2, -999.000,9, -999.000,9, -999.000,9, -999.000,9, -999.000,9
           NA,    P03W,    215,   1,-999.0,      33,  2,19850507,0521,  24.2433,  172.7667,  5864, 4670.700,    1.436,   34.690,2,   34.688,2, -999.000,9,  168.600,2,  138.410,2,   35.020,2,    0.000,2,    2.370,2, -999.000,9, -999.000,9, -999.000,9, -999.000,9, -999.000,9
           NA,    P03W,    215,   1,-999.0,      34,  2,19850507,0521,  24.2433,  172.7667,  5864, 5023.600,    1.433,   34.693,2,   34.692,2, -999.000,9,  174.700,2,  134.100,2,   34.430,2,    0.000,2,    2.350,2, -999.000,9, -999.000,9, -999.000,9, -999.000,9, -999.000,9
           NA,    P03W,    215,   1,-999.0,      35,  2,19850507,0521,  24.2433,  172.7667,  5864, 5440.400,    1.450,   34.696,2,   34.695,2, -999.000,9,  179.900,2,  131.530,2,   34.270,2,    0.000,2,    2.320,2, -999.000,9, -999.000,9, -999.000,9, -999.000,9, -999.000,9
           NA,    P03W,    215,   1,-999.0,      36,  2,19850507,0521,  24.2433,  172.7667,  5864, 5959.400,    1.494,   34.697,2,   34.697,2, -999.000,9,  182.500,2,  130.720,2,   34.010,2,    0.000,2,    2.310,2, -999.000,9, -999.000,9, -999.000,9, -999.000,9, -999.000,9
           NA,    P03W,    213,   1,-999.0,       2,  2,19850506,2041,  24.2533,  173.5683,  5809,   22.400,   24.262,   35.282,2,   35.285,2, -999.000,9,  213.300,2,    1.350,2,    0.100,2,    0.000,2,    0.020,2, -999.000,9, -999.000,9, -999.000,9, -999.000,9, -999.000,9
           NA,    P03W,    213,   1,-999.0,       3,  2,19850506,2041,  24.2533,  173.5683,  5809,   42.200,   24.195,   35.296,2,   35.299,2, -999.000,9,  212.400,2,    1.300,2,    0.100,2,    0.000,2,    0.020,2, -999.000,9, -999.000,9, -999.000,9, -999.000,9, -999.000,9
           NA,    P03W,    213,   1,-999.0,       4,  2,19850506,2041,  24.2533,  173.5683,  5809,   72.200,   23.319,   35.232,2,   35.232,2, -999.000,9,  218.100,2,    1.250,2,    0.100,2,    0.000,2,    0.020,2, -999.000,9, -999.000,9, -999.000,9, -999.000,9, -999.000,9
           NA,    P03W,    213,   1,-999.0,       5,  2,19850506,2041,  24.2533,  173.5683,  5809,  102.700,   21.969,   35.139,2,   35.143,2, -999.000,9,  207.500,2,    1.600,2,    0.100,2,    0.000,2,    0.060,2, -999.000,9, -999.000,9, -999.000,9, -999.000,9, -999.000,9
           NA,    P03W,    213,   1,-999.0,       6,  2,19850506,2041,  24.2533,  173.5683,  5809,  142.800,   19.872,   34.984,2,   34.983,2, -999.000,9,  204.800,2,    1.940,2,    1.130,2,    0.060,2,    0.140,2, -999.000,9, -999.000,9, -999.000,9, -999.000,9, -999.000,9
           NA,    P03W,    213,   1,-999.0,       7,  2,19850506,2041,  24.2533,  173.5683,  5809,  183.500,   18.062,   34.866,2,   34.864,2, -999.000,9,  199.100,2,    3.260,2,    3.430,2,    0.020,2,    0.290,2, -999.000,9, -999.000,9, -999.000,9, -999.000,9, -999.000,9
           NA,    P03W,    213,   1,-999.0,       8,  2,19850506,2041,  24.2533,  173.5683,  5809,  233.900,   16.268,   34.723,2,   34.717,2, -999.000,9,  209.900,2,    4.780,2,    5.570,2,    0.010,2,    0.400,2, -999.000,9, -999.000,9, -999.000,9, -999.000,9, -999.000,9
           NA,    P03W,    213,   1,-999.0,       9,  2,19850506,2041,  24.2533,  173.5683,  5809,  284.100,   15.243,   34.650,2,   34.650,2, -999.000,9,  211.600,2,    6.290,2,    6.960,2,    0.000,2,    0.490,2, -999.000,9, -999.000,9, -999.000,9, -999.000,9, -999.000,9
           NA,    P03W,    213,   1,-999.0,      10,  2,19850506,2041,  24.2533,  173.5683,  5809,  334.000,   14.038,   34.535,2,   34.528,2, -999.000,9,  205.000,2,    9.170,2,    9.440,2,    0.000,2,    0.660,2, -999.000,9, -999.000,9, -999.000,9, -999.000,9, -999.000,9
           NA,    P03W,    213,   1,-999.0,      11,  2,19850506,2041,  24.2533,  173.5683,  5809,  382.800,   12.862,   34.428,2,   34.426,2, -999.000,9,  201.500,2,   12.230,2,   11.430,2,    0.000,2,    0.810,2, -999.000,9, -999.000,9, -999.000,9, -999.000,9, -999.000,9
           NA,    P03W,    213,   1,-999.0,      12,  2,19850506,2041,  24.2533,  173.5683,  5809,  442.300,   11.490,   34.316,2,   34.315,2, -999.000,9,  193.200,2,   16.850,2,   14.540,2,    0.000,2,    1.020,2, -999.000,9, -999.000,9, -999.000,9, -999.000,9, -999.000,9
           NA,    P03W,    213,   1,-999.0,      13,  2,19850506,2041,  24.2533,  173.5683,  5809,  502.800,    9.831,   34.204,2,   34.203,2, -999.000,9,  181.000,2,   24.760,2,   18.730,2,    0.000,2,    1.310,2, -999.000,9, -999.000,9, -999.000,9, -999.000,9, -999.000,9
           NA,    P03W,    213,   1,-999.0,      14,  2,19850506,2041,  24.2533,  173.5683,  5809,  563.300,    8.245,   34.110,2,   34.112,2, -999.000,9,  171.800,2,   34.800,2,   22.560,2,    0.000,2,    1.600,2, -999.000,9, -999.000,9, -999.000,9, -999.000,9, -999.000,9
           NA,    P03W,    213,   1,-999.0,      15,  2,19850506,2041,  24.2533,  173.5683,  5809,  645.300,    6.665,   34.085,2,   34.087,2, -999.000,9,  115.700,2,   55.500,2,   30.900,2,    0.000,2,    2.170,2, -999.000,9, -999.000,9, -999.000,9, -999.000,9, -999.000,9
           NA,    P03W,    213,   1,-999.0,      16,  2,19850506,2041,  24.2533,  173.5683,  5809,  726.400,    5.516,   34.145,2,   34.141,2, -999.000,9,   70.400,2,   76.730,2,   37.240,2,    0.000,2,    2.620,2, -999.000,9, -999.000,9, -999.000,9, -999.000,9, -999.000,9
           NA,    P03W,    213,   1,-999.0,      17,  2,19850506,2041,  24.2533,  173.5683,  5809,  807.500,    4.956,   34.240,2,   34.241,2, -999.000,9,   45.700,2,   89.950,2,   40.430,2,    0.000,2,    2.810,2, -999.000,9, -999.000,9, -999.000,9, -999.000,9, -999.000,9
           NA,    P03W,    213,   1,-999.0,      18,  2,19850506,2041,  24.2533,  173.5683,  5809,  908.700,    4.419,   34.335,2,   34.332,2, -999.000,9,   42.200,2,  101.870,2,   41.670,2,    0.000,2,    2.910,2, -999.000,9, -999.000,9, -999.000,9, -999.000,9, -999.000,9
           NA,    P03W,    213,   1,-999.0,      39,  2,19850506,2041,  24.2533,  173.5683,  5809, 1059.700,    3.953,   34.424,2,   34.424,2, -999.000,9,   49.100,2,  108.000,2,   41.620,2,    0.000,2,    2.910,2, -999.000,9, -999.000,9, -999.000,9, -999.000,9, -999.000,9
           NA,    P03W,    213,   1,-999.0,      20,  2,19850506,2041,  24.2533,  173.5683,  5809, 1211.000,    3.547,   34.491,2,   34.491,2, -999.000,9,   59.100,2,  115.920,2,   41.300,2,    0.000,2,    2.880,2, -999.000,9, -999.000,9, -999.000,9, -999.000,9, -999.000,9
           NA,    P03W,    213,   1,-999.0,      21,  2,19850506,2041,  24.2533,  173.5683,  5809, 1413.000,    3.095,   34.536,2,   34.535,2, -999.000,9,   70.800,2,  124.220,2,   40.870,2,    0.000,2,    2.850,2, -999.000,9, -999.000,9, -999.000,9, -999.000,9, -999.000,9
           NA,    P03W,    213,   1,-999.0,      22,  2,19850506,2041,  24.2533,  173.5683,  5809, 1615.100,    2.661,   34.564,2,   34.564,2, -999.000,9,   79.100,2,  134.810,2,   40.720,2,    0.000,2,    2.820,2, -999.000,9, -999.000,9, -999.000,9, -999.000,9, -999.000,9
           NA,    P03W,    213,   1,-999.0,      23,  2,19850506,2041,  24.2533,  173.5683,  5809, 1817.000,    2.297,   34.592,2,   34.592,2, -999.000,9,   88.200,2,  145.570,2,   40.570,2,    0.000,2,    2.780,2, -999.000,9, -999.000,9, -999.000,9, -999.000,9, -999.000,9
           NA,    P03W,    213,   1,-999.0,      24,  2,19850506,2041,  24.2533,  173.5683,  5809, 2019.400,    2.105,   34.609,2,   34.609,2, -999.000,9,   95.600,2,  150.150,2,   40.080,2,    0.000,2,    2.760,2, -999.000,9, -999.000,9, -999.000,9, -999.000,9, -999.000,9
           NA,    P03W,    213,   1,-999.0,      25,  2,19850506,2041,  24.2533,  173.5683,  5809, 2222.400,    1.911,   34.626,2,   34.627,2, -999.000,9,  105.200,2,  150.290,2,   39.550,2,    0.000,2,    2.700,2, -999.000,9, -999.000,9, -999.000,9, -999.000,9, -999.000,9
           NA,    P03W,    213,   1,-999.0,      26,  2,19850506,2041,  24.2533,  173.5683,  5809, 2526.600,    1.741,   34.642,2,   34.644,2, -999.000,9,  115.600,2,  152.740,2,   38.850,2,    0.000,2,    2.650,2, -999.000,9, -999.000,9, -999.000,9, -999.000,9, -999.000,9
           NA,    P03W,    213,   1,-999.0,      27,  2,19850506,2041,  24.2533,  173.5683,  5809, 2830.600,    1.624,   34.655,2,   34.656,2, -999.000,9,  125.100,2,  153.260,2,   38.260,2,    0.000,2,    2.590,2, -999.000,9, -999.000,9, -999.000,9, -999.000,9, -999.000,9
           NA,    P03W,    213,   1,-999.0,      28,  2,19850506,2041,  24.2533,  173.5683,  5809, 3135.800,    1.564,   34.664,2,   34.664,2, -999.000,9,  134.300,2,  152.060,2,   37.720,2,    0.000,2,    2.560,2, -999.000,9, -999.000,9, -999.000,9, -999.000,9, -999.000,9
           NA,    P03W,    213,   1,-999.0,      29,  2,19850506,2041,  24.2533,  173.5683,  5809, 3439.900,    1.525,   34.671,2,   34.670,2, -999.000,9,  140.400,2,  151.250,2,   37.460,2,    0.000,2,    2.520,2, -999.000,9, -999.000,9, -999.000,9, -999.000,9, -999.000,9
           NA,    P03W,    213,   1,-999.0,      30,  2,19850506,2041,  24.2533,  173.5683,  5809, 3745.000,    1.483,   34.676,2,   34.676,2, -999.000,9,  146.900,2,  149.090,2,   36.930,2,    0.000,2,    2.470,2, -999.000,9, -999.000,9, -999.000,9, -999.000,9, -999.000,9
           NA,    P03W,    213,   1,-999.0,      31,  2,19850506,2041,  24.2533,  173.5683,  5809, 4052.300,    1.457,   34.681,2,   34.681,2, -999.000,9,  156.000,2,  145.230,2,   36.230,2,    0.000,2,    2.430,2, -999.000,9, -999.000,9, -999.000,9, -999.000,9, -999.000,9
           NA,    P03W,    213,   1,-999.0,      32,  2,19850506,2041,  24.2533,  173.5683,  5809, 4360.100,    1.435,   34.686,2,   34.685,2, -999.000,9,  162.500,2,  141.570,2,   35.760,2,    0.000,2,    2.390,2, -999.000,9, -999.000,9, -999.000,9, -999.000,9, -999.000,9
           NA,    P03W,    213,   1,-999.0,      33,  2,19850506,2041,  24.2533,  173.5683,  5809, 4718.500,    1.420,   34.690,2,   34.690,2, -999.000,9,  171.600,2,  136.960,2,   35.070,2,    0.000,2,    2.370,2, -999.000,9, -999.000,9, -999.000,9, -999.000,9, -999.000,9
           NA,    P03W,    213,   1,-999.0,      34,  2,19850506,2041,  24.2533,  173.5683,  5809, 5078.800,    1.429,   34.692,2,   34.692,2, -999.000,9,  175.100,2,  133.320,2,   34.860,2,    0.000,2,    2.340,2, -999.000,9, -999.000,9, -999.000,9, -999.000,9, -999.000,9
           NA,    P03W,    213,   1,-999.0,      35,  2,19850506,2041,  24.2533,  173.5683,  5809, 5489.300,    1.455,   34.693,2,   34.695,2, -999.000,9,  179.000,2,  131.200,2,   34.610,2,    0.000,2,    2.310,2, -999.000,9, -999.000,9, -999.000,9, -999.000,9, -999.000,9
           NA,    P03W,    213,   1,-999.0,      36,  2,19850506,2041,  24.2533,  173.5683,  5809, 5911.100,    1.494,   34.696,2,   34.696,2, -999.000,9,  181.600,2,  130.800,2,   34.460,2,    0.000,2,    2.300,2, -999.000,9, -999.000,9, -999.000,9, -999.000,9, -999.000,9