BOTTLE,20203103JOAExport
EXPOCODE,SECT_ID,STNNBR,CASTNO,SAMPNO,BTLNBR,BTLNBR_FLAG_W,DATE,TIME,LATITUDE,LONGITUDE,DEPTH,CTDPRS,CTDTMP,CTDSAL,CTDSAL_FLAG_W,SALNTY,SALNTY_FLAG_W,CTDOXY,CTDOXY_FLAG_W,OXYGEN,OXYGEN_FLAG_W,SILCAT,SILCAT_FLAG_W,NITRAT,NITRAT_FLAG_W,NITRIT,NITRIT_FLAG_W,PHSPHT,PHSPHT_FLAG_W,CFC-11,CFC-11_FLAG_W,CFC-12,CFC-12_FLAG_W,SF6,SF6_FLAG_W,TCARBN,TCARBN_FLAG_W,ALKALI,ALKALI_FLAG_W
,,,,,,,,,,,,,DB,ITS-90,PSS-78,,PSS-78,,UMOL/KG,,UMOL/KG,,UMOL/KG,,UMOL/KG,,UMOL/KG,,UMOL/KG,,PMOL/KG,,PMOL/KG,,FMOL/KG,,UMOL/KG,,UMOL/KG
           NA,    P03W,    221,   1,-999.0,       1,  2,19850508,0629,  24.2533,  170.3517,  5792,    0.000,   25.008,   34.998,2,   35.002,2, -999.000,9,  211.200,2,    0.120,2,    0.090,2,    0.000,2,    0.020,2,    1.511,2,    0.772,2, -999.000,9, -999.000,9, -999.000,9
           NA,    P03W,    221,   1,-999.0,       2,  2,19850508,0629,  24.2533,  170.3517,  5792,   23.500,   24.336,   35.243,2,   35.247,2, -999.000,9,  214.200,2,    0.080,2,    0.090,2,    0.000,2,    0.020,2, -999.000,9, -999.000,9, -999.000,9, -999.000,9, -999.000,9
           NA,    P03W,    221,   1,-999.0,       3,  2,19850508,0629,  24.2533,  170.3517,  5792,   43.800,   23.889,   35.229,2,   35.233,2, -999.000,9,  215.500,2,    0.040,2,    0.090,2,    0.000,2,    0.010,2,    1.603,2,    0.790,2, -999.000,9, -999.000,9, -999.000,9
           NA,    P03W,    221,   1,-999.0,       4,  2,19850508,0629,  24.2533,  170.3517,  5792,   74.200,   22.481,   35.196,2,   35.194,2, -999.000,9,  210.600,2,    0.000,2,    0.050,2,    0.030,2,    0.020,2,    1.667,2,    0.837,2, -999.000,9, -999.000,9, -999.000,9
           NA,    P03W,    221,   1,-999.0,       5,  2,19850508,0629,  24.2533,  170.3517,  5792,  105.000,   20.894,   35.044,2,   35.048,2, -999.000,9,  208.400,2,    0.620,2,    0.320,2,    0.050,2,    0.070,2,    1.690,2,    0.834,2, -999.000,9, -999.000,9, -999.000,9
           NA,    P03W,    221,   1,-999.0,       6,  2,19850508,0629,  24.2533,  170.3517,  5792,  144.400,   18.795,   34.913,2,   34.917,2, -999.000,9,  222.600,2,    1.690,2,    0.500,2,    0.020,2,    0.100,2,    1.892,2,    0.934,2, -999.000,9, -999.000,9, -999.000,9
           NA,    P03W,    221,   1,-999.0,       7,  2,19850508,0629,  24.2533,  170.3517,  5792,  184.200,   17.149,   34.792,2,   34.791,2, -999.000,9,  211.200,2,    2.540,2,    3.780,2,    0.020,2,    0.270,2,    1.913,2,    0.921,2, -999.000,9, -999.000,9, -999.000,9
           NA,    P03W,    221,   1,-999.0,       8,  2,19850508,0629,  24.2533,  170.3517,  5792,  234.200,   16.131,   34.722,2,   34.722,2, -999.000,9,  211.200,2,    4.050,2,    5.850,2,    0.010,2,    0.390,2,    1.878,2, -999.000,9, -999.000,9, -999.000,9, -999.000,9
           NA,    P03W,    221,   1,-999.0,       9,  2,19850508,0629,  24.2533,  170.3517,  5792,  283.700,   15.308,   34.662,2,   34.661,2, -999.000,9,  212.900,2,    5.350,2,    6.990,2,    0.010,2,    0.480,2,    1.897,2,    0.906,2, -999.000,9, -999.000,9, -999.000,9
           NA,    P03W,    221,   1,-999.0,      10,  2,19850508,0629,  24.2533,  170.3517,  5792,  332.300,   14.348,   34.575,2,   34.576,2, -999.000,9,  209.800,2,    7.520,2,    8.720,2,    0.010,2,    0.600,2,    1.797,2,    0.854,2, -999.000,9, -999.000,9, -999.000,9
           NA,    P03W,    221,   1,-999.0,      11,  2,19850508,0629,  24.2533,  170.3517,  5792,  377.400,   13.438,   34.489,2,   34.490,2, -999.000,9,  208.100,2,    9.700,2,   10.300,2,    0.010,2,    0.700,2,    1.725,2,    0.832,2, -999.000,9, -999.000,9, -999.000,9
           NA,    P03W,    221,   1,-999.0,      12,  2,19850508,0629,  24.2533,  170.3517,  5792,  429.900,   12.144,   34.379,2,   34.385,2, -999.000,9,  202.400,2,   13.440,2,   12.850,2,    0.000,2,    0.880,2,    1.582,2,    0.725,2, -999.000,9, -999.000,9, -999.000,9
           NA,    P03W,    221,   1,-999.0,      13,  2,19850508,0629,  24.2533,  170.3517,  5792,  489.600,   10.269,   34.237,2,   34.240,2, -999.000,9,  192.300,2,   21.830,2,   17.310,2,    0.000,2,    1.180,2,    1.342,2,    0.614,6, -999.000,9, -999.000,9, -999.000,9
           NA,    P03W,    221,   1,-999.0,      14,  2,19850508,0629,  24.2533,  170.3517,  5792,  554.800,    8.919,   34.149,2,   34.149,2, -999.000,9,  183.200,2,   30.000,2,   20.860,2,    0.000,2,    1.430,2,    1.230,2,    0.537,2, -999.000,9, -999.000,9, -999.000,9
           NA,    P03W,    221,   1,-999.0,      15,  2,19850508,0629,  24.2533,  170.3517,  5792,  632.200,    7.136,   34.085,2,   34.083,2, -999.000,9,  136.600,2,   47.710,2,   28.390,2,    0.000,2,    1.970,2,    0.626,2, -999.000,9, -999.000,9, -999.000,9, -999.000,9
           NA,    P03W,    221,   1,-999.0,      16,  2,19850508,0629,  24.2533,  170.3517,  5792,  709.700,    5.776,   34.082,2,   34.080,2, -999.000,9,  101.300,2,   68.070,2,   34.280,2,    0.000,2,    2.370,2,    0.374,2,    0.189,2, -999.000,9, -999.000,9, -999.000,9
           NA,    P03W,    221,   1,-999.0,      17,  2,19850508,0629,  24.2533,  170.3517,  5792,  794.000,    5.348,   34.203,2,   34.201,2, -999.000,9,   59.100,2,   81.320,2,   38.900,2,    0.000,2,    2.700,2,    0.064,2, -999.000,9, -999.000,9, -999.000,9, -999.000,9
           NA,    P03W,    221,   1,-999.0,      18,  2,19850508,0629,  24.2533,  170.3517,  5792,  896.000,    4.746,   34.310,2,   34.308,2, -999.000,9,   47.400,2,   94.570,2,   41.180,2,    0.000,2,    2.850,2,    0.003,2, -999.000,9, -999.000,9, -999.000,9, -999.000,9
           NA,    P03W,    221,   1,-999.0,      39,  2,19850508,0629,  24.2533,  170.3517,  5792, 1031.400,    3.992,   34.385,2,   34.383,2, -999.000,9,   50.900,2,  111.800,2,   42.590,2,    0.000,2,    2.920,2,   -0.001,2,    0.007,2, -999.000,9, -999.000,9, -999.000,9
           NA,    P03W,    221,   1,-999.0,      20,  2,19850508,0629,  24.2533,  170.3517,  5792, 1175.600,    3.593,   34.472,2,   34.470,2, -999.000,9,   56.500,2,  118.830,2,   42.230,2,    0.000,2,    2.890,2,   -0.001,6,   -0.006,6, -999.000,9, -999.000,9, -999.000,9
           NA,    P03W,    221,   1,-999.0,      21,  2,19850508,0629,  24.2533,  170.3517,  5792, 1376.400,    3.048,   34.523,2,   34.522,2, -999.000,9,   68.700,2,  129.840,2,   41.810,2,    0.000,2,    2.860,2,   -0.005,2,    0.000,2, -999.000,9, -999.000,9, -999.000,9
           NA,    P03W,    221,   1,-999.0,      22,  2,19850508,0629,  24.2533,  170.3517,  5792, 1551.500,    2.686,   34.550,2,   34.548,2, -999.000,9,   79.100,2,  138.640,2,   41.570,2,    0.000,2,    2.840,2, -999.000,9, -999.000,9, -999.000,9, -999.000,9, -999.000,9
           NA,    P03W,    221,   1,-999.0,      23,  2,19850508,0629,  24.2533,  170.3517,  5792, 1749.800,    2.348,   34.580,2,   34.577,2, -999.000,9,   82.100,2,  145.440,2,   41.210,2,    0.000,2,    2.810,2, -999.000,9, -999.000,9, -999.000,9, -999.000,9, -999.000,9
           NA,    P03W,    221,   1,-999.0,      24,  2,19850508,0629,  24.2533,  170.3517,  5792, 1947.000,    2.116,   34.602,2,   34.600,2, -999.000,9,   91.700,2,  149.580,2,   40.620,2,    0.000,2,    2.760,2, -999.000,9, -999.000,9, -999.000,9, -999.000,9, -999.000,9
           NA,    P03W,    221,   1,-999.0,      25,  2,19850508,0629,  24.2533,  170.3517,  5792, 2149.100,    1.955,   34.621,2,   34.620,2, -999.000,9,  101.700,2,  151.050,2,   40.150,2,    0.000,2,    2.720,2, -999.000,9, -999.000,9, -999.000,9, -999.000,9, -999.000,9
           NA,    P03W,    221,   1,-999.0,      26,  2,19850508,0629,  24.2533,  170.3517,  5792, 2449.000,    1.760,   34.641,2,   34.640,2, -999.000,9,  113.900,2,  152.080,2, -999.000,5,    0.000,2,    2.650,2, -999.000,9, -999.000,9, -999.000,9, -999.000,9, -999.000,9
           NA,    P03W,    221,   1,-999.0,      27,  2,19850508,0629,  24.2533,  170.3517,  5792, 2757.500,    1.662,   34.654,2,   34.652,2, -999.000,9,  124.300,2,  151.770,2,   38.610,2,    0.000,2,    2.600,2, -999.000,9, -999.000,9, -999.000,9, -999.000,9, -999.000,9
           NA,    P03W,    221,   1,-999.0,      28,  2,19850508,0629,  24.2533,  170.3517,  5792, 3065.800,    1.588,   34.662,2,   34.661,2, -999.000,9,  132.500,2,  151.690,2,   38.200,2,    0.000,2,    2.570,2, -999.000,9, -999.000,9, -999.000,9, -999.000,9, -999.000,9
           NA,    P03W,    221,   1,-999.0,      29,  2,19850508,0629,  24.2533,  170.3517,  5792, 3375.800,    1.542,   34.670,2,   34.668,2, -999.000,9,  139.900,2,  149.180,2,   37.620,2,    0.000,2,    2.540,2, -999.000,9, -999.000,9, -999.000,9, -999.000,9, -999.000,9
           NA,    P03W,    221,   1,-999.0,      30,  2,19850508,0629,  24.2533,  170.3517,  5792, 3688.000,    1.501,   34.676,2,   34.674,2, -999.000,9,  146.900,2,  147.330,2,   37.100,2,    0.000,2,    2.500,2, -999.000,9, -999.000,9, -999.000,9, -999.000,9, -999.000,9
           NA,    P03W,    221,   1,-999.0,      31,  2,19850508,0629,  24.2533,  170.3517,  5792, 3995.700,    1.475,   34.681,2,   34.678,2, -999.000,9,  153.000,2,  145.260,2,   36.860,2,    0.000,2,    2.470,2, -999.000,9, -999.000,9, -999.000,9, -999.000,9, -999.000,9
           NA,    P03W,    221,   1,-999.0,      32,  2,19850508,0629,  24.2533,  170.3517,  5792, 4304.500,    1.458,   34.685,2,   34.683,2, -999.000,9,  160.300,2,  140.760,2,   36.230,2,    0.000,2,    2.420,2, -999.000,9, -999.000,9, -999.000,9, -999.000,9, -999.000,9
           NA,    P03W,    221,   1,-999.0,      33,  2,19850508,0629,  24.2533,  170.3517,  5792, 4659.100,    1.442,   34.689,2,   34.688,2, -999.000,9,  168.200,2,  137.580,2,   35.550,2,    0.000,2,    2.390,2, -999.000,9, -999.000,9, -999.000,9, -999.000,9, -999.000,9
           NA,    P03W,    221,   1,-999.0,      34,  2,19850508,0629,  24.2533,  170.3517,  5792, 5000.000,    1.435,   34.693,2,   34.691,2, -999.000,9,  175.100,2,  133.750,2,   35.350,2,    0.000,2,    2.370,2, -999.000,9, -999.000,9, -999.000,9, -999.000,9, -999.000,9
           NA,    P03W,    221,   1,-999.0,      35,  2,19850508,0629,  24.2533,  170.3517,  5792, 5392.400,    1.449,   34.695,2,   34.694,2, -999.000,9,  179.900,2,  131.460,2,   34.890,2,    0.000,2,    2.360,2, -999.000,9, -999.000,9, -999.000,9, -999.000,9, -999.000,9
           NA,    P03W,    221,   1,-999.0,      36,  2,19850508,0629,  24.2533,  170.3517,  5792, 5896.800,    1.491,   34.697,2,   34.696,2, -999.000,9,  182.500,2,  128.960,2,   34.590,2,    0.000,2,    2.330,2,   -0.002,2,    0.014,2, -999.000,9, -999.000,9, -999.000,9