BOTTLE,20203103JOAExport
EXPOCODE,SECT_ID,STNNBR,CASTNO,SAMPNO,BTLNBR,BTLNBR_FLAG_W,DATE,TIME,LATITUDE,LONGITUDE,DEPTH,CTDPRS,CTDTMP,CTDSAL,CTDSAL_FLAG_W,SALNTY,SALNTY_FLAG_W,CTDOXY,CTDOXY_FLAG_W,OXYGEN,OXYGEN_FLAG_W,SILCAT,SILCAT_FLAG_W,NITRAT,NITRAT_FLAG_W,NITRIT,NITRIT_FLAG_W,PHSPHT,PHSPHT_FLAG_W,CFC-11,CFC-11_FLAG_W,CFC-12,CFC-12_FLAG_W,SF6,SF6_FLAG_W,TCARBN,TCARBN_FLAG_W,ALKALI,ALKALI_FLAG_W
,,,,,,,,,,,,,DB,ITS-90,PSS-78,,PSS-78,,UMOL/KG,,UMOL/KG,,UMOL/KG,,UMOL/KG,,UMOL/KG,,UMOL/KG,,PMOL/KG,,PMOL/KG,,FMOL/KG,,UMOL/KG,,UMOL/KG
           NA,    P03W,    333,   1,-999.0,       5,  2,19850526,0914,  24.2800,  132.8350,  3965,    0.000,   24.804,   34.878,2,   34.881,2, -999.000,9,  214.200,2,    1.370,2,    0.020,2,    0.000,2,    0.080,2,    1.545,2,    0.842,2, -999.000,9, -999.000,9, -999.000,9
           NA,    P03W,    333,   1,-999.0,      38,  2,19850526,0914,  24.2800,  132.8350,  3965,   21.300,   24.470,   34.870,2,   34.872,2, -999.000,9,  215.500,2,    1.190,2,    0.030,2,    0.000,2,    0.060,2, -999.000,9, -999.000,9, -999.000,9, -999.000,9, -999.000,9
           NA,    P03W,    333,   1,-999.0,       3,  2,19850526,0914,  24.2800,  132.8350,  3965,   41.300,   24.210,   34.874,2,   34.875,2, -999.000,9,  216.700,2,    1.180,2,    0.030,2,    0.000,2,    0.060,2,    1.587,2,    0.838,2, -999.000,9, -999.000,9, -999.000,9
           NA,    P03W,    333,   1,-999.0,       4,  2,19850526,0914,  24.2800,  132.8350,  3965,   72.600,   22.313,   34.868,2,   34.868,2, -999.000,9,  225.400,2,    1.190,2,    0.030,2,    0.000,2,    0.070,2, -999.000,9, -999.000,9, -999.000,9, -999.000,9, -999.000,9
           NA,    P03W,    333,   1,-999.0,       1,  2,19850526,0914,  24.2800,  132.8350,  3965,  102.800,   20.600,   34.875,2,   34.875,2, -999.000,9,  222.600,2,    1.170,2,    0.030,2,    0.000,2,    0.060,2,    1.717,2,    0.898,2, -999.000,9, -999.000,9, -999.000,9
           NA,    P03W,    333,   1,-999.0,       6,  2,19850526,0914,  24.2800,  132.8350,  3965,  142.700,   19.174,   34.855,2,   34.856,2, -999.000,9,  210.600,2,    2.410,2,    1.870,2,    0.030,2,    0.200,2,    1.753,2,    0.920,2, -999.000,9, -999.000,9, -999.000,9
           NA,    P03W,    333,   1,-999.0,       7,  2,19850526,0914,  24.2800,  132.8350,  3965,  183.000,   18.516,   34.846,2,   34.847,2, -999.000,9,  203.100,2,    2.820,2,    3.240,2,    0.010,2,    0.290,2,    1.715,2, -999.000,9, -999.000,9, -999.000,9, -999.000,9
           NA,    P03W,    333,   1,-999.0,       8,  2,19850526,0914,  24.2800,  132.8350,  3965,  232.800,   17.676,   34.820,2,   34.822,2, -999.000,9,  201.600,2,    3.440,2,    4.600,2,    0.010,2,    0.380,2,    1.672,2,    0.868,2, -999.000,9, -999.000,9, -999.000,9
           NA,    P03W,    333,   1,-999.0,       9,  2,19850526,0914,  24.2800,  132.8350,  3965,  282.600,   16.757,   34.775,2,   34.773,2, -999.000,9,  200.600,2,    4.890,2,    6.010,2,    0.010,2,    0.470,2,    1.640,2,    0.841,2, -999.000,9, -999.000,9, -999.000,9
           NA,    P03W,    333,   1,-999.0,      10,  2,19850526,0914,  24.2800,  132.8350,  3965,  332.800,   15.953,   34.720,2,   34.718,2, -999.000,9,  198.000,2,    6.770,2,    7.460,2,    0.000,2,    0.550,2,    1.566,2,    0.802,2, -999.000,9, -999.000,9, -999.000,9
           NA,    P03W,    333,   1,-999.0,      11,  2,19850526,0914,  24.2800,  132.8350,  3965,  382.600,   15.041,   34.645,2,   34.647,2, -999.000,9,  194.500,2,    9.270,2,    9.200,2,    0.000,2,    0.690,2,    1.457,2,    0.757,2, -999.000,9, -999.000,9, -999.000,9
           NA,    P03W,    333,   1,-999.0,      12,  2,19850526,0914,  24.2800,  132.8350,  3965,  442.400,   13.469,   34.517,2,   34.515,2, -999.000,9,  183.000,2,   15.330,2,   12.780,2,    0.000,2,    0.950,2,    1.223,2,    0.611,2, -999.000,9, -999.000,9, -999.000,9
           NA,    P03W,    333,   1,-999.0,      13,  2,19850526,0914,  24.2800,  132.8350,  3965,  501.500,   11.845,   34.389,2,   34.383,2, -999.000,9,  174.700,2,   21.380,2,   16.340,2,    0.000,2,    1.190,2,    1.033,2,    0.520,2, -999.000,9, -999.000,9, -999.000,9
           NA,    P03W,    333,   1,-999.0,      14,  2,19850526,0914,  24.2800,  132.8350,  3965,  562.500,   10.186,   34.276,2,   34.276,2, -999.000,9,  165.400,2,   29.730,2,   19.910,2,    0.000,2,    1.460,2,    0.890,6,    0.459,6, -999.000,9, -999.000,9, -999.000,9
           NA,    P03W,    333,   1,-999.0,      15,  2,19850526,0914,  24.2800,  132.8350,  3965,  643.100,    8.000,   34.181,2,   34.181,2, -999.000,9,  137.900,2,   48.330,2,   26.420,2,    0.000,2,    1.910,2,    0.616,2,    0.331,2, -999.000,9, -999.000,9, -999.000,9
           NA,    P03W,    333,   1,-999.0,      16,  2,19850526,0914,  24.2800,  132.8350,  3965,  725.000,    6.716,   34.164,2,   34.164,2, -999.000,9,  108.800,2,   63.170,2,   31.420,2,    0.000,2,    2.250,2,    0.351,2,    0.203,2, -999.000,9, -999.000,9, -999.000,9
           NA,    P03W,    333,   1,-999.0,      17,  2,19850526,0914,  24.2800,  132.8350,  3965,  805.900,    5.699,   34.194,2,   34.195,2, -999.000,9,   83.300,2,   77.590,2,   35.590,2,    0.000,2,    2.550,2,    0.167,2,    0.086,2, -999.000,9, -999.000,9, -999.000,9
           NA,    P03W,    333,   1,-999.0,      18,  2,19850526,0914,  24.2800,  132.8350,  3965,  906.500,    4.888,   34.257,2,   34.258,2, -999.000,9,   66.600,2,   92.870,2,   38.400,2,    0.000,2,    2.730,2,    0.072,2, -999.000,9, -999.000,9, -999.000,9, -999.000,9
           NA,    P03W,    333,   1,-999.0,      23,  2,19850526,0914,  24.2800,  132.8350,  3965, 1057.300,    3.842,   34.360,2,   34.360,2, -999.000,9,   57.800,2,  116.390,2,   40.720,2,    0.000,2,    2.880,2, -999.000,9, -999.000,9, -999.000,9, -999.000,9, -999.000,9
           NA,    P03W,    333,   1,-999.0,      20,  2,19850526,0914,  24.2800,  132.8350,  3965, 1208.700,    3.267,   34.431,2,   34.425,2, -999.000,9,   62.100,2,  128.780,2,   41.070,2,    0.000,2,    2.880,2,    0.008,2,    0.011,2, -999.000,9, -999.000,9, -999.000,9
           NA,    P03W,    333,   1,-999.0,      21,  2,19850526,0914,  24.2800,  132.8350,  3965, 1410.700,    2.793,   34.500,2,   34.501,2, -999.000,9,   76.000,2,  136.950,2,   40.560,2,    0.000,2,    2.840,2, -999.000,9, -999.000,9, -999.000,9, -999.000,9, -999.000,9
           NA,    P03W,    333,   1,-999.0,      22,  2,19850526,0914,  24.2800,  132.8350,  3965, 1612.200,    2.438,   34.549,2,   34.550,2, -999.000,9,   90.000,2,  142.790,2,   39.940,2,    0.000,2,    2.790,2,    0.002,2,    0.010,2, -999.000,9, -999.000,9, -999.000,9
           NA,    P03W,    333,   1,-999.0,      39,  2,19850526,0914,  24.2800,  132.8350,  3965, 1813.200,    2.184,   34.583,2,   34.583,2, -999.000,9,  103.100,2,  143.760,2,   39.270,2,    0.000,2,    2.720,2, -999.000,9, -999.000,9, -999.000,9, -999.000,9, -999.000,9
           NA,    P03W,    333,   1,-999.0,      24,  2,19850526,0914,  24.2800,  132.8350,  3965, 2012.400,    2.001,   34.606,2,   34.608,2, -999.000,9,  113.800,2,  145.360,2,   38.660,2,    0.000,2,    2.680,2,   -0.006,2,    0.010,2, -999.000,9, -999.000,9, -999.000,9
           NA,    P03W,    333,   1,-999.0,      40,  2,19850526,0914,  24.2800,  132.8350,  3965, 2215.600,    1.860,   34.624,2,   34.625,2, -999.000,9,  123.200,2,  145.060,2,   37.940,2,    0.000,2,    2.630,2, -999.000,9, -999.000,9, -999.000,9, -999.000,9, -999.000,9
           NA,    P03W,    333,   1,-999.0,      26,  2,19850526,0914,  24.2800,  132.8350,  3965, 2317.300,    1.819,   34.631,2,   34.632,2, -999.000,9,  126.300,2,  144.330,2,   37.740,2,    0.000,2,    2.630,2, -999.000,9, -999.000,9, -999.000,9, -999.000,9, -999.000,9
           NA,    P03W,    333,   1,-999.0,      27,  2,19850526,0914,  24.2800,  132.8350,  3965, 2419.300,    1.766,   34.638,2,   34.638,2, -999.000,9,  129.500,2,  143.180,2,   37.730,2,    0.000,2,    2.620,2,   -0.006,2,    0.007,2, -999.000,9, -999.000,9, -999.000,9
           NA,    P03W,    333,   1,-999.0,      28,  2,19850526,0914,  24.2800,  132.8350,  3965, 2521.800,    1.736,   34.642,2,   34.642,2, -999.000,9,  132.100,2,  143.300,2,   37.420,2,    0.000,2,    2.590,2, -999.000,9, -999.000,9, -999.000,9, -999.000,9, -999.000,9
           NA,    P03W,    333,   1,-999.0,      29,  2,19850526,0914,  24.2800,  132.8350,  3965, 2622.700,    1.714,   34.646,2,   34.646,2, -999.000,9,  133.500,2,  143.210,2,   37.310,2,    0.000,2,    2.580,2, -999.000,9, -999.000,9, -999.000,9, -999.000,9, -999.000,9
           NA,    P03W,    333,   1,-999.0,      30,  2,19850526,0914,  24.2800,  132.8350,  3965, 2824.800,    1.656,   34.654,2,   34.654,2, -999.000,9,  139.400,2,  143.960,2,   37.160,2,    0.000,2,    2.570,2, -999.000,9, -999.000,9, -999.000,9, -999.000,9, -999.000,9
           NA,    P03W,    333,   1,-999.0,      31,  2,19850526,0914,  24.2800,  132.8350,  3965, 3029.000,    1.616,   34.660,2,   34.659,2, -999.000,9,  143.500,2,  143.030,2,   36.950,2,    0.000,2,    2.570,2,   -0.006,2,    0.003,2, -999.000,9, -999.000,9, -999.000,9
           NA,    P03W,    333,   1,-999.0,      32,  2,19850526,0914,  24.2800,  132.8350,  3965, 3234.400,    1.585,   34.665,2,   34.665,2, -999.000,9,  146.100,2,  142.510,2,   36.690,2,    0.000,2,    2.540,2, -999.000,9, -999.000,9, -999.000,9, -999.000,9, -999.000,9
           NA,    P03W,    333,   1,-999.0,      33,  2,19850526,0914,  24.2800,  132.8350,  3965, 3438.700,    1.576,   34.668,2,   34.668,2, -999.000,9,  148.900,2,  141.790,2,   36.540,2,    0.000,2,    2.540,2, -999.000,9, -999.000,9, -999.000,9, -999.000,9, -999.000,9
           NA,    P03W,    333,   1,-999.0,      34,  2,19850526,0914,  24.2800,  132.8350,  3965, 3642.800,    1.560,   34.672,2,   34.671,2, -999.000,9,  151.200,2,  141.700,2,   36.380,2,    0.000,2,    2.520,2,   -0.002,2,    0.008,2, -999.000,9, -999.000,9, -999.000,9
           NA,    P03W,    333,   1,-999.0,      35,  2,19850526,0914,  24.2800,  132.8350,  3965, 3844.300,    1.557,   34.674,2,   34.674,2, -999.000,9,  153.400,2,  142.240,2,   36.280,2,    0.000,2,    2.510,2, -999.000,9, -999.000,9, -999.000,9, -999.000,9, -999.000,9
           NA,    P03W,    333,   1,-999.0,      37,  2,19850526,0914,  24.2800,  132.8350,  3965, 4039.800,    1.562,   34.676,2,   34.675,2, -999.000,9,  154.000,2,  142.360,2,   36.220,2,    0.000,2,    2.500,2,    0.001,6, -999.000,9, -999.000,9, -999.000,9, -999.000,9