BOTTLE,20203103JOAExport
EXPOCODE,SECT_ID,STNNBR,CASTNO,SAMPNO,BTLNBR,BTLNBR_FLAG_W,DATE,TIME,LATITUDE,LONGITUDE,DEPTH,CTDPRS,CTDTMP,CTDSAL,CTDSAL_FLAG_W,SALNTY,SALNTY_FLAG_W,CTDOXY,CTDOXY_FLAG_W,OXYGEN,OXYGEN_FLAG_W,SILCAT,SILCAT_FLAG_W,NITRAT,NITRAT_FLAG_W,NITRIT,NITRIT_FLAG_W,PHSPHT,PHSPHT_FLAG_W,CFC-11,CFC-11_FLAG_W,CFC-12,CFC-12_FLAG_W,SF6,SF6_FLAG_W,TCARBN,TCARBN_FLAG_W,ALKALI,ALKALI_FLAG_W
,,,,,,,,,,,,,DB,ITS-90,PSS-78,,PSS-78,,UMOL/KG,,UMOL/KG,,UMOL/KG,,UMOL/KG,,UMOL/KG,,UMOL/KG,,PMOL/KG,,PMOL/KG,,FMOL/KG,,UMOL/KG,,UMOL/KG
           NA,    P03E,    173,   1,-999.0,       1,  2,19850425,2216,  23.3983, -170.7417,  4670,    0.000,   24.280,   35.276,2,   35.280,2, -999.000,9,  212.400,2,    0.010,2,    0.040,2,    0.000,2,    0.090,2,    1.569,2,    0.818,2, -999.000,9, -999.000,9, -999.000,9
           NA,    P03E,    173,   1,-999.0,       2,  2,19850425,2216,  23.3983, -170.7417,  4670,   23.400,   24.193,   35.276,2,   35.278,2, -999.000,9,  214.400,2,    0.000,2,    0.040,2,    0.000,2,    0.090,2, -999.000,9, -999.000,9, -999.000,9, -999.000,9, -999.000,9
           NA,    P03E,    173,   1,-999.0,       3,  2,19850425,2216,  23.3983, -170.7417,  4670,   43.000,   23.894,   35.280,2,   35.282,2, -999.000,9,  214.900,2,    0.000,2,    0.040,2,    0.000,2,    0.070,2,    1.577,2,    0.827,2, -999.000,9, -999.000,9, -999.000,9
           NA,    P03E,    173,   1,-999.0,       4,  2,19850425,2216,  23.3983, -170.7417,  4670,   73.200,   23.527,   35.273,2,   35.274,2, -999.000,9,  216.300,2,    0.000,2,    0.040,2,    0.000,2,    0.070,2, -999.000,9, -999.000,9, -999.000,9, -999.000,9, -999.000,9
           NA,    P03E,    173,   1,-999.0,       5,  2,19850425,2216,  23.3983, -170.7417,  4670,  103.300,   23.061,   35.281,2,   35.284,2, -999.000,9,  211.200,2,    0.000,2,    0.040,2,    0.000,2,    0.080,2,    1.562,2,    0.800,2, -999.000,9, -999.000,9, -999.000,9
           NA,    P03E,    173,   1,-999.0,       6,  2,19850425,2216,  23.3983, -170.7417,  4670,  144.200,   21.686,   35.207,2,   35.214,2, -999.000,9,  201.300,2,    0.050,2,    0.460,2,    0.110,2,    0.130,2,    1.637,2,    0.848,2, -999.000,9, -999.000,9, -999.000,9
           NA,    P03E,    173,   1,-999.0,       7,  2,19850425,2216,  23.3983, -170.7417,  4670,  184.300,   20.088,   35.065,2,   35.070,2, -999.000,9,  197.100,2,    1.170,2,    1.910,2,    0.020,2,    0.220,2,    1.650,2,    0.828,2, -999.000,9, -999.000,9, -999.000,9
           NA,    P03E,    173,   1,-999.0,       8,  2,19850425,2216,  23.3983, -170.7417,  4670,  223.700,   17.763,   34.859,2,   34.858,2, -999.000,9,  202.800,2,    2.100,2,    3.520,2,    0.010,2,    0.340,2,    1.778,2,    0.894,2, -999.000,9, -999.000,9, -999.000,9
           NA,    P03E,    173,   1,-999.0,       9,  2,19850425,2216,  23.3983, -170.7417,  4670,  264.800,   16.271,   34.726,2,   34.725,2, -999.000,9,  199.700,2,    3.630,2,    5.770,2,    0.010,2,    0.480,2,    1.752,2,    0.876,2, -999.000,9, -999.000,9, -999.000,9
           NA,    P03E,    173,   1,-999.0,      10,  2,19850425,2216,  23.3983, -170.7417,  4670,  304.300,   14.602,   34.561,2,   34.545,2, -999.000,9,  202.500,2,    6.360,2,    7.860,2,    0.010,2,    0.620,2,    1.740,2,    0.852,2, -999.000,9, -999.000,9, -999.000,9
           NA,    P03E,    173,   1,-999.0,      11,  2,19850425,2216,  23.3983, -170.7417,  4670,  356.100,   13.058,   34.416,2,   34.415,2, -999.000,9,  204.000,2,    9.280,2,   10.260,2,    0.010,2,    0.780,2,    1.706,2,    0.839,2, -999.000,9, -999.000,9, -999.000,9
           NA,    P03E,    173,   1,-999.0,      12,  2,19850425,2216,  23.3983, -170.7417,  4670,  406.900,   10.787,   34.242,2,   34.237,2, -999.000,9,  179.800,2,   18.800,2,   16.840,2,    0.000,2,    1.230,2,    1.158,2,    0.564,2, -999.000,9, -999.000,9, -999.000,9
           NA,    P03E,    173,   1,-999.0,      13,  2,19850425,2216,  23.3983, -170.7417,  4670,  456.400,   10.066,   34.195,2,   34.189,2, -999.000,9,  190.800,2,   21.110,2,   17.580,2,    0.000,2,    1.260,2,    1.242,2,    0.610,2, -999.000,9, -999.000,9, -999.000,9
           NA,    P03E,    173,   1,-999.0,      14,  2,19850425,2216,  23.3983, -170.7417,  4670,  515.700,    8.233,   34.093,2,   34.093,2, -999.000,9,  159.300,2,   34.410,2,   23.710,2,    0.000,2,    1.690,2,    0.747,2,    0.377,2, -999.000,9, -999.000,9, -999.000,9
           NA,    P03E,    173,   1,-999.0,      15,  2,19850425,2216,  23.3983, -170.7417,  4670,  574.100,    7.223,   34.071,2,   34.072,2, -999.000,9,  131.400,2,   46.090,2,   28.400,2,    0.000,2,    2.020,2,    0.463,2,    0.242,2, -999.000,9, -999.000,9, -999.000,9
           NA,    P03E,    173,   1,-999.0,      16,  2,19850425,2216,  23.3983, -170.7417,  4670,  634.900,    6.028,   34.094,2,   34.094,2, -999.000,9,   90.700,2,   64.540,2,   33.970,2,    0.000,2,    2.450,2,    0.204,2,    0.111,2, -999.000,9, -999.000,9, -999.000,9
           NA,    P03E,    173,   1,-999.0,      38,  2,19850425,2216,  23.3983, -170.7417,  4670,  697.100,    5.325,   34.133,2,   34.134,2, -999.000,9,   71.100,2,   77.980,2,   37.350,2,    0.000,2,    2.640,2,    0.120,6,    0.066,2, -999.000,9, -999.000,9, -999.000,9
           NA,    P03E,    173,   1,-999.0,      18,  2,19850425,2216,  23.3983, -170.7417,  4670,  768.400,    4.932,   34.182,2,   34.182,2, -999.000,9,   57.500,2,   87.810,2,   39.120,2,    0.000,2,    2.770,2,    0.066,2,    0.037,6, -999.000,9, -999.000,9, -999.000,9
           NA,    P03E,    173,   1,-999.0,      19,  2,19850425,2216,  23.3983, -170.7417,  4670,  838.600,    4.509,   34.258,2,   34.266,2, -999.000,9,   44.000,2,   98.230,2,   41.070,2,    0.000,2,    2.920,2,    0.027,6,    0.007,6, -999.000,9, -999.000,9, -999.000,9
           NA,    P03E,    173,   1,-999.0,      17,  2,19850425,2216,  23.3983, -170.7417,  4670,  909.000,    4.145,   34.317,2,   34.315,2, -999.000,9,   40.000,2,  108.040,2,   41.970,2,    0.000,2,    2.980,2,    0.009,2,    0.004,2, -999.000,9, -999.000,9, -999.000,9
           NA,    P03E,    173,   1,-999.0,      21,  2,19850425,2216,  23.3983, -170.7417,  4670, 1009.700,    3.886,   34.407,2,   34.406,2, -999.000,9,   42.700,2,  113.260,2,   42.020,2,    0.000,2,    2.940,2,   -0.006,2,   -0.003,2, -999.000,9, -999.000,9, -999.000,9
           NA,    P03E,    173,   1,-999.0,      39,  2,19850425,2216,  23.3983, -170.7417,  4670, 1106.600,    3.582,   34.451,2,   34.451,2, -999.000,9,   48.200,2,  120.070,2,   42.220,2,    0.000,2,    2.940,2, -999.000,9, -999.000,9, -999.000,9, -999.000,9, -999.000,9
           NA,    P03E,    173,   1,-999.0,      23,  2,19850425,2216,  23.3983, -170.7417,  4670, 1253.900,    3.255,   34.512,2,   34.512,2, -999.000,9,   60.100,2,  126.870,2,   41.950,2,    0.000,2,    2.900,2, -999.000,9, -999.000,9, -999.000,9, -999.000,9, -999.000,9
           NA,    P03E,    173,   1,-999.0,      24,  2,19850425,2216,  23.3983, -170.7417,  4670, 1402.600,    2.935,   34.543,2,   34.545,2, -999.000,9,   67.400,2,  133.470,2,   41.520,2,    0.000,2,    2.910,2, -999.000,9, -999.000,9, -999.000,9, -999.000,9, -999.000,9
           NA,    P03E,    173,   1,-999.0,      25,  2,19850425,2216,  23.3983, -170.7417,  4670, 1602.000,    2.535,   34.577,2,   34.578,2, -999.000,9,   78.500,2,  140.660,2,   40.990,2,    0.000,2,    2.840,2, -999.000,9, -999.000,9, -999.000,9, -999.000,9, -999.000,9
           NA,    P03E,    173,   1,-999.0,      26,  2,19850425,2216,  23.3983, -170.7417,  4670, 1810.800,    2.259,   34.600,2,   34.600,2, -999.000,9,   87.100,2,  146.660,2,   40.460,2,    0.000,2,    2.800,2, -999.000,9, -999.000,9, -999.000,9, -999.000,9, -999.000,9
           NA,    P03E,    173,   1,-999.0,      27,  2,19850425,2216,  23.3983, -170.7417,  4670, 2009.700,    2.039,   34.617,2,   34.617,2, -999.000,9,   95.200,2,  151.460,2,   39.930,2,    0.000,2,    2.780,2, -999.000,9, -999.000,9, -999.000,9, -999.000,9, -999.000,9
           NA,    P03E,    173,   1,-999.0,      28,  2,19850425,2216,  23.3983, -170.7417,  4670, 2312.800,    1.835,   34.634,2,   34.634,2, -999.000,9,  105.100,2,  154.660,2,   39.400,2,    0.000,2,    2.710,2, -999.000,9, -999.000,9, -999.000,9, -999.000,9, -999.000,9
           NA,    P03E,    173,   1,-999.0,      29,  2,19850425,2216,  23.3983, -170.7417,  4670, 2599.400,    1.682,   34.647,2,   34.648,2, -999.000,9,  116.100,2,  154.690,2,   38.660,2,    0.000,2,    2.670,2,   -0.005,2,   -0.003,2, -999.000,9, -999.000,9, -999.000,9
           NA,    P03E,    173,   1,-999.0,      30,  2,19850425,2216,  23.3983, -170.7417,  4670, 2914.300,    1.587,   34.659,2,   34.659,2, -999.000,9,  126.200,2,  154.110,2,   37.920,2,    0.000,2,    2.620,2, -999.000,9, -999.000,9, -999.000,9, -999.000,9, -999.000,9
           NA,    P03E,    173,   1,-999.0,      31,  2,19850425,2216,  23.3983, -170.7417,  4670, 3214.000,    1.518,   34.668,2,   34.668,2, -999.000,9,  136.600,2,  151.750,2,   37.390,2,    0.000,2,    2.550,2, -999.000,9, -999.000,9, -999.000,9, -999.000,9, -999.000,9
           NA,    P03E,    173,   1,-999.0,      32,  2,19850425,2216,  23.3983, -170.7417,  4670, 3516.400,    1.484,   34.674,2,   34.674,2, -999.000,9,  143.500,2,  149.790,2,   36.820,2,    0.000,2,    2.520,2, -999.000,9, -999.000,9, -999.000,9, -999.000,9, -999.000,9
           NA,    P03E,    173,   1,-999.0,      37,  2,19850425,2216,  23.3983, -170.7417,  4670, 3816.700,    1.463,   34.679,2,   34.678,2, -999.000,9,  149.700,2,  147.050,2,   36.400,2,    0.000,2,    2.490,2, -999.000,9, -999.000,9, -999.000,9, -999.000,9, -999.000,9
           NA,    P03E,    173,   1,-999.0,      34,  2,19850425,2216,  23.3983, -170.7417,  4670, 4126.000,    1.453,   34.682,2,   34.683,2, -999.000,9,  155.400,2,  143.510,2,   36.080,2,    0.000,2,    2.460,2, -999.000,9, -999.000,9, -999.000,9, -999.000,9, -999.000,9
           NA,    P03E,    173,   1,-999.0,      35,  2,19850425,2216,  23.3983, -170.7417,  4670, 4433.500,    1.449,   34.686,2,   34.685,2, -999.000,9,  160.400,2,  140.770,2,   35.350,2,    0.000,2,    2.410,2,    0.004,2,   -0.001,2, -999.000,9, -999.000,9, -999.000,9
           NA,    P03E,    173,   1,-999.0,      36,  2,19850425,2216,  23.3983, -170.7417,  4670, 4732.100,    1.457,   34.688,2,   34.688,2, -999.000,9,  164.000,2,  139.620,2,   35.350,2,    0.000,2,    2.410,2, -999.000,9, -999.000,9, -999.000,9, -999.000,9, -999.000,9