BOTTLE,20203103JOAExport
EXPOCODE,SECT_ID,STNNBR,CASTNO,SAMPNO,BTLNBR,BTLNBR_FLAG_W,DATE,TIME,LATITUDE,LONGITUDE,DEPTH,CTDPRS,CTDTMP,CTDSAL,CTDSAL_FLAG_W,SALNTY,SALNTY_FLAG_W,CTDOXY,CTDOXY_FLAG_W,OXYGEN,OXYGEN_FLAG_W,SILCAT,SILCAT_FLAG_W,NITRAT,NITRAT_FLAG_W,NITRIT,NITRIT_FLAG_W,PHSPHT,PHSPHT_FLAG_W,CFC-11,CFC-11_FLAG_W,CFC-12,CFC-12_FLAG_W,SF6,SF6_FLAG_W,TCARBN,TCARBN_FLAG_W,ALKALI,ALKALI_FLAG_W
,,,,,,,,,,,,,DB,ITS-90,PSS-78,,PSS-78,,UMOL/KG,,UMOL/KG,,UMOL/KG,,UMOL/KG,,UMOL/KG,,UMOL/KG,,PMOL/KG,,PMOL/KG,,FMOL/KG,,UMOL/KG,,UMOL/KG
           NA,    P03W,    277,   1,-999.0,       1,  2,19850517,1350,  24.2467,  148.4467,  5787,    4.500,   25.448,   35.038,2,   35.040,2, -999.000,9,  209.900,2,    1.370,2,    0.020,2,    0.000,2,    0.050,2,    1.484,2,    0.749,2, -999.000,9, -999.000,9, -999.000,9
           NA,    P03W,    277,   1,-999.0,       2,  2,19850517,1350,  24.2467,  148.4467,  5787,   24.100,   25.316,   35.025,2,   35.033,2, -999.000,9,  209.900,2,    1.270,2,    0.010,2,    0.000,2,    0.050,2,    1.459,2,    0.756,2, -999.000,9, -999.000,9, -999.000,9
           NA,    P03W,    277,   1,-999.0,       3,  2,19850517,1350,  24.2467,  148.4467,  5787,   44.400,   24.610,   35.039,2,   35.039,2, -999.000,9,  214.700,2,    1.170,2,    0.010,2,    0.000,2,    0.040,2, -999.000,9, -999.000,9, -999.000,9, -999.000,9, -999.000,9
           NA,    P03W,    277,   1,-999.0,       4,  2,19850517,1350,  24.2467,  148.4467,  5787,   74.700,   22.882,   34.947,2,   34.944,2, -999.000,9,  221.600,2,    1.270,2,    0.010,2,    0.000,2,    0.050,2,    1.621,2,    0.832,2, -999.000,9, -999.000,9, -999.000,9
           NA,    P03W,    277,   1,-999.0,       5,  2,19850517,1350,  24.2467,  148.4467,  5787,  104.500,   20.935,   34.922,2,   34.929,2, -999.000,9,  217.100,2,    1.470,2,    0.000,2,    0.000,2,    0.070,2, -999.000,9, -999.000,9, -999.000,9, -999.000,9, -999.000,9
           NA,    P03W,    277,   1,-999.0,       6,  2,19850517,1350,  24.2467,  148.4467,  5787,  145.300,   19.249,   34.863,2,   34.862,2, -999.000,9,  217.400,2,    1.560,2,    0.850,2,    0.110,2,    0.150,2,    1.752,2,    0.872,2, -999.000,9, -999.000,9, -999.000,9
           NA,    P03W,    277,   1,-999.0,       7,  2,19850517,1350,  24.2467,  148.4467,  5787,  185.900,   18.174,   34.819,2,   34.820,2, -999.000,9,  214.800,2,    1.950,2,    2.280,2,    0.020,2,    0.220,2,    1.842,2,    0.916,2, -999.000,9, -999.000,9, -999.000,9
           NA,    P03W,    277,   1,-999.0,       8,  2,19850517,1350,  24.2467,  148.4467,  5787,  235.400,   16.860,   34.778,2,   34.776,2, -999.000,9,  206.400,2,    3.810,2,    5.110,2,    0.010,2,    0.390,2,    1.760,2,    0.878,2, -999.000,9, -999.000,9, -999.000,9
           NA,    P03W,    277,   1,-999.0,       9,  2,19850517,1350,  24.2467,  148.4467,  5787,  285.500,   16.166,   34.751,2,   34.749,2, -999.000,9,  212.900,2,    4.590,2,    5.590,2,    0.010,2,    0.430,2,    1.791,2,    0.906,2, -999.000,9, -999.000,9, -999.000,9
           NA,    P03W,    277,   1,-999.0,      10,  2,19850517,1350,  24.2467,  148.4467,  5787,  335.700,   15.585,   34.702,2,   34.701,2, -999.000,9,  206.400,2,    5.960,2,    7.170,2,    0.000,2,    0.530,2,    1.615,2,    0.790,2, -999.000,9, -999.000,9, -999.000,9
           NA,    P03W,    277,   1,-999.0,      11,  2,19850517,1350,  24.2467,  148.4467,  5787,  386.000,   14.229,   34.570,2,   34.570,2, -999.000,9,  199.000,2,    9.680,2,    9.870,2,    0.000,2,    0.720,2,    1.501,2,    0.726,2, -999.000,9, -999.000,9, -999.000,9
           NA,    P03W,    277,   1,-999.0,      12,  2,19850517,1350,  24.2467,  148.4467,  5787,  446.900,   12.967,   34.466,2,   34.470,2, -999.000,9,  189.800,2,   14.080,2,   12.710,2,    0.000,2,    0.920,2,    1.303,2,    0.636,2, -999.000,9, -999.000,9, -999.000,9
           NA,    P03W,    277,   1,-999.0,      13,  2,19850517,1350,  24.2467,  148.4467,  5787,  507.300,   10.948,   34.301,2,   34.309,2, -999.000,9,  182.300,2,   20.630,2,   16.520,2,    0.000,2,    1.190,2,    1.104,6,    0.547,6, -999.000,9, -999.000,9, -999.000,9
           NA,    P03W,    277,   1,-999.0,      14,  2,19850517,1350,  24.2467,  148.4467,  5787,  568.000,    9.277,   34.202,2,   34.202,2, -999.000,9,  162.700,2,   32.170,2,   21.510,2,    0.000,2,    1.540,2, -999.000,9,    0.318,2, -999.000,9, -999.000,9, -999.000,9
           NA,    P03W,    277,   1,-999.0,      15,  2,19850517,1350,  24.2467,  148.4467,  5787,  648.400,    7.908,   34.147,2,   34.148,2, -999.000,9,  135.300,2,   44.000,2,   26.500,2,    0.000,2,    1.900,2,    0.526,2,    0.273,6, -999.000,9, -999.000,9, -999.000,9
           NA,    P03W,    277,   1,-999.0,      16,  2,19850517,1350,  24.2467,  148.4467,  5787,  728.100,    6.312,   34.130,2,   34.131,2, -999.000,9,  100.900,2,   63.460,2,   32.660,2,    0.000,2,    2.320,2, -999.000,9,    0.123,2, -999.000,9, -999.000,9, -999.000,9
           NA,    P03W,    277,   1,-999.0,      17,  2,19850517,1350,  24.2467,  148.4467,  5787,  809.800,    5.273,   34.172,2,   34.168,2, -999.000,9,   74.400,2,   79.790,2,   36.860,2,    0.000,2,    2.620,2,    0.137,2,    0.073,2, -999.000,9, -999.000,9, -999.000,9
           NA,    P03W,    277,   1,-999.0,      18,  2,19850517,1350,  24.2467,  148.4467,  5787,  910.000,    4.614,   34.244,2,   34.259,2, -999.000,9,   55.700,2,   95.430,2,   39.300,2,    0.000,2,    2.810,2, -999.000,9, -999.000,9, -999.000,9, -999.000,9, -999.000,9
           NA,    P03W,    277,   1,-999.0,      39,  2,19850517,1350,  24.2467,  148.4467,  5787, 1060.600,    3.841,   34.386,2,   34.386,2, -999.000,9,   50.000,2,  113.500,2,   41.160,2,    0.000,2,    2.900,2, -999.000,9, -999.000,9, -999.000,9, -999.000,9, -999.000,9
           NA,    P03W,    277,   1,-999.0,      20,  2,19850517,1350,  24.2467,  148.4467,  5787, 1212.400,    3.371,   34.444,2,   34.445,2, -999.000,9,   55.200,2,  124.540,2,   41.450,2,    0.000,2,    2.910,2,    0.001,2,    0.008,2, -999.000,9, -999.000,9, -999.000,9
           NA,    P03W,    277,   1,-999.0,      21,  2,19850517,1350,  24.2467,  148.4467,  5787, 1413.600,    2.790,   34.500,2,   34.500,2, -999.000,9,   62.200,2,  138.810,2,   41.450,2,    0.000,2,    2.900,2, -999.000,9, -999.000,9, -999.000,9, -999.000,9, -999.000,9
           NA,    P03W,    277,   1,-999.0,      22,  2,19850517,1350,  24.2467,  148.4467,  5787, 1616.400,    2.390,   34.548,2,   34.549,2, -999.000,9,   77.400,2,  145.160,2,   40.660,2,    0.000,2,    2.830,2,    0.007,2, -999.000,9, -999.000,9, -999.000,9, -999.000,9
           NA,    P03W,    277,   1,-999.0,      23,  2,19850517,1350,  24.2467,  148.4467,  5787, 1818.900,    2.164,   34.577,2, -999.000,5, -999.000,9,   88.200,2,  147.800,2,   40.180,2,    0.000,2,    2.790,2, -999.000,9, -999.000,9, -999.000,9, -999.000,9, -999.000,9
           NA,    P03W,    277,   1,-999.0,      24,  2,19850517,1350,  24.2467,  148.4467,  5787, 2021.500,    1.971,   34.604,2,   34.604,2, -999.000,9,   99.900,2,  149.460,2,   39.490,2,    0.000,2,    2.750,2, -999.000,9, -999.000,9, -999.000,9, -999.000,9, -999.000,9
           NA,    P03W,    277,   1,-999.0,      37,  2,19850517,1350,  24.2467,  148.4467,  5787, 2223.600,    1.851,   34.621,2,   34.622,2, -999.000,9,  110.400,2,  148.670,2,   38.710,2,    0.000,2,    2.700,2, -999.000,9, -999.000,9, -999.000,9, -999.000,9, -999.000,9
           NA,    P03W,    277,   1,-999.0,      26,  2,19850517,1350,  24.2467,  148.4467,  5787, 2528.500,    1.707,   34.643,2,   34.644,2, -999.000,9,  123.000,2,  148.960,2,   37.830,2,    0.000,2,    2.640,2,   -0.003,2,    0.004,2, -999.000,9, -999.000,9, -999.000,9
           NA,    P03W,    277,   1,-999.0,      27,  2,19850517,1350,  24.2467,  148.4467,  5787, 2832.900,    1.621,   34.656,2,   34.655,2, -999.000,9,  130.800,2,  149.740,2,   37.630,2,    0.000,2,    2.600,2, -999.000,9, -999.000,9, -999.000,9, -999.000,9, -999.000,9
           NA,    P03W,    277,   1,-999.0,      28,  2,19850517,1350,  24.2467,  148.4467,  5787, 3138.400,    1.579,   34.663,2,   34.663,2, -999.000,9,  137.700,2,  148.470,2,   37.040,2,    0.000,2,    2.530,2, -999.000,9, -999.000,9, -999.000,9, -999.000,9, -999.000,9
           NA,    P03W,    277,   1,-999.0,      29,  2,19850517,1350,  24.2467,  148.4467,  5787, 3443.300,    1.533,   34.671,2,   34.669,2, -999.000,9,  143.000,2,  147.690,2,   36.750,2,    0.000,2,    2.540,2,   -0.005,2, -999.000,9, -999.000,9, -999.000,9, -999.000,9
           NA,    P03W,    277,   1,-999.0,      30,  2,19850517,1350,  24.2467,  148.4467,  5787, 3749.200,    1.502,   34.675,2,   34.675,2, -999.000,9,  148.600,2,  147.000,2,   36.460,2,    0.000,2,    2.520,2, -999.000,9, -999.000,9, -999.000,9, -999.000,9, -999.000,9
           NA,    P03W,    277,   1,-999.0,      31,  2,19850517,1350,  24.2467,  148.4467,  5787, 4054.000,    1.479,   34.680,2,   34.680,2, -999.000,9,  154.700,2,  146.030,2,   36.070,2,    0.000,2,    2.480,2, -999.000,9, -999.000,9, -999.000,9, -999.000,9, -999.000,9
           NA,    P03W,    277,   1,-999.0,      32,  2,19850517,1350,  24.2467,  148.4467,  5787, 4361.200,    1.468,   34.683,2,   34.683,2, -999.000,9,  159.900,2,  143.480,2,   35.870,2,    0.000,2,    2.440,2,   -0.004,2,   -0.004,2, -999.000,9, -999.000,9, -999.000,9
           NA,    P03W,    277,   1,-999.0,      33,  2,19850517,1350,  24.2467,  148.4467,  5787, 4668.800,    1.474,   34.687,2,   34.685,2, -999.000,9,  163.800,2,  141.920,2,   35.480,2,    0.000,2,    2.430,2, -999.000,9, -999.000,9, -999.000,9, -999.000,9, -999.000,9
           NA,    P03W,    277,   1,-999.0,      34,  2,19850517,1350,  24.2467,  148.4467,  5787, 5081.300,    1.495,   34.689,2,   34.688,2, -999.000,9,  168.600,2,  138.990,2,   35.090,2,    0.000,2,    2.390,2, -999.000,9, -999.000,9, -999.000,9, -999.000,9, -999.000,9
           NA,    P03W,    277,   1,-999.0,      35,  2,19850517,1350,  24.2467,  148.4467,  5787, 5492.500,    1.523,   34.691,2,   34.691,2, -999.000,9,  172.500,2,  136.060,2,   34.890,2,    0.000,2,    2.380,2,    0.006,2, -999.000,9, -999.000,9, -999.000,9, -999.000,9
           NA,    P03W,    277,   1,-999.0,      36,  2,19850517,1350,  24.2467,  148.4467,  5787, 5872.000,    1.549,   34.694,2,   34.692,2, -999.000,9,  176.000,2,  132.930,2,   34.400,2,    0.000,2,    2.370,2, -999.000,9, -999.000,9, -999.000,9, -999.000,9, -999.000,9