BOTTLE,20203103JOAExport
EXPOCODE,SECT_ID,STNNBR,CASTNO,SAMPNO,BTLNBR,BTLNBR_FLAG_W,DATE,TIME,LATITUDE,LONGITUDE,DEPTH,CTDPRS,CTDTMP,CTDSAL,CTDSAL_FLAG_W,SALNTY,SALNTY_FLAG_W,CTDOXY,CTDOXY_FLAG_W,OXYGEN,OXYGEN_FLAG_W,SILCAT,SILCAT_FLAG_W,NITRAT,NITRAT_FLAG_W,NITRIT,NITRIT_FLAG_W,PHSPHT,PHSPHT_FLAG_W,CFC-11,CFC-11_FLAG_W,CFC-12,CFC-12_FLAG_W,SF6,SF6_FLAG_W,TCARBN,TCARBN_FLAG_W,ALKALI,ALKALI_FLAG_W
,,,,,,,,,,,,,DB,ITS-90,PSS-78,,PSS-78,,UMOL/KG,,UMOL/KG,,UMOL/KG,,UMOL/KG,,UMOL/KG,,UMOL/KG,,PMOL/KG,,PMOL/KG,,FMOL/KG,,UMOL/KG,,UMOL/KG
           NA,    P03E,    100,   1,-999.0,       1,  2,19850415,1231,  24.2583, -151.3150,  5513,    1.000,   22.503,   35.260,2,   35.262,2, -999.000,9,  219.300,2,    1.270,2,    0.000,2,    0.000,2,    0.090,2, -999.000,9, -999.000,9, -999.000,9, -999.000,9, -999.000,9
           NA,    P03E,    100,   1,-999.0,       2,  2,19850415,1231,  24.2583, -151.3150,  5513,   24.000,   22.507,   35.259,2,   35.262,2, -999.000,9,  219.300,2,    1.270,2,    0.000,2,    0.000,2,    0.090,2, -999.000,9, -999.000,9, -999.000,9, -999.000,9, -999.000,9
           NA,    P03E,    100,   1,-999.0,       3,  2,19850415,1231,  24.2583, -151.3150,  5513,   43.800,   22.412,   35.253,2,   35.258,2, -999.000,9,  221.000,2,    0.680,2,    0.000,2,    0.000,2,    0.090,2, -999.000,9, -999.000,9, -999.000,9, -999.000,9, -999.000,9
           NA,    P03E,    100,   1,-999.0,       4,  2,19850415,1231,  24.2583, -151.3150,  5513,   73.300,   22.305,   35.274,2,   35.276,2, -999.000,9,  218.900,2,    0.980,2,    0.000,2,    0.000,2,    0.080,2, -999.000,9, -999.000,9, -999.000,9, -999.000,9, -999.000,9
           NA,    P03E,    100,   1,-999.0,       5,  2,19850415,1231,  24.2583, -151.3150,  5513,  103.000,   22.313,   35.289,2,   35.292,2, -999.000,9,  219.300,2,    0.980,2,    0.000,2,    0.000,2,    0.080,2, -999.000,9, -999.000,9, -999.000,9, -999.000,9, -999.000,9
           NA,    P03E,    100,   1,-999.0,       6,  2,19850415,1231,  24.2583, -151.3150,  5513,  143.400,   22.139,   35.284,2,   35.285,2, -999.000,9,  214.500,2,    1.170,2,    0.070,2,    0.080,2,    0.090,2, -999.000,9, -999.000,9, -999.000,9, -999.000,9, -999.000,9
           NA,    P03E,    100,   1,-999.0,       7,  2,19850415,1231,  24.2583, -151.3150,  5513,  183.400,   20.756,   35.149,2,   35.166,2, -999.000,9,  198.300,2,    1.660,2,    1.290,2,    0.050,2,    0.190,2, -999.000,9, -999.000,9, -999.000,9, -999.000,9, -999.000,9
           NA,    P03E,    100,   1,-999.0,       8,  2,19850415,1231,  24.2583, -151.3150,  5513,  224.100,   18.382,   34.925,2,   34.930,2, -999.000,9,  194.700,2,    2.640,2,    3.070,2,    0.010,2,    0.290,2, -999.000,9, -999.000,9, -999.000,9, -999.000,9, -999.000,9
           NA,    P03E,    100,   1,-999.0,       9,  2,19850415,1231,  24.2583, -151.3150,  5513,  264.900,   16.252,   34.702,2,   34.703,2, -999.000,9,  200.800,2,    4.400,2,    4.960,2,    0.010,2,    0.420,2, -999.000,9, -999.000,9, -999.000,9, -999.000,9, -999.000,9
           NA,    P03E,    100,   1,-999.0,      10,  2,19850415,1231,  24.2583, -151.3150,  5513,  305.700,   13.607,   34.320,2,   34.309,2, -999.000,9,  187.600,2,    8.900,2,    9.970,2,    0.000,2,    0.800,2, -999.000,9, -999.000,9, -999.000,9, -999.000,9, -999.000,9
           NA,    P03E,    100,   1,-999.0,      11,  2,19850415,1231,  24.2583, -151.3150,  5513,  345.200,   11.929,   34.184,2,   34.180,2, -999.000,9,  189.300,2,   12.610,2,   12.520,2,    0.000,2,    0.950,2, -999.000,9, -999.000,9, -999.000,9, -999.000,9, -999.000,9
           NA,    P03E,    100,   1,-999.0,      12,  2,19850415,1231,  24.2583, -151.3150,  5513,  395.900,   10.009,   34.120,2,   34.120,2, -999.000,9,  165.800,2,   22.100,2,   19.070,2,    0.000,2,    1.390,2, -999.000,9, -999.000,9, -999.000,9, -999.000,9, -999.000,9
           NA,    P03E,    100,   1,-999.0,      13,  2,19850415,1231,  24.2583, -151.3150,  5513,  456.800,    8.740,   34.088,2,   34.087,2, -999.000,9,  154.500,2,   30.020,2,   22.980,2,    0.000,2,    1.640,2, -999.000,9, -999.000,9, -999.000,9, -999.000,9, -999.000,9
           NA,    P03E,    100,   1,-999.0,      14,  2,19850415,1231,  24.2583, -151.3150,  5513,  527.600,    7.377,   34.042,2,   34.043,2, -999.000,9,  134.000,2,   42.930,2,   27.870,2,    0.010,2,    1.980,2, -999.000,9, -999.000,9, -999.000,9, -999.000,9, -999.000,9
           NA,    P03E,    100,   1,-999.0,      15,  2,19850415,1231,  24.2583, -151.3150,  5513,  607.500,    6.045,   34.061,2,   34.063,2, -999.000,9,   79.200,2,   64.730,2,   35.500,2,    0.000,2,    2.480,2, -999.000,9, -999.000,9, -999.000,9, -999.000,9, -999.000,9
           NA,    P03E,    100,   1,-999.0,      16,  2,19850415,1231,  24.2583, -151.3150,  5513,  708.400,    4.960,   34.176,2,   34.176,2, -999.000,9,   40.900,2,   87.320,2,   40.580,2,    0.000,2,    2.860,2, -999.000,9, -999.000,9, -999.000,9, -999.000,9, -999.000,9
           NA,    P03E,    100,   1,-999.0,      17,  2,19850415,1231,  24.2583, -151.3150,  5513,  809.900,    4.473,   34.292,2,   34.289,2, -999.000,9,   28.300,2,  101.190,2,   42.330,2,    0.000,2,    2.990,2, -999.000,9, -999.000,9, -999.000,9, -999.000,9, -999.000,9
           NA,    P03E,    100,   1,-999.0,      18,  2,19850415,1231,  24.2583, -151.3150,  5513,  961.200,    4.085,   34.430,2,   34.430,2, -999.000,9,   39.100,2,  110.180,2,   42.530,2,    0.000,2,    2.990,2, -999.000,9, -999.000,9, -999.000,9, -999.000,9, -999.000,9
           NA,    P03E,    100,   1,-999.0,      19,  2,19850415,1231,  24.2583, -151.3150,  5513, 1112.100,    3.695,   34.490,2,   34.489,2, -999.000,9,   48.700,2,  117.500,2,   42.130,2,    0.010,2,    2.960,2, -999.000,9, -999.000,9, -999.000,9, -999.000,9, -999.000,9
           NA,    P03E,    100,   1,-999.0,      20,  2,19850415,1231,  24.2583, -151.3150,  5513, 1262.900,    3.364,   34.521,2,   34.521,2, -999.000,9,   56.500,2,  125.320,2,   42.030,2,    0.010,2,    2.910,2, -999.000,9, -999.000,9, -999.000,9, -999.000,9, -999.000,9
           NA,    P03E,    100,   1,-999.0,      21,  2,19850415,1231,  24.2583, -151.3150,  5513, 1414.400,    3.053,   34.547,2,   34.546,2, -999.000,9,   64.800,2,  132.450,2,   41.740,2,    0.010,2,    2.900,2, -999.000,9, -999.000,9, -999.000,9, -999.000,9, -999.000,9
           NA,    P03E,    100,   1,-999.0,      22,  2,19850415,1231,  24.2583, -151.3150,  5513, 1614.300,    2.684,   34.577,2,   34.578,2, -999.000,9,   73.400,2,  141.540,2,   41.450,2,    0.010,2,    2.850,2, -999.000,9, -999.000,9, -999.000,9, -999.000,9, -999.000,9
           NA,    P03E,    100,   1,-999.0,      23,  2,19850415,1231,  24.2583, -151.3150,  5513, 1814.400,    2.403,   34.596,2,   34.596,2, -999.000,9,   82.100,2,  149.460,2,   40.860,2,    0.000,2,    2.810,2, -999.000,9, -999.000,9, -999.000,9, -999.000,9, -999.000,9
           NA,    P03E,    100,   1,-999.0,      24,  2,19850415,1231,  24.2583, -151.3150,  5513, 2016.900,    2.152,   34.609,2,   34.610,2, -999.000,9,   87.300,2,  156.400,2,   40.660,2,    0.000,2,    2.800,2, -999.000,9, -999.000,9, -999.000,9, -999.000,9, -999.000,9
           NA,    P03E,    100,   1,-999.0,      25,  2,19850415,1231,  24.2583, -151.3150,  5513, 2219.800,    1.957,   34.626,2,   34.627,2, -999.000,9,   94.700,2,  159.030,2,   40.080,2,    0.000,2,    2.770,2, -999.000,9, -999.000,9, -999.000,9, -999.000,9, -999.000,9
           NA,    P03E,    100,   1,-999.0,      26,  2,19850415,1231,  24.2583, -151.3150,  5513, 2525.100,    1.768,   34.643,2,   34.643,2, -999.000,9,  105.600,2,  165.380,2,   39.490,2,    0.000,2,    2.690,2, -999.000,9, -999.000,9, -999.000,9, -999.000,9, -999.000,9
           NA,    P03E,    100,   1,-999.0,      27,  2,19850415,1231,  24.2583, -151.3150,  5513, 2828.600,    1.646,   34.656,2,   34.658,2, -999.000,9,  117.800,2,  166.260,2, -999.000,5,    0.000,2,    2.630,2, -999.000,9, -999.000,9, -999.000,9, -999.000,9, -999.000,9
           NA,    P03E,    100,   1,-999.0,      28,  2,19850415,1231,  24.2583, -151.3150,  5513, 3134.300,    1.568,   34.665,2,   34.666,2, -999.000,9,  126.400,2,  164.790,2,   38.120,2,    0.000,2,    2.580,2, -999.000,9, -999.000,9, -999.000,9, -999.000,9, -999.000,9
           NA,    P03E,    100,   1,-999.0,      29,  2,19850415,1231,  24.2583, -151.3150,  5513, 3439.100,    1.520,   34.672,2,   34.673,2, -999.000,9,  135.100,2,  162.150,2,   37.530,2,    0.000,2,    2.520,2, -999.000,9, -999.000,9, -999.000,9, -999.000,9, -999.000,9
           NA,    P03E,    100,   1,-999.0,      30,  2,19850415,1231,  24.2583, -151.3150,  5513, 3748.600,    1.497,   34.677,2,   34.678,2, -999.000,9,  140.800,2,  160.000,2,   37.140,2,    0.000,2,    2.500,2, -999.000,9, -999.000,9, -999.000,9, -999.000,9, -999.000,9
           NA,    P03E,    100,   1,-999.0,      31,  2,19850415,1231,  24.2583, -151.3150,  5513, 4056.500,    1.482,   34.682,2,   34.681,2, -999.000,9,  148.600,2,  157.460,2,   36.650,2,    0.000,2, -999.000,5, -999.000,9, -999.000,9, -999.000,9, -999.000,9, -999.000,9
           NA,    P03E,    100,   1,-999.0,      32,  2,19850415,1231,  24.2583, -151.3150,  5513, 4362.200,    1.479,   34.685,2,   34.685,2, -999.000,9,  152.500,2,  152.770,2,   36.260,2,    0.000,2,    2.440,2, -999.000,9, -999.000,9, -999.000,9, -999.000,9, -999.000,9
           NA,    P03E,    100,   1,-999.0,      37,  2,19850415,1231,  24.2583, -151.3150,  5513, 4669.900,    1.474,   34.687,2,   34.687,2, -999.000,9,  160.800,2, -999.000,5,   35.870,2,    0.000,2,    2.390,2, -999.000,9, -999.000,9, -999.000,9, -999.000,9, -999.000,9
           NA,    P03E,    100,   1,-999.0,      34,  2,19850415,1231,  24.2583, -151.3150,  5513, 4971.200,    1.481,   34.690,2,   34.689,2, -999.000,9,  165.100,2,  146.120,2,   35.580,2,    0.000,2,    2.380,2, -999.000,9, -999.000,9, -999.000,9, -999.000,9, -999.000,9
           NA,    P03E,    100,   1,-999.0,      35,  2,19850415,1231,  24.2583, -151.3150,  5513, 5279.800,    1.500,   34.691,2,   34.690,2, -999.000,9,  167.700,2,  144.660,2,   35.190,2,    0.000,2,    2.370,2, -999.000,9, -999.000,9, -999.000,9, -999.000,9, -999.000,9
           NA,    P03E,    100,   1,-999.0,      36,  2,19850415,1231,  24.2583, -151.3150,  5513, 5579.700,    1.534,   34.693,2,   34.690,2, -999.000,9,  168.600,2,  142.510,2,   35.190,2,    0.000,2,    2.360,2, -999.000,9, -999.000,9, -999.000,9, -999.000,9, -999.000,9