BOTTLE,20203103JOAExport
EXPOCODE,SECT_ID,STNNBR,CASTNO,SAMPNO,BTLNBR,BTLNBR_FLAG_W,DATE,TIME,LATITUDE,LONGITUDE,DEPTH,CTDPRS,CTDTMP,CTDSAL,CTDSAL_FLAG_W,SALNTY,SALNTY_FLAG_W,CTDOXY,CTDOXY_FLAG_W,OXYGEN,OXYGEN_FLAG_W,SILCAT,SILCAT_FLAG_W,NITRAT,NITRAT_FLAG_W,NITRIT,NITRIT_FLAG_W,PHSPHT,PHSPHT_FLAG_W,CFC-11,CFC-11_FLAG_W,CFC-12,CFC-12_FLAG_W,SF6,SF6_FLAG_W,TCARBN,TCARBN_FLAG_W,ALKALI,ALKALI_FLAG_W
,,,,,,,,,,,,,DB,ITS-90,PSS-78,,PSS-78,,UMOL/KG,,UMOL/KG,,UMOL/KG,,UMOL/KG,,UMOL/KG,,UMOL/KG,,PMOL/KG,,PMOL/KG,,FMOL/KG,,UMOL/KG,,UMOL/KG
           NA,    P03W,    263,   1,-999.0,       1,  2,19850515,1106,  24.2150,  153.5683,  5412,    0.600,   26.160,   35.006,2,   35.010,2, -999.000,9,  207.500,2,    2.080,2,    0.040,2,    0.000,2,    0.010,2, -999.000,9, -999.000,9, -999.000,9, -999.000,9, -999.000,9
           NA,    P03W,    263,   1,-999.0,       2,  2,19850515,1106,  24.2150,  153.5683,  5412,   22.900,   25.545,   35.045,2,   35.048,2, -999.000,9,  209.600,2,    2.020,2,    0.040,2,    0.000,2,    0.010,2, -999.000,9, -999.000,9, -999.000,9, -999.000,9, -999.000,9
           NA,    P03W,    263,   1,-999.0,       3,  2,19850515,1106,  24.2150,  153.5683,  5412,   43.600,   25.290,   35.074,2,   35.069,2, -999.000,9,  211.300,2,    1.970,2,    0.040,2,    0.000,2,    0.000,2, -999.000,9, -999.000,9, -999.000,9, -999.000,9, -999.000,9
           NA,    P03W,    263,   1,-999.0,       4,  2,19850515,1106,  24.2150,  153.5683,  5412,   73.900,   22.777,   35.051,2,   35.070,2, -999.000,9,  215.100,2,    2.120,2,    0.040,2,    0.000,2,    0.010,2, -999.000,9, -999.000,9, -999.000,9, -999.000,9, -999.000,9
           NA,    P03W,    263,   1,-999.0,       5,  2,19850515,1106,  24.2150,  153.5683,  5412,  104.300,   21.067,   34.990,2,   34.998,2, -999.000,9,  208.000,2,    2.280,2,    0.000,2,    0.000,2,    0.050,2, -999.000,9, -999.000,9, -999.000,9, -999.000,9, -999.000,9
           NA,    P03W,    263,   1,-999.0,       6,  2,19850515,1106,  24.2150,  153.5683,  5412,  144.700,   19.575,   34.920,2,   34.924,2, -999.000,9,  202.400,2,    2.640,2,    1.400,2,    0.020,2,    0.150,2, -999.000,9, -999.000,9, -999.000,9, -999.000,9, -999.000,9
           NA,    P03W,    263,   1,-999.0,       7,  2,19850515,1106,  24.2150,  153.5683,  5412,  184.600,   17.498,   34.807,2,   34.805,2, -999.000,9,  202.600,2,    4.060,2,    4.000,2,    0.010,2,    0.290,2, -999.000,9, -999.000,9, -999.000,9, -999.000,9, -999.000,9
           NA,    P03W,    263,   1,-999.0,       8,  2,19850515,1106,  24.2150,  153.5683,  5412,  234.700,   16.292,   34.742,2,   34.742,2, -999.000,9,  207.800,2,    5.270,2,    5.780,2,    0.000,2,    0.380,2, -999.000,9, -999.000,9, -999.000,9, -999.000,9, -999.000,9
           NA,    P03W,    263,   1,-999.0,       9,  2,19850515,1106,  24.2150,  153.5683,  5412,  285.400,   15.392,   34.680,2,   34.673,2, -999.000,9,  205.800,2,    7.520,2,    7.220,2,    0.000,2,    0.450,2, -999.000,9, -999.000,9, -999.000,9, -999.000,9, -999.000,9
           NA,    P03W,    263,   1,-999.0,      10,  2,19850515,1106,  24.2150,  153.5683,  5412,  335.600,   14.272,   34.577,2,   34.575,2, -999.000,9,  201.000,2,   10.420,2,    9.580,2,    0.000,2,    0.650,2, -999.000,9, -999.000,9, -999.000,9, -999.000,9, -999.000,9
           NA,    P03W,    263,   1,-999.0,      11,  2,19850515,1106,  24.2150,  153.5683,  5412,  386.100,   12.994,   34.461,2,   34.456,2, -999.000,9,  197.500,2,   14.570,2,   12.050,2,    0.000,2,    0.820,2, -999.000,9, -999.000,9, -999.000,9, -999.000,9, -999.000,9
           NA,    P03W,    263,   1,-999.0,      12,  2,19850515,1106,  24.2150,  153.5683,  5412,  446.800,   11.184,   34.319,2,   34.323,2, -999.000,9,  190.300,2,   20.830,2,   15.600,2,    0.000,2,    1.060,2, -999.000,9, -999.000,9, -999.000,9, -999.000,9, -999.000,9
           NA,    P03W,    263,   1,-999.0,      13,  2,19850515,1106,  24.2150,  153.5683,  5412,  507.100,    9.898,   34.223,2,   34.225,2, -999.000,9,  179.900,2,   27.300,2,   18.990,2,    0.000,2,    1.300,2, -999.000,9, -999.000,9, -999.000,9, -999.000,9, -999.000,9
           NA,    P03W,    263,   1,-999.0,      14,  2,19850515,1106,  24.2150,  153.5683,  5412,  567.900,    8.567,   34.142,2,   34.140,2, -999.000,9,  163.100,2,   37.570,2,   23.070,2,    0.000,2,    1.590,2, -999.000,9, -999.000,9, -999.000,9, -999.000,9, -999.000,9
           NA,    P03W,    263,   1,-999.0,      15,  2,19850515,1106,  24.2150,  153.5683,  5412,  648.500,    6.831,   34.090,2,   34.091,2, -999.000,9,  125.700,2,   56.040,2,   29.600,2,    0.000,2,    2.030,2, -999.000,9, -999.000,9, -999.000,9, -999.000,9, -999.000,9
           NA,    P03W,    263,   1,-999.0,      16,  2,19850515,1106,  24.2150,  153.5683,  5412,  729.400,    5.545,   34.104,2,   34.107,2, -999.000,9,   91.100,2,   75.570,2,   35.220,2,    0.000,2,    2.400,2, -999.000,9, -999.000,9, -999.000,9, -999.000,9, -999.000,9
           NA,    P03W,    263,   1,-999.0,      17,  2,19850515,1106,  24.2150,  153.5683,  5412,  809.900,    4.782,   34.176,2,   34.177,2, -999.000,9,   64.400,2,   92.790,2,   38.930,2,    0.000,2,    2.630,2, -999.000,9, -999.000,9, -999.000,9, -999.000,9, -999.000,9
           NA,    P03W,    263,   1,-999.0,      18,  2,19850515,1106,  24.2150,  153.5683,  5412,  910.500,    4.170,   34.252,2,   34.253,2, -999.000,9,   47.900,2,  108.530,2,   41.310,2,    0.000,2,    2.790,2, -999.000,9, -999.000,9, -999.000,9, -999.000,9, -999.000,9
           NA,    P03W,    263,   1,-999.0,      39,  2,19850515,1106,  24.2150,  153.5683,  5412, 1061.600,    3.498,   34.393,2,   34.394,2, -999.000,9,   42.900,2,  127.230,2,   42.610,2,    0.000,2,    2.860,2, -999.000,9, -999.000,9, -999.000,9, -999.000,9, -999.000,9
           NA,    P03W,    263,   1,-999.0,      20,  2,19850515,1106,  24.2150,  153.5683,  5412, 1212.800,    3.139,   34.468,2,   34.468,2, -999.000,9,   54.100,2,  134.120,2,   41.960,2,    0.000,2,    2.790,2, -999.000,9, -999.000,9, -999.000,9, -999.000,9, -999.000,9
           NA,    P03W,    263,   1,-999.0,      21,  2,19850515,1106,  24.2150,  153.5683,  5412, 1414.500,    2.697,   34.522,2,   34.522,2, -999.000,9,   66.100,2,  142.710,2,   41.580,2,    0.000,2,    2.780,2, -999.000,9, -999.000,9, -999.000,9, -999.000,9, -999.000,9
           NA,    P03W,    263,   1,-999.0,      22,  2,19850515,1106,  24.2150,  153.5683,  5412, 1616.700,    2.330,   34.561,2,   34.561,2, -999.000,9,   77.600,2,  149.400,2,   41.100,2,    0.000,2,    2.750,2, -999.000,9, -999.000,9, -999.000,9, -999.000,9, -999.000,9
           NA,    P03W,    263,   1,-999.0,      23,  2,19850515,1106,  24.2150,  153.5683,  5412, 1819.000,    2.040,   34.595,2,   34.596,2, -999.000,9,   91.400,2,  154.400,2,   40.500,2,    0.000,2,    2.680,2, -999.000,9, -999.000,9, -999.000,9, -999.000,9, -999.000,9
           NA,    P03W,    263,   1,-999.0,      24,  2,19850515,1106,  24.2150,  153.5683,  5412, 2021.600,    1.893,   34.614,2,   34.615,2, -999.000,9,  101.700,2,  153.290,2,   39.910,2,    0.000,2,    2.640,2, -999.000,9, -999.000,9, -999.000,9, -999.000,9, -999.000,9
           NA,    P03W,    263,   1,-999.0,      25,  2,19850515,1106,  24.2150,  153.5683,  5412, 2224.400,    1.785,   34.631,2,   34.632,2, -999.000,9,  114.900,2,  153.230,2,   38.680,2,    0.000,2,    2.580,2, -999.000,9, -999.000,9, -999.000,9, -999.000,9, -999.000,9
           NA,    P03W,    263,   1,-999.0,      26,  2,19850515,1106,  24.2150,  153.5683,  5412, 2427.500,    1.674,   34.644,2,   34.646,2, -999.000,9,  122.300,2,  152.750,2,   38.410,2,    0.000,2,    2.550,2, -999.000,9, -999.000,9, -999.000,9, -999.000,9, -999.000,9
           NA,    P03W,    263,   1,-999.0,      27,  2,19850515,1106,  24.2150,  153.5683,  5412, 2731.500,    1.584,   34.657,2,   34.658,2, -999.000,9,  131.300,2,  152.270,2,   37.830,2,    0.000,2,    2.500,2, -999.000,9, -999.000,9, -999.000,9, -999.000,9, -999.000,9
           NA,    P03W,    263,   1,-999.0,      28,  2,19850515,1106,  24.2150,  153.5683,  5412, 3036.200,    1.531,   34.665,2,   34.665,2, -999.000,9,  138.300,2,  150.740,2,   37.350,2,    0.000,2,    2.450,2, -999.000,9, -999.000,9, -999.000,9, -999.000,9, -999.000,9
           NA,    P03W,    263,   1,-999.0,      29,  2,19850515,1106,  24.2150,  153.5683,  5412, 3341.700,    1.495,   34.672,2,   34.672,2, -999.000,9,  145.400,2,  150.260,2,   36.870,2,    0.000,2,    2.450,2, -999.000,9, -999.000,9, -999.000,9, -999.000,9, -999.000,9
           NA,    P03W,    263,   1,-999.0,      30,  2,19850515,1106,  24.2150,  153.5683,  5412, 3647.800,    1.461,   34.678,2,   34.677,2, -999.000,9,  150.500,2,  148.090,2,   36.450,2,    0.000,2,    2.410,2, -999.000,9, -999.000,9, -999.000,9, -999.000,9, -999.000,9
           NA,    P03W,    263,   1,-999.0,      31,  2,19850515,1106,  24.2150,  153.5683,  5412, 3954.000,    1.446,   34.682,2,   34.681,2, -999.000,9,  156.900,2,  146.350,2,   35.980,2,    0.000,2,    2.390,2, -999.000,9, -999.000,9, -999.000,9, -999.000,9, -999.000,9
           NA,    P03W,    263,   1,-999.0,      32,  2,19850515,1106,  24.2150,  153.5683,  5412, 4260.900,    1.444,   34.685,2,   34.685,2, -999.000,9,  161.700,2,  143.970,2,   35.660,2,    0.000,2,    2.360,2, -999.000,9, -999.000,9, -999.000,9, -999.000,9, -999.000,9
           NA,    P03W,    263,   1,-999.0,      33,  2,19850515,1106,  24.2150,  153.5683,  5412, 4568.100,    1.453,   34.688,2,   34.686,2, -999.000,9,  164.800,2,  141.810,2,   35.400,2,    0.000,2,    2.350,2, -999.000,9, -999.000,9, -999.000,9, -999.000,9, -999.000,9
           NA,    P03W,    263,   1,-999.0,      34,  2,19850515,1106,  24.2150,  153.5683,  5412, 4875.400,    1.461,   34.690,2,   34.691,2, -999.000,9,  171.000,2,  139.010,2,   35.140,2,    0.000,2,    2.320,2, -999.000,9, -999.000,9, -999.000,9, -999.000,9, -999.000,9
           NA,    P03W,    263,   1,-999.0,      35,  2,19850515,1106,  24.2150,  153.5683,  5412, 5183.100,    1.479,   34.692,2,   34.691,2, -999.000,9,  172.800,2,  135.790,2,   34.830,2,    0.000,2,    2.310,2, -999.000,9, -999.000,9, -999.000,9, -999.000,9, -999.000,9
           NA,    P03W,    263,   1,-999.0,      36,  2,19850515,1106,  24.2150,  153.5683,  5412, 5491.400,    1.514,   34.692,2,   34.691,2, -999.000,9,  174.200,2,  134.890,2,   34.730,2,    0.000,2,    2.320,2, -999.000,9, -999.000,9, -999.000,9, -999.000,9, -999.000,9
           NA,    P03W,    261,   2,-999.0,       2,  2,19850515,0236,  24.1950,  154.4500,  4864,   21.800,   25.571,   34.928,2,   34.931,2, -999.000,9,  210.000,2,    1.070,2,    0.150,2,    0.000,2,    0.040,2, -999.000,9, -999.000,9, -999.000,9, -999.000,9, -999.000,9
           NA,    P03W,    261,   2,-999.0,       3,  2,19850515,0236,  24.1950,  154.4500,  4864,   42.300,   24.749,   35.108,2,   35.108,2, -999.000,9,  215.500,2,    1.070,2,    0.150,2,    0.000,2,    0.030,2,    1.527,2,    0.792,2, -999.000,9, -999.000,9, -999.000,9
           NA,    P03W,    261,   2,-999.0,       4,  2,19850515,0236,  24.1950,  154.4500,  4864,   72.900,   23.079,   35.066,2,   35.070,2, -999.000,9,  222.000,2,    1.170,2,    0.150,2,    0.000,2,    0.030,2,    1.565,2,    0.803,2, -999.000,9, -999.000,9, -999.000,9
           NA,    P03W,    261,   2,-999.0,       5,  2,19850515,0236,  24.1950,  154.4500,  4864,  144.200,   18.846,   34.897,2,   34.897,2, -999.000,9,  200.400,2,    2.050,2,    2.130,2,    0.030,2,    0.230,2,    1.725,2,    0.861,2, -999.000,9, -999.000,9, -999.000,9
           NA,    P03W,    261,   2,-999.0,       7,  2,19850515,0236,  24.1950,  154.4500,  4864,  184.600,   16.871,   34.773,2,   34.774,2, -999.000,9, -999.000,5,    3.810,2,    4.890,2,    0.000,2,    0.380,2,    1.770,2,    0.876,2, -999.000,9, -999.000,9, -999.000,9
           NA,    P03W,    261,   2,-999.0,       6,  2,19850515,0236,  24.1950,  154.4500,  4864,  184.600,   16.871,   34.773,2,   34.774,2, -999.000,9,  203.400,2,    3.620,2,    4.840,2,    0.000,2,    0.370,2,    1.768,2,    0.871,2, -999.000,9, -999.000,9, -999.000,9
           NA,    P03W,    261,   2,-999.0,       8,  2,19850515,0236,  24.1950,  154.4500,  4864,  234.400,   16.081,   34.728,2,   34.727,2, -999.000,9,  209.900,2,    5.080,2,    5.850,2,    0.000,2,    0.440,2,    1.801,2,    0.905,2, -999.000,9, -999.000,9, -999.000,9
           NA,    P03W,    261,   2,-999.0,       9,  2,19850515,0236,  24.1950,  154.4500,  4864,  284.000,   15.387,   34.669,2,   34.669,2, -999.000,9,  206.400,2,    6.260,2,    7.250,2,    0.000,2,    0.530,2,    1.714,2,    0.850,2, -999.000,9, -999.000,9, -999.000,9
           NA,    P03W,    261,   2,-999.0,      10,  2,19850515,0236,  24.1950,  154.4500,  4864,  333.300,   14.004,   34.537,2,   34.535,2, -999.000,9,  200.300,2,    9.580,2,    9.970,2,    0.000,2,    0.710,2,    1.518,2,    0.763,2, -999.000,9, -999.000,9, -999.000,9
           NA,    P03W,    261,   2,-999.0,      11,  2,19850515,0236,  24.1950,  154.4500,  4864,  384.700,   12.830,   34.440,2,   34.441,2, -999.000,9,  198.900,2,   12.900,2,   11.930,2,    0.000,2,    0.850,2,    1.476,2,    0.723,2, -999.000,9, -999.000,9, -999.000,9
           NA,    P03W,    261,   2,-999.0,      12,  2,19850515,0236,  24.1950,  154.4500,  4864,  444.800,   11.134,   34.307,2,   34.304,2, -999.000,9,  185.400,2,   20.040,2,   16.030,2,    0.000,2,    1.140,2,    1.177,6,    0.587,6, -999.000,9, -999.000,9, -999.000,9
           NA,    P03W,    261,   2,-999.0,      13,  2,19850515,0236,  24.1950,  154.4500,  4864,  505.000,    9.605,   34.212,2,   34.210,2, -999.000,9,  161.000,2,   29.430,2,   21.020,2,    0.000,2,    1.490,2,    0.794,2,    0.397,2, -999.000,9, -999.000,9, -999.000,9
           NA,    P03W,    261,   2,-999.0,      14,  2,19850515,0236,  24.1950,  154.4500,  4864,  565.100,    8.341,   34.155,2,   34.155,2, -999.000,9,  141.400,2,   38.820,2,   25.330,2,    0.000,2,    1.770,2,    0.560,2,    0.259,2, -999.000,9, -999.000,9, -999.000,9
           NA,    P03W,    261,   2,-999.0,      15,  2,19850515,0236,  24.1950,  154.4500,  4864,  644.700,    6.676,   34.089,2,   34.089,2, -999.000,9,  121.400,2,   55.740,2,   30.510,2,    0.000,2,    2.080,2,    0.457,2, -999.000,9, -999.000,9, -999.000,9, -999.000,9
           NA,    P03W,    261,   2,-999.0,      16,  2,19850515,0236,  24.1950,  154.4500,  4864,  722.600,    5.707,   34.108,2,   34.108,2, -999.000,9,   92.600,2,   70.990,2,   34.520,2,    0.000,2,    2.410,2,    0.263,2,    0.137,2, -999.000,9, -999.000,9, -999.000,9
           NA,    P03W,    261,   2,-999.0,      17,  2,19850515,0236,  24.1950,  154.4500,  4864,  799.500,    4.879,   34.205,2,   34.203,2, -999.000,9,   57.400,2,   90.050,2,   39.600,2,    0.000,2,    2.710,2,    0.068,2,    0.045,2, -999.000,9, -999.000,9, -999.000,9
           NA,    P03W,    261,   2,-999.0,      18,  2,19850515,0236,  24.1950,  154.4500,  4864,  898.000,    4.401,   34.292,2, -999.000,5, -999.000,9,   45.700,2,  101.880,2,   41.550,2,    0.000,2,    2.820,2,    0.010,2,    0.016,2, -999.000,9, -999.000,9, -999.000,9
           NA,    P03W,    261,   2,-999.0,      39,  2,19850515,0236,  24.1950,  154.4500,  4864, 1044.300,    3.827,   34.398,2,   34.398,2, -999.000,9,   48.700,2,  115.850,2,   42.040,2,    0.000,2,    2.840,2,    0.002,2,    0.009,2, -999.000,9, -999.000,9, -999.000,9
           NA,    P03W,    261,   2,-999.0,      20,  2,19850515,0236,  24.1950,  154.4500,  4864, 1192.200,    3.342,   34.476,2,   34.475,2, -999.000,9,   61.700,2,  125.320,2,   41.640,2,    0.000,2,    2.830,2, -999.000,9, -999.000,9, -999.000,9, -999.000,9, -999.000,9
           NA,    P03W,    261,   2,-999.0,      21,  2,19850515,0236,  24.1950,  154.4500,  4864, 1386.600,    2.874,   34.524,2,   34.524,2, -999.000,9,   73.000,2,  134.700,2,   41.250,2,    0.000,2,    2.790,2,    0.000,2,    0.009,2, -999.000,9, -999.000,9, -999.000,9
           NA,    P03W,    261,   2,-999.0,      22,  2,19850515,0236,  24.1950,  154.4500,  4864, 1577.800,    2.471,   34.556,2,   34.556,2, -999.000,9,   81.300,2,  142.720,2,   40.960,2,    0.000,2,    2.710,2, -999.000,9, -999.000,9, -999.000,9, -999.000,9, -999.000,9
           NA,    P03W,    261,   2,-999.0,      23,  2,19850515,0236,  24.1950,  154.4500,  4864, 1777.200,    2.175,   34.586,2,   34.585,2, -999.000,9,   90.800,2,  148.480,2,   40.570,2,    0.000,2,    2.700,2, -999.000,9, -999.000,9, -999.000,9, -999.000,9, -999.000,9
           NA,    P03W,    261,   2,-999.0,      24,  2,19850515,0236,  24.1950,  154.4500,  4864, 1983.400,    1.953,   34.609,2,   34.609,2, -999.000,9,   98.600,2,  151.310,2,   40.080,2,    0.000,2,    2.660,2, -999.000,9, -999.000,9, -999.000,9, -999.000,9, -999.000,9
           NA,    P03W,    261,   2,-999.0,      25,  2,19850515,0236,  24.1950,  154.4500,  4864, 2187.000,    1.821,   34.625,2,   34.626,2, -999.000,9,  108.600,2,  151.310,2,   39.590,2,    0.000,2,    2.650,2, -999.000,9, -999.000,9, -999.000,9, -999.000,9, -999.000,9
           NA,    P03W,    261,   2,-999.0,      26,  2,19850515,0236,  24.1950,  154.4500,  4864, 2390.400,    1.730,   34.638,2,   34.638,2, -999.000,9,  116.900,2,  151.410,2,   39.000,2,    0.000,2,    2.600,2, -999.000,9, -999.000,9, -999.000,9, -999.000,9, -999.000,9
           NA,    P03W,    261,   2,-999.0,      27,  2,19850515,0236,  24.1950,  154.4500,  4864, 2596.100,    1.662,   34.648,2,   34.648,2, -999.000,9,  124.300,2,  150.620,2,   38.510,2,    0.000,2,    2.570,2, -999.000,9, -999.000,9, -999.000,9, -999.000,9, -999.000,9
           NA,    P03W,    261,   2,-999.0,      28,  2,19850515,0236,  24.1950,  154.4500,  4864, 2799.200,    1.599,   34.656,2,   34.656,2, -999.000,9,  130.800,2,  149.940,2,   38.220,2,    0.000,2,    2.550,2, -999.000,9, -999.000,9, -999.000,9, -999.000,9, -999.000,9
           NA,    P03W,    261,   2,-999.0,      29,  2,19850515,0236,  24.1950,  154.4500,  4864, 3007.900,    1.559,   34.663,2,   34.662,2, -999.000,9,  136.000,2,  150.230,2,   37.440,2,    0.000,2,    2.520,2, -999.000,9, -999.000,9, -999.000,9, -999.000,9, -999.000,9
           NA,    P03W,    261,   2,-999.0,      30,  2,19850515,0236,  24.1950,  154.4500,  4864, 3219.300,    1.528,   34.668,2,   34.667,2, -999.000,9,  139.900,2,  149.250,2,   37.630,2,    0.000,2,    2.490,2, -999.000,9, -999.000,9, -999.000,9, -999.000,9, -999.000,9
           NA,    P03W,    261,   2,-999.0,      31,  2,19850515,0236,  24.1950,  154.4500,  4864, 3426.600,    1.492,   34.672,2,   34.673,2, -999.000,9,  146.000,2,  147.880,2,   37.240,2,    0.000,2,    2.460,2, -999.000,9, -999.000,9, -999.000,9, -999.000,9, -999.000,9
           NA,    P03W,    261,   2,-999.0,      32,  2,19850515,0236,  24.1950,  154.4500,  4864, 3735.900,    1.467,   34.679,2,   34.678,2, -999.000,9,  151.600,2,  145.830,2,   36.850,2,    0.000,2,    2.440,2,    0.001,2,    0.012,2, -999.000,9, -999.000,9, -999.000,9
           NA,    P03W,    261,   2,-999.0,      33,  2,19850515,0236,  24.1950,  154.4500,  4864, 4032.800,    1.452,   34.682,2, -999.000,5, -999.000,9,  156.900,2,  144.070,2,   36.460,2,    0.000,2,    2.410,2, -999.000,9, -999.000,9, -999.000,9, -999.000,9, -999.000,9
           NA,    P03W,    261,   2,-999.0,      34,  2,19850515,0236,  24.1950,  154.4500,  4864, 4335.200,    1.449,   34.685,2,   34.686,2, -999.000,9,  160.800,2,  142.210,2,   35.870,2,    0.000,2,    2.390,2, -999.000,9, -999.000,9, -999.000,9, -999.000,9, -999.000,9
           NA,    P03W,    261,   2,-999.0,      35,  2,19850515,0236,  24.1950,  154.4500,  4864, 4642.600,    1.457,   34.689,2,   34.688,2, -999.000,9,  165.500,2,  139.670,2,   35.770,2,    0.000,2,    2.380,2, -999.000,9, -999.000,9, -999.000,9, -999.000,9, -999.000,9
           NA,    P03W,    261,   2,-999.0,      36,  2,19850515,0236,  24.1950,  154.4500,  4864, 4917.000,    1.473,   34.690,2,   34.690,2, -999.000,9,  167.700,2,  138.500,2,   35.680,2,    0.000,2,    2.390,2,    0.003,6, -999.000,9, -999.000,9, -999.000,9, -999.000,9