BOTTLE,20203103JOAExport
EXPOCODE,SECT_ID,STNNBR,CASTNO,SAMPNO,BTLNBR,BTLNBR_FLAG_W,DATE,TIME,LATITUDE,LONGITUDE,DEPTH,CTDPRS,CTDTMP,CTDSAL,CTDSAL_FLAG_W,SALNTY,SALNTY_FLAG_W,CTDOXY,CTDOXY_FLAG_W,OXYGEN,OXYGEN_FLAG_W,SILCAT,SILCAT_FLAG_W,NITRAT,NITRAT_FLAG_W,NITRIT,NITRIT_FLAG_W,PHSPHT,PHSPHT_FLAG_W,CFC-11,CFC-11_FLAG_W,CFC-12,CFC-12_FLAG_W,SF6,SF6_FLAG_W,TCARBN,TCARBN_FLAG_W,ALKALI,ALKALI_FLAG_W
,,,,,,,,,,,,,DB,ITS-90,PSS-78,,PSS-78,,UMOL/KG,,UMOL/KG,,UMOL/KG,,UMOL/KG,,UMOL/KG,,UMOL/KG,,PMOL/KG,,PMOL/KG,,FMOL/KG,,UMOL/KG,,UMOL/KG
           NA,    P03E,     86,   1,-999.0,       1,  2,19850413,0704,  24.2283, -146.2283,  5231,    1.000,   21.734,   35.282,2,   35.286,2, -999.000,9,  222.600,2,    1.260,2,    0.090,2,    0.000,2,    0.090,2,    1.786,2,    0.913,2, -999.000,9, -999.000,9, -999.000,9
           NA,    P03E,     86,   1,-999.0,       2,  2,19850413,0704,  24.2283, -146.2283,  5231,   24.000,   21.614,   35.292,2,   35.293,2, -999.000,9,  223.000,2,    1.230,2,    0.090,2,    0.000,2,    0.080,2,    1.751,2,    0.898,2, -999.000,9, -999.000,9, -999.000,9
           NA,    P03E,     86,   1,-999.0,       3,  2,19850413,0704,  24.2283, -146.2283,  5231,   43.800,   21.438,   35.329,2,   35.324,2, -999.000,9,  224.400,2,    1.200,2,    0.090,2,    0.000,2,    0.060,2,    1.737,2,    0.887,2, -999.000,9, -999.000,9, -999.000,9
           NA,    P03E,     86,   1,-999.0,       4,  2,19850413,0704,  24.2283, -146.2283,  5231,   74.000,   21.409,   35.374,2,   35.374,2, -999.000,9,  222.400,2,    1.170,2,    0.090,2,    0.000,2,    0.050,2,    1.761,2,    0.890,2, -999.000,9, -999.000,9, -999.000,9
           NA,    P03E,     86,   1,-999.0,       5,  2,19850413,0704,  24.2283, -146.2283,  5231,  103.600,   21.314,   35.376,2,   35.376,2, -999.000,9,  220.400,2,    1.130,2,    0.090,2,    0.000,2,    0.060,2,    1.722,2,    0.880,2, -999.000,9, -999.000,9, -999.000,9
           NA,    P03E,     86,   1,-999.0,       6,  2,19850413,0704,  24.2283, -146.2283,  5231,  144.200,   20.541,   35.307,2,   35.315,2, -999.000,9,  215.600,2,    1.290,2,    0.310,2,    0.170,2,    0.080,2, -999.000,9, -999.000,9, -999.000,9, -999.000,9, -999.000,9
           NA,    P03E,     86,   1,-999.0,       7,  2,19850413,0704,  24.2283, -146.2283,  5231,  184.700,   18.216,   34.908,2,   34.907,2, -999.000,9,  199.600,2,    2.760,2,    2.680,2,    0.020,2,    0.260,2,    1.828,2,    0.909,2, -999.000,9, -999.000,9, -999.000,9
           NA,    P03E,     86,   1,-999.0,       8,  2,19850413,0704,  24.2283, -146.2283,  5231,  225.800,   15.920,   34.639,2,   34.641,2, -999.000,9,  207.000,2,    4.230,2,    4.270,2,    0.010,2,    0.360,2,    1.916,2,    0.956,2, -999.000,9, -999.000,9, -999.000,9
           NA,    P03E,     86,   1,-999.0,       9,  2,19850413,0704,  24.2283, -146.2283,  5231,  265.800,   13.593,   34.373,2,   34.373,2, -999.000,9,  215.800,2,    6.640,2,    6.990,2,    0.000,2,    0.540,2,    2.029,2,    1.011,2, -999.000,9, -999.000,9, -999.000,9
           NA,    P03E,     86,   1,-999.0,      10,  2,19850413,0704,  24.2283, -146.2283,  5231,  295.000,   12.113,   34.209,2,   34.209,2, -999.000,9,  209.600,2,    9.980,2,   10.150,2,    0.000,2,    0.750,2,    1.929,6,    0.926,6, -999.000,9, -999.000,9, -999.000,9
           NA,    P03E,     86,   1,-999.0,      11,  2,19850413,0704,  24.2283, -146.2283,  5231,  324.100,   11.194,   34.168,2,   34.167,2, -999.000,9,  213.400,2,   12.380,2,   12.070,2,    0.000,2,    0.860,2,    1.900,6,    0.935,6, -999.000,9, -999.000,9, -999.000,9
           NA,    P03E,     86,   1,-999.0,      12,  2,19850413,0704,  24.2283, -146.2283,  5231,  353.200,   10.129,   34.110,2,   34.109,2, -999.000,9,  203.000,2,   17.780,2,   15.680,2,    0.000,2,    1.090,2,    1.622,2,    0.771,2, -999.000,9, -999.000,9, -999.000,9
           NA,    P03E,     86,   1,-999.0,      13,  2,19850413,0704,  24.2283, -146.2283,  5231,  392.600,    9.239,   34.096,2,   34.094,2, -999.000,9,  199.300,2,   23.180,2,   18.360,2,    0.000,2,    1.260,2,    1.386,2,    0.681,2, -999.000,9, -999.000,9, -999.000,9
           NA,    P03E,     86,   1,-999.0,      14,  2,19850413,0704,  24.2283, -146.2283,  5231,  432.600,    8.512,   34.060,2,   34.059,2, -999.000,9,  187.500,2,   28.570,2,   21.030,2,    0.000,2,    1.440,2,    1.132,2,    0.554,2, -999.000,9, -999.000,9, -999.000,9
           NA,    P03E,     86,   1,-999.0,      15,  2,19850413,0704,  24.2283, -146.2283,  5231,  501.700,    7.318,   34.025,2,   34.024,2, -999.000,9,  145.400,2,   42.010,2,   27.200,2,    0.000,2,    1.890,2,    0.591,2,    0.330,6, -999.000,9, -999.000,9, -999.000,9
           NA,    P03E,     86,   1,-999.0,      16,  2,19850413,0704,  24.2283, -146.2283,  5231,  602.000,    5.554,   34.042,2,   34.039,2, -999.000,9,   73.500,2,   70.090,2,   37.420,2,    0.000,2,    2.600,2,    0.125,2,    0.066,2, -999.000,9, -999.000,9, -999.000,9
           NA,    P03E,     86,   1,-999.0,      17,  2,19850413,0704,  24.2283, -146.2283,  5231,  698.800,    4.745,   34.156,2,   34.153,2, -999.000,9,   34.000,2,   91.240,2,   42.350,2,    0.000,2,    2.940,2,   -0.001,2,    0.008,2, -999.000,9, -999.000,9, -999.000,9
           NA,    P03E,     86,   1,-999.0,      18,  2,19850413,0704,  24.2283, -146.2283,  5231,  796.400,    4.403,   34.263,2,   34.260,2, -999.000,9,   20.000,2,  103.580,2,   43.900,2,    0.000,2,    3.080,2,   -0.004,2,    0.000,2, -999.000,9, -999.000,9, -999.000,9
           NA,    P03E,     86,   1,-999.0,      19,  2,19850413,0704,  24.2283, -146.2283,  5231,  949.200,    3.994,   34.419,2,   34.419,2, -999.000,9,   32.300,2,  113.480,2,   43.890,2,    0.000,2,    3.070,2,   -0.001,2, -999.000,9, -999.000,9, -999.000,9, -999.000,9
           NA,    P03E,     86,   1,-999.0,      20,  2,19850413,0704,  24.2283, -146.2283,  5231, 1102.500,    3.616,   34.488,2,   34.487,2, -999.000,9,   48.200,2,  121.310,2,   43.270,2,    0.000,2,    3.010,2,   -0.006,2,    0.001,2, -999.000,9, -999.000,9, -999.000,9
           NA,    P03E,     86,   1,-999.0,      21,  2,19850413,0704,  24.2283, -146.2283,  5231, 1256.200,    3.242,   34.525,2,   34.527,2, -999.000,9,   57.700,2,  129.900,2,   42.950,2,    0.000,2,    2.960,2, -999.000,9, -999.000,9, -999.000,9, -999.000,9, -999.000,9
           NA,    P03E,     86,   1,-999.0,      22,  2,19850413,0704,  24.2283, -146.2283,  5231, 1409.400,    2.987,   34.555,2,   34.554,2, -999.000,9,   63.000,2,  136.050,2,   42.850,2,    0.000,2,    2.970,2,   -0.001,2, -999.000,9, -999.000,9, -999.000,9, -999.000,9
           NA,    P03E,     86,   1,-999.0,      23,  2,19850413,0704,  24.2283, -146.2283,  5231, 1611.000,    2.614,   34.581,2,   34.580,2, -999.000,9,   72.000,2,  145.030,2,   42.130,2,    0.000,2,    2.910,2, -999.000,9, -999.000,9, -999.000,9, -999.000,9, -999.000,9
           NA,    P03E,     86,   1,-999.0,      24,  2,19850413,0704,  24.2283, -146.2283,  5231, 1809.000,    2.352,   34.601,2,   34.601,2, -999.000,9,   77.100,2,  153.450,2,   42.020,2,    0.000,2,    2.880,2,    0.004,2,    0.000,2, -999.000,9, -999.000,9, -999.000,9
           NA,    P03E,     86,   1,-999.0,      26,  2,19850413,0704,  24.2283, -146.2283,  5231, 2200.500,    1.912,   34.629,2,   34.627,2, -999.000,9,   94.000,2,  163.870,2,   40.840,2,    0.000,2,    2.770,2, -999.000,9, -999.000,9, -999.000,9, -999.000,9, -999.000,9
           NA,    P03E,     86,   1,-999.0,      25,  2,19850413,0704,  24.2283, -146.2283,  5231, 2200.500,    1.912,   34.629,2,   34.628,2, -999.000,9,   94.100,2,  163.780,2,   40.840,2,    0.000,2,    2.770,2, -999.000,9, -999.000,9, -999.000,9, -999.000,9, -999.000,9
           NA,    P03E,     86,   1,-999.0,      27,  2,19850413,0704,  24.2283, -146.2283,  5231, 2504.500,    1.709,   34.648,2,   34.647,2, -999.000,9,  109.000,2,  166.800,2,   39.880,2,    0.000,2,    2.700,2, -999.000,9,    0.001,2, -999.000,9, -999.000,9, -999.000,9
           NA,    P03E,     86,   1,-999.0,      28,  2,19850413,0704,  24.2283, -146.2283,  5231, 2816.600,    1.607,   34.659,2,   34.658,2, -999.000,9,  118.300,2,  166.700,2,   39.320,2,    0.000,2,    2.630,2, -999.000,9, -999.000,9, -999.000,9, -999.000,9, -999.000,9
           NA,    P03E,     86,   1,-999.0,      29,  2,19850413,0704,  24.2283, -146.2283,  5231, 3119.000,    1.529,   34.669,2,   34.668,2, -999.000,9,  129.700,2,  165.280,2,   38.510,2,    0.000,2,    2.580,2, -999.000,9, -999.000,9, -999.000,9, -999.000,9, -999.000,9
           NA,    P03E,     86,   1,-999.0,      30,  2,19850413,0704,  24.2283, -146.2283,  5231, 3421.900,    1.491,   34.675,2,   34.674,2, -999.000,9,  136.000,2,  163.280,2,   37.910,2,    0.000,2,    2.540,2, -999.000,9, -999.000,9, -999.000,9, -999.000,9, -999.000,9
           NA,    P03E,     86,   1,-999.0,      31,  2,19850413,0704,  24.2283, -146.2283,  5231, 3725.100,    1.467,   34.679,2,   34.677,2, -999.000,9,  145.000,2,  161.100,2,   37.400,2,    0.000,2,    2.500,2,    0.002,2,    0.001,2, -999.000,9, -999.000,9, -999.000,9
           NA,    P03E,     86,   1,-999.0,      32,  2,19850413,0704,  24.2283, -146.2283,  5231, 4030.500,    1.465,   34.682,2,   34.680,2, -999.000,9,  149.800,2,  157.790,2,   37.050,2,    0.000,2,    2.470,2, -999.000,9, -999.000,9, -999.000,9, -999.000,9, -999.000,9
           NA,    P03E,     86,   1,-999.0,      37,  2,19850413,0704,  24.2283, -146.2283,  5231, 4332.000,    1.475,   34.684,2,   34.683,2, -999.000,9,  153.500,2,  155.060,2,   36.760,2,    0.000,2,    2.430,2, -999.000,9, -999.000,9, -999.000,9, -999.000,9, -999.000,9
           NA,    P03E,     86,   1,-999.0,      34,  2,19850413,0704,  24.2283, -146.2283,  5231, 4624.300,    1.485,   34.686,2,   34.686,2, -999.000,9,  157.300,2,  150.810,2,   36.310,2,    0.000,2,    2.420,2, -999.000,9, -999.000,9, -999.000,9, -999.000,9, -999.000,9
           NA,    P03E,     86,   1,-999.0,      35,  2,19850413,0704,  24.2283, -146.2283,  5231, 4926.100,    1.489,   34.688,2,   34.688,2, -999.000,9,  162.100,2,  146.570,2,   36.060,2,    0.000,2,    2.390,2, -999.000,9, -999.000,9, -999.000,9, -999.000,9, -999.000,9
           NA,    P03E,     86,   1,-999.0,      36,  2,19850413,0704,  24.2283, -146.2283,  5231, 5296.700,    1.517,   34.690,2,   34.688,2, -999.000,9,  166.600,2,  144.040,2,   35.860,2,    0.000,2,    2.380,2,   -0.003,2,    0.000,2, -999.000,9, -999.000,9, -999.000,9