BOTTLE,20203103JOAExport
EXPOCODE,SECT_ID,STNNBR,CASTNO,SAMPNO,BTLNBR,BTLNBR_FLAG_W,DATE,TIME,LATITUDE,LONGITUDE,DEPTH,CTDPRS,CTDTMP,CTDSAL,CTDSAL_FLAG_W,SALNTY,SALNTY_FLAG_W,CTDOXY,CTDOXY_FLAG_W,OXYGEN,OXYGEN_FLAG_W,SILCAT,SILCAT_FLAG_W,NITRAT,NITRAT_FLAG_W,NITRIT,NITRIT_FLAG_W,PHSPHT,PHSPHT_FLAG_W,CFC-11,CFC-11_FLAG_W,CFC-12,CFC-12_FLAG_W,SF6,SF6_FLAG_W,TCARBN,TCARBN_FLAG_W,ALKALI,ALKALI_FLAG_W
,,,,,,,,,,,,,DB,ITS-90,PSS-78,,PSS-78,,UMOL/KG,,UMOL/KG,,UMOL/KG,,UMOL/KG,,UMOL/KG,,UMOL/KG,,PMOL/KG,,PMOL/KG,,FMOL/KG,,UMOL/KG,,UMOL/KG
           NA,    P03E,    104,   1,-999.0,       1,  2,19850416,0314,  24.2550, -152.6350,  5357,    1.600,   22.374,   35.346,2,   35.349,2, -999.000,9,  220.200,2,    0.680,2,    0.040,2,    0.000,2,    0.080,2, -999.000,9, -999.000,9, -999.000,9, -999.000,9, -999.000,9
           NA,    P03E,    104,   1,-999.0,       2,  2,19850416,0314,  24.2550, -152.6350,  5357,   26.200,   22.373,   35.344,2,   35.348,2, -999.000,9,  220.200,2,    0.490,2,    0.040,2,    0.000,2,    0.080,2, -999.000,9, -999.000,9, -999.000,9, -999.000,9, -999.000,9
           NA,    P03E,    104,   1,-999.0,       3,  2,19850416,0314,  24.2550, -152.6350,  5357,   45.300,   22.209,   35.346,2,   35.348,2, -999.000,9,  220.600,2,    0.590,2,    0.030,2,    0.010,2,    0.080,2, -999.000,9, -999.000,9, -999.000,9, -999.000,9, -999.000,9
           NA,    P03E,    104,   1,-999.0,       4,  2,19850416,0314,  24.2550, -152.6350,  5357,   75.900,   22.152,   35.345,2,   35.347,2, -999.000,9,  220.100,2,    0.590,2,    0.040,2,    0.000,2,    0.080,2, -999.000,9, -999.000,9, -999.000,9, -999.000,9, -999.000,9
           NA,    P03E,    104,   1,-999.0,       5,  2,19850416,0314,  24.2550, -152.6350,  5357,  104.800,   22.135,   35.342,2,   35.345,2, -999.000,9,  220.100,2,    0.290,2,    0.040,2,    0.000,2,    0.070,2, -999.000,9, -999.000,9, -999.000,9, -999.000,9, -999.000,9
           NA,    P03E,    104,   1,-999.0,       6,  2,19850416,0314,  24.2550, -152.6350,  5357,  146.100,   20.845,   35.178,2,   35.173,2, -999.000,9,  201.400,2,    0.880,2,    1.230,2,    0.090,2,    0.190,2, -999.000,9, -999.000,9, -999.000,9, -999.000,9, -999.000,9
           NA,    P03E,    104,   1,-999.0,       7,  2,19850416,0314,  24.2550, -152.6350,  5357,  185.800,   18.147,   34.777,2,   34.778,2, -999.000,9,  179.900,2,    2.740,2,    5.020,2,    0.020,2,    0.470,2, -999.000,9, -999.000,9, -999.000,9, -999.000,9, -999.000,9
           NA,    P03E,    104,   1,-999.0,       8,  2,19850416,0314,  24.2550, -152.6350,  5357,  226.700,   16.191,   34.591,2,   34.587,2, -999.000,9,  184.700,2,    4.500,2,    6.350,2,    0.020,2,    0.560,2, -999.000,9, -999.000,9, -999.000,9, -999.000,9, -999.000,9
           NA,    P03E,    104,   1,-999.0,       9,  2,19850416,0314,  24.2550, -152.6350,  5357,  267.100,   13.136,   34.255,2,   34.243,2, -999.000,9,  158.000,2,   11.340,2,   13.590,2,    0.000,2,    1.080,2, -999.000,9, -999.000,9, -999.000,9, -999.000,9, -999.000,9
           NA,    P03E,    104,   1,-999.0,      10,  2,19850416,0314,  24.2550, -152.6350,  5357,  308.500,   11.053,   34.121,2,   34.121,2, -999.000,9,  160.600,2,   17.110,2,   17.410,2,    0.000,2,    1.310,2, -999.000,9, -999.000,9, -999.000,9, -999.000,9, -999.000,9
           NA,    P03E,    104,   1,-999.0,      11,  2,19850416,0314,  24.2550, -152.6350,  5357,  348.500,    9.795,   34.103,2,   34.101,2, -999.000,9,  183.200,2,   21.410,2,   18.380,2,    0.000,2,    1.320,2, -999.000,9, -999.000,9, -999.000,9, -999.000,9, -999.000,9
           NA,    P03E,    104,   1,-999.0,      12,  2,19850416,0314,  24.2550, -152.6350,  5357,  399.300,    8.785,   34.091,2,   34.093,2, -999.000,9,  185.300,2,   26.990,2,   20.440,2,    0.000,2,    1.420,2, -999.000,9, -999.000,9, -999.000,9, -999.000,9, -999.000,9
           NA,    P03E,    104,   1,-999.0,      13,  2,19850416,0314,  24.2550, -152.6350,  5357,  460.100,    7.678,   34.048,2,   34.050,2, -999.000,9,  156.200,2,   37.750,2,   25.420,2,    0.000,2,    1.750,2, -999.000,9, -999.000,9, -999.000,9, -999.000,9, -999.000,9
           NA,    P03E,    104,   1,-999.0,      14,  2,19850416,0314,  24.2550, -152.6350,  5357,  530.700,    6.342,   34.027,2,   34.027,2, -999.000,9,  106.100,2,   56.420,2,   32.660,2,    0.000,2,    2.280,2, -999.000,9, -999.000,9, -999.000,9, -999.000,9, -999.000,9
           NA,    P03E,    104,   1,-999.0,      15,  2,19850416,0314,  24.2550, -152.6350,  5357,  610.500,    5.328,   34.078,2,   34.080,2, -999.000,9,   62.200,2,   75.880,2,   38.330,2,    0.000,2,    2.680,2, -999.000,9, -999.000,9, -999.000,9, -999.000,9, -999.000,9
           NA,    P03E,    104,   1,-999.0,      16,  2,19850416,0314,  24.2550, -152.6350,  5357,  711.900,    5.036,   34.244,2,   34.245,2, -999.000,9,   27.400,2,   89.950,2,   41.650,2,    0.000,2,    2.970,2, -999.000,9, -999.000,9, -999.000,9, -999.000,9, -999.000,9
           NA,    P03E,    104,   1,-999.0,      17,  2,19850416,0314,  24.2550, -152.6350,  5357,  811.800,    4.377,   34.303,2,   34.302,2, -999.000,9,   24.300,2,  103.340,2,   43.020,2,    0.000,2,    3.040,2, -999.000,9, -999.000,9, -999.000,9, -999.000,9, -999.000,9
           NA,    P03E,    104,   1,-999.0,      18,  2,19850416,0314,  24.2550, -152.6350,  5357,  962.400,    4.213,   34.453,2,   34.456,2, -999.000,9,   42.600,2,  106.170,2,   42.330,2,    0.000,2,    2.960,2, -999.000,9, -999.000,9, -999.000,9, -999.000,9, -999.000,9
           NA,    P03E,    104,   1,-999.0,      19,  2,19850416,0314,  24.2550, -152.6350,  5357, 1112.500,    3.783,   34.500,2,   34.501,2, -999.000,9,   50.000,2,  115.060,2,   42.330,2,    0.000,2,    2.960,2, -999.000,9, -999.000,9, -999.000,9, -999.000,9, -999.000,9
           NA,    P03E,    104,   1,-999.0,      20,  2,19850416,0314,  24.2550, -152.6350,  5357, 1264.400,    3.377,   34.530,2,   34.531,2, -999.000,9,   55.600,2,  124.540,2,   42.330,2,    0.000,2,    2.940,2, -999.000,9, -999.000,9, -999.000,9, -999.000,9, -999.000,9
           NA,    P03E,    104,   1,-999.0,      21,  2,19850416,0314,  24.2550, -152.6350,  5357, 1414.700,    3.081,   34.550,2,   34.550,2, -999.000,9,   62.200,2,  133.330,2,   42.130,2,    0.000,2,    2.930,2, -999.000,9, -999.000,9, -999.000,9, -999.000,9, -999.000,9
           NA,    P03E,    104,   1,-999.0,      22,  2,19850416,0314,  24.2550, -152.6350,  5357, 1616.900,    2.685,   34.578,2,   34.578,2, -999.000,9,   71.300,2,  142.030,2,   41.640,2,    0.000,2,    2.890,2, -999.000,9, -999.000,9, -999.000,9, -999.000,9, -999.000,9
           NA,    P03E,    104,   1,-999.0,      23,  2,19850416,0314,  24.2550, -152.6350,  5357, 1817.800,    2.384,   34.596,2,   34.596,2, -999.000,9,   80.400,2,  149.160,2,   41.150,2,    0.000,2,    2.850,2, -999.000,9, -999.000,9, -999.000,9, -999.000,9, -999.000,9
           NA,    P03E,    104,   1,-999.0,      24,  2,19850416,0314,  24.2550, -152.6350,  5357, 2017.900,    2.148,   34.613,2,   34.612,2, -999.000,9,   88.200,2,  155.120,2,   40.660,2,    0.000,2,    2.810,2, -999.000,9, -999.000,9, -999.000,9, -999.000,9, -999.000,9
           NA,    P03E,    104,   1,-999.0,      25,  2,19850416,0314,  24.2550, -152.6350,  5357, 2220.300,    1.937,   34.628,2,   34.628,2, -999.000,9,   93.900,2,  162.550,2,   40.270,2,    0.000,2,    2.830,2, -999.000,9, -999.000,9, -999.000,9, -999.000,9, -999.000,9
           NA,    P03E,    104,   1,-999.0,      26,  2,19850416,0314,  24.2550, -152.6350,  5357, 2521.500,    1.744,   34.645,2,   34.645,2, -999.000,9,  107.300,2,  165.480,2,   39.590,2,    0.000,2,    2.710,2, -999.000,9, -999.000,9, -999.000,9, -999.000,9, -999.000,9
           NA,    P03E,    104,   1,-999.0,      27,  2,19850416,0314,  24.2550, -152.6350,  5357, 2822.800,    1.653,   34.655,2,   34.655,2, -999.000,9,  114.700,2,  166.950,2,   38.900,2,    0.000,2,    2.660,2, -999.000,9, -999.000,9, -999.000,9, -999.000,9, -999.000,9
           NA,    P03E,    104,   1,-999.0,      28,  2,19850416,0314,  24.2550, -152.6350,  5357, 3126.600,    1.550,   34.667,2,   34.666,2, -999.000,9,  126.900,2,  164.600,2,   38.120,2,    0.000,2,    2.580,2, -999.000,9, -999.000,9, -999.000,9, -999.000,9, -999.000,9
           NA,    P03E,    104,   1,-999.0,      29,  2,19850416,0314,  24.2550, -152.6350,  5357, 3423.900,    1.523,   34.671,2,   34.672,2, -999.000,9,  133.400,2,  162.840,2,   37.830,2,    0.000,2,    2.540,2, -999.000,9, -999.000,9, -999.000,9, -999.000,9, -999.000,9
           NA,    P03E,    104,   1,-999.0,      30,  2,19850416,0314,  24.2550, -152.6350,  5357, 3725.300,    1.498,   34.677,2,   34.677,2, -999.000,9,  140.400,2,  162.640,2,   37.140,2,    0.000,2,    2.500,2, -999.000,9, -999.000,9, -999.000,9, -999.000,9, -999.000,9
           NA,    P03E,    104,   1,-999.0,      31,  2,19850416,0314,  24.2550, -152.6350,  5357, 4025.800,    1.473,   34.681,2,   34.681,2, -999.000,9,  148.600,2,  157.660,2,   36.750,2,    0.000,2,    2.480,2, -999.000,9, -999.000,9, -999.000,9, -999.000,9, -999.000,9
           NA,    P03E,    104,   1,-999.0,      32,  2,19850416,0314,  24.2550, -152.6350,  5357, 4327.700,    1.472,   34.684,2,   34.683,2, -999.000,9,  152.500,2,  153.360,2,   36.460,2,    0.000,2,    2.440,2, -999.000,9, -999.000,9, -999.000,9, -999.000,9, -999.000,9
           NA,    P03E,    104,   1,-999.0,      37,  2,19850416,0314,  24.2550, -152.6350,  5357, 4633.200,    1.476,   34.686,2,   34.686,2, -999.000,9,  159.000,2,  149.740,2,   35.770,2,    0.000,2, -999.000,5, -999.000,9, -999.000,9, -999.000,9, -999.000,9, -999.000,9
           NA,    P03E,    104,   1,-999.0,      34,  2,19850416,0314,  24.2550, -152.6350,  5357, 4891.900,    1.482,   34.689,2,   34.688,2, -999.000,9,  162.500,2,  147.200,2,   35.770,2,    0.000,2,    2.390,2, -999.000,9, -999.000,9, -999.000,9, -999.000,9, -999.000,9
           NA,    P03E,    104,   1,-999.0,      35,  2,19850416,0314,  24.2550, -152.6350,  5357, 5149.800,    1.500,   34.689,2,   34.689,2, -999.000,9,  165.100,2,  145.630,2,   35.580,2,    0.000,2,    2.390,2, -999.000,9, -999.000,9, -999.000,9, -999.000,9, -999.000,9
           NA,    P03E,    104,   1,-999.0,      36,  2,19850416,0314,  24.2550, -152.6350,  5357, 5422.600,    1.518,   34.691,2,   34.690,2, -999.000,9,  166.900,2,  143.090,2,   35.580,2,    0.000,2,    2.380,2, -999.000,9, -999.000,9, -999.000,9, -999.000,9, -999.000,9