BOTTLE,20203103JOAExport
EXPOCODE,SECT_ID,STNNBR,CASTNO,SAMPNO,BTLNBR,BTLNBR_FLAG_W,DATE,TIME,LATITUDE,LONGITUDE,DEPTH,CTDPRS,CTDTMP,CTDSAL,CTDSAL_FLAG_W,SALNTY,SALNTY_FLAG_W,CTDOXY,CTDOXY_FLAG_W,OXYGEN,OXYGEN_FLAG_W,SILCAT,SILCAT_FLAG_W,NITRAT,NITRAT_FLAG_W,NITRIT,NITRIT_FLAG_W,PHSPHT,PHSPHT_FLAG_W,CFC-11,CFC-11_FLAG_W,CFC-12,CFC-12_FLAG_W,SF6,SF6_FLAG_W,TCARBN,TCARBN_FLAG_W,ALKALI,ALKALI_FLAG_W
,,,,,,,,,,,,,DB,ITS-90,PSS-78,,PSS-78,,UMOL/KG,,UMOL/KG,,UMOL/KG,,UMOL/KG,,UMOL/KG,,UMOL/KG,,PMOL/KG,,PMOL/KG,,FMOL/KG,,UMOL/KG,,UMOL/KG
           NA,    P03W,    361,   1,-999.0,       5,  2,19850530,0511,  25.3300,  127.6333,  2199,    2.600,   25.910,   34.424,2,   34.428,2, -999.000,9,  207.900,2,    1.280,2,    0.100,2,    0.000,2,    0.000,2,    1.485,2,    0.770,2, -999.000,9, -999.000,9, -999.000,9
           NA,    P03W,    361,   1,-999.0,      38,  2,19850530,0511,  25.3300,  127.6333,  2199,   21.700,   24.548,   34.892,2,   34.891,2, -999.000,9,  216.400,2,    1.270,2,    0.100,2,    0.000,2,    0.000,2,    1.572,2,    0.817,2, -999.000,9, -999.000,9, -999.000,9
           NA,    P03W,    361,   1,-999.0,       3,  2,19850530,0511,  25.3300,  127.6333,  2199,   41.200,   22.956,   34.829,2,   34.829,2, -999.000,9,  223.800,2,    1.260,2,    0.100,2,    0.000,2,    0.000,2, -999.000,9, -999.000,9, -999.000,9, -999.000,9, -999.000,9
           NA,    P03W,    361,   1,-999.0,       4,  2,19850530,0511,  25.3300,  127.6333,  2199,   71.400,   21.206,   34.836,2,   34.837,2, -999.000,9,  219.700,2,    1.480,2,    0.100,2,    0.000,2,    0.030,2,    1.695,2,    0.865,2, -999.000,9, -999.000,9, -999.000,9
           NA,    P03W,    361,   1,-999.0,       1,  2,19850530,0511,  25.3300,  127.6333,  2199,  102.700,   20.141,   34.842,2,   34.842,2, -999.000,9,  205.700,2,    2.350,2,    0.970,2,    0.120,2,    0.100,2, -999.000,9, -999.000,9, -999.000,9, -999.000,9, -999.000,9
           NA,    P03W,    361,   1,-999.0,       6,  2,19850530,0511,  25.3300,  127.6333,  2199,  142.800,   19.201,   34.869,2,   34.870,2, -999.000,9,  192.200,2,    3.010,2,    3.460,2,    0.020,2,    0.250,2,    1.593,2,    0.802,2, -999.000,9, -999.000,9, -999.000,9
           NA,    P03W,    361,   1,-999.0,       7,  2,19850530,0511,  25.3300,  127.6333,  2199,  182.600,   18.235,   34.837,2,   34.836,2, -999.000,9,  196.000,2,    3.660,2,    4.280,2,    0.010,2,    0.300,2,    1.626,2,    0.823,2, -999.000,9, -999.000,9, -999.000,9
           NA,    P03W,    361,   1,-999.0,       8,  2,19850530,0511,  25.3300,  127.6333,  2199,  233.500,   17.372,   34.806,2,   34.806,2, -999.000,9,  199.500,2,    4.760,2,    5.000,2,    0.000,2,    0.360,2,    1.605,2,    0.852,2, -999.000,9, -999.000,9, -999.000,9
           NA,    P03W,    361,   1,-999.0,       9,  2,19850530,0511,  25.3300,  127.6333,  2199,  282.500,   16.467,   34.757,2,   34.756,2, -999.000,9,  199.900,2,    5.630,2,    6.380,2,    0.000,2,    0.420,2,    1.618,2,    0.804,2, -999.000,9, -999.000,9, -999.000,9
           NA,    P03W,    361,   1,-999.0,      10,  2,19850530,0511,  25.3300,  127.6333,  2199,  331.500,   15.530,   34.685,2,   34.685,2, -999.000,9,  194.600,2,    8.490,2,    8.290,2,    0.000,2,    0.550,2,    1.481,2,    0.732,2, -999.000,9, -999.000,9, -999.000,9
           NA,    P03W,    361,   1,-999.0,      11,  2,19850530,0511,  25.3300,  127.6333,  2199,  381.700,   14.552,   34.604,2,   34.603,2, -999.000,9,  189.400,2,   11.570,2,   10.300,2,    0.000,2,    0.700,2,    1.322,2,    0.661,2, -999.000,9, -999.000,9, -999.000,9
           NA,    P03W,    361,   1,-999.0,      12,  2,19850530,0511,  25.3300,  127.6333,  2199,  442.400,   12.225,   34.412,2, -999.000,5, -999.000,9,  174.100,2,   20.160,2,   15.490,2,    0.000,2,    1.050,2,    1.015,2,    0.507,2, -999.000,9, -999.000,9, -999.000,9
           NA,    P03W,    361,   1,-999.0,      13,  2,19850530,0511,  25.3300,  127.6333,  2199,  504.000,   11.103,   34.348,2,   34.349,2, -999.000,9,  168.000,2,   27.420,2,   18.050,2,    0.000,2,    1.240,2,    0.935,2,    0.465,2, -999.000,9, -999.000,9, -999.000,9
           NA,    P03W,    361,   1,-999.0,      14,  2,19850530,0511,  25.3300,  127.6333,  2199,  565.900,    9.158,   34.230,2,   34.230,2, -999.000,9,  154.900,2,   40.220,2,   22.780,2,    0.000,2,    1.570,2,    0.795,2,    0.396,2, -999.000,9, -999.000,9, -999.000,9
           NA,    P03W,    361,   1,-999.0,      15,  2,19850530,0511,  25.3300,  127.6333,  2199,  646.800,    7.314,   34.157,2,   34.157,2, -999.000,9,  129.600,2,   55.900,2,   28.260,2,    0.000,2,    1.960,2, -999.000,9, -999.000,9, -999.000,9, -999.000,9, -999.000,9
           NA,    P03W,    361,   1,-999.0,      16,  2,19850530,0511,  25.3300,  127.6333,  2199,  727.300,    6.049,   34.167,2,   34.167,2, -999.000,9,   97.400,2,   73.180,2,   33.560,2,    0.000,2,    2.350,2,    0.287,2,    0.138,2, -999.000,9, -999.000,9, -999.000,9
           NA,    P03W,    361,   1,-999.0,      17,  2,19850530,0511,  25.3300,  127.6333,  2199,  808.000,    5.003,   34.208,2,   34.211,2, -999.000,9,   75.200,2,   91.410,2,   37.270,2,    0.000,2,    2.570,2,    0.159,2,    0.078,2, -999.000,9, -999.000,9, -999.000,9
           NA,    P03W,    361,   1,-999.0,      18,  2,19850530,0511,  25.3300,  127.6333,  2199,  910.300,    4.336,   34.280,2,   34.278,2, -999.000,9,   61.700,2,  106.590,2,   39.370,2,    0.000,2,    2.730,2, -999.000,9, -999.000,9, -999.000,9, -999.000,9, -999.000,9
           NA,    P03W,    361,   1,-999.0,      23,  2,19850530,0511,  25.3300,  127.6333,  2199, 1112.000,    3.428,   34.404,2,   34.404,2, -999.000,9,   58.700,2,  127.470,2,   40.860,2,    0.000,2,    2.850,2,    0.009,2,   -0.002,2, -999.000,9, -999.000,9, -999.000,9
           NA,    P03W,    361,   1,-999.0,      20,  2,19850530,0511,  25.3300,  127.6333,  2199, 1313.900,    2.909,   34.478,2,   34.480,2, -999.000,9,   70.000,2,  138.520,2,   40.860,2,    0.000,2,    2.820,2, -999.000,9, -999.000,9, -999.000,9, -999.000,9, -999.000,9
           NA,    P03W,    361,   1,-999.0,      21,  2,19850530,0511,  25.3300,  127.6333,  2199, 1515.600,    2.611,   34.532,2,   34.531,2, -999.000,9,   84.700,2,  143.030,2,   40.030,2,    0.000,2,    2.770,2, -999.000,9, -999.000,9, -999.000,9, -999.000,9, -999.000,9
           NA,    P03W,    361,   1,-999.0,      22,  2,19850530,0511,  25.3300,  127.6333,  2199, 1717.500,    2.232,   34.576,2,   34.576,2, -999.000,9,  100.400,2,  145.740,2,   39.110,2,    0.000,2,    2.680,2,   -0.008,2,   -0.005,2, -999.000,9, -999.000,9, -999.000,9
           NA,    P03W,    361,   1,-999.0,      39,  2,19850530,0511,  25.3300,  127.6333,  2199, 2019.800,    1.977,   34.616,2,   34.615,2, -999.000,9,  116.500,2,  143.210,2,   38.330,2,    0.000,2,    2.630,2, -999.000,9, -999.000,9, -999.000,9, -999.000,9, -999.000,9
           NA,    P03W,    361,   1,-999.0,      24,  2,19850530,0511,  25.3300,  127.6333,  2199, 2248.500,    1.885,   34.628,2,   34.628,2, -999.000,9,  122.500,2,  144.560,2,   37.970,2,    0.000,2,    2.620,2,   -0.005,2,    0.012,2, -999.000,9, -999.000,9, -999.000,9
           NA,    P03W,    359,   1,-999.0,       5,  2,19850530,0112,  25.1667,  127.7583,  3632,    0.000,   25.413,   34.487,2,   34.491,2, -999.000,9,  207.300,2,    1.280,2,    0.000,2,    0.000,2,    0.040,2, -999.000,9, -999.000,9, -999.000,9, -999.000,9, -999.000,9
           NA,    P03W,    359,   1,-999.0,      38,  2,19850530,0112,  25.1667,  127.7583,  3632,  101.400,   20.076,   34.879,2,   34.880,2, -999.000,9,  217.500,2,    1.930,2,    0.110,2,    0.030,2,    0.100,2, -999.000,9, -999.000,9, -999.000,9, -999.000,9, -999.000,9
           NA,    P03W,    359,   1,-999.0,       3,  2,19850530,0112,  25.1667,  127.7583,  3632,  201.600,   18.118,   34.835,2,   34.835,2, -999.000,9,  204.300,2,    3.250,2,    3.510,2,    0.010,2,    0.300,2, -999.000,9, -999.000,9, -999.000,9, -999.000,9, -999.000,9
           NA,    P03W,    359,   1,-999.0,       4,  2,19850530,0112,  25.1667,  127.7583,  3632,  302.200,   16.076,   34.729,2,   34.729,2, -999.000,9,  198.400,2,    6.540,2,    6.900,2,    0.000,2,    0.510,2, -999.000,9, -999.000,9, -999.000,9, -999.000,9, -999.000,9
           NA,    P03W,    359,   1,-999.0,       1,  2,19850530,0112,  25.1667,  127.7583,  3632,  402.400,   13.787,   34.536,2,   34.536,2, -999.000,9,  186.100,2, -999.000,5, -999.000,5, -999.000,5, -999.000,5, -999.000,9, -999.000,9, -999.000,9, -999.000,9, -999.000,9
           NA,    P03W,    359,   1,-999.0,       6,  2,19850530,0112,  25.1667,  127.7583,  3632,  503.100,   10.865,   34.330,2,   34.333,2, -999.000,9,  167.300,2,   27.430,2,   18.430,2,    0.000,2,    1.300,2, -999.000,9, -999.000,9, -999.000,9, -999.000,9, -999.000,9
           NA,    P03W,    359,   1,-999.0,       7,  2,19850530,0112,  25.1667,  127.7583,  3632,  604.300,    8.466,   34.194,2,   34.194,2, -999.000,9,  144.300,2,   44.820,2,   24.830,2,    0.000,2,    1.770,2, -999.000,9, -999.000,9, -999.000,9, -999.000,9, -999.000,9
           NA,    P03W,    359,   1,-999.0,       8,  2,19850530,0112,  25.1667,  127.7583,  3632,  704.600,    6.613,   34.150,2,   34.149,2, -999.000,9,  114.600,2,   65.110,2,   30.830,2,    0.000,2,    2.200,2, -999.000,9, -999.000,9, -999.000,9, -999.000,9, -999.000,9
           NA,    P03W,    359,   1,-999.0,       9,  2,19850530,0112,  25.1667,  127.7583,  3632,  805.600,    5.381,   34.191,2,   34.191,2, -999.000,9,   82.600,2,   84.560,2,   35.870,2,    0.000,2,    2.530,2, -999.000,9, -999.000,9, -999.000,9, -999.000,9, -999.000,9
           NA,    P03W,    359,   1,-999.0,      10,  2,19850530,0112,  25.1667,  127.7583,  3632,  906.000,    4.631,   34.265,2,   34.266,2, -999.000,9,   66.700,2,   98.280,2,   38.470,2,    0.000,2,    2.720,2, -999.000,9, -999.000,9, -999.000,9, -999.000,9, -999.000,9
           NA,    P03W,    359,   1,-999.0,      11,  2,19850530,0112,  25.1667,  127.7583,  3632, 1007.300,    4.011,   34.333,2,   34.334,2, -999.000,9,   60.300,2,  111.600,2,   40.110,2,    0.000,2,    2.830,2, -999.000,9, -999.000,9, -999.000,9, -999.000,9, -999.000,9
           NA,    P03W,    359,   1,-999.0,      12,  2,19850530,0112,  25.1667,  127.7583,  3632, 1209.700,    3.165,   34.444,2,   34.446,2, -999.000,9,   63.100,2,  130.800,2,   40.930,2,    0.000,2,    2.870,2, -999.000,9, -999.000,9, -999.000,9, -999.000,9, -999.000,9
           NA,    P03W,    359,   1,-999.0,      13,  2,19850530,0112,  25.1667,  127.7583,  3632, 1411.400,    2.679,   34.513,2,   34.514,2, -999.000,9,   79.100,2,  138.370,2,   40.350,2,    0.000,2,    2.800,2, -999.000,9, -999.000,9, -999.000,9, -999.000,9, -999.000,9
           NA,    P03W,    359,   1,-999.0,      14,  2,19850530,0112,  25.1667,  127.7583,  3632, 1611.800,    2.452,   34.544,2,   34.545,2, -999.000,9,   88.500,2,  141.880,2,   39.830,2,    0.000,2,    2.790,2, -999.000,9, -999.000,9, -999.000,9, -999.000,9, -999.000,9
           NA,    P03W,    359,   1,-999.0,      15,  2,19850530,0112,  25.1667,  127.7583,  3632, 1814.500,    2.176,   34.584,2,   34.583,2, -999.000,9,  104.100,2,  142.240,2,   38.960,2,    0.000,2,    2.710,2, -999.000,9, -999.000,9, -999.000,9, -999.000,9, -999.000,9
           NA,    P03W,    359,   1,-999.0,      16,  2,19850530,0112,  25.1667,  127.7583,  3632, 2017.200,    1.995,   34.611,2,   34.611,2, -999.000,9,  116.200,2,  142.370,2,   38.390,2,    0.000,2,    2.670,2, -999.000,9, -999.000,9, -999.000,9, -999.000,9, -999.000,9
           NA,    P03W,    359,   1,-999.0,      17,  2,19850530,0112,  25.1667,  127.7583,  3632, 2219.000,    1.871,   34.628,2,   34.629,2, -999.000,9,  124.100,2,  143.410,2,   37.870,2,    0.000,2,    2.620,2, -999.000,9, -999.000,9, -999.000,9, -999.000,9, -999.000,9
           NA,    P03W,    359,   1,-999.0,      18,  2,19850530,0112,  25.1667,  127.7583,  3632, 2423.100,    1.784,   34.641,2,   34.641,2, -999.000,9,  129.700,2,  144.220,2,   37.560,2,    0.000,2,    2.590,2, -999.000,9, -999.000,9, -999.000,9, -999.000,9, -999.000,9
           NA,    P03W,    359,   1,-999.0,      23,  2,19850530,0112,  25.1667,  127.7583,  3632, 2626.100,    1.717,   34.648,2,   34.647,2, -999.000,9,  134.500,2,  143.900,2,   37.310,2,    0.000,2,    2.580,2,    0.005,2,   -0.004,2, -999.000,9, -999.000,9, -999.000,9
           NA,    P03W,    359,   1,-999.0,      20,  2,19850530,0112,  25.1667,  127.7583,  3632, 2829.100,    1.644,   34.656,2,   34.657,2, -999.000,9,  139.600,2,  144.260,2,   36.890,2,    0.000,2,    2.540,2, -999.000,9, -999.000,9, -999.000,9, -999.000,9, -999.000,9
           NA,    P03W,    359,   1,-999.0,      21,  2,19850530,0112,  25.1667,  127.7583,  3632, 3032.600,    1.601,   34.662,2,   34.661,2, -999.000,9,  143.300,2,  145.520,2,   36.740,2,    0.000,2,    2.530,2,    0.001,2,   -0.004,2, -999.000,9, -999.000,9, -999.000,9
           NA,    P03W,    359,   1,-999.0,      22,  2,19850530,0112,  25.1667,  127.7583,  3632, 3235.000,    1.591,   34.665,2,   34.663,2, -999.000,9,  145.200,2,  144.300,2,   36.690,2,    0.000,2,    2.540,2,    0.001,2,    0.015,2, -999.000,9, -999.000,9, -999.000,9
           NA,    P03W,    359,   1,-999.0,      39,  2,19850530,0112,  25.1667,  127.7583,  3632, 3438.400,    1.574,   34.669,2,   34.668,2, -999.000,9,  148.000,2,  145.550,2,   36.730,2,    0.000,2,    2.500,2, -999.000,9, -999.000,9, -999.000,9, -999.000,9, -999.000,9
           NA,    P03W,    359,   1,-999.0,      24,  2,19850530,0112,  25.1667,  127.7583,  3632, 3671.800,    1.556,   34.673,2,   34.672,2, -999.000,9,  150.400,2,  145.910,2,   36.320,2,    0.000,2,    2.490,2,   -0.003,2,   -0.003,2, -999.000,9, -999.000,9, -999.000,9