BOTTLE,20203103JOAExport
EXPOCODE,SECT_ID,STNNBR,CASTNO,SAMPNO,BTLNBR,BTLNBR_FLAG_W,DATE,TIME,LATITUDE,LONGITUDE,DEPTH,CTDPRS,CTDTMP,CTDSAL,CTDSAL_FLAG_W,SALNTY,SALNTY_FLAG_W,CTDOXY,CTDOXY_FLAG_W,OXYGEN,OXYGEN_FLAG_W,SILCAT,SILCAT_FLAG_W,NITRAT,NITRAT_FLAG_W,NITRIT,NITRIT_FLAG_W,PHSPHT,PHSPHT_FLAG_W,CFC-11,CFC-11_FLAG_W,CFC-12,CFC-12_FLAG_W,SF6,SF6_FLAG_W,TCARBN,TCARBN_FLAG_W,ALKALI,ALKALI_FLAG_W
,,,,,,,,,,,,,DB,ITS-90,PSS-78,,PSS-78,,UMOL/KG,,UMOL/KG,,UMOL/KG,,UMOL/KG,,UMOL/KG,,UMOL/KG,,PMOL/KG,,PMOL/KG,,FMOL/KG,,UMOL/KG,,UMOL/KG
           NA,    P03W,    316,   1,-999.0,       4,  2,19850522,1822,  24.2583,  138.5750,  5012,    0.000,   26.664,   34.851,2,   34.855,2, -999.000,9,  204.900,2,    2.070,2,    0.160,2,    0.000,2,    0.020,2, -999.000,9, -999.000,9, -999.000,9, -999.000,9, -999.000,9
           NA,    P03W,    316,   1,-999.0,      38,  2,19850522,1822,  24.2583,  138.5750,  5012,   24.600,   26.320,   34.844,2,   34.846,2, -999.000,9,  208.600,2,    2.060,2,    0.160,2,    0.000,2,    0.020,2, -999.000,9, -999.000,9, -999.000,9, -999.000,9, -999.000,9
           NA,    P03W,    316,   1,-999.0,       3,  2,19850522,1822,  24.2583,  138.5750,  5012,   45.300,   24.579,   34.901,2,   34.892,2, -999.000,9,  216.000,2,    2.040,2,    0.160,2,    0.000,2,    0.000,2,    1.506,2,    0.815,2, -999.000,9, -999.000,9, -999.000,9
           NA,    P03W,    316,   1,-999.0,       1,  2,19850522,1822,  24.2583,  138.5750,  5012,   75.600,   21.643,   34.904,2,   34.904,2, -999.000,9,  223.600,2,    2.240,2,    0.150,2,    0.000,2,    0.010,2, -999.000,9, -999.000,9, -999.000,9, -999.000,9, -999.000,9
           NA,    P03W,    316,   1,-999.0,       5,  2,19850522,1822,  24.2583,  138.5750,  5012,  105.600,   20.477,   34.886,2,   34.887,2, -999.000,9,  211.200,2,    2.450,2,    0.440,2,    0.030,2,    0.070,2,    1.635,2,    0.863,2, -999.000,9, -999.000,9, -999.000,9
           NA,    P03W,    316,   1,-999.0,       6,  2,19850522,1822,  24.2583,  138.5750,  5012,  145.600,   19.025,   34.863,2,   34.864,2, -999.000,9,  199.600,2,    2.880,2,    3.050,2,    0.050,2,    0.210,2,    1.650,2,    0.869,2, -999.000,9, -999.000,9, -999.000,9
           NA,    P03W,    316,   1,-999.0,       7,  2,19850522,1822,  24.2583,  138.5750,  5012,  186.100,   18.107,   34.830,2,   34.831,2, -999.000,9,  201.200,2,    3.530,2,    4.040,2,    0.020,2,    0.270,2,    1.704,2,    0.881,2, -999.000,9, -999.000,9, -999.000,9
           NA,    P03W,    316,   1,-999.0,       8,  2,19850522,1822,  24.2583,  138.5750,  5012,  235.900,   17.031,   34.789,2,   34.788,2, -999.000,9,  201.500,2,    4.620,2,    5.340,2,    0.010,2,    0.340,2,    1.687,2,    0.861,2, -999.000,9, -999.000,9, -999.000,9
           NA,    P03W,    316,   1,-999.0,       9,  2,19850522,1822,  24.2583,  138.5750,  5012,  285.700,   16.193,   34.743,2,   34.743,2, -999.000,9,  204.800,2,    5.500,2,    6.360,2,    0.000,2,    0.410,2,    1.675,2,    0.855,2, -999.000,9, -999.000,9, -999.000,9
           NA,    P03W,    316,   1,-999.0,      10,  2,19850522,1822,  24.2583,  138.5750,  5012,  336.100,   15.188,   34.654,2,   34.653,2, -999.000,9,  193.000,2,    9.260,2,    8.950,2,    0.010,2,    0.590,2,    1.438,2,    0.723,2, -999.000,9, -999.000,9, -999.000,9
           NA,    P03W,    316,   1,-999.0,      11,  2,19850522,1822,  24.2583,  138.5750,  5012,  386.500,   14.248,   34.580,2,   34.579,2, -999.000,9,  192.000,2,   11.700,2,   10.430,2,    0.000,2,    0.690,2,    1.406,2,    0.695,2, -999.000,9, -999.000,9, -999.000,9
           NA,    P03W,    316,   1,-999.0,      12,  2,19850522,1822,  24.2583,  138.5750,  5012,  446.000,   12.833,   34.464,2,   34.464,2, -999.000,9,  185.700,2,   16.810,2,   13.360,2,    0.000,2,    0.890,2,    1.229,2,    0.595,2, -999.000,9, -999.000,9, -999.000,9
           NA,    P03W,    316,   1,-999.0,      13,  2,19850522,1822,  24.2583,  138.5750,  5012,  505.800,   11.243,   34.343,2,   34.340,2, -999.000,9,  178.000,2,   24.170,2,   16.780,2,    0.000,2,    1.150,2,    1.109,2,    0.563,2, -999.000,9, -999.000,9, -999.000,9
           NA,    P03W,    316,   1,-999.0,      14,  2,19850522,1822,  24.2583,  138.5750,  5012,  567.100,    9.620,   34.240,2,   34.239,2, -999.000,9,  166.400,2,   33.980,2,   20.790,2,    0.000,2,    1.420,2, -999.000,9, -999.000,9, -999.000,9, -999.000,9, -999.000,9
           NA,    P03W,    316,   1,-999.0,      15,  2,19850522,1822,  24.2583,  138.5750,  5012,  647.900,    7.532,   34.148,2,   34.148,2, -999.000,9,  139.700,2,   52.090,2,   26.800,2,    0.000,2,    1.870,2,    0.718,2,    0.316,2, -999.000,9, -999.000,9, -999.000,9
           NA,    P03W,    316,   1,-999.0,      16,  2,19850522,1822,  24.2583,  138.5750,  5012,  727.900,    6.164,   34.123,2,   34.123,2, -999.000,9,  113.800,2,   68.000,2,   31.610,2,    0.000,2,    2.220,2,    0.528,2,    0.246,2, -999.000,9, -999.000,9, -999.000,9
           NA,    P03W,    316,   1,-999.0,      17,  2,19850522,1822,  24.2583,  138.5750,  5012,  808.100,    5.142,   34.170,2,   34.172,2, -999.000,9,   84.500,2,   87.320,2,   36.090,2,    0.000,2,    2.540,2,    0.280,2,    0.137,2, -999.000,9, -999.000,9, -999.000,9
           NA,    P03W,    316,   1,-999.0,      18,  2,19850522,1822,  24.2583,  138.5750,  5012,  958.500,    4.118,   34.295,2,   34.300,2, -999.000,9,   57.800,2,  110.540,2,   40.100,2,    0.000,2,    2.790,2,    0.065,2,    0.042,2, -999.000,9, -999.000,9, -999.000,9
           NA,    P03W,    316,   1,-999.0,      23,  2,19850522,1822,  24.2583,  138.5750,  5012, 1109.800,    3.448,   34.397,2,   34.398,2, -999.000,9,   54.300,2,  127.760,2,   41.420,2,    0.000,2,    2.890,2,    0.017,2,    0.015,2, -999.000,9, -999.000,9, -999.000,9
           NA,    P03W,    316,   1,-999.0,      20,  2,19850522,1822,  24.2583,  138.5750,  5012, 1259.200,    3.015,   34.460,2,   34.461,2, -999.000,9,   60.200,2,  135.510,2,   41.370,2,    0.000,2,    2.870,2,    0.002,2,   -0.003,2, -999.000,9, -999.000,9, -999.000,9
           NA,    P03W,    316,   1,-999.0,      21,  2,19850522,1822,  24.2583,  138.5750,  5012, 1414.100,    2.725,   34.501,2,   34.501,2, -999.000,9,   70.700,2,  141.700,2,   40.930,2,    0.000,2,    2.840,2,   -0.005,2,   -0.003,2, -999.000,9, -999.000,9, -999.000,9
           NA,    P03W,    316,   1,-999.0,      22,  2,19850522,1822,  24.2583,  138.5750,  5012, 1615.600,    2.358,   34.556,2,   34.556,2, -999.000,9,   88.500,2,  144.940,2,   39.620,2,    0.000,2,    2.720,2, -999.000,9, -999.000,9, -999.000,9, -999.000,9, -999.000,9
           NA,    P03W,    316,   1,-999.0,      39,  2,19850522,1822,  24.2583,  138.5750,  5012, 1818.100,    2.154,   34.588,2,   34.588,2, -999.000,9,  102.700,2,  145.910,2,   39.130,2,    0.000,2,    2.690,2, -999.000,9, -999.000,9, -999.000,9, -999.000,9, -999.000,9
           NA,    P03W,    316,   1,-999.0,      24,  2,19850522,1822,  24.2583,  138.5750,  5012, 2019.900,    2.005,   34.611,2,   34.612,2, -999.000,9,  114.400,2,  145.050,2,   38.480,2,    0.000,2,    2.630,2,    0.004,2, -999.000,9, -999.000,9, -999.000,9, -999.000,9
           NA,    P03W,    316,   1,-999.0,      40,  2,19850522,1822,  24.2583,  138.5750,  5012, 2222.400,    1.884,   34.628,2,   34.628,2, -999.000,9,  121.300,2,  145.160,2,   37.740,2,    0.000,2,    2.600,2, -999.000,9, -999.000,9, -999.000,9, -999.000,9, -999.000,9
           NA,    P03W,    316,   1,-999.0,      26,  2,19850522,1822,  24.2583,  138.5750,  5012, 2426.200,    1.807,   34.638,2,   34.638,2, -999.000,9,  126.400,2,  144.490,2,   37.650,2,    0.000,2,    2.580,2, -999.000,9, -999.000,9, -999.000,9, -999.000,9, -999.000,9
           NA,    P03W,    316,   1,-999.0,      27,  2,19850522,1822,  24.2583,  138.5750,  5012, 2628.100,    1.739,   34.646,2,   34.647,2, -999.000,9,  131.900,2,  144.780,2,   37.600,2,    0.000,2,    2.560,2, -999.000,9, -999.000,9, -999.000,9, -999.000,9, -999.000,9
           NA,    P03W,    316,   1,-999.0,      28,  2,19850522,1822,  24.2583,  138.5750,  5012, 2831.100,    1.694,   34.653,2,   34.653,2, -999.000,9,  136.100,2,  144.840,2,   37.410,2,    0.000,2,    2.530,2,    0.002,2, -999.000,9, -999.000,9, -999.000,9, -999.000,9
           NA,    P03W,    316,   1,-999.0,      29,  2,19850522,1822,  24.2583,  138.5750,  5012, 3129.900,    1.615,   34.663,2,   34.663,2, -999.000,9,  139.500,2,  144.210,2,   36.920,2,    0.000,2,    2.500,2, -999.000,9, -999.000,9, -999.000,9, -999.000,9, -999.000,9
           NA,    P03W,    316,   1,-999.0,      30,  2,19850522,1822,  24.2583,  138.5750,  5012, 3436.900,    1.558,   34.672,2,   34.671,2, -999.000,9,  148.300,2,  142.670,2,   36.580,2,    0.000,2,    2.460,2, -999.000,9, -999.000,9, -999.000,9, -999.000,9, -999.000,9
           NA,    P03W,    316,   1,-999.0,      31,  2,19850522,1822,  24.2583,  138.5750,  5012, 3740.400,    1.509,   34.679,2,   34.678,2, -999.000,9,  154.800,2,  142.050,2,   36.090,2,    0.000,2,    2.440,2, -999.000,9, -999.000,9, -999.000,9, -999.000,9, -999.000,9
           NA,    P03W,    316,   1,-999.0,      32,  2,19850522,1822,  24.2583,  138.5750,  5012, 4041.800,    1.517,   34.680,2,   34.680,2, -999.000,9,  157.300,2,  141.190,2,   35.900,2,    0.000,2,    2.430,2,   -0.005,2, -999.000,9, -999.000,9, -999.000,9, -999.000,9
           NA,    P03W,    316,   1,-999.0,      33,  2,19850522,1822,  24.2583,  138.5750,  5012, 4350.600,    1.536,   34.682,2,   34.682,2, -999.000,9,  158.300,2,  141.020,2,   36.000,2,    0.000,2,    2.420,2, -999.000,9, -999.000,9, -999.000,9, -999.000,9, -999.000,9
           NA,    P03W,    316,   1,-999.0,      34,  2,19850522,1822,  24.2583,  138.5750,  5012, 4658.900,    1.569,   34.682,2,   34.683,2, -999.000,9,  158.700,2,  142.000,2,   35.960,2,    0.000,2,    2.430,2, -999.000,9, -999.000,9, -999.000,9, -999.000,9, -999.000,9
           NA,    P03W,    316,   1,-999.0,      35,  2,19850522,1822,  24.2583,  138.5750,  5012, 4970.200,    1.607,   34.682,2,   34.682,2, -999.000,9,  158.800,2,  142.510,2,   36.020,2,    0.000,2,    2.430,2, -999.000,9, -999.000,9, -999.000,9, -999.000,9, -999.000,9
           NA,    P03W,    316,   1,-999.0,      37,  2,19850522,1822,  24.2583,  138.5750,  5012, 5091.800,    1.622,   34.682,2,   34.682,2, -999.000,9,  159.800,2,  141.880,2,   36.030,2,    0.000,2,    2.420,2,    0.004,2,    0.011,2, -999.000,9, -999.000,9, -999.000,9
           NA,    P03W,    314,   2,-999.0,       4,  2,19850522,1054,  24.2317,  139.4133,  4783,    0.000,   26.337,   34.886,2,   34.888,2, -999.000,9,  200.900,2,    1.830,2,    0.050,2,    0.000,2,    0.010,2,    1.440,2,    0.772,2, -999.000,9, -999.000,9, -999.000,9
           NA,    P03W,    314,   2,-999.0,      29,  2,19850522,1054,  24.2317,  139.4133,  4783,   52.500,   22.771,   34.930,2,   34.931,2, -999.000,9,  219.600,2,    1.810,2,    0.060,2,    0.000,2,    0.010,2, -999.000,9, -999.000,9, -999.000,9, -999.000,9, -999.000,9
           NA,    P03W,    314,   2,-999.0,      30,  2,19850522,1054,  24.2317,  139.4133,  4783,  103.500,   20.949,   34.918,2,   34.918,2, -999.000,9,  208.900,2,    2.010,2,    0.740,2,    0.050,2,    0.090,2,    1.662,2,    0.864,2, -999.000,9, -999.000,9, -999.000,9
           NA,    P03W,    314,   2,-999.0,      31,  2,19850522,1054,  24.2317,  139.4133,  4783,  153.800,   19.279,   34.872,2,   34.867,2, -999.000,9,  205.800,2,    3.110,2,    2.280,2,    0.030,2,    0.180,2,    1.704,2,    0.883,2, -999.000,9, -999.000,9, -999.000,9
           NA,    P03W,    314,   2,-999.0,      32,  2,19850522,1054,  24.2317,  139.4133,  4783,  204.100,   17.664,   34.812,2,   34.808,2, -999.000,9,  203.500,2,    3.980,2,    4.410,2,    0.010,2,    0.300,2,    1.710,2,    0.910,2, -999.000,9, -999.000,9, -999.000,9
           NA,    P03W,    314,   2,-999.0,      33,  2,19850522,1054,  24.2317,  139.4133,  4783,  254.100,   16.731,   34.771,2,   34.770,2, -999.000,9,  206.100,2,    5.310,2,    5.480,2,    0.010,2,    0.380,2, -999.000,9, -999.000,9, -999.000,9, -999.000,9, -999.000,9
           NA,    P03W,    314,   2,-999.0,      34,  2,19850522,1054,  24.2317,  139.4133,  4783,  303.100,   15.911,   34.717,2,   34.716,2, -999.000,9,  204.600,2,    6.410,2,    6.820,2,    0.000,2,    0.460,2,    1.631,2,    0.841,2, -999.000,9, -999.000,9, -999.000,9
           NA,    P03W,    314,   2,-999.0,      38,  2,19850522,1054,  24.2317,  139.4133,  4783,  353.100,   15.070,   34.648,2,   34.648,2, -999.000,9,  199.300,2,    8.630,2,    8.390,2,    0.000,2,    0.580,2, -999.000,9, -999.000,9, -999.000,9, -999.000,9, -999.000,9
           NA,    P03W,    314,   2,-999.0,       3,  2,19850522,1054,  24.2317,  139.4133,  4783,  404.200,   14.110,   34.561,2,   34.563,2, -999.000,9,  195.100,2,   11.750,2,   10.420,2,    0.000,2,    0.700,2,    1.434,2,    0.728,2, -999.000,9, -999.000,9, -999.000,9
           NA,    P03W,    314,   2,-999.0,       1,  2,19850522,1054,  24.2317,  139.4133,  4783,  506.000,   11.594,   34.354,2,   34.358,2, -999.000,9,  183.500,2,   20.710,2,   15.580,2,    0.000,2,    1.060,2,    1.130,2,    0.557,2, -999.000,9, -999.000,9, -999.000,9
           NA,    P03W,    314,   2,-999.0,       5,  2,19850522,1054,  24.2317,  139.4133,  4783,  606.500,    8.820,   34.184,2,   34.185,2, -999.000,9,  150.700,2,   37.540,2,   23.530,2,    0.000,2,    1.620,2,    0.709,2,    0.335,2, -999.000,9, -999.000,9, -999.000,9
           NA,    P03W,    314,   2,-999.0,       6,  2,19850522,1054,  24.2317,  139.4133,  4783,  707.900,    6.650,   34.136,2,   34.137,2, -999.000,9,  109.000,2,   62.000,2,   31.350,2,    0.000,2,    2.190,2,    0.370,2,    0.189,2, -999.000,9, -999.000,9, -999.000,9
           NA,    P03W,    314,   2,-999.0,       7,  2,19850522,1054,  24.2317,  139.4133,  4783,  807.700,    5.240,   34.150,2,   34.150,2, -999.000,9,   87.000,2,   84.670,2,   35.800,2,    0.000,2,    2.490,2, -999.000,9,    0.136,2, -999.000,9, -999.000,9, -999.000,9
           NA,    P03W,    314,   2,-999.0,       8,  2,19850522,1054,  24.2317,  139.4133,  4783,  909.000,    4.387,   34.241,2,   34.242,2, -999.000,9,   62.900,2,  105.550,2,   39.280,2,    0.000,2,    2.770,2, -999.000,9,    0.061,2, -999.000,9, -999.000,9, -999.000,9
           NA,    P03W,    314,   2,-999.0,       9,  2,19850522,1054,  24.2317,  139.4133,  4783, 1009.500,    3.881,   34.312,2,   34.311,2, -999.000,9,   52.100,2,  117.400,2,   40.670,2,    0.000,2,    2.850,2,    0.067,2,    0.036,2, -999.000,9, -999.000,9, -999.000,9
           NA,    P03W,    314,   2,-999.0,      35,  2,19850522,1054,  24.2317,  139.4133,  4783, 1009.500,    3.881,   34.312,2,   34.311,2, -999.000,9,   52.100,2,  117.490,2,   40.820,2,    0.000,2,    2.850,2, -999.000,9, -999.000,9, -999.000,9, -999.000,9, -999.000,9
           NA,    P03W,    314,   2,-999.0,      10,  2,19850522,1054,  24.2317,  139.4133,  4783, 1160.100,    3.381,   34.398,2,   34.398,2, -999.000,9,   52.500,2,  129.330,2,   41.570,2,    0.000,2,    2.890,2, -999.000,9, -999.000,9, -999.000,9, -999.000,9, -999.000,9
           NA,    P03W,    314,   2,-999.0,      11,  2,19850522,1054,  24.2317,  139.4133,  4783, 1310.900,    2.953,   34.465,2,   34.466,2, -999.000,9,   60.900,2,  139.820,2,   41.250,2,    0.010,2,    2.850,2, -999.000,9, -999.000,9, -999.000,9, -999.000,9, -999.000,9
           NA,    P03W,    314,   2,-999.0,      12,  2,19850522,1054,  24.2317,  139.4133,  4783, 1515.000,    2.614,   34.518,2,   34.522,2, -999.000,9,   76.800,2,  144.650,2,   40.550,2,    0.000,2,    2.800,2,    0.006,2,   -0.006,2, -999.000,9, -999.000,9, -999.000,9
           NA,    P03W,    314,   2,-999.0,      13,  2,19850522,1054,  24.2317,  139.4133,  4783, 1717.600,    2.290,   34.567,2,   34.567,2, -999.000,9,   93.600,2,  146.070,2,   39.350,2,    0.000,2,    2.720,2, -999.000,9, -999.000,9, -999.000,9, -999.000,9, -999.000,9
           NA,    P03W,    314,   2,-999.0,      14,  2,19850522,1054,  24.2317,  139.4133,  4783, 1919.500,    2.086,   34.598,2,   34.599,2, -999.000,9,  107.200,2,  146.580,2,   38.740,2,    0.000,2,    2.670,2, -999.000,9, -999.000,9, -999.000,9, -999.000,9, -999.000,9
           NA,    P03W,    314,   2,-999.0,      15,  2,19850522,1054,  24.2317,  139.4133,  4783, 2120.300,    1.948,   34.618,2,   34.618,2, -999.000,9,  116.400,2,  146.650,2,   38.340,2,    0.000,2,    2.620,2, -999.000,9, -999.000,9, -999.000,9, -999.000,9, -999.000,9
           NA,    P03W,    314,   2,-999.0,      16,  2,19850522,1054,  24.2317,  139.4133,  4783, 2319.900,    1.845,   34.631,2,   34.632,2, -999.000,9,  123.400,2,  147.160,2,   38.040,2,    0.000,2,    2.590,2,    0.000,2,   -0.009,2, -999.000,9, -999.000,9, -999.000,9
           NA,    P03W,    314,   2,-999.0,      17,  2,19850522,1054,  24.2317,  139.4133,  4783, 2519.000,    1.763,   34.643,2,   34.643,2, -999.000,9,  129.300,2,  147.450,2,   37.440,2,    0.000,2,    2.560,2, -999.000,9, -999.000,9, -999.000,9, -999.000,9, -999.000,9
           NA,    P03W,    314,   2,-999.0,      18,  2,19850522,1054,  24.2317,  139.4133,  4783, 2722.000,    1.703,   34.651,2,   34.651,2, -999.000,9,  134.800,2,  146.610,2,   37.240,2,    0.000,2,    2.530,2, -999.000,9, -999.000,9, -999.000,9, -999.000,9, -999.000,9
           NA,    P03W,    314,   2,-999.0,      23,  2,19850522,1054,  24.2317,  139.4133,  4783, 3025.600,    1.644,   34.660,2,   34.660,2, -999.000,9,  140.100,2,  145.770,2,   37.040,2,    0.000,2,    2.500,2, -999.000,9, -999.000,9, -999.000,9, -999.000,9, -999.000,9
           NA,    P03W,    314,   2,-999.0,      20,  2,19850522,1054,  24.2317,  139.4133,  4783, 3331.400,    1.584,   34.668,2,   34.667,2, -999.000,9,  146.400,2,  144.940,2,   36.290,2,    0.000,2,    2.480,2,    0.008,2,   -0.008,2, -999.000,9, -999.000,9, -999.000,9
           NA,    P03W,    314,   2,-999.0,      21,  2,19850522,1054,  24.2317,  139.4133,  4783, 3636.800,    1.524,   34.676,2,   34.674,2, -999.000,9,  152.700,2,  144.550,2,   36.090,2,    0.000,2,    2.430,2, -999.000,9, -999.000,9, -999.000,9, -999.000,9, -999.000,9
           NA,    P03W,    314,   2,-999.0,      22,  2,19850522,1054,  24.2317,  139.4133,  4783, 3944.000,    1.513,   34.679,2,   34.679,2, -999.000,9,  157.300,2,  143.490,2,   35.790,2,    0.010,2,    2.400,2, -999.000,9, -999.000,9, -999.000,9, -999.000,9, -999.000,9
           NA,    P03W,    314,   2,-999.0,      39,  2,19850522,1054,  24.2317,  139.4133,  4783, 4250.000,    1.529,   34.681,2,   34.681,2, -999.000,9,  158.800,2,  143.330,2,   35.740,2,    0.000,2,    2.420,2, -999.000,9, -999.000,9, -999.000,9, -999.000,9, -999.000,9
           NA,    P03W,    314,   2,-999.0,      24,  2,19850522,1054,  24.2317,  139.4133,  4783, 4555.900,    1.558,   34.682,2,   34.681,2, -999.000,9,  159.400,2,  142.950,2,   35.590,2,    0.000,2,    2.370,2,    0.007,2, -999.000,9, -999.000,9, -999.000,9, -999.000,9