BOTTLE,20203103JOAExport
EXPOCODE,SECT_ID,STNNBR,CASTNO,SAMPNO,BTLNBR,BTLNBR_FLAG_W,DATE,TIME,LATITUDE,LONGITUDE,DEPTH,CTDPRS,CTDTMP,CTDSAL,CTDSAL_FLAG_W,SALNTY,SALNTY_FLAG_W,CTDOXY,CTDOXY_FLAG_W,OXYGEN,OXYGEN_FLAG_W,SILCAT,SILCAT_FLAG_W,NITRAT,NITRAT_FLAG_W,NITRIT,NITRIT_FLAG_W,PHSPHT,PHSPHT_FLAG_W,CFC-11,CFC-11_FLAG_W,CFC-12,CFC-12_FLAG_W,SF6,SF6_FLAG_W,TCARBN,TCARBN_FLAG_W,ALKALI,ALKALI_FLAG_W
,,,,,,,,,,,,,DB,ITS-90,PSS-78,,PSS-78,,UMOL/KG,,UMOL/KG,,UMOL/KG,,UMOL/KG,,UMOL/KG,,UMOL/KG,,PMOL/KG,,PMOL/KG,,FMOL/KG,,UMOL/KG,,UMOL/KG
           NA,    P03W,    380,   1,-999.0,       5,  2,19850531,1621,  26.9633,  126.0850,  1105,    2.400,   27.517,   34.308,2, -999.000,5, -999.000,9,  205.900,2,    1.220,2,    0.210,2,    0.000,2,    0.050,2,    1.340,2,    0.711,2, -999.000,9, -999.000,9, -999.000,9
           NA,    P03W,    380,   1,-999.0,      38,  2,19850531,1621,  26.9633,  126.0850,  1105,   20.000,   27.706,   34.519,2,   34.516,2, -999.000,9,  202.100,2,    1.210,2,    0.210,2,    0.000,2,    0.050,2, -999.000,9, -999.000,9, -999.000,9, -999.000,9, -999.000,9
           NA,    P03W,    380,   1,-999.0,       3,  2,19850531,1621,  26.9633,  126.0850,  1105,   39.900,   26.846,   34.670,2,   34.664,2, -999.000,9,  201.200,2,    1.200,2,    0.200,2,    0.000,2,    0.080,2,    1.350,2,    0.707,2, -999.000,9, -999.000,9, -999.000,9
           NA,    P03W,    380,   1,-999.0,       4,  2,19850531,1621,  26.9633,  126.0850,  1105,   69.700,   25.316,   34.745,2,   34.745,2, -999.000,9,  195.100,2,    2.040,2,    0.610,2,    0.200,2,    0.130,2, -999.000,9, -999.000,9, -999.000,9, -999.000,9, -999.000,9
           NA,    P03W,    380,   1,-999.0,       7,  2,19850531,1621,  26.9633,  126.0850,  1105,  101.000,   22.434,   34.764,2,   34.762,2, -999.000,9,  181.800,2,    4.570,2,    3.150,2,    0.160,2,    0.270,2,    1.351,2,    0.689,2, -999.000,9, -999.000,9, -999.000,9
           NA,    P03W,    380,   1,-999.0,      10,  2,19850531,1621,  26.9633,  126.0850,  1105,  141.700,   19.113,   34.725,2,   34.705,2, -999.000,9,  171.600,2,    9.210,2,    7.210,2,    0.060,2,    0.520,2,    1.319,2,    0.665,2, -999.000,9, -999.000,9, -999.000,9
           NA,    P03W,    380,   1,-999.0,      11,  2,19850531,1621,  26.9633,  126.0850,  1105,  182.700,   17.373,   34.633,2,   34.634,2, -999.000,9,  164.500,2,   13.630,2,   10.020,2,    0.040,2,    0.720,2,    1.239,2,    0.625,2, -999.000,9, -999.000,9, -999.000,9
           NA,    P03W,    380,   1,-999.0,      12,  2,19850531,1621,  26.9633,  126.0850,  1105,  233.800,   17.000,   34.644,2,   34.636,2, -999.000,9,  163.700,2,   14.890,2,   10.260,2,    0.040,2,    0.710,2,    1.224,2,    0.621,2, -999.000,9, -999.000,9, -999.000,9
           NA,    P03W,    380,   1,-999.0,      13,  2,19850531,1621,  26.9633,  126.0850,  1105,  284.000,   12.259,   34.456,2,   34.455,2, -999.000,9,  155.100,2,   24.380,2,   17.250,2,    0.010,2,    1.210,2,    0.871,2,    0.430,2, -999.000,9, -999.000,9, -999.000,9
           NA,    P03W,    380,   1,-999.0,      14,  2,19850531,1621,  26.9633,  126.0850,  1105,  333.700,   11.244,   34.428,2,   34.425,2, -999.000,9,  143.700,2,   31.980,2,   20.240,2,    0.000,2,    1.410,2,    0.734,2,    0.361,2, -999.000,9, -999.000,9, -999.000,9
           NA,    P03W,    380,   1,-999.0,      15,  2,19850531,1621,  26.9633,  126.0850,  1105,  383.500,   10.500,   34.409,2,   34.410,2, -999.000,9,  134.300,2,   38.950,2,   22.250,2,    0.000,2,    1.580,2,    0.624,2,    0.312,2, -999.000,9, -999.000,9, -999.000,9
           NA,    P03W,    380,   1,-999.0,      16,  2,19850531,1621,  26.9633,  126.0850,  1105,  442.000,    9.504,   34.371,2,   34.371,2, -999.000,9,  128.900,2,   46.970,2,   24.510,2,    0.000,2,    1.720,2, -999.000,9, -999.000,9, -999.000,9, -999.000,9, -999.000,9
           NA,    P03W,    380,   1,-999.0,      17,  2,19850531,1621,  26.9633,  126.0850,  1105,  499.500,    8.348,   34.362,2,   34.361,2, -999.000,9,  114.400,2,   59.460,2,   27.750,2,    0.000,2,    1.950,2,    0.391,2,    0.218,2, -999.000,9, -999.000,9, -999.000,9
           NA,    P03W,    380,   1,-999.0,      18,  2,19850531,1621,  26.9633,  126.0850,  1105,  557.200,    7.457,   34.346,2,   34.349,2, -999.000,9,  107.400,2,   67.730,2,   29.900,2,    0.000,2,    2.080,2,    0.313,2, -999.000,9, -999.000,9, -999.000,9, -999.000,9
           NA,    P03W,    380,   1,-999.0,      23,  2,19850531,1621,  26.9633,  126.0850,  1105,  633.900,    6.452,   34.354,2,   34.354,2, -999.000,9,   97.900,2,   81.120,2,   32.310,2,    0.000,2,    2.260,2,    0.224,2,    0.109,2, -999.000,9, -999.000,9, -999.000,9
           NA,    P03W,    380,   1,-999.0,      20,  2,19850531,1621,  26.9633,  126.0850,  1105,  711.400,    5.814,   34.366,2,   34.366,2, -999.000,9,   90.400,2,   89.850,2,   33.990,2,    0.000,2,    2.420,2,    0.158,2,    0.078,2, -999.000,9, -999.000,9, -999.000,9
           NA,    P03W,    380,   1,-999.0,      21,  2,19850531,1621,  26.9633,  126.0850,  1105,  788.900,    5.389,   34.370,2,   34.370,2, -999.000,9,   85.900,2,   95.820,2,   35.240,2,    0.000,2,    2.480,2,    0.118,2,    0.061,2, -999.000,9, -999.000,9, -999.000,9
           NA,    P03W,    380,   1,-999.0,      22,  2,19850531,1621,  26.9633,  126.0850,  1105,  886.600,    5.041,   34.381,2,   34.381,2, -999.000,9,   81.400,2,  101.150,2,   36.240,2,    0.000,2,    2.530,2,    0.089,2, -999.000,9, -999.000,9, -999.000,9, -999.000,9
           NA,    P03W,    380,   1,-999.0,      39,  2,19850531,1621,  26.9633,  126.0850,  1105, 1034.800,    4.044,   34.431,2,   34.430,2, -999.000,9,   75.000,2,  115.740,2,   38.300,2,    0.000,2,    2.660,2,    0.032,2,    0.016,2, -999.000,9, -999.000,9, -999.000,9
           NA,    P03W,    380,   1,-999.0,      24,  2,19850531,1621,  26.9633,  126.0850,  1105, 1240.100,    4.016,   34.434,2,   34.434,2, -999.000,9,   74.600,2,  117.440,2,   38.350,2,    0.000,2,    2.690,2,    0.028,2,    0.011,2, -999.000,9, -999.000,9, -999.000,9
           NA,    P03W,    378,   1,-999.0,       5,  2,19850531,1351,  26.8867,  126.1900,  1562,    0.900,   27.759,   34.533,2,   34.537,2, -999.000,9,  201.400,2,    1.470,2,    0.090,2,    0.000,2,    0.030,2,    1.311,2,    0.709,2, -999.000,9, -999.000,9, -999.000,9
           NA,    P03W,    378,   1,-999.0,       4,  2,19850531,1351,  26.8867,  126.1900,  1562,   17.900,   27.687,   34.529,2,   34.532,2, -999.000,9,  202.100,2,    1.470,2,    0.090,2,    0.000,2,    0.040,2, -999.000,9, -999.000,9, -999.000,9, -999.000,9, -999.000,9
           NA,    P03W,    378,   1,-999.0,       1,  2,19850531,1351,  26.8867,  126.1900,  1562,   37.500,   27.327,   34.613,2,   34.615,2, -999.000,9,  203.800,2,    1.460,2,    0.100,2,    0.000,2,    0.060,2, -999.000,9, -999.000,9, -999.000,9, -999.000,9, -999.000,9
           NA,    P03W,    378,   1,-999.0,       6,  2,19850531,1351,  26.8867,  126.1900,  1562,   65.800,   26.092,   34.716,2,   34.717,2, -999.000,9,  202.500,2,    1.880,2,    0.190,2,    0.060,2,    0.090,2, -999.000,9, -999.000,9, -999.000,9, -999.000,9, -999.000,9
           NA,    P03W,    378,   1,-999.0,       7,  2,19850531,1351,  26.8867,  126.1900,  1562,   95.400,   24.722,   34.796,2,   34.797,2, -999.000,9,  194.400,2,    2.310,2,    0.660,2,    0.290,2,    0.130,2, -999.000,9, -999.000,9, -999.000,9, -999.000,9, -999.000,9
           NA,    P03W,    378,   1,-999.0,       8,  2,19850531,1351,  26.8867,  126.1900,  1562,  136.900,   21.249,   34.868,2,   34.869,2, -999.000,9,  183.200,2,    3.600,2,    3.400,2,    0.030,2,    0.290,2,    1.435,2,    0.757,2, -999.000,9, -999.000,9, -999.000,9
           NA,    P03W,    378,   1,-999.0,       9,  2,19850531,1351,  26.8867,  126.1900,  1562,  178.600,   18.901,   34.828,2,   34.830,2, -999.000,9,  181.700,2,    5.530,2,    5.400,2,    0.010,2,    0.420,2, -999.000,9, -999.000,9, -999.000,9, -999.000,9, -999.000,9
           NA,    P03W,    378,   1,-999.0,      10,  2,19850531,1351,  26.8867,  126.1900,  1562,  229.200,   17.046,   34.614,2,   34.613,2, -999.000,9,  162.000,2,   15.010,2,   10.830,2,    0.030,2,    0.770,2, -999.000,9, -999.000,9, -999.000,9, -999.000,9, -999.000,9
           NA,    P03W,    378,   1,-999.0,      11,  2,19850531,1351,  26.8867,  126.1900,  1562,  280.600,   14.318,   34.571,2,   34.566,2, -999.000,9,  155.200,2,   22.970,2,   14.820,2,    0.010,2,    1.040,2,    1.016,2,    0.519,2, -999.000,9, -999.000,9, -999.000,9
           NA,    P03W,    378,   1,-999.0,      12,  2,19850531,1351,  26.8867,  126.1900,  1562,  331.500,   12.005,   34.442,2,   34.441,2, -999.000,9,  155.800,2,   24.660,2,   17.680,2,    0.010,2,    1.250,2, -999.000,9, -999.000,9, -999.000,9, -999.000,9, -999.000,9
           NA,    P03W,    378,   1,-999.0,      13,  2,19850531,1351,  26.8867,  126.1900,  1562,  382.000,   10.920,   34.431,2,   34.431,2, -999.000,9,  137.600,2,   37.330,2,   21.510,2,    0.000,2,    1.520,2,    0.669,2,    0.336,2, -999.000,9, -999.000,9, -999.000,9
           NA,    P03W,    378,   1,-999.0,      14,  2,19850531,1351,  26.8867,  126.1900,  1562,  442.700,    9.996,   34.398,2,   34.398,2, -999.000,9,  130.100,2,   43.310,2,   23.680,2,    0.000,2,    1.670,2, -999.000,9, -999.000,9, -999.000,9, -999.000,9, -999.000,9
           NA,    P03W,    378,   1,-999.0,      15,  2,19850531,1351,  26.8867,  126.1900,  1562,  503.400,    8.755,   34.359,2,   34.358,2, -999.000,9,  119.800,2,   54.450,2,   26.780,2,    0.010,2,    1.870,2,    0.439,2,    0.223,2, -999.000,9, -999.000,9, -999.000,9
           NA,    P03W,    378,   1,-999.0,      16,  2,19850531,1351,  26.8867,  126.1900,  1562,  563.700,    7.451,   34.286,2,   34.287,2, -999.000,9,  110.600,2,   63.650,2,   30.060,2,    0.000,2,    2.100,2, -999.000,9, -999.000,9, -999.000,9, -999.000,9, -999.000,9
           NA,    P03W,    378,   1,-999.0,      17,  2,19850531,1351,  26.8867,  126.1900,  1562,  644.100,    6.699,   34.342,2,   34.342,2, -999.000,9,   99.400,2,   78.460,2,   31.940,2,    0.000,2,    2.250,2,    0.248,2,    0.130,2, -999.000,9, -999.000,9, -999.000,9
           NA,    P03W,    378,   1,-999.0,      18,  2,19850531,1351,  26.8867,  126.1900,  1562,  724.500,    5.850,   34.367,2,   34.369,2, -999.000,9,   90.600,2,   90.260,2,   34.120,2,    0.000,2,    2.400,2, -999.000,9, -999.000,9, -999.000,9, -999.000,9, -999.000,9
           NA,    P03W,    378,   1,-999.0,      23,  2,19850531,1351,  26.8867,  126.1900,  1562,  804.700,    5.268,   34.373,2,   34.373,2, -999.000,9,   84.200,2,   97.080,2,   35.720,2,    0.010,2,    2.510,2, -999.000,9, -999.000,9, -999.000,9, -999.000,9, -999.000,9
           NA,    P03W,    378,   1,-999.0,      20,  2,19850531,1351,  26.8867,  126.1900,  1562,  904.600,    4.869,   34.387,2,   34.388,2, -999.000,9,   79.800,2,  103.250,2,   36.680,2,    0.000,2,    2.590,2, -999.000,9, -999.000,9, -999.000,9, -999.000,9, -999.000,9
           NA,    P03W,    378,   1,-999.0,      21,  2,19850531,1351,  26.8867,  126.1900,  1562, 1053.800,    4.231,   34.417,2,   34.418,2, -999.000,9,   75.600,2,  112.670,2,   38.090,2,    0.000,2,    2.690,2, -999.000,9, -999.000,9, -999.000,9, -999.000,9, -999.000,9
           NA,    P03W,    378,   1,-999.0,      22,  2,19850531,1351,  26.8867,  126.1900,  1562, 1203.000,    4.018,   34.434,2,   34.433,2, -999.000,9,   75.000,2,  116.230,2,   38.600,2,    0.000,2,    2.680,2, -999.000,9, -999.000,9, -999.000,9, -999.000,9, -999.000,9
           NA,    P03W,    378,   1,-999.0,      39,  2,19850531,1351,  26.8867,  126.1900,  1562, 1401.800,    3.882,   34.444,2,   34.444,2, -999.000,9,   74.100,2,  118.910,2,   38.760,2,    0.000,2,    2.710,2, -999.000,9, -999.000,9, -999.000,9, -999.000,9, -999.000,9
           NA,    P03W,    378,   1,-999.0,      24,  2,19850531,1351,  26.8867,  126.1900,  1562, 1552.400,    3.797,   34.451,2,   34.451,2, -999.000,9,   73.900,2,  120.720,2,   38.810,2,    0.000,2,    2.720,2, -999.000,9, -999.000,9, -999.000,9, -999.000,9, -999.000,9
           NA,    P03W,    376,   1,-999.0,       5,  2,19850531,1053,  26.7333,  126.3400,  1905,    1.100,   27.044,   34.381,2,   34.383,2, -999.000,9,  204.800,2,    1.270,2,    0.020,2,    0.000,2,    0.030,2,    1.348,2,    0.734,2, -999.000,9, -999.000,9, -999.000,9
           NA,    P03W,    376,   1,-999.0,      38,  2,19850531,1053,  26.7333,  126.3400,  1905,   20.000,   26.990,   34.433,2,   34.434,2, -999.000,9,  205.300,2,    1.060,2,    0.020,2,    0.000,2,    0.020,2, -999.000,9, -999.000,9, -999.000,9, -999.000,9, -999.000,9
           NA,    P03W,    376,   1,-999.0,       3,  2,19850531,1053,  26.7333,  126.3400,  1905,   39.900,   26.712,   34.553,2,   34.554,2, -999.000,9,  204.100,2,    1.270,2,    0.030,2,    0.000,2,    0.030,2,    1.382,2,    0.761,2, -999.000,9, -999.000,9, -999.000,9
           NA,    P03W,    376,   1,-999.0,       4,  2,19850531,1053,  26.7333,  126.3400,  1905,   69.900,   25.847,   34.646,2,   34.634,2, -999.000,9,  204.500,2,    1.060,2,    0.000,2,    0.040,2,    0.040,2, -999.000,9, -999.000,9, -999.000,9, -999.000,9, -999.000,9
           NA,    P03W,    376,   1,-999.0,       1,  2,19850531,1053,  26.7333,  126.3400,  1905,   99.100,   23.926,   34.772,2,   34.770,2, -999.000,9,  194.600,2,    2.110,2,    0.860,2,    0.200,2,    0.110,2,    1.449,2,    0.788,2, -999.000,9, -999.000,9, -999.000,9
           NA,    P03W,    376,   1,-999.0,       6,  2,19850531,1053,  26.7333,  126.3400,  1905,  139.100,   21.788,   34.849,2,   34.850,2, -999.000,9,  192.100,2,    2.540,2,    2.310,2,    0.050,2,    0.170,2,    1.510,2,    0.784,2, -999.000,9, -999.000,9, -999.000,9
           NA,    P03W,    376,   1,-999.0,       7,  2,19850531,1053,  26.7333,  126.3400,  1905,  179.400,   19.922,   34.865,2,   34.865,2, -999.000,9,  184.900,2,    4.220,2,    4.180,2,    0.020,2,    0.290,2,    1.478,2,    0.783,2, -999.000,9, -999.000,9, -999.000,9
           NA,    P03W,    376,   1,-999.0,       8,  2,19850531,1053,  26.7333,  126.3400,  1905,  230.200,   17.952,   34.813,2,   34.813,2, -999.000,9,  186.400,2,    5.070,2,    5.820,2,    0.010,2,    0.400,2,    1.494,2,    0.764,2, -999.000,9, -999.000,9, -999.000,9
           NA,    P03W,    376,   1,-999.0,       9,  2,19850531,1053,  26.7333,  126.3400,  1905,  281.700,   16.324,   34.690,2,   34.688,2, -999.000,9,  172.000,2,   11.400,2,    9.810,2,    0.010,2,    0.660,2,    1.296,2,    0.669,2, -999.000,9, -999.000,9, -999.000,9
           NA,    P03W,    376,   1,-999.0,      10,  2,19850531,1053,  26.7333,  126.3400,  1905,  332.600,   14.054,   34.562,2,   34.561,2, -999.000,9,  171.000,2,   15.400,2,   12.870,2,    0.010,2,    0.860,2,    1.152,2,    0.581,2, -999.000,9, -999.000,9, -999.000,9
           NA,    P03W,    376,   1,-999.0,      11,  2,19850531,1053,  26.7333,  126.3400,  1905,  382.900,   12.708,   34.504,2,   34.501,2, -999.000,9,  156.500,2,   25.110,2,   16.610,2,    0.010,2,    1.130,2,    0.932,2,    0.473,2, -999.000,9, -999.000,9, -999.000,9
           NA,    P03W,    376,   1,-999.0,      12,  2,19850531,1053,  26.7333,  126.3400,  1905,  443.300,   11.360,   34.445,2,   34.447,2, -999.000,9,  142.800,2,   32.490,2,   20.180,2,    0.010,2,    1.380,2,    0.744,2,    0.372,2, -999.000,9, -999.000,9, -999.000,9
           NA,    P03W,    376,   1,-999.0,      13,  2,19850531,1053,  26.7333,  126.3400,  1905,  504.100,   10.064,   34.401,2,   34.404,2, -999.000,9,  128.800,2,   44.090,2,   23.890,2,    0.010,2,    1.640,2,    0.559,2,    0.288,2, -999.000,9, -999.000,9, -999.000,9
           NA,    P03W,    376,   1,-999.0,      14,  2,19850531,1053,  26.7333,  126.3400,  1905,  565.400,    8.579,   34.365,2,   34.368,2, -999.000,9,  116.000,2,   56.980,2,   27.580,2,    0.010,2,    1.900,2, -999.000,9, -999.000,9, -999.000,9, -999.000,9, -999.000,9
           NA,    P03W,    376,   1,-999.0,      15,  2,19850531,1053,  26.7333,  126.3400,  1905,  646.000,    7.077,   34.325,2,   34.324,2, -999.000,9,  104.700,2,   70.320,2,   30.960,2,    0.010,2,    2.160,2,    0.297,2,    0.143,2, -999.000,9, -999.000,9, -999.000,9
           NA,    P03W,    376,   1,-999.0,      16,  2,19850531,1053,  26.7333,  126.3400,  1905,  725.600,    6.268,   34.365,2,   34.365,2, -999.000,9,   95.200,2,   82.840,2,   33.040,2,    0.010,2,    2.310,2,    0.209,2,    0.111,2, -999.000,9, -999.000,9, -999.000,9
           NA,    P03W,    376,   1,-999.0,      17,  2,19850531,1053,  26.7333,  126.3400,  1905,  802.400,    5.437,   34.379,2,   34.379,2, -999.000,9,   85.800,2,   94.970,2,   35.280,2,    0.000,2,    2.470,2,    0.128,2,    0.066,2, -999.000,9, -999.000,9, -999.000,9
           NA,    P03W,    376,   1,-999.0,      18,  2,19850531,1053,  26.7333,  126.3400,  1905,  900.400,    4.755,   34.397,2,   34.397,2, -999.000,9,   79.700,2,  104.130,2,   37.040,2,    0.000,2,    2.580,2,    0.071,2, -999.000,9, -999.000,9, -999.000,9, -999.000,9
           NA,    P03W,    376,   1,-999.0,      23,  2,19850531,1053,  26.7333,  126.3400,  1905, 1054.100,    4.312,   34.427,2,   34.428,2, -999.000,9,   77.600,2,  112.450,2,   37.740,2,    0.000,2,    2.630,2,    0.038,2, -999.000,9, -999.000,9, -999.000,9, -999.000,9
           NA,    P03W,    376,   1,-999.0,      20,  2,19850531,1053,  26.7333,  126.3400,  1905, 1203.700,    4.079,   34.438,2,   34.440,2, -999.000,9,   76.200,2,  116.700,2,   38.440,2,    0.010,2,    2.690,2, -999.000,9, -999.000,9, -999.000,9, -999.000,9, -999.000,9
           NA,    P03W,    376,   1,-999.0,      21,  2,19850531,1053,  26.7333,  126.3400,  1905, 1349.700,    3.893,   34.439,2,   34.439,2, -999.000,9,   74.000,2,  120.530,2,   39.000,2,    0.010,2,    2.700,2,    0.025,2, -999.000,9, -999.000,9, -999.000,9, -999.000,9
           NA,    P03W,    376,   1,-999.0,      22,  2,19850531,1053,  26.7333,  126.3400,  1905, 1492.100,    3.788,   34.441,2,   34.440,2, -999.000,9,   74.500,2,  120.690,2,   39.070,2,    0.000,2,    2.730,2, -999.000,9, -999.000,9, -999.000,9, -999.000,9, -999.000,9
           NA,    P03W,    376,   1,-999.0,      39,  2,19850531,1053,  26.7333,  126.3400,  1905, 1681.000,    3.778,   34.452,2,   34.451,2, -999.000,9,   74.700,2,  120.640,2,   39.070,2,    0.000,2,    2.720,2, -999.000,9, -999.000,9, -999.000,9, -999.000,9, -999.000,9
           NA,    P03W,    376,   1,-999.0,      24,  2,19850531,1053,  26.7333,  126.3400,  1905, 1894.200,    3.732,   34.454,2,   34.453,2, -999.000,9,   74.900,2,  121.450,2,   38.920,2,    0.000,2,    2.740,2,    0.023,2, -999.000,9, -999.000,9, -999.000,9, -999.000,9