BOTTLE,20203103JOAExport
EXPOCODE,SECT_ID,STNNBR,CASTNO,SAMPNO,BTLNBR,BTLNBR_FLAG_W,DATE,TIME,LATITUDE,LONGITUDE,DEPTH,CTDPRS,CTDTMP,CTDSAL,CTDSAL_FLAG_W,SALNTY,SALNTY_FLAG_W,CTDOXY,CTDOXY_FLAG_W,OXYGEN,OXYGEN_FLAG_W,SILCAT,SILCAT_FLAG_W,NITRAT,NITRAT_FLAG_W,NITRIT,NITRIT_FLAG_W,PHSPHT,PHSPHT_FLAG_W,CFC-11,CFC-11_FLAG_W,CFC-12,CFC-12_FLAG_W,SF6,SF6_FLAG_W,TCARBN,TCARBN_FLAG_W,ALKALI,ALKALI_FLAG_W
,,,,,,,,,,,,,DB,ITS-90,PSS-78,,PSS-78,,UMOL/KG,,UMOL/KG,,UMOL/KG,,UMOL/KG,,UMOL/KG,,UMOL/KG,,PMOL/KG,,PMOL/KG,,FMOL/KG,,UMOL/KG,,UMOL/KG
           NA,    P03W,    287,   1,-999.0,       4,  2,19850519,1115,  24.2333,  145.4533,  5543,    1.000,   24.448,   34.981,2,   34.984,2, -999.000,9,  214.500,2,    1.450,2,    0.230,2,    0.000,2,    0.010,2,    1.488,2, -999.000,9, -999.000,9, -999.000,9, -999.000,9
           NA,    P03W,    287,   1,-999.0,      38,  2,19850519,1115,  24.2333,  145.4533,  5543,   23.200,   24.410,   34.980,2,   34.983,2, -999.000,9,  215.300,2,    1.420,2,    0.230,2,    0.000,2,    0.010,2, -999.000,9, -999.000,9, -999.000,9, -999.000,9, -999.000,9
           NA,    P03W,    287,   1,-999.0,       3,  2,19850519,1115,  24.2333,  145.4533,  5543,   44.100,   22.523,   34.892,2,   34.892,2, -999.000,9,  224.000,2,    1.400,2,    0.230,2,    0.000,2,    0.000,2, -999.000,9, -999.000,9, -999.000,9, -999.000,9, -999.000,9
           NA,    P03W,    287,   1,-999.0,       1,  2,19850519,1115,  24.2333,  145.4533,  5543,   74.400,   19.791,   34.877,2,   34.876,2, -999.000,9,  231.800,2,    1.990,2,    0.230,2,    0.000,2,    0.030,2,    1.785,2,    0.917,2, -999.000,9, -999.000,9, -999.000,9
           NA,    P03W,    287,   1,-999.0,       5,  2,19850519,1115,  24.2333,  145.4533,  5543,  104.900,   18.341,   34.842,2,   34.846,2, -999.000,9,  205.600,2,    2.990,2,    2.670,2,    0.040,2,    0.210,2, -999.000,9, -999.000,9, -999.000,9, -999.000,9, -999.000,9
           NA,    P03W,    287,   1,-999.0,       6,  2,19850519,1115,  24.2333,  145.4533,  5543,  144.900,   17.332,   34.793,2,   34.794,2, -999.000,9,  207.800,2,    3.580,2,    4.300,2,    0.020,2,    0.310,2,    1.739,2,    0.898,2, -999.000,9, -999.000,9, -999.000,9
           NA,    P03W,    287,   1,-999.0,       7,  2,19850519,1115,  24.2333,  145.4533,  5543,  184.500,   16.845,   34.780,2,   34.780,2, -999.000,9,  206.400,2,    4.590,2,    5.280,2,    0.010,2,    0.370,2,    1.736,2,    0.896,2, -999.000,9, -999.000,9, -999.000,9
           NA,    P03W,    287,   1,-999.0,       8,  2,19850519,1115,  24.2333,  145.4533,  5543,  234.300,   16.145,   34.745,2,   34.745,2, -999.000,9,  208.600,2,    5.590,2,    6.260,2,    0.010,2,    0.420,2,    1.706,2,    0.858,2, -999.000,9, -999.000,9, -999.000,9
           NA,    P03W,    287,   1,-999.0,       9,  2,19850519,1115,  24.2333,  145.4533,  5543,  284.800,   15.527,   34.701,2,   34.700,2, -999.000,9,  204.900,2,    7.410,2,    7.480,2,    0.010,2,    0.510,2,    1.625,2,    0.827,2, -999.000,9, -999.000,9, -999.000,9
           NA,    P03W,    287,   1,-999.0,      10,  2,19850519,1115,  24.2333,  145.4533,  5543,  335.300,   14.841,   34.642,2,   34.645,2, -999.000,9,  199.400,2,    9.640,2,    9.040,2,    0.010,2,    0.620,2,    1.508,2,    0.715,2, -999.000,9, -999.000,9, -999.000,9
           NA,    P03W,    287,   1,-999.0,      11,  2,19850519,1115,  24.2333,  145.4533,  5543,  385.100,   13.452,   34.513,2,   34.511,2, -999.000,9,  192.700,2,   13.730,2,   11.780,2,    0.010,2,    0.830,2,    1.370,2,    0.611,2, -999.000,9, -999.000,9, -999.000,9
           NA,    P03W,    287,   1,-999.0,      12,  2,19850519,1115,  24.2333,  145.4533,  5543,  446.000,   11.742,   34.382,2,   34.367,2, -999.000,9,  184.600,2,   21.510,2,   15.710,2,    0.000,2,    1.090,2,    1.190,2, -999.000,9, -999.000,9, -999.000,9, -999.000,9
           NA,    P03W,    287,   1,-999.0,      13,  2,19850519,1115,  24.2333,  145.4533,  5543,  506.600,    9.669,   34.229,2,   34.226,2, -999.000,9,  170.300,2,   31.750,2,   20.310,2,    0.000,2,    1.440,2,    0.931,2,    0.481,2, -999.000,9, -999.000,9, -999.000,9
           NA,    P03W,    287,   1,-999.0,      14,  2,19850519,1115,  24.2333,  145.4533,  5543,  567.600,    8.341,   34.150,2,   34.150,2, -999.000,9,  158.100,2,   40.970,2,   23.900,2,    0.000,2,    1.690,2,    0.834,2,    0.433,2, -999.000,9, -999.000,9, -999.000,9
           NA,    P03W,    287,   1,-999.0,      15,  2,19850519,1115,  24.2333,  145.4533,  5543,  647.900,    6.527,   34.090,2,   34.092,2, -999.000,9,  127.500,2,   60.270,2,   30.010,2,    0.000,2,    2.110,2,    0.595,2,    0.305,2, -999.000,9, -999.000,9, -999.000,9
           NA,    P03W,    287,   1,-999.0,      16,  2,19850519,1115,  24.2333,  145.4533,  5543,  728.600,    5.287,   34.134,2,   34.135,2, -999.000,9,   87.100,2,   81.250,2,   35.850,2,    0.000,2,    2.530,2,    0.295,2,    0.135,2, -999.000,9, -999.000,9, -999.000,9
           NA,    P03W,    287,   1,-999.0,      17,  2,19850519,1115,  24.2333,  145.4533,  5543,  809.500,    4.588,   34.195,2,   34.197,2, -999.000,9,   66.700,2,   97.520,2,   38.810,2,    0.000,2,    2.720,2,    0.164,2,    0.076,2, -999.000,9, -999.000,9, -999.000,9
           NA,    P03W,    287,   1,-999.0,      18,  2,19850519,1115,  24.2333,  145.4533,  5543,  910.200,    3.997,   34.282,2,   34.281,2, -999.000,9,   51.900,2,  112.990,2,   40.850,2,    0.000,2,    2.880,2,    0.083,2,    0.036,2, -999.000,9, -999.000,9, -999.000,9
           NA,    P03W,    287,   1,-999.0,      39,  2,19850519,1115,  24.2333,  145.4533,  5543, 1060.400,    3.421,   34.404,2,   34.405,2, -999.000,9,   50.100,2,  128.080,2,   41.790,2,    0.000,2,    2.930,2, -999.000,9, -999.000,9, -999.000,9, -999.000,9, -999.000,9
           NA,    P03W,    287,   1,-999.0,      20,  2,19850519,1115,  24.2333,  145.4533,  5543, 1211.900,    3.046,   34.461,2,   34.461,2, -999.000,9,   59.400,2,  136.130,2,   41.530,2,    0.000,2,    2.920,2,    0.001,2,   -0.006,2, -999.000,9, -999.000,9, -999.000,9
           NA,    P03W,    287,   1,-999.0,      21,  2,19850519,1115,  24.2333,  145.4533,  5543, 1413.500,    2.555,   34.522,2,   34.523,2, -999.000,9,   64.700,2,  147.530,2,   41.630,2,    0.000,2,    2.910,2, -999.000,9, -999.000,9, -999.000,9, -999.000,9, -999.000,9
           NA,    P03W,    287,   1,-999.0,      22,  2,19850519,1115,  24.2333,  145.4533,  5543, 1613.400,    2.286,   34.555,2,   34.555,2, -999.000,9,   75.800,2,  151.620,2,   41.050,2,    0.000,2,    2.860,2, -999.000,9, -999.000,9, -999.000,9, -999.000,9, -999.000,9
           NA,    P03W,    287,   1,-999.0,      23,  2,19850519,1115,  24.2333,  145.4533,  5543, 1815.100,    2.054,   34.589,2,   34.590,2, -999.000,9,   90.700,2,  152.790,2,   39.940,2,    0.000,2,    2.800,2, -999.000,9, -999.000,9, -999.000,9, -999.000,9, -999.000,9
           NA,    P03W,    287,   1,-999.0,      24,  2,19850519,1115,  24.2333,  145.4533,  5543, 2015.400,    1.907,   34.610,2,   34.611,2, -999.000,9,  105.200,2,  151.660,2,   39.260,2,    0.000,2,    2.730,2, -999.000,9, -999.000,9, -999.000,9, -999.000,9, -999.000,9
           NA,    P03W,    287,   1,-999.0,      40,  2,19850519,1115,  24.2333,  145.4533,  5543, 2219.100,    1.825,   34.625,2,   34.625,2, -999.000,9,  115.700,2,  151.570,2,   38.740,2,    0.000,2,    2.690,2, -999.000,9, -999.000,9, -999.000,9, -999.000,9, -999.000,9
           NA,    P03W,    287,   1,-999.0,      26,  2,19850519,1115,  24.2333,  145.4533,  5543, 2524.500,    1.706,   34.642,2,   34.642,2, -999.000,9,  124.600,2,  151.900,2,   38.110,2,    0.000,2,    2.620,2, -999.000,9, -999.000,9, -999.000,9, -999.000,9, -999.000,9
           NA,    P03W,    287,   1,-999.0,      27,  2,19850519,1115,  24.2333,  145.4533,  5543, 2830.600,    1.621,   34.654,2,   34.654,2, -999.000,9,  132.100,2,  152.650,2,   37.740,2,    0.000,2,    2.600,2, -999.000,9, -999.000,9, -999.000,9, -999.000,9, -999.000,9
           NA,    P03W,    287,   1,-999.0,      28,  2,19850519,1115,  24.2333,  145.4533,  5543, 3135.100,    1.554,   34.664,2,   34.664,2, -999.000,9,  140.800,2,  150.270,2,   37.220,2,    0.000,2,    2.550,2, -999.000,9, -999.000,9, -999.000,9, -999.000,9, -999.000,9
           NA,    P03W,    287,   1,-999.0,      29,  2,19850519,1115,  24.2333,  145.4533,  5543, 3439.900,    1.513,   34.670,2,   34.670,2, -999.000,9,  145.900,2,  149.760,2,   36.750,2,    0.000,2,    2.520,2, -999.000,9, -999.000,9, -999.000,9, -999.000,9, -999.000,9
           NA,    P03W,    287,   1,-999.0,      30,  2,19850519,1115,  24.2333,  145.4533,  5543, 3746.400,    1.486,   34.676,2,   34.675,2, -999.000,9,  151.800,2,  148.840,2,   36.550,2, -999.000,5,    2.510,2, -999.000,9, -999.000,9, -999.000,9, -999.000,9, -999.000,9
           NA,    P03W,    287,   1,-999.0,      31,  2,19850519,1115,  24.2333,  145.4533,  5543, 4055.600,    1.476,   34.679,2,   34.679,2, -999.000,9,  156.200,2,  146.470,2,   36.290,2, -999.000,5,    2.480,2, -999.000,9, -999.000,9, -999.000,9, -999.000,9, -999.000,9
           NA,    P03W,    287,   1,-999.0,      32,  2,19850519,1115,  24.2333,  145.4533,  5543, 4363.000,    1.469,   34.683,2,   34.683,2, -999.000,9,  161.900,2,  144.300,2,   35.870,2, -999.000,5,    2.440,2, -999.000,9, -999.000,9, -999.000,9, -999.000,9, -999.000,9
           NA,    P03W,    287,   1,-999.0,      33,  2,19850519,1115,  24.2333,  145.4533,  5543, 4670.700,    1.475,   34.686,2,   34.685,2, -999.000,9,  164.700,2,  141.720,2,   35.610,2, -999.000,5,    2.420,2, -999.000,9, -999.000,9, -999.000,9, -999.000,9, -999.000,9
           NA,    P03W,    287,   1,-999.0,      34,  2,19850519,1115,  24.2333,  145.4533,  5543, 4978.100,    1.487,   34.688,2,   34.688,2, -999.000,9,  168.900,2,  139.980,2,   35.250,2,    0.000,2,    2.390,2, -999.000,9, -999.000,9, -999.000,9, -999.000,9, -999.000,9
           NA,    P03W,    287,   1,-999.0,      35,  2,19850519,1115,  24.2333,  145.4533,  5543, 5286.200,    1.507,   34.689,2,   34.690,2, -999.000,9,  172.200,2,  139.070,2,   35.090,2,    0.000,2,    2.380,2, -999.000,9, -999.000,9, -999.000,9, -999.000,9, -999.000,9
           NA,    P03W,    287,   1,-999.0,      37,  2,19850519,1115,  24.2333,  145.4533,  5543, 5624.600,    1.535,   34.691,2,   34.690,2, -999.000,9,  174.600,2,  137.120,2,   34.940,2,    0.000,2,    2.360,2, -999.000,9, -999.000,9, -999.000,9, -999.000,9, -999.000,9