BOTTLE,20203103JOAExport
EXPOCODE,SECT_ID,STNNBR,CASTNO,SAMPNO,BTLNBR,BTLNBR_FLAG_W,DATE,TIME,LATITUDE,LONGITUDE,DEPTH,CTDPRS,CTDTMP,CTDSAL,CTDSAL_FLAG_W,SALNTY,SALNTY_FLAG_W,CTDOXY,CTDOXY_FLAG_W,OXYGEN,OXYGEN_FLAG_W,SILCAT,SILCAT_FLAG_W,NITRAT,NITRAT_FLAG_W,NITRIT,NITRIT_FLAG_W,PHSPHT,PHSPHT_FLAG_W,CFC-11,CFC-11_FLAG_W,CFC-12,CFC-12_FLAG_W,SF6,SF6_FLAG_W,TCARBN,TCARBN_FLAG_W,ALKALI,ALKALI_FLAG_W
,,,,,,,,,,,,,DB,ITS-90,PSS-78,,PSS-78,,UMOL/KG,,UMOL/KG,,UMOL/KG,,UMOL/KG,,UMOL/KG,,UMOL/KG,,PMOL/KG,,PMOL/KG,,FMOL/KG,,UMOL/KG,,UMOL/KG
           NA,    P03W,    349,   1,-999.0,       5,  2,19850528,0807,  24.2500,  128.4017,  5811,    0.000,   26.293,   34.675,2,   34.676,2, -999.000,9,  206.100,2,    1.270,2,    0.060,2,    0.000,2,    0.040,2,    1.441,2,    0.754,2, -999.000,9, -999.000,9, -999.000,9
           NA,    P03W,    349,   1,-999.0,      38,  2,19850528,0807,  24.2500,  128.4017,  5811,   27.100,   25.084,   34.769,2,   34.774,2, -999.000,9,  211.700,2,    1.270,2,    0.110,2,    0.000,2,    0.040,2,    1.493,2,    0.780,2, -999.000,9, -999.000,9, -999.000,9
           NA,    P03W,    349,   1,-999.0,       3,  2,19850528,0807,  24.2500,  128.4017,  5811,   47.000,   23.104,   34.760,2,   34.762,2, -999.000,9,  218.600,2,    1.270,2,    0.200,2,    0.000,2,    0.050,2, -999.000,9, -999.000,9, -999.000,9, -999.000,9, -999.000,9
           NA,    P03W,    349,   1,-999.0,       4,  2,19850528,0807,  24.2500,  128.4017,  5811,   77.500,   21.998,   34.882,2,   34.880,2, -999.000,9,  200.600,2,    1.470,2,    0.400,2,    0.080,2,    0.110,2,    1.546,2,    0.804,2, -999.000,9, -999.000,9, -999.000,9
           NA,    P03W,    349,   1,-999.0,       1,  2,19850528,0807,  24.2500,  128.4017,  5811,  107.500,   20.756,   34.882,2,   34.882,2, -999.000,9,  197.500,2,    2.540,2,    2.080,2,    0.070,2,    0.190,2, -999.000,9, -999.000,9, -999.000,9, -999.000,9, -999.000,9
           NA,    P03W,    349,   1,-999.0,       6,  2,19850528,0807,  24.2500,  128.4017,  5811,  147.600,   19.476,   34.860,2,   34.861,2, -999.000,9,  208.700,2,    2.150,2,    1.730,2,    0.050,2,    0.160,2,    1.750,2,    0.884,2, -999.000,9, -999.000,9, -999.000,9
           NA,    P03W,    349,   1,-999.0,       7,  2,19850528,0807,  24.2500,  128.4017,  5811,  185.600,   18.726,   34.849,2,   34.850,2, -999.000,9,  201.300,2,    3.030,2,    3.390,2,    0.020,2,    0.260,2,    1.676,2,    0.854,2, -999.000,9, -999.000,9, -999.000,9
           NA,    P03W,    349,   1,-999.0,       8,  2,19850528,0807,  24.2500,  128.4017,  5811,  237.000,   17.805,   34.819,2,   34.817,2, -999.000,9,  196.500,2,    3.810,2,    4.940,2,    0.010,2,    0.350,2,    1.608,2,    0.809,2, -999.000,9, -999.000,9, -999.000,9
           NA,    P03W,    349,   1,-999.0,       9,  2,19850528,0807,  24.2500,  128.4017,  5811,  288.000,   16.547,   34.753,2,   34.751,2, -999.000,9,  195.500,2,    5.770,2,    6.800,2,    0.010,2,    0.480,2,    1.539,2,    0.789,2, -999.000,9, -999.000,9, -999.000,9
           NA,    P03W,    349,   1,-999.0,      10,  2,19850528,0807,  24.2500,  128.4017,  5811,  338.300,   15.557,   34.682,2,   34.685,2, -999.000,9,  192.900,2,    7.720,2,    8.340,2,    0.010,2,    0.580,2,    1.456,2,    0.750,2, -999.000,9, -999.000,9, -999.000,9
           NA,    P03W,    349,   1,-999.0,      11,  2,19850528,0807,  24.2500,  128.4017,  5811,  388.700,   14.239,   34.571,2,   34.570,2, -999.000,9,  183.700,2,   12.120,2,   11.340,2,    0.010,2,    0.780,2,    1.230,2,    0.616,2, -999.000,9, -999.000,9, -999.000,9
           NA,    P03W,    349,   1,-999.0,      12,  2,19850528,0807,  24.2500,  128.4017,  5811,  448.000,   12.634,   34.456,2,   34.460,2, -999.000,9,  165.800,2,   20.140,2,   15.640,2,    0.010,2,    1.090,2,    0.972,2,    0.490,2, -999.000,9, -999.000,9, -999.000,9
           NA,    P03W,    349,   1,-999.0,      13,  2,19850528,0807,  24.2500,  128.4017,  5811,  508.700,   10.986,   34.347,2,   34.346,2, -999.000,9,  152.300,2,   27.280,2,   19.750,2,    0.000,2,    1.390,2,    0.747,2,    0.381,2, -999.000,9, -999.000,9, -999.000,9
           NA,    P03W,    349,   1,-999.0,      14,  2,19850528,0807,  24.2500,  128.4017,  5811,  569.800,    8.931,   34.214,2,   34.213,2, -999.000,9,  144.400,2,   39.600,2,   24.150,2,    0.000,2,    1.700,2,    0.638,2,    0.326,2, -999.000,9, -999.000,9, -999.000,9
           NA,    P03W,    349,   1,-999.0,      15,  2,19850528,0807,  24.2500,  128.4017,  5811,  649.700,    7.474,   34.167,2,   34.167,2, -999.000,9,  121.400,2,   52.800,2,   28.650,2,    0.000,2,    2.030,2,    0.413,2,    0.211,2, -999.000,9, -999.000,9, -999.000,9
           NA,    P03W,    349,   1,-999.0,      16,  2,19850528,0807,  24.2500,  128.4017,  5811,  728.300,    6.267,   34.181,2,   34.182,2, -999.000,9,   93.100,2,   68.640,2,   33.640,2,    0.000,2,    2.410,2,    0.206,2,    0.105,2, -999.000,9, -999.000,9, -999.000,9
           NA,    P03W,    349,   1,-999.0,      17,  2,19850528,0807,  24.2500,  128.4017,  5811,  806.900,    5.363,   34.217,2,   34.215,2, -999.000,9,   75.200,2,   83.600,2,   36.860,2,    0.000,2,    2.620,2,    0.115,2,    0.056,2, -999.000,9, -999.000,9, -999.000,9
           NA,    P03W,    349,   1,-999.0,      18,  2,19850528,0807,  24.2500,  128.4017,  5811,  907.100,    4.594,   34.283,2,   34.283,2, -999.000,9,   62.600,2,  100.020,2,   39.210,2,    0.000,2,    2.760,2,    0.054,2,    0.025,2, -999.000,9, -999.000,9, -999.000,9
           NA,    P03W,    349,   1,-999.0,      23,  2,19850528,0807,  24.2500,  128.4017,  5811, 1005.800,    4.071,   34.376,2,   34.376,2, -999.000,9,   63.500,2,  111.940,2,   39.890,2,    0.000,2,    2.830,2,    0.023,2,    0.011,2, -999.000,9, -999.000,9, -999.000,9
           NA,    P03W,    349,   1,-999.0,      20,  2,19850528,0807,  24.2500,  128.4017,  5811, 2014.500,    2.013,   34.612,2,   34.612,2, -999.000,9,  114.300,2,  143.980,2,   38.610,2,    0.000,2,    2.690,2,   -0.004,2,   -0.007,2, -999.000,9, -999.000,9, -999.000,9
           NA,    P03W,    349,   1,-999.0,      21,  2,19850528,0807,  24.2500,  128.4017,  5811, 2973.700,    1.629,   34.661,2,   34.661,2, -999.000,9,  141.200,2,  144.170,2,   37.240,2,    0.000,2,    2.560,2,   -0.002,2,   -0.004,2, -999.000,9, -999.000,9, -999.000,9
           NA,    P03W,    349,   1,-999.0,      22,  2,19850528,0807,  24.2500,  128.4017,  5811, 4012.400,    1.577,   34.675,2,   34.674,2, -999.000,9,  151.600,2,  143.680,2,   36.360,2,    0.000,2,    2.470,2,   -0.002,2,   -0.004,2, -999.000,9, -999.000,9, -999.000,9
           NA,    P03W,    349,   1,-999.0,      24,  2,19850528,0807,  24.2500,  128.4017,  5811, 5938.400,    1.766,   34.680,2,   34.680,2, -999.000,9,  156.000,2,  142.610,2,   36.070,2,    0.000,2,    2.430,2,    0.009,2, -999.000,9, -999.000,9, -999.000,9, -999.000,9
           NA,    P03W,    347,   1,-999.0,       5,  2,19850528,0057,  24.2517,  128.8950,  5124,    1.100,   25.533,   34.781,2,   34.785,2, -999.000,9,  209.900,2,    1.270,2,    0.270,2,    0.000,2,    0.020,2, -999.000,9, -999.000,9, -999.000,9, -999.000,9, -999.000,9
           NA,    P03W,    347,   1,-999.0,      38,  2,19850528,0057,  24.2517,  128.8950,  5124,   23.800,   25.040,   34.771,2,   34.773,2, -999.000,9,  213.000,2,    1.260,2,    0.270,2,    0.000,2,    0.020,2, -999.000,9, -999.000,9, -999.000,9, -999.000,9, -999.000,9
           NA,    P03W,    347,   1,-999.0,       3,  2,19850528,0057,  24.2517,  128.8950,  5124,   44.300,   23.011,   34.858,2,   34.855,2, -999.000,9,  223.400,2,    1.250,2,    0.080,2,    0.000,2,    0.020,2, -999.000,9, -999.000,9, -999.000,9, -999.000,9, -999.000,9
           NA,    P03W,    347,   1,-999.0,       4,  2,19850528,0057,  24.2517,  128.8950,  5124,   74.100,   21.204,   34.837,2,   34.837,2, -999.000,9,  224.700,2,    1.460,2,    0.080,2,    0.000,2,    0.030,2, -999.000,9, -999.000,9, -999.000,9, -999.000,9, -999.000,9
           NA,    P03W,    347,   1,-999.0,       1,  2,19850528,0057,  24.2517,  128.8950,  5124,  103.500,   20.395,   34.847,2,   34.850,2, -999.000,9,  217.300,2,    1.670,2,    0.330,2,    0.120,2,    0.070,2, -999.000,9, -999.000,9, -999.000,9, -999.000,9, -999.000,9
           NA,    P03W,    347,   1,-999.0,       6,  2,19850528,0057,  24.2517,  128.8950,  5124,  143.400,   19.307,   34.846,2,   34.844,2, -999.000,9,  208.100,2,    2.770,2,    2.230,2,    0.020,2,    0.170,2, -999.000,9, -999.000,9, -999.000,9, -999.000,9, -999.000,9
           NA,    P03W,    347,   1,-999.0,       7,  2,19850528,0057,  24.2517,  128.8950,  5124,  183.200,   18.549,   34.846,2,   34.847,2, -999.000,9,  205.700,2,    3.210,2,    3.110,2,    0.020,2,    0.230,2, -999.000,9, -999.000,9, -999.000,9, -999.000,9, -999.000,9
           NA,    P03W,    347,   1,-999.0,       8,  2,19850528,0057,  24.2517,  128.8950,  5124,  232.700,   17.554,   34.812,2,   34.812,2, -999.000,9,  201.200,2,    3.860,2,    4.970,2,    0.010,2,    0.340,2, -999.000,9, -999.000,9, -999.000,9, -999.000,9, -999.000,9
           NA,    P03W,    347,   1,-999.0,       9,  2,19850528,0057,  24.2517,  128.8950,  5124,  283.500,   16.680,   34.768,2,   34.768,2, -999.000,9,  199.500,2,    5.620,2,    5.890,2,    0.010,2,    0.410,2, -999.000,9, -999.000,9, -999.000,9, -999.000,9, -999.000,9
           NA,    P03W,    347,   1,-999.0,      10,  2,19850528,0057,  24.2517,  128.8950,  5124,  333.900,   16.022,   34.721,2,   34.721,2, -999.000,9,  196.700,2,    7.600,2,    7.410,2,    0.020,2,    0.510,2, -999.000,9, -999.000,9, -999.000,9, -999.000,9, -999.000,9
           NA,    P03W,    347,   1,-999.0,      11,  2,19850528,0057,  24.2517,  128.8950,  5124,  385.400,   15.207,   34.657,2,   34.659,2, -999.000,9,  192.300,2,    9.350,2,    9.130,2,    0.020,2,    0.620,2, -999.000,9, -999.000,9, -999.000,9, -999.000,9, -999.000,9
           NA,    P03W,    347,   1,-999.0,      12,  2,19850528,0057,  24.2517,  128.8950,  5124,  445.400,   13.814,   34.544,2,   34.542,2, -999.000,9,  188.500,2,   12.650,2,   11.510,2,    0.010,2,    0.790,2, -999.000,9, -999.000,9, -999.000,9, -999.000,9, -999.000,9
           NA,    P03W,    347,   1,-999.0,      13,  2,19850528,0057,  24.2517,  128.8950,  5124,  506.600,   12.231,   34.422,2,   34.421,2, -999.000,9,  184.500,2,   19.040,2,   14.780,2,    0.000,2,    1.020,2, -999.000,9, -999.000,9, -999.000,9, -999.000,9, -999.000,9
           NA,    P03W,    347,   1,-999.0,      14,  2,19850528,0057,  24.2517,  128.8950,  5124,  567.200,   10.392,   34.290,2,   34.291,2, -999.000,9,  172.100,2,   28.280,2,   19.010,2,    0.000,2,    1.320,2, -999.000,9, -999.000,9, -999.000,9, -999.000,9, -999.000,9
           NA,    P03W,    347,   1,-999.0,      15,  2,19850528,0057,  24.2517,  128.8950,  5124,  647.800,    8.408,   34.179,2,   34.181,2, -999.000,9,  148.900,2,   43.040,2,   24.720,2,    0.000,2,    1.740,2, -999.000,9, -999.000,9, -999.000,9, -999.000,9, -999.000,9
           NA,    P03W,    347,   1,-999.0,      16,  2,19850528,0057,  24.2517,  128.8950,  5124,  726.000,    7.193,   34.163,2,   34.157,2, -999.000,9,  120.900,2,   55.810,2,   29.300,2,    0.000,2,    2.060,2, -999.000,9, -999.000,9, -999.000,9, -999.000,9, -999.000,9
           NA,    P03W,    347,   1,-999.0,      17,  2,19850528,0057,  24.2517,  128.8950,  5124,  804.800,    5.725,   34.194,2,   34.194,2, -999.000,9,   81.600,2,   77.880,2,   35.580,2,    0.000,2,    2.510,2, -999.000,9, -999.000,9, -999.000,9, -999.000,9, -999.000,9
           NA,    P03W,    347,   1,-999.0,      18,  2,19850528,0057,  24.2517,  128.8950,  5124,  905.900,    4.905,   34.245,2,   34.246,2, -999.000,9,   67.700,2,   94.000,2,   38.220,2,    0.000,2,    2.680,2, -999.000,9, -999.000,9, -999.000,9, -999.000,9, -999.000,9
           NA,    P03W,    347,   1,-999.0,      23,  2,19850528,0057,  24.2517,  128.8950,  5124, 1059.200,    3.978,   34.359,2,   34.359,2, -999.000,9,   58.400,2,  114.860,2,   40.380,2,    0.000,2,    2.810,2, -999.000,9, -999.000,9, -999.000,9, -999.000,9, -999.000,9
           NA,    P03W,    347,   1,-999.0,      20,  2,19850528,0057,  24.2517,  128.8950,  5124, 1212.100,    3.480,   34.452,2,   34.451,2, -999.000,9,   70.500,2,  126.600,2,   40.020,2,    0.000,2,    2.800,2, -999.000,9, -999.000,9, -999.000,9, -999.000,9, -999.000,9
           NA,    P03W,    347,   1,-999.0,      21,  2,19850528,0057,  24.2517,  128.8950,  5124, 1413.800,    2.850,   34.499,2,   34.500,2, -999.000,9,   76.500,2,  138.370,2,   40.270,2,    0.000,2,    2.800,2, -999.000,9, -999.000,9, -999.000,9, -999.000,9, -999.000,9
           NA,    P03W,    347,   1,-999.0,      22,  2,19850528,0057,  24.2517,  128.8950,  5124, 1616.200,    2.487,   34.550,2,   34.550,2, -999.000,9,   91.000,2,  142.480,2,   39.610,2,    0.010,2,    2.740,2, -999.000,9, -999.000,9, -999.000,9, -999.000,9, -999.000,9
           NA,    P03W,    347,   1,-999.0,      39,  2,19850528,0057,  24.2517,  128.8950,  5124, 1817.700,    2.244,   34.585,2,   34.585,2, -999.000,9,  103.200,2,  144.120,2,   39.010,2,    0.000,2,    2.700,2, -999.000,9, -999.000,9, -999.000,9, -999.000,9, -999.000,9
           NA,    P03W,    347,   1,-999.0,      24,  2,19850528,0057,  24.2517,  128.8950,  5124, 2020.400,    2.044,   34.609,2,   34.609,2, -999.000,9,  113.500,2,  145.980,2,   38.450,2,    0.000,2,    2.650,2, -999.000,9, -999.000,9, -999.000,9, -999.000,9, -999.000,9
           NA,    P03W,    347,   1,-999.0,      40,  2,19850528,0057,  24.2517,  128.8950,  5124, 2222.700,    1.899,   34.628,2,   34.629,2, -999.000,9,  122.800,2,  146.480,2,   38.000,2,    0.000,2,    2.610,2, -999.000,9, -999.000,9, -999.000,9, -999.000,9, -999.000,9
           NA,    P03W,    347,   1,-999.0,      26,  2,19850528,0057,  24.2517,  128.8950,  5124, 2425.100,    1.812,   34.639,2,   34.640,2, -999.000,9,  128.300,2,  146.540,2,   37.750,2,    0.000,2,    2.560,2, -999.000,9, -999.000,9, -999.000,9, -999.000,9, -999.000,9
           NA,    P03W,    347,   1,-999.0,      27,  2,19850528,0057,  24.2517,  128.8950,  5124, 2626.600,    1.735,   34.648,2,   34.648,2, -999.000,9,  132.500,2,  145.690,2,   37.350,2,    0.000,2,    2.530,2, -999.000,9, -999.000,9, -999.000,9, -999.000,9, -999.000,9
           NA,    P03W,    347,   1,-999.0,      28,  2,19850528,0057,  24.2517,  128.8950,  5124, 2830.300,    1.677,   34.655,2,   34.655,2, -999.000,9,  136.900,2,  145.520,2,   37.050,2,    0.000,2,    2.520,2, -999.000,9, -999.000,9, -999.000,9, -999.000,9, -999.000,9
           NA,    P03W,    347,   1,-999.0,      29,  2,19850528,0057,  24.2517,  128.8950,  5124, 3132.500,    1.600,   34.664,2,   34.664,2, -999.000,9,  144.700,2,  144.460,2,   36.700,2,    0.000,2,    2.500,2, -999.000,9, -999.000,9, -999.000,9, -999.000,9, -999.000,9
           NA,    P03W,    347,   1,-999.0,      30,  2,19850528,0057,  24.2517,  128.8950,  5124, 3434.800,    1.571,   34.670,2,   34.668,2, -999.000,9,  147.600,2,  144.290,2,   36.450,2,    0.000,2,    2.460,2, -999.000,9, -999.000,9, -999.000,9, -999.000,9, -999.000,9
           NA,    P03W,    347,   1,-999.0,      31,  2,19850528,0057,  24.2517,  128.8950,  5124, 3738.700,    1.563,   34.674,2,   34.673,2, -999.000,9,  150.600,2,  145.020,2,   36.250,2,    0.000,2,    2.460,2, -999.000,9, -999.000,9, -999.000,9, -999.000,9, -999.000,9
           NA,    P03W,    347,   1,-999.0,      32,  2,19850528,0057,  24.2517,  128.8950,  5124, 4044.600,    1.571,   34.676,2,   34.675,2, -999.000,9,  153.000,2,  144.850,2,   36.250,2,    0.000,2,    2.460,2, -999.000,9, -999.000,9, -999.000,9, -999.000,9, -999.000,9
           NA,    P03W,    347,   1,-999.0,      33,  2,19850528,0057,  24.2517,  128.8950,  5124, 4350.800,    1.585,   34.678,2,   34.676,2, -999.000,9,  155.300,2,  142.890,2,   36.050,2,    0.000,2,    2.450,2, -999.000,9, -999.000,9, -999.000,9, -999.000,9, -999.000,9
           NA,    P03W,    347,   1,-999.0,      34,  2,19850528,0057,  24.2517,  128.8950,  5124, 4664.200,    1.612,   34.678,2,   34.678,2, -999.000,9,  155.300,2,  143.170,2,   36.050,2,    0.000,2,    2.450,2, -999.000,9, -999.000,9, -999.000,9, -999.000,9, -999.000,9
           NA,    P03W,    347,   1,-999.0,      35,  2,19850528,0057,  24.2517,  128.8950,  5124, 4973.500,    1.640,   34.679,2,   34.680,2, -999.000,9,  156.200,2,  143.230,2,   35.900,2,    0.000,2,    2.440,2, -999.000,9, -999.000,9, -999.000,9, -999.000,9, -999.000,9
           NA,    P03W,    347,   1,-999.0,      37,  2,19850528,0057,  24.2517,  128.8950,  5124, 5204.400,    1.667,   34.680,2,   34.680,2, -999.000,9,  156.100,2,  143.060,2,   36.000,2,    0.000,2,    2.440,2, -999.000,9, -999.000,9, -999.000,9, -999.000,9, -999.000,9