BOTTLE,20203103JOAExport
EXPOCODE,SECT_ID,STNNBR,CASTNO,SAMPNO,BTLNBR,BTLNBR_FLAG_W,DATE,TIME,LATITUDE,LONGITUDE,DEPTH,CTDPRS,CTDTMP,CTDSAL,CTDSAL_FLAG_W,SALNTY,SALNTY_FLAG_W,CTDOXY,CTDOXY_FLAG_W,OXYGEN,OXYGEN_FLAG_W,SILCAT,SILCAT_FLAG_W,NITRAT,NITRAT_FLAG_W,NITRIT,NITRIT_FLAG_W,PHSPHT,PHSPHT_FLAG_W,CFC-11,CFC-11_FLAG_W,CFC-12,CFC-12_FLAG_W,SF6,SF6_FLAG_W,TCARBN,TCARBN_FLAG_W,ALKALI,ALKALI_FLAG_W
,,,,,,,,,,,,,DB,ITS-90,PSS-78,,PSS-78,,UMOL/KG,,UMOL/KG,,UMOL/KG,,UMOL/KG,,UMOL/KG,,UMOL/KG,,PMOL/KG,,PMOL/KG,,FMOL/KG,,UMOL/KG,,UMOL/KG
           NA,    P03E,     90,   2,-999.0,       1,  2,19850413,2223,  24.2583, -147.6967,  5528,    0.200,   22.283,   35.252,2,   35.254,2, -999.000,9,  221.900,2,    0.900,2,    0.080,2,    0.000,2,    0.090,2,    1.733,2,    0.894,2, -999.000,9, -999.000,9, -999.000,9
           NA,    P03E,     90,   2,-999.0,       2,  2,19850413,2223,  24.2583, -147.6967,  5528,   26.200,   21.786,   35.305,2,   35.308,2, -999.000,9,  222.600,2,    0.880,2,    0.080,2,    0.000,2,    0.090,2,    1.759,2,    0.898,2, -999.000,9, -999.000,9, -999.000,9
           NA,    P03E,     90,   2,-999.0,       3,  2,19850413,2223,  24.2583, -147.6967,  5528,   46.100,   21.622,   35.300,2,   35.302,2, -999.000,9,  222.700,2,    0.660,2,    0.080,2,    0.000,2,    0.080,2,    1.738,2,    0.900,2, -999.000,9, -999.000,9, -999.000,9
           NA,    P03E,     90,   2,-999.0,       4,  2,19850413,2223,  24.2583, -147.6967,  5528,   75.700,   21.541,   35.314,2,   35.310,2, -999.000,9,  219.600,2,    0.630,2,    0.080,2,    0.000,2,    0.080,2,    1.730,2,    0.906,2, -999.000,9, -999.000,9, -999.000,9
           NA,    P03E,     90,   2,-999.0,       5,  2,19850413,2223,  24.2583, -147.6967,  5528,  105.600,   21.451,   35.356,2,   35.357,2, -999.000,9,  216.600,2,    0.420,2,    0.090,2,    0.080,2,    0.080,2,    1.720,2,    0.878,2, -999.000,9, -999.000,9, -999.000,9
           NA,    P03E,     90,   2,-999.0,       6,  2,19850413,2223,  24.2583, -147.6967,  5528,  146.000,   20.854,   35.331,2,   35.345,2, -999.000,9,  210.300,2,    0.950,2,    0.490,2,    0.110,2,    0.100,2,    1.717,2,    0.894,2, -999.000,9, -999.000,9, -999.000,9
           NA,    P03E,     90,   2,-999.0,       7,  2,19850413,2223,  24.2583, -147.6967,  5528,  186.100,   19.822,   35.180,2,   35.175,2, -999.000,9,  208.600,2,    1.300,2,    1.200,2,    0.070,2,    0.150,2,    1.772,2,    0.908,2, -999.000,9, -999.000,9, -999.000,9
           NA,    P03E,     90,   2,-999.0,       8,  2,19850413,2223,  24.2583, -147.6967,  5528,  226.500,   17.422,   34.795,2,   34.787,2, -999.000,9,  195.100,2,    3.140,2,    3.960,2,    0.010,2,    0.350,2,    1.798,2,    0.890,2, -999.000,9, -999.000,9, -999.000,9
           NA,    P03E,     90,   2,-999.0,       9,  2,19850413,2223,  24.2583, -147.6967,  5528,  267.800,   15.439,   34.585,2,   34.581,2, -999.000,9,  204.300,2,    4.610,2,    5.330,2,    0.000,2,    0.440,2,    1.853,2,    0.925,2, -999.000,9, -999.000,9, -999.000,9
           NA,    P03E,     90,   2,-999.0,      10,  2,19850413,2223,  24.2583, -147.6967,  5528,  307.900,   12.662,   34.260,2,   34.262,2, -999.000,9,  207.900,2,    8.510,2,    9.250,2,    0.000,2,    0.700,2,    1.863,2,    0.919,2, -999.000,9, -999.000,9, -999.000,9
           NA,    P03E,     90,   2,-999.0,      11,  2,19850413,2223,  24.2583, -147.6967,  5528,  348.400,   11.064,   34.152,2,   34.140,2, -999.000,9,  204.900,2,   13.910,2,   13.500,2,    0.000,2,    0.980,2,    1.669,2,    0.819,2, -999.000,9, -999.000,9, -999.000,9
           NA,    P03E,     90,   2,-999.0,      12,  2,19850413,2223,  24.2583, -147.6967,  5528,  388.900,    9.792,   34.093,2,   34.093,2, -999.000,9,  194.000,2,   20.050,2,   17.350,2,    0.000,2,    1.210,2,    1.361,2,    0.681,2, -999.000,9, -999.000,9, -999.000,9
           NA,    P03E,     90,   2,-999.0,      13,  2,19850413,2223,  24.2583, -147.6967,  5528,  439.400,    8.531,   34.070,2,   34.072,2, -999.000,9,  157.800,2, -999.000,5, -999.000,5, -999.000,5, -999.000,5,    0.746,2,    0.390,2, -999.000,9, -999.000,9, -999.000,9
           NA,    P03E,     90,   2,-999.0,      14,  2,19850413,2223,  24.2583, -147.6967,  5528,  510.000,    7.253,   34.081,2,   34.083,2, -999.000,9,  101.100,2,   47.540,2,   30.690,2,    0.000,2,    2.200,2,    0.229,2,    0.135,6, -999.000,9, -999.000,9, -999.000,9
           NA,    P03E,     90,   2,-999.0,      15,  2,19850413,2223,  24.2583, -147.6967,  5528,  610.400,    5.740,   34.100,2,   34.101,2, -999.000,9,   57.600,2,   70.200,2,   37.980,2,    0.000,2,    2.670,2,    0.058,2,    0.037,6, -999.000,9, -999.000,9, -999.000,9
           NA,    P03E,     90,   2,-999.0,      16,  2,19850413,2223,  24.2583, -147.6967,  5528,  711.400,    4.988,   34.232,2,   34.232,2, -999.000,9,   26.800,2,   89.140,2,   42.090,2,    0.000,2,    2.960,2,    0.018,2,    0.007,2, -999.000,9, -999.000,9, -999.000,9
           NA,    P03E,     90,   2,-999.0,      17,  2,19850413,2223,  24.2583, -147.6967,  5528,  811.900,    4.576,   34.345,2,   34.344,2, -999.000,9,   25.100,2,   99.270,2,   43.280,2,    0.000,2,    3.030,2,   -0.007,2,   -0.001,2, -999.000,9, -999.000,9, -999.000,9
           NA,    P03E,     90,   2,-999.0,      18,  2,19850413,2223,  24.2583, -147.6967,  5528,  963.000,    4.220,   34.456,2,   34.456,2, -999.000,9,   38.400,2,  106.210,2,   43.170,2,    0.000,2,    3.000,2,    0.018,2,   -0.002,2, -999.000,9, -999.000,9, -999.000,9
           NA,    P03E,     90,   2,-999.0,      19,  2,19850413,2223,  24.2583, -147.6967,  5528, 1114.400,    3.824,   34.498,2,   34.498,2, -999.000,9,   47.200,2,  114.670,2,   43.020,2,    0.000,2,    2.980,2,    0.012,2,    0.001,2, -999.000,9, -999.000,9, -999.000,9
           NA,    P03E,     90,   2,-999.0,      20,  2,19850413,2223,  24.2583, -147.6967,  5528, 1265.300,    3.453,   34.527,2,   34.527,2, -999.000,9,   51.400,2,  123.140,2,   43.020,2,    0.000,2,    2.980,2,    0.004,2,    0.007,2, -999.000,9, -999.000,9, -999.000,9
           NA,    P03E,     90,   2,-999.0,      21,  2,19850413,2223,  24.2583, -147.6967,  5528, 1416.600,    3.113,   34.550,2,   34.550,2, -999.000,9,   56.700,2,  132.380,2,   43.020,2,    0.000,2,    2.960,2,   -0.007,2,    0.006,2, -999.000,9, -999.000,9, -999.000,9
           NA,    P03E,     90,   2,-999.0,      22,  2,19850413,2223,  24.2583, -147.6967,  5528, 1619.000,    2.752,   34.573,2,   34.573,2, -999.000,9,   66.200,2,  140.690,2,   42.500,2,    0.000,2,    2.910,2,    0.000,2, -999.000,9, -999.000,9, -999.000,9, -999.000,9
           NA,    P03E,     90,   2,-999.0,      23,  2,19850413,2223,  24.2583, -147.6967,  5528, 1821.300,    2.411,   34.594,2,   34.593,2, -999.000,9,   77.000,2,  149.590,2,   41.780,2,    0.000,2,    2.850,2,   -0.006,2,    0.000,2, -999.000,9, -999.000,9, -999.000,9
           NA,    P03E,     90,   2,-999.0,      24,  2,19850413,2223,  24.2583, -147.6967,  5528, 2024.000,    2.158,   34.610,2,   34.610,2, -999.000,9,   83.300,2,  156.790,2,   41.470,2,    0.000,2,    2.820,2,   -0.010,2,   -0.001,2, -999.000,9, -999.000,9, -999.000,9
           NA,    P03E,     90,   2,-999.0,      25,  2,19850413,2223,  24.2583, -147.6967,  5528, 2227.200,    1.965,   34.624,2,   34.624,2, -999.000,9,   91.600,2,  161.520,2,   40.960,2,    0.000,2,    2.780,2, -999.000,9, -999.000,9, -999.000,9, -999.000,9, -999.000,9
           NA,    P03E,     90,   2,-999.0,      26,  2,19850413,2223,  24.2583, -147.6967,  5528, 2531.100,    1.757,   34.644,2,   34.644,2, -999.000,9,  104.700,2,  164.550,2,   39.990,2,    0.000,2,    2.700,2,    0.012,2,   -0.002,2, -999.000,9, -999.000,9, -999.000,9
           NA,    P03E,     90,   2,-999.0,      27,  2,19850413,2223,  24.2583, -147.6967,  5528, 2836.300,    1.618,   34.658,2,   34.658,2, -999.000,9,  118.500,2,  164.520,2,   39.080,2,    0.000,2,    2.640,2, -999.000,9, -999.000,9, -999.000,9, -999.000,9, -999.000,9
           NA,    P03E,     90,   2,-999.0,      28,  2,19850413,2223,  24.2583, -147.6967,  5528, 3141.900,    1.537,   34.668,2,   34.668,2, -999.000,9,  128.100,2,  164.120,2,   38.480,2,    0.000,2,    2.580,2,    0.000,2,    0.003,2, -999.000,9, -999.000,9, -999.000,9
           NA,    P03E,     90,   2,-999.0,      29,  2,19850413,2223,  24.2583, -147.6967,  5528, 3447.600,    1.498,   34.674,2,   34.674,2, -999.000,9,  136.300,2,  162.390,2,   37.970,2,    0.000,2,    2.530,2, -999.000,9, -999.000,9, -999.000,9, -999.000,9, -999.000,9
           NA,    P03E,     90,   2,-999.0,      30,  2,19850413,2223,  24.2583, -147.6967,  5528, 3753.600,    1.481,   34.678,2,   34.678,2, -999.000,9,  142.600,2,  159.890,2,   37.470,2,    0.000,2,    2.510,2, -999.000,9, -999.000,9, -999.000,9, -999.000,9, -999.000,9
           NA,    P03E,     90,   2,-999.0,      31,  2,19850413,2223,  24.2583, -147.6967,  5528, 4060.000,    1.474,   34.681,2,   34.682,2, -999.000,9,  148.500,2,  156.640,2,   37.120,2,    0.000,2,    2.470,2,   -0.006,2,    0.015,2, -999.000,9, -999.000,9, -999.000,9
           NA,    P03E,     90,   2,-999.0,      32,  2,19850413,2223,  24.2583, -147.6967,  5528, 4367.100,    1.488,   34.683,2,   34.683,2, -999.000,9,  151.900,2,  154.720,2,   36.870,2,    0.000,2,    2.450,2, -999.000,9, -999.000,9, -999.000,9, -999.000,9, -999.000,9
           NA,    P03E,     90,   2,-999.0,      37,  2,19850413,2223,  24.2583, -147.6967,  5528, 4674.400,    1.488,   34.686,2,   34.686,2, -999.000,9,  157.900,2,  149.380,2,   36.420,2,    0.000,2,    2.420,2, -999.000,9, -999.000,9, -999.000,9, -999.000,9, -999.000,9
           NA,    P03E,     90,   2,-999.0,      34,  2,19850413,2223,  24.2583, -147.6967,  5528, 4981.800,    1.491,   34.688,2,   34.689,2, -999.000,9,  163.200,2,  144.990,2,   35.980,2,    0.000,2,    2.390,2, -999.000,9, -999.000,9, -999.000,9, -999.000,9, -999.000,9
           NA,    P03E,     90,   2,-999.0,      35,  2,19850413,2223,  24.2583, -147.6967,  5528, 5290.200,    1.507,   34.690,2,   34.690,2, -999.000,9,  167.400,2,  141.930,2,   35.630,2,    0.000,2,    2.370,2, -999.000,9, -999.000,9, -999.000,9, -999.000,9, -999.000,9
           NA,    P03E,     90,   2,-999.0,      36,  2,19850413,2223,  24.2583, -147.6967,  5528, 5639.400,    1.546,   34.690,2,   34.691,2, -999.000,9,  167.500,2,  141.340,2,   35.630,2,    0.000,2,    2.360,2,   -0.004,2,    0.011,2, -999.000,9, -999.000,9, -999.000,9