BOTTLE,20203103JOAExport
EXPOCODE,SECT_ID,STNNBR,CASTNO,SAMPNO,BTLNBR,BTLNBR_FLAG_W,DATE,TIME,LATITUDE,LONGITUDE,DEPTH,CTDPRS,CTDTMP,CTDSAL,CTDSAL_FLAG_W,SALNTY,SALNTY_FLAG_W,CTDOXY,CTDOXY_FLAG_W,OXYGEN,OXYGEN_FLAG_W,SILCAT,SILCAT_FLAG_W,NITRAT,NITRAT_FLAG_W,NITRIT,NITRIT_FLAG_W,PHSPHT,PHSPHT_FLAG_W,CFC-11,CFC-11_FLAG_W,CFC-12,CFC-12_FLAG_W,SF6,SF6_FLAG_W,TCARBN,TCARBN_FLAG_W,ALKALI,ALKALI_FLAG_W
,,,,,,,,,,,,,DB,ITS-90,PSS-78,,PSS-78,,UMOL/KG,,UMOL/KG,,UMOL/KG,,UMOL/KG,,UMOL/KG,,UMOL/KG,,PMOL/KG,,PMOL/KG,,FMOL/KG,,UMOL/KG,,UMOL/KG
           NA,    P03E,     34,   1,-999.0,       1,  2,19850404,0014,  28.1017, -125.1233,  4267,    1.400,   16.693,   33.783,2,   33.783,2, -999.000,9,  247.100,2,    2.100,2,    0.040,2,    0.000,2,    0.290,2,    2.247,2,    1.103,2, -999.000,9, -999.000,9, -999.000,9
           NA,    P03E,     34,   1,-999.0,       4,  2,19850404,0014,  28.1017, -125.1233,  4267,   18.300,   16.661,   33.782,2,   33.781,2, -999.000,9,  247.100,2,    2.080,2,    0.040,2,    0.000,2,    0.290,2, -999.000,9, -999.000,9, -999.000,9, -999.000,9, -999.000,9
           NA,    P03E,     34,   1,-999.0,       5,  2,19850404,0014,  28.1017, -125.1233,  4267,   33.400,   16.581,   33.779,2,   33.779,2, -999.000,9,  247.600,2,    2.050,2,    0.030,2,    0.000,2,    0.290,2,    2.246,2,    1.113,2, -999.000,9, -999.000,9, -999.000,9
           NA,    P03E,     34,   1,-999.0,       6,  2,19850404,0014,  28.1017, -125.1233,  4267,   53.400,   16.510,   33.776,2,   33.775,2, -999.000,9,  247.600,2,    2.030,2,    0.030,2,    0.000,2,    0.280,2, -999.000,9, -999.000,9, -999.000,9, -999.000,9, -999.000,9
           NA,    P03E,     34,   1,-999.0,       7,  2,19850404,0014,  28.1017, -125.1233,  4267,   73.400,   16.265,   33.750,2,   33.750,2, -999.000,9,  248.400,2,    2.000,2,    0.030,2,    0.000,2,    0.280,2,    2.278,2,    1.120,2, -999.000,9, -999.000,9, -999.000,9
           NA,    P03E,     34,   1,-999.0,       8,  2,19850404,0014,  28.1017, -125.1233,  4267,   93.800,   16.069,   33.750,2,   33.747,2, -999.000,9,  250.600,2,    1.980,2,    0.030,2,    0.000,2,    0.280,2,    2.294,2,    1.121,2, -999.000,9, -999.000,9, -999.000,9
           NA,    P03E,     34,   1,-999.0,       9,  2,19850404,0014,  28.1017, -125.1233,  4267,  124.500,   15.607,   33.921,2,   33.907,2, -999.000,9,  234.000,2,    3.100,2,    1.240,2,    0.070,2,    0.370,2,    2.243,2,    1.089,2, -999.000,9, -999.000,9, -999.000,9
           NA,    P03E,     34,   1,-999.0,      10,  2,19850404,0014,  28.1017, -125.1233,  4267,  155.400,   13.137,   33.727,2,   33.733,2, -999.000,9,  202.500,2,    7.880,2,    8.110,2,    0.020,2,    0.820,2,    2.118,2,    1.030,2, -999.000,9, -999.000,9, -999.000,9
           NA,    P03E,     34,   1,-999.0,      11,  2,19850404,0014,  28.1017, -125.1233,  4267,  195.600,   10.384,   33.725,2,   33.725,2, -999.000,9,  188.900,2,   15.720,2,   15.490,2,    0.000,2,    1.220,2,    2.040,2,    0.968,2, -999.000,9, -999.000,9, -999.000,9
           NA,    P03E,     34,   1,-999.0,      12,  2,19850404,0014,  28.1017, -125.1233,  4267,  236.200,    9.179,   33.918,2,   33.933,2, -999.000,9,  150.600,2,   27.790,2,   22.910,2,    0.000,2,    1.680,2,    1.319,6,    0.630,6, -999.000,9, -999.000,9, -999.000,9
           NA,    P03E,     34,   1,-999.0,      13,  2,19850404,0014,  28.1017, -125.1233,  4267,  286.600,    8.064,   34.016,2,   34.014,2, -999.000,9,  137.900,2,   37.170,2,   26.510,2,    0.000,2,    1.900,2,    0.819,2,    0.416,2, -999.000,9, -999.000,9, -999.000,9
           NA,    P03E,     34,   1,-999.0,      14,  2,19850404,0014,  28.1017, -125.1233,  4267,  336.700,    7.446,   34.033,2,   34.035,2, -999.000,9,  115.300,2,   45.220,2,   29.910,2,    0.000,2,    2.130,2,    0.497,2,    0.254,2, -999.000,9, -999.000,9, -999.000,9
           NA,    P03E,     34,   1,-999.0,      15,  2,19850404,0014,  28.1017, -125.1233,  4267,  397.400,    6.571,   34.084,2,   34.084,2, -999.000,9,   70.000,2,   59.800,2,   35.590,2,    0.000,2,    2.550,2,    0.169,2,    0.094,2, -999.000,9, -999.000,9, -999.000,9
           NA,    P03E,     34,   1,-999.0,      16,  2,19850404,0014,  28.1017, -125.1233,  4267,  457.800,    6.069,   34.145,2,   34.147,2, -999.000,9,   40.400,2,   70.750,2,   38.800,2,    0.000,2,    2.820,2, -999.000,9,    0.027,2, -999.000,9, -999.000,9, -999.000,9
           NA,    P03E,     34,   1,-999.0,      17,  2,19850404,0014,  28.1017, -125.1233,  4267,  528.100,    5.595,   34.219,2,   34.213,2, -999.000,9,   24.400,2, -999.000,5, -999.000,5, -999.000,5, -999.000,5,    0.012,2,    0.008,2, -999.000,9, -999.000,9, -999.000,9
           NA,    P03E,     34,   1,-999.0,      18,  2,19850404,0014,  28.1017, -125.1233,  4267,  608.700,    5.273,   34.307,2,   34.309,2, -999.000,9,   13.900,2,   89.990,2,   42.800,2,    0.000,2,    3.110,2,    0.005,2,   -0.004,2, -999.000,9, -999.000,9, -999.000,9
           NA,    P03E,     34,   1,-999.0,      19,  2,19850404,0014,  28.1017, -125.1233,  4267,  709.800,    4.968,   34.379,2,   34.380,2, -999.000,9,   12.600,2,   96.910,2,   43.690,2,    0.000,2,    3.160,2,   -0.007,2,   -0.009,2, -999.000,9, -999.000,9, -999.000,9
           NA,    P03E,     34,   1,-999.0,      20,  2,19850404,0014,  28.1017, -125.1233,  4267,  810.400,    4.641,   34.425,2,   34.425,2, -999.000,9,   16.500,2,  103.070,2,   44.430,2,    0.000,2,    3.160,2, -999.000,9, -999.000,9, -999.000,9, -999.000,9, -999.000,9
           NA,    P03E,     34,   1,-999.0,      21,  2,19850404,0014,  28.1017, -125.1233,  4267,  911.200,    4.307,   34.461,2,   34.461,2, -999.000,9,   22.600,2,  108.840,2,   44.700,2,    0.000,2,    3.160,2, -999.000,9, -999.000,9, -999.000,9, -999.000,9, -999.000,9
           NA,    P03E,     34,   1,-999.0,      22,  2,19850404,0014,  28.1017, -125.1233,  4267, 1010.800,    4.009,   34.486,2,   34.488,2, -999.000,9,   25.600,2,  115.780,2,   44.700,2,    0.000,2,    3.170,2, -999.000,9, -999.000,9, -999.000,9, -999.000,9, -999.000,9
           NA,    P03E,     34,   1,-999.0,      23,  2,19850404,0014,  28.1017, -125.1233,  4267, 1112.700,    3.745,   34.507,2,   34.509,2, -999.000,9,   30.900,2,  122.540,2,   44.810,2,    0.000,2,    3.160,2,   -0.011,2, -999.000,9, -999.000,9, -999.000,9, -999.000,9
           NA,    P03E,     34,   1,-999.0,      24,  2,19850404,0014,  28.1017, -125.1233,  4267, 1264.400,    3.388,   34.531,2,   34.532,2, -999.000,9,   36.500,2,  131.630,2,   44.590,2,    0.000,2,    3.140,2, -999.000,9, -999.000,9, -999.000,9, -999.000,9, -999.000,9
           NA,    P03E,     34,   1,-999.0,      25,  2,19850404,0014,  28.1017, -125.1233,  4267, 1415.400,    3.056,   34.555,2, -999.000,5, -999.000,9,   44.300,2,  139.960,2,   44.280,2,    0.000,2,    3.090,2,   -0.005,2,   -0.002,2, -999.000,9, -999.000,9, -999.000,9
           NA,    P03E,     34,   1,-999.0,      26,  2,19850404,0014,  28.1017, -125.1233,  4267, 1618.000,    2.681,   34.582,2,   34.584,2, -999.000,9,   55.600,2,  149.470,2,   43.590,2,    0.000,2,    3.020,2, -999.000,9, -999.000,9, -999.000,9, -999.000,9, -999.000,9
           NA,    P03E,     34,   1,-999.0,      27,  2,19850404,0014,  28.1017, -125.1233,  4267, 1820.400,    2.372,   34.604,2,   34.607,2, -999.000,9,   69.100,2,  155.100,2,   42.750,2,    0.000,2,    2.950,2, -999.000,9, -999.000,9, -999.000,9, -999.000,9, -999.000,9
           NA,    P03E,     34,   1,-999.0,      28,  2,19850404,0014,  28.1017, -125.1233,  4267, 2022.900,    2.113,   34.624,2,   34.626,2, -999.000,9,   82.100,2,  159.950,2,   41.860,2,    0.000,2,    2.860,2, -999.000,9, -999.000,9, -999.000,9, -999.000,9, -999.000,9
           NA,    P03E,     34,   1,-999.0,      29,  2,19850404,0014,  28.1017, -125.1233,  4267, 2226.200,    1.951,   34.638,2,   34.639,2, -999.000,9,   92.100,2,  162.470,2,   41.230,2,    0.000,2,    2.810,2, -999.000,9, -999.000,9, -999.000,9, -999.000,9, -999.000,9
           NA,    P03E,     34,   1,-999.0,      30,  2,19850404,0014,  28.1017, -125.1233,  4267, 2529.900,    1.804,   34.650,2,   34.651,2, -999.000,9,  103.400,2,  163.620,2,   40.400,2,    0.000,2,    2.750,2, -999.000,9, -999.000,9, -999.000,9, -999.000,9, -999.000,9
           NA,    P03E,     34,   1,-999.0,      31,  2,19850404,0014,  28.1017, -125.1233,  4267, 2834.800,    1.663,   34.660,2,   34.659,2, -999.000,9,  114.300,2,  168.490,2,   39.780,2,    0.000,2,    2.680,2, -999.000,9, -999.000,9, -999.000,9, -999.000,9, -999.000,9
           NA,    P03E,     34,   1,-999.0,      32,  2,19850404,0014,  28.1017, -125.1233,  4267, 3140.100,    1.577,   34.667,2,   34.664,2, -999.000,9,  121.200,2,  170.810,2,   39.310,2,    0.000,2,    2.650,2,   -0.012,2,   -0.003,2, -999.000,9, -999.000,9, -999.000,9
           NA,    P03E,     34,   1,-999.0,      33,  2,19850404,0014,  28.1017, -125.1233,  4267, 3445.500,    1.523,   34.673,2,   34.671,2, -999.000,9,  129.500,2,  170.600,2,   38.800,2,    0.000,2,    2.610,2, -999.000,9, -999.000,9, -999.000,9, -999.000,9, -999.000,9
           NA,    P03E,     34,   1,-999.0,      34,  2,19850404,0014,  28.1017, -125.1233,  4267, 3751.300,    1.502,   34.678,2,   34.677,2, -999.000,9,  136.400,2,  168.240,2,   38.230,2,    0.000,2,    2.570,2,    0.000,2,    0.000,2, -999.000,9, -999.000,9, -999.000,9
           NA,    P03E,     34,   1,-999.0,      35,  2,19850404,0014,  28.1017, -125.1233,  4267, 4056.300,    1.517,   34.680,2,   34.679,2, -999.000,9,  139.000,2,  167.050,2,   38.190,2,    0.000,2,    2.560,2,    0.002,2,    0.010,2, -999.000,9, -999.000,9, -999.000,9
           NA,    P03E,     34,   1,-999.0,      36,  2,19850404,0014,  28.1017, -125.1233,  4267, 4312.400,    1.545,   34.681,2,   34.679,2, -999.000,9,  139.500,2,  165.470,2,   38.180,2,    0.000,2,    2.560,2, -999.000,9, -999.000,9, -999.000,9, -999.000,9, -999.000,9
           NA,    P03E,     33,   1,-999.0,       1,  2,19850403,1617,  28.5867, -124.5067,  4285,    0.600,   16.316,   33.682,2,   33.683,2, -999.000,9,  249.200,2,    1.620,2,    0.040,2,    0.000,2,    0.290,2, -999.000,9, -999.000,9, -999.000,9, -999.000,9, -999.000,9
           NA,    P03E,     33,   1,-999.0,       4,  2,19850403,1617,  28.5867, -124.5067,  4285,   19.000,   16.285,   33.685,2,   33.685,2, -999.000,9,  249.700,2,    1.610,2,    0.040,2,    0.000,2,    0.290,2, -999.000,9, -999.000,9, -999.000,9, -999.000,9, -999.000,9
           NA,    P03E,     33,   1,-999.0,       5,  2,19850403,1617,  28.5867, -124.5067,  4285,   34.000,   16.264,   33.703,2,   33.709,2, -999.000,9,  248.900,2,    1.600,2,    0.030,2,    0.000,2,    0.290,2, -999.000,9, -999.000,9, -999.000,9, -999.000,9, -999.000,9
           NA,    P03E,     33,   1,-999.0,       6,  2,19850403,1617,  28.5867, -124.5067,  4285,   53.500,   16.222,   33.696,2,   33.695,2, -999.000,9,  248.600,2,    1.590,2,    0.030,2,    0.000,2,    0.290,2, -999.000,9, -999.000,9, -999.000,9, -999.000,9, -999.000,9
           NA,    P03E,     33,   1,-999.0,       7,  2,19850403,1617,  28.5867, -124.5067,  4285,   74.200,   16.530,   33.805,2,   33.804,2, -999.000,9,  247.700,2,    1.580,2,    0.030,2,    0.000,2,    0.260,2, -999.000,9, -999.000,9, -999.000,9, -999.000,9, -999.000,9
           NA,    P03E,     33,   1,-999.0,       8,  2,19850403,1617,  28.5867, -124.5067,  4285,   93.900,   16.505,   33.824,2,   33.861,2, -999.000,9,  246.300,2,    1.570,2,    0.030,2,    0.000,2,    0.250,2, -999.000,9, -999.000,9, -999.000,9, -999.000,9, -999.000,9
           NA,    P03E,     33,   1,-999.0,       9,  2,19850403,1617,  28.5867, -124.5067,  4285,  123.700,   16.387,   34.076,2,   34.098,2, -999.000,9,  236.800,2,    1.940,2,    0.310,2,    0.040,2,    0.250,2, -999.000,9, -999.000,9, -999.000,9, -999.000,9, -999.000,9
           NA,    P03E,     33,   1,-999.0,      10,  2,19850403,1617,  28.5867, -124.5067,  4285,  155.500,   14.045,   33.855,2,   33.835,2, -999.000,9,  224.700,2,    4.720,2,    4.200,2,    0.020,2,    0.530,2, -999.000,9, -999.000,9, -999.000,9, -999.000,9, -999.000,9
           NA,    P03E,     33,   1,-999.0,      11,  2,19850403,1617,  28.5867, -124.5067,  4285,  196.300,   10.734,   33.674,2,   33.684,2, -999.000,9,  195.500,2,   14.220,2,   14.080,2,    0.010,2,    1.130,2, -999.000,9, -999.000,9, -999.000,9, -999.000,9, -999.000,9
           NA,    P03E,     33,   1,-999.0,      12,  2,19850403,1617,  28.5867, -124.5067,  4285,  236.200,    9.206,   33.830,2,   33.842,2, -999.000,9,  162.400,2,   24.860,2,   21.640,2,    0.000,2,    1.600,2, -999.000,9, -999.000,9, -999.000,9, -999.000,9, -999.000,9
           NA,    P03E,     33,   1,-999.0,      13,  2,19850403,1617,  28.5867, -124.5067,  4285,  287.000,    8.088,   33.989,2,   33.995,2, -999.000,9,  139.400,2,   35.910,2,   26.530,2,    0.000,2,    1.900,2, -999.000,9, -999.000,9, -999.000,9, -999.000,9, -999.000,9
           NA,    P03E,     33,   1,-999.0,      14,  2,19850403,1617,  28.5867, -124.5067,  4285,  336.900,    7.316,   34.036,2,   34.044,2, -999.000,9,  100.500,2,   48.110,2,   31.630,2,    0.000,2,    2.260,2, -999.000,9, -999.000,9, -999.000,9, -999.000,9, -999.000,9
           NA,    P03E,     33,   1,-999.0,      15,  2,19850403,1617,  28.5867, -124.5067,  4285,  397.800,    6.630,   34.080,2,   34.083,2, -999.000,9,   68.000,2,   59.230,2,   35.740,2,    0.000,2,    2.570,2, -999.000,9, -999.000,9, -999.000,9, -999.000,9, -999.000,9
           NA,    P03E,     33,   1,-999.0,      16,  2,19850403,1617,  28.5867, -124.5067,  4285,  458.100,    6.087,   34.129,2,   34.126,2, -999.000,9,   43.000,2,   69.800,2,   38.810,2,    0.000,2,    2.800,2, -999.000,9, -999.000,9, -999.000,9, -999.000,9, -999.000,9
           NA,    P03E,     33,   1,-999.0,      17,  2,19850403,1617,  28.5867, -124.5067,  4285,  528.500,    5.562,   34.166,2,   34.170,2, -999.000,9,   28.600,2,   80.400,2,   40.980,2,    0.000,2,    2.960,2, -999.000,9, -999.000,9, -999.000,9, -999.000,9, -999.000,9
           NA,    P03E,     33,   1,-999.0,      18,  2,19850403,1617,  28.5867, -124.5067,  4285,  608.900,    5.031,   34.250,2,   34.251,2, -999.000,9,   16.000,2,   93.510,2,   42.970,2,    0.010,2,    3.110,2, -999.000,9, -999.000,9, -999.000,9, -999.000,9, -999.000,9
           NA,    P03E,     33,   1,-999.0,      19,  2,19850403,1617,  28.5867, -124.5067,  4285,  709.700,    4.704,   34.342,2,   34.344,2, -999.000,9,   13.000,2,  102.830,2,   43.980,2,    0.000,2,    3.170,2, -999.000,9, -999.000,9, -999.000,9, -999.000,9, -999.000,9
           NA,    P03E,     33,   1,-999.0,      20,  2,19850403,1617,  28.5867, -124.5067,  4285,  810.400,    4.389,   34.411,2,   34.412,2, -999.000,9,   16.100,2,  109.670,2,   44.250,2,    0.000,2,    3.180,2, -999.000,9, -999.000,9, -999.000,9, -999.000,9, -999.000,9
           NA,    P03E,     33,   1,-999.0,      21,  2,19850403,1617,  28.5867, -124.5067,  4285,  910.500,    4.104,   34.450,2,   34.451,2, -999.000,9,   21.800,2,  116.140,2,   44.570,2,    0.000,2,    3.170,2, -999.000,9, -999.000,9, -999.000,9, -999.000,9, -999.000,9
           NA,    P03E,     33,   1,-999.0,      22,  2,19850403,1617,  28.5867, -124.5067,  4285, 1011.100,    3.851,   34.478,2,   34.479,2, -999.000,9,   26.500,2,  122.030,2,   44.570,2,    0.000,2,    3.170,2, -999.000,9, -999.000,9, -999.000,9, -999.000,9, -999.000,9
           NA,    P03E,     33,   1,-999.0,      23,  2,19850403,1617,  28.5867, -124.5067,  4285, 1111.900,    3.592,   34.503,2,   34.504,2, -999.000,9,   32.200,2,  127.350,2,   44.360,2,    0.000,2,    3.130,2, -999.000,9, -999.000,9, -999.000,9, -999.000,9, -999.000,9
           NA,    P03E,     33,   1,-999.0,      24,  2,19850403,1617,  28.5867, -124.5067,  4285, 1264.100,    3.250,   34.530,2,   34.531,2, -999.000,9,   40.500,2,  136.350,2,   44.210,2,    0.000,2,    3.100,2, -999.000,9, -999.000,9, -999.000,9, -999.000,9, -999.000,9
           NA,    P03E,     33,   1,-999.0,      25,  2,19850403,1617,  28.5867, -124.5067,  4285, 1415.500,    2.921,   34.555,2,   34.557,2, -999.000,9,   49.100,2,  145.180,2,   43.830,2,    0.000,2,    3.070,2, -999.000,9, -999.000,9, -999.000,9, -999.000,9, -999.000,9
           NA,    P03E,     33,   1,-999.0,      26,  2,19850403,1617,  28.5867, -124.5067,  4285, 1617.900,    2.592,   34.580,2,   34.577,2, -999.000,9,   58.300,2,  154.410,2,   43.260,2,    0.000,2,    3.020,2, -999.000,9, -999.000,9, -999.000,9, -999.000,9, -999.000,9
           NA,    P03E,     33,   1,-999.0,      27,  2,19850403,1617,  28.5867, -124.5067,  4285, 1820.000,    2.294,   34.604,2,   34.603,2, -999.000,9,   71.200,2,  160.930,2,   42.570,2,    0.000,2,    2.940,2, -999.000,9, -999.000,9, -999.000,9, -999.000,9, -999.000,9
           NA,    P03E,     33,   1,-999.0,      28,  2,19850403,1617,  28.5867, -124.5067,  4285, 2018.800,    2.074,   34.622,2,   34.619,2, -999.000,9,   83.100,2,  165.310,2,   41.730,2,    0.000,2,    2.860,2, -999.000,9, -999.000,9, -999.000,9, -999.000,9, -999.000,9
           NA,    P03E,     33,   1,-999.0,      29,  2,19850403,1617,  28.5867, -124.5067,  4285, 2219.700,    1.942,   34.634,2,   34.633,2, -999.000,9,   91.500,2,  166.870,2,   41.130,2,    0.000,2,    2.830,2, -999.000,9, -999.000,9, -999.000,9, -999.000,9, -999.000,9
           NA,    P03E,     33,   1,-999.0,      30,  2,19850403,1617,  28.5867, -124.5067,  4285, 2522.300,    1.770,   34.650,2,   34.648,2, -999.000,9,  104.300,2,  169.300,2,   40.380,2,    0.000,2,    2.760,2, -999.000,9, -999.000,9, -999.000,9, -999.000,9, -999.000,9
           NA,    P03E,     33,   1,-999.0,      31,  2,19850403,1617,  28.5867, -124.5067,  4285, 2828.500,    1.643,   34.660,2,   34.657,2, -999.000,9,  114.900,2,  172.520,2,   39.550,2,    0.000,2,    2.700,2, -999.000,9, -999.000,9, -999.000,9, -999.000,9, -999.000,9
           NA,    P03E,     33,   1,-999.0,      32,  2,19850403,1617,  28.5867, -124.5067,  4285, 3131.900,    1.558,   34.667,2,   34.667,2, -999.000,9,  122.400,2,  173.980,2,   39.040,2,    0.000,2,    2.650,2, -999.000,9, -999.000,9, -999.000,9, -999.000,9, -999.000,9
           NA,    P03E,     33,   1,-999.0,      33,  2,19850403,1617,  28.5867, -124.5067,  4285, 3437.700,    1.512,   34.674,2,   34.672,2, -999.000,9,  131.200,2,  173.690,2,   38.480,2,    0.000,2,    2.610,2, -999.000,9, -999.000,9, -999.000,9, -999.000,9, -999.000,9
           NA,    P03E,     33,   1,-999.0,      34,  2,19850403,1617,  28.5867, -124.5067,  4285, 3744.300,    1.497,   34.679,2,   34.678,2, -999.000,9,  136.700,2,  171.440,2,   38.120,2,    0.000,2,    2.570,2, -999.000,9, -999.000,9, -999.000,9, -999.000,9, -999.000,9
           NA,    P03E,     33,   1,-999.0,      35,  2,19850403,1617,  28.5867, -124.5067,  4285, 4053.100,    1.517,   34.680,2,   34.678,2, -999.000,9,  139.500,2,  170.950,2,   37.960,2,    0.000,2,    2.560,2, -999.000,9, -999.000,9, -999.000,9, -999.000,9, -999.000,9
           NA,    P03E,     33,   1,-999.0,      36,  2,19850403,1617,  28.5867, -124.5067,  4285, 4396.600,    1.551,   34.681,2,   34.679,2, -999.000,9,  140.200,2,  168.130,2,   37.920,2,    0.000,2,    2.550,2, -999.000,9, -999.000,9, -999.000,9, -999.000,9, -999.000,9