BOTTLE,20203103JOAExport
EXPOCODE,SECT_ID,STNNBR,CASTNO,SAMPNO,BTLNBR,BTLNBR_FLAG_W,DATE,TIME,LATITUDE,LONGITUDE,DEPTH,CTDPRS,CTDTMP,CTDSAL,CTDSAL_FLAG_W,SALNTY,SALNTY_FLAG_W,CTDOXY,CTDOXY_FLAG_W,OXYGEN,OXYGEN_FLAG_W,SILCAT,SILCAT_FLAG_W,NITRAT,NITRAT_FLAG_W,NITRIT,NITRIT_FLAG_W,PHSPHT,PHSPHT_FLAG_W,CFC-11,CFC-11_FLAG_W,CFC-12,CFC-12_FLAG_W,SF6,SF6_FLAG_W,TCARBN,TCARBN_FLAG_W,ALKALI,ALKALI_FLAG_W
,,,,,,,,,,,,,DB,ITS-90,PSS-78,,PSS-78,,UMOL/KG,,UMOL/KG,,UMOL/KG,,UMOL/KG,,UMOL/KG,,UMOL/KG,,PMOL/KG,,PMOL/KG,,FMOL/KG,,UMOL/KG,,UMOL/KG
           NA,    P03W,    267,   2,-999.0,       1,  2,19850516,0120,  24.2417,  152.0650,  5485,    0.000,   25.741,   35.045,2,   35.046,2, -999.000,9,  211.000,2,    0.710,2,    0.080,2,    0.000,2,    0.030,2, -999.000,9, -999.000,9, -999.000,9, -999.000,9, -999.000,9
           NA,    P03W,    267,   2,-999.0,       2,  2,19850516,0120,  24.2417,  152.0650,  5485,   23.400,   23.247,   34.954,2,   34.956,2, -999.000,9,  218.800,2,    0.660,2,    0.080,2,    0.000,2,    0.020,2, -999.000,9, -999.000,9, -999.000,9, -999.000,9, -999.000,9
           NA,    P03W,    267,   2,-999.0,       3,  2,19850516,0120,  24.2417,  152.0650,  5485,   44.200,   22.674,   34.996,2,   34.994,2, -999.000,9,  221.400,2,    0.620,2,    0.080,2,    0.000,2,    0.020,2, -999.000,9, -999.000,9, -999.000,9, -999.000,9, -999.000,9
           NA,    P03W,    267,   2,-999.0,       4,  2,19850516,0120,  24.2417,  152.0650,  5485,   74.000,   20.566,   34.950,2,   34.952,2, -999.000,9,  226.000,2,    1.000,2,    0.080,2,    0.000,2,    0.030,2, -999.000,9, -999.000,9, -999.000,9, -999.000,9, -999.000,9
           NA,    P03W,    267,   2,-999.0,       5,  2,19850516,0120,  24.2417,  152.0650,  5485,  103.400,   19.373,   34.892,2,   34.891,2, -999.000,9,  223.600,2,    1.580,2,    0.400,2,    0.020,2,    0.070,2, -999.000,9, -999.000,9, -999.000,9, -999.000,9, -999.000,9
           NA,    P03W,    267,   2,-999.0,       6,  2,19850516,0120,  24.2417,  152.0650,  5485,  143.600,   18.250,   34.831,2,   34.830,2, -999.000,9,  212.800,2,    2.170,2,    2.350,2,    0.020,2,    0.190,2, -999.000,9, -999.000,9, -999.000,9, -999.000,9, -999.000,9
           NA,    P03W,    267,   2,-999.0,       7,  2,19850516,0120,  24.2417,  152.0650,  5485,  182.700,   17.336,   34.792,2,   34.793,2, -999.000,9,  213.500,2,    2.540,2,    3.430,2,    0.010,2,    0.270,2, -999.000,9, -999.000,9, -999.000,9, -999.000,9, -999.000,9
           NA,    P03W,    267,   2,-999.0,       8,  2,19850516,0120,  24.2417,  152.0650,  5485,  232.700,   16.463,   34.756,2,   34.756,2, -999.000,9,  209.400,2,    4.170,2,    5.350,2,    0.010,2,    0.380,2, -999.000,9, -999.000,9, -999.000,9, -999.000,9, -999.000,9
           NA,    P03W,    267,   2,-999.0,       9,  2,19850516,0120,  24.2417,  152.0650,  5485,  282.800,   15.726,   34.714,2,   34.713,2, -999.000,9,  209.900,2,    5.800,2,    6.670,2,    0.000,2,    0.460,2, -999.000,9, -999.000,9, -999.000,9, -999.000,9, -999.000,9
           NA,    P03W,    267,   2,-999.0,      10,  2,19850516,0120,  24.2417,  152.0650,  5485,  331.700,   14.967,   34.644,2,   34.645,2, -999.000,9,  208.200,2,    7.230,2,    7.800,2,    0.000,2,    0.550,2, -999.000,9, -999.000,9, -999.000,9, -999.000,9, -999.000,9
           NA,    P03W,    267,   2,-999.0,      11,  2,19850516,0120,  24.2417,  152.0650,  5485,  382.100,   13.636,   34.520,2,   34.519,2, -999.000,9,  202.900,2,   10.740,2,   10.210,2,    0.000,2,    0.730,2, -999.000,9, -999.000,9, -999.000,9, -999.000,9, -999.000,9
           NA,    P03W,    267,   2,-999.0,      12,  2,19850516,0120,  24.2417,  152.0650,  5485,  441.600,   12.259,   34.404,2,   34.404,2, -999.000,9,  195.300,2,   15.920,2,   13.320,2,    0.000,2,    0.920,2, -999.000,9, -999.000,9, -999.000,9, -999.000,9, -999.000,9
           NA,    P03W,    267,   2,-999.0,      13,  2,19850516,0120,  24.2417,  152.0650,  5485,  502.000,   10.773,   34.289,2,   34.289,2, -999.000,9,  186.900,2,   22.150,2,   16.790,2,    0.000,2,    1.150,2, -999.000,9, -999.000,9, -999.000,9, -999.000,9, -999.000,9
           NA,    P03W,    267,   2,-999.0,      14,  2,19850516,0120,  24.2417,  152.0650,  5485,  561.500,    8.524,   34.141,2,   34.140,2, -999.000,9,  164.000,2,   35.690,2,   23.140,2,    0.000,2,    1.580,2, -999.000,9, -999.000,9, -999.000,9, -999.000,9, -999.000,9
           NA,    P03W,    267,   2,-999.0,      15,  2,19850516,0120,  24.2417,  152.0650,  5485,  642.200,    7.256,   34.087,2,   34.087,2, -999.000,9,  143.100,2,   47.770,2,   27.380,2,    0.000,2,    1.870,2, -999.000,9, -999.000,9, -999.000,9, -999.000,9, -999.000,9
           NA,    P03W,    267,   2,-999.0,      16,  2,19850516,0120,  24.2417,  152.0650,  5485,  723.900,    5.827,   34.085,2,   34.085,2, -999.000,9,  105.000,2,   68.410,2,   33.650,2,    0.000,2,    2.280,2, -999.000,9, -999.000,9, -999.000,9, -999.000,9, -999.000,9
           NA,    P03W,    267,   2,-999.0,      17,  2,19850516,0120,  24.2417,  152.0650,  5485,  804.200,    4.994,   34.136,2,   34.136,2, -999.000,9,   76.600,2,   85.070,2,   37.810,2,    0.000,2,    2.530,2, -999.000,9, -999.000,9, -999.000,9, -999.000,9, -999.000,9
           NA,    P03W,    267,   2,-999.0,      18,  2,19850516,0120,  24.2417,  152.0650,  5485,  904.500,    4.327,   34.226,2,   34.223,2, -999.000,9,   52.700,2,  102.130,2,   40.950,2,    0.000,2,    2.710,2, -999.000,9, -999.000,9, -999.000,9, -999.000,9, -999.000,9
           NA,    P03W,    267,   2,-999.0,      39,  2,19850516,0120,  24.2417,  152.0650,  5485, 1054.100,    3.676,   34.373,2,   34.373,2, -999.000,9,   45.300,2,  118.980,2,   42.630,2,    0.000,2,    2.820,2, -999.000,9, -999.000,9, -999.000,9, -999.000,9, -999.000,9
           NA,    P03W,    267,   2,-999.0,      20,  2,19850516,0120,  24.2417,  152.0650,  5485, 1204.400,    3.205,   34.445,2,   34.445,2, -999.000,9,   48.100,2,  130.600,2,   42.840,2,    0.000,2,    2.830,2, -999.000,9, -999.000,9, -999.000,9, -999.000,9, -999.000,9
           NA,    P03W,    267,   2,-999.0,      21,  2,19850516,0120,  24.2417,  152.0650,  5485, 1405.800,    2.717,   34.518,2,   34.517,2, -999.000,9,   64.100,2,  139.920,2,   41.770,2,    0.000,2,    2.770,2, -999.000,9, -999.000,9, -999.000,9, -999.000,9, -999.000,9
           NA,    P03W,    267,   2,-999.0,      22,  2,19850516,0120,  24.2417,  152.0650,  5485, 1607.300,    2.311,   34.561,2,   34.561,2, -999.000,9,   77.200,2,  148.620,2,   41.540,2,    0.000,2,    2.730,2, -999.000,9, -999.000,9, -999.000,9, -999.000,9, -999.000,9
           NA,    P03W,    267,   2,-999.0,      23,  2,19850516,0120,  24.2417,  152.0650,  5485, 1809.300,    2.064,   34.591,2,   34.591,2, -999.000,9,   88.300,2,  152.080,2,   40.860,2,    0.000,2,    2.690,2, -999.000,9, -999.000,9, -999.000,9, -999.000,9, -999.000,9
           NA,    P03W,    267,   2,-999.0,      24,  2,19850516,0120,  24.2417,  152.0650,  5485, 2011.400,    1.875,   34.615,2,   34.615,2, -999.000,9,  102.000,2,  153.660,2,   40.030,2,    0.000,2,    2.630,2, -999.000,9, -999.000,9, -999.000,9, -999.000,9, -999.000,9
           NA,    P03W,    267,   2,-999.0,      37,  2,19850516,0120,  24.2417,  152.0650,  5485, 2211.800,    1.757,   34.631,2,   34.631,2, -999.000,9,  112.800,2,  152.530,2,   39.360,2,    0.000,2,    2.580,2, -999.000,9, -999.000,9, -999.000,9, -999.000,9, -999.000,9
           NA,    P03W,    267,   2,-999.0,      26,  2,19850516,0120,  24.2417,  152.0650,  5485, 2411.600,    1.681,   34.642,2,   34.643,2, -999.000,9,  119.600,2,  152.020,2,   38.800,2,    0.000,2,    2.560,2, -999.000,9, -999.000,9, -999.000,9, -999.000,9, -999.000,9
           NA,    P03W,    267,   2,-999.0,      27,  2,19850516,0120,  24.2417,  152.0650,  5485, 2713.300,    1.598,   34.654,2,   34.654,2, -999.000,9,  130.100,2,  151.310,2,   38.250,2,    0.000,2,    2.500,2, -999.000,9, -999.000,9, -999.000,9, -999.000,9, -999.000,9
           NA,    P03W,    267,   2,-999.0,      28,  2,19850516,0120,  24.2417,  152.0650,  5485, 3019.200,    1.535,   34.664,2,   34.664,2, -999.000,9,  137.900,2,  149.760,2,   37.690,2,    0.000,2,    2.460,2, -999.000,9, -999.000,9, -999.000,9, -999.000,9, -999.000,9
           NA,    P03W,    267,   2,-999.0,      29,  2,19850516,0120,  24.2417,  152.0650,  5485, 3337.500,    1.491,   34.671,2,   34.670,2, -999.000,9,  144.700,2,  148.630,2,   37.250,2,    0.000,2,    2.440,2, -999.000,9, -999.000,9, -999.000,9, -999.000,9, -999.000,9
           NA,    P03W,    267,   2,-999.0,      30,  2,19850516,0120,  24.2417,  152.0650,  5485, 3646.000,    1.462,   34.677,2,   34.677,2, -999.000,9,  150.500,2,  146.460,2,   36.860,2,    0.000,2,    2.410,2, -999.000,9, -999.000,9, -999.000,9, -999.000,9, -999.000,9
           NA,    P03W,    267,   2,-999.0,      31,  2,19850516,0120,  24.2417,  152.0650,  5485, 3952.300,    1.445,   34.681,2,   34.681,2, -999.000,9,  156.600,2,  145.340,2,   36.420,2,    0.000,2,    2.370,2, -999.000,9, -999.000,9, -999.000,9, -999.000,9, -999.000,9
           NA,    P03W,    267,   2,-999.0,      32,  2,19850516,0120,  24.2417,  152.0650,  5485, 4258.900,    1.439,   34.685,2,   34.685,2, -999.000,9,  162.200,2,  143.380,2,   35.920,2,    0.000,2,    2.350,2, -999.000,9, -999.000,9, -999.000,9, -999.000,9, -999.000,9
           NA,    P03W,    267,   2,-999.0,      33,  2,19850516,0120,  24.2417,  152.0650,  5485, 4566.300,    1.449,   34.687,2,   34.686,2, -999.000,9,  166.000,2,  140.380,2,   35.700,2,    0.000,2,    2.330,2, -999.000,9, -999.000,9, -999.000,9, -999.000,9, -999.000,9
           NA,    P03W,    267,   2,-999.0,      34,  2,19850516,0120,  24.2417,  152.0650,  5485, 4873.700,    1.471,   34.688,2,   34.689,2, -999.000,9,  168.500,2,  138.630,2,   34.990,2,    0.000,2,    2.330,2, -999.000,9, -999.000,9, -999.000,9, -999.000,9, -999.000,9
           NA,    P03W,    267,   2,-999.0,      35,  2,19850516,0120,  24.2417,  152.0650,  5485, 5181.900,    1.493,   34.690,2,   34.690,2, -999.000,9,  172.400,2,  136.050,2,   35.300,2,    0.000,2,    2.300,2, -999.000,9, -999.000,9, -999.000,9, -999.000,9, -999.000,9
           NA,    P03W,    267,   2,-999.0,      36,  2,19850516,0120,  24.2417,  152.0650,  5485, 5572.000,    1.506,   34.693,2,   34.694,2, -999.000,9,  176.700,2,  132.010,2,   34.910,2,    0.000,2,    2.280,2, -999.000,9, -999.000,9, -999.000,9, -999.000,9, -999.000,9