BOTTLE,20203103JOAExport
EXPOCODE,SECT_ID,STNNBR,CASTNO,SAMPNO,BTLNBR,BTLNBR_FLAG_W,DATE,TIME,LATITUDE,LONGITUDE,DEPTH,CTDPRS,CTDTMP,CTDSAL,CTDSAL_FLAG_W,SALNTY,SALNTY_FLAG_W,CTDOXY,CTDOXY_FLAG_W,OXYGEN,OXYGEN_FLAG_W,SILCAT,SILCAT_FLAG_W,NITRAT,NITRAT_FLAG_W,NITRIT,NITRIT_FLAG_W,PHSPHT,PHSPHT_FLAG_W,CFC-11,CFC-11_FLAG_W,CFC-12,CFC-12_FLAG_W,SF6,SF6_FLAG_W,TCARBN,TCARBN_FLAG_W,ALKALI,ALKALI_FLAG_W
,,,,,,,,,,,,,DB,ITS-90,PSS-78,,PSS-78,,UMOL/KG,,UMOL/KG,,UMOL/KG,,UMOL/KG,,UMOL/KG,,UMOL/KG,,PMOL/KG,,PMOL/KG,,FMOL/KG,,UMOL/KG,,UMOL/KG
           NA,    P03E,    122,   3,-999.0,       1,  2,19850419,0053,  24.2417, -159.0083,  4645,    2.200,   22.998,   35.270,2,   35.274,2, -999.000,9,  218.100,2,    0.610,2,    0.050,2,    0.000,2,    0.070,2,    1.641,2,    0.831,2, -999.000,9, -999.000,9, -999.000,9
           NA,    P03E,    122,   3,-999.0,       2,  2,19850419,0053,  24.2417, -159.0083,  4645,   24.400,   22.962,   35.269,2,   35.274,2, -999.000,9,  218.100,2,    0.580,2,    0.050,2,    0.000,2,    0.070,2, -999.000,9, -999.000,9, -999.000,9, -999.000,9, -999.000,9
           NA,    P03E,    122,   3,-999.0,       3,  2,19850419,0053,  24.2417, -159.0083,  4645,   43.800,   22.929,   35.267,2,   35.270,2, -999.000,9,  218.100,2,    0.540,2,    0.050,2,    0.000,2,    0.070,2,    1.641,2,    0.862,2, -999.000,9, -999.000,9, -999.000,9
           NA,    P03E,    122,   3,-999.0,       4,  2,19850419,0053,  24.2417, -159.0083,  4645,   73.800,   22.921,   35.267,2,   35.269,2, -999.000,9,  217.300,2,    0.500,2,    0.050,2,    0.000,2,    0.070,2, -999.000,9, -999.000,9, -999.000,9, -999.000,9, -999.000,9
           NA,    P03E,    122,   3,-999.0,       5,  2,19850419,0053,  24.2417, -159.0083,  4645,  103.700,   22.834,   35.264,2,   35.270,2, -999.000,9,  216.200,2,    0.460,2,    0.050,2,    0.000,2,    0.070,2,    1.634,2,    0.845,2, -999.000,9, -999.000,9, -999.000,9
           NA,    P03E,    122,   3,-999.0,       6,  2,19850419,0053,  24.2417, -159.0083,  4645,  144.100,   21.722,   35.262,2,   35.264,2, -999.000,9,  205.700,2,    0.790,2,    0.720,2,    0.130,2,    0.120,2, -999.000,9, -999.000,9, -999.000,9, -999.000,9, -999.000,9
           NA,    P03E,    122,   3,-999.0,       7,  2,19850419,0053,  24.2417, -159.0083,  4645,  184.700,   19.808,   35.040,2,   35.047,2, -999.000,9,  190.700,2,    1.840,2,    2.720,2,    0.030,2,    0.260,2,    1.685,2,    0.858,2, -999.000,9, -999.000,9, -999.000,9
           NA,    P03E,    122,   3,-999.0,       8,  2,19850419,0053,  24.2417, -159.0083,  4645,  225.900,   17.481,   34.817,2,   34.807,2, -999.000,9,  199.900,2,    3.620,2,    4.230,2,    0.010,2,    0.350,2,    1.797,2,    0.891,2, -999.000,9, -999.000,9, -999.000,9
           NA,    P03E,    122,   3,-999.0,       9,  2,19850419,0053,  24.2417, -159.0083,  4645,  258.700,   15.225,   34.595,2,   34.600,2, -999.000,9,  200.200,2,    5.760,2,    6.770,2,    0.000,2,    0.520,2,    1.798,2,    0.902,2, -999.000,9, -999.000,9, -999.000,9
           NA,    P03E,    122,   3,-999.0,      10,  2,19850419,0053,  24.2417, -159.0083,  4645,  306.600,   13.664,   34.460,2,   34.465,2, -999.000,9,  212.200,2,    7.710,2,    8.350,2,    0.000,2,    0.610,2,    1.917,2,    0.939,2, -999.000,9, -999.000,9, -999.000,9
           NA,    P03E,    122,   3,-999.0,      11,  2,19850419,0053,  24.2417, -159.0083,  4645,  346.300,   12.012,   34.291,2,   34.284,2, -999.000,9,  216.500,2,   10.940,2,   10.950,2,    0.000,2,    0.780,2,    1.912,2,    0.921,2, -999.000,9, -999.000,9, -999.000,9
           NA,    P03E,    122,   3,-999.0,      12,  2,19850419,0053,  24.2417, -159.0083,  4645,  395.600,   10.957,   34.215,2,   34.214,2, -999.000,9,  214.600,2,   14.340,2,   13.270,2,    0.000,2,    0.940,2,    1.805,2,    0.865,2, -999.000,9, -999.000,9, -999.000,9
           NA,    P03E,    122,   3,-999.0,      13,  2,19850419,0053,  24.2417, -159.0083,  4645,  457.600,    9.257,   34.113,2,   34.110,2, -999.000,9,  195.500,2,   23.900,2,   18.640,2,    0.000,2,    1.310,2,    1.282,2,    0.636,2, -999.000,9, -999.000,9, -999.000,9
           NA,    P03E,    122,   3,-999.0,      14,  2,19850419,0053,  24.2417, -159.0083,  4645,  518.300,    7.677,   34.041,2,   34.043,2, -999.000,9,  162.100,2,   37.450,2,   24.640,2,    0.000,2,    1.720,2,    0.737,2,    0.386,2, -999.000,9, -999.000,9, -999.000,9
           NA,    P03E,    122,   3,-999.0,      15,  2,19850419,0053,  24.2417, -159.0083,  4645,  579.000,    6.627,   34.029,2,   34.029,2, -999.000,9,  121.900,2,   52.280,2,   30.420,2,    0.000,2,    2.140,2,    0.334,6,    0.183,6, -999.000,9, -999.000,9, -999.000,9
           NA,    P03E,    122,   3,-999.0,      16,  2,19850419,0053,  24.2417, -159.0083,  4645,  649.600,    5.708,   34.048,2,   34.048,2, -999.000,9,   82.000,2,   68.420,2,   35.740,2,    0.000,2,    2.530,2,    0.119,6,    0.074,6, -999.000,9, -999.000,9, -999.000,9
           NA,    P03E,    122,   3,-999.0,      38,  2,19850419,0053,  24.2417, -159.0083,  4645,  729.600,    4.908,   34.136,2,   34.137,2, -999.000,9,   52.400,2,   86.610,2,   39.620,2,    0.000,2,    2.810,2,    0.050,6,    0.027,6, -999.000,9, -999.000,9, -999.000,9
           NA,    P03E,    122,   3,-999.0,      18,  2,19850419,0053,  24.2417, -159.0083,  4645,  811.200,    4.460,   34.292,2,   34.294,2, -999.000,9,   34.200,2,  101.010,2,   41.810,2,    0.000,2,    2.980,2,    0.024,2,   -0.003,2, -999.000,9, -999.000,9, -999.000,9
           NA,    P03E,    122,   3,-999.0,      19,  2,19850419,0053,  24.2417, -159.0083,  4645,  911.500,    4.137,   34.376,2,   34.372,2, -999.000,9,   35.200,2,  110.310,2,   42.410,2,    0.000,2,    3.010,2,    0.004,2,   -0.001,2, -999.000,9, -999.000,9, -999.000,9
           NA,    P03E,    122,   3,-999.0,      20,  2,19850419,0053,  24.2417, -159.0083,  4645, 1012.800,    3.875,   34.433,2,   34.433,2, -999.000,9,   42.300,2,  115.930,2,   42.210,2,    0.000,2,    3.000,2,   -0.001,2,   -0.004,2, -999.000,9, -999.000,9, -999.000,9
           NA,    P03E,    122,   3,-999.0,      21,  2,19850419,0053,  24.2417, -159.0083,  4645, 1113.500,    3.566,   34.478,2,   34.478,2, -999.000,9,   48.900,2,  121.750,2,   42.160,2,    0.000,2,    3.000,2,   -0.001,2,   -0.004,2, -999.000,9, -999.000,9, -999.000,9
           NA,    P03E,    122,   3,-999.0,      39,  2,19850419,0053,  24.2417, -159.0083,  4645, 1265.200,    3.267,   34.516,2,   34.517,2, -999.000,9,   57.700,2,  128.310,2,   41.960,2,    0.000,2,    2.950,2,    0.012,2,   -0.003,2, -999.000,9, -999.000,9, -999.000,9
           NA,    P03E,    122,   3,-999.0,      23,  2,19850419,0053,  24.2417, -159.0083,  4645, 1415.700,    2.970,   34.543,2,   34.543,2, -999.000,9,   65.100,2,  135.260,2,   41.660,2,    0.000,2,    2.930,2,    0.001,2,   -0.005,2, -999.000,9, -999.000,9, -999.000,9
           NA,    P03E,    122,   3,-999.0,      24,  2,19850419,0053,  24.2417, -159.0083,  4645, 1618.300,    2.577,   34.579,2,   34.581,2, -999.000,9,   76.000,2,  144.850,2,   41.160,2,    0.000,2,    2.880,2,    0.001,2,   -0.003,2, -999.000,9, -999.000,9, -999.000,9
           NA,    P03E,    122,   3,-999.0,      25,  2,19850419,0053,  24.2417, -159.0083,  4645, 1819.600,    2.306,   34.599,2,   34.600,2, -999.000,9,   82.800,2,  151.090,2,   40.770,2,    0.000,2,    2.840,2, -999.000,9, -999.000,9, -999.000,9, -999.000,9, -999.000,9
           NA,    P03E,    122,   3,-999.0,      26,  2,19850419,0053,  24.2417, -159.0083,  4645, 2018.600,    2.099,   34.615,2,   34.615,2, -999.000,9,   90.200,2,  154.720,2,   40.170,2,    0.000,2,    2.810,2, -999.000,9, -999.000,9, -999.000,9, -999.000,9, -999.000,9
           NA,    P03E,    122,   3,-999.0,      27,  2,19850419,0053,  24.2417, -159.0083,  4645, 2214.700,    1.929,   34.625,2,   34.625,2, -999.000,9,   93.400,2,  160.420,2,   40.070,2,    0.000,2,    2.780,2, -999.000,9, -999.000,9, -999.000,9, -999.000,9, -999.000,9
           NA,    P03E,    122,   3,-999.0,      28,  2,19850419,0053,  24.2417, -159.0083,  4645, 2416.000,    1.800,   34.637,2,   34.637,2, -999.000,9,  104.300,2,  160.480,2,   39.480,2,    0.000,2,    2.740,2, -999.000,9, -999.000,9, -999.000,9, -999.000,9, -999.000,9
           NA,    P03E,    122,   3,-999.0,      29,  2,19850419,0053,  24.2417, -159.0083,  4645, 2621.800,    1.685,   34.649,2,   34.649,2, -999.000,9,  111.700,2,  163.180,2,   39.030,2,    0.000,2,    2.690,2, -999.000,9, -999.000,9, -999.000,9, -999.000,9, -999.000,9
           NA,    P03E,    122,   3,-999.0,      30,  2,19850419,0053,  24.2417, -159.0083,  4645, 2877.100,    1.581,   34.660,2,   34.662,2, -999.000,9,  123.000,2,  162.860,2,   38.290,2,    0.000,2,    2.640,2, -999.000,9, -999.000,9, -999.000,9, -999.000,9, -999.000,9
           NA,    P03E,    122,   3,-999.0,      31,  2,19850419,0053,  24.2417, -159.0083,  4645, 3134.400,    1.515,   34.669,2,   34.669,2, -999.000,9,  132.200,2,  161.230,2,   37.660,2,    0.000,2,    2.590,2, -999.000,9, -999.000,9, -999.000,9, -999.000,9, -999.000,9
           NA,    P03E,    122,   3,-999.0,      32,  2,19850419,0053,  24.2417, -159.0083,  4645, 3443.800,    1.482,   34.674,2,   34.674,2, -999.000,9,  139.500,2,  159.420,2,   37.220,2,    0.000,2,    2.550,2, -999.000,9, -999.000,9, -999.000,9, -999.000,9, -999.000,9
           NA,    P03E,    122,   3,-999.0,      37,  2,19850419,0053,  24.2417, -159.0083,  4645, 3751.400,    1.455,   34.680,2,   34.679,2, -999.000,9,  146.900,2,  157.040,2,   36.730,2,    0.000,2,    2.510,2, -999.000,9, -999.000,9, -999.000,9, -999.000,9, -999.000,9
           NA,    P03E,    122,   3,-999.0,      34,  2,19850419,0053,  24.2417, -159.0083,  4645, 4057.000,    1.461,   34.682,2,   34.683,2, -999.000,9,  150.100,2,  155.240,2,   36.530,2,    0.000,2,    2.490,2, -999.000,9, -999.000,9, -999.000,9, -999.000,9, -999.000,9
           NA,    P03E,    122,   3,-999.0,      35,  2,19850419,0053,  24.2417, -159.0083,  4645, 4363.800,    1.482,   34.684,2,   34.684,2, -999.000,9,  153.500,2,  153.810,2,   36.290,2,    0.000,2,    2.500,2, -999.000,9, -999.000,9, -999.000,9, -999.000,9, -999.000,9
           NA,    P03E,    122,   3,-999.0,      36,  2,19850419,0053,  24.2417, -159.0083,  4645, 4684.000,    1.512,   34.685,2,   34.684,2, -999.000,9,  154.600,2,  152.940,2,   36.240,2,    0.000,2,    2.480,2, -999.000,9, -999.000,9, -999.000,9, -999.000,9, -999.000,9
           NA,    P03E,    120,   1,-999.0,       1,  2,19850418,1530,  24.2617, -158.2700,  4567,    0.700,   22.820,   35.290,2,   35.293,2, -999.000,9,  215.000,2,    0.980,2,    0.050,2,    0.000,2,    0.060,2, -999.000,9, -999.000,9, -999.000,9, -999.000,9, -999.000,9
           NA,    P03E,    120,   1,-999.0,       2,  2,19850418,1530,  24.2617, -158.2700,  4567,   23.200,   22.730,   35.312,2,   35.304,2, -999.000,9,  217.600,2,    0.980,2,    0.050,2,    0.000,2,    0.060,2, -999.000,9, -999.000,9, -999.000,9, -999.000,9, -999.000,9
           NA,    P03E,    120,   1,-999.0,       3,  2,19850418,1530,  24.2617, -158.2700,  4567,   42.900,   22.351,   35.363,2,   35.365,2, -999.000,9,  219.300,2,    0.880,2,    0.050,2,    0.000,2,    0.050,2, -999.000,9, -999.000,9, -999.000,9, -999.000,9, -999.000,9
           NA,    P03E,    120,   1,-999.0,       4,  2,19850418,1530,  24.2617, -158.2700,  4567,   72.500,   22.252,   35.359,2,   35.361,2, -999.000,9,  218.400,2,    0.880,2,    0.050,2,    0.000,2,    0.050,2, -999.000,9, -999.000,9, -999.000,9, -999.000,9, -999.000,9
           NA,    P03E,    120,   1,-999.0,       5,  2,19850418,1530,  24.2617, -158.2700,  4567,  102.400,   22.149,   35.355,2,   35.358,2, -999.000,9,  217.100,2,    0.780,2,    0.040,2,    0.000,2,    0.050,2, -999.000,9, -999.000,9, -999.000,9, -999.000,9, -999.000,9
           NA,    P03E,    120,   1,-999.0,       6,  2,19850418,1530,  24.2617, -158.2700,  4567,  143.000,   20.697,   35.180,2,   35.183,2, -999.000,9,  201.300,2,    1.470,2,    1.310,2,    0.050,2,    0.160,2, -999.000,9, -999.000,9, -999.000,9, -999.000,9, -999.000,9
           NA,    P03E,    120,   1,-999.0,       7,  2,19850418,1530,  24.2617, -158.2700,  4567,  183.900,   18.452,   34.930,2,   34.925,2, -999.000,9,  198.200,2,    2.740,2,    3.050,2,    0.020,2,    0.270,2, -999.000,9, -999.000,9, -999.000,9, -999.000,9, -999.000,9
           NA,    P03E,    120,   1,-999.0,       8,  2,19850418,1530,  24.2617, -158.2700,  4567,  224.500,   16.552,   34.732,2,   34.728,2, -999.000,9,  200.300,2,    4.110,2,    4.920,2,    0.010,2,    0.400,2, -999.000,9, -999.000,9, -999.000,9, -999.000,9, -999.000,9
           NA,    P03E,    120,   1,-999.0,       9,  2,19850418,1530,  24.2617, -158.2700,  4567,  264.200,   14.563,   34.520,2,   34.514,2, -999.000,9,  208.100,2,    5.870,2,    6.740,2,    0.000,2,    0.520,2, -999.000,9, -999.000,9, -999.000,9, -999.000,9, -999.000,9
           NA,    P03E,    120,   1,-999.0,      10,  2,19850418,1530,  24.2617, -158.2700,  4567,  304.600,   13.276,   34.383,2,   34.382,2, -999.000,9,  209.400,2,    8.210,2,    8.590,2,    0.000,2,    0.640,2, -999.000,9, -999.000,9, -999.000,9, -999.000,9, -999.000,9
           NA,    P03E,    120,   1,-999.0,      11,  2,19850418,1530,  24.2617, -158.2700,  4567,  345.300,   11.672,   34.234,2,   34.233,2, -999.000,9,  203.700,2,   12.220,2,   12.220,2,    0.000,2,    0.890,2, -999.000,9, -999.000,9, -999.000,9, -999.000,9, -999.000,9
           NA,    P03E,    120,   1,-999.0,      12,  2,19850418,1530,  24.2617, -158.2700,  4567,  395.600,   10.322,   34.155,2,   34.156,2, -999.000,9,  194.500,2,   18.190,2,   16.130,2,    0.000,2,    1.140,2, -999.000,9, -999.000,9, -999.000,9, -999.000,9, -999.000,9
           NA,    P03E,    120,   1,-999.0,      13,  2,19850418,1530,  24.2617, -158.2700,  4567,  455.900,    8.790,   34.104,2,   34.112,2, -999.000,9,  174.900,2,   29.040,2,   21.320,2,    0.000,2,    1.510,2, -999.000,9, -999.000,9, -999.000,9, -999.000,9, -999.000,9
           NA,    P03E,    120,   1,-999.0,      14,  2,19850418,1530,  24.2617, -158.2700,  4567,  516.700,    7.682,   34.085,2,   34.084,2, -999.000,9,  128.800,2,   41.750,2,   27.480,2,    0.000,2,    1.980,2, -999.000,9, -999.000,9, -999.000,9, -999.000,9, -999.000,9
           NA,    P03E,    120,   1,-999.0,      16,  2,19850418,1530,  24.2617, -158.2700,  4567,  642.500,    5.653,   34.123,2,   34.123,2, -999.000,9,   64.400,2,   72.650,2,   37.160,2,    0.000,2,    2.640,2, -999.000,9, -999.000,9, -999.000,9, -999.000,9, -999.000,9
           NA,    P03E,    120,   1,-999.0,      38,  2,19850418,1530,  24.2617, -158.2700,  4567,  720.000,    5.298,   34.236,2,   34.237,2, -999.000,9,   37.400,2,   83.990,2,   40.090,2,    0.000,2,    2.870,2,    0.027,2,    0.012,2, -999.000,9, -999.000,9, -999.000,9
           NA,    P03E,    120,   1,-999.0,      18,  2,19850418,1530,  24.2617, -158.2700,  4567,  803.500,    4.735,   34.339,2,   34.337,2, -999.000,9,   33.500,2,   96.790,2,   41.650,2,    0.000,2,    2.970,2, -999.000,9, -999.000,9, -999.000,9, -999.000,9, -999.000,9
           NA,    P03E,    120,   1,-999.0,      19,  2,19850418,1530,  24.2617, -158.2700,  4567,  905.600,    4.408,   34.413,2,   34.413,2, -999.000,9,   39.100,2,  102.550,2,   41.840,2,    0.000,2,    2.980,2, -999.000,9, -999.000,9, -999.000,9, -999.000,9, -999.000,9
           NA,    P03E,    120,   1,-999.0,      20,  2,19850418,1530,  24.2617, -158.2700,  4567, 1007.300,    3.978,   34.440,2,   34.440,2, -999.000,9,   43.000,2,  111.540,2,   42.130,2,    0.000,2,    2.980,2, -999.000,9, -999.000,9, -999.000,9, -999.000,9, -999.000,9
           NA,    P03E,    120,   1,-999.0,      21,  2,19850418,1530,  24.2617, -158.2700,  4567, 1107.900,    3.748,   34.472,2,   34.471,2, -999.000,9,   49.100,2,  117.020,2,   42.040,2,    0.000,2,    2.960,2, -999.000,9, -999.000,9, -999.000,9, -999.000,9, -999.000,9
           NA,    P03E,    120,   1,-999.0,      39,  2,19850418,1530,  24.2617, -158.2700,  4567, 1259.200,    3.357,   34.513,2,   34.514,2, -999.000,9,   56.100,2,  126.590,2,   42.030,2,    0.000,2,    2.940,2,    0.012,2, -999.000,9, -999.000,9, -999.000,9, -999.000,9
           NA,    P03E,    120,   1,-999.0,      23,  2,19850418,1530,  24.2617, -158.2700,  4567, 1406.500,    3.059,   34.538,2,   34.538,2, -999.000,9,   62.600,2,  134.020,2,   41.640,2,    0.000,2,    2.910,2, -999.000,9, -999.000,9, -999.000,9, -999.000,9, -999.000,9
           NA,    P03E,    120,   1,-999.0,      24,  2,19850418,1530,  24.2617, -158.2700,  4567, 1612.000,    2.648,   34.573,2,   34.573,2, -999.000,9,   73.400,2,  142.810,2,   41.150,2,    0.000,2,    2.870,2, -999.000,9, -999.000,9, -999.000,9, -999.000,9, -999.000,9
           NA,    P03E,    120,   1,-999.0,      25,  2,19850418,1530,  24.2617, -158.2700,  4567, 1814.500,    2.353,   34.594,2,   34.594,2, -999.000,9,   81.700,2,  148.580,2,   40.660,2,    0.000,2,    2.840,2, -999.000,9, -999.000,9, -999.000,9, -999.000,9, -999.000,9
           NA,    P03E,    120,   1,-999.0,      26,  2,19850418,1530,  24.2617, -158.2700,  4567, 2016.000,    2.127,   34.611,2,   34.611,2, -999.000,9,   88.700,2,  154.340,2,   40.470,2,    0.000,2,    2.800,2, -999.000,9, -999.000,9, -999.000,9, -999.000,9, -999.000,9
           NA,    P03E,    120,   1,-999.0,      27,  2,19850418,1530,  24.2617, -158.2700,  4567, 2218.600,    1.937,   34.627,2,   34.628,2, -999.000,9,   97.300,2,  159.620,2,   39.980,2,    0.000,2,    2.730,2, -999.000,9, -999.000,9, -999.000,9, -999.000,9, -999.000,9
           NA,    P03E,    120,   1,-999.0,      28,  2,19850418,1530,  24.2617, -158.2700,  4567, 2422.500,    1.799,   34.642,2,   34.642,2, -999.000,9,  107.300,2,  162.940,2,   39.290,2,    0.000,2,    2.690,2, -999.000,9, -999.000,9, -999.000,9, -999.000,9, -999.000,9
           NA,    P03E,    120,   1,-999.0,      29,  2,19850418,1530,  24.2617, -158.2700,  4567, 2629.100,    1.690,   34.649,2,   34.649,2, -999.000,9,  111.200,2,  165.680,2,   38.800,2,    0.000,2,    2.680,2, -999.000,9, -999.000,9, -999.000,9, -999.000,9, -999.000,9
           NA,    P03E,    120,   1,-999.0,      30,  2,19850418,1530,  24.2617, -158.2700,  4567, 2883.300,    1.598,   34.659,2,   34.659,2, -999.000,9,  119.500,2,  163.920,2,   38.610,2,    0.000,2,    2.630,2, -999.000,9, -999.000,9, -999.000,9, -999.000,9, -999.000,9
           NA,    P03E,    120,   1,-999.0,      31,  2,19850418,1530,  24.2617, -158.2700,  4567, 3137.700,    1.526,   34.668,2,   34.666,2, -999.000,9,  132.100,2,  162.160,2,   37.730,2,    0.000,2,    2.560,2, -999.000,9, -999.000,9, -999.000,9, -999.000,9, -999.000,9
           NA,    P03E,    120,   1,-999.0,      32,  2,19850418,1530,  24.2617, -158.2700,  4567, 3442.700,    1.497,   34.673,2,   34.673,2, -999.000,9,  137.700,2,  161.280,2,   37.340,2,    0.000,2,    2.530,2,    0.010,2, -999.000,9, -999.000,9, -999.000,9, -999.000,9
           NA,    P03E,    120,   1,-999.0,      37,  2,19850418,1530,  24.2617, -158.2700,  4567, 3747.900,    1.471,   34.679,2,   34.677,2, -999.000,9,  144.700,2,  158.340,2,   36.750,2,    0.000,2,    2.500,2, -999.000,9, -999.000,9, -999.000,9, -999.000,9, -999.000,9
           NA,    P03E,    120,   1,-999.0,      34,  2,19850418,1530,  24.2617, -158.2700,  4567, 4053.300,    1.469,   34.681,2,   34.681,2, -999.000,9,  150.300,2,  155.020,2,   36.160,2,    0.000,2,    2.470,2,    0.005,6,   -0.002,6, -999.000,9, -999.000,9, -999.000,9
           NA,    P03E,    120,   1,-999.0,      35,  2,19850418,1530,  24.2617, -158.2700,  4567, 4357.600,    1.486,   34.683,2,   34.683,2, -999.000,9,  153.400,2,  154.140,2,   36.260,2,    0.000,2,    2.460,2, -999.000,9,   -0.001,2, -999.000,9, -999.000,9, -999.000,9
           NA,    P03E,    120,   1,-999.0,      36,  2,19850418,1530,  24.2617, -158.2700,  4567, 4613.700,    1.512,   34.683,2,   34.683,2, -999.000,9,  152.100,2,  153.360,2,   36.260,2,    0.000,2,    2.440,2,    0.012,2,   -0.001,2, -999.000,9, -999.000,9, -999.000,9