BOTTLE,20203103JOAExport
EXPOCODE,SECT_ID,STNNBR,CASTNO,SAMPNO,BTLNBR,BTLNBR_FLAG_W,DATE,TIME,LATITUDE,LONGITUDE,DEPTH,CTDPRS,CTDTMP,CTDSAL,CTDSAL_FLAG_W,SALNTY,SALNTY_FLAG_W,CTDOXY,CTDOXY_FLAG_W,OXYGEN,OXYGEN_FLAG_W,SILCAT,SILCAT_FLAG_W,NITRAT,NITRAT_FLAG_W,NITRIT,NITRIT_FLAG_W,PHSPHT,PHSPHT_FLAG_W,CFC-11,CFC-11_FLAG_W,CFC-12,CFC-12_FLAG_W,SF6,SF6_FLAG_W,TCARBN,TCARBN_FLAG_W,ALKALI,ALKALI_FLAG_W
,,,,,,,,,,,,,DB,ITS-90,PSS-78,,PSS-78,,UMOL/KG,,UMOL/KG,,UMOL/KG,,UMOL/KG,,UMOL/KG,,UMOL/KG,,PMOL/KG,,PMOL/KG,,FMOL/KG,,UMOL/KG,,UMOL/KG
           NA,    P03E,     98,   1,-999.0,       1,  2,19850415,0505,  24.2383, -150.6317,  5353,    9.400,   22.091,   35.329,2,   35.330,2, -999.000,9,  221.000,2,    0.160,2,    0.040,2,    0.000,2,    0.080,2,    1.728,6,    0.886,6, -999.000,9, -999.000,9, -999.000,9
           NA,    P03E,     98,   1,-999.0,       2,  2,19850415,0505,  24.2383, -150.6317,  5353,   23.800,   22.066,   35.333,2,   35.331,2, -999.000,9,  221.000,2,    0.130,2,    0.040,2,    0.000,2,    0.080,2, -999.000,9, -999.000,9, -999.000,9, -999.000,9, -999.000,9
           NA,    P03E,     98,   1,-999.0,       3,  2,19850415,0505,  24.2383, -150.6317,  5353,   43.500,   21.795,   35.360,2,   35.360,2, -999.000,9,  222.700,2,    0.110,2,    0.040,2,    0.000,2,    0.060,2,    1.742,2,    0.898,2, -999.000,9, -999.000,9, -999.000,9
           NA,    P03E,     98,   1,-999.0,       4,  2,19850415,0505,  24.2383, -150.6317,  5353,   73.100,   21.459,   35.387,2,   35.387,2, -999.000,9,  223.600,2,    0.080,2,    0.040,2,    0.000,2,    0.050,2, -999.000,9, -999.000,9, -999.000,9, -999.000,9, -999.000,9
           NA,    P03E,     98,   1,-999.0,       5,  2,19850415,0505,  24.2383, -150.6317,  5353,  103.200,   21.184,   35.393,2,   35.391,2, -999.000,9,  223.100,2,    0.240,2,    0.040,2,    0.000,2,    0.050,2,    1.762,2,    0.912,2, -999.000,9, -999.000,9, -999.000,9
           NA,    P03E,     98,   1,-999.0,       6,  2,19850415,0505,  24.2383, -150.6317,  5353,  143.500,   20.693,   35.368,2,   35.369,2, -999.000,9,  221.800,2,    0.400,2,    0.020,2,    0.030,2,    0.050,2, -999.000,9, -999.000,9, -999.000,9, -999.000,9, -999.000,9
           NA,    P03E,     98,   1,-999.0,       7,  2,19850415,0505,  24.2383, -150.6317,  5353,  184.100,   18.277,   34.912,2,   34.897,2, -999.000,9,  199.500,2,    2.070,2,    2.870,2,    0.010,2,    0.290,2,    1.808,2,    0.904,2, -999.000,9, -999.000,9, -999.000,9
           NA,    P03E,     98,   1,-999.0,       8,  2,19850415,0505,  24.2383, -150.6317,  5353,  224.700,   16.525,   34.731,2,   34.709,2, -999.000,9,  203.400,2,    3.360,2,    4.300,2,    0.000,2,    0.380,2, -999.000,9, -999.000,9, -999.000,9, -999.000,9, -999.000,9
           NA,    P03E,     98,   1,-999.0,       9,  2,19850415,0505,  24.2383, -150.6317,  5353,  265.000,   14.568,   34.510,2,   34.502,2, -999.000,9,  208.600,2,    5.030,2,    6.180,2,    0.000,2,    0.520,2,    1.904,2,    0.942,2, -999.000,9, -999.000,9, -999.000,9
           NA,    P03E,     98,   1,-999.0,      10,  2,19850415,0505,  24.2383, -150.6317,  5353,  305.400,   13.146,   34.376,2,   34.383,2, -999.000,9,  210.700,2,    7.260,2,    8.700,2,    0.000,2,    0.660,2,    1.918,6,    0.931,6, -999.000,9, -999.000,9, -999.000,9
           NA,    P03E,     98,   1,-999.0,      11,  2,19850415,0505,  24.2383, -150.6317,  5353,  345.700,   11.614,   34.241,2,   34.238,2, -999.000,9,  213.300,2,   11.010,2,   11.610,2,    0.000,2,    0.850,2,    1.839,6,    0.894,6, -999.000,9, -999.000,9, -999.000,9
           NA,    P03E,     98,   1,-999.0,      12,  2,19850415,0505,  24.2383, -150.6317,  5353,  396.500,   10.135,   34.163,2,   34.162,2, -999.000,9,  210.200,2,   16.640,2,   15.310,2,    0.000,2,    1.080,2,    1.677,6,    0.813,2, -999.000,9, -999.000,9, -999.000,9
           NA,    P03E,     98,   1,-999.0,      13,  2,19850415,0505,  24.2383, -150.6317,  5353,  456.700,    8.521,   34.080,2,   34.082,2, -999.000,9,  179.200,2,   28.130,2,   21.340,2,    0.000,2,    1.480,2,    1.000,6,    0.503,6, -999.000,9, -999.000,9, -999.000,9
           NA,    P03E,     98,   1,-999.0,      14,  2,19850415,0505,  24.2383, -150.6317,  5353,  517.200,    7.295,   34.049,2,   34.049,2, -999.000,9,  134.900,2,   43.040,2,   28.040,2,    0.000,2,    1.970,2,    0.452,2,    0.235,6, -999.000,9, -999.000,9, -999.000,9
           NA,    P03E,     98,   1,-999.0,      15,  2,19850415,0505,  24.2383, -150.6317,  5353,  577.500,    6.383,   34.049,2,   34.049,2, -999.000,9,  101.800,2,   56.300,2,   32.820,2,    0.000,2,    2.310,2,    0.221,6,    0.125,6, -999.000,9, -999.000,9, -999.000,9
           NA,    P03E,     98,   1,-999.0,      16,  2,19850415,0505,  24.2383, -150.6317,  5353,  678.100,    5.128,   34.117,2,   34.115,2, -999.000,9,   58.300,2,   81.060,2,   38.890,2,    0.000,2,    2.740,2,    0.053,2,    0.029,2, -999.000,9, -999.000,9, -999.000,9
           NA,    P03E,     98,   1,-999.0,      17,  2,19850415,0505,  24.2383, -150.6317,  5353,  809.100,    4.460,   34.283,2,   34.281,2, -999.000,9,   27.800,2,  100.650,2,   42.460,2,    0.000,2,    3.010,2,    0.022,2,   -0.002,2, -999.000,9, -999.000,9, -999.000,9
           NA,    P03E,     98,   1,-999.0,      18,  2,19850415,0505,  24.2383, -150.6317,  5353,  960.300,    4.016,   34.422,2,   34.421,2, -999.000,9,   37.400,2,  111.270,2,   42.660,2,    0.000,2,    3.000,2,   -0.007,2,   -0.002,2, -999.000,9, -999.000,9, -999.000,9
           NA,    P03E,     98,   1,-999.0,      19,  2,19850415,0505,  24.2383, -150.6317,  5353, 1111.800,    3.666,   34.491,2,   34.490,2, -999.000,9,   48.200,2,  117.860,2,   42.350,2,    0.000,2,    2.990,2,    0.013,2,    0.000,2, -999.000,9, -999.000,9, -999.000,9
           NA,    P03E,     98,   1,-999.0,      20,  2,19850415,0505,  24.2383, -150.6317,  5353, 1263.400,    3.316,   34.526,2,   34.524,2, -999.000,9,   56.500,2,  126.640,2,   42.100,2,    0.000,2,    2.940,2, -999.000,9, -999.000,9, -999.000,9, -999.000,9, -999.000,9
           NA,    P03E,     98,   1,-999.0,      21,  2,19850415,0505,  24.2383, -150.6317,  5353, 1414.900,    2.963,   34.549,2,   34.548,2, -999.000,9,   65.200,2,  135.260,2,   41.740,2,    0.000,2,    2.920,2, -999.000,9,   -0.003,2, -999.000,9, -999.000,9, -999.000,9
           NA,    P03E,     98,   1,-999.0,      22,  2,19850415,0505,  24.2383, -150.6317,  5353, 1616.800,    2.572,   34.579,2,   34.578,2, -999.000,9,   74.800,2,  144.510,2,   41.340,2,    0.000,2,    2.870,2, -999.000,9, -999.000,9, -999.000,9, -999.000,9, -999.000,9
           NA,    P03E,     98,   1,-999.0,      23,  2,19850415,0505,  24.2383, -150.6317,  5353, 1818.900,    2.313,   34.599,2,   34.598,2, -999.000,9,   80.800,2,  151.240,2,   41.030,2,    0.000,2,    2.850,2,   -0.002,2,   -0.002,2, -999.000,9, -999.000,9, -999.000,9
           NA,    P03E,     98,   1,-999.0,      24,  2,19850415,0505,  24.2383, -150.6317,  5353, 2021.500,    2.075,   34.616,2,   34.615,2, -999.000,9,   88.700,2,  159.800,2,   40.630,2,    0.000,2,    2.780,2, -999.000,9, -999.000,9, -999.000,9, -999.000,9, -999.000,9
           NA,    P03E,     98,   1,-999.0,      25,  2,19850415,0505,  24.2383, -150.6317,  5353, 2224.400,    1.919,   34.630,2,   34.629,2, -999.000,9,   96.900,2,  162.800,2,   40.130,2,    0.000,2,    2.760,2,   -0.009,2,   -0.003,2, -999.000,9, -999.000,9, -999.000,9
           NA,    P03E,     98,   1,-999.0,      26,  2,19850415,0505,  24.2383, -150.6317,  5353, 2527.400,    1.744,   34.646,2,   34.646,2, -999.000,9,  107.800,2,  164.790,2,   39.230,2,    0.000,2,    2.690,2, -999.000,9, -999.000,9, -999.000,9, -999.000,9, -999.000,9
           NA,    P03E,     98,   1,-999.0,      27,  2,19850415,0505,  24.2383, -150.6317,  5353, 2829.300,    1.627,   34.658,2,   34.659,2, -999.000,9,  118.200,2,  164.590,2,   38.630,2,    0.000,2,    2.640,2, -999.000,9, -999.000,9, -999.000,9, -999.000,9, -999.000,9
           NA,    P03E,     98,   1,-999.0,      28,  2,19850415,0505,  24.2383, -150.6317,  5353, 3131.600,    1.550,   34.668,2,   34.667,2, -999.000,9,  127.300,2,  164.780,2,   38.080,2,    0.000,2,    2.600,2, -999.000,9, -999.000,9, -999.000,9, -999.000,9, -999.000,9
           NA,    P03E,     98,   1,-999.0,      29,  2,19850415,0505,  24.2383, -150.6317,  5353, 3428.300,    1.504,   34.675,2,   34.674,2, -999.000,9,  136.400,2,  163.380,2,   37.580,2,    0.000,2,    2.550,2, -999.000,9,    0.000,2, -999.000,9, -999.000,9, -999.000,9
           NA,    P03E,     98,   1,-999.0,      30,  2,19850415,0505,  24.2383, -150.6317,  5353, 3730.700,    1.482,   34.679,2,   34.678,2, -999.000,9,  141.700,2,  161.170,2,   37.090,2,    0.000,2,    2.510,2, -999.000,9, -999.000,9, -999.000,9, -999.000,9, -999.000,9
           NA,    P03E,     98,   1,-999.0,      31,  2,19850415,0505,  24.2383, -150.6317,  5353, 4034.300,    1.477,   34.682,2,   34.681,2, -999.000,9,  147.300,2,  157.960,2,   36.690,2,    0.000,2,    2.480,2, -999.000,9, -999.000,9, -999.000,9, -999.000,9, -999.000,9
           NA,    P03E,     98,   1,-999.0,      32,  2,19850415,0505,  24.2383, -150.6317,  5353, 4341.100,    1.478,   34.685,2,   34.684,2, -999.000,9,  152.500,2,  154.770,2,   36.340,2,    0.000,2,    2.450,2, -999.000,9, -999.000,9, -999.000,9, -999.000,9, -999.000,9
           NA,    P03E,     98,   1,-999.0,      37,  2,19850415,0505,  24.2383, -150.6317,  5353, 4651.100,    1.475,   34.688,2,   34.687,2, -999.000,9,  160.800,2,  151.180,2,   35.900,2,    0.000,2,    2.420,2,   -0.009,2,   -0.002,2, -999.000,9, -999.000,9, -999.000,9
           NA,    P03E,     98,   1,-999.0,      34,  2,19850415,0505,  24.2383, -150.6317,  5353, 4958.500,    1.473,   34.690,2,   34.689,2, -999.000,9,  166.400,2,  146.010,2,   35.410,2,    0.000,2,    2.370,2,   -0.003,2,    0.003,2, -999.000,9, -999.000,9, -999.000,9
           NA,    P03E,     98,   1,-999.0,      35,  2,19850415,0505,  24.2383, -150.6317,  5353, 5215.000,    1.492,   34.692,2,   34.690,2, -999.000,9,  168.200,2,  143.230,2,   35.310,2,    0.000,2,    2.370,2,   -0.003,2,    0.003,2, -999.000,9, -999.000,9, -999.000,9
           NA,    P03E,     98,   1,-999.0,      36,  2,19850415,0505,  24.2383, -150.6317,  5353, 5422.600,    1.517,   34.691,2,   34.690,2, -999.000,9,  167.300,2,  143.020,2,   35.260,2,    0.000,2,    2.360,2,    0.010,2, -999.000,9, -999.000,9, -999.000,9, -999.000,9