BOTTLE,20203103JOAExport
EXPOCODE,SECT_ID,STNNBR,CASTNO,SAMPNO,BTLNBR,BTLNBR_FLAG_W,DATE,TIME,LATITUDE,LONGITUDE,DEPTH,CTDPRS,CTDTMP,CTDSAL,CTDSAL_FLAG_W,SALNTY,SALNTY_FLAG_W,CTDOXY,CTDOXY_FLAG_W,OXYGEN,OXYGEN_FLAG_W,SILCAT,SILCAT_FLAG_W,NITRAT,NITRAT_FLAG_W,NITRIT,NITRIT_FLAG_W,PHSPHT,PHSPHT_FLAG_W,CFC-11,CFC-11_FLAG_W,CFC-12,CFC-12_FLAG_W,SF6,SF6_FLAG_W,TCARBN,TCARBN_FLAG_W,ALKALI,ALKALI_FLAG_W
,,,,,,,,,,,,,DB,ITS-90,PSS-78,,PSS-78,,UMOL/KG,,UMOL/KG,,UMOL/KG,,UMOL/KG,,UMOL/KG,,UMOL/KG,,PMOL/KG,,PMOL/KG,,FMOL/KG,,UMOL/KG,,UMOL/KG
           NA,    P03W,    329,   1,-999.0,       4,  2,19850524,2006,  24.2083,  133.9883,  4936,    0.400,   23.581,   34.801,2,   34.804,2, -999.000,9,  217.800,2,    1.620,2,    0.000,2,    0.000,2,    0.030,2,    1.657,2,    0.878,2, -999.000,9, -999.000,9, -999.000,9
           NA,    P03W,    329,   1,-999.0,      38,  2,19850524,2006,  24.2083,  133.9883,  4936,   25.700,   22.898,   34.803,2,   34.803,2, -999.000,9,  221.700,2,    1.620,2,    0.000,2,    0.000,2,    0.030,2,    1.709,2,    0.892,2, -999.000,9, -999.000,9, -999.000,9
           NA,    P03W,    329,   1,-999.0,       3,  2,19850524,2006,  24.2083,  133.9883,  4936,   45.900,   20.520,   34.851,2,   34.852,2, -999.000,9,  226.200,2,    1.610,2,    0.000,2,    0.000,2,    0.040,2,    1.773,2,    0.905,2, -999.000,9, -999.000,9, -999.000,9
           NA,    P03W,    329,   1,-999.0,       1,  2,19850524,2006,  24.2083,  133.9883,  4936,   66.000,   19.659,   34.838,2,   34.837,2, -999.000,9,  226.600,2,    1.610,2,    0.000,2,    0.000,2,    0.060,2,    1.809,2,    0.929,2, -999.000,9, -999.000,9, -999.000,9
           NA,    P03W,    329,   1,-999.0,       5,  2,19850524,2006,  24.2083,  133.9883,  4936,  106.000,   18.742,   34.833,2,   34.833,2, -999.000,9,  219.700,2,    2.220,2,    1.470,2,    0.110,2,    0.150,2,    1.850,2,    0.947,2, -999.000,9, -999.000,9, -999.000,9
           NA,    P03W,    329,   1,-999.0,       6,  2,19850524,2006,  24.2083,  133.9883,  4936,  144.900,   18.378,   34.846,2,   34.845,2, -999.000,9,  219.300,2,    2.630,2,    2.060,2,    0.030,2,    0.160,2,    1.872,2, -999.000,9, -999.000,9, -999.000,9, -999.000,9
           NA,    P03W,    329,   1,-999.0,       7,  2,19850524,2006,  24.2083,  133.9883,  4936,  185.000,   17.994,   34.837,2,   34.838,2, -999.000,9,  211.100,2,    3.250,2,    3.160,2,    0.020,2,    0.240,2,    1.792,2,    0.962,2, -999.000,9, -999.000,9, -999.000,9
           NA,    P03W,    329,   1,-999.0,       8,  2,19850524,2006,  24.2083,  133.9883,  4936,  235.000,   17.467,   34.811,2,   34.811,2, -999.000,9,  204.900,2,    3.860,2,    4.480,2,    0.020,2,    0.330,2,    1.742,2,    0.955,2, -999.000,9, -999.000,9, -999.000,9
           NA,    P03W,    329,   1,-999.0,       9,  2,19850524,2006,  24.2083,  133.9883,  4936,  286.100,   16.371,   34.747,2,   34.743,2, -999.000,9,  199.900,2,    6.340,2,    6.880,2,    0.010,2,    0.480,2,    1.604,2,    0.905,2, -999.000,9, -999.000,9, -999.000,9
           NA,    P03W,    329,   1,-999.0,      10,  2,19850524,2006,  24.2083,  133.9883,  4936,  336.500,   15.461,   34.682,2,   34.682,2, -999.000,9,  196.600,2,    8.400,2,    8.390,2,    0.010,2,    0.580,2, -999.000,9, -999.000,9, -999.000,9, -999.000,9, -999.000,9
           NA,    P03W,    329,   1,-999.0,      11,  2,19850524,2006,  24.2083,  133.9883,  4936,  386.800,   14.107,   34.570,2,   34.563,2, -999.000,9,  184.200,2,   13.560,2,   11.740,2,    0.010,2,    0.830,2,    1.254,2,    0.631,2, -999.000,9, -999.000,9, -999.000,9
           NA,    P03W,    329,   1,-999.0,      12,  2,19850524,2006,  24.2083,  133.9883,  4936,  447.100,   12.803,   34.465,2,   34.463,2, -999.000,9,  180.300,2,   17.690,2,   14.100,2,    0.010,2,    0.990,2, -999.000,9, -999.000,9, -999.000,9, -999.000,9, -999.000,9
           NA,    P03W,    329,   1,-999.0,      13,  2,19850524,2006,  24.2083,  133.9883,  4936,  508.200,   11.126,   34.348,2,   34.349,2, -999.000,9,  170.800,2,   25.740,2,   17.910,2,    0.010,2,    1.250,2,    0.993,2,    0.492,2, -999.000,9, -999.000,9, -999.000,9
           NA,    P03W,    329,   1,-999.0,      14,  2,19850524,2006,  24.2083,  133.9883,  4936,  568.800,    9.289,   34.230,2,   34.231,2, -999.000,9,  155.800,2,   36.480,2,   22.510,2,    0.010,2,    1.590,2,    0.771,2,    0.376,2, -999.000,9, -999.000,9, -999.000,9
           NA,    P03W,    329,   1,-999.0,      15,  2,19850524,2006,  24.2083,  133.9883,  4936,  649.300,    7.174,   34.160,2,   34.161,2, -999.000,9,  119.500,2,   56.340,2,   29.420,2, -999.000,5,    2.100,2,    0.454,2,    0.225,2, -999.000,9, -999.000,9, -999.000,9
           NA,    P03W,    329,   1,-999.0,      16,  2,19850524,2006,  24.2083,  133.9883,  4936,  728.600,    6.045,   34.186,2,   34.187,2, -999.000,9,   89.600,2,   72.080,2,   34.210,2, -999.000,5,    2.470,2,    0.199,2,    0.100,2, -999.000,9, -999.000,9, -999.000,9
           NA,    P03W,    329,   1,-999.0,      17,  2,19850524,2006,  24.2083,  133.9883,  4936,  809.200,    5.451,   34.217,2,   34.216,2, -999.000,9,   76.900,2,   81.820,2,   36.660,2, -999.000,5,    2.620,2,    0.128,2,    0.071,2, -999.000,9, -999.000,9, -999.000,9
           NA,    P03W,    329,   1,-999.0,      18,  2,19850524,2006,  24.2083,  133.9883,  4936,  909.200,    4.608,   34.299,2,   34.302,2, -999.000,9,   61.600,2,   98.640,2,   39.240,2, -999.000,5,    2.780,2,    0.040,2,    0.024,2, -999.000,9, -999.000,9, -999.000,9
           NA,    P03W,    329,   1,-999.0,      23,  2,19850524,2006,  24.2083,  133.9883,  4936, 1061.300,    3.752,   34.391,2,   34.391,2, -999.000,9,   59.200,2,  116.980,2,   40.550,2,    0.000,2,    2.890,2, -999.000,9, -999.000,9, -999.000,9, -999.000,9, -999.000,9
           NA,    P03W,    329,   1,-999.0,      20,  2,19850524,2006,  24.2083,  133.9883,  4936, 1213.000,    3.207,   34.448,2,   34.447,2, -999.000,9,   64.700,2,  128.250,2,   40.910,2,    0.000,2,    2.900,2,    0.004,2,    0.015,2, -999.000,9, -999.000,9, -999.000,9
           NA,    P03W,    329,   1,-999.0,      21,  2,19850524,2006,  24.2083,  133.9883,  4936, 1414.700,    2.724,   34.517,2,   34.517,2, -999.000,9,   79.300,2,  136.400,2,   40.350,2,    0.000,2,    2.820,2, -999.000,9, -999.000,9, -999.000,9, -999.000,9, -999.000,9
           NA,    P03W,    329,   1,-999.0,      22,  2,19850524,2006,  24.2083,  133.9883,  4936, 1614.100,    2.451,   34.555,2,   34.555,2, -999.000,9,   91.900,2,  139.720,2,   39.530,2,    0.000,2,    2.760,2,    0.001,2, -999.000,9, -999.000,9, -999.000,9, -999.000,9
           NA,    P03W,    329,   1,-999.0,      39,  2,19850524,2006,  24.2083,  133.9883,  4936, 1805.600,    2.168,   34.587,2,   34.586,2, -999.000,9,  104.300,2,  142.420,2,   39.220,2,    0.000,2,    2.730,2, -999.000,9, -999.000,9, -999.000,9, -999.000,9, -999.000,9
           NA,    P03W,    329,   1,-999.0,      24,  2,19850524,2006,  24.2083,  133.9883,  4936, 1990.800,    1.969,   34.611,2,   34.612,2, -999.000,9,  116.300,2,  144.280,2,   38.410,2,    0.000,2,    2.650,2,    0.003,2, -999.000,9, -999.000,9, -999.000,9, -999.000,9
           NA,    P03W,    329,   1,-999.0,      40,  2,19850524,2006,  24.2083,  133.9883,  4936, 2169.300,    1.870,   34.625,2,   34.625,2, -999.000,9,  122.800,2,  143.830,2,   38.010,2,    0.000,2,    2.640,2, -999.000,9, -999.000,9, -999.000,9, -999.000,9, -999.000,9
           NA,    P03W,    329,   1,-999.0,      26,  2,19850524,2006,  24.2083,  133.9883,  4936, 2338.900,    1.779,   34.637,2,   34.637,2, -999.000,9,  128.000,2,  143.800,2,   37.250,2,    0.000,2,    2.600,2, -999.000,9, -999.000,9, -999.000,9, -999.000,9, -999.000,9
           NA,    P03W,    329,   1,-999.0,      27,  2,19850524,2006,  24.2083,  133.9883,  4936, 2514.800,    1.717,   34.646,2,   34.646,2, -999.000,9,  134.600,2,  142.930,2,   37.350,2,    0.000,2,    2.610,2, -999.000,9, -999.000,9, -999.000,9, -999.000,9, -999.000,9
           NA,    P03W,    329,   1,-999.0,      28,  2,19850524,2006,  24.2083,  133.9883,  4936, 2752.700,    1.650,   34.655,2,   34.656,2, -999.000,9,  139.100,2,  142.690,2,   36.990,2,    0.010,2,    2.550,2,   -0.002,2, -999.000,9, -999.000,9, -999.000,9, -999.000,9
           NA,    P03W,    329,   1,-999.0,      29,  2,19850524,2006,  24.2083,  133.9883,  4936, 2999.100,    1.608,   34.661,2,   34.660,2, -999.000,9,  143.300,2,  142.030,2,   36.800,2,    0.000,2,    2.550,2, -999.000,9, -999.000,9, -999.000,9, -999.000,9, -999.000,9
           NA,    P03W,    329,   1,-999.0,      30,  2,19850524,2006,  24.2083,  133.9883,  4936, 3327.000,    1.564,   34.669,2,   34.669,2, -999.000,9,  148.600,2,  142.210,2,   36.440,2,    0.000,2,    2.510,2,    0.000,2,    0.008,2, -999.000,9, -999.000,9, -999.000,9
           NA,    P03W,    329,   1,-999.0,      31,  2,19850524,2006,  24.2083,  133.9883,  4936, 3631.300,    1.556,   34.673,2,   34.673,2, -999.000,9,  151.900,2,  142.180,2,   36.340,2,    0.000,2,    2.510,2, -999.000,9, -999.000,9, -999.000,9, -999.000,9, -999.000,9
           NA,    P03W,    329,   1,-999.0,      32,  2,19850524,2006,  24.2083,  133.9883,  4936, 3932.300,    1.552,   34.676,2,   34.676,2, -999.000,9, -999.000,5,  142.160,2,   36.290,2,    0.000,2,    2.470,2, -999.000,9, -999.000,9, -999.000,9, -999.000,9, -999.000,9
           NA,    P03W,    329,   1,-999.0,      33,  2,19850524,2006,  24.2083,  133.9883,  4936, 4235.400,    1.568,   34.678,2,   34.679,2, -999.000,9,  154.900,2,  143.390,2,   36.190,2,    0.000,2,    2.470,2, -999.000,9, -999.000,9, -999.000,9, -999.000,9, -999.000,9
           NA,    P03W,    329,   1,-999.0,      34,  2,19850524,2006,  24.2083,  133.9883,  4936, 4530.800,    1.592,   34.679,2,   34.679,2, -999.000,9,  155.400,2,  141.680,2,   36.040,2,    0.000,2,    2.470,2,    0.007,2,    0.011,2, -999.000,9, -999.000,9, -999.000,9
           NA,    P03W,    329,   1,-999.0,      35,  2,19850524,2006,  24.2083,  133.9883,  4936, 4826.900,    1.621,   34.680,2,   34.680,2, -999.000,9,  157.400,2,  141.440,2,   36.140,2,    0.000,2,    2.480,2, -999.000,9, -999.000,9, -999.000,9, -999.000,9, -999.000,9
           NA,    P03W,    329,   1,-999.0,      37,  2,19850524,2006,  24.2083,  133.9883,  4936, 5005.400,    1.641,   34.680,2,   34.680,2, -999.000,9,  155.900,2,  141.410,2,   35.990,2,    0.000,2,    2.470,2, -999.000,9, -999.000,9, -999.000,9, -999.000,9, -999.000,9