BOTTLE,20203103JOAExport
EXPOCODE,SECT_ID,STNNBR,CASTNO,SAMPNO,BTLNBR,BTLNBR_FLAG_W,DATE,TIME,LATITUDE,LONGITUDE,DEPTH,CTDPRS,CTDTMP,CTDSAL,CTDSAL_FLAG_W,SALNTY,SALNTY_FLAG_W,CTDOXY,CTDOXY_FLAG_W,OXYGEN,OXYGEN_FLAG_W,SILCAT,SILCAT_FLAG_W,NITRAT,NITRAT_FLAG_W,NITRIT,NITRIT_FLAG_W,PHSPHT,PHSPHT_FLAG_W,CFC-11,CFC-11_FLAG_W,CFC-12,CFC-12_FLAG_W,SF6,SF6_FLAG_W,TCARBN,TCARBN_FLAG_W,ALKALI,ALKALI_FLAG_W
,,,,,,,,,,,,,DB,ITS-90,PSS-78,,PSS-78,,UMOL/KG,,UMOL/KG,,UMOL/KG,,UMOL/KG,,UMOL/KG,,UMOL/KG,,PMOL/KG,,PMOL/KG,,FMOL/KG,,UMOL/KG,,UMOL/KG
           NA,    P03E,    177,   1,-999.0,       1,  2,19850426,1253,  24.0667, -172.0967,  4678,    0.100,   24.483,   35.271,2,   35.274,2, -999.000,9,  206.300,2,    1.320,2,    0.050,2,    0.000,2,    0.100,2,    1.500,2,    0.782,2, -999.000,9, -999.000,9, -999.000,9
           NA,    P03E,    177,   1,-999.0,       2,  2,19850426,1253,  24.0667, -172.0967,  4678,   20.900,   24.488,   35.272,2,   35.275,2, -999.000,9,  210.700,2,    1.240,2,    0.050,2,    0.000,2,    0.100,2, -999.000,9, -999.000,9, -999.000,9, -999.000,9, -999.000,9
           NA,    P03E,    177,   1,-999.0,       3,  2,19850426,1253,  24.0667, -172.0967,  4678,   41.200,   24.234,   35.294,2,   35.284,2, -999.000,9,  212.400,2,    1.160,2,    0.050,2,    0.000,2,    0.100,2,    1.538,2,    0.793,2, -999.000,9, -999.000,9, -999.000,9
           NA,    P03E,    177,   1,-999.0,       4,  2,19850426,1253,  24.0667, -172.0967,  4678,   71.700,   23.219,   35.338,2,   35.348,2, -999.000,9,  215.400,2,    1.080,2,    0.050,2,    0.000,2,    0.090,2, -999.000,9, -999.000,9, -999.000,9, -999.000,9, -999.000,9
           NA,    P03E,    177,   1,-999.0,       5,  2,19850426,1253,  24.0667, -172.0967,  4678,  101.900,   21.557,   35.166,2,   35.173,2, -999.000,9,  196.200,2,    1.580,2,    0.590,2, -999.000,5,    0.180,2,    1.600,2,    0.828,2, -999.000,9, -999.000,9, -999.000,9
           NA,    P03E,    177,   1,-999.0,       6,  2,19850426,1253,  24.0667, -172.0967,  4678,  142.600,   19.423,   35.014,2,   35.006,2, -999.000,9,  203.900,2,    2.090,2,    1.620,2,    0.040,2,    0.230,2,    1.746,2,    0.877,2, -999.000,9, -999.000,9, -999.000,9
           NA,    P03E,    177,   1,-999.0,       7,  2,19850426,1253,  24.0667, -172.0967,  4678,  183.000,   17.577,   34.834,2,   34.827,2, -999.000,9,  205.200,2,    3.180,2,    3.450,2,    0.020,2,    0.340,2,    1.820,2,    0.909,2, -999.000,9, -999.000,9, -999.000,9
           NA,    P03E,    177,   1,-999.0,       8,  2,19850426,1253,  24.0667, -172.0967,  4678,  223.300,   15.839,   34.686,2,   34.687,2, -999.000,9,  206.000,2,    5.050,2,    5.850,2,    0.010,2,    0.490,2,    1.806,2,    0.900,2, -999.000,9, -999.000,9, -999.000,9
           NA,    P03E,    177,   1,-999.0,       9,  2,19850426,1253,  24.0667, -172.0967,  4678,  263.700,   14.398,   34.565,2,   34.558,2, -999.000,9,  210.300,2,    7.310,2,    7.960,2,    0.010,2,    0.620,2,    1.832,2,    0.881,2, -999.000,9, -999.000,9, -999.000,9
           NA,    P03E,    177,   1,-999.0,      10,  2,19850426,1253,  24.0667, -172.0967,  4678,  303.900,   13.625,   34.495,2,   34.492,2, -999.000,9,  210.300,2,    8.980,2,    9.280,2,    0.010,2,    0.710,2,    1.771,2,    0.865,2, -999.000,9, -999.000,9, -999.000,9
           NA,    P03E,    177,   1,-999.0,      11,  2,19850426,1253,  24.0667, -172.0967,  4678,  354.200,   12.394,   34.383,2,   34.384,2, -999.000,9,  208.900,2,   12.200,2,   11.390,2,    0.010,2,    0.860,2,    1.716,2,    0.851,2, -999.000,9, -999.000,9, -999.000,9
           NA,    P03E,    177,   1,-999.0,      12,  2,19850426,1253,  24.0667, -172.0967,  4678,  404.800,   10.918,   34.241,2,   34.242,2, -999.000,9,  198.400,2,   16.980,2,   14.740,2,    0.010,2,    1.110,2,    1.459,2,    0.714,2, -999.000,9, -999.000,9, -999.000,9
           NA,    P03E,    177,   1,-999.0,      13,  2,19850426,1253,  24.0667, -172.0967,  4678,  455.100,   10.093,   34.196,2,   34.197,2, -999.000,9,  189.700,2,   21.760,2,   17.270,2,    0.000,2,    1.280,2,    1.261,2,    0.618,2, -999.000,9, -999.000,9, -999.000,9
           NA,    P03E,    177,   1,-999.0,      14,  2,19850426,1253,  24.0667, -172.0967,  4678,  515.600,    8.440,   34.116,2,   34.118,2, -999.000,9,  164.000,2,   33.910,2,   23.010,2,    0.000,2,    1.660,2,    0.854,2,    0.427,2, -999.000,9, -999.000,9, -999.000,9
           NA,    P03E,    177,   1,-999.0,      15,  2,19850426,1253,  24.0667, -172.0967,  4678,  576.500,    7.153,   34.078,2,   34.080,2, -999.000,9,  130.100,2,   48.390,2,   28.520,2,    0.000,2,    2.070,2,    0.506,2,    0.252,2, -999.000,9, -999.000,9, -999.000,9
           NA,    P03E,    177,   1,-999.0,      16,  2,19850426,1253,  24.0667, -172.0967,  4678,  637.000,    6.059,   34.091,2,   34.094,2, -999.000,9,   87.400,2,   66.330,2,   34.580,2,    0.000,2,    2.500,2,    0.181,6,    0.096,6, -999.000,9, -999.000,9, -999.000,9
           NA,    P03E,    177,   1,-999.0,      38,  2,19850426,1253,  24.0667, -172.0967,  4678,  707.900,    5.331,   34.152,2,   34.155,2, -999.000,9,   60.400,2,   81.150,2,   38.130,2,    0.000,2,    2.760,2,    0.077,2,    0.037,2, -999.000,9, -999.000,9, -999.000,9
           NA,    P03E,    177,   1,-999.0,      18,  2,19850426,1253,  24.0667, -172.0967,  4678,  807.000,    4.512,   34.240,2, -999.000,5, -999.000,9,   47.400,2,   98.670,2,   40.650,2,    0.000,2,    2.910,2,    0.032,6,    0.017,6, -999.000,9, -999.000,9, -999.000,9
           NA,    P03E,    177,   1,-999.0,      19,  2,19850426,1253,  24.0667, -172.0967,  4678,  904.900,    4.129,   34.332,2,   34.332,2, -999.000,9,   40.400,2,  108.210,2,   41.660,2,    0.000,2,    3.010,2,    0.007,2,   -0.003,2, -999.000,9, -999.000,9, -999.000,9
           NA,    P03E,    177,   1,-999.0,      17,  2,19850426,1253,  24.0667, -172.0967,  4678, 1007.800,    3.805,   34.390,2,   34.389,2, -999.000,9,   40.000,2,  116.010,2,   42.240,2,    0.000,2,    3.020,2,   -0.004,2,   -0.001,2, -999.000,9, -999.000,9, -999.000,9
           NA,    P03E,    177,   1,-999.0,      21,  2,19850426,1253,  24.0667, -172.0967,  4678, 1110.500,    3.473,   34.431,2,   34.433,2, -999.000,9,   43.900,2,  123.990,2,   42.500,2,    0.000,2,    3.020,2, -999.000,9, -999.000,9, -999.000,9, -999.000,9, -999.000,9
           NA,    P03E,    177,   1,-999.0,      39,  2,19850426,1253,  24.0667, -172.0967,  4678, 1252.100,    3.081,   34.496,2,   34.497,2, -999.000,9,   54.800,2,  131.380,2,   42.010,2,    0.000,2,    3.010,2, -999.000,9, -999.000,9, -999.000,9, -999.000,9, -999.000,9
           NA,    P03E,    177,   1,-999.0,      23,  2,19850426,1253,  24.0667, -172.0967,  4678, 1401.800,    2.747,   34.536,2,   34.537,2, -999.000,9,   63.900,2,  138.780,2,   41.630,2,    0.000,2,    2.950,2, -999.000,9, -999.000,9, -999.000,9, -999.000,9, -999.000,9
           NA,    P03E,    177,   1,-999.0,      24,  2,19850426,1253,  24.0667, -172.0967,  4678, 1602.300,    2.456,   34.575,2,   34.577,2, -999.000,9,   77.800,2,  144.420,2,   41.090,2,    0.010,2,    2.900,2, -999.000,9, -999.000,9, -999.000,9, -999.000,9, -999.000,9
           NA,    P03E,    177,   1,-999.0,      25,  2,19850426,1253,  24.0667, -172.0967,  4678, 1795.900,    2.202,   34.597,2,   34.600,2, -999.000,9,   86.500,2,  150.640,2,   40.720,2,    0.000,2,    2.850,2,   -0.004,2,   -0.001,2, -999.000,9, -999.000,9, -999.000,9
           NA,    P03E,    177,   1,-999.0,      26,  2,19850426,1253,  24.0667, -172.0967,  4678, 1993.700,    1.996,   34.615,2,   34.616,2, -999.000,9,   96.500,2,  153.760,2,   39.980,2,    0.000,2,    2.820,2, -999.000,9, -999.000,9, -999.000,9, -999.000,9, -999.000,9
           NA,    P03E,    177,   1,-999.0,      27,  2,19850426,1253,  24.0667, -172.0967,  4678, 2187.900,    1.857,   34.629,2,   34.630,2, -999.000,9,  104.700,2,  155.910,2,   39.340,2,    0.000,2,    2.780,2, -999.000,9, -999.000,9, -999.000,9, -999.000,9, -999.000,9
           NA,    P03E,    177,   1,-999.0,      28,  2,19850426,1253,  24.0667, -172.0967,  4678, 2386.900,    1.754,   34.640,2,   34.641,2, -999.000,9,  112.100,2,  155.920,2,   38.650,2,    0.000,2,    2.740,2, -999.000,9, -999.000,9, -999.000,9, -999.000,9, -999.000,9
           NA,    P03E,    177,   1,-999.0,      29,  2,19850426,1253,  24.0667, -172.0967,  4678, 2570.600,    1.663,   34.649,2,   34.650,2, -999.000,9,  118.200,2,  155.930,2,   38.540,2,    0.000,2,    2.720,2, -999.000,9, -999.000,9, -999.000,9, -999.000,9, -999.000,9
           NA,    P03E,    177,   1,-999.0,      30,  2,19850426,1253,  24.0667, -172.0967,  4678, 2871.300,    1.581,   34.660,2,   34.661,2, -999.000,9,  128.200,2,  154.780,2,   37.960,2,    0.000,2,    2.650,2, -999.000,9, -999.000,9, -999.000,9, -999.000,9, -999.000,9
           NA,    P03E,    177,   1,-999.0,      31,  2,19850426,1253,  24.0667, -172.0967,  4678, 3164.700,    1.521,   34.668,2,   34.669,2, -999.000,9,  136.400,2,  153.820,2,   37.060,2,    0.000,2,    2.610,2,   -0.003,2,   -0.001,2, -999.000,9, -999.000,9, -999.000,9
           NA,    P03E,    177,   1,-999.0,      32,  2,19850426,1253,  24.0667, -172.0967,  4678, 3471.700,    1.477,   34.674,2,   34.675,2, -999.000,9,  144.300,2,  152.480,2,   36.800,2,    0.000,2,    2.570,2, -999.000,9, -999.000,9, -999.000,9, -999.000,9, -999.000,9
           NA,    P03E,    177,   1,-999.0,      37,  2,19850426,1253,  24.0667, -172.0967,  4678, 3768.900,    1.451,   34.679,2,   34.680,2, -999.000,9,  150.300,2,  148.440,2,   36.270,2, -999.000,5,    2.540,2, -999.000,9, -999.000,9, -999.000,9, -999.000,9, -999.000,9
           NA,    P03E,    177,   1,-999.0,      34,  2,19850426,1253,  24.0667, -172.0967,  4678, 4084.400,    1.440,   34.683,2,   34.684,2, -999.000,9,  156.400,2,  144.990,2,   35.700,2, -999.000,5,    2.510,2, -999.000,9, -999.000,9, -999.000,9, -999.000,9, -999.000,9
           NA,    P03E,    177,   1,-999.0,      35,  2,19850426,1253,  24.0667, -172.0967,  4678, 4402.600,    1.436,   34.686,2,   34.686,2, -999.000,9,  162.500,2,  142.500,2,   35.540,2, -999.000,5,    2.470,2, -999.000,9, -999.000,9, -999.000,9, -999.000,9, -999.000,9
           NA,    P03E,    177,   1,-999.0,      36,  2,19850426,1253,  24.0667, -172.0967,  4678, 4728.500,    1.445,   34.689,2,   34.690,2, -999.000,9,  166.900,2,  139.450,2,   35.330,2,    0.000,2,    2.450,2,   -0.003,2,   -0.001,2, -999.000,9, -999.000,9, -999.000,9