BOTTLE,20203103JOAExport
EXPOCODE,SECT_ID,STNNBR,CASTNO,SAMPNO,BTLNBR,BTLNBR_FLAG_W,DATE,TIME,LATITUDE,LONGITUDE,DEPTH,CTDPRS,CTDTMP,CTDSAL,CTDSAL_FLAG_W,SALNTY,SALNTY_FLAG_W,CTDOXY,CTDOXY_FLAG_W,OXYGEN,OXYGEN_FLAG_W,SILCAT,SILCAT_FLAG_W,NITRAT,NITRAT_FLAG_W,NITRIT,NITRIT_FLAG_W,PHSPHT,PHSPHT_FLAG_W,CFC-11,CFC-11_FLAG_W,CFC-12,CFC-12_FLAG_W,SF6,SF6_FLAG_W,TCARBN,TCARBN_FLAG_W,ALKALI,ALKALI_FLAG_W
,,,,,,,,,,,,,DB,ITS-90,PSS-78,,PSS-78,,UMOL/KG,,UMOL/KG,,UMOL/KG,,UMOL/KG,,UMOL/KG,,UMOL/KG,,PMOL/KG,,PMOL/KG,,FMOL/KG,,UMOL/KG,,UMOL/KG
           NA,    P03W,    305,   1,-999.0,       4,  2,19850521,1210,  24.2450,  141.5583,  1290,    1.400,   25.093,   34.957,2,   34.958,2, -999.000,9,  210.900,2,    1.850,2,    0.180,2,    0.000,2,    0.000,2, -999.000,9, -999.000,9, -999.000,9, -999.000,9, -999.000,9
           NA,    P03W,    305,   1,-999.0,      38,  2,19850521,1210,  24.2450,  141.5583,  1290,   19.200,   24.738,   34.952,2,   34.954,2, -999.000,9,  212.800,2,    1.610,2,    0.180,2,    0.000,2,    0.000,2, -999.000,9, -999.000,9, -999.000,9, -999.000,9, -999.000,9
           NA,    P03W,    305,   1,-999.0,       3,  2,19850521,1210,  24.2450,  141.5583,  1290,   39.300,   24.652,   34.952,2,   34.953,2, -999.000,9,  212.600,2,    1.370,2,    0.180,2,    0.000,2,    0.000,2, -999.000,9, -999.000,9, -999.000,9, -999.000,9, -999.000,9
           NA,    P03W,    305,   1,-999.0,       1,  2,19850521,1210,  24.2450,  141.5583,  1290,   58.900,   24.518,   34.951,2,   34.952,2, -999.000,9,  212.600,2,    1.350,2,    0.180,2,    0.000,2,    0.000,2, -999.000,9, -999.000,9, -999.000,9, -999.000,9, -999.000,9
           NA,    P03W,    305,   1,-999.0,       5,  2,19850521,1210,  24.2450,  141.5583,  1290,   89.500,   24.271,   34.954,2,   34.955,2, -999.000,9,  212.700,2,    1.320,2,    0.180,2,    0.000,2,    0.000,2, -999.000,9, -999.000,9, -999.000,9, -999.000,9, -999.000,9
           NA,    P03W,    305,   1,-999.0,       6,  2,19850521,1210,  24.2450,  141.5583,  1290,  120.000,   22.901,   34.940,2,   34.940,2, -999.000,9,  214.500,2,    1.290,2,    0.170,2,    0.000,2,    0.000,2, -999.000,9, -999.000,9, -999.000,9, -999.000,9, -999.000,9
           NA,    P03W,    305,   1,-999.0,       7,  2,19850521,1210,  24.2450,  141.5583,  1290,  160.500,   19.895,   34.893,2,   34.895,2, -999.000,9,  204.300,2,    2.080,2,    2.080,2,    0.020,2,    0.130,2, -999.000,9, -999.000,9, -999.000,9, -999.000,9, -999.000,9
           NA,    P03W,    305,   1,-999.0,       8,  2,19850521,1210,  24.2450,  141.5583,  1290,  200.800,   18.445,   34.844,2,   34.846,2, -999.000,9,  206.200,2,    3.080,2,    3.140,2,    0.010,2,    0.210,2, -999.000,9, -999.000,9, -999.000,9, -999.000,9, -999.000,9
           NA,    P03W,    305,   1,-999.0,       9,  2,19850521,1210,  24.2450,  141.5583,  1290,  240.600,   17.642,   34.807,2,   34.807,2, -999.000,9,  206.100,2,    3.670,2,    4.250,2,    0.010,2,    0.260,2, -999.000,9, -999.000,9, -999.000,9, -999.000,9, -999.000,9
           NA,    P03W,    305,   1,-999.0,      10,  2,19850521,1210,  24.2450,  141.5583,  1290,  280.300,   16.724,   34.765,2,   34.766,2, -999.000,9,  204.600,2,    4.670,2,    5.650,2,    0.010,2,    0.350,2, -999.000,9, -999.000,9, -999.000,9, -999.000,9, -999.000,9
           NA,    P03W,    305,   1,-999.0,      11,  2,19850521,1210,  24.2450,  141.5583,  1290,  330.400,   16.264,   34.741,2,   34.740,2, -999.000,9,  205.800,2,    5.460,2,    6.320,2,    0.010,2,    0.390,2, -999.000,9, -999.000,9, -999.000,9, -999.000,9, -999.000,9
           NA,    P03W,    305,   1,-999.0,      12,  2,19850521,1210,  24.2450,  141.5583,  1290,  381.300,   15.507,   34.677,2,   34.677,2, -999.000,9,  200.100,2,    7.900,2,    7.910,2,    0.000,2,    0.510,2, -999.000,9, -999.000,9, -999.000,9, -999.000,9, -999.000,9
           NA,    P03W,    305,   1,-999.0,      13,  2,19850521,1210,  24.2450,  141.5583,  1290,  431.000,   14.454,   34.592,2,   34.590,2, -999.000,9,  195.100,2,   11.150,2,   10.130,2,    0.000,2,    0.650,2, -999.000,9, -999.000,9, -999.000,9, -999.000,9, -999.000,9
           NA,    P03W,    305,   1,-999.0,      14,  2,19850521,1210,  24.2450,  141.5583,  1290,  481.600,   12.751,   34.456,2,   34.460,2, -999.000,9,  185.600,2,   17.060,2,   13.620,2,    0.000,2,    0.890,2, -999.000,9, -999.000,9, -999.000,9, -999.000,9, -999.000,9
           NA,    P03W,    305,   1,-999.0,      15,  2,19850521,1210,  24.2450,  141.5583,  1290,  541.900,   11.303,   34.359,2,   34.358,2, -999.000,9,  174.800,2,   25.020,2,   17.180,2,    0.000,2,    1.150,2, -999.000,9, -999.000,9, -999.000,9, -999.000,9, -999.000,9
           NA,    P03W,    305,   1,-999.0,      16,  2,19850521,1210,  24.2450,  141.5583,  1290,  602.000,    9.510,   34.248,2,   34.249,2, -999.000,9,  161.100,2,   35.850,2,   21.590,2,    0.000,2,    1.450,2, -999.000,9, -999.000,9, -999.000,9, -999.000,9, -999.000,9
           NA,    P03W,    305,   1,-999.0,      17,  2,19850521,1210,  24.2450,  141.5583,  1290,  662.700,    7.746,   34.168,2,   34.168,2, -999.000,9,  139.800,2,   50.570,2,   26.650,2,    0.000,2,    1.820,2, -999.000,9, -999.000,9, -999.000,9, -999.000,9, -999.000,9
           NA,    P03W,    305,   1,-999.0,      18,  2,19850521,1210,  24.2450,  141.5583,  1290,  743.800,    6.581,   34.144,2,   34.145,2, -999.000,9,  118.400,2,   64.670,2,   30.760,2,    0.000,2,    2.100,2, -999.000,9, -999.000,9, -999.000,9, -999.000,9, -999.000,9
           NA,    P03W,    305,   1,-999.0,      23,  2,19850521,1210,  24.2450,  141.5583,  1290,  823.700,    5.450,   34.180,2,   34.181,2, -999.000,9,   90.300,2,   83.310,2,   35.130,2,    0.000,2,    2.400,2, -999.000,9, -999.000,9, -999.000,9, -999.000,9, -999.000,9
           NA,    P03W,    305,   1,-999.0,      20,  2,19850521,1210,  24.2450,  141.5583,  1290,  903.900,    4.753,   34.214,2,   34.212,2, -999.000,9,   72.400,2,   95.990,2,   38.060,2,    0.000,2,    2.600,2, -999.000,9, -999.000,9, -999.000,9, -999.000,9, -999.000,9
           NA,    P03W,    305,   1,-999.0,      21,  2,19850521,1210,  24.2450,  141.5583,  1290, 1004.000,    4.014,   34.308,2,   34.308,2, -999.000,9,   62.800,2,  113.840,2,   40.030,2,    0.000,2,    2.750,2, -999.000,9, -999.000,9, -999.000,9, -999.000,9, -999.000,9
           NA,    P03W,    305,   1,-999.0,      22,  2,19850521,1210,  24.2450,  141.5583,  1290, 1099.300,    3.656,   34.350,2,   34.349,2, -999.000,9,   55.400,2,  122.210,2,   40.860,2,    0.000,2,    2.810,2, -999.000,9, -999.000,9, -999.000,9, -999.000,9, -999.000,9
           NA,    P03W,    305,   1,-999.0,      39,  2,19850521,1210,  24.2450,  141.5583,  1290, 1197.700,    3.270,   34.401,2,   34.401,2, -999.000,9,   53.600,2,  131.200,2,   41.540,2,    0.000,2,    2.840,2, -999.000,9, -999.000,9, -999.000,9, -999.000,9, -999.000,9
           NA,    P03W,    305,   1,-999.0,      24,  2,19850521,1210,  24.2450,  141.5583,  1290, 1267.400,    3.000,   34.441,2,   34.441,2, -999.000,9,   56.800,2,  137.300,2,   41.640,2,    0.000,2,    2.850,2, -999.000,9, -999.000,9, -999.000,9, -999.000,9, -999.000,9
           NA,    P03W,    303,   1,-999.0,       4,  2,19850521,0906,  24.2400,  141.7600,  2492,    0.400,   25.476,   34.969,2,   34.971,2, -999.000,9,  210.700,2,    1.620,2,    0.060,2,    0.000,2,    0.000,2,    1.477,2,    0.779,2, -999.000,9, -999.000,9, -999.000,9
           NA,    P03W,    303,   1,-999.0,      38,  2,19850521,0906,  24.2400,  141.7600,  2492,   20.300,   24.942,   34.963,2,   34.965,2, -999.000,9,  212.700,2,    1.590,2,    0.060,2,    0.000,2,    0.000,2, -999.000,9, -999.000,9, -999.000,9, -999.000,9, -999.000,9
           NA,    P03W,    303,   1,-999.0,       3,  2,19850521,0906,  24.2400,  141.7600,  2492,   40.900,   24.748,   34.958,2,   34.958,2, -999.000,9,  212.500,2,    1.150,2,    0.060,2,    0.000,2,    0.000,2,    1.481,2,    0.777,2, -999.000,9, -999.000,9, -999.000,9
           NA,    P03W,    303,   1,-999.0,       1,  2,19850521,0906,  24.2400,  141.7600,  2492,   71.400,   22.595,   34.939,2,   34.940,2, -999.000,9,  221.700,2,    1.530,2,    0.060,2,    0.000,2,    0.000,2, -999.000,9, -999.000,9, -999.000,9, -999.000,9, -999.000,9
           NA,    P03W,    303,   1,-999.0,       5,  2,19850521,0906,  24.2400,  141.7600,  2492,  101.700,   20.610,   34.900,2,   34.899,2, -999.000,9,  215.900,2,    1.910,2,    0.400,2,    0.100,2,    0.000,2,    1.681,2,    0.853,2, -999.000,9, -999.000,9, -999.000,9
           NA,    P03W,    303,   1,-999.0,       6,  2,19850521,0906,  24.2400,  141.7600,  2492,  138.500,   19.328,   34.881,2,   34.859,2, -999.000,9,  209.400,2,    2.090,2,    2.060,2,    0.020,2,    0.110,2, -999.000,9, -999.000,9, -999.000,9, -999.000,9, -999.000,9
           NA,    P03W,    303,   1,-999.0,       7,  2,19850521,0906,  24.2400,  141.7600,  2492,  202.100,   17.732,   34.817,2,   34.817,2, -999.000,9,  201.500,2,    3.680,2,    4.330,2,    0.010,2,    0.250,2,    1.718,2,    0.869,2, -999.000,9, -999.000,9, -999.000,9
           NA,    P03W,    303,   1,-999.0,       8,  2,19850521,0906,  24.2400,  141.7600,  2492,  251.600,   16.857,   34.780,2,   34.780,2, -999.000,9,  206.800,2,    4.060,2,    5.200,2,    0.000,2,    0.290,2, -999.000,9, -999.000,9, -999.000,9, -999.000,9, -999.000,9
           NA,    P03W,    303,   1,-999.0,       9,  2,19850521,0906,  24.2400,  141.7600,  2492,  301.900,   15.933,   34.722,2,   34.722,2, -999.000,9,  205.000,2,    6.060,2,    6.700,2,    0.000,2,    0.400,2,    1.674,2,    0.842,2, -999.000,9, -999.000,9, -999.000,9
           NA,    P03W,    303,   1,-999.0,      10,  2,19850521,0906,  24.2400,  141.7600,  2492,  352.400,   15.080,   34.651,2,   34.649,2, -999.000,9,  199.700,2,    8.260,2,    8.530,2,    0.000,2,    0.520,2, -999.000,9, -999.000,9, -999.000,9, -999.000,9, -999.000,9
           NA,    P03W,    303,   1,-999.0,      11,  2,19850521,0906,  24.2400,  141.7600,  2492,  403.400,   13.313,   34.491,2,   34.487,2, -999.000,9,  190.200,2,   13.900,2,   12.200,2,    0.000,2,    0.780,2,    1.305,2,    0.650,2, -999.000,9, -999.000,9, -999.000,9
           NA,    P03W,    303,   1,-999.0,      12,  2,19850521,0906,  24.2400,  141.7600,  2492,  504.500,   10.763,   34.310,2,   34.309,2, -999.000,9,  173.300,2,   26.010,2,   17.890,2,    0.000,2,    1.170,2,    1.033,2,    0.505,2, -999.000,9, -999.000,9, -999.000,9
           NA,    P03W,    303,   1,-999.0,      13,  2,19850521,0906,  24.2400,  141.7600,  2492,  605.200,    8.675,   34.192,2,   34.190,2, -999.000,9,  148.700,2,   40.530,2,   24.190,2,    0.000,2,    1.610,2,    0.696,2,    0.354,2, -999.000,9, -999.000,9, -999.000,9
           NA,    P03W,    303,   1,-999.0,      14,  2,19850521,0906,  24.2400,  141.7600,  2492,  705.700,    6.812,   34.163,2,   34.164,2, -999.000,9,  122.900,2,   63.960,2,   29.830,2,    0.000,2,    2.000,2, -999.000,9, -999.000,9, -999.000,9, -999.000,9, -999.000,9
           NA,    P03W,    303,   1,-999.0,      15,  2,19850521,0906,  24.2400,  141.7600,  2492,  804.000,    5.169,   34.168,2,   34.169,2, -999.000,9,   83.400,2,   86.800,2,   36.270,2,    0.000,2,    2.430,2,    0.266,2,    0.131,2, -999.000,9, -999.000,9, -999.000,9
           NA,    P03W,    303,   1,-999.0,      16,  2,19850521,0906,  24.2400,  141.7600,  2492,  903.200,    4.355,   34.236,2,   34.235,2, -999.000,9,   59.100,2,  103.970,2,   39.720,2,    0.000,2,    2.670,2, -999.000,9, -999.000,9, -999.000,9, -999.000,9, -999.000,9
           NA,    P03W,    303,   1,-999.0,      17,  2,19850521,0906,  24.2400,  141.7600,  2492, 1007.500,    3.831,   34.320,2,   34.320,2, -999.000,9,   49.300,2,  117.070,2,   41.230,2,    0.000,2,    2.810,2,    0.031,2,    0.022,2, -999.000,9, -999.000,9, -999.000,9
           NA,    P03W,    303,   1,-999.0,      18,  2,19850521,0906,  24.2400,  141.7600,  2492, 1200.700,    3.096,   34.433,2,   34.434,2, -999.000,9,   51.700,2,  136.740,2,   42.170,2,    0.000,2,    2.850,2, -999.000,9, -999.000,9, -999.000,9, -999.000,9, -999.000,9
           NA,    P03W,    303,   1,-999.0,      23,  2,19850521,0906,  24.2400,  141.7600,  2492, 1405.000,    2.616,   34.497,2,   34.497,2, -999.000,9,   61.400,2,  146.600,2,   41.650,2,    0.000,2,    2.830,2, -999.000,9, -999.000,9, -999.000,9, -999.000,9, -999.000,9
           NA,    P03W,    303,   1,-999.0,      20,  2,19850521,0906,  24.2400,  141.7600,  2492, 1605.700,    2.334,   34.540,2,   34.542,2, -999.000,9,   75.800,2,  150.720,2,   40.870,2,    0.000,2,    2.780,2, -999.000,9, -999.000,9, -999.000,9, -999.000,9, -999.000,9
           NA,    P03W,    303,   1,-999.0,      21,  2,19850521,0906,  24.2400,  141.7600,  2492, 1800.300,    2.106,   34.576,2,   34.577,2, -999.000,9,   90.700,2,  151.340,2,   40.140,2,    0.000,2,    2.720,2, -999.000,9, -999.000,9, -999.000,9, -999.000,9, -999.000,9
           NA,    P03W,    303,   1,-999.0,      22,  2,19850521,0906,  24.2400,  141.7600,  2492, 1983.600,    1.948,   34.604,2,   34.603,2, -999.000,9,  106.700,2,  150.730,2,   39.260,2,    0.000,2,    2.670,2,   -0.008,2, -999.000,9, -999.000,9, -999.000,9, -999.000,9
           NA,    P03W,    303,   1,-999.0,      39,  2,19850521,0906,  24.2400,  141.7600,  2492, 2240.700,    1.860,   34.618,2,   34.618,2, -999.000,9,  111.900,2,  150.730,2,   38.840,2,    0.000,2,    2.650,2,   -0.007,2,    0.011,2, -999.000,9, -999.000,9, -999.000,9
           NA,    P03W,    303,   1,-999.0,      24,  2,19850521,0906,  24.2400,  141.7600,  2492, 2503.800,    1.721,   34.638,2,   34.638,2, -999.000,9,  123.000,2,  150.540,2,   38.070,2,    0.000,2,    2.640,2,   -0.014,2, -999.000,9, -999.000,9, -999.000,9, -999.000,9