BOTTLE,20203103JOAExport
EXPOCODE,SECT_ID,STNNBR,CASTNO,SAMPNO,BTLNBR,BTLNBR_FLAG_W,DATE,TIME,LATITUDE,LONGITUDE,DEPTH,CTDPRS,CTDTMP,CTDSAL,CTDSAL_FLAG_W,SALNTY,SALNTY_FLAG_W,CTDOXY,CTDOXY_FLAG_W,OXYGEN,OXYGEN_FLAG_W,SILCAT,SILCAT_FLAG_W,NITRAT,NITRAT_FLAG_W,NITRIT,NITRIT_FLAG_W,PHSPHT,PHSPHT_FLAG_W,CFC-11,CFC-11_FLAG_W,CFC-12,CFC-12_FLAG_W,SF6,SF6_FLAG_W,TCARBN,TCARBN_FLAG_W,ALKALI,ALKALI_FLAG_W
,,,,,,,,,,,,,DB,ITS-90,PSS-78,,PSS-78,,UMOL/KG,,UMOL/KG,,UMOL/KG,,UMOL/KG,,UMOL/KG,,UMOL/KG,,PMOL/KG,,PMOL/KG,,FMOL/KG,,UMOL/KG,,UMOL/KG
           NA,    P03E,    155,   2,-999.0,       1,  2,19850423,1509,  24.1667, -167.1067,  2106,    1.200,   22.836,   35.312,2,   35.315,2, -999.000,9,  223.300,2,    0.500,2,    0.050,2,    0.000,2,    0.070,2,    1.700,2,    0.864,2, -999.000,9, -999.000,9, -999.000,9
           NA,    P03E,    155,   2,-999.0,       2,  2,19850423,1509,  24.1667, -167.1067,  2106,   20.400,   22.771,   35.312,2,   35.317,2, -999.000,9,  220.300,2,    0.430,2,    0.050,2,    0.000,2,    0.060,2, -999.000,9, -999.000,9, -999.000,9, -999.000,9, -999.000,9
           NA,    P03E,    155,   2,-999.0,       3,  2,19850423,1509,  24.1667, -167.1067,  2106,   40.600,   22.088,   35.286,2,   35.288,2, -999.000,9,  223.200,2,    0.360,2,    0.050,2,    0.000,2,    0.060,2,    1.721,2,    0.885,2, -999.000,9, -999.000,9, -999.000,9
           NA,    P03E,    155,   2,-999.0,       4,  2,19850423,1509,  24.1667, -167.1067,  2106,   70.800,   20.855,   35.157,2,   35.158,2, -999.000,9,  220.500,2,    1.120,2,    0.050,2,    0.000,2,    0.100,2,    1.736,2,    0.886,2, -999.000,9, -999.000,9, -999.000,9
           NA,    P03E,    155,   2,-999.0,       5,  2,19850423,1509,  24.1667, -167.1067,  2106,  100.600,   18.909,   34.985,2,   34.986,2, -999.000,9,  209.400,2,    1.870,2,    1.890,2,    0.150,2,    0.230,2,    1.781,6,    0.901,6, -999.000,9, -999.000,9, -999.000,9
           NA,    P03E,    155,   2,-999.0,       6,  2,19850423,1509,  24.1667, -167.1067,  2106,  136.400,   17.831,   34.883,2,   34.886,2, -999.000,9,  206.800,2,    3.040,2,    3.390,2,    0.060,2,    0.320,2, -999.000,9, -999.000,9, -999.000,9, -999.000,9, -999.000,9
           NA,    P03E,    155,   2,-999.0,       7,  2,19850423,1509,  24.1667, -167.1067,  2106,  180.600,   17.506,   34.848,2,   34.851,2, -999.000,9,  205.500,2,    3.170,2,    3.900,2,    0.040,2,    0.360,2,    1.767,2,    0.871,2, -999.000,9, -999.000,9, -999.000,9
           NA,    P03E,    155,   2,-999.0,       8,  2,19850423,1509,  24.1667, -167.1067,  2106,  220.500,   15.582,   34.657,2,   34.656,2, -999.000,9,  207.800,2,    5.150,2,    6.260,2,    0.010,2,    0.490,2,    1.844,2,    0.922,2, -999.000,9, -999.000,9, -999.000,9
           NA,    P03E,    155,   2,-999.0,       9,  2,19850423,1509,  24.1667, -167.1067,  2106,  271.200,   14.562,   34.563,2,   34.563,2, -999.000,9,  208.800,2,    6.720,2,    7.670,2,    0.010,2,    0.620,2,    1.856,2,    0.915,2, -999.000,9, -999.000,9, -999.000,9
           NA,    P03E,    155,   2,-999.0,      10,  2,19850423,1509,  24.1667, -167.1067,  2106,  322.900,   13.396,   34.468,2,   34.440,2, -999.000,9,  209.900,2,    9.520,2,    9.820,2,    0.010,2,    0.730,2,    1.782,2,    0.872,2, -999.000,9, -999.000,9, -999.000,9
           NA,    P03E,    155,   2,-999.0,      11,  2,19850423,1509,  24.1667, -167.1067,  2106,  382.300,   11.659,   34.325,2,   34.326,2, -999.000,9,  205.200,2,   15.380,2,   13.200,2,    0.010,2,    0.930,2,    1.641,2,    0.798,2, -999.000,9, -999.000,9, -999.000,9
           NA,    P03E,    155,   2,-999.0,      12,  2,19850423,1509,  24.1667, -167.1067,  2106,  453.300,    9.478,   34.197,2,   34.197,2, -999.000,9,  174.700,2,   29.020,2,   20.100,2,    0.010,2,    1.390,2,    1.109,2,    0.553,2, -999.000,9, -999.000,9, -999.000,9
           NA,    P03E,    155,   2,-999.0,      13,  2,19850423,1509,  24.1667, -167.1067,  2106,  525.100,    7.747,   34.130,2,   34.131,2, -999.000,9,  139.900,2,   44.490,2,   26.510,2,    0.000,2,    1.840,2,    0.681,2,    0.353,2, -999.000,9, -999.000,9, -999.000,9
           NA,    P03E,    155,   2,-999.0,      14,  2,19850423,1509,  24.1667, -167.1067,  2106,  605.200,    6.904,   34.115,2,   34.117,2, -999.000,9,  118.900,2,   55.050,2,   30.160,2,    0.000,2,    2.090,2,    0.458,2,    0.231,2, -999.000,9, -999.000,9, -999.000,9
           NA,    P03E,    155,   2,-999.0,      15,  2,19850423,1509,  24.1667, -167.1067,  2106,  686.300,    5.733,   34.157,2,   34.160,2, -999.000,9,   78.600,2,   74.230,2,   35.810,2,    0.000,2,    2.500,2,    0.187,2,    0.101,2, -999.000,9, -999.000,9, -999.000,9
           NA,    P03E,    155,   2,-999.0,      16,  2,19850423,1509,  24.1667, -167.1067,  2106,  766.800,    4.991,   34.228,2,   34.228,2, -999.000,9,   56.100,2,   88.920,2,   39.250,2,    0.000,2,    2.740,2,    0.069,2,    0.032,2, -999.000,9, -999.000,9, -999.000,9
           NA,    P03E,    155,   2,-999.0,      38,  2,19850423,1509,  24.1667, -167.1067,  2106,  847.700,    4.438,   34.322,2,   34.323,2, -999.000,9,   43.600,2,  101.560,2,   41.450,2,    0.000,2,    2.910,2,    0.017,2,    0.006,2, -999.000,9, -999.000,9, -999.000,9
           NA,    P03E,    155,   2,-999.0,      18,  2,19850423,1509,  24.1667, -167.1067,  2106,  958.800,    4.004,   34.404,2,   34.407,2, -999.000,9,   44.100,2,  111.120,2,   41.660,2,    0.000,2,    2.910,2,    0.003,2,   -0.002,2, -999.000,9, -999.000,9, -999.000,9
           NA,    P03E,    155,   2,-999.0,      19,  2,19850423,1509,  24.1667, -167.1067,  2106, 1109.500,    3.639,   34.469,2,   34.472,2, -999.000,9,   50.900,2,  119.040,2,   42.020,2,    0.000,2,    2.900,2,    0.000,2,   -0.003,2, -999.000,9, -999.000,9, -999.000,9
           NA,    P03E,    155,   2,-999.0,      17,  2,19850423,1509,  24.1667, -167.1067,  2106, 1310.200,    3.118,   34.521,2,   34.523,2, -999.000,9,   61.100,2,  130.080,2,   41.590,2,    0.000,2,    2.880,2,    0.001,2,    0.001,2, -999.000,9, -999.000,9, -999.000,9
           NA,    P03E,    155,   2,-999.0,      21,  2,19850423,1509,  24.1667, -167.1067,  2106, 1511.800,    2.716,   34.560,2,   34.561,2, -999.000,9,   73.200,2,  138.230,2,   41.260,2,    0.000,2,    2.850,2,    0.003,2,   -0.002,2, -999.000,9, -999.000,9, -999.000,9
           NA,    P03E,    155,   2,-999.0,      39,  2,19850423,1509,  24.1667, -167.1067,  2106, 1714.900,    2.431,   34.585,2,   34.586,2, -999.000,9,   81.900,2,  145.350,2,   40.940,2,    0.000,2,    2.810,2,   -0.003,2,   -0.001,2, -999.000,9, -999.000,9, -999.000,9
           NA,    P03E,    155,   2,-999.0,      23,  2,19850423,1509,  24.1667, -167.1067,  2106, 1915.600,    2.137,   34.609,2,   34.609,2, -999.000,9,   91.700,2,  151.850,2,   40.300,2,    0.000,2,    2.770,2,    0.001,2,   -0.003,2, -999.000,9, -999.000,9, -999.000,9
           NA,    P03E,    155,   2,-999.0,      24,  2,19850423,1509,  24.1667, -167.1067,  2106, 2127.500,    1.915,   34.627,2,   34.628,2, -999.000,9,  102.200,2,  155.430,2,   39.660,2,    0.000,2,    2.720,2,   -0.005,2,   -0.001,2, -999.000,9, -999.000,9, -999.000,9
           NA,    P03E,    154,   1,-999.0,       1,  2,19850423,1134,  24.1450, -167.0917,  1214,    0.000,   22.941,   35.322,2,   35.323,2, -999.000,9,  219.700,2,    1.450,2,    0.050,2,    0.000,2,    0.070,2, -999.000,9, -999.000,9, -999.000,9, -999.000,9, -999.000,9
           NA,    P03E,    154,   1,-999.0,       4,  2,19850423,1134,  24.1450, -167.0917,  1214,   20.700,   22.647,   35.316,2,   35.316,2, -999.000,9,  220.800,2,    1.350,2,    0.050,2,    0.000,2,    0.070,2, -999.000,9, -999.000,9, -999.000,9, -999.000,9, -999.000,9
           NA,    P03E,    154,   1,-999.0,       5,  2,19850423,1134,  24.1450, -167.0917,  1214,   40.800,   21.644,   35.244,2,   35.252,2, -999.000,9,  222.200,2,    1.250,2,    0.050,2,    0.000,2,    0.070,2, -999.000,9, -999.000,9, -999.000,9, -999.000,9, -999.000,9
           NA,    P03E,    154,   1,-999.0,       6,  2,19850423,1134,  24.1450, -167.0917,  1214,   70.900,   20.928,   35.169,2,   35.168,2, -999.000,9,  220.200,2,    1.350,2,    0.050,2,    0.000,2,    0.100,2, -999.000,9, -999.000,9, -999.000,9, -999.000,9, -999.000,9
           NA,    P03E,    154,   1,-999.0,       7,  2,19850423,1134,  24.1450, -167.0917,  1214,  101.200,   18.967,   34.990,2,   34.992,2, -999.000,9,  208.100,2,    2.880,2,    1.840,2,    0.150,2,    0.230,2, -999.000,9, -999.000,9, -999.000,9, -999.000,9, -999.000,9
           NA,    P03E,    154,   1,-999.0,       8,  2,19850423,1134,  24.1450, -167.0917,  1214,  141.800,   17.855,   34.885,2,   34.869,2, -999.000,9,  205.900,2,    3.400,2,    3.550,2,    0.050,2,    0.330,2, -999.000,9, -999.000,9, -999.000,9, -999.000,9, -999.000,9
           NA,    P03E,    154,   1,-999.0,       9,  2,19850423,1134,  24.1450, -167.0917,  1214,  182.300,   15.078,   34.610,2,   34.608,2, -999.000,9,  207.700,2,    6.560,2,    6.840,2,    0.010,2,    0.530,2, -999.000,9, -999.000,9, -999.000,9, -999.000,9, -999.000,9
           NA,    P03E,    154,   1,-999.0,      10,  2,19850423,1134,  24.1450, -167.0917,  1214,  222.100,   14.579,   34.565,2,   34.565,2, -999.000,9,  209.200,2,    7.270,2,    7.530,2,    0.010,2,    0.580,2, -999.000,9, -999.000,9, -999.000,9, -999.000,9, -999.000,9
           NA,    P03E,    154,   1,-999.0,      11,  2,19850423,1134,  24.1450, -167.0917,  1214,  272.700,   12.639,   34.398,2,   34.394,2, -999.000,9,  210.100,2,   12.270,2,   10.950,2,    0.010,2,    0.800,2, -999.000,9, -999.000,9, -999.000,9, -999.000,9, -999.000,9
           NA,    P03E,    154,   1,-999.0,      12,  2,19850423,1134,  24.1450, -167.0917,  1214,  323.000,   12.124,   34.367,2,   34.367,2, -999.000,9,  204.300,2,   14.820,2,   12.360,2,    0.010,2,    0.910,2, -999.000,9, -999.000,9, -999.000,9, -999.000,9, -999.000,9
           NA,    P03E,    154,   1,-999.0,      13,  2,19850423,1134,  24.1450, -167.0917,  1214,  383.700,   10.701,   34.264,2,   34.264,2, -999.000,9,  190.800,2,   21.440,2,   16.240,2,    0.010,2,    1.170,2, -999.000,9, -999.000,9, -999.000,9, -999.000,9, -999.000,9
           NA,    P03E,    154,   1,-999.0,      14,  2,19850423,1134,  24.1450, -167.0917,  1214,  453.600,    9.364,   34.190,2,   34.190,2, -999.000,9,  172.100,2,   30.920,2,   20.500,2,    0.010,2,    1.450,2, -999.000,9, -999.000,9, -999.000,9, -999.000,9, -999.000,9
           NA,    P03E,    154,   1,-999.0,      15,  2,19850423,1134,  24.1450, -167.0917,  1214,  528.100,    8.382,   34.147,2,   34.148,2, -999.000,9,  154.700,2,   39.390,2,   24.090,2,    0.010,2,    1.700,2, -999.000,9, -999.000,9, -999.000,9, -999.000,9, -999.000,9
           NA,    P03E,    154,   1,-999.0,      16,  2,19850423,1134,  24.1450, -167.0917,  1214,  605.200,    7.071,   34.111,2,   34.112,2, -999.000,9,  123.900,2,   53.390,2,   29.290,2,    0.000,2,    2.060,2, -999.000,9, -999.000,9, -999.000,9, -999.000,9, -999.000,9
           NA,    P03E,    154,   1,-999.0,      38,  2,19850423,1134,  24.1450, -167.0917,  1214,  680.400,    5.946,   34.151,2,   34.151,2, -999.000,9,   87.800,2,   71.300,2,   34.660,2,    0.000,2,    2.450,2, -999.000,9, -999.000,9, -999.000,9, -999.000,9, -999.000,9
           NA,    P03E,    154,   1,-999.0,      18,  2,19850423,1134,  24.1450, -167.0917,  1214,  755.900,    5.044,   34.224,2,   34.224,2, -999.000,9,   58.100,2,   88.660,2,   38.920,2,    0.000,2,    2.750,2, -999.000,9, -999.000,9, -999.000,9, -999.000,9, -999.000,9
           NA,    P03E,    154,   1,-999.0,      19,  2,19850423,1134,  24.1450, -167.0917,  1214,  857.300,    4.517,   34.304,2,   34.306,2, -999.000,9,   44.400,2,  100.910,2,   40.970,2,    0.000,2,    2.890,2, -999.000,9, -999.000,9, -999.000,9, -999.000,9, -999.000,9
           NA,    P03E,    154,   1,-999.0,      17,  2,19850423,1134,  24.1450, -167.0917,  1214,  958.700,    4.104,   34.385,2,   34.382,2, -999.000,9,   44.500,2,  109.690,2,   41.700,2,    0.000,2,    2.940,2, -999.000,9, -999.000,9, -999.000,9, -999.000,9, -999.000,9
           NA,    P03E,    154,   1,-999.0,      21,  2,19850423,1134,  24.1450, -167.0917,  1214, 1059.100,    3.832,   34.433,2,   34.433,2, -999.000,9,   48.600,2,  116.620,2,   41.900,2,    0.000,2,    2.940,2, -999.000,9, -999.000,9, -999.000,9, -999.000,9, -999.000,9
           NA,    P03E,    154,   1,-999.0,      39,  2,19850423,1134,  24.1450, -167.0917,  1214, 1158.100,    3.450,   34.490,2,   34.491,2, -999.000,9,   55.700,2,  124.600,2,   41.680,2,    0.000,2,    2.920,2, -999.000,9, -999.000,9, -999.000,9, -999.000,9, -999.000,9
           NA,    P03E,    154,   1,-999.0,      23,  2,19850423,1134,  24.1450, -167.0917,  1214, 1258.300,    3.183,   34.519,2,   34.520,2, -999.000,9,   62.000,2,  129.700,2,   41.570,2,    0.000,2,    2.900,2, -999.000,9, -999.000,9, -999.000,9, -999.000,9, -999.000,9
           NA,    P03E,    154,   1,-999.0,      24,  2,19850423,1134,  24.1450, -167.0917,  1214, 1349.900,    2.930,   34.543,2,   34.544,2, -999.000,9,   67.200,2,  135.420,2,   41.400,2,    0.000,2,    2.880,2, -999.000,9, -999.000,9, -999.000,9, -999.000,9, -999.000,9
           NA,    P03E,    153,   2,-999.0,       1,  2,19850423,0459,  24.4250, -166.8167,  1043,    0.700,   23.375,   35.316,2,   35.318,2, -999.000,9,  218.400,2,    0.390,2,    0.040,2,    0.010,2,    0.080,2, -999.000,9, -999.000,9, -999.000,9, -999.000,9, -999.000,9
           NA,    P03E,    153,   2,-999.0,       7,  2,19850423,0459,  24.4250, -166.8167,  1043,   20.000,   22.770,   35.301,2,   35.300,2, -999.000,9,  220.400,2,    0.340,2,    0.050,2,    0.000,2,    0.060,2, -999.000,9, -999.000,9, -999.000,9, -999.000,9, -999.000,9
           NA,    P03E,    153,   2,-999.0,       8,  2,19850423,0459,  24.4250, -166.8167,  1043,   40.000,   22.374,   35.275,2,   35.276,2, -999.000,9,  222.100,2,    0.480,2,    0.050,2,    0.000,2,    0.060,2, -999.000,9, -999.000,9, -999.000,9, -999.000,9, -999.000,9
           NA,    P03E,    153,   2,-999.0,       9,  2,19850423,0459,  24.4250, -166.8167,  1043,   70.600,   21.465,   35.219,2,   35.218,2, -999.000,9,  221.600,2,    0.440,2,    0.090,2,    0.010,2,    0.080,2, -999.000,9, -999.000,9, -999.000,9, -999.000,9, -999.000,9
           NA,    P03E,    153,   2,-999.0,      10,  2,19850423,0459,  24.4250, -166.8167,  1043,  100.900,   19.013,   35.000,2,   35.000,2, -999.000,9,  211.500,2,    1.740,2,    1.850,2,    0.130,2,    0.210,2, -999.000,9, -999.000,9, -999.000,9, -999.000,9, -999.000,9
           NA,    P03E,    153,   2,-999.0,      11,  2,19850423,0459,  24.4250, -166.8167,  1043,  141.500,   17.223,   34.831,2,   34.832,2, -999.000,9,  209.900,2,    3.640,2,    3.780,2,    0.040,2,    0.330,2, -999.000,9, -999.000,9, -999.000,9, -999.000,9, -999.000,9
           NA,    P03E,    153,   2,-999.0,      12,  2,19850423,0459,  24.4250, -166.8167,  1043,  181.200,   15.747,   34.683,2,   34.683,2, -999.000,9,  209.600,2,    5.330,2,    5.890,2,    0.020,2,    0.470,2, -999.000,9, -999.000,9, -999.000,9, -999.000,9, -999.000,9
           NA,    P03E,    153,   2,-999.0,      13,  2,19850423,0459,  24.4250, -166.8167,  1043,  221.700,   14.356,   34.550,2,   34.538,2, -999.000,9,  208.400,2,    7.610,2,    8.270,2,    0.010,2,    0.640,2, -999.000,9, -999.000,9, -999.000,9, -999.000,9, -999.000,9
           NA,    P03E,    153,   2,-999.0,      14,  2,19850423,0459,  24.4250, -166.8167,  1043,  272.300,   13.149,   34.446,2,   34.436,2, -999.000,9,  208.300,2,    9.890,2,   10.230,2,    0.010,2,    0.760,2, -999.000,9, -999.000,9, -999.000,9, -999.000,9, -999.000,9
           NA,    P03E,    153,   2,-999.0,      15,  2,19850423,0459,  24.4250, -166.8167,  1043,  322.200,   11.588,   34.310,2,   34.309,2, -999.000,9,  204.700,2,   14.700,2,   13.300,2,    0.010,2,    0.900,2, -999.000,9, -999.000,9, -999.000,9, -999.000,9, -999.000,9
           NA,    P03E,    153,   2,-999.0,      16,  2,19850423,0459,  24.4250, -166.8167,  1043,  383.000,   10.292,   34.215,2,   34.212,2, -999.000,9,  194.200,2,   20.870,2,   16.730,2,    0.000,2,    1.190,2, -999.000,9, -999.000,9, -999.000,9, -999.000,9, -999.000,9
           NA,    P03E,    153,   2,-999.0,      38,  2,19850423,0459,  24.4250, -166.8167,  1043,  453.800,    9.146,   34.151,2,   34.154,2, -999.000,9,  178.100,2,   28.590,2,   20.480,2,    0.000,2,    1.430,2, -999.000,9, -999.000,9, -999.000,9, -999.000,9, -999.000,9
           NA,    P03E,    153,   2,-999.0,      18,  2,19850423,0459,  24.4250, -166.8167,  1043,  528.700,    7.811,   34.116,2,   34.117,2, -999.000,9,  147.900,2,   42.550,2,   25.720,2,    0.000,2,    1.830,2, -999.000,9, -999.000,9, -999.000,9, -999.000,9, -999.000,9
           NA,    P03E,    153,   2,-999.0,      19,  2,19850423,0459,  24.4250, -166.8167,  1043,  604.500,    6.684,   34.102,2,   34.102,2, -999.000,9,  116.800,2,   56.920,2,   30.720,2,    0.000,2,    2.170,2, -999.000,9, -999.000,9, -999.000,9, -999.000,9, -999.000,9
           NA,    P03E,    153,   2,-999.0,      17,  2,19850423,0459,  24.4250, -166.8167,  1043,  679.700,    5.912,   34.131,2,   34.129,2, -999.000,9,   91.900,2,   69.380,2,   34.300,2,    0.000,2,    2.420,2, -999.000,9, -999.000,9, -999.000,9, -999.000,9, -999.000,9
           NA,    P03E,    153,   2,-999.0,      21,  2,19850423,0459,  24.4250, -166.8167,  1043,  755.100,    5.223,   34.188,2,   34.189,2, -999.000,9,   66.300,2,   83.830,2,   37.810,2,    0.000,2,    2.680,2, -999.000,9, -999.000,9, -999.000,9, -999.000,9, -999.000,9
           NA,    P03E,    153,   2,-999.0,      39,  2,19850423,0459,  24.4250, -166.8167,  1043,  856.000,    4.688,   34.262,2,   34.263,2, -999.000,9,   53.000,2,   95.580,2,   40.010,2,    0.000,2,    2.840,2, -999.000,9, -999.000,9, -999.000,9, -999.000,9, -999.000,9
           NA,    P03E,    153,   2,-999.0,      23,  2,19850423,0459,  24.4250, -166.8167,  1043,  956.600,    4.164,   34.345,2,   34.345,2, -999.000,9,   47.900,2,  108.350,2,   41.370,2,    0.000,2,    2.910,2, -999.000,9, -999.000,9, -999.000,9, -999.000,9, -999.000,9
           NA,    P03E,    153,   2,-999.0,      24,  2,19850423,0459,  24.4250, -166.8167,  1043, 1050.800,    3.893,   34.392,2,   34.391,2, -999.000,9,   48.200,2,  114.440,2,   41.630,2,    0.000,2,    2.900,2, -999.000,9, -999.000,9, -999.000,9, -999.000,9, -999.000,9