BOTTLE,20203103JOAExport
EXPOCODE,SECT_ID,STNNBR,CASTNO,SAMPNO,BTLNBR,BTLNBR_FLAG_W,DATE,TIME,LATITUDE,LONGITUDE,DEPTH,CTDPRS,CTDTMP,CTDSAL,CTDSAL_FLAG_W,SALNTY,SALNTY_FLAG_W,CTDOXY,CTDOXY_FLAG_W,OXYGEN,OXYGEN_FLAG_W,SILCAT,SILCAT_FLAG_W,NITRAT,NITRAT_FLAG_W,NITRIT,NITRIT_FLAG_W,PHSPHT,PHSPHT_FLAG_W,CFC-11,CFC-11_FLAG_W,CFC-12,CFC-12_FLAG_W,SF6,SF6_FLAG_W,TCARBN,TCARBN_FLAG_W,ALKALI,ALKALI_FLAG_W
,,,,,,,,,,,,,DB,ITS-90,PSS-78,,PSS-78,,UMOL/KG,,UMOL/KG,,UMOL/KG,,UMOL/KG,,UMOL/KG,,UMOL/KG,,PMOL/KG,,PMOL/KG,,FMOL/KG,,UMOL/KG,,UMOL/KG
           NA,    P03E,    152,   1,-999.0,       1,  2,19850423,0153,  24.4367, -166.8117,  2148,    0.500,   23.135,   35.306,2,   35.309,2, -999.000,9,  219.100,2,    1.340,2,    0.050,2,    0.000,2,    0.060,2,    1.656,2,    0.841,2, -999.000,9, -999.000,9, -999.000,9
           NA,    P03E,    152,   1,-999.0,       2,  2,19850423,0153,  24.4367, -166.8117,  2148,   21.000,   22.840,   35.300,2,   35.301,2, -999.000,9,  219.400,2,    1.280,2,    0.050,2,    0.000,2,    0.060,2,    1.685,2,    0.858,2, -999.000,9, -999.000,9, -999.000,9
           NA,    P03E,    152,   1,-999.0,       3,  2,19850423,0153,  24.4367, -166.8117,  2148,   41.200,   22.457,   35.289,2,   35.290,2, -999.000,9,  221.100,2,    1.230,2,    0.040,2,    0.010,2,    0.080,2, -999.000,9, -999.000,9, -999.000,9, -999.000,9, -999.000,9
           NA,    P03E,    152,   1,-999.0,       4,  2,19850423,0153,  24.4367, -166.8117,  2148,   71.800,   21.972,   35.265,2,   35.266,2, -999.000,9,  221.100,2,    1.180,2,    0.050,2,    0.000,2,    0.060,2,    1.713,2,    0.896,2, -999.000,9, -999.000,9, -999.000,9
           NA,    P03E,    152,   1,-999.0,       5,  2,19850423,0153,  24.4367, -166.8117,  2148,  101.900,   19.856,   35.084,2,   35.082,2, -999.000,9,  214.700,2,    1.510,2,    1.070,2,    0.090,2,    0.150,2,    1.783,2,    0.893,2, -999.000,9, -999.000,9, -999.000,9
           NA,    P03E,    152,   1,-999.0,       6,  2,19850423,0153,  24.4367, -166.8117,  2148,  142.000,   17.722,   34.880,2,   34.881,2, -999.000,9,  209.300,2,    3.220,2,    3.270,2,    0.060,2,    0.290,2,    1.839,2,    0.899,2, -999.000,9, -999.000,9, -999.000,9
           NA,    P03E,    152,   1,-999.0,       7,  2,19850423,0153,  24.4367, -166.8117,  2148,  182.200,   16.225,   34.733,2,   34.731,2, -999.000,9,  208.800,2,    4.720,2,    5.190,2,    0.020,2,    0.410,2,    1.891,2,    0.928,2, -999.000,9, -999.000,9, -999.000,9
           NA,    P03E,    152,   1,-999.0,       8,  2,19850423,0153,  24.4367, -166.8117,  2148,  221.300,   14.858,   34.593,2,   34.593,2, -999.000,9,  208.700,2,    6.620,2,    7.140,2,    0.010,2,    0.540,2,    1.849,2,    0.909,2, -999.000,9, -999.000,9, -999.000,9
           NA,    P03E,    152,   1,-999.0,       9,  2,19850423,0153,  24.4367, -166.8117,  2148,  271.000,   13.385,   34.467,2,   34.466,2, -999.000,9,  207.600,2,    9.690,2,    9.660,2,    0.010,2,    0.700,2,    1.735,2,    0.852,2, -999.000,9, -999.000,9, -999.000,9
           NA,    P03E,    152,   1,-999.0,      10,  2,19850423,0153,  24.4367, -166.8117,  2148,  322.400,   12.408,   34.373,2,   34.383,2, -999.000,9,  207.200,2,   12.370,2,   11.460,2,    0.010,2,    0.820,2,    1.719,2,    0.837,2, -999.000,9, -999.000,9, -999.000,9
           NA,    P03E,    152,   1,-999.0,      11,  2,19850423,0153,  24.4367, -166.8117,  2148,  384.000,   10.990,   34.262,2,   34.262,2, -999.000,9,  200.300,2,   16.800,2,   14.590,2,    0.000,2,    1.040,2,    1.514,2,    0.729,2, -999.000,9, -999.000,9, -999.000,9
           NA,    P03E,    152,   1,-999.0,      12,  2,19850423,0153,  24.4367, -166.8117,  2148,  452.700,    9.292,   34.159,2,   34.158,2, -999.000,9,  181.400,2,   27.080,2,   19.690,2,    0.010,2,    1.380,2,    1.160,2,    0.581,2, -999.000,9, -999.000,9, -999.000,9
           NA,    P03E,    152,   1,-999.0,      13,  2,19850423,0153,  24.4367, -166.8117,  2148,  522.300,    7.832,   34.113,2,   34.115,2, -999.000,9,  149.000,2,   42.640,2,   25.620,2,    0.000,2,    1.780,2,    0.744,2,    0.364,2, -999.000,9, -999.000,9, -999.000,9
           NA,    P03E,    152,   1,-999.0,      14,  2,19850423,0153,  24.4367, -166.8117,  2148,  604.900,    6.354,   34.116,2,   34.116,2, -999.000,9,  105.500,2,   63.130,2,   32.190,2,    0.000,2,    2.230,2,    0.360,2,    0.177,2, -999.000,9, -999.000,9, -999.000,9
           NA,    P03E,    152,   1,-999.0,      15,  2,19850423,0153,  24.4367, -166.8117,  2148,  684.900,    5.502,   34.154,2,   34.156,2, -999.000,9,   77.400,2,   77.190,2,   36.310,2,    0.000,2,    2.520,2,    0.184,2,    0.101,2, -999.000,9, -999.000,9, -999.000,9
           NA,    P03E,    152,   1,-999.0,      16,  2,19850423,0153,  24.4367, -166.8117,  2148,  764.200,    4.993,   34.225,2,   34.223,2, -999.000,9,   58.900,2,   88.920,2,   38.850,2,    0.000,2,    2.710,2,    0.090,2,    0.047,2, -999.000,9, -999.000,9, -999.000,9
           NA,    P03E,    152,   1,-999.0,      38,  2,19850423,0153,  24.4367, -166.8117,  2148,  840.800,    4.621,   34.260,2,   34.261,2, -999.000,9,   49.100,2,   96.730,2,   40.320,2,    0.000,2,    2.810,2,    0.049,2,    0.026,2, -999.000,9, -999.000,9, -999.000,9
           NA,    P03E,    152,   1,-999.0,      18,  2,19850423,0153,  24.4367, -166.8117,  2148,  947.900,    4.049,   34.368,2,   34.368,2, -999.000,9,   42.500,2,  110.090,2,   41.800,2,    0.000,2,    2.920,2,    0.014,2,   -0.001,2, -999.000,9, -999.000,9, -999.000,9
           NA,    P03E,    152,   1,-999.0,      19,  2,19850423,0153,  24.4367, -166.8117,  2148, 1095.700,    3.612,   34.453,2,   34.453,2, -999.000,9,   50.100,2,  120.330,2,   41.960,2,    0.000,2,    2.920,2,    0.005,2,   -0.003,2, -999.000,9, -999.000,9, -999.000,9
           NA,    P03E,    152,   1,-999.0,      17,  2,19850423,0153,  24.4367, -166.8117,  2148, 1299.600,    3.107,   34.506,2,   34.506,2, -999.000,9,   58.200,2,  132.190,2,   41.540,2,    0.000,2,    2.910,2,    0.000,2,    0.001,2, -999.000,9, -999.000,9, -999.000,9
           NA,    P03E,    152,   1,-999.0,      21,  2,19850423,0153,  24.4367, -166.8117,  2148, 1499.900,    2.742,   34.543,2,   34.543,2, -999.000,9,   69.000,2,  139.890,2,   41.490,2,    0.000,2,    2.870,2,    0.000,2,   -0.004,2, -999.000,9, -999.000,9, -999.000,9
           NA,    P03E,    152,   1,-999.0,      39,  2,19850423,0153,  24.4367, -166.8117,  2148, 1695.300,    2.382,   34.581,2,   34.581,2, -999.000,9,   80.400,2,  148.020,2,   40.860,2,    0.000,2,    2.840,2,    0.007,2,    0.002,2, -999.000,9, -999.000,9, -999.000,9
           NA,    P03E,    152,   1,-999.0,      23,  2,19850423,0153,  24.4367, -166.8117,  2148, 1938.500,    2.092,   34.605,2,   34.606,2, -999.000,9,   89.200,2,  154.150,2,   40.330,2,    0.000,2,    2.790,2,   -0.005,2,   -0.004,2, -999.000,9, -999.000,9, -999.000,9
           NA,    P03E,    152,   1,-999.0,      24,  2,19850423,0153,  24.4367, -166.8117,  2148, 2164.500,    1.884,   34.624,2,   34.623,2, -999.000,9,   99.500,2,  157.890,2,   39.760,2,    0.000,2,    2.740,2,   -0.001,2,   -0.004,2, -999.000,9, -999.000,9, -999.000,9
           NA,    P03E,    150,   1,-999.0,       1,  2,19850422,2211,  24.5050, -166.7300,  3277,    0.000,   23.065,   35.331,2,   35.333,2, -999.000,9,  219.300,2,    0.650,2,    0.000,2,    0.000,2,    0.060,2, -999.000,9, -999.000,9, -999.000,9, -999.000,9, -999.000,9
           NA,    P03E,    150,   1,-999.0,       2,  2,19850422,2211,  24.5050, -166.7300,  3277,   51.700,   21.986,   35.281,2,   35.283,2, -999.000,9,  222.800,2,    0.610,2,    0.000,2,    0.000,2,    0.060,2, -999.000,9, -999.000,9, -999.000,9, -999.000,9, -999.000,9
           NA,    P03E,    150,   1,-999.0,       3,  2,19850422,2211,  24.5050, -166.7300,  3277,  101.800,   20.697,   35.157,2,   35.174,2, -999.000,9,  220.500,2,    0.760,2,    0.170,2,    0.020,2,    0.110,2, -999.000,9, -999.000,9, -999.000,9, -999.000,9, -999.000,9
           NA,    P03E,    150,   1,-999.0,       4,  2,19850422,2211,  24.5050, -166.7300,  3277,  152.600,   17.540,   34.857,2,   34.857,2, -999.000,9,  209.100,2,    2.900,2,    3.530,2,    0.050,2,    0.330,2, -999.000,9, -999.000,9, -999.000,9, -999.000,9, -999.000,9
           NA,    P03E,    150,   1,-999.0,       5,  2,19850422,2211,  24.5050, -166.7300,  3277,  202.900,   16.346,   34.731,2,   34.732,2, -999.000,9,  207.300,2,    4.040,2,    5.110,2,    0.020,2,    0.430,2, -999.000,9, -999.000,9, -999.000,9, -999.000,9, -999.000,9
           NA,    P03E,    150,   1,-999.0,       6,  2,19850422,2211,  24.5050, -166.7300,  3277,  253.600,   14.424,   34.554,2,   34.555,2, -999.000,9,  209.800,2,    6.770,2,    7.880,2,    0.000,2,    0.600,2, -999.000,9, -999.000,9, -999.000,9, -999.000,9, -999.000,9
           NA,    P03E,    150,   1,-999.0,       7,  2,19850422,2211,  24.5050, -166.7300,  3277,  303.500,   13.097,   34.437,2,   34.436,2, -999.000,9,  209.400,2,    9.880,2,   10.070,2,    0.000,2,    0.750,2, -999.000,9, -999.000,9, -999.000,9, -999.000,9, -999.000,9
           NA,    P03E,    150,   1,-999.0,       8,  2,19850422,2211,  24.5050, -166.7300,  3277,  404.600,   10.894,   34.256,2,   34.254,2, -999.000,9,  199.300,2,   17.740,2,   15.090,2,    0.000,2,    1.090,2, -999.000,9, -999.000,9, -999.000,9, -999.000,9, -999.000,9
           NA,    P03E,    150,   1,-999.0,       9,  2,19850422,2211,  24.5050, -166.7300,  3277,  505.300,    8.935,   34.134,2,   34.133,2, -999.000,9,  177.100,2,   29.530,2,   20.990,2,    0.000,2,    1.480,2, -999.000,9, -999.000,9, -999.000,9, -999.000,9, -999.000,9
           NA,    P03E,    150,   1,-999.0,      10,  2,19850422,2211,  24.5050, -166.7300,  3277,  606.500,    6.477,   34.058,2,   34.058,2, -999.000,9,  120.500,2,   56.940,2,   31.020,2,    0.000,2,    2.170,2, -999.000,9, -999.000,9, -999.000,9, -999.000,9, -999.000,9
           NA,    P03E,    150,   1,-999.0,      11,  2,19850422,2211,  24.5050, -166.7300,  3277,  707.400,    5.361,   34.117,2,   34.118,2, -999.000,9,   75.700,2,   78.460,2,   36.880,2,    0.000,2,    2.590,2, -999.000,9, -999.000,9, -999.000,9, -999.000,9, -999.000,9
           NA,    P03E,    150,   1,-999.0,      12,  2,19850422,2211,  24.5050, -166.7300,  3277,  808.700,    4.530,   34.250,2,   34.247,2, -999.000,9,   46.500,2,   98.420,2,   40.840,2,    0.000,2,    2.870,2, -999.000,9, -999.000,9, -999.000,9, -999.000,9, -999.000,9
           NA,    P03E,    150,   1,-999.0,      13,  2,19850422,2211,  24.5050, -166.7300,  3277,  910.000,    4.049,   34.338,2, -999.000,5, -999.000,9,   38.300,2,  111.450,2,   42.050,2,    0.000,2,    2.970,2, -999.000,9, -999.000,9, -999.000,9, -999.000,9, -999.000,9
           NA,    P03E,    150,   1,-999.0,      14,  2,19850422,2211,  24.5050, -166.7300,  3277, 1011.300,    3.780,   34.405,2,   34.407,2, -999.000,9,   42.200,2,  118.090,2,   42.310,2,    0.000,2,    2.980,2, -999.000,9, -999.000,9, -999.000,9, -999.000,9, -999.000,9
           NA,    P03E,    150,   1,-999.0,      15,  2,19850422,2211,  24.5050, -166.7300,  3277, 1111.900,    3.421,   34.454,2,   34.455,2, -999.000,9,   46.100,2,  127.540,2,   42.510,2,    0.000,2,    2.990,2, -999.000,9, -999.000,9, -999.000,9, -999.000,9, -999.000,9
           NA,    P03E,    150,   1,-999.0,      16,  2,19850422,2211,  24.5050, -166.7300,  3277, 1263.100,    3.019,   34.507,2,   34.507,2, -999.000,9,   56.100,2,  136.410,2,   42.190,2,    0.000,2,    2.950,2, -999.000,9, -999.000,9, -999.000,9, -999.000,9, -999.000,9
           NA,    P03E,    150,   1,-999.0,      38,  2,19850422,2211,  24.5050, -166.7300,  3277, 1414.700,    2.711,   34.542,2,   34.542,2, -999.000,9,   65.600,2,  142.060,2,   41.980,2,    0.000,2,    2.900,2, -999.000,9, -999.000,9, -999.000,9, -999.000,9, -999.000,9
           NA,    P03E,    150,   1,-999.0,      18,  2,19850422,2211,  24.5050, -166.7300,  3277, 1617.000,    2.401,   34.582,2,   34.587,2, -999.000,9,   81.700,2,  147.510,2,   40.810,2,    0.000,2,    2.830,2, -999.000,9, -999.000,9, -999.000,9, -999.000,9, -999.000,9
           NA,    P03E,    150,   1,-999.0,      19,  2,19850422,2211,  24.5050, -166.7300,  3277, 1818.000,    2.167,   34.598,2,   34.599,2, -999.000,9,   87.300,2,  151.950,2,   40.600,2,    0.000,2,    2.820,2, -999.000,9, -999.000,9, -999.000,9, -999.000,9, -999.000,9
           NA,    P03E,    150,   1,-999.0,      20,  2,19850422,2211,  24.5050, -166.7300,  3277, 2122.600,    1.937,   34.619,2,   34.620,2, -999.000,9,   98.200,2,  157.000,2,   40.020,2,    0.000,2,    2.760,2, -999.000,9, -999.000,9, -999.000,9, -999.000,9, -999.000,9
           NA,    P03E,    150,   1,-999.0,      21,  2,19850422,2211,  24.5050, -166.7300,  3277, 2426.200,    1.744,   34.639,2,   34.639,2, -999.000,9,  110.800,2,  159.020,2,   39.020,2,    0.000,2,    2.690,2, -999.000,9, -999.000,9, -999.000,9, -999.000,9, -999.000,9
           NA,    P03E,    150,   1,-999.0,      39,  2,19850422,2211,  24.5050, -166.7300,  3277, 2730.700,    1.586,   34.657,2,   34.656,2, -999.000,9,  124.300,2,  159.010,2,   38.230,2,    0.000,2,    2.610,2, -999.000,9, -999.000,9, -999.000,9, -999.000,9, -999.000,9
           NA,    P03E,    150,   1,-999.0,      23,  2,19850422,2211,  24.5050, -166.7300,  3277, 3085.400,    1.519,   34.666,2,   34.666,2, -999.000,9,  134.700,2,  158.000,2,   37.660,2,    0.000,2,    2.580,2, -999.000,9, -999.000,9, -999.000,9, -999.000,9, -999.000,9
           NA,    P03E,    150,   1,-999.0,      24,  2,19850422,2211,  24.5050, -166.7300,  3277, 3385.000,    1.480,   34.673,2,   34.673,2, -999.000,9,  141.700,2,  155.380,2,   37.190,2,    0.000,2,    2.540,2, -999.000,9, -999.000,9, -999.000,9, -999.000,9, -999.000,9