BOTTLE,20203103JOAExport
EXPOCODE,SECT_ID,STNNBR,CASTNO,SAMPNO,BTLNBR,BTLNBR_FLAG_W,DATE,TIME,LATITUDE,LONGITUDE,DEPTH,CTDPRS,CTDTMP,CTDSAL,CTDSAL_FLAG_W,SALNTY,SALNTY_FLAG_W,CTDOXY,CTDOXY_FLAG_W,OXYGEN,OXYGEN_FLAG_W,SILCAT,SILCAT_FLAG_W,NITRAT,NITRAT_FLAG_W,NITRIT,NITRIT_FLAG_W,PHSPHT,PHSPHT_FLAG_W,CFC-11,CFC-11_FLAG_W,CFC-12,CFC-12_FLAG_W,SF6,SF6_FLAG_W,TCARBN,TCARBN_FLAG_W,ALKALI,ALKALI_FLAG_W
,,,,,,,,,,,,,DB,ITS-90,PSS-78,,PSS-78,,UMOL/KG,,UMOL/KG,,UMOL/KG,,UMOL/KG,,UMOL/KG,,UMOL/KG,,PMOL/KG,,PMOL/KG,,FMOL/KG,,UMOL/KG,,UMOL/KG
           NA,    P03W,    227,   1,-999.0,       1,  2,19850509,0817,  24.2750,  167.9683,  6003,    1.400,   24.459,   35.088,2,   35.093,2, -999.000,9,  213.700,2,    1.730,2,    0.000,2,    0.000,2,    0.000,2, -999.000,9, -999.000,9, -999.000,9, -999.000,9, -999.000,9
           NA,    P03W,    227,   1,-999.0,       2,  2,19850509,0817,  24.2750,  167.9683,  6003,   25.600,   23.054,   35.185,2,   35.187,2, -999.000,9,  219.500,2,    1.860,2,    0.000,2,    0.000,2,    0.000,2, -999.000,9, -999.000,9, -999.000,9, -999.000,9, -999.000,9
           NA,    P03W,    227,   1,-999.0,       3,  2,19850509,0817,  24.2750,  167.9683,  6003,   46.300,   22.613,   35.212,2,   35.217,2, -999.000,9,  221.100,2,    1.790,2,    0.050,2,    0.000,2,    0.000,2, -999.000,9, -999.000,9, -999.000,9, -999.000,9, -999.000,9
           NA,    P03W,    227,   1,-999.0,       4,  2,19850509,0817,  24.2750,  167.9683,  6003,   76.300,   20.551,   35.000,2,   35.002,2, -999.000,9,  223.000,2,    2.560,2,    0.050,2,    0.000,2,    0.000,2, -999.000,9, -999.000,9, -999.000,9, -999.000,9, -999.000,9
           NA,    P03W,    227,   1,-999.0,       5,  2,19850509,0817,  24.2750,  167.9683,  6003,  106.600,   19.331,   34.954,2,   34.954,2, -999.000,9,  216.800,2,    2.910,2,    0.090,2,    0.050,2,    0.030,2, -999.000,9, -999.000,9, -999.000,9, -999.000,9, -999.000,9
           NA,    P03W,    227,   1,-999.0,       6,  2,19850509,0817,  24.2750,  167.9683,  6003,  147.000,   17.616,   34.817,2,   34.818,2, -999.000,9,  205.700,2,    3.690,2,    3.040,2,    0.030,2,    0.220,2, -999.000,9, -999.000,9, -999.000,9, -999.000,9, -999.000,9
           NA,    P03W,    227,   1,-999.0,       7,  2,19850509,0817,  24.2750,  167.9683,  6003,  186.800,   16.459,   34.741,2,   34.742,2, -999.000,9,  214.800,2,    4.470,2,    4.370,2,    0.010,2,    0.260,2, -999.000,9, -999.000,9, -999.000,9, -999.000,9, -999.000,9
           NA,    P03W,    227,   1,-999.0,       8,  2,19850509,0817,  24.2750,  167.9683,  6003,  236.400,   15.604,   34.687,2,   34.686,2, -999.000,9,  211.600,2,    6.100,2,    6.490,2,    0.000,2,    0.380,2, -999.000,9, -999.000,9, -999.000,9, -999.000,9, -999.000,9
           NA,    P03W,    227,   1,-999.0,       9,  2,19850509,0817,  24.2750,  167.9683,  6003,  287.100,   14.810,   34.618,2,   34.616,2, -999.000,9,  210.400,2,    7.730,2,    7.750,2,    0.000,2,    0.470,2, -999.000,9, -999.000,9, -999.000,9, -999.000,9, -999.000,9
           NA,    P03W,    227,   1,-999.0,      10,  2,19850509,0817,  24.2750,  167.9683,  6003,  336.500,   13.528,   34.505,2,   34.501,2, -999.000,9,  211.600,2,   11.070,2,    9.820,2,    0.000,2,    0.610,2, -999.000,9, -999.000,9, -999.000,9, -999.000,9, -999.000,9
           NA,    P03W,    227,   1,-999.0,      11,  2,19850509,0817,  24.2750,  167.9683,  6003,  385.900,   12.190,   34.394,2,   34.392,2, -999.000,9,  210.800,2,   14.190,2,   12.100,2,    0.000,2,    0.780,2, -999.000,9, -999.000,9, -999.000,9, -999.000,9, -999.000,9
           NA,    P03W,    227,   1,-999.0,      12,  2,19850509,0817,  24.2750,  167.9683,  6003,  446.200,   10.863,   34.292,2,   34.295,2, -999.000,9,  201.000,2,   19.880,2,   15.230,2,    0.000,2,    0.970,2, -999.000,9, -999.000,9, -999.000,9, -999.000,9, -999.000,9
           NA,    P03W,    227,   1,-999.0,      13,  2,19850509,0817,  24.2750,  167.9683,  6003,  506.200,    9.079,   34.166,2,   34.166,2, -999.000,9,  171.900,2,   31.120,2,   21.400,2,    0.000,2,    1.380,2, -999.000,9, -999.000,9, -999.000,9, -999.000,9, -999.000,9
           NA,    P03W,    227,   1,-999.0,      14,  2,19850509,0817,  24.2750,  167.9683,  6003,  564.800,    7.617,   34.081,2,   34.083,2, -999.000,9,  161.400,2,   42.350,2,   25.060,2,    0.000,2,    1.630,2, -999.000,9, -999.000,9, -999.000,9, -999.000,9, -999.000,9
           NA,    P03W,    227,   1,-999.0,      15,  2,19850509,0817,  24.2750,  167.9683,  6003,  645.100,    6.373,   34.080,2,   34.078,2, -999.000,9,  116.300,2,   60.200,2,   31.700,2,    0.000,2,    2.090,2, -999.000,9, -999.000,9, -999.000,9, -999.000,9, -999.000,9
           NA,    P03W,    227,   1,-999.0,      16,  2,19850509,0817,  24.2750,  167.9683,  6003,  724.400,    5.685,   34.133,2,   34.133,2, -999.000,9,   80.300,2,   74.190,2,   36.200,2,    0.000,2,    2.410,2, -999.000,9, -999.000,9, -999.000,9, -999.000,9, -999.000,9
           NA,    P03W,    227,   1,-999.0,      17,  2,19850509,0817,  24.2750,  167.9683,  6003,  801.300,    4.852,   34.181,2,   34.180,2, -999.000,9,   59.100,2,   90.100,2,   39.770,2,    0.000,2,    2.640,2, -999.000,9, -999.000,9, -999.000,9, -999.000,9, -999.000,9
           NA,    P03W,    227,   1,-999.0,      18,  2,19850509,0817,  24.2750,  167.9683,  6003,  898.700,    4.191,   34.295,2,   34.294,2, -999.000,9,   43.100,2,  108.130,2,   42.420,2,    0.000,2,    2.800,2, -999.000,9, -999.000,9, -999.000,9, -999.000,9, -999.000,9
           NA,    P03W,    227,   1,-999.0,      39,  2,19850509,0817,  24.2750,  167.9683,  6003, 1047.700,    3.699,   34.403,2,   34.403,2, -999.000,9,   43.100,2,  120.400,2,   42.630,2,    0.000,2,    2.830,2, -999.000,9, -999.000,9, -999.000,9, -999.000,9, -999.000,9
           NA,    P03W,    227,   1,-999.0,      20,  2,19850509,0817,  24.2750,  167.9683,  6003, 1197.500,    3.294,   34.478,2,   34.478,2, -999.000,9,   57.700,2,  129.670,2,   42.240,2,    0.000,2,    2.810,2, -999.000,9, -999.000,9, -999.000,9, -999.000,9, -999.000,9
           NA,    P03W,    227,   1,-999.0,      21,  2,19850509,0817,  24.2750,  167.9683,  6003, 1391.700,    2.873,   34.533,2,   34.533,2, -999.000,9,   71.200,2,  136.380,2,   41.800,2,    0.000,2,    2.770,2, -999.000,9, -999.000,9, -999.000,9, -999.000,9, -999.000,9
           NA,    P03W,    227,   1,-999.0,      22,  2,19850509,0817,  24.2750,  167.9683,  6003, 1579.800,    2.545,   34.565,2,   34.566,2, -999.000,9,   80.700,2,  142.880,2,   41.410,2,    0.000,2,    2.760,2, -999.000,9, -999.000,9, -999.000,9, -999.000,9, -999.000,9
           NA,    P03W,    227,   1,-999.0,      23,  2,19850509,0817,  24.2750,  167.9683,  6003, 1769.400,    2.287,   34.587,2,   34.588,2, -999.000,9,   88.400,2,  147.240,2,   41.030,2,    0.000,2,    2.740,2, -999.000,9, -999.000,9, -999.000,9, -999.000,9, -999.000,9
           NA,    P03W,    227,   1,-999.0,      24,  2,19850509,0817,  24.2750,  167.9683,  6003, 1970.400,    2.066,   34.611,2,   34.612,2, -999.000,9,  100.900,2,  150.750,2,   40.260,2,    0.000,2,    2.700,2, -999.000,9, -999.000,9, -999.000,9, -999.000,9, -999.000,9
           NA,    P03W,    227,   1,-999.0,      25,  2,19850509,0817,  24.2750,  167.9683,  6003, 2168.900,    1.913,   34.627,2,   34.628,2, -999.000,9,  108.900,2,  152.120,2,   39.550,2,    0.000,2,    2.660,2, -999.000,9, -999.000,9, -999.000,9, -999.000,9, -999.000,9
           NA,    P03W,    227,   1,-999.0,      26,  2,19850509,0817,  24.2750,  167.9683,  6003, 2466.000,    1.780,   34.643,2,   34.642,2, -999.000,9,  117.600,2,  152.220,2,   39.060,2,    0.000,2,    2.640,2, -999.000,9, -999.000,9, -999.000,9, -999.000,9, -999.000,9
           NA,    P03W,    227,   1,-999.0,      27,  2,19850509,0817,  24.2750,  167.9683,  6003, 2768.000,    1.672,   34.652,2,   34.653,2, -999.000,9,  124.500,2,  154.440,2,   38.740,2,    0.000,2,    2.610,2, -999.000,9, -999.000,9, -999.000,9, -999.000,9, -999.000,9
           NA,    P03W,    227,   1,-999.0,      28,  2,19850509,0817,  24.2750,  167.9683,  6003, 3073.400,    1.607,   34.661,2,   34.661,2, -999.000,9,  132.400,2,  153.040,2,   38.250,2,    0.000,2,    2.570,2, -999.000,9, -999.000,9, -999.000,9, -999.000,9, -999.000,9
           NA,    P03W,    227,   1,-999.0,      29,  2,19850509,0817,  24.2750,  167.9683,  6003, 3375.500,    1.562,   34.668,2,   34.668,2, -999.000,9,  138.300,2,  151.860,2,   37.710,2,    0.000,2,    2.550,2, -999.000,9, -999.000,9, -999.000,9, -999.000,9, -999.000,9
           NA,    P03W,    227,   1,-999.0,      30,  2,19850509,0817,  24.2750,  167.9683,  6003, 3676.600,    1.528,   34.674,2,   34.673,2, -999.000,9,  145.300,2,  149.820,2,   37.230,2,    0.000,2,    2.520,2, -999.000,9, -999.000,9, -999.000,9, -999.000,9, -999.000,9
           NA,    P03W,    227,   1,-999.0,      31,  2,19850509,0817,  24.2750,  167.9683,  6003, 3976.900,    1.503,   34.678,2,   34.677,2, -999.000,9,  151.600,2,  146.080,2,   36.740,2,    0.000,2,    2.500,2,   -0.001,2,   -0.002,2, -999.000,9, -999.000,9, -999.000,9
           NA,    P03W,    227,   1,-999.0,      32,  2,19850509,0817,  24.2750,  167.9683,  6003, 4377.100,    1.483,   34.683,2,   34.682,2, -999.000,9,  158.700,2,  142.770,2,   36.320,2,    0.000,2,    2.460,2,    0.002,2, -999.000,9, -999.000,9, -999.000,9, -999.000,9
           NA,    P03W,    227,   1,-999.0,      33,  2,19850509,0817,  24.2750,  167.9683,  6003, 4781.600,    1.476,   34.687,2,   34.686,2, -999.000,9,  166.200,2,  139.890,2,   35.680,2,    0.000,2,    2.400,2,   -0.004,2, -999.000,9, -999.000,9, -999.000,9, -999.000,9
           NA,    P03W,    227,   1,-999.0,      34,  2,19850509,0817,  24.2750,  167.9683,  6003, 5192.200,    1.477,   34.690,2,   34.690,2, -999.000,9,  172.600,2,  136.790,2,   34.970,2,    0.000,2,    2.400,2,    0.000,2,   -0.006,2, -999.000,9, -999.000,9, -999.000,9
           NA,    P03W,    227,   1,-999.0,      35,  2,19850509,0817,  24.2750,  167.9683,  6003, 5609.700,    1.483,   34.694,2,   34.694,2, -999.000,9,  178.300,2,  131.450,2,   34.760,2,    0.000,2,    2.380,2,   -0.005,2,   -0.004,2, -999.000,9, -999.000,9, -999.000,9
           NA,    P03W,    227,   1,-999.0,      36,  2,19850509,0817,  24.2750,  167.9683,  6003, 6111.200,    1.521,   34.695,2,   34.696,2, -999.000,9,  181.700,2,  129.630,2,   34.280,2,    0.000,2,    2.360,2,   -0.004,2, -999.000,9, -999.000,9, -999.000,9, -999.000,9