BOTTLE,20203103JOAExport
EXPOCODE,SECT_ID,STNNBR,CASTNO,SAMPNO,BTLNBR,BTLNBR_FLAG_W,DATE,TIME,LATITUDE,LONGITUDE,DEPTH,CTDPRS,CTDTMP,CTDSAL,CTDSAL_FLAG_W,SALNTY,SALNTY_FLAG_W,CTDOXY,CTDOXY_FLAG_W,OXYGEN,OXYGEN_FLAG_W,SILCAT,SILCAT_FLAG_W,NITRAT,NITRAT_FLAG_W,NITRIT,NITRIT_FLAG_W,PHSPHT,PHSPHT_FLAG_W,CFC-11,CFC-11_FLAG_W,CFC-12,CFC-12_FLAG_W,SF6,SF6_FLAG_W,TCARBN,TCARBN_FLAG_W,ALKALI,ALKALI_FLAG_W
,,,,,,,,,,,,,DB,ITS-90,PSS-78,,PSS-78,,UMOL/KG,,UMOL/KG,,UMOL/KG,,UMOL/KG,,UMOL/KG,,UMOL/KG,,PMOL/KG,,PMOL/KG,,FMOL/KG,,UMOL/KG,,UMOL/KG
           NA,    P03E,     31,   1,-999.0,       1,  2,19850403,0835,  29.0500, -123.8717,  4435,    0.900,   16.476,   33.726,2,   33.726,2, -999.000,9,  248.900,2,    2.890,2,    0.080,2,    0.000,2,    0.300,2,    2.300,2,    1.134,2, -999.000,9, -999.000,9, -999.000,9
           NA,    P03E,     31,   1,-999.0,       3,  2,19850403,0835,  29.0500, -123.8717,  4435,   20.100,   16.419,   33.724,2,   33.724,2, -999.000,9,  248.400,2,    2.840,2,    0.080,2,    0.000,2,    0.300,2,    2.293,2,    1.136,2, -999.000,9, -999.000,9, -999.000,9
           NA,    P03E,     31,   1,-999.0,       4,  2,19850403,0835,  29.0500, -123.8717,  4435,   35.100,   16.345,   33.720,2,   33.720,2, -999.000,9,  249.300,2,    2.790,2,    0.080,2,    0.000,2,    0.290,2,    2.268,2,    1.125,2, -999.000,9, -999.000,9, -999.000,9
           NA,    P03E,     31,   1,-999.0,       5,  2,19850403,0835,  29.0500, -123.8717,  4435,   54.800,   16.285,   33.727,2,   33.727,2, -999.000,9,  249.300,2,    2.740,2,    0.080,2,    0.000,2,    0.290,2,    2.268,2,    1.142,2, -999.000,9, -999.000,9, -999.000,9
           NA,    P03E,     31,   1,-999.0,       6,  2,19850403,0835,  29.0500, -123.8717,  4435,   74.700,   16.223,   33.725,2,   33.728,2, -999.000,9,  248.900,2,    2.500,2,    0.080,2,    0.000,2,    0.290,2,    2.276,2,    1.127,2, -999.000,9, -999.000,9, -999.000,9
           NA,    P03E,     31,   1,-999.0,       7,  2,19850403,0835,  29.0500, -123.8717,  4435,   94.700,   15.988,   33.673,2,   33.677,2, -999.000,9,  250.600,2,    2.640,2,    0.080,2,    0.000,2,    0.300,2,    2.312,2,    1.141,2, -999.000,9, -999.000,9, -999.000,9
           NA,    P03E,     31,   1,-999.0,       8,  2,19850403,0835,  29.0500, -123.8717,  4435,  125.200,   16.063,   33.979,2,   33.986,2, -999.000,9,  240.100,2,    2.980,2,    0.320,2,    0.030,2,    0.290,2,    2.251,2,    1.111,2, -999.000,9, -999.000,9, -999.000,9
           NA,    P03E,     31,   1,-999.0,       9,  2,19850403,0835,  29.0500, -123.8717,  4435,  156.000,   13.221,   33.749,2,   33.749,2, -999.000,9,  224.700,2,    5.420,2,    4.960,2,    0.010,2,    0.600,2,    2.295,2,    1.111,2, -999.000,9, -999.000,9, -999.000,9
           NA,    P03E,     31,   1,-999.0,      10,  2,19850403,0835,  29.0500, -123.8717,  4435,  196.600,    9.983,   33.671,2,   33.667,2, -999.000,9,  187.200,2,   17.310,2,   16.440,2,    0.000,2,    1.280,2,    2.115,2,    1.013,2, -999.000,9, -999.000,9, -999.000,9
           NA,    P03E,     31,   1,-999.0,      11,  2,19850403,0835,  29.0500, -123.8717,  4435,  236.100,    9.057,   33.915,2,   33.917,2, -999.000,9,  152.300,2,   28.050,2,   23.070,2,    0.000,2,    1.700,2,    1.332,2,    0.647,2, -999.000,9, -999.000,9, -999.000,9
           NA,    P03E,     31,   1,-999.0,      12,  2,19850403,0835,  29.0500, -123.8717,  4435,  286.500,    8.293,   34.039,2,   34.037,2, -999.000,9,  121.800,2,   37.850,2,   27.320,2,    0.000,2,    2.010,2,    0.762,6,    0.380,6, -999.000,9, -999.000,9, -999.000,9
           NA,    P03E,     31,   1,-999.0,      13,  2,19850403,0835,  29.0500, -123.8717,  4435,  336.600,    7.467,   34.072,2,   34.074,2, -999.000,9,   94.800,2,   48.650,2,   31.400,2,    0.000,2,    2.300,2,    0.392,2,    0.207,2, -999.000,9, -999.000,9, -999.000,9
           NA,    P03E,     31,   1,-999.0,      14,  2,19850403,0835,  29.0500, -123.8717,  4435,  396.800,    6.750,   34.112,2,   34.112,2, -999.000,9,   63.900,2,   60.440,2,   35.420,2,    0.000,2,    2.590,2,    0.152,2,    0.088,2, -999.000,9, -999.000,9, -999.000,9
           NA,    P03E,     31,   1,-999.0,      15,  2,19850403,0835,  29.0500, -123.8717,  4435,  456.800,    6.231,   34.170,2,   34.170,2, -999.000,9,   39.600,2,   70.700,2,   38.420,2,    0.000,2,    2.860,2,    0.043,2,    0.026,2, -999.000,9, -999.000,9, -999.000,9
           NA,    P03E,     31,   1,-999.0,      16,  2,19850403,0835,  29.0500, -123.8717,  4435,  527.500,    5.783,   34.226,2,   34.229,2, -999.000,9,   24.800,2,   80.590,2,   40.600,2,    0.000,2,    3.000,2,    0.035,2,    0.010,2, -999.000,9, -999.000,9, -999.000,9
           NA,    P03E,     31,   1,-999.0,      17,  2,19850403,0835,  29.0500, -123.8717,  4435,  608.500,    5.437,   34.307,2,   34.308,2, -999.000,9,   15.700,2,   88.920,2,   42.110,2,    0.000,2,    3.110,2, -999.000,9, -999.000,9, -999.000,9, -999.000,9, -999.000,9
           NA,    P03E,     31,   1,-999.0,      18,  2,19850403,0835,  29.0500, -123.8717,  4435,  709.700,    5.028,   34.382,2, -999.000,5, -999.000,9,    9.600,2,   97.270,2,   43.370,2,    0.000,2,    3.170,2,    0.010,2,   -0.004,2, -999.000,9, -999.000,9, -999.000,9
           NA,    P03E,     31,   1,-999.0,      19,  2,19850403,0835,  29.0500, -123.8717,  4435,  809.200,    4.643,   34.423,2,   34.423,2, -999.000,9,   15.700,2,  103.850,2,   44.110,2,    0.000,2,    3.190,2, -999.000,9, -999.000,9, -999.000,9, -999.000,9, -999.000,9
           NA,    P03E,     31,   1,-999.0,      20,  2,19850403,0835,  29.0500, -123.8717,  4435,  910.800,    4.280,   34.451,2,   34.454,2, -999.000,9,   20.900,2,  111.230,2,   44.370,2,    0.000,2,    3.190,2,    0.004,2,   -0.003,2, -999.000,9, -999.000,9, -999.000,9
           NA,    P03E,     31,   1,-999.0,      21,  2,19850403,0835,  29.0500, -123.8717,  4435, 1012.100,    3.966,   34.482,2,   34.483,2, -999.000,9,   26.100,2,  118.810,2,   44.580,2,    0.000,2,    3.180,2, -999.000,9, -999.000,9, -999.000,9, -999.000,9, -999.000,9
           NA,    P03E,     31,   1,-999.0,      22,  2,19850403,0835,  29.0500, -123.8717,  4435, 1113.100,    3.673,   34.504,2,   34.505,2, -999.000,9,   30.900,2,  126.800,2,   44.580,2,    0.000,2,    3.170,2,    0.013,2,   -0.013,2, -999.000,9, -999.000,9, -999.000,9
           NA,    P03E,     31,   1,-999.0,      23,  2,19850403,0835,  29.0500, -123.8717,  4435, 1264.200,    3.286,   34.531,2,   34.532,2, -999.000,9,   38.700,2,  136.990,2,   44.250,2,    0.000,2,    3.130,2, -999.000,9, -999.000,9, -999.000,9, -999.000,9, -999.000,9
           NA,    P03E,     31,   1,-999.0,      24,  2,19850403,0835,  29.0500, -123.8717,  4435, 1415.400,    2.961,   34.554,2,   34.555,2, -999.000,9,   46.500,2,  145.800,2,   43.880,2,    0.000,2,    3.090,2,   -0.005,2, -999.000,9, -999.000,9, -999.000,9, -999.000,9
           NA,    P03E,     31,   1,-999.0,      25,  2,19850403,0835,  29.0500, -123.8717,  4435, 1618.000,    2.616,   34.580,2,   34.581,2, -999.000,9,   57.400,2,  154.230,2,   43.240,2,    0.000,2,    3.030,2, -999.000,9, -999.000,9, -999.000,9, -999.000,9, -999.000,9
           NA,    P03E,     31,   1,-999.0,      26,  2,19850403,0835,  29.0500, -123.8717,  4435, 1819.500,    2.303,   34.606,2,   34.606,2, -999.000,9,   71.700,2,  161.670,2,   42.440,2,    0.000,2,    2.940,2, -999.000,9, -999.000,9, -999.000,9, -999.000,9, -999.000,9
           NA,    P03E,     31,   1,-999.0,      27,  2,19850403,0835,  29.0500, -123.8717,  4435, 2021.500,    2.088,   34.626,2,   34.626,2, -999.000,9,   84.700,2,  163.510,2,   41.590,2,    0.000,2,    2.870,2, -999.000,9, -999.000,9, -999.000,9, -999.000,9, -999.000,9
           NA,    P03E,     31,   1,-999.0,      28,  2,19850403,0835,  29.0500, -123.8717,  4435, 2224.300,    1.936,   34.640,2,   34.638,2, -999.000,9,   95.600,2,  164.560,2,   40.750,2,    0.000,2,    2.800,2,    0.000,2, -999.000,9, -999.000,9, -999.000,9, -999.000,9
           NA,    P03E,     31,   1,-999.0,      29,  2,19850403,0835,  29.0500, -123.8717,  4435, 2529.000,    1.796,   34.652,2,   34.651,2, -999.000,9,  105.200,2,  166.400,2,   40.130,2,    0.000,2,    2.750,2, -999.000,9, -999.000,9, -999.000,9, -999.000,9, -999.000,9
           NA,    P03E,     31,   1,-999.0,      30,  2,19850403,0835,  29.0500, -123.8717,  4435, 2833.700,    1.662,   34.661,2,   34.661,2, -999.000,9,  115.200,2,  169.440,2,   39.500,2,    0.000,2,    2.700,2, -999.000,9, -999.000,9, -999.000,9, -999.000,9, -999.000,9
           NA,    P03E,     31,   1,-999.0,      31,  2,19850403,0835,  29.0500, -123.8717,  4435, 3136.600,    1.587,   34.668,2,   34.670,2, -999.000,9,  123.800,2,  173.080,2,   39.030,2,    0.000,2,    2.660,2,   -0.003,2,   -0.001,2, -999.000,9, -999.000,9, -999.000,9
           NA,    P03E,     31,   1,-999.0,      32,  2,19850403,0835,  29.0500, -123.8717,  4435, 3442.100,    1.543,   34.672,2,   34.672,2, -999.000,9,  129.100,2,  174.720,2,   38.670,2,    0.000,2,    2.620,2, -999.000,9, -999.000,9, -999.000,9, -999.000,9, -999.000,9
           NA,    P03E,     31,   1,-999.0,      33,  2,19850403,0835,  29.0500, -123.8717,  4435, 3748.800,    1.516,   34.677,2,   34.677,2, -999.000,9,  136.900,2,  172.750,2,   38.310,2, -999.000,5,    2.590,2, -999.000,9, -999.000,9, -999.000,9, -999.000,9, -999.000,9
           NA,    P03E,     31,   1,-999.0,      34,  2,19850403,0835,  29.0500, -123.8717,  4435, 4057.800,    1.521,   34.680,2,   34.678,2, -999.000,9,  137.700,2,  170.800,2,   38.000,2,    0.000,2,    2.560,2, -999.000,9, -999.000,9, -999.000,9, -999.000,9, -999.000,9
           NA,    P03E,     31,   1,-999.0,      35,  2,19850403,0835,  29.0500, -123.8717,  4435, 4312.900,    1.542,   34.681,2,   34.679,2, -999.000,9,  140.800,2,  171.430,2,   37.790,2,    0.000,2,    2.560,2, -999.000,9, -999.000,9, -999.000,9, -999.000,9, -999.000,9
           NA,    P03E,     31,   1,-999.0,      36,  2,19850403,0835,  29.0500, -123.8717,  4435, 4538.400,    1.568,   34.681,2,   34.679,2, -999.000,9,  139.900,2,  171.470,2,   37.890,2,    0.000,2,    2.560,2,    0.005,2, -999.000,9, -999.000,9, -999.000,9, -999.000,9
           NA,    P03E,     30,   2,-999.0,       1,  2,19850403,0115,  29.5433, -123.2367,  4252,    0.500,   16.218,   33.604,2,   33.605,2, -999.000,9,  249.700,2,    3.620,2,    0.000,2,    0.000,2,    0.310,2, -999.000,9, -999.000,9, -999.000,9, -999.000,9, -999.000,9
           NA,    P03E,     30,   2,-999.0,       4,  2,19850403,0115,  29.5433, -123.2367,  4252,   19.700,   15.935,   33.588,2,   33.587,2, -999.000,9,  251.000,2,    3.420,2,    0.000,2,    0.000,2,    0.310,2, -999.000,9, -999.000,9, -999.000,9, -999.000,9, -999.000,9
           NA,    P03E,     30,   2,-999.0,       5,  2,19850403,0115,  29.5433, -123.2367,  4252,   34.700,   15.931,   33.605,2,   33.601,2, -999.000,9,  250.600,2,    3.330,2,    0.000,2,    0.000,2,    0.310,2, -999.000,9, -999.000,9, -999.000,9, -999.000,9, -999.000,9
           NA,    P03E,     30,   2,-999.0,       6,  2,19850403,0115,  29.5433, -123.2367,  4252,   54.600,   15.879,   33.602,2,   33.600,2, -999.000,9,  250.200,2,    3.130,2,    0.000,2,    0.000,2,    0.310,2, -999.000,9, -999.000,9, -999.000,9, -999.000,9, -999.000,9
           NA,    P03E,     30,   2,-999.0,       7,  2,19850403,0115,  29.5433, -123.2367,  4252,   74.800,   15.858,   33.597,2,   33.598,2, -999.000,9,  251.000,2,    3.030,2,    0.000,2,    0.000,2,    0.310,2, -999.000,9, -999.000,9, -999.000,9, -999.000,9, -999.000,9
           NA,    P03E,     30,   2,-999.0,       8,  2,19850403,0115,  29.5433, -123.2367,  4252,   95.500,   15.833,   33.600,2,   33.602,2, -999.000,9,  250.600,2,    2.840,2,    0.000,2,    0.000,2,    0.310,2, -999.000,9, -999.000,9, -999.000,9, -999.000,9, -999.000,9
           NA,    P03E,     30,   2,-999.0,       9,  2,19850403,0115,  29.5433, -123.2367,  4252,  125.900,   13.462,   33.401,2,   33.399,2, -999.000,9,  237.900,2,    4.210,2,    2.720,2,    0.050,2,    0.560,2, -999.000,9, -999.000,9, -999.000,9, -999.000,9, -999.000,9
           NA,    P03E,     30,   2,-999.0,      10,  2,19850403,0115,  29.5433, -123.2367,  4252,  156.300,   12.088,   33.568,2,   33.588,2, -999.000,9,  206.000,2,    9.680,2,    9.420,2,    0.010,2,    0.920,2, -999.000,9, -999.000,9, -999.000,9, -999.000,9, -999.000,9
           NA,    P03E,     30,   2,-999.0,      11,  2,19850403,0115,  29.5433, -123.2367,  4252,  196.700,   10.659,   33.766,2,   33.771,2, -999.000,9,  165.400,2,   18.880,2,   17.510,2,    0.000,2,    1.440,2, -999.000,9, -999.000,9, -999.000,9, -999.000,9, -999.000,9
           NA,    P03E,     30,   2,-999.0,      12,  2,19850403,0115,  29.5433, -123.2367,  4252,  236.400,    9.589,   33.946,2,   33.956,2, -999.000,9,  131.900,2,   28.460,2,   23.470,2,    0.000,2,    1.820,2, -999.000,9, -999.000,9, -999.000,9, -999.000,9, -999.000,9
           NA,    P03E,     30,   2,-999.0,      13,  2,19850403,0115,  29.5433, -123.2367,  4252,  287.000,    8.408,   34.059,2,   34.060,2, -999.000,9,  115.700,2,   38.230,2,   27.380,2,    0.000,2,    2.060,2, -999.000,9, -999.000,9, -999.000,9, -999.000,9, -999.000,9
           NA,    P03E,     30,   2,-999.0,      14,  2,19850403,0115,  29.5433, -123.2367,  4252,  336.900,    7.682,   34.083,2,   34.082,2, -999.000,9,   94.400,2,   46.940,2,   30.700,2,    0.000,2,    2.290,2, -999.000,9, -999.000,9, -999.000,9, -999.000,9, -999.000,9
           NA,    P03E,     30,   2,-999.0,      15,  2,19850403,0115,  29.5433, -123.2367,  4252,  397.900,    7.100,   34.145,2,   34.152,2, -999.000,9,   57.400,2,   57.980,2,   34.610,2,    0.000,2,    2.640,2, -999.000,9, -999.000,9, -999.000,9, -999.000,9, -999.000,9
           NA,    P03E,     30,   2,-999.0,      16,  2,19850403,0115,  29.5433, -123.2367,  4252,  458.300,    6.707,   34.192,2,   34.191,2, -999.000,9,   39.100,2,   65.610,2,   36.760,2,    0.000,2,    2.810,2, -999.000,9, -999.000,9, -999.000,9, -999.000,9, -999.000,9
           NA,    P03E,     30,   2,-999.0,      17,  2,19850403,0115,  29.5433, -123.2367,  4252,  528.400,    6.166,   34.245,2,   34.245,2, -999.000,9,   23.500,2,   75.680,2,   39.300,2,    0.000,2,    2.990,2, -999.000,9, -999.000,9, -999.000,9, -999.000,9, -999.000,9
           NA,    P03E,     30,   2,-999.0,      18,  2,19850403,0115,  29.5433, -123.2367,  4252,  609.200,    5.669,   34.306,2,   34.308,2, -999.000,9,   13.000,2,   85.650,2,   41.260,2,    0.000,2,    3.110,2, -999.000,9, -999.000,9, -999.000,9, -999.000,9, -999.000,9
           NA,    P03E,     30,   2,-999.0,      19,  2,19850403,0115,  29.5433, -123.2367,  4252,  710.000,    5.144,   34.366,2,   34.367,2, -999.000,9,   11.300,2,   96.200,2,   42.920,2,    0.000,2,    3.190,2, -999.000,9, -999.000,9, -999.000,9, -999.000,9, -999.000,9
           NA,    P03E,     30,   2,-999.0,      20,  2,19850403,0115,  29.5433, -123.2367,  4252,  810.900,    4.738,   34.407,2,   34.408,2, -999.000,9,   13.900,2,  104.310,2,   43.700,2,    0.000,2,    3.190,2, -999.000,9, -999.000,9, -999.000,9, -999.000,9, -999.000,9
           NA,    P03E,     30,   2,-999.0,      21,  2,19850403,0115,  29.5433, -123.2367,  4252,  911.300,    4.335,   34.438,2,   34.439,2, -999.000,9,   17.800,2,  112.420,2,   44.090,2,    0.000,2,    3.200,2, -999.000,9, -999.000,9, -999.000,9, -999.000,9, -999.000,9
           NA,    P03E,     30,   2,-999.0,      23,  2,19850403,0115,  29.5433, -123.2367,  4252, 1113.300,    3.707,   34.490,2,   34.491,2, -999.000,9,   28.300,2,  127.470,2,   44.280,2,    0.000,2,    3.180,2, -999.000,9, -999.000,9, -999.000,9, -999.000,9, -999.000,9
           NA,    P03E,     30,   2,-999.0,      24,  2,19850403,0115,  29.5433, -123.2367,  4252, 1264.200,    3.323,   34.525,2,   34.527,2, -999.000,9,   36.500,2,  137.340,2,   44.090,2,    0.000,2,    3.140,2, -999.000,9, -999.000,9, -999.000,9, -999.000,9, -999.000,9
           NA,    P03E,     30,   2,-999.0,      25,  2,19850403,0115,  29.5433, -123.2367,  4252, 1414.900,    3.020,   34.551,2,   34.554,2, -999.000,9,   43.500,2,  146.330,2,   43.790,2,    0.000,2,    3.110,2, -999.000,9, -999.000,9, -999.000,9, -999.000,9, -999.000,9
           NA,    P03E,     30,   2,-999.0,      26,  2,19850403,0115,  29.5433, -123.2367,  4252, 1617.800,    2.658,   34.578,2,   34.578,2, -999.000,9,   55.600,2,  155.810,2,   43.110,2,    0.000,2,    3.040,2, -999.000,9, -999.000,9, -999.000,9, -999.000,9, -999.000,9
           NA,    P03E,     30,   2,-999.0,      27,  2,19850403,0115,  29.5433, -123.2367,  4252, 1819.700,    2.336,   34.604,2,   34.605,2, -999.000,9,   69.500,2,  162.650,2,   42.230,2,    0.000,2,    2.950,2, -999.000,9, -999.000,9, -999.000,9, -999.000,9, -999.000,9
           NA,    P03E,     30,   2,-999.0,      28,  2,19850403,0115,  29.5433, -123.2367,  4252, 2018.700,    2.109,   34.623,2,   34.625,2, -999.000,9,   82.100,2,  166.360,2,   41.440,2,    0.000,2,    2.890,2, -999.000,9, -999.000,9, -999.000,9, -999.000,9, -999.000,9
           NA,    P03E,     30,   2,-999.0,      29,  2,19850403,0115,  29.5433, -123.2367,  4252, 2218.000,    1.965,   34.636,2,   34.635,2, -999.000,9,   91.700,2,  168.420,2,   40.860,2,    0.000,2,    2.830,2, -999.000,9, -999.000,9, -999.000,9, -999.000,9, -999.000,9
           NA,    P03E,     30,   2,-999.0,      30,  2,19850403,0115,  29.5433, -123.2367,  4252, 2523.500,    1.812,   34.650,2,   34.650,2, -999.000,9,  103.400,2,  170.660,2,   40.080,2,    0.000,2,    2.760,2, -999.000,9, -999.000,9, -999.000,9, -999.000,9, -999.000,9
           NA,    P03E,     30,   2,-999.0,      31,  2,19850403,0115,  29.5433, -123.2367,  4252, 2829.300,    1.688,   34.658,2,   34.657,2, -999.000,9,  113.400,2,  171.740,2,   39.390,2,    0.000,2,    2.710,2, -999.000,9, -999.000,9, -999.000,9, -999.000,9, -999.000,9
           NA,    P03E,     30,   2,-999.0,      32,  2,19850403,0115,  29.5433, -123.2367,  4252, 3134.200,    1.608,   34.665,2,   34.665,2, -999.000,9,  121.200,2,  173.300,2,   38.900,2,    0.000,2,    2.670,2, -999.000,9, -999.000,9, -999.000,9, -999.000,9, -999.000,9
           NA,    P03E,     30,   2,-999.0,      33,  2,19850403,0115,  29.5433, -123.2367,  4252, 3443.000,    1.557,   34.670,2,   34.668,2, -999.000,9,  127.300,2,  172.220,2,   38.410,2,    0.000,2,    2.620,2, -999.000,9, -999.000,9, -999.000,9, -999.000,9, -999.000,9
           NA,    P03E,     30,   2,-999.0,      34,  2,19850403,0115,  29.5433, -123.2367,  4252, 3747.600,    1.532,   34.676,2,   34.676,2, -999.000,9,  132.500,2,  172.320,2,   38.120,2,    0.000,2,    2.600,2, -999.000,9, -999.000,9, -999.000,9, -999.000,9, -999.000,9
           NA,    P03E,     30,   2,-999.0,      35,  2,19850403,0115,  29.5433, -123.2367,  4252, 4054.000,    1.537,   34.677,2,   34.677,2, -999.000,9,  136.400,2,  172.030,2,   37.920,2,    0.000,2,    2.580,2, -999.000,9, -999.000,9, -999.000,9, -999.000,9, -999.000,9
           NA,    P03E,     30,   2,-999.0,      36,  2,19850403,0115,  29.5433, -123.2367,  4252, 4314.500,    1.557,   34.678,2,   34.677,2, -999.000,9,  141.200,2,  171.830,2,   37.830,2,    0.000,2,    2.580,2, -999.000,9, -999.000,9, -999.000,9, -999.000,9, -999.000,9