BOTTLE,20203103JOAExport
EXPOCODE,SECT_ID,STNNBR,CASTNO,SAMPNO,BTLNBR,BTLNBR_FLAG_W,DATE,TIME,LATITUDE,LONGITUDE,DEPTH,CTDPRS,CTDTMP,CTDSAL,CTDSAL_FLAG_W,SALNTY,SALNTY_FLAG_W,CTDOXY,CTDOXY_FLAG_W,OXYGEN,OXYGEN_FLAG_W,SILCAT,SILCAT_FLAG_W,NITRAT,NITRAT_FLAG_W,NITRIT,NITRIT_FLAG_W,PHSPHT,PHSPHT_FLAG_W,CFC-11,CFC-11_FLAG_W,CFC-12,CFC-12_FLAG_W,SF6,SF6_FLAG_W,TCARBN,TCARBN_FLAG_W,ALKALI,ALKALI_FLAG_W
,,,,,,,,,,,,,DB,ITS-90,PSS-78,,PSS-78,,UMOL/KG,,UMOL/KG,,UMOL/KG,,UMOL/KG,,UMOL/KG,,UMOL/KG,,PMOL/KG,,PMOL/KG,,FMOL/KG,,UMOL/KG,,UMOL/KG
           NA,    P03W,    310,   1,-999.0,       4,  2,19850521,2208,  24.2600,  140.7967,  2651,    0.700,   26.000,   34.982,2,   34.985,2, -999.000,9,  209.200,2,    1.070,2,    0.350,2,    0.000,2,    0.020,2,    1.406,2,    0.747,2, -999.000,9, -999.000,9, -999.000,9
           NA,    P03W,    310,   1,-999.0,      38,  2,19850521,2208,  24.2600,  140.7967,  2651,   19.900,   25.666,   34.987,2,   34.991,2, -999.000,9,  211.600,2,    1.040,2,    0.360,2,    0.000,2,    0.020,2, -999.000,9, -999.000,9, -999.000,9, -999.000,9, -999.000,9
           NA,    P03W,    310,   1,-999.0,       3,  2,19850521,2208,  24.2600,  140.7967,  2651,   39.800,   24.959,   34.980,2, -999.000,5, -999.000,9,  212.500,2,    1.020,2,    0.310,2,    0.000,2,    0.020,2, -999.000,9, -999.000,9, -999.000,9, -999.000,9, -999.000,9
           NA,    P03W,    310,   1,-999.0,       1,  2,19850521,2208,  24.2600,  140.7967,  2651,   70.100,   24.254,   34.956,2,   34.957,2, -999.000,9,  216.800,2,    1.000,2,    0.260,2,    0.000,2,    0.020,2, -999.000,9, -999.000,9, -999.000,9, -999.000,9, -999.000,9
           NA,    P03W,    310,   1,-999.0,       5,  2,19850521,2208,  24.2600,  140.7967,  2651,  100.500,   22.588,   34.938,2,   34.940,2, -999.000,9,  214.100,2,    1.180,2,    0.300,2,    0.010,2,    0.030,2,    1.509,2,    0.807,2, -999.000,9, -999.000,9, -999.000,9
           NA,    P03W,    310,   1,-999.0,       6,  2,19850521,2208,  24.2600,  140.7967,  2651,  141.100,   21.292,   34.926,2,   34.924,2, -999.000,9,  208.200,2,    2.190,2,    0.960,2,    0.040,2,    0.100,2, -999.000,9, -999.000,9, -999.000,9, -999.000,9, -999.000,9
           NA,    P03W,    310,   1,-999.0,       7,  2,19850521,2208,  24.2600,  140.7967,  2651,  181.200,   19.968,   34.890,2,   34.885,2, -999.000,9,  212.400,2,    2.370,2,    1.180,2,    0.060,2,    0.110,2,    1.720,2,    0.879,2, -999.000,9, -999.000,9, -999.000,9
           NA,    P03W,    310,   1,-999.0,       8,  2,19850521,2208,  24.2600,  140.7967,  2651,  231.600,   17.727,   34.816,2,   34.814,2, -999.000,9,  204.900,2,    3.790,2,    4.190,2,    0.020,2,    0.310,2, -999.000,9, -999.000,9, -999.000,9, -999.000,9, -999.000,9
           NA,    P03W,    310,   1,-999.0,       9,  2,19850521,2208,  24.2600,  140.7967,  2651,  281.900,   17.011,   34.786,2,   34.786,2, -999.000,9,  206.900,2,    4.380,2,    5.180,2,    0.010,2,    0.360,2,    1.715,2,    0.889,2, -999.000,9, -999.000,9, -999.000,9
           NA,    P03W,    310,   1,-999.0,      10,  2,19850521,2208,  24.2600,  140.7967,  2651,  341.200,   15.917,   34.719,2,   34.718,2, -999.000,9,  204.500,2,    6.620,2,    6.860,2,    0.010,2,    0.480,2,    1.614,2,    0.817,2, -999.000,9, -999.000,9, -999.000,9
           NA,    P03W,    310,   1,-999.0,      11,  2,19850521,2208,  24.2600,  140.7967,  2651,  410.900,   14.870,   34.634,2,   34.635,2, -999.000,9,  199.200,2,    9.060,2,    8.890,2,    0.010,2,    0.610,2,    1.533,2,    0.775,2, -999.000,9, -999.000,9, -999.000,9
           NA,    P03W,    310,   1,-999.0,      12,  2,19850521,2208,  24.2600,  140.7967,  2651,  502.100,   12.638,   34.445,2,   34.446,2, -999.000,9,  186.900,2,   16.840,2,   13.740,2,    0.010,2,    0.940,2, -999.000,9, -999.000,9, -999.000,9, -999.000,9, -999.000,9
           NA,    P03W,    310,   1,-999.0,      13,  2,19850521,2208,  24.2600,  140.7967,  2651,  602.200,   10.018,   34.274,2,   34.276,2, -999.000,9,  166.100,2,   31.800,2,   20.290,2,    0.000,2,    1.390,2,    0.951,2,    0.471,2, -999.000,9, -999.000,9, -999.000,9
           NA,    P03W,    310,   1,-999.0,      14,  2,19850521,2208,  24.2600,  140.7967,  2651,  728.300,    7.414,   34.172,2,   34.171,2, -999.000,9,  133.500,2,   55.810,2,   28.190,2,    0.000,2,    1.940,2,    0.666,2,    0.325,2, -999.000,9, -999.000,9, -999.000,9
           NA,    P03W,    310,   1,-999.0,      15,  2,19850521,2208,  24.2600,  140.7967,  2651,  854.300,    5.416,   34.190,2,   34.190,2, -999.000,9,   91.100,2,   84.370,2,   35.520,2,    0.000,2,    2.440,2,    0.316,2,    0.151,2, -999.000,9, -999.000,9, -999.000,9
           NA,    P03W,    310,   1,-999.0,      16,  2,19850521,2208,  24.2600,  140.7967,  2651, 1003.000,    4.250,   34.290,2,   34.290,2, -999.000,9,   65.900,2,  107.410,2,   39.620,2,    0.000,2,    2.740,2,    0.127,2,    0.066,2, -999.000,9, -999.000,9, -999.000,9
           NA,    P03W,    310,   1,-999.0,      17,  2,19850521,2208,  24.2600,  140.7967,  2651, 1201.300,    3.212,   34.425,2,   34.425,2, -999.000,9,   55.700,2,  129.900,2,   42.060,2,    0.000,2,    2.890,2,    0.005,2,    0.004,2, -999.000,9, -999.000,9, -999.000,9
           NA,    P03W,    310,   1,-999.0,      18,  2,19850521,2208,  24.2600,  140.7967,  2651, 1404.800,    2.792,   34.487,2,   34.487,2, -999.000,9,   67.000,2,  138.490,2,   41.790,2,    0.000,2,    2.870,2,   -0.001,2,    0.008,2, -999.000,9, -999.000,9, -999.000,9
           NA,    P03W,    310,   1,-999.0,      23,  2,19850521,2208,  24.2600,  140.7967,  2651, 1607.100,    2.424,   34.545,2,   34.546,2, -999.000,9,   84.400,2,  143.130,2,   40.780,2,    0.000,2,    2.790,2,   -0.006,2,    0.005,2, -999.000,9, -999.000,9, -999.000,9
           NA,    P03W,    310,   1,-999.0,      20,  2,19850521,2208,  24.2600,  140.7967,  2651, 1808.500,    2.169,   34.585,2,   34.585,2, -999.000,9,  102.300,2,  144.440,2,   39.830,2,    0.000,2,    2.740,2,    0.000,2,   -0.003,2, -999.000,9, -999.000,9, -999.000,9
           NA,    P03W,    310,   1,-999.0,      21,  2,19850521,2208,  24.2600,  140.7967,  2651, 2010.900,    2.036,   34.606,2,   34.605,2, -999.000,9,  111.000,2,  145.530,2,   39.350,2,    0.000,2,    2.680,2,    0.006,2,   -0.006,2, -999.000,9, -999.000,9, -999.000,9
           NA,    P03W,    310,   1,-999.0,      22,  2,19850521,2208,  24.2600,  140.7967,  2651, 2218.700,    1.903,   34.626,2,   34.626,2, -999.000,9,  120.000,2,  145.790,2,   38.670,2,    0.000,2,    2.600,2, -999.000,9, -999.000,9, -999.000,9, -999.000,9, -999.000,9
           NA,    P03W,    310,   1,-999.0,      39,  2,19850521,2208,  24.2600,  140.7967,  2651, 2422.300,    1.796,   34.641,2,   34.640,2, -999.000,9,  128.100,2,  145.640,2,   38.190,2,    0.000,2,    2.580,2,   -0.005,2, -999.000,9, -999.000,9, -999.000,9, -999.000,9
           NA,    P03W,    310,   1,-999.0,      24,  2,19850521,2208,  24.2600,  140.7967,  2651, 2671.400,    1.737,   34.650,2,   34.649,2, -999.000,9,  132.800,2,  145.700,2,   38.040,2,    0.000,2,    2.550,2,   -0.003,2,    0.009,2, -999.000,9, -999.000,9, -999.000,9
           NA,    P03W,    308,   1,-999.0,       4,  2,19850521,1751,  24.2500,  141.2000,  1851,    0.700,   25.634,   34.978,2,   34.979,2, -999.000,9,  209.500,2,    1.680,2,    0.100,2,    0.000,2,    0.030,2, -999.000,9, -999.000,9, -999.000,9, -999.000,9, -999.000,9
           NA,    P03W,    308,   1,-999.0,      11,  2,19850521,1751,  24.2500,  141.2000,  1851,   22.000,   24.757,   34.965,2,   34.966,2, -999.000,9,  212.200,2,    1.640,2,    0.100,2,    0.000,2,    0.030,2, -999.000,9, -999.000,9, -999.000,9, -999.000,9, -999.000,9
           NA,    P03W,    308,   1,-999.0,      12,  2,19850521,1751,  24.2500,  141.2000,  1851,   72.000,   24.338,   34.970,2,   34.968,2, -999.000,9,  210.600,2,    1.600,2,    0.110,2,    0.000,2,    0.040,2, -999.000,9, -999.000,9, -999.000,9, -999.000,9, -999.000,9
           NA,    P03W,    308,   1,-999.0,      13,  2,19850521,1751,  24.2500,  141.2000,  1851,  102.200,   23.302,   34.945,2,   34.946,2, -999.000,9,  207.100,2,    1.760,2,    0.290,2,    0.070,2,    0.080,2, -999.000,9, -999.000,9, -999.000,9, -999.000,9, -999.000,9
           NA,    P03W,    308,   1,-999.0,      14,  2,19850521,1751,  24.2500,  141.2000,  1851,  203.400,   19.639,   34.897,2,   34.895,2, -999.000,9,  201.700,2,    3.360,2,    2.160,2,    0.010,2,    0.230,2, -999.000,9, -999.000,9, -999.000,9, -999.000,9, -999.000,9
           NA,    P03W,    308,   1,-999.0,      15,  2,19850521,1751,  24.2500,  141.2000,  1851,  304.200,   16.492,   34.758,2,   34.758,2, -999.000,9,  206.700,2,    5.980,2,    5.760,2,    0.000,2,    0.450,2, -999.000,9, -999.000,9, -999.000,9, -999.000,9, -999.000,9
           NA,    P03W,    308,   1,-999.0,      16,  2,19850521,1751,  24.2500,  141.2000,  1851,  404.200,   14.613,   34.605,2,   34.604,2, -999.000,9,  196.900,2,   11.070,2,    9.320,2,    0.000,2,    0.710,2, -999.000,9, -999.000,9, -999.000,9, -999.000,9, -999.000,9
           NA,    P03W,    308,   1,-999.0,      17,  2,19850521,1751,  24.2500,  141.2000,  1851,  503.800,   12.344,   34.424,2,   34.423,2, -999.000,9,  183.200,2,   20.050,2,   14.620,2,    0.000,2,    1.070,2, -999.000,9, -999.000,9, -999.000,9, -999.000,9, -999.000,9
           NA,    P03W,    308,   1,-999.0,      18,  2,19850521,1751,  24.2500,  141.2000,  1851,  650.200,    9.134,   34.230,2,   34.231,2, -999.000,9,  155.300,2,   40.310,2,   22.840,2,    0.000,2,    1.650,2,    0.853,2,    0.401,2, -999.000,9, -999.000,9, -999.000,9
           NA,    P03W,    308,   1,-999.0,      23,  2,19850521,1751,  24.2500,  141.2000,  1851,  799.300,    5.658,   34.182,2,   34.182,2, -999.000,9,   95.200,2,   81.610,2,   34.830,2,    0.000,2,    2.450,2,    0.376,2,    0.164,2, -999.000,9, -999.000,9, -999.000,9
           NA,    P03W,    308,   1,-999.0,      20,  2,19850521,1751,  24.2500,  141.2000,  1851,  999.000,    4.060,   34.314,2,   34.314,2, -999.000,9,   63.100,2,  114.190,2,   40.140,2,    0.000,2,    2.810,2, -999.000,9,    0.048,2, -999.000,9, -999.000,9, -999.000,9
           NA,    P03W,    308,   1,-999.0,      21,  2,19850521,1751,  24.2500,  141.2000,  1851, 1197.800,    3.288,   34.411,2,   34.412,2, -999.000,9,   56.400,2,  131.120,2,   41.750,2,    0.000,2,    2.930,2,    0.037,2,    0.022,2, -999.000,9, -999.000,9, -999.000,9
           NA,    P03W,    308,   1,-999.0,      22,  2,19850521,1751,  24.2500,  141.2000,  1851, 1395.500,    2.793,   34.485,2,   34.485,2, -999.000,9,   66.000,2,  141.010,2,   41.600,2,    0.000,2,    2.880,2,    0.000,2,   -0.004,2, -999.000,9, -999.000,9, -999.000,9
           NA,    P03W,    308,   1,-999.0,      39,  2,19850521,1751,  24.2500,  141.2000,  1851, 1595.100,    2.412,   34.546,2,   34.546,2, -999.000,9,   85.400,2,  144.030,2,   40.660,2,    0.000,2,    2.790,2, -999.000,9,   -0.003,2, -999.000,9, -999.000,9, -999.000,9
           NA,    P03W,    308,   1,-999.0,      24,  2,19850521,1751,  24.2500,  141.2000,  1851, 1855.600,    2.125,   34.593,2,   34.592,2, -999.000,9,  104.100,2,  145.370,2,   39.610,2,    0.000,2,    2.700,2,    0.012,2,    0.008,2, -999.000,9, -999.000,9, -999.000,9
           NA,    P03W,    306,   1,-999.0,       4,  2,19850521,1455,  24.2450,  141.4067,   778,    1.800,   25.214,   34.958,2,   34.962,2, -999.000,9,  211.300,2,    1.930,2,    0.210,2,    0.000,2,    0.030,2,    1.470,2,    0.767,2, -999.000,9, -999.000,9, -999.000,9
           NA,    P03W,    306,   1,-999.0,      11,  2,19850521,1455,  24.2450,  141.4067,   778,   19.400,   24.736,   34.954,2,   34.956,2, -999.000,9,  213.100,2,    1.890,2,    0.220,2,    0.000,2,    0.020,2, -999.000,9, -999.000,9, -999.000,9, -999.000,9, -999.000,9
           NA,    P03W,    306,   1,-999.0,      12,  2,19850521,1455,  24.2450,  141.4067,   778,   38.700,   24.673,   34.956,2,   34.957,2, -999.000,9,  214.300,2,    1.840,2,    0.220,2,    0.000,2,    0.020,2, -999.000,9, -999.000,9, -999.000,9, -999.000,9, -999.000,9
           NA,    P03W,    306,   1,-999.0,      13,  2,19850521,1455,  24.2450,  141.4067,   778,   68.500,   24.620,   34.955,2,   34.956,2, -999.000,9,  213.900,2,    1.800,2,    0.220,2,    0.000,2,    0.020,2, -999.000,9, -999.000,9, -999.000,9, -999.000,9, -999.000,9
           NA,    P03W,    306,   1,-999.0,      14,  2,19850521,1455,  24.2450,  141.4067,   778,   98.600,   24.317,   34.958,2,   34.959,2, -999.000,9,  213.900,2,    1.760,2,    0.170,2,    0.000,2,    0.020,2,    1.532,2,    0.790,2, -999.000,9, -999.000,9, -999.000,9
           NA,    P03W,    306,   1,-999.0,      15,  2,19850521,1455,  24.2450,  141.4067,   778,  139.300,   23.386,   34.946,2,   34.946,2, -999.000,9,  210.600,2,    1.920,2,    0.260,2,    0.020,2,    0.040,2,    1.562,2,    0.805,2, -999.000,9, -999.000,9, -999.000,9
           NA,    P03W,    306,   1,-999.0,      16,  2,19850521,1455,  24.2450,  141.4067,   778,  179.200,   20.134,   34.900,2,   34.908,2, -999.000,9,  204.900,2,    2.290,2,    1.370,2,    0.030,2,    0.130,2,    1.660,2,    0.835,2, -999.000,9, -999.000,9, -999.000,9
           NA,    P03W,    306,   1,-999.0,      17,  2,19850521,1455,  24.2450,  141.4067,   778,  229.100,   18.201,   34.830,2,   34.830,2, -999.000,9,  205.800,2,    3.690,2,    3.390,2,    0.020,2,    0.260,2,    1.714,2,    0.843,2, -999.000,9, -999.000,9, -999.000,9
           NA,    P03W,    306,   1,-999.0,      18,  2,19850521,1455,  24.2450,  141.4067,   778,  279.600,   16.948,   34.773,2,   34.773,2, -999.000,9,  203.800,2,    4.880,2,    5.110,2,    0.020,2,    0.370,2,    1.716,2,    0.845,2, -999.000,9, -999.000,9, -999.000,9
           NA,    P03W,    306,   1,-999.0,      23,  2,19850521,1455,  24.2450,  141.4067,   778,  329.000,   16.266,   34.730,2,   34.731,2, -999.000,9,  203.400,2,    6.280,2,    6.290,2,    0.020,2,    0.460,2, -999.000,9, -999.000,9, -999.000,9, -999.000,9, -999.000,9
           NA,    P03W,    306,   1,-999.0,      20,  2,19850521,1455,  24.2450,  141.4067,   778,  398.000,   14.867,   34.627,2,   34.626,2, -999.000,9,  197.500,2,   10.150,2,    9.050,2,    0.020,2,    0.640,2,    1.504,2, -999.000,9, -999.000,9, -999.000,9, -999.000,9
           NA,    P03W,    306,   1,-999.0,      21,  2,19850521,1455,  24.2450,  141.4067,   778,  499.300,   11.425,   34.371,2,   34.370,2, -999.000,9,  176.000,2,   24.960,2,   16.670,2,    0.010,2,    1.150,2, -999.000,9, -999.000,9, -999.000,9, -999.000,9, -999.000,9
           NA,    P03W,    306,   1,-999.0,      22,  2,19850521,1455,  24.2450,  141.4067,   778,  599.400,    8.828,   34.239,2,   34.246,2, -999.000,9,  148.900,2,   43.680,2,   23.640,2,    0.000,2,    1.660,2,    0.798,2,    0.378,2, -999.000,9, -999.000,9, -999.000,9
           NA,    P03W,    306,   1,-999.0,      39,  2,19850521,1455,  24.2450,  141.4067,   778,  700.500,    6.510,   34.178,2,   34.178,2, -999.000,9,  112.300,2,   69.870,2,   31.590,2,    0.000,2,    2.210,2, -999.000,9,    0.199,2, -999.000,9, -999.000,9, -999.000,9
           NA,    P03W,    306,   1,-999.0,      24,  2,19850521,1455,  24.2450,  141.4067,   778,  810.800,    5.568,   34.205,2,   34.206,2, -999.000,9,   92.300,2,   84.500,2,   34.430,2,    0.000,2,    2.440,2,    0.322,2,    0.173,2, -999.000,9, -999.000,9, -999.000,9