BOTTLE,20203103JOAExport
EXPOCODE,SECT_ID,STNNBR,CASTNO,SAMPNO,BTLNBR,BTLNBR_FLAG_W,DATE,TIME,LATITUDE,LONGITUDE,DEPTH,CTDPRS,CTDTMP,CTDSAL,CTDSAL_FLAG_W,SALNTY,SALNTY_FLAG_W,CTDOXY,CTDOXY_FLAG_W,OXYGEN,OXYGEN_FLAG_W,SILCAT,SILCAT_FLAG_W,NITRAT,NITRAT_FLAG_W,NITRIT,NITRIT_FLAG_W,PHSPHT,PHSPHT_FLAG_W,CFC-11,CFC-11_FLAG_W,CFC-12,CFC-12_FLAG_W,SF6,SF6_FLAG_W,TCARBN,TCARBN_FLAG_W,ALKALI,ALKALI_FLAG_W
,,,,,,,,,,,,,DB,ITS-90,PSS-78,,PSS-78,,UMOL/KG,,UMOL/KG,,UMOL/KG,,UMOL/KG,,UMOL/KG,,UMOL/KG,,PMOL/KG,,PMOL/KG,,FMOL/KG,,UMOL/KG,,UMOL/KG
           NA,    P03W,    247,   1,-999.0,       1,  2,19850512,1520,  24.2683,  160.0550,  5506,    0.000,   25.297,   35.028,2,   35.031,2, -999.000,9,  209.500,2,    1.760,2,    0.040,2,    0.000,2,    0.030,2, -999.000,9, -999.000,9, -999.000,9, -999.000,9, -999.000,9
           NA,    P03W,    247,   1,-999.0,       2,  2,19850512,1520,  24.2683,  160.0550,  5506,   24.600,   24.029,   35.105,2,   35.104,2, -999.000,9,  214.600,2,    1.660,2,    0.040,2,    0.000,2,    0.030,2, -999.000,9, -999.000,9, -999.000,9, -999.000,9, -999.000,9
           NA,    P03W,    247,   1,-999.0,       3,  2,19850512,1520,  24.2683,  160.0550,  5506,   44.800,   22.848,   35.121,2,   35.126,2, -999.000,9,  219.400,2,    1.860,2,    0.040,2,    0.000,2,    0.040,2, -999.000,9, -999.000,9, -999.000,9, -999.000,9, -999.000,9
           NA,    P03W,    247,   1,-999.0,       4,  2,19850512,1520,  24.2683,  160.0550,  5506,   74.700,   20.987,   34.955,2,   34.955,2, -999.000,9,  228.400,2,    2.350,2,    0.040,2,    0.000,2,    0.030,2, -999.000,9, -999.000,9, -999.000,9, -999.000,9, -999.000,9
           NA,    P03W,    247,   1,-999.0,       5,  2,19850512,1520,  24.2683,  160.0550,  5506,  105.300,   19.308,   34.897,2,   34.901,2, -999.000,9,  227.500,2,    2.640,2,    0.040,2,    0.000,2,    0.080,2, -999.000,9, -999.000,9, -999.000,9, -999.000,9, -999.000,9
           NA,    P03W,    247,   1,-999.0,       6,  2,19850512,1520,  24.2683,  160.0550,  5506,  144.600,   17.816,   34.813,2,   34.814,2, -999.000,9,  222.200,2,    3.030,2,    1.930,2,    0.040,2,    0.190,2, -999.000,9, -999.000,9, -999.000,9, -999.000,9, -999.000,9
           NA,    P03W,    247,   1,-999.0,       7,  2,19850512,1520,  24.2683,  160.0550,  5506,  180.700,   17.050,   34.776,2,   34.777,2, -999.000,9,  226.900,2,    3.320,2,    2.800,2,    0.020,2,    0.220,2, -999.000,9, -999.000,9, -999.000,9, -999.000,9, -999.000,9
           NA,    P03W,    247,   1,-999.0,       8,  2,19850512,1520,  24.2683,  160.0550,  5506,  227.800,   16.772,   34.770,2,   34.770,2, -999.000,9,  219.900,2,    4.200,2,    3.840,2,    0.020,2,    0.300,2, -999.000,9, -999.000,9, -999.000,9, -999.000,9, -999.000,9
           NA,    P03W,    247,   1,-999.0,       9,  2,19850512,1520,  24.2683,  160.0550,  5506,  281.300,   15.925,   34.725,2,   34.725,2, -999.000,9,  208.600,2,    6.160,2,    6.210,2,    0.010,2,    0.440,2, -999.000,9, -999.000,9, -999.000,9, -999.000,9, -999.000,9
           NA,    P03W,    247,   1,-999.0,      10,  2,19850512,1520,  24.2683,  160.0550,  5506,  328.000,   15.265,   34.679,2,   34.678,2, -999.000,9,  205.500,2,    8.310,2,    7.730,2,    0.010,2,    0.550,2, -999.000,9, -999.000,9, -999.000,9, -999.000,9, -999.000,9
           NA,    P03W,    247,   1,-999.0,      11,  2,19850512,1520,  24.2683,  160.0550,  5506,  376.100,   14.297,   34.587,2,   34.589,2, -999.000,9,  199.800,2,   10.850,2,    9.770,2,    0.010,2,    0.690,2, -999.000,9, -999.000,9, -999.000,9, -999.000,9, -999.000,9
           NA,    P03W,    247,   1,-999.0,      12,  2,19850512,1520,  24.2683,  160.0550,  5506,  426.500,   12.330,   34.421,2,   34.425,2, -999.000,9,  195.000,2,   16.910,2,   13.300,2,    0.010,2,    0.930,2, -999.000,9, -999.000,9, -999.000,9, -999.000,9, -999.000,9
           NA,    P03W,    247,   1,-999.0,      13,  2,19850512,1520,  24.2683,  160.0550,  5506,  471.400,   10.801,   34.295,2,   34.311,2, -999.000,9,  191.000,2,   22.680,2,   16.230,2,    0.010,2,    1.140,2, -999.000,9, -999.000,9, -999.000,9, -999.000,9, -999.000,9
           NA,    P03W,    247,   1,-999.0,      14,  2,19850512,1520,  24.2683,  160.0550,  5506,  525.600,    8.934,   34.158,2,   34.158,2, -999.000,9,  166.200,2,   32.950,2,   22.000,2,    0.000,2,    1.540,2, -999.000,9, -999.000,9, -999.000,9, -999.000,9, -999.000,9
           NA,    P03W,    247,   1,-999.0,      15,  2,19850512,1520,  24.2683,  160.0550,  5506,  612.800,    6.851,   34.087,2,   34.086,2, -999.000,9,  126.600,2,   53.780,2,   29.530,2,    0.000,2,    2.080,2, -999.000,9, -999.000,9, -999.000,9, -999.000,9, -999.000,9
           NA,    P03W,    247,   1,-999.0,      16,  2,19850512,1520,  24.2683,  160.0550,  5506,  707.500,    5.279,   34.106,2,   34.105,2, -999.000,9,   87.800,2,   78.620,2,   35.980,2,    0.000,2,    2.510,2, -999.000,9, -999.000,9, -999.000,9, -999.000,9, -999.000,9
           NA,    P03W,    247,   1,-999.0,      17,  2,19850512,1520,  24.2683,  160.0550,  5506,  812.200,    4.613,   34.214,2,   34.214,2, -999.000,9,   56.100,2,   96.700,2,   39.990,2,    0.000,2,    2.790,2, -999.000,9, -999.000,9, -999.000,9, -999.000,9, -999.000,9
           NA,    P03W,    247,   1,-999.0,      18,  2,19850512,1520,  24.2683,  160.0550,  5506,  948.800,    3.964,   34.318,2,   34.320,2, -999.000,9,   43.500,2,  113.410,2,   42.140,2,    0.000,2,    2.890,2, -999.000,9, -999.000,9, -999.000,9, -999.000,9, -999.000,9
           NA,    P03W,    247,   1,-999.0,      39,  2,19850512,1520,  24.2683,  160.0550,  5506, 1107.900,    3.514,   34.441,2,   34.441,2, -999.000,9,   52.600,2,  123.080,2,   42.040,2,    0.000,2,    2.890,2, -999.000,9, -999.000,9, -999.000,9, -999.000,9, -999.000,9
           NA,    P03W,    247,   1,-999.0,      20,  2,19850512,1520,  24.2683,  160.0550,  5506, 1262.000,    3.042,   34.491,2,   34.490,2, -999.000,9,   60.400,2,  133.630,2,   41.640,2,    0.010,2,    2.850,2, -999.000,9, -999.000,9, -999.000,9, -999.000,9, -999.000,9
           NA,    P03W,    247,   1,-999.0,      21,  2,19850512,1520,  24.2683,  160.0550,  5506, 1413.400,    2.719,   34.529,2,   34.529,2, -999.000,9,   72.100,2,  139.790,2,   41.450,2,    0.000,2,    2.840,2, -999.000,9, -999.000,9, -999.000,9, -999.000,9, -999.000,9
           NA,    P03W,    247,   1,-999.0,      22,  2,19850512,1520,  24.2683,  160.0550,  5506, 1615.100,    2.360,   34.566,2,   34.565,2, -999.000,9,   84.300,2,  145.940,2,   40.660,2,    0.010,2,    2.780,2, -999.000,9, -999.000,9, -999.000,9, -999.000,9, -999.000,9
           NA,    P03W,    247,   1,-999.0,      23,  2,19850512,1520,  24.2683,  160.0550,  5506, 1818.100,    2.136,   34.589,2,   34.590,2, -999.000,9,   91.700,2,  149.460,2,   40.370,2,    0.000,2,    2.770,2, -999.000,9, -999.000,9, -999.000,9, -999.000,9, -999.000,9
           NA,    P03W,    247,   1,-999.0,      24,  2,19850512,1520,  24.2683,  160.0550,  5506, 2020.600,    1.945,   34.612,2,   34.612,2, -999.000,9,  102.600,2,  152.580,2,   39.880,2,    0.000,2,    2.740,2, -999.000,9, -999.000,9, -999.000,9, -999.000,9, -999.000,9
           NA,    P03W,    247,   1,-999.0,      25,  2,19850512,1520,  24.2683,  160.0550,  5506, 2219.900,    1.829,   34.627,2,   34.626,2, -999.000,9,  109.500,2,  153.070,2,   39.290,2,    0.000,2,    2.670,2, -999.000,9, -999.000,9, -999.000,9, -999.000,9, -999.000,9
           NA,    P03W,    247,   1,-999.0,      26,  2,19850512,1520,  24.2683,  160.0550,  5506, 2519.000,    1.688,   34.645,2,   34.645,2, -999.000,9,  123.000,2,  152.870,2, -999.000,5,    0.010,2,    2.620,2, -999.000,9, -999.000,9, -999.000,9, -999.000,9, -999.000,9
           NA,    P03W,    247,   1,-999.0,      27,  2,19850512,1520,  24.2683,  160.0550,  5506, 2811.300,    1.609,   34.655,2, -999.000,5, -999.000,9,  129.500,2,  152.090,2,   37.920,2,    0.010,2,    2.580,2, -999.000,9, -999.000,9, -999.000,9, -999.000,9, -999.000,9
           NA,    P03W,    247,   1,-999.0,      28,  2,19850512,1520,  24.2683,  160.0550,  5506, 3097.500,    1.559,   34.664,2,   34.663,2, -999.000,9,  137.300,2,  150.520,2,   37.530,2,    0.010,2,    2.540,2, -999.000,9, -999.000,9, -999.000,9, -999.000,9, -999.000,9
           NA,    P03W,    247,   1,-999.0,      29,  2,19850512,1520,  24.2683,  160.0550,  5506, 3387.300,    1.514,   34.671,2,   34.670,2, -999.000,9,  143.400,2,  150.040,2,   37.240,2,    0.000,2,    2.500,2, -999.000,9, -999.000,9, -999.000,9, -999.000,9, -999.000,9
           NA,    P03W,    247,   1,-999.0,      30,  2,19850512,1520,  24.2683,  160.0550,  5506, 3696.100,    1.486,   34.675,2,   34.676,2, -999.000,9,  149.500,2,  148.280,2,   36.650,2,    0.000,2,    2.470,2, -999.000,9, -999.000,9, -999.000,9, -999.000,9, -999.000,9
           NA,    P03W,    247,   1,-999.0,      31,  2,19850512,1520,  24.2683,  160.0550,  5506, 4007.400,    1.460,   34.681,2,   34.682,2, -999.000,9,  156.000,2,  145.540,2,   36.260,2,    0.000,2,    2.450,2, -999.000,9, -999.000,9, -999.000,9, -999.000,9, -999.000,9
           NA,    P03W,    247,   1,-999.0,      32,  2,19850512,1520,  24.2683,  160.0550,  5506, 4322.500,    1.450,   34.684,2,   34.685,2, -999.000,9,  161.200,2,  142.510,2,   35.770,2,    0.000,2,    2.420,2, -999.000,9, -999.000,9, -999.000,9, -999.000,9, -999.000,9
           NA,    P03W,    247,   1,-999.0,      33,  2,19850512,1520,  24.2683,  160.0550,  5506, 4638.900,    1.459,   34.687,2,   34.686,2, -999.000,9, -999.000,5,  141.820,2,   35.580,2,    0.000,2,    2.400,2, -999.000,9, -999.000,9, -999.000,9, -999.000,9, -999.000,9
           NA,    P03W,    247,   1,-999.0,      34,  2,19850512,1520,  24.2683,  160.0550,  5506, 4955.300,    1.473,   34.688,2,   34.689,2, -999.000,9,  168.600,2,  139.180,2, -999.000,5,    0.000,2,    2.380,2, -999.000,9, -999.000,9, -999.000,9, -999.000,9, -999.000,9
           NA,    P03W,    247,   1,-999.0,      35,  2,19850512,1520,  24.2683,  160.0550,  5506, 5263.300,    1.499,   34.688,2,   34.690,2, -999.000,9,  171.200,2,  137.230,2,   35.090,2,    0.000,2,    2.370,2, -999.000,9, -999.000,9, -999.000,9, -999.000,9, -999.000,9
           NA,    P03W,    247,   1,-999.0,      36,  2,19850512,1520,  24.2683,  160.0550,  5506, 5606.400,    1.534,   34.691,2,   34.691,2, -999.000,9,  172.900,2,  135.370,2,   34.990,2,    0.000,2,    2.350,2, -999.000,9, -999.000,9, -999.000,9, -999.000,9, -999.000,9