BOTTLE,20203103JOAExport
EXPOCODE,SECT_ID,STNNBR,CASTNO,SAMPNO,BTLNBR,BTLNBR_FLAG_W,DATE,TIME,LATITUDE,LONGITUDE,DEPTH,CTDPRS,CTDTMP,CTDSAL,CTDSAL_FLAG_W,SALNTY,SALNTY_FLAG_W,CTDOXY,CTDOXY_FLAG_W,OXYGEN,OXYGEN_FLAG_W,SILCAT,SILCAT_FLAG_W,NITRAT,NITRAT_FLAG_W,NITRIT,NITRIT_FLAG_W,PHSPHT,PHSPHT_FLAG_W,CFC-11,CFC-11_FLAG_W,CFC-12,CFC-12_FLAG_W,SF6,SF6_FLAG_W,TCARBN,TCARBN_FLAG_W,ALKALI,ALKALI_FLAG_W
,,,,,,,,,,,,,DB,ITS-90,PSS-78,,PSS-78,,UMOL/KG,,UMOL/KG,,UMOL/KG,,UMOL/KG,,UMOL/KG,,UMOL/KG,,PMOL/KG,,PMOL/KG,,FMOL/KG,,UMOL/KG,,UMOL/KG
           NA,    P03W,    205,   1,-999.0,       1,  2,19850505,1134,  24.2483,  176.7883,  5757,    0.400,   25.344,   35.161,2,   35.182,2, -999.000,9,  211.500,2,    1.970,2,    0.040,2,    0.000,2,    0.030,2, -999.000,9, -999.000,9, -999.000,9, -999.000,9, -999.000,9
           NA,    P03W,    205,   1,-999.0,       2,  2,19850505,1134,  24.2483,  176.7883,  5757,   23.400,   23.462,   35.307,2,   35.319,2, -999.000,9,  216.900,2,    1.910,2,    0.040,2,    0.000,2,    0.030,2, -999.000,9, -999.000,9, -999.000,9, -999.000,9, -999.000,9
           NA,    P03W,    205,   1,-999.0,       3,  2,19850505,1134,  24.2483,  176.7883,  5757,   44.000,   22.467,   35.184,2,   35.203,2, -999.000,9,  219.200,2,    2.060,2,    0.040,2,    0.000,2,    0.020,2, -999.000,9, -999.000,9, -999.000,9, -999.000,9, -999.000,9
           NA,    P03W,    205,   1,-999.0,       4,  2,19850505,1134,  24.2483,  176.7883,  5757,   74.200,   20.987,   35.100,2,   35.106,2, -999.000,9,  204.200,2,    2.400,2,    0.430,2,    0.000,2,    0.120,2, -999.000,9, -999.000,9, -999.000,9, -999.000,9, -999.000,9
           NA,    P03W,    205,   1,-999.0,       5,  2,19850505,1134,  24.2483,  176.7883,  5757,  104.400,   19.890,   35.058,2,   35.059,2, -999.000,9,  218.400,2,    2.340,2,    0.350,2,    0.130,2,    0.090,2, -999.000,9, -999.000,9, -999.000,9, -999.000,9, -999.000,9
           NA,    P03W,    205,   1,-999.0,       6,  2,19850505,1134,  24.2483,  176.7883,  5757,  144.800,   17.340,   34.805,2,   34.807,2, -999.000,9,  203.200,2,    4.070,2,    3.950,2,    0.010,2,    0.330,2, -999.000,9, -999.000,9, -999.000,9, -999.000,9, -999.000,9
           NA,    P03W,    205,   1,-999.0,       7,  2,19850505,1134,  24.2483,  176.7883,  5757,  184.900,   16.366,   34.732,2,   34.733,2, -999.000,9,  208.100,2,    5.200,2,    5.370,2,    0.010,2,    0.390,2, -999.000,9, -999.000,9, -999.000,9, -999.000,9, -999.000,9
           NA,    P03W,    205,   1,-999.0,       8,  2,19850505,1134,  24.2483,  176.7883,  5757,  234.800,   15.241,   34.643,2,   34.645,2, -999.000,9,  208.600,2,    6.720,2,    6.850,2,    0.000,2,    0.510,2, -999.000,9, -999.000,9, -999.000,9, -999.000,9, -999.000,9
           NA,    P03W,    205,   1,-999.0,       9,  2,19850505,1134,  24.2483,  176.7883,  5757,  285.400,   13.838,   34.516,2,   34.511,2, -999.000,9,  207.500,2,    9.820,2,    9.310,2,    0.000,2,    0.670,2, -999.000,9, -999.000,9, -999.000,9, -999.000,9, -999.000,9
           NA,    P03W,    205,   1,-999.0,      10,  2,19850505,1134,  24.2483,  176.7883,  5757,  335.600,   12.833,   34.422,2,   34.417,2, -999.000,9,  209.300,2,   12.120,2,   10.840,2,    0.000,2,    0.770,2, -999.000,9, -999.000,9, -999.000,9, -999.000,9, -999.000,9
           NA,    P03W,    205,   1,-999.0,      11,  2,19850505,1134,  24.2483,  176.7883,  5757,  386.000,   11.937,   34.363,2,   34.358,2, -999.000,9,  208.500,2,   15.410,2,   12.720,2,    0.000,2,    0.890,2, -999.000,9, -999.000,9, -999.000,9, -999.000,9, -999.000,9
           NA,    P03W,    205,   1,-999.0,      12,  2,19850505,1134,  24.2483,  176.7883,  5757,  446.300,   10.453,   34.249,2,   34.249,2, -999.000,9,  198.000,2,   21.830,2,   16.260,2,    0.000,2,    1.140,2, -999.000,9, -999.000,9, -999.000,9, -999.000,9, -999.000,9
           NA,    P03W,    205,   1,-999.0,      13,  2,19850505,1134,  24.2483,  176.7883,  5757,  506.900,    8.872,   34.144,2,   34.143,2, -999.000,9,  180.200,2,   31.770,2,   20.990,2,    0.000,2,    1.470,2, -999.000,9, -999.000,9, -999.000,9, -999.000,9, -999.000,9
           NA,    P03W,    205,   1,-999.0,      14,  2,19850505,1134,  24.2483,  176.7883,  5757,  567.500,    7.733,   34.085,2,   34.084,2, -999.000,9,  157.500,2,   42.870,2,   25.380,2,    0.000,2,    1.760,2, -999.000,9, -999.000,9, -999.000,9, -999.000,9, -999.000,9
           NA,    P03W,    205,   1,-999.0,      15,  2,19850505,1134,  24.2483,  176.7883,  5757,  648.000,    5.937,   34.060,2,   34.061,2, -999.000,9,  113.200,2,   65.510,2,   32.570,2,    0.000,2,    2.280,2, -999.000,9, -999.000,9, -999.000,9, -999.000,9, -999.000,9
           NA,    P03W,    205,   1,-999.0,      16,  2,19850505,1134,  24.2483,  176.7883,  5757,  729.000,    5.176,   34.102,2,   34.102,2, -999.000,9,   82.200,2,   81.630,2,   36.470,2,    0.000,2,    2.570,2, -999.000,9, -999.000,9, -999.000,9, -999.000,9, -999.000,9
           NA,    P03W,    205,   1,-999.0,      17,  2,19850505,1134,  24.2483,  176.7883,  5757,  809.200,    4.471,   34.198,2,   34.197,2, -999.000,9,   52.300,2,   98.880,2,   40.210,2,    0.000,2,    2.810,2, -999.000,9, -999.000,9, -999.000,9, -999.000,9, -999.000,9
           NA,    P03W,    205,   1,-999.0,      18,  2,19850505,1134,  24.2483,  176.7883,  5757,  909.700,    3.930,   34.302,2,   34.301,2, -999.000,9,   32.900,2,  114.150,2,   42.460,2,    0.000,2,    2.950,2, -999.000,9, -999.000,9, -999.000,9, -999.000,9, -999.000,9
           NA,    P03W,    205,   1,-999.0,      39,  2,19850505,1134,  24.2483,  176.7883,  5757, 1060.800,    3.413,   34.405,2,   34.406,2, -999.000,9,   37.900,2,  128.980,2,   43.070,2,    0.000,2,    2.970,2, -999.000,9, -999.000,9, -999.000,9, -999.000,9, -999.000,9
           NA,    P03W,    205,   1,-999.0,      20,  2,19850505,1134,  24.2483,  176.7883,  5757, 1212.400,    3.026,   34.472,2,   34.471,2, -999.000,9,   45.100,2,  139.500,2,   42.950,2,    0.000,2,    2.960,2, -999.000,9, -999.000,9, -999.000,9, -999.000,9, -999.000,9
           NA,    P03W,    205,   1,-999.0,      21,  2,19850505,1134,  24.2483,  176.7883,  5757, 1414.100,    2.707,   34.537,2,   34.537,2, -999.000,9,   67.700,2,  141.210,2,   41.570,2,    0.000,2,    2.870,2, -999.000,9, -999.000,9, -999.000,9, -999.000,9, -999.000,9
           NA,    P03W,    205,   1,-999.0,      22,  2,19850505,1134,  24.2483,  176.7883,  5757, 1616.700,    2.380,   34.571,2,   34.570,2, -999.000,9,   77.100,2,  146.630,2,   41.070,2,    0.000,2,    2.830,2, -999.000,9, -999.000,9, -999.000,9, -999.000,9, -999.000,9
           NA,    P03W,    205,   1,-999.0,      23,  2,19850505,1134,  24.2483,  176.7883,  5757, 1819.400,    2.123,   34.596,2,   34.597,2, -999.000,9,   87.200,2,  153.200,2,   40.790,2,    0.000,2,    2.790,2, -999.000,9, -999.000,9, -999.000,9, -999.000,9, -999.000,9
           NA,    P03W,    205,   1,-999.0,      24,  2,19850505,1134,  24.2483,  176.7883,  5757, 2021.500,    1.956,   34.617,2,   34.618,2, -999.000,9,   98.600,2,  156.060,2,   39.910,2,    0.000,2,    2.720,2, -999.000,9, -999.000,9, -999.000,9, -999.000,9, -999.000,9
           NA,    P03W,    205,   1,-999.0,      25,  2,19850505,1134,  24.2483,  176.7883,  5757, 2224.500,    1.815,   34.632,2,   34.633,2, -999.000,9,  108.800,2,  157.560,2,   39.370,2,    0.000,2,    2.700,2, -999.000,9, -999.000,9, -999.000,9, -999.000,9, -999.000,9
           NA,    P03W,    205,   1,-999.0,      26,  2,19850505,1134,  24.2483,  176.7883,  5757, 2528.800,    1.688,   34.646,2,   34.649,2, -999.000,9,  118.400,2,  158.470,2,   38.600,2,    0.000,2,    2.630,2, -999.000,9, -999.000,9, -999.000,9, -999.000,9, -999.000,9
           NA,    P03W,    205,   1,-999.0,      27,  2,19850505,1134,  24.2483,  176.7883,  5757, 2833.700,    1.604,   34.657,2,   34.657,2, -999.000,9,  127.000,2,  157.050,2,   38.170,2,    0.000,2,    2.590,2, -999.000,9, -999.000,9, -999.000,9, -999.000,9, -999.000,9
           NA,    P03W,    205,   1,-999.0,      28,  2,19850505,1134,  24.2483,  176.7883,  5757, 3138.600,    1.532,   34.666,2,   34.667,2, -999.000,9,  136.400,2,  155.640,2,   37.460,2,    0.000,2,    2.540,2, -999.000,9, -999.000,9, -999.000,9, -999.000,9, -999.000,9
           NA,    P03W,    205,   1,-999.0,      29,  2,19850505,1134,  24.2483,  176.7883,  5757, 3443.900,    1.495,   34.673,2,   34.673,2, -999.000,9,  142.600,2,  152.680,2,   36.970,2,    0.000,2,    2.500,2, -999.000,9, -999.000,9, -999.000,9, -999.000,9, -999.000,9
           NA,    P03W,    205,   1,-999.0,      30,  2,19850505,1134,  24.2483,  176.7883,  5757, 3750.000,    1.463,   34.678,2,   34.676,2, -999.000,9,  149.800,2,  148.770,2,   36.540,2,    0.000,2,    2.470,2, -999.000,9, -999.000,9, -999.000,9, -999.000,9, -999.000,9
           NA,    P03W,    205,   1,-999.0,      31,  2,19850505,1134,  24.2483,  176.7883,  5757, 4056.100,    1.442,   34.682,2,   34.682,2, -999.000,9,  157.400,2,  146.800,2,   35.950,2,    0.000,2,    2.450,2, -999.000,9, -999.000,9, -999.000,9, -999.000,9, -999.000,9
           NA,    P03W,    205,   1,-999.0,      32,  2,19850505,1134,  24.2483,  176.7883,  5757, 4363.600,    1.426,   34.686,2,   34.686,2, -999.000,9,  162.900,2,  142.910,2,   35.470,2,    0.000,2,    2.380,2, -999.000,9, -999.000,9, -999.000,9, -999.000,9, -999.000,9
           NA,    P03W,    205,   1,-999.0,      33,  2,19850505,1134,  24.2483,  176.7883,  5757, 4722.600,    1.410,   34.691,2,   34.690,2, -999.000,9,  172.600,2,  136.910,2,   34.820,2,    0.000,2,    2.350,2, -999.000,9, -999.000,9, -999.000,9, -999.000,9, -999.000,9
           NA,    P03W,    205,   1,-999.0,      34,  2,19850505,1134,  24.2483,  176.7883,  5757, 5081.400,    1.421,   34.694,2,   34.694,2, -999.000,9,  178.000,2,  133.620,2,   34.610,2,    0.000,2,    2.300,2, -999.000,9, -999.000,9, -999.000,9, -999.000,9, -999.000,9
           NA,    P03W,    205,   1,-999.0,      35,  2,19850505,1134,  24.2483,  176.7883,  5757, 5492.400,    1.456,   34.694,2,   34.695,2, -999.000,9,  180.100,2,  132.250,2,   34.400,2,    0.000,2,    2.300,2, -999.000,9, -999.000,9, -999.000,9, -999.000,9, -999.000,9
           NA,    P03W,    205,   1,-999.0,      36,  2,19850505,1134,  24.2483,  176.7883,  5757, 5846.000,    1.496,   34.695,2,   34.696,2, -999.000,9,  181.400,2,  132.220,2,   34.290,2,    0.000,2,    2.300,2, -999.000,9, -999.000,9, -999.000,9, -999.000,9, -999.000,9