BOTTLE,20200224PRINUNIVRMK
# Processed by CCHDO on 2021-06-07, no changes
# 08/30/2019 Initialized README file  
# Data source:  Masao Ishii 2018/11/30 
# SHIP: R/V Ryofu Maru III 
# Cruise: RF13.03 
# Region: Pacific Ocean 
# EXPOCODE: 49UP20130409 
# DATES: 20130409-20130420 
# Chief Scientist: Takashi Miyao	 
# 3 stations with 36 place Rosette 
# CTD: Who - Kazuhiro Nemoto; Status - final 
# 	Includes: CTDSAL 
# SALNTY: Who - Kazuhiro Nemoto; Status - final 
# 	Notes: 	 
# Nutrients: Who - Kazuhiro Nemoto; Status - final 
# 	Includes: nitrate, nitrite, silicate, phosphate 
# 	Nitrite and NO3+NO2 reported. Separated by subtraction 
# OXYGEN: Who - Kazuhiro Nemoto; Status - final 
# 	Notes: 
# TCARBN: Who - Kazuhiro Nemoto; Status - final 
# 	Notes:  
# ALKALI: Who - Kazuhiro Nemoto; Status - final 
# 	Notes:  
# PH: Who - Kazuhiro Nemoto; Status - final 
# 	Notes: total H+ scale at 25C 
# These data should be cited as:            
# References that have used data from this cruise: 
EXPOCODE,SECT_ID,STNNBR,CASTNO,SAMPNO,BTLNBR,BTLNBR_FLAG_W,DATE,TIME,LATITUDE,LONGITUDE,DEPTH,CTDPRS,CTDTMP,CTDSAL,CTDSAL_FLAG_W,SALNTY,SALNTY_FLAG_W,OXYGEN,OXYGEN_FLAG_W,SILCAT,SILCAT_FLAG_W,NITRAT,NITRAT_FLAG_W,NITRIT,NITRIT_FLAG_W,PHSPHT,PHSPHT_FLAG_W,TCARBN,TCARBN_FLAG_W,ALKALI,ALKALI_FLAG_W,PH_TOT,PH_TOT_FLAG_W,PH_TMP,BTL_TIME
,,,,,,,,,,,METERS,DBAR,ITS-90,PSS-78,,PSS-78,,UMOL/KG,,UMOL/KG,,UMOL/KG,,UMOL/KG,,UMOL/KG,,UMOL/KG,,UMOL/KG,,,,DEG C,
  49UP20130409,RF1302,  4686,  1,     99,     99,2,20130414,0034, 23.9758, 136.9533, 3614,      0.0,  23.0532,  34.8158,2,  34.8228,2,    215.9,2,     1.20,2,     0.01,2,     0.00,2,     0.05,4,   1979.6,2,   2289.4,2,   8.0712,2,    25.00,      128
  49UP20130409,RF1302,  4686,  1,     36,  22109,2,20130414,0034, 23.9758, 136.9533, 3614,     10.3,  23.0519,  34.8161,2,  34.8167,2,    215.8,2,     1.29,2,     0.00,2,     0.00,2,     0.03,4,   1978.9,2,   2287.8,2,   8.0676,2,    25.00,      151
  49UP20130409,RF1302,  4686,  1,     35,  22112,2,20130414,0034, 23.9758, 136.9533, 3614,     25.4,  23.0525,  34.8155,2,-999.0000,9,    216.2,2,     1.39,2,     0.00,2,     0.00,2,     0.03,4,   1975.8,2,   2286.5,2,   8.0701,2,    25.00,      149
  49UP20130409,RF1302,  4686,  1,     34,  22083,2,20130414,0034, 23.9758, 136.9533, 3614,     54.0,  21.7786,  34.8428,2,-999.0000,9,    220.8,2,     1.51,2,     0.00,2,     0.00,2,     0.03,4,   1985.0,2,   2290.7,2,   8.0620,2,    25.00,      144
  49UP20130409,RF1302,  4686,  1,     33,  22086,2,20130414,0034, 23.9758, 136.9533, 3614,     76.0,  21.0408,  34.8409,2,-999.0000,9,    216.5,2,     1.82,2,     0.00,2,     0.00,2,     0.05,4,   1995.5,2,   2289.5,2,   8.0396,2,    25.00,      142
  49UP20130409,RF1302,  4686,  1,     32,  22105,2,20130414,0034, 23.9758, 136.9533, 3614,    101.1,  20.2751,  34.8458,2,  34.8489,4,    205.4,2,     2.08,2,     0.09,2,     0.11,2,     0.08,4,   2013.7,2,   2291.5,2,   8.0064,2,    25.00,      141
  49UP20130409,RF1302,  4686,  1,     31,  22076,2,20130414,0034, 23.9758, 136.9533, 3614,    126.0,  19.2326,  34.8224,2,-999.0000,9,    196.5,6,     2.72,6,     2.64,6,     0.07,6,     0.21,4,   1995.9,3,   2286.8,2,   7.9791,2,    25.00,      139
  49UP20130409,RF1302,  4686,  1,     28,  22091,4,20130414,0034, 23.9758, 136.9533, 3614,    152.5,  18.5748,  34.7877,2,-999.0000,9,   -999.0,9,  -999.00,9,  -999.00,9,  -999.00,9,  -999.00,9,   -999.0,9,   -999.0,9,-999.0000,9,  -999.00,      137
  49UP20130409,RF1302,  4686,  1,     27,  21998,2,20130414,0034, 23.9758, 136.9533, 3614,    203.9,  17.5398,  34.7228,2,  34.7237,2,    196.3,2,     4.19,2,     5.04,2,     0.01,2,     0.36,4,   2039.9,2,   2280.8,2,   7.9478,2,    25.00,      135
  49UP20130409,RF1302,  4686,  1,     26,  22084,2,20130414,0034, 23.9758, 136.9533, 3614,    256.5,  16.5271,  34.6600,2,-999.0000,9,    196.8,2,     6.00,2,     6.58,2,     0.01,2,     0.47,4,   2048.8,6,   2278.1,6,   7.9267,2,    25.00,      133
  49UP20130409,RF1302,  4686,  1,     25,  22098,4,20130414,0034, 23.9758, 136.9533, 3614,    307.1,  15.3596,  34.5783,2,-999.0000,9,   -999.0,9,  -999.00,9,  -999.00,9,  -999.00,9,  -999.00,9,   -999.0,9,   -999.0,9,-999.0000,9,  -999.00,      130
  49UP20130409,RF1302,  4686,  1,     24,  22110,2,20130414,0034, 23.9758, 136.9533, 3614,    410.1,  12.7477,  34.4039,2,  34.4123,4,    183.7,2,    16.74,2,    13.57,2,     0.00,2,     0.97,4,   2099.4,2,   2275.9,2,   7.8125,6,    25.00,      126
  49UP20130409,RF1302,  4686,  1,     18,  22101,2,20130414,0034, 23.9758, 136.9533, 3614,    512.4,   9.2285,  34.1949,2,-999.0000,9,    159.7,6,    36.12,6,    21.87,6,     0.00,6,     1.58,4,   2163.3,2,   2286.2,2,   7.6818,2,    25.00,      122
  49UP20130409,RF1302,  4686,  1,     17,  22090,2,20130414,0034, 23.9758, 136.9533, 3614,    612.4,   7.2845,  34.1253,2,-999.0000,9,    129.7,2,    53.48,2,    28.15,2,     0.00,2,     2.05,4,   2212.2,2,   2294.7,2,   7.5766,2,    25.00,      118
  49UP20130409,RF1302,  4686,  1,     16,  22089,2,20130414,0034, 23.9758, 136.9533, 3614,    717.7,   5.3550,  34.1668,2,  34.1662,2,     83.6,2,    82.38,2,    35.55,2,     0.00,2,     2.59,4,   2281.6,2,   2318.6,2,   7.4565,2,    25.00,      114
  49UP20130409,RF1302,  4686,  1,     15,  22088,2,20130414,0034, 23.9758, 136.9533, 3614,    717.7,   5.3550,  34.1668,2,  34.1660,2,     83.7,2,    82.46,2,    35.64,2,     0.00,2,     2.59,4,   2238.6,3,   2320.7,2,   7.4566,2,    25.00,      114
  49UP20130409,RF1302,  4686,  1,      9,  22108,2,20130414,0034, 23.9758, 136.9533, 3614,    813.8,   4.5960,  34.2382,2,  34.2375,2,     64.2,2,    98.41,2,    38.52,2,     0.00,2,     2.80,4,   2321.8,3,   2339.3,2,   7.4148,2,    25.00,      110
  49UP20130409,RF1302,  4686,  1,      8,  22081,2,20130414,0034, 23.9758, 136.9533, 3614,    912.7,   4.1091,  34.3009,2,-999.0000,9,     58.0,2,   109.95,2,    39.73,2,     0.00,2,     2.88,4,   2324.3,2,   2353.7,2,   7.4045,2,    25.00,      106
  49UP20130409,RF1302,  4686,  1,      7,  22106,2,20130414,0034, 23.9758, 136.9533, 3614,   1015.6,   3.5117,  34.3823,2,  34.3823,2,     54.1,2,   123.78,2,    40.81,2,     0.00,2,     2.96,4,   2347.2,2,   2371.1,2,   7.3986,2,    25.00,      102
  49UP20130409,RF1302,  4686,  1,      6,  22113,3,20130414,0034, 23.9758, 136.9533, 3614,   1215.3,   3.0268,  34.4646,2,  34.4648,6,     63.9,2,   132.98,2,    40.76,2,     0.00,2,     2.94,4,   2352.4,2,   2386.2,2,   7.4199,2,    25.00,       57
  49UP20130409,RF1302,  4686,  1,      5,  22094,2,20130414,0034, 23.9758, 136.9533, 3614,   1416.1,   2.6163,  34.5265,2,  34.5265,2,     78.4,2,   139.00,2,    40.09,2,     0.00,2,     2.88,4,   2354.4,2,   2401.0,3,   7.4517,2,    25.00,       52
  49UP20130409,RF1302,  4686,  1,      4,  22077,2,20130414,0034, 23.9758, 136.9533, 3614,   1615.3,   2.2620,  34.5770,2,  34.5769,2,     97.6,2,   141.66,2,    39.06,2,     0.00,2,     2.77,4,   2346.1,2,   2409.0,3,   7.4894,6,    25.00,       47
  49UP20130409,RF1302,  4686,  1,      3,  22104,2,20130414,0034, 23.9758, 136.9533, 3614,   1816.3,   2.0983,  34.5984,2,  34.5988,2,    106.0,6,   142.94,6,    38.67,6,     0.00,6,     2.74,4,   2344.4,2,   2407.3,2,   7.5028,2,    25.00,       43
  49UP20130409,RF1302,  4686,  1,     21,  22078,2,20130414,0034, 23.9758, 136.9533, 3614,   1994.7,   1.9527,  34.6197,2,  34.6198,6,   -999.0,9,  -999.00,9,  -999.00,9,  -999.00,9,  -999.00,9,   -999.0,9,   -999.0,9,-999.0000,9,  -999.00,       37
  49UP20130409,RF1302,  4686,  1,     12,  22074,2,20130414,0034, 23.9758, 136.9533, 3614,   2005.3,   1.9382,  34.6216,2,  34.6229,2,   -999.0,9,  -999.00,9,  -999.00,9,  -999.00,9,  -999.00,9,   -999.0,9,   -999.0,9,-999.0000,9,  -999.00,       36
  49UP20130409,RF1302,  4686,  1,      2,  22075,2,20130414,0034, 23.9758, 136.9533, 3614,   2018.7,   1.9325,  34.6224,2,  34.6224,2,    117.2,2,   142.71,2,    37.99,2,     0.00,2,     2.68,4,   2341.4,2,   2413.4,2,   7.5248,2,    25.00,       35
  49UP20130409,RF1302,  4686,  1,      1,  21997,2,20130414,0034, 23.9758, 136.9533, 3614,   2018.7,   1.9325,  34.6224,2,  34.6229,6,    117.1,2,   142.60,2,    38.01,2,     0.00,2,     2.68,4,   2337.2,2,   2412.8,2,   7.5253,2,    25.00,       34
  49UP20130409,RF1302,  4688,  1,     99,     99,2,20130416,0117, 29.9963, 137.0360, 4482,      0.0,  20.2918,  34.7973,2,  34.8028,2,    226.9,2,     1.69,2,     0.00,2,     0.00,2,     0.05,2,   1992.2,2,   2287.8,2,   8.0439,2,    25.00,      241
  49UP20130409,RF1302,  4688,  1,     36,  22109,2,20130416,0117, 29.9963, 137.0360, 4482,     10.5,  20.0657,  34.7952,2,-999.0000,9,    227.5,2,     1.69,2,     0.00,2,     0.00,2,     0.02,2,   1989.3,2,   2288.3,2,   8.0440,2,    25.00,      306
  49UP20130409,RF1302,  4688,  1,     35,  22112,2,20130416,0117, 29.9963, 137.0360, 4482,     25.8,  19.9814,  34.7912,2,  34.7897,6,    228.0,2,     1.72,2,     0.00,2,     0.00,2,     0.02,2,   1992.9,2,   2291.5,2,   8.0443,2,    25.00,      305
  49UP20130409,RF1302,  4688,  1,     34,  22083,2,20130416,0117, 29.9963, 137.0360, 4482,     49.5,  19.5686,  34.7730,2,-999.0000,9,    227.8,2,     1.78,2,    -0.02,2,     0.02,2,     0.03,2,   1996.4,2,   2278.7,2,   8.0372,2,    25.00,      301
  49UP20130409,RF1302,  4688,  1,     33,  22086,2,20130416,0117, 29.9963, 137.0360, 4482,     74.8,  19.2323,  34.7349,2,-999.0000,9,    230.4,2,     1.82,2,    -0.02,2,     0.02,2,     0.02,2,   1992.5,2,   2281.8,2,   8.0335,2,    25.00,      300
  49UP20130409,RF1302,  4688,  1,     32,  22105,2,20130416,0117, 29.9963, 137.0360, 4482,    100.6,  19.0550,  34.7950,2,-999.0000,9,    220.9,2,     2.14,2,     0.85,2,     0.07,2,     0.09,2,   2008.7,2,   2287.1,2,   8.0177,2,    25.00,      259
  49UP20130409,RF1302,  4688,  1,     31,  22076,2,20130416,0117, 29.9963, 137.0360, 4482,    125.7,  18.7224,  34.8004,2,  34.8015,2,    222.0,2,     2.35,2,     1.16,2,     0.06,2,     0.09,2,   2008.2,2,   2289.4,2,   8.0101,2,    25.00,      258
  49UP20130409,RF1302,  4688,  1,     30,  22097,2,20130416,0117, 29.9963, 137.0360, 4482,    150.4,  18.4962,  34.7931,2,-999.0000,9,    219.9,2,     2.66,2,     1.64,2,     0.02,2,     0.12,2,   2009.2,2,   2291.5,2,   8.0021,2,    25.00,      257
  49UP20130409,RF1302,  4688,  1,     29,  22102,2,20130416,0117, 29.9963, 137.0360, 4482,    200.2,  18.1070,  34.7735,2,-999.0000,9,    219.8,6,     2.87,6,     2.15,6,     0.01,6,     0.17,6,   2014.6,2,   2286.3,2,   7.9990,2,    25.00,      255
  49UP20130409,RF1302,  4688,  1,     27,  21998,2,20130416,0117, 29.9963, 137.0360, 4482,    250.7,  17.5954,  34.7376,2,  34.7361,2,    213.8,2,     3.67,2,     3.49,2,     0.01,2,     0.23,2,   2025.8,2,   2284.6,2,   7.9778,2,    25.00,      254
  49UP20130409,RF1302,  4688,  1,     28,  22091,2,20130416,0117, 29.9963, 137.0360, 4482,    250.8,  17.5877,  34.7368,2,  34.7364,2,    214.2,2,     3.65,2,     3.46,2,     0.01,2,     0.24,2,   2023.1,2,   2286.2,2,   7.9761,2,    25.00,      254
  49UP20130409,RF1302,  4688,  1,     26,  22084,2,20130416,0117, 29.9963, 137.0360, 4482,    302.1,  17.2274,  34.7151,2,-999.0000,9,    213.9,2,     4.07,2,     4.03,2,     0.01,2,     0.27,2,   2028.5,2,   2284.2,2,   7.9656,2,    25.00,      252
  49UP20130409,RF1302,  4688,  1,     25,  22098,2,20130416,0117, 29.9963, 137.0360, 4482,    403.0,  15.9352,  34.6220,2,  34.6216,2,    191.6,2,     8.68,2,     8.19,2,     0.01,2,     0.56,2,   2066.7,2,   2280.1,2,   7.9044,2,    25.00,      249
  49UP20130409,RF1302,  4688,  1,     24,  22110,2,20130416,0117, 29.9963, 137.0360, 4482,    504.3,  13.5218,  34.4647,2,-999.0000,9,    179.0,6,    16.57,6,    13.16,6,     0.01,6,     0.92,6,   2100.4,2,   2280.3,2,   7.8249,2,    25.00,      247
  49UP20130409,RF1302,  4688,  1,     23,  22096,2,20130416,0117, 29.9963, 137.0360, 4482,    604.9,  10.9221,  34.2851,2,-999.0000,9,    171.4,2,    25.37,2,    18.07,2,     0.00,2,     1.28,2,   2131.1,2,   2273.3,2,   7.7375,2,    25.00,      245
  49UP20130409,RF1302,  4688,  1,     22,  22111,2,20130416,0117, 29.9963, 137.0360, 4482,    706.2,   8.5505,  34.1879,2,  34.1893,2,    143.5,2,    44.62,2,    24.76,2,     0.00,2,     1.79,2,   2185.5,6,   2290.4,6,   7.6341,2,    25.00,      242
  49UP20130409,RF1302,  4688,  1,     21,  22078,2,20130416,0117, 29.9963, 137.0360, 4482,    808.5,   6.4505,  34.1643,2,-999.0000,9,    109.9,2,    68.74,2,    31.46,2,     0.00,2,     2.27,2,   2239.9,2,   2309.9,2,   7.5263,6,    25.00,      239
  49UP20130409,RF1302,  4688,  1,     20,  22093,2,20130416,0117, 29.9963, 137.0360, 4482,    909.6,   5.2998,  34.2480,2,  34.2474,2,     81.4,2,    89.66,2,    35.84,2,     0.00,2,     2.58,2,   2287.0,2,   2337.0,2,   7.4650,2,    25.00,      237
  49UP20130409,RF1302,  4688,  1,     19,  22092,2,20130416,0117, 29.9963, 137.0360, 4482,   1011.0,   4.3173,  34.3167,2,  34.3141,4,     65.3,2,   108.04,2,    38.72,2,     0.00,2,     2.78,2,   2323.2,2,   2349.3,2,   7.4251,2,    25.00,      234
  49UP20130409,RF1302,  4688,  1,     18,  22101,2,20130416,0117, 29.9963, 137.0360, 4482,   1213.4,   3.3036,  34.4019,2,-999.0000,9,     52.7,2,   129.84,2,    41.16,2,     0.00,2,     2.93,2,   2352.9,2,   2375.5,2,   7.3962,2,    25.00,      229
  49UP20130409,RF1302,  4688,  1,     17,  22090,2,20130416,0117, 29.9963, 137.0360, 4482,   1415.2,   2.8497,  34.4741,2,  34.4734,2,     61.5,2,   139.49,2,    41.02,2,     0.00,2,     2.92,2,   2357.3,2,   2387.2,2,   7.4149,2,    25.00,      225
  49UP20130409,RF1302,  4688,  1,     16,  22089,2,20130416,0117, 29.9963, 137.0360, 4482,   1616.8,   2.4965,  34.5257,2,-999.0000,9,     73.2,2,   144.73,2,    40.55,2,     0.00,2,     2.87,2,   2359.3,2,   2395.8,2,   7.4388,2,    25.00,      220
  49UP20130409,RF1302,  4688,  1,     15,  22088,2,20130416,0117, 29.9963, 137.0360, 4482,   1820.8,   2.2634,  34.5602,2,  34.5615,2,     84.1,2,   147.48,2,    40.04,2,     0.00,2,     2.83,2,   2355.2,6,   2405.3,6,   7.4610,2,    25.00,      216
  49UP20130409,RF1302,  4688,  1,     14,  21999,3,20130416,0117, 29.9963, 137.0360, 4482,   2023.6,   2.0637,  34.5909,2,-999.0000,9,     98.9,4,   148.06,2,    39.33,2,     0.00,2,     2.77,2,   2353.7,2,   2410.1,2,   7.4864,6,    25.00,      212
  49UP20130409,RF1302,  4688,  1,     13,  22667,3,20130416,0117, 29.9963, 137.0360, 4482,   2278.2,   1.9131,  34.6149,2,  34.6126,4,    109.1,2,   147.55,2,    38.59,2,     0.00,2,     2.71,2,   2345.1,2,   2412.2,2,   7.5081,2,    25.00,      207
  49UP20130409,RF1302,  4688,  1,     12,  22074,2,20130416,0117, 29.9963, 137.0360, 4482,   2533.1,   1.7767,  34.6374,2,  34.6361,4,    123.5,2,   145.49,2,    37.74,2,     0.00,2,     2.64,2,   2338.9,2,   2413.8,2,   7.5334,2,    25.00,      202
  49UP20130409,RF1302,  4688,  1,     11,  21996,3,20130416,0117, 29.9963, 137.0360, 4482,   2533.1,   1.7767,  34.6374,2,  34.6361,4,    123.6,2,   145.49,2,    37.73,2,     0.00,2,     2.64,2,   2338.4,2,   2415.3,2,   7.5398,2,    25.00,      201
  49UP20130409,RF1302,  4688,  1,     10,  22107,2,20130416,0117, 29.9963, 137.0360, 4482,   2786.2,   1.6955,  34.6507,2,  34.6511,2,    132.0,2,   144.55,2,    37.23,2,     0.00,2,     2.61,2,   2340.3,3,   2413.5,2,   7.5517,2,    25.00,      156
  49UP20130409,RF1302,  4688,  1,      9,  22108,2,20130416,0117, 29.9963, 137.0360, 4482,   3042.9,   1.6254,  34.6620,2,  34.6620,2,    139.6,6,   143.42,6,    36.77,6,     0.00,6,     2.57,6,   2333.1,2,   2416.3,2,   7.5657,2,    25.00,      151
  49UP20130409,RF1302,  4688,  1,      8,  22081,3,20130416,0117, 29.9963, 137.0360, 4482,   3299.3,   1.5641,  34.6714,2,  34.6691,4,    145.8,2,   142.28,2,    36.32,2,     0.00,2,     2.53,2,   2329.8,2,   2416.5,2,   7.5749,6,    25.00,      145
  49UP20130409,RF1302,  4688,  1,      7,  22106,2,20130416,0117, 29.9963, 137.0360, 4482,   3554.1,   1.5397,  34.6769,2,  34.6770,2,    149.9,2,   142.19,2,    36.07,2,     0.00,2,     2.52,2,   2325.2,6,   2418.3,6,   7.5819,2,    25.00,      139
  49UP20130409,RF1302,  4688,  1,      6,  22113,2,20130416,0117, 29.9963, 137.0360, 4482,   3809.8,   1.5382,  34.6798,2,  34.6791,2,    152.3,2,   141.78,2,    35.95,2,     0.00,2,     2.50,2,   2321.0,2,   2414.9,2,   7.5839,2,    25.00,      134
  49UP20130409,RF1302,  4688,  1,      5,  22094,2,20130416,0117, 29.9963, 137.0360, 4482,   3809.8,   1.5382,  34.6798,2,  34.6796,2,    152.1,2,   141.73,2,    36.02,3,     0.00,2,     2.50,2,   2323.4,2,   2414.8,2,   7.5825,2,    25.00,      133
  49UP20130409,RF1302,  4688,  1,      4,  22077,2,20130416,0117, 29.9963, 137.0360, 4482,   4066.0,   1.5511,  34.6812,2,  34.6806,2,    153.2,2,   141.49,2,    35.86,2,     0.00,2,     2.50,2,   2310.9,3,   2416.4,2,   7.5844,2,    25.00,      128
  49UP20130409,RF1302,  4688,  1,      3,  22104,2,20130416,0117, 29.9963, 137.0360, 4482,   4322.7,   1.5724,  34.6820,2,  34.6816,2,    154.4,2,   141.24,2,    35.82,2,     0.00,2,     2.49,2,   2322.0,6,   2416.3,6,   7.5880,2,    25.00,      123
  49UP20130409,RF1302,  4688,  1,      1,  21997,2,20130416,0117, 29.9963, 137.0360, 4482,   4580.6,   1.5963,  34.6822,2,  34.6819,6,    154.8,6,   140.95,6,    35.79,6,     0.00,6,     2.49,6,   2316.6,2,   2417.8,2,   7.5867,2,    25.00,      117
  49UP20130409,RF1302,  4688,  1,      2,  22075,2,20130416,0117, 29.9963, 137.0360, 4482,   4581.0,   1.5962,  34.6823,2,  34.6828,2,    154.6,2,   141.03,2,    35.81,2,     0.00,2,     2.49,2,   2321.0,2,   2420.7,2,   7.5881,6,    25.00,      117