BOTTLE,20200224PRINUNIVRMK
EXPOCODE,SECT_ID,STNNBR,CASTNO,SAMPNO,BTLNBR,BTLNBR_FLAG_W,DATE,TIME,LATITUDE,LONGITUDE,DEPTH,CTDPRS,CTDTMP,CTDSAL,CTDSAL_FLAG_W,SALNTY,SALNTY_FLAG_W,OXYGEN,OXYGEN_FLAG_W,SILCAT,SILCAT_FLAG_W,NITRAT,NITRAT_FLAG_W,NITRIT,NITRIT_FLAG_W,PHSPHT,PHSPHT_FLAG_W,TCARBN,TCARBN_FLAG_W,ALKALI,ALKALI_FLAG_W,PH_TOT,PH_TOT_FLAG_W,PH_TMP,BTL_TIME
,,,,,,,,,,,METERS,DBAR,ITS-90,PSS-78,,PSS-78,,UMOL/KG,,UMOL/KG,,UMOL/KG,,UMOL/KG,,UMOL/KG,,UMOL/KG,,UMOL/KG,,,,DEG C,
  49UP20130409,RF1302,  4689,  1,     99,     99,2,20130417,0027, 33.2570, 136.8208, 2985,      0.0,  19.8442,  34.6314,2,-999.0000,9,    237.9,2,     2.00,2,     0.00,2,     0.01,2,     0.08,2,   -999.0,9,   -999.0,9,-999.0000,9,  -999.00,      103
  49UP20130409,RF1302,  4689,  1,     36,  22109,2,20130417,0027, 33.2570, 136.8208, 2985,      9.7,  19.8400,  34.6306,2,  34.6321,2,    238.2,2,     2.02,2,     0.01,2,     0.02,2,     0.06,2,   -999.0,9,   -999.0,9,-999.0000,9,  -999.00,      123
  49UP20130409,RF1302,  4689,  1,     35,  22112,2,20130417,0027, 33.2570, 136.8208, 2985,     24.7,  19.2007,  34.6570,2,-999.0000,9,    235.7,2,     2.02,2,     0.04,2,     0.03,2,     0.08,3,   -999.0,9,   -999.0,9,-999.0000,9,  -999.00,      122
  49UP20130409,RF1302,  4689,  1,     34,  22083,2,20130417,0027, 33.2570, 136.8208, 2985,     50.2,  18.7845,  34.6446,2,-999.0000,9,    227.0,2,     3.22,2,     0.89,2,     0.13,2,     0.16,2,   -999.0,9,   -999.0,9,-999.0000,9,  -999.00,      117
  49UP20130409,RF1302,  4689,  1,     33,  22086,2,20130417,0027, 33.2570, 136.8208, 2985,     75.5,  18.0664,  34.6096,2,  34.6105,2,    204.0,6,     6.77,6,     4.78,6,     0.20,6,     0.38,6,   -999.0,9,   -999.0,9,-999.0000,9,  -999.00,      116
  49UP20130409,RF1302,  4689,  1,     32,  22105,2,20130417,0027, 33.2570, 136.8208, 2985,    100.3,  17.6088,  34.6029,2,-999.0000,9,    201.2,2,     7.99,2,     5.60,2,     0.15,2,     0.44,2,   -999.0,9,   -999.0,9,-999.0000,9,  -999.00,      114
  49UP20130409,RF1302,  4689,  1,     31,  22076,2,20130417,0027, 33.2570, 136.8208, 2985,    125.4,  17.2708,  34.5958,2,-999.0000,9,    197.4,2,     8.98,2,     6.46,2,     0.08,2,     0.48,2,   -999.0,9,   -999.0,9,-999.0000,9,  -999.00,      113
  49UP20130409,RF1302,  4689,  1,     28,  22091,2,20130417,0027, 33.2570, 136.8208, 2985,    150.8,  16.5912,  34.5784,2,  34.5792,2,    192.1,2,    10.99,2,     7.80,2,     0.06,2,     0.58,2,   -999.0,9,   -999.0,9,-999.0000,9,  -999.00,      112
  49UP20130409,RF1302,  4689,  1,     27,  21998,2,20130417,0027, 33.2570, 136.8208, 2985,    200.9,  13.8492,  34.5003,2,-999.0000,9,    169.5,2,    19.20,2,    13.63,2,     0.01,2,     0.97,2,   -999.0,9,   -999.0,9,-999.0000,9,  -999.00,      110
  49UP20130409,RF1302,  4689,  1,     26,  22084,2,20130417,0027, 33.2570, 136.8208, 2985,    255.4,  11.3050,  34.3759,2,  34.3793,4,    153.5,2,    31.25,2,    19.00,2,     0.01,2,     1.37,2,   -999.0,9,   -999.0,9,-999.0000,9,  -999.00,      109
  49UP20130409,RF1302,  4689,  1,     25,  22098,2,20130417,0027, 33.2570, 136.8208, 2985,    255.4,  11.3050,  34.3759,2,  34.3786,4,    153.3,2,    31.32,2,    18.98,2,     0.01,2,     1.36,2,   -999.0,9,   -999.0,9,-999.0000,9,  -999.00,      109
  49UP20130409,RF1302,  4689,  1,     24,  22110,2,20130417,0027, 33.2570, 136.8208, 2985,    302.8,   9.7390,  34.3121,2,  34.3117,2,    139.2,2,    42.63,2,    23.12,2,     0.01,2,     1.67,2,   -999.0,9,   -999.0,9,-999.0000,9,  -999.00,      107
  49UP20130409,RF1302,  4689,  1,     18,  22101,2,20130417,0027, 33.2570, 136.8208, 2985,    403.2,   7.3508,  34.2753,2,-999.0000,9,    110.8,2,    65.59,2,    29.71,2,     0.00,2,     2.14,2,   -999.0,9,   -999.0,9,-999.0000,9,  -999.00,      105
  49UP20130409,RF1302,  4689,  1,     17,  22090,2,20130417,0027, 33.2570, 136.8208, 2985,    504.5,   5.7092,  34.2679,2,-999.0000,9,     87.7,2,    84.63,2,    34.56,2,     0.00,2,     2.49,2,   -999.0,9,   -999.0,9,-999.0000,9,  -999.00,      102
  49UP20130409,RF1302,  4689,  1,     16,  22089,2,20130417,0027, 33.2570, 136.8208, 2985,    605.7,   4.7549,  34.3035,2,  34.3036,2,     71.9,2,    99.24,2,    37.50,2,     0.00,2,     2.70,2,   -999.0,9,   -999.0,9,-999.0000,9,  -999.00,       59
  49UP20130409,RF1302,  4689,  1,     15,  22088,2,20130417,0027, 33.2570, 136.8208, 2985,    706.5,   4.2555,  34.3492,2,-999.0000,9,     66.7,2,   108.82,2,    38.66,2,     0.00,2,     2.78,2,   -999.0,9,   -999.0,9,-999.0000,9,  -999.00,       57
  49UP20130409,RF1302,  4689,  1,      9,  22108,2,20130417,0027, 33.2570, 136.8208, 2985,    808.1,   3.6895,  34.3983,2,  34.3971,2,     63.7,6,   120.01,6,    39.80,6,     0.00,6,     2.86,6,   -999.0,9,   -999.0,9,-999.0000,9,  -999.00,       54
  49UP20130409,RF1302,  4689,  1,      8,  22081,2,20130417,0027, 33.2570, 136.8208, 2985,    909.4,   3.3305,  34.4268,2,  34.4272,2,     62.8,2,   127.54,2,    40.32,2,     0.00,2,     2.89,2,   -999.0,9,   -999.0,9,-999.0000,9,  -999.00,       51
  49UP20130409,RF1302,  4689,  1,      7,  22106,2,20130417,0027, 33.2570, 136.8208, 2985,    909.4,   3.3305,  34.4268,2,  34.4264,6,     62.6,2,   127.51,2,    40.20,2,     0.00,2,     2.89,2,   -999.0,9,   -999.0,9,-999.0000,9,  -999.00,       51
  49UP20130409,RF1302,  4689,  1,      6,  22113,2,20130417,0027, 33.2570, 136.8208, 2985,   1011.5,   3.1166,  34.4489,2,  34.4471,4,     64.1,2,   131.74,2,    40.39,2,     0.00,2,     2.89,2,   -999.0,9,   -999.0,9,-999.0000,9,  -999.00,       48
  49UP20130409,RF1302,  4689,  1,      5,  22094,2,20130417,0027, 33.2570, 136.8208, 2985,   1214.4,   2.7891,  34.4873,2,  34.4871,2,     67.9,6,   138.16,6,    40.48,6,     0.00,6,     2.89,6,   -999.0,9,   -999.0,9,-999.0000,9,  -999.00,       44
  49UP20130409,RF1302,  4689,  1,      4,  22077,2,20130417,0027, 33.2570, 136.8208, 2985,   1416.9,   2.5684,  34.5200,2,  34.5198,2,     77.2,2,   140.85,2,    40.07,2,     0.00,2,     2.85,2,   -999.0,9,   -999.0,9,-999.0000,9,  -999.00,       39
  49UP20130409,RF1302,  4689,  1,      3,  22104,2,20130417,0027, 33.2570, 136.8208, 2985,   1621.1,   2.2813,  34.5592,2,  34.5588,6,     88.5,2,   144.51,2,    39.51,2,     0.00,2,     2.85,2,   -999.0,9,   -999.0,9,-999.0000,9,  -999.00,       35
  49UP20130409,RF1302,  4689,  1,      2,  22075,2,20130417,0027, 33.2570, 136.8208, 2985,   1821.5,   2.0933,  34.5869,2,  34.5863,2,     99.6,2,   145.68,2,    38.95,2,     0.00,2,     2.80,2,   -999.0,9,   -999.0,9,-999.0000,9,  -999.00,       31
  49UP20130409,RF1302,  4689,  1,      1,  21997,2,20130417,0027, 33.2570, 136.8208, 2985,   2023.0,   1.8985,  34.6151,2,  34.6147,2,    113.4,2,   145.25,2,    38.19,2,     0.00,2,     2.70,2,   -999.0,9,   -999.0,9,-999.0000,9,  -999.00,       27