BOTTLE,20200205PRINUNIVRMK
EXPOCODE,SECT_ID,STNNBR,CASTNO,SAMPNO,BTLNBR,BTLNBR_FLAG_W,DATE,TIME,LATITUDE,LONGITUDE,DEPTH,CTDPRS,CTDTMP,CTDSAL,CTDSAL_FLAG_W,SALNTY,SALNTY_FLAG_W,OXYGEN,OXYGEN_FLAG_W,SILCAT,SILCAT_FLAG_W,NITRAT,NITRAT_FLAG_W,NITRIT,NITRIT_FLAG_W,PHSPHT,PHSPHT_FLAG_W,TCARBN,TCARBN_FLAG_W,ALKALI,ALKALI_FLAG_W,PH_TOT,PH_TOT_FLAG_W,PH_TMP,BTL_TIME
,,,,,,,,,,,METERS,DBAR,ITS-90,PSS-78,,PSS-78,,UMOL/KG,,UMOL/KG,,UMOL/KG,,UMOL/KG,,UMOL/KG,,UMOL/KG,,UMOL/KG,,,,DEG C,
  49UP20120602,RF1205,  4439,  1,     99,     99,2,20120707,1815, 30.0053, 147.4700, 6179,      0.0,  25.1118,  34.3767,2,  34.3694,2,    211.3,2,     2.00,2,     0.00,2,     0.00,2,     0.03,2,   1967.6,2,   2257.4,2,   8.0366,2,    25.00,     1940
  49UP20120602,RF1205,  4439,  1,     36,  22109,2,20120707,1815, 30.0053, 147.4700, 6179,     11.3,  25.1085,  34.3730,2,-999.0000,9,    211.8,2,     1.92,2,     0.00,2,     0.00,2,     0.02,2,   1972.9,2,   2257.8,2,   8.0350,2,    25.00,     2028
  49UP20120602,RF1205,  4439,  1,     35,  21997,2,20120707,1815, 30.0053, 147.4700, 6179,     27.2,  21.2262,  34.5153,2,-999.0000,9,    234.5,2,     1.97,2,     0.00,2,     0.00,2,     0.01,2,   1979.6,2,   2267.5,2,   8.0335,2,    25.00,     2027
  49UP20120602,RF1205,  4439,  1,     34,  22107,2,20120707,1815, 30.0053, 147.4700, 6179,     51.7,  19.6582,  34.6098,2,  34.6136,4,    235.6,2,     2.11,2,     0.00,2,     0.00,2,     0.03,2,   1987.6,2,   2273.2,2,   8.0300,2,    25.00,     2026
  49UP20120602,RF1205,  4439,  1,     33,  21996,2,20120707,1815, 30.0053, 147.4700, 6179,     77.3,  18.1834,  34.7365,2,-999.0000,9,    229.6,2,     2.49,2,     0.55,2,     0.08,2,     0.08,2,   2005.1,2,   2282.5,2,   8.0049,2,    25.00,     2024
  49UP20120602,RF1205,  4439,  1,     32,  22105,2,20120707,1815, 30.0053, 147.4700, 6179,    102.3,  17.5573,  34.7421,2,  34.7405,2,    222.0,2,     2.79,2,     2.83,2,     0.04,2,     0.21,2,   2018.6,2,   2281.0,2,   7.9829,2,    25.00,     2021
  49UP20120602,RF1205,  4439,  1,     31,  22076,2,20120707,1815, 30.0053, 147.4700, 6179,    127.1,  17.4203,  34.7361,2,-999.0000,9,    225.4,2,     2.86,2,     2.02,2,     0.03,2,     0.16,2,   2008.2,2,   2240.2,2,   7.9963,2,    25.00,     2020
  49UP20120602,RF1205,  4439,  1,     30,  22103,2,20120707,1815, 30.0053, 147.4700, 6179,    151.3,  17.2725,  34.7267,2,-999.0000,9,    220.2,2,     3.54,2,     3.50,2,     0.02,2,     0.24,2,   2021.2,2,   2271.1,2,   7.9745,2,    25.00,     2019
  49UP20120602,RF1205,  4439,  1,     29,  22102,2,20120707,1815, 30.0053, 147.4700, 6179,    202.4,  17.0912,  34.7239,2,  34.7255,2,    222.5,6,     3.70,6,     3.49,6,     0.01,6,     0.25,6,   2021.9,2,   2274.6,2,   7.9764,2,    25.00,     2018
  49UP20120602,RF1205,  4439,  1,     28,  22101,2,20120707,1815, 30.0053, 147.4700, 6179,    253.6,  16.9688,  34.7198,2,-999.0000,9,    222.8,2,     3.94,2,     3.69,2,     0.01,2,     0.26,2,   2022.8,2,   2277.9,2,   7.9724,2,    25.00,     2016
  49UP20120602,RF1205,  4439,  1,     27,  21998,2,20120707,1815, 30.0053, 147.4700, 6179,    303.4,  16.4410,  34.6741,2,-999.0000,9,    211.3,2,     5.93,2,     5.70,2,     0.01,2,     0.39,2,   2039.0,2,   2276.3,2,   7.9397,2,    25.00,     2015
  49UP20120602,RF1205,  4439,  1,     26,  22099,2,20120707,1815, 30.0053, 147.4700, 6179,    404.8,  13.8636,  34.4949,2,  34.4968,2,    178.3,2,    15.51,2,    12.71,2,     0.01,2,     0.87,2,   2094.2,2,   2275.6,2,   7.8210,2,    25.00,     2012
  49UP20120602,RF1205,  4439,  1,     25,  22098,2,20120707,1815, 30.0053, 147.4700, 6179,    507.1,  10.7682,  34.2731,2,-999.0000,9,    176.1,2,    26.94,2,    17.82,2,     0.00,2,     1.26,2,   2131.6,2,   2277.2,2,   7.7370,2,    25.00,     2009
  49UP20120602,RF1205,  4439,  1,     24,  22097,2,20120707,1815, 30.0053, 147.4700, 6179,    606.8,   7.9098,  34.0943,2,  34.0973,2,    159.4,2,    44.16,2,    24.40,2,     0.01,2,     1.77,2,   2173.4,2,   2279.0,2,   7.6244,2,    25.00,     2007
  49UP20120602,RF1205,  4439,  1,     23,  22096,2,20120707,1815, 30.0053, 147.4700, 6179,    708.2,   5.6726,  34.0355,2,-999.0000,9,    121.3,2,    68.12,2,    31.95,2,     0.01,2,     2.33,2,   2239.2,2,   2295.3,2,   7.4919,2,    25.00,     2004
  49UP20120602,RF1205,  4439,  1,     22,  22111,2,20120707,1815, 30.0053, 147.4700, 6179,    810.3,   4.6142,  34.1315,2,  34.1293,2,     76.3,2,    92.39,2,    37.55,2,     0.00,2,     2.72,2,   2297.5,2,   2320.9,2,   7.4005,2,    25.00,     2001
  49UP20120602,RF1205,  4439,  1,     21,  22094,2,20120707,1815, 30.0053, 147.4700, 6179,    910.5,   4.1959,  34.2154,2,-999.0000,9,     56.1,2,   105.63,2,    39.88,2,     0.00,2,     2.87,2,   2322.2,2,   2335.9,2,   7.3720,2,    25.00,     1958
  49UP20120602,RF1205,  4439,  1,     20,  22093,2,20120707,1815, 30.0053, 147.4700, 6179,   1011.4,   3.7741,  34.3013,2,  34.3007,2,     43.8,2,   117.95,2,    41.32,2,     0.00,2,     2.98,2,   2344.2,2,   2349.8,2,   7.3552,2,    25.00,     1955
  49UP20120602,RF1205,  4439,  1,     19,  22092,2,20120707,1815, 30.0053, 147.4700, 6179,   1216.0,   3.0630,  34.4074,2,  34.4044,4,     37.0,2,   138.17,2,    42.55,2,     0.00,2,     3.07,2,   2368.4,2,   2375.7,2,   7.3458,2,    25.00,     1950
  49UP20120602,RF1205,  4439,  1,     18,  22091,2,20120707,1815, 30.0053, 147.4700, 6179,   1415.5,   2.6612,  34.4902,2,-999.0000,9,     46.8,6,   147.33,6,    42.37,6,     0.00,6,     3.03,6,   2371.5,2,   2389.8,2,   7.3742,2,    25.00,     1945
  49UP20120602,RF1205,  4439,  1,     17,  22090,2,20120707,1815, 30.0053, 147.4700, 6179,   1619.4,   2.3494,  34.5428,2,  34.5434,2,     61.0,2,   152.87,2,    41.64,2,     0.00,2,     2.96,2,   2374.0,6,   2399.6,6,   7.4009,2,    25.00,     1940
  49UP20120602,RF1205,  4439,  1,     16,  22089,2,20120707,1815, 30.0053, 147.4700, 6179,   1821.4,   2.1172,  34.5771,2,-999.0000,9,     74.9,2,   155.73,2,    40.86,2,     0.00,2,     2.90,2,   2375.9,2,   2404.6,2,   7.4326,6,    25.00,     1936
  49UP20120602,RF1205,  4439,  1,     15,  22088,2,20120707,1815, 30.0053, 147.4700, 6179,   2024.4,   1.9491,  34.6043,2,  34.6043,2,     90.8,2,   155.48,2,    39.93,2,     0.00,2,     2.83,2,   2365.0,2,   2405.8,2,   7.4631,2,    25.00,     1931
  49UP20120602,RF1205,  4439,  1,     14,  21999,2,20120707,1815, 30.0053, 147.4700, 6179,   2278.1,   1.7917,  34.6285,2,  34.6289,6,    105.9,2,   154.73,2,    38.95,2,     0.00,2,     2.74,2,   2360.9,2,   2410.7,2,   7.4914,2,    25.00,     1926
  49UP20120602,RF1205,  4439,  1,     13,  22086,2,20120707,1815, 30.0053, 147.4700, 6179,   2532.3,   1.7072,  34.6421,2,  34.6408,2,    114.8,2,   153.67,2,    38.32,2,     0.00,2,     2.70,2,   2355.8,2,   2410.6,2,   7.5048,2,    25.00,     1922
  49UP20120602,RF1205,  4439,  1,     12,  22074,2,20120707,1815, 30.0053, 147.4700, 6179,   2787.3,   1.6402,  34.6528,2,  34.6530,2,    123.7,2,   153.19,2,    37.77,2,     0.00,2,     2.66,2,   2351.0,2,   2414.9,2,   7.5219,2,    25.00,     1917
  49UP20120602,RF1205,  4439,  1,     11,  22110,2,20120707,1815, 30.0053, 147.4700, 6179,   3041.7,   1.5844,  34.6616,2,  34.6627,2,    130.3,2,   152.26,2,    37.32,2,     0.00,2,     2.62,2,   2343.2,6,   2411.3,6,   7.5353,2,    25.00,     1912
  49UP20120602,RF1205,  4439,  1,     10,  22083,2,20120707,1815, 30.0053, 147.4700, 6179,   3295.0,   1.5512,  34.6680,2,  34.6674,2,    135.9,6,   151.28,6,    37.04,6,     0.00,6,     2.59,6,   2337.4,2,   2412.3,2,   7.5411,2,    25.00,     1908
  49UP20120602,RF1205,  4439,  1,      9,  22108,2,20120707,1815, 30.0053, 147.4700, 6179,   3552.2,   1.5281,  34.6726,2,  34.6729,2,    140.8,2,   150.36,2,    36.65,2,     0.00,2,     2.57,2,   2336.8,2,   2411.6,2,   7.5501,6,    25.00,     1903
  49UP20120602,RF1205,  4439,  1,      8,  22081,2,20120707,1815, 30.0053, 147.4700, 6179,   3807.6,   1.5080,  34.6773,2,  34.6773,2,    145.7,2,   149.25,2,    36.46,2,     0.00,2,     2.54,2,   2330.5,2,   2407.3,2,   7.5586,2,    25.00,     1859
  49UP20120602,RF1205,  4439,  1,      7,  22106,2,20120707,1815, 30.0053, 147.4700, 6179,   4062.5,   1.4956,  34.6810,2,  34.6787,4,    150.0,2,   147.88,2,    35.98,2,     0.00,2,     2.51,2,   2330.0,2,   2413.1,2,   7.5691,2,    25.00,     1854
  49UP20120602,RF1205,  4439,  1,      6,  22113,2,20120707,1815, 30.0053, 147.4700, 6179,   4318.9,   1.4913,  34.6841,2,  34.6846,2,    153.3,2,   146.59,2,    35.90,2,     0.00,2,     2.50,2,   2320.5,2,   2407.4,2,   7.5766,2,    25.00,     1850
  49UP20120602,RF1205,  4439,  1,      5,  22078,2,20120707,1815, 30.0053, 147.4700, 6179,   4578.8,   1.4953,  34.6866,2,  34.6862,2,    156.8,2,   145.53,2,    35.69,2,     0.00,2,     2.48,2,   2320.3,6,   2407.0,6,   7.5740,2,    25.00,     1845
  49UP20120602,RF1205,  4439,  1,      4,  22077,2,20120707,1815, 30.0053, 147.4700, 6179,   5093.5,   1.5202,  34.6899,2,  34.6905,6,    162.3,2,   142.63,2,    35.36,2,     0.00,2,     2.45,2,   2315.4,2,   2405.0,2,   7.5850,2,    25.00,     1837
  49UP20120602,RF1205,  4439,  1,      3,  22104,2,20120707,1815, 30.0053, 147.4700, 6179,   5352.0,   1.5411,  34.6910,2,  34.6918,2,    164.0,6,   141.41,6,    35.22,6,     0.00,6,     2.44,6,   2313.9,2,   2406.3,2,   7.5874,2,    25.00,     1832
  49UP20120602,RF1205,  4439,  1,      2,  22075,2,20120707,1815, 30.0053, 147.4700, 6179,   5608.9,   1.5648,  34.6920,2,  34.6928,2,    166.5,3,   139.87,2,    34.89,2,     0.00,2,     2.43,2,   2312.2,2,   2401.8,2,   7.5847,6,    25.00,     1827
  49UP20120602,RF1205,  4439,  1,      1,  22112,2,20120707,1815, 30.0053, 147.4700, 6179,   6293.8,   1.6358,  34.6943,2,  34.6940,2,    169.4,2,   137.06,2,    34.68,2,     0.00,2,     2.41,2,   2305.1,2,   2404.2,2,   7.5903,2,    25.00,     1815
  49UP20120602,RF1205,  4441,  1,     99,     99,2,20120708,0359, 29.0098, 147.2467, 6106,      0.0,  26.7459,  34.6835,2,-999.0000,9,    206.2,2,     1.57,2,     0.01,2,     0.00,2,     0.03,2,   -999.0,9,   -999.0,9,-999.0000,9,  -999.00,      440
  49UP20120602,RF1205,  4441,  1,     36,  22109,2,20120708,0359, 29.0098, 147.2467, 6106,     11.0,  26.3047,  34.6903,2,-999.0000,9,    206.9,2,     1.54,2,     0.01,2,     0.00,2,     0.01,2,   -999.0,9,   -999.0,9,-999.0000,9,  -999.00,      503
  49UP20120602,RF1205,  4441,  1,     35,  22112,2,20120708,0359, 29.0098, 147.2467, 6106,     11.0,  26.3047,  34.6903,2,-999.0000,9,    206.6,2,     1.55,2,     0.01,2,     0.00,2,     0.01,2,   -999.0,9,   -999.0,9,-999.0000,9,  -999.00,      503
  49UP20120602,RF1205,  4441,  1,     34,  22083,2,20120708,0359, 29.0098, 147.2467, 6106,     26.3,  25.1809,  34.7852,2,-999.0000,9,    216.5,2,     1.51,2,     0.02,2,     0.00,2,     0.02,2,   -999.0,9,   -999.0,9,-999.0000,9,  -999.00,      502
  49UP20120602,RF1205,  4441,  1,     30,  22103,2,20120708,0359, 29.0098, 147.2467, 6106,     51.8,  21.8572,  34.9470,2,-999.0000,9,    229.6,2,     1.53,2,     0.02,2,     0.00,2,     0.01,2,   -999.0,9,   -999.0,9,-999.0000,9,  -999.00,      458
  49UP20120602,RF1205,  4441,  1,     29,  22102,2,20120708,0359, 29.0098, 147.2467, 6106,     76.1,  20.2561,  34.8901,2,-999.0000,9,    226.8,2,     1.90,2,     0.02,2,     0.00,2,     0.02,2,   -999.0,9,   -999.0,9,-999.0000,9,  -999.00,      457
  49UP20120602,RF1205,  4441,  1,     28,  22101,2,20120708,0359, 29.0098, 147.2467, 6106,    101.3,  19.2344,  34.8169,2,-999.0000,9,    227.6,2,     2.08,2,     0.04,2,     0.03,2,     0.04,2,   -999.0,9,   -999.0,9,-999.0000,9,  -999.00,      456
  49UP20120602,RF1205,  4441,  1,     27,  21998,2,20120708,0359, 29.0098, 147.2467, 6106,    127.5,  18.5110,  34.7870,2,-999.0000,9,    216.4,2,     2.49,2,     1.79,2,     0.11,2,     0.14,2,   -999.0,9,   -999.0,9,-999.0000,9,  -999.00,      454
  49UP20120602,RF1205,  4441,  1,     26,  22099,2,20120708,0359, 29.0098, 147.2467, 6106,    151.0,  18.1882,  34.7699,2,-999.0000,9,    214.0,6,     2.84,6,     2.52,6,     0.04,6,     0.18,6,   -999.0,9,   -999.0,9,-999.0000,9,  -999.00,      453
  49UP20120602,RF1205,  4441,  1,     25,  22098,2,20120708,0359, 29.0098, 147.2467, 6106,    202.6,  17.6815,  34.7405,2,-999.0000,9,    215.2,2,     3.14,2,     3.29,2,     0.02,2,     0.22,2,   -999.0,9,   -999.0,9,-999.0000,9,  -999.00,      451
  49UP20120602,RF1205,  4441,  1,     21,  22078,2,20120708,0359, 29.0098, 147.2467, 6106,    253.3,  17.2735,  34.7169,2,-999.0000,9,    214.4,2,     3.86,2,     4.07,2,     0.01,2,     0.27,2,   -999.0,9,   -999.0,9,-999.0000,9,  -999.00,      449
  49UP20120602,RF1205,  4441,  1,     20,  22093,2,20120708,0359, 29.0098, 147.2467, 6106,    304.6,  16.9058,  34.6919,2,-999.0000,9,    209.1,2,     4.81,2,     5.14,2,     0.01,2,     0.34,2,   -999.0,9,   -999.0,9,-999.0000,9,  -999.00,      447
  49UP20120602,RF1205,  4441,  1,     19,  22092,2,20120708,0359, 29.0098, 147.2467, 6106,    404.9,  14.7842,  34.5441,2,-999.0000,9,    187.4,2,    10.94,2,    10.33,2,     0.00,2,     0.70,2,   -999.0,9,   -999.0,9,-999.0000,9,  -999.00,      444
  49UP20120602,RF1205,  4441,  1,     18,  22091,2,20120708,0359, 29.0098, 147.2467, 6106,    506.1,  12.0230,  34.3688,2,-999.0000,9,    176.4,2,    21.79,2,    15.89,2,     0.00,2,     1.10,2,   -999.0,9,   -999.0,9,-999.0000,9,  -999.00,      441
  49UP20120602,RF1205,  4441,  1,     17,  22090,2,20120708,0359, 29.0098, 147.2467, 6106,    506.1,  12.0230,  34.3688,2,-999.0000,9,    176.2,2,    21.76,2,    15.89,2,     0.00,2,     1.10,2,   -999.0,9,   -999.0,9,-999.0000,9,  -999.00,      441
  49UP20120602,RF1205,  4441,  1,     16,  22089,2,20120708,0359, 29.0098, 147.2467, 6106,    607.2,   8.5602,  34.1272,2,-999.0000,9,    165.0,2,    39.05,2,    22.68,2,     0.00,2,     1.63,2,   -999.0,9,   -999.0,9,-999.0000,9,  -999.00,      437
  49UP20120602,RF1205,  4441,  1,     12,  22074,2,20120708,0359, 29.0098, 147.2467, 6106,    707.7,   6.0407,  34.0360,2,-999.0000,9,    129.4,2,    62.94,2,    30.61,2,     0.00,2,     2.21,2,   -999.0,9,   -999.0,9,-999.0000,9,  -999.00,      433
  49UP20120602,RF1205,  4441,  1,     11,  22110,2,20120708,0359, 29.0098, 147.2467, 6106,    809.0,   4.8859,  34.1139,2,-999.0000,9,     84.2,2,    85.48,2,    36.45,2,     0.00,2,     2.63,2,   -999.0,9,   -999.0,9,-999.0000,9,  -999.00,      430
  49UP20120602,RF1205,  4441,  1,     10,  22107,2,20120708,0359, 29.0098, 147.2467, 6106,    911.0,   4.2211,  34.2107,2,-999.0000,9,     57.9,2,   104.12,2,    39.63,2,     0.00,2,     2.85,2,   -999.0,9,   -999.0,9,-999.0000,9,  -999.00,      427
  49UP20120602,RF1205,  4441,  1,      9,  22108,2,20120708,0359, 29.0098, 147.2467, 6106,   1011.9,   3.7369,  34.2909,2,-999.0000,9,     44.5,2,   118.31,2,    41.30,2,     0.00,2,     2.96,2,   -999.0,9,   -999.0,9,-999.0000,9,  -999.00,      423
  49UP20120602,RF1205,  4441,  1,      8,  22081,2,20120708,0359, 29.0098, 147.2467, 6106,   1213.3,   3.1210,  34.4022,2,-999.0000,9,     37.6,2,   135.83,2,    42.55,2,     0.00,2,     3.04,2,   -999.0,9,   -999.0,9,-999.0000,9,  -999.00,      418
  49UP20120602,RF1205,  4441,  1,      7,  22106,2,20120708,0359, 29.0098, 147.2467, 6106,   1415.9,   2.6800,  34.4770,2,-999.0000,9,     42.2,6,   147.50,6,    42.64,6,     0.00,6,     3.04,6,   -999.0,9,   -999.0,9,-999.0000,9,  -999.00,      413
  49UP20120602,RF1205,  4441,  1,      6,  22113,2,20120708,0359, 29.0098, 147.2467, 6106,   1618.0,   2.3673,  34.5369,2,-999.0000,9,     58.4,2,   152.65,2,    41.77,2,     0.00,2,     2.96,2,   -999.0,9,   -999.0,9,-999.0000,9,  -999.00,      409
  49UP20120602,RF1205,  4441,  1,      5,  22094,2,20120708,0359, 29.0098, 147.2467, 6106,   1821.9,   2.1199,  34.5761,2,-999.0000,9,     74.3,2,   155.40,2,    40.91,2,     0.00,2,     2.89,2,   -999.0,9,   -999.0,9,-999.0000,9,  -999.00,      404
  49UP20120602,RF1205,  4441,  1,      4,  22077,2,20120708,0359, 29.0098, 147.2467, 6106,   2021.4,   1.9485,  34.6040,2,-999.0000,9,     91.3,2,   154.03,2,    39.88,2,     0.00,2,     2.80,2,   -999.0,9,   -999.0,9,-999.0000,9,  -999.00,      359