BOTTLE,20200205PRINUNIVRMK
EXPOCODE,SECT_ID,STNNBR,CASTNO,SAMPNO,BTLNBR,BTLNBR_FLAG_W,DATE,TIME,LATITUDE,LONGITUDE,DEPTH,CTDPRS,CTDTMP,CTDSAL,CTDSAL_FLAG_W,SALNTY,SALNTY_FLAG_W,OXYGEN,OXYGEN_FLAG_W,SILCAT,SILCAT_FLAG_W,NITRAT,NITRAT_FLAG_W,NITRIT,NITRIT_FLAG_W,PHSPHT,PHSPHT_FLAG_W,TCARBN,TCARBN_FLAG_W,ALKALI,ALKALI_FLAG_W,PH_TOT,PH_TOT_FLAG_W,PH_TMP,BTL_TIME
,,,,,,,,,,,METERS,DBAR,ITS-90,PSS-78,,PSS-78,,UMOL/KG,,UMOL/KG,,UMOL/KG,,UMOL/KG,,UMOL/KG,,UMOL/KG,,UMOL/KG,,,,DEG C,
  49UP20120602,RF1205,  4422,  1,     99,     99,2,20120614,2249, 49.9915, 164.9975, 5492,      0.0,   5.4021,  33.0077,2,  32.9990,2,    326.9,2,    34.12,2,    19.01,2,     0.21,2,     1.62,2,   2083.3,2,   2234.4,2,   7.7610,2,    25.00,       43
  49UP20120602,RF1205,  4422,  1,     36,  22109,2,20120614,2249, 49.9915, 164.9975, 5492,     11.7,   5.3983,  33.0084,2,  33.0082,2,    327.1,2,    33.72,2,    18.90,2,     0.21,2,     1.62,2,   2085.4,2,   2237.0,2,   7.7606,2,    25.00,      108
  49UP20120602,RF1205,  4422,  1,     35,  21997,2,20120614,2249, 49.9915, 164.9975, 5492,     26.7,   5.3012,  33.0113,2,-999.0000,9,    328.4,2,    33.70,2,    18.84,2,     0.21,2,     1.62,2,   2084.4,2,   2235.3,2,   7.7579,2,    25.00,      107
  49UP20120602,RF1205,  4422,  1,     34,  22107,2,20120614,2249, 49.9915, 164.9975, 5492,     51.3,   2.6591,  33.0540,2,  33.0573,2,    338.2,2,    37.79,2,    22.29,2,     0.31,2,     1.88,2,   2117.4,2,   2237.5,2,   7.6743,2,    25.00,      106
  49UP20120602,RF1205,  4422,  1,     33,  21996,2,20120614,2249, 49.9915, 164.9975, 5492,     77.4,   2.1574,  33.0821,2,-999.0000,9,    330.7,2,    41.34,2,    23.90,2,     0.56,2,     1.95,2,   2134.3,2,   2234.6,2,   7.6462,2,    25.00,      104
  49UP20120602,RF1205,  4422,  1,     32,  22105,2,20120614,2249, 49.9915, 164.9975, 5492,    101.4,   2.0505,  33.1033,2,  33.0919,4,    327.4,2,    41.97,2,    24.67,2,     0.34,2,     1.98,2,   2133.8,2,   2234.9,2,   7.6373,2,    25.00,      100
  49UP20120602,RF1205,  4422,  1,     31,  22076,2,20120614,2249, 49.9915, 164.9975, 5492,    127.3,   1.7700,  33.1224,2,-999.0000,9,    322.8,6,    41.94,6,    25.33,6,     0.19,6,     2.03,6,   2140.6,2,   2237.8,2,   7.6269,2,    25.00,       58
  49UP20120602,RF1205,  4422,  1,     30,  22103,2,20120614,2249, 49.9915, 164.9975, 5492,    153.7,   2.3250,  33.3033,2,  33.2913,4,    251.5,2,    56.08,2,    30.15,2,     0.02,2,     2.29,2,   2185.6,2,   2248.8,2,   7.5300,2,    25.00,       57
  49UP20120602,RF1205,  4422,  1,     29,  22102,2,20120614,2249, 49.9915, 164.9975, 5492,    202.9,   3.8822,  33.7569,2,  33.7554,2,     84.4,2,    83.20,2,    40.25,2,     0.00,2,     2.88,2,   2292.4,2,   2286.0,2,   7.3152,2,    25.00,       55
  49UP20120602,RF1205,  4422,  1,     28,  22101,2,20120614,2249, 49.9915, 164.9975, 5492,    255.4,   3.6181,  33.8559,2,-999.0000,9,     52.6,2,    93.67,2,    42.96,2,     0.00,2,     3.06,2,   2319.3,2,   2294.2,2,   7.2549,2,    25.00,       53
  49UP20120602,RF1205,  4422,  1,     27,  21998,2,20120614,2249, 49.9915, 164.9975, 5492,    305.7,   3.8116,  33.9564,2,  33.9531,2,     19.9,2,    99.99,2,    45.18,2,     0.00,2,     3.19,2,   2340.5,2,   2304.8,2,   7.2177,2,    25.00,       51
  49UP20120602,RF1205,  4422,  1,     26,  22099,2,20120614,2249, 49.9915, 164.9975, 5492,    406.3,   3.7204,  34.0697,2,  34.0685,2,     18.0,2,   109.88,2,    44.48,2,     0.00,2,     3.16,2,   2348.1,2,   2319.4,2,   7.2436,2,    25.00,       48
  49UP20120602,RF1205,  4422,  1,     25,  22098,2,20120614,2249, 49.9915, 164.9975, 5492,    507.6,   3.5816,  34.1554,2,-999.0000,9,     16.6,2,   118.23,2,    44.18,2,     0.00,2,     3.14,2,   2355.4,2,   2334.5,2,   7.2596,2,    25.00,       45
  49UP20120602,RF1205,  4422,  1,     24,  22097,2,20120614,2249, 49.9915, 164.9975, 5492,    609.6,   3.3844,  34.2212,2,  34.2233,2,     13.4,2,   127.96,2,    44.35,2,     0.00,2,     3.15,2,   2373.9,2,   2343.3,2,   7.2669,2,    25.00,       42
  49UP20120602,RF1205,  4422,  1,     23,  22096,2,20120614,2249, 49.9915, 164.9975, 5492,    710.2,   3.2570,  34.2780,2,-999.0000,9,     14.7,2,   132.85,2,    44.19,2,     0.00,2,     3.15,2,   2375.1,2,   2355.8,2,   7.2749,2,    25.00,       39
  49UP20120602,RF1205,  4422,  1,     22,  22111,2,20120614,2249, 49.9915, 164.9975, 5492,    812.6,   3.0780,  34.3154,2,  34.3177,2,     15.7,2,   139.57,2,    44.13,2,     0.00,2,     3.14,2,   2379.8,2,   2361.6,2,   7.2836,2,    25.00,       36
  49UP20120602,RF1205,  4422,  1,     21,  22094,2,20120614,2249, 49.9915, 164.9975, 5492,    913.9,   2.9533,  34.3539,2,-999.0000,9,     15.3,2,   144.07,2,    44.23,2,     0.00,2,     3.15,2,   2381.6,2,   2368.8,2,   7.2896,2,    25.00,       33
  49UP20120602,RF1205,  4422,  1,     20,  22093,2,20120614,2249, 49.9915, 164.9975, 5492,   1016.0,   2.8130,  34.3870,2,  34.3853,2,     16.8,2,   148.78,2,    44.18,2,     0.00,2,     3.15,2,   2388.8,2,   2373.3,2,   7.2970,2,    25.00,       29
  49UP20120602,RF1205,  4422,  1,     19,  22092,2,20120614,2249, 49.9915, 164.9975, 5492,   1217.3,   2.5454,  34.4470,2,  34.4474,2,     21.5,2,   157.07,2,    43.95,2,     0.00,2,     3.12,2,   2392.9,2,   2383.5,2,   7.3096,2,    25.00,       24
  49UP20120602,RF1205,  4422,  1,     18,  22091,2,20120614,2249, 49.9915, 164.9975, 5492,   1418.4,   2.3049,  34.4991,2,  34.4990,2,     31.0,2,   163.77,2,    43.44,2,     0.00,2,     3.08,2,   2389.2,2,   2396.2,2,   7.3298,2,    25.00,       19
  49UP20120602,RF1205,  4422,  1,     17,  22090,2,20120614,2249, 49.9915, 164.9975, 5492,   1623.1,   2.1256,  34.5386,2,  34.5381,2,     42.0,2,   168.55,2,    42.81,2,     0.00,2,     3.03,2,   2387.7,2,   2403.1,2,   7.3586,2,    25.00,       14
  49UP20120602,RF1205,  4422,  1,     16,  22089,2,20120614,2249, 49.9915, 164.9975, 5492,   1824.7,   1.9808,  34.5703,2,  34.5706,2,     54.3,2,   170.78,2,    42.08,2,     0.00,2,     2.99,2,   2383.7,2,   2406.1,2,   7.3828,2,    25.00,       10
  49UP20120602,RF1205,  4422,  1,     15,  22088,2,20120614,2249, 49.9915, 164.9975, 5492,   2028.6,   1.8524,  34.5971,2,  34.5963,2,     68.7,2,   171.55,2,    41.13,2,     0.00,2,     2.92,2,   2379.3,6,   2409.7,6,   7.4119,2,    25.00,        5
  49UP20120602,RF1205,  4422,  1,     14,  21999,2,20120614,2249, 49.9915, 164.9975, 5492,   2283.8,   1.7507,  34.6189,2,  34.6188,2,     83.3,2,   171.05,2,    40.15,2,     0.00,2,     2.86,2,   2374.3,2,   2413.3,2,   7.4415,6,    25.00,     2359
  49UP20120602,RF1205,  4422,  1,     13,  22086,2,20120614,2249, 49.9915, 164.9975, 5492,   2538.5,   1.6654,  34.6370,2,  34.6373,6,     98.8,2,   167.94,2,    39.24,2,     0.00,2,     2.78,2,   2364.0,2,   2411.9,2,   7.4753,2,    25.00,     2353
  49UP20120602,RF1205,  4422,  1,     12,  22074,2,20120614,2249, 49.9915, 164.9975, 5492,   2792.2,   1.5997,  34.6502,2,  34.6507,2,    111.1,2,   165.12,2,    38.36,2,     0.00,2,     2.72,2,   2354.8,2,   2412.2,2,   7.4975,2,    25.00,     2348
  49UP20120602,RF1205,  4422,  1,     11,  22110,2,20120614,2249, 49.9915, 164.9975, 5492,   3047.2,   1.5413,  34.6619,2,  34.6617,2,    123.7,2,   160.48,2,    37.66,2,     0.00,2,     2.66,2,   2347.4,2,   2413.6,2,   7.5185,2,    25.00,     2343
  49UP20120602,RF1205,  4422,  1,     10,  22083,2,20120614,2249, 49.9915, 164.9975, 5492,   3303.4,   1.5049,  34.6699,2,  34.6702,2,    133.4,2,   157.04,2,    37.14,2,     0.00,2,     2.61,2,   2338.8,6,   2417.1,6,   7.5373,2,    25.00,     2338
  49UP20120602,RF1205,  4422,  1,      9,  22108,2,20120614,2249, 49.9915, 164.9975, 5492,   3561.1,   1.4877,  34.6748,2,  34.6753,2,    139.5,6,   155.31,6,    36.75,6,     0.00,6,     2.58,6,   2334.5,2,   2415.8,2,   7.5478,6,    25.00,     2332
  49UP20120602,RF1205,  4422,  1,      8,  22081,2,20120614,2249, 49.9915, 164.9975, 5492,   3814.4,   1.4764,  34.6791,2,  34.6801,2,    144.7,2,   153.85,2,    36.44,2,     0.00,2,     2.55,2,   2336.1,2,   2415.5,2,   7.5582,2,    25.00,     2327
  49UP20120602,RF1205,  4422,  1,      7,  22106,2,20120614,2249, 49.9915, 164.9975, 5492,   4072.9,   1.4774,  34.6821,2,  34.6827,2,    148.6,2,   152.69,2,    36.20,2,     0.00,2,     2.53,2,   2328.4,2,   2411.5,2,   7.5624,2,    25.00,     2322
  49UP20120602,RF1205,  4422,  1,      6,  22113,2,20120614,2249, 49.9915, 164.9975, 5492,   4587.8,   1.4927,  34.6868,2,  34.6874,2,    154.6,2,   151.03,2,    35.75,2,     0.00,2,     2.50,2,   2336.8,3,   2417.1,3,   7.5736,2,    25.00,     2309
  49UP20120602,RF1205,  4422,  1,      5,  22078,2,20120614,2249, 49.9915, 164.9975, 5492,   4657.3,   1.4967,  34.6871,2,  34.6861,2,    155.0,2,   150.84,2,    35.75,2,     0.00,2,     2.49,2,   2329.9,2,   2413.2,2,   7.5760,2,    25.00,     2308
  49UP20120602,RF1205,  4422,  1,      4,  22077,2,20120614,2249, 49.9915, 164.9975, 5492,   5102.4,   1.5333,  34.6891,2,  34.6883,2,    157.2,2,   151.03,2,    35.59,2,     0.00,2,     2.48,2,   2327.0,6,   2413.1,6,   7.5782,2,    25.00,     2300
  49UP20120602,RF1205,  4422,  1,      3,  22104,2,20120614,2249, 49.9915, 164.9975, 5492,   5360.5,   1.5608,  34.6898,2,  34.6870,4,    158.0,2,   151.11,2,    35.53,2,     0.00,2,     2.47,2,   2326.8,2,   2415.3,2,   7.5806,6,    25.00,     2255
  49UP20120602,RF1205,  4422,  1,      2,  22075,2,20120614,2249, 49.9915, 164.9975, 5492,   5592.5,   1.5880,  34.6900,2,  34.6912,2,    158.6,6,   150.42,6,    35.44,6,     0.00,6,     2.47,6,   2323.7,2,   2418.2,2,   7.5806,2,    25.00,     2249
  49UP20120602,RF1205,  4422,  1,      1,  22080,2,20120614,2249, 49.9915, 164.9975, 5492,   5592.6,   1.5882,  34.6900,2,  34.6897,2,    158.4,2,   150.47,2,    35.40,2,     0.00,2,     2.47,2,   -999.0,9,   -999.0,9,-999.0000,9,  -999.00,     2249
  49UP20120602,RF1205,  4423,  1,     99,     99,2,20120615,0618, 49.0002, 165.0030, 5401,      0.0,   5.7020,  33.0221,2,-999.0000,9,    320.9,2,    36.44,2,    19.63,2,     0.22,2,     1.72,2,   -999.0,9,   -999.0,9,-999.0000,9,  -999.00,      650
  49UP20120602,RF1205,  4423,  1,     36,  22109,2,20120615,0618, 49.0002, 165.0030, 5401,     10.9,   5.6968,  33.0221,2,-999.0000,9,    321.4,2,    36.44,2,    19.61,2,     0.22,2,     1.72,2,   -999.0,9,   -999.0,9,-999.0000,9,  -999.00,      705
  49UP20120602,RF1205,  4423,  1,     35,  21997,2,20120615,0618, 49.0002, 165.0030, 5401,     10.9,   5.6968,  33.0221,2,-999.0000,9,    321.4,2,    36.48,2,    19.61,2,     0.21,2,     1.71,2,   -999.0,9,   -999.0,9,-999.0000,9,  -999.00,      705
  49UP20120602,RF1205,  4423,  1,     34,  22107,2,20120615,0618, 49.0002, 165.0030, 5401,     27.4,   5.6730,  33.0207,2,-999.0000,9,    321.6,2,    36.46,2,    19.66,2,     0.22,2,     1.71,2,   -999.0,9,   -999.0,9,-999.0000,9,  -999.00,      704
  49UP20120602,RF1205,  4423,  1,     32,  22105,2,20120615,0618, 49.0002, 165.0030, 5401,     51.9,   2.8527,  33.0514,2,-999.0000,9,   -999.0,9,  -999.00,9,  -999.00,9,  -999.00,9,  -999.00,9,   -999.0,9,   -999.0,9,-999.0000,9,  -999.00,      703
  49UP20120602,RF1205,  4423,  1,     33,  21996,2,20120615,0618, 49.0002, 165.0030, 5401,     52.1,   2.8573,  33.0517,2,-999.0000,9,    332.7,2,    41.75,2,    23.25,2,     0.40,2,     1.92,2,   -999.0,9,   -999.0,9,-999.0000,9,  -999.00,      703
  49UP20120602,RF1205,  4423,  1,     31,  22076,3,20120615,0618, 49.0002, 165.0030, 5401,     77.0,   2.1650,  33.0747,2,-999.0000,9,    327.4,2,    41.87,2,    24.11,2,     0.51,2,     1.98,2,   -999.0,9,   -999.0,9,-999.0000,9,  -999.00,      702
  49UP20120602,RF1205,  4423,  1,     30,  22103,2,20120615,0618, 49.0002, 165.0030, 5401,    100.6,   2.0849,  33.1204,2,-999.0000,9,   -999.0,9,  -999.00,9,  -999.00,9,  -999.00,9,  -999.00,9,   -999.0,9,   -999.0,9,-999.0000,9,  -999.00,      700
  49UP20120602,RF1205,  4423,  1,     29,  22102,2,20120615,0618, 49.0002, 165.0030, 5401,    100.6,   2.0763,  33.1212,2,-999.0000,9,    315.3,2,    44.48,2,    25.87,2,     0.15,2,     2.05,2,   -999.0,9,   -999.0,9,-999.0000,9,  -999.00,      700
  49UP20120602,RF1205,  4423,  1,     28,  22101,2,20120615,0618, 49.0002, 165.0030, 5401,    126.5,   2.1016,  33.2445,2,-999.0000,9,    260.0,6,    54.39,6,    29.67,6,     0.01,6,     2.27,6,   -999.0,9,   -999.0,9,-999.0000,9,  -999.00,      659
  49UP20120602,RF1205,  4423,  1,     27,  21998,2,20120615,0618, 49.0002, 165.0030, 5401,    151.1,   3.5662,  33.5641,2,-999.0000,9,    142.5,2,    73.95,2,    36.64,2,     0.01,2,     2.69,2,   -999.0,9,   -999.0,9,-999.0000,9,  -999.00,      658
  49UP20120602,RF1205,  4423,  1,     26,  22099,2,20120615,0618, 49.0002, 165.0030, 5401,    151.2,   3.5724,  33.5659,2,-999.0000,9,   -999.0,9,  -999.00,9,  -999.00,9,  -999.00,9,  -999.00,9,   -999.0,9,   -999.0,9,-999.0000,9,  -999.00,      658
  49UP20120602,RF1205,  4423,  1,     24,  22097,2,20120615,0618, 49.0002, 165.0030, 5401,    202.9,   3.2150,  33.7421,2,-999.0000,9,     79.1,2,    89.33,2,    41.78,2,     0.00,2,     3.01,2,   -999.0,9,   -999.0,9,-999.0000,9,  -999.00,      656
  49UP20120602,RF1205,  4423,  1,     25,  22098,2,20120615,0618, 49.0002, 165.0030, 5401,    203.2,   3.2080,  33.7420,2,-999.0000,9,   -999.0,9,  -999.00,9,  -999.00,9,  -999.00,9,  -999.00,9,   -999.0,9,   -999.0,9,-999.0000,9,  -999.00,      656
  49UP20120602,RF1205,  4423,  1,     23,  22096,2,20120615,0618, 49.0002, 165.0030, 5401,    253.0,   3.2695,  33.8296,2,-999.0000,9,     60.5,2,    95.70,2,    42.50,2,     0.01,2,     3.07,2,   -999.0,9,   -999.0,9,-999.0000,9,  -999.00,      655
  49UP20120602,RF1205,  4423,  1,     22,  22111,2,20120615,0618, 49.0002, 165.0030, 5401,    303.1,   3.3759,  33.9159,2,-999.0000,9,     45.0,2,   101.99,2,    43.36,2,     0.00,2,     3.12,2,   -999.0,9,   -999.0,9,-999.0000,9,  -999.00,      653
  49UP20120602,RF1205,  4423,  1,     21,  22094,2,20120615,0618, 49.0002, 165.0030, 5401,    303.2,   3.3757,  33.9155,2,-999.0000,9,   -999.0,9,  -999.00,9,  -999.00,9,  -999.00,9,  -999.00,9,   -999.0,9,   -999.0,9,-999.0000,9,  -999.00,      653
  49UP20120602,RF1205,  4423,  1,     15,  22088,2,20120615,0618, 49.0002, 165.0030, 5401,    404.1,   3.3823,  34.0640,2,-999.0000,9,     29.4,2,   114.41,2,    43.61,2,     0.00,2,     3.14,2,   -999.0,9,   -999.0,9,-999.0000,9,  -999.00,      651
  49UP20120602,RF1205,  4423,  1,     16,  22089,2,20120615,0618, 49.0002, 165.0030, 5401,    404.3,   3.3818,  34.0634,2,-999.0000,9,   -999.0,9,  -999.00,9,  -999.00,9,  -999.00,9,  -999.00,9,   -999.0,9,   -999.0,9,-999.0000,9,  -999.00,      651
  49UP20120602,RF1205,  4423,  1,     14,  21999,2,20120615,0618, 49.0002, 165.0030, 5401,    505.4,   3.3354,  34.1772,2,-999.0000,9,     20.8,2,   124.89,2,    43.93,2,     0.00,2,     3.16,2,   -999.0,9,   -999.0,9,-999.0000,9,  -999.00,      648
  49UP20120602,RF1205,  4423,  1,     12,  22074,2,20120615,0618, 49.0002, 165.0030, 5401,    607.3,   3.2060,  34.2417,2,-999.0000,9,     19.1,2,   131.79,2,    43.88,2,     0.00,2,     3.16,2,   -999.0,9,   -999.0,9,-999.0000,9,  -999.00,      646
  49UP20120602,RF1205,  4423,  1,     13,  22086,2,20120615,0618, 49.0002, 165.0030, 5401,    607.7,   3.2071,  34.2420,2,-999.0000,9,   -999.0,9,  -999.00,9,  -999.00,9,  -999.00,9,  -999.00,9,   -999.0,9,   -999.0,9,-999.0000,9,  -999.00,      646
  49UP20120602,RF1205,  4423,  1,     11,  22110,2,20120615,0618, 49.0002, 165.0030, 5401,    706.9,   3.0738,  34.2977,2,-999.0000,9,     16.8,6,   138.66,6,    44.09,6,     0.00,6,     3.18,6,   -999.0,9,   -999.0,9,-999.0000,9,  -999.00,      644
  49UP20120602,RF1205,  4423,  1,      9,  22108,2,20120615,0618, 49.0002, 165.0030, 5401,    807.9,   2.9458,  34.3412,2,-999.0000,9,   -999.0,9,  -999.00,9,  -999.00,9,  -999.00,9,  -999.00,9,   -999.0,9,   -999.0,9,-999.0000,9,  -999.00,      641
  49UP20120602,RF1205,  4423,  1,     10,  22083,2,20120615,0618, 49.0002, 165.0030, 5401,    808.1,   2.9454,  34.3412,2,-999.0000,9,     16.6,2,   143.55,2,    44.10,2,     0.00,2,     3.16,2,   -999.0,9,   -999.0,9,-999.0000,9,  -999.00,      642
  49UP20120602,RF1205,  4423,  1,      8,  22081,2,20120615,0618, 49.0002, 165.0030, 5401,    909.9,   2.8073,  34.3774,2,-999.0000,9,     18.2,2,   148.61,2,    44.16,2,     0.00,2,     3.17,2,   -999.0,9,   -999.0,9,-999.0000,9,  -999.00,      639
  49UP20120602,RF1205,  4423,  1,      7,  22106,2,20120615,0618, 49.0002, 165.0030, 5401,   1011.1,   2.6456,  34.4145,2,-999.0000,9,     21.0,2,   153.70,2,    43.86,2,     0.00,2,     3.16,2,   -999.0,9,   -999.0,9,-999.0000,9,  -999.00,      637
  49UP20120602,RF1205,  4423,  1,      6,  22113,2,20120615,0618, 49.0002, 165.0030, 5401,   1214.5,   2.3826,  34.4764,2,-999.0000,9,     28.0,2,   161.36,2,    43.66,2,     0.01,2,     3.13,2,   -999.0,9,   -999.0,9,-999.0000,9,  -999.00,      633
  49UP20120602,RF1205,  4423,  1,      5,  22078,2,20120615,0618, 49.0002, 165.0030, 5401,   1417.3,   2.1982,  34.5201,2,-999.0000,9,     37.4,2,   166.31,2,    43.15,2,     0.01,2,     3.09,2,   -999.0,9,   -999.0,9,-999.0000,9,  -999.00,      630
  49UP20120602,RF1205,  4423,  1,      4,  22077,2,20120615,0618, 49.0002, 165.0030, 5401,   1621.4,   2.0387,  34.5556,2,-999.0000,9,     48.4,2,   170.10,2,    42.50,2,     0.01,2,     3.04,2,   -999.0,9,   -999.0,9,-999.0000,9,  -999.00,      626
  49UP20120602,RF1205,  4423,  1,      3,  22104,2,20120615,0618, 49.0002, 165.0030, 5401,   1824.7,   1.9124,  34.5844,2,-999.0000,9,     62.2,2,   170.40,2,    41.46,2,     0.00,2,     2.97,2,   -999.0,9,   -999.0,9,-999.0000,9,  -999.00,      622
  49UP20120602,RF1205,  4423,  1,      1,  22080,2,20120615,0618, 49.0002, 165.0030, 5401,   2028.4,   1.8053,  34.6064,2,-999.0000,9,     75.4,2,   170.55,2,    40.81,2,     0.01,2,     2.92,2,   -999.0,9,   -999.0,9,-999.0000,9,  -999.00,      617
  49UP20120602,RF1205,  4423,  1,      2,  22075,2,20120615,0618, 49.0002, 165.0030, 5401,   2028.9,   1.8064,  34.6063,2,-999.0000,9,     75.1,2,   170.32,2,    40.82,2,     0.01,2,     2.92,2,   -999.0,9,   -999.0,9,-999.0000,9,  -999.00,      618