BOTTLE,20200205PRINUNIVRMK
EXPOCODE,SECT_ID,STNNBR,CASTNO,SAMPNO,BTLNBR,BTLNBR_FLAG_W,DATE,TIME,LATITUDE,LONGITUDE,DEPTH,CTDPRS,CTDTMP,CTDSAL,CTDSAL_FLAG_W,SALNTY,SALNTY_FLAG_W,OXYGEN,OXYGEN_FLAG_W,SILCAT,SILCAT_FLAG_W,NITRAT,NITRAT_FLAG_W,NITRIT,NITRIT_FLAG_W,PHSPHT,PHSPHT_FLAG_W,TCARBN,TCARBN_FLAG_W,ALKALI,ALKALI_FLAG_W,PH_TOT,PH_TOT_FLAG_W,PH_TMP,BTL_TIME
,,,,,,,,,,,METERS,DBAR,ITS-90,PSS-78,,PSS-78,,UMOL/KG,,UMOL/KG,,UMOL/KG,,UMOL/KG,,UMOL/KG,,UMOL/KG,,UMOL/KG,,,,DEG C,
  49UP20120602,RF1205,  4431,  1,     99,     99,2,20120706,0217, 34.0185, 148.5392, 6152,      0.0,  23.0456,  34.5301,2,  34.5267,2,    217.4,2,     1.32,2,     0.03,2,     0.00,2,     0.04,2,   1967.1,2,   2263.1,2,   8.0550,2,    25.00,      410
  49UP20120602,RF1205,  4431,  1,     36,  22109,2,20120706,0217, 34.0185, 148.5392, 6152,     11.1,  22.9644,  34.5319,2,  34.5337,2,    218.8,2,     1.32,2,     0.01,2,     0.00,2,     0.02,2,   1966.6,2,   2267.2,2,   8.0592,2,    25.00,      435
  49UP20120602,RF1205,  4431,  1,     35,  21997,2,20120706,0217, 34.0185, 148.5392, 6152,     26.4,  22.2956,  34.5683,2,-999.0000,9,    222.4,2,     1.36,2,     0.03,2,     0.00,2,     0.03,2,   1971.4,2,   2273.0,2,   8.0545,2,    25.00,      434
  49UP20120602,RF1205,  4431,  1,     34,  22107,2,20120706,0217, 34.0185, 148.5392, 6152,     51.3,  21.4955,  34.6026,2,-999.0000,9,    220.2,2,     1.60,2,     0.04,2,     0.01,2,     0.05,2,   1977.6,2,   2275.1,2,   8.0506,2,    25.00,      431
  49UP20120602,RF1205,  4431,  1,     33,  21996,2,20120706,0217, 34.0185, 148.5392, 6152,     76.6,  20.5349,  34.6485,2,-999.0000,9,    208.6,2,     2.54,2,     1.54,2,     0.28,2,     0.14,2,   1996.3,2,   2277.0,2,   8.0187,2,    25.00,      429
  49UP20120602,RF1205,  4431,  1,     32,  22105,2,20120706,0217, 34.0185, 148.5392, 6152,    102.2,  19.4210,  34.7370,2,  34.7380,2,    206.1,2,     3.04,2,     2.51,2,     0.04,2,     0.18,2,   2010.0,2,   2285.0,2,   7.9966,2,    25.00,      428
  49UP20120602,RF1205,  4431,  1,     31,  22076,2,20120706,0217, 34.0185, 148.5392, 6152,    126.7,  18.6008,  34.7468,2,-999.0000,9,    206.7,2,     3.45,2,     3.18,2,     0.02,2,     0.22,2,   2017.6,2,   2284.6,2,   7.9824,2,    25.00,      427
  49UP20120602,RF1205,  4431,  1,     30,  22103,2,20120706,0217, 34.0185, 148.5392, 6152,    152.7,  18.0416,  34.7264,2,-999.0000,9,    199.9,2,     4.41,2,     4.47,2,     0.02,2,     0.31,2,   2030.5,2,   2283.8,2,   7.9637,2,    25.00,      425
  49UP20120602,RF1205,  4431,  1,     29,  22102,2,20120706,0217, 34.0185, 148.5392, 6152,    203.4,  17.3104,  34.7214,2,  34.7224,2,    218.0,2,     3.75,2,     3.62,2,     0.01,2,     0.26,2,   2022.5,2,   2279.8,2,   7.9752,2,    25.00,      423
  49UP20120602,RF1205,  4431,  1,     28,  22101,2,20120706,0217, 34.0185, 148.5392, 6152,    252.7,  17.1414,  34.7258,2,-999.0000,9,    221.7,2,     3.56,2,     3.53,2,     0.01,2,     0.25,2,   2025.8,2,   2282.3,2,   7.9739,2,    25.00,      422
  49UP20120602,RF1205,  4431,  1,     27,  21998,2,20120706,0217, 34.0185, 148.5392, 6152,    305.1,  16.9194,  34.7035,2,-999.0000,9,    218.9,6,     4.16,6,     4.10,6,     0.01,6,     0.28,6,   -999.0,5,   -999.0,5,   7.9661,2,    25.00,      420
  49UP20120602,RF1205,  4431,  1,     26,  22099,2,20120706,0217, 34.0185, 148.5392, 6152,    404.7,  15.5257,  34.5976,2,  34.5958,2,    186.4,2,    10.39,2,     9.48,2,     0.01,2,     0.65,2,   2070.8,2,   2278.8,2,   7.8814,2,    25.00,      417
  49UP20120602,RF1205,  4431,  1,     25,  22098,2,20120706,0217, 34.0185, 148.5392, 6152,    505.3,  12.8079,  34.4330,2,-999.0000,9,    172.0,2,    21.33,2,    15.15,2,     0.00,2,     1.06,2,   2113.7,2,   2279.3,2,   7.7854,2,    25.00,      414
  49UP20120602,RF1205,  4431,  1,     24,  22097,2,20120706,0217, 34.0185, 148.5392, 6152,    606.6,   9.5479,  34.1940,2,  34.1922,2,    172.8,2,    34.23,2,    20.11,2,     0.00,2,     1.45,2,   2152.0,2,   2290.7,2,   7.7025,2,    25.00,      411
  49UP20120602,RF1205,  4431,  1,     23,  22096,2,20120706,0217, 34.0185, 148.5392, 6152,    707.1,   7.0632,  34.0525,2,-999.0000,9,    155.1,2,    51.99,2,    26.28,2,     0.00,2,     1.92,2,   2198.0,2,   2290.7,2,   7.5881,2,    25.00,      408
  49UP20120602,RF1205,  4431,  1,     22,  22111,2,20120706,0217, 34.0185, 148.5392, 6152,    808.8,   5.3180,  34.0548,2,  34.0570,2,    109.6,2,    76.81,2,    33.66,2,     0.00,2,     2.44,2,   2257.8,2,   2306.3,2,   7.4604,2,    25.00,      406
  49UP20120602,RF1205,  4431,  1,     21,  22094,2,20120706,0217, 34.0185, 148.5392, 6152,    910.4,   4.6145,  34.1515,2,-999.0000,9,     74.7,2,    95.21,2,    37.64,2,     0.00,2,     2.71,2,   2299.8,2,   2323.6,2,   7.3982,2,    25.00,      403
  49UP20120602,RF1205,  4431,  1,     20,  22093,2,20120706,0217, 34.0185, 148.5392, 6152,   1012.4,   4.0892,  34.2339,2,  34.2337,2,     55.8,2,   109.94,2,    39.91,2,     0.00,2,     2.86,2,   2326.3,2,   2343.2,2,   7.3762,2,    25.00,      400
  49UP20120602,RF1205,  4431,  1,     19,  22092,2,20120706,0217, 34.0185, 148.5392, 6152,   1213.9,   3.3838,  34.3451,2,  34.3440,2,     42.2,2,   129.82,2,    41.79,2,     0.00,2,     3.00,2,   2356.4,6,   2362.7,6,   7.3488,2,    25.00,      356
  49UP20120602,RF1205,  4431,  1,     18,  22091,2,20120706,0217, 34.0185, 148.5392, 6152,   1415.1,   2.9293,  34.4226,2,-999.0000,9,     40.8,6,   142.70,6,    42.39,6,     0.00,6,     3.03,6,   2370.8,2,   2379.6,2,   7.3543,2,    25.00,      352
  49UP20120602,RF1205,  4431,  1,     17,  22090,2,20120706,0217, 34.0185, 148.5392, 6152,   1619.2,   2.5817,  34.4813,2,  34.4813,2,     41.4,2,   152.27,2,    42.75,2,     0.00,2,     3.04,2,   2380.7,2,   2393.5,2,   7.3559,6,    25.00,      348
  49UP20120602,RF1205,  4431,  1,     16,  22089,2,20120706,0217, 34.0185, 148.5392, 6152,   1822.2,   2.3234,  34.5286,2,-999.0000,9,     50.4,2,   158.37,2,    42.32,2,     0.00,2,     3.00,2,   2381.9,2,   2400.5,2,   7.3773,2,    25.00,      343
  49UP20120602,RF1205,  4431,  1,     15,  22088,2,20120706,0217, 34.0185, 148.5392, 6152,   2025.2,   2.1026,  34.5704,2,  34.5711,2,     64.1,2,   161.22,2,    41.60,2,     0.00,2,     2.94,2,   2377.3,2,   2407.9,2,   7.4037,2,    25.00,      339
  49UP20120602,RF1205,  4431,  1,     14,  21999,2,20120706,0217, 34.0185, 148.5392, 6152,   2279.6,   1.9141,  34.6045,2,  34.6044,2,     82.4,2,   161.47,2,    40.52,2,     0.00,2,     2.86,2,   2368.4,2,   2414.1,2,   7.4400,2,    25.00,      334
  49UP20120602,RF1205,  4431,  1,     13,  22086,2,20120706,0217, 34.0185, 148.5392, 6152,   2533.7,   1.7777,  34.6280,2,  34.6279,2,     98.1,2,   160.06,2,    39.48,2,     0.00,2,     2.78,2,   2363.9,2,   2416.1,2,   7.4680,2,    25.00,      329
  49UP20120602,RF1205,  4431,  1,     12,  22074,2,20120706,0217, 34.0185, 148.5392, 6152,   2789.1,   1.6638,  34.6464,2,  34.6465,6,    112.7,2,   158.54,2,    38.59,2,     0.00,2,     2.70,2,   2352.4,6,   2416.1,6,   7.4975,2,    25.00,      324
  49UP20120602,RF1205,  4431,  1,     11,  22110,2,20120706,0217, 34.0185, 148.5392, 6152,   3045.3,   1.6041,  34.6573,2,  34.6573,2,    122.5,2,   156.14,2,    37.94,2,     0.00,2,     2.66,2,   2354.6,2,   2415.5,2,   7.5190,6,    25.00,      318
  49UP20120602,RF1205,  4431,  1,     10,  22083,2,20120706,0217, 34.0185, 148.5392, 6152,   3300.9,   1.5582,  34.6657,2,  34.6652,2,    131.5,2,   154.18,2,    37.44,2,     0.00,2,     2.61,2,   2346.3,2,   2415.8,2,   7.5332,2,    25.00,      313
  49UP20120602,RF1205,  4431,  1,      9,  22108,2,20120706,0217, 34.0185, 148.5392, 6152,   3556.5,   1.5326,  34.6712,2,  34.6716,2,    136.8,6,   152.98,6,    37.01,6,     0.00,6,     2.58,6,   2341.1,2,   2414.9,2,   7.5413,2,    25.00,      308
  49UP20120602,RF1205,  4431,  1,      8,  22081,2,20120706,0217, 34.0185, 148.5392, 6152,   3811.9,   1.5081,  34.6766,2,  34.6771,2,    142.9,2,   151.54,2,    36.51,2,     0.00,2,     2.54,2,   2336.4,2,   2417.3,2,   7.5553,2,    25.00,      302
  49UP20120602,RF1205,  4431,  1,      7,  22106,2,20120706,0217, 34.0185, 148.5392, 6152,   4068.2,   1.4955,  34.6808,2,  34.6800,2,    147.6,2,   150.41,2,    36.20,2,     0.00,2,     2.53,2,   2332.7,2,   2415.0,2,   7.5581,2,    25.00,      257
  49UP20120602,RF1205,  4431,  1,      6,  22113,2,20120706,0217, 34.0185, 148.5392, 6152,   4327.3,   1.4929,  34.6837,2,  34.6849,2,    152.1,2,   149.13,2,    36.02,2,     0.00,2,     2.50,2,   2329.1,2,   2414.0,2,   7.5694,2,    25.00,      251
  49UP20120602,RF1205,  4431,  1,      5,  22078,2,20120706,0217, 34.0185, 148.5392, 6152,   4582.8,   1.4993,  34.6861,2,  34.6861,2,    154.8,2,   148.17,2,    35.82,2,     0.00,2,     2.49,2,   2323.6,6,   2414.1,6,   7.5759,2,    25.00,      245
  49UP20120602,RF1205,  4431,  1,      4,  22077,2,20120706,0217, 34.0185, 148.5392, 6152,   5098.7,   1.5305,  34.6891,2,  34.6888,2,    160.2,2,   145.65,2,    35.51,2,     0.00,2,     2.46,2,   2319.6,2,   2410.1,2,   7.5782,6,    25.00,      236
  49UP20120602,RF1205,  4431,  1,      3,  22104,2,20120706,0217, 34.0185, 148.5392, 6152,   5355.1,   1.5486,  34.6905,2,  34.6904,6,    161.8,6,   143.87,6,    35.34,6,     0.00,6,     2.45,6,   2316.3,2,   2409.8,2,   7.5862,2,    25.00,      230
  49UP20120602,RF1205,  4431,  1,      2,  22075,2,20120706,0217, 34.0185, 148.5392, 6152,   5613.2,   1.5723,  34.6914,2,  34.6905,2,    163.4,2,   142.17,2,    35.15,2,     0.00,2,     2.43,2,   2318.0,2,   2410.8,2,   7.5798,2,    25.00,      225
  49UP20120602,RF1205,  4431,  1,      1,  22112,2,20120706,0217, 34.0185, 148.5392, 6152,   6028.4,   1.6168,  34.6925,2,  34.6918,2,    165.2,2,   141.12,2,    35.11,2,     0.00,2,     2.43,2,   2315.5,2,   2409.5,2,   7.5898,2,    25.00,      217
  49UP20120602,RF1205,  4433,  1,     99,     99,2,20120706,1238, 33.0173, 148.1798, 5817,      0.0,  22.1869,  34.4082,2,-999.0000,9,    222.4,2,     2.17,2,     0.04,2,     0.00,2,     0.05,2,   -999.0,9,   -999.0,9,-999.0000,9,  -999.00,     1310
  49UP20120602,RF1205,  4433,  1,     36,  22109,2,20120706,1238, 33.0173, 148.1798, 5817,     11.3,  22.1774,  34.4076,2,-999.0000,9,    222.4,2,     2.14,2,     0.04,2,     0.00,2,     0.03,2,   -999.0,9,   -999.0,9,-999.0000,9,  -999.00,     1332
  49UP20120602,RF1205,  4433,  1,     35,  21997,2,20120706,1238, 33.0173, 148.1798, 5817,     26.9,  20.4947,  34.6240,2,-999.0000,9,    232.3,2,     1.97,2,     0.04,2,     0.00,2,     0.02,2,   -999.0,9,   -999.0,9,-999.0000,9,  -999.00,     1331
  49UP20120602,RF1205,  4433,  1,     34,  22107,2,20120706,1238, 33.0173, 148.1798, 5817,     52.0,  18.7847,  34.6287,2,-999.0000,9,    236.1,6,     2.26,6,     0.05,6,     0.00,6,     0.05,6,   -999.0,9,   -999.0,9,-999.0000,9,  -999.00,     1329
  49UP20120602,RF1205,  4433,  1,     30,  22103,2,20120706,1238, 33.0173, 148.1798, 5817,     76.4,  18.4714,  34.6730,2,-999.0000,9,    228.2,2,     2.48,2,     0.70,2,     0.21,2,     0.10,2,   -999.0,9,   -999.0,9,-999.0000,9,  -999.00,     1327
  49UP20120602,RF1205,  4433,  1,     29,  22102,2,20120706,1238, 33.0173, 148.1798, 5817,    101.1,  17.5974,  34.7223,2,-999.0000,9,    220.9,2,     3.19,2,     2.87,2,     0.06,2,     0.21,2,   -999.0,9,   -999.0,9,-999.0000,9,  -999.00,     1326
  49UP20120602,RF1205,  4433,  1,     28,  22101,2,20120706,1238, 33.0173, 148.1798, 5817,    128.1,  17.2883,  34.7249,2,-999.0000,9,    218.7,2,     3.66,2,     3.61,2,     0.03,2,     0.25,2,   -999.0,9,   -999.0,9,-999.0000,9,  -999.00,     1324
  49UP20120602,RF1205,  4433,  1,     27,  21998,2,20120706,1238, 33.0173, 148.1798, 5817,    128.1,  17.2883,  34.7249,2,-999.0000,9,    218.6,2,     3.68,2,     3.63,2,     0.02,2,     0.26,2,   -999.0,9,   -999.0,9,-999.0000,9,  -999.00,     1324
  49UP20120602,RF1205,  4433,  1,     26,  22099,3,20120706,1238, 33.0173, 148.1798, 5817,    154.9,  17.1189,  34.7236,2,-999.0000,9,    220.7,2,     3.89,2,     3.70,2,     0.02,2,     0.27,2,   -999.0,9,   -999.0,9,-999.0000,9,  -999.00,     1323
  49UP20120602,RF1205,  4433,  1,     25,  22098,2,20120706,1238, 33.0173, 148.1798, 5817,    205.6,  16.6187,  34.6766,2,-999.0000,9,    216.8,2,     5.12,2,     4.85,2,     0.01,2,     0.34,2,   -999.0,9,   -999.0,9,-999.0000,9,  -999.00,     1321
  49UP20120602,RF1205,  4433,  1,     21,  22094,2,20120706,1238, 33.0173, 148.1798, 5817,    257.8,  16.2943,  34.6581,2,-999.0000,9,    212.0,2,     6.14,2,     5.83,2,     0.01,2,     0.41,2,   -999.0,9,   -999.0,9,-999.0000,9,  -999.00,     1319
  49UP20120602,RF1205,  4433,  1,     20,  22093,2,20120706,1238, 33.0173, 148.1798, 5817,    309.2,  15.5581,  34.6025,2,-999.0000,9,    192.5,2,     9.44,2,     8.69,2,     0.01,2,     0.60,2,   -999.0,9,   -999.0,9,-999.0000,9,  -999.00,     1317
  49UP20120602,RF1205,  4433,  1,     19,  22092,2,20120706,1238, 33.0173, 148.1798, 5817,    408.6,  13.0362,  34.4414,2,-999.0000,9,    178.4,2,    18.44,2,    13.98,2,     0.01,2,     0.99,2,   -999.0,9,   -999.0,9,-999.0000,9,  -999.00,     1314
  49UP20120602,RF1205,  4433,  1,     18,  22091,2,20120706,1238, 33.0173, 148.1798, 5817,    511.7,   9.1515,  34.1400,2,-999.0000,9,    184.0,2,    32.55,2,    19.47,2,     0.01,2,     1.42,2,   -999.0,9,   -999.0,9,-999.0000,9,  -999.00,     1311
  49UP20120602,RF1205,  4433,  1,     17,  22090,2,20120706,1238, 33.0173, 148.1798, 5817,    609.0,   6.8020,  34.0291,2,-999.0000,9,    151.5,2,    53.71,2,    27.27,2,     0.00,2,     2.00,2,   -999.0,9,   -999.0,9,-999.0000,9,  -999.00,     1308
  49UP20120602,RF1205,  4433,  1,     16,  22089,2,20120706,1238, 33.0173, 148.1798, 5817,    708.1,   5.3831,  33.9934,2,-999.0000,9,    127.4,2,    69.20,2,    32.08,2,     0.00,2,     2.35,2,   -999.0,9,   -999.0,9,-999.0000,9,  -999.00,     1305
  49UP20120602,RF1205,  4433,  1,     12,  22074,2,20120706,1238, 33.0173, 148.1798, 5817,    809.3,   4.6512,  34.1326,2,-999.0000,9,     78.6,6,    92.41,6,    37.43,6,     0.00,6,     2.71,6,   -999.0,9,   -999.0,9,-999.0000,9,  -999.00,     1303
  49UP20120602,RF1205,  4433,  1,     11,  22110,2,20120706,1238, 33.0173, 148.1798, 5817,    909.6,   4.1659,  34.2193,2,-999.0000,9,     58.4,2,   106.89,2,    39.55,2,     0.00,2,     2.86,2,   -999.0,9,   -999.0,9,-999.0000,9,  -999.00,     1300
  49UP20120602,RF1205,  4433,  1,     10,  22083,2,20120706,1238, 33.0173, 148.1798, 5817,   1011.2,   3.6929,  34.2945,2,-999.0000,9,     47.6,2,   120.28,2,    41.17,2,     0.00,2,     2.96,2,   -999.0,9,   -999.0,9,-999.0000,9,  -999.00,     1258
  49UP20120602,RF1205,  4433,  1,      9,  22108,2,20120706,1238, 33.0173, 148.1798, 5817,   1011.2,   3.6929,  34.2945,2,-999.0000,9,     47.2,6,   120.16,2,    41.15,2,     0.00,2,     2.96,2,   -999.0,9,   -999.0,9,-999.0000,9,  -999.00,     1258
  49UP20120602,RF1205,  4433,  1,      8,  22081,2,20120706,1238, 33.0173, 148.1798, 5817,   1212.9,   3.0251,  34.4039,2,-999.0000,9,     40.9,2,   138.72,2,    42.39,2,     0.00,2,     3.04,2,   -999.0,9,   -999.0,9,-999.0000,9,  -999.00,     1254
  49UP20120602,RF1205,  4433,  1,      7,  22106,2,20120706,1238, 33.0173, 148.1798, 5817,   1416.7,   2.6462,  34.4660,2,-999.0000,9,     39.9,2,   149.86,2,    42.71,2,     0.00,2,     3.06,2,   -999.0,9,   -999.0,9,-999.0000,9,  -999.00,     1250
  49UP20120602,RF1205,  4433,  1,      6,  22113,2,20120706,1238, 33.0173, 148.1798, 5817,   1618.1,   2.3832,  34.5147,2,-999.0000,9,     46.4,2,   156.68,2,    42.65,2,     0.00,2,     3.04,2,   -999.0,9,   -999.0,9,-999.0000,9,  -999.00,     1246
  49UP20120602,RF1205,  4433,  1,      5,  22078,2,20120706,1238, 33.0173, 148.1798, 5817,   1818.1,   2.1583,  34.5564,2,-999.0000,9,     58.4,2,   160.30,2,    42.03,2,     0.00,2,     2.99,2,   -999.0,9,   -999.0,9,-999.0000,9,  -999.00,     1242
  49UP20120602,RF1205,  4433,  1,      4,  22077,2,20120706,1238, 33.0173, 148.1798, 5817,   2024.0,   1.9678,  34.5907,2,-999.0000,9,     74.6,2,   161.80,2,    41.02,2,     0.00,2,     2.91,2,   -999.0,9,   -999.0,9,-999.0000,9,  -999.00,     1238