BOTTLE,20200205PRINUNIVRMK
EXPOCODE,SECT_ID,STNNBR,CASTNO,SAMPNO,BTLNBR,BTLNBR_FLAG_W,DATE,TIME,LATITUDE,LONGITUDE,DEPTH,CTDPRS,CTDTMP,CTDSAL,CTDSAL_FLAG_W,SALNTY,SALNTY_FLAG_W,OXYGEN,OXYGEN_FLAG_W,SILCAT,SILCAT_FLAG_W,NITRAT,NITRAT_FLAG_W,NITRIT,NITRIT_FLAG_W,PHSPHT,PHSPHT_FLAG_W,TCARBN,TCARBN_FLAG_W,ALKALI,ALKALI_FLAG_W,PH_TOT,PH_TOT_FLAG_W,PH_TMP,BTL_TIME
,,,,,,,,,,,METERS,DBAR,ITS-90,PSS-78,,PSS-78,,UMOL/KG,,UMOL/KG,,UMOL/KG,,UMOL/KG,,UMOL/KG,,UMOL/KG,,UMOL/KG,,,,DEG C,
  49UP20120602,RF1205,  4451,  1,     99,     99,2,20120710,1754, 31.9950, 142.9798, 5683,      0.0,  25.3028,  34.1257,2,  34.1223,2,    208.1,2,     1.49,2,     0.04,2,     0.00,2,     0.05,2,   1933.1,2,   2240.7,2,   8.0837,2,    25.00,     1947
  49UP20120602,RF1205,  4451,  1,     36,  22109,2,20120710,1754, 31.9950, 142.9798, 5683,     11.9,  25.2736,  34.1272,2,-999.0000,9,    208.5,2,     1.44,2,     0.05,2,     0.00,2,     0.03,2,   1935.8,2,   2242.7,2,   8.0847,2,    25.00,     2017
  49UP20120602,RF1205,  4451,  1,     35,  22112,2,20120710,1754, 31.9950, 142.9798, 5683,     26.6,  24.7131,  34.1823,2,-999.0000,9,    211.1,2,     1.46,2,     0.09,2,     0.00,2,     0.03,2,   1940.2,2,   2246.5,2,   8.0804,2,    25.00,     2016
  49UP20120602,RF1205,  4451,  1,     34,  22083,2,20120710,1754, 31.9950, 142.9798, 5683,     51.5,  23.0620,  34.3345,2,-999.0000,9,    207.3,2,     1.82,2,     0.55,2,     0.13,2,     0.07,2,   1965.7,2,   2258.5,2,   8.0558,2,    25.00,     2014
  49UP20120602,RF1205,  4451,  1,     33,  22086,4,20120710,1754, 31.9950, 142.9798, 5683,     77.1,  22.4440,  34.7112,2,-999.0000,9,    205.2,4,     6.49,4,     5.27,4,     0.01,4,     0.36,4,   2041.2,4,   2280.3,4,   7.9541,4,    25.00,     2013
  49UP20120602,RF1205,  4451,  1,     32,  22105,2,20120710,1754, 31.9950, 142.9798, 5683,    101.7,  21.3812,  34.7946,2,-999.0000,9,    198.7,2,     2.48,2,     1.89,2,     0.04,2,     0.14,2,   2001.6,2,   2284.7,2,   8.0199,2,    25.00,     2010
  49UP20120602,RF1205,  4451,  1,     31,  22076,2,20120710,1754, 31.9950, 142.9798, 5683,    127.7,  20.1685,  34.7775,2,-999.0000,9,    198.6,2,     3.15,2,     2.68,2,     0.02,2,     0.19,2,   2013.7,2,   2282.2,2,   8.0023,2,    25.00,     2009
  49UP20120602,RF1205,  4451,  1,     30,  22103,2,20120710,1754, 31.9950, 142.9798, 5683,    152.2,  19.2075,  34.6920,2,-999.0000,9,    222.2,6,     2.30,6,     0.82,6,     0.20,6,     0.11,6,   1998.2,2,   2275.3,2,   8.0189,2,    25.00,     2008
  49UP20120602,RF1205,  4451,  1,     29,  22102,2,20120710,1754, 31.9950, 142.9798, 5683,    202.9,  17.8387,  34.7388,2,-999.0000,9,    210.3,2,     3.66,2,     3.65,2,     0.02,2,     0.26,2,   2032.4,2,   2278.8,2,   7.9791,2,    25.00,     2006
  49UP20120602,RF1205,  4451,  1,     28,  22091,2,20120710,1754, 31.9950, 142.9798, 5683,    253.4,  17.2480,  34.7081,2,-999.0000,9,    203.0,2,     5.16,2,     5.29,2,     0.01,2,     0.36,2,   2040.7,2,   2279.3,2,   7.9501,2,    25.00,     2005
  49UP20120602,RF1205,  4451,  1,     27,  21998,2,20120710,1754, 31.9950, 142.9798, 5683,    303.5,  16.5199,  34.6636,2,-999.0000,9,    199.2,2,     6.87,2,     6.73,2,     0.00,2,     0.45,2,   2047.2,2,   2278.6,2,   7.9315,2,    25.00,     2003
  49UP20120602,RF1205,  4451,  1,     26,  22099,3,20120710,1754, 31.9950, 142.9798, 5683,    404.4,  14.7464,  34.5490,2,-999.0000,9,    179.9,2,    13.32,2,    11.39,2,     0.00,2,     0.78,2,   2084.7,2,   2276.7,2,   7.8569,2,    25.00,     2001
  49UP20120602,RF1205,  4451,  1,     25,  22098,2,20120710,1754, 31.9950, 142.9798, 5683,    505.2,  11.9105,  34.3624,2,-999.0000,9,    176.2,2,    23.68,2,    16.29,2,     0.00,2,     1.14,2,   2120.1,2,   2276.3,2,   7.7736,2,    25.00,     1958
  49UP20120602,RF1205,  4451,  1,     24,  22097,2,20120710,1754, 31.9950, 142.9798, 5683,    605.8,   8.9457,  34.1350,2,-999.0000,9,    177.8,2,    35.77,2,    20.64,2,     0.00,2,     1.49,2,   2156.3,2,   2279.5,2,   7.6945,2,    25.00,     1955
  49UP20120602,RF1205,  4451,  1,     23,  22096,2,20120710,1754, 31.9950, 142.9798, 5683,    708.0,   6.4306,  34.0702,2,-999.0000,9,    131.1,2,    62.33,2,    29.93,2,     0.00,2,     2.16,2,   2221.8,2,   2292.8,2,   7.5422,2,    25.00,     1952
  49UP20120602,RF1205,  4451,  1,     22,  22111,2,20120710,1754, 31.9950, 142.9798, 5683,    808.3,   4.7443,  34.0377,2,-999.0000,9,     96.7,2,    84.42,2,    36.09,2,     0.00,2,     2.59,2,   2275.1,2,   2307.9,2,   7.4292,2,    25.00,     1950
  49UP20120602,RF1205,  4451,  1,     21,  22078,2,20120710,1754, 31.9950, 142.9798, 5683,    909.5,   4.4682,  34.1856,2,-999.0000,9,     67.3,2,    99.93,2,    38.64,2,     0.00,2,     2.77,2,   2305.4,2,   2330.1,2,   7.3983,2,    25.00,     1947
  49UP20120602,RF1205,  4451,  1,     20,  22093,2,20120710,1754, 31.9950, 142.9798, 5683,   1009.5,   3.9213,  34.2553,2,  34.2573,2,     51.6,2,   114.95,2,    40.62,2,     0.00,2,     2.91,2,   2330.1,6,   2344.2,6,   7.3702,2,    25.00,     1944
  49UP20120602,RF1205,  4451,  1,     19,  22092,2,20120710,1754, 31.9950, 142.9798, 5683,   1214.2,   3.2415,  34.3698,2,-999.0000,9,     50.0,4,   133.74,2,    42.13,2,     0.00,2,     3.02,2,   2359.6,2,   2370.4,2,   7.3599,6,    25.00,     1940
  49UP20120602,RF1205,  4451,  1,     18,  22101,2,20120710,1754, 31.9950, 142.9798, 5683,   1416.0,   2.8106,  34.4437,2,-999.0000,9,     41.4,2,   145.81,2,    42.70,2,     0.00,2,     3.04,2,   2379.5,2,   2382.0,2,   7.3633,2,    25.00,     1935
  49UP20120602,RF1205,  4451,  1,     17,  22090,2,20120710,1754, 31.9950, 142.9798, 5683,   1619.1,   2.4799,  34.4986,2,-999.0000,9,     45.7,2,   154.79,2,    42.70,2,     0.00,2,     3.04,2,   2387.0,2,   2391.8,2,   7.3709,2,    25.00,     1931
  49UP20120602,RF1205,  4451,  1,     16,  22089,2,20120710,1754, 31.9950, 142.9798, 5683,   1821.6,   2.2390,  34.5472,2,-999.0000,9,     57.1,2,   158.61,2,    42.15,2,     0.00,2,     2.98,2,   2384.7,2,   2401.8,2,   7.4004,2,    25.00,     1926
  49UP20120602,RF1205,  4451,  1,     15,  22088,2,20120710,1754, 31.9950, 142.9798, 5683,   2025.5,   2.0238,  34.5840,2,  34.5847,2,     73.3,2,   160.64,2,    41.25,2,     0.00,2,     2.91,2,   2371.4,2,   2406.1,2,   7.4322,2,    25.00,     1921
  49UP20120602,RF1205,  4451,  1,     14,  21999,2,20120710,1754, 31.9950, 142.9798, 5683,   2280.0,   1.8477,  34.6169,2,-999.0000,9,     94.2,6,   158.27,6,    39.86,6,     0.00,6,     2.81,6,   2367.1,2,   2410.2,2,   7.4715,2,    25.00,     1916
  49UP20120602,RF1205,  4451,  1,     13,  21996,2,20120710,1754, 31.9950, 142.9798, 5683,   2533.7,   1.7249,  34.6374,2,  34.6384,2,    109.3,2,   156.35,2,    38.76,2,     0.00,2,     2.73,2,   2354.7,6,   2412.8,6,   7.5014,2,    25.00,     1911
  49UP20120602,RF1205,  4451,  1,     12,  22074,2,20120710,1754, 31.9950, 142.9798, 5683,   2791.3,   1.6486,  34.6500,2,-999.0000,9,    119.4,2,   154.85,2,    38.25,2,     0.00,2,     2.69,2,   2349.0,2,   2413.5,2,   7.5193,6,    25.00,     1905
  49UP20120602,RF1205,  4451,  1,     10,  22107,2,20120710,1754, 31.9950, 142.9798, 5683,   3043.9,   1.5877,  34.6598,2,-999.0000,9,    128.0,6,   153.75,6,    37.62,6,     0.00,6,     2.65,6,   2343.3,2,   2414.2,2,   7.5344,2,    25.00,     1859
  49UP20120602,RF1205,  4451,  1,      9,  22108,2,20120710,1754, 31.9950, 142.9798, 5683,   3554.8,   1.5127,  34.6730,2,  34.6742,2,    140.4,2,   152.09,2,    36.82,2,     0.00,2,     2.58,2,   2336.0,2,   2411.9,2,   7.5580,2,    25.00,     1850
  49UP20120602,RF1205,  4451,  1,      8,  22081,2,20120710,1754, 31.9950, 142.9798, 5683,   3810.3,   1.4954,  34.6774,2,-999.0000,9,    145.5,2,   150.65,2,    36.55,2,     0.00,2,     2.55,2,   2330.9,2,   2413.0,2,   7.5635,2,    25.00,     1845
  49UP20120602,RF1205,  4451,  1,      7,  22106,2,20120710,1754, 31.9950, 142.9798, 5683,   4066.8,   1.4849,  34.6811,2,  34.6811,2,    149.6,2,   149.55,2,    36.29,2,     0.00,2,     2.53,2,   2334.0,2,   2413.1,2,   7.5730,2,    25.00,     1840
  49UP20120602,RF1205,  4451,  1,      6,  22113,2,20120710,1754, 31.9950, 142.9798, 5683,   4322.8,   1.4750,  34.6849,2,-999.0000,9,    154.0,2,   148.25,2,    36.00,2,     0.00,2,     2.51,2,   2327.3,2,   2410.8,2,   7.5783,2,    25.00,     1835
  49UP20120602,RF1205,  4451,  1,      5,  22094,2,20120710,1754, 31.9950, 142.9798, 5683,   4580.2,   1.4823,  34.6871,2,  34.6847,4,    156.9,2,   147.00,2,    35.73,2,     0.00,2,     2.49,2,   2327.4,2,   2410.1,2,   7.5840,6,    25.00,     1830
  49UP20120602,RF1205,  4451,  1,      4,  22077,2,20120710,1754, 31.9950, 142.9798, 5683,   4836.6,   1.4929,  34.6890,2,-999.0000,9,    160.1,2,   144.94,2,    35.47,2,     0.00,2,     2.47,2,   2325.3,2,   2411.0,2,   7.5885,2,    25.00,     1825
  49UP20120602,RF1205,  4451,  1,     11,  22110,2,20120710,1754, 31.9950, 142.9798, 5683,   5092.3,   1.5132,  34.6899,2,  34.6853,4,    160.8,2,   144.37,2,    35.46,2,     0.00,2,     2.47,2,   2319.6,2,   2407.1,2,   7.5892,2,    25.00,     1819
  49UP20120602,RF1205,  4451,  1,      3,  22104,2,20120710,1754, 31.9950, 142.9798, 5683,   5094.0,   1.5132,  34.6900,2,  34.6897,2,    161.6,2,   143.91,2,    35.38,2,     0.00,2,     2.47,2,   2318.6,6,   2406.7,6,   7.5892,2,    25.00,     1819
  49UP20120602,RF1205,  4451,  1,      2,  22075,2,20120710,1754, 31.9950, 142.9798, 5683,   5611.2,   1.5613,  34.6919,2,-999.0000,9,    165.1,6,   141.10,6,    35.10,6,     0.00,6,     2.44,6,   2315.3,2,   2406.4,2,   7.5938,2,    25.00,     1758
  49UP20120602,RF1205,  4451,  1,      1,  21997,2,20120710,1754, 31.9950, 142.9798, 5683,   5767.0,   1.5815,  34.6919,2,  34.6928,2,    165.3,2,   140.75,2,    35.06,2,     0.00,2,     2.44,2,   2313.3,2,   2406.7,2,   7.5923,2,    25.00,     1754
  49UP20120602,RF1205,  4454,  1,     99,     99,2,20120711,1030, 33.5158, 141.4912, 5613,      0.0,  25.1994,  34.1848,2,  34.1764,4,    210.3,2,     1.28,2,     0.07,2,     0.00,2,     0.03,2,   1939.5,2,   2244.8,2,   8.0774,2,    25.00,     1145
  49UP20120602,RF1205,  4454,  1,     36,  22109,2,20120711,1030, 33.5158, 141.4912, 5613,     10.5,  25.2082,  34.1843,2,-999.0000,9,    210.3,2,     1.31,2,     0.06,2,     0.00,2,     0.02,2,   1943.7,2,   2241.6,2,   8.0759,2,    25.00,     1206
  49UP20120602,RF1205,  4454,  1,     35,  22112,2,20120711,1030, 33.5158, 141.4912, 5613,     26.9,  24.0787,  34.2960,2,-999.0000,9,    214.4,2,     1.38,2,     0.09,2,     0.00,2,     0.01,2,   1956.3,2,   2251.9,2,   8.0689,2,    25.00,     1205
  49UP20120602,RF1205,  4454,  1,     34,  22083,2,20120711,1030, 33.5158, 141.4912, 5613,     51.6,  22.4326,  34.6137,2,-999.0000,9,    210.2,2,     2.15,2,     0.34,2,     0.02,2,     0.07,2,   1983.2,2,   2271.9,2,   8.0495,2,    25.00,     1203
  49UP20120602,RF1205,  4454,  1,     30,  22103,2,20120711,1030, 33.5158, 141.4912, 5613,     76.1,  21.5745,  34.6904,2,-999.0000,9,    206.4,2,     2.13,2,     1.05,2,     0.11,2,     0.10,2,   1992.3,2,   2275.9,2,   8.0358,2,    25.00,     1202
  49UP20120602,RF1205,  4454,  1,     29,  22102,2,20120711,1030, 33.5158, 141.4912, 5613,    102.0,  20.4673,  34.7576,2,  34.7553,2,    197.4,2,     3.12,2,     2.56,2,     0.04,2,     0.19,2,   2013.0,2,   2282.6,2,   8.0031,2,    25.00,     1200
  49UP20120602,RF1205,  4454,  1,     28,  22091,2,20120711,1030, 33.5158, 141.4912, 5613,    102.0,  20.4673,  34.7576,2,-999.0000,9,    197.4,2,     3.12,2,     2.57,2,     0.04,2,     0.19,2,   2013.8,2,   2280.4,2,   8.0062,2,    25.00,     1200
  49UP20120602,RF1205,  4454,  1,     27,  21998,2,20120711,1030, 33.5158, 141.4912, 5613,    127.6,  19.2318,  34.6821,2,-999.0000,9,    222.3,2,     2.20,2,     0.52,2,     0.33,2,     0.09,2,   2001.2,2,   2276.8,2,   8.0204,2,    25.00,     1159
  49UP20120602,RF1205,  4454,  1,     26,  22099,2,20120711,1030, 33.5158, 141.4912, 5613,    152.5,  18.7947,  34.7762,2,-999.0000,9,    204.7,2,     3.07,2,     3.06,2,     0.02,2,     0.21,2,   2023.3,2,   2282.0,2,   7.9912,2,    25.00,     1157
  49UP20120602,RF1205,  4454,  1,     25,  22098,2,20120711,1030, 33.5158, 141.4912, 5613,    203.3,  17.6531,  34.7473,2,  34.7464,2,    219.8,2,     3.13,2,     2.84,2,     0.02,2,     0.21,2,   2018.0,2,   2280.7,2,   7.9887,2,    25.00,     1153
  49UP20120602,RF1205,  4454,  1,     21,  22078,2,20120711,1030, 33.5158, 141.4912, 5613,    253.8,  17.3529,  34.7409,2,-999.0000,9,    221.4,2,     3.35,2,     3.21,2,     0.01,2,     0.23,2,   2019.4,2,   2278.6,2,   7.9874,2,    25.00,     1149
  49UP20120602,RF1205,  4454,  1,     20,  22093,2,20120711,1030, 33.5158, 141.4912, 5613,    306.9,  17.2027,  34.7319,2,-999.0000,9,    221.5,6,     3.60,6,     3.45,6,     0.01,6,     0.24,6,   2021.6,2,   2279.1,2,   7.9830,2,    25.00,     1147
  49UP20120602,RF1205,  4454,  1,     19,  22092,2,20120711,1030, 33.5158, 141.4912, 5613,    408.5,  16.1810,  34.6478,2,-999.0000,9,    200.6,2,     7.45,2,     7.09,2,     0.01,2,     0.50,2,   2049.5,2,   2277.2,2,   7.9251,2,    25.00,     1144
  49UP20120602,RF1205,  4454,  1,     18,  22101,2,20120711,1030, 33.5158, 141.4912, 5613,    505.7,  13.5673,  34.4786,2,  34.4834,4,    173.8,2,    17.81,2,    13.67,2,     0.01,2,     0.97,2,   2100.6,2,   2277.8,2,   7.8149,2,    25.00,     1140
  49UP20120602,RF1205,  4454,  1,     17,  22090,2,20120711,1030, 33.5158, 141.4912, 5613,    606.9,  10.8416,  34.3207,2,-999.0000,9,    160.5,2,    30.61,2,    19.30,2,     0.00,2,     1.38,2,   2143.3,2,   2279.9,2,   7.7251,2,    25.00,     1138
  49UP20120602,RF1205,  4454,  1,     16,  22089,2,20120711,1030, 33.5158, 141.4912, 5613,    708.4,   8.8440,  34.2948,2,-999.0000,9,    128.4,2,    51.32,2,    25.69,2,     0.00,2,     1.86,2,   2198.1,2,   2295.3,2,   7.6243,2,    25.00,     1135
  49UP20120602,RF1205,  4454,  1,     12,  22074,2,20120711,1030, 33.5158, 141.4912, 5613,    813.9,   6.1572,  34.2716,2,-999.0000,9,     93.7,6,    80.73,6,    33.19,6,     0.00,6,     2.41,6,   2262.5,2,   2323.2,2,   7.5042,2,    25.00,     1120
  49UP20120602,RF1205,  4454,  1,     11,  22110,2,20120711,1030, 33.5158, 141.4912, 5613,    913.9,   4.7867,  34.2941,2,-999.0000,9,     74.7,2,   100.34,2,    37.14,2,     0.00,2,     2.68,2,   2309.4,2,   2340.1,2,   7.4418,2,    25.00,     1117
  49UP20120602,RF1205,  4454,  1,     10,  22107,2,20120711,1030, 33.5158, 141.4912, 5613,    913.9,   4.7867,  34.2941,2,-999.0000,9,     74.3,2,   100.34,2,    37.10,2,     0.00,2,     2.69,2,   2308.8,2,   2338.0,2,   7.4417,2,    25.00,     1117
  49UP20120602,RF1205,  4454,  1,      9,  22108,2,20120711,1030, 33.5158, 141.4912, 5613,   1012.5,   3.7227,  34.3782,2,  34.3764,2,     61.9,2,   120.46,2,    39.68,2,     0.00,2,     2.86,2,   2338.7,6,   2358.2,6,   7.4110,2,    25.00,     1112
  49UP20120602,RF1205,  4454,  1,      8,  22081,2,20120711,1030, 33.5158, 141.4912, 5613,   1213.7,   2.7062,  34.4541,2,  34.4705,4,     49.5,2,   145.78,2,    41.96,2,     0.00,2,     3.00,2,   2356.1,2,   2388.1,2,   7.3841,6,    25.00,     1108
  49UP20120602,RF1205,  4454,  1,      7,  22106,2,20120711,1030, 33.5158, 141.4912, 5613,   1413.2,   2.4553,  34.4918,2,  34.5056,4,     50.1,2,   153.04,2,    42.25,2,     0.00,2,     3.02,2,   2380.6,2,   2396.0,2,   7.3818,2,    25.00,     1058
  49UP20120602,RF1205,  4454,  1,      3,  22104,2,20120711,1030, 33.5158, 141.4912, 5613,   1618.8,   2.2596,  34.5311,2,  34.5417,4,     58.2,2,   156.08,2,    41.81,2,     0.00,2,     2.98,2,   2379.2,2,   2400.2,2,   7.3996,2,    25.00,     1052
  49UP20120602,RF1205,  4454,  1,      2,  22075,2,20120711,1030, 33.5158, 141.4912, 5613,   1819.9,   2.0977,  34.5591,2,  34.5721,4,     68.2,2,   158.53,2,    41.29,2,     0.00,2,     2.93,2,   2377.4,6,   2401.7,6,   7.4214,2,    25.00,     1043
  49UP20120602,RF1205,  4454,  1,      1,  21997,2,20120711,1030, 33.5158, 141.4912, 5613,   2025.4,   1.9178,  34.5863,2,  34.6023,4,     81.2,2,   160.57,2,    40.50,2,     0.00,2,     2.88,2,   2371.7,2,   2409.5,2,   7.4479,6,    25.00,     1030