BOTTLE,20200205PRINUNIVRMK
EXPOCODE,SECT_ID,STNNBR,CASTNO,SAMPNO,BTLNBR,BTLNBR_FLAG_W,DATE,TIME,LATITUDE,LONGITUDE,DEPTH,CTDPRS,CTDTMP,CTDSAL,CTDSAL_FLAG_W,SALNTY,SALNTY_FLAG_W,OXYGEN,OXYGEN_FLAG_W,SILCAT,SILCAT_FLAG_W,NITRAT,NITRAT_FLAG_W,NITRIT,NITRIT_FLAG_W,PHSPHT,PHSPHT_FLAG_W,TCARBN,TCARBN_FLAG_W,ALKALI,ALKALI_FLAG_W,PH_TOT,PH_TOT_FLAG_W,PH_TMP,BTL_TIME
,,,,,,,,,,,METERS,DBAR,ITS-90,PSS-78,,PSS-78,,UMOL/KG,,UMOL/KG,,UMOL/KG,,UMOL/KG,,UMOL/KG,,UMOL/KG,,UMOL/KG,,,,DEG C,
  49UP20120602,RF1205,  4418,  1,     99,     99,2,20120611,1435, 39.0028, 165.0065, 5402,      0.0,  17.9797,  34.5856,2,-999.0000,9,    238.9,2,     2.24,2,     1.76,4,     0.00,4,     0.04,2,   -999.0,9,   -999.0,9,-999.0000,9,  -999.00,     1530
  49UP20120602,RF1205,  4418,  1,     36,  22109,2,20120611,1435, 39.0028, 165.0065, 5402,     11.6,  17.9729,  34.5856,2,-999.0000,9,    239.3,2,     2.33,2,     1.75,4,     0.00,4,     0.04,2,   -999.0,9,   -999.0,9,-999.0000,9,  -999.00,     1553
  49UP20120602,RF1205,  4418,  1,     35,  21997,2,20120611,1435, 39.0028, 165.0065, 5402,     11.6,  17.9729,  34.5856,2,-999.0000,9,    239.1,2,     2.38,2,     1.80,4,     0.00,4,     0.04,2,   -999.0,9,   -999.0,9,-999.0000,9,  -999.00,     1553
  49UP20120602,RF1205,  4418,  1,     34,  22107,2,20120611,1435, 39.0028, 165.0065, 5402,     25.8,  17.8137,  34.6190,2,-999.0000,9,    239.9,2,     2.44,2,     1.98,4,     0.00,4,     0.06,2,   -999.0,9,   -999.0,9,-999.0000,9,  -999.00,     1552
  49UP20120602,RF1205,  4418,  1,     33,  21996,3,20120611,1435, 39.0028, 165.0065, 5402,     51.5,  16.9773,  34.6022,2,-999.0000,9,    232.1,2,     3.48,2,     6.43,4,     0.12,4,     0.18,2,   -999.0,9,   -999.0,9,-999.0000,9,  -999.00,     1550
  49UP20120602,RF1205,  4418,  1,     32,  22105,2,20120611,1435, 39.0028, 165.0065, 5402,     53.3,  16.9676,  34.6086,2,-999.0000,9,   -999.0,9,  -999.00,9,  -999.00,9,  -999.00,9,  -999.00,9,   -999.0,9,   -999.0,9,-999.0000,9,  -999.00,     1550
  49UP20120602,RF1205,  4418,  1,     31,  22076,2,20120611,1435, 39.0028, 165.0065, 5402,     76.1,  16.5912,  34.6388,2,-999.0000,9,    223.9,2,     4.72,2,     9.96,4,     0.06,4,     0.29,2,   -999.0,9,   -999.0,9,-999.0000,9,  -999.00,     1549
  49UP20120602,RF1205,  4418,  1,     29,  22102,2,20120611,1435, 39.0028, 165.0065, 5402,    102.2,  16.2869,  34.6447,2,-999.0000,9,    213.4,2,     6.37,2,    13.70,4,     0.00,4,     0.41,2,   -999.0,9,   -999.0,9,-999.0000,9,  -999.00,     1544
  49UP20120602,RF1205,  4418,  1,     30,  22103,2,20120611,1435, 39.0028, 165.0065, 5402,    102.8,  16.2855,  34.6449,2,-999.0000,9,   -999.0,9,  -999.00,9,  -999.00,9,  -999.00,9,  -999.00,9,   -999.0,9,   -999.0,9,-999.0000,9,  -999.00,     1545
  49UP20120602,RF1205,  4418,  1,     27,  21998,2,20120611,1435, 39.0028, 165.0065, 5402,    126.4,  15.6228,  34.6047,2,-999.0000,9,    201.2,2,     9.19,2,    17.30,4,     0.00,4,     0.57,2,   -999.0,9,   -999.0,9,-999.0000,9,  -999.00,     1543
  49UP20120602,RF1205,  4418,  1,     25,  22098,2,20120611,1435, 39.0028, 165.0065, 5402,    153.2,  15.0995,  34.5739,2,-999.0000,9,   -999.0,9,  -999.00,9,  -999.00,9,  -999.00,9,  -999.00,9,   -999.0,9,   -999.0,9,-999.0000,9,  -999.00,     1541
  49UP20120602,RF1205,  4418,  1,     26,  22099,2,20120611,1435, 39.0028, 165.0065, 5402,    154.8,  15.0933,  34.5732,2,-999.0000,9,    199.0,2,    10.87,2,    18.69,4,     0.00,4,     0.64,2,   -999.0,9,   -999.0,9,-999.0000,9,  -999.00,     1541
  49UP20120602,RF1205,  4418,  1,     23,  22096,2,20120611,1435, 39.0028, 165.0065, 5402,    202.5,  13.8167,  34.4918,2,-999.0000,9,    193.5,2,    14.96,2,    22.22,4,     0.00,4,     0.83,2,   -999.0,9,   -999.0,9,-999.0000,9,  -999.00,     1539
  49UP20120602,RF1205,  4418,  1,     24,  22097,2,20120611,1435, 39.0028, 165.0065, 5402,    202.9,  13.8014,  34.4910,2,-999.0000,9,   -999.0,9,  -999.00,9,  -999.00,9,  -999.00,9,  -999.00,9,   -999.0,9,   -999.0,9,-999.0000,9,  -999.00,     1539
  49UP20120602,RF1205,  4418,  1,     22,  22111,2,20120611,1435, 39.0028, 165.0065, 5402,    252.9,  11.9797,  34.3565,2,-999.0000,9,    221.0,2,    15.88,2,    21.91,4,     0.00,4,     0.84,2,   -999.0,9,   -999.0,9,-999.0000,9,  -999.00,     1537
  49UP20120602,RF1205,  4418,  1,     20,  22093,2,20120611,1435, 39.0028, 165.0065, 5402,    303.2,  10.3284,  34.2141,2,-999.0000,9,   -999.0,9,  -999.00,9,  -999.00,9,  -999.00,9,  -999.00,9,   -999.0,9,   -999.0,9,-999.0000,9,  -999.00,     1535
  49UP20120602,RF1205,  4418,  1,     21,  22094,2,20120611,1435, 39.0028, 165.0065, 5402,    304.2,  10.3168,  34.2133,2,-999.0000,9,    234.8,6,    18.80,6,    23.65,4,     0.00,4,     0.96,6,   -999.0,9,   -999.0,9,-999.0000,9,  -999.00,     1535
  49UP20120602,RF1205,  4418,  1,     18,  22091,2,20120611,1435, 39.0028, 165.0065, 5402,    404.0,   8.1617,  34.0296,2,-999.0000,9,    210.4,2,    31.61,2,    29.67,4,     0.00,4,     1.40,2,   -999.0,9,   -999.0,9,-999.0000,9,  -999.00,     1532
  49UP20120602,RF1205,  4418,  1,     19,  22092,2,20120611,1435, 39.0028, 165.0065, 5402,    405.4,   8.1371,  34.0293,2,-999.0000,9,   -999.0,9,  -999.00,9,  -999.00,9,  -999.00,9,  -999.00,9,   -999.0,9,   -999.0,9,-999.0000,9,  -999.00,     1533
  49UP20120602,RF1205,  4418,  1,     15,  22088,2,20120611,1435, 39.0028, 165.0065, 5402,    506.3,   6.0653,  33.9918,2,-999.0000,9,    142.4,2,    58.99,2,    38.52,4,     0.00,4,     2.17,2,   -999.0,9,   -999.0,9,-999.0000,9,  -999.00,     1529
  49UP20120602,RF1205,  4418,  1,     13,  22086,2,20120611,1435, 39.0028, 165.0065, 5402,    606.4,   4.9746,  34.0379,2,-999.0000,9,    102.6,2,    78.78,2,    41.93,4,     0.00,4,     2.55,2,   -999.0,9,   -999.0,9,-999.0000,9,  -999.00,     1527
  49UP20120602,RF1205,  4418,  1,     14,  21999,2,20120611,1435, 39.0028, 165.0065, 5402,    606.6,   4.9755,  34.0378,2,-999.0000,9,   -999.0,9,  -999.00,9,  -999.00,9,  -999.00,9,  -999.00,9,   -999.0,9,   -999.0,9,-999.0000,9,  -999.00,     1527
  49UP20120602,RF1205,  4418,  1,     12,  22074,2,20120611,1435, 39.0028, 165.0065, 5402,    706.3,   4.4504,  34.1323,2,-999.0000,9,     70.9,2,    95.36,2,    43.81,4,     0.00,4,     2.78,2,   -999.0,9,   -999.0,9,-999.0000,9,  -999.00,     1524
  49UP20120602,RF1205,  4418,  1,     10,  22083,2,20120611,1435, 39.0028, 165.0065, 5402,    808.2,   4.0744,  34.2049,2,-999.0000,9,   -999.0,9,  -999.00,9,  -999.00,9,  -999.00,9,  -999.00,9,   -999.0,9,   -999.0,9,-999.0000,9,  -999.00,     1518
  49UP20120602,RF1205,  4418,  1,     11,  22110,4,20120611,1435, 39.0028, 165.0065, 5402,    808.7,   4.0747,  34.2050,2,-999.0000,9,     68.0,4,    97.23,4,    43.76,4,     0.00,4,     2.81,4,   -999.0,9,   -999.0,9,-999.0000,9,  -999.00,     1518
  49UP20120602,RF1205,  4418,  1,      9,  22108,2,20120611,1435, 39.0028, 165.0065, 5402,    909.6,   3.7091,  34.2802,2,-999.0000,9,     45.4,2,   118.74,2,    44.87,4,     0.00,4,     2.97,2,   -999.0,9,   -999.0,9,-999.0000,9,  -999.00,     1515
  49UP20120602,RF1205,  4418,  1,      8,  22081,2,20120611,1435, 39.0028, 165.0065, 5402,   1011.4,   3.3919,  34.3224,2,-999.0000,9,     36.9,2,   128.41,2,    45.16,4,     0.00,4,     3.04,2,   -999.0,9,   -999.0,9,-999.0000,9,  -999.00,     1512
  49UP20120602,RF1205,  4418,  1,      6,  22113,2,20120611,1435, 39.0028, 165.0065, 5402,   1213.2,   2.9696,  34.4076,2,-999.0000,9,     36.0,2,   140.57,2,    45.33,4,     0.00,4,     3.07,2,   -999.0,9,   -999.0,9,-999.0000,9,  -999.00,     1507
  49UP20120602,RF1205,  4418,  1,      5,  22078,2,20120611,1435, 39.0028, 165.0065, 5402,   1416.9,   2.6489,  34.4651,2,-999.0000,9,     40.0,2,   149.79,2,    45.11,4,     0.00,4,     3.06,2,   -999.0,9,   -999.0,9,-999.0000,9,  -999.00,     1448
  49UP20120602,RF1205,  4418,  1,      4,  22077,2,20120611,1435, 39.0028, 165.0065, 5402,   1618.3,   2.3531,  34.5062,2,-999.0000,9,     41.1,6,   159.24,6,    45.15,4,     0.00,4,     3.06,6,   -999.0,9,   -999.0,9,-999.0000,9,  -999.00,     1444
  49UP20120602,RF1205,  4418,  1,      3,  22104,2,20120611,1435, 39.0028, 165.0065, 5402,   1819.5,   2.1423,  34.5505,2,-999.0000,9,     53.5,2,   162.78,2,    44.68,4,     0.00,4,     3.01,2,   -999.0,9,   -999.0,9,-999.0000,9,  -999.00,     1440
  49UP20120602,RF1205,  4418,  1,      2,  22075,2,20120611,1435, 39.0028, 165.0065, 5402,   2025.6,   1.9904,  34.5786,2,-999.0000,9,     63.7,2,   165.54,2,    44.32,4,     0.00,4,     2.95,2,   -999.0,9,   -999.0,9,-999.0000,9,  -999.00,     1435
  49UP20120602,RF1205,  4418,  1,      1,  22082,2,20120611,1435, 39.0028, 165.0065, 5402,   2026.3,   1.9905,  34.5786,2,-999.0000,9,     64.0,2,   165.78,2,    44.00,4,     0.00,4,     2.96,2,   -999.0,9,   -999.0,9,-999.0000,9,  -999.00,     1435
  49UP20120602,RF1205,  4419,  1,     99,     99,2,20120611,2223, 39.9970, 165.0090, 5470,      0.0,  14.4783,  34.3226,2,  34.3320,2,    262.7,2,     7.54,2,     2.25,2,     0.07,2,     0.26,2,   2022.1,2,   2271.4,2,   7.9639,2,    25.00,       15
  49UP20120602,RF1205,  4419,  1,     36,  22109,2,20120611,2223, 39.9970, 165.0090, 5470,     11.2,  14.4064,  34.3130,2,  34.3153,2,    264.4,2,     7.85,2,     2.42,2,     0.08,2,     0.28,2,   2023.7,2,   2272.6,2,   7.9627,2,    25.00,       34
  49UP20120602,RF1205,  4419,  1,     35,  21997,2,20120611,2223, 39.9970, 165.0090, 5470,     26.3,  13.4489,  34.1879,2,-999.0000,9,    269.0,2,    10.05,2,     4.34,2,     0.10,2,     0.42,2,   2039.0,2,   2265.7,2,   7.9286,2,    25.00,       33
  49UP20120602,RF1205,  4419,  1,     34,  22107,2,20120611,2223, 39.9970, 165.0090, 5470,     51.7,  12.1870,  34.1880,2,-999.0000,9,    266.5,2,    12.78,2,     6.93,2,     0.18,2,     0.60,2,   2056.7,2,   2267.8,2,   7.8927,2,    25.00,       32
  49UP20120602,RF1205,  4419,  1,     33,  21996,2,20120611,2223, 39.9970, 165.0090, 5470,     77.2,   9.9031,  34.0964,2,-999.0000,9,    258.3,2,    17.53,2,    11.46,2,     0.14,2,     0.89,2,   2088.8,2,   2263.6,2,   7.8176,2,    25.00,       30
  49UP20120602,RF1205,  4419,  1,     32,  22105,2,20120611,2223, 39.9970, 165.0090, 5470,    103.2,   9.2435,  34.0332,2,  34.0207,4,    255.2,2,    20.15,2,    13.21,2,     0.04,2,     1.02,2,   2099.3,2,   2263.9,2,   7.7926,2,    25.00,       29
  49UP20120602,RF1205,  4419,  1,     31,  22076,2,20120611,2223, 39.9970, 165.0090, 5470,    126.2,   8.3907,  33.9240,2,-999.0000,9,    259.7,2,    21.02,2,    13.92,2,     0.02,2,     1.07,2,   2101.8,2,   2261.7,2,   7.7755,2,    25.00,       26
  49UP20120602,RF1205,  4419,  1,     30,  22103,2,20120611,2223, 39.9970, 165.0090, 5470,    152.3,   7.3494,  33.7823,2,-999.0000,9,    270.1,2,    21.99,2,    14.77,2,     0.01,2,     1.15,2,   2110.3,2,   2258.6,2,   7.7598,2,    25.00,       24
  49UP20120602,RF1205,  4419,  1,     29,  22102,2,20120611,2223, 39.9970, 165.0090, 5470,    202.5,   7.4370,  33.8728,2,  33.8740,2,    249.9,2,    26.20,2,    16.57,2,     0.01,2,     1.26,2,   2121.3,2,   2262.3,2,   7.7368,2,    25.00,       22
  49UP20120602,RF1205,  4419,  1,     28,  22101,2,20120611,2223, 39.9970, 165.0090, 5470,    252.0,   6.9959,  33.9244,2,-999.0000,9,    199.7,2,    39.11,2,    22.25,2,     0.01,2,     1.66,2,   2162.0,2,   2272.9,2,   7.6521,2,    25.00,       20
  49UP20120602,RF1205,  4419,  1,     27,  21998,3,20120611,2223, 39.9970, 165.0090, 5470,    302.2,   6.3833,  33.9722,2,-999.0000,9,    156.4,2,    53.57,2,    27.64,2,     0.01,2,     2.05,2,   2205.3,2,   2282.3,2,   7.5646,2,    25.00,       18
  49UP20120602,RF1205,  4419,  1,     26,  22099,2,20120611,2223, 39.9970, 165.0090, 5470,    406.3,   4.9565,  33.9891,2,  33.9862,2,    114.9,6,    74.57,6,    33.97,6,     0.00,6,     2.49,6,   2256.8,2,   2301.4,2,   7.4526,2,    25.00,       15
  49UP20120602,RF1205,  4419,  1,     25,  22098,2,20120611,2223, 39.9970, 165.0090, 5470,    504.4,   4.2650,  34.0271,2,-999.0000,9,     81.2,2,    91.00,2,    38.05,2,     0.00,2,     2.76,2,   2300.9,2,   2313.2,2,   7.3806,2,    25.00,       13
  49UP20120602,RF1205,  4419,  1,     24,  22097,2,20120611,2223, 39.9970, 165.0090, 5470,    605.9,   4.0289,  34.1290,2,  34.1288,2,     59.0,2,   103.75,2,    39.84,2,     0.00,2,     2.89,2,   2318.9,2,   2327.0,2,   7.3533,2,    25.00,       10
  49UP20120602,RF1205,  4419,  1,     23,  22096,2,20120611,2223, 39.9970, 165.0090, 5470,    706.6,   3.7080,  34.2107,2,-999.0000,9,     44.8,2,   115.62,2,    41.29,2,     0.00,2,     2.98,2,   2338.2,2,   2342.4,2,   7.3358,2,    25.00,        7
  49UP20120602,RF1205,  4419,  1,     22,  22111,2,20120611,2223, 39.9970, 165.0090, 5470,    808.3,   3.4806,  34.2720,2,  34.2707,2,     38.7,2,   124.52,2,    41.87,2,     0.00,2,     3.03,2,   2349.3,2,   2352.8,2,   7.3327,2,    25.00,        5
  49UP20120602,RF1205,  4419,  1,     21,  22094,2,20120611,2223, 39.9970, 165.0090, 5470,    908.4,   3.2539,  34.3305,2,-999.0000,9,     35.4,2,   132.08,2,    42.39,2,     0.00,2,     3.06,2,   2362.9,2,   2362.9,2,   7.3328,2,    25.00,        2
  49UP20120602,RF1205,  4419,  1,     20,  22093,2,20120611,2223, 39.9970, 165.0090, 5470,   1010.7,   2.9684,  34.3834,2,  34.3832,2,     32.7,2,   141.15,2,    42.74,2,     0.00,2,     3.09,2,   2370.2,2,   2373.6,2,   7.3330,2,    25.00,     2359
  49UP20120602,RF1205,  4419,  1,     19,  22092,2,20120611,2223, 39.9970, 165.0090, 5470,   1212.3,   2.7101,  34.4291,2,  34.4296,2,     33.0,2,   149.89,2,    42.89,2,     0.00,2,     3.09,2,   2379.3,2,   2384.7,2,   7.3350,2,    25.00,     2355
  49UP20120602,RF1205,  4419,  1,     18,  22091,2,20120611,2223, 39.9970, 165.0090, 5470,   1416.2,   2.4420,  34.4846,2,  34.4840,2,     38.0,2,   156.45,2,    42.91,2,     0.00,2,     3.07,2,   2383.3,2,   2393.8,2,   7.3513,2,    25.00,     2351
  49UP20120602,RF1205,  4419,  1,     17,  22090,2,20120611,2223, 39.9970, 165.0090, 5470,   1619.8,   2.2348,  34.5248,2,  34.5243,2,     45.4,2,   161.98,2,    42.40,2,     0.00,2,     3.04,2,   2386.6,6,   2400.3,2,   7.3651,2,    25.00,     2346
  49UP20120602,RF1205,  4419,  1,     16,  22089,2,20120611,2223, 39.9970, 165.0090, 5470,   1822.4,   2.0755,  34.5601,2,-999.0000,9,     56.0,2,   165.21,2,    42.03,2,     0.00,2,     3.01,2,   2384.6,2,   2406.6,2,   7.3899,6,    25.00,     2341
  49UP20120602,RF1205,  4419,  1,     15,  22088,2,20120611,2223, 39.9970, 165.0090, 5470,   2025.4,   1.9364,  34.5888,2,  34.5888,2,     69.0,2,   165.97,2,    41.04,2,     0.00,2,     2.94,2,   2380.2,2,   2412.1,2,   7.4133,2,    25.00,     2337
  49UP20120602,RF1205,  4419,  1,     14,  21999,2,20120611,2223, 39.9970, 165.0090, 5470,   2281.5,   1.7934,  34.6173,2,  34.6178,2,     85.7,2,   165.44,2,    39.95,2,     0.00,2,     2.86,2,   2370.3,2,   2412.7,2,   7.4472,2,    25.00,     2331
  49UP20120602,RF1205,  4419,  1,     13,  22086,2,20120611,2223, 39.9970, 165.0090, 5470,   2536.1,   1.6876,  34.6368,2,  34.6361,2,    100.2,2,   163.63,2,    39.18,2,     0.00,2,     2.79,2,   2361.4,2,   2416.2,2,   7.4782,2,    25.00,     2326
  49UP20120602,RF1205,  4419,  1,     12,  22074,2,20120611,2223, 39.9970, 165.0090, 5470,   2791.8,   1.6109,  34.6512,2,  34.6508,2,    113.5,2,   160.66,2,    38.27,2,     0.00,2,     2.72,2,   2352.0,2,   2416.0,2,   7.5027,2,    25.00,     2320
  49UP20120602,RF1205,  4419,  1,     11,  22110,2,20120611,2223, 39.9970, 165.0090, 5470,   3045.2,   1.5544,  34.6615,2,  34.6604,2,    124.2,2,   158.02,2,    37.78,2,     0.00,2,     2.68,2,   2346.9,6,   2416.5,2,   7.5219,2,    25.00,     2314
  49UP20120602,RF1205,  4419,  1,     10,  22083,2,20120611,2223, 39.9970, 165.0090, 5470,   3301.0,   1.5122,  34.6691,2,  34.6692,2,    132.7,2,   156.32,2,    37.21,2,     0.00,2,     2.63,2,   2339.8,2,   2417.3,2,   7.5370,6,    25.00,     2309
  49UP20120602,RF1205,  4419,  1,      9,  22108,2,20120611,2223, 39.9970, 165.0090, 5470,   3559.3,   1.4885,  34.6748,2,  34.6752,2,    139.0,6,   154.21,6,    36.67,6,     0.00,6,     2.59,6,   2334.6,2,   2414.0,2,   7.5439,2,    25.00,     2304
  49UP20120602,RF1205,  4419,  1,      8,  22081,2,20120611,2223, 39.9970, 165.0090, 5470,   3813.1,   1.4737,  34.6793,2,  34.6799,6,    144.5,2,   153.14,2,    36.39,2,     0.00,2,     2.57,2,   2330.0,2,   2414.8,2,   7.5585,2,    25.00,     2258
  49UP20120602,RF1205,  4419,  1,      7,  22106,2,20120611,2223, 39.9970, 165.0090, 5470,   4068.9,   1.4729,  34.6823,2,  34.6828,2,    148.4,2,   152.17,2,    36.01,2,     0.00,2,     2.54,2,   2328.0,2,   2416.1,2,   7.5640,2,    25.00,     2253
  49UP20120602,RF1205,  4419,  1,      6,  22113,2,20120611,2223, 39.9970, 165.0090, 5470,   4325.1,   1.4779,  34.6849,2,  34.6858,2,    151.9,2,   151.14,2,    35.90,2,     0.00,2,     2.52,2,   2331.5,6,   2415.2,6,   7.5732,2,    25.00,     2247
  49UP20120602,RF1205,  4419,  1,      5,  22078,3,20120611,2223, 39.9970, 165.0090, 5470,   4582.9,   1.4902,  34.6869,2,  34.6869,2,    154.3,2,   151.06,2,    35.74,2,     0.00,2,     2.51,2,   2325.2,2,   2414.7,2,   7.5731,6,    25.00,     2242
  49UP20120602,RF1205,  4419,  1,      4,  22077,2,20120611,2223, 39.9970, 165.0090, 5470,   4841.3,   1.5106,  34.6877,2,  34.6878,2,    155.7,6,   151.16,6,    35.62,6,     0.00,6,     2.51,6,   2324.8,2,   2412.8,2,   7.5761,2,    25.00,     2237
  49UP20120602,RF1205,  4419,  1,      3,  22104,2,20120611,2223, 39.9970, 165.0090, 5470,   5099.0,   1.5333,  34.6890,2,  34.6892,2,    156.8,2,   151.15,2,    35.49,2,     0.00,2,     2.50,2,   2325.3,2,   2416.4,2,   7.5766,2,    25.00,     2232
  49UP20120602,RF1205,  4419,  1,      2,  22075,3,20120611,2223, 39.9970, 165.0090, 5470,   5561.9,   1.5835,  34.6899,2,  34.6906,2,    158.1,2,   150.23,2,    35.54,2,     0.00,2,     2.51,2,   2326.6,2,   2413.4,2,   7.5685,3,    25.00,     2223
  49UP20120602,RF1205,  4419,  1,      1,  22082,2,20120611,2223, 39.9970, 165.0090, 5470,   5563.4,   1.5836,  34.6900,2,  34.6898,2,    157.0,3,   150.51,3,    35.61,3,     0.00,3,     2.54,3,   -999.0,9,   -999.0,9,-999.0000,9,  -999.00,     2223