BOTTLE,20200205PRINUNIVRMK
EXPOCODE,SECT_ID,STNNBR,CASTNO,SAMPNO,BTLNBR,BTLNBR_FLAG_W,DATE,TIME,LATITUDE,LONGITUDE,DEPTH,CTDPRS,CTDTMP,CTDSAL,CTDSAL_FLAG_W,SALNTY,SALNTY_FLAG_W,OXYGEN,OXYGEN_FLAG_W,SILCAT,SILCAT_FLAG_W,NITRAT,NITRAT_FLAG_W,NITRIT,NITRIT_FLAG_W,PHSPHT,PHSPHT_FLAG_W,TCARBN,TCARBN_FLAG_W,ALKALI,ALKALI_FLAG_W,PH_TOT,PH_TOT_FLAG_W,PH_TMP,BTL_TIME
,,,,,,,,,,,METERS,DBAR,ITS-90,PSS-78,,PSS-78,,UMOL/KG,,UMOL/KG,,UMOL/KG,,UMOL/KG,,UMOL/KG,,UMOL/KG,,UMOL/KG,,,,DEG C,
  49UP20120602,RF1205,  4443,  1,     99,     99,2,20120708,1506, 28.0062, 147.0075, 5619,      0.0,  27.6714,  35.0044,2,  35.0035,2,    201.4,2,     1.26,2,     0.00,2,     0.00,2,     0.04,2,   1986.2,2,   2294.1,2,   8.0702,2,    25.00,     1653
  49UP20120602,RF1205,  4443,  1,     36,  22109,2,20120708,1506, 28.0062, 147.0075, 5619,     11.2,  27.6727,  35.0003,2,-999.0000,9,    201.7,2,     1.26,2,     0.00,2,     0.00,2,     0.02,2,   1982.0,2,   2292.3,2,   8.0673,2,    25.00,     1713
  49UP20120602,RF1205,  4443,  1,     35,  22112,2,20120708,1506, 28.0062, 147.0075, 5619,     25.9,  24.9865,  34.9399,2,-999.0000,9,    221.8,2,     1.30,2,     0.00,2,     0.00,2,     0.02,2,   1982.2,2,   2292.3,2,   8.0648,2,    25.00,     1712
  49UP20120602,RF1205,  4443,  1,     34,  22083,2,20120708,1506, 28.0062, 147.0075, 5619,     52.1,  20.9572,  34.9671,2,  34.9674,2,    231.1,2,     1.62,2,     0.00,2,     0.00,2,     0.03,2,   1994.4,2,   2292.2,2,   8.0431,2,    25.00,     1709
  49UP20120602,RF1205,  4443,  1,     33,  21996,2,20120708,1506, 28.0062, 147.0075, 5619,     76.6,  19.8728,  34.8969,2,-999.0000,9,    231.7,2,     1.86,2,     0.01,2,     0.00,2,     0.03,2,   2001.4,2,   2285.9,2,   8.0274,2,    25.00,     1708
  49UP20120602,RF1205,  4443,  1,     32,  22105,2,20120708,1506, 28.0062, 147.0075, 5619,    102.4,  19.2550,  34.8522,2,  34.8511,2,    226.0,2,     2.00,2,     0.00,2,     0.00,2,     0.04,2,   2004.6,2,   2286.2,2,   8.0149,2,    25.00,     1707
  49UP20120602,RF1205,  4443,  1,     31,  22076,4,20120708,1506, 28.0062, 147.0075, 5619,    127.5,  18.5483,  34.7960,2,-999.0000,9,   -999.0,9,  -999.00,9,  -999.00,9,  -999.00,9,  -999.00,9,   -999.0,9,   -999.0,9,-999.0000,9,  -999.00,     1706
  49UP20120602,RF1205,  4443,  1,     30,  22103,2,20120708,1506, 28.0062, 147.0075, 5619,    152.8,  18.0376,  34.7572,2,-999.0000,9,    208.6,6,     2.96,6,     3.13,6,     0.03,6,     0.23,6,   2025.3,2,   2277.8,2,   7.9701,2,    25.00,     1705
  49UP20120602,RF1205,  4443,  1,     29,  22102,2,20120708,1506, 28.0062, 147.0075, 5619,    202.6,  17.2078,  34.7024,2,  34.7016,2,    209.2,2,     3.87,2,     4.54,2,     0.01,2,     0.32,2,   2034.1,2,   2273.2,2,   7.9535,2,    25.00,     1703
  49UP20120602,RF1205,  4443,  1,     28,  22101,2,20120708,1506, 28.0062, 147.0075, 5619,    254.3,  16.7270,  34.6768,2,-999.0000,9,    208.3,2,     4.80,2,     5.31,2,     0.01,2,     0.37,2,   2038.7,2,   2274.0,2,   7.9408,2,    25.00,     1701
  49UP20120602,RF1205,  4443,  1,     27,  21998,2,20120708,1506, 28.0062, 147.0075, 5619,    303.8,  15.9982,  34.6317,2,-999.0000,9,    201.7,2,     7.06,2,     7.15,2,     0.01,2,     0.49,2,   2052.2,2,   2274.9,2,   7.9151,2,    25.00,     1700
  49UP20120602,RF1205,  4443,  1,     26,  22099,2,20120708,1506, 28.0062, 147.0075, 5619,    404.4,  13.3644,  34.4564,2,  34.4578,2,    182.6,2,    16.36,2,    13.12,2,     0.00,2,     0.91,2,   2095.9,2,   2272.9,2,   7.8171,2,    25.00,     1657
  49UP20120602,RF1205,  4443,  1,     25,  22098,2,20120708,1506, 28.0062, 147.0075, 5619,    505.1,  10.5822,  34.2494,2,-999.0000,9,    182.1,2,    24.49,2,    17.76,2,     0.00,2,     1.25,2,   2127.9,2,   2269.8,2,   7.7323,2,    25.00,     1654
  49UP20120602,RF1205,  4443,  1,     24,  22097,2,20120708,1506, 28.0062, 147.0075, 5619,    605.5,   8.2812,  34.1001,2,  34.1008,2,    165.5,2,    38.35,2,    23.37,2,     0.00,2,     1.67,2,   2167.9,2,   2276.0,2,   7.6438,2,    25.00,     1652
  49UP20120602,RF1205,  4443,  1,     23,  22096,2,20120708,1506, 28.0062, 147.0075, 5619,    707.6,   6.0439,  34.0493,2,-999.0000,9,    118.6,2,    63.98,2,    31.69,2,     0.00,2,     2.29,2,   2243.7,2,   2291.3,2,   7.4997,2,    25.00,     1649
  49UP20120602,RF1205,  4443,  1,     22,  22111,2,20120708,1506, 28.0062, 147.0075, 5619,    807.7,   4.9530,  34.0962,2,  34.0936,2,     88.3,2,    83.41,2,    36.04,2,     0.00,2,     2.60,2,   2281.4,2,   2307.9,2,   7.4250,2,    25.00,     1646
  49UP20120602,RF1205,  4443,  1,     21,  22078,2,20120708,1506, 28.0062, 147.0075, 5619,    908.8,   4.2998,  34.2267,2,-999.0000,9,     53.0,2,   103.90,2,    40.08,2,     0.00,2,     2.88,2,   2323.7,2,   2336.4,2,   7.3729,2,    25.00,     1643
  49UP20120602,RF1205,  4443,  1,     20,  22093,2,20120708,1506, 28.0062, 147.0075, 5619,   1011.2,   3.7922,  34.3160,2,  34.3163,2,     43.6,2,   117.29,2,    41.51,2,     0.00,2,     2.97,2,   2345.8,2,   2350.0,2,   7.3606,2,    25.00,     1640
  49UP20120602,RF1205,  4443,  1,     19,  22092,2,20120708,1506, 28.0062, 147.0075, 5619,   1212.6,   3.1196,  34.4234,2,  34.4231,2,     43.0,6,   135.05,6,    42.24,6,     0.00,6,     3.02,6,   2362.9,2,   2373.1,2,   7.3609,2,    25.00,     1636
  49UP20120602,RF1205,  4443,  1,     18,  22091,2,20120708,1506, 28.0062, 147.0075, 5619,   1414.2,   2.6946,  34.4913,2,-999.0000,9,     50.9,2,   145.12,2,    42.18,2,     0.00,2,     3.00,2,   2373.6,2,   2387.2,2,   7.3799,2,    25.00,     1632
  49UP20120602,RF1205,  4443,  1,     17,  22090,2,20120708,1506, 28.0062, 147.0075, 5619,   1618.3,   2.3529,  34.5421,2,  34.5411,2,     63.2,2,   151.79,2,    41.59,2,     0.00,2,     2.94,2,   2374.0,2,   2395.9,2,   7.4051,2,    25.00,     1628
  49UP20120602,RF1205,  4443,  1,     16,  22089,2,20120708,1506, 28.0062, 147.0075, 5619,   1820.3,   2.1347,  34.5779,2,-999.0000,9,     79.3,2,   153.05,2,    40.47,2,     0.00,2,     2.87,2,   2369.4,6,   2400.4,6,   7.4363,2,    25.00,     1624
  49UP20120602,RF1205,  4443,  1,     15,  22088,2,20120708,1506, 28.0062, 147.0075, 5619,   2024.3,   1.9405,  34.6061,2,  34.6063,6,     93.9,2,   153.71,2,    39.77,2,     0.00,2,     2.79,2,   2363.1,2,   2403.1,2,   7.4648,2,    25.00,     1620
  49UP20120602,RF1205,  4443,  1,     14,  21999,2,20120708,1506, 28.0062, 147.0075, 5619,   2278.5,   1.7990,  34.6267,2,  34.6269,2,    105.7,2,   154.00,2,    39.04,2,     0.00,2,     2.74,2,   2353.4,2,   2407.5,2,   7.4882,6,    25.00,     1615
  49UP20120602,RF1205,  4443,  1,     13,  22086,2,20120708,1506, 28.0062, 147.0075, 5619,   2532.5,   1.7074,  34.6412,2,  34.6415,2,    115.6,2,   152.91,2,    38.40,2,     0.00,2,     2.69,2,   2348.4,2,   2410.8,2,   7.5056,2,    25.00,     1610
  49UP20120602,RF1205,  4443,  1,     12,  22074,2,20120708,1506, 28.0062, 147.0075, 5619,   2787.6,   1.6191,  34.6553,2,  34.6557,2,    126.7,2,   151.57,2,    37.79,2,     0.00,2,     2.63,2,   2340.9,2,   2409.8,2,   7.5239,2,    25.00,     1605
  49UP20120602,RF1205,  4443,  1,     11,  22110,2,20120708,1506, 28.0062, 147.0075, 5619,   3043.3,   1.5555,  34.6648,2,  34.6634,2,    133.6,6,   150.64,6,    37.30,6,     0.00,6,     2.59,6,   2340.3,2,   2409.9,2,   7.5359,2,    25.00,     1600
  49UP20120602,RF1205,  4443,  1,     10,  22107,2,20120708,1506, 28.0062, 147.0075, 5619,   3298.7,   1.5308,  34.6698,2,  34.6700,2,    138.6,2,   150.17,2,    37.00,2,     0.00,2,     2.58,2,   2333.7,6,   2407.9,2,   7.5472,2,    25.00,     1555
  49UP20120602,RF1205,  4443,  1,      9,  22108,2,20120708,1506, 28.0062, 147.0075, 5619,   3553.7,   1.5126,  34.6736,2,  34.6743,2,    141.8,2,   150.07,2,    36.67,2,     0.00,2,     2.55,2,   2333.6,2,   2407.9,2,   7.5517,6,    25.00,     1550
  49UP20120602,RF1205,  4443,  1,      8,  22081,2,20120708,1506, 28.0062, 147.0075, 5619,   3809.9,   1.4867,  34.6789,2,  34.6792,2,    147.4,2,   148.55,2,    36.35,2,     0.00,2,     2.53,2,   2325.3,2,   2408.4,2,   7.5588,2,    25.00,     1545
  49UP20120602,RF1205,  4443,  1,      7,  22106,2,20120708,1506, 28.0062, 147.0075, 5619,   4066.5,   1.4787,  34.6825,2,  34.6819,2,    151.0,2,   146.97,2,    36.14,2,     0.00,2,     2.51,2,   2328.0,2,   2410.8,2,   7.5661,2,    25.00,     1540
  49UP20120602,RF1205,  4443,  1,      6,  22113,2,20120708,1506, 28.0062, 147.0075, 5619,   4324.1,   1.4782,  34.6851,2,  34.6849,2,    155.2,2,   146.22,2,    35.90,2,     0.00,2,     2.49,2,   2325.2,2,   2406.5,2,   7.5719,2,    25.00,     1535
  49UP20120602,RF1205,  4443,  1,      5,  22094,2,20120708,1506, 28.0062, 147.0075, 5619,   4580.3,   1.4837,  34.6876,2,  34.6872,6,    158.5,2,   144.93,2,    35.62,2,     0.00,2,     2.47,2,   2323.1,2,   2407.1,2,   7.5738,2,    25.00,     1529
  49UP20120602,RF1205,  4443,  1,      4,  22077,2,20120708,1506, 28.0062, 147.0075, 5619,   5095.6,   1.5118,  34.6906,2,  34.6902,2,    163.1,6,   142.15,6,    35.23,6,     0.00,6,     2.44,6,   2319.2,2,   2404.7,2,   7.5812,2,    25.00,     1520
  49UP20120602,RF1205,  4443,  1,      3,  22104,2,20120708,1506, 28.0062, 147.0075, 5619,   5351.3,   1.5353,  34.6913,2,  34.6916,2,    164.7,2,   141.02,2,    35.22,2,     0.00,2,     2.43,2,   2314.6,6,   2402.4,6,   7.5848,2,    25.00,     1514
  49UP20120602,RF1205,  4443,  1,      2,  22075,2,20120708,1506, 28.0062, 147.0075, 5619,   5610.7,   1.5588,  34.6925,2,  34.6927,2,    167.3,2,   138.37,2,    35.02,2,     0.00,2,     2.42,2,   2310.9,2,   2398.6,2,   7.5884,6,    25.00,     1509
  49UP20120602,RF1205,  4443,  1,      1,  21997,2,20120708,1506, 28.0062, 147.0075, 5619,   5714.5,   1.5686,  34.6928,2,  34.6930,2,    168.0,2,   138.08,2,    34.91,2,     0.00,2,     2.42,2,   2313.3,2,   2398.7,2,   7.5886,2,    25.00,     1506
  49UP20120602,RF1205,  4445,  1,     99,     99,2,20120709,0143, 29.0105, 146.0055, 5942,      0.0,  26.7280,  34.7092,2,-999.0000,9,    205.7,2,     1.52,2,     0.02,2,     0.00,2,     0.03,2,   -999.0,9,   -999.0,9,-999.0000,9,  -999.00,      245
  49UP20120602,RF1205,  4445,  1,     33,  21996,2,20120709,0143, 29.0105, 146.0055, 5942,     11.2,  26.4479,  34.7026,2,-999.0000,9,    213.6,3,     1.54,2,     0.02,2,     0.00,2,     0.01,2,   -999.0,9,   -999.0,9,-999.0000,9,  -999.00,      303
  49UP20120602,RF1205,  4445,  1,     32,  22105,2,20120709,0143, 29.0105, 146.0055, 5942,     11.2,  26.4479,  34.7026,2,-999.0000,9,    210.0,3,     1.41,2,     0.03,2,     0.00,2,     0.01,2,   -999.0,9,   -999.0,9,-999.0000,9,  -999.00,      303
  49UP20120602,RF1205,  4445,  1,     31,  22076,2,20120709,0143, 29.0105, 146.0055, 5942,     25.9,  22.8248,  34.7461,2,-999.0000,9,    228.1,2,     1.49,2,     0.03,2,     0.00,2,     0.03,2,   -999.0,9,   -999.0,9,-999.0000,9,  -999.00,      302
  49UP20120602,RF1205,  4445,  1,     27,  21998,2,20120709,0143, 29.0105, 146.0055, 5942,     51.8,  20.7617,  34.6787,2,-999.0000,9,    230.6,2,     1.84,2,     0.04,2,     0.00,2,     0.03,2,   -999.0,9,   -999.0,9,-999.0000,9,  -999.00,      258
  49UP20120602,RF1205,  4445,  1,     26,  22099,2,20120709,0143, 29.0105, 146.0055, 5942,     76.5,  19.9248,  34.8444,2,-999.0000,9,    227.8,2,     1.93,2,     0.04,2,     0.00,2,     0.03,2,   -999.0,9,   -999.0,9,-999.0000,9,  -999.00,      257
  49UP20120602,RF1205,  4445,  1,     25,  22098,2,20120709,0143, 29.0105, 146.0055, 5942,    102.2,  18.9913,  34.8035,2,-999.0000,9,    218.3,2,     2.37,2,     1.21,2,     0.22,2,     0.11,2,   -999.0,9,   -999.0,9,-999.0000,9,  -999.00,      256
  49UP20120602,RF1205,  4445,  1,     24,  22097,2,20120709,0143, 29.0105, 146.0055, 5942,    126.7,  18.5393,  34.7903,2,-999.0000,9,    216.1,2,     2.61,2,     2.13,2,     0.05,2,     0.15,2,   -999.0,9,   -999.0,9,-999.0000,9,  -999.00,      254
  49UP20120602,RF1205,  4445,  1,     23,  22096,2,20120709,0143, 29.0105, 146.0055, 5942,    153.1,  18.1337,  34.7705,2,-999.0000,9,    216.3,6,     2.82,6,     2.55,6,     0.03,6,     0.18,6,   -999.0,9,   -999.0,9,-999.0000,9,  -999.00,      253
  49UP20120602,RF1205,  4445,  1,     22,  22111,2,20120709,0143, 29.0105, 146.0055, 5942,    204.1,  17.5904,  34.7379,2,-999.0000,9,    216.6,2,     3.21,2,     3.36,2,     0.02,2,     0.24,2,   -999.0,9,   -999.0,9,-999.0000,9,  -999.00,      251
  49UP20120602,RF1205,  4445,  1,     21,  22078,2,20120709,0143, 29.0105, 146.0055, 5942,    253.8,  17.3459,  34.7270,2,-999.0000,9,    216.2,2,     3.75,2,     3.83,2,     0.01,2,     0.26,2,   -999.0,9,   -999.0,9,-999.0000,9,  -999.00,      249
  49UP20120602,RF1205,  4445,  1,     20,  22093,2,20120709,0143, 29.0105, 146.0055, 5942,    305.3,  17.1195,  34.7106,2,-999.0000,9,    212.9,2,     4.33,2,     4.49,2,     0.01,2,     0.30,2,   -999.0,9,   -999.0,9,-999.0000,9,  -999.00,      247
  49UP20120602,RF1205,  4445,  1,     19,  22092,2,20120709,0143, 29.0105, 146.0055, 5942,    406.5,  15.3376,  34.5842,2,-999.0000,9,    189.5,2,     9.81,2,     9.32,2,     0.01,2,     0.63,2,   -999.0,9,   -999.0,9,-999.0000,9,  -999.00,      244
  49UP20120602,RF1205,  4445,  1,     15,  22088,2,20120709,0143, 29.0105, 146.0055, 5942,    508.0,  12.3423,  34.3834,2,-999.0000,9,    180.5,2,    19.75,2,    14.94,2,     0.01,2,     1.04,2,   -999.0,9,   -999.0,9,-999.0000,9,  -999.00,      241
  49UP20120602,RF1205,  4445,  1,     14,  21999,2,20120709,0143, 29.0105, 146.0055, 5942,    508.0,  12.3423,  34.3834,2,-999.0000,9,    180.1,2,    19.67,2,    14.91,2,     0.00,2,     1.04,2,   -999.0,9,   -999.0,9,-999.0000,9,  -999.00,      241
  49UP20120602,RF1205,  4445,  1,     13,  22086,2,20120709,0143, 29.0105, 146.0055, 5942,    610.0,   8.9514,  34.1596,2,-999.0000,9,    164.9,2,    36.68,2,    22.12,2,     0.00,2,     1.57,2,   -999.0,9,   -999.0,9,-999.0000,9,  -999.00,      238
  49UP20120602,RF1205,  4445,  1,      9,  22108,2,20120709,0143, 29.0105, 146.0055, 5942,    707.2,   6.4157,  34.0696,2,-999.0000,9,    129.6,2,    61.16,2,    29.96,2,     0.01,2,     2.16,2,   -999.0,9,   -999.0,9,-999.0000,9,  -999.00,      215
  49UP20120602,RF1205,  4445,  1,      8,  22081,2,20120709,0143, 29.0105, 146.0055, 5942,    811.5,   5.0874,  34.1097,2,-999.0000,9,     90.6,2,    83.12,2,    35.74,2,     0.01,2,     2.57,2,   -999.0,9,   -999.0,9,-999.0000,9,  -999.00,      212
  49UP20120602,RF1205,  4445,  1,      7,  22106,2,20120709,0143, 29.0105, 146.0055, 5942,    909.9,   4.3490,  34.1962,2,-999.0000,9,     60.5,2,   101.37,2,    39.33,2,     0.01,2,     2.82,2,   -999.0,9,   -999.0,9,-999.0000,9,  -999.00,      209
  49UP20120602,RF1205,  4445,  1,      6,  22113,2,20120709,0143, 29.0105, 146.0055, 5942,   1011.6,   3.9141,  34.2684,2,-999.0000,9,     47.8,2,   114.02,2,    40.78,2,     0.00,2,     2.94,2,   -999.0,9,   -999.0,9,-999.0000,9,  -999.00,      207
  49UP20120602,RF1205,  4445,  1,      5,  22094,2,20120709,0143, 29.0105, 146.0055, 5942,   1212.9,   3.2111,  34.3942,2,-999.0000,9,     39.2,2,   133.58,2,    42.41,2,     0.00,2,     3.03,2,   -999.0,9,   -999.0,9,-999.0000,9,  -999.00,      203
  49UP20120602,RF1205,  4445,  1,      4,  22077,2,20120709,0143, 29.0105, 146.0055, 5942,   1416.8,   2.7197,  34.4747,2,-999.0000,9,     43.6,6,   146.45,6,    42.61,6,     0.01,6,     3.04,6,   -999.0,9,   -999.0,9,-999.0000,9,  -999.00,      158
  49UP20120602,RF1205,  4445,  1,      3,  22104,2,20120709,0143, 29.0105, 146.0055, 5942,   1618.4,   2.3976,  34.5310,2,-999.0000,9,     56.6,2,   152.48,2,    41.88,2,     0.01,2,     2.98,2,   -999.0,9,   -999.0,9,-999.0000,9,  -999.00,      154
  49UP20120602,RF1205,  4445,  1,      2,  22075,2,20120709,0143, 29.0105, 146.0055, 5942,   1820.7,   2.1216,  34.5721,2,-999.0000,9,     70.8,2,   156.78,2,    41.12,2,     0.00,2,     2.91,2,   -999.0,9,   -999.0,9,-999.0000,9,  -999.00,      147
  49UP20120602,RF1205,  4445,  1,      1,  21997,2,20120709,0143, 29.0105, 146.0055, 5942,   2023.3,   1.9323,  34.6045,2,-999.0000,9,     90.7,2,   155.61,2,    40.02,2,     0.01,2,     2.83,2,   -999.0,9,   -999.0,9,-999.0000,9,  -999.00,      143