BOTTLE,20200205PRINUNIVRMK
# Processed by CCHDO on 2021-06-07, no changes
# 08/30/2019 Initialized README file  
# Data source:  Masao Ishii 2018/11/30 
# SHIP: R/V Ryofu Maru III 
# Cruise: RF12.05 
# Region: Pacific Ocean 
# EXPOCODE: 49UP20120602 
# DATES: 20120602 - 20120717 
# Chief Scientist: Satoshi Kawae	 
# 33 stations with 36 place Rosette 
# CTD: Who - Kazuhiro Nemoto; Status - final 
# 	Includes: CTDSAL 
# SALNTY: Who - Kazuhiro Nemoto; Status - final 
# 	Notes: 	 
# Nutrients: Who - Kazuhiro Nemoto; Status - final 
# 	Includes: nitrate, nitrite, silicate, phosphate 
# 	Nitrite and NO3+NO2 reported. Separated by subtraction 
# OXYGEN: Who - Kazuhiro Nemoto; Status - final 
# 	Notes: 
# TCARBN: Who - Kazuhiro Nemoto; Status - final 
# 	Notes:  
# ALKALI: Who - Kazuhiro Nemoto; Status - final 
# 	Notes:  
# PH: Who - Kazuhiro Nemoto; Status - final 
# 	Notes: total H+ scale at 25C 
# These data should be cited as: Kawae, Satoshi; Nemoto, Kazuhiro; Ishii, Masao (2019). Dissolved inorganic carbon (DIC), total alkalinity, pH on total scale, temperature, salinity, oxygen, nutrients and other measurements collected from profile and discrete sample observations during the R/V Ryofu Maru III cruise RF12-05 (EXPOCODE 49UP20120602) in the North Pacific Ocean from 2012-06-02 to 2012-07-17 (NCEI Accession 0186565). [indicate subset used]. NOAA National Centers for Environmental Information. Dataset. https://doi.org/10.25921/vwtv-xw29. Accessed [date].             
# References that have used data from this cruise: 
EXPOCODE,SECT_ID,STNNBR,CASTNO,SAMPNO,BTLNBR,BTLNBR_FLAG_W,DATE,TIME,LATITUDE,LONGITUDE,DEPTH,CTDPRS,CTDTMP,CTDSAL,CTDSAL_FLAG_W,SALNTY,SALNTY_FLAG_W,OXYGEN,OXYGEN_FLAG_W,SILCAT,SILCAT_FLAG_W,NITRAT,NITRAT_FLAG_W,NITRIT,NITRIT_FLAG_W,PHSPHT,PHSPHT_FLAG_W,TCARBN,TCARBN_FLAG_W,ALKALI,ALKALI_FLAG_W,PH_TOT,PH_TOT_FLAG_W,PH_TMP,BTL_TIME
,,,,,,,,,,,METERS,DBAR,ITS-90,PSS-78,,PSS-78,,UMOL/KG,,UMOL/KG,,UMOL/KG,,UMOL/KG,,UMOL/KG,,UMOL/KG,,UMOL/KG,,,,DEG C,
  49UP20120602,RF1205,  4409,  1,     99,     99,2,20120607,0733, 30.0143, 164.9967, 5799,      0.0,  23.0980,  35.0200,2,  35.0249,2,    218.9,2,     1.73,2,     0.05,2,     0.00,2,     0.08,2,   2004.5,2,   2299.7,2,   8.0386,2,    25.00,      810
  49UP20120602,RF1205,  4409,  1,     36,  22109,2,20120607,0733, 30.0143, 164.9967, 5799,     10.4,  23.0918,  35.0177,2,  35.0181,2,    218.9,2,     1.68,2,     0.03,2,     0.00,2,     0.06,2,   2004.0,2,   2301.8,2,   8.0384,2,    25.00,      950
  49UP20120602,RF1205,  4409,  1,     35,  21997,2,20120607,0733, 30.0143, 164.9967, 5799,     25.6,  21.4857,  34.9540,2,-999.0000,9,    229.1,2,     1.78,2,     0.06,2,     0.00,2,     0.04,2,   2003.0,2,   2296.5,2,   8.0351,2,    25.00,      949
  49UP20120602,RF1205,  4409,  1,     34,  22107,2,20120607,0733, 30.0143, 164.9967, 5799,     52.0,  18.6800,  34.7311,2,-999.0000,9,    245.6,2,     2.09,2,     0.03,2,     0.00,2,     0.05,2,   1998.4,2,   2284.8,2,   8.0121,2,    25.00,      948
  49UP20120602,RF1205,  4409,  1,     33,  21996,2,20120607,0733, 30.0143, 164.9967, 5799,     77.1,  17.9339,  34.7298,2,-999.0000,9,    241.2,2,     2.22,2,     0.04,2,     0.01,2,     0.07,2,   2007.0,2,   2283.1,2,   8.0087,2,    25.00,      946
  49UP20120602,RF1205,  4409,  1,     32,  22105,2,20120607,0733, 30.0143, 164.9967, 5799,    102.4,  17.4295,  34.7096,2,  34.7084,2,    240.6,6,     2.69,6,     0.63,6,     0.08,6,     0.13,6,   2014.9,2,   2283.7,2,   7.9995,2,    25.00,      945
  49UP20120602,RF1205,  4409,  1,     31,  22076,3,20120607,0733, 30.0143, 164.9967, 5799,    126.4,  17.0766,  34.6904,2,-999.0000,9,    232.6,2,     3.16,2,     1.93,2,     0.36,2,     0.20,2,   2022.9,2,   2278.5,2,   7.9817,2,    25.00,      944
  49UP20120602,RF1205,  4409,  1,     30,  22103,2,20120607,0733, 30.0143, 164.9967, 5799,    150.6,  16.8581,  34.6805,2,-999.0000,9,    228.4,2,     3.67,2,     3.21,2,     0.16,2,     0.25,2,   2025.7,2,   2278.8,2,   7.9707,2,    25.00,      942
  49UP20120602,RF1205,  4409,  1,     29,  22102,2,20120607,0733, 30.0143, 164.9967, 5799,    200.6,  16.5770,  34.6727,2,  34.6726,2,    226.6,2,     4.21,2,     3.95,2,     0.02,2,     0.30,2,   2028.0,2,   2279.3,2,   7.9620,2,    25.00,      938
  49UP20120602,RF1205,  4409,  1,     28,  22101,2,20120607,0733, 30.0143, 164.9967, 5799,    250.9,  16.2607,  34.6548,2,-999.0000,9,    225.7,2,     4.91,2,     4.45,2,     0.02,2,     0.34,2,   2030.7,2,   2279.7,2,   7.9578,2,    25.00,      937
  49UP20120602,RF1205,  4409,  1,     27,  21998,2,20120607,0733, 30.0143, 164.9967, 5799,    303.6,  15.8173,  34.6272,2,-999.0000,9,    224.8,2,     6.03,2,     5.29,2,     0.01,2,     0.39,2,   2043.6,2,   2278.7,2,   7.9429,2,    25.00,      935
  49UP20120602,RF1205,  4409,  1,     26,  22099,3,20120607,0733, 30.0143, 164.9967, 5799,    403.8,  13.5845,  34.4411,2,  34.4417,2,    210.3,2,    10.99,2,     9.77,2,     0.01,2,     0.70,2,   2076.2,2,   2273.5,2,   7.8578,2,    25.00,      932
  49UP20120602,RF1205,  4409,  1,     25,  22098,2,20120607,0733, 30.0143, 164.9967, 5799,    504.0,  11.2140,  34.2774,2,-999.0000,9,    202.3,2,    19.59,2,    14.52,2,     0.01,2,     1.07,2,   2109.7,2,   2272.6,2,   7.7848,2,    25.00,      929
  49UP20120602,RF1205,  4409,  1,     24,  22097,2,20120607,0733, 30.0143, 164.9967, 5799,    605.9,   8.3868,  34.1001,2,  34.1011,2,    167.7,2,    36.60,2,    22.74,2,     0.00,2,     1.66,2,   2167.8,2,   2280.3,2,   7.6489,2,    25.00,      927
  49UP20120602,RF1205,  4409,  1,     23,  22096,2,20120607,0733, 30.0143, 164.9967, 5799,    708.6,   6.0192,  34.0037,2,-999.0000,9,    137.2,2,    60.51,2,    29.60,2,     0.00,2,     2.21,2,   2225.3,2,   2291.0,2,   7.5283,2,    25.00,      924
  49UP20120602,RF1205,  4409,  1,     22,  22111,2,20120607,0733, 30.0143, 164.9967, 5799,    806.5,   4.8957,  34.0810,2,  34.0809,2,     93.7,2,    84.51,2,    35.45,2,     0.00,2,     2.61,2,   2279.7,2,   2315.3,2,   7.4324,2,    25.00,      922
  49UP20120602,RF1205,  4409,  1,     21,  22094,2,20120607,0733, 30.0143, 164.9967, 5799,    907.6,   4.2985,  34.1811,2,-999.0000,9,     62.0,2,   102.18,2,    38.78,2,     0.00,2,     2.83,2,   2315.4,2,   2338.5,2,   7.3799,2,    25.00,      919
  49UP20120602,RF1205,  4409,  1,     20,  22093,2,20120607,0733, 30.0143, 164.9967, 5799,   1008.1,   3.7962,  34.2683,2,  34.2681,2,     44.6,2,   116.51,2,    40.72,2,     0.00,2,     2.97,2,   2339.8,6,   2351.1,6,   7.3556,2,    25.00,      917
  49UP20120602,RF1205,  4409,  1,     19,  22092,2,20120607,0733, 30.0143, 164.9967, 5799,   1210.1,   3.1467,  34.3831,2,  34.3811,2,     35.6,2,   135.98,2,    42.07,2,     0.00,2,     3.06,2,   2367.8,2,   2375.2,2,   7.3422,6,    25.00,      913
  49UP20120602,RF1205,  4409,  1,     18,  22091,2,20120607,0733, 30.0143, 164.9967, 5799,   1413.8,   2.6781,  34.4655,2,-999.0000,9,     35.1,6,   150.05,6,    42.66,6,     0.00,6,     3.08,6,   2388.5,2,   2392.9,2,   7.3486,2,    25.00,      909
  49UP20120602,RF1205,  4409,  1,     17,  22090,2,20120607,0733, 30.0143, 164.9967, 5799,   1617.2,   2.3380,  34.5294,2,  34.5280,2,     45.8,2,   158.49,2,    42.20,2,     0.00,2,     3.05,2,   2389.6,2,   2403.5,2,   7.3713,2,    25.00,      904
  49UP20120602,RF1205,  4409,  1,     16,  22089,2,20120607,0733, 30.0143, 164.9967, 5799,   1820.5,   2.1202,  34.5728,2,-999.0000,9,     64.3,2,   159.99,2,    41.24,2,     0.00,2,     2.97,2,   2380.5,2,   2412.0,2,   7.4047,2,    25.00,      900
  49UP20120602,RF1205,  4409,  1,     15,  22088,2,20120607,0733, 30.0143, 164.9967, 5799,   2024.4,   1.9511,  34.6041,2,  34.6036,2,     83.8,2,   158.90,2,    39.83,2,     0.00,2,     2.87,2,   2368.5,6,   2415.9,2,   7.4506,2,    25.00,      856
  49UP20120602,RF1205,  4409,  1,     14,  21999,2,20120607,0733, 30.0143, 164.9967, 5799,   2277.8,   1.7841,  34.6295,2,  34.6291,2,    101.7,2,   158.15,2,    38.90,2,     0.00,2,     2.78,2,   2359.7,2,   2418.6,2,   7.4842,6,    25.00,      850
  49UP20120602,RF1205,  4409,  1,     13,  22086,2,20120607,0733, 30.0143, 164.9967, 5799,   2533.7,   1.6912,  34.6446,2,  34.6441,2,    113.8,2,   155.36,2,    38.14,2,     0.00,2,     2.72,2,   2351.0,2,   2418.8,2,   7.5056,2,    25.00,      845
  49UP20120602,RF1205,  4409,  1,     12,  22074,2,20120607,0733, 30.0143, 164.9967, 5799,   2786.7,   1.6075,  34.6557,2,  34.6551,2,    121.8,2,   156.03,2,    37.67,2,     0.00,2,     2.68,2,   2349.4,2,   2420.7,2,   7.5207,2,    25.00,      840
  49UP20120602,RF1205,  4409,  1,     11,  22110,2,20120607,0733, 30.0143, 164.9967, 5799,   3043.8,   1.5570,  34.6644,2,  34.6615,4,    129.8,2,   154.60,2,    37.18,2,     0.00,2,     2.64,2,   2343.2,2,   2419.9,2,   7.5361,2,    25.00,      834
  49UP20120602,RF1205,  4409,  1,     10,  22083,2,20120607,0733, 30.0143, 164.9967, 5799,   3551.3,   1.4968,  34.6758,2,  34.6756,2,    141.8,2,   152.50,2,    36.30,2,     0.00,2,     2.59,2,   2336.8,6,   2419.4,6,   7.5562,2,    25.00,      824
  49UP20120602,RF1205,  4409,  1,      9,  22108,2,20120607,0733, 30.0143, 164.9967, 5799,   3809.5,   1.4817,  34.6802,2,  34.6800,2,    146.8,2,   149.72,2,    36.04,2,     0.00,2,     2.55,2,   2335.1,2,   2418.9,2,   7.5639,6,    25.00,      819
  49UP20120602,RF1205,  4409,  1,      8,  22081,2,20120607,0733, 30.0143, 164.9967, 5799,   4067.0,   1.4731,  34.6836,2,  34.6833,2,    151.8,2,   148.84,2,    35.79,2,     0.00,2,     2.53,2,   2330.4,2,   2414.9,2,   7.5702,2,    25.00,      813
  49UP20120602,RF1205,  4409,  1,      7,  22106,2,20120607,0733, 30.0143, 164.9967, 5799,   4322.2,   1.4700,  34.6864,2,  34.6818,4,    154.1,3,   148.36,2,    35.63,2,     0.00,2,     2.51,2,   2324.7,2,   2415.8,2,   7.5772,2,    25.00,      807
  49UP20120602,RF1205,  4409,  1,      6,  22113,2,20120607,0733, 30.0143, 164.9967, 5799,   4580.3,   1.4732,  34.6892,2,  34.6883,2,    159.6,2,   145.78,2,    35.36,2,     0.00,2,     2.48,2,   2324.1,2,   2417.1,2,   7.5855,2,    25.00,      802
  49UP20120602,RF1205,  4409,  1,      5,  22078,2,20120607,0733, 30.0143, 164.9967, 5799,   4836.8,   1.4796,  34.6910,2,  34.6902,2,    163.2,2,   143.34,2,    35.07,2,     0.00,2,     2.47,2,   2319.5,2,   2410.4,2,   7.5843,2,    25.00,      756
  49UP20120602,RF1205,  4409,  1,      4,  22077,2,20120607,0733, 30.0143, 164.9967, 5799,   5093.1,   1.4879,  34.6932,2,  34.6925,2,    167.9,2,   140.12,2,    34.83,2,     0.00,2,     2.44,2,   2315.2,2,   2409.2,2,   7.5905,2,    25.00,      751
  49UP20120602,RF1205,  4409,  1,      3,  22104,2,20120607,0733, 30.0143, 164.9967, 5799,   5352.7,   1.5012,  34.6947,2,  34.6947,2,    170.7,6,   137.71,6,    34.66,6,     0.00,6,     2.43,6,   2310.0,2,   2403.5,2,   7.5962,2,    25.00,      745
  49UP20120602,RF1205,  4409,  1,      2,  22075,2,20120607,0733, 30.0143, 164.9967, 5799,   5609.3,   1.5236,  34.6956,2,  34.6955,2,    172.2,2,   136.72,2,    34.45,2,     0.00,2,     2.42,2,   2309.5,2,   2406.3,2,   7.5955,2,    25.00,      740
  49UP20120602,RF1205,  4409,  1,      1,  22112,2,20120607,0733, 30.0143, 164.9967, 5799,   5936.3,   1.5562,  34.6964,2,  34.6969,6,    173.1,2,   135.87,2,    34.43,2,     0.01,2,     2.42,2,   2303.4,2,   2398.9,2,   7.5996,2,    25.00,      733
  49UP20120602,RF1205,  4410,  1,     99,     99,2,20120607,1615, 31.0042, 164.9863, 6020,      0.0,  22.3361,  34.9789,2,-999.0000,9,    221.0,2,     1.65,2,     0.12,2,     0.00,2,     0.06,2,   -999.0,9,   -999.0,9,-999.0000,9,  -999.00,     1645
  49UP20120602,RF1205,  4410,  1,     33,  21996,2,20120607,1615, 31.0042, 164.9863, 6020,     11.8,  22.3377,  34.9785,2,-999.0000,9,    221.4,2,     1.60,2,     0.10,2,     0.00,2,     0.04,2,   -999.0,9,   -999.0,9,-999.0000,9,  -999.00,     1708
  49UP20120602,RF1205,  4410,  1,     32,  22105,2,20120607,1615, 31.0042, 164.9863, 6020,     26.0,  22.2632,  34.9714,2,-999.0000,9,    223.1,2,     1.62,2,     0.09,2,     0.00,2,     0.04,2,   -999.0,9,   -999.0,9,-999.0000,9,  -999.00,     1707
  49UP20120602,RF1205,  4410,  1,     31,  22076,2,20120607,1615, 31.0042, 164.9863, 6020,     50.8,  18.6136,  34.7402,2,-999.0000,9,    245.7,2,     1.84,2,     0.11,2,     0.00,2,     0.04,2,   -999.0,9,   -999.0,9,-999.0000,9,  -999.00,     1702
  49UP20120602,RF1205,  4410,  1,     30,  22103,2,20120607,1615, 31.0042, 164.9863, 6020,     76.5,  17.4948,  34.7204,2,-999.0000,9,    247.5,6,     2.09,6,     0.09,6,     0.00,6,     0.06,6,   -999.0,9,   -999.0,9,-999.0000,9,  -999.00,     1701
  49UP20120602,RF1205,  4410,  1,     29,  22102,2,20120607,1615, 31.0042, 164.9863, 6020,    101.2,  17.1410,  34.7173,2,-999.0000,9,    229.3,2,     3.00,2,     2.56,2,     0.08,2,     0.20,2,   -999.0,9,   -999.0,9,-999.0000,9,  -999.00,     1700
  49UP20120602,RF1205,  4410,  1,     27,  21998,2,20120607,1615, 31.0042, 164.9863, 6020,    126.7,  16.9858,  34.7185,2,-999.0000,9,    225.4,2,     3.38,2,     3.38,2,     0.02,2,     0.25,2,   -999.0,9,   -999.0,9,-999.0000,9,  -999.00,     1659
  49UP20120602,RF1205,  4410,  1,     24,  22097,2,20120607,1615, 31.0042, 164.9863, 6020,    151.5,  16.8872,  34.7138,2,-999.0000,9,    227.6,2,     3.48,2,     3.34,2,     0.01,2,     0.25,2,   -999.0,9,   -999.0,9,-999.0000,9,  -999.00,     1658
  49UP20120602,RF1205,  4410,  1,     23,  22096,2,20120607,1615, 31.0042, 164.9863, 6020,    202.6,  16.7484,  34.7055,2,-999.0000,9,    228.2,2,     3.72,2,     3.54,2,     0.01,2,     0.26,2,   -999.0,9,   -999.0,9,-999.0000,9,  -999.00,     1656
  49UP20120602,RF1205,  4410,  1,     22,  22111,2,20120607,1615, 31.0042, 164.9863, 6020,    252.1,  16.5549,  34.6797,2,-999.0000,9,    223.3,2,     4.55,2,     4.30,2,     0.01,2,     0.31,2,   -999.0,9,   -999.0,9,-999.0000,9,  -999.00,     1655
  49UP20120602,RF1205,  4410,  1,     21,  22094,2,20120607,1615, 31.0042, 164.9863, 6020,    304.1,  16.0497,  34.6423,2,-999.0000,9,    213.7,2,     6.38,2,     6.04,2,     0.01,2,     0.43,2,   -999.0,9,   -999.0,9,-999.0000,9,  -999.00,     1653
  49UP20120602,RF1205,  4410,  1,     20,  22093,2,20120607,1615, 31.0042, 164.9863, 6020,    304.1,  16.0497,  34.6423,2,-999.0000,9,    213.9,2,     6.49,2,     6.02,2,     0.01,2,     0.43,2,   -999.0,9,   -999.0,9,-999.0000,9,  -999.00,     1653
  49UP20120602,RF1205,  4410,  1,     19,  22092,2,20120607,1615, 31.0042, 164.9863, 6020,    404.0,  14.0745,  34.4921,2,-999.0000,9,    196.6,2,    12.47,2,    10.61,2,     0.01,2,     0.75,2,   -999.0,9,   -999.0,9,-999.0000,9,  -999.00,     1651
  49UP20120602,RF1205,  4410,  1,     15,  22088,2,20120607,1615, 31.0042, 164.9863, 6020,    505.1,  11.4749,  34.3076,2,-999.0000,9,    190.6,2,    21.10,2,    15.33,2,     0.01,2,     1.09,2,   -999.0,9,   -999.0,9,-999.0000,9,  -999.00,     1649
  49UP20120602,RF1205,  4410,  1,     14,  21999,2,20120607,1615, 31.0042, 164.9863, 6020,    605.8,   8.2940,  34.1036,2,-999.0000,9,    166.0,2,    41.00,2,    22.99,2,     0.00,2,     1.68,2,   -999.0,9,   -999.0,9,-999.0000,9,  -999.00,     1646
  49UP20120602,RF1205,  4410,  1,     13,  22086,2,20120607,1615, 31.0042, 164.9863, 6020,    707.1,   5.9775,  34.0237,2,-999.0000,9,    133.7,2,    64.06,2,    30.29,2,     0.00,2,     2.24,2,   -999.0,9,   -999.0,9,-999.0000,9,  -999.00,     1644
  49UP20120602,RF1205,  4410,  1,     12,  22074,2,20120607,1615, 31.0042, 164.9863, 6020,    808.0,   4.8395,  34.0753,2,-999.0000,9,     91.6,2,    84.74,2,    35.79,2,     0.00,2,     2.62,2,   -999.0,9,   -999.0,9,-999.0000,9,  -999.00,     1641
  49UP20120602,RF1205,  4410,  1,     11,  22110,2,20120607,1615, 31.0042, 164.9863, 6020,    908.9,   4.2450,  34.1809,2,-999.0000,9,     61.3,2,   102.78,2,    39.01,2,     0.00,2,     2.84,2,   -999.0,9,   -999.0,9,-999.0000,9,  -999.00,     1639
  49UP20120602,RF1205,  4410,  1,     10,  22083,2,20120607,1615, 31.0042, 164.9863, 6020,   1009.9,   3.7921,  34.2607,2,-999.0000,9,     45.0,2,   117.69,2,    40.87,2,     0.00,2,     2.98,2,   -999.0,9,   -999.0,9,-999.0000,9,  -999.00,     1637
  49UP20120602,RF1205,  4410,  1,      6,  22113,2,20120607,1615, 31.0042, 164.9863, 6020,   1212.8,   3.1960,  34.3747,2,-999.0000,9,     35.6,6,   135.15,6,    42.22,6,     0.00,6,     3.05,6,   -999.0,9,   -999.0,9,-999.0000,9,  -999.00,     1633
  49UP20120602,RF1205,  4410,  1,      5,  22078,2,20120607,1615, 31.0042, 164.9863, 6020,   1415.7,   2.7198,  34.4577,2,-999.0000,9,     34.6,2,   149.35,2,    42.79,2,     0.00,2,     3.08,2,   -999.0,9,   -999.0,9,-999.0000,9,  -999.00,     1628
  49UP20120602,RF1205,  4410,  1,      4,  22077,2,20120607,1615, 31.0042, 164.9863, 6020,   1618.0,   2.3740,  34.5184,2,-999.0000,9,     42.6,2,   158.29,2,    42.60,2,     0.01,2,     3.05,2,   -999.0,9,   -999.0,9,-999.0000,9,  -999.00,     1624
  49UP20120602,RF1205,  4410,  1,      3,  22104,2,20120607,1615, 31.0042, 164.9863, 6020,   1819.3,   2.1517,  34.5601,2,-999.0000,9,     56.0,2,   162.19,2,    41.77,2,     0.00,2,     2.99,2,   -999.0,9,   -999.0,9,-999.0000,9,  -999.00,     1619
  49UP20120602,RF1205,  4410,  1,      2,  22075,2,20120607,1615, 31.0042, 164.9863, 6020,   1819.3,   2.1517,  34.5601,2,-999.0000,9,     56.0,2,   162.50,2,    41.80,2,     0.00,2,     3.00,2,   -999.0,9,   -999.0,9,-999.0000,9,  -999.00,     1619
  49UP20120602,RF1205,  4410,  1,      1,  22112,2,20120607,1615, 31.0042, 164.9863, 6020,   2023.4,   1.9702,  34.5920,2,-999.0000,9,     71.4,2,   163.96,2,    40.81,2,     0.00,2,     2.94,2,   -999.0,9,   -999.0,9,-999.0000,9,  -999.00,     1615