BOTTLE,20200205PRINUNIVRMK
EXPOCODE,SECT_ID,STNNBR,CASTNO,SAMPNO,BTLNBR,BTLNBR_FLAG_W,DATE,TIME,LATITUDE,LONGITUDE,DEPTH,CTDPRS,CTDTMP,CTDSAL,CTDSAL_FLAG_W,SALNTY,SALNTY_FLAG_W,OXYGEN,OXYGEN_FLAG_W,SILCAT,SILCAT_FLAG_W,NITRAT,NITRAT_FLAG_W,NITRIT,NITRIT_FLAG_W,PHSPHT,PHSPHT_FLAG_W,TCARBN,TCARBN_FLAG_W,ALKALI,ALKALI_FLAG_W,PH_TOT,PH_TOT_FLAG_W,PH_TMP,BTL_TIME
,,,,,,,,,,,METERS,DBAR,ITS-90,PSS-78,,PSS-78,,UMOL/KG,,UMOL/KG,,UMOL/KG,,UMOL/KG,,UMOL/KG,,UMOL/KG,,UMOL/KG,,,,DEG C,
  49UP20120602,RF1205,  4411,  1,     99,     99,2,20120607,2224, 32.0063, 164.9975, 5986,      0.0,  22.0530,  34.9995,2,  34.9945,2,    222.9,2,     1.63,2,     0.01,2,     0.00,2,     0.06,2,   2000.7,2,   2296.4,2,   8.0343,2,    25.00,     2245
  49UP20120602,RF1205,  4411,  1,     33,  21996,2,20120607,2224, 32.0063, 164.9975, 5986,     12.2,  22.0440,  34.9992,2,  34.9978,2,    223.1,2,     1.58,2,     0.00,2,     0.00,2,     0.03,2,   2001.8,2,   2300.1,2,   8.0373,2,    25.00,     2353
  49UP20120602,RF1205,  4411,  1,     32,  22105,2,20120607,2224, 32.0063, 164.9975, 5986,     26.2,  21.9979,  34.9926,2,-999.0000,9,    224.4,2,     1.63,2,     0.00,2,     0.00,2,     0.03,2,   1998.8,2,   2295.7,2,   8.0365,2,    25.00,     2352
  49UP20120602,RF1205,  4411,  1,     31,  22076,2,20120607,2224, 32.0063, 164.9975, 5986,     51.0,  18.7359,  34.8092,2,  34.8057,2,    240.9,6,     2.03,6,     0.02,6,     0.00,6,     0.04,6,   1999.4,2,   2284.6,2,   8.0177,2,    25.00,     2350
  49UP20120602,RF1205,  4411,  1,     30,  22103,2,20120607,2224, 32.0063, 164.9975, 5986,     78.1,  17.6952,  34.7176,2,-999.0000,9,    245.6,2,     2.27,2,     0.02,2,     0.00,2,     0.07,2,   2003.2,2,   2278.7,2,   8.0149,2,    25.00,     2349
  49UP20120602,RF1205,  4411,  1,     29,  22102,2,20120607,2224, 32.0063, 164.9975, 5986,    100.6,  17.2108,  34.7088,2,  34.7084,2,    228.0,2,     2.97,2,     2.46,2,     0.11,2,     0.20,2,   2018.1,2,   2279.2,2,   7.9840,2,    25.00,     2348
  49UP20120602,RF1205,  4411,  1,     27,  21998,2,20120607,2224, 32.0063, 164.9975, 5986,    128.6,  17.0527,  34.7089,2,-999.0000,9,    223.8,2,     3.40,2,     3.36,2,     0.03,2,     0.25,2,   2024.8,2,   2278.5,2,   7.9718,2,    25.00,     2346
  49UP20120602,RF1205,  4411,  1,     24,  22097,2,20120607,2224, 32.0063, 164.9975, 5986,    153.1,  16.8762,  34.7062,2,-999.0000,9,    224.6,2,     3.77,2,     3.57,2,     0.02,2,     0.27,2,   2025.2,2,   2280.0,2,   7.9762,2,    25.00,     2345
  49UP20120602,RF1205,  4411,  1,     23,  22096,2,20120607,2224, 32.0063, 164.9975, 5986,    203.0,  16.7244,  34.6992,2,  34.6977,6,    225.8,2,     4.00,2,     3.86,2,     0.02,2,     0.29,2,   2025.0,2,   2280.9,2,   7.9693,2,    25.00,     2343
  49UP20120602,RF1205,  4411,  1,     22,  22111,2,20120607,2224, 32.0063, 164.9975, 5986,    252.6,  16.2271,  34.6434,2,-999.0000,9,    213.0,2,     5.68,2,     5.77,2,     0.01,2,     0.41,2,   2041.8,2,   2279.7,2,   7.9380,2,    25.00,     2339
  49UP20120602,RF1205,  4411,  1,     21,  22094,2,20120607,2224, 32.0063, 164.9975, 5986,    252.6,  16.2271,  34.6434,2,-999.0000,9,    213.1,2,     5.68,2,     5.76,2,     0.01,2,     0.42,2,   2040.4,2,   2278.1,2,   7.9383,2,    25.00,     2338
  49UP20120602,RF1205,  4411,  1,     20,  22093,2,20120607,2224, 32.0063, 164.9975, 5986,    302.7,  15.2609,  34.5685,2,-999.0000,9,    200.1,2,     8.73,2,     8.41,2,     0.01,2,     0.59,2,   2067.1,2,   2276.8,2,   7.8934,2,    25.00,     2337
  49UP20120602,RF1205,  4411,  1,     19,  22092,2,20120607,2224, 32.0063, 164.9975, 5986,    406.1,  13.0962,  34.4251,2,  34.4275,2,    193.1,2,    15.21,2,    12.45,2,     0.01,2,     0.89,2,   2093.1,2,   2275.1,2,   7.8266,2,    25.00,     2333
  49UP20120602,RF1205,  4411,  1,     15,  22088,2,20120607,2224, 32.0063, 164.9975, 5986,    506.3,  10.4848,  34.2366,2,-999.0000,9,    188.4,2,    24.94,2,    17.30,2,     0.00,2,     1.25,2,   2125.4,2,   2272.5,2,   7.7468,2,    25.00,     2330
  49UP20120602,RF1205,  4411,  1,     14,  21999,2,20120607,2224, 32.0063, 164.9975, 5986,    606.6,   7.7456,  34.0626,2,  34.0636,2,    165.6,2,    42.85,2,    24.28,2,     0.00,2,     1.78,2,   2179.9,2,   2283.1,2,   7.6280,2,    25.00,     2327
  49UP20120602,RF1205,  4411,  1,     13,  22086,2,20120607,2224, 32.0063, 164.9975, 5986,    709.5,   5.4992,  34.0305,2,-999.0000,9,    121.1,2,    70.42,2,    32.42,2,     0.00,2,     2.38,2,   2248.0,2,   2299.7,2,   7.4943,2,    25.00,     2324
  49UP20120602,RF1205,  4411,  1,     12,  22074,2,20120607,2224, 32.0063, 164.9975, 5986,    804.4,   4.6335,  34.1117,2,  34.1115,2,     80.3,2,    90.49,2,    37.25,2,     0.00,2,     2.71,2,   2292.9,2,   2321.1,2,   7.4100,2,    25.00,     2257
  49UP20120602,RF1205,  4411,  1,      7,  22106,2,20120607,2224, 32.0063, 164.9975, 5986,    911.5,   4.1675,  34.2027,2,-999.0000,9,     58.6,2,   105.18,2,    39.67,2,     0.00,2,     2.87,2,   2324.6,2,   2333.7,2,   7.3752,2,    25.00,     2248
  49UP20120602,RF1205,  4411,  1,      6,  22113,2,20120607,2224, 32.0063, 164.9975, 5986,   1011.4,   3.7808,  34.2730,2,  34.2735,2,     47.2,2,   117.06,6,    41.00,6,     0.00,6,     2.96,6,   2338.4,2,   2351.9,2,   7.3573,2,    25.00,     2245
  49UP20120602,RF1205,  4411,  1,      5,  22078,2,20120607,2224, 32.0063, 164.9975, 5986,   1210.5,   3.1129,  34.3863,2,  34.3863,2,     37.8,2,   136.21,2,    42.55,2,     0.00,2,     3.05,2,   2364.0,6,   2373.0,6,   7.3480,2,    25.00,     2241
  49UP20120602,RF1205,  4411,  1,      8,  22081,2,20120607,2224, 32.0063, 164.9975, 5986,   1418.3,   2.6851,  34.4599,2,  34.4613,2,     37.8,2,   148.44,2,    42.88,2,     0.00,2,     3.08,2,   2377.4,2,   2393.9,2,   7.3536,6,    25.00,     2310
  49UP20120602,RF1205,  4411,  1,      4,  22077,2,20120607,2224, 32.0063, 164.9975, 5986,   1617.6,   2.3730,  34.5155,2,  34.5154,2,     46.4,2,   156.68,2,    42.54,2,     0.00,2,     3.04,2,   2381.3,2,   2399.0,2,   7.3715,2,    25.00,     2232
  49UP20120602,RF1205,  4411,  1,      3,  22104,2,20120607,2224, 32.0063, 164.9975, 5986,   1617.6,   2.3730,  34.5155,2,  34.5164,2,     45.7,2,   156.72,2,    42.55,2,     0.00,2,     3.05,2,   2385.3,2,   2400.1,2,   7.3701,2,    25.00,     2232
  49UP20120602,RF1205,  4411,  1,      2,  22075,2,20120607,2224, 32.0063, 164.9975, 5986,   1820.6,   2.1466,  34.5595,2,  34.5605,2,     56.8,2,   161.25,2,    42.11,2,     0.00,2,     3.00,2,   2384.4,6,   2407.2,6,   7.3980,2,    25.00,     2228
  49UP20120602,RF1205,  4411,  1,      1,  22082,2,20120607,2224, 32.0063, 164.9975, 5986,   2022.8,   1.9621,  34.5910,2,  34.5910,2,     70.8,2,   162.90,2,    41.26,2,     0.00,2,     2.93,2,   2376.7,2,   2416.0,2,   7.4248,6,    25.00,     2224
  49UP20120602,RF1205,  4412,  1,     99,     99,2,20120609,1855, 32.9937, 165.0130, 6205,      0.0,  19.5149,  34.6309,2,-999.0000,9,    232.3,2,     2.35,2,     0.11,2,     0.00,2,     0.04,2,   -999.0,9,   -999.0,9,-999.0000,9,  -999.00,     1927
  49UP20120602,RF1205,  4412,  1,     33,  21996,2,20120609,1855, 32.9937, 165.0130, 6205,     10.1,  19.5126,  34.6311,2,-999.0000,9,    232.8,2,     2.32,2,     0.07,2,     0.00,2,     0.03,2,   -999.0,9,   -999.0,9,-999.0000,9,  -999.00,     2004
  49UP20120602,RF1205,  4412,  1,     32,  22105,2,20120609,1855, 32.9937, 165.0130, 6205,     25.8,  19.0009,  34.7004,2,-999.0000,9,    240.2,6,     2.43,6,     0.09,6,     0.00,6,     0.04,6,   -999.0,9,   -999.0,9,-999.0000,9,  -999.00,     2003
  49UP20120602,RF1205,  4412,  1,     31,  22076,2,20120609,1855, 32.9937, 165.0130, 6205,     51.3,  17.5792,  34.7291,2,-999.0000,9,    244.1,2,     2.77,2,     0.23,2,     0.02,2,     0.08,2,   -999.0,9,   -999.0,9,-999.0000,9,  -999.00,     2002
  49UP20120602,RF1205,  4412,  1,     30,  22103,2,20120609,1855, 32.9937, 165.0130, 6205,     77.7,  16.8712,  34.6779,2,-999.0000,9,    227.6,2,     3.91,2,     3.14,2,     0.25,2,     0.24,2,   -999.0,9,   -999.0,9,-999.0000,9,  -999.00,     2000
  49UP20120602,RF1205,  4412,  1,     29,  22102,2,20120609,1855, 32.9937, 165.0130, 6205,    102.7,  16.6570,  34.6815,2,-999.0000,9,    226.7,2,     4.25,2,     3.90,2,     0.03,2,     0.28,2,   -999.0,9,   -999.0,9,-999.0000,9,  -999.00,     1958
  49UP20120602,RF1205,  4412,  1,     27,  21998,2,20120609,1855, 32.9937, 165.0130, 6205,    126.7,  16.5280,  34.6758,2,-999.0000,9,    224.4,2,     4.64,2,     4.38,2,     0.01,2,     0.30,2,   -999.0,9,   -999.0,9,-999.0000,9,  -999.00,     1957
  49UP20120602,RF1205,  4412,  1,     24,  22097,2,20120609,1855, 32.9937, 165.0130, 6205,    151.9,  16.3116,  34.6510,2,-999.0000,9,    223.3,2,     5.01,2,     4.72,2,     0.01,2,     0.33,2,   -999.0,9,   -999.0,9,-999.0000,9,  -999.00,     1956
  49UP20120602,RF1205,  4412,  1,     23,  22096,2,20120609,1855, 32.9937, 165.0130, 6205,    203.0,  15.9096,  34.6218,2,-999.0000,9,    224.3,2,     5.84,2,     5.19,2,     0.01,2,     0.37,2,   -999.0,9,   -999.0,9,-999.0000,9,  -999.00,     1940
  49UP20120602,RF1205,  4412,  1,     22,  22111,2,20120609,1855, 32.9937, 165.0130, 6205,    203.0,  15.9096,  34.6218,2,-999.0000,9,    224.2,2,     5.79,2,     5.16,2,     0.01,2,     0.39,2,   -999.0,9,   -999.0,9,-999.0000,9,  -999.00,     1940
  49UP20120602,RF1205,  4412,  1,     21,  22094,2,20120609,1855, 32.9937, 165.0130, 6205,    253.3,  15.2654,  34.5645,2,-999.0000,9,    218.0,2,     7.50,2,     6.68,2,     0.01,2,     0.49,2,   -999.0,9,   -999.0,9,-999.0000,9,  -999.00,     1937
  49UP20120602,RF1205,  4412,  1,     20,  22093,2,20120609,1855, 32.9937, 165.0130, 6205,    304.6,  14.2796,  34.4982,2,-999.0000,9,    213.8,2,    10.14,2,     8.61,2,     0.01,2,     0.62,2,   -999.0,9,   -999.0,9,-999.0000,9,  -999.00,     1935
  49UP20120602,RF1205,  4412,  1,     19,  22092,2,20120609,1855, 32.9937, 165.0130, 6205,    403.3,  11.8486,  34.3311,2,-999.0000,9,    205.4,2,    17.58,2,    13.13,2,     0.01,2,     0.96,2,   -999.0,9,   -999.0,9,-999.0000,9,  -999.00,     1933
  49UP20120602,RF1205,  4412,  1,     15,  22088,2,20120609,1855, 32.9937, 165.0130, 6205,    505.6,   8.9166,  34.1164,2,-999.0000,9,    184.7,2,    32.70,2,    20.34,2,     0.00,2,     1.50,2,   -999.0,9,   -999.0,9,-999.0000,9,  -999.00,     1930
  49UP20120602,RF1205,  4412,  1,     14,  21999,2,20120609,1855, 32.9937, 165.0130, 6205,    605.3,   6.5759,  34.0193,2,-999.0000,9,    148.3,2,    55.33,2,    27.94,2,     0.00,2,     2.06,2,   -999.0,9,   -999.0,9,-999.0000,9,  -999.00,     1927
  49UP20120602,RF1205,  4412,  1,     13,  22086,2,20120609,1855, 32.9937, 165.0130, 6205,    704.7,   5.0694,  34.0388,2,-999.0000,9,    102.8,2,    77.89,2,    34.53,2,     0.00,2,     2.53,2,   -999.0,9,   -999.0,9,-999.0000,9,  -999.00,     1925
  49UP20120602,RF1205,  4412,  1,     12,  22074,2,20120609,1855, 32.9937, 165.0130, 6205,    807.9,   4.4662,  34.1306,2,-999.0000,9,     70.2,2,    95.51,2,    38.25,2,     0.00,2,     2.78,2,   -999.0,9,   -999.0,9,-999.0000,9,  -999.00,     1922
  49UP20120602,RF1205,  4412,  1,     11,  22110,2,20120609,1855, 32.9937, 165.0130, 6205,    908.5,   3.9843,  34.2192,2,-999.0000,9,     49.6,6,   110.51,6,    40.51,6,     0.00,6,     2.93,6,   -999.0,9,   -999.0,9,-999.0000,9,  -999.00,     1919
  49UP20120602,RF1205,  4412,  1,     10,  22083,2,20120609,1855, 32.9937, 165.0130, 6205,   1009.5,   3.6760,  34.2851,2,-999.0000,9,     42.0,2,   120.38,2,    41.45,2,     0.00,2,     2.98,2,   -999.0,9,   -999.0,9,-999.0000,9,  -999.00,     1917
  49UP20120602,RF1205,  4412,  1,      8,  22081,2,20120609,1855, 32.9937, 165.0130, 6205,   1210.4,   3.0708,  34.3987,2,-999.0000,9,     30.0,2,   139.22,2,    43.07,2,     0.00,2,     3.10,2,   -999.0,9,   -999.0,9,-999.0000,9,  -999.00,     1912
  49UP20120602,RF1205,  4412,  1,      5,  22078,2,20120609,1855, 32.9937, 165.0130, 6205,   1412.0,   2.6794,  34.4808,2,-999.0000,9,     33.9,2,   149.84,2,    43.28,2,     0.00,2,     3.09,2,   -999.0,9,   -999.0,9,-999.0000,9,  -999.00,     1908
  49UP20120602,RF1205,  4412,  1,      4,  22077,2,20120609,1855, 32.9937, 165.0130, 6205,   1618.2,   2.3691,  34.5348,2,-999.0000,9,     46.8,2,   156.74,2,    42.55,2,     0.00,2,     3.05,2,   -999.0,9,   -999.0,9,-999.0000,9,  -999.00,     1903
  49UP20120602,RF1205,  4412,  1,      3,  22104,2,20120609,1855, 32.9937, 165.0130, 6205,   1820.7,   2.1227,  34.5724,2,-999.0000,9,     62.8,2,   160.65,2,    41.66,2,     0.00,2,     2.96,2,   -999.0,9,   -999.0,9,-999.0000,9,  -999.00,     1859
  49UP20120602,RF1205,  4412,  1,      1,  22082,2,20120609,1855, 32.9937, 165.0130, 6205,   2024.9,   1.9517,  34.5986,2,-999.0000,9,     77.1,2,   161.67,2,    40.68,2,     0.00,2,     2.90,2,   -999.0,9,   -999.0,9,-999.0000,9,  -999.00,     1855
  49UP20120602,RF1205,  4412,  1,      2,  22075,2,20120609,1855, 32.9937, 165.0130, 6205,   2025.0,   1.9523,  34.5987,2,-999.0000,9,     76.9,2,   161.61,2,    40.81,2,     0.00,2,     2.89,2,   -999.0,9,   -999.0,9,-999.0000,9,  -999.00,     1855