BOTTLE,20200205PRINUNIVRMK
EXPOCODE,SECT_ID,STNNBR,CASTNO,SAMPNO,BTLNBR,BTLNBR_FLAG_W,DATE,TIME,LATITUDE,LONGITUDE,DEPTH,CTDPRS,CTDTMP,CTDSAL,CTDSAL_FLAG_W,SALNTY,SALNTY_FLAG_W,OXYGEN,OXYGEN_FLAG_W,SILCAT,SILCAT_FLAG_W,NITRAT,NITRAT_FLAG_W,NITRIT,NITRIT_FLAG_W,PHSPHT,PHSPHT_FLAG_W,TCARBN,TCARBN_FLAG_W,ALKALI,ALKALI_FLAG_W,PH_TOT,PH_TOT_FLAG_W,PH_TMP,BTL_TIME
,,,,,,,,,,,METERS,DBAR,ITS-90,PSS-78,,PSS-78,,UMOL/KG,,UMOL/KG,,UMOL/KG,,UMOL/KG,,UMOL/KG,,UMOL/KG,,UMOL/KG,,,,DEG C,
  49UP20120602,RF1205,  4427,  1,     99,     99,2,20120705,0616, 36.0105, 149.3102, 5951,      0.0,  23.4015,  34.4341,2,  34.4370,2,    214.6,2,     1.42,2,     0.00,2,     0.00,2,     0.03,2,   1954.3,2,   2261.2,2,   8.0636,2,    25.00,      655
  49UP20120602,RF1205,  4427,  1,     36,  22109,2,20120705,0616, 36.0105, 149.3102, 5951,     11.8,  23.4015,  34.4337,2,  34.4316,2,    215.0,2,     1.43,2,     0.00,2,     0.00,2,     0.03,2,   1957.9,2,   2266.1,2,   8.0620,2,    25.00,      719
  49UP20120602,RF1205,  4427,  1,     35,  21997,2,20120705,0616, 36.0105, 149.3102, 5951,     26.3,  23.2431,  34.4505,2,-999.0000,9,    215.6,2,     1.43,2,     0.00,2,     0.00,2,     0.02,2,   1956.3,2,   2263.3,2,   8.0625,2,    25.00,      718
  49UP20120602,RF1205,  4427,  1,     34,  22107,2,20120705,0616, 36.0105, 149.3102, 5951,     52.1,  21.6164,  34.5332,2,  34.5510,4,    221.9,2,     1.74,2,     0.01,2,     0.00,2,     0.03,2,   1974.9,2,   2271.4,2,   8.0435,2,    25.00,      716
  49UP20120602,RF1205,  4427,  1,     30,  22103,3,20120705,0616, 36.0105, 149.3102, 5951,     76.0,  20.1527,  34.7266,2,-999.0000,9,    194.6,2,     3.76,2,     3.23,2,     0.04,2,     0.24,2,   2013.6,2,   2283.1,2,   7.9887,2,    25.00,      715
  49UP20120602,RF1205,  4427,  1,     29,  22102,2,20120705,0616, 36.0105, 149.3102, 5951,    102.6,  19.5525,  34.6792,2,  34.6811,2,    188.5,2,     5.07,2,     4.51,2,     0.03,2,     0.32,2,   2026.0,2,   2281.5,2,   7.9660,2,    25.00,      714
  49UP20120602,RF1205,  4427,  1,     28,  22101,2,20120705,0616, 36.0105, 149.3102, 5951,    126.1,  19.2580,  34.8012,2,-999.0000,9,    208.8,6,     2.60,6,     2.19,6,     0.02,6,     0.16,6,   2008.8,2,   2282.5,2,   7.9981,2,    25.00,      712
  49UP20120602,RF1205,  4427,  1,     27,  21998,2,20120705,0616, 36.0105, 149.3102, 5951,    153.7,  18.4812,  34.7697,2,-999.0000,9,    211.3,2,     2.91,2,     2.73,2,     0.02,2,     0.19,2,   2012.3,2,   2283.6,2,   7.9889,2,    25.00,      706
  49UP20120602,RF1205,  4427,  1,     26,  22099,2,20120705,0616, 36.0105, 149.3102, 5951,    203.0,  17.6125,  34.7207,2,  34.7178,6,    202.0,2,     4.76,2,     4.81,2,     0.01,2,     0.34,2,   2033.3,2,   2279.5,2,   7.9528,2,    25.00,      704
  49UP20120602,RF1205,  4427,  1,     25,  22098,2,20120705,0616, 36.0105, 149.3102, 5951,    254.1,  17.0550,  34.6935,2,-999.0000,9,    201.9,2,     5.40,2,     5.49,2,     0.01,2,     0.38,2,   2041.3,2,   2280.4,2,   7.9420,2,    25.00,      703
  49UP20120602,RF1205,  4427,  1,     21,  22094,2,20120705,0616, 36.0105, 149.3102, 5951,    303.4,  16.4288,  34.6546,2,-999.0000,9,    193.7,2,     7.55,2,     7.28,2,     0.01,2,     0.51,2,   2052.3,2,   2278.7,2,   7.9123,2,    25.00,      700
  49UP20120602,RF1205,  4427,  1,     20,  22093,2,20120705,0616, 36.0105, 149.3102, 5951,    303.4,  16.4288,  34.6546,2,-999.0000,9,    193.7,2,     7.57,2,     7.27,2,     0.01,2,     0.50,2,   2050.3,2,   2280.0,2,   7.9126,2,    25.00,      700
  49UP20120602,RF1205,  4427,  1,     19,  22092,2,20120705,0616, 36.0105, 149.3102, 5951,    404.4,  14.0280,  34.5080,2,  34.5097,2,    175.9,2,    16.01,2,    12.61,2,     0.01,2,     0.89,2,   2093.4,2,   2275.8,2,   7.8232,2,    25.00,      657
  49UP20120602,RF1205,  4427,  1,     18,  22091,2,20120705,0616, 36.0105, 149.3102, 5951,    504.3,  10.7511,  34.2987,2,-999.0000,9,    167.5,2,    29.84,2,    18.57,2,     0.00,2,     1.34,2,   2138.5,2,   2277.1,2,   7.7237,2,    25.00,      655
  49UP20120602,RF1205,  4427,  1,     17,  22090,2,20120705,0616, 36.0105, 149.3102, 5951,    607.3,   6.9150,  33.9732,2,  33.9767,2,    184.2,2,    43.96,2,    22.83,2,     0.00,2,     1.70,2,   2173.7,2,   2283.9,2,   7.6298,2,    25.00,      652
  49UP20120602,RF1205,  4427,  1,     16,  22089,2,20120705,0616, 36.0105, 149.3102, 5951,    708.6,   5.4952,  34.0299,2,-999.0000,9,    121.2,2,    70.95,2,    32.24,2,     0.00,2,     2.36,2,   2247.2,2,   2299.9,2,   7.4856,2,    25.00,      649
  49UP20120602,RF1205,  4427,  1,     12,  22074,2,20120705,0616, 36.0105, 149.3102, 5951,    809.5,   4.7859,  34.1328,2,  34.1333,2,     82.6,2,    90.31,2,    36.51,2,     0.00,2,     2.65,2,   2289.2,2,   2316.0,2,   7.4126,2,    25.00,      646
  49UP20120602,RF1205,  4427,  1,     11,  22110,2,20120705,0616, 36.0105, 149.3102, 5951,    910.8,   4.1024,  34.1803,2,-999.0000,9,     58.7,2,   106.20,2,    39.54,2,     0.00,2,     2.85,2,   2321.3,6,   2334.9,6,   7.3588,2,    25.00,      644
  49UP20120602,RF1205,  4427,  1,     10,  22083,2,20120705,0616, 36.0105, 149.3102, 5951,   1013.0,   3.8451,  34.2822,2,  34.2819,2,     50.0,2,   116.73,2,    40.43,2,     0.00,2,     2.92,2,   2337.3,2,   2354.0,2,   7.3624,6,    25.00,      640
  49UP20120602,RF1205,  4427,  1,      9,  22108,2,20120705,0616, 36.0105, 149.3102, 5951,   1214.3,   3.2011,  34.3809,2,  34.3809,2,     43.2,6,   134.34,6,    41.73,6,     0.00,6,     3.00,6,   2359.1,2,   2373.2,2,   7.3544,2,    25.00,      635
  49UP20120602,RF1205,  4427,  1,      8,  22081,2,20120705,0616, 36.0105, 149.3102, 5951,   1416.6,   2.7582,  34.4522,2,  34.4527,2,     40.7,2,   147.09,2,    42.45,2,     0.00,2,     3.04,2,   2372.6,2,   2386.7,2,   7.3484,2,    25.00,      630
  49UP20120602,RF1205,  4427,  1,      7,  22106,2,20120705,0616, 36.0105, 149.3102, 5951,   1618.8,   2.4600,  34.5021,2,  34.5020,2,     46.1,2,   154.64,2,    42.28,2,     0.00,2,     3.02,2,   2378.6,6,   2395.1,6,   7.3624,2,    25.00,      626
  49UP20120602,RF1205,  4427,  1,      6,  22113,2,20120705,0616, 36.0105, 149.3102, 5951,   1822.0,   2.2333,  34.5431,2,  34.5439,2,     55.0,4,   159.66,2,    41.99,2,     0.00,2,     2.98,2,   2378.2,2,   2406.2,2,   7.3810,2,    25.00,      621
  49UP20120602,RF1205,  4427,  1,      5,  22078,2,20120705,0616, 36.0105, 149.3102, 5951,   1822.0,   2.2333,  34.5431,2,  34.5432,2,     54.4,2,   159.54,2,    41.97,2,     0.00,2,     2.98,2,   2380.2,2,   2405.2,2,   7.3830,2,    25.00,      620
  49UP20120602,RF1205,  4427,  1,      4,  22077,2,20120705,0616, 36.0105, 149.3102, 5951,   2031.3,   2.0535,  34.5785,2,  34.5793,2,     69.1,2,   160.66,2,    41.19,2,     0.00,2,     2.91,2,   2373.7,2,   2407.4,2,   7.4133,6,    25.00,      616
  49UP20120602,RF1205,  4429,  1,     99,     99,2,20120705,1500, 34.9993, 148.9255, 6065,      0.0,  22.1414,  34.5791,2,-999.0000,9,    221.1,2,     1.35,2,     0.00,2,     0.00,2,     0.03,2,   -999.0,9,   -999.0,9,-999.0000,9,  -999.00,     1550
  49UP20120602,RF1205,  4429,  1,     36,  22109,2,20120705,1500, 34.9993, 148.9255, 6065,     11.2,  22.1444,  34.5791,2,-999.0000,9,    221.8,2,     1.35,2,     0.00,2,     0.00,2,     0.03,2,   -999.0,9,   -999.0,9,-999.0000,9,  -999.00,     1557
  49UP20120602,RF1205,  4429,  1,     35,  21997,2,20120705,1500, 34.9993, 148.9255, 6065,     26.2,  20.8440,  34.6601,2,-999.0000,9,    230.7,2,     1.71,2,     0.00,2,     0.00,2,     0.02,2,   -999.0,9,   -999.0,9,-999.0000,9,  -999.00,     1555
  49UP20120602,RF1205,  4429,  1,     34,  22107,2,20120705,1500, 34.9993, 148.9255, 6065,     51.7,  19.0329,  34.7456,2,-999.0000,9,    233.5,2,     1.88,2,     0.08,2,     0.01,2,     0.05,2,   -999.0,9,   -999.0,9,-999.0000,9,  -999.00,     1554
  49UP20120602,RF1205,  4429,  1,     30,  22103,2,20120705,1500, 34.9993, 148.9255, 6065,     77.3,  18.1543,  34.7149,2,-999.0000,9,    221.8,2,     2.92,2,     2.17,2,     0.03,2,     0.17,2,   -999.0,9,   -999.0,9,-999.0000,9,  -999.00,     1552
  49UP20120602,RF1205,  4429,  1,     29,  22102,2,20120705,1500, 34.9993, 148.9255, 6065,    101.1,  17.4743,  34.7247,2,-999.0000,9,    227.2,2,     2.87,2,     2.54,2,     0.10,2,     0.19,2,   -999.0,9,   -999.0,9,-999.0000,9,  -999.00,     1549
  49UP20120602,RF1205,  4429,  1,     28,  22101,2,20120705,1500, 34.9993, 148.9255, 6065,    127.0,  17.2404,  34.7229,2,-999.0000,9,    227.1,2,     3.06,2,     3.12,2,     0.02,2,     0.21,2,   -999.0,9,   -999.0,9,-999.0000,9,  -999.00,     1548
  49UP20120602,RF1205,  4429,  1,     27,  21998,2,20120705,1500, 34.9993, 148.9255, 6065,    152.5,  17.1994,  34.7288,2,-999.0000,9,    228.5,2,     3.13,2,     3.05,2,     0.01,2,     0.21,2,   -999.0,9,   -999.0,9,-999.0000,9,  -999.00,     1546
  49UP20120602,RF1205,  4429,  1,     26,  22099,3,20120705,1500, 34.9993, 148.9255, 6065,    202.8,  17.1913,  34.7288,2,-999.0000,9,    229.1,2,     3.20,2,     2.94,2,     0.01,2,     0.20,2,   -999.0,9,   -999.0,9,-999.0000,9,  -999.00,     1544
  49UP20120602,RF1205,  4429,  1,     25,  22098,2,20120705,1500, 34.9993, 148.9255, 6065,    202.8,  17.1913,  34.7288,2,-999.0000,9,    229.0,2,     3.07,2,     2.94,2,     0.01,2,     0.20,2,   -999.0,9,   -999.0,9,-999.0000,9,  -999.00,     1544
  49UP20120602,RF1205,  4429,  1,     21,  22094,2,20120705,1500, 34.9993, 148.9255, 6065,    254.0,  17.1660,  34.7263,2,-999.0000,9,    228.7,2,     3.34,2,     3.03,2,     0.01,2,     0.22,2,   -999.0,9,   -999.0,9,-999.0000,9,  -999.00,     1542
  49UP20120602,RF1205,  4429,  1,     20,  22093,2,20120705,1500, 34.9993, 148.9255, 6065,    305.2,  17.0054,  34.7115,2,-999.0000,9,    225.1,6,     3.85,6,     3.60,6,     0.01,6,     0.25,6,   -999.0,9,   -999.0,9,-999.0000,9,  -999.00,     1540
  49UP20120602,RF1205,  4429,  1,     19,  22092,2,20120705,1500, 34.9993, 148.9255, 6065,    405.8,  16.5301,  34.6921,2,-999.0000,9,    224.2,2,     4.71,2,     4.45,2,     0.01,2,     0.30,2,   -999.0,9,   -999.0,9,-999.0000,9,  -999.00,     1537
  49UP20120602,RF1205,  4429,  1,     18,  22091,2,20120705,1500, 34.9993, 148.9255, 6065,    506.1,  15.1575,  34.5785,2,-999.0000,9,    189.8,2,    11.02,2,     9.78,2,     0.01,2,     0.67,2,   -999.0,9,   -999.0,9,-999.0000,9,  -999.00,     1534
  49UP20120602,RF1205,  4429,  1,     17,  22090,2,20120705,1500, 34.9993, 148.9255, 6065,    606.1,  10.1310,  34.1187,2,-999.0000,9,    209.7,2,    22.35,2,    14.63,2,     0.01,2,     1.05,2,   -999.0,9,   -999.0,9,-999.0000,9,  -999.00,     1532
  49UP20120602,RF1205,  4429,  1,     16,  22089,2,20120705,1500, 34.9993, 148.9255, 6065,    705.9,   7.1445,  33.7332,2,-999.0000,9,    265.7,2,    20.24,2,    12.06,2,     0.01,2,     0.92,2,   -999.0,9,   -999.0,9,-999.0000,9,  -999.00,     1529
  49UP20120602,RF1205,  4429,  1,     12,  22074,2,20120705,1500, 34.9993, 148.9255, 6065,    808.2,   6.9716,  34.0363,2,-999.0000,9,    153.0,2,    51.93,2,    26.83,2,     0.00,2,     1.94,2,   -999.0,9,   -999.0,9,-999.0000,9,  -999.00,     1527
  49UP20120602,RF1205,  4429,  1,     11,  22110,2,20120705,1500, 34.9993, 148.9255, 6065,    908.2,   5.4441,  34.0254,2,-999.0000,9,    118.0,2,    71.38,2,    32.77,2,     0.00,2,     2.37,2,   -999.0,9,   -999.0,9,-999.0000,9,  -999.00,     1524
  49UP20120602,RF1205,  4429,  1,     10,  22083,2,20120705,1500, 34.9993, 148.9255, 6065,   1011.6,   4.5690,  34.1416,2,-999.0000,9,     74.5,2,    94.96,2,    37.95,2,     0.00,2,     2.72,2,   -999.0,9,   -999.0,9,-999.0000,9,  -999.00,     1522
  49UP20120602,RF1205,  4429,  1,      9,  22108,2,20120705,1500, 34.9993, 148.9255, 6065,   1213.0,   3.6785,  34.3004,2,-999.0000,9,     47.0,2,   121.02,2,    41.14,2,     0.00,2,     2.94,2,   -999.0,9,   -999.0,9,-999.0000,9,  -999.00,     1517
  49UP20120602,RF1205,  4429,  1,      8,  22081,2,20120705,1500, 34.9993, 148.9255, 6065,   1415.2,   3.1024,  34.3943,2,-999.0000,9,     41.0,2,   137.25,2,    42.28,2,     0.00,2,     3.02,2,   -999.0,9,   -999.0,9,-999.0000,9,  -999.00,     1513
  49UP20120602,RF1205,  4429,  1,      7,  22106,2,20120705,1500, 34.9993, 148.9255, 6065,   1415.2,   3.1024,  34.3943,2,-999.0000,9,     40.8,2,   137.26,2,    42.24,2,     0.00,2,     3.02,2,   -999.0,9,   -999.0,9,-999.0000,9,  -999.00,     1513
  49UP20120602,RF1205,  4429,  1,      6,  22113,2,20120705,1500, 34.9993, 148.9255, 6065,   1618.5,   2.7206,  34.4577,2,-999.0000,9,     40.6,2,   148.18,2,    42.66,2,     0.00,2,     3.03,2,   -999.0,9,   -999.0,9,-999.0000,9,  -999.00,     1508
  49UP20120602,RF1205,  4429,  1,      5,  22078,2,20120705,1500, 34.9993, 148.9255, 6065,   1822.1,   2.4017,  34.5145,2,-999.0000,9,     47.1,6,   156.39,6,    42.56,6,     0.00,6,     3.02,6,   -999.0,9,   -999.0,9,-999.0000,9,  -999.00,     1504
  49UP20120602,RF1205,  4429,  1,      4,  22077,2,20120705,1500, 34.9993, 148.9255, 6065,   2026.1,   2.1943,  34.5525,2,-999.0000,9,     56.6,2,   160.46,2,    42.15,2,     0.00,2,     2.98,2,   -999.0,9,   -999.0,9,-999.0000,9,  -999.00,     1500