BOTTLE,20200205PRINUNIVRMK
EXPOCODE,SECT_ID,STNNBR,CASTNO,SAMPNO,BTLNBR,BTLNBR_FLAG_W,DATE,TIME,LATITUDE,LONGITUDE,DEPTH,CTDPRS,CTDTMP,CTDSAL,CTDSAL_FLAG_W,SALNTY,SALNTY_FLAG_W,OXYGEN,OXYGEN_FLAG_W,SILCAT,SILCAT_FLAG_W,NITRAT,NITRAT_FLAG_W,NITRIT,NITRIT_FLAG_W,PHSPHT,PHSPHT_FLAG_W,TCARBN,TCARBN_FLAG_W,ALKALI,ALKALI_FLAG_W,PH_TOT,PH_TOT_FLAG_W,PH_TMP,BTL_TIME
,,,,,,,,,,,METERS,DBAR,ITS-90,PSS-78,,PSS-78,,UMOL/KG,,UMOL/KG,,UMOL/KG,,UMOL/KG,,UMOL/KG,,UMOL/KG,,UMOL/KG,,,,DEG C,
  49UP20120602,RF1205,  4420,  1,     99,     99,2,20120612,0558, 41.0138, 164.9940, 5316,      0.0,  10.9939,  33.6397,2,-999.0000,9,    282.8,2,    17.17,2,     9.15,2,     0.12,2,     0.88,2,   -999.0,9,   -999.0,9,-999.0000,9,  -999.00,      640
  49UP20120602,RF1205,  4420,  1,     33,  21996,2,20120612,0558, 41.0138, 164.9940, 5316,     11.8,  10.9725,  33.6369,2,-999.0000,9,    283.6,2,    17.29,2,     9.10,2,     0.12,2,     0.87,2,   -999.0,9,   -999.0,9,-999.0000,9,  -999.00,      652
  49UP20120602,RF1205,  4420,  1,     32,  22105,2,20120612,0558, 41.0138, 164.9940, 5316,     26.1,  10.3408,  33.6302,2,-999.0000,9,    287.8,2,    17.31,2,     9.20,2,     0.11,2,     0.88,2,   -999.0,9,   -999.0,9,-999.0000,9,  -999.00,      651
  49UP20120602,RF1205,  4420,  1,     31,  22076,2,20120612,0558, 41.0138, 164.9940, 5316,     51.8,   7.1422,  33.6484,2,-999.0000,9,    309.0,2,    18.92,2,    11.62,2,     0.20,2,     1.00,2,   -999.0,9,   -999.0,9,-999.0000,9,  -999.00,      650
  49UP20120602,RF1205,  4420,  1,     30,  22103,2,20120612,0558, 41.0138, 164.9940, 5316,     76.6,   6.2984,  33.5850,2,-999.0000,9,    298.3,2,    21.10,2,    13.90,2,     0.33,2,     1.14,2,   -999.0,9,   -999.0,9,-999.0000,9,  -999.00,      648
  49UP20120602,RF1205,  4420,  1,     29,  22102,2,20120612,0558, 41.0138, 164.9940, 5316,    102.2,   6.0772,  33.6072,2,-999.0000,9,    287.9,2,    23.36,2,    15.62,2,     0.02,2,     1.23,2,   -999.0,9,   -999.0,9,-999.0000,9,  -999.00,      647
  49UP20120602,RF1205,  4420,  1,     27,  21998,2,20120612,0558, 41.0138, 164.9940, 5316,    127.7,   5.5881,  33.6017,2,-999.0000,9,    276.7,2,    27.44,2,    17.71,2,     0.01,2,     1.37,2,   -999.0,9,   -999.0,9,-999.0000,9,  -999.00,      645
  49UP20120602,RF1205,  4420,  1,     24,  22097,2,20120612,0558, 41.0138, 164.9940, 5316,    152.4,   5.5542,  33.6472,2,-999.0000,9,    255.7,2,    32.37,2,    19.64,2,     0.01,2,     1.51,2,   -999.0,9,   -999.0,9,-999.0000,9,  -999.00,      644
  49UP20120602,RF1205,  4420,  1,     23,  22096,2,20120612,0558, 41.0138, 164.9940, 5316,    202.5,   5.1341,  33.7431,2,-999.0000,9,    192.5,2,    49.69,2,    26.63,2,     0.01,2,     2.00,2,   -999.0,9,   -999.0,9,-999.0000,9,  -999.00,      638
  49UP20120602,RF1205,  4420,  1,     22,  22111,2,20120612,0558, 41.0138, 164.9940, 5316,    253.7,   4.5891,  33.7727,2,-999.0000,9,    162.6,6,    61.39,6,    30.54,6,     0.00,6,     2.28,6,   -999.0,9,   -999.0,9,-999.0000,9,  -999.00,      636
  49UP20120602,RF1205,  4420,  1,     21,  22094,2,20120612,0558, 41.0138, 164.9940, 5316,    304.6,   4.6606,  33.8766,2,-999.0000,9,    129.0,2,    70.46,2,    33.41,2,     0.00,2,     2.44,2,   -999.0,9,   -999.0,9,-999.0000,9,  -999.00,      635
  49UP20120602,RF1205,  4420,  1,     20,  22093,2,20120612,0558, 41.0138, 164.9940, 5316,    304.6,   4.6606,  33.8766,2,-999.0000,9,    129.2,2,    70.09,2,    33.25,2,     0.00,2,     2.44,2,   -999.0,9,   -999.0,9,-999.0000,9,  -999.00,      634
  49UP20120602,RF1205,  4420,  1,     19,  22092,3,20120612,0558, 41.0138, 164.9940, 5316,    404.9,   4.3059,  33.9780,2,-999.0000,9,     92.0,2,    85.73,2,    37.02,2,     0.00,2,     2.69,2,   -999.0,9,   -999.0,9,-999.0000,9,  -999.00,      632
  49UP20120602,RF1205,  4420,  1,     15,  22088,2,20120612,0558, 41.0138, 164.9940, 5316,    506.4,   4.0219,  34.0791,2,-999.0000,9,     64.2,2,    98.78,2,    39.50,2,     0.00,2,     2.86,2,   -999.0,9,   -999.0,9,-999.0000,9,  -999.00,      630
  49UP20120602,RF1205,  4420,  1,     14,  21999,2,20120612,0558, 41.0138, 164.9940, 5316,    606.5,   3.8077,  34.1690,2,-999.0000,9,     48.8,2,   111.26,2,    40.95,2,     0.00,2,     2.94,2,   -999.0,9,   -999.0,9,-999.0000,9,  -999.00,      627
  49UP20120602,RF1205,  4420,  1,     13,  22086,2,20120612,0558, 41.0138, 164.9940, 5316,    708.3,   3.6044,  34.2490,2,-999.0000,9,     40.9,2,   119.57,2,    41.47,2,     0.00,2,     2.99,2,   -999.0,9,   -999.0,9,-999.0000,9,  -999.00,      625
  49UP20120602,RF1205,  4420,  1,     12,  22074,2,20120612,0558, 41.0138, 164.9940, 5316,    808.8,   3.3837,  34.3001,2,-999.0000,9,     37.5,2,   127.94,2,    42.18,2,     0.00,2,     3.02,2,   -999.0,9,   -999.0,9,-999.0000,9,  -999.00,      623
  49UP20120602,RF1205,  4420,  1,     11,  22110,2,20120612,0558, 41.0138, 164.9940, 5316,    910.0,   3.1483,  34.3461,2,-999.0000,9,     35.2,2,   135.50,2,    42.33,2,     0.00,2,     3.05,2,   -999.0,9,   -999.0,9,-999.0000,9,  -999.00,      620
  49UP20120602,RF1205,  4420,  1,     10,  22083,2,20120612,0558, 41.0138, 164.9940, 5316,   1011.9,   2.9596,  34.3827,2,-999.0000,9,     33.2,2,   141.72,2,    42.66,2,     0.00,2,     3.07,2,   -999.0,9,   -999.0,9,-999.0000,9,  -999.00,      618
  49UP20120602,RF1205,  4420,  1,      6,  22113,2,20120612,0558, 41.0138, 164.9940, 5316,   1214.7,   2.6398,  34.4454,2,-999.0000,9,     34.2,2,   151.69,2,    43.00,2,     0.00,2,     3.08,2,   -999.0,9,   -999.0,9,-999.0000,9,  -999.00,      614
  49UP20120602,RF1205,  4420,  1,      5,  22078,2,20120612,0558, 41.0138, 164.9940, 5316,   1416.1,   2.4075,  34.4917,2,-999.0000,9,     38.4,6,   157.07,6,    42.86,6,     0.00,6,     3.07,6,   -999.0,9,   -999.0,9,-999.0000,9,  -999.00,      610
  49UP20120602,RF1205,  4420,  1,      4,  22077,2,20120612,0558, 41.0138, 164.9940, 5316,   1619.8,   2.2148,  34.5301,2,-999.0000,9,     46.3,2,   163.28,2,    42.25,2,     0.00,2,     3.02,2,   -999.0,9,   -999.0,9,-999.0000,9,  -999.00,      606
  49UP20120602,RF1205,  4420,  1,      3,  22104,2,20120612,0558, 41.0138, 164.9940, 5316,   1821.5,   2.0456,  34.5648,2,-999.0000,9,     57.9,2,   166.08,2,    41.76,2,     0.00,2,     2.98,2,   -999.0,9,   -999.0,9,-999.0000,9,  -999.00,      602
  49UP20120602,RF1205,  4420,  1,      2,  22075,2,20120612,0558, 41.0138, 164.9940, 5316,   2024.5,   1.9261,  34.5899,2,-999.0000,9,     69.3,2,   167.12,2,    41.05,2,     0.00,2,     2.93,2,   -999.0,9,   -999.0,9,-999.0000,9,  -999.00,      558
  49UP20120602,RF1205,  4420,  1,      1,  22080,3,20120612,0558, 41.0138, 164.9940, 5316,   2024.6,   1.9261,  34.5898,2,-999.0000,9,     69.5,2,   166.17,2,    41.22,2,     0.00,2,     2.92,2,   -999.0,9,   -999.0,9,-999.0000,9,  -999.00,      558
  49UP20120602,RF1205,  4421,  1,     99,     99,2,20120612,1210, 42.0128, 164.9977, 5033,      0.0,  10.2622,  33.7597,2,-999.0000,9,    283.1,2,    17.81,2,     9.07,2,     0.14,2,     0.85,2,   -999.0,9,   -999.0,9,-999.0000,9,  -999.00,     1250
  49UP20120602,RF1205,  4421,  1,     33,  21996,2,20120612,1210, 42.0128, 164.9977, 5033,     10.5,  10.2604,  33.7593,2,  33.7600,2,    284.3,2,    17.85,2,     9.12,2,     0.14,2,     0.86,2,   -999.0,9,   -999.0,9,-999.0000,9,  -999.00,     1310
  49UP20120602,RF1205,  4421,  1,     32,  22105,2,20120612,1210, 42.0128, 164.9977, 5033,     26.3,  10.1860,  33.7512,2,-999.0000,9,    284.9,2,    17.85,2,     9.20,2,     0.14,2,     0.87,2,   -999.0,9,   -999.0,9,-999.0000,9,  -999.00,     1309
  49UP20120602,RF1205,  4421,  1,     31,  22076,2,20120612,1210, 42.0128, 164.9977, 5033,     52.2,   8.8319,  33.9435,2,-999.0000,9,    281.2,2,    17.19,2,    11.07,2,     0.20,2,     0.90,2,   -999.0,9,   -999.0,9,-999.0000,9,  -999.00,     1308
  49UP20120602,RF1205,  4421,  1,     30,  22103,2,20120612,1210, 42.0128, 164.9977, 5033,     77.8,   7.7414,  33.8094,2,-999.0000,9,    282.1,2,    19.64,2,    13.06,2,     0.02,2,     1.03,2,   -999.0,9,   -999.0,9,-999.0000,9,  -999.00,     1306
  49UP20120602,RF1205,  4421,  1,     29,  22102,2,20120612,1210, 42.0128, 164.9977, 5033,    102.7,   7.1948,  33.7537,2,  33.7540,2,    287.5,2,    20.66,2,    13.73,2,     0.02,2,     1.09,2,   -999.0,9,   -999.0,9,-999.0000,9,  -999.00,     1305
  49UP20120602,RF1205,  4421,  1,     27,  21998,2,20120612,1210, 42.0128, 164.9977, 5033,    127.7,   6.7024,  33.7223,2,-999.0000,9,    281.1,2,    22.86,2,    15.31,2,     0.02,2,     1.20,2,   -999.0,9,   -999.0,9,-999.0000,9,  -999.00,     1303
  49UP20120602,RF1205,  4421,  1,     24,  22097,2,20120612,1210, 42.0128, 164.9977, 5033,    152.6,   5.4551,  33.5779,2,-999.0000,9,    298.3,2,    24.57,2,    16.65,2,     0.05,2,     1.32,2,   -999.0,9,   -999.0,9,-999.0000,9,  -999.00,     1300
  49UP20120602,RF1205,  4421,  1,     23,  22096,2,20120612,1210, 42.0128, 164.9977, 5033,    204.8,   5.6421,  33.7131,2,  33.7087,2,    249.3,6,    34.52,6,    20.57,6,     0.01,6,     1.58,6,   -999.0,9,   -999.0,9,-999.0000,9,  -999.00,     1258
  49UP20120602,RF1205,  4421,  1,     22,  22111,2,20120612,1210, 42.0128, 164.9977, 5033,    254.1,   4.7129,  33.7300,2,-999.0000,9,    189.6,2,    53.65,2,    27.83,2,     0.00,2,     2.10,2,   -999.0,9,   -999.0,9,-999.0000,9,  -999.00,     1255
  49UP20120602,RF1205,  4421,  1,     21,  22094,2,20120612,1210, 42.0128, 164.9977, 5033,    254.1,   4.7129,  33.7300,2,-999.0000,9,    189.1,2,    53.89,2,    27.94,2,     0.00,2,     2.10,2,   -999.0,9,   -999.0,9,-999.0000,9,  -999.00,     1255
  49UP20120602,RF1205,  4421,  1,     20,  22093,2,20120612,1210, 42.0128, 164.9977, 5033,    305.4,   4.8065,  33.8804,2,  33.8784,2,    137.0,2,    67.12,2,    32.03,2,     0.00,2,     2.39,2,   -999.0,9,   -999.0,9,-999.0000,9,  -999.00,     1253
  49UP20120602,RF1205,  4421,  1,     19,  22092,2,20120612,1210, 42.0128, 164.9977, 5033,    405.4,   4.0930,  33.9349,2,  33.9351,2,     96.6,2,    85.12,2,    37.06,2,     0.00,2,     2.71,2,   -999.0,9,   -999.0,9,-999.0000,9,  -999.00,     1249
  49UP20120602,RF1205,  4421,  1,     15,  22088,2,20120612,1210, 42.0128, 164.9977, 5033,    504.9,   3.8581,  34.0517,2,-999.0000,9,     62.7,2,   100.25,2,    39.76,2,     0.00,2,     2.91,2,   -999.0,9,   -999.0,9,-999.0000,9,  -999.00,     1246
  49UP20120602,RF1205,  4421,  1,     14,  21999,2,20120612,1210, 42.0128, 164.9977, 5033,    606.2,   3.6622,  34.1494,2,  34.1489,2,     45.7,2,   112.59,2,    41.08,2,     0.00,2,     2.99,2,   -999.0,9,   -999.0,9,-999.0000,9,  -999.00,     1243
  49UP20120602,RF1205,  4421,  1,     13,  22086,2,20120612,1210, 42.0128, 164.9977, 5033,    708.0,   3.4435,  34.2300,2,-999.0000,9,     37.1,2,   122.27,2,    41.87,2,     0.00,2,     3.04,2,   -999.0,9,   -999.0,9,-999.0000,9,  -999.00,     1240
  49UP20120602,RF1205,  4421,  1,     12,  22074,2,20120612,1210, 42.0128, 164.9977, 5033,    808.5,   3.2381,  34.2994,2,  34.3027,2,     35.3,2,   131.10,2,    42.05,2,     0.00,2,     3.06,2,   -999.0,9,   -999.0,9,-999.0000,9,  -999.00,     1237
  49UP20120602,RF1205,  4421,  1,     11,  22110,2,20120612,1210, 42.0128, 164.9977, 5033,    909.2,   3.0733,  34.3433,2,-999.0000,9,     34.2,2,   136.09,2,    42.45,2,     0.00,2,     3.07,2,   -999.0,9,   -999.0,9,-999.0000,9,  -999.00,     1234
  49UP20120602,RF1205,  4421,  1,     10,  22083,2,20120612,1210, 42.0128, 164.9977, 5033,   1011.3,   2.8993,  34.3845,2,  34.3835,2,     33.4,2,   142.58,2,    42.82,2,     0.00,2,     3.08,2,   -999.0,9,   -999.0,9,-999.0000,9,  -999.00,     1232
  49UP20120602,RF1205,  4421,  1,      6,  22113,2,20120612,1210, 42.0128, 164.9977, 5033,   1214.1,   2.5826,  34.4485,2,  34.4494,2,     36.0,6,   152.64,6,    42.75,6,     0.00,6,     3.08,6,   -999.0,9,   -999.0,9,-999.0000,9,  -999.00,     1227
  49UP20120602,RF1205,  4421,  1,      5,  22078,2,20120612,1210, 42.0128, 164.9977, 5033,   1416.2,   2.3713,  34.4958,2,  34.4962,2,     41.5,2,   158.68,2,    42.50,2,     0.00,2,     3.06,2,   -999.0,9,   -999.0,9,-999.0000,9,  -999.00,     1223
  49UP20120602,RF1205,  4421,  1,      4,  22077,2,20120612,1210, 42.0128, 164.9977, 5033,   1619.8,   2.1784,  34.5370,2,  34.5374,6,     49.2,2,   162.87,2,    42.09,2,     0.00,2,     3.03,2,   -999.0,9,   -999.0,9,-999.0000,9,  -999.00,     1219
  49UP20120602,RF1205,  4421,  1,      3,  22104,2,20120612,1210, 42.0128, 164.9977, 5033,   1822.6,   2.0293,  34.5693,2,  34.5698,2,     59.8,2,   165.25,2,    41.41,2,     0.00,2,     2.98,2,   -999.0,9,   -999.0,9,-999.0000,9,  -999.00,     1214
  49UP20120602,RF1205,  4421,  1,      1,  22082,3,20120612,1210, 42.0128, 164.9977, 5033,   2026.9,   1.9109,  34.5936,2,  34.5937,2,     71.0,2,   165.97,2,    40.88,2,     0.00,2,     2.93,2,   -999.0,9,   -999.0,9,-999.0000,9,  -999.00,     1209
  49UP20120602,RF1205,  4421,  1,      2,  22075,2,20120612,1210, 42.0128, 164.9977, 5033,   2027.1,   1.9110,  34.5935,2,  34.5939,2,     71.5,2,   166.34,2,    40.81,2,     0.00,2,     2.93,2,   -999.0,9,   -999.0,9,-999.0000,9,  -999.00,     1210