BOTTLE,20200205PRINUNIVRMK
EXPOCODE,SECT_ID,STNNBR,CASTNO,SAMPNO,BTLNBR,BTLNBR_FLAG_W,DATE,TIME,LATITUDE,LONGITUDE,DEPTH,CTDPRS,CTDTMP,CTDSAL,CTDSAL_FLAG_W,SALNTY,SALNTY_FLAG_W,OXYGEN,OXYGEN_FLAG_W,SILCAT,SILCAT_FLAG_W,NITRAT,NITRAT_FLAG_W,NITRIT,NITRIT_FLAG_W,PHSPHT,PHSPHT_FLAG_W,TCARBN,TCARBN_FLAG_W,ALKALI,ALKALI_FLAG_W,PH_TOT,PH_TOT_FLAG_W,PH_TMP,BTL_TIME
,,,,,,,,,,,METERS,DBAR,ITS-90,PSS-78,,PSS-78,,UMOL/KG,,UMOL/KG,,UMOL/KG,,UMOL/KG,,UMOL/KG,,UMOL/KG,,UMOL/KG,,,,DEG C,
  49UP20120602,RF1205,  4435,  1,     99,     99,2,20120706,2112, 32.0037, 147.9392, 5639,      0.0,  22.4675,  34.5179,2,  34.5161,2,    220.2,2,     1.92,2,     0.00,2,     0.00,2,     0.04,2,   1980.0,2,   2266.8,2,   8.0379,2,    25.00,     2215
  49UP20120602,RF1205,  4435,  1,     36,  22109,2,20120706,2112, 32.0037, 147.9392, 5639,     11.2,  22.4660,  34.5177,2,  34.5185,2,    220.3,2,     1.80,2,     0.01,2,     0.00,2,     0.02,2,   1980.8,2,   2268.2,2,   8.0387,2,    25.00,     2232
  49UP20120602,RF1205,  4435,  1,     35,  21997,2,20120706,2112, 32.0037, 147.9392, 5639,     26.3,  22.2598,  34.5113,2,-999.0000,9,    221.4,6,     1.77,6,     0.00,6,     0.00,6,     0.02,6,   1976.5,2,   2269.0,2,   8.0412,2,    25.00,     2231
  49UP20120602,RF1205,  4435,  1,     34,  22107,2,20120706,2112, 32.0037, 147.9392, 5639,     51.3,  19.5441,  34.5624,2,  34.5642,2,    234.9,2,     2.19,2,     0.00,2,     0.00,2,     0.04,2,   1988.1,2,   2271.9,2,   8.0306,2,    25.00,     2228
  49UP20120602,RF1205,  4435,  1,     30,  22103,2,20120706,2112, 32.0037, 147.9392, 5639,     76.6,  18.9184,  34.6921,2,-999.0000,9,    227.2,2,     2.38,2,     0.53,2,     0.15,2,     0.08,2,   2000.5,2,   2278.5,2,   8.0110,2,    25.00,     2227
  49UP20120602,RF1205,  4435,  1,     29,  22102,2,20120706,2112, 32.0037, 147.9392, 5639,    101.5,  18.0027,  34.7136,2,  34.7177,4,    223.2,2,     2.76,2,     2.10,2,     0.04,2,     0.16,2,   2009.7,2,   2278.8,2,   7.9977,2,    25.00,     2226
  49UP20120602,RF1205,  4435,  1,     28,  22101,2,20120706,2112, 32.0037, 147.9392, 5639,    101.5,  18.0027,  34.7136,2,-999.0000,9,    223.4,2,     2.76,2,     2.08,2,     0.05,2,     0.16,2,   2014.0,2,   2277.5,2,   7.9969,2,    25.00,     2226
  49UP20120602,RF1205,  4435,  1,     27,  21998,2,20120706,2112, 32.0037, 147.9392, 5639,    125.9,  17.4603,  34.7389,2,-999.0000,9,    221.2,2,     3.19,2,     3.04,2,     0.03,2,     0.21,2,   2018.8,2,   2278.7,2,   7.9838,2,    25.00,     2225
  49UP20120602,RF1205,  4435,  1,     26,  22099,2,20120706,2112, 32.0037, 147.9392, 5639,    152.0,  17.3278,  34.7348,2,-999.0000,9,    221.0,2,     3.42,2,     3.25,2,     0.02,2,     0.23,2,   2019.1,2,   2281.8,2,   7.9828,2,    25.00,     2224
  49UP20120602,RF1205,  4435,  1,     25,  22098,2,20120706,2112, 32.0037, 147.9392, 5639,    203.4,  17.1605,  34.7294,2,  34.7307,2,    222.9,2,     3.56,2,     3.35,2,     0.01,2,     0.24,2,   2019.8,2,   2282.2,2,   7.9775,2,    25.00,     2222
  49UP20120602,RF1205,  4435,  1,     21,  22094,2,20120706,2112, 32.0037, 147.9392, 5639,    255.1,  16.9589,  34.7113,2,-999.0000,9,    219.7,2,     4.22,2,     4.03,2,     0.01,2,     0.29,2,   2028.0,2,   2280.3,2,   7.9698,2,    25.00,     2220
  49UP20120602,RF1205,  4435,  1,     20,  22093,2,20120706,2112, 32.0037, 147.9392, 5639,    304.0,  16.6008,  34.6751,2,-999.0000,9,    208.5,2,     5.93,2,     5.75,2,     0.01,2,     0.40,2,   2037.5,2,   2279.2,2,   7.9453,2,    25.00,     2218
  49UP20120602,RF1205,  4435,  1,     19,  22092,2,20120706,2112, 32.0037, 147.9392, 5639,    403.3,  14.4901,  34.5338,2,  34.5337,2,    180.0,2,    14.11,2,    11.71,2,     0.01,2,     0.81,2,   2092.6,2,   2279.7,2,   7.8456,2,    25.00,     2216
  49UP20120602,RF1205,  4435,  1,     18,  22091,2,20120706,2112, 32.0037, 147.9392, 5639,    503.8,  11.4261,  34.3536,2,-999.0000,9,    169.0,2,    26.75,2,    17.35,2,     0.01,2,     1.24,2,   2132.2,2,   2280.8,2,   7.7506,2,    25.00,     2214
  49UP20120602,RF1205,  4435,  1,     17,  22090,2,20120706,2112, 32.0037, 147.9392, 5639,    606.0,   8.3274,  34.1557,2,  34.1576,2,    151.3,2,    46.15,2,    24.52,2,     0.01,2,     1.78,2,   2179.6,2,   2290.2,2,   7.6326,2,    25.00,     2211
  49UP20120602,RF1205,  4435,  1,     16,  22089,2,20120706,2112, 32.0037, 147.9392, 5639,    706.5,   5.5046,  34.0014,2,-999.0000,9,    130.4,2,    67.18,2,    31.39,2,     0.00,2,     2.32,2,   2234.8,2,   2297.0,2,   7.5036,2,    25.00,     2209
  49UP20120602,RF1205,  4435,  1,     12,  22074,2,20120706,2112, 32.0037, 147.9392, 5639,    807.6,   4.8434,  34.0914,2,  34.0914,2,     89.4,2,    86.02,2,    36.15,2,     0.00,2,     2.62,2,   2282.3,2,   2319.2,2,   7.4256,2,    25.00,     2202
  49UP20120602,RF1205,  4435,  1,     11,  22110,2,20120706,2112, 32.0037, 147.9392, 5639,    909.3,   4.2398,  34.1981,2,  34.2034,4,     60.1,2,   105.02,2,    39.41,2,     0.00,2,     2.83,2,   2316.9,2,   2334.8,2,   7.3780,2,    25.00,     2149
  49UP20120602,RF1205,  4435,  1,     10,  22083,2,20120706,2112, 32.0037, 147.9392, 5639,    909.3,   4.2398,  34.1981,2,  34.2032,4,     60.4,2,   105.10,2,    39.41,2,     0.00,2,     2.84,2,   2319.6,2,   2335.7,2,   7.3756,2,    25.00,     2149
  49UP20120602,RF1205,  4435,  1,      9,  22108,2,20120706,2112, 32.0037, 147.9392, 5639,   1010.4,   3.8011,  34.2744,2,  34.2748,2,     49.4,2,   117.34,2,    40.83,2,     0.00,2,     2.94,2,   2342.6,6,   2351.3,6,   7.3616,2,    25.00,     2147
  49UP20120602,RF1205,  4435,  1,      8,  22081,2,20120706,2112, 32.0037, 147.9392, 5639,   1211.2,   3.2013,  34.3853,2,  34.3846,2,     44.5,2,   133.66,2,    41.68,2,     0.00,2,     2.99,2,   2346.9,2,   2373.5,2,   7.3634,6,    25.00,     2143
  49UP20120602,RF1205,  4435,  1,      7,  22106,2,20120706,2112, 32.0037, 147.9392, 5639,   1415.2,   2.7602,  34.4554,2,  34.4564,2,     40.3,2,   146.50,2,    42.69,2,     0.00,2,     3.05,2,   2363.7,2,   2385.3,2,   7.3620,2,    25.00,     2123
  49UP20120602,RF1205,  4435,  1,      6,  22113,2,20120706,2112, 32.0037, 147.9392, 5639,   1618.1,   2.3976,  34.5132,2,  34.5141,2,     45.9,2,   156.13,2,    42.63,2,     0.00,2,     3.03,2,   2386.9,6,   2400.4,6,   7.3726,2,    25.00,     2119
  49UP20120602,RF1205,  4435,  1,      5,  22078,2,20120706,2112, 32.0037, 147.9392, 5639,   1821.2,   2.1670,  34.5567,2,  34.5559,2,     56.9,3,   160.25,2,    42.05,2,     0.00,2,     2.98,2,   2387.8,2,   2406.6,2,   7.3981,6,    25.00,     2116
  49UP20120602,RF1205,  4435,  1,      4,  22077,2,20120706,2112, 32.0037, 147.9392, 5639,   2025.1,   1.9788,  34.5903,2,  34.5929,4,     75.6,6,   161.26,6,    40.97,6,     0.00,6,     2.90,6,   2373.4,2,   2408.0,2,   7.4309,2,    25.00,     2112
  49UP20120602,RF1205,  4437,  1,     99,     99,2,20120707,0559, 31.0097, 147.7130, 6083,      0.0,  23.3710,  34.3480,2,  34.3432,2,    219.7,2,     1.91,2,     0.04,2,     0.00,2,     0.03,4,   -999.0,9,   -999.0,9,-999.0000,9,  -999.00,      640
  49UP20120602,RF1205,  4437,  1,     36,  22109,2,20120707,0559, 31.0097, 147.7130, 6083,     11.4,  23.2694,  34.3499,2,  34.3521,2,    220.1,2,     1.86,2,     0.04,2,     0.00,2,     0.03,4,   -999.0,9,   -999.0,9,-999.0000,9,  -999.00,      702
  49UP20120602,RF1205,  4437,  1,     35,  21997,2,20120707,0559, 31.0097, 147.7130, 6083,     28.2,  20.9872,  34.5705,2,-999.0000,9,    234.4,2,     1.81,2,     0.04,2,     0.00,2,     0.02,4,   -999.0,9,   -999.0,9,-999.0000,9,  -999.00,      701
  49UP20120602,RF1205,  4437,  1,     34,  22107,2,20120707,0559, 31.0097, 147.7130, 6083,     52.2,  19.8810,  34.6246,2,  34.6233,2,    235.5,2,     1.86,2,     0.03,2,     0.00,2,     0.02,4,   -999.0,9,   -999.0,9,-999.0000,9,  -999.00,      659
  49UP20120602,RF1205,  4437,  1,     30,  22103,2,20120707,0559, 31.0097, 147.7130, 6083,     77.9,  18.7498,  34.7395,2,-999.0000,9,    231.7,2,     2.37,2,     0.16,2,     0.04,2,  -999.00,5,   -999.0,9,   -999.0,9,-999.0000,9,  -999.00,      658
  49UP20120602,RF1205,  4437,  1,     29,  22102,2,20120707,0559, 31.0097, 147.7130, 6083,     77.9,  18.7498,  34.7395,2,-999.0000,9,    231.0,2,     2.45,2,     0.25,2,     0.05,2,     0.07,4,   -999.0,9,   -999.0,9,-999.0000,9,  -999.00,      658
  49UP20120602,RF1205,  4437,  1,     28,  22101,2,20120707,0559, 31.0097, 147.7130, 6083,    102.5,  17.9262,  34.7412,2,  34.7403,2,    217.4,2,     3.20,2,     2.53,2,     0.09,2,     0.20,4,   -999.0,9,   -999.0,9,-999.0000,9,  -999.00,      654
  49UP20120602,RF1205,  4437,  1,     27,  21998,2,20120707,0559, 31.0097, 147.7130, 6083,    127.8,  17.5066,  34.7300,2,-999.0000,9,    216.6,2,     3.32,2,     3.44,2,     0.03,2,     0.24,4,   -999.0,9,   -999.0,9,-999.0000,9,  -999.00,      653
  49UP20120602,RF1205,  4437,  1,     26,  22099,2,20120707,0559, 31.0097, 147.7130, 6083,    154.7,  17.3101,  34.7228,2,-999.0000,9,    217.7,2,     3.51,2,     3.64,2,     0.02,2,     0.26,4,   -999.0,9,   -999.0,9,-999.0000,9,  -999.00,      651
  49UP20120602,RF1205,  4437,  1,     25,  22098,2,20120707,0559, 31.0097, 147.7130, 6083,    204.1,  17.0936,  34.7162,2,  34.7155,2,    219.6,2,     3.86,2,     3.87,2,     0.01,2,     0.28,4,   -999.0,9,   -999.0,9,-999.0000,9,  -999.00,      649
  49UP20120602,RF1205,  4437,  1,     21,  22094,2,20120707,0559, 31.0097, 147.7130, 6083,    254.8,  16.7963,  34.6885,2,-999.0000,9,    209.9,2,     5.33,2,     5.21,2,     0.01,2,     0.36,4,   -999.0,9,   -999.0,9,-999.0000,9,  -999.00,      647
  49UP20120602,RF1205,  4437,  1,     20,  22093,2,20120707,0559, 31.0097, 147.7130, 6083,    304.7,  16.1766,  34.6546,2,-999.0000,9,    205.4,2,     6.99,2,     6.67,2,     0.02,2,     0.46,4,   -999.0,9,   -999.0,9,-999.0000,9,  -999.00,      645
  49UP20120602,RF1205,  4437,  1,     19,  22092,3,20120707,0559, 31.0097, 147.7130, 6083,    405.0,  13.4737,  34.4673,2,  34.4698,2,    180.4,2,    16.48,2,    13.13,2,     0.01,2,     0.91,4,   -999.0,9,   -999.0,9,-999.0000,9,  -999.00,      642
  49UP20120602,RF1205,  4437,  1,     18,  22091,2,20120707,0559, 31.0097, 147.7130, 6083,    506.1,  10.3916,  34.2384,2,-999.0000,9,    183.2,2,    26.99,2,    17.72,2,     0.01,2,     1.26,4,   -999.0,9,   -999.0,9,-999.0000,9,  -999.00,      639
  49UP20120602,RF1205,  4437,  1,     17,  22090,2,20120707,0559, 31.0097, 147.7130, 6083,    605.9,   7.4632,  34.0545,2,  34.0562,2,    158.9,6,    46.57,6,    25.35,6,     0.00,6,     1.84,4,   -999.0,9,   -999.0,9,-999.0000,9,  -999.00,      636
  49UP20120602,RF1205,  4437,  1,     16,  22089,2,20120707,0559, 31.0097, 147.7130, 6083,    708.4,   5.6779,  34.0060,2,-999.0000,9,    129.9,2,    65.60,2,    31.29,2,     0.00,2,     2.28,4,   -999.0,9,   -999.0,9,-999.0000,9,  -999.00,      632
  49UP20120602,RF1205,  4437,  1,     12,  22074,2,20120707,0559, 31.0097, 147.7130, 6083,    809.8,   4.7953,  34.0966,2,  34.0942,2,     86.9,2,    86.30,2,    36.42,2,     0.00,2,     2.64,4,   -999.0,9,   -999.0,9,-999.0000,9,  -999.00,      629
  49UP20120602,RF1205,  4437,  1,     11,  22110,2,20120707,0559, 31.0097, 147.7130, 6083,    809.8,   4.7953,  34.0966,2,  34.0940,2,     87.0,2,    86.17,2,    36.48,2,     0.00,2,     2.64,4,   -999.0,9,   -999.0,9,-999.0000,9,  -999.00,      628
  49UP20120602,RF1205,  4437,  1,     10,  22083,2,20120707,0559, 31.0097, 147.7130, 6083,    910.7,   4.1943,  34.2053,2,-999.0000,9,     56.3,6,   104.91,6,    39.84,6,     0.01,6,     2.87,4,   -999.0,9,   -999.0,9,-999.0000,9,  -999.00,      625
  49UP20120602,RF1205,  4437,  1,      9,  22108,2,20120707,0559, 31.0097, 147.7130, 6083,   1010.6,   3.7995,  34.2720,2,  34.2726,2,     45.0,2,   116.61,2,    41.26,2,     0.00,2,     2.96,4,   -999.0,9,   -999.0,9,-999.0000,9,  -999.00,      623
  49UP20120602,RF1205,  4437,  1,      8,  22081,2,20120707,0559, 31.0097, 147.7130, 6083,   1213.8,   3.1759,  34.3819,2,  34.3823,2,     38.1,2,   134.77,2,    42.38,2,     0.00,2,     3.04,4,   -999.0,9,   -999.0,9,-999.0000,9,  -999.00,      618
  49UP20120602,RF1205,  4437,  1,      7,  22106,2,20120707,0559, 31.0097, 147.7130, 6083,   1415.0,   2.7058,  34.4636,2,  34.4636,2,     37.4,2,   148.30,2,    42.92,2,     0.00,2,  -999.00,5,   -999.0,9,   -999.0,9,-999.0000,9,  -999.00,      613
  49UP20120602,RF1205,  4437,  1,      6,  22113,2,20120707,0559, 31.0097, 147.7130, 6083,   1618.1,   2.3779,  34.5238,2,  34.5239,6,     48.1,2,   155.58,2,    42.54,2,     0.00,2,  -999.00,5,   -999.0,9,   -999.0,9,-999.0000,9,  -999.00,      609
  49UP20120602,RF1205,  4437,  1,      5,  22078,2,20120707,0559, 31.0097, 147.7130, 6083,   1821.9,   2.1468,  34.5611,2,  34.5607,2,     59.2,2,   160.26,2,    41.96,2,     0.00,2,  -999.00,5,   -999.0,9,   -999.0,9,-999.0000,9,  -999.00,      603
  49UP20120602,RF1205,  4437,  1,      4,  22077,2,20120707,0559, 31.0097, 147.7130, 6083,   2024.1,   1.9613,  34.5948,2,  34.5947,2,     76.8,2,   160.86,2,    40.86,2,     0.00,2,  -999.00,5,   -999.0,9,   -999.0,9,-999.0000,9,  -999.00,      559