BOTTLE,20200205PRINUNIVRMK
EXPOCODE,SECT_ID,STNNBR,CASTNO,SAMPNO,BTLNBR,BTLNBR_FLAG_W,DATE,TIME,LATITUDE,LONGITUDE,DEPTH,CTDPRS,CTDTMP,CTDSAL,CTDSAL_FLAG_W,SALNTY,SALNTY_FLAG_W,OXYGEN,OXYGEN_FLAG_W,SILCAT,SILCAT_FLAG_W,NITRAT,NITRAT_FLAG_W,NITRIT,NITRIT_FLAG_W,PHSPHT,PHSPHT_FLAG_W,TCARBN,TCARBN_FLAG_W,ALKALI,ALKALI_FLAG_W,PH_TOT,PH_TOT_FLAG_W,PH_TMP,BTL_TIME
,,,,,,,,,,,METERS,DBAR,ITS-90,PSS-78,,PSS-78,,UMOL/KG,,UMOL/KG,,UMOL/KG,,UMOL/KG,,UMOL/KG,,UMOL/KG,,UMOL/KG,,,,DEG C,
  49UP20120602,RF1205,  4415,  1,     99,     99,2,20120610,1836, 35.9888, 164.9837, 5639,      0.0,  17.0222,  34.6036,2,-999.0000,9,    245.9,2,     3.38,2,     0.67,2,     0.03,2,     0.11,2,   -999.0,9,   -999.0,9,-999.0000,9,  -999.00,     1858
  49UP20120602,RF1205,  4415,  1,     33,  21996,2,20120610,1836, 35.9888, 164.9837, 5639,     11.0,  17.0165,  34.6038,2,-999.0000,9,    246.4,2,     3.38,2,     0.69,2,     0.03,2,     0.09,2,   -999.0,9,   -999.0,9,-999.0000,9,  -999.00,     1932
  49UP20120602,RF1205,  4415,  1,     32,  22105,2,20120610,1836, 35.9888, 164.9837, 5639,     24.5,  16.8552,  34.6111,2,-999.0000,9,    244.0,2,     3.62,2,     1.13,2,     0.04,2,     0.11,2,   -999.0,9,   -999.0,9,-999.0000,9,  -999.00,     1931
  49UP20120602,RF1205,  4415,  1,     31,  22076,2,20120610,1836, 35.9888, 164.9837, 5639,     49.9,  16.6807,  34.6124,2,-999.0000,9,    236.1,2,     4.01,2,     1.89,2,     0.07,2,     0.16,2,   -999.0,9,   -999.0,9,-999.0000,9,  -999.00,     1927
  49UP20120602,RF1205,  4415,  1,     30,  22103,2,20120610,1836, 35.9888, 164.9837, 5639,     74.5,  16.3795,  34.6356,2,-999.0000,9,    236.6,2,     3.73,2,     2.13,2,     0.18,2,     0.22,2,   -999.0,9,   -999.0,9,-999.0000,9,  -999.00,     1926
  49UP20120602,RF1205,  4415,  1,     28,  22101,3,20120610,1836, 35.9888, 164.9837, 5639,     99.8,  16.0441,  34.6462,2,-999.0000,9,    234.4,2,     4.44,2,     3.20,2,     0.52,2,     0.27,2,   -999.0,9,   -999.0,9,-999.0000,9,  -999.00,     1924
  49UP20120602,RF1205,  4415,  1,     29,  22102,2,20120610,1836, 35.9888, 164.9837, 5639,    100.3,  16.0202,  34.6442,2,-999.0000,9,    236.1,2,     4.30,2,     3.03,2,     0.56,2,     0.27,2,   -999.0,9,   -999.0,9,-999.0000,9,  -999.00,     1924
  49UP20120602,RF1205,  4415,  1,     24,  22097,2,20120610,1836, 35.9888, 164.9837, 5639,    128.2,  15.7807,  34.6453,2,-999.0000,9,    235.2,2,     4.83,2,     4.12,2,     0.03,2,     0.29,2,   -999.0,9,   -999.0,9,-999.0000,9,  -999.00,     1923
  49UP20120602,RF1205,  4415,  1,     23,  22096,2,20120610,1836, 35.9888, 164.9837, 5639,    152.0,  15.5606,  34.6274,2,-999.0000,9,    233.5,2,     5.44,6,     4.49,6,     0.05,6,     0.32,6,   -999.0,9,   -999.0,9,-999.0000,9,  -999.00,     1921
  49UP20120602,RF1205,  4415,  1,     22,  22111,2,20120610,1836, 35.9888, 164.9837, 5639,    202.5,  14.5954,  34.5454,2,-999.0000,9,    221.6,2,     8.76,2,     7.36,2,     0.02,2,     0.52,2,   -999.0,9,   -999.0,9,-999.0000,9,  -999.00,     1919
  49UP20120602,RF1205,  4415,  1,     21,  22094,2,20120610,1836, 35.9888, 164.9837, 5639,    251.7,  13.5281,  34.4628,2,-999.0000,9,    226.0,2,    10.89,2,     8.58,2,     0.01,2,     0.62,2,   -999.0,9,   -999.0,9,-999.0000,9,  -999.00,     1917
  49UP20120602,RF1205,  4415,  1,     20,  22093,2,20120610,1836, 35.9888, 164.9837, 5639,    302.9,  12.8733,  34.4310,2,-999.0000,9,    241.0,2,    10.72,2,     8.11,2,     0.01,2,     0.59,2,   -999.0,9,   -999.0,9,-999.0000,9,  -999.00,     1915
  49UP20120602,RF1205,  4415,  1,     19,  22092,2,20120610,1836, 35.9888, 164.9837, 5639,    410.3,  10.6405,  34.2239,2,-999.0000,9,    211.5,2,    20.87,2,    14.45,2,     0.01,2,     1.05,2,   -999.0,9,   -999.0,9,-999.0000,9,  -999.00,     1912
  49UP20120602,RF1205,  4415,  1,     15,  22088,2,20120610,1836, 35.9888, 164.9837, 5639,    508.4,   8.2638,  34.0689,2,-999.0000,9,    181.0,2,    36.84,2,    21.61,2,     0.01,2,     1.58,2,   -999.0,9,   -999.0,9,-999.0000,9,  -999.00,     1909
  49UP20120602,RF1205,  4415,  1,     14,  21999,2,20120610,1836, 35.9888, 164.9837, 5639,    608.9,   5.9409,  33.9991,2,-999.0000,9,    137.6,6,    61.23,6,    29.87,6,     0.01,6,     2.20,6,   -999.0,9,   -999.0,9,-999.0000,9,  -999.00,     1906
  49UP20120602,RF1205,  4415,  1,     13,  22086,2,20120610,1836, 35.9888, 164.9837, 5639,    707.7,   5.0283,  34.0403,2,-999.0000,9,    103.3,2,    78.32,2,    34.51,2,     0.01,2,     2.53,2,   -999.0,9,   -999.0,9,-999.0000,9,  -999.00,     1903
  49UP20120602,RF1205,  4415,  1,     12,  22074,2,20120610,1836, 35.9888, 164.9837, 5639,    806.1,   4.5110,  34.1384,2,-999.0000,9,     73.1,2,    95.09,2,    37.57,2,     0.00,2,     2.75,2,   -999.0,9,   -999.0,9,-999.0000,9,  -999.00,     1900
  49UP20120602,RF1205,  4415,  1,     11,  22110,2,20120610,1836, 35.9888, 164.9837, 5639,    906.5,   4.1026,  34.2029,2,-999.0000,9,     55.9,2,   107.00,2,    39.46,2,     0.00,2,     2.87,2,   -999.0,9,   -999.0,9,-999.0000,9,  -999.00,     1858
  49UP20120602,RF1205,  4415,  1,      7,  22106,2,20120610,1836, 35.9888, 164.9837, 5639,   1008.8,   3.6789,  34.2764,2,-999.0000,9,     40.2,2,   119.55,2,    41.28,2,     0.00,2,     2.99,2,   -999.0,9,   -999.0,9,-999.0000,9,  -999.00,     1855
  49UP20120602,RF1205,  4415,  1,      6,  22113,2,20120610,1836, 35.9888, 164.9837, 5639,   1210.2,   3.1076,  34.3816,2,-999.0000,9,     31.3,2,   136.37,2,    42.39,2,     0.00,2,     3.08,2,   -999.0,9,   -999.0,9,-999.0000,9,  -999.00,     1851
  49UP20120602,RF1205,  4415,  1,      5,  22078,2,20120610,1836, 35.9888, 164.9837, 5639,   1415.6,   2.7216,  34.4556,2,-999.0000,9,     31.6,2,   148.65,2,    42.89,2,     0.00,2,     3.09,2,   -999.0,9,   -999.0,9,-999.0000,9,  -999.00,     1847
  49UP20120602,RF1205,  4415,  1,      4,  22077,2,20120610,1836, 35.9888, 164.9837, 5639,   1616.9,   2.4665,  34.5004,2,-999.0000,9,     38.3,2,   154.79,2,    42.79,2,     0.00,2,     3.06,2,   -999.0,9,   -999.0,9,-999.0000,9,  -999.00,     1843
  49UP20120602,RF1205,  4415,  1,      3,  22104,2,20120610,1836, 35.9888, 164.9837, 5639,   1821.1,   2.1925,  34.5433,2,-999.0000,9,     50.3,2,   161.77,2,    42.10,2,     0.00,2,     3.01,2,   -999.0,9,   -999.0,9,-999.0000,9,  -999.00,     1840
  49UP20120602,RF1205,  4415,  1,      1,  22082,2,20120610,1836, 35.9888, 164.9837, 5639,   2024.5,   2.0333,  34.5770,2,-999.0000,9,     63.2,2,   163.65,2,    41.45,2,     0.00,2,     2.95,2,   -999.0,9,   -999.0,9,-999.0000,9,  -999.00,     1836
  49UP20120602,RF1205,  4415,  1,      2,  22075,2,20120610,1836, 35.9888, 164.9837, 5639,   2025.3,   2.0331,  34.5769,2,-999.0000,9,     63.3,2,   163.27,2,    41.27,2,     0.00,2,     2.95,2,   -999.0,9,   -999.0,9,-999.0000,9,  -999.00,     1836
  49UP20120602,RF1205,  4416,  1,     99,     99,2,20120611,0128, 37.0002, 164.9917, 4348,      0.0,  16.9201,  34.6301,2,-999.0000,9,    248.8,2,     2.74,2,     0.28,2,     0.06,2,     0.07,2,   -999.0,9,   -999.0,9,-999.0000,9,  -999.00,      210
  49UP20120602,RF1205,  4416,  1,     33,  21996,2,20120611,0128, 37.0002, 164.9917, 4348,     10.8,  16.9244,  34.6305,2,  34.6310,2,    248.7,2,     2.74,2,     0.31,2,     0.06,2,     0.07,2,   -999.0,9,   -999.0,9,-999.0000,9,  -999.00,      231
  49UP20120602,RF1205,  4416,  1,     32,  22105,2,20120611,0128, 37.0002, 164.9917, 4348,     26.3,  16.8577,  34.6289,2,-999.0000,9,    248.5,2,     2.80,2,     0.35,2,     0.07,2,     0.07,2,   -999.0,9,   -999.0,9,-999.0000,9,  -999.00,      230
  49UP20120602,RF1205,  4416,  1,     31,  22076,2,20120611,0128, 37.0002, 164.9917, 4348,     51.8,  16.8236,  34.6279,2,  34.6290,2,    246.6,2,     2.88,2,     0.50,2,     0.10,2,     0.09,2,   -999.0,9,   -999.0,9,-999.0000,9,  -999.00,      226
  49UP20120602,RF1205,  4416,  1,     30,  22103,2,20120611,0128, 37.0002, 164.9917, 4348,     51.8,  16.8236,  34.6279,2,  34.6283,2,    246.6,2,     2.88,2,     0.48,2,     0.09,2,     0.09,2,   -999.0,9,   -999.0,9,-999.0000,9,  -999.00,      226
  49UP20120602,RF1205,  4416,  1,     29,  22102,2,20120611,0128, 37.0002, 164.9917, 4348,     77.0,  16.3491,  34.6835,2,-999.0000,9,    237.5,2,     3.58,2,     2.70,2,     0.54,2,     0.22,2,   -999.0,9,   -999.0,9,-999.0000,9,  -999.00,      225
  49UP20120602,RF1205,  4416,  1,     27,  21998,2,20120611,0128, 37.0002, 164.9917, 4348,    101.4,  16.2404,  34.6912,2,  34.6908,2,    234.8,2,     3.89,2,     3.64,2,     0.05,2,     0.25,2,   -999.0,9,   -999.0,9,-999.0000,9,  -999.00,      223
  49UP20120602,RF1205,  4416,  1,     24,  22097,2,20120611,0128, 37.0002, 164.9917, 4348,    127.4,  16.2087,  34.6906,2,-999.0000,9,    235.6,2,     3.94,2,     3.62,2,     0.03,2,     0.25,2,   -999.0,9,   -999.0,9,-999.0000,9,  -999.00,      221
  49UP20120602,RF1205,  4416,  1,     23,  22096,2,20120611,0128, 37.0002, 164.9917, 4348,    154.0,  16.1928,  34.6901,2,-999.0000,9,    235.6,2,     4.01,2,     3.63,2,     0.02,2,     0.26,2,   -999.0,9,   -999.0,9,-999.0000,9,  -999.00,      220
  49UP20120602,RF1205,  4416,  1,     22,  22111,2,20120611,0128, 37.0002, 164.9917, 4348,    203.9,  16.1576,  34.6878,2,  34.6875,2,    236.1,6,     4.01,6,     3.55,6,     0.02,6,     0.26,6,   -999.0,9,   -999.0,9,-999.0000,9,  -999.00,      217
  49UP20120602,RF1205,  4416,  1,     21,  22094,2,20120611,0128, 37.0002, 164.9917, 4348,    254.7,  16.0297,  34.6725,2,-999.0000,9,    234.4,2,     4.47,2,     3.84,2,     0.01,2,     0.28,2,   -999.0,9,   -999.0,9,-999.0000,9,  -999.00,      214
  49UP20120602,RF1205,  4416,  1,     20,  22093,2,20120611,0128, 37.0002, 164.9917, 4348,    303.7,  15.5082,  34.6108,2,-999.0000,9,    227.4,2,     6.18,2,     5.32,2,     0.01,2,     0.38,2,   -999.0,9,   -999.0,9,-999.0000,9,  -999.00,      212
  49UP20120602,RF1205,  4416,  1,     19,  22092,2,20120611,0128, 37.0002, 164.9917, 4348,    404.8,  13.7810,  34.4775,2,  34.4782,2,    221.7,2,    10.43,2,     8.61,2,     0.01,2,     0.62,2,   -999.0,9,   -999.0,9,-999.0000,9,  -999.00,      209
  49UP20120602,RF1205,  4416,  1,     15,  22088,2,20120611,0128, 37.0002, 164.9917, 4348,    505.5,  12.3126,  34.3744,2,-999.0000,9,    224.4,2,    10.69,2,     8.44,2,     0.01,2,     0.61,2,   -999.0,9,   -999.0,9,-999.0000,9,  -999.00,      206
  49UP20120602,RF1205,  4416,  1,     14,  21999,2,20120611,0128, 37.0002, 164.9917, 4348,    606.1,   9.8282,  34.1705,2,  34.1722,2,    196.6,2,    26.84,2,    17.27,2,     0.01,2,     1.26,2,   -999.0,9,   -999.0,9,-999.0000,9,  -999.00,      204
  49UP20120602,RF1205,  4416,  1,     13,  22086,2,20120611,0128, 37.0002, 164.9917, 4348,    707.2,   6.8595,  33.9967,2,-999.0000,9,    161.1,2,    49.03,2,    26.13,2,     0.00,2,     1.92,2,   -999.0,9,   -999.0,9,-999.0000,9,  -999.00,      201
  49UP20120602,RF1205,  4416,  1,     12,  22074,2,20120611,0128, 37.0002, 164.9917, 4348,    809.1,   5.1818,  33.9965,2,  33.9977,2,    117.3,2,    72.44,2,    32.99,2,     0.00,2,     2.43,2,   -999.0,9,   -999.0,9,-999.0000,9,  -999.00,      158
  49UP20120602,RF1205,  4416,  1,     11,  22110,2,20120611,0128, 37.0002, 164.9917, 4348,    909.7,   4.6693,  34.0943,2,-999.0000,9,     82.9,2,    88.64,2,    36.73,2,     0.00,2,     2.68,2,   -999.0,9,   -999.0,9,-999.0000,9,  -999.00,      155
  49UP20120602,RF1205,  4416,  1,     10,  22083,2,20120611,0128, 37.0002, 164.9917, 4348,   1012.0,   4.1768,  34.1853,2,  34.1848,2,     56.8,2,   103.98,2,    39.41,2,     0.00,2,     2.86,2,   -999.0,9,   -999.0,9,-999.0000,9,  -999.00,      152
  49UP20120602,RF1205,  4416,  1,      6,  22113,2,20120611,0128, 37.0002, 164.9917, 4348,   1213.6,   3.4351,  34.3262,2,  34.3266,6,     37.2,2,   127.02,2,    41.84,2,     0.00,2,     3.02,2,   -999.0,9,   -999.0,9,-999.0000,9,  -999.00,      147
  49UP20120602,RF1205,  4416,  1,      5,  22078,2,20120611,0128, 37.0002, 164.9917, 4348,   1416.2,   2.9652,  34.4117,2,  34.4116,2,     29.9,2,   141.54,2,    42.83,2,     0.00,2,     3.09,2,   -999.0,9,   -999.0,9,-999.0000,9,  -999.00,      143
  49UP20120602,RF1205,  4416,  1,      4,  22077,2,20120611,0128, 37.0002, 164.9917, 4348,   1618.6,   2.6117,  34.4766,2,  34.4762,2,     34.4,2,   151.48,2,    42.99,2,     0.00,2,     3.08,2,   -999.0,9,   -999.0,9,-999.0000,9,  -999.00,      138
  49UP20120602,RF1205,  4416,  1,      3,  22104,2,20120611,0128, 37.0002, 164.9917, 4348,   1822.7,   2.3459,  34.5184,2,  34.5186,2,     42.8,2,   158.43,2,    42.42,2,     0.00,2,     3.04,2,   -999.0,9,   -999.0,9,-999.0000,9,  -999.00,      133
  49UP20120602,RF1205,  4416,  1,      2,  22075,2,20120611,0128, 37.0002, 164.9917, 4348,   2024.4,   2.1158,  34.5603,2,  34.5612,2,     55.7,2,   162.88,2,    41.66,2,     0.00,2,     2.97,2,   -999.0,9,   -999.0,9,-999.0000,9,  -999.00,      129
  49UP20120602,RF1205,  4416,  1,      1,  22082,2,20120611,0128, 37.0002, 164.9917, 4348,   2025.1,   2.1149,  34.5604,2,-999.0000,9,     56.2,6,   162.79,6,    41.84,6,     0.00,6,     2.99,6,   -999.0,9,   -999.0,9,-999.0000,9,  -999.00,      128
  49UP20120602,RF1205,  4417,  1,     99,     99,2,20120611,0819, 38.0020, 164.9735, 5469,      0.0,  18.1360,  34.6050,2,-999.0000,9,    239.4,2,     2.08,2,     0.01,2,     0.00,2,     0.04,2,   -999.0,9,   -999.0,9,-999.0000,9,  -999.00,      855
  49UP20120602,RF1205,  4417,  1,     33,  21996,2,20120611,0819, 38.0020, 164.9735, 5469,     10.3,  18.1356,  34.6047,2,-999.0000,9,    239.6,2,     2.13,2,     0.02,2,     0.00,2,     0.03,2,   -999.0,9,   -999.0,9,-999.0000,9,  -999.00,      918
  49UP20120602,RF1205,  4417,  1,     32,  22105,2,20120611,0819, 38.0020, 164.9735, 5469,     26.0,  18.1376,  34.6134,2,-999.0000,9,    239.8,2,     2.13,2,     0.00,2,     0.00,2,     0.03,2,   -999.0,9,   -999.0,9,-999.0000,9,  -999.00,      917
  49UP20120602,RF1205,  4417,  1,     31,  22076,2,20120611,0819, 38.0020, 164.9735, 5469,     26.0,  18.1376,  34.6134,2,-999.0000,9,    240.1,2,     2.00,2,     0.00,2,     0.00,2,     0.04,2,   -999.0,9,   -999.0,9,-999.0000,9,  -999.00,      917
  49UP20120602,RF1205,  4417,  1,     30,  22103,2,20120611,0819, 38.0020, 164.9735, 5469,     51.2,  17.0172,  34.5566,2,-999.0000,9,    243.9,2,     2.30,2,     0.14,2,     0.02,2,     0.08,2,   -999.0,9,   -999.0,9,-999.0000,9,  -999.00,      916
  49UP20120602,RF1205,  4417,  1,     29,  22102,2,20120611,0819, 38.0020, 164.9735, 5469,     75.9,  16.7431,  34.5816,2,-999.0000,9,    245.1,2,     2.61,2,     0.47,2,     0.05,2,     0.12,2,   -999.0,9,   -999.0,9,-999.0000,9,  -999.00,      914
  49UP20120602,RF1205,  4417,  1,     27,  21998,2,20120611,0819, 38.0020, 164.9735, 5469,    101.5,  16.5147,  34.6664,2,-999.0000,9,    218.1,2,     5.61,2,     4.91,2,     0.04,2,     0.34,2,   -999.0,9,   -999.0,9,-999.0000,9,  -999.00,      909
  49UP20120602,RF1205,  4417,  1,     24,  22097,2,20120611,0819, 38.0020, 164.9735, 5469,    127.0,  15.9248,  34.6277,2,-999.0000,9,    209.2,2,     7.32,2,     6.70,2,     0.03,2,     0.47,2,   -999.0,9,   -999.0,9,-999.0000,9,  -999.00,      907
  49UP20120602,RF1205,  4417,  1,     23,  22096,2,20120611,0819, 38.0020, 164.9735, 5469,    152.2,  15.4688,  34.6142,2,-999.0000,9,    233.4,2,     5.70,2,     4.81,2,     0.03,2,     0.35,2,   -999.0,9,   -999.0,9,-999.0000,9,  -999.00,      906
  49UP20120602,RF1205,  4417,  1,     22,  22111,2,20120611,0819, 38.0020, 164.9735, 5469,    203.1,  14.2063,  34.5127,2,-999.0000,9,    233.2,2,     8.38,2,     6.81,2,     0.02,2,     0.49,2,   -999.0,9,   -999.0,9,-999.0000,9,  -999.00,      904
  49UP20120602,RF1205,  4417,  1,     21,  22094,2,20120611,0819, 38.0020, 164.9735, 5469,    253.8,  13.1773,  34.4380,2,-999.0000,9,    231.4,6,    11.12,6,     8.66,6,     0.01,6,     0.63,6,   -999.0,9,   -999.0,9,-999.0000,9,  -999.00,      902
  49UP20120602,RF1205,  4417,  1,     20,  22093,2,20120611,0819, 38.0020, 164.9735, 5469,    304.7,  12.3684,  34.3833,2,-999.0000,9,    230.4,2,    13.31,2,     9.96,2,     0.01,2,     0.73,2,   -999.0,9,   -999.0,9,-999.0000,9,  -999.00,      900
  49UP20120602,RF1205,  4417,  1,     19,  22092,2,20120611,0819, 38.0020, 164.9735, 5469,    406.9,  10.2957,  34.2140,2,-999.0000,9,    222.3,2,    20.99,2,    14.20,2,     0.01,2,     1.05,2,   -999.0,9,   -999.0,9,-999.0000,9,  -999.00,      857
  49UP20120602,RF1205,  4417,  1,     15,  22088,2,20120611,0819, 38.0020, 164.9735, 5469,    505.7,   7.8999,  34.0171,2,-999.0000,9,    199.7,2,    35.14,2,    20.58,2,     0.01,2,     1.53,2,   -999.0,9,   -999.0,9,-999.0000,9,  -999.00,      855
  49UP20120602,RF1205,  4417,  1,     14,  21999,2,20120611,0819, 38.0020, 164.9735, 5469,    605.9,   6.2718,  33.9900,2,-999.0000,9,    148.8,2,    56.75,2,    28.57,2,     0.00,2,     2.11,2,   -999.0,9,   -999.0,9,-999.0000,9,  -999.00,      852
  49UP20120602,RF1205,  4417,  1,     13,  22086,2,20120611,0819, 38.0020, 164.9735, 5469,    708.2,   5.0499,  34.0341,2,-999.0000,9,    105.6,2,    77.30,2,    34.38,2,     0.00,2,     2.52,2,   -999.0,9,   -999.0,9,-999.0000,9,  -999.00,      849
  49UP20120602,RF1205,  4417,  1,     12,  22074,2,20120611,0819, 38.0020, 164.9735, 5469,    809.4,   4.5508,  34.1140,2,-999.0000,9,     76.9,2,    91.71,2,    37.72,2,     0.00,2,     2.74,2,   -999.0,9,   -999.0,9,-999.0000,9,  -999.00,      847
  49UP20120602,RF1205,  4417,  1,     11,  22110,2,20120611,0819, 38.0020, 164.9735, 5469,    909.5,   4.1429,  34.1952,2,-999.0000,9,     56.7,2,   105.20,2,    39.75,2,     0.00,2,     2.88,2,   -999.0,9,   -999.0,9,-999.0000,9,  -999.00,      844
  49UP20120602,RF1205,  4417,  1,     10,  22083,2,20120611,0819, 38.0020, 164.9735, 5469,   1012.9,   3.7616,  34.2535,2,-999.0000,9,     44.1,2,   116.69,2,    41.00,2,     0.00,2,     2.98,2,   -999.0,9,   -999.0,9,-999.0000,9,  -999.00,      841
  49UP20120602,RF1205,  4417,  1,      6,  22113,2,20120611,0819, 38.0020, 164.9735, 5469,   1213.4,   3.2254,  34.3626,2,-999.0000,9,     33.0,2,   133.85,2,    42.70,2,     0.00,2,     3.07,2,   -999.0,9,   -999.0,9,-999.0000,9,  -999.00,      836
  49UP20120602,RF1205,  4417,  1,      5,  22078,2,20120611,0819, 38.0020, 164.9735, 5469,   1415.6,   2.8008,  34.4433,2,-999.0000,9,     31.3,2,   146.49,2,    43.11,2,     0.00,2,     3.10,2,   -999.0,9,   -999.0,9,-999.0000,9,  -999.00,      832
  49UP20120602,RF1205,  4417,  1,      4,  22077,2,20120611,0819, 38.0020, 164.9735, 5469,   1619.7,   2.4801,  34.4980,2,-999.0000,9,     38.3,2,   155.61,2,    43.02,2,     0.00,2,     3.07,2,   -999.0,9,   -999.0,9,-999.0000,9,  -999.00,      828
  49UP20120602,RF1205,  4417,  1,      3,  22104,2,20120611,0819, 38.0020, 164.9735, 5469,   1820.8,   2.2236,  34.5364,2,-999.0000,9,     48.6,6,   161.76,6,    42.50,6,     0.00,6,     3.02,6,   -999.0,9,   -999.0,9,-999.0000,9,  -999.00,      824
  49UP20120602,RF1205,  4417,  1,      2,  22075,2,20120611,0819, 38.0020, 164.9735, 5469,   2023.5,   2.0517,  34.5682,2,-999.0000,9,     60.1,2,   163.73,2,    41.72,2,     0.00,2,     2.97,2,   -999.0,9,   -999.0,9,-999.0000,9,  -999.00,      819
  49UP20120602,RF1205,  4417,  1,      1,  22082,2,20120611,0819, 38.0020, 164.9735, 5469,   2024.8,   2.0513,  34.5685,2,-999.0000,9,     59.5,2,   163.66,2,    41.79,2,     0.00,2,     2.98,2,   -999.0,9,   -999.0,9,-999.0000,9,  -999.00,      819