BOTTLE,20200205PRINUNIVRMK
EXPOCODE,SECT_ID,STNNBR,CASTNO,SAMPNO,BTLNBR,BTLNBR_FLAG_W,DATE,TIME,LATITUDE,LONGITUDE,DEPTH,CTDPRS,CTDTMP,CTDSAL,CTDSAL_FLAG_W,SALNTY,SALNTY_FLAG_W,OXYGEN,OXYGEN_FLAG_W,SILCAT,SILCAT_FLAG_W,NITRAT,NITRAT_FLAG_W,NITRIT,NITRIT_FLAG_W,PHSPHT,PHSPHT_FLAG_W,TCARBN,TCARBN_FLAG_W,ALKALI,ALKALI_FLAG_W,PH_TOT,PH_TOT_FLAG_W,PH_TMP,BTL_TIME
,,,,,,,,,,,METERS,DBAR,ITS-90,PSS-78,,PSS-78,,UMOL/KG,,UMOL/KG,,UMOL/KG,,UMOL/KG,,UMOL/KG,,UMOL/KG,,UMOL/KG,,,,DEG C,
  49UP20120602,RF1205,  4424,  1,     99,     99,2,20120618,0600, 39.6852, 147.8940, 5344,      0.0,  15.7951,  34.1301,2,  34.1196,2,    255.1,2,     2.46,2,    -0.01,2,     0.01,2,     0.13,2,   2000.4,2,   2267.2,2,   8.0002,2,    25.00,      739
  49UP20120602,RF1205,  4424,  1,     36,  22109,2,20120618,0600, 39.6852, 147.8940, 5344,     10.3,  15.7908,  34.1271,2,  34.1293,2,    254.0,2,     2.46,2,     0.00,2,     0.00,2,     0.07,2,   2000.5,2,   2269.0,2,   7.9985,2,    25.00,      822
  49UP20120602,RF1205,  4424,  1,     35,  21997,2,20120618,0600, 39.6852, 147.8940, 5344,     25.3,  15.5868,  34.1415,2,-999.0000,9,    254.6,2,     2.55,2,    -0.01,2,     0.01,2,     0.08,2,   1999.5,2,   2271.0,2,   7.9977,2,    25.00,      821
  49UP20120602,RF1205,  4424,  1,     34,  22107,2,20120618,0600, 39.6852, 147.8940, 5344,     48.7,   9.4848,  33.9392,2,  33.9414,2,    256.8,2,    13.73,2,    10.47,2,     0.32,2,     0.88,2,   2087.2,2,   2262.9,2,   7.8193,2,    25.00,      820
  49UP20120602,RF1205,  4424,  1,     33,  21996,2,20120618,0600, 39.6852, 147.8940, 5344,     75.0,   7.7640,  33.8859,2,-999.0000,9,    255.6,2,    21.29,2,    14.64,2,     0.03,2,     1.13,2,   2108.3,2,   2265.6,2,   7.7604,2,    25.00,      819
  49UP20120602,RF1205,  4424,  1,     32,  22105,2,20120618,0600, 39.6852, 147.8940, 5344,    100.9,   6.0256,  33.6950,2,  33.6979,6,    265.3,2,    26.24,2,    16.65,2,     0.02,2,     1.31,2,   2130.0,2,   2262.0,2,   7.7207,2,    25.00,      817
  49UP20120602,RF1205,  4424,  1,     31,  22076,3,20120618,0600, 39.6852, 147.8940, 5344,    127.1,   5.0869,  33.6121,2,-999.0000,9,    275.9,2,    29.97,2,    17.62,2,     0.02,2,     1.39,2,   2133.4,2,   2260.2,2,   7.7001,2,    25.00,      816
  49UP20120602,RF1205,  4424,  1,     30,  22103,2,20120618,0600, 39.6852, 147.8940, 5344,    152.0,   4.2919,  33.5307,2,  33.5371,4,    283.6,6,    31.41,6,    18.22,6,     0.02,6,     1.45,6,   2133.6,2,   2256.4,2,   7.6945,2,    25.00,      815
  49UP20120602,RF1205,  4424,  1,     29,  22102,2,20120618,0600, 39.6852, 147.8940, 5344,    203.5,   3.7335,  33.5209,2,  33.5187,2,    265.7,2,    39.81,2,    21.18,2,     0.02,2,     1.65,2,   2156.6,2,   2260.6,2,   7.6352,2,    25.00,      813
  49UP20120602,RF1205,  4424,  1,     28,  22101,2,20120618,0600, 39.6852, 147.8940, 5344,    254.7,   2.1000,  33.4664,2,-999.0000,9,    213.6,2,    65.07,2,    30.55,2,     0.02,2,     2.35,2,   2224.5,2,   2269.2,2,   7.4728,2,    25.00,      811
  49UP20120602,RF1205,  4424,  1,     27,  21998,2,20120618,0600, 39.6852, 147.8940, 5344,    303.0,   2.4038,  33.5977,2,  33.5904,4,    159.6,2,    79.05,2,    35.26,2,     0.01,2,     2.64,2,   2260.6,2,   2281.0,2,   7.3849,2,    25.00,      807
  49UP20120602,RF1205,  4424,  1,     26,  22099,2,20120618,0600, 39.6852, 147.8940, 5344,    406.1,   3.1454,  33.8320,2,  33.8253,4,     95.8,2,    93.46,2,    39.03,2,     0.01,2,     2.86,2,   2299.5,2,   2298.1,2,   7.3261,2,    25.00,      803
  49UP20120602,RF1205,  4424,  1,     25,  22098,2,20120618,0600, 39.6852, 147.8940, 5344,    510.6,   3.2464,  34.0041,2,-999.0000,9,     45.7,2,   111.70,2,    42.59,2,     0.00,2,     3.07,2,   2338.7,2,   2320.5,2,   7.2709,2,    25.00,      759
  49UP20120602,RF1205,  4424,  1,     24,  22097,2,20120618,0600, 39.6852, 147.8940, 5344,    609.3,   3.3065,  34.1460,2,  34.1451,6,     35.1,2,   121.85,2,    42.69,2,     0.01,2,     3.07,2,   2352.1,2,   2336.8,2,   7.2865,2,    25.00,      755
  49UP20120602,RF1205,  4424,  1,     23,  22096,2,20120618,0600, 39.6852, 147.8940, 5344,    711.0,   3.4410,  34.2755,2,-999.0000,9,     41.2,2,   125.64,2,    41.66,2,     0.00,2,     3.01,2,   2351.2,2,   2352.5,2,   7.3242,2,    25.00,      750
  49UP20120602,RF1205,  4424,  1,     22,  22111,2,20120618,0600, 39.6852, 147.8940, 5344,    812.2,   2.9333,  34.2940,2,  34.2903,2,     25.7,2,   140.65,2,    43.37,2,     0.00,2,     3.12,2,   2370.8,2,   2361.7,2,   7.2931,2,    25.00,      747
  49UP20120602,RF1205,  4424,  1,     21,  22094,2,20120618,0600, 39.6852, 147.8940, 5344,    914.2,   2.8761,  34.3701,2,-999.0000,9,     35.6,2,   143.15,2,    42.57,2,     0.00,2,     3.07,2,   2370.7,2,   2372.8,2,   7.3365,2,    25.00,      743
  49UP20120602,RF1205,  4424,  1,     20,  22093,2,20120618,0600, 39.6852, 147.8940, 5344,   1014.5,   2.6927,  34.3872,2,  34.3803,4,     33.2,2,   149.59,2,    42.91,2,     0.00,2,     3.09,2,   2377.4,2,   2373.5,2,   7.3188,2,    25.00,      738
  49UP20120602,RF1205,  4424,  1,     19,  22092,2,20120618,0600, 39.6852, 147.8940, 5344,   1215.1,   2.4946,  34.4597,2,  34.4575,6,     41.2,2,   154.75,2,    42.52,2,     0.00,2,     3.06,2,   2380.7,2,   2383.4,2,   7.3426,2,    25.00,      725
  49UP20120602,RF1205,  4424,  1,     18,  22091,2,20120618,0600, 39.6852, 147.8940, 5344,   1414.3,   2.3171,  34.5032,2,  34.5030,2,     46.8,2,   159.45,2,    42.29,2,     0.00,2,     3.04,2,   2382.2,2,   2395.5,2,   7.3581,2,    25.00,      718
  49UP20120602,RF1205,  4424,  1,     17,  22090,2,20120618,0600, 39.6852, 147.8940, 5344,   1618.3,   2.1583,  34.5483,2,  34.5478,2,     57.9,4,   161.64,2,    41.86,2,     0.00,2,     2.99,2,   2380.4,2,   2398.7,2,   7.3853,2,    25.00,      713
  49UP20120602,RF1205,  4424,  1,     16,  22089,2,20120618,0600, 39.6852, 147.8940, 5344,   1822.3,   2.0269,  34.5759,2,  34.5750,2,     67.3,2,   162.91,2,    41.35,2,     0.00,2,     2.94,2,   2377.6,6,   2407.1,6,   7.4079,2,    25.00,      658
  49UP20120602,RF1205,  4424,  1,     15,  22088,2,20120618,0600, 39.6852, 147.8940, 5344,   2025.1,   1.8907,  34.6023,2,  34.6016,2,     79.9,2,   162.92,2,    40.60,2,     0.00,2,     2.88,2,   2371.4,2,   2412.2,2,   7.4350,6,    25.00,      654
  49UP20120602,RF1205,  4424,  1,     14,  21999,2,20120618,0600, 39.6852, 147.8940, 5344,   2277.4,   1.7509,  34.6265,2,  34.6267,6,     96.3,2,   162.24,2,    39.48,2,     0.00,2,     2.80,2,   2368.0,2,   2407.8,3,   7.4604,2,    25.00,      649
  49UP20120602,RF1205,  4424,  1,     13,  22086,2,20120618,0600, 39.6852, 147.8940, 5344,   2534.1,   1.6509,  34.6439,2,  34.6415,2,    109.3,6,   160.63,6,    38.80,6,     0.00,6,     2.74,6,   2355.2,2,   2413.9,2,   7.4940,2,    25.00,      645
  49UP20120602,RF1205,  4424,  1,     12,  22074,2,20120618,0600, 39.6852, 147.8940, 5344,   2789.6,   1.5825,  34.6557,2,  34.6571,2,    119.9,2,   158.81,2,    38.02,2,     0.00,2,     2.69,2,   2350.0,2,   2413.9,2,   7.5097,2,    25.00,      641
  49UP20120602,RF1205,  4424,  1,     11,  22110,2,20120618,0600, 39.6852, 147.8940, 5344,   3043.7,   1.5351,  34.6645,2,  34.6681,4,    128.7,2,   156.84,2,    37.44,2,     0.00,2,     2.64,2,   2343.4,6,   2413.2,6,   7.5259,2,    25.00,      638
  49UP20120602,RF1205,  4424,  1,     10,  22083,2,20120618,0600, 39.6852, 147.8940, 5344,   3298.0,   1.5014,  34.6711,2,  34.6720,6,    136.3,2,   155.20,2,    37.05,2,     0.00,2,     2.61,2,   2339.7,2,   2411.0,2,   7.5376,2,    25.00,      634
  49UP20120602,RF1205,  4424,  1,      9,  22108,2,20120618,0600, 39.6852, 147.8940, 5344,   3554.8,   1.4795,  34.6762,2,  34.6765,2,    141.4,2,   153.33,2,    36.69,2,     0.00,2,     2.57,2,   2336.4,2,   2411.6,2,   7.5540,6,    25.00,      630
  49UP20120602,RF1205,  4424,  1,      8,  22081,2,20120618,0600, 39.6852, 147.8940, 5344,   3812.7,   1.4659,  34.6804,2,  34.6810,6,    147.1,2,   152.45,2,    36.29,2,     0.00,2,     2.54,2,   2330.0,2,   2410.1,2,   7.5658,2,    25.00,      626
  49UP20120602,RF1205,  4424,  1,      7,  22106,2,20120618,0600, 39.6852, 147.8940, 5344,   4066.7,   1.4564,  34.6842,2,  34.6843,2,    151.8,6,   151.19,6,    36.02,6,     0.00,6,     2.53,6,   2329.2,2,   2410.3,2,   7.5670,2,    25.00,      622
  49UP20120602,RF1205,  4424,  1,      6,  22113,2,20120618,0600, 39.6852, 147.8940, 5344,   4327.9,   1.4603,  34.6868,2,  34.6870,2,    155.0,2,   150.14,2,    35.80,2,     0.00,2,     2.51,2,   2326.7,6,   2412.0,2,   7.5704,2,    25.00,      619
  49UP20120602,RF1205,  4424,  1,      5,  22078,2,20120618,0600, 39.6852, 147.8940, 5344,   4584.3,   1.4709,  34.6889,2,  34.6891,2,    157.7,2,   149.68,2,    35.59,2,     0.00,2,     2.48,2,   2323.7,2,   2409.9,2,   7.5749,6,    25.00,      614
  49UP20120602,RF1205,  4424,  1,      4,  22077,2,20120618,0600, 39.6852, 147.8940, 5344,   5096.7,   1.5185,  34.6904,2,  34.6905,6,    159.8,2,   148.79,2,    35.43,2,     0.00,2,     2.48,2,   2323.6,2,   2410.5,2,   7.5766,2,    25.00,      606
  49UP20120602,RF1205,  4424,  1,      3,  22104,2,20120618,0600, 39.6852, 147.8940, 5344,   5355.6,   1.5429,  34.6911,2,  34.6913,2,    161.7,2,   147.75,2,    35.36,2,     0.00,2,     2.47,2,   2320.1,2,   2407.3,2,   7.5820,2,    25.00,      602
  49UP20120602,RF1205,  4424,  1,      2,  22075,2,20120618,0600, 39.6852, 147.8940, 5344,   5430.5,   1.5504,  34.6913,2,  34.6908,2,    161.7,2,   147.78,2,    35.31,2,     0.01,2,     2.47,2,   2320.2,2,   2409.5,2,   7.5817,2,    25.00,      600
  49UP20120602,RF1205,  4424,  1,      1,  22080,2,20120618,0600, 39.6852, 147.8940, 5344,   5430.8,   1.5502,  34.6914,2,  34.6904,2,    160.7,2,   147.64,2,    35.43,2,     0.01,2,     2.49,2,   -999.0,9,   -999.0,9,-999.0000,9,  -999.00,      600
  49UP20120602,RF1205,  4425,  1,     99,     99,2,20120704,1409, 37.0300, 149.7077, 5914,      0.0,  23.8473,  34.1527,2,  34.1510,2,    213.4,2,     1.10,2,     0.10,2,     0.00,2,     0.06,2,   1933.7,2,   2247.4,2,   8.0686,2,    25.00,     2032
  49UP20120602,RF1205,  4425,  1,     36,  22109,2,20120704,1409, 37.0300, 149.7077, 5914,     11.7,  23.8547,  34.1515,2,  34.1531,2,    214.0,2,     1.08,2,     0.08,2,     0.00,2,     0.07,2,   1938.6,2,   2249.1,2,   8.0737,2,    25.00,     2051
  49UP20120602,RF1205,  4425,  1,     35,  21997,2,20120704,1409, 37.0300, 149.7077, 5914,     26.4,  22.9858,  34.2118,2,-999.0000,9,    219.8,2,     0.84,2,     0.09,2,     0.00,2,     0.06,2,   1950.9,2,   2256.0,2,   8.0664,2,    25.00,     2050
  49UP20120602,RF1205,  4425,  1,     34,  22107,2,20120704,1409, 37.0300, 149.7077, 5914,     51.2,  17.3371,  34.0491,2,-999.0000,9,    227.8,2,     4.37,2,     2.02,2,     0.32,2,     0.24,2,   2007.1,2,   2260.5,2,   7.9705,2,    25.00,     2049
  49UP20120602,RF1205,  4425,  1,     33,  21996,2,20120704,1409, 37.0300, 149.7077, 5914,     76.9,  14.6657,  34.3888,2,-999.0000,9,    205.6,2,    12.45,2,     8.21,2,     0.38,2,     0.67,2,   2067.6,2,   2276.5,2,   7.8780,2,    25.00,     2048
  49UP20120602,RF1205,  4425,  1,     32,  22105,2,20120704,1409, 37.0300, 149.7077, 5914,    102.3,  13.2435,  34.4616,2,  34.4577,2,    165.2,2,    23.75,2,    15.16,2,     0.01,2,     1.08,2,   2111.3,2,   2280.3,2,   7.7904,2,    25.00,     2047
  49UP20120602,RF1205,  4425,  1,     31,  22076,2,20120704,1409, 37.0300, 149.7077, 5914,    126.0,  12.2022,  34.3951,2,-999.0000,9,    163.2,2,    27.14,2,    16.71,2,     0.01,2,     1.20,2,   2122.8,2,   2284.8,2,   7.7610,2,    25.00,     2046
  49UP20120602,RF1205,  4425,  1,     30,  22103,2,20120704,1409, 37.0300, 149.7077, 5914,    151.7,  10.8854,  34.2659,2,-999.0000,9,    215.3,2,    20.58,2,    13.98,2,     0.02,2,     1.02,2,   2111.2,2,   2274.4,2,   7.7891,2,    25.00,     2042
  49UP20120602,RF1205,  4425,  1,     29,  22102,2,20120704,1409, 37.0300, 149.7077, 5914,    201.5,   8.9303,  34.0751,2,  34.0775,2,    220.0,2,    26.42,2,    16.40,2,     0.02,2,     1.21,2,   2128.3,2,   2274.7,2,   7.7417,2,    25.00,     2041
  49UP20120602,RF1205,  4425,  1,     28,  22101,2,20120704,1409, 37.0300, 149.7077, 5914,    251.8,   8.0446,  34.0127,2,-999.0000,9,    209.3,2,    32.64,2,    18.87,2,     0.01,2,     1.41,2,   2139.5,2,   2271.2,2,   7.6989,2,    25.00,     2039
  49UP20120602,RF1205,  4425,  1,     27,  21998,2,20120704,1409, 37.0300, 149.7077, 5914,    303.0,   5.2232,  33.6383,2,-999.0000,9,    257.8,2,    32.06,2,    18.75,2,     0.00,2,     1.44,2,   2134.3,2,   2260.5,6,   7.6852,2,    25.00,     2038
  49UP20120602,RF1205,  4425,  1,     26,  22099,2,20120704,1409, 37.0300, 149.7077, 5914,    403.3,   5.2830,  33.9214,2,  33.9181,4,    147.7,2,    64.71,2,    30.49,2,     0.00,2,     2.24,2,   2223.0,2,   2290.5,2,   7.5066,2,    25.00,     2035
  49UP20120602,RF1205,  4425,  1,     25,  22098,2,20120704,1409, 37.0300, 149.7077, 5914,    505.2,   4.8408,  34.0375,2,-999.0000,9,    102.6,2,    82.16,6,    35.27,6,     0.00,6,     2.56,6,   2270.0,2,   2307.7,2,   7.4236,2,    25.00,     2033
  49UP20120602,RF1205,  4425,  1,     24,  22097,2,20120704,1409, 37.0300, 149.7077, 5914,    606.3,   4.7463,  34.2084,2,  34.2089,2,     73.6,2,    96.46,2,    37.39,2,     0.00,2,     2.70,2,   2296.3,2,   2333.6,2,   7.4086,2,    25.00,     2030
  49UP20120602,RF1205,  4425,  1,     23,  22096,2,20120704,1409, 37.0300, 149.7077, 5914,    705.6,   4.2360,  34.2655,2,-999.0000,9,     60.4,2,   108.04,2,    39.27,2,     0.00,2,     2.81,2,   2323.8,2,   2344.0,2,   7.3869,2,    25.00,     2028
  49UP20120602,RF1205,  4425,  1,     22,  22111,2,20120704,1409, 37.0300, 149.7077, 5914,    809.5,   3.9635,  34.3428,2,  34.3416,2,     59.7,2,   116.24,2,    39.72,2,     0.00,2,     2.85,2,   2329.7,2,   2353.7,2,   7.3933,2,    25.00,     2026
  49UP20120602,RF1205,  4425,  1,     21,  22094,2,20120704,1409, 37.0300, 149.7077, 5914,    910.1,   3.4383,  34.3575,2,-999.0000,9,     47.9,2,   128.13,2,    41.31,2,     0.00,2,     2.96,2,   2345.0,2,   2367.4,2,   7.3620,2,    25.00,     2023
  49UP20120602,RF1205,  4425,  1,     20,  22093,2,20120704,1409, 37.0300, 149.7077, 5914,   1008.9,   3.1068,  34.3908,2,  34.3894,2,     42.0,2,   136.41,2,    42.11,2,     0.00,2,     3.01,2,   2359.9,6,   2372.4,6,   7.3503,2,    25.00,     2021
  49UP20120602,RF1205,  4425,  1,     19,  22092,2,20120704,1409, 37.0300, 149.7077, 5914,   1211.9,   2.7149,  34.4513,2,  34.4504,2,     42.7,2,   147.91,2,    42.48,2,     0.00,2,     3.04,2,   2371.9,2,   2386.8,2,   7.3531,6,    25.00,     2017
  49UP20120602,RF1205,  4425,  1,     18,  22091,2,20120704,1409, 37.0300, 149.7077, 5914,   1416.4,   2.4219,  34.5018,2,-999.0000,9,     46.3,6,   155.95,6,    42.43,6,     0.00,6,     3.03,6,   2382.4,2,   2400.3,2,   7.3630,2,    25.00,     2011
  49UP20120602,RF1205,  4425,  1,     17,  22090,2,20120704,1409, 37.0300, 149.7077, 5914,   1619.1,   2.2390,  34.5442,2,  34.5433,2,     57.8,2,   157.52,2,    41.92,2,     0.00,2,     2.97,2,   2377.4,2,   2403.0,2,   7.3916,2,    25.00,     2007
  49UP20120602,RF1205,  4425,  1,     16,  22089,2,20120704,1409, 37.0300, 149.7077, 5914,   1821.5,   2.0824,  34.5724,2,-999.0000,9,     67.6,2,   159.94,2,    41.39,2,     0.00,2,     2.93,2,   2373.3,2,   2407.0,2,   7.4072,2,    25.00,     2001
  49UP20120602,RF1205,  4425,  1,     15,  22088,2,20120704,1409, 37.0300, 149.7077, 5914,   2024.3,   1.9266,  34.6005,2,  34.6002,2,     81.9,2,   160.29,2,    40.62,2,     0.00,2,     2.86,2,   2363.8,2,   2413.5,2,   7.4353,2,    25.00,     1947
  49UP20120602,RF1205,  4425,  1,     14,  21999,2,20120704,1409, 37.0300, 149.7077, 5914,   2280.2,   1.7798,  34.6251,2,  34.6246,2,     97.7,2,   159.27,2,    39.60,2,     0.00,2,     2.79,2,   2361.1,2,   2415.3,2,   7.4679,2,    25.00,     1942
  49UP20120602,RF1205,  4425,  1,     13,  22086,2,20120704,1409, 37.0300, 149.7077, 5914,   2534.2,   1.6987,  34.6393,2,  34.6373,4,    107.3,2,   158.57,2,    38.95,2,     0.00,2,     2.73,2,   2353.2,6,   2416.7,2,   7.4866,2,    25.00,     1937
  49UP20120602,RF1205,  4425,  1,     12,  22074,2,20120704,1409, 37.0300, 149.7077, 5914,   2791.1,   1.6227,  34.6520,2,  34.6510,2,    118.0,2,   157.60,2,    38.26,2,     0.00,2,     2.68,2,   2346.7,2,   2418.4,2,   7.5055,6,    25.00,     1932
  49UP20120602,RF1205,  4425,  1,     11,  22110,2,20120704,1409, 37.0300, 149.7077, 5914,   3045.4,   1.5631,  34.6622,2,  34.6598,4,    126.8,6,   155.52,6,    37.72,6,     0.00,6,     2.64,6,   2340.1,2,   2416.4,2,   7.5220,2,    25.00,     1927
  49UP20120602,RF1205,  4425,  1,     10,  22083,3,20120704,1409, 37.0300, 149.7077, 5914,   3300.4,   1.5293,  34.6689,2,  34.6684,2,    133.9,2,   154.42,2,    37.09,2,     0.00,2,     2.60,2,   2335.6,2,   2411.4,2,   7.5366,2,    25.00,     1921
  49UP20120602,RF1205,  4425,  1,      9,  22108,2,20120704,1409, 37.0300, 149.7077, 5914,   3556.3,   1.5123,  34.6735,2,  34.6720,4,    138.5,2,   153.06,2,    36.78,2,     0.00,2,     2.57,2,   2331.3,2,   2414.8,2,   7.5424,2,    25.00,     1916
  49UP20120602,RF1205,  4425,  1,      8,  22081,2,20120704,1409, 37.0300, 149.7077, 5914,   3812.4,   1.4947,  34.6782,2,  34.6782,2,    144.2,2,   151.41,2,    36.39,2,     0.00,2,     2.53,2,   2329.7,2,   2417.8,2,   7.5518,2,    25.00,     1910
  49UP20120602,RF1205,  4425,  1,      7,  22106,2,20120704,1409, 37.0300, 149.7077, 5914,   4069.6,   1.4828,  34.6821,2,  34.6816,2,    149.1,2,   150.22,2,    36.16,2,     0.00,2,     2.52,2,   2324.9,2,   2414.4,2,   7.5588,2,    25.00,     1904
  49UP20120602,RF1205,  4425,  1,      6,  22113,3,20120704,1409, 37.0300, 149.7077, 5914,   4326.0,   1.4769,  34.6855,2,  34.6852,2,    153.5,2,   148.98,2,    35.92,2,     0.00,2,     2.49,2,   2323.4,6,   2415.9,2,   7.5676,2,    25.00,     1856
  49UP20120602,RF1205,  4425,  1,      5,  22078,4,20120704,1409, 37.0300, 149.7077, 5914,   4582.5,   1.4884,  34.6875,2,-999.0000,9,   -999.0,9,  -999.00,9,  -999.00,9,  -999.00,9,  -999.00,9,   -999.0,9,   -999.0,9,-999.0000,9,  -999.00,     1850
  49UP20120602,RF1205,  4425,  1,      4,  22077,2,20120704,1409, 37.0300, 149.7077, 5914,   5099.4,   1.5232,  34.6901,2,  34.6893,2,    160.4,6,   145.26,6,    35.34,6,     0.00,6,     2.45,6,   2315.1,2,   2409.7,2,   7.5801,2,    25.00,     1831
  49UP20120602,RF1205,  4425,  1,      3,  22104,2,20120704,1409, 37.0300, 149.7077, 5914,   5356.4,   1.5439,  34.6911,2,  34.6896,4,    162.6,2,   144.08,2,    35.25,2,     0.00,2,     2.47,2,   2315.1,2,   2410.7,2,   7.5798,2,    25.00,     1449
  49UP20120602,RF1205,  4425,  1,      2,  22075,2,20120704,1409, 37.0300, 149.7077, 5914,   5614.0,   1.5722,  34.6918,2,  34.6917,2,    163.3,2,   143.11,2,    35.17,2,     0.00,2,     2.47,2,   2312.1,2,   2408.7,2,   7.5807,2,    25.00,     1432
  49UP20120602,RF1205,  4425,  1,      1,  22112,2,20120704,1409, 37.0300, 149.7077, 5914,   6043.9,   1.6221,  34.6925,2,  34.6918,6,    163.9,2,   142.01,2,    34.98,2,     0.00,2,     2.43,2,   2313.6,2,   2405.7,2,   7.5840,2,    25.00,     1409