BOTTLE,20200205PRINUNIVRMK
EXPOCODE,SECT_ID,STNNBR,CASTNO,SAMPNO,BTLNBR,BTLNBR_FLAG_W,DATE,TIME,LATITUDE,LONGITUDE,DEPTH,CTDPRS,CTDTMP,CTDSAL,CTDSAL_FLAG_W,SALNTY,SALNTY_FLAG_W,OXYGEN,OXYGEN_FLAG_W,SILCAT,SILCAT_FLAG_W,NITRAT,NITRAT_FLAG_W,NITRIT,NITRIT_FLAG_W,PHSPHT,PHSPHT_FLAG_W,TCARBN,TCARBN_FLAG_W,ALKALI,ALKALI_FLAG_W,PH_TOT,PH_TOT_FLAG_W,PH_TMP,BTL_TIME
,,,,,,,,,,,METERS,DBAR,ITS-90,PSS-78,,PSS-78,,UMOL/KG,,UMOL/KG,,UMOL/KG,,UMOL/KG,,UMOL/KG,,UMOL/KG,,UMOL/KG,,,,DEG C,
  49UP20120602,RF1205,  4413,  1,     99,     99,2,20120610,0149, 33.9977, 165.0217, 6055,      0.0,  18.9597,  34.6585,2,-999.0000,9,    236.1,2,     2.25,2,     0.01,2,     0.00,2,     0.05,2,   -999.0,9,   -999.0,9,-999.0000,9,  -999.00,      232
  49UP20120602,RF1205,  4413,  1,     35,  21997,2,20120610,0149, 33.9977, 165.0217, 6055,     12.3,  18.7963,  34.6583,2,-999.0000,9,    236.7,6,     2.23,6,     0.00,6,     0.00,6,     0.03,6,   -999.0,9,   -999.0,9,-999.0000,9,  -999.00,      256
  49UP20120602,RF1205,  4413,  1,     34,  22107,2,20120610,0149, 33.9977, 165.0217, 6055,     26.0,  18.7017,  34.6556,2,-999.0000,9,    236.6,2,     2.18,2,     0.00,2,     0.00,2,     0.03,2,   -999.0,9,   -999.0,9,-999.0000,9,  -999.00,      254
  49UP20120602,RF1205,  4413,  1,     32,  22105,2,20120610,0149, 33.9977, 165.0217, 6055,     50.5,  18.4109,  34.6652,2,-999.0000,9,   -999.0,9,  -999.00,9,  -999.00,9,  -999.00,9,  -999.00,9,   -999.0,9,   -999.0,9,-999.0000,9,  -999.00,      252
  49UP20120602,RF1205,  4413,  1,     33,  21996,2,20120610,0149, 33.9977, 165.0217, 6055,     52.2,  18.4352,  34.6691,2,-999.0000,9,    237.4,2,     2.40,2,     0.03,2,     0.02,2,     0.06,2,   -999.0,9,   -999.0,9,-999.0000,9,  -999.00,      252
  49UP20120602,RF1205,  4413,  1,     31,  22076,2,20120610,0149, 33.9977, 165.0217, 6055,     77.5,  17.2196,  34.6924,2,-999.0000,9,    224.6,2,     3.90,2,     2.70,2,     0.29,2,     0.23,2,   -999.0,9,   -999.0,9,-999.0000,9,  -999.00,      251
  49UP20120602,RF1205,  4413,  1,     30,  22103,2,20120610,0149, 33.9977, 165.0217, 6055,    101.4,  16.8625,  34.6888,2,-999.0000,9,   -999.0,9,  -999.00,9,  -999.00,9,  -999.00,9,  -999.00,9,   -999.0,9,   -999.0,9,-999.0000,9,  -999.00,      247
  49UP20120602,RF1205,  4413,  1,     29,  22102,2,20120610,0149, 33.9977, 165.0217, 6055,    101.6,  16.8695,  34.6888,2,-999.0000,9,    221.4,2,     4.56,2,     3.92,2,     0.05,2,     0.29,2,   -999.0,9,   -999.0,9,-999.0000,9,  -999.00,      247
  49UP20120602,RF1205,  4413,  1,     28,  22101,3,20120610,0149, 33.9977, 165.0217, 6055,    125.5,  16.5427,  34.6649,2,-999.0000,9,    218.9,2,     5.23,2,     4.66,2,     0.03,2,     0.33,2,   -999.0,9,   -999.0,9,-999.0000,9,  -999.00,      246
  49UP20120602,RF1205,  4413,  1,     27,  21998,2,20120610,0149, 33.9977, 165.0217, 6055,    125.5,  16.5427,  34.6649,2,-999.0000,9,    219.2,2,     5.28,2,     4.65,2,     0.03,2,     0.33,2,   -999.0,9,   -999.0,9,-999.0000,9,  -999.00,      246
  49UP20120602,RF1205,  4413,  1,     26,  22099,2,20120610,0149, 33.9977, 165.0217, 6055,    151.7,  16.3384,  34.6652,2,-999.0000,9,   -999.0,9,  -999.00,9,  -999.00,9,  -999.00,9,  -999.00,9,   -999.0,9,   -999.0,9,-999.0000,9,  -999.00,      244
  49UP20120602,RF1205,  4413,  1,     25,  22098,2,20120610,0149, 33.9977, 165.0217, 6055,    152.3,  16.3324,  34.6633,2,-999.0000,9,    228.6,2,     4.39,2,     3.93,2,     0.03,2,     0.29,2,   -999.0,9,   -999.0,9,-999.0000,9,  -999.00,      244
  49UP20120602,RF1205,  4413,  1,     24,  22097,2,20120610,0149, 33.9977, 165.0217, 6055,    201.4,  15.3822,  34.5914,2,-999.0000,9,   -999.0,9,  -999.00,9,  -999.00,9,  -999.00,9,  -999.00,9,   -999.0,9,   -999.0,9,-999.0000,9,  -999.00,      242
  49UP20120602,RF1205,  4413,  1,     23,  22096,2,20120610,0149, 33.9977, 165.0217, 6055,    201.7,  15.3813,  34.5908,2,-999.0000,9,    197.8,2,    10.03,2,     8.72,2,     0.01,2,     0.61,2,   -999.0,9,   -999.0,9,-999.0000,9,  -999.00,      242
  49UP20120602,RF1205,  4413,  1,     22,  22111,2,20120610,0149, 33.9977, 165.0217, 6055,    251.7,  13.9835,  34.5021,2,-999.0000,9,    186.9,2,    14.75,2,    11.84,2,     0.01,2,     0.83,2,   -999.0,9,   -999.0,9,-999.0000,9,  -999.00,      239
  49UP20120602,RF1205,  4413,  1,     21,  22094,2,20120610,0149, 33.9977, 165.0217, 6055,    303.2,  12.6282,  34.4056,2,-999.0000,9,    202.7,2,    16.38,2,    12.26,2,     0.01,2,     0.87,2,   -999.0,9,   -999.0,9,-999.0000,9,  -999.00,      237
  49UP20120602,RF1205,  4413,  1,     20,  22093,2,20120610,0149, 33.9977, 165.0217, 6055,    303.8,  12.6008,  34.4029,2,-999.0000,9,   -999.0,9,  -999.00,9,  -999.00,9,  -999.00,9,  -999.00,9,   -999.0,9,   -999.0,9,-999.0000,9,  -999.00,      237
  49UP20120602,RF1205,  4413,  1,     18,  22091,2,20120610,0149, 33.9977, 165.0217, 6055,    406.9,   9.5619,  34.1557,2,-999.0000,9,    192.8,2,    28.27,2,    18.17,2,     0.01,2,     1.32,2,   -999.0,9,   -999.0,9,-999.0000,9,  -999.00,      233
  49UP20120602,RF1205,  4413,  1,     19,  22092,2,20120610,0149, 33.9977, 165.0217, 6055,    407.6,   9.4782,  34.1475,2,-999.0000,9,   -999.0,9,  -999.00,9,  -999.00,9,  -999.00,9,  -999.00,9,   -999.0,9,   -999.0,9,-999.0000,9,  -999.00,      234
  49UP20120602,RF1205,  4413,  1,     16,  22089,2,20120610,0149, 33.9977, 165.0217, 6055,    505.7,   7.1513,  34.0126,2,-999.0000,9,    168.6,2,    46.24,2,    24.89,2,     0.01,2,     1.84,2,   -999.0,9,   -999.0,9,-999.0000,9,  -999.00,      230
  49UP20120602,RF1205,  4413,  1,     14,  21999,2,20120610,0149, 33.9977, 165.0217, 6055,    607.7,   5.3633,  34.0121,2,-999.0000,9,    120.7,2,    70.31,2,    32.54,2,     0.01,2,     2.38,2,   -999.0,9,   -999.0,9,-999.0000,9,  -999.00,      227
  49UP20120602,RF1205,  4413,  1,     15,  22088,2,20120610,0149, 33.9977, 165.0217, 6055,    609.4,   5.3342,  34.0159,2,-999.0000,9,   -999.0,9,  -999.00,9,  -999.00,9,  -999.00,9,  -999.00,9,   -999.0,9,   -999.0,9,-999.0000,9,  -999.00,      227
  49UP20120602,RF1205,  4413,  1,     13,  22086,2,20120610,0149, 33.9977, 165.0217, 6055,    709.2,   4.6748,  34.0965,2,-999.0000,9,     82.9,6,    88.52,6,    36.76,6,     0.01,6,     2.68,6,   -999.0,9,   -999.0,9,-999.0000,9,  -999.00,      224
  49UP20120602,RF1205,  4413,  1,     11,  22110,2,20120610,0149, 33.9977, 165.0217, 6055,    810.9,   4.2119,  34.1938,2,-999.0000,9,   -999.0,9,  -999.00,9,  -999.00,9,  -999.00,9,  -999.00,9,   -999.0,9,   -999.0,9,-999.0000,9,  -999.00,      220
  49UP20120602,RF1205,  4413,  1,     12,  22074,2,20120610,0149, 33.9977, 165.0217, 6055,    812.2,   4.2064,  34.1950,2,-999.0000,9,     59.8,2,   103.82,2,    39.24,2,     0.00,2,     2.84,2,   -999.0,9,   -999.0,9,-999.0000,9,  -999.00,      221
  49UP20120602,RF1205,  4413,  1,     10,  22083,2,20120610,0149, 33.9977, 165.0217, 6055,    910.3,   3.8623,  34.2651,2,-999.0000,9,     50.1,2,   114.51,2,    40.40,2,     0.00,2,     2.92,2,   -999.0,9,   -999.0,9,-999.0000,9,  -999.00,      217
  49UP20120602,RF1205,  4413,  1,      9,  22108,2,20120610,0149, 33.9977, 165.0217, 6055,   1012.5,   3.4969,  34.3229,2,-999.0000,9,     43.6,2,   124.98,2,    41.33,2,     0.00,2,     2.98,2,   -999.0,9,   -999.0,9,-999.0000,9,  -999.00,      214
  49UP20120602,RF1205,  4413,  1,      6,  22113,2,20120610,0149, 33.9977, 165.0217, 6055,   1215.3,   2.9940,  34.4089,2,-999.0000,9,     40.6,2,   139.04,2,    41.95,2,     0.00,2,     3.02,2,   -999.0,9,   -999.0,9,-999.0000,9,  -999.00,      209
  49UP20120602,RF1205,  4413,  1,      5,  22078,2,20120610,0149, 33.9977, 165.0217, 6055,   1415.6,   2.5817,  34.4761,2,-999.0000,9,     37.8,2,   151.50,2,    42.69,2,     0.00,2,     3.06,2,   -999.0,9,   -999.0,9,-999.0000,9,  -999.00,      204
  49UP20120602,RF1205,  4413,  1,      4,  22077,2,20120610,0149, 33.9977, 165.0217, 6055,   1620.6,   2.3081,  34.5261,2,-999.0000,9,     46.7,2,   157.98,2,    42.29,2,     0.00,2,     3.03,2,   -999.0,9,   -999.0,9,-999.0000,9,  -999.00,      159
  49UP20120602,RF1205,  4413,  1,      3,  22104,2,20120610,0149, 33.9977, 165.0217, 6055,   1822.2,   2.1110,  34.5646,2,-999.0000,9,     58.1,2,   161.03,2,    41.78,2,     0.00,2,     2.97,2,   -999.0,9,   -999.0,9,-999.0000,9,  -999.00,      155
  49UP20120602,RF1205,  4413,  1,      2,  22075,2,20120610,0149, 33.9977, 165.0217, 6055,   2023.7,   1.9521,  34.5934,2,-999.0000,9,     71.9,6,   162.38,6,    40.91,6,     0.00,6,     2.92,6,   -999.0,9,   -999.0,9,-999.0000,9,  -999.00,      150
  49UP20120602,RF1205,  4413,  1,      1,  22082,2,20120610,0149, 33.9977, 165.0217, 6055,   2024.3,   1.9524,  34.5934,2,-999.0000,9,     71.8,2,   162.41,2,    40.95,2,     0.00,2,     2.92,2,   -999.0,9,   -999.0,9,-999.0000,9,  -999.00,      149
  49UP20120602,RF1205,  4414,  1,     99,     99,2,20120610,1013, 34.9960, 164.9877, 5901,      0.0,  17.5076,  34.4680,2,  34.4693,2,    245.3,2,     1.96,2,     0.03,2,     0.00,2,     0.07,2,   1994.9,2,   2268.2,2,   8.0025,2,    25.00,     1230
  49UP20120602,RF1205,  4414,  1,     36,  22109,2,20120610,1013, 34.9960, 164.9877, 5901,     11.2,  17.4043,  34.4707,2,  34.4707,2,    247.3,2,     1.96,2,     0.03,2,     0.00,2,     0.05,2,   1995.6,2,   2266.3,2,   8.0058,2,    25.00,     1252
  49UP20120602,RF1205,  4414,  1,     35,  21997,2,20120610,1013, 34.9960, 164.9877, 5901,     26.3,  17.3445,  34.4705,2,-999.0000,9,    247.5,2,     1.91,2,     0.04,2,     0.00,2,     0.05,2,   1997.1,2,   2267.9,2,   8.0048,2,    25.00,     1250
  49UP20120602,RF1205,  4414,  1,     34,  22107,2,20120610,1013, 34.9960, 164.9877, 5901,     52.3,  15.2581,  34.5803,2,-999.0000,9,    238.0,2,     5.67,2,     4.18,2,     0.60,2,     0.36,2,   2033.4,2,   2277.4,2,   7.9449,2,    25.00,     1249
  49UP20120602,RF1205,  4414,  1,     33,  21996,2,20120610,1013, 34.9960, 164.9877, 5901,     76.9,  14.3161,  34.5228,2,-999.0000,9,    225.0,2,     9.21,2,     7.70,2,     0.04,2,     0.55,2,   2056.7,2,   2273.9,2,   7.9036,2,    25.00,     1247
  49UP20120602,RF1205,  4414,  1,     32,  22105,2,20120610,1013, 34.9960, 164.9877, 5901,    101.9,  13.7015,  34.4664,2,  34.4655,2,    233.0,2,    10.56,2,     7.80,2,     0.03,2,     0.57,2,   2056.9,2,   2275.2,2,   7.8558,2,    25.00,     1246
  49UP20120602,RF1205,  4414,  1,     31,  22076,2,20120610,1013, 34.9960, 164.9877, 5901,    126.8,  13.1558,  34.4446,2,-999.0000,9,    231.3,6,    11.32,6,     8.71,6,     0.03,6,     0.63,6,   2063.8,2,   2270.4,2,   7.8818,2,    25.00,     1244
  49UP20120602,RF1205,  4414,  1,     30,  22103,2,20120610,1013, 34.9960, 164.9877, 5901,    151.2,  12.6949,  34.4127,2,-999.0000,9,    241.1,2,    11.16,2,     8.53,2,     0.02,2,     0.62,2,   2063.6,2,   2274.5,2,   7.8844,2,    25.00,     1241
  49UP20120602,RF1205,  4414,  1,     29,  22102,3,20120610,1013, 34.9960, 164.9877, 5901,    200.8,  12.0201,  34.3538,2,  34.3581,4,    233.4,2,    13.72,2,    10.04,2,     0.02,2,     0.74,2,   2074.7,2,   2271.7,2,   7.8542,2,    25.00,     1239
  49UP20120602,RF1205,  4414,  1,     28,  22101,3,20120610,1013, 34.9960, 164.9877, 5901,    251.7,  11.0114,  34.2634,2,-999.0000,9,    219.2,2,    19.00,2,    13.20,2,     0.01,2,     0.96,2,   2101.1,2,   2271.1,2,   7.8071,2,    25.00,     1237
  49UP20120602,RF1205,  4414,  1,     27,  21998,2,20120610,1013, 34.9960, 164.9877, 5901,    302.4,   9.8047,  34.1613,2,-999.0000,9,    216.2,2,    24.22,2,    15.67,2,     0.01,2,     1.14,2,   2117.7,2,   2272.8,2,   7.7673,2,    25.00,     1235
  49UP20120602,RF1205,  4414,  1,     26,  22099,2,20120610,1013, 34.9960, 164.9877, 5901,    403.9,   7.1705,  34.0444,2,  34.0477,2,    156.7,2,    49.40,2,    25.99,2,     0.01,2,     1.90,2,   2190.9,2,   2286.6,2,   7.6024,2,    25.00,     1233
  49UP20120602,RF1205,  4414,  1,     25,  22098,2,20120610,1013, 34.9960, 164.9877, 5901,    503.5,   5.5076,  33.9988,2,-999.0000,9,    126.9,2,    69.00,2,    31.92,2,     0.00,2,     2.33,2,   2241.9,2,   2296.5,2,   7.4963,2,    25.00,     1230
  49UP20120602,RF1205,  4414,  1,     24,  22097,2,20120610,1013, 34.9960, 164.9877, 5901,    604.6,   4.7583,  34.0716,2,  34.0737,2,     89.0,2,    86.13,2,    36.40,2,     0.00,2,     2.65,2,   2282.4,2,   2314.1,2,   7.4218,2,    25.00,     1227
  49UP20120602,RF1205,  4414,  1,     23,  22096,2,20120610,1013, 34.9960, 164.9877, 5901,    706.4,   4.2200,  34.1771,2,-999.0000,9,     60.7,2,   103.53,2,    39.43,2,     0.00,2,     2.85,2,   2310.3,2,   2332.8,2,   7.3796,2,    25.00,     1224
  49UP20120602,RF1205,  4414,  1,     22,  22111,2,20120610,1013, 34.9960, 164.9877, 5901,    807.6,   3.8215,  34.2582,2,  34.2566,2,     47.4,2,   116.54,2,    40.78,2,     0.00,2,     2.94,2,   2331.3,2,   2347.0,2,   7.3584,2,    25.00,     1222
  49UP20120602,RF1205,  4414,  1,     21,  22094,2,20120610,1013, 34.9960, 164.9877, 5901,    909.2,   3.4945,  34.3144,2,-999.0000,9,     40.2,2,   126.66,2,    41.86,2,     0.00,2,     3.01,2,   2352.0,2,   2363.6,2,   7.3478,2,    25.00,     1219
  49UP20120602,RF1205,  4414,  1,     20,  22093,2,20120610,1013, 34.9960, 164.9877, 5901,   1010.4,   3.2405,  34.3590,2,  34.3593,2,     34.0,2,   133.12,2,    42.50,2,     0.00,2,     3.06,2,   2361.3,2,   2368.6,2,   7.3384,2,    25.00,     1216
  49UP20120602,RF1205,  4414,  1,     19,  22092,2,20120610,1013, 34.9960, 164.9877, 5901,   1212.7,   2.7975,  34.4344,2,  34.4345,2,     33.1,2,   147.86,2,    43.11,2,     0.00,2,     3.08,2,   2373.9,2,   2384.8,2,   7.3497,2,    25.00,     1211
  49UP20120602,RF1205,  4414,  1,     18,  22091,2,20120610,1013, 34.9960, 164.9877, 5901,   1416.0,   2.5039,  34.4868,2,  34.4869,2,     37.0,2,   155.65,2,    43.04,2,     0.00,2,     3.08,2,   2387.4,6,   2393.9,6,   7.3585,2,    25.00,     1207
  49UP20120602,RF1205,  4414,  1,     17,  22090,2,20120610,1013, 34.9960, 164.9877, 5901,   1619.1,   2.2659,  34.5306,2,  34.5305,2,     45.8,2,   161.18,2,    42.63,2,     0.00,2,     3.03,2,   2388.9,2,   2405.5,2,   7.3749,6,    25.00,     1202
  49UP20120602,RF1205,  4414,  1,     16,  22089,2,20120610,1013, 34.9960, 164.9877, 5901,   1820.4,   2.0806,  34.5654,2,  34.5650,2,     58.1,2,   163.98,2,    41.91,2,     0.00,2,     2.98,2,   2383.9,2,   2408.7,2,   7.3983,2,    25.00,     1158
  49UP20120602,RF1205,  4414,  1,     15,  22088,2,20120610,1013, 34.9960, 164.9877, 5901,   2024.8,   1.9255,  34.5943,2,  34.5942,2,     72.1,2,   165.57,2,    41.16,2,     0.00,2,     2.92,2,   2372.3,2,   2410.5,2,   7.4273,2,    25.00,     1135
  49UP20120602,RF1205,  4414,  1,     14,  21999,2,20120610,1013, 34.9960, 164.9877, 5901,   2279.6,   1.7702,  34.6227,2,  34.6234,2,     90.1,2,   164.38,2,    39.87,2,     0.00,2,     2.83,2,   2362.5,2,   2412.2,2,   7.4639,2,    25.00,     1129
  49UP20120602,RF1205,  4414,  1,     13,  22086,2,20120610,1013, 34.9960, 164.9877, 5901,   2534.9,   1.6708,  34.6410,2,  34.6405,2,    105.3,2,   161.74,2,    39.05,2,     0.00,2,     2.76,2,   2351.9,6,   2414.7,2,   7.4874,2,    25.00,     1123
  49UP20120602,RF1205,  4414,  1,     12,  22074,2,20120610,1013, 34.9960, 164.9877, 5901,   2790.9,   1.5991,  34.6533,2,  34.6531,2,    116.8,2,   159.92,2,    38.24,2,     0.00,2,     2.71,2,   2346.3,2,   2417.8,2,   7.5103,6,    25.00,     1118
  49UP20120602,RF1205,  4414,  1,     11,  22110,2,20120610,1013, 34.9960, 164.9877, 5901,   3045.9,   1.5487,  34.6626,2,  34.6621,6,    125.6,6,   157.95,6,    37.58,6,     0.00,6,     2.67,6,   2344.6,2,   2417.3,2,   7.5264,2,    25.00,     1112
  49UP20120602,RF1205,  4414,  1,     10,  22083,2,20120610,1013, 34.9960, 164.9877, 5901,   3557.7,   1.4892,  34.6752,2,  34.6753,2,    139.9,2,   153.65,2,    36.60,2,     0.00,2,     2.59,2,   2333.9,2,   2420.0,2,   7.5532,2,    25.00,     1102
  49UP20120602,RF1205,  4414,  1,      9,  22108,2,20120610,1013, 34.9960, 164.9877, 5901,   3812.5,   1.4796,  34.6790,2,  34.6747,4,    144.3,2,   153.07,2,    36.34,2,     0.00,2,     2.56,2,   2333.5,2,   2414.8,2,   7.5627,2,    25.00,     1056
  49UP20120602,RF1205,  4414,  1,      8,  22081,2,20120610,1013, 34.9960, 164.9877, 5901,   4068.0,   1.4771,  34.6823,2,  34.6787,4,    148.8,2,   151.54,2,    36.03,2,     0.00,2,     2.54,2,   2328.6,6,   2415.8,6,   7.5679,2,    25.00,     1051
  49UP20120602,RF1205,  4414,  1,      7,  22106,2,20120610,1013, 34.9960, 164.9877, 5901,   4324.4,   1.4744,  34.6856,2,  34.6852,4,    153.1,2,   149.98,2,    35.51,2,     0.00,2,     2.52,2,   2322.8,2,   2417.4,2,   7.5748,6,    25.00,     1046
  49UP20120602,RF1205,  4414,  1,      6,  22113,2,20120610,1013, 34.9960, 164.9877, 5901,   4581.5,   1.4861,  34.6874,2,  34.6872,6,    155.3,2,   150.04,2,    35.53,2,     0.00,2,     2.51,2,   2320.9,2,   2416.5,2,   7.5781,2,    25.00,     1040
  49UP20120602,RF1205,  4414,  1,      5,  22078,2,20120610,1013, 34.9960, 164.9877, 5901,   5097.4,   1.5085,  34.6912,2,  34.6909,2,    161.7,6,   145.26,6,    35.05,6,     0.00,6,     2.48,6,   2316.1,2,   2409.6,2,   7.5893,2,    25.00,     1031
  49UP20120602,RF1205,  4414,  1,      4,  22077,2,20120610,1013, 34.9960, 164.9877, 5901,   5355.1,   1.5190,  34.6931,2,  34.6928,2,    166.5,2,   139.36,2,    34.72,2,     0.00,2,     2.45,2,   2312.5,2,   2407.3,2,   7.5926,2,    25.00,     1026
  49UP20120602,RF1205,  4414,  1,      3,  22104,2,20120610,1013, 34.9960, 164.9877, 5901,   5612.3,   1.5338,  34.6946,2,  34.6946,6,    169.6,2,   138.15,2,    34.52,2,     0.00,2,     2.43,2,   2306.0,2,   2406.7,2,   7.5965,2,    25.00,     1020
  49UP20120602,RF1205,  4414,  1,      2,  22075,2,20120610,1013, 34.9960, 164.9877, 5901,   6010.5,   1.5697,  34.6958,2,  34.6960,2,    172.1,2,   136.94,2,    34.21,2,     0.00,2,     2.41,2,   2307.6,2,   2403.0,2,   7.6012,2,    25.00,     1013
  49UP20120602,RF1205,  4414,  1,      1,  22082,2,20120610,1013, 34.9960, 164.9877, 5901,   6011.2,   1.5695,  34.6959,2,  34.6956,2,    170.6,3,   136.10,3,    34.44,3,     0.00,3,     2.42,3,   -999.0,9,   -999.0,9,-999.0000,9,  -999.00,     1013