BOTTLE,20200205PRINUNIVRMK
EXPOCODE,SECT_ID,STNNBR,CASTNO,SAMPNO,BTLNBR,BTLNBR_FLAG_W,DATE,TIME,LATITUDE,LONGITUDE,DEPTH,CTDPRS,CTDTMP,CTDSAL,CTDSAL_FLAG_W,SALNTY,SALNTY_FLAG_W,OXYGEN,OXYGEN_FLAG_W,SILCAT,SILCAT_FLAG_W,NITRAT,NITRAT_FLAG_W,NITRIT,NITRIT_FLAG_W,PHSPHT,PHSPHT_FLAG_W,TCARBN,TCARBN_FLAG_W,ALKALI,ALKALI_FLAG_W,PH_TOT,PH_TOT_FLAG_W,PH_TMP,BTL_TIME
,,,,,,,,,,,METERS,DBAR,ITS-90,PSS-78,,PSS-78,,UMOL/KG,,UMOL/KG,,UMOL/KG,,UMOL/KG,,UMOL/KG,,UMOL/KG,,UMOL/KG,,,,DEG C,
  49UP20120602,RF1205,  4447,  1,     99,     99,2,20120709,1448, 29.9920, 145.1008, 5845,      0.0,  24.6581,  34.2908,2,  34.2870,2,    212.9,2,     1.91,2,     0.03,2,     0.00,2,     0.03,2,   1964.4,2,   2249.5,2,   8.0338,2,    25.00,     1710
  49UP20120602,RF1205,  4447,  1,     36,  22109,2,20120709,1448, 29.9920, 145.1008, 5845,     11.4,  24.7043,  34.2893,2,-999.0000,9,    214.3,2,     1.90,2,     0.00,2,     0.00,2,     0.02,2,   1961.7,2,   2249.0,2,   8.0362,2,    25.00,     1745
  49UP20120602,RF1205,  4447,  1,     35,  22112,2,20120709,1448, 29.9920, 145.1008, 5845,     25.8,  21.2796,  34.5440,2,-999.0000,9,    233.8,2,     1.92,2,     0.00,2,     0.00,2,     0.02,2,   1974.0,2,   2265.2,2,   8.0331,2,    25.00,     1744
  49UP20120602,RF1205,  4447,  1,     34,  22083,2,20120709,1448, 29.9920, 145.1008, 5845,     51.4,  19.4044,  34.7084,2,-999.0000,9,    235.5,2,     2.02,2,     0.00,2,     0.00,2,     0.04,2,   1988.2,2,   2274.1,2,   8.0244,2,    25.00,     1743
  49UP20120602,RF1205,  4447,  1,     33,  21996,2,20120709,1448, 29.9920, 145.1008, 5845,     77.6,  17.9249,  34.7434,2,-999.0000,9,    237.4,2,     2.60,2,     0.13,2,     0.03,2,     0.06,2,   2009.0,2,   2277.8,2,   8.0120,2,    25.00,     1742
  49UP20120602,RF1205,  4447,  1,     32,  22105,2,20120709,1448, 29.9920, 145.1008, 5845,    102.3,  17.4730,  34.7337,2,  34.7324,2,    220.4,2,     3.06,2,     3.02,2,     0.11,2,     0.22,2,   2017.0,2,   2277.5,2,   7.9795,2,    25.00,     1735
  49UP20120602,RF1205,  4447,  1,     31,  22076,2,20120709,1448, 29.9920, 145.1008, 5845,    127.5,  17.3243,  34.7259,2,-999.0000,9,    217.8,6,     3.56,6,     3.61,6,     0.03,6,     0.26,6,   2025.4,2,   2275.6,2,   7.9747,2,    25.00,     1734
  49UP20120602,RF1205,  4447,  1,     30,  22103,2,20120709,1448, 29.9920, 145.1008, 5845,    151.0,  17.2216,  34.7201,2,-999.0000,9,    217.3,2,     3.69,2,     3.81,2,     0.02,2,     0.27,2,   2025.6,2,   2275.1,2,   7.9718,2,    25.00,     1733
  49UP20120602,RF1205,  4447,  1,     29,  22102,2,20120709,1448, 29.9920, 145.1008, 5845,    201.5,  17.0190,  34.7111,2,  34.7107,2,    217.8,2,     4.13,2,     4.13,2,     0.01,2,     0.29,2,   2028.4,2,   2277.9,2,   7.9621,2,    25.00,     1731
  49UP20120602,RF1205,  4447,  1,     28,  22091,2,20120709,1448, 29.9920, 145.1008, 5845,    253.2,  16.5540,  34.6705,2,-999.0000,9,    204.8,2,     6.16,2,     6.11,2,     0.01,2,     0.42,2,   2045.9,2,   2274.5,2,   7.9347,2,    25.00,     1729
  49UP20120602,RF1205,  4447,  1,     27,  21998,2,20120709,1448, 29.9920, 145.1008, 5845,    303.7,  15.9680,  34.6331,2,-999.0000,9,    195.0,6,     8.27,6,     7.92,6,     0.01,6,     0.54,6,   2059.7,2,   2275.2,2,   7.9069,2,    25.00,     1723
  49UP20120602,RF1205,  4447,  1,     26,  22099,2,20120709,1448, 29.9920, 145.1008, 5845,    405.0,  13.1634,  34.4496,2,  34.4488,2,    176.3,2,    18.08,2,    13.93,2,     0.01,2,     0.98,2,   2104.4,2,   2271.5,2,   7.8052,2,    25.00,     1716
  49UP20120602,RF1205,  4447,  1,     25,  22098,2,20120709,1448, 29.9920, 145.1008, 5845,    505.1,   9.5595,  34.1680,2,-999.0000,9,    178.1,2,    30.92,2,    19.22,2,     0.00,2,     1.38,2,   2146.5,2,   2273.7,2,   7.7113,2,    25.00,     1713
  49UP20120602,RF1205,  4447,  1,     24,  22097,2,20120709,1448, 29.9920, 145.1008, 5845,    606.0,   7.0271,  34.0545,2,  34.0517,2,    149.6,2,    51.11,2,    26.84,2,     0.00,2,     1.96,2,   2204.5,2,   2282.1,2,   7.5827,2,    25.00,     1709
  49UP20120602,RF1205,  4447,  1,     23,  22096,2,20120709,1448, 29.9920, 145.1008, 5845,    707.3,   5.2889,  34.0595,2,-999.0000,9,    109.1,2,    75.35,2,    33.73,2,     0.00,2,     2.46,2,   2260.9,2,   2301.3,2,   7.4652,2,    25.00,     1707
  49UP20120602,RF1205,  4447,  1,     22,  22111,2,20120709,1448, 29.9920, 145.1008, 5845,    808.2,   4.5535,  34.1568,2,  34.1568,2,     71.7,2,    95.14,2,    37.96,2,     0.00,2,     2.75,2,   2303.2,2,   2321.0,2,   7.3970,2,    25.00,     1704
  49UP20120602,RF1205,  4447,  1,     21,  22078,2,20120709,1448, 29.9920, 145.1008, 5845,    908.7,   4.0597,  34.2336,2,-999.0000,9,     53.5,2,   109.62,2,    40.09,2,     0.00,2,     2.89,2,   2330.0,2,   2337.2,2,   7.3694,2,    25.00,     1657
  49UP20120602,RF1205,  4447,  1,     20,  22093,2,20120709,1448, 29.9920, 145.1008, 5845,   1009.8,   3.6350,  34.3054,2,  34.3061,2,     42.4,2,   121.68,2,    41.52,2,     0.00,2,     2.99,2,   2345.5,2,   2353.1,2,   7.3523,2,    25.00,     1654
  49UP20120602,RF1205,  4447,  1,     19,  22092,2,20120709,1448, 29.9920, 145.1008, 5845,   1212.5,   3.0095,  34.4127,2,-999.0000,9,     37.3,2,   139.81,2,    42.71,2,     0.00,2,     3.06,2,   2372.5,2,   2375.7,2,   7.3455,2,    25.00,     1649
  49UP20120602,RF1205,  4447,  1,     18,  22101,2,20120709,1448, 29.9920, 145.1008, 5845,   1415.4,   2.5401,  34.4911,2,-999.0000,9,     41.8,6,   152.52,6,    42.82,6,     0.00,6,     3.06,6,   2385.2,2,   2390.7,2,   7.3609,2,    25.00,     1637
  49UP20120602,RF1205,  4447,  1,     17,  22090,2,20120709,1448, 29.9920, 145.1008, 5845,   1617.7,   2.2600,  34.5432,2,-999.0000,9,     56.7,2,   157.12,2,    42.08,2,     0.00,2,     2.99,2,   2379.3,2,   2398.6,2,   7.3933,2,    25.00,     1633
  49UP20120602,RF1205,  4447,  1,     16,  22089,2,20120709,1448, 29.9920, 145.1008, 5845,   1821.0,   2.0439,  34.5846,2,-999.0000,9,     79.5,2,   155.62,2,    40.56,2,     0.00,2,     2.87,2,   2373.3,6,   2403.8,6,   7.4361,2,    25.00,     1629
  49UP20120602,RF1205,  4447,  1,     15,  22088,2,20120709,1448, 29.9920, 145.1008, 5845,   2024.5,   1.9147,  34.6052,2,  34.6058,2,     89.1,2,   156.66,2,    39.89,2,     0.00,2,     2.83,2,   2364.8,2,   2409.3,2,   7.4553,6,    25.00,     1620
  49UP20120602,RF1205,  4447,  1,     14,  21999,2,20120709,1448, 29.9920, 145.1008, 5845,   2279.0,   1.7702,  34.6284,2,-999.0000,9,    104.8,2,   155.37,2,    39.07,2,     0.00,2,     2.75,2,   2355.0,2,   2408.5,2,   7.4854,2,    25.00,     1615
  49UP20120602,RF1205,  4447,  1,     12,  22074,2,20120709,1448, 29.9920, 145.1008, 5845,   2532.5,   1.6783,  34.6434,2,-999.0000,9,    116.1,2,   153.85,2,    38.34,2,     0.00,2,     2.70,2,   2351.8,2,   2407.8,2,   7.5084,2,    25.00,     1602
  49UP20120602,RF1205,  4447,  1,     11,  22110,2,20120709,1448, 29.9920, 145.1008, 5845,   2787.5,   1.6092,  34.6552,2,  34.6561,2,    125.5,2,   152.92,2,    37.72,2,     0.00,2,     2.64,2,   2345.2,2,   2411.9,2,   7.5219,2,    25.00,     1557
  49UP20120602,RF1205,  4447,  1,     10,  22107,2,20120709,1448, 29.9920, 145.1008, 5845,   3042.8,   1.5563,  34.6631,2,-999.0000,9,    131.9,2,   151.93,2,    37.35,2,     0.00,2,     2.62,2,   2341.7,2,   2412.8,2,   7.5391,2,    25.00,     1552
  49UP20120602,RF1205,  4447,  1,      9,  22108,2,20120709,1448, 29.9920, 145.1008, 5845,   3298.7,   1.5246,  34.6694,2,  34.6696,2,    137.5,2,   151.44,2,    36.85,2,     0.00,2,     2.59,2,   2337.5,6,   2410.0,2,   7.5444,2,    25.00,     1547
  49UP20120602,RF1205,  4447,  1,      8,  22081,2,20120709,1448, 29.9920, 145.1008, 5845,   3554.5,   1.4970,  34.6748,2,-999.0000,9,    143.0,2,   150.45,2,    36.60,2,     0.00,2,     2.56,2,   2331.2,2,   2411.6,2,   7.5542,6,    25.00,     1542
  49UP20120602,RF1205,  4447,  1,      7,  22106,2,20120709,1448, 29.9920, 145.1008, 5845,   3811.4,   1.4813,  34.6790,2,  34.6802,2,    147.2,2,   149.34,2,    36.25,2,     0.00,2,     2.54,2,   2328.8,2,   2408.3,2,   7.5609,2,    25.00,     1537
  49UP20120602,RF1205,  4447,  1,      6,  22113,2,20120709,1448, 29.9920, 145.1008, 5845,   4067.1,   1.4771,  34.6821,2,-999.0000,9,    150.7,2,   148.33,2,    36.09,2,     0.00,2,     2.52,2,   2328.1,2,   2409.2,2,   7.5665,2,    25.00,     1532
  49UP20120602,RF1205,  4447,  1,      5,  22094,2,20120709,1448, 29.9920, 145.1008, 5845,   4580.7,   1.4795,  34.6876,2,-999.0000,9,    158.2,2,   145.87,2,    35.60,2,     0.00,2,     2.48,2,   2320.9,2,   2410.3,2,   7.5778,2,    25.00,     1522
  49UP20120602,RF1205,  4447,  1,      4,  22077,2,20120709,1448, 29.9920, 145.1008, 5845,   5095.5,   1.5128,  34.6903,2,  34.6905,2,    162.4,2,   143.13,2,    35.16,2,     0.00,2,     2.46,2,   2316.1,2,   2407.2,2,   7.5827,2,    25.00,     1511
  49UP20120602,RF1205,  4447,  1,     13,  22086,2,20120709,1448, 29.9920, 145.1008, 5845,   5095.6,   1.5128,  34.6903,2,  34.6897,2,    161.0,2,   143.28,2,    35.35,2,     0.00,2,     2.45,2,   2318.4,2,   2404.9,2,   7.5828,2,    25.00,     1511
  49UP20120602,RF1205,  4447,  1,      3,  22104,2,20120709,1448, 29.9920, 145.1008, 5845,   5353.8,   1.5379,  34.6911,2,-999.0000,9,    163.7,6,   142.19,6,    35.15,6,     0.00,6,     2.45,6,   2317.7,2,   2405.4,2,   7.5843,2,    25.00,     1506
  49UP20120602,RF1205,  4447,  1,      2,  22075,2,20120709,1448, 29.9920, 145.1008, 5845,   5611.4,   1.5646,  34.6917,2,-999.0000,9,    165.0,2,   140.95,2,    35.02,2,     0.00,2,     2.43,2,   2317.5,6,   2406.1,2,   7.5830,2,    25.00,     1500
  49UP20120602,RF1205,  4447,  1,      1,  21997,2,20120709,1448, 29.9920, 145.1008, 5845,   5942.5,   1.6008,  34.6926,2,  34.6928,2,    166.7,2,   139.73,2,    34.91,2,     0.00,2,     2.43,2,   2312.8,2,   2404.9,2,   7.5900,6,    25.00,     1448
  49UP20120602,RF1205,  4449,  1,     99,     99,2,20120710,0543, 31.0130, 144.0077, 5808,      0.0,  24.2810,  34.3550,2,-999.0000,9,    215.9,2,     1.99,2,     0.03,2,     0.00,2,     0.02,2,   -999.0,9,   -999.0,9,-999.0000,9,  -999.00,      630
  49UP20120602,RF1205,  4449,  1,     36,  22109,2,20120710,0543, 31.0130, 144.0077, 5808,     11.4,  23.6020,  34.3514,2,-999.0000,9,    217.6,2,     1.94,2,     0.02,2,     0.00,2,     0.01,2,   -999.0,9,   -999.0,9,-999.0000,9,  -999.00,      646
  49UP20120602,RF1205,  4449,  1,     35,  22112,2,20120710,0543, 31.0130, 144.0077, 5808,     26.1,  22.9067,  34.3962,2,-999.0000,9,    229.0,2,     1.94,2,     0.03,2,     0.00,2,     0.00,2,   -999.0,9,   -999.0,9,-999.0000,9,  -999.00,      645
  49UP20120602,RF1205,  4449,  1,     34,  22083,2,20120710,0543, 31.0130, 144.0077, 5808,     51.2,  20.0214,  34.6161,2,-999.0000,9,    235.4,2,     2.00,2,     0.03,2,     0.00,2,     0.01,2,   -999.0,9,   -999.0,9,-999.0000,9,  -999.00,      642
  49UP20120602,RF1205,  4449,  1,     30,  22103,2,20120710,0543, 31.0130, 144.0077, 5808,     75.9,  18.6250,  34.7603,2,-999.0000,9,    231.4,2,     2.31,2,     0.16,2,     0.03,2,     0.05,2,   -999.0,9,   -999.0,9,-999.0000,9,  -999.00,      641
  49UP20120602,RF1205,  4449,  1,     29,  22102,2,20120710,0543, 31.0130, 144.0077, 5808,    101.7,  17.8312,  34.7526,2,-999.0000,9,    220.6,2,     2.96,2,     2.44,2,     0.10,2,     0.18,2,   -999.0,9,   -999.0,9,-999.0000,9,  -999.00,      639
  49UP20120602,RF1205,  4449,  1,     28,  22091,2,20120710,0543, 31.0130, 144.0077, 5808,    126.9,  17.5518,  34.7409,2,-999.0000,9,    219.4,2,     3.15,2,     3.05,2,     0.03,2,     0.21,2,   -999.0,9,   -999.0,9,-999.0000,9,  -999.00,      638
  49UP20120602,RF1205,  4449,  1,     27,  21998,2,20120710,0543, 31.0130, 144.0077, 5808,    152.4,  17.4276,  34.7365,2,-999.0000,9,    219.8,3,     3.33,2,     3.25,2,     0.02,2,     0.22,2,   -999.0,9,   -999.0,9,-999.0000,9,  -999.00,      636
  49UP20120602,RF1205,  4449,  1,     26,  22099,2,20120710,0543, 31.0130, 144.0077, 5808,    152.4,  17.4276,  34.7365,2,-999.0000,9,    218.3,3,     3.33,2,     3.23,2,     0.02,2,     0.21,3,   -999.0,9,   -999.0,9,-999.0000,9,  -999.00,      636
  49UP20120602,RF1205,  4449,  1,     25,  22098,2,20120710,0543, 31.0130, 144.0077, 5808,    203.0,  17.1517,  34.7180,2,-999.0000,9,    217.6,2,     3.96,2,     3.92,2,     0.01,2,     0.26,2,   -999.0,9,   -999.0,9,-999.0000,9,  -999.00,      634
  49UP20120602,RF1205,  4449,  1,     21,  22078,2,20120710,0543, 31.0130, 144.0077, 5808,    253.3,  16.8936,  34.7049,2,-999.0000,9,    216.8,2,     4.50,2,     4.40,2,     0.01,2,     0.29,2,   -999.0,9,   -999.0,9,-999.0000,9,  -999.00,      632
  49UP20120602,RF1205,  4449,  1,     20,  22093,2,20120710,0543, 31.0130, 144.0077, 5808,    302.6,  16.1853,  34.6460,2,-999.0000,9,    198.6,2,     7.26,2,     7.28,2,     0.01,2,     0.48,2,   -999.0,9,   -999.0,9,-999.0000,9,  -999.00,      630
  49UP20120602,RF1205,  4449,  1,     19,  22092,2,20120710,0543, 31.0130, 144.0077, 5808,    404.0,  13.7459,  34.4879,2,-999.0000,9,    177.4,2,    16.64,2,    13.15,2,     0.00,2,     0.90,2,   -999.0,9,   -999.0,9,-999.0000,9,  -999.00,      627
  49UP20120602,RF1205,  4449,  1,     18,  22101,2,20120710,0543, 31.0130, 144.0077, 5808,    505.1,  10.7279,  34.2609,2,-999.0000,9,    185.6,2,    25.50,2,    16.91,2,     0.01,2,     1.22,2,   -999.0,9,   -999.0,9,-999.0000,9,  -999.00,      624
  49UP20120602,RF1205,  4449,  1,     17,  22090,2,20120710,0543, 31.0130, 144.0077, 5808,    607.3,   8.1725,  34.1032,2,-999.0000,9,    162.4,6,    41.43,6,    23.67,6,     0.00,6,     1.70,6,   -999.0,9,   -999.0,9,-999.0000,9,  -999.00,      622
  49UP20120602,RF1205,  4449,  1,     16,  22089,2,20120710,0543, 31.0130, 144.0077, 5808,    708.3,   6.0182,  34.0293,2,-999.0000,9,    129.7,2,    63.01,2,    30.69,2,     0.00,2,     2.23,2,   -999.0,9,   -999.0,9,-999.0000,9,  -999.00,      618
  49UP20120602,RF1205,  4449,  1,     12,  22074,2,20120710,0543, 31.0130, 144.0077, 5808,    808.3,   4.9062,  34.0798,2,-999.0000,9,     93.0,2,    83.64,2,    35.78,2,     0.00,2,     2.58,2,   -999.0,9,   -999.0,9,-999.0000,9,  -999.00,      615
  49UP20120602,RF1205,  4449,  1,     11,  22110,2,20120710,0543, 31.0130, 144.0077, 5808,    909.7,   4.4023,  34.1952,2,-999.0000,9,     64.6,2,   101.28,2,    38.74,2,     0.00,2,     2.79,2,   -999.0,9,   -999.0,9,-999.0000,9,  -999.00,      612
  49UP20120602,RF1205,  4449,  1,     10,  22107,2,20120710,0543, 31.0130, 144.0077, 5808,   1010.9,   3.8278,  34.2790,2,-999.0000,9,     48.6,2,   116.24,2,    40.69,2,     0.00,2,     2.92,2,   -999.0,9,   -999.0,9,-999.0000,9,  -999.00,      609
  49UP20120602,RF1205,  4449,  1,      9,  22108,2,20120710,0543, 31.0130, 144.0077, 5808,   1213.1,   3.1781,  34.3894,2,-999.0000,9,     39.9,2,   134.71,2,    42.14,2,     0.00,2,     3.02,2,   -999.0,9,   -999.0,9,-999.0000,9,  -999.00,      605
  49UP20120602,RF1205,  4449,  1,      8,  22081,2,20120710,0543, 31.0130, 144.0077, 5808,   1213.1,   3.1781,  34.3894,2,-999.0000,9,     39.8,2,   134.44,2,    42.18,2,     0.00,2,     3.03,2,   -999.0,9,   -999.0,9,-999.0000,9,  -999.00,      605
  49UP20120602,RF1205,  4449,  1,      7,  22106,2,20120710,0543, 31.0130, 144.0077, 5808,   1416.6,   2.7051,  34.4625,2,-999.0000,9,     39.1,2,   147.61,2,    42.69,2,     0.00,2,     3.06,2,   -999.0,9,   -999.0,9,-999.0000,9,  -999.00,      600
  49UP20120602,RF1205,  4449,  1,      3,  22104,2,20120710,0543, 31.0130, 144.0077, 5808,   1618.0,   2.3810,  34.5196,2,-999.0000,9,     47.1,2,   156.24,2,    42.52,2,     0.00,2,     3.02,2,   -999.0,9,   -999.0,9,-999.0000,9,  -999.00,      555
  49UP20120602,RF1205,  4449,  1,      2,  22075,2,20120710,0543, 31.0130, 144.0077, 5808,   1821.5,   2.1360,  34.5634,2,-999.0000,9,     61.4,2,   160.08,2,    41.74,2,     0.00,2,     2.96,2,   -999.0,9,   -999.0,9,-999.0000,9,  -999.00,      550
  49UP20120602,RF1205,  4449,  1,      1,  21997,2,20120710,0543, 31.0130, 144.0077, 5808,   2024.7,   1.9790,  34.5924,2,-999.0000,9,     77.7,6,   159.58,6,    40.71,6,     0.00,6,     2.88,6,   -999.0,9,   -999.0,9,-999.0000,9,  -999.00,      543