BOTTLE,20200205PRINUNIVRMK
# Processed by CCHDO on 2021-06-07, no changes
# 08/30/2019 Initialized README file  
# Data source:  Masao Ishii 2018/11/30 
# SHIP: R/V Ryofu Maru III 
# Cruise: RF11-11 
# Region: North Pacific Ocean 
# EXPOCODE: 49UP20111205 
# DATES: 20111205 - 20111221 
# Chief Scientist: Takahiro Segawa	 
# 17 stations with 36 place Rosette 
# CTD: Who - Hitomi Kamiya; Status - final 
# 	Includes: CTDSAL 
# SALNTY: Who - Hitomi Kamiya; Status - final 
# 	Notes: 	 
# Nutrients: Who - Hitomi Kamiya; Status - final 
# 	Includes: nitrate, nitrite, silicate, phosphate 
# 	Nitrite and NO3+NO2 reported. Separated by subtraction 
# OXYGEN: Who - Hitomi Kamiya; Status - final 
# 	Notes: 
# TCARBN: Who - Hitomi Kamiya; Status - final 
# 	Notes:  
# ALKALI: Who - Hitomi Kamiya; Status - final 
# 	Notes:  
# PH: Who - Hitomi Kamiya; Status - final 
# 	Notes:   
# These data should be cited as: Segawa, Takahiro; Kamiya, Hitomi; Ishii, Masao (2019). Dissolved inorganic carbon (DIC), total alkalinity, pH on total scale, temperature, salinity, oxygen, nutrients and other measurements collected from profile and discrete sample observations during the R/V Ryofu Maru III cruise RF11-11 (EXPOCODE 49UP20111205) in the North Pacific Ocean from 2011-12-05 to 2011-12-21 (NCEI Accession 0186562). [indicate subset used]. NOAA National Centers for Environmental Information. Dataset. https://doi.org/10.25921/c6f0-zz34. Accessed [date].          
# References that have used data from this cruise: 
EXPOCODE,SECT_ID,STNNBR,CASTNO,SAMPNO,BTLNBR,BTLNBR_FLAG_W,DATE,TIME,LATITUDE,LONGITUDE,DEPTH,CTDPRS,CTDTMP,CTDSAL,CTDSAL_FLAG_W,SALNTY,SALNTY_FLAG_W,OXYGEN,OXYGEN_FLAG_W,SILCAT,SILCAT_FLAG_W,NITRAT,NITRAT_FLAG_W,NITRIT,NITRIT_FLAG_W,PHSPHT,PHSPHT_FLAG_W,TCARBN,TCARBN_FLAG_W,ALKALI,ALKALI_FLAG_W,PH_TOT,PH_TOT_FLAG_W,PH_TMP,BTL_TIME
,,,,,,,,,,,METERS,DBAR,ITS-90,PSS-78,,PSS-78,,UMOL/KG,,UMOL/KG,,UMOL/KG,,UMOL/KG,,UMOL/KG,,UMOL/KG,,UMOL/KG,,,,DEG C,
  49UP20111205,RF1111,  4190,  1,     99,     99,2,20111206,0059, 33.9775, 136.9952, 1142,      0.0,  19.1709,  34.4480,2,-999.0000,9,    221.7,2,     5.34,2,     2.69,2,     0.29,2,     0.27,2,   1993.6,2,   2264.2,2,   8.0044,2,    25.00,      125
  49UP20111205,RF1111,  4190,  1,     36,  22109,2,20111206,0059, 33.9775, 136.9952, 1142,     11.3,  19.1740,  34.4479,2,  34.4485,6,    220.9,6,     5.41,6,     2.66,6,     0.30,6,     0.25,6,   1988.8,2,   2266.4,2,   8.0062,2,    25.00,      145
  49UP20111205,RF1111,  4190,  1,     35,  22108,2,20111206,0059, 33.9775, 136.9952, 1142,     26.3,  19.1724,  34.4477,2,-999.0000,9,    220.6,2,     5.32,2,     2.69,2,     0.29,2,     0.26,2,   1990.8,6,   2268.4,6,   8.0048,2,    25.00,      143
  49UP20111205,RF1111,  4190,  1,     34,  22107,2,20111206,0059, 33.9775, 136.9952, 1142,     51.6,  19.0420,  34.4425,2,-999.0000,9,    219.5,2,     5.61,2,     2.68,2,     0.32,2,     0.26,2,   1992.4,2,   2268.5,2,   7.9984,6,    25.00,      137
  49UP20111205,RF1111,  4190,  1,     32,  22105,2,20111206,0059, 33.9775, 136.9952, 1142,     76.0,  18.2136,  34.3953,2,-999.0000,9,    211.7,2,     7.57,2,     4.52,2,     0.44,2,     0.38,2,   2011.8,2,   2267.5,2,   7.9666,2,    25.00,      136
  49UP20111205,RF1111,  4190,  1,     31,  22104,2,20111206,0059, 33.9775, 136.9952, 1142,    102.4,  16.1437,  34.5495,2,  34.5515,2,    170.0,2,    15.41,2,    10.72,2,     0.07,2,     0.77,2,   2071.9,2,   2281.0,2,   7.8616,2,    25.00,      134
  49UP20111205,RF1111,  4190,  1,     30,  22103,3,20111206,0059, 33.9775, 136.9952, 1142,    127.0,  14.7296,  34.5275,2,-999.0000,9,    164.8,2,    19.35,2,    13.16,2,     0.03,2,     0.94,2,   2093.7,2,   2283.5,2,   7.8231,2,    25.00,      133
  49UP20111205,RF1111,  4190,  1,     28,  22101,2,20111206,0059, 33.9775, 136.9952, 1142,    152.3,  13.3184,  34.4764,2,-999.0000,9,    159.4,2,    24.40,2,    15.75,2,     0.01,2,     1.12,2,   2107.5,2,   2285.0,2,   7.7789,2,    25.00,      131
  49UP20111205,RF1111,  4190,  1,     27,  22100,2,20111206,0059, 33.9775, 136.9952, 1142,    203.3,  11.9430,  34.4144,2,  34.4140,2,    153.0,2,    30.25,2,    18.38,2,     0.01,2,     1.31,2,   2140.5,2,   2287.1,2,   7.7372,2,    25.00,      129
  49UP20111205,RF1111,  4190,  1,     26,  22099,2,20111206,0059, 33.9775, 136.9952, 1142,    253.4,  10.7923,  34.3621,2,-999.0000,9,    145.8,2,    36.45,2,    20.86,2,     0.01,2,     1.49,2,   2156.5,2,   2286.8,2,   7.6938,2,    25.00,      127
  49UP20111205,RF1111,  4190,  1,     23,  22096,2,20111206,0059, 33.9775, 136.9952, 1142,    304.2,   9.4605,  34.3016,2,-999.0000,9,    136.0,2,    44.42,2,    23.87,2,     0.01,2,     1.71,2,   2176.1,2,   2290.6,2,   7.6407,2,    25.00,      125
  49UP20111205,RF1111,  4190,  1,     22,  22095,2,20111206,0059, 33.9775, 136.9952, 1142,    405.3,   7.6521,  34.2581,2,  34.2575,2,    115.4,2,    61.23,2,    28.95,2,     0.00,2,     2.08,2,   2231.8,2,   2304.4,2,   7.5592,2,    25.00,      122
  49UP20111205,RF1111,  4190,  1,     21,  22094,2,20111206,0059, 33.9775, 136.9952, 1142,    405.3,   7.6521,  34.2581,2,  34.2573,2,    115.3,2,    61.23,2,    29.01,2,     0.01,2,     2.09,2,   2216.6,3,   2304.8,2,   7.5572,2,    25.00,      122
  49UP20111205,RF1111,  4190,  1,     18,  22091,2,20111206,0059, 33.9775, 136.9952, 1142,    505.6,   6.1780,  34.2671,2,-999.0000,9,     93.9,2,    79.82,2,    33.34,2,     0.01,2,     2.40,2,   2270.0,2,   2321.0,2,   7.4985,2,    25.00,      119
  49UP20111205,RF1111,  4190,  1,     17,  22090,2,20111206,0059, 33.9775, 136.9952, 1142,    608.8,   5.3781,  34.2883,2,  34.2885,2,     82.6,2,    91.77,2,    35.72,2,     0.01,2,     2.56,2,   2286.8,2,   2333.8,2,   7.4608,2,    25.00,      116
  49UP20111205,RF1111,  4190,  1,     16,  22089,2,20111206,0059, 33.9775, 136.9952, 1142,    708.5,   4.3779,  34.3355,2,-999.0000,9,     68.7,2,   107.86,2,    38.39,2,     0.00,2,     2.75,2,   2319.7,2,   2351.9,2,   7.4249,2,    25.00,      112
  49UP20111205,RF1111,  4190,  1,     14,  22087,2,20111206,0059, 33.9775, 136.9952, 1142,    809.3,   4.0355,  34.3624,2,  34.3623,6,     65.0,6,   114.35,6,    39.28,6,     0.01,6,     2.83,6,   2324.8,2,   2364.3,3,   7.4177,2,    25.00,      109
  49UP20111205,RF1111,  4190,  1,     13,  22086,2,20111206,0059, 33.9775, 136.9952, 1142,    909.4,   3.6413,  34.3975,2,-999.0000,9,     63.6,2,   122.22,2,    40.01,2,     0.01,2,     2.87,2,   2336.5,2,   2368.1,2,   7.4177,2,    25.00,      106
  49UP20111205,RF1111,  4190,  1,     12,  22074,2,20111206,0059, 33.9775, 136.9952, 1142,   1011.0,   3.2487,  34.4364,2,  34.4373,2,     64.2,2,   129.83,2,    40.49,2,     0.01,2,     2.91,2,   2343.7,6,   2373.7,6,   7.4087,2,    25.00,      103
  49UP20111205,RF1111,  4190,  1,     10,  22083,2,20111206,0059, 33.9775, 136.9952, 1142,   1119.5,   2.8803,  34.4797,2,-999.0000,9,     69.6,2,   136.43,2,    40.36,2,     0.01,2,     2.88,2,   2354.3,2,   2384.3,2,   7.4210,6,    25.00,       59
  49UP20111205,RF1111,  4190,  1,      9,  22082,3,20111206,0059, 33.9775, 136.9952, 1142,   1120.3,   2.8773,  34.4801,2,  34.4801,2,     69.6,2,   136.38,2,    40.66,2,     0.01,2,     2.90,2,   2351.3,2,   2385.7,2,   7.4193,2,    25.00,       59
  49UP20111205,RF1111,  4190,  1,      8,  22081,2,20111206,0059, 33.9775, 136.9952, 1142,   1120.3,   2.8773,  34.4801,2,  34.4802,2,     69.8,2,   136.53,2,    40.49,2,     0.01,2,     2.89,2,   2355.1,2,   2386.4,2,   7.4240,2,    25.00,       59
  49UP20111205,RF1111,  4193,  1,     99,     99,2,20111206,1140, 32.9895, 137.0243, 4264,      0.0,  23.3205,  34.6814,2,-999.0000,9,    211.9,2,     1.46,2,     0.09,2,     0.02,2,     0.05,2,   -999.0,9,   -999.0,9,-999.0000,9,  -999.00,     1220
  49UP20111205,RF1111,  4193,  1,     36,  22109,2,20111206,1140, 32.9895, 137.0243, 4264,     11.1,  23.3216,  34.6778,2,-999.0000,9,    211.0,2,     1.38,2,     0.02,2,     0.01,2,     0.02,2,   -999.0,9,   -999.0,9,-999.0000,9,  -999.00,     1241
  49UP20111205,RF1111,  4193,  1,     35,  22108,2,20111206,1140, 32.9895, 137.0243, 4264,     26.4,  23.3359,  34.6818,2,-999.0000,9,    210.8,6,     1.38,6,     0.03,6,     0.01,6,     0.02,6,   -999.0,9,   -999.0,9,-999.0000,9,  -999.00,     1240
  49UP20111205,RF1111,  4193,  1,     34,  22107,2,20111206,1140, 32.9895, 137.0243, 4264,     53.1,  23.3557,  34.6868,2,-999.0000,9,    210.7,2,     1.42,2,     0.05,2,     0.01,2,     0.03,2,   -999.0,9,   -999.0,9,-999.0000,9,  -999.00,     1235
  49UP20111205,RF1111,  4193,  1,     32,  22105,2,20111206,1140, 32.9895, 137.0243, 4264,     73.3,  23.3635,  34.6874,2,-999.0000,9,    211.0,2,     1.34,2,     0.02,2,     0.01,2,     0.02,2,   -999.0,9,   -999.0,9,-999.0000,9,  -999.00,     1234
  49UP20111205,RF1111,  4193,  1,     31,  22104,2,20111206,1140, 32.9895, 137.0243, 4264,    107.2,  23.3814,  34.6971,2,-999.0000,9,    211.3,2,     1.38,2,     0.02,2,     0.01,2,     0.03,2,   -999.0,9,   -999.0,9,-999.0000,9,  -999.00,     1233
  49UP20111205,RF1111,  4193,  1,     30,  22103,2,20111206,1140, 32.9895, 137.0243, 4264,    126.4,  22.0529,  34.7839,2,-999.0000,9,    191.8,2,     2.55,2,     2.00,2,     0.03,2,     0.16,2,   -999.0,9,   -999.0,9,-999.0000,9,  -999.00,     1231
  49UP20111205,RF1111,  4193,  1,     28,  22101,2,20111206,1140, 32.9895, 137.0243, 4264,    151.5,  20.9403,  34.7965,2,-999.0000,9,    191.9,2,     2.70,2,     2.51,2,     0.02,2,     0.19,2,   -999.0,9,   -999.0,9,-999.0000,9,  -999.00,     1230
  49UP20111205,RF1111,  4193,  1,     27,  22100,2,20111206,1140, 32.9895, 137.0243, 4264,    201.8,  19.1664,  34.7582,2,-999.0000,9,    192.1,2,     3.83,2,     3.97,2,     0.01,2,     0.28,2,   -999.0,9,   -999.0,9,-999.0000,9,  -999.00,     1228
  49UP20111205,RF1111,  4193,  1,     26,  22099,2,20111206,1140, 32.9895, 137.0243, 4264,    251.9,  18.1745,  34.7250,2,-999.0000,9,    189.4,2,     5.02,2,     5.34,2,     0.01,2,     0.37,2,   -999.0,9,   -999.0,9,-999.0000,9,  -999.00,     1227
  49UP20111205,RF1111,  4193,  1,     23,  22096,2,20111206,1140, 32.9895, 137.0243, 4264,    303.6,  17.0233,  34.6733,2,-999.0000,9,    185.1,2,     7.30,2,     7.23,2,     0.00,2,     0.50,2,   -999.0,9,   -999.0,9,-999.0000,9,  -999.00,     1225
  49UP20111205,RF1111,  4193,  1,     22,  22095,2,20111206,1140, 32.9895, 137.0243, 4264,    303.6,  17.0233,  34.6733,2,-999.0000,9,    185.0,2,     7.32,2,     7.24,2,     0.00,2,     0.50,2,   -999.0,9,   -999.0,9,-999.0000,9,  -999.00,     1225
  49UP20111205,RF1111,  4193,  1,     21,  22094,2,20111206,1140, 32.9895, 137.0243, 4264,    403.7,  14.3440,  34.5276,2,-999.0000,9,    172.5,2,    16.07,2,    12.60,2,     0.00,2,     0.89,2,   -999.0,9,   -999.0,9,-999.0000,9,  -999.00,     1222
  49UP20111205,RF1111,  4193,  1,     18,  22091,2,20111206,1140, 32.9895, 137.0243, 4264,    505.6,  11.2156,  34.3657,2,-999.0000,9,    152.7,2,    30.52,2,    19.28,2,     0.00,2,     1.38,2,   -999.0,9,   -999.0,9,-999.0000,9,  -999.00,     1220
  49UP20111205,RF1111,  4193,  1,     17,  22090,2,20111206,1140, 32.9895, 137.0243, 4264,    606.9,   8.3594,  34.2448,2,-999.0000,9,    127.3,2,    51.26,2,    26.45,2,     0.00,2,     1.92,2,   -999.0,9,   -999.0,9,-999.0000,9,  -999.00,     1217
  49UP20111205,RF1111,  4193,  1,     16,  22089,2,20111206,1140, 32.9895, 137.0243, 4264,    707.8,   5.9740,  34.1910,2,-999.0000,9,     94.8,2,    74.73,2,    33.56,2,     0.00,2,     2.42,2,   -999.0,9,   -999.0,9,-999.0000,9,  -999.00,     1214
  49UP20111205,RF1111,  4193,  1,     14,  22087,2,20111206,1140, 32.9895, 137.0243, 4264,    809.0,   4.9832,  34.2938,2,-999.0000,9,     74.9,2,    95.62,2,    36.96,2,     0.00,2,     2.66,2,   -999.0,9,   -999.0,9,-999.0000,9,  -999.00,     1208
  49UP20111205,RF1111,  4193,  1,     13,  22086,2,20111206,1140, 32.9895, 137.0243, 4264,    909.7,   4.1212,  34.3380,2,-999.0000,9,     63.4,6,   111.35,6,    39.11,6,     0.00,6,     2.81,6,   -999.0,9,   -999.0,9,-999.0000,9,  -999.00,     1205
  49UP20111205,RF1111,  4193,  1,     12,  22074,2,20111206,1140, 32.9895, 137.0243, 4264,   1011.4,   3.6347,  34.3890,2,-999.0000,9,     60.7,2,   121.66,2,    40.21,2,     0.00,2,     2.88,2,   -999.0,9,   -999.0,9,-999.0000,9,  -999.00,     1202
  49UP20111205,RF1111,  4193,  1,     10,  22083,2,20111206,1140, 32.9895, 137.0243, 4264,   1212.6,   3.0247,  34.4581,2,-999.0000,9,     63.2,2,   133.80,2,    40.70,2,     0.00,2,     2.90,2,   -999.0,9,   -999.0,9,-999.0000,9,  -999.00,     1158
  49UP20111205,RF1111,  4193,  1,      9,  22082,2,20111206,1140, 32.9895, 137.0243, 4264,   1415.4,   2.6485,  34.5082,2,-999.0000,9,     72.5,2,   140.45,2,    40.24,2,     0.00,2,     2.88,2,   -999.0,9,   -999.0,9,-999.0000,9,  -999.00,     1153
  49UP20111205,RF1111,  4193,  1,      8,  22081,2,20111206,1140, 32.9895, 137.0243, 4264,   1617.6,   2.3755,  34.5469,2,-999.0000,9,     84.4,2,   143.37,2,    39.82,2,     0.00,2,     2.83,2,   -999.0,9,   -999.0,9,-999.0000,9,  -999.00,     1149
  49UP20111205,RF1111,  4193,  1,      5,  22078,2,20111206,1140, 32.9895, 137.0243, 4264,   1819.9,   2.1492,  34.5796,2,-999.0000,9,     96.2,2,   144.98,2,    39.20,2,     0.00,2,     2.78,2,   -999.0,9,   -999.0,9,-999.0000,9,  -999.00,     1144
  49UP20111205,RF1111,  4193,  1,      4,  22077,2,20111206,1140, 32.9895, 137.0243, 4264,   1819.9,   2.1492,  34.5796,2,-999.0000,9,     96.2,2,   145.11,2,    39.17,2,     0.00,2,     2.79,2,   -999.0,9,   -999.0,9,-999.0000,9,  -999.00,     1144
  49UP20111205,RF1111,  4193,  1,      3,  22076,2,20111206,1140, 32.9895, 137.0243, 4264,   2023.6,   1.9866,  34.6035,2,-999.0000,9,    106.2,2,   145.68,2,    38.72,2,     0.00,2,     2.73,2,   -999.0,9,   -999.0,9,-999.0000,9,  -999.00,     1140
  49UP20111205,RF1111,  4196,  1,     99,     99,2,20111206,2207, 31.9838, 137.0157, 4204,      0.0,  22.8284,  34.6709,2,-999.0000,9,    213.4,2,     1.45,2,     0.06,2,     0.01,2,     0.04,2,   1964.3,2,   2271.4,2,   8.0684,2,    25.00,     2300
  49UP20111205,RF1111,  4196,  1,     36,  22109,2,20111206,2207, 31.9838, 137.0157, 4204,     11.1,  22.8328,  34.6705,2,  34.6693,2,    213.0,2,     1.45,2,     0.06,2,     0.00,2,     0.02,2,   1965.0,2,   2278.3,2,   8.0690,2,    25.00,     2315
  49UP20111205,RF1111,  4196,  1,     35,  22108,2,20111206,2207, 31.9838, 137.0157, 4204,     25.9,  22.8386,  34.6691,2,-999.0000,9,    213.1,2,     1.45,2,     0.01,2,     0.00,2,     0.01,2,   1964.1,2,   2268.4,2,   8.0687,2,    25.00,     2313
  49UP20111205,RF1111,  4196,  1,     34,  22107,2,20111206,2207, 31.9838, 137.0157, 4204,     52.2,  22.8283,  34.6669,2,-999.0000,9,    213.1,6,     1.42,6,     0.04,6,     0.00,2,     0.01,2,   1962.7,2,   2265.1,2,   8.0691,2,    25.00,     2308
  49UP20111205,RF1111,  4196,  1,     32,  22105,2,20111206,2207, 31.9838, 137.0157, 4204,     75.4,  22.4577,  34.6407,2,-999.0000,9,    215.6,2,     1.46,2,     0.00,2,     0.00,2,     0.01,2,   1966.6,6,   2275.5,6,   8.0687,2,    25.00,     2307
  49UP20111205,RF1111,  4196,  1,     31,  22104,2,20111206,2207, 31.9838, 137.0157, 4204,    101.7,  22.3539,  34.6320,2,  34.6358,4,    214.4,2,     1.47,2,     0.08,2,     0.03,2,     0.02,2,   1964.8,2,   2266.7,2,   8.0602,6,    25.00,     2305
  49UP20111205,RF1111,  4196,  1,     30,  22103,2,20111206,2207, 31.9838, 137.0157, 4204,    127.1,  20.4810,  34.7744,2,-999.0000,9,    202.0,2,     2.23,2,     1.90,2,     0.04,2,     0.14,2,   2002.3,2,   2277.1,2,   8.0094,2,    25.00,     2304
  49UP20111205,RF1111,  4196,  1,     28,  22101,2,20111206,2207, 31.9838, 137.0157, 4204,    151.1,  19.6015,  34.7844,2,-999.0000,9,    204.0,2,     2.40,2,     2.37,2,     0.02,2,     0.17,2,   2010.8,2,   2274.4,2,   7.9993,2,    25.00,     2303
  49UP20111205,RF1111,  4196,  1,     27,  22100,2,20111206,2207, 31.9838, 137.0157, 4204,    203.4,  18.8605,  34.7730,2,  34.7724,2,    208.2,2,     2.47,2,     2.65,2,     0.01,2,     0.18,2,   2011.2,3,   2274.0,3,   7.9949,2,    25.00,     2301
  49UP20111205,RF1111,  4196,  1,     26,  22099,2,20111206,2207, 31.9838, 137.0157, 4204,    203.4,  18.8605,  34.7730,2,  34.7732,2,    208.2,2,     2.56,2,     2.65,2,     0.01,2,     0.19,2,   2017.6,2,   2282.8,2,   7.9929,2,    25.00,     2301
  49UP20111205,RF1111,  4196,  1,     23,  22096,2,20111206,2207, 31.9838, 137.0157, 4204,    253.4,  18.4826,  34.7675,2,-999.0000,9,    211.8,2,     2.73,2,     2.75,2,     0.01,2,     0.19,2,   2017.6,2,   2275.8,2,   7.9867,2,    25.00,     2300
  49UP20111205,RF1111,  4196,  1,     22,  22095,2,20111206,2207, 31.9838, 137.0157, 4204,    303.8,  18.3496,  34.7629,2,-999.0000,9,    225.6,4,     2.75,2,     2.80,2,     0.01,2,     0.20,2,   2015.0,2,   2284.9,2,   7.9849,2,    25.00,     2258
  49UP20111205,RF1111,  4196,  1,     19,  22092,2,20111206,2207, 31.9838, 137.0157, 4204,    404.5,  17.5697,  34.7210,2,  34.7217,2,    204.7,2,     4.25,2,     4.55,2,     0.00,2,     0.31,2,   2032.3,2,   2281.7,2,   7.9578,2,    25.00,     2254
  49UP20111205,RF1111,  4196,  1,     18,  22091,2,20111206,2207, 31.9838, 137.0157, 4204,    505.3,  16.0193,  34.6334,2,-999.0000,9,    184.5,2,     8.88,2,     8.74,2,     0.00,2,     0.60,2,   2063.0,2,   2278.1,2,   7.8843,2,    25.00,     2251
  49UP20111205,RF1111,  4196,  1,     17,  22090,2,20111206,2207, 31.9838, 137.0157, 4204,    606.4,  13.3989,  34.4733,2,  34.4752,2,    172.8,2,    17.94,2,    14.01,2,     0.00,2,     0.99,2,   2103.6,2,   2278.9,2,   7.8034,2,    25.00,     2248
  49UP20111205,RF1111,  4196,  1,     16,  22089,2,20111206,2207, 31.9838, 137.0157, 4204,    707.4,  10.6683,  34.3190,2,-999.0000,9,    156.4,2,    32.51,2,    20.05,2,     0.00,2,     1.43,2,   2147.7,2,   2286.0,2,   7.7028,2,    25.00,     2244
  49UP20111205,RF1111,  4196,  1,     14,  22087,2,20111206,2207, 31.9838, 137.0157, 4204,    808.1,   8.1161,  34.2426,2,  34.2436,2,    127.1,2,    54.45,2,    27.13,2,     0.00,2,     1.95,2,   2203.2,2,   2291.0,2,   7.5913,2,    25.00,     2239
  49UP20111205,RF1111,  4196,  1,     13,  22086,2,20111206,2207, 31.9838, 137.0157, 4204,    908.3,   6.0100,  34.2343,2,-999.0000,9,     94.4,2,    79.27,2,    33.72,2,     0.00,2,     2.43,2,   2275.7,2,   2323.8,2,   7.4820,2,    25.00,     2235
  49UP20111205,RF1111,  4196,  1,     12,  22074,2,20111206,2207, 31.9838, 137.0157, 4204,   1013.1,   4.8311,  34.2958,2,  34.2955,6,     72.1,6,    99.16,6,    37.44,6,     0.00,6,     2.70,6,   2303.2,2,   2344.5,2,   7.4420,2,    25.00,     2231
  49UP20111205,RF1111,  4196,  1,     10,  22083,2,20111206,2207, 31.9838, 137.0157, 4204,   1214.9,   3.6472,  34.3949,2,  34.3949,2,     62.2,2,   122.35,2,    40.01,2,     0.00,2,     2.86,2,   2337.4,6,   2360.2,2,   7.4063,2,    25.00,     2224
  49UP20111205,RF1111,  4196,  1,      9,  22082,2,20111206,2207, 31.9838, 137.0157, 4204,   1417.2,   3.0554,  34.4575,2,  34.4580,2,     64.4,2,   134.08,2,    40.65,2,     0.00,2,     2.89,2,   2350.3,2,   2368.6,3,   7.4143,6,    25.00,     2219
  49UP20111205,RF1111,  4196,  1,      8,  22081,2,20111206,2207, 31.9838, 137.0157, 4204,   1417.2,   3.0554,  34.4575,2,  34.4581,2,     64.6,2,   134.14,2,    40.71,2,     0.00,2,     2.90,2,   2351.6,2,   2389.6,2,   7.4133,2,    25.00,     2219
  49UP20111205,RF1111,  4196,  1,      5,  22078,2,20111206,2207, 31.9838, 137.0157, 4204,   1620.2,   2.5864,  34.5160,2,  34.5167,2,     73.1,2,   142.27,2,    40.61,2,     0.00,2,     2.88,2,   2356.2,2,   2390.5,2,   7.4333,2,    25.00,     2215
  49UP20111205,RF1111,  4196,  1,      4,  22077,2,20111206,2207, 31.9838, 137.0157, 4204,   1820.8,   2.2975,  34.5562,2,  34.5573,2,     84.9,2,   146.36,2,    40.01,2,     0.00,2,     2.84,2,   2356.0,2,   2394.0,2,   7.4529,2,    25.00,     2211
  49UP20111205,RF1111,  4196,  1,      3,  22076,3,20111206,2207, 31.9838, 137.0157, 4204,   2022.9,   2.1064,  34.5842,2,  34.5837,2,     93.5,2,   148.11,2,    39.71,2,     0.00,2,     2.80,2,   2354.9,2,   2391.2,2,   7.4688,2,    25.00,     2207