BOTTLE,20200205PRINUNIVRMK
EXPOCODE,SECT_ID,STNNBR,CASTNO,SAMPNO,BTLNBR,BTLNBR_FLAG_W,DATE,TIME,LATITUDE,LONGITUDE,DEPTH,CTDPRS,CTDTMP,CTDSAL,CTDSAL_FLAG_W,SALNTY,SALNTY_FLAG_W,OXYGEN,OXYGEN_FLAG_W,SILCAT,SILCAT_FLAG_W,NITRAT,NITRAT_FLAG_W,NITRIT,NITRIT_FLAG_W,PHSPHT,PHSPHT_FLAG_W,TCARBN,TCARBN_FLAG_W,ALKALI,ALKALI_FLAG_W,PH_TOT,PH_TOT_FLAG_W,PH_TMP,BTL_TIME
,,,,,,,,,,,METERS,DBAR,ITS-90,PSS-78,,PSS-78,,UMOL/KG,,UMOL/KG,,UMOL/KG,,UMOL/KG,,UMOL/KG,,UMOL/KG,,UMOL/KG,,,,DEG C,
  49UP20111205,RF1111,  4206,  1,     99,     99,2,20111210,1009, 24.9918, 136.9903, 5206,      0.0,  25.9371,  34.7178,2,-999.0000,9,    205.6,2,     1.02,2,     0.04,2,     0.00,2,     0.03,2,   -999.0,9,   -999.0,9,-999.0000,9,  -999.00,     1055
  49UP20111205,RF1111,  4206,  1,     36,  22109,2,20111210,1009, 24.9918, 136.9903, 5206,     11.8,  25.9442,  34.7175,2,-999.0000,9,    205.5,2,     0.99,2,     0.00,2,     0.00,2,     0.01,2,   -999.0,9,   -999.0,9,-999.0000,9,  -999.00,     1116
  49UP20111205,RF1111,  4206,  1,     35,  22108,2,20111210,1009, 24.9918, 136.9903, 5206,     26.9,  25.9460,  34.7175,2,-999.0000,9,    205.5,2,     0.88,2,     0.00,2,     0.00,2,     0.01,2,   -999.0,9,   -999.0,9,-999.0000,9,  -999.00,     1114
  49UP20111205,RF1111,  4206,  1,     34,  22107,2,20111210,1009, 24.9918, 136.9903, 5206,     51.3,  25.9363,  34.7191,2,-999.0000,9,    205.6,2,     0.86,2,     0.00,2,     0.00,2,     0.01,2,   -999.0,9,   -999.0,9,-999.0000,9,  -999.00,     1110
  49UP20111205,RF1111,  4206,  1,     32,  22105,2,20111210,1009, 24.9918, 136.9903, 5206,     77.1,  24.0255,  34.7692,2,-999.0000,9,    214.1,2,     1.38,2,     0.00,2,     0.00,2,     0.01,2,   -999.0,9,   -999.0,9,-999.0000,9,  -999.00,     1108
  49UP20111205,RF1111,  4206,  1,     31,  22104,2,20111210,1009, 24.9918, 136.9903, 5206,    101.7,  21.1534,  34.8733,2,-999.0000,9,    217.8,2,     1.66,2,     0.00,2,     0.00,2,     0.03,2,   -999.0,9,   -999.0,9,-999.0000,9,  -999.00,     1107
  49UP20111205,RF1111,  4206,  1,     30,  22103,3,20111210,1009, 24.9918, 136.9903, 5206,    126.3,  19.6087,  34.8205,2,-999.0000,9,    204.0,2,     2.10,2,     0.92,2,     0.03,2,     0.09,2,   -999.0,9,   -999.0,9,-999.0000,9,  -999.00,     1106
  49UP20111205,RF1111,  4206,  1,     27,  22100,2,20111210,1009, 24.9918, 136.9903, 5206,    151.8,  18.8549,  34.7809,2,-999.0000,9,    200.8,2,     2.65,2,     2.62,2,     0.01,2,     0.19,2,   -999.0,9,   -999.0,9,-999.0000,9,  -999.00,     1105
  49UP20111205,RF1111,  4206,  1,     26,  22099,2,20111210,1009, 24.9918, 136.9903, 5206,    203.7,  18.0871,  34.7334,2,-999.0000,9,    202.2,2,     3.19,2,     3.78,2,     0.00,2,     0.25,2,   -999.0,9,   -999.0,9,-999.0000,9,  -999.00,     1103
  49UP20111205,RF1111,  4206,  1,     25,  22098,2,20111210,1009, 24.9918, 136.9903, 5206,    254.0,  17.4562,  34.7041,2,-999.0000,9,    201.6,2,     4.20,2,     4.79,2,     0.00,2,     0.32,2,   -999.0,9,   -999.0,9,-999.0000,9,  -999.00,     1102
  49UP20111205,RF1111,  4206,  1,     22,  22095,2,20111210,1009, 24.9918, 136.9903, 5206,    302.9,  16.6390,  34.6631,2,-999.0000,9,    199.2,2,     5.63,2,     6.24,2,     0.00,2,     0.42,2,   -999.0,9,   -999.0,9,-999.0000,9,  -999.00,     1100
  49UP20111205,RF1111,  4206,  1,     21,  22094,2,20111210,1009, 24.9918, 136.9903, 5206,    302.9,  16.6390,  34.6631,2,-999.0000,9,    199.1,6,     5.57,6,     6.23,6,     0.00,6,     0.42,6,   -999.0,9,   -999.0,9,-999.0000,9,  -999.00,     1100
  49UP20111205,RF1111,  4206,  1,     20,  22093,2,20111210,1009, 24.9918, 136.9903, 5206,    406.2,  14.2854,  34.5119,2,-999.0000,9,    188.2,2,    11.45,2,    10.74,2,     0.00,2,     0.74,2,   -999.0,9,   -999.0,9,-999.0000,9,  -999.00,     1057
  49UP20111205,RF1111,  4206,  1,     18,  22091,2,20111210,1009, 24.9918, 136.9903, 5206,    504.8,  11.0537,  34.2935,2,-999.0000,9,    179.9,2,    23.70,2,    16.90,2,     0.00,2,     1.20,2,   -999.0,9,   -999.0,9,-999.0000,9,  -999.00,     1055
  49UP20111205,RF1111,  4206,  1,     17,  22090,2,20111210,1009, 24.9918, 136.9903, 5206,    607.6,   8.0347,  34.1223,2,-999.0000,9,    151.4,6,    43.52,6,    24.75,6,     0.00,6,     1.78,6,   -999.0,9,   -999.0,9,-999.0000,9,  -999.00,     1052
  49UP20111205,RF1111,  4206,  1,     16,  22089,2,20111210,1009, 24.9918, 136.9903, 5206,    707.2,   6.2414,  34.1195,2,-999.0000,9,    110.5,2,    66.84,2,    31.65,2,     0.00,2,     2.28,2,   -999.0,9,   -999.0,9,-999.0000,9,  -999.00,     1049
  49UP20111205,RF1111,  4206,  1,     14,  22087,2,20111210,1009, 24.9918, 136.9903, 5206,    806.4,   5.0311,  34.1966,2,-999.0000,9,     77.8,2,    89.49,2,    36.40,2,     0.00,2,     2.62,2,   -999.0,9,   -999.0,9,-999.0000,9,  -999.00,     1043
  49UP20111205,RF1111,  4206,  1,     13,  22086,2,20111210,1009, 24.9918, 136.9903, 5206,    907.4,   4.3214,  34.2723,2,-999.0000,9,     61.7,2,   104.68,2,    38.80,2,     0.00,2,     2.79,2,   -999.0,9,   -999.0,9,-999.0000,9,  -999.00,     1039
  49UP20111205,RF1111,  4206,  1,     12,  22074,2,20111210,1009, 24.9918, 136.9903, 5206,   1010.0,   3.8521,  34.3354,2,-999.0000,9,     55.1,2,   115.52,2,    40.05,2,     0.00,2,     2.88,2,   -999.0,9,   -999.0,9,-999.0000,9,  -999.00,     1036
  49UP20111205,RF1111,  4206,  1,      9,  22082,2,20111210,1009, 24.9918, 136.9903, 5206,   1210.9,   3.1615,  34.4314,2,-999.0000,9,     55.2,2,   131.41,2,    40.91,2,     0.00,2,     2.93,2,   -999.0,9,   -999.0,9,-999.0000,9,  -999.00,     1031
  49UP20111205,RF1111,  4206,  1,      8,  22081,2,20111210,1009, 24.9918, 136.9903, 5206,   1416.0,   2.7093,  34.4970,2,-999.0000,9,     66.2,2,   139.93,2,    40.62,2,     0.00,2,     2.90,2,   -999.0,9,   -999.0,9,-999.0000,9,  -999.00,     1025
  49UP20111205,RF1111,  4206,  1,      7,  22080,2,20111210,1009, 24.9918, 136.9903, 5206,   1617.5,   2.3435,  34.5539,2,-999.0000,9,     84.3,2,   143.64,2,    39.65,2,     0.00,2,     2.82,2,   -999.0,9,   -999.0,9,-999.0000,9,  -999.00,     1019
  49UP20111205,RF1111,  4206,  1,      4,  22077,2,20111210,1009, 24.9918, 136.9903, 5206,   1819.7,   2.1353,  34.5890,2,-999.0000,9,    101.5,4,   143.36,2,    38.63,2,     0.00,2,     2.74,2,   -999.0,9,   -999.0,9,-999.0000,9,  -999.00,     1013
  49UP20111205,RF1111,  4206,  1,      3,  22076,3,20111210,1009, 24.9918, 136.9903, 5206,   1819.7,   2.1353,  34.5890,2,-999.0000,9,    100.8,2,   143.44,2,    38.72,2,     0.00,2,     2.74,2,   -999.0,9,   -999.0,9,-999.0000,9,  -999.00,     1013
  49UP20111205,RF1111,  4206,  1,      2,  22075,2,20111210,1009, 24.9918, 136.9903, 5206,   2023.2,   1.9831,  34.6123,2,-999.0000,9,    111.2,2,   143.82,2,    38.13,2,     0.00,2,     2.70,2,   -999.0,9,   -999.0,9,-999.0000,9,  -999.00,     1009
  49UP20111205,RF1111,  4207,  1,     99,     99,2,20111210,1651, 23.9970, 136.9953, 3925,      0.0,  26.1759,  34.7083,2,-999.0000,9,    204.7,2,     1.15,2,     0.04,2,     0.00,2,     0.03,2,   1944.6,2,   2272.8,2,   8.1017,2,    25.00,     1735
  49UP20111205,RF1111,  4207,  1,     36,  22109,2,20111210,1651, 23.9970, 136.9953, 3925,     10.5,  26.1936,  34.7175,2,  34.7162,2,    204.2,2,     1.19,2,     0.07,2,     0.00,2,     0.01,2,   1946.4,2,   2272.5,2,   8.1058,2,    25.00,     1759
  49UP20111205,RF1111,  4207,  1,     35,  22108,2,20111210,1651, 23.9970, 136.9953, 3925,     26.2,  26.1962,  34.7191,2,-999.0000,9,    204.5,2,     1.10,2,     0.05,2,     0.00,2,     0.02,2,   1946.8,2,   2272.5,2,   8.1017,2,    25.00,     1758
  49UP20111205,RF1111,  4207,  1,     34,  22107,2,20111210,1651, 23.9970, 136.9953, 3925,     52.0,  26.1859,  34.7252,2,-999.0000,9,    204.8,2,     1.19,2,     0.06,2,     0.00,2,     0.02,2,   1948.5,2,   2273.4,2,   8.0952,2,    25.00,     1756
  49UP20111205,RF1111,  4207,  1,     32,  22105,2,20111210,1651, 23.9970, 136.9953, 3925,     75.5,  25.1583,  34.7911,2,-999.0000,9,    211.6,2,     1.23,2,     0.07,2,     0.00,2,     0.01,2,   1960.6,2,   2274.4,2,   8.0832,6,    25.00,     1754
  49UP20111205,RF1111,  4207,  1,     31,  22104,2,20111210,1651, 23.9970, 136.9953, 3925,    102.6,  20.9276,  34.8363,2,  34.8342,2,    207.8,2,     1.97,2,     0.24,2,     0.06,2,     0.05,2,   2001.1,2,   2287.0,2,   8.0207,2,    25.00,     1752
  49UP20111205,RF1111,  4207,  1,     30,  22103,2,20111210,1651, 23.9970, 136.9953, 3925,    126.7,  20.3016,  34.8478,2,-999.0000,9,    198.8,2,     2.28,2,     1.56,2,     0.08,2,     0.11,2,   2012.1,2,   2288.4,2,   7.9969,2,    25.00,     1751
  49UP20111205,RF1111,  4207,  1,     27,  22100,2,20111210,1651, 23.9970, 136.9953, 3925,    151.2,  19.3546,  34.7992,2,-999.0000,9,    197.2,2,     2.75,2,     2.83,2,     0.02,2,     0.19,2,   2017.8,2,   2278.2,2,   7.9760,2,    25.00,     1747
  49UP20111205,RF1111,  4207,  1,     26,  22099,2,20111210,1651, 23.9970, 136.9953, 3925,    202.5,  18.3363,  34.7494,2,  34.7488,2,    202.4,2,     3.46,2,     3.68,2,     0.01,2,     0.25,2,   2023.4,2,   2276.2,2,   7.9687,2,    25.00,     1745
  49UP20111205,RF1111,  4207,  1,     25,  22098,2,20111210,1651, 23.9970, 136.9953, 3925,    252.5,  17.4420,  34.7098,2,-999.0000,9,    200.2,2,     4.65,2,     5.13,2,     0.01,2,     0.34,2,   2036.8,2,   2273.4,2,   7.9467,2,    25.00,     1742
  49UP20111205,RF1111,  4207,  1,     24,  22097,2,20111210,1651, 23.9970, 136.9953, 3925,    252.5,  17.4420,  34.7098,2,-999.0000,9,    200.2,2,     4.49,2,     5.11,2,     0.00,2,     0.34,2,   2034.1,2,   2272.4,2,   7.9430,2,    25.00,     1742
  49UP20111205,RF1111,  4207,  1,     21,  22094,2,20111210,1651, 23.9970, 136.9953, 3925,    300.6,  16.3483,  34.6477,2,-999.0000,9,    191.5,2,     6.95,2,     7.49,2,     0.00,2,     0.50,2,   2052.0,2,   2273.1,2,   7.9070,2,    25.00,     1740
  49UP20111205,RF1111,  4207,  1,     20,  22093,2,20111210,1651, 23.9970, 136.9953, 3925,    404.0,  13.0360,  34.4384,2,  34.4404,6,    180.6,6,    16.54,6,    13.62,6,     0.00,6,     0.95,6,   2096.3,2,   2279.7,2,   7.8013,2,    25.00,     1736
  49UP20111205,RF1111,  4207,  1,     18,  22091,2,20111210,1651, 23.9970, 136.9953, 3925,    506.0,  10.0249,  34.2367,2,-999.0000,9,    165.5,2,    29.80,2,    20.06,2,     0.00,2,     1.43,2,   2140.8,2,   2271.8,2,   7.6990,2,    25.00,     1733
  49UP20111205,RF1111,  4207,  1,     17,  22090,2,20111210,1651, 23.9970, 136.9953, 3925,    606.9,   7.1194,  34.1261,2,  34.1249,2,    126.9,2,    54.92,2,    28.57,2,     0.00,2,     2.06,2,   2210.5,2,   2283.5,2,   7.5517,2,    25.00,     1730
  49UP20111205,RF1111,  4207,  1,     16,  22089,2,20111210,1651, 23.9970, 136.9953, 3925,    706.5,   5.7404,  34.1394,2,-999.0000,9,     92.9,6,    74.55,6,    34.21,6,     0.00,6,     2.48,6,   2260.4,2,   2311.7,2,   7.4623,2,    25.00,     1727
  49UP20111205,RF1111,  4207,  1,     14,  22087,2,20111210,1651, 23.9970, 136.9953, 3925,    808.6,   4.8882,  34.2101,2,  34.2090,6,     70.3,2,    91.28,2,    37.52,2,     0.00,2,     2.71,2,   2295.1,6,   2331.5,2,   7.4237,3,    25.00,     1723
  49UP20111205,RF1111,  4207,  1,     13,  22086,2,20111210,1651, 23.9970, 136.9953, 3925,    908.3,   4.2602,  34.2910,2,-999.0000,9,     57.8,2,   105.38,2,    39.41,2,     0.00,2,     2.84,2,   2318.2,2,   2338.3,2,   7.3932,2,    25.00,     1720
  49UP20111205,RF1111,  4207,  1,     12,  22074,2,20111210,1651, 23.9970, 136.9953, 3925,   1009.8,   3.8154,  34.3684,2,  34.3684,2,     56.4,2,   116.04,2,    40.28,2,     0.00,2,     2.89,2,   2333.5,2,   2340.9,3,   7.4022,2,    25.00,     1717
  49UP20111205,RF1111,  4207,  1,      9,  22082,2,20111210,1651, 23.9970, 136.9953, 3925,   1212.4,   3.1998,  34.4606,2,  34.4598,2,     63.0,2,   128.46,2,    40.50,2,     0.00,2,     2.90,2,   2353.9,2,   2373.4,2,   7.4143,2,    25.00,     1712
  49UP20111205,RF1111,  4207,  1,      8,  22081,2,20111210,1651, 23.9970, 136.9953, 3925,   1415.7,   2.7012,  34.5231,2,  34.5215,4,     77.4,2,   137.17,2,    39.98,2,     0.00,2,     2.85,2,   2354.7,2,   2388.3,2,   7.4448,2,    25.00,     1707
  49UP20111205,RF1111,  4207,  1,      7,  22080,2,20111210,1651, 23.9970, 136.9953, 3925,   1618.4,   2.3771,  34.5669,2,  34.5661,2,     92.7,2,   140.13,2,    39.24,2,     0.00,2,     2.78,2,   2346.4,2,   2391.5,3,   7.4695,3,    25.00,     1701
  49UP20111205,RF1111,  4207,  1,      6,  22079,2,20111210,1651, 23.9970, 136.9953, 3925,   1618.4,   2.3771,  34.5669,2,  34.5661,2,     92.8,2,   140.62,2,    39.20,2,     0.00,2,     2.78,2,   2346.0,2,   2403.1,2,   7.4753,2,    25.00,     1701
  49UP20111205,RF1111,  4207,  1,      3,  22076,2,20111210,1651, 23.9970, 136.9953, 3925,   1820.7,   2.1689,  34.5920,2,  34.5916,2,    102.4,2,   142.14,2,    38.80,2,     0.00,2,     2.74,2,   2343.6,2,   2387.5,3,   7.4924,2,    25.00,     1656
  49UP20111205,RF1111,  4207,  1,      2,  22075,2,20111210,1651, 23.9970, 136.9953, 3925,   2024.5,   2.0248,  34.6163,2,  34.6161,2,    113.9,2,   141.75,2,    38.05,2,     0.00,2,     2.68,2,   2340.9,2,   2401.3,2,   7.5096,3,    25.00,     1651
  49UP20111205,RF1111,  4208,  1,     99,     99,2,20111212,0516, 24.2325, 136.1835, 4434,      0.0,  24.8924,  34.6764,2,-999.0000,9,    209.7,2,     1.24,2,     0.05,2,     0.00,2,     0.01,2,   -999.0,9,   -999.0,9,-999.0000,9,  -999.00,      550
  49UP20111205,RF1111,  4208,  1,     36,  22109,2,20111212,0516, 24.2325, 136.1835, 4434,     10.8,  24.8951,  34.6764,2,-999.0000,9,    209.8,6,     1.25,6,     0.03,6,     0.00,6,     0.01,6,   -999.0,9,   -999.0,9,-999.0000,9,  -999.00,      622
  49UP20111205,RF1111,  4208,  1,     35,  22108,2,20111212,0516, 24.2325, 136.1835, 4434,     26.5,  24.9009,  34.6768,2,-999.0000,9,    209.7,2,     1.27,2,     0.03,2,     0.00,2,     0.01,2,   -999.0,9,   -999.0,9,-999.0000,9,  -999.00,      621
  49UP20111205,RF1111,  4208,  1,     34,  22107,2,20111212,0516, 24.2325, 136.1835, 4434,     52.1,  24.9067,  34.6771,2,-999.0000,9,    210.1,2,     1.23,2,     0.03,2,     0.00,2,     0.01,2,   -999.0,9,   -999.0,9,-999.0000,9,  -999.00,      619
  49UP20111205,RF1111,  4208,  1,     32,  22105,2,20111212,0516, 24.2325, 136.1835, 4434,     76.0,  24.7875,  34.6929,2,-999.0000,9,    210.4,2,     1.34,2,     0.01,2,     0.00,2,     0.02,2,   -999.0,9,   -999.0,9,-999.0000,9,  -999.00,      617
  49UP20111205,RF1111,  4208,  1,     31,  22104,2,20111212,0516, 24.2325, 136.1835, 4434,    101.8,  21.0395,  34.8601,2,-999.0000,9,    218.7,2,     1.66,2,     0.03,2,     0.00,2,     0.02,2,   -999.0,9,   -999.0,9,-999.0000,9,  -999.00,      616
  49UP20111205,RF1111,  4208,  1,     30,  22103,2,20111212,0516, 24.2325, 136.1835, 4434,    126.0,  19.8004,  34.8274,2,-999.0000,9,    208.2,2,     2.03,2,     0.42,2,     0.07,2,     0.06,2,   -999.0,9,   -999.0,9,-999.0000,9,  -999.00,      614
  49UP20111205,RF1111,  4208,  1,     27,  22100,2,20111212,0516, 24.2325, 136.1835, 4434,    151.8,  18.7189,  34.7708,2,-999.0000,9,    201.8,2,     2.75,2,     2.78,2,     0.01,2,     0.19,2,   -999.0,9,   -999.0,9,-999.0000,9,  -999.00,      613
  49UP20111205,RF1111,  4208,  1,     26,  22099,2,20111212,0516, 24.2325, 136.1835, 4434,    200.1,  17.7423,  34.7183,2,-999.0000,9,    201.6,2,     3.79,2,     4.52,2,     0.00,2,     0.29,2,   -999.0,9,   -999.0,9,-999.0000,9,  -999.00,      609
  49UP20111205,RF1111,  4208,  1,     25,  22098,2,20111212,0516, 24.2325, 136.1835, 4434,    200.1,  17.7423,  34.7183,2,-999.0000,9,    201.5,2,     3.84,2,     4.51,2,     0.00,2,     0.30,2,   -999.0,9,   -999.0,9,-999.0000,9,  -999.00,      609
  49UP20111205,RF1111,  4208,  1,     22,  22095,2,20111212,0516, 24.2325, 136.1835, 4434,    254.2,  16.8096,  34.6788,2,-999.0000,9,    193.7,2,     5.83,2,     6.59,2,     0.00,2,     0.44,2,   -999.0,9,   -999.0,9,-999.0000,9,  -999.00,      606
  49UP20111205,RF1111,  4208,  1,     21,  22094,2,20111212,0516, 24.2325, 136.1835, 4434,    300.8,  15.8656,  34.6175,2,-999.0000,9,    190.1,2,     7.86,2,     8.38,2,     0.00,2,     0.57,2,   -999.0,9,   -999.0,9,-999.0000,9,  -999.00,      602
  49UP20111205,RF1111,  4208,  1,     20,  22093,2,20111212,0516, 24.2325, 136.1835, 4434,    404.9,  13.2765,  34.4484,2,-999.0000,9,    185.2,2,    14.99,2,    12.81,2,     0.00,2,     0.89,2,   -999.0,9,   -999.0,9,-999.0000,9,  -999.00,      558
  49UP20111205,RF1111,  4208,  1,     18,  22091,2,20111212,0516, 24.2325, 136.1835, 4434,    506.0,  10.1254,  34.2519,2,-999.0000,9,    165.2,2,    30.38,2,    20.05,2,     0.00,2,     1.43,2,   -999.0,9,   -999.0,9,-999.0000,9,  -999.00,      555
  49UP20111205,RF1111,  4208,  1,     17,  22090,2,20111212,0516, 24.2325, 136.1835, 4434,    607.2,   7.4736,  34.1313,2,-999.0000,9,    135.5,2,    50.76,2,    27.34,2,     0.00,2,     1.97,2,   -999.0,9,   -999.0,9,-999.0000,9,  -999.00,      551
  49UP20111205,RF1111,  4208,  1,     16,  22089,2,20111212,0516, 24.2325, 136.1835, 4434,    706.0,   5.9961,  34.1368,2,-999.0000,9,    101.0,2,    70.90,2,    33.15,2,     0.00,2,     2.39,2,   -999.0,9,   -999.0,9,-999.0000,9,  -999.00,      547
  49UP20111205,RF1111,  4208,  1,     14,  22087,2,20111212,0516, 24.2325, 136.1835, 4434,    811.2,   5.0030,  34.2028,2,-999.0000,9,     74.1,6,    89.54,6,    37.07,6,     0.00,6,     2.67,6,   -999.0,9,   -999.0,9,-999.0000,9,  -999.00,      544
  49UP20111205,RF1111,  4208,  1,     13,  22086,2,20111212,0516, 24.2325, 136.1835, 4434,    911.0,   4.3103,  34.2855,2,-999.0000,9,     59.9,2,   104.67,2,    39.41,2,     0.00,2,     2.82,2,   -999.0,9,   -999.0,9,-999.0000,9,  -999.00,      541
  49UP20111205,RF1111,  4208,  1,     11,  22110,2,20111212,0516, 24.2325, 136.1835, 4434,   1009.4,   3.8458,  34.3580,2,-999.0000,9,     55.4,2,   115.57,2,    40.47,2,     0.00,2,     2.89,2,   -999.0,9,   -999.0,9,-999.0000,9,  -999.00,      538
  49UP20111205,RF1111,  4208,  1,      9,  22082,2,20111212,0516, 24.2325, 136.1835, 4434,   1214.9,   3.1473,  34.4502,2,-999.0000,9,     60.4,2,   130.26,2,    40.83,2,     0.00,2,     2.91,2,   -999.0,9,   -999.0,9,-999.0000,9,  -999.00,      532
  49UP20111205,RF1111,  4208,  1,      8,  22081,2,20111212,0516, 24.2325, 136.1835, 4434,   1412.5,   2.6936,  34.5054,2,-999.0000,9,     71.4,2,   139.20,2,    40.51,2,     0.00,2,     2.89,2,   -999.0,9,   -999.0,9,-999.0000,9,  -999.00,      528
  49UP20111205,RF1111,  4208,  1,      7,  22080,2,20111212,0516, 24.2325, 136.1835, 4434,   1412.5,   2.6936,  34.5054,2,-999.0000,9,     71.8,2,   138.16,2,    40.43,2,     0.00,2,     2.87,2,   -999.0,9,   -999.0,9,-999.0000,9,  -999.00,      528
  49UP20111205,RF1111,  4208,  1,      4,  22077,2,20111212,0516, 24.2325, 136.1835, 4434,   1616.4,   2.3484,  34.5574,2,-999.0000,9,     87.9,2,   142.60,2,    39.72,2,     0.00,2,     2.81,2,   -999.0,9,   -999.0,9,-999.0000,9,  -999.00,      523
  49UP20111205,RF1111,  4208,  1,      3,  22076,3,20111212,0516, 24.2325, 136.1835, 4434,   1820.3,   2.1212,  34.5943,2,-999.0000,9,    103.5,2,   142.22,2,    38.77,2,     0.00,2,     2.73,2,   -999.0,9,   -999.0,9,-999.0000,9,  -999.00,      519
  49UP20111205,RF1111,  4208,  1,      2,  22075,2,20111212,0516, 24.2325, 136.1835, 4434,   2022.6,   1.9734,  34.6188,2,-999.0000,9,    115.4,2,   142.73,2,    38.13,2,     0.00,2,     2.68,2,   -999.0,9,   -999.0,9,-999.0000,9,  -999.00,      516