BOTTLE,20200205PRINUNIVRMK
EXPOCODE,SECT_ID,STNNBR,CASTNO,SAMPNO,BTLNBR,BTLNBR_FLAG_W,DATE,TIME,LATITUDE,LONGITUDE,DEPTH,CTDPRS,CTDTMP,CTDSAL,CTDSAL_FLAG_W,SALNTY,SALNTY_FLAG_W,OXYGEN,OXYGEN_FLAG_W,SILCAT,SILCAT_FLAG_W,NITRAT,NITRAT_FLAG_W,NITRIT,NITRIT_FLAG_W,PHSPHT,PHSPHT_FLAG_W,TCARBN,TCARBN_FLAG_W,ALKALI,ALKALI_FLAG_W,PH_TOT,PH_TOT_FLAG_W,PH_TMP,BTL_TIME
,,,,,,,,,,,METERS,DBAR,ITS-90,PSS-78,,PSS-78,,UMOL/KG,,UMOL/KG,,UMOL/KG,,UMOL/KG,,UMOL/KG,,UMOL/KG,,UMOL/KG,,,,DEG C,
  49UP20111205,RF1111,  4210,  1,     99,     99,2,20111212,1503, 24.2305, 134.9912, 5142,      0.0,  24.9764,  34.7054,2,-999.0000,9,    208.9,2,     1.16,2,     0.01,2,     0.00,2,     0.01,2,   1953.2,2,   2273.5,2,   8.0881,2,    25.00,     1540
  49UP20111205,RF1111,  4210,  1,     36,  22109,2,20111212,1503, 24.2305, 134.9912, 5142,     10.5,  24.9829,  34.7056,2,-999.0000,9,    208.7,2,     1.07,2,     0.00,2,     0.00,2,     0.01,2,   1953.4,2,   2273.8,2,   8.0840,2,    25.00,     1605
  49UP20111205,RF1111,  4210,  1,     35,  22108,2,20111212,1503, 24.2305, 134.9912, 5142,     25.7,  24.9901,  34.7089,2,-999.0000,9,    208.7,6,     1.02,6,     0.00,6,     0.00,6,     0.01,6,   1961.4,2,   2272.3,2,   8.0884,2,    25.00,     1604
  49UP20111205,RF1111,  4210,  1,     34,  22107,2,20111212,1503, 24.2305, 134.9912, 5142,     50.7,  24.9502,  34.7157,2,-999.0000,9,    209.0,2,     1.10,2,     0.00,2,     0.00,2,     0.00,2,   1956.3,2,   2276.5,2,   8.0837,2,    25.00,     1603
  49UP20111205,RF1111,  4210,  1,     32,  22105,2,20111212,1503, 24.2305, 134.9912, 5142,     76.8,  22.5501,  34.8276,2,-999.0000,9,    217.8,2,     1.18,2,     0.00,2,     0.00,2,     0.02,2,   1982.8,6,   2282.0,6,   8.0597,2,    25.00,     1601
  49UP20111205,RF1111,  4210,  1,     31,  22104,2,20111212,1503, 24.2305, 134.9912, 5142,    101.5,  20.9212,  34.8510,2,-999.0000,9,    216.9,2,     1.57,2,     0.04,2,     0.03,2,     0.03,2,   1999.8,2,   2286.6,2,   8.0271,6,    25.00,     1600
  49UP20111205,RF1111,  4210,  1,     30,  22103,3,20111212,1503, 24.2305, 134.9912, 5142,    128.0,  19.6622,  34.8226,2,-999.0000,9,    210.0,2,     1.86,2,     0.74,2,     0.05,2,     0.07,2,   2021.5,2,   2280.6,2,   7.9988,2,    25.00,     1558
  49UP20111205,RF1111,  4210,  1,     27,  22100,2,20111212,1503, 24.2305, 134.9912, 5142,    153.0,  18.8612,  34.7830,2,-999.0000,9,    205.5,2,     2.40,2,     2.36,2,     0.01,2,     0.16,2,   2019.5,2,   2279.6,2,   7.9863,2,    25.00,     1556
  49UP20111205,RF1111,  4210,  1,     26,  22099,2,20111212,1503, 24.2305, 134.9912, 5142,    153.0,  18.8612,  34.7830,2,-999.0000,9,    205.7,2,     2.32,2,     2.35,2,     0.01,2,     0.16,2,   2019.0,2,   2283.5,2,   7.9770,3,    25.00,     1556
  49UP20111205,RF1111,  4210,  1,     25,  22098,2,20111212,1503, 24.2305, 134.9912, 5142,    201.5,  17.9203,  34.7313,2,-999.0000,9,    204.3,2,     3.39,2,     3.96,2,     0.01,2,     0.26,2,   2028.3,2,   2276.9,2,   7.9586,2,    25.00,     1552
  49UP20111205,RF1111,  4210,  1,     22,  22095,2,20111212,1503, 24.2305, 134.9912, 5142,    249.4,  17.1163,  34.6893,2,-999.0000,9,    198.0,2,     4.88,2,     5.80,2,     0.00,2,     0.39,2,   2041.1,2,   2275.6,2,   7.9276,2,    25.00,     1550
  49UP20111205,RF1111,  4210,  1,     21,  22094,2,20111212,1503, 24.2305, 134.9912, 5142,    303.2,  15.7618,  34.6063,2,-999.0000,9,    191.5,2,     7.75,2,     8.33,2,     0.00,2,     0.56,2,   2060.1,2,   2271.7,2,   7.8841,2,    25.00,     1549
  49UP20111205,RF1111,  4210,  1,     20,  22093,2,20111212,1503, 24.2305, 134.9912, 5142,    400.8,  12.5313,  34.3920,2,-999.0000,9,    183.7,2,    17.14,2,    14.21,2,     0.00,2,     0.99,2,   2101.9,2,   2271.5,2,   7.7936,2,    25.00,     1545
  49UP20111205,RF1111,  4210,  1,     18,  22091,2,20111212,1503, 24.2305, 134.9912, 5142,    506.0,   9.1503,  34.1840,2,-999.0000,9,    164.5,2,    33.99,2,    21.69,2,     0.00,2,     1.54,2,   2166.2,2,   2275.2,2,   7.6687,2,    25.00,     1542
  49UP20111205,RF1111,  4210,  1,     17,  22090,2,20111212,1503, 24.2305, 134.9912, 5142,    605.6,   7.1788,  34.1124,2,-999.0000,9,    133.2,2,    53.39,2,    28.12,2,     0.00,2,     2.03,2,   2210.6,2,   2287.1,2,   7.5700,2,    25.00,     1539
  49UP20111205,RF1111,  4210,  1,     16,  22089,2,20111212,1503, 24.2305, 134.9912, 5142,    706.4,   5.5844,  34.1460,2,-999.0000,9,     89.3,2,    76.77,2,    34.90,2,     0.00,2,     2.52,2,   2268.1,2,   2306.4,2,   7.4535,2,    25.00,     1536
  49UP20111205,RF1111,  4210,  1,     14,  22087,2,20111212,1503, 24.2305, 134.9912, 5142,    807.5,   4.6984,  34.2267,2,-999.0000,9,     66.2,2,    95.30,2,    38.36,2,     0.00,2,     2.75,2,   2304.4,2,   2332.4,2,   7.4079,2,    25.00,     1533
  49UP20111205,RF1111,  4210,  1,     13,  22086,2,20111212,1503, 24.2305, 134.9912, 5142,    905.8,   4.2101,  34.2970,2,-999.0000,9,     58.2,6,   107.01,6,    39.74,6,     0.00,6,     2.85,6,   2322.3,2,   2342.8,2,   7.3921,2,    25.00,     1530
  49UP20111205,RF1111,  4210,  1,     12,  22074,2,20111212,1503, 24.2305, 134.9912, 5142,   1010.1,   3.7326,  34.3576,2,-999.0000,9,     54.9,2,   118.14,2,    40.70,2,     0.00,2,     2.91,2,   2335.9,2,   2359.7,2,   7.4005,2,    25.00,     1528
  49UP20111205,RF1111,  4210,  1,      9,  22082,2,20111212,1503, 24.2305, 134.9912, 5142,   1216.4,   3.0680,  34.4505,2,-999.0000,9,     61.0,2,   131.65,2,    40.98,2,     0.00,2,     2.91,2,   2349.5,2,   2376.7,2,   7.4013,3,    25.00,     1523
  49UP20111205,RF1111,  4210,  1,      8,  22081,3,20111212,1503, 24.2305, 134.9912, 5142,   1216.4,   3.0680,  34.4505,2,-999.0000,9,     60.7,2,   132.34,2,    41.04,2,     0.00,2,     2.92,2,   2350.2,2,   2378.4,2,   7.4078,2,    25.00,     1523
  49UP20111205,RF1111,  4210,  1,      7,  22080,2,20111212,1503, 24.2305, 134.9912, 5142,   1415.2,   2.7342,  34.5180,2,-999.0000,9,     77.5,2,   136.50,2,    40.05,2,     0.00,2,     2.85,2,   2352.9,2,   2391.2,2,   7.4452,2,    25.00,     1518
  49UP20111205,RF1111,  4210,  1,      4,  22077,2,20111212,1503, 24.2305, 134.9912, 5142,   1620.8,   2.4214,  34.5649,2,-999.0000,9,     93.6,2,   139.32,2,    39.27,2,     0.00,2,     2.78,2,   2348.5,2,   2397.5,2,   7.4754,6,    25.00,     1513
  49UP20111205,RF1111,  4210,  1,      3,  22076,2,20111212,1503, 24.2305, 134.9912, 5142,   1819.7,   2.1692,  34.5955,2,-999.0000,9,    105.6,2,   140.63,2,    38.73,2,     0.00,2,     2.73,2,   2340.6,2,   2398.6,2,   7.4929,2,    25.00,     1507
  49UP20111205,RF1111,  4210,  1,      2,  22075,2,20111212,1503, 24.2305, 134.9912, 5142,   2021.9,   1.9818,  34.6148,2,-999.0000,9,    114.4,2,   142.47,2,    38.31,2,     0.00,2,     2.69,2,   2340.2,2,   2404.5,2,   7.5124,2,    25.00,     1503
  49UP20111205,RF1111,  4212,  1,     99,     99,2,20111212,2323, 24.2345, 133.9810, 4921,      0.0,  24.6535,  34.7662,2,-999.0000,9,    210.0,2,     1.14,2,     0.00,2,     0.00,2,     0.02,2,   -999.0,9,   -999.0,9,-999.0000,9,  -999.00,       13
  49UP20111205,RF1111,  4212,  1,     36,  22109,2,20111212,2323, 24.2345, 133.9810, 4921,     11.3,  24.6573,  34.7667,2,  34.7666,2,    209.4,2,     1.20,2,     0.00,2,     0.00,2,     0.02,2,   -999.0,9,   -999.0,9,-999.0000,9,  -999.00,       47
  49UP20111205,RF1111,  4212,  1,     35,  22108,2,20111212,2323, 24.2345, 133.9810, 4921,     26.9,  24.6550,  34.7670,2,-999.0000,9,    208.6,2,     1.10,2,     0.00,2,     0.00,2,     0.01,2,   -999.0,9,   -999.0,9,-999.0000,9,  -999.00,       45
  49UP20111205,RF1111,  4212,  1,     34,  22107,2,20111212,2323, 24.2345, 133.9810, 4921,     52.3,  24.6593,  34.7685,2,-999.0000,9,    209.3,6,     1.07,6,     0.00,6,     0.00,6,     0.02,6,   -999.0,9,   -999.0,9,-999.0000,9,  -999.00,       43
  49UP20111205,RF1111,  4212,  1,     32,  22105,2,20111212,2323, 24.2345, 133.9810, 4921,     76.9,  24.4296,  34.7768,2,-999.0000,9,    210.0,2,     1.16,2,     0.00,2,     0.00,2,     0.02,2,   -999.0,9,   -999.0,9,-999.0000,9,  -999.00,       41
  49UP20111205,RF1111,  4212,  1,     31,  22104,2,20111212,2323, 24.2345, 133.9810, 4921,    102.0,  20.6490,  34.8002,2,  34.8019,6,    203.3,2,     2.09,2,     1.46,2,     0.04,2,     0.12,2,   -999.0,9,   -999.0,9,-999.0000,9,  -999.00,       40
  49UP20111205,RF1111,  4212,  1,     30,  22103,2,20111212,2323, 24.2345, 133.9810, 4921,    126.5,  19.7113,  34.8090,2,-999.0000,9,    204.3,2,     2.25,2,     1.74,2,     0.02,2,     0.14,2,   -999.0,9,   -999.0,9,-999.0000,9,  -999.00,       38
  49UP20111205,RF1111,  4212,  1,     29,  22102,2,20111212,2323, 24.2345, 133.9810, 4921,    126.5,  19.7113,  34.8090,2,-999.0000,9,    203.9,2,     2.09,2,     1.72,2,     0.02,2,     0.15,2,   -999.0,9,   -999.0,9,-999.0000,9,  -999.00,       38
  49UP20111205,RF1111,  4212,  1,     26,  22099,2,20111212,2323, 24.2345, 133.9810, 4921,    153.0,  18.9184,  34.7780,2,-999.0000,9,    205.0,2,     2.61,2,     2.57,2,     0.01,2,     0.19,2,   -999.0,9,   -999.0,9,-999.0000,9,  -999.00,       35
  49UP20111205,RF1111,  4212,  1,     25,  22098,2,20111212,2323, 24.2345, 133.9810, 4921,    203.0,  18.0008,  34.7363,2,  34.7368,2,    205.1,2,     3.28,2,     3.76,2,     0.01,2,     0.27,2,   -999.0,9,   -999.0,9,-999.0000,9,  -999.00,       28
  49UP20111205,RF1111,  4212,  1,     22,  22095,2,20111212,2323, 24.2345, 133.9810, 4921,    257.7,  16.9732,  34.6820,2,-999.0000,9,    201.1,2,     4.83,2,     5.55,2,     0.00,2,     0.39,2,   -999.0,9,   -999.0,9,-999.0000,9,  -999.00,       26
  49UP20111205,RF1111,  4212,  1,     21,  22094,2,20111212,2323, 24.2345, 133.9810, 4921,    305.1,  15.9546,  34.6213,2,-999.0000,9,    192.7,2,     7.10,2,     7.76,2,     0.00,2,     0.54,2,   -999.0,9,   -999.0,9,-999.0000,9,  -999.00,       24
  49UP20111205,RF1111,  4212,  1,     20,  22093,2,20111212,2323, 24.2345, 133.9810, 4921,    406.4,  12.7433,  34.4133,2,  34.4147,2,    183.4,2,    16.73,2,    13.78,2,     0.00,2,     0.98,2,   -999.0,9,   -999.0,9,-999.0000,9,  -999.00,       19
  49UP20111205,RF1111,  4212,  1,     18,  22091,2,20111212,2323, 24.2345, 133.9810, 4921,    508.6,   9.8299,  34.2350,2,-999.0000,9,    163.9,2,    32.49,2,    20.65,2,     0.00,2,     1.48,2,   -999.0,9,   -999.0,9,-999.0000,9,  -999.00,       15
  49UP20111205,RF1111,  4212,  1,     17,  22090,2,20111212,2323, 24.2345, 133.9810, 4921,    610.1,   7.5157,  34.1521,2,  34.1513,2,    125.5,2,    51.85,2,    28.06,2,     0.00,2,     2.04,2,   -999.0,9,   -999.0,9,-999.0000,9,  -999.00,        9
  49UP20111205,RF1111,  4212,  1,     16,  22089,2,20111212,2323, 24.2345, 133.9810, 4921,    712.2,   5.9670,  34.1539,2,-999.0000,9,     97.2,2,    72.20,2,    33.46,2,     0.00,2,     2.42,2,   -999.0,9,   -999.0,9,-999.0000,9,  -999.00,        4
  49UP20111205,RF1111,  4212,  1,     14,  22087,2,20111212,2323, 24.2345, 133.9810, 4921,    810.5,   4.9206,  34.2218,2,  34.2212,2,     72.4,2,    91.97,2,    37.32,2,     0.00,2,     2.69,2,   -999.0,9,   -999.0,9,-999.0000,9,  -999.00,     2359
  49UP20111205,RF1111,  4212,  1,     13,  22086,2,20111212,2323, 24.2345, 133.9810, 4921,    910.3,   4.1826,  34.3220,2,-999.0000,9,     59.1,2,   107.40,2,    39.53,2,     0.00,2,     2.85,2,   -999.0,9,   -999.0,9,-999.0000,9,  -999.00,     2356
  49UP20111205,RF1111,  4212,  1,     12,  22074,2,20111212,2323, 24.2345, 133.9810, 4921,   1011.5,   3.8221,  34.3670,2,  34.3662,2,     56.5,2,   116.11,2,    40.24,2,     0.00,2,     2.89,2,   -999.0,9,   -999.0,9,-999.0000,9,  -999.00,     2350
  49UP20111205,RF1111,  4212,  1,     11,  22110,2,20111212,2323, 24.2345, 133.9810, 4921,   1011.5,   3.8221,  34.3670,2,  34.3665,6,     56.4,6,   115.91,6,    40.36,6,     0.00,6,     2.89,6,   -999.0,9,   -999.0,9,-999.0000,9,  -999.00,     2350
  49UP20111205,RF1111,  4212,  1,      8,  22081,2,20111212,2323, 24.2345, 133.9810, 4921,   1211.7,   3.0310,  34.4742,2,  34.4742,2,     67.6,2,   131.98,2,    40.50,2,     0.00,2,     2.88,2,   -999.0,9,   -999.0,9,-999.0000,9,  -999.00,     2345
  49UP20111205,RF1111,  4212,  1,      7,  22080,2,20111212,2323, 24.2345, 133.9810, 4921,   1410.6,   2.6271,  34.5235,2,  34.5213,4,     79.0,2,   138.09,2,    40.03,2,     0.00,2,     2.84,2,   -999.0,9,   -999.0,9,-999.0000,9,  -999.00,     2340
  49UP20111205,RF1111,  4212,  1,      4,  22077,2,20111212,2323, 24.2345, 133.9810, 4921,   1617.6,   2.3082,  34.5656,2,  34.5661,2,     94.0,2,   141.91,2,    39.42,2,     0.00,2,     2.79,2,   -999.0,9,   -999.0,9,-999.0000,9,  -999.00,     2334
  49UP20111205,RF1111,  4212,  1,      3,  22076,2,20111212,2323, 24.2345, 133.9810, 4921,   1813.8,   2.0488,  34.6009,2,  34.6011,2,    108.8,2,   142.45,2,    38.60,2,     0.00,2,     2.71,2,   -999.0,9,   -999.0,9,-999.0000,9,  -999.00,     2330
  49UP20111205,RF1111,  4212,  1,      2,  22075,2,20111212,2323, 24.2345, 133.9810, 4921,   2022.6,   1.9288,  34.6188,2,  34.6191,2,    117.1,2,   142.97,2,    38.05,2,     0.00,2,     2.68,2,   -999.0,9,   -999.0,9,-999.0000,9,  -999.00,     2323
  49UP20111205,RF1111,  4215,  1,     99,     99,2,20111213,2215, 23.7482, 132.9732, 3536,      0.0,  24.6752,  34.7168,2,-999.0000,9,    209.0,2,     1.10,2,     0.00,2,     0.00,2,     0.02,2,   -999.0,9,   -999.0,9,-999.0000,9,  -999.00,     2300
  49UP20111205,RF1111,  4215,  1,     36,  22109,2,20111213,2215, 23.7482, 132.9732, 3536,     11.7,  24.6773,  34.7172,2,-999.0000,9,    208.7,2,     1.08,2,     0.00,2,     0.00,2,     0.01,2,   -999.0,9,   -999.0,9,-999.0000,9,  -999.00,     2323
  49UP20111205,RF1111,  4215,  1,     35,  22108,2,20111213,2215, 23.7482, 132.9732, 3536,     27.3,  24.6850,  34.7170,2,-999.0000,9,    209.0,2,     1.11,2,     0.00,2,     0.00,2,     0.01,2,   -999.0,9,   -999.0,9,-999.0000,9,  -999.00,     2322
  49UP20111205,RF1111,  4215,  1,     34,  22107,2,20111213,2215, 23.7482, 132.9732, 3536,     51.1,  24.6865,  34.7168,2,-999.0000,9,    208.8,2,     1.08,2,     0.00,2,     0.00,2,     0.01,2,   -999.0,9,   -999.0,9,-999.0000,9,  -999.00,     2320
  49UP20111205,RF1111,  4215,  1,     32,  22105,2,20111213,2215, 23.7482, 132.9732, 3536,     76.6,  24.6794,  34.7146,2,-999.0000,9,    208.8,6,     1.06,6,     0.00,6,     0.00,6,     0.01,6,   -999.0,9,   -999.0,9,-999.0000,9,  -999.00,     2318
  49UP20111205,RF1111,  4215,  1,     31,  22104,2,20111213,2215, 23.7482, 132.9732, 3536,    101.6,  21.5507,  34.8500,2,-999.0000,9,    200.3,2,     1.77,2,     0.91,2,     0.05,2,     0.09,2,   -999.0,9,   -999.0,9,-999.0000,9,  -999.00,     2316
  49UP20111205,RF1111,  4215,  1,     30,  22103,2,20111213,2215, 23.7482, 132.9732, 3536,    101.6,  21.5507,  34.8500,2,-999.0000,9,    200.0,2,     1.70,2,     0.90,2,     0.05,2,     0.08,2,   -999.0,9,   -999.0,9,-999.0000,9,  -999.00,     2316
  49UP20111205,RF1111,  4215,  1,     27,  22100,2,20111213,2215, 23.7482, 132.9732, 3536,    126.8,  20.2095,  34.8176,2,-999.0000,9,    197.6,2,     2.20,2,     2.05,2,     0.01,2,     0.15,2,   -999.0,9,   -999.0,9,-999.0000,9,  -999.00,     2314
  49UP20111205,RF1111,  4215,  1,     26,  22099,2,20111213,2215, 23.7482, 132.9732, 3536,    151.7,  19.5087,  34.7928,2,-999.0000,9,    199.9,2,     2.52,2,     2.50,2,     0.01,2,     0.17,2,   -999.0,9,   -999.0,9,-999.0000,9,  -999.00,     2310
  49UP20111205,RF1111,  4215,  1,     25,  22098,2,20111213,2215, 23.7482, 132.9732, 3536,    200.5,  18.3399,  34.7483,2,-999.0000,9,    200.5,2,     3.31,2,     3.81,2,     0.00,2,     0.26,2,   -999.0,9,   -999.0,9,-999.0000,9,  -999.00,     2308
  49UP20111205,RF1111,  4215,  1,     22,  22095,2,20111213,2215, 23.7482, 132.9732, 3536,    254.1,  17.4390,  34.7056,2,-999.0000,9,    195.7,2,     4.63,2,     5.44,2,     0.00,2,     0.37,2,   -999.0,9,   -999.0,9,-999.0000,9,  -999.00,     2306
  49UP20111205,RF1111,  4215,  1,     21,  22094,2,20111213,2215, 23.7482, 132.9732, 3536,    305.2,  16.3062,  34.6479,2,-999.0000,9,    189.6,2,     7.00,2,     7.68,2,     0.00,2,     0.52,2,   -999.0,9,   -999.0,9,-999.0000,9,  -999.00,     2304
  49UP20111205,RF1111,  4215,  1,     19,  22092,2,20111213,2215, 23.7482, 132.9732, 3536,    404.2,  13.2457,  34.4515,2,-999.0000,9,    178.6,2,    16.23,2,    13.48,2,     0.00,2,     0.94,2,   -999.0,9,   -999.0,9,-999.0000,9,  -999.00,     2301
  49UP20111205,RF1111,  4215,  1,     18,  22091,2,20111213,2215, 23.7482, 132.9732, 3536,    505.1,   9.7741,  34.2529,2,-999.0000,9,    154.9,2,    34.00,2,    21.42,2,     0.00,2,     1.52,2,   -999.0,9,   -999.0,9,-999.0000,9,  -999.00,     2258
  49UP20111205,RF1111,  4215,  1,     17,  22090,2,20111213,2215, 23.7482, 132.9732, 3536,    605.1,   7.6196,  34.2280,2,-999.0000,9,    118.9,2,    58.31,2,    28.53,2,     0.00,2,     2.05,2,   -999.0,9,   -999.0,9,-999.0000,9,  -999.00,     2255
  49UP20111205,RF1111,  4215,  1,     16,  22089,2,20111213,2215, 23.7482, 132.9732, 3536,    709.5,   5.4785,  34.1701,2,-999.0000,9,     88.0,2,    80.71,2,    34.99,2,     0.00,2,     2.51,2,   -999.0,9,   -999.0,9,-999.0000,9,  -999.00,     2252
  49UP20111205,RF1111,  4215,  1,     14,  22087,2,20111213,2215, 23.7482, 132.9732, 3536,    806.3,   4.7167,  34.2347,2,-999.0000,9,     69.6,2,    96.42,2,    37.72,2,     0.00,2,     2.70,2,   -999.0,9,   -999.0,9,-999.0000,9,  -999.00,     2247
  49UP20111205,RF1111,  4215,  1,     13,  22086,2,20111213,2215, 23.7482, 132.9732, 3536,    906.6,   4.1998,  34.2937,2,-999.0000,9,     59.4,2,   107.28,2,    39.47,2,     0.00,2,     2.82,2,   -999.0,9,   -999.0,9,-999.0000,9,  -999.00,     2243
  49UP20111205,RF1111,  4215,  1,     12,  22074,2,20111213,2215, 23.7482, 132.9732, 3536,    906.6,   4.1998,  34.2937,2,-999.0000,9,     58.8,2,   107.08,2,    39.48,2,     0.00,2,     2.81,2,   -999.0,9,   -999.0,9,-999.0000,9,  -999.00,     2243
  49UP20111205,RF1111,  4215,  1,      9,  22082,2,20111213,2215, 23.7482, 132.9732, 3536,   1009.8,   3.6236,  34.3709,2,-999.0000,9,     55.9,2,   120.42,2,    40.47,2,     0.00,2,     2.88,2,   -999.0,9,   -999.0,9,-999.0000,9,  -999.00,     2240
  49UP20111205,RF1111,  4215,  1,      8,  22081,3,20111213,2215, 23.7482, 132.9732, 3536,   1213.0,   3.0113,  34.4665,2,-999.0000,9,     64.8,6,   132.90,6,    40.59,6,     0.00,6,     2.89,6,   -999.0,9,   -999.0,9,-999.0000,9,  -999.00,     2235
  49UP20111205,RF1111,  4215,  1,      7,  22080,2,20111213,2215, 23.7482, 132.9732, 3536,   1415.8,   2.5379,  34.5365,2,-999.0000,9,     83.1,2,   138.67,2,    39.75,2,     0.00,2,     2.81,2,   -999.0,9,   -999.0,9,-999.0000,9,  -999.00,     2230
  49UP20111205,RF1111,  4215,  1,      4,  22077,2,20111213,2215, 23.7482, 132.9732, 3536,   1616.2,   2.2901,  34.5723,2,-999.0000,9,     97.3,2,   140.88,2,    39.02,2,     0.00,2,     2.75,2,   -999.0,9,   -999.0,9,-999.0000,9,  -999.00,     2225
  49UP20111205,RF1111,  4215,  1,      3,  22076,2,20111213,2215, 23.7482, 132.9732, 3536,   1822.0,   2.0548,  34.6015,2,-999.0000,9,    108.9,2,   141.87,2,    38.38,2,     0.00,2,     2.70,2,   -999.0,9,   -999.0,9,-999.0000,9,  -999.00,     2219
  49UP20111205,RF1111,  4215,  1,      2,  22075,2,20111213,2215, 23.7482, 132.9732, 3536,   2021.7,   1.9041,  34.6228,2,-999.0000,9,    119.3,2,   142.11,2,    37.81,2,     0.00,2,     2.66,2,   -999.0,9,   -999.0,9,-999.0000,9,  -999.00,     2215