BOTTLE,20200205PRINUNIVRMK
EXPOCODE,SECT_ID,STNNBR,CASTNO,SAMPNO,BTLNBR,BTLNBR_FLAG_W,DATE,TIME,LATITUDE,LONGITUDE,DEPTH,CTDPRS,CTDTMP,CTDSAL,CTDSAL_FLAG_W,SALNTY,SALNTY_FLAG_W,OXYGEN,OXYGEN_FLAG_W,SILCAT,SILCAT_FLAG_W,NITRAT,NITRAT_FLAG_W,NITRIT,NITRIT_FLAG_W,PHSPHT,PHSPHT_FLAG_W,TCARBN,TCARBN_FLAG_W,ALKALI,ALKALI_FLAG_W,PH_TOT,PH_TOT_FLAG_W,PH_TMP,BTL_TIME
,,,,,,,,,,,METERS,DBAR,ITS-90,PSS-78,,PSS-78,,UMOL/KG,,UMOL/KG,,UMOL/KG,,UMOL/KG,,UMOL/KG,,UMOL/KG,,UMOL/KG,,,,DEG C,
  49UP20111205,RF1111,  4217,  1,     99,     99,2,20111214,0843, 23.7397, 131.9893, 3495,      0.0,  24.0728,  34.6853,2,-999.0000,9,    211.1,2,     1.23,2,     0.07,2,     0.00,2,     0.02,2,   -999.0,9,   -999.0,9,-999.0000,9,  -999.00,      925
  49UP20111205,RF1111,  4217,  1,     36,  22109,2,20111214,0843, 23.7397, 131.9893, 3495,     10.8,  24.0844,  34.6853,2,-999.0000,9,    210.7,2,     1.19,2,     0.05,2,     0.00,2,     0.01,2,   -999.0,9,   -999.0,9,-999.0000,9,  -999.00,      945
  49UP20111205,RF1111,  4217,  1,     35,  22108,2,20111214,0843, 23.7397, 131.9893, 3495,     25.9,  24.0828,  34.6849,2,-999.0000,9,    210.9,2,     1.15,2,     0.06,2,     0.00,2,     0.01,2,   -999.0,9,   -999.0,9,-999.0000,9,  -999.00,      943
  49UP20111205,RF1111,  4217,  1,     34,  22107,2,20111214,0843, 23.7397, 131.9893, 3495,     51.1,  24.0915,  34.6866,2,-999.0000,9,    210.9,2,     1.20,2,     0.04,2,     0.00,2,     0.01,2,   -999.0,9,   -999.0,9,-999.0000,9,  -999.00,      942
  49UP20111205,RF1111,  4217,  1,     32,  22105,2,20111214,0843, 23.7397, 131.9893, 3495,     76.8,  24.0999,  34.6985,2,-999.0000,9,    210.4,2,     1.22,2,     0.07,2,     0.00,2,     0.01,2,   -999.0,9,   -999.0,9,-999.0000,9,  -999.00,      940
  49UP20111205,RF1111,  4217,  1,     31,  22104,2,20111214,0843, 23.7397, 131.9893, 3495,     76.8,  24.0999,  34.6985,2,-999.0000,9,    210.2,2,     1.24,2,     0.09,2,     0.00,2,     0.02,2,   -999.0,9,   -999.0,9,-999.0000,9,  -999.00,      940
  49UP20111205,RF1111,  4217,  1,     30,  22103,2,20111214,0843, 23.7397, 131.9893, 3495,    100.3,  20.3629,  34.8327,2,-999.0000,9,    199.2,6,     2.16,6,     1.91,6,     0.02,6,     0.13,6,   -999.0,9,   -999.0,9,-999.0000,9,  -999.00,      938
  49UP20111205,RF1111,  4217,  1,     27,  22100,2,20111214,0843, 23.7397, 131.9893, 3495,    126.1,  19.4214,  34.8062,2,-999.0000,9,    203.6,2,     2.39,2,     2.15,2,     0.02,2,     0.15,2,   -999.0,9,   -999.0,9,-999.0000,9,  -999.00,      937
  49UP20111205,RF1111,  4217,  1,     26,  22099,2,20111214,0843, 23.7397, 131.9893, 3495,    151.6,  18.8120,  34.7691,2,-999.0000,9,    201.5,2,     2.96,2,     3.26,2,     0.01,2,     0.22,2,   -999.0,9,   -999.0,9,-999.0000,9,  -999.00,      935
  49UP20111205,RF1111,  4217,  1,     25,  22098,2,20111214,0843, 23.7397, 131.9893, 3495,    202.1,  18.2311,  34.7442,2,-999.0000,9,    201.3,2,     3.52,2,     3.98,2,     0.01,2,     0.27,2,   -999.0,9,   -999.0,9,-999.0000,9,  -999.00,      933
  49UP20111205,RF1111,  4217,  1,     22,  22095,2,20111214,0843, 23.7397, 131.9893, 3495,    253.1,  17.3915,  34.7049,2,-999.0000,9,    196.8,2,     4.77,2,     5.51,2,     0.00,2,     0.37,2,   -999.0,9,   -999.0,9,-999.0000,9,  -999.00,      929
  49UP20111205,RF1111,  4217,  1,     21,  22094,2,20111214,0843, 23.7397, 131.9893, 3495,    305.8,  15.9398,  34.6270,2,-999.0000,9,    187.1,2,     8.11,2,     8.53,2,     0.00,2,     0.58,2,   -999.0,9,   -999.0,9,-999.0000,9,  -999.00,      926
  49UP20111205,RF1111,  4217,  1,     20,  22093,2,20111214,0843, 23.7397, 131.9893, 3495,    403.7,  13.8495,  34.4865,2,-999.0000,9,    183.7,2,    13.20,2,    12.03,2,     0.00,2,     0.83,2,   -999.0,9,   -999.0,9,-999.0000,9,  -999.00,      922
  49UP20111205,RF1111,  4217,  1,     18,  22091,2,20111214,0843, 23.7397, 131.9893, 3495,    506.7,  10.5380,  34.2781,2,-999.0000,9,    167.0,2,    28.35,2,    19.21,2,     0.00,2,     1.36,2,   -999.0,9,   -999.0,9,-999.0000,9,  -999.00,      919
  49UP20111205,RF1111,  4217,  1,     17,  22090,2,20111214,0843, 23.7397, 131.9893, 3495,    606.3,   7.4910,  34.1703,2,-999.0000,9,    125.4,2,    54.75,2,    28.38,2,     0.00,2,     2.04,2,   -999.0,9,   -999.0,9,-999.0000,9,  -999.00,      916
  49UP20111205,RF1111,  4217,  1,     16,  22089,2,20111214,0843, 23.7397, 131.9893, 3495,    705.7,   5.6782,  34.1734,2,-999.0000,9,     92.5,2,    78.38,2,    34.46,2,     0.00,2,     2.48,2,   -999.0,9,   -999.0,9,-999.0000,9,  -999.00,      913
  49UP20111205,RF1111,  4217,  1,     14,  22087,2,20111214,0843, 23.7397, 131.9893, 3495,    807.6,   4.6815,  34.2429,2,-999.0000,9,     68.7,2,    96.98,2,    38.09,2,     0.00,2,     2.73,2,   -999.0,9,   -999.0,9,-999.0000,9,  -999.00,      910
  49UP20111205,RF1111,  4217,  1,     13,  22086,2,20111214,0843, 23.7397, 131.9893, 3495,    807.6,   4.6815,  34.2429,2,-999.0000,9,     68.6,2,    97.05,2,    38.04,2,     0.00,2,     2.72,2,   -999.0,9,   -999.0,9,-999.0000,9,  -999.00,      910
  49UP20111205,RF1111,  4217,  1,     12,  22074,2,20111214,0843, 23.7397, 131.9893, 3495,    908.0,   4.0409,  34.3134,2,-999.0000,9,     57.2,2,   111.15,2,    40.02,2,     0.00,2,     2.85,2,   -999.0,9,   -999.0,9,-999.0000,9,  -999.00,      907
  49UP20111205,RF1111,  4217,  1,      9,  22082,2,20111214,0843, 23.7397, 131.9893, 3495,   1009.7,   3.6328,  34.3731,2,-999.0000,9,     56.7,2,   120.40,2,    40.61,2,     0.00,2,     2.89,2,   -999.0,9,   -999.0,9,-999.0000,9,  -999.00,      905
  49UP20111205,RF1111,  4217,  1,      8,  22081,2,20111214,0843, 23.7397, 131.9893, 3495,   1209.3,   2.9353,  34.4785,2,-999.0000,9,     67.5,2,   134.29,2,    40.65,2,     0.00,2,     2.88,2,   -999.0,9,   -999.0,9,-999.0000,9,  -999.00,      900
  49UP20111205,RF1111,  4217,  1,      7,  22080,2,20111214,0843, 23.7397, 131.9893, 3495,   1414.0,   2.5798,  34.5324,2,-999.0000,9,     82.9,6,   137.94,6,    39.84,6,     0.00,6,     2.82,6,   -999.0,9,   -999.0,9,-999.0000,9,  -999.00,      856
  49UP20111205,RF1111,  4217,  1,      4,  22077,2,20111214,0843, 23.7397, 131.9893, 3495,   1617.9,   2.2039,  34.5826,2,-999.0000,9,    100.8,2,   141.53,2,    38.95,2,     0.00,2,     2.76,2,   -999.0,9,   -999.0,9,-999.0000,9,  -999.00,      851
  49UP20111205,RF1111,  4217,  1,      3,  22076,2,20111214,0843, 23.7397, 131.9893, 3495,   1820.2,   2.0522,  34.6014,2,-999.0000,9,    108.3,2,   141.72,2,    38.49,2,     0.00,2,     2.70,2,   -999.0,9,   -999.0,9,-999.0000,9,  -999.00,      847
  49UP20111205,RF1111,  4217,  1,      2,  22075,2,20111214,0843, 23.7397, 131.9893, 3495,   2024.2,   1.9221,  34.6201,2,-999.0000,9,    117.8,2,   142.41,2,    38.17,2,     0.00,2,     2.67,2,   -999.0,9,   -999.0,9,-999.0000,9,  -999.00,      843
  49UP20111205,RF1111,  4219,  1,     99,     99,2,20111214,1730, 23.9912, 130.9938, 3355,      0.0,  24.1039,  34.7606,2,-999.0000,9,    211.1,2,     1.18,2,     0.00,2,     0.00,2,     0.02,2,   -999.0,9,   -999.0,9,-999.0000,9,  -999.00,     1805
  49UP20111205,RF1111,  4219,  1,     35,  22108,2,20111214,1730, 23.9912, 130.9938, 3355,     10.2,  24.1096,  34.7603,2,  34.7595,2,    210.9,2,     1.10,2,     0.02,2,     0.00,2,     0.01,2,   -999.0,9,   -999.0,9,-999.0000,9,  -999.00,     1833
  49UP20111205,RF1111,  4219,  1,     34,  22107,2,20111214,1730, 23.9912, 130.9938, 3355,     26.9,  24.1136,  34.7593,2,-999.0000,9,    211.0,2,     1.10,2,     0.01,2,     0.00,2,     0.01,2,   -999.0,9,   -999.0,9,-999.0000,9,  -999.00,     1832
  49UP20111205,RF1111,  4219,  1,     32,  22105,2,20111214,1730, 23.9912, 130.9938, 3355,     52.7,  24.1218,  34.7606,2,-999.0000,9,    210.9,2,     1.18,2,     0.03,2,     0.00,2,     0.01,2,   -999.0,9,   -999.0,9,-999.0000,9,  -999.00,     1830
  49UP20111205,RF1111,  4219,  1,     31,  22104,2,20111214,1730, 23.9912, 130.9938, 3355,     52.7,  24.1218,  34.7606,2,-999.0000,9,    210.9,2,     1.14,2,     0.00,2,     0.00,2,     0.01,2,   -999.0,9,   -999.0,9,-999.0000,9,  -999.00,     1830
  49UP20111205,RF1111,  4219,  1,     30,  22103,2,20111214,1730, 23.9912, 130.9938, 3355,     75.7,  24.1165,  34.7590,2,-999.0000,9,    210.9,2,     1.25,2,     0.02,2,     0.00,2,     0.02,2,   -999.0,9,   -999.0,9,-999.0000,9,  -999.00,     1828
  49UP20111205,RF1111,  4219,  1,     29,  22102,2,20111214,1730, 23.9912, 130.9938, 3355,    102.9,  20.7208,  34.8746,2,  34.8745,2,    215.9,2,     1.75,2,     0.11,2,     0.15,2,     0.04,2,   -999.0,9,   -999.0,9,-999.0000,9,  -999.00,     1826
  49UP20111205,RF1111,  4219,  1,     27,  22100,3,20111214,1730, 23.9912, 130.9938, 3355,    127.2,  19.5297,  34.8189,2,-999.0000,9,    211.6,6,     2.04,6,     0.94,6,     0.03,6,     0.09,6,   -999.0,9,   -999.0,9,-999.0000,9,  -999.00,     1825
  49UP20111205,RF1111,  4219,  1,     26,  22099,2,20111214,1730, 23.9912, 130.9938, 3355,    151.0,  18.9102,  34.7945,2,-999.0000,9,    207.6,2,     2.37,2,     2.07,2,     0.01,2,     0.15,2,   -999.0,9,   -999.0,9,-999.0000,9,  -999.00,     1823
  49UP20111205,RF1111,  4219,  1,     25,  22098,2,20111214,1730, 23.9912, 130.9938, 3355,    201.5,  18.0026,  34.7345,2,  34.7352,6,    206.0,2,     3.23,2,     3.62,2,     0.00,2,     0.25,2,   -999.0,9,   -999.0,9,-999.0000,9,  -999.00,     1818
  49UP20111205,RF1111,  4219,  1,     22,  22095,2,20111214,1730, 23.9912, 130.9938, 3355,    252.6,  17.1796,  34.6910,2,-999.0000,9,    200.1,2,     4.65,2,     5.49,2,     0.00,2,     0.37,2,   -999.0,9,   -999.0,9,-999.0000,9,  -999.00,     1816
  49UP20111205,RF1111,  4219,  1,     21,  22094,2,20111214,1730, 23.9912, 130.9938, 3355,    304.3,  16.2421,  34.6394,2,-999.0000,9,    193.4,2,     6.76,2,     7.56,2,     0.00,2,     0.51,2,   -999.0,9,   -999.0,9,-999.0000,9,  -999.00,     1814
  49UP20111205,RF1111,  4219,  1,     20,  22093,2,20111214,1730, 23.9912, 130.9938, 3355,    405.4,  13.6853,  34.4756,2,  34.4793,4,    185.7,2,    13.67,2,    12.15,2,     0.00,2,     0.84,2,   -999.0,9,   -999.0,9,-999.0000,9,  -999.00,     1811
  49UP20111205,RF1111,  4219,  1,     17,  22090,2,20111214,1730, 23.9912, 130.9938, 3355,    507.3,  11.1319,  34.3328,2,-999.0000,9,    163.5,2,    27.35,2,    18.59,2,     0.00,2,     1.32,2,   -999.0,9,   -999.0,9,-999.0000,9,  -999.00,     1808
  49UP20111205,RF1111,  4219,  1,     16,  22089,2,20111214,1730, 23.9912, 130.9938, 3355,    606.7,   7.9138,  34.2383,2,  34.2375,2,    123.2,2,    55.04,2,    27.94,2,     0.00,2,     2.00,2,   -999.0,9,   -999.0,9,-999.0000,9,  -999.00,     1805
  49UP20111205,RF1111,  4219,  1,     14,  22087,2,20111214,1730, 23.9912, 130.9938, 3355,    706.4,   5.8191,  34.1982,2,-999.0000,9,     91.3,2,    78.25,2,    34.34,2,     0.00,2,     2.47,2,   -999.0,9,   -999.0,9,-999.0000,9,  -999.00,     1802
  49UP20111205,RF1111,  4219,  1,     13,  22086,2,20111214,1730, 23.9912, 130.9938, 3355,    706.4,   5.8191,  34.1982,2,-999.0000,9,     91.8,2,    78.13,2,    34.29,2,     0.00,2,     2.48,2,   -999.0,9,   -999.0,9,-999.0000,9,  -999.00,     1802
  49UP20111205,RF1111,  4219,  1,     12,  22074,2,20111214,1730, 23.9912, 130.9938, 3355,    806.5,   4.6700,  34.2829,2,  34.2826,2,     69.1,2,    99.25,2,    38.13,2,     0.00,2,     2.73,2,   -999.0,9,   -999.0,9,-999.0000,9,  -999.00,     1759
  49UP20111205,RF1111,  4219,  1,     11,  22110,2,20111214,1730, 23.9912, 130.9938, 3355,    908.6,   3.7858,  34.3804,2,-999.0000,9,     62.0,2,   118.28,2,    40.00,2,     0.00,2,     2.85,2,   -999.0,9,   -999.0,9,-999.0000,9,  -999.00,     1757
  49UP20111205,RF1111,  4219,  1,      9,  22082,2,20111214,1730, 23.9912, 130.9938, 3355,   1011.4,   3.3045,  34.4282,2,  34.4278,2,     61.4,2,   127.37,2,    40.80,2,     0.00,2,     2.90,2,   -999.0,9,   -999.0,9,-999.0000,9,  -999.00,     1754
  49UP20111205,RF1111,  4219,  1,      8,  22081,2,20111214,1730, 23.9912, 130.9938, 3355,   1212.6,   2.8404,  34.4942,2,  34.4950,2,     72.1,2,   135.27,2,    40.41,2,     0.00,2,     2.88,2,   -999.0,9,   -999.0,9,-999.0000,9,  -999.00,     1749
  49UP20111205,RF1111,  4219,  1,      7,  22080,2,20111214,1730, 23.9912, 130.9938, 3355,   1414.4,   2.4613,  34.5434,2,  34.5431,2,     86.4,2,   139.89,2,    39.82,2,     0.00,2,     2.82,2,   -999.0,9,   -999.0,9,-999.0000,9,  -999.00,     1744
  49UP20111205,RF1111,  4219,  1,      4,  22077,2,20111214,1730, 23.9912, 130.9938, 3355,   1618.1,   2.1960,  34.5805,2,  34.5809,6,    100.7,6,   141.68,6,    39.22,6,     0.00,6,     2.75,6,   -999.0,9,   -999.0,9,-999.0000,9,  -999.00,     1739
  49UP20111205,RF1111,  4219,  1,      3,  22076,2,20111214,1730, 23.9912, 130.9938, 3355,   1820.4,   2.0347,  34.6033,2,  34.6024,2,    110.0,2,   142.40,2,    38.64,2,     0.00,2,     2.72,2,   -999.0,9,   -999.0,9,-999.0000,9,  -999.00,     1734
  49UP20111205,RF1111,  4219,  1,      2,  22075,2,20111214,1730, 23.9912, 130.9938, 3355,   2023.2,   1.8787,  34.6252,2,  34.6254,2,    120.5,2,   142.55,2,    38.11,2,     0.00,2,     2.67,2,   -999.0,9,   -999.0,9,-999.0000,9,  -999.00,     1730