BOTTLE,20200205PRINUNIVRMK
EXPOCODE,SECT_ID,STNNBR,CASTNO,SAMPNO,BTLNBR,BTLNBR_FLAG_W,DATE,TIME,LATITUDE,LONGITUDE,DEPTH,CTDPRS,CTDTMP,CTDSAL,CTDSAL_FLAG_W,SALNTY,SALNTY_FLAG_W,OXYGEN,OXYGEN_FLAG_W,SILCAT,SILCAT_FLAG_W,NITRAT,NITRAT_FLAG_W,NITRIT,NITRIT_FLAG_W,PHSPHT,PHSPHT_FLAG_W,TCARBN,TCARBN_FLAG_W,ALKALI,ALKALI_FLAG_W,PH_TOT,PH_TOT_FLAG_W,PH_TMP,BTL_TIME
,,,,,,,,,,,METERS,DBAR,ITS-90,PSS-78,,PSS-78,,UMOL/KG,,UMOL/KG,,UMOL/KG,,UMOL/KG,,UMOL/KG,,UMOL/KG,,UMOL/KG,,,,DEG C,
  49UP20111205,RF1111,  4199,  1,     99,     99,2,20111207,0838, 30.9830, 136.9855, 4329,      0.0,  22.9674,  34.6681,2,-999.0000,9,    213.9,2,     1.47,2,     0.03,2,     0.00,2,     0.02,2,   -999.0,9,   -999.0,9,-999.0000,9,  -999.00,      930
  49UP20111205,RF1111,  4199,  1,     36,  22109,2,20111207,0838, 30.9830, 136.9855, 4329,     10.9,  22.9802,  34.6683,2,-999.0000,9,    213.8,2,     1.45,2,     0.00,2,     0.00,2,     0.01,2,   -999.0,9,   -999.0,9,-999.0000,9,  -999.00,      943
  49UP20111205,RF1111,  4199,  1,     35,  22108,2,20111207,0838, 30.9830, 136.9855, 4329,     26.3,  22.9737,  34.6669,2,-999.0000,9,    214.2,2,     1.44,2,     0.02,2,     0.00,2,     0.02,2,   -999.0,9,   -999.0,9,-999.0000,9,  -999.00,      942
  49UP20111205,RF1111,  4199,  1,     34,  22107,2,20111207,0838, 30.9830, 136.9855, 4329,     50.6,  22.8858,  34.6528,2,-999.0000,9,    212.4,2,     1.51,2,     0.06,2,     0.01,2,     0.02,2,   -999.0,9,   -999.0,9,-999.0000,9,  -999.00,      937
  49UP20111205,RF1111,  4199,  1,     32,  22105,2,20111207,0838, 30.9830, 136.9855, 4329,     76.7,  22.8354,  34.6522,2,-999.0000,9,    210.3,6,     1.61,6,     0.21,6,     0.04,6,     0.03,6,   -999.0,9,   -999.0,9,-999.0000,9,  -999.00,      935
  49UP20111205,RF1111,  4199,  1,     31,  22104,2,20111207,0838, 30.9830, 136.9855, 4329,    101.2,  22.0657,  34.7924,2,-999.0000,9,    195.2,2,     2.24,2,     1.52,2,     0.06,2,     0.13,2,   -999.0,9,   -999.0,9,-999.0000,9,  -999.00,      934
  49UP20111205,RF1111,  4199,  1,     30,  22103,2,20111207,0838, 30.9830, 136.9855, 4329,    125.8,  21.1223,  34.8056,2,-999.0000,9,    193.2,2,     2.66,2,     2.26,2,     0.02,2,     0.17,2,   -999.0,9,   -999.0,9,-999.0000,9,  -999.00,      932
  49UP20111205,RF1111,  4199,  1,     28,  22101,2,20111207,0838, 30.9830, 136.9855, 4329,    151.3,  20.3582,  34.7943,2,-999.0000,9,    197.1,2,     2.65,2,     2.37,2,     0.02,2,     0.17,2,   -999.0,9,   -999.0,9,-999.0000,9,  -999.00,      931
  49UP20111205,RF1111,  4199,  1,     27,  22100,2,20111207,0838, 30.9830, 136.9855, 4329,    151.3,  20.3582,  34.7943,2,-999.0000,9,    197.3,2,     2.67,2,     2.38,2,     0.02,2,     0.17,2,   -999.0,9,   -999.0,9,-999.0000,9,  -999.00,      931
  49UP20111205,RF1111,  4199,  1,     26,  22099,2,20111207,0838, 30.9830, 136.9855, 4329,    202.6,  19.1606,  34.7781,2,-999.0000,9,    204.7,2,     2.64,2,     2.68,2,     0.01,2,     0.18,2,   -999.0,9,   -999.0,9,-999.0000,9,  -999.00,      929
  49UP20111205,RF1111,  4199,  1,     23,  22096,2,20111207,0838, 30.9830, 136.9855, 4329,    251.1,  18.6326,  34.7675,2,-999.0000,9,    209.5,2,     2.74,2,     2.83,2,     0.01,2,     0.19,2,   -999.0,9,   -999.0,9,-999.0000,9,  -999.00,      927
  49UP20111205,RF1111,  4199,  1,     22,  22095,2,20111207,0838, 30.9830, 136.9855, 4329,    304.8,  18.3994,  34.7658,2,-999.0000,9,    213.4,2,     2.87,2,     2.82,2,     0.01,2,     0.20,2,   -999.0,9,   -999.0,9,-999.0000,9,  -999.00,      925
  49UP20111205,RF1111,  4199,  1,     21,  22094,2,20111207,0838, 30.9830, 136.9855, 4329,    405.1,  17.4968,  34.7161,2,-999.0000,9,    203.2,2,     4.51,2,     4.85,2,     0.00,2,     0.33,2,   -999.0,9,   -999.0,9,-999.0000,9,  -999.00,      922
  49UP20111205,RF1111,  4199,  1,     18,  22091,2,20111207,0838, 30.9830, 136.9855, 4329,    504.8,  16.0337,  34.6308,2,-999.0000,9,    187.0,2,     8.37,2,     8.52,2,     0.00,2,     0.58,2,   -999.0,9,   -999.0,9,-999.0000,9,  -999.00,      920
  49UP20111205,RF1111,  4199,  1,     17,  22090,2,20111207,0838, 30.9830, 136.9855, 4329,    605.8,  12.9420,  34.4450,2,-999.0000,9,    170.5,2,    20.04,2,    14.95,2,     0.00,2,     1.04,2,   -999.0,9,   -999.0,9,-999.0000,9,  -999.00,      917
  49UP20111205,RF1111,  4199,  1,     16,  22089,2,20111207,0838, 30.9830, 136.9855, 4329,    706.8,  10.3073,  34.3124,2,-999.0000,9,    149.3,2,    35.80,2,    21.26,2,     0.00,2,     1.51,2,   -999.0,9,   -999.0,9,-999.0000,9,  -999.00,      914
  49UP20111205,RF1111,  4199,  1,     14,  22087,2,20111207,0838, 30.9830, 136.9855, 4329,    807.7,   7.6620,  34.2310,2,-999.0000,9,    120.7,2,    58.74,2,    28.37,2,     0.00,2,     2.05,2,   -999.0,9,   -999.0,9,-999.0000,9,  -999.00,      910
  49UP20111205,RF1111,  4199,  1,     13,  22086,2,20111207,0838, 30.9830, 136.9855, 4329,    907.6,   6.0090,  34.2333,2,-999.0000,9,     93.7,2,    79.06,2,    33.63,2,     0.00,2,     2.42,2,   -999.0,9,   -999.0,9,-999.0000,9,  -999.00,      908
  49UP20111205,RF1111,  4199,  1,     12,  22074,2,20111207,0838, 30.9830, 136.9855, 4329,   1010.9,   4.7656,  34.2868,2,-999.0000,9,     71.7,2,    99.32,2,    37.61,2,     0.00,2,     2.70,2,   -999.0,9,   -999.0,9,-999.0000,9,  -999.00,      904
  49UP20111205,RF1111,  4199,  1,     10,  22083,2,20111207,0838, 30.9830, 136.9855, 4329,   1212.3,   3.5174,  34.3952,2,-999.0000,9,     58.3,2,   124.84,2,    40.40,2,     0.00,2,     2.89,2,   -999.0,9,   -999.0,9,-999.0000,9,  -999.00,      859
  49UP20111205,RF1111,  4199,  1,      9,  22082,2,20111207,0838, 30.9830, 136.9855, 4329,   1212.3,   3.5174,  34.3952,2,-999.0000,9,     58.6,6,   124.38,6,    40.43,6,     0.00,6,     2.90,6,   -999.0,9,   -999.0,9,-999.0000,9,  -999.00,      859
  49UP20111205,RF1111,  4199,  1,      8,  22081,2,20111207,0838, 30.9830, 136.9855, 4329,   1418.0,   2.9545,  34.4667,2,-999.0000,9,     64.3,2,   135.98,2,    40.67,2,     0.00,2,     2.91,2,   -999.0,9,   -999.0,9,-999.0000,9,  -999.00,      853
  49UP20111205,RF1111,  4199,  1,      5,  22078,2,20111207,0838, 30.9830, 136.9855, 4329,   1619.4,   2.5161,  34.5205,2,-999.0000,9,     70.7,2,   144.35,2,    40.70,2,     0.00,2,     2.89,2,   -999.0,9,   -999.0,9,-999.0000,9,  -999.00,      849
  49UP20111205,RF1111,  4199,  1,      4,  22077,2,20111207,0838, 30.9830, 136.9855, 4329,   1824.4,   2.1782,  34.5710,2,-999.0000,9,     87.3,2,   147.87,2,    39.88,2,     0.00,2,     2.82,2,   -999.0,9,   -999.0,9,-999.0000,9,  -999.00,      843
  49UP20111205,RF1111,  4199,  1,      3,  22076,2,20111207,0838, 30.9830, 136.9855, 4329,   2024.1,   1.9866,  34.6000,2,-999.0000,9,    100.2,2,   148.16,2,    39.03,2,     0.00,2,     2.76,2,   -999.0,9,   -999.0,9,-999.0000,9,  -999.00,      838
  49UP20111205,RF1111,  4201,  1,     99,     99,2,20111207,1712, 29.9945, 137.0065, 4511,      0.0,  23.0046,  34.6686,2,-999.0000,9,    212.9,2,     1.36,2,     0.01,2,     0.00,2,     0.03,2,   1963.1,2,   2274.3,3,   8.0735,2,    25.00,     1800
  49UP20111205,RF1111,  4201,  1,     36,  22109,2,20111207,1712, 29.9945, 137.0065, 4511,     10.9,  23.0098,  34.6687,2,-999.0000,9,    212.4,2,     1.34,2,     0.00,2,     0.00,2,     0.01,2,   1961.0,2,   2274.9,3,   8.0722,2,    25.00,     1819
  49UP20111205,RF1111,  4201,  1,     35,  22108,2,20111207,1712, 29.9945, 137.0065, 4511,     26.2,  23.0074,  34.6687,2,-999.0000,9,    212.4,2,     1.30,2,     0.00,2,     0.00,2,     0.01,2,   1974.8,2,   2277.3,3,   8.0689,2,    25.00,     1818
  49UP20111205,RF1111,  4201,  1,     34,  22107,2,20111207,1712, 29.9945, 137.0065, 4511,     51.3,  23.0172,  34.6690,2,-999.0000,9,    212.2,2,     1.23,2,     0.01,2,     0.00,2,     0.01,2,   1962.1,2,   2272.0,3,   8.0745,2,    25.00,     1813
  49UP20111205,RF1111,  4201,  1,     32,  22105,2,20111207,1712, 29.9945, 137.0065, 4511,     75.7,  23.0214,  34.6686,2,-999.0000,9,    212.3,2,     1.31,2,     0.00,2,     0.00,2,     0.01,2,   1966.4,2,   2274.0,3,   8.0697,2,    25.00,     1812
  49UP20111205,RF1111,  4201,  1,     31,  22104,2,20111207,1712, 29.9945, 137.0065, 4511,    101.3,  23.0180,  34.6686,2,-999.0000,9,    212.1,2,     1.23,2,     0.02,2,     0.01,2,     0.02,2,   1963.8,2,   2270.0,2,   8.0720,2,    25.00,     1810
  49UP20111205,RF1111,  4201,  1,     30,  22103,2,20111207,1712, 29.9945, 137.0065, 4511,    101.3,  23.0180,  34.6686,2,-999.0000,9,    212.3,6,     1.32,6,     0.01,6,     0.01,6,     0.02,6,   1963.6,2,   2275.3,2,   8.0698,2,    25.00,     1810
  49UP20111205,RF1111,  4201,  1,     28,  22101,2,20111207,1712, 29.9945, 137.0065, 4511,    126.9,  21.3468,  34.8023,2,-999.0000,9,    197.9,2,     2.15,2,     1.52,2,     0.04,2,     0.13,2,   2003.0,6,   2281.2,6,   8.0097,2,    25.00,     1808
  49UP20111205,RF1111,  4201,  1,     27,  22100,2,20111207,1712, 29.9945, 137.0065, 4511,    151.8,  20.4256,  34.7886,2,-999.0000,9,    196.6,2,     2.53,2,     2.39,2,     0.02,2,     0.18,2,   2012.3,2,   2280.0,2,   7.9951,6,    25.00,     1807
  49UP20111205,RF1111,  4201,  1,     26,  22099,2,20111207,1712, 29.9945, 137.0065, 4511,    201.9,  19.1943,  34.7768,2,-999.0000,9,    201.4,2,     2.74,2,     2.83,2,     0.01,2,     0.20,2,   2017.7,2,   2279.9,2,   7.9864,2,    25.00,     1805
  49UP20111205,RF1111,  4201,  1,     23,  22096,2,20111207,1712, 29.9945, 137.0065, 4511,    253.5,  18.5367,  34.7578,2,-999.0000,9,    204.6,2,     2.96,2,     3.30,2,     0.01,2,     0.23,2,   2021.5,2,   2277.8,2,   7.9772,2,    25.00,     1803
  49UP20111205,RF1111,  4201,  1,     22,  22095,2,20111207,1712, 29.9945, 137.0065, 4511,    303.3,  17.7967,  34.7221,2,-999.0000,9,    197.8,2,     4.45,2,     4.94,2,     0.00,2,     0.35,2,   2035.7,2,   2280.0,2,   7.9504,2,    25.00,     1801
  49UP20111205,RF1111,  4201,  1,     21,  22094,2,20111207,1712, 29.9945, 137.0065, 4511,    404.0,  16.0414,  34.6317,2,-999.0000,9,    184.2,2,     8.87,2,     8.78,2,     0.00,2,     0.60,2,   2065.3,2,   2276.1,2,   7.8838,2,    25.00,     1758
  49UP20111205,RF1111,  4201,  1,     18,  22091,2,20111207,1712, 29.9945, 137.0065, 4511,    505.5,  13.5790,  34.4831,2,-999.0000,9,    171.5,2,    17.82,2,    13.82,2,     0.00,2,     0.97,2,   2103.3,2,   2276.1,2,   7.8017,2,    25.00,     1755
  49UP20111205,RF1111,  4201,  1,     17,  22090,2,20111207,1712, 29.9945, 137.0065, 4511,    604.4,  10.4776,  34.3109,2,-999.0000,9,    154.2,2,    33.51,2,    20.53,2,     0.00,2,     1.46,2,   2152.0,2,   2282.6,2,   7.6910,2,    25.00,     1751
  49UP20111205,RF1111,  4201,  1,     16,  22089,2,20111207,1712, 29.9945, 137.0065, 4511,    707.1,   8.0086,  34.2163,2,-999.0000,9,    128.7,2,    53.17,2,    27.15,2,     0.00,2,     1.95,2,   2203.3,2,   2296.8,2,   7.5914,2,    25.00,     1748
  49UP20111205,RF1111,  4201,  1,     14,  22087,2,20111207,1712, 29.9945, 137.0065, 4511,    809.6,   6.0007,  34.2311,2,-999.0000,9,     93.7,2,    79.11,2,    33.73,2,     0.00,2,     2.43,2,   2264.8,2,   2317.4,2,   7.4900,2,    25.00,     1745
  49UP20111205,RF1111,  4201,  1,     13,  22086,2,20111207,1712, 29.9945, 137.0065, 4511,    908.5,   4.7846,  34.2908,2,-999.0000,9,     72.0,2,    99.42,2,    37.50,2,     0.00,2,     2.70,2,   2302.1,2,   2337.3,2,   7.4308,2,    25.00,     1741
  49UP20111205,RF1111,  4201,  1,     12,  22074,2,20111207,1712, 29.9945, 137.0065, 4511,    908.5,   4.7846,  34.2908,2,-999.0000,9,     72.0,2,    99.59,2,    37.50,2,     0.00,2,     2.70,2,   2303.0,2,   2339.1,2,   7.4306,2,    25.00,     1741
  49UP20111205,RF1111,  4201,  1,     10,  22083,2,20111207,1712, 29.9945, 137.0065, 4511,   1010.9,   3.9901,  34.3404,2,-999.0000,9,     60.0,2,   114.70,2,    39.68,2,     0.00,2,     2.84,2,   2326.0,2,   2354.3,2,   7.4054,2,    25.00,     1738
  49UP20111205,RF1111,  4201,  1,      9,  22082,2,20111207,1712, 29.9945, 137.0065, 4511,   1211.6,   3.2737,  34.4127,2,-999.0000,9,     54.6,2,   130.78,2,    41.07,2,     0.00,2,     2.93,2,   2347.8,2,   2371.1,2,   7.3879,2,    25.00,     1733
  49UP20111205,RF1111,  4201,  1,      8,  22081,2,20111207,1712, 29.9945, 137.0065, 4511,   1415.4,   2.7666,  34.4853,2,-999.0000,9,     63.7,6,   140.70,6,    41.01,6,     0.00,6,     2.92,6,   2359.5,2,   2385.8,2,   7.4083,2,    25.00,     1727
  49UP20111205,RF1111,  4201,  1,      5,  22078,2,20111207,1712, 29.9945, 137.0065, 4511,   1618.2,   2.4176,  34.5361,2,-999.0000,9,     75.0,2,   145.77,2,    40.49,2,     0.00,2,     2.88,2,   2357.5,6,   2394.2,6,   7.4257,2,    25.00,     1722
  49UP20111205,RF1111,  4201,  1,      4,  22077,2,20111207,1712, 29.9945, 137.0065, 4511,   1821.7,   2.1800,  34.5723,2,-999.0000,9,     89.1,2,   147.39,2,    39.72,2,     0.00,2,     2.81,2,   2358.4,2,   2401.8,2,   7.4626,2,    25.00,     1717
  49UP20111205,RF1111,  4201,  1,      3,  22076,2,20111207,1712, 29.9945, 137.0065, 4511,   2025.5,   2.0226,  34.5977,2,-999.0000,9,    101.0,2,   146.98,2,    39.06,2,     0.00,2,     2.76,2,   2356.6,2,   2401.7,2,   7.4858,2,    25.00,     1712
  49UP20111205,RF1111,  4202,  1,     99,     99,2,20111207,2346, 29.0015, 137.0048, 4494,      0.0,  23.6155,  34.7057,2,-999.0000,9,    211.3,2,     1.37,2,     0.10,2,     0.00,2,     0.03,2,   -999.0,9,   -999.0,9,-999.0000,9,  -999.00,       33
  49UP20111205,RF1111,  4202,  1,     36,  22109,2,20111207,2346, 29.0015, 137.0048, 4494,     11.6,  23.6076,  34.7051,2,  34.7005,4,    212.5,2,     1.43,2,     0.03,2,     0.00,2,     0.02,2,   -999.0,9,   -999.0,9,-999.0000,9,  -999.00,       53
  49UP20111205,RF1111,  4202,  1,     35,  22108,2,20111207,2346, 29.0015, 137.0048, 4494,     26.0,  23.4635,  34.6856,2,-999.0000,9,    211.9,2,     1.43,2,     0.05,2,     0.00,2,     0.02,2,   -999.0,9,   -999.0,9,-999.0000,9,  -999.00,       51
  49UP20111205,RF1111,  4202,  1,     34,  22107,2,20111207,2346, 29.0015, 137.0048, 4494,     51.5,  23.1956,  34.6466,2,-999.0000,9,    212.3,2,     1.48,2,     0.02,2,     0.00,2,     0.02,2,   -999.0,9,   -999.0,9,-999.0000,9,  -999.00,       47
  49UP20111205,RF1111,  4202,  1,     32,  22105,2,20111207,2346, 29.0015, 137.0048, 4494,     76.8,  23.1260,  34.6456,2,-999.0000,9,    211.8,2,     1.64,2,     0.04,2,     0.01,2,     0.02,2,   -999.0,9,   -999.0,9,-999.0000,9,  -999.00,       46
  49UP20111205,RF1111,  4202,  1,     31,  22104,2,20111207,2346, 29.0015, 137.0048, 4494,     76.8,  23.1260,  34.6456,2,-999.0000,9,    211.6,2,     1.52,2,     0.06,2,     0.01,2,     0.03,2,   -999.0,9,   -999.0,9,-999.0000,9,  -999.00,       46
  49UP20111205,RF1111,  4202,  1,     30,  22103,2,20111207,2346, 29.0015, 137.0048, 4494,    102.0,  22.7889,  34.7358,2,  34.7454,4,    203.7,2,     1.77,2,     0.44,2,     0.11,2,     0.06,2,   -999.0,9,   -999.0,9,-999.0000,9,  -999.00,       44
  49UP20111205,RF1111,  4202,  1,     28,  22101,2,20111207,2346, 29.0015, 137.0048, 4494,    126.9,  21.5336,  34.8374,2,-999.0000,9,    207.4,6,     1.98,6,     0.54,6,     0.07,6,     0.07,6,   -999.0,9,   -999.0,9,-999.0000,9,  -999.00,       43
  49UP20111205,RF1111,  4202,  1,     27,  22100,2,20111207,2346, 29.0015, 137.0048, 4494,    151.9,  20.1754,  34.8193,2,-999.0000,9,    204.8,2,     2.30,2,     1.44,2,     0.02,2,     0.11,2,   -999.0,9,   -999.0,9,-999.0000,9,  -999.00,       41
  49UP20111205,RF1111,  4202,  1,     26,  22099,2,20111207,2346, 29.0015, 137.0048, 4494,    203.1,  19.1312,  34.7812,2,  34.7798,6,    199.3,2,     2.98,2,     3.05,2,     0.01,2,     0.22,2,   -999.0,9,   -999.0,9,-999.0000,9,  -999.00,       39
  49UP20111205,RF1111,  4202,  1,     23,  22096,2,20111207,2346, 29.0015, 137.0048, 4494,    255.7,  18.4471,  34.7578,2,-999.0000,9,    205.0,2,     3.17,2,     3.29,2,     0.01,2,     0.23,2,   -999.0,9,   -999.0,9,-999.0000,9,  -999.00,       37
  49UP20111205,RF1111,  4202,  1,     22,  22095,2,20111207,2346, 29.0015, 137.0048, 4494,    303.9,  17.7367,  34.7167,2,-999.0000,9,    205.3,2,     3.73,2,     4.12,2,     0.01,2,     0.28,2,   -999.0,9,   -999.0,9,-999.0000,9,  -999.00,       35
  49UP20111205,RF1111,  4202,  1,     21,  22094,2,20111207,2346, 29.0015, 137.0048, 4494,    405.3,  16.0360,  34.6322,2,  34.6314,2,    183.6,2,     8.78,2,     8.79,2,     0.00,2,     0.60,2,   -999.0,9,   -999.0,9,-999.0000,9,  -999.00,       32
  49UP20111205,RF1111,  4202,  1,     18,  22091,2,20111207,2346, 29.0015, 137.0048, 4494,    505.6,  13.2196,  34.4561,2,-999.0000,9,    174.5,2,    17.91,2,    14.00,2,     0.00,2,     0.98,2,   -999.0,9,   -999.0,9,-999.0000,9,  -999.00,       29
  49UP20111205,RF1111,  4202,  1,     17,  22090,2,20111207,2346, 29.0015, 137.0048, 4494,    607.9,   9.8550,  34.2692,2,  34.2709,2,    151.7,2,    35.86,2,    21.80,2,     0.00,2,     1.55,2,   -999.0,9,   -999.0,9,-999.0000,9,  -999.00,       26
  49UP20111205,RF1111,  4202,  1,     16,  22089,2,20111207,2346, 29.0015, 137.0048, 4494,    707.2,   7.7337,  34.1754,2,-999.0000,9,    132.1,2,    52.91,2,    27.34,2,     0.00,2,     1.97,2,   -999.0,9,   -999.0,9,-999.0000,9,  -999.00,       24
  49UP20111205,RF1111,  4202,  1,     14,  22087,2,20111207,2346, 29.0015, 137.0048, 4494,    808.5,   5.8399,  34.1852,2,  34.1851,2,     94.8,2,    77.70,2,    33.80,2,     0.00,2,     2.43,2,   -999.0,9,   -999.0,9,-999.0000,9,  -999.00,       18
  49UP20111205,RF1111,  4202,  1,     13,  22086,2,20111207,2346, 29.0015, 137.0048, 4494,    808.5,   5.8399,  34.1852,2,  34.1850,2,     94.8,2,    77.77,2,    33.67,2,     0.00,2,     2.43,2,   -999.0,9,   -999.0,9,-999.0000,9,  -999.00,       18
  49UP20111205,RF1111,  4202,  1,     12,  22074,2,20111207,2346, 29.0015, 137.0048, 4494,    910.0,   4.8092,  34.2470,2,-999.0000,9,     72.5,2,    96.30,2,    37.35,2,     0.00,2,     2.68,2,   -999.0,9,   -999.0,9,-999.0000,9,  -999.00,       15
  49UP20111205,RF1111,  4202,  1,     10,  22083,2,20111207,2346, 29.0015, 137.0048, 4494,   1011.0,   4.1710,  34.3167,2,  34.3153,2,     61.6,2,   109.79,2,    39.09,2,     0.00,2,     2.80,2,   -999.0,9,   -999.0,9,-999.0000,9,  -999.00,       13
  49UP20111205,RF1111,  4202,  1,      9,  22082,2,20111207,2346, 29.0015, 137.0048, 4494,   1212.7,   3.3797,  34.4071,2,  34.4071,2,     56.9,2,   127.76,2,    40.59,2,     0.00,2,     2.90,2,   -999.0,9,   -999.0,9,-999.0000,9,  -999.00,        8
  49UP20111205,RF1111,  4202,  1,      8,  22081,2,20111207,2346, 29.0015, 137.0048, 4494,   1416.1,   2.7820,  34.4828,2,  34.4829,2,     62.2,2,   140.00,2,    41.01,2,     0.00,2,     2.92,2,   -999.0,9,   -999.0,9,-999.0000,9,  -999.00,        1
  49UP20111205,RF1111,  4202,  1,      5,  22078,2,20111207,2346, 29.0015, 137.0048, 4494,   1617.8,   2.4608,  34.5288,2,  34.5295,6,     72.7,6,   145.31,6,    40.45,6,     0.00,6,     2.87,6,   -999.0,9,   -999.0,9,-999.0000,9,  -999.00,     2357
  49UP20111205,RF1111,  4202,  1,      4,  22077,2,20111207,2346, 29.0015, 137.0048, 4494,   1820.4,   2.2182,  34.5676,2,  34.5680,2,     88.1,2,   146.45,2,    39.75,2,     0.00,2,     2.81,2,   -999.0,9,   -999.0,9,-999.0000,9,  -999.00,     2352
  49UP20111205,RF1111,  4202,  1,      3,  22076,2,20111207,2346, 29.0015, 137.0048, 4494,   2023.9,   2.0344,  34.5953,2,  34.5949,2,     99.3,2,   147.70,2,    39.19,2,     0.00,2,     2.76,2,   -999.0,9,   -999.0,9,-999.0000,9,  -999.00,     2346