BOTTLE,20150204PRINUNIVRMK
EXPOCODE,SECT_ID,STNNBR,CASTNO,SAMPNO,BTLNBR,BTLNBR_FLAG_W,DATE,TIME,LATITUDE,LONGITUDE,DEPTH,CTDPRS,CTDTMP,CTDSAL,CTDSAL_FLAG_W,SALNTY,SALNTY_FLAG_W,CTDOXY,CTDOXY_FLAG_W,OXYGEN,OXYGEN_FLAG_W,SILCAT,SILCAT_FLAG_W,NITRAT,NITRAT_FLAG_W,PHSPHT,PHSPHT_FLAG_W,CFC-11,CFC-11_FLAG_W,CFC-12,CFC-12_FLAG_W,CFC113,CFC113_FLAG_W,CCL4,CCL4_FLAG_W,TCARBN,TCARBN_FLAG_W,ALKALI,ALKALI_FLAG_W,THETA
,,,,,,,,,,,METERS,DBAR,ITS-90,PSS-78,,PSS-78,,UMOL/KG,,UMOL/KG,,UMOL/KG,,UMOL/KG,,UMOL/KG,,PMOL/KG,,PMOL/KG,,PMOL/KG,,PMOL/KG,,UMOL/KG,,UMOL/KG,,DEG C
  18HU19960512, AR07W,    42,  2, 158525,     53,2,19960523,1951, 59.4733, -49.4717,   12,     12.3,   3.9490,  34.6145,2,  34.6157,2,    308.9,2,    325.3,2,     7.17,6,    12.04,6,     0.91,6,    4.606,2,    2.261,2,    0.533, 2,    6.945,2,   2121.4,2,   2280.3,2,   3.9482
  18HU19960512, AR07W,    42,  2, 158524,     70,2,19960523,1951, 59.4733, -49.4717,   12,     68.2,   3.9144,  34.6158,2,  34.6170,2,    305.5,2,    324.7,2,     6.80,6,    11.62,6,     0.86,6,    4.622,2,    2.299,2,    0.476, 2,    7.044,2,   2122.0,2,   2272.7,2,   3.9098
  18HU19960512, AR07W,    42,  2, 158523,     51,2,19960523,1951, 59.4733, -49.4717,   12,    150.3,   3.8548,  34.8020,2,  34.8016,2,    293.9,2,    299.4,2,     8.44,6,    15.30,6,     1.07,6,    4.115,2,    2.050,2,    0.333, 2,    5.965,2,   2140.9,2,   2284.2,2,   3.8445
  18HU19960512, AR07W,    42,  2, 158522,     50,2,19960523,1951, 59.4733, -49.4717,   12,    244.8,   3.6053,  34.8145,2,  34.8151,2,    292.9,2,    301.4,2,     8.25,6,    15.67,6,     1.08,6,    4.025,2,    2.064,2,    0.311, 2,    5.906,2,   2144.9,2,   2289.7,2,   3.5888
  18HU19960512, AR07W,    42,  2, 158521,     68,2,19960523,1951, 59.4733, -49.4717,   12,    367.7,   3.1374,  34.7939,2,  34.7953,2,    296.9,2,    310.0,2,     8.33,6,    15.17,6,     1.07,6,    4.335,2,    2.176,2,    0.294, 2,    6.268,3,   2144.4,2,   2286.5,2,   3.1137
  18HU19960512, AR07W,    42,  2, 158520,     48,2,19960523,1951, 59.4733, -49.4717,   12,    509.0,   3.1536,  34.8150,2,  34.8158,2,    292.3,2,    303.1,2,     8.31,6,    15.72,6,     1.08,6,    4.117,2,    1.979,2,    0.367, 2,    5.906,2,   2145.9,3,   2291.3,2,   3.1201
  18HU19960512, AR07W,    42,  2, 158519,     47,2,19960523,1951, 59.4733, -49.4717,   12,    670.5,   3.1313,  34.8266,2,  34.8277,2,    288.3,2,    295.0,2,     8.79,6,    16.34,6,     1.10,6,    3.891,2,    1.902,2,    0.284, 2,    5.596,2,   2147.1,2,   2279.7,2,   3.0864
  18HU19960512, AR07W,    42,  2, 158518,     46,2,19960523,1951, 59.4733, -49.4717,   12,    851.3,   3.0090,  34.8314,2,  34.8321,0,    288.7,2,    299.8,2,     9.08,6,    16.41,6,     1.11,6,    3.877,2,    1.944,2,    0.000, 4,    5.554,2,   2148.9,2,   2289.3,2,   2.9516
  18HU19960512, AR07W,    42,  2, 158517,     45,2,19960523,1951, 59.4733, -49.4717,   12,   1050.2,   3.0223,  34.8453,2,  34.8461,2,    286.8,2,    297.8,2,     9.36,6,    16.65,6,     1.11,6,    3.622,2,    1.764,2,    0.260, 2,    5.161,2,   2149.5,2,   2285.2,2,   2.9498
  18HU19960512, AR07W,    42,  2, 158516,     44,2,19960523,1951, 59.4733, -49.4717,   12,   1267.4,   2.9628,  34.8450,2,  34.8463,2,    287.0,2,    299.2,2,     9.03,3,    15.40,3,     1.09,3,    3.577,6,    1.663,6,    0.249, 6,    5.174,6,   2150.8,2,   2288.6,2,   2.8737
  18HU19960512, AR07W,    42,  2, 158515,     43,2,19960523,1951, 59.4733, -49.4717,   12,   1488.7,   2.9081,  34.8418,2,  34.8426,2,    287.4,2,    299.9,2,     9.08,6,    15.84,6,     1.11,6,    3.581,2,    1.704,2,    0.240, 2,    5.204,2,   2150.4,2,   2284.0,2,   2.8016
  18HU19960512, AR07W,    42,  2, 158514,     42,2,19960523,1951, 59.4733, -49.4717,   12,   1725.5,   2.8665,  34.8391,2,  34.8399,2,    287.7,2,    300.3,2,     9.94,6,    16.50,6,     1.14,6,    3.511,2,    1.690,2,    0.255, 2,    5.225,2,   2150.0,2,   2283.0,2,   2.7405
  18HU19960512, AR07W,    42,  2, 158513,     41,2,19960523,1951, 59.4733, -49.4717,   12,   1969.5,   2.8590,  34.8395,2,  34.8409,2,    287.5,2,    301.1,2,     9.06,3,    14.93,3,     1.09,3,    3.528,2,    1.746,2,    0.265, 2,    5.227,2,   2150.3,2,   2291.2,2,   2.7116
  18HU19960512, AR07W,    42,  2, 158512,     40,2,19960523,1951, 59.4733, -49.4717,   12,   2190.4,   3.0117,  34.8762,2,  34.8772,2,    281.5,2,    291.6,2,    10.15,6,    16.58,6,     1.12,6,    2.847,2,    1.318,2,    0.200, 2,    4.311,2,   2151.2,2,   2290.5,2,   2.8415
  18HU19960512, AR07W,    42,  2, 158511,     39,3,19960523,1951, 59.4733, -49.4717,   12,   2410.8,   2.9646,  34.8953,2,  34.8332,4,    279.3,2,    287.0,2,    10.18,6,    15.96,6,     1.13,6, -999.000,9, -999.000,9, -999.000, 9, -999.000,9,   2151.1,2,   2287.8,6,   2.7741
  18HU19960512, AR07W,    42,  2, 158510,     38,2,19960523,1951, 59.4733, -49.4717,   12,   2609.5,   2.8478,  34.9014,2,  34.9027,2,    279.3,2,    287.0,2,    10.94,6,    16.23,6,     1.11,6,    2.363,2,    1.090,2,    0.169, 2,    3.563,2,   2152.2,2,   2303.7,2,   2.6400
  18HU19960512, AR07W,    42,  2, 158509,     37,2,19960523,1951, 59.4733, -49.4717,   12,   2788.4,   2.6505,  34.9022,2,  34.9031,2,    279.8,2,    289.5,2,    11.23,6,    15.73,6,     1.10,6,    2.361,2,    1.117,2,    0.133, 2,    3.592,2,   2152.5,2,   2301.1,2,   2.4289
  18HU19960512, AR07W,    42,  2, 158508,     57,2,19960523,1951, 59.4733, -49.4717,   12,   2951.3,   2.4395,  34.8996,2,  34.9001,2,    280.2,2,    283.2,2,    11.77,6,    15.60,6,     1.02,6,    2.178,2,    0.984,2,    0.185, 2,    3.393,2,   2153.1,2,   2336.6,3,   2.2059
  18HU19960512, AR07W,    42,  2, 158507,     35,2,19960523,1951, 59.4733, -49.4717,   12,   3090.1,   2.2608,  34.8960,2,  34.9007,2,    281.6,2,    287.4,2,    11.47,3,    14.53,3,     0.99,3,    2.181,2,    1.025,2,    0.164, 2,    3.485,2,   2153.5,2,   2299.0,2,   2.0171
  18HU19960512, AR07W,    42,  2, 158506,     34,2,19960523,1951, 59.4733, -49.4717,   12,   3203.0,   1.9387,  34.8810,2,  34.8823,2,    286.1,2,    295.2,2,     8.77,6,    12.12,3,     0.91,3,    2.743,2,    1.326,2,    0.160, 2,    4.139,2,   2152.5,2,   2297.1,2,   1.6910
  18HU19960512, AR07W,    42,  2, 158505,     32,2,19960523,1951, 59.4733, -49.4717,   12,   3295.8,   1.7278,  34.8769,2,  34.8779,2,    289.4,2,    300.4,0,     9.83,6,    14.78,6,     1.00,6,    3.170,2,    1.490,2,    0.292, 2,    4.537,2,   2152.0,2,   2289.8,2,   1.4757
  18HU19960512, AR07W,    42,  2, 158504,     31,2,19960523,1951, 59.4733, -49.4717,   12,   3378.7,   1.4513,  34.8727,2,  34.8732,2,    292.6,2,    304.4,2,     9.64,6,    14.24,6,     0.98,6,    3.370,2,    1.634,2,    0.268, 2,    4.913,2,   2152.7,2,   2280.4,2,   1.1975
  18HU19960512, AR07W,    42,  2, 158503,     33,2,19960523,1951, 59.4733, -49.4717,   12,   3421.1,   1.3174,  34.8681,2,  34.8704,0,    294.9,2,    296.2,2,    10.01,6,    14.53,6,     0.99,6,    3.402,2,    1.702,2,    0.236, 2,    4.900,2,   2153.6,2,   2281.9,2,   1.0627
  18HU19960512, AR07W,    43,  2, 158548,     53,2,19960524,0055, 59.7505, -49.1768,   15,     10.2,   4.3032,  34.6315,2,  34.6307,2,    312.5,2,    315.0,2,     6.01,6,     9.40,6,     0.73,6,    4.355,2,    2.656,2,    0.000, 4,    7.163,2,   2110.3,2,   2282.4,2,   4.3025
  18HU19960512, AR07W,    43,  2, 158547,     70,2,19960524,0055, 59.7505, -49.1768,   15,     59.0,   4.3456,  34.6423,2,  34.6422,2,    308.3,2,    325.0,2,     5.81,6,     8.97,6,     0.74,6,    4.314,2,    2.368,2,    0.350, 2,    7.000,2,   2109.8,2,   2284.6,2,   4.3414
  18HU19960512, AR07W,    43,  2, 158546,     51,2,19960524,0055, 59.7505, -49.1768,   15,    119.2,   3.9190,  34.8140,2,  34.8041,2,    297.2,2,    308.9,2,     7.94,6,    14.33,6,     0.91,6,    4.086,2,    2.012,2,    0.322, 2,    6.268,2,   2138.6,2,   2279.8,2,   3.9108
  18HU19960512, AR07W,    43,  2, 158545,     50,2,19960524,0055, 59.7505, -49.1768,   15,    199.0,   3.5816,  34.8300,2,  34.8289,2,    296.1,2,    304.3,2,     8.28,6,    15.48,6,     1.02,6,    3.811,2,    1.584,2,    0.000, 4,    5.843,2,   2142.7,2,   2286.6,2,   3.5683
  18HU19960512, AR07W,    43,  2, 158544,     68,2,19960524,0055, 59.7505, -49.1768,   15,    299.4,   3.4077,  34.8258,2,  34.8256,2,    296.2,2,    304.3,2,     7.09,3,    13.28,3,     0.92,3,    3.964,6,    2.074,6,    0.289, 6,    5.999,6,   2142.6,2,   2289.3,2,   3.3879
  18HU19960512, AR07W,    43,  2, 158543,     48,2,19960524,0055, 59.7505, -49.1768,   15,    418.2,   3.3850,  34.8389,2,  34.8373,2,    292.7,2,    300.1,2,     7.59,3,    13.99,3,     0.96,3,    3.769,2,    2.033,2,    0.000, 4,    5.871,2,   2145.2,2,   2289.1,2,   3.3570
  18HU19960512, AR07W,    43,  2, 158542,     47,2,19960524,0055, 59.7505, -49.1768,   15,    562.8,   3.3440,  34.8559,2,  34.8495,2,    288.3,2,    296.1,2,     8.74,6,    16.09,6,     1.05,6,    3.578,2,    2.101,2,    0.203, 2,    5.292,2,   2146.8,2,   2284.2,2,   3.3059
  18HU19960512, AR07W,    43,  2, 158541,     46,2,19960524,0055, 59.7505, -49.1768,   15,    716.4,   3.2448,  34.8629,2,  34.8621,2,    288.0,2,    292.5,2,     9.33,6,    16.25,6,     1.06,6,    3.339,2,    1.726,2,    0.228, 2,    4.985,2,   2148.7,2,   2289.1,2,   3.1959
  18HU19960512, AR07W,    43,  2, 158540,     45,2,19960524,0055, 59.7505, -49.1768,   15,    896.9,   3.0858,  34.8546,2,  34.8540,2,    288.8,2,    295.5,2,     8.36,6,    14.71,6,     0.93,3,    3.456,2,    2.230,2,    0.258, 2,    5.829,2,   2150.2,2,   2291.1,2,   3.0245
  18HU19960512, AR07W,    43,  2, 158539,     44,2,19960524,0055, 59.7505, -49.1768,   15,   1119.2,   2.9852,  34.8499,2,  34.8499,2,    289.5,2,    297.9,2,     9.50,6,    16.36,6,     1.08,6,    3.390,2,    1.871,2,    0.234, 2,    5.257,2,   2148.5,2,   2299.1,2,   2.9076
  18HU19960512, AR07W,    43,  2, 158538,     43,2,19960524,0055, 59.7505, -49.1768,   15,   1340.1,   2.9145,  34.8449,2,  34.8452,2,    290.2,2,    299.8,2,     9.14,6,    16.30,6,     1.12,6,    3.412,2,    1.978,2,    0.204, 2,    5.851,3,   2149.4,2,   2288.6,2,   2.8201
  18HU19960512, AR07W,    43,  2, 158537,     42,2,19960524,0055, 59.7505, -49.1768,   15,   1559.4,   2.8682,  34.8408,2,  34.8413,2,    289.6,2,    289.6,2,     9.49,6,    16.51,6,     1.08,6,    3.342,2,    2.093,2,    0.223, 2,    5.072,2,   2144.4,2,   2282.3,2,   2.7562
  18HU19960512, AR07W,    43,  2, 158536,     41,2,19960524,0055, 59.7505, -49.1768,   15,   1775.8,   2.8627,  34.8423,2,  34.8427,2,    289.3,2,    300.1,2,     8.84,3,    15.16,3,     1.01,3,    3.315,2,    2.089,2,    0.223, 2,    5.026,2,   2146.8,2,   2284.7,2,   2.7323
  18HU19960512, AR07W,    43,  2, 158535,     40,2,19960524,0055, 59.7505, -49.1768,   15,   1998.7,   2.9812,  34.8697,2,  34.8694,2,    284.3,2,    292.5,2,    10.18,6,    16.44,6,     1.06,6,    2.727,2,    1.494,2,    0.176, 2,    4.339,2,   2149.7,2,   2288.1,2,   2.8292
  18HU19960512, AR07W,    43,  2, 158534,     39,2,19960524,0055, 59.7505, -49.1768,   15,   2212.1,   2.9902,  34.8956,2,  34.8960,2,    280.7,2,    285.5,2,     8.70,3,    13.06,3,     0.91,3,    2.094,2,    1.101,2,    0.000, 5,    3.487,2,   2149.2,2,   2301.2,2,   2.8183
  18HU19960512, AR07W,    43,  2, 158533,     38,2,19960524,0055, 59.7505, -49.1768,   15,   2418.0,   2.8597,  34.9070,2,  34.9066,2,    279.5,2,    283.9,2,    11.51,6,    16.02,6,     1.06,6,    1.875,2,    1.158,2,    0.000, 5,    3.050,2,   2152.7,2,   2291.4,2,   2.6704
  18HU19960512, AR07W,    43,  2, 158532,     37,2,19960524,0055, 59.7505, -49.1768,   15,   2598.6,   2.6728,  34.9091,2,  34.9095,2,    279.0,2,    279.5,2,    12.15,6,    15.84,6,     1.08,6,    1.735,2,    1.117,2,    0.000, 5,    3.198,2,   2154.0,2,   2292.3,2,   2.4694
  18HU19960512, AR07W,    43,  2, 158531,     57,2,19960524,0055, 59.7505, -49.1768,   15,   2759.8,   2.4930,  34.9052,2,  34.9039,2,    280.5,2,    275.6,2,    12.88,6,    16.09,6,     1.11,6,    1.770,2,    1.123,2,    0.000, 5,    3.087,2,   2152.9,2,   2297.6,2,   2.2774
  18HU19960512, AR07W,    43,  2, 158530,     35,2,19960524,0055, 59.7505, -49.1768,   15,   2897.1,   2.2215,  34.8947,2,  34.8927,0,    282.9,2,    287.3,2,    12.27,6,    15.35,6,     1.08,6,    2.028,2,    1.129,2,    0.000, 5,    3.434,2,   2152.4,2,   2288.7,2,   1.9980
  18HU19960512, AR07W,    43,  2, 158529,     34,2,19960524,0055, 59.7505, -49.1768,   15,   3018.5,   1.9307,  34.8823,2,  34.8818,0,    287.5,2,    294.3,2,    11.47,6,    14.75,6,     1.03,6,    2.544,2,    1.360,2,    0.175, 2,    4.017,2,   2151.5,2,   2292.2,2,   1.7016
  18HU19960512, AR07W,    43,  2, 158528,     32,2,19960524,0055, 59.7505, -49.1768,   15,   3116.4,   1.6717,  34.8777,2,  34.8770,2,    290.4,2,    299.7,2,    10.03,6,    14.36,6,     1.00,6,    2.930,2,    1.377,2,    0.195, 2,    4.494,2,   2150.3,2,   2294.2,2,   1.4388
  18HU19960512, AR07W,    43,  2, 158527,     31,2,19960524,0055, 59.7505, -49.1768,   15,   3192.5,   1.4267,  34.8765,2,  34.8759,2,    293.3,2,    303.3,2,     9.40,6,    14.01,6,     0.99,6,    3.109,2,    1.871,2,    0.204, 2,    4.733,2,   2151.2,2,   -999.0,5,   1.1919
  18HU19960512, AR07W,    43,  2, 158526,     33,2,19960524,0055, 59.7505, -49.1768,   15,   3247.2,   1.4302,  34.8765,2,  34.8780,2,    294.9,2,    303.4,0,     9.88,6,    14.34,6,     1.00,6,    3.143,2,    1.616,2,    0.259, 2,    4.813,2,   2158.9,3,   2289.7,2,   1.1900
  18HU19960512, AR07W,    44,  1, 158571,     53,2,19960524,0452, 59.9810, -48.9055,   15,      9.9,   4.2568,  34.7180,2,  34.7186,2,    309.9,2,    322.5,2,     7.25,6,    11.72,6,     0.88,6,    4.664,2,    2.405,2,    0.432, 2,    7.082,2,   2123.6,2,   2284.3,2,   4.2561
  18HU19960512, AR07W,    44,  1, 158570,     70,2,19960524,0452, 59.9810, -48.9055,   15,     58.8,   4.3123,  34.7781,2,  34.7765,2,    305.5,2,    319.4,2,     7.73,6,    13.00,6,     0.93,6,    4.505,2,    2.321,2,    0.406, 2,    6.860,2,   2129.3,2,   2284.2,2,   4.3081
  18HU19960512, AR07W,    44,  1, 158569,     51,2,19960524,0452, 59.9810, -48.9055,   15,    120.0,   4.6876,  34.8772,2,  34.8779,2,    296.1,2,    306.0,2,     6.68,3,    12.31,3,     0.90,3,    4.145,2,    2.120,2,    0.346, 2,    6.135,2,   2137.4,2,   2286.1,2,   4.6786
  18HU19960512, AR07W,    44,  1, 158568,     50,2,19960524,0452, 59.9810, -48.9055,   15,    199.6,   4.7232,  34.9172,2,  34.9181,2,    287.8,2,    293.7,2,     7.69,3,    14.55,3,     1.00,3,    3.906,2,    1.912,2,    0.291, 2,    5.636,2,   2143.5,2,   2294.3,2,   4.7080
  18HU19960512, AR07W,    44,  1, 158567,     68,2,19960524,0452, 59.9810, -48.9055,   15,    299.9,   4.3639,  34.9069,2,  34.9066,2,    283.4,2,    287.4,2,     8.20,6,    15.01,6,     1.02,6,    3.663,2,    1.902,2,    0.294, 2,    5.169,2,   2146.8,2,   2286.0,2,   4.3417
  18HU19960512, AR07W,    44,  1, 158566,     48,2,19960524,0452, 59.9810, -48.9055,   15,    419.6,   4.0801,  34.9032,2,  34.9038,2,    281.9,2,    284.9,2,     8.20,3,    14.72,3,     1.02,3,    3.515,2,    1.765,2,    0.306, 2,    4.790,2,   2150.3,2,   2286.2,2,   4.0497
  18HU19960512, AR07W,    44,  1, 158565,     47,2,19960524,0452, 59.9810, -48.9055,   15,    560.0,   3.7653,  34.8980,2,  34.8976,2,    281.0,2,    284.5,2,     8.95,6,    15.61,6,     1.05,6,    3.335,2,    1.708,2,    0.278, 2,    4.842,2,   2150.4,2,   2290.6,2,   3.7255
  18HU19960512, AR07W,    44,  1, 158564,     46,2,19960524,0452, 59.9810, -48.9055,   15,    718.6,   3.6323,  34.9042,2,  34.9035,2,    279.8,2,    283.0,2,     7.99,3,    13.82,3,     0.94,3,    3.132,2,    1.552,2,    0.229, 2,    4.442,2,   2152.7,2,   2283.0,2,   3.5810
  18HU19960512, AR07W,    44,  1, 158563,     45,2,19960524,0452, 59.9810, -48.9055,   15,    880.1,   3.3717,  34.8880,2,  34.8876,2,    282.4,2,    287.9,2,     9.75,6,    16.68,6,     1.12,6,    3.230,2,    1.570,2,    0.260, 2,    4.596,2,   2151.7,2,   2273.5,3,   3.3096
  18HU19960512, AR07W,    44,  1, 158562,     44,2,19960524,0452, 59.9810, -48.9055,   15,   1062.6,   3.1994,  34.8781,2,  34.8781,2,    284.3,2,    292.6,2,     8.99,3,    15.45,3,     1.04,3,    3.309,2,    1.633,2,    0.277, 2,    4.938,2,   2151.1,2,   2284.7,2,   3.1244
  18HU19960512, AR07W,    44,  1, 158561,     43,2,19960524,0452, 59.9810, -48.9055,   15,   1262.4,   3.0671,  34.8655,2,  34.8652,2,    286.6,2,    264.2,0,     9.93,6,    16.71,6,     1.10,6,    3.465,2,    1.752,2,    0.311, 2,    5.123,2,   2149.9,2,   2290.1,2,   2.9774
  18HU19960512, AR07W,    44,  1, 158560,     42,2,19960524,0452, 59.9810, -48.9055,   15,   1476.7,   2.9305,  34.8496,2,  34.8504,2,    288.3,2,    278.7,0,     9.57,6,    16.42,6,     1.09,6,    3.603,2,    1.733,2,    0.297, 2,    5.250,2,   2147.4,2,   2278.3,3,   2.8247
  18HU19960512, AR07W,    44,  1, 158559,     41,2,19960524,0452, 59.9810, -48.9055,   15,   1699.0,   3.0058,  34.8672,2,  34.8671,2,    285.3,2,    294.9,2,     9.89,6,    16.55,6,     1.09,6,    3.240,2,    1.585,2,    0.000, 4,    4.761,2,   2147.8,2,   2292.4,2,   2.8802
  18HU19960512, AR07W,    44,  1, 158558,     40,2,19960524,0452, 59.9810, -48.9055,   15,   1920.9,   3.0137,  34.8832,2,  34.8830,2,    283.2,2,    290.6,2,    10.17,6,    16.28,6,     1.08,6,    2.894,2,    1.392,2,    0.194, 2,    4.338,2,   2147.8,2,   2294.2,2,   2.8683
  18HU19960512, AR07W,    44,  1, 158557,     39,2,19960524,0452, 59.9810, -48.9055,   15,   2140.2,   2.9360,  34.8945,2,  34.8944,2,    281.9,2,    287.8,2,    10.02,6,    15.30,6,     1.02,6,    2.687,2,    1.296,2,    0.219, 2,    3.999,2,   2148.5,2,   2284.9,2,   2.7717
  18HU19960512, AR07W,    44,  1, 158556,     38,2,19960524,0452, 59.9810, -48.9055,   15,   2319.2,   2.8480,  34.9006,2,  34.9002,2,    281.0,2,    287.3,2,    10.22,6,    15.31,6,     1.02,6,    2.547,2,    1.160,2,    0.000, 4,    3.750,2,   2153.0,2,   2303.6,2,   2.6683
  18HU19960512, AR07W,    44,  1, 158555,     37,2,19960524,0452, 59.9810, -48.9055,   15,   2477.5,   2.7551,  34.9082,2,  34.9070,2,    279.8,2,    283.7,2,    11.01,6,    15.04,6,     1.02,6,    2.179,2,    1.028,2,    0.142, 2,    3.409,2,   2152.0,2,   2298.9,2,   2.5619
  18HU19960512, AR07W,    44,  1, 158554,     57,2,19960524,0452, 59.9810, -48.9055,   15,   2618.6,   2.5814,  34.9058,2,  34.9053,2,    281.0,2,    285.6,2,    11.79,6,    15.88,6,     1.05,6,    2.225,2,    0.979,2,    0.182, 2,    3.502,2,   2150.4,2,   2288.9,2,   2.3778
  18HU19960512, AR07W,    44,  1, 158553,     35,2,19960524,0452, 59.9810, -48.9055,   15,   2739.9,   2.3675,  34.8995,2,  34.8988,2,    282.5,2,    287.7,0,    10.88,6,    14.51,6,     1.00,6,    2.306,2,    1.017,2,    0.180, 2,    3.645,2,   2151.6,2,   2287.1,2,   2.1564
  18HU19960512, AR07W,    44,  1, 158552,     34,2,19960524,0452, 59.9810, -48.9055,   15,   2838.8,   2.2651,  34.8976,2,  34.8973,0,    283.7,2,    287.8,2,    12.29,6,    15.22,6,     1.04,6,    2.129,2,    1.027,2,    0.000, 5,    3.417,2,   2152.3,2,   2287.9,2,   2.0464
  18HU19960512, AR07W,    44,  1, 158551,     32,2,19960524,0452, 59.9810, -48.9055,   15,   2917.4,   2.1265,  34.8908,2,  34.8901,2,    287.0,2,    292.6,2,    10.77,6,    15.14,6,     1.02,6,    2.745,2,    1.321,2,    0.227, 2,    4.105,2,   2149.4,2,   2291.4,3,   1.9030
  18HU19960512, AR07W,    44,  1, 158550,     31,2,19960524,0452, 59.9810, -48.9055,   15,   2991.4,   1.9143,  34.8861,2,  34.8864,2,    290.1,2,    296.6,2,    10.03,6,    14.84,6,     0.99,6,    3.015,2,    1.488,2,    0.241, 2,    4.526,2,   2151.5,2,   2295.9,2,   1.6882
  18HU19960512, AR07W,    44,  1, 158549,     33,2,19960524,0452, 59.9810, -48.9055,   15,   3042.5,   1.7900,  34.8838,2,  34.8839,2,    292.3,2,    298.4,2,     9.10,3,    13.89,3,     0.92,3,    3.074,2,    1.457,2,    0.212, 2,    4.437,2,   2151.7,2,   2269.8,4,   1.5616