BOTTLE,20150204PRINUNIVRMK
EXPOCODE,SECT_ID,STNNBR,CASTNO,SAMPNO,BTLNBR,BTLNBR_FLAG_W,DATE,TIME,LATITUDE,LONGITUDE,DEPTH,CTDPRS,CTDTMP,CTDSAL,CTDSAL_FLAG_W,SALNTY,SALNTY_FLAG_W,CTDOXY,CTDOXY_FLAG_W,OXYGEN,OXYGEN_FLAG_W,SILCAT,SILCAT_FLAG_W,NITRAT,NITRAT_FLAG_W,PHSPHT,PHSPHT_FLAG_W,CFC-11,CFC-11_FLAG_W,CFC-12,CFC-12_FLAG_W,CFC113,CFC113_FLAG_W,CCL4,CCL4_FLAG_W,TCARBN,TCARBN_FLAG_W,ALKALI,ALKALI_FLAG_W,THETA
,,,,,,,,,,,METERS,DBAR,ITS-90,PSS-78,,PSS-78,,UMOL/KG,,UMOL/KG,,UMOL/KG,,UMOL/KG,,UMOL/KG,,PMOL/KG,,PMOL/KG,,PMOL/KG,,PMOL/KG,,UMOL/KG,,UMOL/KG,,DEG C
  18HU19960512, AR07W,     5,  2, 158054,     38,2,19960513,1712, 43.4853, -62.4475,   96,      3.6,   5.9959,  31.8190,2,  31.8118,2,    307.9,2,    326.7,0,     0.65,6,     0.22,6,     0.13,6, -999.000,9, -999.000,9, -999.000, 9, -999.000,9,   -999.0,9,   -999.0,9,   5.9956
  18HU19960512, AR07W,     5,  2, 158053,     37,2,19960513,1712, 43.4853, -62.4475,   96,     10.7,   5.9887,  31.8194,2,  31.8102,2,    308.5,2,    325.4,0,     0.45,6,     0.16,2,     0.32,6, -999.000,9, -999.000,9, -999.000, 9, -999.000,9,   -999.0,9,   -999.0,9,   5.9879
  18HU19960512, AR07W,     5,  2, 158052,     36,2,19960513,1712, 43.4853, -62.4475,   96,     15.8,   5.9720,  31.8191,2,  31.8085,2,    309.4,2,    326.5,0,     0.83,6,     0.19,6,     0.40,6, -999.000,9, -999.000,9, -999.000, 9, -999.000,9,   -999.0,9,   -999.0,9,   5.9707
  18HU19960512, AR07W,     5,  2, 158051,     35,2,19960513,1712, 43.4853, -62.4475,   96,     26.4,   5.9079,  31.8305,2,  31.8259,2,    312.1,2,    326.8,0,     0.71,6,     0.35,6,     0.18,6, -999.000,9, -999.000,9, -999.000, 9, -999.000,9,   -999.0,9,   -999.0,9,   5.9058
  18HU19960512, AR07W,     5,  2, 158050,     34,2,19960513,1712, 43.4853, -62.4475,   96,     41.2,   4.4442,  32.6522,2,  32.6039,2,    321.6,2,    334.9,0,     0.93,6,     0.00,6,     0.38,6, -999.000,9, -999.000,9, -999.000, 9, -999.000,9,   -999.0,9,   -999.0,9,   4.4414
  18HU19960512, AR07W,     5,  2, 158049,     32,2,19960513,1712, 43.4853, -62.4475,   96,     49.8,   4.4355,  32.8268,2,  32.8275,2,    305.2,2,    314.0,0,     1.65,6,     1.65,6,     0.20,6, -999.000,9, -999.000,9, -999.000, 9, -999.000,9,   -999.0,9,   -999.0,9,   4.4321
  18HU19960512, AR07W,     5,  2, 158048,     31,2,19960513,1712, 43.4853, -62.4475,   96,     59.8,   6.5616,  33.5923,2,  33.5928,2,    271.0,2,    257.6,0,     4.70,6,     7.17,6,     0.22,6, -999.000,9, -999.000,9, -999.000, 9, -999.000,9,   -999.0,9,   -999.0,9,   6.5564
  18HU19960512, AR07W,     5,  2, 158047,     33,2,19960513,1712, 43.4853, -62.4475,   96,     70.2,   8.2780,  34.2129,2,  34.2104,2,    239.2,2,    210.5,0,    10.16,6,    12.50,6,     0.56,6, -999.000,9, -999.000,9, -999.000, 9, -999.000,9,   -999.0,9,   -999.0,9,   8.2709
  18HU19960512, AR07W,     6,  1, 158064,     40,2,19960513,2039, 43.1843, -62.0985,  115,      4.1,   6.3272,  32.2934,2,  32.2957,2,    297.4,2,    324.6,0,     0.63,6,     0.14,6,     0.38,6, -999.000,9, -999.000,9, -999.000, 9, -999.000,9,   -999.0,9,   -999.0,9,   6.3269
  18HU19960512, AR07W,     6,  1, 158063,     39,2,19960513,2039, 43.1843, -62.0985,  115,     10.7,   6.3311,  32.2919,2,  32.2928,2,    297.2,2,    325.0,0,     0.59,6,     0.13,2,     0.38,6, -999.000,9, -999.000,9, -999.000, 9, -999.000,9,   -999.0,9,   -999.0,9,   6.3302
  18HU19960512, AR07W,     6,  1, 158062,     38,2,19960513,2039, 43.1843, -62.0985,  115,     20.8,   6.0636,  32.4224,2,  32.4273,2,    298.2,2,    324.2,0,     0.57,6,     0.13,6,     0.32,6, -999.000,9, -999.000,9, -999.000, 9, -999.000,9,   -999.0,9,   -999.0,9,   6.0619
  18HU19960512, AR07W,     6,  1, 158061,     37,2,19960513,2039, 43.1843, -62.0985,  115,     30.5,   4.6665,  32.6000,2,  32.6060,2,    307.4,2,    338.9,0,     0.51,6,     0.18,6,     0.40,6, -999.000,9, -999.000,9, -999.000, 9, -999.000,9,   -999.0,9,   -999.0,9,   4.6644
  18HU19960512, AR07W,     6,  1, 158060,     36,2,19960513,2039, 43.1843, -62.0985,  115,     40.7,   4.0774,  32.8018,2,  32.7749,2,    307.4,2,    336.5,0,     0.67,6,     0.60,6,     0.51,6, -999.000,9, -999.000,9, -999.000, 9, -999.000,9,   -999.0,9,   -999.0,9,   4.0747
  18HU19960512, AR07W,     6,  1, 158059,     35,2,19960513,2039, 43.1843, -62.0985,  115,     50.3,   4.2800,  33.0308,2,  33.0334,2,    299.8,2,    316.3,0,     1.80,6,     2.10,6,     0.65,6, -999.000,9, -999.000,9, -999.000, 9, -999.000,9,   -999.0,9,   -999.0,9,   4.2766
  18HU19960512, AR07W,     6,  1, 158058,     34,2,19960513,2039, 43.1843, -62.0985,  115,     60.4,   4.7129,  33.2347,2,  33.2140,2,    294.9,2,    305.8,0,     2.49,6,     3.33,6,     0.68,6, -999.000,9, -999.000,9, -999.000, 9, -999.000,9,   -999.0,9,   -999.0,9,   4.7086
  18HU19960512, AR07W,     6,  1, 158057,     32,2,19960513,2039, 43.1843, -62.0985,  115,     70.8,   5.7400,  33.5568,2,  33.6599,2,    283.5,2,   -999.0,9,     3.84,6,     5.48,6,     0.22,6, -999.000,9, -999.000,9, -999.000, 9, -999.000,9,   -999.0,9,   -999.0,9,   5.7343
  18HU19960512, AR07W,     6,  1, 158056,     31,2,19960513,2039, 43.1843, -62.0985,  115,     84.0,   7.3504,  34.0827,2,  34.0700,2,    270.2,2,    261.9,0,     5.90,6,     8.00,6,     0.19,6, -999.000,9, -999.000,9, -999.000, 9, -999.000,9,   -999.0,9,   -999.0,9,   7.3425
  18HU19960512, AR07W,     6,  1, 158055,     33,2,19960513,2039, 43.1843, -62.0985,  115,     93.9,   7.3745,  34.0955,2,  34.0844,2,    273.8,2,   -999.0,9,     5.42,6,     7.24,6,     0.16,6, -999.000,9, -999.000,9, -999.000, 9, -999.000,9,   -999.0,9,   -999.0,9,   7.3656
  18HU19960512, AR07W,     7,  3, 158082,     48,2,19960514,0201, 42.8605, -61.7390,    9,      5.1,   6.0899,  32.5212,2,  32.5200,2,    299.0,2,    327.6,0,     0.15,6,     0.16,6,     0.38,6, -999.000,9, -999.000,9, -999.000, 9, -999.000,9,   -999.0,9,   -999.0,9,   6.0895
  18HU19960512, AR07W,     7,  3, 158081,     47,2,19960514,0201, 42.8605, -61.7390,    9,      9.6,   6.0838,  32.5257,2,  32.5292,2,    298.0,2,    327.6,0,     0.15,6,     0.20,6,     0.39,6, -999.000,9, -999.000,9, -999.000, 9, -999.000,9,   -999.0,9,   -999.0,9,   6.0830
  18HU19960512, AR07W,     7,  3, 158080,     46,2,19960514,0201, 42.8605, -61.7390,    9,     20.4,   5.4196,  32.7084,2,  32.7102,2,    300.4,2,    333.0,0,     0.44,6,     0.18,6,     0.40,6, -999.000,9, -999.000,9, -999.000, 9, -999.000,9,   -999.0,9,   -999.0,9,   5.4180
  18HU19960512, AR07W,     7,  3, 158079,     45,2,19960514,0201, 42.8605, -61.7390,    9,     30.0,   4.6146,  32.7445,2,  32.7622,2,    300.5,2,    335.8,0,     0.56,6,     0.52,6,     0.44,6, -999.000,9, -999.000,9, -999.000, 9, -999.000,9,   -999.0,9,   -999.0,9,   4.6125
  18HU19960512, AR07W,     7,  3, 158078,     44,2,19960514,0201, 42.8605, -61.7390,    9,     39.7,   3.0915,  32.8846,2,  32.8945,2,    298.3,2,    322.8,0,     1.38,6,     1.53,6,     0.50,6, -999.000,9, -999.000,9, -999.000, 9, -999.000,9,   -999.0,9,   -999.0,9,   3.0892
  18HU19960512, AR07W,     7,  3, 158077,     43,2,19960514,0201, 42.8605, -61.7390,    9,     50.5,   2.7777,  33.0337,2,  33.1258,2,    292.9,2,    301.7,0,     4.32,6,     5.23,6,     0.80,6, -999.000,9, -999.000,9, -999.000, 9, -999.000,9,   -999.0,9,   -999.0,9,   2.7749
  18HU19960512, AR07W,     7,  3, 158076,     42,2,19960514,0201, 42.8605, -61.7390,    9,     60.7,   4.4249,  33.4097,2,  33.3390,2,    282.9,2,    293.7,0,     4.58,6,     5.68,6,     0.74,6, -999.000,9, -999.000,9, -999.000, 9, -999.000,9,   -999.0,9,   -999.0,9,   4.4207
  18HU19960512, AR07W,     7,  3, 158075,     41,2,19960514,0201, 42.8605, -61.7390,    9,     68.7,   6.6273,  33.9301,2,  33.9253,2,    266.7,2,   -999.0,9,     4.23,6,     6.66,6,     0.71,6, -999.000,9, -999.000,9, -999.000, 9, -999.000,9,   -999.0,9,   -999.0,9,   6.6212
  18HU19960512, AR07W,     7,  3, 158074,     40,2,19960514,0201, 42.8605, -61.7390,    9,     80.5,   7.2880,  34.1570,2,  34.1401,2,    259.3,2,    259.3,0,     5.76,6,     9.21,6,     0.81,6, -999.000,9, -999.000,9, -999.000, 9, -999.000,9,   -999.0,9,   -999.0,9,   7.2805
  18HU19960512, AR07W,     7,  3, 158073,     39,2,19960514,0201, 42.8605, -61.7390,    9,     89.9,   8.0139,  34.3748,2,  34.3688,2,    252.6,2,   -999.0,9,     5.80,6,     9.12,6,     0.76,6, -999.000,9, -999.000,9, -999.000, 9, -999.000,9,   -999.0,9,   -999.0,9,   8.0049
  18HU19960512, AR07W,     7,  3, 158072,     38,2,19960514,0201, 42.8605, -61.7390,    9,     99.0,   7.9722,  34.4331,2,  34.4277,2,    249.5,2,    245.5,0,     6.51,6,    10.59,6,     0.82,6, -999.000,9, -999.000,9, -999.000, 9, -999.000,9,   -999.0,9,   -999.0,9,   7.9623
  18HU19960512, AR07W,     7,  3, 158071,     37,2,19960514,0201, 42.8605, -61.7390,    9,    110.3,   8.5071,  34.5718,2,  34.5706,2,    243.3,2,   -999.0,9,     7.26,6,    11.63,6,     0.84,6, -999.000,9, -999.000,9, -999.000, 9, -999.000,9,   -999.0,9,   -999.0,9,   8.4956
  18HU19960512, AR07W,     7,  3, 158070,     36,2,19960514,0201, 42.8605, -61.7390,    9,    120.6,   7.9801,  34.5204,2,  34.5210,2,    244.5,2,    239.6,0,     6.95,6,    11.09,6,     0.86,6, -999.000,9, -999.000,9, -999.000, 9, -999.000,9,   -999.0,9,   -999.0,9,   7.9681
  18HU19960512, AR07W,     7,  3, 158069,     35,2,19960514,0201, 42.8605, -61.7390,    9,    129.6,   7.7582,  34.4787,2,  34.4815,2,    244.5,2,   -999.0,9,     7.49,6,    11.79,6,     0.89,6, -999.000,9, -999.000,9, -999.000, 9, -999.000,9,   -999.0,9,   -999.0,9,   7.7455
  18HU19960512, AR07W,     7,  3, 158068,     34,2,19960514,0201, 42.8605, -61.7390,    9,    140.5,   7.5611,  34.4729,2,  34.4700,2,    240.9,2,   -999.0,9,     8.04,6,    12.44,6,     0.91,6, -999.000,9, -999.000,9, -999.000, 9, -999.000,9,   -999.0,9,   -999.0,9,   7.5475
  18HU19960512, AR07W,     7,  3, 158067,     32,2,19960514,0201, 42.8605, -61.7390,    9,    151.0,   7.8882,  34.5681,2,  34.5784,2,    231.3,2,    226.7,0,     7.80,6,    13.27,6,     1.00,6, -999.000,9, -999.000,9, -999.000, 9, -999.000,9,   -999.0,9,   -999.0,9,   7.8732
  18HU19960512, AR07W,     7,  3, 158066,     31,2,19960514,0201, 42.8605, -61.7390,    9,    176.9,   7.6695,  34.6437,2,  34.6391,2,    224.5,2,    213.7,0,     9.53,6,    15.39,6,     1.08,6, -999.000,9, -999.000,9, -999.000, 9, -999.000,9,   -999.0,9,   -999.0,9,   7.6522
  18HU19960512, AR07W,     7,  3, 158065,     33,2,19960514,0201, 42.8605, -61.7390,    9,    202.0,   9.2245,  35.0549,2,  35.0513,2,    200.1,2,    173.9,0,    10.31,6,    17.96,6,     1.23,6, -999.000,9, -999.000,9, -999.000, 9, -999.000,9,   -999.0,9,   -999.0,9,   9.2022
  18HU19960512, AR07W,     8,  1, 158100,     48,2,19960514,0622, 42.5440, -61.3973, 2784,      6.2,   7.8342,  33.0887,2,  33.0897,2,    303.7,2,    312.6,0,     0.65,6,     0.18,6,     0.33,6, -999.000,9, -999.000,9, -999.000, 9, -999.000,9,   -999.0,9,   -999.0,9,   7.8336
  18HU19960512, AR07W,     8,  1, 158099,     47,2,19960514,0622, 42.5440, -61.3973, 2784,     10.0,   7.8340,  33.0899,2,  33.0892,2,    303.5,2,    312.0,0,     0.69,6,     0.18,6,     0.34,6, -999.000,9, -999.000,9, -999.000, 9, -999.000,9,   -999.0,9,   -999.0,9,   7.8330
  18HU19960512, AR07W,     8,  1, 158098,     46,2,19960514,0622, 42.5440, -61.3973, 2784,     21.9,   7.7920,  33.2007,2,  33.1878,2,    303.7,2,    313.9,0,     0.76,6,     0.23,6,     0.30,6, -999.000,9, -999.000,9, -999.000, 9, -999.000,9,   -999.0,9,   -999.0,9,   7.7899
  18HU19960512, AR07W,     8,  1, 158097,     45,2,19960514,0622, 42.5440, -61.3973, 2784,     29.0,   7.7893,  33.2762,2,  33.2833,2,    302.4,2,    314.7,0,     0.85,6,     0.19,6,     0.30,6, -999.000,9, -999.000,9, -999.000, 9, -999.000,9,   -999.0,9,   -999.0,9,   7.7865
  18HU19960512, AR07W,     8,  1, 158096,     44,2,19960514,0622, 42.5440, -61.3973, 2784,     39.3,   6.8233,  33.2767,2,  33.2745,2,    301.7,2,    315.8,0,     1.12,6,     0.99,6,     0.46,6, -999.000,9, -999.000,9, -999.000, 9, -999.000,9,   -999.0,9,   -999.0,9,   6.8198
  18HU19960512, AR07W,     8,  1, 158095,     43,2,19960514,0622, 42.5440, -61.3973, 2784,     49.6,   6.2760,  33.5360,2,  33.5786,2,    291.2,2,    293.7,0,     1.98,6,     3.45,6,     0.62,6, -999.000,9, -999.000,9, -999.000, 9, -999.000,9,   -999.0,9,   -999.0,9,   6.2718
  18HU19960512, AR07W,     8,  1, 158094,     42,2,19960514,0622, 42.5440, -61.3973, 2784,     60.0,   7.2678,  33.9489,2,  34.0008,2,    272.2,2,    266.4,0,     3.98,6,     7.38,6,     0.76,6, -999.000,9, -999.000,9, -999.000, 9, -999.000,9,   -999.0,9,   -999.0,9,   7.2622
  18HU19960512, AR07W,     8,  1, 158093,     41,2,19960514,0622, 42.5440, -61.3973, 2784,     69.3,   8.6569,  34.4633,2,  34.4546,2,    257.3,2,   -999.0,9,     5.57,6,     9.64,6,     0.78,6, -999.000,9, -999.000,9, -999.000, 9, -999.000,9,   -999.0,9,   -999.0,9,   8.6497
  18HU19960512, AR07W,     8,  1, 158092,     40,2,19960514,0622, 42.5440, -61.3973, 2784,     81.2,   9.3425,  34.6955,2,  34.7755,2,    248.5,2,    234.2,0,     5.60,6,     9.70,6,     1.25,6, -999.000,9, -999.000,9, -999.000, 9, -999.000,9,   -999.0,9,   -999.0,9,   9.3336
  18HU19960512, AR07W,     8,  1, 158091,     39,2,19960514,0622, 42.5440, -61.3973, 2784,     89.7,  10.0784,  34.8954,2,  34.8910,2,    241.1,2,   -999.0,9,     6.24,6,    11.58,6,     0.81,6, -999.000,9, -999.000,9, -999.000, 9, -999.000,9,   -999.0,9,   -999.0,9,  10.0680
  18HU19960512, AR07W,     8,  1, 158090,     38,2,19960514,0622, 42.5440, -61.3973, 2784,    100.1,   9.7309,  34.8422,2,  34.8291,2,    241.5,2,    230.9,0,     6.32,6,    11.71,6,     0.82,6, -999.000,9, -999.000,9, -999.000, 9, -999.000,9,   -999.0,9,   -999.0,9,   9.7196
  18HU19960512, AR07W,     8,  1, 158089,     37,2,19960514,0622, 42.5440, -61.3973, 2784,    109.8,   8.9804,  34.7529,2,  34.7567,2,    244.8,2,   -999.0,9,     4.94,6,     8.52,6,     0.69,6, -999.000,9, -999.000,9, -999.000, 9, -999.000,9,   -999.0,9,   -999.0,9,   8.9686
  18HU19960512, AR07W,     8,  1, 158088,     36,2,19960514,0622, 42.5440, -61.3973, 2784,    120.7,   8.1781,  34.6481,2,  34.6288,2,    245.1,2,    243.5,0,     6.98,6,    12.53,6,     0.89,6, -999.000,9, -999.000,9, -999.000, 9, -999.000,9,   -999.0,9,   -999.0,9,   8.1658
  18HU19960512, AR07W,     8,  1, 158087,     35,2,19960514,0622, 42.5440, -61.3973, 2784,    130.1,   8.1576,  34.6895,2,  34.6796,2,    240.2,2,   -999.0,9,     7.63,6,    13.64,6,     0.93,6, -999.000,9, -999.000,9, -999.000, 9, -999.000,9,   -999.0,9,   -999.0,9,   8.1444
  18HU19960512, AR07W,     8,  1, 158086,     34,2,19960514,0622, 42.5440, -61.3973, 2784,    141.2,   7.8464,  34.6942,2,  34.6725,2,    237.1,2,   -999.0,9,     7.57,6,    13.74,6,     0.95,6, -999.000,9, -999.000,9, -999.000, 9, -999.000,9,   -999.0,9,   -999.0,9,   7.8324
  18HU19960512, AR07W,     8,  1, 158085,     32,2,19960514,0622, 42.5440, -61.3973, 2784,    150.4,   7.3147,  34.6376,2,  34.6522,2,    236.9,2,    224.6,0,     8.72,6,    14.98,6,     1.03,6, -999.000,9, -999.000,9, -999.000, 9, -999.000,9,   -999.0,9,   -999.0,9,   7.3004
  18HU19960512, AR07W,     8,  1, 158084,     31,2,19960514,0622, 42.5440, -61.3973, 2784,    177.0,   8.1251,  34.9018,2,  34.9169,2,    213.0,2,    184.5,0,    10.62,6,    19.64,6,     1.29,6, -999.000,9, -999.000,9, -999.000, 9, -999.000,9,   -999.0,9,   -999.0,9,   8.1071
  18HU19960512, AR07W,     8,  1, 158083,     33,2,19960514,0622, 42.5440, -61.3973, 2784,    203.0,   7.8209,  34.9229,2,  34.9130,2,    210.3,2,    182.4,0,    11.36,6,    19.36,6,     1.29,6, -999.000,9, -999.000,9, -999.000, 9, -999.000,9,   -999.0,9,   -999.0,9,   7.8006
  18HU19960512, AR07W,     9,  4, 158111,     41,2,19960514,1617, 43.4658, -59.9090,  906,      3.9,   5.2394,  32.1746,2,-999.0000,9,    315.0,2,   -999.0,9,     0.49,6,     0.00,6,     0.39,6, -999.000,9, -999.000,9, -999.000, 9, -999.000,9,   -999.0,9,   -999.0,9,   5.2391
  18HU19960512, AR07W,     9,  4, 158110,     40,2,19960514,1617, 43.4658, -59.9090,  906,     11.6,   5.0137,  32.1780,2,-999.0000,9,    313.9,2,   -999.0,9,     0.53,6,     0.00,6,     0.40,6, -999.000,9, -999.000,9, -999.000, 9, -999.000,9,   -999.0,9,   -999.0,9,   5.0129
  18HU19960512, AR07W,     9,  4, 158109,     39,2,19960514,1617, 43.4658, -59.9090,  906,     19.9,   4.7616,  32.2123,2,-999.0000,9,    314.5,2,   -999.0,9,     0.46,6,     0.00,6,     0.38,6, -999.000,9, -999.000,9, -999.000, 9, -999.000,9,   -999.0,9,   -999.0,9,   4.7602
  18HU19960512, AR07W,     9,  4, 158108,     38,2,19960514,1617, 43.4658, -59.9090,  906,     31.1,   3.1335,  32.4675,2,-999.0000,9,    321.5,2,   -999.0,9,     0.59,6,     0.17,6,     0.45,6, -999.000,9, -999.000,9, -999.000, 9, -999.000,9,   -999.0,9,   -999.0,9,   3.1317
  18HU19960512, AR07W,     9,  4, 158107,     37,2,19960514,1617, 43.4658, -59.9090,  906,     40.0,   2.6566,  32.6499,2,-999.0000,9,    316.0,2,   -999.0,9,     0.86,6,     0.71,6,     0.61,6, -999.000,9, -999.000,9, -999.000, 9, -999.000,9,   -999.0,9,   -999.0,9,   2.6544
  18HU19960512, AR07W,     9,  4, 158106,     36,2,19960514,1617, 43.4658, -59.9090,  906,     49.8,   2.4350,  32.7307,2,-999.0000,9,    311.7,2,   -999.0,9,     1.13,6,     1.60,6,     0.74,6, -999.000,9, -999.000,9, -999.000, 9, -999.000,9,   -999.0,9,   -999.0,9,   2.4324
  18HU19960512, AR07W,     9,  4, 158105,     35,2,19960514,1617, 43.4658, -59.9090,  906,     60.0,   2.4655,  32.7744,2,-999.0000,9,    309.9,2,   -999.0,9,     3.17,6,     4.01,6,     0.96,6, -999.000,9, -999.000,9, -999.000, 9, -999.000,9,   -999.0,9,   -999.0,9,   2.4623
  18HU19960512, AR07W,     9,  4, 158104,     34,2,19960514,1617, 43.4658, -59.9090,  906,     71.9,   1.2452,  32.7552,2,-999.0000,9,    319.4,2,   -999.0,9,     4.12,6,     4.67,6,     0.84,6, -999.000,9, -999.000,9, -999.000, 9, -999.000,9,   -999.0,9,   -999.0,9,   1.2421
  18HU19960512, AR07W,     9,  4, 158103,     32,2,19960514,1617, 43.4658, -59.9090,  906,     81.6,   1.6128,  32.8508,2,-999.0000,9,    318.6,2,   -999.0,9,     5.26,6,     5.67,6,     0.87,6, -999.000,9, -999.000,9, -999.000, 9, -999.000,9,   -999.0,9,   -999.0,9,   1.6090
  18HU19960512, AR07W,     9,  4, 158102,     31,2,19960514,1617, 43.4658, -59.9090,  906,     92.5,   2.0846,  32.9652,2,-999.0000,9,    316.8,2,   -999.0,9,     5.67,6,     5.96,6,     0.86,6, -999.000,9, -999.000,9, -999.000, 9, -999.000,9,   -999.0,9,   -999.0,9,   2.0799
  18HU19960512, AR07W,     9,  4, 158101,     33,2,19960514,1617, 43.4658, -59.9090,  906,    101.7,   2.3136,  33.0211,2,-999.0000,9,    314.7,2,   -999.0,9,     5.67,6,     5.97,6,     0.86,6, -999.000,9, -999.000,9, -999.000, 9, -999.000,9,   -999.0,9,   -999.0,9,   2.3083