BOTTLE,20150204PRINUNIVRMK
EXPOCODE,SECT_ID,STNNBR,CASTNO,SAMPNO,BTLNBR,BTLNBR_FLAG_W,DATE,TIME,LATITUDE,LONGITUDE,DEPTH,CTDPRS,CTDTMP,CTDSAL,CTDSAL_FLAG_W,SALNTY,SALNTY_FLAG_W,CTDOXY,CTDOXY_FLAG_W,OXYGEN,OXYGEN_FLAG_W,SILCAT,SILCAT_FLAG_W,NITRAT,NITRAT_FLAG_W,PHSPHT,PHSPHT_FLAG_W,CFC-11,CFC-11_FLAG_W,CFC-12,CFC-12_FLAG_W,CFC113,CFC113_FLAG_W,CCL4,CCL4_FLAG_W,TCARBN,TCARBN_FLAG_W,ALKALI,ALKALI_FLAG_W,THETA
,,,,,,,,,,,METERS,DBAR,ITS-90,PSS-78,,PSS-78,,UMOL/KG,,UMOL/KG,,UMOL/KG,,UMOL/KG,,UMOL/KG,,PMOL/KG,,PMOL/KG,,PMOL/KG,,PMOL/KG,,UMOL/KG,,UMOL/KG,,DEG C
  18HU19960512, AR07W,    45,  1, 158592,     51,2,19960524,0844, 60.1767, -48.7320,   10,     10.1,   2.7763,  34.2497,2,  34.2497,2,    317.7,2,    414.1,2,     6.44,6,     9.19,6,     0.70,6, -999.000,9, -999.000,9, -999.000, 9, -999.000,9,   -999.0,9,   -999.0,9,   2.7757
  18HU19960512, AR07W,    45,  1, 158591,     50,2,19960524,0844, 60.1767, -48.7320,   10,     72.6,   4.7685,  34.7645,2,  34.7656,2,    303.6,2,    316.9,2,     7.08,6,    10.62,6,     0.75,6, -999.000,9, -999.000,9, -999.000, 9, -999.000,9,   -999.0,9,   -999.0,9,   4.7630
  18HU19960512, AR07W,    45,  1, 158590,     68,2,19960524,0844, 60.1767, -48.7320,   10,    152.4,   4.9918,  34.8437,2,  34.8460,2,    297.2,2,    313.1,2,     7.41,6,    11.92,6,     0.81,6, -999.000,9, -999.000,9, -999.000, 9, -999.000,9,   -999.0,9,   -999.0,9,   4.9800
  18HU19960512, AR07W,    45,  1, 158589,     48,2,19960524,0844, 60.1767, -48.7320,   10,    253.5,   4.6582,  34.8825,2,  34.8690,2,    289.2,2,    302.5,2,     7.32,6,    12.99,6,     0.86,6, -999.000,9, -999.000,9, -999.000, 9, -999.000,9,   -999.0,9,   -999.0,9,   4.6390
  18HU19960512, AR07W,    45,  1, 158588,     47,2,19960524,0844, 60.1767, -48.7320,   10,    373.5,   4.3830,  34.8872,2,  34.8868,2,    285.5,2,    305.5,2,     6.59,3,    12.45,3,     0.78,3, -999.000,9, -999.000,9, -999.000, 9, -999.000,9,   -999.0,9,   -999.0,9,   4.3551
  18HU19960512, AR07W,    45,  1, 158587,     46,2,19960524,0844, 60.1767, -48.7320,   10,    515.3,   4.0172,  34.8796,2,  34.8798,2,    283.5,2,    292.4,2,     7.79,6,    13.87,6,     0.90,6, -999.000,9, -999.000,9, -999.000, 9, -999.000,9,   -999.0,9,   -999.0,9,   3.9797
  18HU19960512, AR07W,    45,  1, 158586,     45,2,19960524,0844, 60.1767, -48.7320,   10,    680.1,   3.4294,  34.8395,2,  34.8393,2,    286.6,2,    297.7,2,     8.64,6,    15.38,6,     1.01,6, -999.000,9, -999.000,9, -999.000, 9, -999.000,9,   -999.0,9,   -999.0,9,   3.3822
  18HU19960512, AR07W,    45,  1, 158585,     44,2,19960524,0844, 60.1767, -48.7320,   10,    845.9,   3.3785,  34.8598,2,  34.8583,2,    282.1,2,    292.2,2,     6.73,3,    11.70,3,     0.81,3, -999.000,9, -999.000,9, -999.000, 9, -999.000,9,   -999.0,9,   -999.0,9,   3.3191
  18HU19960512, AR07W,    45,  1, 158584,     43,2,19960524,0844, 60.1767, -48.7320,   10,   1049.5,   3.3219,  34.8741,2,  34.8735,2,    281.0,2,    289.4,2,     9.06,6,    15.43,6,     0.95,6, -999.000,9, -999.000,9, -999.000, 9, -999.000,9,   -999.0,9,   -999.0,9,   3.2469
  18HU19960512, AR07W,    45,  1, 158583,     42,2,19960524,0844, 60.1767, -48.7320,   10,   1250.9,   3.1865,  34.8739,2,  34.8733,2,    282.4,2,    277.5,0,     7.39,6,    12.28,6,     0.92,6, -999.000,9, -999.000,9, -999.000, 9, -999.000,9,   -999.0,9,   -999.0,9,   3.0965
  18HU19960512, AR07W,    45,  1, 158582,     41,2,19960524,0844, 60.1767, -48.7320,   10,   1447.4,   3.0486,  34.8622,2,  34.8619,2,    284.8,2,    297.7,2,     7.43,6,    12.56,6,     0.85,6, -999.000,9, -999.000,9, -999.000, 9, -999.000,9,   -999.0,9,   -999.0,9,   2.9439
  18HU19960512, AR07W,    45,  1, 158581,     40,2,19960524,0844, 60.1767, -48.7320,   10,   1665.2,   2.9123,  34.8491,2,  34.8490,2,    285.8,2,    298.6,2,     8.08,6,    13.66,6,     0.91,6, -999.000,9, -999.000,9, -999.000, 9, -999.000,9,   -999.0,9,   -999.0,9,   2.7908
  18HU19960512, AR07W,    45,  1, 158580,     39,2,19960524,0844, 60.1767, -48.7320,   10,   1869.2,   3.0121,  34.8844,2,  34.8840,2,    280.3,2,    290.5,2,     9.42,3,    14.79,3,     0.94,3, -999.000,9, -999.000,9, -999.000, 9, -999.000,9,   -999.0,9,   -999.0,9,   2.8713
  18HU19960512, AR07W,    45,  1, 158579,     38,2,19960524,0844, 60.1767, -48.7320,   10,   2063.6,   2.9358,  34.9040,2,  34.9043,2,    278.4,2,    284.7,2,     6.95,3,    10.30,3,     0.78,3, -999.000,9, -999.000,9, -999.000, 9, -999.000,9,   -999.0,9,   -999.0,9,   2.7785
  18HU19960512, AR07W,    45,  1, 158578,     37,2,19960524,0844, 60.1767, -48.7320,   10,   2238.5,   2.7459,  34.9067,2,  34.9065,2,    277.4,2,    284.9,2,     8.13,3,    11.44,3,     0.85,3, -999.000,9, -999.000,9, -999.000, 9, -999.000,9,   -999.0,9,   -999.0,9,   2.5755
  18HU19960512, AR07W,    45,  1, 158577,     57,2,19960524,0844, 60.1767, -48.7320,   10,   2395.2,   2.5232,  34.9024,2,  34.9008,0,    279.4,2,    286.8,2,     8.63,3,    12.05,3,     0.89,3, -999.000,9, -999.000,9, -999.000, 9, -999.000,9,   -999.0,9,   -999.0,9,   2.3420
  18HU19960512, AR07W,    45,  1, 158576,     35,2,19960524,0844, 60.1767, -48.7320,   10,   2531.0,   2.3350,  34.8970,2,  34.8973,2,    281.3,2,    289.1,2,     8.80,3,    12.35,3,     0.90,3, -999.000,9, -999.000,9, -999.000, 9, -999.000,9,   -999.0,9,   -999.0,9,   2.1445
  18HU19960512, AR07W,    45,  1, 158575,     34,2,19960524,0844, 60.1767, -48.7320,   10,   2649.5,   2.2045,  34.8933,2,  34.8919,0,    282.7,2,    292.5,2,     9.94,3,    14.09,3,     0.99,3, -999.000,9, -999.000,9, -999.000, 9, -999.000,9,   -999.0,9,   -999.0,9,   2.0053
  18HU19960512, AR07W,    45,  1, 158574,     32,2,19960524,0844, 60.1767, -48.7320,   10,   2763.5,   2.0313,  34.8890,2,  34.8874,0,    284.7,2,    293.8,2,     9.99,3,    14.10,3,     0.98,3, -999.000,9, -999.000,9, -999.000, 9, -999.000,9,   -999.0,9,   -999.0,9,   1.8247
  18HU19960512, AR07W,    45,  1, 158573,     31,2,19960524,0844, 60.1767, -48.7320,   10,   2849.6,   2.0237,  34.8884,2,  34.8878,2,    285.7,2,    294.4,2,     7.68,3,    11.06,3,     0.85,3, -999.000,9, -999.000,9, -999.000, 9, -999.000,9,   -999.0,9,   -999.0,9,   1.8090
  18HU19960512, AR07W,    45,  1, 158572,     33,2,19960524,0844, 60.1767, -48.7320,   10,   2925.1,   2.0148,  34.8879,2,  34.8870,2,    286.7,2,    294.3,0,     9.70,3,    14.13,3,     0.95,3, -999.000,9, -999.000,9, -999.000, 9, -999.000,9,   -999.0,9,   -999.0,9,   1.7930
  18HU19960512, AR07W,    46,  3, 158612,     50,2,19960524,1536, 60.2900, -48.5925,  164,     10.5,   1.6904,  33.9445,2,  33.9442,2,    326.3,2,    343.5,2,     4.82,3,     6.35,3,     0.52,3,    4.974,2,    2.132,2,    0.398, 2,    7.410,2,   2091.6,2,   2248.2,2,   1.6899
  18HU19960512, AR07W,    46,  3, 158611,     68,2,19960524,1536, 60.2900, -48.5925,  164,     57.7,   4.8598,  34.7658,2,  34.7681,2,    306.4,2,    321.4,2,     7.30,6,    10.11,6,     0.71,6,    4.232,2,    1.866,2,    0.000, 4,    6.688,2,   2107.8,2,   2298.0,2,   4.8554
  18HU19960512, AR07W,    46,  3, 158610,     48,2,19960524,1536, 60.2900, -48.5925,  164,    122.6,   5.0554,  34.8742,2,  34.8814,2,    296.2,2,    341.0,2,     7.67,6,    12.83,6,     0.82,6,    3.919,2,    1.759,2,    0.318, 2,    5.892,2,   2134.6,2,   2293.0,2,   5.0458
  18HU19960512, AR07W,    46,  3, 158609,     47,2,19960524,1536, 60.2900, -48.5925,  164,    217.5,   5.0035,  34.9206,2,  34.9161,2,    288.3,2,    294.1,2,     7.82,6,    14.63,6,     0.89,6,    3.697,2,    1.641,2,    0.266, 2,    5.307,2,   2140.0,2,   2298.3,2,   4.9865
  18HU19960512, AR07W,    46,  3, 158608,     46,2,19960524,1536, 60.2900, -48.5925,  164,    347.9,   4.7905,  34.9078,2,  34.9084,2,    286.0,2,    290.6,2,     6.70,6,    12.62,6,     0.80,6,    3.739,2,    1.584,2,    0.000, 4,    5.309,2,   2142.1,2,   2289.3,2,   4.7635
  18HU19960512, AR07W,    46,  3, 158607,     45,3,19960524,1536, 60.2900, -48.5925,  164,    476.3,   4.6188,  34.8984,2,  34.9006,2,    284.7,2,    291.0,2,     7.14,6,    13.16,6,     0.82,6,    3.581,2,    1.725,2,    0.265, 2,    5.051,2,   2141.3,2,   2291.5,2,   4.5820
  18HU19960512, AR07W,    46,  3, 158606,     44,2,19960524,1536, 60.2900, -48.5925,  164,    644.0,   4.4246,  34.9014,2,  34.8980,2,    281.7,2,    289.4,2,     6.88,6,    11.83,6,     0.76,6,    3.410,2,    1.624,2,    0.254, 2,    4.953,2,   2143.5,2,   2290.7,2,   4.3750
  18HU19960512, AR07W,    46,  3, 158605,     43,2,19960524,1536, 60.2900, -48.5925,  164,    819.7,   4.1489,  34.9005,2,  34.9015,2,    280.3,2,    285.8,2,     7.64,6,    13.50,6,     0.81,6,    3.368,2,    1.683,2,    0.000, 4,    4.856,2,   2146.7,2,   2292.3,2,   4.0865
  18HU19960512, AR07W,    46,  3, 158604,     42,2,19960524,1536, 60.2900, -48.5925,  164,   1000.1,   3.7436,  34.9015,2,  34.9010,2,    278.3,2,    284.0,2,     7.58,6,    13.05,6,     0.77,6,    3.017,2,    1.247,2,    0.158, 2,    4.355,2,   2152.3,2,   2295.2,2,   3.6692
  18HU19960512, AR07W,    46,  3, 158603,     41,2,19960524,1536, 60.2900, -48.5925,  164,   1199.4,   3.3370,  34.8859,2,  34.8851,2,    280.7,2,    289.3,2,     9.95,6,    16.48,6,     0.98,6,    2.977,2,    1.221,2,    0.207, 2,    4.649,2,   2152.9,2,   2293.0,2,   3.2498
  18HU19960512, AR07W,    46,  3, 158602,     40,2,19960524,1536, 60.2900, -48.5925,  164,   1399.2,   3.2175,  34.8827,2,  34.8819,2,    281.1,2,    289.9,2,     8.82,3,    14.16,3,     0.89,3,    2.992,2,    1.236,2,    0.174, 2,    4.543,2,   -999.0,5,   2289.5,2,   3.1149
  18HU19960512, AR07W,    46,  3, 158601,     39,2,19960524,1536, 60.2900, -48.5925,  164,   1599.7,   3.1401,  34.8802,2,  34.8821,0,    280.9,2,    291.1,2,     9.78,6,    16.11,6,     0.95,6,    3.100,6,    1.492,6,    0.176, 6,    4.682,6,   2151.8,2,   2297.7,2,   3.0213
  18HU19960512, AR07W,    46,  3, 158600,     38,2,19960524,1536, 60.2900, -48.5925,  164,   1800.3,   3.0528,  34.8814,2,  34.8808,2,    280.7,2,    291.0,2,     8.98,3,    14.48,3,     0.89,3,    2.896,2,    1.270,2,    0.196, 2,    4.461,2,   2150.0,2,   2298.1,2,   2.9176
  18HU19960512, AR07W,    46,  3, 158599,     37,2,19960524,1536, 60.2900, -48.5925,  164,   1978.3,   2.9922,  34.8894,2,  34.8896,2,    279.9,2,    288.8,2,     8.97,3,    13.74,3,     0.90,3,    2.614,2,    1.046,2,    0.175, 2,    4.346,2,   2153.2,2,   2295.4,2,   2.8419
  18HU19960512, AR07W,    46,  3, 158598,     57,2,19960524,1536, 60.2900, -48.5925,  164,   2139.7,   2.9710,  34.8942,2,  34.8934,2,    279.3,2,   -999.0,9,     8.31,3,    12.79,3,     0.81,3,    2.448,2,    1.317,2,    0.146, 2,    3.896,2,   2153.4,2,   2300.6,2,   2.8062
  18HU19960512, AR07W,    46,  3, 158597,     35,2,19960524,1536, 60.2900, -48.5925,  164,   2279.6,   2.8327,  34.9006,2,  34.9009,2,    279.3,2,    287.1,2,    10.10,3,    14.76,3,     0.91,3,    2.367,2,    1.047,2,    0.000, 5,    3.683,2,   2152.2,2,   2299.6,2,   2.6570
  18HU19960512, AR07W,    46,  3, 158596,     34,2,19960524,1536, 60.2900, -48.5925,  164,   2390.5,   2.7677,  34.9019,2,  34.9040,2,    279.7,2,    286.8,0,     8.56,3,    12.61,3,     0.78,3,    2.295,2,    1.186,2,    0.155, 2,    3.794,2,   2153.4,2,   2292.9,2,   2.5826
  18HU19960512, AR07W,    46,  3, 158595,     32,2,19960524,1536, 60.2900, -48.5925,  164,   2487.9,   2.7309,  34.9030,2,  34.9035,0,    280.2,2,    286.3,2,    10.69,6,    15.27,6,     0.95,6,    2.266,2,    1.194,2,    0.198, 2,    4.491,3,   2151.3,2,   2313.8,3,   2.5372
  18HU19960512, AR07W,    46,  3, 158594,     31,2,19960524,1536, 60.2900, -48.5925,  164,   2571.3,   2.5674,  34.9053,2,  34.9058,2,    281.3,2,    285.7,2,    11.16,6,    15.06,6,     0.95,6,    2.069,2,    0.944,2,    0.000, 5,    3.636,2,   2153.9,6,   2291.7,2,   2.3687
  18HU19960512, AR07W,    46,  3, 158593,     33,2,19960524,1536, 60.2900, -48.5925,  164,   2623.1,   2.3521,  34.8994,2,  34.9011,2,    284.0,2,    289.0,2,    11.06,6,    15.30,6,     0.94,6,    2.267,2,    1.237,2,    0.150, 2,    3.812,2,   2152.7,2,   2312.0,3,   2.1526
  18HU19960512, AR07W,    47,  4, 158624,     42,2,19960524,2029, 60.3638, -48.5698,    1,     10.5,   0.0706,  33.3884,2,  33.3936,2,    333.7,2,    377.3,2,     4.91,6,     4.02,6,     0.44,6,    5.666,2,    2.962,2,    0.428, 2,    8.153,2,   2093.8,2,   2198.5,2,   0.0702
  18HU19960512, AR07W,    47,  4, 158623,     41,2,19960524,2029, 60.3638, -48.5698,    1,     50.2,   0.6544,  33.7073,2,  33.7081,2,    324.5,2,    343.1,2,     5.55,6,     7.35,6,     0.60,6,    5.339,2,    2.622,2,    0.387, 2,    7.591,2,   2092.1,2,   2388.1,4,   0.6524
  18HU19960512, AR07W,    47,  4, 158622,     40,2,19960524,2029, 60.3638, -48.5698,    1,    112.6,   2.5219,  34.2451,2,  34.2491,2,    312.8,2,    325.9,2,     6.45,6,     9.48,6,     0.68,6,    4.773,2,    2.322,2,    0.335, 2,    6.762,2,   2109.1,2,   -999.0,5,   2.5155
  18HU19960512, AR07W,    47,  4, 158621,     39,2,19960524,2029, 60.3638, -48.5698,    1,    188.4,   4.3470,  34.6752,2,  34.6804,2,    302.9,2,    316.2,2,     6.18,6,     9.37,6,     0.65,6,    4.398,2,    2.346,2,    0.300, 2,    6.291,2,   2119.7,2,   2300.8,2,   4.3333
  18HU19960512, AR07W,    47,  4, 158620,     38,2,19960524,2029, 60.3638, -48.5698,    1,    287.9,   4.5402,  34.7768,2,  34.7761,0,    296.5,2,    305.2,2,     7.09,6,    12.26,6,     0.76,6,    4.125,6,    2.083,6,    0.304, 6,    5.829,6,   2130.5,2,   2298.1,2,   4.5186
  18HU19960512, AR07W,    47,  4, 158619,     37,2,19960524,2029, 60.3638, -48.5698,    1,    410.3,   4.8298,  34.8593,2,  34.8572,2,    291.0,2,    298.4,2,     5.64,3,    10.37,3,     0.68,3,    4.041,2,    2.203,2,    0.260, 2,    5.592,2,   2137.0,2,   2302.6,2,   4.7977
  18HU19960512, AR07W,    47,  4, 158618,     57,2,19960524,2029, 60.3638, -48.5698,    1,    550.0,   4.8314,  34.8931,2,  34.7774,2,    286.0,2,    298.4,2,     6.36,6,     8.67,3,     0.66,3,    3.942,2,    1.985,2,    0.344, 2,    5.466,2,   2122.4,4,   2275.6,3,   4.7878
  18HU19960512, AR07W,    47,  4, 158617,     35,2,19960524,2029, 60.3638, -48.5698,    1,    691.1,   4.3486,  34.8988,2,  34.8987,2,    283.1,2,    288.6,2,     8.40,6,    14.99,6,     0.89,6,    3.649,2,    2.037,2,    0.297, 2,    5.152,2,   2146.2,2,   2276.8,3,   4.2956
  18HU19960512, AR07W,    47,  4, 158616,     34,2,19960524,2029, 60.3638, -48.5698,    1,    829.4,   4.2585,  34.8998,2,  34.9004,2,    282.1,2,    287.5,2,     8.16,3,    14.27,3,     0.87,3,    3.536,2,    1.738,2,    0.234, 2,    4.995,2,   2148.4,2,   2303.5,2,   4.1946
  18HU19960512, AR07W,    47,  4, 158615,     32,2,19960524,2029, 60.3638, -48.5698,    1,    954.2,   4.0414,  34.9006,2,  34.9008,2,    282.3,2,    285.7,2,     9.06,6,    15.36,6,     0.92,6,    3.419,2,    1.921,2,    0.250, 2,    4.854,2,   2148.1,6,   2297.5,2,   3.9686
  18HU19960512, AR07W,    47,  4, 158614,     31,2,19960524,2029, 60.3638, -48.5698,    1,   1073.2,   3.9340,  34.8993,2,  34.9008,0,    283.2,2,    285.2,2,     9.65,6,    16.25,6,     0.93,6,    3.371,2,    1.891,2,    0.204, 2,    4.610,2,   2151.5,2,   2305.0,2,   3.8520
  18HU19960512, AR07W,    47,  4, 158613,     33,2,19960524,2029, 60.3638, -48.5698,    1,   1104.2,   3.9138,  34.8991,2,  34.9002,2,    284.3,2,    285.2,0,     7.15,3,    11.97,3,     0.77,3,    3.313,2,    1.659,2,    0.174, 2,    4.731,2,   2150.9,2,   2297.4,6,   3.8294
  18HU19960512, AR07W,    48,  3, 158630,     46,2,19960524,2307, 60.4505, -48.3775,    9,     10.8,  -0.8093,  32.8702,2,  32.8426,0,    348.2,2,    410.1,2,     2.57,6,     0.72,6,     0.29,6,    5.735,2,    2.275,2,    0.447, 2,    8.361,2,   2003.2,2,   2203.0,2,  -0.8096
  18HU19960512, AR07W,    48,  3, 158629,     45,2,19960524,2307, 60.4505, -48.3775,    9,     50.7,  -0.3793,  33.1983,2,  33.1869,2,    334.2,2,    378.5,2,     3.81,6,     3.70,6,     0.40,6,    5.805,2,    2.317,2,    0.445, 2,    8.499,2,   2051.4,2,   2233.7,2,  -0.3808
  18HU19960512, AR07W,    48,  3, 158628,     44,2,19960524,2307, 60.4505, -48.3775,    9,     90.9,  -0.0423,  33.4146,2,  33.4176,2,    327.1,2,    358.8,2,     4.64,6,     5.09,6,     0.49,6,    5.511,2,    2.287,2,    0.437, 2,    8.479,2,   2073.6,6,   2248.8,2,  -0.0453
  18HU19960512, AR07W,    48,  3, 158627,     43,2,19960524,2307, 60.4505, -48.3775,    9,    141.1,   1.4249,  33.8721,2,  33.8465,2,    320.2,2,    341.2,0,     5.58,6,     7.45,6,     0.58,6,    5.104,2,    2.164,2,    0.397, 2,    7.310,2,   2093.0,2,   2262.7,2,   1.4183
  18HU19960512, AR07W,    49,  1, 158634,     50,2,19960525,0016, 60.5363, -48.2618,    7,     10.9,   0.0264,  32.7745,2,  32.7884,2,    358.4,2,    432.6,2,     2.18,6,     0.11,6,     0.23,6,    5.863,2,    2.917,2,    0.462, 2,    8.853,2,   1970.7,2,   2206.0,2,   0.0261
  18HU19960512, AR07W,    49,  1, 158633,     68,2,19960525,0016, 60.5363, -48.2618,    7,     51.2,  -0.4405,  33.1047,2,  33.1055,2,    337.2,2,    392.7,2,     3.60,6,     1.72,6,     0.35,6,    5.796,2,    2.858,2,    0.507, 2,    8.355,2,   2036.2,2,   2220.1,2,  -0.4420
  18HU19960512, AR07W,    49,  1, 158632,     48,2,19960525,0016, 60.5363, -48.2618,    7,     98.5,  -0.0264,  33.4160,2,  33.4182,2,    326.2,2,    355.6,2,     4.78,6,     5.78,6,     0.54,6,    5.540,2,    2.720,2,    0.413, 2,    8.295,2,   2075.1,6,   2228.0,2,  -0.0297
  18HU19960512, AR07W,    49,  1, 158631,     47,2,19960525,0016, 60.5363, -48.2618,    7,    136.6,  -0.0133,  33.4212,2,  33.4257,2,    332.2,2,    355.6,0,     4.34,6,     5.21,6,     0.49,6,    5.535,2,    2.714,2,    0.429, 2,    7.934,2,   2074.9,2,   2232.7,2,  -0.0179