BOTTLE,20150204PRINUNIVRMK
EXPOCODE,SECT_ID,STNNBR,CASTNO,SAMPNO,BTLNBR,BTLNBR_FLAG_W,DATE,TIME,LATITUDE,LONGITUDE,DEPTH,CTDPRS,CTDTMP,CTDSAL,CTDSAL_FLAG_W,SALNTY,SALNTY_FLAG_W,CTDOXY,CTDOXY_FLAG_W,OXYGEN,OXYGEN_FLAG_W,SILCAT,SILCAT_FLAG_W,NITRAT,NITRAT_FLAG_W,PHSPHT,PHSPHT_FLAG_W,CFC-11,CFC-11_FLAG_W,CFC-12,CFC-12_FLAG_W,CFC113,CFC113_FLAG_W,CCL4,CCL4_FLAG_W,TCARBN,TCARBN_FLAG_W,ALKALI,ALKALI_FLAG_W,THETA
,,,,,,,,,,,METERS,DBAR,ITS-90,PSS-78,,PSS-78,,UMOL/KG,,UMOL/KG,,UMOL/KG,,UMOL/KG,,UMOL/KG,,PMOL/KG,,PMOL/KG,,PMOL/KG,,PMOL/KG,,UMOL/KG,,UMOL/KG,,DEG C
  18HU19960512, AR07W,    10,  1, 158118,     37,2,19960514,2328, 44.4750, -58.5062,    4,      4.3,   4.4223,  31.8987,2,-999.0000,9,    320.5,2,   -999.0,9,     0.15,6,     0.31,6,     0.40,6, -999.000,9, -999.000,9, -999.000, 9, -999.000,9,   -999.0,9,   -999.0,9,   4.4220
  18HU19960512, AR07W,    10,  1, 158117,     36,2,19960514,2328, 44.4750, -58.5062,    4,      9.5,   4.3253,  31.9071,2,-999.0000,9,    322.1,2,   -999.0,9,     0.44,6,     0.00,6,     0.41,6, -999.000,9, -999.000,9, -999.000, 9, -999.000,9,   -999.0,9,   -999.0,9,   4.3247
  18HU19960512, AR07W,    10,  1, 158116,     35,2,19960514,2328, 44.4750, -58.5062,    4,     19.9,   4.1211,  31.9358,2,-999.0000,9,    323.2,2,   -999.0,9,     0.46,6,     0.00,6,     0.44,6, -999.000,9, -999.000,9, -999.000, 9, -999.000,9,   -999.0,9,   -999.0,9,   4.1198
  18HU19960512, AR07W,    10,  1, 158115,     34,2,19960514,2328, 44.4750, -58.5062,    4,     29.9,   2.2504,  32.3466,2,-999.0000,9,    332.3,2,   -999.0,9,     1.52,6,     0.00,6,     0.58,6, -999.000,9, -999.000,9, -999.000, 9, -999.000,9,   -999.0,9,   -999.0,9,   2.2489
  18HU19960512, AR07W,    10,  1, 158114,     32,2,19960514,2328, 44.4750, -58.5062,    4,     39.3,   2.1613,  32.3660,2,-999.0000,9,    338.0,2,   -999.0,9,     1.88,6,     0.13,6,     0.63,6, -999.000,9, -999.000,9, -999.000, 9, -999.000,9,   -999.0,9,   -999.0,9,   2.1594
  18HU19960512, AR07W,    10,  1, 158113,     31,2,19960514,2328, 44.4750, -58.5062,    4,     49.8,   2.1500,  32.3715,2,-999.0000,9,    345.4,2,   -999.0,9,     1.74,6,     0.18,6,     0.64,6, -999.000,9, -999.000,9, -999.000, 9, -999.000,9,   -999.0,9,   -999.0,9,   2.1475
  18HU19960512, AR07W,    10,  1, 158112,     33,2,19960514,2328, 44.4750, -58.5062,    4,     58.6,   2.1522,  32.3710,2,-999.0000,9,    360.8,2,   -999.0,9,     1.72,6,     0.18,6,     0.61,6, -999.000,9, -999.000,9, -999.000, 9, -999.000,9,   -999.0,9,   -999.0,9,   2.1493
  18HU19960512, AR07W,    11,  2, 158129,     48,2,19960515,0248, 44.1335, -58.1765,  734,      4.4,   3.5083,  32.2248,2,-999.0000,9,    314.9,2,   -999.0,9,     0.00,6,     0.00,6,     0.39,6, -999.000,9, -999.000,9, -999.000, 9, -999.000,9,   -999.0,9,   -999.0,9,   3.5080
  18HU19960512, AR07W,    11,  2, 158128,     47,2,19960515,0248, 44.1335, -58.1765,  734,      9.8,   3.5064,  32.3275,2,-999.0000,9,    313.8,2,   -999.0,9,     0.00,6,     0.00,6,     0.37,6, -999.000,9, -999.000,9, -999.000, 9, -999.000,9,   -999.0,9,   -999.0,9,   3.5058
  18HU19960512, AR07W,    11,  2, 158127,     46,2,19960515,0248, 44.1335, -58.1765,  734,     19.7,   3.6886,  32.4390,2,-999.0000,9,    312.0,2,   -999.0,9,     0.00,6,     0.00,6,     0.41,6, -999.000,9, -999.000,9, -999.000, 9, -999.000,9,   -999.0,9,   -999.0,9,   3.6874
  18HU19960512, AR07W,    11,  2, 158126,     45,2,19960515,0248, 44.1335, -58.1765,  734,     30.1,   3.0911,  32.5035,2,-999.0000,9,    313.9,2,   -999.0,9,     0.00,6,     0.00,6,     0.45,6, -999.000,9, -999.000,9, -999.000, 9, -999.000,9,   -999.0,9,   -999.0,9,   3.0894
  18HU19960512, AR07W,    11,  2, 158125,     44,2,19960515,0248, 44.1335, -58.1765,  734,     40.7,   2.0535,  32.6456,2,-999.0000,9,    309.1,2,   -999.0,9,     0.47,6,     0.58,6,     0.52,6, -999.000,9, -999.000,9, -999.000, 9, -999.000,9,   -999.0,9,   -999.0,9,   2.0515
  18HU19960512, AR07W,    11,  2, 158124,     43,2,19960515,0248, 44.1335, -58.1765,  734,     49.6,   1.4208,  32.7073,2,-999.0000,9,    307.2,2,   -999.0,9,     1.40,6,     2.81,6,     0.80,6, -999.000,9, -999.000,9, -999.000, 9, -999.000,9,   -999.0,9,   -999.0,9,   1.4186
  18HU19960512, AR07W,    11,  2, 158123,     42,2,19960515,0248, 44.1335, -58.1765,  734,     60.2,   1.0486,  32.7361,2,-999.0000,9,    308.7,2,   -999.0,9,     2.98,6,     4.74,6,     0.91,6, -999.000,9, -999.000,9, -999.000, 9, -999.000,9,   -999.0,9,   -999.0,9,   1.0461
  18HU19960512, AR07W,    11,  2, 158122,     41,2,19960515,0248, 44.1335, -58.1765,  734,     69.5,   0.6204,  32.7803,2,-999.0000,9,    309.5,2,   -999.0,9,     4.21,6,     5.07,6,     0.90,6, -999.000,9, -999.000,9, -999.000, 9, -999.000,9,   -999.0,9,   -999.0,9,   0.6178
  18HU19960512, AR07W,    11,  2, 158121,     40,2,19960515,0248, 44.1335, -58.1765,  734,     80.9,   0.2085,  32.8279,2,-999.0000,9,    311.3,2,   -999.0,9,     8.16,6,     7.79,6,     1.00,6, -999.000,9, -999.000,9, -999.000, 9, -999.000,9,   -999.0,9,   -999.0,9,   0.2057
  18HU19960512, AR07W,    11,  2, 158120,     39,2,19960515,0248, 44.1335, -58.1765,  734,     89.7,   0.3510,  32.9142,2,-999.0000,9,    311.0,2,   -999.0,9,     7.49,6,     6.74,6,     0.93,6, -999.000,9, -999.000,9, -999.000, 9, -999.000,9,   -999.0,9,   -999.0,9,   0.3478
  18HU19960512, AR07W,    11,  2, 158119,     38,2,19960515,0248, 44.1335, -58.1765,  734,    101.6,   1.1261,  33.0658,2,-999.0000,9,    307.3,2,   -999.0,9,     6.16,6,     5.90,6,     0.84,6, -999.000,9, -999.000,9, -999.000, 9, -999.000,9,   -999.0,9,   -999.0,9,   1.1218
  18HU19960512, AR07W,    12,  1, 158140,     36,2,19960515,0556, 43.7812, -57.8337, 2892,      4.3,   6.0227,  32.3579,2,-999.0000,9,    314.9,2,   -999.0,9,     0.00,6,     0.00,6,     0.34,6, -999.000,9, -999.000,9, -999.000, 9, -999.000,9,   -999.0,9,   -999.0,9,   6.0224
  18HU19960512, AR07W,    12,  1, 158139,     35,2,19960515,0556, 43.7812, -57.8337, 2892,     10.1,   6.0351,  32.3677,2,-999.0000,9,    315.0,2,   -999.0,9,     0.00,6,     0.00,6,     0.30,6, -999.000,9, -999.000,9, -999.000, 9, -999.000,9,   -999.0,9,   -999.0,9,   6.0343
  18HU19960512, AR07W,    12,  1, 158138,     34,2,19960515,0556, 43.7812, -57.8337, 2892,     20.4,   6.3072,  32.5833,2,-999.0000,9,    312.6,2,   -999.0,9,     0.00,6,     0.00,6,     0.30,6, -999.000,9, -999.000,9, -999.000, 9, -999.000,9,   -999.0,9,   -999.0,9,   6.3055
  18HU19960512, AR07W,    12,  1, 158137,     32,2,19960515,0556, 43.7812, -57.8337, 2892,     30.3,   6.0662,  32.8675,2,-999.0000,9,    311.0,2,   -999.0,9,     0.54,6,     0.00,6,     0.33,6, -999.000,9, -999.000,9, -999.000, 9, -999.000,9,   -999.0,9,   -999.0,9,   6.0637
  18HU19960512, AR07W,    12,  1, 158135,     33,2,19960515,0556, 43.7812, -57.8337, 2892,     40.3,   5.2872,  33.3042,2,-999.0000,9,    305.0,2,   -999.0,9,     1.47,6,     1.66,6,     0.50,6, -999.000,9, -999.000,9, -999.000, 9, -999.000,9,   -999.0,9,   -999.0,9,   5.2841
  18HU19960512, AR07W,    12,  1, 158136,     31,2,19960515,0556, 43.7812, -57.8337, 2892,     40.7,   5.2798,  33.3004,2,-999.0000,9,    307.8,2,   -999.0,9,     1.33,6,     0.83,6,     0.43,6, -999.000,9, -999.000,9, -999.000, 9, -999.000,9,   -999.0,9,   -999.0,9,   5.2767
  18HU19960512, AR07W,    12,  1, 158134,     53,2,19960515,0556, 43.7812, -57.8337, 2892,     59.9,   6.9180,  33.9509,2,-999.0000,9,    288.9,2,   -999.0,9,     2.04,6,     3.42,6,     0.50,6, -999.000,9, -999.000,9, -999.000, 9, -999.000,9,   -999.0,9,   -999.0,9,   6.9126
  18HU19960512, AR07W,    12,  1, 158133,     70,2,19960515,0556, 43.7812, -57.8337, 2892,     71.0,   7.9529,  34.2747,2,-999.0000,9,    277.2,2,   -999.0,9,     3.46,6,     6.86,6,     0.64,6, -999.000,9, -999.000,9, -999.000, 9, -999.000,9,   -999.0,9,   -999.0,9,   7.9459
  18HU19960512, AR07W,    12,  1, 158132,     51,2,19960515,0556, 43.7812, -57.8337, 2892,     81.1,   9.1161,  34.5911,2,-999.0000,9,    268.6,2,   -999.0,9,     3.66,6,     7.28,6,     0.66,6, -999.000,9, -999.000,9, -999.000, 9, -999.000,9,   -999.0,9,   -999.0,9,   9.1073
  18HU19960512, AR07W,    12,  1, 158131,     50,2,19960515,0556, 43.7812, -57.8337, 2892,     90.8,   9.7612,  34.7993,2,-999.0000,9,    262.0,2,   -999.0,9,     4.27,6,     8.72,6,     0.70,6, -999.000,9, -999.000,9, -999.000, 9, -999.000,9,   -999.0,9,   -999.0,9,   9.7509
  18HU19960512, AR07W,    12,  1, 158130,     68,2,19960515,0556, 43.7812, -57.8337, 2892,    100.7,   9.8947,  34.8526,2,-999.0000,9,    258.2,2,   -999.0,9,     4.09,6,     8.44,6,     0.65,6, -999.000,9, -999.000,9, -999.000, 9, -999.000,9,   -999.0,9,   -999.0,9,   9.8832
  18HU19960512, AR07W,    13,  3, 158151,     47,2,19960515,1316, 44.4278, -57.0217,  898,      5.2,   3.3828,  32.1662,2,-999.0000,9,    316.4,2,   -999.0,9,     0.00,6,     0.00,6,     0.40,6, -999.000,9, -999.000,9, -999.000, 9, -999.000,9,   -999.0,9,   -999.0,9,   3.3825
  18HU19960512, AR07W,    13,  3, 158150,     46,2,19960515,1316, 44.4278, -57.0217,  898,     10.4,   3.3829,  32.1592,2,-999.0000,9,    316.8,2,   -999.0,9,     0.00,6,     0.00,6,     0.43,6, -999.000,9, -999.000,9, -999.000, 9, -999.000,9,   -999.0,9,   -999.0,9,   3.3823
  18HU19960512, AR07W,    13,  3, 158149,     45,2,19960515,1316, 44.4278, -57.0217,  898,     20.4,   3.3677,  32.1732,2,-999.0000,9,    319.1,2,   -999.0,9,     0.00,6,     0.00,6,     0.41,6, -999.000,9, -999.000,9, -999.000, 9, -999.000,9,   -999.0,9,   -999.0,9,   3.3665
  18HU19960512, AR07W,    13,  3, 158148,     44,2,19960515,1316, 44.4278, -57.0217,  898,     27.8,   2.9662,  32.4832,2,-999.0000,9,    323.1,2,   -999.0,9,     0.00,6,     0.00,6,     0.36,6, -999.000,9, -999.000,9, -999.000, 9, -999.000,9,   -999.0,9,   -999.0,9,   2.9646
  18HU19960512, AR07W,    13,  3, 158147,     43,2,19960515,1316, 44.4278, -57.0217,  898,     39.6,   2.7853,  32.5572,2,-999.0000,9,    312.4,2,   -999.0,9,     0.00,6,     0.16,6,     0.42,6, -999.000,9, -999.000,9, -999.000, 9, -999.000,9,   -999.0,9,   -999.0,9,   2.7831
  18HU19960512, AR07W,    13,  3, 158146,     42,2,19960515,1316, 44.4278, -57.0217,  898,     49.8,   1.0346,  32.6726,2,-999.0000,9,    317.6,2,   -999.0,9,     2.02,6,     4.38,6,     0.85,6, -999.000,9, -999.000,9, -999.000, 9, -999.000,9,   -999.0,9,   -999.0,9,   1.0326
  18HU19960512, AR07W,    13,  3, 158145,     41,2,19960515,1316, 44.4278, -57.0217,  898,     60.3,   0.6765,  32.6838,2,-999.0000,9,    318.1,2,   -999.0,9,     5.35,6,     7.89,6,     0.82,6, -999.000,9, -999.000,9, -999.000, 9, -999.000,9,   -999.0,9,   -999.0,9,   0.6742
  18HU19960512, AR07W,    13,  3, 158144,     40,2,19960515,1316, 44.4278, -57.0217,  898,     72.8,   2.0804,  32.9321,2,-999.0000,9,    309.8,2,   -999.0,9,     2.90,6,     3.99,6,     0.77,6, -999.000,9, -999.000,9, -999.000, 9, -999.000,9,   -999.0,9,   -999.0,9,   2.0767
  18HU19960512, AR07W,    13,  3, 158143,     39,2,19960515,1316, 44.4278, -57.0217,  898,     80.5,   1.9992,  32.9830,2,-999.0000,9,    307.5,2,   -999.0,9,     4.20,6,     5.13,6,     0.80,6, -999.000,9, -999.000,9, -999.000, 9, -999.000,9,   -999.0,9,   -999.0,9,   1.9952
  18HU19960512, AR07W,    13,  3, 158142,     38,2,19960515,1316, 44.4278, -57.0217,  898,     89.8,   2.3182,  33.1217,2,-999.0000,9,    303.8,2,   -999.0,9,     4.88,6,     5.45,6,     0.78,6, -999.000,9, -999.000,9, -999.000, 9, -999.000,9,   -999.0,9,   -999.0,9,   2.3135
  18HU19960512, AR07W,    13,  3, 158141,     37,2,19960515,1316, 44.4278, -57.0217,  898,    101.5,   3.1760,  33.3546,2,-999.0000,9,    289.3,2,   -999.0,9,     6.96,6,     7.81,6,     0.89,6, -999.000,9, -999.000,9, -999.000, 9, -999.000,9,   -999.0,9,   -999.0,9,   3.1699
  18HU19960512, AR07W,    14,  1, 158162,     41,2,19960515,1741, 44.6822, -56.1995, 1364,      2.4,   4.0293,  32.6837,2,  32.6842,2,    314.8,2,   -999.0,9,     0.00,6,     0.00,6,     0.33,6, -999.000,9, -999.000,9, -999.000, 9, -999.000,9,   -999.0,9,   -999.0,9,   4.0291
  18HU19960512, AR07W,    14,  1, 158161,     40,2,19960515,1741, 44.6822, -56.1995, 1364,     11.7,   4.0317,  32.6839,2,  32.6841,2,    315.1,2,   -999.0,9,     0.15,6,     0.29,6,     0.36,6, -999.000,9, -999.000,9, -999.000, 9, -999.000,9,   -999.0,9,   -999.0,9,   4.0309
  18HU19960512, AR07W,    14,  1, 158160,     39,2,19960515,1741, 44.6822, -56.1995, 1364,     21.5,   4.0411,  32.6843,2,  32.6844,2,    315.3,2,   -999.0,9,     0.00,6,     0.17,6,     0.45,6, -999.000,9, -999.000,9, -999.000, 9, -999.000,9,   -999.0,9,   -999.0,9,   4.0397
  18HU19960512, AR07W,    14,  1, 158159,     38,2,19960515,1741, 44.6822, -56.1995, 1364,     32.6,   4.0370,  32.6894,2,  32.6872,2,    314.5,2,   -999.0,9,     0.18,6,     0.13,6,     0.47,6, -999.000,9, -999.000,9, -999.000, 9, -999.000,9,   -999.0,9,   -999.0,9,   4.0349
  18HU19960512, AR07W,    14,  1, 158158,     37,2,19960515,1741, 44.6822, -56.1995, 1364,     38.8,   3.9941,  32.8766,2,  32.8791,2,    306.0,2,   -999.0,9,     0.56,6,     0.35,6,     0.64,6, -999.000,9, -999.000,9, -999.000, 9, -999.000,9,   -999.0,9,   -999.0,9,   3.9916
  18HU19960512, AR07W,    14,  1, 158157,     36,2,19960515,1741, 44.6822, -56.1995, 1364,     51.0,   3.6181,  33.1509,2,  33.1618,2,    299.1,2,   -999.0,9,     3.28,6,     3.44,6,     0.50,6, -999.000,9, -999.000,9, -999.000, 9, -999.000,9,   -999.0,9,   -999.0,9,   3.6149
  18HU19960512, AR07W,    14,  1, 158156,     35,2,19960515,1741, 44.6822, -56.1995, 1364,     60.0,   3.1509,  33.2878,2,  33.4186,2,    297.3,2,   -999.0,9,     4.68,6,     5.41,6,     0.58,6, -999.000,9, -999.000,9, -999.000, 9, -999.000,9,   -999.0,9,   -999.0,9,   3.1473
  18HU19960512, AR07W,    14,  1, 158155,     34,2,19960515,1741, 44.6822, -56.1995, 1364,     69.6,   4.3301,  33.5840,2,  33.5870,2,    289.0,2,   -999.0,9,     4.97,6,     6.69,6,     0.80,6, -999.000,9, -999.000,9, -999.000, 9, -999.000,9,   -999.0,9,   -999.0,9,   4.3253
  18HU19960512, AR07W,    14,  1, 158154,     32,2,19960515,1741, 44.6822, -56.1995, 1364,     80.4,   4.6013,  33.7244,2,  33.7527,2,    284.1,2,   -999.0,9,     6.81,6,     8.42,6,     0.92,6, -999.000,9, -999.000,9, -999.000, 9, -999.000,9,   -999.0,9,   -999.0,9,   4.5955
  18HU19960512, AR07W,    14,  1, 158153,     31,2,19960515,1741, 44.6822, -56.1995, 1364,     90.8,   5.7597,  34.0519,2,  34.0334,2,    270.6,2,   -999.0,9,     6.09,6,     9.41,6,     0.87,6, -999.000,9, -999.000,9, -999.000, 9, -999.000,9,   -999.0,9,   -999.0,9,   5.7523
  18HU19960512, AR07W,    14,  1, 158152,     33,2,19960515,1741, 44.6822, -56.1995, 1364,    104.1,   6.2272,  34.2159,2,  34.2216,2,    259.3,2,   -999.0,9,     8.65,6,    11.46,6,     0.69,6, -999.000,9, -999.000,9, -999.000, 9, -999.000,9,   -999.0,9,   -999.0,9,   6.2183
  18HU19960512, AR07W,    15,  2, 158173,     70,2,19960515,2250, 44.8870, -55.3768, 1637,      6.9,   5.1752,  32.9393,2,  32.9399,2,    304.7,2,   -999.0,9,     0.00,6,     0.00,6,     0.41,6, -999.000,9, -999.000,9, -999.000, 9, -999.000,9,   -999.0,9,   -999.0,9,   5.1747
  18HU19960512, AR07W,    15,  2, 158172,     51,2,19960515,2250, 44.8870, -55.3768, 1637,     11.8,   5.1749,  32.9391,2,  32.9408,2,    305.3,2,   -999.0,9,     0.00,6,     0.00,6,     0.38,6, -999.000,9, -999.000,9, -999.000, 9, -999.000,9,   -999.0,9,   -999.0,9,   5.1740
  18HU19960512, AR07W,    15,  2, 158171,     50,2,19960515,2250, 44.8870, -55.3768, 1637,     20.8,   5.1725,  32.9506,2,  32.9648,2,    304.9,2,   -999.0,9,     0.00,6,     0.00,6,     1.19,3, -999.000,9, -999.000,9, -999.000, 9, -999.000,9,   -999.0,9,   -999.0,9,   5.1709
  18HU19960512, AR07W,    15,  2, 158170,     68,2,19960515,2250, 44.8870, -55.3768, 1637,     31.4,   5.0712,  33.0750,2,  33.0704,2,    301.3,2,   -999.0,9,     0.33,6,     0.19,6,     0.45,6, -999.000,9, -999.000,9, -999.000, 9, -999.000,9,   -999.0,9,   -999.0,9,   5.0689
  18HU19960512, AR07W,    15,  2, 158169,     48,2,19960515,2250, 44.8870, -55.3768, 1637,     39.4,   4.5347,  33.2906,2,  33.3009,2,    296.9,2,   -999.0,9,     1.48,6,     1.89,6,     0.56,6, -999.000,9, -999.000,9, -999.000, 9, -999.000,9,   -999.0,9,   -999.0,9,   4.5319
  18HU19960512, AR07W,    15,  2, 158168,     47,2,19960515,2250, 44.8870, -55.3768, 1637,     49.8,   4.7788,  33.5571,2,  33.5629,2,    290.1,2,   -999.0,9,     4.11,6,     4.98,6,     0.66,6, -999.000,9, -999.000,9, -999.000, 9, -999.000,9,   -999.0,9,   -999.0,9,   4.7752
  18HU19960512, AR07W,    15,  2, 158167,     46,2,19960515,2250, 44.8870, -55.3768, 1637,     60.8,   6.8436,  34.0992,2,  34.0553,2,    276.7,2,   -999.0,9,     3.59,6,     6.11,6,     0.58,6, -999.000,9, -999.000,9, -999.000, 9, -999.000,9,   -999.0,9,   -999.0,9,   6.8381
  18HU19960512, AR07W,    15,  2, 158166,     45,2,19960515,2250, 44.8870, -55.3768, 1637,     72.5,   8.1380,  34.4347,2,  34.3836,2,    264.6,2,   -999.0,9,     3.76,6,     7.30,6,     0.59,6, -999.000,9, -999.000,9, -999.000, 9, -999.000,9,   -999.0,9,   -999.0,9,   8.1307
  18HU19960512, AR07W,    15,  2, 158165,     44,2,19960515,2250, 44.8870, -55.3768, 1637,     80.2,   8.5461,  34.5754,2,  34.5687,2,    262.2,2,   -999.0,9,     4.09,6,     8.44,6,     0.65,6, -999.000,9, -999.000,9, -999.000, 9, -999.000,9,   -999.0,9,   -999.0,9,   8.5378
  18HU19960512, AR07W,    15,  2, 158164,     43,2,19960515,2250, 44.8870, -55.3768, 1637,     87.8,   8.6156,  34.6054,2,  34.6048,2,    260.7,2,   -999.0,9,     4.58,6,     8.84,6,     0.69,6, -999.000,9, -999.000,9, -999.000, 9, -999.000,9,   -999.0,9,   -999.0,9,   8.6064
  18HU19960512, AR07W,    15,  2, 158163,     42,2,19960515,2250, 44.8870, -55.3768, 1637,     98.8,   8.5830,  34.6492,2,  34.6483,2,    254.2,2,   -999.0,9,     5.75,6,    10.25,6,     0.52,6, -999.000,9, -999.000,9, -999.000, 9, -999.000,9,   -999.0,9,   -999.0,9,   8.5727
  18HU19960512, AR07W,    16,  1, 158180,     37,2,19960516,0453, 45.2168, -54.0005,    5,      8.9,   3.6850,  32.6183,2,  32.6206,2,    316.5,2,   -999.0,9,     0.00,6,     0.00,6,     0.45,6, -999.000,9, -999.000,9, -999.000, 9, -999.000,9,   -999.0,9,   -999.0,9,   3.6844
  18HU19960512, AR07W,    16,  1, 158179,     36,2,19960516,0453, 45.2168, -54.0005,    5,     19.4,   3.6558,  32.6208,2,  32.6236,2,    320.4,2,   -999.0,9,     0.00,6,     0.00,6,     0.39,6, -999.000,9, -999.000,9, -999.000, 9, -999.000,9,   -999.0,9,   -999.0,9,   3.6546
  18HU19960512, AR07W,    16,  1, 158178,     35,2,19960516,0453, 45.2168, -54.0005,    5,     29.5,   3.6275,  32.6222,2,  32.6269,2,    323.6,2,   -999.0,9,     0.00,6,     0.00,6,     0.41,6, -999.000,9, -999.000,9, -999.000, 9, -999.000,9,   -999.0,9,   -999.0,9,   3.6257
  18HU19960512, AR07W,    16,  1, 158177,     34,2,19960516,0453, 45.2168, -54.0005,    5,     40.3,   3.2200,  32.6644,2,  32.6680,2,    329.9,2,   -999.0,9,     0.43,6,     0.31,6,     0.56,6, -999.000,9, -999.000,9, -999.000, 9, -999.000,9,   -999.0,9,   -999.0,9,   3.2176
  18HU19960512, AR07W,    16,  1, 158176,     32,2,19960516,0453, 45.2168, -54.0005,    5,     50.6,   2.3322,  32.7531,2,  32.7579,2,    338.1,2,   -999.0,9,     0.61,6,     0.75,6,     0.52,6, -999.000,9, -999.000,9, -999.000, 9, -999.000,9,   -999.0,9,   -999.0,9,   2.3296
  18HU19960512, AR07W,    16,  1, 158175,     31,2,19960516,0453, 45.2168, -54.0005,    5,     60.3,   1.4063,  32.8320,2,  32.7891,2,    347.9,2,   -999.0,9,     1.63,6,     1.87,6,     0.66,6, -999.000,9, -999.000,9, -999.000, 9, -999.000,9,   -999.0,9,   -999.0,9,   1.4036
  18HU19960512, AR07W,    16,  1, 158174,     33,2,19960516,0453, 45.2168, -54.0005,    5,     72.1,   1.1892,  32.8892,2,  32.8943,2,    340.8,2,   -999.0,9,  -999.00,5,  -999.00,5,  -999.00,5, -999.000,9, -999.000,9, -999.000, 9, -999.000,9,   -999.0,9,   -999.0,9,   1.1861