BOTTLE,20150204PRINUNIVRMK
EXPOCODE,SECT_ID,STNNBR,CASTNO,SAMPNO,BTLNBR,BTLNBR_FLAG_W,DATE,TIME,LATITUDE,LONGITUDE,DEPTH,CTDPRS,CTDTMP,CTDSAL,CTDSAL_FLAG_W,SALNTY,SALNTY_FLAG_W,CTDOXY,CTDOXY_FLAG_W,OXYGEN,OXYGEN_FLAG_W,SILCAT,SILCAT_FLAG_W,NITRAT,NITRAT_FLAG_W,PHSPHT,PHSPHT_FLAG_W,CFC-11,CFC-11_FLAG_W,CFC-12,CFC-12_FLAG_W,CFC113,CFC113_FLAG_W,CCL4,CCL4_FLAG_W,TCARBN,TCARBN_FLAG_W,ALKALI,ALKALI_FLAG_W,THETA
,,,,,,,,,,,METERS,DBAR,ITS-90,PSS-78,,PSS-78,,UMOL/KG,,UMOL/KG,,UMOL/KG,,UMOL/KG,,UMOL/KG,,PMOL/KG,,PMOL/KG,,PMOL/KG,,PMOL/KG,,UMOL/KG,,UMOL/KG,,DEG C
  18HU19960512, AR07W,    36,  1, 158387,     53,2,19960522,0243, 56.9560, -52.2432,   14,      9.6,   2.9793,  34.4568,2,  34.4569,2,    315.5,2,    330.4,2,     6.08,6,    10.81,6,     0.86,6,    4.971,2,    2.439,2,    0.000, 4,    7.859,2,   2108.1,2,   2272.5,2,   2.9787
  18HU19960512, AR07W,    36,  1, 158386,     70,2,19960522,0243, 56.9560, -52.2432,   14,     58.4,   2.7916,  34.5029,2,  34.4832,2,    307.7,2,    327.2,2,     6.44,6,    11.19,6,     0.92,6,    4.934,2,    2.460,2,    0.318, 2,    7.853,2,   2115.2,2,   2278.8,2,   2.7882
  18HU19960512, AR07W,    36,  1, 158385,     51,2,19960522,0243, 56.9560, -52.2432,   14,    118.8,   2.9626,  34.7462,2,  34.7451,2,    299.7,2,    305.0,2,     8.24,6,    15.51,6,     1.12,6,    4.403,2,    2.194,2,    0.000, 4,    6.656,2,   2140.2,2,   2287.5,2,   2.9554
  18HU19960512, AR07W,    36,  1, 158384,     50,2,19960522,0243, 56.9560, -52.2432,   14,    218.2,   3.1201,  34.8009,2,  34.6749,0,    294.3,2,    303.0,2,     8.22,6,    15.79,6,     1.13,6,    4.103,2,    2.035,2,    0.000, 4,    6.163,2,   2142.1,2,   2289.4,2,   3.1063
  18HU19960512, AR07W,    36,  1, 158383,     68,2,19960522,0243, 56.9560, -52.2432,   14,    339.5,   3.0514,  34.8119,2,  34.8137,2,    293.0,2,    298.9,2,     8.66,6,    16.56,6,     1.20,6,    3.974,2,    1.948,2,    0.000, 4,    5.941,2,   2145.4,2,   -999.0,5,   3.0298
  18HU19960512, AR07W,    36,  1, 158382,     48,2,19960522,0243, 56.9560, -52.2432,   14,    480.0,   2.9399,  34.8157,2,  34.8153,2,    293.0,2,    299.7,2,     9.17,6,    16.71,6,     1.15,6,    3.957,2,    1.963,2,    0.000, 4,    5.904,2,   2143.3,2,   2289.5,2,   2.9093
  18HU19960512, AR07W,    36,  1, 158381,     47,2,19960522,0243, 56.9560, -52.2432,   14,    642.1,   2.8257,  34.8101,2,  34.8103,2,    293.7,2,    288.0,2,     9.15,6,    16.37,6,     1.14,6,    3.963,2,    1.948,2,    0.000, 4,    5.877,2,   2145.4,2,   2285.0,2,   2.7845
  18HU19960512, AR07W,    36,  1, 158380,     46,2,19960522,0243, 56.9560, -52.2432,   14,    819.6,   2.8325,  34.8166,2,  34.8163,2,    295.2,2,    299.0,2,     9.62,6,    16.66,6,     1.16,6,    3.891,2,    1.908,2,    0.269, 2,    5.853,2,   2148.8,2,   2286.1,2,   2.7786
  18HU19960512, AR07W,    36,  1, 158379,     45,2,19960522,0243, 56.9560, -52.2432,   14,   1018.1,   2.7834,  34.8124,2,  34.8132,4,    296.4,2,    303.4,2,     9.11,6,    16.13,6,     1.13,6,    3.962,2,    1.959,2,    0.000, 4,    5.895,2,   2147.5,2,   2289.9,2,   2.7153
  18HU19960512, AR07W,    36,  1, 158378,     44,2,19960522,0243, 56.9560, -52.2432,   14,   1268.9,   2.9439,  34.8420,2,  34.8418,2,    290.8,2,    291.8,2,     9.18,6,    16.15,6,     1.12,6,    3.571,2,    1.693,2,    0.000, 4,    5.287,2,   2150.1,2,   2292.2,2,   2.8549
  18HU19960512, AR07W,    36,  1, 158377,     43,2,19960522,0243, 56.9560, -52.2432,   14,   1480.3,   2.9122,  34.8413,2,  34.8413,2,    290.4,2,    299.2,2,     9.53,6,    16.53,6,     1.12,6,    3.584,2,    1.725,2,    0.258, 2,    5.356,2,   2148.2,2,   2292.1,2,   2.8063
  18HU19960512, AR07W,    36,  1, 158376,     42,2,19960522,0243, 56.9560, -52.2432,   14,   1738.7,   2.8925,  34.8414,2,  34.8415,2,    290.1,2,    299.7,2,     9.81,6,    16.72,6,     1.16,6,    3.436,2,    1.620,2,    0.000, 4,    5.242,2,   2147.4,2,   2290.7,2,   2.7650
  18HU19960512, AR07W,    36,  1, 158375,     41,2,19960522,0243, 56.9560, -52.2432,   14,   1988.1,   2.8708,  34.8385,2,  34.8386,2,    290.6,2,    302.2,2,     9.77,6,    16.66,6,     1.13,6,    3.529,2,    1.713,2,    0.000, 4,    5.226,2,   2148.4,2,   -999.0,5,   2.7216
  18HU19960512, AR07W,    36,  1, 158374,     40,2,19960522,0243, 56.9560, -52.2432,   14,   2239.3,   2.9213,  34.8473,2,  34.8481,2,    289.1,2,    297.2,0,    10.00,6,    16.72,6,     1.17,6,    3.230,6,    1.535,6,    0.226, 6,    4.848,6,   2148.1,2,   2298.8,2,   2.7481
  18HU19960512, AR07W,    36,  1, 158373,     39,2,19960522,0243, 56.9560, -52.2432,   14,   2460.1,   3.0721,  34.8867,2,  34.8868,2,    283.2,2,    284.8,2,    10.29,3,    15.89,3,     1.14,3,    2.437,2,    1.144,2,    0.000, 4,    3.854,2,   2147.7,2,   2504.3,4,   2.8749
  18HU19960512, AR07W,    36,  1, 158372,     38,3,19960522,0243, 56.9560, -52.2432,   14,   2678.1,   3.0044,  34.9048,2,  34.6003,4,    281.0,2,    275.0,2,     7.87,3,    13.82,3,     1.03,3,    3.835,4,    1.853,4,    0.165, 4,    5.593,4,   2137.9,4,   2288.9,2,   2.7868
  18HU19960512, AR07W,    36,  1, 158371,     37,2,19960522,0243, 56.9560, -52.2432,   14,   2879.1,   2.8553,  34.9099,2,  34.9100,2,    280.5,2,    281.1,2,    12.01,6,    16.49,6,     1.16,6,    1.883,2,    0.839,2,    0.000, 4,    3.117,2,   2150.2,2,   2300.1,2,   2.6202
  18HU19960512, AR07W,    36,  1, 158370,     57,2,19960522,0243, 56.9560, -52.2432,   14,   3055.8,   2.6669,  34.9086,2,  34.9089,2,    281.7,2,    282.2,2,    12.56,6,    16.31,6,     1.15,6,    1.877,2,    0.875,2,    0.000, 4,    3.067,2,   2152.9,2,   2303.1,2,   2.4177
  18HU19960512, AR07W,    36,  1, 158369,     35,2,19960522,0243, 56.9560, -52.2432,   14,   3198.8,   2.3880,  34.8990,2,  34.8992,2,    284.3,2,    285.0,2,    12.65,6,    15.94,6,     1.13,6,    2.065,2,    0.956,2,    0.000, 5,    3.342,2,   2151.8,2,   -999.0,5,   2.1303
  18HU19960512, AR07W,    36,  1, 158368,     34,2,19960522,0243, 56.9560, -52.2432,   14,   3318.7,   2.1364,  34.8864,2,  34.8871,0,    288.1,2,    290.8,2,    11.88,6,    15.54,6,     1.11,6,    2.462,2,    1.153,2,    0.149, 2,    3.880,2,   2150.2,2,   2308.0,3,   1.8722
  18HU19960512, AR07W,    36,  1, 158367,     32,2,19960522,0243, 56.9560, -52.2432,   14,   3418.8,   1.7780,  34.8717,2,  34.8714,2,    293.5,2,    299.8,2,    10.51,6,    14.70,6,     1.05,6,    3.110,2,    1.464,2,    0.000, 4,    4.631,2,   2148.8,2,   2301.3,6,   1.5122
  18HU19960512, AR07W,    36,  1, 158366,     31,2,19960522,0243, 56.9560, -52.2432,   14,   3500.7,   1.6483,  34.8687,2,  34.8685,2,    295.7,2,    314.6,2,    10.81,6,    14.87,6,     1.07,6,    3.227,2,    1.554,2,    0.131, 2,    4.884,2,   2147.2,6,   2307.7,2,   1.3772
  18HU19960512, AR07W,    36,  1, 158365,     33,2,19960522,0243, 56.9560, -52.2432,   14,   3551.9,   1.6341,  34.8679,2,  34.8684,2,    297.2,2,    302.7,2,    10.88,6,    14.91,6,     1.04,6,    3.238,2,    1.540,2,    0.234, 2,    4.652,2,   2150.1,2,   2282.7,2,   1.3581
  18HU19960512, AR07W,    37,  1, 158410,     53,2,19960522,0756, 57.3710, -51.8097,   15,     10.9,   3.1113,  34.4285,2,  34.4287,2,    307.9,2,    334.3,2,     5.77,6,    10.48,6,     0.83,6,    4.852,2,    2.181,2,    0.497, 2,    7.990,2,   2109.8,2,   2284.3,2,   3.1106
  18HU19960512, AR07W,    37,  1, 158409,     70,2,19960522,0756, 57.3710, -51.8097,   15,     60.6,   2.3297,  34.5593,2,  34.5663,2,    301.1,2,    312.8,2,     7.40,6,    14.18,6,     1.05,6,    4.605,2,    2.227,2,    0.375, 2,    7.451,2,   2133.6,2,   2283.1,2,   2.3264
  18HU19960512, AR07W,    37,  1, 158408,     51,2,19960522,0756, 57.3710, -51.8097,   15,    116.1,   2.5870,  34.6634,2,  34.6626,2,    294.9,2,    306.6,2,     7.91,6,    15.54,6,     1.08,6,    4.197,2,    2.131,2,    0.332, 2,    6.491,2,   2144.2,2,   2288.8,2,   2.5803
  18HU19960512, AR07W,    37,  1, 158407,     50,2,19960522,0756, 57.3710, -51.8097,   15,    237.7,   3.0580,  34.7945,2,  34.7937,2,    288.7,2,    291.0,2,     8.59,6,    16.63,6,     1.16,6,    3.703,2,    1.906,2,    0.247, 2,    5.491,2,   2146.8,2,   2283.2,2,   3.0431
  18HU19960512, AR07W,    37,  1, 158406,     68,2,19960522,0756, 57.3710, -51.8097,   15,    380.2,   3.0349,  34.8186,2,  34.8179,2,    287.8,2,    285.3,2,     8.88,6,    16.63,6,     1.17,6,    3.603,2,    1.738,2,    0.254, 2,    5.532,2,   2150.6,2,   2295.5,2,   3.0106
  18HU19960512, AR07W,    37,  1, 158405,     48,2,19960522,0756, 57.3710, -51.8097,   15,    534.9,   2.8988,  34.8144,2,  34.8144,2,    289.5,2,    296.1,2,     8.73,6,    16.70,6,     1.15,6,    3.691,2,    1.957,2,    0.256, 2,    5.440,2,   2148.9,2,   2303.3,2,   2.8646
  18HU19960512, AR07W,    37,  1, 158404,     47,2,19960522,0756, 57.3710, -51.8097,   15,    689.1,   2.9509,  34.8294,2,  34.8445,2,    287.6,2,    221.6,0,     9.01,6,    16.99,6,     1.16,6,    3.529,6,    1.811,6,    0.292, 6,    5.531,6,   2149.4,2,   2298.1,2,   2.9057
  18HU19960512, AR07W,    37,  1, 158403,     46,2,19960522,0756, 57.3710, -51.8097,   15,    869.7,   3.0053,  34.8450,2,  34.8447,2,    286.0,2,    294.9,2,     9.47,6,    17.36,6,     1.17,6,    3.168,2,    1.548,2,    0.208, 2,    4.931,2,   2149.2,2,   2282.5,2,   2.9466
  18HU19960512, AR07W,    37,  1, 158402,     45,2,19960522,0756, 57.3710, -51.8097,   15,   1069.4,   2.9548,  34.8444,2,  34.8448,2,    286.4,2,    290.1,2,     9.47,6,    17.07,6,     1.19,6,    3.235,2,    1.395,2,    0.228, 2,    4.879,2,   2150.7,2,   2290.7,2,   2.8814
  18HU19960512, AR07W,    37,  1, 158401,     44,2,19960522,0756, 57.3710, -51.8097,   15,   1295.1,   2.9127,  34.8427,2,  34.8419,2,    287.7,2,    297.3,2,     9.44,6,    16.91,6,     1.18,6,    3.331,2,    0.000,4,    0.000, 4,    5.165,2,   2150.2,2,   2296.4,2,   2.8219
  18HU19960512, AR07W,    37,  1, 158400,     43,2,19960522,0756, 57.3710, -51.8097,   15,   1530.1,   2.8869,  34.8411,2,  34.8422,2,    287.1,2,    299.0,2,     9.22,6,    16.92,6,     1.15,6,    3.237,2,    1.339,2,    0.198, 2,    5.040,2,   2148.5,2,   2293.4,2,   2.7772
  18HU19960512, AR07W,    37,  1, 158399,     42,2,19960522,0756, 57.3710, -51.8097,   15,   1773.1,   2.8793,  34.8412,2,  34.8409,2,    286.8,2,    299.1,2,     9.03,6,    16.63,6,     1.07,3,    3.231,2,    1.419,2,    0.222, 2,    5.050,2,   2149.2,2,   2280.8,3,   2.7490
  18HU19960512, AR07W,    37,  1, 158398,     41,2,19960522,0756, 57.3710, -51.8097,   15,   2009.0,   2.8876,  34.8435,2,  34.8442,2,    287.3,2,    298.6,2,     8.86,3,    15.87,3,     1.12,3,    3.159,2,    1.435,2,    0.185, 2,    4.860,2,   2152.0,2,   2300.8,2,   2.7362
  18HU19960512, AR07W,    37,  1, 158397,     40,2,19960522,0756, 57.3710, -51.8097,   15,   2246.4,   3.0516,  34.8816,2,  34.8815,2,    280.9,2,    287.7,2,    10.07,3,    16.42,3,     1.17,3,    2.307,2,    1.099,2,    0.000,58,    3.799,2,   2152.8,2,   2298.9,2,   2.8755
  18HU19960512, AR07W,    37,  1, 158396,     39,2,19960522,0756, 57.3710, -51.8097,   15,   2464.8,   3.0741,  34.9049,2,  34.9050,2,    278.8,2,    281.1,2,    10.91,6,    17.14,6,     1.13,6,    1.759,2,    0.821,2,    0.000, 5,    3.048,2,   2153.3,2,   2294.2,2,   2.8764
  18HU19960512, AR07W,    37,  1, 158395,     38,2,19960522,0756, 57.3710, -51.8097,   15,   2677.8,   2.9609,  34.9125,2,  34.9132,2,    279.3,2,    268.4,0,    11.52,6,    16.95,6,     1.17,6,    1.610,2,    0.884,2,    0.000, 4,    2.844,2,   2152.2,2,   2308.3,2,   2.7441
  18HU19960512, AR07W,    37,  1, 158394,     37,2,19960522,0756, 57.3710, -51.8097,   15,   2870.7,   2.7691,  34.9104,2,  34.9094,2,    280.9,2,    282.6,2,    11.74,6,    16.41,6,     1.16,6,    1.657,2,    0.817,2,    0.000, 5,    2.994,2,   2152.9,2,   2291.5,2,   2.5367
  18HU19960512, AR07W,    37,  1, 158393,     57,2,19960522,0756, 57.3710, -51.8097,   15,   3030.0,   2.5733,  34.9059,2,  34.9051,2,    282.0,2,    283.2,2,    12.19,6,    16.23,6,     1.16,6,    1.726,2,    0.682,2,    0.000, 5,    3.108,2,   2152.3,2,   2345.9,3,   2.3288
  18HU19960512, AR07W,    37,  1, 158392,     35,2,19960522,0756, 57.3710, -51.8097,   15,   3169.8,   2.3881,  34.9014,2,  34.9013,2,    283.0,2,    284.8,2,    12.52,6,    16.22,6,     1.16,6,    1.806,2,    0.989,2,    0.000, 5,    3.559,2,   2156.0,2,   2292.3,2,   2.1333
  18HU19960512, AR07W,    37,  1, 158391,     34,2,19960522,0756, 57.3710, -51.8097,   15,   3287.1,   2.1461,  34.8899,2,  34.8893,0,    287.1,2,    291.6,2,    11.78,6,    15.74,6,     1.15,6,    2.134,2,    1.065,2,    0.133, 2,    3.623,2,   2153.5,2,   2308.5,3,   1.8849
  18HU19960512, AR07W,    37,  1, 158390,     32,2,19960522,0756, 57.3710, -51.8097,   15,   3398.4,   1.8507,  34.8767,2,  34.8758,2,    290.5,2,    296.3,2,    10.60,6,    15.11,6,     1.09,6,    2.641,2,    1.133,2,    0.186, 2,    4.329,2,   2150.5,2,   2297.5,2,   1.5852
  18HU19960512, AR07W,    37,  1, 158389,     31,2,19960522,0756, 57.3710, -51.8097,   15,   3490.9,   1.6217,  34.8701,2,  34.7693,4,    293.9,2,    293.6,2,     8.95,6,    16.02,6,     1.17,3,    2.991,2,    1.343,2,    0.225, 2,    4.761,2,   2147.3,3,   -999.0,5,   1.3523
  18HU19960512, AR07W,    37,  1, 158388,     33,2,19960522,0756, 57.3710, -51.8097,   15,   3563.6,   1.3555,  34.8666,2,  34.8660,2,    297.1,2,    301.0,0,    10.00,6,    14.87,6,     1.08,6,    3.215,2,    1.467,2,    0.213, 2,    5.019,2,   2152.9,2,   2296.9,2,   1.0854
  18HU19960512, AR07W,    38,  3, 158433,     53,2,19960522,1635, 57.7832, -51.3475,   10,      8.3,   3.3474,  34.4395,2,  34.4400,2,    311.6,2,    333.7,2,     5.47,3,     9.03,3,     0.76,3,    4.970,2,    2.608,2,    0.443, 2,    7.768,2,   2110.5,2,   2282.3,2,   3.3469
  18HU19960512, AR07W,    38,  3, 158432,     70,2,19960522,1635, 57.7832, -51.3475,   10,     57.6,   3.8282,  34.7267,2,  34.7256,2,    302.5,2,    322.5,2,     7.89,6,    13.06,6,     0.94,6,    4.582,2,    2.343,2,    0.427, 2,    7.155,2,   2128.7,2,   2292.4,2,   3.8243
  18HU19960512, AR07W,    38,  3, 158431,     51,2,19960522,1635, 57.7832, -51.3475,   10,    139.7,   3.2226,  34.7925,2,  34.7921,2,    296.2,2,    310.6,2,     7.43,3,    13.65,3,     0.96,3,    4.366,2,    2.266,2,    0.340, 2,    6.568,2,   2144.7,2,   -999.0,5,   3.2137
  18HU19960512, AR07W,    38,  3, 158430,     50,2,19960522,1635, 57.7832, -51.3475,   10,    238.2,   3.1053,  34.8023,2,  34.8021,2,    293.5,2,    306.4,2,     7.73,3,    14.70,3,     1.02,3,    4.254,2,    2.204,2,    0.371, 2,    6.251,2,   2145.1,2,   2299.5,2,   3.0902
  18HU19960512, AR07W,    38,  3, 158429,     68,2,19960522,1635, 57.7832, -51.3475,   10,    360.4,   3.0501,  34.8100,2,  34.8121,2,    291.9,2,    304.8,2,     6.97,3,    13.14,3,     0.93,3,    4.090,2,    2.045,2,    0.387, 2,    6.071,2,   2148.8,2,   2292.1,2,   3.0271
  18HU19960512, AR07W,    38,  3, 158428,     48,2,19960522,1635, 57.7832, -51.3475,   10,    500.4,   3.0251,  34.8224,2,  34.8228,2,    289.3,2,    300.2,2,     7.18,3,    12.95,3,     0.93,3,    3.940,2,    2.018,2,    0.305, 2,    5.806,2,   2148.8,2,   2302.3,2,   2.9927
  18HU19960512, AR07W,    38,  3, 158427,     47,2,19960522,1635, 57.7832, -51.3475,   10,    656.3,   2.9611,  34.8244,2,  34.8250,2,    289.2,2,    300.7,2,     7.82,3,    15.07,3,     1.01,3,    3.912,2,    1.952,2,    0.348, 2,    5.758,2,   2147.8,2,   2294.5,2,   2.9181
  18HU19960512, AR07W,    38,  3, 158426,     46,2,19960522,1635, 57.7832, -51.3475,   10,    840.7,   2.9233,  34.8281,2,  34.8277,2,    288.8,2,    296.4,2,     8.20,3,    14.36,3,     1.02,3,    3.790,2,    1.850,2,    0.351, 2,    5.472,2,   2148.6,2,   2293.5,2,   2.8673
  18HU19960512, AR07W,    38,  3, 158425,     45,2,19960522,1635, 57.7832, -51.3475,   10,   1038.3,   2.9853,  34.8432,2,  34.8721,2,    286.8,2,    297.2,2,     7.53,3,    13.39,3,     0.94,3,    3.670,2,    1.936,2,    0.280, 2,    5.333,2,   2150.1,2,   2294.7,2,   2.9139
  18HU19960512, AR07W,    38,  3, 158424,     44,2,19960522,1635, 57.7832, -51.3475,   10,   1280.2,   2.9456,  34.8452,2,  34.8454,2,    287.1,2,   -999.0,9,     9.52,6,    16.85,6,     1.14,6,    3.589,2,    1.772,2,    0.303, 2,    5.362,2,   2148.1,2,   2290.8,2,   2.8557
  18HU19960512, AR07W,    38,  3, 158423,     43,2,19960522,1635, 57.7832, -51.3475,   10,   1529.7,   2.8818,  34.8393,2,  34.8387,2,    287.3,2,   -999.0,9,     8.41,3,    15.09,3,     1.04,3,    3.564,2,    1.708,2,    0.319, 2,    5.331,2,   2148.8,2,   2294.0,2,   2.7722
  18HU19960512, AR07W,    38,  3, 158422,     42,2,19960522,1635, 57.7832, -51.3475,   10,   1777.3,   2.8653,  34.8382,2,  34.8374,2,    287.6,2,    299.9,2,     9.31,3,    16.58,3,     1.16,3,    3.589,2,    1.816,2,    0.249, 2,    5.330,2,   2148.9,2,   2299.1,2,   2.7348
  18HU19960512, AR07W,    38,  3, 158421,     41,2,19960522,1635, 57.7832, -51.3475,   10,   2035.1,   2.8751,  34.8406,2,  34.8404,2,    287.3,2,    299.7,0,     8.13,3,    14.47,3,     0.97,3,    3.465,6,    1.744,6,    0.286, 6,    5.147,6,   2149.2,2,   2289.9,2,   2.7215
  18HU19960512, AR07W,    38,  3, 158420,     40,2,19960522,1635, 57.7832, -51.3475,   10,   2275.5,   3.0173,  34.8734,2,  34.8724,2,    281.6,2,    290.3,2,     9.54,6,    15.72,6,     1.11,6,    2.786,2,    1.347,2,    0.234, 2,    4.379,2,   2150.3,2,   2308.1,3,   2.8390
  18HU19960512, AR07W,    38,  3, 158419,     39,2,19960522,1635, 57.7832, -51.3475,   10,   2526.1,   2.9840,  34.8951,2,  34.8939,2,    279.1,2,    285.5,2,     9.85,6,    15.68,6,     1.08,6,    2.343,2,    1.119,2,    0.211, 2,    3.731,2,   2151.4,2,   2306.7,2,   2.7819
  18HU19960512, AR07W,    38,  3, 158418,     38,2,19960522,1635, 57.7832, -51.3475,   10,   2747.8,   2.8763,  34.9053,2,  34.9047,2,    278.5,2,    282.5,2,    10.78,6,    15.77,6,     1.08,6,    2.071,2,    1.056,2,    0.000, 5,    3.396,2,   2150.0,6,   2307.1,3,   2.6542
  18HU19960512, AR07W,    38,  3, 158417,     37,2,19960522,1635, 57.7832, -51.3475,   10,   2952.0,   2.7073,  34.9073,2,  34.9067,2,    277.0,2,    283.1,2,    12.32,3,    15.09,3,     1.15,3,    1.944,2,    0.853,2,    0.180, 2,    3.295,2,   2149.4,2,   2315.3,3,   2.4679
  18HU19960512, AR07W,    38,  3, 158416,     57,2,19960522,1635, 57.7832, -51.3475,   10,   3125.3,   2.4885,  34.9044,2,  34.9038,2,    278.1,2,    283.4,2,    12.04,3,    15.24,3,     1.09,3,    1.918,2,    0.902,2,    0.180, 2,    3.120,2,   2151.2,2,   2312.8,3,   2.2361
  18HU19960512, AR07W,    38,  3, 158415,     35,2,19960522,1635, 57.7832, -51.3475,   10,   3287.2,   2.2065,  34.8914,2,  34.8917,2,    281.6,2,    288.7,2,    11.70,6,    15.66,6,     1.09,6,    2.330,2,    1.169,2,    0.154, 2,    3.770,2,   2152.6,2,   2313.9,3,   1.9438
  18HU19960512, AR07W,    38,  3, 158414,     34,2,19960522,1635, 57.7832, -51.3475,   10,   3422.6,   1.7865,  34.8770,2,  34.8762,2,    287.1,2,    298.5,0,    10.23,3,    13.26,3,     1.02,3,    3.040,2,    1.458,2,    0.266, 2,    4.692,2,   2150.3,2,   2313.0,3,   1.5200
  18HU19960512, AR07W,    38,  3, 158413,     32,2,19960522,1635, 57.7832, -51.3475,   10,   3534.9,   1.4821,  34.8721,2,  34.8727,0,    291.0,2,    303.1,2,     9.54,3,    13.68,3,     1.04,3,    3.328,2,    1.651,2,    0.304, 2,    4.979,2,   2150.4,2,   2313.9,2,   1.2117
  18HU19960512, AR07W,    38,  3, 158412,     31,2,19960522,1635, 57.7832, -51.3475,   10,   3603.4,   1.3433,  34.8689,2,  34.8685,2,    293.3,2,    304.0,0,     9.85,6,    14.60,6,     1.04,6,    3.413,2,    1.695,2,    0.253, 2,    4.979,2,   2152.1,2,   2317.7,3,   1.0694
  18HU19960512, AR07W,    38,  3, 158411,     33,2,19960522,1635, 57.7832, -51.3475,   10,   3605.0,   1.3450,  34.8688,2,  34.8688,2,    294.4,2,    305.5,2,     9.74,6,    14.90,6,     1.04,6,    3.462,2,    1.690,2,    0.291, 2,    5.119,2,   2153.8,2,   2364.8,4,   1.0709