BOTTLE,20150204PRINUNIVRMK
EXPOCODE,SECT_ID,STNNBR,CASTNO,SAMPNO,BTLNBR,BTLNBR_FLAG_W,DATE,TIME,LATITUDE,LONGITUDE,DEPTH,CTDPRS,CTDTMP,CTDSAL,CTDSAL_FLAG_W,SALNTY,SALNTY_FLAG_W,CTDOXY,CTDOXY_FLAG_W,OXYGEN,OXYGEN_FLAG_W,SILCAT,SILCAT_FLAG_W,NITRAT,NITRAT_FLAG_W,PHSPHT,PHSPHT_FLAG_W,CFC-11,CFC-11_FLAG_W,CFC-12,CFC-12_FLAG_W,CFC113,CFC113_FLAG_W,CCL4,CCL4_FLAG_W,TCARBN,TCARBN_FLAG_W,ALKALI,ALKALI_FLAG_W,THETA
,,,,,,,,,,,METERS,DBAR,ITS-90,PSS-78,,PSS-78,,UMOL/KG,,UMOL/KG,,UMOL/KG,,UMOL/KG,,UMOL/KG,,PMOL/KG,,PMOL/KG,,PMOL/KG,,PMOL/KG,,UMOL/KG,,UMOL/KG,,DEG C
  18HU19960512, AR07W,    30,  3, 158270,     50,2,19960520,0214, 55.4188, -53.8193,   15,      8.4,   2.2382,  34.1593,2,  34.1611,2,    321.2,2,    351.7,2,     3.29,6,     8.29,6,     0.67,6,    5.028,2,    3.167,2,    0.594, 2,    8.352,2,   2085.3,2,   2244.6,2,   2.2378
  18HU19960512, AR07W,    30,  3, 158269,     68,2,19960520,0214, 55.4188, -53.8193,   15,     68.7,   2.8573,  34.6274,2,  34.6268,2,    297.0,2,    309.4,2,     8.31,6,    14.69,6,     0.92,6,    4.346,2,    2.716,2,    0.440, 2,    6.994,2,   2128.7,2,   2279.0,2,   2.8532
  18HU19960512, AR07W,    30,  3, 158268,     48,2,19960520,0214, 55.4188, -53.8193,   15,    149.1,   3.3815,  34.7730,2,  34.7736,2,    290.1,2,    296.0,2,     9.04,6,    15.90,6,     1.01,6,    3.817,2,    1.915,2,    0.000, 4,    5.472,2,   2143.7,2,   2278.7,2,   3.3719
  18HU19960512, AR07W,    30,  3, 158267,     47,2,19960520,0214, 55.4188, -53.8193,   15,    249.8,   3.2248,  34.7783,2,  34.7786,2,    293.2,2,    322.5,2,     8.63,6,    15.85,6,     0.97,6,    4.000,2,    2.092,2,    0.418, 2,    5.979,2,   2140.7,2,   2277.1,2,   3.2088
  18HU19960512, AR07W,    30,  3, 158266,     46,2,19960520,0214, 55.4188, -53.8193,   15,    370.6,   3.2393,  34.7931,2,  34.7937,2,    292.3,2,    301.2,2,     8.46,6,    15.85,6,     0.97,6,    4.056,2,    1.888,2,    0.455, 2,    6.082,2,   2142.4,2,   2277.5,2,   3.2151
  18HU19960512, AR07W,    30,  3, 158265,     45,2,19960520,0214, 55.4188, -53.8193,   15,    536.8,   3.5077,  34.8652,2,  34.8670,2,    286.7,2,    293.0,2,     9.41,6,    16.75,6,     1.09,6,    3.545,2,    1.835,2,    0.000, 4,    5.032,2,   2146.9,2,   2284.2,2,   3.4707
  18HU19960512, AR07W,    30,  3, 158264,     44,2,19960520,0214, 55.4188, -53.8193,   15,    660.6,   3.1938,  34.8402,2,  34.8410,2,    288.7,2,    292.4,2,     9.14,6,    16.68,6,     1.07,6,    3.669,2,    1.955,2,    0.365, 2,    5.419,2,   2149.2,2,   2277.7,3,   3.1493
  18HU19960512, AR07W,    30,  3, 158263,     43,2,19960520,0214, 55.4188, -53.8193,   15,    848.8,   2.9550,  34.8276,2,  34.8283,2,    290.2,2,    301.0,2,     9.23,6,    16.48,6,     1.07,6,    3.866,2,    1.654,2,    0.397, 2,    5.801,2,   2144.8,3,   2337.9,4,   2.8982
  18HU19960512, AR07W,    30,  3, 158262,     42,2,19960520,0214, 55.4188, -53.8193,   15,   1027.8,   3.0890,  34.8548,2,  34.8563,2,    287.3,2,    297.1,2,     9.81,6,    17.02,6,     1.09,6,    3.538,2,    1.729,2,    0.296, 2,    4.878,2,   2149.6,2,   2279.7,2,   3.0176
  18HU19960512, AR07W,    30,  3, 158261,     41,2,19960520,0214, 55.4188, -53.8193,   15,   1199.7,   3.0336,  34.8567,2,  34.8564,2,    287.1,2,    298.8,2,     8.48,3,    14.46,3,     0.97,3,    3.399,2,    1.966,2,    0.320, 2,    5.027,2,   2145.4,3,   2283.9,2,   2.9492
  18HU19960512, AR07W,    30,  3, 158260,     40,2,19960520,0214, 55.4188, -53.8193,   15,   1398.0,   2.9509,  34.8522,2,  34.8533,2,    287.4,2,    297.5,2,    10.01,6,    15.27,3,     1.00,6,    3.467,6,    1.949,6,    0.140, 6,    5.269,6,   2150.8,2,   2278.2,3,   2.8513
  18HU19960512, AR07W,    30,  3, 158259,     39,2,19960520,0214, 55.4188, -53.8193,   15,   1600.5,   2.8646,  34.8451,2,  34.8460,2,    287.8,2,    292.7,2,     9.91,6,    16.77,6,     1.07,6,    3.296,2,    2.004,2,    0.000, 4,    4.904,2,   2150.2,2,   2280.8,2,   2.7492
  18HU19960512, AR07W,    30,  3, 158258,     38,2,19960520,0214, 55.4188, -53.8193,   15,   1829.4,   2.9528,  34.8779,2,  34.8790,2,    283.1,2,    290.0,2,    10.52,6,    16.66,6,     1.04,6,    2.661,2,    1.426,2,    0.234, 2,    4.306,2,   2149.1,2,   2279.1,2,   2.8164
  18HU19960512, AR07W,    30,  3, 158257,     37,2,19960520,0214, 55.4188, -53.8193,   15,   2006.7,   2.8686,  34.8922,2,  34.8928,2,    280.6,2,    287.1,2,    10.95,6,    16.51,6,     1.03,6,    2.342,2,    1.259,2,    0.000, 5,    4.115,2,   2149.9,2,   2283.7,2,   2.7175
  18HU19960512, AR07W,    30,  3, 158256,     57,2,19960520,0214, 55.4188, -53.8193,   15,   2154.9,   2.7153,  34.8961,2,  34.8970,2,    281.1,2,    287.4,2,    11.40,6,    16.28,6,     1.02,6,    2.235,2,    0.957,2,    0.000, 4,    3.477,2,   2148.2,2,   2287.3,2,   2.5531
  18HU19960512, AR07W,    30,  3, 158255,     35,2,19960520,0214, 55.4188, -53.8193,   15,   2288.3,   2.4902,  34.8936,2,  34.8939,2,    282.3,2,    289.1,2,    11.57,6,    16.13,6,     1.02,6,    2.269,2,    1.070,2,    0.183, 2,    3.932,2,   2151.6,2,   2285.7,2,   2.3196
  18HU19960512, AR07W,    30,  3, 158254,     34,2,19960520,0214, 55.4188, -53.8193,   15,   2404.5,   2.3794,  34.8910,2,  34.8925,0,    283.7,2,    290.1,2,    11.61,6,    16.01,6,     1.03,6,    2.337,2,    1.177,2,    0.000, 5,    3.719,2,   2148.9,2,   2281.6,2,   2.2000
  18HU19960512, AR07W,    30,  3, 158253,     32,2,19960520,0214, 55.4188, -53.8193,   15,   2503.4,   2.3434,  34.8899,2,  34.8882,2,    284.4,2,    289.8,2,    11.67,6,    15.88,6,     0.98,6,    2.398,2,    1.211,2,    0.000, 4,    4.306,2,   2151.1,2,   2287.6,3,   2.1554
  18HU19960512, AR07W,    30,  3, 158252,     31,2,19960520,0214, 55.4188, -53.8193,   15,   2600.4,   2.2438,  34.8868,2,  34.8904,2,    286.1,2,    281.3,2,    11.62,6,    15.72,6,     1.01,6,    2.458,2,    1.485,2,    0.232, 2,    3.806,2,   2152.7,6,   2283.9,2,   2.0485
  18HU19960512, AR07W,    30,  3, 158251,     33,2,19960520,0214, 55.4188, -53.8193,   15,   2709.9,   2.1303,  34.8836,2,  34.8843,2,    289.1,2,    292.8,0,    10.72,3,    14.89,3,     0.86,3,    2.591,2,    1.543,2,    0.151, 2,    4.089,2,   2150.9,2,   2283.6,2,   1.9269
  18HU19960512, AR07W,    31,  1, 158290,     50,2,19960520,0613, 55.6093, -53.6178,    9,      9.3,   1.9526,  34.0340,2,  34.0361,2,    319.5,2,    330.6,2,     8.28,6,    10.80,6,     0.93,6,    5.168,2,    2.604,2,    0.000, 4,    8.144,2,   2097.6,2,   2239.6,2,   1.9521
  18HU19960512, AR07W,    31,  1, 158289,     68,2,19960520,0613, 55.6093, -53.6178,    9,     49.5,   2.4592,  34.4438,2,  34.4503,2,    305.9,2,    320.4,2,     8.09,3,    12.35,3,     1.02,3,    4.704,2,    2.397,2,    0.000, 4,    7.239,2,   2123.4,2,   2262.5,2,   2.4564
  18HU19960512, AR07W,    31,  1, 158288,     48,2,19960520,0613, 55.6093, -53.6178,    9,     99.9,   2.9590,  34.6884,2,  34.6882,2,    297.6,2,    307.9,2,     9.81,6,    15.04,6,     1.16,6,    4.310,2,    2.163,2,    0.000, 4,    6.279,2,   2138.1,2,   -999.0,5,   2.9529
  18HU19960512, AR07W,    31,  1, 158287,     47,2,19960520,0613, 55.6093, -53.6178,    9,    180.7,   3.3073,  34.7657,2,  34.7661,2,    292.1,2,    291.1,2,     8.92,6,    15.44,6,     1.18,6,    4.112,2,    2.084,2,    0.000, 4,    5.894,2,   2143.9,2,   -999.0,5,   3.2957
  18HU19960512, AR07W,    31,  1, 158286,     46,2,19960520,0613, 55.6093, -53.6178,    9,    301.3,   3.2630,  34.7912,2,  34.7916,2,    291.7,2,    301.1,2,     8.83,6,    15.90,6,     1.19,6,    4.028,6,    2.045,6,    0.299, 6,    5.813,6,   2144.3,2,   2283.8,2,   3.2434
  18HU19960512, AR07W,    31,  1, 158285,     45,2,19960520,0613, 55.6093, -53.6178,    9,    502.7,   3.5840,  34.8646,2,  34.8658,2,    285.9,2,    291.1,2,     9.80,6,    16.63,6,     1.18,6,    3.690,2,    1.839,2,    0.000, 4,    5.181,2,   2150.9,2,   2266.1,3,   3.5492
  18HU19960512, AR07W,    31,  1, 158284,     44,2,19960520,0613, 55.6093, -53.6178,    9,    617.2,   3.4739,  34.8686,2,  34.8693,2,    285.2,2,    278.2,0,    10.13,6,    16.69,6,     1.24,6,    3.611,2,    1.781,2,    0.000, 4,    5.119,2,   2152.5,6,   2301.7,4,   3.4312
  18HU19960512, AR07W,    31,  1, 158283,     43,2,19960520,0613, 55.6093, -53.6178,    9,    818.3,   3.3427,  34.8712,2,  34.8722,2,    286.4,2,    294.8,2,     9.92,6,    16.97,6,     1.24,6,    3.575,2,    1.770,2,    0.164, 2,    5.114,2,   2150.2,2,   2283.7,2,   3.2856
  18HU19960512, AR07W,    31,  1, 158282,     42,2,19960520,0613, 55.6093, -53.6178,    9,   1038.3,   3.2170,  34.8687,2,  34.8690,2,    286.4,2,    278.3,0,    10.12,6,    16.70,6,     1.22,6,    3.497,2,    1.722,2,    0.000, 4,    5.026,2,   2150.8,2,   2282.7,2,   3.1438
  18HU19960512, AR07W,    31,  1, 158281,     41,2,19960520,0613, 55.6093, -53.6178,    9,   1259.9,   3.0923,  34.8619,2,  34.8626,2,    287.0,2,    290.1,2,    10.09,6,    17.05,6,     1.13,6,    3.484,2,    1.741,2,    0.000, 4,    5.238,2,   2149.8,2,   2285.1,2,   3.0025
  18HU19960512, AR07W,    31,  1, 158280,     40,2,19960520,0613, 55.6093, -53.6178,    9,   1481.0,   2.9778,  34.8554,2,  34.8558,2,    287.8,2,    298.9,2,     9.96,6,    16.93,6,     1.12,6,    3.433,2,    1.652,2,    0.133, 2,    5.084,2,   2150.4,2,   2284.0,2,   2.8711
  18HU19960512, AR07W,    31,  1, 158279,     39,2,19960520,0613, 55.6093, -53.6178,    9,   1747.2,   2.9559,  34.8612,2,  34.8615,2,    285.9,2,    294.7,2,    10.25,6,    16.85,6,     1.11,6,    3.266,2,    1.550,2,    0.000, 4,    4.813,2,   2150.2,2,   2271.8,4,   2.8267
  18HU19960512, AR07W,    31,  1, 158278,     38,2,19960520,0613, 55.6093, -53.6178,    9,   1915.3,   2.9238,  34.8742,2,  34.8744,2,    283.6,2,    291.7,2,     9.29,3,    14.85,3,     1.00,3,    2.901,2,    1.397,2,    0.000, 4,    4.277,2,   2151.3,2,   2278.7,3,   2.7802
  18HU19960512, AR07W,    31,  1, 158277,     37,2,19960520,0613, 55.6093, -53.6178,    9,   2137.0,   2.8192,  34.8900,2,  34.8907,2,    281.7,2,    281.8,2,    11.09,6,    16.54,6,     1.08,6,    2.500,2,    1.181,2,    0.000,85,    3.798,2,   2151.6,2,   2274.7,3,   2.6570
  18HU19960512, AR07W,    31,  1, 158276,     57,2,19960520,0613, 55.6093, -53.6178,    9,   2357.6,   2.6356,  34.8987,2,  34.8991,2,    281.2,2,    278.9,2,    11.62,6,    16.16,6,     0.96,2,    2.251,2,    1.040,2,    0.000, 4,    3.476,2,   2150.8,2,   2277.0,3,   2.4560
  18HU19960512, AR07W,    31,  1, 158275,     35,2,19960520,0613, 55.6093, -53.6178,    9,   2554.8,   2.3228,  34.8931,2,  34.8933,2,    283.4,2,    288.7,2,    11.90,6,    15.89,6,     1.03,6,    2.356,2,    1.090,2,    0.000, 4,    3.661,2,   2151.6,2,   2304.8,3,   2.1303
  18HU19960512, AR07W,    31,  1, 158274,     34,2,19960520,0613, 55.6093, -53.6178,    9,   2708.3,   1.8756,  34.8776,2,  34.8781,2,    288.3,2,    296.8,2,    10.83,6,    15.15,6,     1.01,6,    2.864,2,    1.362,2,    0.151, 2,    4.321,2,   2151.1,2,   2287.0,2,   1.6775
  18HU19960512, AR07W,    31,  1, 158273,     32,2,19960520,0613, 55.6093, -53.6178,    9,   2809.8,   1.5951,  34.8690,2,  34.8693,2,    291.6,2,    303.2,2,    10.77,6,    15.01,6,     0.97,6,    3.249,2,    1.537,2,    0.000, 5,    4.665,2,   2150.9,2,   2284.1,6,   1.3932
  18HU19960512, AR07W,    31,  1, 158272,     31,2,19960520,0613, 55.6093, -53.6178,    9,   2888.8,   1.4886,  34.8675,2,  34.7833,4,    293.5,2,    302.8,2,    10.57,6,    15.28,6,     1.00,6,    3.330,2,    1.616,2,    0.000, 4,    4.826,2,   2151.3,6,   2281.3,2,   1.2816
  18HU19960512, AR07W,    31,  1, 158271,     33,2,19960520,0613, 55.6093, -53.6178,    9,   2939.4,   1.4800,  34.8671,2,  34.8675,2,    294.9,2,    302.6,0,    10.79,6,    14.81,6,     0.97,6,    3.369,2,    1.604,2,    0.196, 2,    4.894,2,   2150.5,2,   2281.3,2,   1.2684
  18HU19960512, AR07W,    32,  6, 158313,     53,2,19960520,1102, 55.8470, -53.3802,   10,     12.2,   2.0042,  33.9772,2,  33.9961,0,    320.6,2,    352.1,2,     3.34,6,     7.13,6,     0.71,6,    5.261,2,    2.786,2,    0.428, 2,    8.644,2,   2075.0,2,   2296.5,3,   2.0036
  18HU19960512, AR07W,    32,  6, 158312,     70,2,19960520,1102, 55.8470, -53.3802,   10,     60.8,   2.7551,  34.6339,2,  34.6298,0,    298.7,2,    301.1,2,     7.60,3,    13.28,3,     1.08,3,    4.419,2,    2.568,2,    0.000, 4,    6.630,2,   2134.4,2,   2275.4,2,   2.7515
  18HU19960512, AR07W,    32,  6, 158311,     51,2,19960520,1102, 55.8470, -53.3802,   10,    111.0,   3.0248,  34.7260,2,  34.7251,0,    295.9,2,    290.6,2,     9.70,3,    15.50,6,     1.12,6,    4.161,2,    1.960,2,    0.421, 2,    6.253,2,   2140.3,2,   2289.6,2,   3.0180
  18HU19960512, AR07W,    32,  6, 158310,     50,4,19960520,1102, 55.8470, -53.3802,   10,    193.3,   3.2236,  34.7857,2,  34.7851,0,    292.7,2,    299.9,2,     8.03,6,    14.79,6,     1.14,6, -999.000,9, -999.000,9, -999.000, 9, -999.000,9,   2144.5,2,   2266.5,2,   3.2113
  18HU19960512, AR07W,    32,  6, 158309,     68,2,19960520,1102, 55.8470, -53.3802,   10,    286.2,   3.2837,  34.8177,2,  34.8179,0,    287.4,2,    296.2,2,     8.51,3,    15.38,3,     1.16,3,    3.716,2,    2.000,2,    0.000, 4,    5.321,2,   2148.5,2,   2272.0,2,   3.2651
  18HU19960512, AR07W,    32,  6, 158308,     48,2,19960520,1102, 55.8470, -53.3802,   10,    396.2,   3.1520,  34.8213,2,  34.8185,0,    288.8,2,    297.8,2,     9.17,6,    15.44,6,     1.16,6,    3.753,2,    1.844,2,    0.369, 2,    5.662,2,   2148.6,2,   2269.7,2,   3.1263
  18HU19960512, AR07W,    32,  6, 158307,     47,2,19960520,1102, 55.8470, -53.3802,   10,    548.1,   3.1497,  34.8396,2,  34.8385,0,    287.5,2,    293.2,2,     9.11,6,    14.59,3,     1.07,6,    3.454,2,    1.846,2,    0.318, 2,    5.236,2,   2151.3,2,   2282.7,2,   3.1135
  18HU19960512, AR07W,    32,  6, 158306,     46,2,19960520,1102, 55.8470, -53.3802,   10,    705.8,   3.1368,  34.8532,2,  34.8542,0,    286.3,2,    269.4,0,     7.70,3,    11.74,3,     0.96,3,    3.187,2,    1.697,2,    0.000, 4,    4.780,2,   2152.3,2,   2284.8,2,   3.0893
  18HU19960512, AR07W,    32,  6, 158305,     45,2,19960520,1102, 55.8470, -53.3802,   10,    894.0,   3.0021,  34.8449,2,  34.8448,0,    288.3,2,    347.9,0,    10.08,3,    15.35,3,     1.18,3,    3.409,2,    1.755,2,    0.000, 4,    5.095,2,   2152.4,2,   2285.3,2,   2.9416
  18HU19960512, AR07W,    32,  6, 158304,     44,2,19960520,1102, 55.8470, -53.3802,   10,   1102.2,   2.9867,  34.8499,2,  34.8513,0,    288.0,2,    289.1,2,     9.52,6,    16.07,6,     1.22,6,    3.188,2,    1.580,2,    0.290, 2,    4.860,2,   2149.4,2,   2277.2,3,   2.9104
  18HU19960512, AR07W,    32,  6, 158303,     43,2,19960520,1102, 55.8470, -53.3802,   10,   1313.2,   2.9454,  34.8492,2,  34.8499,0,    287.6,2,    280.8,2,    10.37,6,    16.74,6,     1.27,6,    3.182,2,    1.672,2,    0.000, 4,    4.719,2,   2149.4,2,   2282.6,2,   2.8528
  18HU19960512, AR07W,    32,  6, 158302,     42,2,19960520,1102, 55.8470, -53.3802,   10,   1540.7,   2.9052,  34.8464,2,  34.8458,0,    288.2,2,    287.8,2,     9.09,3,    15.21,3,     1.18,3,    3.251,2,    1.616,2,    0.000, 4,    4.749,2,   2148.7,2,   2283.7,2,   2.7944
  18HU19960512, AR07W,    32,  6, 158301,     41,2,19960520,1102, 55.8470, -53.3802,   10,   1778.0,   2.8917,  34.8466,2,  34.8489,0,    288.1,2,    289.7,2,    10.26,3,    15.55,3,     1.19,3,    3.122,2,    1.651,2,    0.292, 2,    4.821,2,   2149.7,2,   2268.3,4,   2.7608
  18HU19960512, AR07W,    32,  6, 158300,     40,2,19960520,1102, 55.8470, -53.3802,   10,   2003.8,   3.0138,  34.8758,2,  34.8740,0,    283.3,2,    273.1,0,    10.63,6,    16.61,6,     1.24,6,    2.553,2,    1.199,2,    0.000, 4,    3.916,2,   2151.0,2,   2315.2,3,   2.8609
  18HU19960512, AR07W,    32,  6, 158299,     39,2,19960520,1102, 55.8470, -53.3802,   10,   2228.3,   3.0099,  34.8980,2,  34.8962,0,    279.9,2,    272.7,0,    10.73,3,    15.78,3,     1.18,3,    2.123,6,    1.029,6,    0.248, 6,    3.464,6,   2151.0,2,   2311.1,3,   2.8361
  18HU19960512, AR07W,    32,  6, 158298,     38,2,19960520,1102, 55.8470, -53.3802,   10,   2411.6,   2.8847,  34.9024,2,  34.9027,0,    280.4,2,    285.5,2,    11.15,6,    15.97,6,     1.19,6,    1.960,2,    1.129,2,    0.180, 2,    3.299,2,   2151.8,2,   2293.3,2,   2.6956
  18HU19960512, AR07W,    32,  6, 158297,     37,2,19960520,1102, 55.8470, -53.3802,   10,   2575.2,   2.7162,  34.9039,2,  34.9049,0,    281.3,2,    284.8,2,    10.62,3,    14.31,3,     1.12,3,    1.916,2,    0.948,2,    0.191, 2,    3.692,2,   2152.5,2,   2288.9,2,   2.5143
  18HU19960512, AR07W,    32,  6, 158296,     57,2,19960520,1102, 55.8470, -53.3802,   10,   2712.5,   2.5316,  34.8977,2,  34.8975,0,    282.7,2,    280.9,0,    11.19,6,    14.88,6,     1.18,6,    2.162,2,    1.284,2,    0.000, 4,    3.444,2,   2151.8,2,   2295.3,2,   2.3199
  18HU19960512, AR07W,    32,  6, 158295,     35,2,19960520,1102, 55.8470, -53.3802,   10,   2840.2,   2.2746,  34.8879,2,  34.8880,0,    285.5,2,    280.9,2,    11.65,6,    15.30,6,     1.19,6,    2.389,2,    1.397,2,    0.199, 2,    4.236,2,   2151.5,2,   2269.2,4,   2.0556
  18HU19960512, AR07W,    32,  6, 158294,     34,2,19960520,1102, 55.8470, -53.3802,   10,   2962.6,   1.9436,  34.8785,2,  34.8791,0,    288.4,2,    285.8,2,    10.81,6,    14.52,6,     1.11,6,    2.698,2,    1.329,2,    0.234, 2,    4.280,2,   2151.9,2,   2304.2,4,   1.7197
  18HU19960512, AR07W,    32,  6, 158293,     32,2,19960520,1102, 55.8470, -53.3802,   10,   3042.5,   1.7223,  34.8716,2,  34.8723,0,    290.9,2,    297.9,2,     9.84,6,    13.75,3,     1.07,2,    3.011,2,    1.508,2,    0.000, 4,    4.379,2,   2152.0,2,   2275.6,3,   1.4955
  18HU19960512, AR07W,    32,  6, 158292,     31,2,19960520,1102, 55.8470, -53.3802,   10,   3104.3,   1.5940,  34.8683,2,  34.8669,0,    293.0,2,    302.7,2,     9.90,3,    13.62,3,     1.06,3,    3.084,2,    1.626,2,    0.000, 4,    4.684,2,   2151.6,2,   2292.7,2,   1.3640
  18HU19960512, AR07W,    32,  6, 158291,     33,2,19960520,1102, 55.8470, -53.3802,   10,   3155.3,   1.4340,  34.8664,2,  34.8693,0,    296.1,2,    303.6,2,    10.86,6,    14.59,6,     1.12,6,    3.218,2,    1.549,2,    0.275, 2,    4.981,2,   2154.7,2,   2286.2,2,   1.2027