BOTTLE,20150204PRINUNIVRMK
EXPOCODE,SECT_ID,STNNBR,CASTNO,SAMPNO,BTLNBR,BTLNBR_FLAG_W,DATE,TIME,LATITUDE,LONGITUDE,DEPTH,CTDPRS,CTDTMP,CTDSAL,CTDSAL_FLAG_W,SALNTY,SALNTY_FLAG_W,CTDOXY,CTDOXY_FLAG_W,OXYGEN,OXYGEN_FLAG_W,SILCAT,SILCAT_FLAG_W,NITRAT,NITRAT_FLAG_W,PHSPHT,PHSPHT_FLAG_W,CFC-11,CFC-11_FLAG_W,CFC-12,CFC-12_FLAG_W,CFC113,CFC113_FLAG_W,CCL4,CCL4_FLAG_W,TCARBN,TCARBN_FLAG_W,ALKALI,ALKALI_FLAG_W,THETA
,,,,,,,,,,,METERS,DBAR,ITS-90,PSS-78,,PSS-78,,UMOL/KG,,UMOL/KG,,UMOL/KG,,UMOL/KG,,UMOL/KG,,PMOL/KG,,PMOL/KG,,PMOL/KG,,PMOL/KG,,UMOL/KG,,UMOL/KG,,DEG C
  18HU19960512, AR07W,    33,  4, 158336,     53,2,19960520,1734, 56.1238, -53.1405,    3,     10.1,   3.0027,  34.2411,2,  34.2474,2,    313.6,2,    328.3,2,     7.09,3,     9.10,6,     0.81,6,    5.114,2,    2.467,2,    0.375, 2,    7.767,2,   2092.1,2,   2260.7,2,   3.0021
  18HU19960512, AR07W,    33,  4, 158335,     70,2,19960520,1734, 56.1238, -53.1405,    3,     60.7,   2.8208,  34.6920,2,  34.6949,2,    296.6,2,    275.0,2,     8.60,6,    14.82,6,     1.12,6,    4.419,2,    2.092,2,    0.320, 2,    6.366,2,   2140.3,2,   2284.1,2,   2.8172
  18HU19960512, AR07W,    33,  4, 158334,     51,2,19960520,1734, 56.1238, -53.1405,    3,    121.2,   3.0896,  34.7745,2,  34.7736,2,    294.0,2,    286.4,2,     7.64,3,    13.42,3,     1.03,3,    4.238,2,    2.029,2,    0.319, 2,    6.033,2,   2143.0,2,   2295.2,2,   3.0821
  18HU19960512, AR07W,    33,  4, 158333,     50,2,19960520,1734, 56.1238, -53.1405,    3,    201.2,   3.0631,  34.8003,2,  34.8000,2,    293.2,2,    302.7,2,    11.11,3,    15.68,6,     1.16,6,    4.183,2,    1.989,2,    0.315, 2,    5.963,2,   2145.7,2,   2285.8,2,   3.0505
  18HU19960512, AR07W,    33,  4, 158332,     68,2,19960520,1734, 56.1238, -53.1405,    3,    311.4,   3.0322,  34.8168,2,  34.8169,2,    290.2,2,    285.8,2,     8.74,6,    14.86,6,     1.12,6,    3.924,2,    1.876,2,    0.284, 2,    5.656,2,   2148.3,2,   2268.6,2,   3.0125
  18HU19960512, AR07W,    33,  4, 158331,     48,2,19960520,1734, 56.1238, -53.1405,    3,    433.7,   3.1208,  34.8434,2,  34.8315,2,    287.0,2,    284.9,2,     7.64,3,    12.79,3,     1.01,3,    3.750,2,    1.762,2,    0.243, 2,    5.278,2,   2150.1,2,   2287.7,2,   3.0926
  18HU19960512, AR07W,    33,  4, 158330,     47,2,19960520,1734, 56.1238, -53.1405,    3,    583.1,   2.8754,  34.8197,2,  34.8205,2,    291.8,2,    300.4,2,     9.29,6,    15.83,6,     1.15,6,    3.855,2,    1.808,2,    0.238, 2,    5.538,2,   2148.4,3,   2290.6,2,   2.8380
  18HU19960512, AR07W,    33,  4, 158329,     46,2,19960520,1734, 56.1238, -53.1405,    3,    760.0,   2.9568,  34.8385,2,  34.8382,2,    289.2,2,    295.6,2,    17.07,4,    16.53,6,     1.22,6,    3.594,6,    1.668,6,    0.232, 6,    5.160,6,   2150.9,2,   2290.2,2,   2.9064
  18HU19960512, AR07W,    33,  4, 158328,     45,2,19960520,1734, 56.1238, -53.1405,    3,    946.6,   2.9537,  34.8436,2,  34.8435,2,    288.8,2,    297.5,2,    10.30,6,    16.80,6,     1.25,6,    3.560,2,    1.639,2,    0.222, 2,    5.182,2,   2150.2,2,   2287.0,2,   2.8896
  18HU19960512, AR07W,    33,  4, 158327,     44,2,19960520,1734, 56.1238, -53.1405,    3,   1178.4,   2.9070,  34.8424,2,  34.8419,2,    288.9,2,    285.5,2,     9.90,3,    15.05,3,     1.09,3,    3.622,2,    1.679,2,    0.171, 2,    5.200,2,   2150.3,2,   2308.2,3,   2.8255
  18HU19960512, AR07W,    33,  4, 158326,     43,2,19960520,1734, 56.1238, -53.1405,    3,   1400.3,   2.8794,  34.8421,2,  34.8420,2,    289.0,2,    287.4,2,     9.20,3,    15.86,3,     1.19,3,    3.513,2,    1.605,2,    0.189, 2,    5.036,2,   2149.3,2,   2287.2,2,   2.7805
  18HU19960512, AR07W,    33,  4, 158325,     42,2,19960520,1734, 56.1238, -53.1405,    3,   1635.8,   2.8448,  34.8377,2,  34.8375,2,    289.5,2,    287.6,2,     8.57,3,    14.92,3,     1.12,3,    3.625,2,    1.817,2,    0.207, 2,    5.314,2,   2149.2,2,   -999.0,5,   2.7267
  18HU19960512, AR07W,    33,  4, 158324,     41,2,19960520,1734, 56.1238, -53.1405,    3,   1878.4,   2.8619,  34.8413,2,  34.8415,2,    288.8,2,    299.7,2,     9.14,6,    16.05,6,     1.16,6,    3.543,2,    1.748,2,    0.223, 2,    5.131,2,   2148.9,2,   -999.0,5,   2.7226
  18HU19960512, AR07W,    33,  4, 158323,     40,2,19960520,1734, 56.1238, -53.1405,    3,   2093.6,   2.9938,  34.8699,2,  34.8699,2,    283.7,2,    286.4,2,    10.74,6,    14.45,3,     1.10,6,    2.850,2,    1.309,2,    0.155, 2,    4.266,2,   2150.1,2,   2312.4,3,   2.8330
  18HU19960512, AR07W,    33,  4, 158322,     39,2,19960520,1734, 56.1238, -53.1405,    3,   2316.8,   3.0493,  34.9024,2,  34.9021,2,    279.3,2,    282.4,2,    10.23,3,    15.17,3,     1.14,3,    2.083,2,    0.780,2,    0.000, 5,    3.241,2,   2150.7,2,   2297.9,2,   2.8664
  18HU19960512, AR07W,    33,  4, 158321,     38,2,19960520,1734, 56.1238, -53.1405,    3,   2515.5,   2.9423,  34.9077,2,  34.9076,2,    279.1,2,    266.4,0,    10.02,3,    14.23,3,     1.10,3,    1.992,2,    0.934,2,    0.000, 5,    3.107,2,   2152.3,2,   2294.3,2,   2.7420
  18HU19960512, AR07W,    33,  4, 158320,     37,2,19960520,1734, 56.1238, -53.1405,    3,   2695.3,   2.7846,  34.9090,2,  34.9090,2,    279.5,2,    281.2,2,    11.99,6,    16.11,6,     1.22,6,    1.928,2,    0.892,2,    0.000, 5,    3.044,2,   2152.6,2,   2293.2,2,   2.5695
  18HU19960512, AR07W,    33,  4, 158319,     57,2,19960520,1734, 56.1238, -53.1405,    3,   2857.9,   2.6359,  34.9114,2,  34.9104,2,    280.1,2,    245.2,0,    12.11,6,    15.16,6,     1.16,6,    1.821,2,    0.653,2,    0.000, 5,    2.935,2,   2154.1,2,   2306.8,3,   2.4076
  18HU19960512, AR07W,    33,  4, 158318,     35,2,19960520,1734, 56.1238, -53.1405,    3,   2998.6,   2.4051,  34.9006,2,  34.9003,2,    282.5,2,    280.5,0,    11.76,6,    15.30,6,     1.15,6,    2.089,2,    0.885,2,    0.000, 5,    3.299,2,   2151.9,2,   2341.6,3,   2.1675
  18HU19960512, AR07W,    33,  4, 158317,     34,2,19960520,1734, 56.1238, -53.1405,    3,   3121.3,   2.1723,  34.8911,2,  34.8911,2,    285.2,2,    289.6,2,    11.69,6,    15.13,6,     1.13,6,    2.391,2,    1.132,2,    0.131, 2,    3.622,2,   2151.9,2,   2290.5,2,   1.9275
  18HU19960512, AR07W,    33,  4, 158316,     32,2,19960520,1734, 56.1238, -53.1405,    3,   3218.0,   1.8755,  34.8779,2,  34.8773,0,    289.3,2,    295.6,2,    10.88,6,    14.93,6,     1.15,6,    2.891,2,    1.261,2,    0.166, 2,    4.272,2,   2150.3,2,   2289.2,2,   1.6278
  18HU19960512, AR07W,    33,  4, 158315,     31,2,19960520,1734, 56.1238, -53.1405,    3,   3305.3,   1.6436,  34.8708,2,  34.8719,2,    292.4,2,    286.4,2,    10.18,6,    13.89,6,     1.06,6,    3.242,2,    1.583,2,    0.200, 2,    4.648,2,   2151.6,2,   2276.3,3,   1.3926
  18HU19960512, AR07W,    33,  4, 158314,     33,2,19960520,1734, 56.1238, -53.1405,    3,   3381.1,   1.5671,  34.8691,2,  34.8688,2,    295.1,2,    299.5,2,    11.20,6,    12.85,6,     1.00,6,    3.330,2,    1.563,2,    0.203, 2,    4.789,2,   2152.1,2,   2291.5,6,   1.3103
  18HU19960512, AR07W,    34,  4, 158359,     53,2,19960521,0124, 56.5360, -52.6928,    9,      9.8,   3.0477,  34.4783,2,  34.4772,2,    309.8,2,    331.7,2,     5.30,6,     8.69,6,     0.80,6,    4.843,2,    2.381,2,    0.377, 2,    7.993,2,   2113.4,2,   2295.2,2,   3.0471
  18HU19960512, AR07W,    34,  4, 158358,     70,2,19960521,0124, 56.5360, -52.6928,    9,     60.0,   2.6821,  34.5759,2,  34.5761,2,    299.1,2,    325.8,2,     6.72,3,    10.84,3,     0.91,3,    4.691,2,    2.269,2,    0.512, 2,    7.397,2,   2130.1,2,   2288.2,2,   2.6786
  18HU19960512, AR07W,    34,  4, 158357,     51,2,19960521,0124, 56.5360, -52.6928,    9,    130.0,   2.9309,  34.7545,2,  34.7533,2,    289.0,2,    300.9,2,     7.91,3,    14.15,3,     1.06,3,    4.016,2,    1.897,2,    0.421, 2,    5.784,2,   2145.2,2,   2296.2,2,   2.9230
  18HU19960512, AR07W,    34,  4, 158356,     50,2,19960521,0124, 56.5360, -52.6928,    9,    221.5,   2.5518,  34.7340,2,  34.7332,2,    293.1,2,    309.1,2,     8.85,6,    15.98,6,     1.15,6,    4.184,2,    2.191,2,    0.429, 2,    6.316,2,   2144.2,2,   2235.0,4,   2.5388
  18HU19960512, AR07W,    34,  4, 158355,     68,2,19960521,0124, 56.5360, -52.6928,    9,    340.7,   2.6892,  34.7687,2,  34.7684,2,    290.9,2,    303.9,2,     9.03,6,    16.25,6,     1.15,6,    3.921,2,    1.768,2,    0.278, 2,    5.881,2,   2146.4,2,   -999.0,5,   2.6685
  18HU19960512, AR07W,    34,  4, 158354,     48,2,19960521,0124, 56.5360, -52.6928,    9,    500.9,   2.7364,  34.7899,2,  34.7894,2,    291.5,2,    303.4,2,     9.18,6,    16.13,6,     1.14,6,    4.016,6,    2.082,6,    0.333, 6,    6.003,6,   2146.7,2,   2301.7,2,   2.7052
  18HU19960512, AR07W,    34,  4, 158353,     47,2,19960521,0124, 56.5360, -52.6928,    9,    680.0,   2.8840,  34.8173,2,  34.8172,2,    289.3,2,    300.4,2,     9.55,6,    16.40,6,     1.19,6,    3.740,2,    1.833,2,    0.370, 2,    5.379,2,   2148.6,2,   2293.4,2,   2.8398
  18HU19960512, AR07W,    34,  4, 158352,     46,2,19960521,0124, 56.5360, -52.6928,    9,    879.5,   2.9742,  34.8366,2,  34.8364,2,    288.3,2,    297.8,2,     9.77,3,    16.41,3,     1.17,3,    3.552,2,    1.727,2,    0.340, 2,    5.252,2,   2150.2,2,   2293.1,2,   2.9150
  18HU19960512, AR07W,    34,  4, 158351,     45,2,19960521,0124, 56.5360, -52.6928,    9,   1098.2,   2.9446,  34.8409,2,  34.8405,2,    289.0,2,    297.9,2,     9.97,6,    16.87,6,     1.20,6,    3.521,2,    2.025,2,    0.221, 2,    5.633,2,   2150.2,2,   2288.9,2,   2.8690
  18HU19960512, AR07W,    34,  4, 158350,     44,2,19960521,0124, 56.5360, -52.6928,    9,   1322.2,   2.9046,  34.8399,2,  34.8396,2,    290.1,2,    299.5,2,    10.01,6,    16.79,6,     1.20,6,    3.492,2,    1.834,2,    0.359, 2,    5.164,2,   2147.7,2,   2284.2,2,   2.8117
  18HU19960512, AR07W,    34,  4, 158349,     43,2,19960521,0124, 56.5360, -52.6928,    9,   1561.2,   2.8757,  34.8379,2,  34.8382,2,    288.4,2,    300.9,2,     9.96,6,    16.61,6,     1.18,6,    3.564,2,    1.804,2,    0.335, 2,    5.210,2,   2145.6,2,   -999.0,5,   2.7635
  18HU19960512, AR07W,    34,  4, 158348,     42,2,19960521,0124, 56.5360, -52.6928,    9,   1797.1,   2.8600,  34.8363,2,  34.8361,2,    288.4,2,    292.5,2,     9.69,3,    16.37,3,     1.17,3,    3.398,2,    1.554,2,    0.229, 2,    5.108,2,   2144.9,2,   2284.0,2,   2.7278
  18HU19960512, AR07W,    34,  4, 158347,     41,2,19960521,0124, 56.5360, -52.6928,    9,   2041.1,   2.8715,  34.8384,2,  34.8382,2,    288.4,2,    301.6,2,     9.84,6,    16.61,6,     1.18,6,    3.448,2,    1.402,2,    0.338, 2,    5.055,2,   2146.6,2,   2286.2,2,   2.7175
  18HU19960512, AR07W,    34,  4, 158346,     40,2,19960521,0124, 56.5360, -52.6928,    9,   2281.3,   2.9131,  34.8455,2,  34.8455,2,    287.6,2,    299.6,2,    10.11,6,    16.77,6,     1.20,6,    3.268,2,    1.486,2,    0.318, 2,    4.959,2,   2145.9,2,   2286.0,2,   2.7361
  18HU19960512, AR07W,    34,  4, 158345,     39,2,19960521,0124, 56.5360, -52.6928,    9,   2499.7,   3.0850,  34.8925,2,  34.8916,2,    280.1,2,    338.5,0,    11.39,6,    16.78,6,     1.21,6,    2.138,2,    1.144,2,    0.138, 2,    3.489,2,   2149.0,2,   2291.0,2,   2.8837
  18HU19960512, AR07W,    34,  4, 158344,     38,2,19960521,0124, 56.5360, -52.6928,    9,   2698.8,   3.0198,  34.9085,2,  34.9097,2,    278.0,2,    282.6,2,    11.81,3,    16.11,3,     1.19,3,    1.832,2,    0.694,2,    0.207, 2,    3.016,2,   2148.8,2,   2287.4,2,   2.7998
  18HU19960512, AR07W,    34,  4, 158343,     37,2,19960521,0124, 56.5360, -52.6928,    9,   2876.9,   2.8643,  34.9120,2,  34.9124,2,    278.4,2,    281.9,2,    12.70,6,    16.51,6,     1.26,6,    1.735,2,    0.839,2,    0.180, 2,    2.922,2,   2151.4,2,   2291.4,2,   2.6293
  18HU19960512, AR07W,    34,  4, 158342,     57,2,19960521,0124, 56.5360, -52.6928,    9,   3041.7,   2.6560,  34.9087,2,  34.9090,2,    279.7,2,    283.7,2,    12.38,3,    15.62,3,     1.16,3,    1.748,2,    0.825,2,    0.000, 5,    2.898,2,   2150.1,2,   2293.6,2,   2.4085
  18HU19960512, AR07W,    34,  4, 158341,     35,2,19960521,0124, 56.5360, -52.6928,    9,   3176.2,   2.4528,  34.9039,2,  34.9040,2,    281.2,2,    282.4,2,    13.49,6,    16.32,6,     1.16,6,    1.808,2,    0.891,2,    0.228, 2,    3.076,2,   2150.9,2,   2290.3,2,   2.1959
  18HU19960512, AR07W,    34,  4, 158340,     34,2,19960521,0124, 56.5360, -52.6928,    9,   3300.6,   2.1854,  34.8921,2,  34.8929,0,    284.0,2,    291.1,2,    12.98,6,    15.80,6,     1.15,6,    2.155,2,    0.923,2,    0.251, 2,    3.437,2,   2150.9,2,   2293.3,2,   1.9218
  18HU19960512, AR07W,    34,  4, 158339,     32,2,19960521,0124, 56.5360, -52.6928,    9,   3397.7,   1.8997,  34.8785,2,  34.8784,2,    288.8,2,    332.7,0,    11.38,6,    15.21,6,     1.09,6,    2.666,2,    1.330,2,    0.286, 2,    4.238,2,   2150.4,2,   2284.0,6,   1.6330
  18HU19960512, AR07W,    34,  4, 158338,     31,2,19960521,0124, 56.5360, -52.6928,    9,   3469.7,   1.6898,  34.8697,2,  34.8704,2,    292.5,2,    302.8,2,    10.98,6,    14.77,6,     1.07,6,    3.049,2,    1.506,2,    0.297, 2,    4.669,2,   2147.9,6,   2282.9,2,   1.4209
  18HU19960512, AR07W,    34,  4, 158337,     33,2,19960521,0124, 56.5360, -52.6928,    9,   3534.3,   1.5046,  34.8662,2,  34.8666,2,    295.5,2,    297.5,0,    11.37,6,    14.72,6,     1.09,6,    3.240,2,    1.687,2,    0.190, 2,    5.099,2,   2149.2,2,   2278.8,3,   1.2337
  18HU19960512, AR07W,    35,  1, 158364,     35,2,19960521,0537, 56.7488, -52.4783,    9,      9.8,   3.0500,  34.4700,2,-999.0000,9,    312.6,2,    338.1,2,  -999.00,9,  -999.00,9,  -999.00,9, -999.000,9, -999.000,9, -999.000, 9, -999.000,9,   -999.0,9,   -999.0,9,   3.0494
  18HU19960512, AR07W,    35,  1, 158363,     34,2,19960521,0537, 56.7488, -52.4783,    9,     49.9,   2.7878,  34.5392,2,-999.0000,9,    305.2,2,    326.5,2,  -999.00,9,  -999.00,9,  -999.00,9, -999.000,9, -999.000,9, -999.000, 9, -999.000,9,   -999.0,9,   -999.0,9,   2.7849
  18HU19960512, AR07W,    35,  1, 158362,     32,2,19960521,0537, 56.7488, -52.4783,    9,    100.1,   2.7716,  34.7018,2,-999.0000,9,    296.4,2,    307.9,2,  -999.00,9,  -999.00,9,  -999.00,9, -999.000,9, -999.000,9, -999.000, 9, -999.000,9,   -999.0,9,   -999.0,9,   2.7657
  18HU19960512, AR07W,    35,  1, 158361,     31,2,19960521,0537, 56.7488, -52.4783,    9,    150.9,   3.1771,  34.7821,2,-999.0000,9,    290.8,2,    300.1,2,  -999.00,9,  -999.00,9,  -999.00,9, -999.000,9, -999.000,9, -999.000, 9, -999.000,9,   -999.0,9,   -999.0,9,   3.1676
  18HU19960512, AR07W,    35,  1, 158360,     33,2,19960521,0537, 56.7488, -52.4783,    9,    205.7,   3.0894,  34.7915,2,-999.0000,9,    291.5,2,    300.8,0,  -999.00,9,  -999.00,9,  -999.00,9, -999.000,9, -999.000,9, -999.000, 9, -999.000,9,   -999.0,9,   -999.0,9,   3.0765