BOTTLE,20150204PRINUNIVRMK
# 3/17/99 Initialized README file  
# Data source:CCHDO, 12/22/09 
# SHIP: Hudson 
# Cruise: AR07Wf; 18HU96006_1 
# Region: 64 - 48W; 42-60N 
# EXPOCODE: 18HU19960512 
# DATES: 5/12 - 6/1/1996 
# 45 stations with 24 place Rosette 
# Chief Scientist - J. Lazier 
# Hydro: Who - J. Lazier; Status - final  
# 	Notes: 	Additional deep bottle salt QC 2/4/2015 R.M.Key 
# Nuts/O2: Who - P. Strain/P.Jones; Status - final  
# 	Notes: 
# TCO2: Who - P. Jones; Status - final  
# 	Notes:  
# TA: Who - P. Jones; Status - final 
# 	Notes:  
# CFC: Who - P. Jones; Status - final  
# 	Notes: Includes CCl4 and CFC-113 
# H-3/He-3: Who -  Schlosser; Status -  unknown   
# 	Notes: No data in file 
# Other: Oxygen isotopes, R. Houghton 
# References: 
EXPOCODE,SECT_ID,STNNBR,CASTNO,SAMPNO,BTLNBR,BTLNBR_FLAG_W,DATE,TIME,LATITUDE,LONGITUDE,DEPTH,CTDPRS,CTDTMP,CTDSAL,CTDSAL_FLAG_W,SALNTY,SALNTY_FLAG_W,CTDOXY,CTDOXY_FLAG_W,OXYGEN,OXYGEN_FLAG_W,SILCAT,SILCAT_FLAG_W,NITRAT,NITRAT_FLAG_W,PHSPHT,PHSPHT_FLAG_W,CFC-11,CFC-11_FLAG_W,CFC-12,CFC-12_FLAG_W,CFC113,CFC113_FLAG_W,CCL4,CCL4_FLAG_W,TCARBN,TCARBN_FLAG_W,ALKALI,ALKALI_FLAG_W,THETA
,,,,,,,,,,,METERS,DBAR,ITS-90,PSS-78,,PSS-78,,UMOL/KG,,UMOL/KG,,UMOL/KG,,UMOL/KG,,UMOL/KG,,PMOL/KG,,PMOL/KG,,PMOL/KG,,PMOL/KG,,UMOL/KG,,UMOL/KG,,DEG C
  18HU19960512, AR07W,     1,  1, 157986,     39,2,19960512,2002, 44.6902, -63.6342,   10,     47.7,   1.3878,  30.9858,2,-999.0000,9,    293.8,2,   -999.0,9,  -999.00,9,  -999.00,9,  -999.00,9, -999.000,9, -999.000,9, -999.000, 9, -999.000,9,   -999.0,9,   -999.0,9,   1.3859
  18HU19960512, AR07W,     1,  1, 157989,     42,2,19960512,2002, 44.6902, -63.6342,   10,     47.7,   1.3874,  30.9863,2,-999.0000,9,    290.9,2,   -999.0,9,  -999.00,9,  -999.00,9,  -999.00,9, -999.000,9, -999.000,9, -999.000, 9, -999.000,9,   -999.0,9,   -999.0,9,   1.3855
  18HU19960512, AR07W,     1,  1, 157990,     43,2,19960512,2002, 44.6902, -63.6342,   10,     47.7,   1.3885,  30.9863,2,-999.0000,9,    290.2,2,   -999.0,9,  -999.00,9,  -999.00,9,  -999.00,9, -999.000,9, -999.000,9, -999.000, 9, -999.000,9,   -999.0,9,   -999.0,9,   1.3866
  18HU19960512, AR07W,     1,  1, 157991,     44,2,19960512,2002, 44.6902, -63.6342,   10,     47.7,   1.3889,  30.9881,2,-999.0000,9,    290.2,2,   -999.0,9,  -999.00,9,  -999.00,9,  -999.00,9, -999.000,9, -999.000,9, -999.000, 9, -999.000,9,   -999.0,9,   -999.0,9,   1.3870
  18HU19960512, AR07W,     1,  1, 157993,     46,2,19960512,2002, 44.6902, -63.6342,   10,     47.7,   1.3887,  30.9883,2,-999.0000,9,    288.0,2,   -999.0,9,  -999.00,9,  -999.00,9,  -999.00,9, -999.000,9, -999.000,9, -999.000, 9, -999.000,9,   -999.0,9,   -999.0,9,   1.3868
  18HU19960512, AR07W,     1,  1, 157994,     47,2,19960512,2002, 44.6902, -63.6342,   10,     47.7,   1.3911,  30.9914,2,-999.0000,9,    287.1,2,   -999.0,9,  -999.00,9,  -999.00,9,  -999.00,9, -999.000,9, -999.000,9, -999.000, 9, -999.000,9,   -999.0,9,   -999.0,9,   1.3892
  18HU19960512, AR07W,     1,  1, 157995,     48,2,19960512,2002, 44.6902, -63.6342,   10,     47.7,   1.3917,  30.9920,2,-999.0000,9,    286.5,2,   -999.0,9,  -999.00,9,  -999.00,9,  -999.00,9, -999.000,9, -999.000,9, -999.000, 9, -999.000,9,   -999.0,9,   -999.0,9,   1.3898
  18HU19960512, AR07W,     1,  1, 157996,     68,2,19960512,2002, 44.6902, -63.6342,   10,     47.7,   1.3917,  30.9922,2,-999.0000,9,    285.6,2,   -999.0,9,  -999.00,9,  -999.00,9,  -999.00,9, -999.000,9, -999.000,9, -999.000, 9, -999.000,9,   -999.0,9,   -999.0,9,   1.3898
  18HU19960512, AR07W,     1,  1, 157997,     50,2,19960512,2002, 44.6902, -63.6342,   10,     47.7,   1.3920,  30.9923,2,-999.0000,9,    285.5,2,   -999.0,9,  -999.00,9,  -999.00,9,  -999.00,9, -999.000,9, -999.000,9, -999.000, 9, -999.000,9,   -999.0,9,   -999.0,9,   1.3901
  18HU19960512, AR07W,     1,  1, 157998,     51,2,19960512,2002, 44.6902, -63.6342,   10,     47.7,   1.3912,  30.9919,2,-999.0000,9,    284.9,2,   -999.0,9,  -999.00,9,  -999.00,9,  -999.00,9, -999.000,9, -999.000,9, -999.000, 9, -999.000,9,   -999.0,9,   -999.0,9,   1.3893
  18HU19960512, AR07W,     1,  1, 157981,     34,2,19960512,2002, 44.6902, -63.6342,   10,     47.8,   1.3915,  30.9883,2,-999.0000,9,    298.6,2,   -999.0,9,  -999.00,9,  -999.00,9,  -999.00,9, -999.000,9, -999.000,9, -999.000, 9, -999.000,9,   -999.0,9,   -999.0,9,   1.3896
  18HU19960512, AR07W,     1,  1, 157982,     35,2,19960512,2002, 44.6902, -63.6342,   10,     47.8,   1.3966,  30.9908,2,-999.0000,9,    297.8,2,   -999.0,9,  -999.00,9,  -999.00,9,  -999.00,9, -999.000,9, -999.000,9, -999.000, 9, -999.000,9,   -999.0,9,   -999.0,9,   1.3947
  18HU19960512, AR07W,     1,  1, 157983,     36,2,19960512,2002, 44.6902, -63.6342,   10,     47.8,   1.3874,  30.9845,2,-999.0000,9,    297.4,2,   -999.0,9,  -999.00,9,  -999.00,9,  -999.00,9, -999.000,9, -999.000,9, -999.000, 9, -999.000,9,   -999.0,9,   -999.0,9,   1.3855
  18HU19960512, AR07W,     1,  1, 157984,     37,2,19960512,2002, 44.6902, -63.6342,   10,     47.8,   1.3873,  30.9848,2,-999.0000,9,    296.4,2,   -999.0,9,  -999.00,9,  -999.00,9,  -999.00,9, -999.000,9, -999.000,9, -999.000, 9, -999.000,9,   -999.0,9,   -999.0,9,   1.3854
  18HU19960512, AR07W,     1,  1, 157985,     38,2,19960512,2002, 44.6902, -63.6342,   10,     47.8,   1.3878,  30.9850,2,-999.0000,9,    294.8,2,   -999.0,9,  -999.00,9,  -999.00,9,  -999.00,9, -999.000,9, -999.000,9, -999.000, 9, -999.000,9,   -999.0,9,   -999.0,9,   1.3859
  18HU19960512, AR07W,     1,  1, 157987,     40,2,19960512,2002, 44.6902, -63.6342,   10,     47.8,   1.3883,  30.9869,2,-999.0000,9,    292.3,2,   -999.0,9,  -999.00,9,  -999.00,9,  -999.00,9, -999.000,9, -999.000,9, -999.000, 9, -999.000,9,   -999.0,9,   -999.0,9,   1.3864
  18HU19960512, AR07W,     1,  1, 157988,     41,2,19960512,2002, 44.6902, -63.6342,   10,     47.8,   1.3874,  30.9861,2,-999.0000,9,    291.8,2,   -999.0,9,  -999.00,9,  -999.00,9,  -999.00,9, -999.000,9, -999.000,9, -999.000, 9, -999.000,9,   -999.0,9,   -999.0,9,   1.3855
  18HU19960512, AR07W,     1,  1, 157992,     45,2,19960512,2002, 44.6902, -63.6342,   10,     47.8,   1.3907,  30.9909,2,-999.0000,9,    288.5,2,   -999.0,9,  -999.00,9,  -999.00,9,  -999.00,9, -999.000,9, -999.000,9, -999.000, 9, -999.000,9,   -999.0,9,   -999.0,9,   1.3888
  18HU19960512, AR07W,     1,  1, 157978,     33,2,19960512,2002, 44.6902, -63.6342,   10,     58.3,   1.4149,  31.0147,2,-999.0000,9,    308.9,2,   -999.0,9,  -999.00,9,  -999.00,9,  -999.00,9, -999.000,9, -999.000,9, -999.000, 9, -999.000,9,   -999.0,9,   -999.0,9,   1.4125
  18HU19960512, AR07W,     1,  1, 157979,     31,2,19960512,2002, 44.6902, -63.6342,   10,     58.3,   1.4156,  31.0158,2,-999.0000,9,    302.6,2,   -999.0,9,  -999.00,9,  -999.00,9,  -999.00,9, -999.000,9, -999.000,9, -999.000, 9, -999.000,9,   -999.0,9,   -999.0,9,   1.4132
  18HU19960512, AR07W,     1,  1, 157980,     32,2,19960512,2002, 44.6902, -63.6342,   10,     58.3,   1.4154,  31.0170,2,-999.0000,9,    299.1,2,   -999.0,9,  -999.00,9,  -999.00,9,  -999.00,9, -999.000,9, -999.000,9, -999.000, 9, -999.000,9,   -999.0,9,   -999.0,9,   1.4130
  18HU19960512, AR07W,     2,  1, 158009,     39,2,19960512,2322, 44.4002, -63.4635,    5,      4.3,   3.3678,  31.0150,2,  31.0145,2,    319.7,2,    353.6,0,     0.82,6,     0.17,6,     0.52,6, -999.000,9, -999.000,9, -999.000, 9, -999.000,9,   -999.0,9,   -999.0,9,   3.3676
  18HU19960512, AR07W,     2,  1, 158008,     38,2,19960512,2322, 44.4002, -63.4635,    5,      9.6,   3.3603,  31.0166,2,  31.0158,2,    318.4,2,    357.2,0,     0.80,6,     0.19,6,     0.51,6, -999.000,9, -999.000,9, -999.000, 9, -999.000,9,   -999.0,9,   -999.0,9,   3.3598
  18HU19960512, AR07W,     2,  1, 158007,     37,2,19960512,2322, 44.4002, -63.4635,    5,     19.8,   1.4384,  31.3481,2,  31.2770,2,    327.5,2,    361.2,0,     0.61,6,     0.31,6,     0.52,6, -999.000,9, -999.000,9, -999.000, 9, -999.000,9,   -999.0,9,   -999.0,9,   1.4376
  18HU19960512, AR07W,     2,  1, 158006,     36,2,19960512,2322, 44.4002, -63.4635,    5,     29.6,   1.1759,  31.4792,2,  31.4770,2,    326.1,2,    358.0,0,     0.78,6,     0.66,6,     0.59,6, -999.000,9, -999.000,9, -999.000, 9, -999.000,9,   -999.0,9,   -999.0,9,   1.1747
  18HU19960512, AR07W,     2,  1, 158005,     35,2,19960512,2322, 44.4002, -63.4635,    5,     40.5,   1.5206,  31.6369,2,  31.6248,2,    322.0,2,    349.6,0,     0.88,6,     0.73,6,     0.61,6, -999.000,9, -999.000,9, -999.000, 9, -999.000,9,   -999.0,9,   -999.0,9,   1.5189
  18HU19960512, AR07W,     2,  1, 158004,     34,2,19960512,2322, 44.4002, -63.4635,    5,     49.4,   1.8193,  31.7469,2,  31.7367,2,    320.0,2,    345.0,0,     0.99,6,     0.74,6,     0.63,6, -999.000,9, -999.000,9, -999.000, 9, -999.000,9,   -999.0,9,   -999.0,9,   1.8170
  18HU19960512, AR07W,     2,  1, 158003,     32,2,19960512,2322, 44.4002, -63.4635,    5,     58.3,   1.9331,  31.8079,2,  31.8098,2,    319.2,2,    336.4,0,     1.46,6,     0.90,6,     0.66,6, -999.000,9, -999.000,9, -999.000, 9, -999.000,9,   -999.0,9,   -999.0,9,   1.9304
  18HU19960512, AR07W,     2,  1, 158002,     31,2,19960512,2322, 44.4002, -63.4635,    5,     67.7,   2.0277,  31.8568,2,  31.8576,2,    319.7,2,   -999.0,9,     1.97,6,     1.12,6,     0.71,6, -999.000,9, -999.000,9, -999.000, 9, -999.000,9,   -999.0,9,   -999.0,9,   2.0245
  18HU19960512, AR07W,     2,  1, 158001,     33,2,19960512,2322, 44.4002, -63.4635,    5,     79.5,   2.1132,  31.8705,2,  31.8738,2,    323.3,2,    327.3,0,     2.33,6,     1.20,6,     0.75,6, -999.000,9, -999.000,9, -999.000, 9, -999.000,9,   -999.0,9,   -999.0,9,   2.1093
  18HU19960512, AR07W,     3,  3, 158025,     46,2,19960513,0254, 44.2753, -63.3192,  181,      4.6,   3.3908,  30.9624,2,  30.9637,2,    317.1,2,    356.8,0,     0.40,6,     0.00,6,     0.38,6, -999.000,9, -999.000,9, -999.000, 9, -999.000,9,   -999.0,9,   -999.0,9,   3.3905
  18HU19960512, AR07W,     3,  3, 158024,     45,2,19960513,0254, 44.2753, -63.3192,  181,     10.6,   3.3933,  30.9614,2,  30.9637,2,    315.7,2,    357.7,0,     0.33,6,     0.00,6,     0.36,6, -999.000,9, -999.000,9, -999.000, 9, -999.000,9,   -999.0,9,   -999.0,9,   3.3927
  18HU19960512, AR07W,     3,  3, 158023,     44,2,19960513,0254, 44.2753, -63.3192,  181,     20.1,   3.3435,  30.9854,2,  30.9752,2,    313.4,2,    356.7,0,     0.34,6,     0.00,6,     0.38,6, -999.000,9, -999.000,9, -999.000, 9, -999.000,9,   -999.0,9,   -999.0,9,   3.3424
  18HU19960512, AR07W,     3,  3, 158022,     43,2,19960513,0254, 44.2753, -63.3192,  181,     29.2,   1.6815,  31.3648,2,  31.3676,2,    317.0,2,    358.0,0,     0.51,6,     0.20,6,     0.49,6, -999.000,9, -999.000,9, -999.000, 9, -999.000,9,   -999.0,9,   -999.0,9,   1.6802
  18HU19960512, AR07W,     3,  3, 158021,     42,2,19960513,0254, 44.2753, -63.3192,  181,     39.9,   1.3309,  31.6546,2,  31.6520,2,    315.0,2,    346.8,0,     1.03,6,     0.83,6,     0.55,6, -999.000,9, -999.000,9, -999.000, 9, -999.000,9,   -999.0,9,   -999.0,9,   1.3293
  18HU19960512, AR07W,     3,  3, 158020,     41,2,19960513,0254, 44.2753, -63.3192,  181,     50.2,   1.8683,  31.7806,2,  31.7972,2,    311.2,2,    344.9,0,     0.78,6,     0.30,6,     0.54,6, -999.000,9, -999.000,9, -999.000, 9, -999.000,9,   -999.0,9,   -999.0,9,   1.8660
  18HU19960512, AR07W,     3,  3, 158019,     40,2,19960513,0254, 44.2753, -63.3192,  181,     59.7,   1.6974,  31.8273,2,  31.8316,2,    308.8,2,    339.8,0,     1.29,6,     0.82,6,     0.61,6, -999.000,9, -999.000,9, -999.000, 9, -999.000,9,   -999.0,9,   -999.0,9,   1.6947
  18HU19960512, AR07W,     3,  3, 158018,     39,2,19960513,0254, 44.2753, -63.3192,  181,     68.8,   1.4910,  31.9168,2,  31.9324,2,    303.7,2,   -999.0,9,     3.03,6,     2.92,6,     0.75,6, -999.000,9, -999.000,9, -999.000, 9, -999.000,9,   -999.0,9,   -999.0,9,   1.4880
  18HU19960512, AR07W,     3,  3, 158017,     38,2,19960513,0254, 44.2753, -63.3192,  181,     80.4,   1.6063,  32.0752,2,  32.0904,2,    299.4,2,    312.7,0,     4.30,6,     4.17,6,     0.80,6, -999.000,9, -999.000,9, -999.000, 9, -999.000,9,   -999.0,9,   -999.0,9,   1.6027
  18HU19960512, AR07W,     3,  3, 158016,     37,2,19960513,0254, 44.2753, -63.3192,  181,     89.4,   1.7975,  32.1338,2,  32.1435,2,    298.6,2,   -999.0,9,     4.63,6,     4.62,6,     0.90,6, -999.000,9, -999.000,9, -999.000, 9, -999.000,9,   -999.0,9,   -999.0,9,   1.7933
  18HU19960512, AR07W,     3,  3, 158015,     36,2,19960513,0254, 44.2753, -63.3192,  181,    100.9,   2.2234,  32.2485,2,  32.2341,2,    296.2,2,    305.7,0,     4.91,6,     4.70,6,     0.81,6, -999.000,9, -999.000,9, -999.000, 9, -999.000,9,   -999.0,9,   -999.0,9,   2.2183
  18HU19960512, AR07W,     3,  3, 158014,     35,2,19960513,0254, 44.2753, -63.3192,  181,    110.4,   2.4799,  32.3268,2,  32.3425,2,    293.6,2,   -999.0,9,     5.31,6,     4.89,6,     0.88,6, -999.000,9, -999.000,9, -999.000, 9, -999.000,9,   -999.0,9,   -999.0,9,   2.4741
  18HU19960512, AR07W,     3,  3, 158013,     34,2,19960513,0254, 44.2753, -63.3192,  181,    120.8,   2.6777,  32.4865,2,  32.5582,2,    287.4,2,    294.7,0,     6.65,6,     6.56,6,     1.02,6, -999.000,9, -999.000,9, -999.000, 9, -999.000,9,   -999.0,9,   -999.0,9,   2.6711
  18HU19960512, AR07W,     3,  3, 158012,     32,2,19960513,0254, 44.2753, -63.3192,  181,    131.2,   5.0819,  33.2534,2,  33.4108,2,    253.2,2,   -999.0,9,     9.51,6,    10.25,6,     1.11,6, -999.000,9, -999.000,9, -999.000, 9, -999.000,9,   -999.0,9,   -999.0,9,   5.0720
  18HU19960512, AR07W,     3,  3, 158011,     31,2,19960513,0254, 44.2753, -63.3192,  181,    141.5,   6.9129,  33.8375,2,  33.8227,2,    233.7,2,   -999.0,9,    11.98,6,    12.46,6,     1.20,6, -999.000,9, -999.000,9, -999.000, 9, -999.000,9,   -999.0,9,   -999.0,9,   6.9001
  18HU19960512, AR07W,     3,  3, 158010,     33,2,19960513,0254, 44.2753, -63.3192,  181,    150.7,   7.3004,  33.9645,2,  33.9224,2,    229.3,2,    207.0,0,    12.83,6,    13.00,6,     1.22,6, -999.000,9, -999.000,9, -999.000, 9, -999.000,9,   -999.0,9,   -999.0,9,   7.2862
  18HU19960512, AR07W,     4,  1, 158046,     51,2,19960513,0707, 43.8813, -62.8792,  282,      5.1,   5.0688,  31.5550,2,  31.5586,2,    313.3,2,    337.2,0,     0.61,6,     0.20,6,     0.08,6, -999.000,9, -999.000,9, -999.000, 9, -999.000,9,   -999.0,9,   -999.0,9,   5.0684
  18HU19960512, AR07W,     4,  1, 158045,     50,3,19960513,0707, 43.8813, -62.8792,  282,      9.4,   5.0676,  31.5575,2,  31.5598,2,    313.6,2,    336.9,0,     0.62,6,     0.24,6,     0.30,6, -999.000,9, -999.000,9, -999.000, 9, -999.000,9,   -999.0,9,   -999.0,9,   5.0669
  18HU19960512, AR07W,     4,  1, 158044,     68,2,19960513,0707, 43.8813, -62.8792,  282,     19.5,   5.0479,  31.5697,2,  31.5684,2,    312.7,2,    340.6,0,     0.67,6,     0.27,6,     0.31,6, -999.000,9, -999.000,9, -999.000, 9, -999.000,9,   -999.0,9,   -999.0,9,   5.0465
  18HU19960512, AR07W,     4,  1, 158043,     48,2,19960513,0707, 43.8813, -62.8792,  282,     29.0,   3.4523,  32.3247,2,  32.3263,2,    313.9,2,    335.1,0,     2.34,6,     0.43,2,     0.53,6, -999.000,9, -999.000,9, -999.000, 9, -999.000,9,   -999.0,9,   -999.0,9,   3.4506
  18HU19960512, AR07W,     4,  1, 158042,     47,2,19960513,0707, 43.8813, -62.8792,  282,     38.8,   3.4052,  32.5185,2,  32.5176,0,    302.2,2,    315.5,0,     2.91,6,     3.05,6,     0.66,6, -999.000,9, -999.000,9, -999.000, 9, -999.000,9,   -999.0,9,   -999.0,9,   3.4029
  18HU19960512, AR07W,     4,  1, 158041,     46,3,19960513,0707, 43.8813, -62.8792,  282,     49.5,   4.5048,  32.9016,2,-999.0000,9,    281.8,2,   -999.0,9,     3.70,6,     4.46,6,     0.71,6, -999.000,9, -999.000,9, -999.000, 9, -999.000,9,   -999.0,9,   -999.0,9,   4.5014
  18HU19960512, AR07W,     4,  1, 158040,     45,2,19960513,0707, 43.8813, -62.8792,  282,     61.0,   6.6732,  33.6359,2,  33.5884,2,    255.4,2,    238.5,0,     7.24,6,    10.58,6,     0.96,6, -999.000,9, -999.000,9, -999.000, 9, -999.000,9,   -999.0,9,   -999.0,9,   6.6678
  18HU19960512, AR07W,     4,  1, 158039,     44,2,19960513,0707, 43.8813, -62.8792,  282,     70.0,   7.3309,  33.8576,2,  33.8258,2,    248.5,2,   -999.0,9,     8.04,6,    11.55,6,     0.99,6, -999.000,9, -999.000,9, -999.000, 9, -999.000,9,   -999.0,9,   -999.0,9,   7.3244
  18HU19960512, AR07W,     4,  1, 158038,     43,2,19960513,0707, 43.8813, -62.8792,  282,     81.1,   8.5305,  34.2869,2,  34.2624,2,    233.9,2,    205.2,0,     8.91,6,    12.90,6,     0.98,6, -999.000,9, -999.000,9, -999.000, 9, -999.000,9,   -999.0,9,   -999.0,9,   8.5221
  18HU19960512, AR07W,     4,  1, 158037,     42,2,19960513,0707, 43.8813, -62.8792,  282,     90.6,   9.4278,  34.5953,2,  34.5820,2,    226.8,2,   -999.0,9,     9.64,6,    13.69,6,     0.94,6, -999.000,9, -999.000,9, -999.000, 9, -999.000,9,   -999.0,9,   -999.0,9,   9.4178
  18HU19960512, AR07W,     4,  1, 158036,     41,2,19960513,0707, 43.8813, -62.8792,  282,    100.9,  10.1598,  34.8629,2,  34.8525,2,    217.7,2,    184.2,0,     9.67,6,    15.14,6,     1.03,6, -999.000,9, -999.000,9, -999.000, 9, -999.000,9,   -999.0,9,   -999.0,9,  10.1481
  18HU19960512, AR07W,     4,  1, 158035,     40,2,19960513,0707, 43.8813, -62.8792,  282,    109.2,  10.3395,  34.9458,2,  34.9419,2,    213.4,2,   -999.0,9,     8.79,6,    13.59,6,     0.98,6, -999.000,9, -999.000,9, -999.000, 9, -999.000,9,   -999.0,9,   -999.0,9,  10.3266
  18HU19960512, AR07W,     4,  1, 158034,     39,2,19960513,0707, 43.8813, -62.8792,  282,    121.2,  10.3083,  34.9833,2,  34.9817,2,    216.9,2,    186.3,0,    10.12,6,    15.02,6,     1.01,6, -999.000,9, -999.000,9, -999.000, 9, -999.000,9,   -999.0,9,   -999.0,9,  10.2940
  18HU19960512, AR07W,     4,  1, 158033,     38,2,19960513,0707, 43.8813, -62.8792,  282,    128.8,  10.4081,  35.0258,2,  35.0222,2,    211.3,2,   -999.0,9,    10.62,6,    15.60,6,     1.07,6, -999.000,9, -999.000,9, -999.000, 9, -999.000,9,   -999.0,9,   -999.0,9,  10.3928
  18HU19960512, AR07W,     4,  1, 158032,     37,2,19960513,0707, 43.8813, -62.8792,  282,    140.9,  10.4637,  35.0710,2,  35.0705,2,    199.2,2,    163.0,0,    11.87,6,    17.12,6,     1.16,6, -999.000,9, -999.000,9, -999.000, 9, -999.000,9,   -999.0,9,   -999.0,9,  10.4469
  18HU19960512, AR07W,     4,  1, 158031,     36,2,19960513,0707, 43.8813, -62.8792,  282,    152.2,  10.4498,  35.0941,2,  35.0904,2,    197.1,2,   -999.0,9,    11.78,6,    17.69,6,     1.20,6, -999.000,9, -999.000,9, -999.000, 9, -999.000,9,   -999.0,9,   -999.0,9,  10.4317
  18HU19960512, AR07W,     4,  1, 158030,     35,2,19960513,0707, 43.8813, -62.8792,  282,    159.3,  10.4073,  35.1044,2,  35.1016,2,    196.4,2,    156.9,0,    12.40,6,    18.21,6,     1.22,6, -999.000,9, -999.000,9, -999.000, 9, -999.000,9,   -999.0,9,   -999.0,9,  10.3884
  18HU19960512, AR07W,     4,  1, 158029,     34,2,19960513,0707, 43.8813, -62.8792,  282,    179.6,  10.2991,  35.1360,2,  35.1329,2,    192.1,2,    152.1,0,    13.64,6,    19.73,6,     1.27,6, -999.000,9, -999.000,9, -999.000, 9, -999.000,9,   -999.0,9,   -999.0,9,  10.2778
  18HU19960512, AR07W,     4,  1, 158028,     32,2,19960513,0707, 43.8813, -62.8792,  282,    199.3,  10.1711,  35.1474,2,  35.1451,2,    192.7,2,    154.1,0,    14.42,6,    19.29,6,     1.24,6, -999.000,9, -999.000,9, -999.000, 9, -999.000,9,   -999.0,9,   -999.0,9,  10.1477
  18HU19960512, AR07W,     4,  1, 158027,     31,2,19960513,0707, 43.8813, -62.8792,  282,    221.0,  10.0398,  35.1480,2,  35.1456,2,    192.9,2,    151.6,0,    15.80,6,    19.72,6,     1.38,6, -999.000,9, -999.000,9, -999.000, 9, -999.000,9,   -999.0,9,   -999.0,9,  10.0140
  18HU19960512, AR07W,     4,  1, 158026,     33,2,19960513,0707, 43.8813, -62.8792,  282,    253.7,   9.9793,  35.1586,2,  35.1566,2,    190.9,2,    149.7,0,    17.36,6,    20.28,6,     1.31,6, -999.000,9, -999.000,9, -999.000, 9, -999.000,9,   -999.0,9,   -999.0,9,   9.9498