BOTTLE,20150204PRINUNIVRMK
EXPOCODE,SECT_ID,STNNBR,CASTNO,SAMPNO,BTLNBR,BTLNBR_FLAG_W,DATE,TIME,LATITUDE,LONGITUDE,DEPTH,CTDPRS,CTDTMP,CTDSAL,CTDSAL_FLAG_W,SALNTY,SALNTY_FLAG_W,CTDOXY,CTDOXY_FLAG_W,OXYGEN,OXYGEN_FLAG_W,SILCAT,SILCAT_FLAG_W,NITRAT,NITRAT_FLAG_W,PHSPHT,PHSPHT_FLAG_W,CFC-11,CFC-11_FLAG_W,CFC-12,CFC-12_FLAG_W,CFC113,CFC113_FLAG_W,CCL4,CCL4_FLAG_W,TCARBN,TCARBN_FLAG_W,ALKALI,ALKALI_FLAG_W,THETA
,,,,,,,,,,,METERS,DBAR,ITS-90,PSS-78,,PSS-78,,UMOL/KG,,UMOL/KG,,UMOL/KG,,UMOL/KG,,UMOL/KG,,PMOL/KG,,PMOL/KG,,PMOL/KG,,PMOL/KG,,UMOL/KG,,UMOL/KG,,DEG C
  18HU19960512, AR07W,    39,  2, 158456,     53,2,19960522,2259, 58.2202, -50.8840,   30,      8.2,   3.6536,  34.5453,2,  34.5461,2,    310.0,2,    331.6,2,     6.70,6,    10.76,6,     0.84,6,    4.707,2,    3.441,2,    0.328, 2,    7.974,2,   2115.1,2,   2291.7,2,   3.6531
  18HU19960512, AR07W,    39,  2, 158455,     70,2,19960522,2259, 58.2202, -50.8840,   30,     69.0,   3.9723,  34.7771,2,  34.7770,2,    296.2,2,    314.0,2,     7.75,3,    13.58,3,     0.97,3,    4.249,2,    2.433,2,    0.347, 2,    6.781,2,   2134.5,2,   2306.4,2,   3.9676
  18HU19960512, AR07W,    39,  2, 158454,     51,3,19960522,2259, 58.2202, -50.8840,   30,    148.2,   3.3796,  34.7978,2,  34.7938,2,    296.5,2,    310.7,2,     8.25,6,    15.49,6,     1.09,6,    4.258,2,    2.135,2,    0.325, 2,    6.682,2,   2141.6,2,   2301.8,2,   3.3700
  18HU19960512, AR07W,    39,  2, 158453,     50,2,19960522,2259, 58.2202, -50.8840,   30,    247.7,   3.2938,  34.8167,2,  34.8138,2,    294.7,2,    307.6,2,     8.40,6,    15.72,6,     1.09,6,    3.825,2,    2.280,2,    0.000, 4,    6.232,2,   2143.8,2,   2293.2,2,   3.2777
  18HU19960512, AR07W,    39,  2, 158452,     68,2,19960522,2259, 58.2202, -50.8840,   30,    366.6,   3.1313,  34.8108,2,  34.8115,2,    293.2,2,    307.1,2,     8.29,6,    15.31,6,     1.09,6,    4.094,2,    2.387,2,    0.292, 2,    6.225,2,   2144.6,2,   2300.3,2,   3.1077
  18HU19960512, AR07W,    39,  2, 158451,     48,3,19960522,2259, 58.2202, -50.8840,   30,    509.0,   3.3306,  34.8541,2,  34.8560,2,    284.6,2,    293.6,2,     9.11,3,    16.04,3,     1.12,3,    3.477,2,    1.853,2,    0.247, 2,    5.231,2,   2148.3,2,   2303.4,2,   3.2964
  18HU19960512, AR07W,    39,  2, 158450,     47,2,19960522,2259, 58.2202, -50.8840,   30,    666.3,   3.2500,  34.8624,2,  34.8625,2,    284.3,2,    292.4,2,     9.03,6,    15.82,6,     1.11,6,    3.429,6,    1.828,6,    0.314, 6,    5.217,6,   2150.9,2,   2304.3,2,   3.2048
  18HU19960512, AR07W,    39,  2, 158449,     46,2,19960522,2259, 58.2202, -50.8840,   30,    851.2,   3.0683,  34.8490,2,  34.8504,2,    286.4,2,    296.2,2,     9.74,3,    16.67,3,     1.15,3,    3.505,2,    1.829,2,    0.274, 2,    5.304,2,   2149.8,2,   2307.0,3,   3.0105
  18HU19960512, AR07W,    39,  2, 158448,     45,2,19960522,2259, 58.2202, -50.8840,   30,   1045.9,   3.0793,  34.8581,2,  34.8577,2,    285.2,2,    295.7,2,     9.87,3,    16.74,3,     1.14,3,    3.382,2,    1.747,2,    0.248, 2,    5.206,2,   2149.9,2,   2307.9,3,   3.0066
  18HU19960512, AR07W,    39,  2, 158447,     44,2,19960522,2259, 58.2202, -50.8840,   30,   1269.6,   3.0100,  34.8553,2,  34.8555,2,    285.8,2,    297.5,2,     9.85,6,    16.53,6,     1.11,6,    3.273,2,    1.933,2,    0.270, 2,    5.302,2,   2151.1,2,   2291.5,2,   2.9203
  18HU19960512, AR07W,    39,  2, 158446,     43,2,19960522,2259, 58.2202, -50.8840,   30,   1508.4,   2.9362,  34.8486,2,  34.8492,2,    286.4,2,    298.9,0,     9.86,6,    16.74,6,     1.17,6,    3.366,2,    1.652,2,    0.269, 2,    5.282,2,   2149.3,2,   2301.4,3,   2.8277
  18HU19960512, AR07W,    39,  2, 158445,     42,2,19960522,2259, 58.2202, -50.8840,   30,   1746.3,   2.8878,  34.8429,2,  34.8448,2,    286.7,2,    299.7,2,     9.55,3,    16.04,3,     1.13,3,    3.406,2,    1.843,2,    0.231, 2,    5.156,2,   2149.5,2,   2295.6,2,   2.7597
  18HU19960512, AR07W,    39,  2, 158444,     41,2,19960522,2259, 58.2202, -50.8840,   30,   1986.4,   2.8976,  34.8454,2,  34.8459,2,    286.1,2,    298.7,0,     9.29,3,    15.63,3,     1.09,3,    3.282,2,    1.888,2,    0.180, 2,    5.064,2,   2148.3,2,   2298.3,2,   2.7481
  18HU19960512, AR07W,    39,  2, 158443,     40,2,19960522,2259, 58.2202, -50.8840,   30,   2228.8,   3.0002,  34.8694,2,  34.8704,2,    282.0,2,    289.1,2,     9.68,3,    15.24,3,     1.09,3,    2.648,2,    1.409,2,    0.000, 5,    4.285,2,   2149.5,2,   2292.0,2,   2.8266
  18HU19960512, AR07W,    39,  2, 158442,     39,2,19960522,2259, 58.2202, -50.8840,   30,   2470.2,   3.0489,  34.9050,2,  34.9050,2,    276.0,2,    283.7,0,    11.73,3,    16.69,3,     1.19,3,    1.873,2,    0.858,2,    0.000, 5,    3.159,2,   2150.9,2,   2305.3,2,   2.8511
  18HU19960512, AR07W,    39,  2, 158441,     38,2,19960522,2259, 58.2202, -50.8840,   30,   2687.5,   2.8780,  34.8969,2,  34.7543,4,    277.4,2,    289.7,2,     8.93,3,    15.59,3,     1.08,3,    2.190,2,    1.165,2,    0.000, 5,    3.806,2,   2145.8,4,   2303.0,2,   2.6619
  18HU19960512, AR07W,    39,  2, 158440,     37,2,19960522,2259, 58.2202, -50.8840,   30,   2888.3,   2.7500,  34.9100,2,  34.9104,2,    276.1,2,    282.2,0,    12.30,6,    16.17,6,     1.14,6,    1.834,2,    0.873,2,    0.000, 5,    3.072,2,   2151.3,2,   2308.7,2,   2.5162
  18HU19960512, AR07W,    39,  2, 158439,     57,2,19960522,2259, 58.2202, -50.8840,   30,   3068.9,   2.5633,  34.9086,2,  34.9087,2,    277.3,2,    283.1,2,    12.84,3,    15.86,3,     1.08,3,    1.780,2,    0.846,2,    0.000, 5,    3.028,2,   2153.2,2,   2310.5,3,   2.3150
  18HU19960512, AR07W,    39,  2, 158438,     35,2,19960522,2259, 58.2202, -50.8840,   30,   3227.6,   2.3097,  34.9000,2,  34.9004,0,    279.6,2,    285.1,2,    13.27,6,    15.88,6,     1.12,2,    1.881,2,    0.925,2,    0.000, 5,    3.358,2,   2154.0,2,   2310.7,3,   2.0508
  18HU19960512, AR07W,    39,  2, 158437,     34,2,19960522,2259, 58.2202, -50.8840,   30,   3346.6,   2.0341,  34.8866,2,  34.8869,2,    283.9,2,    292.4,2,    11.71,3,    15.21,3,     1.08,3,    2.454,2,    1.317,2,    0.000, 5,    4.022,2,   2150.8,2,   2301.6,2,   1.7694
  18HU19960512, AR07W,    39,  2, 158436,     32,2,19960522,2259, 58.2202, -50.8840,   30,   3445.9,   1.7550,  34.8813,2,  34.8808,2,    288.1,2,    299.0,2,     9.93,6,    14.77,6,     1.04,6,    3.021,2,    1.397,2,    0.237, 2,    4.779,2,   2149.8,2,   2289.7,2,   1.4869
  18HU19960512, AR07W,    39,  2, 158435,     31,4,19960522,2259, 58.2202, -50.8840,   30,   3518.5,   1.5362,  34.8763,2,  34.8189,4,    290.8,2,    301.8,2,     9.88,6,    15.26,6,     1.07,6,    3.094,2,    1.762,2,    0.222, 2,    4.893,2,   2150.6,2,   2301.2,3,   1.2661
  18HU19960512, AR07W,    39,  2, 158434,     33,2,19960522,2259, 58.2202, -50.8840,   30,   3574.6,   1.3925,  34.8735,2,  34.8737,2,    293.2,2,    303.3,0,    10.01,6,    14.56,6,     1.01,6,    3.233,2,    2.047,2,    0.205, 2,    4.995,2,   2150.8,2,   -999.0,5,   1.1203
  18HU19960512, AR07W,    40,  1, 158479,     53,2,19960523,0435, 58.6332, -50.4180,   15,     10.5,   3.9308,  34.6889,2,  34.6889,2,    303.3,2,    322.5,2,  -999.00,5,  -999.00,5,  -999.00,5,    4.502,2,    2.297,2,    0.393, 2,    6.868,2,   2125.9,2,   2304.5,2,   3.9301
  18HU19960512, AR07W,    40,  1, 158478,     70,2,19960523,0435, 58.6332, -50.4180,   15,     61.1,   3.8568,  34.7434,2,  34.7389,2,    299.2,2,    320.0,2,  -999.00,5,  -999.00,5,  -999.00,5,    4.431,2,    2.274,2,    0.408, 2,    6.799,2,   2131.8,2,   2302.2,2,   3.8527
  18HU19960512, AR07W,    40,  1, 158477,     51,2,19960523,0435, 58.6332, -50.4180,   15,    141.4,   3.7910,  34.8141,2,  34.8140,2,    290.6,2,    303.5,2,  -999.00,5,  -999.00,5,  -999.00,5,    4.025,2,    2.027,2,    0.337, 2,    5.800,2,   2141.8,2,   2303.7,2,   3.7814
  18HU19960512, AR07W,    40,  1, 158476,     50,2,19960523,0435, 58.6332, -50.4180,   15,    237.7,   3.5011,  34.8144,2,  34.8138,2,    290.7,2,    304.3,2,  -999.00,5,  -999.00,5,  -999.00,5,    4.105,2,    2.042,2,    0.341, 2,    6.179,2,   2140.5,2,   2301.4,2,   3.4853
  18HU19960512, AR07W,    40,  1, 158475,     68,2,19960523,0435, 58.6332, -50.4180,   15,    363.1,   3.3187,  34.8147,2,  34.8142,2,    291.0,2,    304.8,2,  -999.00,5,  -999.00,5,  -999.00,5,    4.024,2,    2.052,2,    0.356, 2,    5.955,2,   2141.3,2,   2309.2,2,   3.2948
  18HU19960512, AR07W,    40,  1, 158474,     48,2,19960523,0435, 58.6332, -50.4180,   15,    497.3,   3.2709,  34.8252,2,  34.8289,2,    289.4,2,    290.2,2,     8.73,6,    15.97,6,     1.10,6,    3.887,2,    1.932,2,    0.295, 2,    5.649,2,   2145.6,2,   2304.7,2,   3.2378
  18HU19960512, AR07W,    40,  1, 158473,     47,2,19960523,0435, 58.6332, -50.4180,   15,    658.6,   3.1186,  34.8206,2,  34.8198,2,    288.1,2,    303.7,2,     8.77,6,    16.22,6,     1.10,6,    4.038,2,    2.047,2,    0.341, 2,    6.052,2,   2147.0,2,   2304.6,2,   3.0747
  18HU19960512, AR07W,    40,  1, 158472,     46,2,19960523,0435, 58.6332, -50.4180,   15,    840.5,   3.1667,  34.8479,2,  34.8470,0,    283.3,2,    295.7,2,     8.35,3,    14.62,3,     1.02,3,    3.597,2,    1.552,2,    0.311, 2,    5.197,2,   2151.2,2,   2307.6,3,   3.1091
  18HU19960512, AR07W,    40,  1, 158471,     45,2,19960523,0435, 58.6332, -50.4180,   15,   1038.3,   3.0285,  34.8441,2,  34.8435,2,    284.5,2,    299.3,2,     9.53,6,    16.69,6,     1.14,6,    3.580,2,    1.744,2,    0.265, 2,    5.153,2,   2150.6,2,   2299.7,2,   2.9568
  18HU19960512, AR07W,    40,  1, 158470,     44,2,19960523,0435, 58.6332, -50.4180,   15,   1260.7,   2.9677,  34.8449,2,  34.8442,2,    285.0,2,    300.0,2,     7.80,3,    13.42,3,     1.00,3,    3.477,2,    1.724,2,    0.000, 4,    5.083,2,   2150.8,2,   2305.0,3,   2.8791
  18HU19960512, AR07W,    40,  1, 158469,     43,2,19960523,0435, 58.6332, -50.4180,   15,   1509.9,   2.9080,  34.8413,2,  34.8407,2,    285.4,2,    301.2,2,     8.21,3,    14.35,3,     1.04,3,    3.496,2,    1.704,2,    0.227, 2,    5.124,2,   2150.2,2,   2292.7,2,   2.7997
  18HU19960512, AR07W,    40,  1, 158468,     42,2,19960523,0435, 58.6332, -50.4180,   15,   1775.4,   2.8651,  34.8381,2,  34.8380,2,    285.8,2,    288.2,2,     9.62,6,    16.50,6,     1.15,6,    3.473,2,    1.656,2,    0.247, 2,    5.050,2,   2149.5,2,   2303.5,3,   2.7348
  18HU19960512, AR07W,    40,  1, 158467,     41,2,19960523,0435, 58.6332, -50.4180,   15,   2020.9,   2.8678,  34.8384,2,  34.8379,2,    285.9,2,    295.3,2,     8.07,3,    13.87,3,     1.00,3,    3.444,2,    1.660,2,    0.000, 4,    5.128,2,   2147.6,2,   2303.7,3,   2.7156
  18HU19960512, AR07W,    40,  1, 158466,     40,2,19960523,0435, 58.6332, -50.4180,   15,   2259.7,   2.9411,  34.8526,2,  34.8139,4,    283.2,2,    298.5,2,     9.04,6,    15.79,6,     1.09,6,    3.197,2,    1.532,2,    0.230, 2,    4.744,2,   2145.0,2,   2312.2,3,   2.7657
  18HU19960512, AR07W,    40,  1, 158465,     39,2,19960523,0435, 58.6332, -50.4180,   15,   2490.0,   3.0496,  34.8919,2,  34.8913,2,    277.7,2,    284.5,2,    10.94,6,    16.80,6,     1.14,6,    2.300,2,    0.981,2,    0.000, 5,    3.604,2,   2146.7,2,   2305.6,3,   2.8499
  18HU19960512, AR07W,    40,  1, 158464,     38,2,19960523,0435, 58.6332, -50.4180,   15,   2713.7,   2.9354,  34.9082,2,  34.9078,2,    275.9,2,    281.7,2,    11.55,6,    15.93,6,     1.11,6,    1.877,2,    0.836,2,    0.000, 5,    3.024,2,   2148.0,2,   2306.8,3,   2.7155
  18HU19960512, AR07W,    40,  1, 158463,     37,2,19960523,0435, 58.6332, -50.4180,   15,   2902.9,   2.7497,  34.9131,2,  34.9131,2,    276.1,2,    282.9,2,    10.29,3,    13.41,3,     0.97,3,    1.798,2,    0.840,2,    0.000, 5,    2.837,2,   2148.9,2,   2314.5,3,   2.5144
  18HU19960512, AR07W,    40,  1, 158462,     57,2,19960523,0435, 58.6332, -50.4180,   15,   3058.3,   2.5657,  34.9089,2,  34.9081,2,    277.5,2,    280.3,2,    12.04,3,    14.42,3,     1.06,3,    1.766,2,    0.734,2,    0.000, 5,    3.001,2,   2150.9,2,   2307.9,3,   2.3184
  18HU19960512, AR07W,    40,  1, 158461,     35,2,19960523,0435, 58.6332, -50.4180,   15,   3193.3,   2.3639,  34.9022,2,  34.9017,2,    278.7,2,    285.9,2,    12.64,6,    15.86,6,     1.11,6,    1.879,2,    0.856,2,    0.000, 5,    3.093,2,   2150.3,2,   2310.0,3,   2.1073
  18HU19960512, AR07W,    40,  1, 158460,     34,2,19960523,0435, 58.6332, -50.4180,   15,   3322.2,   2.2007,  34.8949,2,  34.8940,2,    281.2,2,    289.4,2,    12.68,6,    15.65,6,     1.11,6,    2.175,6,    1.055,6,    0.090, 6,    3.464,6,   2150.0,2,   2357.3,4,   1.9345
  18HU19960512, AR07W,    40,  1, 158459,     32,2,19960523,0435, 58.6332, -50.4180,   15,   3417.8,   1.9657,  34.8852,2,  34.8862,0,    285.5,2,    292.6,2,    10.59,6,    15.08,6,     1.06,6,    2.818,2,    1.371,2,    0.189, 2,    4.175,2,   2151.7,2,   2308.9,3,   1.6953
  18HU19960512, AR07W,    40,  1, 158458,     31,2,19960523,0435, 58.6332, -50.4180,   15,   3501.0,   1.6320,  34.8752,2,  34.8744,2,    289.5,2,    300.0,2,    10.71,6,    14.68,6,     1.04,6,    3.013,2,    1.500,2,    0.231, 2,    4.424,2,   2150.0,2,   2304.8,2,   1.3613
  18HU19960512, AR07W,    40,  1, 158457,     33,2,19960523,0435, 58.6332, -50.4180,   15,   3554.1,   1.4470,  34.8799,2,  34.8785,2,    292.3,2,    305.2,0,     9.48,6,    14.59,6,     0.97,6,    3.248,2,    1.561,2,    0.220, 2,    4.669,2,   2151.9,2,   2304.8,2,   1.1755
  18HU19960512, AR07W,    41,  1, 158502,     53,2,19960523,1230, 59.0617, -49.9520,    3,     11.3,   3.8783,  34.6788,2,  34.6839,2,    303.2,2,    322.0,2,     7.36,6,    12.69,6,     0.91,6,    4.473,2,    2.374,2,    0.433, 2,    7.078,2,   2126.8,2,   2297.1,2,   3.8775
  18HU19960512, AR07W,    41,  1, 158501,     70,2,19960523,1230, 59.0617, -49.9520,    3,     69.7,   3.5969,  34.7183,2,  34.7199,2,    299.9,2,    319.5,2,     7.53,3,    13.21,3,     0.94,3,    4.448,2,    2.078,2,    0.457, 2,    6.913,2,   2133.1,2,   2298.0,2,   3.5923
  18HU19960512, AR07W,    41,  1, 158500,     51,2,19960523,1230, 59.0617, -49.9520,    3,    153.4,   3.7256,  34.8236,2,  34.8249,2,    289.5,2,    299.8,2,     8.05,6,    15.56,6,     1.02,6,    3.899,2,    1.791,2,    0.350, 2,    5.679,2,   2141.4,2,   2311.8,2,   3.7152
  18HU19960512, AR07W,    41,  1, 158499,     50,2,19960523,1230, 59.0617, -49.9520,    3,    246.6,   3.4553,  34.8153,2,  34.8200,2,    292.5,2,    303.3,2,     8.09,6,    15.40,6,     1.06,6,    3.968,2,    1.962,2,    0.333, 2,    5.905,2,   2141.9,2,   2302.6,2,   3.4390
  18HU19960512, AR07W,    41,  1, 158498,     68,2,19960523,1230, 59.0617, -49.9520,    3,    371.9,   3.2677,  34.8209,2,  34.8185,2,    289.1,2,    301.1,2,     8.56,6,    16.02,6,     1.07,6,    3.847,2,    1.930,2,    0.382, 2,    5.870,2,   2142.2,2,   2307.0,2,   3.2433
  18HU19960512, AR07W,    41,  1, 158497,     48,2,19960523,1230, 59.0617, -49.9520,    3,    514.1,   3.1089,  34.8138,2,  34.8244,2,    291.1,2,    294.1,2,     8.81,6,    16.32,6,     1.07,6,    3.824,2,    1.896,2,    0.357, 2,    5.872,2,   2145.1,2,   2295.4,2,   3.0752
  18HU19960512, AR07W,    41,  1, 158496,     47,2,19960523,1230, 59.0617, -49.9520,    3,    669.7,   3.1323,  34.8322,2,  34.8315,2,    286.2,2,    298.8,2,     7.39,3,    13.54,3,     0.94,3,    3.782,2,    1.895,2,    0.331, 2,    5.770,2,   2148.8,2,   2290.7,2,   3.0875
  18HU19960512, AR07W,    41,  1, 158495,     46,2,19960523,1230, 59.0617, -49.9520,    3,    851.1,   3.0595,  34.8416,2,  34.8422,2,    286.6,2,    298.1,2,     7.97,3,    14.05,3,     0.98,3,    3.583,2,    1.677,2,    0.332, 2,    5.394,2,   2150.0,2,   2292.9,2,   3.0018
  18HU19960512, AR07W,    41,  1, 158494,     45,2,19960523,1230, 59.0617, -49.9520,    3,   1048.3,   2.9672,  34.8381,2,  34.8393,2,    287.0,2,    298.7,2,     8.95,6,    15.98,6,     1.05,6,    3.579,2,    1.758,2,    0.287, 2,    5.426,2,   2149.8,2,   2297.2,2,   2.8953
  18HU19960512, AR07W,    41,  1, 158493,     44,2,19960523,1230, 59.0617, -49.9520,    3,   1268.9,   2.9697,  34.8471,2,  34.8475,2,    286.1,2,    298.0,2,     7.02,3,    12.34,3,     0.89,3,    3.464,2,    1.599,2,    0.286, 2,    5.241,2,   2150.2,2,   2294.4,2,   2.8804
  18HU19960512, AR07W,    41,  1, 158492,     43,2,19960523,1230, 59.0617, -49.9520,    3,   1501.5,   2.9247,  34.8447,2,  34.8458,2,    286.1,2,    300.2,2,     6.67,3,    11.66,3,     0.82,3,    3.452,2,    1.696,2,    0.270, 2,    5.717,2,   2149.2,2,   2301.0,2,   2.8169
  18HU19960512, AR07W,    41,  1, 158491,     42,2,19960523,1230, 59.0617, -49.9520,    3,   1755.9,   2.8668,  34.8377,2,  34.8408,2,    286.4,2,    299.3,2,     9.72,6,    16.76,6,     1.09,6,    3.330,2,    1.834,2,    0.265, 2,    5.078,2,   2148.7,2,   2285.0,2,   2.7381
  18HU19960512, AR07W,    41,  1, 158490,     41,2,19960523,1230, 59.0617, -49.9520,    3,   2008.6,   2.8610,  34.8375,2,  34.8407,2,    286.5,2,    294.1,2,     9.04,3,    15.48,3,     1.05,3,    3.417,2,    1.607,2,    0.285, 2,    5.268,2,   2147.3,2,   2296.7,2,   2.7101
  18HU19960512, AR07W,    41,  1, 158489,     40,2,19960523,1230, 59.0617, -49.9520,    3,   2246.1,   2.9631,  34.8581,2,  34.8590,2,    283.2,2,    295.6,2,     8.30,3,    13.65,3,     0.98,3,    2.942,2,    1.415,2,    0.263, 2,    4.682,2,   2148.8,2,   2305.9,2,   2.7885
  18HU19960512, AR07W,    41,  1, 158488,     39,2,19960523,1230, 59.0617, -49.9520,    3,   2467.3,   3.0316,  34.8894,2,  34.8901,2,    278.6,2,    286.2,2,    10.10,6,    15.38,6,     1.04,6,    2.336,2,    1.095,2,    0.159, 2,    3.908,2,   2152.2,2,   2297.1,2,   2.8345
  18HU19960512, AR07W,    41,  1, 158487,     38,2,19960523,1230, 59.0617, -49.9520,    3,   2666.0,   2.9201,  34.8989,2,  34.8993,2,    277.6,2,    284.2,2,    11.01,6,    15.93,6,     1.06,6,    2.058,2,    1.042,2,    0.000, 5,    3.416,2,   2147.3,2,   2296.2,2,   2.7054
  18HU19960512, AR07W,    41,  1, 158486,     37,2,19960523,1230, 59.0617, -49.9520,    3,   2848.3,   2.7582,  34.9030,2,  34.9026,2,    277.9,2,    284.9,2,    10.43,3,    14.38,3,     1.00,3,    1.992,2,    1.061,2,    0.000, 5,    3.478,2,   2150.6,2,   2297.6,2,   2.5283
  18HU19960512, AR07W,    41,  1, 158485,     57,2,19960523,1230, 59.0617, -49.9520,    3,   3013.7,   2.5924,  34.9095,2,  34.9091,2,    277.5,2,    282.6,2,    11.33,3,    14.20,3,     0.98,3,    1.753,6,    0.839,6,    0.000, 6,    2.907,6,   2152.9,2,   2307.5,3,   2.3491
  18HU19960512, AR07W,    41,  1, 158484,     35,2,19960523,1230, 59.0617, -49.9520,    3,   3153.8,   2.3789,  34.9003,2,  34.8999,2,    279.7,2,    283.3,2,    12.77,6,    15.55,6,     1.04,6,    1.901,2,    0.977,2,    0.000, 5,    3.207,2,   2152.9,2,   2310.4,3,   2.1260
  18HU19960512, AR07W,    41,  1, 158483,     34,2,19960523,1230, 59.0617, -49.9520,    3,   3270.7,   2.1469,  34.8916,2,  34.8919,0,    283.1,2,    290.3,2,    11.92,6,    15.47,6,     1.08,6,    2.296,2,    1.301,2,    0.000, 5,    3.748,2,   2152.3,2,   2308.9,3,   1.8874
  18HU19960512, AR07W,    41,  1, 158482,     32,2,19960523,1230, 59.0617, -49.9520,    3,   3369.0,   1.8428,  34.8763,2,  34.8788,2,    288.0,2,    296.9,2,    10.50,6,    14.74,6,     1.04,6,    2.808,2,    1.376,2,    0.000, 5,    4.175,2,   2150.2,6,   2328.7,4,   1.5805
  18HU19960512, AR07W,    41,  1, 158481,     31,2,19960523,1230, 59.0617, -49.9520,    3,   3450.6,   1.5247,  34.8723,2,  34.8768,2,    292.0,2,    302.8,2,     8.60,6,    12.42,3,     0.93,6,    3.118,2,    1.484,2,    0.247, 2,    4.660,2,   2151.6,2,   2297.5,2,   1.2618
  18HU19960512, AR07W,    41,  1, 158480,     33,2,19960523,1230, 59.0617, -49.9520,    3,   3492.3,   1.4161,  34.8771,2,  34.8753,2,    293.7,2,    299.6,0,     9.45,6,    14.62,6,     1.01,6,    3.157,2,    1.729,2,    0.230, 2,    4.821,2,   2154.3,2,   2384.3,4,   1.1517