BOTTLE,20150204PRINUNIVRMK
EXPOCODE,SECT_ID,STNNBR,CASTNO,SAMPNO,BTLNBR,BTLNBR_FLAG_W,DATE,TIME,LATITUDE,LONGITUDE,DEPTH,CTDPRS,CTDTMP,CTDSAL,CTDSAL_FLAG_W,SALNTY,SALNTY_FLAG_W,CTDOXY,CTDOXY_FLAG_W,OXYGEN,OXYGEN_FLAG_W,SILCAT,SILCAT_FLAG_W,NITRAT,NITRAT_FLAG_W,PHSPHT,PHSPHT_FLAG_W,CFC-11,CFC-11_FLAG_W,CFC-12,CFC-12_FLAG_W,CFC113,CFC113_FLAG_W,CCL4,CCL4_FLAG_W,TCARBN,TCARBN_FLAG_W,ALKALI,ALKALI_FLAG_W,THETA
,,,,,,,,,,,METERS,DBAR,ITS-90,PSS-78,,PSS-78,,UMOL/KG,,UMOL/KG,,UMOL/KG,,UMOL/KG,,UMOL/KG,,PMOL/KG,,PMOL/KG,,PMOL/KG,,PMOL/KG,,UMOL/KG,,UMOL/KG,,DEG C
  18HU19960512, AR07W,    21,  6, 158188,     34,2,19960518,1200, 53.6648, -55.5647,   10,      7.1,  -0.7871,  32.0705,2,  32.0234,2,    383.8,2,    440.8,2,     2.08,3,     0.10,3,     0.47,3,    6.003,2,    3.080,2,    0.425, 2,    9.464,2,   1971.8,2,   2163.0,6,  -0.7873
  18HU19960512, AR07W,    21,  6, 158187,     32,3,19960518,1200, 53.6648, -55.5647,   10,     49.7,  -1.3784,  32.4687,2,  32.4798,2,    347.5,2,    368.0,2,     6.63,6,     3.68,6,     0.74,6,    6.003,6,    2.980,6,    0.395, 6,    9.424,6,   2077.9,2,   2194.1,2,  -1.3794
  18HU19960512, AR07W,    21,  6, 158186,     31,2,19960518,1200, 53.6648, -55.5647,   10,    100.7,  -1.6878,  32.8556,2,  32.8466,0,    342.8,2,    342.7,2,     9.30,3,     7.23,3,     0.86,3,    5.650,2,    2.841,2,    0.378, 2,    8.106,2,   2108.1,6,   -999.0,5,  -1.6896
  18HU19960512, AR07W,    21,  6, 158185,     33,3,19960518,1200, 53.6648, -55.5647,   10,    136.2,  -1.5060,  32.9709,2,  32.9617,2,    354.5,2,    337.7,0,    11.13,6,     8.72,6,     1.04,6,    5.652,2,    2.908,2,    0.385, 2,    8.767,2,   2114.0,2,   2248.9,2,  -1.5087
  18HU19960512, AR07W,    22,  1, 158193,     39,2,19960518,1403, 53.7902, -55.4403,   10,      2.1,  -0.7675,  32.3554,2,  32.3556,2,    363.4,2,    430.5,2,     4.44,3,     0.31,3,     0.50,3,    6.235,6,    3.137,6,    0.367, 6,   11.200,3,   2001.2,2,   -999.0,5,  -0.7676
  18HU19960512, AR07W,    22,  1, 158192,     38,2,19960518,1403, 53.7902, -55.4403,   10,     50.1,  -1.1300,  32.4145,2,  32.4441,2,    339.7,2,    384.1,2,     3.82,6,     1.33,6,     0.58,6,    6.083,2,    3.001,2,    0.393, 2,   10.294,3,   2056.9,6,   2196.1,2,  -1.1311
  18HU19960512, AR07W,    22,  1, 158191,     37,2,19960518,1403, 53.7902, -55.4403,   10,    100.1,  -1.6959,  32.8601,2,  32.8428,2,    328.7,2,    342.4,2,    13.98,3,     8.34,3,     0.98,3,    5.705,2,    2.792,2,    0.322, 2,    9.451,2,   2112.7,2,   2210.0,6,  -1.6977
  18HU19960512, AR07W,    22,  1, 158190,     36,3,19960518,1403, 53.7902, -55.4403,   10,    150.2,  -1.3094,  33.1028,2,  33.0987,0,    327.8,2,    331.8,2,    12.23,3,     9.40,3,     0.94,3,    5.377,2,    2.904,2,    0.286, 2,    8.119,2,   2109.5,2,   2217.8,2,  -1.3127
  18HU19960512, AR07W,    22,  1, 158189,     35,2,19960518,1403, 53.7902, -55.4403,   10,    192.7,  -0.9106,  33.2337,2,  33.1333,2,    331.2,2,    318.8,0,    10.63,3,     9.20,3,     0.96,3,    5.272,2,    3.060,2,    0.290, 2,    7.984,2,   2111.4,2,   2208.1,2,  -0.9157
  18HU19960512, AR07W,    23,  1, 158197,     43,2,19960518,1625, 53.9863, -55.2497,   10,     10.0,  -0.8209,  32.4215,2,  32.4243,2,    359.9,2,    419.2,2,     3.63,6,     0.16,6,     0.53,6,    6.142,2,    2.906,2,    0.390, 2,   10.855,3,   2016.1,6,   2179.0,2,  -0.8211
  18HU19960512, AR07W,    23,  1, 158196,     42,2,19960518,1625, 53.9863, -55.2497,   10,     50.4,  -0.9994,  32.4248,2,  32.4330,2,    345.5,2,    402.0,0,     2.89,3,     0.54,3,     0.54,3,    6.192,2,    2.912,2,    0.433, 2,   10.353,3,   2037.7,2,   2177.0,2,  -1.0005
  18HU19960512, AR07W,    23,  1, 158195,     41,2,19960518,1625, 53.9863, -55.2497,   10,    100.6,  -1.5755,  32.9602,2,  32.9706,2,    334.2,2,    336.0,2,     9.33,3,     7.24,3,     0.82,3,    5.526,2,    2.753,2,    0.405, 2,    8.617,2,   2107.6,6,   2188.0,6,  -1.5774
  18HU19960512, AR07W,    23,  1, 158194,     40,2,19960518,1625, 53.9863, -55.2497,   10,    137.7,  -0.7314,  33.2828,2,  33.2853,0,    338.9,2,    312.0,2,    11.50,3,     9.14,3,     0.93,3,    5.268,2,    2.687,2,    0.352, 2,    8.113,2,   2112.0,2,   2249.3,2,  -0.7352
  18HU19960512, AR07W,    24,  4, 158201,     47,2,19960518,1942, 54.2170, -55.0253,   12,      9.5,  -0.7087,  32.4483,2,  32.4528,2,    349.1,2,    419.5,2,     2.26,6,     0.14,6,     0.47,6,    6.009,2,    3.160,2,    0.561, 2,   10.648,3,   2008.9,2,   2206.9,2,  -0.7089
  18HU19960512, AR07W,    24,  4, 158200,     46,2,19960518,1942, 54.2170, -55.0253,   12,     50.3,  -0.9909,  32.4843,2,  32.4887,2,    330.8,2,    381.3,2,     3.37,6,     0.89,6,     0.60,6,    6.052,2,    2.968,2,    0.481, 2,    9.841,2,   2049.5,6,   2187.1,2,  -0.9921
  18HU19960512, AR07W,    24,  4, 158199,     45,2,19960518,1942, 54.2170, -55.0253,   12,    102.1,  -1.6092,  32.9312,2,  32.9347,2,    322.4,2,    339.1,2,     9.40,6,     7.93,6,     0.84,6,    5.492,2,    2.990,2,    0.431, 2,    9.471,2,   2109.0,2,   2202.7,6,  -1.6111
  18HU19960512, AR07W,    24,  4, 158198,     44,2,19960518,1942, 54.2170, -55.0253,   12,    154.2,  -0.8925,  33.3072,2,  33.2932,2,    322.2,2,    320.0,0,    11.37,6,     9.65,6,     0.94,6,    5.269,2,    0.000,4,    0.000, 4,    7.764,2,   2114.6,2,   2203.8,2,  -0.8966
  18HU19960512, AR07W,    25,  1, 158207,     70,2,19960518,2228, 54.4878, -54.7533,    9,     10.1,  -0.8853,  32.2985,2,  32.3001,2,    336.7,2,    428.6,2,     2.33,6,     0.14,6,     0.53,6,    5.994,6,    3.079,6,    0.478, 6,    9.236,6,   1996.0,2,   2176.3,2,  -0.8855
  18HU19960512, AR07W,    25,  1, 158206,     51,2,19960518,2228, 54.4878, -54.7533,    9,     75.5,  -1.6532,  32.8298,2,  32.8298,2,    300.7,2,    341.3,0,    10.23,6,     8.06,6,     0.94,6,    5.704,2,    2.883,2,    0.418, 2,    8.455,2,   2110.1,6,   2221.2,2,  -1.6546
  18HU19960512, AR07W,    25,  1, 158205,     50,2,19960518,2228, 54.4878, -54.7533,    9,    100.2,  -1.4598,  33.0168,2,  33.0236,2,    298.5,2,    331.9,2,     9.76,3,     8.12,3,     0.88,3,    5.389,2,    2.708,2,    0.372, 2,    7.517,2,   2110.1,6,   2204.7,2,  -1.4618
  18HU19960512, AR07W,    25,  1, 158204,     68,2,19960518,2228, 54.4878, -54.7533,    9,    163.8,  -0.6080,  33.5023,2,  33.5020,0,    294.3,2,    321.1,2,    10.08,6,     9.75,6,     0.85,6,    5.143,2,    2.606,2,    0.365, 2,    7.518,2,   2113.2,2,   2217.1,2,  -0.6128
  18HU19960512, AR07W,    25,  1, 158203,     48,2,19960518,2228, 54.4878, -54.7533,    9,    192.8,  -0.5129,  33.5368,2,  33.5371,0,    304.2,2,    309.9,2,    11.41,6,    11.22,6,     0.97,6,    5.115,2,    2.590,2,    0.375, 2,    8.069,2,   2115.8,2,   2218.2,2,  -0.5188
  18HU19960512, AR07W,    26,  3, 158213,     57,2,19960519,0231, 54.7498, -54.4705,    9,      9.7,  -1.1607,  32.3032,2,  32.3080,0,    324.9,2,    428.3,2,     2.13,6,     0.24,6,     0.46,6,    6.161,2,    3.030,2,    0.522, 2,    9.621,2,   1995.4,2,   2259.0,4,  -1.1609
  18HU19960512, AR07W,    26,  3, 158212,     35,2,19960519,0231, 54.7498, -54.4705,    9,     51.8,  -1.6108,  32.7435,2,  32.7483,0,    294.3,2,    348.2,2,     9.73,3,     7.31,3,     0.86,3,    5.573,2,    2.689,2,    0.390, 2,    8.331,2,   2091.4,2,   2200.4,2,  -1.6117
  18HU19960512, AR07W,    26,  3, 158211,     34,2,19960519,0231, 54.7498, -54.4705,    9,    100.4,  -1.4639,  33.0480,2,  33.0534,0,    291.2,2,    327.5,2,     9.82,3,     7.97,3,     0.87,3,    5.451,2,    2.644,2,    0.397, 2,    7.984,2,   2109.2,2,   2209.0,2,  -1.4659
  18HU19960512, AR07W,    26,  3, 158210,     32,2,19960519,0231, 54.7498, -54.4705,    9,    150.3,  -1.0381,  33.3111,2,  33.3172,2,    290.2,2,    307.5,2,     9.62,6,     9.92,6,     0.81,6,    5.204,2,    2.501,2,    0.384, 2,    7.428,2,   2110.6,2,   2208.1,6,  -1.0419
  18HU19960512, AR07W,    26,  3, 158209,     31,2,19960519,0231, 54.7498, -54.4705,    9,    200.8,  -0.6591,  33.4801,2,  33.4850,2,    289.7,2,    323.7,2,    10.45,6,    10.79,6,     0.96,6,    5.108,2,    2.471,2,    0.410, 2,    7.301,2,   2109.9,6,   2217.7,2,  -0.6650
  18HU19960512, AR07W,    26,  3, 158208,     33,2,19960519,0231, 54.7498, -54.4705,    9,    233.2,   0.1834,  33.7514,2,  33.7517,2,    288.2,2,    312.0,0,     8.11,6,     9.20,6,     0.78,6,    4.987,6,    2.409,6,    0.384, 6,    7.283,6,   2113.9,2,   2223.8,2,   0.1747
  18HU19960512, AR07W,    27,  1, 158222,     45,2,19960519,0814, 54.9248, -54.1168,   10,      7.6,  -1.4210,  32.3706,2,  32.3731,2,    331.7,2,    322.1,2,     3.63,6,     0.55,6,     0.54,6,    6.081,2,    2.770,2,    0.422, 2,   10.291,3,   2031.1,2,   2152.4,4,  -1.4211
  18HU19960512, AR07W,    27,  1, 158221,     44,2,19960519,0814, 54.9248, -54.1168,   10,     50.1,  -1.5838,  32.8814,2,  32.8740,2,    307.7,2,    333.0,2,     9.65,6,     7.61,6,     0.91,6,    5.595,2,    2.576,2,    0.373, 2,    8.333,2,   2105.9,2,   2196.5,2,  -1.5847
  18HU19960512, AR07W,    27,  1, 158220,     43,2,19960519,0814, 54.9248, -54.1168,   10,    101.6,  -1.2032,  33.3040,2,  33.3073,2,    304.4,2,    314.3,2,     9.02,3,     9.52,3,     0.87,3,    5.253,2,    2.571,2,    0.387, 2,    8.081,2,   2108.4,2,   2200.5,2,  -1.2056
  18HU19960512, AR07W,    27,  1, 158219,     42,2,19960519,0814, 54.9248, -54.1168,   10,    151.4,  -0.5143,  33.5864,2,  33.5843,2,    300.0,2,    310.0,2,     9.13,3,     9.80,3,     0.86,3,    5.014,2,    2.401,2,    0.386, 2,    7.348,2,   2117.2,2,   2273.3,3,  -0.5189
  18HU19960512, AR07W,    27,  1, 158218,     41,2,19960519,0814, 54.9248, -54.1168,   10,    203.7,   0.6307,  33.9013,2,  33.8976,2,    292.3,2,    284.5,2,     9.83,6,    11.38,6,     0.92,6,    4.617,2,    2.425,2,    0.351, 2,    6.563,2,   2123.6,2,   2235.0,2,   0.6224
  18HU19960512, AR07W,    27,  1, 158217,     40,2,19960519,0814, 54.9248, -54.1168,   10,    250.1,   1.7035,  34.2126,2,  34.2146,0,    286.9,2,    299.9,2,     9.42,3,    11.30,3,     0.84,3,    4.384,2,    2.204,2,    0.261, 2,    6.095,2,   2131.5,2,   2254.5,2,   1.6908
  18HU19960512, AR07W,    27,  1, 158216,     39,2,19960519,0814, 54.9248, -54.1168,   10,    297.8,   2.2879,  34.3647,2,  34.3649,2,    284.2,2,    295.4,2,     9.03,3,    12.08,3,     0.83,3,    4.125,6,    2.166,6,    0.377, 6,    5.629,6,   2133.3,2,   2250.9,6,   2.2711
  18HU19960512, AR07W,    27,  1, 158215,     38,2,19960519,0814, 54.9248, -54.1168,   10,    333.1,   2.6415,  34.4654,2,  34.4690,2,    280.7,2,    288.6,2,    10.07,6,    12.81,6,     0.98,6,    3.974,2,    2.239,2,    0.267, 2,    5.778,2,   2139.8,6,   2252.8,6,   2.6216
  18HU19960512, AR07W,    27,  1, 158214,     37,2,19960519,0814, 54.9248, -54.1168,   10,    383.4,   3.2836,  34.7153,2,  34.7171,2,    279.4,2,    290.1,0,     9.55,3,    12.68,3,     0.95,3,    3.800,2,    2.093,2,    0.272, 2,    5.586,2,   2143.9,2,   2263.0,2,   3.2584
  18HU19960512, AR07W,    28,  8, 158233,     41,2,19960519,1932, 55.1007, -53.9998,   11,     10.6,  -1.1175,  32.6930,2,  32.7793,2,    326.6,2,    368.9,2,     8.00,6,     7.30,6,     0.78,6,    6.070,2,    3.054,2,    0.391, 2,   10.219,3,   2061.0,2,   2178.0,2,  -1.1177
  18HU19960512, AR07W,    28,  8, 158232,     40,2,19960519,1932, 55.1007, -53.9998,   11,     71.1,   0.2303,  33.8613,2,  33.8862,2,    304.5,2,    313.9,2,     9.53,6,    12.01,6,     0.92,6,    4.969,2,    2.582,2,    0.394, 2,    7.560,2,   2115.4,2,   2233.2,2,   0.2277
  18HU19960512, AR07W,    28,  8, 158231,     39,2,19960519,1932, 55.1007, -53.9998,   11,    148.3,   2.6758,  34.4815,2,  34.4837,2,    285.5,2,    289.9,2,    10.97,3,    11.94,3,     0.94,3,    4.130,2,    1.964,2,    0.000, 4,    5.951,2,   2141.2,2,   2260.9,2,   2.6671
  18HU19960512, AR07W,    28,  8, 158230,     38,2,19960519,1932, 55.1007, -53.9998,   11,    259.4,   3.1400,  34.6808,2,  34.6832,2,    288.5,2,    296.4,2,     7.83,6,    12.81,6,     0.87,6,    4.078,2,    2.126,2,    0.321, 2,    6.035,2,   2140.1,2,   2262.1,2,   3.1235
  18HU19960512, AR07W,    28,  8, 158229,     37,2,19960519,1932, 55.1007, -53.9998,   11,    350.0,   3.3798,  34.7783,2,  34.7831,2,    285.8,2,    293.6,2,     9.80,6,    15.41,6,     1.01,6,    3.970,2,    2.103,2,    0.000, 4,    6.156,2,   2145.6,2,   2394.2,4,   3.3566
  18HU19960512, AR07W,    28,  8, 158228,     57,2,19960519,1932, 55.1007, -53.9998,   11,    472.3,   3.3577,  34.8029,2,  34.8038,2,    288.0,2,    292.6,2,     8.97,6,    15.66,6,     1.01,6,    4.004,6,    1.934,6,    0.276, 6,    6.073,6,   2144.9,2,   2288.8,2,   3.3260
  18HU19960512, AR07W,    28,  8, 158227,     35,2,19960519,1932, 55.1007, -53.9998,   11,    584.0,   3.4893,  34.8310,2,  34.8333,2,    285.9,2,    299.8,2,     9.38,6,    16.10,6,     1.04,6,    3.891,2,    2.037,2,    0.231, 2,    5.784,2,   2146.0,6,   -999.0,5,   3.4490
  18HU19960512, AR07W,    28,  8, 158226,     34,2,19960519,1932, 55.1007, -53.9998,   11,    692.7,   3.4817,  34.8547,2,  34.8572,2,    285.0,2,    290.8,2,     9.02,3,    15.36,3,     1.02,3,    3.565,2,    1.982,2,    0.219, 2,    5.238,2,   2148.7,2,   2290.7,2,   3.4333
  18HU19960512, AR07W,    28,  8, 158225,     32,2,19960519,1932, 55.1007, -53.9998,   11,    777.2,   3.4507,  34.8587,2,  34.8607,0,    285.1,2,    291.1,2,    11.66,3,    15.81,3,     1.01,3,    3.606,2,    1.803,2,    0.252, 2,    5.496,2,   2152.0,2,   2279.8,3,   3.3961
  18HU19960512, AR07W,    28,  8, 158224,     31,2,19960519,1932, 55.1007, -53.9998,   11,    855.5,   3.4464,  34.8607,2,  34.8623,2,    285.7,2,    290.9,0,     7.78,3,    13.04,3,     0.88,6,    3.531,2,    1.897,2,    0.211, 2,    5.173,2,   2151.2,2,   2279.5,2,   3.3858
  18HU19960512, AR07W,    28,  8, 158223,     33,2,19960519,1932, 55.1007, -53.9998,   11,    991.5,   3.3748,  34.8651,2,  34.8660,2,    290.3,2,    288.8,2,    10.48,3,    14.44,3,     1.02,3,    3.490,2,    1.866,2,    0.235, 2,    5.451,2,   2150.9,2,   2278.5,3,   3.3040
  18HU19960512, AR07W,    29,  3, 158250,     47,2,19960519,2238, 55.2608, -53.9555,   15,      8.4,   1.9695,  33.9879,2,  33.9905,2,    320.5,2,    364.1,2,     2.64,6,     6.71,6,     0.59,6,    5.426,2,    2.707,2,    0.000, 4,    8.592,2,   2069.2,2,   2249.5,2,   1.9691
  18HU19960512, AR07W,    29,  3, 158249,     46,2,19960519,2238, 55.2608, -53.9555,   15,     68.9,   2.8042,  34.6475,2,  34.6477,2,    297.4,2,    313.0,2,     8.09,6,    14.64,6,     0.90,6,    4.691,2,    2.330,2,    0.000, 4,    6.996,2,   2133.2,2,   2281.6,2,   2.8001
  18HU19960512, AR07W,    29,  3, 158248,     45,2,19960519,2238, 55.2608, -53.9555,   15,    150.8,   3.1434,  34.7564,2,  34.7575,2,    292.5,2,    304.5,2,     8.32,6,    15.67,6,     1.02,6,    4.379,2,    2.195,2,    0.000, 4,    6.419,2,   2142.3,2,   2287.6,2,   3.1339
  18HU19960512, AR07W,    29,  3, 158247,     44,2,19960519,2238, 55.2608, -53.9555,   15,    248.9,   3.2503,  34.7966,2,  34.7983,2,    290.2,2,    300.5,2,     8.63,6,    15.89,6,     1.01,6,    4.287,2,    2.120,2,    0.000, 4,    6.242,2,   2145.6,2,   2270.5,2,   3.2343
  18HU19960512, AR07W,    29,  3, 158246,     43,2,19960519,2238, 55.2608, -53.9555,   15,    370.0,   3.3588,  34.8362,2,  34.8365,2,    287.1,2,    295.8,2,     9.17,6,    16.33,6,     1.00,6,    3.970,2,    1.947,2,    0.000, 4,    5.687,2,   2148.4,2,   2273.2,2,   3.3342
  18HU19960512, AR07W,    29,  3, 158245,     42,2,19960519,2238, 55.2608, -53.9555,   15,    510.9,   3.2801,  34.8488,2,  34.8505,2,    286.0,2,    295.8,2,     9.36,6,    16.69,6,     1.03,2,    3.940,2,    1.937,2,    0.000, 4,    5.741,2,   2148.8,2,   2285.2,2,   3.2459
  18HU19960512, AR07W,    29,  3, 158244,     41,2,19960519,2238, 55.2608, -53.9555,   15,    666.2,   3.2782,  34.8651,2,  34.8660,2,    285.2,2,    295.1,2,     9.54,6,    16.86,6,     1.06,6,    3.776,2,    1.826,2,    0.000, 4,    5.497,2,   2150.6,2,   2286.9,2,   3.2328
  18HU19960512, AR07W,    29,  3, 158243,     40,2,19960519,2238, 55.2608, -53.9555,   15,    850.0,   3.0908,  34.8537,2,  34.8549,2,    286.2,2,    297.0,2,     9.70,6,    16.98,6,     1.05,6,    3.747,2,    1.827,2,    0.000, 4,    5.496,2,   2150.1,2,   2286.8,2,   3.0330
  18HU19960512, AR07W,    29,  3, 158242,     39,2,19960519,2238, 55.2608, -53.9555,   15,   1030.0,   3.0627,  34.8597,2,  34.8603,2,    285.5,2,    296.7,2,     9.84,6,    16.84,6,     1.04,6,    3.573,6,    1.668,6,    0.000, 4,    5.374,6,   2151.5,2,   2312.2,3,   2.9914
  18HU19960512, AR07W,    29,  3, 158241,     38,2,19960519,2238, 55.2608, -53.9555,   15,   1203.9,   2.9331,  34.8498,2,  34.8512,2,    286.2,2,    299.0,2,     9.97,6,    16.84,6,     1.07,6,    3.709,2,    1.798,2,    0.000, 4,    5.489,2,   2151.2,2,   2278.3,3,   2.8493
  18HU19960512, AR07W,    29,  3, 158240,     37,2,19960519,2238, 55.2608, -53.9555,   15,   1388.8,   2.8765,  34.8477,2,  34.8487,2,    286.2,2,    296.3,2,     9.92,6,    16.67,6,     0.98,6,    3.645,2,    1.711,2,    0.000, 4,    5.324,2,   2151.1,2,   2289.9,2,   2.7785
  18HU19960512, AR07W,    29,  3, 158239,     57,2,19960519,2238, 55.2608, -53.9555,   15,   1549.2,   2.9113,  34.8597,2,  34.8609,2,    284.2,2,    295.6,2,    10.18,6,    16.79,6,     0.98,6,    3.318,2,    1.561,2,    0.000, 4,    4.987,2,   2150.4,2,   2283.0,2,   2.7996
  18HU19960512, AR07W,    29,  3, 158238,     35,2,19960519,2238, 55.2608, -53.9555,   15,   1689.7,   2.9426,  34.8777,2,  34.8785,2,    282.2,2,    290.7,2,    10.70,6,    16.70,6,     1.08,6,    2.833,2,    1.286,2,    0.000, 4,    4.261,2,   2149.5,2,   2286.2,2,   2.8185
  18HU19960512, AR07W,    29,  3, 158237,     34,2,19960519,2238, 55.2608, -53.9555,   15,   1811.1,   2.9157,  34.8860,2,  34.8871,0,    281.8,2,    288.5,2,    10.92,6,    16.52,6,     1.06,6,    2.717,2,    1.260,2,    0.000, 4,    4.350,2,   2147.8,2,   2285.7,2,   2.7814
  18HU19960512, AR07W,    29,  3, 158236,     32,2,19960519,2238, 55.2608, -53.9555,   15,   1909.9,   2.8432,  34.8866,2,  34.8875,2,    281.9,2,    286.0,2,    11.09,6,    16.63,6,     1.05,6,    2.691,2,    1.240,2,    0.000, 4,    4.115,2,   2150.4,2,   2282.8,6,   2.7012
  18HU19960512, AR07W,    29,  3, 158235,     31,2,19960519,2238, 55.2608, -53.9555,   15,   2001.4,   2.8072,  34.8920,2,  34.8927,2,    282.3,2,    287.3,2,    11.25,6,    16.22,6,     1.05,6,    2.553,2,    1.140,2,    0.000, 4,    3.995,2,   2151.3,6,   2286.0,2,   2.6575
  18HU19960512, AR07W,    29,  3, 158234,     33,2,19960519,2238, 55.2608, -53.9555,   15,   2094.5,   2.8033,  34.8923,2,  34.8934,2,    283.6,2,    286.7,0,    11.15,6,    16.20,6,     1.05,6,    2.506,2,    1.085,2,    0.000, 4,    3.750,2,   2151.1,2,   2280.6,2,   2.6453