BOTTLE,20200204PRINUNIVRMK
EXPOCODE,SECT_ID,STNNBR,CASTNO,SAMPNO,BTLNBR,BTLNBR_FLAG_W,DATE,TIME,LATITUDE,LONGITUDE,DEPTH,CTDPRS,CTDTMP,CTDSAL,CTDSAL_FLAG_W,SALNTY,SALNTY_FLAG_W,OXYGEN,OXYGEN_FLAG_W,SILCAT,SILCAT_FLAG_W,NITRAT,NITRAT_FLAG_W,NITRIT,NITRIT_FLAG_W,PHSPHT,PHSPHT_FLAG_W,TCARBN,TCARBN_FLAG_W,ALKALI,ALKALI_FLAG_W,PH_TOT,PH_TOT_FLAG_W,PH_TMP,BTL_TIME
,,,,,,,,,,,METERS,DBAR,ITS-90,PSS-78,,PSS-78,,UMOL/KG,,UMOL/KG,,UMOL/KG,,UMOL/KG,,UMOL/KG,,UMOL/KG,,UMOL/KG,,,,DEG C,
  49UP20101110,RF1007,  3777,  1,     99,     99,2,20101113,1426, 24.2597, 140.2610, 4012,      0.0,  28.5941,  34.6622,2,-999.0000,9,    198.0,2,     1.76,2,     0.00,4,     0.00,2,     0.06,2,   -999.0,9,   -999.0,9,-999.0000,9,  -999.00,     1515
  49UP20101110,RF1007,  3777,  1,     32,  22105,2,20101113,1426, 24.2597, 140.2610, 4012,     10.1,  28.5912,  34.6619,2,-999.0000,9,    198.3,2,     1.10,2,     0.00,4,     0.00,2,     0.00,2,   1940.3,2,   2273.9,3,   8.1428,2,    25.00,     1529
  49UP20101110,RF1007,  3777,  1,     31,  22104,2,20101113,1426, 24.2597, 140.2610, 4012,     26.4,  28.5781,  34.6634,2,-999.0000,9,    198.3,2,     1.16,2,     0.00,4,     0.00,2,     0.00,2,   1937.8,2,   2276.0,3,   8.1191,2,    25.00,     1528
  49UP20101110,RF1007,  3777,  1,     30,  22103,2,20101113,1426, 24.2597, 140.2610, 4012,     50.3,  25.2559,  34.7465,2,-999.0000,9,    228.4,2,     1.42,2,     0.00,4,     0.00,2,     0.00,2,   1959.8,2,   2280.8,3,   8.0974,2,    25.00,     1524
  49UP20101110,RF1007,  3777,  1,     29,  22102,2,20101113,1426, 24.2597, 140.2610, 4012,     75.4,  22.6040,  34.7678,2,-999.0000,9,    228.3,2,     1.58,2,     0.00,4,     0.00,2,     0.00,2,   1977.0,2,   2281.3,3,   8.0755,2,    25.00,     1523
  49UP20101110,RF1007,  3777,  1,     28,  22101,2,20101113,1426, 24.2597, 140.2610, 4012,    101.5,  21.2739,  34.7855,2,-999.0000,9,    214.1,6,     2.07,6,     0.00,4,     0.00,6,     0.02,6,   1994.6,2,   2282.8,3,   8.0416,2,    25.00,     1521
  49UP20101110,RF1007,  3777,  1,     27,  22100,2,20101113,1426, 24.2597, 140.2610, 4012,    125.6,  20.2570,  34.7694,2,-999.0000,9,    205.5,2,     2.22,2,     0.05,4,     0.10,2,     0.05,2,   2009.7,2,   2279.5,3,   8.0108,2,    25.00,     1520
  49UP20101110,RF1007,  3777,  1,     26,  22099,3,20101113,1426, 24.2597, 140.2610, 4012,    150.4,  19.4311,  34.7381,2,-999.0000,9,    206.7,2,     2.47,2,     0.84,4,     0.05,2,     0.10,2,   2011.9,2,   2279.6,3,   8.0002,2,    25.00,     1518
  49UP20101110,RF1007,  3777,  1,     25,  22098,2,20101113,1426, 24.2597, 140.2610, 4012,    201.7,  18.1355,  34.7189,2,-999.0000,9,    199.7,2,     3.45,2,     3.81,4,     0.00,2,     0.25,2,   2027.5,2,   2326.6,3,   7.9630,2,    25.00,     1516
  49UP20101110,RF1007,  3777,  1,     24,  22097,2,20101113,1426, 24.2597, 140.2610, 4012,    249.1,  17.3069,  34.7082,2,-999.0000,9,    194.3,2,     5.20,2,     5.63,4,     0.00,2,     0.38,2,   2040.7,2,   2326.6,3,   7.9414,2,    25.00,     1514
  49UP20101110,RF1007,  3777,  1,     22,  22095,2,20101113,1426, 24.2597, 140.2610, 4012,    302.1,  16.3673,  34.6657,2,-999.0000,9,    189.1,2,     7.70,2,     7.89,4,     0.00,2,     0.52,2,   2058.6,2,   2326.5,3,   7.8999,3,    25.00,     1512
  49UP20101110,RF1007,  3777,  1,     23,  22096,2,20101113,1426, 24.2597, 140.2610, 4012,    304.3,  16.2352,  34.6604,2,-999.0000,9,    189.9,2,     8.14,2,     7.62,4,     0.00,2,     0.53,2,   2056.7,2,   2323.3,3,   7.9314,2,    25.00,     1512
  49UP20101110,RF1007,  3777,  1,     21,  22094,2,20101113,1426, 24.2597, 140.2610, 4012,    404.5,  12.9481,  34.4351,2,-999.0000,9,    182.0,2,    16.54,2,    13.69,4,     0.00,2,     0.94,2,   2100.0,2,   2320.1,3,   7.8124,2,    25.00,     1509
  49UP20101110,RF1007,  3777,  1,     20,  22093,2,20101113,1426, 24.2597, 140.2610, 4012,    501.7,  10.7900,  34.2837,2,-999.0000,9,    172.6,2,    25.65,2,    18.00,4,     0.00,2,     1.28,2,   2127.3,2,   2310.3,3,   7.7149,2,    25.00,     1506
  49UP20101110,RF1007,  3777,  1,     19,  22092,3,20101113,1426, 24.2597, 140.2610, 4012,    603.3,   8.2434,  34.1562,2,-999.0000,9,    132.6,2,    42.54,2,    25.72,4,     0.00,2,     1.88,2,   2199.4,2,   2323.7,4,   7.5978,2,    25.00,     1504
  49UP20101110,RF1007,  3777,  1,     10,  22083,2,20101113,1426, 24.2597, 140.2610, 4012,    705.8,   6.4940,  34.1434,2,-999.0000,9,    102.1,2,    63.64,2,    30.74,4,     0.00,2,     2.32,2,   2242.1,2,   2300.9,2,   7.4892,2,    25.00,     1501
  49UP20101110,RF1007,  3777,  1,      9,  22082,2,20101113,1426, 24.2597, 140.2610, 4012,    806.8,   5.2360,  34.2224,2,-999.0000,9,     72.9,6,    85.28,6,    35.20,4,     0.00,6,     2.66,6,   2291.5,2,   2322.1,2,   7.4266,2,    25.00,     1458
  49UP20101110,RF1007,  3777,  1,      8,  22081,2,20101113,1426, 24.2597, 140.2610, 4012,    909.2,   4.5348,  34.2949,2,-999.0000,9,     63.0,2,    99.75,2,    36.51,4,     0.00,2,     2.79,2,   2317.8,2,   2340.9,2,   7.4078,2,    25.00,     1455
  49UP20101110,RF1007,  3777,  1,      7,  22080,2,20101113,1426, 24.2597, 140.2610, 4012,   1009.8,   4.0436,  34.3570,2,-999.0000,9,     59.6,2,   110.78,2,    38.84,4,     0.00,2,     2.85,2,   2332.4,6,   2359.6,6,   7.4196,2,    25.00,     1452
  49UP20101110,RF1007,  3777,  1,      6,  22079,2,20101113,1426, 24.2597, 140.2610, 4012,   1212.4,   3.2278,  34.4440,2,-999.0000,9,     60.6,2,   129.22,2,    38.43,4,     0.00,2,     2.91,2,   2352.8,2,   2382.1,2,   7.4175,2,    25.00,     1447
  49UP20101110,RF1007,  3777,  1,      5,  22078,2,20101113,1426, 24.2597, 140.2610, 4012,   1415.4,   2.7707,  34.5039,2,-999.0000,9,     70.9,2,   137.56,2,    38.65,4,     0.00,2,     2.87,2,   2358.8,2,   2392.8,2,   7.4369,2,    25.00,     1442
  49UP20101110,RF1007,  3777,  1,      3,  22076,2,20101113,1426, 24.2597, 140.2610, 4012,   1617.5,   2.4257,  34.5526,2,-999.0000,9,     86.7,2,   141.98,2,    38.82,4,     0.00,2,     2.80,2,   2355.5,2,   2398.8,2,   7.4669,6,    25.00,     1437
  49UP20101110,RF1007,  3777,  1,      4,  22077,2,20101113,1426, 24.2597, 140.2610, 4012,   1618.0,   2.4257,  34.5525,2,-999.0000,9,     87.1,2,   141.40,2,    39.29,4,     0.00,2,     2.81,2,   2356.2,2,   2403.8,2,   7.4698,2,    25.00,     1437
  49UP20101110,RF1007,  3777,  1,      2,  22075,2,20101113,1426, 24.2597, 140.2610, 4012,   1820.5,   2.1872,  34.5888,2,-999.0000,9,    101.3,2,   143.27,2,    37.01,4,     0.00,2,     2.73,2,   2348.6,6,   2404.7,6,   7.4862,2,    25.00,     1432
  49UP20101110,RF1007,  3777,  1,      1,  22074,2,20101113,1426, 24.2597, 140.2610, 4012,   2036.9,   2.0168,  34.6124,2,-999.0000,9,    111.8,2,   143.45,2,    36.92,4,     0.00,2,     2.69,2,   2325.6,2,   2408.8,2,   7.5091,2,    25.00,     1426
  49UP20101110,RF1007,  3779,  1,     99,     99,2,20101113,2248, 24.2547, 141.1932, 1861,      0.0,  28.9185,  34.7304,2,-999.0000,9,    195.4,2,     1.02,2,     0.10,2,     0.00,2,     0.02,2,   -999.0,9,   -999.0,9,-999.0000,9,  -999.00,     2330
  49UP20101110,RF1007,  3779,  1,     32,  22105,2,20101113,2248, 24.2547, 141.1932, 1861,     11.4,  28.9102,  34.7335,2,  34.7348,2,    198.4,2,     1.13,2,     0.07,2,     0.00,2,     0.00,2,   -999.0,9,   -999.0,9,-999.0000,9,  -999.00,     2347
  49UP20101110,RF1007,  3779,  1,     31,  22104,2,20101113,2248, 24.2547, 141.1932, 1861,     25.9,  28.9098,  34.7340,2,-999.0000,9,    197.4,2,     0.80,2,     0.06,2,     0.00,2,     0.00,2,   -999.0,9,   -999.0,9,-999.0000,9,  -999.00,     2345
  49UP20101110,RF1007,  3779,  1,     30,  22103,2,20101113,2248, 24.2547, 141.1932, 1861,     51.6,  28.9157,  34.7334,2,-999.0000,9,    196.9,2,     0.96,2,     0.05,2,     0.00,2,     0.00,2,   -999.0,9,   -999.0,9,-999.0000,9,  -999.00,     2341
  49UP20101110,RF1007,  3779,  1,     29,  22102,2,20101113,2248, 24.2547, 141.1932, 1861,     75.7,  26.5878,  34.9148,2,-999.0000,9,    219.3,6,     1.25,6,     0.05,6,     0.00,6,     0.00,6,   -999.0,9,   -999.0,9,-999.0000,9,  -999.00,     2339
  49UP20101110,RF1007,  3779,  1,     28,  22101,2,20101113,2248, 24.2547, 141.1932, 1861,    102.0,  25.0106,  34.9758,2,  34.9780,2,    203.4,2,     1.08,2,     0.06,2,     0.00,2,     0.01,2,   -999.0,9,   -999.0,9,-999.0000,9,  -999.00,     2338
  49UP20101110,RF1007,  3779,  1,     27,  22100,2,20101113,2248, 24.2547, 141.1932, 1861,    126.1,  23.4506,  34.9199,2,-999.0000,9,    196.8,2,     1.50,2,     0.07,2,     0.04,2,     0.03,2,   -999.0,9,   -999.0,9,-999.0000,9,  -999.00,     2336
  49UP20101110,RF1007,  3779,  1,     26,  22099,3,20101113,2248, 24.2547, 141.1932, 1861,    151.9,  22.3836,  34.9007,2,-999.0000,9,    191.2,2,     1.71,2,     0.70,2,     0.09,2,     0.07,2,   -999.0,9,   -999.0,9,-999.0000,9,  -999.00,     2335
  49UP20101110,RF1007,  3779,  1,     25,  22098,2,20101113,2248, 24.2547, 141.1932, 1861,    203.3,  19.5363,  34.8009,2,  34.8008,6,    193.4,2,     2.72,2,     2.42,2,     0.00,2,     0.17,2,   -999.0,9,   -999.0,9,-999.0000,9,  -999.00,     2333
  49UP20101110,RF1007,  3779,  1,     24,  22097,2,20101113,2248, 24.2547, 141.1932, 1861,    252.2,  18.2030,  34.7564,2,-999.0000,9,    193.2,2,     3.46,2,     4.17,2,     0.00,2,     0.28,2,   -999.0,9,   -999.0,9,-999.0000,9,  -999.00,     2331
  49UP20101110,RF1007,  3779,  1,     23,  22096,2,20101113,2248, 24.2547, 141.1932, 1861,    252.2,  18.2030,  34.7564,2,-999.0000,9,    193.6,2,     3.76,2,     4.19,2,     0.00,2,     0.28,2,   -999.0,9,   -999.0,9,-999.0000,9,  -999.00,     2331
  49UP20101110,RF1007,  3779,  1,     22,  22095,2,20101113,2248, 24.2547, 141.1932, 1861,    303.1,  17.0581,  34.7075,2,-999.0000,9,    194.2,2,     5.07,2,     5.93,2,     0.00,2,     0.40,2,   -999.0,9,   -999.0,9,-999.0000,9,  -999.00,     2329
  49UP20101110,RF1007,  3779,  1,     21,  22094,2,20101113,2248, 24.2547, 141.1932, 1861,    404.9,  14.7611,  34.5528,2,  34.5538,6,    190.2,2,     9.72,2,     9.68,2,     0.00,2,     0.67,2,   -999.0,9,   -999.0,9,-999.0000,9,  -999.00,     2326
  49UP20101110,RF1007,  3779,  1,     20,  22093,2,20101113,2248, 24.2547, 141.1932, 1861,    503.1,  11.4289,  34.3290,2,-999.0000,9,    175.7,2,    22.95,2,    16.61,2,     0.00,2,     1.18,2,   -999.0,9,   -999.0,9,-999.0000,9,  -999.00,     2323
  49UP20101110,RF1007,  3779,  1,     19,  22092,2,20101113,2248, 24.2547, 141.1932, 1861,    606.2,   8.7026,  34.1770,2,  34.1786,2,    145.8,2,    39.72,2,    23.94,2,     0.00,2,     1.73,2,   -999.0,9,   -999.0,9,-999.0000,9,  -999.00,     2320
  49UP20101110,RF1007,  3779,  1,     10,  22083,2,20101113,2248, 24.2547, 141.1932, 1861,    706.1,   6.6829,  34.1427,2,-999.0000,9,    108.0,6,    61.38,6,    30.97,6,     0.00,6,     2.26,6,   -999.0,9,   -999.0,9,-999.0000,9,  -999.00,     2317
  49UP20101110,RF1007,  3779,  1,      9,  22082,2,20101113,2248, 24.2547, 141.1932, 1861,    808.3,   5.5019,  34.1987,2,  34.2004,2,     77.2,2,    80.24,2,    35.55,2,     0.00,2,     2.61,2,   -999.0,9,   -999.0,9,-999.0000,9,  -999.00,     2315
  49UP20101110,RF1007,  3779,  1,      8,  22081,3,20101113,2248, 24.2547, 141.1932, 1861,    908.2,   4.6964,  34.2360,2,-999.0000,9,     69.9,2,    96.07,2,    37.56,2,     0.00,2,     2.73,2,   -999.0,9,   -999.0,9,-999.0000,9,  -999.00,     2312
  49UP20101110,RF1007,  3779,  1,      7,  22080,2,20101113,2248, 24.2547, 141.1932, 1861,   1010.8,   4.0979,  34.3072,2,  34.3083,2,     62.2,2,   109.72,2,    39.06,2,     0.00,2,     2.84,2,   -999.0,9,   -999.0,9,-999.0000,9,  -999.00,     2309
  49UP20101110,RF1007,  3779,  1,      6,  22079,2,20101113,2248, 24.2547, 141.1932, 1861,   1213.5,   3.1917,  34.4292,2,  34.4305,2,     55.7,2,   130.68,2,    40.67,2,     0.00,2,     2.93,2,   -999.0,9,   -999.0,9,-999.0000,9,  -999.00,     2304
  49UP20101110,RF1007,  3779,  1,      5,  22078,2,20101113,2248, 24.2547, 141.1932, 1861,   1415.1,   2.7193,  34.5000,2,-999.0000,9,     67.8,2,   139.37,2,    40.40,2,     0.00,2,     2.89,2,   -999.0,9,   -999.0,9,-999.0000,9,  -999.00,     2300
  49UP20101110,RF1007,  3779,  1,      4,  22077,2,20101113,2248, 24.2547, 141.1932, 1861,   1415.1,   2.7193,  34.5000,2,  34.5022,2,     68.1,2,   139.62,2,    40.35,2,     0.00,2,     2.89,2,   -999.0,9,   -999.0,9,-999.0000,9,  -999.00,     2259
  49UP20101110,RF1007,  3779,  1,      3,  22076,2,20101113,2248, 24.2547, 141.1932, 1861,   1617.7,   2.4666,  34.5442,2,  34.5472,4,     83.5,2,   140.70,2,    39.43,2,     0.00,2,     2.82,2,   -999.0,9,   -999.0,9,-999.0000,9,  -999.00,     2254
  49UP20101110,RF1007,  3779,  1,      2,  22075,2,20101113,2248, 24.2547, 141.1932, 1861,   1820.8,   2.2076,  34.5834,2,  34.5848,2,     99.1,2,   142.80,2,    38.56,2,     0.00,2,     2.75,2,   -999.0,9,   -999.0,9,-999.0000,9,  -999.00,     2250
  49UP20101110,RF1007,  3779,  1,      1,  22074,2,20101113,2248, 24.2547, 141.1932, 1861,   1851.0,   2.1930,  34.5858,2,  34.5870,2,    100.1,2,   142.48,2,    38.60,2,     0.00,2,     2.75,2,   -999.0,9,   -999.0,9,-999.0000,9,  -999.00,     2248
  49UP20101110,RF1007,  3781,  1,     99,     99,2,20101114,0930, 24.2542, 142.4365, 2892,      0.0,  28.7156,  34.9797,2,-999.0000,9,    197.2,2,     0.99,2,     0.00,2,     0.00,2,     0.00,2,   -999.0,9,   -999.0,9,-999.0000,9,  -999.00,     1019
  49UP20101110,RF1007,  3781,  1,     32,  22105,2,20101114,0930, 24.2542, 142.4365, 2892,     12.9,  28.7108,  34.9798,2,-999.0000,9,    194.1,4,     1.01,2,     0.00,2,     0.00,2,     0.00,2,   -999.0,9,   -999.0,9,-999.0000,9,  -999.00,     1035
  49UP20101110,RF1007,  3781,  1,     31,  22104,2,20101114,0930, 24.2542, 142.4365, 2892,     26.9,  28.6912,  34.9834,2,-999.0000,9,    196.6,2,     0.95,2,     0.00,2,     0.00,2,     0.00,2,   -999.0,9,   -999.0,9,-999.0000,9,  -999.00,     1033
  49UP20101110,RF1007,  3781,  1,     30,  22103,2,20101114,0930, 24.2542, 142.4365, 2892,     51.0,  28.7125,  35.0646,2,-999.0000,9,    198.9,6,     1.05,6,     0.01,6,     0.00,6,     0.01,6,   -999.0,9,   -999.0,9,-999.0000,9,  -999.00,     1026
  49UP20101110,RF1007,  3781,  1,     29,  22102,2,20101114,0930, 24.2542, 142.4365, 2892,     75.3,  26.1264,  35.2547,2,-999.0000,9,    219.6,2,     1.19,2,     0.00,2,     0.00,2,     0.00,2,   -999.0,9,   -999.0,9,-999.0000,9,  -999.00,     1025
  49UP20101110,RF1007,  3781,  1,     28,  22101,2,20101114,0930, 24.2542, 142.4365, 2892,    100.4,  23.4747,  35.0366,2,-999.0000,9,    212.5,2,     1.40,2,     0.01,2,     0.00,2,     0.00,2,   -999.0,9,   -999.0,9,-999.0000,9,  -999.00,     1024
  49UP20101110,RF1007,  3781,  1,     27,  22100,2,20101114,0930, 24.2542, 142.4365, 2892,    126.8,  21.0498,  34.8484,2,-999.0000,9,    213.4,3,     1.85,2,    -0.03,2,     0.03,2,     0.00,2,   -999.0,9,   -999.0,9,-999.0000,9,  -999.00,     1022
  49UP20101110,RF1007,  3781,  1,     26,  22099,2,20101114,0930, 24.2542, 142.4365, 2892,    150.1,  19.9273,  34.7795,2,-999.0000,9,    214.3,2,     1.99,2,     0.18,2,     0.05,2,     0.02,2,   -999.0,9,   -999.0,9,-999.0000,9,  -999.00,     1021
  49UP20101110,RF1007,  3781,  1,     25,  22098,2,20101114,0930, 24.2542, 142.4365, 2892,    202.4,  18.5529,  34.6910,2,-999.0000,9,    213.2,2,     2.51,2,     1.94,2,     0.00,2,     0.13,2,   -999.0,9,   -999.0,9,-999.0000,9,  -999.00,     1019
  49UP20101110,RF1007,  3781,  1,     24,  22097,2,20101114,0930, 24.2542, 142.4365, 2892,    202.4,  18.5529,  34.6910,2,-999.0000,9,    214.1,2,     2.42,2,     1.95,2,     0.00,2,     0.12,2,   -999.0,9,   -999.0,9,-999.0000,9,  -999.00,     1019
  49UP20101110,RF1007,  3781,  1,     23,  22096,2,20101114,0930, 24.2542, 142.4365, 2892,    253.2,  17.8565,  34.6863,2,-999.0000,9,    213.3,2,     3.20,2,     3.24,2,     0.00,2,     0.19,2,   -999.0,9,   -999.0,9,-999.0000,9,  -999.00,     1017
  49UP20101110,RF1007,  3781,  1,     22,  22095,2,20101114,0930, 24.2542, 142.4365, 2892,    304.6,  17.4809,  34.6871,2,-999.0000,9,    211.3,2,     3.87,2,     4.06,2,     0.00,2,     0.25,2,   -999.0,9,   -999.0,9,-999.0000,9,  -999.00,     1015
  49UP20101110,RF1007,  3781,  1,     21,  22094,2,20101114,0930, 24.2542, 142.4365, 2892,    405.7,  15.4443,  34.6005,2,-999.0000,9,    194.4,2,     8.29,2,     8.44,2,     0.00,2,     0.55,2,   -999.0,9,   -999.0,9,-999.0000,9,  -999.00,     1012
  49UP20101110,RF1007,  3781,  1,     20,  22093,2,20101114,0930, 24.2542, 142.4365, 2892,    506.5,  12.3790,  34.3747,2,-999.0000,9,    192.2,6,    15.86,6,    13.40,6,     0.00,6,     0.93,6,   -999.0,9,   -999.0,9,-999.0000,9,  -999.00,     1009
  49UP20101110,RF1007,  3781,  1,     19,  22092,3,20101114,0930, 24.2542, 142.4365, 2892,    606.5,   9.7306,  34.1965,2,-999.0000,9,    172.3,2,    28.91,2,    19.69,2,     0.00,2,     1.40,2,   -999.0,9,   -999.0,9,-999.0000,9,  -999.00,     1006
  49UP20101110,RF1007,  3781,  1,     10,  22083,2,20101114,0930, 24.2542, 142.4365, 2892,    708.7,   7.5227,  34.1342,2,-999.0000,9,    129.1,3,    50.56,2,    27.52,2,     0.00,2,     1.99,2,   -999.0,9,   -999.0,9,-999.0000,9,  -999.00,     1004
  49UP20101110,RF1007,  3781,  1,      9,  22082,2,20101114,0930, 24.2542, 142.4365, 2892,    807.4,   5.5419,  34.1817,2,-999.0000,9,     81.2,2,    78.93,2,    35.29,2,     0.00,2,     2.56,2,   -999.0,9,   -999.0,9,-999.0000,9,  -999.00,     1001
  49UP20101110,RF1007,  3781,  1,      8,  22081,2,20101114,0930, 24.2542, 142.4365, 2892,    907.2,   4.6824,  34.2565,2,-999.0000,9,     62.3,2,    96.29,2,    38.24,2,     0.00,2,     2.78,2,   -999.0,9,   -999.0,9,-999.0000,9,  -999.00,      958
  49UP20101110,RF1007,  3781,  1,      7,  22080,2,20101114,0930, 24.2542, 142.4365, 2892,   1009.7,   4.1883,  34.3450,2,-999.0000,9,     56.4,2,   107.76,2,    39.46,2,     0.00,2,     2.87,2,   -999.0,9,   -999.0,9,-999.0000,9,  -999.00,      955
  49UP20101110,RF1007,  3781,  1,      6,  22079,2,20101114,0930, 24.2542, 142.4365, 2892,   1213.7,   3.3136,  34.4172,2,-999.0000,9,     55.1,2,   127.83,2,    40.65,2,     0.00,2,     2.93,2,   -999.0,9,   -999.0,9,-999.0000,9,  -999.00,      950
  49UP20101110,RF1007,  3781,  1,      5,  22078,2,20101114,0930, 24.2542, 142.4365, 2892,   1213.7,   3.3136,  34.4172,2,-999.0000,9,     56.0,2,   127.88,2,    40.62,2,     0.00,2,     2.92,2,   -999.0,9,   -999.0,9,-999.0000,9,  -999.00,      950
  49UP20101110,RF1007,  3781,  1,      4,  22077,2,20101114,0930, 24.2542, 142.4365, 2892,   1415.0,   2.8582,  34.4800,2,-999.0000,9,     40.2,4,   138.80,2,    40.98,2,     0.00,2,     2.92,2,   -999.0,9,   -999.0,9,-999.0000,9,  -999.00,      945
  49UP20101110,RF1007,  3781,  1,      3,  22076,2,20101114,0930, 24.2542, 142.4365, 2892,   1619.0,   2.4041,  34.5381,2,-999.0000,9,     70.4,2,   147.61,2,    40.48,2,     0.00,2,     2.88,2,   -999.0,9,   -999.0,9,-999.0000,9,  -999.00,      940
  49UP20101110,RF1007,  3781,  1,      2,  22075,2,20101114,0930, 24.2542, 142.4365, 2892,   1820.9,   2.1328,  34.5781,2,-999.0000,9,     85.5,2,   150.35,2,    39.54,2,     0.00,2,     2.82,2,   -999.0,9,   -999.0,9,-999.0000,9,  -999.00,      935
  49UP20101110,RF1007,  3781,  1,      1,  22074,2,20101114,0930, 24.2542, 142.4365, 2892,   2024.8,   1.9497,  34.6052,2,-999.0000,9,     97.8,2,   151.10,2,    38.96,2,     0.00,2,     2.75,2,   -999.0,9,   -999.0,9,-999.0000,9,  -999.00,      930