BOTTLE,20200204PRINUNIVRMK
EXPOCODE,SECT_ID,STNNBR,CASTNO,SAMPNO,BTLNBR,BTLNBR_FLAG_W,DATE,TIME,LATITUDE,LONGITUDE,DEPTH,CTDPRS,CTDTMP,CTDSAL,CTDSAL_FLAG_W,SALNTY,SALNTY_FLAG_W,OXYGEN,OXYGEN_FLAG_W,SILCAT,SILCAT_FLAG_W,NITRAT,NITRAT_FLAG_W,NITRIT,NITRIT_FLAG_W,PHSPHT,PHSPHT_FLAG_W,TCARBN,TCARBN_FLAG_W,ALKALI,ALKALI_FLAG_W,PH_TOT,PH_TOT_FLAG_W,PH_TMP,BTL_TIME
,,,,,,,,,,,METERS,DBAR,ITS-90,PSS-78,,PSS-78,,UMOL/KG,,UMOL/KG,,UMOL/KG,,UMOL/KG,,UMOL/KG,,UMOL/KG,,UMOL/KG,,,,DEG C,
  49UP20101110,RF1007,  3794,  1,     99,     99,2,20101117,0123, 24.2955, 150.5055, 5179,      0.0,  28.3289,  35.0540,2,-999.0000,9,    198.3,2,     1.23,2,     0.02,2,     0.00,2,     0.00,2,   -999.0,9,   -999.0,9,-999.0000,9,  -999.00,      205
  49UP20101110,RF1007,  3794,  1,     32,  22105,2,20101117,0123, 24.2955, 150.5055, 5179,     11.5,  28.2772,  35.0517,2,  33.0917,4,    199.4,2,     1.07,2,     0.03,2,     0.00,2,     0.00,2,   -999.0,9,   -999.0,9,-999.0000,9,  -999.00,      222
  49UP20101110,RF1007,  3794,  1,     31,  22104,2,20101117,0123, 24.2955, 150.5055, 5179,     25.8,  28.2564,  35.0503,2,-999.0000,9,    198.9,2,     1.16,2,     0.02,2,     0.00,2,     0.00,2,   -999.0,9,   -999.0,9,-999.0000,9,  -999.00,      221
  49UP20101110,RF1007,  3794,  1,     30,  22103,2,20101117,0123, 24.2955, 150.5055, 5179,     51.1,  28.2548,  35.0494,2,-999.0000,9,    198.5,2,     1.24,2,     0.00,2,     0.00,2,     0.01,2,   -999.0,9,   -999.0,9,-999.0000,9,  -999.00,      218
  49UP20101110,RF1007,  3794,  1,     29,  22102,2,20101117,0123, 24.2955, 150.5055, 5179,     76.5,  25.2990,  34.9494,2,-999.0000,9,    227.0,2,     1.46,2,     0.00,2,     0.00,2,     0.00,2,   -999.0,9,   -999.0,9,-999.0000,9,  -999.00,      216
  49UP20101110,RF1007,  3794,  1,     28,  22101,2,20101117,0123, 24.2955, 150.5055, 5179,    101.3,  22.7595,  34.8945,2,  34.8985,4,    224.1,2,     1.80,2,     0.00,2,     0.00,2,     0.00,2,   -999.0,9,   -999.0,9,-999.0000,9,  -999.00,      215
  49UP20101110,RF1007,  3794,  1,     27,  22100,2,20101117,0123, 24.2955, 150.5055, 5179,    127.5,  21.3363,  34.9212,2,-999.0000,9,    202.0,6,     1.99,6,     0.27,6,     0.03,6,     0.05,6,   -999.0,9,   -999.0,9,-999.0000,9,  -999.00,      214
  49UP20101110,RF1007,  3794,  1,     26,  22099,3,20101117,0123, 24.2955, 150.5055, 5179,    154.7,  20.0811,  34.8757,2,-999.0000,9,    192.3,2,     2.53,2,     1.56,2,     0.01,2,     0.13,2,   -999.0,9,   -999.0,9,-999.0000,9,  -999.00,      212
  49UP20101110,RF1007,  3794,  1,     25,  22098,2,20101117,0123, 24.2955, 150.5055, 5179,    201.5,  18.3708,  34.7845,2,  34.7817,2,    187.5,2,     3.68,2,     4.23,2,     0.00,2,     0.30,2,   -999.0,9,   -999.0,9,-999.0000,9,  -999.00,      211
  49UP20101110,RF1007,  3794,  1,     24,  22097,2,20101117,0123, 24.2955, 150.5055, 5179,    252.0,  16.4615,  34.6568,2,-999.0000,9,    193.0,2,     5.95,2,     6.83,2,     0.00,2,     0.47,2,   -999.0,9,   -999.0,9,-999.0000,9,  -999.00,      209
  49UP20101110,RF1007,  3794,  1,     23,  22096,2,20101117,0123, 24.2955, 150.5055, 5179,    302.8,  15.0206,  34.5547,2,-999.0000,9,    192.6,2,     8.38,2,     8.74,2,     0.00,2,     0.61,2,   -999.0,9,   -999.0,9,-999.0000,9,  -999.00,      207
  49UP20101110,RF1007,  3794,  1,     22,  22095,2,20101117,0123, 24.2955, 150.5055, 5179,    404.5,  12.6474,  34.3832,2,-999.0000,9,    193.5,2,    14.22,2,    12.66,2,     0.00,2,     0.90,2,   -999.0,9,   -999.0,9,-999.0000,9,  -999.00,      204
  49UP20101110,RF1007,  3794,  1,     21,  22094,2,20101117,0123, 24.2955, 150.5055, 5179,    404.5,  12.6474,  34.3832,2,  34.3821,2,    193.5,2,    14.15,2,    12.63,2,     0.00,2,     0.90,2,   -999.0,9,   -999.0,9,-999.0000,9,  -999.00,      204
  49UP20101110,RF1007,  3794,  1,     20,  22093,2,20101117,0123, 24.2955, 150.5055, 5179,    505.2,  10.1016,  34.2097,2,-999.0000,9,    172.2,2,    25.82,2,    19.17,2,     0.00,2,     1.38,2,   -999.0,9,   -999.0,9,-999.0000,9,  -999.00,      201
  49UP20101110,RF1007,  3794,  1,     19,  22092,2,20101117,0123, 24.2955, 150.5055, 5179,    606.0,   7.6622,  34.1112,2,  34.1124,2,    129.1,2,    45.53,2,    27.40,2,     0.00,2,     1.99,2,   -999.0,9,   -999.0,9,-999.0000,9,  -999.00,      159
  49UP20101110,RF1007,  3794,  1,     10,  22083,2,20101117,0123, 24.2955, 150.5055, 5179,    706.5,   6.0072,  34.1202,2,-999.0000,9,     88.0,2,    67.65,2,    34.04,2,     0.00,2,     2.49,2,   -999.0,9,   -999.0,9,-999.0000,9,  -999.00,      156
  49UP20101110,RF1007,  3794,  1,      9,  22082,2,20101117,0123, 24.2955, 150.5055, 5179,    808.3,   4.8409,  34.1911,2,  34.1905,2,     59.8,2,    90.45,2,    38.30,2,     0.00,2,     2.80,2,   -999.0,9,   -999.0,9,-999.0000,9,  -999.00,      153
  49UP20101110,RF1007,  3794,  1,      8,  22081,2,20101117,0123, 24.2955, 150.5055, 5179,    909.8,   4.1370,  34.2489,2,-999.0000,9,     44.7,6,   107.20,6,    40.54,6,     0.00,6,     2.96,6,   -999.0,9,   -999.0,9,-999.0000,9,  -999.00,      150
  49UP20101110,RF1007,  3794,  1,      7,  22080,2,20101117,0123, 24.2955, 150.5055, 5179,   1011.0,   3.6607,  34.3464,2,  34.3481,2,     39.1,2,   120.35,2,    41.55,2,     0.00,2,     3.03,2,   -999.0,9,   -999.0,9,-999.0000,9,  -999.00,      147
  49UP20101110,RF1007,  3794,  1,      6,  22079,2,20101117,0123, 24.2955, 150.5055, 5179,   1213.1,   3.0733,  34.4415,2,  34.4407,2,     42.7,2,   135.90,2,    41.85,2,     0.00,2,     3.03,2,   -999.0,9,   -999.0,9,-999.0000,9,  -999.00,      143
  49UP20101110,RF1007,  3794,  1,      5,  22078,2,20101117,0123, 24.2955, 150.5055, 5179,   1415.4,   2.5818,  34.5167,2,  34.5170,6,     55.8,2,   146.11,2,    41.35,2,     0.00,2,     2.98,2,   -999.0,9,   -999.0,9,-999.0000,9,  -999.00,      138
  49UP20101110,RF1007,  3794,  1,      4,  22077,2,20101117,0123, 24.2955, 150.5055, 5179,   1616.8,   2.2538,  34.5625,2,  34.5600,2,     70.9,2,   151.22,2,    40.82,2,     0.00,2,     2.93,2,   -999.0,9,   -999.0,9,-999.0000,9,  -999.00,      133
  49UP20101110,RF1007,  3794,  1,      3,  22076,2,20101117,0123, 24.2955, 150.5055, 5179,   1819.7,   2.0164,  34.5970,2,-999.0000,9,     87.2,2,   153.13,2,    39.73,2,     0.00,2,     2.84,2,   -999.0,9,   -999.0,9,-999.0000,9,  -999.00,      128
  49UP20101110,RF1007,  3794,  1,      2,  22075,2,20101117,0123, 24.2955, 150.5055, 5179,   1819.7,   2.0164,  34.5970,2,  34.5966,2,     88.4,2,   152.11,2,    39.76,2,     0.00,2,     2.84,2,   -999.0,9,   -999.0,9,-999.0000,9,  -999.00,      128
  49UP20101110,RF1007,  3794,  1,      1,  22074,2,20101117,0123, 24.2955, 150.5055, 5179,   2034.2,   1.8414,  34.6218,2,  34.6208,2,    102.3,2,   153.07,2,    38.80,2,     0.00,2,     2.77,2,   -999.0,9,   -999.0,9,-999.0000,9,  -999.00,      123
  49UP20101110,RF1007,  3796,  1,     99,     99,2,20101117,1207, 24.2452, 152.0640, 5445,      0.0,  28.3423,  35.0907,2,-999.0000,9,    198.0,2,     0.70,2,     0.00,2,     0.00,2,     0.01,2,   -999.0,9,   -999.0,9,-999.0000,9,  -999.00,     1255
  49UP20101110,RF1007,  3796,  1,     32,  22105,2,20101117,1207, 24.2452, 152.0640, 5445,     10.9,  28.3515,  35.0904,2,-999.0000,9,    198.6,2,     0.74,2,     0.00,2,     0.00,2,     0.00,2,   -999.0,9,   -999.0,9,-999.0000,9,  -999.00,     1309
  49UP20101110,RF1007,  3796,  1,     31,  22104,2,20101117,1207, 24.2452, 152.0640, 5445,     26.4,  28.3532,  35.0903,2,-999.0000,9,    198.9,2,     0.81,2,     0.00,2,     0.00,2,     0.00,2,   -999.0,9,   -999.0,9,-999.0000,9,  -999.00,     1308
  49UP20101110,RF1007,  3796,  1,     30,  22103,2,20101117,1207, 24.2452, 152.0640, 5445,     52.3,  28.3648,  35.0894,2,-999.0000,9,    198.2,2,     0.73,2,     0.03,2,     0.00,2,     0.00,2,   -999.0,9,   -999.0,9,-999.0000,9,  -999.00,     1303
  49UP20101110,RF1007,  3796,  1,     29,  22102,2,20101117,1207, 24.2452, 152.0640, 5445,     80.7,  26.7217,  35.1150,2,-999.0000,9,    217.1,2,     0.83,2,     0.00,2,     0.00,2,     0.00,2,   -999.0,9,   -999.0,9,-999.0000,9,  -999.00,     1302
  49UP20101110,RF1007,  3796,  1,     28,  22101,2,20101117,1207, 24.2452, 152.0640, 5445,    103.3,  25.1168,  35.1249,2,-999.0000,9,    215.4,6,     1.21,6,     0.02,6,     0.00,6,     0.01,6,   -999.0,9,   -999.0,9,-999.0000,9,  -999.00,     1300
  49UP20101110,RF1007,  3796,  1,     27,  22100,2,20101117,1207, 24.2452, 152.0640, 5445,    126.8,  23.0151,  34.9561,2,-999.0000,9,    212.6,2,     1.38,2,     0.04,2,     0.00,2,     0.00,2,   -999.0,9,   -999.0,9,-999.0000,9,  -999.00,     1259
  49UP20101110,RF1007,  3796,  1,     26,  22099,2,20101117,1207, 24.2452, 152.0640, 5445,    152.2,  21.2336,  34.8677,2,-999.0000,9,    204.4,2,     1.77,2,     0.25,2,     0.09,2,     0.03,2,   -999.0,9,   -999.0,9,-999.0000,9,  -999.00,     1258
  49UP20101110,RF1007,  3796,  1,     25,  22098,2,20101117,1207, 24.2452, 152.0640, 5445,    202.5,  18.9220,  34.7579,2,-999.0000,9,    197.8,2,     2.56,2,     2.25,2,     0.00,2,     0.16,2,   -999.0,9,   -999.0,9,-999.0000,9,  -999.00,     1256
  49UP20101110,RF1007,  3796,  1,     24,  22097,2,20101117,1207, 24.2452, 152.0640, 5445,    253.1,  17.6961,  34.7354,2,-999.0000,9,    193.6,2,     3.72,2,     4.77,2,     0.00,2,     0.32,2,   -999.0,9,   -999.0,9,-999.0000,9,  -999.00,     1254
  49UP20101110,RF1007,  3796,  1,     23,  22096,2,20101117,1207, 24.2452, 152.0640, 5445,    303.4,  16.8475,  34.6937,2,-999.0000,9,    193.6,2,     5.21,2,     6.22,2,     0.00,2,     0.42,2,   -999.0,9,   -999.0,9,-999.0000,9,  -999.00,     1252
  49UP20101110,RF1007,  3796,  1,     22,  22095,2,20101117,1207, 24.2452, 152.0640, 5445,    303.4,  16.8475,  34.6937,2,-999.0000,9,    193.6,2,     5.15,2,     6.22,2,     0.00,2,     0.42,2,   -999.0,9,   -999.0,9,-999.0000,9,  -999.00,     1252
  49UP20101110,RF1007,  3796,  1,     21,  22094,2,20101117,1207, 24.2452, 152.0640, 5445,    403.1,  14.1152,  34.4971,2,-999.0000,9,    193.9,2,    10.48,2,    10.20,2,     0.00,2,     0.71,2,   -999.0,9,   -999.0,9,-999.0000,9,  -999.00,     1249
  49UP20101110,RF1007,  3796,  1,     20,  22093,2,20101117,1207, 24.2452, 152.0640, 5445,    506.1,  11.0940,  34.2812,2,-999.0000,9,    184.6,2,    20.44,2,    16.03,2,     0.00,2,     1.15,2,   -999.0,9,   -999.0,9,-999.0000,9,  -999.00,     1246
  49UP20101110,RF1007,  3796,  1,     19,  22092,2,20101117,1207, 24.2452, 152.0640, 5445,    605.6,   8.1849,  34.1099,2,-999.0000,9,    152.8,2,    39.80,2,    24.28,2,     0.00,2,     1.77,2,   -999.0,9,   -999.0,9,-999.0000,9,  -999.00,     1243
  49UP20101110,RF1007,  3796,  1,     10,  22083,2,20101117,1207, 24.2452, 152.0640, 5445,    706.9,   6.2154,  34.0657,2,-999.0000,9,    113.3,2,    61.74,2,    31.32,2,     0.00,2,     2.28,2,   -999.0,9,   -999.0,9,-999.0000,9,  -999.00,     1241
  49UP20101110,RF1007,  3796,  1,      9,  22082,2,20101117,1207, 24.2452, 152.0640, 5445,    809.1,   4.9672,  34.1716,2,-999.0000,9,     64.6,6,    87.39,6,    37.84,6,     0.00,6,     2.76,6,   -999.0,9,   -999.0,9,-999.0000,9,  -999.00,     1238
  49UP20101110,RF1007,  3796,  1,      8,  22081,2,20101117,1207, 24.2452, 152.0640, 5445,    909.2,   4.1713,  34.2614,2,-999.0000,9,     46.5,2,   105.79,2,    40.21,2,     0.00,2,     2.94,2,   -999.0,9,   -999.0,9,-999.0000,9,  -999.00,     1235
  49UP20101110,RF1007,  3796,  1,      7,  22080,2,20101117,1207, 24.2452, 152.0640, 5445,   1010.1,   3.6762,  34.3437,2,-999.0000,9,     39.4,2,   119.86,2,    41.52,2,     0.00,2,     3.01,2,   -999.0,9,   -999.0,9,-999.0000,9,  -999.00,     1232
  49UP20101110,RF1007,  3796,  1,      6,  22079,2,20101117,1207, 24.2452, 152.0640, 5445,   1212.6,   3.2481,  34.4493,2,-999.0000,9,     50.7,2,   129.13,2,    41.13,2,     0.00,2,     2.97,2,   -999.0,9,   -999.0,9,-999.0000,9,  -999.00,     1227
  49UP20101110,RF1007,  3796,  1,      5,  22078,2,20101117,1207, 24.2452, 152.0640, 5445,   1415.4,   2.5997,  34.5274,2,-999.0000,9,     65.8,2,   141.46,2,    40.58,2,     0.00,2,     2.92,2,   -999.0,9,   -999.0,9,-999.0000,9,  -999.00,     1222
  49UP20101110,RF1007,  3796,  1,      4,  22077,2,20101117,1207, 24.2452, 152.0640, 5445,   1620.2,   2.2780,  34.5671,2,-999.0000,9,     77.5,2,   147.46,2,    40.13,2,     0.00,2,     2.88,2,   -999.0,9,   -999.0,9,-999.0000,9,  -999.00,     1217
  49UP20101110,RF1007,  3796,  1,      3,  22076,2,20101117,1207, 24.2452, 152.0640, 5445,   1620.2,   2.2780,  34.5671,2,-999.0000,9,     78.0,2,   146.74,2,    40.07,2,     0.00,2,     2.87,2,   -999.0,9,   -999.0,9,-999.0000,9,  -999.00,     1217
  49UP20101110,RF1007,  3796,  1,      2,  22075,2,20101117,1207, 24.2452, 152.0640, 5445,   1820.7,   2.0426,  34.5968,2,-999.0000,9,     89.9,2,   149.63,2,    39.25,2,     0.00,2,     2.82,2,   -999.0,9,   -999.0,9,-999.0000,9,  -999.00,     1212
  49UP20101110,RF1007,  3796,  1,      1,  22074,2,20101117,1207, 24.2452, 152.0640, 5445,   2035.1,   1.8816,  34.6183,2,-999.0000,9,    100.5,2,   151.88,2,    38.75,2,     0.00,2,     2.76,2,   -999.0,9,   -999.0,9,-999.0000,9,  -999.00,     1207
  49UP20101110,RF1007,  3798,  1,     99,     99,2,20101117,2231, 24.2440, 153.5518, 5393,      0.0,  27.5613,  35.0475,2,-999.0000,9,    200.1,2,     2.49,3,     0.04,2,     0.00,2,     0.01,2,   -999.0,9,   -999.0,9,-999.0000,9,  -999.00,     2320
  49UP20101110,RF1007,  3798,  1,     32,  22105,2,20101117,2231, 24.2440, 153.5518, 5393,     11.1,  27.5424,  35.0468,2,  35.0491,2,    198.9,4,     1.48,2,     0.00,2,     0.00,2,     0.00,2,   -999.0,9,   -999.0,9,-999.0000,9,  -999.00,     2332
  49UP20101110,RF1007,  3798,  1,     31,  22104,2,20101117,2231, 24.2440, 153.5518, 5393,     25.8,  27.5402,  35.0469,2,-999.0000,9,    202.6,2,     1.47,2,     0.00,2,     0.00,2,     0.00,2,   -999.0,9,   -999.0,9,-999.0000,9,  -999.00,     2331
  49UP20101110,RF1007,  3798,  1,     30,  22103,2,20101117,2231, 24.2440, 153.5518, 5393,     52.3,  27.5428,  35.0455,2,-999.0000,9,    201.4,2,     1.62,2,     0.00,2,     0.00,2,     0.00,2,   -999.0,9,   -999.0,9,-999.0000,9,  -999.00,     2326
  49UP20101110,RF1007,  3798,  1,     29,  22102,2,20101117,2231, 24.2440, 153.5518, 5393,     75.9,  24.5870,  34.9956,2,-999.0000,9,    234.9,2,     1.92,6,     0.00,6,     0.00,6,     0.01,6,   -999.0,9,   -999.0,9,-999.0000,9,  -999.00,     2324
  49UP20101110,RF1007,  3798,  1,     28,  22101,2,20101117,2231, 24.2440, 153.5518, 5393,    101.6,  21.5478,  34.9126,2,  34.9142,2,    224.2,2,     2.05,2,     0.00,2,     0.00,2,     0.01,2,   -999.0,9,   -999.0,9,-999.0000,9,  -999.00,     2323
  49UP20101110,RF1007,  3798,  1,     27,  22100,2,20101117,2231, 24.2440, 153.5518, 5393,    127.7,  20.1368,  34.8376,2,-999.0000,9,    218.4,2,     2.24,2,     0.00,2,     0.00,2,     0.01,2,   -999.0,9,   -999.0,9,-999.0000,9,  -999.00,     2322
  49UP20101110,RF1007,  3798,  1,     26,  22099,2,20101117,2231, 24.2440, 153.5518, 5393,    153.7,  18.5947,  34.7369,2,-999.0000,9,    211.1,2,     2.51,2,     0.71,2,     0.03,2,     0.08,2,   -999.0,9,   -999.0,9,-999.0000,9,  -999.00,     2320
  49UP20101110,RF1007,  3798,  1,     25,  22098,2,20101117,2231, 24.2440, 153.5518, 5393,    203.3,  17.7743,  34.6879,2,  34.6885,2,    209.2,2,     3.57,2,     3.42,2,     0.00,2,     0.22,2,   -999.0,9,   -999.0,9,-999.0000,9,  -999.00,     2319
  49UP20101110,RF1007,  3798,  1,     24,  22097,2,20101117,2231, 24.2440, 153.5518, 5393,    253.9,  16.9615,  34.6718,2,-999.0000,9,    202.5,2,     5.33,2,     5.47,2,     0.00,2,     0.37,2,   -999.0,9,   -999.0,9,-999.0000,9,  -999.00,     2317
  49UP20101110,RF1007,  3798,  1,     23,  22096,2,20101117,2231, 24.2440, 153.5518, 5393,    253.9,  16.9615,  34.6718,2,-999.0000,9,    202.4,2,     4.94,2,     5.46,2,     0.00,2,     0.36,2,   -999.0,9,   -999.0,9,-999.0000,9,  -999.00,     2316
  49UP20101110,RF1007,  3798,  1,     22,  22095,2,20101117,2231, 24.2440, 153.5518, 5393,    302.9,  15.4674,  34.5930,2,-999.0000,9,    196.0,2,     7.86,2,     8.08,2,     0.00,2,     0.54,2,   -999.0,9,   -999.0,9,-999.0000,9,  -999.00,     2315
  49UP20101110,RF1007,  3798,  1,     21,  22094,2,20101117,2231, 24.2440, 153.5518, 5393,    404.1,  12.8837,  34.4140,2,  34.4126,2,    196.4,2,    13.98,2,    12.09,2,     0.00,2,     0.85,2,   -999.0,9,   -999.0,9,-999.0000,9,  -999.00,     2312
  49UP20101110,RF1007,  3798,  1,     20,  22093,2,20101117,2231, 24.2440, 153.5518, 5393,    506.0,  10.1232,  34.2124,2,-999.0000,9,    184.8,2,    24.54,2,    17.91,2,     0.00,2,     1.28,2,   -999.0,9,   -999.0,9,-999.0000,9,  -999.00,     2309
  49UP20101110,RF1007,  3798,  1,     19,  22092,2,20101117,2231, 24.2440, 153.5518, 5393,    608.4,   7.6482,  34.0745,2,  34.0748,2,    152.8,2,    42.77,2,    25.29,2,     0.00,2,     1.83,2,   -999.0,9,   -999.0,9,-999.0000,9,  -999.00,     2306
  49UP20101110,RF1007,  3798,  1,     10,  22083,2,20101117,2231, 24.2440, 153.5518, 5393,    707.8,   5.7951,  34.0761,2,-999.0000,9,    101.0,6,    68.75,6,    33.31,6,     0.00,6,     2.42,6,   -999.0,9,   -999.0,9,-999.0000,9,  -999.00,     2303
  49UP20101110,RF1007,  3798,  1,      9,  22082,2,20101117,2231, 24.2440, 153.5518, 5393,    808.4,   4.9664,  34.1841,2,  34.1826,2,     62.8,2,    87.78,2,    37.98,2,     0.00,2,     2.75,2,   -999.0,9,   -999.0,9,-999.0000,9,  -999.00,     2300
  49UP20101110,RF1007,  3798,  1,      8,  22081,2,20101117,2231, 24.2440, 153.5518, 5393,    910.5,   4.2544,  34.2873,2,-999.0000,9,     47.5,2,   105.17,2,    40.37,2,     0.00,2,     2.92,2,   -999.0,9,   -999.0,9,-999.0000,9,  -999.00,     2257
  49UP20101110,RF1007,  3798,  1,      7,  22080,2,20101117,2231, 24.2440, 153.5518, 5393,   1011.3,   3.8598,  34.3556,2,  34.3551,2,     45.0,2,   115.05,2,    41.10,2,     0.00,2,     2.96,2,   -999.0,9,   -999.0,9,-999.0000,9,  -999.00,     2254
  49UP20101110,RF1007,  3798,  1,      6,  22079,2,20101117,2231, 24.2440, 153.5518, 5393,   1212.1,   3.1622,  34.4683,2,  34.4678,2,     54.9,2,   130.99,2,    41.04,2,     0.00,2,     2.95,2,   -999.0,9,   -999.0,9,-999.0000,9,  -999.00,     2250
  49UP20101110,RF1007,  3798,  1,      5,  22078,2,20101117,2231, 24.2440, 153.5518, 5393,   1414.3,   2.7372,  34.5167,2,-999.0000,9,     64.0,2,   140.26,2,    41.03,2,     0.00,2,     2.92,2,   -999.0,9,   -999.0,9,-999.0000,9,  -999.00,     2245
  49UP20101110,RF1007,  3798,  1,      4,  22077,2,20101117,2231, 24.2440, 153.5518, 5393,   1414.3,   2.7372,  34.5167,2,  34.5167,2,     64.3,2,   139.85,2,    40.81,2,     0.00,2,     2.91,2,   -999.0,9,   -999.0,9,-999.0000,9,  -999.00,     2245
  49UP20101110,RF1007,  3798,  1,      3,  22076,2,20101117,2231, 24.2440, 153.5518, 5393,   1617.9,   2.3360,  34.5647,2,  34.5641,2,     78.9,2,   146.48,2,    39.99,2,     0.00,2,     2.86,2,   -999.0,9,   -999.0,9,-999.0000,9,  -999.00,     2240
  49UP20101110,RF1007,  3798,  1,      2,  22075,2,20101117,2231, 24.2440, 153.5518, 5393,   1819.8,   2.1386,  34.5893,2,  34.5892,6,     89.6,2,   148.42,2,    39.54,2,     0.00,2,     2.81,2,   -999.0,9,   -999.0,9,-999.0000,9,  -999.00,     2235
  49UP20101110,RF1007,  3798,  1,      1,  22074,2,20101117,2231, 24.2440, 153.5518, 5393,   2023.6,   1.9445,  34.6154,2,  34.6140,6,    102.8,2,   149.63,2,    38.88,2,     0.00,2,     2.73,2,   -999.0,9,   -999.0,9,-999.0000,9,  -999.00,     2231