BOTTLE,20200204PRINUNIVRMK
EXPOCODE,SECT_ID,STNNBR,CASTNO,SAMPNO,BTLNBR,BTLNBR_FLAG_W,DATE,TIME,LATITUDE,LONGITUDE,DEPTH,CTDPRS,CTDTMP,CTDSAL,CTDSAL_FLAG_W,SALNTY,SALNTY_FLAG_W,OXYGEN,OXYGEN_FLAG_W,SILCAT,SILCAT_FLAG_W,NITRAT,NITRAT_FLAG_W,NITRIT,NITRIT_FLAG_W,PHSPHT,PHSPHT_FLAG_W,TCARBN,TCARBN_FLAG_W,ALKALI,ALKALI_FLAG_W,PH_TOT,PH_TOT_FLAG_W,PH_TMP,BTL_TIME
,,,,,,,,,,,METERS,DBAR,ITS-90,PSS-78,,PSS-78,,UMOL/KG,,UMOL/KG,,UMOL/KG,,UMOL/KG,,UMOL/KG,,UMOL/KG,,UMOL/KG,,,,DEG C,
  49UP20101110,RF1007,  3828,  1,     99,     99,2,20101210,2036, 25.6417, 128.5507, 4833,      0.0,  25.2639,  34.5357,2,-999.0000,9,    204.6,2,  -999.00,9,  -999.00,9,  -999.00,9,  -999.00,9,   -999.0,9,   -999.0,9,-999.0000,9,  -999.00,     2120
  49UP20101110,RF1007,  3828,  1,     36,  22109,2,20101210,2036, 25.6417, 128.5507, 4833,     12.0,  25.2743,  34.5365,2,  34.5364,2,    205.4,2,  -999.00,9,  -999.00,9,  -999.00,9,  -999.00,9,   -999.0,9,   -999.0,9,-999.0000,9,  -999.00,     2135
  49UP20101110,RF1007,  3828,  1,     33,  22106,2,20101210,2036, 25.6417, 128.5507, 4833,     26.4,  25.2784,  34.5368,2,-999.0000,9,    204.8,2,  -999.00,9,  -999.00,9,  -999.00,9,  -999.00,9,   -999.0,9,   -999.0,9,-999.0000,9,  -999.00,     2134
  49UP20101110,RF1007,  3828,  1,     32,  22105,2,20101210,2036, 25.6417, 128.5507, 4833,     52.0,  25.2515,  34.5460,2,-999.0000,9,    204.5,2,  -999.00,9,  -999.00,9,  -999.00,9,  -999.00,9,   -999.0,9,   -999.0,9,-999.0000,9,  -999.00,     2131
  49UP20101110,RF1007,  3828,  1,     31,  22104,2,20101210,2036, 25.6417, 128.5507, 4833,     76.6,  24.1342,  34.6559,2,-999.0000,9,    199.4,2,  -999.00,9,  -999.00,9,  -999.00,9,  -999.00,9,   -999.0,9,   -999.0,9,-999.0000,9,  -999.00,     2129
  49UP20101110,RF1007,  3828,  1,     29,  22102,2,20101210,2036, 25.6417, 128.5507, 4833,    102.2,  23.0529,  34.7445,2,  34.7595,4,    194.1,2,  -999.00,9,  -999.00,9,  -999.00,9,  -999.00,9,   -999.0,9,   -999.0,9,-999.0000,9,  -999.00,     2128
  49UP20101110,RF1007,  3828,  1,     28,  22101,2,20101210,2036, 25.6417, 128.5507, 4833,    127.8,  21.7065,  34.7706,2,-999.0000,9,    190.8,2,  -999.00,9,  -999.00,9,  -999.00,9,  -999.00,9,   -999.0,9,   -999.0,9,-999.0000,9,  -999.00,     2127
  49UP20101110,RF1007,  3828,  1,     25,  22098,2,20101210,2036, 25.6417, 128.5507, 4833,    153.1,  20.9309,  34.7696,2,-999.0000,9,    189.8,2,  -999.00,9,  -999.00,9,  -999.00,9,  -999.00,9,   -999.0,9,   -999.0,9,-999.0000,9,  -999.00,     2125
  49UP20101110,RF1007,  3828,  1,     23,  22096,2,20101210,2036, 25.6417, 128.5507, 4833,    202.5,  18.9939,  34.7564,2,-999.0000,9,    190.4,2,  -999.00,9,  -999.00,9,  -999.00,9,  -999.00,9,   -999.0,9,   -999.0,9,-999.0000,9,  -999.00,     2123
  49UP20101110,RF1007,  3828,  1,     22,  22095,2,20101210,2036, 25.6417, 128.5507, 4833,    202.5,  18.9939,  34.7564,2,  34.7645,4,    190.3,2,  -999.00,9,  -999.00,9,  -999.00,9,  -999.00,9,   -999.0,9,   -999.0,9,-999.0000,9,  -999.00,     2123
  49UP20101110,RF1007,  3828,  1,     21,  22094,2,20101210,2036, 25.6417, 128.5507, 4833,    253.2,  17.8063,  34.7470,2,-999.0000,9,    191.6,2,  -999.00,9,  -999.00,9,  -999.00,9,  -999.00,9,   -999.0,9,   -999.0,9,-999.0000,9,  -999.00,     2122
  49UP20101110,RF1007,  3828,  1,     20,  22093,2,20101210,2036, 25.6417, 128.5507, 4833,    304.2,  16.6346,  34.6911,2,  34.6907,2,    186.1,2,  -999.00,9,  -999.00,9,  -999.00,9,  -999.00,9,   -999.0,9,   -999.0,9,-999.0000,9,  -999.00,     2120
  49UP20101110,RF1007,  3828,  1,     18,  22091,2,20101210,2036, 25.6417, 128.5507, 4833,    403.5,  13.9348,  34.5038,2,-999.0000,9,    177.0,6,  -999.00,9,  -999.00,9,  -999.00,9,  -999.00,9,   -999.0,9,   -999.0,9,-999.0000,9,  -999.00,     2117
  49UP20101110,RF1007,  3828,  1,     16,  22089,2,20101210,2036, 25.6417, 128.5507, 4833,    505.4,  10.6039,  34.2906,2,  34.2903,2,    156.3,2,  -999.00,9,  -999.00,9,  -999.00,9,  -999.00,9,   -999.0,9,   -999.0,9,-999.0000,9,  -999.00,     2114
  49UP20101110,RF1007,  3828,  1,     15,  22088,2,20101210,2036, 25.6417, 128.5507, 4833,    606.3,   8.4636,  34.2453,2,-999.0000,9,    125.3,2,  -999.00,9,  -999.00,9,  -999.00,9,  -999.00,9,   -999.0,9,   -999.0,9,-999.0000,9,  -999.00,     2111
  49UP20101110,RF1007,  3828,  1,     14,  22087,2,20101210,2036, 25.6417, 128.5507, 4833,    706.3,   6.5557,  34.1862,2,-999.0000,9,    102.6,2,  -999.00,9,  -999.00,9,  -999.00,9,  -999.00,9,   -999.0,9,   -999.0,9,-999.0000,9,  -999.00,     2109
  49UP20101110,RF1007,  3828,  1,     13,  22086,2,20101210,2036, 25.6417, 128.5507, 4833,    807.6,   5.3734,  34.2423,2,  34.2437,2,     77.7,2,  -999.00,9,  -999.00,9,  -999.00,9,  -999.00,9,   -999.0,9,   -999.0,9,-999.0000,9,  -999.00,     2106
  49UP20101110,RF1007,  3828,  1,     12,  22085,2,20101210,2036, 25.6417, 128.5507, 4833,    908.2,   4.7036,  34.3180,2,-999.0000,9,     63.6,2,  -999.00,9,  -999.00,9,  -999.00,9,  -999.00,9,   -999.0,9,   -999.0,9,-999.0000,9,  -999.00,     2103
  49UP20101110,RF1007,  3828,  1,     11,  22110,2,20101210,2036, 25.6417, 128.5507, 4833,    908.2,   4.7036,  34.3180,2,  34.3188,6,     63.6,2,  -999.00,9,  -999.00,9,  -999.00,9,  -999.00,9,   -999.0,9,   -999.0,9,-999.0000,9,  -999.00,     2103
  49UP20101110,RF1007,  3828,  1,     10,  22083,2,20101210,2036, 25.6417, 128.5507, 4833,   1010.7,   4.1525,  34.3741,2,  34.3750,6,     60.8,2,  -999.00,9,  -999.00,9,  -999.00,9,  -999.00,9,   -999.0,9,   -999.0,9,-999.0000,9,  -999.00,     2100
  49UP20101110,RF1007,  3828,  1,      7,  22080,2,20101210,2036, 25.6417, 128.5507, 4833,   1212.4,   3.2553,  34.4656,2,  34.4659,2,     68.5,2,  -999.00,9,  -999.00,9,  -999.00,9,  -999.00,9,   -999.0,9,   -999.0,9,-999.0000,9,  -999.00,     2056
  49UP20101110,RF1007,  3828,  1,      6,  22079,2,20101210,2036, 25.6417, 128.5507, 4833,   1414.6,   2.8119,  34.5204,2,-999.0000,9,     79.5,2,  -999.00,9,  -999.00,9,  -999.00,9,  -999.00,9,   -999.0,9,   -999.0,9,-999.0000,9,  -999.00,     2051
  49UP20101110,RF1007,  3828,  1,      5,  22078,2,20101210,2036, 25.6417, 128.5507, 4833,   1618.0,   2.4175,  34.5564,2,  34.5565,2,     90.6,2,  -999.00,9,  -999.00,9,  -999.00,9,  -999.00,9,   -999.0,9,   -999.0,9,-999.0000,9,  -999.00,     2046
  49UP20101110,RF1007,  3828,  1,      3,  22076,2,20101210,2036, 25.6417, 128.5507, 4833,   1821.1,   2.1960,  34.5864,2,  34.5867,2,    101.8,6,  -999.00,9,  -999.00,9,  -999.00,9,  -999.00,9,   -999.0,9,   -999.0,9,-999.0000,9,  -999.00,     2041
  49UP20101110,RF1007,  3828,  1,      1,  22074,2,20101210,2036, 25.6417, 128.5507, 4833,   2024.6,   2.0347,  34.6100,2,  34.6103,2,    111.7,2,  -999.00,9,  -999.00,9,  -999.00,9,  -999.00,9,   -999.0,9,   -999.0,9,-999.0000,9,  -999.00,     2036
  49UP20101110,RF1007,  3830,  1,     99,     99,2,20101211,0253, 25.3327, 128.9945, 5475,      0.0,  24.8406,  34.5997,2,-999.0000,9,    206.7,2,     0.94,2,     0.00,2,     0.00,2,     0.02,2,   -999.0,9,   -999.0,9,-999.0000,9,  -999.00,      337
  49UP20101110,RF1007,  3830,  1,     36,  22109,2,20101211,0253, 25.3327, 128.9945, 5475,     10.9,  24.8536,  34.5994,2,-999.0000,9,    206.4,2,     0.94,2,     0.00,2,     0.00,2,     0.01,2,   -999.0,9,   -999.0,9,-999.0000,9,  -999.00,      353
  49UP20101110,RF1007,  3830,  1,     33,  22106,2,20101211,0253, 25.3327, 128.9945, 5475,     26.0,  24.8371,  34.5982,2,-999.0000,9,    206.5,2,     0.89,2,     0.00,2,     0.00,2,     0.01,2,   -999.0,9,   -999.0,9,-999.0000,9,  -999.00,      351
  49UP20101110,RF1007,  3830,  1,     32,  22105,2,20101211,0253, 25.3327, 128.9945, 5475,     50.6,  24.8290,  34.5970,2,-999.0000,9,    205.2,2,     0.90,2,     0.00,2,     0.00,2,     0.01,2,   -999.0,9,   -999.0,9,-999.0000,9,  -999.00,      349
  49UP20101110,RF1007,  3830,  1,     31,  22104,2,20101211,0253, 25.3327, 128.9945, 5475,     76.5,  24.4441,  34.5478,2,-999.0000,9,    207.3,2,     1.07,2,     0.00,2,     0.00,2,     0.01,2,   -999.0,9,   -999.0,9,-999.0000,9,  -999.00,      347
  49UP20101110,RF1007,  3830,  1,     30,  22103,2,20101211,0253, 25.3327, 128.9945, 5475,    101.8,  24.1885,  34.5453,2,-999.0000,9,    207.9,2,     1.55,2,     0.09,2,     0.01,2,     0.01,2,   -999.0,9,   -999.0,9,-999.0000,9,  -999.00,      346
  49UP20101110,RF1007,  3830,  1,     29,  22102,2,20101211,0253, 25.3327, 128.9945, 5475,    101.8,  24.1885,  34.5453,2,-999.0000,9,    207.7,2,     1.11,2,    -0.01,2,     0.01,2,     0.02,2,   -999.0,9,   -999.0,9,-999.0000,9,  -999.00,      346
  49UP20101110,RF1007,  3830,  1,     28,  22101,2,20101211,0253, 25.3327, 128.9945, 5475,    127.5,  22.8076,  34.7554,2,-999.0000,9,    191.2,2,     2.02,2,     1.61,2,     0.02,2,     0.14,2,   -999.0,9,   -999.0,9,-999.0000,9,  -999.00,      345
  49UP20101110,RF1007,  3830,  1,     25,  22098,2,20101211,0253, 25.3327, 128.9945, 5475,    151.2,  21.7327,  34.8098,2,-999.0000,9,    195.3,2,     1.67,2,     0.92,2,     0.01,2,     0.09,2,   -999.0,9,   -999.0,9,-999.0000,9,  -999.00,      343
  49UP20101110,RF1007,  3830,  1,     23,  22096,3,20101211,0253, 25.3327, 128.9945, 5475,    201.7,  20.0187,  34.7709,2,-999.0000,9,    191.6,2,     2.35,2,     2.72,2,     0.00,2,     0.20,2,   -999.0,9,   -999.0,9,-999.0000,9,  -999.00,      341
  49UP20101110,RF1007,  3830,  1,     22,  22095,2,20101211,0253, 25.3327, 128.9945, 5475,    251.8,  18.3987,  34.7576,2,-999.0000,9,    188.3,2,     3.88,2,     4.77,2,     0.00,2,     0.33,2,   -999.0,9,   -999.0,9,-999.0000,9,  -999.00,      339
  49UP20101110,RF1007,  3830,  1,     21,  22094,2,20101211,0253, 25.3327, 128.9945, 5475,    302.4,  17.1665,  34.7099,2,-999.0000,9,    184.5,6,     6.41,6,     7.02,6,     0.00,6,     0.49,6,   -999.0,9,   -999.0,9,-999.0000,9,  -999.00,      337
  49UP20101110,RF1007,  3830,  1,     20,  22093,2,20101211,0253, 25.3327, 128.9945, 5475,    403.2,  14.1935,  34.5187,2,-999.0000,9,    179.0,2,    12.63,2,    11.74,2,     0.00,2,     0.83,2,   -999.0,9,   -999.0,9,-999.0000,9,  -999.00,      334
  49UP20101110,RF1007,  3830,  1,     18,  22091,4,20101211,0253, 25.3327, 128.9945, 5475,    504.2,  11.6489,  34.3572,2,-999.0000,9,   -999.0,9,  -999.00,9,  -999.00,9,  -999.00,9,  -999.00,9,   -999.0,9,   -999.0,9,-999.0000,9,  -999.00,      332
  49UP20101110,RF1007,  3830,  1,     16,  22089,2,20101211,0253, 25.3327, 128.9945, 5475,    605.7,   8.6048,  34.1858,2,-999.0000,9,    133.1,2,    40.08,2,    25.40,2,     0.00,2,     1.84,2,   -999.0,9,   -999.0,9,-999.0000,9,  -999.00,      329
  49UP20101110,RF1007,  3830,  1,     15,  22088,2,20101211,0253, 25.3327, 128.9945, 5475,    705.8,   6.9154,  34.1669,2,-999.0000,9,    103.0,2,    59.54,2,    31.20,2,     0.00,2,     2.26,2,   -999.0,9,   -999.0,9,-999.0000,9,  -999.00,      326
  49UP20101110,RF1007,  3830,  1,     14,  22087,2,20101211,0253, 25.3327, 128.9945, 5475,    807.1,   5.5471,  34.2378,2,-999.0000,9,     73.7,2,    81.72,2,    36.44,2,     0.00,2,     2.64,2,   -999.0,9,   -999.0,9,-999.0000,9,  -999.00,      323
  49UP20101110,RF1007,  3830,  1,     13,  22086,2,20101211,0253, 25.3327, 128.9945, 5475,    807.1,   5.5471,  34.2378,2,-999.0000,9,     74.3,2,    81.28,2,    36.35,2,     0.00,2,     2.63,2,   -999.0,9,   -999.0,9,-999.0000,9,  -999.00,      323
  49UP20101110,RF1007,  3830,  1,     12,  22085,2,20101211,0253, 25.3327, 128.9945, 5475,    909.3,   4.7013,  34.3126,2,-999.0000,9,     62.4,2,    97.46,2,    38.75,2,     0.00,2,     2.80,2,   -999.0,9,   -999.0,9,-999.0000,9,  -999.00,      320
  49UP20101110,RF1007,  3830,  1,     11,  22110,2,20101211,0253, 25.3327, 128.9945, 5475,   1009.1,   4.1784,  34.3729,2,-999.0000,9,     60.5,2,   108.97,2,    39.65,2,     0.00,2,     2.85,2,   -999.0,9,   -999.0,9,-999.0000,9,  -999.00,      317
  49UP20101110,RF1007,  3830,  1,     10,  22083,2,20101211,0253, 25.3327, 128.9945, 5475,   1211.7,   3.3639,  34.4565,2,-999.0000,9,     67.0,2,   126.16,2,    39.97,2,     0.00,2,     2.86,2,   -999.0,9,   -999.0,9,-999.0000,9,  -999.00,      312
  49UP20101110,RF1007,  3830,  1,      7,  22080,2,20101211,0253, 25.3327, 128.9945, 5475,   1414.0,   2.7989,  34.5044,2,-999.0000,9,     75.3,2,   136.49,2,    39.93,2,     0.00,2,     2.85,2,   -999.0,9,   -999.0,9,-999.0000,9,  -999.00,      307
  49UP20101110,RF1007,  3830,  1,      5,  22078,2,20101211,0253, 25.3327, 128.9945, 5475,   1617.3,   2.4163,  34.5503,2,-999.0000,9,     87.8,6,   141.70,6,    39.50,6,     0.00,6,     2.80,6,   -999.0,9,   -999.0,9,-999.0000,9,  -999.00,      303
  49UP20101110,RF1007,  3830,  1,      3,  22076,2,20101211,0253, 25.3327, 128.9945, 5475,   1820.1,   2.2019,  34.5817,2,-999.0000,9,     99.9,2,   143.08,2,    38.93,2,     0.00,2,     2.75,2,   -999.0,9,   -999.0,9,-999.0000,9,  -999.00,      258
  49UP20101110,RF1007,  3830,  1,      1,  22074,2,20101211,0253, 25.3327, 128.9945, 5475,   2023.5,   1.9914,  34.6122,2,-999.0000,9,    113.2,2,   143.48,2,    38.16,2,     0.00,2,     2.69,2,   -999.0,9,   -999.0,9,-999.0000,9,  -999.00,      253
  49UP20101110,RF1007,  3832,  1,     99,     99,2,20101211,0953, 25.0082, 129.4835, 3766,      0.0,  24.0660,  34.6275,2,-999.0000,9,    210.5,2,  -999.00,9,  -999.00,9,  -999.00,9,  -999.00,9,   -999.0,9,   -999.0,9,-999.0000,9,  -999.00,     1046
  49UP20101110,RF1007,  3832,  1,     36,  22109,2,20101211,0953, 25.0082, 129.4835, 3766,     11.5,  24.0931,  34.6273,2,  34.6281,2,    210.3,2,  -999.00,9,  -999.00,9,  -999.00,9,  -999.00,9,   -999.0,9,   -999.0,9,-999.0000,9,  -999.00,     1053
  49UP20101110,RF1007,  3832,  1,     33,  22106,2,20101211,0953, 25.0082, 129.4835, 3766,     25.6,  24.0788,  34.6272,2,-999.0000,9,    210.1,2,  -999.00,9,  -999.00,9,  -999.00,9,  -999.00,9,   -999.0,9,   -999.0,9,-999.0000,9,  -999.00,     1052
  49UP20101110,RF1007,  3832,  1,     32,  22105,2,20101211,0953, 25.0082, 129.4835, 3766,     50.1,  24.0698,  34.6267,2,-999.0000,9,    210.4,2,  -999.00,9,  -999.00,9,  -999.00,9,  -999.00,9,   -999.0,9,   -999.0,9,-999.0000,9,  -999.00,     1047
  49UP20101110,RF1007,  3832,  1,     31,  22104,2,20101211,0953, 25.0082, 129.4835, 3766,     74.8,  23.8836,  34.6079,2,-999.0000,9,    210.5,2,  -999.00,9,  -999.00,9,  -999.00,9,  -999.00,9,   -999.0,9,   -999.0,9,-999.0000,9,  -999.00,     1046
  49UP20101110,RF1007,  3832,  1,     30,  22103,2,20101211,0953, 25.0082, 129.4835, 3766,     74.8,  23.8836,  34.6079,2,-999.0000,9,    210.1,2,  -999.00,9,  -999.00,9,  -999.00,9,  -999.00,9,   -999.0,9,   -999.0,9,-999.0000,9,  -999.00,     1046
  49UP20101110,RF1007,  3832,  1,     29,  22102,2,20101211,0953, 25.0082, 129.4835, 3766,    101.6,  23.6944,  34.6582,2,  34.6687,4,    210.0,2,  -999.00,9,  -999.00,9,  -999.00,9,  -999.00,9,   -999.0,9,   -999.0,9,-999.0000,9,  -999.00,     1045
  49UP20101110,RF1007,  3832,  1,     28,  22101,2,20101211,0953, 25.0082, 129.4835, 3766,    127.4,  21.4172,  34.7657,2,-999.0000,9,    203.5,2,  -999.00,9,  -999.00,9,  -999.00,9,  -999.00,9,   -999.0,9,   -999.0,9,-999.0000,9,  -999.00,     1043
  49UP20101110,RF1007,  3832,  1,     25,  22098,2,20101211,0953, 25.0082, 129.4835, 3766,    151.7,  20.4681,  34.7497,2,-999.0000,9,    203.8,2,  -999.00,9,  -999.00,9,  -999.00,9,  -999.00,9,   -999.0,9,   -999.0,9,-999.0000,9,  -999.00,     1042
  49UP20101110,RF1007,  3832,  1,     23,  22096,2,20101211,0953, 25.0082, 129.4835, 3766,    200.9,  19.5164,  34.7277,2,  34.7281,2,    207.0,2,  -999.00,9,  -999.00,9,  -999.00,9,  -999.00,9,   -999.0,9,   -999.0,9,-999.0000,9,  -999.00,     1040
  49UP20101110,RF1007,  3832,  1,     22,  22095,2,20101211,0953, 25.0082, 129.4835, 3766,    252.2,  18.6994,  34.7232,2,-999.0000,9,    203.6,6,  -999.00,9,  -999.00,9,  -999.00,9,  -999.00,9,   -999.0,9,   -999.0,9,-999.0000,9,  -999.00,     1039
  49UP20101110,RF1007,  3832,  1,     21,  22094,2,20101211,0953, 25.0082, 129.4835, 3766,    302.9,  17.8013,  34.7353,2,-999.0000,9,    192.7,2,  -999.00,9,  -999.00,9,  -999.00,9,  -999.00,9,   -999.0,9,   -999.0,9,-999.0000,9,  -999.00,     1037
  49UP20101110,RF1007,  3832,  1,     20,  22093,2,20101211,0953, 25.0082, 129.4835, 3766,    405.0,  15.6311,  34.6263,2,  34.7351,4,    186.6,2,  -999.00,9,  -999.00,9,  -999.00,9,  -999.00,9,   -999.0,9,   -999.0,9,-999.0000,9,  -999.00,     1034
  49UP20101110,RF1007,  3832,  1,     18,  22091,2,20101211,0953, 25.0082, 129.4835, 3766,    504.6,  12.5521,  34.3994,2,-999.0000,9,    175.9,2,  -999.00,9,  -999.00,9,  -999.00,9,  -999.00,9,   -999.0,9,   -999.0,9,-999.0000,9,  -999.00,     1031
  49UP20101110,RF1007,  3832,  1,     16,  22089,2,20101211,0953, 25.0082, 129.4835, 3766,    605.4,   8.9221,  34.1999,2,  34.2012,2,    150.7,2,  -999.00,9,  -999.00,9,  -999.00,9,  -999.00,9,   -999.0,9,   -999.0,9,-999.0000,9,  -999.00,     1028
  49UP20101110,RF1007,  3832,  1,     15,  22088,2,20101211,0953, 25.0082, 129.4835, 3766,    707.3,   6.9682,  34.1452,2,-999.0000,9,    122.5,2,  -999.00,9,  -999.00,9,  -999.00,9,  -999.00,9,   -999.0,9,   -999.0,9,-999.0000,9,  -999.00,     1025
  49UP20101110,RF1007,  3832,  1,     14,  22087,2,20101211,0953, 25.0082, 129.4835, 3766,    707.3,   6.9682,  34.1452,2,-999.0000,9,    122.2,2,  -999.00,9,  -999.00,9,  -999.00,9,  -999.00,9,   -999.0,9,   -999.0,9,-999.0000,9,  -999.00,     1025
  49UP20101110,RF1007,  3832,  1,     13,  22086,2,20101211,0953, 25.0082, 129.4835, 3766,    808.9,   5.4859,  34.1830,2,  34.1831,2,     89.1,2,  -999.00,9,  -999.00,9,  -999.00,9,  -999.00,9,   -999.0,9,   -999.0,9,-999.0000,9,  -999.00,     1022
  49UP20101110,RF1007,  3832,  1,     12,  22085,2,20101211,0953, 25.0082, 129.4835, 3766,    907.6,   4.7290,  34.2775,2,-999.0000,9,     64.6,2,  -999.00,9,  -999.00,9,  -999.00,9,  -999.00,9,   -999.0,9,   -999.0,9,-999.0000,9,  -999.00,     1020
  49UP20101110,RF1007,  3832,  1,     11,  22110,2,20101211,0953, 25.0082, 129.4835, 3766,   1012.2,   4.2215,  34.3415,2,  34.3417,2,     59.8,2,  -999.00,9,  -999.00,9,  -999.00,9,  -999.00,9,   -999.0,9,   -999.0,9,-999.0000,9,  -999.00,     1017
  49UP20101110,RF1007,  3832,  1,     10,  22083,2,20101211,0953, 25.0082, 129.4835, 3766,   1212.3,   3.3921,  34.4425,2,  34.4431,6,     64.4,2,  -999.00,9,  -999.00,9,  -999.00,9,  -999.00,9,   -999.0,9,   -999.0,9,-999.0000,9,  -999.00,     1012
  49UP20101110,RF1007,  3832,  1,      7,  22080,2,20101211,0953, 25.0082, 129.4835, 3766,   1418.6,   2.8524,  34.5016,2,  34.5018,6,     74.9,6,  -999.00,9,  -999.00,9,  -999.00,9,  -999.00,9,   -999.0,9,   -999.0,9,-999.0000,9,  -999.00,     1007
  49UP20101110,RF1007,  3832,  1,      5,  22078,2,20101211,0953, 25.0082, 129.4835, 3766,   1618.9,   2.4591,  34.5494,2,  34.5496,2,     88.4,2,  -999.00,9,  -999.00,9,  -999.00,9,  -999.00,9,   -999.0,9,   -999.0,9,-999.0000,9,  -999.00,     1002
  49UP20101110,RF1007,  3832,  1,      3,  22076,2,20101211,0953, 25.0082, 129.4835, 3766,   1821.6,   2.1962,  34.5839,2,  34.5843,2,    101.0,2,  -999.00,9,  -999.00,9,  -999.00,9,  -999.00,9,   -999.0,9,   -999.0,9,-999.0000,9,  -999.00,      958
  49UP20101110,RF1007,  3832,  1,      1,  22074,2,20101211,0953, 25.0082, 129.4835, 3766,   2022.6,   2.0083,  34.6107,2,  34.6110,2,    112.3,2,  -999.00,9,  -999.00,9,  -999.00,9,  -999.00,9,   -999.0,9,   -999.0,9,-999.0000,9,  -999.00,      953