BOTTLE,20200204PRINUNIVRMK
EXPOCODE,SECT_ID,STNNBR,CASTNO,SAMPNO,BTLNBR,BTLNBR_FLAG_W,DATE,TIME,LATITUDE,LONGITUDE,DEPTH,CTDPRS,CTDTMP,CTDSAL,CTDSAL_FLAG_W,SALNTY,SALNTY_FLAG_W,OXYGEN,OXYGEN_FLAG_W,SILCAT,SILCAT_FLAG_W,NITRAT,NITRAT_FLAG_W,NITRIT,NITRIT_FLAG_W,PHSPHT,PHSPHT_FLAG_W,TCARBN,TCARBN_FLAG_W,ALKALI,ALKALI_FLAG_W,PH_TOT,PH_TOT_FLAG_W,PH_TMP,BTL_TIME
,,,,,,,,,,,METERS,DBAR,ITS-90,PSS-78,,PSS-78,,UMOL/KG,,UMOL/KG,,UMOL/KG,,UMOL/KG,,UMOL/KG,,UMOL/KG,,UMOL/KG,,,,DEG C,
  49UP20101110,RF1007,  3841,  1,     99,     99,2,20101212,2305, 23.7387, 132.9765, 4011,      0.0,  23.7757,  34.6266,2,-999.0000,9,    211.2,2,     1.39,2,     0.06,2,  -999.00,5,     0.01,2,   -999.0,9,   -999.0,9,-999.0000,9,  -999.00,     2347
  49UP20101110,RF1007,  3841,  1,     36,  22109,2,20101212,2305, 23.7387, 132.9765, 4011,     11.8,  23.7672,  34.6269,2,  34.6271,6,    211.3,2,     1.36,2,     0.03,2,  -999.00,5,     0.00,2,   -999.0,9,   -999.0,9,-999.0000,9,  -999.00,        7
  49UP20101110,RF1007,  3841,  1,     33,  22106,2,20101212,2305, 23.7387, 132.9765, 4011,     27.0,  23.7649,  34.6273,2,-999.0000,9,    211.2,2,     1.40,2,     0.01,2,  -999.00,5,     0.00,2,   -999.0,9,   -999.0,9,-999.0000,9,  -999.00,        6
  49UP20101110,RF1007,  3841,  1,     32,  22105,2,20101212,2305, 23.7387, 132.9765, 4011,     50.1,  23.6586,  34.6247,2,-999.0000,9,    211.9,2,     1.34,2,     0.02,2,  -999.00,5,     0.00,2,   -999.0,9,   -999.0,9,-999.0000,9,  -999.00,        2
  49UP20101110,RF1007,  3841,  1,     31,  22104,2,20101212,2305, 23.7387, 132.9765, 4011,     75.1,  23.5427,  34.6203,2,-999.0000,9,    211.5,2,     1.38,2,     0.04,2,  -999.00,5,     0.00,2,   -999.0,9,   -999.0,9,-999.0000,9,  -999.00,        0
  49UP20101110,RF1007,  3841,  1,     29,  22102,2,20101212,2305, 23.7387, 132.9765, 4011,    102.6,  23.1537,  34.6508,2,  34.6486,2,    207.7,6,     1.78,6,     0.27,6,  -999.00,5,     0.03,6,   -999.0,9,   -999.0,9,-999.0000,9,  -999.00,     2359
  49UP20101110,RF1007,  3841,  1,     28,  22101,2,20101212,2305, 23.7387, 132.9765, 4011,    125.7,  20.8399,  34.7623,2,-999.0000,9,    198.5,2,     2.39,2,     1.70,2,  -999.00,5,     0.11,2,   -999.0,9,   -999.0,9,-999.0000,9,  -999.00,     2358
  49UP20101110,RF1007,  3841,  1,     25,  22098,2,20101212,2305, 23.7387, 132.9765, 4011,    151.4,  19.8589,  34.7443,2,-999.0000,9,    199.6,2,     2.50,2,     2.13,2,  -999.00,5,     0.14,2,   -999.0,9,   -999.0,9,-999.0000,9,  -999.00,     2356
  49UP20101110,RF1007,  3841,  1,     23,  22096,2,20101212,2305, 23.7387, 132.9765, 4011,    201.1,  18.8235,  34.7297,2,  34.7295,2,    200.9,2,     2.84,2,     3.11,2,  -999.00,5,     0.20,2,   -999.0,9,   -999.0,9,-999.0000,9,  -999.00,     2354
  49UP20101110,RF1007,  3841,  1,     22,  22095,2,20101212,2305, 23.7387, 132.9765, 4011,    250.5,  17.8407,  34.7295,2,-999.0000,9,    193.0,2,     4.58,2,     5.18,2,  -999.00,5,     0.34,2,   -999.0,9,   -999.0,9,-999.0000,9,  -999.00,     2353
  49UP20101110,RF1007,  3841,  1,     21,  22094,2,20101212,2305, 23.7387, 132.9765, 4011,    303.0,  17.0508,  34.7087,2,-999.0000,9,    190.2,2,     5.97,2,     6.45,2,  -999.00,5,     0.43,2,   -999.0,9,   -999.0,9,-999.0000,9,  -999.00,     2351
  49UP20101110,RF1007,  3841,  1,     20,  22093,2,20101212,2305, 23.7387, 132.9765, 4011,    303.0,  17.0508,  34.7087,2,-999.0000,9,    190.7,2,     5.70,2,     6.50,2,  -999.00,5,     0.43,2,   -999.0,9,   -999.0,9,-999.0000,9,  -999.00,     2351
  49UP20101110,RF1007,  3841,  1,     18,  22091,2,20101212,2305, 23.7387, 132.9765, 4011,    404.9,  13.8597,  34.5078,2,  34.5156,4,    178.8,2,    14.46,2,    12.24,2,  -999.00,5,     0.84,2,   -999.0,9,   -999.0,9,-999.0000,9,  -999.00,     2347
  49UP20101110,RF1007,  3841,  1,     16,  22089,2,20101212,2305, 23.7387, 132.9765, 4011,    506.0,  10.6639,  34.3116,2,-999.0000,9,    159.9,2,    29.95,2,    19.29,2,  -999.00,5,     1.37,2,   -999.0,9,   -999.0,9,-999.0000,9,  -999.00,     2344
  49UP20101110,RF1007,  3841,  1,     15,  22088,2,20101212,2305, 23.7387, 132.9765, 4011,    607.8,   7.4798,  34.1605,2,  34.1608,2,    129.6,2,    54.05,2,    27.64,2,  -999.00,5,     1.99,2,   -999.0,9,   -999.0,9,-999.0000,9,  -999.00,     2341
  49UP20101110,RF1007,  3841,  1,     14,  22087,2,20101212,2305, 23.7387, 132.9765, 4011,    707.4,   5.9308,  34.1601,2,-999.0000,9,    101.1,2,    74.35,2,    32.81,2,  -999.00,5,     2.37,2,   -999.0,9,   -999.0,9,-999.0000,9,  -999.00,     2338
  49UP20101110,RF1007,  3841,  1,     13,  22086,2,20101212,2305, 23.7387, 132.9765, 4011,    808.2,   4.8259,  34.2340,2,  34.2331,2,     71.6,6,    93.86,6,    37.19,6,  -999.00,5,     2.70,6,   -999.0,9,   -999.0,9,-999.0000,9,  -999.00,     2335
  49UP20101110,RF1007,  3841,  1,     12,  22085,2,20101212,2305, 23.7387, 132.9765, 4011,    908.4,   4.2382,  34.3096,2,-999.0000,9,     59.1,2,   106.28,2,    39.15,2,  -999.00,5,     2.83,2,   -999.0,9,   -999.0,9,-999.0000,9,  -999.00,     2332
  49UP20101110,RF1007,  3841,  1,     11,  22110,2,20101212,2305, 23.7387, 132.9765, 4011,   1010.0,   3.7494,  34.3746,2,  34.3741,2,     56.4,2,   117.38,2,    40.08,2,  -999.00,5,     2.89,2,   -999.0,9,   -999.0,9,-999.0000,9,  -999.00,     2329
  49UP20101110,RF1007,  3841,  1,     10,  22083,2,20101212,2305, 23.7387, 132.9765, 4011,   1213.7,   3.0551,  34.4705,2,  34.4691,2,     65.2,2,   131.46,2,    40.22,2,  -999.00,5,     2.88,2,   -999.0,9,   -999.0,9,-999.0000,9,  -999.00,     2324
  49UP20101110,RF1007,  3841,  1,      7,  22080,2,20101212,2305, 23.7387, 132.9765, 4011,   1413.8,   2.6187,  34.5280,2,  34.5286,2,     80.3,2,   138.19,2,    39.53,2,  -999.00,5,     2.82,2,   -999.0,9,   -999.0,9,-999.0000,9,  -999.00,     2319
  49UP20101110,RF1007,  3841,  1,      6,  22079,2,20101212,2305, 23.7387, 132.9765, 4011,   1617.4,   2.3327,  34.5688,2,  34.5683,2,     94.3,2,   140.32,2,    38.70,2,  -999.00,5,     2.75,2,   -999.0,9,   -999.0,9,-999.0000,9,  -999.00,     2314
  49UP20101110,RF1007,  3841,  1,      5,  22078,2,20101212,2305, 23.7387, 132.9765, 4011,   1617.4,   2.3327,  34.5688,2,  34.5576,4,     94.5,2,   140.56,2,    38.81,2,  -999.00,5,     2.76,2,   -999.0,9,   -999.0,9,-999.0000,9,  -999.00,     2314
  49UP20101110,RF1007,  3841,  1,      3,  22076,2,20101212,2305, 23.7387, 132.9765, 4011,   1818.3,   2.0902,  34.5986,2,  34.5982,2,    106.6,2,   142.26,2,    38.14,2,  -999.00,5,     2.71,2,   -999.0,9,   -999.0,9,-999.0000,9,  -999.00,     2310
  49UP20101110,RF1007,  3841,  1,      1,  22074,2,20101212,2305, 23.7387, 132.9765, 4011,   2022.4,   1.9114,  34.6213,2,  34.6207,6,    118.0,2,   142.57,2,    37.57,2,  -999.00,5,     2.66,2,   -999.0,9,   -999.0,9,-999.0000,9,  -999.00,     2305
  49UP20101110,RF1007,  3844,  1,     99,     99,2,20101213,1105, 24.2520, 133.9980, 4911,      0.0,  25.1504,  34.6897,2,-999.0000,9,    206.9,2,     1.27,3,     0.00,2,  -999.00,5,     0.00,2,   -999.0,9,   -999.0,9,-999.0000,9,  -999.00,     1142
  49UP20101110,RF1007,  3844,  1,     36,  22109,2,20101213,1105, 24.2520, 133.9980, 4911,     11.0,  25.1473,  34.6903,2,-999.0000,9,    207.6,2,     1.27,3,     0.00,2,  -999.00,5,     0.00,2,   -999.0,9,   -999.0,9,-999.0000,9,  -999.00,     1205
  49UP20101110,RF1007,  3844,  1,     33,  22106,2,20101213,1105, 24.2520, 133.9980, 4911,     26.9,  24.8637,  34.7202,2,-999.0000,9,    208.4,2,     1.40,3,     0.00,2,  -999.00,5,     0.00,2,   -999.0,9,   -999.0,9,-999.0000,9,  -999.00,     1203
  49UP20101110,RF1007,  3844,  1,     32,  22105,2,20101213,1105, 24.2520, 133.9980, 4911,     51.7,  24.8269,  34.7186,2,-999.0000,9,    208.6,2,     1.30,3,     0.00,2,  -999.00,5,     0.00,2,   -999.0,9,   -999.0,9,-999.0000,9,  -999.00,     1159
  49UP20101110,RF1007,  3844,  1,     30,  22103,2,20101213,1105, 24.2520, 133.9980, 4911,     75.6,  23.9106,  34.7265,2,-999.0000,9,    215.8,6,     1.45,3,     0.00,6,  -999.00,5,     0.00,6,   -999.0,9,   -999.0,9,-999.0000,9,  -999.00,     1157
  49UP20101110,RF1007,  3844,  1,     29,  22102,2,20101213,1105, 24.2520, 133.9980, 4911,    101.0,  21.7770,  34.7497,2,-999.0000,9,    214.1,2,     1.83,3,     0.00,2,  -999.00,5,     0.00,2,   -999.0,9,   -999.0,9,-999.0000,9,  -999.00,     1156
  49UP20101110,RF1007,  3844,  1,     28,  22101,2,20101213,1105, 24.2520, 133.9980, 4911,    123.9,  20.6176,  34.7440,2,-999.0000,9,    203.3,2,     2.10,3,     1.16,2,  -999.00,5,     0.07,2,   -999.0,9,   -999.0,9,-999.0000,9,  -999.00,     1155
  49UP20101110,RF1007,  3844,  1,     25,  22098,2,20101213,1105, 24.2520, 133.9980, 4911,    151.8,  19.4975,  34.7364,2,-999.0000,9,    201.8,2,     2.41,3,     2.22,2,  -999.00,5,     0.13,2,   -999.0,9,   -999.0,9,-999.0000,9,  -999.00,     1154
  49UP20101110,RF1007,  3844,  1,     23,  22096,2,20101213,1105, 24.2520, 133.9980, 4911,    201.2,  18.0840,  34.7249,2,-999.0000,9,    197.4,2,     3.72,3,     4.36,2,  -999.00,5,     0.27,2,   -999.0,9,   -999.0,9,-999.0000,9,  -999.00,     1152
  49UP20101110,RF1007,  3844,  1,     22,  22095,2,20101213,1105, 24.2520, 133.9980, 4911,    252.2,  17.0770,  34.7080,2,-999.0000,9,    190.4,2,     5.93,3,     6.55,2,  -999.00,5,     0.42,2,   -999.0,9,   -999.0,9,-999.0000,9,  -999.00,     1150
  49UP20101110,RF1007,  3844,  1,     21,  22094,2,20101213,1105, 24.2520, 133.9980, 4911,    301.3,  16.1694,  34.6618,2,-999.0000,9,    186.8,2,     7.82,3,     8.18,2,  -999.00,5,     0.53,2,   -999.0,9,   -999.0,9,-999.0000,9,  -999.00,     1150
  49UP20101110,RF1007,  3844,  1,     20,  22093,2,20101213,1105, 24.2520, 133.9980, 4911,    301.3,  16.1694,  34.6618,2,-999.0000,9,    187.1,2,     7.90,3,     8.18,2,  -999.00,5,     0.53,2,   -999.0,9,   -999.0,9,-999.0000,9,  -999.00,     1148
  49UP20101110,RF1007,  3844,  1,     18,  22091,2,20101213,1105, 24.2520, 133.9980, 4911,    402.5,  13.9191,  34.5069,2,-999.0000,9,    183.5,2,    13.80,3,    12.02,2,  -999.00,5,     0.81,2,   -999.0,9,   -999.0,9,-999.0000,9,  -999.00,     1145
  49UP20101110,RF1007,  3844,  1,     16,  22089,2,20101213,1105, 24.2520, 133.9980, 4911,    504.3,  11.2310,  34.3274,2,-999.0000,9,    170.2,2,    25.16,3,    17.61,2,  -999.00,5,     1.23,2,   -999.0,9,   -999.0,9,-999.0000,9,  -999.00,     1143
  49UP20101110,RF1007,  3844,  1,     15,  22088,2,20101213,1105, 24.2520, 133.9980, 4911,    605.5,   8.2558,  34.1711,2,-999.0000,9,    142.5,2,    45.86,3,    25.24,2,  -999.00,5,     1.81,2,   -999.0,9,   -999.0,9,-999.0000,9,  -999.00,     1140
  49UP20101110,RF1007,  3844,  1,     14,  22087,2,20101213,1105, 24.2520, 133.9980, 4911,    707.0,   5.7815,  34.1595,2,-999.0000,9,     98.1,6,    76.55,3,    33.41,6,  -999.00,5,     2.41,6,   -999.0,9,   -999.0,9,-999.0000,9,  -999.00,     1137
  49UP20101110,RF1007,  3844,  1,     13,  22086,2,20101213,1105, 24.2520, 133.9980, 4911,    808.3,   4.6939,  34.2480,2,-999.0000,9,     71.2,2,    97.92,3,    37.35,2,  -999.00,5,     2.69,2,   -999.0,9,   -999.0,9,-999.0000,9,  -999.00,     1134
  49UP20101110,RF1007,  3844,  1,     12,  22085,2,20101213,1105, 24.2520, 133.9980, 4911,    910.1,   4.0017,  34.3222,2,-999.0000,9,     59.8,2,   113.53,3,    39.38,2,  -999.00,5,     2.84,2,   -999.0,9,   -999.0,9,-999.0000,9,  -999.00,     1132
  49UP20101110,RF1007,  3844,  1,     11,  22110,2,20101213,1105, 24.2520, 133.9980, 4911,   1010.7,   3.5291,  34.3767,2,-999.0000,9,     55.2,2,   124.02,3,    40.34,2,  -999.00,5,     2.90,2,   -999.0,9,   -999.0,9,-999.0000,9,  -999.00,     1129
  49UP20101110,RF1007,  3844,  1,     10,  22083,2,20101213,1105, 24.2520, 133.9980, 4911,   1212.0,   2.9636,  34.4666,2,-999.0000,9,     63.2,2,   134.76,3,    40.42,2,  -999.00,5,     2.90,2,   -999.0,9,   -999.0,9,-999.0000,9,  -999.00,     1124
  49UP20101110,RF1007,  3844,  1,      7,  22080,2,20101213,1105, 24.2520, 133.9980, 4911,   1414.7,   2.5651,  34.5353,2,-999.0000,9,     82.3,2,   138.32,3,    39.42,2,  -999.00,5,     2.80,2,   -999.0,9,   -999.0,9,-999.0000,9,  -999.00,     1120
  49UP20101110,RF1007,  3844,  1,      6,  22079,2,20101213,1105, 24.2520, 133.9980, 4911,   1414.7,   2.5651,  34.5353,2,-999.0000,9,     82.5,2,   139.23,3,    39.51,2,  -999.00,5,     2.82,2,   -999.0,9,   -999.0,9,-999.0000,9,  -999.00,     1119
  49UP20101110,RF1007,  3844,  1,      5,  22078,2,20101213,1105, 24.2520, 133.9980, 4911,   1617.2,   2.2439,  34.5772,2,-999.0000,9,     98.1,2,   141.60,3,    38.68,2,  -999.00,5,     2.74,2,   -999.0,9,   -999.0,9,-999.0000,9,  -999.00,     1115
  49UP20101110,RF1007,  3844,  1,      3,  22076,2,20101213,1105, 24.2520, 133.9980, 4911,   1820.8,   2.0433,  34.6044,2,-999.0000,9,    109.0,2,   142.85,3,    38.14,2,  -999.00,5,     2.70,2,   -999.0,9,   -999.0,9,-999.0000,9,  -999.00,     1110
  49UP20101110,RF1007,  3844,  1,      1,  22074,2,20101213,1105, 24.2520, 133.9980, 4911,   2022.4,   1.8775,  34.6258,2,-999.0000,9,    119.9,2,   143.19,3,    37.53,2,  -999.00,5,     2.64,2,   -999.0,9,   -999.0,9,-999.0000,9,  -999.00,     1105
  49UP20101110,RF1007,  3846,  1,     99,     99,2,20101213,1925, 24.2433, 134.9947, 5138,      0.0,  25.4129,  34.7112,2,-999.0000,9,    207.0,2,     1.68,2,     0.00,2,  -999.00,5,     0.01,2,   -999.0,9,   -999.0,9,-999.0000,9,  -999.00,     2008
  49UP20101110,RF1007,  3846,  1,     36,  22109,2,20101213,1925, 24.2433, 134.9947, 5138,     13.1,  25.4110,  34.7107,2,-999.0000,9,    207.4,2,     1.62,2,     0.00,2,  -999.00,5,     0.00,2,   1953.8,2,   2278.8,2,   8.1076,2,    25.00,     2025
  49UP20101110,RF1007,  3846,  1,     33,  22106,2,20101213,1925, 24.2433, 134.9947, 5138,     26.8,  25.4149,  34.7109,2,-999.0000,9,    207.3,2,     1.59,2,     0.02,2,  -999.00,5,     0.00,2,   1952.7,2,   2277.4,2,   8.0995,2,    25.00,     2023
  49UP20101110,RF1007,  3846,  1,     32,  22105,2,20101213,1925, 24.2433, 134.9947, 5138,     51.6,  25.4037,  34.7070,2,-999.0000,9,    207.4,6,     1.63,6,     0.00,6,  -999.00,5,     0.01,6,   1950.8,2,   2277.0,2,   8.1014,2,    25.00,     2020
  49UP20101110,RF1007,  3846,  1,     31,  22104,2,20101213,1925, 24.2433, 134.9947, 5138,     75.9,  24.6671,  34.6917,2,-999.0000,9,    214.0,2,     1.53,2,     0.06,2,  -999.00,5,     0.00,2,   1953.7,2,   2278.4,2,   8.0975,2,    25.00,     2018
  49UP20101110,RF1007,  3846,  1,     30,  22103,2,20101213,1925, 24.2433, 134.9947, 5138,    101.0,  21.5027,  34.7514,2,-999.0000,9,    218.0,2,     1.83,2,     0.00,2,  -999.00,5,     0.01,2,   1990.4,2,   2280.5,2,   8.0438,2,    25.00,     2017
  49UP20101110,RF1007,  3846,  1,     29,  22102,2,20101213,1925, 24.2433, 134.9947, 5138,    128.9,  19.6264,  34.7407,2,-999.0000,9,    201.9,2,     2.43,2,     1.71,2,  -999.00,5,     0.12,2,   2011.2,2,   2280.0,2,   8.0030,2,    25.00,     2016
  49UP20101110,RF1007,  3846,  1,     28,  22101,2,20101213,1925, 24.2433, 134.9947, 5138,    128.9,  19.6264,  34.7407,2,-999.0000,9,    201.8,2,     2.57,2,     1.73,2,  -999.00,5,     0.13,2,   2011.1,2,   2278.8,2,   8.0065,2,    25.00,     2015
  49UP20101110,RF1007,  3846,  1,     25,  22098,2,20101213,1925, 24.2433, 134.9947, 5138,    152.1,  19.1050,  34.7374,2,-999.0000,9,    199.9,2,     2.92,2,     2.81,2,  -999.00,5,     0.18,2,   2014.5,2,   2277.1,2,   7.9912,2,    25.00,     2014
  49UP20101110,RF1007,  3846,  1,     23,  22096,2,20101213,1925, 24.2433, 134.9947, 5138,    204.5,  18.2150,  34.7249,2,-999.0000,9,    198.1,2,     3.79,2,     4.10,2,  -999.00,5,     0.27,2,   2027.1,2,   2276.5,2,   7.9693,2,    25.00,     2012
  49UP20101110,RF1007,  3846,  1,     22,  22095,2,20101213,1925, 24.2433, 134.9947, 5138,    253.5,  17.3299,  34.7159,2,-999.0000,9,    192.0,2,     5.39,2,     5.99,2,  -999.00,5,     0.40,2,   2043.7,2,   2276.9,2,   7.9426,2,    25.00,     2010
  49UP20101110,RF1007,  3846,  1,     21,  22094,2,20101213,1925, 24.2433, 134.9947, 5138,    303.0,  16.1146,  34.6559,2,-999.0000,9,    188.4,2,     8.01,2,     8.19,2,  -999.00,5,     0.54,2,   2054.9,2,   2277.0,2,   7.8965,2,    25.00,     2009
  49UP20101110,RF1007,  3846,  1,     20,  22093,2,20101213,1925, 24.2433, 134.9947, 5138,    403.8,  13.7415,  34.4927,2,-999.0000,9,    184.4,2,    14.09,2,    12.10,2,  -999.00,5,     0.83,2,   2090.7,2,   2273.2,2,   7.8361,2,    25.00,     2006
  49UP20101110,RF1007,  3846,  1,     18,  22091,2,20101213,1925, 24.2433, 134.9947, 5138,    507.4,  10.4213,  34.2742,2,-999.0000,9,    169.4,2,    28.80,2,    18.89,2,  -999.00,5,     1.34,2,   2139.1,2,   2276.5,2,   7.7131,2,    25.00,     2003
  49UP20101110,RF1007,  3846,  1,     16,  22089,2,20101213,1925, 24.2433, 134.9947, 5138,    609.0,   7.6699,  34.1486,2,-999.0000,9,    138.4,6,    50.84,6,    26.64,6,  -999.00,5,     1.92,6,   2195.7,2,   2288.1,2,   7.5975,2,    25.00,     2000
  49UP20101110,RF1007,  3846,  1,     15,  22088,2,20101213,1925, 24.2433, 134.9947, 5138,    707.8,   5.7605,  34.1524,2,-999.0000,9,     96.2,2,    77.18,2,    33.71,2,  -999.00,5,     2.43,2,   2261.8,2,   2311.5,2,   7.4725,2,    25.00,     1957
  49UP20101110,RF1007,  3846,  1,     14,  22087,2,20101213,1925, 24.2433, 134.9947, 5138,    808.4,   4.8528,  34.2177,2,-999.0000,9,     73.6,2,    93.95,2,    37.09,2,  -999.00,5,     2.67,2,   2302.7,2,   2328.8,2,   7.4347,2,    25.00,     1955
  49UP20101110,RF1007,  3846,  1,     13,  22086,2,20101213,1925, 24.2433, 134.9947, 5138,    908.8,   4.0722,  34.3064,2,-999.0000,9,     59.2,2,   110.90,2,    39.49,2,  -999.00,5,     2.83,2,   2320.0,2,   2345.3,2,   7.4080,2,    25.00,     1952
  49UP20101110,RF1007,  3846,  1,     12,  22085,2,20101213,1925, 24.2433, 134.9947, 5138,   1009.8,   3.6807,  34.3621,2,-999.0000,9,     55.1,2,   120.19,2,    40.43,2,  -999.00,5,     2.89,2,   2341.1,2,   2366.9,2,   7.3857,2,    25.00,     1949
  49UP20101110,RF1007,  3846,  1,     11,  22110,2,20101213,1925, 24.2433, 134.9947, 5138,   1212.2,   3.1194,  34.4543,2,-999.0000,9,     62.0,2,   131.49,2,    40.62,2,  -999.00,5,     2.90,2,   2351.6,2,   2381.3,2,   7.4224,2,    25.00,     1944
  49UP20101110,RF1007,  3846,  1,     10,  22083,2,20101213,1925, 24.2433, 134.9947, 5138,   1212.2,   3.1194,  34.4543,2,-999.0000,9,     62.5,2,   131.71,2,    40.63,2,  -999.00,5,     2.89,2,   2351.6,6,   2379.9,2,   7.4236,6,    25.00,     1944
  49UP20101110,RF1007,  3846,  1,      7,  22080,2,20101213,1925, 24.2433, 134.9947, 5138,   1415.2,   2.6828,  34.5231,2,-999.0000,9,     78.1,2,   137.80,2,    39.89,2,  -999.00,5,     2.83,2,   2351.8,2,   2392.0,2,   7.4556,2,    25.00,     1939
  49UP20101110,RF1007,  3846,  1,      5,  22078,2,20101213,1925, 24.2433, 134.9947, 5138,   1617.4,   2.3861,  34.5682,2,-999.0000,9,     94.2,2,   140.41,2,    39.08,2,  -999.00,5,     2.76,2,   2348.7,2,   2401.8,2,   7.4864,6,    25.00,     1934
  49UP20101110,RF1007,  3846,  1,      3,  22076,2,20101213,1925, 24.2433, 134.9947, 5138,   1821.4,   2.1648,  34.5978,2,-999.0000,9,    106.9,2,   141.81,2,    38.36,2,  -999.00,5,     2.71,2,   2346.1,6,   2403.3,6,   7.5107,2,    25.00,     1930
  49UP20101110,RF1007,  3846,  1,      1,  22074,2,20101213,1925, 24.2433, 134.9947, 5138,   2025.2,   1.9695,  34.6175,2,-999.0000,9,    116.0,2,   142.62,2,    38.00,2,  -999.00,5,     2.67,2,   2340.1,2,   2413.3,2,   7.5208,2,    25.00,     1925