BOTTLE,20200204PRINUNIVRMK
EXPOCODE,SECT_ID,STNNBR,CASTNO,SAMPNO,BTLNBR,BTLNBR_FLAG_W,DATE,TIME,LATITUDE,LONGITUDE,DEPTH,CTDPRS,CTDTMP,CTDSAL,CTDSAL_FLAG_W,SALNTY,SALNTY_FLAG_W,OXYGEN,OXYGEN_FLAG_W,SILCAT,SILCAT_FLAG_W,NITRAT,NITRAT_FLAG_W,NITRIT,NITRIT_FLAG_W,PHSPHT,PHSPHT_FLAG_W,TCARBN,TCARBN_FLAG_W,ALKALI,ALKALI_FLAG_W,PH_TOT,PH_TOT_FLAG_W,PH_TMP,BTL_TIME
,,,,,,,,,,,METERS,DBAR,ITS-90,PSS-78,,PSS-78,,UMOL/KG,,UMOL/KG,,UMOL/KG,,UMOL/KG,,UMOL/KG,,UMOL/KG,,UMOL/KG,,,,DEG C,
  49UP20101110,RF1007,  3811,  1,     99,     99,2,20101209,0111, 28.6985, 126.4485,  129,      0.0,  23.4106,  34.5896,2,-999.0000,9,    210.8,2,     1.28,2,    -0.01,2,     0.07,2,     0.04,2,   -999.0,9,   -999.0,9,-999.0000,9,  -999.00,      104
  49UP20101110,RF1007,  3811,  1,     14,  22087,2,20101209,0111, 28.6985, 126.4485,  129,     10.9,  23.4297,  34.5884,2,  34.5895,2,    210.4,2,     1.23,2,     0.01,2,     0.06,2,     0.03,2,   -999.0,9,   -999.0,9,-999.0000,9,  -999.00,      121
  49UP20101110,RF1007,  3811,  1,     12,  22085,2,20101209,0111, 28.6985, 126.4485,  129,     21.2,  23.4272,  34.5891,2,-999.0000,9,    211.0,2,     1.51,2,    -0.05,2,     0.06,2,     0.03,2,   -999.0,9,   -999.0,9,-999.0000,9,  -999.00,      120
  49UP20101110,RF1007,  3811,  1,     10,  22083,2,20101209,0111, 28.6985, 126.4485,  129,     31.0,  23.4189,  34.5849,2,-999.0000,9,    212.1,2,     1.36,2,     0.08,2,     0.07,2,     0.04,2,   -999.0,9,   -999.0,9,-999.0000,9,  -999.00,      119
  49UP20101110,RF1007,  3811,  1,      7,  22080,2,20101209,0111, 28.6985, 126.4485,  129,     52.5,  23.3869,  34.5742,2,-999.0000,9,    210.3,2,     1.30,2,     0.07,2,     0.10,2,     0.04,2,   -999.0,9,   -999.0,9,-999.0000,9,  -999.00,      117
  49UP20101110,RF1007,  3811,  1,      6,  22079,2,20101209,0111, 28.6985, 126.4485,  129,     52.5,  23.3869,  34.5742,2,-999.0000,9,    210.8,2,     1.42,2,     0.06,2,     0.09,2,     0.04,2,   -999.0,9,   -999.0,9,-999.0000,9,  -999.00,      116
  49UP20101110,RF1007,  3811,  1,      5,  22078,2,20101209,0111, 28.6985, 126.4485,  129,     76.9,  22.0431,  34.5023,2,-999.0000,9,    199.9,6,     3.48,6,     2.05,6,     0.33,6,     0.19,6,   -999.0,9,   -999.0,9,-999.0000,9,  -999.00,      115
  49UP20101110,RF1007,  3811,  1,      3,  22076,2,20101209,0111, 28.6985, 126.4485,  129,    101.2,  18.6647,  34.5762,2,  34.5790,6,    167.5,2,    12.82,2,     8.32,2,     0.06,2,     0.63,2,   2051.9,2,   2279.7,2,   7.9120,2,    25.00,      112
  49UP20101110,RF1007,  3811,  1,      1,  22074,2,20101209,0111, 28.6985, 126.4485,  129,    118.0,  18.1363,  34.5748,2,  34.5750,2,    165.6,2,    13.87,2,     8.94,2,     0.07,2,     0.71,2,   -999.0,9,   -999.0,9,-999.0000,9,  -999.00,      111
  49UP20101110,RF1007,  3813,  1,     99,     99,2,20101209,0345, 28.5572, 126.6757,  150,      0.0,  24.0729,  34.6070,2,-999.0000,9,    207.2,2,     2.41,3,     0.11,2,     0.07,2,     0.06,2,   -999.0,9,   -999.0,9,-999.0000,9,  -999.00,      343
  49UP20101110,RF1007,  3813,  1,     20,  22093,2,20101209,0345, 28.5572, 126.6757,  150,     11.8,  24.0795,  34.6071,2,-999.0000,9,    207.2,2,     1.47,2,     0.07,2,     0.07,2,     0.03,2,   -999.0,9,   -999.0,9,-999.0000,9,  -999.00,      400
  49UP20101110,RF1007,  3813,  1,     19,  22092,2,20101209,0345, 28.5572, 126.6757,  150,     11.8,  24.0795,  34.6071,2,-999.0000,9,    207.8,2,     1.37,2,     0.05,2,     0.07,2,     0.03,2,   -999.0,9,   -999.0,9,-999.0000,9,  -999.00,      359
  49UP20101110,RF1007,  3813,  1,     14,  22087,2,20101209,0345, 28.5572, 126.6757,  150,     21.4,  24.0333,  34.6003,2,-999.0000,9,    207.3,2,     1.45,2,     0.07,2,     0.07,2,     0.03,2,   -999.0,9,   -999.0,9,-999.0000,9,  -999.00,      358
  49UP20101110,RF1007,  3813,  1,     12,  22085,2,20101209,0345, 28.5572, 126.6757,  150,     33.2,  23.2531,  34.5722,2,-999.0000,9,    210.6,2,     1.59,2,     0.05,2,     0.11,2,     0.05,2,   -999.0,9,   -999.0,9,-999.0000,9,  -999.00,      356
  49UP20101110,RF1007,  3813,  1,     10,  22083,2,20101209,0345, 28.5572, 126.6757,  150,     51.3,  22.8529,  34.5555,2,-999.0000,9,    210.6,2,     1.52,2,     0.19,2,     0.15,2,     0.06,2,   -999.0,9,   -999.0,9,-999.0000,9,  -999.00,      354
  49UP20101110,RF1007,  3813,  1,      7,  22080,2,20101209,0345, 28.5572, 126.6757,  150,     77.1,  21.6122,  34.4554,2,-999.0000,9,    215.9,2,     2.01,2,     0.16,2,     0.63,2,     0.08,2,   -999.0,9,   -999.0,9,-999.0000,9,  -999.00,      352
  49UP20101110,RF1007,  3813,  1,      5,  22078,2,20101209,0345, 28.5572, 126.6757,  150,    101.8,  20.7400,  34.5378,2,-999.0000,9,    194.4,6,     5.55,6,     3.32,6,     0.34,6,     0.28,6,   -999.0,9,   -999.0,9,-999.0000,9,  -999.00,      349
  49UP20101110,RF1007,  3813,  1,      3,  22076,2,20101209,0345, 28.5572, 126.6757,  150,    128.2,  18.2189,  34.6111,2,-999.0000,9,    171.2,2,    11.87,2,     7.98,2,     0.04,2,     0.57,2,   -999.0,9,   -999.0,9,-999.0000,9,  -999.00,      347
  49UP20101110,RF1007,  3813,  1,      1,  22074,2,20101209,0345, 28.5572, 126.6757,  150,    142.3,  15.0738,  34.5428,2,-999.0000,9,    159.8,2,    19.31,2,    12.80,2,     0.05,2,     0.93,2,   -999.0,9,   -999.0,9,-999.0000,9,  -999.00,      345
  49UP20101110,RF1007,  3815,  1,     99,     99,2,20101209,0631, 28.4123, 126.9027,  274,      0.0,  24.0672,  34.5956,2,-999.0000,9,    207.0,2,     3.29,3,     0.05,2,     0.05,2,     0.05,2,   -999.0,9,   -999.0,9,-999.0000,9,  -999.00,      634
  49UP20101110,RF1007,  3815,  1,     22,  22095,2,20101209,0631, 28.4123, 126.9027,  274,     11.2,  24.0745,  34.5958,2,  34.5958,2,    206.6,2,     1.45,2,     0.06,2,     0.05,2,     0.03,2,   -999.0,9,   -999.0,9,-999.0000,9,  -999.00,      654
  49UP20101110,RF1007,  3815,  1,     21,  22094,2,20101209,0631, 28.4123, 126.9027,  274,     21.0,  24.0686,  34.5961,2,-999.0000,9,    207.2,2,     1.62,2,     0.07,2,     0.05,2,     0.03,2,   -999.0,9,   -999.0,9,-999.0000,9,  -999.00,      652
  49UP20101110,RF1007,  3815,  1,     20,  22093,2,20101209,0631, 28.4123, 126.9027,  274,     21.0,  24.0686,  34.5961,2,-999.0000,9,    207.3,2,     1.48,2,     0.06,2,     0.05,2,     0.03,2,   -999.0,9,   -999.0,9,-999.0000,9,  -999.00,      651
  49UP20101110,RF1007,  3815,  1,     16,  22089,2,20101209,0631, 28.4123, 126.9027,  274,     31.0,  24.0724,  34.5955,2,-999.0000,9,    206.9,2,     1.69,2,     0.07,2,     0.05,2,     0.03,2,   -999.0,9,   -999.0,9,-999.0000,9,  -999.00,      649
  49UP20101110,RF1007,  3815,  1,     14,  22087,2,20101209,0631, 28.4123, 126.9027,  274,     51.1,  24.0723,  34.5950,2,-999.0000,9,    207.8,2,     1.58,2,     0.06,2,     0.05,2,     0.04,2,   -999.0,9,   -999.0,9,-999.0000,9,  -999.00,      647
  49UP20101110,RF1007,  3815,  1,     12,  22085,2,20101209,0631, 28.4123, 126.9027,  274,     76.8,  23.9211,  34.5786,2,-999.0000,9,    207.9,2,     1.75,2,     0.12,2,     0.09,2,     0.05,2,   -999.0,9,   -999.0,9,-999.0000,9,  -999.00,      645
  49UP20101110,RF1007,  3815,  1,     10,  22083,2,20101209,0631, 28.4123, 126.9027,  274,    101.8,  23.0663,  34.5360,2,  34.5377,2,    210.0,2,     1.90,2,     0.14,2,     0.18,2,     0.07,2,   -999.0,9,   -999.0,9,-999.0000,9,  -999.00,      642
  49UP20101110,RF1007,  3815,  1,      7,  22080,2,20101209,0631, 28.4123, 126.9027,  274,    125.4,  22.5654,  34.5089,2,-999.0000,9,    206.0,6,     2.73,6,     0.89,6,     0.50,6,     0.13,6,   -999.0,9,   -999.0,9,-999.0000,9,  -999.00,      640
  49UP20101110,RF1007,  3815,  1,      5,  22078,2,20101209,0631, 28.4123, 126.9027,  274,    153.2,  21.3185,  34.4700,2,-999.0000,9,    203.8,2,     4.56,2,     1.90,2,     0.48,2,     0.20,2,   -999.0,9,   -999.0,9,-999.0000,9,  -999.00,      637
  49UP20101110,RF1007,  3815,  1,      3,  22076,2,20101209,0631, 28.4123, 126.9027,  274,    203.2,  17.3864,  34.6569,2,  34.6518,4,    172.6,2,    11.61,2,     8.57,2,     0.00,2,     0.61,2,   -999.0,9,   -999.0,9,-999.0000,9,  -999.00,      634
  49UP20101110,RF1007,  3815,  1,      1,  22074,2,20101209,0631, 28.4123, 126.9027,  274,    237.0,  13.6066,  34.5060,2,  34.5091,2,    155.9,2,    24.99,2,    15.27,2,     0.00,2,     1.09,2,   -999.0,9,   -999.0,9,-999.0000,9,  -999.00,      631
  49UP20101110,RF1007,  3817,  1,     99,     99,2,20101209,1022, 28.2560, 127.1505,  983,      0.0,  24.1835,  34.6188,2,-999.0000,9,    208.6,2,     2.82,3,     0.21,2,     0.01,2,     0.04,2,   -999.0,9,   -999.0,9,-999.0000,9,  -999.00,     1042
  49UP20101110,RF1007,  3817,  1,     36,  22109,2,20101209,1022, 28.2560, 127.1505,  983,     11.6,  24.1985,  34.6180,2,-999.0000,9,    206.0,2,     1.74,2,     0.17,2,     0.01,2,     0.01,2,   -999.0,9,   -999.0,9,-999.0000,9,  -999.00,     1101
  49UP20101110,RF1007,  3817,  1,     33,  22106,2,20101209,1022, 28.2560, 127.1505,  983,     22.0,  24.2017,  34.6164,2,-999.0000,9,    206.4,2,     2.04,2,     0.16,2,     0.01,2,     0.01,2,   -999.0,9,   -999.0,9,-999.0000,9,  -999.00,     1100
  49UP20101110,RF1007,  3817,  1,     32,  22105,2,20101209,1022, 28.2560, 127.1505,  983,     32.8,  24.2017,  34.6167,2,-999.0000,9,    206.6,2,     1.61,2,     0.14,2,     0.01,2,     0.01,2,   -999.0,9,   -999.0,9,-999.0000,9,  -999.00,     1058
  49UP20101110,RF1007,  3817,  1,     31,  22104,2,20101209,1022, 28.2560, 127.1505,  983,     32.8,  24.2017,  34.6167,2,-999.0000,9,    206.4,2,     1.65,2,     0.18,2,     0.01,2,     0.01,2,   -999.0,9,   -999.0,9,-999.0000,9,  -999.00,     1058
  49UP20101110,RF1007,  3817,  1,     30,  22103,2,20101209,1022, 28.2560, 127.1505,  983,     54.5,  24.1995,  34.6159,2,-999.0000,9,    206.1,2,     1.81,2,     0.21,2,     0.01,2,     0.01,2,   -999.0,9,   -999.0,9,-999.0000,9,  -999.00,     1057
  49UP20101110,RF1007,  3817,  1,     29,  22102,2,20101209,1022, 28.2560, 127.1505,  983,     74.5,  24.2093,  34.6153,2,-999.0000,9,    205.9,2,     1.82,2,     0.19,2,     0.01,2,     0.02,2,   -999.0,9,   -999.0,9,-999.0000,9,  -999.00,     1055
  49UP20101110,RF1007,  3817,  1,     28,  22101,2,20101209,1022, 28.2560, 127.1505,  983,    100.2,  24.1999,  34.6163,2,-999.0000,9,    206.4,2,     1.56,2,     0.16,2,     0.01,2,     0.01,2,   -999.0,9,   -999.0,9,-999.0000,9,  -999.00,     1050
  49UP20101110,RF1007,  3817,  1,     25,  22098,2,20101209,1022, 28.2560, 127.1505,  983,    125.3,  23.6301,  34.7428,2,-999.0000,9,    193.0,2,     2.03,2,     1.20,2,     0.04,2,     0.09,2,   -999.0,9,   -999.0,9,-999.0000,9,  -999.00,     1048
  49UP20101110,RF1007,  3817,  1,     22,  22095,2,20101209,1022, 28.2560, 127.1505,  983,    151.9,  21.7002,  34.8019,2,-999.0000,9,    188.2,6,     2.83,6,     2.31,6,     0.01,6,     0.16,6,   -999.0,9,   -999.0,9,-999.0000,9,  -999.00,     1047
  49UP20101110,RF1007,  3817,  1,     20,  22093,2,20101209,1022, 28.2560, 127.1505,  983,    201.7,  19.1590,  34.7334,2,-999.0000,9,    183.0,2,     5.83,2,     5.23,2,     0.00,2,     0.36,2,   -999.0,9,   -999.0,9,-999.0000,9,  -999.00,     1045
  49UP20101110,RF1007,  3817,  1,     18,  22091,2,20101209,1022, 28.2560, 127.1505,  983,    252.3,  17.4636,  34.6834,2,-999.0000,9,    178.2,2,     9.25,2,     7.68,2,     0.00,2,     0.53,2,   -999.0,9,   -999.0,9,-999.0000,9,  -999.00,     1044
  49UP20101110,RF1007,  3817,  1,     15,  22088,2,20101209,1022, 28.2560, 127.1505,  983,    302.3,  14.6667,  34.5569,2,-999.0000,9,    175.2,2,    13.90,2,    11.47,2,     0.00,2,     0.80,2,   -999.0,9,   -999.0,9,-999.0000,9,  -999.00,     1042
  49UP20101110,RF1007,  3817,  1,     13,  22086,2,20101209,1022, 28.2560, 127.1505,  983,    405.3,  10.9140,  34.3570,2,-999.0000,9,    147.6,2,    32.21,2,    20.05,2,     0.00,2,     1.44,2,   -999.0,9,   -999.0,9,-999.0000,9,  -999.00,     1039
  49UP20101110,RF1007,  3817,  1,     11,  22110,2,20101209,1022, 28.2560, 127.1505,  983,    507.2,   8.4325,  34.3204,2,-999.0000,9,    119.2,2,    55.57,2,    26.68,2,     0.00,2,     1.93,2,   -999.0,9,   -999.0,9,-999.0000,9,  -999.00,     1036
  49UP20101110,RF1007,  3817,  1,     10,  22083,2,20101209,1022, 28.2560, 127.1505,  983,    607.7,   6.9246,  34.3237,2,-999.0000,9,    102.3,2,    72.62,2,    30.84,2,     0.00,2,     2.22,2,   -999.0,9,   -999.0,9,-999.0000,9,  -999.00,     1032
  49UP20101110,RF1007,  3817,  1,      7,  22080,2,20101209,1022, 28.2560, 127.1505,  983,    708.6,   5.6387,  34.3018,2,-999.0000,9,     84.3,2,    86.66,2,    34.59,2,     0.00,2,     2.50,2,   -999.0,9,   -999.0,9,-999.0000,9,  -999.00,     1029
  49UP20101110,RF1007,  3817,  1,      5,  22078,2,20101209,1022, 28.2560, 127.1505,  983,    807.3,   5.1550,  34.3666,2,-999.0000,9,     81.0,2,    97.26,2,    35.82,2,     0.00,2,     2.58,2,   -999.0,9,   -999.0,9,-999.0000,9,  -999.00,     1026
  49UP20101110,RF1007,  3817,  1,      3,  22076,2,20101209,1022, 28.2560, 127.1505,  983,    909.4,   4.8136,  34.4003,2,-999.0000,9,     76.5,2,   104.81,2,    36.34,2,     0.00,2,     2.64,2,   -999.0,9,   -999.0,9,-999.0000,9,  -999.00,     1024
  49UP20101110,RF1007,  3817,  1,      1,  22074,2,20101209,1022, 28.2560, 127.1505,  983,    960.9,   4.6945,  34.4051,2,-999.0000,9,     75.2,2,   106.58,2,    36.57,2,     0.00,2,     2.66,2,   -999.0,9,   -999.0,9,-999.0000,9,  -999.00,     1022
  49UP20101110,RF1007,  3819,  1,     99,     99,2,20101209,1435, 28.1040, 127.3540, 1008,      0.0,  23.9286,  34.6017,2,-999.0000,9,    206.1,2,     1.81,2,     0.11,2,     0.06,2,     0.03,2,   -999.0,9,   -999.0,9,-999.0000,9,  -999.00,     1447
  49UP20101110,RF1007,  3819,  1,     36,  22109,2,20101209,1435, 28.1040, 127.3540, 1008,     10.0,  23.9327,  34.6019,2,  34.6014,2,    205.7,2,     1.64,2,     0.10,2,     0.05,2,     0.03,2,   -999.0,9,   -999.0,9,-999.0000,9,  -999.00,     1514
  49UP20101110,RF1007,  3819,  1,     33,  22106,2,20101209,1435, 28.1040, 127.3540, 1008,     20.8,  23.9354,  34.6018,2,-999.0000,9,    205.5,2,     1.41,2,     0.07,2,     0.06,2,     0.02,2,   -999.0,9,   -999.0,9,-999.0000,9,  -999.00,     1513
  49UP20101110,RF1007,  3819,  1,     31,  22104,2,20101209,1435, 28.1040, 127.3540, 1008,     31.7,  23.9391,  34.6016,2,-999.0000,9,    205.6,2,     1.38,2,     0.09,2,     0.05,2,     0.02,2,   -999.0,9,   -999.0,9,-999.0000,9,  -999.00,     1511
  49UP20101110,RF1007,  3819,  1,     30,  22103,2,20101209,1435, 28.1040, 127.3540, 1008,     50.4,  23.9415,  34.6021,2,-999.0000,9,    205.4,2,     1.43,2,     0.09,2,     0.06,2,     0.04,2,   -999.0,9,   -999.0,9,-999.0000,9,  -999.00,     1508
  49UP20101110,RF1007,  3819,  1,     29,  22102,2,20101209,1435, 28.1040, 127.3540, 1008,     50.4,  23.9415,  34.6021,2,-999.0000,9,    205.3,2,     1.39,2,     0.09,2,     0.06,2,     0.02,2,   -999.0,9,   -999.0,9,-999.0000,9,  -999.00,     1507
  49UP20101110,RF1007,  3819,  1,     28,  22101,2,20101209,1435, 28.1040, 127.3540, 1008,     76.4,  23.9485,  34.6015,2,-999.0000,9,    205.3,2,     1.49,2,     0.08,2,     0.05,2,     0.02,2,   -999.0,9,   -999.0,9,-999.0000,9,  -999.00,     1505
  49UP20101110,RF1007,  3819,  1,     25,  22098,2,20101209,1435, 28.1040, 127.3540, 1008,    100.3,  23.9467,  34.6036,2,  34.6035,2,    205.1,2,     1.38,2,     0.10,2,     0.06,2,     0.02,2,   -999.0,9,   -999.0,9,-999.0000,9,  -999.00,     1504
  49UP20101110,RF1007,  3819,  1,     23,  22096,2,20101209,1435, 28.1040, 127.3540, 1008,    126.4,  23.7105,  34.6590,2,-999.0000,9,    197.8,2,     1.84,2,     0.66,2,     0.06,2,     0.06,2,   -999.0,9,   -999.0,9,-999.0000,9,  -999.00,     1502
  49UP20101110,RF1007,  3819,  1,     21,  22094,2,20101209,1435, 28.1040, 127.3540, 1008,    151.8,  22.2971,  34.7684,2,-999.0000,9,    185.7,2,     2.78,2,     2.27,2,     0.01,2,     0.17,2,   -999.0,9,   -999.0,9,-999.0000,9,  -999.00,     1501
  49UP20101110,RF1007,  3819,  1,     20,  22093,2,20101209,1435, 28.1040, 127.3540, 1008,    201.9,  20.1256,  34.7722,2,  34.7729,2,    183.4,6,     3.88,6,     4.05,6,     0.00,6,     0.30,6,   -999.0,9,   -999.0,9,-999.0000,9,  -999.00,     1459
  49UP20101110,RF1007,  3819,  1,     18,  22091,2,20101209,1435, 28.1040, 127.3540, 1008,    253.4,  17.9684,  34.7307,2,-999.0000,9,    183.7,2,     5.83,2,     6.11,2,     0.00,2,     0.42,2,   -999.0,9,   -999.0,9,-999.0000,9,  -999.00,     1457
  49UP20101110,RF1007,  3819,  1,     15,  22088,2,20101209,1435, 28.1040, 127.3540, 1008,    306.8,  16.5871,  34.6711,2,-999.0000,9,    180.7,2,     8.15,2,     8.10,2,     0.00,2,     0.56,2,   -999.0,9,   -999.0,9,-999.0000,9,  -999.00,     1455
  49UP20101110,RF1007,  3819,  1,     13,  22086,2,20101209,1435, 28.1040, 127.3540, 1008,    406.5,  12.7373,  34.4389,2,  34.4394,6,    163.4,2,    21.35,2,    15.66,2,     0.00,2,     1.11,2,   -999.0,9,   -999.0,9,-999.0000,9,  -999.00,     1452
  49UP20101110,RF1007,  3819,  1,     11,  22110,2,20101209,1435, 28.1040, 127.3540, 1008,    506.6,  10.3081,  34.3587,2,-999.0000,9,    139.2,2,    37.87,2,    21.71,2,     0.00,2,     1.56,2,   -999.0,9,   -999.0,9,-999.0000,9,  -999.00,     1449
  49UP20101110,RF1007,  3819,  1,     10,  22083,2,20101209,1435, 28.1040, 127.3540, 1008,    609.2,   7.7018,  34.3147,2,  34.3154,6,    109.7,2,    63.23,2,    28.82,2,     0.00,2,     2.07,2,   -999.0,9,   -999.0,9,-999.0000,9,  -999.00,     1446
  49UP20101110,RF1007,  3819,  1,      7,  22080,2,20101209,1435, 28.1040, 127.3540, 1008,    705.6,   6.4371,  34.3153,2,-999.0000,9,     95.8,2,    77.82,2,    32.35,2,     0.00,2,     2.33,2,   -999.0,9,   -999.0,9,-999.0000,9,  -999.00,     1443
  49UP20101110,RF1007,  3819,  1,      5,  22078,2,20101209,1435, 28.1040, 127.3540, 1008,    809.7,   5.2070,  34.3572,2,  34.3965,4,     80.6,2,    95.30,2,    35.68,2,     0.00,2,     2.57,2,   -999.0,9,   -999.0,9,-999.0000,9,  -999.00,     1440
  49UP20101110,RF1007,  3819,  1,      3,  22076,2,20101209,1435, 28.1040, 127.3540, 1008,    911.3,   4.5236,  34.3954,2,-999.0000,9,     73.9,2,   106.57,2,    37.28,2,     0.00,2,     2.68,2,   -999.0,9,   -999.0,9,-999.0000,9,  -999.00,     1437
  49UP20101110,RF1007,  3819,  1,      1,  22074,2,20101209,1435, 28.1040, 127.3540, 1008,    976.0,   4.3983,  34.4068,2,  34.4074,2,     74.8,2,   108.70,2,    37.53,2,     0.00,2,     2.70,2,   -999.0,9,   -999.0,9,-999.0000,9,  -999.00,     1435