BOTTLE,20200204PRINUNIVRMK
EXPOCODE,SECT_ID,STNNBR,CASTNO,SAMPNO,BTLNBR,BTLNBR_FLAG_W,DATE,TIME,LATITUDE,LONGITUDE,DEPTH,CTDPRS,CTDTMP,CTDSAL,CTDSAL_FLAG_W,SALNTY,SALNTY_FLAG_W,OXYGEN,OXYGEN_FLAG_W,SILCAT,SILCAT_FLAG_W,NITRAT,NITRAT_FLAG_W,NITRIT,NITRIT_FLAG_W,PHSPHT,PHSPHT_FLAG_W,TCARBN,TCARBN_FLAG_W,ALKALI,ALKALI_FLAG_W,PH_TOT,PH_TOT_FLAG_W,PH_TMP,BTL_TIME
,,,,,,,,,,,METERS,DBAR,ITS-90,PSS-78,,PSS-78,,UMOL/KG,,UMOL/KG,,UMOL/KG,,UMOL/KG,,UMOL/KG,,UMOL/KG,,UMOL/KG,,,,DEG C,
  49UP20101110,RF1007,  3854,  1,     99,     99,2,20101215,2023, 29.0062, 137.0052, 4472,      0.0,  22.5775,  34.5832,2,-999.0000,9,    214.5,2,     1.65,2,     0.00,2,     0.00,2,     0.01,2,   -999.0,9,   -999.0,9,-999.0000,9,  -999.00,     2107
  49UP20101110,RF1007,  3854,  1,     36,  22109,2,20101215,2023, 29.0062, 137.0052, 4472,     13.8,  22.5866,  34.5825,2,-999.0000,9,    213.9,2,     1.63,2,     0.00,2,     0.00,2,     0.00,2,   -999.0,9,   -999.0,9,-999.0000,9,  -999.00,     2123
  49UP20101110,RF1007,  3854,  1,     33,  22106,2,20101215,2023, 29.0062, 137.0052, 4472,     27.3,  22.5158,  34.5877,2,-999.0000,9,    214.3,2,     1.59,2,     0.00,2,     0.00,2,     0.00,2,   -999.0,9,   -999.0,9,-999.0000,9,  -999.00,     2122
  49UP20101110,RF1007,  3854,  1,     32,  22105,2,20101215,2023, 29.0062, 137.0052, 4472,     53.3,  22.1753,  34.6206,2,-999.0000,9,    212.9,2,     1.69,2,     0.03,2,     0.01,2,     0.01,2,   -999.0,9,   -999.0,9,-999.0000,9,  -999.00,     2120
  49UP20101110,RF1007,  3854,  1,     30,  22103,2,20101215,2023, 29.0062, 137.0052, 4472,     79.3,  21.9419,  34.6536,2,-999.0000,9,    211.7,2,     1.80,2,     0.30,2,     0.04,2,     0.03,2,   -999.0,9,   -999.0,9,-999.0000,9,  -999.00,     2118
  49UP20101110,RF1007,  3854,  1,     29,  22102,2,20101215,2023, 29.0062, 137.0052, 4472,    100.3,  21.0503,  34.7448,2,-999.0000,9,    199.8,2,     2.50,2,     1.84,2,     0.02,2,     0.13,2,   -999.0,9,   -999.0,9,-999.0000,9,  -999.00,     2114
  49UP20101110,RF1007,  3854,  1,     28,  22101,2,20101215,2023, 29.0062, 137.0052, 4472,    127.2,  20.3764,  34.7468,2,-999.0000,9,    198.1,6,     2.88,6,     2.28,6,     0.01,6,     0.15,6,   -999.0,9,   -999.0,9,-999.0000,9,  -999.00,     2113
  49UP20101110,RF1007,  3854,  1,     25,  22098,2,20101215,2023, 29.0062, 137.0052, 4472,    155.5,  19.6621,  34.7352,2,-999.0000,9,    202.2,2,     2.58,2,     2.23,2,     0.00,2,     0.14,2,   -999.0,9,   -999.0,9,-999.0000,9,  -999.00,     2112
  49UP20101110,RF1007,  3854,  1,     23,  22096,2,20101215,2023, 29.0062, 137.0052, 4472,    203.8,  19.0343,  34.7280,2,-999.0000,9,    203.2,2,     2.80,2,     2.87,2,     0.00,2,     0.18,2,   -999.0,9,   -999.0,9,-999.0000,9,  -999.00,     2110
  49UP20101110,RF1007,  3854,  1,     22,  22095,2,20101215,2023, 29.0062, 137.0052, 4472,    253.9,  18.3822,  34.7286,2,-999.0000,9,    197.3,2,     3.86,2,     4.05,2,     0.00,2,     0.27,2,   -999.0,9,   -999.0,9,-999.0000,9,  -999.00,     2108
  49UP20101110,RF1007,  3854,  1,     21,  22094,2,20101215,2023, 29.0062, 137.0052, 4472,    303.4,  17.6061,  34.7220,2,-999.0000,9,    192.7,2,     5.47,2,     5.83,2,     0.00,2,     0.38,2,   -999.0,9,   -999.0,9,-999.0000,9,  -999.00,     2106
  49UP20101110,RF1007,  3854,  1,     20,  22093,2,20101215,2023, 29.0062, 137.0052, 4472,    303.4,  17.6061,  34.7220,2,-999.0000,9,    192.1,2,     5.13,2,     5.74,2,     0.00,2,     0.37,2,   -999.0,9,   -999.0,9,-999.0000,9,  -999.00,     2106
  49UP20101110,RF1007,  3854,  1,     18,  22091,2,20101215,2023, 29.0062, 137.0052, 4472,    404.4,  15.4276,  34.6086,2,-999.0000,9,    182.2,2,    10.73,2,    10.00,2,     0.00,2,     0.67,2,   -999.0,9,   -999.0,9,-999.0000,9,  -999.00,     2103
  49UP20101110,RF1007,  3854,  1,     16,  22089,2,20101215,2023, 29.0062, 137.0052, 4472,    504.3,  13.0309,  34.4547,2,-999.0000,9,    173.0,2,    19.35,2,    14.67,2,     0.00,2,     1.02,2,   -999.0,9,   -999.0,9,-999.0000,9,  -999.00,     2101
  49UP20101110,RF1007,  3854,  1,     15,  22088,2,20101215,2023, 29.0062, 137.0052, 4472,    606.7,  10.0539,  34.2770,2,-999.0000,9,    154.8,2,    34.69,2,    21.35,2,     0.00,2,     1.51,2,   -999.0,9,   -999.0,9,-999.0000,9,  -999.00,     2058
  49UP20101110,RF1007,  3854,  1,     14,  22087,2,20101215,2023, 29.0062, 137.0052, 4472,    706.5,   7.4080,  34.1996,2,-999.0000,9,    122.0,2,    59.46,2,    28.93,2,     0.00,2,     2.06,2,   -999.0,9,   -999.0,9,-999.0000,9,  -999.00,     2055
  49UP20101110,RF1007,  3854,  1,     12,  22085,2,20101215,2023, 29.0062, 137.0052, 4472,    807.4,   5.6371,  34.2337,2,-999.0000,9,     88.2,2,    84.27,2,    34.80,2,     0.00,2,     2.48,2,   -999.0,9,   -999.0,9,-999.0000,9,  -999.00,     2052
  49UP20101110,RF1007,  3854,  1,     11,  22110,2,20101215,2023, 29.0062, 137.0052, 4472,    909.7,   4.7190,  34.2833,2,-999.0000,9,     71.0,6,   100.27,6,    37.73,6,     0.00,6,     2.69,6,   -999.0,9,   -999.0,9,-999.0000,9,  -999.00,     2050
  49UP20101110,RF1007,  3854,  1,     10,  22083,2,20101215,2023, 29.0062, 137.0052, 4472,   1011.9,   4.0649,  34.3406,2,-999.0000,9,     62.5,2,   113.22,2,    39.46,2,     0.00,2,     2.79,2,   -999.0,9,   -999.0,9,-999.0000,9,  -999.00,     2047
  49UP20101110,RF1007,  3854,  1,      7,  22080,2,20101215,2023, 29.0062, 137.0052, 4472,   1212.7,   3.0511,  34.4378,2,-999.0000,9,     55.1,2,   135.28,2,    41.43,2,     0.00,2,     2.91,2,   -999.0,9,   -999.0,9,-999.0000,9,  -999.00,     2042
  49UP20101110,RF1007,  3854,  1,      6,  22079,2,20101215,2023, 29.0062, 137.0052, 4472,   1417.4,   2.6551,  34.4947,2,-999.0000,9,     61.3,2,   143.91,2,    41.39,2,     0.00,2,     2.90,2,   -999.0,9,   -999.0,9,-999.0000,9,  -999.00,     2037
  49UP20101110,RF1007,  3854,  1,      5,  22078,2,20101215,2023, 29.0062, 137.0052, 4472,   1619.0,   2.3647,  34.5471,2,-999.0000,9,     81.8,2,   144.84,2,    40.24,2,     0.00,2,     2.81,2,   -999.0,9,   -999.0,9,-999.0000,9,  -999.00,     2033
  49UP20101110,RF1007,  3854,  1,      3,  22076,2,20101215,2023, 29.0062, 137.0052, 4472,   1822.7,   2.1244,  34.5864,2,-999.0000,9,     99.4,2,   144.72,2,    39.08,2,     0.00,2,     2.73,2,   -999.0,9,   -999.0,9,-999.0000,9,  -999.00,     2028
  49UP20101110,RF1007,  3854,  1,      2,  22075,2,20101215,2023, 29.0062, 137.0052, 4472,   1822.7,   2.1244,  34.5864,2,-999.0000,9,     99.2,2,   144.80,2,    39.27,2,     0.00,2,     2.73,2,   -999.0,9,   -999.0,9,-999.0000,9,  -999.00,     2028
  49UP20101110,RF1007,  3854,  1,      1,  22074,2,20101215,2023, 29.0062, 137.0052, 4472,   2024.9,   1.9724,  34.6093,2,-999.0000,9,    110.5,2,   144.51,2,    38.66,2,     0.00,2,     2.68,2,   -999.0,9,   -999.0,9,-999.0000,9,  -999.00,     2023
  49UP20101110,RF1007,  3855,  1,     99,     99,2,20101216,0324, 29.9920, 137.0093, 4510,      0.0,  22.1370,  34.6162,2,-999.0000,9,    214.5,2,     1.59,2,     0.00,2,     0.00,2,     0.01,2,   -999.0,9,   -999.0,9,-999.0000,9,  -999.00,      405
  49UP20101110,RF1007,  3855,  1,     36,  22109,2,20101216,0324, 29.9920, 137.0093, 4510,     11.3,  22.1430,  34.6168,2,-999.0000,9,    215.0,2,     1.54,2,     0.00,2,     0.00,2,     0.01,2,   1965.6,2,   2274.0,2,   8.0677,2,    25.00,      425
  49UP20101110,RF1007,  3855,  1,     33,  22106,3,20101216,0324, 29.9920, 137.0093, 4510,     27.2,  22.1451,  34.6163,2,-999.0000,9,    214.7,2,     1.54,2,     0.00,2,     0.00,2,     0.01,2,   1969.6,2,   2270.7,2,   8.0657,2,    25.00,      423
  49UP20101110,RF1007,  3855,  1,     32,  22105,2,20101216,0324, 29.9920, 137.0093, 4510,     53.7,  22.1407,  34.6225,2,-999.0000,9,    214.6,2,     1.56,2,     0.00,2,     0.00,2,     0.01,2,   1966.7,2,   2272.0,2,   8.0644,2,    25.00,      421
  49UP20101110,RF1007,  3855,  1,     31,  22104,2,20101216,0324, 29.9920, 137.0093, 4510,     76.7,  22.0772,  34.6292,2,-999.0000,9,    214.8,2,     1.59,2,     0.00,2,     0.00,2,     0.01,2,   1967.3,2,   2273.7,2,   8.0705,2,    25.00,      419
  49UP20101110,RF1007,  3855,  1,     29,  22102,2,20101216,0324, 29.9920, 137.0093, 4510,    101.8,  21.9946,  34.6399,2,-999.0000,9,    214.2,6,     1.79,6,     0.08,6,     0.02,6,     0.02,6,   1967.4,2,   2275.0,2,   8.0674,2,    25.00,      418
  49UP20101110,RF1007,  3855,  1,     28,  22101,2,20101216,0324, 29.9920, 137.0093, 4510,    127.0,  20.7921,  34.7422,2,-999.0000,9,    201.7,2,     2.29,2,     1.41,2,     0.03,2,     0.10,2,   2005.7,2,   2278.1,2,   8.0069,2,    25.00,      416
  49UP20101110,RF1007,  3855,  1,     25,  22098,2,20101216,0324, 29.9920, 137.0093, 4510,    152.4,  20.0821,  34.7401,2,-999.0000,9,    201.3,2,     2.49,2,     1.93,2,     0.01,2,     0.14,2,   2009.3,2,   2279.9,2,   7.9936,2,    25.00,      412
  49UP20101110,RF1007,  3855,  1,     23,  22096,2,20101216,0324, 29.9920, 137.0093, 4510,    201.7,  19.2454,  34.7306,2,-999.0000,9,    200.5,2,     3.02,2,     2.86,2,     0.00,2,     0.20,2,   2014.8,2,   2277.9,2,   7.9906,2,    25.00,      410
  49UP20101110,RF1007,  3855,  1,     22,  22095,2,20101216,0324, 29.9920, 137.0093, 4510,    252.4,  18.5769,  34.7242,2,-999.0000,9,    198.2,2,     3.76,2,     3.83,2,     0.00,2,     0.26,2,   2024.9,2,   2280.7,2,   7.9719,2,    25.00,      408
  49UP20101110,RF1007,  3855,  1,     21,  22094,2,20101216,0324, 29.9920, 137.0093, 4510,    303.1,  17.8042,  34.7028,2,-999.0000,9,    201.3,2,     4.50,2,     4.62,2,     0.00,2,     0.31,2,   2031.7,2,   2282.2,2,   7.9590,2,    25.00,      406
  49UP20101110,RF1007,  3855,  1,     20,  22093,2,20101216,0324, 29.9920, 137.0093, 4510,    303.1,  17.8042,  34.7028,2,-999.0000,9,    201.7,2,     4.35,2,     4.62,2,     0.00,2,     0.30,2,   2029.3,2,   2277.8,2,   7.9536,2,    25.00,      406
  49UP20101110,RF1007,  3855,  1,     18,  22091,2,20101216,0324, 29.9920, 137.0093, 4510,    402.5,  16.1138,  34.6513,2,-999.0000,9,    183.7,2,     8.89,2,     8.59,2,     0.00,2,     0.59,2,   2064.1,2,   2280.2,2,   7.8882,2,    25.00,      403
  49UP20101110,RF1007,  3855,  1,     16,  22089,2,20101216,0324, 29.9920, 137.0093, 4510,    503.8,  13.6642,  34.4916,2,-999.0000,9,    176.6,2,    16.28,2,    13.13,2,     0.00,2,     0.91,2,   2096.5,2,   2282.2,2,   7.8069,2,    25.00,      401
  49UP20101110,RF1007,  3855,  1,     15,  22088,2,20101216,0324, 29.9920, 137.0093, 4510,    606.1,  10.6729,  34.3188,2,-999.0000,9,    157.2,2,    32.01,2,    19.96,2,     0.00,2,     1.43,2,   2146.9,2,   2282.0,2,   7.7022,2,    25.00,      358
  49UP20101110,RF1007,  3855,  1,     14,  22087,2,20101216,0324, 29.9920, 137.0093, 4510,    706.5,   8.0753,  34.2446,2,-999.0000,9,    125.4,2,    55.00,2,    27.21,2,     0.00,2,     1.96,2,   2207.0,2,   2299.6,2,   7.5767,2,    25.00,      355
  49UP20101110,RF1007,  3855,  1,     13,  22086,2,20101216,0324, 29.9920, 137.0093, 4510,    807.4,   5.8773,  34.2361,2,-999.0000,9,     91.6,6,    80.99,6,    33.99,6,     0.00,6,     2.46,6,   2270.9,2,   2318.4,2,   7.4660,2,    25.00,      353
  49UP20101110,RF1007,  3855,  1,     12,  22085,2,20101216,0324, 29.9920, 137.0093, 4510,    907.5,   4.6295,  34.2791,2,-999.0000,9,     68.3,2,   101.87,2,    37.99,2,     0.00,2,     2.73,2,   2309.0,2,   2346.1,2,   7.4032,2,    25.00,      350
  49UP20101110,RF1007,  3855,  1,     11,  22110,2,20101216,0324, 29.9920, 137.0093, 4510,   1009.7,   3.9285,  34.3487,2,-999.0000,9,     60.3,2,   116.18,2,    39.63,2,     0.00,2,     2.84,2,   2333.2,2,   2357.9,2,   7.4056,2,    25.00,      347
  49UP20101110,RF1007,  3855,  1,     10,  22083,2,20101216,0324, 29.9920, 137.0093, 4510,   1212.0,   3.1814,  34.4300,2,-999.0000,9,     57.0,2,   132.60,2,    40.79,2,     0.00,2,     2.92,2,   2356.8,2,   2376.2,2,   7.3860,2,    25.00,      343
  49UP20101110,RF1007,  3855,  1,      7,  22080,2,20101216,0324, 29.9920, 137.0093, 4510,   1415.1,   2.7042,  34.5005,2,-999.0000,9,     70.5,3,   140.38,2,    40.42,2,     0.00,2,     2.88,2,   2353.7,2,   2390.0,2,   7.4093,2,    25.00,      338
  49UP20101110,RF1007,  3855,  1,      6,  22079,2,20101216,0324, 29.9920, 137.0093, 4510,   1618.4,   2.3568,  34.5461,2,-999.0000,9,     79.0,2,   145.90,2,    40.06,2,     0.00,2,     2.85,2,   2355.7,2,   2401.5,2,   7.4318,2,    25.00,      334
  49UP20101110,RF1007,  3855,  1,      5,  22078,2,20101216,0324, 29.9920, 137.0093, 4510,   1618.4,   2.3568,  34.5461,2,-999.0000,9,     79.4,2,   146.25,2,    40.18,2,     0.00,2,     2.85,2,   2358.8,6,   2398.5,6,   7.4268,6,    25.00,      333
  49UP20101110,RF1007,  3855,  1,      3,  22076,2,20101216,0324, 29.9920, 137.0093, 4510,   1821.4,   2.1517,  34.5782,2,-999.0000,9,     92.5,2,   146.85,2,    39.34,2,     0.00,2,     2.79,2,   2349.0,2,   2402.4,2,   7.4599,6,    25.00,      329
  49UP20101110,RF1007,  3855,  1,      1,  22074,2,20101216,0324, 29.9920, 137.0093, 4510,   2036.6,   1.9599,  34.6063,2,-999.0000,9,    104.8,2,   147.57,2,    38.70,2,     0.00,2,     2.74,2,   2352.0,6,   2409.5,6,   7.4788,2,    25.00,      324
  49UP20101110,RF1007,  3857,  1,     99,     99,2,20101216,1235, 30.9812, 136.9967, 4247,      0.0,  21.7056,  34.6251,2,-999.0000,9,    216.3,2,     1.66,2,     0.01,2,     0.01,2,     0.01,2,   -999.0,9,   -999.0,9,-999.0000,9,  -999.00,     1316
  49UP20101110,RF1007,  3857,  1,     36,  22109,2,20101216,1235, 30.9812, 136.9967, 4247,     12.3,  21.7037,  34.6246,2,  34.6259,2,    216.2,2,     1.53,2,    -0.01,2,     0.01,2,     0.01,2,   -999.0,9,   -999.0,9,-999.0000,9,  -999.00,     1339
  49UP20101110,RF1007,  3857,  1,     33,  22106,2,20101216,1235, 30.9812, 136.9967, 4247,     26.1,  21.7203,  34.6255,2,-999.0000,9,    216.3,2,     1.77,2,    -0.01,2,     0.01,2,     0.01,2,   -999.0,9,   -999.0,9,-999.0000,9,  -999.00,     1338
  49UP20101110,RF1007,  3857,  1,     32,  22105,2,20101216,1235, 30.9812, 136.9967, 4247,     51.9,  21.6272,  34.6238,2,-999.0000,9,    215.8,2,     1.62,2,     0.03,2,     0.01,2,     0.01,2,   -999.0,9,   -999.0,9,-999.0000,9,  -999.00,     1333
  49UP20101110,RF1007,  3857,  1,     31,  22104,2,20101216,1235, 30.9812, 136.9967, 4247,     76.4,  20.6216,  34.6003,2,-999.0000,9,    220.3,6,     1.93,6,     0.00,6,     0.01,6,     0.01,6,   -999.0,9,   -999.0,9,-999.0000,9,  -999.00,     1332
  49UP20101110,RF1007,  3857,  1,     30,  22103,2,20101216,1235, 30.9812, 136.9967, 4247,    100.1,  20.5984,  34.6058,2,  34.6053,2,    220.5,2,     1.92,2,    -0.01,2,     0.01,2,     0.01,2,   -999.0,9,   -999.0,9,-999.0000,9,  -999.00,     1331
  49UP20101110,RF1007,  3857,  1,     29,  22102,2,20101216,1235, 30.9812, 136.9967, 4247,    126.4,  19.8768,  34.7203,2,-999.0000,9,    200.6,4,     2.09,2,     1.26,2,     0.03,2,     0.08,2,   -999.0,9,   -999.0,9,-999.0000,9,  -999.00,     1330
  49UP20101110,RF1007,  3857,  1,     28,  22101,2,20101216,1235, 30.9812, 136.9967, 4247,    152.4,  19.4254,  34.7202,2,-999.0000,9,    209.4,2,     2.28,2,     1.59,2,     0.00,2,     0.10,2,   -999.0,9,   -999.0,9,-999.0000,9,  -999.00,     1328
  49UP20101110,RF1007,  3857,  1,     25,  22098,2,20101216,1235, 30.9812, 136.9967, 4247,    201.7,  19.1337,  34.7175,2,  34.7173,2,    210.4,2,     2.21,2,     1.96,2,     0.00,2,     0.12,2,   -999.0,9,   -999.0,9,-999.0000,9,  -999.00,     1326
  49UP20101110,RF1007,  3857,  1,     23,  22096,2,20101216,1235, 30.9812, 136.9967, 4247,    253.1,  18.9224,  34.7157,2,-999.0000,9,    210.2,2,     2.76,2,     2.24,2,     0.00,2,     0.15,2,   -999.0,9,   -999.0,9,-999.0000,9,  -999.00,     1324
  49UP20101110,RF1007,  3857,  1,     22,  22095,2,20101216,1235, 30.9812, 136.9967, 4247,    253.1,  18.9224,  34.7157,2,-999.0000,9,    209.8,2,     2.43,2,     2.22,2,     0.00,2,     0.14,2,   -999.0,9,   -999.0,9,-999.0000,9,  -999.00,     1324
  49UP20101110,RF1007,  3857,  1,     21,  22094,2,20101216,1235, 30.9812, 136.9967, 4247,    303.7,  18.6489,  34.7163,2,-999.0000,9,    207.6,2,     3.14,2,     2.65,2,     0.00,2,     0.17,2,   -999.0,9,   -999.0,9,-999.0000,9,  -999.00,     1322
  49UP20101110,RF1007,  3857,  1,     20,  22093,2,20101216,1235, 30.9812, 136.9967, 4247,    404.6,  17.7247,  34.7267,2,  34.7268,2,    194.2,2,     4.70,2,     5.29,2,     0.00,2,     0.34,2,   -999.0,9,   -999.0,9,-999.0000,9,  -999.00,     1319
  49UP20101110,RF1007,  3857,  1,     18,  22091,2,20101216,1235, 30.9812, 136.9967, 4247,    505.2,  15.8725,  34.6430,2,-999.0000,9,    184.4,2,  -999.00,9,  -999.00,9,  -999.00,9,  -999.00,9,   -999.0,9,   -999.0,9,-999.0000,9,  -999.00,     1316
  49UP20101110,RF1007,  3857,  1,     16,  22089,2,20101216,1235, 30.9812, 136.9967, 4247,    606.2,  13.2359,  34.4653,2,  34.4672,2,    176.6,2,    17.71,2,    13.76,2,     0.00,2,     0.95,2,   -999.0,9,   -999.0,9,-999.0000,9,  -999.00,     1313
  49UP20101110,RF1007,  3857,  1,     15,  22088,2,20101216,1235, 30.9812, 136.9967, 4247,    709.5,  10.3578,  34.2944,2,-999.0000,9,    158.7,6,    32.36,6,    20.30,6,     0.00,6,     1.44,6,   -999.0,9,   -999.0,9,-999.0000,9,  -999.00,     1309
  49UP20101110,RF1007,  3857,  1,     14,  22087,2,20101216,1235, 30.9812, 136.9967, 4247,    806.5,   7.9459,  34.2040,2,  34.2041,6,    130.3,2,    52.42,2,    27.01,2,     0.00,2,     1.93,2,   -999.0,9,   -999.0,9,-999.0000,9,  -999.00,     1306
  49UP20101110,RF1007,  3857,  1,     12,  22085,2,20101216,1235, 30.9812, 136.9967, 4247,    911.5,   6.1189,  34.2188,2,-999.0000,9,     95.5,2,    75.90,2,    33.34,2,     0.00,2,     2.40,2,   -999.0,9,   -999.0,9,-999.0000,9,  -999.00,     1303
  49UP20101110,RF1007,  3857,  1,     11,  22110,2,20101216,1235, 30.9812, 136.9967, 4247,   1014.6,   4.8727,  34.2849,2,  34.2838,6,     74.3,2,    97.82,2,    37.13,2,     0.00,2,     2.67,2,   -999.0,9,   -999.0,9,-999.0000,9,  -999.00,     1300
  49UP20101110,RF1007,  3857,  1,     10,  22083,2,20101216,1235, 30.9812, 136.9967, 4247,   1214.4,   3.6860,  34.3960,2,  34.3947,2,     62.1,2,   121.37,2,    39.90,2,     0.00,2,     2.85,2,   -999.0,9,   -999.0,9,-999.0000,9,  -999.00,     1255
  49UP20101110,RF1007,  3857,  1,      7,  22080,2,20101216,1235, 30.9812, 136.9967, 4247,   1415.8,   2.9024,  34.4725,2,-999.0000,9,     63.5,2,   137.19,2,    40.78,2,     0.00,2,     2.89,2,   -999.0,9,   -999.0,9,-999.0000,9,  -999.00,     1250
  49UP20101110,RF1007,  3857,  1,      6,  22079,2,20101216,1235, 30.9812, 136.9967, 4247,   1415.8,   2.9024,  34.4725,2,  34.4714,2,     63.6,2,   137.46,2,    40.87,2,     0.00,2,     2.90,2,   -999.0,9,   -999.0,9,-999.0000,9,  -999.00,     1249
  49UP20101110,RF1007,  3857,  1,      5,  22078,2,20101216,1235, 30.9812, 136.9967, 4247,   1619.7,   2.5407,  34.5250,2,  34.5246,2,     76.2,2,   142.70,2,    40.37,2,     0.00,2,     2.85,2,   -999.0,9,   -999.0,9,-999.0000,9,  -999.00,     1244
  49UP20101110,RF1007,  3857,  1,      3,  22076,2,20101216,1235, 30.9812, 136.9967, 4247,   1820.4,   2.2816,  34.5620,2,  34.5615,2,     87.4,2,   145.33,2,    39.82,2,     0.00,2,     2.81,2,   -999.0,9,   -999.0,9,-999.0000,9,  -999.00,     1240
  49UP20101110,RF1007,  3857,  1,      1,  22074,2,20101216,1235, 30.9812, 136.9967, 4247,   2022.3,   2.0580,  34.5944,2,  34.5940,2,    101.0,2,   146.35,2,    39.12,2,     0.00,2,     2.75,2,   -999.0,9,   -999.0,9,-999.0000,9,  -999.00,     1235