BOTTLE,20200204PRINUNIVRMK
# Processed by CCHDO on 2021-06-02, no changes
# 08/30/2019 Initialized README file  
# Data source:  Masao Ishii 2018/11/30 
# SHIP: R/V Ryofu Maru III 
# Cruise: RF10-07, P03W 
# Region: North Pacific Ocean 
# EXPOCODE: 49UP20101110 
# DATES: 20101110 - 20101222 
# Chief Scientist: Takahiro Segawa	 
# 50 stations with 36 place Rosette 
# CTD: Who - Hitomi Kamiya; Status - final 
# 	Includes: CTDSAL 
# SALNTY: Who - Hitomi Kamiya; Status - final 
# 	Notes: 	 
# Nutrients: Who - Hitomi Kamiya; Status - final 
# 	Includes: nitrate, nitrite, silicate, phosphate 
# 	Nitrite and NO3+NO2 reported. Separated by subtraction 
# OXYGEN: Who - Hitomi Kamiya; Status - final 
# 	Notes: 
# TCARBN: Who - Hitomi Kamiya; Status - final 
# 	Notes:  
# ALKALI: Who - Hitomi Kamiya; Status - final 
# 	Notes:  
# PH: Who - Hitomi Kamiya; Status - final 
# 	Notes:  total H+ scale at 25C 
# These data should be cited as: Segawa, Takahiro; Kamiya, Hitomi; Ishii, Masao (2019). Dissolved inorganic carbon (DIC), total alkalinity, pH on total scale, temperature, salinity, oxygen, nutrients and other measurements collected from profile and discrete sample observations during the R/V Ryofu Maru III cruise RF10-07 Repeat Section P03W (EXPOCODE 49UP20101110) in the North Pacific Ocean and East China Sea from 2010-11-09 to 2010-12-22 (NCEI Accession 0186558). [indicate subset used]. NOAA National Centers for Environmental Information. Dataset. https://doi.org/10.25921/1vsm-rm20. Accessed [date].           
# References that have used data from this cruise: 
EXPOCODE,SECT_ID,STNNBR,CASTNO,SAMPNO,BTLNBR,BTLNBR_FLAG_W,DATE,TIME,LATITUDE,LONGITUDE,DEPTH,CTDPRS,CTDTMP,CTDSAL,CTDSAL_FLAG_W,SALNTY,SALNTY_FLAG_W,OXYGEN,OXYGEN_FLAG_W,SILCAT,SILCAT_FLAG_W,NITRAT,NITRAT_FLAG_W,NITRIT,NITRIT_FLAG_W,PHSPHT,PHSPHT_FLAG_W,TCARBN,TCARBN_FLAG_W,ALKALI,ALKALI_FLAG_W,PH_TOT,PH_TOT_FLAG_W,PH_TMP,BTL_TIME
,,,,,,,,,,,METERS,DBAR,ITS-90,PSS-78,,PSS-78,,UMOL/KG,,UMOL/KG,,UMOL/KG,,UMOL/KG,,UMOL/KG,,UMOL/KG,,UMOL/KG,,,,DEG C,
  49UP20101110,RF1007,  3773,  1,     99,     99,2,20101112,1408, 24.2382, 136.9993, 4758,      0.0,  27.6754,  34.6197,2,-999.0000,9,    200.3,2,     1.20,2,     0.02,2,     0.00,2,     0.02,2,   -999.0,9,   -999.0,9,-999.0000,9,  -999.00,     1505
  49UP20101110,RF1007,  3773,  1,     32,  22105,2,20101112,1408, 24.2382, 136.9993, 4758,     10.1,  27.6789,  34.6201,2,  34.6210,6,    200.1,2,     1.02,2,     0.00,2,     0.00,2,     0.03,2,   1945.7,2,   2276.8,2,   8.1071,2,    25.00,     1521
  49UP20101110,RF1007,  3773,  1,     31,  22104,2,20101112,1408, 24.2382, 136.9993, 4758,     24.2,  27.5772,  34.6827,2,-999.0000,9,    200.8,2,     1.26,2,     0.01,2,     0.00,2,     0.03,2,   1951.7,2,   2276.8,2,   8.0990,2,    25.00,     1520
  49UP20101110,RF1007,  3773,  1,     30,  22103,2,20101112,1408, 24.2382, 136.9993, 4758,     49.4,  27.0876,  34.7281,2,-999.0000,9,    208.0,2,     1.40,2,     0.01,2,     0.00,2,     0.03,2,   1957.1,2,   2282.8,2,   8.1068,2,    25.00,     1516
  49UP20101110,RF1007,  3773,  1,     29,  22102,2,20101112,1408, 24.2382, 136.9993, 4758,     75.1,  23.5977,  34.7821,2,-999.0000,9,    218.9,2,     1.47,2,     0.00,2,     0.00,2,     0.03,2,   1970.0,2,   2287.0,2,   8.0524,2,    25.00,     1515
  49UP20101110,RF1007,  3773,  1,     28,  22101,2,20101112,1408, 24.2382, 136.9993, 4758,    100.8,  21.0113,  34.7700,2,  34.7672,6,    213.0,2,     1.77,2,     0.18,2,     0.05,2,     0.04,2,   2003.0,2,   2285.5,2,   8.0094,2,    25.00,     1513
  49UP20101110,RF1007,  3773,  1,     27,  22100,2,20101112,1408, 24.2382, 136.9993, 4758,    125.6,  19.7382,  34.7544,2,-999.0000,9,    202.1,2,     2.12,2,     0.93,2,     0.04,2,     0.11,2,   2018.3,2,   2283.0,2,   8.0000,2,    25.00,     1512
  49UP20101110,RF1007,  3773,  1,     26,  22099,2,20101112,1408, 24.2382, 136.9993, 4758,    151.5,  19.2200,  34.7331,2,-999.0000,9,    202.6,6,     2.54,6,     2.39,6,     0.02,6,     0.17,6,   2020.3,2,   2281.9,2,   7.9919,2,    25.00,     1510
  49UP20101110,RF1007,  3773,  1,     25,  22098,2,20101112,1408, 24.2382, 136.9993, 4758,    201.9,  18.3098,  34.7281,2,  34.7297,2,    199.4,2,     3.46,2,     3.77,2,     0.00,2,     0.25,2,   2024.1,2,   2284.5,2,   7.9353,2,    25.00,     1508
  49UP20101110,RF1007,  3773,  1,     24,  22097,2,20101112,1408, 24.2382, 136.9993, 4758,    251.4,  17.2456,  34.7122,2,-999.0000,9,    194.0,2,     5.13,2,     5.93,2,     0.00,2,     0.41,2,   2046.3,2,   2283.0,2,   7.9363,2,    25.00,     1506
  49UP20101110,RF1007,  3773,  1,     23,  22096,2,20101112,1408, 24.2382, 136.9993, 4758,    302.2,  16.3064,  34.6673,2,-999.0000,9,    191.2,2,     7.02,2,     7.58,2,     0.00,2,     0.53,2,   2058.3,2,   2285.8,2,   7.9080,2,    25.00,     1504
  49UP20101110,RF1007,  3773,  1,     22,  22095,2,20101112,1408, 24.2382, 136.9993, 4758,    402.7,  13.5781,  34.4778,2,  34.4763,2,    185.3,2,    14.51,2,    12.29,2,     0.00,2,     0.87,2,   2099.6,2,   2276.4,2,   7.8263,2,    25.00,     1501
  49UP20101110,RF1007,  3773,  1,     20,  22093,2,20101112,1408, 24.2382, 136.9993, 4758,    504.9,  10.5324,  34.2777,2,-999.0000,9,    171.3,2,    28.12,2,    18.55,2,     0.00,2,     1.33,2,   2134.8,2,   2281.3,2,   7.7181,2,    25.00,     1458
  49UP20101110,RF1007,  3773,  1,     21,  22094,2,20101112,1408, 24.2382, 136.9993, 4758,    506.5,  10.5173,  34.2769,2,-999.0000,9,    171.5,2,    28.30,2,    18.70,2,     0.00,2,     1.35,2,   2136.0,2,   2278.5,2,   7.7116,2,    25.00,     1458
  49UP20101110,RF1007,  3773,  1,     19,  22092,2,20101112,1408, 24.2382, 136.9993, 4758,    606.3,   7.7902,  34.1430,2,  34.1452,2,    138.1,2,    48.13,2,    26.29,2,     0.00,2,     1.92,2,   2203.9,2,   2292.2,2,   7.5872,2,    25.00,     1454
  49UP20101110,RF1007,  3773,  1,     10,  22083,2,20101112,1408, 24.2382, 136.9993, 4758,    705.5,   6.0700,  34.1235,2,-999.0000,9,    107.7,2,    69.54,2,    32.10,2,     0.00,2,     2.34,2,   2253.2,2,   2303.6,2,   7.4725,2,    25.00,     1451
  49UP20101110,RF1007,  3773,  1,      9,  22082,4,20101112,1408, 24.2382, 136.9993, 4758,    804.8,   4.8342,  34.2088,2,-999.0000,9,   -999.0,9,  -999.00,9,  -999.00,9,  -999.00,9,  -999.00,9,   -999.0,9,   -999.0,9,-999.0000,9,  -999.00,     1448
  49UP20101110,RF1007,  3773,  1,      8,  22081,2,20101112,1408, 24.2382, 136.9993, 4758,    909.8,   4.1580,  34.3013,2,-999.0000,9,     58.6,2,   107.71,2,    39.32,2,     0.00,2,     2.86,2,   2328.6,2,   2352.8,2,   7.3995,2,    25.00,     1445
  49UP20101110,RF1007,  3773,  1,      7,  22080,2,20101112,1408, 24.2382, 136.9993, 4758,   1010.7,   3.7147,  34.3802,2,  34.3811,2,     56.0,6,   117.42,6,    40.26,6,     0.00,6,     2.91,6,   2335.4,2,   2363.5,2,   7.3745,6,    25.00,     1442
  49UP20101110,RF1007,  3773,  1,      6,  22079,2,20101112,1408, 24.2382, 136.9993, 4758,   1212.1,   3.0605,  34.4668,2,  34.4689,2,     64.4,2,   130.98,2,    40.42,2,     0.00,2,     2.91,2,   2351.8,6,   2383.9,6,   7.4113,2,    25.00,     1437
  49UP20101110,RF1007,  3773,  1,      5,  22078,2,20101112,1408, 24.2382, 136.9993, 4758,   1413.9,   2.6606,  34.5278,2,  34.5293,2,     80.1,2,   137.06,2,    39.64,2,     0.00,2,     2.85,2,   2350.5,2,   2398.9,2,   7.4223,2,    25.00,     1432
  49UP20101110,RF1007,  3773,  1,      4,  22077,2,20101112,1408, 24.2382, 136.9993, 4758,   1621.2,   2.3031,  34.5764,2,  34.5781,2,     97.0,2,   140.51,2,    38.74,2,     0.00,2,     2.77,2,   2350.1,2,   2407.0,2,   7.4680,2,    25.00,     1427
  49UP20101110,RF1007,  3773,  1,      3,  22076,2,20101112,1408, 24.2382, 136.9993, 4758,   1821.6,   2.1184,  34.6018,2,  34.6056,4,    107.8,2,   141.36,2,    38.24,2,     0.00,2,     2.72,2,   2344.1,2,   2409.7,2,   7.4767,2,    25.00,     1415
  49UP20101110,RF1007,  3773,  1,      2,  22075,2,20101112,1408, 24.2382, 136.9993, 4758,   2028.5,   1.9729,  34.6192,2,-999.0000,9,    115.8,2,   142.14,2,    37.75,2,     0.00,2,     2.69,2,   2342.4,2,   2412.1,2,   7.5173,2,    25.00,     1409
  49UP20101110,RF1007,  3773,  1,      1,  22074,2,20101112,1408, 24.2382, 136.9993, 4758,   2028.6,   1.9721,  34.6194,2,  34.6212,2,    116.1,2,   141.74,2,    37.83,2,     0.00,2,     2.67,2,   2342.1,6,   2411.3,6,   7.5073,2,    25.00,     1408
  49UP20101110,RF1007,  3775,  1,     99,     99,2,20101113,0159, 24.2470, 138.5628, 5008,      0.0,  27.7832,  34.7021,2,-999.0000,9,    200.4,4,     1.31,2,     0.09,2,     0.00,2,     0.02,2,   -999.0,9,   -999.0,9,-999.0000,9,  -999.00,      245
  49UP20101110,RF1007,  3775,  1,     32,  22105,2,20101113,0159, 24.2470, 138.5628, 5008,     11.6,  27.5727,  34.7038,2,-999.0000,9,    202.0,2,     1.11,2,     0.00,2,     0.00,2,     0.00,2,   -999.0,9,   -999.0,9,-999.0000,9,  -999.00,      303
  49UP20101110,RF1007,  3775,  1,     31,  22104,2,20101113,0159, 24.2470, 138.5628, 5008,     26.5,  27.5610,  34.7053,2,-999.0000,9,    201.9,2,     1.40,2,     0.00,2,     0.00,2,     0.00,2,   -999.0,9,   -999.0,9,-999.0000,9,  -999.00,      301
  49UP20101110,RF1007,  3775,  1,     30,  22103,2,20101113,0159, 24.2470, 138.5628, 5008,     51.0,  27.3589,  34.7048,2,-999.0000,9,    206.2,2,     1.43,2,     0.04,2,     0.00,2,     0.00,2,   -999.0,9,   -999.0,9,-999.0000,9,  -999.00,      257
  49UP20101110,RF1007,  3775,  1,     29,  22102,2,20101113,0159, 24.2470, 138.5628, 5008,     76.1,  22.8898,  34.7487,2,-999.0000,9,    223.3,2,     1.55,2,     0.00,2,     0.00,2,     0.01,2,   -999.0,9,   -999.0,9,-999.0000,9,  -999.00,      255
  49UP20101110,RF1007,  3775,  1,     28,  22101,2,20101113,0159, 24.2470, 138.5628, 5008,    101.0,  20.9379,  34.7583,2,-999.0000,9,    215.4,2,     2.02,2,     0.04,2,     0.00,2,     0.02,2,   -999.0,9,   -999.0,9,-999.0000,9,  -999.00,      254
  49UP20101110,RF1007,  3775,  1,     27,  22100,2,20101113,0159, 24.2470, 138.5628, 5008,    125.3,  19.4639,  34.7713,2,-999.0000,9,    198.3,6,     2.67,6,     1.84,6,     0.04,6,     0.14,6,   -999.0,9,   -999.0,9,-999.0000,9,  -999.00,      252
  49UP20101110,RF1007,  3775,  1,     26,  22099,2,20101113,0159, 24.2470, 138.5628, 5008,    151.5,  18.5186,  34.7242,2,-999.0000,9,    201.6,2,     3.26,2,     3.21,2,     0.00,2,     0.21,2,   -999.0,9,   -999.0,9,-999.0000,9,  -999.00,      251
  49UP20101110,RF1007,  3775,  1,     25,  22098,2,20101113,0159, 24.2470, 138.5628, 5008,    202.0,  17.7256,  34.7212,2,-999.0000,9,    196.6,2,     4.30,2,     4.80,2,     0.00,2,     0.31,2,   -999.0,9,   -999.0,9,-999.0000,9,  -999.00,      248
  49UP20101110,RF1007,  3775,  1,     24,  22097,2,20101113,0159, 24.2470, 138.5628, 5008,    252.7,  16.7064,  34.6852,2,-999.0000,9,    193.3,2,     6.12,2,     6.67,2,     0.00,2,     0.44,2,   -999.0,9,   -999.0,9,-999.0000,9,  -999.00,      246
  49UP20101110,RF1007,  3775,  1,     23,  22096,2,20101113,0159, 24.2470, 138.5628, 5008,    301.9,  15.8904,  34.6396,2,-999.0000,9,    190.0,2,     8.42,2,     8.33,2,     0.00,2,     0.56,2,   -999.0,9,   -999.0,9,-999.0000,9,  -999.00,      244
  49UP20101110,RF1007,  3775,  1,     21,  22094,2,20101113,0159, 24.2470, 138.5628, 5008,    404.4,  12.6806,  34.4186,2,-999.0000,9,    181.8,2,    18.10,2,    14.07,2,     0.00,2,     0.99,2,   -999.0,9,   -999.0,9,-999.0000,9,  -999.00,      241
  49UP20101110,RF1007,  3775,  1,     22,  22095,2,20101113,0159, 24.2470, 138.5628, 5008,    405.7,  12.6767,  34.4187,2,-999.0000,9,    181.9,2,    18.31,2,    14.15,2,     0.00,2,     1.00,2,   -999.0,9,   -999.0,9,-999.0000,9,  -999.00,      241
  49UP20101110,RF1007,  3775,  1,     20,  22093,2,20101113,0159, 24.2470, 138.5628, 5008,    504.9,   9.5592,  34.2216,2,-999.0000,9,    162.1,2,    34.63,2,    21.17,2,     0.00,2,     1.52,2,   -999.0,9,   -999.0,9,-999.0000,9,  -999.00,      238
  49UP20101110,RF1007,  3775,  1,     19,  22092,3,20101113,0159, 24.2470, 138.5628, 5008,    607.2,   7.1195,  34.1331,2,-999.0000,9,    127.4,2,    56.35,2,    28.44,2,     0.00,2,     2.07,2,   -999.0,9,   -999.0,9,-999.0000,9,  -999.00,      235
  49UP20101110,RF1007,  3775,  1,     10,  22083,2,20101113,0159, 24.2470, 138.5628, 5008,    706.3,   5.7577,  34.1542,2,-999.0000,9,     94.5,2,    76.04,2,    33.73,2,     0.00,2,     2.45,2,   -999.0,9,   -999.0,9,-999.0000,9,  -999.00,      232
  49UP20101110,RF1007,  3775,  1,      9,  22082,2,20101113,0159, 24.2470, 138.5628, 5008,    809.1,   4.6517,  34.2195,2,-999.0000,9,     67.9,2,    96.80,2,    37.86,2,     0.00,2,     2.74,2,   -999.0,9,   -999.0,9,-999.0000,9,  -999.00,      229
  49UP20101110,RF1007,  3775,  1,      8,  22081,2,20101113,0159, 24.2470, 138.5628, 5008,    910.5,   4.0821,  34.2976,2,-999.0000,9,     56.9,6,   110.39,6,    39.60,6,     0.00,6,     2.86,6,   -999.0,9,   -999.0,9,-999.0000,9,  -999.00,      226
  49UP20101110,RF1007,  3775,  1,      7,  22080,2,20101113,0159, 24.2470, 138.5628, 5008,   1012.5,   3.6165,  34.3724,2,-999.0000,9,     53.4,2,   121.30,2,    40.45,2,     0.00,2,     2.92,2,   -999.0,9,   -999.0,9,-999.0000,9,  -999.00,      223
  49UP20101110,RF1007,  3775,  1,      6,  22079,2,20101113,0159, 24.2470, 138.5628, 5008,   1213.6,   3.0401,  34.4619,2,-999.0000,9,     62.0,2,   132.90,2,    40.62,2,     0.00,2,     2.91,2,   -999.0,9,   -999.0,9,-999.0000,9,  -999.00,      218
  49UP20101110,RF1007,  3775,  1,      5,  22078,3,20101113,0159, 24.2470, 138.5628, 5008,   1416.2,   2.6322,  34.5153,2,-999.0000,9,     75.1,2,   139.55,2,    40.02,2,     0.00,2,     2.86,2,   -999.0,9,   -999.0,9,-999.0000,9,  -999.00,      214
  49UP20101110,RF1007,  3775,  1,      4,  22077,2,20101113,0159, 24.2470, 138.5628, 5008,   1617.2,   2.3060,  34.5656,2,-999.0000,9,     93.0,3,   142.76,2,    39.18,2,     0.00,2,     2.79,2,   -999.0,9,   -999.0,9,-999.0000,9,  -999.00,      209
  49UP20101110,RF1007,  3775,  1,      2,  22075,2,20101113,0159, 24.2470, 138.5628, 5008,   1820.6,   2.1131,  34.5950,2,-999.0000,9,    103.9,2,   143.42,2,    38.39,2,     0.00,2,     2.73,2,   -999.0,9,   -999.0,9,-999.0000,9,  -999.00,      204
  49UP20101110,RF1007,  3775,  1,      3,  22076,2,20101113,0159, 24.2470, 138.5628, 5008,   1821.4,   2.1126,  34.5951,2,-999.0000,9,    103.8,2,   143.53,2,    38.60,2,     0.00,2,     2.73,2,   -999.0,9,   -999.0,9,-999.0000,9,  -999.00,      204
  49UP20101110,RF1007,  3775,  1,      1,  22074,2,20101113,0159, 24.2470, 138.5628, 5008,   2035.6,   1.9437,  34.6219,2,-999.0000,9,    117.3,2,   143.27,2,    37.72,2,     0.00,2,     2.67,2,   -999.0,9,   -999.0,9,-999.0000,9,  -999.00,      159