BOTTLE,20200204PRINUNIVRMK
EXPOCODE,SECT_ID,STNNBR,CASTNO,SAMPNO,BTLNBR,BTLNBR_FLAG_W,DATE,TIME,LATITUDE,LONGITUDE,DEPTH,CTDPRS,CTDTMP,CTDSAL,CTDSAL_FLAG_W,SALNTY,SALNTY_FLAG_W,OXYGEN,OXYGEN_FLAG_W,SILCAT,SILCAT_FLAG_W,NITRAT,NITRAT_FLAG_W,NITRIT,NITRIT_FLAG_W,PHSPHT,PHSPHT_FLAG_W,TCARBN,TCARBN_FLAG_W,ALKALI,ALKALI_FLAG_W,PH_TOT,PH_TOT_FLAG_W,PH_TMP,BTL_TIME
,,,,,,,,,,,METERS,DBAR,ITS-90,PSS-78,,PSS-78,,UMOL/KG,,UMOL/KG,,UMOL/KG,,UMOL/KG,,UMOL/KG,,UMOL/KG,,UMOL/KG,,,,DEG C,
  49UP20101110,RF1007,  3834,  1,     99,     99,2,20101211,1710, 24.6448, 129.9945, 4215,      0.0,  23.8964,  34.6411,2,-999.0000,9,    209.5,2,     1.29,2,     0.04,2,     0.00,4,     0.00,2,   -999.0,9,   -999.0,9,-999.0000,9,  -999.00,     1759
  49UP20101110,RF1007,  3834,  1,     36,  22109,2,20101211,1710, 24.6448, 129.9945, 4215,     10.8,  23.8977,  34.6403,2,-999.0000,9,    210.7,2,     1.26,2,     0.04,2,     0.00,4,     0.00,2,   1957.4,2,   2270.8,2,   8.0887,2,    25.00,     1818
  49UP20101110,RF1007,  3834,  1,     33,  22106,2,20101211,1710, 24.6448, 129.9945, 4215,     26.3,  23.9122,  34.6397,2,-999.0000,9,    210.2,2,     1.23,2,     0.06,2,     0.00,4,     0.00,2,   1958.5,2,   2273.3,2,   8.0908,2,    25.00,     1816
  49UP20101110,RF1007,  3834,  1,     32,  22105,2,20101211,1710, 24.6448, 129.9945, 4215,     50.9,  23.8440,  34.6394,2,-999.0000,9,    210.7,2,     1.53,2,     0.00,2,     0.00,4,     0.00,2,   1957.8,2,   2270.9,2,   8.0849,2,    25.00,     1813
  49UP20101110,RF1007,  3834,  1,     31,  22104,2,20101211,1710, 24.6448, 129.9945, 4215,     50.9,  23.8440,  34.6394,2,-999.0000,9,    210.4,2,     1.25,2,     0.06,2,     0.00,4,     0.00,2,   1953.9,2,   2272.4,2,   8.0864,2,    25.00,     1813
  49UP20101110,RF1007,  3834,  1,     30,  22103,2,20101211,1710, 24.6448, 129.9945, 4215,     76.1,  23.5555,  34.6424,2,-999.0000,9,    211.3,2,     1.29,2,     0.03,2,     0.00,4,     0.00,2,   1955.8,2,   2270.8,2,   8.0801,2,    25.00,     1811
  49UP20101110,RF1007,  3834,  1,     29,  22102,2,20101211,1710, 24.6448, 129.9945, 4215,    100.4,  23.3044,  34.6657,2,-999.0000,9,    208.9,2,     1.41,2,     0.13,2,     0.04,4,     0.00,2,   1973.2,2,   2275.1,2,   8.0645,2,    25.00,     1810
  49UP20101110,RF1007,  3834,  1,     28,  22101,2,20101211,1710, 24.6448, 129.9945, 4215,    126.8,  21.5591,  34.7664,2,-999.0000,9,    202.9,2,     1.70,2,     0.85,2,     0.02,4,     0.05,2,   1992.6,2,   2280.2,2,   8.0326,2,    25.00,     1809
  49UP20101110,RF1007,  3834,  1,     25,  22098,2,20101211,1710, 24.6448, 129.9945, 4215,    153.3,  20.4362,  34.7488,2,-999.0000,9,    202.7,2,     1.99,2,     1.43,2,     0.01,4,     0.08,2,   2002.8,2,   2280.1,2,   8.0121,2,    25.00,     1808
  49UP20101110,RF1007,  3834,  1,     23,  22096,2,20101211,1710, 24.6448, 129.9945, 4215,    203.9,  19.2953,  34.7287,2,-999.0000,9,    205.3,6,     2.40,6,     2.37,6,     0.00,4,     0.14,6,   2010.7,2,   2275.1,2,   7.9948,2,    25.00,     1805
  49UP20101110,RF1007,  3834,  1,     22,  22095,2,20101211,1710, 24.6448, 129.9945, 4215,    254.3,  18.4917,  34.7274,2,-999.0000,9,    200.2,2,     3.16,2,     3.70,2,     0.00,4,     0.22,2,   2017.7,2,   2276.2,2,   7.9764,2,    25.00,     1803
  49UP20101110,RF1007,  3834,  1,     21,  22094,2,20101211,1710, 24.6448, 129.9945, 4215,    306.0,  17.8369,  34.7320,2,-999.0000,9,    194.4,2,     4.34,2,     5.13,2,     0.01,4,     0.32,2,   2032.2,2,   2277.8,2,   7.9533,2,    25.00,     1801
  49UP20101110,RF1007,  3834,  1,     20,  22093,2,20101211,1710, 24.6448, 129.9945, 4215,    406.8,  15.2785,  34.6020,2,-999.0000,9,    187.2,2,     9.49,2,     9.50,2,     0.01,4,     0.63,2,   2062.1,2,   2275.5,2,   7.8735,2,    25.00,     1757
  49UP20101110,RF1007,  3834,  1,     18,  22091,2,20101211,1710, 24.6448, 129.9945, 4215,    509.0,  11.9581,  34.3715,2,-999.0000,9,    175.9,2,    20.45,2,    15.58,2,     0.02,4,     1.07,2,   2112.0,2,   2280.7,2,   7.7714,2,    25.00,     1753
  49UP20101110,RF1007,  3834,  1,     16,  22089,2,20101211,1710, 24.6448, 129.9945, 4215,    609.0,   9.5457,  34.2255,2,-999.0000,9,    157.7,2,    34.66,2,    21.43,2,     0.00,4,     1.52,2,   2159.1,2,   2279.0,2,   7.6630,2,    25.00,     1749
  49UP20101110,RF1007,  3834,  1,     15,  22088,2,20101211,1710, 24.6448, 129.9945, 4215,    609.0,   9.5457,  34.2255,2,-999.0000,9,    157.7,2,    34.43,2,    21.48,2,     0.01,4,     1.52,2,   2152.9,6,   2278.4,6,   7.6640,6,    25.00,     1749
  49UP20101110,RF1007,  3834,  1,     14,  22087,2,20101211,1710, 24.6448, 129.9945, 4215,    710.2,   6.8093,  34.1443,2,-999.0000,9,    118.6,2,    61.03,2,    29.85,2,     0.01,4,     2.14,2,   2228.8,2,   2296.4,2,   7.5335,2,    25.00,     1745
  49UP20101110,RF1007,  3834,  1,     13,  22086,2,20101211,1710, 24.6448, 129.9945, 4215,    809.5,   5.2701,  34.1947,2,-999.0000,9,     82.4,2,    84.64,2,    35.60,2,     0.01,4,     2.56,2,   2281.2,2,   2318.9,2,   7.4337,2,    25.00,     1741
  49UP20101110,RF1007,  3834,  1,     12,  22085,2,20101211,1710, 24.6448, 129.9945, 4215,    909.9,   4.7858,  34.2515,2,-999.0000,9,     69.7,2,    95.79,2,    37.64,2,     0.01,4,     2.71,2,   2302.0,2,   2331.3,2,   7.4139,2,    25.00,     1738
  49UP20101110,RF1007,  3834,  1,     11,  22110,2,20101211,1710, 24.6448, 129.9945, 4215,   1013.4,   4.1184,  34.3234,2,-999.0000,9,     60.5,2,   110.03,2,    39.34,2,     0.01,4,     2.83,2,   2323.1,2,   2353.5,2,   7.4015,2,    25.00,     1734
  49UP20101110,RF1007,  3834,  1,     10,  22083,2,20101211,1710, 24.6448, 129.9945, 4215,   1214.3,   3.3033,  34.4311,2,-999.0000,9,     61.1,6,   127.98,6,    40.30,6,     0.01,4,     2.89,6,   2339.5,2,   2374.7,2,   7.3987,2,    25.00,     1729
  49UP20101110,RF1007,  3834,  1,      7,  22080,2,20101211,1710, 24.6448, 129.9945, 4215,   1414.8,   2.7193,  34.5102,2,-999.0000,9,     75.9,2,   137.71,2,    39.79,2,     0.00,4,     2.83,2,   2344.9,2,   2387.9,2,   7.4297,2,    25.00,     1724
  49UP20101110,RF1007,  3834,  1,      5,  22078,2,20101211,1710, 24.6448, 129.9945, 4215,   1614.9,   2.3780,  34.5586,2,-999.0000,9,     91.5,2,   140.91,2,    39.07,2,     0.00,4,     2.76,2,   2349.5,2,   2396.6,2,   7.4600,6,    25.00,     1719
  49UP20101110,RF1007,  3834,  1,      3,  22076,2,20101211,1710, 24.6448, 129.9945, 4215,   1817.7,   2.1906,  34.5856,2,-999.0000,9,    101.8,2,   142.00,2,    38.51,2,     0.00,4,     2.72,2,   2345.3,6,   2404.0,6,   7.4764,2,    25.00,     1714
  49UP20101110,RF1007,  3834,  1,      1,  22074,2,20101211,1710, 24.6448, 129.9945, 4215,   2031.1,   2.0145,  34.6100,2,-999.0000,9,    113.0,2,   142.96,2,    37.87,2,     0.00,4,     2.67,2,   2339.4,2,   2414.0,2,   7.4974,2,    25.00,     1710
  49UP20101110,RF1007,  3837,  1,     99,     99,2,20101212,0450, 24.0003, 130.9837, 3328,      0.0,  24.1527,  34.6044,2,-999.0000,9,    210.7,2,     1.38,2,     0.00,2,  -999.00,5,     0.00,2,   -999.0,9,   -999.0,9,-999.0000,9,  -999.00,      537
  49UP20101110,RF1007,  3837,  1,     36,  22109,2,20101212,0450, 24.0003, 130.9837, 3328,     10.6,  24.1448,  34.6039,2,  34.6039,2,    210.2,2,     1.34,2,     0.00,2,  -999.00,5,     0.00,2,   -999.0,9,   -999.0,9,-999.0000,9,  -999.00,      554
  49UP20101110,RF1007,  3837,  1,     33,  22106,2,20101212,0450, 24.0003, 130.9837, 3328,     25.9,  24.0720,  34.6048,2,-999.0000,9,    210.7,2,     1.34,2,     0.00,2,  -999.00,5,     0.00,2,   -999.0,9,   -999.0,9,-999.0000,9,  -999.00,      553
  49UP20101110,RF1007,  3837,  1,     32,  22105,2,20101212,0450, 24.0003, 130.9837, 3328,     50.8,  23.4959,  34.6235,2,-999.0000,9,    211.5,2,     1.36,2,     0.00,2,  -999.00,5,     0.00,2,   -999.0,9,   -999.0,9,-999.0000,9,  -999.00,      549
  49UP20101110,RF1007,  3837,  1,     31,  22104,2,20101212,0450, 24.0003, 130.9837, 3328,     75.1,  23.4665,  34.6254,2,-999.0000,9,    211.5,2,     1.33,2,     0.00,2,  -999.00,5,     0.00,2,   -999.0,9,   -999.0,9,-999.0000,9,  -999.00,      547
  49UP20101110,RF1007,  3837,  1,     30,  22103,3,20101212,0450, 24.0003, 130.9837, 3328,    100.7,  21.7321,  34.7582,2,  34.7598,2,    199.3,2,     2.29,2,     1.32,2,  -999.00,5,     0.09,2,   -999.0,9,   -999.0,9,-999.0000,9,  -999.00,      546
  49UP20101110,RF1007,  3837,  1,     28,  22101,2,20101212,0450, 24.0003, 130.9837, 3328,    126.4,  20.2963,  34.7559,2,-999.0000,9,    199.9,2,     2.17,2,     1.62,2,  -999.00,5,     0.11,2,   -999.0,9,   -999.0,9,-999.0000,9,  -999.00,      545
  49UP20101110,RF1007,  3837,  1,     25,  22098,2,20101212,0450, 24.0003, 130.9837, 3328,    152.1,  19.5891,  34.7460,2,-999.0000,9,    198.0,6,     2.71,6,     2.50,6,  -999.00,5,     0.16,6,   -999.0,9,   -999.0,9,-999.0000,9,  -999.00,      543
  49UP20101110,RF1007,  3837,  1,     23,  22096,2,20101212,0450, 24.0003, 130.9837, 3328,    201.8,  18.5471,  34.7363,2,  34.7368,2,    193.4,2,     3.71,2,     4.21,2,  -999.00,5,     0.27,2,   -999.0,9,   -999.0,9,-999.0000,9,  -999.00,      541
  49UP20101110,RF1007,  3837,  1,     22,  22095,2,20101212,0450, 24.0003, 130.9837, 3328,    254.2,  17.2663,  34.7158,2,-999.0000,9,    188.9,2,     5.74,2,     6.33,2,  -999.00,5,     0.41,2,   -999.0,9,   -999.0,9,-999.0000,9,  -999.00,      539
  49UP20101110,RF1007,  3837,  1,     21,  22094,2,20101212,0450, 24.0003, 130.9837, 3328,    306.3,  16.3931,  34.6773,2,-999.0000,9,    189.1,2,     7.22,2,     7.71,2,  -999.00,5,     0.50,2,   -999.0,9,   -999.0,9,-999.0000,9,  -999.00,      538
  49UP20101110,RF1007,  3837,  1,     20,  22093,2,20101212,0450, 24.0003, 130.9837, 3328,    306.3,  16.3931,  34.6773,2,-999.0000,9,    188.6,2,     7.01,2,     7.67,2,  -999.00,5,     0.50,2,   -999.0,9,   -999.0,9,-999.0000,9,  -999.00,      537
  49UP20101110,RF1007,  3837,  1,     18,  22091,2,20101212,0450, 24.0003, 130.9837, 3328,    405.7,  14.0825,  34.5206,2,  34.5201,2,    180.2,2,    14.07,2,    12.03,2,  -999.00,5,     0.82,2,   -999.0,9,   -999.0,9,-999.0000,9,  -999.00,      533
  49UP20101110,RF1007,  3837,  1,     16,  22089,2,20101212,0450, 24.0003, 130.9837, 3328,    505.8,  11.2588,  34.3296,2,-999.0000,9,    171.1,2,    25.01,2,    17.51,2,  -999.00,5,     1.22,2,   -999.0,9,   -999.0,9,-999.0000,9,  -999.00,      530
  49UP20101110,RF1007,  3837,  1,     15,  22088,2,20101212,0450, 24.0003, 130.9837, 3328,    605.6,   8.4173,  34.1806,2,  34.1803,2,    143.6,2,    44.46,2,    24.89,2,  -999.00,5,     1.77,2,   -999.0,9,   -999.0,9,-999.0000,9,  -999.00,      527
  49UP20101110,RF1007,  3837,  1,     14,  22087,2,20101212,0450, 24.0003, 130.9837, 3328,    707.9,   6.2367,  34.1495,2,-999.0000,9,    107.0,2,    69.52,2,    32.00,2,  -999.00,5,     2.30,2,   -999.0,9,   -999.0,9,-999.0000,9,  -999.00,      524
  49UP20101110,RF1007,  3837,  1,     13,  22086,2,20101212,0450, 24.0003, 130.9837, 3328,    808.6,   4.8837,  34.2254,2,  34.2252,2,     74.4,2,    92.83,2,    37.12,2,  -999.00,5,     2.66,2,   -999.0,9,   -999.0,9,-999.0000,9,  -999.00,      521
  49UP20101110,RF1007,  3837,  1,     12,  22085,2,20101212,0450, 24.0003, 130.9837, 3328,    909.4,   4.1649,  34.2996,2,-999.0000,9,     59.7,2,   108.38,2,    39.48,2,  -999.00,5,     2.82,2,   -999.0,9,   -999.0,9,-999.0000,9,  -999.00,      518
  49UP20101110,RF1007,  3837,  1,     11,  22110,2,20101212,0450, 24.0003, 130.9837, 3328,   1011.4,   3.7307,  34.3596,2,  34.3610,2,     56.5,6,   117.57,6,    40.43,6,  -999.00,5,     2.89,6,   -999.0,9,   -999.0,9,-999.0000,9,  -999.00,      515
  49UP20101110,RF1007,  3837,  1,     10,  22083,2,20101212,0450, 24.0003, 130.9837, 3328,   1211.8,   3.1011,  34.4623,2,  34.4621,2,     65.0,2,   130.14,2,    40.55,2,  -999.00,5,     2.88,2,   -999.0,9,   -999.0,9,-999.0000,9,  -999.00,      510
  49UP20101110,RF1007,  3837,  1,      7,  22080,2,20101212,0450, 24.0003, 130.9837, 3328,   1416.0,   2.6147,  34.5219,2,  34.5222,2,     78.1,2,   137.89,2,    40.12,2,  -999.00,5,     2.83,2,   -999.0,9,   -999.0,9,-999.0000,9,  -999.00,      505
  49UP20101110,RF1007,  3837,  1,      5,  22078,2,20101212,0450, 24.0003, 130.9837, 3328,   1617.9,   2.2365,  34.5747,2,  34.5746,6,     96.8,2,   141.57,2,    39.21,2,  -999.00,5,     2.75,2,   -999.0,9,   -999.0,9,-999.0000,9,  -999.00,      500
  49UP20101110,RF1007,  3837,  1,      3,  22076,2,20101212,0450, 24.0003, 130.9837, 3328,   1820.0,   2.0484,  34.6020,2,  34.6031,6,    108.7,2,   141.61,2,    38.58,2,  -999.00,5,     2.70,2,   -999.0,9,   -999.0,9,-999.0000,9,  -999.00,      456
  49UP20101110,RF1007,  3837,  1,      2,  22075,2,20101212,0450, 24.0003, 130.9837, 3328,   2033.3,   1.8840,  34.6249,2,-999.0000,9,    119.4,2,   142.55,2,    37.96,2,  -999.00,5,     2.65,2,   -999.0,9,   -999.0,9,-999.0000,9,  -999.00,      451
  49UP20101110,RF1007,  3837,  1,      1,  22074,2,20101212,0450, 24.0003, 130.9837, 3328,   2033.3,   1.8840,  34.6249,2,  34.6240,2,    119.2,2,   142.41,2,    37.96,2,  -999.00,5,     2.65,2,   -999.0,9,   -999.0,9,-999.0000,9,  -999.00,      450
  49UP20101110,RF1007,  3839,  1,     99,     99,2,20101212,1418, 23.7440, 131.9837, 3481,      0.0,  24.5502,  34.6265,2,-999.0000,9,    208.6,2,     1.46,2,     0.01,2,  -999.00,5,     0.00,2,   -999.0,9,   -999.0,9,-999.0000,9,  -999.00,     1456
  49UP20101110,RF1007,  3839,  1,     36,  22109,2,20101212,1418, 23.7440, 131.9837, 3481,     11.4,  24.5558,  34.6260,2,-999.0000,9,    209.0,2,     1.39,2,     0.01,2,  -999.00,5,     0.00,2,   -999.0,9,   -999.0,9,-999.0000,9,  -999.00,     1517
  49UP20101110,RF1007,  3839,  1,     33,  22106,2,20101212,1418, 23.7440, 131.9837, 3481,     26.4,  24.5632,  34.6278,2,-999.0000,9,    209.0,2,     1.47,2,     0.05,2,  -999.00,5,     0.00,2,   -999.0,9,   -999.0,9,-999.0000,9,  -999.00,     1515
  49UP20101110,RF1007,  3839,  1,     32,  22105,2,20101212,1418, 23.7440, 131.9837, 3481,     50.1,  24.5723,  34.6282,2,-999.0000,9,    208.8,2,     1.50,2,     0.04,2,  -999.00,5,     0.00,2,   -999.0,9,   -999.0,9,-999.0000,9,  -999.00,     1512
  49UP20101110,RF1007,  3839,  1,     31,  22104,2,20101212,1418, 23.7440, 131.9837, 3481,     74.8,  24.5716,  34.6266,2,-999.0000,9,    208.8,2,     1.33,2,     0.03,2,  -999.00,5,     0.00,2,   -999.0,9,   -999.0,9,-999.0000,9,  -999.00,     1510
  49UP20101110,RF1007,  3839,  1,     30,  22103,2,20101212,1418, 23.7440, 131.9837, 3481,     99.0,  22.3485,  34.7488,2,-999.0000,9,    202.3,2,     1.92,2,     0.46,2,  -999.00,5,     0.03,2,   -999.0,9,   -999.0,9,-999.0000,9,  -999.00,     1509
  49UP20101110,RF1007,  3839,  1,     29,  22102,2,20101212,1418, 23.7440, 131.9837, 3481,    126.1,  20.2827,  34.7487,2,-999.0000,9,    198.6,6,     2.56,6,     1.99,6,  -999.00,5,     0.13,6,   -999.0,9,   -999.0,9,-999.0000,9,  -999.00,     1508
  49UP20101110,RF1007,  3839,  1,     28,  22101,2,20101212,1418, 23.7440, 131.9837, 3481,    151.6,  19.4194,  34.7380,2,-999.0000,9,    199.3,2,     2.65,2,     2.63,2,  -999.00,5,     0.16,2,   -999.0,9,   -999.0,9,-999.0000,9,  -999.00,     1507
  49UP20101110,RF1007,  3839,  1,     25,  22098,2,20101212,1418, 23.7440, 131.9837, 3481,    202.0,  18.6535,  34.7321,2,-999.0000,9,    198.3,2,     3.21,2,     3.58,2,  -999.00,5,     0.22,2,   -999.0,9,   -999.0,9,-999.0000,9,  -999.00,     1505
  49UP20101110,RF1007,  3839,  1,     23,  22096,2,20101212,1418, 23.7440, 131.9837, 3481,    252.3,  17.8689,  34.7378,2,-999.0000,9,    192.6,2,     4.27,2,     5.01,2,  -999.00,5,     0.32,2,   -999.0,9,   -999.0,9,-999.0000,9,  -999.00,     1503
  49UP20101110,RF1007,  3839,  1,     22,  22095,2,20101212,1418, 23.7440, 131.9837, 3481,    303.0,  16.7369,  34.6964,2,-999.0000,9,    189.2,2,     6.30,2,     7.06,2,  -999.00,5,     0.46,2,   -999.0,9,   -999.0,9,-999.0000,9,  -999.00,     1501
  49UP20101110,RF1007,  3839,  1,     21,  22094,2,20101212,1418, 23.7440, 131.9837, 3481,    404.5,  13.8429,  34.5001,2,-999.0000,9,    181.7,2,    14.05,2,    12.08,2,  -999.00,5,     0.83,2,   -999.0,9,   -999.0,9,-999.0000,9,  -999.00,     1459
  49UP20101110,RF1007,  3839,  1,     20,  22093,2,20101212,1418, 23.7440, 131.9837, 3481,    404.5,  13.8429,  34.5001,2,-999.0000,9,    181.7,2,    13.93,2,    12.09,2,  -999.00,5,     0.83,2,   -999.0,9,   -999.0,9,-999.0000,9,  -999.00,     1458
  49UP20101110,RF1007,  3839,  1,     18,  22091,2,20101212,1418, 23.7440, 131.9837, 3481,    504.6,  10.6994,  34.2948,2,-999.0000,9,    167.7,2,    28.23,2,    18.63,2,  -999.00,5,     1.31,2,   -999.0,9,   -999.0,9,-999.0000,9,  -999.00,     1455
  49UP20101110,RF1007,  3839,  1,     16,  22089,2,20101212,1418, 23.7440, 131.9837, 3481,    606.7,   7.9264,  34.1679,2,-999.0000,9,    137.6,2,    49.67,2,    26.12,2,  -999.00,5,     1.87,2,   -999.0,9,   -999.0,9,-999.0000,9,  -999.00,     1453
  49UP20101110,RF1007,  3839,  1,     15,  22088,2,20101212,1418, 23.7440, 131.9837, 3481,    706.9,   6.4142,  34.1470,2,-999.0000,9,    112.0,2,    67.20,2,    31.00,2,  -999.00,5,     2.24,2,   -999.0,9,   -999.0,9,-999.0000,9,  -999.00,     1450
  49UP20101110,RF1007,  3839,  1,     14,  22087,2,20101212,1418, 23.7440, 131.9837, 3481,    808.1,   5.1586,  34.2041,2,-999.0000,9,     90.3,3,    88.67,2,    35.78,2,  -999.00,5,     2.58,2,   -999.0,9,   -999.0,9,-999.0000,9,  -999.00,     1447
  49UP20101110,RF1007,  3839,  1,     13,  22086,2,20101212,1418, 23.7440, 131.9837, 3481,    906.6,   4.1935,  34.3181,2,-999.0000,9,     58.6,6,   107.93,6,    39.21,6,  -999.00,5,     2.83,6,   -999.0,9,   -999.0,9,-999.0000,9,  -999.00,     1444
  49UP20101110,RF1007,  3839,  1,     11,  22110,2,20101212,1418, 23.7440, 131.9837, 3481,   1011.5,   3.6829,  34.3850,2,-999.0000,9,     58.1,2,   119.71,2,    39.93,2,  -999.00,5,     2.87,2,   -999.0,9,   -999.0,9,-999.0000,9,  -999.00,     1441
  49UP20101110,RF1007,  3839,  1,     10,  22083,2,20101212,1418, 23.7440, 131.9837, 3481,   1212.1,   3.0369,  34.4714,2,-999.0000,9,     66.7,2,   131.57,2,    40.15,2,  -999.00,5,     2.86,2,   -999.0,9,   -999.0,9,-999.0000,9,  -999.00,     1436
  49UP20101110,RF1007,  3839,  1,      7,  22080,2,20101212,1418, 23.7440, 131.9837, 3481,   1415.1,   2.5286,  34.5374,2,-999.0000,9,     83.5,2,   138.65,2,    39.31,2,  -999.00,5,     2.80,2,   -999.0,9,   -999.0,9,-999.0000,9,  -999.00,     1432
  49UP20101110,RF1007,  3839,  1,      5,  22078,2,20101212,1418, 23.7440, 131.9837, 3481,   1616.0,   2.2336,  34.5748,2,-999.0000,9,     96.8,2,   142.48,2,    38.77,2,  -999.00,5,     2.75,2,   -999.0,9,   -999.0,9,-999.0000,9,  -999.00,     1427
  49UP20101110,RF1007,  3839,  1,      3,  22076,2,20101212,1418, 23.7440, 131.9837, 3481,   1820.3,   2.0663,  34.5995,2,-999.0000,9,    106.8,2,   143.12,2,    38.14,2,  -999.00,5,     2.70,2,   -999.0,9,   -999.0,9,-999.0000,9,  -999.00,     1422
  49UP20101110,RF1007,  3839,  1,      2,  22075,2,20101212,1418, 23.7440, 131.9837, 3481,   1820.3,   2.0663,  34.5995,2,-999.0000,9,    107.0,2,   141.23,2,    38.10,2,  -999.00,5,     2.70,2,   -999.0,9,   -999.0,9,-999.0000,9,  -999.00,     1422
  49UP20101110,RF1007,  3839,  1,      1,  22074,2,20101212,1418, 23.7440, 131.9837, 3481,   2019.4,   1.9214,  34.6233,2,-999.0000,9,    118.1,2,   141.79,2,    37.69,2,  -999.00,5,     2.65,2,   -999.0,9,   -999.0,9,-999.0000,9,  -999.00,     1418