BOTTLE,20200204PRINUNIVRMK
EXPOCODE,SECT_ID,STNNBR,CASTNO,SAMPNO,BTLNBR,BTLNBR_FLAG_W,DATE,TIME,LATITUDE,LONGITUDE,DEPTH,CTDPRS,CTDTMP,CTDSAL,CTDSAL_FLAG_W,SALNTY,SALNTY_FLAG_W,OXYGEN,OXYGEN_FLAG_W,SILCAT,SILCAT_FLAG_W,NITRAT,NITRAT_FLAG_W,NITRIT,NITRIT_FLAG_W,PHSPHT,PHSPHT_FLAG_W,TCARBN,TCARBN_FLAG_W,ALKALI,ALKALI_FLAG_W,PH_TOT,PH_TOT_FLAG_W,PH_TMP,BTL_TIME
,,,,,,,,,,,METERS,DBAR,ITS-90,PSS-78,,PSS-78,,UMOL/KG,,UMOL/KG,,UMOL/KG,,UMOL/KG,,UMOL/KG,,UMOL/KG,,UMOL/KG,,,,DEG C,
  49UP20101110,RF1007,  3783,  1,     99,     99,2,20101114,2032, 24.2547, 143.6205, 8018,      0.0,  27.4352,  34.6244,2,-999.0000,9,    202.1,2,     1.53,2,     0.00,2,     0.00,2,     0.01,2,   -999.0,9,   -999.0,9,-999.0000,9,  -999.00,     2116
  49UP20101110,RF1007,  3783,  1,     32,  22105,2,20101114,2032, 24.2547, 143.6205, 8018,     11.3,  27.4373,  34.6245,2,  34.6247,2,    201.1,2,     1.37,2,     0.00,2,     0.00,2,     0.00,2,   -999.0,9,   -999.0,9,-999.0000,9,  -999.00,     2135
  49UP20101110,RF1007,  3783,  1,     31,  22104,2,20101114,2032, 24.2547, 143.6205, 8018,     27.4,  27.4427,  34.6239,2,-999.0000,9,    201.4,2,     1.49,2,     0.00,2,     0.00,2,     0.00,2,   -999.0,9,   -999.0,9,-999.0000,9,  -999.00,     2132
  49UP20101110,RF1007,  3783,  1,     30,  22103,2,20101114,2032, 24.2547, 143.6205, 8018,     50.7,  27.4083,  34.6446,2,-999.0000,9,    202.1,2,     1.58,2,     0.00,2,     0.00,2,     0.00,2,   -999.0,9,   -999.0,9,-999.0000,9,  -999.00,     2126
  49UP20101110,RF1007,  3783,  1,     29,  22102,2,20101114,2032, 24.2547, 143.6205, 8018,     76.5,  25.4302,  34.7110,2,-999.0000,9,    215.8,2,     1.77,2,     0.00,2,     0.00,2,     0.00,2,   -999.0,9,   -999.0,9,-999.0000,9,  -999.00,     2125
  49UP20101110,RF1007,  3783,  1,     28,  22101,2,20101114,2032, 24.2547, 143.6205, 8018,    101.0,  23.1818,  34.7870,2,  34.7880,2,    217.8,2,     1.93,2,     0.00,2,     0.00,2,     0.00,2,   -999.0,9,   -999.0,9,-999.0000,9,  -999.00,     2124
  49UP20101110,RF1007,  3783,  1,     27,  22100,2,20101114,2032, 24.2547, 143.6205, 8018,    127.9,  20.9842,  34.7741,2,-999.0000,9,    211.7,2,     2.23,2,     0.09,2,     0.09,2,     0.03,2,   -999.0,9,   -999.0,9,-999.0000,9,  -999.00,     2122
  49UP20101110,RF1007,  3783,  1,     26,  22099,2,20101114,2032, 24.2547, 143.6205, 8018,    151.5,  19.9933,  34.7771,2,-999.0000,9,    201.6,2,     2.69,2,     1.09,2,     0.02,2,     0.09,2,   -999.0,9,   -999.0,9,-999.0000,9,  -999.00,     2121
  49UP20101110,RF1007,  3783,  1,     25,  22098,2,20101114,2032, 24.2547, 143.6205, 8018,    151.5,  19.9933,  34.7771,2,-999.0000,9,    201.6,2,     2.50,2,     1.07,2,     0.01,2,     0.10,2,   -999.0,9,   -999.0,9,-999.0000,9,  -999.00,     2121
  49UP20101110,RF1007,  3783,  1,     24,  22097,2,20101114,2032, 24.2547, 143.6205, 8018,    202.8,  18.5332,  34.7710,2,  34.7717,2,    191.6,2,     3.55,2,     3.83,2,     0.00,2,     0.27,2,   -999.0,9,   -999.0,9,-999.0000,9,  -999.00,     2119
  49UP20101110,RF1007,  3783,  1,     23,  22096,2,20101114,2032, 24.2547, 143.6205, 8018,    252.7,  17.2965,  34.7185,2,-999.0000,9,    193.5,2,     4.91,2,     5.63,2,     0.00,2,     0.38,2,   -999.0,9,   -999.0,9,-999.0000,9,  -999.00,     2117
  49UP20101110,RF1007,  3783,  1,     22,  22095,2,20101114,2032, 24.2547, 143.6205, 8018,    304.2,  16.1271,  34.6533,2,-999.0000,9,    191.4,2,     7.17,2,     7.59,2,     0.00,2,     0.51,2,   -999.0,9,   -999.0,9,-999.0000,9,  -999.00,     2115
  49UP20101110,RF1007,  3783,  1,     21,  22094,2,20101114,2032, 24.2547, 143.6205, 8018,    404.0,  13.7755,  34.4883,2,  34.4895,2,    186.8,4,    13.56,2,    11.64,2,     0.00,2,     0.81,2,   -999.0,9,   -999.0,9,-999.0000,9,  -999.00,     2113
  49UP20101110,RF1007,  3783,  1,     20,  22093,2,20101114,2032, 24.2547, 143.6205, 8018,    505.4,  10.5355,  34.2639,2,-999.0000,9,    171.3,6,    26.25,6,    18.42,6,     0.00,6,     1.32,6,   -999.0,9,   -999.0,9,-999.0000,9,  -999.00,     2110
  49UP20101110,RF1007,  3783,  1,     19,  22092,2,20101114,2032, 24.2547, 143.6205, 8018,    606.3,   8.6310,  34.1629,2,  34.1636,6,    150.4,2,    39.44,2,    23.70,2,     0.00,2,     1.72,2,   -999.0,9,   -999.0,9,-999.0000,9,  -999.00,     2107
  49UP20101110,RF1007,  3783,  1,     10,  22083,2,20101114,2032, 24.2547, 143.6205, 8018,    707.2,   6.3867,  34.1045,2,-999.0000,9,    107.3,2,    62.36,2,    31.59,2,     0.00,2,     2.30,2,   -999.0,9,   -999.0,9,-999.0000,9,  -999.00,     2104
  49UP20101110,RF1007,  3783,  1,      9,  22082,2,20101114,2032, 24.2547, 143.6205, 8018,    808.5,   5.1137,  34.1608,2,  34.1604,6,     76.8,2,    85.39,2,    36.21,2,     0.00,2,     2.64,2,   -999.0,9,   -999.0,9,-999.0000,9,  -999.00,     2101
  49UP20101110,RF1007,  3783,  1,      8,  22081,2,20101114,2032, 24.2547, 143.6205, 8018,    909.3,   4.6163,  34.2781,2,-999.0000,9,     60.0,2,    98.13,2,    38.71,2,     0.00,2,     2.81,2,   -999.0,9,   -999.0,9,-999.0000,9,  -999.00,     2058
  49UP20101110,RF1007,  3783,  1,      7,  22080,2,20101114,2032, 24.2547, 143.6205, 8018,   1010.7,   4.2279,  34.3349,2,-999.0000,9,     55.8,2,   106.88,2,    39.52,2,     0.00,2,     2.89,2,   -999.0,9,   -999.0,9,-999.0000,9,  -999.00,     2056
  49UP20101110,RF1007,  3783,  1,      6,  22079,2,20101114,2032, 24.2547, 143.6205, 8018,   1010.7,   4.2279,  34.3349,2,  34.3380,2,     55.5,2,   106.87,2,    39.60,2,     0.00,2,     2.86,2,   -999.0,9,   -999.0,9,-999.0000,9,  -999.00,     2056
  49UP20101110,RF1007,  3783,  1,      5,  22078,2,20101114,2032, 24.2547, 143.6205, 8018,   1212.9,   3.2233,  34.4364,2,  34.4389,2,     53.3,2,   130.73,2,    40.82,2,     0.00,2,     2.95,2,   -999.0,9,   -999.0,9,-999.0000,9,  -999.00,     2051
  49UP20101110,RF1007,  3783,  1,      4,  22077,2,20101114,2032, 24.2547, 143.6205, 8018,   1416.4,   2.8077,  34.5120,2,  34.5123,2,     71.6,2,   137.37,2,    40.16,2,     0.00,2,     2.87,2,   -999.0,9,   -999.0,9,-999.0000,9,  -999.00,     2046
  49UP20101110,RF1007,  3783,  1,      3,  22076,2,20101114,2032, 24.2547, 143.6205, 8018,   1618.8,   2.4341,  34.5567,2,  34.5582,2,     84.0,2,   143.28,2,    39.41,2,     0.00,2,     2.81,2,   -999.0,9,   -999.0,9,-999.0000,9,  -999.00,     2041
  49UP20101110,RF1007,  3783,  1,      2,  22075,2,20101114,2032, 24.2547, 143.6205, 8018,   1821.4,   2.2000,  34.5814,2,  34.5783,4,     91.9,2,   146.73,2,    39.23,2,     0.00,2,     2.78,2,   -999.0,9,   -999.0,9,-999.0000,9,  -999.00,     2037
  49UP20101110,RF1007,  3783,  1,      1,  22074,2,20101114,2032, 24.2547, 143.6205, 8018,   2024.0,   2.0250,  34.6050,2,  34.6069,2,    101.5,6,   148.64,6,    38.54,6,     0.00,6,     2.75,6,   -999.0,9,   -999.0,9,-999.0000,9,  -999.00,     2032
  49UP20101110,RF1007,  3785,  1,     99,     99,2,20101115,0630, 24.2693, 144.8430, 5272,      0.0,  28.1396,  34.5600,2,-999.0000,9,    199.9,2,     1.06,2,     0.08,2,     0.00,2,     0.02,2,   -999.0,9,   -999.0,9,-999.0000,9,  -999.00,      712
  49UP20101110,RF1007,  3785,  1,     32,  22105,2,20101115,0630, 24.2693, 144.8430, 5272,     11.9,  28.1423,  34.5589,2,-999.0000,9,    200.3,2,     1.00,2,     0.03,2,     0.00,2,     0.00,2,   1934.9,2,   2269.6,2,   8.1283,2,    25.00,      732
  49UP20101110,RF1007,  3785,  1,     31,  22104,2,20101115,0630, 24.2693, 144.8430, 5272,     27.2,  28.0530,  34.5583,2,-999.0000,9,    200.9,2,     1.12,2,     0.01,2,     0.00,2,     0.00,2,   1934.8,2,   2266.0,2,   8.1209,2,    25.00,      730
  49UP20101110,RF1007,  3785,  1,     30,  22103,2,20101115,0630, 24.2693, 144.8430, 5272,     51.9,  26.8608,  34.7120,2,-999.0000,9,    211.0,2,     1.12,2,     0.00,2,     0.00,2,     0.00,2,   1947.9,2,   2277.5,2,   8.1305,2,    25.00,      724
  49UP20101110,RF1007,  3785,  1,     29,  22102,2,20101115,0630, 24.2693, 144.8430, 5272,     76.6,  23.6912,  34.7770,2,-999.0000,9,    221.2,2,     1.50,2,     0.01,2,     0.00,2,     0.00,2,   1973.8,2,   2281.9,2,   8.0663,2,    25.00,      723
  49UP20101110,RF1007,  3785,  1,     28,  22101,2,20101115,0630, 24.2693, 144.8430, 5272,    102.3,  21.1620,  34.7841,2,-999.0000,9,    212.5,2,     1.74,2,     0.07,2,     0.01,2,     0.01,2,   1987.6,2,   2283.0,2,   8.0220,2,    25.00,      722
  49UP20101110,RF1007,  3785,  1,     27,  22100,2,20101115,0630, 24.2693, 144.8430, 5272,    128.5,  20.1980,  34.7780,2,-999.0000,9,    208.2,2,     2.06,2,     0.44,2,     0.07,2,     0.05,2,   2007.1,2,   2284.6,2,   7.9891,2,    25.00,      720
  49UP20101110,RF1007,  3785,  1,     26,  22099,2,20101115,0630, 24.2693, 144.8430, 5272,    128.5,  20.1980,  34.7780,2,-999.0000,9,    208.1,2,     2.13,2,     0.40,2,     0.07,2,     0.05,2,   2006.5,2,   2283.2,2,   8.0325,3,    25.00,      720
  49UP20101110,RF1007,  3785,  1,     25,  22098,2,20101115,0630, 24.2693, 144.8430, 5272,    153.7,  19.1495,  34.7524,2,-999.0000,9,    202.1,2,     2.50,2,     1.72,2,     0.01,2,     0.12,2,   2020.4,2,   2283.0,2,   7.9655,2,    25.00,      719
  49UP20101110,RF1007,  3785,  1,     24,  22097,2,20101115,0630, 24.2693, 144.8430, 5272,    203.2,  17.9830,  34.7134,2,-999.0000,9,    201.6,2,     3.41,2,     3.65,2,     0.00,2,     0.24,2,   2028.5,2,   2276.8,2,   7.9451,2,    25.00,      717
  49UP20101110,RF1007,  3785,  1,     23,  22096,2,20101115,0630, 24.2693, 144.8430, 5272,    253.1,  17.2347,  34.6986,2,-999.0000,9,    198.8,2,     4.67,2,     5.38,2,     0.00,2,     0.35,2,   2038.2,2,   2283.6,2,   7.9244,2,    25.00,      716
  49UP20101110,RF1007,  3785,  1,     22,  22095,2,20101115,0630, 24.2693, 144.8430, 5272,    304.1,  16.1516,  34.6491,2,-999.0000,9,    195.0,2,     6.94,2,     7.35,2,     0.00,2,     0.49,2,   2056.2,2,   2279.3,2,   7.9250,2,    25.00,      714
  49UP20101110,RF1007,  3785,  1,     21,  22094,2,20101115,0630, 24.2693, 144.8430, 5272,    408.0,  13.6038,  34.4748,2,-999.0000,9,    194.0,6,    12.60,6,    11.19,6,     0.00,6,     0.78,6,   2088.7,2,   2274.8,2,   7.8271,2,    25.00,      711
  49UP20101110,RF1007,  3785,  1,     20,  22093,2,20101115,0630, 24.2693, 144.8430, 5272,    506.2,  10.2521,  34.2392,2,-999.0000,9,    177.6,2,    26.64,2,    18.39,2,     0.00,2,     1.31,2,   2136.8,2,   2274.5,2,   7.7222,2,    25.00,      708
  49UP20101110,RF1007,  3785,  1,     19,  22092,2,20101115,0630, 24.2693, 144.8430, 5272,    604.2,   7.8693,  34.1200,2,-999.0000,9,    141.9,2,    45.92,2,    26.04,2,     0.00,2,     1.89,2,   2197.4,2,   2282.8,2,   7.5654,2,    25.00,      705
  49UP20101110,RF1007,  3785,  1,     10,  22083,2,20101115,0630, 24.2693, 144.8430, 5272,    704.8,   6.2529,  34.1082,2,-999.0000,9,    108.2,2,    65.04,2,    31.76,2,     0.00,2,     2.31,2,   2241.4,2,   2300.1,2,   7.4681,2,    25.00,      703
  49UP20101110,RF1007,  3785,  1,      9,  22082,2,20101115,0630, 24.2693, 144.8430, 5272,    806.2,   5.0288,  34.1792,2,-999.0000,9,     76.3,2,    87.85,2,    36.91,2,     0.00,2,     2.68,2,   2293.3,2,   2319.3,2,   7.4033,2,    25.00,      700
  49UP20101110,RF1007,  3785,  1,      8,  22081,2,20101115,0630, 24.2693, 144.8430, 5272,    906.9,   4.2921,  34.2758,2,-999.0000,9,     58.2,2,   105.40,2,    39.46,2,     0.00,2,     2.87,2,   2322.5,2,   2348.2,2,   7.3637,2,    25.00,      657
  49UP20101110,RF1007,  3785,  1,      7,  22080,2,20101115,0630, 24.2693, 144.8430, 5272,    906.9,   4.2921,  34.2758,2,-999.0000,9,     56.3,4,   105.26,2,    39.55,2,     0.00,2,     2.86,2,   2323.1,6,   2350.6,6,   7.3711,2,    25.00,      657
  49UP20101110,RF1007,  3785,  1,      6,  22079,2,20101115,0630, 24.2693, 144.8430, 5272,   1009.6,   3.9402,  34.3245,2,-999.0000,9,     51.4,2,   113.75,2,    40.52,2,     0.00,2,     2.92,2,   2335.5,2,   2365.3,2,   7.3679,2,    25.00,      655
  49UP20101110,RF1007,  3785,  1,      5,  22078,2,20101115,0630, 24.2693, 144.8430, 5272,   1211.2,   3.1391,  34.4401,2,-999.0000,9,     51.9,2,   133.39,2,    41.42,2,     0.00,2,     2.97,2,   2357.0,2,   2381.7,2,   7.3734,2,    25.00,      650
  49UP20101110,RF1007,  3785,  1,      4,  22077,2,20101115,0630, 24.2693, 144.8430, 5272,   1413.5,   2.5914,  34.5143,2,-999.0000,9,     67.4,2,   143.85,2,    40.70,2,     0.00,2,     2.91,2,   2364.5,2,   2392.3,2,   7.4049,2,    25.00,      645
  49UP20101110,RF1007,  3785,  1,      3,  22076,2,20101115,0630, 24.2693, 144.8430, 5272,   1615.8,   2.3495,  34.5587,2,-999.0000,9,     83.9,2,   144.75,2,    39.81,2,     0.00,2,     2.84,2,   2357.1,6,   2405.7,6,   7.4482,2,    25.00,      640
  49UP20101110,RF1007,  3785,  1,      2,  22075,2,20101115,0630, 24.2693, 144.8430, 5272,   1819.3,   2.1151,  34.5907,2,-999.0000,9,     95.7,6,   147.99,6,    39.28,6,     0.00,6,     2.79,6,   2355.9,2,   2405.4,2,   7.4494,2,    25.00,      635
  49UP20101110,RF1007,  3785,  1,      1,  22074,2,20101115,0630, 24.2693, 144.8430, 5272,   2022.4,   1.9780,  34.6093,2,-999.0000,9,    103.3,2,   148.84,2,    38.76,2,     0.00,2,     2.74,2,   2351.6,2,   2418.0,2,   7.4690,2,    25.00,      630
  49UP20101110,RF1007,  3787,  1,     99,     99,2,20101115,1536, 24.2390, 146.0617, 5705,      0.0,  28.0507,  34.8776,2,-999.0000,9,    203.2,2,     1.26,2,     0.00,2,     0.00,2,     0.02,2,   -999.0,9,   -999.0,9,-999.0000,9,  -999.00,     1620
  49UP20101110,RF1007,  3787,  1,     32,  22105,2,20101115,1536, 24.2390, 146.0617, 5705,     10.0,  28.0555,  34.8774,2,-999.0000,9,    201.2,2,     1.22,2,     0.00,2,     0.00,2,     0.01,2,   -999.0,9,   -999.0,9,-999.0000,9,  -999.00,     1635
  49UP20101110,RF1007,  3787,  1,     31,  22104,2,20101115,1536, 24.2390, 146.0617, 5705,     24.7,  28.0032,  34.8571,2,-999.0000,9,    200.6,2,     1.20,2,     0.00,2,     0.00,2,     0.02,2,   -999.0,9,   -999.0,9,-999.0000,9,  -999.00,     1634
  49UP20101110,RF1007,  3787,  1,     30,  22103,2,20101115,1536, 24.2390, 146.0617, 5705,     50.2,  25.4135,  34.7040,2,-999.0000,9,    213.9,2,     1.45,2,     0.00,2,     0.00,2,     0.01,2,   -999.0,9,   -999.0,9,-999.0000,9,  -999.00,     1630
  49UP20101110,RF1007,  3787,  1,     29,  22102,2,20101115,1536, 24.2390, 146.0617, 5705,     74.5,  23.7821,  34.7685,2,-999.0000,9,    215.6,2,     1.60,2,     0.00,2,     0.00,2,     0.01,2,   -999.0,9,   -999.0,9,-999.0000,9,  -999.00,     1629
  49UP20101110,RF1007,  3787,  1,     28,  22101,2,20101115,1536, 24.2390, 146.0617, 5705,    101.8,  22.0743,  34.8395,2,-999.0000,9,    218.0,2,     1.79,2,     0.00,2,     0.00,2,     0.01,2,   -999.0,9,   -999.0,9,-999.0000,9,  -999.00,     1627
  49UP20101110,RF1007,  3787,  1,     27,  22100,2,20101115,1536, 24.2390, 146.0617, 5705,    101.8,  22.0743,  34.8395,2,-999.0000,9,    217.6,2,     1.78,2,     0.00,2,     0.00,2,     0.01,2,   -999.0,9,   -999.0,9,-999.0000,9,  -999.00,     1627
  49UP20101110,RF1007,  3787,  1,     26,  22099,2,20101115,1536, 24.2390, 146.0617, 5705,    126.3,  20.5284,  34.7633,2,-999.0000,9,    214.3,2,     2.05,2,     0.08,2,     0.09,2,     0.03,2,   -999.0,9,   -999.0,9,-999.0000,9,  -999.00,     1626
  49UP20101110,RF1007,  3787,  1,     25,  22098,2,20101115,1536, 24.2390, 146.0617, 5705,    150.5,  19.3340,  34.7412,2,-999.0000,9,    207.8,2,     2.23,2,     1.03,2,     0.03,2,     0.09,2,   -999.0,9,   -999.0,9,-999.0000,9,  -999.00,     1625
  49UP20101110,RF1007,  3787,  1,     24,  22097,2,20101115,1536, 24.2390, 146.0617, 5705,    201.3,  18.1668,  34.7266,2,-999.0000,9,    199.8,2,     3.38,2,     3.54,2,     0.00,2,     0.24,2,   -999.0,9,   -999.0,9,-999.0000,9,  -999.00,     1623
  49UP20101110,RF1007,  3787,  1,     23,  22096,2,20101115,1536, 24.2390, 146.0617, 5705,    252.3,  17.2238,  34.7118,2,-999.0000,9,    195.2,2,     4.78,2,     5.70,2,     0.00,2,     0.39,2,   -999.0,9,   -999.0,9,-999.0000,9,  -999.00,     1621
  49UP20101110,RF1007,  3787,  1,     22,  22095,2,20101115,1536, 24.2390, 146.0617, 5705,    302.7,  16.0526,  34.6428,2,-999.0000,9,    194.8,6,     6.92,6,     7.46,6,     0.00,6,     0.51,6,   -999.0,9,   -999.0,9,-999.0000,9,  -999.00,     1619
  49UP20101110,RF1007,  3787,  1,     21,  22094,2,20101115,1536, 24.2390, 146.0617, 5705,    403.3,  13.3075,  34.4461,2,-999.0000,9,    193.4,2,    13.47,2,    11.82,2,     0.00,2,     0.83,2,   -999.0,9,   -999.0,9,-999.0000,9,  -999.00,     1616
  49UP20101110,RF1007,  3787,  1,     20,  22093,2,20101115,1536, 24.2390, 146.0617, 5705,    503.7,  10.6765,  34.2560,2,-999.0000,9,    183.1,2,    23.32,2,    17.38,2,     0.00,2,     1.24,2,   -999.0,9,   -999.0,9,-999.0000,9,  -999.00,     1614
  49UP20101110,RF1007,  3787,  1,     19,  22092,2,20101115,1536, 24.2390, 146.0617, 5705,    604.2,   7.3287,  34.0747,2,-999.0000,9,    141.1,2,    48.31,2,    27.08,2,     0.00,2,     1.97,2,   -999.0,9,   -999.0,9,-999.0000,9,  -999.00,     1611
  49UP20101110,RF1007,  3787,  1,     10,  22083,3,20101115,1536, 24.2390, 146.0617, 5705,    705.9,   5.7492,  34.1212,2,-999.0000,9,     88.3,2,    72.04,2,    34.68,2,     0.00,2,     2.52,2,   -999.0,9,   -999.0,9,-999.0000,9,  -999.00,     1608
  49UP20101110,RF1007,  3787,  1,      9,  22082,2,20101115,1536, 24.2390, 146.0617, 5705,    807.6,   4.8263,  34.2029,2,-999.0000,9,     61.6,2,    91.53,2,    38.41,2,     0.00,2,     2.80,2,   -999.0,9,   -999.0,9,-999.0000,9,  -999.00,     1605
  49UP20101110,RF1007,  3787,  1,      8,  22081,2,20101115,1536, 24.2390, 146.0617, 5705,    807.6,   4.8263,  34.2029,2,-999.0000,9,     61.0,2,    91.35,2,    38.41,2,     0.00,2,     2.80,2,   -999.0,9,   -999.0,9,-999.0000,9,  -999.00,     1605
  49UP20101110,RF1007,  3787,  1,      7,  22080,2,20101115,1536, 24.2390, 146.0617, 5705,    907.7,   4.2248,  34.2871,2,-999.0000,9,     48.5,2,   105.97,2,    40.38,2,     0.00,2,     2.93,2,   -999.0,9,   -999.0,9,-999.0000,9,  -999.00,     1602
  49UP20101110,RF1007,  3787,  1,      6,  22079,2,20101115,1536, 24.2390, 146.0617, 5705,   1009.4,   3.9390,  34.3396,2,-999.0000,9,     46.0,2,   112.99,2,    40.98,2,     0.00,2,     2.97,2,   -999.0,9,   -999.0,9,-999.0000,9,  -999.00,     1600
  49UP20101110,RF1007,  3787,  1,      5,  22078,2,20101115,1536, 24.2390, 146.0617, 5705,   1212.5,   3.2320,  34.4433,2,-999.0000,9,     50.3,2,   130.57,2,    41.29,2,     0.00,2,     2.98,2,   -999.0,9,   -999.0,9,-999.0000,9,  -999.00,     1555
  49UP20101110,RF1007,  3787,  1,      4,  22077,2,20101115,1536, 24.2390, 146.0617, 5705,   1413.6,   2.7122,  34.5044,2,-999.0000,9,     61.7,2,   141.63,2,    41.00,2,     0.00,2,     2.94,2,   -999.0,9,   -999.0,9,-999.0000,9,  -999.00,     1550
  49UP20101110,RF1007,  3787,  1,      3,  22076,2,20101115,1536, 24.2390, 146.0617, 5705,   1617.6,   2.3375,  34.5542,2,-999.0000,9,     78.4,6,   146.25,6,    40.12,6,     0.00,6,     2.87,6,   -999.0,9,   -999.0,9,-999.0000,9,  -999.00,     1545
  49UP20101110,RF1007,  3787,  1,      2,  22075,2,20101115,1536, 24.2390, 146.0617, 5705,   1818.5,   2.0865,  34.5916,2,-999.0000,9,     94.2,2,   148.59,2,    39.18,2,     0.00,2,     2.79,2,   -999.0,9,   -999.0,9,-999.0000,9,  -999.00,     1541
  49UP20101110,RF1007,  3787,  1,      1,  22074,2,20101115,1536, 24.2390, 146.0617, 5705,   2022.4,   1.9109,  34.6141,2,-999.0000,9,    103.1,2,   150.18,2,    38.80,2,     0.00,2,     2.76,2,   -999.0,9,   -999.0,9,-999.0000,9,  -999.00,     1536