BOTTLE,20200204PRINUNIVRMK
EXPOCODE,SECT_ID,STNNBR,CASTNO,SAMPNO,BTLNBR,BTLNBR_FLAG_W,DATE,TIME,LATITUDE,LONGITUDE,DEPTH,CTDPRS,CTDTMP,CTDSAL,CTDSAL_FLAG_W,SALNTY,SALNTY_FLAG_W,OXYGEN,OXYGEN_FLAG_W,SILCAT,SILCAT_FLAG_W,NITRAT,NITRAT_FLAG_W,NITRIT,NITRIT_FLAG_W,PHSPHT,PHSPHT_FLAG_W,TCARBN,TCARBN_FLAG_W,ALKALI,ALKALI_FLAG_W,PH_TOT,PH_TOT_FLAG_W,PH_TMP,BTL_TIME
,,,,,,,,,,,METERS,DBAR,ITS-90,PSS-78,,PSS-78,,UMOL/KG,,UMOL/KG,,UMOL/KG,,UMOL/KG,,UMOL/KG,,UMOL/KG,,UMOL/KG,,,,DEG C,
  49UP20101110,RF1007,  3848,  1,     99,     99,2,20101214,0429, 24.2415, 136.1872, 4205,      0.0,  25.5085,  34.7738,2,-999.0000,9,    206.8,2,     1.46,2,     0.03,2,  -999.00,5,     0.01,2,   -999.0,9,   -999.0,9,-999.0000,9,  -999.00,      518
  49UP20101110,RF1007,  3848,  1,     36,  22109,2,20101214,0429, 24.2415, 136.1872, 4205,     11.2,  25.3112,  34.7724,2,  34.7726,2,    207.2,2,     1.39,2,     0.00,2,  -999.00,5,     0.00,2,   -999.0,9,   -999.0,9,-999.0000,9,  -999.00,      529
  49UP20101110,RF1007,  3848,  1,     33,  22106,2,20101214,0429, 24.2415, 136.1872, 4205,     25.9,  25.2910,  34.7724,2,-999.0000,9,    207.6,2,     1.46,2,     0.02,2,  -999.00,5,     0.00,2,   -999.0,9,   -999.0,9,-999.0000,9,  -999.00,      527
  49UP20101110,RF1007,  3848,  1,     32,  22105,2,20101214,0429, 24.2415, 136.1872, 4205,     51.3,  25.2822,  34.7752,2,-999.0000,9,    207.2,2,     1.39,2,     0.03,2,  -999.00,5,     0.00,2,   -999.0,9,   -999.0,9,-999.0000,9,  -999.00,      523
  49UP20101110,RF1007,  3848,  1,     31,  22104,2,20101214,0429, 24.2415, 136.1872, 4205,     76.2,  25.0421,  34.7802,2,-999.0000,9,    211.2,2,     1.48,2,     0.02,2,  -999.00,5,     0.00,2,   -999.0,9,   -999.0,9,-999.0000,9,  -999.00,      522
  49UP20101110,RF1007,  3848,  1,     30,  22103,2,20101214,0429, 24.2415, 136.1872, 4205,    100.7,  21.8089,  34.8421,2,-999.0000,9,    204.8,2,     1.97,2,     0.15,2,  -999.00,5,     0.02,2,   -999.0,9,   -999.0,9,-999.0000,9,  -999.00,      521
  49UP20101110,RF1007,  3848,  1,     29,  22102,2,20101214,0429, 24.2415, 136.1872, 4205,    100.7,  21.8089,  34.8421,2,  34.8409,6,    204.8,2,     1.86,2,     0.13,2,  -999.00,5,     0.01,2,   -999.0,9,   -999.0,9,-999.0000,9,  -999.00,      521
  49UP20101110,RF1007,  3848,  1,     28,  22101,2,20101214,0429, 24.2415, 136.1872, 4205,    126.3,  20.1102,  34.7904,2,-999.0000,9,    198.5,2,     2.40,2,     1.34,2,  -999.00,5,     0.09,2,   -999.0,9,   -999.0,9,-999.0000,9,  -999.00,      519
  49UP20101110,RF1007,  3848,  1,     25,  22098,2,20101214,0429, 24.2415, 136.1872, 4205,    151.2,  19.3467,  34.7581,2,-999.0000,9,    199.5,2,     2.76,2,     2.20,2,  -999.00,5,     0.15,2,   -999.0,9,   -999.0,9,-999.0000,9,  -999.00,      518
  49UP20101110,RF1007,  3848,  1,     23,  22096,2,20101214,0429, 24.2415, 136.1872, 4205,    203.2,  18.0512,  34.7174,2,  34.7177,6,    200.4,2,     3.76,2,     4.03,2,  -999.00,5,     0.26,2,   -999.0,9,   -999.0,9,-999.0000,9,  -999.00,      516
  49UP20101110,RF1007,  3848,  1,     22,  22095,2,20101214,0429, 24.2415, 136.1872, 4205,    252.9,  16.9598,  34.6945,2,-999.0000,9,    194.3,2,     5.72,2,     6.32,2,  -999.00,5,     0.41,2,   -999.0,9,   -999.0,9,-999.0000,9,  -999.00,      514
  49UP20101110,RF1007,  3848,  1,     21,  22094,2,20101214,0429, 24.2415, 136.1872, 4205,    302.4,  16.0085,  34.6420,2,-999.0000,9,    191.1,2,     7.81,2,     8.00,2,  -999.00,5,     0.53,2,   -999.0,9,   -999.0,9,-999.0000,9,  -999.00,      513
  49UP20101110,RF1007,  3848,  1,     20,  22093,2,20101214,0429, 24.2415, 136.1872, 4205,    403.4,  13.4285,  34.4622,2,  34.4624,2,    185.7,2,    14.68,2,    12.40,2,  -999.00,5,     0.85,2,   -999.0,9,   -999.0,9,-999.0000,9,  -999.00,      510
  49UP20101110,RF1007,  3848,  1,     18,  22091,2,20101214,0429, 24.2415, 136.1872, 4205,    504.2,  10.1520,  34.2497,2,-999.0000,9,    168.1,6,    30.41,6,    19.66,6,  -999.00,5,     1.38,6,   -999.0,9,   -999.0,9,-999.0000,9,  -999.00,      507
  49UP20101110,RF1007,  3848,  1,     16,  22089,2,20101214,0429, 24.2415, 136.1872, 4205,    604.5,   7.7510,  34.1298,2,  34.1334,2,    139.4,2,    49.41,2,    26.50,2,  -999.00,5,     1.89,2,   -999.0,9,   -999.0,9,-999.0000,9,  -999.00,      504
  49UP20101110,RF1007,  3848,  1,     15,  22088,2,20101214,0429, 24.2415, 136.1872, 4205,    706.9,   5.8335,  34.1493,2,-999.0000,9,     96.2,2,    76.48,2,    33.66,2,  -999.00,5,     2.41,2,   -999.0,9,   -999.0,9,-999.0000,9,  -999.00,      502
  49UP20101110,RF1007,  3848,  1,     14,  22087,2,20101214,0429, 24.2415, 136.1872, 4205,    809.2,   4.7968,  34.2179,2,  34.2178,2,     71.3,2,    94.90,2,    37.45,2,  -999.00,5,     2.68,2,   -999.0,9,   -999.0,9,-999.0000,9,  -999.00,      458
  49UP20101110,RF1007,  3848,  1,     13,  22086,2,20101214,0429, 24.2415, 136.1872, 4205,    908.8,   4.0529,  34.3128,2,-999.0000,9,     58.4,2,   111.71,2,    39.76,2,  -999.00,5,     2.84,2,   -999.0,9,   -999.0,9,-999.0000,9,  -999.00,      455
  49UP20101110,RF1007,  3848,  1,     12,  22085,2,20101214,0429, 24.2415, 136.1872, 4205,   1010.0,   3.6811,  34.3641,2,-999.0000,9,     55.4,2,   120.47,2,    40.55,2,  -999.00,5,     2.89,2,   -999.0,9,   -999.0,9,-999.0000,9,  -999.00,      453
  49UP20101110,RF1007,  3848,  1,     11,  22110,2,20101214,0429, 24.2415, 136.1872, 4205,   1010.0,   3.6811,  34.3641,2,  34.3628,2,     55.3,2,   120.08,2,    40.52,2,  -999.00,5,     2.89,2,   -999.0,9,   -999.0,9,-999.0000,9,  -999.00,      452
  49UP20101110,RF1007,  3848,  1,     10,  22083,2,20101214,0429, 24.2415, 136.1872, 4205,   1212.6,   3.0675,  34.4605,2,  34.4599,2,     63.7,2,   132.76,2,    40.62,2,  -999.00,5,     2.89,2,   -999.0,9,   -999.0,9,-999.0000,9,  -999.00,      448
  49UP20101110,RF1007,  3848,  1,      7,  22080,2,20101214,0429, 24.2415, 136.1872, 4205,   1413.9,   2.6482,  34.5218,2,  34.5210,2,     78.4,2,   138.90,2,    39.91,2,  -999.00,5,     2.83,2,   -999.0,9,   -999.0,9,-999.0000,9,  -999.00,      443
  49UP20101110,RF1007,  3848,  1,      5,  22078,2,20101214,0429, 24.2415, 136.1872, 4205,   1619.2,   2.3851,  34.5628,2,  34.5626,2,     91.2,2,   141.05,2,    39.30,2,  -999.00,5,     2.77,2,   -999.0,9,   -999.0,9,-999.0000,9,  -999.00,      438
  49UP20101110,RF1007,  3848,  1,      3,  22076,2,20101214,0429, 24.2415, 136.1872, 4205,   1820.4,   2.1406,  34.6009,2,  34.6005,2,    107.1,2,   141.98,2,    38.45,2,  -999.00,5,     2.70,2,   -999.0,9,   -999.0,9,-999.0000,9,  -999.00,      434
  49UP20101110,RF1007,  3848,  1,      1,  22074,2,20101214,0429, 24.2415, 136.1872, 4205,   2035.2,   1.9515,  34.6232,2,  34.6228,2,    117.1,6,   142.54,6,    37.94,6,  -999.00,5,     2.65,6,   -999.0,9,   -999.0,9,-999.0000,9,  -999.00,      429
  49UP20101110,RF1007,  3849,  1,     99,     99,2,20101214,1015, 24.0010, 136.9938, 3973,      0.0,  26.0701,  34.6178,2,-999.0000,9,    205.6,2,     1.35,2,     0.03,2,     0.00,2,     0.00,2,   -999.0,9,   -999.0,9,-999.0000,9,  -999.00,     1050
  49UP20101110,RF1007,  3849,  1,     36,  22109,2,20101214,1015, 24.0010, 136.9938, 3973,     11.5,  25.8165,  34.6599,2,-999.0000,9,    206.2,2,     1.37,2,     0.01,2,     0.00,2,     0.00,2,   1949.3,2,   2275.7,2,   8.1032,2,    25.00,     1114
  49UP20101110,RF1007,  3849,  1,     33,  22106,2,20101214,1015, 24.0010, 136.9938, 3973,     26.8,  25.7656,  34.6610,2,-999.0000,9,    206.4,2,     1.32,2,     0.00,2,     0.00,2,     0.00,2,   1949.3,2,   2268.8,2,   8.1072,2,    25.00,     1112
  49UP20101110,RF1007,  3849,  1,     32,  22105,2,20101214,1015, 24.0010, 136.9938, 3973,     51.2,  25.7392,  34.6662,2,-999.0000,9,    206.2,2,     1.30,2,     0.00,2,     0.00,2,     0.00,2,   1949.6,2,   2276.4,2,   8.1076,2,    25.00,     1108
  49UP20101110,RF1007,  3849,  1,     31,  22104,2,20101214,1015, 24.0010, 136.9938, 3973,     75.4,  21.8189,  34.7753,2,-999.0000,9,    217.5,2,     1.92,2,     0.06,2,     0.00,2,     0.00,2,   1946.7,2,   2284.0,2,   8.0436,2,    25.00,     1107
  49UP20101110,RF1007,  3849,  1,     30,  22103,2,20101214,1015, 24.0010, 136.9938, 3973,     75.4,  21.8189,  34.7753,2,-999.0000,9,    217.5,2,     1.75,2,     0.00,2,     0.00,2,     0.00,2,   1949.1,2,   2281.0,2,   8.0468,2,    25.00,     1107
  49UP20101110,RF1007,  3849,  1,     29,  22102,2,20101214,1015, 24.0010, 136.9938, 3973,    101.4,  19.9587,  34.7573,2,-999.0000,9,    206.7,2,     2.24,2,     0.50,2,     0.03,2,     0.05,2,   1949.1,2,   2279.3,2,   8.0069,2,    25.00,     1106
  49UP20101110,RF1007,  3849,  1,     28,  22101,2,20101214,1015, 24.0010, 136.9938, 3973,    123.9,  19.0526,  34.7565,2,-999.0000,9,    196.4,2,     3.13,2,     2.83,2,     0.00,2,     0.18,2,   1949.4,2,   2279.9,2,   7.9750,2,    25.00,     1105
  49UP20101110,RF1007,  3849,  1,     25,  22098,2,20101214,1015, 24.0010, 136.9938, 3973,    151.3,  18.1109,  34.7199,2,-999.0000,9,    201.1,2,     3.73,2,     3.98,2,     0.00,2,     0.25,2,   2029.0,2,   2278.8,2,   7.9599,2,    25.00,     1103
  49UP20101110,RF1007,  3849,  1,     23,  22096,2,20101214,1015, 24.0010, 136.9938, 3973,    201.8,  17.3542,  34.7086,2,-999.0000,9,    195.5,2,     4.79,2,     5.56,2,     0.00,2,     0.36,2,   2039.7,2,   2275.7,2,   7.9369,2,    25.00,     1101
  49UP20101110,RF1007,  3849,  1,     22,  22095,2,20101214,1015, 24.0010, 136.9938, 3973,    252.0,  16.5147,  34.6783,2,-999.0000,9,    191.1,2,     6.36,2,     7.16,2,     0.00,2,     0.48,2,   2049.0,2,   2279.9,2,   7.9063,2,    25.00,     1100
  49UP20101110,RF1007,  3849,  1,     21,  22094,2,20101214,1015, 24.0010, 136.9938, 3973,    304.2,  15.5716,  34.6159,2,-999.0000,9,    189.9,2,     8.30,2,     8.65,2,     0.00,2,     0.58,2,   2063.4,2,   2277.1,2,   7.8866,2,    25.00,     1058
  49UP20101110,RF1007,  3849,  1,     20,  22093,2,20101214,1015, 24.0010, 136.9938, 3973,    402.5,  13.1477,  34.4511,2,-999.0000,9,    182.4,6,    16.43,6,    13.34,6,     0.00,6,     0.93,6,   2096.8,2,   2282.0,2,   7.8013,2,    25.00,     1055
  49UP20101110,RF1007,  3849,  1,     18,  22091,2,20101214,1015, 24.0010, 136.9938, 3973,    503.2,   9.4872,  34.2167,2,-999.0000,9,    158.6,2,    34.43,2,    21.58,2,     0.00,2,     1.54,2,   2160.0,2,   2278.4,2,   7.6693,2,    25.00,     1052
  49UP20101110,RF1007,  3849,  1,     16,  22089,2,20101214,1015, 24.0010, 136.9938, 3973,    604.9,   7.3731,  34.1365,2,-999.0000,9,    129.6,2,    53.56,2,    27.88,2,     0.00,2,     2.01,2,   2207.9,2,   2290.4,2,   7.5547,2,    25.00,     1049
  49UP20101110,RF1007,  3849,  1,     15,  22088,2,20101214,1015, 24.0010, 136.9938, 3973,    706.7,   5.7799,  34.1550,2,-999.0000,9,     92.5,2,    75.39,2,    34.00,2,     0.00,2,     2.46,2,   2262.6,2,   2313.5,2,   7.4630,2,    25.00,     1047
  49UP20101110,RF1007,  3849,  1,     14,  22087,2,20101214,1015, 24.0010, 136.9938, 3973,    808.2,   4.6808,  34.2182,2,-999.0000,9,     69.0,2,    96.49,2,    37.78,2,     0.00,2,     2.72,2,   2302.1,2,   2332.7,2,   7.4019,2,    25.00,     1044
  49UP20101110,RF1007,  3849,  1,     13,  22086,2,20101214,1015, 24.0010, 136.9938, 3973,    907.8,   4.0057,  34.2917,2,-999.0000,9,     54.7,2,   111.85,2,    39.92,2,     0.00,2,     2.87,2,   2330.5,2,   2347.9,2,   7.3740,2,    25.00,     1041
  49UP20101110,RF1007,  3849,  1,     12,  22085,2,20101214,1015, 24.0010, 136.9938, 3973,    907.8,   4.0057,  34.2917,2,-999.0000,9,     54.1,2,   111.80,2,    39.93,2,     0.00,2,     2.87,2,   2331.0,6,   2350.4,6,   7.3731,6,    25.00,     1041
  49UP20101110,RF1007,  3849,  1,     11,  22110,2,20101214,1015, 24.0010, 136.9938, 3973,   1010.0,   3.4826,  34.3745,2,-999.0000,9,     51.9,2,   124.74,2,    40.91,2,     0.00,2,     2.93,2,   2347.3,2,   2367.9,2,   7.3759,2,    25.00,     1038
  49UP20101110,RF1007,  3849,  1,     10,  22083,2,20101214,1015, 24.0010, 136.9938, 3973,   1212.1,   2.9723,  34.4814,2,-999.0000,9,     67.1,2,   133.23,2,    40.36,2,     0.00,2,     2.88,2,   2344.0,2,   2383.3,2,   7.4140,2,    25.00,     1034
  49UP20101110,RF1007,  3849,  1,      7,  22080,2,20101214,1015, 24.0010, 136.9938, 3973,   1415.5,   2.6360,  34.5406,2,-999.0000,9,     83.7,2,   137.25,2,    39.40,2,     0.00,2,     2.80,2,   2348.7,2,   2395.0,2,   7.4446,2,    25.00,     1029
  49UP20101110,RF1007,  3849,  1,      5,  22078,2,20101214,1015, 24.0010, 136.9938, 3973,   1617.7,   2.3895,  34.5793,2,-999.0000,9,     98.7,2,   138.60,2,    38.62,2,     0.00,2,     2.74,2,   2344.2,2,   2397.0,2,   7.4799,2,    25.00,     1024
  49UP20101110,RF1007,  3849,  1,      3,  22076,2,20101214,1015, 24.0010, 136.9938, 3973,   1820.4,   2.1696,  34.6044,2,-999.0000,9,    108.1,6,   140.35,6,    38.21,6,     0.00,6,     2.69,6,   2339.7,2,   2406.9,2,   7.4950,6,    25.00,     1020
  49UP20101110,RF1007,  3849,  1,      1,  22074,2,20101214,1015, 24.0010, 136.9938, 3973,   2023.0,   1.9973,  34.6214,2,-999.0000,9,    115.5,2,   141.63,2,    37.81,2,     0.00,2,     2.67,2,   2340.2,6,   2408.3,6,   7.5005,2,    25.00,     1015
  49UP20101110,RF1007,  3850,  1,     99,     99,2,20101214,1646, 25.0018, 136.9910, 5073,      0.0,  25.8509,  34.6311,2,-999.0000,9,    205.2,2,     1.34,2,     0.00,2,     0.00,2,     0.01,2,   -999.0,9,   -999.0,9,-999.0000,9,  -999.00,     1734
  49UP20101110,RF1007,  3850,  1,     36,  22109,2,20101214,1646, 25.0018, 136.9910, 5073,     11.4,  25.8587,  34.6313,2,-999.0000,9,    205.8,2,     1.34,2,     0.00,2,     0.00,2,     0.00,2,   -999.0,9,   -999.0,9,-999.0000,9,  -999.00,     1745
  49UP20101110,RF1007,  3850,  1,     33,  22106,2,20101214,1646, 25.0018, 136.9910, 5073,     26.8,  25.8644,  34.6310,2,-999.0000,9,    205.7,2,     1.32,2,     0.00,2,     0.00,2,     0.00,2,   -999.0,9,   -999.0,9,-999.0000,9,  -999.00,     1743
  49UP20101110,RF1007,  3850,  1,     32,  22105,2,20101214,1646, 25.0018, 136.9910, 5073,     51.0,  25.5706,  34.6692,2,-999.0000,9,    211.3,2,     1.28,2,     0.00,2,     0.00,2,     0.00,2,   -999.0,9,   -999.0,9,-999.0000,9,  -999.00,     1739
  49UP20101110,RF1007,  3850,  1,     31,  22104,2,20101214,1646, 25.0018, 136.9910, 5073,     75.8,  22.3768,  34.7736,2,-999.0000,9,    218.9,2,     1.81,2,     0.00,2,     0.00,2,     0.00,2,   -999.0,9,   -999.0,9,-999.0000,9,  -999.00,     1738
  49UP20101110,RF1007,  3850,  1,     30,  22103,2,20101214,1646, 25.0018, 136.9910, 5073,     98.6,  20.7160,  34.7743,2,-999.0000,9,    210.0,2,     2.12,2,     0.01,2,     0.04,2,     0.03,2,   -999.0,9,   -999.0,9,-999.0000,9,  -999.00,     1737
  49UP20101110,RF1007,  3850,  1,     29,  22102,2,20101214,1646, 25.0018, 136.9910, 5073,     98.6,  20.7160,  34.7743,2,-999.0000,9,    210.1,2,     1.98,2,     0.01,2,     0.04,2,     0.02,2,   -999.0,9,   -999.0,9,-999.0000,9,  -999.00,     1737
  49UP20101110,RF1007,  3850,  1,     28,  22101,2,20101214,1646, 25.0018, 136.9910, 5073,    129.3,  19.8475,  34.7577,2,-999.0000,9,    203.5,2,     2.26,2,     0.78,2,     0.04,2,     0.07,2,   -999.0,9,   -999.0,9,-999.0000,9,  -999.00,     1735
  49UP20101110,RF1007,  3850,  1,     25,  22098,2,20101214,1646, 25.0018, 136.9910, 5073,    150.7,  19.0409,  34.7488,2,-999.0000,9,    199.5,2,     2.86,2,     2.65,2,     0.00,2,     0.18,2,   -999.0,9,   -999.0,9,-999.0000,9,  -999.00,     1734
  49UP20101110,RF1007,  3850,  1,     23,  22096,2,20101214,1646, 25.0018, 136.9910, 5073,    200.8,  17.9534,  34.7068,2,-999.0000,9,    202.9,2,     3.65,2,     3.96,2,     0.00,2,     0.26,2,   -999.0,9,   -999.0,9,-999.0000,9,  -999.00,     1732
  49UP20101110,RF1007,  3850,  1,     22,  22095,2,20101214,1646, 25.0018, 136.9910, 5073,    250.6,  17.3202,  34.7096,2,-999.0000,9,    195.8,2,     4.85,2,     5.52,2,     0.00,2,     0.36,2,   -999.0,9,   -999.0,9,-999.0000,9,  -999.00,     1730
  49UP20101110,RF1007,  3850,  1,     21,  22094,2,20101214,1646, 25.0018, 136.9910, 5073,    302.4,  16.4322,  34.6748,2,-999.0000,9,    190.2,6,     7.08,6,     7.46,6,     0.00,6,     0.50,6,   -999.0,9,   -999.0,9,-999.0000,9,  -999.00,     1729
  49UP20101110,RF1007,  3850,  1,     20,  22093,2,20101214,1646, 25.0018, 136.9910, 5073,    401.9,  13.5868,  34.4847,2,-999.0000,9,    181.5,2,    15.95,2,    12.79,2,     0.00,2,     0.88,2,   -999.0,9,   -999.0,9,-999.0000,9,  -999.00,     1726
  49UP20101110,RF1007,  3850,  1,     18,  22091,2,20101214,1646, 25.0018, 136.9910, 5073,    503.7,  11.1280,  34.3128,2,-999.0000,9,    173.5,2,    24.78,2,    17.35,2,     0.00,2,     1.23,2,   -999.0,9,   -999.0,9,-999.0000,9,  -999.00,     1723
  49UP20101110,RF1007,  3850,  1,     16,  22089,2,20101214,1646, 25.0018, 136.9910, 5073,    604.3,   8.1020,  34.1461,2,-999.0000,9,    145.4,2,    45.29,2,    25.24,2,     0.00,2,     1.82,2,   -999.0,9,   -999.0,9,-999.0000,9,  -999.00,     1721
  49UP20101110,RF1007,  3850,  1,     15,  22088,2,20101214,1646, 25.0018, 136.9910, 5073,    704.9,   6.3284,  34.1325,2,-999.0000,9,    113.2,2,    67.70,2,    31.08,2,     0.00,2,     2.26,2,   -999.0,9,   -999.0,9,-999.0000,9,  -999.00,     1718
  49UP20101110,RF1007,  3850,  1,     14,  22087,2,20101214,1646, 25.0018, 136.9910, 5073,    806.2,   5.2216,  34.1763,2,-999.0000,9,     85.0,2,    86.11,2,    35.46,2,     0.00,2,     2.56,2,   -999.0,9,   -999.0,9,-999.0000,9,  -999.00,     1715
  49UP20101110,RF1007,  3850,  1,     13,  22086,2,20101214,1646, 25.0018, 136.9910, 5073,    806.2,   5.2216,  34.1763,2,-999.0000,9,     85.5,2,    86.17,2,    35.30,2,     0.00,2,     2.55,2,   -999.0,9,   -999.0,9,-999.0000,9,  -999.00,     1715
  49UP20101110,RF1007,  3850,  1,     12,  22085,2,20101214,1646, 25.0018, 136.9910, 5073,    907.6,   4.4272,  34.2453,2,-999.0000,9,     64.1,2,   102.65,2,    38.35,2,     0.00,2,     2.77,2,   -999.0,9,   -999.0,9,-999.0000,9,  -999.00,     1713
  49UP20101110,RF1007,  3850,  1,     11,  22110,2,20101214,1646, 25.0018, 136.9910, 5073,   1008.9,   3.8226,  34.3200,2,-999.0000,9,     52.1,2,   116.72,2,    40.21,2,     0.00,2,     2.90,2,   -999.0,9,   -999.0,9,-999.0000,9,  -999.00,     1710
  49UP20101110,RF1007,  3850,  1,     10,  22083,2,20101214,1646, 25.0018, 136.9910, 5073,   1213.0,   3.0868,  34.4391,2,-999.0000,9,     56.3,2,   133.14,2,    40.83,2,     0.00,2,     2.92,2,   -999.0,9,   -999.0,9,-999.0000,9,  -999.00,     1705
  49UP20101110,RF1007,  3850,  1,      7,  22080,2,20101214,1646, 25.0018, 136.9910, 5073,   1414.1,   2.6425,  34.5115,2,-999.0000,9,     71.8,2,   140.63,2,    40.20,2,     0.00,2,     2.86,2,   -999.0,9,   -999.0,9,-999.0000,9,  -999.00,     1700
  49UP20101110,RF1007,  3850,  1,      5,  22078,2,20101214,1646, 25.0018, 136.9910, 5073,   1616.1,   2.3693,  34.5608,2,-999.0000,9,     90.0,6,   141.76,6,    39.21,6,     0.00,6,     2.78,6,   -999.0,9,   -999.0,9,-999.0000,9,  -999.00,     1656
  49UP20101110,RF1007,  3850,  1,      3,  22076,2,20101214,1646, 25.0018, 136.9910, 5073,   1819.4,   2.1481,  34.5934,2,-999.0000,9,    103.3,2,   142.71,2,    38.46,2,     0.00,2,     2.72,2,   -999.0,9,   -999.0,9,-999.0000,9,  -999.00,     1651
  49UP20101110,RF1007,  3850,  1,      1,  22074,2,20101214,1646, 25.0018, 136.9910, 5073,   2036.2,   1.9875,  34.6161,2,-999.0000,9,    113.3,2,   142.80,2,    37.91,2,     0.00,2,     2.67,2,   -999.0,9,   -999.0,9,-999.0000,9,  -999.00,     1646