BOTTLE,20200204PRINUNIVRMK
EXPOCODE,SECT_ID,STNNBR,CASTNO,SAMPNO,BTLNBR,BTLNBR_FLAG_W,DATE,TIME,LATITUDE,LONGITUDE,DEPTH,CTDPRS,CTDTMP,CTDSAL,CTDSAL_FLAG_W,SALNTY,SALNTY_FLAG_W,OXYGEN,OXYGEN_FLAG_W,SILCAT,SILCAT_FLAG_W,NITRAT,NITRAT_FLAG_W,NITRIT,NITRIT_FLAG_W,PHSPHT,PHSPHT_FLAG_W,TCARBN,TCARBN_FLAG_W,ALKALI,ALKALI_FLAG_W,PH_TOT,PH_TOT_FLAG_W,PH_TMP,BTL_TIME
,,,,,,,,,,,METERS,DBAR,ITS-90,PSS-78,,PSS-78,,UMOL/KG,,UMOL/KG,,UMOL/KG,,UMOL/KG,,UMOL/KG,,UMOL/KG,,UMOL/KG,,,,DEG C,
  49UP20101110,RF1007,  3806,  1,     99,     99,2,20101119,1615, 24.2443, 160.0678, 5477,      0.0,  27.0697,  35.2856,2,-999.0000,9,    202.4,2,     1.09,2,     0.00,2,     0.00,2,     0.03,2,   -999.0,9,   -999.0,9,-999.0000,9,  -999.00,     1658
  49UP20101110,RF1007,  3806,  1,     32,  22105,2,20101119,1615, 24.2443, 160.0678, 5477,     10.6,  27.0762,  35.2855,2,-999.0000,9,    202.1,2,     1.00,2,     0.00,2,     0.00,2,     0.02,2,   1977.3,2,   2307.8,2,   8.1242,2,    25.00,     1712
  49UP20101110,RF1007,  3806,  1,     31,  22104,2,20101119,1615, 24.2443, 160.0678, 5477,     25.5,  27.0788,  35.2849,2,-999.0000,9,    202.1,2,     1.08,2,     0.00,2,     0.00,2,     0.03,2,   1979.1,2,   2310.6,2,   8.1371,2,    25.00,     1711
  49UP20101110,RF1007,  3806,  1,     30,  22103,2,20101119,1615, 24.2443, 160.0678, 5477,     50.2,  25.5867,  35.1294,2,-999.0000,9,    225.9,2,     1.29,2,     0.00,2,     0.00,2,     0.02,2,   1985.3,2,   2302.9,2,   8.0952,2,    25.00,     1707
  49UP20101110,RF1007,  3806,  1,     29,  22102,2,20101119,1615, 24.2443, 160.0678, 5477,     75.1,  22.1115,  34.9777,2,-999.0000,9,    230.1,2,     1.62,2,     0.00,2,     0.00,2,     0.02,2,   1992.7,2,   2302.4,2,   8.0536,2,    25.00,     1706
  49UP20101110,RF1007,  3806,  1,     28,  22101,2,20101119,1615, 24.2443, 160.0678, 5477,    100.9,  19.7566,  34.8368,2,-999.0000,9,    224.2,2,     1.90,2,     0.00,2,     0.00,2,     0.03,2,   2010.6,2,   2239.0,4,   8.0416,2,    25.00,     1705
  49UP20101110,RF1007,  3806,  1,     27,  22100,2,20101119,1615, 24.2443, 160.0678, 5477,    100.9,  19.7566,  34.8368,2,-999.0000,9,    224.0,2,     1.91,2,     0.00,2,     0.00,2,     0.03,2,   2001.0,2,   2283.8,2,   8.0080,2,    25.00,     1705
  49UP20101110,RF1007,  3806,  1,     26,  22099,2,20101119,1615, 24.2443, 160.0678, 5477,    125.8,  18.5521,  34.7277,2,-999.0000,9,    215.6,2,     2.31,2,     0.37,2,     0.07,2,     0.09,2,   2016.0,2,   2284.3,2,   7.9750,2,    25.00,     1704
  49UP20101110,RF1007,  3806,  1,     25,  22098,2,20101119,1615, 24.2443, 160.0678, 5477,    150.0,  17.9141,  34.6761,2,-999.0000,9,    213.8,2,     2.82,2,     2.38,2,     0.00,2,     0.19,2,   2021.8,2,   2273.9,2,   7.9871,2,    25.00,     1703
  49UP20101110,RF1007,  3806,  1,     24,  22097,2,20101119,1615, 24.2443, 160.0678, 5477,    200.4,  17.3455,  34.6583,2,-999.0000,9,    216.4,2,     3.50,2,     3.67,2,     0.00,2,     0.26,2,   2027.2,2,   2270.8,2,   7.9665,2,    25.00,     1701
  49UP20101110,RF1007,  3806,  1,     23,  22096,2,20101119,1615, 24.2443, 160.0678, 5477,    252.1,  16.7369,  34.6429,2,-999.0000,9,    206.6,2,     5.08,2,     5.48,2,     0.00,2,     0.38,2,   2040.6,2,   2275.3,2,   7.9571,2,    25.00,     1700
  49UP20101110,RF1007,  3806,  1,     22,  22095,2,20101119,1615, 24.2443, 160.0678, 5477,    302.7,  15.4659,  34.5783,2,-999.0000,9,    198.9,6,     7.92,6,     8.02,6,     0.00,6,     0.57,6,   2065.6,2,   2271.6,2,   7.8535,2,    25.00,     1658
  49UP20101110,RF1007,  3806,  1,     21,  22094,2,20101119,1615, 24.2443, 160.0678, 5477,    403.5,  12.5366,  34.3802,2,-999.0000,9,    200.0,2,    14.11,2,    12.43,2,     0.00,2,     0.89,2,   2094.7,2,   2285.7,3,   7.7896,2,    25.00,     1656
  49UP20101110,RF1007,  3806,  1,     20,  22093,2,20101119,1615, 24.2443, 160.0678, 5477,    503.3,   9.9247,  34.1909,2,-999.0000,9,    185.9,2,    24.98,2,    18.29,2,     0.00,2,     1.32,2,   2135.7,2,   2268.2,2,   7.7115,2,    25.00,     1653
  49UP20101110,RF1007,  3806,  1,     19,  22092,2,20101119,1615, 24.2443, 160.0678, 5477,    605.4,   7.6822,  34.0781,2,-999.0000,9,    148.6,2,    43.29,2,    25.61,2,     0.00,2,     1.87,2,   2192.1,2,   2279.9,2,   7.5772,2,    25.00,     1651
  49UP20101110,RF1007,  3806,  1,     10,  22083,2,20101119,1615, 24.2443, 160.0678, 5477,    705.0,   5.7324,  34.0795,2,-999.0000,9,     96.6,2,    69.67,2,    33.62,2,     0.00,2,     2.45,2,   2258.8,2,   2305.5,2,   7.4272,2,    25.00,     1648
  49UP20101110,RF1007,  3806,  1,      9,  22082,2,20101119,1615, 24.2443, 160.0678, 5477,    806.3,   4.6619,  34.1893,2,-999.0000,9,     54.9,2,    94.30,2,    38.91,2,     0.00,2,     2.82,2,   2315.5,2,   2326.5,2,   7.3519,4,    25.00,     1645
  49UP20101110,RF1007,  3806,  1,      8,  22081,2,20101119,1615, 24.2443, 160.0678, 5477,    806.3,   4.6619,  34.1893,2,-999.0000,9,     54.4,2,    93.77,2,    38.96,2,     0.00,2,     2.83,2,   2309.1,2,   2326.0,2,   7.4027,2,    25.00,     1645
  49UP20101110,RF1007,  3806,  1,      7,  22080,2,20101119,1615, 24.2443, 160.0678, 5477,    906.7,   4.1662,  34.2780,2,-999.0000,9,     41.9,2,   106.93,2,    40.66,2,     0.00,2,     2.95,2,   2341.9,2,   2351.0,2,   7.3672,2,    25.00,     1642
  49UP20101110,RF1007,  3806,  1,      6,  22079,2,20101119,1615, 24.2443, 160.0678, 5477,   1010.3,   3.7935,  34.3447,2,-999.0000,9,     39.7,2,   117.37,2,    41.27,2,     0.00,2,     2.98,2,   2354.0,2,   2359.0,2,   7.3430,2,    25.00,     1639
  49UP20101110,RF1007,  3806,  1,      5,  22078,2,20101119,1615, 24.2443, 160.0678, 5477,   1212.3,   3.1353,  34.4546,2,-999.0000,9,     42.9,2,   133.15,2,    41.79,2,     0.00,2,     3.00,2,   2365.2,6,   2381.7,6,   7.3522,2,    25.00,     1634
  49UP20101110,RF1007,  3806,  1,      4,  22077,2,20101119,1615, 24.2443, 160.0678, 5477,   1415.7,   2.7021,  34.5278,2,-999.0000,9,     64.9,3,   140.21,2,    40.61,2,     0.00,2,     2.91,2,   2364.6,2,   2395.7,2,   7.4053,2,    25.00,     1629
  49UP20101110,RF1007,  3806,  1,      3,  22076,2,20101119,1615, 24.2443, 160.0678, 5477,   1617.0,   2.3533,  34.5696,2,-999.0000,9,     79.7,6,   145.28,6,    39.88,6,     0.00,6,     2.85,6,   2353.6,2,   2399.2,2,   7.4431,2,    25.00,     1624
  49UP20101110,RF1007,  3806,  1,      2,  22075,2,20101119,1615, 24.2443, 160.0678, 5477,   1820.5,   2.1273,  34.5959,2,-999.0000,9,     92.1,2,   146.77,2,    39.25,2,     0.00,2,     2.78,2,   2368.4,2,   2402.7,2,   7.4359,6,    25.00,     1620
  49UP20101110,RF1007,  3806,  1,      1,  22074,2,20101119,1615, 24.2443, 160.0678, 5477,   2023.1,   1.9543,  34.6164,2,-999.0000,9,    102.2,2,   149.25,2,    38.74,2,     0.00,2,     2.75,2,   2362.9,6,   2418.0,6,   7.4827,2,    25.00,     1615
  49UP20101110,RF1007,  3808,  1,     99,     99,2,20101120,0220, 24.2493, 161.6103, 2845,      0.0,  26.8973,  35.3419,2,-999.0000,9,    203.3,2,     1.30,2,     0.00,2,     0.00,2,     0.02,2,   -999.0,9,   -999.0,9,-999.0000,9,  -999.00,      300
  49UP20101110,RF1007,  3808,  1,     32,  22105,2,20101120,0220, 24.2493, 161.6103, 2845,     10.9,  26.8951,  35.3420,2,  35.3418,2,    203.3,2,     1.31,2,     0.00,2,     0.00,2,     0.01,2,   -999.0,9,   -999.0,9,-999.0000,9,  -999.00,      317
  49UP20101110,RF1007,  3808,  1,     31,  22104,2,20101120,0220, 24.2493, 161.6103, 2845,     25.1,  26.8399,  35.3392,2,-999.0000,9,    204.0,2,     1.23,2,     0.00,2,     0.00,2,     0.01,2,   -999.0,9,   -999.0,9,-999.0000,9,  -999.00,      316
  49UP20101110,RF1007,  3808,  1,     30,  22103,2,20101120,0220, 24.2493, 161.6103, 2845,     50.6,  25.5508,  35.1861,2,-999.0000,9,    222.5,2,     1.41,2,     0.00,2,     0.00,2,     0.00,2,   -999.0,9,   -999.0,9,-999.0000,9,  -999.00,      313
  49UP20101110,RF1007,  3808,  1,     29,  22102,2,20101120,0220, 24.2493, 161.6103, 2845,     74.7,  21.2756,  34.9248,2,-999.0000,9,    233.8,2,     2.01,2,     0.00,2,     0.00,2,     0.01,2,   -999.0,9,   -999.0,9,-999.0000,9,  -999.00,      312
  49UP20101110,RF1007,  3808,  1,     28,  22101,2,20101120,0220, 24.2493, 161.6103, 2845,     74.7,  21.2756,  34.9248,2,-999.0000,9,    233.1,2,     1.82,2,     0.00,2,     0.00,2,     0.01,2,   -999.0,9,   -999.0,9,-999.0000,9,  -999.00,      311
  49UP20101110,RF1007,  3808,  1,     27,  22100,2,20101120,0220, 24.2493, 161.6103, 2845,    101.1,  19.7860,  34.8289,2,  34.8293,2,    225.2,2,     2.06,2,     0.00,2,     0.00,2,     0.02,2,   -999.0,9,   -999.0,9,-999.0000,9,  -999.00,      310
  49UP20101110,RF1007,  3808,  1,     26,  22099,2,20101120,0220, 24.2493, 161.6103, 2845,    125.8,  18.8724,  34.7560,2,-999.0000,9,    218.8,2,     2.31,2,     0.12,2,     0.03,2,     0.05,2,   -999.0,9,   -999.0,9,-999.0000,9,  -999.00,      309
  49UP20101110,RF1007,  3808,  1,     25,  22098,2,20101120,0220, 24.2493, 161.6103, 2845,    151.0,  18.2035,  34.6995,2,-999.0000,9,    212.2,2,     2.79,2,     1.69,2,     0.02,2,     0.13,2,   -999.0,9,   -999.0,9,-999.0000,9,  -999.00,      308
  49UP20101110,RF1007,  3808,  1,     24,  22097,2,20101120,0220, 24.2493, 161.6103, 2845,    203.0,  17.2243,  34.6652,2,  34.6647,6,    211.5,2,     3.96,2,     4.15,2,     0.00,2,     0.27,2,   -999.0,9,   -999.0,9,-999.0000,9,  -999.00,      306
  49UP20101110,RF1007,  3808,  1,     23,  22096,2,20101120,0220, 24.2493, 161.6103, 2845,    250.5,  16.5760,  34.6459,2,-999.0000,9,    201.0,6,     5.59,6,     6.02,6,     0.00,6,     0.41,6,   -999.0,9,   -999.0,9,-999.0000,9,  -999.00,      305
  49UP20101110,RF1007,  3808,  1,     22,  22095,2,20101120,0220, 24.2493, 161.6103, 2845,    302.3,  15.5197,  34.5860,2,-999.0000,9,    198.5,2,     7.80,2,     7.82,2,     0.00,2,     0.53,2,   -999.0,9,   -999.0,9,-999.0000,9,  -999.00,      303
  49UP20101110,RF1007,  3808,  1,     21,  22094,2,20101120,0220, 24.2493, 161.6103, 2845,    402.1,  12.9454,  34.4182,2,  34.4190,6,    197.7,2,    14.04,2,    12.01,2,     0.00,2,     0.84,2,   -999.0,9,   -999.0,9,-999.0000,9,  -999.00,      300
  49UP20101110,RF1007,  3808,  1,     20,  22093,2,20101120,0220, 24.2493, 161.6103, 2845,    506.9,   9.7346,  34.1839,2,-999.0000,9,    181.0,2,    26.23,2,    18.81,2,     0.00,2,     1.35,2,   -999.0,9,   -999.0,9,-999.0000,9,  -999.00,      258
  49UP20101110,RF1007,  3808,  1,     19,  22092,2,20101120,0220, 24.2493, 161.6103, 2845,    604.8,   7.4508,  34.0762,2,  34.0761,2,    138.7,2,    46.51,2,    27.11,2,     0.00,2,     1.96,2,   -999.0,9,   -999.0,9,-999.0000,9,  -999.00,      255
  49UP20101110,RF1007,  3808,  1,     10,  22083,2,20101120,0220, 24.2493, 161.6103, 2845,    706.4,   5.5992,  34.0886,2,-999.0000,9,     90.9,2,    72.42,2,    34.46,2,     0.00,2,     2.51,2,   -999.0,9,   -999.0,9,-999.0000,9,  -999.00,      252
  49UP20101110,RF1007,  3808,  1,      9,  22082,4,20101120,0220, 24.2493, 161.6103, 2845,    706.4,   5.5992,  34.0886,2,-999.0000,9,   -999.0,9,  -999.00,9,  -999.00,9,  -999.00,9,  -999.00,9,   -999.0,9,   -999.0,9,-999.0000,9,  -999.00,      252
  49UP20101110,RF1007,  3808,  1,      8,  22081,2,20101120,0220, 24.2493, 161.6103, 2845,    806.8,   4.8091,  34.1732,2,  34.1737,2,     54.4,4,    91.05,2,    38.46,2,     0.00,2,     2.80,2,   -999.0,9,   -999.0,9,-999.0000,9,  -999.00,      249
  49UP20101110,RF1007,  3808,  1,      7,  22080,2,20101120,0220, 24.2493, 161.6103, 2845,    908.3,   4.1536,  34.2965,2,-999.0000,9,     44.4,2,   108.43,2,    40.89,2,     0.00,2,     2.96,2,   -999.0,9,   -999.0,9,-999.0000,9,  -999.00,      246
  49UP20101110,RF1007,  3808,  1,      6,  22079,2,20101120,0220, 24.2493, 161.6103, 2845,   1011.1,   3.8956,  34.4095,2,  34.4087,2,     51.0,2,   114.48,2,    40.88,2,     0.00,2,     2.94,2,   -999.0,9,   -999.0,9,-999.0000,9,  -999.00,      243
  49UP20101110,RF1007,  3808,  1,      5,  22078,2,20101120,0220, 24.2493, 161.6103, 2845,   1213.5,   3.3586,  34.4943,2,  34.4919,2,     64.1,2,   125.06,2,    40.40,2,     0.00,2,     2.90,2,   -999.0,9,   -999.0,9,-999.0000,9,  -999.00,      238
  49UP20101110,RF1007,  3808,  1,      4,  22077,2,20101120,0220, 24.2493, 161.6103, 2845,   1415.4,   2.8637,  34.5307,2,  34.5296,2,     72.3,6,   135.49,6,    40.22,6,     0.00,6,     2.88,6,   -999.0,9,   -999.0,9,-999.0000,9,  -999.00,      234
  49UP20101110,RF1007,  3808,  1,      3,  22076,2,20101120,0220, 24.2493, 161.6103, 2845,   1619.1,   2.4549,  34.5624,2,  34.5594,4,     80.4,2,   144.44,2,    39.98,2,     0.00,2,     2.85,2,   -999.0,9,   -999.0,9,-999.0000,9,  -999.00,      229
  49UP20101110,RF1007,  3808,  1,      2,  22075,2,20101120,0220, 24.2493, 161.6103, 2845,   1821.2,   2.1700,  34.5940,2,  34.5940,2,     93.1,2,   147.97,2,    39.23,2,     0.00,2,     2.79,2,   -999.0,9,   -999.0,9,-999.0000,9,  -999.00,      224
  49UP20101110,RF1007,  3808,  1,      1,  22074,2,20101120,0220, 24.2493, 161.6103, 2845,   2033.5,   1.9738,  34.6169,2,  34.6166,2,    103.4,2,   150.47,2,    38.71,2,     0.00,2,     2.75,2,   -999.0,9,   -999.0,9,-999.0000,9,  -999.00,      220
  49UP20101110,RF1007,  3810,  1,     99,     99,2,20101120,1307, 24.2345, 163.2888, 5680,      0.0,  27.5813,  35.3538,2,-999.0000,9,    199.6,2,     0.69,2,     0.00,2,     0.00,2,     0.01,2,   -999.0,9,   -999.0,9,-999.0000,9,  -999.00,     1401
  49UP20101110,RF1007,  3810,  1,     32,  22105,2,20101120,1307, 24.2345, 163.2888, 5680,     11.5,  27.5787,  35.3541,2,  35.3516,2,    201.0,2,     0.93,2,     0.01,2,     0.00,2,     0.01,2,   1974.7,2,   2322.1,2,   8.1355,2,    25.00,     1422
  49UP20101110,RF1007,  3810,  1,     31,  22104,2,20101120,1307, 24.2345, 163.2888, 5680,     26.0,  27.5906,  35.3524,2,-999.0000,9,    200.8,2,     0.84,2,     0.01,2,     0.00,2,     0.01,2,   1973.0,2,   2321.7,2,   8.1262,2,    25.00,     1409
  49UP20101110,RF1007,  3810,  1,     30,  22103,2,20101120,1307, 24.2345, 163.2888, 5680,     52.7,  27.5936,  35.3504,2,-999.0000,9,    200.8,2,     0.96,2,     0.09,2,     0.00,2,     0.01,2,   1973.1,2,   2323.7,2,   8.1199,2,    25.00,     1408
  49UP20101110,RF1007,  3810,  1,     29,  22102,2,20101120,1307, 24.2345, 163.2888, 5680,     52.7,  27.5936,  35.3504,2,-999.0000,9,    200.2,2,     0.90,2,     0.00,2,     0.00,2,     0.02,2,   1965.7,2,   2320.4,2,   8.1120,2,    25.00,     1408
  49UP20101110,RF1007,  3810,  1,     28,  22101,2,20101120,1307, 24.2345, 163.2888, 5680,     75.0,  27.5959,  35.3491,2,-999.0000,9,    200.6,2,     0.83,2,     0.00,2,     0.00,2,     0.01,2,   1970.7,2,   2321.3,2,   8.1122,2,    25.00,     1406
  49UP20101110,RF1007,  3810,  1,     27,  22100,2,20101120,1307, 24.2345, 163.2888, 5680,     98.7,  23.6418,  34.9352,2,  34.9348,2,    224.7,2,     1.38,2,     0.00,2,     0.00,2,     0.00,2,   1977.7,2,   2293.2,2,   8.0811,2,    25.00,     1403
  49UP20101110,RF1007,  3810,  1,     26,  22099,2,20101120,1307, 24.2345, 163.2888, 5680,    130.7,  21.6143,  34.9260,2,-999.0000,9,    213.8,2,     1.70,2,     0.07,2,     0.03,2,     0.02,2,   1997.2,2,   2288.6,2,   8.0501,2,    25.00,     1401
  49UP20101110,RF1007,  3810,  1,     25,  22098,2,20101120,1307, 24.2345, 163.2888, 5680,    152.8,  20.6241,  34.9425,2,-999.0000,9,    205.2,2,     1.96,2,     0.72,2,     0.04,2,     0.07,2,   2018.7,2,   2294.6,2,   8.0066,2,    25.00,     1400
  49UP20101110,RF1007,  3810,  1,     24,  22097,2,20101120,1307, 24.2345, 163.2888, 5680,    202.3,  18.1751,  34.7630,2,  34.7645,2,    201.4,6,     3.17,6,     3.12,6,     0.00,6,     0.24,6,   2033.8,2,   2284.4,2,   7.9537,2,    25.00,     1358
  49UP20101110,RF1007,  3810,  1,     23,  22096,2,20101120,1307, 24.2345, 163.2888, 5680,    253.7,  16.6570,  34.6672,2,-999.0000,9,    195.5,2,     5.19,2,     5.97,2,     0.00,2,     0.40,2,   2050.9,2,   2278.4,2,   7.8932,2,    25.00,     1356
  49UP20101110,RF1007,  3810,  1,     22,  22095,2,20101120,1307, 24.2345, 163.2888, 5680,    305.3,  15.5079,  34.5850,2,-999.0000,9,    195.4,2,     6.75,2,     7.56,2,     0.00,2,     0.53,2,   2063.2,2,   2278.0,2,   7.8812,2,    25.00,     1354
  49UP20101110,RF1007,  3810,  1,     21,  22094,2,20101120,1307, 24.2345, 163.2888, 5680,    404.4,  12.9640,  34.4105,2,  34.4105,2,    196.8,2,    12.86,2,    11.80,2,     0.00,2,     0.83,2,   2086.8,2,   2271.9,2,   7.8451,2,    25.00,     1351
  49UP20101110,RF1007,  3810,  1,     20,  22093,2,20101120,1307, 24.2345, 163.2888, 5680,    504.3,  10.3612,  34.2248,2,-999.0000,9,    186.1,2,    22.87,2,    17.31,2,     0.00,2,     1.24,2,   2127.4,2,   2269.9,2,   7.7147,2,    25.00,     1348
  49UP20101110,RF1007,  3810,  1,     19,  22092,2,20101120,1307, 24.2345, 163.2888, 5680,    609.1,   7.6629,  34.0872,2,  34.0886,6,    144.6,2,    43.57,2,    26.02,2,     0.00,2,     1.88,2,   2194.1,2,   2277.9,2,   7.5931,2,    25.00,     1344
  49UP20101110,RF1007,  3810,  1,     10,  22083,2,20101120,1307, 24.2345, 163.2888, 5680,    704.3,   6.0290,  34.0868,2,-999.0000,9,    100.9,2,    65.61,2,    32.86,2,     0.00,2,     2.40,2,   2250.9,6,   2297.0,6,   7.4314,2,    25.00,     1342
  49UP20101110,RF1007,  3810,  1,      9,  22082,2,20101120,1307, 24.2345, 163.2888, 5680,    808.8,   4.8382,  34.1713,2,  34.1713,6,     61.0,2,    89.33,2,    38.23,2,     0.00,2,     2.79,2,   2307.2,2,   2319.9,2,   7.3705,2,    25.00,     1338
  49UP20101110,RF1007,  3810,  1,      8,  22081,2,20101120,1307, 24.2345, 163.2888, 5680,    911.0,   4.1430,  34.2939,2,-999.0000,9,     43.2,2,   107.43,2,    40.75,2,     0.00,2,     2.97,2,   2336.7,2,   2343.1,2,   7.3294,6,    25.00,     1335
  49UP20101110,RF1007,  3810,  1,      7,  22080,2,20101120,1307, 24.2345, 163.2888, 5680,   1011.7,   3.7746,  34.3778,2,  34.3776,2,     43.8,2,   116.80,2,    41.21,2,     0.00,2,     2.98,2,   2348.8,2,   2360.7,2,   7.3476,2,    25.00,     1332
  49UP20101110,RF1007,  3810,  1,      6,  22079,2,20101120,1307, 24.2345, 163.2888, 5680,   1212.6,   3.2820,  34.4637,2,  34.4634,2,     52.8,6,   127.80,6,    41.17,6,     0.00,6,     2.96,6,   2358.1,2,   2376.2,2,   7.3720,2,    25.00,     1327
  49UP20101110,RF1007,  3810,  1,      5,  22078,2,20101120,1307, 24.2345, 163.2888, 5680,   1415.1,   2.8347,  34.5261,2,  34.5275,2,     68.5,2,   135.98,2,    40.42,2,     0.00,2,     2.90,2,   2356.6,6,   2391.8,6,   7.4034,2,    25.00,     1322
  49UP20101110,RF1007,  3810,  1,      4,  22077,2,20101120,1307, 24.2345, 163.2888, 5680,   1616.7,   2.4689,  34.5636,2,  34.5636,2,     80.2,2,   142.52,2,    39.94,2,     0.00,2,     2.86,2,   2356.9,2,   2396.6,2,   7.4397,6,    25.00,     1317
  49UP20101110,RF1007,  3810,  1,      3,  22076,2,20101120,1307, 24.2345, 163.2888, 5680,   1817.8,   2.1843,  34.5944,2,-999.0000,9,     92.6,2,   147.37,2,    39.31,2,     0.00,2,     2.80,2,   2360.7,2,   2405.4,2,   7.4569,2,    25.00,     1312
  49UP20101110,RF1007,  3810,  1,      2,  22075,2,20101120,1307, 24.2345, 163.2888, 5680,   1817.8,   2.1843,  34.5944,2,  34.5939,2,     92.5,2,   145.17,2,    39.20,2,     0.00,2,     2.79,2,   2355.7,2,   2401.7,2,   7.4403,2,    25.00,     1312
  49UP20101110,RF1007,  3810,  1,      1,  22074,2,20101120,1307, 24.2345, 163.2888, 5680,   2034.4,   1.9776,  34.6169,2,  34.6175,2,    102.2,2,   148.35,2,    38.79,2,     0.00,2,     2.75,2,   2354.6,2,   2406.0,2,   7.4721,2,    25.00,     1307