BOTTLE,20200204PRINUNIVRMK
EXPOCODE,SECT_ID,STNNBR,CASTNO,SAMPNO,BTLNBR,BTLNBR_FLAG_W,DATE,TIME,LATITUDE,LONGITUDE,DEPTH,CTDPRS,CTDTMP,CTDSAL,CTDSAL_FLAG_W,SALNTY,SALNTY_FLAG_W,OXYGEN,OXYGEN_FLAG_W,SILCAT,SILCAT_FLAG_W,NITRAT,NITRAT_FLAG_W,NITRIT,NITRIT_FLAG_W,PHSPHT,PHSPHT_FLAG_W,TCARBN,TCARBN_FLAG_W,ALKALI,ALKALI_FLAG_W,PH_TOT,PH_TOT_FLAG_W,PH_TMP,BTL_TIME
,,,,,,,,,,,METERS,DBAR,ITS-90,PSS-78,,PSS-78,,UMOL/KG,,UMOL/KG,,UMOL/KG,,UMOL/KG,,UMOL/KG,,UMOL/KG,,UMOL/KG,,,,DEG C,
  49UP20101110,RF1007,  3789,  1,     99,     99,2,20101116,0045, 24.2492, 147.2495, 5815,      0.0,  28.4146,  34.7742,2,-999.0000,9,    198.9,2,     1.30,2,     0.00,2,     0.00,2,     0.01,2,   -999.0,9,   -999.0,9,-999.0000,9,  -999.00,      125
  49UP20101110,RF1007,  3789,  1,     32,  22105,2,20101116,0045, 24.2492, 147.2495, 5815,     11.5,  28.3509,  34.7751,2,  34.7749,2,    199.1,2,     1.22,2,     0.00,2,     0.00,2,     0.00,2,   -999.0,9,   -999.0,9,-999.0000,9,  -999.00,      144
  49UP20101110,RF1007,  3789,  1,     31,  22104,2,20101116,0045, 24.2492, 147.2495, 5815,     26.6,  28.3388,  34.7770,2,-999.0000,9,    198.9,2,     1.26,2,     0.00,2,     0.00,2,     0.00,2,   -999.0,9,   -999.0,9,-999.0000,9,  -999.00,      143
  49UP20101110,RF1007,  3789,  1,     30,  22103,2,20101116,0045, 24.2492, 147.2495, 5815,     51.4,  27.5294,  34.8118,2,-999.0000,9,    210.5,2,     1.34,2,     0.00,2,     0.00,2,     0.00,2,   -999.0,9,   -999.0,9,-999.0000,9,  -999.00,      139
  49UP20101110,RF1007,  3789,  1,     29,  22102,2,20101116,0045, 24.2492, 147.2495, 5815,     77.1,  24.7722,  34.8232,2,-999.0000,9,    230.4,2,     1.66,2,     0.00,2,     0.00,2,     0.01,2,   -999.0,9,   -999.0,9,-999.0000,9,  -999.00,      138
  49UP20101110,RF1007,  3789,  1,     28,  22101,2,20101116,0045, 24.2492, 147.2495, 5815,     77.1,  24.7722,  34.8232,2,-999.0000,9,    230.1,2,     1.52,2,     0.00,2,     0.00,2,     0.00,2,   -999.0,9,   -999.0,9,-999.0000,9,  -999.00,      137
  49UP20101110,RF1007,  3789,  1,     27,  22100,2,20101116,0045, 24.2492, 147.2495, 5815,    101.9,  22.2133,  34.8417,2,  34.8428,2,    220.8,2,     1.80,2,     0.00,2,     0.00,2,     0.00,2,   -999.0,9,   -999.0,9,-999.0000,9,  -999.00,      136
  49UP20101110,RF1007,  3789,  1,     26,  22099,2,20101116,0045, 24.2492, 147.2495, 5815,    126.9,  19.9527,  34.7902,2,-999.0000,9,    202.6,2,     2.29,2,     0.50,2,     0.05,2,     0.06,2,   -999.0,9,   -999.0,9,-999.0000,9,  -999.00,      135
  49UP20101110,RF1007,  3789,  1,     25,  22098,2,20101116,0045, 24.2492, 147.2495, 5815,    152.5,  19.1634,  34.8075,2,-999.0000,9,    190.5,2,     2.98,2,     2.40,2,     0.00,2,     0.18,2,   -999.0,9,   -999.0,9,-999.0000,9,  -999.00,      133
  49UP20101110,RF1007,  3789,  1,     24,  22097,2,20101116,0045, 24.2492, 147.2495, 5815,    202.1,  17.5102,  34.7322,2,  34.7292,2,    196.5,4,     4.40,2,     5.34,2,     0.00,2,     0.36,2,   -999.0,9,   -999.0,9,-999.0000,9,  -999.00,      132
  49UP20101110,RF1007,  3789,  1,     23,  22096,2,20101116,0045, 24.2492, 147.2495, 5815,    252.6,  16.3174,  34.6599,2,-999.0000,9,    193.6,6,     6.30,6,     7.08,6,     0.00,6,     0.48,6,   -999.0,9,   -999.0,9,-999.0000,9,  -999.00,      130
  49UP20101110,RF1007,  3789,  1,     22,  22095,2,20101116,0045, 24.2492, 147.2495, 5815,    303.0,  15.3959,  34.5930,2,-999.0000,9,    192.7,2,     7.93,2,     8.38,2,     0.00,2,     0.57,2,   -999.0,9,   -999.0,9,-999.0000,9,  -999.00,      128
  49UP20101110,RF1007,  3789,  1,     21,  22094,2,20101116,0045, 24.2492, 147.2495, 5815,    403.8,  12.4457,  34.3877,2,  34.3883,2,    197.0,2,    15.60,2,    12.88,2,     0.00,2,     0.90,2,   -999.0,9,   -999.0,9,-999.0000,9,  -999.00,      125
  49UP20101110,RF1007,  3789,  1,     20,  22093,2,20101116,0045, 24.2492, 147.2495, 5815,    505.2,  10.0208,  34.2109,2,-999.0000,9,    185.4,2,    26.07,2,    18.22,2,     0.00,2,     1.29,2,   -999.0,9,   -999.0,9,-999.0000,9,  -999.00,      123
  49UP20101110,RF1007,  3789,  1,     19,  22092,2,20101116,0045, 24.2492, 147.2495, 5815,    608.3,   7.3413,  34.0641,2,  34.0654,2,    153.0,3,    46.79,2,    26.14,2,     0.00,2,     1.89,2,   -999.0,9,   -999.0,9,-999.0000,9,  -999.00,      120
  49UP20101110,RF1007,  3789,  1,     10,  22083,2,20101116,0045, 24.2492, 147.2495, 5815,    707.2,   5.4228,  34.0897,2,-999.0000,9,     91.5,2,    76.33,2,    34.74,2,     0.00,2,     2.53,2,   -999.0,9,   -999.0,9,-999.0000,9,  -999.00,      117
  49UP20101110,RF1007,  3789,  1,      9,  22082,2,20101116,0045, 24.2492, 147.2495, 5815,    707.2,   5.4228,  34.0897,2,-999.0000,9,     91.6,2,    75.96,2,    34.82,2,     0.00,2,     2.53,2,   -999.0,9,   -999.0,9,-999.0000,9,  -999.00,      117
  49UP20101110,RF1007,  3789,  1,      8,  22081,2,20101116,0045, 24.2492, 147.2495, 5815,    807.7,   4.6004,  34.2001,2,  34.1999,2,     57.0,2,    96.10,2,    39.06,2,     0.00,2,     2.83,2,   -999.0,9,   -999.0,9,-999.0000,9,  -999.00,      114
  49UP20101110,RF1007,  3789,  1,      7,  22080,2,20101116,0045, 24.2492, 147.2495, 5815,    910.3,   4.0967,  34.2946,2,-999.0000,9,     45.5,2,   108.97,2,    40.62,2,     0.00,2,     2.93,2,   -999.0,9,   -999.0,9,-999.0000,9,  -999.00,      111
  49UP20101110,RF1007,  3789,  1,      6,  22079,2,20101116,0045, 24.2492, 147.2495, 5815,   1009.0,   3.6403,  34.3568,2,  34.3574,6,     40.3,2,   121.62,2,    41.65,2,     0.00,2,     3.00,2,   -999.0,9,   -999.0,9,-999.0000,9,  -999.00,      109
  49UP20101110,RF1007,  3789,  1,      5,  22078,2,20101116,0045, 24.2492, 147.2495, 5815,   1214.2,   3.0994,  34.4675,2,  34.4683,6,     55.0,2,   133.25,2,    41.22,2,     0.00,2,     2.95,2,   -999.0,9,   -999.0,9,-999.0000,9,  -999.00,      104
  49UP20101110,RF1007,  3789,  1,      4,  22077,2,20101116,0045, 24.2492, 147.2495, 5815,   1417.7,   2.6739,  34.5185,2,  34.5189,2,     61.1,6,   143.35,6,    41.19,6,     0.00,6,     2.94,6,   -999.0,9,   -999.0,9,-999.0000,9,  -999.00,       59
  49UP20101110,RF1007,  3789,  1,      3,  22076,2,20101116,0045, 24.2492, 147.2495, 5815,   1617.4,   2.3035,  34.5602,2,  34.5595,2,     71.1,2,   150.39,2,    40.73,2,     0.00,2,     2.90,2,   -999.0,9,   -999.0,9,-999.0000,9,  -999.00,       54
  49UP20101110,RF1007,  3789,  1,      2,  22075,2,20101116,0045, 24.2492, 147.2495, 5815,   1821.5,   2.0593,  34.5926,2,  34.5936,2,     86.3,2,   152.76,2,    39.84,2,     0.00,2,     2.82,2,   -999.0,9,   -999.0,9,-999.0000,9,  -999.00,       50
  49UP20101110,RF1007,  3789,  1,      1,  22074,3,20101116,0045, 24.2492, 147.2495, 5815,   2035.1,   1.8913,  34.6165,2,  34.6154,2,    104.0,2,   150.46,2,    38.77,2,     0.00,2,     2.74,2,   -999.0,9,   -999.0,9,-999.0000,9,  -999.00,       45
  49UP20101110,RF1007,  3791,  1,     99,     99,2,20101116,1026, 24.2463, 148.4482, 5744,      0.0,  28.6500,  34.9293,2,-999.0000,9,    193.9,4,     1.06,2,     0.01,2,     0.00,2,     0.00,2,   -999.0,9,   -999.0,9,-999.0000,9,  -999.00,     1110
  49UP20101110,RF1007,  3791,  1,     32,  22105,2,20101116,1026, 24.2463, 148.4482, 5744,     11.7,  28.6562,  34.9281,2,-999.0000,9,    198.0,2,     1.04,2,     0.00,2,     0.00,2,     0.00,2,   -999.0,9,   -999.0,9,-999.0000,9,  -999.00,     1128
  49UP20101110,RF1007,  3791,  1,     31,  22104,2,20101116,1026, 24.2463, 148.4482, 5744,     25.6,  28.6624,  34.9283,2,-999.0000,9,    198.4,2,     1.04,2,     0.00,2,     0.00,2,     0.00,2,   -999.0,9,   -999.0,9,-999.0000,9,  -999.00,     1126
  49UP20101110,RF1007,  3791,  1,     30,  22103,2,20101116,1026, 24.2463, 148.4482, 5744,     50.9,  28.0635,  34.9500,2,-999.0000,9,    206.3,2,     1.25,2,     0.00,2,     0.00,2,     0.01,2,   -999.0,9,   -999.0,9,-999.0000,9,  -999.00,     1121
  49UP20101110,RF1007,  3791,  1,     29,  22102,2,20101116,1026, 24.2463, 148.4482, 5744,     50.9,  28.0635,  34.9500,2,-999.0000,9,    206.2,2,     1.16,2,     0.00,2,     0.00,2,     0.00,2,   -999.0,9,   -999.0,9,-999.0000,9,  -999.00,     1121
  49UP20101110,RF1007,  3791,  1,     28,  22101,2,20101116,1026, 24.2463, 148.4482, 5744,     77.0,  24.4921,  34.9234,2,-999.0000,9,    225.6,2,     1.52,2,     0.00,2,     0.00,2,     0.00,2,   -999.0,9,   -999.0,9,-999.0000,9,  -999.00,     1119
  49UP20101110,RF1007,  3791,  1,     27,  22100,2,20101116,1026, 24.2463, 148.4482, 5744,    102.6,  22.7135,  34.9148,2,-999.0000,9,    216.6,2,     1.67,2,     0.00,2,     0.00,2,     0.01,2,   -999.0,9,   -999.0,9,-999.0000,9,  -999.00,     1117
  49UP20101110,RF1007,  3791,  1,     26,  22099,2,20101116,1026, 24.2463, 148.4482, 5744,    126.8,  20.9082,  34.8268,2,-999.0000,9,    208.7,2,     2.01,2,     0.03,2,     0.07,2,     0.03,2,   -999.0,9,   -999.0,9,-999.0000,9,  -999.00,     1116
  49UP20101110,RF1007,  3791,  1,     25,  22098,2,20101116,1026, 24.2463, 148.4482, 5744,    151.0,  19.9046,  34.8252,2,-999.0000,9,    195.9,2,     2.29,2,     1.03,2,     0.03,2,     0.09,2,   -999.0,9,   -999.0,9,-999.0000,9,  -999.00,     1115
  49UP20101110,RF1007,  3791,  1,     24,  22097,2,20101116,1026, 24.2463, 148.4482, 5744,    203.0,  17.8986,  34.7335,2,-999.0000,9,    196.7,6,     3.90,6,     4.32,6,     0.00,6,     0.29,6,   -999.0,9,   -999.0,9,-999.0000,9,  -999.00,     1113
  49UP20101110,RF1007,  3791,  1,     23,  22096,2,20101116,1026, 24.2463, 148.4482, 5744,    251.8,  17.0416,  34.6942,2,-999.0000,9,    198.1,2,     5.00,2,     5.70,2,     0.00,2,     0.37,2,   -999.0,9,   -999.0,9,-999.0000,9,  -999.00,     1111
  49UP20101110,RF1007,  3791,  1,     22,  22095,2,20101116,1026, 24.2463, 148.4482, 5744,    305.6,  15.8603,  34.6344,2,-999.0000,9,    193.4,2,     7.29,2,     7.78,2,     0.00,2,     0.52,2,   -999.0,9,   -999.0,9,-999.0000,9,  -999.00,     1109
  49UP20101110,RF1007,  3791,  1,     21,  22094,2,20101116,1026, 24.2463, 148.4482, 5744,    406.6,  13.5940,  34.4661,2,-999.0000,9,    189.3,2,    12.60,2,    11.56,2,     0.00,2,     0.81,2,   -999.0,9,   -999.0,9,-999.0000,9,  -999.00,     1106
  49UP20101110,RF1007,  3791,  1,     20,  22093,2,20101116,1026, 24.2463, 148.4482, 5744,    506.6,  10.6075,  34.2524,2,-999.0000,9,    183.8,2,    23.14,2,    17.07,2,     0.00,2,     1.22,2,   -999.0,9,   -999.0,9,-999.0000,9,  -999.00,     1103
  49UP20101110,RF1007,  3791,  1,     19,  22092,2,20101116,1026, 24.2463, 148.4482, 5744,    606.0,   8.2610,  34.1211,2,-999.0000,9,    150.1,2,    39.53,2,    24.41,2,     0.00,2,     1.76,2,   -999.0,9,   -999.0,9,-999.0000,9,  -999.00,     1101
  49UP20101110,RF1007,  3791,  1,     10,  22083,2,20101116,1026, 24.2463, 148.4482, 5744,    707.0,   5.9560,  34.1039,2,-999.0000,9,     93.4,3,    68.47,2,    33.55,2,     0.00,2,     2.45,2,   -999.0,9,   -999.0,9,-999.0000,9,  -999.00,     1058
  49UP20101110,RF1007,  3791,  1,      9,  22082,2,20101116,1026, 24.2463, 148.4482, 5744,    809.4,   5.2709,  34.1735,2,-999.0000,9,     67.8,2,    82.33,2,    36.95,2,     0.00,2,     2.71,2,   -999.0,9,   -999.0,9,-999.0000,9,  -999.00,     1055
  49UP20101110,RF1007,  3791,  1,      8,  22081,2,20101116,1026, 24.2463, 148.4482, 5744,    908.3,   4.3673,  34.2653,2,-999.0000,9,     49.5,2,   103.03,2,    39.82,2,     0.00,2,     2.91,2,   -999.0,9,   -999.0,9,-999.0000,9,  -999.00,     1052
  49UP20101110,RF1007,  3791,  1,      7,  22080,2,20101116,1026, 24.2463, 148.4482, 5744,   1009.8,   3.8468,  34.3598,2,-999.0000,9,     46.0,2,   115.57,2,    40.95,2,     0.00,2,     2.97,2,   -999.0,9,   -999.0,9,-999.0000,9,  -999.00,     1050
  49UP20101110,RF1007,  3791,  1,      6,  22079,2,20101116,1026, 24.2463, 148.4482, 5744,   1213.3,   3.1674,  34.4646,2,-999.0000,9,     55.1,6,   130.84,6,    40.98,6,     0.00,6,     2.96,6,   -999.0,9,   -999.0,9,-999.0000,9,  -999.00,     1045
  49UP20101110,RF1007,  3791,  1,      5,  22078,2,20101116,1026, 24.2463, 148.4482, 5744,   1414.2,   2.7603,  34.5101,2,-999.0000,9,     61.5,2,   140.58,2,    40.88,2,     0.00,2,     2.95,2,   -999.0,9,   -999.0,9,-999.0000,9,  -999.00,     1040
  49UP20101110,RF1007,  3791,  1,      4,  22077,2,20101116,1026, 24.2463, 148.4482, 5744,   1617.2,   2.3627,  34.5547,2,-999.0000,9,     74.2,2,   147.25,2,    40.41,2,     0.00,2,     2.87,2,   -999.0,9,   -999.0,9,-999.0000,9,  -999.00,     1036
  49UP20101110,RF1007,  3791,  1,      3,  22076,2,20101116,1026, 24.2463, 148.4482, 5744,   1617.2,   2.3627,  34.5547,2,-999.0000,9,     74.0,2,   147.80,2,    40.24,2,     0.00,2,     2.88,2,   -999.0,9,   -999.0,9,-999.0000,9,  -999.00,     1036
  49UP20101110,RF1007,  3791,  1,      2,  22075,2,20101116,1026, 24.2463, 148.4482, 5744,   1820.1,   2.0805,  34.5918,2,-999.0000,9,     92.0,2,   149.70,2,    39.28,2,     0.00,2,     2.80,2,   -999.0,9,   -999.0,9,-999.0000,9,  -999.00,     1031
  49UP20101110,RF1007,  3791,  1,      1,  22074,4,20101116,1026, 24.2463, 148.4482, 5744,   2023.5,   1.9152,  34.6156,2,-999.0000,9,   -999.0,9,    38.21,4,    13.45,4,     0.00,4,     1.12,4,   -999.0,9,   -999.0,9,-999.0000,9,  -999.00,     1026
  49UP20101110,RF1007,  3793,  1,     99,     99,2,20101116,1938, 24.2477, 149.6640, 4821,      0.0,  27.8854,  34.9418,2,-999.0000,9,    199.4,2,     0.05,3,     0.00,2,     0.00,2,     0.00,2,   -999.0,9,   -999.0,9,-999.0000,9,  -999.00,     2031
  49UP20101110,RF1007,  3793,  1,     32,  22105,2,20101116,1938, 24.2477, 149.6640, 4821,     12.1,  27.8961,  34.9413,2,-999.0000,9,    200.8,2,     0.06,3,     0.04,2,     0.00,2,     0.00,2,   1957.4,2,   2291.7,2,   8.1185,2,    25.00,     2041
  49UP20101110,RF1007,  3793,  1,     31,  22104,2,20101116,1938, 24.2477, 149.6640, 4821,     27.0,  27.8964,  34.9418,2,-999.0000,9,    199.7,2,     0.00,3,     0.01,2,     0.00,2,     0.00,2,   1956.2,2,   2290.3,2,   8.1313,2,    25.00,     2039
  49UP20101110,RF1007,  3793,  1,     30,  22103,2,20101116,1938, 24.2477, 149.6640, 4821,     50.6,  27.8527,  34.9673,2,-999.0000,9,    201.6,2,     0.00,3,     0.02,2,     0.00,2,     0.00,2,   1961.5,2,   2301.9,2,   8.1010,2,    25.00,     2035
  49UP20101110,RF1007,  3793,  1,     29,  22102,2,20101116,1938, 24.2477, 149.6640, 4821,     75.6,  22.8696,  34.9465,2,-999.0000,9,    230.6,2,     0.48,3,     0.04,2,     0.00,2,     0.00,2,   1983.6,2,   2296.0,2,   8.0517,2,    25.00,     2034
  49UP20101110,RF1007,  3793,  1,     28,  22101,2,20101116,1938, 24.2477, 149.6640, 4821,    101.5,  20.2637,  34.7715,2,-999.0000,9,    218.4,2,     1.16,3,     0.36,2,     0.11,2,     0.04,2,   2004.7,2,   2282.7,2,   8.0192,2,    25.00,     2033
  49UP20101110,RF1007,  3793,  1,     27,  22100,2,20101116,1938, 24.2477, 149.6640, 4821,    127.1,  19.4411,  34.7337,2,-999.0000,9,    210.2,2,     1.60,3,     1.62,2,     0.04,2,     0.11,2,   2011.5,2,   2280.2,2,   8.0251,2,    25.00,     2032
  49UP20101110,RF1007,  3793,  1,     26,  22099,3,20101116,1938, 24.2477, 149.6640, 4821,    152.4,  18.8194,  34.7167,2,-999.0000,9,    207.5,6,     1.74,3,     2.08,6,     0.02,6,     0.15,6,   2018.5,2,   2281.3,2,   7.9741,2,    25.00,     2030
  49UP20101110,RF1007,  3793,  1,     25,  22098,2,20101116,1938, 24.2477, 149.6640, 4821,    203.1,  17.6906,  34.6903,2,-999.0000,9,    207.4,2,     2.44,3,     3.95,2,     0.00,2,     0.24,2,   2025.8,2,   2276.9,2,   7.9643,2,    25.00,     2028
  49UP20101110,RF1007,  3793,  1,     24,  22097,2,20101116,1938, 24.2477, 149.6640, 4821,    253.9,  17.1662,  34.6831,2,-999.0000,9,    204.7,2,     3.54,3,     5.14,2,     0.00,2,     0.32,2,   2035.4,2,   2279.2,2,   7.9655,2,    25.00,     2027
  49UP20101110,RF1007,  3793,  1,     23,  22096,2,20101116,1938, 24.2477, 149.6640, 4821,    305.7,  16.0696,  34.6306,2,-999.0000,9,    195.5,2,     5.85,3,     7.41,2,     0.00,2,     0.49,2,   2056.7,2,   2276.6,2,   7.9386,2,    25.00,     2025
  49UP20101110,RF1007,  3793,  1,     22,  22095,2,20101116,1938, 24.2477, 149.6640, 4821,    407.1,  13.7087,  34.4779,2,-999.0000,9,    196.4,2,    10.70,3,    10.85,2,     0.00,2,     0.73,2,   2083.1,2,   2277.0,2,   7.8289,2,    25.00,     2022
  49UP20101110,RF1007,  3793,  1,     21,  22094,2,20101116,1938, 24.2477, 149.6640, 4821,    507.7,  10.7931,  34.2759,2,-999.0000,9,    182.6,2,    23.20,3,    17.14,2,     0.00,2,     1.21,2,   2127.2,2,   2279.5,2,   7.7397,2,    25.00,     2019
  49UP20101110,RF1007,  3793,  1,     20,  22093,2,20101116,1938, 24.2477, 149.6640, 4821,    507.7,  10.7931,  34.2759,2,-999.0000,9,    183.0,2,    22.53,3,    17.05,2,     0.00,2,     1.20,2,   2121.9,2,   2276.0,2,   7.7323,2,    25.00,     2019
  49UP20101110,RF1007,  3793,  1,     19,  22092,2,20101116,1938, 24.2477, 149.6640, 4821,    608.1,   8.1857,  34.1165,2,-999.0000,9,    159.3,2,    39.22,3,    23.70,2,     0.00,2,     1.71,2,   2176.9,2,   2279.6,2,   7.6009,2,    25.00,     2015
  49UP20101110,RF1007,  3793,  1,     10,  22083,2,20101116,1938, 24.2477, 149.6640, 4821,    709.1,   6.0651,  34.0672,2,-999.0000,9,    115.3,2,    62.94,3,    31.47,2,     0.00,2,     2.29,2,   2237.7,2,   2298.1,2,   7.4516,2,    25.00,     2013
  49UP20101110,RF1007,  3793,  1,      9,  22082,2,20101116,1938, 24.2477, 149.6640, 4821,    809.7,   4.8498,  34.1572,2,-999.0000,9,     69.7,2,    88.10,3,    37.59,2,     0.00,2,     2.72,2,   2300.1,6,   2323.6,6,   7.3540,2,    25.00,     2009
  49UP20101110,RF1007,  3793,  1,      8,  22081,2,20101116,1938, 24.2477, 149.6640, 4821,    910.7,   4.2443,  34.2579,2,-999.0000,9,     49.1,2,   104.74,3,    40.17,2,     0.00,2,     2.91,2,   2330.2,2,   2342.5,2,   7.3102,2,    25.00,     2006
  49UP20101110,RF1007,  3793,  1,      7,  22080,2,20101116,1938, 24.2477, 149.6640, 4821,   1012.1,   3.7050,  34.3233,2,-999.0000,9,     41.2,6,   119.15,3,    41.40,6,     0.00,6,     2.99,6,   2349.0,2,   2355.9,2,   7.3228,2,    25.00,     2003
  49UP20101110,RF1007,  3793,  1,      6,  22079,2,20101116,1938, 24.2477, 149.6640, 4821,   1215.3,   2.9738,  34.4552,2,-999.0000,9,     44.4,2,   138.26,3,    41.93,2,     0.00,2,     3.02,2,   2371.4,2,   2385.8,2,   7.3546,6,    25.00,     1958
  49UP20101110,RF1007,  3793,  1,      5,  22078,2,20101116,1938, 24.2477, 149.6640, 4821,   1417.7,   2.6258,  34.5196,2,-999.0000,9,     59.8,2,   144.94,3,    41.03,2,     0.00,2,     2.94,2,   2368.8,6,   2395.4,6,   7.3656,2,    25.00,     1953
  49UP20101110,RF1007,  3793,  1,      4,  22077,2,20101116,1938, 24.2477, 149.6640, 4821,   1618.4,   2.2947,  34.5654,2,-999.0000,9,     76.3,2,   149.14,3,    40.34,2,     0.00,2,     2.88,2,   2368.5,2,   2407.0,2,   7.4137,2,    25.00,     1948
  49UP20101110,RF1007,  3793,  1,      3,  22076,2,20101116,1938, 24.2477, 149.6640, 4821,   1821.5,   2.0463,  34.5950,2,-999.0000,9,     87.3,2,   153.15,3,    39.60,2,     0.00,2,     2.82,2,   2365.2,2,   2411.0,2,   7.4203,2,    25.00,     1943
  49UP20101110,RF1007,  3793,  1,      2,  22075,2,20101116,1938, 24.2477, 149.6640, 4821,   2024.1,   1.8632,  34.6189,2,-999.0000,9,    100.3,2,   154.79,3,    38.94,2,     0.00,2,     2.76,2,   2357.8,2,   2411.9,2,   7.4349,2,    25.00,     1938
  49UP20101110,RF1007,  3793,  1,      1,  22074,2,20101116,1938, 24.2477, 149.6640, 4821,   2024.1,   1.8632,  34.6189,2,-999.0000,9,    100.4,2,   154.21,3,    38.85,2,     0.00,2,     2.76,2,   2357.2,2,   2417.2,2,   7.4416,2,    25.00,     1938