BOTTLE,20200204PRINUNIVRMK
EXPOCODE,SECT_ID,STNNBR,CASTNO,SAMPNO,BTLNBR,BTLNBR_FLAG_W,DATE,TIME,LATITUDE,LONGITUDE,DEPTH,CTDPRS,CTDTMP,CTDSAL,CTDSAL_FLAG_W,SALNTY,SALNTY_FLAG_W,OXYGEN,OXYGEN_FLAG_W,SILCAT,SILCAT_FLAG_W,NITRAT,NITRAT_FLAG_W,NITRIT,NITRIT_FLAG_W,PHSPHT,PHSPHT_FLAG_W,TCARBN,TCARBN_FLAG_W,ALKALI,ALKALI_FLAG_W,PH_TOT,PH_TOT_FLAG_W,PH_TMP,BTL_TIME
,,,,,,,,,,,METERS,DBAR,ITS-90,PSS-78,,PSS-78,,UMOL/KG,,UMOL/KG,,UMOL/KG,,UMOL/KG,,UMOL/KG,,UMOL/KG,,UMOL/KG,,,,DEG C,
  49UP20101110,RF1007,  3800,  1,     99,     99,2,20101118,0935, 24.2525, 155.2340, 5536,      0.0,  27.7796,  35.1458,2,-999.0000,9,    199.0,2,     1.23,2,     0.00,2,     0.00,2,     0.02,2,   -999.0,9,   -999.0,9,-999.0000,9,  -999.00,     1016
  49UP20101110,RF1007,  3800,  1,     32,  22105,2,20101118,0935, 24.2525, 155.2340, 5536,     12.4,  27.7885,  35.1455,2,-999.0000,9,    200.6,2,     1.14,2,     0.00,2,     0.00,2,     0.02,2,   1964.0,2,   2310.3,2,   8.1349,2,    25.00,     1033
  49UP20101110,RF1007,  3800,  1,     31,  22104,2,20101118,0935, 24.2525, 155.2340, 5536,     26.6,  27.7584,  35.1452,2,-999.0000,9,    201.3,2,     1.10,2,     0.00,2,     0.00,2,     0.01,2,   1964.0,2,   2308.6,2,   8.1486,2,    25.00,     1032
  49UP20101110,RF1007,  3800,  1,     30,  22103,2,20101118,0935, 24.2525, 155.2340, 5536,     50.7,  27.6380,  35.1328,2,-999.0000,9,    203.2,2,     1.16,6,     0.01,6,     0.00,6,     0.02,6,   1963.3,2,   2311.4,2,   8.1221,2,    25.00,     1028
  49UP20101110,RF1007,  3800,  1,     29,  22102,2,20101118,0935, 24.2525, 155.2340, 5536,     76.4,  23.0005,  34.9694,2,-999.0000,9,    214.9,2,     1.50,2,     0.00,2,     0.00,2,     0.01,2,   1988.6,2,   2294.9,2,   8.0681,2,    25.00,     1027
  49UP20101110,RF1007,  3800,  1,     28,  22101,2,20101118,0935, 24.2525, 155.2340, 5536,    100.8,  21.1022,  34.8847,2,-999.0000,9,    218.8,2,     1.87,2,     0.00,2,     0.00,2,     0.01,2,   2000.4,2,   2285.9,2,   8.0351,2,    25.00,     1026
  49UP20101110,RF1007,  3800,  1,     27,  22100,2,20101118,0935, 24.2525, 155.2340, 5536,    127.3,  19.8307,  34.8148,2,-999.0000,9,    212.5,2,     2.09,2,     0.04,2,     0.06,2,     0.04,2,   2014.4,2,   2282.7,2,   7.9853,2,    25.00,     1024
  49UP20101110,RF1007,  3800,  1,     26,  22099,2,20101118,0935, 24.2525, 155.2340, 5536,    154.0,  18.8219,  34.7271,2,-999.0000,9,    212.8,2,     2.35,2,     0.34,2,     0.08,2,     0.07,2,   2009.5,2,   2281.5,2,   7.9878,2,    25.00,     1023
  49UP20101110,RF1007,  3800,  1,     25,  22098,2,20101118,0935, 24.2525, 155.2340, 5536,    202.2,  17.7887,  34.6903,2,-999.0000,9,    209.3,2,     3.68,2,     3.66,2,     0.01,2,     0.26,2,   2024.2,2,   2215.5,4,   7.9610,2,    25.00,     1021
  49UP20101110,RF1007,  3800,  1,     24,  22097,2,20101118,0935, 24.2525, 155.2340, 5536,    202.2,  17.7887,  34.6903,2,-999.0000,9,    208.5,2,     3.42,2,     3.58,2,     0.00,2,     0.24,2,   2019.0,2,   2275.8,2,   7.9571,2,    25.00,     1021
  49UP20101110,RF1007,  3800,  1,     23,  22096,2,20101118,0935, 24.2525, 155.2340, 5536,    251.9,  17.2219,  34.6798,2,-999.0000,9,    206.5,2,     4.31,2,     4.75,2,     0.00,2,     0.31,2,   2035.6,2,   2279.5,2,   7.9220,2,    25.00,     1019
  49UP20101110,RF1007,  3800,  1,     22,  22095,2,20101118,0935, 24.2525, 155.2340, 5536,    301.1,  16.1444,  34.6335,2,-999.0000,9,    196.7,2,     6.98,2,     7.25,2,     0.00,2,     0.49,2,   2047.9,2,   2274.9,2,   7.8772,2,    25.00,     1017
  49UP20101110,RF1007,  3800,  1,     21,  22094,2,20101118,0935, 24.2525, 155.2340, 5536,    403.1,  13.3434,  34.4493,2,-999.0000,9,    197.1,2,    13.14,2,    11.45,2,     0.00,2,     0.79,2,   2083.8,2,   2269.4,2,   7.8346,2,    25.00,     1015
  49UP20101110,RF1007,  3800,  1,     20,  22093,2,20101118,0935, 24.2525, 155.2340, 5536,    504.1,  10.7749,  34.2586,2,-999.0000,9,    191.2,2,    21.73,2,    16.41,2,     0.00,2,     1.15,2,   2119.1,2,   2266.0,2,   7.7391,6,    25.00,     1012
  49UP20101110,RF1007,  3800,  1,     19,  22092,2,20101118,0935, 24.2525, 155.2340, 5536,    605.0,   7.9974,  34.0848,2,-999.0000,9,    165.1,6,    40.35,6,    23.75,6,     0.00,6,     1.72,6,   2176.7,2,   2278.8,2,   7.6093,2,    25.00,     1009
  49UP20101110,RF1007,  3800,  1,     10,  22083,2,20101118,0935, 24.2525, 155.2340, 5536,    708.3,   6.1600,  34.0673,2,-999.0000,9,    109.3,2,    62.72,2,    31.87,2,     0.00,2,     2.32,2,   2240.3,6,   2297.6,6,   7.4704,2,    25.00,     1006
  49UP20101110,RF1007,  3800,  1,      9,  22082,2,20101118,0935, 24.2525, 155.2340, 5536,    808.6,   5.0042,  34.1457,2,-999.0000,9,     69.5,2,    84.60,2,    37.42,2,     0.00,2,     2.71,2,   2289.4,2,   2326.8,2,   7.4035,2,    25.00,     1003
  49UP20101110,RF1007,  3800,  1,      8,  22081,2,20101118,0935, 24.2525, 155.2340, 5536,    911.4,   4.1584,  34.2448,2,-999.0000,9,     46.3,3,   105.72,2,    40.71,2,     0.00,2,     2.94,2,   2334.7,2,   2345.3,2,   7.3576,2,    25.00,     1001
  49UP20101110,RF1007,  3800,  1,      7,  22080,2,20101118,0935, 24.2525, 155.2340, 5536,   1009.6,   3.7991,  34.3286,2,-999.0000,9,     38.9,2,   116.51,2,    41.67,2,     0.00,2,     3.01,2,   2348.5,2,   2363.2,2,   7.3391,2,    25.00,      958
  49UP20101110,RF1007,  3800,  1,      6,  22079,2,20101118,0935, 24.2525, 155.2340, 5536,   1213.8,   3.1447,  34.4498,2,-999.0000,9,     46.5,3,   134.18,2,    41.95,2,     0.00,2,     3.01,2,   2359.3,2,   2381.7,2,   7.3518,3,    25.00,      953
  49UP20101110,RF1007,  3800,  1,      5,  22078,2,20101118,0935, 24.2525, 155.2340, 5536,   1213.8,   3.1447,  34.4498,2,-999.0000,9,     45.3,2,   133.91,2,    41.98,2,     0.00,2,     3.01,2,   2364.1,6,   2383.6,6,   7.3470,2,    25.00,      953
  49UP20101110,RF1007,  3800,  1,      4,  22077,2,20101118,0935, 24.2525, 155.2340, 5536,   1414.2,   2.6185,  34.5122,2,-999.0000,9,     52.8,2,   146.49,2,    41.78,2,     0.00,2,     2.99,2,   2374.1,2,   2394.8,2,   7.3774,2,    25.00,      949
  49UP20101110,RF1007,  3800,  1,      3,  22076,2,20101118,0935, 24.2525, 155.2340, 5536,   1618.6,   2.3034,  34.5649,2,-999.0000,9,     74.6,2,   149.07,2,    40.41,2,     0.00,2,     2.88,2,   2364.0,2,   2400.3,2,   7.4085,2,    25.00,      944
  49UP20101110,RF1007,  3800,  1,      2,  22075,2,20101118,0935, 24.2525, 155.2340, 5536,   1823.0,   2.0920,  34.5962,2,-999.0000,9,     92.2,2,   148.51,2,    39.52,2,     0.00,2,     2.80,2,   2355.5,2,   2410.4,2,   7.4402,2,    25.00,      939
  49UP20101110,RF1007,  3800,  1,      1,  22074,2,20101118,0935, 24.2525, 155.2340, 5536,   2023.8,   1.9312,  34.6167,2,-999.0000,9,    102.6,2,   150.53,2,    38.98,2,     0.00,2,     2.76,2,   2353.5,2,   2405.9,2,   7.4599,2,    25.00,      935
  49UP20101110,RF1007,  3802,  1,     99,     99,2,20101118,1949, 24.2517, 156.8473, 5652,      0.0,  27.8446,  35.1354,2,-999.0000,9,    200.0,2,     1.05,2,     0.00,2,     0.00,2,     0.01,2,   -999.0,9,   -999.0,9,-999.0000,9,  -999.00,     2034
  49UP20101110,RF1007,  3802,  1,     32,  22105,2,20101118,1949, 24.2517, 156.8473, 5652,     11.7,  27.8522,  35.1351,2,-999.0000,9,    199.8,2,     1.06,2,     0.00,2,     0.00,2,     0.01,2,   -999.0,9,   -999.0,9,-999.0000,9,  -999.00,     2048
  49UP20101110,RF1007,  3802,  1,     31,  22104,2,20101118,1949, 24.2517, 156.8473, 5652,     27.1,  27.8622,  35.1346,2,-999.0000,9,    199.9,2,     0.93,2,     0.00,2,     0.00,2,     0.00,2,   -999.0,9,   -999.0,9,-999.0000,9,  -999.00,     2046
  49UP20101110,RF1007,  3802,  1,     30,  22103,2,20101118,1949, 24.2517, 156.8473, 5652,     51.0,  27.8649,  35.1345,2,-999.0000,9,    199.9,2,     0.98,2,     0.01,2,     0.00,2,     0.00,2,   -999.0,9,   -999.0,9,-999.0000,9,  -999.00,     2043
  49UP20101110,RF1007,  3802,  1,     29,  22102,2,20101118,1949, 24.2517, 156.8473, 5652,     75.0,  27.8429,  35.1279,2,-999.0000,9,    204.4,2,     1.02,2,     0.00,2,     0.00,2,     0.00,2,   -999.0,9,   -999.0,9,-999.0000,9,  -999.00,     2041
  49UP20101110,RF1007,  3802,  1,     28,  22101,2,20101118,1949, 24.2517, 156.8473, 5652,    101.4,  22.8039,  34.9445,2,-999.0000,9,    222.9,2,     1.54,2,     0.01,2,     0.00,2,     0.00,2,   -999.0,9,   -999.0,9,-999.0000,9,  -999.00,     2040
  49UP20101110,RF1007,  3802,  1,     27,  22100,2,20101118,1949, 24.2517, 156.8473, 5652,    131.2,  21.0621,  34.8483,2,-999.0000,9,    213.6,2,     1.90,2,     0.00,2,     0.00,2,     0.02,2,   -999.0,9,   -999.0,9,-999.0000,9,  -999.00,     2039
  49UP20101110,RF1007,  3802,  1,     26,  22099,2,20101118,1949, 24.2517, 156.8473, 5652,    153.0,  20.3090,  34.8373,2,-999.0000,9,    207.9,2,     2.27,2,     0.20,2,     0.11,2,     0.05,2,   -999.0,9,   -999.0,9,-999.0000,9,  -999.00,     2037
  49UP20101110,RF1007,  3802,  1,     25,  22098,2,20101118,1949, 24.2517, 156.8473, 5652,    153.0,  20.3090,  34.8373,2,-999.0000,9,    207.7,2,     2.02,2,     0.20,2,     0.10,2,     0.04,2,   -999.0,9,   -999.0,9,-999.0000,9,  -999.00,     2037
  49UP20101110,RF1007,  3802,  1,     24,  22097,2,20101118,1949, 24.2517, 156.8473, 5652,    204.6,  18.5914,  34.7906,2,-999.0000,9,    194.6,2,     3.06,2,     3.03,2,     0.00,2,     0.21,2,   -999.0,9,   -999.0,9,-999.0000,9,  -999.00,     2035
  49UP20101110,RF1007,  3802,  1,     23,  22096,2,20101118,1949, 24.2517, 156.8473, 5652,    255.1,  17.2957,  34.7107,2,-999.0000,9,    194.0,2,     4.34,2,     5.22,2,     0.00,2,     0.35,2,   -999.0,9,   -999.0,9,-999.0000,9,  -999.00,     2033
  49UP20101110,RF1007,  3802,  1,     22,  22095,2,20101118,1949, 24.2517, 156.8473, 5652,    304.0,  16.2213,  34.6407,2,-999.0000,9,    194.3,2,     6.09,2,     7.06,2,     0.00,2,     0.47,2,   -999.0,9,   -999.0,9,-999.0000,9,  -999.00,     2032
  49UP20101110,RF1007,  3802,  1,     21,  22094,2,20101118,1949, 24.2517, 156.8473, 5652,    404.5,  13.1759,  34.4142,2,-999.0000,9,    195.4,2,    12.09,2,    11.44,2,     0.00,2,     0.81,2,   -999.0,9,   -999.0,9,-999.0000,9,  -999.00,     2029
  49UP20101110,RF1007,  3802,  1,     20,  22093,2,20101118,1949, 24.2517, 156.8473, 5652,    507.9,  10.2316,  34.2229,2,-999.0000,9,    183.1,6,    24.64,6,    18.02,6,     0.00,6,     1.29,6,   -999.0,9,   -999.0,9,-999.0000,9,  -999.00,     2026
  49UP20101110,RF1007,  3802,  1,     19,  22092,3,20101118,1949, 24.2517, 156.8473, 5652,    607.2,   7.5121,  34.0808,2,-999.0000,9,    144.7,3,    45.60,2,    26.51,2,     0.00,2,     1.92,2,   -999.0,9,   -999.0,9,-999.0000,9,  -999.00,     2023
  49UP20101110,RF1007,  3802,  1,     10,  22083,2,20101118,1949, 24.2517, 156.8473, 5652,    708.5,   5.7414,  34.0899,2,-999.0000,9,     93.5,2,    70.62,2,    34.05,2,     0.00,2,     2.48,2,   -999.0,9,   -999.0,9,-999.0000,9,  -999.00,     2020
  49UP20101110,RF1007,  3802,  1,      9,  22082,2,20101118,1949, 24.2517, 156.8473, 5652,    808.3,   4.7464,  34.1759,2,-999.0000,9,     60.8,2,    92.00,2,    38.47,2,     0.00,2,     2.80,2,   -999.0,9,   -999.0,9,-999.0000,9,  -999.00,     2017
  49UP20101110,RF1007,  3802,  1,      8,  22081,2,20101118,1949, 24.2517, 156.8473, 5652,    909.7,   4.1890,  34.2799,2,-999.0000,9,     45.5,2,   106.72,2,    40.67,2,     0.00,2,     2.95,2,   -999.0,9,   -999.0,9,-999.0000,9,  -999.00,     2015
  49UP20101110,RF1007,  3802,  1,      7,  22080,2,20101118,1949, 24.2517, 156.8473, 5652,   1011.3,   3.8240,  34.3749,2,-999.0000,9,     47.6,2,   116.66,2,    40.75,2,     0.00,2,     2.96,2,   -999.0,9,   -999.0,9,-999.0000,9,  -999.00,     2012
  49UP20101110,RF1007,  3802,  1,      6,  22079,2,20101118,1949, 24.2517, 156.8473, 5652,   1011.3,   3.8240,  34.3749,2,-999.0000,9,     47.0,2,   115.75,2,    40.92,2,     0.00,2,     2.97,2,   -999.0,9,   -999.0,9,-999.0000,9,  -999.00,     2012
  49UP20101110,RF1007,  3802,  1,      5,  22078,2,20101118,1949, 24.2517, 156.8473, 5652,   1212.6,   3.2419,  34.4642,2,-999.0000,9,     56.5,2,   128.69,2,    40.72,2,     0.00,2,     2.94,2,   -999.0,9,   -999.0,9,-999.0000,9,  -999.00,     2008
  49UP20101110,RF1007,  3802,  1,      4,  22077,3,20101118,1949, 24.2517, 156.8473, 5652,   1415.2,   2.7879,  34.5245,2,-999.0000,9,     70.8,2,   136.92,2,    40.19,2,     0.00,2,     2.89,2,   -999.0,9,   -999.0,9,-999.0000,9,  -999.00,     2003
  49UP20101110,RF1007,  3802,  1,      3,  22076,2,20101118,1949, 24.2517, 156.8473, 5652,   1618.1,   2.4464,  34.5556,2,-999.0000,9,     76.6,2,   144.26,2,    40.25,2,     0.00,2,     2.88,2,   -999.0,9,   -999.0,9,-999.0000,9,  -999.00,     1959
  49UP20101110,RF1007,  3802,  1,      2,  22075,2,20101118,1949, 24.2517, 156.8473, 5652,   1820.6,   2.1206,  34.5937,2,-999.0000,9,     92.4,2,   148.40,2,    39.38,2,     0.00,2,     2.80,2,   -999.0,9,   -999.0,9,-999.0000,9,  -999.00,     1954
  49UP20101110,RF1007,  3802,  1,      1,  22074,2,20101118,1949, 24.2517, 156.8473, 5652,   2023.5,   1.9453,  34.6128,2,-999.0000,9,     99.4,6,   151.27,6,    38.95,6,     0.00,6,     2.76,6,   -999.0,9,   -999.0,9,-999.0000,9,  -999.00,     1949
  49UP20101110,RF1007,  3804,  1,     99,     99,2,20101119,0609, 24.2505, 158.4605, 5780,      0.0,  26.9838,  35.3823,2,-999.0000,9,    202.6,2,     1.31,2,     0.00,2,     0.00,2,     0.02,2,   -999.0,9,   -999.0,9,-999.0000,9,  -999.00,      650
  49UP20101110,RF1007,  3804,  1,     32,  22105,2,20101119,0609, 24.2505, 158.4605, 5780,     10.1,  26.9797,  35.3799,2,  35.3819,6,    203.1,2,     1.05,2,     0.00,2,     0.00,2,     0.00,2,   -999.0,9,   -999.0,9,-999.0000,9,  -999.00,      703
  49UP20101110,RF1007,  3804,  1,     31,  22104,2,20101119,0609, 24.2505, 158.4605, 5780,     24.9,  27.0008,  35.3824,2,-999.0000,9,    203.1,2,     1.10,2,     0.00,2,     0.00,2,     0.00,2,   -999.0,9,   -999.0,9,-999.0000,9,  -999.00,      702
  49UP20101110,RF1007,  3804,  1,     30,  22103,2,20101119,0609, 24.2505, 158.4605, 5780,     49.6,  26.9428,  35.3739,2,-999.0000,9,    203.5,2,     1.13,2,     0.00,2,     0.00,2,     0.00,2,   -999.0,9,   -999.0,9,-999.0000,9,  -999.00,      658
  49UP20101110,RF1007,  3804,  1,     29,  22102,2,20101119,0609, 24.2505, 158.4605, 5780,     75.8,  25.3022,  35.4003,2,-999.0000,9,    226.4,2,     1.04,2,     0.00,2,     0.00,2,     0.00,2,   -999.0,9,   -999.0,9,-999.0000,9,  -999.00,      657
  49UP20101110,RF1007,  3804,  1,     28,  22101,2,20101119,0609, 24.2505, 158.4605, 5780,    100.9,  22.6780,  35.0692,2,  35.0714,6,    231.4,2,     1.38,2,     0.00,2,     0.00,2,     0.00,2,   -999.0,9,   -999.0,9,-999.0000,9,  -999.00,      656
  49UP20101110,RF1007,  3804,  1,     27,  22100,2,20101119,0609, 24.2505, 158.4605, 5780,    126.3,  20.2834,  34.8652,2,-999.0000,9,    221.9,2,     1.66,2,     0.00,2,     0.00,2,     0.01,2,   -999.0,9,   -999.0,9,-999.0000,9,  -999.00,      655
  49UP20101110,RF1007,  3804,  1,     26,  22099,2,20101119,0609, 24.2505, 158.4605, 5780,    126.3,  20.2834,  34.8652,2,-999.0000,9,    222.4,2,     1.54,2,     0.00,2,     0.00,2,     0.00,2,   -999.0,9,   -999.0,9,-999.0000,9,  -999.00,      655
  49UP20101110,RF1007,  3804,  1,     25,  22098,2,20101119,0609, 24.2505, 158.4605, 5780,    151.8,  19.4401,  34.8244,2,-999.0000,9,    212.3,2,     2.02,2,     0.12,2,     0.09,2,     0.05,2,   -999.0,9,   -999.0,9,-999.0000,9,  -999.00,      654
  49UP20101110,RF1007,  3804,  1,     24,  22097,2,20101119,0609, 24.2505, 158.4605, 5780,    201.8,  17.5856,  34.6785,2,  34.6802,2,    208.3,2,     3.36,2,     3.69,2,     0.00,2,     0.24,2,   -999.0,9,   -999.0,9,-999.0000,9,  -999.00,      652
  49UP20101110,RF1007,  3804,  1,     23,  22096,2,20101119,0609, 24.2505, 158.4605, 5780,    252.2,  16.3107,  34.6308,2,-999.0000,9,    200.2,2,     5.75,2,     6.49,2,     0.00,2,     0.44,2,   -999.0,9,   -999.0,9,-999.0000,9,  -999.00,      651
  49UP20101110,RF1007,  3804,  1,     22,  22095,2,20101119,0609, 24.2505, 158.4605, 5780,    300.7,  15.2019,  34.5642,2,-999.0000,9,    198.0,2,     7.93,2,     8.31,2,     0.00,2,     0.56,2,   -999.0,9,   -999.0,9,-999.0000,9,  -999.00,      649
  49UP20101110,RF1007,  3804,  1,     21,  22094,2,20101119,0609, 24.2505, 158.4605, 5780,    402.7,  12.7119,  34.3961,2,  34.3949,2,    199.5,6,    13.82,6,    12.22,6,     0.00,6,     0.85,6,   -999.0,9,   -999.0,9,-999.0000,9,  -999.00,      646
  49UP20101110,RF1007,  3804,  1,     20,  22093,2,20101119,0609, 24.2505, 158.4605, 5780,    504.3,  10.2821,  34.2114,2,-999.0000,9,    187.0,2,    22.43,2,    17.52,2,     0.00,2,     1.23,2,   -999.0,9,   -999.0,9,-999.0000,9,  -999.00,      644
  49UP20101110,RF1007,  3804,  1,     19,  22092,2,20101119,0609, 24.2505, 158.4605, 5780,    605.3,   7.2885,  34.0679,2,  34.0684,2,    137.4,2,    47.50,2,    27.50,2,     0.00,2,     1.98,2,   -999.0,9,   -999.0,9,-999.0000,9,  -999.00,      641
  49UP20101110,RF1007,  3804,  1,     10,  22083,2,20101119,0609, 24.2505, 158.4605, 5780,    705.7,   5.6497,  34.0881,2,-999.0000,9,     91.5,2,    70.92,2,    34.32,2,     0.00,2,     2.49,2,   -999.0,9,   -999.0,9,-999.0000,9,  -999.00,      639
  49UP20101110,RF1007,  3804,  1,      9,  22082,3,20101119,0609, 24.2505, 158.4605, 5780,    806.8,   4.8900,  34.1683,2,  34.1688,2,     63.7,2,    88.13,2,    38.08,2,     0.00,2,     2.75,2,   -999.0,9,   -999.0,9,-999.0000,9,  -999.00,      636
  49UP20101110,RF1007,  3804,  1,      8,  22081,2,20101119,0609, 24.2505, 158.4605, 5780,    908.9,   4.1825,  34.2659,2,-999.0000,9,     44.0,2,   105.36,2,    40.57,2,     0.00,2,     2.94,2,   -999.0,9,   -999.0,9,-999.0000,9,  -999.00,      634
  49UP20101110,RF1007,  3804,  1,      7,  22080,2,20101119,0609, 24.2505, 158.4605, 5780,    908.9,   4.1825,  34.2659,2,-999.0000,9,     44.2,6,   106.13,2,    40.71,2,     0.00,2,     2.94,2,   -999.0,9,   -999.0,9,-999.0000,9,  -999.00,      634
  49UP20101110,RF1007,  3804,  1,      6,  22079,2,20101119,0609, 24.2505, 158.4605, 5780,   1007.6,   3.7214,  34.3549,2,  34.3542,2,     39.0,2,   118.14,2,    41.71,2,     0.00,2,     3.01,2,   -999.0,9,   -999.0,9,-999.0000,9,  -999.00,      631
  49UP20101110,RF1007,  3804,  1,      5,  22078,2,20101119,0609, 24.2505, 158.4605, 5780,   1211.0,   3.0975,  34.4649,2,  34.4645,2,     48.9,2,   133.67,2,    41.54,2,     0.00,2,     2.98,2,   -999.0,9,   -999.0,9,-999.0000,9,  -999.00,      627
  49UP20101110,RF1007,  3804,  1,      4,  22077,2,20101119,0609, 24.2505, 158.4605, 5780,   1414.0,   2.7559,  34.5254,2,  34.5252,2,     67.8,2,   137.26,2,    40.25,2,     0.00,2,     2.90,2,   -999.0,9,   -999.0,9,-999.0000,9,  -999.00,      622
  49UP20101110,RF1007,  3804,  1,      3,  22076,2,20101119,0609, 24.2505, 158.4605, 5780,   1616.5,   2.4118,  34.5658,2,  34.5654,2,     82.2,2,   142.05,2,    39.71,2,     0.00,2,     2.84,2,   -999.0,9,   -999.0,9,-999.0000,9,  -999.00,      618
  49UP20101110,RF1007,  3804,  1,      2,  22075,2,20101119,0609, 24.2505, 158.4605, 5780,   1819.8,   2.1704,  34.5934,2,  34.5910,2,     92.6,6,   145.25,6,    39.25,6,     0.00,6,     2.80,6,   -999.0,9,   -999.0,9,-999.0000,9,  -999.00,      613
  49UP20101110,RF1007,  3804,  1,      1,  22074,2,20101119,0609, 24.2505, 158.4605, 5780,   2022.3,   1.9875,  34.6138,2,  34.6140,2,    100.8,2,   147.66,2,    38.84,2,     0.00,2,     2.74,2,   -999.0,9,   -999.0,9,-999.0000,9,  -999.00,      609