BOTTLE,20200204PRINUNIVRMK
EXPOCODE,SECT_ID,STNNBR,CASTNO,SAMPNO,BTLNBR,BTLNBR_FLAG_W,DATE,TIME,LATITUDE,LONGITUDE,DEPTH,CTDPRS,CTDTMP,CTDSAL,CTDSAL_FLAG_W,SALNTY,SALNTY_FLAG_W,OXYGEN,OXYGEN_FLAG_W,SILCAT,SILCAT_FLAG_W,NITRAT,NITRAT_FLAG_W,NITRIT,NITRIT_FLAG_W,PHSPHT,PHSPHT_FLAG_W,TCARBN,TCARBN_FLAG_W,ALKALI,ALKALI_FLAG_W,PH_TOT,PH_TOT_FLAG_W,PH_TMP,BTL_TIME
,,,,,,,,,,,METERS,DBAR,ITS-90,PSS-78,,PSS-78,,UMOL/KG,,UMOL/KG,,UMOL/KG,,UMOL/KG,,UMOL/KG,,UMOL/KG,,UMOL/KG,,,,DEG C,
  49UP20101110,RF1007,  3860,  1,     99,     99,2,20101217,0224, 31.9898, 137.0240, 4143,      0.0,  21.4920,  34.6238,2,-999.0000,9,    215.2,2,     1.62,2,     0.12,2,     0.04,2,     0.02,2,   -999.0,9,   -999.0,9,-999.0000,9,  -999.00,      310
  49UP20101110,RF1007,  3860,  1,     36,  22109,2,20101217,0224, 31.9898, 137.0240, 4143,     10.8,  21.5016,  34.6232,2,-999.0000,9,    215.1,2,     1.66,2,     0.10,2,     0.04,2,     0.01,2,   1963.0,2,   2273.6,2,   8.0493,2,    25.00,      324
  49UP20101110,RF1007,  3860,  1,     33,  22106,2,20101217,0224, 31.9898, 137.0240, 4143,     26.2,  21.5043,  34.6231,2,-999.0000,9,    215.7,2,     1.62,2,     0.10,2,     0.04,2,     0.01,2,   1965.0,2,   2276.2,2,   8.0480,2,    25.00,      323
  49UP20101110,RF1007,  3860,  1,     32,  22105,2,20101217,0224, 31.9898, 137.0240, 4143,     50.6,  21.4996,  34.6221,2,-999.0000,9,    215.4,6,     1.68,6,     0.10,6,     0.04,6,     0.02,6,   1966.6,2,   2271.9,2,   8.0539,2,    25.00,      319
  49UP20101110,RF1007,  3860,  1,     31,  22104,2,20101217,0224, 31.9898, 137.0240, 4143,     74.9,  21.4520,  34.6323,2,-999.0000,9,    213.4,2,     1.71,2,     0.29,2,     0.04,2,     0.03,2,   1973.8,2,   2273.2,2,   8.0363,2,    25.00,      318
  49UP20101110,RF1007,  3860,  1,     29,  22102,2,20101217,0224, 31.9898, 137.0240, 4143,    100.4,  20.9580,  34.7407,2,-999.0000,9,    198.6,2,     2.30,2,     1.82,2,     0.02,2,     0.11,2,   2003.8,2,   2280.0,2,   7.9993,2,    25.00,      317
  49UP20101110,RF1007,  3860,  1,     28,  22101,2,20101217,0224, 31.9898, 137.0240, 4143,    126.5,  20.2961,  34.7399,2,-999.0000,9,    201.5,2,     2.30,2,     1.91,2,     0.01,2,     0.13,2,   2007.7,2,   2281.2,2,   7.9962,2,    25.00,      316
  49UP20101110,RF1007,  3860,  1,     25,  22098,2,20101217,0224, 31.9898, 137.0240, 4143,    151.1,  19.6437,  34.7295,2,-999.0000,9,    205.6,2,     2.34,2,     1.86,2,     0.01,2,     0.12,2,   2005.4,2,   2282.5,2,   7.9920,2,    25.00,      314
  49UP20101110,RF1007,  3860,  1,     22,  22095,2,20101217,0224, 31.9898, 137.0240, 4143,    202.0,  19.1901,  34.7198,2,-999.0000,9,    209.0,2,     2.16,2,     2.04,2,     0.00,2,     0.13,2,   2002.5,2,   2283.0,2,   7.9911,2,    25.00,      313
  49UP20101110,RF1007,  3860,  1,     21,  22094,2,20101217,0224, 31.9898, 137.0240, 4143,    202.0,  19.1901,  34.7198,2,-999.0000,9,    209.8,2,     2.30,2,     2.05,2,     0.00,2,     0.13,2,   2004.8,2,   2275.4,2,   8.0011,2,    25.00,      312
  49UP20101110,RF1007,  3860,  1,     20,  22093,2,20101217,0224, 31.9898, 137.0240, 4143,    252.3,  19.0016,  34.7207,2,-999.0000,9,    208.3,2,     2.51,2,     2.32,2,     0.00,2,     0.15,2,   2007.3,2,   2277.8,2,   7.9884,2,    25.00,      311
  49UP20101110,RF1007,  3860,  1,     18,  22091,2,20101217,0224, 31.9898, 137.0240, 4143,    302.6,  18.7373,  34.7196,2,-999.0000,9,    205.5,2,     2.81,2,     2.81,2,     0.00,2,     0.18,2,   2016.3,2,   2277.7,2,   7.9746,2,    25.00,      309
  49UP20101110,RF1007,  3860,  1,     16,  22089,2,20101217,0224, 31.9898, 137.0240, 4143,    403.6,  17.4224,  34.7242,2,-999.0000,9,    191.0,2,     5.25,2,     5.91,2,     0.00,2,     0.39,2,   2042.4,2,   2279.3,2,   7.9276,2,    25.00,      306
  49UP20101110,RF1007,  3860,  1,     15,  22088,2,20101217,0224, 31.9898, 137.0240, 4143,    505.9,  15.3720,  34.6078,2,-999.0000,9,    182.5,2,    10.37,2,     9.64,2,     0.00,2,     0.65,2,   2071.3,2,   2278.6,2,   7.8593,2,    25.00,      303
  49UP20101110,RF1007,  3860,  1,     14,  22087,2,20101217,0224, 31.9898, 137.0240, 4143,    607.9,  12.3777,  34.4114,2,-999.0000,9,    171.3,6,    21.49,6,    15.46,6,     0.00,6,     1.10,6,   2112.5,2,   2277.3,2,   7.7557,2,    25.00,      300
  49UP20101110,RF1007,  3860,  1,     13,  22086,2,20101217,0224, 31.9898, 137.0240, 4143,    709.4,   9.5453,  34.2573,2,-999.0000,9,    150.3,2,    38.31,2,    22.26,2,     0.00,2,     1.59,2,   2167.9,2,   2282.6,2,   7.6566,2,    25.00,      257
  49UP20101110,RF1007,  3860,  1,     12,  22085,2,20101217,0224, 31.9898, 137.0240, 4143,    809.8,   7.5466,  34.2044,2,-999.0000,9,    124.8,2,    56.90,2,    27.92,2,     0.00,2,     2.02,2,   2216.6,2,   2298.6,2,   7.5527,2,    25.00,      254
  49UP20101110,RF1007,  3860,  1,     11,  22110,2,20101217,0224, 31.9898, 137.0240, 4143,    912.0,   5.4555,  34.1854,2,-999.0000,9,     91.4,2,    82.68,2,    34.38,2,     0.00,2,     2.49,2,   2272.7,2,   2319.1,2,   7.4447,2,    25.00,      250
  49UP20101110,RF1007,  3860,  1,     10,  22083,2,20101217,0224, 31.9898, 137.0240, 4143,   1011.7,   4.5037,  34.2521,2,-999.0000,9,     67.1,2,   101.95,2,    38.07,2,     0.00,2,     2.75,2,   2311.2,2,   2338.9,2,   7.4088,2,    25.00,      247
  49UP20101110,RF1007,  3860,  1,      7,  22080,2,20101217,0224, 31.9898, 137.0240, 4143,   1214.1,   3.6276,  34.3781,2,-999.0000,9,     57.4,2,   122.26,2,    40.02,2,     0.00,2,     2.87,2,   2335.2,2,   2373.8,2,   7.3852,2,    25.00,      242
  49UP20101110,RF1007,  3860,  1,      6,  22079,2,20101217,0224, 31.9898, 137.0240, 4143,   1214.1,   3.6276,  34.3781,2,-999.0000,9,     57.6,2,   122.45,2,    40.03,2,     0.00,2,     2.87,2,   2339.7,6,   2366.7,6,   7.3858,6,    25.00,      242
  49UP20101110,RF1007,  3860,  1,      5,  22078,2,20101217,0224, 31.9898, 137.0240, 4143,   1414.3,   3.0682,  34.4572,2,-999.0000,9,     64.7,2,   133.50,2,    40.17,2,     0.00,2,     2.88,2,   2353.3,2,   2382.5,2,   7.4054,2,    25.00,      237
  49UP20101110,RF1007,  3860,  1,      3,  22076,2,20101217,0224, 31.9898, 137.0240, 4143,   1618.3,   2.6281,  34.5103,2,-999.0000,9,     70.5,2,   142.08,2,    40.37,2,     0.00,2,     2.88,2,   2361.3,2,   2393.2,2,   7.4103,2,    25.00,      232
  49UP20101110,RF1007,  3860,  1,      2,  22075,2,20101217,0224, 31.9898, 137.0240, 4143,   1817.8,   2.3491,  34.5535,2,-999.0000,9,     85.6,2,   144.14,2,    39.49,2,     0.00,2,     2.81,2,   2356.6,2,   2400.6,2,   7.4401,6,    25.00,      228
  49UP20101110,RF1007,  3860,  1,      1,  22074,2,20101217,0224, 31.9898, 137.0240, 4143,   2021.6,   2.0995,  34.5896,2,-999.0000,9,    100.2,2,   145.36,2,    38.70,2,     0.00,2,     2.74,2,   2346.2,6,   2407.3,6,   7.4679,2,    25.00,      224
  49UP20101110,RF1007,  3863,  1,     99,     99,2,20101217,1359, 33.0160, 137.0550, 4270,      0.0,  22.2483,  34.6582,2,-999.0000,9,    212.2,2,     1.70,2,     0.26,2,     0.17,2,     0.06,2,   -999.0,9,   -999.0,9,-999.0000,9,  -999.00,     1443
  49UP20101110,RF1007,  3863,  1,     36,  22109,2,20101217,1359, 33.0160, 137.0550, 4270,     11.2,  22.2578,  34.6580,2,  34.6570,2,    210.5,2,     1.79,2,     0.31,2,     0.18,2,     0.06,2,   -999.0,9,   -999.0,9,-999.0000,9,  -999.00,     1510
  49UP20101110,RF1007,  3863,  1,     33,  22106,2,20101217,1359, 33.0160, 137.0550, 4270,     26.1,  22.2681,  34.6575,2,-999.0000,9,    209.9,2,     1.71,2,     0.30,2,     0.18,2,     0.06,2,   -999.0,9,   -999.0,9,-999.0000,9,  -999.00,     1508
  49UP20101110,RF1007,  3863,  1,     32,  22105,2,20101217,1359, 33.0160, 137.0550, 4270,     50.5,  22.2721,  34.6572,2,-999.0000,9,    210.7,2,     1.76,2,     0.27,2,     0.18,2,     0.06,2,   -999.0,9,   -999.0,9,-999.0000,9,  -999.00,     1504
  49UP20101110,RF1007,  3863,  1,     31,  22104,2,20101217,1359, 33.0160, 137.0550, 4270,     75.5,  22.2702,  34.6576,2,-999.0000,9,    210.1,2,     1.72,2,     0.31,2,     0.18,2,     0.06,2,   -999.0,9,   -999.0,9,-999.0000,9,  -999.00,     1503
  49UP20101110,RF1007,  3863,  1,     30,  22103,3,20101217,1359, 33.0160, 137.0550, 4270,    101.5,  22.2234,  34.6573,2,  34.6566,2,    211.4,2,     1.64,2,     0.20,2,     0.16,2,     0.05,2,   -999.0,9,   -999.0,9,-999.0000,9,  -999.00,     1502
  49UP20101110,RF1007,  3863,  1,     29,  22102,2,20101217,1359, 33.0160, 137.0550, 4270,    126.0,  21.2847,  34.6556,2,-999.0000,9,    192.3,2,     4.71,2,     3.24,2,     0.12,2,     0.25,2,   -999.0,9,   -999.0,9,-999.0000,9,  -999.00,     1501
  49UP20101110,RF1007,  3863,  1,     28,  22101,2,20101217,1359, 33.0160, 137.0550, 4270,    126.0,  21.2847,  34.6556,2,-999.0000,9,    192.0,2,     4.68,2,     3.17,2,     0.11,2,     0.26,2,   -999.0,9,   -999.0,9,-999.0000,9,  -999.00,     1500
  49UP20101110,RF1007,  3863,  1,     25,  22098,2,20101217,1359, 33.0160, 137.0550, 4270,    151.9,  20.1971,  34.7618,2,-999.0000,9,    189.7,2,     3.09,2,     2.94,2,     0.01,2,     0.22,2,   -999.0,9,   -999.0,9,-999.0000,9,  -999.00,     1459
  49UP20101110,RF1007,  3863,  1,     23,  22096,2,20101217,1359, 33.0160, 137.0550, 4270,    203.2,  18.9763,  34.7688,2,  34.7669,2,    189.5,2,     3.22,2,     3.84,2,     0.00,2,     0.28,2,   -999.0,9,   -999.0,9,-999.0000,9,  -999.00,     1457
  49UP20101110,RF1007,  3863,  1,     22,  22095,2,20101217,1359, 33.0160, 137.0550, 4270,    254.2,  17.6510,  34.7448,2,-999.0000,9,    188.2,2,     4.58,2,     5.60,2,     0.00,2,     0.39,2,   -999.0,9,   -999.0,9,-999.0000,9,  -999.00,     1455
  49UP20101110,RF1007,  3863,  1,     21,  22094,2,20101217,1359, 33.0160, 137.0550, 4270,    305.2,  16.4969,  34.6782,2,-999.0000,9,    187.4,2,     7.12,2,     7.55,2,     0.00,2,     0.52,2,   -999.0,9,   -999.0,9,-999.0000,9,  -999.00,     1453
  49UP20101110,RF1007,  3863,  1,     20,  22093,2,20101217,1359, 33.0160, 137.0550, 4270,    407.3,  13.1782,  34.4771,2,  34.4816,4,    160.9,2,    22.84,2,    15.16,2,     0.00,2,     1.10,2,   -999.0,9,   -999.0,9,-999.0000,9,  -999.00,     1448
  49UP20101110,RF1007,  3863,  1,     18,  22091,4,20101217,1359, 33.0160, 137.0550, 4270,    510.0,   8.3429,  34.2661,2,-999.0000,9,    127.0,4,    52.92,4,    26.26,4,     0.00,4,     1.93,4,   -999.0,9,   -999.0,9,-999.0000,9,  -999.00,     1440
  49UP20101110,RF1007,  3863,  1,     16,  22089,2,20101217,1359, 33.0160, 137.0550, 4270,    608.7,   6.2945,  34.2295,2,  34.2321,2,     97.6,2,    73.43,2,    32.33,2,     0.00,2,     2.35,2,   -999.0,9,   -999.0,9,-999.0000,9,  -999.00,     1434
  49UP20101110,RF1007,  3863,  1,     15,  22088,2,20101217,1359, 33.0160, 137.0550, 4270,    708.8,   5.0853,  34.2778,2,-999.0000,9,     77.2,2,    93.36,2,    36.21,2,     0.00,2,     2.62,2,   -999.0,9,   -999.0,9,-999.0000,9,  -999.00,     1429
  49UP20101110,RF1007,  3863,  1,     14,  22087,2,20101217,1359, 33.0160, 137.0550, 4270,    807.9,   4.2867,  34.3463,2,  34.3455,2,     66.5,2,   108.74,2,    38.27,2,     0.00,2,     2.78,2,   -999.0,9,   -999.0,9,-999.0000,9,  -999.00,     1425
  49UP20101110,RF1007,  3863,  1,     12,  22085,2,20101217,1359, 33.0160, 137.0550, 4270,    911.6,   3.6480,  34.3828,2,-999.0000,9,     60.2,2,   121.49,2,    39.67,2,     0.00,2,     2.87,2,   -999.0,9,   -999.0,9,-999.0000,9,  -999.00,     1422
  49UP20101110,RF1007,  3863,  1,     11,  22110,2,20101217,1359, 33.0160, 137.0550, 4270,   1009.3,   3.3890,  34.4160,2,-999.0000,9,     60.2,2,   126.74,2,    39.98,2,     0.00,2,     2.89,2,   -999.0,9,   -999.0,9,-999.0000,9,  -999.00,     1419
  49UP20101110,RF1007,  3863,  1,     10,  22083,4,20101217,1359, 33.0160, 137.0550, 4270,   1009.3,   3.3890,  34.4160,2,-999.0000,9,    125.5,4,    60.85,4,    25.29,4,     0.00,4,     1.83,4,   -999.0,9,   -999.0,9,-999.0000,9,  -999.00,     1419
  49UP20101110,RF1007,  3863,  1,      7,  22080,2,20101217,1359, 33.0160, 137.0550, 4270,   1217.4,   2.8872,  34.4789,2,  34.4762,6,     67.6,2,   135.91,2,    40.11,2,     0.00,2,     2.89,2,   -999.0,9,   -999.0,9,-999.0000,9,  -999.00,     1413
  49UP20101110,RF1007,  3863,  1,      6,  22079,2,20101217,1359, 33.0160, 137.0550, 4270,   1413.8,   2.5627,  34.5224,2,  34.5216,6,     76.8,2,   141.29,2,    39.74,2,     0.00,2,     2.85,2,   -999.0,9,   -999.0,9,-999.0000,9,  -999.00,     1409
  49UP20101110,RF1007,  3863,  1,      5,  22078,2,20101217,1359, 33.0160, 137.0550, 4270,   1610.7,   2.3352,  34.5536,2,  34.5525,2,     85.1,2,   144.03,2,    39.34,2,     0.00,2,     2.81,2,   -999.0,9,   -999.0,9,-999.0000,9,  -999.00,     1405
  49UP20101110,RF1007,  3863,  1,      3,  22076,2,20101217,1359, 33.0160, 137.0550, 4270,   1807.8,   2.1440,  34.5819,2,  34.5820,2,     96.7,2,   144.99,2,    38.67,2,     0.00,2,     2.77,2,   -999.0,9,   -999.0,9,-999.0000,9,  -999.00,     1402
  49UP20101110,RF1007,  3863,  1,      1,  22074,2,20101217,1359, 33.0160, 137.0550, 4270,   2009.1,   1.9550,  34.6092,2,  34.6088,2,    109.5,6,   145.30,6,    38.06,6,     0.00,6,     2.71,6,   -999.0,9,   -999.0,9,-999.0000,9,  -999.00,     1359
  49UP20101110,RF1007,  3866,  1,     99,     99,2,20101218,0121, 33.9798, 136.9950, 1141,      0.0,  17.9924,  34.5813,2,-999.0000,9,    224.1,2,     6.33,2,     3.41,2,     0.22,2,     0.29,2,   -999.0,9,   -999.0,9,-999.0000,9,  -999.00,      139
  49UP20101110,RF1007,  3866,  1,     36,  22109,2,20101218,0121, 33.9798, 136.9950, 1141,     11.0,  17.9924,  34.5826,2,  34.5817,6,    223.4,2,     6.33,2,     3.42,2,     0.22,2,     0.28,2,   2012.3,2,   2275.4,2,   7.9813,2,    25.00,      158
  49UP20101110,RF1007,  3866,  1,     33,  22106,2,20101218,0121, 33.9798, 136.9950, 1141,     26.2,  17.9825,  34.5805,2,-999.0000,9,    223.6,2,     6.37,2,     3.47,2,     0.22,2,     0.29,2,   2009.1,2,   2277.1,2,   7.9876,2,    25.00,      156
  49UP20101110,RF1007,  3866,  1,     32,  22105,2,20101218,0121, 33.9798, 136.9950, 1141,     49.0,  17.9441,  34.5749,2,-999.0000,9,    222.2,2,     6.63,2,     3.67,2,     0.23,2,     0.30,2,   2009.7,2,   2277.6,2,   7.9764,2,    25.00,      153
  49UP20101110,RF1007,  3866,  1,     31,  22104,2,20101218,0121, 33.9798, 136.9950, 1141,     76.3,  15.7801,  34.5807,2,-999.0000,9,    170.5,2,    15.68,2,    10.98,2,     0.02,2,     0.78,2,   2013.0,2,   2278.4,2,   7.8437,2,    25.00,      152
  49UP20101110,RF1007,  3866,  1,     30,  22103,2,20101218,0121, 33.9798, 136.9950, 1141,    101.5,  14.4575,  34.5256,2,  34.5240,6,    162.6,2,    20.79,2,    13.66,2,     0.00,2,     0.98,2,   2012.4,2,   2288.9,2,   7.7999,2,    25.00,      150
  49UP20101110,RF1007,  3866,  1,     29,  22102,2,20101218,0121, 33.9798, 136.9950, 1141,    127.3,  13.5631,  34.4917,2,-999.0000,9,    159.9,2,    23.90,2,    15.23,2,     0.00,2,     1.09,2,   2009.2,2,   2285.4,2,   7.7797,2,    25.00,      149
  49UP20101110,RF1007,  3866,  1,     28,  22101,2,20101218,0121, 33.9798, 136.9950, 1141,    127.3,  13.5631,  34.4917,2,-999.0000,9,    160.6,2,    23.73,2,    15.22,2,     0.00,2,     1.08,2,   2009.9,2,   2286.4,2,   7.7797,2,    25.00,      149
  49UP20101110,RF1007,  3866,  1,     25,  22098,2,20101218,0121, 33.9798, 136.9950, 1141,    153.3,  12.4219,  34.4376,2,-999.0000,9,    159.4,2,    26.46,2,    16.76,2,     0.00,2,     1.19,2,   2120.2,2,   2281.3,2,   7.7528,2,    25.00,      147
  49UP20101110,RF1007,  3866,  1,     23,  22096,2,20101218,0121, 33.9798, 136.9950, 1141,    205.3,  10.6297,  34.3569,2,  34.3631,4,    145.5,2,    36.35,2,    20.70,2,     0.00,2,     1.49,2,   2153.2,2,   2292.2,2,   7.6861,2,    25.00,      145
  49UP20101110,RF1007,  3866,  1,     21,  22094,2,20101218,0121, 33.9798, 136.9950, 1141,    254.8,   8.7545,  34.2990,2,-999.0000,9,    127.6,2,    50.77,2,    25.48,2,     0.00,2,     1.85,2,   2197.4,2,   2307.9,2,   7.6018,2,    25.00,      144
  49UP20101110,RF1007,  3866,  1,     20,  22093,2,20101218,0121, 33.9798, 136.9950, 1141,    303.4,   7.7944,  34.2638,2,-999.0000,9,    117.3,2,    59.97,2,    28.18,2,     0.00,2,     2.05,2,   2220.6,2,   2306.5,2,   7.5606,2,    25.00,      142
  49UP20101110,RF1007,  3866,  1,     16,  22089,2,20101218,0121, 33.9798, 136.9950, 1141,    404.3,   6.7673,  34.2666,2,  34.2653,2,    102.0,6,    71.43,6,    31.26,6,     0.00,6,     2.27,6,   2247.1,2,   2319.5,2,   7.5050,2,    25.00,      139
  49UP20101110,RF1007,  3866,  1,     15,  22088,2,20101218,0121, 33.9798, 136.9950, 1141,    505.0,   5.9523,  34.2659,2,-999.0000,9,     89.6,2,    81.32,2,    33.75,2,     0.00,2,     2.45,2,   2268.0,2,   2325.7,2,   7.4682,2,    25.00,      136
  49UP20101110,RF1007,  3866,  1,     13,  22086,2,20101218,0121, 33.9798, 136.9950, 1141,    608.6,   4.9855,  34.3026,2,  34.3016,2,     74.5,2,    95.99,2,    36.59,2,     0.00,2,     2.66,2,   2297.8,2,   2340.2,2,   7.4318,2,    25.00,      134
  49UP20101110,RF1007,  3866,  1,     11,  22110,2,20101218,0121, 33.9798, 136.9950, 1141,    707.2,   4.3939,  34.3353,2,-999.0000,9,     67.4,2,   106.75,2,    38.11,2,     0.00,2,     2.76,2,   2317.5,2,   2353.2,2,   7.4200,2,    25.00,      131
  49UP20101110,RF1007,  3866,  1,     10,  22083,2,20101218,0121, 33.9798, 136.9950, 1141,    808.0,   4.0080,  34.3659,2,  34.3650,2,     64.9,2,   114.37,2,    38.84,2,     0.00,2,     2.81,2,   2330.2,2,   2358.8,2,   7.4093,2,    25.00,      128
  49UP20101110,RF1007,  3866,  1,      7,  22080,2,20101218,0121, 33.9798, 136.9950, 1141,    908.7,   3.6001,  34.3981,2,-999.0000,9,     62.7,2,   122.45,2,    39.67,2,     0.00,2,     2.87,2,   2338.3,2,   2368.3,2,   7.3958,2,    25.00,      126
  49UP20101110,RF1007,  3866,  1,      6,  22079,2,20101218,0121, 33.9798, 136.9950, 1141,    908.7,   3.6001,  34.3981,2,-999.0000,9,     62.9,2,   122.44,2,    39.64,2,     0.00,2,     2.86,2,   2337.6,6,   2370.9,6,   7.3981,6,    25.00,      126
  49UP20101110,RF1007,  3866,  1,      5,  22078,2,20101218,0121, 33.9798, 136.9950, 1141,   1007.5,   3.3492,  34.4231,2,  34.4226,2,     62.5,2,   127.43,2,    39.95,2,     0.00,2,     2.89,2,   2343.0,2,   2375.3,2,   7.4004,6,    25.00,      123
  49UP20101110,RF1007,  3866,  1,      1,  22074,2,20101218,0121, 33.9798, 136.9950, 1141,   1071.7,   3.1125,  34.4501,2,-999.0000,9,     64.6,6,   131.37,6,    40.01,6,     0.00,6,     2.89,6,   2350.3,6,   2379.1,6,   7.3971,2,    25.00,      121