BOTTLE,20200204PRINUNIVRMK
EXPOCODE,SECT_ID,STNNBR,CASTNO,SAMPNO,BTLNBR,BTLNBR_FLAG_W,DATE,TIME,LATITUDE,LONGITUDE,DEPTH,CTDPRS,CTDTMP,CTDSAL,CTDSAL_FLAG_W,SALNTY,SALNTY_FLAG_W,OXYGEN,OXYGEN_FLAG_W,SILCAT,SILCAT_FLAG_W,NITRAT,NITRAT_FLAG_W,NITRIT,NITRIT_FLAG_W,PHSPHT,PHSPHT_FLAG_W,TCARBN,TCARBN_FLAG_W,ALKALI,ALKALI_FLAG_W,PH_TOT,PH_TOT_FLAG_W,PH_TMP,BTL_TIME
,,,,,,,,,,,METERS,DBAR,ITS-90,PSS-78,,PSS-78,,UMOL/KG,,UMOL/KG,,UMOL/KG,,UMOL/KG,,UMOL/KG,,UMOL/KG,,UMOL/KG,,,,DEG C,
  49UP20101110,RF1007,  3822,  1,     99,     99,2,20101209,2053, 27.7992, 127.8013,  846,      0.0,  23.2502,  34.6246,2,-999.0000,9,    209.1,2,     1.29,2,     0.05,2,     0.02,2,     0.01,2,   -999.0,9,   -999.0,9,-999.0000,9,  -999.00,     2110
  49UP20101110,RF1007,  3822,  1,     36,  22109,2,20101209,2053, 27.7992, 127.8013,  846,     12.2,  23.2654,  34.6245,2,-999.0000,9,    208.9,2,     1.30,2,     0.04,2,     0.02,2,     0.01,2,   1961.7,2,   2275.4,2,   8.0821,2,    25.00,     2125
  49UP20101110,RF1007,  3822,  1,     33,  22106,2,20101209,2053, 27.7992, 127.8013,  846,     21.1,  23.2709,  34.6244,2,-999.0000,9,    208.8,2,     1.34,2,     0.02,2,     0.02,2,     0.01,2,   1956.5,2,   2273.0,2,   8.0783,2,    25.00,     2124
  49UP20101110,RF1007,  3822,  1,     31,  22104,2,20101209,2053, 27.7992, 127.8013,  846,     31.8,  23.2766,  34.6241,2,-999.0000,9,    209.1,2,     1.33,2,     0.02,2,     0.02,2,     0.01,2,   1954.3,2,   2275.4,2,   8.0793,2,    25.00,     2123
  49UP20101110,RF1007,  3822,  1,     30,  22103,2,20101209,2053, 27.7992, 127.8013,  846,     56.1,  23.2433,  34.6294,2,-999.0000,9,    208.6,2,     1.28,2,     0.05,2,     0.03,2,     0.01,2,   1964.6,2,   2271.0,2,   8.0741,2,    25.00,     2119
  49UP20101110,RF1007,  3822,  1,     29,  22102,2,20101209,2053, 27.7992, 127.8013,  846,     76.2,  23.2314,  34.6320,2,-999.0000,9,    208.3,2,     1.63,2,     0.20,2,     0.03,2,     0.01,2,   1963.1,2,   2278.8,2,   8.0757,2,    25.00,     2118
  49UP20101110,RF1007,  3822,  1,     28,  22101,2,20101209,2053, 27.7992, 127.8013,  846,     76.2,  23.2314,  34.6320,2,-999.0000,9,    208.0,2,     1.39,2,     0.08,2,     0.03,2,     0.01,2,   1961.9,2,   2273.2,2,   8.0775,2,    25.00,     2118
  49UP20101110,RF1007,  3822,  1,     25,  22098,2,20101209,2053, 27.7992, 127.8013,  846,    103.0,  23.0356,  34.6963,2,-999.0000,9,    198.3,2,     1.72,2,     0.95,2,     0.07,2,     0.07,2,   1970.2,2,   2279.4,2,   8.0413,2,    25.00,     2117
  49UP20101110,RF1007,  3822,  1,     23,  22096,2,20101209,2053, 27.7992, 127.8013,  846,    129.6,  22.5928,  34.7231,2,-999.0000,9,    196.5,2,     1.88,2,     1.28,2,     0.05,2,     0.09,2,   1990.9,2,   2281.6,2,   8.0377,2,    25.00,     2115
  49UP20101110,RF1007,  3822,  1,     21,  22094,2,20101209,2053, 27.7992, 127.8013,  846,    151.9,  20.8848,  34.7683,2,-999.0000,9,    193.5,2,     2.28,2,     2.09,2,     0.01,2,     0.14,2,   2013.0,2,   2282.3,2,   8.0046,2,    25.00,     2114
  49UP20101110,RF1007,  3822,  1,     20,  22093,2,20101209,2053, 27.7992, 127.8013,  846,    202.3,  19.2066,  34.7633,2,-999.0000,9,    188.1,2,     3.61,2,     4.16,2,     0.00,2,     0.27,2,   2025.6,2,   2282.2,2,   7.9616,2,    25.00,     2112
  49UP20101110,RF1007,  3822,  1,     18,  22091,2,20101209,2053, 27.7992, 127.8013,  846,    254.6,  18.1169,  34.7392,2,-999.0000,9,    189.8,2,     4.37,2,     5.06,2,     0.00,2,     0.33,2,   2038.4,2,   2283.3,2,   7.9454,2,    25.00,     2110
  49UP20101110,RF1007,  3822,  1,     15,  22088,2,20101209,2053, 27.7992, 127.8013,  846,    303.5,  17.2945,  34.7175,2,-999.0000,9,    187.7,6,     5.87,6,     6.38,6,     0.00,6,     0.42,6,   2045.9,2,   2286.3,2,   7.9192,2,    25.00,     2108
  49UP20101110,RF1007,  3822,  1,     13,  22086,2,20101209,2053, 27.7992, 127.8013,  846,    403.0,  14.6994,  34.5620,2,-999.0000,9,    178.2,2,    13.01,2,    11.11,2,     0.00,2,     0.76,2,   2082.2,2,   2276.1,2,   7.8433,2,    25.00,     2106
  49UP20101110,RF1007,  3822,  1,     11,  22110,2,20101209,2053, 27.7992, 127.8013,  846,    503.7,  11.2794,  34.3662,2,-999.0000,9,    157.9,2,    29.17,2,    18.48,2,     0.00,2,     1.30,2,   2139.7,2,   2284.4,2,   7.7213,2,    25.00,     2103
  49UP20101110,RF1007,  3822,  1,     10,  22083,2,20101209,2053, 27.7992, 127.8013,  846,    606.3,   8.9367,  34.2928,2,-999.0000,9,    132.8,2,    48.45,2,    24.81,2,     0.00,2,     1.77,2,   2182.4,2,   2297.8,2,   7.6191,2,    25.00,     2100
  49UP20101110,RF1007,  3822,  1,      7,  22080,4,20101209,2053, 27.7992, 127.8013,  846,    706.9,   6.7497,  34.2847,2,-999.0000,9,    100.5,4,    72.24,4,    31.37,4,     0.00,4,     2.26,4,   2251.1,4,   2318.4,4,   7.5185,4,    25.00,     2057
  49UP20101110,RF1007,  3822,  1,      5,  22078,2,20101209,2053, 27.7992, 127.8013,  846,    808.7,   5.5743,  34.3465,2,-999.0000,9,     84.8,2,    90.65,2,    34.79,2,     0.00,2,     2.50,2,   2271.1,2,   2338.2,2,   7.4730,6,    25.00,     2055
  49UP20101110,RF1007,  3822,  1,      1,  22074,2,20101209,2053, 27.7992, 127.8013,  846,    832.5,   5.3626,  34.3603,2,-999.0000,9,     82.8,2,    94.33,2,    35.22,2,     0.00,2,     2.52,2,   2293.4,6,   2344.4,6,   7.4690,2,    25.00,     2053
  49UP20101110,RF1007,  3824,  1,     99,     99,2,20101210,0123, 27.4960, 128.2465, 1029,      0.0,  23.4644,  34.6127,2,-999.0000,9,    210.0,2,     1.32,2,     0.02,2,     0.01,2,     0.01,2,   -999.0,9,   -999.0,9,-999.0000,9,  -999.00,      137
  49UP20101110,RF1007,  3824,  1,     36,  22109,2,20101210,0123, 27.4960, 128.2465, 1029,     11.2,  23.4499,  34.6116,2,  34.6108,2,    210.6,2,     1.31,2,    -0.01,2,     0.01,2,     0.00,2,   -999.0,9,   -999.0,9,-999.0000,9,  -999.00,      200
  49UP20101110,RF1007,  3824,  1,     33,  22106,2,20101210,0123, 27.4960, 128.2465, 1029,     21.4,  23.4468,  34.6116,2,-999.0000,9,    209.0,2,     1.30,2,     0.06,2,     0.01,2,     0.00,2,   -999.0,9,   -999.0,9,-999.0000,9,  -999.00,      158
  49UP20101110,RF1007,  3824,  1,     31,  22104,2,20101210,0123, 27.4960, 128.2465, 1029,     31.9,  23.4492,  34.6114,2,-999.0000,9,    209.4,2,     1.29,2,     0.05,2,     0.01,2,     0.00,2,   -999.0,9,   -999.0,9,-999.0000,9,  -999.00,      157
  49UP20101110,RF1007,  3824,  1,     29,  22102,2,20101210,0123, 27.4960, 128.2465, 1029,     50.6,  23.4514,  34.6111,2,-999.0000,9,    208.8,2,     1.24,2,     0.04,2,     0.01,2,     0.00,2,   -999.0,9,   -999.0,9,-999.0000,9,  -999.00,      154
  49UP20101110,RF1007,  3824,  1,     28,  22101,2,20101210,0123, 27.4960, 128.2465, 1029,     77.7,  23.4525,  34.6114,2,-999.0000,9,    208.8,2,     1.40,2,     0.04,2,     0.01,2,     0.00,2,   -999.0,9,   -999.0,9,-999.0000,9,  -999.00,      152
  49UP20101110,RF1007,  3824,  1,     25,  22098,2,20101210,0123, 27.4960, 128.2465, 1029,    104.4,  23.2468,  34.6578,2,  34.6563,2,    201.5,2,     1.72,2,     0.69,2,     0.05,2,     0.04,2,   -999.0,9,   -999.0,9,-999.0000,9,  -999.00,      151
  49UP20101110,RF1007,  3824,  1,     23,  22096,2,20101210,0123, 27.4960, 128.2465, 1029,    126.4,  23.2050,  34.6587,2,-999.0000,9,    202.3,2,     1.78,2,     0.67,2,     0.05,2,     0.04,2,   -999.0,9,   -999.0,9,-999.0000,9,  -999.00,      150
  49UP20101110,RF1007,  3824,  1,     22,  22095,2,20101210,0123, 27.4960, 128.2465, 1029,    126.4,  23.2050,  34.6587,2,-999.0000,9,    201.4,2,     1.59,2,     0.68,2,     0.05,2,     0.04,2,   -999.0,9,   -999.0,9,-999.0000,9,  -999.00,      149
  49UP20101110,RF1007,  3824,  1,     21,  22094,2,20101210,0123, 27.4960, 128.2465, 1029,    152.2,  21.8146,  34.7388,2,-999.0000,9,    194.1,2,     2.36,2,     1.75,2,     0.03,2,     0.11,2,   -999.0,9,   -999.0,9,-999.0000,9,  -999.00,      148
  49UP20101110,RF1007,  3824,  1,     20,  22093,2,20101210,0123, 27.4960, 128.2465, 1029,    203.4,  19.2499,  34.7513,2,  34.7510,2,    189.1,2,     3.72,2,     4.05,2,     0.00,2,     0.25,2,   -999.0,9,   -999.0,9,-999.0000,9,  -999.00,      146
  49UP20101110,RF1007,  3824,  1,     18,  22091,2,20101210,0123, 27.4960, 128.2465, 1029,    254.9,  18.3102,  34.7364,2,-999.0000,9,    191.4,2,     4.09,2,     4.78,2,     0.00,2,     0.29,2,   -999.0,9,   -999.0,9,-999.0000,9,  -999.00,      144
  49UP20101110,RF1007,  3824,  1,     15,  22088,2,20101210,0123, 27.4960, 128.2465, 1029,    302.8,  17.5911,  34.7175,2,-999.0000,9,    188.7,2,     5.48,2,     6.03,2,     0.00,2,     0.37,2,   -999.0,9,   -999.0,9,-999.0000,9,  -999.00,      142
  49UP20101110,RF1007,  3824,  1,     13,  22086,2,20101210,0123, 27.4960, 128.2465, 1029,    403.6,  14.8531,  34.5719,2,  34.5723,2,    178.2,2,    12.74,2,    10.96,2,     0.00,2,     0.72,2,   -999.0,9,   -999.0,9,-999.0000,9,  -999.00,      140
  49UP20101110,RF1007,  3824,  1,     11,  22110,2,20101210,0123, 27.4960, 128.2465, 1029,    508.2,  11.2945,  34.3780,2,-999.0000,9,    158.0,2,    29.12,2,    18.37,2,     0.00,2,     1.26,2,   -999.0,9,   -999.0,9,-999.0000,9,  -999.00,      137
  49UP20101110,RF1007,  3824,  1,     10,  22083,2,20101210,0123, 27.4960, 128.2465, 1029,    606.0,   8.4362,  34.3177,2,  34.3186,2,    124.4,6,    55.18,2,    26.41,6,     0.00,6,     1.86,6,   -999.0,9,   -999.0,9,-999.0000,9,  -999.00,      134
  49UP20101110,RF1007,  3824,  1,      7,  22080,2,20101210,0123, 27.4960, 128.2465, 1029,    707.9,   7.1700,  34.3249,2,-999.0000,9,    106.5,2,    70.68,2,    30.24,2,     0.00,2,     2.13,2,   -999.0,9,   -999.0,9,-999.0000,9,  -999.00,      131
  49UP20101110,RF1007,  3824,  1,      5,  22078,2,20101210,0123, 27.4960, 128.2465, 1029,    807.1,   6.6387,  34.3329,2,  34.3335,6,     98.9,2,    77.74,2,    31.80,2,     0.00,2,     2.25,2,   -999.0,9,   -999.0,9,-999.0000,9,  -999.00,      129
  49UP20101110,RF1007,  3824,  1,      3,  22076,2,20101210,0123, 27.4960, 128.2465, 1029,    908.5,   6.3457,  34.3343,2,-999.0000,9,     94.3,2,    81.69,2,    32.77,2,     0.00,2,     2.32,2,   -999.0,9,   -999.0,9,-999.0000,9,  -999.00,      126
  49UP20101110,RF1007,  3824,  1,      1,  22074,2,20101210,0123, 27.4960, 128.2465, 1029,   1009.4,   5.8965,  34.3305,2,  34.3315,2,     88.2,2,    87.69,2,    34.13,2,     0.00,2,     2.41,2,   -999.0,9,   -999.0,9,-999.0000,9,  -999.00,      123
  49UP20101110,RF1007,  3825,  1,     99,     99,2,20101210,1106, 26.0612, 127.8908,  445,      0.0,  24.4584,  34.6201,2,-999.0000,9,    208.1,2,     1.08,2,     0.00,2,     0.00,2,     0.00,2,   -999.0,9,   -999.0,9,-999.0000,9,  -999.00,     1110
  49UP20101110,RF1007,  3825,  1,     22,  22095,2,20101210,1106, 26.0612, 127.8908,  445,     11.3,  24.4743,  34.6200,2,  34.6187,2,    209.1,2,     1.04,2,     0.00,2,     0.00,2,     0.00,2,   -999.0,9,   -999.0,9,-999.0000,9,  -999.00,     1125
  49UP20101110,RF1007,  3825,  1,     20,  22093,2,20101210,1106, 26.0612, 127.8908,  445,     26.6,  24.3431,  34.6009,2,-999.0000,9,    208.0,2,     1.13,2,     0.00,2,     0.00,2,     0.00,2,   -999.0,9,   -999.0,9,-999.0000,9,  -999.00,     1124
  49UP20101110,RF1007,  3825,  1,     18,  22091,2,20101210,1106, 26.0612, 127.8908,  445,     51.4,  24.2116,  34.6054,2,-999.0000,9,    206.0,6,     1.18,6,     0.08,6,     0.03,6,     0.01,6,   -999.0,9,   -999.0,9,-999.0000,9,  -999.00,     1120
  49UP20101110,RF1007,  3825,  1,     16,  22089,2,20101210,1106, 26.0612, 127.8908,  445,     75.9,  23.9759,  34.5934,2,-999.0000,9,    206.0,2,     1.23,2,     0.07,2,     0.01,2,     0.01,2,   -999.0,9,   -999.0,9,-999.0000,9,  -999.00,     1119
  49UP20101110,RF1007,  3825,  1,     14,  22087,2,20101210,1106, 26.0612, 127.8908,  445,    101.1,  23.5625,  34.6178,2,  34.6180,2,    203.2,2,     1.33,2,     0.43,2,     0.03,2,     0.04,2,   -999.0,9,   -999.0,9,-999.0000,9,  -999.00,     1117
  49UP20101110,RF1007,  3825,  1,     12,  22085,2,20101210,1106, 26.0612, 127.8908,  445,    126.3,  23.2281,  34.6564,2,-999.0000,9,    198.8,2,     1.71,2,     0.76,2,     0.05,2,     0.06,2,   -999.0,9,   -999.0,9,-999.0000,9,  -999.00,     1116
  49UP20101110,RF1007,  3825,  1,     10,  22083,2,20101210,1106, 26.0612, 127.8908,  445,    150.8,  22.2567,  34.7954,2,-999.0000,9,    193.8,2,     1.92,2,     1.33,2,     0.02,2,     0.10,2,   -999.0,9,   -999.0,9,-999.0000,9,  -999.00,     1115
  49UP20101110,RF1007,  3825,  1,      7,  22080,2,20101210,1106, 26.0612, 127.8908,  445,    200.6,  19.4827,  34.7614,2,-999.0000,9,    186.4,2,     3.72,2,     4.14,2,     0.00,2,     0.28,2,   -999.0,9,   -999.0,9,-999.0000,9,  -999.00,     1113
  49UP20101110,RF1007,  3825,  1,      6,  22079,2,20101210,1106, 26.0612, 127.8908,  445,    200.6,  19.4827,  34.7614,2,  34.7612,2,    186.4,2,     3.80,2,     4.13,2,     0.00,2,     0.27,2,   -999.0,9,   -999.0,9,-999.0000,9,  -999.00,     1113
  49UP20101110,RF1007,  3825,  1,      5,  22078,2,20101210,1106, 26.0612, 127.8908,  445,    251.5,  17.8326,  34.7341,2,-999.0000,9,    184.7,2,     5.42,2,     5.98,2,     0.00,2,     0.40,2,   -999.0,9,   -999.0,9,-999.0000,9,  -999.00,     1111
  49UP20101110,RF1007,  3825,  1,      3,  22076,2,20101210,1106, 26.0612, 127.8908,  445,    302.7,  16.9656,  34.7020,2,-999.0000,9,    184.9,2,     6.57,2,     7.12,2,     0.00,2,     0.47,2,   -999.0,9,   -999.0,9,-999.0000,9,  -999.00,     1109
  49UP20101110,RF1007,  3825,  1,      1,  22074,2,20101210,1106, 26.0612, 127.8908,  445,    403.2,  12.8959,  34.4398,2,  34.4568,4,    173.9,2,    17.00,2,    13.87,2,     0.00,2,     0.96,2,   -999.0,9,   -999.0,9,-999.0000,9,  -999.00,     1106
  49UP20101110,RF1007,  3826,  1,     99,     99,2,20101210,1400, 25.9127, 128.1682, 2136,      0.0,  24.0203,  34.5743,2,-999.0000,9,    209.2,2,     1.23,2,     0.00,2,     0.00,2,     0.00,2,   -999.0,9,   -999.0,9,-999.0000,9,  -999.00,     1442
  49UP20101110,RF1007,  3826,  1,     36,  22109,2,20101210,1400, 25.9127, 128.1682, 2136,     11.2,  24.0249,  34.5743,2,-999.0000,9,    209.2,2,     1.19,2,     0.00,2,     0.00,2,     0.00,2,   -999.0,9,   -999.0,9,-999.0000,9,  -999.00,     1504
  49UP20101110,RF1007,  3826,  1,     33,  22106,2,20101210,1400, 25.9127, 128.1682, 2136,     25.8,  24.0378,  34.5747,2,-999.0000,9,    209.4,2,     1.19,2,     0.00,2,     0.00,2,     0.00,2,   -999.0,9,   -999.0,9,-999.0000,9,  -999.00,     1502
  49UP20101110,RF1007,  3826,  1,     32,  22105,2,20101210,1400, 25.9127, 128.1682, 2136,     50.7,  24.0335,  34.5740,2,-999.0000,9,    208.7,2,     1.11,2,     0.00,2,     0.00,2,     0.00,2,   -999.0,9,   -999.0,9,-999.0000,9,  -999.00,     1458
  49UP20101110,RF1007,  3826,  1,     31,  22104,2,20101210,1400, 25.9127, 128.1682, 2136,     75.9,  24.0153,  34.5735,2,-999.0000,9,    208.0,2,     1.19,2,     0.00,2,     0.00,2,     0.00,2,   -999.0,9,   -999.0,9,-999.0000,9,  -999.00,     1456
  49UP20101110,RF1007,  3826,  1,     30,  22103,2,20101210,1400, 25.9127, 128.1682, 2136,    101.6,  23.9272,  34.5752,2,-999.0000,9,    208.6,2,     1.17,2,     0.00,2,     0.00,2,     0.00,2,   -999.0,9,   -999.0,9,-999.0000,9,  -999.00,     1455
  49UP20101110,RF1007,  3826,  1,     28,  22101,2,20101210,1400, 25.9127, 128.1682, 2136,    125.4,  23.5714,  34.6696,2,-999.0000,9,    199.9,2,     1.45,2,     0.45,2,     0.05,2,     0.04,2,   -999.0,9,   -999.0,9,-999.0000,9,  -999.00,     1453
  49UP20101110,RF1007,  3826,  1,     25,  22098,2,20101210,1400, 25.9127, 128.1682, 2136,    150.7,  21.9985,  34.7658,2,-999.0000,9,    195.5,2,     1.88,2,     1.34,2,     0.01,2,     0.09,2,   -999.0,9,   -999.0,9,-999.0000,9,  -999.00,     1452
  49UP20101110,RF1007,  3826,  1,     23,  22096,2,20101210,1400, 25.9127, 128.1682, 2136,    201.8,  19.0866,  34.7550,2,-999.0000,9,    186.4,2,     3.93,2,     4.53,2,     0.00,2,     0.28,2,   -999.0,9,   -999.0,9,-999.0000,9,  -999.00,     1450
  49UP20101110,RF1007,  3826,  1,     22,  22095,2,20101210,1400, 25.9127, 128.1682, 2136,    201.8,  19.0866,  34.7550,2,-999.0000,9,    186.7,2,     3.70,2,     4.32,2,     0.00,2,     0.28,2,   -999.0,9,   -999.0,9,-999.0000,9,  -999.00,     1450
  49UP20101110,RF1007,  3826,  1,     21,  22094,2,20101210,1400, 25.9127, 128.1682, 2136,    251.7,  16.9518,  34.7020,2,-999.0000,9,    184.5,2,     6.54,2,     7.20,2,     0.00,2,     0.48,2,   -999.0,9,   -999.0,9,-999.0000,9,  -999.00,     1448
  49UP20101110,RF1007,  3826,  1,     20,  22093,2,20101210,1400, 25.9127, 128.1682, 2136,    301.2,  14.9486,  34.5778,2,-999.0000,9,    180.3,2,    11.04,2,    10.44,2,     0.00,2,     0.71,2,   -999.0,9,   -999.0,9,-999.0000,9,  -999.00,     1446
  49UP20101110,RF1007,  3826,  1,     18,  22091,2,20101210,1400, 25.9127, 128.1682, 2136,    405.9,  11.7890,  34.3675,2,-999.0000,9,    166.5,2,    22.72,2,    16.73,2,     0.00,2,     1.17,2,   -999.0,9,   -999.0,9,-999.0000,9,  -999.00,     1443
  49UP20101110,RF1007,  3826,  1,     16,  22089,2,20101210,1400, 25.9127, 128.1682, 2136,    503.4,   9.6554,  34.2510,2,-999.0000,9,    147.5,6,    35.81,6,    22.27,6,     0.00,6,     1.57,6,   -999.0,9,   -999.0,9,-999.0000,9,  -999.00,     1440
  49UP20101110,RF1007,  3826,  1,     15,  22088,2,20101210,1400, 25.9127, 128.1682, 2136,    608.5,   7.6201,  34.1930,2,-999.0000,9,    119.1,2,    53.74,2,    28.25,2,     0.00,2,     2.03,2,   -999.0,9,   -999.0,9,-999.0000,9,  -999.00,     1436
  49UP20101110,RF1007,  3826,  1,     14,  22087,2,20101210,1400, 25.9127, 128.1682, 2136,    709.4,   6.0812,  34.2158,2,-999.0000,9,     90.1,2,    74.33,2,    33.52,2,     0.00,2,     2.42,2,   -999.0,9,   -999.0,9,-999.0000,9,  -999.00,     1433
  49UP20101110,RF1007,  3826,  1,     13,  22086,2,20101210,1400, 25.9127, 128.1682, 2136,    807.5,   5.2302,  34.2839,2,-999.0000,9,     74.5,2,    89.47,2,    36.42,2,     0.00,2,     2.62,2,   -999.0,9,   -999.0,9,-999.0000,9,  -999.00,     1430
  49UP20101110,RF1007,  3826,  1,     12,  22085,2,20101210,1400, 25.9127, 128.1682, 2136,    907.8,   4.4164,  34.3393,2,-999.0000,9,     65.4,2,   105.30,2,    38.43,2,     0.00,2,     2.76,2,   -999.0,9,   -999.0,9,-999.0000,9,  -999.00,     1427
  49UP20101110,RF1007,  3826,  1,     11,  22110,2,20101210,1400, 25.9127, 128.1682, 2136,   1009.5,   3.6561,  34.4123,2,-999.0000,9,     62.9,2,   120.06,2,    39.75,2,     0.00,2,     2.83,2,   -999.0,9,   -999.0,9,-999.0000,9,  -999.00,     1424
  49UP20101110,RF1007,  3826,  1,     10,  22083,2,20101210,1400, 25.9127, 128.1682, 2136,   1009.5,   3.6561,  34.4123,2,-999.0000,9,     63.2,2,   120.13,2,    39.56,2,     0.00,2,     2.83,2,   -999.0,9,   -999.0,9,-999.0000,9,  -999.00,     1424
  49UP20101110,RF1007,  3826,  1,      7,  22080,2,20101210,1400, 25.9127, 128.1682, 2136,   1213.9,   3.0784,  34.4714,2,-999.0000,9,     68.3,2,   130.74,2,    40.04,2,     0.00,2,     2.85,2,   -999.0,9,   -999.0,9,-999.0000,9,  -999.00,     1419
  49UP20101110,RF1007,  3826,  1,      6,  22079,2,20101210,1400, 25.9127, 128.1682, 2136,   1414.6,   2.6686,  34.5229,2,-999.0000,9,     80.0,2,   137.27,2,    39.56,2,     0.00,2,     2.81,2,   -999.0,9,   -999.0,9,-999.0000,9,  -999.00,     1414
  49UP20101110,RF1007,  3826,  1,      5,  22078,2,20101210,1400, 25.9127, 128.1682, 2136,   1616.1,   2.3637,  34.5612,2,-999.0000,9,     91.8,2,   140.41,2,    39.05,2,     0.00,2,     2.76,2,   -999.0,9,   -999.0,9,-999.0000,9,  -999.00,     1410
  49UP20101110,RF1007,  3826,  1,      3,  22076,2,20101210,1400, 25.9127, 128.1682, 2136,   1819.7,   2.1687,  34.5870,2,-999.0000,9,    101.9,2,   141.94,2,    38.56,2,     0.00,2,     2.73,2,   -999.0,9,   -999.0,9,-999.0000,9,  -999.00,     1405
  49UP20101110,RF1007,  3826,  1,      1,  22074,2,20101210,1400, 25.9127, 128.1682, 2136,   2024.0,   1.9918,  34.6130,2,-999.0000,9,    113.2,6,   142.20,6,    37.94,6,     0.00,6,     2.67,6,   -999.0,9,   -999.0,9,-999.0000,9,  -999.00,     1400