BOTTLE,20200204PRINUNIVRMK
EXPOCODE,SECT_ID,STNNBR,CASTNO,SAMPNO,BTLNBR,BTLNBR_FLAG_W,DATE,TIME,LATITUDE,LONGITUDE,DEPTH,CTDPRS,CTDTMP,CTDSAL,CTDSAL_FLAG_W,SALNTY,SALNTY_FLAG_W,OXYGEN,OXYGEN_FLAG_W,SILCAT,SILCAT_FLAG_W,NITRAT,NITRAT_FLAG_W,NITRIT,NITRIT_FLAG_W,PHSPHT,PHSPHT_FLAG_W,TCARBN,TCARBN_FLAG_W,ALKALI,ALKALI_FLAG_W,PH_TOT,PH_TOT_FLAG_W,PH_TMP,BTL_TIME
,,,,,,,,,,,METERS,DBAR,ITS-90,PSS-78,,PSS-78,,UMOL/KG,,UMOL/KG,,UMOL/KG,,UMOL/KG,,UMOL/KG,,UMOL/KG,,UMOL/KG,,,,DEG C,
  49UP20101110,RF1007,  3851,  1,     99,     99,2,20101214,2317, 25.9937, 136.9933, 5547,      0.0,  24.1070,  34.7212,2,-999.0000,9,    210.6,2,     1.55,2,     0.03,2,     0.00,2,     0.00,2,   -999.0,9,   -999.0,9,-999.0000,9,  -999.00,     2357
  49UP20101110,RF1007,  3851,  1,     36,  22109,2,20101214,2317, 25.9937, 136.9933, 5547,     11.0,  24.1104,  34.7209,2,-999.0000,9,    210.7,2,     1.55,2,     0.03,2,     0.00,2,     0.00,2,   1963.3,2,   2286.1,2,   8.0818,2,    25.00,       22
  49UP20101110,RF1007,  3851,  1,     33,  22106,2,20101214,2317, 25.9937, 136.9933, 5547,     25.9,  24.1123,  34.7223,2,-999.0000,9,    211.2,2,     1.52,2,     0.04,2,     0.00,2,     0.00,2,   1961.2,2,   2277.8,2,   8.0818,2,    25.00,       21
  49UP20101110,RF1007,  3851,  1,     32,  22105,2,20101214,2317, 25.9937, 136.9933, 5547,     50.4,  23.9133,  34.7545,2,-999.0000,9,    211.4,2,     1.55,2,     0.07,2,     0.00,2,     0.00,2,   1963.9,2,   2278.8,2,   8.0801,2,    25.00,       16
  49UP20101110,RF1007,  3851,  1,     31,  22104,2,20101214,2317, 25.9937, 136.9933, 5547,     76.0,  23.7436,  34.7486,2,-999.0000,9,    213.3,2,     1.69,2,     0.00,2,     0.00,2,     0.00,2,   1966.9,2,   2278.2,2,   8.0756,2,    25.00,       15
  49UP20101110,RF1007,  3851,  1,     30,  22103,3,20101214,2317, 25.9937, 136.9933, 5547,     76.0,  23.7436,  34.7486,2,-999.0000,9,    212.3,4,     1.68,2,     0.02,2,     0.00,2,     0.00,2,   1962.1,2,   2278.2,2,   8.0736,2,    25.00,       15
  49UP20101110,RF1007,  3851,  1,     29,  22102,2,20101214,2317, 25.9937, 136.9933, 5547,    101.8,  20.7494,  34.7659,2,-999.0000,9,    216.5,2,     1.98,2,     0.12,2,     0.06,2,     0.01,2,   1993.9,2,   2280.7,2,   8.0289,2,    25.00,       14
  49UP20101110,RF1007,  3851,  1,     28,  22101,2,20101214,2317, 25.9937, 136.9933, 5547,    126.2,  19.9057,  34.7509,2,-999.0000,9,    210.5,2,     2.31,2,     0.77,2,     0.01,2,     0.06,2,   1999.6,2,   2282.2,2,   8.0098,2,    25.00,       12
  49UP20101110,RF1007,  3851,  1,     25,  22098,2,20101214,2317, 25.9937, 136.9933, 5547,    152.0,  19.5113,  34.7359,2,-999.0000,9,    208.6,2,     2.41,2,     1.37,2,     0.00,2,     0.10,2,   2009.0,2,   2276.4,2,   8.0014,2,    25.00,       11
  49UP20101110,RF1007,  3851,  1,     23,  22096,2,20101214,2317, 25.9937, 136.9933, 5547,    202.3,  18.2539,  34.7066,2,-999.0000,9,    204.6,2,     3.18,2,     3.31,2,     0.00,2,     0.22,2,   2020.9,2,   2276.4,2,   7.9742,2,    25.00,        9
  49UP20101110,RF1007,  3851,  1,     22,  22095,2,20101214,2317, 25.9937, 136.9933, 5547,    253.7,  17.5326,  34.7010,2,-999.0000,9,    201.2,6,     4.34,6,     4.79,6,     0.00,6,     0.31,6,   2033.0,2,   2275.9,2,   7.9555,2,    25.00,        7
  49UP20101110,RF1007,  3851,  1,     21,  22094,2,20101214,2317, 25.9937, 136.9933, 5547,    304.1,  16.8313,  34.6829,2,-999.0000,9,    195.5,2,     5.75,2,     6.35,2,     0.00,2,     0.41,2,   2044.9,2,   2277.5,2,   7.9245,2,    25.00,        5
  49UP20101110,RF1007,  3851,  1,     20,  22093,2,20101214,2317, 25.9937, 136.9933, 5547,    406.1,  14.5988,  34.5471,2,-999.0000,9,    190.0,2,    11.03,2,    10.14,2,     0.00,2,     0.68,2,   2074.8,2,   2269.0,2,   7.8550,2,    25.00,        1
  49UP20101110,RF1007,  3851,  1,     18,  22091,2,20101214,2317, 25.9937, 136.9933, 5547,    505.2,  11.7280,  34.3421,2,-999.0000,9,    186.6,2,    19.96,2,    15.11,2,     0.00,2,     1.05,2,   2108.4,2,   2271.0,2,   7.7732,2,    25.00,     2357
  49UP20101110,RF1007,  3851,  1,     16,  22089,2,20101214,2317, 25.9937, 136.9933, 5547,    605.9,   8.6314,  34.1484,2,-999.0000,9,    160.0,2,    38.11,2,    22.90,2,     0.00,2,     1.64,2,   2162.6,2,   2283.5,2,   7.6345,2,    25.00,     2353
  49UP20101110,RF1007,  3851,  1,     15,  22088,2,20101214,2317, 25.9937, 136.9933, 5547,    706.3,   6.7251,  34.1188,2,-999.0000,9,    121.7,2,    60.51,2,    29.61,2,     0.00,2,     2.14,2,   2225.6,6,   2294.1,6,   7.5262,6,    25.00,     2351
  49UP20101110,RF1007,  3851,  1,     14,  22087,2,20101214,2317, 25.9937, 136.9933, 5547,    706.3,   6.7251,  34.1188,2,-999.0000,9,    121.6,2,    60.54,2,    29.62,2,     0.00,2,     2.14,2,   2224.4,2,   2293.6,2,   7.5214,2,    25.00,     2350
  49UP20101110,RF1007,  3851,  1,     13,  22086,2,20101214,2317, 25.9937, 136.9933, 5547,    807.8,   5.4562,  34.1619,2,-999.0000,9,     87.7,2,    80.62,2,    34.87,2,     0.00,2,     2.52,2,   2268.7,2,   2315.1,2,   7.4479,2,    25.00,     2348
  49UP20101110,RF1007,  3851,  1,     12,  22085,2,20101214,2317, 25.9937, 136.9933, 5547,    909.3,   4.7131,  34.2312,2,-999.0000,9,     69.8,2,    96.61,2,    37.61,2,     0.00,2,     2.71,2,   2303.7,2,   2330.9,2,   7.4005,2,    25.00,     2345
  49UP20101110,RF1007,  3851,  1,     11,  22110,2,20101214,2317, 25.9937, 136.9933, 5547,   1012.1,   4.2983,  34.3066,2,-999.0000,9,     58.6,2,   105.55,2,    39.25,2,     0.00,2,     2.82,2,   2323.4,2,   2343.7,2,   7.3947,2,    25.00,     2342
  49UP20101110,RF1007,  3851,  1,     10,  22083,2,20101214,2317, 25.9937, 136.9933, 5547,   1212.9,   3.3825,  34.4029,2,-999.0000,9,     53.2,2,   127.32,2,    40.80,2,     0.00,2,     2.92,2,   2348.9,2,   2369.0,2,   7.3797,2,    25.00,     2336
  49UP20101110,RF1007,  3851,  1,      7,  22080,2,20101214,2317, 25.9937, 136.9933, 5547,   1417.2,   2.7628,  34.4875,2,-999.0000,9,     62.5,6,   139.94,6,    40.78,6,     0.00,6,     2.91,6,   2358.0,2,   2387.8,2,   7.4029,2,    25.00,     2331
  49UP20101110,RF1007,  3851,  1,      5,  22078,2,20101214,2317, 25.9937, 136.9933, 5547,   1617.4,   2.4072,  34.5403,2,-999.0000,9,     77.2,2,   144.94,2,    40.06,2,     0.00,2,     2.84,2,   2359.4,2,   2400.0,2,   7.4322,2,    25.00,     2326
  49UP20101110,RF1007,  3851,  1,      3,  22076,2,20101214,2317, 25.9937, 136.9933, 5547,   1818.6,   2.1499,  34.5809,2,-999.0000,9,     93.8,2,   146.03,2,    39.16,2,     0.00,2,     2.77,2,   2350.3,2,   2406.9,2,   7.4607,6,    25.00,     2322
  49UP20101110,RF1007,  3851,  1,      1,  22074,2,20101214,2317, 25.9937, 136.9933, 5547,   2022.3,   1.9997,  34.6059,2,-999.0000,9,    106.0,2,   145.57,2,    38.41,2,     0.00,2,     2.71,2,   2346.4,6,   2407.2,6,   7.4853,2,    25.00,     2317
  49UP20101110,RF1007,  3852,  1,     99,     99,2,20101215,0612, 26.9903, 137.0120, 4720,      0.0,  24.0159,  34.7533,2,-999.0000,9,    210.8,2,     1.57,2,     0.03,2,     0.00,2,     0.02,2,   -999.0,9,   -999.0,9,-999.0000,9,  -999.00,      655
  49UP20101110,RF1007,  3852,  1,     36,  22109,2,20101215,0612, 26.9903, 137.0120, 4720,     11.1,  24.0230,  34.7529,2,  34.7521,2,    210.9,2,     1.54,2,     0.00,2,     0.00,2,     0.00,2,   -999.0,9,   -999.0,9,-999.0000,9,  -999.00,      713
  49UP20101110,RF1007,  3852,  1,     33,  22106,2,20101215,0612, 26.9903, 137.0120, 4720,     26.9,  24.0224,  34.7533,2,-999.0000,9,    211.2,2,     1.47,2,     0.00,2,     0.00,2,     0.00,2,   -999.0,9,   -999.0,9,-999.0000,9,  -999.00,      712
  49UP20101110,RF1007,  3852,  1,     32,  22105,2,20101215,0612, 26.9903, 137.0120, 4720,     51.1,  23.9434,  34.7614,2,-999.0000,9,    211.1,2,     1.49,2,     0.10,2,     0.00,2,     0.00,2,   -999.0,9,   -999.0,9,-999.0000,9,  -999.00,      710
  49UP20101110,RF1007,  3852,  1,     31,  22104,2,20101215,0612, 26.9903, 137.0120, 4720,     51.1,  23.9434,  34.7614,2,-999.0000,9,    211.2,2,     1.49,2,     0.00,2,     0.00,2,     0.00,2,   -999.0,9,   -999.0,9,-999.0000,9,  -999.00,      710
  49UP20101110,RF1007,  3852,  1,     30,  22103,2,20101215,0612, 26.9903, 137.0120, 4720,     77.0,  23.3462,  34.7579,2,-999.0000,9,    217.9,2,     1.68,2,     0.00,2,     0.00,2,     0.00,2,   -999.0,9,   -999.0,9,-999.0000,9,  -999.00,      708
  49UP20101110,RF1007,  3852,  1,     29,  22102,2,20101215,0612, 26.9903, 137.0120, 4720,    102.4,  21.3275,  34.7726,2,  34.7733,2,    218.1,2,     1.88,2,    -0.01,2,     0.01,2,     0.01,2,   -999.0,9,   -999.0,9,-999.0000,9,  -999.00,      706
  49UP20101110,RF1007,  3852,  1,     28,  22101,2,20101215,0612, 26.9903, 137.0120, 4720,    127.4,  19.8236,  34.7488,2,-999.0000,9,    210.0,2,     2.20,2,     0.96,2,     0.01,2,     0.07,2,   -999.0,9,   -999.0,9,-999.0000,9,  -999.00,      705
  49UP20101110,RF1007,  3852,  1,     25,  22098,2,20101215,0612, 26.9903, 137.0120, 4720,    151.6,  19.3372,  34.7328,2,-999.0000,9,    207.5,2,     2.49,2,     1.69,2,     0.00,2,     0.11,2,   -999.0,9,   -999.0,9,-999.0000,9,  -999.00,      701
  49UP20101110,RF1007,  3852,  1,     23,  22096,2,20101215,0612, 26.9903, 137.0120, 4720,    202.0,  18.3697,  34.7042,2,  34.7034,2,    206.1,6,     3.11,6,     3.20,6,     0.00,6,     0.21,6,   -999.0,9,   -999.0,9,-999.0000,9,  -999.00,      659
  49UP20101110,RF1007,  3852,  1,     22,  22095,2,20101215,0612, 26.9903, 137.0120, 4720,    256.8,  17.6723,  34.6964,2,-999.0000,9,    204.2,2,     3.79,2,     4.24,2,     0.00,2,     0.27,2,   -999.0,9,   -999.0,9,-999.0000,9,  -999.00,      657
  49UP20101110,RF1007,  3852,  1,     21,  22094,2,20101215,0612, 26.9903, 137.0120, 4720,    304.0,  17.0050,  34.6827,2,-999.0000,9,    200.4,2,     4.98,2,     5.73,2,     0.00,2,     0.37,2,   -999.0,9,   -999.0,9,-999.0000,9,  -999.00,      655
  49UP20101110,RF1007,  3852,  1,     20,  22093,2,20101215,0612, 26.9903, 137.0120, 4720,    402.5,  14.6001,  34.5540,2,  34.5524,6,    185.2,2,    11.86,2,    10.84,2,     0.00,2,     0.73,2,   -999.0,9,   -999.0,9,-999.0000,9,  -999.00,      653
  49UP20101110,RF1007,  3852,  1,     18,  22091,2,20101215,0612, 26.9903, 137.0120, 4720,    504.7,  12.0560,  34.3696,2,-999.0000,9,    184.3,2,    19.45,2,    15.02,2,     0.00,2,     1.03,2,   -999.0,9,   -999.0,9,-999.0000,9,  -999.00,      650
  49UP20101110,RF1007,  3852,  1,     16,  22089,2,20101215,0612, 26.9903, 137.0120, 4720,    606.8,   9.7598,  34.2298,2,-999.0000,9,    166.2,2,    32.51,2,    20.68,2,     0.00,2,     1.46,2,   -999.0,9,   -999.0,9,-999.0000,9,  -999.00,      647
  49UP20101110,RF1007,  3852,  1,     15,  22088,2,20101215,0612, 26.9903, 137.0120, 4720,    606.8,   9.7598,  34.2298,2,  34.2301,6,    166.8,2,    32.57,2,    20.61,2,     0.00,2,     1.46,2,   -999.0,9,   -999.0,9,-999.0000,9,  -999.00,      647
  49UP20101110,RF1007,  3852,  1,     14,  22087,2,20101215,0612, 26.9903, 137.0120, 4720,    704.8,   7.5630,  34.1519,2,-999.0000,9,    134.8,2,    53.07,2,    27.52,2,     0.00,2,     1.96,2,   -999.0,9,   -999.0,9,-999.0000,9,  -999.00,      644
  49UP20101110,RF1007,  3852,  1,     13,  22086,2,20101215,0612, 26.9903, 137.0120, 4720,    807.0,   5.8925,  34.1455,2,  34.1458,2,    101.8,2,    74.09,2,    33.22,2,     0.00,2,     2.39,2,   -999.0,9,   -999.0,9,-999.0000,9,  -999.00,      642
  49UP20101110,RF1007,  3852,  1,     12,  22085,2,20101215,0612, 26.9903, 137.0120, 4720,    908.8,   4.8365,  34.2061,2,-999.0000,9,     74.4,2,    93.06,2,    37.47,2,     0.00,2,     2.69,2,   -999.0,9,   -999.0,9,-999.0000,9,  -999.00,      639
  49UP20101110,RF1007,  3852,  1,     11,  22110,2,20101215,0612, 26.9903, 137.0120, 4720,   1010.4,   3.9610,  34.3110,2,  34.3101,2,     57.0,2,   113.20,2,    40.01,2,     0.00,2,     2.87,2,   -999.0,9,   -999.0,9,-999.0000,9,  -999.00,      636
  49UP20101110,RF1007,  3852,  1,     10,  22083,2,20101215,0612, 26.9903, 137.0120, 4720,   1211.5,   3.2358,  34.4130,2,  34.4117,2,     53.3,6,   130.38,6,    41.25,6,     0.00,6,     2.96,6,   -999.0,9,   -999.0,9,-999.0000,9,  -999.00,      631
  49UP20101110,RF1007,  3852,  1,      7,  22080,2,20101215,0612, 26.9903, 137.0120, 4720,   1414.3,   2.7367,  34.4875,2,  34.4874,2,     63.2,2,   140.48,2,    41.04,2,     0.00,2,     2.93,2,   -999.0,9,   -999.0,9,-999.0000,9,  -999.00,      627
  49UP20101110,RF1007,  3852,  1,      5,  22078,2,20101215,0612, 26.9903, 137.0120, 4720,   1617.5,   2.3961,  34.5433,2,  34.5450,2,     79.9,2,   143.82,2,    40.35,2,     0.00,2,     2.85,2,   -999.0,9,   -999.0,9,-999.0000,9,  -999.00,      622
  49UP20101110,RF1007,  3852,  1,      3,  22076,2,20101215,0612, 26.9903, 137.0120, 4720,   1818.1,   2.1429,  34.5830,2,  34.5825,2,     96.5,2,   144.52,2,    39.26,2,     0.00,2,     2.77,2,   -999.0,9,   -999.0,9,-999.0000,9,  -999.00,      617
  49UP20101110,RF1007,  3852,  1,      1,  22074,2,20101215,0612, 26.9903, 137.0120, 4720,   2034.9,   1.9627,  34.6113,2,  34.6110,2,    110.8,2,   143.93,2,    38.58,2,     0.00,2,     2.70,2,   -999.0,9,   -999.0,9,-999.0000,9,  -999.00,      612
  49UP20101110,RF1007,  3853,  1,     99,     99,2,20101215,1312, 27.9845, 137.0047, 4115,      0.0,  22.6532,  34.5729,2,-999.0000,9,    213.8,2,     1.45,2,     0.00,2,     0.00,2,     0.01,2,   -999.0,9,   -999.0,9,-999.0000,9,  -999.00,     1354
  49UP20101110,RF1007,  3853,  1,     36,  22109,2,20101215,1312, 27.9845, 137.0047, 4115,     10.7,  22.6604,  34.5719,2,-999.0000,9,    214.0,2,     1.43,2,     0.00,2,     0.00,2,     0.01,2,   1960.0,2,   2270.7,2,   8.0736,2,    25.00,     1418
  49UP20101110,RF1007,  3853,  1,     33,  22106,2,20101215,1312, 27.9845, 137.0047, 4115,     25.9,  22.6650,  34.5736,2,-999.0000,9,    213.8,2,     1.55,2,     0.00,2,     0.00,2,     0.01,2,   1960.4,2,   2270.7,2,   8.0705,2,    25.00,     1416
  49UP20101110,RF1007,  3853,  1,     32,  22105,2,20101215,1312, 27.9845, 137.0047, 4115,     51.6,  22.6651,  34.5720,2,-999.0000,9,    214.1,2,     1.55,2,     0.00,2,     0.00,2,     0.01,2,   1960.0,2,   2265.6,2,   8.0775,2,    25.00,     1412
  49UP20101110,RF1007,  3853,  1,     29,  22102,2,20101215,1312, 27.9845, 137.0047, 4115,     77.2,  22.6654,  34.5767,2,-999.0000,9,    213.9,2,     1.35,2,     0.00,2,     0.00,2,     0.01,2,   1961.0,2,   2267.8,2,   8.0721,2,    25.00,     1411
  49UP20101110,RF1007,  3853,  1,     28,  22101,2,20101215,1312, 27.9845, 137.0047, 4115,    103.2,  22.2670,  34.6899,2,-999.0000,9,    203.8,2,     1.73,2,     0.69,2,     0.06,2,     0.06,2,   1981.5,2,   2280.5,2,   8.0380,2,    25.00,     1410
  49UP20101110,RF1007,  3853,  1,     25,  22098,2,20101215,1312, 27.9845, 137.0047, 4115,    125.0,  20.9808,  34.7468,2,-999.0000,9,    198.9,2,     2.27,2,     1.66,2,     0.02,2,     0.12,2,   2002.4,2,   2279.2,2,   8.0116,2,    25.00,     1408
  49UP20101110,RF1007,  3853,  1,     23,  22096,2,20101215,1312, 27.9845, 137.0047, 4115,    149.3,  20.0917,  34.7419,2,-999.0000,9,    199.1,6,     2.47,6,     1.98,6,     0.01,6,     0.15,6,   2013.1,2,   2281.8,2,   8.0009,2,    25.00,     1407
  49UP20101110,RF1007,  3853,  1,     22,  22095,2,20101215,1312, 27.9845, 137.0047, 4115,    201.6,  18.9694,  34.7279,2,-999.0000,9,    201.5,2,     2.73,2,     2.83,2,     0.00,2,     0.19,2,   2016.8,2,   2276.5,2,   7.9808,2,    25.00,     1405
  49UP20101110,RF1007,  3853,  1,     21,  22094,2,20101215,1312, 27.9845, 137.0047, 4115,    252.7,  17.9995,  34.7126,2,-999.0000,9,    200.2,2,     4.00,2,     4.16,2,     0.00,2,     0.28,2,   2028.2,2,   2276.6,2,   7.9613,2,    25.00,     1403
  49UP20101110,RF1007,  3853,  1,     20,  22093,2,20101215,1312, 27.9845, 137.0047, 4115,    303.0,  17.2840,  34.7050,2,-999.0000,9,    193.9,2,     5.48,2,     5.83,2,     0.00,2,     0.39,2,   2036.8,2,   2278.7,2,   7.9319,2,    25.00,     1401
  49UP20101110,RF1007,  3853,  1,     18,  22091,2,20101215,1312, 27.9845, 137.0047, 4115,    404.3,  15.1808,  34.5953,2,-999.0000,9,    182.0,2,    10.92,2,     9.96,2,     0.00,2,     0.68,2,   2076.3,2,   2278.2,2,   7.8628,2,    25.00,     1358
  49UP20101110,RF1007,  3853,  1,     16,  22089,2,20101215,1312, 27.9845, 137.0047, 4115,    504.2,  12.8284,  34.4387,2,-999.0000,9,    174.8,2,    19.13,2,    14.53,2,     0.00,2,     1.01,2,   2108.0,2,   2277.3,2,   7.7876,2,    25.00,     1355
  49UP20101110,RF1007,  3853,  1,     15,  22088,2,20101215,1312, 27.9845, 137.0047, 4115,    504.2,  12.8284,  34.4387,2,-999.0000,9,    174.3,2,    19.01,2,    14.44,2,     0.00,2,     1.01,2,   2105.8,6,   2277.0,6,   7.7827,6,    25.00,     1354
  49UP20101110,RF1007,  3853,  1,     14,  22087,2,20101215,1312, 27.9845, 137.0047, 4115,    606.5,  10.2011,  34.2792,2,-999.0000,9,    158.1,2,    32.69,2,    20.25,2,     0.00,2,     1.45,2,   2150.7,2,   2279.3,2,   7.6911,2,    25.00,     1351
  49UP20101110,RF1007,  3853,  1,     13,  22086,2,20101215,1312, 27.9845, 137.0047, 4115,    705.9,   7.2125,  34.1791,2,-999.0000,9,    122.0,2,    59.29,2,    28.72,2,     0.00,2,     2.09,2,   2218.6,2,   2308.0,2,   7.5523,2,    25.00,     1348
  49UP20101110,RF1007,  3853,  1,     12,  22085,2,20101215,1312, 27.9845, 137.0047, 4115,    807.9,   5.6335,  34.1981,2,-999.0000,9,     89.9,2,    81.08,2,    34.02,2,     0.00,2,     2.48,2,   2263.7,2,   2316.9,2,   7.4546,2,    25.00,     1345
  49UP20101110,RF1007,  3853,  1,     11,  22110,2,20101215,1312, 27.9845, 137.0047, 4115,    908.9,   4.6223,  34.2571,2,-999.0000,9,     68.5,2,    99.69,2,    37.59,2,     0.00,2,     2.73,2,   2304.7,2,   2336.4,2,   7.4070,2,    25.00,     1341
  49UP20101110,RF1007,  3853,  1,     10,  22083,2,20101215,1312, 27.9845, 137.0047, 4115,   1011.6,   4.0191,  34.3158,2,-999.0000,9,     58.2,6,   112.72,6,    39.42,6,     0.00,6,     2.84,6,   2324.7,2,   2353.6,2,   7.3873,2,    25.00,     1338
  49UP20101110,RF1007,  3853,  1,      7,  22080,2,20101215,1312, 27.9845, 137.0047, 4115,   1213.6,   3.3101,  34.4054,2,-999.0000,9,     52.7,2,   129.24,2,    40.77,2,     0.00,2,     2.92,2,   2349.5,2,   2379.8,2,   7.3790,2,    25.00,     1333
  49UP20101110,RF1007,  3853,  1,      6,  22079,2,20101215,1312, 27.9845, 137.0047, 4115,   1417.5,   2.7187,  34.4908,2,-999.0000,9,     61.7,2,   141.55,2,    40.77,2,     0.00,2,     2.91,2,   2363.7,2,   2391.1,2,   7.3989,2,    25.00,     1327
  49UP20101110,RF1007,  3853,  1,      5,  22078,2,20101215,1312, 27.9845, 137.0047, 4115,   1619.4,   2.3326,  34.5497,2,-999.0000,9,     79.1,2,   145.92,2,    39.96,2,     0.00,2,     2.84,2,   2358.8,2,   2399.3,2,   7.4308,2,    25.00,     1322
  49UP20101110,RF1007,  3853,  1,      3,  22076,2,20101215,1312, 27.9845, 137.0047, 4115,   1821.3,   2.1222,  34.5791,2,-999.0000,9,     88.2,2,   148.73,2,    39.46,2,     0.00,2,     2.80,2,   2361.1,2,   2403.8,2,   7.4540,6,    25.00,     1317
  49UP20101110,RF1007,  3853,  1,      2,  22075,2,20101215,1312, 27.9845, 137.0047, 4115,   2023.3,   1.9499,  34.6063,2,-999.0000,9,    102.4,2,   148.49,2,    38.79,2,     0.00,2,     2.73,2,   2350.7,2,   2407.0,2,   7.4748,2,    25.00,     1313
  49UP20101110,RF1007,  3853,  1,      1,  22074,2,20101215,1312, 27.9845, 137.0047, 4115,   2023.3,   1.9499,  34.6063,2,-999.0000,9,    102.6,2,   148.30,2,    38.63,2,     0.00,2,     2.73,2,   2350.8,6,   2411.0,6,   7.4739,2,    25.00,     1312